BOTTLE,20141031SIOCCHAMB
EXPOCODE,SECT_ID,STNNBR,CASTNO,SAMPNO,BTLNBR,BTLNBR_FLAG_W,DATE,TIME,LATITUDE,LONGITUDE,DEPTH,CTDPRS,CTDTMP,CTDSAL,CTDSAL_FLAG_W,SALNTY,SALNTY_FLAG_W,CTDOXY,CTDOXY_FLAG_W,OXYGEN,OXYGEN_FLAG_W,SILCAT,SILCAT_FLAG_W,PHSPHT,PHSPHT_FLAG_W,REVPRS,CTDRAW,THETA,NO2+NO3,NO2+NO3_FLAG_W,REVTMP
,,,,,,,,,,,METERS,DBAR,ITS-90,PSS-78,,PSS-78,,UMOL/KG,,UMOL/KG,,UMOL/KG,,UMOL/KG,,DBAR,DBAR,ITS-90,UMOL/KG,,DEG C
33KI20100308,       PRS2,       2,         15,         23,       8023,2,20100311,       2356,  22.730000,-157.9418333,       4710,     5.2,  23.4971,  35.2412,2,-999.0000,5,    212.7,1,  -999.0,9, -999.00,9, -999.00,9,  -999.0,       5,    23.4960, -999.00,9,     -999.0
33KI20100308,       PRS2,       2,         15,         22,       8022,2,20100311,       2356,  22.730000,-157.9418333,       4710,    24.3,  23.4800,  35.2402,2,  35.2412,2,    212.9,1,  -999.0,9, -999.00,9, -999.00,9,  -999.0,      25,    23.4750, -999.00,9,     -999.0
33KI20100308,       PRS2,       2,         15,         21,       8021,2,20100311,       2356,  22.730000,-157.9418333,       4710,    44.7,  23.4563,  35.2385,2,-999.0000,5,    212.3,1,  -999.0,9, -999.00,9, -999.00,9,  -999.0,      44,    23.4471, -999.00,9,     -999.0
33KI20100308,       PRS2,       2,         15,         20,       8020,2,20100311,       2356,  22.730000,-157.9418333,       4710,    74.3,  23.4548,  35.2379,2,-999.0000,5,    212.9,1,  -999.0,9, -999.00,9, -999.00,9,  -999.0,      74,    23.4394, -999.00,9,     -999.0
33KI20100308,       PRS2,       2,         15,         19,       8019,2,20100311,       2356,  22.730000,-157.9418333,       4710,    99.5,  23.0062,  35.2965,2,-999.0000,5,    213.1,1,  -999.0,9, -999.00,9, -999.00,9,  -999.0,      99,    22.9858, -999.00,9,     -999.0
33KI20100308,       PRS2,       2,         15,         18,       8018,2,20100311,       2356,  22.730000,-157.9418333,       4710,   125.8,  21.8161,  35.2868,2,-999.0000,5,    213.2,1,  -999.0,9, -999.00,9, -999.00,9,  -999.0,     127,    21.7913, -999.00,9,     -999.0
33KI20100308,       PRS2,       2,         15,         17,       8017,2,20100311,       2356,  22.730000,-157.9418333,       4710,   153.4,  20.8307,  35.2838,2,-999.0000,5,    200.7,1,  -999.0,9, -999.00,9, -999.00,9,  -999.0,     153,    20.8015, -999.00,9,     -999.0
33KI20100308,       PRS2,       2,         15,         16,       8016,2,20100311,       2356,  22.730000,-157.9418333,       4710,   179.0,  19.7697,  35.1974,2,-999.0000,5,    199.9,1,  -999.0,9, -999.00,9, -999.00,9,  -999.0,     178,    19.7368, -999.00,9,     -999.0
33KI20100308,       PRS2,       2,         15,         15,       8015,2,20100311,       2356,  22.730000,-157.9418333,       4710,   497.2,   7.0071,  34.0764,2,-999.0000,5,    100.6,1,  -999.0,9, -999.00,9, -999.00,9,  -999.0,     497,     6.9602, -999.00,9,     -999.0
33KI20100308,       PRS2,       2,         15,         14,       8014,2,20100311,       2356,  22.730000,-157.9418333,       4710,   497.7,   6.9909,  34.0759,2,-999.0000,5,    100.3,1,  -999.0,9, -999.00,9, -999.00,9,  -999.0,     498,     6.9440, -999.00,9,     -999.0
33KI20100308,       PRS2,       2,         15,         13,       8025,2,20100311,       2356,  22.730000,-157.9418333,       4710,   497.9,   6.9700,  34.0761,2,-999.0000,5,     99.9,1,  -999.0,9, -999.00,9, -999.00,9,  -999.0,     499,     6.9232, -999.00,9,     -999.0
33KI20100308,       PRS2,       2,         15,         12,       8012,2,20100311,       2356,  22.730000,-157.9418333,       4710,   498.2,   6.9500,  34.0773,2,-999.0000,5,     99.5,1,  -999.0,9, -999.00,9, -999.00,9,  -999.0,     498,     6.9032, -999.00,9,     -999.0
33KI20100308,       PRS2,       2,         15,         11,       8011,2,20100311,       2356,  22.730000,-157.9418333,       4710,   498.3,   6.9440,  34.0773,2,  34.0768,2,     99.0,1,  -999.0,9, -999.00,9, -999.00,9,  -999.0,     498,     6.8972, -999.00,9,     -999.0
33KI20100308,       PRS2,       2,         15,         10,       8010,2,20100311,       2356,  22.730000,-157.9418333,       4710,   773.7,   4.9123,  34.3317,2,-999.0000,5,     37.7,1,  -999.0,9, -999.00,9, -999.00,9,  -999.0,     774,     4.8498, -999.00,9,     -999.0
33KI20100308,       PRS2,       2,         15,          9,       8009,2,20100311,       2356,  22.730000,-157.9418333,       4710,   773.6,   4.9119,  34.3318,2,-999.0000,5,     37.7,1,  -999.0,9, -999.00,9, -999.00,9,  -999.0,     774,     4.8495, -999.00,9,     -999.0
33KI20100308,       PRS2,       2,         15,          8,       8008,2,20100311,       2356,  22.730000,-157.9418333,       4710,   773.4,   4.9119,  34.3317,2,-999.0000,5,     37.7,1,  -999.0,9, -999.00,9, -999.00,9,  -999.0,     773,     4.8495, -999.00,9,     -999.0
33KI20100308,       PRS2,       2,         15,          7,       8026,2,20100311,       2356,  22.730000,-157.9418333,       4710,   772.8,   4.9132,  34.3313,2,-999.0000,5,     37.7,1,  -999.0,9, -999.00,9, -999.00,9,  -999.0,     773,     4.8508, -999.00,9,     -999.0
33KI20100308,       PRS2,       2,         15,          6,       8006,2,20100311,       2356,  22.730000,-157.9418333,       4710,   772.3,   4.9153,  34.3310,2,-999.0000,5,     37.7,1,  -999.0,9, -999.00,9, -999.00,9,  -999.0,     772,     4.8529, -999.00,9,     -999.0
33KI20100308,       PRS2,       2,         15,          5,       8005,2,20100311,       2356,  22.730000,-157.9418333,       4710,  1023.9,   4.0060,  34.4825,2,-999.0000,5,     43.9,1,  -999.0,9, -999.00,9, -999.00,9,  -999.0,    1024,     3.9284, -999.00,9,     -999.0
33KI20100308,       PRS2,       2,         15,          4,       8004,2,20100311,       2356,  22.730000,-157.9418333,       4710,  1023.6,   4.0070,  34.4825,2,-999.0000,5,     43.9,1,  -999.0,9, -999.00,9, -999.00,9,  -999.0,    1023,     3.9293, -999.00,9,     -999.0
33KI20100308,       PRS2,       2,         15,          3,       8003,2,20100311,       2356,  22.730000,-157.9418333,       4710,  1023.3,   4.0074,  34.4824,2,-999.0000,5,     43.9,1,  -999.0,9, -999.00,9, -999.00,9,  -999.0,    1023,     3.9298, -999.00,9,     -999.0
33KI20100308,       PRS2,       2,         15,          2,       8002,2,20100311,       2356,  22.730000,-157.9418333,       4710,  1022.9,   4.0081,  34.4823,2,-999.0000,5,     43.9,1,  -999.0,9, -999.00,9, -999.00,9,  -999.0,    1024,     3.9305, -999.00,9,     -999.0
33KI20100308,       PRS2,       2,         15,          1,       8001,2,20100311,       2356,  22.730000,-157.9418333,       4710,  1022.8,   4.0078,  34.4824,2,  34.4822,2,     43.9,1,  -999.0,9, -999.00,9, -999.00,9,  -999.0,    1023,     3.9302, -999.00,9,     -999.0
33KI20100308,       PRS2,       6,          1,         13,       8025,2,20100312,       0810,  21.850167,-158.3730000,       2481,     4.2,  23.2497,  35.2951,2,  35.2958,2,    213.0,1,  -999.0,9, -999.00,9, -999.00,9,  -999.0,       5,    23.2489, -999.00,9,     -999.0
33KI20100308,       PRS2,       6,          1,         12,       8012,2,20100312,       0810,  21.850167,-158.3730000,       2481,    25.0,  23.2567,  35.2943,2,  35.2954,2,    213.0,1,  -999.0,9, -999.00,9, -999.00,9,  -999.0,      25,    23.2516, -999.00,9,     -999.0
33KI20100308,       PRS2,       6,          1,         11,       8011,2,20100312,       0810,  21.850167,-158.3730000,       2481,    45.5,  23.2592,  35.2985,2,  35.2991,2,    213.8,1,  -999.0,9, -999.00,9, -999.00,9,  -999.0,      45,    23.2498, -999.00,9,     -999.0
33KI20100308,       PRS2,       6,          1,         10,       8010,2,20100312,       0810,  21.850167,-158.3730000,       2481,    74.9,  23.1543,  35.3310,2,  35.3325,2,    213.7,1,  -999.0,9, -999.00,9, -999.00,9,  -999.0,      75,    23.1389, -999.00,9,     -999.0
33KI20100308,       PRS2,       6,          1,          9,       8009,2,20100312,       0810,  21.850167,-158.3730000,       2481,    99.8,  22.9764,  35.3615,2,  35.3636,2,    214.3,1,  -999.0,9, -999.00,9, -999.00,9,  -999.0,     100,    22.9560, -999.00,9,     -999.0
33KI20100308,       PRS2,       6,          1,          8,       8008,2,20100312,       0810,  21.850167,-158.3730000,       2481,   124.5,  20.4169,  35.1851,2,  35.1863,2,    195.0,1,  -999.0,9, -999.00,9, -999.00,9,  -999.0,     125,    20.3935, -999.00,9,     -999.0
33KI20100308,       PRS2,       6,          1,          7,       8026,2,20100312,       0810,  21.850167,-158.3730000,       2481,   150.2,  19.0414,  35.0364,2,  35.0403,2,    193.6,1,  -999.0,9, -999.00,9, -999.00,9,  -999.0,     150,    19.0146, -999.00,9,     -999.0
33KI20100308,       PRS2,       6,          1,          6,       8006,2,20100312,       0810,  21.850167,-158.3730000,       2481,   176.9,  17.8125,  34.8683,2,  34.8792,2,    192.7,1,  -999.0,9, -999.00,9, -999.00,9,  -999.0,     176,    17.7824, -999.00,9,     -999.0
33KI20100308,       PRS2,       6,          1,          5,       8005,2,20100312,       0810,  21.850167,-158.3730000,       2481,   500.9,   6.7434,  34.1265,2,  34.1268,2,     85.2,1,  -999.0,9, -999.00,9, -999.00,9,  -999.0,     501,     6.6971, -999.00,9,     -999.0
33KI20100308,       PRS2,       6,          1,          4,       8004,2,20100312,       0810,  21.850167,-158.3730000,       2481,   999.0,   4.0701,  34.4831,2,  34.4822,2,     47.5,1,  -999.0,9, -999.00,9, -999.00,9,  -999.0,    1000,     3.9940, -999.00,9,     -999.0
33KI20100308,       PRS2,       6,          1,          3,       8003,2,20100312,       0810,  21.850167,-158.3730000,       2481,  1500.8,   2.8162,  34.5729,2,  34.5736,2,     69.8,1,  -999.0,9, -999.00,9, -999.00,9,  -999.0,    1501,     2.7105, -999.00,9,     -999.0
33KI20100308,       PRS2,       6,          1,          2,       8002,2,20100312,       0810,  21.850167,-158.3730000,       2481,  2001.9,   2.1506,  34.6191,2,  34.6185,2,     91.2,1,  -999.0,9, -999.00,9, -999.00,9,  -999.0,    2002,     2.0118, -999.00,9,     -999.0
33KI20100308,       PRS2,       6,          1,          1,       8001,2,20100312,       0810,  21.850167,-158.3730000,       2481,  2481.3,   1.7277,  34.6500,2,  34.6512,2,    111.7,1,  -999.0,9, -999.00,9, -999.00,9,  -999.0,    2482,     1.5542, -999.00,9,     -999.0
33KI20100308,       PRS2,      52,          1,          9,       8009,2,20100311,       1928,  22.689333,-157.9713333,       4724,     5.7,  23.4526,  35.2362,2,-999.0000,9,    212.7,1,  -999.0,9, -999.00,9, -999.00,9,  -999.0,       6,    23.4514, -999.00,9,     -999.0
33KI20100308,       PRS2,      52,          1,          8,       8008,2,20100311,       1928,  22.689333,-157.9713333,       4724,    14.6,  23.4547,  35.2360,2,-999.0000,9,    212.7,1,  -999.0,9, -999.00,9, -999.00,9,  -999.0,      14,    23.4517, -999.00,9,     -999.0
33KI20100308,       PRS2,      52,          1,          7,       8026,2,20100311,       1928,  22.689333,-157.9713333,       4724,    40.4,  23.4553,  35.2352,2,-999.0000,9,    212.7,1,  -999.0,9, -999.00,9, -999.00,9,  -999.0,      41,    23.4470, -999.00,9,     -999.0
33KI20100308,       PRS2,      52,          1,          6,       8006,2,20100311,       1928,  22.689333,-157.9713333,       4724,    45.6,  23.4612,  35.2353,2,-999.0000,9,    212.7,1,  -999.0,9, -999.00,9, -999.00,9,  -999.0,      47,    23.4518, -999.00,9,     -999.0
33KI20100308,       PRS2,      52,          1,          5,       8005,2,20100311,       1928,  22.689333,-157.9713333,       4724,    69.7,  23.4541,  35.2343,2,-999.0000,9,    212.6,1,  -999.0,9, -999.00,9, -999.00,9,  -999.0,      69,    23.4397, -999.00,9,     -999.0
33KI20100308,       PRS2,      52,          1,          4,       8004,2,20100311,       1928,  22.689333,-157.9713333,       4724,    73.0,  23.4544,  35.2342,2,-999.0000,9,    212.7,1,  -999.0,9, -999.00,9, -999.00,9,  -999.0,      73,    23.4393, -999.00,9,     -999.0
33KI20100308,       PRS2,      52,          1,          3,       8003,2,20100311,       1928,  22.689333,-157.9713333,       4724,    99.6,  22.5813,  35.2933,2,-999.0000,9,    213.2,1,  -999.0,9, -999.00,9, -999.00,9,  -999.0,     100,    22.5612, -999.00,9,     -999.0
33KI20100308,       PRS2,      52,          1,          2,       8002,2,20100311,       1928,  22.689333,-157.9713333,       4724,   125.4,  21.4943,  35.2648,2,-999.0000,9,    209.5,1,  -999.0,9, -999.00,9, -999.00,9,  -999.0,     125,    21.4699, -999.00,9,     -999.0
33KI20100308,       PRS2,      52,          1,          1,       8001,2,20100311,       1928,  22.689333,-157.9713333,       4724,   200.4,  18.6985,  35.0165,2,-999.0000,9,    197.4,1,  -999.0,9, -999.00,9, -999.00,9,  -999.0,     201,    18.6632, -999.00,9,     -999.0