BOTTLE,20141031SIOCCHAMB
EXPOCODE,SECT_ID,STNNBR,CASTNO,SAMPNO,BTLNBR,BTLNBR_FLAG_W,DATE,TIME,LATITUDE,LONGITUDE,DEPTH,CTDPRS,CTDTMP,CTDSAL,CTDSAL_FLAG_W,SALNTY,SALNTY_FLAG_W,CTDOXY,CTDOXY_FLAG_W,OXYGEN,OXYGEN_FLAG_W,SILCAT,SILCAT_FLAG_W,PHSPHT,PHSPHT_FLAG_W,REVPRS,CTDRAW,THETA,NO2+NO3,NO2+NO3_FLAG_W,REVTMP
,,,,,,,,,,,METERS,DBAR,ITS-90,PSS-78,,PSS-78,,UMOL/KG,,UMOL/KG,,UMOL/KG,,UMOL/KG,,DBAR,DBAR,ITS-90,UMOL/KG,,DEG C
33KI20100308,       PRS2,       2,          3,         23,       8023,2,20100310,       0007,  22.740500,-158.0070000,       4722,     5.7,  23.1625,  35.2514,2,  35.2497,2,    214.2,1,  -999.0,9, -999.00,9, -999.00,9,  -999.0,       6,    23.1613, -999.00,9,     -999.0
33KI20100308,       PRS2,       2,          3,         22,       8022,2,20100310,       0007,  22.740500,-158.0070000,       4722,     5.8,  23.1626,  35.2514,2,  35.2501,2,    214.3,1,  -999.0,9, -999.00,9, -999.00,9,  -999.0,       5,    23.1614, -999.00,9,     -999.0
33KI20100308,       PRS2,       2,          3,         21,       8021,2,20100310,       0007,  22.740500,-158.0070000,       4722,    25.1,  23.1604,  35.2504,2,  35.2491,2,    214.4,1,  -999.0,9, -999.00,9, -999.00,9,  -999.0,      27,    23.1553, -999.00,9,     -999.0
33KI20100308,       PRS2,       2,          3,         20,       8020,2,20100310,       0007,  22.740500,-158.0070000,       4722,    25.3,  23.1604,  35.2502,2,  35.2483,2,    214.4,1,  -999.0,9, -999.00,9, -999.00,9,  -999.0,      26,    23.1552, -999.00,9,     -999.0
33KI20100308,       PRS2,       2,          3,         19,       8019,2,20100310,       0007,  22.740500,-158.0070000,       4722,    45.1,  23.1364,  35.2452,2,  35.2457,2,    213.9,1,  -999.0,9, -999.00,9, -999.00,9,  -999.0,      45,    23.1272, -999.00,9,     -999.0
33KI20100308,       PRS2,       2,          3,         18,       8018,2,20100310,       0007,  22.740500,-158.0070000,       4722,    45.1,  23.1410,  35.2459,2,  35.2463,2,    213.9,1,  -999.0,9, -999.00,9, -999.00,9,  -999.0,      46,    23.1318, -999.00,9,     -999.0
33KI20100308,       PRS2,       2,          3,         17,       8017,2,20100310,       0007,  22.740500,-158.0070000,       4722,    51.0,  23.1608,  35.2488,2,  35.2469,2,    213.9,1,  -999.0,9, -999.00,9, -999.00,9,  -999.0,      51,    23.1503, -999.00,9,     -999.0
33KI20100308,       PRS2,       2,          3,         16,       8016,2,20100310,       0007,  22.740500,-158.0070000,       4722,    80.7,  22.9546,  35.2553,2,  35.2538,2,    213.9,1,  -999.0,9, -999.00,9, -999.00,9,  -999.0,      81,    22.9381, -999.00,9,     -999.0
33KI20100308,       PRS2,       2,          3,         15,       8015,2,20100310,       0007,  22.740500,-158.0070000,       4722,    80.1,  22.9705,  35.2522,2,  35.2503,2,    213.8,1,  -999.0,9, -999.00,9, -999.00,9,  -999.0,      80,    22.9542, -999.00,9,     -999.0
33KI20100308,       PRS2,       2,          3,         14,       8014,2,20100310,       0007,  22.740500,-158.0070000,       4722,    93.4,  21.5728,  35.1800,2,  35.1916,3,    212.4,1,  -999.0,9, -999.00,9, -999.00,9,  -999.0,      93,    21.5546, -999.00,9,     -999.0
33KI20100308,       PRS2,       2,          3,         13,       8025,2,20100310,       0007,  22.740500,-158.0070000,       4722,    93.3,  21.5875,  35.1800,2,  35.1876,2,    212.3,1,  -999.0,9, -999.00,9, -999.00,9,  -999.0,      92,    21.5693, -999.00,9,     -999.0
33KI20100308,       PRS2,       2,          3,         12,       8012,2,20100310,       0007,  22.740500,-158.0070000,       4722,   128.6,  20.4674,  35.1726,2,-999.0000,5,    206.1,1,  -999.0,9, -999.00,9, -999.00,9,  -999.0,     128,    20.4432, -999.00,9,     -999.0
33KI20100308,       PRS2,       2,          3,         11,       8011,2,20100310,       0007,  22.740500,-158.0070000,       4722,   128.6,  20.4748,  35.1746,2,  35.1770,2,    206.1,1,  -999.0,9, -999.00,9, -999.00,9,  -999.0,     129,    20.4507, -999.00,9,     -999.0
33KI20100308,       PRS2,       2,          3,         10,       8010,2,20100310,       0007,  22.740500,-158.0070000,       4722,   155.5,  19.9279,  35.2054,2,  35.2058,2,    201.5,1,  -999.0,9, -999.00,9, -999.00,9,  -999.0,     157,    19.8992, -999.00,9,     -999.0
33KI20100308,       PRS2,       2,          3,          9,       8009,2,20100310,       0007,  22.740500,-158.0070000,       4722,   179.1,  19.2195,  35.0986,2,  35.1043,2,    198.0,1,  -999.0,9, -999.00,9, -999.00,9,  -999.0,     179,    19.1873, -999.00,9,     -999.0
33KI20100308,       PRS2,       2,          3,          8,       8008,2,20100310,       0007,  22.740500,-158.0070000,       4722,   206.8,  18.1119,  34.9140,2,  34.9278,2,    195.6,1,  -999.0,9, -999.00,9, -999.00,9,  -999.0,     207,    18.0763, -999.00,9,     -999.0
33KI20100308,       PRS2,       2,          3,          7,       8026,2,20100310,       0007,  22.740500,-158.0070000,       4722,   205.2,  18.1400,  34.9184,2,  34.9323,2,    195.6,1,  -999.0,9, -999.00,9, -999.00,9,  -999.0,     205,    18.1045, -999.00,9,     -999.0
33KI20100308,       PRS2,       2,          3,          6,       8006,2,20100310,       0007,  22.740500,-158.0070000,       4722,   256.4,  14.6672,  34.4386,2,  34.4461,2,    194.3,1,  -999.0,9, -999.00,9, -999.00,9,  -999.0,     257,    14.6290, -999.00,9,     -999.0
33KI20100308,       PRS2,       2,          3,          5,       8005,2,20100310,       0007,  22.740500,-158.0070000,       4722,   354.3,  10.1713,  34.1289,2,  34.1321,2,    190.9,1,  -999.0,9, -999.00,9, -999.00,9,  -999.0,     354,    10.1299, -999.00,9,     -999.0
33KI20100308,       PRS2,       2,          3,          4,       8004,2,20100310,       0007,  22.740500,-158.0070000,       4722,   353.8,  10.1792,  34.1296,2,  34.1319,2,    190.8,1,  -999.0,9, -999.00,9, -999.00,9,  -999.0,     354,    10.1378, -999.00,9,     -999.0
33KI20100308,       PRS2,       2,          3,          3,       8003,2,20100310,       0007,  22.740500,-158.0070000,       4722,   474.8,   7.4252,  34.0670,2,-999.0000,5,    119.5,1,  -999.0,9, -999.00,9, -999.00,9,  -999.0,     476,     7.3790, -999.00,9,     -999.0
33KI20100308,       PRS2,       2,          3,          2,       8002,2,20100310,       0007,  22.740500,-158.0070000,       4722,   507.3,   6.8008,  34.0682,2,  34.0695,2,     98.2,1,  -999.0,9, -999.00,9, -999.00,9,  -999.0,     507,     6.7537, -999.00,9,     -999.0
33KI20100308,       PRS2,       2,          3,          1,       8001,2,20100310,       0007,  22.740500,-158.0070000,       4722,  1026.6,   3.9049,  34.4926,2,  34.4919,2,     47.0,1,  -999.0,9, -999.00,9, -999.00,9,  -999.0,    1028,     3.8278, -999.00,9,     -999.0
33KI20100308,       PRS2,       2,          4,         24,       8024,2,20100310,       0259,  22.757167,-158.0078333,       4723,     5.0,  23.1277,  35.2480,2,-999.0000,5,    214.3,1,  -999.0,9, -999.00,9, -999.00,9,  -999.0,       5,    23.1267, -999.00,9,     -999.0
33KI20100308,       PRS2,       2,          4,         23,       8023,2,20100310,       0259,  22.757167,-158.0078333,       4723,     4.9,  23.1283,  35.2480,2,  35.2473,2,    214.4,1,  -999.0,9, -999.00,9, -999.00,9,  -999.0,       6,    23.1273, -999.00,9,     -999.0
33KI20100308,       PRS2,       2,          4,         22,       8022,2,20100310,       0259,  22.757167,-158.0078333,       4723,    14.5,  23.1360,  35.2478,2,-999.0000,5,    214.4,1,  -999.0,9, -999.00,9, -999.00,9,  -999.0,      14,    23.1330, -999.00,9,     -999.0
33KI20100308,       PRS2,       2,          4,         21,       8021,2,20100310,       0259,  22.757167,-158.0078333,       4723,    25.3,  23.1372,  35.2477,2,  35.2471,2,    214.4,1,  -999.0,9, -999.00,9, -999.00,9,  -999.0,      26,    23.1320, -999.00,9,     -999.0
33KI20100308,       PRS2,       2,          4,         20,       8020,2,20100310,       0259,  22.757167,-158.0078333,       4723,    46.1,  23.1409,  35.2473,2,-999.0000,5,    214.3,1,  -999.0,9, -999.00,9, -999.00,9,  -999.0,      46,    23.1315, -999.00,9,     -999.0
33KI20100308,       PRS2,       2,          4,         19,       8019,2,20100310,       0259,  22.757167,-158.0078333,       4723,    46.1,  23.1413,  35.2470,2,-999.0000,5,    214.3,1,  -999.0,9, -999.00,9, -999.00,9,  -999.0,      47,    23.1319, -999.00,9,     -999.0
33KI20100308,       PRS2,       2,          4,         18,       8018,2,20100310,       0259,  22.757167,-158.0078333,       4723,    46.3,  23.1414,  35.2470,2,-999.0000,5,    214.2,1,  -999.0,9, -999.00,9, -999.00,9,  -999.0,      47,    23.1320, -999.00,9,     -999.0
33KI20100308,       PRS2,       2,          4,         17,       8017,2,20100310,       0259,  22.757167,-158.0078333,       4723,    74.8,  23.1247,  35.2447,2,  35.2448,2,    214.2,1,  -999.0,9, -999.00,9, -999.00,9,  -999.0,      77,    23.1093, -999.00,9,     -999.0
33KI20100308,       PRS2,       2,          4,         16,       8016,2,20100310,       0259,  22.757167,-158.0078333,       4723,    75.5,  23.1242,  35.2447,2,-999.0000,5,    214.1,1,  -999.0,9, -999.00,9, -999.00,9,  -999.0,      76,    23.1088, -999.00,9,     -999.0
33KI20100308,       PRS2,       2,          4,         15,       8015,2,20100310,       0259,  22.757167,-158.0078333,       4723,    75.5,  23.1253,  35.2447,2,  35.2455,2,    214.1,1,  -999.0,9, -999.00,9, -999.00,9,  -999.0,      76,    23.1098, -999.00,9,     -999.0
33KI20100308,       PRS2,       2,          4,         14,       8014,2,20100310,       0259,  22.757167,-158.0078333,       4723,   105.1,  21.3684,  35.1911,2,-999.0000,5,    211.2,1,  -999.0,9, -999.00,9, -999.00,9,  -999.0,     105,    21.3480, -999.00,9,     -999.0
33KI20100308,       PRS2,       2,          4,         13,       8025,2,20100310,       0259,  22.757167,-158.0078333,       4723,   104.8,  21.3801,  35.1885,2,  35.1884,2,    211.1,1,  -999.0,9, -999.00,9, -999.00,9,  -999.0,     105,    21.3598, -999.00,9,     -999.0
33KI20100308,       PRS2,       2,          4,         12,       8012,2,20100310,       0259,  22.757167,-158.0078333,       4723,   125.7,  20.6553,  35.1717,2,-999.0000,5,    207.4,1,  -999.0,9, -999.00,9, -999.00,9,  -999.0,     127,    20.6315, -999.00,9,     -999.0
33KI20100308,       PRS2,       2,          4,         11,       8011,2,20100310,       0259,  22.757167,-158.0078333,       4723,   126.2,  20.6409,  35.1682,2,-999.0000,5,    207.4,1,  -999.0,9, -999.00,9, -999.00,9,  -999.0,     126,    20.6170, -999.00,9,     -999.0
33KI20100308,       PRS2,       2,          4,         10,       8010,2,20100310,       0259,  22.757167,-158.0078333,       4723,   126.7,  20.6235,  35.1654,2,  35.1699,2,    207.5,1,  -999.0,9, -999.00,9, -999.00,9,  -999.0,     127,    20.5996, -999.00,9,     -999.0
33KI20100308,       PRS2,       2,          4,          9,       8009,2,20100310,       0259,  22.757167,-158.0078333,       4723,   149.4,  20.1248,  35.2127,2,  35.2115,2,    204.1,1,  -999.0,9, -999.00,9, -999.00,9,  -999.0,     149,    20.0970, -999.00,9,     -999.0
33KI20100308,       PRS2,       2,          4,          8,       8008,2,20100310,       0259,  22.757167,-158.0078333,       4723,   170.6,  19.2371,  35.1083,2,  35.1100,2,    199.7,1,  -999.0,9, -999.00,9, -999.00,9,  -999.0,     171,    19.2064, -999.00,9,     -999.0
33KI20100308,       PRS2,       2,          4,          7,       8026,2,20100310,       0259,  22.757167,-158.0078333,       4723,   199.3,  17.8987,  34.8808,2,-999.0000,5,    195.7,1,  -999.0,9, -999.00,9, -999.00,9,  -999.0,     199,    17.8646, -999.00,9,     -999.0
33KI20100308,       PRS2,       2,          4,          6,       8006,2,20100310,       0259,  22.757167,-158.0078333,       4723,   199.3,  17.8286,  34.8693,2,  34.8788,2,    194.5,1,  -999.0,9, -999.00,9, -999.00,9,  -999.0,     201,    17.7946, -999.00,9,     -999.0
33KI20100308,       PRS2,       2,          4,          5,       8005,2,20100310,       0259,  22.757167,-158.0078333,       4723,   253.1,  13.8749,  34.3640,2,  34.3674,2,    194.5,1,  -999.0,9, -999.00,9, -999.00,9,  -999.0,     254,    13.8387, -999.00,9,     -999.0
33KI20100308,       PRS2,       2,          4,          4,       8004,2,20100310,       0259,  22.757167,-158.0078333,       4723,   349.3,  10.0960,  34.1260,2,  34.1281,2,    189.8,1,  -999.0,9, -999.00,9, -999.00,9,  -999.0,     350,    10.0554, -999.00,9,     -999.0
33KI20100308,       PRS2,       2,          4,          3,       8003,2,20100310,       0259,  22.757167,-158.0078333,       4723,   349.6,  10.0863,  34.1237,2,  34.1277,2,    189.6,1,  -999.0,9, -999.00,9, -999.00,9,  -999.0,     349,    10.0456, -999.00,9,     -999.0
33KI20100308,       PRS2,       2,          4,          2,       8002,2,20100310,       0259,  22.757167,-158.0078333,       4723,   498.6,   7.1651,  34.0658,2,  34.0648,2,    108.4,1,  -999.0,9, -999.00,9, -999.00,9,  -999.0,     498,     7.1175, -999.00,9,     -999.0
33KI20100308,       PRS2,       2,          4,          1,       8001,2,20100310,       0259,  22.757167,-158.0078333,       4723,  1022.8,   3.8462,  34.4946,2,  34.4928,2,     48.3,1,  -999.0,9, -999.00,9, -999.00,9,  -999.0,    1024,     3.7698, -999.00,9,     -999.0
33KI20100308,       PRS2,       2,          5,         23,       8023,2,20100310,       1708,  22.744667,-158.0071667,       4722,     4.8,  23.3394,  35.2732,2,  35.2710,2,    213.4,2,  -999.0,5, -999.00,5, -999.00,5,  -999.0,       5,    23.3384, -999.00,5,     -999.0
33KI20100308,       PRS2,       2,          5,         22,       8022,2,20100310,       1708,  22.744667,-158.0071667,       4722,     4.7,  23.3406,  35.2732,2,  35.2755,2,    213.5,2,   213.1,2,    1.15,2,    0.09,2,  -999.0,       5,    23.3396,    0.05,2,     -999.0
33KI20100308,       PRS2,       2,          5,         21,       8021,2,20100310,       1708,  22.744667,-158.0071667,       4722,    15.6,  23.3373,  35.2732,2,  35.2714,2,    213.5,2,  -999.0,5,    3.40,4,    0.09,2,  -999.0,      16,    23.3341,    0.04,2,     -999.0
33KI20100308,       PRS2,       2,          5,         20,       8020,2,20100310,       1708,  22.744667,-158.0071667,       4722,    25.5,  23.3391,  35.2731,2,  35.2720,2,    213.4,2,  -999.0,5, -999.00,5, -999.00,5,  -999.0,      26,    23.3339, -999.00,5,     -999.0
33KI20100308,       PRS2,       2,          5,         19,       8019,2,20100310,       1708,  22.744667,-158.0071667,       4722,    25.5,  23.3389,  35.2731,2,  35.2710,2,    213.4,2,   214.2,2,    1.30,2,    0.09,2,  -999.0,      26,    23.3336,    0.05,2,     -999.0
33KI20100308,       PRS2,       2,          5,         18,       8018,2,20100310,       1708,  22.744667,-158.0071667,       4722,    36.1,  23.3381,  35.2730,2,  35.2708,2,    213.3,2,  -999.0,5,    4.08,4,    0.09,2,  -999.0,      36,    23.3306,    0.04,2,     -999.0
33KI20100308,       PRS2,       2,          5,         17,       8017,2,20100310,       1708,  22.744667,-158.0071667,       4722,    45.6,  23.3361,  35.2728,2,  35.2710,2,    213.8,2,   212.9,2,    1.18,2,    0.09,2,  -999.0,      46,    23.3267,    0.04,2,     -999.0
33KI20100308,       PRS2,       2,          5,         16,       8016,2,20100310,       1708,  22.744667,-158.0071667,       4722,    59.9,  23.2012,  35.2685,2,  35.2664,2,    213.9,2,  -999.0,5,    1.22,2,    0.10,2,  -999.0,      60,    23.1889,    0.05,2,     -999.0
33KI20100308,       PRS2,       2,          5,         15,       8015,2,20100310,       1708,  22.744667,-158.0071667,       4722,    75.3,  23.0755,  35.2563,2,  35.2544,2,    214.1,2,   214.6,2,    1.76,3,    0.10,2,  -999.0,      75,    23.0601,    0.06,2,     -999.0
33KI20100308,       PRS2,       2,          5,         14,       8014,2,20100310,       1708,  22.744667,-158.0071667,       4722,    85.5,  23.0472,  35.2521,2,  35.2513,2,    214.5,2,   213.6,2, -999.00,5, -999.00,5,  -999.0,      85,    23.0297, -999.00,5,     -999.0
33KI20100308,       PRS2,       2,          5,         13,       8025,2,20100310,       1708,  22.744667,-158.0071667,       4722,    91.6,  23.0411,  35.2509,2,  35.2487,2,    214.7,2,  -999.0,5, -999.00,5, -999.00,5,  -999.0,      92,    23.0224, -999.00,5,     -999.0
33KI20100308,       PRS2,       2,          5,         12,       8012,2,20100310,       1708,  22.744667,-158.0071667,       4722,   101.3,  22.4149,  35.2323,2,  35.2325,2,    214.0,2,   214.2,2,    6.88,4,    0.10,2,  -999.0,     102,    22.3945,    0.04,2,     -999.0
33KI20100308,       PRS2,       2,          5,         11,       8011,2,20100310,       1708,  22.744667,-158.0071667,       4722,   109.4,  22.0905,  35.2960,2,  35.2907,2,    209.9,2,  -999.0,5, -999.00,5, -999.00,5,  -999.0,     110,    22.0688, -999.00,5,     -999.0
33KI20100308,       PRS2,       2,          5,         10,       8010,2,20100310,       1708,  22.744667,-158.0071667,       4722,   114.6,  21.5336,  35.2608,2,  35.2603,2,    208.9,2,   209.0,2, -999.00,5, -999.00,5,  -999.0,     114,    21.5112, -999.00,5,     -999.0
33KI20100308,       PRS2,       2,          5,          9,       8009,2,20100310,       1708,  22.744667,-158.0071667,       4722,   125.4,  20.8669,  35.2421,2,  35.2424,2,    203.1,2,   202.6,2,    1.77,2,    0.14,2,  -999.0,     125,    20.8430,    1.00,2,     -999.0
33KI20100308,       PRS2,       2,          5,          8,       8008,2,20100310,       1708,  22.744667,-158.0071667,       4722,   131.3,  20.6883,  35.2286,2,  35.2274,2,    201.5,2,  -999.0,5, -999.00,5, -999.00,5,  -999.0,     132,    20.6634, -999.00,5,     -999.0
33KI20100308,       PRS2,       2,          5,          7,       8026,2,20100310,       1708,  22.744667,-158.0071667,       4722,   150.8,  19.9992,  35.2053,2,  35.2091,2,    199.4,2,   199.4,2,    2.00,2,    0.16,2,  -999.0,     151,    19.9713,    1.55,2,     -999.0
33KI20100308,       PRS2,       2,          5,          6,       8006,2,20100310,       1708,  22.744667,-158.0071667,       4722,   165.6,  19.5230,  35.1442,2,  35.1429,2,    198.1,2,   198.8,2, -999.00,5, -999.00,5,  -999.0,     165,    19.4929, -999.00,5,     -999.0
33KI20100308,       PRS2,       2,          5,          5,       8005,2,20100310,       1708,  22.744667,-158.0071667,       4722,   172.8,  19.2754,  35.1186,2,  35.1183,2,    198.1,2,   198.1,2,    2.40,2,    0.20,2,  -999.0,     173,    19.2443,    2.26,2,     -999.0
33KI20100308,       PRS2,       2,          5,          4,       8004,2,20100310,       1708,  22.744667,-158.0071667,       4722,   200.6,  17.6208,  34.8482,2,  34.8452,2,    194.0,2,   195.1,2,    3.50,2,    0.32,2,  -999.0,     201,    17.5869,    3.95,2,     -999.0
33KI20100308,       PRS2,       2,          5,          3,       8003,2,20100310,       1708,  22.744667,-158.0071667,       4722,   506.3,   7.0264,  34.0636,2,  34.0633,2,    104.9,2,   104.6,2, -999.00,5, -999.00,5,  -999.0,     506,     6.9786, -999.00,5,     -999.0
33KI20100308,       PRS2,       2,          5,          2,       8002,2,20100310,       1708,  22.744667,-158.0071667,       4722,   720.2,   5.0566,  34.3084,2,  34.3058,2,     30.5,2,    29.9,2, -999.00,5, -999.00,5,  -999.0,     722,     4.9980, -999.00,5,     -999.0
33KI20100308,       PRS2,       2,          5,          1,       8001,2,20100310,       1708,  22.744667,-158.0071667,       4722,  1022.3,   4.0237,  34.4795,2,  34.4791,2,     44.7,2,    43.9,2, -999.00,5, -999.00,5,  -999.0,    1023,     3.9460, -999.00,5,     -999.0