BOTTLE,20141031SIOCCHAMB
EXPOCODE,SECT_ID,STNNBR,CASTNO,SAMPNO,BTLNBR,BTLNBR_FLAG_W,DATE,TIME,LATITUDE,LONGITUDE,DEPTH,CTDPRS,CTDTMP,CTDSAL,CTDSAL_FLAG_W,SALNTY,SALNTY_FLAG_W,CTDOXY,CTDOXY_FLAG_W,OXYGEN,OXYGEN_FLAG_W,SILCAT,SILCAT_FLAG_W,PHSPHT,PHSPHT_FLAG_W,REVPRS,CTDRAW,THETA,NO2+NO3,NO2+NO3_FLAG_W,REVTMP
,,,,,,,,,,,METERS,DBAR,ITS-90,PSS-78,,PSS-78,,UMOL/KG,,UMOL/KG,,UMOL/KG,,UMOL/KG,,DBAR,DBAR,ITS-90,UMOL/KG,,DEG C
33KI20100308,       PRS2,       2,         12,         19,       8019,2,20100311,       1430,  22.749667,-158.0000000,       4722,     4.9,  23.4025,  35.2523,2,  35.2521,2,    212.8,2,   213.4,2, -999.00,9, -999.00,9,  -999.0,       4,    23.4015, -999.00,9,     -999.0
33KI20100308,       PRS2,       2,         12,         18,       8018,2,20100311,       1430,  22.749667,-158.0000000,       4722,    15.2,  23.4102,  35.2522,2,-999.0000,5,    212.8,2,  -999.0,5, -999.00,9, -999.00,9,  -999.0,      15,    23.4071, -999.00,9,     -999.0
33KI20100308,       PRS2,       2,         12,         17,       8017,2,20100311,       1430,  22.749667,-158.0000000,       4722,    44.4,  23.4149,  35.2539,2,-999.0000,5,    212.7,2,  -999.0,5, -999.00,9, -999.00,9,  -999.0,      44,    23.4057, -999.00,9,     -999.0
33KI20100308,       PRS2,       2,         12,         16,       8016,2,20100311,       1430,  22.749667,-158.0000000,       4722,    74.5,  23.2563,  35.2863,2,-999.0000,5,    213.2,2,  -999.0,5, -999.00,9, -999.00,9,  -999.0,      74,    23.2409, -999.00,9,     -999.0
33KI20100308,       PRS2,       2,         12,         15,       8015,2,20100311,       1430,  22.749667,-158.0000000,       4722,   124.4,  22.1293,  35.3813,2,-999.0000,5,    207.7,2,  -999.0,5, -999.00,9, -999.00,9,  -999.0,     124,    22.1045, -999.00,9,     -999.0
33KI20100308,       PRS2,       2,         12,         14,       8014,2,20100311,       1430,  22.749667,-158.0000000,       4722,   319.2,  11.5393,  34.1863,2,  34.1840,2,    200.4,2,   200.9,2, -999.00,9, -999.00,9,  -999.0,     319,    11.4988, -999.00,9,     -999.0
33KI20100308,       PRS2,       2,         12,         13,       8025,2,20100311,       1430,  22.749667,-158.0000000,       4722,   502.9,   7.2639,  34.0665,2,  34.0615,2,    112.5,2,   112.0,2, -999.00,9, -999.00,9,  -999.0,     503,     7.2155, -999.00,9,     -999.0
33KI20100308,       PRS2,       2,         12,         12,       8012,2,20100311,       1430,  22.749667,-158.0000000,       4722,   773.8,   4.7888,  34.3720,2,  34.3698,2,     33.4,2,    32.7,2, -999.00,9, -999.00,9,  -999.0,     774,     4.7271, -999.00,9,     -999.0
33KI20100308,       PRS2,       2,         12,         11,       8011,2,20100311,       1430,  22.749667,-158.0000000,       4722,  1000.5,   3.9919,  34.4795,2,-999.0000,5,     45.1,2,  -999.0,5, -999.00,9, -999.00,9,  -999.0,    1001,     3.9163, -999.00,9,     -999.0
33KI20100308,       PRS2,       2,         12,         10,       8010,2,20100311,       1430,  22.749667,-158.0000000,       4722,  1999.8,   2.1115,  34.6196,2,-999.0000,5,     90.0,2,  -999.0,5, -999.00,9, -999.00,9,  -999.0,    2000,     1.9734, -999.00,9,     -999.0
33KI20100308,       PRS2,       2,         12,          9,       8009,2,20100311,       1430,  22.749667,-158.0000000,       4722,  1999.9,   2.1114,  34.6196,2,  34.6181,2,     90.0,2,    90.9,2, -999.00,9, -999.00,9,  -999.0,    2000,     1.9733, -999.00,9,     -999.0
33KI20100308,       PRS2,       2,         12,          8,       8008,2,20100311,       1430,  22.749667,-158.0000000,       4722,  2998.9,   1.5365,  34.6688,2,-999.0000,5,    127.0,2,  -999.0,5, -999.00,9, -999.00,9,  -999.0,    3000,     1.3191, -999.00,9,     -999.0
33KI20100308,       PRS2,       2,         12,          7,       8026,2,20100311,       1430,  22.749667,-158.0000000,       4722,  2998.6,   1.5364,  34.6689,2,  34.6679,2,    127.0,2,   126.5,2, -999.00,9, -999.00,9,  -999.0,    3000,     1.3190, -999.00,9,     -999.0
33KI20100308,       PRS2,       2,         12,          6,       8006,2,20100311,       1430,  22.749667,-158.0000000,       4722,  3997.9,   1.4527,  34.6849,2,-999.0000,5,    148.1,2,  -999.0,5, -999.00,9, -999.00,9,  -999.0,    3999,     1.1353, -999.00,9,     -999.0
33KI20100308,       PRS2,       2,         12,          5,       8005,2,20100311,       1430,  22.749667,-158.0000000,       4722,  3998.1,   1.4526,  34.6848,2,-999.0000,5,    148.1,2,  -999.0,5, -999.00,9, -999.00,9,  -999.0,    3998,     1.1352, -999.00,9,     -999.0
33KI20100308,       PRS2,       2,         12,          4,       8004,2,20100311,       1430,  22.749667,-158.0000000,       4722,  3998.1,   1.4526,  34.6848,2,  34.6834,2,    148.1,2,   149.4,2, -999.00,9, -999.00,9,  -999.0,    3998,     1.1352, -999.00,9,     -999.0
33KI20100308,       PRS2,       2,         12,          3,       8003,2,20100311,       1430,  22.749667,-158.0000000,       4722,  4748.3,   1.4965,  34.6885,2,-999.0000,5,    155.5,2,  -999.0,5, -999.00,9, -999.00,9,  -999.0,    4749,     1.0926, -999.00,9,     -999.0
33KI20100308,       PRS2,       2,         12,          2,       8002,2,20100311,       1430,  22.749667,-158.0000000,       4722,  4807.3,   1.5035,  34.6885,2,-999.0000,5,    155.4,2,  -999.0,5, -999.00,9, -999.00,9,  -999.0,    4807,     1.0923, -999.00,9,     -999.0
33KI20100308,       PRS2,       2,         12,          1,       8001,2,20100311,       1430,  22.749667,-158.0000000,       4722,  4807.4,   1.5034,  34.6885,2,  34.6885,2,    155.4,2,   154.7,2, -999.00,9, -999.00,9,  -999.0,    4808,     1.0923, -999.00,9,     -999.0
33KI20100308,       PRS2,       2,         13,         24,       8024,2,20100311,       2130,  22.693167,-157.9725000,       4724,    73.7,  23.4604,  35.2459,2,-999.0000,9,    212.7,1,  -999.0,9, -999.00,9, -999.00,9,  -999.0,      75,    23.4451, -999.00,9,     -999.0
33KI20100308,       PRS2,       2,         13,         23,       8023,2,20100311,       2130,  22.693167,-157.9725000,       4724,    74.0,  23.4605,  35.2460,2,-999.0000,9,    212.7,1,  -999.0,9, -999.00,9, -999.00,9,  -999.0,      74,    23.4452, -999.00,9,     -999.0
33KI20100308,       PRS2,       2,         13,         22,       8022,2,20100311,       2130,  22.693167,-157.9725000,       4724,    73.9,  23.4604,  35.2459,2,-999.0000,9,    212.6,1,  -999.0,9, -999.00,9, -999.00,9,  -999.0,      74,    23.4451, -999.00,9,     -999.0
33KI20100308,       PRS2,       2,         13,         21,       8021,2,20100311,       2130,  22.693167,-157.9725000,       4724,    73.6,  23.4601,  35.2460,2,-999.0000,9,    212.6,1,  -999.0,9, -999.00,9, -999.00,9,  -999.0,      74,    23.4449, -999.00,9,     -999.0
33KI20100308,       PRS2,       2,         13,         20,       8020,2,20100311,       2130,  22.693167,-157.9725000,       4724,    73.6,  23.4600,  35.2460,2,-999.0000,9,    212.6,1,  -999.0,9, -999.00,9, -999.00,9,  -999.0,      75,    23.4448, -999.00,9,     -999.0
33KI20100308,       PRS2,       2,         13,         19,       8019,2,20100311,       2130,  22.693167,-157.9725000,       4724,    73.4,  23.4599,  35.2459,2,-999.0000,9,    212.6,1,  -999.0,9, -999.00,9, -999.00,9,  -999.0,      74,    23.4447, -999.00,9,     -999.0
33KI20100308,       PRS2,       2,         13,         18,       8018,2,20100311,       2130,  22.693167,-157.9725000,       4724,    73.5,  23.4600,  35.2460,2,-999.0000,9,    212.7,1,  -999.0,9, -999.00,9, -999.00,9,  -999.0,      74,    23.4448, -999.00,9,     -999.0
33KI20100308,       PRS2,       2,         13,         17,       8017,2,20100311,       2130,  22.693167,-157.9725000,       4724,    73.2,  23.4604,  35.2460,2,-999.0000,9,    212.8,1,  -999.0,9, -999.00,9, -999.00,9,  -999.0,      73,    23.4453, -999.00,9,     -999.0
33KI20100308,       PRS2,       2,         13,         16,       8016,2,20100311,       2130,  22.693167,-157.9725000,       4724,    73.2,  23.4602,  35.2458,2,-999.0000,9,    212.8,1,  -999.0,9, -999.00,9, -999.00,9,  -999.0,      72,    23.4450, -999.00,9,     -999.0
33KI20100308,       PRS2,       2,         13,         15,       8015,2,20100311,       2130,  22.693167,-157.9725000,       4724,    73.2,  23.4603,  35.2457,2,-999.0000,9,    212.7,1,  -999.0,9, -999.00,9, -999.00,9,  -999.0,      74,    23.4451, -999.00,9,     -999.0
33KI20100308,       PRS2,       2,         13,         14,       8014,2,20100311,       2130,  22.693167,-157.9725000,       4724,    72.9,  23.4606,  35.2457,2,-999.0000,9,    212.5,1,  -999.0,9, -999.00,9, -999.00,9,  -999.0,      73,    23.4455, -999.00,9,     -999.0
33KI20100308,       PRS2,       2,         13,         13,       8025,2,20100311,       2130,  22.693167,-157.9725000,       4724,    72.8,  23.4604,  35.2457,2,-999.0000,9,    212.4,1,  -999.0,9, -999.00,9, -999.00,9,  -999.0,      73,    23.4454, -999.00,9,     -999.0
33KI20100308,       PRS2,       2,         13,         12,       8012,2,20100311,       2130,  22.693167,-157.9725000,       4724,    72.9,  23.4603,  35.2457,2,-999.0000,9,    212.3,1,  -999.0,9, -999.00,9, -999.00,9,  -999.0,      73,    23.4452, -999.00,9,     -999.0
33KI20100308,       PRS2,       2,         13,         11,       8011,2,20100311,       2130,  22.693167,-157.9725000,       4724,    72.5,  23.4606,  35.2458,2,-999.0000,9,    212.3,1,  -999.0,9, -999.00,9, -999.00,9,  -999.0,      72,    23.4456, -999.00,9,     -999.0
33KI20100308,       PRS2,       2,         13,         10,       8010,2,20100311,       2130,  22.693167,-157.9725000,       4724,    72.9,  23.4609,  35.2457,2,-999.0000,9,    212.3,1,  -999.0,9, -999.00,9, -999.00,9,  -999.0,      74,    23.4458, -999.00,9,     -999.0
33KI20100308,       PRS2,       2,         13,          9,       8009,2,20100311,       2130,  22.693167,-157.9725000,       4724,    73.1,  23.4611,  35.2456,2,-999.0000,9,    212.3,1,  -999.0,9, -999.00,9, -999.00,9,  -999.0,      73,    23.4459, -999.00,9,     -999.0
33KI20100308,       PRS2,       2,         13,          8,       8008,2,20100311,       2130,  22.693167,-157.9725000,       4724,    73.0,  23.4612,  35.2457,2,-999.0000,9,    212.3,1,  -999.0,9, -999.00,9, -999.00,9,  -999.0,      72,    23.4461, -999.00,9,     -999.0
33KI20100308,       PRS2,       2,         13,          7,       8026,2,20100311,       2130,  22.693167,-157.9725000,       4724,    72.8,  23.4614,  35.2458,2,-999.0000,9,    212.4,1,  -999.0,9, -999.00,9, -999.00,9,  -999.0,      72,    23.4463, -999.00,9,     -999.0
33KI20100308,       PRS2,       2,         13,          6,       8006,2,20100311,       2130,  22.693167,-157.9725000,       4724,    72.9,  23.4612,  35.2457,2,-999.0000,9,    212.4,1,  -999.0,9, -999.00,9, -999.00,9,  -999.0,      74,    23.4461, -999.00,9,     -999.0
33KI20100308,       PRS2,       2,         13,          5,       8005,2,20100311,       2130,  22.693167,-157.9725000,       4724,    73.0,  23.4610,  35.2457,2,-999.0000,9,    212.5,1,  -999.0,9, -999.00,9, -999.00,9,  -999.0,      73,    23.4459, -999.00,9,     -999.0
33KI20100308,       PRS2,       2,         13,          4,       8004,2,20100311,       2130,  22.693167,-157.9725000,       4724,    73.1,  23.4610,  35.2457,2,-999.0000,9,    212.6,1,  -999.0,9, -999.00,9, -999.00,9,  -999.0,      72,    23.4459, -999.00,9,     -999.0
33KI20100308,       PRS2,       2,         13,          3,       8003,2,20100311,       2130,  22.693167,-157.9725000,       4724,    73.3,  23.4608,  35.2456,2,-999.0000,9,    212.7,1,  -999.0,9, -999.00,9, -999.00,9,  -999.0,      73,    23.4456, -999.00,9,     -999.0
33KI20100308,       PRS2,       2,         13,          2,       8002,2,20100311,       2130,  22.693167,-157.9725000,       4724,    73.4,  23.4608,  35.2456,2,-999.0000,9,    212.7,1,  -999.0,9, -999.00,9, -999.00,9,  -999.0,      74,    23.4456, -999.00,9,     -999.0
33KI20100308,       PRS2,       2,         13,          1,       8001,2,20100311,       2130,  22.693167,-157.9725000,       4724,    73.4,  23.4607,  35.2457,2,-999.0000,9,    212.7,1,  -999.0,9, -999.00,9, -999.00,9,  -999.0,      73,    23.4455, -999.00,9,     -999.0
33KI20100308,       PRS2,       2,         14,         18,       8018,2,20100311,       2231,  22.704000,-157.9668333,       4723,     6.8,  23.4771,  35.2442,2,-999.0000,9,    212.7,1,  -999.0,9, -999.00,9, -999.00,9,  -999.0,       7,    23.4757, -999.00,9,     -999.0
33KI20100308,       PRS2,       2,         14,         17,       8017,2,20100311,       2231,  22.704000,-157.9668333,       4723,     6.9,  23.4768,  35.2443,2,-999.0000,9,    212.7,1,  -999.0,9, -999.00,9, -999.00,9,  -999.0,       6,    23.4754, -999.00,9,     -999.0
33KI20100308,       PRS2,       2,         14,         16,       8016,2,20100311,       2231,  22.704000,-157.9668333,       4723,     6.8,  23.4772,  35.2443,2,-999.0000,9,    212.7,1,  -999.0,9, -999.00,9, -999.00,9,  -999.0,       7,    23.4758, -999.00,9,     -999.0
33KI20100308,       PRS2,       2,         14,         15,       8015,2,20100311,       2231,  22.704000,-157.9668333,       4723,     6.8,  23.4735,  35.2443,2,-999.0000,9,    212.9,1,  -999.0,9, -999.00,9, -999.00,9,  -999.0,       7,    23.4721, -999.00,9,     -999.0
33KI20100308,       PRS2,       2,         14,         14,       8014,2,20100311,       2231,  22.704000,-157.9668333,       4723,     6.9,  23.4725,  35.2445,2,-999.0000,9,    212.9,1,  -999.0,9, -999.00,9, -999.00,9,  -999.0,       7,    23.4711, -999.00,9,     -999.0
33KI20100308,       PRS2,       2,         14,         13,       8025,2,20100311,       2231,  22.704000,-157.9668333,       4723,     6.8,  23.4743,  35.2444,2,-999.0000,9,    212.9,1,  -999.0,9, -999.00,9, -999.00,9,  -999.0,       7,    23.4728, -999.00,9,     -999.0
33KI20100308,       PRS2,       2,         14,         12,       8012,2,20100311,       2231,  22.704000,-157.9668333,       4723,     6.8,  23.4750,  35.2442,2,-999.0000,9,    213.0,1,  -999.0,9, -999.00,9, -999.00,9,  -999.0,       6,    23.4736, -999.00,9,     -999.0
33KI20100308,       PRS2,       2,         14,         11,       8011,2,20100311,       2231,  22.704000,-157.9668333,       4723,     6.8,  23.4754,  35.2444,2,-999.0000,9,    213.0,1,  -999.0,9, -999.00,9, -999.00,9,  -999.0,       7,    23.4740, -999.00,9,     -999.0
33KI20100308,       PRS2,       2,         14,         10,       8010,2,20100311,       2231,  22.704000,-157.9668333,       4723,     6.8,  23.4775,  35.2443,2,-999.0000,9,    213.0,1,  -999.0,9, -999.00,9, -999.00,9,  -999.0,       7,    23.4761, -999.00,9,     -999.0
33KI20100308,       PRS2,       2,         14,          9,       8009,2,20100311,       2231,  22.704000,-157.9668333,       4723,     6.7,  23.4799,  35.2445,2,-999.0000,9,    212.9,1,  -999.0,9, -999.00,9, -999.00,9,  -999.0,       6,    23.4786, -999.00,9,     -999.0
33KI20100308,       PRS2,       2,         14,          8,       8008,2,20100311,       2231,  22.704000,-157.9668333,       4723,     6.7,  23.4829,  35.2446,2,-999.0000,9,    212.8,1,  -999.0,9, -999.00,9, -999.00,9,  -999.0,       7,    23.4815, -999.00,9,     -999.0
33KI20100308,       PRS2,       2,         14,          7,       8026,2,20100311,       2231,  22.704000,-157.9668333,       4723,     6.6,  23.4860,  35.2447,2,-999.0000,9,    212.8,1,  -999.0,9, -999.00,9, -999.00,9,  -999.0,       6,    23.4846, -999.00,9,     -999.0
33KI20100308,       PRS2,       2,         14,          6,       8006,2,20100311,       2231,  22.704000,-157.9668333,       4723,     6.6,  23.4868,  35.2446,2,-999.0000,9,    212.7,1,  -999.0,9, -999.00,9, -999.00,9,  -999.0,       7,    23.4854, -999.00,9,     -999.0
33KI20100308,       PRS2,       2,         14,          5,       8005,2,20100311,       2231,  22.704000,-157.9668333,       4723,     6.7,  23.4871,  35.2447,2,-999.0000,9,    212.7,1,  -999.0,9, -999.00,9, -999.00,9,  -999.0,       7,    23.4857, -999.00,9,     -999.0
33KI20100308,       PRS2,       2,         14,          4,       8004,2,20100311,       2231,  22.704000,-157.9668333,       4723,     6.7,  23.4878,  35.2446,2,-999.0000,9,    212.6,1,  -999.0,9, -999.00,9, -999.00,9,  -999.0,       7,    23.4864, -999.00,9,     -999.0
33KI20100308,       PRS2,       2,         14,          3,       8003,2,20100311,       2231,  22.704000,-157.9668333,       4723,     6.5,  23.4896,  35.2447,2,-999.0000,9,    212.5,1,  -999.0,9, -999.00,9, -999.00,9,  -999.0,       6,    23.4883, -999.00,9,     -999.0
33KI20100308,       PRS2,       2,         14,          2,       8002,2,20100311,       2231,  22.704000,-157.9668333,       4723,     6.4,  23.4902,  35.2446,2,-999.0000,9,    212.5,1,  -999.0,9, -999.00,9, -999.00,9,  -999.0,       6,    23.4889, -999.00,9,     -999.0
33KI20100308,       PRS2,       2,         14,          1,       8001,2,20100311,       2231,  22.704000,-157.9668333,       4723,     6.3,  23.4909,  35.2448,2,-999.0000,9,    212.4,1,  -999.0,9, -999.00,9, -999.00,9,  -999.0,       7,    23.4896, -999.00,9,     -999.0