BOTTLE,20141031SIOCCHAMB
EXPOCODE,SECT_ID,STNNBR,CASTNO,SAMPNO,BTLNBR,BTLNBR_FLAG_W,DATE,TIME,LATITUDE,LONGITUDE,DEPTH,CTDPRS,CTDTMP,CTDSAL,CTDSAL_FLAG_W,SALNTY,SALNTY_FLAG_W,CTDOXY,CTDOXY_FLAG_W,OXYGEN,OXYGEN_FLAG_W,SILCAT,SILCAT_FLAG_W,PHSPHT,PHSPHT_FLAG_W,REVPRS,CTDRAW,THETA,NO2+NO3,NO2+NO3_FLAG_W,REVTMP
,,,,,,,,,,,METERS,DBAR,ITS-90,PSS-78,,PSS-78,,UMOL/KG,,UMOL/KG,,UMOL/KG,,UMOL/KG,,DBAR,DBAR,ITS-90,UMOL/KG,,DEG C
33KI20100308,       PRS2,       2,          6,         23,       8023,2,20100310,       1957,  22.748500,-158.0021667,       4723,     4.3,  23.4007,  35.2712,2,-999.0000,5,    213.2,1,  -999.0,9, -999.00,9, -999.00,9,  -999.0,       5,    23.3999, -999.00,9,     -999.0
33KI20100308,       PRS2,       2,          6,         22,       8022,2,20100310,       1957,  22.748500,-158.0021667,       4723,     4.4,  23.4011,  35.2711,2,-999.0000,5,    213.2,1,  -999.0,9, -999.00,9, -999.00,9,  -999.0,       4,    23.4002, -999.00,9,     -999.0
33KI20100308,       PRS2,       2,          6,         21,       8021,2,20100310,       1957,  22.748500,-158.0021667,       4723,     4.3,  23.4013,  35.2710,2,  35.2688,2,    213.2,1,  -999.0,9, -999.00,9, -999.00,9,  -999.0,       4,    23.4005, -999.00,9,     -999.0
33KI20100308,       PRS2,       2,          6,         20,       8020,2,20100310,       1957,  22.748500,-158.0021667,       4723,    15.5,  23.4009,  35.2709,2,  35.2710,2,    213.2,1,  -999.0,9, -999.00,9, -999.00,9,  -999.0,      15,    23.3977, -999.00,9,     -999.0
33KI20100308,       PRS2,       2,          6,         19,       8019,2,20100310,       1957,  22.748500,-158.0021667,       4723,    25.4,  23.4023,  35.2709,2,  35.2684,2,    213.3,1,  -999.0,9, -999.00,9, -999.00,9,  -999.0,      25,    23.3970, -999.00,9,     -999.0
33KI20100308,       PRS2,       2,          6,         18,       8018,2,20100310,       1957,  22.748500,-158.0021667,       4723,    41.7,  23.3754,  35.2707,2,  35.2690,2,    213.3,1,  -999.0,9, -999.00,9, -999.00,9,  -999.0,      41,    23.3668, -999.00,9,     -999.0
33KI20100308,       PRS2,       2,          6,         17,       8017,2,20100310,       1957,  22.748500,-158.0021667,       4723,    50.0,  23.3713,  35.2709,2,  35.2690,2,    213.3,1,  -999.0,9, -999.00,9, -999.00,9,  -999.0,      50,    23.3609, -999.00,9,     -999.0
33KI20100308,       PRS2,       2,          6,         16,       8016,2,20100310,       1957,  22.748500,-158.0021667,       4723,    61.4,  23.2926,  35.2703,2,  35.2684,2,    213.2,1,  -999.0,9, -999.00,9, -999.00,9,  -999.0,      62,    23.2799, -999.00,9,     -999.0
33KI20100308,       PRS2,       2,          6,         15,       8015,2,20100310,       1957,  22.748500,-158.0021667,       4723,    74.5,  23.1649,  35.2643,2,  35.2633,2,    213.9,1,  -999.0,9, -999.00,9, -999.00,9,  -999.0,      75,    23.1496, -999.00,9,     -999.0
33KI20100308,       PRS2,       2,          6,         14,       8014,2,20100310,       1957,  22.748500,-158.0021667,       4723,    74.2,  23.1688,  35.2642,2,  35.2637,2,    213.9,1,  -999.0,9, -999.00,9, -999.00,9,  -999.0,      75,    23.1536, -999.00,9,     -999.0
33KI20100308,       PRS2,       2,          6,         13,       8025,2,20100310,       1957,  22.748500,-158.0021667,       4723,    84.1,  23.1219,  35.2588,2,  35.2588,2,    214.1,1,  -999.0,9, -999.00,9, -999.00,9,  -999.0,      84,    23.1046, -999.00,9,     -999.0
33KI20100308,       PRS2,       2,          6,         12,       8012,2,20100310,       1957,  22.748500,-158.0021667,       4723,   100.9,  22.9153,  35.2659,2,  35.2635,2,    214.1,1,  -999.0,9, -999.00,9, -999.00,9,  -999.0,     101,    22.8948, -999.00,9,     -999.0
33KI20100308,       PRS2,       2,          6,         11,       8011,2,20100310,       1957,  22.748500,-158.0021667,       4723,   125.0,  21.6001,  35.2715,2,  35.2747,2,    208.0,1,  -999.0,9, -999.00,9, -999.00,9,  -999.0,     124,    21.5757, -999.00,9,     -999.0
33KI20100308,       PRS2,       2,          6,         10,       8010,2,20100310,       1957,  22.748500,-158.0021667,       4723,   150.5,  20.4765,  35.2426,2,  35.2394,2,    200.9,1,  -999.0,9, -999.00,9, -999.00,9,  -999.0,     151,    20.4481, -999.00,9,     -999.0
33KI20100308,       PRS2,       2,          6,          9,       8009,2,20100310,       1957,  22.748500,-158.0021667,       4723,   175.9,  19.6239,  35.1544,2,  35.1545,2,    197.5,1,  -999.0,9, -999.00,9, -999.00,9,  -999.0,     177,    19.5918, -999.00,9,     -999.0
33KI20100308,       PRS2,       2,          6,          8,       8008,2,20100310,       1957,  22.748500,-158.0021667,       4723,   200.5,  18.0467,  34.9179,2,-999.0000,5,    194.9,1,  -999.0,9, -999.00,9, -999.00,9,  -999.0,     200,    18.0122, -999.00,9,     -999.0
33KI20100308,       PRS2,       2,          6,          7,       8026,2,20100310,       1957,  22.748500,-158.0021667,       4723,   250.2,  15.1950,  34.5095,2,  34.5097,2,    193.2,1,  -999.0,9, -999.00,9, -999.00,9,  -999.0,     250,    15.1569, -999.00,9,     -999.0
33KI20100308,       PRS2,       2,          6,          6,       8006,2,20100310,       1957,  22.748500,-158.0021667,       4723,   301.1,  12.5194,  34.2335,2,-999.0000,5,    199.9,1,  -999.0,9, -999.00,9, -999.00,9,  -999.0,     301,    12.4791, -999.00,9,     -999.0
33KI20100308,       PRS2,       2,          6,          5,       8005,2,20100310,       1957,  22.748500,-158.0021667,       4723,   350.6,  10.7362,  34.1521,2,  34.1540,2,    196.5,1,  -999.0,9, -999.00,9, -999.00,9,  -999.0,     350,    10.6938, -999.00,9,     -999.0
33KI20100308,       PRS2,       2,          6,          4,       8004,2,20100310,       1957,  22.748500,-158.0021667,       4723,   502.4,   7.2113,  34.0618,2,-999.0000,5,    112.7,1,  -999.0,9, -999.00,9, -999.00,9,  -999.0,     503,     7.1631, -999.00,9,     -999.0
33KI20100308,       PRS2,       2,          6,          3,       8003,2,20100310,       1957,  22.748500,-158.0021667,       4723,   523.4,   6.8185,  34.0624,2,  34.0619,2,     99.8,1,  -999.0,9, -999.00,9, -999.00,9,  -999.0,     523,     6.7698, -999.00,9,     -999.0
33KI20100308,       PRS2,       2,          6,          2,       8002,2,20100310,       1957,  22.748500,-158.0021667,       4723,   770.2,   4.8308,  34.3629,2,-999.0000,5,     33.2,1,  -999.0,9, -999.00,9, -999.00,9,  -999.0,     769,     4.7691, -999.00,9,     -999.0
33KI20100308,       PRS2,       2,          6,          1,       8001,2,20100310,       1957,  22.748500,-158.0021667,       4723,  1019.8,   3.9416,  34.4899,2,  34.4885,2,     46.1,1,  -999.0,9, -999.00,9, -999.00,9,  -999.0,    1020,     3.8648, -999.00,9,     -999.0
33KI20100308,       PRS2,       2,          7,         22,       8022,2,20100310,       2302,  22.749000,-158.0005000,       4722,     4.7,  23.4360,  35.2726,2,-999.0000,5,    213.4,1,  -999.0,9, -999.00,9, -999.00,9,  -999.0,       5,    23.4350, -999.00,9,     -999.0
33KI20100308,       PRS2,       2,          7,         21,       8021,2,20100310,       2302,  22.749000,-158.0005000,       4722,     4.9,  23.4357,  35.2725,2,  35.2712,2,    213.4,1,  -999.0,9, -999.00,9, -999.00,9,  -999.0,       5,    23.4347, -999.00,9,     -999.0
33KI20100308,       PRS2,       2,          7,         20,       8020,2,20100310,       2302,  22.749000,-158.0005000,       4722,    24.9,  23.4208,  35.2726,2,-999.0000,5,    213.1,1,  -999.0,9, -999.00,9, -999.00,9,  -999.0,      24,    23.4156, -999.00,9,     -999.0
33KI20100308,       PRS2,       2,          7,         19,       8019,2,20100310,       2302,  22.749000,-158.0005000,       4722,    25.0,  23.4205,  35.2725,2,  35.2721,2,    213.1,1,  -999.0,9, -999.00,9, -999.00,9,  -999.0,      25,    23.4154, -999.00,9,     -999.0
33KI20100308,       PRS2,       2,          7,         18,       8018,2,20100310,       2302,  22.749000,-158.0005000,       4722,    45.5,  23.3872,  35.2721,2,-999.0000,5,    213.0,1,  -999.0,9, -999.00,9, -999.00,9,  -999.0,      45,    23.3778, -999.00,9,     -999.0
33KI20100308,       PRS2,       2,          7,         17,       8017,2,20100310,       2302,  22.749000,-158.0005000,       4722,    45.5,  23.3875,  35.2720,2,  35.2721,2,    213.1,1,  -999.0,9, -999.00,9, -999.00,9,  -999.0,      45,    23.3781, -999.00,9,     -999.0
33KI20100308,       PRS2,       2,          7,         16,       8016,2,20100310,       2302,  22.749000,-158.0005000,       4722,    59.7,  23.3542,  35.2724,2,  35.2720,2,    213.6,1,  -999.0,9, -999.00,9, -999.00,9,  -999.0,      61,    23.3419, -999.00,9,     -999.0
33KI20100308,       PRS2,       2,          7,         15,       8015,2,20100310,       2302,  22.749000,-158.0005000,       4722,    74.9,  23.2517,  35.2687,2,-999.0000,5,    213.6,1,  -999.0,9, -999.00,9, -999.00,9,  -999.0,      76,    23.2363, -999.00,9,     -999.0
33KI20100308,       PRS2,       2,          7,         14,       8014,2,20100310,       2302,  22.749000,-158.0005000,       4722,    74.9,  23.2522,  35.2690,2,  35.2682,2,    213.5,1,  -999.0,9, -999.00,9, -999.00,9,  -999.0,      75,    23.2367, -999.00,9,     -999.0
33KI20100308,       PRS2,       2,          7,         13,       8025,2,20100310,       2302,  22.749000,-158.0005000,       4722,    86.5,  23.1688,  35.2648,2,  35.2649,2,    214.2,1,  -999.0,9, -999.00,9, -999.00,9,  -999.0,      88,    23.1511, -999.00,9,     -999.0
33KI20100308,       PRS2,       2,          7,         12,       8012,2,20100310,       2302,  22.749000,-158.0005000,       4722,   100.4,  23.1052,  35.2584,2,-999.0000,5,    213.8,1,  -999.0,9, -999.00,9, -999.00,9,  -999.0,     101,    23.0847, -999.00,9,     -999.0
33KI20100308,       PRS2,       2,          7,         11,       8011,2,20100310,       2302,  22.749000,-158.0005000,       4722,   100.3,  23.1057,  35.2581,2,  35.2595,2,    213.8,1,  -999.0,9, -999.00,9, -999.00,9,  -999.0,     100,    23.0851, -999.00,9,     -999.0
33KI20100308,       PRS2,       2,          7,         10,       8010,2,20100310,       2302,  22.749000,-158.0005000,       4722,   113.5,  22.3607,  35.2347,2,  35.2353,2,    210.5,1,  -999.0,9, -999.00,9, -999.00,9,  -999.0,     112,    22.3380, -999.00,9,     -999.0
33KI20100308,       PRS2,       2,          7,          9,       8009,2,20100310,       2302,  22.749000,-158.0005000,       4722,   124.8,  21.7852,  35.2182,2,-999.0000,5,    211.5,1,  -999.0,9, -999.00,9, -999.00,9,  -999.0,     126,    21.7607, -999.00,9,     -999.0
33KI20100308,       PRS2,       2,          7,          8,       8008,2,20100310,       2302,  22.749000,-158.0005000,       4722,   124.9,  21.7844,  35.2183,2,  35.2186,2,    211.4,1,  -999.0,9, -999.00,9, -999.00,9,  -999.0,     125,    21.7599, -999.00,9,     -999.0
33KI20100308,       PRS2,       2,          7,          7,       8026,2,20100310,       2302,  22.749000,-158.0005000,       4722,   133.7,  21.5658,  35.2323,2,  35.2318,2,    209.2,1,  -999.0,9, -999.00,9, -999.00,9,  -999.0,     133,    21.5397, -999.00,9,     -999.0
33KI20100308,       PRS2,       2,          7,          6,       8006,2,20100310,       2302,  22.749000,-158.0005000,       4722,   152.2,  20.7959,  35.2345,2,-999.0000,5,    201.4,1,  -999.0,9, -999.00,9, -999.00,9,  -999.0,     152,    20.7670, -999.00,9,     -999.0
33KI20100308,       PRS2,       2,          7,          5,       8005,2,20100310,       2302,  22.749000,-158.0005000,       4722,   152.1,  20.7986,  35.2349,2,  35.2390,2,    201.3,1,  -999.0,9, -999.00,9, -999.00,9,  -999.0,     152,    20.7697, -999.00,9,     -999.0
33KI20100308,       PRS2,       2,          7,          4,       8004,2,20100310,       2302,  22.749000,-158.0005000,       4722,   175.5,  19.9478,  35.1594,2,-999.0000,5,    201.0,1,  -999.0,9, -999.00,9, -999.00,9,  -999.0,     175,    19.9154, -999.00,9,     -999.0
33KI20100308,       PRS2,       2,          7,          3,       8003,2,20100310,       2302,  22.749000,-158.0005000,       4722,   175.4,  19.9496,  35.1589,2,  35.1589,2,    200.8,1,  -999.0,9, -999.00,9, -999.00,9,  -999.0,     175,    19.9172, -999.00,9,     -999.0
33KI20100308,       PRS2,       2,          7,          2,       8002,2,20100310,       2302,  22.749000,-158.0005000,       4722,   503.1,   6.9291,  34.0615,2,  34.0672,2,    103.1,1,  -999.0,9, -999.00,9, -999.00,9,  -999.0,     503,     6.8820, -999.00,9,     -999.0
33KI20100308,       PRS2,       2,          7,          1,       8001,2,20100310,       2302,  22.749000,-158.0005000,       4722,  1011.4,   3.9396,  34.4851,2,  34.4866,2,     47.2,1,  -999.0,9, -999.00,9, -999.00,9,  -999.0,    1012,     3.8635, -999.00,9,     -999.0
33KI20100308,       PRS2,       2,          8,         22,       8022,2,20100311,       0155,  22.747500,-158.0048333,       4722,     4.1,  23.4823,  35.2745,2,  35.2737,2,    213.2,1,  -999.0,9, -999.00,9, -999.00,9,  -999.0,       4,    23.4815, -999.00,9,     -999.0
33KI20100308,       PRS2,       2,          8,         21,       8021,2,20100311,       0155,  22.747500,-158.0048333,       4722,    24.4,  23.4914,  35.2744,2,-999.0000,5,    213.3,1,  -999.0,9, -999.00,9, -999.00,9,  -999.0,      25,    23.4863, -999.00,9,     -999.0
33KI20100308,       PRS2,       2,          8,         20,       8020,2,20100311,       0155,  22.747500,-158.0048333,       4722,    24.3,  23.4877,  35.2741,2,-999.0000,5,    213.4,1,  -999.0,9, -999.00,9, -999.00,9,  -999.0,      24,    23.4826, -999.00,9,     -999.0
33KI20100308,       PRS2,       2,          8,         19,       8019,2,20100311,       0155,  22.747500,-158.0048333,       4722,    24.4,  23.4722,  35.2737,2,-999.0000,5,    213.5,1,  -999.0,9, -999.00,9, -999.00,9,  -999.0,      24,    23.4671, -999.00,9,     -999.0
33KI20100308,       PRS2,       2,          8,         18,       8018,2,20100311,       0155,  22.747500,-158.0048333,       4722,    24.3,  23.4739,  35.2735,2,-999.0000,5,    213.5,1,  -999.0,9, -999.00,9, -999.00,9,  -999.0,      24,    23.4689, -999.00,9,     -999.0
33KI20100308,       PRS2,       2,          8,         17,       8017,2,20100311,       0155,  22.747500,-158.0048333,       4722,    24.2,  23.4742,  35.2736,2,-999.0000,5,    213.5,1,  -999.0,9, -999.00,9, -999.00,9,  -999.0,      24,    23.4692, -999.00,9,     -999.0
33KI20100308,       PRS2,       2,          8,         16,       8016,2,20100311,       0155,  22.747500,-158.0048333,       4722,    24.2,  23.4740,  35.2737,2,  35.2737,2,    213.5,1,  -999.0,9, -999.00,9, -999.00,9,  -999.0,      24,    23.4690, -999.00,9,     -999.0
33KI20100308,       PRS2,       2,          8,         15,       8015,2,20100311,       0155,  22.747500,-158.0048333,       4722,    43.5,  23.4488,  35.2728,2,-999.0000,5,    213.4,1,  -999.0,9, -999.00,9, -999.00,9,  -999.0,      43,    23.4398, -999.00,9,     -999.0
33KI20100308,       PRS2,       2,          8,         14,       8014,2,20100311,       0155,  22.747500,-158.0048333,       4722,    43.4,  23.4641,  35.2735,2,-999.0000,5,    213.4,1,  -999.0,9, -999.00,9, -999.00,9,  -999.0,      44,    23.4551, -999.00,9,     -999.0
33KI20100308,       PRS2,       2,          8,         13,       8025,2,20100311,       0155,  22.747500,-158.0048333,       4722,    43.6,  23.4653,  35.2734,2,-999.0000,5,    213.4,1,  -999.0,9, -999.00,9, -999.00,9,  -999.0,      44,    23.4563, -999.00,9,     -999.0
33KI20100308,       PRS2,       2,          8,         12,       8012,2,20100311,       0155,  22.747500,-158.0048333,       4722,    43.8,  23.4650,  35.2736,2,-999.0000,5,    213.4,1,  -999.0,9, -999.00,9, -999.00,9,  -999.0,      45,    23.4559, -999.00,9,     -999.0
33KI20100308,       PRS2,       2,          8,         11,       8011,2,20100311,       0155,  22.747500,-158.0048333,       4722,    43.9,  23.4557,  35.2729,2,-999.0000,5,    213.4,1,  -999.0,9, -999.00,9, -999.00,9,  -999.0,      44,    23.4467, -999.00,9,     -999.0
33KI20100308,       PRS2,       2,          8,         10,       8010,2,20100311,       0155,  22.747500,-158.0048333,       4722,    44.0,  23.4423,  35.2731,2,  35.2729,2,    213.3,1,  -999.0,9, -999.00,9, -999.00,9,  -999.0,      46,    23.4332, -999.00,9,     -999.0
33KI20100308,       PRS2,       2,          8,          9,       8009,2,20100311,       0155,  22.747500,-158.0048333,       4722,    73.9,  23.2358,  35.2879,2,  35.2875,2,    213.8,1,  -999.0,9, -999.00,9, -999.00,9,  -999.0,      75,    23.2206, -999.00,9,     -999.0
33KI20100308,       PRS2,       2,          8,          8,       8008,2,20100311,       0155,  22.747500,-158.0048333,       4722,   100.0,  22.4130,  35.3557,2,  35.3492,2,    209.4,1,  -999.0,9, -999.00,9, -999.00,9,  -999.0,     101,    22.3929, -999.00,9,     -999.0
33KI20100308,       PRS2,       2,          8,          7,       8026,2,20100311,       0155,  22.747500,-158.0048333,       4722,   124.9,  20.9696,  35.1943,2,-999.0000,5,    206.9,1,  -999.0,9, -999.00,9, -999.00,9,  -999.0,     126,    20.9457, -999.00,9,     -999.0
33KI20100308,       PRS2,       2,          8,          6,       8006,2,20100311,       0155,  22.747500,-158.0048333,       4722,   124.9,  20.9694,  35.1943,2,  35.1939,2,    206.8,1,  -999.0,9, -999.00,9, -999.00,9,  -999.0,     126,    20.9455, -999.00,9,     -999.0
33KI20100308,       PRS2,       2,          8,          5,       8005,2,20100311,       0155,  22.747500,-158.0048333,       4722,   148.8,  20.5284,  35.2315,2,  35.2302,2,    202.2,1,  -999.0,9, -999.00,9, -999.00,9,  -999.0,     149,    20.5004, -999.00,9,     -999.0
33KI20100308,       PRS2,       2,          8,          4,       8004,2,20100311,       0155,  22.747500,-158.0048333,       4722,   175.9,  19.6028,  35.1535,2,  35.1542,2,    197.9,1,  -999.0,9, -999.00,9, -999.00,9,  -999.0,     176,    19.5708, -999.00,9,     -999.0
33KI20100308,       PRS2,       2,          8,          3,       8003,2,20100311,       0155,  22.747500,-158.0048333,       4722,   200.1,  18.4756,  34.9901,2,-999.0000,5,    195.0,1,  -999.0,9, -999.00,9, -999.00,9,  -999.0,     199,    18.4406, -999.00,9,     -999.0
33KI20100308,       PRS2,       2,          8,          2,       8002,2,20100311,       0155,  22.747500,-158.0048333,       4722,   526.1,   6.9161,  34.0619,2,  34.0623,2,    103.4,1,  -999.0,9, -999.00,9, -999.00,9,  -999.0,     525,     6.8667, -999.00,9,     -999.0
33KI20100308,       PRS2,       2,          8,          1,       8001,2,20100311,       0155,  22.747500,-158.0048333,       4722,  1018.5,   3.9938,  34.4841,2,  34.4838,2,     45.5,1,  -999.0,9, -999.00,9, -999.00,9,  -999.0,    1018,     3.9167, -999.00,9,     -999.0