BOTTLE,20141031SIOCCHAMB
EXPOCODE,SECT_ID,STNNBR,CASTNO,SAMPNO,BTLNBR,BTLNBR_FLAG_W,DATE,TIME,LATITUDE,LONGITUDE,DEPTH,CTDPRS,CTDTMP,CTDSAL,CTDSAL_FLAG_W,SALNTY,SALNTY_FLAG_W,CTDOXY,CTDOXY_FLAG_W,OXYGEN,OXYGEN_FLAG_W,SILCAT,SILCAT_FLAG_W,PHSPHT,PHSPHT_FLAG_W,REVPRS,CTDRAW,THETA,NO2+NO3,NO2+NO3_FLAG_W,REVTMP
,,,,,,,,,,,METERS,DBAR,ITS-90,PSS-78,,PSS-78,,UMOL/KG,,UMOL/KG,,UMOL/KG,,UMOL/KG,,DBAR,DBAR,ITS-90,UMOL/KG,,DEG C
33KI20100308,       PRS2,       1,          1,         24,       8024,2,20100308,       2319,  21.343500,-158.2728333,       1506,     5.1,  23.8311,  35.2114,2,  35.2239,2,    212.2,2,   212.1,2, -999.00,9, -999.00,9,  -999.0,       5,    23.8300, -999.00,9,     -999.0
33KI20100308,       PRS2,       1,          1,         23,       8023,2,20100308,       2319,  21.343500,-158.2728333,       1506,     5.2,  23.8218,  35.2150,2,  35.2298,3,    212.2,3,   212.3,2, -999.00,9, -999.00,9,  -999.0,       5,    23.8207, -999.00,9,     -999.0
33KI20100308,       PRS2,       1,          1,         22,       8022,2,20100308,       2319,  21.343500,-158.2728333,       1506,    26.6,  23.2132,  35.4089,2,  35.4056,2,    214.0,2,   214.3,2, -999.00,9, -999.00,9,  -999.0,      26,    23.2078, -999.00,9,     -999.0
33KI20100308,       PRS2,       1,          1,         21,       8021,2,20100308,       2319,  21.343500,-158.2728333,       1506,    46.1,  23.1531,  35.4024,2,  35.4014,2,    214.3,2,   213.2,2, -999.00,9, -999.00,9,  -999.0,      46,    23.1436, -999.00,9,     -999.0
33KI20100308,       PRS2,       1,          1,         20,       8020,2,20100308,       2319,  21.343500,-158.2728333,       1506,    60.2,  23.1383,  35.3998,2,  35.4007,2,    214.0,2,   214.6,2, -999.00,9, -999.00,9,  -999.0,      60,    23.1259, -999.00,9,     -999.0
33KI20100308,       PRS2,       1,          1,         19,       8019,2,20100308,       2319,  21.343500,-158.2728333,       1506,    75.2,  23.1322,  35.3986,2,  35.3993,2,    214.2,2,   213.7,2, -999.00,9, -999.00,9,  -999.0,      75,    23.1167, -999.00,9,     -999.0
33KI20100308,       PRS2,       1,          1,         18,       8018,2,20100308,       2319,  21.343500,-158.2728333,       1506,   103.9,  22.3884,  35.3454,2,  35.3569,3,    213.2,3,   203.1,4, -999.00,9, -999.00,9,  -999.0,     104,    22.3676, -999.00,9,     -999.0
33KI20100308,       PRS2,       1,          1,         17,       8017,2,20100308,       2319,  21.343500,-158.2728333,       1506,   116.9,  21.8761,  35.3357,2,  35.3332,2,    211.8,2,   211.3,2, -999.00,9, -999.00,9,  -999.0,     117,    21.8531, -999.00,9,     -999.0
33KI20100308,       PRS2,       1,          1,         16,       8016,2,20100308,       2319,  21.343500,-158.2728333,       1506,   123.3,  20.8410,  35.2646,2,  35.2605,2,    204.4,2,   203.8,2, -999.00,9, -999.00,9,  -999.0,     123,    20.8176, -999.00,9,     -999.0
33KI20100308,       PRS2,       1,          1,         15,       8015,2,20100308,       2319,  21.343500,-158.2728333,       1506,   148.6,  19.6317,  35.1409,2,  35.1410,2,    195.6,2,   197.0,2, -999.00,9, -999.00,9,  -999.0,     148,    19.6046, -999.00,9,     -999.0
33KI20100308,       PRS2,       1,          1,         14,       8014,2,20100308,       2319,  21.343500,-158.2728333,       1506,   174.7,  18.6477,  34.9748,2,  34.9717,2,    190.1,2,   191.2,2, -999.00,9, -999.00,9,  -999.0,     175,    18.6169, -999.00,9,     -999.0
33KI20100308,       PRS2,       1,          1,         13,       8025,2,20100308,       2319,  21.343500,-158.2728333,       1506,   204.0,  17.1407,  34.7530,2,  34.7579,2,    187.3,2,   187.5,2, -999.00,9, -999.00,9,  -999.0,     204,    17.1069, -999.00,9,     -999.0
33KI20100308,       PRS2,       1,          1,         12,       8012,2,20100308,       2319,  21.343500,-158.2728333,       1506,   234.8,  15.3849,  34.5227,2,  34.5863,3,    186.4,3,   186.5,2, -999.00,9, -999.00,9,  -999.0,     235,    15.3488, -999.00,9,     -999.0
33KI20100308,       PRS2,       1,          1,         11,       8011,2,20100308,       2319,  21.343500,-158.2728333,       1506,   256.3,  14.0335,  34.3817,2,  34.4033,3,    187.1,3,   187.5,2, -999.00,9, -999.00,9,  -999.0,     256,    13.9965, -999.00,9,     -999.0
33KI20100308,       PRS2,       1,          1,         10,       8010,2,20100308,       2319,  21.343500,-158.2728333,       1506,   302.7,  11.9877,  34.2216,2,  34.2273,2,    189.1,2,   187.9,2, -999.00,9, -999.00,9,  -999.0,     303,    11.9484, -999.00,9,     -999.0
33KI20100308,       PRS2,       1,          1,          9,       8009,2,20100308,       2319,  21.343500,-158.2728333,       1506,   349.5,  10.2228,  34.1357,2,  34.1364,2,    179.5,2,   180.0,2, -999.00,9, -999.00,9,  -999.0,     349,    10.1818, -999.00,9,     -999.0
33KI20100308,       PRS2,       1,          1,          8,       8008,2,20100308,       2319,  21.343500,-158.2728333,       1506,   400.4,   9.0251,  34.1102,2,  34.1101,2,    152.1,2,   151.5,2, -999.00,9, -999.00,9,  -999.0,     400,     8.9815, -999.00,9,     -999.0
33KI20100308,       PRS2,       1,          1,          7,       8026,2,20100308,       2319,  21.343500,-158.2728333,       1506,   504.3,   7.0046,  34.1204,2,  34.1158,2,     92.9,2,    92.8,2, -999.00,9, -999.00,9,  -999.0,     505,     6.9570, -999.00,9,     -999.0
33KI20100308,       PRS2,       1,          1,          6,       8006,2,20100308,       2319,  21.343500,-158.2728333,       1506,   608.6,   5.9117,  34.1888,2,  34.1848,2,     56.9,2,    56.8,2, -999.00,9, -999.00,9,  -999.0,     609,     5.8588, -999.00,9,     -999.0
33KI20100308,       PRS2,       1,          1,          5,       8005,2,20100308,       2319,  21.343500,-158.2728333,       1506,   697.0,   5.1629,  34.2854,2,  34.2870,2,     39.2,2,    45.7,4, -999.00,9, -999.00,9,  -999.0,     697,     5.1057, -999.00,9,     -999.0
33KI20100308,       PRS2,       1,          1,          4,       8004,2,20100308,       2319,  21.343500,-158.2728333,       1506,   748.8,   4.9680,  34.3591,2,  34.3592,2,     36.0,2,    35.8,2, -999.00,9, -999.00,9,  -999.0,     749,     4.9073, -999.00,9,     -999.0
33KI20100308,       PRS2,       1,          1,          3,       8003,2,20100308,       2319,  21.343500,-158.2728333,       1506,   898.7,   4.4358,  34.4431,2,  34.4432,2,     41.5,2,    41.3,2, -999.00,9, -999.00,9,  -999.0,     899,     4.3656, -999.00,9,     -999.0
33KI20100308,       PRS2,       1,          1,          2,       8002,2,20100308,       2319,  21.343500,-158.2728333,       1506,   898.7,   4.4362,  34.4435,2,  34.4436,2,     41.5,2,    42.1,2, -999.00,9, -999.00,9,  -999.0,     899,     4.3660, -999.00,9,     -999.0
33KI20100308,       PRS2,       1,          1,          1,       8001,2,20100308,       2319,  21.343500,-158.2728333,       1506,  1015.0,   4.0894,  34.4929,2,  34.4923,2,     46.4,2,    46.4,2, -999.00,9, -999.00,9,  -999.0,    1015,     4.0119, -999.00,9,     -999.0
33KI20100308,       PRS2,       2,          1,         24,       8024,2,20100309,       1522,  22.746500,-158.0023333,       4722,     5.5,  23.0629,  35.2514,2,  35.2511,2,    214.1,2,   213.9,2,    1.27,2,    0.10,2,  -999.0,       5,    23.0618,    0.03,2,     -999.0
33KI20100308,       PRS2,       2,          1,         23,       8023,2,20100309,       1522,  22.746500,-158.0023333,       4722,    59.6,  23.0670,  35.2506,2,  35.2517,2,    214.6,2,   215.4,2,    1.41,2,    0.11,2,  -999.0,      59,    23.0548,    0.06,2,     -999.0
33KI20100308,       PRS2,       2,          1,         22,       8022,2,20100309,       1522,  22.746500,-158.0023333,       4722,    90.7,  21.7697,  35.1897,2,  35.1916,2,    213.4,2,   212.3,2,    1.57,2,    0.12,2,  -999.0,      89,    21.7519,    0.08,2,     -999.0
33KI20100308,       PRS2,       2,          1,         21,       8021,2,20100309,       1522,  22.746500,-158.0023333,       4722,   119.4,  20.7957,  35.1666,2,  35.1671,2,    208.5,2,   209.3,2,    1.79,2,    0.15,2,  -999.0,     119,    20.7731,    0.50,2,     -999.0
33KI20100308,       PRS2,       2,          1,         20,       8020,2,20100309,       1522,  22.746500,-158.0023333,       4722,   153.6,  20.1517,  35.2192,2,  35.2170,2,    204.6,2,   204.0,2,    2.07,2,    0.15,2,  -999.0,     154,    20.1231,    1.15,2,     -999.0
33KI20100308,       PRS2,       2,          1,         19,       8019,2,20100309,       1522,  22.746500,-158.0023333,       4722,   231.4,  16.3243,  34.6606,2,  34.6665,2,    193.6,2,   194.5,2,    4.56,2,    0.41,2,  -999.0,     231,    16.2873,    5.26,2,     -999.0
33KI20100308,       PRS2,       2,          1,         18,       8018,2,20100309,       1522,  22.746500,-158.0023333,       4722,   306.1,  11.9711,  34.2148,2,  34.2140,2,    199.8,2,   200.4,2,   11.69,2,    0.86,2,  -999.0,     306,    11.9313,   12.00,2,     -999.0
33KI20100308,       PRS2,       2,          1,         17,       8017,2,20100309,       1522,  22.746500,-158.0023333,       4722,   321.0,  11.4653,  34.1869,2,  34.1877,2,    199.7,2,   200.1,2,   13.31,2,    0.94,2,  -999.0,     320,    11.4248,   13.13,2,     -999.0
33KI20100308,       PRS2,       2,          1,         16,       8016,2,20100309,       1522,  22.746500,-158.0023333,       4722,   357.7,  10.4012,  34.1387,2,  34.1389,2,    194.2,2,   192.3,2,   17.86,2,    1.13,2,  -999.0,     357,    10.3588,   15.95,2,     -999.0
33KI20100308,       PRS2,       2,          1,         15,       8015,2,20100309,       1522,  22.746500,-158.0023333,       4722,   423.2,   8.7239,  34.0818,2,  34.0817,2,    158.9,2,   159.1,2,   30.87,2,    1.61,2,  -999.0,     424,     8.6787,   22.68,2,     -999.0
33KI20100308,       PRS2,       2,          1,         14,       8014,2,20100309,       1522,  22.746500,-158.0023333,       4722,   494.1,   7.2935,  34.0643,2,  34.0646,2,    113.3,2,   112.7,2,   46.27,2,    2.11,2,  -999.0,     494,     7.2459,   29.34,2,     -999.0
33KI20100308,       PRS2,       2,          1,         13,       8025,2,20100309,       1522,  22.746500,-158.0023333,       4722,   500.4,   7.1905,  34.0634,2,  34.0639,2,    109.5,2,   109.7,2,   47.82,2,    2.15,2,  -999.0,     501,     7.1426,   29.80,2,     -999.0
33KI20100308,       PRS2,       2,          1,         12,       8012,2,20100309,       1522,  22.746500,-158.0023333,       4722,   520.3,   6.7796,  34.0736,2,  34.0746,2,     93.4,2,    94.5,2,   54.10,2,    2.32,2,  -999.0,     520,     6.7314,   31.79,2,     -999.0
33KI20100308,       PRS2,       2,          1,         11,       8011,2,20100309,       1522,  22.746500,-158.0023333,       4722,   577.8,   6.1274,  34.1115,2,  34.1087,2,     69.4,2,    69.2,2,   64.41,2,    2.56,2,  -999.0,     577,     6.0764,   34.99,2,     -999.0
33KI20100308,       PRS2,       2,          1,         10,       8010,2,20100309,       1522,  22.746500,-158.0023333,       4722,   615.0,   5.6983,  34.1528,2,  34.1519,2,     51.6,2,    49.3,2,   73.11,2,    2.75,2,  -999.0,     616,     5.6458,   37.39,2,     -999.0
33KI20100308,       PRS2,       2,          1,          9,       8009,2,20100309,       1522,  22.746500,-158.0023333,       4722,   682.6,   5.2739,  34.2411,2,  34.2407,2,     31.6,2,    32.9,2,   84.89,2,    2.95,2,  -999.0,     682,     5.2175,   39.79,2,     -999.0
33KI20100308,       PRS2,       2,          1,          8,       8008,2,20100309,       1522,  22.746500,-158.0023333,       4722,   694.0,   5.2554,  34.2508,2,  34.2505,2,     31.4,2,    31.2,2,   84.50,2,    2.96,2,  -999.0,     694,     5.1980,   39.80,2,     -999.0
33KI20100308,       PRS2,       2,          1,          7,       8026,2,20100309,       1522,  22.746500,-158.0023333,       4722,   756.0,   4.9772,  34.3246,2,  34.3235,2,     32.3,2,    34.7,2,   90.73,2,    2.97,2,  -999.0,     757,     4.9159,   40.05,2,     -999.0
33KI20100308,       PRS2,       2,          1,          6,       8006,2,20100309,       1522,  22.746500,-158.0023333,       4722,   829.8,   4.5210,  34.3948,2,  34.3951,2,     37.0,2,    36.5,2,   99.34,2,    2.97,2,  -999.0,     829,     4.4561,   40.55,2,     -999.0
33KI20100308,       PRS2,       2,          1,          5,       8005,2,20100309,       1522,  22.746500,-158.0023333,       4722,   869.9,   4.3805,  34.4160,2,  34.4180,2,     38.7,2,    38.7,2,  106.51,3,    2.98,2,  -999.0,     871,     4.3131,   40.66,2,     -999.0
33KI20100308,       PRS2,       2,          1,          4,       8004,2,20100309,       1522,  22.746500,-158.0023333,       4722,   912.9,   4.2783,  34.4345,2,  34.4341,2,     40.2,2,    39.6,2,  104.85,2,    2.99,2,  -999.0,     912,     4.2080,   41.12,2,     -999.0
33KI20100308,       PRS2,       2,          1,          3,       8003,2,20100309,       1522,  22.746500,-158.0023333,       4722,   953.9,   4.1472,  34.4510,2,  34.4522,2,     43.0,2,    43.4,2,  106.66,2,    2.99,2,  -999.0,     955,     4.0744,   40.76,2,     -999.0
33KI20100308,       PRS2,       2,          1,          2,       8002,2,20100309,       1522,  22.746500,-158.0023333,       4722,   994.2,   4.0228,  34.4667,2,  34.4661,2,     45.4,2,    44.9,2,  110.83,2,    2.99,2,  -999.0,     994,     3.9475,   40.84,2,     -999.0
33KI20100308,       PRS2,       2,          1,          1,       8001,2,20100309,       1522,  22.746500,-158.0023333,       4722,  1023.3,   3.8985,  34.4806,2,  34.4809,2,     48.4,2,    48.8,2,  111.57,2,    2.98,2,  -999.0,    1024,     3.8218,   40.82,2,     -999.0
33KI20100308,       PRS2,       2,          2,         24,       8024,2,20100309,       1822,  22.748667,-158.0000000,       4722,     5.3,  23.0785,  35.2521,2,  35.2522,2,    215.0,2,   214.1,2,    1.40,2,    0.09,2,  -999.0,       5,    23.0774,    0.04,2,     -999.0
33KI20100308,       PRS2,       2,          2,         23,       8023,2,20100309,       1822,  22.748667,-158.0000000,       4722,   492.0,   7.4874,  34.0684,2,  34.0670,2,    119.1,2,   119.1,2,   45.21,2,    2.03,2,  -999.0,     491,     7.4392,   28.04,2,     -999.0
33KI20100308,       PRS2,       2,          2,         22,       8022,2,20100309,       1822,  22.748667,-158.0000000,       4722,   743.3,   5.0042,  34.3182,2,  34.3150,2,     32.4,2,    31.6,2,   89.57,2,    2.90,3,  -999.0,     743,     4.9439,   40.01,2,     -999.0
33KI20100308,       PRS2,       2,          2,         21,       8021,2,20100309,       1822,  22.748667,-158.0000000,       4722,   998.9,   3.9576,  34.4834,2,  34.4828,2,     48.4,2,    47.4,2,  110.54,2,    2.98,2,  -999.0,     999,     3.8824,   40.94,2,     -999.0
33KI20100308,       PRS2,       2,          2,         20,       8020,2,20100309,       1822,  22.748667,-158.0000000,       4722,  1196.2,   3.4780,  34.5280,2,  34.5270,2,     53.8,2,    54.6,2,  120.85,2,    2.97,2,  -999.0,    1197,     3.3905,   40.97,2,     -999.0
33KI20100308,       PRS2,       2,          2,         19,       8019,2,20100309,       1822,  22.748667,-158.0000000,       4722,  1400.5,   3.0817,  34.5576,2,  34.5569,2,     64.3,2,    60.6,4,  129.70,2,    2.96,2,  -999.0,    1400,     2.9813,   40.87,2,     -999.0
33KI20100308,       PRS2,       2,          2,         18,       8018,2,20100309,       1822,  22.748667,-158.0000000,       4722,  1600.1,   2.6978,  34.5779,2,  34.5767,2,     70.5,2,    70.7,2,  138.35,2,    2.91,2,  -999.0,    1600,     2.5852,   40.38,2,     -999.0
33KI20100308,       PRS2,       2,          2,         17,       8017,2,20100309,       1822,  22.748667,-158.0000000,       4722,  1800.6,   2.3527,  34.6002,2,  34.6001,2,     80.7,2,    81.4,2,  147.65,2,    2.87,2,  -999.0,    1800,     2.2279,   39.86,2,     -999.0
33KI20100308,       PRS2,       2,          2,         16,       8016,2,20100309,       1822,  22.748667,-158.0000000,       4722,  1999.6,   2.1054,  34.6200,2,  34.6201,2,     90.9,2,    90.6,2,  151.31,2,    2.81,2,  -999.0,    2000,     1.9675,   39.27,2,     -999.0
33KI20100308,       PRS2,       2,          2,         15,       8015,2,20100309,       1822,  22.748667,-158.0000000,       4722,  2199.2,   1.9362,  34.6326,2,  34.6329,2,     97.1,2,    97.7,2,  155.00,2,    2.80,3,  -999.0,    2200,     1.7838,   38.85,2,     -999.0
33KI20100308,       PRS2,       2,          2,         14,       8014,2,20100309,       1822,  22.748667,-158.0000000,       4722,  2403.4,   1.7864,  34.6438,2,  34.6445,2,    104.8,2,   104.2,2,  157.94,2,    2.73,2,  -999.0,    2404,     1.6187,   38.29,2,     -999.0
33KI20100308,       PRS2,       2,          2,         13,       8025,2,20100309,       1822,  22.748667,-158.0000000,       4722,  2603.0,   1.6741,  34.6532,2,  34.6543,2,    111.0,2,   111.7,2,  160.41,2,    2.71,2,  -999.0,    2604,     1.4907,   38.10,2,     -999.0
33KI20100308,       PRS2,       2,          2,         12,       8012,2,20100309,       1822,  22.748667,-158.0000000,       4722,  2802.3,   1.6065,  34.6608,2,  34.6614,2,    118.9,2,   118.9,2,  159.94,2,    2.67,2,  -999.0,    2803,     1.4061,   37.62,2,     -999.0
33KI20100308,       PRS2,       2,          2,         11,       8011,2,20100309,       1822,  22.748667,-158.0000000,       4722,  3000.5,   1.5510,  34.6671,2,  34.6730,4,    125.9,3,   126.2,2,  159.03,2,    2.62,2,  -999.0,    3002,     1.3330,   37.01,2,     -999.0
33KI20100308,       PRS2,       2,          2,         10,       8010,2,20100309,       1822,  22.748667,-158.0000000,       4722,  3194.9,   1.5080,  34.6722,2,  34.6726,2,    130.7,2,   131.2,2,  158.74,2,    2.60,2,  -999.0,    3195,     1.2722,   36.75,2,     -999.0
33KI20100308,       PRS2,       2,          2,          9,       8009,2,20100309,       1822,  22.748667,-158.0000000,       4722,  3398.8,   1.4721,  34.6770,2,  34.6767,2,    137.3,2,   137.1,2,  156.67,2,    2.57,2,  -999.0,    3400,     1.2170,   36.35,2,     -999.0
33KI20100308,       PRS2,       2,          2,          8,       8008,2,20100309,       1822,  22.748667,-158.0000000,       4722,  3597.0,   1.4559,  34.6803,2,  34.6800,2,    142.3,2,   142.3,2,  154.89,2,    2.54,2,  -999.0,    3596,     1.1809,   36.13,2,     -999.0
33KI20100308,       PRS2,       2,          2,          7,       8026,2,20100309,       1822,  22.748667,-158.0000000,       4722,  3799.9,   1.4533,  34.6825,2,  34.6816,2,    145.4,2,   145.8,2,  153.67,2,    2.52,2,  -999.0,    3801,     1.1572,   35.83,2,     -999.0
33KI20100308,       PRS2,       2,          2,          6,       8006,2,20100309,       1822,  22.748667,-158.0000000,       4722,  4000.7,   1.4565,  34.6841,2,  34.6846,2,    147.9,2,   147.7,2,  153.85,2,    2.51,2,  -999.0,    4001,     1.1388,   35.74,2,     -999.0
33KI20100308,       PRS2,       2,          2,          5,       8005,2,20100309,       1822,  22.748667,-158.0000000,       4722,  4200.3,   1.4638,  34.6852,2,  34.6855,2,    150.3,2,   150.6,2,  151.55,2,    2.49,2,  -999.0,    4201,     1.1239,   35.43,2,     -999.0
33KI20100308,       PRS2,       2,          2,          4,       8004,2,20100309,       1822,  22.748667,-158.0000000,       4722,  4400.8,   1.4767,  34.6861,2,  34.6865,2,    151.9,2,   151.1,2,  150.99,2,    2.48,2,  -999.0,    4400,     1.1138,   35.44,2,     -999.0
33KI20100308,       PRS2,       2,          2,          3,       8003,2,20100309,       1822,  22.748667,-158.0000000,       4722,  4499.5,   1.4847,  34.6864,2,  34.6869,2,    152.4,2,   152.3,2,  149.93,2,    2.48,2,  -999.0,    4500,     1.1103,   35.43,2,     -999.0
33KI20100308,       PRS2,       2,          2,          2,       8002,2,20100309,       1822,  22.748667,-158.0000000,       4722,  4600.0,   1.4939,  34.6870,2,  34.6875,2,    153.3,2,   153.3,2,  150.36,2,    2.48,2,  -999.0,    4599,     1.1075,   35.40,2,     -999.0
33KI20100308,       PRS2,       2,          2,          1,       8001,2,20100309,       1822,  22.748667,-158.0000000,       4722,  4808.7,   1.5048,  34.6880,2,  34.6893,2,    155.1,2,   154.8,2,  148.17,2,    2.47,2,  -999.0,    4809,     1.0934,   35.37,2,     -999.0