BOTTLE,20141031SIOCCHAMB
EXPOCODE,SECT_ID,STNNBR,CASTNO,SAMPNO,BTLNBR,BTLNBR_FLAG_W,DATE,TIME,LATITUDE,LONGITUDE,DEPTH,CTDPRS,CTDTMP,CTDSAL,CTDSAL_FLAG_W,SALNTY,SALNTY_FLAG_W,CTDOXY,CTDOXY_FLAG_W,OXYGEN,OXYGEN_FLAG_W,SILCAT,SILCAT_FLAG_W,PHSPHT,PHSPHT_FLAG_W,REVPRS,CTDRAW,THETA,NO2+NO3,NO2+NO3_FLAG_W,REVTMP
,,,,,,,,,,,METERS,DBAR,ITS-90,PSS-78,,PSS-78,,UMOL/KG,,UMOL/KG,,UMOL/KG,,UMOL/KG,,DBAR,DBAR,ITS-90,UMOL/KG,,DEG C
33KI20100308,       PRS2,       2,          9,         24,       8024,2,20100311,       0502,  22.751667,-158.0063333,       4724,     5.1,  23.4446,  35.2754,2,  35.2749,2,    213.4,1,  -999.0,9, -999.00,9, -999.00,9,  -999.0,       5,    23.4435, -999.00,9,     -999.0
33KI20100308,       PRS2,       2,          9,         23,       8023,2,20100311,       0502,  22.751667,-158.0063333,       4724,    15.2,  23.4514,  35.2753,2,  35.2751,2,    213.4,1,  -999.0,9, -999.00,9, -999.00,9,  -999.0,      15,    23.4483, -999.00,9,     -999.0
33KI20100308,       PRS2,       2,          9,         22,       8022,2,20100311,       0502,  22.751667,-158.0063333,       4724,    25.1,  23.4493,  35.2746,2,  35.2745,2,    213.4,1,  -999.0,9, -999.00,9, -999.00,9,  -999.0,      25,    23.4441, -999.00,9,     -999.0
33KI20100308,       PRS2,       2,          9,         21,       8021,2,20100311,       0502,  22.751667,-158.0063333,       4724,    35.3,  23.4266,  35.2743,2,  35.2755,2,    213.6,1,  -999.0,9, -999.00,9, -999.00,9,  -999.0,      35,    23.4193, -999.00,9,     -999.0
33KI20100308,       PRS2,       2,          9,         20,       8020,2,20100311,       0502,  22.751667,-158.0063333,       4724,    35.2,  23.4261,  35.2740,2,  35.2745,2,    213.6,1,  -999.0,9, -999.00,9, -999.00,9,  -999.0,      35,    23.4188, -999.00,9,     -999.0
33KI20100308,       PRS2,       2,          9,         19,       8019,2,20100311,       0502,  22.751667,-158.0063333,       4724,    43.6,  23.3164,  35.2734,2,  35.2741,2,    213.3,1,  -999.0,9, -999.00,9, -999.00,9,  -999.0,      44,    23.3074, -999.00,9,     -999.0
33KI20100308,       PRS2,       2,          9,         18,       8018,2,20100311,       0502,  22.751667,-158.0063333,       4724,    60.4,  23.2212,  35.2827,2,  35.2836,2,    213.9,1,  -999.0,9, -999.00,9, -999.00,9,  -999.0,      60,    23.2088, -999.00,9,     -999.0
33KI20100308,       PRS2,       2,          9,         17,       8017,2,20100311,       0502,  22.751667,-158.0063333,       4724,    74.2,  23.2258,  35.2894,2,-999.0000,5,    213.8,1,  -999.0,9, -999.00,9, -999.00,9,  -999.0,      75,    23.2105, -999.00,9,     -999.0
33KI20100308,       PRS2,       2,          9,         16,       8016,2,20100311,       0502,  22.751667,-158.0063333,       4724,    74.1,  23.2259,  35.2894,2,-999.0000,5,    213.8,1,  -999.0,9, -999.00,9, -999.00,9,  -999.0,      74,    23.2107, -999.00,9,     -999.0
33KI20100308,       PRS2,       2,          9,         15,       8015,2,20100311,       0502,  22.751667,-158.0063333,       4724,    73.9,  23.2259,  35.2892,2,-999.0000,5,    213.8,1,  -999.0,9, -999.00,9, -999.00,9,  -999.0,      73,    23.2107, -999.00,9,     -999.0
33KI20100308,       PRS2,       2,          9,         14,       8014,2,20100311,       0502,  22.751667,-158.0063333,       4724,    74.0,  23.2252,  35.2890,2,-999.0000,5,    213.6,1,  -999.0,9, -999.00,9, -999.00,9,  -999.0,      75,    23.2100, -999.00,9,     -999.0
33KI20100308,       PRS2,       2,          9,         13,       8025,2,20100311,       0502,  22.751667,-158.0063333,       4724,    74.0,  23.2235,  35.2891,2,-999.0000,5,    213.4,1,  -999.0,9, -999.00,9, -999.00,9,  -999.0,      74,    23.2082, -999.00,9,     -999.0
33KI20100308,       PRS2,       2,          9,         12,       8012,2,20100311,       0502,  22.751667,-158.0063333,       4724,    74.1,  23.2224,  35.2888,2,  35.2928,2,    213.5,1,  -999.0,9, -999.00,9, -999.00,9,  -999.0,      75,    23.2072, -999.00,9,     -999.0
33KI20100308,       PRS2,       2,          9,         11,       8011,2,20100311,       0502,  22.751667,-158.0063333,       4724,    99.9,  22.0336,  35.3035,2,  35.3163,2,    209.6,1,  -999.0,9, -999.00,9, -999.00,9,  -999.0,     100,    22.0138, -999.00,9,     -999.0
33KI20100308,       PRS2,       2,          9,         10,       8010,2,20100311,       0502,  22.751667,-158.0063333,       4724,   124.1,  21.0670,  35.2074,2,-999.0000,5,    209.1,1,  -999.0,9, -999.00,9, -999.00,9,  -999.0,     124,    21.0432, -999.00,9,     -999.0
33KI20100308,       PRS2,       2,          9,          9,       8009,2,20100311,       0502,  22.751667,-158.0063333,       4724,   124.1,  21.0660,  35.2078,2,-999.0000,5,    208.9,1,  -999.0,9, -999.00,9, -999.00,9,  -999.0,     125,    21.0421, -999.00,9,     -999.0
33KI20100308,       PRS2,       2,          9,          8,       8008,2,20100311,       0502,  22.751667,-158.0063333,       4724,   124.4,  21.0652,  35.2070,2,-999.0000,5,    208.6,1,  -999.0,9, -999.00,9, -999.00,9,  -999.0,     125,    21.0414, -999.00,9,     -999.0
33KI20100308,       PRS2,       2,          9,          7,       8026,2,20100311,       0502,  22.751667,-158.0063333,       4724,   124.4,  21.0695,  35.2076,2,-999.0000,5,    208.2,1,  -999.0,9, -999.00,9, -999.00,9,  -999.0,     124,    21.0456, -999.00,9,     -999.0
33KI20100308,       PRS2,       2,          9,          6,       8006,2,20100311,       0502,  22.751667,-158.0063333,       4724,   124.2,  21.0744,  35.2081,2,-999.0000,5,    207.8,1,  -999.0,9, -999.00,9, -999.00,9,  -999.0,     125,    21.0506, -999.00,9,     -999.0
33KI20100308,       PRS2,       2,          9,          5,       8005,2,20100311,       0502,  22.751667,-158.0063333,       4724,   124.2,  21.0807,  35.2083,2,  35.2113,2,    207.4,1,  -999.0,9, -999.00,9, -999.00,9,  -999.0,     125,    21.0568, -999.00,9,     -999.0
33KI20100308,       PRS2,       2,          9,          4,       8004,2,20100311,       0502,  22.751667,-158.0063333,       4724,   150.5,  20.5203,  35.2468,2,  35.2450,2,    201.3,1,  -999.0,9, -999.00,9, -999.00,9,  -999.0,     150,    20.4919, -999.00,9,     -999.0
33KI20100308,       PRS2,       2,          9,          3,       8003,2,20100311,       0502,  22.751667,-158.0063333,       4724,   175.9,  19.3966,  35.1343,2,  35.1378,2,    197.8,1,  -999.0,9, -999.00,9, -999.00,9,  -999.0,     175,    19.3648, -999.00,9,     -999.0
33KI20100308,       PRS2,       2,          9,          2,       8002,2,20100311,       0502,  22.751667,-158.0063333,       4724,   500.3,   7.3619,  34.0641,2,  34.0648,2,    115.8,1,  -999.0,9, -999.00,9, -999.00,9,  -999.0,     500,     7.3133, -999.00,9,     -999.0
33KI20100308,       PRS2,       2,          9,          1,       8001,2,20100311,       0502,  22.751667,-158.0063333,       4724,  1020.5,   3.9512,  34.4902,2,  34.4911,2,     45.9,1,  -999.0,9, -999.00,9, -999.00,9,  -999.0,    1022,     3.8743, -999.00,9,     -999.0
33KI20100308,       PRS2,       2,         10,         24,       8024,2,20100311,       0757,  22.750667,-158.0010000,       4723,     4.2,  23.4504,  35.2627,2,-999.0000,5,    213.1,1,  -999.0,9, -999.00,9, -999.00,9,  -999.0,       3,    23.4495, -999.00,9,     -999.0
33KI20100308,       PRS2,       2,         10,         23,       8023,2,20100311,       0757,  22.750667,-158.0010000,       4723,     4.4,  23.4505,  35.2626,2,-999.0000,5,    213.2,1,  -999.0,9, -999.00,9, -999.00,9,  -999.0,       4,    23.4496, -999.00,9,     -999.0
33KI20100308,       PRS2,       2,         10,         22,       8022,2,20100311,       0757,  22.750667,-158.0010000,       4723,    24.7,  23.4610,  35.2625,2,  35.2629,2,    213.2,1,  -999.0,9, -999.00,9, -999.00,9,  -999.0,      25,    23.4558, -999.00,9,     -999.0
33KI20100308,       PRS2,       2,         10,         21,       8021,2,20100311,       0757,  22.750667,-158.0010000,       4723,    24.6,  23.4609,  35.2622,2,  35.2627,2,    213.3,1,  -999.0,9, -999.00,9, -999.00,9,  -999.0,      25,    23.4558, -999.00,9,     -999.0
33KI20100308,       PRS2,       2,         10,         20,       8020,2,20100311,       0757,  22.750667,-158.0010000,       4723,    44.8,  23.4640,  35.2619,2,  35.2629,2,    213.2,1,  -999.0,9, -999.00,9, -999.00,9,  -999.0,      45,    23.4547, -999.00,9,     -999.0
33KI20100308,       PRS2,       2,         10,         19,       8019,2,20100311,       0757,  22.750667,-158.0010000,       4723,    73.5,  23.2585,  35.2882,2,  35.2903,2,    213.6,1,  -999.0,9, -999.00,9, -999.00,9,  -999.0,      73,    23.2433, -999.00,9,     -999.0
33KI20100308,       PRS2,       2,         10,         18,       8018,2,20100311,       0757,  22.750667,-158.0010000,       4723,    99.4,  22.9279,  35.3235,2,  35.3313,2,    211.8,1,  -999.0,9, -999.00,9, -999.00,9,  -999.0,      99,    22.9077, -999.00,9,     -999.0
33KI20100308,       PRS2,       2,         10,         17,       8017,2,20100311,       0757,  22.750667,-158.0010000,       4723,   124.3,  21.4953,  35.3045,2,  35.3145,2,    207.5,1,  -999.0,9, -999.00,9, -999.00,9,  -999.0,     124,    21.4711, -999.00,9,     -999.0
33KI20100308,       PRS2,       2,         10,         16,       8016,2,20100311,       0757,  22.750667,-158.0010000,       4723,   150.8,  20.3129,  35.2490,2,  35.2515,2,    202.1,1,  -999.0,9, -999.00,9, -999.00,9,  -999.0,     151,    20.2847, -999.00,9,     -999.0
33KI20100308,       PRS2,       2,         10,         15,       8015,2,20100311,       0757,  22.750667,-158.0010000,       4723,   176.1,  19.6724,  35.1618,2,  35.1636,2,    198.0,1,  -999.0,9, -999.00,9, -999.00,9,  -999.0,     176,    19.6402, -999.00,9,     -999.0
33KI20100308,       PRS2,       2,         10,         14,       8014,2,20100311,       0757,  22.750667,-158.0010000,       4723,   209.1,  18.3679,  34.9722,2,-999.0000,5,    195.2,1,  -999.0,9, -999.00,9, -999.00,9,  -999.0,     210,    18.3315, -999.00,9,     -999.0
33KI20100308,       PRS2,       2,         10,         13,       8025,2,20100311,       0757,  22.750667,-158.0010000,       4723,   208.0,  18.4013,  34.9766,2,-999.0000,5,    195.3,1,  -999.0,9, -999.00,9, -999.00,9,  -999.0,     208,    18.3650, -999.00,9,     -999.0
33KI20100308,       PRS2,       2,         10,         12,       8012,2,20100311,       0757,  22.750667,-158.0010000,       4723,   206.9,  18.4276,  34.9805,2,-999.0000,5,    195.2,1,  -999.0,9, -999.00,9, -999.00,9,  -999.0,     206,    18.3915, -999.00,9,     -999.0
33KI20100308,       PRS2,       2,         10,         11,       8011,2,20100311,       0757,  22.750667,-158.0010000,       4723,   205.6,  18.4448,  34.9839,2,-999.0000,5,    195.2,1,  -999.0,9, -999.00,9, -999.00,9,  -999.0,     205,    18.4089, -999.00,9,     -999.0
33KI20100308,       PRS2,       2,         10,         10,       8010,2,20100311,       0757,  22.750667,-158.0010000,       4723,   204.5,  18.5133,  34.9952,2,-999.0000,5,    195.1,1,  -999.0,9, -999.00,9, -999.00,9,  -999.0,     205,    18.4774, -999.00,9,     -999.0
33KI20100308,       PRS2,       2,         10,          9,       8009,2,20100311,       0757,  22.750667,-158.0010000,       4723,   300.9,  12.3921,  34.2293,2,-999.0000,5,    199.8,1,  -999.0,9, -999.00,9, -999.00,9,  -999.0,     302,    12.3521, -999.00,9,     -999.0
33KI20100308,       PRS2,       2,         10,          8,       8008,2,20100311,       0757,  22.750667,-158.0010000,       4723,   406.1,   9.3822,  34.0991,2,-999.0000,5,    177.9,1,  -999.0,9, -999.00,9, -999.00,9,  -999.0,     407,     9.3370, -999.00,9,     -999.0
33KI20100308,       PRS2,       2,         10,          7,       8026,2,20100311,       0757,  22.750667,-158.0010000,       4723,   498.0,   7.0089,  34.0629,2,-999.0000,5,    104.3,1,  -999.0,9, -999.00,9, -999.00,9,  -999.0,     497,     6.9619, -999.00,9,     -999.0
33KI20100308,       PRS2,       2,         10,          6,       8006,2,20100311,       0757,  22.750667,-158.0010000,       4723,   499.0,   6.9996,  34.0629,2,  34.0650,2,    103.7,1,  -999.0,9, -999.00,9, -999.00,9,  -999.0,     500,     6.9526, -999.00,9,     -999.0
33KI20100308,       PRS2,       2,         10,          5,       8005,2,20100311,       0757,  22.750667,-158.0010000,       4723,   600.0,   5.7779,  34.1425,2,-999.0000,5,     53.8,1,  -999.0,9, -999.00,9, -999.00,9,  -999.0,     601,     5.7264, -999.00,9,     -999.0
33KI20100308,       PRS2,       2,         10,          4,       8004,2,20100311,       0757,  22.750667,-158.0010000,       4723,   699.7,   5.2157,  34.2705,2,-999.0000,5,     37.8,1,  -999.0,9, -999.00,9, -999.00,9,  -999.0,     700,     5.1581, -999.00,9,     -999.0
33KI20100308,       PRS2,       2,         10,          3,       8003,2,20100311,       0757,  22.750667,-158.0010000,       4723,   790.6,   4.8820,  34.3628,2,  34.3609,2,     32.7,1,  -999.0,9, -999.00,9, -999.00,9,  -999.0,     791,     4.8182, -999.00,9,     -999.0
33KI20100308,       PRS2,       2,         10,          2,       8002,2,20100311,       0757,  22.750667,-158.0010000,       4723,   898.5,   4.4238,  34.4244,2,-999.0000,5,     39.1,1,  -999.0,9, -999.00,9, -999.00,9,  -999.0,     899,     4.3537, -999.00,9,     -999.0
33KI20100308,       PRS2,       2,         10,          1,       8001,2,20100311,       0757,  22.750667,-158.0010000,       4723,  1020.2,   3.9842,  34.4859,2,  34.4850,2,     45.0,1,  -999.0,9, -999.00,9, -999.00,9,  -999.0,    1021,     3.9070, -999.00,9,     -999.0
33KI20100308,       PRS2,       2,         11,         24,       8024,2,20100311,       1103,  22.748000,-158.0003333,       4723,     4.0,  23.4261,  35.2501,2,-999.0000,5,    212.9,1,  -999.0,9, -999.00,9, -999.00,9,  -999.0,       4,    23.4253, -999.00,9,     -999.0
33KI20100308,       PRS2,       2,         11,         23,       8023,2,20100311,       1103,  22.748000,-158.0003333,       4723,     3.9,  23.4248,  35.2503,2,-999.0000,5,    212.8,1,  -999.0,9, -999.00,9, -999.00,9,  -999.0,       4,    23.4240, -999.00,9,     -999.0
33KI20100308,       PRS2,       2,         11,         22,       8022,2,20100311,       1103,  22.748000,-158.0003333,       4723,     4.1,  23.4232,  35.2506,2,-999.0000,5,    212.8,1,  -999.0,9, -999.00,9, -999.00,9,  -999.0,       4,    23.4223, -999.00,9,     -999.0
33KI20100308,       PRS2,       2,         11,         21,       8021,2,20100311,       1103,  22.748000,-158.0003333,       4723,     4.2,  23.4250,  35.2503,2,-999.0000,5,    212.9,1,  -999.0,9, -999.00,9, -999.00,9,  -999.0,       4,    23.4242, -999.00,9,     -999.0
33KI20100308,       PRS2,       2,         11,         20,       8020,2,20100311,       1103,  22.748000,-158.0003333,       4723,     4.0,  23.4281,  35.2502,2,-999.0000,5,    213.0,1,  -999.0,9, -999.00,9, -999.00,9,  -999.0,       4,    23.4273, -999.00,9,     -999.0
33KI20100308,       PRS2,       2,         11,         19,       8019,2,20100311,       1103,  22.748000,-158.0003333,       4723,     4.1,  23.4310,  35.2504,2,-999.0000,5,    213.1,1,  -999.0,9, -999.00,9, -999.00,9,  -999.0,       4,    23.4302, -999.00,9,     -999.0
33KI20100308,       PRS2,       2,         11,         18,       8018,2,20100311,       1103,  22.748000,-158.0003333,       4723,     4.0,  23.4308,  35.2502,2,-999.0000,5,    213.2,1,  -999.0,9, -999.00,9, -999.00,9,  -999.0,       4,    23.4300, -999.00,9,     -999.0
33KI20100308,       PRS2,       2,         11,         17,       8017,2,20100311,       1103,  22.748000,-158.0003333,       4723,     4.1,  23.4300,  35.2502,2,-999.0000,5,    213.1,1,  -999.0,9, -999.00,9, -999.00,9,  -999.0,       4,    23.4292, -999.00,9,     -999.0
33KI20100308,       PRS2,       2,         11,         16,       8016,2,20100311,       1103,  22.748000,-158.0003333,       4723,     4.0,  23.4290,  35.2499,2,-999.0000,5,    213.1,1,  -999.0,9, -999.00,9, -999.00,9,  -999.0,       5,    23.4281, -999.00,9,     -999.0
33KI20100308,       PRS2,       2,         11,         15,       8015,2,20100311,       1103,  22.748000,-158.0003333,       4723,     4.0,  23.4275,  35.2501,2,-999.0000,5,    213.1,1,  -999.0,9, -999.00,9, -999.00,9,  -999.0,       4,    23.4266, -999.00,9,     -999.0
33KI20100308,       PRS2,       2,         11,         14,       8014,2,20100311,       1103,  22.748000,-158.0003333,       4723,     4.0,  23.4301,  35.2498,2,-999.0000,5,    213.1,1,  -999.0,9, -999.00,9, -999.00,9,  -999.0,       4,    23.4292, -999.00,9,     -999.0
33KI20100308,       PRS2,       2,         11,         13,       8025,2,20100311,       1103,  22.748000,-158.0003333,       4723,     4.1,  23.4360,  35.2497,2,-999.0000,5,    213.1,1,  -999.0,9, -999.00,9, -999.00,9,  -999.0,       4,    23.4352, -999.00,9,     -999.0
33KI20100308,       PRS2,       2,         11,         12,       8012,2,20100311,       1103,  22.748000,-158.0003333,       4723,     4.2,  23.4307,  35.2497,2,-999.0000,5,    213.0,1,  -999.0,9, -999.00,9, -999.00,9,  -999.0,       4,    23.4298, -999.00,9,     -999.0
33KI20100308,       PRS2,       2,         11,         11,       8011,2,20100311,       1103,  22.748000,-158.0003333,       4723,     4.1,  23.4301,  35.2496,2,-999.0000,5,    212.8,1,  -999.0,9, -999.00,9, -999.00,9,  -999.0,       4,    23.4292, -999.00,9,     -999.0
33KI20100308,       PRS2,       2,         11,         10,       8010,2,20100311,       1103,  22.748000,-158.0003333,       4723,     4.1,  23.4288,  35.2497,2,-999.0000,5,    212.6,1,  -999.0,9, -999.00,9, -999.00,9,  -999.0,       4,    23.4280, -999.00,9,     -999.0
33KI20100308,       PRS2,       2,         11,          9,       8009,2,20100311,       1103,  22.748000,-158.0003333,       4723,     4.1,  23.4294,  35.2497,2,-999.0000,5,    212.4,1,  -999.0,9, -999.00,9, -999.00,9,  -999.0,       4,    23.4285, -999.00,9,     -999.0
33KI20100308,       PRS2,       2,         11,          8,       8008,2,20100311,       1103,  22.748000,-158.0003333,       4723,     4.0,  23.4362,  35.2499,2,-999.0000,5,    212.3,1,  -999.0,9, -999.00,9, -999.00,9,  -999.0,       4,    23.4354, -999.00,9,     -999.0
33KI20100308,       PRS2,       2,         11,          7,       8026,2,20100311,       1103,  22.748000,-158.0003333,       4723,     3.9,  23.4370,  35.2496,2,-999.0000,5,    212.3,1,  -999.0,9, -999.00,9, -999.00,9,  -999.0,       5,    23.4362, -999.00,9,     -999.0
33KI20100308,       PRS2,       2,         11,          6,       8006,2,20100311,       1103,  22.748000,-158.0003333,       4723,  1022.1,   4.0744,  34.4731,2,  34.4720,2,     43.1,1,  -999.0,9, -999.00,9, -999.00,9,  -999.0,    1021,     3.9964, -999.00,9,     -999.0
33KI20100308,       PRS2,       2,         11,          5,       8005,2,20100311,       1103,  22.748000,-158.0003333,       4723,  1021.8,   4.0752,  34.4727,2,  34.4722,2,     43.1,1,  -999.0,9, -999.00,9, -999.00,9,  -999.0,    1021,     3.9972, -999.00,9,     -999.0
33KI20100308,       PRS2,       2,         11,          4,       8004,2,20100311,       1103,  22.748000,-158.0003333,       4723,  1021.7,   4.0750,  34.4729,2,  34.4728,2,     43.1,1,  -999.0,9, -999.00,9, -999.00,9,  -999.0,    1022,     3.9970, -999.00,9,     -999.0
33KI20100308,       PRS2,       2,         11,          3,       8003,2,20100311,       1103,  22.748000,-158.0003333,       4723,  1021.7,   4.0747,  34.4730,2,  34.4728,2,     43.1,1,  -999.0,9, -999.00,9, -999.00,9,  -999.0,    1023,     3.9967, -999.00,9,     -999.0
33KI20100308,       PRS2,       2,         11,          2,       8002,2,20100311,       1103,  22.748000,-158.0003333,       4723,  1021.5,   4.0744,  34.4732,2,  34.4722,2,     43.1,1,  -999.0,9, -999.00,9, -999.00,9,  -999.0,    1023,     3.9964, -999.00,9,     -999.0
33KI20100308,       PRS2,       2,         11,          1,       8001,2,20100311,       1103,  22.748000,-158.0003333,       4723,  1021.2,   4.0748,  34.4730,2,  34.4742,2,     43.1,1,  -999.0,9, -999.00,9, -999.00,9,  -999.0,    1021,     3.9968, -999.00,9,     -999.0