BOTTLE,2013020413CCHSIOCBG
EXPOCODE,SECT_ID,STNNBR,CASTNO,SAMPNO,BTLNBR,BTLNBR_FLAG_W,DATE,TIME,LATITUDE,LONGITUDE,DEPTH,CTDPRS,CTDTMP,CTDSAL,CTDSAL_FLAG_W,SALNTY,SALNTY_FLAG_W,CTDOXY,CTDOXY_FLAG_W,OXYGEN,OXYGEN_FLAG_W,SILCAT,SILCAT_FLAG_W,NO2+NO3,NO2+NO3_FLAG_W,NITRIT,NITRIT_FLAG_W,PHSPHT,PHSPHT_FLAG_W,NH4,NH4_FLAG_W,TCARBN,TCARBN_FLAG_W,ALKALI,ALKALI_FLAG_W,PH_TOT,PH_TOT_FLAG_W,PH_TMP,THETA,BTL_DATE,BTL_TIME
,,,,,,,,,,,METERS,DBAR,ITS-90,PSS-78,,PSS-78,,UMOL/KG,,UMOL/KG,,UMOL/KG,,UMOL/KG,,UMOL/KG,,UMOL/KG,,UMOL/KG,,UMOL/KG,,UMOL/KG,,,,DEG C,DEG C,,
  18HU20110506, AR07W,    41,  1, 378201,      1,2,20110512,1259, 55.5185, -53.7243, 2800,    199.7,   3.7789,  34.8541,2,-999.0000,9,    293.5,2,   -999.0,9,  -999.00,9,  -999.00,9,  -999.00,9,  -999.00,9,     -999,9,   -999.0,9,   -999.0,9,-999.0000,9,  -999.00,   3.7652, 20110512,     1259
  18HU20110506, AR07W,    41,  1, 378202,      2,2,20110512,1259, 55.5185, -53.7243, 2800,    149.9,   3.7243,  34.8271,2,-999.0000,9,    297.6,2,   -999.0,9,     7.70,6,    13.93,6,     0.16,6,     1.03,6,     0.16,6,   -999.0,9,   -999.0,9,-999.0000,9,  -999.00,   3.7142, 20110512,     1300
  18HU20110506, AR07W,    41,  1, 378203,      3,2,20110512,1259, 55.5185, -53.7243, 2800,     99.1,   3.6819,  34.8048,2,-999.0000,9,    300.2,2,   -999.0,9,     7.82,6,    13.75,6,     0.18,6,     1.01,6,     0.18,6,   -999.0,9,   -999.0,9,-999.0000,9,  -999.00,   3.6753, 20110512,     1301
  18HU20110506, AR07W,    41,  1, 378204,      4,2,20110512,1259, 55.5185, -53.7243, 2800,     79.9,   3.6804,  34.8029,2,-999.0000,9,    300.8,2,   -999.0,9,     7.73,6,    13.67,6,     0.18,6,     1.00,6,     0.18,6,   -999.0,9,   -999.0,9,-999.0000,9,  -999.00,   3.6751, 20110512,     1302
  18HU20110506, AR07W,    41,  1, 378205,      5,2,20110512,1259, 55.5185, -53.7243, 2800,     59.6,   3.6750,  34.7950,2,-999.0000,9,    301.3,2,   -999.0,9,     7.72,6,    13.68,6,     0.22,6,     1.00,6,     0.22,6,   -999.0,9,   -999.0,9,-999.0000,9,  -999.00,   3.6710, 20110512,     1303
  18HU20110506, AR07W,    41,  1, 378206,      6,2,20110512,1259, 55.5185, -53.7243, 2800,     50.1,   3.6690,  34.7865,2,-999.0000,9,    301.5,2,   -999.0,9,     7.77,6,    13.79,6,     0.18,6,     0.99,6,     0.18,6,   -999.0,9,   -999.0,9,-999.0000,9,  -999.00,   3.6657, 20110512,     1304
  18HU20110506, AR07W,    41,  1, 378207,      7,2,20110512,1259, 55.5185, -53.7243, 2800,     41.0,   3.5958,  34.7353,2,-999.0000,9,    303.7,2,   -999.0,9,     7.61,6,    13.27,6,     0.20,6,     0.98,6,      0.2,6,   -999.0,9,   -999.0,9,-999.0000,9,  -999.00,   3.5931, 20110512,     1304
  18HU20110506, AR07W,    41,  1, 378208,      8,2,20110512,1259, 55.5185, -53.7243, 2800,     30.1,   3.5867,  34.7282,2,-999.0000,9,    305.0,2,   -999.0,9,     7.67,6,    13.36,6,     0.14,6,     0.97,6,     0.14,6,   -999.0,9,   -999.0,9,-999.0000,9,  -999.00,   3.5847, 20110512,     1305
  18HU20110506, AR07W,    41,  1, 378209,      9,2,20110512,1259, 55.5185, -53.7243, 2800,     20.2,   3.5875,  34.7283,2,-999.0000,9,    304.9,2,   -999.0,9,     7.71,6,    13.26,6,     0.28,6,     0.99,6,     0.28,6,   -999.0,9,   -999.0,9,-999.0000,9,  -999.00,   3.5862, 20110512,     1306
  18HU20110506, AR07W,    41,  1, 378210,     10,2,20110512,1259, 55.5185, -53.7243, 2800,     10.3,   3.5831,  34.7260,2,-999.0000,9,    305.6,2,   -999.0,9,     7.71,6,    13.11,6,     0.16,6,     0.99,6,     0.16,6,   -999.0,9,   -999.0,9,-999.0000,9,  -999.00,   3.5824, 20110512,     1306
  18HU20110506, AR07W,    41,  1, 378211,     11,2,20110512,1259, 55.5185, -53.7243, 2800,      2.4,   3.5845,  34.7257,2,-999.0000,9,    306.6,2,   -999.0,9,     7.72,6,    13.11,6,     0.18,6,     0.98,6,     0.18,6,   -999.0,9,   -999.0,9,-999.0000,9,  -999.00,   3.5843, 20110512,     1307
  18HU20110506, AR07W,    51,  1, 378212,      1,2,20110512,1950, 55.8513, -53.3890, 3113,   3158.1,   1.7914,  34.8911,2,-999.0000,9,    284.9,2,   -999.0,9,  -999.00,9,  -999.00,9,  -999.00,9,  -999.00,9,     -999,9,   -999.0,9,   -999.0,9,-999.0000,9,  -999.00,   1.5515, 20110512,     1950
  18HU20110506, AR07W,    51,  1, 378213,      2,2,20110512,1950, 55.8513, -53.3890, 3113,   3100.3,   1.8404,  34.8921,2,  34.8947,2,    283.7,2,    294.1,2,    10.11,6,    13.26,6,     0.17,6,  -999.00,9,     0.17,6,   2161.8,2,   2284.0,4,-999.0000,9,  -999.00,   1.6051, 20110512,     1953
  18HU20110506, AR07W,    51,  1, 378214,      3,2,20110512,1950, 55.8513, -53.3890, 3113,   3020.0,   2.0905,  34.8962,2,  34.8981,2,    279.7,2,    290.2,2,    10.78,6,    14.00,6,     0.14,6,     1.10,2,     0.14,6,   2158.3,2,   2303.3,2,-999.0000,9,  -999.00,   1.8576, 20110512,     1955
  18HU20110506, AR07W,    51,  1, 378215,      4,2,20110512,1950, 55.8513, -53.3890, 3113,   2918.1,   2.3232,  34.9017,2,  34.9042,2,    274.5,2,    285.1,2,    12.33,6,    14.53,6,     0.20,6,     1.07,6,      0.2,6,   2157.7,2,   2301.7,2,-999.0000,9,  -999.00,   2.0954, 20110512,     1958
  18HU20110506, AR07W,    51,  1, 378216,      5,2,20110512,1950, 55.8513, -53.3890, 3113,   2811.1,   2.5008,  34.9083,2,  34.9107,2,    270.9,2,    281.9,2,    12.87,6,    14.95,6,     0.19,6,     1.11,6,     0.19,6,   2158.7,2,   2305.2,2,-999.0000,9,  -999.00,   2.2799, 20110512,     2000
  18HU20110506, AR07W,    51,  1, 378217,      6,2,20110512,1950, 55.8513, -53.3890, 3113,   2690.4,   2.6532,  34.9141,2,-999.0000,9,    269.0,2,    279.6,2,    12.80,6,    15.33,6,     0.20,6,     1.11,2,      0.2,6,   2158.4,2,   2303.6,2,-999.0000,9,  -999.00,   2.4412, 20110512,     2003
  18HU20110506, AR07W,    51,  1, 378218,      7,2,20110512,1950, 55.8513, -53.3890, 3113,   2560.9,   2.7752,  34.9146,2,  34.9166,2,    269.4,2,    280.7,2,    12.06,6,    14.67,3,     0.13,6,  -999.00,9,     0.13,6,   2156.3,2,   2303.8,2,-999.0000,9,  -999.00,   2.5735, 20110512,     2006
  18HU20110506, AR07W,    51,  1, 378219,      8,2,20110512,1950, 55.8513, -53.3890, 3113,   2410.2,   2.9132,  34.9148,2,  34.9174,2,    269.6,2,    279.8,2,    11.51,6,    15.11,6,     0.16,6,     1.11,6,     0.16,6,   2158.8,2,   2308.1,2,-999.0000,9,  -999.00,   2.7236, 20110512,     2009
  18HU20110506, AR07W,    51,  1, 378220,      9,2,20110512,1950, 55.8513, -53.3890, 3113,   2231.3,   3.0468,  34.9141,2,  34.9164,2,    268.5,2,    279.0,2,    11.42,6,    15.01,6,     0.17,6,  -999.00,9,     0.17,6,   2156.7,2,   2304.7,2,-999.0000,9,  -999.00,   2.8720, 20110512,     2012
  18HU20110506, AR07W,    51,  1, 378221,     10,2,20110512,1950, 55.8513, -53.3890, 3113,   2011.2,   3.2199,  34.9139,2,  34.9164,2,    267.7,2,    277.8,2,    11.00,6,    15.34,6,     0.16,6,  -999.00,9,     0.16,6,   2156.0,2,   2304.2,2,-999.0000,9,  -999.00,   3.0631, 20110512,     2017
  18HU20110506, AR07W,    51,  1, 378222,     11,2,20110512,1950, 55.8513, -53.3890, 3113,   1791.0,   3.4114,  34.9168,2,  34.9189,2,    266.1,2,    276.2,2,    10.80,6,    15.61,6,     0.20,6,     1.15,6,      0.2,6,   2158.0,2,   2304.3,2,-999.0000,9,  -999.00,   3.2721, 20110512,     2022
  18HU20110506, AR07W,    51,  1, 378223,     12,2,20110512,1950, 55.8513, -53.3890, 3113,   1548.8,   3.5860,  34.9163,2,  34.9179,2,    264.9,2,    274.5,2,    10.85,6,    15.45,6,     0.19,6,  -999.00,9,     0.19,6,   2157.8,2,   2305.2,2,-999.0000,9,  -999.00,   3.4663, 20110512,     2027
  18HU20110506, AR07W,    51,  1, 378224,     13,2,20110512,1950, 55.8513, -53.3890, 3113,   1311.3,   3.6701,  34.9018,2,  34.9036,2,    268.9,2,    278.7,2,    10.00,6,    15.46,6,     0.19,6,     1.16,6,     0.19,6,   2159.1,2,   2300.3,2,-999.0000,9,  -999.00,   3.5703, 20110512,     2032
  18HU20110506, AR07W,    51,  1, 378225,     14,2,20110512,1950, 55.8513, -53.3890, 3113,   1090.1,   3.6635,  34.8804,2,  34.8820,2,    274.3,2,    284.1,2,     9.34,6,    15.38,6,     0.26,6,     1.14,6,     0.26,6,   2160.9,2,   2302.3,2,-999.0000,9,  -999.00,   3.5824, 20110512,     2036
  18HU20110506, AR07W,    51,  1, 378226,     15,2,20110512,1950, 55.8513, -53.3890, 3113,    891.1,   3.6734,  34.8694,2,  34.8735,2,    276.7,2,    286.2,2,     9.19,6,    15.01,6,     0.19,6,  -999.00,9,     0.19,6,   2160.5,2,   2299.0,2,-999.0000,9,  -999.00,   3.6084, 20110512,     2040
  18HU20110506, AR07W,    51,  1, 378227,     16,2,20110512,1950, 55.8513, -53.3890, 3113,    712.1,   3.7467,  34.8740,2,  34.8755,2,    277.9,2,    286.4,2,     8.95,6,    15.29,6,     0.20,6,     1.13,6,      0.2,6,   2161.0,2,   2302.8,2,-999.0000,9,  -999.00,   3.6953, 20110512,     2043
  18HU20110506, AR07W,    51,  1, 378228,     17,2,20110512,1950, 55.8513, -53.3890, 3113,    551.5,   3.7974,  34.8768,2,  34.8788,2,    285.1,2,    295.0,2,     8.19,6,    14.43,6,     0.28,6,     1.06,6,     0.28,6,   2157.1,2,   2298.9,2,   8.0000,3,    25.00,   3.7581, 20110512,     2047
  18HU20110506, AR07W,    51,  1, 378229,     18,2,20110512,1950, 55.8513, -53.3890, 3113,    402.2,   3.8011,  34.8739,2,  34.8753,2,    285.7,2,    294.7,2,     8.15,6,    14.39,6,     0.22,6,     1.07,6,     0.22,6,   2159.3,2,   2300.9,2,-999.0000,9,  -999.00,   3.7729, 20110512,     2050
  18HU20110506, AR07W,    51,  1, 378230,     19,2,20110512,1950, 55.8513, -53.3890, 3113,    290.8,   3.7698,  34.8664,2,-999.0000,9,    288.6,2,   -999.0,9,  -999.00,9,  -999.00,9,  -999.00,9,  -999.00,9,     -999,9,   -999.0,9,   -999.0,9,-999.0000,9,  -999.00,   3.7497, 20110512,     2052
  18HU20110506, AR07W,    51,  1, 378231,     20,2,20110512,1950, 55.8513, -53.3890, 3113,    190.1,   3.7321,  34.8574,2,  34.8580,2,    293.4,2,    303.0,2,     7.91,6,    13.79,6,     0.19,6,  -999.00,9,     0.19,6,   2152.0,2,   2302.7,2,-999.0000,9,  -999.00,   3.7192, 20110512,     2054
  18HU20110506, AR07W,    51,  1, 378232,     21,2,20110512,1950, 55.8513, -53.3890, 3113,    110.4,   3.5854,  34.8206,2,  34.8222,2,    301.8,2,    310.9,2,     7.79,6,    13.07,6,     0.25,6,  -999.00,9,     0.25,6,   2150.8,2,   2302.6,2,-999.0000,9,  -999.00,   3.5781, 20110512,     2056
  18HU20110506, AR07W,    51,  1, 378233,     22,2,20110512,1950, 55.8513, -53.3890, 3113,     50.4,   3.6219,  34.8093,2,  34.8102,2,    310.3,2,    319.0,2,     7.61,6,    12.24,6,     0.22,6,  -999.00,9,     0.22,6,   2145.8,2,   2297.9,2,-999.0000,9,  -999.00,   3.6186, 20110512,     2058
  18HU20110506, AR07W,    51,  1, 378234,     23,2,20110512,1950, 55.8513, -53.3890, 3113,     19.5,   3.6435,  34.8042,2,  34.8053,2,    311.5,2,    319.5,2,     7.65,6,    12.28,6,     0.25,6,  -999.00,9,     0.25,6,   2148.4,2,   2298.0,2,-999.0000,9,  -999.00,   3.6422, 20110512,     2059
  18HU20110506, AR07W,    51,  1, 378235,     24,2,20110512,1950, 55.8513, -53.3890, 3113,      3.0,   3.6406,  34.8044,2,  34.8054,2,    311.5,2,    319.6,2,     7.66,6,    12.39,6,     0.30,6,  -999.00,9,      0.3,6,   2149.3,2,   2293.9,2,-999.0000,9,  -999.00,   3.6404, 20110512,     2100
  18HU20110506, AR07W,    60,  1, 378236,      1,2,20110513,0037, 56.1110, -53.1080, 3309,   3372.0,   1.7387,  34.8905,2,-999.0000,9,    285.8,2,   -999.0,9,  -999.00,9,  -999.00,9,  -999.00,9,  -999.00,9,     -999,9,   -999.0,9,   -999.0,9,-999.0000,9,  -999.00,   1.4785, 20110513,       37
  18HU20110506, AR07W,    60,  1, 378237,      2,2,20110513,0037, 56.1110, -53.1080, 3309,   3300.4,   1.7880,  34.8913,2,-999.0000,9,    284.6,2,   -999.0,9,    10.10,6,    13.74,6,     0.18,6,     1.04,6,     0.18,6,   2161.5,2,   2301.7,2,-999.0000,9,  -999.00,   1.5339, 20110513,       40
  18HU20110506, AR07W,    60,  1, 378238,      3,2,20110513,0037, 56.1110, -53.1080, 3309,   3217.6,   2.0846,  34.8954,2,-999.0000,9,    280.0,2,    291.6,2,    10.99,6,    14.38,6,     0.31,6,     1.06,6,     0.31,6,   2160.1,2,   2304.2,2,-999.0000,9,  -999.00,   1.8319, 20110513,       42
  18HU20110506, AR07W,    60,  1, 378239,      4,2,20110513,0037, 56.1110, -53.1080, 3309,   3121.9,   2.2885,  34.9005,2,  34.9030,2,    274.7,2,    287.1,2,    12.66,6,    14.93,6,     0.24,6,     1.23,6,     0.24,6,   2161.3,2,   2305.8,2,-999.0000,9,  -999.00,   2.0409, 20110513,       45
  18HU20110506, AR07W,    60,  1, 378240,      5,2,20110513,0037, 56.1110, -53.1080, 3309,   2999.2,   2.5065,  34.9083,2,-999.0000,9,    271.0,2,    281.6,6,    13.41,6,    14.96,6,     0.14,6,     1.22,6,     0.14,6,   2158.7,2,   2310.1,2,-999.0000,9,  -999.00,   2.2666, 20110513,       47
  18HU20110506, AR07W,    60,  1, 378241,      6,2,20110513,0037, 56.1110, -53.1080, 3309,   2860.9,   2.6731,  34.9148,2,  34.9166,2,    269.2,2,    280.0,2,    13.17,6,    15.07,6,     0.27,6,     1.18,6,     0.27,6,   2160.2,2,   2305.5,2,-999.0000,9,  -999.00,   2.4437, 20110513,       50
  18HU20110506, AR07W,    60,  1, 378242,      7,2,20110513,0037, 56.1110, -53.1080, 3309,   2700.5,   2.8411,  34.9164,2,-999.0000,9,    268.5,2,    280.4,2,    12.43,6,    15.10,6,     0.11,6,     1.19,6,     0.11,6,   2157.5,6,   2308.0,6,-999.0000,9,  -999.00,   2.6244, 20110513,       54
  18HU20110506, AR07W,    60,  1, 378243,      8,2,20110513,0037, 56.1110, -53.1080, 3309,   2519.7,   2.9711,  34.9150,2,-999.0000,9,    268.4,2,    278.5,2,    12.35,6,    14.90,6,     0.17,6,     1.20,6,     0.17,6,   2158.1,2,   2301.2,2,-999.0000,9,  -999.00,   2.7698, 20110513,       57
  18HU20110506, AR07W,    60,  1, 378244,      9,2,20110513,0037, 56.1110, -53.1080, 3309,   2319.1,   3.1219,  34.9131,2,  34.9142,2,    267.2,2,    278.5,2,    12.01,6,    15.00,6,     0.38,6,     1.21,6,     0.38,6,   2157.5,2,   2302.4,2,-999.0000,9,  -999.00,   2.9375, 20110513,      101
  18HU20110506, AR07W,    60,  1, 378245,     10,2,20110513,0037, 56.1110, -53.1080, 3309,   2102.3,   3.2891,  34.9098,2,  34.9120,2,    266.4,2,    277.0,2,    11.62,6,    15.16,6,     0.22,6,     1.24,6,     0.22,6,   2156.0,2,   2304.9,2,-999.0000,9,  -999.00,   3.1227, 20110513,      105
  18HU20110506, AR07W,    60,  1, 378246,     11,2,20110513,0037, 56.1110, -53.1080, 3309,   1879.9,   3.4733,  34.9115,2,-999.0000,9,    264.7,2,    273.2,2,    11.42,6,    15.24,6,     0.11,6,     1.23,6,     0.11,6,   2160.0,2,   2303.4,2,-999.0000,9,  -999.00,   3.3250, 20110513,      110
  18HU20110506, AR07W,    60,  1, 378247,     12,2,20110513,0037, 56.1110, -53.1080, 3309,   1641.0,   3.6156,  34.9081,2,  34.9097,2,    265.0,2,   -999.0,9,    11.11,6,    15.26,6,     0.10,6,     1.43,3,     0.07,6,   2158.2,2,   2301.0,2,-999.0000,9,  -999.00,   3.4873, 20110513,      115
  18HU20110506, AR07W,    60,  1, 378248,     13,2,20110513,0037, 56.1110, -53.1080, 3309,   1402.4,   3.6190,  34.8840,2,  34.8859,2,    271.4,2,    282.6,2,    10.18,6,    15.17,6,     0.11,6,     1.22,6,     0.06,6,   2160.0,2,   2295.6,2,-999.0000,9,  -999.00,   3.5118, 20110513,      119
  18HU20110506, AR07W,    60,  1, 378249,     14,2,20110513,0037, 56.1110, -53.1080, 3309,   1181.0,   3.6244,  34.8694,2,  34.8707,2,    275.8,2,    285.3,2,     9.37,6,    15.59,6,     0.18,6,     1.11,6,     0.15,6,   2157.1,2,   2301.2,2,-999.0000,9,  -999.00,   3.5361, 20110513,      124
  18HU20110506, AR07W,    60,  1, 378250,     15,2,20110513,0037, 56.1110, -53.1080, 3309,    960.4,   3.7685,  34.8749,2,  34.8768,2,    276.6,2,    285.7,2,     9.19,6,    15.60,6,     0.13,6,     1.13,6,     0.13,6,   2158.4,2,   2297.2,2,-999.0000,9,  -999.00,   3.6972, 20110513,      128
  18HU20110506, AR07W,    60,  1, 378251,     16,2,20110513,0037, 56.1110, -53.1080, 3309,    760.7,   3.8745,  34.8850,2,-999.0000,9,    286.7,2,    295.5,2,     8.08,6,    14.63,6,     0.13,6,     1.07,6,     0.13,6,   2153.0,2,   2302.0,2,-999.0000,9,  -999.00,   3.8186, 20110513,      132
  18HU20110506, AR07W,    60,  1, 378252,     17,2,20110513,0037, 56.1110, -53.1080, 3309,    581.3,   3.8303,  34.8717,2,  34.8733,2,    289.8,2,    299.8,2,     7.98,6,    14.40,6,     0.13,6,     1.04,6,     0.09,6,   2152.0,2,   2300.6,2,-999.0000,9,  -999.00,   3.7886, 20110513,      137
  18HU20110506, AR07W,    60,  1, 378253,     18,2,20110513,0037, 56.1110, -53.1080, 3309,    429.8,   3.6231,  34.8374,2,  34.8381,2,    291.0,2,    300.6,2,     7.69,6,    14.60,6,     0.14,6,     1.08,6,      0.1,6,   2151.0,2,   2303.1,2,-999.0000,9,  -999.00,   3.5935, 20110513,      140
  18HU20110506, AR07W,    60,  1, 378254,     19,2,20110513,0037, 56.1110, -53.1080, 3309,    309.5,   3.7417,  34.8484,2,  34.7848,3,    294.5,2,   -999.0,9,  -999.00,9,  -999.00,9,  -999.00,9,  -999.00,9,     -999,9,   -999.0,9,   -999.0,9,-999.0000,9,  -999.00,   3.7204, 20110513,      143
  18HU20110506, AR07W,    60,  1, 378255,     20,2,20110513,0037, 56.1110, -53.1080, 3309,    198.7,   3.4692,  34.7932,2,  34.7929,2,    300.8,2,    309.3,2,     7.31,6,    13.82,6,     0.11,6,     1.01,6,     0.06,6,   2149.5,2,   2297.3,2,-999.0000,9,  -999.00,   3.4561, 20110513,      146
  18HU20110506, AR07W,    60,  1, 378256,     21,2,20110513,0037, 56.1110, -53.1080, 3309,    118.8,   3.3979,  34.7649,2,  34.7649,2,    299.6,2,    307.6,2,     7.47,6,    14.31,6,     0.11,6,     1.00,6,     0.11,6,   2148.2,2,   2297.3,2,-999.0000,9,  -999.00,   3.3902, 20110513,      148
  18HU20110506, AR07W,    60,  1, 378257,     22,2,20110513,0037, 56.1110, -53.1080, 3309,     59.5,   3.3781,  34.7212,2,  34.7225,2,    311.5,2,    319.6,2,     7.20,6,    12.66,6,     0.21,6,     1.03,2,     0.21,6,   2142.7,2,   2292.7,2,-999.0000,9,  -999.00,   3.3743, 20110513,      150
  18HU20110506, AR07W,    60,  1, 378258,     23,2,20110513,0037, 56.1110, -53.1080, 3309,     31.1,   3.3775,  34.7200,2,-999.0000,9,    312.3,2,    320.2,2,     7.23,6,    12.73,6,     0.14,6,  -999.00,9,     0.14,6,   2143.4,2,   2298.9,2,-999.0000,9,  -999.00,   3.3755, 20110513,      151
  18HU20110506, AR07W,    60,  1, 378259,     24,2,20110513,0037, 56.1110, -53.1080, 3309,      2.6,   3.3715,  34.7189,2,  34.7215,2,    312.8,2,    322.4,2,     7.10,6,    12.82,6,     0.30,6,  -999.00,9,      0.3,6,   2142.0,2,   2293.7,2,-999.0000,9,  -999.00,   3.3713, 20110513,      154