BOTTLE,2013020413CCHSIOCBG
EXPOCODE,SECT_ID,STNNBR,CASTNO,SAMPNO,BTLNBR,BTLNBR_FLAG_W,DATE,TIME,LATITUDE,LONGITUDE,DEPTH,CTDPRS,CTDTMP,CTDSAL,CTDSAL_FLAG_W,SALNTY,SALNTY_FLAG_W,CTDOXY,CTDOXY_FLAG_W,OXYGEN,OXYGEN_FLAG_W,SILCAT,SILCAT_FLAG_W,NO2+NO3,NO2+NO3_FLAG_W,NITRIT,NITRIT_FLAG_W,PHSPHT,PHSPHT_FLAG_W,NH4,NH4_FLAG_W,TCARBN,TCARBN_FLAG_W,ALKALI,ALKALI_FLAG_W,PH_TOT,PH_TOT_FLAG_W,PH_TMP,THETA,BTL_DATE,BTL_TIME
,,,,,,,,,,,METERS,DBAR,ITS-90,PSS-78,,PSS-78,,UMOL/KG,,UMOL/KG,,UMOL/KG,,UMOL/KG,,UMOL/KG,,UMOL/KG,,UMOL/KG,,UMOL/KG,,UMOL/KG,,,,DEG C,DEG C,,
  18HU20110506, AR07W,   381,  1, 379268,      1,2,20110528,0128, 44.2705, -63.3223,  175,    165.6,   8.1879,  34.2128,2,  34.2156,2,    170.7,2,    176.7,2,    13.24,6,    15.24,6,     0.49,6,     1.24,6,     0.49,6,   2122.8,6,   2272.3,2,-999.0000,9,  -999.00,   8.1711, 20110528,      128
  18HU20110506, AR07W,   381,  1, 379269,      2,2,20110528,0128, 44.2705, -63.3223,  175,    125.1,   7.3282,  33.8806,2,-999.0000,9,    190.4,2,   -999.0,9,    11.24,6,    13.49,6,     0.48,6,     1.14,6,     0.48,6,   -999.0,9,   -999.0,9,-999.0000,9,  -999.00,   7.3164, 20110528,      130
  18HU20110506, AR07W,   381,  1, 379270,      3,2,20110528,0128, 44.2705, -63.3223,  175,    100.1,   3.3465,  32.3763,2,-999.0000,9,    280.4,2,   -999.0,9,     5.23,6,     5.77,6,     1.55,6,     0.83,6,     1.55,6,   -999.0,9,   2197.7,2,-999.0000,9,  -999.00,   3.3405, 20110528,      131
  18HU20110506, AR07W,   381,  1, 379271,      4,2,20110528,0128, 44.2705, -63.3223,  175,     80.4,   4.5817,  32.1061,2,-999.0000,9,    300.0,2,   -999.0,9,     2.02,6,     1.10,6,     1.50,6,     0.56,6,      1.5,6,   -999.0,9,   -999.0,9,-999.0000,9,  -999.00,   4.5761, 20110528,      132
  18HU20110506, AR07W,   381,  1, 379272,      5,2,20110528,0128, 44.2705, -63.3223,  175,     59.9,   4.6332,  31.8474,2,-999.0000,9,    310.9,2,   -999.0,9,     0.98,6,     0.40,6,     1.24,6,     0.45,6,     1.24,6,   -999.0,9,   -999.0,9,-999.0000,9,  -999.00,   4.6291, 20110528,      133
  18HU20110506, AR07W,   381,  1, 379273,      6,2,20110528,0128, 44.2705, -63.3223,  175,     50.6,   4.0338,  31.5667,2,-999.0000,9,    311.0,2,   -999.0,9,     1.47,6,     0.81,6,     1.40,6,     0.50,6,      1.4,6,   2022.9,2,   2155.2,2,-999.0000,9,  -999.00,   4.0306, 20110528,      134
  18HU20110506, AR07W,   381,  1, 379274,      7,2,20110528,0128, 44.2705, -63.3223,  175,     40.0,   4.5990,  31.3930,2,  31.3944,2,    321.0,2,    333.4,2,     0.53,6,     0.24,6,     0.86,6,     0.40,6,     0.86,6,   -999.0,9,   -999.0,9,-999.0000,9,  -999.00,   4.5963, 20110528,      135
  18HU20110506, AR07W,   381,  1, 379275,      8,2,20110528,0128, 44.2705, -63.3223,  175,     30.3,   3.8985,  31.1890,2,-999.0000,9,    322.4,2,   -999.0,9,     0.60,6,     0.34,6,     1.13,6,     0.43,6,     1.13,6,   2005.7,2,   2146.1,2,-999.0000,9,  -999.00,   3.8966, 20110528,      135
  18HU20110506, AR07W,   381,  1, 379276,      9,2,20110528,0128, 44.2705, -63.3223,  175,     20.6,   3.6395,  30.9269,2,-999.0000,9,    322.3,2,   -999.0,9,     0.77,6,     0.41,6,     1.37,6,     0.45,6,     1.37,6,   -999.0,9,   -999.0,9,-999.0000,9,  -999.00,   3.6383, 20110528,      136
  18HU20110506, AR07W,   381,  1, 379277,     10,2,20110528,0128, 44.2705, -63.3223,  175,     10.5,   3.7797,  30.8600,2,-999.0000,9,    323.4,2,   -999.0,9,     0.64,6,     0.31,6,     1.47,6,     0.43,6,     1.47,6,   1994.2,2,   2140.0,2,-999.0000,9,  -999.00,   3.7791, 20110528,      137
  18HU20110506, AR07W,   381,  1, 379278,     11,2,20110528,0128, 44.2705, -63.3223,  175,      2.7,   4.8770,  30.7545,2,  30.7722,2,    321.7,2,    333.3,2,     0.59,6,     0.24,6,     1.03,6,     0.41,6,     1.03,6,   -999.0,9,   -999.0,9,-999.0000,9,  -999.00,   4.8768, 20110528,      138