BOTTLE,2013020413CCHSIOCBG
EXPOCODE,SECT_ID,STNNBR,CASTNO,SAMPNO,BTLNBR,BTLNBR_FLAG_W,DATE,TIME,LATITUDE,LONGITUDE,DEPTH,CTDPRS,CTDTMP,CTDSAL,CTDSAL_FLAG_W,SALNTY,SALNTY_FLAG_W,CTDOXY,CTDOXY_FLAG_W,OXYGEN,OXYGEN_FLAG_W,SILCAT,SILCAT_FLAG_W,NO2+NO3,NO2+NO3_FLAG_W,NITRIT,NITRIT_FLAG_W,PHSPHT,PHSPHT_FLAG_W,NH4,NH4_FLAG_W,TCARBN,TCARBN_FLAG_W,ALKALI,ALKALI_FLAG_W,PH_TOT,PH_TOT_FLAG_W,PH_TMP,THETA,BTL_DATE,BTL_TIME
,,,,,,,,,,,METERS,DBAR,ITS-90,PSS-78,,PSS-78,,UMOL/KG,,UMOL/KG,,UMOL/KG,,UMOL/KG,,UMOL/KG,,UMOL/KG,,UMOL/KG,,UMOL/KG,,UMOL/KG,,,,DEG C,DEG C,,
  18HU20110506, AR07W,   369,  1, 379209,      1,2,20110527,0937, 42.8545, -61.7350, 1006,    977.4,   4.3799,  34.9426,2,-999.0000,9,    252.2,2,    262.0,2,    10.80,6,    16.95,6,     0.51,6,     1.16,6,     0.51,6,   2166.8,2,   2306.5,2,-999.0000,9,  -999.00,   4.3025, 20110527,      937
  18HU20110506, AR07W,   369,  1, 379210,      2,2,20110527,0937, 42.8545, -61.7350, 1006,    900.3,   4.4380,  34.9417,2,-999.0000,9,    249.9,2,    259.9,2,    10.94,6,    17.25,6,     0.46,6,     1.19,6,     0.46,6,   2172.1,2,   2303.5,2,-999.0000,9,  -999.00,   4.3669, 20110527,      939
  18HU20110506, AR07W,   369,  1, 379211,      3,2,20110527,0937, 42.8545, -61.7350, 1006,    749.5,   4.5969,  34.9395,2,-999.0000,9,    244.2,2,    255.4,2,    11.21,6,    17.49,6,     0.47,6,     1.18,6,     0.47,6,   2166.2,2,   2314.6,2,-999.0000,9,  -999.00,   4.5376, 20110527,      943
  18HU20110506, AR07W,   369,  1, 379212,      4,2,20110527,0937, 42.8545, -61.7350, 1006,    499.4,   5.1570,  34.9409,2,-999.0000,9,    223.2,2,    231.2,2,    11.98,6,    18.75,6,     0.71,6,     1.25,6,     0.71,6,   2175.5,2,   2313.1,2,-999.0000,9,  -999.00,   5.1162, 20110527,      948
  18HU20110506, AR07W,   369,  1, 379213,      5,2,20110527,0937, 42.8545, -61.7350, 1006,    350.2,   6.7693,  35.0171,2,-999.0000,9,    175.8,2,    182.9,2,    14.10,6,    21.86,6,     0.47,6,     1.44,6,     0.47,6,   2189.6,2,   2309.7,2,-999.0000,9,  -999.00,   6.7367, 20110527,      950
  18HU20110506, AR07W,   369,  1, 379214,      6,2,20110527,0937, 42.8545, -61.7350, 1006,    248.6,   9.0660,  35.1752,2,-999.0000,9,    139.5,2,    146.1,6,    14.02,6,    23.75,6,     0.42,6,     1.52,6,     0.42,6,   2190.8,2,   2343.0,2,-999.0000,9,  -999.00,   9.0387, 20110527,      953
  18HU20110506, AR07W,   369,  1, 379215,      7,2,20110527,0937, 42.8545, -61.7350, 1006,    199.4,   9.3876,  35.1500,2,-999.0000,9,    151.0,2,    155.2,2,    12.07,6,    21.35,6,     0.46,6,     1.37,6,     0.46,6,   2184.7,2,   2292.7,2,-999.0000,9,  -999.00,   9.3653, 20110527,      954
  18HU20110506, AR07W,   369,  1, 379216,      8,2,20110527,0937, 42.8545, -61.7350, 1006,    150.0,  10.9504,  35.2521,2,-999.0000,9,    171.5,2,    178.2,2,     8.79,6,    16.64,6,     0.42,6,     1.08,6,     0.42,6,   2161.7,2,   2310.9,2,-999.0000,9,  -999.00,  10.9319, 20110527,      955
  18HU20110506, AR07W,   369,  1, 379217,      9,2,20110527,0937, 42.8545, -61.7350, 1006,    100.1,   6.1309,  33.8639,2,-999.0000,9,    236.3,2,    246.2,2,     6.14,6,    11.04,6,     0.42,6,     0.94,6,     0.42,6,   2130.5,2,   2257.2,2,-999.0000,9,  -999.00,   6.1224, 20110527,      957
  18HU20110506, AR07W,   369,  1, 379218,     10,2,20110527,0937, 42.8545, -61.7350, 1006,     79.7,   5.0693,  33.2410,2,-999.0000,9,    269.1,2,   -999.0,9,     3.69,6,     6.63,6,     1.24,6,     0.80,6,     1.24,6,   -999.0,9,   -999.0,9,-999.0000,9,  -999.00,   5.0633, 20110527,      958
  18HU20110506, AR07W,   369,  1, 379219,     11,2,20110527,0937, 42.8545, -61.7350, 1006,     60.2,   4.2024,  32.8279,2,-999.0000,9,    295.0,2,   -999.0,9,     1.53,6,     2.72,6,     1.67,6,     0.64,6,     1.67,6,   -999.0,9,   -999.0,9,-999.0000,9,  -999.00,   4.1984, 20110527,      959
  18HU20110506, AR07W,   369,  1, 379220,     12,2,20110527,0937, 42.8545, -61.7350, 1006,     46.3,   4.9182,  32.5239,2,-999.0000,9,    318.3,2,    328.5,2,     0.54,6,     0.00,6,     0.69,6,     0.37,6,     0.69,6,   2038.3,2,   2214.2,2,-999.0000,9,  -999.00,   4.9149, 20110527,      959
  18HU20110506, AR07W,   369,  1, 379221,     13,2,20110527,0937, 42.8545, -61.7350, 1006,     40.3,   5.5947,  32.5276,2,-999.0000,9,    313.9,2,   -999.0,9,     0.50,6,     0.00,6,     0.64,6,     0.36,6,     0.64,6,   -999.0,9,   -999.0,9,-999.0000,9,  -999.00,   5.5916, 20110527,     1000
  18HU20110506, AR07W,   369,  1, 379222,     14,2,20110527,0937, 42.8545, -61.7350, 1006,     29.4,   6.3923,  32.3309,2,-999.0000,9,    312.0,2,   -999.0,9,  -999.00,9,  -999.00,9,  -999.00,9,  -999.00,9,     -999,9,   -999.0,9,   -999.0,9,-999.0000,9,  -999.00,   6.3898, 20110527,     1001
  18HU20110506, AR07W,   369,  1, 379223,     15,2,20110527,0937, 42.8545, -61.7350, 1006,     20.4,   9.0300,  32.0754,2,-999.0000,9,    290.3,2,   -999.0,9,     0.55,6,     0.00,6,     0.50,6,     0.30,6,      0.5,6,   -999.0,9,   -999.0,9,-999.0000,9,  -999.00,   9.0279, 20110527,     1002
  18HU20110506, AR07W,   369,  1, 379224,     16,2,20110527,0937, 42.8545, -61.7350, 1006,      9.7,   9.2538,  32.0887,2,-999.0000,9,    288.1,2,    298.6,2,     0.48,6,     0.00,6,     0.46,6,     0.29,6,     0.46,6,   2012.8,2,   2186.4,2,-999.0000,9,  -999.00,   9.2528, 20110527,     1002
  18HU20110506, AR07W,   369,  1, 379225,     17,2,20110527,0937, 42.8545, -61.7350, 1006,      2.3,   9.3002,  32.0963,2,-999.0000,9,    288.5,2,   -999.0,9,     0.48,6,     0.00,6,     0.48,6,     0.30,6,     0.48,6,   -999.0,9,   -999.0,9,-999.0000,9,  -999.00,   9.3000, 20110527,     1003
  18HU20110506, AR07W,   371,  1, 379226,      1,2,20110527,1140, 42.9500, -61.8345,  400,    372.7,   7.2313,  34.9742,2,-999.0000,9,    168.6,2,   -999.0,9,    14.00,6,    21.41,6,     0.60,6,     1.45,6,      0.6,6,   -999.0,9,   -999.0,9,-999.0000,9,  -999.00,   7.1953, 20110527,     1140
  18HU20110506, AR07W,   371,  1, 379227,      2,2,20110527,1140, 42.9500, -61.8345,  400,    200.1,  10.7739,  35.2261,2,-999.0000,9,    174.8,2,   -999.0,9,     8.40,6,    15.57,6,     0.44,6,     1.04,6,     0.44,6,   -999.0,9,   -999.0,9,-999.0000,9,  -999.00,  10.7495, 20110527,     1144
  18HU20110506, AR07W,   371,  1, 379228,      3,2,20110527,1140, 42.9500, -61.8345,  400,    152.1,  10.8283,  35.1057,2,-999.0000,9,    202.1,2,   -999.0,9,     6.37,6,    11.93,6,     0.43,6,     0.85,6,     0.43,6,   -999.0,9,   -999.0,9,-999.0000,9,  -999.00,  10.8097, 20110527,     1146
  18HU20110506, AR07W,   371,  1, 379229,      4,2,20110527,1140, 42.9500, -61.8345,  400,     99.3,  10.3944,  34.8838,2,-999.0000,9,    215.4,2,   -999.0,9,     5.31,6,    10.28,6,     0.47,6,     0.78,6,     0.47,6,   -999.0,9,   -999.0,9,-999.0000,9,  -999.00,  10.3827, 20110527,     1147
  18HU20110506, AR07W,   371,  1, 379230,      5,2,20110527,1140, 42.9500, -61.8345,  400,     79.8,   9.5642,  34.5581,2,-999.0000,9,    230.0,2,   -999.0,9,     4.55,6,     8.96,6,     0.69,6,     0.75,6,     0.69,6,   -999.0,9,   -999.0,9,-999.0000,9,  -999.00,   9.5553, 20110527,     1148
  18HU20110506, AR07W,   371,  1, 379231,      6,2,20110527,1140, 42.9500, -61.8345,  400,     61.2,   6.3187,  33.6368,2,-999.0000,9,    254.9,2,   -999.0,9,     4.27,6,     7.99,6,     0.72,6,     0.79,6,     0.72,6,   -999.0,9,   -999.0,9,-999.0000,9,  -999.00,   6.3135, 20110527,     1149
  18HU20110506, AR07W,   371,  1, 379232,      7,2,20110527,1140, 42.9500, -61.8345,  400,     51.1,   4.7573,  33.2206,2,-999.0000,9,    268.7,2,   -999.0,9,     3.46,6,     6.22,6,     1.49,6,     0.78,6,     1.49,6,   -999.0,9,   -999.0,9,-999.0000,9,  -999.00,   4.7536, 20110527,     1149
  18HU20110506, AR07W,   371,  1, 379233,      8,2,20110527,1140, 42.9500, -61.8345,  400,     39.8,   4.2607,  32.9936,2,-999.0000,9,    286.4,2,   -999.0,9,     2.12,6,     3.81,6,     1.68,6,     0.72,6,     1.68,6,   -999.0,9,   -999.0,9,-999.0000,9,  -999.00,   4.2580, 20110527,     1150
  18HU20110506, AR07W,   371,  1, 379234,      9,2,20110527,1140, 42.9500, -61.8345,  400,     31.1,   5.3277,  32.5503,2,-999.0000,9,    305.8,2,   -999.0,9,     0.67,6,     0.75,6,     1.24,6,     0.45,6,     1.24,6,   -999.0,9,   -999.0,9,-999.0000,9,  -999.00,   5.3254, 20110527,     1151
  18HU20110506, AR07W,   371,  1, 379235,     10,2,20110527,1140, 42.9500, -61.8345,  400,     20.6,   7.0930,  32.3479,2,-999.0000,9,    297.2,2,   -999.0,9,     0.74,6,     0.35,6,     0.64,6,     0.37,6,     0.64,6,   -999.0,9,   -999.0,9,-999.0000,9,  -999.00,   7.0912, 20110527,     1151
  18HU20110506, AR07W,   371,  1, 379236,     11,2,20110527,1140, 42.9500, -61.8345,  400,     12.0,   8.8527,  32.0935,2,-999.0000,9,    291.5,2,   -999.0,9,     0.43,6,     0.00,6,     0.47,6,     0.30,6,     0.47,6,   -999.0,9,   -999.0,9,-999.0000,9,  -999.00,   8.8515, 20110527,     1152
  18HU20110506, AR07W,   371,  1, 379237,     12,2,20110527,1140, 42.9500, -61.8345,  400,      1.7,   9.1243,  32.1029,2,-999.0000,9,    289.5,2,   -999.0,9,     0.42,6,     0.05,6,     0.52,6,     0.29,6,     0.52,6,   -999.0,9,   -999.0,9,-999.0000,9,  -999.00,   9.1241, 20110527,     1153
  18HU20110506, AR07W,   374,  1, 379238,      1,2,20110527,1440, 43.1860, -62.1008,   90,     85.4,   4.7341,  33.3111,2,-999.0000,9,    253.4,2,    261.2,2,     8.28,6,     8.85,6,     1.58,6,     0.96,6,     1.58,6,   2119.4,2,   2249.2,2,-999.0000,9,  -999.00,   4.7279, 20110527,     1440
  18HU20110506, AR07W,   374,  1, 379239,      2,2,20110527,1440, 43.1860, -62.1008,   90,     80.8,   4.6271,  33.2742,2,-999.0000,9,    255.5,2,   -999.0,9,     7.95,6,     8.18,6,     1.96,6,     0.92,6,     1.96,6,   -999.0,9,   -999.0,9,-999.0000,9,  -999.00,   4.6213, 20110527,     1441
  18HU20110506, AR07W,   374,  1, 379240,      3,2,20110527,1440, 43.1860, -62.1008,   90,     60.2,   3.5909,  32.6445,2,-999.0000,9,    287.5,2,    297.3,2,     3.97,6,     4.28,6,     2.46,6,     0.76,6,     2.46,6,   2084.0,2,   2220.9,2,-999.0000,9,  -999.00,   3.5872, 20110527,     1442
  18HU20110506, AR07W,   374,  1, 379241,      4,2,20110527,1440, 43.1860, -62.1008,   90,     50.4,   3.9591,  32.3482,2,-999.0000,9,    301.3,2,    311.9,2,     2.13,6,     1.70,6,     2.36,6,     0.64,6,     2.36,6,   2061.7,2,   2207.4,2,-999.0000,9,  -999.00,   3.9559, 20110527,     1443
  18HU20110506, AR07W,   374,  1, 379242,      5,2,20110527,1440, 43.1860, -62.1008,   90,     40.5,   4.8029,  32.1185,2,-999.0000,9,    312.4,2,   -999.0,9,     1.19,6,     0.29,6,     0.59,6,     0.42,6,     0.59,6,   -999.0,9,   -999.0,9,-999.0000,9,  -999.00,   4.8000, 20110527,     1444
  18HU20110506, AR07W,   374,  1, 379243,      6,2,20110527,1440, 43.1860, -62.1008,   90,     30.3,   5.8029,  32.0341,2,-999.0000,9,    310.8,2,    323.7,2,     0.65,6,     0.00,6,     0.45,6,     0.34,6,     0.45,6,   2023.6,2,   2213.3,2,-999.0000,9,  -999.00,   5.8005, 20110527,     1445
  18HU20110506, AR07W,   374,  1, 379244,      7,2,20110527,1440, 43.1860, -62.1008,   90,     21.4,   6.2213,  31.9883,2,-999.0000,9,    311.6,2,   -999.0,9,     0.76,6,     0.00,6,     0.41,6,     0.33,6,     0.41,6,   -999.0,9,   -999.0,9,-999.0000,9,  -999.00,   6.2196, 20110527,     1446
  18HU20110506, AR07W,   374,  1, 379245,      8,2,20110527,1440, 43.1860, -62.1008,   90,     10.3,   8.1139,  31.7619,2,-999.0000,9,    299.1,2,    313.4,2,     0.90,6,     0.00,6,     0.38,6,     0.35,6,     0.38,6,   2011.5,2,   2174.5,2,-999.0000,9,  -999.00,   8.1129, 20110527,     1447
  18HU20110506, AR07W,   374,  1, 379246,      9,2,20110527,1440, 43.1860, -62.1008,   90,      2.8,   8.2552,  31.7624,2,-999.0000,9,    300.0,2,   -999.0,9,     1.11,6,     0.00,6,     0.50,6,     0.34,6,      0.5,6,   -999.0,9,   -999.0,9,-999.0000,9,  -999.00,   8.2549, 20110527,     1448
  18HU20110506, AR07W,   376,  1, 379247,      1,2,20110527,1730, 43.4842, -62.4518,   85,     68.5,   4.7771,  33.1177,2,-999.0000,9,    251.7,2,    257.9,2,     8.40,6,     8.47,6,     1.06,6,     0.94,6,     1.06,6,   2116.3,2,   2238.3,2,-999.0000,9,  -999.00,   4.7721, 20110527,     1730
  18HU20110506, AR07W,   376,  1, 379248,      2,2,20110527,1730, 43.4842, -62.4518,   85,     60.6,   4.8457,  33.0958,2,-999.0000,9,    250.8,2,   -999.0,9,     8.11,6,     8.58,6,     0.86,6,     0.93,6,     0.86,6,   -999.0,9,   -999.0,9,-999.0000,9,  -999.00,   4.8413, 20110527,     1731
  18HU20110506, AR07W,   376,  1, 379249,      3,2,20110527,1730, 43.4842, -62.4518,   85,     51.0,   3.7698,  32.6198,2,-999.0000,9,    259.4,2,    270.3,2,     6.33,6,     7.23,6,     1.16,6,     0.89,6,     1.16,6,   2099.2,2,   2232.3,2,-999.0000,9,  -999.00,   3.7666, 20110527,     1732
  18HU20110506, AR07W,   376,  1, 379250,      4,2,20110527,1730, 43.4842, -62.4518,   85,     40.0,   3.7220,  32.3061,2,-999.0000,9,    299.2,2,   -999.0,9,     2.57,6,     2.98,6,     1.31,6,     0.64,6,     1.31,6,   -999.0,9,   -999.0,9,-999.0000,9,  -999.00,   3.7195, 20110527,     1733
  18HU20110506, AR07W,   376,  1, 379251,      5,2,20110527,1730, 43.4842, -62.4518,   85,     31.0,   6.2169,  31.8714,2,-999.0000,9,    307.0,2,    321.2,2,     1.38,6,     0.24,6,     0.41,6,     0.41,6,     0.41,6,   2027.4,2,   2190.3,2,-999.0000,9,  -999.00,   6.2144, 20110527,     1734
  18HU20110506, AR07W,   376,  1, 379252,      6,2,20110527,1730, 43.4842, -62.4518,   85,     20.2,   6.8390,  31.7916,2,-999.0000,9,    307.0,2,   -999.0,9,     1.04,6,     0.00,6,     0.35,6,     0.37,6,     0.35,6,   -999.0,9,   -999.0,9,-999.0000,9,  -999.00,   6.8373, 20110527,     1735
  18HU20110506, AR07W,   376,  1, 379253,      7,2,20110527,1730, 43.4842, -62.4518,   85,     11.0,   7.4012,  31.6623,2,-999.0000,9,    304.0,2,    328.2,3,     1.04,6,     0.00,6,     0.44,6,     0.35,6,     0.44,6,   2009.2,2,   2170.5,2,-999.0000,9,  -999.00,   7.4002, 20110527,     1736
  18HU20110506, AR07W,   376,  1, 379254,      8,2,20110527,1730, 43.4842, -62.4518,   85,      2.2,   7.8780,  31.6589,2,-999.0000,9,    302.1,2,   -999.0,9,     1.00,6,     0.00,6,     0.42,6,     0.36,6,     0.42,6,   -999.0,9,   -999.0,9,-999.0000,9,  -999.00,   7.8778, 20110527,     1737
  18HU20110506, AR07W,   378,  1, 379255,      1,2,20110527,2129, 43.8875, -62.8820,  266,    246.1,  10.0054,  35.1115,2,-999.0000,9,    133.2,2,    136.9,2,    18.52,6,    19.52,6,     0.47,6,     1.46,6,     0.47,6,   2196.0,2,   2333.5,2,-999.0000,9,  -999.00,   9.9767, 20110527,     2129
  18HU20110506, AR07W,   378,  1, 379256,      2,2,20110527,2129, 43.8875, -62.8820,  266,    200.9,  10.1296,  35.0406,2,-999.0000,9,    135.9,2,    142.1,2,    14.19,6,    18.24,6,     0.42,6,     1.36,6,     0.42,6,   2189.6,2,   2318.8,2,-999.0000,9,  -999.00,  10.1061, 20110527,     2130
  18HU20110506, AR07W,   378,  1, 379257,      3,2,20110527,2129, 43.8875, -62.8820,  266,    149.8,   9.9418,  34.9251,2,-999.0000,9,    134.7,2,    140.6,2,    15.36,6,    18.08,6,     0.42,6,     1.39,6,     0.42,6,   2187.8,2,   2311.5,2,-999.0000,9,  -999.00,   9.9245, 20110527,     2132
  18HU20110506, AR07W,   378,  1, 379258,      4,2,20110527,2129, 43.8875, -62.8820,  266,    125.8,   9.7369,  34.7938,2,-999.0000,9,    147.0,2,   -999.0,9,    13.15,6,    16.90,6,     0.38,6,     1.29,6,     0.38,6,   -999.0,9,   -999.0,9,-999.0000,9,  -999.00,   9.7226, 20110527,     2134
  18HU20110506, AR07W,   378,  1, 379259,      5,2,20110527,2129, 43.8875, -62.8820,  266,    100.9,   8.7289,  34.3827,2,-999.0000,9,    163.5,2,    171.7,2,    11.69,6,    15.48,6,     0.42,6,     1.24,6,     0.42,6,   2164.6,2,   2289.7,2,-999.0000,9,  -999.00,   8.7183, 20110527,     2135
  18HU20110506, AR07W,   378,  1, 379260,      6,2,20110527,2129, 43.8875, -62.8820,  266,     80.6,   6.8305,  33.6923,2,-999.0000,9,    206.0,2,   -999.0,9,  -999.00,9,  -999.00,9,  -999.00,9,  -999.00,9,     -999,9,   -999.0,9,   -999.0,9,-999.0000,9,  -999.00,   6.8233, 20110527,     2136
  18HU20110506, AR07W,   378,  1, 379261,      7,2,20110527,2129, 43.8875, -62.8820,  266,     60.8,   5.1044,  33.0830,2,-999.0000,9,    243.3,2,   -999.0,9,     5.89,6,     9.29,6,     0.69,6,     0.96,6,     0.69,6,   -999.0,9,   -999.0,9,-999.0000,9,  -999.00,   5.0998, 20110527,     2136
  18HU20110506, AR07W,   378,  1, 379262,      8,2,20110527,2129, 43.8875, -62.8820,  266,     49.9,   4.0087,  32.6583,2,-999.0000,9,    267.4,2,    279.6,2,     4.43,6,     6.90,6,     1.03,6,     0.85,6,     1.03,6,   2090.7,2,   2221.6,2,-999.0000,9,  -999.00,   4.0054, 20110527,     2137
  18HU20110506, AR07W,   378,  1, 379263,      9,2,20110527,2129, 43.8875, -62.8820,  266,     38.8,   4.1336,  32.1434,2,-999.0000,9,    296.5,2,   -999.0,9,     2.25,6,     2.75,6,     0.82,6,     0.61,6,     0.82,6,   -999.0,9,   -999.0,9,-999.0000,9,  -999.00,   4.1311, 20110527,     2139
  18HU20110506, AR07W,   378,  1, 379264,     10,2,20110527,2129, 43.8875, -62.8820,  266,     29.4,   5.8156,  31.8497,2,-999.0000,9,    305.5,2,    319.5,2,     1.53,6,     0.00,6,     0.63,6,     0.38,6,     0.63,6,   2019.0,2,   2181.6,2,-999.0000,9,  -999.00,   5.8133, 20110527,     2140
  18HU20110506, AR07W,   378,  1, 379265,     11,2,20110527,2129, 43.8875, -62.8820,  266,     20.7,   6.2731,  31.7908,2,-999.0000,9,    308.4,2,   -999.0,9,     0.95,6,     0.00,6,     0.42,6,     0.35,6,     0.42,6,   -999.0,9,   -999.0,9,-999.0000,9,  -999.00,   6.2714, 20110527,     2140
  18HU20110506, AR07W,   378,  1, 379266,     12,2,20110527,2129, 43.8875, -62.8820,  266,      9.6,   7.0174,  31.5326,2,-999.0000,9,    303.4,2,    315.7,2,     0.86,6,     0.00,6,     0.46,6,     0.34,6,     0.46,6,   2005.4,2,   2159.8,2,-999.0000,9,  -999.00,   7.0166, 20110527,     2141
  18HU20110506, AR07W,   378,  1, 379267,     13,2,20110527,2129, 43.8875, -62.8820,  266,      1.5,   7.8807,  31.5228,2,-999.0000,9,    300.0,2,   -999.0,9,     0.77,6,     0.00,6,     0.42,6,     0.33,6,     0.42,6,   -999.0,9,   -999.0,9,-999.0000,9,  -999.00,   7.8806, 20110527,     2142