BOTTLE,2013020413CCHSIOCBG
EXPOCODE,SECT_ID,STNNBR,CASTNO,SAMPNO,BTLNBR,BTLNBR_FLAG_W,DATE,TIME,LATITUDE,LONGITUDE,DEPTH,CTDPRS,CTDTMP,CTDSAL,CTDSAL_FLAG_W,SALNTY,SALNTY_FLAG_W,CTDOXY,CTDOXY_FLAG_W,OXYGEN,OXYGEN_FLAG_W,SILCAT,SILCAT_FLAG_W,NO2+NO3,NO2+NO3_FLAG_W,NITRIT,NITRIT_FLAG_W,PHSPHT,PHSPHT_FLAG_W,NH4,NH4_FLAG_W,TCARBN,TCARBN_FLAG_W,ALKALI,ALKALI_FLAG_W,PH_TOT,PH_TOT_FLAG_W,PH_TMP,THETA,BTL_DATE,BTL_TIME
,,,,,,,,,,,METERS,DBAR,ITS-90,PSS-78,,PSS-78,,UMOL/KG,,UMOL/KG,,UMOL/KG,,UMOL/KG,,UMOL/KG,,UMOL/KG,,UMOL/KG,,UMOL/KG,,UMOL/KG,,,,DEG C,DEG C,,
  18HU20110506, AR07W,   104,  1, 378319,      1,2,20110514,1424, 57.5185, -51.6415, 3644,   3570.8,   1.6322,  34.8903,2,-999.0000,9,    280.2,2,   -999.0,9,  -999.00,9,  -999.00,9,  -999.00,9,  -999.00,9,     -999,9,   -999.0,9,   -999.0,9,-999.0000,9,  -999.00,   1.3542, 20110514,     1424
  18HU20110506, AR07W,   104,  1, 378320,      2,2,20110514,1424, 57.5185, -51.6415, 3644,   3499.9,   1.7372,  34.8863,2,  34.8936,2,    278.3,2,    295.2,2,    10.16,6,    14.01,6,     0.27,6,     0.91,6,     0.27,6,   2165.0,2,   2304.6,2,-999.0000,9,  -999.00,   1.4639, 20110514,     1426
  18HU20110506, AR07W,   104,  1, 378321,      3,2,20110514,1424, 57.5185, -51.6415, 3644,   3410.2,   1.9667,  34.8908,2,  34.8986,2,    274.9,2,    291.1,2,    11.56,6,    14.71,6,     0.22,6,     0.95,6,     0.22,6,   2162.2,2,   2301.8,2,-999.0000,9,  -999.00,   1.6970, 20110514,     1427
  18HU20110506, AR07W,   104,  1, 378322,      4,2,20110514,1424, 57.5185, -51.6415, 3644,   3299.1,   2.2105,  34.8952,2,  34.9027,2,    269.0,2,    287.5,2,    11.54,6,    14.69,6,     0.35,6,     0.95,6,     0.35,6,   2164.5,6,   2306.2,6,-999.0000,9,  -999.00,   1.9465, 20110514,     1429
  18HU20110506, AR07W,   104,  1, 378323,      5,2,20110514,1424, 57.5185, -51.6415, 3644,   3180.5,   2.4264,  34.9021,2,  34.9089,2,    264.4,2,    276.0,2,    13.74,6,    15.49,6,     0.20,6,     1.07,6,      0.2,6,   2163.7,2,   2308.5,2,-999.0000,9,  -999.00,   2.1696, 20110514,     1432
  18HU20110506, AR07W,   104,  1, 378324,      6,2,20110514,1424, 57.5185, -51.6415, 3644,   3040.4,   2.6167,  34.9101,2,  34.9171,2,    260.7,2,    286.7,2,    13.58,6,    15.47,6,     0.35,6,     1.01,6,     0.35,6,   2162.5,2,   2306.6,2,-999.0000,9,  -999.00,   2.3701, 20110514,     1434
  18HU20110506, AR07W,   104,  1, 378325,      7,2,20110514,1424, 57.5185, -51.6415, 3644,   2879.2,   2.7735,  34.9153,2,  34.9217,2,    259.6,2,    277.8,2,    12.96,6,    15.82,6,     0.18,6,     1.02,6,     0.18,6,   2163.0,2,   2307.8,2,-999.0000,9,  -999.00,   2.5401, 20110514,     1437
  18HU20110506, AR07W,   104,  1, 378326,      8,2,20110514,1424, 57.5185, -51.6415, 3644,   2689.7,   2.9268,  34.9137,2,  34.9203,2,    260.3,2,    277.8,6,    13.00,6,    15.60,6,     0.16,6,     1.03,6,     0.16,6,   2160.9,2,   2293.6,2,-999.0000,9,  -999.00,   2.7095, 20110514,     1439
  18HU20110506, AR07W,   104,  1, 378327,      9,2,20110514,1424, 57.5185, -51.6415, 3644,   2478.7,   3.0713,  34.9115,2,  34.9170,2,    259.0,2,    278.1,2,    11.87,6,    15.99,6,     0.19,6,     1.02,6,     0.19,6,   2164.3,2,   2299.1,2,-999.0000,9,  -999.00,   2.8722, 20110514,     1443
  18HU20110506, AR07W,   104,  1, 378328,     10,2,20110514,1424, 57.5185, -51.6415, 3644,   2249.7,   3.2434,  34.9091,2,  34.9144,2,    257.9,2,    277.8,2,    11.44,6,    16.21,6,     0.19,6,     1.03,6,     0.19,6,   2160.1,2,   -999.0,9,-999.0000,9,  -999.00,   3.0636, 20110514,     1446
  18HU20110506, AR07W,   104,  1, 378329,     11,2,20110514,1424, 57.5185, -51.6415, 3644,   2009.2,   3.4248,  34.9108,2,  34.9169,2,    256.3,2,    275.4,2,    11.07,6,    16.23,6,     0.28,6,     1.04,6,     0.28,6,   2161.0,2,   2296.6,2,-999.0000,9,  -999.00,   3.2651, 20110514,     1450
  18HU20110506, AR07W,   104,  1, 378330,     12,2,20110514,1424, 57.5185, -51.6415, 3644,   1769.9,   3.5884,  34.9112,2,  34.9169,6,    255.3,2,    274.9,2,    10.81,6,    16.49,6,     0.27,6,     1.06,6,     0.27,6,   2161.4,2,   2299.0,2,-999.0000,9,  -999.00,   3.4487, 20110514,     1454
  18HU20110506, AR07W,   104,  1, 378331,     13,2,20110514,1424, 57.5185, -51.6415, 3644,   1529.8,   3.6606,  34.8937,2,  34.8990,2,    260.1,2,   -999.0,9,     9.66,6,    16.01,6,     0.44,6,     1.08,6,     0.44,6,   2161.0,2,   2294.5,2,-999.0000,9,  -999.00,   3.5417, 20110514,     1457
  18HU20110506, AR07W,   104,  1, 378332,     14,2,20110514,1424, 57.5185, -51.6415, 3644,   1291.5,   3.6250,  34.8707,2,  34.8749,2,    265.2,2,    284.2,2,     9.61,6,    16.06,6,     0.26,6,     1.03,6,     0.26,6,   2156.7,2,   2296.4,2,-999.0000,9,  -999.00,   3.5274, 20110514,     1501
  18HU20110506, AR07W,   104,  1, 378333,     15,2,20110514,1424, 57.5185, -51.6415, 3644,   1069.3,   3.6651,  34.8654,2,  34.8700,2,    268.2,2,    286.7,2,     9.06,6,    15.91,6,     0.17,6,     0.99,6,     0.17,6,   2160.1,2,   2300.4,2,-999.0000,9,  -999.00,   3.5857, 20110514,     1505
  18HU20110506, AR07W,   104,  1, 378334,     16,2,20110514,1424, 57.5185, -51.6415, 3644,    869.9,   3.7955,  34.8724,2,  34.8766,2,    270.6,2,    287.5,2,     8.73,6,    15.71,6,     0.13,6,     0.98,6,     0.13,6,   2160.5,2,   2296.9,2,-999.0000,9,  -999.00,   3.7314, 20110514,     1508
  18HU20110506, AR07W,   104,  1, 378335,     17,2,20110514,1424, 57.5185, -51.6415, 3644,    679.9,   3.7136,  34.8543,2,  34.8580,2,    278.6,2,    297.1,2,     7.95,2,    14.95,2,     0.19,2,     0.94,2,     0.19,2,   2173.5,4,   2297.4,2,-999.0000,9,  -999.00,   3.6649, 20110514,     1511
  18HU20110506, AR07W,   104,  1, 378336,     18,2,20110514,1424, 57.5185, -51.6415, 3644,    509.3,   3.7074,  34.8510,2,  34.8550,2,    279.9,2,    298.8,2,     7.83,2,    15.31,2,     0.14,2,     0.95,2,     0.14,2,   2158.2,2,   2298.7,2,-999.0000,9,  -999.00,   3.6716, 20110514,     1514
  18HU20110506, AR07W,   104,  1, 378337,     19,2,20110514,1424, 57.5185, -51.6415, 3644,    360.8,   3.6712,  34.8428,2,  34.8462,2,    280.0,2,    301.8,2,  -999.00,9,  -999.00,9,  -999.00,9,  -999.00,9,     -999,9,   2155.2,2,   2298.3,2,-999.0000,9,  -999.00,   3.6464, 20110514,     1517
  18HU20110506, AR07W,   104,  1, 378338,     20,2,20110514,1424, 57.5185, -51.6415, 3644,    238.4,   3.7130,  34.8425,2,  34.8464,2,    279.9,2,    301.4,2,     7.52,6,    14.37,6,     0.45,6,     0.92,6,     0.45,6,   2154.0,2,   2298.3,2,-999.0000,9,  -999.00,   3.6968, 20110514,     1519
  18HU20110506, AR07W,   104,  1, 378339,     21,2,20110514,1424, 57.5185, -51.6415, 3644,    140.0,   3.8528,  34.8384,2,  34.8416,2,    283.3,2,    306.7,2,     7.03,6,    13.19,6,     0.52,6,     0.88,6,     0.52,6,   2149.7,2,   2299.9,2,-999.0000,9,  -999.00,   3.8432, 20110514,     1521
  18HU20110506, AR07W,   104,  1, 378340,     22,2,20110514,1424, 57.5185, -51.6415, 3644,     69.6,   3.8430,  34.8364,2,  34.8399,2,    288.1,2,    307.0,2,     7.00,6,    13.07,6,     0.58,6,     0.86,6,     0.58,6,   2149.8,2,   2297.2,2,-999.0000,9,  -999.00,   3.8383, 20110514,     1523
  18HU20110506, AR07W,   104,  1, 378341,     23,2,20110514,1424, 57.5185, -51.6415, 3644,     35.9,   3.8422,  34.8358,2,  34.8388,2,    288.0,2,    307.2,2,     6.92,6,    12.96,6,     0.57,6,     0.88,6,     0.57,6,   2149.1,2,   2295.4,2,-999.0000,9,  -999.00,   3.8398, 20110514,     1525
  18HU20110506, AR07W,   104,  1, 378342,     24,2,20110514,1424, 57.5185, -51.6415, 3644,      2.7,   3.9259,  34.8371,2,  34.8411,2,    288.9,2,    307.3,2,     6.99,6,    12.95,6,     0.67,6,     1.36,4,     0.67,6,   2151.8,2,   2299.9,2,-999.0000,9,  -999.00,   3.9257, 20110514,     1526
  18HU20110506, AR07W,   114,  1, 378343,      1,2,20110514,1917, 57.7995, -51.3402, 3605,   3674.7,   1.6221,  34.8927,2,-999.0000,9,    287.6,2,   -999.0,9,  -999.00,9,  -999.00,9,  -999.00,9,  -999.00,9,     -999,9,   -999.0,9,   -999.0,9,-999.0000,9,  -999.00,   1.3334, 20110514,     1917
  18HU20110506, AR07W,   114,  1, 378344,      2,2,20110514,1917, 57.7995, -51.3402, 3605,   3675.3,   1.6218,  34.8928,2,  34.8969,2,    287.6,2,    297.9,2,     9.28,6,    13.39,6,     0.20,6,     1.02,6,      0.2,6,   2163.7,2,   2297.2,2,-999.0000,9,  -999.00,   1.3330, 20110514,     1917
  18HU20110506, AR07W,   114,  1, 378345,      3,2,20110514,1917, 57.7995, -51.3402, 3605,   3575.5,   1.6888,  34.8893,2,-999.0000,9,    286.5,2,   -999.0,9,  -999.00,9,  -999.00,9,  -999.00,9,  -999.00,9,     -999,9,   -999.0,9,   -999.0,9,-999.0000,9,  -999.00,   1.4088, 20110514,     1920
  18HU20110506, AR07W,   114,  1, 378346,      4,2,20110514,1917, 57.7995, -51.3402, 3605,   3450.8,   1.9173,  34.8924,2,  34.8969,2,    283.5,2,    294.3,2,     9.65,6,    13.76,6,     0.24,6,     0.97,6,     0.24,6,   2160.9,2,   2296.3,2,-999.0000,9,  -999.00,   1.6446, 20110514,     1923
  18HU20110506, AR07W,   114,  1, 378347,      5,2,20110514,1917, 57.7995, -51.3402, 3605,   3301.4,   2.2458,  34.8986,2,  34.9025,2,    276.1,2,    286.4,2,    11.95,6,    14.58,6,     0.13,6,     1.05,6,     0.13,6,   2160.8,2,   2297.5,2,-999.0000,9,  -999.00,   1.9807, 20110514,     1926
  18HU20110506, AR07W,   114,  1, 378348,      6,2,20110514,1917, 57.7995, -51.3402, 3605,   3120.0,   2.4903,  34.9075,2,  34.9108,2,    271.1,2,    281.0,2,    13.34,6,    15.30,6,     0.35,6,     1.07,6,     0.35,6,   2162.7,2,   2298.9,2,-999.0000,9,  -999.00,   2.2383, 20110514,     1930
  18HU20110506, AR07W,   114,  1, 378349,      7,2,20110514,1917, 57.7995, -51.3402, 3605,   2941.0,   2.7007,  34.9160,2,  34.9198,2,    268.5,2,    278.9,2,    13.00,6,    15.50,6,     0.15,6,     1.06,6,     0.15,6,   2160.2,2,   2303.4,2,-999.0000,9,  -999.00,   2.4625, 20110514,     1933
  18HU20110506, AR07W,   114,  1, 378350,      8,2,20110514,1917, 57.7995, -51.3402, 3605,   2739.8,   2.8800,  34.9160,2,  34.9194,2,    268.3,2,    278.8,2,    12.05,6,    15.74,6,     0.17,6,     1.08,6,     0.17,6,   2160.7,2,   2304.0,2,-999.0000,9,  -999.00,   2.6585, 20110514,     1938
  18HU20110506, AR07W,   114,  1, 378351,      9,2,20110514,1917, 57.7995, -51.3402, 3605,   2521.1,   3.0169,  34.9136,2,  34.9170,2,    267.5,2,    278.0,2,    11.83,6,    15.76,6,     0.19,6,     1.09,6,     0.19,6,   2162.1,2,   2308.0,2,-999.0000,9,  -999.00,   2.8146, 20110514,     1942
  18HU20110506, AR07W,   114,  1, 378352,     10,2,20110514,1917, 57.7995, -51.3402, 3605,   2290.7,   3.1777,  34.9118,2,  34.9152,2,    267.1,2,    277.4,2,    11.26,6,    15.81,6,     0.25,6,     1.08,6,     0.25,6,   2162.0,2,   2301.0,2,-999.0000,9,  -999.00,   2.9951, 20110514,     1947
  18HU20110506, AR07W,   114,  1, 378353,     11,2,20110514,1917, 57.7995, -51.3402, 3605,   2040.8,   3.3420,  34.9112,2,  34.9148,2,    266.2,2,    275.5,2,    10.92,6,    16.02,6,     0.23,6,     1.18,3,     0.23,6,   2162.7,2,   2297.5,2,-999.0000,9,  -999.00,   3.1806, 20110514,     1952
  18HU20110506, AR07W,   114,  1, 378354,     12,2,20110514,1917, 57.7995, -51.3402, 3605,   1788.7,   3.5489,  34.9159,2,  34.9189,6,    264.5,2,    274.7,2,    10.54,6,    16.06,6,     0.11,6,     1.10,6,     0.11,6,   2162.3,2,   2300.3,2,-999.0000,9,  -999.00,   3.4080, 20110514,     1956
  18HU20110506, AR07W,   114,  1, 378355,     13,2,20110514,1917, 57.7995, -51.3402, 3605,   1550.3,   3.6614,  34.9090,2,-999.0000,9,    265.8,2,   -999.0,9,  -999.00,9,  -999.00,9,  -999.00,9,  -999.00,9,     -999,9,   -999.0,9,   -999.0,9,-999.0000,9,  -999.00,   3.5407, 20110514,     2001
  18HU20110506, AR07W,   114,  1, 378356,     14,2,20110514,1917, 57.7995, -51.3402, 3605,   1300.4,   3.6259,  34.8784,2,  34.8809,2,    273.4,2,    283.5,2,     9.38,6,    16.08,6,     0.18,6,     1.09,6,     0.18,6,   2163.8,2,   2292.5,2,-999.0000,9,  -999.00,   3.5275, 20110514,     2006
  18HU20110506, AR07W,   114,  1, 378357,     15,2,20110514,1917, 57.7995, -51.3402, 3605,   1071.1,   3.6329,  34.8677,2,  34.8704,2,    276.9,2,    286.5,2,     9.00,6,    15.83,6,     0.30,6,     1.07,6,      0.3,6,   2163.9,2,   2296.2,2,-999.0000,9,  -999.00,   3.5536, 20110514,     2010
  18HU20110506, AR07W,   114,  1, 378358,     16,2,20110514,1917, 57.7995, -51.3402, 3605,   1071.3,   3.6328,  34.8676,2,  34.8700,2,    276.9,2,    287.0,2,     9.01,6,    15.91,6,     0.16,6,     1.06,6,     0.16,6,   2164.0,2,   2292.9,2,-999.0000,9,  -999.00,   3.5535, 20110514,     2011
  18HU20110506, AR07W,   114,  1, 378359,     17,2,20110514,1917, 57.7995, -51.3402, 3605,    871.0,   3.7550,  34.8732,2,  34.8757,2,    278.6,2,    287.4,6,     7.83,6,    15.10,6,     0.22,6,     1.02,6,     0.22,6,   2164.2,2,   2296.9,2,-999.0000,9,  -999.00,   3.6910, 20110514,     2015
  18HU20110506, AR07W,   114,  1, 378360,     18,2,20110514,1917, 57.7995, -51.3402, 3605,    599.7,   3.8130,  34.8681,2,  34.8704,2,    285.6,2,    295.1,2,     7.72,6,    14.99,6,     0.12,6,     1.02,6,     0.08,6,   2159.4,2,   2292.8,2,-999.0000,9,  -999.00,   3.7699, 20110514,     2021
  18HU20110506, AR07W,   114,  1, 378361,     19,2,20110514,1917, 57.7995, -51.3402, 3605,    398.5,   3.7427,  34.8500,2,  34.8524,2,    290.4,2,    298.8,2,     7.56,6,    14.65,6,     0.14,6,     1.00,6,     0.11,6,   2155.5,2,   2290.9,2,-999.0000,9,  -999.00,   3.7149, 20110514,     2025
  18HU20110506, AR07W,   114,  1, 378362,     20,2,20110514,1917, 57.7995, -51.3402, 3605,    239.2,   4.0022,  34.8765,2,  34.8788,2,    287.0,2,    295.4,2,     7.43,6,    14.84,6,     0.22,6,     1.05,6,     0.22,6,   2156.8,2,   2293.9,2,-999.0000,9,  -999.00,   3.9853, 20110514,     2029
  18HU20110506, AR07W,   114,  1, 378363,     21,2,20110514,1917, 57.7995, -51.3402, 3605,    140.0,   3.8344,  34.8311,2,  34.8359,2,    297.9,2,    306.4,2,     6.94,6,    13.07,6,     0.58,6,     0.92,6,     0.58,6,   2151.7,2,   2296.1,2,-999.0000,9,  -999.00,   3.8248, 20110514,     2031
  18HU20110506, AR07W,   114,  1, 378364,     22,2,20110514,1917, 57.7995, -51.3402, 3605,     71.5,   4.3961,  34.8580,2,  34.8597,2,    285.1,2,    293.2,2,     6.81,6,    13.85,6,     0.39,6,     0.95,6,     0.39,6,   2150.7,2,   2296.8,2,-999.0000,9,  -999.00,   4.3909, 20110514,     2032
  18HU20110506, AR07W,   114,  1, 378365,     23,2,20110514,1917, 57.7995, -51.3402, 3605,     35.8,   2.5643,  34.4108,2,  34.4054,2,    338.2,2,    348.2,2,     4.39,6,     3.50,6,     0.67,6,     0.40,6,     0.67,6,   2086.2,2,   2279.5,2,-999.0000,9,  -999.00,   2.5623, 20110514,     2034
  18HU20110506, AR07W,   114,  1, 378366,     24,2,20110514,1917, 57.7995, -51.3402, 3605,      2.9,   2.2406,  34.2681,2,  34.2696,2,    368.6,2,    379.2,2,     3.68,6,     0.32,6,     0.20,6,     0.23,6,      0.2,6,   2057.1,2,   2287.0,2,-999.0000,9,  -999.00,   2.2404, 20110514,     2035