BOTTLE,2013020413CCHSIOCBG
EXPOCODE,SECT_ID,STNNBR,CASTNO,SAMPNO,BTLNBR,BTLNBR_FLAG_W,DATE,TIME,LATITUDE,LONGITUDE,DEPTH,CTDPRS,CTDTMP,CTDSAL,CTDSAL_FLAG_W,SALNTY,SALNTY_FLAG_W,CTDOXY,CTDOXY_FLAG_W,OXYGEN,OXYGEN_FLAG_W,SILCAT,SILCAT_FLAG_W,NO2+NO3,NO2+NO3_FLAG_W,NITRIT,NITRIT_FLAG_W,PHSPHT,PHSPHT_FLAG_W,NH4,NH4_FLAG_W,TCARBN,TCARBN_FLAG_W,ALKALI,ALKALI_FLAG_W,PH_TOT,PH_TOT_FLAG_W,PH_TMP,THETA,BTL_DATE,BTL_TIME
,,,,,,,,,,,METERS,DBAR,ITS-90,PSS-78,,PSS-78,,UMOL/KG,,UMOL/KG,,UMOL/KG,,UMOL/KG,,UMOL/KG,,UMOL/KG,,UMOL/KG,,UMOL/KG,,UMOL/KG,,,,DEG C,DEG C,,
  18HU20110506, AR07W,   359,  1, 379149,      1,2,20110526,1622, 42.3793, -61.3003, 3361,   3412.4,   2.3565,  34.9010,2,  34.9014,2,    263.9,2,    275.2,2,    19.43,6,    16.86,6,     0.70,6,     1.15,6,      0.7,6,   2162.5,2,   2324.4,2,-999.0000,9,  -999.00,   2.0770, 20110526,     1622
  18HU20110506, AR07W,   359,  1, 379150,      2,2,20110526,1622, 42.3793, -61.3003, 3361,   3409.9,   2.3570,  34.9014,2,  34.9012,2,    263.8,2,    275.5,2,    19.55,6,    16.82,6,     0.51,6,     1.14,6,     0.51,6,   2164.5,2,   2330.5,2,-999.0000,9,  -999.00,   2.0778, 20110526,     1623
  18HU20110506, AR07W,   359,  1, 379151,      3,2,20110526,1622, 42.3793, -61.3003, 3361,   3209.4,   2.4687,  34.9067,2,  34.9065,2,    262.4,2,    275.0,2,    18.32,6,    16.73,6,     0.47,6,     1.14,6,     0.47,6,   2166.1,2,   2319.8,2,-999.0000,9,  -999.00,   2.2080, 20110526,     1627
  18HU20110506, AR07W,   359,  1, 379152,      4,2,20110526,1622, 42.3793, -61.3003, 3361,   3115.6,   2.5356,  34.9093,2,  34.9097,2,    261.5,2,   -999.0,9,    18.13,6,    16.73,6,     0.49,6,     1.14,6,     0.49,6,   2163.0,2,   2320.2,2,-999.0000,9,  -999.00,   2.2831, 20110526,     1630
  18HU20110506, AR07W,   359,  1, 379153,      5,2,20110526,1622, 42.3793, -61.3003, 3361,   2971.6,   2.6330,  34.9139,2,  34.9142,2,    260.9,2,    267.1,2,    17.86,6,    16.78,6,     0.43,6,     1.16,6,     0.43,6,   2162.0,2,   2317.7,2,   8.0000,3,    25.00,   2.3932, 20110526,     1633
  18HU20110506, AR07W,   359,  1, 379154,      6,2,20110526,1622, 42.3793, -61.3003, 3361,   2772.4,   2.7957,  34.9203,2,  34.9207,2,    258.8,2,    271.8,2,    17.31,6,    16.73,6,     0.41,6,     1.16,6,     0.41,6,   2160.7,2,   2321.6,2,-999.0000,9,  -999.00,   2.5727, 20110526,     1636
  18HU20110506, AR07W,   359,  1, 379155,      7,2,20110526,1622, 42.3793, -61.3003, 3361,   2622.7,   2.9207,  34.9263,2,  34.9267,2,    257.2,2,    269.7,2,    17.39,6,    17.02,6,     0.54,6,     1.18,6,     0.54,6,   2161.3,2,   2319.7,2,   8.0000,3,    25.00,   2.7101, 20110526,     1639
  18HU20110506, AR07W,   359,  1, 379156,      8,2,20110526,1622, 42.3793, -61.3003, 3361,   2461.0,   3.0426,  34.9296,2,  34.9296,2,    256.6,2,    269.3,2,    16.74,6,    17.00,6,     0.71,6,     1.18,6,     0.71,6,   2160.3,2,   2318.7,2,   8.0000,3,    25.00,   2.8457, 20110526,     1642
  18HU20110506, AR07W,   359,  1, 379157,      9,2,20110526,1622, 42.3793, -61.3003, 3361,   2261.1,   3.1775,  34.9313,2,  34.9318,2,    256.6,2,    269.0,2,    15.75,6,    16.91,6,     0.43,6,     1.17,6,     0.43,6,   2158.3,2,   2319.6,2,   8.0000,3,    25.00,   2.9977, 20110526,     1646
  18HU20110506, AR07W,   359,  1, 379158,     10,2,20110526,1622, 42.3793, -61.3003, 3361,   2059.4,   3.3658,  34.9376,2,  34.9379,2,    255.8,2,   -999.0,9,    14.83,6,    17.16,6,     0.45,6,     1.18,6,     0.45,6,   2159.7,2,   2321.6,2,-999.0000,9,  -999.00,   3.2022, 20110526,     1650
  18HU20110506, AR07W,   359,  1, 379159,     11,2,20110526,1622, 42.3793, -61.3003, 3361,   1851.5,   3.5146,  34.9383,2,  34.9389,2,    255.7,2,    268.8,2,    13.85,6,    17.17,6,     0.49,6,     1.19,6,     0.49,6,   2160.5,2,   2327.3,2,   8.0000,3,    25.00,   3.3683, 20110526,     1654
  18HU20110506, AR07W,   359,  1, 379160,     12,2,20110526,1622, 42.3793, -61.3003, 3361,   1641.4,   3.6964,  34.9434,2,  34.9438,2,    253.9,2,    266.4,2,    12.97,6,    16.98,6,     0.44,6,     1.17,6,     0.44,6,   2161.7,2,   2317.3,2,-999.0000,9,  -999.00,   3.5670, 20110526,     1658
  18HU20110506, AR07W,   359,  1, 379161,     13,2,20110526,1622, 42.3793, -61.3003, 3361,   1430.8,   3.8613,  34.9467,2,  34.9470,2,    253.4,2,    264.9,2,    12.23,6,    16.84,6,     0.47,6,     1.17,6,     0.47,6,   2165.3,2,   2329.4,2,-999.0000,9,  -999.00,   3.7489, 20110526,     1702
  18HU20110506, AR07W,   359,  1, 379162,     14,2,20110526,1622, 42.3793, -61.3003, 3361,   1230.9,   4.0058,  34.9461,2,  34.9462,2,    253.8,2,    265.9,2,    11.55,6,    16.75,6,     0.63,6,     1.17,6,     0.63,6,   2165.6,2,   2317.1,2,-999.0000,9,  -999.00,   3.9096, 20110526,     1706
  18HU20110506, AR07W,   359,  1, 379163,     15,2,20110526,1622, 42.3793, -61.3003, 3361,   1030.0,   4.1682,  34.9465,2,  34.9462,2,    253.8,2,    265.1,2,    11.03,6,    16.65,6,     0.47,6,     1.16,6,     0.47,6,   2163.2,2,   2305.5,2,-999.0000,9,  -999.00,   4.0879, 20110526,     1710
  18HU20110506, AR07W,   359,  1, 379164,     16,2,20110526,1622, 42.3793, -61.3003, 3361,    840.8,   4.3545,  34.9476,2,  34.9482,2,    252.5,2,    264.0,2,    10.72,6,    16.54,6,     0.54,6,     1.16,6,     0.54,6,   2164.1,2,   2310.6,2,-999.0000,9,  -999.00,   4.2890, 20110526,     1713
  18HU20110506, AR07W,   359,  1, 379165,     17,2,20110526,1622, 42.3793, -61.3003, 3361,    661.7,   4.5620,  34.9501,2,  34.9502,2,    247.5,2,    257.6,2,    10.81,6,    16.88,6,     0.57,6,     1.19,6,     0.57,6,   2166.2,2,   2313.0,2,-999.0000,9,  -999.00,   4.5102, 20110526,     1716
  18HU20110506, AR07W,   359,  1, 379166,     18,2,20110526,1622, 42.3793, -61.3003, 3361,    480.8,   5.2706,  34.9613,2,  34.9612,2,    219.9,2,    227.3,2,    12.64,6,    18.42,6,     0.48,6,     1.29,6,     0.48,6,   2174.7,2,   2314.0,2,-999.0000,9,  -999.00,   5.2310, 20110526,     1720
  18HU20110506, AR07W,   359,  1, 379167,     19,2,20110526,1622, 42.3793, -61.3003, 3361,    330.2,   6.8831,  35.0809,2,  35.0819,2,    178.0,2,    183.6,2,    13.99,6,    21.07,6,     0.56,6,     1.46,6,     0.56,6,   2184.0,2,   2316.9,2,-999.0000,9,  -999.00,   6.8521, 20110526,     1723
  18HU20110506, AR07W,   359,  1, 379168,     20,2,20110526,1622, 42.3793, -61.3003, 3361,    210.4,   8.1743,  34.9650,2,  34.9554,2,    162.3,2,    167.3,2,    13.19,6,    19.92,6,     0.72,6,     1.41,6,     0.72,6,   2185.3,2,   2310.7,2,-999.0000,9,  -999.00,   8.1527, 20110526,     1726
  18HU20110506, AR07W,   359,  1, 379169,     21,2,20110526,1622, 42.3793, -61.3003, 3361,    112.2,  10.5152,  35.0517,2,  35.0254,2,    197.9,2,    209.7,2,     7.12,6,    12.41,6,     0.47,6,     0.94,6,     0.47,6,   2140.9,2,   2318.6,2,-999.0000,9,  -999.00,  10.5018, 20110526,     1728
  18HU20110506, AR07W,   359,  1, 379170,     22,2,20110526,1622, 42.3793, -61.3003, 3361,     50.9,   4.4278,  33.1700,2,  33.2532,2,    277.5,2,    286.2,2,     2.91,6,     5.29,6,     2.09,6,     0.79,6,     2.09,6,   2100.7,2,   2246.7,2,-999.0000,9,  -999.00,   4.4243, 20110526,     1729
  18HU20110506, AR07W,   359,  1, 379171,     23,2,20110526,1622, 42.3793, -61.3003, 3361,     10.3,   8.9364,  32.2330,2,  32.2325,2,    289.0,2,    303.0,2,     0.46,6,     0.00,6,     0.44,6,     0.28,6,     0.44,6,   2021.3,2,   2196.2,2,-999.0000,9,  -999.00,   8.9353, 20110526,     1731
  18HU20110506, AR07W,   359,  1, 379172,     24,2,20110526,1622, 42.3793, -61.3003, 3361,      3.1,   9.5095,  32.2054,2,  32.2073,2,    286.6,2,    301.2,2,     0.38,6,     0.00,6,     0.54,6,     0.27,6,     0.54,6,   2019.8,2,   2192.2,2,-999.0000,9,  -999.00,   9.5092, 20110526,     1732
  18HU20110506, AR07W,   361,  1, 379173,      1,2,20110526,2104, 42.5333, -61.4000, 2816,   2827.1,   2.7537,  34.9183,2,  34.9191,2,    260.1,2,    272.2,2,    17.82,6,    16.14,6,     0.44,6,     1.17,6,     0.44,6,   2164.9,2,   2339.8,2,-999.0000,9,  -999.00,   2.5260, 20110526,     2104
  18HU20110506, AR07W,   361,  1, 379174,      2,2,20110526,2104, 42.5333, -61.4000, 2816,   2827.1,   2.7530,  34.9185,2,  34.9189,2,    259.8,2,    272.7,2,    17.67,6,    16.06,6,     0.43,6,     1.18,6,     0.43,6,   2162.2,2,   2329.1,2,-999.0000,9,  -999.00,   2.5253, 20110526,     2104
  18HU20110506, AR07W,   361,  1, 379175,      3,2,20110526,2104, 42.5333, -61.4000, 2816,   2651.1,   2.8887,  34.9231,2,  34.9236,2,    258.0,2,    270.9,2,    17.30,6,    16.12,6,     0.40,6,     1.20,6,      0.4,6,   2162.7,2,   2315.2,2,-999.0000,9,  -999.00,   2.6759, 20110526,     2108
  18HU20110506, AR07W,   361,  1, 379176,      4,2,20110526,2104, 42.5333, -61.4000, 2816,   2451.5,   3.0687,  34.9281,2,  34.9281,2,    256.9,2,    269.7,2,    16.28,6,    16.56,6,     0.59,6,     1.22,6,     0.59,6,   2163.1,2,   2322.5,2,-999.0000,9,  -999.00,   2.8723, 20110526,     2112
  18HU20110506, AR07W,   361,  1, 379177,      5,2,20110526,2104, 42.5333, -61.4000, 2816,   2199.9,   3.2272,  34.9311,2,  34.9313,2,    256.1,2,    269.0,2,    15.19,6,    16.80,6,     0.57,6,     1.19,6,     0.57,6,   2162.6,2,   2321.0,2,-999.0000,9,  -999.00,   3.0524, 20110526,     2117
  18HU20110506, AR07W,   361,  1, 379178,      6,2,20110526,2104, 42.5333, -61.4000, 2816,   2000.6,   3.4057,  34.9346,2,  34.9343,2,    255.9,2,    268.6,2,    14.17,6,    16.85,6,     0.65,6,     1.19,6,     0.65,6,   2165.9,2,   2328.6,2,-999.0000,9,  -999.00,   3.2470, 20110526,     2121
  18HU20110506, AR07W,   361,  1, 379179,      7,2,20110526,2104, 42.5333, -61.4000, 2816,   1752.0,   3.6598,  34.9417,2,  34.9420,2,    254.2,2,    267.1,2,    12.95,6,    16.97,6,     0.54,6,     1.19,6,     0.54,6,   2162.0,2,   2332.0,2,-999.0000,9,  -999.00,   3.5207, 20110526,     2126
  18HU20110506, AR07W,   361,  1, 379180,      8,2,20110526,2104, 42.5333, -61.4000, 2816,   1499.8,   3.8627,  34.9459,2,  34.9461,2,    253.9,2,    265.8,2,    12.03,6,    16.93,6,     0.46,6,     1.19,6,     0.46,6,   2164.2,2,   2320.2,2,-999.0000,9,  -999.00,   3.7441, 20110526,     2131
  18HU20110506, AR07W,   361,  1, 379181,      9,2,20110526,2104, 42.5333, -61.4000, 2816,   1247.7,   4.0345,  34.9454,2,  34.9451,2,    253.9,2,    265.7,2,    11.21,6,    16.89,6,     0.63,6,     1.19,6,     0.63,6,   2165.3,2,   2323.3,2,-999.0000,9,  -999.00,   3.9365, 20110526,     2136
  18HU20110506, AR07W,   361,  1, 379182,     10,2,20110526,2104, 42.5333, -61.4000, 2816,    999.0,   4.2114,  34.9444,2,  34.9444,2,    254.3,2,    266.1,2,    10.60,6,    16.82,6,     0.42,6,     1.18,6,     0.42,6,   2167.1,2,   2330.7,2,-999.0000,9,  -999.00,   4.1335, 20110526,     2141
  18HU20110506, AR07W,   361,  1, 379183,     11,2,20110526,2104, 42.5333, -61.4000, 2816,    750.8,   4.6086,  34.9739,2,  34.9727,2,    243.2,2,    252.6,2,    11.16,6,    17.57,6,     0.78,6,     1.21,6,     0.78,6,   2171.4,2,   2325.0,2,-999.0000,9,  -999.00,   4.5491, 20110526,     2146
  18HU20110506, AR07W,   361,  1, 379184,     12,2,20110526,2104, 42.5333, -61.4000, 2816,    499.6,   4.9928,  34.9395,2,  34.9401,2,    230.2,2,    239.2,2,    11.54,6,    18.17,6,     0.50,6,     1.27,6,      0.5,6,   2175.5,2,   2318.2,2,-999.0000,9,  -999.00,   4.9527, 20110526,     2151
  18HU20110506, AR07W,   361,  1, 379185,     13,2,20110526,2104, 42.5333, -61.4000, 2816,    249.7,   6.6003,  34.9251,2,  34.9240,2,    178.5,2,    184.7,2,    13.79,6,    20.96,6,     0.49,6,     1.44,6,     0.49,6,   2190.3,2,   2319.4,2,-999.0000,9,  -999.00,   6.5776, 20110526,     2155
  18HU20110506, AR07W,   361,  1, 379186,     14,2,20110526,2104, 42.5333, -61.4000, 2816,    200.5,   7.9372,  35.0316,2,-999.0000,9,    156.9,2,    162.6,2,    13.79,6,    22.25,6,     0.43,6,     1.50,6,     0.43,6,   2194.1,2,   2327.6,2,-999.0000,9,  -999.00,   7.9170, 20110526,     2158
  18HU20110506, AR07W,   361,  1, 379187,     15,2,20110526,2104, 42.5333, -61.4000, 2816,    148.2,   8.6410,  35.0103,2,-999.0000,9,    157.6,2,   -999.0,9,    12.14,6,    20.54,6,     0.51,6,     1.38,6,     0.51,6,   2191.5,2,   2325.1,2,-999.0000,9,  -999.00,   8.6253, 20110526,     2159
  18HU20110506, AR07W,   361,  1, 379188,     16,2,20110526,2104, 42.5333, -61.4000, 2816,     99.5,   8.9135,  34.7608,2,  34.7541,2,    190.6,2,    198.6,2,     8.59,6,    14.75,6,     0.50,6,     1.07,6,      0.5,6,   2162.6,2,   2320.1,2,-999.0000,9,  -999.00,   8.9028, 20110526,     2201
  18HU20110506, AR07W,   361,  1, 379189,     17,2,20110526,2104, 42.5333, -61.4000, 2816,     79.9,   8.1740,  34.4617,2,-999.0000,9,    207.8,2,    217.0,2,     7.70,6,    13.13,6,     0.53,6,     1.02,6,     0.53,6,   2149.6,2,   2304.4,2,-999.0000,9,  -999.00,   8.1659, 20110526,     2202
  18HU20110506, AR07W,   361,  1, 379190,     18,2,20110526,2104, 42.5333, -61.4000, 2816,     61.8,   7.0329,  34.0513,2,-999.0000,9,    235.1,2,   -999.0,9,     5.49,6,    10.07,6,     0.45,6,     0.88,6,     0.45,6,   2131.8,6,   2287.4,6,-999.0000,9,  -999.00,   7.0272, 20110526,     2203
  18HU20110506, AR07W,   361,  1, 379191,     19,2,20110526,2104, 42.5333, -61.4000, 2816,     50.9,   5.9546,  33.6380,2,  33.5565,2,    255.5,2,    268.8,2,     4.11,6,     8.01,6,     1.04,6,     0.85,6,     1.04,6,   2119.4,2,   2256.2,2,-999.0000,9,  -999.00,   5.9504, 20110526,     2204
  18HU20110506, AR07W,   361,  1, 379192,     20,2,20110526,2104, 42.5333, -61.4000, 2816,     39.5,   4.3700,  33.0582,2,-999.0000,9,    282.6,2,   -999.0,9,     2.33,6,     4.55,6,     2.44,6,     0.78,6,     2.44,6,   2102.7,2,   2233.2,2,-999.0000,9,  -999.00,   4.3673, 20110526,     2205
  18HU20110506, AR07W,   361,  1, 379193,     21,2,20110526,2104, 42.5333, -61.4000, 2816,     30.6,   3.9325,  32.7649,2,-999.0000,9,    305.8,2,    315.8,2,     0.60,6,     1.41,6,     1.55,6,     0.56,6,     1.55,6,   2080.5,2,   2222.8,2,-999.0000,9,  -999.00,   3.9305, 20110526,     2206
  18HU20110506, AR07W,   361,  1, 379194,     22,2,20110526,2104, 42.5333, -61.4000, 2816,     19.7,   6.4964,  32.3886,2,-999.0000,9,    310.5,2,    321.1,2,     0.27,6,     0.00,6,     0.44,6,     0.31,6,     0.44,6,   2038.7,2,   2196.1,2,-999.0000,9,  -999.00,   6.4947, 20110526,     2208
  18HU20110506, AR07W,   361,  1, 379195,     23,2,20110526,2104, 42.5333, -61.4000, 2816,     10.7,   9.1362,  32.2414,2,  34.2226,4,    287.6,2,    304.3,2,     0.24,6,     0.00,6,     0.48,6,     0.28,6,     0.48,6,   2029.8,2,   2202.2,2,-999.0000,9,  -999.00,   9.1351, 20110526,     2208
  18HU20110506, AR07W,   361,  1, 379196,     24,2,20110526,2104, 42.5333, -61.4000, 2816,      2.8,   9.1928,  32.2475,2,-999.0000,9,    288.3,2,    293.8,2,     0.21,6,     0.00,6,     0.45,6,     0.27,6,     0.45,6,   2024.2,2,   2188.0,2,-999.0000,9,  -999.00,   9.1925, 20110526,     2209
  18HU20110506, AR07W,   366,  1, 379197,      1,2,20110527,0503, 42.6760, -61.5527, 2023,   2007.8,   3.4285,  34.9352,2,-999.0000,9,    256.4,2,   -999.0,9,  -999.00,9,  -999.00,9,  -999.00,9,  -999.00,9,     -999,9,   -999.0,9,   -999.0,9,-999.0000,9,  -999.00,   3.2688, 20110527,      503
  18HU20110506, AR07W,   366,  1, 379198,      2,2,20110527,0503, 42.6760, -61.5527, 2023,    200.2,   7.8182,  34.9205,2,  34.9219,2,    163.0,2,    168.9,6,    12.80,6,    19.90,6,     0.55,6,     1.42,6,     0.55,6,   -999.0,9,   -999.0,9,-999.0000,9,  -999.00,   7.7982, 20110527,      531
  18HU20110506, AR07W,   366,  1, 379199,      3,2,20110527,0503, 42.6760, -61.5527, 2023,    150.8,   7.7092,  34.7228,2,-999.0000,9,    177.6,2,   -999.0,9,    11.04,6,    17.24,6,     0.39,6,     1.26,6,     0.39,6,   -999.0,9,   -999.0,9,-999.0000,9,  -999.00,   7.6944, 20110527,      533
  18HU20110506, AR07W,   366,  1, 379200,      4,2,20110527,0503, 42.6760, -61.5527, 2023,    100.6,   5.9291,  33.8545,2,-999.0000,9,    235.8,2,   -999.0,9,     5.98,6,    10.42,6,     0.38,6,     0.96,6,     0.38,6,   -999.0,9,   -999.0,9,-999.0000,9,  -999.00,   5.9208, 20110527,      534
  18HU20110506, AR07W,   366,  1, 379201,      5,2,20110527,0503, 42.6760, -61.5527, 2023,     79.9,   5.1852,  33.3565,2,-999.0000,9,    267.3,2,   -999.0,9,     3.29,6,     6.24,6,     2.12,6,     0.83,6,     2.12,6,   -999.0,9,   -999.0,9,-999.0000,9,  -999.00,   5.1791, 20110527,      536
  18HU20110506, AR07W,   366,  1, 379202,      6,2,20110527,0503, 42.6760, -61.5527, 2023,     60.5,   4.7403,  33.0261,2,-999.0000,9,    285.1,2,   -999.0,9,     2.23,6,     4.00,6,     2.24,6,     0.69,6,     2.24,6,   -999.0,9,   -999.0,9,-999.0000,9,  -999.00,   4.7360, 20110527,      537
  18HU20110506, AR07W,   366,  1, 379203,      7,2,20110527,0503, 42.6760, -61.5527, 2023,     50.8,   5.0141,  32.9189,2,-999.0000,9,    291.0,2,   -999.0,9,     1.86,6,     2.93,6,     1.84,6,     0.62,6,     1.84,6,   -999.0,9,   -999.0,9,-999.0000,9,  -999.00,   5.0104, 20110527,      538
  18HU20110506, AR07W,   366,  1, 379204,      8,2,20110527,0503, 42.6760, -61.5527, 2023,     40.4,   4.8305,  32.7441,2,-999.0000,9,    301.7,2,   -999.0,9,     1.23,6,     1.64,6,     1.30,6,     0.53,6,      1.3,6,   -999.0,9,   -999.0,9,-999.0000,9,  -999.00,   4.8276, 20110527,      538
  18HU20110506, AR07W,   366,  1, 379205,      9,2,20110527,0503, 42.6760, -61.5527, 2023,     30.2,   6.1473,  32.3864,2,-999.0000,9,    313.9,2,   -999.0,9,     0.40,6,     0.00,6,     0.69,6,     0.34,6,     0.69,6,   -999.0,9,   -999.0,9,-999.0000,9,  -999.00,   6.1448, 20110527,      539
  18HU20110506, AR07W,   366,  1, 379206,     10,2,20110527,0503, 42.6760, -61.5527, 2023,     21.3,   8.9722,  32.1952,2,-999.0000,9,    289.3,2,   -999.0,9,     0.25,6,     0.00,6,     0.54,6,     0.27,6,     0.54,6,   -999.0,9,   -999.0,9,-999.0000,9,  -999.00,   8.9700, 20110527,      540
  18HU20110506, AR07W,   366,  1, 379207,     11,2,20110527,0503, 42.6760, -61.5527, 2023,      9.6,   9.2952,  32.1928,2,  32.2081,2,    287.1,2,   -999.0,9,     0.27,6,     0.00,6,     0.49,6,     0.27,6,     0.49,6,   -999.0,9,   -999.0,9,-999.0000,9,  -999.00,   9.2942, 20110527,      541
  18HU20110506, AR07W,   366,  1, 379208,     12,2,20110527,0503, 42.6760, -61.5527, 2023,      2.2,   9.3419,  32.1930,2,-999.0000,9,    286.8,2,    297.3,6,  -999.00,9,  -999.00,9,  -999.00,9,  -999.00,9,     -999,9,   -999.0,9,   -999.0,9,-999.0000,9,  -999.00,   9.3417, 20110527,      542