BOTTLE,2013020413CCHSIOCBG
EXPOCODE,SECT_ID,STNNBR,CASTNO,SAMPNO,BTLNBR,BTLNBR_FLAG_W,DATE,TIME,LATITUDE,LONGITUDE,DEPTH,CTDPRS,CTDTMP,CTDSAL,CTDSAL_FLAG_W,SALNTY,SALNTY_FLAG_W,CTDOXY,CTDOXY_FLAG_W,OXYGEN,OXYGEN_FLAG_W,SILCAT,SILCAT_FLAG_W,NO2+NO3,NO2+NO3_FLAG_W,NITRIT,NITRIT_FLAG_W,PHSPHT,PHSPHT_FLAG_W,NH4,NH4_FLAG_W,TCARBN,TCARBN_FLAG_W,ALKALI,ALKALI_FLAG_W,PH_TOT,PH_TOT_FLAG_W,PH_TMP,THETA,BTL_DATE,BTL_TIME
,,,,,,,,,,,METERS,DBAR,ITS-90,PSS-78,,PSS-78,,UMOL/KG,,UMOL/KG,,UMOL/KG,,UMOL/KG,,UMOL/KG,,UMOL/KG,,UMOL/KG,,UMOL/KG,,UMOL/KG,,,,DEG C,DEG C,,
  18HU20110506, AR07W,   193,  1, 378535,      1,2,20110516,2045, 60.5700, -48.2265,  139,    122.8,   0.2728,  33.6323,2,  33.6369,2,    333.8,2,    342.2,2,     4.43,6,     7.36,6,     0.80,6,     0.64,6,      0.8,6,   2102.8,2,   2243.5,2,   8.1000,3,    25.00,   0.2683, 20110516,     2045
  18HU20110506, AR07W,   193,  1, 378536,      2,2,20110516,2045, 60.5700, -48.2265,  139,    123.0,   0.2736,  33.6324,2,-999.0000,9,    333.2,2,   -999.0,9,  -999.00,9,  -999.00,9,  -999.00,9,  -999.00,9,     -999,9,   -999.0,9,   -999.0,9,-999.0000,9,  -999.00,   0.2691, 20110516,     2045
  18HU20110506, AR07W,   193,  1, 378537,      3,2,20110516,2045, 60.5700, -48.2265,  139,    100.2,   0.2203,  33.6132,2,  33.6185,2,    334.9,2,    343.6,2,     4.29,6,     7.39,6,     0.76,6,     0.64,6,     0.76,6,   2099.6,6,   2246.2,6,   8.2000,3,    25.00,   0.2167, 20110516,     2046
  18HU20110506, AR07W,   193,  1, 378538,      4,2,20110516,2045, 60.5700, -48.2265,  139,     80.4,   0.1591,  33.5546,2,  33.5582,2,    347.8,2,    355.5,2,     3.22,6,     5.20,6,     0.76,6,     0.52,6,     0.76,6,   2087.3,2,   2246.4,2,   8.2000,3,    25.00,   0.1563, 20110516,     2047
  18HU20110506, AR07W,   193,  1, 378539,      5,2,20110516,2045, 60.5700, -48.2265,  139,     61.5,   0.1141,  33.4375,2,  33.4142,2,    367.3,2,    379.6,2,     1.65,6,     1.12,6,     0.48,6,     0.25,6,     0.48,6,   2063.8,2,   2248.2,2,   8.3000,3,    25.00,   0.1120, 20110516,     2048
  18HU20110506, AR07W,   193,  1, 378540,      6,2,20110516,2045, 60.5700, -48.2265,  139,     50.2,   0.1310,  33.4662,2,  33.4626,2,    365.1,2,    374.0,2,     1.80,6,     1.97,6,     0.59,6,     0.31,6,     0.59,6,   2070.4,2,   2244.0,2,-999.0000,9,  -999.00,   0.1293, 20110516,     2050
  18HU20110506, AR07W,   193,  1, 378541,      7,2,20110516,2045, 60.5700, -48.2265,  139,     39.7,   0.1115,  33.4384,2,-999.0000,9,    367.1,2,   -999.0,9,     1.81,6,     1.91,6,     0.61,6,     0.28,6,     0.61,6,   -999.0,9,   -999.0,9,-999.0000,9,  -999.00,   0.1101, 20110516,     2050
  18HU20110506, AR07W,   193,  1, 378542,      8,2,20110516,2045, 60.5700, -48.2265,  139,     30.2,   0.1629,  33.2766,2,-999.0000,9,    389.8,2,   -999.0,9,  -999.00,9,  -999.00,9,  -999.00,9,  -999.00,9,     -999,9,   -999.0,9,   -999.0,9,-999.0000,9,  -999.00,   0.1619, 20110516,     2051
  18HU20110506, AR07W,   193,  1, 378543,      9,2,20110516,2045, 60.5700, -48.2265,  139,     20.7,   0.2102,  33.2556,2,  33.2624,2,    396.8,2,    412.0,2,     0.79,6,     0.00,6,     0.19,6,     0.07,6,     0.19,6,   2022.1,2,   2241.0,2,   8.4000,3,    25.00,   0.2095, 20110516,     2052
  18HU20110506, AR07W,   193,  1, 378544,     10,2,20110516,2045, 60.5700, -48.2265,  139,     10.4,   0.2090,  33.2542,2,  33.2587,2,    397.4,2,    408.6,2,     0.86,6,     0.00,6,     0.15,6,     0.07,6,     0.15,6,   2023.4,2,   2235.9,2,   8.4000,3,    25.00,   0.2086, 20110516,     2053
  18HU20110506, AR07W,   193,  1, 378545,     11,2,20110516,2045, 60.5700, -48.2265,  139,      2.2,   0.2023,  33.2535,2,  33.2598,2,    398.0,2,    408.9,2,     0.78,6,     0.00,6,     0.16,6,     0.05,6,     0.16,6,   2020.9,2,   2236.7,2,   8.4000,3,    25.00,   0.2022, 20110516,     2053
  18HU20110506, AR07W,   193,  1, 378546,     12,2,20110516,2045, 60.5700, -48.2265,  139,      2.6,   0.2031,  33.2537,2,  33.2598,2,    397.5,2,    408.3,2,  -999.00,9,  -999.00,9,  -999.00,9,  -999.00,9,     -999,9,   2022.4,2,   2240.8,2,-999.0000,9,  -999.00,   0.2030, 20110516,     2054
  18HU20110506, AR07W,   196,  1, 378547,      1,2,20110516,2218, 60.4482, -48.3627,  153,    144.1,   3.0079,  34.4647,2,  34.4418,2,    300.8,2,    309.8,2,     6.07,6,    10.95,6,     0.61,6,     0.82,6,     0.61,6,   2131.1,2,   2284.7,2,   8.1000,3,    25.00,   2.9991, 20110516,     2218
  18HU20110506, AR07W,   196,  1, 378548,      2,2,20110516,2218, 60.4482, -48.3627,  153,    144.8,   3.0118,  34.4657,2,-999.0000,9,    300.8,2,   -999.0,9,  -999.00,9,  -999.00,9,  -999.00,9,  -999.00,9,     -999,9,   -999.0,9,   -999.0,9,-999.0000,9,  -999.00,   3.0030, 20110516,     2218
  18HU20110506, AR07W,   196,  1, 378549,      3,2,20110516,2218, 60.4482, -48.3627,  153,    101.0,   0.2023,  33.6001,2,  33.5860,2,    335.6,2,    345.4,2,     4.50,6,     6.95,6,     0.66,6,     0.61,6,     0.66,6,   2095.0,2,   2243.1,2,   8.2000,3,    25.00,   0.1987, 20110516,     2221
  18HU20110506, AR07W,   196,  1, 378550,      4,2,20110516,2218, 60.4482, -48.3627,  153,     79.9,  -0.1613,  33.4513,2,  33.4547,2,    346.0,2,    356.2,2,     3.88,6,     5.58,6,     0.64,6,     0.54,6,     0.64,6,   2088.7,2,   2242.5,2,   8.2000,3,    25.00,  -0.1639, 20110516,     2222
  18HU20110506, AR07W,   196,  1, 378551,      5,2,20110516,2218, 60.4482, -48.3627,  153,     60.0,  -0.1427,  33.3953,2,  33.4066,2,    356.9,2,    366.4,2,     3.44,6,     4.05,6,     0.54,6,     0.43,6,     0.54,6,   2078.8,2,   2242.1,2,   8.2000,3,    25.00,  -0.1446, 20110516,     2223
  18HU20110506, AR07W,   196,  1, 378552,      6,2,20110516,2218, 60.4482, -48.3627,  153,     50.1,  -0.1313,  33.3757,2,  33.3845,2,    360.9,2,    371.2,2,     3.22,6,     3.30,6,     0.44,6,     0.40,6,     0.44,6,   2076.1,2,   2244.2,2,   8.2000,3,    25.00,  -0.1329, 20110516,     2224
  18HU20110506, AR07W,   196,  1, 378553,      7,2,20110516,2218, 60.4482, -48.3627,  153,     40.5,  -0.1149,  33.3712,2,-999.0000,9,    363.5,2,   -999.0,9,     3.13,6,     2.95,6,     0.49,6,     0.42,6,     0.49,6,   -999.0,9,   -999.0,9,-999.0000,9,  -999.00,  -0.1162, 20110516,     2224
  18HU20110506, AR07W,   196,  1, 378554,      8,2,20110516,2218, 60.4482, -48.3627,  153,     30.4,  -0.0284,  33.3506,2,-999.0000,9,    373.2,2,   -999.0,9,     2.58,6,     1.61,6,     0.27,6,     0.28,6,     0.27,6,   -999.0,9,   -999.0,9,-999.0000,9,  -999.00,  -0.0294, 20110516,     2225
  18HU20110506, AR07W,   196,  1, 378555,      9,2,20110516,2218, 60.4482, -48.3627,  153,     19.6,   0.1307,  33.3053,2,  33.3142,2,    387.5,2,    398.8,2,     1.74,6,     0.35,6,     0.24,6,     0.20,6,     0.24,6,   2037.6,2,   2242.4,2,   8.3000,3,    25.00,   0.1300, 20110516,     2226
  18HU20110506, AR07W,   196,  1, 378556,     10,2,20110516,2218, 60.4482, -48.3627,  153,     10.3,   0.1826,  33.2834,2,  33.2925,2,    392.7,2,    404.4,2,     1.28,6,     0.00,6,     0.18,6,     0.13,6,     0.18,6,   2028.0,2,   2243.8,2,   8.4000,3,    25.00,   0.1822, 20110516,     2227
  18HU20110506, AR07W,   196,  1, 378557,     11,2,20110516,2218, 60.4482, -48.3627,  153,      2.5,   0.1791,  33.2845,2,  33.2891,2,    393.2,2,    404.8,2,     1.30,6,     0.00,6,     0.41,6,     0.11,6,     0.41,6,   2028.8,2,   2243.9,2,   8.3000,3,    25.00,   0.1790, 20110516,     2228
  18HU20110506, AR07W,   199,  1, 378558,      1,2,20110517,0042, 60.3707, -48.4560,  683,    664.5,   4.8000,  34.9490,2,  34.9524,2,    278.7,2,    288.0,2,     7.50,6,    14.26,6,     0.29,6,     1.00,6,     0.29,6,   2154.2,2,   2300.2,2,   8.1000,3,    25.00,   4.7468, 20110517,       42
  18HU20110506, AR07W,   199,  1, 378559,      2,2,20110517,0042, 60.3707, -48.4560,  683,    664.2,   4.7829,  34.9487,2,-999.0000,9,    278.5,2,   -999.0,9,  -999.00,9,  -999.00,9,  -999.00,9,  -999.00,9,     -999,9,   -999.0,9,   -999.0,9,-999.0000,9,  -999.00,   4.7298, 20110517,       42
  18HU20110506, AR07W,   199,  1, 378560,      3,2,20110517,0042, 60.3707, -48.4560,  683,    619.9,   4.8033,  34.9490,2,  34.9520,2,    278.3,2,    288.7,2,     7.52,6,    14.20,6,     0.26,6,     1.00,6,     0.26,6,   2154.0,2,   2294.5,2,   8.1000,3,    25.00,   4.7538, 20110517,       45
  18HU20110506, AR07W,   199,  1, 378561,      4,2,20110517,0042, 60.3707, -48.4560,  683,    550.1,   4.8335,  34.9469,2,  34.9510,2,    278.8,2,    289.8,2,     7.35,6,    14.10,6,     0.41,6,     1.00,6,     0.41,6,   2154.7,2,   2305.5,2,   8.1000,3,    25.00,   4.7898, 20110517,       46
  18HU20110506, AR07W,   199,  1, 378562,      5,2,20110517,0042, 60.3707, -48.4560,  683,    470.8,   4.8105,  34.9367,2,  34.9406,2,    280.4,2,    291.3,6,     7.30,6,    13.93,6,     0.32,6,     0.99,6,     0.32,6,   2152.8,6,   2304.5,6,   8.1000,3,    25.00,   4.7734, 20110517,       48
  18HU20110506, AR07W,   199,  1, 378563,      6,2,20110517,0042, 60.3707, -48.4560,  683,    370.7,   4.7750,  34.9204,2,  34.9236,2,    280.2,2,    291.1,2,     7.17,6,    13.80,6,     0.25,6,     0.97,6,     0.25,6,   2152.6,2,   2307.3,2,   8.1000,3,    25.00,   4.7462, 20110517,       51
  18HU20110506, AR07W,   199,  1, 378564,      7,2,20110517,0042, 60.3707, -48.4560,  683,    249.8,   3.9595,  34.6994,2,  34.7081,2,    294.6,2,    305.3,2,     6.51,6,    11.11,6,     0.79,6,     0.86,6,     0.79,6,   2136.9,2,   2296.3,2,   8.1000,3,    25.00,   3.9420, 20110517,       54
  18HU20110506, AR07W,   199,  1, 378565,      8,2,20110517,0042, 60.3707, -48.4560,  683,    150.1,   3.6130,  34.6064,2,  34.6033,2,    300.7,2,    310.8,2,     6.23,6,    10.02,6,     0.88,6,     0.82,6,     0.88,6,   2129.3,2,   2292.5,2,   8.1000,3,    25.00,   3.6031, 20110517,       56
  18HU20110506, AR07W,   199,  1, 378566,      9,2,20110517,0042, 60.3707, -48.4560,  683,     98.6,   2.3878,  34.3237,2,  34.3302,2,    305.0,2,    314.0,2,     5.82,6,    10.10,6,     0.67,6,     0.79,6,     0.67,6,   2122.2,2,   2273.7,2,   8.1000,3,    25.00,   2.3823, 20110517,       58
  18HU20110506, AR07W,   199,  1, 378567,     10,2,20110517,0042, 60.3707, -48.4560,  683,     80.5,   2.1586,  34.2483,2,-999.0000,9,    308.9,2,   -999.0,9,     5.69,6,     9.28,6,     0.93,6,     0.75,6,     0.93,6,   -999.0,9,   -999.0,9,-999.0000,9,  -999.00,   2.1543, 20110517,       59
  18HU20110506, AR07W,   199,  1, 378568,     11,2,20110517,0042, 60.3707, -48.4560,  683,     59.6,   1.1909,  33.8283,2,-999.0000,9,    335.8,2,   -999.0,9,     4.80,6,     5.57,6,     0.79,6,     0.56,6,     0.79,6,   -999.0,9,   -999.0,9,-999.0000,9,  -999.00,   1.1883, 20110517,      100
  18HU20110506, AR07W,   199,  1, 378569,     12,2,20110517,0042, 60.3707, -48.4560,  683,     50.1,   0.6292,  33.5837,2,  33.5912,2,    352.4,2,    362.9,2,     4.26,6,     3.35,6,     0.56,6,     0.42,6,     0.56,6,   2070.2,2,   2243.5,2,   8.2000,3,    25.00,   0.6272, 20110517,      102
  18HU20110506, AR07W,   199,  1, 378570,     13,2,20110517,0042, 60.3707, -48.4560,  683,     40.1,   0.0533,  33.3605,2,-999.0000,9,    367.2,2,   -999.0,9,     3.93,6,     2.29,6,     0.44,6,     0.36,6,     0.44,6,   -999.0,9,   -999.0,9,-999.0000,9,  -999.00,   0.0520, 20110517,      103
  18HU20110506, AR07W,   199,  1, 378571,     14,2,20110517,0042, 60.3707, -48.4560,  683,     29.7,  -0.2033,  33.2360,2,-999.0000,9,    379.6,2,   -999.0,9,     3.26,6,     0.28,6,     0.20,6,     0.25,6,      0.2,6,   -999.0,9,   -999.0,9,-999.0000,9,  -999.00,  -0.2042, 20110517,      104
  18HU20110506, AR07W,   199,  1, 378572,     15,2,20110517,0042, 60.3707, -48.4560,  683,     20.6,  -0.2287,  33.2038,2,  33.2083,2,    385.2,2,    396.6,2,     3.07,6,     0.00,6,     0.25,6,     0.19,6,     0.25,6,   2029.5,2,   2230.3,2,   8.3000,3,    25.00,  -0.2293, 20110517,      104
  18HU20110506, AR07W,   199,  1, 378573,     16,2,20110517,0042, 60.3707, -48.4560,  683,     10.0,  -0.2323,  33.2002,2,  33.2040,2,    386.2,2,    396.2,2,     3.04,6,     0.00,6,     0.21,6,     0.18,6,     0.21,6,   2032.0,2,   2231.4,2,-999.0000,9,  -999.00,  -0.2326, 20110517,      105
  18HU20110506, AR07W,   199,  1, 378574,     17,2,20110517,0042, 60.3707, -48.4560,  683,      2.9,  -0.2347,  33.1998,2,-999.0000,9,    385.9,2,   -999.0,9,  -999.00,9,  -999.00,9,  -999.00,9,  -999.00,9,     -999,9,   -999.0,9,   -999.0,9,-999.0000,9,  -999.00,  -0.2348, 20110517,      106
  18HU20110506, AR07W,   204,  1, 378575,      1,2,20110517,0607, 60.2930, -48.5457, 2740,   2750.8,   2.5362,  34.9089,2,  34.9103,2,    272.9,2,    284.9,2,    10.39,6,    14.97,6,     0.42,6,     1.08,6,     0.42,6,   2164.9,2,   2307.6,2,   8.0000,3,    25.00,   2.3206, 20110517,      607
  18HU20110506, AR07W,   204,  1, 378576,      2,2,20110517,0607, 60.2930, -48.5457, 2740,   2752.1,   2.5378,  34.9088,2,-999.0000,9,    272.8,2,   -999.0,9,  -999.00,9,  -999.00,9,  -999.00,9,  -999.00,9,     -999,9,   -999.0,9,   -999.0,9,-999.0000,9,  -999.00,   2.3220, 20110517,      607
  18HU20110506, AR07W,   204,  1, 378577,      3,2,20110517,0607, 60.2930, -48.5457, 2740,   2611.5,   2.7386,  34.9066,2,  34.9103,2,    272.8,2,    283.5,2,    10.43,6,    14.91,6,     0.27,6,     1.02,6,     0.27,6,   2162.8,2,   2303.4,2,   8.0000,3,    25.00,   2.5327, 20110517,      611
  18HU20110506, AR07W,   204,  1, 378578,      4,2,20110517,0607, 60.2930, -48.5457, 2740,   2510.9,   2.7716,  34.9059,2,  34.9108,6,    272.8,2,    284.4,2,    10.27,6,    15.02,6,     0.30,6,     1.01,6,      0.3,6,   2162.0,6,   2303.7,6,   8.0000,3,    25.00,   2.5749, 20110517,      614
  18HU20110506, AR07W,   204,  1, 378579,      5,2,20110517,0607, 60.2930, -48.5457, 2740,   2351.2,   2.8264,  34.9074,2,  34.9110,2,    272.4,2,    283.6,2,    10.33,6,    15.02,6,     0.70,6,     1.02,6,      0.7,6,   2162.2,2,   2304.2,2,   8.0000,3,    25.00,   2.6440, 20110517,      618
  18HU20110506, AR07W,   204,  1, 378580,      6,2,20110517,0607, 60.2930, -48.5457, 2740,   2169.0,   2.9221,  34.9089,2,  34.9122,2,    271.0,2,    282.1,2,    10.36,6,    15.27,6,     0.31,6,     1.03,6,     0.31,6,   2159.6,2,   2302.7,2,   8.0000,3,    25.00,   2.7552, 20110517,      622
  18HU20110506, AR07W,   204,  1, 378581,      7,2,20110517,0607, 60.2930, -48.5457, 2740,   2019.6,   3.0637,  34.9127,2,  34.9161,2,    269.1,2,    279.7,2,    10.60,6,    15.55,6,     0.29,6,     1.05,6,     0.29,6,   2160.4,2,   2308.6,2,   8.0000,3,    25.00,   2.9084, 20110517,      625
  18HU20110506, AR07W,   204,  1, 378582,      8,2,20110517,0607, 60.2930, -48.5457, 2740,   1880.0,   3.2136,  34.9169,2,  34.9200,2,    267.4,2,    277.4,6,    10.90,6,    15.97,6,     0.25,6,     1.06,6,     0.25,6,   2163.7,2,   2312.1,2,   8.0000,3,    25.00,   3.0689, 20110517,      629
  18HU20110506, AR07W,   204,  1, 378583,      9,2,20110517,0607, 60.2930, -48.5457, 2740,   1628.6,   3.5011,  34.9156,2,  34.9188,2,    266.7,2,    277.0,2,    10.00,6,    15.90,6,     0.23,6,     1.06,6,     0.23,6,   2162.9,2,   2306.2,2,   8.0000,3,    25.00,   3.3753, 20110517,      634
  18HU20110506, AR07W,   204,  1, 378584,     10,2,20110517,0607, 60.2930, -48.5457, 2740,   1429.6,   3.7020,  34.9153,2,  34.9182,2,    266.2,2,    276.6,2,     9.39,6,    15.95,6,     0.21,6,     1.13,6,     0.21,6,   2164.6,2,   2303.1,2,   8.0000,3,    25.00,   3.5915, 20110517,      638
  18HU20110506, AR07W,   204,  1, 378585,     11,2,20110517,0607, 60.2930, -48.5457, 2740,   1251.0,   3.8246,  34.9091,2,  34.9117,2,    268.0,2,    278.1,2,     9.41,6,    16.07,6,     0.38,6,     1.08,6,     0.38,6,   2164.1,2,   2306.8,2,   8.0000,3,    25.00,   3.7284, 20110517,      642
  18HU20110506, AR07W,   204,  1, 378586,     12,2,20110517,0607, 60.2930, -48.5457, 2740,   1070.0,   3.9774,  34.9076,2,  34.9105,2,    270.5,2,    280.5,2,     9.03,6,    16.16,6,     0.24,6,     1.07,6,     0.24,6,   2165.5,2,   2305.0,2,   8.0000,3,    25.00,   3.8953, 20110517,      646
  18HU20110506, AR07W,   204,  1, 378587,     13,2,20110517,0607, 60.2930, -48.5457, 2740,    820.1,   4.4009,  34.9371,2,  34.9394,2,    270.3,2,   -999.0,9,     8.52,6,    15.60,6,     0.23,6,     1.04,6,     0.23,6,   2159.0,2,   2305.3,2,   8.0000,3,    25.00,   4.3368, 20110517,      652
  18HU20110506, AR07W,   204,  1, 378588,     14,2,20110517,0607, 60.2930, -48.5457, 2740,    675.3,   4.4577,  34.9317,2,  34.9351,2,    275.6,2,    285.6,2,     8.10,6,    15.61,6,     0.27,6,     1.03,6,     0.27,6,   2158.6,2,   2303.5,2,   8.0000,3,    25.00,   4.4054, 20110517,      656
  18HU20110506, AR07W,   204,  1, 378589,     15,2,20110517,0607, 60.2930, -48.5457, 2740,    512.2,   4.7278,  34.9511,2,-999.0000,9,    279.3,2,    289.1,2,     7.67,6,    14.99,6,     0.27,6,     1.00,6,     0.27,6,   2154.0,2,   2302.9,2,   8.1000,3,    25.00,   4.6876, 20110517,      659
  18HU20110506, AR07W,   204,  1, 378590,     16,2,20110517,0607, 60.2930, -48.5457, 2740,    358.8,   4.8308,  34.9597,2,  34.9580,6,    281.7,2,    290.6,2,     7.43,6,    14.51,6,     0.36,6,     0.96,6,     0.36,6,   2153.1,2,   2312.9,2,   8.1000,3,    25.00,   4.8028, 20110517,      703
  18HU20110506, AR07W,   204,  1, 378591,     17,2,20110517,0607, 60.2930, -48.5457, 2740,    248.4,   4.8836,  34.9479,2,-999.0000,9,    284.7,2,   -999.0,9,  -999.00,9,  -999.00,9,  -999.00,9,  -999.00,9,     -999,9,   -999.0,9,   -999.0,9,-999.0000,9,  -999.00,   4.8643, 20110517,      706
  18HU20110506, AR07W,   204,  1, 378592,     18,2,20110517,0607, 60.2930, -48.5457, 2740,    151.1,   4.4257,  34.8111,2,-999.0000,9,    292.3,2,   -999.0,9,  -999.00,9,  -999.00,9,  -999.00,9,  -999.00,9,     -999,9,   -999.0,9,   -999.0,9,-999.0000,9,  -999.00,   4.4147, 20110517,      708
  18HU20110506, AR07W,   204,  1, 378593,     19,2,20110517,0607, 60.2930, -48.5457, 2740,    100.7,   3.9414,  34.6968,2,  34.6969,2,    295.1,2,    303.4,2,     6.41,6,    11.28,6,     0.95,6,     0.84,6,     0.95,6,   2134.6,2,   2295.2,2,   8.1000,3,    25.00,   3.9345, 20110517,      710
  18HU20110506, AR07W,   204,  1, 378594,     20,2,20110517,0607, 60.2930, -48.5457, 2740,     49.2,   2.1002,  34.0424,2,  34.0280,2,    336.9,2,    347.7,2,     4.98,6,     5.17,6,     1.04,6,     0.57,6,     1.04,6,   2085.8,2,   2274.3,2,   8.1000,3,    25.00,   2.0976, 20110517,      712
  18HU20110506, AR07W,   204,  1, 378595,     21,2,20110517,0607, 60.2930, -48.5457, 2740,     21.0,   0.2907,  33.3732,2,  33.3552,2,    378.8,2,    390.1,2,     3.12,6,     0.00,6,     0.31,6,     0.22,6,     0.31,6,   2035.3,2,   2243.2,2,   8.2000,3,    25.00,   0.2900, 20110517,      713
  18HU20110506, AR07W,   204,  1, 378596,     22,2,20110517,0607, 60.2930, -48.5457, 2740,      2.8,   0.0712,  33.2926,2,  33.2948,2,    384.0,2,    394.1,2,     3.13,6,     0.00,6,     0.30,6,     0.20,6,      0.3,6,   2028.1,2,   2239.0,2,   8.3000,3,    25.00,   0.0711, 20110517,      714