BOTTLE,2013020413CCHSIOCBG
EXPOCODE,SECT_ID,STNNBR,CASTNO,SAMPNO,BTLNBR,BTLNBR_FLAG_W,DATE,TIME,LATITUDE,LONGITUDE,DEPTH,CTDPRS,CTDTMP,CTDSAL,CTDSAL_FLAG_W,SALNTY,SALNTY_FLAG_W,CTDOXY,CTDOXY_FLAG_W,OXYGEN,OXYGEN_FLAG_W,SILCAT,SILCAT_FLAG_W,NO2+NO3,NO2+NO3_FLAG_W,NITRIT,NITRIT_FLAG_W,PHSPHT,PHSPHT_FLAG_W,NH4,NH4_FLAG_W,TCARBN,TCARBN_FLAG_W,ALKALI,ALKALI_FLAG_W,PH_TOT,PH_TOT_FLAG_W,PH_TMP,THETA,BTL_DATE,BTL_TIME
,,,,,,,,,,,METERS,DBAR,ITS-90,PSS-78,,PSS-78,,UMOL/KG,,UMOL/KG,,UMOL/KG,,UMOL/KG,,UMOL/KG,,UMOL/KG,,UMOL/KG,,UMOL/KG,,UMOL/KG,,,,DEG C,DEG C,,
  18HU20110506, AR07W,   219,  1, 378662,      1,2,20110518,1417, 61.8825, -51.2550, 2600,   2658.1,   2.0796,  34.9008,2,-999.0000,9,    279.2,2,   -999.0,9,  -999.00,9,  -999.00,9,  -999.00,9,  -999.00,9,     -999,9,   -999.0,9,   -999.0,9,-999.0000,9,  -999.00,   1.8820, 20110518,     1417
  18HU20110506, AR07W,   219,  1, 378663,      2,2,20110518,1417, 61.8825, -51.2550, 2600,   2658.5,   2.0815,  34.9007,2,  34.9054,6,    279.2,2,    289.9,6,    10.57,6,    14.50,6,     0.33,6,     1.01,6,     0.33,6,   2160.1,2,   2306.6,2,-999.0000,9,  -999.00,   1.8839, 20110518,     1417
  18HU20110506, AR07W,   219,  1, 378664,      3,2,20110518,1417, 61.8825, -51.2550, 2600,   2501.0,   2.7689,  34.9161,2,  34.9211,2,    269.7,2,    280.9,2,    11.59,6,    15.64,6,     0.37,6,     1.08,6,     0.37,6,   2160.3,2,   2309.9,2,-999.0000,9,  -999.00,   2.5732, 20110518,     1421
  18HU20110506, AR07W,   219,  1, 378665,      4,2,20110518,1417, 61.8825, -51.2550, 2600,   2101.0,   3.1911,  34.9189,2,  34.9233,2,    266.2,2,    256.9,2,    10.95,6,    15.91,6,     0.33,6,     1.08,6,     0.33,6,   2158.5,2,   2298.0,2,-999.0000,9,  -999.00,   3.0263, 20110518,     1428
  18HU20110506, AR07W,   219,  1, 378666,      5,2,20110518,1417, 61.8825, -51.2550, 2600,   1701.7,   3.5685,  34.9200,2,  34.9237,2,    264.5,2,    264.7,2,    10.53,6,    16.45,6,     0.21,6,     1.10,6,     0.21,6,   2162.1,2,   2303.7,2,-999.0000,9,  -999.00,   3.4352, 20110518,     1435
  18HU20110506, AR07W,   219,  1, 378667,      6,2,20110518,1417, 61.8825, -51.2550, 2600,   1250.6,   3.8247,  34.9053,2,-999.0000,9,    269.3,2,    279.8,2,     9.43,6,    16.23,6,     0.12,6,     1.10,6,     0.12,6,   2163.0,2,   2298.2,2,-999.0000,9,  -999.00,   3.7286, 20110518,     1443
  18HU20110506, AR07W,   219,  1, 378668,      7,2,20110518,1417, 61.8825, -51.2550, 2600,    852.1,   4.2952,  34.9253,2,  34.9286,2,    270.1,2,    241.7,4,     8.72,6,    15.93,6,     0.23,6,     1.09,6,     0.23,6,   2163.0,2,   2302.9,2,-999.0000,9,  -999.00,   4.2291, 20110518,     1451
  18HU20110506, AR07W,   219,  1, 378669,      8,2,20110518,1417, 61.8825, -51.2550, 2600,    401.4,   4.9138,  34.9472,2,-999.0000,9,    279.8,2,   -999.0,9,     7.27,6,    14.63,6,     0.25,6,     1.00,6,     0.25,6,   -999.0,9,   -999.0,9,-999.0000,9,  -999.00,   4.8821, 20110518,     1459
  18HU20110506, AR07W,   219,  1, 378670,      9,2,20110518,1417, 61.8825, -51.2550, 2600,    201.0,   4.0336,  34.7086,2,  34.7105,2,    289.3,2,    248.7,4,     6.72,6,    13.26,6,     0.32,6,     0.93,6,     0.32,6,   2142.3,2,   2293.1,2,-999.0000,9,  -999.00,   4.0195, 20110518,     1502
  18HU20110506, AR07W,   219,  1, 378671,     10,2,20110518,1417, 61.8825, -51.2550, 2600,    148.5,   3.4674,  34.5556,2,-999.0000,9,    295.2,2,   -999.0,9,     6.43,6,    12.95,6,     0.29,6,     0.90,6,     0.29,6,   -999.0,9,   -999.0,9,-999.0000,9,  -999.00,   3.4578, 20110518,     1504
  18HU20110506, AR07W,   219,  1, 378672,     11,2,20110518,1417, 61.8825, -51.2550, 2600,    102.9,   2.7509,  34.3554,2,  34.3584,2,    302.7,2,    310.5,2,     5.99,6,    11.69,6,     0.30,6,     0.84,6,      0.3,6,   2131.5,2,   2277.5,2,-999.0000,9,  -999.00,   2.7449, 20110518,     1505
  18HU20110506, AR07W,   219,  1, 378673,     12,2,20110518,1417, 61.8825, -51.2550, 2600,     81.8,   2.4160,  34.2582,2,-999.0000,9,    306.2,2,   -999.0,9,     5.78,6,    11.35,6,     0.55,6,     0.82,6,     0.55,6,   -999.0,9,   -999.0,9,-999.0000,9,  -999.00,   2.4115, 20110518,     1506
  18HU20110506, AR07W,   219,  1, 378674,     13,2,20110518,1417, 61.8825, -51.2550, 2600,     59.9,   2.0720,  34.1626,2,-999.0000,9,    310.1,2,   -999.0,9,  -999.00,9,  -999.00,9,  -999.00,9,  -999.00,9,     -999,9,   -999.0,9,   -999.0,9,-999.0000,9,  -999.00,   2.0689, 20110518,     1507
  18HU20110506, AR07W,   219,  1, 378675,     14,2,20110518,1417, 61.8825, -51.2550, 2600,     50.5,   1.8302,  34.0748,2,-999.0000,9,    323.8,2,    328.8,2,     5.33,6,     8.01,6,     0.94,6,     0.68,6,     0.94,6,   -999.0,9,   -999.0,9,-999.0000,9,  -999.00,   1.8277, 20110518,     1507
  18HU20110506, AR07W,   219,  1, 378676,     15,2,20110518,1417, 61.8825, -51.2550, 2600,     38.8,   1.2075,  33.8191,2,-999.0000,9,    349.0,2,   -999.0,9,     4.15,6,     3.82,6,     0.71,6,     0.46,6,     0.71,6,   -999.0,9,   -999.0,9,-999.0000,9,  -999.00,   1.2058, 20110518,     1508
  18HU20110506, AR07W,   219,  1, 378677,     16,2,20110518,1417, 61.8825, -51.2550, 2600,     30.6,   0.6745,  33.4607,2,-999.0000,9,    388.3,2,    401.7,2,     1.54,6,     0.00,6,     0.11,6,     0.16,6,     0.07,6,   2023.7,2,   2253.2,2,-999.0000,9,  -999.00,   0.6733, 20110518,     1509
  18HU20110506, AR07W,   219,  1, 378678,     17,2,20110518,1417, 61.8825, -51.2550, 2600,     20.3,   0.6726,  33.4472,2,  33.4502,2,    393.9,2,    404.8,2,     1.23,6,     0.00,6,     0.22,6,     0.15,6,     0.22,6,   2014.3,2,   2251.7,2,-999.0000,9,  -999.00,   0.6718, 20110518,     1510
  18HU20110506, AR07W,   219,  1, 378679,     18,2,20110518,1417, 61.8825, -51.2550, 2600,     10.8,   0.6743,  33.4470,2,-999.0000,9,    394.7,2,    405.5,2,     1.26,6,     0.00,6,     0.33,6,     0.14,6,     0.33,6,   2015.0,2,   2247.1,2,-999.0000,9,  -999.00,   0.6739, 20110518,     1510
  18HU20110506, AR07W,   219,  1, 378680,     19,2,20110518,1417, 61.8825, -51.2550, 2600,      2.5,   0.6767,  33.4422,2,-999.0000,9,    395.8,2,    405.1,2,     1.23,6,     0.00,6,     0.16,6,     0.13,6,     0.12,6,   2015.3,2,   2249.6,2,-999.0000,9,  -999.00,   0.6766, 20110518,     1511
  18HU20110506, AR07W,   222,  1, 378681,      1,2,20110518,1828, 61.7295, -51.4933, 2900,   2878.2,   1.9361,  34.8981,2,-999.0000,9,    282.1,2,   -999.0,9,  -999.00,9,  -999.00,9,  -999.00,9,  -999.00,9,     -999,9,   -999.0,9,   -999.0,9,-999.0000,9,  -999.00,   1.7205, 20110518,     1828
  18HU20110506, AR07W,   222,  1, 378682,      2,2,20110518,1828, 61.7295, -51.4933, 2900,   2878.4,   1.9366,  34.8980,2,  34.9014,2,    282.3,2,    292.4,6,     9.95,6,    14.15,6,     0.30,6,     1.00,6,      0.3,6,   2162.4,2,   2302.0,2,-999.0000,9,  -999.00,   1.7209, 20110518,     1828
  18HU20110506, AR07W,   222,  1, 378683,      3,2,20110518,1828, 61.7295, -51.4933, 2900,   2502.4,   2.7594,  34.9168,2,  34.9203,2,    269.6,2,    281.7,2,    11.64,6,    15.43,6,     0.31,6,     1.07,6,     0.31,6,   2163.6,2,   2309.2,2,-999.0000,9,  -999.00,   2.5637, 20110518,     1836
  18HU20110506, AR07W,   222,  1, 378684,      4,2,20110518,1828, 61.7295, -51.4933, 2900,   2097.7,   3.1645,  34.9186,2,  34.9218,2,    267.1,2,    278.5,2,    10.99,6,    15.70,6,     0.24,6,     1.10,6,     0.24,6,   2163.1,2,   2302.1,2,-999.0000,9,  -999.00,   3.0004, 20110518,     1844
  18HU20110506, AR07W,   222,  1, 378685,      5,2,20110518,1828, 61.7295, -51.4933, 2900,   1602.2,   3.6784,  34.9202,2,  34.9236,2,    264.6,2,   -999.0,9,    10.22,6,    16.16,6,     0.25,6,     1.12,6,     0.25,6,   2165.4,2,   2303.5,2,-999.0000,9,  -999.00,   3.5528, 20110518,     1853
  18HU20110506, AR07W,   222,  1, 378686,      6,2,20110518,1828, 61.7295, -51.4933, 2900,   1248.9,   3.9678,  34.9157,2,  34.9193,2,    267.9,2,    279.4,2,     9.26,6,    16.02,6,     0.30,6,     1.10,6,      0.3,6,   2167.3,2,   2305.8,2,-999.0000,9,  -999.00,   3.8704, 20110518,     1900
  18HU20110506, AR07W,   222,  1, 378687,      7,2,20110518,1828, 61.7295, -51.4933, 2900,    854.7,   4.3408,  34.9330,2,  34.9356,2,    270.0,2,    279.7,2,     8.74,6,    15.75,6,     0.34,6,     1.09,6,     0.34,6,   2162.4,2,   2305.7,2,-999.0000,9,  -999.00,   4.2742, 20110518,     1907
  18HU20110506, AR07W,   222,  1, 378688,      8,2,20110518,1828, 61.7295, -51.4933, 2900,    398.8,   4.8234,  34.9489,2,-999.0000,9,    279.2,2,    288.6,2,     7.48,6,    14.76,6,     0.19,6,     1.02,6,     0.19,6,   2154.3,6,   2309.0,2,-999.0000,9,  -999.00,   4.7922, 20110518,     1916
  18HU20110506, AR07W,   222,  1, 378689,      9,2,20110518,1828, 61.7295, -51.4933, 2900,    205.1,   4.4626,  34.8345,2,  34.8280,2,    284.8,2,    215.1,4,     6.91,6,    13.84,6,     0.22,6,     0.98,6,     0.22,6,   2151.0,2,   2297.7,2,-999.0000,9,  -999.00,   4.4475, 20110518,     1920
  18HU20110506, AR07W,   222,  1, 378690,     10,2,20110518,1828, 61.7295, -51.4933, 2900,    150.8,   3.9510,  34.7030,2,-999.0000,9,    290.1,2,   -999.0,9,     6.58,6,    13.00,6,     0.37,6,     0.93,6,     0.37,6,   -999.0,9,   -999.0,9,-999.0000,9,  -999.00,   3.9406, 20110518,     1921
  18HU20110506, AR07W,   222,  1, 378691,     11,2,20110518,1828, 61.7295, -51.4933, 2900,     99.0,   3.2528,  34.5041,2,  34.5059,2,    297.2,2,    226.0,4,     6.28,6,    12.14,6,     0.33,6,     0.89,6,     0.33,6,   2133.5,6,   2280.9,2,-999.0000,9,  -999.00,   3.2466, 20110518,     1923
  18HU20110506, AR07W,   222,  1, 378692,     12,2,20110518,1828, 61.7295, -51.4933, 2900,     81.3,   2.9178,  34.4124,2,-999.0000,9,    303.0,2,   -999.0,9,     6.03,6,    11.01,6,     0.59,6,     0.85,6,     0.59,6,   -999.0,9,   -999.0,9,-999.0000,9,  -999.00,   2.9129, 20110518,     1924
  18HU20110506, AR07W,   222,  1, 378693,     13,2,20110518,1828, 61.7295, -51.4933, 2900,     61.9,   2.2728,  34.2290,2,-999.0000,9,    310.2,2,   -999.0,9,     5.63,6,     9.34,6,     0.96,6,     0.79,6,     0.96,6,   -999.0,9,   -999.0,9,-999.0000,9,  -999.00,   2.2695, 20110518,     1925
  18HU20110506, AR07W,   222,  1, 378694,     14,2,20110518,1828, 61.7295, -51.4933, 2900,     49.7,   1.5498,  33.9310,2,-999.0000,9,    329.9,2,    340.9,2,     4.81,6,     5.44,6,     1.10,6,     0.58,6,      1.1,6,   2086.6,2,   2268.3,2,-999.0000,9,  -999.00,   1.5474, 20110518,     1926
  18HU20110506, AR07W,   222,  1, 378695,     15,2,20110518,1828, 61.7295, -51.4933, 2900,     39.9,   0.9325,  33.5777,2,-999.0000,9,    366.0,2,   -999.0,9,     3.26,6,     1.20,6,     0.44,6,     0.32,6,     0.44,6,   -999.0,9,   -999.0,9,-999.0000,9,  -999.00,   0.9308, 20110518,     1927
  18HU20110506, AR07W,   222,  1, 378696,     16,2,20110518,1828, 61.7295, -51.4933, 2900,     30.9,   1.0409,  33.5344,2,-999.0000,9,    374.7,2,    385.4,2,     3.31,6,     0.59,6,     0.32,6,     0.24,6,     0.32,6,   2015.3,2,   2239.3,2,-999.0000,9,  -999.00,   1.0396, 20110518,     1928
  18HU20110506, AR07W,   222,  1, 378697,     17,2,20110518,1828, 61.7295, -51.4933, 2900,     19.9,   1.1003,  33.5373,2,  33.5410,2,    376.2,2,    388.3,2,     3.31,6,     0.43,6,     0.39,6,     0.25,6,     0.39,6,   2010.5,2,   2244.2,2,-999.0000,9,  -999.00,   1.0995, 20110518,     1929
  18HU20110506, AR07W,   222,  1, 378698,     18,2,20110518,1828, 61.7295, -51.4933, 2900,     10.7,   1.1181,  33.5393,2,-999.0000,9,    376.1,2,    388.6,2,     3.33,6,     0.55,6,     0.18,6,     0.23,6,     0.18,6,   2009.9,2,   2246.9,2,-999.0000,9,  -999.00,   1.1176, 20110518,     1930
  18HU20110506, AR07W,   222,  1, 378699,     19,2,20110518,1828, 61.7295, -51.4933, 2900,      2.7,   1.1224,  33.5393,2,-999.0000,9,    376.9,2,    386.3,2,     3.36,6,     0.37,6,     0.30,6,     0.23,6,      0.3,6,   2011.3,2,   2247.6,2,-999.0000,9,  -999.00,   1.1223, 20110518,     1931
  18HU20110506, AR07W,   227,  1, 378700,      1,2,20110518,2248, 61.5135, -51.7868, 2953,   2978.8,   1.8996,  34.8984,2,-999.0000,9,    282.8,2,   -999.0,9,  -999.00,9,  -999.00,9,  -999.00,9,  -999.00,9,     -999,9,   -999.0,9,   -999.0,9,-999.0000,9,  -999.00,   1.6750, 20110518,     2248
  18HU20110506, AR07W,   227,  1, 378701,      2,2,20110518,2248, 61.5135, -51.7868, 2953,   2977.7,   1.8986,  34.8986,2,  34.9029,2,    282.7,2,    293.3,6,     9.68,6,    14.15,6,     0.30,6,     0.99,6,      0.3,6,   2162.4,2,   -999.0,9,-999.0000,9,  -999.00,   1.6741, 20110518,     2248
  18HU20110506, AR07W,   227,  1, 378702,      3,2,20110518,2248, 61.5135, -51.7868, 2953,   2695.5,   2.5370,  34.9125,2,  34.9170,2,    270.4,2,    281.8,2,    12.28,6,    15.45,6,     0.42,6,     1.05,6,     0.42,6,   2162.7,2,   2307.0,2,-999.0000,9,  -999.00,   2.3268, 20110518,     2252
  18HU20110506, AR07W,   227,  1, 378703,      4,2,20110518,2248, 61.5135, -51.7868, 2953,   2433.9,   2.7847,  34.9175,2,  34.9204,2,    269.0,2,    279.9,2,    11.78,6,    15.56,6,     0.28,6,     1.06,6,     0.28,6,   2163.4,2,   2304.6,2,-999.0000,9,  -999.00,   2.5951, 20110518,     2258
  18HU20110506, AR07W,   227,  1, 378704,      5,2,20110518,2248, 61.5135, -51.7868, 2953,   2103.1,   3.1341,  34.9173,2,  34.9204,2,    268.0,2,    277.4,2,    11.18,6,    16.05,6,     0.26,6,     1.13,6,     0.26,6,   2161.9,2,   2304.9,2,-999.0000,9,  -999.00,   2.9700, 20110518,     2307
  18HU20110506, AR07W,   227,  1, 378705,      6,2,20110518,2248, 61.5135, -51.7868, 2953,   1676.9,   3.5892,  34.9226,2,  34.9263,2,    264.3,2,    273.9,2,    10.40,6,    16.16,6,     0.17,6,     1.12,6,     0.17,6,   2163.6,2,   2306.8,2,   8.0000,3,    25.00,   3.4579, 20110518,     2315
  18HU20110506, AR07W,   227,  1, 378706,      7,2,20110518,2248, 61.5135, -51.7868, 2953,   1230.7,   3.6631,  34.8738,2,  34.8771,2,    275.0,2,    284.6,2,     9.15,6,    16.33,6,     0.20,6,     1.10,6,      0.2,6,   2161.1,2,   2300.9,2,-999.0000,9,  -999.00,   3.5703, 20110518,     2326
  18HU20110506, AR07W,   227,  1, 378707,      8,2,20110518,2248, 61.5135, -51.7868, 2953,    601.0,   4.7740,  34.9519,2,  34.9558,2,    275.2,2,    284.9,2,     7.85,6,    15.15,6,     0.25,6,     1.03,6,     0.25,6,   2156.1,2,   2307.8,2,-999.0000,9,  -999.00,   4.7263, 20110518,     2340
  18HU20110506, AR07W,   227,  1, 378708,      9,2,20110518,2248, 61.5135, -51.7868, 2953,    202.9,   4.2304,  34.7814,2,  34.7837,2,    285.8,2,    294.8,2,     6.75,6,    13.80,6,     0.23,6,     0.95,6,     0.23,6,   2145.3,2,   2302.3,2,-999.0000,9,  -999.00,   4.2158, 20110518,     2346
  18HU20110506, AR07W,   227,  1, 378709,     10,2,20110518,2248, 61.5135, -51.7868, 2953,    157.0,   3.8146,  34.6777,2,-999.0000,9,    289.6,2,   -999.0,9,     6.41,6,    12.87,6,     0.31,6,     0.91,6,     0.31,6,   -999.0,9,   -999.0,9,-999.0000,9,  -999.00,   3.8039, 20110518,     2348
  18HU20110506, AR07W,   227,  1, 378710,     11,2,20110518,2248, 61.5135, -51.7868, 2953,    103.0,   3.3158,  34.5393,2,  34.5331,2,    295.0,2,    303.8,2,     6.18,6,    12.13,6,     0.81,6,     0.89,6,     0.81,6,   2133.4,2,   2283.4,2,-999.0000,9,  -999.00,   3.3093, 20110518,     2350
  18HU20110506, AR07W,   227,  1, 378711,     12,2,20110518,2248, 61.5135, -51.7868, 2953,     80.8,   3.0240,  34.4566,2,-999.0000,9,    298.3,2,   -999.0,9,     6.08,6,    11.51,6,     0.71,6,     0.87,6,     0.71,6,   -999.0,9,   -999.0,9,-999.0000,9,  -999.00,   3.0191, 20110518,     2351
  18HU20110506, AR07W,   227,  1, 378712,     13,2,20110518,2248, 61.5135, -51.7868, 2953,     60.6,   2.5157,  34.2885,2,-999.0000,9,    306.5,2,   -999.0,9,     5.77,6,    10.02,6,     0.93,6,     0.84,6,     0.93,6,   -999.0,9,   -999.0,9,-999.0000,9,  -999.00,   2.5123, 20110518,     2352
  18HU20110506, AR07W,   227,  1, 378713,     14,2,20110518,2248, 61.5135, -51.7868, 2953,     50.6,   2.1449,  34.0964,2,-999.0000,9,    328.5,2,    336.8,2,     5.33,6,     5.93,6,     1.26,6,     0.61,6,     1.26,6,   2091.3,2,   2270.1,2,-999.0000,9,  -999.00,   2.1422, 20110518,     2353
  18HU20110506, AR07W,   227,  1, 378714,     15,2,20110518,2248, 61.5135, -51.7868, 2953,     40.1,   1.7975,  33.9123,2,-999.0000,9,    347.1,2,   -999.0,9,     4.76,6,     2.90,6,     0.91,6,     0.46,6,     0.91,6,   -999.0,9,   -999.0,9,-999.0000,9,  -999.00,   1.7955, 20110518,     2354
  18HU20110506, AR07W,   227,  1, 378715,     16,2,20110518,2248, 61.5135, -51.7868, 2953,     30.3,   0.9473,  33.5291,2,-999.0000,9,    382.7,2,    392.7,2,     2.23,6,     0.00,6,     0.09,6,     0.17,6,     0.05,6,   2018.0,2,   2250.9,2,   8.4000,3,    25.00,   0.9460, 20110518,     2355
  18HU20110506, AR07W,   227,  1, 378716,     17,2,20110518,2248, 61.5135, -51.7868, 2953,     21.4,   0.9179,  33.5146,2,  33.5172,2,    382.6,2,    393.1,2,     2.23,6,     0.00,6,     0.32,6,     0.17,6,     0.32,6,   2015.4,2,   2249.8,2,   8.4000,3,    25.00,   0.9170, 20110518,     2355
  18HU20110506, AR07W,   227,  1, 378717,     18,2,20110518,2248, 61.5135, -51.7868, 2953,     11.2,   0.9164,  33.5137,2,-999.0000,9,    382.7,2,    392.2,2,     2.27,6,     0.00,6,     0.17,6,     0.17,6,     0.17,6,   2015.3,2,   2248.6,2,   8.4000,3,    25.00,   0.9159, 20110518,     2356
  18HU20110506, AR07W,   227,  1, 378718,     19,2,20110518,2248, 61.5135, -51.7868, 2953,      1.9,   0.9169,  33.5152,2,-999.0000,9,    383.7,2,    392.0,2,     2.21,6,     0.00,6,     0.10,6,     0.17,6,      0.1,6,   2017.4,2,   2249.4,2,   8.4000,3,    25.00,   0.9168, 20110518,     2357