BOTTLE,2013020413CCHSIOCBG
EXPOCODE,SECT_ID,STNNBR,CASTNO,SAMPNO,BTLNBR,BTLNBR_FLAG_W,DATE,TIME,LATITUDE,LONGITUDE,DEPTH,CTDPRS,CTDTMP,CTDSAL,CTDSAL_FLAG_W,SALNTY,SALNTY_FLAG_W,CTDOXY,CTDOXY_FLAG_W,OXYGEN,OXYGEN_FLAG_W,SILCAT,SILCAT_FLAG_W,NO2+NO3,NO2+NO3_FLAG_W,NITRIT,NITRIT_FLAG_W,PHSPHT,PHSPHT_FLAG_W,NH4,NH4_FLAG_W,TCARBN,TCARBN_FLAG_W,ALKALI,ALKALI_FLAG_W,PH_TOT,PH_TOT_FLAG_W,PH_TMP,THETA,BTL_DATE,BTL_TIME
,,,,,,,,,,,METERS,DBAR,ITS-90,PSS-78,,PSS-78,,UMOL/KG,,UMOL/KG,,UMOL/KG,,UMOL/KG,,UMOL/KG,,UMOL/KG,,UMOL/KG,,UMOL/KG,,UMOL/KG,,,,DEG C,DEG C,,
  18HU20110506, AR07W,   211,  1, 378597,      1,2,20110517,1444, 60.0792, -48.7872, 2915,    205.6,   4.7502,  34.9198,2,-999.0000,9,    280.4,2,   -999.0,9,     7.33,6,    14.47,6,     0.28,6,     1.03,6,     0.28,6,   -999.0,9,   -999.0,9,-999.0000,9,  -999.00,   4.7345, 20110517,     1444
  18HU20110506, AR07W,   211,  1, 378598,      2,2,20110517,1444, 60.0792, -48.7872, 2915,    204.6,   4.7500,  34.9191,2,-999.0000,9,    281.4,2,   -999.0,9,  -999.00,9,  -999.00,9,  -999.00,9,  -999.00,9,     -999,9,   -999.0,9,   -999.0,9,-999.0000,9,  -999.00,   4.7344, 20110517,     1445
  18HU20110506, AR07W,   211,  1, 378599,      3,2,20110517,1444, 60.0792, -48.7872, 2915,    151.5,   4.5967,  34.8801,2,-999.0000,9,    283.8,2,   -999.0,9,     7.06,6,    14.09,6,     0.36,6,     0.93,6,     0.36,6,   -999.0,9,   -999.0,9,-999.0000,9,  -999.00,   4.5854, 20110517,     1446
  18HU20110506, AR07W,   211,  1, 378600,      4,2,20110517,1444, 60.0792, -48.7872, 2915,    153.4,   4.6007,  34.8813,2,-999.0000,9,    283.6,2,   -999.0,9,  -999.00,9,  -999.00,9,  -999.00,9,  -999.00,9,     -999,9,   -999.0,9,   -999.0,9,-999.0000,9,  -999.00,   4.5893, 20110517,     1447
  18HU20110506, AR07W,   211,  1, 378601,      5,2,20110517,1444, 60.0792, -48.7872, 2915,     98.9,   3.9461,  34.6922,2,-999.0000,9,    300.9,2,   -999.0,9,     6.74,6,    10.54,6,     1.38,6,     0.79,6,     1.38,6,   -999.0,9,   -999.0,9,-999.0000,9,  -999.00,   3.9393, 20110517,     1448
  18HU20110506, AR07W,   211,  1, 378602,      6,2,20110517,1444, 60.0792, -48.7872, 2915,     99.0,   3.9436,  34.6890,2,-999.0000,9,    303.3,2,   -999.0,9,  -999.00,9,  -999.00,9,  -999.00,9,  -999.00,9,     -999,9,   -999.0,9,   -999.0,9,-999.0000,9,  -999.00,   3.9368, 20110517,     1449
  18HU20110506, AR07W,   211,  1, 378603,      7,2,20110517,1444, 60.0792, -48.7872, 2915,     81.3,   3.6637,  34.5834,2,-999.0000,9,    312.1,2,   -999.0,9,     6.34,6,     9.01,6,     1.42,6,     0.78,6,     1.42,6,   -999.0,9,   -999.0,9,-999.0000,9,  -999.00,   3.6583, 20110517,     1450
  18HU20110506, AR07W,   211,  1, 378604,      8,2,20110517,1444, 60.0792, -48.7872, 2915,     81.3,   3.6931,  34.5928,2,-999.0000,9,    312.2,2,   -999.0,9,  -999.00,9,  -999.00,9,  -999.00,9,  -999.00,9,     -999,9,   -999.0,9,   -999.0,9,-999.0000,9,  -999.00,   3.6877, 20110517,     1451
  18HU20110506, AR07W,   211,  1, 378605,      9,2,20110517,1444, 60.0792, -48.7872, 2915,     59.8,   3.4876,  34.5109,2,-999.0000,9,    322.2,2,   -999.0,9,     6.07,6,     6.67,6,     1.34,6,     0.62,6,     1.34,6,   -999.0,9,   -999.0,9,-999.0000,9,  -999.00,   3.4838, 20110517,     1452
  18HU20110506, AR07W,   211,  1, 378606,     10,2,20110517,1444, 60.0792, -48.7872, 2915,     60.0,   3.4851,  34.5099,2,-999.0000,9,    322.6,2,   -999.0,9,  -999.00,9,  -999.00,9,  -999.00,9,  -999.00,9,     -999,9,   -999.0,9,   -999.0,9,-999.0000,9,  -999.00,   3.4812, 20110517,     1452
  18HU20110506, AR07W,   211,  1, 378607,     11,2,20110517,1444, 60.0792, -48.7872, 2915,     48.4,   3.1340,  34.3679,2,-999.0000,9,    333.8,2,   -999.0,9,     5.70,6,     4.72,6,     1.07,6,     0.52,6,     1.07,6,   -999.0,9,   -999.0,9,-999.0000,9,  -999.00,   3.1310, 20110517,     1453
  18HU20110506, AR07W,   211,  1, 378608,     12,2,20110517,1444, 60.0792, -48.7872, 2915,     48.4,   3.1525,  34.3744,2,-999.0000,9,    334.6,2,   -999.0,9,     5.66,6,     4.25,6,     1.13,6,     0.49,6,     1.13,6,   -999.0,9,   -999.0,9,-999.0000,9,  -999.00,   3.1495, 20110517,     1454
  18HU20110506, AR07W,   211,  1, 378609,     13,2,20110517,1444, 60.0792, -48.7872, 2915,     40.2,   3.0673,  34.3424,2,-999.0000,9,    337.4,2,   -999.0,9,  -999.00,9,  -999.00,9,  -999.00,9,  -999.00,9,     -999,9,   -999.0,9,   -999.0,9,-999.0000,9,  -999.00,   3.0649, 20110517,     1454
  18HU20110506, AR07W,   211,  1, 378610,     14,2,20110517,1444, 60.0792, -48.7872, 2915,     40.7,   3.0368,  34.3311,2,-999.0000,9,    337.8,2,   -999.0,9,  -999.00,9,  -999.00,9,  -999.00,9,  -999.00,9,     -999,9,   -999.0,9,   -999.0,9,-999.0000,9,  -999.00,   3.0343, 20110517,     1455
  18HU20110506, AR07W,   211,  1, 378611,     15,2,20110517,1444, 60.0792, -48.7872, 2915,     29.6,   2.1634,  34.0359,2,-999.0000,9,    355.7,2,   -999.0,9,     5.00,6,     2.08,6,     0.86,6,     0.37,6,     0.86,6,   -999.0,9,   -999.0,9,-999.0000,9,  -999.00,   2.1618, 20110517,     1456
  18HU20110506, AR07W,   211,  1, 378612,     16,2,20110517,1444, 60.0792, -48.7872, 2915,     29.4,   2.1541,  34.0267,2,-999.0000,9,    357.5,2,   -999.0,9,  -999.00,9,  -999.00,9,  -999.00,9,  -999.00,9,     -999,9,   -999.0,9,   -999.0,9,-999.0000,9,  -999.00,   2.1526, 20110517,     1456
  18HU20110506, AR07W,   211,  1, 378613,     17,2,20110517,1444, 60.0792, -48.7872, 2915,     19.9,   1.6247,  33.8009,2,-999.0000,9,    381.7,2,   -999.0,9,  -999.00,9,  -999.00,9,  -999.00,9,  -999.00,9,     -999,9,   -999.0,9,   -999.0,9,-999.0000,9,  -999.00,   1.6238, 20110517,     1457
  18HU20110506, AR07W,   211,  1, 378614,     18,2,20110517,1444, 60.0792, -48.7872, 2915,     19.8,   1.6272,  33.8002,2,-999.0000,9,    381.4,2,   -999.0,9,  -999.00,9,  -999.00,9,  -999.00,9,  -999.00,9,     -999,9,   -999.0,9,   -999.0,9,-999.0000,9,  -999.00,   1.6263, 20110517,     1458
  18HU20110506, AR07W,   211,  1, 378615,     19,2,20110517,1444, 60.0792, -48.7872, 2915,      9.7,   1.5617,  33.7310,2,-999.0000,9,    392.0,2,   -999.0,9,     3.82,6,     0.00,6,     0.18,6,     0.20,6,     0.18,6,   -999.0,9,   -999.0,9,-999.0000,9,  -999.00,   1.5612, 20110517,     1459
  18HU20110506, AR07W,   211,  1, 378616,     20,2,20110517,1444, 60.0792, -48.7872, 2915,      9.9,   1.5608,  33.7305,2,-999.0000,9,    393.4,2,   -999.0,9,  -999.00,9,  -999.00,9,  -999.00,9,  -999.00,9,     -999,9,   -999.0,9,   -999.0,9,-999.0000,9,  -999.00,   1.5603, 20110517,     1459
  18HU20110506, AR07W,   211,  1, 378617,     21,2,20110517,1444, 60.0792, -48.7872, 2915,      2.3,   1.5584,  33.7309,2,-999.0000,9,    392.7,2,   -999.0,9,     3.76,6,     0.00,6,     0.22,6,     0.18,6,     0.22,6,   -999.0,9,   -999.0,9,-999.0000,9,  -999.00,   1.5583, 20110517,     1500
  18HU20110506, AR07W,   211,  1, 378618,     22,2,20110517,1444, 60.0792, -48.7872, 2915,      2.7,   1.5590,  33.7348,2,-999.0000,9,    393.1,2,   -999.0,9,  -999.00,9,  -999.00,9,  -999.00,9,  -999.00,9,     -999,9,   -999.0,9,   -999.0,9,-999.0000,9,  -999.00,   1.5589, 20110517,     1500
  18HU20110506, AR07W,   215,  1, 378619,      1,2,20110517,2035, 60.1805, -48.6745, 2850,   2884.7,   2.2860,  34.9042,2,-999.0000,9,    276.7,2,   -999.0,9,  -999.00,9,  -999.00,9,  -999.00,9,  -999.00,9,     -999,9,   -999.0,9,   -999.0,9,-999.0000,9,  -999.00,   2.0623, 20110517,     2035
  18HU20110506, AR07W,   215,  1, 378620,      2,2,20110517,2035, 60.1805, -48.6745, 2850,   2883.7,   2.2862,  34.9043,2,  34.9072,2,    276.9,2,    287.0,2,    11.11,6,    14.72,6,     0.23,6,     1.04,6,     0.23,6,   2163.1,2,   2255.0,4,-999.0000,9,  -999.00,   2.0626, 20110517,     2035
  18HU20110506, AR07W,   215,  1, 378621,      3,2,20110517,2035, 60.1805, -48.6745, 2850,   2836.3,   2.2932,  34.9045,2,  34.9072,2,    276.2,2,    287.6,2,    11.14,6,    14.79,6,     0.20,6,     1.05,6,      0.2,6,   2162.5,2,   2440.3,3,-999.0000,9,  -999.00,   2.0741, 20110517,     2037
  18HU20110506, AR07W,   215,  1, 378622,      4,2,20110517,2035, 60.1805, -48.6745, 2850,   2746.5,   2.3175,  34.9046,2,  34.9070,2,    275.5,2,   -999.0,9,    11.08,6,    14.94,6,     0.44,6,     1.02,6,     0.44,6,   2161.7,2,   2285.6,3,   8.0000,3,    25.00,   2.1067, 20110517,     2039
  18HU20110506, AR07W,   215,  1, 378623,      5,2,20110517,2035, 60.1805, -48.6745, 2850,   2659.5,   2.4564,  34.9106,2,  34.9134,2,    271.6,2,    282.6,2,    12.65,6,    15.35,6,     0.23,6,     1.04,6,     0.23,6,   2163.7,2,   2307.9,3,-999.0000,9,  -999.00,   2.2513, 20110517,     2042
  18HU20110506, AR07W,   215,  1, 378624,      6,2,20110517,2035, 60.1805, -48.6745, 2850,   2544.6,   2.5887,  34.9131,2,  34.9155,2,    271.1,2,    281.6,6,    12.28,6,    15.35,6,     0.29,6,     1.04,6,     0.29,6,   2162.1,6,   2311.9,3,-999.0000,9,  -999.00,   2.3921, 20110517,     2046
  18HU20110506, AR07W,   215,  1, 378625,      7,2,20110517,2035, 60.1805, -48.6745, 2850,   2401.5,   2.6669,  34.9113,2,  34.9135,2,    271.9,2,    282.2,2,    11.12,6,    15.27,6,     0.32,6,     1.04,6,     0.32,6,   2161.9,2,   2311.5,6,-999.0000,9,  -999.00,   2.4825, 20110517,     2050
  18HU20110506, AR07W,   215,  1, 378626,      8,2,20110517,2035, 60.1805, -48.6745, 2850,   2240.7,   2.7501,  34.9118,2,  34.9143,2,    271.1,2,    282.2,2,    11.16,6,    15.32,6,     0.30,6,     1.01,6,      0.3,6,   2161.7,2,   2306.5,2,-999.0000,9,  -999.00,   2.5794, 20110517,     2054
  18HU20110506, AR07W,   215,  1, 378627,      9,2,20110517,2035, 60.1805, -48.6745, 2850,   2060.3,   2.9321,  34.9195,2,  34.9213,2,    267.9,2,    278.8,2,    11.47,6,    15.70,6,     0.47,6,     1.08,6,     0.47,6,   2163.2,2,   2309.7,2,-999.0000,9,  -999.00,   2.7751, 20110517,     2058
  18HU20110506, AR07W,   215,  1, 378628,     10,2,20110517,2035, 60.1805, -48.6745, 2850,   1859.4,   3.1594,  34.9202,2,  34.9223,2,    266.9,2,    277.0,2,    11.17,6,    15.97,6,     0.23,6,     1.06,6,     0.23,6,   2161.9,2,   2303.3,2,-999.0000,9,  -999.00,   3.0173, 20110517,     2102
  18HU20110506, AR07W,   215,  1, 378629,     11,2,20110517,2035, 60.1805, -48.6745, 2850,   1660.1,   3.3473,  34.9189,2,  34.9209,2,    265.3,2,    275.8,2,    11.02,6,    16.31,6,     0.26,6,     1.17,6,     0.26,6,   2161.9,2,   2301.3,2,-999.0000,9,  -999.00,   3.2206, 20110517,     2107
  18HU20110506, AR07W,   215,  1, 378630,     12,2,20110517,2035, 60.1805, -48.6745, 2850,   1460.6,   3.5867,  34.9252,2,  34.9270,2,    263.8,2,   -999.0,9,    10.51,6,    16.40,6,     0.27,6,     1.09,6,     0.27,6,   2162.3,2,   2330.1,3,-999.0000,9,  -999.00,   3.4747, 20110517,     2112
  18HU20110506, AR07W,   215,  1, 378631,     13,2,20110517,2035, 60.1805, -48.6745, 2850,   1261.8,   3.7289,  34.9113,2,  34.9132,2,    266.2,2,    276.8,2,     9.92,6,    16.36,6,     0.24,6,     1.09,6,     0.24,6,   2162.9,2,   2301.8,2,   8.0000,3,    25.00,   3.6327, 20110517,     2116
  18HU20110506, AR07W,   215,  1, 378632,     14,2,20110517,2035, 60.1805, -48.6745, 2850,   1059.3,   3.8423,  34.9010,2,  34.9029,2,    269.3,2,    279.4,2,     9.36,6,    16.25,6,     0.30,6,     1.09,6,      0.3,6,   2162.6,2,   2302.5,2,-999.0000,9,  -999.00,   3.7623, 20110517,     2120
  18HU20110506, AR07W,   215,  1, 378633,     15,2,20110517,2035, 60.1805, -48.6745, 2850,    878.8,   4.0070,  34.9096,2,  34.9116,2,    271.0,2,    280.3,2,     9.10,6,    16.20,6,     0.37,6,     1.07,6,     0.37,6,   2164.2,2,   2309.9,2,   8.0000,3,    25.00,   3.9407, 20110517,     2124
  18HU20110506, AR07W,   215,  1, 378634,     16,2,20110517,2035, 60.1805, -48.6745, 2850,    718.7,   4.2410,  34.9166,2,  34.9165,2,    273.3,2,    286.6,2,     8.42,6,    15.74,6,     0.22,6,     1.05,6,     0.22,6,   2160.2,2,   2307.3,2,-999.0000,9,  -999.00,   4.1863, 20110517,     2127
  18HU20110506, AR07W,   215,  1, 378635,     17,2,20110517,2035, 60.1805, -48.6745, 2850,    578.5,   4.2941,  34.9000,2,  34.9017,2,    286.4,2,    297.0,2,     7.53,6,    14.80,6,     0.23,6,     0.99,6,     0.23,6,   2155.1,2,   2308.2,2,-999.0000,9,  -999.00,   4.2505, 20110517,     2131
  18HU20110506, AR07W,   215,  1, 378636,     18,2,20110517,2035, 60.1805, -48.6745, 2850,    462.6,   4.5460,  34.9264,2,  34.9299,2,    282.3,2,    291.2,2,     7.82,6,    14.92,6,     0.27,6,     1.01,6,     0.27,6,   2158.6,2,   2304.7,2,   8.1000,3,    25.00,   4.5106, 20110517,     2133
  18HU20110506, AR07W,   215,  1, 378637,     19,2,20110517,2035, 60.1805, -48.6745, 2850,    341.3,   4.6267,  34.9254,2,  34.9301,2,    283.5,2,    292.9,2,     7.39,6,    14.35,6,     0.48,6,     1.03,6,     0.48,6,   2153.3,2,   2309.2,2,-999.0000,9,  -999.00,   4.6007, 20110517,     2136
  18HU20110506, AR07W,   215,  1, 378638,     20,2,20110517,2035, 60.1805, -48.6745, 2850,    240.7,   4.5849,  34.9035,2,  34.9071,2,    285.6,2,    295.6,2,     7.20,6,    14.01,6,     0.58,6,     0.99,6,     0.58,6,   2151.0,2,   -999.0,9,-999.0000,9,  -999.00,   4.5668, 20110517,     2139
  18HU20110506, AR07W,   215,  1, 378639,     21,2,20110517,2035, 60.1805, -48.6745, 2850,    142.9,   4.4353,  34.8394,2,  34.8428,2,    287.4,2,    296.0,2,     6.89,6,    13.17,6,     0.54,6,     0.92,6,     0.54,6,   2145.7,6,   2306.8,2,-999.0000,9,  -999.00,   4.4248, 20110517,     2142
  18HU20110506, AR07W,   215,  1, 378640,     22,2,20110517,2035, 60.1805, -48.6745, 2850,     70.7,   3.7567,  34.6261,2,  34.6177,2,    304.0,2,    315.2,2,     6.32,6,     9.48,6,     1.12,6,     0.76,6,     1.12,6,   2118.2,2,   2300.4,2,-999.0000,9,  -999.00,   3.7520, 20110517,     2144
  18HU20110506, AR07W,   215,  1, 378641,     23,2,20110517,2035, 60.1805, -48.6745, 2850,     35.5,   2.7193,  34.2656,2,  34.2591,2,    335.5,2,    346.4,2,     5.31,6,     4.83,6,     0.96,6,     0.52,6,     0.96,6,   2084.0,2,   2290.9,2,-999.0000,9,  -999.00,   2.7173, 20110517,     2146
  18HU20110506, AR07W,   215,  1, 378642,     24,2,20110517,2035, 60.1805, -48.6745, 2850,      2.7,   1.2469,  33.5950,2,  33.5969,2,    390.2,2,    402.3,2,     3.37,6,     0.00,6,     0.25,6,     0.18,6,     0.25,6,   2005.4,2,   2257.2,2,-999.0000,9,  -999.00,   1.2468, 20110517,     2147
  18HU20110506, AR07W,   216,  1, 378643,      1,2,20110518,1024, 62.0400, -51.0292, 1327,    799.0,   4.3461,  34.9263,2,-999.0000,9,    271.4,2,   -999.0,9,  -999.00,9,  -999.00,9,  -999.00,9,  -999.00,9,     -999,9,   -999.0,9,   -999.0,9,-999.0000,9,  -999.00,   4.2841, 20110518,     1024
  18HU20110506, AR07W,   216,  1, 378644,      2,2,20110518,1024, 62.0400, -51.0292, 1327,    800.5,   4.3432,  34.9265,2,  34.9307,2,    271.5,2,    282.5,2,     8.55,6,    15.63,6,     0.27,6,     1.10,6,     0.27,6,   2150.5,2,   2308.4,2,-999.0000,9,  -999.00,   4.2811, 20110518,     1024
  18HU20110506, AR07W,   216,  1, 378645,      3,2,20110518,1024, 62.0400, -51.0292, 1327,    702.5,   4.5469,  34.9338,2,  34.9387,2,    274.8,2,    219.6,4,     8.19,6,    15.58,6,     0.27,6,     1.06,6,     0.27,6,   2151.3,2,   2308.4,2,-999.0000,9,  -999.00,   4.4918, 20110518,     1027
  18HU20110506, AR07W,   216,  1, 378646,      4,2,20110518,1024, 62.0400, -51.0292, 1327,    600.9,   4.6208,  34.9335,2,  34.9379,2,    275.9,2,    286.7,2,     7.91,6,    15.35,6,     0.22,6,     1.03,6,     0.22,6,   2151.5,2,   2307.7,2,-999.0000,9,  -999.00,   4.5738, 20110518,     1029
  18HU20110506, AR07W,   216,  1, 378647,      5,2,20110518,1024, 62.0400, -51.0292, 1327,    500.5,   4.6713,  34.9337,2,  34.9377,2,    277.1,2,    288.2,2,     7.81,6,    15.14,6,     0.29,6,     1.04,6,     0.29,6,   2152.3,2,   2307.7,2,-999.0000,9,  -999.00,   4.6323, 20110518,     1032
  18HU20110506, AR07W,   216,  1, 378648,      6,2,20110518,1024, 62.0400, -51.0292, 1327,    400.1,   4.7697,  34.9382,2,  34.9422,2,    278.2,2,    288.0,2,     7.52,6,    14.99,6,     0.21,6,     1.02,6,     0.21,6,   2150.1,2,   2305.8,2,-999.0000,9,  -999.00,   4.7385, 20110518,     1034
  18HU20110506, AR07W,   216,  1, 378649,      7,2,20110518,1024, 62.0400, -51.0292, 1327,    200.5,   4.2118,  34.7767,2,  34.7794,2,    287.4,2,    297.8,2,     6.90,6,    13.67,6,     0.36,6,     0.93,6,     0.36,6,   2141.8,2,   2297.2,2,-999.0000,9,  -999.00,   4.1974, 20110518,     1039
  18HU20110506, AR07W,   216,  1, 378650,      8,2,20110518,1024, 62.0400, -51.0292, 1327,    148.5,   2.9861,  34.5253,2,-999.0000,9,    303.4,2,   -999.0,9,     6.13,6,    10.47,6,     1.48,6,     0.84,6,     1.48,6,   -999.0,9,   -999.0,9,-999.0000,9,  -999.00,   2.9770, 20110518,     1040
  18HU20110506, AR07W,   216,  1, 378651,      9,2,20110518,1024, 62.0400, -51.0292, 1327,    100.9,   2.5093,  34.3745,2,-999.0000,9,    311.5,2,    304.5,3,     5.62,6,     9.21,6,     1.30,6,     0.78,6,      1.3,6,   2118.7,2,   2284.2,2,-999.0000,9,  -999.00,   2.5036, 20110518,     1042
  18HU20110506, AR07W,   216,  1, 378652,     10,2,20110518,1024, 62.0400, -51.0292, 1327,     80.7,   1.6751,  34.0748,2,-999.0000,9,    323.6,2,    332.9,2,     5.13,6,     7.54,6,     1.20,6,     0.71,6,      1.2,6,   2101.9,2,   2274.3,2,-999.0000,9,  -999.00,   1.6712, 20110518,     1043
  18HU20110506, AR07W,   216,  1, 378653,     11,2,20110518,1024, 62.0400, -51.0292, 1327,     60.8,   1.1751,  33.8878,2,-999.0000,9,    346.1,2,   -999.0,9,     4.18,6,     3.90,6,     1.21,6,     0.48,6,     1.21,6,   -999.0,9,   -999.0,9,-999.0000,9,  -999.00,   1.1724, 20110518,     1043
  18HU20110506, AR07W,   216,  1, 378654,     12,2,20110518,1024, 62.0400, -51.0292, 1327,     49.6,   0.8570,  33.7425,2,-999.0000,9,    358.0,2,    370.1,2,     3.31,6,     2.31,6,     0.77,6,     0.38,6,     0.77,6,   2069.5,2,   2258.7,2,-999.0000,9,  -999.00,   0.8550, 20110518,     1044
  18HU20110506, AR07W,   216,  1, 378655,     13,2,20110518,1024, 62.0400, -51.0292, 1327,     40.4,   0.8599,  33.6871,2,-999.0000,9,    368.9,2,   -999.0,9,  -999.00,9,  -999.00,9,  -999.00,9,  -999.00,9,     -999,9,   -999.0,9,   -999.0,9,-999.0000,9,  -999.00,   0.8582, 20110518,     1045
  18HU20110506, AR07W,   216,  1, 378656,     14,2,20110518,1024, 62.0400, -51.0292, 1327,     30.4,   0.8527,  33.6360,2,-999.0000,9,    381.2,2,   -999.0,9,     2.07,6,     0.33,6,     0.26,6,     0.23,6,     0.26,6,   -999.0,9,   -999.0,9,-999.0000,9,  -999.00,   0.8515, 20110518,     1045
  18HU20110506, AR07W,   216,  1, 378657,     15,2,20110518,1024, 62.0400, -51.0292, 1327,     30.9,   0.8545,  33.6330,2,-999.0000,9,    381.1,2,   -999.0,9,  -999.00,9,  -999.00,9,  -999.00,9,  -999.00,9,     -999,9,   -999.0,9,   -999.0,9,-999.0000,9,  -999.00,   0.8532, 20110518,     1045
  18HU20110506, AR07W,   216,  1, 378658,     16,2,20110518,1024, 62.0400, -51.0292, 1327,     19.2,   0.9441,  33.5024,2,-999.0000,9,    399.4,2,    412.8,2,     1.47,6,     0.00,6,     0.20,6,     0.10,6,      0.2,6,   1995.3,2,   2254.4,2,-999.0000,9,  -999.00,   0.9433, 20110518,     1046
  18HU20110506, AR07W,   216,  1, 378659,     17,2,20110518,1024, 62.0400, -51.0292, 1327,      9.1,   0.9468,  33.5018,2,-999.0000,9,    400.6,2,    412.7,2,     1.54,6,     0.00,6,     0.34,6,     0.10,6,     0.34,6,   1992.6,2,   2249.6,2,-999.0000,9,  -999.00,   0.9464, 20110518,     1047
  18HU20110506, AR07W,   216,  1, 378660,     18,2,20110518,1024, 62.0400, -51.0292, 1327,      4.5,   0.9833,  33.4969,2,-999.0000,9,    399.9,2,   -999.0,9,     1.60,6,     0.00,6,     0.11,6,     0.09,6,     0.11,6,   1993.8,2,   2249.8,2,-999.0000,9,  -999.00,   0.9831, 20110518,     1047
  18HU20110506, AR07W,   216,  1, 378661,     19,2,20110518,1024, 62.0400, -51.0292, 1327,      4.6,   0.9864,  33.4967,2,-999.0000,9,    399.9,2,   -999.0,9,  -999.00,9,  -999.00,9,  -999.00,9,  -999.00,9,     -999,9,   -999.0,9,   -999.0,9,-999.0000,9,  -999.00,   0.9862, 20110518,     1048