BOTTLE,2013020413CCHSIOCBG
EXPOCODE,SECT_ID,STNNBR,CASTNO,SAMPNO,BTLNBR,BTLNBR_FLAG_W,DATE,TIME,LATITUDE,LONGITUDE,DEPTH,CTDPRS,CTDTMP,CTDSAL,CTDSAL_FLAG_W,SALNTY,SALNTY_FLAG_W,CTDOXY,CTDOXY_FLAG_W,OXYGEN,OXYGEN_FLAG_W,SILCAT,SILCAT_FLAG_W,NO2+NO3,NO2+NO3_FLAG_W,NITRIT,NITRIT_FLAG_W,PHSPHT,PHSPHT_FLAG_W,NH4,NH4_FLAG_W,TCARBN,TCARBN_FLAG_W,ALKALI,ALKALI_FLAG_W,PH_TOT,PH_TOT_FLAG_W,PH_TMP,THETA,BTL_DATE,BTL_TIME
,,,,,,,,,,,METERS,DBAR,ITS-90,PSS-78,,PSS-78,,UMOL/KG,,UMOL/KG,,UMOL/KG,,UMOL/KG,,UMOL/KG,,UMOL/KG,,UMOL/KG,,UMOL/KG,,UMOL/KG,,,,DEG C,DEG C,,
  18HU20110506, AR07W,   262,  1, 378778,      1,2,20110519,2110, 59.7212, -52.9812, 3377,   3440.1,   1.6817,  34.8898,2,-999.0000,9,    286.5,2,   -999.0,9,  -999.00,9,  -999.00,9,  -999.00,9,  -999.00,9,     -999,9,   -999.0,9,   -999.0,9,-999.0000,9,  -999.00,   1.4159, 20110519,     2110
  18HU20110506, AR07W,   262,  1, 378779,      2,2,20110519,2110, 59.7212, -52.9812, 3377,   3440.9,   1.6815,  34.8896,2,  34.8944,2,    286.1,2,    295.1,6,    10.03,6,    13.43,6,     0.34,6,     0.97,6,     0.34,6,   2169.6,2,   2305.9,2,   7.9000,3,    25.00,   1.4156, 20110519,     2110
  18HU20110506, AR07W,   262,  1, 378780,      3,2,20110519,2110, 59.7212, -52.9812, 3377,   3150.6,   2.3784,  34.9027,2,  34.9071,6,    273.3,2,    282.8,2,    12.53,6,    14.81,6,     0.38,6,     1.06,6,     0.38,6,   2165.9,2,   2302.4,2,   8.0000,3,    25.00,   2.1258, 20110519,     2117
  18HU20110506, AR07W,   262,  1, 378781,      4,2,20110519,2110, 59.7212, -52.9812, 3377,   2648.9,   2.9363,  34.9148,2,  34.9189,2,    267.7,2,    277.8,2,    11.90,6,    15.46,6,     0.29,6,     1.09,6,     0.29,6,   2164.5,2,   2311.3,2,   8.0000,3,    25.00,   2.7229, 20110519,     2127
  18HU20110506, AR07W,   262,  1, 378782,      5,2,20110519,2110, 59.7212, -52.9812, 3377,   2199.1,   3.2956,  34.9133,2,  34.9173,2,    266.3,2,    275.5,2,    10.99,6,    15.80,6,     0.28,6,     1.12,6,     0.28,6,   2165.7,2,   2310.0,2,   8.0000,3,    25.00,   3.1198, 20110519,     2135
  18HU20110506, AR07W,   262,  1, 378783,      6,2,20110519,2110, 59.7212, -52.9812, 3377,   1759.8,   3.6670,  34.9137,2,  34.9181,2,    264.3,2,    273.7,2,    10.39,6,    16.06,6,     0.22,6,     1.13,6,     0.22,6,   2165.1,2,   2304.2,2,   8.0000,3,    25.00,   3.5271, 20110519,     2143
  18HU20110506, AR07W,   262,  1, 378784,      7,2,20110519,2110, 59.7212, -52.9812, 3377,   1284.7,   3.6610,  34.8697,2,  34.8736,2,    275.8,2,    285.1,2,     9.09,6,    15.40,6,     0.24,6,     1.11,6,     0.24,6,   2164.2,2,   2306.2,2,   8.0000,3,    25.00,   3.5636, 20110519,     2153
  18HU20110506, AR07W,   262,  1, 378785,      8,2,20110519,2110, 59.7212, -52.9812, 3377,    898.3,   3.7343,  34.8612,2,  34.8639,2,    287.3,2,    296.5,2,     7.68,6,    14.04,6,     0.28,6,     1.04,6,     0.28,6,   2162.7,2,   2307.0,2,   8.0000,3,    25.00,   3.6683, 20110519,     2201
  18HU20110506, AR07W,   262,  1, 378786,      9,2,20110519,2110, 59.7212, -52.9812, 3377,    650.7,   3.7448,  34.8596,2,  34.8628,2,    289.4,2,    299.8,2,     7.45,6,    13.74,6,     0.25,6,     1.03,6,     0.25,6,   2160.1,2,   2308.0,6,   8.0000,3,    25.00,   3.6982, 20110519,     2207
  18HU20110506, AR07W,   262,  1, 378787,     10,2,20110519,2110, 59.7212, -52.9812, 3377,    199.8,   4.0850,  34.8689,2,-999.0000,9,    286.2,2,   -999.0,9,     7.16,6,    13.48,6,     0.36,6,     1.02,6,     0.36,6,   -999.0,9,   -999.0,9,-999.0000,9,  -999.00,   4.0708, 20110519,     2217
  18HU20110506, AR07W,   262,  1, 378788,     11,2,20110519,2110, 59.7212, -52.9812, 3377,    100.0,   4.1057,  34.8036,2,  34.8073,2,    296.1,2,    305.0,2,     6.24,6,    11.39,6,     0.77,6,     0.88,6,     0.77,6,   2138.6,2,   2307.5,2,   8.1000,3,    25.00,   4.0987, 20110519,     2220
  18HU20110506, AR07W,   262,  1, 378789,     12,2,20110519,2110, 59.7212, -52.9812, 3377,     80.2,   3.8371,  34.7302,2,-999.0000,9,    308.2,2,   -999.0,9,     5.51,6,     8.99,6,     0.91,6,     0.75,6,     0.91,6,   -999.0,9,   -999.0,9,-999.0000,9,  -999.00,   3.8317, 20110519,     2221
  18HU20110506, AR07W,   262,  1, 378790,     13,2,20110519,2110, 59.7212, -52.9812, 3377,     59.7,   3.5774,  34.6435,2,-999.0000,9,    324.9,2,   -999.0,9,     4.70,6,     6.18,6,     0.61,6,     0.57,6,     0.61,6,   -999.0,9,   -999.0,9,-999.0000,9,  -999.00,   3.5735, 20110519,     2222
  18HU20110506, AR07W,   262,  1, 378791,     14,2,20110519,2110, 59.7212, -52.9812, 3377,     49.3,   3.5719,  34.6382,2,-999.0000,9,    325.5,2,    334.8,2,     4.65,6,     6.03,6,     0.68,6,     0.56,6,     0.68,6,   2108.5,2,   2300.7,2,   8.2000,3,    25.00,   3.5687, 20110519,     2223
  18HU20110506, AR07W,   262,  1, 378792,     15,2,20110519,2110, 59.7212, -52.9812, 3377,     40.4,   3.5490,  34.6293,2,-999.0000,9,    326.3,2,   -999.0,9,     4.59,6,     5.89,6,     0.72,6,     0.55,6,     0.72,6,   -999.0,9,   -999.0,9,-999.0000,9,  -999.00,   3.5464, 20110519,     2224
  18HU20110506, AR07W,   262,  1, 378793,     16,2,20110519,2110, 59.7212, -52.9812, 3377,     30.4,   3.4871,  34.6117,2,-999.0000,9,    327.5,2,    336.1,2,     4.48,6,     5.50,6,     1.01,6,     0.56,6,     1.01,6,   2104.6,2,   2306.7,2,   8.2000,3,    25.00,   3.4851, 20110519,     2224
  18HU20110506, AR07W,   262,  1, 378794,     17,2,20110519,2110, 59.7212, -52.9812, 3377,     19.7,   3.3566,  34.5657,2,  34.5693,2,    330.1,2,    338.8,2,     4.18,6,     4.84,6,     0.56,6,     0.48,6,     0.56,6,   2095.2,2,   2302.1,2,   8.2000,3,    25.00,   3.3554, 20110519,     2225
  18HU20110506, AR07W,   262,  1, 378795,     18,2,20110519,2110, 59.7212, -52.9812, 3377,     10.6,   3.1095,  34.4924,2,-999.0000,9,    332.2,2,    340.9,2,     3.75,6,     4.23,6,     0.64,6,     0.45,6,     0.64,6,   2092.0,2,   2295.6,2,-999.0000,9,  -999.00,   3.1089, 20110519,     2226
  18HU20110506, AR07W,   262,  1, 378796,     19,2,20110519,2110, 59.7212, -52.9812, 3377,      3.1,   3.0236,  34.4675,2,-999.0000,9,    333.3,2,    341.4,2,     3.68,6,     4.01,6,     0.55,6,     0.43,6,     0.55,6,   2089.3,2,   2301.2,2,   8.2000,3,    25.00,   3.0234, 20110519,     2227
  18HU20110506, AR07W,   271,  1, 378801,      1,2,20110520,0312, 59.1200, -53.2665, 3347,   3406.8,   1.6831,  34.8895,2,-999.0000,9,    286.2,2,   -999.0,9,  -999.00,9,  -999.00,9,  -999.00,9,  -999.00,9,     -999,9,   -999.0,9,   -999.0,9,-999.0000,9,  -999.00,   1.4207, 20110520,      312
  18HU20110506, AR07W,   271,  1, 378802,      2,2,20110520,0312, 59.1200, -53.2665, 3347,   3407.1,   1.6828,  34.8895,2,  34.8942,2,    286.3,2,    290.7,2,    10.01,6,    13.38,6,     0.23,6,     0.95,6,     0.23,6,   2163.9,2,   2308.9,2,-999.0000,9,  -999.00,   1.4204, 20110520,      312
  18HU20110506, AR07W,   271,  1, 378803,      3,2,20110520,0312, 59.1200, -53.2665, 3347,   3000.4,   2.5429,  34.9097,2,  34.9124,2,    271.1,2,    280.2,2,    12.79,6,    14.94,6,     0.22,6,     1.04,6,     0.22,6,   2161.5,2,   2319.9,2,-999.0000,9,  -999.00,   2.3021, 20110520,      320
  18HU20110506, AR07W,   271,  1, 378804,      4,2,20110520,0312, 59.1200, -53.2665, 3347,   2500.2,   3.0221,  34.9163,2,  34.9185,2,    268.0,2,    277.1,2,    11.47,6,    15.40,6,     0.20,6,     1.05,6,      0.2,6,   2162.1,2,   2315.5,2,-999.0000,9,  -999.00,   2.8218, 20110520,      328
  18HU20110506, AR07W,   271,  1, 378805,      5,2,20110520,0312, 59.1200, -53.2665, 3347,   2001.3,   3.4235,  34.9192,2,  34.9220,2,    265.4,2,    276.7,2,    10.64,6,    15.66,6,     0.16,6,     1.05,6,     0.16,6,   2159.0,2,   2315.0,2,-999.0000,9,  -999.00,   3.2645, 20110520,      338
  18HU20110506, AR07W,   271,  1, 378806,      6,2,20110520,0312, 59.1200, -53.2665, 3347,   1500.7,   3.6892,  34.9005,2,  34.9030,2,    268.3,2,    279.5,2,     9.76,6,    15.79,6,     0.50,6,     1.06,6,      0.5,6,   2160.8,2,   2311.8,2,-999.0000,9,  -999.00,   3.5726, 20110520,      347
  18HU20110506, AR07W,   271,  1, 378807,      7,2,20110520,0312, 59.1200, -53.2665, 3347,   1101.3,   3.7527,  34.8807,2,  34.8835,2,    274.1,2,    282.3,2,     8.97,6,    15.55,6,     0.21,6,     1.04,6,     0.21,6,   2161.4,2,   2307.2,2,-999.0000,9,  -999.00,   3.6699, 20110520,      355
  18HU20110506, AR07W,   271,  1, 378808,      8,2,20110520,0312, 59.1200, -53.2665, 3347,    499.6,   3.8381,  34.8731,2,  34.8746,2,    288.2,2,    297.1,2,     7.47,6,    14.35,6,     0.18,6,     0.95,6,     0.18,6,   2154.5,2,   2306.5,2,-999.0000,9,  -999.00,   3.8025, 20110520,      405
  18HU20110506, AR07W,   271,  1, 378809,      9,2,20110520,0312, 59.1200, -53.2665, 3347,    200.3,   3.8829,  34.8582,2,  34.8602,2,    290.9,2,    298.4,2,     7.08,6,    13.91,6,     0.25,6,     0.92,6,     0.25,6,   2154.4,2,   2308.7,2,-999.0000,9,  -999.00,   3.8690, 20110520,      411
  18HU20110506, AR07W,   271,  1, 378810,     10,2,20110520,0312, 59.1200, -53.2665, 3347,    150.3,   3.8904,  34.8558,2,-999.0000,9,    290.5,2,   -999.0,9,     7.04,6,    13.87,6,     0.32,6,     0.92,6,     0.32,6,   -999.0,9,   -999.0,9,-999.0000,9,  -999.00,   3.8800, 20110520,      413
  18HU20110506, AR07W,   271,  1, 378811,     11,2,20110520,0312, 59.1200, -53.2665, 3347,    100.4,   4.1291,  34.8776,2,  34.8791,2,    283.6,2,    293.5,2,     7.31,6,    14.28,6,     0.27,6,     0.95,6,     0.27,6,   2154.1,2,   2307.4,2,-999.0000,9,  -999.00,   4.1220, 20110520,      415
  18HU20110506, AR07W,   271,  1, 378812,     12,2,20110520,0312, 59.1200, -53.2665, 3347,     79.8,   3.9941,  34.8506,2,-999.0000,9,    288.1,2,   -999.0,9,     7.03,6,    13.52,6,     0.79,6,     0.92,6,     0.79,6,   -999.0,9,   -999.0,9,-999.0000,9,  -999.00,   3.9886, 20110520,      416
  18HU20110506, AR07W,   271,  1, 378813,     13,2,20110520,0312, 59.1200, -53.2665, 3347,     59.9,   4.1717,  34.8620,2,-999.0000,9,    285.5,2,   -999.0,9,     7.03,6,    13.75,6,     0.41,6,     0.95,6,     0.41,6,   -999.0,9,   -999.0,9,-999.0000,9,  -999.00,   4.1675, 20110520,      417
  18HU20110506, AR07W,   271,  1, 378814,     14,2,20110520,0312, 59.1200, -53.2665, 3347,     49.4,   4.2100,  34.8437,2,-999.0000,9,    287.3,2,    296.6,2,     6.78,6,    12.90,6,     0.64,6,     0.92,6,     0.64,6,   2147.3,2,   2310.7,2,-999.0000,9,  -999.00,   4.2065, 20110520,      417
  18HU20110506, AR07W,   271,  1, 378815,     15,2,20110520,0312, 59.1200, -53.2665, 3347,     40.6,   4.0834,  34.8012,2,-999.0000,9,    294.7,2,   -999.0,9,     6.27,6,    11.14,6,     0.68,6,     0.83,6,     0.68,6,   -999.0,9,   -999.0,9,-999.0000,9,  -999.00,   4.0806, 20110520,      418
  18HU20110506, AR07W,   271,  1, 378816,     16,2,20110520,0312, 59.1200, -53.2665, 3347,     31.3,   3.7658,  34.6985,2,-999.0000,9,    322.4,2,    335.1,2,     4.79,6,     6.55,6,     0.79,6,     0.57,6,     0.79,6,   2107.1,2,   2311.8,2,-999.0000,9,  -999.00,   3.7637, 20110520,      420
  18HU20110506, AR07W,   271,  1, 378817,     17,2,20110520,0312, 59.1200, -53.2665, 3347,     20.3,   3.0463,  34.4457,2,  34.4369,2,    333.2,2,    342.4,2,     3.80,6,     3.95,6,     0.73,6,     0.44,6,     0.73,6,   2088.3,2,   2302.1,2,-999.0000,9,  -999.00,   3.0451, 20110520,      421
  18HU20110506, AR07W,   271,  1, 378818,     18,2,20110520,0312, 59.1200, -53.2665, 3347,     10.4,   2.1604,  34.1197,2,-999.0000,9,    342.9,2,    352.0,2,     2.54,6,     1.57,6,     0.54,6,     0.29,6,     0.54,6,   2066.8,2,   2292.6,2,-999.0000,9,  -999.00,   2.1599, 20110520,      422
  18HU20110506, AR07W,   271,  1, 378819,     19,2,20110520,0312, 59.1200, -53.2665, 3347,      3.3,   2.1547,  34.1180,2,-999.0000,9,    343.1,2,   -999.0,9,  -999.00,9,  -999.00,9,  -999.00,9,  -999.00,9,     -999,9,   -999.0,9,   -999.0,9,-999.0000,9,  -999.00,   2.1545, 20110520,      423
  18HU20110506, AR07W,   283,  1, 378820,      1,2,20110520,0923, 58.4498, -53.5965, 3366,   3464.9,   1.7447,  34.8899,2,-999.0000,9,    285.3,2,   -999.0,9,  -999.00,9,  -999.00,9,  -999.00,9,  -999.00,9,     -999,9,   -999.0,9,   -999.0,9,-999.0000,9,  -999.00,   1.4748, 20110520,      923
  18HU20110506, AR07W,   283,  1, 378821,      2,2,20110520,0923, 58.4498, -53.5965, 3366,   3464.4,   1.7449,  34.8899,2,-999.0000,9,    285.7,2,    262.9,6,     9.93,6,    13.46,6,     0.28,6,     0.97,6,     0.28,6,   2163.7,2,   2311.1,2,-999.0000,9,  -999.00,   1.4751, 20110520,      923
  18HU20110506, AR07W,   283,  1, 378822,      3,2,20110520,0923, 58.4498, -53.5965, 3366,   2720.2,   2.9405,  34.9153,2,  34.9189,2,    268.1,2,    278.9,2,    11.95,6,    15.41,6,     0.25,6,     1.07,6,     0.25,6,   2161.3,2,   2311.1,2,-999.0000,9,  -999.00,   2.7198, 20110520,      938
  18HU20110506, AR07W,   283,  1, 378823,      4,2,20110520,0923, 58.4498, -53.5965, 3366,   2250.0,   3.3225,  34.9236,2,  34.9265,2,    266.0,2,    215.1,4,    10.53,6,    15.47,6,     0.23,6,     1.05,6,     0.23,6,   2162.6,2,   2317.5,2,-999.0000,9,  -999.00,   3.1413, 20110520,      946
  18HU20110506, AR07W,   283,  1, 378824,      5,2,20110520,0923, 58.4498, -53.5965, 3366,   1800.1,   3.5349,  34.9151,2,  34.9174,2,    264.1,2,    272.4,2,    10.68,6,    16.03,6,     0.28,6,     1.09,6,     0.28,6,   2162.5,2,   2316.9,2,-999.0000,9,  -999.00,   3.3931, 20110520,      955
  18HU20110506, AR07W,   283,  1, 378825,      6,2,20110520,0923, 58.4498, -53.5965, 3366,   1051.4,   3.7563,  34.8754,2,  34.8773,2,    277.2,2,    224.8,4,     8.69,6,    15.53,6,     0.39,6,     1.05,6,     0.39,6,   2161.8,2,   2307.4,2,-999.0000,9,  -999.00,   3.6777, 20110520,     1009
  18HU20110506, AR07W,   283,  1, 378826,      7,2,20110520,0923, 58.4498, -53.5965, 3366,    750.0,   3.7349,  34.8635,2,  34.8658,2,    286.2,2,    296.8,2,     7.78,6,    14.89,6,     0.28,6,     1.01,6,     0.28,6,   2160.2,2,   2303.2,2,-999.0000,9,  -999.00,   3.6807, 20110520,     1014
  18HU20110506, AR07W,   283,  1, 378827,      8,2,20110520,0923, 58.4498, -53.5965, 3366,    299.8,   3.9172,  34.8711,2,  34.8732,2,    288.6,2,    297.2,2,     7.27,6,    14.32,6,     0.30,6,     0.97,6,      0.3,6,   2148.6,3,   2311.3,2,-999.0000,9,  -999.00,   3.8961, 20110520,     1023
  18HU20110506, AR07W,   283,  1, 378828,      9,2,20110520,0923, 58.4498, -53.5965, 3366,    199.5,   3.9583,  34.8690,2,  34.8708,2,    290.4,2,    299.5,2,     7.11,6,    14.16,6,     0.29,6,     0.95,6,     0.29,6,   2153.7,2,   2315.4,2,-999.0000,9,  -999.00,   3.9444, 20110520,     1025
  18HU20110506, AR07W,   283,  1, 378829,     10,2,20110520,0923, 58.4498, -53.5965, 3366,    149.4,   3.9998,  34.8675,2,-999.0000,9,    295.5,2,   -999.0,9,     7.08,6,    13.81,6,     0.39,6,     0.95,6,     0.39,6,   -999.0,9,   -999.0,9,-999.0000,9,  -999.00,   3.9894, 20110520,     1026
  18HU20110506, AR07W,   283,  1, 378830,     11,2,20110520,0923, 58.4498, -53.5965, 3366,     99.3,   3.9899,  34.8542,2,  34.8558,2,    295.4,2,    296.2,2,     6.91,6,    13.25,6,     0.53,6,     0.92,6,     0.53,6,   2151.4,2,   2313.4,2,-999.0000,9,  -999.00,   3.9830, 20110520,     1028
  18HU20110506, AR07W,   283,  1, 378831,     12,2,20110520,0923, 58.4498, -53.5965, 3366,     80.1,   3.8855,  34.8081,2,-999.0000,9,    303.0,2,   -999.0,9,     6.52,6,    11.53,6,     0.73,6,     0.84,6,     0.73,6,   -999.0,9,   -999.0,9,-999.0000,9,  -999.00,   3.8800, 20110520,     1029
  18HU20110506, AR07W,   283,  1, 378832,     13,2,20110520,0923, 58.4498, -53.5965, 3366,     60.6,   3.7808,  34.7622,2,-999.0000,9,    306.7,2,   -999.0,9,     5.95,6,     9.99,6,     1.04,6,     0.77,6,     1.04,6,   -999.0,9,   -999.0,9,-999.0000,9,  -999.00,   3.7767, 20110520,     1030
  18HU20110506, AR07W,   283,  1, 378833,     14,2,20110520,0923, 58.4498, -53.5965, 3366,     49.6,   3.7729,  34.7538,2,-999.0000,9,    308.2,2,    305.2,2,     5.65,6,     9.72,6,     1.17,6,     0.76,6,     1.17,6,   2133.4,2,   2312.3,2,-999.0000,9,  -999.00,   3.7696, 20110520,     1031
  18HU20110506, AR07W,   283,  1, 378834,     15,2,20110520,0923, 58.4498, -53.5965, 3366,     39.3,   3.7703,  34.7533,2,-999.0000,9,    308.5,2,   -999.0,9,     5.70,6,     9.67,6,     1.18,6,     0.74,6,     1.18,6,   -999.0,9,   -999.0,9,-999.0000,9,  -999.00,   3.7677, 20110520,     1032
  18HU20110506, AR07W,   283,  1, 378835,     16,2,20110520,0923, 58.4498, -53.5965, 3366,     29.7,   3.7671,  34.7527,2,-999.0000,9,    308.8,2,    316.1,2,     5.70,6,     9.56,6,     1.33,6,     0.75,6,     1.33,6,   2131.4,2,   2305.6,2,-999.0000,9,  -999.00,   3.7651, 20110520,     1032
  18HU20110506, AR07W,   283,  1, 378836,     17,2,20110520,0923, 58.4498, -53.5965, 3366,     30.0,   3.7661,  34.7523,2,-999.0000,9,    309.1,2,   -999.0,9,     5.65,6,     9.58,6,     1.22,6,     0.74,6,     1.22,6,   -999.0,9,   -999.0,9,-999.0000,9,  -999.00,   3.7641, 20110520,     1033
  18HU20110506, AR07W,   283,  1, 378837,     18,2,20110520,0923, 58.4498, -53.5965, 3366,     19.5,   3.7899,  34.7528,2,  34.7530,2,    309.2,2,    317.5,2,     5.69,6,     9.66,6,     1.28,6,     0.79,6,     1.28,6,   2132.1,2,   2307.5,2,-999.0000,9,  -999.00,   3.7886, 20110520,     1034
  18HU20110506, AR07W,   283,  1, 378838,     19,2,20110520,0923, 58.4498, -53.5965, 3366,      9.8,   3.7941,  34.7525,2,-999.0000,9,    309.1,2,    317.6,2,     5.69,6,     9.61,6,     1.26,6,     0.78,6,     1.26,6,   2133.7,2,   2301.0,2,-999.0000,9,  -999.00,   3.7934, 20110520,     1035
  18HU20110506, AR07W,   283,  1, 378839,     20,2,20110520,0923, 58.4498, -53.5965, 3366,      2.9,   3.7946,  34.7526,2,-999.0000,9,    309.3,2,    317.5,2,     5.63,6,     9.57,6,     1.19,6,     0.76,6,     1.19,6,   2135.8,2,   2308.3,2,-999.0000,9,  -999.00,   3.7944, 20110520,     1035
  18HU20110506, AR07W,   283,  1, 378840,     21,2,20110520,0923, 58.4498, -53.5965, 3366,      3.0,   3.7981,  34.7526,2,-999.0000,9,    309.4,2,   -999.0,9,  -999.00,9,  -999.00,9,  -999.00,9,  -999.00,9,     -999,9,   -999.0,9,   -999.0,9,-999.0000,9,  -999.00,   3.7979, 20110520,     1036