BOTTLE,2013020413CCHSIOCBG
EXPOCODE,SECT_ID,STNNBR,CASTNO,SAMPNO,BTLNBR,BTLNBR_FLAG_W,DATE,TIME,LATITUDE,LONGITUDE,DEPTH,CTDPRS,CTDTMP,CTDSAL,CTDSAL_FLAG_W,SALNTY,SALNTY_FLAG_W,CTDOXY,CTDOXY_FLAG_W,OXYGEN,OXYGEN_FLAG_W,SILCAT,SILCAT_FLAG_W,NO2+NO3,NO2+NO3_FLAG_W,NITRIT,NITRIT_FLAG_W,PHSPHT,PHSPHT_FLAG_W,NH4,NH4_FLAG_W,TCARBN,TCARBN_FLAG_W,ALKALI,ALKALI_FLAG_W,PH_TOT,PH_TOT_FLAG_W,PH_TMP,THETA,BTL_DATE,BTL_TIME
,,,,,,,,,,,METERS,DBAR,ITS-90,PSS-78,,PSS-78,,UMOL/KG,,UMOL/KG,,UMOL/KG,,UMOL/KG,,UMOL/KG,,UMOL/KG,,UMOL/KG,,UMOL/KG,,UMOL/KG,,,,DEG C,DEG C,,
  18HU20110506, AR07W,    13,  1, 378063,      1,2,20110508,1658, 44.8248, -56.1300,  550,    501.7,   4.8097,  34.9281,2,-999.0000,9,    241.2,2,    250.9,6,    11.54,6,    17.33,6,     0.27,6,     1.20,6,     0.27,6,   -999.0,9,   -999.0,9,-999.0000,9,  -999.00,   4.7701, 20110508,     1658
  18HU20110506, AR07W,    13,  1, 378064,      2,2,20110508,1658, 44.8248, -56.1300,  550,    399.4,   5.2130,  34.9188,2,-999.0000,9,    226.3,2,    234.9,2,    11.87,6,    18.19,6,     0.32,6,     1.26,6,     0.32,6,   -999.0,9,   -999.0,9,-999.0000,9,  -999.00,   5.1805, 20110508,     1700
  18HU20110506, AR07W,    13,  1, 378065,      3,2,20110508,1658, 44.8248, -56.1300,  550,    250.8,   8.0783,  34.9833,2,-999.0000,9,    166.4,2,    173.7,2,    12.28,6,    20.43,6,     0.37,6,     1.41,6,     0.37,6,   -999.0,9,   -999.0,9,-999.0000,9,  -999.00,   8.0527, 20110508,     1703
  18HU20110506, AR07W,    13,  1, 378066,      4,2,20110508,1658, 44.8248, -56.1300,  550,    205.0,   9.0118,  35.0039,2,-999.0000,9,    173.6,2,    182.4,6,    10.17,6,    17.89,6,     0.17,6,     1.54,6,     0.17,6,   -999.0,9,   -999.0,9,-999.0000,9,  -999.00,   8.9895, 20110508,     1705
  18HU20110506, AR07W,    13,  1, 378067,      5,2,20110508,1658, 44.8248, -56.1300,  550,    151.4,  10.4027,  35.1009,2,-999.0000,9,    177.0,2,    184.8,2,     8.29,6,    15.43,6,     0.35,6,     1.09,6,     0.35,6,   -999.0,9,   -999.0,9,-999.0000,9,  -999.00,  10.3847, 20110508,     1706
  18HU20110506, AR07W,    13,  1, 378068,      6,2,20110508,1658, 44.8248, -56.1300,  550,    102.3,   4.5192,  33.6497,2,-999.0000,9,    247.4,2,    258.3,6,     9.34,6,    10.55,6,     1.52,6,     1.09,6,     1.52,6,   -999.0,9,   -999.0,9,-999.0000,9,  -999.00,   4.5119, 20110508,     1708
  18HU20110506, AR07W,    13,  1, 378069,      7,2,20110508,1658, 44.8248, -56.1300,  550,     79.9,   3.4000,  33.2540,2,-999.0000,9,    281.1,2,    292.9,2,     5.99,6,     6.92,6,     1.47,6,     0.92,6,     1.47,6,   -999.0,9,   -999.0,9,-999.0000,9,  -999.00,   3.3951, 20110508,     1709
  18HU20110506, AR07W,    13,  1, 378070,      8,2,20110508,1658, 44.8248, -56.1300,  550,     60.0,   5.2386,  33.1695,2,-999.0000,9,    304.1,2,    318.7,6,     0.74,6,     1.18,6,     1.13,6,     0.51,6,     1.13,6,   -999.0,9,   -999.0,9,-999.0000,9,  -999.00,   5.2340, 20110508,     1710
  18HU20110506, AR07W,    13,  1, 378071,      9,2,20110508,1658, 44.8248, -56.1300,  550,     49.1,   5.1158,  33.0906,2,-999.0000,9,    315.6,2,   -999.0,9,  -999.00,9,  -999.00,9,  -999.00,9,  -999.00,9,     -999,9,   -999.0,9,   -999.0,9,-999.0000,9,  -999.00,   5.1121, 20110508,     1711
  18HU20110506, AR07W,    13,  1, 378072,     10,2,20110508,1658, 44.8248, -56.1300,  550,     39.8,   5.4321,  33.0957,2,-999.0000,9,    311.8,2,    325.0,2,     0.54,6,     0.33,6,     0.56,6,     0.44,6,     0.56,6,   -999.0,9,   -999.0,9,-999.0000,9,  -999.00,   5.4290, 20110508,     1712
  18HU20110506, AR07W,    13,  1, 378073,     11,2,20110508,1658, 44.8248, -56.1300,  550,     29.3,   4.6477,  32.9464,2,-999.0000,9,    318.3,2,    326.3,2,     0.60,6,     0.61,6,     0.72,6,     0.48,6,     0.72,6,   -999.0,9,   -999.0,9,-999.0000,9,  -999.00,   4.6456, 20110508,     1712
  18HU20110506, AR07W,    13,  1, 378074,     12,2,20110508,1658, 44.8248, -56.1300,  550,     29.1,   4.6804,  32.9495,2,-999.0000,9,    319.0,2,   -999.0,9,     0.59,6,     0.59,6,     1.11,6,     0.54,6,     1.11,6,   -999.0,9,   -999.0,9,-999.0000,9,  -999.00,   4.6783, 20110508,     1712
  18HU20110506, AR07W,    13,  1, 378075,     13,2,20110508,1658, 44.8248, -56.1300,  550,     19.5,   4.4908,  32.8788,2,-999.0000,9,    329.8,2,   -999.0,9,  -999.00,9,  -999.00,9,  -999.00,9,  -999.00,9,     -999,9,   -999.0,9,   -999.0,9,-999.0000,9,  -999.00,   4.4894, 20110508,     1713
  18HU20110506, AR07W,    13,  1, 378076,     14,2,20110508,1658, 44.8248, -56.1300,  550,      9.4,   5.2461,  32.9028,2,-999.0000,9,    328.6,2,    343.4,6,     0.35,6,     0.00,6,     0.49,6,     0.41,6,     0.49,6,   -999.0,9,   -999.0,9,-999.0000,9,  -999.00,   5.2454, 20110508,     1714
  18HU20110506, AR07W,    13,  1, 378077,     15,2,20110508,1658, 44.8248, -56.1300,  550,      2.9,   5.7276,  32.8890,2,-999.0000,9,    324.1,2,   -999.0,9,     0.40,6,     0.00,6,     0.34,6,     0.37,6,     0.34,6,   -999.0,9,   -999.0,9,-999.0000,9,  -999.00,   5.7274, 20110508,     1714
  18HU20110506, AR07W,    13,  1, 378078,     16,2,20110508,1658, 44.8248, -56.1300,  550,      2.3,   5.7101,  32.8787,2,-999.0000,9,    323.8,2,   -999.0,9,  -999.00,9,  -999.00,9,  -999.00,9,  -999.00,9,     -999,9,   -999.0,9,   -999.0,9,-999.0000,9,  -999.00,   5.7099, 20110508,     1714
  18HU20110506, AR07W,    16,  1, 378079,      1,2,20110509,1154, 46.9867, -52.6905,  187,    173.1,   0.9200,  33.0778,2,-999.0000,9,    282.5,2,    288.1,6,    11.14,6,     9.64,6,     0.84,6,     1.18,6,     0.84,6,   -999.0,9,   -999.0,9,-999.0000,9,  -999.00,   0.9128, 20110509,     1154
  18HU20110506, AR07W,    16,  1, 378080,      2,2,20110509,1154, 46.9867, -52.6905,  187,    151.1,   0.8557,  32.9762,2,-999.0000,9,    301.2,2,   -999.0,9,  -999.00,9,  -999.00,9,  -999.00,9,  -999.00,9,     -999,9,   -999.0,9,   -999.0,9,-999.0000,9,  -999.00,   0.8496, 20110509,     1156
  18HU20110506, AR07W,    16,  1, 378081,      3,2,20110509,1154, 46.9867, -52.6905,  187,    101.2,   0.0643,  32.6963,2,-999.0000,9,    324.2,2,    332.0,6,     7.56,6,     7.52,6,     0.64,6,     0.98,6,     0.64,6,   -999.0,9,   -999.0,9,-999.0000,9,  -999.00,   0.0610, 20110509,     1157
  18HU20110506, AR07W,    16,  1, 378082,      4,2,20110509,1154, 46.9867, -52.6905,  187,     84.1,   0.2939,  32.6034,2,-999.0000,9,    339.4,2,   -999.0,9,     3.84,6,     4.90,6,     1.08,6,     0.85,6,     1.08,6,   -999.0,9,   -999.0,9,-999.0000,9,  -999.00,   0.2910, 20110509,     1158
  18HU20110506, AR07W,    16,  1, 378083,      5,2,20110509,1154, 46.9867, -52.6905,  187,     63.5,  -0.0234,  32.5040,2,-999.0000,9,    343.6,2,   -999.0,9,     2.89,6,     4.28,6,     0.97,6,     0.82,6,     0.97,6,   -999.0,9,   -999.0,9,-999.0000,9,  -999.00,  -0.0254, 20110509,     1159
  18HU20110506, AR07W,    16,  1, 378084,      6,2,20110509,1154, 46.9867, -52.6905,  187,     53.1,  -0.1100,  32.4280,2,-999.0000,9,    346.6,2,    356.2,6,     1.70,6,     3.19,6,     0.93,6,     0.78,6,     0.93,6,   -999.0,9,   -999.0,9,-999.0000,9,  -999.00,  -0.1116, 20110509,     1159
  18HU20110506, AR07W,    16,  1, 378085,      7,2,20110509,1154, 46.9867, -52.6905,  187,     40.0,   0.2597,  32.3512,2,-999.0000,9,    360.7,2,   -999.0,9,     0.62,6,     0.76,6,     0.46,6,     0.59,6,     0.46,6,   -999.0,9,   -999.0,9,-999.0000,9,  -999.00,   0.2584, 20110509,     1200
  18HU20110506, AR07W,    16,  1, 378086,      8,2,20110509,1154, 46.9867, -52.6905,  187,     29.9,   0.8410,  32.3006,2,-999.0000,9,    377.6,2,   -999.0,9,     0.30,6,     0.00,6,     0.54,6,     0.39,6,     0.54,6,   -999.0,9,   -999.0,9,-999.0000,9,  -999.00,   0.8399, 20110509,     1200
  18HU20110506, AR07W,    16,  1, 378087,      9,2,20110509,1154, 46.9867, -52.6905,  187,     30.0,   0.8398,  32.3023,2,-999.0000,9,    378.2,2,   -999.0,9,  -999.00,9,  -999.00,9,  -999.00,9,  -999.00,9,     -999,9,   -999.0,9,   -999.0,9,-999.0000,9,  -999.00,   0.8387, 20110509,     1200
  18HU20110506, AR07W,    16,  1, 378088,     10,2,20110509,1154, 46.9867, -52.6905,  187,     20.0,   1.5947,  32.2704,2,-999.0000,9,    373.1,2,   -999.0,9,     0.26,6,     0.00,6,     0.33,6,     0.37,6,     0.33,6,   -999.0,9,   -999.0,9,-999.0000,9,  -999.00,   1.5938, 20110509,     1201
  18HU20110506, AR07W,    16,  1, 378089,     11,2,20110509,1154, 46.9867, -52.6905,  187,     10.1,   2.0980,  32.2580,2,-999.0000,9,    363.4,2,    373.4,6,     0.27,6,     0.00,6,     0.31,6,     0.39,6,     0.31,6,   -999.0,9,   -999.0,9,-999.0000,9,  -999.00,   2.0975, 20110509,     1201
  18HU20110506, AR07W,    16,  1, 378090,     12,2,20110509,1154, 46.9867, -52.6905,  187,      9.5,   2.0997,  32.2608,2,-999.0000,9,    363.2,2,   -999.0,9,     0.28,6,     0.00,6,     0.39,6,     0.38,6,     0.39,6,   -999.0,9,   -999.0,9,-999.0000,9,  -999.00,   2.0992, 20110509,     1201
  18HU20110506, AR07W,    16,  1, 378091,     13,2,20110509,1154, 46.9867, -52.6905,  187,      8.1,   2.0974,  32.2611,2,-999.0000,9,    362.9,2,   -999.0,9,  -999.00,9,  -999.00,9,  -999.00,9,  -999.00,9,     -999,9,   -999.0,9,   -999.0,9,-999.0000,9,  -999.00,   2.0970, 20110509,     1201
  18HU20110506, AR07W,    16,  1, 378092,     14,2,20110509,1154, 46.9867, -52.6905,  187,      5.5,   2.0995,  32.2612,2,-999.0000,9,    363.1,2,   -999.0,9,  -999.00,9,  -999.00,9,  -999.00,9,  -999.00,9,     -999,9,   -999.0,9,   -999.0,9,-999.0000,9,  -999.00,   2.0992, 20110509,     1201
  18HU20110506, AR07W,    16,  1, 378093,     15,2,20110509,1154, 46.9867, -52.6905,  187,     11.0,   2.1021,  32.2629,2,-999.0000,9,    363.3,2,   -999.0,9,  -999.00,9,  -999.00,9,  -999.00,9,  -999.00,9,     -999,9,   -999.0,9,   -999.0,9,-999.0000,9,  -999.00,   2.1016, 20110509,     1202
  18HU20110506, AR07W,    19,  1, 378094,      1,2,20110510,1228, 51.4292, -53.3072,  240,    199.6,   3.3220,  34.5805,2,-999.0000,9,    293.6,2,    298.1,6,     8.56,6,    13.51,6,     0.26,6,     1.02,6,     0.26,6,   -999.0,9,   -999.0,9,-999.0000,9,  -999.00,   3.3092, 20110510,     1228
  18HU20110506, AR07W,    19,  1, 378095,      2,2,20110510,1228, 51.4292, -53.3072,  240,    150.7,   2.8362,  34.8142,2,-999.0000,9,    300.7,2,   -999.0,9,  -999.00,9,  -999.00,9,  -999.00,9,  -999.00,9,     -999,9,   -999.0,9,   -999.0,9,-999.0000,9,  -999.00,   2.8271, 20110510,     1230
  18HU20110506, AR07W,    19,  1, 378096,      3,2,20110510,1228, 51.4292, -53.3072,  240,    100.2,   1.7508,  34.4963,2,-999.0000,9,    307.1,2,    313.5,6,     8.73,6,    11.55,6,     0.19,6,     0.97,6,     0.19,6,   -999.0,9,   -999.0,9,-999.0000,9,  -999.00,   1.7457, 20110510,     1231
  18HU20110506, AR07W,    19,  1, 378097,      4,2,20110510,1228, 51.4292, -53.3072,  240,     81.0,   0.9593,  34.0592,2,-999.0000,9,    316.9,2,   -999.0,9,  -999.00,9,  -999.00,9,  -999.00,9,  -999.00,9,     -999,9,   -999.0,9,   -999.0,9,-999.0000,9,  -999.00,   0.9558, 20110510,     1232
  18HU20110506, AR07W,    19,  1, 378098,      5,2,20110510,1228, 51.4292, -53.3072,  240,     60.6,   0.3744,  34.0443,2,-999.0000,9,    334.6,2,   -999.0,9,  -999.00,9,  -999.00,9,  -999.00,9,  -999.00,9,     -999,9,   -999.0,9,   -999.0,9,-999.0000,9,  -999.00,   0.3721, 20110510,     1233
  18HU20110506, AR07W,    19,  1, 378099,      6,2,20110510,1228, 51.4292, -53.3072,  240,     50.7,   0.2634,  33.6449,2,-999.0000,9,    348.6,2,    357.2,6,  -999.00,9,  -999.00,9,  -999.00,9,  -999.00,9,     -999,9,   -999.0,9,   -999.0,9,-999.0000,9,  -999.00,   0.2616, 20110510,     1234
  18HU20110506, AR07W,    19,  1, 378100,      7,2,20110510,1228, 51.4292, -53.3072,  240,     39.7,   0.1225,  33.3602,2,-999.0000,9,    366.9,2,   -999.0,9,     4.42,6,     2.48,6,     1.47,6,     0.58,6,     1.47,6,   -999.0,9,   -999.0,9,-999.0000,9,  -999.00,   0.1211, 20110510,     1235
  18HU20110506, AR07W,    19,  1, 378101,      8,2,20110510,1228, 51.4292, -53.3072,  240,     30.7,   0.0870,  33.1506,2,-999.0000,9,    376.2,2,    384.0,6,     3.64,6,     1.35,6,     1.18,6,     0.56,6,     1.18,6,   -999.0,9,   -999.0,9,-999.0000,9,  -999.00,   0.0860, 20110510,     1235
  18HU20110506, AR07W,    19,  1, 378102,      9,2,20110510,1228, 51.4292, -53.3072,  240,     31.0,   0.0771,  33.1491,2,-999.0000,9,    377.8,2,   -999.0,9,  -999.00,9,  -999.00,9,  -999.00,9,  -999.00,9,     -999,9,   -999.0,9,   -999.0,9,-999.0000,9,  -999.00,   0.0761, 20110510,     1236
  18HU20110506, AR07W,    19,  1, 378103,     10,2,20110510,1228, 51.4292, -53.3072,  240,     20.7,   0.6926,  32.7606,2,-999.0000,9,    401.0,2,   -999.0,9,     2.05,6,     0.38,6,     0.38,6,     0.34,6,     0.38,6,   -999.0,9,   -999.0,9,-999.0000,9,  -999.00,   0.6918, 20110510,     1236
  18HU20110506, AR07W,    19,  1, 378104,     11,2,20110510,1228, 51.4292, -53.3072,  240,     10.1,   0.3998,  33.1322,2,-999.0000,9,    415.5,2,   -999.0,9,     1.17,6,     0.00,6,     0.09,6,     0.23,6,     0.05,6,   -999.0,9,   -999.0,9,-999.0000,9,  -999.00,   0.3994, 20110510,     1237
  18HU20110506, AR07W,    19,  1, 378105,     12,2,20110510,1228, 51.4292, -53.3072,  240,     10.5,   0.8305,  32.8064,2,-999.0000,9,    411.4,2,    416.9,6,  -999.00,9,  -999.00,9,  -999.00,9,  -999.00,9,     -999,9,   -999.0,9,   -999.0,9,-999.0000,9,  -999.00,   0.8301, 20110510,     1237
  18HU20110506, AR07W,    19,  1, 378106,     13,2,20110510,1228, 51.4292, -53.3072,  240,      2.6,   0.9762,  32.9634,2,-999.0000,9,    410.7,2,   -999.0,9,     1.08,6,     0.00,6,     0.16,6,     0.25,6,     0.16,6,   -999.0,9,   -999.0,9,-999.0000,9,  -999.00,   0.9761, 20110510,     1237
  18HU20110506, AR07W,    19,  1, 378107,     14,2,20110510,1228, 51.4292, -53.3072,  240,      3.3,   0.9742,  32.9898,2,-999.0000,9,    410.5,2,   -999.0,9,  -999.00,9,  -999.00,9,  -999.00,9,  -999.00,9,     -999,9,   -999.0,9,   -999.0,9,-999.0000,9,  -999.00,   0.9741, 20110510,     1237
  18HU20110506, AR07W,    19,  1, 378108,     15,2,20110510,1228, 51.4292, -53.3072,  240,      3.1,   0.9788,  33.0035,2,-999.0000,9,    410.6,2,   -999.0,9,  -999.00,9,  -999.00,9,  -999.00,9,  -999.00,9,     -999,9,   -999.0,9,   -999.0,9,-999.0000,9,  -999.00,   0.9787, 20110510,     1238
  18HU20110506, AR07W,    23,  1, 378109,      1,2,20110511,1015, 55.1083, -54.1355,  944,    912.9,   3.7698,  34.8890,2,  34.8922,2,    265.9,4,    289.3,2,     8.74,6,    15.59,6,     0.37,6,     1.09,6,     0.37,6,   2161.3,2,   2303.5,2,-999.0000,9,  -999.00,   3.7024, 20110511,     1015
  18HU20110506, AR07W,    23,  1, 378110,      2,2,20110511,1015, 55.1083, -54.1355,  944,    859.2,   3.7872,  34.8855,2,-999.0000,9,    271.9,4,   -999.0,9,  -999.00,9,  -999.00,9,  -999.00,9,  -999.00,9,     -999,9,   -999.0,9,   -999.0,9,-999.0000,9,  -999.00,   3.7240, 20110511,     1017
  18HU20110506, AR07W,    23,  1, 378111,      3,2,20110511,1015, 55.1083, -54.1355,  944,    788.0,   3.7884,  34.8820,2,  34.8858,2,    275.4,4,    297.1,2,     7.79,6,    15.12,6,     0.47,6,     1.05,6,     0.47,6,   2161.7,2,   2297.2,2,-999.0000,9,  -999.00,   3.7308, 20110511,     1018
  18HU20110506, AR07W,    23,  1, 378112,      4,2,20110511,1015, 55.1083, -54.1355,  944,    696.5,   3.7811,  34.8796,2,  34.8841,2,    276.9,4,    298.2,2,     7.67,6,    15.02,6,     0.30,6,     1.05,6,      0.3,6,   2160.5,6,   2290.3,6,-999.0000,9,  -999.00,   3.7307, 20110511,     1020
  18HU20110506, AR07W,    23,  1, 378113,      5,2,20110511,1015, 55.1083, -54.1355,  944,    587.1,   3.7779,  34.8794,2,  34.8838,2,    276.9,4,    299.1,2,     7.69,6,    14.99,6,     0.45,6,     1.05,6,     0.45,6,   2158.3,2,   2294.3,2,-999.0000,9,  -999.00,   3.7360, 20110511,     1023
  18HU20110506, AR07W,    23,  1, 378114,      6,2,20110511,1015, 55.1083, -54.1355,  944,    467.5,   3.7882,  34.8809,2,  34.8842,2,    276.7,4,    299.1,2,     7.70,6,    15.16,6,     0.58,6,     1.05,6,     0.58,6,   2161.4,2,   2299.0,2,-999.0000,9,  -999.00,   3.7552, 20110511,     1025
  18HU20110506, AR07W,    23,  1, 378115,      7,2,20110511,1015, 55.1083, -54.1355,  944,    358.6,   3.7820,  34.8804,2,  34.8842,2,    278.5,4,    298.8,6,     7.67,6,    14.94,6,     0.18,6,     1.03,6,     0.18,6,   2158.5,2,   2294.0,2,-999.0000,9,  -999.00,   3.7570, 20110511,     1028
  18HU20110506, AR07W,    23,  1, 378116,      8,2,20110511,1015, 55.1083, -54.1355,  944,    260.0,   3.7632,  34.8729,2,  34.8771,2,    280.5,4,    300.7,2,     7.66,6,    14.86,6,     0.40,6,     1.02,6,      0.4,6,   2158.8,2,   2298.3,2,-999.0000,9,  -999.00,   3.7453, 20110511,     1029
  18HU20110506, AR07W,    23,  1, 378117,      9,2,20110511,1015, 55.1083, -54.1355,  944,    173.5,   3.7650,  34.8530,2,  34.8578,2,    281.5,4,    301.2,2,     7.54,6,    14.47,6,     0.16,6,     1.01,6,     0.16,6,   2157.4,2,   2297.5,2,-999.0000,9,  -999.00,   3.7532, 20110511,     1032
  18HU20110506, AR07W,    23,  1, 378118,     10,2,20110511,1015, 55.1083, -54.1355,  944,    104.5,   3.7390,  34.8321,2,  34.8363,2,    279.1,4,    301.4,2,     7.57,6,    14.42,6,     0.29,6,     0.99,6,     0.29,6,   2152.7,2,   2294.1,2,-999.0000,9,  -999.00,   3.7320, 20110511,     1033
  18HU20110506, AR07W,    23,  1, 378119,     11,2,20110511,1015, 55.1083, -54.1355,  944,     85.0,   3.6652,  34.7960,2,-999.0000,9,    280.4,4,   -999.0,9,     7.59,6,    14.28,6,     0.13,6,     0.99,6,     0.13,6,   -999.0,9,   -999.0,9,-999.0000,9,  -999.00,   3.6595, 20110511,     1034
  18HU20110506, AR07W,    23,  1, 378120,     12,2,20110511,1015, 55.1083, -54.1355,  944,     65.2,   3.6365,  34.7699,2,-999.0000,9,    281.7,4,   -999.0,9,     7.68,6,    14.30,6,     0.45,6,     0.99,6,     0.45,6,   -999.0,9,   -999.0,9,-999.0000,9,  -999.00,   3.6322, 20110511,     1035
  18HU20110506, AR07W,    23,  1, 378121,     13,2,20110511,1015, 55.1083, -54.1355,  944,     53.7,   3.5676,  34.7430,2,  34.7472,2,    285.0,4,    305.8,2,     7.51,6,    13.86,6,     0.20,6,     0.98,6,      0.2,6,   2147.3,2,   2290.3,2,-999.0000,9,  -999.00,   3.5641, 20110511,     1035
  18HU20110506, AR07W,    23,  1, 378122,     14,2,20110511,1015, 55.1083, -54.1355,  944,     45.2,   3.5214,  34.7132,2,-999.0000,9,    287.1,4,   -999.0,9,     7.51,6,    13.73,6,     0.37,6,     0.97,6,     0.37,6,   -999.0,9,   -999.0,9,-999.0000,9,  -999.00,   3.5185, 20110511,     1036
  18HU20110506, AR07W,    23,  1, 378123,     15,2,20110511,1015, 55.1083, -54.1355,  944,     27.4,   3.3924,  34.6103,2,-999.0000,9,    296.3,4,   -999.0,9,     7.39,6,    12.86,6,     0.30,6,     0.94,6,      0.3,6,   -999.0,9,   -999.0,9,-999.0000,9,  -999.00,   3.3907, 20110511,     1037
  18HU20110506, AR07W,    23,  1, 378124,     16,2,20110511,1015, 55.1083, -54.1355,  944,     20.5,   3.1820,  34.5184,2,  34.5499,2,    301.3,4,    322.1,2,     7.58,6,    12.49,6,     0.54,6,     0.92,2,     0.54,6,   2140.3,2,   2280.5,2,-999.0000,9,  -999.00,   3.1807, 20110511,     1038
  18HU20110506, AR07W,    23,  1, 378125,     17,2,20110511,1015, 55.1083, -54.1355,  944,     11.8,   3.1555,  34.5035,2,-999.0000,9,    302.4,4,   -999.0,9,  -999.00,9,  -999.00,9,  -999.00,9,  -999.00,9,     -999,9,   -999.0,9,   -999.0,9,-999.0000,9,  -999.00,   3.1548, 20110511,     1039
  18HU20110506, AR07W,    23,  1, 378126,     18,2,20110511,1015, 55.1083, -54.1355,  944,      5.0,   3.1622,  34.5025,2,  34.5073,2,    303.5,4,    324.4,2,     7.24,6,    12.33,6,     0.28,6,     0.93,6,     0.28,6,   2138.3,2,   2281.5,2,-999.0000,9,  -999.00,   3.1619, 20110511,     1040