BOTTLE,2013020413CCHSIOCBG
EXPOCODE,SECT_ID,STNNBR,CASTNO,SAMPNO,BTLNBR,BTLNBR_FLAG_W,DATE,TIME,LATITUDE,LONGITUDE,DEPTH,CTDPRS,CTDTMP,CTDSAL,CTDSAL_FLAG_W,SALNTY,SALNTY_FLAG_W,CTDOXY,CTDOXY_FLAG_W,OXYGEN,OXYGEN_FLAG_W,SILCAT,SILCAT_FLAG_W,NO2+NO3,NO2+NO3_FLAG_W,NITRIT,NITRIT_FLAG_W,PHSPHT,PHSPHT_FLAG_W,NH4,NH4_FLAG_W,TCARBN,TCARBN_FLAG_W,ALKALI,ALKALI_FLAG_W,PH_TOT,PH_TOT_FLAG_W,PH_TMP,THETA,BTL_DATE,BTL_TIME
,,,,,,,,,,,METERS,DBAR,ITS-90,PSS-78,,PSS-78,,UMOL/KG,,UMOL/KG,,UMOL/KG,,UMOL/KG,,UMOL/KG,,UMOL/KG,,UMOL/KG,,UMOL/KG,,UMOL/KG,,,,DEG C,DEG C,,
  18HU20110506, AR07W,   330,  1, 378922,      1,2,20110521,1723, 54.2198, -55.0247,  177,    160.9,   0.3228,  33.6489,2,-999.0000,9,    314.1,2,   -999.0,9,  -999.00,9,  -999.00,9,  -999.00,9,  -999.00,9,     -999,9,   -999.0,9,   -999.0,9,-999.0000,9,  -999.00,   0.3168, 20110521,     1723
  18HU20110506, AR07W,   330,  1, 378923,      2,2,20110521,1723, 54.2198, -55.0247,  177,    162.5,   0.3304,  33.6512,2,  33.6528,2,    313.9,2,    319.4,2,     8.25,6,    10.04,6,     0.33,6,     0.88,6,     0.33,6,   2106.3,2,   2248.9,2,-999.0000,9,  -999.00,   0.3243, 20110521,     1724
  18HU20110506, AR07W,   330,  1, 378924,      3,2,20110521,1723, 54.2198, -55.0247,  177,    141.7,   0.0897,  33.5671,2,  33.5695,2,    315.3,2,    322.1,2,     8.20,6,     9.86,6,     0.34,6,     0.88,6,     0.34,6,   2113.9,2,   2243.5,2,-999.0000,9,  -999.00,   0.0847, 20110521,     1725
  18HU20110506, AR07W,   330,  1, 378925,      4,2,20110521,1723, 54.2198, -55.0247,  177,    121.7,  -0.0746,  33.4938,2,  33.4965,2,    316.2,2,    322.1,2,     8.31,6,     9.64,6,     0.25,6,     0.87,6,     0.25,6,   2114.6,2,   2239.9,2,-999.0000,9,  -999.00,  -0.0787, 20110521,     1726
  18HU20110506, AR07W,   330,  1, 378926,      5,2,20110521,1723, 54.2198, -55.0247,  177,    100.8,  -0.2309,  33.4074,2,  33.4175,2,    317.2,2,    323.5,2,     8.58,6,     9.52,6,     0.26,6,     0.88,6,     0.26,6,   2113.6,2,   2236.5,2,-999.0000,9,  -999.00,  -0.2341, 20110521,     1727
  18HU20110506, AR07W,   330,  1, 378927,      6,2,20110521,1723, 54.2198, -55.0247,  177,     80.6,  -0.5167,  33.2448,2,  33.2476,2,    319.7,2,    326.1,2,     8.83,6,     9.00,6,     0.25,6,     0.87,6,     0.25,6,   2110.9,2,   2230.7,2,-999.0000,9,  -999.00,  -0.5190, 20110521,     1727
  18HU20110506, AR07W,   330,  1, 378928,      7,2,20110521,1723, 54.2198, -55.0247,  177,     60.6,  -0.9092,  32.9609,2,-999.0000,9,    329.5,2,   -999.0,9,     8.68,6,     7.79,6,     0.50,6,     0.84,6,      0.5,6,   -999.0,9,   -999.0,9,-999.0000,9,  -999.00,  -0.9107, 20110521,     1728
  18HU20110506, AR07W,   330,  1, 378929,      8,2,20110521,1723, 54.2198, -55.0247,  177,     51.4,  -1.1652,  32.7762,2,  32.7803,2,    332.3,2,    338.0,2,     9.37,6,     7.79,6,     0.37,6,     0.87,6,     0.37,6,   2107.5,2,   2226.2,2,-999.0000,9,  -999.00,  -1.1663, 20110521,     1729
  18HU20110506, AR07W,   330,  1, 378930,      9,2,20110521,1723, 54.2198, -55.0247,  177,     41.2,  -1.1507,  32.6705,2,  32.6702,2,    338.6,2,    345.8,2,     9.06,6,     7.16,6,     0.63,6,     0.89,6,     0.63,6,   2102.4,2,   2217.6,2,-999.0000,9,  -999.00,  -1.1516, 20110521,     1730
  18HU20110506, AR07W,   330,  1, 378931,     10,2,20110521,1723, 54.2198, -55.0247,  177,     30.5,  -0.6115,  32.5949,2,  32.6045,2,    358.6,2,    366.6,2,     7.14,6,     5.05,6,     0.66,6,     0.72,6,     0.66,6,   2084.1,2,   2215.2,2,-999.0000,9,  -999.00,  -0.6123, 20110521,     1730
  18HU20110506, AR07W,   330,  1, 378932,     11,2,20110521,1723, 54.2198, -55.0247,  177,     21.0,   0.1068,  32.4932,2,  32.5115,2,    382.3,2,    388.9,2,     5.27,6,     2.56,6,     0.39,6,     0.57,6,     0.39,6,   2062.4,2,   2212.6,2,-999.0000,9,  -999.00,   0.1061, 20110521,     1731
  18HU20110506, AR07W,   330,  1, 378933,     12,2,20110521,1723, 54.2198, -55.0247,  177,     10.4,   0.2130,  32.4829,2,  32.4899,2,    385.6,2,    396.0,2,     4.71,6,     1.65,6,     0.51,6,     0.52,6,     0.51,6,   2056.8,2,   2210.0,2,-999.0000,9,  -999.00,   0.2127, 20110521,     1732
  18HU20110506, AR07W,   330,  1, 378934,     13,2,20110521,1723, 54.2198, -55.0247,  177,      3.5,   0.2193,  32.4848,2,  32.4898,2,    386.5,2,    394.6,2,     4.75,6,     1.73,6,     0.40,6,     0.49,6,      0.4,6,   2057.6,2,   2221.1,2,-999.0000,9,  -999.00,   0.2192, 20110521,     1733
  18HU20110506, AR07W,   333,  1, 378935,      1,2,20110521,1933, 53.9830, -55.2475,  151,    142.8,   1.1300,  33.9115,2,-999.0000,9,    307.0,2,   -999.0,9,  -999.00,9,  -999.00,9,  -999.00,9,  -999.00,9,     -999,9,   -999.0,9,   -999.0,9,-999.0000,9,  -999.00,   1.1236, 20110521,     1933
  18HU20110506, AR07W,   333,  1, 378936,      2,2,20110521,1933, 53.9830, -55.2475,  151,    141.9,   1.1092,  33.9041,2,  33.8966,2,    307.1,2,    314.7,2,     8.86,6,    10.86,6,     0.30,6,     0.91,6,      0.3,6,   2124.6,2,   2251.1,2,-999.0000,9,  -999.00,   1.1029, 20110521,     1933
  18HU20110506, AR07W,   333,  1, 378937,      3,2,20110521,1933, 53.9830, -55.2475,  151,    125.7,   0.2023,  33.5485,2,  33.5444,2,    315.1,2,    323.3,2,     8.96,6,     9.90,6,     0.28,6,     0.89,6,     0.28,6,   2116.9,2,   2247.0,2,-999.0000,9,  -999.00,   0.1978, 20110521,     1934
  18HU20110506, AR07W,   333,  1, 378938,      4,2,20110521,1933, 53.9830, -55.2475,  151,    100.7,  -0.4213,  33.2662,2,  33.2494,2,    323.3,2,    332.3,2,     8.75,6,     8.93,6,     0.36,6,     0.88,6,     0.36,6,   2112.5,2,   2232.0,2,-999.0000,9,  -999.00,  -0.4243, 20110521,     1935
  18HU20110506, AR07W,   333,  1, 378939,      5,2,20110521,1933, 53.9830, -55.2475,  151,     81.0,  -0.9610,  32.9862,2,  32.9834,2,    328.4,2,    338.1,2,     9.11,6,     8.38,6,     0.18,6,     0.88,6,     0.18,6,   2109.4,2,   2231.4,2,-999.0000,9,  -999.00,  -0.9630, 20110521,     1937
  18HU20110506, AR07W,   333,  1, 378940,      6,2,20110521,1933, 53.9830, -55.2475,  151,     59.6,  -1.2667,  32.6860,2,  32.6874,2,    333.5,2,    342.0,2,     9.45,6,     7.50,6,     0.49,6,     0.88,6,     0.49,6,   2105.4,2,   2216.0,2,-999.0000,9,  -999.00,  -1.2680, 20110521,     1938
  18HU20110506, AR07W,   333,  1, 378941,      7,2,20110521,1933, 53.9830, -55.2475,  151,     50.2,  -1.2958,  32.6353,2,  32.6358,2,    333.8,2,    344.4,2,     9.36,6,     7.29,6,     0.43,6,     0.87,6,     0.43,6,   2107.1,2,   2218.7,2,-999.0000,9,  -999.00,  -1.2968, 20110521,     1939
  18HU20110506, AR07W,   333,  1, 378942,      8,2,20110521,1933, 53.9830, -55.2475,  151,     41.5,  -0.8770,  32.5482,2,-999.0000,9,    345.4,2,   -999.0,9,     8.52,6,     6.50,6,     0.61,6,     0.82,6,     0.61,6,   -999.0,9,   -999.0,9,-999.0000,9,  -999.00,  -0.8780, 20110521,     1940
  18HU20110506, AR07W,   333,  1, 378943,      9,2,20110521,1933, 53.9830, -55.2475,  151,     29.9,  -0.8041,  32.5188,2,  32.5215,2,    346.9,2,    356.3,2,     8.73,6,     6.50,6,     0.48,6,     0.82,6,     0.48,6,   2097.1,2,   2207.7,2,-999.0000,9,  -999.00,  -0.8048, 20110521,     1941
  18HU20110506, AR07W,   333,  1, 378944,     10,2,20110521,1933, 53.9830, -55.2475,  151,     20.0,  -0.6361,  32.4986,2,  32.4882,2,    354.4,2,    367.4,2,     7.22,6,     4.76,6,     0.42,6,     0.71,6,     0.42,6,   2086.9,2,   2209.7,2,-999.0000,9,  -999.00,  -0.6366, 20110521,     1942
  18HU20110506, AR07W,   333,  1, 378945,     11,2,20110521,1933, 53.9830, -55.2475,  151,      9.9,   0.0551,  32.4386,2,  32.4430,2,    389.0,2,    401.1,2,     4.03,6,     0.76,6,     0.32,6,     0.42,6,     0.32,6,   2057.7,2,   2205.9,2,-999.0000,9,  -999.00,   0.0548, 20110521,     1942
  18HU20110506, AR07W,   333,  1, 378946,     12,2,20110521,1933, 53.9830, -55.2475,  151,      2.8,   0.0553,  32.4401,2,  32.4426,2,    389.5,2,    401.7,2,     4.06,6,     0.66,6,     0.78,6,     0.42,6,     0.78,6,   2055.1,2,   2213.8,2,-999.0000,9,  -999.00,   0.0552, 20110521,     1943
  18HU20110506, AR07W,   337,  1, 378947,      1,2,20110521,2138, 53.7963, -55.4327,  207,    198.6,   0.8997,  33.8008,2,-999.0000,9,    307.4,2,   -999.0,9,  -999.00,9,  -999.00,9,  -999.00,9,  -999.00,9,     -999,9,   -999.0,9,   -999.0,9,-999.0000,9,  -999.00,   0.8912, 20110521,     2138
  18HU20110506, AR07W,   337,  1, 378948,      2,2,20110521,2138, 53.7963, -55.4327,  207,    198.7,   0.8958,  33.7994,2,  33.8026,2,    307.0,2,    315.1,2,     9.43,6,    10.90,6,     0.40,6,     0.94,6,      0.4,6,   2127.8,2,   2250.9,2,-999.0000,9,  -999.00,   0.8873, 20110521,     2138
  18HU20110506, AR07W,   337,  1, 378949,      3,2,20110521,2138, 53.7963, -55.4327,  207,    181.3,   0.0586,  33.4693,2,  33.4595,2,    315.7,2,    324.1,2,     9.19,6,     9.79,6,     0.50,6,     0.90,6,      0.5,6,   2119.0,2,   2246.2,2,-999.0000,9,  -999.00,   0.0522, 20110521,     2140
  18HU20110506, AR07W,   337,  1, 378950,      4,2,20110521,2138, 53.7963, -55.4327,  207,    149.4,  -0.6643,  33.1838,2,  33.1808,2,    319.3,2,    327.8,2,     8.91,6,     8.82,6,     0.41,6,     0.87,6,     0.41,6,   2112.4,2,   2233.5,2,-999.0000,9,  -999.00,  -0.6685, 20110521,     2141
  18HU20110506, AR07W,   337,  1, 378951,      5,2,20110521,2138, 53.7963, -55.4327,  207,    124.7,  -0.8454,  33.0724,2,  33.0758,2,    322.7,2,    331.4,2,     9.12,6,     8.69,6,     0.34,6,     0.88,6,     0.34,6,   2111.5,2,   2232.4,2,-999.0000,9,  -999.00,  -0.8486, 20110521,     2142
  18HU20110506, AR07W,   337,  1, 378952,      6,2,20110521,2138, 53.7963, -55.4327,  207,     99.4,  -1.0443,  32.9633,2,  32.9902,2,    324.3,2,    330.8,2,     9.31,6,     8.45,6,     0.30,6,     0.89,6,      0.3,6,   2109.6,2,   2227.5,2,-999.0000,9,  -999.00,  -1.0467, 20110521,     2143
  18HU20110506, AR07W,   337,  1, 378953,      7,2,20110521,2138, 53.7963, -55.4327,  207,     81.6,  -1.1789,  32.8618,2,-999.0000,9,    328.2,2,   -999.0,9,     9.25,6,     8.05,6,     0.44,6,     0.87,6,     0.44,6,   -999.0,9,   -999.0,9,-999.0000,9,  -999.00,  -1.1807, 20110521,     2144
  18HU20110506, AR07W,   337,  1, 378954,      8,2,20110521,2138, 53.7963, -55.4327,  207,     59.3,  -1.3643,  32.6335,2,-999.0000,9,    334.4,2,   -999.0,9,     9.32,6,     7.38,6,     0.49,6,     0.87,6,     0.49,6,   -999.0,9,   -999.0,9,-999.0000,9,  -999.00,  -1.3655, 20110521,     2145
  18HU20110506, AR07W,   337,  1, 378955,      9,2,20110521,2138, 53.7963, -55.4327,  207,     51.4,  -1.3850,  32.6005,2,  32.5941,2,    334.1,2,    343.5,2,     9.45,6,     7.34,6,     0.40,6,     0.88,6,      0.4,6,   2101.7,2,   2217.5,2,-999.0000,9,  -999.00,  -1.3860, 20110521,     2146
  18HU20110506, AR07W,   337,  1, 378956,     10,2,20110521,2138, 53.7963, -55.4327,  207,     40.4,  -1.2652,  32.5404,2,  32.5324,2,    340.9,2,    351.0,2,     8.79,6,     6.85,6,     0.43,6,     0.86,6,     0.43,6,   2094.9,2,   2218.4,2,-999.0000,9,  -999.00,  -1.2660, 20110521,     2147
  18HU20110506, AR07W,   337,  1, 378957,     11,2,20110521,2138, 53.7963, -55.4327,  207,     30.4,  -0.1879,  32.3933,2,  32.3993,2,    357.3,2,    369.7,2,     7.86,6,     5.27,6,     0.35,6,     0.76,6,     0.35,6,   2082.7,2,   2212.5,2,-999.0000,9,  -999.00,  -0.1888, 20110521,     2148
  18HU20110506, AR07W,   337,  1, 378958,     12,2,20110521,2138, 53.7963, -55.4327,  207,     20.4,  -0.1122,  32.3964,2,  32.3994,2,    357.9,2,    367.0,2,     8.05,6,     5.40,6,     0.42,6,     0.76,6,     0.42,6,   2084.0,2,   2210.0,2,-999.0000,9,  -999.00,  -0.1128, 20110521,     2149
  18HU20110506, AR07W,   337,  1, 378959,     13,2,20110521,2138, 53.7963, -55.4327,  207,     10.7,  -0.1062,  32.3973,2,  32.3988,2,    358.2,2,    357.9,2,     8.01,6,     5.46,6,     0.58,6,     0.75,6,     0.58,6,   2084.1,2,   2212.2,2,-999.0000,9,  -999.00,  -0.1065, 20110521,     2150
  18HU20110506, AR07W,   337,  1, 378960,     14,2,20110521,2138, 53.7963, -55.4327,  207,      1.9,  -0.1116,  32.3966,2,  32.3994,2,    358.2,2,    368.7,2,     7.97,6,     5.40,6,     0.35,6,     0.76,6,     0.35,6,   2083.6,2,   2215.8,2,-999.0000,9,  -999.00,  -0.1117, 20110521,     2151
  18HU20110506, AR07W,   340,  1, 378961,      1,2,20110522,0006, 53.6715, -55.5402,  156,    146.0,  -0.7669,  33.0917,2,-999.0000,9,    320.5,2,    334.8,2,  -999.00,9,  -999.00,9,  -999.00,9,  -999.00,9,     -999,9,   -999.0,9,   -999.0,9,-999.0000,9,  -999.00,  -0.7708, 20110522,        6
  18HU20110506, AR07W,   340,  1, 378962,      2,2,20110522,0006, 53.6715, -55.5402,  156,    145.7,  -0.7667,  33.0918,2,  33.0944,2,    320.5,2,    328.7,2,     9.47,6,     8.69,6,     0.43,6,     0.89,6,     0.43,6,   2110.5,2,   2232.5,2,-999.0000,9,  -999.00,  -0.7706, 20110522,        6
  18HU20110506, AR07W,   340,  1, 378963,      3,2,20110522,0006, 53.6715, -55.5402,  156,    125.5,  -0.8158,  33.0645,2,  33.0653,2,    320.8,2,    328.8,2,     9.49,6,     8.62,6,     0.47,6,     0.90,6,     0.47,6,   2109.3,2,   2240.4,2,-999.0000,9,  -999.00,  -0.8191, 20110522,        7
  18HU20110506, AR07W,   340,  1, 378964,      4,2,20110522,0006, 53.6715, -55.5402,  156,    100.5,  -1.1261,  32.8634,2,  32.8602,2,    326.3,2,   -999.0,9,     9.33,6,     8.12,6,     0.44,6,     0.88,6,     0.44,6,   2104.4,2,   2220.8,2,-999.0000,9,  -999.00,  -1.1284, 20110522,        8
  18HU20110506, AR07W,   340,  1, 378965,      5,2,20110522,0006, 53.6715, -55.5402,  156,     79.9,  -1.2978,  32.7165,2,  32.7125,2,    329.0,2,    339.2,2,     9.46,6,     7.67,6,     0.58,6,     0.87,6,     0.58,6,   2104.1,2,   2217.2,2,-999.0000,9,  -999.00,  -1.2995, 20110522,       10
  18HU20110506, AR07W,   340,  1, 378966,      6,2,20110522,0006, 53.6715, -55.5402,  156,     60.2,  -1.2714,  32.5138,2,  32.5176,2,    341.3,2,    351.2,2,     8.99,6,     6.90,6,     0.64,6,     0.84,6,     0.64,6,   2097.1,2,   2212.9,2,-999.0000,9,  -999.00,  -1.2726, 20110522,       11
  18HU20110506, AR07W,   340,  1, 378967,      7,2,20110522,0006, 53.6715, -55.5402,  156,     50.1,  -0.9735,  32.4501,2,  32.4501,2,    349.1,2,    359.5,2,     8.58,6,     6.34,6,     0.46,6,     0.80,6,     0.46,6,   -999.0,9,   2213.7,2,-999.0000,9,  -999.00,  -0.9747, 20110522,       12
  18HU20110506, AR07W,   340,  1, 378968,      8,2,20110522,0006, 53.6715, -55.5402,  156,     40.1,  -0.9802,  32.4315,2,-999.0000,9,    351.4,2,   -999.0,9,     8.56,6,     6.16,6,     0.47,6,     0.79,6,     0.47,6,   -999.0,9,   -999.0,9,-999.0000,9,  -999.00,  -0.9811, 20110522,       13
  18HU20110506, AR07W,   340,  1, 378969,      9,2,20110522,0006, 53.6715, -55.5402,  156,     29.9,  -0.3228,  32.3078,2,  32.3413,2,    359.4,2,    368.1,2,     8.14,6,     5.41,6,     0.39,6,     0.77,6,     0.39,6,   2079.8,2,   2209.8,2,-999.0000,9,  -999.00,  -0.3236, 20110522,       13
  18HU20110506, AR07W,   340,  1, 378970,     10,2,20110522,0006, 53.6715, -55.5402,  156,     20.2,  -0.2932,  32.3043,2,  32.3067,2,    360.6,2,    371.4,2,     8.09,6,     5.21,6,     0.49,6,     0.73,6,     0.49,6,   2075.9,2,   2209.8,2,-999.0000,9,  -999.00,  -0.2938, 20110522,       15
  18HU20110506, AR07W,   340,  1, 378971,     11,2,20110522,0006, 53.6715, -55.5402,  156,     10.4,  -0.2980,  32.3043,2,  32.3065,2,    360.5,2,    370.7,2,     8.06,6,     5.19,6,     0.44,6,     0.73,6,     0.44,6,   2076.4,2,   2202.2,2,-999.0000,9,  -999.00,  -0.2983, 20110522,       15
  18HU20110506, AR07W,   340,  1, 378972,     12,2,20110522,0006, 53.6715, -55.5402,  156,      2.8,  -0.2976,  32.3044,2,  32.3062,2,    360.7,2,    370.5,2,     8.10,6,     5.20,6,     0.35,6,     0.73,6,     0.35,6,   2077.0,2,   2208.5,2,-999.0000,9,  -999.00,  -0.2977, 20110522,       16
  18HU20110506, AR07W,   343,  1, 378973,      1,2,20110522,0148, 53.5705, -55.6602,  107,     99.0,  -1.6665,  32.4980,2,-999.0000,9,    339.7,2,   -999.0,9,  -999.00,9,  -999.00,9,  -999.00,9,  -999.00,9,     -999,9,   -999.0,9,   -999.0,9,-999.0000,9,  -999.00,  -1.6682, 20110522,      148
  18HU20110506, AR07W,   343,  1, 378974,      2,2,20110522,0148, 53.5705, -55.6602,  107,     99.1,  -1.6667,  32.4980,2,  32.4987,2,    339.4,2,    349.8,2,     9.38,6,     7.17,6,     0.54,6,     0.88,6,     0.54,6,   2103.0,2,   2213.0,2,-999.0000,9,  -999.00,  -1.6684, 20110522,      148
  18HU20110506, AR07W,   343,  1, 378975,      3,2,20110522,0148, 53.5705, -55.6602,  107,     80.2,  -1.6682,  32.4829,2,  32.4843,2,    340.2,2,    349.9,2,     9.28,6,     7.07,6,     0.53,6,     0.88,6,     0.53,6,   2101.9,2,   2215.1,2,-999.0000,9,  -999.00,  -1.6696, 20110522,      149
  18HU20110506, AR07W,   343,  1, 378976,      4,2,20110522,0148, 53.5705, -55.6602,  107,     61.1,  -1.6695,  32.4671,2,  32.4648,2,    340.7,2,    351.0,2,     9.02,6,     6.83,6,     0.50,6,     0.86,6,      0.5,6,   2099.1,2,   2208.3,2,-999.0000,9,  -999.00,  -1.6705, 20110522,      149
  18HU20110506, AR07W,   343,  1, 378977,      5,2,20110522,0148, 53.5705, -55.6602,  107,     50.7,  -1.6575,  32.4519,2,  32.4548,2,    340.7,2,    351.3,2,     8.98,6,     6.81,6,     0.55,6,     0.85,6,     0.55,6,   2099.6,2,   2218.7,2,-999.0000,9,  -999.00,  -1.6584, 20110522,      150
  18HU20110506, AR07W,   343,  1, 378978,      6,2,20110522,0148, 53.5705, -55.6602,  107,     40.2,  -1.5413,  32.3636,2,-999.0000,9,    345.6,2,   -999.0,9,     7.76,6,     5.64,6,     0.29,6,     0.76,6,     0.29,6,   -999.0,9,   -999.0,9,-999.0000,9,  -999.00,  -1.5420, 20110522,      151
  18HU20110506, AR07W,   343,  1, 378979,      7,2,20110522,0148, 53.5705, -55.6602,  107,     30.6,  -1.3123,  32.2466,2,  32.2071,2,    351.2,2,    368.0,2,     5.07,6,     2.60,6,     0.38,6,     0.58,6,     0.38,6,   2068.7,2,   2203.9,2,-999.0000,9,  -999.00,  -1.3129, 20110522,      152
  18HU20110506, AR07W,   343,  1, 378980,      8,2,20110522,0148, 53.5705, -55.6602,  107,     21.0,   0.1462,  31.6757,2,  31.6871,2,    397.2,2,    412.5,2,     0.89,6,     0.00,6,     0.36,6,     0.19,6,     0.36,6,   1972.7,2,   2179.6,2,-999.0000,9,  -999.00,   0.1455, 20110522,      153
  18HU20110506, AR07W,   343,  1, 378981,      9,2,20110522,0148, 53.5705, -55.6602,  107,     10.8,   0.2240,  31.6215,2,  31.6258,2,    400.2,2,    414.9,2,     0.74,6,     0.00,6,     0.43,2,     0.15,6,     0.43,2,   1965.9,2,   2177.1,2,-999.0000,9,  -999.00,   0.2237, 20110522,      154
  18HU20110506, AR07W,   343,  1, 378982,     10,2,20110522,0148, 53.5705, -55.6602,  107,      2.4,   0.2104,  31.6264,2,  31.6260,2,    401.2,2,    414.3,2,     0.78,6,     0.00,6,     0.21,6,     0.21,6,     0.21,6,   1965.2,2,   2178.5,2,-999.0000,9,  -999.00,   0.2103, 20110522,      155