BOTTLE,2013020413CCHSIOCBG
EXPOCODE,SECT_ID,STNNBR,CASTNO,SAMPNO,BTLNBR,BTLNBR_FLAG_W,DATE,TIME,LATITUDE,LONGITUDE,DEPTH,CTDPRS,CTDTMP,CTDSAL,CTDSAL_FLAG_W,SALNTY,SALNTY_FLAG_W,CTDOXY,CTDOXY_FLAG_W,OXYGEN,OXYGEN_FLAG_W,SILCAT,SILCAT_FLAG_W,NO2+NO3,NO2+NO3_FLAG_W,NITRIT,NITRIT_FLAG_W,PHSPHT,PHSPHT_FLAG_W,NH4,NH4_FLAG_W,TCARBN,TCARBN_FLAG_W,ALKALI,ALKALI_FLAG_W,PH_TOT,PH_TOT_FLAG_W,PH_TMP,THETA,BTL_DATE,BTL_TIME
,,,,,,,,,,,METERS,DBAR,ITS-90,PSS-78,,PSS-78,,UMOL/KG,,UMOL/KG,,UMOL/KG,,UMOL/KG,,UMOL/KG,,UMOL/KG,,UMOL/KG,,UMOL/KG,,UMOL/KG,,,,DEG C,DEG C,,
  18HU20110506, AR07W,   354,  1, 379090,      1,2,20110526,0532, 42.0312, -61.0672, 4057,   4134.2,   2.2060,  34.8873,2,  34.8875,2,    257.9,2,    268.5,2,    28.73,6,    17.33,6,     0.57,6,     1.29,6,     0.57,6,   2177.9,2,   2338.1,2,-999.0000,9,  -999.00,   1.8506, 20110526,      532
  18HU20110506, AR07W,   354,  1, 379091,      2,2,20110526,0532, 42.0312, -61.0672, 4057,   4133.9,   2.2057,  34.8873,2,  34.8869,2,    258.0,2,    268.7,2,    28.69,6,    17.35,6,     0.64,6,     1.27,6,     0.64,6,   2177.9,2,   2333.8,2,-999.0000,9,  -999.00,   1.8504, 20110526,      532
  18HU20110506, AR07W,   354,  1, 379092,      3,2,20110526,0532, 42.0312, -61.0672, 4057,   4000.7,   2.2088,  34.8893,2,  34.8896,2,    258.6,2,    270.9,2,    26.45,6,    17.19,6,     0.47,6,     1.25,6,     0.47,6,   2174.5,2,   2321.7,2,-999.0000,9,  -999.00,   1.8686, 20110526,      535
  18HU20110506, AR07W,   354,  1, 379093,      4,2,20110526,0532, 42.0312, -61.0672, 4057,   3841.5,   2.2254,  34.8922,2,  34.8920,2,    260.5,2,    271.9,2,    24.08,6,    16.89,6,     0.40,6,     1.22,6,      0.4,6,   2171.4,2,   2330.3,2,-999.0000,9,  -999.00,   1.9026, 20110526,      538
  18HU20110506, AR07W,   354,  1, 379094,      5,2,20110526,0532, 42.0312, -61.0672, 4057,   3638.3,   2.2595,  34.8950,2,  34.8945,2,    259.4,2,    271.4,2,    23.98,6,    17.01,6,     0.42,6,     1.25,6,     0.42,6,   2170.5,2,   2322.7,2,-999.0000,9,  -999.00,   1.9582, 20110526,      542
  18HU20110506, AR07W,   354,  1, 379095,      6,2,20110526,0532, 42.0312, -61.0672, 4057,   3430.1,   2.2987,  34.8983,2,  34.8977,2,    258.9,2,    269.0,2,    23.95,6,    17.32,6,     0.42,6,     1.24,6,     0.42,6,   2169.3,2,   2322.4,2,-999.0000,9,  -999.00,   2.0188, 20110526,      547
  18HU20110506, AR07W,   354,  1, 379096,      7,2,20110526,0532, 42.0312, -61.0672, 4057,   3222.9,   2.4227,  34.9052,2,  34.9054,2,    259.4,2,    271.2,2,    21.36,6,    17.04,6,     0.49,6,     1.21,6,     0.49,6,   2165.6,2,   2326.8,2,-999.0000,9,  -999.00,   2.1616, 20110526,      551
  18HU20110506, AR07W,   354,  1, 379097,      8,2,20110526,0532, 42.0312, -61.0672, 4057,   3000.5,   2.5837,  34.9158,2,  34.9158,2,    257.0,2,    268.1,2,    21.45,6,    17.37,6,     0.45,6,     1.24,6,     0.45,6,   2165.3,2,   2331.5,2,-999.0000,9,  -999.00,   2.3420, 20110526,      555
  18HU20110506, AR07W,   354,  1, 379098,      9,2,20110526,0532, 42.0312, -61.0672, 4057,   2771.0,   2.7340,  34.9195,2,  34.9197,2,    258.0,2,    270.5,2,    17.93,6,    16.96,6,     0.49,6,     1.21,6,     0.49,6,   2162.7,2,   2322.3,2,-999.0000,9,  -999.00,   2.5123, 20110526,      600
  18HU20110506, AR07W,   354,  1, 379099,     10,2,20110526,0532, 42.0312, -61.0672, 4057,   2530.0,   2.9293,  34.9262,2,  34.9268,2,    257.4,2,    270.3,6,    17.05,6,    17.06,6,     0.47,6,     1.20,6,     0.47,6,   2161.1,2,   2312.4,2,-999.0000,9,  -999.00,   2.7277, 20110526,      605
  18HU20110506, AR07W,   354,  1, 379100,     11,2,20110526,0532, 42.0312, -61.0672, 4057,   2280.3,   3.1442,  34.9332,2,  34.9329,2,    256.2,2,    267.9,2,    16.04,6,    17.15,6,     0.41,6,     1.20,6,     0.41,6,   2160.2,2,   2320.1,2,-999.0000,9,  -999.00,   2.9631, 20110526,      609
  18HU20110506, AR07W,   354,  1, 379101,     12,2,20110526,0532, 42.0312, -61.0672, 4057,   2021.5,   3.4425,  34.9464,2,  34.9465,2,    253.6,2,    265.4,2,    14.97,6,    17.42,6,     0.48,6,     1.21,6,     0.48,6,   2160.4,2,   2318.6,2,-999.0000,9,  -999.00,   3.2813, 20110526,      615
  18HU20110506, AR07W,   354,  1, 379102,     13,2,20110526,0532, 42.0312, -61.0672, 4057,   1761.2,   3.6575,  34.9509,2,  34.9506,2,    252.9,2,    264.5,2,    13.38,6,    17.46,6,     0.42,6,     1.22,6,     0.42,6,   2160.9,2,   2314.6,2,-999.0000,9,  -999.00,   3.5176, 20110526,      620
  18HU20110506, AR07W,   354,  1, 379103,     14,2,20110526,0532, 42.0312, -61.0672, 4057,   1508.1,   3.9023,  34.9638,2,  34.9636,2,    250.3,2,    261.3,2,    12.65,6,    17.58,6,     0.41,6,     1.23,6,     0.41,6,   2160.3,2,   2334.1,3,-999.0000,9,  -999.00,   3.7825, 20110526,      624
  18HU20110506, AR07W,   354,  1, 379104,     15,2,20110526,0532, 42.0312, -61.0672, 4057,   1269.3,   4.1430,  34.9727,2,  34.9723,2,    247.4,2,    257.7,2,    12.09,6,    17.40,6,     0.44,6,     1.22,6,     0.44,6,   2162.2,2,   2313.0,2,-999.0000,9,  -999.00,   4.0420, 20110526,      629
  18HU20110506, AR07W,   354,  1, 379105,     16,2,20110526,0532, 42.0312, -61.0672, 4057,   1050.2,   4.2826,  34.9779,2,  34.9780,2,    245.6,2,    256.7,2,    11.69,6,    17.29,6,     0.44,6,     1.21,6,     0.44,6,   2162.3,2,   2312.2,2,-999.0000,9,  -999.00,   4.1996, 20110526,      633
  18HU20110506, AR07W,   354,  1, 379106,     17,2,20110526,0532, 42.0312, -61.0672, 4057,    841.3,   4.4943,  34.9797,2,  34.9797,2,    243.5,2,    252.0,2,    11.52,6,    17.32,6,     0.39,6,     1.24,6,     0.39,6,   2163.5,2,   2316.2,2,-999.0000,9,  -999.00,   4.4278, 20110526,      637
  18HU20110506, AR07W,   354,  1, 379107,     18,2,20110526,0532, 42.0312, -61.0672, 4057,    639.3,   4.8877,  34.9872,2,  34.9868,2,    233.6,2,    244.0,2,    11.48,6,    17.48,6,     0.46,6,     1.25,6,     0.46,6,   2164.9,6,   2316.4,6,-999.0000,9,  -999.00,   4.8361, 20110526,      641
  18HU20110506, AR07W,   354,  1, 379108,     19,2,20110526,0532, 42.0312, -61.0672, 4057,    451.0,   5.6162,  34.9886,2,  34.9874,2,    208.8,2,    217.0,2,    12.70,6,    19.05,6,     0.35,6,     1.34,6,     0.35,6,   2174.9,2,   2310.8,2,-999.0000,9,  -999.00,   5.5779, 20110526,      645
  18HU20110506, AR07W,   354,  1, 379109,     20,2,20110526,0532, 42.0312, -61.0672, 4057,    268.8,   7.5006,  35.0057,2,  35.0047,2,    161.4,2,    167.1,2,    14.28,6,    21.19,6,     0.37,6,     1.50,6,     0.37,6,   2187.1,2,   2312.6,2,-999.0000,9,  -999.00,   7.4743, 20110526,      649
  18HU20110506, AR07W,   354,  1, 379110,     21,2,20110526,0532, 42.0312, -61.0672, 4057,    140.9,   9.9239,  35.0945,2,-999.0000,9,    166.9,2,    175.2,2,     9.93,6,    16.93,6,     0.44,6,     1.21,6,     0.44,6,   2167.3,2,   2311.7,2,-999.0000,9,  -999.00,   9.9077, 20110526,      652
  18HU20110506, AR07W,   354,  1, 379111,     22,2,20110526,0532, 42.0312, -61.0672, 4057,     50.0,   5.1245,  33.3441,2,-999.0000,9,    265.8,2,    275.5,2,     3.60,6,     6.79,6,     1.57,6,     0.85,6,     1.57,6,   2108.1,2,   2239.9,2,-999.0000,9,  -999.00,   5.1207, 20110526,      654
  18HU20110506, AR07W,   354,  1, 379112,     23,2,20110526,0532, 42.0312, -61.0672, 4057,     10.0,   9.2304,  32.1442,2,  32.1930,2,    287.5,2,    301.4,2,     0.60,6,     0.00,6,     0.40,6,     0.31,6,      0.4,6,   2018.4,2,   2184.5,2,-999.0000,9,  -999.00,   9.2293, 20110526,      655
  18HU20110506, AR07W,   354,  1, 379113,     24,2,20110526,0532, 42.0312, -61.0672, 4057,      1.6,   9.3351,  32.1441,2,-999.0000,9,    286.8,2,   -999.0,9,     0.53,6,     0.00,6,     0.45,6,     0.30,6,     0.45,6,   2016.5,2,   2186.1,2,-999.0000,9,  -999.00,   9.3349, 20110526,      656
  18HU20110506, AR07W,   356,  1, 379114,      1,2,20110526,0832, 42.0403, -61.0670,  200,    199.7,   9.0184,  35.1359,2,-999.0000,9,    145.7,2,   -999.0,9,    13.20,6,    21.40,6,     0.48,6,     1.51,6,     0.48,6,   -999.0,9,   -999.0,9,-999.0000,9,  -999.00,   8.9966, 20110526,      832
  18HU20110506, AR07W,   356,  1, 379115,      2,2,20110526,0832, 42.0403, -61.0670,  200,    148.8,  10.0453,  35.2161,2,-999.0000,9,    148.7,2,   -999.0,9,    11.35,6,    19.73,6,     0.46,6,     1.36,6,     0.46,6,   -999.0,9,   -999.0,9,-999.0000,9,  -999.00,  10.0280, 20110526,      834
  18HU20110506, AR07W,   356,  1, 379116,      3,2,20110526,0832, 42.0403, -61.0670,  200,     99.8,  10.5040,  35.1123,2,-999.0000,9,    197.8,2,   -999.0,9,     7.02,6,    12.55,6,     0.40,6,     0.95,6,      0.4,6,   -999.0,9,   -999.0,9,-999.0000,9,  -999.00,  10.4921, 20110526,      837
  18HU20110506, AR07W,   356,  1, 379117,      4,2,20110526,0832, 42.0403, -61.0670,  200,     80.0,   7.9216,  34.3159,2,-999.0000,9,    223.9,2,   -999.0,9,     6.36,6,    10.67,6,     0.44,6,     0.92,6,     0.44,6,   -999.0,9,   -999.0,9,-999.0000,9,  -999.00,   7.9137, 20110526,      838
  18HU20110506, AR07W,   356,  1, 379118,      5,2,20110526,0832, 42.0403, -61.0670,  200,     60.9,   6.1301,  33.7412,2,-999.0000,9,    246.6,2,   -999.0,9,     5.09,6,     9.04,6,     0.49,6,     0.90,6,     0.49,6,   -999.0,9,   -999.0,9,-999.0000,9,  -999.00,   6.1250, 20110526,      839
  18HU20110506, AR07W,   356,  1, 379119,      6,2,20110526,0832, 42.0403, -61.0670,  200,     49.9,   5.4453,  33.4677,2,-999.0000,9,    258.6,2,   -999.0,9,     4.10,6,     7.73,6,     1.15,6,     0.87,6,     1.15,6,   -999.0,9,   -999.0,9,-999.0000,9,  -999.00,   5.4414, 20110526,      840
  18HU20110506, AR07W,   356,  1, 379120,      7,2,20110526,0832, 42.0403, -61.0670,  200,     41.5,   4.9144,  33.2468,2,-999.0000,9,    273.0,2,   -999.0,9,     2.81,6,     5.31,6,     1.92,6,     0.80,6,     1.92,6,   -999.0,9,   -999.0,9,-999.0000,9,  -999.00,   4.9114, 20110526,      841
  18HU20110506, AR07W,   356,  1, 379121,      8,2,20110526,0832, 42.0403, -61.0670,  200,     29.6,   4.6694,  32.6768,2,-999.0000,9,    305.0,2,   -999.0,9,     1.10,6,     1.15,6,     0.79,6,     0.51,6,     0.79,6,   -999.0,9,   -999.0,9,-999.0000,9,  -999.00,   4.6673, 20110526,      841
  18HU20110506, AR07W,   356,  1, 379122,      9,2,20110526,0832, 42.0403, -61.0670,  200,     19.3,   8.1593,  32.4182,2,-999.0000,9,    298.9,2,   -999.0,9,     0.74,6,     0.00,6,     0.51,6,     0.31,6,     0.51,6,   -999.0,9,   -999.0,9,-999.0000,9,  -999.00,   8.1574, 20110526,      842
  18HU20110506, AR07W,   356,  1, 379123,     10,2,20110526,0832, 42.0403, -61.0670,  200,     11.0,   9.3555,  32.1415,2,-999.0000,9,    287.4,2,   -999.0,9,     0.54,6,     0.00,6,     0.38,6,     0.29,6,     0.38,6,   -999.0,9,   -999.0,9,-999.0000,9,  -999.00,   9.3543, 20110526,      843
  18HU20110506, AR07W,   356,  1, 379124,     11,2,20110526,0832, 42.0403, -61.0670,  200,      2.0,   9.3918,  32.1428,2,-999.0000,9,    287.0,2,   -999.0,9,     0.54,6,     0.00,6,     0.36,6,     0.28,6,     0.36,6,   -999.0,9,   -999.0,9,-999.0000,9,  -999.00,   9.3916, 20110526,      843
  18HU20110506, AR07W,   357,  1, 379125,      1,2,20110526,1137, 42.2333, -61.2098, 3789,   3863.5,   2.1930,  34.8888,2,  34.8883,2,    259.2,2,    269.6,2,    27.10,6,    17.12,6,     0.41,6,     1.25,6,     0.41,6,   2174.5,2,   2325.1,2,-999.0000,9,  -999.00,   1.8686, 20110526,     1137
  18HU20110506, AR07W,   357,  1, 379126,      2,2,20110526,1137, 42.2333, -61.2098, 3789,   3861.7,   2.1928,  34.8890,2,  34.8883,2,    259.2,2,    269.7,2,    27.03,6,    17.05,6,     0.36,6,     1.24,6,     0.36,6,   2175.6,2,   2324.5,2,-999.0000,9,  -999.00,   1.8686, 20110526,     1138
  18HU20110506, AR07W,   357,  1, 379127,      3,2,20110526,1137, 42.2333, -61.2098, 3789,   3685.2,   2.2389,  34.8943,2,  34.8940,2,    261.8,2,    273.7,2,    22.40,6,    16.39,6,     0.61,6,     1.19,6,     0.61,6,   2169.5,2,   2321.7,2,-999.0000,9,  -999.00,   1.9330, 20110526,     1142
  18HU20110506, AR07W,   357,  1, 379128,      4,2,20110526,1137, 42.2333, -61.2098, 3789,   3524.7,   2.2653,  34.8970,2,  34.8979,2,    262.5,2,    274.8,2,    21.01,6,    16.21,6,     0.47,6,     1.14,6,     0.47,6,   2169.1,2,   2323.0,2,-999.0000,9,  -999.00,   1.9761, 20110526,     1146
  18HU20110506, AR07W,   357,  1, 379129,      5,2,20110526,1137, 42.2333, -61.2098, 3789,   3330.7,   2.3780,  34.9028,2,  34.9039,2,    263.4,2,    275.8,2,    18.75,6,    15.98,6,     0.44,6,     1.04,3,     0.44,6,   2166.2,2,   2315.0,2,-999.0000,9,  -999.00,   2.1067, 20110526,     1151
  18HU20110506, AR07W,   357,  1, 379130,      6,2,20110526,1137, 42.2333, -61.2098, 3789,   3168.9,   2.4709,  34.9073,2,  34.9074,2,    260.6,2,    273.1,2,    19.48,6,    16.32,6,     0.47,6,     0.97,3,     0.47,6,   2165.6,2,   2313.7,2,-999.0000,9,  -999.00,   2.2143, 20110526,     1154
  18HU20110506, AR07W,   357,  1, 379131,      7,2,20110526,1137, 42.2333, -61.2098, 3789,   3001.9,   2.5974,  34.9132,2,  34.9135,2,    260.7,2,    273.5,2,    17.97,6,    16.19,6,     0.36,6,     0.89,3,     0.36,6,   2165.1,2,   2308.5,2,-999.0000,9,  -999.00,   2.3552, 20110526,     1157
  18HU20110506, AR07W,   357,  1, 379132,      8,2,20110526,1137, 42.2333, -61.2098, 3789,   2788.1,   2.7820,  34.9207,2,  34.9204,2,    259.1,2,    270.6,2,    17.58,6,    16.47,6,     0.34,6,     0.86,3,     0.34,6,   2162.6,2,   2318.4,2,-999.0000,9,  -999.00,   2.5576, 20110526,     1202
  18HU20110506, AR07W,   357,  1, 379133,      9,2,20110526,1137, 42.2333, -61.2098, 3789,   2568.8,   2.9615,  34.9275,2,  34.9277,2,    257.3,2,    270.3,2,    16.81,6,    16.64,6,     0.40,6,     0.78,3,      0.4,6,   2162.2,2,   2318.2,2,-999.0000,9,  -999.00,   2.7555, 20110526,     1206
  18HU20110506, AR07W,   357,  1, 379134,     10,2,20110526,1137, 42.2333, -61.2098, 3789,   2330.4,   3.1324,  34.9306,2,  34.9305,2,    257.0,2,    269.2,2,    15.57,6,    16.82,6,     0.35,6,     0.77,3,     0.35,6,   2160.6,2,   2320.1,2,-999.0000,9,  -999.00,   2.9467, 20110526,     1211
  18HU20110506, AR07W,   357,  1, 379135,     11,2,20110526,1137, 42.2333, -61.2098, 3789,   2070.3,   3.3154,  34.9339,2,  34.9341,2,    256.6,2,    268.1,2,    14.79,6,    17.02,6,     0.41,6,     0.71,3,     0.41,6,   2161.2,2,   2316.1,2,-999.0000,9,  -999.00,   3.1515, 20110526,     1216
  18HU20110506, AR07W,   357,  1, 379136,     12,2,20110526,1137, 42.2333, -61.2098, 3789,   1810.0,   3.4920,  34.9375,2,  34.9374,2,    255.7,2,    267.4,2,    13.76,6,    17.05,6,     0.62,6,     1.21,6,     0.62,6,   2161.3,2,   2314.5,2,-999.0000,9,  -999.00,   3.3498, 20110526,     1221
  18HU20110506, AR07W,   357,  1, 379137,     13,2,20110526,1137, 42.2333, -61.2098, 3789,   1560.8,   3.7242,  34.9447,2,  34.9447,2,    254.2,2,    265.7,2,    12.75,6,    17.01,6,     0.58,6,     1.22,6,     0.58,6,   2164.0,2,   2303.4,2,-999.0000,9,  -999.00,   3.6017, 20110526,     1226
  18HU20110506, AR07W,   357,  1, 379138,     14,2,20110526,1137, 42.2333, -61.2098, 3789,   1301.5,   4.0243,  34.9645,2,  34.9642,2,    249.8,2,    260.5,2,    12.30,6,    17.39,6,     0.56,6,     1.23,6,     0.56,6,   2164.9,2,   2323.0,2,-999.0000,9,  -999.00,   3.9217, 20110526,     1231
  18HU20110506, AR07W,   357,  1, 379139,     15,2,20110526,1137, 42.2333, -61.2098, 3789,   1069.2,   4.2595,  34.9792,2,  34.9792,2,    246.1,2,    256.0,2,    12.12,6,    17.58,6,     0.52,6,     1.25,6,     0.52,6,   2166.8,2,   2311.6,2,-999.0000,9,  -999.00,   4.1751, 20110526,     1235
  18HU20110506, AR07W,   357,  1, 379140,     16,2,20110526,1137, 42.2333, -61.2098, 3789,    872.2,   4.5291,  34.9926,2,  34.9928,2,    240.1,2,    249.9,2,    12.00,6,    17.64,6,     0.53,6,     1.24,6,     0.53,6,   2168.1,2,   2312.2,2,-999.0000,9,  -999.00,   4.4597, 20110526,     1239
  18HU20110506, AR07W,   357,  1, 379141,     17,2,20110526,1137, 42.2333, -61.2098, 3789,    680.2,   4.9029,  35.0085,2,  35.0081,2,    230.9,2,    240.2,2,    12.04,6,    18.31,6,     0.52,6,     1.28,6,     0.52,6,   2172.8,2,   2325.7,2,-999.0000,9,  -999.00,   4.8477, 20110526,     1243
  18HU20110506, AR07W,   357,  1, 379142,     18,2,20110526,1137, 42.2333, -61.2098, 3789,    511.6,   5.3418,  34.9947,2,  34.9938,2,    218.4,2,    226.5,2,    12.46,6,    19.01,6,     0.55,6,     1.33,6,     0.55,6,   2180.0,2,   2316.3,2,-999.0000,9,  -999.00,   5.2992, 20110526,     1246
  18HU20110506, AR07W,   357,  1, 379143,     19,2,20110526,1137, 42.2333, -61.2098, 3789,    360.5,   6.2759,  34.9984,2,  34.9983,2,    189.7,2,    195.5,2,    13.82,6,    20.77,6,     0.60,6,     1.45,6,      0.6,6,   2188.7,2,   2314.2,2,-999.0000,9,  -999.00,   6.2437, 20110526,     1249
  18HU20110506, AR07W,   357,  1, 379144,     20,2,20110526,1137, 42.2333, -61.2098, 3789,    232.7,   7.8132,  35.0247,2,  35.0257,2,    156.5,2,    161.3,2,    14.55,6,    22.47,6,     0.46,6,     1.53,6,     0.46,6,   2196.0,2,   2306.6,2,-999.0000,9,  -999.00,   7.7899, 20110526,     1252
  18HU20110506, AR07W,   357,  1, 379145,     21,2,20110526,1137, 42.2333, -61.2098, 3789,    120.3,  10.7081,  35.2465,2,  35.2555,2,    168.7,2,    173.6,2,     9.34,6,    17.24,6,     0.50,6,     1.18,6,      0.5,6,   2169.7,2,   2320.5,2,-999.0000,9,  -999.00,  10.6935, 20110526,     1255
  18HU20110506, AR07W,   357,  1, 379146,     22,2,20110526,1137, 42.2333, -61.2098, 3789,     48.9,   4.0350,  33.1161,2,  33.1204,2,    280.1,2,    292.1,2,     3.32,6,     5.60,6,     2.77,6,     0.84,6,     2.77,6,   2102.7,2,   2237.5,2,-999.0000,9,  -999.00,   4.0318, 20110526,     1256
  18HU20110506, AR07W,   357,  1, 379147,     23,2,20110526,1137, 42.2333, -61.2098, 3789,      9.8,   8.9461,  32.1124,2,-999.0000,9,    287.9,2,    304.9,2,     0.52,6,     0.12,6,     0.53,6,     0.30,6,     0.53,6,   2021.2,2,   2191.1,2,-999.0000,9,  -999.00,   8.9451, 20110526,     1257
  18HU20110506, AR07W,   357,  1, 379148,     24,2,20110526,1137, 42.2333, -61.2098, 3789,      2.9,   9.2648,  32.1146,2,-999.0000,9,    288.7,2,    299.9,2,     0.67,6,     0.05,6,     0.48,6,     0.28,6,     0.48,6,   2017.6,2,   2186.7,2,-999.0000,9,  -999.00,   9.2645, 20110526,     1259