BOTTLE,2013020413CCHSIOCBG
EXPOCODE,SECT_ID,STNNBR,CASTNO,SAMPNO,BTLNBR,BTLNBR_FLAG_W,DATE,TIME,LATITUDE,LONGITUDE,DEPTH,CTDPRS,CTDTMP,CTDSAL,CTDSAL_FLAG_W,SALNTY,SALNTY_FLAG_W,CTDOXY,CTDOXY_FLAG_W,OXYGEN,OXYGEN_FLAG_W,SILCAT,SILCAT_FLAG_W,NO2+NO3,NO2+NO3_FLAG_W,NITRIT,NITRIT_FLAG_W,PHSPHT,PHSPHT_FLAG_W,NH4,NH4_FLAG_W,TCARBN,TCARBN_FLAG_W,ALKALI,ALKALI_FLAG_W,PH_TOT,PH_TOT_FLAG_W,PH_TMP,THETA,BTL_DATE,BTL_TIME
,,,,,,,,,,,METERS,DBAR,ITS-90,PSS-78,,PSS-78,,UMOL/KG,,UMOL/KG,,UMOL/KG,,UMOL/KG,,UMOL/KG,,UMOL/KG,,UMOL/KG,,UMOL/KG,,UMOL/KG,,,,DEG C,DEG C,,
  18HU20110506, AR07W,   176,  1, 378475,      1,2,20110516,0334, 59.7508, -49.1642, 3207,   3259.0,   1.7989,  34.8993,2,-999.0000,9,    284.9,2,   -999.0,9,  -999.00,9,  -999.00,9,  -999.00,9,  -999.00,9,     -999,9,   -999.0,9,   -999.0,9,-999.0000,9,  -999.00,   1.5487, 20110516,      334
  18HU20110506, AR07W,   176,  1, 378476,      2,2,20110516,0334, 59.7508, -49.1642, 3207,   3258.4,   1.7991,  34.8993,2,  34.9015,2,    284.9,2,    295.4,2,     8.69,6,    13.35,6,     0.22,6,     0.96,6,     0.22,6,   2162.7,2,   2301.7,2,   8.0000,3,    25.00,   1.5489, 20110516,      334
  18HU20110506, AR07W,   176,  1, 378477,      3,2,20110516,0334, 59.7508, -49.1642, 3207,   3159.9,   1.8293,  34.8993,2,  34.9019,2,    283.7,2,    294.7,2,     8.74,6,    13.33,6,     0.24,6,     1.00,6,     0.24,6,   2160.0,2,   2305.1,2,-999.0000,9,  -999.00,   1.5883, 20110516,      336
  18HU20110506, AR07W,   176,  1, 378478,      4,2,20110516,0334, 59.7508, -49.1642, 3207,   3040.5,   2.1617,  34.9023,2,  34.9041,2,    278.3,2,    289.6,2,    10.28,6,    14.01,6,     0.29,6,     1.00,6,     0.29,6,   2164.9,2,   2304.3,2,-999.0000,9,  -999.00,   1.9252, 20110516,      339
  18HU20110506, AR07W,   176,  1, 378479,      5,2,20110516,0334, 59.7508, -49.1642, 3207,   2911.0,   2.4093,  34.9083,2,  34.9104,2,    273.2,2,    284.5,2,    11.74,6,    14.58,6,     0.31,6,     1.05,6,     0.31,6,   2160.9,6,   2305.6,6,-999.0000,9,  -999.00,   2.1804, 20110516,      342
  18HU20110506, AR07W,   176,  1, 378480,      6,2,20110516,0334, 59.7508, -49.1642, 3207,   2771.3,   2.6200,  34.9155,2,  34.9234,2,    268.5,2,    279.8,2,    12.92,6,    15.16,6,     0.16,6,     1.10,6,     0.16,6,   2160.5,2,   2303.3,2,-999.0000,9,  -999.00,   2.4006, 20110516,      345
  18HU20110506, AR07W,   176,  1, 378481,      7,2,20110516,0334, 59.7508, -49.1642, 3207,   2621.0,   2.7913,  34.9185,2,  34.9207,2,    267.5,2,    278.7,2,    12.50,6,    15.21,6,     0.27,6,     1.14,6,     0.27,6,   2160.6,2,   2310.1,2,-999.0000,9,  -999.00,   2.5834, 20110516,      348
  18HU20110506, AR07W,   176,  1, 378482,      8,2,20110516,0334, 59.7508, -49.1642, 3207,   2460.5,   2.9058,  34.9162,2,  34.9205,2,    267.5,2,    278.6,2,    11.87,6,    15.26,6,     0.24,6,     1.13,6,     0.24,6,   2160.3,2,   2302.1,2,-999.0000,9,  -999.00,   2.7115, 20110516,      352
  18HU20110506, AR07W,   176,  1, 378483,      9,2,20110516,0334, 59.7508, -49.1642, 3207,   2260.2,   3.0603,  34.9151,2,  34.9170,2,    266.8,2,    278.4,6,    11.40,6,    15.41,6,     0.23,6,     1.14,6,     0.23,6,   2159.6,2,   2305.8,2,-999.0000,9,  -999.00,   2.8826, 20110516,      356
  18HU20110506, AR07W,   176,  1, 378484,     10,2,20110516,0334, 59.7508, -49.1642, 3207,   2059.4,   3.2268,  34.9143,2,  34.9162,2,    266.5,2,    277.2,2,    10.95,6,    15.51,6,     0.26,6,     1.17,6,     0.26,6,   2158.9,2,   2301.1,2,-999.0000,9,  -999.00,   3.0654, 20110516,      400
  18HU20110506, AR07W,   176,  1, 378485,     11,2,20110516,0334, 59.7508, -49.1642, 3207,   1849.5,   3.4418,  34.9199,2,  34.9223,2,    264.7,2,    275.2,2,    10.63,6,    15.75,6,     0.22,6,     1.17,6,     0.22,6,   2159.6,2,   2304.9,2,-999.0000,9,  -999.00,   3.2967, 20110516,      404
  18HU20110506, AR07W,   176,  1, 378486,     12,2,20110516,0334, 59.7508, -49.1642, 3207,   1641.1,   3.5966,  34.9191,2,  34.9205,2,    263.8,2,    274.0,2,    10.32,6,    15.91,6,     0.25,6,     1.18,6,     0.25,6,   2162.9,2,   2304.9,2,-999.0000,9,  -999.00,   3.4685, 20110516,      408
  18HU20110506, AR07W,   176,  1, 378487,     13,2,20110516,0334, 59.7508, -49.1642, 3207,   1430.2,   3.6994,  34.9060,2,  34.9078,2,    266.8,2,    278.0,2,     9.76,6,    15.84,6,     0.21,6,     1.16,6,     0.21,6,   2162.5,2,   2301.3,2,-999.0000,9,  -999.00,   3.5889, 20110516,      412
  18HU20110506, AR07W,   176,  1, 378488,     14,2,20110516,0334, 59.7508, -49.1642, 3207,   1230.9,   3.7171,  34.8906,2,  34.8930,2,    271.2,2,    280.7,2,     9.20,6,    15.63,6,     0.24,6,     1.14,6,     0.24,6,   2160.7,2,   2301.8,2,-999.0000,9,  -999.00,   3.6237, 20110516,      416
  18HU20110506, AR07W,   176,  1, 378489,     15,2,20110516,0334, 59.7508, -49.1642, 3207,   1029.1,   3.8153,  34.8876,2,  34.8899,2,    273.7,2,    276.1,2,     8.89,6,    15.64,6,     0.18,6,     1.13,6,     0.18,6,   2160.4,2,   2303.2,2,-999.0000,9,  -999.00,   3.7380, 20110516,      420
  18HU20110506, AR07W,   176,  1, 378490,     16,2,20110516,0334, 59.7508, -49.1642, 3207,    840.5,   4.0064,  34.8988,2,  34.9015,2,    274.3,2,    284.8,2,     8.53,6,    15.56,6,     0.16,6,     1.11,6,     0.16,6,   2160.5,2,   2304.2,2,-999.0000,9,  -999.00,   3.9432, 20110516,      424
  18HU20110506, AR07W,   176,  1, 378491,     17,2,20110516,0334, 59.7508, -49.1642, 3207,    661.3,   4.0511,  34.8863,2,  34.8876,2,    281.2,2,    289.7,2,     7.68,6,    14.70,6,     0.26,6,     1.05,6,     0.26,6,   2150.2,2,   2301.9,2,-999.0000,9,  -999.00,   4.0021, 20110516,      427
  18HU20110506, AR07W,   176,  1, 378492,     18,2,20110516,0334, 59.7508, -49.1642, 3207,    480.9,   4.0290,  34.8632,2,  34.8577,2,    287.1,2,    297.3,2,     7.07,6,    13.99,6,     0.42,6,     1.01,6,     0.42,6,   2150.3,2,   2304.5,2,-999.0000,9,  -999.00,   3.9941, 20110516,      431
  18HU20110506, AR07W,   176,  1, 378493,     19,2,20110516,0334, 59.7508, -49.1642, 3207,    331.6,   4.5925,  34.9204,2,  34.9198,2,    281.0,2,    290.4,2,     7.35,6,    14.55,6,     0.20,6,     1.03,6,      0.2,6,   2151.6,2,   2304.2,2,-999.0000,9,  -999.00,   4.5673, 20110516,      434
  18HU20110506, AR07W,   176,  1, 378494,     20,2,20110516,0334, 59.7508, -49.1642, 3207,    210.3,   4.4582,  34.8705,2,  34.8728,2,    284.4,2,    291.8,2,     6.78,6,    13.59,6,     0.56,6,     0.99,6,     0.56,6,   2149.4,2,   2300.3,2,-999.0000,9,  -999.00,   4.4427, 20110516,      437
  18HU20110506, AR07W,   176,  1, 378495,     21,2,20110516,0334, 59.7508, -49.1642, 3207,    111.5,   2.7164,  34.5203,2,  34.5209,2,    327.8,2,    331.7,2,     4.93,6,     5.13,6,     1.72,6,     0.52,6,     1.72,6,   2107.4,2,   2298.5,2,-999.0000,9,  -999.00,   2.7099, 20110516,      440
  18HU20110506, AR07W,   176,  1, 378496,     22,2,20110516,0334, 59.7508, -49.1642, 3207,     49.8,   1.7870,  34.1892,2,  34.1806,2,    343.4,2,    356.9,2,     3.30,6,     2.33,6,     0.76,6,     0.31,6,     0.76,6,   2084.2,2,   2281.3,2,   8.3000,3,    25.00,   1.7845, 20110516,      442
  18HU20110506, AR07W,   176,  1, 378497,     23,2,20110516,0334, 59.7508, -49.1642, 3207,     24.9,   1.9147,  34.0856,2,  34.0872,2,    371.1,2,    382.5,2,     2.62,6,     0.00,6,     0.20,6,     0.07,6,      0.2,6,   2044.2,2,   2273.9,2,-999.0000,9,  -999.00,   1.9134, 20110516,      443
  18HU20110506, AR07W,   176,  1, 378498,     24,2,20110516,0334, 59.7508, -49.1642, 3207,      3.2,   1.9471,  34.0822,2,  34.0842,2,    372.0,2,    383.8,2,     2.68,6,     0.00,6,     0.22,6,     0.07,6,     0.22,6,   2043.6,2,   2276.9,2,-999.0000,9,  -999.00,   1.9469, 20110516,      444
  18HU20110506, AR07W,   183,  1, 378499,      1,2,20110516,0733, 59.9807, -48.9010, 3012,    202.0,   4.7265,  34.8967,2,-999.0000,9,    282.7,2,   -999.0,9,  -999.00,9,  -999.00,9,  -999.00,9,  -999.00,9,     -999,9,   -999.0,9,   -999.0,9,-999.0000,9,  -999.00,   4.7111, 20110516,      733
  18HU20110506, AR07W,   183,  1, 378500,      2,2,20110516,0733, 59.9807, -48.9010, 3012,    148.7,   4.3480,  34.8112,2,-999.0000,9,    285.4,2,   -999.0,9,     6.56,6,    13.25,6,     0.25,6,     0.93,6,     0.25,6,   -999.0,9,   -999.0,9,-999.0000,9,  -999.00,   4.3372, 20110516,      735
  18HU20110506, AR07W,   183,  1, 378501,      3,2,20110516,0733, 59.9807, -48.9010, 3012,    102.8,   3.6659,  34.6496,2,-999.0000,9,    291.6,2,   -999.0,9,     6.20,6,    12.37,6,     0.28,6,     0.94,6,     0.28,6,   -999.0,9,   -999.0,9,-999.0000,9,  -999.00,   3.6591, 20110516,      737
  18HU20110506, AR07W,   183,  1, 378502,      4,2,20110516,0733, 59.9807, -48.9010, 3012,     81.6,   3.2834,  34.5499,2,-999.0000,9,    297.0,2,   -999.0,9,     6.03,6,    11.47,6,     0.48,6,     0.91,6,     0.48,6,   -999.0,9,   -999.0,9,-999.0000,9,  -999.00,   3.2783, 20110516,      738
  18HU20110506, AR07W,   183,  1, 378503,      5,2,20110516,0733, 59.9807, -48.9010, 3012,     59.5,   2.9155,  34.3990,2,-999.0000,9,    313.1,2,   -999.0,9,     5.72,6,     8.63,6,     0.81,6,     0.78,6,     0.81,6,   -999.0,9,   -999.0,9,-999.0000,9,  -999.00,   2.9120, 20110516,      739
  18HU20110506, AR07W,   183,  1, 378504,      6,2,20110516,0733, 59.9807, -48.9010, 3012,     50.6,   2.3494,  34.1742,2,-999.0000,9,    337.0,2,   -999.0,9,     5.20,6,     5.05,6,     0.62,6,     0.56,6,     0.62,6,   -999.0,9,   -999.0,9,-999.0000,9,  -999.00,   2.3466, 20110516,      741
  18HU20110506, AR07W,   183,  1, 378505,      7,2,20110516,0733, 59.9807, -48.9010, 3012,     38.7,   2.3842,  34.0879,2,-999.0000,9,    353.9,2,   -999.0,9,     4.81,6,     1.75,6,     0.54,6,     0.36,6,     0.54,6,   -999.0,9,   -999.0,9,-999.0000,9,  -999.00,   2.3821, 20110516,      742
  18HU20110506, AR07W,   183,  1, 378506,      8,2,20110516,0733, 59.9807, -48.9010, 3012,     29.8,   2.1805,  34.0301,2,-999.0000,9,    357.5,2,   -999.0,9,     4.65,6,     1.39,6,     0.45,6,     0.32,6,     0.45,6,   -999.0,9,   -999.0,9,-999.0000,9,  -999.00,   2.1789, 20110516,      743
  18HU20110506, AR07W,   183,  1, 378507,      9,2,20110516,0733, 59.9807, -48.9010, 3012,     20.4,   1.3159,  33.7726,2,-999.0000,9,    371.7,2,   -999.0,9,     3.94,6,     0.29,6,     0.15,6,     0.22,6,     0.15,6,   -999.0,9,   -999.0,9,-999.0000,9,  -999.00,   1.3150, 20110516,      744
  18HU20110506, AR07W,   183,  1, 378508,     10,2,20110516,0733, 59.9807, -48.9010, 3012,     10.3,   1.1118,  33.7046,2,-999.0000,9,    376.6,2,   -999.0,9,     3.80,6,     0.06,6,     0.23,6,     0.19,6,     0.23,6,   -999.0,9,   -999.0,9,-999.0000,9,  -999.00,   1.1114, 20110516,      745
  18HU20110506, AR07W,   183,  1, 378509,     11,2,20110516,0733, 59.9807, -48.9010, 3012,      2.9,   1.0203,  33.6681,2,-999.0000,9,    379.8,2,   -999.0,9,     3.69,6,     0.00,6,     0.25,6,     0.17,6,     0.25,6,   -999.0,9,   -999.0,9,-999.0000,9,  -999.00,   1.0202, 20110516,      746
  18HU20110506, AR07W,   184,  1, 378511,      1,2,20110516,0935, 59.9800, -48.9010, 3010,   3044.6,   1.9034,  34.9003,2,-999.0000,9,    284.3,2,   -999.0,9,  -999.00,9,  -999.00,9,  -999.00,9,  -999.00,9,     -999,9,   -999.0,9,   -999.0,9,-999.0000,9,  -999.00,   1.6722, 20110516,      935
  18HU20110506, AR07W,   184,  1, 378512,      2,2,20110516,0935, 59.9800, -48.9010, 3010,   3045.4,   1.9032,  34.9002,2,  34.9044,2,    284.0,2,    295.4,2,     8.71,6,    13.42,6,     0.15,6,     0.95,6,     0.15,6,   2158.4,2,   2306.8,2,-999.0000,9,  -999.00,   1.6719, 20110516,      936
  18HU20110506, AR07W,   184,  1, 378513,      3,2,20110516,0935, 59.9800, -48.9010, 3010,   3044.3,   1.9032,  34.8999,2,  34.9049,2,    283.9,2,    294.5,2,     8.71,6,    13.48,6,     0.32,6,     0.97,6,     0.32,6,   2163.5,2,   2305.5,2,-999.0000,9,  -999.00,   1.6720, 20110516,      937
  18HU20110506, AR07W,   184,  1, 378514,      4,2,20110516,0935, 59.9800, -48.9010, 3010,   2852.4,   2.1058,  34.9014,2,  34.9059,2,    278.8,2,    290.4,2,    10.11,6,    14.02,6,     0.22,6,     1.01,6,     0.22,6,   2159.7,6,   2307.9,2,-999.0000,9,  -999.00,   1.8891, 20110516,      941
  18HU20110506, AR07W,   184,  1, 378515,      5,2,20110516,0935, 59.9800, -48.9010, 3010,   2599.7,   2.5312,  34.9138,2,  34.9185,2,    269.5,2,    280.3,2,    13.25,6,    15.33,6,     0.28,6,     1.09,6,     0.28,6,   2157.8,2,   2315.7,2,-999.0000,9,  -999.00,   2.3304, 20110516,      947
  18HU20110506, AR07W,   184,  1, 378516,      6,2,20110516,0935, 59.9800, -48.9010, 3010,   2403.5,   2.7636,  34.9222,2,  34.9259,2,    267.5,2,    277.8,2,    12.83,6,    15.52,6,     0.24,6,     1.12,6,     0.24,6,   2159.5,2,   2315.5,2,-999.0000,9,  -999.00,   2.5773, 20110516,      953
  18HU20110506, AR07W,   184,  1, 378517,      7,2,20110516,0935, 59.9800, -48.9010, 3010,   2282.5,   2.8538,  34.9200,2,  34.9247,2,    268.0,2,    278.9,2,    12.20,6,    15.30,6,     0.19,6,     1.13,6,     0.19,6,   2158.2,2,   2310.3,2,-999.0000,9,  -999.00,   2.6774, 20110516,      958
  18HU20110506, AR07W,   184,  1, 378518,      8,2,20110516,0935, 59.9800, -48.9010, 3010,   2152.5,   2.9904,  34.9205,2,  34.9249,2,    268.0,2,    278.4,2,    11.31,6,    15.22,6,     0.20,6,     1.11,6,      0.2,6,   2160.0,2,   2313.2,2,-999.0000,9,  -999.00,   2.8239, 20110516,     1001
  18HU20110506, AR07W,   184,  1, 378519,      9,2,20110516,0935, 59.9800, -48.9010, 3010,   1980.3,   3.1510,  34.9211,2,  34.9251,2,    266.9,2,    277.0,2,    11.21,6,    15.54,6,     0.20,6,     1.11,6,      0.2,6,   2158.9,2,   2310.2,2,-999.0000,9,  -999.00,   2.9980, 20110516,     1005
  18HU20110506, AR07W,   184,  1, 378520,     10,2,20110516,0935, 59.9800, -48.9010, 3010,   1774.3,   3.3505,  34.9195,2,  34.9237,2,    265.7,2,    276.0,2,    10.96,6,    15.67,6,     0.19,6,     1.12,6,     0.19,6,   2158.9,2,   2309.4,2,-999.0000,9,  -999.00,   3.2135, 20110516,     1011
  18HU20110506, AR07W,   184,  1, 378521,     11,2,20110516,0935, 59.9800, -48.9010, 3010,   1593.2,   3.5741,  34.9249,2,  34.9296,2,    263.7,2,    273.7,2,    10.55,6,    16.01,6,     0.30,6,     1.13,6,      0.3,6,   2160.3,2,   2308.4,2,-999.0000,9,  -999.00,   3.4505, 20110516,     1015
  18HU20110506, AR07W,   184,  1, 378522,     12,2,20110516,0935, 59.9800, -48.9010, 3010,   1381.2,   3.6886,  34.9126,2,  34.9166,2,    265.7,2,    275.7,2,    10.12,6,    16.08,6,     0.27,6,     1.12,6,     0.27,6,   2159.8,2,   2305.0,2,-999.0000,9,  -999.00,   3.5825, 20110516,     1020
  18HU20110506, AR07W,   184,  1, 378523,     13,2,20110516,0935, 59.9800, -48.9010, 3010,   1180.7,   3.7549,  34.9000,2,-999.0000,9,    270.0,2,   -999.0,9,     7.60,4,    12.35,4,     0.35,6,     0.91,4,     0.35,6,   -999.0,9,   -999.0,9,-999.0000,9,  -999.00,   3.6654, 20110516,     1024
  18HU20110506, AR07W,   184,  1, 378524,     14,2,20110516,0935, 59.9800, -48.9010, 3010,    979.1,   3.9852,  34.9087,2,  34.9126,2,    270.8,2,    280.6,6,     8.96,6,    15.73,6,     0.28,6,     1.09,6,     0.28,6,   2160.7,2,   2304.7,2,-999.0000,9,  -999.00,   3.9107, 20110516,     1030
  18HU20110506, AR07W,   184,  1, 378525,     15,2,20110516,0935, 59.9800, -48.9010, 3010,    799.6,   4.2310,  34.9202,2,  34.9240,2,    271.4,2,    281.6,2,     8.63,6,    15.63,6,     0.23,6,     1.08,6,     0.23,6,   2161.6,2,   2310.4,2,-999.0000,9,  -999.00,   4.1697, 20110516,     1034
  18HU20110506, AR07W,   184,  1, 378526,     16,2,20110516,0935, 59.9800, -48.9010, 3010,    639.6,   4.3975,  34.9184,2,  34.9232,2,    282.2,2,    292.5,2,     7.65,6,    14.81,6,     0.30,6,     1.04,6,      0.3,6,   2156.1,2,   2307.8,2,   8.0000,3,    25.00,   4.3484, 20110516,     1039
  18HU20110506, AR07W,   184,  1, 378527,     17,2,20110516,0935, 59.9800, -48.9010, 3010,    500.1,   4.6732,  34.9364,2,  34.9409,2,    280.1,2,    290.3,2,     7.56,6,    14.53,6,     0.20,6,     1.01,6,      0.2,6,   2155.0,2,   2304.8,2,-999.0000,9,  -999.00,   4.6343, 20110516,     1043
  18HU20110506, AR07W,   184,  1, 378528,     18,2,20110516,0935, 59.9800, -48.9010, 3010,    380.1,   4.9409,  34.9652,2,  34.9678,2,    279.2,2,    288.8,2,     7.24,6,    14.38,6,     0.28,6,     0.99,6,     0.28,6,   2154.2,2,   2310.3,2,-999.0000,9,  -999.00,   4.9108, 20110516,     1046
  18HU20110506, AR07W,   184,  1, 378529,     19,2,20110516,0935, 59.9800, -48.9010, 3010,    279.1,   4.9432,  34.9493,2,  34.9519,2,    279.4,2,    289.3,2,     7.02,6,    14.26,6,     0.23,6,     0.97,6,     0.23,6,   2151.4,2,   2310.0,2,-999.0000,9,  -999.00,   4.9213, 20110516,     1050
  18HU20110506, AR07W,   184,  1, 378530,     20,2,20110516,0935, 59.9800, -48.9010, 3010,    201.2,   4.6084,  34.8719,2,  34.8743,2,    283.4,2,    287.4,2,     6.81,6,    13.56,6,     0.16,6,     0.95,6,     0.16,6,   2148.4,2,   2303.8,2,-999.0000,9,  -999.00,   4.5933, 20110516,     1053
  18HU20110506, AR07W,   184,  1, 378531,     21,2,20110516,0935, 59.9800, -48.9010, 3010,    121.2,   3.8790,  34.7002,2,  34.7025,2,    289.5,2,    298.9,2,     6.44,6,    12.54,6,     0.26,6,     0.91,6,     0.26,6,   2141.8,2,   2293.9,2,-999.0000,9,  -999.00,   3.8707, 20110516,     1056
  18HU20110506, AR07W,   184,  1, 378532,     22,2,20110516,0935, 59.9800, -48.9010, 3010,     51.2,   2.5798,  34.2901,2,  34.2915,2,    322.1,2,    334.8,2,     5.58,6,     6.77,6,     1.04,6,     0.64,6,     1.04,6,   2097.0,2,   2291.1,2,-999.0000,9,  -999.00,   2.5769, 20110516,     1058
  18HU20110506, AR07W,   184,  1, 378533,     23,2,20110516,0935, 59.9800, -48.9010, 3010,     20.1,   1.9602,  33.9556,2,  33.9477,2,    364.0,2,    376.4,2,     4.53,6,     0.54,6,     0.52,6,     0.28,6,     0.52,6,   2042.5,2,   2269.9,2,   8.3000,3,    25.00,   1.9592, 20110516,     1100
  18HU20110506, AR07W,   184,  1, 378534,     24,2,20110516,0935, 59.9800, -48.9010, 3010,      2.2,   1.8003,  33.8791,2,  33.8815,2,    379.1,2,    391.0,2,     4.03,6,     0.00,6,     0.20,6,     0.17,6,      0.2,6,   2022.2,2,   2271.1,2,   8.4000,3,    25.00,   1.8002, 20110516,     1102