BOTTLE,2013020413CCHSIOCBG
EXPOCODE,SECT_ID,STNNBR,CASTNO,SAMPNO,BTLNBR,BTLNBR_FLAG_W,DATE,TIME,LATITUDE,LONGITUDE,DEPTH,CTDPRS,CTDTMP,CTDSAL,CTDSAL_FLAG_W,SALNTY,SALNTY_FLAG_W,CTDOXY,CTDOXY_FLAG_W,OXYGEN,OXYGEN_FLAG_W,SILCAT,SILCAT_FLAG_W,NO2+NO3,NO2+NO3_FLAG_W,NITRIT,NITRIT_FLAG_W,PHSPHT,PHSPHT_FLAG_W,NH4,NH4_FLAG_W,TCARBN,TCARBN_FLAG_W,ALKALI,ALKALI_FLAG_W,PH_TOT,PH_TOT_FLAG_W,PH_TMP,THETA,BTL_DATE,BTL_TIME
,,,,,,,,,,,METERS,DBAR,ITS-90,PSS-78,,PSS-78,,UMOL/KG,,UMOL/KG,,UMOL/KG,,UMOL/KG,,UMOL/KG,,UMOL/KG,,UMOL/KG,,UMOL/KG,,UMOL/KG,,,,DEG C,DEG C,,
  18HU20110506, AR07W,   344,  1, 378983,      1,2,20110525,0011, 40.6755, -60.2132, 4884,   5039.7,   2.2230,  34.8705,2,  34.8745,2,    248.5,2,    257.2,2,    40.27,6,    19.69,6,     0.59,6,     1.46,6,     0.59,6,   2187.3,2,   2340.3,2,-999.0000,9,  -999.00,   1.7579, 20110525,       11
  18HU20110506, AR07W,   344,  1, 378984,      2,2,20110525,0011, 40.6755, -60.2132, 4884,   5039.5,   2.2230,  34.8722,2,  34.8741,2,    248.8,2,    257.6,2,    40.70,6,    19.72,6,     0.39,6,     1.45,6,     0.39,6,   2189.5,2,   2337.5,2,-999.0000,9,  -999.00,   1.7580, 20110525,       11
  18HU20110506, AR07W,   344,  1, 378985,      3,2,20110525,0011, 40.6755, -60.2132, 4884,   4922.4,   2.2559,  34.8790,2,  34.8812,2,    251.1,2,    250.0,2,    36.19,6,    19.10,6,     0.33,6,     1.39,6,     0.33,6,   2183.6,2,   2334.8,2,-999.0000,9,  -999.00,   1.8044, 20110525,       14
  18HU20110506, AR07W,   344,  1, 378986,      4,2,20110525,0011, 40.6755, -60.2132, 4884,   4699.7,   2.2554,  34.8820,2,  34.8838,2,    251.6,2,    254.9,2,    34.43,6,    18.72,6,     0.28,6,     1.36,6,     0.28,6,   2183.3,2,   2330.8,2,-999.0000,9,  -999.00,   1.8314, 20110525,       19
  18HU20110506, AR07W,   344,  1, 378987,      5,2,20110525,0011, 40.6755, -60.2132, 4884,   4349.9,   2.2549,  34.8865,2,  34.8879,2,    253.1,2,    264.0,2,    32.07,6,    18.37,6,     0.28,6,     1.34,6,     0.28,6,   2178.5,2,   2326.9,2,   7.9000,3,    25.00,   1.8730, 20110525,       26
  18HU20110506, AR07W,   344,  1, 378988,      6,2,20110525,0011, 40.6755, -60.2132, 4884,   4000.8,   2.2852,  34.8922,2,  34.8928,2,    254.1,2,    265.0,2,    29.16,6,    18.13,6,     0.32,6,     1.31,6,     0.32,6,   2178.5,2,   2315.0,2,-999.0000,9,  -999.00,   1.9428, 20110525,       32
  18HU20110506, AR07W,   344,  1, 378989,      7,2,20110525,0011, 40.6755, -60.2132, 4884,   3680.2,   2.3608,  34.8999,2,  34.9003,2,    255.2,2,    266.2,2,    26.54,6,    17.79,6,     0.50,6,     1.29,6,      0.5,6,   2175.3,6,   2325.7,6,-999.0000,9,  -999.00,   2.0522, 20110525,       39
  18HU20110506, AR07W,   344,  1, 378990,      8,2,20110525,0011, 40.6755, -60.2132, 4884,   3430.9,   2.4812,  34.9084,2,  34.9092,2,    255.1,2,   -999.0,9,    23.52,6,    17.42,6,     0.42,6,     1.24,6,     0.42,6,   2171.2,2,   2326.5,2,-999.0000,9,  -999.00,   2.1967, 20110525,       43
  18HU20110506, AR07W,   344,  1, 378991,      9,2,20110525,0011, 40.6755, -60.2132, 4884,   3164.2,   2.6777,  34.9210,2,  34.9217,6,    253.9,2,    266.4,2,    22.08,6,    17.68,6,     0.44,6,     1.27,6,     0.44,6,   2168.7,2,   2322.2,2,-999.0000,9,  -999.00,   2.4168, 20110525,       48
  18HU20110506, AR07W,   344,  1, 378992,     10,2,20110525,0011, 40.6755, -60.2132, 4884,   2891.6,   2.9089,  34.9327,2,  34.9340,2,    252.8,2,    265.5,2,    19.88,6,    17.60,6,     0.47,6,     1.25,6,     0.47,6,   2166.1,2,   2320.0,2,-999.0000,9,  -999.00,   2.6713, 20110525,       53
  18HU20110506, AR07W,   344,  1, 378993,     11,2,20110525,0011, 40.6755, -60.2132, 4884,   2605.6,   3.1265,  34.9424,2,  34.9428,2,    252.0,2,    264.3,2,    18.33,6,    17.73,6,     0.36,6,     1.23,6,     0.36,6,   2166.2,2,   2323.2,2,-999.0000,9,  -999.00,   2.9137, 20110525,       58
  18HU20110506, AR07W,   344,  1, 378994,     12,2,20110525,0011, 40.6755, -60.2132, 4884,   2309.6,   3.3703,  34.9490,2,  34.9507,2,    252.3,2,    264.0,2,    15.89,6,    17.53,6,     0.23,6,     1.21,6,     0.23,6,   2163.4,2,   2327.2,2,-999.0000,9,  -999.00,   3.1824, 20110525,      103
  18HU20110506, AR07W,   344,  1, 378995,     13,2,20110525,0011, 40.6755, -60.2132, 4884,   2011.2,   3.5746,  34.9510,2,  34.9517,2,    253.4,2,    264.4,2,    14.09,6,    17.47,6,     0.38,6,     1.21,6,     0.38,6,   2161.6,2,   2318.7,2,-999.0000,9,  -999.00,   3.4123, 20110525,      109
  18HU20110506, AR07W,   344,  1, 378996,     14,2,20110525,0011, 40.6755, -60.2132, 4884,   1725.2,   3.8142,  34.9607,2,  34.9610,2,    252.1,2,    262.2,2,    12.82,6,    17.55,6,     0.31,6,     1.20,6,     0.31,6,   2162.6,2,   2320.3,2,-999.0000,9,  -999.00,   3.6755, 20110525,      114
  18HU20110506, AR07W,   344,  1, 378997,     15,2,20110525,0011, 40.6755, -60.2132, 4884,   1449.2,   4.0207,  34.9656,2,  34.9663,2,    250.4,2,    261.6,6,    11.86,6,    17.50,6,     0.27,6,     1.19,6,     0.27,6,   2163.5,2,   2315.9,2,-999.0000,9,  -999.00,   3.9049, 20110525,      119
  18HU20110506, AR07W,   344,  1, 378998,     16,2,20110525,0011, 40.6755, -60.2132, 4884,   1200.8,   4.3140,  34.9785,2,  34.9783,2,    245.5,2,    254.6,2,    11.68,6,    17.79,6,     0.45,6,     1.22,6,     0.45,6,   2174.0,3,   2317.3,2,   8.0000,3,    25.00,   4.2175, 20110525,      124
  18HU20110506, AR07W,   344,  1, 378999,     17,2,20110525,0011, 40.6755, -60.2132, 4884,    960.0,   4.7982,  35.0081,2,  35.0082,2,    234.8,2,    243.2,2,    11.79,6,    18.42,6,     0.44,6,     1.27,6,     0.44,6,   2170.0,2,   2323.1,2,-999.0000,9,  -999.00,   4.7192, 20110525,      128
  18HU20110506, AR07W,   344,  1, 379000,     18,2,20110525,0011, 40.6755, -60.2132, 4884,    732.5,   5.6204,  35.0399,2,  35.0407,2,    212.5,2,    219.4,2,    12.52,6,    19.52,6,     0.40,6,     1.34,6,      0.4,6,   2176.0,2,   2328.7,2,-999.0000,9,  -999.00,   5.5567, 20110525,      132
  18HU20110506, AR07W,   344,  1, 379001,     19,2,20110525,0011, 40.6755, -60.2132, 4884,    517.4,   7.9119,  35.1127,2,-999.0000,9,    156.9,2,   -999.0,9,  -999.00,9,  -999.00,9,  -999.00,9,  -999.00,9,     -999,9,   -999.0,9,   -999.0,9,-999.0000,9,  -999.00,   7.8587, 20110525,      136
  18HU20110506, AR07W,   344,  1, 379002,     20,2,20110525,0011, 40.6755, -60.2132, 4884,    330.6,  11.3391,  35.4413,2,  35.4430,2,    136.5,2,    140.8,2,    10.62,6,    20.85,6,     0.35,6,     1.36,6,     0.35,6,   2177.6,6,   2332.4,2,-999.0000,9,  -999.00,  11.2971, 20110525,      140
  18HU20110506, AR07W,   344,  1, 379003,     21,2,20110525,0011, 40.6755, -60.2132, 4884,    195.5,  13.2768,  35.7052,2,-999.0000,9,    201.0,2,    209.7,2,     4.34,6,    10.78,6,     0.28,6,     0.72,6,     0.28,6,   2134.6,2,   2352.2,2,-999.0000,9,  -999.00,  13.2493, 20110525,      142
  18HU20110506, AR07W,   344,  1, 379004,     22,2,20110525,0011, 40.6755, -60.2132, 4884,    115.5,  13.4415,  35.6068,2,-999.0000,9,    201.4,2,   -999.0,9,  -999.00,9,  -999.00,9,  -999.00,9,  -999.00,9,     -999,9,   -999.0,9,   -999.0,9,-999.0000,9,  -999.00,  13.4252, 20110525,      144
  18HU20110506, AR07W,   344,  1, 379005,     23,2,20110525,0011, 40.6755, -60.2132, 4884,     56.0,  15.1583,  35.4908,2,  35.5091,2,    212.8,2,    220.9,2,     1.70,6,     4.45,6,     0.43,6,     0.36,6,     0.43,6,   2097.7,2,   2333.3,2,-999.0000,9,  -999.00,  15.1498, 20110525,      146
  18HU20110506, AR07W,   344,  1, 379006,     24,2,20110525,0011, 40.6755, -60.2132, 4884,      3.1,  18.7951,  35.7522,2,-999.0000,9,    224.2,2,    234.1,2,     0.41,6,     0.00,6,     0.29,6,     0.06,6,     0.29,6,   2054.0,2,   2361.1,2,-999.0000,9,  -999.00,  18.7946, 20110525,      148
  18HU20110506, AR07W,   346,  1, 379007,      1,2,20110525,0800, 41.0428, -60.4438, 4900,   4916.9,   2.2310,  34.8762,2,  34.8776,2,    249.8,2,    256.8,2,    38.29,6,    19.41,6,     0.42,6,     1.42,6,     0.42,6,   2188.4,2,   2349.9,2,-999.0000,9,  -999.00,   1.7810, 20110525,      800
  18HU20110506, AR07W,   346,  1, 379008,      2,2,20110525,0800, 41.0428, -60.4438, 4900,   4916.7,   2.2316,  34.8762,2,  34.8778,2,    249.5,2,    258.9,2,    37.96,6,    19.03,6,     0.41,6,     1.40,6,     0.41,6,   2186.7,2,   2350.8,2,-999.0000,9,  -999.00,   1.7817, 20110525,      800
  18HU20110506, AR07W,   346,  1, 379009,      3,2,20110525,0800, 41.0428, -60.4438, 4900,   4761.7,   2.2327,  34.8793,2,  34.8804,2,    250.9,2,    261.3,2,    35.51,6,    18.03,6,     0.47,6,     1.39,6,     0.47,6,   2181.1,2,   2346.8,2,-999.0000,9,  -999.00,   1.8019, 20110525,      804
  18HU20110506, AR07W,   346,  1, 379010,      4,2,20110525,0800, 41.0428, -60.4438, 4900,   4501.6,   2.2544,  34.8856,2,  34.8871,2,    254.6,2,    265.3,2,    30.33,6,    17.27,6,     0.37,6,     1.31,6,     0.37,6,   2176.2,2,   2335.5,2,-999.0000,9,  -999.00,   1.8544, 20110525,      811
  18HU20110506, AR07W,   346,  1, 379011,      5,2,20110525,0800, 41.0428, -60.4438, 4900,   4199.5,   2.2721,  34.8900,2,  34.8908,2,    256.2,2,    266.1,2,    28.01,6,    17.18,6,     0.60,6,     1.29,6,      0.6,6,   2173.4,2,   2328.6,2,-999.0000,9,  -999.00,   1.9073, 20110525,      817
  18HU20110506, AR07W,   346,  1, 379012,      6,2,20110525,0800, 41.0428, -60.4438, 4900,   3921.1,   2.3100,  34.8945,2,  34.8950,2,    256.5,2,    268.0,2,    26.59,6,    17.05,6,     0.41,6,     1.27,6,     0.41,6,   2169.6,2,   2328.9,2,-999.0000,9,  -999.00,   1.9760, 20110525,      822
  18HU20110506, AR07W,   346,  1, 379013,      7,2,20110525,0800, 41.0428, -60.4438, 4900,   3681.1,   2.3932,  34.9012,2,  34.9015,2,    257.1,2,    269.6,2,    24.56,6,    16.74,6,     0.42,6,     1.25,6,     0.42,6,   2166.5,2,   2323.6,2,-999.0000,9,  -999.00,   2.0837, 20110525,      828
  18HU20110506, AR07W,   346,  1, 379014,      8,2,20110525,0800, 41.0428, -60.4438, 4900,   3429.1,   2.5179,  34.9092,2,  34.9105,2,    256.3,2,    268.8,2,    22.42,6,    16.31,6,     0.36,6,     1.23,6,     0.36,6,   2164.3,2,   2324.0,2,-999.0000,9,  -999.00,   2.2327, 20110525,      833
  18HU20110506, AR07W,   346,  1, 379015,      9,2,20110525,0800, 41.0428, -60.4438, 4900,   2953.3,   2.9081,  34.9314,2,  34.9324,2,    250.5,2,    264.9,2,    20.31,6,    16.55,6,     0.38,6,     1.25,6,     0.38,6,   2161.9,2,   2332.4,2,-999.0000,9,  -999.00,   2.6642, 20110525,      846
  18HU20110506, AR07W,   346,  1, 379016,     10,2,20110525,0800, 41.0428, -60.4438, 4900,   2748.7,   3.0383,  34.9367,2,  34.9375,2,    250.6,2,    265.8,2,    19.04,6,    16.67,6,     0.37,6,     1.25,6,     0.37,6,   2163.2,2,   2322.6,2,-999.0000,9,  -999.00,   2.8127, 20110525,      852
  18HU20110506, AR07W,   346,  1, 379017,     11,2,20110525,0800, 41.0428, -60.4438, 4900,   2604.4,   3.1706,  34.9425,2,  34.9434,2,    250.4,2,    265.9,6,    18.08,6,    16.65,6,     0.34,6,     1.24,6,     0.34,6,   2163.9,2,   2321.8,2,-999.0000,9,  -999.00,   2.9570, 20110525,      900
  18HU20110506, AR07W,   346,  1, 379018,     12,2,20110525,0800, 41.0428, -60.4438, 4900,   2309.8,   3.3558,  34.9444,2,  34.9446,2,    251.6,2,    265.1,2,    16.00,6,    16.30,6,     0.31,6,     1.24,6,     0.31,6,   2159.0,2,   2327.4,2,-999.0000,9,  -999.00,   3.1682, 20110525,      907
  18HU20110506, AR07W,   346,  1, 379019,     13,2,20110525,0800, 41.0428, -60.4438, 4900,   2012.2,   3.5453,  34.9459,2,  34.9472,2,    251.9,2,    264.9,2,    14.07,6,    16.24,6,     0.33,6,     1.24,6,     0.33,6,   2157.2,2,   2321.1,2,-999.0000,9,  -999.00,   3.3834, 20110525,      913
  18HU20110506, AR07W,   346,  1, 379020,     14,2,20110525,0800, 41.0428, -60.4438, 4900,   1727.4,   3.7550,  34.9541,2,  34.9550,2,    250.3,2,    262.8,2,    13.08,6,    16.44,6,     0.42,6,     1.22,6,     0.42,6,   2156.1,2,   2324.3,2,-999.0000,9,  -999.00,   3.6169, 20110525,      919
  18HU20110506, AR07W,   346,  1, 379021,     15,2,20110525,0800, 41.0428, -60.4438, 4900,   1450.4,   3.9287,  34.9492,2,  34.9505,2,    251.0,2,    263.6,2,    11.89,6,    16.08,6,     0.50,6,     1.21,6,      0.5,6,   2164.4,2,   2323.0,2,-999.0000,9,  -999.00,   3.8138, 20110525,      924
  18HU20110506, AR07W,   346,  1, 379022,     16,2,20110525,0800, 41.0428, -60.4438, 4900,   1200.3,   4.1094,  34.9485,2,  34.9484,2,    251.2,2,    263.2,2,    11.32,6,    16.00,6,     0.31,6,     1.20,6,     0.31,6,   2164.1,6,   2320.9,6,-999.0000,9,  -999.00,   4.0149, 20110525,      929
  18HU20110506, AR07W,   346,  1, 379023,     17,2,20110525,0800, 41.0428, -60.4438, 4900,    960.7,   4.6405,  34.9957,2,  34.9966,2,    237.4,2,    247.1,2,    11.79,6,    16.77,6,     0.31,6,     1.25,6,     0.31,6,   2168.1,2,   2324.3,2,-999.0000,9,  -999.00,   4.5626, 20110525,      934
  18HU20110506, AR07W,   346,  1, 379024,     18,2,20110525,0800, 41.0428, -60.4438, 4900,    730.1,   5.3336,  35.0227,2,  35.0247,2,    218.6,2,    227.0,2,    12.38,6,    17.88,6,     0.29,6,     1.32,6,     0.29,6,   2175.6,2,   2326.6,2,-999.0000,9,  -999.00,   5.2717, 20110525,      939
  18HU20110506, AR07W,   346,  1, 379025,     19,2,20110525,0800, 41.0428, -60.4438, 4900,    514.9,   7.1076,  35.0892,2,  35.1309,2,    172.1,2,    156.6,3,    14.71,6,    22.05,6,     0.33,6,     1.57,6,     0.33,6,   2194.2,2,   2330.1,2,-999.0000,9,  -999.00,   7.0577, 20110525,      943
  18HU20110506, AR07W,   346,  1, 379026,     20,2,20110525,0800, 41.0428, -60.4438, 4900,    330.6,  10.6890,  35.3517,2,  35.3531,2,    130.4,2,    135.8,2,    12.71,6,    21.33,6,     0.49,6,     1.49,6,     0.49,6,   2189.5,2,   2334.1,2,-999.0000,9,  -999.00,  10.6486, 20110525,      947
  18HU20110506, AR07W,   346,  1, 379027,     21,2,20110525,0800, 41.0428, -60.4438, 4900,    196.1,  13.2058,  35.6948,2,-999.0000,9,    211.8,2,    222.0,2,     4.33,6,     9.71,6,     0.34,6,     0.70,6,     0.34,6,   2133.3,2,   2352.4,2,   8.1000,3,    25.00,  13.1784, 20110525,      949
  18HU20110506, AR07W,   346,  1, 379028,     22,2,20110525,0800, 41.0428, -60.4438, 4900,    115.7,  13.5305,  35.6506,2,-999.0000,9,    199.4,2,   -999.0,9,  -999.00,9,  -999.00,9,  -999.00,9,  -999.00,9,     -999,9,   -999.0,9,   -999.0,9,-999.0000,9,  -999.00,  13.5141, 20110525,      951
  18HU20110506, AR07W,   346,  1, 379029,     23,2,20110525,0800, 41.0428, -60.4438, 4900,     56.2,  14.9274,  35.5917,2,  35.5939,2,    201.1,2,    208.9,2,     2.45,6,     6.49,6,     0.34,6,     0.51,6,     0.34,6,   2114.9,2,   2347.8,2,-999.0000,9,  -999.00,  14.9189, 20110525,      953
  18HU20110506, AR07W,   346,  1, 379030,     24,2,20110525,0800, 41.0428, -60.4438, 4900,      3.1,  18.4899,  35.6273,2,-999.0000,9,    227.2,2,    237.3,2,     0.26,6,     0.00,6,     0.35,6,     0.06,6,     0.35,6,   2057.0,2,   2355.3,2,-999.0000,9,  -999.00,  18.4894, 20110525,      954
  18HU20110506, AR07W,   348,  1, 379031,      1,2,20110525,1147, 41.0437, -60.4437, 4800,    202.8,  13.1580,  35.6937,2,-999.0000,9,    208.0,2,   -999.0,9,     5.03,6,    10.35,6,     0.51,6,     0.72,6,     0.51,6,   -999.0,9,   -999.0,9,-999.0000,9,  -999.00,  13.1297, 20110525,     1147
  18HU20110506, AR07W,   348,  1, 379032,      2,2,20110525,1147, 41.0437, -60.4437, 4800,    150.9,  13.4041,  35.7030,2,-999.0000,9,    198.8,2,   -999.0,9,     4.73,6,    10.22,6,     0.40,6,     0.73,6,      0.4,6,   -999.0,9,   -999.0,9,-999.0000,9,  -999.00,  13.3828, 20110525,     1149
  18HU20110506, AR07W,   348,  1, 379033,      3,2,20110525,1147, 41.0437, -60.4437, 4800,    100.9,  13.2629,  35.5489,2,-999.0000,9,    201.9,2,   -999.0,9,     3.93,6,     9.14,6,     0.30,6,     0.68,6,      0.3,6,   -999.0,9,   -999.0,9,-999.0000,9,  -999.00,  13.2488, 20110525,     1150
  18HU20110506, AR07W,   348,  1, 379034,      4,2,20110525,1147, 41.0437, -60.4437, 4800,     80.1,  13.7166,  35.5801,2,-999.0000,9,    197.8,2,   -999.0,9,     3.29,6,     8.80,6,     0.38,6,     0.65,6,     0.38,6,   -999.0,9,   -999.0,9,-999.0000,9,  -999.00,  13.7052, 20110525,     1151
  18HU20110506, AR07W,   348,  1, 379035,      5,2,20110525,1147, 41.0437, -60.4437, 4800,     60.8,  14.5880,  35.5882,2,-999.0000,9,    196.7,2,   -999.0,9,     2.71,6,     6.98,6,     0.33,6,     0.54,6,     0.33,6,   -999.0,9,   -999.0,9,-999.0000,9,  -999.00,  14.5790, 20110525,     1152
  18HU20110506, AR07W,   348,  1, 379036,      6,2,20110525,1147, 41.0437, -60.4437, 4800,     49.4,  14.7412,  35.4873,2,-999.0000,9,    208.3,2,   -999.0,9,     2.07,6,     5.45,6,     0.32,6,     0.45,6,     0.32,6,   -999.0,9,   -999.0,9,-999.0000,9,  -999.00,  14.7338, 20110525,     1153
  18HU20110506, AR07W,   348,  1, 379037,      7,2,20110525,1147, 41.0437, -60.4437, 4800,     41.0,  16.3747,  35.5554,2,-999.0000,9,    213.0,2,   -999.0,9,     1.23,6,     2.96,6,     0.31,6,     0.29,6,     0.31,6,   -999.0,9,   -999.0,9,-999.0000,9,  -999.00,  16.3681, 20110525,     1154
  18HU20110506, AR07W,   348,  1, 379038,      8,2,20110525,1147, 41.0437, -60.4437, 4800,     30.9,  17.8107,  35.6922,2,-999.0000,9,    227.9,2,   -999.0,9,     0.53,6,     0.00,6,     0.37,6,     0.09,6,     0.37,6,   -999.0,9,   -999.0,9,-999.0000,9,  -999.00,  17.8054, 20110525,     1154
  18HU20110506, AR07W,   348,  1, 379039,      9,2,20110525,1147, 41.0437, -60.4437, 4800,     21.4,  18.4365,  35.5687,2,-999.0000,9,    228.2,2,   -999.0,9,     0.30,6,     0.00,6,     0.29,6,     0.06,6,     0.29,6,   -999.0,9,   -999.0,9,-999.0000,9,  -999.00,  18.4328, 20110525,     1155
  18HU20110506, AR07W,   348,  1, 379040,     10,2,20110525,1147, 41.0437, -60.4437, 4800,     11.1,  18.4408,  35.5241,2,-999.0000,9,    228.2,2,   -999.0,9,     0.37,6,     0.00,6,     0.33,6,     0.08,6,     0.33,6,   -999.0,9,   -999.0,9,-999.0000,9,  -999.00,  18.4389, 20110525,     1156
  18HU20110506, AR07W,   348,  1, 379041,     11,2,20110525,1147, 41.0437, -60.4437, 4800,      2.7,  18.4365,  35.5236,2,-999.0000,9,    228.8,2,   -999.0,9,     0.38,6,     0.00,6,     0.32,6,     0.07,6,     0.32,6,   -999.0,9,   -999.0,9,-999.0000,9,  -999.00,  18.4360, 20110525,     1156