BOTTLE,2013020413CCHSIOCBG
EXPOCODE,SECT_ID,STNNBR,CASTNO,SAMPNO,BTLNBR,BTLNBR_FLAG_W,DATE,TIME,LATITUDE,LONGITUDE,DEPTH,CTDPRS,CTDTMP,CTDSAL,CTDSAL_FLAG_W,SALNTY,SALNTY_FLAG_W,CTDOXY,CTDOXY_FLAG_W,OXYGEN,OXYGEN_FLAG_W,SILCAT,SILCAT_FLAG_W,NO2+NO3,NO2+NO3_FLAG_W,NITRIT,NITRIT_FLAG_W,PHSPHT,PHSPHT_FLAG_W,NH4,NH4_FLAG_W,TCARBN,TCARBN_FLAG_W,ALKALI,ALKALI_FLAG_W,PH_TOT,PH_TOT_FLAG_W,PH_TMP,THETA,BTL_DATE,BTL_TIME
,,,,,,,,,,,METERS,DBAR,ITS-90,PSS-78,,PSS-78,,UMOL/KG,,UMOL/KG,,UMOL/KG,,UMOL/KG,,UMOL/KG,,UMOL/KG,,UMOL/KG,,UMOL/KG,,UMOL/KG,,,,DEG C,DEG C,,
  18HU20110506, AR07W,    69,  1, 378260,      1,2,20110513,1049, 56.5487, -52.6615,  200,    195.8,   3.8596,  34.8702,2,-999.0000,9,    294.6,2,   -999.0,9,  -999.00,9,  -999.00,9,  -999.00,9,  -999.00,9,     -999,9,   -999.0,9,   -999.0,9,-999.0000,9,  -999.00,   3.8461, 20110513,     1049
  18HU20110506, AR07W,    69,  1, 378261,      2,2,20110513,1049, 56.5487, -52.6615,  200,    152.2,   3.8864,  34.8715,2,-999.0000,9,    295.9,2,   -999.0,9,     7.43,6,    14.33,6,     0.36,6,     1.08,6,     0.36,6,   -999.0,9,   -999.0,9,-999.0000,9,  -999.00,   3.8759, 20110513,     1050
  18HU20110506, AR07W,    69,  1, 378262,      3,2,20110513,1049, 56.5487, -52.6615,  200,    102.4,   3.8900,  34.8720,2,-999.0000,9,    298.5,2,   -999.0,9,     7.52,6,    14.34,6,     0.31,6,     1.00,6,     0.31,6,   -999.0,9,   -999.0,9,-999.0000,9,  -999.00,   3.8830, 20110513,     1051
  18HU20110506, AR07W,    69,  1, 378263,      4,2,20110513,1049, 56.5487, -52.6615,  200,     81.7,   3.8877,  34.8722,2,-999.0000,9,    298.4,2,   -999.0,9,     7.48,6,    14.44,6,     0.24,6,     1.01,6,     0.24,6,   -999.0,9,   -999.0,9,-999.0000,9,  -999.00,   3.8821, 20110513,     1052
  18HU20110506, AR07W,    69,  1, 378264,      5,2,20110513,1049, 56.5487, -52.6615,  200,     60.2,   3.8869,  34.8723,2,-999.0000,9,    298.6,2,   -999.0,9,     7.50,6,    14.44,6,     0.37,6,     1.01,6,     0.37,6,   -999.0,9,   -999.0,9,-999.0000,9,  -999.00,   3.8828, 20110513,     1053
  18HU20110506, AR07W,    69,  1, 378265,      6,2,20110513,1049, 56.5487, -52.6615,  200,     48.3,   3.8870,  34.8728,2,-999.0000,9,    299.2,2,   -999.0,9,     7.45,6,    14.48,6,     0.39,6,     1.00,6,     0.39,6,   -999.0,9,   -999.0,9,-999.0000,9,  -999.00,   3.8837, 20110513,     1054
  18HU20110506, AR07W,    69,  1, 378266,      7,2,20110513,1049, 56.5487, -52.6615,  200,     39.5,   3.8884,  34.8725,2,-999.0000,9,    298.8,2,   -999.0,9,     7.43,6,    14.47,6,     0.29,6,     1.02,6,     0.29,6,   -999.0,9,   -999.0,9,-999.0000,9,  -999.00,   3.8857, 20110513,     1054
  18HU20110506, AR07W,    69,  1, 378267,      8,2,20110513,1049, 56.5487, -52.6615,  200,     30.8,   3.8887,  34.8725,2,-999.0000,9,    298.5,2,   -999.0,9,     7.46,6,    14.35,6,     0.18,6,     1.00,6,     0.18,6,   -999.0,9,   -999.0,9,-999.0000,9,  -999.00,   3.8866, 20110513,     1055
  18HU20110506, AR07W,    69,  1, 378268,      9,2,20110513,1049, 56.5487, -52.6615,  200,     20.7,   3.8876,  34.8724,2,-999.0000,9,    298.9,2,   -999.0,9,     7.39,6,    14.42,6,     0.28,6,     1.01,6,     0.28,6,   -999.0,9,   -999.0,9,-999.0000,9,  -999.00,   3.8862, 20110513,     1056
  18HU20110506, AR07W,    69,  1, 378269,     10,2,20110513,1049, 56.5487, -52.6615,  200,     10.6,   3.8858,  34.8726,2,-999.0000,9,    298.6,2,   -999.0,9,     7.50,6,    14.44,6,     0.53,6,     1.06,6,     0.53,6,   -999.0,9,   -999.0,9,-999.0000,9,  -999.00,   3.8851, 20110513,     1056
  18HU20110506, AR07W,    69,  1, 378270,     11,2,20110513,1049, 56.5487, -52.6615,  200,      2.8,   3.8865,  34.8727,2,-999.0000,9,    299.6,2,   -999.0,9,     7.51,6,    14.68,6,     0.29,6,     1.02,6,     0.29,6,   -999.0,9,   -999.0,9,-999.0000,9,  -999.00,   3.8863, 20110513,     1057
  18HU20110506, AR07W,    70,  1, 378271,      1,2,20110513,1232, 56.5568, -52.6432, 3600,   3531.0,   1.7212,  34.8888,2,-999.0000,9,    285.7,2,   -999.0,9,  -999.00,9,  -999.00,9,  -999.00,9,  -999.00,9,     -999,9,   -999.0,9,   -999.0,9,-999.0000,9,  -999.00,   1.4451, 20110513,     1232
  18HU20110506, AR07W,    70,  1, 378272,      2,2,20110513,1232, 56.5568, -52.6432, 3600,   3532.8,   1.7201,  34.8889,2,  34.8902,2,    285.4,2,    283.3,2,    10.38,6,    13.72,6,     0.33,6,     1.00,6,     0.33,6,   2165.4,2,   2303.5,2,-999.0000,9,  -999.00,   1.4438, 20110513,     1232
  18HU20110506, AR07W,    70,  1, 378273,      3,2,20110513,1232, 56.5568, -52.6432, 3600,   3431.7,   1.9903,  34.8932,2,  34.8945,2,    281.4,2,    292.9,2,    10.41,6,    14.11,6,     0.23,6,     1.04,6,     0.23,6,   2162.8,2,   2300.7,2,-999.0000,9,  -999.00,   1.7178, 20110513,     1236
  18HU20110506, AR07W,    70,  1, 378274,      4,2,20110513,1232, 56.5568, -52.6432, 3600,   3331.8,   2.2186,  34.8981,2,  34.8993,2,    276.9,2,    288.8,2,    11.72,6,    14.73,6,     0.31,6,     1.05,6,     0.31,6,   2163.6,2,   2304.3,2,-999.0000,9,  -999.00,   1.9510, 20110513,     1239
  18HU20110506, AR07W,    70,  1, 378275,      5,2,20110513,1232, 56.5568, -52.6432, 3600,   3233.3,   2.4154,  34.9041,2,  34.9064,6,    272.7,2,    284.6,2,    12.74,6,    15.12,6,     0.28,6,     1.06,6,     0.28,6,   2160.1,2,   2305.8,2,-999.0000,9,  -999.00,   2.1534, 20110513,     1241
  18HU20110506, AR07W,    70,  1, 378276,      6,2,20110513,1232, 56.5568, -52.6432, 3600,   3130.2,   2.5833,  34.9112,2,  34.9124,2,    270.5,2,    281.3,2,    13.12,6,    15.62,6,     0.57,6,     1.10,6,     0.57,6,   2162.4,2,   2306.7,2,-999.0000,9,  -999.00,   2.3282, 20110513,     1244
  18HU20110506, AR07W,    70,  1, 378277,      7,2,20110513,1232, 56.5568, -52.6432, 3600,   2972.0,   2.7998,  34.9182,2,  34.9189,2,    267.7,2,    278.8,2,    13.08,6,    15.82,6,     0.22,6,     1.08,6,     0.22,6,   2159.7,2,   2305.8,2,-999.0000,9,  -999.00,   2.5563, 20110513,     1247
  18HU20110506, AR07W,    70,  1, 378278,      8,2,20110513,1232, 56.5568, -52.6432, 3600,   2759.3,   2.9704,  34.9155,2,  34.9168,2,    268.0,2,    278.8,2,    12.05,6,    16.08,6,     0.28,6,     1.10,6,     0.28,6,   2160.2,2,   2301.4,2,-999.0000,9,  -999.00,   2.7452, 20110513,     1250
  18HU20110506, AR07W,    70,  1, 378279,      9,2,20110513,1232, 56.5568, -52.6432, 3600,   2440.6,   3.2439,  34.9125,2,  34.9138,2,    266.9,2,    277.4,2,    11.35,6,    16.22,6,     0.47,6,     1.11,6,     0.47,6,   2159.6,2,   2302.0,2,-999.0000,9,  -999.00,   3.0455, 20110513,     1255
  18HU20110506, AR07W,    70,  1, 378280,     10,2,20110513,1232, 56.5568, -52.6432, 3600,   2209.2,   3.4299,  34.9123,2,  34.9128,2,    265.4,2,    276.2,2,    11.23,6,    16.48,6,     0.36,6,     1.12,6,     0.36,6,   2160.1,2,   2305.6,2,-999.0000,9,  -999.00,   3.2510, 20110513,     1259
  18HU20110506, AR07W,    70,  1, 378281,     11,2,20110513,1232, 56.5568, -52.6432, 3600,   1968.7,   3.6467,  34.9115,2,  34.9128,2,    264.9,2,    275.1,2,    10.66,6,    16.51,6,     0.27,6,     1.11,6,     0.27,6,   2157.8,2,   2304.5,2,   8.0000,3,    25.00,   3.4876, 20110513,     1303
  18HU20110506, AR07W,    70,  1, 378282,     12,2,20110513,1232, 56.5568, -52.6432, 3600,   1729.5,   3.6575,  34.8820,2,  34.8821,2,    272.8,2,    283.6,6,     9.73,6,    16.24,6,     0.24,6,     1.10,6,     0.24,6,   2164.0,2,   2303.3,2,   8.0000,3,    25.00,   3.5207, 20110513,     1307
  18HU20110506, AR07W,    70,  1, 378283,     13,2,20110513,1232, 56.5568, -52.6432, 3600,   1500.3,   3.6858,  34.8664,2,  34.8674,2,    276.9,2,    287.5,2,     9.20,6,    16.10,6,     0.28,6,     1.09,6,     0.28,6,   2160.5,2,   2303.8,2,   8.0000,3,    25.00,   3.5694, 20110513,     1310
  18HU20110506, AR07W,    70,  1, 378284,     14,2,20110513,1232, 56.5568, -52.6432, 3600,   1281.8,   3.7541,  34.8649,2,  34.8660,2,    285.7,2,    296.0,2,     8.29,6,    15.26,6,     0.24,6,     1.09,6,     0.24,6,   2158.6,2,   2295.3,2,   8.0000,3,    25.00,   3.6560, 20110513,     1314
  18HU20110506, AR07W,    70,  1, 378285,     15,2,20110513,1232, 56.5568, -52.6432, 3600,   1072.7,   3.9230,  34.8705,2,  34.8715,2,    291.7,2,    302.5,2,     7.52,6,    14.71,6,     0.20,6,     1.01,6,      0.2,6,   2154.2,2,   2304.5,2,-999.0000,9,  -999.00,   3.8412, 20110513,     1317
  18HU20110506, AR07W,    70,  1, 378286,     16,2,20110513,1232, 56.5568, -52.6432, 3600,    871.0,   3.9310,  34.8743,2,-999.0000,9,    292.6,2,    301.8,2,     7.48,6,    14.54,6,     0.25,6,     1.03,6,     0.25,6,   2152.4,2,   2303.4,2,   8.0000,3,    25.00,   3.8659, 20110513,     1320
  18HU20110506, AR07W,    70,  1, 378287,     17,2,20110513,1232, 56.5568, -52.6432, 3600,    678.8,   3.9196,  34.8752,2,  34.8753,2,    292.7,2,    301.8,2,     7.49,6,    14.59,6,     0.28,6,     1.02,6,     0.28,6,   2150.6,2,   2300.6,2,-999.0000,9,  -999.00,   3.8699, 20110513,     1323
  18HU20110506, AR07W,    70,  1, 378288,     18,2,20110513,1232, 56.5568, -52.6432, 3600,    512.0,   3.9052,  34.8749,2,  34.8759,2,    293.0,2,    301.9,2,     7.44,6,    14.63,6,     0.29,6,     1.02,6,     0.29,6,   2151.7,2,   2304.0,2,   8.1000,3,    25.00,   3.8684, 20110513,     1326
  18HU20110506, AR07W,    70,  1, 378289,     19,2,20110513,1232, 56.5568, -52.6432, 3600,    360.4,   3.8840,  34.8733,2,-999.0000,9,    293.8,2,   -999.0,9,  -999.00,9,  -999.00,9,  -999.00,9,  -999.00,9,     -999,9,   -999.0,9,   -999.0,9,-999.0000,9,  -999.00,   3.8586, 20110513,     1329
  18HU20110506, AR07W,    70,  1, 378290,     20,2,20110513,1232, 56.5568, -52.6432, 3600,    240.1,   3.8691,  34.8721,2,  34.8717,2,    294.4,2,    302.4,2,     7.47,6,    14.75,6,     0.32,6,     1.01,6,     0.32,6,   2150.4,2,   2299.3,2,-999.0000,9,  -999.00,   3.8524, 20110513,     1331
  18HU20110506, AR07W,    70,  1, 378291,     21,2,20110513,1232, 56.5568, -52.6432, 3600,    140.1,   3.8911,  34.8728,2,  34.8717,2,    299.3,2,    307.7,2,     7.46,6,    14.48,6,     0.48,6,     1.01,6,     0.48,6,   2154.5,2,   2297.8,2,-999.0000,9,  -999.00,   3.8815, 20110513,     1333
  18HU20110506, AR07W,    70,  1, 378292,     22,2,20110513,1232, 56.5568, -52.6432, 3600,     70.0,   3.8902,  34.8729,2,  34.8719,2,    299.7,2,    307.7,2,     7.47,6,    14.51,6,     0.32,6,     1.00,6,     0.32,6,   2150.6,2,   2303.0,2,   8.1000,3,    25.00,   3.8854, 20110513,     1334
  18HU20110506, AR07W,    70,  1, 378293,     23,2,20110513,1232, 56.5568, -52.6432, 3600,     34.6,   3.9008,  34.8727,2,  34.8721,2,    299.9,2,    307.7,2,     7.48,6,    14.36,6,     0.21,6,     1.02,6,     0.21,6,   2153.4,2,   2302.7,2,   8.1000,3,    25.00,   3.8984, 20110513,     1335
  18HU20110506, AR07W,    70,  1, 378294,     24,2,20110513,1232, 56.5568, -52.6432, 3600,      2.2,   3.8959,  34.8690,2,  34.8723,2,    304.2,2,    311.4,2,     7.48,6,    14.45,6,     0.18,6,     0.99,6,     0.18,6,   2154.3,2,   2294.7,2,   8.1000,3,    25.00,   3.8958, 20110513,     1336
  18HU20110506, AR07W,    84,  1, 378295,      1,2,20110513,2010, 56.9618, -52.2247, 3500,   3554.7,   1.7085,  34.8908,2,-999.0000,9,    286.2,2,   -999.0,9,  -999.00,9,  -999.00,9,  -999.00,9,  -999.00,9,     -999,9,   -999.0,9,   -999.0,9,-999.0000,9,  -999.00,   1.4302, 20110513,     2010
  18HU20110506, AR07W,    84,  1, 378296,      2,2,20110513,2010, 56.9618, -52.2247, 3500,   3554.3,   1.7084,  34.8906,2,  34.8974,2,    285.7,2,    300.8,2,    10.12,6,    13.88,6,     0.13,6,     0.97,6,     0.13,6,   2164.0,2,   2304.4,2,   8.0000,3,    25.00,   1.4301, 20110513,     2010
  18HU20110506, AR07W,    84,  1, 378297,      3,2,20110513,2010, 56.9618, -52.2247, 3500,   3460.4,   1.9470,  34.8937,2,  34.8999,2,    281.7,2,    293.9,6,    10.82,6,    14.29,6,     0.21,6,     0.99,6,     0.21,6,   2163.1,2,   2308.2,2,-999.0000,9,  -999.00,   1.6725, 20110513,     2012
  18HU20110506, AR07W,    84,  1, 378298,      4,2,20110513,2010, 56.9618, -52.2247, 3500,   3331.7,   2.1426,  34.8975,2,  34.9057,2,    277.5,2,    288.5,2,    12.13,6,    14.80,6,     0.21,6,     1.03,6,     0.21,6,   2160.3,2,   2308.3,2,   8.0000,3,    25.00,   1.8768, 20110513,     2015
  18HU20110506, AR07W,    84,  1, 378299,      5,2,20110513,2010, 56.9618, -52.2247, 3500,   3188.8,   2.2897,  34.9016,2,-999.0000,9,    274.2,2,   -999.0,9,  -999.00,9,  -999.00,9,  -999.00,9,  -999.00,9,     -999,9,   -999.0,9,   -999.0,9,-999.0000,9,  -999.00,   2.0352, 20110513,     2018
  18HU20110506, AR07W,    84,  1, 378300,      6,2,20110513,2010, 56.9618, -52.2247, 3500,   3030.4,   2.5224,  34.9103,2,  34.9149,2,    269.3,2,    280.1,2,    14.08,6,    15.66,6,     0.23,6,     1.09,6,     0.23,6,   2162.2,2,   2309.5,2,-999.0000,9,  -999.00,   2.2789, 20110513,     2022
  18HU20110506, AR07W,    84,  1, 378301,      7,2,20110513,2010, 56.9618, -52.2247, 3500,   2870.2,   2.7195,  34.9186,2,  34.9233,2,    267.6,2,    277.2,2,    13.68,6,    15.90,6,     0.18,6,     1.09,6,     0.18,6,   2161.3,2,   2309.4,2,-999.0000,9,  -999.00,   2.4881, 20110513,     2026
  18HU20110506, AR07W,    84,  1, 378302,      8,2,20110513,2010, 56.9618, -52.2247, 3500,   2678.2,   2.8777,  34.9162,2,  34.9248,2,    268.4,2,    278.6,2,    12.33,6,    15.90,6,     0.26,6,     1.09,6,     0.26,6,   2161.7,2,   2312.4,2,   8.0000,3,    25.00,   2.6625, 20110513,     2030
  18HU20110506, AR07W,    84,  1, 378303,      9,2,20110513,2010, 56.9618, -52.2247, 3500,   2465.7,   3.0568,  34.9144,2,  34.9215,2,    267.2,2,    277.6,2,    12.12,6,    16.16,6,     0.24,6,     1.14,6,     0.24,6,   2158.3,2,   2309.3,2,-999.0000,9,  -999.00,   2.8592, 20110513,     2034
  18HU20110506, AR07W,    84,  1, 378304,     10,2,20110513,2010, 56.9618, -52.2247, 3500,   2246.1,   3.1984,  34.9121,2,  34.9167,2,    267.4,2,    277.9,2,    11.60,6,    16.30,6,     0.21,6,     1.10,6,     0.21,6,   2160.0,2,   2308.6,2,-999.0000,9,  -999.00,   3.0197, 20110513,     2038
  18HU20110506, AR07W,    84,  1, 378305,     11,2,20110513,2010, 56.9618, -52.2247, 3500,   2009.2,   3.3588,  34.9107,2,  34.9151,2,    266.0,2,    275.1,2,    11.49,6,    16.50,6,     0.31,6,     1.13,6,     0.31,6,   2159.4,2,   2306.9,2,-999.0000,9,  -999.00,   3.2001, 20110513,     2043
  18HU20110506, AR07W,    84,  1, 378306,     12,2,20110513,2010, 56.9618, -52.2247, 3500,   1772.6,   3.5478,  34.9129,2,  34.9166,2,    264.4,2,    273.9,2,    11.10,6,    16.82,6,     0.21,6,     1.13,6,     0.21,6,   2159.5,2,   2308.7,2,-999.0000,9,  -999.00,   3.4084, 20110513,     2048
  18HU20110506, AR07W,    84,  1, 378307,     13,2,20110513,2010, 56.9618, -52.2247, 3500,   1533.0,   3.6282,  34.8970,2,  34.9027,2,    268.6,2,    275.1,2,    10.41,6,    16.57,6,     0.22,6,     1.11,6,     0.22,6,   2161.5,2,   2305.8,2,-999.0000,9,  -999.00,   3.5094, 20110513,     2053
  18HU20110506, AR07W,    84,  1, 378308,     14,2,20110513,2010, 56.9618, -52.2247, 3500,   1292.5,   3.6191,  34.8776,2,  34.8820,2,    274.6,2,    282.3,2,     9.75,6,    16.34,6,     0.21,6,     1.11,6,     0.21,6,   2160.0,2,   2300.1,2,-999.0000,9,  -999.00,   3.5214, 20110513,     2058
  18HU20110506, AR07W,    84,  1, 378309,     15,2,20110513,2010, 56.9618, -52.2247, 3500,   1069.2,   3.5919,  34.8623,2,  34.8666,2,    278.0,2,    287.6,2,     9.33,6,    16.20,6,     0.23,6,     1.08,6,     0.23,6,   2163.7,2,   2302.2,2,   8.0000,3,    25.00,   3.5131, 20110513,     2103
  18HU20110506, AR07W,    84,  1, 378310,     16,2,20110513,2010, 56.9618, -52.2247, 3500,    870.3,   3.7350,  34.8729,2,  34.8769,2,    283.7,2,    292.0,2,     8.62,6,    15.44,6,     0.29,6,     1.06,6,     0.29,6,   2159.7,2,   2303.0,2,-999.0000,9,  -999.00,   3.6712, 20110513,     2106
  18HU20110506, AR07W,    84,  1, 378311,     17,2,20110513,2010, 56.9618, -52.2247, 3500,    680.2,   3.7606,  34.8704,2,  34.8747,2,    282.8,2,    290.9,2,     8.48,6,    15.18,6,     0.24,6,     1.08,6,     0.24,6,   2157.0,2,   2303.9,2,-999.0000,9,  -999.00,   3.7116, 20110513,     2110
  18HU20110506, AR07W,    84,  1, 378312,     18,2,20110513,2010, 56.9618, -52.2247, 3500,    509.8,   3.6222,  34.8436,2,  34.8473,2,    292.6,2,    299.3,2,     7.66,6,    14.65,6,     0.15,6,     1.02,6,     0.15,6,   2155.3,2,   2302.7,2,-999.0000,9,  -999.00,   3.5867, 20110513,     2114
  18HU20110506, AR07W,    84,  1, 378313,     19,2,20110513,2010, 56.9618, -52.2247, 3500,    360.3,   3.6130,  34.8390,2,-999.0000,9,    293.6,2,   -999.0,9,  -999.00,9,  -999.00,9,  -999.00,9,  -999.00,9,     -999,9,   -999.0,9,   -999.0,9,-999.0000,9,  -999.00,   3.5884, 20110513,     2117
  18HU20110506, AR07W,    84,  1, 378314,     20,2,20110513,2010, 56.9618, -52.2247, 3500,    240.3,   3.6652,  34.8360,2,  34.8370,2,    292.3,2,    300.6,2,     7.57,6,    14.50,6,     0.46,6,     1.01,6,     0.46,6,   2156.5,2,   2301.6,2,   8.1000,3,    25.00,   3.6489, 20110513,     2120
  18HU20110506, AR07W,    84,  1, 378315,     21,2,20110513,2010, 56.9618, -52.2247, 3500,    139.7,   3.5995,  34.8009,2,  34.8053,2,    293.7,2,    300.1,2,     7.59,6,    14.37,6,     0.27,6,     1.01,6,     0.27,6,   2154.2,2,   2304.3,2,-999.0000,9,  -999.00,   3.5902, 20110513,     2123
  18HU20110506, AR07W,    84,  1, 378316,     22,2,20110513,2010, 56.9618, -52.2247, 3500,     71.2,   3.3096,  34.7124,2,  34.7187,2,    312.1,2,    317.4,2,     6.95,6,    12.78,6,     0.32,6,     0.92,6,     0.32,6,   2145.8,2,   2297.5,2,-999.0000,9,  -999.00,   3.3051, 20110513,     2124
  18HU20110506, AR07W,    84,  1, 378317,     23,2,20110513,2010, 56.9618, -52.2247, 3500,     34.7,   3.3053,  34.7115,2,  34.7165,2,    313.0,2,    319.8,2,     6.91,6,    12.77,6,     0.27,6,     0.93,6,     0.27,6,   2144.3,2,   2289.1,2,-999.0000,9,  -999.00,   3.3031, 20110513,     2126
  18HU20110506, AR07W,    84,  1, 378318,     24,2,20110513,2010, 56.9618, -52.2247, 3500,      2.0,   3.3028,  34.7115,2,  34.7162,2,    314.2,2,    320.3,2,     6.90,6,    12.76,6,     0.25,6,     0.93,6,     0.25,6,   2145.1,2,   2294.3,2,-999.0000,9,  -999.00,   3.3027, 20110513,     2127