BOTTLE,2013020413CCHSIOCBG
EXPOCODE,SECT_ID,STNNBR,CASTNO,SAMPNO,BTLNBR,BTLNBR_FLAG_W,DATE,TIME,LATITUDE,LONGITUDE,DEPTH,CTDPRS,CTDTMP,CTDSAL,CTDSAL_FLAG_W,SALNTY,SALNTY_FLAG_W,CTDOXY,CTDOXY_FLAG_W,OXYGEN,OXYGEN_FLAG_W,SILCAT,SILCAT_FLAG_W,NO2+NO3,NO2+NO3_FLAG_W,NITRIT,NITRIT_FLAG_W,PHSPHT,PHSPHT_FLAG_W,NH4,NH4_FLAG_W,TCARBN,TCARBN_FLAG_W,ALKALI,ALKALI_FLAG_W,PH_TOT,PH_TOT_FLAG_W,PH_TMP,THETA,BTL_DATE,BTL_TIME
,,,,,,,,,,,METERS,DBAR,ITS-90,PSS-78,,PSS-78,,UMOL/KG,,UMOL/KG,,UMOL/KG,,UMOL/KG,,UMOL/KG,,UMOL/KG,,UMOL/KG,,UMOL/KG,,UMOL/KG,,,,DEG C,DEG C,,
  18HU20110506, AR07W,    32,  1, 378128,      1,2,20110511,1903, 55.2598, -53.9830, 2050,   2034.8,   3.1310,  34.9145,2,  34.9189,2,    268.8,2,    280.4,2,    10.78,6,    15.52,6,     0.45,6,     1.11,6,     0.45,6,   2160.2,2,   2291.2,2,-999.0000,9,  -999.00,   2.9733, 20110511,     1903
  18HU20110506, AR07W,    32,  1, 378129,      2,2,20110511,1903, 55.2598, -53.9830, 2050,   1970.1,   3.1937,  34.9145,2,-999.0000,9,    267.9,2,   -999.0,9,  -999.00,9,  -999.00,9,  -999.00,9,  -999.00,9,     -999,9,   -999.0,9,   -999.0,9,-999.0000,9,  -999.00,   3.0411, 20110511,     1906
  18HU20110506, AR07W,    32,  1, 378130,      3,2,20110511,1903, 55.2598, -53.9830, 2050,   1899.0,   3.2362,  34.9141,2,  34.9191,6,    267.8,2,    274.2,2,    10.56,6,    15.59,6,     0.45,6,     1.12,6,     0.45,6,   2160.7,2,   2292.8,2,-999.0000,9,  -999.00,   3.0895, 20110511,     1909
  18HU20110506, AR07W,    32,  1, 378131,      4,2,20110511,1903, 55.2598, -53.9830, 2050,   1812.1,   3.2789,  34.9130,2,  34.9174,2,    267.0,2,    266.9,6,    10.62,6,    15.67,6,     0.26,6,     1.12,6,     0.26,6,   2161.9,2,   2294.2,2,-999.0000,9,  -999.00,   3.1395, 20110511,     1911
  18HU20110506, AR07W,    32,  1, 378132,      5,2,20110511,1903, 55.2598, -53.9830, 2050,   1689.3,   3.4437,  34.9179,2,  34.9223,2,    265.8,2,    276.7,2,    10.21,6,    15.68,6,     0.26,6,     1.11,6,     0.26,6,   2162.0,6,   2299.3,6,-999.0000,9,  -999.00,   3.3132, 20110511,     1916
  18HU20110506, AR07W,    32,  1, 378133,      6,2,20110511,1903, 55.2598, -53.9830, 2050,   1552.1,   3.5976,  34.9183,2,  34.9225,2,    264.8,2,    275.4,2,    10.02,6,    15.93,6,     0.30,6,     1.12,6,      0.3,6,   2162.9,2,   2297.7,2,-999.0000,9,  -999.00,   3.4774, 20110511,     1919
  18HU20110506, AR07W,    32,  1, 378134,      7,2,20110511,1903, 55.2598, -53.9830, 2050,   1390.3,   3.6832,  34.9103,2,  34.9144,2,    267.5,2,    278.5,2,     9.63,6,    15.76,6,     0.24,6,     1.11,6,     0.24,6,   2162.8,2,   2299.7,2,-999.0000,9,  -999.00,   3.5764, 20110511,     1923
  18HU20110506, AR07W,    32,  1, 378135,      8,2,20110511,1903, 55.2598, -53.9830, 2050,   1210.6,   3.7308,  34.9023,2,  34.9065,2,    270.0,2,    280.3,2,     9.35,6,    15.73,6,     0.27,6,     1.11,6,     0.27,6,   2163.6,2,   2298.2,2,-999.0000,9,  -999.00,   3.6390, 20110511,     1927
  18HU20110506, AR07W,    32,  1, 378136,      9,2,20110511,1903, 55.2598, -53.9830, 2050,   1029.9,   3.8001,  34.8919,2,  34.8957,2,    274.5,2,    285.2,2,     8.78,6,    15.62,6,     0.15,6,     1.11,6,     0.15,6,   2161.4,2,   2296.5,2,-999.0000,9,  -999.00,   3.7228, 20110511,     1930
  18HU20110506, AR07W,    32,  1, 378137,     10,2,20110511,1903, 55.2598, -53.9830, 2050,    852.2,   3.8057,  34.8839,2,  34.8880,2,    284.7,2,    295.3,2,     7.91,6,    15.00,6,     0.30,6,     1.08,6,      0.3,6,   2160.7,2,   2293.2,2,-999.0000,9,  -999.00,   3.7429, 20110511,     1934
  18HU20110506, AR07W,    32,  1, 378138,     11,2,20110511,1903, 55.2598, -53.9830, 2050,    670.6,   3.8119,  34.8835,2,  34.8880,2,    287.7,2,    297.9,2,     7.62,6,    14.69,6,     0.20,6,     1.06,6,      0.2,6,   2156.9,2,   2308.5,2,-999.0000,9,  -999.00,   3.7634, 20110511,     1939
  18HU20110506, AR07W,    32,  1, 378139,     12,2,20110511,1903, 55.2598, -53.9830, 2050,    510.2,   3.8107,  34.8820,2,  34.8860,2,    288.9,2,    298.4,2,     7.63,6,    14.70,6,     0.40,6,     1.05,6,      0.4,6,   2159.7,2,   2298.6,2,-999.0000,9,  -999.00,   3.7744, 20110511,     1942
  18HU20110506, AR07W,    33,  1, 378147,      1,2,20110511,2302, 55.3420, -53.9232, 2418,   2410.8,   2.6753,  34.9106,2,-999.0000,9,    272.0,2,   -999.0,9,    11.54,6,    15.08,6,     0.16,6,     1.08,6,     0.16,6,   -999.0,9,   -999.0,9,-999.0000,9,  -999.00,   2.4899, 20110511,     2302
  18HU20110506, AR07W,    33,  1, 378148,      2,2,20110511,2302, 55.3420, -53.9232, 2418,   2309.3,   2.6960,  34.9107,2,-999.0000,9,    270.9,2,   -999.0,9,  -999.00,9,  -999.00,9,  -999.00,9,  -999.00,9,     -999,9,   -999.0,9,   -999.0,9,-999.0000,9,  -999.00,   2.5198, 20110511,     2305
  18HU20110506, AR07W,    33,  1, 378149,      3,2,20110511,2302, 55.3420, -53.9232, 2418,    250.8,   3.8526,  34.8834,2,-999.0000,9,    289.6,2,   -999.0,9,     7.53,6,    14.68,6,     0.13,6,     1.04,6,      0.1,6,   -999.0,9,   -999.0,9,-999.0000,9,  -999.00,   3.8352, 20110511,     2339
  18HU20110506, AR07W,    33,  1, 378150,      4,2,20110511,2302, 55.3420, -53.9232, 2418,    150.5,   3.8270,  34.8711,2,-999.0000,9,    295.7,2,   -999.0,9,     7.48,6,    14.37,6,     0.21,6,     1.03,6,     0.21,6,   -999.0,9,   -999.0,9,-999.0000,9,  -999.00,   3.8167, 20110511,     2341
  18HU20110506, AR07W,    33,  1, 378151,      5,2,20110511,2302, 55.3420, -53.9232, 2418,    101.0,   3.8226,  34.8669,2,-999.0000,9,    298.8,2,   -999.0,9,     7.47,6,    14.21,6,     0.31,6,     1.01,6,     0.31,6,   -999.0,9,   -999.0,9,-999.0000,9,  -999.00,   3.8157, 20110511,     2343
  18HU20110506, AR07W,    33,  1, 378152,      6,2,20110511,2302, 55.3420, -53.9232, 2418,     51.6,   3.7901,  34.8567,2,-999.0000,9,    301.1,2,   -999.0,9,     7.50,6,    14.08,6,     0.39,6,     1.01,6,     0.39,6,   -999.0,9,   -999.0,9,-999.0000,9,  -999.00,   3.7866, 20110511,     2345
  18HU20110506, AR07W,    33,  1, 378153,      7,2,20110511,2302, 55.3420, -53.9232, 2418,     18.9,   3.4198,  34.5982,2,-999.0000,9,    312.9,2,   -999.0,9,  -999.00,9,  -999.00,9,  -999.00,9,  -999.00,9,     -999,9,   -999.0,9,   -999.0,9,-999.0000,9,  -999.00,   3.4186, 20110511,     2346
  18HU20110506, AR07W,    33,  1, 378154,      8,2,20110511,2302, 55.3420, -53.9232, 2418,      1.6,   3.2641,  34.5364,2,-999.0000,9,    316.4,2,   -999.0,9,     7.18,6,    12.25,6,     0.25,6,     0.92,6,     0.25,6,   -999.0,9,   -999.0,9,-999.0000,9,  -999.00,   3.2640, 20110511,     2348
  18HU20110506, AR07W,    36,  1, 378155,      1,2,20110512,0218, 55.4228, -53.8123, 2711,   2712.4,   2.2379,  34.9002,2,  34.9048,2,    277.4,2,    292.3,2,    11.50,6,    14.66,6,     0.13,6,     1.05,6,     0.13,6,   2163.5,2,   2291.2,2,-999.0000,9,  -999.00,   2.0320, 20110512,      218
  18HU20110506, AR07W,    36,  1, 378156,      2,2,20110512,0218, 55.4228, -53.8123, 2711,   2598.7,   2.3242,  34.9026,2,-999.0000,9,    275.0,2,   -999.0,9,  -999.00,9,  -999.00,9,  -999.00,9,  -999.00,9,     -999,9,   -999.0,9,   -999.0,9,-999.0000,9,  -999.00,   2.1275, 20110512,      221
  18HU20110506, AR07W,    36,  1, 378157,      3,2,20110512,0218, 55.4228, -53.8123, 2711,   2509.3,   2.3399,  34.9035,2,  34.9076,2,    274.8,2,    290.0,2,    11.71,6,    14.89,6,     0.24,6,     1.05,6,     0.24,6,   2162.4,6,   2304.1,6,-999.0000,9,  -999.00,   2.1513, 20110512,      224
  18HU20110506, AR07W,    36,  1, 378158,      4,2,20110512,0218, 55.4228, -53.8123, 2711,   2409.6,   2.6044,  34.9109,2,  34.9152,2,    271.2,2,    287.4,2,    11.83,6,    15.23,6,     0.11,6,     1.08,6,     0.07,6,   2159.8,2,   2302.7,2,-999.0000,9,  -999.00,   2.4204, 20110512,      227
  18HU20110506, AR07W,    36,  1, 378159,      5,2,20110512,0218, 55.4228, -53.8123, 2711,   2290.8,   2.7189,  34.9139,2,  34.9180,2,    270.0,2,    285.7,6,    11.93,6,    15.34,6,     0.16,6,     1.08,6,     0.16,6,   2162.4,2,   2302.5,2,-999.0000,9,  -999.00,   2.5440, 20110512,      229
  18HU20110506, AR07W,    36,  1, 378160,      6,2,20110512,0218, 55.4228, -53.8123, 2711,   2150.0,   2.8824,  34.9148,2,  34.9189,2,    269.1,2,    285.1,2,    11.45,6,    15.51,6,     0.20,6,     1.09,6,      0.2,6,   2161.4,2,   2304.5,2,-999.0000,9,  -999.00,   2.7179, 20110512,      232
  18HU20110506, AR07W,    36,  1, 378161,      7,2,20110512,0218, 55.4228, -53.8123, 2711,   1990.2,   3.0178,  34.9147,2,  34.9181,2,    268.7,2,    283.5,2,    11.10,6,    15.67,6,     0.16,6,     1.10,6,     0.16,6,   2166.7,3,   2299.2,2,-999.0000,9,  -999.00,   2.8659, 20110512,      236
  18HU20110506, AR07W,    36,  1, 378162,      8,2,20110512,0218, 55.4228, -53.8123, 2711,   1809.1,   3.1797,  34.9156,2,  34.9193,2,    267.8,2,    283.0,2,    10.82,6,    15.75,6,     0.12,6,     1.10,6,     0.12,6,   2160.0,2,   2305.6,2,-999.0000,9,  -999.00,   3.0419, 20110512,      240
  18HU20110506, AR07W,    36,  1, 378163,      9,2,20110512,0218, 55.4228, -53.8123, 2711,   1611.0,   3.3605,  34.9175,2,  34.9210,2,    266.8,2,    281.0,2,    10.53,6,    15.95,6,     0.20,6,     1.11,6,     0.15,6,   2163.1,2,   2301.0,2,-999.0000,9,  -999.00,   3.2380, 20110512,      244
  18HU20110506, AR07W,    36,  1, 378164,     10,2,20110512,0218, 55.4228, -53.8123, 2711,   1409.4,   3.5951,  34.9172,2,  34.9206,2,    265.8,2,    280.3,2,    10.25,6,    16.15,6,     0.23,6,     1.12,6,     0.23,6,   2163.2,2,   2302.8,2,-999.0000,9,  -999.00,   3.4875, 20110512,      248
  18HU20110506, AR07W,    36,  1, 378165,     11,2,20110512,0218, 55.4228, -53.8123, 2711,   1208.6,   3.7035,  34.9048,2,  34.9086,2,    269.0,2,    283.5,2,     9.77,6,    16.10,6,     0.14,6,     1.11,6,     0.14,6,   2161.1,2,   2307.0,2,-999.0000,9,  -999.00,   3.6121, 20110512,      252
  18HU20110506, AR07W,    36,  1, 378166,     12,2,20110512,0218, 55.4228, -53.8123, 2711,   1029.6,   3.8128,  34.8989,2,  34.9024,2,    272.3,2,    285.8,2,     9.25,6,    16.04,6,     0.15,6,     1.10,6,     0.15,6,   2162.3,2,   2302.5,2,-999.0000,9,  -999.00,   3.7355, 20110512,      256
  18HU20110506, AR07W,    36,  1, 378167,     13,2,20110512,0218, 55.4228, -53.8123, 2711,    849.2,   3.8159,  34.8870,2,  34.8901,2,    285.3,2,    299.4,2,     8.08,6,    15.27,6,     0.11,6,     1.05,6,     0.11,6,   2157.5,2,   2300.5,2,-999.0000,9,  -999.00,   3.7533, 20110512,      300
  18HU20110506, AR07W,    36,  1, 378168,     14,2,20110512,0218, 55.4228, -53.8123, 2711,    669.6,   3.8239,  34.8859,2,  34.8889,2,    287.4,2,    301.7,2,     7.92,6,    15.03,6,     0.17,6,     1.04,2,     0.17,6,   2159.7,2,   2302.6,2,-999.0000,9,  -999.00,   3.7754, 20110512,      304
  18HU20110506, AR07W,    36,  1, 378169,     15,2,20110512,0218, 55.4228, -53.8123, 2711,    509.9,   3.8605,  34.8882,2,  34.8905,2,    288.0,2,    301.5,2,     7.94,6,    14.93,6,     0.19,6,  -999.00,9,     0.19,6,   2155.8,2,   2295.8,2,-999.0000,9,  -999.00,   3.8240, 20110512,      307
  18HU20110506, AR07W,    36,  1, 378170,     16,2,20110512,0218, 55.4228, -53.8123, 2711,    370.4,   3.8827,  34.8885,2,  34.8916,2,    288.0,2,    300.8,2,     7.87,6,    14.90,6,     0.15,6,     1.04,2,     0.15,6,   2153.9,2,   2298.8,2,-999.0000,9,  -999.00,   3.8565, 20110512,      310
  18HU20110506, AR07W,    36,  1, 378171,     17,2,20110512,0218, 55.4228, -53.8123, 2711,    249.3,   3.9149,  34.8887,2,-999.0000,9,    286.8,2,   -999.0,9,  -999.00,9,  -999.00,9,  -999.00,9,  -999.00,9,     -999,9,   -999.0,9,   -999.0,9,-999.0000,9,  -999.00,   3.8975, 20110512,      313
  18HU20110506, AR07W,    36,  1, 378172,     18,2,20110512,0218, 55.4228, -53.8123, 2711,    149.8,   3.8956,  34.8784,2,  34.8826,2,    289.2,2,    301.4,2,     7.80,6,    14.71,6,     0.19,6,     1.03,6,     0.19,6,   2156.4,2,   2299.9,2,-999.0000,9,  -999.00,   3.8853, 20110512,      315
  18HU20110506, AR07W,    36,  1, 378173,     19,2,20110512,0218, 55.4228, -53.8123, 2711,    100.3,   3.8609,  34.8598,2,  34.8615,2,    289.7,2,    302.6,2,     7.81,6,    14.54,6,     0.15,6,     0.03,4,     0.15,6,   2154.2,2,   2299.0,2,-999.0000,9,  -999.00,   3.8541, 20110512,      317
  18HU20110506, AR07W,    36,  1, 378174,     20,2,20110512,0218, 55.4228, -53.8123, 2711,     49.7,   3.7477,  34.7964,2,  34.8041,2,    295.7,2,    307.9,2,     7.76,6,    14.04,6,     0.10,6,  -999.00,9,     0.08,6,   2149.2,2,   2291.8,2,-999.0000,9,  -999.00,   3.7444, 20110512,      319
  18HU20110506, AR07W,    36,  1, 378175,     21,2,20110512,0218, 55.4228, -53.8123, 2711,     19.3,   3.4182,  34.5993,2,  34.6122,2,    308.0,2,    320.0,2,     7.47,6,    12.93,6,     0.31,6,     0.03,4,     0.31,6,   2138.9,2,   2283.2,2,-999.0000,9,  -999.00,   3.4170, 20110512,      321
  18HU20110506, AR07W,    36,  1, 378176,     22,2,20110512,0218, 55.4228, -53.8123, 2711,      1.4,   3.1999,  34.4963,2,  34.5019,2,    313.8,2,    327.0,2,     7.29,6,    11.94,6,     0.21,6,     0.90,6,     0.16,6,   2135.7,2,   2276.9,2,-999.0000,9,  -999.00,   3.1998, 20110512,      322
  18HU20110506, AR07W,    40,  1, 378177,      1,2,20110512,0702, 55.6117, -53.6258, 2930,   2944.4,   2.0053,  34.8949,2,-999.0000,9,    280.9,2,   -999.0,9,  -999.00,9,  -999.00,9,  -999.00,9,  -999.00,9,     -999,9,   -999.0,9,   -999.0,9,-999.0000,9,  -999.00,   1.7818, 20110512,      702
  18HU20110506, AR07W,    40,  1, 378178,      2,2,20110512,0702, 55.6117, -53.6258, 2930,   2946.5,   2.0055,  34.8946,2,  34.8981,2,    280.9,2,    290.1,2,    10.96,6,    14.23,6,     0.18,6,     1.03,6,     0.18,6,   2163.7,2,   2304.0,2,-999.0000,9,  -999.00,   1.7817, 20110512,      702
  18HU20110506, AR07W,    40,  1, 378179,      3,2,20110512,0702, 55.6117, -53.6258, 2930,   2812.9,   2.1312,  34.8976,2,  34.9012,2,    278.3,2,    288.6,6,    11.10,6,    14.49,6,     0.23,6,     1.04,6,     0.23,6,   2159.3,2,   2307.1,2,-999.0000,9,  -999.00,   1.9178, 20110512,      710
  18HU20110506, AR07W,    40,  1, 378180,      4,2,20110512,0702, 55.6117, -53.6258, 2930,   2687.4,   2.4272,  34.9056,2,  34.9093,2,    273.4,2,    283.3,2,    12.05,6,    15.00,6,     0.18,6,     1.08,6,     0.18,6,   2160.8,2,   2302.9,2,-999.0000,9,  -999.00,   2.2200, 20110512,      713
  18HU20110506, AR07W,    40,  1, 378181,      5,2,20110512,0702, 55.6117, -53.6258, 2930,   2560.0,   2.6176,  34.9127,2,  34.9156,2,    271.0,2,    280.0,2,    12.20,6,    15.18,6,     0.13,6,     1.08,6,     0.08,6,   2162.1,2,   2307.2,2,-999.0000,9,  -999.00,   2.4190, 20110512,      717
  18HU20110506, AR07W,    40,  1, 378182,      6,2,20110512,0702, 55.6117, -53.6258, 2930,   2451.9,   2.7465,  34.9148,2,  34.9187,2,    269.8,2,    279.3,2,    11.94,6,    15.27,6,     0.24,6,     1.09,6,     0.24,6,   2160.6,2,   2304.6,2,-999.0000,9,  -999.00,   2.5559, 20110512,      720
  18HU20110506, AR07W,    40,  1, 378183,      7,2,20110512,0702, 55.6117, -53.6258, 2930,   2290.7,   2.8740,  34.9146,2,  34.9185,2,    269.3,2,    278.6,2,    11.56,6,    15.27,6,     0.15,6,     1.10,6,     0.15,6,   2157.9,2,   2303.7,2,-999.0000,9,  -999.00,   2.6965, 20110512,      723
  18HU20110506, AR07W,    40,  1, 378184,      8,2,20110512,0702, 55.6117, -53.6258, 2930,   2151.0,   3.0040,  34.9144,2,  34.9179,2,    268.8,2,    251.3,4,    11.31,6,    15.53,6,     0.23,6,     1.16,4,     0.23,6,   2156.9,2,   2304.8,2,-999.0000,9,  -999.00,   2.8375, 20110512,      726
  18HU20110506, AR07W,    40,  1, 378185,      9,2,20110512,0702, 55.6117, -53.6258, 2930,   1990.0,   3.1323,  34.9150,2,  34.9186,2,    268.2,2,    278.0,2,    10.94,6,    15.60,6,     0.17,6,     1.12,6,     0.17,6,   2159.0,2,   2307.5,2,-999.0000,9,  -999.00,   2.9787, 20110512,      729
  18HU20110506, AR07W,    40,  1, 378186,     10,2,20110512,0702, 55.6117, -53.6258, 2930,   1763.1,   3.3007,  34.9149,2,  34.9182,2,    267.1,2,    276.1,2,    10.78,6,    15.68,6,     0.19,6,     1.14,6,     0.19,6,   2158.9,2,   2303.8,2,-999.0000,9,  -999.00,   3.1654, 20110512,      734
  18HU20110506, AR07W,    40,  1, 378187,     11,2,20110512,0702, 55.6117, -53.6258, 2930,   1519.1,   3.4939,  34.9212,2,-999.0000,9,    265.7,2,    274.2,2,    10.52,6,    15.62,6,     0.25,6,     1.11,6,     0.25,6,   2160.3,2,   2307.0,2,-999.0000,9,  -999.00,   3.3779, 20110512,      738
  18HU20110506, AR07W,    40,  1, 378188,     12,2,20110512,0702, 55.6117, -53.6258, 2930,   1409.8,   3.5865,  34.9191,2,  34.9227,2,    265.8,2,    274.3,2,    10.28,6,    15.89,6,     0.18,6,     1.12,6,     0.18,6,   2161.7,2,   2303.9,2,-999.0000,9,  -999.00,   3.4790, 20110512,      741
  18HU20110506, AR07W,    40,  1, 378189,     13,2,20110512,0702, 55.6117, -53.6258, 2930,   1231.9,   3.6572,  34.9113,2,  34.9154,2,    267.7,2,    277.1,2,     9.94,6,    15.84,6,     0.18,6,     1.11,6,     0.18,6,   2160.1,2,   2306.3,2,-999.0000,9,  -999.00,   3.5642, 20110512,      745
  18HU20110506, AR07W,    40,  1, 378190,     14,2,20110512,0702, 55.6117, -53.6258, 2930,   1031.6,   3.7675,  34.8957,2,  34.8989,2,    273.9,2,    282.5,2,     9.18,6,    15.45,6,     0.19,6,     1.10,6,     0.19,6,   2160.2,2,   2306.1,2,-999.0000,9,  -999.00,   3.6904, 20110512,      748
  18HU20110506, AR07W,    40,  1, 378191,     15,2,20110512,0702, 55.6117, -53.6258, 2930,    851.4,   3.8297,  34.8915,2,  34.8955,2,    279.1,2,    287.6,2,     8.62,6,    15.33,6,     0.19,6,     1.09,6,     0.19,6,   2155.1,2,   2309.1,2,-999.0000,9,  -999.00,   3.7668, 20110512,      751
  18HU20110506, AR07W,    40,  1, 378192,     16,2,20110512,0702, 55.6117, -53.6258, 2930,    669.3,   3.7961,  34.8790,2,  34.8825,2,    286.6,2,    295.4,2,     8.07,6,    14.97,6,     0.15,6,     1.06,6,     0.15,6,   2156.6,6,   2306.7,6,-999.0000,9,  -999.00,   3.7478, 20110512,      755
  18HU20110506, AR07W,    40,  1, 378193,     17,2,20110512,0702, 55.6117, -53.6258, 2930,    511.6,   3.8117,  34.8762,2,  34.8795,2,    288.4,2,    296.0,2,     7.91,6,    14.59,6,     1.56,6,     1.06,6,     0.13,2,   2152.2,2,   2302.6,2,-999.0000,9,  -999.00,   3.7753, 20110512,      758
  18HU20110506, AR07W,    40,  1, 378194,     18,2,20110512,0702, 55.6117, -53.6258, 2930,    370.0,   3.8481,  34.8767,2,  34.8797,2,    288.5,2,    296.1,2,     8.04,6,    14.37,6,     0.22,6,  -999.00,9,     0.22,6,   2152.5,2,   2305.2,2,-999.0000,9,  -999.00,   3.8221, 20110512,      800
  18HU20110506, AR07W,    40,  1, 378195,     19,2,20110512,0702, 55.6117, -53.6258, 2930,    250.3,   3.8151,  34.8623,2,-999.0000,9,    290.5,2,   -999.0,9,  -999.00,9,  -999.00,9,  -999.00,9,  -999.00,9,     -999,9,   -999.0,9,   -999.0,9,-999.0000,9,  -999.00,   3.7978, 20110512,      802
  18HU20110506, AR07W,    40,  1, 378196,     20,2,20110512,0702, 55.6117, -53.6258, 2930,    150.1,   3.7266,  34.8306,2,  34.8327,2,    294.7,2,    302.8,2,     7.81,6,    14.09,6,     0.18,6,     1.06,6,     0.18,6,   2152.3,2,   2306.6,2,-999.0000,9,  -999.00,   3.7165, 20110512,      805
  18HU20110506, AR07W,    40,  1, 378197,     21,2,20110512,0702, 55.6117, -53.6258, 2930,    102.9,   3.6854,  34.8066,2,  34.8142,2,    297.4,2,    305.4,2,     7.79,6,    13.96,6,     0.19,6,     1.02,6,     0.19,6,   2151.2,2,   2303.5,2,-999.0000,9,  -999.00,   3.6785, 20110512,      806
  18HU20110506, AR07W,    40,  1, 378198,     22,2,20110512,0702, 55.6117, -53.6258, 2930,     50.4,   3.6448,  34.7859,2,  34.7894,2,    301.2,2,    227.7,4,     7.70,6,    13.60,6,     0.17,6,     1.01,6,     0.17,6,   2146.0,2,   2300.0,2,-999.0000,9,  -999.00,   3.6415, 20110512,      808
  18HU20110506, AR07W,    40,  1, 378199,     23,2,20110512,0702, 55.6117, -53.6258, 2930,     20.3,   3.6293,  34.7791,2,  34.7809,2,    303.4,2,    309.2,2,     7.75,6,    13.61,6,     0.14,6,     1.01,6,     0.14,6,   2146.9,2,   2302.8,2,-999.0000,9,  -999.00,   3.6280, 20110512,      809
  18HU20110506, AR07W,    40,  1, 378200,     24,2,20110512,0702, 55.6117, -53.6258, 2930,      2.7,   3.6300,  34.7800,2,-999.0000,9,    303.8,2,    307.8,2,     7.73,6,    13.69,6,     0.11,6,     1.01,6,     0.11,6,   2147.5,2,   2300.3,2,-999.0000,9,  -999.00,   3.6298, 20110512,      809