BOTTLE,2013020413CCHSIOCBG
EXPOCODE,SECT_ID,STNNBR,CASTNO,SAMPNO,BTLNBR,BTLNBR_FLAG_W,DATE,TIME,LATITUDE,LONGITUDE,DEPTH,CTDPRS,CTDTMP,CTDSAL,CTDSAL_FLAG_W,SALNTY,SALNTY_FLAG_W,CTDOXY,CTDOXY_FLAG_W,OXYGEN,OXYGEN_FLAG_W,SILCAT,SILCAT_FLAG_W,NO2+NO3,NO2+NO3_FLAG_W,NITRIT,NITRIT_FLAG_W,PHSPHT,PHSPHT_FLAG_W,NH4,NH4_FLAG_W,TCARBN,TCARBN_FLAG_W,ALKALI,ALKALI_FLAG_W,PH_TOT,PH_TOT_FLAG_W,PH_TMP,THETA,BTL_DATE,BTL_TIME
,,,,,,,,,,,METERS,DBAR,ITS-90,PSS-78,,PSS-78,,UMOL/KG,,UMOL/KG,,UMOL/KG,,UMOL/KG,,UMOL/KG,,UMOL/KG,,UMOL/KG,,UMOL/KG,,UMOL/KG,,,,DEG C,DEG C,,
  18HU20110506, AR07W,   350,  1, 379042,      1,2,20110525,1652, 41.4135, -60.6668, 4686,   4710.3,   2.2140,  34.8781,2,  34.8790,2,    250.3,2,    260.1,2,    37.20,6,    18.89,6,     0.41,6,     1.37,6,     0.41,6,   2184.8,2,   2343.5,2,-999.0000,9,  -999.00,   1.7901, 20110525,     1652
  18HU20110506, AR07W,   350,  1, 379043,      2,2,20110525,1652, 41.4135, -60.6668, 4686,   4710.1,   2.2143,  34.8782,2,  34.8792,2,    250.5,2,    259.9,2,    37.26,6,    18.84,6,     0.43,6,     1.37,6,     0.43,6,   2184.7,2,   2332.7,2,-999.0000,9,  -999.00,   1.7904, 20110525,     1652
  18HU20110506, AR07W,   350,  1, 379044,      3,2,20110525,1652, 41.4135, -60.6668, 4686,   4558.5,   2.2066,  34.8803,2,  34.8804,2,    250.6,2,    261.9,2,    35.33,6,    18.43,6,     0.32,6,     1.36,6,     0.32,6,   2182.7,2,   2326.3,2,-999.0000,9,  -999.00,   1.8013, 20110525,     1655
  18HU20110506, AR07W,   350,  1, 379045,      4,2,20110525,1652, 41.4135, -60.6668, 4686,   4371.8,   2.2459,  34.8877,2,  34.8885,2,    256.4,2,    267.9,2,    28.33,6,    17.43,6,     0.32,6,     1.28,6,     0.32,6,   2172.0,2,   2331.0,2,-999.0000,9,  -999.00,   1.8616, 20110525,     1659
  18HU20110506, AR07W,   350,  1, 379046,      5,2,20110525,1652, 41.4135, -60.6668, 4686,   4150.9,   2.2599,  34.8915,2,  34.8920,2,    259.0,2,    270.8,2,    25.21,6,    16.87,6,     0.32,6,     1.23,6,     0.32,6,   2171.2,2,   2334.2,2,-999.0000,9,  -999.00,   1.9010, 20110525,     1703
  18HU20110506, AR07W,   350,  1, 379047,      6,2,20110525,1652, 41.4135, -60.6668, 4686,   3910.8,   2.2877,  34.8949,2,  34.8936,2,    259.8,2,    270.6,2,    24.11,6,    16.74,6,     0.32,6,     1.23,6,     0.32,6,   2170.7,2,   2322.4,2,-999.0000,9,  -999.00,   1.9554, 20110525,     1707
  18HU20110506, AR07W,   350,  1, 379048,      7,2,20110525,1652, 41.4135, -60.6668, 4686,   3680.4,   2.3467,  34.8993,2,  34.8995,2,    258.5,2,   -999.0,9,    23.56,6,    16.65,6,     0.41,6,     1.22,6,     0.41,6,   2170.3,2,   2319.4,2,-999.0000,9,  -999.00,   2.0385, 20110525,     1712
  18HU20110506, AR07W,   350,  1, 379049,      8,2,20110525,1652, 41.4135, -60.6668, 4686,   3430.8,   2.4725,  34.9072,2,  34.9074,2,    258.0,2,   -999.0,9,    22.08,6,    16.83,6,     0.35,6,     1.22,6,     0.35,6,   2166.4,2,   2314.2,2,-999.0000,9,  -999.00,   2.1882, 20110525,     1716
  18HU20110506, AR07W,   350,  1, 379050,      9,2,20110525,1652, 41.4135, -60.6668, 4686,   3166.3,   2.6539,  34.9168,2,  34.9176,2,    256.9,2,    268.4,2,    20.18,6,    16.60,6,     0.31,6,     1.21,6,     0.31,6,   2163.1,2,   2318.1,2,-999.0000,9,  -999.00,   2.3934, 20110525,     1721
  18HU20110506, AR07W,   350,  1, 379051,     10,2,20110525,1652, 41.4135, -60.6668, 4686,   2891.8,   2.8732,  34.9287,2,  34.9288,2,    254.7,2,    266.7,2,    19.50,6,    16.82,6,     0.39,6,     1.22,6,     0.39,6,   2164.9,6,   2324.2,6,-999.0000,9,  -999.00,   2.6364, 20110525,     1725
  18HU20110506, AR07W,   350,  1, 379052,     11,2,20110525,1652, 41.4135, -60.6668, 4686,   2605.4,   3.0649,  34.9285,2,  34.9286,2,    256.5,2,    269.4,2,    16.21,6,    16.51,6,     0.36,6,     1.19,6,     0.36,6,   2163.8,2,   2311.1,2,-999.0000,9,  -999.00,   2.8533, 20110525,     1730
  18HU20110506, AR07W,   350,  1, 379053,     12,2,20110525,1652, 41.4135, -60.6668, 4686,   2310.1,   3.3029,  34.9333,2,  34.9336,2,    256.2,2,    268.6,2,    15.07,6,    16.71,6,     0.67,6,     1.20,6,     0.67,6,   2162.2,2,   2306.3,2,-999.0000,9,  -999.00,   3.1162, 20110525,     1735
  18HU20110506, AR07W,   350,  1, 379054,     13,2,20110525,1652, 41.4135, -60.6668, 4686,   2011.1,   3.5172,  34.9372,2,  34.9377,2,    255.0,2,    267.6,2,    13.73,6,    16.54,6,     0.38,6,     1.20,6,     0.38,6,   2162.1,2,   2317.7,2,-999.0000,9,  -999.00,   3.3559, 20110525,     1740
  18HU20110506, AR07W,   350,  1, 379055,     14,2,20110525,1652, 41.4135, -60.6668, 4686,   1720.3,   3.7842,  34.9466,2,  34.9470,2,    253.7,2,    265.1,2,    12.63,6,    16.77,6,     0.37,6,     1.20,6,     0.37,6,   2164.4,2,   2313.1,2,-999.0000,9,  -999.00,   3.6464, 20110525,     1747
  18HU20110506, AR07W,   350,  1, 379056,     15,2,20110525,1652, 41.4135, -60.6668, 4686,   1439.9,   3.9740,  34.9485,2,  34.9486,2,    253.2,2,    264.0,2,    11.82,6,    16.65,6,     0.46,6,     1.19,6,     0.46,6,   2164.5,2,   2307.2,2,-999.0000,9,  -999.00,   3.8596, 20110525,     1753
  18HU20110506, AR07W,   350,  1, 379057,     16,2,20110525,1652, 41.4135, -60.6668, 4686,   1201.9,   4.1303,  34.9487,2,  34.9486,2,    253.3,2,    263.5,6,    11.20,6,    16.84,6,     0.31,6,     1.19,6,     0.31,6,   2163.8,2,   2305.6,2,-999.0000,9,  -999.00,   4.0355, 20110525,     1758
  18HU20110506, AR07W,   350,  1, 379058,     17,2,20110525,1652, 41.4135, -60.6668, 4686,    961.2,   4.3596,  34.9507,2,  34.9505,2,    251.5,2,    261.6,2,    10.81,6,    16.66,6,     0.42,6,     1.17,6,     0.42,6,   2166.0,2,   2301.6,2,-999.0000,9,  -999.00,   4.2838, 20110525,     1803
  18HU20110506, AR07W,   350,  1, 379059,     18,2,20110525,1652, 41.4135, -60.6668, 4686,    729.5,   5.1369,  35.0198,2,  35.0198,2,    225.2,2,    233.2,2,    12.23,6,    18.15,6,     0.34,6,     1.28,6,     0.34,6,   2174.1,2,   2316.2,2,-999.0000,9,  -999.00,   5.0762, 20110525,     1808
  18HU20110506, AR07W,   350,  1, 379060,     19,2,20110525,1652, 41.4135, -60.6668, 4686,    514.6,   6.5473,  35.0654,2,  35.0649,2,    186.7,2,    192.7,2,    13.71,6,    20.91,6,     0.31,6,     1.43,6,     0.31,6,   2186.6,2,   2314.5,2,-999.0000,9,  -999.00,   6.4997, 20110525,     1812
  18HU20110506, AR07W,   350,  1, 379061,     20,2,20110525,1652, 41.4135, -60.6668, 4686,    330.5,   8.5898,  35.0129,2,  35.0122,2,    156.9,2,    162.9,2,    12.60,6,    20.33,6,     0.29,6,     1.41,6,     0.29,6,   2187.6,2,   2311.6,2,-999.0000,9,  -999.00,   8.5546, 20110525,     1817
  18HU20110506, AR07W,   350,  1, 379062,     21,2,20110525,1652, 41.4135, -60.6668, 4686,    195.9,  12.9321,  35.6449,2,  35.6439,2,    211.5,2,    221.4,2,     4.80,6,    10.54,6,     0.32,6,     0.74,6,     0.32,6,   2137.2,2,   2342.0,2,-999.0000,9,  -999.00,  12.9051, 20110525,     1821
  18HU20110506, AR07W,   350,  1, 379063,     22,2,20110525,1652, 41.4135, -60.6668, 4686,    115.2,  13.1850,  35.6132,2,  35.6129,2,    207.2,2,    211.0,2,     4.23,6,     9.88,6,     0.34,6,     0.68,6,     0.34,6,   2131.5,2,   2343.7,2,-999.0000,9,  -999.00,  13.1690, 20110525,     1823
  18HU20110506, AR07W,   350,  1, 379064,     23,2,20110525,1652, 41.4135, -60.6668, 4686,     53.6,   8.8497,  34.1864,2,  34.1387,2,    247.1,2,    256.3,2,     3.90,6,     7.66,6,     0.32,6,     0.70,6,     0.32,6,   2109.0,2,   2281.3,2,-999.0000,9,  -999.00,   8.8441, 20110525,     1825
  18HU20110506, AR07W,   350,  1, 379065,     24,2,20110525,1652, 41.4135, -60.6668, 4686,      4.6,   9.7481,  32.3895,2,  32.3959,2,    291.0,2,    299.6,2,     1.03,6,     0.00,6,     0.34,6,     0.29,6,     0.34,6,   2022.9,2,   2197.8,2,-999.0000,9,  -999.00,   9.7476, 20110525,     1827
  18HU20110506, AR07W,   352,  1, 379066,      1,2,20110525,2352, 41.7780, -60.9078, 4403,   4487.6,   2.1954,  34.8798,2,  34.8802,2,    251.6,2,    261.8,2,    35.80,6,    18.99,6,     0.39,6,     1.34,6,     0.39,6,   2185.8,2,   2337.4,2,-999.0000,9,  -999.00,   1.7990, 20110525,     2352
  18HU20110506, AR07W,   352,  1, 379067,      2,2,20110525,2352, 41.7780, -60.9078, 4403,   4485.6,   2.1952,  34.8799,2,  34.8804,2,    251.7,2,    261.2,2,    35.97,6,    19.17,6,     0.30,6,     1.36,6,      0.3,6,   2186.1,2,   2334.4,2,-999.0000,9,  -999.00,   1.7990, 20110525,     2352
  18HU20110506, AR07W,   352,  1, 379068,      3,2,20110525,2352, 41.7780, -60.9078, 4403,   4299.6,   2.2163,  34.8856,2,  34.8862,6,    255.0,2,    267.1,2,    29.96,6,    17.99,6,     0.33,6,     1.28,6,     0.33,6,   2177.6,2,   2325.4,2,-999.0000,9,  -999.00,   1.8414, 20110525,     2355
  18HU20110506, AR07W,   352,  1, 379069,      4,2,20110525,2352, 41.7780, -60.9078, 4403,   4141.2,   2.2371,  34.8896,2,  34.8898,2,    258.2,2,    270.0,2,    27.06,6,    17.50,6,     0.30,6,     1.24,6,      0.3,6,   2174.4,2,   2330.9,2,-999.0000,9,  -999.00,   1.8800, 20110525,     2358
  18HU20110506, AR07W,   352,  1, 379070,      5,2,20110525,2352, 41.7780, -60.9078, 4403,   3922.7,   2.2459,  34.8911,2,  34.8912,2,    256.4,2,    268.4,2,    27.50,6,    17.48,6,     0.34,6,     1.26,6,     0.34,6,   2170.8,2,   2336.4,2,-999.0000,9,  -999.00,   1.9135, 20110526,        3
  18HU20110506, AR07W,   352,  1, 379071,      6,2,20110525,2352, 41.7780, -60.9078, 4403,   3701.0,   2.2756,  34.8945,2,  34.8957,2,    257.2,2,    268.8,2,    26.23,6,    17.32,6,     0.34,6,     1.25,6,     0.34,6,   2169.1,2,   2331.6,2,-999.0000,9,  -999.00,   1.9670, 20110526,        7
  18HU20110506, AR07W,   352,  1, 379072,      7,2,20110525,2352, 41.7780, -60.9078, 4403,   3471.9,   2.3325,  34.8997,2,  34.8995,2,    257.1,2,    267.8,2,    25.10,6,    17.22,6,     0.33,6,     1.24,6,     0.33,6,   2170.4,2,   2338.7,2,-999.0000,9,  -999.00,   2.0473, 20110526,       11
  18HU20110506, AR07W,   352,  1, 379073,      8,2,20110525,2352, 41.7780, -60.9078, 4403,   3227.2,   2.4591,  34.9073,2,  34.9075,2,    259.7,2,    272.2,2,    20.40,6,    16.56,6,     0.26,6,     1.18,6,     0.26,6,   2167.4,6,   2316.0,6,-999.0000,9,  -999.00,   2.1967, 20110526,       15
  18HU20110506, AR07W,   352,  1, 379074,      9,2,20110525,2352, 41.7780, -60.9078, 4403,   2977.1,   2.6744,  34.9174,2,  34.9178,2,    258.6,2,    270.7,2,    18.89,6,    16.58,6,     0.25,6,     1.17,6,     0.25,6,   2166.0,2,   2325.5,2,-999.0000,9,  -999.00,   2.4331, 20110526,       20
  18HU20110506, AR07W,   352,  1, 379075,     10,2,20110525,2352, 41.7780, -60.9078, 4403,   2721.0,   2.8546,  34.9240,2,  34.9244,2,    257.3,2,    269.4,2,    17.75,6,    16.56,6,     0.27,6,     1.17,6,     0.27,6,   2165.1,2,   2320.7,2,-999.0000,9,  -999.00,   2.6355, 20110526,       25
  18HU20110506, AR07W,   352,  1, 379076,     11,2,20110525,2352, 41.7780, -60.9078, 4403,   2449.8,   3.1022,  34.9326,2,  34.9331,2,    255.7,2,    267.7,2,    16.79,6,    16.88,6,     0.43,6,     1.18,6,     0.43,6,   2164.1,2,   2329.9,2,-999.0000,9,  -999.00,   2.9053, 20110526,       30
  18HU20110506, AR07W,   352,  1, 379077,     12,2,20110525,2352, 41.7780, -60.9078, 4403,   2171.3,   3.3092,  34.9404,2,  34.9408,2,    254.7,2,    266.5,2,    15.67,6,    17.06,6,     0.37,6,     1.19,6,     0.37,6,   2162.9,2,   2311.0,2,-999.0000,9,  -999.00,   3.1358, 20110526,       35
  18HU20110506, AR07W,   352,  1, 379078,     13,2,20110525,2352, 41.7780, -60.9078, 4403,   1892.9,   3.4797,  34.9400,2,  34.9416,2,    255.4,2,    266.7,2,    14.11,6,    16.95,6,     0.25,6,     1.20,6,     0.25,6,   2160.0,2,   2310.8,2,-999.0000,9,  -999.00,   3.3300, 20110526,       40
  18HU20110506, AR07W,   352,  1, 379079,     14,2,20110525,2352, 41.7780, -60.9078, 4403,   1626.5,   3.6724,  34.9433,2,  34.9437,2,    254.2,2,    265.7,6,    12.97,6,    16.20,6,     0.26,6,     1.21,6,     0.26,6,   2162.5,2,   2310.5,2,-999.0000,9,  -999.00,   3.5446, 20110526,       44
  18HU20110506, AR07W,   352,  1, 379080,     15,2,20110525,2352, 41.7780, -60.9078, 4403,   1365.0,   3.9339,  34.9595,2,  34.9593,2,    251.2,2,    262.0,2,    12.60,6,    16.29,6,     0.27,6,     1.21,6,     0.27,6,   2163.4,2,   2319.8,2,-999.0000,9,  -999.00,   3.8266, 20110526,       49
  18HU20110506, AR07W,   352,  1, 379081,     16,2,20110525,2352, 41.7780, -60.9078, 4403,   1130.3,   4.2084,  34.9758,2,  34.9754,2,    246.6,2,    257.3,2,    12.12,6,    16.05,6,     0.26,6,     1.22,6,     0.26,6,   2165.7,2,   2303.5,2,-999.0000,9,  -999.00,   4.1191, 20110526,       53
  18HU20110506, AR07W,   352,  1, 379082,     17,2,20110525,2352, 41.7780, -60.9078, 4403,    905.2,   4.4962,  34.9895,2,  34.9892,2,    241.8,2,    250.8,2,    11.94,6,    16.18,6,     0.46,6,     1.22,6,     0.46,6,   2167.3,2,   2314.1,2,-999.0000,9,  -999.00,   4.4242, 20110526,       57
  18HU20110506, AR07W,   352,  1, 379083,     18,2,20110525,2352, 41.7780, -60.9078, 4403,    690.0,   4.9860,  35.0138,2,  35.0138,2,    228.7,2,    237.6,2,    12.32,6,    16.85,6,     0.26,6,     1.27,6,     0.26,6,   2171.9,2,   2324.9,2,-999.0000,9,  -999.00,   4.9296, 20110526,      101
  18HU20110506, AR07W,   352,  1, 379084,     19,2,20110525,2352, 41.7780, -60.9078, 4403,    486.6,   5.4709,  34.9622,2,  34.9597,2,    213.2,2,    217.1,2,    12.73,6,    17.69,6,     0.49,6,     1.33,6,     0.49,6,   2177.9,2,   2305.3,2,-999.0000,9,  -999.00,   5.4300, 20110526,      105
  18HU20110506, AR07W,   352,  1, 379085,     20,2,20110525,2352, 41.7780, -60.9078, 4403,    310.0,   7.1133,  35.0264,2,  35.0319,2,    170.5,2,    174.9,2,    14.24,6,    20.50,6,     0.29,6,     1.48,6,     0.29,6,   2208.9,2,   2312.6,2,-999.0000,9,  -999.00,   7.0837, 20110526,      108
  18HU20110506, AR07W,   352,  1, 379086,     21,2,20110525,2352, 41.7780, -60.9078, 4403,    185.6,   9.6858,  35.2067,2,-999.0000,9,    142.5,2,    146.9,2,    12.79,6,    20.57,6,     0.35,6,     1.47,6,     0.35,6,   2187.9,2,   2317.1,2,-999.0000,9,  -999.00,   9.6646, 20110526,      111
  18HU20110506, AR07W,   352,  1, 379087,     22,2,20110525,2352, 41.7780, -60.9078, 4403,    105.7,   8.8099,  34.6736,2,-999.0000,9,    202.7,2,    211.2,2,     7.99,6,    12.83,6,     0.29,6,     1.03,6,     0.29,6,   2149.1,2,   2299.3,2,-999.0000,9,  -999.00,   8.7987, 20110526,      113
  18HU20110506, AR07W,   352,  1, 379088,     23,2,20110525,2352, 41.7780, -60.9078, 4403,     55.9,   5.5868,  33.5806,2,  33.5874,2,    259.3,2,    267.8,2,     4.35,6,     7.54,6,     0.95,6,     0.87,6,     0.95,6,   2113.5,2,   2255.8,2,-999.0000,9,  -999.00,   5.5824, 20110526,      114
  18HU20110506, AR07W,   352,  1, 379089,     24,2,20110525,2352, 41.7780, -60.9078, 4403,      2.8,   9.1064,  32.2577,2,-999.0000,9,    289.3,2,    297.9,2,     0.52,6,     0.00,6,     0.33,6,     0.30,6,     0.33,6,   2024.7,2,   2190.0,2,-999.0000,9,  -999.00,   9.1061, 20110526,      116