BOTTLE,20120326PRINUNIVRMK
EXPOCODE,SECT_ID,STNNBR,CASTNO,BTLNBR,DATE,TIME,LATITUDE,LONGITUDE,DEPTH,CTDPRS,CTDTMP,CTDSAL,CTDSAL_FLAG_W,SALNTY,SALNTY_FLAG_W,OXYGEN,OXYGEN_FLAG_W,SILCAT,SILCAT_FLAG_W,NITRAT,NITRAT_FLAG_W,NITRIT,NITRIT_FLAG_W,PHSPHT,PHSPHT_FLAG_W,CFC-11,CFC-11_FLAG_W,CFC-12,CFC-12_FLAG_W,SF6,SF6_FLAG_W,TCARBN,TCARBN_FLAG_W,ALKALI,ALKALI_FLAG_W,CHLORA,CHLORA_FLAG_W,PHAEO,PHAEO_FLAG_W,THETA
,,,,,,,,,METERS,DBAR,ITS-90,PSS-78,,PSS-78,,UMOL/KG,,UMOL/KG,,UMOL/KG,,UMOL/KG,,UMOL/KG,,PMOL/KG,,PMOL/KG,,FMOL/KG,,UMOL/KG,,UMOL/KG,,UG/KG,,UG/KG,,DEG C
  58GS20090528,   GIN,   293,  1,      1,20092106,0746, 77.0010,  11.9990,  762,    751.7,  -0.7350,  34.9018,2,  34.9132,2,    296.4,2,    11.99,2,    14.85,2,     0.03,2,     1.03,2, -999.000,9,    0.827,6,       -999,9,   2166.2,2,   2306.6,2,  -999.00,9,  -999.00,9,  -0.7623
  58GS20090528,   GIN,   293,  1,      2,20092106,0746, 77.0010,  11.9990,  762,    601.4,   0.4310,  34.9226,2,  34.9302,2,    305.1,2,     7.68,2,    13.50,2,     0.02,2,     0.95,2, -999.000,9,    2.299,2,       -999,9,   2167.1,2,   -999.0,9,  -999.00,9,  -999.00,9,   0.4041
  58GS20090528,   GIN,   293,  1,      3,20092106,0746, 77.0010,  11.9990,  762,    500.6,   1.5320,  34.9765,2,  34.9774,2,    306.8,2,     6.38,2,    12.88,2,     0.03,2,     0.90,2, -999.000,9,    2.652,2,       -999,9,   2163.4,2,   2308.8,2,  -999.00,9,  -999.00,9,   1.5055
  58GS20090528,   GIN,   293,  1,      4,20092106,0746, 77.0010,  11.9990,  762,    400.4,   2.7160,  35.0461,2,  35.0491,2,    308.6,2,     5.22,2,    12.03,2,     0.02,2,     0.82,2, -999.000,9,    2.810,2,       -999,9,   2157.3,2,   -999.0,9,  -999.00,9,  -999.00,9,   2.6912
  58GS20090528,   GIN,   293,  1,      5,20092106,0746, 77.0010,  11.9990,  762,    300.0,   3.3170,  35.0685,2,  35.0679,2,    308.7,2,     5.08,2,    11.51,2,     0.13,2,     0.85,2, -999.000,9,    2.828,2,       -999,9,   2154.8,2,   2314.5,2,  -999.00,9,  -999.00,9,   3.2972
  58GS20090528,   GIN,   293,  1,      6,20092106,0746, 77.0010,  11.9990,  762,    200.7,   4.1380,  35.0953,2,  35.0956,2,    308.6,2,     4.70,2,    10.35,2,     0.11,2,     0.76,2, -999.000,9,    2.878,2,       -999,9,   2148.6,2,   2317.7,2,  -999.00,9,  -999.00,9,   4.1236
  58GS20090528,   GIN,   293,  1,      7,20092106,0746, 77.0010,  11.9990,  762,    150.6,   4.6290,  35.1189,2,  35.1173,2,    299.5,2,     4.83,2,    11.56,2,     0.07,2,     0.79,2, -999.000,9, -999.000,9,       -999,9,   2150.2,2,   2319.4,2,  -999.00,9,  -999.00,9,   4.6177
  58GS20090528,   GIN,   293,  1,      8,20092106,0746, 77.0010,  11.9990,  762,    125.2,   4.9200,  35.1301,2,  35.1260,2,   -999.0,9,     4.72,2,    11.39,2,     0.09,2,     0.78,2, -999.000,9, -999.000,9,       -999,9,   -999.0,9,   -999.0,9,  -999.00,9,  -999.00,9,   4.9103
  58GS20090528,   GIN,   293,  1,      9,20092106,0746, 77.0010,  11.9990,  762,    101.1,   5.2430,  35.1348,2,  35.1355,2,    299.8,2,     4.66,2,    10.37,2,     0.14,2,     0.74,2, -999.000,9,    2.720,2,       -999,9,   2145.0,2,   2320.4,2,     0.10,2,     0.14,2,   5.2349
  58GS20090528,   GIN,   293,  1,     10,20092106,0746, 77.0010,  11.9990,  762,     73.9,   5.7060,  35.1305,2,  35.1290,2,   -999.0,9,     4.22,2,     7.70,2,     0.15,2,     0.60,2, -999.000,9, -999.000,9,       -999,9,   -999.0,9,   -999.0,9,     0.32,2,     0.28,2,   5.6999
  58GS20090528,   GIN,   293,  1,     11,20092106,0746, 77.0010,  11.9990,  762,     73.8,   5.7320,  35.1296,2,-999.0000,9,    307.2,2,  -999.00,9,  -999.00,9,  -999.00,9,  -999.00,9, -999.000,9, -999.000,9,       -999,9,   2130.3,2,   2325.0,2,  -999.00,9,  -999.00,9,   5.7259
  58GS20090528,   GIN,   293,  1,     12,20092106,0746, 77.0010,  11.9990,  762,     50.4,   5.9920,  35.1133,2,  35.1144,2,   -999.0,9,     3.79,2,     5.80,2,     0.12,2,     0.48,2, -999.000,9, -999.000,9,       -999,9,   -999.0,9,   -999.0,9,     0.89,2,     0.43,2,   5.9877
  58GS20090528,   GIN,   293,  1,     13,20092106,0746, 77.0010,  11.9990,  762,     50.7,   6.0060,  35.1133,2,-999.0000,9,    313.9,2,  -999.00,9,  -999.00,9,  -999.00,9,  -999.00,9, -999.000,9,    2.712,2,       -999,9,   2118.5,2,   2325.9,2,  -999.00,9,  -999.00,9,   6.0017
  58GS20090528,   GIN,   293,  1,     14,20092106,0746, 77.0010,  11.9990,  762,     30.4,   6.0670,  35.0668,2,  35.0627,2,   -999.0,9,     3.12,2,     5.09,2,     0.11,2,     0.46,2, -999.000,9, -999.000,9,       -999,9,   -999.0,9,   -999.0,9,     1.14,2,     0.51,2,   6.0644
  58GS20090528,   GIN,   293,  1,     15,20092106,0746, 77.0010,  11.9990,  762,     30.8,   6.0500,  35.0639,2,-999.0000,9,   -999.0,9,  -999.00,9,  -999.00,9,  -999.00,9,  -999.00,9, -999.000,9, -999.000,9,       -999,9,   -999.0,9,   -999.0,9,  -999.00,9,  -999.00,9,   6.0474
  58GS20090528,   GIN,   293,  1,     16,20092106,0746, 77.0010,  11.9990,  762,     24.6,   5.8840,  34.9876,2,  34.9875,2,   -999.0,9,     2.34,2,     3.68,2,     0.09,2,     0.33,2, -999.000,9, -999.000,9,       -999,9,   -999.0,9,   -999.0,9,     1.68,2,     0.39,2,   5.8819
  58GS20090528,   GIN,   293,  1,     17,20092106,0746, 77.0010,  11.9990,  762,     24.9,   5.8670,  34.9805,2,-999.0000,9,    326.4,2,  -999.00,9,  -999.00,9,  -999.00,9,  -999.00,9, -999.000,9, -999.000,9,       -999,9,   2093.7,2,   2319.4,2,  -999.00,9,  -999.00,9,   5.8649
  58GS20090528,   GIN,   293,  1,     18,20092106,0746, 77.0010,  11.9990,  762,     15.1,   5.7660,  34.9404,2,  34.9346,2,   -999.0,9,     1.87,2,     2.66,2,     0.09,2,     0.24,2, -999.000,9, -999.000,9,       -999,9,   -999.0,9,   -999.0,9,     2.39,2,     0.40,2,   5.7647
  58GS20090528,   GIN,   293,  1,     19,20092106,0746, 77.0010,  11.9990,  762,     15.4,   5.7660,  34.9411,2,-999.0000,9,   -999.0,9,  -999.00,9,  -999.00,9,  -999.00,9,  -999.00,9, -999.000,9, -999.000,9,       -999,9,   -999.0,9,   -999.0,9,  -999.00,9,  -999.00,9,   5.7647
  58GS20090528,   GIN,   293,  1,     20,20092106,0746, 77.0010,  11.9990,  762,     10.2,   5.7570,  34.9373,2,  34.9349,2,   -999.0,9,     1.85,2,     2.63,2,     0.08,2,     0.24,2, -999.000,9, -999.000,9,       -999,9,   -999.0,9,   -999.0,9,     2.23,2,     0.40,2,   5.7562
  58GS20090528,   GIN,   293,  1,     21,20092106,0746, 77.0010,  11.9990,  762,     10.4,   5.7560,  34.9361,2,-999.0000,9,   -999.0,9,  -999.00,9,  -999.00,9,  -999.00,9,  -999.00,9, -999.000,9, -999.000,9,       -999,9,   -999.0,9,   -999.0,9,  -999.00,9,  -999.00,9,   5.7551
  58GS20090528,   GIN,   293,  1,     22,20092106,0746, 77.0010,  11.9990,  762,      5.1,   5.7540,  34.9358,2,  34.9331,2,   -999.0,9,     1.86,2,     2.63,2,     0.09,2,     0.24,2, -999.000,9, -999.000,9,       -999,9,   -999.0,9,   -999.0,9,     2.29,2,     0.38,2,   5.7536
  58GS20090528,   GIN,   293,  1,     23,20092106,0746, 77.0010,  11.9990,  762,      5.2,   5.7540,  34.9360,2,-999.0000,9,    333.4,2,  -999.00,9,  -999.00,9,  -999.00,9,  -999.00,9, -999.000,9,    2.838,2,       -999,9,   2086.2,2,   2316.3,2,  -999.00,9,  -999.00,9,   5.7536
  58GS20090528,   GIN,   294,  1,      1,20092106,1050, 77.0000,  13.0020,  331,    320.9,   3.8800,  35.0511,2,-999.0000,9,    299.4,2,     5.29,2,    11.51,2,     0.12,2,     0.82,2, -999.000,9,    2.740,2,       -999,9,   2152.3,2,   2311.4,2,  -999.00,9,  -999.00,9,   3.8574
  58GS20090528,   GIN,   294,  1,      2,20092106,1050, 77.0000,  13.0020,  331,    300.6,   4.0260,  35.0512,2,-999.0000,9,    298.8,2,     5.13,2,    11.43,2,     0.12,2,     0.81,2, -999.000,9, -999.000,9,       -999,9,   2152.4,2,   2312.7,2,  -999.00,9,  -999.00,9,   4.0045
  58GS20090528,   GIN,   294,  1,      3,20092106,1050, 77.0000,  13.0020,  331,    200.8,   4.4830,  35.0653,2,-999.0000,9,    297.6,2,     4.67,2,    10.73,2,     0.14,2,     0.78,2, -999.000,9,    2.804,2,       -999,9,   2148.9,2,   2314.5,2,  -999.00,9,  -999.00,9,   4.4681
  58GS20090528,   GIN,   294,  1,      4,20092106,1050, 77.0000,  13.0020,  331,    150.2,   4.9200,  35.0935,2,-999.0000,9,    298.0,2,     4.48,2,    10.55,2,     0.13,2,     0.76,2, -999.000,9,    2.734,2,       -999,9,   2148.5,2,   2317.0,2,  -999.00,9,  -999.00,9,   4.9084
  58GS20090528,   GIN,   294,  1,      5,20092106,1050, 77.0000,  13.0020,  331,    125.1,   5.0390,  35.1001,2,-999.0000,9,   -999.0,9,     4.36,2,    10.34,2,     0.13,2,     0.76,2, -999.000,9, -999.000,9,       -999,9,   -999.0,9,   -999.0,9,  -999.00,9,  -999.00,9,   5.0292
  58GS20090528,   GIN,   294,  1,      6,20092106,1050, 77.0000,  13.0020,  331,     99.9,   4.9990,  35.0746,2,-999.0000,9,    301.4,2,     3.46,2,     9.34,2,     0.15,2,     0.76,2, -999.000,9,    2.781,2,       -999,9,   2140.7,2,   2313.9,2,     0.27,2,     0.28,2,   4.9912
  58GS20090528,   GIN,   294,  1,      7,20092106,1050, 77.0000,  13.0020,  331,    100.0,   4.9030,  35.0545,2,-999.0000,9,   -999.0,9,  -999.00,9,  -999.00,9,  -999.00,9,  -999.00,9, -999.000,9, -999.000,9,       -999,9,   -999.0,9,   -999.0,9,  -999.00,9,  -999.00,9,   4.8953
  58GS20090528,   GIN,   294,  1,      8,20092106,1050, 77.0000,  13.0020,  331,     74.7,   5.2050,  35.0653,2,-999.0000,9,    302.9,2,     3.02,2,     8.65,2,     0.14,2,     0.68,2, -999.000,9,    2.744,2,       -999,9,   2135.8,2,   2316.5,2,     0.19,2,     0.04,2,   5.1991
  58GS20090528,   GIN,   294,  1,      9,20092106,1050, 77.0000,  13.0020,  331,     75.0,   5.2570,  35.0580,2,-999.0000,9,   -999.0,9,  -999.00,9,  -999.00,9,  -999.00,9,  -999.00,9, -999.000,9, -999.000,9,       -999,9,   -999.0,9,   -999.0,9,  -999.00,9,  -999.00,9,   5.2510
  58GS20090528,   GIN,   294,  1,     10,20092106,1050, 77.0000,  13.0020,  331,     50.3,   4.8290,  34.9664,2,-999.0000,9,    322.6,2,     1.31,2,     5.39,2,     0.12,2,     0.50,2, -999.000,9,    2.864,2,       -999,9,   2114.0,2,   2311.5,2,     0.91,2,     0.56,2,   4.8252
  58GS20090528,   GIN,   294,  1,     11,20092106,1050, 77.0000,  13.0020,  331,     50.5,   4.6280,  34.9122,2,-999.0000,9,   -999.0,9,  -999.00,9,  -999.00,9,  -999.00,9,  -999.00,9, -999.000,9, -999.000,9,       -999,9,   -999.0,9,   -999.0,9,  -999.00,9,  -999.00,9,   4.6243
  58GS20090528,   GIN,   294,  1,     12,20092106,1050, 77.0000,  13.0020,  331,     30.0,   4.2140,  34.8152,2,-999.0000,9,   -999.0,9,     1.01,2,     3.35,2,     0.09,2,     0.32,2, -999.000,9, -999.000,9,       -999,9,   -999.0,9,   -999.0,9,     2.51,2,     0.91,2,   4.2119
  58GS20090528,   GIN,   294,  1,     13,20092106,1050, 77.0000,  13.0020,  331,     30.0,   4.1680,  34.7874,2,-999.0000,9,    345.0,2,  -999.00,9,  -999.00,9,  -999.00,9,  -999.00,9, -999.000,9,    2.959,2,       -999,9,   2088.5,2,   2304.0,2,  -999.00,9,  -999.00,9,   4.1659
  58GS20090528,   GIN,   294,  1,     14,20092106,1050, 77.0000,  13.0020,  331,     24.3,   4.7510,  34.8199,2,-999.0000,9,   -999.0,9,     0.96,2,     0.82,2,     0.04,2,     0.17,2, -999.000,9, -999.000,9,       -999,9,   -999.0,9,   -999.0,9,     3.59,2,     0.95,2,   4.7492
  58GS20090528,   GIN,   294,  1,     15,20092106,1050, 77.0000,  13.0020,  331,     24.4,   4.7910,  34.8275,2,-999.0000,9,   -999.0,9,  -999.00,9,  -999.00,9,  -999.00,9,  -999.00,9, -999.000,9, -999.000,9,       -999,9,   -999.0,9,   -999.0,9,  -999.00,9,  -999.00,9,   4.7892
  58GS20090528,   GIN,   294,  1,     16,20092106,1050, 77.0000,  13.0020,  331,     14.9,   4.7070,  34.7720,2,-999.0000,9,   -999.0,9,     0.74,2,     0.07,2,     0.01,2,     0.07,2, -999.000,9, -999.000,9,       -999,9,   -999.0,9,   -999.0,9,     3.09,2,     0.77,2,   4.7059
  58GS20090528,   GIN,   294,  1,     17,20092106,1050, 77.0000,  13.0020,  331,     14.9,   4.6540,  34.7392,2,-999.0000,9,   -999.0,9,  -999.00,9,  -999.00,9,  -999.00,9,  -999.00,9, -999.000,9, -999.000,9,       -999,9,   -999.0,9,   -999.0,9,  -999.00,9,  -999.00,9,   4.6529
  58GS20090528,   GIN,   294,  1,     18,20092106,1050, 77.0000,  13.0020,  331,     10.3,   4.6470,  34.7350,2,-999.0000,9,   -999.0,9,     0.57,2,     0.04,2,     0.02,2,     0.05,2, -999.000,9, -999.000,9,       -999,9,   -999.0,9,   -999.0,9,     1.01,2,     0.33,2,   4.6462
  58GS20090528,   GIN,   294,  1,     19,20092106,1050, 77.0000,  13.0020,  331,     10.3,   4.5900,  34.7037,2,-999.0000,9,   -999.0,9,  -999.00,9,  -999.00,9,  -999.00,9,  -999.00,9, -999.000,9, -999.000,9,       -999,9,   -999.0,9,   -999.0,9,  -999.00,9,  -999.00,9,   4.5892
  58GS20090528,   GIN,   294,  1,     20,20092106,1050, 77.0000,  13.0020,  331,      4.3,   4.5480,  34.6757,2,-999.0000,9,    363.8,2,     0.42,2,     0.04,2,     0.01,2,     0.05,2, -999.000,9,    3.033,6,       -999,9,   2032.2,2,   2299.1,2,     0.58,2,     0.17,2,   4.5477
  58GS20090528,   GIN,   294,  1,     21,20092106,1050, 77.0000,  13.0020,  331,      4.1,   4.5490,  34.6759,2,-999.0000,9,   -999.0,9,  -999.00,9,  -999.00,9,  -999.00,9,  -999.00,9, -999.000,9, -999.000,9,       -999,9,   -999.0,9,   -999.0,9,  -999.00,9,  -999.00,9,   4.5487
  58GS20090528,   GIN,   295,  1,      1,20092106,1302, 77.0000,  14.0020,   96,     85.5,   4.1320,  34.9739,2,  34.9681,2,    301.9,2,     3.81,2,     9.48,2,     0.14,2,     0.72,2, -999.000,9,    2.752,2,       -999,9,   2143.7,2,   2310.2,2,     0.24,2,     0.28,2,   4.1260
  58GS20090528,   GIN,   295,  1,      2,20092106,1302, 77.0000,  14.0020,   96,     75.3,   4.0820,  34.9655,2,  34.9678,2,    302.0,2,     3.82,2,     9.51,2,     0.15,2,     0.72,2, -999.000,9, -999.000,9,       -999,9,   2144.9,2,   2309.2,2,     0.12,2,     0.13,2,   4.0767
  58GS20090528,   GIN,   295,  1,      3,20092106,1302, 77.0000,  14.0020,   96,     74.9,   4.0160,  34.9536,2,  34.7525,2,   -999.0,9,  -999.00,9,  -999.00,9,  -999.00,9,  -999.00,9, -999.000,9, -999.000,9,       -999,9,   -999.0,9,   -999.0,9,  -999.00,9,  -999.00,9,   4.0108
  58GS20090528,   GIN,   295,  1,      4,20092106,1302, 77.0000,  14.0020,   96,     50.0,   2.6100,  34.7366,2,  34.6464,2,    314.2,2,     2.38,2,     7.09,2,     0.15,2,     0.65,2, -999.000,9, -999.000,9,       -999,9,   2135.3,2,   2299.3,2,     0.28,2,     0.32,2,   2.6071
  58GS20090528,   GIN,   295,  1,      5,20092106,1302, 77.0000,  14.0020,   96,     50.1,   2.6030,  34.7341,2,  34.5669,2,   -999.0,9,  -999.00,9,  -999.00,9,  -999.00,9,  -999.00,9, -999.000,9, -999.000,9,       -999,9,   -999.0,9,   -999.0,9,  -999.00,9,  -999.00,9,   2.6001
  58GS20090528,   GIN,   295,  1,      6,20092106,1302, 77.0000,  14.0020,   96,     29.8,   2.3930,  34.5839,2,  34.5053,2,    339.4,2,     1.02,2,     4.45,2,     0.12,2,     0.44,2, -999.000,9, -999.000,9,       -999,9,   2105.1,2,   2293.5,2,     0.96,2,     0.41,2,   2.3914
  58GS20090528,   GIN,   295,  1,      7,20092106,1302, 77.0000,  14.0020,   96,     29.9,   2.3900,  34.5813,2,  34.4675,2,   -999.0,9,  -999.00,9,  -999.00,9,  -999.00,9,  -999.00,9, -999.000,9, -999.000,9,       -999,9,   -999.0,9,   -999.0,9,  -999.00,9,  -999.00,9,   2.3884
  58GS20090528,   GIN,   295,  1,      8,20092106,1302, 77.0000,  14.0020,   96,     24.6,   2.4030,  34.5527,2,  34.4266,2,   -999.0,9,     0.45,2,     2.69,2,     0.10,2,     0.29,2, -999.000,9, -999.000,9,       -999,9,   -999.0,9,   -999.0,9,     2.73,2,     0.76,2,   2.4016
  58GS20090528,   GIN,   295,  1,      9,20092106,1302, 77.0000,  14.0020,   96,     24.8,   2.4100,  34.5454,2,-999.0000,9,   -999.0,9,  -999.00,9,  -999.00,9,  -999.00,9,  -999.00,9, -999.000,9, -999.000,9,       -999,9,   -999.0,9,   -999.0,9,  -999.00,9,  -999.00,9,   2.4086
  58GS20090528,   GIN,   295,  1,     10,20092106,1302, 77.0000,  14.0020,   96,     14.9,   2.5200,  34.5032,2,-999.0000,9,   -999.0,9,     0.29,2,     1.01,2,     0.06,2,     0.14,2, -999.000,9, -999.000,9,       -999,9,   -999.0,9,   -999.0,9,     3.41,2,     0.66,2,   2.5192
  58GS20090528,   GIN,   295,  1,     11,20092106,1302, 77.0000,  14.0020,   96,     15.1,   2.5380,  34.5012,2,-999.0000,9,   -999.0,9,  -999.00,9,  -999.00,9,  -999.00,9,  -999.00,9, -999.000,9, -999.000,9,       -999,9,   -999.0,9,   -999.0,9,  -999.00,9,  -999.00,9,   2.5371
  58GS20090528,   GIN,   295,  1,     12,20092106,1302, 77.0000,  14.0020,   96,      9.8,   2.6360,  34.4744,2,-999.0000,9,   -999.0,9,     0.24,2,     0.46,2,     0.08,2,     0.08,2, -999.000,9, -999.000,9,       -999,9,   -999.0,9,   -999.0,9,     2.66,2,     0.56,2,   2.6354
  58GS20090528,   GIN,   295,  1,     13,20092106,1302, 77.0000,  14.0020,   96,      9.9,   2.7240,  34.4477,2,-999.0000,9,   -999.0,9,  -999.00,9,  -999.00,9,  -999.00,9,  -999.00,9, -999.000,9, -999.000,9,       -999,9,   -999.0,9,   -999.0,9,  -999.00,9,  -999.00,9,   2.7234
  58GS20090528,   GIN,   295,  1,     14,20092106,1302, 77.0000,  14.0020,   96,      4.8,   2.7580,  34.4293,2,-999.0000,9,    366.2,2,     0.33,2,     0.63,2,     0.06,2,     0.12,2, -999.000,9, -999.000,9,       -999,9,   -999.0,9,   2281.7,2,     1.25,2,     0.32,2,   2.7577
  58GS20090528,   GIN,   295,  1,     15,20092106,1302, 77.0000,  14.0020,   96,      4.9,   2.7620,  34.4279,2,-999.0000,9,   -999.0,9,  -999.00,9,  -999.00,9,  -999.00,9,  -999.00,9, -999.000,9, -999.000,9,       -999,9,   -999.0,9,   -999.0,9,  -999.00,9,  -999.00,9,   2.7617