BOTTLE,20120326PRINUNIVRMK
EXPOCODE,SECT_ID,STNNBR,CASTNO,BTLNBR,DATE,TIME,LATITUDE,LONGITUDE,DEPTH,CTDPRS,CTDTMP,CTDSAL,CTDSAL_FLAG_W,SALNTY,SALNTY_FLAG_W,OXYGEN,OXYGEN_FLAG_W,SILCAT,SILCAT_FLAG_W,NITRAT,NITRAT_FLAG_W,NITRIT,NITRIT_FLAG_W,PHSPHT,PHSPHT_FLAG_W,CFC-11,CFC-11_FLAG_W,CFC-12,CFC-12_FLAG_W,SF6,SF6_FLAG_W,TCARBN,TCARBN_FLAG_W,ALKALI,ALKALI_FLAG_W,CHLORA,CHLORA_FLAG_W,PHAEO,PHAEO_FLAG_W,THETA
,,,,,,,,,METERS,DBAR,ITS-90,PSS-78,,PSS-78,,UMOL/KG,,UMOL/KG,,UMOL/KG,,UMOL/KG,,UMOL/KG,,PMOL/KG,,PMOL/KG,,FMOL/KG,,UMOL/KG,,UMOL/KG,,UG/KG,,UG/KG,,DEG C
  58GS20090528,   GIN,   277,  1,      1,20091706,1053, 78.8000,  -0.0030, 2589,     24.9,   3.3640,  34.7280,2,-999.0000,9,   -999.0,9,  -999.00,9,  -999.00,9,  -999.00,9,  -999.00,9, -999.000,9, -999.000,9,       -999,9,   -999.0,9,   -999.0,9,  -999.00,9,  -999.00,9,   3.3624
  58GS20090528,   GIN,   277,  1,      2,20091706,1053, 78.8000,  -0.0030, 2589,     25.0,   3.3270,  34.7105,2,-999.0000,9,   -999.0,9,  -999.00,9,  -999.00,9,  -999.00,9,  -999.00,9, -999.000,9, -999.000,9,       -999,9,   -999.0,9,   -999.0,9,  -999.00,9,  -999.00,9,   3.3254
  58GS20090528,   GIN,   277,  1,      3,20091706,1053, 78.8000,  -0.0030, 2589,     24.9,   3.3420,  34.7112,2,-999.0000,9,   -999.0,9,  -999.00,9,  -999.00,9,  -999.00,9,  -999.00,9, -999.000,9, -999.000,9,       -999,9,   -999.0,9,   -999.0,9,  -999.00,9,  -999.00,9,   3.3404
  58GS20090528,   GIN,   277,  1,      4,20091706,1053, 78.8000,  -0.0030, 2589,     18.5,   3.1270,  34.6109,2,-999.0000,9,   -999.0,9,  -999.00,9,  -999.00,9,  -999.00,9,  -999.00,9, -999.000,9, -999.000,9,       -999,9,   -999.0,9,   -999.0,9,  -999.00,9,  -999.00,9,   3.1259
  58GS20090528,   GIN,   277,  1,      5,20091706,1053, 78.8000,  -0.0030, 2589,     18.6,   3.1490,  34.6173,2,-999.0000,9,   -999.0,9,  -999.00,9,  -999.00,9,  -999.00,9,  -999.00,9, -999.000,9, -999.000,9,       -999,9,   -999.0,9,   -999.0,9,  -999.00,9,  -999.00,9,   3.1479
  58GS20090528,   GIN,   277,  1,      6,20091706,1053, 78.8000,  -0.0030, 2589,     18.6,   3.1610,  34.6166,2,-999.0000,9,   -999.0,9,  -999.00,9,  -999.00,9,  -999.00,9,  -999.00,9, -999.000,9, -999.000,9,       -999,9,   -999.0,9,   -999.0,9,  -999.00,9,  -999.00,9,   3.1599
  58GS20090528,   GIN,   277,  1,      7,20091706,1053, 78.8000,  -0.0030, 2589,      5.1,   2.9600,  34.5753,2,-999.0000,9,   -999.0,9,  -999.00,9,  -999.00,9,  -999.00,9,  -999.00,9, -999.000,9, -999.000,9,       -999,9,   -999.0,9,   -999.0,9,  -999.00,9,  -999.00,9,   2.9597
  58GS20090528,   GIN,   277,  1,      8,20091706,1053, 78.8000,  -0.0030, 2589,      5.1,   2.9560,  34.5743,2,-999.0000,9,   -999.0,9,  -999.00,9,  -999.00,9,  -999.00,9,  -999.00,9, -999.000,9, -999.000,9,       -999,9,   -999.0,9,   -999.0,9,  -999.00,9,  -999.00,9,   2.9557
  58GS20090528,   GIN,   277,  1,      9,20091706,1053, 78.8000,  -0.0030, 2589,      4.9,   2.9600,  34.5754,2,-999.0000,9,   -999.0,9,  -999.00,9,  -999.00,9,  -999.00,9,  -999.00,9, -999.000,9, -999.000,9,       -999,9,   -999.0,9,   -999.0,9,  -999.00,9,  -999.00,9,   2.9597
  58GS20090528,   GIN,   278,  1,      1,20091706,1116, 78.8000,  -0.0030, 2589,   2499.4,  -0.7840,  34.9125,2,  34.9151,2,    302.0,2,    12.43,2,    14.82,2,     0.01,2,     1.01,2,    0.759,2,    0.338,2,          0,2,   2160.7,2,   2311.7,2,  -999.00,9,  -999.00,9,  -0.9125
  58GS20090528,   GIN,   278,  1,      2,20091706,1116, 78.8000,  -0.0030, 2589,   2000.3,  -0.7780,  34.9069,2,  34.9093,2,    297.3,2,    12.10,2,    14.78,2,     0.01,2,     1.01,2,    1.244,2,    0.489,2,0.672612505,2,   2160.3,2,   2310.2,2,  -999.00,9,  -999.00,9,  -0.8723
  58GS20090528,   GIN,   278,  1,      3,20091706,1116, 78.8000,  -0.0030, 2589,   1500.2,  -0.6500,  34.9008,2,  34.9017,2,    303.6,2,    10.00,2,    14.16,2,     0.01,2,     0.97,2,    2.930,2,    1.069,2, 1.87703681,2,   2164.4,2,   2309.4,2,  -999.00,9,  -999.00,9,  -0.7157
  58GS20090528,   GIN,   278,  1,      4,20091706,1116, 78.8000,  -0.0030, 2589,   1200.0,  -0.4460,  34.8999,2,  34.9023,2,   -999.0,9,     7.72,2,    13.42,2,     0.01,2,     0.93,2,    5.351,2,    1.853,2, 2.47816971,2,   -999.0,9,   -999.0,9,  -999.00,9,  -999.00,9,  -0.4973
  58GS20090528,   GIN,   278,  1,      5,20091706,1116, 78.8000,  -0.0030, 2589,    999.8,  -0.1170,  34.9148,2,  34.9169,2,    316.7,2,     7.15,2,    13.13,2,     0.01,2,     0.91,2,    5.502,2,    2.028,2, 3.42300088,2,   2163.1,2,   2307.0,2,  -999.00,9,  -999.00,9,  -0.1607
  58GS20090528,   GIN,   278,  1,      6,20091706,1116, 78.8000,  -0.0030, 2589,    800.4,   0.4150,  34.9433,2,  34.9453,2,    319.4,2,     6.32,2,    12.68,2,     0.02,2,     0.87,2,    5.961,2,    2.233,2, 3.89636644,2,   2160.2,2,   2309.4,2,  -999.00,9,  -999.00,9,   0.3779
  58GS20090528,   GIN,   278,  1,      7,20091706,1116, 78.8000,  -0.0030, 2589,    599.7,   1.2700,  34.9758,2,  34.9766,2,    314.1,2,     5.71,2,    11.98,2,     0.03,2,     0.84,2,    6.004,2,    2.216,2, 5.30668435,2,   2157.2,2,   2311.8,2,  -999.00,9,  -999.00,9,   1.2390
  58GS20090528,   GIN,   278,  1,      8,20091706,1116, 78.8000,  -0.0030, 2589,    500.3,   1.8900,  35.0034,2,  35.0053,2,    311.8,2,     5.48,2,    12.14,2,     0.02,2,     0.84,2, -999.000,9, -999.000,9,       -999,9,   2156.4,2,   2315.0,2,  -999.00,9,  -999.00,9,   1.8620
  58GS20090528,   GIN,   278,  1,      9,20091706,1116, 78.8000,  -0.0030, 2589,    400.1,   2.4320,  35.0392,2,  35.0426,2,    312.8,2,     5.04,2,    11.88,2,     0.01,2,     0.81,2,    6.173,2,    2.290,2, 3.89951961,2,   2154.5,2,   2316.1,2,  -999.00,9,  -999.00,9,   2.4082
  58GS20090528,   GIN,   278,  1,     10,20091706,1116, 78.8000,  -0.0030, 2589,    300.3,   2.6480,  35.0280,2,  35.0259,2,    310.5,2,     5.06,2,    11.82,2,     0.02,2,     0.81,2, -999.000,9, -999.000,9,       -999,9,   2154.8,2,   2317.9,2,  -999.00,9,  -999.00,9,   2.6299
  58GS20090528,   GIN,   278,  1,     11,20091706,1116, 78.8000,  -0.0030, 2589,    200.5,   3.2550,  35.0428,2,  35.0488,2,    307.7,2,     4.90,2,    11.56,2,     0.04,2,     0.79,2,    6.094,2,    2.309,2, 4.48507821,2,   2150.3,2,   2316.4,2,  -999.00,9,  -999.00,9,   3.2421
  58GS20090528,   GIN,   278,  1,     12,20091706,1116, 78.8000,  -0.0030, 2589,    150.4,   3.5840,  35.0527,2,  35.0528,2,    307.0,2,     4.80,2,    11.30,2,     0.07,2,     0.78,2, -999.000,9, -999.000,9,       -999,9,   2149.2,2,   2314.3,2,  -999.00,9,  -999.00,9,   3.5740
  58GS20090528,   GIN,   278,  1,     13,20091706,1116, 78.8000,  -0.0030, 2589,    124.8,   3.4350,  35.0143,2,  35.0234,2,   -999.0,9,     4.77,2,    11.33,2,     0.04,2,     0.78,2, -999.000,9, -999.000,9,       -999,9,   -999.0,9,   -999.0,9,  -999.00,9,  -999.00,9,   3.4268
  58GS20090528,   GIN,   278,  1,     14,20091706,1116, 78.8000,  -0.0030, 2589,    100.4,   3.7490,  35.0268,2,  35.0217,2,    308.2,2,     4.64,2,    10.91,2,     0.14,2,     0.74,2,    6.005,2,    2.284,2, 4.48205889,2,   2145.8,2,   2314.9,2,     0.05,2,     0.15,2,   3.7422
  58GS20090528,   GIN,   278,  1,     15,20091706,1116, 78.8000,  -0.0030, 2589,     75.0,   3.8730,  35.0314,2,  35.0288,2,    308.9,2,     4.48,2,    10.34,2,     0.23,2,     0.73,2, -999.000,9, -999.000,9,       -999,9,   2144.0,2,   2317.4,2,     0.08,2,     0.16,2,   3.8679
  58GS20090528,   GIN,   278,  1,     16,20091706,1116, 78.8000,  -0.0030, 2589,     75.2,   4.0460,  35.0485,2,  35.0301,2,   -999.0,9,  -999.00,9,  -999.00,9,  -999.00,9,  -999.00,9, -999.000,9, -999.000,9,       -999,9,   -999.0,9,   -999.0,9,  -999.00,9,  -999.00,9,   4.0408
  58GS20090528,   GIN,   278,  1,     17,20091706,1116, 78.8000,  -0.0030, 2589,     50.3,   4.6780,  35.0799,2,  35.0801,2,    321.2,2,     3.88,2,     6.96,2,     0.12,2,     0.54,2,    5.912,2,    2.287,2, 4.37838471,2,   2128.3,2,   2326.7,2,     0.28,2,     0.29,2,   4.6742
  58GS20090528,   GIN,   278,  1,     18,20091706,1116, 78.8000,  -0.0030, 2589,     50.2,   4.6690,  35.0798,2,  35.0800,2,   -999.0,9,  -999.00,9,  -999.00,9,  -999.00,9,  -999.00,9, -999.000,9, -999.000,9,       -999,9,   -999.0,9,   -999.0,9,  -999.00,9,  -999.00,9,   4.6652
  58GS20090528,   GIN,   278,  1,     19,20091706,1116, 78.8000,  -0.0030, 2589,     24.6,   3.9980,  34.8773,2,  34.8862,2,    334.6,2,     3.70,2,     5.61,2,     0.09,2,     0.49,2,    5.988,2,    2.324,2, 3.99209206,2,   2109.2,2,   -999.0,9,     1.92,2,     0.38,2,   3.9963
  58GS20090528,   GIN,   278,  1,     20,20091706,1116, 78.8000,  -0.0030, 2589,     24.8,   3.9680,  34.8631,2,  34.7238,2,   -999.0,9,  -999.00,9,  -999.00,9,  -999.00,9,  -999.00,9, -999.000,9, -999.000,9,       -999,9,   -999.0,9,   -999.0,9,  -999.00,9,  -999.00,9,   3.9663
  58GS20090528,   GIN,   278,  1,     21,20091706,1116, 78.8000,  -0.0030, 2589,     10.9,   3.5700,  34.7157,2,  34.7255,2,   -999.0,9,     3.54,2,     4.98,2,     0.08,2,     0.42,2, -999.000,9, -999.000,9,       -999,9,   -999.0,9,   -999.0,9,     1.91,2,     0.36,2,   3.5693
  58GS20090528,   GIN,   278,  1,     22,20091706,1116, 78.8000,  -0.0030, 2589,     10.9,   3.5730,  34.7170,2,  34.7121,2,   -999.0,9,  -999.00,9,  -999.00,9,  -999.00,9,  -999.00,9, -999.000,9, -999.000,9,       -999,9,   -999.0,9,   -999.0,9,  -999.00,9,  -999.00,9,   3.5723
  58GS20090528,   GIN,   278,  1,     23,20091706,1116, 78.8000,  -0.0030, 2589,      5.0,   3.5600,  34.7122,2,-999.0000,9,    340.0,2,     3.54,2,     4.94,2,     0.08,2,     0.43,2,    6.091,2,    2.348,2, 3.94712904,2,   2097.2,2,   2620.3,4,     2.23,2,     0.46,2,   3.5597
  58GS20090528,   GIN,   278,  1,     24,20091706,1116, 78.8000,  -0.0030, 2589,      5.0,   3.5790,  34.7138,2,-999.0000,9,   -999.0,9,  -999.00,9,  -999.00,9,  -999.00,9,  -999.00,9, -999.000,9, -999.000,9,       -999,9,   -999.0,9,   -999.0,9,  -999.00,9,  -999.00,9,   3.5787
  58GS20090528,   GIN,   279,  1,      1,20091706,2336, 76.9990,   1.4980, 3209,   3199.2,  -0.7860,  34.9091,2,  34.9116,2,    298.7,2,    12.80,2,    14.91,2,     0.01,2,     1.06,2,    0.865,6,    0.326,6,          0,2,   2160.5,2,   2311.9,2,  -999.00,9,  -999.00,9,  -0.9692
  58GS20090528,   GIN,   279,  1,      2,20091706,2336, 76.9990,   1.4980, 3209,   3000.9,  -0.7920,  34.9094,2,  34.9098,2,    298.5,2,    12.61,2,    14.84,2,     0.01,2,     1.00,2,    0.896,2,    0.318,2,          0,2,   2160.6,2,   2310.7,2,  -999.00,9,  -999.00,9,  -0.9588
  58GS20090528,   GIN,   279,  1,      3,20091706,2336, 76.9990,   1.4980, 3209,   2500.3,  -0.7920,  34.9092,2,  34.9115,2,    298.4,2,    12.11,2,    14.78,2,     0.01,2,     0.99,2,    1.032,2,    0.354,2,0.169557748,2,   2161.5,2,   2311.0,2,  -999.00,9,  -999.00,9,  -0.9204
  58GS20090528,   GIN,   279,  1,      4,20091706,2336, 76.9990,   1.4980, 3209,   2000.4,  -0.7380,  34.9061,2,  34.9107,2,    299.8,2,    11.18,2,    14.57,2,     0.01,2,     1.00,2,    1.746,2,    0.567,2,0.642800225,2,   2160.6,2,   2311.3,2,  -999.00,9,  -999.00,9,  -0.8330
  58GS20090528,   GIN,   279,  1,      5,20091706,2336, 76.9990,   1.4980, 3209,   1501.0,  -0.6180,  34.8982,2,  34.8992,2,    312.5,2,     8.66,2,    13.61,2,     0.01,2,     0.94,2,    4.470,2,    1.395,2, 1.70631195,2,   2163.5,2,   2309.8,2,  -999.00,9,  -999.00,9,  -0.6841
  58GS20090528,   GIN,   279,  1,      6,20091706,2336, 76.9990,   1.4980, 3209,   1200.0,  -0.5160,  34.8989,2,  34.9014,2,    321.4,2,     7.40,2,    13.02,2,     0.01,2,     0.90,2,    5.902,2,    1.797,2, 1.60269756,2,   2163.5,2,   2308.9,2,  -999.00,9,  -999.00,9,  -0.5666
  58GS20090528,   GIN,   279,  1,      7,20091706,2336, 76.9990,   1.4980, 3209,   1000.5,  -0.2800,  34.9171,2,  34.9171,2,    328.2,2,     6.46,2,    12.56,2,     0.01,2,     0.86,2,    6.711,2,    2.155,2,  2.0734575,2,   2162.3,2,   2307.3,2,  -999.00,9,  -999.00,9,  -0.3224
  58GS20090528,   GIN,   279,  1,      8,20091706,2336, 76.9990,   1.4980, 3209,    800.4,  -0.2090,  34.9224,2,  34.9261,2,    329.0,2,     6.25,2,    12.36,2,     0.01,2,     0.85,2,    6.937,2,    2.236,2, 1.67250322,2,   2163.4,2,   2308.0,2,  -999.00,9,  -999.00,9,  -0.2420
  58GS20090528,   GIN,   279,  1,      9,20091706,2336, 76.9990,   1.4980, 3209,    601.0,  -0.1570,  34.9245,2,  34.9248,2,    328.1,2,     6.30,2,    12.52,2,     0.02,2,     0.87,2,    7.040,2, -999.000,9, 1.59383578,2,   2162.0,2,   2309.5,2,  -999.00,9,  -999.00,9,  -0.1809
  58GS20090528,   GIN,   279,  1,     10,20091706,2336, 76.9990,   1.4980, 3209,    500.5,  -0.1080,  34.9263,2,  34.9231,2,    327.0,2,     6.33,2,    12.51,2,     0.01,2,     0.86,2,    6.517,2,    2.240,2, 1.57777962,2,   2161.8,2,   2308.1,2,  -999.00,9,  -999.00,9,  -0.1277
  58GS20090528,   GIN,   279,  1,     11,20091706,2336, 76.9990,   1.4980, 3209,    400.4,   0.0270,  34.9333,2,  34.9364,2,    325.0,2,     6.29,2,    12.55,2,     0.01,2,     0.88,2,    6.575,2,    2.192,2, 1.36578568,2,   2161.5,2,   2309.1,2,  -999.00,9,  -999.00,9,   0.0112
  58GS20090528,   GIN,   279,  1,     12,20091706,2336, 76.9990,   1.4980, 3209,    300.1,   0.1240,  34.9335,2,  34.9308,2,    324.1,2,     6.28,2,    12.54,2,     0.04,2,     0.87,2,    6.700,2,    2.196,2, 1.80151023,2,   2161.3,2,   2311.9,2,  -999.00,9,  -999.00,9,   0.1122
  58GS20090528,   GIN,   279,  1,     13,20091706,2336, 76.9990,   1.4980, 3209,    199.5,   0.3490,  34.9417,2,  34.9474,2,    323.6,2,     6.14,2,    12.30,2,     0.06,2,     0.87,2,    6.877,2,    2.192,2, 1.66901325,2,   2160.2,2,   2312.1,2,  -999.00,9,  -999.00,9,   0.3409
  58GS20090528,   GIN,   279,  1,     14,20091706,2336, 76.9990,   1.4980, 3209,    149.8,   0.5400,  34.9479,2,  34.9497,2,    321.5,2,     5.88,2,    12.01,2,     0.04,2,     0.82,2, -999.000,9, -999.000,9,       -999,9,   2158.6,2,   2310.7,2,  -999.00,9,  -999.00,9,   0.5338
  58GS20090528,   GIN,   279,  1,     15,20091706,2336, 76.9990,   1.4980, 3209,    124.8,   0.8460,  34.9586,2,  34.9614,2,   -999.0,9,     5.75,2,    11.93,2,     0.06,2,     0.82,2, -999.000,9, -999.000,9,       -999,9,   -999.0,9,   -999.0,9,  -999.00,9,  -999.00,9,   0.8405
  58GS20090528,   GIN,   279,  1,     16,20091706,2336, 76.9990,   1.4980, 3209,    100.4,   0.8910,  34.9563,2,  34.9606,2,    323.4,2,     5.63,2,    11.60,2,     0.07,2,     0.81,2,    6.885,2,    2.198,2, 1.82948959,2,   2157.1,2,   2311.6,2,     0.06,2,     0.11,2,   0.8866
  58GS20090528,   GIN,   279,  1,     17,20091706,2336, 76.9990,   1.4980, 3209,     74.8,   0.9730,  34.9434,2,  34.9479,2,    321.7,2,     5.43,2,    11.33,2,     0.07,2,     0.80,2, -999.000,9, -999.000,9,       -999,9,   2154.3,2,   2312.8,2,     0.15,2,     0.12,2,   0.9697
  58GS20090528,   GIN,   279,  1,     18,20091706,2336, 76.9990,   1.4980, 3209,     49.3,   1.3560,  34.9633,2,  34.9699,2,    321.8,2,     5.07,2,    10.77,2,     0.09,2,     0.77,2,    7.013,2,    2.185,2,   2.210565,2,   2151.4,2,   2314.4,2,     0.24,2,     0.15,2,   1.3537
  58GS20090528,   GIN,   279,  1,     19,20091706,2336, 76.9990,   1.4980, 3209,     22.9,   2.0330,  34.9194,2,  34.8979,2,    348.2,2,     3.53,2,     6.24,2,     0.07,2,     0.55,2, -999.000,9, -999.000,9,       -999,9,   2124.5,2,   2311.4,2,     0.85,2,     0.22,2,   2.0318
  58GS20090528,   GIN,   279,  1,     20,20091706,2336, 76.9990,   1.4980, 3209,     23.0,   2.2040,  34.8904,2,-999.0000,9,   -999.0,9,  -999.00,9,  -999.00,9,  -999.00,9,  -999.00,9, -999.000,9, -999.000,9,       -999,9,   -999.0,9,   -999.0,9,  -999.00,9,  -999.00,9,   2.2028
  58GS20090528,   GIN,   279,  1,     21,20091706,2336, 76.9990,   1.4980, 3209,      9.9,   2.0980,  34.7276,2,  34.7365,2,    348.9,2,     2.78,2,     5.14,2,     0.06,2,     0.47,2,    8.048,2,    2.515,2, 4.83593142,2,   2111.4,2,   2304.7,2,     0.80,2,     0.12,2,   2.0975
  58GS20090528,   GIN,   279,  1,     22,20091706,2336, 76.9990,   1.4980, 3209,     10.1,   2.0550,  34.7063,2,-999.0000,9,   -999.0,9,  -999.00,9,  -999.00,9,  -999.00,9,  -999.00,9, -999.000,9, -999.000,9,       -999,9,   -999.0,9,   -999.0,9,  -999.00,9,  -999.00,9,   2.0545
  58GS20090528,   GIN,   279,  1,     23,20091706,2336, 76.9990,   1.4980, 3209,      4.9,   2.0550,  34.7058,2,  34.7073,2,    348.7,2,     2.61,2,     4.87,2,     0.07,2,     0.45,2, -999.000,9, -999.000,9,       -999,9,   2110.1,2,   2300.1,2,     0.84,2,     0.13,2,   2.0547
  58GS20090528,   GIN,   279,  1,     24,20091706,2336, 76.9990,   1.4980, 3209,      5.2,   2.0530,  34.7047,2,-999.0000,9,   -999.0,9,  -999.00,9,  -999.00,9,  -999.00,9,  -999.00,9, -999.000,9, -999.000,9,       -999,9,   -999.0,9,   -999.0,9,  -999.00,9,  -999.00,9,   2.0527