BOTTLE,20120326PRINUNIVRMK
EXPOCODE,SECT_ID,STNNBR,CASTNO,BTLNBR,DATE,TIME,LATITUDE,LONGITUDE,DEPTH,CTDPRS,CTDTMP,CTDSAL,CTDSAL_FLAG_W,SALNTY,SALNTY_FLAG_W,OXYGEN,OXYGEN_FLAG_W,SILCAT,SILCAT_FLAG_W,NITRAT,NITRAT_FLAG_W,NITRIT,NITRIT_FLAG_W,PHSPHT,PHSPHT_FLAG_W,CFC-11,CFC-11_FLAG_W,CFC-12,CFC-12_FLAG_W,SF6,SF6_FLAG_W,TCARBN,TCARBN_FLAG_W,ALKALI,ALKALI_FLAG_W,CHLORA,CHLORA_FLAG_W,PHAEO,PHAEO_FLAG_W,THETA
,,,,,,,,,METERS,DBAR,ITS-90,PSS-78,,PSS-78,,UMOL/KG,,UMOL/KG,,UMOL/KG,,UMOL/KG,,UMOL/KG,,PMOL/KG,,PMOL/KG,,FMOL/KG,,UMOL/KG,,UMOL/KG,,UG/KG,,UG/KG,,DEG C
  58GS20090528,   GIN,   280,  1,      1,20091806,0355, 77.0020,  -0.0020, 3209,   3199.4,  -0.7860,  34.9092,2,  34.9100,2,   -999.0,9,  -999.00,9,  -999.00,9,  -999.00,9,  -999.00,9, -999.000,9, -999.000,9,       -999,9,   -999.0,9,   -999.0,9,  -999.00,9,  -999.00,9,  -0.9692
  58GS20090528,   GIN,   280,  1,      2,20091806,0355, 77.0020,  -0.0020, 3209,   3000.7,  -0.7950,  34.9095,2,  34.9112,2,   -999.0,9,  -999.00,9,  -999.00,9,  -999.00,9,  -999.00,9, -999.000,9, -999.000,9,       -999,9,   -999.0,9,   -999.0,9,  -999.00,9,  -999.00,9,  -0.9617
  58GS20090528,   GIN,   280,  1,      3,20091806,0355, 77.0020,  -0.0020, 3209,   2500.7,  -0.7880,  34.9092,2,  34.9085,2,   -999.0,9,  -999.00,9,  -999.00,9,  -999.00,9,  -999.00,9, -999.000,9, -999.000,9,       -999,9,   -999.0,9,   -999.0,9,  -999.00,9,  -999.00,9,  -0.9165
  58GS20090528,   GIN,   280,  1,      4,20091806,0355, 77.0020,  -0.0020, 3209,   2000.5,  -0.7280,  34.9060,2,  34.9064,2,   -999.0,9,  -999.00,9,  -999.00,9,  -999.00,9,  -999.00,9, -999.000,9, -999.000,9,       -999,9,   -999.0,9,   -999.0,9,  -999.00,9,  -999.00,9,  -0.8231
  58GS20090528,   GIN,   280,  1,      5,20091806,0355, 77.0020,  -0.0020, 3209,   1500.6,  -0.5910,  34.8998,2,  34.9014,2,   -999.0,9,  -999.00,9,  -999.00,9,  -999.00,9,  -999.00,9, -999.000,9, -999.000,9,       -999,9,   -999.0,9,   -999.0,9,  -999.00,9,  -999.00,9,  -0.6574
  58GS20090528,   GIN,   280,  1,      6,20091806,0355, 77.0020,  -0.0020, 3209,   1200.6,  -0.5300,  34.9002,2,  34.9006,2,   -999.0,9,  -999.00,9,  -999.00,9,  -999.00,9,  -999.00,9, -999.000,9, -999.000,9,       -999,9,   -999.0,9,   -999.0,9,  -999.00,9,  -999.00,9,  -0.5805
  58GS20090528,   GIN,   280,  1,      7,20091806,0355, 77.0020,  -0.0020, 3209,   1000.8,  -0.3590,  34.9113,2,  34.9169,2,   -999.0,9,  -999.00,9,  -999.00,9,  -999.00,9,  -999.00,9, -999.000,9, -999.000,9,       -999,9,   -999.0,9,   -999.0,9,  -999.00,9,  -999.00,9,  -0.4008
  58GS20090528,   GIN,   280,  1,      8,20091806,0355, 77.0020,  -0.0020, 3209,    800.7,  -0.2450,  34.9204,2,  34.9227,2,   -999.0,9,  -999.00,9,  -999.00,9,  -999.00,9,  -999.00,9, -999.000,9, -999.000,9,       -999,9,   -999.0,9,   -999.0,9,  -999.00,9,  -999.00,9,  -0.2777
  58GS20090528,   GIN,   280,  1,      9,20091806,0355, 77.0020,  -0.0020, 3209,    600.5,  -0.1980,  34.9228,2,  34.9271,2,   -999.0,9,  -999.00,9,  -999.00,9,  -999.00,9,  -999.00,9, -999.000,9, -999.000,9,       -999,9,   -999.0,9,   -999.0,9,  -999.00,9,  -999.00,9,  -0.2217
  58GS20090528,   GIN,   280,  1,     10,20091806,0355, 77.0020,  -0.0020, 3209,    500.3,  -0.1780,  34.9240,2,  34.9176,2,   -999.0,9,  -999.00,9,  -999.00,9,  -999.00,9,  -999.00,9, -999.000,9, -999.000,9,       -999,9,   -999.0,9,   -999.0,9,  -999.00,9,  -999.00,9,  -0.1974
  58GS20090528,   GIN,   280,  1,     11,20091806,0355, 77.0020,  -0.0020, 3209,    400.7,  -0.1560,  34.9235,2,  34.9292,2,   -999.0,9,  -999.00,9,  -999.00,9,  -999.00,9,  -999.00,9, -999.000,9, -999.000,9,       -999,9,   -999.0,9,   -999.0,9,  -999.00,9,  -999.00,9,  -0.1712
  58GS20090528,   GIN,   280,  1,     12,20091806,0355, 77.0020,  -0.0020, 3209,    300.8,  -0.0400,  34.9296,2,  34.9267,2,   -999.0,9,  -999.00,9,  -999.00,9,  -999.00,9,  -999.00,9, -999.000,9, -999.000,9,       -999,9,   -999.0,9,   -999.0,9,  -999.00,9,  -999.00,9,  -0.0515
  58GS20090528,   GIN,   280,  1,     13,20091806,0355, 77.0020,  -0.0020, 3209,    200.6,   0.1510,  34.9368,2,  34.9244,2,   -999.0,9,  -999.00,9,  -999.00,9,  -999.00,9,  -999.00,9, -999.000,9, -999.000,9,       -999,9,   -999.0,9,   -999.0,9,  -999.00,9,  -999.00,9,   0.1432
  58GS20090528,   GIN,   280,  1,     14,20091806,0355, 77.0020,  -0.0020, 3209,    150.3,   0.1040,  34.9206,2,  34.9159,2,   -999.0,9,  -999.00,9,  -999.00,9,  -999.00,9,  -999.00,9, -999.000,9, -999.000,9,       -999,9,   -999.0,9,   -999.0,9,  -999.00,9,  -999.00,9,   0.0983
  58GS20090528,   GIN,   280,  1,     15,20091806,0355, 77.0020,  -0.0020, 3209,    124.6,   0.1110,  34.9135,2,  34.9293,2,   -999.0,9,  -999.00,9,  -999.00,9,  -999.00,9,  -999.00,9, -999.000,9, -999.000,9,       -999,9,   -999.0,9,   -999.0,9,  -999.00,9,  -999.00,9,   0.1063
  58GS20090528,   GIN,   280,  1,     16,20091806,0355, 77.0020,  -0.0020, 3209,    100.6,   0.4610,  34.9307,2,  34.9437,2,   -999.0,9,  -999.00,9,  -999.00,9,  -999.00,9,  -999.00,9, -999.000,9, -999.000,9,       -999,9,   -999.0,9,   -999.0,9,  -999.00,9,  -999.00,9,   0.4569
  58GS20090528,   GIN,   280,  1,     17,20091806,0355, 77.0020,  -0.0020, 3209,     74.5,   0.5410,  34.9320,2,  34.9403,2,   -999.0,9,  -999.00,9,  -999.00,9,  -999.00,9,  -999.00,9, -999.000,9, -999.000,9,       -999,9,   -999.0,9,   -999.0,9,  -999.00,9,  -999.00,9,   0.5379
  58GS20090528,   GIN,   280,  1,     18,20091806,0355, 77.0020,  -0.0020, 3209,     50.3,   1.1750,  34.9436,2,  34.9350,2,   -999.0,9,  -999.00,9,  -999.00,9,  -999.00,9,  -999.00,9, -999.000,9, -999.000,9,       -999,9,   -999.0,9,   -999.0,9,  -999.00,9,  -999.00,9,   1.1727
  58GS20090528,   GIN,   280,  1,     19,20091806,0355, 77.0020,  -0.0020, 3209,     25.1,   1.5190,  34.9262,2,  34.8981,2,   -999.0,9,  -999.00,9,  -999.00,9,  -999.00,9,  -999.00,9, -999.000,9, -999.000,9,       -999,9,   -999.0,9,   -999.0,9,  -999.00,9,  -999.00,9,   1.5178
  58GS20090528,   GIN,   280,  1,     20,20091806,0355, 77.0020,  -0.0020, 3209,     24.9,   1.4300,  34.8781,2,-999.0000,9,   -999.0,9,  -999.00,9,  -999.00,9,  -999.00,9,  -999.00,9, -999.000,9, -999.000,9,       -999,9,   -999.0,9,   -999.0,9,  -999.00,9,  -999.00,9,   1.4288
  58GS20090528,   GIN,   280,  1,     21,20091806,0355, 77.0020,  -0.0020, 3209,     10.2,   1.3760,  34.7692,2,  34.4448,2,   -999.0,9,  -999.00,9,  -999.00,9,  -999.00,9,  -999.00,9, -999.000,9, -999.000,9,       -999,9,   -999.0,9,   -999.0,9,  -999.00,9,  -999.00,9,   1.3755
  58GS20090528,   GIN,   280,  1,     22,20091806,0355, 77.0020,  -0.0020, 3209,     10.0,   1.7580,  34.5441,2,-999.0000,9,   -999.0,9,  -999.00,9,  -999.00,9,  -999.00,9,  -999.00,9, -999.000,9, -999.000,9,       -999,9,   -999.0,9,   -999.0,9,  -999.00,9,  -999.00,9,   1.7575
  58GS20090528,   GIN,   280,  1,     23,20091806,0355, 77.0020,  -0.0020, 3209,      4.1,   1.9670,  34.3959,2,  34.4263,2,   -999.0,9,  -999.00,9,  -999.00,9,  -999.00,9,  -999.00,9, -999.000,9, -999.000,9,       -999,9,   -999.0,9,   -999.0,9,  -999.00,9,  -999.00,9,   1.9668
  58GS20090528,   GIN,   280,  1,     24,20091806,0355, 77.0020,  -0.0020, 3209,      4.4,   1.9780,  34.3891,2,-999.0000,9,   -999.0,9,  -999.00,9,  -999.00,9,  -999.00,9,  -999.00,9, -999.000,9, -999.000,9,       -999,9,   -999.0,9,   -999.0,9,  -999.00,9,  -999.00,9,   1.9778
  58GS20090528,   GIN,   281,  1,      1,20091806,0700, 77.0020,  -0.0020, 3211,   3200.8,  -0.7850,  34.9092,2,-999.0000,9,    298.3,2,    12.90,2,    14.84,2,     0.02,2,     1.01,2,    0.854,2,    0.281,2,          0,2,   2163.7,2,   2309.7,2,  -999.00,9,  -999.00,9,  -0.9684
  58GS20090528,   GIN,   281,  1,      2,20091806,0700, 77.0020,  -0.0020, 3211,   3000.6,  -0.7940,  34.9096,2,-999.0000,9,    298.4,2,    12.76,2,    14.80,2,     0.01,2,     1.01,2,    0.895,2,    0.292,2, 0.45329479,2,   2161.6,2,   2311.8,2,  -999.00,9,  -999.00,9,  -0.9607
  58GS20090528,   GIN,   281,  1,      3,20091806,0700, 77.0020,  -0.0020, 3211,   2500.3,  -0.7880,  34.9093,2,-999.0000,9,    298.3,2,    12.31,2,    14.85,2,     0.01,2,     1.01,2,    1.033,2,    0.335,2,0.595756586,2,   2164.6,2,   2309.2,2,  -999.00,9,  -999.00,9,  -0.9165
  58GS20090528,   GIN,   281,  1,      4,20091806,0700, 77.0020,  -0.0020, 3211,   2001.3,  -0.7210,  34.9054,2,-999.0000,9,    300.3,2,    11.06,2,    14.48,2,     0.01,2,     0.99,2,    1.996,2,    0.603,2, 1.04635087,2,   2163.7,2,   2308.8,2,  -999.00,9,  -999.00,9,  -0.8163
  58GS20090528,   GIN,   281,  1,      5,20091806,0700, 77.0020,  -0.0020, 3211,   1500.6,  -0.5790,  34.9004,2,-999.0000,9,    330.0,2,     6.93,2,    12.80,2,     0.01,2,     0.83,2,    6.779,2,    2.071,2, 3.34564828,2,   2166.6,2,   2306.1,2,  -999.00,9,  -999.00,9,  -0.6456
  58GS20090528,   GIN,   281,  1,      6,20091806,0700, 77.0020,  -0.0020, 3211,   1200.5,  -0.5230,  34.9002,2,-999.0000,9,    325.4,2,     7.08,2,    12.88,2,     0.01,2,     0.90,2,    6.529,2,    1.991,2, 5.40426908,2,   2166.5,2,   2309.3,2,  -999.00,9,  -999.00,9,  -0.5736
  58GS20090528,   GIN,   281,  1,      7,20091806,0700, 77.0020,  -0.0020, 3211,   1000.2,  -0.3480,  34.9115,2,-999.0000,9,    327.8,2,     6.55,2,    12.57,2,     0.02,2,     0.88,2,    6.759,2,    2.141,2,  5.3933043,2,   2167.1,2,   2307.6,2,  -999.00,9,  -999.00,9,  -0.3898
  58GS20090528,   GIN,   281,  1,      8,20091806,0700, 77.0020,  -0.0020, 3211,    800.6,  -0.2340,  34.9211,2,-999.0000,9,    329.3,2,     6.27,2,    12.38,2,     0.01,2,     0.85,2,    6.763,2,    2.246,2, 3.34743237,2,   2167.2,2,   2310.6,2,  -999.00,9,  -999.00,9,  -0.2668
  58GS20090528,   GIN,   281,  1,      9,20091806,0700, 77.0020,  -0.0020, 3211,    600.6,  -0.1720,  34.9252,2,-999.0000,9,    329.1,2,     6.27,2,    12.34,2,     0.02,2,     0.87,2,    6.367,2,    2.320,2, 4.24779912,2,   2165.5,2,   2310.9,2,  -999.00,9,  -999.00,9,  -0.1958
  58GS20090528,   GIN,   281,  1,     10,20091806,0700, 77.0020,  -0.0020, 3211,    499.9,  -0.2260,  34.9194,2,-999.0000,9,    328.5,2,     6.31,2,    12.62,2,     0.02,2,     0.87,2, -999.000,9, -999.000,9,       -999,9,   2164.3,2,   2310.1,2,  -999.00,9,  -999.00,9,  -0.2452
  58GS20090528,   GIN,   281,  1,     11,20091806,0700, 77.0020,  -0.0020, 3211,    400.3,  -0.1010,  34.9276,2,-999.0000,9,    327.2,2,     6.28,2,    12.58,2,     0.02,2,     0.86,2,    6.801,6,    2.193,6, 4.29034783,2,   2165.3,2,   2311.9,2,  -999.00,9,  -999.00,9,  -0.1164
  58GS20090528,   GIN,   281,  1,     12,20091806,0700, 77.0020,  -0.0020, 3211,    300.6,   0.0050,  34.9306,2,-999.0000,9,    325.4,2,     6.19,2,    12.54,2,     0.02,2,     0.87,2, -999.000,9, -999.000,9,       -999,9,   2164.5,2,   2311.1,2,  -999.00,9,  -999.00,9,  -0.0066
  58GS20090528,   GIN,   281,  1,     13,20091806,0700, 77.0020,  -0.0020, 3211,    200.4,   0.1910,  34.9383,2,-999.0000,9,    323.6,2,     6.11,2,    12.37,2,     0.04,2,     0.86,2,    6.722,2,    2.091,2, 4.28820242,2,   2164.0,2,   2311.4,2,  -999.00,9,  -999.00,9,   0.1832
  58GS20090528,   GIN,   281,  1,     14,20091806,0700, 77.0020,  -0.0020, 3211,    150.6,   0.0770,  34.9144,2,-999.0000,9,    313.6,2,     6.68,2,    12.48,2,     0.02,2,     0.88,2, -999.000,9, -999.000,9,       -999,9,   2163.6,2,   2313.8,2,  -999.00,9,  -999.00,9,   0.0713
  58GS20090528,   GIN,   281,  1,     15,20091806,0700, 77.0020,  -0.0020, 3211,    124.9,   0.3080,  34.9255,2,-999.0000,9,   -999.0,9,     6.45,2,    12.48,2,     0.01,2,     0.87,2, -999.000,9, -999.000,9,       -999,9,   -999.0,9,   -999.0,9,  -999.00,9,  -999.00,9,   0.3031
  58GS20090528,   GIN,   281,  1,     16,20091806,0700, 77.0020,  -0.0020, 3211,    100.4,   0.5980,  34.9447,2,-999.0000,9,    321.1,2,     5.79,2,    11.74,2,     0.06,2,     0.82,2,    6.486,2,    2.087,2, 3.44825859,2,   2158.4,2,   2313.0,2,     0.03,2,     0.14,2,   0.5938
  58GS20090528,   GIN,   281,  1,     17,20091806,0700, 77.0020,  -0.0020, 3211,     74.2,   0.7750,  34.9461,2,-999.0000,9,    314.1,2,     5.87,2,    11.82,2,     0.05,2,     0.86,2, -999.000,9, -999.000,9,       -999,9,   2160.5,2,   2311.6,2,     0.02,2,     0.06,2,   0.7718
  58GS20090528,   GIN,   281,  1,     18,20091806,0700, 77.0020,  -0.0020, 3211,     50.5,   1.0680,  34.9464,2,-999.0000,9,    341.9,2,     3.85,2,     8.60,2,     0.05,2,     0.68,2,    7.246,2,    2.373,2, 4.30518142,2,   2146.5,2,   2315.2,2,     0.13,2,     0.25,2,   1.0657
  58GS20090528,   GIN,   281,  1,     19,20091806,0700, 77.0020,  -0.0020, 3211,     24.5,   1.3560,  34.9085,2,-999.0000,9,    335.1,2,     4.03,2,     9.03,2,     0.07,2,     0.69,2, -999.000,9, -999.000,9,       -999,9,   2143.7,2,   2311.2,2,     0.17,2,     0.30,2,   1.3548
  58GS20090528,   GIN,   281,  1,     20,20091806,0700, 77.0020,  -0.0020, 3211,     24.7,   1.3650,  34.8594,2,-999.0000,9,   -999.0,9,  -999.00,9,  -999.00,9,  -999.00,9,  -999.00,9, -999.000,9, -999.000,9,       -999,9,   -999.0,9,   -999.0,9,  -999.00,9,  -999.00,9,   1.3638
  58GS20090528,   GIN,   281,  1,     21,20091806,0700, 77.0020,  -0.0020, 3211,     10.0,   1.9740,  34.4848,2,-999.0000,9,    363.8,2,     2.12,2,     1.21,2,     0.10,2,     0.16,2,    7.794,2,    2.618,2, 3.94442087,2,   2072.8,2,   2291.5,2,     3.05,2,     0.54,2,   1.9735
  58GS20090528,   GIN,   281,  1,     22,20091806,0700, 77.0020,  -0.0020, 3211,     10.0,   2.0860,  34.4218,2,-999.0000,9,   -999.0,9,  -999.00,9,  -999.00,9,  -999.00,9,  -999.00,9, -999.000,9, -999.000,9,       -999,9,   -999.0,9,   -999.0,9,  -999.00,9,  -999.00,9,   2.0855
  58GS20090528,   GIN,   281,  1,     23,20091806,0700, 77.0020,  -0.0020, 3211,      4.7,   2.0840,  34.4260,2,-999.0000,9,   -999.0,9,     2.07,2,     0.69,2,     0.10,2,     0.12,2, -999.000,9, -999.000,9,       -999,9,   -999.0,9,   -999.0,9,     3.46,2,     0.68,2,   2.0838
  58GS20090528,   GIN,   281,  1,     24,20091806,0700, 77.0020,  -0.0020, 3211,      4.9,   2.0950,  34.4206,2,-999.0000,9,   -999.0,9,  -999.00,9,  -999.00,9,  -999.00,9,  -999.00,9, -999.000,9, -999.000,9,       -999,9,   -999.0,9,   -999.0,9,  -999.00,9,  -999.00,9,   2.0947