BOTTLE,20120326PRINUNIVRMK
EXPOCODE,SECT_ID,STNNBR,CASTNO,BTLNBR,DATE,TIME,LATITUDE,LONGITUDE,DEPTH,CTDPRS,CTDTMP,CTDSAL,CTDSAL_FLAG_W,SALNTY,SALNTY_FLAG_W,OXYGEN,OXYGEN_FLAG_W,SILCAT,SILCAT_FLAG_W,NITRAT,NITRAT_FLAG_W,NITRIT,NITRIT_FLAG_W,PHSPHT,PHSPHT_FLAG_W,CFC-11,CFC-11_FLAG_W,CFC-12,CFC-12_FLAG_W,SF6,SF6_FLAG_W,TCARBN,TCARBN_FLAG_W,ALKALI,ALKALI_FLAG_W,CHLORA,CHLORA_FLAG_W,PHAEO,PHAEO_FLAG_W,THETA
,,,,,,,,,METERS,DBAR,ITS-90,PSS-78,,PSS-78,,UMOL/KG,,UMOL/KG,,UMOL/KG,,UMOL/KG,,UMOL/KG,,PMOL/KG,,PMOL/KG,,FMOL/KG,,UMOL/KG,,UMOL/KG,,UG/KG,,UG/KG,,DEG C
  58GS20090528,   GIN,   257,  1,      1,20091106,1450, 74.5000,  15.9170,  982,    972.2,  -0.8270,  34.9050,2,-999.0000,9,    295.3,2,    12.60,2,    14.90,2,     0.02,2,     1.02,2, -999.000,9, -999.000,9,       -999,9,   2166.4,2,   2302.1,2,  -999.00,9,  -999.00,9,  -0.8636
  58GS20090528,   GIN,   257,  1,      2,20091106,1450, 74.5000,  15.9170,  982,    800.6,  -0.5450,  34.9077,2,-999.0000,9,    296.7,2,    11.43,2,    14.62,2,     0.02,2,     1.01,2, -999.000,9, -999.000,9,       -999,9,   2166.5,2,   2303.8,2,  -999.00,9,  -999.00,9,  -0.5757
  58GS20090528,   GIN,   257,  1,      3,20091106,1450, 74.5000,  15.9170,  982,    599.3,   2.1500,  34.9989,2,-999.0000,9,    302.4,2,     6.36,2,    12.38,2,     0.04,2,     0.87,2, -999.000,9, -999.000,9,       -999,9,   2159.7,2,   2308.5,2,  -999.00,9,  -999.00,9,   2.1148
  58GS20090528,   GIN,   257,  1,      4,20091106,1450, 74.5000,  15.9170,  982,    499.8,   2.3820,  35.0106,2,-999.0000,9,   -999.0,9,     5.70,2,    11.78,2,     0.05,2,     0.82,2, -999.000,9, -999.000,9,       -999,9,   -999.0,9,   -999.0,9,  -999.00,9,  -999.00,9,   2.3521
  58GS20090528,   GIN,   257,  1,      5,20091106,1450, 74.5000,  15.9170,  982,    399.6,   3.1970,  35.0278,2,-999.0000,9,    307.4,2,     4.85,2,    11.10,2,     0.04,2,     0.78,2, -999.000,9, -999.000,9,       -999,9,   2153.7,2,   2312.4,2,  -999.00,9,  -999.00,9,   3.1708
  58GS20090528,   GIN,   257,  1,      6,20091106,1450, 74.5000,  15.9170,  982,    299.7,   3.9730,  35.0628,2,-999.0000,9,   -999.0,9,     4.71,2,    11.22,2,     0.04,2,     0.77,2, -999.000,9, -999.000,9,       -999,9,   -999.0,9,   -999.0,9,  -999.00,9,  -999.00,9,   3.9517
  58GS20090528,   GIN,   257,  1,      7,20091106,1450, 74.5000,  15.9170,  982,    199.9,   4.8990,  35.1036,2,-999.0000,9,    298.4,2,     4.61,2,    11.05,2,     0.13,2,     0.76,2, -999.000,9, -999.000,9,       -999,9,   2146.4,2,   2370.5,4,  -999.00,9,  -999.00,9,   4.8835
  58GS20090528,   GIN,   257,  1,      8,20091106,1450, 74.5000,  15.9170,  982,    150.1,   5.2130,  35.1156,2,-999.0000,9,   -999.0,9,     4.50,2,    10.81,2,     0.16,2,     0.75,2, -999.000,9, -999.000,9,       -999,9,   -999.0,9,   -999.0,9,  -999.00,9,  -999.00,9,   5.2010
  58GS20090528,   GIN,   257,  1,      9,20091106,1450, 74.5000,  15.9170,  982,    124.4,   5.4090,  35.1195,2,-999.0000,9,    298.6,2,     4.35,2,    10.25,2,     0.16,2,     0.72,2, -999.000,9, -999.000,9,       -999,9,   2141.8,2,   2318.6,2,  -999.00,9,  -999.00,9,   5.3989
  58GS20090528,   GIN,   257,  1,     10,20091106,1450, 74.5000,  15.9170,  982,    100.1,   5.6250,  35.1225,2,-999.0000,9,   -999.0,9,     4.22,2,     9.62,2,     0.15,2,     0.75,2, -999.000,9, -999.000,9,       -999,9,   -999.0,9,   -999.0,9,     0.09,2,     0.17,2,   5.6167
  58GS20090528,   GIN,   257,  1,     11,20091106,1450, 74.5000,  15.9170,  982,     74.9,   5.8780,  35.1322,2,-999.0000,9,    303.0,2,     4.01,2,     8.61,2,     0.13,2,     0.63,2, -999.000,9, -999.000,9,       -999,9,   2133.3,2,   2321.3,2,     0.12,2,     0.13,2,   5.8717
  58GS20090528,   GIN,   257,  1,     12,20091106,1450, 74.5000,  15.9170,  982,     50.6,   6.0880,  35.1366,2,-999.0000,9,   -999.0,9,     3.87,2,     7.85,2,     0.13,2,     0.60,2, -999.000,9, -999.000,9,       -999,9,   -999.0,9,   -999.0,9,     0.15,2,     0.20,2,   6.0837
  58GS20090528,   GIN,   257,  1,     13,20091106,1450, 74.5000,  15.9170,  982,     30.0,   6.3160,  35.1339,2,-999.0000,9,    310.6,2,     3.77,2,     7.15,2,     0.11,2,     0.55,2, -999.000,9, -999.000,9,       -999,9,   2124.4,2,   2322.6,2,     0.46,2,     0.46,2,   6.3134
  58GS20090528,   GIN,   257,  1,     14,20091106,1450, 74.5000,  15.9170,  982,     20.2,   6.3450,  35.1354,2,-999.0000,9,   -999.0,9,     3.68,2,     6.60,2,     0.10,2,     0.50,2, -999.000,9, -999.000,9,       -999,9,   -999.0,9,   -999.0,9,     1.23,2,     0.41,2,   6.3432
  58GS20090528,   GIN,   257,  1,     15,20091106,1450, 74.5000,  15.9170,  982,     10.3,   6.4140,  35.1288,2,-999.0000,9,   -999.0,9,     3.68,2,     6.44,2,     0.11,2,     0.50,2, -999.000,9, -999.000,9,       -999,9,   -999.0,9,   -999.0,9,     1.44,2,     0.27,2,   6.4131
  58GS20090528,   GIN,   257,  1,     16,20091106,1450, 74.5000,  15.9170,  982,      4.4,   6.5350,  35.1285,2,-999.0000,9,    317.2,2,     3.69,2,     6.42,2,     0.11,2,     0.50,2, -999.000,9, -999.000,9,       -999,9,   2117.8,2,   2320.5,2,     1.33,2,     0.27,2,   6.5346
  58GS20090528,   GIN,   259,  1,      1,20091106,1834, 74.5030,  16.3380,  288,    263.2,   4.0040,  35.0768,2,-999.0000,9,    300.4,2,     4.98,2,    11.52,2,     0.05,2,     0.79,2, -999.000,9, -999.000,9,       -999,9,   2154.4,2,   2314.3,2,  -999.00,9,  -999.00,9,   3.9853
  58GS20090528,   GIN,   259,  1,      2,20091106,1834, 74.5030,  16.3380,  288,    200.3,   4.9990,  35.1331,2,-999.0000,9,    297.5,2,     4.73,2,    11.18,2,     0.02,2,     0.78,2, -999.000,9, -999.000,9,       -999,9,   2148.8,2,   2317.7,2,  -999.00,9,  -999.00,9,   4.9833
  58GS20090528,   GIN,   259,  1,      3,20091106,1834, 74.5030,  16.3380,  288,    150.2,   5.3890,  35.1464,2,-999.0000,9,   -999.0,9,     4.75,2,    11.19,2,     0.02,2,     0.77,2, -999.000,9, -999.000,9,       -999,9,   -999.0,9,   -999.0,9,  -999.00,9,  -999.00,9,   5.3768
  58GS20090528,   GIN,   259,  1,      4,20091106,1834, 74.5030,  16.3380,  288,    125.4,   5.6270,  35.1528,2,-999.0000,9,    293.5,2,     4.73,2,    11.13,2,     0.05,2,     0.77,2, -999.000,9, -999.000,9,       -999,9,   2146.0,2,   2319.8,2,  -999.00,9,  -999.00,9,   5.6166
  58GS20090528,   GIN,   259,  1,      5,20091106,1834, 74.5030,  16.3380,  288,    100.1,   5.9960,  35.1677,2,-999.0000,9,   -999.0,9,     4.62,2,    10.85,2,     0.06,2,     0.76,2, -999.000,9, -999.000,9,       -999,9,   -999.0,9,   -999.0,9,     0.04,2,     0.17,2,   5.9874
  58GS20090528,   GIN,   259,  1,      6,20091106,1834, 74.5030,  16.3380,  288,     75.2,   6.2770,  35.1694,2,-999.0000,9,    290.4,2,     4.48,2,    10.71,2,     0.08,2,     0.74,2, -999.000,9, -999.000,9,       -999,9,   2145.1,2,   2321.3,2,     0.05,2,     0.15,2,   6.2704
  58GS20090528,   GIN,   259,  1,      7,20091106,1834, 74.5030,  16.3380,  288,     50.1,   6.8650,  35.1295,2,-999.0000,9,   -999.0,9,     3.54,2,     6.10,2,     0.12,2,     0.51,2, -999.000,9, -999.000,9,       -999,9,   -999.0,9,   -999.0,9,     0.35,2,     0.25,2,   6.8604
  58GS20090528,   GIN,   259,  1,      8,20091106,1834, 74.5030,  16.3380,  288,     30.5,   6.9200,  35.1222,2,-999.0000,9,    307.0,2,     3.50,2,     5.77,2,     0.11,2,     0.50,2, -999.000,9, -999.000,9,       -999,9,   2119.4,2,   2320.7,2,     0.39,2,     0.24,2,   6.9172
  58GS20090528,   GIN,   259,  1,      9,20091106,1834, 74.5030,  16.3380,  288,     20.3,   6.9250,  35.1222,2,-999.0000,9,   -999.0,9,     3.47,2,     5.67,2,     0.10,2,     0.47,2, -999.000,9, -999.000,9,       -999,9,   -999.0,9,   -999.0,9,     0.38,2,     0.27,2,   6.9231
  58GS20090528,   GIN,   259,  1,     10,20091106,1834, 74.5030,  16.3380,  288,      9.9,   6.9560,  35.1205,2,-999.0000,9,   -999.0,9,  -999.00,9,  -999.00,9,  -999.00,9,  -999.00,9, -999.000,9, -999.000,9,       -999,9,   -999.0,9,   -999.0,9,     0.43,2,     0.18,2,   6.9551
  58GS20090528,   GIN,   259,  1,     11,20091106,1834, 74.5030,  16.3380,  288,      5.0,   7.1570,  35.0926,2,-999.0000,9,    309.9,2,     3.24,2,     4.43,2,     0.13,2,     0.40,2, -999.000,9, -999.000,9,       -999,9,   2110.2,2,   2314.9,2,     0.47,2,     0.08,2,   7.1565
  58GS20090528,   GIN,   261,  1,      1,20091106,2153, 74.4970,  16.9950,  312,    167.2,   2.6620,  34.9282,2,  34.9042,2,    317.7,2,     3.98,2,     9.64,2,     0.15,2,     0.74,2, -999.000,9, -999.000,9,       -999,9,   2149.6,2,   2306.4,2,  -999.00,9,  -999.00,9,   2.6521
  58GS20090528,   GIN,   261,  1,      2,20091106,2153, 74.4970,  16.9950,  312,    149.7,   2.1440,  34.8556,2,  34.8605,2,    323.0,2,     3.49,2,     8.98,2,     0.16,2,     0.70,2, -999.000,9, -999.000,9,       -999,9,   2148.4,2,   2305.8,2,  -999.00,9,  -999.00,9,   2.1358
  58GS20090528,   GIN,   261,  1,      3,20091106,2153, 74.4970,  16.9950,  312,    123.1,   2.1820,  34.8237,2,  34.8234,2,   -999.0,9,     2.25,2,     7.56,2,     0.14,2,     0.61,2, -999.000,9, -999.000,9,       -999,9,   -999.0,9,   -999.0,9,  -999.00,9,  -999.00,9,   2.1753
  58GS20090528,   GIN,   261,  1,      4,20091106,2153, 74.4970,  16.9950,  312,    100.3,   3.7240,  34.9869,2,  34.9221,2,    319.3,2,     3.32,2,     8.94,2,     0.12,2,     0.67,2, -999.000,9, -999.000,9,       -999,9,   2143.3,2,   2309.1,2,     0.12,2,     0.16,2,   3.7172
  58GS20090528,   GIN,   261,  1,      5,20091106,2153, 74.4970,  16.9950,  312,     75.0,   4.8400,  35.0780,2,  35.0811,2,    302.7,2,     4.23,2,    10.27,2,     0.12,2,     0.72,2, -999.000,9, -999.000,9,       -999,9,   2143.8,2,   2317.9,2,     0.12,2,     0.11,2,   4.8343
  58GS20090528,   GIN,   261,  1,      6,20091106,2153, 74.4970,  16.9950,  312,     50.1,   5.3600,  35.1005,2,  35.0962,2,    303.5,2,     3.75,2,     9.67,2,     0.05,2,     0.68,2, -999.000,9, -999.000,9,       -999,9,   2138.9,2,   2315.9,2,     0.22,2,     0.16,2,   5.3560
  58GS20090528,   GIN,   261,  1,      7,20091106,2153, 74.4970,  16.9950,  312,     30.2,   5.4680,  35.0817,2,  35.0923,2,    309.8,2,     3.38,2,     8.31,2,     0.09,2,     0.60,2, -999.000,9, -999.000,9,       -999,9,   2131.6,2,   2318.8,2,     0.31,2,     0.26,2,   5.4656
  58GS20090528,   GIN,   261,  1,      8,20091106,2153, 74.4970,  16.9950,  312,     19.5,   5.5550,  35.0569,2,  35.0648,2,   -999.0,9,     2.48,2,     6.33,2,     0.09,2,     0.47,2, -999.000,9, -999.000,9,       -999,9,   -999.0,9,   -999.0,9,     0.87,2,     0.55,2,   5.5534
  58GS20090528,   GIN,   261,  1,      9,20091106,2153, 74.4970,  16.9950,  312,      9.8,   6.2450,  35.1028,2,  35.0869,2,   -999.0,9,     2.41,2,     5.45,2,     0.09,2,     0.39,2, -999.000,9, -999.000,9,       -999,9,   -999.0,9,   -999.0,9,     1.27,2,     0.46,2,   6.2442
  58GS20090528,   GIN,   261,  1,     10,20091106,2153, 74.4970,  16.9950,  312,      4.5,   6.3040,  35.1107,2,  35.1062,2,    324.5,2,     2.86,2,     5.99,2,     0.10,2,     0.45,2, -999.000,9, -999.000,9,       -999,9,   2111.5,2,   2319.7,2,     1.23,2,     0.37,2,   6.3036
  58GS20090528,   GIN,   262,  1,      1,20091106,2304, 74.5000,  17.2500,  236,    150.3,   2.7150,  34.9103,2,  34.9132,2,   -999.0,9,  -999.00,9,  -999.00,9,  -999.00,9,  -999.00,9, -999.000,9, -999.000,9,       -999,9,   -999.0,9,   -999.0,9,  -999.00,9,  -999.00,9,   2.7061
  58GS20090528,   GIN,   262,  1,      2,20091106,2304, 74.5000,  17.2500,  236,    124.6,   2.7370,  34.9124,2,  34.9137,2,   -999.0,9,  -999.00,9,  -999.00,9,  -999.00,9,  -999.00,9, -999.000,9, -999.000,9,       -999,9,   -999.0,9,   -999.0,9,  -999.00,9,  -999.00,9,   2.7296
  58GS20090528,   GIN,   262,  1,      3,20091106,2304, 74.5000,  17.2500,  236,     99.7,   2.7890,  34.9168,2,  34.9189,2,   -999.0,9,  -999.00,9,  -999.00,9,  -999.00,9,  -999.00,9, -999.000,9, -999.000,9,       -999,9,   -999.0,9,   -999.0,9,  -999.00,9,  -999.00,9,   2.7830
  58GS20090528,   GIN,   262,  1,      4,20091106,2304, 74.5000,  17.2500,  236,     74.8,   2.8690,  34.9137,2,  34.9225,2,   -999.0,9,  -999.00,9,  -999.00,9,  -999.00,9,  -999.00,9, -999.000,9, -999.000,9,       -999,9,   -999.0,9,   -999.0,9,  -999.00,9,  -999.00,9,   2.8645
  58GS20090528,   GIN,   262,  1,      5,20091106,2304, 74.5000,  17.2500,  236,     49.7,   2.4900,  34.8292,2,  34.8328,2,   -999.0,9,  -999.00,9,  -999.00,9,  -999.00,9,  -999.00,9, -999.000,9, -999.000,9,       -999,9,   -999.0,9,   -999.0,9,  -999.00,9,  -999.00,9,   2.4872
  58GS20090528,   GIN,   262,  1,      6,20091106,2304, 74.5000,  17.2500,  236,     30.1,   1.6800,  34.7010,2,  34.7047,2,   -999.0,9,  -999.00,9,  -999.00,9,  -999.00,9,  -999.00,9, -999.000,9, -999.000,9,       -999,9,   -999.0,9,   -999.0,9,  -999.00,9,  -999.00,9,   1.6785
  58GS20090528,   GIN,   262,  1,      7,20091106,2304, 74.5000,  17.2500,  236,     19.9,   2.1270,  34.7141,2,  34.7175,2,   -999.0,9,  -999.00,9,  -999.00,9,  -999.00,9,  -999.00,9, -999.000,9, -999.000,9,       -999,9,   -999.0,9,   -999.0,9,  -999.00,9,  -999.00,9,   2.1259
  58GS20090528,   GIN,   262,  1,      8,20091106,2304, 74.5000,  17.2500,  236,     20.0,   2.3190,  34.6977,2,  34.7227,2,   -999.0,9,  -999.00,9,  -999.00,9,  -999.00,9,  -999.00,9, -999.000,9, -999.000,9,       -999,9,   -999.0,9,   -999.0,9,  -999.00,9,  -999.00,9,   2.3179
  58GS20090528,   GIN,   262,  1,      9,20091106,2304, 74.5000,  17.2500,  236,     10.1,   2.3430,  34.6994,2,  34.7111,2,   -999.0,9,  -999.00,9,  -999.00,9,  -999.00,9,  -999.00,9, -999.000,9, -999.000,9,       -999,9,   -999.0,9,   -999.0,9,  -999.00,9,  -999.00,9,   2.3424
  58GS20090528,   GIN,   262,  1,     10,20091106,2304, 74.5000,  17.2500,  236,      4.9,   2.5280,  34.7023,2,  34.7069,2,   -999.0,9,  -999.00,9,  -999.00,9,  -999.00,9,  -999.00,9, -999.000,9, -999.000,9,       -999,9,   -999.0,9,   -999.0,9,  -999.00,9,  -999.00,9,   2.5277
  58GS20090528,   GIN,   262,  1,     11,20091106,2304, 74.5000,  17.2500,  236,      4.9,   2.5410,  34.7026,2,-999.0000,9,   -999.0,9,  -999.00,9,  -999.00,9,  -999.00,9,  -999.00,9, -999.000,9, -999.000,9,       -999,9,   -999.0,9,   -999.0,9,  -999.00,9,  -999.00,9,   2.5407
  58GS20090528,   GIN,   263,  1,      1,20091106,2347, 74.5000,  17.5000,  236,    124.8,   2.0060,  34.8376,2,-999.0000,9,   -999.0,9,  -999.00,9,  -999.00,9,  -999.00,9,  -999.00,9, -999.000,9, -999.000,9,       -999,9,   -999.0,9,   -999.0,9,  -999.00,9,  -999.00,9,   1.9993
  58GS20090528,   GIN,   263,  1,      2,20091106,2347, 74.5000,  17.5000,  236,     99.7,   2.0040,  34.8378,2,-999.0000,9,   -999.0,9,  -999.00,9,  -999.00,9,  -999.00,9,  -999.00,9, -999.000,9, -999.000,9,       -999,9,   -999.0,9,   -999.0,9,  -999.00,9,  -999.00,9,   1.9987
  58GS20090528,   GIN,   263,  1,      3,20091106,2347, 74.5000,  17.5000,  236,     74.8,   2.0070,  34.8382,2,-999.0000,9,   -999.0,9,  -999.00,9,  -999.00,9,  -999.00,9,  -999.00,9, -999.000,9, -999.000,9,       -999,9,   -999.0,9,   -999.0,9,  -999.00,9,  -999.00,9,   2.0030
  58GS20090528,   GIN,   263,  1,      4,20091106,2347, 74.5000,  17.5000,  236,     50.3,   2.0130,  34.8382,2,-999.0000,9,   -999.0,9,  -999.00,9,  -999.00,9,  -999.00,9,  -999.00,9, -999.000,9, -999.000,9,       -999,9,   -999.0,9,   -999.0,9,  -999.00,9,  -999.00,9,   2.0103
  58GS20090528,   GIN,   263,  1,      5,20091106,2347, 74.5000,  17.5000,  236,     30.1,   2.0340,  34.8372,2,-999.0000,9,   -999.0,9,  -999.00,9,  -999.00,9,  -999.00,9,  -999.00,9, -999.000,9, -999.000,9,       -999,9,   -999.0,9,   -999.0,9,  -999.00,9,  -999.00,9,   2.0324
  58GS20090528,   GIN,   263,  1,      6,20091106,2347, 74.5000,  17.5000,  236,     19.9,   2.9550,  34.8312,2,-999.0000,9,   -999.0,9,  -999.00,9,  -999.00,9,  -999.00,9,  -999.00,9, -999.000,9, -999.000,9,       -999,9,   -999.0,9,   -999.0,9,  -999.00,9,  -999.00,9,   2.9538
  58GS20090528,   GIN,   263,  1,      7,20091106,2347, 74.5000,  17.5000,  236,     10.1,   4.4770,  34.8798,2,-999.0000,9,   -999.0,9,  -999.00,9,  -999.00,9,  -999.00,9,  -999.00,9, -999.000,9, -999.000,9,       -999,9,   -999.0,9,   -999.0,9,  -999.00,9,  -999.00,9,   4.4763
  58GS20090528,   GIN,   263,  1,      8,20091106,2347, 74.5000,  17.5000,  236,      4.8,   4.5250,  34.8960,2,-999.0000,9,   -999.0,9,  -999.00,9,  -999.00,9,  -999.00,9,  -999.00,9, -999.000,9, -999.000,9,       -999,9,   -999.0,9,   -999.0,9,  -999.00,9,  -999.00,9,   4.5246
  58GS20090528,   GIN,   264,  1,      1,20091206,0203, 74.5040,  18.5210,  102,     45.5,   1.9910,  34.6816,2,  34.6843,2,    386.7,2,     0.20,2,     1.92,2,     0.07,2,     0.25,2, -999.000,9, -999.000,9,       -999,9,   2100.0,2,   -999.0,9,     4.61,2,     1.43,2,   1.9886
  58GS20090528,   GIN,   264,  1,      2,20091206,0203, 74.5040,  18.5210,  102,     29.9,   2.0080,  34.6777,2,  34.6844,2,    387.1,2,     0.22,2,     2.06,2,     0.06,2,     0.30,2, -999.000,9, -999.000,9,       -999,9,   2101.5,2,   -999.0,9,     4.56,2,     1.57,2,   2.0064
  58GS20090528,   GIN,   264,  1,      3,20091206,0203, 74.5040,  18.5210,  102,     19.6,   2.0160,  34.6762,2,  34.6798,2,   -999.0,9,  -999.00,9,  -999.00,9,  -999.00,9,  -999.00,9, -999.000,9, -999.000,9,       -999,9,   -999.0,9,   -999.0,9,  -999.00,9,  -999.00,9,   2.0150
  58GS20090528,   GIN,   264,  1,      4,20091206,0203, 74.5040,  18.5210,  102,     19.8,   2.0160,  34.6763,2,-999.0000,9,   -999.0,9,     0.20,2,     1.84,2,     0.07,2,     0.25,2, -999.000,9, -999.000,9,       -999,9,   -999.0,9,   -999.0,9,     4.19,2,     1.36,2,   2.0150
  58GS20090528,   GIN,   264,  1,      5,20091206,0203, 74.5040,  18.5210,  102,     10.1,   2.0250,  34.6752,2,  34.6808,2,   -999.0,9,     0.19,2,     1.89,2,     0.07,2,     0.27,2, -999.000,9, -999.000,9,       -999,9,   -999.0,9,   -999.0,9,     4.13,2,     1.49,2,   2.0245
  58GS20090528,   GIN,   264,  1,      6,20091206,0203, 74.5040,  18.5210,  102,      4.9,   2.0270,  34.6756,2,  34.6808,2,    389.1,2,     0.17,2,     1.69,2,     0.06,2,     0.24,2, -999.000,9, -999.000,9,       -999,9,   2098.6,2,   -999.0,9,     4.45,2,     1.38,2,   2.0267
  58GS20090528,   GIN,   264,  1,      7,20091206,0203, 74.5040,  18.5210,  102,      4.8,   2.0260,  34.6758,2,-999.0000,9,   -999.0,9,     0.18,2,     1.72,2,     0.06,2,     0.25,2, -999.000,9, -999.000,9,       -999,9,   -999.0,9,   -999.0,9,     4.50,2,     1.40,2,   2.0257