BOTTLE,20120326PRINUNIVRMK
EXPOCODE,SECT_ID,STNNBR,CASTNO,BTLNBR,DATE,TIME,LATITUDE,LONGITUDE,DEPTH,CTDPRS,CTDTMP,CTDSAL,CTDSAL_FLAG_W,SALNTY,SALNTY_FLAG_W,OXYGEN,OXYGEN_FLAG_W,SILCAT,SILCAT_FLAG_W,NITRAT,NITRAT_FLAG_W,NITRIT,NITRIT_FLAG_W,PHSPHT,PHSPHT_FLAG_W,CFC-11,CFC-11_FLAG_W,CFC-12,CFC-12_FLAG_W,SF6,SF6_FLAG_W,TCARBN,TCARBN_FLAG_W,ALKALI,ALKALI_FLAG_W,CHLORA,CHLORA_FLAG_W,PHAEO,PHAEO_FLAG_W,THETA
,,,,,,,,,METERS,DBAR,ITS-90,PSS-78,,PSS-78,,UMOL/KG,,UMOL/KG,,UMOL/KG,,UMOL/KG,,UMOL/KG,,PMOL/KG,,PMOL/KG,,FMOL/KG,,UMOL/KG,,UMOL/KG,,UG/KG,,UG/KG,,DEG C
  58GS20090528,   GIN,   242,  1,      1,20090806,0212, 75.0000,   4.0010, 3111,   3000.1,  -0.8240,  34.9103,2,  34.9127,2,    298.8,2,    12.81,2,    14.73,2,     0.01,2,     1.01,2,    0.791,6,    0.391,6,       -999,9,   2160.1,2,   2310.2,2,  -999.00,9,  -999.00,9,  -0.9900
  58GS20090528,   GIN,   242,  1,      2,20090806,0212, 75.0000,   4.0010, 3111,   2499.3,  -0.8370,  34.9110,2,  34.9124,2,    298.7,2,    12.45,2,    14.70,2,     0.01,2,     1.01,2,    0.812,2,    0.384,2,       -999,9,   2160.0,2,   2311.0,2,  -999.00,9,  -999.00,9,  -0.9645
  58GS20090528,   GIN,   242,  1,      3,20090806,0212, 75.0000,   4.0010, 3111,   2000.5,  -0.7940,  34.9101,2,  34.9102,2,    298.2,2,    11.75,2,    14.60,2,     0.01,2,     1.01,2,    1.118,2,    0.530,2,       -999,9,   2160.0,2,   2312.1,2,  -999.00,9,  -999.00,9,  -0.8881
  58GS20090528,   GIN,   242,  1,      4,20090806,0212, 75.0000,   4.0010, 3111,   1500.2,  -0.7050,  34.9036,2,  34.9059,2,    303.8,2,    10.14,2,    14.23,2,     0.03,2,     0.99,2,    2.485,2,    1.135,2,       -999,9,   2160.8,2,   2308.9,2,  -999.00,9,  -999.00,9,  -0.7700
  58GS20090528,   GIN,   242,  1,      5,20090806,0212, 75.0000,   4.0010, 3111,   1200.2,  -0.5930,  34.9023,2,  34.9013,2,   -999.0,9,     7.21,2,    12.83,2,     0.01,2,     0.90,2,    4.245,2,    2.087,2,       -999,9,   -999.0,9,   -999.0,9,  -999.00,9,  -999.00,9,  -0.6429
  58GS20090528,   GIN,   242,  1,      6,20090806,0212, 75.0000,   4.0010, 3111,    999.7,  -0.5820,  34.9011,2,  34.9038,2,    327.4,2,     7.02,2,    12.81,2,     0.01,2,     0.89,2,    5.287,2,    2.608,2,       -999,9,   2163.5,2,   2310.5,2,  -999.00,9,  -999.00,9,  -0.6219
  58GS20090528,   GIN,   242,  1,      7,20090806,0212, 75.0000,   4.0010, 3111,    800.0,  -0.6220,  34.8951,2,  34.9000,2,    331.0,2,     6.69,2,    12.57,2,     0.02,2,     0.87,2,    5.610,2,    2.833,2,       -999,9,   2163.0,2,   2311.4,2,  -999.00,9,  -999.00,9,  -0.6522
  58GS20090528,   GIN,   242,  1,      8,20090806,0212, 75.0000,   4.0010, 3111,    599.9,  -0.6100,  34.8929,2,  34.8961,2,    331.1,2,     6.63,2,    12.51,2,     0.02,2,     0.87,2,    5.847,2,    2.913,2,       -999,9,   2162.8,2,   2308.9,2,  -999.00,9,  -999.00,9,  -0.6316
  58GS20090528,   GIN,   242,  1,      9,20090806,0212, 75.0000,   4.0010, 3111,    500.2,  -0.5860,  34.8929,2,  34.8994,2,    329.6,2,     6.62,2,    12.33,2,     0.02,2,     0.87,2,    5.834,2,    2.803,2,       -999,9,   2163.0,2,   2306.3,2,  -999.00,9,  -999.00,9,  -0.6036
  58GS20090528,   GIN,   242,  1,     10,20090806,0212, 75.0000,   4.0010, 3111,    399.5,  -0.5600,  34.8918,2,  34.8910,2,    331.4,2,     6.54,2,    12.45,2,     0.04,2,     0.86,2,    6.024,2,    2.915,2,       -999,9,   2161.4,2,   2308.1,2,  -999.00,9,  -999.00,9,  -0.5738
  58GS20090528,   GIN,   242,  1,     11,20090806,0212, 75.0000,   4.0010, 3111,    301.2,  -0.5760,  34.8862,2,  34.8896,2,    332.6,2,     6.34,2,    12.24,2,     0.03,2,     0.87,2,    5.998,2,    2.935,2,       -999,9,   2162.7,2,   2308.8,2,  -999.00,9,  -999.00,9,  -0.5861
  58GS20090528,   GIN,   242,  1,     12,20090806,0212, 75.0000,   4.0010, 3111,    200.2,  -0.5860,  34.8788,2,  34.8827,2,    334.7,2,     6.18,2,    12.05,2,     0.04,2,     0.84,2,    6.112,2,    2.883,2,       -999,9,   2161.7,2,   2307.7,2,  -999.00,9,  -999.00,9,  -0.5925
  58GS20090528,   GIN,   242,  1,     13,20090806,0212, 75.0000,   4.0010, 3111,    149.8,  -0.5240,  34.8800,2,  34.8879,2,    330.0,2,     6.23,2,    12.13,2,     0.04,2,     0.83,2,    5.869,2,    2.786,2,       -999,9,   2162.1,2,   2306.7,2,  -999.00,9,  -999.00,9,  -0.5289
  58GS20090528,   GIN,   242,  1,     14,20090806,0212, 75.0000,   4.0010, 3111,    100.2,  -0.4680,  34.8760,2,  34.8704,2,    340.7,2,     5.45,2,    11.46,2,     0.06,2,     0.80,2,    6.414,2,    3.261,2,       -999,9,   2159.3,2,   2307.1,2,     0.17,2,     0.14,2,  -0.4713
  58GS20090528,   GIN,   242,  1,     15,20090806,0212, 75.0000,   4.0010, 3111,     75.4,  -0.2780,  34.8633,2,  34.9148,2,    353.5,2,     3.75,2,     9.98,2,     0.06,2,     0.74,2,    6.615,2,    3.276,2,       -999,9,   2157.3,2,   2312.4,2,     0.46,2,     0.65,2,  -0.2806
  58GS20090528,   GIN,   242,  1,     16,20090806,0212, 75.0000,   4.0010, 3111,     51.0,   0.5050,  34.8857,2,  34.9153,2,    338.0,2,     5.08,2,    10.74,2,     0.07,2,     0.77,2,    6.201,2,    3.218,2,       -999,9,   2154.2,2,   2310.5,2,     0.37,2,     0.66,2,   0.5029
  58GS20090528,   GIN,   242,  1,     17,20090806,0212, 75.0000,   4.0010, 3111,     30.7,   1.5740,  34.9106,2,  34.9263,2,    349.4,2,     4.46,2,     8.56,2,     0.06,2,     0.66,2, -999.000,9, -999.000,9,       -999,9,   2143.3,2,   2311.2,2,     0.60,2,     0.62,2,   1.5725
  58GS20090528,   GIN,   242,  1,     18,20090806,0212, 75.0000,   4.0010, 3111,     20.9,   2.3330,  34.9473,2,  34.9417,2,   -999.0,9,     4.41,2,     8.28,2,     0.07,2,     0.65,2, -999.000,9, -999.000,9,       -999,9,   -999.0,9,   -999.0,9,     0.60,2,     0.38,2,   2.3318
  58GS20090528,   GIN,   242,  1,     19,20090806,0212, 75.0000,   4.0010, 3111,     20.9,   2.0470,  34.9426,2,-999.0000,9,   -999.0,9,  -999.00,9,  -999.00,9,  -999.00,9,  -999.00,9, -999.000,9, -999.000,9,       -999,9,   -999.0,9,   -999.0,9,  -999.00,9,  -999.00,9,   2.0459
  58GS20090528,   GIN,   242,  1,     20,20090806,0212, 75.0000,   4.0010, 3111,     10.1,   2.3960,  34.9538,2,  34.9563,2,   -999.0,9,     4.36,2,     8.03,2,     0.06,2,     0.61,2, -999.000,9, -999.000,9,       -999,9,   -999.0,9,   -999.0,9,     0.82,2,     0.38,2,   2.3954
  58GS20090528,   GIN,   242,  1,     21,20090806,0212, 75.0000,   4.0010, 3111,      4.6,   2.4030,  34.9545,2,  34.9565,2,    344.4,2,     4.40,2,     8.10,2,     0.07,2,     0.62,2,    6.195,2,    3.147,2,       -999,9,   2139.6,2,   2312.3,2,     0.59,2,     0.33,2,   2.4027
  58GS20090528,   GIN,   242,  1,     22,20090806,0212, 75.0000,   4.0010, 3111,      4.5,   2.4010,  34.9547,2,-999.0000,9,   -999.0,9,  -999.00,9,  -999.00,9,  -999.00,9,  -999.00,9, -999.000,9, -999.000,9,       -999,9,   -999.0,9,   -999.0,9,  -999.00,9,  -999.00,9,   2.4008
  58GS20090528,   GIN,   243,  1,      1,20090806,0757, 75.0000,   5.0010, 3122,   3051.2,  -0.8090,  34.9113,2,  34.9123,2,    298.8,2,    12.67,2,    14.55,2,     0.01,2,     1.00,2,    0.790,2,    0.377,2,       -999,9,   2159.2,2,   -999.0,9,  -999.00,9,  -999.00,9,  -0.9795
  58GS20090528,   GIN,   243,  1,      2,20090806,0757, 75.0000,   5.0010, 3122,   2500.3,  -0.8280,  34.9117,2,  34.9123,2,    298.2,2,    12.46,2,    14.58,2,     0.02,2,     1.01,2,    0.821,2,    0.390,2,       -999,9,   2163.0,2,   -999.0,9,  -999.00,9,  -999.00,9,  -0.9557
  58GS20090528,   GIN,   243,  1,      3,20090806,0757, 75.0000,   5.0010, 3122,   2000.3,  -0.8090,  34.9108,2,  34.9110,2,    298.4,2,    11.83,2,    14.56,2,     0.02,2,     1.00,2,    1.022,2,    0.494,2,       -999,9,   2160.8,2,   -999.0,9,  -999.00,9,  -999.00,9,  -0.9029
  58GS20090528,   GIN,   243,  1,      4,20090806,0757, 75.0000,   5.0010, 3122,   1500.5,  -0.7250,  34.9062,2,  34.9112,2,    302.0,2,    10.38,2,    14.05,2,     0.02,2,     0.96,2,    2.075,2,    1.000,2,       -999,9,   2161.2,2,   -999.0,9,  -999.00,9,  -999.00,9,  -0.7898
  58GS20090528,   GIN,   243,  1,      5,20090806,0757, 75.0000,   5.0010, 3122,   1200.2,  -0.6670,  34.8997,2,  34.8997,2,   -999.0,9,     8.85,2,    13.37,2,     0.02,2,     0.93,2,    3.602,2,    1.734,2,       -999,9,   -999.0,9,   -999.0,9,  -999.00,9,  -999.00,9,  -0.7162
  58GS20090528,   GIN,   243,  1,      6,20090806,0757, 75.0000,   5.0010, 3122,   1000.0,  -0.6100,  34.8994,2,  34.8994,2,    323.9,2,     7.36,2,    12.95,2,     0.02,2,     0.90,2,    5.144,2,    2.466,2,       -999,9,   2163.4,2,   -999.0,9,  -999.00,9,  -999.00,9,  -0.6496
  58GS20090528,   GIN,   243,  1,      7,20090806,0757, 75.0000,   5.0010, 3122,    800.5,  -0.5830,  34.8981,2,  34.8967,2,    325.4,2,     7.07,2,    12.72,2,     0.02,2,     0.88,2,    5.357,2,    2.553,2,       -999,9,   2163.0,2,   -999.0,9,  -999.00,9,  -999.00,9,  -0.6135
  58GS20090528,   GIN,   243,  1,      8,20090806,0757, 75.0000,   5.0010, 3122,    600.3,  -0.5450,  34.8970,2,  34.8941,2,    324.4,2,     7.00,2,    12.66,2,     0.02,2,     0.88,2,    5.431,2,    2.642,2,       -999,9,   2164.1,2,   -999.0,9,  -999.00,9,  -999.00,9,  -0.5669
  58GS20090528,   GIN,   243,  1,      9,20090806,0757, 75.0000,   5.0010, 3122,    500.1,  -0.5090,  34.8967,2,  34.8937,2,    325.2,2,     6.88,2,    12.76,2,     0.02,2,     0.88,2,    5.531,2,    2.689,2,       -999,9,   2162.5,2,   -999.0,9,  -999.00,9,  -999.00,9,  -0.5270
  58GS20090528,   GIN,   243,  1,     10,20090806,0757, 75.0000,   5.0010, 3122,    399.5,  -0.4650,  34.8961,2,  34.9002,2,    325.0,2,     6.76,2,    12.65,2,     0.02,2,     0.88,2,    5.522,2,    2.675,2,       -999,9,   2164.9,2,   -999.0,9,  -999.00,9,  -999.00,9,  -0.4791
  58GS20090528,   GIN,   243,  1,     11,20090806,0757, 75.0000,   5.0010, 3122,    300.3,  -0.4660,  34.8911,2,  34.8897,2,    326.4,2,     6.60,2,    12.42,2,     0.03,2,     0.86,2,    5.653,2,    2.732,2,       -999,9,   2161.5,2,   -999.0,9,  -999.00,9,  -999.00,9,  -0.4763
  58GS20090528,   GIN,   243,  1,     12,20090806,0757, 75.0000,   5.0010, 3122,    200.2,  -0.4480,  34.8849,2,  34.8860,2,    329.8,2,     6.36,2,    12.21,2,     0.05,2,     0.85,2,    5.890,2,    2.833,2,       -999,9,   2159.8,2,   -999.0,9,  -999.00,9,  -999.00,9,  -0.4547
  58GS20090528,   GIN,   243,  1,     13,20090806,0757, 75.0000,   5.0010, 3122,    150.4,  -0.3360,  34.8815,2,  34.8839,2,    339.1,2,     5.77,2,    11.42,2,     0.07,2,     0.83,2,    6.411,2,    3.095,2,       -999,9,   2158.7,2,   -999.0,9,  -999.00,9,  -999.00,9,  -0.3411
  58GS20090528,   GIN,   243,  1,     14,20090806,0757, 75.0000,   5.0010, 3122,    100.4,   0.1620,  34.8997,2,  34.8972,2,    335.0,2,     5.66,2,    11.49,2,     0.07,2,     0.81,2,    6.257,2,    3.075,2,       -999,9,   2158.0,2,   -999.0,9,     0.07,2,     0.19,2,   0.1582
  58GS20090528,   GIN,   243,  1,     15,20090806,0757, 75.0000,   5.0010, 3122,     74.5,   0.4100,  34.9008,2,  34.8991,2,    341.1,2,     5.17,2,    10.45,2,     0.08,2,     0.78,2,    6.446,2,    3.143,2,       -999,9,   2154.4,2,   -999.0,9,     0.27,2,     0.49,2,   0.4070
  58GS20090528,   GIN,   243,  1,     16,20090806,0757, 75.0000,   5.0010, 3122,     50.3,   0.6980,  34.9045,2,  34.9081,2,    349.7,2,     4.52,2,     9.24,2,     0.06,2,     0.71,2,    6.436,2,    3.161,2,       -999,9,   2145.5,2,   -999.0,9,     0.57,2,     0.66,2,   0.6959
  58GS20090528,   GIN,   243,  1,     17,20090806,0757, 75.0000,   5.0010, 3122,     29.9,   2.0150,  34.9391,2,  34.9402,2,    348.4,2,     4.05,2,     7.90,2,     0.07,2,     0.61,2,    6.392,2,    3.197,2,       -999,9,   2140.2,2,   -999.0,9,     0.56,2,     0.31,2,   2.0134
  58GS20090528,   GIN,   243,  1,     18,20090806,0757, 75.0000,   5.0010, 3122,     20.1,   2.1820,  34.9390,2,  34.9405,2,   -999.0,9,     4.09,2,     7.90,2,     0.07,2,     0.61,2, -999.000,9, -999.000,9,       -999,9,   -999.0,9,   -999.0,9,     0.72,2,     0.38,2,   2.1809
  58GS20090528,   GIN,   243,  1,     19,20090806,0757, 75.0000,   5.0010, 3122,     20.1,   2.1720,  34.9397,2,  34.9394,2,   -999.0,9,  -999.00,9,  -999.00,9,  -999.00,9,  -999.00,9,    6.390,2,    3.201,2,       -999,9,   -999.0,9,   -999.0,9,  -999.00,9,  -999.00,9,   2.1709
  58GS20090528,   GIN,   243,  1,     20,20090806,0757, 75.0000,   5.0010, 3122,     10.1,   2.2200,  34.9406,2,  34.9434,2,   -999.0,9,     4.14,2,     7.89,2,     0.07,2,     0.60,2, -999.000,9, -999.000,9,       -999,9,   -999.0,9,   -999.0,9,     0.88,2,     0.39,2,   2.2195
  58GS20090528,   GIN,   243,  1,     21,20090806,0757, 75.0000,   5.0010, 3122,      4.8,   2.2220,  34.9408,2,  34.9388,2,    348.2,2,     4.14,2,     7.87,2,     0.07,2,     0.61,2,    6.451,2,    3.199,2,       -999,9,   2140.1,2,   -999.0,9,     0.87,2,     0.42,2,   2.2217
  58GS20090528,   GIN,   243,  1,     22,20090806,0757, 75.0000,   5.0010, 3122,      4.9,   2.2240,  34.9406,2,  34.9374,2,   -999.0,9,  -999.00,9,  -999.00,9,  -999.00,9,  -999.00,9, -999.000,9, -999.000,9,       -999,9,   -999.0,9,   -999.0,9,  -999.00,9,  -999.00,9,   2.2237
  58GS20090528,   GIN,   244,  1,      1,20090806,1704, 74.5000,   5.0010, 3372,   3081.1,  -0.7930,  34.9120,2,  34.9112,2,    298.5,2,    12.57,2,    14.71,2,     0.02,2,     1.01,2, -999.000,9, -999.000,9,       -999,9,   2156.5,2,   2298.6,2,  -999.00,9,  -999.00,9,  -0.9663
  58GS20090528,   GIN,   244,  1,      2,20090806,1704, 74.5000,   5.0010, 3372,   2500.6,  -0.8190,  34.9120,2,  34.9131,2,    298.1,2,    12.39,2,    14.64,2,     0.01,2,     1.00,2, -999.000,9, -999.000,9,       -999,9,   2154.2,2,   2309.8,2,  -999.00,9,  -999.00,9,  -0.9469
  58GS20090528,   GIN,   244,  1,      3,20090806,1704, 74.5000,   5.0010, 3372,   2000.6,  -0.7710,  34.9110,2,  34.9046,2,    298.3,2,    11.48,2,    14.39,2,     0.01,2,     0.98,2, -999.000,9, -999.000,9,       -999,9,   2155.5,2,   2307.9,2,  -999.00,9,  -999.00,9,  -0.8655
  58GS20090528,   GIN,   244,  1,      4,20090806,1704, 74.5000,   5.0010, 3372,   1500.1,  -0.6800,  34.9010,2,  34.9005,2,    307.3,2,     9.36,2,    13.86,2,     0.01,2,     0.95,2, -999.000,9, -999.000,9,       -999,9,   2159.2,2,   2309.3,2,  -999.00,9,  -999.00,9,  -0.7453
  58GS20090528,   GIN,   244,  1,      5,20090806,1704, 74.5000,   5.0010, 3372,   1200.1,  -0.6090,  34.8990,2,  34.8965,2,   -999.0,9,     7.19,2,    12.94,2,     0.01,2,     0.89,2, -999.000,9, -999.000,9,       -999,9,   -999.0,9,   -999.0,9,  -999.00,9,  -999.00,9,  -0.6587
  58GS20090528,   GIN,   244,  1,      6,20090806,1704, 74.5000,   5.0010, 3372,   1000.5,  -0.6200,  34.8954,2,  34.8892,2,    331.5,2,     6.61,2,    12.52,2,     0.01,2,     0.85,2, -999.000,9, -999.000,9,       -999,9,   2158.5,2,   2307.4,2,  -999.00,9,  -999.00,9,  -0.6596
  58GS20090528,   GIN,   244,  1,      7,20090806,1704, 74.5000,   5.0010, 3372,    800.3,  -0.5910,  34.8958,2,  34.8905,2,    328.9,2,     6.69,2,    12.60,2,     0.01,2,     0.86,2, -999.000,9, -999.000,9,       -999,9,   2160.6,2,   2305.6,2,  -999.00,9,  -999.00,9,  -0.6214
  58GS20090528,   GIN,   244,  1,      8,20090806,1704, 74.5000,   5.0010, 3372,    600.1,  -0.5300,  34.8968,2,  34.8963,2,    325.6,2,     6.81,2,    12.73,2,     0.02,2,     0.89,2, -999.000,9, -999.000,9,       -999,9,   2159.9,2,   2304.6,2,  -999.00,9,  -999.00,9,  -0.5520
  58GS20090528,   GIN,   244,  1,      9,20090806,1704, 74.5000,   5.0010, 3372,    499.4,  -0.5150,  34.8951,2,  34.8974,2,    325.6,2,     6.70,2,    12.65,2,     0.02,2,     0.90,2, -999.000,9, -999.000,9,       -999,9,   2158.0,2,   2305.8,2,  -999.00,9,  -999.00,9,  -0.5329
  58GS20090528,   GIN,   244,  1,     10,20090806,1704, 74.5000,   5.0010, 3372,    399.1,  -0.3710,  34.9005,2,  34.9026,2,    322.0,2,     6.79,2,    12.72,2,     0.02,2,     0.89,2, -999.000,9, -999.000,9,       -999,9,   2159.3,2,   2305.1,2,  -999.00,9,  -999.00,9,  -0.3854
  58GS20090528,   GIN,   244,  1,     11,20090806,1704, 74.5000,   5.0010, 3372,    299.4,  -0.4750,  34.8869,2,  34.8885,2,    328.2,2,     6.37,2,    12.27,2,     0.03,2,     0.85,2, -999.000,9, -999.000,9,       -999,9,   2171.8,3,   2305.2,2,  -999.00,9,  -999.00,9,  -0.4853
  58GS20090528,   GIN,   244,  1,     12,20090806,1704, 74.5000,   5.0010, 3372,    199.2,  -0.4730,  34.8794,2,  34.8776,2,    327.7,2,     6.38,2,    12.23,2,     0.04,2,     0.85,2, -999.000,9, -999.000,9,       -999,9,   2156.4,2,   2307.0,2,  -999.00,9,  -999.00,9,  -0.4796
  58GS20090528,   GIN,   244,  1,     13,20090806,1704, 74.5000,   5.0010, 3372,    149.5,  -0.6690,  34.8610,2,  34.8595,2,    340.7,2,     5.78,2,    11.39,2,     0.07,2,     0.81,2, -999.000,9, -999.000,9,       -999,9,   2155.4,2,   2305.3,2,  -999.00,9,  -999.00,9,  -0.6737
  58GS20090528,   GIN,   244,  1,     14,20090806,1704, 74.5000,   5.0010, 3372,    100.0,  -0.4370,  34.8651,2,  34.8659,2,    338.2,2,     5.68,2,    11.51,2,     0.09,2,     0.81,2, -999.000,9, -999.000,9,       -999,9,   2162.9,2,   2306.6,2,     0.04,2,     0.09,2,  -0.4403
  58GS20090528,   GIN,   244,  1,     15,20090806,1704, 74.5000,   5.0010, 3372,     74.8,  -0.3690,  34.8607,2,  34.8521,2,    347.0,2,     5.14,2,    10.70,2,     0.07,2,     0.78,2, -999.000,9, -999.000,9,       -999,9,   2161.9,2,   2305.2,2,     0.18,2,     0.23,2,  -0.3715
  58GS20090528,   GIN,   244,  1,     16,20090806,1704, 74.5000,   5.0010, 3372,     51.1,  -0.3820,  34.8466,2,  34.8443,2,    357.8,2,     4.33,2,     9.43,2,     0.05,2,     0.70,2, -999.000,9, -999.000,9,       -999,9,   2158.4,2,   2306.7,2,     0.32,2,     0.71,2,  -0.3837
  58GS20090528,   GIN,   244,  1,     17,20090806,1704, 74.5000,   5.0010, 3372,     30.2,   0.6540,  34.8626,2,  34.8597,2,    356.2,2,     4.53,2,     8.08,2,     0.06,2,     0.61,2, -999.000,9, -999.000,9,       -999,9,   2146.0,2,   2306.6,2,     0.49,2,     0.60,2,   0.6528
  58GS20090528,   GIN,   244,  1,     18,20090806,1704, 74.5000,   5.0010, 3372,     19.8,   0.9540,  34.8631,2,  34.8605,2,   -999.0,9,     4.56,2,     7.95,2,     0.07,2,     0.61,2, -999.000,9, -999.000,9,       -999,9,   -999.0,9,   -999.0,9,     0.48,2,     0.44,2,   0.9531
  58GS20090528,   GIN,   244,  1,     19,20090806,1704, 74.5000,   5.0010, 3372,     19.8,   1.3500,  34.8583,2,  34.9319,2,   -999.0,9,  -999.00,9,  -999.00,9,  -999.00,9,  -999.00,9, -999.000,9, -999.000,9,       -999,9,   -999.0,9,   -999.0,9,  -999.00,9,  -999.00,9,   1.3491
  58GS20090528,   GIN,   244,  1,     20,20090806,1704, 74.5000,   5.0010, 3372,      9.7,   2.6130,  34.9111,2,-999.0000,9,   -999.0,9,     4.48,2,     7.60,2,     0.07,2,     0.59,2, -999.000,9, -999.000,9,       -999,9,   -999.0,9,   -999.0,9,     0.94,2,     0.59,2,   2.6124
  58GS20090528,   GIN,   244,  1,     21,20090806,1704, 74.5000,   5.0010, 3372,      4.4,   2.8110,  34.9378,2,-999.0000,9,    353.2,2,     4.31,2,     6.04,2,     0.07,2,     0.50,2, -999.000,9, -999.000,9,       -999,9,   -999.0,9,   -999.0,9,     2.28,2,     0.78,2,   2.8107
  58GS20090528,   GIN,   244,  1,     22,20090806,1704, 74.5000,   5.0010, 3372,      4.5,   2.8340,  34.9392,2,-999.0000,9,   -999.0,9,  -999.00,9,  -999.00,9,  -999.00,9,  -999.00,9, -999.000,9, -999.000,9,       -999,9,   2129.6,2,   2312.1,2,  -999.00,9,  -999.00,9,   2.8337