BOTTLE,20120326PRINUNIVRMK
EXPOCODE,SECT_ID,STNNBR,CASTNO,BTLNBR,DATE,TIME,LATITUDE,LONGITUDE,DEPTH,CTDPRS,CTDTMP,CTDSAL,CTDSAL_FLAG_W,SALNTY,SALNTY_FLAG_W,OXYGEN,OXYGEN_FLAG_W,SILCAT,SILCAT_FLAG_W,NITRAT,NITRAT_FLAG_W,NITRIT,NITRIT_FLAG_W,PHSPHT,PHSPHT_FLAG_W,CFC-11,CFC-11_FLAG_W,CFC-12,CFC-12_FLAG_W,SF6,SF6_FLAG_W,TCARBN,TCARBN_FLAG_W,ALKALI,ALKALI_FLAG_W,CHLORA,CHLORA_FLAG_W,PHAEO,PHAEO_FLAG_W,THETA
,,,,,,,,,METERS,DBAR,ITS-90,PSS-78,,PSS-78,,UMOL/KG,,UMOL/KG,,UMOL/KG,,UMOL/KG,,UMOL/KG,,PMOL/KG,,PMOL/KG,,FMOL/KG,,UMOL/KG,,UMOL/KG,,UG/KG,,UG/KG,,DEG C
  58GS20090528,   GIN,   291,  1,      1,20092006,2342, 77.0000,  10.0000, 2040,   2029.6,  -0.8340,  34.9082,2,  34.9111,2,    295.2,2,    13.28,2,    15.13,2,     0.02,2,     1.02,2, -999.000,9,    0.402,2,       -999,9,   2167.8,2,   2304.1,2,  -999.00,9,  -999.00,9,  -0.9294
  58GS20090528,   GIN,   291,  1,      2,20092006,2342, 77.0000,  10.0000, 2040,   1981.1,  -0.8380,  34.9084,2,  34.9124,2,    295.3,2,    13.27,2,    15.08,2,     0.02,2,     1.01,2, -999.000,9,    0.404,2,       -999,9,   2167.7,2,   -999.0,9,  -999.00,9,  -999.00,9,  -0.9302
  58GS20090528,   GIN,   291,  1,      3,20092006,2342, 77.0000,  10.0000, 2040,   1800.2,  -0.8200,  34.9075,2,  34.9105,2,    296.6,2,    12.61,2,    15.03,2,     0.02,2,     1.01,2, -999.000,9,    0.484,2,       -999,9,   2167.4,2,   -999.0,9,  -999.00,9,  -999.00,9,  -0.9012
  58GS20090528,   GIN,   291,  1,      4,20092006,2342, 77.0000,  10.0000, 2040,   1500.2,  -0.7630,  34.9052,2,  34.9077,2,    297.7,2,    11.68,2,    14.83,2,     0.02,2,     1.02,2, -999.000,9,    0.740,2,       -999,9,   2165.2,2,   2299.3,2,  -999.00,9,  -999.00,9,  -0.8273
  58GS20090528,   GIN,   291,  1,      5,20092006,2342, 77.0000,  10.0000, 2040,   1199.7,  -0.6430,  34.9002,2,  34.9012,2,    301.1,2,    10.14,2,    14.61,2,     0.02,2,     1.00,2, -999.000,9,    1.256,2,       -999,9,   2166.9,2,   -999.0,9,  -999.00,9,  -999.00,9,  -0.6924
  58GS20090528,   GIN,   291,  1,      6,20092006,2342, 77.0000,  10.0000, 2040,   1000.2,  -0.5160,  34.8969,2,  34.8959,2,    307.2,2,     8.75,2,    14.05,2,     0.02,2,     0.98,2, -999.000,9,    1.839,2,       -999,9,   2166.8,2,   2297.7,2,  -999.00,9,  -999.00,9,  -0.5564
  58GS20090528,   GIN,   291,  1,      7,20092006,2342, 77.0000,  10.0000, 2040,    801.5,  -0.2290,  34.9008,2,  34.9052,2,    311.2,2,     7.70,2,    13.71,2,     0.03,2,     1.01,2, -999.000,9,    2.279,2,       -999,9,   2167.1,2,   -999.0,9,  -999.00,9,  -999.00,9,  -0.2619
  58GS20090528,   GIN,   291,  1,      8,20092006,2342, 77.0000,  10.0000, 2040,    600.4,   0.6290,  34.9394,2,  34.9375,2,    317.1,2,     6.28,2,    12.62,2,     0.02,2,     0.89,2, -999.000,9,    2.756,2,       -999,9,   2166.1,2,   2302.1,2,  -999.00,9,  -999.00,9,   0.6012
  58GS20090528,   GIN,   291,  1,      9,20092006,2342, 77.0000,  10.0000, 2040,    500.7,   1.5430,  34.9907,2,  34.9815,2,    314.4,2,     5.78,2,    12.56,2,     0.02,2,     0.87,2, -999.000,9, -999.000,9,       -999,9,   2163.7,2,   -999.0,9,  -999.00,9,  -999.00,9,   1.5164
  58GS20090528,   GIN,   291,  1,     10,20092006,2342, 77.0000,  10.0000, 2040,    400.0,   2.3720,  35.0456,2,  35.0424,2,    314.0,2,     5.15,2,    12.01,2,     0.03,2,     0.82,2, -999.000,9,    2.889,2,       -999,9,   2159.2,2,   2309.0,2,  -999.00,9,  -999.00,9,   2.3484
  58GS20090528,   GIN,   291,  1,     11,20092006,2342, 77.0000,  10.0000, 2040,    299.8,   2.8200,  35.0662,2,  35.0657,2,    311.7,2,     4.99,2,    11.82,2,     0.03,2,     0.81,2, -999.000,9, -999.000,9,       -999,9,   2159.3,2,   -999.0,9,  -999.00,9,  -999.00,9,   2.8014
  58GS20090528,   GIN,   291,  1,     12,20092006,2342, 77.0000,  10.0000, 2040,    199.5,   3.3500,  35.0776,2,  35.0772,2,    310.4,2,     5.00,2,    11.10,2,     0.15,2,     0.79,2, -999.000,9,    2.810,2,       -999,9,   2156.1,2,   2310.8,2,  -999.00,9,  -999.00,9,   3.3370
  58GS20090528,   GIN,   291,  1,     13,20092006,2342, 77.0000,  10.0000, 2040,    150.8,   3.7210,  35.0862,2,  35.0828,2,    307.2,2,     4.93,2,    11.43,2,     0.11,2,     0.79,2, -999.000,9, -999.000,9,       -999,9,   2154.4,2,   2312.5,2,  -999.00,9,  -999.00,9,   3.7108
  58GS20090528,   GIN,   291,  1,     14,20092006,2342, 77.0000,  10.0000, 2040,    124.2,   3.9180,  35.0861,2,  35.0842,2,   -999.0,9,     4.89,2,    11.55,2,     0.04,2,     0.80,2, -999.000,9, -999.000,9,       -999,9,   -999.0,9,   -999.0,9,  -999.00,9,  -999.00,9,   3.9094
  58GS20090528,   GIN,   291,  1,     15,20092006,2342, 77.0000,  10.0000, 2040,     98.2,   4.1470,  35.0938,2,  35.0872,2,    303.2,2,     4.87,2,    11.52,2,     0.06,2,     0.79,2, -999.000,9,    2.746,2,       -999,9,   2151.3,2,   2311.8,2,  -999.00,9,  -999.00,9,   4.1400
  58GS20090528,   GIN,   291,  1,     16,20092006,2342, 77.0000,  10.0000, 2040,     75.1,   4.5160,  35.1118,2,  35.1079,2,    302.6,2,     4.79,2,    11.05,2,     0.15,2,     0.77,2, -999.000,9, -999.000,9,       -999,9,   2151.4,2,   2323.5,2,     0.03,2,     0.10,2,   4.5105
  58GS20090528,   GIN,   291,  1,     17,20092006,2342, 77.0000,  10.0000, 2040,     50.0,   4.8870,  35.1235,2,  35.1218,2,    300.6,2,     4.72,2,    10.72,2,     0.14,2,     0.76,2, -999.000,9,    2.651,2,       -999,9,   2149.9,2,   2315.1,2,     0.11,2,     0.12,2,   4.8832
  58GS20090528,   GIN,   291,  1,     18,20092006,2342, 77.0000,  10.0000, 2040,     30.1,   5.8110,  35.1196,2,  35.1223,2,   -999.0,9,     3.97,2,     6.40,2,     0.13,2,     0.53,2, -999.000,9, -999.000,9,       -999,9,   -999.0,9,   -999.0,9,     0.70,2,     0.33,2,   5.8085
  58GS20090528,   GIN,   291,  1,     19,20092006,2342, 77.0000,  10.0000, 2040,     24.8,   5.9760,  35.1126,2,  35.1212,2,    314.5,2,     3.82,2,     6.05,2,     0.12,2,     0.48,2, -999.000,9, -999.000,9,       -999,9,   2121.8,2,   2325.7,2,     0.96,2,     0.42,2,   5.9739
  58GS20090528,   GIN,   291,  1,     20,20092006,2342, 77.0000,  10.0000, 2040,     14.9,   6.2140,  35.1142,2,  35.1107,2,   -999.0,9,     3.61,2,     4.72,2,     0.10,2,     0.40,2, -999.000,9, -999.000,9,       -999,9,   -999.0,9,   -999.0,9,     1.28,2,     0.30,2,   6.2127
  58GS20090528,   GIN,   291,  1,     21,20092006,2342, 77.0000,  10.0000, 2040,     10.3,   6.2070,  35.1159,2,  35.1118,2,   -999.0,9,     3.60,2,     4.61,2,     0.10,2,     0.39,2, -999.000,9, -999.000,9,       -999,9,   -999.0,9,   -999.0,9,     1.44,2,     0.32,2,   6.2061
  58GS20090528,   GIN,   291,  1,     22,20092006,2342, 77.0000,  10.0000, 2040,     10.3,   6.2120,  35.1157,2,-999.0000,9,   -999.0,9,  -999.00,9,  -999.00,9,  -999.00,9,  -999.00,9, -999.000,9, -999.000,9,       -999,9,   -999.0,9,   -999.0,9,  -999.00,9,  -999.00,9,   6.2111
  58GS20090528,   GIN,   291,  1,     23,20092006,2342, 77.0000,  10.0000, 2040,      4.1,   6.2130,  35.1152,2,  35.1097,2,    320.6,2,     3.58,2,     4.63,2,     0.10,2,     0.39,2, -999.000,9,    2.638,6,       -999,9,   2111.1,2,   2323.8,2,     1.42,2,     0.32,2,   6.2126
  58GS20090528,   GIN,   291,  1,     24,20092006,2342, 77.0000,  10.0000, 2040,      3.8,   6.2130,  35.1152,2,-999.0000,9,   -999.0,9,  -999.00,9,  -999.00,9,  -999.00,9,  -999.00,9, -999.000,9, -999.000,9,       -999,9,   -999.0,9,   -999.0,9,  -999.00,9,  -999.00,9,   6.2127
  58GS20090528,   GIN,   292,  1,      1,20092106,0422, 77.0000,  10.9990, 1381,   1370.8,  -0.8730,  34.9074,2,  34.9087,2,    295.1,2,    13.32,2,    15.18,2,     0.03,2,     1.05,2, -999.000,9,    0.407,2,       -999,9,   2163.1,2,   2309.1,2,  -999.00,9,  -999.00,9,  -0.9290
  58GS20090528,   GIN,   292,  1,      2,20092106,0422, 77.0000,  10.9990, 1381,   1200.6,  -0.8310,  34.9064,2,  34.9101,2,    296.7,2,    12.20,2,    14.78,2,     0.02,2,     1.03,2, -999.000,9,    0.573,2,       -999,9,   2163.8,2,   2307.2,2,  -999.00,9,  -999.00,9,  -0.8786
  58GS20090528,   GIN,   292,  1,      3,20092106,0422, 77.0000,  10.9990, 1381,   1000.5,  -0.7260,  34.9027,2,  34.9074,2,    299.5,2,    10.80,2,    14.54,2,     0.02,2,     1.01,2, -999.000,9,    1.017,2,       -999,9,   2164.8,2,   2304.0,2,  -999.00,9,  -999.00,9,  -0.7647
  58GS20090528,   GIN,   292,  1,      4,20092106,0422, 77.0000,  10.9990, 1381,    800.4,  -0.5840,  34.8975,2,  34.8986,2,    313.9,2,     8.11,2,    13.36,2,     0.02,2,     0.95,2, -999.000,9,    2.216,6,       -999,9,   2166.2,2,   -999.0,9,  -999.00,9,  -999.00,9,  -0.6144
  58GS20090528,   GIN,   292,  1,      5,20092106,0422, 77.0000,  10.9990, 1381,    599.9,  -0.0200,  34.9149,2,  34.9183,2,    314.0,2,     7.25,2,    13.23,2,     0.02,2,     0.93,2, -999.000,9,    2.550,2,       -999,9,   2164.9,2,   2303.4,2,  -999.00,9,  -999.00,9,  -0.0446
  58GS20090528,   GIN,   292,  1,      6,20092106,0422, 77.0000,  10.9990, 1381,    500.3,   0.6030,  34.9452,2,  34.9446,2,    318.1,2,     6.32,2,    12.65,2,     0.03,2,     0.89,2, -999.000,9,    2.834,2,       -999,9,   2161.8,2,   -999.0,9,  -999.00,9,  -999.00,9,   0.5804
  58GS20090528,   GIN,   292,  1,      7,20092106,0422, 77.0000,  10.9990, 1381,    400.3,   1.5730,  34.9840,2,  34.9797,2,    308.4,2,     6.18,2,    12.69,2,     0.04,2,     0.89,2, -999.000,9,    2.716,2,       -999,9,   2161.0,2,   2308.6,2,  -999.00,9,  -999.00,9,   1.5520
  58GS20090528,   GIN,   292,  1,      8,20092106,0422, 77.0000,  10.9990, 1381,    300.2,   2.6240,  35.0550,2,  35.0516,2,    311.8,2,     5.12,2,    11.71,2,     0.04,2,     0.81,2, -999.000,9,    2.882,2,       -999,9,   2154.8,2,   -999.0,9,  -999.00,9,  -999.00,9,   2.6059
  58GS20090528,   GIN,   292,  1,      9,20092106,0422, 77.0000,  10.9990, 1381,    200.1,   3.2810,  35.0678,2,  35.0661,2,    307.5,2,     5.00,2,    11.55,2,     0.07,2,     0.80,2, -999.000,9,    2.855,2,       -999,9,   2154.7,2,   2313.8,2,  -999.00,9,  -999.00,9,   3.2680
  58GS20090528,   GIN,   292,  1,     10,20092106,0422, 77.0000,  10.9990, 1381,    150.1,   3.5650,  35.0760,2,  35.0701,2,    307.2,2,     4.96,2,    11.22,2,     0.10,2,     0.81,2, -999.000,9, -999.000,9,       -999,9,   2153.9,2,   2315.8,2,  -999.00,9,  -999.00,9,   3.5550
  58GS20090528,   GIN,   292,  1,     11,20092106,0422, 77.0000,  10.9990, 1381,    124.8,   3.8200,  35.0849,2,  35.0854,2,    309.6,2,     4.81,2,    10.46,2,     0.12,2,     0.77,2, -999.000,9,    2.856,2,       -999,9,   2150.4,2,   2317.0,2,  -999.00,9,  -999.00,9,   3.8114
  58GS20090528,   GIN,   292,  1,     12,20092106,0422, 77.0000,  10.9990, 1381,    100.4,   4.1920,  35.0982,2,  35.0951,2,    302.0,2,     4.83,2,    11.42,2,     0.06,2,     0.79,2, -999.000,9, -999.000,9,       -999,9,   2151.4,2,   2318.1,2,     0.02,2,     0.06,2,   4.1848
  58GS20090528,   GIN,   292,  1,     13,20092106,0422, 77.0000,  10.9990, 1381,     74.8,   4.4910,  35.1064,2,  35.1026,2,    299.3,2,     4.80,2,    11.43,2,     0.05,2,     0.79,2, -999.000,9,    2.763,2,       -999,9,   2149.2,2,   2318.3,2,     0.01,2,     0.07,2,   4.4855
  58GS20090528,   GIN,   292,  1,     14,20092106,0422, 77.0000,  10.9990, 1381,     50.0,   5.0620,  35.1298,2,  35.1292,2,   -999.0,9,     4.67,2,    10.08,2,     0.13,2,     0.74,2, -999.000,9, -999.000,9,       -999,9,   -999.0,9,   -999.0,9,     0.10,2,     0.14,2,   5.0581
  58GS20090528,   GIN,   292,  1,     15,20092106,0422, 77.0000,  10.9990, 1381,     30.6,   5.6440,  35.1375,2,  35.1339,2,   -999.0,9,     4.36,2,     7.69,2,     0.17,2,     0.61,2, -999.000,9, -999.000,9,       -999,9,   -999.0,9,   -999.0,9,     0.32,2,     0.26,2,   5.6415
  58GS20090528,   GIN,   292,  1,     16,20092106,0422, 77.0000,  10.9990, 1381,     30.5,   5.6570,  35.1388,2,-999.0000,9,    307.8,2,  -999.00,9,  -999.00,9,  -999.00,9,  -999.00,9, -999.000,9, -999.000,9,       -999,9,   2133.5,2,   2324.2,2,  -999.00,9,  -999.00,9,   5.6545
  58GS20090528,   GIN,   292,  1,     17,20092106,0422, 77.0000,  10.9990, 1381,     25.6,   5.8220,  35.1331,2,  35.1215,2,   -999.0,9,     3.91,2,     6.03,2,     0.14,2,     0.52,2, -999.000,9, -999.000,9,       -999,9,   -999.0,9,   -999.0,9,     1.03,2,     0.36,2,   5.8199
  58GS20090528,   GIN,   292,  1,     18,20092106,0422, 77.0000,  10.9990, 1381,     25.5,   6.0900,  35.1140,2,-999.0000,9,   -999.0,9,  -999.00,9,  -999.00,9,  -999.00,9,  -999.00,9, -999.000,9, -999.000,9,       -999,9,   -999.0,9,   -999.0,9,  -999.00,9,  -999.00,9,   6.0878
  58GS20090528,   GIN,   292,  1,     19,20092106,0422, 77.0000,  10.9990, 1381,     15.1,   6.0940,  35.1163,2,  35.1110,2,   -999.0,9,     3.66,2,     5.22,2,     0.10,2,     0.43,2, -999.000,9, -999.000,9,       -999,9,   -999.0,9,   -999.0,9,     1.29,2,     0.36,2,   6.0927
  58GS20090528,   GIN,   292,  1,     20,20092106,0422, 77.0000,  10.9990, 1381,     15.0,   6.0960,  35.1162,2,-999.0000,9,   -999.0,9,  -999.00,9,  -999.00,9,  -999.00,9,  -999.00,9, -999.000,9, -999.000,9,       -999,9,   -999.0,9,   -999.0,9,  -999.00,9,  -999.00,9,   6.0947
  58GS20090528,   GIN,   292,  1,     21,20092106,0422, 77.0000,  10.9990, 1381,     10.4,   6.0880,  35.1156,2,  35.1137,2,   -999.0,9,     3.68,2,     5.23,2,     0.11,2,     0.46,2, -999.000,9, -999.000,9,       -999,9,   -999.0,9,   -999.0,9,     1.25,2,     0.32,2,   6.0871
  58GS20090528,   GIN,   292,  1,     22,20092106,0422, 77.0000,  10.9990, 1381,     10.3,   6.0880,  35.1154,2,-999.0000,9,    316.7,2,  -999.00,9,  -999.00,9,  -999.00,9,  -999.00,9, -999.000,9,    2.725,2,       -999,9,   -999.0,9,   2324.7,2,  -999.00,9,  -999.00,9,   6.0871
  58GS20090528,   GIN,   292,  1,     23,20092106,0422, 77.0000,  10.9990, 1381,      5.8,   6.0860,  35.1153,2,  35.1089,2,   -999.0,9,     3.68,2,     5.25,2,     0.10,2,     0.44,2, -999.000,9, -999.000,9,       -999,9,   -999.0,9,   -999.0,9,     1.32,2,     0.38,2,   6.0855
  58GS20090528,   GIN,   292,  1,     24,20092106,0422, 77.0000,  10.9990, 1381,      6.0,   6.0850,  35.1152,2,-999.0000,9,   -999.0,9,  -999.00,9,  -999.00,9,  -999.00,9,  -999.00,9, -999.000,9, -999.000,9,       -999,9,   -999.0,9,   -999.0,9,  -999.00,9,  -999.00,9,   6.0845