BOTTLE,20120326PRINUNIVRMK
EXPOCODE,SECT_ID,STNNBR,CASTNO,BTLNBR,DATE,TIME,LATITUDE,LONGITUDE,DEPTH,CTDPRS,CTDTMP,CTDSAL,CTDSAL_FLAG_W,SALNTY,SALNTY_FLAG_W,OXYGEN,OXYGEN_FLAG_W,SILCAT,SILCAT_FLAG_W,NITRAT,NITRAT_FLAG_W,NITRIT,NITRIT_FLAG_W,PHSPHT,PHSPHT_FLAG_W,CFC-11,CFC-11_FLAG_W,CFC-12,CFC-12_FLAG_W,SF6,SF6_FLAG_W,TCARBN,TCARBN_FLAG_W,ALKALI,ALKALI_FLAG_W,CHLORA,CHLORA_FLAG_W,PHAEO,PHAEO_FLAG_W,THETA
,,,,,,,,,METERS,DBAR,ITS-90,PSS-78,,PSS-78,,UMOL/KG,,UMOL/KG,,UMOL/KG,,UMOL/KG,,UMOL/KG,,PMOL/KG,,PMOL/KG,,FMOL/KG,,UMOL/KG,,UMOL/KG,,UG/KG,,UG/KG,,DEG C
  58GS20090528,   GIN,   251,  1,      1,20091006,1202, 74.5000,  11.6650, 2360,   2350.0,  -0.8140,  34.9094,2,-999.0000,9,    296.0,2,    13.16,2,    14.88,2,     0.01,2,     1.04,2, -999.000,9, -999.000,9,       -999,9,   2165.7,2,   2309.8,2,  -999.00,9,  -999.00,9,  -0.9313
  58GS20090528,   GIN,   251,  1,      2,20091006,1202, 74.5000,  11.6650, 2360,   2000.4,  -0.8110,  34.9084,2,-999.0000,9,    296.6,2,    12.58,2,    14.84,2,     0.01,2,     1.03,2, -999.000,9, -999.000,9,       -999,9,   2164.4,2,   2309.8,2,  -999.00,9,  -999.00,9,  -0.9048
  58GS20090528,   GIN,   251,  1,      3,20091006,1202, 74.5000,  11.6650, 2360,   1499.9,  -0.6920,  34.9020,2,-999.0000,9,    301.5,2,    10.55,2,    14.35,2,     0.01,2,     1.02,2, -999.000,9, -999.000,9,       -999,9,   2165.4,2,   2309.7,2,  -999.00,9,  -999.00,9,  -0.7572
  58GS20090528,   GIN,   251,  1,      4,20091006,1202, 74.5000,  11.6650, 2360,   1199.4,  -0.5530,  34.8961,2,-999.0000,9,   -999.0,9,     8.41,2,    13.64,2,     0.01,2,     0.94,2, -999.000,9, -999.000,9,       -999,9,   -999.0,9,   -999.0,9,  -999.00,9,  -999.00,9,  -0.6032
  58GS20090528,   GIN,   251,  1,      5,20091006,1202, 74.5000,  11.6650, 2360,   1000.1,  -0.2880,  34.8985,2,-999.0000,9,    309.9,2,     7.84,2,    13.61,2,     0.01,2,     0.94,2, -999.000,9, -999.000,9,       -999,9,   2167.2,2,   2306.6,2,  -999.00,9,  -999.00,9,  -0.3303
  58GS20090528,   GIN,   251,  1,      6,20091006,1202, 74.5000,  11.6650, 2360,    799.8,   0.8030,  34.9355,2,-999.0000,9,    314.3,2,     6.32,2,    12.87,2,     0.01,2,     0.89,2, -999.000,9, -999.000,9,       -999,9,   2164.4,2,   2308.5,2,  -999.00,9,  -999.00,9,   0.7634
  58GS20090528,   GIN,   251,  1,      7,20091006,1202, 74.5000,  11.6650, 2360,    600.2,   2.7690,  35.0740,2,-999.0000,9,    314.1,2,     4.74,2,    11.43,2,     0.01,2,     0.78,2, -999.000,9, -999.000,9,       -999,9,   2154.8,2,   2317.4,2,  -999.00,9,  -999.00,9,   2.7306
  58GS20090528,   GIN,   251,  1,      8,20091006,1202, 74.5000,  11.6650, 2360,    499.7,   2.8020,  35.0732,2,-999.0000,9,    314.0,2,     4.75,2,    11.53,2,     0.01,2,     0.78,2, -999.000,9, -999.000,9,       -999,9,   2153.9,2,   2319.2,2,  -999.00,9,  -999.00,9,   2.7703
  58GS20090528,   GIN,   251,  1,      9,20091006,1202, 74.5000,  11.6650, 2360,    400.4,   2.8920,  35.0711,2,-999.0000,9,    312.9,2,     4.83,2,    11.61,2,     0.01,2,     0.79,2, -999.000,9, -999.000,9,       -999,9,   2154.9,2,   2318.9,2,  -999.00,9,  -999.00,9,   2.8667
  58GS20090528,   GIN,   251,  1,     10,20091006,1202, 74.5000,  11.6650, 2360,    299.8,   3.1310,  35.0822,2,-999.0000,9,    311.0,2,     4.83,2,    11.55,2,     0.01,2,     0.79,2, -999.000,9, -999.000,9,       -999,9,   2155.3,2,   2321.9,2,  -999.00,9,  -999.00,9,   3.1117
  58GS20090528,   GIN,   251,  1,     11,20091006,1202, 74.5000,  11.6650, 2360,    200.2,   3.6160,  35.0954,2,-999.0000,9,    307.3,2,     4.86,2,    11.62,2,     0.03,2,     0.81,2, -999.000,9, -999.000,9,       -999,9,   2153.5,2,   2318.6,2,  -999.00,9,  -999.00,9,   3.6025
  58GS20090528,   GIN,   251,  1,     12,20091006,1202, 74.5000,  11.6650, 2360,    150.1,   4.0590,  35.1100,2,-999.0000,9,    305.2,2,     4.82,2,    11.53,2,     0.05,2,     0.79,2, -999.000,9, -999.000,9,       -999,9,   2151.9,2,   2319.9,2,  -999.00,9,  -999.00,9,   4.0484
  58GS20090528,   GIN,   251,  1,     13,20091006,1202, 74.5000,  11.6650, 2360,    100.1,   4.5910,  35.1225,2,-999.0000,9,    301.6,2,     4.76,2,    11.24,2,     0.08,2,     0.79,2, -999.000,9, -999.000,9,       -999,9,   2148.5,2,   2320.7,2,     0.03,2,     0.14,2,   4.5835
  58GS20090528,   GIN,   251,  1,     14,20091006,1202, 74.5000,  11.6650, 2360,     74.2,   4.8430,  35.1303,2,-999.0000,9,    303.0,2,     4.75,2,    10.69,2,     0.18,2,     0.74,2, -999.000,9, -999.000,9,       -999,9,   2146.6,2,   2321.7,2,     0.03,2,     0.22,2,   4.8373
  58GS20090528,   GIN,   251,  1,     15,20091006,1202, 74.5000,  11.6650, 2360,     49.8,   5.2790,  35.1417,2,-999.0000,9,    301.5,2,     4.67,2,    10.16,2,     0.24,2,     0.73,2, -999.000,9, -999.000,9,       -999,9,   2145.1,2,   2325.1,2,     0.13,2,     0.27,2,   5.2750
  58GS20090528,   GIN,   251,  1,     16,20091006,1202, 74.5000,  11.6650, 2360,     30.2,   5.7130,  35.1420,2,-999.0000,9,    327.5,2,     3.81,2,     4.78,2,     0.11,2,     0.35,2, -999.000,9, -999.000,9,       -999,9,   2112.4,2,   2325.5,2,     2.05,2,     0.44,2,   5.7105
  58GS20090528,   GIN,   251,  1,     17,20091006,1202, 74.5000,  11.6650, 2360,     19.7,   6.0320,  35.1351,2,-999.0000,9,   -999.0,9,  -999.00,9,  -999.00,9,  -999.00,9,  -999.00,9, -999.000,9, -999.000,9,       -999,9,   -999.0,9,   -999.0,9,  -999.00,9,  -999.00,9,   6.0303
  58GS20090528,   GIN,   251,  1,     18,20091006,1202, 74.5000,  11.6650, 2360,     19.8,   6.0530,  35.1339,2,-999.0000,9,   -999.0,9,     3.69,2,     4.23,2,     0.10,2,     0.33,2, -999.000,9, -999.000,9,       -999,9,   -999.0,9,   -999.0,9,     2.33,2,     0.50,2,   6.0513
  58GS20090528,   GIN,   251,  1,     19,20091006,1202, 74.5000,  11.6650, 2360,      9.7,   6.0710,  35.1356,2,-999.0000,9,   -999.0,9,     3.65,2,     4.11,2,     0.10,2,     0.31,2, -999.000,9, -999.000,9,       -999,9,   -999.0,9,   -999.0,9,     2.46,2,     0.40,2,   6.0702
  58GS20090528,   GIN,   251,  1,     20,20091006,1202, 74.5000,  11.6650, 2360,      4.6,   6.0810,  35.1361,2,-999.0000,9,    331.6,2,     3.66,2,     4.10,2,     0.10,2,     0.31,2, -999.000,9, -999.000,9,       -999,9,   2102.5,2,   2325.2,2,     2.39,2,     0.50,2,   6.0806
  58GS20090528,   GIN,   251,  1,     21,20091006,1202, 74.5000,  11.6650, 2360,      4.8,   6.0810,  35.1360,2,-999.0000,9,   -999.0,9,  -999.00,9,  -999.00,9,  -999.00,9,  -999.00,9, -999.000,9, -999.000,9,       -999,9,   -999.0,9,   -999.0,9,  -999.00,9,  -999.00,9,   6.0806
  58GS20090528,   GIN,   252,  1,      1,20091006,1759, 74.4990,  12.5830, 2253,   2242.9,  -0.8220,  34.9099,2,-999.0000,9,    296.2,2,    13.08,2,    14.99,2,     0.01,2,     1.01,2, -999.000,9, -999.000,9,       -999,9,   2162.6,2,   2308.5,2,  -999.00,9,  -999.00,9,  -0.9317
  58GS20090528,   GIN,   252,  1,      2,20091006,1759, 74.4990,  12.5830, 2253,   2000.3,  -0.8290,  34.9094,2,-999.0000,9,    296.8,2,    12.92,2,    15.02,2,     0.02,2,     1.00,2, -999.000,9, -999.000,9,       -999,9,   2164.2,2,   2309.0,2,  -999.00,9,  -999.00,9,  -0.9225
  58GS20090528,   GIN,   252,  1,      3,20091006,1759, 74.4990,  12.5830, 2253,   1500.5,  -0.7630,  34.9061,2,-999.0000,9,    298.2,2,    11.50,2,    14.68,2,     0.01,2,     1.00,2, -999.000,9, -999.000,9,       -999,9,   2163.2,2,   2306.5,2,  -999.00,9,  -999.00,9,  -0.8273
  58GS20090528,   GIN,   252,  1,      4,20091006,1759, 74.4990,  12.5830, 2253,   1200.3,  -0.6480,  34.9001,2,-999.0000,9,   -999.0,9,     9.81,2,    14.25,2,     0.01,2,     0.98,2, -999.000,9, -999.000,9,       -999,9,   -999.0,9,   -999.0,9,  -999.00,9,  -999.00,9,  -0.6974
  58GS20090528,   GIN,   252,  1,      5,20091006,1759, 74.4990,  12.5830, 2253,   1000.4,  -0.5140,  34.8966,2,-999.0000,9,    309.8,2,     8.43,2,    13.77,2,     0.01,2,     0.95,2, -999.000,9, -999.000,9,       -999,9,   2165.6,2,   2305.8,2,  -999.00,9,  -999.00,9,  -0.5544
  58GS20090528,   GIN,   252,  1,      6,20091006,1759, 74.4990,  12.5830, 2253,    800.5,  -0.2190,  34.8996,2,-999.0000,9,    310.9,2,     7.57,2,    13.57,2,     0.01,2,     0.93,2, -999.000,9, -999.000,9,       -999,9,   2167.3,2,   2307.5,2,  -999.00,9,  -999.00,9,  -0.2519
  58GS20090528,   GIN,   252,  1,      7,20091006,1759, 74.4990,  12.5830, 2253,    600.1,   0.8050,  34.9358,2,-999.0000,9,    311.9,2,     6.34,2,    13.03,2,     0.01,2,     0.90,2, -999.000,9, -999.000,9,       -999,9,   2165.7,2,   2312.0,2,  -999.00,9,  -999.00,9,   0.7763
  58GS20090528,   GIN,   252,  1,      8,20091006,1759, 74.4990,  12.5830, 2253,    500.2,   1.8940,  35.0034,2,-999.0000,9,    310.7,2,     5.57,2,    12.39,2,     0.01,2,     0.84,2, -999.000,9, -999.000,9,       -999,9,   2161.1,2,   2316.2,2,  -999.00,9,  -999.00,9,   1.8660
  58GS20090528,   GIN,   252,  1,      9,20091006,1759, 74.4990,  12.5830, 2253,    399.8,   2.7490,  35.0592,2,-999.0000,9,    311.6,2,     4.97,2,    11.72,2,     0.03,2,     0.84,2, -999.000,9, -999.000,9,       -999,9,   2155.9,2,   2314.8,2,  -999.00,9,  -999.00,9,   2.7242
  58GS20090528,   GIN,   252,  1,     10,20091006,1759, 74.4990,  12.5830, 2253,    300.4,   3.1320,  35.0745,2,-999.0000,9,    309.7,2,     4.89,2,    11.72,2,     0.01,2,     0.78,2, -999.000,9, -999.000,9,       -999,9,   2154.4,2,   2317.3,2,  -999.00,9,  -999.00,9,   3.1127
  58GS20090528,   GIN,   252,  1,     11,20091006,1759, 74.4990,  12.5830, 2253,    200.4,   3.6780,  35.1027,2,-999.0000,9,    307.3,2,     4.83,2,    11.54,2,     0.03,2,     0.78,2, -999.000,9, -999.000,9,       -999,9,   2152.5,2,   2316.9,2,  -999.00,9,  -999.00,9,   3.6644
  58GS20090528,   GIN,   252,  1,     12,20091006,1759, 74.4990,  12.5830, 2253,    151.3,   3.8940,  35.1066,2,-999.0000,9,    306.9,2,     4.72,2,    11.27,2,     0.06,2,     0.80,2, -999.000,9, -999.000,9,       -999,9,   2151.2,2,   2319.9,2,  -999.00,9,  -999.00,9,   3.8835
  58GS20090528,   GIN,   252,  1,     13,20091006,1759, 74.4990,  12.5830, 2253,    100.9,   4.2450,  35.1094,2,-999.0000,9,    304.2,2,     4.80,2,    11.32,2,     0.12,2,     0.77,2, -999.000,9, -999.000,9,       -999,9,   2151.3,2,   2323.8,2,     0.04,2,     0.14,2,   4.2378
  58GS20090528,   GIN,   252,  1,     14,20091006,1759, 74.4990,  12.5830, 2253,     75.3,   4.6260,  35.1275,2,-999.0000,9,    301.2,2,     4.75,2,    10.96,2,     0.15,2,     0.75,2, -999.000,9, -999.000,9,       -999,9,   2148.3,2,   2322.4,2,     0.02,2,     0.18,2,   4.6204
  58GS20090528,   GIN,   252,  1,     15,20091006,1759, 74.4990,  12.5830, 2253,     50.4,   5.1200,  35.1397,2,-999.0000,9,    299.7,2,     4.70,2,    10.65,2,     0.20,2,     0.74,2, -999.000,9, -999.000,9,       -999,9,   2148.4,2,   2325.5,2,     0.12,2,     0.18,2,   5.1161
  58GS20090528,   GIN,   252,  1,     16,20091006,1759, 74.4990,  12.5830, 2253,     30.2,   5.3080,  35.1421,2,-999.0000,9,    308.2,2,     4.45,2,     8.45,2,     0.22,2,     0.62,2, -999.000,9, -999.000,9,       -999,9,   2138.4,2,   2327.1,2,     0.64,2,     0.42,2,   5.3056
  58GS20090528,   GIN,   252,  1,     17,20091006,1759, 74.4990,  12.5830, 2253,     20.3,   5.6810,  35.1495,2,-999.0000,9,   -999.0,9,     4.04,2,     5.99,2,     0.14,2,     0.51,2, -999.000,9, -999.000,9,       -999,9,   -999.0,9,   -999.0,9,     1.63,2,     0.67,2,   5.6793
  58GS20090528,   GIN,   252,  1,     18,20091006,1759, 74.4990,  12.5830, 2253,     20.3,   5.7250,  35.1499,2,-999.0000,9,   -999.0,9,  -999.00,9,  -999.00,9,  -999.00,9,  -999.00,9, -999.000,9, -999.000,9,       -999,9,   -999.0,9,   -999.0,9,  -999.00,9,  -999.00,9,   5.7233
  58GS20090528,   GIN,   252,  1,     19,20091006,1759, 74.4990,  12.5830, 2253,     10.4,   6.1490,  35.1434,2,-999.0000,9,   -999.0,9,     3.79,2,     4.47,2,     0.11,2,     0.42,2, -999.000,9, -999.000,9,       -999,9,   -999.0,9,   -999.0,9,     2.17,2,     0.51,2,   6.1481
  58GS20090528,   GIN,   252,  1,     20,20091006,1759, 74.4990,  12.5830, 2253,      5.6,   6.1410,  35.1463,2,-999.0000,9,    333.6,2,     3.64,2,     3.68,2,     0.10,2,     0.32,2, -999.000,9, -999.000,9,       -999,9,   -999.0,9,   -999.0,9,     2.39,2,     0.38,2,   6.1405
  58GS20090528,   GIN,   252,  1,     21,20091006,1759, 74.4990,  12.5830, 2253,      5.6,   6.1540,  35.1471,2,-999.0000,9,   -999.0,9,  -999.00,9,  -999.00,9,  -999.00,9,  -999.00,9, -999.000,9, -999.000,9,       -999,9,   -999.0,9,   -999.0,9,  -999.00,9,  -999.00,9,   6.1535
  58GS20090528,   GIN,   253,  1,      1,20091006,2230, 74.5000,  13.4990, 2160,   2150.2,  -0.8370,  34.9087,2,  34.9095,2,    294.6,2,    13.65,2,    15.19,2,     0.01,2,     1.03,2, -999.000,9, -999.000,9,       -999,9,   2166.0,2,   2310.8,2,  -999.00,9,  -999.00,9,  -0.9402
  58GS20090528,   GIN,   253,  1,      2,20091006,2230, 74.5000,  13.4990, 2160,   1999.8,  -0.8400,  34.9086,2,  34.9111,2,    294.9,2,    13.48,2,    15.15,2,     0.01,2,     1.03,2, -999.000,9, -999.000,9,       -999,9,   2164.4,2,   2309.9,2,  -999.00,9,  -999.00,9,  -0.9333
  58GS20090528,   GIN,   253,  1,      3,20091006,2230, 74.5000,  13.4990, 2160,   1500.4,  -0.7280,  34.9048,2,  34.9070,2,    298.1,2,    11.36,2,    14.68,2,     0.01,2,     1.01,2, -999.000,9, -999.000,9,       -999,9,   2163.4,2,   2313.1,2,  -999.00,9,  -999.00,9,  -0.7928
  58GS20090528,   GIN,   253,  1,      4,20091006,2230, 74.5000,  13.4990, 2160,   1200.3,  -0.6240,  34.8987,2,  34.9026,2,   -999.0,9,     9.38,2,    14.02,2,     0.01,2,     0.98,2, -999.000,9, -999.000,9,       -999,9,   -999.0,9,   -999.0,9,  -999.00,9,  -999.00,9,  -0.6736
  58GS20090528,   GIN,   253,  1,      5,20091006,2230, 74.5000,  13.4990, 2160,    999.7,  -0.4880,  34.8970,2,  34.9008,2,    310.0,2,     8.25,2,    13.73,2,     0.01,2,     0.95,2, -999.000,9, -999.000,9,       -999,9,   2164.3,2,   2308.0,2,  -999.00,9,  -999.00,9,  -0.5286
  58GS20090528,   GIN,   253,  1,      6,20091006,2230, 74.5000,  13.4990, 2160,    800.5,  -0.2090,  34.9010,2,  34.9045,2,    309.2,2,     7.79,2,    13.67,2,     0.01,2,     0.94,2, -999.000,9, -999.000,9,       -999,9,   2165.6,2,   2307.3,2,  -999.00,9,  -999.00,9,  -0.2419
  58GS20090528,   GIN,   253,  1,      7,20091006,2230, 74.5000,  13.4990, 2160,    599.7,   0.7080,  34.9296,2,  34.9324,2,    304.4,2,     7.19,2,    13.60,2,     0.01,2,     0.94,2, -999.000,9, -999.000,9,       -999,9,   2164.0,2,   2308.7,2,  -999.00,9,  -999.00,9,   0.6798
  58GS20090528,   GIN,   253,  1,      8,20091006,2230, 74.5000,  13.4990, 2160,    499.9,   2.1030,  35.0161,2,  35.0005,2,    306.6,2,     5.95,2,    12.71,2,     0.01,2,     0.87,2, -999.000,9, -999.000,9,       -999,9,   2159.8,2,   2316.8,2,  -999.00,9,  -999.00,9,   2.0742
  58GS20090528,   GIN,   253,  1,      9,20091006,2230, 74.5000,  13.4990, 2160,    400.3,   3.1360,  35.0683,2,  35.0738,2,    307.9,2,     5.03,2,    11.91,2,     0.02,2,     0.81,2, -999.000,9, -999.000,9,       -999,9,   2153.9,2,   2321.6,2,  -999.00,9,  -999.00,9,   3.1099
  58GS20090528,   GIN,   253,  1,     10,20091006,2230, 74.5000,  13.4990, 2160,    300.3,   3.6840,  35.0997,2,  35.0964,2,    306.5,2,     4.87,2,    11.67,2,     0.03,2,     0.79,2, -999.000,9, -999.000,9,       -999,9,   2150.6,2,   2319.5,2,  -999.00,9,  -999.00,9,   3.6633
  58GS20090528,   GIN,   253,  1,     11,20091006,2230, 74.5000,  13.4990, 2160,    199.8,   4.1430,  35.1032,2,  35.0972,2,    302.0,2,     4.87,2,    11.67,2,     0.03,2,     0.78,2, -999.000,9, -999.000,9,       -999,9,   2149.0,2,   2321.9,2,  -999.00,9,  -999.00,9,   4.1287
  58GS20090528,   GIN,   253,  1,     12,20091006,2230, 74.5000,  13.4990, 2160,    149.9,   4.5220,  35.1214,2,  35.1175,2,    301.3,2,     4.79,2,    11.47,2,     0.08,2,     0.78,2, -999.000,9, -999.000,9,       -999,9,   2147.7,2,   2322.6,2,  -999.00,9,  -999.00,9,   4.5109
  58GS20090528,   GIN,   253,  1,     13,20091006,2230, 74.5000,  13.4990, 2160,    100.5,   5.0320,  35.1357,2,  35.1342,2,    303.6,2,     4.67,2,    10.05,2,     0.17,2,     0.72,2, -999.000,9, -999.000,9,       -999,9,   2143.5,2,   2324.9,2,     0.08,2,     0.19,2,   5.0242
  58GS20090528,   GIN,   253,  1,     14,20091006,2230, 74.5000,  13.4990, 2160,     74.7,   5.2450,  35.1405,2,  35.1379,2,    301.4,2,     4.67,2,    10.31,2,     0.18,2,     0.73,2, -999.000,9, -999.000,9,       -999,9,   2141.5,2,   2322.9,2,     0.07,2,     0.21,2,   5.2391
  58GS20090528,   GIN,   253,  1,     15,20091006,2230, 74.5000,  13.4990, 2160,     50.4,   5.5100,  35.1468,2,  35.1466,2,    297.1,2,     4.65,2,    10.51,2,     0.18,2,     0.74,2, -999.000,9, -999.000,9,       -999,9,   2143.2,2,   2326.1,2,     0.11,2,     0.19,2,   5.5059
  58GS20090528,   GIN,   253,  1,     16,20091006,2230, 74.5000,  13.4990, 2160,     30.2,   5.9810,  35.1489,2,  35.1507,2,    306.4,2,     4.35,2,     8.09,2,     0.17,2,     0.61,2, -999.000,9, -999.000,9,       -999,9,   2131.6,2,   2322.6,2,     0.48,2,     0.36,2,   5.9784
  58GS20090528,   GIN,   253,  1,     17,20091006,2230, 74.5000,  13.4990, 2160,     20.0,   6.1150,  35.1445,2,  35.1422,2,   -999.0,9,     3.96,2,     5.38,2,     0.11,2,     0.45,2, -999.000,9, -999.000,9,       -999,9,   -999.0,9,   -999.0,9,     1.37,2,     0.44,2,   6.1133
  58GS20090528,   GIN,   253,  1,     18,20091006,2230, 74.5000,  13.4990, 2160,     20.0,   6.1160,  35.1449,2,-999.0000,9,   -999.0,9,  -999.00,9,  -999.00,9,  -999.00,9,  -999.00,9, -999.000,9, -999.000,9,       -999,9,   -999.0,9,   -999.0,9,  -999.00,9,  -999.00,9,   6.1143
  58GS20090528,   GIN,   253,  1,     19,20091006,2230, 74.5000,  13.4990, 2160,     10.0,   6.3820,  35.1421,2,  35.1428,2,   -999.0,9,     3.82,2,     4.64,2,     0.10,2,     0.39,2, -999.000,9, -999.000,9,       -999,9,   -999.0,9,   -999.0,9,     1.79,2,     0.31,2,   6.3811
  58GS20090528,   GIN,   253,  1,     20,20091006,2230, 74.5000,  13.4990, 2160,      4.6,   6.3780,  35.1447,2,  35.1391,2,    325.4,2,     3.78,2,     4.48,2,     0.10,2,     0.40,2, -999.000,9, -999.000,9,       -999,9,   2105.4,2,   2325.0,2,     1.68,2,     0.22,2,   6.3776
  58GS20090528,   GIN,   253,  1,     21,20091006,2230, 74.5000,  13.4990, 2160,      4.5,   6.3750,  35.1449,2,-999.0000,9,   -999.0,9,  -999.00,9,  -999.00,9,  -999.00,9,  -999.00,9, -999.000,9, -999.000,9,       -999,9,   -999.0,9,   -999.0,9,  -999.00,9,  -999.00,9,   6.3746