BOTTLE,20120326PRINUNIVRMK
EXPOCODE,SECT_ID,STNNBR,CASTNO,BTLNBR,DATE,TIME,LATITUDE,LONGITUDE,DEPTH,CTDPRS,CTDTMP,CTDSAL,CTDSAL_FLAG_W,SALNTY,SALNTY_FLAG_W,OXYGEN,OXYGEN_FLAG_W,SILCAT,SILCAT_FLAG_W,NITRAT,NITRAT_FLAG_W,NITRIT,NITRIT_FLAG_W,PHSPHT,PHSPHT_FLAG_W,CFC-11,CFC-11_FLAG_W,CFC-12,CFC-12_FLAG_W,SF6,SF6_FLAG_W,TCARBN,TCARBN_FLAG_W,ALKALI,ALKALI_FLAG_W,CHLORA,CHLORA_FLAG_W,PHAEO,PHAEO_FLAG_W,THETA
,,,,,,,,,METERS,DBAR,ITS-90,PSS-78,,PSS-78,,UMOL/KG,,UMOL/KG,,UMOL/KG,,UMOL/KG,,UMOL/KG,,PMOL/KG,,PMOL/KG,,FMOL/KG,,UMOL/KG,,UMOL/KG,,UG/KG,,UG/KG,,DEG C
  58GS20090528,   GIN,   331,  1,      1,20090207,1306, 70.0200,  15.0070, 2429,   2419.1,  -0.8200,  34.9060,2,  34.9157,2,    295.2,2,    13.44,2,    15.12,2,     0.01,2,     1.02,2, -999.000,9,    0.389,2,0.561751047,2,   2165.7,2,   2309.6,2,  -999.00,9,  -999.00,9,  -0.9421
  58GS20090528,   GIN,   331,  1,      2,20090207,1306, 70.0200,  15.0070, 2429,   1999.8,  -0.7680,  34.9054,2,  34.9147,2,    296.8,2,    12.17,2,    14.82,2,     0.01,2,     1.01,2, -999.000,9,    0.570,2,0.645943246,2,   2163.8,2,   -999.0,9,  -999.00,9,  -999.00,9,  -0.8625
  58GS20090528,   GIN,   331,  1,      3,20090207,1306, 70.0200,  15.0070, 2429,   1499.8,  -0.6920,  34.9009,2,  34.9100,2,    298.9,2,    10.77,2,    14.52,2,     0.01,2,     1.00,2, -999.000,9,    0.971,2, 1.31090944,2,   2165.8,2,   2306.5,2,  -999.00,9,  -999.00,9,  -0.7572
  58GS20090528,   GIN,   331,  1,      4,20090207,1306, 70.0200,  15.0070, 2429,   1199.9,  -0.5720,  34.8956,2,  34.9055,2,    302.0,2,     9.49,2,    14.29,2,     0.01,2,     0.98,2, -999.000,9, -999.000,9,       -999,9,   2169.8,2,   -999.0,9,  -999.00,9,  -999.00,9,  -0.6221
  58GS20090528,   GIN,   331,  1,      5,20090207,1306, 70.0200,  15.0070, 2429,    999.7,  -0.3900,  34.8932,2,  34.9026,2,    302.7,2,     8.56,2,    14.06,2,     0.01,2,     0.96,2, -999.000,9,    1.816,2, 2.02960926,2,   2167.9,2,   2304.8,2,  -999.00,9,  -999.00,9,  -0.4314
  58GS20090528,   GIN,   331,  1,      6,20090207,1306, 70.0200,  15.0070, 2429,    800.0,   0.0970,  34.8987,2,  34.9053,2,    304.1,2,     7.57,2,    13.83,2,     0.01,2,     0.94,2, -999.000,9,    2.158,2, 2.80305829,2,   2169.5,2,   -999.0,9,  -999.00,9,  -999.00,9,   0.0621
  58GS20090528,   GIN,   331,  1,      7,20090207,1306, 70.0200,  15.0070, 2429,    600.0,   3.5040,  35.0623,2,  35.0654,2,    301.2,2,     5.28,2,    12.25,2,     0.01,2,     0.83,2, -999.000,9,    2.570,2, 3.96477698,2,   2156.4,2,   2312.1,2,  -999.00,9,  -999.00,9,   3.4622
  58GS20090528,   GIN,   331,  1,      8,20090207,1306, 70.0200,  15.0070, 2429,    499.1,   4.3600,  35.1132,2,  35.1195,2,    300.5,2,     4.91,2,    11.80,2,     0.01,2,     0.79,2, -999.000,9, -999.000,9,       -999,9,   2151.9,2,   -999.0,9,  -999.00,9,  -999.00,9,   4.3222
  58GS20090528,   GIN,   331,  1,      9,20090207,1306, 70.0200,  15.0070, 2429,    399.7,   4.9050,  35.1294,2,  35.1327,2,    296.7,2,     4.97,2,    11.73,2,     0.03,2,     0.79,2, -999.000,9,    2.486,2,  3.3668551,2,   2150.4,2,   2318.5,2,  -999.00,9,  -999.00,9,   4.8733
  58GS20090528,   GIN,   331,  1,     10,20090207,1306, 70.0200,  15.0070, 2429,    300.0,   5.5820,  35.1616,2,  35.1641,2,    293.7,2,     4.99,2,    11.68,2,     0.01,2,     0.78,2, -999.000,9, -999.000,9,       -999,9,   2148.6,2,   2321.2,2,  -999.00,9,  -999.00,9,   5.5569
  58GS20090528,   GIN,   331,  1,     11,20090207,1306, 70.0200,  15.0070, 2429,    300.0,   5.5880,  35.1609,2,  35.1637,2,    293.6,2,  -999.00,9,  -999.00,9,  -999.00,9,  -999.00,9, -999.000,9, -999.000,9,       -999,9,   -999.0,9,   -999.0,9,  -999.00,9,  -999.00,9,   5.5628
  58GS20090528,   GIN,   331,  1,     12,20090207,1306, 70.0200,  15.0070, 2429,    200.1,   6.3580,  35.1935,2,  35.1944,2,    287.5,2,     5.02,2,    11.96,2,     0.01,2,     0.79,2, -999.000,9,    2.358,2, 2.85799427,2,   2148.3,2,   2322.7,2,  -999.00,9,  -999.00,9,   6.3402
  58GS20090528,   GIN,   331,  1,     13,20090207,1306, 70.0200,  15.0070, 2429,    149.6,   6.9160,  35.2193,2,  35.2198,2,    282.0,2,     5.14,2,    11.96,2,     0.01,2,     0.79,2, -999.000,9, -999.000,9,       -999,9,   2148.9,2,   2320.8,2,  -999.00,9,  -999.00,9,   6.9021
  58GS20090528,   GIN,   331,  1,     14,20090207,1306, 70.0200,  15.0070, 2429,    124.9,   7.2730,  35.2421,2,  35.2436,2,    280.2,2,     5.12,2,    12.00,2,     0.02,2,     0.79,2, -999.000,9, -999.000,9,       -999,9,   2146.6,2,   2325.2,2,  -999.00,9,  -999.00,9,   7.2610
  58GS20090528,   GIN,   331,  1,     15,20090207,1306, 70.0200,  15.0070, 2429,     99.8,   7.4570,  35.2521,2,  35.2541,2,    279.0,2,     5.07,2,    11.98,2,     0.02,2,     0.80,2, -999.000,9,    2.215,2, 3.27187157,2,   2146.3,2,   2326.3,2,     0.01,2,     0.17,2,   7.4473
  58GS20090528,   GIN,   331,  1,     16,20090207,1306, 70.0200,  15.0070, 2429,     74.9,   7.4970,  35.2282,2,  35.2365,2,    278.1,2,     4.81,2,    11.66,2,     0.01,2,     0.78,2, -999.000,9, -999.000,9,       -999,9,   2145.7,2,   2326.7,2,     0.01,2,     0.23,2,   7.4897
  58GS20090528,   GIN,   331,  1,     17,20090207,1306, 70.0200,  15.0070, 2429,     50.0,   7.4640,  35.1390,2,  35.1715,2,    278.3,2,     4.14,2,    10.54,2,     0.02,2,     0.72,2, -999.000,9,    2.382,2, 3.77432776,2,   2142.0,2,   2323.9,2,     0.02,2,     0.21,2,   7.4592
  58GS20090528,   GIN,   331,  1,     18,20090207,1306, 70.0200,  15.0070, 2429,     29.9,   7.8240,  35.0229,2,  35.0405,2,    279.6,2,     2.79,2,     7.86,2,     0.13,2,     0.59,2, -999.000,9, -999.000,9,       -999,9,   2130.7,2,   2323.0,2,     0.14,2,     0.27,2,   7.8210
  58GS20090528,   GIN,   331,  1,     19,20090207,1306, 70.0200,  15.0070, 2429,      8.8,   9.5390,  34.7127,2,  34.7470,2,    314.9,2,     0.07,2,     0.40,2,     0.05,2,     0.02,2, -999.000,9, -999.000,9,       -999,9,   2068.9,2,   2319.1,2,     1.30,2,     1.52,2,   9.5380
  58GS20090528,   GIN,   331,  1,     20,20090207,1306, 70.0200,  15.0070, 2429,      4.7,   9.9640,  34.5642,2,  34.5462,2,    315.1,2,     0.00,2,     0.00,2,     0.02,2,     0.01,2, -999.000,9,    2.221,2,  2.9399757,2,   2050.7,2,   2313.2,2,     0.65,2,     0.63,2,   9.9635
  58GS20090528,   GIN,   332,  1,      1,20090207,1701, 70.0150,  14.0060, 2610,   2599.9,  -0.8270,  34.9061,2,  34.9152,2,    294.8,2,    13.79,2,    15.19,2,     0.01,2,     1.02,2, -999.000,9, -999.000,9,       -999,9,   2164.9,2,   2305.9,2,  -999.00,9,  -999.00,9,  -0.9621
  58GS20090528,   GIN,   332,  1,      2,20090207,1701, 70.0150,  14.0060, 2610,   2500.2,  -0.8140,  34.9063,2,  34.9146,2,    296.1,2,    13.00,2,    14.95,2,     0.00,2,     1.01,2, -999.000,9, -999.000,9,       -999,9,   2165.0,2,   2303.5,2,  -999.00,9,  -999.00,9,  -0.9420
  58GS20090528,   GIN,   332,  1,      3,20090207,1701, 70.0150,  14.0060, 2610,   2000.3,  -0.7740,  34.9053,2,  34.9144,2,    296.7,2,    12.03,2,    14.76,2,     0.01,2,     1.01,2, -999.000,9, -999.000,9,       -999,9,   2165.5,2,   -999.0,9,  -999.00,9,  -999.00,9,  -0.8684
  58GS20090528,   GIN,   332,  1,      4,20090207,1701, 70.0150,  14.0060, 2610,   1500.0,  -0.6390,  34.8993,2,  34.9096,2,    299.4,2,    10.31,2,    14.33,2,     0.00,2,     0.99,2, -999.000,9, -999.000,9,       -999,9,   2165.3,2,   2299.7,2,  -999.00,9,  -999.00,9,  -0.7048
  58GS20090528,   GIN,   332,  1,      5,20090207,1701, 70.0150,  14.0060, 2610,   1199.0,  -0.4350,  34.8961,2,  34.9059,2,    301.0,2,     9.05,2,    14.04,2,     0.00,2,     0.97,2, -999.000,9, -999.000,9,       -999,9,   2167.4,2,   -999.0,9,  -999.00,9,  -999.00,9,  -0.4864
  58GS20090528,   GIN,   332,  1,      6,20090207,1701, 70.0150,  14.0060, 2610,    999.4,   0.0620,  34.8983,2,  34.9076,2,    304.8,2,     7.60,2,    13.75,2,     0.01,2,     0.95,2, -999.000,9, -999.000,9,       -999,9,   2169.0,2,   2293.7,3,  -999.00,9,  -999.00,9,   0.0169
  58GS20090528,   GIN,   332,  1,      7,20090207,1701, 70.0150,  14.0060, 2610,    799.4,   2.0980,  34.9754,2,  34.9840,2,    301.3,2,     6.04,2,    13.07,2,     0.01,2,     0.90,2, -999.000,9, -999.000,9,       -999,9,   2162.8,2,   -999.0,9,  -999.00,9,  -999.00,9,   2.0500
  58GS20090528,   GIN,   332,  1,      8,20090207,1701, 70.0150,  14.0060, 2610,    600.1,   4.3790,  35.1177,2,  35.1202,2,    301.6,2,     4.77,2,    11.53,2,     0.00,2,     0.78,2, -999.000,9, -999.000,9,       -999,9,   2152.0,2,   2301.7,2,  -999.00,9,  -999.00,9,   4.3330
  58GS20090528,   GIN,   332,  1,      9,20090207,1701, 70.0150,  14.0060, 2610,    500.4,   4.7840,  35.1273,2,  35.1301,2,    297.5,2,     4.91,2,    11.67,2,     0.01,2,     0.79,2, -999.000,9, -999.000,9,       -999,9,   2151.1,2,   -999.0,9,  -999.00,9,  -999.00,9,   4.7444
  58GS20090528,   GIN,   332,  1,     10,20090207,1701, 70.0150,  14.0060, 2610,    400.8,   5.4060,  35.1520,2,  35.1507,2,    294.6,2,     4.99,2,    11.64,2,     0.01,2,     0.79,2, -999.000,9, -999.000,9,       -999,9,   2149.0,2,   2303.8,2,  -999.00,9,  -999.00,9,   5.3727
  58GS20090528,   GIN,   332,  1,     11,20090207,1701, 70.0150,  14.0060, 2610,    299.8,   6.0750,  35.1831,2,  35.1801,2,    290.5,2,     4.94,2,    11.67,2,     0.01,2,     0.78,2, -999.000,9, -999.000,9,       -999,9,   2149.3,2,   -999.0,9,  -999.00,9,  -999.00,9,   6.0487
  58GS20090528,   GIN,   332,  1,     12,20090207,1701, 70.0150,  14.0060, 2610,    199.1,   7.0440,  35.2262,2,  35.2231,2,    282.2,2,     5.10,2,    11.90,2,     0.01,2,     0.80,2, -999.000,9, -999.000,9,       -999,9,   2148.2,2,   2308.6,2,  -999.00,9,  -999.00,9,   7.0252
  58GS20090528,   GIN,   332,  1,     13,20090207,1701, 70.0150,  14.0060, 2610,    149.2,   7.3350,  35.2496,2,  35.2452,2,    279.9,2,     5.15,2,    12.02,2,     0.02,2,     0.80,2, -999.000,9, -999.000,9,       -999,9,   2148.2,2,   2306.9,2,  -999.00,9,  -999.00,9,   7.3206
  58GS20090528,   GIN,   332,  1,     14,20090207,1701, 70.0150,  14.0060, 2610,    124.4,   7.4490,  35.2567,2,  35.2539,2,    278.0,2,     5.12,2,    12.02,2,     0.02,2,     0.80,2, -999.000,9, -999.000,9,       -999,9,   2149.2,2,   2324.3,2,  -999.00,9,  -999.00,9,   7.4369
  58GS20090528,   GIN,   332,  1,     15,20090207,1701, 70.0150,  14.0060, 2610,    100.6,   7.5240,  35.2583,2,  35.2562,2,    272.2,2,     5.19,2,    12.53,2,     0.14,2,     0.88,2, -999.000,9, -999.000,9,       -999,9,   2149.8,2,   2323.9,2,     0.02,2,     0.20,2,   7.5142
  58GS20090528,   GIN,   332,  1,     16,20090207,1701, 70.0150,  14.0060, 2610,     75.0,   7.6120,  35.2594,2,  35.2552,2,    265.0,2,     4.84,2,    12.67,2,     0.14,2,     0.91,2, -999.000,9, -999.000,9,       -999,9,   2156.2,2,   2322.6,2,     0.05,2,     0.19,2,   7.6047
  58GS20090528,   GIN,   332,  1,     17,20090207,1701, 70.0150,  14.0060, 2610,     49.8,   7.6940,  35.2023,2,  35.2108,2,    274.1,2,     4.21,2,    11.00,2,     0.09,2,     0.76,2, -999.000,9, -999.000,9,       -999,9,   2144.4,2,   2324.8,2,     0.15,2,     0.18,2,   7.6891
  58GS20090528,   GIN,   332,  1,     18,20090207,1701, 70.0150,  14.0060, 2610,     30.3,   8.4960,  35.1201,2,  35.1260,2,    294.4,2,     0.22,2,     2.28,2,     0.11,2,     0.18,2, -999.000,9, -999.000,9,       -999,9,   2100.9,2,   2331.4,2,     1.84,2,     1.16,2,   8.4928
  58GS20090528,   GIN,   332,  1,     19,20090207,1701, 70.0150,  14.0060, 2610,      9.4,   9.3940,  34.9946,2,  35.0017,2,    311.0,2,     0.01,2,     0.02,2,     0.02,2,     0.03,2, -999.000,9, -999.000,9,       -999,9,   2068.4,2,   2327.8,2,     1.14,2,     0.46,2,   9.3930
  58GS20090528,   GIN,   332,  1,     20,20090207,1701, 70.0150,  14.0060, 2610,      5.0,   9.7970,  34.8962,2,  34.9004,2,    302.6,2,     0.01,2,     0.00,2,     0.01,2,     0.01,2, -999.000,9, -999.000,9,       -999,9,   2065.8,2,   2324.3,2,     0.73,2,     0.24,2,   9.7964
  58GS20090528,   GIN,   333,  1,      1,20090207,2202, 69.9960,  12.5760, 2790,   2780.0,  -0.8190,  34.9062,2,  34.9111,2,    294.5,2,    14.18,2,    15.36,2,     0.01,2,     1.05,2, -999.000,9,    0.308,2,0.687703332,2,   2168.5,2,   2307.5,2,  -999.00,9,  -999.00,9,  -0.9678
  58GS20090528,   GIN,   333,  1,      2,20090207,2202, 69.9960,  12.5760, 2790,   2499.9,  -0.8190,  34.9063,2,  34.9116,2,    296.0,2,    13.16,2,    15.16,2,     0.00,2,     1.03,2, -999.000,9,    0.364,2,0.713330076,2,   2165.8,2,   2306.7,2,  -999.00,9,  -999.00,9,  -0.9469
  58GS20090528,   GIN,   333,  1,      3,20090207,2202, 69.9960,  12.5760, 2790,   2000.4,  -0.7860,  34.9053,2,  34.9127,2,    296.8,2,    12.14,2,    14.81,2,     0.01,2,     1.01,2, -999.000,9,    0.520,2, 0.86457913,2,   2165.2,2,   -999.0,9,  -999.00,9,  -999.00,9,  -0.8802
  58GS20090528,   GIN,   333,  1,      4,20090207,2202, 69.9960,  12.5760, 2790,   1499.7,  -0.6730,  34.8999,2,  34.9072,2,    299.7,2,    10.45,2,    14.45,2,     0.01,2,     1.00,2, -999.000,9,    1.025,2, 1.45337139,2,   2165.7,2,   2302.9,2,  -999.00,9,  -999.00,9,  -0.7384
  58GS20090528,   GIN,   333,  1,      5,20090207,2202, 69.9960,  12.5760, 2790,   1200.1,  -0.5080,  34.8947,2,  34.9016,2,    302.3,2,     9.11,2,    14.16,2,     0.01,2,     0.98,2, -999.000,9,    1.587,2, 2.63901566,2,   2168.0,2,   -999.0,9,  -999.00,9,  -999.00,9,  -0.5587
  58GS20090528,   GIN,   333,  1,      6,20090207,2202, 69.9960,  12.5760, 2790,    999.6,  -0.2390,  34.8930,2,  34.9004,2,    303.1,2,     8.12,2,    13.98,2,     0.00,2,     0.97,2, -999.000,9,    1.981,2, 2.81951673,2,   2168.0,2,   2300.3,2,  -999.00,9,  -999.00,9,  -0.2817
  58GS20090528,   GIN,   333,  1,      7,20090207,2202, 69.9960,  12.5760, 2790,    799.0,   0.5040,  34.9073,2,  34.9114,2,    304.5,2,     7.01,2,    13.74,2,     0.02,2,     0.95,2, -999.000,9,    2.345,2, 2.07457874,2,   2167.7,2,   -999.0,9,  -999.00,9,  -999.00,9,   0.4664
  58GS20090528,   GIN,   333,  1,      8,20090207,2202, 69.9960,  12.5760, 2790,    599.5,   3.4790,  35.0421,2,  35.0421,2,    298.4,2,     5.57,2,    12.56,2,     0.02,2,     0.87,2, -999.000,9,    2.542,2, 5.10592576,2,   2159.8,2,   2311.3,2,  -999.00,9,  -999.00,9,   3.4374
  58GS20090528,   GIN,   333,  1,      9,20090207,2202, 69.9960,  12.5760, 2790,    500.3,   4.6160,  35.1217,2,  35.1230,2,    298.5,2,     4.92,2,    11.72,2,     0.01,2,     0.81,2, -999.000,9, -999.000,9,       -999,9,   2151.6,2,   -999.0,9,  -999.00,9,  -999.00,9,   4.5771
  58GS20090528,   GIN,   333,  1,     10,20090207,2202, 69.9960,  12.5760, 2790,    399.4,   5.1700,  35.1435,2,  35.1429,2,    296.2,2,     4.95,2,    11.71,2,     0.01,2,     0.79,2, -999.000,9, -999.000,9,       -999,9,   2150.2,2,   2319.5,2,  -999.00,9,  -999.00,9,   5.1375
  58GS20090528,   GIN,   333,  1,     11,20090207,2202, 69.9960,  12.5760, 2790,    399.1,   5.1680,  35.1435,2,  35.1426,2,    296.2,2,  -999.00,9,  -999.00,9,  -999.00,9,  -999.00,9, -999.000,9,    2.527,6, 4.45696838,2,   -999.0,9,   -999.0,9,  -999.00,9,  -999.00,9,   5.1356
  58GS20090528,   GIN,   333,  1,     12,20090207,2202, 69.9960,  12.5760, 2790,    301.7,   5.7400,  35.1675,2,  35.1677,2,    292.6,2,     5.04,2,    11.77,2,     0.02,2,     0.79,2, -999.000,9, -999.000,9,       -999,9,   2149.1,2,   -999.0,9,  -999.00,9,  -999.00,9,   5.7143
  58GS20090528,   GIN,   333,  1,     13,20090207,2202, 69.9960,  12.5760, 2790,    199.6,   6.2580,  35.1907,2,  35.1906,2,    287.1,2,     5.02,2,    11.92,2,     0.01,2,     0.79,2, -999.000,9,    2.392,2, 4.05609102,2,   2150.0,2,   2320.1,2,  -999.00,9,  -999.00,9,   6.2404
  58GS20090528,   GIN,   333,  1,     14,20090207,2202, 69.9960,  12.5760, 2790,    152.0,   6.6490,  35.2071,2,  35.2072,2,    283.8,2,     5.12,2,    12.02,2,     0.01,2,     0.81,2, -999.000,9, -999.000,9,       -999,9,   2149.4,2,   2322.8,2,  -999.00,9,  -999.00,9,   6.6352
  58GS20090528,   GIN,   333,  1,     15,20090207,2202, 69.9960,  12.5760, 2790,    124.8,   6.9260,  35.2214,2,  35.2180,2,    281.5,2,     5.19,2,    12.08,2,     0.03,2,     0.81,2, -999.000,9,    2.341,2, 4.14179703,2,   2148.2,2,   2323.2,2,  -999.00,9,  -999.00,9,   6.9144
  58GS20090528,   GIN,   333,  1,     16,20090207,2202, 69.9960,  12.5760, 2790,    100.0,   7.1080,  35.2093,2,-999.0000,9,    281.8,2,     4.23,2,     9.82,2,     0.20,2,     0.73,2, -999.000,9, -999.000,9,       -999,9,   2143.0,2,   2324.5,2,     0.06,2,     0.20,2,   7.0986
  58GS20090528,   GIN,   333,  1,     17,20090207,2202, 69.9960,  12.5760, 2790,     75.3,   7.5320,  35.2054,2,  35.2048,2,    284.3,2,     2.55,2,     6.83,2,     0.11,2,     0.63,2, -999.000,9,    2.330,2, 3.66212396,2,   2134.3,2,   2329.6,2,     0.06,2,     0.20,2,   7.5247
  58GS20090528,   GIN,   333,  1,     18,20090207,2202, 69.9960,  12.5760, 2790,     49.9,   8.1340,  35.1817,2,  35.1840,2,    289.9,2,     0.58,2,     3.23,2,     0.10,2,     0.34,2, -999.000,9, -999.000,9,       -999,9,   2111.4,2,   2331.7,2,     0.27,2,     0.33,2,   8.1289
  58GS20090528,   GIN,   333,  1,     19,20090207,2202, 69.9960,  12.5760, 2790,     29.6,   8.7920,  34.9999,2,  35.0860,2,    289.8,2,     0.26,2,     1.96,2,     0.09,2,     0.20,2, -999.000,9,    2.293,2, 3.33942975,2,   2103.4,2,   2330.1,2,     0.18,2,     0.14,2,   8.7889
  58GS20090528,   GIN,   333,  1,     20,20090207,2202, 69.9960,  12.5760, 2790,     10.2,   9.5900,  34.9204,2,  34.9310,2,    305.7,2,     0.02,2,     0.00,2,     0.01,2,     0.03,2, -999.000,9,    2.283,2,  3.6290738,2,   2070.4,2,   2326.0,2,     0.70,2,     0.28,2,   9.5889
  58GS20090528,   GIN,   333,  1,     21,20090207,2202, 69.9960,  12.5760, 2790,      5.0,  10.1250,  34.9299,2,  34.8941,2,    296.0,2,     0.04,2,     0.00,2,     0.02,2,     0.03,2, -999.000,9, -999.000,9,       -999,9,   -999.0,9,   -999.0,9,     0.58,2,     0.15,2,  10.1244