BOTTLE,20120326PRINUNIVRMK
EXPOCODE,SECT_ID,STNNBR,CASTNO,BTLNBR,DATE,TIME,LATITUDE,LONGITUDE,DEPTH,CTDPRS,CTDTMP,CTDSAL,CTDSAL_FLAG_W,SALNTY,SALNTY_FLAG_W,OXYGEN,OXYGEN_FLAG_W,SILCAT,SILCAT_FLAG_W,NITRAT,NITRAT_FLAG_W,NITRIT,NITRIT_FLAG_W,PHSPHT,PHSPHT_FLAG_W,CFC-11,CFC-11_FLAG_W,CFC-12,CFC-12_FLAG_W,SF6,SF6_FLAG_W,TCARBN,TCARBN_FLAG_W,ALKALI,ALKALI_FLAG_W,CHLORA,CHLORA_FLAG_W,PHAEO,PHAEO_FLAG_W,THETA
,,,,,,,,,METERS,DBAR,ITS-90,PSS-78,,PSS-78,,UMOL/KG,,UMOL/KG,,UMOL/KG,,UMOL/KG,,UMOL/KG,,PMOL/KG,,PMOL/KG,,FMOL/KG,,UMOL/KG,,UMOL/KG,,UG/KG,,UG/KG,,DEG C
  58GS20090528,   GIN,   340,  1,      1,20090407,1739, 69.9970,  -0.6010, 3240,   3230.0,  -0.7920,  34.9063,2,  34.9110,2,    295.1,2,    14.19,2,    15.24,2,     0.01,2,     1.04,2, -999.000,9, -999.000,9,       -999,9,   2163.9,2,   2306.0,2,  -999.00,9,  -999.00,9,  -0.9777
  58GS20090528,   GIN,   340,  1,      2,20090407,1739, 69.9970,  -0.6010, 3240,   3000.0,  -0.7960,  34.9065,2,  34.9102,2,    295.5,2,    13.81,2,    15.19,2,     0.02,2,     1.06,2, -999.000,9, -999.000,9,       -999,9,   2164.5,2,   -999.0,9,  -999.00,9,  -999.00,9,  -0.9626
  58GS20090528,   GIN,   340,  1,      3,20090407,1739, 69.9970,  -0.6010, 3240,   2499.6,  -0.7960,  34.9066,2,  34.9099,2,    296.4,2,    12.86,2,    14.94,2,     0.02,2,     1.04,2, -999.000,9, -999.000,9,       -999,9,   2162.4,2,   2304.4,2,  -999.00,9,  -999.00,9,  -0.9243
  58GS20090528,   GIN,   340,  1,      4,20090407,1739, 69.9970,  -0.6010, 3240,   1999.3,  -0.7530,  34.9045,2,  34.9090,2,    297.3,2,    11.73,2,    14.72,2,     0.02,2,     1.01,2, -999.000,9, -999.000,9,       -999,9,   2166.1,2,   -999.0,9,  -999.00,9,  -999.00,9,  -0.8477
  58GS20090528,   GIN,   340,  1,      5,20090407,1739, 69.9970,  -0.6010, 3240,   1999.5,  -0.7530,  34.9045,2,  34.9083,2,    297.2,2,  -999.00,9,  -999.00,9,  -999.00,9,  -999.00,9, -999.000,9, -999.000,9,       -999,9,   2163.2,2,   -999.0,9,  -999.00,9,  -999.00,9,  -0.8477
  58GS20090528,   GIN,   340,  1,      6,20090407,1739, 69.9970,  -0.6010, 3240,   1498.8,  -0.6120,  34.8977,2,  34.9038,2,    300.8,2,     9.98,2,    14.35,2,     0.02,2,     0.99,2, -999.000,9, -999.000,9,       -999,9,   2165.2,2,   2299.6,2,  -999.00,9,  -999.00,9,  -0.6781
  58GS20090528,   GIN,   340,  1,      7,20090407,1739, 69.9970,  -0.6010, 3240,   1199.9,  -0.3700,  34.8933,2,  34.9008,2,    302.8,2,     8.53,2,    14.10,2,     0.02,2,     0.98,2, -999.000,9, -999.000,9,       -999,9,   2166.4,2,   -999.0,9,  -999.00,9,  -999.00,9,  -0.4221
  58GS20090528,   GIN,   340,  1,      8,20090407,1739, 69.9970,  -0.6010, 3240,   1000.0,  -0.0440,  34.8928,2,  34.8999,2,    306.7,2,     7.39,2,    13.62,2,     0.01,2,     0.94,2, -999.000,9, -999.000,9,       -999,9,   2167.3,2,   2301.4,2,  -999.00,9,  -999.00,9,  -0.0883
  58GS20090528,   GIN,   340,  1,      9,20090407,1739, 69.9970,  -0.6010, 3240,    799.3,   1.0510,  34.9240,2,  34.9291,2,    307.4,2,     6.21,2,    13.20,2,     0.02,2,     0.92,2, -999.000,9, -999.000,9,       -999,9,   2165.5,2,   -999.0,9,  -999.00,9,  -999.00,9,   1.0098
  58GS20090528,   GIN,   340,  1,     10,20090407,1739, 69.9970,  -0.6010, 3240,    599.6,   4.0050,  35.0827,2,  35.0822,2,    301.3,2,     4.98,2,    11.99,2,     0.02,2,     0.83,2, -999.000,9, -999.000,9,       -999,9,   2154.2,2,   2311.1,2,  -999.00,9,  -999.00,9,   3.9608
  58GS20090528,   GIN,   340,  1,     11,20090407,1739, 69.9970,  -0.6010, 3240,    499.8,   4.5200,  35.1238,2,  35.1222,2,    300.9,2,     4.80,2,    11.59,2,     0.02,2,     0.79,2, -999.000,9, -999.000,9,       -999,9,   2150.7,2,   -999.0,9,  -999.00,9,  -999.00,9,   4.4815
  58GS20090528,   GIN,   340,  1,     12,20090407,1739, 69.9970,  -0.6010, 3240,    399.5,   4.7370,  35.1325,2,  35.1307,2,    299.3,2,     4.84,2,    11.71,2,     0.03,2,     0.81,2, -999.000,9, -999.000,9,       -999,9,   2151.9,2,   2315.0,2,  -999.00,9,  -999.00,9,   4.7059
  58GS20090528,   GIN,   340,  1,     13,20090407,1739, 69.9970,  -0.6010, 3240,    300.1,   4.9740,  35.1394,2,  35.1384,2,    297.8,2,     4.83,2,    11.68,2,     0.02,2,     0.79,2, -999.000,9, -999.000,9,       -999,9,   2148.7,2,   -999.0,9,  -999.00,9,  -999.00,9,   4.9503
  58GS20090528,   GIN,   340,  1,     14,20090407,1739, 69.9970,  -0.6010, 3240,    199.9,   5.3310,  35.1530,2,  35.1523,2,    295.0,2,     4.97,2,    11.91,2,     0.02,2,     0.80,2, -999.000,9, -999.000,9,       -999,9,   2161.0,2,   2316.9,2,  -999.00,9,  -999.00,9,   5.3148
  58GS20090528,   GIN,   340,  1,     15,20090407,1739, 69.9970,  -0.6010, 3240,    150.3,   5.7310,  35.1561,2,  35.1578,2,    290.2,2,     5.08,2,    12.10,2,     0.03,2,     0.80,2, -999.000,9, -999.000,9,       -999,9,   2148.7,2,   2315.6,2,  -999.00,9,  -999.00,9,   5.7184
  58GS20090528,   GIN,   340,  1,     16,20090407,1739, 69.9970,  -0.6010, 3240,    124.9,   6.1970,  35.1775,2,  35.1745,2,    286.7,2,     5.26,2,    12.16,2,     0.03,2,     0.82,2, -999.000,9, -999.000,9,       -999,9,   2146.0,2,   2318.2,2,  -999.00,9,  -999.00,9,   6.1861
  58GS20090528,   GIN,   340,  1,     17,20090407,1739, 69.9970,  -0.6010, 3240,     99.9,   6.6030,  35.2020,2,  35.1989,2,    283.8,2,     5.33,2,    12.30,2,     0.02,2,     0.83,2, -999.000,9, -999.000,9,       -999,9,   2147.1,2,   2318.5,2,     0.02,2,     0.10,2,   6.5940
  58GS20090528,   GIN,   340,  1,     18,20090407,1739, 69.9970,  -0.6010, 3240,     74.9,   7.0310,  35.2278,2,  35.2238,2,    281.1,2,     5.18,2,    12.09,2,     0.08,2,     0.81,2, -999.000,9, -999.000,9,       -999,9,   2155.3,2,   2320.4,2,     0.05,2,     0.11,2,   7.0240
  58GS20090528,   GIN,   340,  1,     19,20090407,1739, 69.9970,  -0.6010, 3240,     49.8,   7.4200,  35.2455,2,  35.2427,2,    281.2,2,     4.10,2,    10.47,2,     0.16,2,     0.78,2, -999.000,9, -999.000,9,       -999,9,   2139.3,2,   2322.3,2,     0.18,2,     0.06,2,   7.4152
  58GS20090528,   GIN,   340,  1,     20,20090407,1739, 69.9970,  -0.6010, 3240,     29.8,   7.8530,  35.2197,2,  35.2188,2,    292.8,2,     1.58,2,     6.16,2,     0.14,2,     0.53,2, -999.000,9, -999.000,9,       -999,9,   2119.7,2,   2324.4,2,     0.34,2,     0.09,2,   7.8500
  58GS20090528,   GIN,   340,  1,     21,20090407,1739, 69.9970,  -0.6010, 3240,     10.1,  10.0910,  35.2398,2,  35.2396,2,    296.9,2,     1.22,2,     4.10,2,     0.10,2,     0.31,2, -999.000,9, -999.000,9,       -999,9,   2091.7,2,   2323.1,2,     0.66,2,     0.13,2,  10.0898
  58GS20090528,   GIN,   340,  1,     22,20090407,1739, 69.9970,  -0.6010, 3240,      5.0,  10.2150,  35.2416,2,  35.2350,2,    297.7,2,     1.13,2,     3.47,2,     0.08,2,     0.25,2, -999.000,9, -999.000,9,       -999,9,   2084.6,2,   2322.4,2,     0.81,2,     0.10,2,  10.2144
  58GS20090528,   GIN,   341,  1,      1,20090407,2258, 70.0030,  -2.0780, 2973,   2777.0,  -0.8120,  34.9059,2,  34.9066,2,    295.3,2,    13.69,2,    15.03,2,     0.01,2,     1.03,2, -999.000,9,    0.332,2,0.629406165,2,   2165.8,2,   2306.7,2,  -999.00,9,  -999.00,9,  -0.9607
  58GS20090528,   GIN,   341,  1,      2,20090407,2258, 70.0030,  -2.0780, 2973,   2501.0,  -0.8270,  34.9059,2,  34.9104,2,    295.7,2,    13.54,2,    14.99,2,     0.01,2,     1.03,2, -999.000,9,    0.342,2,0.271218617,2,   2165.6,2,   2305.3,2,  -999.00,9,  -999.00,9,  -0.9548
  58GS20090528,   GIN,   341,  1,      3,20090407,2258, 70.0030,  -2.0780, 2973,   1999.9,  -0.8170,  34.9053,2,  34.9112,2,    296.7,2,    12.49,2,    14.75,2,     0.00,2,     1.01,2, -999.000,9,    0.445,2,0.520937392,2,   2163.0,2,   2304.0,2,  -999.00,9,  -999.00,9,  -0.9107
  58GS20090528,   GIN,   341,  1,      4,20090407,2258, 70.0030,  -2.0780, 2973,   1499.6,  -0.7530,  34.9024,2,  34.9088,2,    298.0,2,    11.31,2,    14.53,2,     0.01,2,     1.01,2, -999.000,9,    0.760,2, 1.02121499,2,   2163.8,2,   2302.2,2,  -999.00,9,  -999.00,9,  -0.8174
  58GS20090528,   GIN,   341,  1,      5,20090407,2258, 70.0030,  -2.0780, 2973,   1200.7,  -0.6450,  34.8976,2,  34.9048,2,    301.2,2,    10.04,2,    14.17,2,     0.01,2,     0.99,2, -999.000,9,    1.257,2, 1.84429417,2,   2164.7,2,   2301.4,2,  -999.00,9,  -999.00,9,  -0.6944
  58GS20090528,   GIN,   341,  1,      6,20090407,2258, 70.0030,  -2.0780, 2973,   1000.3,  -0.5300,  34.8944,2,  34.9007,2,    305.5,2,     8.73,2,    13.80,2,     0.01,2,     0.95,2, -999.000,9,    1.720,2, 1.63772373,2,   2166.4,2,   2301.4,2,  -999.00,9,  -999.00,9,  -0.5703
  58GS20090528,   GIN,   341,  1,      7,20090407,2258, 70.0030,  -2.0780, 2973,    799.7,  -0.2600,  34.8936,2,  34.8989,2,    307.1,2,     7.93,2,    13.75,2,     0.03,2,     0.97,2, -999.000,9,    2.030,2, 2.52093421,2,   2166.8,2,   2300.7,2,  -999.00,9,  -999.00,9,  -0.2926
  58GS20090528,   GIN,   341,  1,      8,20090407,2258, 70.0030,  -2.0780, 2973,    599.8,   0.1450,  34.8942,2,  34.9015,2,    307.6,2,     7.09,2,    13.61,2,     0.02,2,     0.95,2, -999.000,9,    2.429,2, 2.66339473,2,   2168.2,2,   2301.2,2,  -999.00,9,  -999.00,9,   0.1196
  58GS20090528,   GIN,   341,  1,      9,20090407,2258, 70.0030,  -2.0780, 2973,    499.8,   0.6250,  34.9053,2,  34.9100,2,    304.3,2,     6.78,2,    13.86,2,     0.04,2,     0.97,2, -999.000,9, -999.000,9,       -999,9,   2168.8,2,   2301.6,2,  -999.00,9,  -999.00,9,   0.6023
  58GS20090528,   GIN,   341,  1,     10,20090407,2258, 70.0030,  -2.0780, 2973,    399.7,   1.7620,  34.9445,2,  34.9478,2,    301.4,2,     6.14,2,    13.51,2,     0.03,2,     0.94,2, -999.000,9,    2.695,6,   2.182954,2,   2166.7,2,   2304.1,2,  -999.00,9,  -999.00,9,   1.7404
  58GS20090528,   GIN,   341,  1,     11,20090407,2258, 70.0030,  -2.0780, 2973,    299.7,   3.0730,  34.9985,2,  34.9986,2,    302.2,2,     5.24,2,    12.43,2,     0.03,2,     0.85,2, -999.000,9, -999.000,9,       -999,9,   2157.7,2,   2307.4,2,  -999.00,9,  -999.00,9,   3.0539
  58GS20090528,   GIN,   341,  1,     12,20090407,2258, 70.0030,  -2.0780, 2973,    200.0,   3.9820,  35.0379,2,  35.0398,2,    302.9,2,     4.94,2,    11.77,2,     0.03,2,     0.80,2, -999.000,9,    2.703,2, 3.82927026,2,   2153.1,2,   2310.4,2,  -999.00,9,  -999.00,9,   3.9679
  58GS20090528,   GIN,   341,  1,     13,20090407,2258, 70.0030,  -2.0780, 2973,    149.8,   4.2610,  35.0318,2,  35.0309,2,    299.3,2,     5.08,2,    11.86,2,     0.03,2,     0.81,2, -999.000,9, -999.000,9,       -999,9,   2152.4,2,   2309.3,2,  -999.00,9,  -999.00,9,   4.2502
  58GS20090528,   GIN,   341,  1,     14,20090407,2258, 70.0030,  -2.0780, 2973,    125.6,   4.7160,  35.0620,2,  35.0587,2,    296.5,2,     5.21,2,    12.07,2,     0.03,2,     0.81,2, -999.000,9,    2.575,2,  2.2752615,2,   2152.3,2,   2311.9,2,  -999.00,9,  -999.00,9,   4.7065
  58GS20090528,   GIN,   341,  1,     15,20090407,2258, 70.0030,  -2.0780, 2973,    101.5,   4.8930,  35.0656,2,  35.0661,2,    295.8,2,     5.10,2,    11.87,2,     0.09,2,     0.81,2, -999.000,9, -999.000,9,       -999,9,   2150.2,2,   2310.9,2,     0.04,2,     0.10,2,   4.8852
  58GS20090528,   GIN,   341,  1,     16,20090407,2258, 70.0030,  -2.0780, 2973,     75.2,   5.3600,  35.0742,2,  35.0789,2,    295.6,2,     4.42,2,    10.44,2,     0.17,2,     0.76,2, -999.000,9,    2.582,2, 2.89036104,2,   2148.0,2,   2312.2,2,     0.21,2,     0.08,2,   5.3540
  58GS20090528,   GIN,   341,  1,     17,20090407,2258, 70.0030,  -2.0780, 2973,     51.0,   6.4990,  35.1039,2,  35.1084,2,    303.2,2,     1.85,2,     7.22,2,     0.14,2,     0.60,2, -999.000,9,    2.503,2, 2.67994493,2,   2129.6,2,   2317.7,2,     0.44,2,     0.12,2,   6.4945
  58GS20090528,   GIN,   341,  1,     18,20090407,2258, 70.0030,  -2.0780, 2973,     30.9,   7.2650,  35.0967,2,  35.0953,2,    315.6,2,     0.30,2,     3.74,2,     0.11,2,     0.38,2, -999.000,9, -999.000,9,       -999,9,   2107.1,2,   2319.0,2,     0.43,2,     0.12,2,   7.2621
  58GS20090528,   GIN,   341,  1,     19,20090407,2258, 70.0030,  -2.0780, 2973,      9.8,   9.0220,  35.0990,2,  35.0963,2,    312.3,2,     0.18,2,     1.35,2,     0.08,2,     0.18,2, -999.000,9,    2.335,2, 3.43118399,2,   2081.8,2,   2320.2,2,     1.21,2,     0.12,2,   9.0209
  58GS20090528,   GIN,   341,  1,     20,20090407,2258, 70.0030,  -2.0780, 2973,      5.0,   9.0070,  35.1011,2,  35.0974,2,    312.5,2,     0.19,2,     1.30,2,     0.08,2,     0.17,2, -999.000,9, -999.000,9,       -999,9,   2080.8,2,   2321.3,2,     1.22,2,     0.11,2,   9.0065
  58GS20090528,   GIN,   342,  1,      1,20090507,0344, 70.0050,  -3.4460, 3449,   3439.1,  -0.7840,  34.9063,2,-999.0000,9,    295.5,2,    14.02,2,    15.03,2,     0.00,2,     1.02,2, -999.000,9,    0.278,2,0.555587387,2,   2165.6,2,   2304.8,2,  -999.00,9,  -999.00,9,  -0.9878
  58GS20090528,   GIN,   342,  1,      2,20090507,0344, 70.0050,  -3.4460, 3449,   3439.0,  -0.7840,  34.9064,2,-999.0000,9,    295.6,2,  -999.00,9,  -999.00,9,  -999.00,9,  -999.00,9, -999.000,9,    0.292,2,0.800045122,2,   2164.7,2,   2305.2,2,  -999.00,9,  -999.00,9,  -0.9877
  58GS20090528,   GIN,   342,  1,      3,20090507,0344, 70.0050,  -3.4460, 3449,   3000.1,  -0.8040,  34.9064,2,-999.0000,9,    295.6,2,    13.72,2,    14.98,2,     0.01,2,     1.03,2, -999.000,9,    0.324,2,0.683573792,2,   2164.3,2,   -999.0,9,  -999.00,9,  -999.00,9,  -0.9704
  58GS20090528,   GIN,   342,  1,      4,20090507,0344, 70.0050,  -3.4460, 3449,   2500.1,  -0.8110,  34.9063,2,-999.0000,9,    296.3,2,    13.05,2,    14.87,2,     0.01,2,     1.02,2, -999.000,9,    0.386,2, 0.73946646,2,   2163.1,2,   2309.4,2,  -999.00,9,  -999.00,9,  -0.9390
  58GS20090528,   GIN,   342,  1,      5,20090507,0344, 70.0050,  -3.4460, 3449,   2000.4,  -0.7980,  34.9055,2,-999.0000,9,    297.0,2,    12.28,2,    14.77,2,     0.01,2,     1.02,2, -999.000,9,    0.493,2,0.934389415,2,   2163.0,2,   -999.0,9,  -999.00,9,  -999.00,9,  -0.8920
  58GS20090528,   GIN,   342,  1,      6,20090507,0344, 70.0050,  -3.4460, 3449,   1494.1,  -0.7070,  34.9010,2,-999.0000,9,    299.5,2,    10.79,2,    14.39,2,     0.01,2,     1.01,2, -999.000,9,    0.993,2, 2.50433878,2,   2164.7,2,   2300.9,2,  -999.00,9,  -999.00,9,  -0.7717
  58GS20090528,   GIN,   342,  1,      7,20090507,0344, 70.0050,  -3.4460, 3449,   1199.4,  -0.5820,  34.8959,2,-999.0000,9,    303.9,2,     9.41,2,    14.03,2,     0.01,2,     0.98,2, -999.000,9,    1.565,2, 4.18450543,2,   2170.4,2,   -999.0,9,  -999.00,9,  -999.00,9,  -0.6320
  58GS20090528,   GIN,   342,  1,      8,20090507,0344, 70.0050,  -3.4460, 3449,    999.4,  -0.4350,  34.8944,2,-999.0000,9,    307.2,2,     8.37,2,    13.75,2,     0.01,2,     0.96,2, -999.000,9,    1.966,2, 3.28583328,2,   2165.6,2,   2301.0,2,  -999.00,9,  -999.00,9,  -0.4760
  58GS20090528,   GIN,   342,  1,      9,20090507,0344, 70.0050,  -3.4460, 3449,    799.6,  -0.2070,  34.8941,2,-999.0000,9,    307.9,2,     7.70,2,    13.58,2,     0.02,2,     0.95,2, -999.000,9,    2.189,2, 3.94598671,2,   2164.8,2,   -999.0,9,  -999.00,9,  -999.00,9,  -0.2399
  58GS20090528,   GIN,   342,  1,     10,20090507,0344, 70.0050,  -3.4460, 3449,    600.1,   0.2440,  34.8958,2,-999.0000,9,    307.7,2,     6.86,2,    13.47,2,     0.01,2,     0.93,2, -999.000,9,    2.595,2,  4.3175696,2,   2167.4,2,   2299.5,2,  -999.00,9,  -999.00,9,   0.2181
  58GS20090528,   GIN,   342,  1,     11,20090507,0344, 70.0050,  -3.4460, 3449,    499.4,   0.8500,  34.9108,2,-999.0000,9,    303.3,2,     6.51,2,    13.66,2,     0.01,2,     0.95,2, -999.000,9, -999.000,9,       -999,9,   2170.1,2,   -999.0,9,  -999.00,9,  -999.00,9,   0.8264
  58GS20090528,   GIN,   342,  1,     12,20090507,0344, 70.0050,  -3.4460, 3449,    399.3,   1.9050,  34.9560,2,-999.0000,9,    303.2,2,     5.87,2,    13.11,2,     0.02,2,     0.91,2, -999.000,9,    2.476,2, 3.47508975,2,   2162.0,2,   2303.3,2,  -999.00,9,  -999.00,9,   1.8830
  58GS20090528,   GIN,   342,  1,     13,20090507,0344, 70.0050,  -3.4460, 3449,    300.3,   3.2040,  35.0165,2,-999.0000,9,    304.3,2,     5.09,2,    12.08,2,     0.02,2,     0.83,2, -999.000,9, -999.000,9,       -999,9,   2155.8,2,   -999.0,9,  -999.00,9,  -999.00,9,   3.1845
  58GS20090528,   GIN,   342,  1,     14,20090507,0344, 70.0050,  -3.4460, 3449,    201.1,   4.0990,  35.0672,2,-999.0000,9,    301.5,2,     4.92,2,    11.74,2,     0.02,2,     0.79,2, -999.000,9,    2.712,2, 5.36041882,2,   2148.0,2,   2310.2,2,  -999.00,9,  -999.00,9,   4.0847
  58GS20090528,   GIN,   342,  1,     15,20090507,0344, 70.0050,  -3.4460, 3449,    149.9,   4.4620,  35.0764,2,-999.0000,9,    299.8,2,     4.93,2,    11.65,2,     0.06,2,     0.79,2, -999.000,9,    2.664,2, 4.63348333,2,   2147.6,2,   2311.2,2,  -999.00,9,  -999.00,9,   4.4509
  58GS20090528,   GIN,   342,  1,     16,20090507,0344, 70.0050,  -3.4460, 3449,    126.0,   4.6280,  35.0704,2,-999.0000,9,    298.1,2,     5.00,2,    11.76,2,     0.03,2,     0.79,2, -999.000,9, -999.000,9,       -999,9,   -999.0,9,   2312.4,2,  -999.00,9,  -999.00,9,   4.6186
  58GS20090528,   GIN,   342,  1,     17,20090507,0344, 70.0050,  -3.4460, 3449,    100.7,   4.8400,  35.0810,2,-999.0000,9,    296.0,2,     4.99,2,    11.72,2,     0.11,2,     0.79,2, -999.000,9,    2.619,2, 4.08172432,2,   2148.0,2,   2313.3,2,     0.02,2,     0.04,2,   4.8323
  58GS20090528,   GIN,   342,  1,     18,20090507,0344, 70.0050,  -3.4460, 3449,     76.6,   5.4680,  35.0849,2,-999.0000,9,    298.3,2,     3.94,2,     9.79,2,     0.19,2,     0.74,2, -999.000,9, -999.000,9,       -999,9,   2150.1,2,   2314.4,2,     0.24,2,     0.09,2,   5.4618
  58GS20090528,   GIN,   342,  1,     19,20090507,0344, 70.0050,  -3.4460, 3449,     51.2,   6.4140,  35.1118,2,-999.0000,9,    311.6,2,     1.10,2,     5.82,2,     0.11,2,     0.50,2, -999.000,9,    2.570,2, 4.18535524,2,   2119.6,2,   2321.1,2,     0.41,2,     0.09,2,   6.4095
  58GS20090528,   GIN,   342,  1,     20,20090507,0344, 70.0050,  -3.4460, 3449,     29.3,   6.9650,  35.1192,2,-999.0000,9,    315.9,2,     0.51,2,     4.63,2,     0.11,2,     0.42,2, -999.000,9, -999.000,9,       -999,9,   2106.6,2,   2321.6,2,     0.38,2,     0.07,2,   6.9623
  58GS20090528,   GIN,   342,  1,     21,20090507,0344, 70.0050,  -3.4460, 3449,      8.4,   8.6350,  35.1129,2,-999.0000,9,    314.0,2,     0.11,2,     2.39,2,     0.09,2,     0.24,2, -999.000,9,    2.432,2, 6.32440926,2,   2088.8,2,   2323.4,2,     0.84,2,     0.14,2,   8.6341
  58GS20090528,   GIN,   342,  1,     22,20090507,0344, 70.0050,  -3.4460, 3449,      4.9,   8.6660,  35.1161,2,-999.0000,9,    310.9,2,     0.12,2,     2.20,2,     0.08,2,     0.22,2, -999.000,9, -999.000,9,       -999,9,   2085.3,2,   2321.4,2,     0.93,2,     0.15,2,   8.6655