BOTTLE,20120326PRINUNIVRMK
EXPOCODE,SECT_ID,STNNBR,CASTNO,BTLNBR,DATE,TIME,LATITUDE,LONGITUDE,DEPTH,CTDPRS,CTDTMP,CTDSAL,CTDSAL_FLAG_W,SALNTY,SALNTY_FLAG_W,OXYGEN,OXYGEN_FLAG_W,SILCAT,SILCAT_FLAG_W,NITRAT,NITRAT_FLAG_W,NITRIT,NITRIT_FLAG_W,PHSPHT,PHSPHT_FLAG_W,CFC-11,CFC-11_FLAG_W,CFC-12,CFC-12_FLAG_W,SF6,SF6_FLAG_W,TCARBN,TCARBN_FLAG_W,ALKALI,ALKALI_FLAG_W,CHLORA,CHLORA_FLAG_W,PHAEO,PHAEO_FLAG_W,THETA
,,,,,,,,,METERS,DBAR,ITS-90,PSS-78,,PSS-78,,UMOL/KG,,UMOL/KG,,UMOL/KG,,UMOL/KG,,UMOL/KG,,PMOL/KG,,PMOL/KG,,FMOL/KG,,UMOL/KG,,UMOL/KG,,UG/KG,,UG/KG,,DEG C
  58GS20090528,   GIN,   316,  1,      1,20092806,1130, 72.5020,  19.5610,  463,    376.6,   3.9360,  35.0645,2,  35.0664,2,    296.5,2,     5.44,2,    11.70,2,     0.04,2,     0.79,2, -999.000,9,    2.631,2, 3.03912839,2,   2156.2,2,   2313.4,2,  -999.00,9,  -999.00,9,   3.9091
  58GS20090528,   GIN,   316,  1,      2,20092806,1130, 72.5020,  19.5610,  463,    299.4,   4.9060,  35.1129,2,  35.1133,2,    294.7,2,     4.81,2,    11.57,2,     0.00,2,     0.76,2, -999.000,9,    2.651,2, 4.11490628,2,   2148.9,2,   2315.3,2,  -999.00,9,  -999.00,9,   4.8825
  58GS20090528,   GIN,   316,  1,      3,20092806,1130, 72.5020,  19.5610,  463,    249.7,   5.6440,  35.1448,2,  35.1430,2,    288.4,2,     4.91,2,    11.81,2,     0.01,2,     0.77,2, -999.000,9,    2.609,6, 4.09483647,2,   2149.9,2,   2317.2,2,  -999.00,9,  -999.00,9,   5.6230
  58GS20090528,   GIN,   316,  1,      4,20092806,1130, 72.5020,  19.5610,  463,    199.6,   5.9930,  35.1446,2,  35.1437,2,    290.0,2,     4.40,2,    11.25,2,     0.02,2,     0.74,2, -999.000,9,    2.459,2, 4.16878301,2,   2145.5,2,   2319.2,2,  -999.00,9,  -999.00,9,   5.9758
  58GS20090528,   GIN,   316,  1,      5,20092806,1130, 72.5020,  19.5610,  463,    149.6,   6.2150,  35.1430,2,  35.1398,2,   -999.0,9,     4.22,2,    10.84,2,     0.07,2,     0.73,2, -999.000,9, -999.000,9,       -999,9,   -999.0,9,   -999.0,9,  -999.00,9,  -999.00,9,   6.2019
  58GS20090528,   GIN,   316,  1,      6,20092806,1130, 72.5020,  19.5610,  463,     99.6,   6.2580,  35.1071,2,  35.1048,2,    303.9,2,     3.08,2,     7.04,2,     0.06,2,     0.54,2, -999.000,9,    2.514,2, 4.16178628,2,   2130.2,2,   2323.0,2,     0.01,2,     0.05,2,   6.2493
  58GS20090528,   GIN,   316,  1,      7,20092806,1130, 72.5020,  19.5610,  463,     74.5,   6.2880,  35.1049,2,  35.1031,2,   -999.0,9,     3.09,2,     6.96,2,     0.06,2,     0.55,2, -999.000,9, -999.000,9,       -999,9,   -999.0,9,   -999.0,9,     0.03,2,     0.05,2,   6.2815
  58GS20090528,   GIN,   316,  1,      8,20092806,1130, 72.5020,  19.5610,  463,     49.7,   6.4190,  35.1071,2,  35.1061,2,    298.1,2,     3.49,2,     8.18,2,     0.09,2,     0.60,2, -999.000,9,    2.483,2, 4.51252996,2,   2133.2,2,   2321.0,2,  -999.00,9,  -999.00,9,   6.4146
  58GS20090528,   GIN,   316,  1,      9,20092806,1130, 72.5020,  19.5610,  463,     29.8,   7.3280,  35.0517,2,  35.0546,2,   -999.0,9,     3.08,2,     5.48,2,     0.09,2,     0.44,2, -999.000,9, -999.000,9,       -999,9,   -999.0,9,   -999.0,9,     0.56,2,     0.17,2,   7.3252
  58GS20090528,   GIN,   316,  1,     10,20092806,1130, 72.5020,  19.5610,  463,     19.4,   7.5040,  35.0496,2,  35.0542,2,   -999.0,9,     3.04,2,     5.18,2,     0.07,2,     0.42,2, -999.000,9, -999.000,9,       -999,9,   -999.0,9,   -999.0,9,     0.56,2,     0.14,2,   7.5021
  58GS20090528,   GIN,   316,  1,     11,20092806,1130, 72.5020,  19.5610,  463,      9.0,   7.7380,  35.0485,2,  35.0535,2,   -999.0,9,     3.02,2,     5.10,2,     0.07,2,     0.41,2, -999.000,9, -999.000,9,       -999,9,   -999.0,9,   -999.0,9,     0.64,2,     0.14,2,   7.7371
  58GS20090528,   GIN,   316,  1,     12,20092806,1130, 72.5020,  19.5610,  463,      4.5,   7.8180,  35.0468,2,  35.0475,2,    302.5,2,     3.00,2,     4.80,2,     0.06,2,     0.40,2, -999.000,9,    2.458,2, 3.33797624,2,   2112.4,2,   2323.1,2,     0.48,2,     0.09,2,   7.8176
  58GS20090528,   GIN,   317,  1,      1,20092806,1542, 72.2510,  19.6180,  423,    314.1,   4.6440,  35.0998,2,  35.1010,2,    290.1,2,     5.69,2,    12.25,2,     0.08,2,     0.82,2, -999.000,9,    2.494,6, 3.77963271,6,   2153.0,2,   2315.8,2,  -999.00,9,  -999.00,9,   4.6200
  58GS20090528,   GIN,   317,  1,      2,20092806,1542, 72.2510,  19.6180,  423,    299.5,   4.6790,  35.1020,2,  35.1021,2,    290.1,2,     5.65,2,    12.23,2,     0.07,2,     0.82,2, -999.000,9,    2.523,2,  4.0532184,2,   2153.4,2,   2317.4,2,  -999.00,9,  -999.00,9,   4.6560
  58GS20090528,   GIN,   317,  1,      3,20092806,1542, 72.2510,  19.6180,  423,    249.5,   5.4640,  35.1338,2,  35.1398,2,   -999.0,9,     4.96,2,    11.81,2,     0.03,2,     0.79,2, -999.000,9, -999.000,9,       -999,9,   -999.0,9,   -999.0,9,  -999.00,9,  -999.00,9,   5.4434
  58GS20090528,   GIN,   317,  1,      4,20092806,1542, 72.2510,  19.6180,  423,    199.6,   5.7420,  35.1392,2,  35.1374,2,    290.2,2,     4.72,2,    11.57,2,     0.03,2,     0.76,2, -999.000,9,    2.379,2, 2.53314011,2,   2146.8,2,   2319.2,2,  -999.00,9,  -999.00,9,   5.7252
  58GS20090528,   GIN,   317,  1,      5,20092806,1542, 72.2510,  19.6180,  423,    149.7,   6.0410,  35.1451,2,  35.1441,2,    288.1,2,     4.67,2,    11.71,2,     0.02,2,     0.77,2, -999.000,9, -999.000,9,       -999,9,   2146.4,2,   2320.1,2,  -999.00,9,  -999.00,9,   6.0281
  58GS20090528,   GIN,   317,  1,      6,20092806,1542, 72.2510,  19.6180,  423,     99.1,   6.3000,  35.1401,2,  35.1437,2,    287.9,2,     4.42,2,    11.34,2,     0.02,2,     0.75,2, -999.000,9,    2.468,2, 3.27422624,2,   2143.2,2,   2321.3,2,     0.02,2,     0.08,2,   6.2913
  58GS20090528,   GIN,   317,  1,      7,20092806,1542, 72.2510,  19.6180,  423,     74.3,   6.4320,  35.1322,2,  35.1344,2,    289.5,2,     4.26,2,    10.81,2,     0.05,2,     0.72,2, -999.000,9, -999.000,9,       -999,9,   2142.0,2,   2320.1,2,     0.03,2,     0.08,2,   6.4254
  58GS20090528,   GIN,   317,  1,      8,20092806,1542, 72.2510,  19.6180,  423,     49.5,   6.5440,  35.1097,2,  35.1249,2,    291.2,2,     4.08,2,    10.11,2,     0.10,2,     0.68,2, -999.000,9, -999.000,9,       -999,9,   2139.0,2,   2320.6,2,     0.09,2,     0.11,2,   6.5396
  58GS20090528,   GIN,   317,  1,      9,20092806,1542, 72.2510,  19.6180,  423,     29.5,   7.4960,  35.0840,2,  35.0945,2,    299.0,2,     3.27,2,     6.41,2,     0.11,2,     0.49,2, -999.000,9,    2.521,2, 3.94690707,2,   2119.0,2,   2323.8,2,     0.62,2,     0.05,2,   7.4932
  58GS20090528,   GIN,   317,  1,     10,20092806,1542, 72.2510,  19.6180,  423,     20.2,   7.5400,  35.0820,2,  35.0839,2,   -999.0,9,     2.88,2,     5.36,2,     0.12,2,     0.42,2, -999.000,9, -999.000,9,       -999,9,   -999.0,9,   -999.0,9,     0.62,2,     0.06,2,   7.5380
  58GS20090528,   GIN,   317,  1,     11,20092806,1542, 72.2510,  19.6180,  423,      9.4,   7.7570,  35.0744,2,  35.0747,2,   -999.0,9,     2.72,2,     4.71,2,     0.12,2,     0.39,2, -999.000,9, -999.000,9,       -999,9,   -999.0,9,   -999.0,9,  -999.00,9,  -999.00,9,   7.7561
  58GS20090528,   GIN,   317,  1,     12,20092806,1542, 72.2510,  19.6180,  423,      4.6,   7.8900,  35.0763,2,  35.0735,2,    303.5,2,     2.73,2,     4.72,2,     0.10,2,     0.39,2, -999.000,9,    2.562,2, 4.61553534,2,   2110.4,2,   2325.1,2,     0.54,2,     0.02,2,   7.8895
  58GS20090528,   GIN,   318,  1,      1,20092806,1837, 72.0000,  19.6840,  378,    298.6,   5.0320,  35.1110,2,  35.1137,2,    292.2,2,     5.02,2,    11.67,2,     0.04,2,     0.79,2, -999.000,9, -999.000,9,       -999,9,   2148.8,2,   2318.1,2,  -999.00,9,  -999.00,9,   5.0083
  58GS20090528,   GIN,   318,  1,      2,20092806,1837, 72.0000,  19.6840,  378,    249.5,   5.6340,  35.1343,2,  35.1413,2,   -999.0,9,     4.98,2,    11.62,2,     0.04,2,     0.78,2, -999.000,9, -999.000,9,       -999,9,   -999.0,9,   -999.0,9,  -999.00,9,  -999.00,9,   5.6131
  58GS20090528,   GIN,   318,  1,      3,20092806,1837, 72.0000,  19.6840,  378,    199.2,   6.0290,  35.1403,2,  35.1403,2,    288.8,2,     4.53,2,    11.47,2,     0.02,2,     0.77,2, -999.000,9, -999.000,9,       -999,9,   2145.2,2,   2319.1,2,  -999.00,9,  -999.00,9,   6.0118
  58GS20090528,   GIN,   318,  1,      4,20092806,1837, 72.0000,  19.6840,  378,    149.9,   6.3850,  35.1514,2,  35.1498,2,    287.9,2,     4.38,2,    11.22,2,     0.02,2,     0.75,2, -999.000,9, -999.000,9,       -999,9,   2143.3,2,   2321.1,2,  -999.00,9,  -999.00,9,   6.3717
  58GS20090528,   GIN,   318,  1,      5,20092806,1837, 72.0000,  19.6840,  378,    124.5,   6.5290,  35.1524,2,  35.1498,2,   -999.0,9,     4.43,2,    11.30,2,     0.03,2,     0.74,2, -999.000,9, -999.000,9,       -999,9,   2139.6,2,   2319.7,2,  -999.00,9,  -999.00,9,   6.5178
  58GS20090528,   GIN,   318,  1,      6,20092806,1837, 72.0000,  19.6840,  378,     99.4,   6.6650,  35.1375,2,  35.1376,2,    286.1,2,     4.25,2,    10.91,2,     0.04,2,     0.72,2, -999.000,9, -999.000,9,       -999,9,   2132.5,2,   2319.9,2,     0.12,2,     0.12,2,   6.6560
  58GS20090528,   GIN,   318,  1,      7,20092806,1837, 72.0000,  19.6840,  378,     75.0,   6.7520,  35.1033,2,  35.1206,2,    287.2,2,     4.13,2,    10.37,2,     0.09,2,     0.69,2, -999.000,9, -999.000,9,       -999,9,   2124.3,2,   2320.1,2,     0.32,2,     0.10,2,   6.7452
  58GS20090528,   GIN,   318,  1,      8,20092806,1837, 72.0000,  19.6840,  378,     50.1,   6.9830,  35.0262,2,  35.0709,2,    292.2,2,     3.71,2,     8.30,2,     0.19,2,     0.61,2, -999.000,9, -999.000,9,       -999,9,   2105.8,2,   2319.0,2,     0.45,2,     0.15,2,   6.9784
  58GS20090528,   GIN,   318,  1,      9,20092806,1837, 72.0000,  19.6840,  378,     30.0,   7.3350,  34.9621,2,  34.9949,2,    293.6,2,     3.20,2,     6.78,2,     0.21,2,     0.53,2, -999.000,9, -999.000,9,       -999,9,   -999.0,9,   -999.0,9,     7.85,2,     1.69,2,   7.3321
  58GS20090528,   GIN,   318,  1,     10,20092806,1837, 72.0000,  19.6840,  378,     19.3,   7.7700,  34.9694,2,  34.9666,2,   -999.0,9,     2.70,2,     4.03,2,     0.11,2,     0.36,2, -999.000,9, -999.000,9,       -999,9,   -999.0,9,   -999.0,9,     0.84,2,     0.17,2,   7.7681
  58GS20090528,   GIN,   318,  1,     11,20092806,1837, 72.0000,  19.6840,  378,      9.6,   7.8090,  34.9491,2,  34.9534,2,   -999.0,9,     2.64,2,     3.82,2,     0.10,2,     0.34,2, -999.000,9, -999.000,9,       -999,9,   -999.0,9,   -999.0,9,     0.73,2,     0.18,2,   7.8081
  58GS20090528,   GIN,   318,  1,     12,20092806,1837, 72.0000,  19.6840,  378,      4.2,   7.7670,  34.8829,2,  34.8960,2,    304.5,2,     2.36,2,     3.68,2,     0.10,2,     0.33,2, -999.000,9, -999.000,9,       -999,9,   -999.0,9,   -999.0,9,     0.77,2,     0.09,2,   7.7666
  58GS20090528,   GIN,   319,  1,      1,20092806,2348, 71.7530,  19.7350,  378,    249.6,   5.5110,  35.1297,2,  35.1271,2,    286.7,2,     5.15,2,    12.00,2,     0.06,2,     0.78,2, -999.000,9,    2.513,2, 2.83086297,2,   2152.6,2,   2317.3,2,  -999.00,9,  -999.00,9,   5.4903
  58GS20090528,   GIN,   319,  1,      2,20092806,2348, 71.7530,  19.7350,  378,    199.6,   5.9450,  35.1384,2,  35.1383,2,    288.8,2,     4.68,2,    11.60,2,     0.03,2,     0.78,2, -999.000,9,    2.510,2, 3.54091837,2,   2147.0,2,   2317.3,2,  -999.00,9,  -999.00,9,   5.9279
  58GS20090528,   GIN,   319,  1,      3,20092806,2348, 71.7530,  19.7350,  378,    149.4,   6.2880,  35.1392,2,  35.1376,2,    286.4,2,     4.47,2,    11.43,2,     0.04,2,     0.76,2, -999.000,9,    2.425,2, 3.30274506,2,   2146.7,2,   2317.3,2,  -999.00,9,  -999.00,9,   6.2748
  58GS20090528,   GIN,   319,  1,      4,20092806,2348, 71.7530,  19.7350,  378,    125.0,   6.4570,  35.1316,2,  35.1278,2,   -999.0,9,     4.58,2,    11.53,2,     0.06,2,     0.77,2, -999.000,9, -999.000,9,       -999,9,   -999.0,9,   -999.0,9,  -999.00,9,  -999.00,9,   6.4458
  58GS20090528,   GIN,   319,  1,      5,20092806,2348, 71.7530,  19.7350,  378,     99.4,   6.5930,  35.1106,2,  35.1105,2,    292.0,2,     4.07,2,     9.31,2,     0.15,2,     0.66,2, -999.000,9,    2.426,2, 1.90200708,2,   2138.0,2,   2320.4,2,     0.06,2,     0.13,2,   6.5840
  58GS20090528,   GIN,   319,  1,      6,20092806,2348, 71.7530,  19.7350,  378,     74.6,   6.9460,  35.1076,2,  35.1115,2,    288.0,2,     3.88,2,     9.46,2,     0.14,2,     0.66,2, -999.000,9,    2.397,2, 2.27009931,2,   2136.9,2,   2320.1,2,     0.10,2,     0.28,2,   6.9391
  58GS20090528,   GIN,   319,  1,      7,20092806,2348, 71.7530,  19.7350,  378,     49.8,   7.4500,  35.0510,2,  35.0905,2,    292.5,2,     3.62,2,     7.99,2,     0.14,2,     0.59,2, -999.000,9,    2.427,2, 2.52000169,2,   2131.6,2,   2321.6,2,     0.31,2,     0.10,2,   7.4452
  58GS20090528,   GIN,   319,  1,      8,20092806,2348, 71.7530,  19.7350,  378,     29.9,   7.5980,  34.9975,2,  34.9882,2,   -999.0,9,     2.52,2,     4.79,2,     0.14,2,     0.41,2, -999.000,9, -999.000,9,       -999,9,   -999.0,9,   -999.0,9,     0.96,2,     0.10,2,   7.5951
  58GS20090528,   GIN,   319,  1,      9,20092806,2348, 71.7530,  19.7350,  378,     28.9,   7.6130,  34.9899,2,-999.0000,9,    302.8,2,  -999.00,9,  -999.00,9,  -999.00,9,  -999.00,9, -999.000,9,    2.436,2, 2.78126333,2,   2110.0,2,   2320.5,2,  -999.00,9,  -999.00,9,   7.6102
  58GS20090528,   GIN,   319,  1,     10,20092806,2348, 71.7530,  19.7350,  378,     20.5,   7.7450,  34.9303,2,  34.9205,2,   -999.0,9,     2.23,2,     3.87,2,     0.11,2,     0.34,2, -999.000,9, -999.000,9,       -999,9,   -999.0,9,   -999.0,9,     1.00,2,     0.08,2,   7.7430
  58GS20090528,   GIN,   319,  1,     11,20092806,2348, 71.7530,  19.7350,  378,     15.0,   7.8200,  34.9090,2,-999.0000,9,   -999.0,9,     2.15,2,     3.75,2,     0.11,2,     0.34,2, -999.000,9, -999.000,9,       -999,9,   -999.0,9,   -999.0,9,     0.95,2,     0.07,2,   7.8185
  58GS20090528,   GIN,   319,  1,     12,20092806,2348, 71.7530,  19.7350,  378,      9.9,   7.8810,  34.8492,2,  34.9008,2,   -999.0,9,     2.19,2,     3.59,2,     0.10,2,     0.34,2, -999.000,9, -999.000,9,       -999,9,   -999.0,9,   -999.0,9,     0.93,2,     0.06,2,   7.8800
  58GS20090528,   GIN,   319,  1,     13,20092806,2348, 71.7530,  19.7350,  378,      4.2,   8.2850,  34.8373,2,  34.8557,2,    304.0,2,     2.05,2,     3.04,2,     0.10,2,     0.30,2, -999.000,9,    2.452,2, 4.20088065,2,   2099.2,2,   2316.9,2,     0.26,2,     0.01,2,   8.2846
  58GS20090528,   GIN,   319,  1,     14,20092806,2348, 71.7530,  19.7350,  378,      4.3,   8.2880,  34.8372,2,-999.0000,9,   -999.0,9,  -999.00,9,  -999.00,9,  -999.00,9,  -999.00,9, -999.000,9, -999.000,9,       -999,9,   -999.0,9,   -999.0,9,  -999.00,9,  -999.00,9,   8.2876
  58GS20090528,   GIN,   320,  1,      1,20092906,0147, 71.5020,  19.8110,  378,    226.4,   6.2920,  35.1660,2,  35.1632,2,    280.4,2,     5.36,2,    12.38,2,     0.06,2,     0.83,2, -999.000,9,    2.388,2, 1.70097008,2,   2150.6,2,   2319.1,2,  -999.00,9,  -999.00,9,   6.2719
  58GS20090528,   GIN,   320,  1,      2,20092906,0147, 71.5020,  19.8110,  378,    198.3,   6.3970,  35.1677,2,  35.1652,2,    281.1,2,     5.17,2,    12.18,2,     0.05,2,     0.80,2, -999.000,9, -999.000,9,       -999,9,   2149.4,2,   2320.3,2,  -999.00,9,  -999.00,9,   6.3793
  58GS20090528,   GIN,   320,  1,      3,20092906,0147, 71.5020,  19.8110,  378,    149.6,   6.4300,  35.0908,2,  35.0886,2,    283.9,2,     4.47,2,    11.19,2,     0.02,2,     0.74,2, -999.000,9,    2.400,2, 2.34629623,2,   2145.0,2,   2317.8,2,  -999.00,9,  -999.00,9,   6.4167
  58GS20090528,   GIN,   320,  1,      4,20092906,0147, 71.5020,  19.8110,  378,    124.1,   6.6180,  35.0595,2,  35.0579,2,   -999.0,9,     4.18,2,    10.78,2,     0.01,2,     0.72,2, -999.000,9, -999.000,9,       -999,9,   -999.0,9,   -999.0,9,  -999.00,9,  -999.00,9,   6.6068
  58GS20090528,   GIN,   320,  1,      5,20092906,0147, 71.5020,  19.8110,  378,    100.0,   6.6380,  35.0180,2,  35.0160,2,    283.5,2,     4.05,2,    10.50,2,     0.04,2,     0.64,2, -999.000,9,    2.384,2, 2.13493205,2,   2139.5,2,   2316.5,2,     0.01,2,     0.20,2,   6.6290
  58GS20090528,   GIN,   320,  1,      6,20092906,0147, 71.5020,  19.8110,  378,     74.5,   7.1910,  34.9618,2,  34.9662,2,    281.6,2,     3.27,2,     9.19,2,     0.05,2,     0.64,2, -999.000,9,    2.375,2, 1.74516918,2,   2133.4,2,   2315.4,2,     0.02,2,     0.11,2,   7.1840
  58GS20090528,   GIN,   320,  1,      7,20092906,0147, 71.5020,  19.8110,  378,     49.5,   7.1090,  34.8211,2,  34.8734,2,    285.1,2,     3.05,2,     7.81,2,     0.12,2,     0.57,2, -999.000,9,    2.365,2, 2.56429867,2,   2129.1,2,   2314.3,2,     0.11,2,     0.15,2,   7.1044
  58GS20090528,   GIN,   320,  1,      8,20092906,0147, 71.5020,  19.8110,  378,     29.8,   7.4020,  34.7398,2,  34.7649,2,    288.5,2,     2.60,2,     5.55,2,     0.15,2,     0.48,2, -999.000,9,    2.359,2, 2.33588738,2,   2120.6,2,   2312.7,2,     0.12,2,     0.11,2,   7.3992
  58GS20090528,   GIN,   320,  1,      9,20092906,0147, 71.5020,  19.8110,  378,     28.9,   7.4000,  34.7221,2,-999.0000,9,   -999.0,9,  -999.00,9,  -999.00,9,  -999.00,9,  -999.00,9, -999.000,9, -999.000,9,       -999,9,   -999.0,9,   -999.0,9,  -999.00,9,  -999.00,9,   7.3973
  58GS20090528,   GIN,   320,  1,     10,20092906,0147, 71.5020,  19.8110,  378,     19.5,   7.8470,  34.5403,2,  34.6377,2,   -999.0,9,     2.02,2,     3.25,2,     0.12,2,     0.33,2, -999.000,9, -999.000,9,       -999,9,   -999.0,9,   -999.0,9,     0.50,2,     0.18,2,   7.8451
  58GS20090528,   GIN,   320,  1,     11,20092906,0147, 71.5020,  19.8110,  378,     13.9,   8.1600,  34.3836,2,-999.0000,9,   -999.0,9,     1.86,2,     2.63,2,     0.12,2,     0.31,2, -999.000,9, -999.000,9,       -999,9,   -999.0,9,   -999.0,9,     0.91,2,     0.21,2,   8.1586
  58GS20090528,   GIN,   320,  1,     12,20092906,0147, 71.5020,  19.8110,  378,      9.8,   8.2910,  34.3830,2,  34.5586,2,   -999.0,9,     1.70,2,     2.24,2,     0.10,2,     0.28,2, -999.000,9, -999.000,9,       -999,9,   -999.0,9,   -999.0,9,     1.03,2,     0.24,2,   8.2900
  58GS20090528,   GIN,   320,  1,     13,20092906,0147, 71.5020,  19.8110,  378,      4.3,   8.4350,  34.3830,2,  34.3875,2,    316.2,2,     1.08,2,     0.11,2,     0.03,2,     0.15,2, -999.000,9,    2.381,6, 2.55480011,6,   2068.9,2,   2302.2,2,     1.97,2,     0.30,2,   8.4346
  58GS20090528,   GIN,   320,  1,     14,20092906,0147, 71.5020,  19.8110,  378,      3.5,   8.4370,  34.3826,2,-999.0000,9,   -999.0,9,  -999.00,9,  -999.00,9,  -999.00,9,  -999.00,9, -999.000,9, -999.000,9,       -999,9,   -999.0,9,   -999.0,9,  -999.00,9,  -999.00,9,   8.4366