BOTTLE,20120326PRINUNIVRMK
EXPOCODE,SECT_ID,STNNBR,CASTNO,BTLNBR,DATE,TIME,LATITUDE,LONGITUDE,DEPTH,CTDPRS,CTDTMP,CTDSAL,CTDSAL_FLAG_W,SALNTY,SALNTY_FLAG_W,OXYGEN,OXYGEN_FLAG_W,SILCAT,SILCAT_FLAG_W,NITRAT,NITRAT_FLAG_W,NITRIT,NITRIT_FLAG_W,PHSPHT,PHSPHT_FLAG_W,CFC-11,CFC-11_FLAG_W,CFC-12,CFC-12_FLAG_W,SF6,SF6_FLAG_W,TCARBN,TCARBN_FLAG_W,ALKALI,ALKALI_FLAG_W,CHLORA,CHLORA_FLAG_W,PHAEO,PHAEO_FLAG_W,THETA
,,,,,,,,,METERS,DBAR,ITS-90,PSS-78,,PSS-78,,UMOL/KG,,UMOL/KG,,UMOL/KG,,UMOL/KG,,UMOL/KG,,PMOL/KG,,PMOL/KG,,FMOL/KG,,UMOL/KG,,UMOL/KG,,UG/KG,,UG/KG,,DEG C
  58GS20090528,   GIN,   220,  1,      1,20130207,0003, 69.7000,  10.2660, 2959,   2948.6,  -0.8050,  34.9097,2,  34.9059,2,    294.7,2,    14.01,2,    15.30,2,     0.01,2,     1.05,2, -999.000,9, -999.000,9,       -999,9,   2171.2,2,   2306.5,2,  -999.00,9,  -999.00,9,  -0.9673
  58GS20090528,   GIN,   220,  1,      2,20130207,0003, 69.7000,  10.2660, 2959,   2500.7,  -0.8040,  34.9099,2,  34.9080,2,    296.6,2,    12.80,2,    14.96,2,     0.01,2,     1.01,2, -999.000,9, -999.000,9,       -999,9,   2168.2,2,   2306.1,2,  -999.00,9,  -999.00,9,  -0.9322
  58GS20090528,   GIN,   220,  1,      3,20130207,0003, 69.7000,  10.2660, 2959,   1999.7,  -0.7640,  34.9083,2,  34.9102,2,    297.2,2,    11.64,2,    14.58,2,     0.01,2,     1.00,2, -999.000,9, -999.000,9,       -999,9,   2167.1,2,   2302.2,2,  -999.00,9,  -999.00,9,  -0.8585
  58GS20090528,   GIN,   220,  1,      4,20130207,0003, 69.7000,  10.2660, 2959,   1501.2,  -0.6380,  34.9018,2,  34.9053,2,    300.2,2,    10.04,2,    14.35,2,     0.01,2,     0.99,2, -999.000,9, -999.000,9,       -999,9,   2168.8,2,   2303.0,2,  -999.00,9,  -999.00,9,  -0.7039
  58GS20090528,   GIN,   220,  1,      5,20130207,0003, 69.7000,  10.2660, 2959,   1201.2,  -0.3980,  34.8968,2,  34.9000,2,    302.7,2,     8.55,2,    14.04,2,     0.01,2,     0.97,2, -999.000,9, -999.000,9,       -999,9,   2171.3,2,   2301.7,2,  -999.00,9,  -999.00,9,  -0.4499
  58GS20090528,   GIN,   220,  1,      6,20130207,0003, 69.7000,  10.2660, 2959,   1001.2,  -0.0400,  34.8982,2,  34.9027,2,    304.8,2,     7.61,2,    13.70,2,     0.01,2,     0.94,2, -999.000,9, -999.000,9,       -999,9,   2171.6,2,   2304.0,2,  -999.00,9,  -999.00,9,  -0.0844
  58GS20090528,   GIN,   220,  1,      7,20130207,0003, 69.7000,  10.2660, 2959,    800.6,   1.7940,  34.9719,2,  34.9714,2,    304.5,2,     6.08,2,    13.02,2,     0.02,2,     0.89,2, -999.000,9, -999.000,9,       -999,9,   2166.7,2,   2299.8,2,  -999.00,9,  -999.00,9,   1.7479
  58GS20090528,   GIN,   220,  1,      8,20130207,0003, 69.7000,  10.2660, 2959,    599.3,   4.2670,  35.1121,2,  35.1102,2,    301.5,2,     4.85,2,    11.73,2,     0.02,2,     0.79,2, -999.000,9, -999.000,9,       -999,9,   2155.6,2,   2310.8,2,  -999.00,9,  -999.00,9,   4.2216
  58GS20090528,   GIN,   220,  1,      9,20130207,0003, 69.7000,  10.2660, 2959,    498.7,   4.6060,  35.1292,2,  35.1265,2,    299.7,2,     4.78,2,    11.57,2,     0.02,2,     0.78,2, -999.000,9, -999.000,9,       -999,9,   2153.6,2,   2314.7,2,  -999.00,9,  -999.00,9,   4.5673
  58GS20090528,   GIN,   220,  1,     10,20130207,0003, 69.7000,  10.2660, 2959,    399.9,   4.9830,  35.1442,2,  35.1405,2,    298.1,2,     4.83,2,    11.51,2,     0.02,2,     0.78,2, -999.000,9, -999.000,9,       -999,9,   2153.1,2,   2314.3,2,  -999.00,9,  -999.00,9,   4.9511
  58GS20090528,   GIN,   220,  1,     11,20130207,0003, 69.7000,  10.2660, 2959,    300.6,   5.4020,  35.1603,2,  35.1554,2,    296.0,2,     4.88,2,    11.53,2,     0.05,2,     0.78,2, -999.000,9, -999.000,9,       -999,9,   2152.3,2,   2316.7,2,  -999.00,9,  -999.00,9,   5.3772
  58GS20090528,   GIN,   220,  1,     12,20130207,0003, 69.7000,  10.2660, 2959,    199.5,   5.9960,  35.1918,2,  35.1876,2,    292.5,2,     4.81,2,    11.45,2,     0.06,2,     0.77,2, -999.000,9, -999.000,9,       -999,9,   2151.7,2,   2320.9,2,  -999.00,9,  -999.00,9,   5.9788
  58GS20090528,   GIN,   220,  1,     13,20130207,0003, 69.7000,  10.2660, 2959,    152.0,   6.1040,  35.1977,2,  35.1907,2,    293.6,2,     4.77,2,    11.04,2,     0.30,2,     0.76,2, -999.000,9, -999.000,9,       -999,9,   2150.4,2,   2325.5,2,  -999.00,9,  -999.00,9,   6.0908
  58GS20090528,   GIN,   220,  1,     14,20130207,0003, 69.7000,  10.2660, 2959,    124.2,   6.1900,  35.1951,2,  35.1905,2,    289.8,2,     4.83,2,    11.45,2,     0.10,2,     0.77,2, -999.000,9, -999.000,9,       -999,9,   2153.0,2,   2321.9,2,  -999.00,9,  -999.00,9,   6.1792
  58GS20090528,   GIN,   220,  1,     15,20130207,0003, 69.7000,  10.2660, 2959,    100.1,   6.3360,  35.1979,2,  35.1947,2,    287.8,2,     4.83,2,    11.56,2,     0.15,2,     0.79,2, -999.000,9, -999.000,9,       -999,9,   2153.3,2,   2321.5,2,     0.06,2,     0.11,2,   6.3272
  58GS20090528,   GIN,   220,  1,     16,20130207,0003, 69.7000,  10.2660, 2959,     73.4,   6.5130,  35.2023,2,  35.1971,2,    285.4,2,     4.62,2,    11.07,2,     0.18,2,     0.77,2, -999.000,9, -999.000,9,       -999,9,   2153.2,2,   2319.9,2,     0.18,2,     0.07,2,   6.5064
  58GS20090528,   GIN,   220,  1,     17,20130207,0003, 69.7000,  10.2660, 2959,     49.5,   7.1540,  35.2090,2,  35.2084,2,    300.2,2,     2.06,2,     6.64,2,     0.13,2,     0.54,2, -999.000,9, -999.000,9,       -999,9,   2123.7,2,   2321.2,2,     0.68,2,     0.17,2,   7.1493
  58GS20090528,   GIN,   220,  1,     18,20130207,0003, 69.7000,  10.2660, 2959,     30.4,   7.6050,  35.2219,2,  35.2167,2,    305.0,2,     1.02,2,     5.41,2,     0.12,2,     0.45,2, -999.000,9, -999.000,9,       -999,9,   2114.9,2,   2323.6,2,     1.02,2,     0.15,2,   7.6020
  58GS20090528,   GIN,   220,  1,     19,20130207,0003, 69.7000,  10.2660, 2959,     20.3,   7.6070,  35.2227,2,  35.2161,2,    304.8,2,     0.99,2,     5.40,2,     0.12,2,     0.44,2, -999.000,9, -999.000,9,       -999,9,   2114.0,2,   2324.9,2,     0.91,2,     0.11,2,   7.6050
  58GS20090528,   GIN,   220,  1,     20,20130207,0003, 69.7000,  10.2660, 2959,     10.4,   7.6070,  35.2230,2,  35.2155,2,    304.7,2,     0.97,2,     5.41,2,     0.12,2,     0.45,2, -999.000,9, -999.000,9,       -999,9,   2114.5,2,   2324.1,2,     1.34,2,     0.18,2,   7.6060
  58GS20090528,   GIN,   220,  1,     21,20130207,0003, 69.7000,  10.2660, 2959,     10.2,   7.6070,  35.2230,2,-999.0000,9,   -999.0,9,  -999.00,9,  -999.00,9,  -999.00,9,  -999.00,9, -999.000,9, -999.000,9,       -999,9,   -999.0,9,   -999.0,9,  -999.00,9,  -999.00,9,   7.6060
  58GS20090528,   GIN,   220,  1,     22,20130207,0003, 69.7000,  10.2660, 2959,      4.8,   7.6000,  35.2230,2,-999.0000,9,   -999.0,9,     1.00,2,     5.41,2,     0.12,2,     0.45,2, -999.000,9, -999.000,9,       -999,9,   -999.0,9,   -999.0,9,     1.12,2,     0.15,2,   7.5995
  58GS20090528,   GIN,   220,  1,     23,20130207,0003, 69.7000,  10.2660, 2959,      4.9,   7.6040,  35.2228,2,-999.0000,9,   -999.0,9,  -999.00,9,  -999.00,9,  -999.00,9,  -999.00,9, -999.000,9, -999.000,9,       -999,9,   -999.0,9,   -999.0,9,  -999.00,9,  -999.00,9,   7.6035
  58GS20090528,   GIN,   221,  1,      1,20130207,0745, 69.9500,   9.5840, 2869,   2858.9,  -0.8130,  34.9097,2,  34.9089,2,   -999.0,9,    14.03,2,    15.05,2,     0.01,2,     1.03,2, -999.000,9, -999.000,9,       -999,9,   -999.0,9,   -999.0,9,  -999.00,9,  -999.00,9,  -0.9680
  58GS20090528,   GIN,   221,  1,      2,20130207,0745, 69.9500,   9.5840, 2869,   2501.6,  -0.8050,  34.9101,2,  34.9095,2,   -999.0,9,    12.76,2,    14.84,2,     0.01,2,     1.01,2, -999.000,9, -999.000,9,       -999,9,   -999.0,9,   -999.0,9,  -999.00,9,  -999.00,9,  -0.9333
  58GS20090528,   GIN,   221,  1,      3,20130207,0745, 69.9500,   9.5840, 2869,   1999.9,  -0.7650,  34.9084,2,  34.9084,2,   -999.0,9,    11.76,2,    14.48,2,     0.01,2,     1.01,2, -999.000,9, -999.000,9,       -999,9,   -999.0,9,   -999.0,9,  -999.00,9,  -999.00,9,  -0.8595
  58GS20090528,   GIN,   221,  1,      4,20130207,0745, 69.9500,   9.5840, 2869,   1499.3,  -0.6340,  34.9024,2,  34.9033,2,   -999.0,9,    10.14,2,    14.29,2,     0.01,2,     0.99,2, -999.000,9, -999.000,9,       -999,9,   -999.0,9,   -999.0,9,  -999.00,9,  -999.00,9,  -0.6998
  58GS20090528,   GIN,   221,  1,      5,20130207,0745, 69.9500,   9.5840, 2869,   1200.3,  -0.4260,  34.8975,2,  34.8971,2,   -999.0,9,     8.68,2,    13.98,2,     0.01,2,     0.96,2, -999.000,9, -999.000,9,       -999,9,   -999.0,9,   -999.0,9,  -999.00,9,  -999.00,9,  -0.4775
  58GS20090528,   GIN,   221,  1,      6,20130207,0745, 69.9500,   9.5840, 2869,   1001.0,  -0.0980,  34.8974,2,  34.8951,2,   -999.0,9,     7.72,2,    13.73,2,     0.01,2,     0.94,2, -999.000,9, -999.000,9,       -999,9,   -999.0,9,   -999.0,9,  -999.00,9,  -999.00,9,  -0.1419
  58GS20090528,   GIN,   221,  1,      7,20130207,0745, 69.9500,   9.5840, 2869,    800.5,   1.0520,  34.9286,2,  34.9283,2,   -999.0,9,     6.59,2,    13.54,2,     0.02,2,     0.93,2, -999.000,9, -999.000,9,       -999,9,   -999.0,9,   -999.0,9,  -999.00,9,  -999.00,9,   1.0108
  58GS20090528,   GIN,   221,  1,      8,20130207,0745, 69.9500,   9.5840, 2869,    599.3,   3.5150,  35.0552,2,  35.0513,2,   -999.0,9,     5.20,2,    12.26,2,     0.02,2,     0.83,2, -999.000,9, -999.000,9,       -999,9,   -999.0,9,   -999.0,9,  -999.00,9,  -999.00,9,   3.4732
  58GS20090528,   GIN,   221,  1,      9,20130207,0745, 69.9500,   9.5840, 2869,    499.9,   4.3120,  35.1160,2,  35.1139,2,   -999.0,9,     4.76,2,    11.53,2,     0.02,2,     0.78,2, -999.000,9, -999.000,9,       -999,9,   -999.0,9,   -999.0,9,  -999.00,9,  -999.00,9,   4.2743
  58GS20090528,   GIN,   221,  1,     10,20130207,0745, 69.9500,   9.5840, 2869,    401.2,   4.5670,  35.1228,2,  35.1173,2,   -999.0,9,     4.83,2,    11.67,2,     0.03,2,     0.79,2, -999.000,9, -999.000,9,       -999,9,   -999.0,9,   -999.0,9,  -999.00,9,  -999.00,9,   4.5363
  58GS20090528,   GIN,   221,  1,     11,20130207,0745, 69.9500,   9.5840, 2869,    300.8,   4.8690,  35.1255,2,  35.1198,2,   -999.0,9,     4.94,2,    11.69,2,     0.03,2,     0.79,2, -999.000,9, -999.000,9,       -999,9,   -999.0,9,   -999.0,9,  -999.00,9,  -999.00,9,   4.8455
  58GS20090528,   GIN,   221,  1,     12,20130207,0745, 69.9500,   9.5840, 2869,    201.6,   5.4430,  35.1623,2,  35.1486,2,   -999.0,9,     4.86,2,    11.50,2,     0.03,2,     0.77,2, -999.000,9, -999.000,9,       -999,9,   -999.0,9,   -999.0,9,  -999.00,9,  -999.00,9,   5.4265
  58GS20090528,   GIN,   221,  1,     13,20130207,0745, 69.9500,   9.5840, 2869,    150.1,   5.6790,  35.1698,2,  35.1632,2,   -999.0,9,     4.91,2,    11.52,2,     0.03,2,     0.77,2, -999.000,9, -999.000,9,       -999,9,   -999.0,9,   -999.0,9,  -999.00,9,  -999.00,9,   5.6665
  58GS20090528,   GIN,   221,  1,     14,20130207,0745, 69.9500,   9.5840, 2869,    124.3,   5.8010,  35.1768,2,-999.0000,9,   -999.0,9,     4.90,2,    11.61,2,     0.04,2,     0.77,2, -999.000,9, -999.000,9,       -999,9,   -999.0,9,   -999.0,9,  -999.00,9,  -999.00,9,   5.7905
  58GS20090528,   GIN,   221,  1,     15,20130207,0745, 69.9500,   9.5840, 2869,     99.5,   5.9460,  35.1846,2,  35.1799,2,   -999.0,9,     4.84,2,    11.53,2,     0.04,2,     0.77,2, -999.000,9, -999.000,9,       -999,9,   -999.0,9,   -999.0,9,     0.08,2,     0.20,2,   5.9375
  58GS20090528,   GIN,   221,  1,     16,20130207,0745, 69.9500,   9.5840, 2869,     73.6,   6.0890,  35.1934,2,  35.1862,2,   -999.0,9,     4.87,2,    11.82,2,     0.16,2,     0.79,2, -999.000,9, -999.000,9,       -999,9,   -999.0,9,   -999.0,9,     0.06,2,     0.17,2,   6.0827
  58GS20090528,   GIN,   221,  1,     17,20130207,0745, 69.9500,   9.5840, 2869,     51.1,   6.3180,  35.2024,2,  35.1977,2,   -999.0,9,     4.85,2,    11.56,2,     0.24,2,     0.78,2, -999.000,9, -999.000,9,       -999,9,   -999.0,9,   -999.0,9,     0.12,2,     0.14,2,   6.3135
  58GS20090528,   GIN,   221,  1,     18,20130207,0745, 69.9500,   9.5840, 2869,     30.3,   7.1870,  35.2090,2,  35.2031,2,   -999.0,9,     1.00,2,     6.28,2,     0.15,2,     0.49,2, -999.000,9, -999.000,9,       -999,9,   -999.0,9,   -999.0,9,     1.03,2,     0.28,2,   7.1841
  58GS20090528,   GIN,   221,  1,     19,20130207,0745, 69.9500,   9.5840, 2869,     20.5,   7.2540,  35.2122,2,  35.2049,2,   -999.0,9,     0.79,2,     5.97,2,     0.14,2,     0.47,2, -999.000,9, -999.000,9,       -999,9,   -999.0,9,   -999.0,9,     0.99,2,     0.29,2,   7.2521
  58GS20090528,   GIN,   221,  1,     20,20130207,0745, 69.9500,   9.5840, 2869,      9.2,   7.2880,  35.2134,2,  35.2045,2,   -999.0,9,     0.80,2,     5.91,2,     0.14,2,     0.46,2, -999.000,9, -999.000,9,       -999,9,   -999.0,9,   -999.0,9,     1.38,2,     0.41,2,   7.2871
  58GS20090528,   GIN,   221,  1,     21,20130207,0745, 69.9500,   9.5840, 2869,      4.6,   7.3020,  35.2122,2,  35.2047,2,   -999.0,9,     0.76,2,     5.88,2,     0.15,2,     0.46,2, -999.000,9, -999.000,9,       -999,9,   -999.0,9,   -999.0,9,     1.30,2,     0.35,2,   7.3016
  58GS20090528,   GIN,   222,  1,      1,20130207,2332, 70.7500,   7.0820, 3012,   3002.1,  -0.8040,  34.9096,2,  34.9106,2,    294.8,2,    14.06,2,    15.22,2,     0.01,2,     1.04,2, -999.000,9, -999.000,9,       -999,9,   2163.5,2,   2305.9,2,  -999.00,9,  -999.00,9,  -0.9706
  58GS20090528,   GIN,   222,  1,      2,20130207,2332, 70.7500,   7.0820, 3012,   2498.2,  -0.8140,  34.9097,2,  34.9097,2,    296.4,2,    13.00,2,    15.02,2,     0.01,2,     1.02,2, -999.000,9, -999.000,9,       -999,9,   2161.6,2,   2306.1,2,  -999.00,9,  -999.00,9,  -0.9418
  58GS20090528,   GIN,   222,  1,      3,20130207,2332, 70.7500,   7.0820, 3012,   1999.6,  -0.7850,  34.9085,2,  34.9086,2,    297.1,2,    11.95,2,    14.84,2,     0.01,2,     1.01,2, -999.000,9, -999.000,9,       -999,9,   2161.6,2,   2306.0,2,  -999.00,9,  -999.00,9,  -0.8792
  58GS20090528,   GIN,   222,  1,      4,20130207,2332, 70.7500,   7.0820, 3012,   1500.1,  -0.6500,  34.9021,2,  34.9072,2,    300.5,2,    10.15,2,    14.44,2,     0.01,2,     1.00,2, -999.000,9, -999.000,9,       -999,9,   2163.4,2,   2296.7,2,  -999.00,9,  -999.00,9,  -0.7157
  58GS20090528,   GIN,   222,  1,      5,20130207,2332, 70.7500,   7.0820, 3012,   1200.5,  -0.4580,  34.8970,2,  34.8991,2,    303.1,2,     8.73,2,    14.16,2,     0.01,2,     0.98,2, -999.000,9, -999.000,9,       -999,9,   2163.8,2,   2298.9,2,  -999.00,9,  -999.00,9,  -0.5092
  58GS20090528,   GIN,   222,  1,      6,20130207,2332, 70.7500,   7.0820, 3012,    998.9,  -0.1920,  34.8964,2,  34.8971,2,    306.8,2,     7.62,2,    13.62,2,     0.01,2,     0.94,2, -999.000,9, -999.000,9,       -999,9,   2163.7,2,   2295.8,2,  -999.00,9,  -999.00,9,  -0.2350
  58GS20090528,   GIN,   222,  1,      7,20130207,2332, 70.7500,   7.0820, 3012,    801.0,   0.4020,  34.9039,2,  34.9045,2,    306.7,2,     6.81,2,    13.60,2,     0.01,2,     0.94,2, -999.000,9, -999.000,9,       -999,9,   2165.4,2,   2295.7,2,  -999.00,9,  -999.00,9,   0.3650
  58GS20090528,   GIN,   222,  1,      8,20130207,2332, 70.7500,   7.0820, 3012,    600.3,   2.7610,  35.0042,2,  35.0028,2,    301.8,2,     5.48,2,    12.55,2,     0.02,2,     0.87,2, -999.000,9, -999.000,9,       -999,9,   2158.5,2,   2301.1,2,  -999.00,9,  -999.00,9,   2.7228
  58GS20090528,   GIN,   222,  1,      9,20130207,2332, 70.7500,   7.0820, 3012,    500.6,   3.9480,  35.0790,2,  35.0746,2,    301.6,2,     4.96,2,    12.03,2,     0.02,2,     0.81,2, -999.000,9, -999.000,9,       -999,9,   2151.4,2,   2317.0,2,  -999.00,9,  -999.00,9,   3.9117
  58GS20090528,   GIN,   222,  1,     10,20130207,2332, 70.7500,   7.0820, 3012,    399.7,   4.4260,  35.1207,2,  35.1139,2,    302.2,2,     4.77,2,    11.60,2,     0.02,2,     0.79,2, -999.000,9, -999.000,9,       -999,9,   2147.2,2,   2321.2,2,  -999.00,9,  -999.00,9,   4.3958
  58GS20090528,   GIN,   222,  1,     11,20130207,2332, 70.7500,   7.0820, 3012,    299.4,   4.6850,  35.1335,2,  35.1278,2,    300.8,2,     4.74,2,    11.50,2,     0.02,2,     0.78,2, -999.000,9, -999.000,9,       -999,9,   2146.9,2,   2321.1,2,  -999.00,9,  -999.00,9,   4.6620
  58GS20090528,   GIN,   222,  1,     12,20130207,2332, 70.7500,   7.0820, 3012,    200.7,   4.8510,  35.1307,2,  35.1250,2,    297.5,2,     4.88,2,    11.67,2,     0.03,2,     0.79,2, -999.000,9, -999.000,9,       -999,9,   2145.0,2,   2315.5,2,  -999.00,9,  -999.00,9,   4.8355
  58GS20090528,   GIN,   222,  1,     13,20130207,2332, 70.7500,   7.0820, 3012,    148.8,   5.0720,  35.1430,2,  35.1394,2,    297.3,2,     4.87,2,    11.68,2,     0.03,2,     0.80,2, -999.000,9, -999.000,9,       -999,9,   2147.5,2,   2319.8,2,  -999.00,9,  -999.00,9,   5.0603
  58GS20090528,   GIN,   222,  1,     14,20130207,2332, 70.7500,   7.0820, 3012,    123.6,   5.2810,  35.1582,2,  35.1535,2,    297.6,2,     4.84,2,    11.48,2,     0.05,2,     0.77,2, -999.000,9, -999.000,9,       -999,9,   2144.1,2,   2320.0,2,  -999.00,9,  -999.00,9,   5.2711
  58GS20090528,   GIN,   222,  1,     15,20130207,2332, 70.7500,   7.0820, 3012,    100.0,   5.4340,  35.1691,2,  35.1628,2,    297.4,2,     4.83,2,    11.51,2,     0.08,2,     0.77,2, -999.000,9, -999.000,9,       -999,9,   2145.0,2,   2323.7,2,     0.04,2,     0.13,2,   5.4259
  58GS20090528,   GIN,   222,  1,     16,20130207,2332, 70.7500,   7.0820, 3012,     74.2,   5.5490,  35.1643,2,  35.1570,2,    294.8,2,     4.89,2,    11.56,2,     0.08,2,     0.78,2, -999.000,9, -999.000,9,       -999,9,   2144.1,2,   2320.8,2,     0.02,2,     0.17,2,   5.5429
  58GS20090528,   GIN,   222,  1,     17,20130207,2332, 70.7500,   7.0820, 3012,     49.1,   5.8320,  35.1772,2,  35.1667,2,    292.3,2,     4.93,2,    11.73,2,     0.08,2,     0.78,2, -999.000,9, -999.000,9,       -999,9,   2142.7,2,   2320.6,2,     0.03,2,     0.12,2,   5.8279
  58GS20090528,   GIN,   222,  1,     18,20130207,2332, 70.7500,   7.0820, 3012,     28.8,   6.5480,  35.1616,2,  35.1630,2,    306.8,2,     3.97,2,     6.75,2,     0.14,2,     0.50,2, -999.000,9, -999.000,9,       -999,9,   2121.0,2,   2319.2,2,     1.26,2,     0.38,2,   6.5454
  58GS20090528,   GIN,   222,  1,     19,20130207,2332, 70.7500,   7.0820, 3012,     20.5,   6.5530,  35.1646,2,  35.1564,2,    309.6,2,     3.85,2,     5.94,2,     0.13,2,     0.44,2, -999.000,9, -999.000,9,       -999,9,   2115.4,2,   2329.1,2,     1.59,2,     0.47,2,   6.5512
  58GS20090528,   GIN,   222,  1,     20,20130207,2332, 70.7500,   7.0820, 3012,     12.6,   6.5930,  35.1679,2,  35.1596,2,    309.9,2,     3.78,2,     5.86,2,     0.13,2,     0.44,2, -999.000,9, -999.000,9,       -999,9,   2114.3,2,   2322.4,2,  -999.00,9,  -999.00,9,   6.5919
  58GS20090528,   GIN,   222,  1,     21,20130207,2332, 70.7500,   7.0820, 3012,      9.1,   6.5910,  35.1679,2,  35.1610,2,   -999.0,9,     3.78,2,     5.82,2,     0.13,2,     0.44,2, -999.000,9, -999.000,9,       -999,9,   -999.0,9,   -999.0,9,     2.31,2,     0.67,2,   6.5902
  58GS20090528,   GIN,   222,  1,     22,20130207,2332, 70.7500,   7.0820, 3012,      5.0,   6.5940,  35.1680,2,  35.1600,2,   -999.0,9,     3.78,2,     5.84,2,     0.13,2,     0.44,2, -999.000,9, -999.000,9,       -999,9,   -999.0,9,   -999.0,9,     2.20,2,     0.61,2,   6.5936
  58GS20090528,   GIN,   222,  1,     23,20130207,2332, 70.7500,   7.0820, 3012,      5.6,   6.5970,  35.1679,2,-999.0000,9,   -999.0,9,  -999.00,9,  -999.00,9,  -999.00,9,  -999.00,9, -999.000,9, -999.000,9,       -999,9,   -999.0,9,   -999.0,9,  -999.00,9,  -999.00,9,   6.5965