BOTTLE,20120326PRINUNIVRMK
EXPOCODE,SECT_ID,STNNBR,CASTNO,BTLNBR,DATE,TIME,LATITUDE,LONGITUDE,DEPTH,CTDPRS,CTDTMP,CTDSAL,CTDSAL_FLAG_W,SALNTY,SALNTY_FLAG_W,OXYGEN,OXYGEN_FLAG_W,SILCAT,SILCAT_FLAG_W,NITRAT,NITRAT_FLAG_W,NITRIT,NITRIT_FLAG_W,PHSPHT,PHSPHT_FLAG_W,CFC-11,CFC-11_FLAG_W,CFC-12,CFC-12_FLAG_W,SF6,SF6_FLAG_W,TCARBN,TCARBN_FLAG_W,ALKALI,ALKALI_FLAG_W,CHLORA,CHLORA_FLAG_W,PHAEO,PHAEO_FLAG_W,THETA
,,,,,,,,,METERS,DBAR,ITS-90,PSS-78,,PSS-78,,UMOL/KG,,UMOL/KG,,UMOL/KG,,UMOL/KG,,UMOL/KG,,PMOL/KG,,PMOL/KG,,FMOL/KG,,UMOL/KG,,UMOL/KG,,UG/KG,,UG/KG,,DEG C
  58GS20090528,   GIN,   233,  1,      1,20130607,0057, 75.0000,  -4.9950, 3561,   3551.1,  -0.7940,  34.9098,2,  34.9093,2,    299.3,2,    13.10,2,    14.82,2,     0.01,2,     1.01,2,    0.879,2,    0.365,2, 0.09364513,2,   2160.5,2,   -999.0,9,  -999.00,9,  -999.00,9,  -1.0074
  58GS20090528,   GIN,   233,  1,      2,20130607,0057, 75.0000,  -4.9950, 3561,   3000.1,  -0.7980,  34.9121,2,  34.9115,2,    298.5,2,    12.49,2,    14.65,2,     0.01,2,     1.00,2,    0.864,2,    0.362,2,          0,2,   2160.3,2,   -999.0,9,  -999.00,9,  -999.00,9,  -0.9646
  58GS20090528,   GIN,   233,  1,      3,20130607,0057, 75.0000,  -4.9950, 3561,   2500.3,  -0.7660,  34.9112,2,  34.9109,2,    298.6,2,    11.89,2,    14.68,2,     0.01,2,     1.00,2,    1.170,2,    0.489,2,0.530203659,2,   2160.2,2,   -999.0,9,  -999.00,9,  -999.00,9,  -0.8949
  58GS20090528,   GIN,   233,  1,      4,20130607,0057, 75.0000,  -4.9950, 3561,   1999.5,  -0.6520,  34.9019,2,  34.9027,2,    307.4,2,     9.54,2,    13.99,2,     0.01,2,     0.96,2,    3.261,2,    1.409,2, 2.04511034,2,   2163.2,2,   -999.0,9,  -999.00,9,  -999.00,9,  -0.7483
  58GS20090528,   GIN,   233,  1,      5,20130607,0057, 75.0000,  -4.9950, 3561,   1500.5,  -0.5850,  34.9018,2,-999.0000,9,    331.2,2,     6.82,2,    12.76,2,     0.02,2,     0.87,2,    6.057,2,    2.708,2,  3.0860481,2,   2164.5,2,   -999.0,9,  -999.00,9,  -999.00,9,  -0.6515
  58GS20090528,   GIN,   233,  1,      6,20130607,0057, 75.0000,  -4.9950, 3561,   1199.6,  -0.5690,  34.9031,2,  34.9044,2,   -999.0,9,     6.70,2,    12.65,2,     0.02,2,     0.87,2, -999.000,9, -999.000,9,       -999,9,   -999.0,9,   -999.0,9,  -999.00,9,  -999.00,9,  -0.6191
  58GS20090528,   GIN,   233,  1,      7,20130607,0057, 75.0000,  -4.9950, 3561,    999.8,  -0.5620,  34.9037,2,  34.9061,2,    331.3,2,     6.69,2,    12.55,2,     0.02,2,     0.87,2,    6.183,2,    2.749,2, 2.54311528,2,   2164.0,2,   -999.0,9,  -999.00,9,  -999.00,9,  -0.6020
  58GS20090528,   GIN,   233,  1,      8,20130607,0057, 75.0000,  -4.9950, 3561,    799.5,  -0.5460,  34.9045,2,  34.9061,2,    331.3,2,     6.68,2,    12.59,2,     0.02,2,     0.87,2,    5.994,2,    2.764,2, 3.05490307,2,   2162.2,2,   -999.0,9,  -999.00,9,  -999.00,9,  -0.5767
  58GS20090528,   GIN,   233,  1,      9,20130607,0057, 75.0000,  -4.9950, 3561,    599.5,  -0.4910,  34.9078,2,  34.9109,2,   -999.0,9,     6.62,2,    12.62,2,     0.02,2,     0.87,2, -999.000,9, -999.000,9,       -999,9,   -999.0,9,   -999.0,9,  -999.00,9,  -999.00,9,  -0.5132
  58GS20090528,   GIN,   233,  1,     10,20130607,0057, 75.0000,  -4.9950, 3561,    599.6,  -0.4880,  34.9081,2,-999.0000,9,    330.5,2,  -999.00,9,  -999.00,9,  -999.00,9,  -999.00,9,    6.155,2,    2.775,2, 3.42383564,2,   2161.5,2,   -999.0,9,  -999.00,9,  -999.00,9,  -0.5102
  58GS20090528,   GIN,   233,  1,     11,20130607,0057, 75.0000,  -4.9950, 3561,    500.6,  -0.4240,  34.9126,2,  34.9138,2,    330.6,2,     6.49,2,    12.57,2,     0.02,2,     0.87,2, -999.000,9, -999.000,9,       -999,9,   2163.2,2,   -999.0,9,  -999.00,9,  -999.00,9,  -0.4423
  58GS20090528,   GIN,   233,  1,     12,20130607,0057, 75.0000,  -4.9950, 3561,    399.2,  -0.4120,  34.9134,2,  34.9176,2,    330.5,2,     6.47,2,    12.45,2,     0.03,2,     0.87,2,    6.148,2,    2.770,2, 3.05517852,2,   2161.7,2,   -999.0,9,  -999.00,9,  -999.00,9,  -0.4263
  58GS20090528,   GIN,   233,  1,     13,20130607,0057, 75.0000,  -4.9950, 3561,    299.6,  -0.4750,  34.9071,2,  34.9110,2,    329.9,2,     6.68,2,    12.58,2,     0.03,2,     0.88,2, -999.000,9, -999.000,9,       -999,9,   2163.1,2,   -999.0,9,  -999.00,9,  -999.00,9,  -0.4853
  58GS20090528,   GIN,   233,  1,     14,20130607,0057, 75.0000,  -4.9950, 3561,    199.7,  -0.4410,  34.9068,2,  34.9100,2,    330.3,2,     6.63,2,    12.48,2,     0.04,2,     0.87,2,    6.085,2,    2.790,2, 2.52976299,2,   2161.5,2,   -999.0,9,  -999.00,9,  -999.00,9,  -0.4477
  58GS20090528,   GIN,   233,  1,     15,20130607,0057, 75.0000,  -4.9950, 3561,    149.6,  -0.4520,  34.9033,2,  34.9066,2,    330.4,2,     6.62,2,    12.53,2,     0.04,2,     0.87,2, -999.000,9, -999.000,9,       -999,9,   2161.9,2,   -999.0,9,  -999.00,9,  -999.00,9,  -0.4570
  58GS20090528,   GIN,   233,  1,     16,20130607,0057, 75.0000,  -4.9950, 3561,     99.8,  -0.4270,  34.9000,2,  34.9024,2,    331.3,2,     6.53,2,    12.06,2,     0.02,2,     0.85,2,    6.214,2,    2.896,2, 4.97817167,2,   2160.7,2,   -999.0,9,     0.06,2,     0.20,2,  -0.4303
  58GS20090528,   GIN,   233,  1,     17,20130607,0057, 75.0000,  -4.9950, 3561,     74.3,  -0.3890,  34.8978,2,  34.8994,2,    333.6,2,     6.46,2,    12.05,2,     0.04,2,     0.84,2, -999.000,9, -999.000,9,       -999,9,   2160.6,2,   -999.0,9,     0.09,2,     0.27,2,  -0.3915
  58GS20090528,   GIN,   233,  1,     18,20130607,0057, 75.0000,  -4.9950, 3561,     50.3,  -0.3060,  34.8938,2,  34.8951,2,    339.0,2,     5.90,2,    11.35,2,     0.04,2,     0.81,2, -999.000,9, -999.000,9,       -999,9,   2158.9,2,   -999.0,9,     0.23,2,     0.36,2,  -0.3077
  58GS20090528,   GIN,   233,  1,     19,20130607,0057, 75.0000,  -4.9950, 3561,     30.0,  -0.2090,  34.8845,2,  34.8850,2,    347.6,2,     4.05,2,    10.43,2,     0.05,2,     0.75,2,    6.554,2,    3.065,2, 4.23632356,2,   2152.4,2,   -999.0,9,     1.22,2,     0.53,2,  -0.2100
  58GS20090528,   GIN,   233,  1,     20,20130607,0057, 75.0000,  -4.9950, 3561,     18.9,  -0.1770,  34.8826,2,-999.0000,9,   -999.0,9,  -999.00,9,  -999.00,9,  -999.00,9,  -999.00,9, -999.000,9, -999.000,9,       -999,9,   -999.0,9,   -999.0,9,  -999.00,9,  -999.00,9,  -0.1776
  58GS20090528,   GIN,   233,  1,     21,20130607,0057, 75.0000,  -4.9950, 3561,     19.0,  -0.0630,  34.8771,2,  34.8821,2,   -999.0,9,     3.90,2,    10.29,2,     0.05,2,     0.73,2, -999.000,9, -999.000,9,       -999,9,   -999.0,9,   -999.0,9,     1.29,2,     0.40,2,  -0.0637
  58GS20090528,   GIN,   233,  1,     22,20130607,0057, 75.0000,  -4.9950, 3561,      9.6,   0.0900,  34.8757,2,  34.8798,2,   -999.0,9,     2.73,2,     9.26,2,     0.05,2,     0.66,2, -999.000,9, -999.000,9,       -999,9,   -999.0,9,   -999.0,9,     1.25,2,     0.39,2,   0.0897
  58GS20090528,   GIN,   233,  1,     23,20130607,0057, 75.0000,  -4.9950, 3561,      3.4,   0.4150,  34.8734,2,-999.0000,9,    369.0,2,     1.23,2,     7.37,2,     0.05,2,     0.57,2, -999.000,9, -999.000,9,       -999,9,   2130.0,2,   -999.0,9,     1.29,2,     0.50,2,   0.4149
  58GS20090528,   GIN,   233,  1,     24,20130607,0057, 75.0000,  -4.9950, 3561,      3.5,   0.4140,  34.8777,2,-999.0000,9,   -999.0,9,  -999.00,9,  -999.00,9,  -999.00,9,  -999.00,9, -999.000,9, -999.000,9,       -999,9,   -999.0,9,   -999.0,9,  -999.00,9,  -999.00,9,   0.4139
  58GS20090528,   GIN,   234,  1,      1,20130607,0518, 75.0000,  -3.9870, 3570,   3559.9,  -0.7950,  34.9099,2,  34.9055,2,    299.2,2,    13.07,2,    14.79,2,     0.01,2,     1.01,2,    0.853,2,    0.367,2,0.408167507,2,   2161.2,2,   2304.5,2,  -999.00,9,  -999.00,9,  -1.0091
  58GS20090528,   GIN,   234,  1,      2,20130607,0518, 75.0000,  -3.9870, 3570,   3000.8,  -0.7890,  34.9125,2,  34.9097,2,    298.4,2,    12.51,2,    14.69,2,     0.01,2,     1.01,2,    0.849,6,    0.366,6,0.407563716,6,   2161.6,2,   2303.8,2,  -999.00,9,  -999.00,9,  -0.9558
  58GS20090528,   GIN,   234,  1,      3,20130607,0518, 75.0000,  -3.9870, 3570,   2500.8,  -0.7570,  34.9113,2,  34.9063,2,    298.2,2,    11.89,2,    14.69,2,     0.01,2,     1.01,2,    1.176,2,    0.508,2,0.568424346,2,   2160.6,2,   2299.5,2,  -999.00,9,  -999.00,9,  -0.8861
  58GS20090528,   GIN,   234,  1,      4,20130607,0518, 75.0000,  -3.9870, 3570,   2001.6,  -0.6630,  34.9028,2,  34.9019,2,    305.2,2,     9.87,2,    13.99,2,     0.01,2,     0.97,2,    2.893,2,    1.243,2, 1.85976639,2,   2162.1,2,   2299.0,2,  -999.00,9,  -999.00,9,  -0.7592
  58GS20090528,   GIN,   234,  1,      5,20130607,0518, 75.0000,  -3.9870, 3570,   1500.4,  -0.5990,  34.9007,2,-999.0000,9,    331.1,2,     6.83,2,    12.74,2,     0.02,2,     0.89,2,    5.866,2,    2.646,2, 3.00934809,2,   2164.9,2,   2299.9,2,  -999.00,9,  -999.00,9,  -0.6653
  58GS20090528,   GIN,   234,  1,      6,20130607,0518, 75.0000,  -3.9870, 3570,   1200.6,  -0.6130,  34.8993,2,  34.8982,2,   -999.0,9,     6.80,2,    12.71,2,     0.02,2,     0.89,2,    6.069,2,    2.793,2, 4.87352159,2,   -999.0,9,   -999.0,9,  -999.00,9,  -999.00,9,  -0.6627
  58GS20090528,   GIN,   234,  1,      7,20130607,0518, 75.0000,  -3.9870, 3570,   1000.6,  -0.6180,  34.8983,2,  34.8997,2,    330.7,2,     6.76,2,    12.65,2,     0.02,2,     0.88,2,    6.015,2,    2.769,2,  3.8926254,2,   2164.8,2,   2297.9,2,  -999.00,9,  -999.00,9,  -0.6576
  58GS20090528,   GIN,   234,  1,      8,20130607,0518, 75.0000,  -3.9870, 3570,    800.4,  -0.6030,  34.8987,2,  34.8952,2,    330.9,2,     6.72,2,    12.48,2,     0.03,2,     0.89,2,    6.159,2,    2.795,2, 6.07737723,2,   2165.0,2,   2296.5,2,  -999.00,9,  -999.00,9,  -0.6333
  58GS20090528,   GIN,   234,  1,      9,20130607,0518, 75.0000,  -3.9870, 3570,    600.3,  -0.5990,  34.8970,2,  34.8991,2,   -999.0,9,     6.74,2,    12.67,2,     0.02,2,     0.88,2, -999.000,9, -999.000,9,       -999,9,   -999.0,9,   -999.0,9,  -999.00,9,  -999.00,9,  -0.6207
  58GS20090528,   GIN,   234,  1,     10,20130607,0518, 75.0000,  -3.9870, 3570,    600.7,  -0.6000,  34.8968,2,-999.0000,9,    330.1,2,  -999.00,9,  -999.00,9,  -999.00,9,  -999.00,9,    6.133,2,    2.735,2, 3.49874036,2,   2162.8,2,   2302.1,2,  -999.00,9,  -999.00,9,  -0.6217
  58GS20090528,   GIN,   234,  1,     11,20130607,0518, 75.0000,  -3.9870, 3570,    505.4,  -0.5780,  34.8972,2,  34.8924,2,    329.8,2,     6.71,2,    12.56,2,     0.02,2,     0.88,2, -999.000,9, -999.000,9,       -999,9,   2162.5,2,   2296.6,2,  -999.00,9,  -999.00,9,  -0.5959
  58GS20090528,   GIN,   234,  1,     12,20130607,0518, 75.0000,  -3.9870, 3570,    401.6,  -0.5550,  34.8964,2,  34.8964,2,    329.1,2,     6.68,2,    12.40,2,     0.02,2,     0.86,2,    6.029,2,    2.790,2, 4.31336308,2,   2163.2,2,   2302.1,2,  -999.00,9,  -999.00,9,  -0.5689
  58GS20090528,   GIN,   234,  1,     13,20130607,0518, 75.0000,  -3.9870, 3570,    299.5,  -0.4730,  34.8984,2,  34.8981,2,    327.9,2,     6.57,2,    12.53,2,     0.03,2,     0.86,2, -999.000,9, -999.000,9,       -999,9,   2163.8,2,   2301.1,2,  -999.00,9,  -999.00,9,  -0.4833
  58GS20090528,   GIN,   234,  1,     14,20130607,0518, 75.0000,  -3.9870, 3570,    199.7,  -0.4110,  34.8961,2,  34.9001,2,    327.8,2,     6.54,2,    12.38,2,     0.04,2,     0.87,2,    5.926,2,    2.751,2,  3.8696273,2,   2160.2,2,   2307.0,2,  -999.00,9,  -999.00,9,  -0.4178
  58GS20090528,   GIN,   234,  1,     15,20130607,0518, 75.0000,  -3.9870, 3570,    149.4,  -0.3710,  34.8910,2,  34.8905,2,    328.4,2,     6.50,2,    12.23,2,     0.05,2,     0.86,2, -999.000,9, -999.000,9,       -999,9,   2161.3,2,   2303.1,2,  -999.00,9,  -999.00,9,  -0.3761
  58GS20090528,   GIN,   234,  1,     16,20130607,0518, 75.0000,  -3.9870, 3570,     99.6,  -0.1970,  34.8872,2,  34.8870,2,    333.3,2,     6.07,2,    11.36,2,     0.05,2,     0.83,2,    6.191,2,    2.836,2,  4.4041608,2,   2155.9,2,   2306.1,2,     0.17,2,     0.44,2,  -0.2005
  58GS20090528,   GIN,   234,  1,     17,20130607,0518, 75.0000,  -3.9870, 3570,     74.1,  -0.1860,  34.8789,2,  34.8765,2,    340.2,2,     5.47,2,    10.71,2,     0.05,2,     0.78,2, -999.000,9, -999.000,9,       -999,9,   2154.6,2,   2305.8,2,     0.29,2,     0.42,2,  -0.1886
  58GS20090528,   GIN,   234,  1,     18,20130607,0518, 75.0000,  -3.9870, 3570,     49.8,  -0.0530,  34.8677,2,  34.8677,2,    349.9,2,     4.35,2,     9.76,2,     0.05,2,     0.73,2,    6.685,2,    3.068,2, 4.81778842,2,   2149.8,2,   2307.2,2,     0.80,2,     0.58,2,  -0.0548
  58GS20090528,   GIN,   234,  1,     19,20130607,0518, 75.0000,  -3.9870, 3570,     29.6,   0.4750,  34.8696,2,  34.8731,2,    374.6,2,     0.64,2,     7.05,2,     0.06,2,     0.59,2, -999.000,9, -999.000,9,       -999,9,   2128.4,2,   2308.0,2,     1.10,2,     0.52,2,   0.4738
  58GS20090528,   GIN,   234,  1,     20,20130607,0518, 75.0000,  -3.9870, 3570,     20.5,   0.9350,  34.8283,2,  34.8263,2,   -999.0,9,     0.23,2,     4.77,2,     0.07,2,     0.45,2, -999.000,9, -999.000,9,       -999,9,   -999.0,9,   -999.0,9,     1.17,2,     0.25,2,   0.9341
  58GS20090528,   GIN,   234,  1,     21,20130607,0518, 75.0000,  -3.9870, 3570,     20.5,   0.9400,  34.8283,2,-999.0000,9,   -999.0,9,  -999.00,9,  -999.00,9,  -999.00,9,  -999.00,9, -999.000,9, -999.000,9,       -999,9,   -999.0,9,   -999.0,9,  -999.00,9,  -999.00,9,   0.9391
  58GS20090528,   GIN,   234,  1,     22,20130607,0518, 75.0000,  -3.9870, 3570,      9.8,   0.9840,  34.8179,2,  34.8187,2,   -999.0,9,     0.22,2,     4.66,2,     0.06,2,     0.44,2, -999.000,9, -999.000,9,       -999,9,   -999.0,9,   -999.0,9,     1.25,2,     0.19,2,   0.9836
  58GS20090528,   GIN,   234,  1,     23,20130607,0518, 75.0000,  -3.9870, 3570,      3.8,   1.0040,  34.8138,2,  34.8097,2,    378.1,2,     0.20,2,     4.60,2,     0.06,2,     0.45,2,    7.057,2,    3.244,2, 5.21150349,2,   2105.9,2,   2307.4,2,     1.22,2,     0.23,2,   1.0038
  58GS20090528,   GIN,   234,  1,     24,20130607,0518, 75.0000,  -3.9870, 3570,      4.0,   1.0030,  34.8143,2,-999.0000,9,   -999.0,9,  -999.00,9,  -999.00,9,  -999.00,9,  -999.00,9, -999.000,9, -999.000,9,       -999,9,   -999.0,9,   -999.0,9,  -999.00,9,  -999.00,9,   1.0028