BOTTLE,20120326PRINUNIVRMK
EXPOCODE,SECT_ID,STNNBR,CASTNO,BTLNBR,DATE,TIME,LATITUDE,LONGITUDE,DEPTH,CTDPRS,CTDTMP,CTDSAL,CTDSAL_FLAG_W,SALNTY,SALNTY_FLAG_W,OXYGEN,OXYGEN_FLAG_W,SILCAT,SILCAT_FLAG_W,NITRAT,NITRAT_FLAG_W,NITRIT,NITRIT_FLAG_W,PHSPHT,PHSPHT_FLAG_W,CFC-11,CFC-11_FLAG_W,CFC-12,CFC-12_FLAG_W,SF6,SF6_FLAG_W,TCARBN,TCARBN_FLAG_W,ALKALI,ALKALI_FLAG_W,CHLORA,CHLORA_FLAG_W,PHAEO,PHAEO_FLAG_W,THETA
,,,,,,,,,METERS,DBAR,ITS-90,PSS-78,,PSS-78,,UMOL/KG,,UMOL/KG,,UMOL/KG,,UMOL/KG,,UMOL/KG,,PMOL/KG,,PMOL/KG,,FMOL/KG,,UMOL/KG,,UMOL/KG,,UG/KG,,UG/KG,,DEG C
  58GS20090528,   GIN,   321,  1,      1,20092906,1455, 71.3330,  19.8320,  334,    199.6,   6.4060,  35.0722,2,  35.0695,2,    279.2,2,     4.83,2,    11.63,2,     0.02,2,     0.78,2, -999.000,9,    2.438,2, 2.74685242,2,   2149.4,2,   2316.9,2,  -999.00,9,  -999.00,9,   6.3882
  58GS20090528,   GIN,   321,  1,      2,20092906,1455, 71.3330,  19.8320,  334,    149.6,   6.4950,  35.0455,2,  35.0449,2,    281.7,2,     4.46,2,    11.09,2,     0.01,2,     0.76,2, -999.000,9,    2.515,2, 4.45650749,2,   2146.7,2,   2316.2,2,  -999.00,9,  -999.00,9,   6.4816
  58GS20090528,   GIN,   321,  1,      3,20092906,1455, 71.3330,  19.8320,  334,    124.3,   6.5750,  35.0059,2,  35.0050,2,   -999.0,9,     4.18,2,    10.59,2,     0.01,2,     0.73,2, -999.000,9, -999.000,9,       -999,9,   -999.0,9,   -999.0,9,  -999.00,9,  -999.00,9,   6.5638
  58GS20090528,   GIN,   321,  1,      4,20092906,1455, 71.3330,  19.8320,  334,    104.0,   6.6360,  34.9706,2,  34.9699,2,    282.8,2,     3.99,2,    10.25,2,     0.03,2,     0.71,2, -999.000,9,    2.521,2, 4.55877531,2,   2140.3,2,   2315.2,2,     0.07,2,     0.12,2,   6.6266
  58GS20090528,   GIN,   321,  1,      5,20092906,1455, 71.3330,  19.8320,  334,     74.6,   6.8000,  34.9062,2,  34.9280,2,    285.0,2,     3.67,2,     9.31,2,     0.08,2,     0.66,2, -999.000,9,    2.518,2, 3.60095627,2,   2135.4,2,   2314.3,2,     0.02,2,     0.15,2,   6.7932
  58GS20090528,   GIN,   321,  1,      6,20092906,1455, 71.3330,  19.8320,  334,     50.2,   6.9040,  34.8039,2,  34.8297,2,    294.5,2,     3.05,2,     6.33,2,     0.17,2,     0.54,2, -999.000,9,    2.523,2, 3.76344808,2,   2123.4,2,   2313.8,2,     0.09,2,     0.11,2,   6.8994
  58GS20090528,   GIN,   321,  1,      7,20092906,1455, 71.3330,  19.8320,  334,     29.9,   7.9140,  34.4946,2,  34.6007,2,    298.0,2,     2.09,2,     3.35,2,     0.10,2,     0.38,2, -999.000,9,    2.506,2,  4.6815382,2,   2064.6,2,   2312.3,2,     0.27,2,     0.12,2,   7.9110
  58GS20090528,   GIN,   321,  1,      8,20092906,1455, 71.3330,  19.8320,  334,     21.5,   8.2950,  34.3811,2,  34.4223,2,   -999.0,9,     1.25,2,     0.81,2,     0.05,2,     0.20,2, -999.000,9, -999.000,9,       -999,9,   -999.0,9,   -999.0,9,     1.47,2,     0.25,2,   8.2928
  58GS20090528,   GIN,   321,  1,      9,20092906,1455, 71.3330,  19.8320,  334,      9.6,   8.6640,  34.3696,2,  34.3673,2,   -999.0,9,     1.05,2,     0.00,2,     0.02,2,     0.13,2, -999.000,9,    2.450,2, 4.10541558,2,   -999.0,9,   -999.0,9,     2.34,2,     0.19,2,   8.6630
  58GS20090528,   GIN,   321,  1,     10,20092906,1455, 71.3330,  19.8320,  334,      3.9,   8.6640,  34.3693,2,  34.3646,2,    319.8,2,     1.03,2,     0.00,2,     0.01,2,     0.14,2, -999.000,9, -999.000,9,       -999,9,   2105.9,2,   2302.5,2,     2.03,2,     0.18,2,   8.6636
  58GS20090528,   GIN,   322,  1,      1,20092906,1636, 71.1610,  19.8790,  334,    195.6,   6.3080,  35.0778,2,  35.0749,2,    279.2,2,     4.97,2,    11.78,2,     0.05,2,     0.80,2, -999.000,9,    2.512,2, 4.18853175,2,   2150.2,2,   3440.4,4,  -999.00,9,  -999.00,9,   6.2907
  58GS20090528,   GIN,   322,  1,      2,20092906,1636, 71.1610,  19.8790,  334,    149.7,   6.4760,  35.0439,2,  35.0428,2,    282.3,2,     4.36,2,    11.04,2,     0.01,2,     0.74,2, -999.000,9, -999.000,9,       -999,9,   2145.4,2,   2317.1,2,  -999.00,9,  -999.00,9,   6.4626
  58GS20090528,   GIN,   322,  1,      3,20092906,1636, 71.1610,  19.8790,  334,    124.4,   6.4700,  35.0017,2,  34.9985,2,   -999.0,9,     4.07,2,    10.61,2,     0.01,2,     0.73,2, -999.000,9,    2.474,2, 3.97701386,2,   -999.0,9,   -999.0,9,  -999.00,9,  -999.00,9,   6.4589
  58GS20090528,   GIN,   322,  1,      4,20092906,1636, 71.1610,  19.8790,  334,     99.9,   6.8060,  34.9725,2,  34.9771,2,    286.5,2,     3.62,2,     9.16,2,     0.11,2,     0.65,2, -999.000,9, -999.000,9,       -999,9,   2135.6,2,   2318.0,2,     0.02,2,     0.07,2,   6.7969
  58GS20090528,   GIN,   322,  1,      5,20092906,1636, 71.1610,  19.8790,  334,     75.3,   7.0890,  34.9369,2,  34.9434,2,    284.7,2,     3.21,2,     8.45,2,     0.18,2,     0.61,2, -999.000,9,    2.444,2, 5.11990706,2,   2130.3,2,   2318.8,2,     0.03,2,     0.06,2,   7.0820
  58GS20090528,   GIN,   322,  1,      6,20092906,1636, 71.1610,  19.8790,  334,     49.5,   6.9760,  34.7753,2,  34.7912,2,    292.5,2,     2.76,2,     6.12,2,     0.17,2,     0.53,2, -999.000,9,    2.440,6,  2.0849227,6,   2121.6,2,   2316.7,2,     0.06,2,     0.10,2,   6.9714
  58GS20090528,   GIN,   322,  1,      7,20092906,1636, 71.1610,  19.8790,  334,     29.6,   7.6290,  34.6798,2,  34.7267,2,    296.2,2,     2.41,2,     4.43,2,     0.14,2,     0.44,2, -999.000,9,    2.445,2, 2.69911352,2,   2110.9,2,   2314.6,2,     0.41,2,     0.14,2,   7.6261
  58GS20090528,   GIN,   322,  1,      8,20092906,1636, 71.1610,  19.8790,  334,     19.9,   8.0120,  34.5632,2,  34.6295,2,   -999.0,9,     1.84,2,     2.22,2,     0.10,2,     0.29,2, -999.000,9, -999.000,9,       -999,9,   -999.0,9,   -999.0,9,     0.83,2,     0.19,2,   8.0100
  58GS20090528,   GIN,   322,  1,      9,20092906,1636, 71.1610,  19.8790,  334,     10.4,   8.6730,  34.4242,2,  34.5314,2,   -999.0,9,     1.43,2,     0.98,2,     0.05,2,     0.20,2, -999.000,9, -999.000,9,       -999,9,   -999.0,9,   -999.0,9,     1.67,2,     0.25,2,   8.6719
  58GS20090528,   GIN,   322,  1,     10,20092906,1636, 71.1610,  19.8790,  334,      4.2,   8.7930,  34.4118,2,  34.4657,2,    317.2,2,     1.11,2,     0.35,2,     0.03,2,     0.14,2, -999.000,9,    2.399,2, 2.55490771,2,   2070.7,2,   2318.7,2,     1.86,2,     0.21,2,   8.7926
  58GS20090528,   GIN,   323,  1,      1,20092906,1802, 70.9990,  19.9010,  224,    174.5,   6.0980,  34.9970,2,  34.9956,2,    279.4,2,     4.80,2,    11.46,2,     0.04,2,     0.78,2, -999.000,9, -999.000,9,       -999,9,   2150.7,2,   2317.0,2,  -999.00,9,  -999.00,9,   6.0829
  58GS20090528,   GIN,   323,  1,      2,20092906,1802, 70.9990,  19.9010,  224,    149.4,   6.2420,  34.9936,2,  34.9986,2,    280.8,2,     4.57,2,    11.27,2,     0.03,2,     0.77,2, -999.000,9, -999.000,9,       -999,9,   2149.1,2,   2316.9,2,  -999.00,9,  -999.00,9,   6.2289
  58GS20090528,   GIN,   323,  1,      3,20092906,1802, 70.9990,  19.9010,  224,    124.1,   6.3420,  34.9555,2,  34.9553,2,   -999.0,9,     3.98,2,    10.55,2,     0.04,2,     0.72,2, -999.000,9, -999.000,9,       -999,9,   -999.0,9,   -999.0,9,  -999.00,9,  -999.00,9,   6.3311
  58GS20090528,   GIN,   323,  1,      4,20092906,1802, 70.9990,  19.9010,  224,     99.9,   6.5180,  34.8983,2,  34.8994,2,    286.8,2,     3.63,2,     9.18,2,     0.11,2,     0.66,2, -999.000,9, -999.000,9,       -999,9,   2138.2,2,   2315.9,2,     0.03,2,     0.16,2,   6.5091
  58GS20090528,   GIN,   323,  1,      5,20092906,1802, 70.9990,  19.9010,  224,     74.5,   6.7270,  34.8531,2,  34.8574,2,    294.3,2,     3.12,2,     6.69,2,     0.13,2,     0.54,2, -999.000,9, -999.000,9,       -999,9,   2129.4,2,   2316.0,2,     0.14,2,     0.09,2,   6.7203
  58GS20090528,   GIN,   323,  1,      6,20092906,1802, 70.9990,  19.9010,  224,     49.3,   6.9900,  34.7340,2,  34.7415,2,    291.3,2,     2.81,2,     5.78,2,     0.14,2,     0.53,2, -999.000,9, -999.000,9,       -999,9,   2125.0,2,   2314.0,2,     0.09,2,     0.12,2,   6.9855
  58GS20090528,   GIN,   323,  1,      7,20092906,1802, 70.9990,  19.9010,  224,     30.0,   7.8520,  34.5595,2,  34.6107,2,    296.8,2,     1.89,2,     2.93,2,     0.10,2,     0.35,2, -999.000,9, -999.000,9,       -999,9,   2107.1,2,   2312.3,2,     0.26,2,     0.05,2,   7.8490
  58GS20090528,   GIN,   323,  1,      8,20092906,1802, 70.9990,  19.9010,  224,     19.0,   8.2910,  34.4816,2,  34.5514,2,   -999.0,9,     1.53,2,     1.76,2,     0.08,2,     0.27,2, -999.000,9, -999.000,9,       -999,9,   -999.0,9,   -999.0,9,     0.58,2,     0.12,2,   8.2891
  58GS20090528,   GIN,   323,  1,      9,20092906,1802, 70.9990,  19.9010,  224,      9.3,   8.5270,  34.4800,2,  34.5216,2,   -999.0,9,     1.31,2,     0.98,2,     0.05,2,     0.20,2, -999.000,9, -999.000,9,       -999,9,   -999.0,9,   -999.0,9,     1.32,2,     0.14,2,   8.5260
  58GS20090528,   GIN,   323,  1,     10,20092906,1802, 70.9990,  19.9010,  224,      3.6,   9.3230,  34.3637,2,  34.4792,2,    313.9,2,     1.12,2,     0.58,2,     0.03,2,     0.17,2, -999.000,9, -999.000,9,       -999,9,   2079.2,2,   2307.9,2,     1.44,2,     0.13,2,   9.3226
  58GS20090528,   GIN,   324,  1,      1,20092906,2003, 70.8330,  19.9320,  224,    169.5,   6.2180,  34.9712,2,  34.9694,2,    279.6,2,     4.67,2,    11.04,2,     0.05,2,     0.78,2, -999.000,9,    2.456,2, 2.21855505,2,   2145.4,2,   2315.9,2,  -999.00,9,  -999.00,9,   6.2032
  58GS20090528,   GIN,   324,  1,      2,20092906,2003, 70.8330,  19.9320,  224,    147.1,   6.2150,  34.9622,2,  34.9609,2,    279.8,2,     4.59,2,    10.92,2,     0.04,2,     0.76,2, -999.000,9, -999.000,9,       -999,9,   2146.0,2,   2315.6,2,  -999.00,9,  -999.00,9,   6.2022
  58GS20090528,   GIN,   324,  1,      3,20092906,2003, 70.8330,  19.9320,  224,    123.9,   6.3580,  34.8997,2,  34.8968,2,   -999.0,9,     3.96,2,    10.05,2,     0.04,2,     0.71,2, -999.000,9,    2.481,2, 1.46504709,2,   -999.0,9,   -999.0,9,  -999.00,9,  -999.00,9,   6.3471
  58GS20090528,   GIN,   324,  1,      4,20092906,2003, 70.8330,  19.9320,  224,     99.8,   6.5910,  34.8519,2,  34.8519,2,    284.7,2,     3.61,2,     9.01,2,     0.10,2,     0.65,2, -999.000,9,    2.441,2, 1.77869476,2,   2135.5,2,   2312.8,2,     0.04,2,     0.26,2,   6.5820
  58GS20090528,   GIN,   324,  1,      5,20092906,2003, 70.8330,  19.9320,  224,     74.2,   6.8930,  34.8031,2,  34.8112,2,    283.4,2,     3.30,2,     8.43,2,     0.10,2,     0.63,2, -999.000,9, -999.000,9,       -999,9,   2130.7,2,   2310.9,2,     0.04,2,     0.18,2,   6.8862
  58GS20090528,   GIN,   324,  1,      6,20092906,2003, 70.8330,  19.9320,  224,     49.7,   6.9870,  34.6884,2,  34.7111,2,    286.9,2,     2.83,2,     6.84,2,     0.14,2,     0.57,2, -999.000,9,    2.468,2, 2.34719732,2,   2132.9,2,   2309.9,2,     0.10,2,     0.15,2,   6.9824
  58GS20090528,   GIN,   324,  1,      7,20092906,2003, 70.8330,  19.9320,  224,     30.2,   7.6840,  34.6506,2,  34.6921,2,    288.6,2,     2.38,2,     5.16,2,     0.12,2,     0.46,2, -999.000,9, -999.000,9,       -999,9,   2117.3,2,   2310.7,2,     0.17,2,     0.11,2,   7.6811
  58GS20090528,   GIN,   324,  1,      8,20092906,2003, 70.8330,  19.9320,  224,     20.1,   8.1000,  34.4850,2,  34.5799,2,   -999.0,9,     1.52,2,     2.00,2,     0.08,2,     0.27,2, -999.000,9,    2.425,6, 2.23261842,2,   -999.0,9,   -999.0,9,     0.64,2,     0.18,2,   8.0980
  58GS20090528,   GIN,   324,  1,      9,20092906,2003, 70.8330,  19.9320,  224,      9.3,   8.3160,  34.4239,2,  34.4221,2,   -999.0,9,     0.96,2,     0.02,2,     0.01,2,     0.10,2, -999.000,9, -999.000,9,       -999,9,   -999.0,9,   -999.0,9,     1.49,2,     0.32,2,   8.3151
  58GS20090528,   GIN,   324,  1,     10,20092906,2003, 70.8330,  19.9320,  224,      4.7,   8.4000,  34.4271,2,  34.4300,2,    319.9,2,     0.96,2,     0.00,2,     0.01,2,     0.10,2, -999.000,9,    2.401,2, 2.67184866,2,   2068.0,2,   2304.2,2,     1.14,2,     0.27,2,   8.3995
  58GS20090528,   GIN,   325,  1,      1,20092906,2126, 70.6660,  19.9640,  224,    144.8,   6.6060,  34.9483,2,  34.9371,2,    280.4,2,     4.08,2,    10.25,2,     0.02,2,     0.72,2, -999.000,9,    2.883,2, 2.24573709,2,   2140.8,2,   2313.6,2,  -999.00,9,  -999.00,9,   6.5929
  58GS20090528,   GIN,   325,  1,      2,20092906,2126, 70.6660,  19.9640,  224,    124.5,   6.8670,  34.9026,2,  34.9005,2,   -999.0,9,     3.77,2,     9.78,2,     0.02,2,     0.69,2, -999.000,9,    2.926,2, 2.68276906,2,   2139.2,2,   2313.0,2,  -999.00,9,  -999.00,9,   6.8555
  58GS20090528,   GIN,   325,  1,      3,20092906,2126, 70.6660,  19.9640,  224,     99.8,   6.8460,  34.7682,2,-999.0000,9,   -999.0,9,  -999.00,9,  -999.00,9,  -999.00,9,  -999.00,9, -999.000,9,    3.045,6, 2.66302738,6,   -999.0,9,   -999.0,9,  -999.00,9,  -999.00,9,   6.8369
  58GS20090528,   GIN,   325,  1,      4,20092906,2126, 70.6660,  19.9640,  224,     74.8,   6.9310,  34.6375,2,  34.6574,2,    286.5,2,     2.70,2,     5.92,2,     0.17,2,     0.54,2, -999.000,9,    3.137,2, 2.55752394,2,   2127.8,2,   2308.5,2,     0.11,2,     0.42,2,   6.9241
  58GS20090528,   GIN,   325,  1,      5,20092906,2126, 70.6660,  19.9640,  224,     49.9,   7.6620,  34.5169,2,  34.5288,2,    298.5,2,     0.80,2,     1.73,2,     0.09,2,     0.30,2, -999.000,9,    3.061,2, 2.20094999,2,   2097.2,2,   2308.8,2,     0.20,2,     0.12,2,   7.6572
  58GS20090528,   GIN,   325,  1,      6,20092906,2126, 70.6660,  19.9640,  224,     30.3,   8.2020,  34.3946,2,  34.4107,2,    306.3,2,     0.11,2,     0.21,2,     0.03,2,     0.15,2, -999.000,9,    2.977,2, 2.61233946,2,   2074.0,2,   2306.5,2,     0.58,2,     0.15,2,   8.1989
  58GS20090528,   GIN,   325,  1,      7,20092906,2126, 70.6660,  19.9640,  224,     18.2,   8.5170,  34.3783,2,  34.3978,2,   -999.0,9,     0.06,2,     0.20,2,     0.02,2,     0.13,2, -999.000,9,    2.998,2, 2.44927507,2,   -999.0,9,   -999.0,9,     0.65,2,     0.19,2,   8.5151
  58GS20090528,   GIN,   325,  1,      8,20092906,2126, 70.6660,  19.9640,  224,      9.4,   8.6510,  34.1965,2,  34.3531,2,   -999.0,9,     0.14,2,     0.34,2,     0.02,2,     0.14,2, -999.000,9,    2.972,2, 2.32211332,2,   -999.0,9,   -999.0,9,     0.66,2,     0.20,2,   8.6500
  58GS20090528,   GIN,   325,  1,      9,20092906,2126, 70.6660,  19.9640,  224,      5.1,   9.1600,  34.1225,2,  34.2778,2,    311.2,2,     0.01,2,     0.12,2,     0.01,2,     0.11,2, -999.000,9,    2.979,2, 2.27996122,2,   2067.6,2,   2300.1,2,     0.71,2,     0.18,2,   9.1595
  58GS20090528,   GIN,   326,  1,      1,20092906,2244, 70.5000,  20.0000,  183,    114.2,   6.8790,  34.5018,2,  34.4794,2,    286.2,2,     2.56,2,     6.18,2,     0.14,2,     0.54,2, -999.000,9,    2.468,2, 2.66309347,2,   2117.0,2,   2177.0,4,  -999.00,9,  -999.00,9,   6.8686
  58GS20090528,   GIN,   326,  1,      2,20092906,2244, 70.5000,  20.0000,  183,     99.7,   6.8950,  34.4475,2,  34.4437,2,    286.5,2,     2.46,2,     5.89,2,     0.14,2,     0.51,2, -999.000,9,    2.455,2, 2.14076852,2,   2115.3,2,   2295.5,2,     0.04,2,     0.15,2,   6.8859
  58GS20090528,   GIN,   326,  1,      3,20092906,2244, 70.5000,  20.0000,  183,     74.6,   6.7120,  34.3475,2,  34.3440,2,    286.3,2,     2.42,2,     5.90,2,     0.19,2,     0.54,2, -999.000,9,    2.511,2, 2.39275959,2,   2116.3,2,   2296.7,2,     0.06,2,     0.21,2,   6.7053
  58GS20090528,   GIN,   326,  1,      4,20092906,2244, 70.5000,  20.0000,  183,     49.7,   7.5030,  34.2336,2,  34.2393,2,    295.1,2,     1.20,2,     2.77,2,     0.10,2,     0.34,2, -999.000,9,    2.477,2, 2.63471661,2,   2093.1,2,   2292.8,2,     0.17,2,     0.06,2,   7.4983
  58GS20090528,   GIN,   326,  1,      5,20092906,2244, 70.5000,  20.0000,  183,     30.2,   7.9070,  34.1800,2,  34.1837,2,    301.2,2,     0.87,2,     2.05,2,     0.09,2,     0.30,2, -999.000,9,    2.442,2, 2.87388584,2,   2078.6,2,   2290.9,2,     0.34,2,     0.07,2,   7.9040
  58GS20090528,   GIN,   326,  1,      6,20092906,2244, 70.5000,  20.0000,  183,     20.1,   8.0640,  34.1596,2,  34.1610,2,   -999.0,9,     0.87,2,     1.87,2,     0.10,2,  -999.00,9, -999.000,9, -999.000,9,       -999,9,   -999.0,9,   -999.0,9,     0.34,2,     0.09,2,   8.0620
  58GS20090528,   GIN,   326,  1,      7,20092906,2244, 70.5000,  20.0000,  183,      9.7,   8.2090,  34.1636,2,  34.1657,2,   -999.0,9,     0.81,2,     1.79,2,     0.08,2,     0.27,2, -999.000,9, -999.000,9,       -999,9,   -999.0,9,   -999.0,9,     0.27,2,     0.02,2,   8.2080
  58GS20090528,   GIN,   326,  1,      8,20092906,2244, 70.5000,  20.0000,  183,      4.4,   8.3880,  34.1607,2,  34.1625,2,    301.5,2,     0.78,2,     1.78,2,     0.08,2,     0.27,2, -999.000,9,    2.427,2,  2.3124067,2,   2078.3,2,   2288.8,2,     0.27,2,     0.04,2,   8.3876
  58GS20090528,   GIN,   327,  1,      1,20090207,0056, 69.9950,  17.7970,  201,     52.9,   6.8710,  34.2542,2,  34.2503,2,    285.5,2,     2.43,2,     4.92,2,     0.16,2,     0.48,2, -999.000,9,    2.420,2, 3.02667926,2,   2116.2,2,   2294.4,2,     0.15,2,     0.18,2,   6.8662
  58GS20090528,   GIN,   327,  1,      2,20090207,0056, 69.9950,  17.7970,  201,     49.6,   6.8600,  34.2554,2,  34.2569,2,    283.8,2,     2.61,2,     5.17,2,     0.17,2,     0.50,2, -999.000,9, -999.000,9,       -999,9,   2118.1,2,   2294.8,2,     0.12,2,     0.18,2,   6.8555
  58GS20090528,   GIN,   327,  1,      3,20090207,0056, 69.9950,  17.7970,  201,     29.6,   7.1540,  34.2115,2,  34.2116,2,    286.7,2,     2.04,2,     4.39,2,     0.14,2,     0.45,2, -999.000,9,    2.457,2, 2.42941139,2,   2111.9,2,   2297.3,2,     0.20,2,     0.13,2,   7.1513
  58GS20090528,   GIN,   327,  1,      4,20090207,0056, 69.9950,  17.7970,  201,     20.1,   8.1880,  34.0998,2,  34.0933,2,    287.5,2,     1.33,2,     1.99,2,     0.09,2,     0.32,2, -999.000,9,    2.384,2, 3.62034879,2,   2103.3,2,   2296.5,2,     0.57,2,     0.14,2,   8.1860
  58GS20090528,   GIN,   327,  1,      5,20090207,0056, 69.9950,  17.7970,  201,      9.3,   9.4020,  33.9841,2,  33.9789,2,    303.1,2,     0.65,2,     0.05,2,     0.02,2,     0.09,2, -999.000,9,    2.245,2,  3.3600632,2,   2075.0,2,   2291.6,2,     0.55,2,     0.07,2,   9.4010
  58GS20090528,   GIN,   327,  1,      6,20090207,0056, 69.9950,  17.7970,  201,      4.3,  10.1440,  33.9076,2,  33.9130,2,    297.2,2,     0.24,2,     0.01,2,     0.01,2,     0.09,2, -999.000,9,    2.200,2, 2.56321275,2,   2058.8,2,   2283.5,2,     0.38,2,     0.04,2,  10.1435