BOTTLE,20120326PRINUNIVRMK
EXPOCODE,SECT_ID,STNNBR,CASTNO,BTLNBR,DATE,TIME,LATITUDE,LONGITUDE,DEPTH,CTDPRS,CTDTMP,CTDSAL,CTDSAL_FLAG_W,SALNTY,SALNTY_FLAG_W,OXYGEN,OXYGEN_FLAG_W,SILCAT,SILCAT_FLAG_W,NITRAT,NITRAT_FLAG_W,NITRIT,NITRIT_FLAG_W,PHSPHT,PHSPHT_FLAG_W,CFC-11,CFC-11_FLAG_W,CFC-12,CFC-12_FLAG_W,SF6,SF6_FLAG_W,TCARBN,TCARBN_FLAG_W,ALKALI,ALKALI_FLAG_W,CHLORA,CHLORA_FLAG_W,PHAEO,PHAEO_FLAG_W,THETA
,,,,,,,,,METERS,DBAR,ITS-90,PSS-78,,PSS-78,,UMOL/KG,,UMOL/KG,,UMOL/KG,,UMOL/KG,,UMOL/KG,,PMOL/KG,,PMOL/KG,,FMOL/KG,,UMOL/KG,,UMOL/KG,,UG/KG,,UG/KG,,DEG C
  58GS20090528,   GIN,   223,  1,      1,20130307,0834, 71.4170,   4.9180, 2993,   2770.0,  -0.8130,  34.9088,2,  34.9114,2,    295.4,2,    13.57,2,    14.95,2,     0.01,2,     1.02,2,    0.690,2,    0.339,2, 0.23871755,2,   -999.0,9,   2309.4,2,  -999.00,9,  -999.00,9,  -0.9612
  58GS20090528,   GIN,   223,  1,      2,20130307,0834, 71.4170,   4.9180, 2993,   2502.3,  -0.8190,  34.9090,2,  34.9095,2,    296.1,2,    13.14,2,    14.99,2,     0.01,2,     1.02,2,    0.773,2,    0.376,2,0.221507732,2,   -999.0,9,   2307.8,2,  -999.00,9,  -999.00,9,  -0.9470
  58GS20090528,   GIN,   223,  1,      3,20130307,0834, 71.4170,   4.9180, 2993,   2001.1,  -0.7810,  34.9081,2,  34.9089,2,    297.2,2,    11.96,2,    14.73,2,     0.01,2,     1.02,2,    1.180,2,    0.573,2,0.542531607,2,   -999.0,9,   2302.4,2,  -999.00,9,  -999.00,9,  -0.8754
  58GS20090528,   GIN,   223,  1,      4,20130307,0834, 71.4170,   4.9180, 2993,   1500.5,  -0.6360,  34.9015,2,  34.8987,2,    300.3,2,    10.07,2,    14.31,2,     0.01,2,     0.99,2,    2.475,2,    1.197,2, 1.51603436,2,   -999.0,9,   -999.0,9,  -999.00,9,  -999.00,9,  -0.7019
  58GS20090528,   GIN,   223,  1,      5,20130307,0834, 71.4170,   4.9180, 2993,   1201.2,  -0.4240,  34.8965,2,  34.8977,2,    303.5,2,     8.60,2,    13.99,2,     0.01,2,     0.97,2,    3.752,2,    1.825,2, 1.83080328,2,   -999.0,9,   2295.6,2,  -999.00,9,  -999.00,9,  -0.4756
  58GS20090528,   GIN,   223,  1,      6,20130307,0834, 71.4170,   4.9180, 2993,    999.9,  -0.1130,  34.8960,2,  34.8968,2,    305.8,2,     7.67,2,    13.73,2,     0.01,2,     0.95,2,    4.631,2,    2.315,2, 2.12858326,2,   -999.0,9,   2300.3,2,  -999.00,9,  -999.00,9,  -0.1567
  58GS20090528,   GIN,   223,  1,      7,20130307,0834, 71.4170,   4.9180, 2993,    799.1,   0.8750,  34.9207,2,  34.9268,2,    305.7,2,     6.51,2,    13.31,2,     0.01,2,     0.92,2,    5.372,2,    2.779,2, 1.86494274,2,   -999.0,9,   2301.7,2,  -999.00,9,  -999.00,9,   0.8350
  58GS20090528,   GIN,   223,  1,      8,20130307,0834, 71.4170,   4.9180, 2993,    599.2,   3.5570,  35.0610,2,  35.0646,2,    302.1,2,     5.03,2,    11.95,2,     0.01,2,     0.81,2,    5.206,2,    2.803,2, 2.39293844,2,   -999.0,9,   2304.6,2,  -999.00,9,  -999.00,9,   3.5150
  58GS20090528,   GIN,   223,  1,      9,20130307,0834, 71.4170,   4.9180, 2993,    499.8,   4.2360,  35.1162,2,  35.1097,2,    303.7,2,     4.77,2,    11.55,2,     0.02,2,     0.78,2, -999.000,9, -999.000,9,       -999,9,   -999.0,9,   2312.1,2,  -999.00,9,  -999.00,9,   4.1986
  58GS20090528,   GIN,   223,  1,     10,20130307,0834, 71.4170,   4.9180, 2993,    400.1,   4.4170,  35.1256,2,  35.1210,2,    302.4,2,     4.75,2,    11.48,2,     0.02,2,     0.78,2, -999.000,9, -999.000,9,       -999,9,   -999.0,9,   -999.0,9,  -999.00,9,  -999.00,9,   4.3868
  58GS20090528,   GIN,   223,  1,     11,20130307,0834, 71.4170,   4.9180, 2993,    299.6,   4.5690,  35.1347,2,  35.1294,2,    302.4,2,     4.71,2,    11.35,2,     0.03,2,     0.77,2,    5.046,2,    2.742,2, 2.49295171,2,   -999.0,9,   2308.3,2,  -999.00,9,  -999.00,9,   4.5463
  58GS20090528,   GIN,   223,  1,     12,20130307,0834, 71.4170,   4.9180, 2993,    200.2,   4.8070,  35.1430,2,  35.1392,2,    300.3,2,     4.75,2,    11.42,2,     0.10,2,     0.78,2, -999.000,9, -999.000,9,       -999,9,   -999.0,9,   2314.5,2,  -999.00,9,  -999.00,9,   4.7916
  58GS20090528,   GIN,   223,  1,     13,20130307,0834, 71.4170,   4.9180, 2993,    149.7,   5.0210,  35.1518,2,-999.0000,9,    299.2,2,     4.77,2,    11.36,2,     0.06,2,     0.78,2, -999.000,9, -999.000,9,       -999,9,   -999.0,9,   2317.1,2,  -999.00,9,  -999.00,9,   5.0093
  58GS20090528,   GIN,   223,  1,     14,20130307,0834, 71.4170,   4.9180, 2993,    124.6,   5.0770,  35.1514,2,  35.1429,2,   -999.0,9,     4.77,2,    11.40,2,     0.07,2,     0.78,2, -999.000,9, -999.000,9,       -999,9,   -999.0,9,   -999.0,9,  -999.00,9,  -999.00,9,   5.0672
  58GS20090528,   GIN,   223,  1,     15,20130307,0834, 71.4170,   4.9180, 2993,    100.2,   5.1480,  35.1547,2,  35.1495,2,    298.9,2,     4.79,2,    11.20,2,     0.17,2,     0.77,2, -999.000,9, -999.000,9,       -999,9,   -999.0,9,   2316.5,2,     0.02,2,     0.15,2,   5.1401
  58GS20090528,   GIN,   223,  1,     16,20130307,0834, 71.4170,   4.9180, 2993,     74.0,   5.3080,  35.1587,2,  35.1526,2,    299.5,2,     4.77,2,    10.97,2,     0.26,2,     0.77,2, -999.000,9, -999.000,9,       -999,9,   -999.0,9,   2319.5,2,     0.04,2,     0.18,2,   5.3021
  58GS20090528,   GIN,   223,  1,     17,20130307,0834, 71.4170,   4.9180, 2993,     50.0,   5.6300,  35.1601,2,  35.1561,2,    304.5,2,     4.64,2,     8.72,2,     0.20,2,     0.67,2, -999.000,9, -999.000,9,       -999,9,   -999.0,9,   2313.5,2,     0.18,2,     0.21,2,   5.6259
  58GS20090528,   GIN,   223,  1,     18,20130307,0834, 71.4170,   4.9180, 2993,     50.2,   5.7260,  35.1600,2,  35.1565,2,   -999.0,9,  -999.00,9,  -999.00,9,  -999.00,9,  -999.00,9, -999.000,9, -999.000,9,       -999,9,   -999.0,9,   -999.0,9,  -999.00,9,  -999.00,9,   5.7218
  58GS20090528,   GIN,   223,  1,     19,20130307,0834, 71.4170,   4.9180, 2993,     30.5,   6.4230,  35.1704,2,  35.1669,2,    310.4,2,     4.15,2,     5.79,2,     0.09,2,     0.47,2, -999.000,9, -999.000,9,       -999,9,   -999.0,9,   2321.2,2,     0.84,2,     0.38,2,   6.4203
  58GS20090528,   GIN,   223,  1,     20,20130307,0834, 71.4170,   4.9180, 2993,     19.9,   6.4630,  35.1763,2,  35.1719,2,    310.4,2,     4.12,2,     5.69,2,     0.09,2,     0.46,2, -999.000,9, -999.000,9,       -999,9,   -999.0,9,   -999.0,9,     0.95,2,     0.36,2,   6.4612
  58GS20090528,   GIN,   223,  1,     21,20130307,0834, 71.4170,   4.9180, 2993,     20.1,   6.5070,  35.1774,2,  35.1695,2,   -999.0,9,  -999.00,9,  -999.00,9,  -999.00,9,  -999.00,9, -999.000,9, -999.000,9,       -999,9,   -999.0,9,   -999.0,9,  -999.00,9,  -999.00,9,   6.5052
  58GS20090528,   GIN,   223,  1,     22,20130307,0834, 71.4170,   4.9180, 2993,      9.2,   6.5370,  35.1786,2,  35.1734,2,   -999.0,9,     4.11,2,     5.61,2,     0.09,2,     0.45,2, -999.000,9, -999.000,9,       -999,9,   -999.0,9,   -999.0,9,     1.06,2,     0.38,2,   6.5362
  58GS20090528,   GIN,   223,  1,     23,20130307,0834, 71.4170,   4.9180, 2993,      5.4,   6.5420,  35.1788,2,-999.0000,9,    310.9,2,     4.12,2,     5.61,2,     0.09,2,     0.45,2, -999.000,9, -999.000,9,       -999,9,   -999.0,9,   2318.1,2,     1.30,2,     0.41,2,   6.5415
  58GS20090528,   GIN,   223,  1,     24,20130307,0834, 71.4170,   4.9180, 2993,      5.9,   6.5400,  35.1787,2,-999.0000,9,   -999.0,9,  -999.00,9,  -999.00,9,  -999.00,9,  -999.00,9, -999.000,9, -999.000,9,       -999,9,   -999.0,9,   -999.0,9,  -999.00,9,  -999.00,9,   6.5395
  58GS20090528,   GIN,   224,  1,      1,20130307,1757, 72.0830,   2.7510, 2348,   2275.9,  -0.8210,  34.9087,2,  34.9123,2,    295.8,2,    13.29,2,    15.07,2,     0.01,2,     1.03,2,    0.807,2,    0.398,2,0.242048782,2,   2162.8,2,   2308.5,2,  -999.00,9,  -999.00,9,  -0.9330
  58GS20090528,   GIN,   224,  1,      2,20130307,1757, 72.0830,   2.7510, 2348,   2000.9,  -0.8260,  34.9083,2,  34.9106,2,    296.3,2,    13.04,2,    15.08,2,     0.02,2,     1.04,2,    0.919,2,    0.448,2,0.306572056,2,   2163.3,2,   2310.4,2,  -999.00,9,  -999.00,9,  -0.9196
  58GS20090528,   GIN,   224,  1,      3,20130307,1757, 72.0830,   2.7510, 2348,   1500.4,  -0.7390,  34.9056,2,  34.9038,2,   -999.0,9,    11.26,2,    14.54,2,     0.01,2,     1.01,2, -999.000,9, -999.000,9,       -999,9,   -999.0,9,   -999.0,9,  -999.00,9,  -999.00,9,  -0.8036
  58GS20090528,   GIN,   224,  1,      4,20130307,1757, 72.0830,   2.7510, 2348,   1200.4,  -0.6470,  34.9008,2,  34.9043,2,    304.2,2,     9.82,2,    14.17,2,     0.01,2,     0.99,2,    3.042,2,    1.559,2, 3.71020117,2,   -999.0,9,   2304.1,2,  -999.00,9,  -999.00,9,  -0.6964
  58GS20090528,   GIN,   224,  1,      5,20130307,1757, 72.0830,   2.7510, 2348,   1000.1,  -0.5520,  34.8976,2,  34.8958,2,    308.7,2,     8.73,2,    13.80,2,     0.00,2,     0.96,2,    3.905,2,    1.884,2, 2.59463697,2,   2164.0,2,   2304.5,2,  -999.00,9,  -999.00,9,  -0.5921
  58GS20090528,   GIN,   224,  1,      6,20130307,1757, 72.0830,   2.7510, 2348,    800.6,  -0.3950,  34.8966,2,  34.8968,2,    307.0,2,     8.33,2,    13.86,2,     0.01,2,     0.97,2,    4.240,2,    2.050,2,  1.7077431,2,   2163.8,2,   2303.5,2,  -999.00,9,  -999.00,9,  -0.4267
  58GS20090528,   GIN,   224,  1,      7,20130307,1757, 72.0830,   2.7510, 2348,    600.3,  -0.0930,  34.8978,2,  34.8970,2,    313.4,2,     7.16,2,    13.17,2,     0.01,2,     0.93,2,    5.109,2,    2.511,2, 2.03446052,2,   2162.0,2,   2304.1,2,  -999.00,9,  -999.00,9,  -0.1172
  58GS20090528,   GIN,   224,  1,      8,20130307,1757, 72.0830,   2.7510, 2348,    500.3,   0.0380,  34.8961,2,  34.8827,2,    324.6,2,     6.30,2,    12.45,2,     0.01,2,     0.88,2,    5.903,2,    2.969,2, 2.72936141,2,   2160.8,2,   2304.2,2,  -999.00,9,  -999.00,9,   0.0178
  58GS20090528,   GIN,   224,  1,      9,20130307,1757, 72.0830,   2.7510, 2348,    400.5,   0.4700,  34.9151,2,  34.9126,2,    323.7,2,     5.96,2,    12.19,2,     0.02,2,     0.87,2, -999.000,9, -999.000,9,       -999,9,   2160.2,2,   2301.8,2,  -999.00,9,  -999.00,9,   0.4527
  58GS20090528,   GIN,   224,  1,     10,20130307,1757, 72.0830,   2.7510, 2348,    299.9,   1.4400,  34.9640,2,  34.9636,2,    316.2,2,     5.75,2,    12.28,2,     0.04,2,     0.88,2,    5.932,2,    3.011,2, 2.75516535,2,   2159.0,2,   2307.5,2,  -999.00,9,  -999.00,9,   1.4249
  58GS20090528,   GIN,   224,  1,     11,20130307,1757, 72.0830,   2.7510, 2348,    199.9,   2.4100,  35.0065,2,  35.0007,2,    312.0,2,     5.37,2,    11.92,2,     0.09,2,     0.85,2,    5.713,2,    2.973,2, 2.38593022,2,   2157.4,2,   2306.1,2,  -999.00,9,  -999.00,9,   2.3985
  58GS20090528,   GIN,   224,  1,     12,20130307,1757, 72.0830,   2.7510, 2348,    150.5,   2.9890,  35.0212,2,  35.0127,2,    316.0,2,     5.12,2,    11.00,2,     0.12,2,     0.81,2, -999.000,9, -999.000,9,       -999,9,   2149.7,2,   2307.8,2,  -999.00,9,  -999.00,9,   2.9797
  58GS20090528,   GIN,   224,  1,     13,20130307,1757, 72.0830,   2.7510, 2348,    124.7,   3.5750,  35.0376,2,  35.0345,2,   -999.0,9,     4.91,2,     9.74,2,     0.15,2,     0.75,2, -999.000,9, -999.000,9,       -999,9,   -999.0,9,   -999.0,9,  -999.00,9,  -999.00,9,   3.5667
  58GS20090528,   GIN,   224,  1,     14,20130307,1757, 72.0830,   2.7510, 2348,    100.1,   3.9260,  35.0540,2,  35.0511,2,    316.0,2,     4.77,2,     9.62,2,     0.18,2,     0.74,2,    5.556,2,    2.930,2, 3.09718508,2,   2144.2,2,   2312.3,2,     0.27,2,     0.17,2,   3.9191
  58GS20090528,   GIN,   224,  1,     15,20130307,1757, 72.0830,   2.7510, 2348,     74.5,   4.2060,  35.0439,2,  35.0726,2,    326.8,2,     4.78,2,     9.61,2,     0.17,2,     0.74,2, -999.000,9, -999.000,9,       -999,9,   2128.7,2,   2314.3,2,     0.62,2,     0.22,2,   4.2007
  58GS20090528,   GIN,   224,  1,     16,20130307,1757, 72.0830,   2.7510, 2348,     50.3,   4.7560,  35.0762,2,  35.0743,2,    323.9,2,     4.03,2,     6.56,2,     0.09,2,     0.57,2,    5.394,6,    2.847,6, 2.59101975,2,   2124.8,2,   2311.8,2,     1.10,2,     0.28,2,   4.7522
  58GS20090528,   GIN,   224,  1,     17,20130307,1757, 72.0830,   2.7510, 2348,     30.1,   5.0070,  35.0901,2,  35.0870,2,    324.7,2,     3.87,2,     6.16,2,     0.09,2,     0.51,2, -999.000,9, -999.000,9,       -999,9,   2118.0,2,   2312.9,2,     1.48,2,     0.34,2,   5.0047
  58GS20090528,   GIN,   224,  1,     18,20130307,1757, 72.0830,   2.7510, 2348,     20.3,   5.0290,  35.0904,2,  35.0894,2,   -999.0,9,     3.84,2,     6.07,2,     0.08,2,     0.50,2, -999.000,9, -999.000,9,       -999,9,   -999.0,9,   -999.0,9,     1.48,2,     0.31,2,   5.0274
  58GS20090528,   GIN,   224,  1,     19,20130307,1757, 72.0830,   2.7510, 2348,      9.9,   5.0290,  35.0917,2,  35.0887,2,   -999.0,9,     3.85,2,     6.05,2,     0.09,2,     0.51,2, -999.000,9, -999.000,9,       -999,9,   -999.0,9,   -999.0,9,     1.61,2,     0.36,2,   5.0282
  58GS20090528,   GIN,   224,  1,     20,20130307,1757, 72.0830,   2.7510, 2348,     10.1,   5.0280,  35.0918,2,  35.0898,2,   -999.0,9,  -999.00,9,  -999.00,9,  -999.00,9,  -999.00,9, -999.000,9, -999.000,9,       -999,9,   -999.0,9,   -999.0,9,  -999.00,9,  -999.00,9,   5.0272
  58GS20090528,   GIN,   224,  1,     21,20130307,1757, 72.0830,   2.7510, 2348,      5.4,   5.0280,  35.0915,2,  35.0869,2,    325.2,2,     3.83,2,     6.07,2,     0.08,2,     0.50,2,    5.430,2,    2.866,2,  2.6823265,2,   2118.8,2,   2312.4,2,     1.53,2,     0.37,2,   5.0276
  58GS20090528,   GIN,   224,  1,     22,20130307,1757, 72.0830,   2.7510, 2348,      5.4,   5.0280,  35.0914,2,  35.0863,2,   -999.0,9,  -999.00,9,  -999.00,9,  -999.00,9,  -999.00,9, -999.000,9, -999.000,9,       -999,9,   -999.0,9,   -999.0,9,  -999.00,9,  -999.00,9,   5.0276
  58GS20090528,   GIN,   225,  1,      1,20130307,2109, 72.2000,   2.3840, 2585,   2575.3,  -0.7830,  34.9105,2,  34.9130,2,    297.1,2,    12.73,2,    14.69,2,     0.01,2,     1.01,2, -999.000,9, -999.000,9,       -999,9,   2164.3,2,   2308.9,2,  -999.00,9,  -999.00,9,  -0.9171
  58GS20090528,   GIN,   225,  1,      2,20130307,2109, 72.2000,   2.3840, 2585,   2501.8,  -0.7880,  34.9104,2,  34.9128,2,    296.7,2,    12.71,2,    14.78,2,     0.01,2,     1.01,2, -999.000,9, -999.000,9,       -999,9,   2164.4,2,   2310.7,2,  -999.00,9,  -999.00,9,  -0.9166
  58GS20090528,   GIN,   225,  1,      3,20130307,2109, 72.2000,   2.3840, 2585,   1999.0,  -0.8060,  34.9098,2,  34.9129,2,    297.2,2,    12.44,2,    14.61,2,     0.01,2,     1.01,2, -999.000,9, -999.000,9,       -999,9,   2164.0,2,   2306.7,2,  -999.00,9,  -999.00,9,  -0.8998
  58GS20090528,   GIN,   225,  1,      4,20130307,2109, 72.2000,   2.3840, 2585,   1500.3,  -0.7450,  34.9071,2,  34.9106,2,    299.0,2,    11.29,2,    14.44,2,     0.01,2,     1.00,2, -999.000,9, -999.000,9,       -999,9,   2165.0,2,   2308.6,2,  -999.00,9,  -999.00,9,  -0.8096
  58GS20090528,   GIN,   225,  1,      5,20130307,2109, 72.2000,   2.3840, 2585,   1200.1,  -0.6430,  34.9007,2,  34.9047,2,    303.3,2,     9.82,2,    14.14,2,     0.02,2,     0.98,2, -999.000,9, -999.000,9,       -999,9,   2165.6,2,   2308.1,2,  -999.00,9,  -999.00,9,  -0.6924
  58GS20090528,   GIN,   225,  1,      6,20130307,2109, 72.2000,   2.3840, 2585,    999.5,  -0.4940,  34.8970,2,  34.9018,2,    303.4,2,     8.95,2,    14.10,2,     0.02,2,     0.97,2, -999.000,9, -999.000,9,       -999,9,   2166.4,2,   -999.0,9,  -999.00,9,  -999.00,9,  -0.5346
  58GS20090528,   GIN,   225,  1,      7,20130307,2109, 72.2000,   2.3840, 2585,    800.0,  -0.2430,  34.8960,2,  34.8993,2,    305.3,2,     8.00,2,    13.80,2,     0.02,2,     0.95,2, -999.000,9, -999.000,9,       -999,9,   2166.5,2,   2307.8,2,  -999.00,9,  -999.00,9,  -0.2757
  58GS20090528,   GIN,   225,  1,      8,20130307,2109, 72.2000,   2.3840, 2585,    599.6,   0.4640,  34.9110,2,  34.9140,2,    323.4,2,     5.93,2,    12.29,2,     0.04,2,     0.84,2, -999.000,9, -999.000,9,       -999,9,   2162.7,2,   2311.4,2,  -999.00,9,  -999.00,9,   0.4371
  58GS20090528,   GIN,   225,  1,      9,20130307,2109, 72.2000,   2.3840, 2585,    499.6,   1.4970,  34.9743,2,  34.9609,2,    320.1,2,     5.49,2,    11.93,2,     0.10,2,     0.81,2, -999.000,9, -999.000,9,       -999,9,   2159.8,2,   2309.8,2,  -999.00,9,  -999.00,9,   1.4707
  58GS20090528,   GIN,   225,  1,     10,20130307,2109, 72.2000,   2.3840, 2585,    399.7,   2.5170,  35.0050,2,  34.9997,2,    304.5,2,     5.50,2,    12.56,2,     0.03,2,     0.84,2, -999.000,9, -999.000,9,       -999,9,   2161.7,2,   2315.2,2,  -999.00,9,  -999.00,9,   2.4930
  58GS20090528,   GIN,   225,  1,     11,20130307,2109, 72.2000,   2.3840, 2585,    299.8,   3.8840,  35.0767,2,  35.0722,2,    302.1,2,     4.97,2,    11.93,2,     0.03,2,     0.80,2, -999.000,9, -999.000,9,       -999,9,   2154.7,2,   2316.5,2,  -999.00,9,  -999.00,9,   3.8629
  58GS20090528,   GIN,   225,  1,     12,20130307,2109, 72.2000,   2.3840, 2585,    200.3,   4.4190,  35.1215,2,  35.1197,2,   -999.0,9,     4.74,2,    11.55,2,     0.03,2,     0.77,2, -999.000,9, -999.000,9,       -999,9,   -999.0,9,   -999.0,9,  -999.00,9,  -999.00,9,   4.4042
  58GS20090528,   GIN,   225,  1,     13,20130307,2109, 72.2000,   2.3840, 2585,    150.2,   4.5570,  35.1288,2,  35.1250,2,    301.0,2,     4.75,2,    11.54,2,     0.03,2,     0.77,2, -999.000,9, -999.000,9,       -999,9,   2151.5,2,   2324.1,2,  -999.00,9,  -999.00,9,   4.5458
  58GS20090528,   GIN,   225,  1,     14,20130307,2109, 72.2000,   2.3840, 2585,    124.0,   4.6700,  35.1352,2,  35.1312,2,   -999.0,9,     4.74,2,    11.40,2,     0.03,2,     0.77,2, -999.000,9, -999.000,9,       -999,9,   -999.0,9,   -999.0,9,  -999.00,9,  -999.00,9,   4.6607
  58GS20090528,   GIN,   225,  1,     15,20130307,2109, 72.2000,   2.3840, 2585,    100.3,   4.7310,  35.1343,2,  35.1322,2,    300.8,2,     4.77,2,    11.54,2,     0.03,2,     0.77,2, -999.000,9, -999.000,9,       -999,9,   2149.8,2,   2323.9,2,     0.01,2,     0.06,2,   4.7234
  58GS20090528,   GIN,   225,  1,     16,20130307,2109, 72.2000,   2.3840, 2585,     73.7,   4.7830,  35.1304,2,  35.1294,2,    301.3,2,     4.82,2,    11.50,2,     0.06,2,     0.77,2, -999.000,9, -999.000,9,       -999,9,   2149.6,2,   2317.9,2,     0.02,2,     0.08,2,   4.7774
  58GS20090528,   GIN,   225,  1,     17,20130307,2109, 72.2000,   2.3840, 2585,     49.8,   4.9300,  35.1371,2,  35.1356,2,    300.4,2,     4.82,2,    11.32,2,     0.23,2,     0.77,2, -999.000,9, -999.000,9,       -999,9,   2150.1,2,   2322.1,2,     0.03,2,     0.14,2,   4.9262
  58GS20090528,   GIN,   225,  1,     18,20130307,2109, 72.2000,   2.3840, 2585,     30.0,   5.5090,  35.1372,2,  35.1380,2,    312.9,2,     4.37,2,     7.84,2,     0.17,2,     0.57,2, -999.000,9, -999.000,9,       -999,9,   2130.4,2,   2318.4,2,     1.37,2,     0.45,2,   5.5066
  58GS20090528,   GIN,   225,  1,     19,20130307,2109, 72.2000,   2.3840, 2585,     20.0,   5.5180,  35.1411,2,  35.1391,2,   -999.0,9,     4.34,2,     7.65,2,     0.16,2,     0.55,2, -999.000,9, -999.000,9,       -999,9,   -999.0,9,   -999.0,9,     1.53,2,     0.50,2,   5.5164
  58GS20090528,   GIN,   225,  1,     20,20130307,2109, 72.2000,   2.3840, 2585,     20.1,   5.5190,  35.1413,2,-999.0000,9,   -999.0,9,  -999.00,9,  -999.00,9,  -999.00,9,  -999.00,9, -999.000,9, -999.000,9,       -999,9,   2131.8,2,   2323.5,2,  -999.00,9,  -999.00,9,   5.5174
  58GS20090528,   GIN,   225,  1,     21,20130307,2109, 72.2000,   2.3840, 2585,     10.1,   5.5210,  35.1414,2,  35.1390,2,   -999.0,9,     4.35,2,     7.63,2,     0.16,2,     0.56,2, -999.000,9, -999.000,9,       -999,9,   -999.0,9,   -999.0,9,     1.59,2,     0.50,2,   5.5202
  58GS20090528,   GIN,   225,  1,     22,20130307,2109, 72.2000,   2.3840, 2585,      5.8,   5.5210,  35.1415,2,  35.1371,2,    313.6,2,     4.35,2,     7.62,2,     0.16,2,     0.58,2, -999.000,9, -999.000,9,       -999,9,   2127.5,2,   2319.2,2,     1.68,2,     0.50,2,   5.5205
  58GS20090528,   GIN,   225,  1,     23,20130307,2109, 72.2000,   2.3840, 2585,      5.7,   5.5230,  35.1414,2,-999.0000,9,   -999.0,9,  -999.00,9,  -999.00,9,  -999.00,9,  -999.00,9, -999.000,9, -999.000,9,       -999,9,   -999.0,9,   -999.0,9,  -999.00,9,  -999.00,9,   5.5225