BOTTLE,20120326PRINUNIVRMK
EXPOCODE,SECT_ID,STNNBR,CASTNO,BTLNBR,DATE,TIME,LATITUDE,LONGITUDE,DEPTH,CTDPRS,CTDTMP,CTDSAL,CTDSAL_FLAG_W,SALNTY,SALNTY_FLAG_W,OXYGEN,OXYGEN_FLAG_W,SILCAT,SILCAT_FLAG_W,NITRAT,NITRAT_FLAG_W,NITRIT,NITRIT_FLAG_W,PHSPHT,PHSPHT_FLAG_W,CFC-11,CFC-11_FLAG_W,CFC-12,CFC-12_FLAG_W,SF6,SF6_FLAG_W,TCARBN,TCARBN_FLAG_W,ALKALI,ALKALI_FLAG_W,CHLORA,CHLORA_FLAG_W,PHAEO,PHAEO_FLAG_W,THETA
,,,,,,,,,METERS,DBAR,ITS-90,PSS-78,,PSS-78,,UMOL/KG,,UMOL/KG,,UMOL/KG,,UMOL/KG,,UMOL/KG,,PMOL/KG,,PMOL/KG,,FMOL/KG,,UMOL/KG,,UMOL/KG,,UG/KG,,UG/KG,,DEG C
  58GS20090528,   GIN,   289,  1,      1,20092006,1236, 77.0000,   7.5010, 3360,   3349.7,  -0.7180,  34.9121,2,  34.9110,2,    296.4,2,    12.77,2,    14.82,2,     0.01,2,     1.01,2, -999.000,9,    0.384,2,       -999,9,   2163.8,2,   2308.8,2,  -999.00,9,  -999.00,9,  -0.9157
  58GS20090528,   GIN,   289,  1,      2,20092006,1236, 77.0000,   7.5010, 3360,   3001.5,  -0.7510,  34.9110,2,  34.9116,2,    296.3,2,    12.84,2,    14.92,2,     0.01,2,     1.02,2, -999.000,9,    0.415,2,       -999,9,   2161.0,2,   2309.3,2,  -999.00,9,  -999.00,9,  -0.9188
  58GS20090528,   GIN,   289,  1,      3,20092006,1236, 77.0000,   7.5010, 3360,   2500.1,  -0.7920,  34.9098,2,  34.9122,2,    296.3,2,    12.89,2,    15.04,2,     0.01,2,     1.02,2, -999.000,9,    0.422,2,       -999,9,   2160.5,2,   2309.2,2,  -999.00,9,  -999.00,9,  -0.9204
  58GS20090528,   GIN,   289,  1,      4,20092006,1236, 77.0000,   7.5010, 3360,   2000.4,  -0.8100,  34.9080,2,  34.9060,2,    296.8,2,    12.47,2,    14.90,2,     0.01,2,     1.01,2, -999.000,9,    0.529,2,       -999,9,   2161.0,2,   2392.5,4,  -999.00,9,  -999.00,9,  -0.9038
  58GS20090528,   GIN,   289,  1,      5,20092006,1236, 77.0000,   7.5010, 3360,   1499.9,  -0.7710,  34.9052,2,  34.9102,2,    298.7,2,    11.53,2,    14.66,2,     0.02,2,     1.01,2, -999.000,9,    0.845,2,       -999,9,   2160.8,2,   2307.3,2,  -999.00,9,  -999.00,9,  -0.8352
  58GS20090528,   GIN,   289,  1,      6,20092006,1236, 77.0000,   7.5010, 3360,   1200.1,  -0.7070,  34.9007,2,  34.8990,2,   -999.0,9,    10.19,2,    14.28,2,     0.01,2,     0.99,2, -999.000,9, -999.000,9,       -999,9,   -999.0,9,   -999.0,9,  -999.00,9,  -999.00,9,  -0.7558
  58GS20090528,   GIN,   289,  1,      7,20092006,1236, 77.0000,   7.5010, 3360,   1000.2,  -0.6390,  34.8979,2,  34.8969,2,    307.6,2,     9.22,2,    13.86,2,     0.02,2,     0.96,2, -999.000,9,    1.716,6,       -999,9,   2160.5,2,   2307.0,2,  -999.00,9,  -999.00,9,  -0.6784
  58GS20090528,   GIN,   289,  1,      8,20092006,1236, 77.0000,   7.5010, 3360,    800.2,  -0.5120,  34.8983,2,  34.8983,2,    316.6,2,     7.85,2,    13.44,2,     0.02,2,     0.93,2, -999.000,9,    2.345,2,       -999,9,   2164.0,2,   2307.5,2,  -999.00,9,  -999.00,9,  -0.5429
  58GS20090528,   GIN,   289,  1,      9,20092006,1236, 77.0000,   7.5010, 3360,    600.1,  -0.3090,  34.9067,2,  34.9075,2,    317.4,2,     7.34,2,    13.20,2,     0.03,2,     0.90,2, -999.000,9,    2.530,2,       -999,9,   2163.8,2,   2308.8,2,  -999.00,9,  -999.00,9,  -0.3321
  58GS20090528,   GIN,   289,  1,     10,20092006,1236, 77.0000,   7.5010, 3360,    500.9,  -0.0120,  34.9262,2,  34.9208,2,    321.0,2,     6.73,2,    12.82,2,     0.03,2,     0.89,2, -999.000,9,    2.762,2,       -999,9,   2163.3,2,   2309.6,2,  -999.00,9,  -999.00,9,  -0.0321
  58GS20090528,   GIN,   289,  1,     11,20092006,1236, 77.0000,   7.5010, 3360,    400.0,  -0.0560,  34.9142,2,  34.9167,2,    321.4,2,     6.69,2,    12.82,2,     0.03,2,     0.89,2, -999.000,9,    2.792,2,       -999,9,   2162.9,2,   2306.0,2,  -999.00,9,  -999.00,9,  -0.0715
  58GS20090528,   GIN,   289,  1,     12,20092006,1236, 77.0000,   7.5010, 3360,    300.2,   0.3210,  34.9367,2,  34.9365,2,    320.7,2,     6.47,2,    12.75,2,     0.03,2,     0.89,2, -999.000,9, -999.000,9,       -999,9,   2162.8,2,   2309.0,2,  -999.00,9,  -999.00,9,   0.3087
  58GS20090528,   GIN,   289,  1,     13,20092006,1236, 77.0000,   7.5010, 3360,    200.7,   0.6920,  34.9492,2,  34.9533,2,    317.6,2,     6.18,2,    12.62,2,     0.03,2,     0.87,2, -999.000,9,    2.872,2,       -999,9,   2161.7,2,   2309.0,2,  -999.00,9,  -999.00,9,   0.6833
  58GS20090528,   GIN,   289,  1,     14,20092006,1236, 77.0000,   7.5010, 3360,    150.5,   1.2310,  34.9783,2,  34.9763,2,    319.3,2,     5.79,2,    12.08,2,     0.08,2,     0.84,2, -999.000,9, -999.000,9,       -999,9,   2159.1,2,   2311.6,2,  -999.00,9,  -999.00,9,   1.2239
  58GS20090528,   GIN,   289,  1,     15,20092006,1236, 77.0000,   7.5010, 3360,    124.5,   1.3850,  34.9895,2,  34.9913,2,   -999.0,9,     5.63,2,    11.96,2,     0.09,2,     0.83,2, -999.000,9, -999.000,9,       -999,9,   -999.0,9,   -999.0,9,  -999.00,9,  -999.00,9,   1.3790
  58GS20090528,   GIN,   289,  1,     16,20092006,1236, 77.0000,   7.5010, 3360,    100.5,   1.6770,  35.0004,2,  35.0022,2,    320.7,2,     5.23,2,    11.06,2,     0.09,2,     0.80,2, -999.000,9,    2.985,2,       -999,9,   2156.3,2,   2312.3,2,     0.04,2,     0.14,2,   1.6719
  58GS20090528,   GIN,   289,  1,     17,20092006,1236, 77.0000,   7.5010, 3360,     74.9,   2.0430,  35.0182,2,  35.0205,2,    323.6,2,     4.97,2,    10.60,2,     0.11,2,     0.77,2, -999.000,9, -999.000,9,       -999,9,   2152.1,2,   2313.0,2,     0.06,2,     0.20,2,   2.0390
  58GS20090528,   GIN,   289,  1,     18,20092006,1236, 77.0000,   7.5010, 3360,     50.3,   2.7530,  35.0426,2,  35.0483,2,    327.9,2,     4.53,2,     9.02,2,     0.10,2,     0.69,2, -999.000,9,    3.074,2,       -999,9,   2144.8,2,   2317.8,2,     0.19,2,     0.18,2,   2.7500
  58GS20090528,   GIN,   289,  1,     19,20092006,1236, 77.0000,   7.5010, 3360,     24.4,   3.4960,  35.0565,2,  35.0599,2,    330.7,2,     4.34,2,     7.19,2,     0.08,2,     0.61,2, -999.000,9, -999.000,9,       -999,9,   2134.6,2,   -999.0,9,     0.44,2,     0.29,2,   3.4944
  58GS20090528,   GIN,   289,  1,     20,20092006,1236, 77.0000,   7.5010, 3360,     14.8,   3.6860,  35.0645,2,  35.0651,2,   -999.0,9,     4.31,2,     6.48,2,     0.08,2,     0.57,2, -999.000,9, -999.000,9,       -999,9,   -999.0,9,   -999.0,9,     0.85,2,     0.33,2,   3.6850
  58GS20090528,   GIN,   289,  1,     21,20092006,1236, 77.0000,   7.5010, 3360,     10.2,   4.0740,  35.0672,2,  35.0680,2,   -999.0,9,     4.23,2,     6.31,2,     0.08,2,     0.54,2, -999.000,9, -999.000,9,       -999,9,   -999.0,9,   -999.0,9,     0.97,2,     0.29,2,   4.0733
  58GS20090528,   GIN,   289,  1,     22,20092006,1236, 77.0000,   7.5010, 3360,     10.2,   4.1650,  35.0707,2,  35.0700,2,   -999.0,9,  -999.00,9,  -999.00,9,  -999.00,9,  -999.00,9, -999.000,9, -999.000,9,       -999,9,   -999.0,9,   -999.0,9,  -999.00,9,  -999.00,9,   4.1643
  58GS20090528,   GIN,   289,  1,     23,20092006,1236, 77.0000,   7.5010, 3360,      4.9,   4.4110,  35.0708,2,-999.0000,9,    333.8,2,     4.15,2,     5.87,2,     0.08,2,     0.52,2, -999.000,9,    2.963,2,       -999,9,   2122.3,2,   2320.2,2,     1.24,2,     0.37,2,   4.4106
  58GS20090528,   GIN,   289,  1,     24,20092006,1236, 77.0000,   7.5010, 3360,      5.1,   4.6500,  35.0697,2,-999.0000,9,   -999.0,9,  -999.00,9,  -999.00,9,  -999.00,9,  -999.00,9, -999.000,9, -999.000,9,       -999,9,   -999.0,9,   -999.0,9,  -999.00,9,  -999.00,9,   4.6496
  58GS20090528,   GIN,   290,  1,      1,20092006,1857, 77.0000,   9.0000, 2444,   2200.3,  -0.8180,  34.9085,2,  34.9091,2,    295.6,2,    13.09,2,    15.10,2,     0.01,2,     1.03,2, -999.000,9,    0.425,2,       -999,9,   2166.1,2,   2307.8,2,  -999.00,9,  -999.00,9,  -0.9249
  58GS20090528,   GIN,   290,  1,      2,20092006,1857, 77.0000,   9.0000, 2444,   2001.2,  -0.8140,  34.9080,2,  34.9089,2,    296.1,2,    12.68,2,    14.96,2,     0.01,2,     1.02,2, -999.000,9,    0.476,2,       -999,9,   2163.8,2,   2306.4,2,  -999.00,9,  -999.00,9,  -0.9078
  58GS20090528,   GIN,   290,  1,      3,20092006,1857, 77.0000,   9.0000, 2444,   1500.0,  -0.7350,  34.9037,2,  34.9050,2,    299.4,2,    11.09,2,    14.27,2,     0.01,2,     1.01,2, -999.000,9,    0.903,2,       -999,9,   2163.6,2,   2303.5,2,  -999.00,9,  -999.00,9,  -0.7997
  58GS20090528,   GIN,   290,  1,      4,20092006,1857, 77.0000,   9.0000, 2444,   1200.6,  -0.6180,  34.8984,2,  34.8997,2,    304.7,2,     9.46,2,    14.05,2,     0.01,2,     0.95,2, -999.000,9,    1.530,2,       -999,9,   -999.0,9,   -999.0,9,  -999.00,9,  -999.00,9,  -0.6677
  58GS20090528,   GIN,   290,  1,      5,20092006,1857, 77.0000,   9.0000, 2444,   1000.1,  -0.4780,  34.8978,2,  34.8946,2,    315.2,2,     7.81,2,    13.43,2,     0.01,2,     0.94,2, -999.000,9,    2.285,2,       -999,9,   2166.0,2,   2303.2,2,  -999.00,9,  -999.00,9,  -0.5187
  58GS20090528,   GIN,   290,  1,      6,20092006,1857, 77.0000,   9.0000, 2444,    800.2,  -0.1680,  34.9075,2,  34.9080,2,    316.0,2,     7.17,2,    13.18,2,     0.01,2,     0.92,2, -999.000,9,    2.491,2,       -999,9,   2165.1,2,   2302.2,2,  -999.00,9,  -999.00,9,  -0.2012
  58GS20090528,   GIN,   290,  1,      7,20092006,1857, 77.0000,   9.0000, 2444,    600.5,   0.4500,  34.9290,2,  34.9298,2,    315.6,2,     6.51,2,    12.94,2,     0.02,2,     0.90,2, -999.000,9,    2.692,2,       -999,9,   2163.1,2,   2304.1,2,  -999.00,9,  -999.00,9,   0.4231
  58GS20090528,   GIN,   290,  1,      8,20092006,1857, 77.0000,   9.0000, 2444,    499.9,   1.2140,  34.9674,2,  34.9662,2,    313.1,2,     6.03,2,    12.78,2,     0.02,2,     0.88,2, -999.000,9, -999.000,9,       -999,9,   2159.7,2,   2306.4,2,  -999.00,9,  -999.00,9,   1.1888
  58GS20090528,   GIN,   290,  1,      9,20092006,1857, 77.0000,   9.0000, 2444,    400.7,   2.1710,  35.0320,2,  35.0344,2,    313.7,2,     5.17,2,    12.00,2,     0.02,2,     0.83,2, -999.000,9,    2.857,6,       -999,9,   2156.2,2,   2312.9,2,  -999.00,9,  -999.00,9,   2.1480
  58GS20090528,   GIN,   290,  1,     10,20092006,1857, 77.0000,   9.0000, 2444,    300.1,   2.6860,  35.0596,2,  35.0558,2,    312.1,2,     5.06,2,    11.87,2,     0.04,2,     0.81,2, -999.000,9, -999.000,9,       -999,9,   2154.5,2,   2314.7,2,  -999.00,9,  -999.00,9,   2.6678
  58GS20090528,   GIN,   290,  1,     11,20092006,1857, 77.0000,   9.0000, 2444,    199.8,   3.1200,  35.0793,2,  35.0777,2,    311.9,2,     4.94,2,    11.46,2,     0.10,2,     0.79,2, -999.000,9,    2.841,2,       -999,9,   2152.4,2,   2316.7,2,  -999.00,9,  -999.00,9,   3.1073
  58GS20090528,   GIN,   290,  1,     12,20092006,1857, 77.0000,   9.0000, 2444,    149.7,   3.3110,  35.0806,2,  35.0774,2,    311.9,2,     4.98,2,    11.15,2,     0.15,2,     0.77,2, -999.000,9, -999.000,9,       -999,9,   2152.1,2,   2316.5,2,  -999.00,9,  -999.00,9,   3.3013
  58GS20090528,   GIN,   290,  1,     13,20092006,1857, 77.0000,   9.0000, 2444,    124.4,   3.4760,  35.0765,2,  35.0784,2,   -999.0,9,     4.99,2,    11.24,2,     0.14,2,     0.78,2, -999.000,9, -999.000,9,       -999,9,   -999.0,9,   -999.0,9,  -999.00,9,  -999.00,9,   3.4678
  58GS20090528,   GIN,   290,  1,     14,20092006,1857, 77.0000,   9.0000, 2444,    100.3,   3.6960,  35.0837,2,  35.0826,2,    307.6,2,     4.83,2,    11.18,2,     0.14,2,     0.78,2, -999.000,9,    2.777,2,       -999,9,   2150.8,2,   2315.5,2,     0.03,2,     0.11,2,   3.6892
  58GS20090528,   GIN,   290,  1,     15,20092006,1857, 77.0000,   9.0000, 2444,     74.8,   3.7780,  35.0751,2,  35.0771,2,    306.7,2,     4.88,2,    11.05,2,     0.09,2,     0.78,2, -999.000,9, -999.000,9,       -999,9,   2149.6,2,   2313.4,2,     0.03,2,     0.12,2,   3.7729
  58GS20090528,   GIN,   290,  1,     16,20092006,1857, 77.0000,   9.0000, 2444,     49.6,   4.2610,  35.0875,2,  35.0886,2,    308.5,2,     4.67,2,     9.95,2,     0.12,2,     0.73,2, -999.000,9,    2.748,2,       -999,9,   2143.6,2,   2317.7,2,     0.15,2,     0.17,2,   4.2575
  58GS20090528,   GIN,   290,  1,     17,20092006,1857, 77.0000,   9.0000, 2444,     30.0,   4.8250,  35.1189,2,  35.1125,2,   -999.0,9,     4.27,2,     7.53,2,     0.12,2,     0.60,2, -999.000,9, -999.000,9,       -999,9,   -999.0,9,   -999.0,9,     0.58,2,     0.32,2,   4.8227
  58GS20090528,   GIN,   290,  1,     18,20092006,1857, 77.0000,   9.0000, 2444,     24.9,   5.5150,  35.1037,2,  35.0914,2,    322.8,2,     3.71,2,     5.08,2,     0.09,2,     0.43,2, -999.000,9, -999.000,9,       -999,9,   2110.2,2,   2323.0,2,     1.60,2,     0.40,2,   5.5130
  58GS20090528,   GIN,   290,  1,     19,20092006,1857, 77.0000,   9.0000, 2444,     25.1,   5.8240,  35.0872,2,  35.0904,2,   -999.0,9,  -999.00,9,  -999.00,9,  -999.00,9,  -999.00,9, -999.000,9, -999.000,9,       -999,9,   -999.0,9,   2317.4,2,  -999.00,9,  -999.00,9,   5.8219
  58GS20090528,   GIN,   290,  1,     20,20092006,1857, 77.0000,   9.0000, 2444,     15.1,   5.9910,  35.0913,2,  35.0843,2,   -999.0,9,     3.35,2,     4.12,2,     0.10,2,     0.37,2, -999.000,9, -999.000,9,       -999,9,   -999.0,9,   -999.0,9,     1.97,2,     0.28,2,   5.9897
  58GS20090528,   GIN,   290,  1,     21,20092006,1857, 77.0000,   9.0000, 2444,     10.2,   6.1350,  35.0876,2,  35.0833,2,   -999.0,9,     3.37,2,     4.07,2,     0.09,2,     0.36,2, -999.000,9, -999.000,9,       -999,9,   -999.0,9,   -999.0,9,     1.75,2,     0.19,2,   6.1341
  58GS20090528,   GIN,   290,  1,     22,20092006,1857, 77.0000,   9.0000, 2444,     10.3,   6.1420,  35.0875,2,  35.0834,2,   -999.0,9,  -999.00,9,  -999.00,9,  -999.00,9,  -999.00,9, -999.000,9, -999.000,9,       -999,9,   -999.0,9,   -999.0,9,  -999.00,9,  -999.00,9,   6.1411
  58GS20090528,   GIN,   290,  1,     23,20092006,1857, 77.0000,   9.0000, 2444,      4.9,   6.1420,  35.0878,2,-999.0000,9,    328.0,2,     3.36,2,     3.88,2,     0.09,2,     0.37,2, -999.000,9,    2.623,2,       -999,9,   2103.0,2,   2322.3,2,  -999.00,9,  -999.00,9,   6.1416
  58GS20090528,   GIN,   290,  1,     24,20092006,1857, 77.0000,   9.0000, 2444,      4.9,   6.1430,  35.0877,2,-999.0000,9,   -999.0,9,  -999.00,9,  -999.00,9,  -999.00,9,  -999.00,9, -999.000,9, -999.000,9,       -999,9,   -999.0,9,   -999.0,9,  -999.00,9,  -999.00,9,   6.1426