BOTTLE,20120326PRINUNIVRMK
EXPOCODE,SECT_ID,STNNBR,CASTNO,BTLNBR,DATE,TIME,LATITUDE,LONGITUDE,DEPTH,CTDPRS,CTDTMP,CTDSAL,CTDSAL_FLAG_W,SALNTY,SALNTY_FLAG_W,OXYGEN,OXYGEN_FLAG_W,SILCAT,SILCAT_FLAG_W,NITRAT,NITRAT_FLAG_W,NITRIT,NITRIT_FLAG_W,PHSPHT,PHSPHT_FLAG_W,CFC-11,CFC-11_FLAG_W,CFC-12,CFC-12_FLAG_W,SF6,SF6_FLAG_W,TCARBN,TCARBN_FLAG_W,ALKALI,ALKALI_FLAG_W,CHLORA,CHLORA_FLAG_W,PHAEO,PHAEO_FLAG_W,THETA
,,,,,,,,,METERS,DBAR,ITS-90,PSS-78,,PSS-78,,UMOL/KG,,UMOL/KG,,UMOL/KG,,UMOL/KG,,UMOL/KG,,PMOL/KG,,PMOL/KG,,FMOL/KG,,UMOL/KG,,UMOL/KG,,UG/KG,,UG/KG,,DEG C
  58GS20090528,   GIN,   248,  1,      1,20090906,1733, 74.4990,   8.9980, 2813,   2569.8,  -0.8070,  34.9094,2,-999.0000,9,    295.0,2,    13.35,2,    14.84,2,     0.01,2,     1.02,2, -999.000,9, -999.000,9,       -999,9,   2164.6,2,   2321.6,3,  -999.00,9,  -999.00,9,  -0.9402
  58GS20090528,   GIN,   248,  1,      2,20090906,1733, 74.4990,   8.9980, 2813,   2001.2,  -0.7830,  34.9090,2,-999.0000,9,    297.7,2,    12.07,2,    14.87,2,     0.01,2,     1.01,2, -999.000,9, -999.000,9,       -999,9,   2163.5,2,   2306.1,2,  -999.00,9,  -999.00,9,  -0.8773
  58GS20090528,   GIN,   248,  1,      3,20090906,1733, 74.4990,   8.9980, 2813,   1500.4,  -0.6730,  34.9019,2,-999.0000,9,    304.2,2,     9.88,2,    14.19,2,     0.01,2,     0.95,2, -999.000,9, -999.000,9,       -999,9,   2163.8,2,   2302.9,2,  -999.00,9,  -999.00,9,  -0.7384
  58GS20090528,   GIN,   248,  1,      4,20090906,1733, 74.4990,   8.9980, 2813,   1200.6,  -0.5250,  34.8972,2,-999.0000,9,   -999.0,9,     7.60,2,    13.29,2,     0.03,2,     0.91,2, -999.000,9, -999.000,9,       -999,9,   -999.0,9,   -999.0,9,  -999.00,9,  -999.00,9,  -0.5756
  58GS20090528,   GIN,   248,  1,      5,20090906,1733, 74.4990,   8.9980, 2813,   1000.8,  -0.3840,  34.8962,2,-999.0000,9,    320.3,2,     7.12,2,    13.13,2,     0.01,2,     0.90,2, -999.000,9, -999.000,9,       -999,9,   2165.9,2,   2302.4,2,  -999.00,9,  -999.00,9,  -0.4255
  58GS20090528,   GIN,   248,  1,      6,20090906,1733, 74.4990,   8.9980, 2813,    800.8,  -0.3070,  34.8861,2,-999.0000,9,    324.5,2,     6.63,2,    12.75,2,     0.02,2,     0.87,2, -999.000,9, -999.000,9,       -999,9,   2164.8,2,   2302.0,2,  -999.00,9,  -999.00,9,  -0.3393
  58GS20090528,   GIN,   248,  1,      7,20090906,1733, 74.4990,   8.9980, 2813,    600.3,   0.6350,  34.9286,2,-999.0000,9,    315.0,2,     6.33,2,    12.98,2,     0.01,2,     0.88,2, -999.000,9, -999.000,9,       -999,9,   2164.2,2,   2301.6,2,  -999.00,9,  -999.00,9,   0.6072
  58GS20090528,   GIN,   248,  1,      8,20090906,1733, 74.4990,   8.9980, 2813,    499.5,   1.6350,  34.9824,2,-999.0000,9,    312.1,2,     5.64,2,    12.58,2,     0.02,2,     0.86,2, -999.000,9, -999.000,9,       -999,9,   2161.0,2,   2306.8,2,  -999.00,9,  -999.00,9,   1.6081
  58GS20090528,   GIN,   248,  1,      9,20090906,1733, 74.4990,   8.9980, 2813,    400.0,   2.6170,  35.0367,2,-999.0000,9,   -999.0,9,  -999.00,9,  -999.00,9,  -999.00,9,  -999.00,9, -999.000,9, -999.000,9,       -999,9,   -999.0,9,   -999.0,9,  -999.00,9,  -999.00,9,   2.5926
  58GS20090528,   GIN,   248,  1,     10,20090906,1733, 74.4990,   8.9980, 2813,    299.9,   3.5200,  35.0918,2,-999.0000,9,    307.5,2,     4.88,2,    11.81,2,     0.03,2,     0.79,2, -999.000,9, -999.000,9,       -999,9,   2154.5,2,   2315.8,2,  -999.00,9,  -999.00,9,   3.4997
  58GS20090528,   GIN,   248,  1,     11,20090906,1733, 74.4990,   8.9980, 2813,    200.0,   3.8620,  35.0999,2,-999.0000,9,    305.0,2,     4.84,2,    11.82,2,     0.02,2,     0.79,2, -999.000,9, -999.000,9,       -999,9,   2154.0,2,   2314.1,2,  -999.00,9,  -999.00,9,   3.8481
  58GS20090528,   GIN,   248,  1,     12,20090906,1733, 74.4990,   8.9980, 2813,    149.5,   4.1570,  35.1209,2,-999.0000,9,    304.4,2,     4.73,2,    11.65,2,     0.02,2,     0.78,2, -999.000,9, -999.000,9,       -999,9,   2153.6,2,   2316.0,2,  -999.00,9,  -999.00,9,   4.1463
  58GS20090528,   GIN,   248,  1,     13,20090906,1733, 74.4990,   8.9980, 2813,     99.4,   4.2610,  35.1187,2,-999.0000,9,    303.2,2,     4.76,2,    11.61,2,     0.03,2,     0.78,2, -999.000,9, -999.000,9,       -999,9,   2152.1,2,   2316.4,2,     0.02,2,     0.08,2,   4.2539
  58GS20090528,   GIN,   248,  1,     14,20090906,1733, 74.4990,   8.9980, 2813,     74.4,   4.3330,  35.1190,2,-999.0000,9,    302.3,2,     4.73,2,    11.62,2,     0.05,2,     0.79,2, -999.000,9, -999.000,9,       -999,9,   2152.8,2,   2316.6,2,     0.03,2,     0.09,2,   4.3276
  58GS20090528,   GIN,   248,  1,     15,20090906,1733, 74.4990,   8.9980, 2813,     49.6,   4.5280,  35.1275,2,-999.0000,9,    301.3,2,     4.74,2,    11.55,2,     0.15,2,     0.79,2, -999.000,9, -999.000,9,       -999,9,   2152.1,2,   2316.9,2,     0.05,2,     0.14,2,   4.5243
  58GS20090528,   GIN,   248,  1,     16,20090906,1733, 74.4990,   8.9980, 2813,     29.2,   4.8100,  35.1307,2,-999.0000,9,    307.0,2,     4.59,2,     9.43,2,     0.19,2,     0.68,2, -999.000,9, -999.000,9,       -999,9,   2142.8,2,   2317.7,2,     0.28,2,     0.24,2,   4.8078
  58GS20090528,   GIN,   248,  1,     17,20090906,1733, 74.4990,   8.9980, 2813,     20.6,   5.4020,  35.1281,2,-999.0000,9,   -999.0,9,     4.40,2,     7.28,2,     0.15,2,     0.55,2, -999.000,9, -999.000,9,       -999,9,   -999.0,9,   -999.0,9,     0.71,2,     0.36,2,   5.4003
  58GS20090528,   GIN,   248,  1,     18,20090906,1733, 74.4990,   8.9980, 2813,     20.7,   5.4910,  35.1324,2,-999.0000,9,   -999.0,9,  -999.00,9,  -999.00,9,  -999.00,9,  -999.00,9, -999.000,9, -999.000,9,       -999,9,   -999.0,9,   -999.0,9,  -999.00,9,  -999.00,9,   5.4893
  58GS20090528,   GIN,   248,  1,     19,20090906,1733, 74.4990,   8.9980, 2813,      9.6,   5.5770,  35.1376,2,-999.0000,9,   -999.0,9,     4.21,2,     5.25,2,     0.09,2,     0.42,2, -999.000,9, -999.000,9,       -999,9,   -999.0,9,   -999.0,9,     1.24,2,     0.43,2,   5.5762
  58GS20090528,   GIN,   248,  1,     20,20090906,1733, 74.4990,   8.9980, 2813,      9.8,   5.5740,  35.1380,2,-999.0000,9,   -999.0,9,  -999.00,9,  -999.00,9,  -999.00,9,  -999.00,9, -999.000,9, -999.000,9,       -999,9,   -999.0,9,   -999.0,9,  -999.00,9,  -999.00,9,   5.5732
  58GS20090528,   GIN,   248,  1,     21,20090906,1733, 74.4990,   8.9980, 2813,      4.4,   5.5860,  35.1381,2,-999.0000,9,    325.4,2,     4.21,2,     5.23,2,     0.09,2,     0.42,2, -999.000,9, -999.000,9,       -999,9,   2119.0,2,   2322.8,2,     1.23,2,     0.42,2,   5.5856
  58GS20090528,   GIN,   248,  1,     22,20090906,1733, 74.4990,   8.9980, 2813,      4.4,   5.5860,  35.1382,2,-999.0000,9,   -999.0,9,  -999.00,9,  -999.00,9,  -999.00,9,  -999.00,9, -999.000,9, -999.000,9,       -999,9,   -999.0,9,   -999.0,9,  -999.00,9,  -999.00,9,   5.5856
  58GS20090528,   GIN,   249,  1,      1,20090906,2147, 74.4990,   9.8290, 2657,   2400.0,  -0.8320,  34.9086,2,  34.9096,2,    294.8,2,    13.75,2,    15.24,2,     0.01,2,     1.01,2, -999.000,9, -999.000,9,       -999,9,   2166.9,2,   2306.4,2,  -999.00,9,  -999.00,9,  -0.9525
  58GS20090528,   GIN,   249,  1,      2,20090906,2147, 74.4990,   9.8290, 2657,   2000.2,  -0.8160,  34.9089,2,  34.9090,2,    296.4,2,    12.70,2,    14.87,2,     0.01,2,     1.01,2, -999.000,9, -999.000,9,       -999,9,   -999.0,9,   2306.6,2,  -999.00,9,  -999.00,9,  -0.9097
  58GS20090528,   GIN,   249,  1,      3,20090906,2147, 74.4990,   9.8290, 2657,   1500.0,  -0.7430,  34.9054,2,  34.9066,2,    297.8,2,    11.47,2,    14.68,2,     0.00,2,     1.01,2, -999.000,9, -999.000,9,       -999,9,   2164.5,2,   2303.6,2,  -999.00,9,  -999.00,9,  -0.8076
  58GS20090528,   GIN,   249,  1,      4,20090906,2147, 74.4990,   9.8290, 2657,   1199.8,  -0.6530,  34.9001,2,  34.9038,2,   -999.0,9,     9.80,2,    14.17,2,     0.01,2,     0.99,2, -999.000,9, -999.000,9,       -999,9,   -999.0,9,   -999.0,9,  -999.00,9,  -999.00,9,  -0.7023
  58GS20090528,   GIN,   249,  1,      5,20090906,2147, 74.4990,   9.8290, 2657,    999.5,  -0.5710,  34.8971,2,  34.8983,2,    313.8,2,     8.25,2,    13.66,2,     0.01,2,     0.97,2, -999.000,9, -999.000,9,       -999,9,   2165.1,2,   2303.8,2,  -999.00,9,  -999.00,9,  -0.6109
  58GS20090528,   GIN,   249,  1,      6,20090906,2147, 74.4990,   9.8290, 2657,    799.3,  -0.3740,  34.8971,2,  34.9000,2,    308.8,2,     8.08,2,    13.73,2,     0.01,2,     0.96,2, -999.000,9, -999.000,9,       -999,9,   2166.9,2,   2303.0,2,  -999.00,9,  -999.00,9,  -0.4058
  58GS20090528,   GIN,   249,  1,      7,20090906,2147, 74.4990,   9.8290, 2657,    599.0,  -0.0250,  34.9013,2,  34.9004,2,    318.8,2,     6.71,2,    12.91,2,     0.01,2,     0.89,2, -999.000,9, -999.000,9,       -999,9,   2166.0,2,   2303.2,2,  -999.00,9,  -999.00,9,  -0.0495
  58GS20090528,   GIN,   249,  1,      8,20090906,2147, 74.4990,   9.8290, 2657,    499.5,   0.3190,  34.9128,2,  34.9125,2,    314.4,2,     6.56,2,    12.97,2,     0.01,2,     0.88,2, -999.000,9, -999.000,9,       -999,9,   2164.4,2,   2305.0,2,  -999.00,9,  -999.00,9,   0.2976
  58GS20090528,   GIN,   249,  1,      9,20090906,2147, 74.4990,   9.8290, 2657,    399.2,   1.0530,  34.9476,2,  34.9519,2,    310.9,2,     6.16,2,    12.92,2,     0.02,2,     0.88,2, -999.000,9, -999.000,9,       -999,9,   2164.0,2,   2303.7,2,  -999.00,9,  -999.00,9,   1.0338
  58GS20090528,   GIN,   249,  1,     10,20090906,2147, 74.4990,   9.8290, 2657,    300.7,   2.2940,  35.0175,2,  35.0153,2,    309.0,2,     5.39,2,    12.14,2,     0.02,2,     0.84,2, -999.000,9, -999.000,9,       -999,9,   2162.0,2,   2306.2,2,  -999.00,9,  -999.00,9,   2.2767
  58GS20090528,   GIN,   249,  1,     11,20090906,2147, 74.4990,   9.8290, 2657,    198.8,   3.1210,  35.0682,2,  35.0678,2,    309.0,2,     5.00,2,    11.83,2,     0.05,2,     0.80,2, -999.000,9, -999.000,9,       -999,9,   2158.2,2,   2311.3,2,  -999.00,9,  -999.00,9,   3.1084
  58GS20090528,   GIN,   249,  1,     12,20090906,2147, 74.4990,   9.8290, 2657,    149.2,   3.6440,  35.1020,2,  35.0970,2,    308.4,2,     4.82,2,    11.62,2,     0.03,2,     0.78,2, -999.000,9, -999.000,9,       -999,9,   2153.8,2,   2314.8,2,  -999.00,9,  -999.00,9,   3.6340
  58GS20090528,   GIN,   249,  1,     13,20090906,2147, 74.4990,   9.8290, 2657,     99.4,   3.8170,  35.1130,2,  35.1090,2,    307.3,2,     4.79,2,    11.32,2,     0.04,2,     0.80,2, -999.000,9, -999.000,9,       -999,9,   2154.5,2,   2315.2,2,     0.01,2,     0.08,2,   3.8102
  58GS20090528,   GIN,   249,  1,     14,20090906,2147, 74.4990,   9.8290, 2657,     74.4,   3.8570,  35.1045,2,  35.1017,2,    308.9,2,     4.78,2,    11.07,2,     0.14,2,     0.76,2, -999.000,9, -999.000,9,       -999,9,   2153.3,2,   2317.3,2,     0.02,2,     0.17,2,   3.8519
  58GS20090528,   GIN,   249,  1,     15,20090906,2147, 74.4990,   9.8290, 2657,     49.5,   3.9890,  35.1086,2,  35.1070,2,    308.3,2,     4.78,2,    11.05,2,     0.20,2,     0.76,2, -999.000,9, -999.000,9,       -999,9,   2152.3,2,   2317.0,2,     0.04,2,     0.18,2,   3.9856
  58GS20090528,   GIN,   249,  1,     16,20090906,2147, 74.4990,   9.8290, 2657,     29.6,   4.3010,  35.1114,2,  35.1103,2,    315.6,2,     4.66,2,     8.91,2,     0.15,2,     0.69,2, -999.000,9, -999.000,9,       -999,9,   2144.8,2,   2317.4,2,     0.22,2,     0.20,2,   4.2989
  58GS20090528,   GIN,   249,  1,     17,20090906,2147, 74.4990,   9.8290, 2657,     20.1,   4.9510,  35.1093,2,  35.1168,2,   -999.0,9,  -999.00,9,  -999.00,9,  -999.00,9,  -999.00,9, -999.000,9, -999.000,9,       -999,9,   -999.0,9,   -999.0,9,  -999.00,9,  -999.00,9,   4.9495
  58GS20090528,   GIN,   249,  1,     18,20090906,2147, 74.4990,   9.8290, 2657,     20.2,   5.0680,  35.1207,2,-999.0000,9,   -999.0,9,     4.46,2,     6.07,2,     0.08,2,     0.54,2, -999.000,9, -999.000,9,       -999,9,   -999.0,9,   -999.0,9,     1.00,2,     0.26,2,   5.0664
  58GS20090528,   GIN,   249,  1,     19,20090906,2147, 74.4990,   9.8290, 2657,     10.4,   5.2580,  35.1197,2,  35.1202,2,   -999.0,9,     4.34,2,     5.28,2,     0.07,2,     0.46,2, -999.000,9, -999.000,9,       -999,9,   -999.0,9,   -999.0,9,     1.43,2,     0.22,2,   5.2572
  58GS20090528,   GIN,   249,  1,     20,20090906,2147, 74.4990,   9.8290, 2657,      3.9,   5.3020,  35.1237,2,  35.1179,2,    329.0,2,     4.34,2,     5.17,2,     0.07,2,     0.45,2, -999.000,9, -999.000,9,       -999,9,   2116.3,2,   2318.3,2,     1.40,2,     0.23,2,   5.3017
  58GS20090528,   GIN,   249,  1,     21,20090906,2147, 74.4990,   9.8290, 2657,      3.9,   5.3040,  35.1234,2,-999.0000,9,   -999.0,9,  -999.00,9,  -999.00,9,  -999.00,9,  -999.00,9, -999.000,9, -999.000,9,       -999,9,   -999.0,9,   -999.0,9,  -999.00,9,  -999.00,9,   5.3037
  58GS20090528,   GIN,   250,  1,      1,20091006,0245, 74.5010,  10.7540, 2411,   2400.8,  -0.8160,  34.9095,2,  34.9108,2,    295.7,2,    13.25,2,    15.00,2,     0.01,2,     1.01,2, -999.000,9, -999.000,9,       -999,9,   2166.9,2,   2307.5,2,  -999.00,9,  -999.00,9,  -0.9368
  58GS20090528,   GIN,   250,  1,      2,20091006,0245, 74.5010,  10.7540, 2411,   1998.6,  -0.8120,  34.9087,2,  34.9106,2,    296.5,2,    12.59,2,    14.88,2,     0.01,2,     1.01,2, -999.000,9, -999.000,9,       -999,9,   2166.1,2,   2307.1,2,  -999.00,9,  -999.00,9,  -0.9057
  58GS20090528,   GIN,   250,  1,      3,20091006,0245, 74.5010,  10.7540, 2411,   1500.5,  -0.7130,  34.9043,2,  34.9063,2,    299.3,2,    10.95,2,    14.60,2,     0.01,2,     1.01,2, -999.000,9, -999.000,9,       -999,9,   2167.5,2,   2305.8,2,  -999.00,9,  -999.00,9,  -0.7780
  58GS20090528,   GIN,   250,  1,      4,20091006,0245, 74.5010,  10.7540, 2411,   1199.4,  -0.5890,  34.8987,2,  34.9010,2,   -999.0,9,     9.09,2,    14.00,2,     0.01,2,     0.98,2, -999.000,9, -999.000,9,       -999,9,   -999.0,9,   -999.0,9,  -999.00,9,  -999.00,9,  -0.6389
  58GS20090528,   GIN,   250,  1,      5,20091006,0245, 74.5010,  10.7540, 2411,   1000.2,  -0.4170,  34.8971,2,  34.9006,2,    308.1,2,     8.27,2,    13.88,2,     0.01,2,     0.98,2, -999.000,9, -999.000,9,       -999,9,   2166.9,2,   2304.7,2,  -999.00,9,  -999.00,9,  -0.4582
  58GS20090528,   GIN,   250,  1,      6,20091006,0245, 74.5010,  10.7540, 2411,    800.4,  -0.1140,  34.9011,2,  34.9040,2,    322.6,2,     6.62,2,    12.76,2,     0.02,2,     0.91,2, -999.000,9, -999.000,9,       -999,9,   2165.4,2,   2303.7,2,  -999.00,9,  -999.00,9,  -0.1476
  58GS20090528,   GIN,   250,  1,      7,20091006,0245, 74.5010,  10.7540, 2411,    600.5,   0.7940,  34.9426,2,  34.9433,2,    317.4,2,     6.06,2,    12.63,2,     0.02,2,     0.87,2, -999.000,9, -999.000,9,       -999,9,   2165.7,2,   2305.4,2,  -999.00,9,  -999.00,9,   0.7653
  58GS20090528,   GIN,   250,  1,      8,20091006,0245, 74.5010,  10.7540, 2411,    499.5,   2.1340,  35.0016,2,  35.0043,2,    309.5,2,     5.52,2,    12.39,2,     0.03,2,     0.86,2, -999.000,9, -999.000,9,       -999,9,   2159.8,2,   2310.2,2,  -999.00,9,  -999.00,9,   2.1051
  58GS20090528,   GIN,   250,  1,      9,20091006,0245, 74.5010,  10.7540, 2411,    400.4,   3.4420,  35.0784,2,  35.0806,2,    307.1,2,     4.93,2,    11.85,2,     0.03,2,     0.80,2, -999.000,9, -999.000,9,       -999,9,   2155.0,2,   2317.5,2,  -999.00,9,  -999.00,9,   3.4149
  58GS20090528,   GIN,   250,  1,     10,20091006,0245, 74.5010,  10.7540, 2411,    300.3,   3.8190,  35.1131,2,  35.1114,2,    307.6,2,     4.76,2,    11.55,2,     0.04,2,     0.77,2, -999.000,9, -999.000,9,       -999,9,   2152.7,2,   2317.2,2,  -999.00,9,  -999.00,9,   3.7980
  58GS20090528,   GIN,   250,  1,     11,20091006,0245, 74.5010,  10.7540, 2411,    200.0,   4.0790,  35.1138,2,  35.1106,2,    306.0,2,     4.79,2,    11.48,2,     0.07,2,     0.77,2, -999.000,9, -999.000,9,       -999,9,   2151.5,2,   2317.1,2,  -999.00,9,  -999.00,9,   4.0648
  58GS20090528,   GIN,   250,  1,     12,20091006,0245, 74.5010,  10.7540, 2411,    149.2,   4.3220,  35.1268,2,  35.1225,2,    303.9,2,     4.71,2,    11.23,2,     0.04,2,     0.77,2, -999.000,9, -999.000,9,       -999,9,   2151.9,2,   2315.3,2,  -999.00,9,  -999.00,9,   4.3111
  58GS20090528,   GIN,   250,  1,     13,20091006,0245, 74.5010,  10.7540, 2411,    100.6,   4.5450,  35.1279,2,  35.1260,2,    301.7,2,     4.80,2,    11.69,2,     0.04,2,     0.77,2, -999.000,9, -999.000,9,       -999,9,   2151.3,2,   2318.0,2,     0.02,2,     0.05,2,   4.5375
  58GS20090528,   GIN,   250,  1,     14,20091006,0245, 74.5010,  10.7540, 2411,     75.2,   4.7460,  35.1322,2,  35.1302,2,    299.7,2,     4.75,2,    11.61,2,     0.09,2,     0.79,2, -999.000,9, -999.000,9,       -999,9,   2151.3,2,   2317.6,2,     0.03,2,     0.09,2,   4.7403
  58GS20090528,   GIN,   250,  1,     15,20091006,0245, 74.5010,  10.7540, 2411,     50.4,   4.9310,  35.1365,2,  35.1338,2,   -999.0,9,     4.70,2,    10.95,2,     0.25,2,     0.79,2, -999.000,9, -999.000,9,       -999,9,   2148.5,2,   2318.2,2,     0.04,2,     0.21,2,   4.9271
  58GS20090528,   GIN,   250,  1,     16,20091006,0245, 74.5010,  10.7540, 2411,     29.1,   5.3460,  35.1422,2,  35.1418,2,    314.4,2,     4.44,2,     6.58,2,     0.14,2,     0.66,2, -999.000,9, -999.000,9,       -999,9,   2128.1,2,   2324.3,2,     0.28,2,     0.34,2,   5.3437
  58GS20090528,   GIN,   250,  1,     17,20091006,0245, 74.5010,  10.7540, 2411,     20.1,   5.5540,  35.1469,2,  35.1434,2,   -999.0,9,     4.33,2,     5.83,2,     0.11,2,     0.60,2, -999.000,9, -999.000,9,       -999,9,   -999.0,9,   -999.0,9,     1.77,2,     0.45,2,   5.5524
  58GS20090528,   GIN,   250,  1,     18,20091006,0245, 74.5010,  10.7540, 2411,     20.1,   5.5760,  35.1476,2,-999.0000,9,   -999.0,9,  -999.00,9,  -999.00,9,  -999.00,9,  -999.00,9, -999.000,9, -999.000,9,       -999,9,   -999.0,9,   -999.0,9,  -999.00,9,  -999.00,9,   5.5744
  58GS20090528,   GIN,   250,  1,     19,20091006,0245, 74.5010,  10.7540, 2411,     10.3,   5.9950,  35.1546,2,  35.1520,2,   -999.0,9,     4.17,2,     4.73,2,     0.10,2,     0.38,2, -999.000,9, -999.000,9,       -999,9,   -999.0,9,   -999.0,9,     1.99,2,     0.50,2,   5.9941
  58GS20090528,   GIN,   250,  1,     20,20091006,0245, 74.5010,  10.7540, 2411,      5.3,   5.9890,  35.1554,2,  35.1453,2,    325.6,2,  -999.00,9,  -999.00,9,  -999.00,9,  -999.00,9, -999.000,9, -999.000,9,       -999,9,   2112.8,2,   2324.5,2,  -999.00,9,  -999.00,9,   5.9886
  58GS20090528,   GIN,   250,  1,     21,20091006,0245, 74.5010,  10.7540, 2411,      5.2,   5.9890,  35.1554,2,-999.0000,9,   -999.0,9,     4.13,2,     4.71,2,     0.09,2,     0.41,2, -999.000,9, -999.000,9,       -999,9,   -999.0,9,   -999.0,9,     0.53,2,     0.40,2,   5.9886