BOTTLE,20120326PRINUNIVRMK
EXPOCODE,SECT_ID,STNNBR,CASTNO,BTLNBR,DATE,TIME,LATITUDE,LONGITUDE,DEPTH,CTDPRS,CTDTMP,CTDSAL,CTDSAL_FLAG_W,SALNTY,SALNTY_FLAG_W,OXYGEN,OXYGEN_FLAG_W,SILCAT,SILCAT_FLAG_W,NITRAT,NITRAT_FLAG_W,NITRIT,NITRIT_FLAG_W,PHSPHT,PHSPHT_FLAG_W,CFC-11,CFC-11_FLAG_W,CFC-12,CFC-12_FLAG_W,SF6,SF6_FLAG_W,TCARBN,TCARBN_FLAG_W,ALKALI,ALKALI_FLAG_W,CHLORA,CHLORA_FLAG_W,PHAEO,PHAEO_FLAG_W,THETA
,,,,,,,,,METERS,DBAR,ITS-90,PSS-78,,PSS-78,,UMOL/KG,,UMOL/KG,,UMOL/KG,,UMOL/KG,,UMOL/KG,,PMOL/KG,,PMOL/KG,,FMOL/KG,,UMOL/KG,,UMOL/KG,,UG/KG,,UG/KG,,DEG C
  58GS20090528,   GIN,   285,  1,      1,20091906,0957, 76.9370,  -1.7550, 2908,    200.2,   1.2740,  34.9366,2,-999.0000,9,   -999.0,9,  -999.00,9,  -999.00,9,  -999.00,9,  -999.00,9, -999.000,9, -999.000,9,       -999,9,   -999.0,9,   -999.0,9,  -999.00,9,  -999.00,9,   1.2644
  58GS20090528,   GIN,   285,  1,      2,20091906,0957, 76.9370,  -1.7550, 2908,    120.6,   1.9570,  34.9494,2,-999.0000,9,   -999.0,9,  -999.00,9,  -999.00,9,  -999.00,9,  -999.00,9, -999.000,9, -999.000,9,       -999,9,   -999.0,9,   -999.0,9,  -999.00,9,  -999.00,9,   1.9506
  58GS20090528,   GIN,   285,  1,      3,20091906,0957, 76.9370,  -1.7550, 2908,     99.5,   2.0500,  34.9461,2,-999.0000,9,   -999.0,9,  -999.00,9,  -999.00,9,  -999.00,9,  -999.00,9, -999.000,9, -999.000,9,       -999,9,   -999.0,9,   -999.0,9,  -999.00,9,  -999.00,9,   2.0447
  58GS20090528,   GIN,   285,  1,      4,20091906,0957, 76.9370,  -1.7550, 2908,     89.8,   2.0960,  34.9457,2,-999.0000,9,   -999.0,9,  -999.00,9,  -999.00,9,  -999.00,9,  -999.00,9, -999.000,9, -999.000,9,       -999,9,   -999.0,9,   -999.0,9,  -999.00,9,  -999.00,9,   2.0911
  58GS20090528,   GIN,   285,  1,      5,20091906,0957, 76.9370,  -1.7550, 2908,     59.7,   2.4920,  34.9479,2,-999.0000,9,   -999.0,9,  -999.00,9,  -999.00,9,  -999.00,9,  -999.00,9, -999.000,9, -999.000,9,       -999,9,   -999.0,9,   -999.0,9,  -999.00,9,  -999.00,9,   2.4886
  58GS20090528,   GIN,   285,  1,      6,20091906,0957, 76.9370,  -1.7550, 2908,     49.9,   2.4180,  34.9200,2,-999.0000,9,   -999.0,9,  -999.00,9,  -999.00,9,  -999.00,9,  -999.00,9, -999.000,9, -999.000,9,       -999,9,   -999.0,9,   -999.0,9,  -999.00,9,  -999.00,9,   2.4152
  58GS20090528,   GIN,   285,  1,      7,20091906,0957, 76.9370,  -1.7550, 2908,     39.6,   1.9900,  34.8488,2,-999.0000,9,   -999.0,9,  -999.00,9,  -999.00,9,  -999.00,9,  -999.00,9, -999.000,9, -999.000,9,       -999,9,   -999.0,9,   -999.0,9,  -999.00,9,  -999.00,9,   1.9879
  58GS20090528,   GIN,   285,  1,      8,20091906,0957, 76.9370,  -1.7550, 2908,     29.3,   1.3090,  34.6952,2,-999.0000,9,   -999.0,9,  -999.00,9,  -999.00,9,  -999.00,9,  -999.00,9, -999.000,9, -999.000,9,       -999,9,   -999.0,9,   -999.0,9,  -999.00,9,  -999.00,9,   1.3076
  58GS20090528,   GIN,   285,  1,      9,20091906,0957, 76.9370,  -1.7550, 2908,     24.0,   1.1370,  34.6049,2,-999.0000,9,   -999.0,9,  -999.00,9,  -999.00,9,  -999.00,9,  -999.00,9, -999.000,9, -999.000,9,       -999,9,   -999.0,9,   -999.0,9,  -999.00,9,  -999.00,9,   1.1359
  58GS20090528,   GIN,   285,  1,     10,20091906,0957, 76.9370,  -1.7550, 2908,     24.1,   1.1710,  34.6026,2,-999.0000,9,   -999.0,9,  -999.00,9,  -999.00,9,  -999.00,9,  -999.00,9, -999.000,9, -999.000,9,       -999,9,   -999.0,9,   -999.0,9,  -999.00,9,  -999.00,9,   1.1699
  58GS20090528,   GIN,   285,  1,     11,20091906,0957, 76.9370,  -1.7550, 2908,     23.7,   1.0060,  34.5853,2,-999.0000,9,   -999.0,9,  -999.00,9,  -999.00,9,  -999.00,9,  -999.00,9, -999.000,9, -999.000,9,       -999,9,   -999.0,9,   -999.0,9,  -999.00,9,  -999.00,9,   1.0050
  58GS20090528,   GIN,   285,  1,     12,20091906,0957, 76.9370,  -1.7550, 2908,     20.0,   0.9040,  34.5364,2,-999.0000,9,   -999.0,9,  -999.00,9,  -999.00,9,  -999.00,9,  -999.00,9, -999.000,9, -999.000,9,       -999,9,   -999.0,9,   -999.0,9,  -999.00,9,  -999.00,9,   0.9031
  58GS20090528,   GIN,   285,  1,     13,20091906,0957, 76.9370,  -1.7550, 2908,     12.2,  -0.1650,  34.1491,2,-999.0000,9,   -999.0,9,  -999.00,9,  -999.00,9,  -999.00,9,  -999.00,9, -999.000,9, -999.000,9,       -999,9,   -999.0,9,   -999.0,9,  -999.00,9,  -999.00,9,  -0.1654
  58GS20090528,   GIN,   285,  1,     14,20091906,0957, 76.9370,  -1.7550, 2908,      9.9,  -0.1790,  34.1171,2,-999.0000,9,   -999.0,9,  -999.00,9,  -999.00,9,  -999.00,9,  -999.00,9, -999.000,9, -999.000,9,       -999,9,   -999.0,9,   -999.0,9,  -999.00,9,  -999.00,9,  -0.1793
  58GS20090528,   GIN,   285,  1,     15,20091906,0957, 76.9370,  -1.7550, 2908,     10.0,  -0.2140,  33.9651,2,-999.0000,9,   -999.0,9,  -999.00,9,  -999.00,9,  -999.00,9,  -999.00,9, -999.000,9, -999.000,9,       -999,9,   -999.0,9,   -999.0,9,  -999.00,9,  -999.00,9,  -0.2143
  58GS20090528,   GIN,   285,  1,     16,20091906,0957, 76.9370,  -1.7550, 2908,     10.2,  -0.1860,  33.7153,2,-999.0000,9,   -999.0,9,  -999.00,9,  -999.00,9,  -999.00,9,  -999.00,9, -999.000,9, -999.000,9,       -999,9,   -999.0,9,   -999.0,9,  -999.00,9,  -999.00,9,  -0.1863
  58GS20090528,   GIN,   285,  1,     17,20091906,0957, 76.9370,  -1.7550, 2908,     10.3,  -0.1740,  33.5648,2,-999.0000,9,   -999.0,9,  -999.00,9,  -999.00,9,  -999.00,9,  -999.00,9, -999.000,9, -999.000,9,       -999,9,   -999.0,9,   -999.0,9,  -999.00,9,  -999.00,9,  -0.1743
  58GS20090528,   GIN,   285,  1,     18,20091906,0957, 76.9370,  -1.7550, 2908,     10.1,  -0.1350,  33.4593,2,-999.0000,9,   -999.0,9,  -999.00,9,  -999.00,9,  -999.00,9,  -999.00,9, -999.000,9, -999.000,9,       -999,9,   -999.0,9,   -999.0,9,  -999.00,9,  -999.00,9,  -0.1353
  58GS20090528,   GIN,   285,  1,     19,20091906,0957, 76.9370,  -1.7550, 2908,      4.9,  -0.3400,  32.9838,2,-999.0000,9,   -999.0,9,  -999.00,9,  -999.00,9,  -999.00,9,  -999.00,9, -999.000,9, -999.000,9,       -999,9,   -999.0,9,   -999.0,9,  -999.00,9,  -999.00,9,  -0.3401
  58GS20090528,   GIN,   285,  1,     20,20091906,0957, 76.9370,  -1.7550, 2908,      4.5,  -0.3090,  32.9801,2,-999.0000,9,   -999.0,9,  -999.00,9,  -999.00,9,  -999.00,9,  -999.00,9, -999.000,9, -999.000,9,       -999,9,   -999.0,9,   -999.0,9,  -999.00,9,  -999.00,9,  -0.3091
  58GS20090528,   GIN,   285,  1,     21,20091906,0957, 76.9370,  -1.7550, 2908,      4.7,  -0.3040,  32.9796,2,-999.0000,9,   -999.0,9,  -999.00,9,  -999.00,9,  -999.00,9,  -999.00,9, -999.000,9, -999.000,9,       -999,9,   -999.0,9,   -999.0,9,  -999.00,9,  -999.00,9,  -0.3041
  58GS20090528,   GIN,   285,  1,     22,20091906,0957, 76.9370,  -1.7550, 2908,      5.0,  -0.3200,  32.9837,2,-999.0000,9,   -999.0,9,  -999.00,9,  -999.00,9,  -999.00,9,  -999.00,9, -999.000,9, -999.000,9,       -999,9,   -999.0,9,   -999.0,9,  -999.00,9,  -999.00,9,  -0.3201
  58GS20090528,   GIN,   286,  1,      1,20091906,2244, 77.0010,   3.0030, 3010,   3000.3,  -0.7980,  34.9101,2,  34.9119,2,    298.2,2,    12.76,2,    14.56,2,     0.02,2,     1.03,2, -999.000,9,    0.373,2,       -999,9,   2160.6,2,   -999.0,9,  -999.00,9,  -999.00,9,  -0.9646
  58GS20090528,   GIN,   286,  1,      2,20091906,2244, 77.0010,   3.0030, 3010,   2500.2,  -0.8040,  34.9104,2,  34.9108,2,    298.2,2,    12.37,2,    14.59,2,     0.02,2,     1.02,2, -999.000,9,    0.404,2,       -999,9,   2159.1,2,   -999.0,9,  -999.00,9,  -999.00,9,  -0.9322
  58GS20090528,   GIN,   286,  1,      3,20091906,2244, 77.0010,   3.0030, 3010,   2000.8,  -0.7510,  34.9077,2,  34.9090,2,    299.3,2,    11.42,2,    14.67,2,     0.01,2,     1.01,2, -999.000,9,    0.649,2,       -999,9,   2159.8,2,   -999.0,9,  -999.00,9,  -999.00,9,  -0.8458
  58GS20090528,   GIN,   286,  1,      4,20091906,2244, 77.0010,   3.0030, 3010,   1499.9,  -0.6470,  34.8988,2,  34.9010,2,    311.1,2,     8.97,2,    13.57,2,     0.02,2,     0.96,2, -999.000,9,    1.712,6,       -999,9,   2162.7,2,   -999.0,9,  -999.00,9,  -999.00,9,  -0.7127
  58GS20090528,   GIN,   286,  1,      5,20091906,2244, 77.0010,   3.0030, 3010,   1199.6,  -0.5560,  34.8986,2,  34.9018,2,    322.8,2,     7.47,2,    13.15,2,     0.01,2,     0.95,2, -999.000,9,    2.485,2,       -999,9,   2166.7,2,   -999.0,9,  -999.00,9,  -999.00,9,  -0.6062
  58GS20090528,   GIN,   286,  1,      6,20091906,2244, 77.0010,   3.0030, 3010,   1000.2,  -0.3830,  34.9096,2,  34.9147,2,    328.3,2,     6.71,2,    12.76,2,     0.03,2,     0.89,2, -999.000,9,    2.790,2,       -999,9,   2163.9,2,   -999.0,9,  -999.00,9,  -999.00,9,  -0.4245
  58GS20090528,   GIN,   286,  1,      7,20091906,2244, 77.0010,   3.0030, 3010,    799.6,  -0.2390,  34.9205,2,  34.9249,2,    329.4,2,     6.42,2,    12.50,2,     0.02,2,     0.87,2, -999.000,9,    2.837,2,       -999,9,   2163.6,2,   -999.0,9,  -999.00,9,  -999.00,9,  -0.2717
  58GS20090528,   GIN,   286,  1,      8,20091906,2244, 77.0010,   3.0030, 3010,    600.2,  -0.2090,  34.9210,2,  34.9233,2,    329.0,2,     6.41,2,    12.60,2,     0.01,2,     0.88,2, -999.000,9,    2.788,2,       -999,9,   2161.8,2,   -999.0,9,  -999.00,9,  -999.00,9,  -0.2326
  58GS20090528,   GIN,   286,  1,      9,20091906,2244, 77.0010,   3.0030, 3010,    500.5,  -0.1880,  34.9196,2,  34.9195,2,    327.6,2,     6.44,2,    12.67,2,     0.02,2,     0.87,2, -999.000,9,    2.829,2,       -999,9,   2163.1,2,   -999.0,9,  -999.00,9,  -999.00,9,  -0.2073
  58GS20090528,   GIN,   286,  1,     10,20091906,2244, 77.0010,   3.0030, 3010,    400.4,  -0.1650,  34.9166,2,  34.9184,2,    326.0,2,     6.60,2,    12.45,2,     0.03,2,     0.89,2, -999.000,9,    2.782,2,       -999,9,   2163.6,2,   -999.0,9,  -999.00,9,  -999.00,9,  -0.1802
  58GS20090528,   GIN,   286,  1,     11,20091906,2244, 77.0010,   3.0030, 3010,    299.9,   0.0840,  34.9286,2,  34.9316,2,    325.0,2,     6.44,2,    12.60,2,     0.04,2,     0.90,2, -999.000,9,    2.826,2,       -999,9,   2162.2,2,   -999.0,9,  -999.00,9,  -999.00,9,   0.0723
  58GS20090528,   GIN,   286,  1,     12,20091906,2244, 77.0010,   3.0030, 3010,    200.2,   0.5050,  34.9497,2,  34.9505,2,    321.7,2,     6.27,2,    12.62,2,     0.03,2,     0.90,2, -999.000,9,    2.791,2,       -999,9,   2161.0,2,   -999.0,9,  -999.00,9,  -999.00,9,   0.4966
  58GS20090528,   GIN,   286,  1,     13,20091906,2244, 77.0010,   3.0030, 3010,    150.0,   0.6610,  34.9554,2,  34.9584,2,    319.4,2,     6.18,2,    12.32,2,     0.03,2,     0.85,2, -999.000,9, -999.000,9,       -999,9,   2161.6,2,   -999.0,9,  -999.00,9,  -999.00,9,   0.6546
  58GS20090528,   GIN,   286,  1,     14,20091906,2244, 77.0010,   3.0030, 3010,    126.0,   0.6620,  34.9466,2,  34.9530,2,   -999.0,9,     6.12,2,    12.29,2,     0.04,2,     0.87,2, -999.000,9, -999.000,9,       -999,9,   -999.0,9,   -999.0,9,  -999.00,9,  -999.00,9,   0.6567
  58GS20090528,   GIN,   286,  1,     15,20091906,2244, 77.0010,   3.0030, 3010,     99.9,   0.9290,  34.9558,2,  34.9564,2,    325.6,2,     5.82,2,    11.91,2,     0.05,2,     0.84,2, -999.000,9,    2.923,2,       -999,9,   2157.9,2,   -999.0,9,     0.03,2,     0.10,2,   0.9246
  58GS20090528,   GIN,   286,  1,     16,20091906,2244, 77.0010,   3.0030, 3010,     74.6,   1.1510,  34.9650,2,  23.9554,2,    326.8,2,     5.56,2,    11.47,2,     0.06,2,     0.81,2, -999.000,9, -999.000,9,       -999,9,   2158.8,2,   -999.0,9,     0.04,2,     0.14,2,   1.1491
  58GS20090528,   GIN,   286,  1,     17,20091906,2244, 77.0010,   3.0030, 3010,     50.0,   1.7390,  34.9943,2,  34.9921,2,    325.2,2,     5.39,2,    11.24,2,     0.09,2,     0.81,2, -999.000,9,    2.956,2,       -999,9,   2155.9,2,   -999.0,9,     0.12,2,     0.11,2,   1.7365
  58GS20090528,   GIN,   286,  1,     18,20091906,2244, 77.0010,   3.0030, 3010,     29.7,   2.2600,  35.0195,2,  35.0439,2,   -999.0,9,     4.89,2,     8.99,2,     0.09,2,     0.71,2, -999.000,9, -999.000,9,       -999,9,   -999.0,9,   -999.0,9,     0.52,2,     0.27,2,   2.2584
  58GS20090528,   GIN,   286,  1,     19,20091906,2244, 77.0010,   3.0030, 3010,     24.3,   3.3640,  35.0509,2,  35.0542,2,    335.6,2,     4.42,2,     6.61,2,     0.07,2,     0.55,2, -999.000,9, -999.000,9,       -999,9,   2128.6,2,   -999.0,9,     1.17,2,     0.31,2,   3.3624
  58GS20090528,   GIN,   286,  1,     20,20091906,2244, 77.0010,   3.0030, 3010,     24.2,   3.6650,  35.0514,2,-999.0000,9,   -999.0,9,  -999.00,9,  -999.00,9,  -999.00,9,  -999.00,9, -999.000,9, -999.000,9,       -999,9,   -999.0,9,   -999.0,9,  -999.00,9,  -999.00,9,   3.6634
  58GS20090528,   GIN,   286,  1,     21,20091906,2244, 77.0010,   3.0030, 3010,     15.0,  35.0570,  35.0570,2,  35.0546,2,   -999.0,9,     4.45,2,     6.35,2,     0.08,2,     0.56,2, -999.000,9, -999.000,9,       -999,9,   -999.0,9,   -999.0,9,     1.21,2,     0.27,2,  35.0528
  58GS20090528,   GIN,   286,  1,     22,20091906,2244, 77.0010,   3.0030, 3010,      9.9,   3.7700,  35.0557,2,  35.0546,2,    336.8,2,     4.41,2,     6.23,2,     0.07,2,     0.54,2, -999.000,9,    2.942,2,       -999,9,   2126.9,2,   -999.0,9,     1.10,2,     0.26,2,   3.7693
  58GS20090528,   GIN,   286,  1,     23,20091906,2244, 77.0010,   3.0030, 3010,      4.9,   3.8480,  35.0389,2,  35.0439,2,   -999.0,9,     4.33,2,     6.15,2,     0.07,2,     0.53,2, -999.000,9, -999.000,9,       -999,9,   -999.0,9,   -999.0,9,     0.99,2,     0.26,2,   3.8477
  58GS20090528,   GIN,   286,  1,     24,20091906,2244, 77.0010,   3.0030, 3010,      5.0,   3.8980,  35.0309,2,-999.0000,9,   -999.0,9,  -999.00,9,  -999.00,9,  -999.00,9,  -999.00,9, -999.000,9, -999.000,9,       -999,9,   -999.0,9,   -999.0,9,  -999.00,9,  -999.00,9,   3.8977