BOTTLE,20120326PRINUNIVRMK
EXPOCODE,SECT_ID,STNNBR,CASTNO,BTLNBR,DATE,TIME,LATITUDE,LONGITUDE,DEPTH,CTDPRS,CTDTMP,CTDSAL,CTDSAL_FLAG_W,SALNTY,SALNTY_FLAG_W,OXYGEN,OXYGEN_FLAG_W,SILCAT,SILCAT_FLAG_W,NITRAT,NITRAT_FLAG_W,NITRIT,NITRIT_FLAG_W,PHSPHT,PHSPHT_FLAG_W,CFC-11,CFC-11_FLAG_W,CFC-12,CFC-12_FLAG_W,SF6,SF6_FLAG_W,TCARBN,TCARBN_FLAG_W,ALKALI,ALKALI_FLAG_W,CHLORA,CHLORA_FLAG_W,PHAEO,PHAEO_FLAG_W,THETA
,,,,,,,,,METERS,DBAR,ITS-90,PSS-78,,PSS-78,,UMOL/KG,,UMOL/KG,,UMOL/KG,,UMOL/KG,,UMOL/KG,,PMOL/KG,,PMOL/KG,,FMOL/KG,,UMOL/KG,,UMOL/KG,,UG/KG,,UG/KG,,DEG C
  58GS20090528,   GIN,   274,  1,      1,20091606,1536, 79.1300,   6.0900, 1251,   1241.3,  -0.8720,  34.9059,2,  34.9065,2,    295.6,2,    13.04,2,    14.84,2,     0.02,2,     1.01,2,    0.579,2,    0.483,2,0.322159695,2,   2161.3,2,   2307.9,2,  -999.00,9,  -999.00,9,  -0.9212
  58GS20090528,   GIN,   274,  1,      2,20091606,1536, 79.1300,   6.0900, 1251,   1000.4,  -0.7810,  34.9035,2,  34.9020,2,    296.5,2,    12.06,2,    14.84,2,     0.01,2,     1.01,2,    1.207,2,    0.834,2,0.694465089,2,   2165.1,2,   2305.7,2,  -999.00,9,  -999.00,9,  -0.8192
  58GS20090528,   GIN,   274,  1,      3,20091606,1536, 79.1300,   6.0900, 1251,    801.2,  -0.1480,  34.9057,2,  34.8973,2,    304.2,2,     8.58,2,    13.64,2,     0.05,2,     0.96,2,    3.385,6,    2.291,6,  1.8067328,2,   2165.3,2,   2305.6,2,  -999.00,9,  -999.00,9,  -0.1814
  58GS20090528,   GIN,   274,  1,      4,20091606,1536, 79.1300,   6.0900, 1251,    600.8,   2.1540,  35.0181,2,  35.0197,2,    309.4,2,     5.53,2,    12.34,2,     0.02,2,     0.85,2,    4.038,2,    3.133,2, 2.04479791,2,   2157.5,2,   2310.4,2,  -999.00,9,  -999.00,9,   2.1186
  58GS20090528,   GIN,   274,  1,      5,20091606,1536, 79.1300,   6.0900, 1251,    500.9,   2.8770,  35.0571,2,  35.0559,2,    309.7,2,     5.02,2,    11.87,2,     0.04,2,     0.80,2, -999.000,9, -999.000,9,       -999,9,   2153.0,2,   2316.3,2,  -999.00,9,  -999.00,9,   2.8450
  58GS20090528,   GIN,   274,  1,      6,20091606,1536, 79.1300,   6.0900, 1251,    400.1,   3.3810,  35.0621,2,  35.0609,2,    306.1,2,     4.95,2,    11.59,2,     0.02,2,     0.77,2,    4.022,2,    3.360,2, 1.31197207,2,   2151.3,2,   2315.3,2,  -999.00,9,  -999.00,9,   3.3541
  58GS20090528,   GIN,   274,  1,      7,20091606,1536, 79.1300,   6.0900, 1251,    300.1,   3.8460,  35.0677,2,  35.0625,2,    302.9,2,     4.88,2,    11.62,2,     0.02,2,     0.79,2, -999.000,9, -999.000,9,       -999,9,   2150.8,2,   2315.8,2,  -999.00,9,  -999.00,9,   3.8250
  58GS20090528,   GIN,   274,  1,      8,20091606,1536, 79.1300,   6.0900, 1251,    200.3,   4.2650,  35.0777,2,  35.0721,2,    300.5,2,     4.71,2,    11.24,2,     0.10,2,     0.76,2,    3.948,2,    3.465,2,    2.30929,2,   2148.7,2,   2316.4,2,  -999.00,9,  -999.00,9,   4.2505
  58GS20090528,   GIN,   274,  1,      9,20091606,1536, 79.1300,   6.0900, 1251,    150.4,   4.7160,  35.0947,2,  35.0965,2,    300.0,2,     4.47,2,    11.06,2,     0.07,2,     0.75,2, -999.000,9, -999.000,9,       -999,9,   2146.3,2,   2319.5,2,  -999.00,9,  -999.00,9,   4.7046
  58GS20090528,   GIN,   274,  1,     10,20091606,1536, 79.1300,   6.0900, 1251,    124.6,   4.7380,  35.0760,2,  35.0811,2,   -999.0,9,     3.92,2,    10.19,2,     0.09,2,     0.70,2, -999.000,9, -999.000,9,       -999,9,   -999.0,9,   -999.0,9,  -999.00,9,  -999.00,9,   4.7286
  58GS20090528,   GIN,   274,  1,     11,20091606,1536, 79.1300,   6.0900, 1251,     99.9,   4.7830,  35.0601,2,  35.0531,2,    307.2,2,     3.75,2,     9.43,2,     0.10,2,     0.65,2,    3.590,2,    3.499,2, 1.57604804,2,   2134.7,2,   2318.1,2,     0.42,2,     0.28,2,   4.7754
  58GS20090528,   GIN,   274,  1,     12,20091606,1536, 79.1300,   6.0900, 1251,     99.9,   5.0210,  35.0903,2,  35.0782,2,   -999.0,9,  -999.00,9,  -999.00,9,  -999.00,9,  -999.00,9, -999.000,9, -999.000,9,       -999,9,   -999.0,9,   -999.0,9,  -999.00,9,  -999.00,9,   5.0132
  58GS20090528,   GIN,   274,  1,     13,20091606,1536, 79.1300,   6.0900, 1251,     74.0,   4.8740,  35.0576,2,  35.1216,2,    313.8,2,     3.33,2,     8.14,2,     0.10,2,     0.59,2, -999.000,9, -999.000,9,       -999,9,   2128.4,2,   2319.0,2,     0.50,2,     0.33,2,   4.8683
  58GS20090528,   GIN,   274,  1,     14,20091606,1536, 79.1300,   6.0900, 1251,     74.0,   5.1070,  35.0754,2,  35.1119,2,   -999.0,9,  -999.00,9,  -999.00,9,  -999.00,9,  -999.00,9, -999.000,9, -999.000,9,       -999,9,   -999.0,9,   -999.0,9,  -999.00,9,  -999.00,9,   5.1012
  58GS20090528,   GIN,   274,  1,     15,20091606,1536, 79.1300,   6.0900, 1251,     50.2,   5.5690,  35.1174,2,  35.0985,2,    309.5,2,     3.84,2,     8.60,2,     0.12,2,     0.61,2,    3.396,2,    3.508,2, 1.80336064,2,   -999.0,9,   2316.2,2,     0.53,2,     0.46,2,   5.5649
  58GS20090528,   GIN,   274,  1,     16,20091606,1536, 79.1300,   6.0900, 1251,     50.2,   5.6400,  35.1196,2,  35.0716,2,   -999.0,9,  -999.00,9,  -999.00,9,  -999.00,9,  -999.00,9, -999.000,9, -999.000,9,       -999,9,   -999.0,9,   -999.0,9,  -999.00,9,  -999.00,9,   5.6359
  58GS20090528,   GIN,   274,  1,     17,20091606,1536, 79.1300,   6.0900, 1251,     24.5,   5.7980,  35.1130,2,-999.0000,9,    319.7,2,     3.53,2,     7.01,2,     0.11,2,     0.53,2,    3.331,2,    3.451,2, 1.79613509,2,   2120.2,2,   2312.3,2,     1.09,2,     0.39,2,   5.7960
  58GS20090528,   GIN,   274,  1,     18,20091606,1536, 79.1300,   6.0900, 1251,     24.5,   5.8050,  35.1123,2,-999.0000,9,   -999.0,9,  -999.00,9,  -999.00,9,  -999.00,9,  -999.00,9, -999.000,9, -999.000,9,       -999,9,   -999.0,9,   -999.0,9,  -999.00,9,  -999.00,9,   5.8030
  58GS20090528,   GIN,   274,  1,     19,20091606,1536, 79.1300,   6.0900, 1251,     10.2,   5.7940,  35.1025,2,-999.0000,9,   -999.0,9,     3.50,2,     6.78,2,     0.12,2,     0.52,2, -999.000,9, -999.000,9,       -999,9,   -999.0,9,   -999.0,9,     1.51,2,     0.51,2,   5.7932
  58GS20090528,   GIN,   274,  1,     20,20091606,1536, 79.1300,   6.0900, 1251,     10.2,   5.7660,  35.0900,2,-999.0000,9,   -999.0,9,  -999.00,9,  -999.00,9,  -999.00,9,  -999.00,9, -999.000,9, -999.000,9,       -999,9,   -999.0,9,   -999.0,9,  -999.00,9,  -999.00,9,   5.7651
  58GS20090528,   GIN,   274,  1,     21,20091606,1536, 79.1300,   6.0900, 1251,      4.1,   5.7190,  35.0716,2,-999.0000,9,    324.1,2,     3.42,2,     6.68,2,     0.12,2,     0.49,2, -999.000,9, -999.000,9,       -999,9,   2114.6,2,   2304.9,2,     1.82,2,     0.60,2,   5.7187
  58GS20090528,   GIN,   274,  1,     22,20091606,1536, 79.1300,   6.0900, 1251,      4.1,   5.7180,  35.0716,2,-999.0000,9,   -999.0,9,  -999.00,9,  -999.00,9,  -999.00,9,  -999.00,9, -999.000,9, -999.000,9,       -999,9,   -999.0,9,   -999.0,9,  -999.00,9,  -999.00,9,   5.7177
  58GS20090528,   GIN,   275,  1,      1,20091606,1802, 79.1300,   4.9000, 1977,   1510.2,  -0.8560,  34.9065,2,  34.9106,2,    295.8,2,    12.91,2,    14.88,2,     0.02,2,     1.02,2,    0.544,2,    0.555,2,          0,2,   2163.0,2,   2306.9,2,  -999.00,9,  -999.00,9,  -0.9198
  58GS20090528,   GIN,   275,  1,      2,20091606,1802, 79.1300,   4.9000, 1977,   1201.1,  -0.8360,  34.9048,2,  34.9057,2,    297.2,2,    12.22,2,    14.75,2,     0.03,2,     1.01,2,    0.786,2,    0.749,2,0.226751176,2,   2163.2,2,   2306.7,2,  -999.00,9,  -999.00,9,  -0.8836
  58GS20090528,   GIN,   275,  1,      3,20091606,1802, 79.1300,   4.9000, 1977,   1000.2,  -0.7410,  34.9019,2,  34.9009,2,    298.1,2,    11.28,2,    14.24,2,     0.02,2,     1.00,2,    1.252,6,    1.096,6,0.392535929,2,   2165.0,2,   2305.6,2,  -999.00,9,  -999.00,9,  -0.7796
  58GS20090528,   GIN,   275,  1,      4,20091606,1802, 79.1300,   4.9000, 1977,    800.3,  -0.3500,  34.9018,2,  34.9027,2,    302.1,2,     9.21,2,    14.19,2,     0.01,2,     0.98,2,    2.570,2,    2.024,2,0.885882593,2,   2166.5,2,   2302.6,2,  -999.00,9,  -999.00,9,  -0.3820
  58GS20090528,   GIN,   275,  1,      5,20091606,1802, 79.1300,   4.9000, 1977,    600.2,   1.4120,  34.9791,2,  34.9750,2,    311.9,2,     5.84,2,    12.25,2,     0.01,2,     0.85,2,    4.000,2,    3.172,2, 1.69348535,2,   2157.6,2,   2311.2,2,  -999.00,9,  -999.00,9,   1.3803
  58GS20090528,   GIN,   275,  1,      6,20091606,1802, 79.1300,   4.9000, 1977,    499.8,   2.1580,  35.0245,2,  35.0241,2,    311.9,2,     5.31,2,    11.70,2,     0.03,2,     0.82,2, -999.000,9, -999.000,9,       -999,9,   2157.9,2,   2311.0,2,  -999.00,9,  -999.00,9,   2.1290
  58GS20090528,   GIN,   275,  1,      7,20091606,1802, 79.1300,   4.9000, 1977,    400.1,   2.0760,  34.9828,2,  34.9776,2,    307.2,2,     5.35,2,    11.74,2,     0.02,2,     0.81,2,    4.334,2,    3.105,2, 1.87600231,2,   2151.9,2,   2303.7,2,  -999.00,9,  -999.00,9,   2.0534
  58GS20090528,   GIN,   275,  1,      8,20091606,1802, 79.1300,   4.9000, 1977,    300.4,   2.8510,  35.0237,2,  35.0260,2,    310.8,2,     4.85,2,    11.26,2,     0.07,2,     0.78,2, -999.000,9, -999.000,9,       -999,9,   2152.1,2,   2309.3,2,  -999.00,9,  -999.00,9,   2.8324
  58GS20090528,   GIN,   275,  1,      9,20091606,1802, 79.1300,   4.9000, 1977,    200.3,   3.6360,  35.0589,2,  35.0618,2,    306.3,2,     4.77,2,    11.25,2,     0.05,2,     0.76,2,    4.079,2,    3.060,2, 1.93127722,2,   2151.2,2,   2303.9,2,  -999.00,9,  -999.00,9,   3.6225
  58GS20090528,   GIN,   275,  1,     10,20091606,1802, 79.1300,   4.9000, 1977,    150.6,   3.9940,  35.0676,2,  35.0637,2,    306.9,2,     4.60,2,    10.86,2,     0.16,2,     0.75,2, -999.000,9, -999.000,9,       -999,9,   2149.3,2,   2307.0,2,  -999.00,9,  -999.00,9,   3.9834
  58GS20090528,   GIN,   275,  1,     11,20091606,1802, 79.1300,   4.9000, 1977,    125.7,   4.1200,  35.0694,2,  35.0651,2,   -999.0,9,     4.34,2,    10.34,2,     0.19,2,     0.72,2, -999.000,9, -999.000,9,       -999,9,   -999.0,9,   -999.0,9,  -999.00,9,  -999.00,9,   4.1111
  58GS20090528,   GIN,   275,  1,     12,20091606,1802, 79.1300,   4.9000, 1977,    100.2,   4.3250,  35.0748,2,  35.0687,2,    307.2,2,     4.20,2,     9.95,2,     0.17,2,     0.71,2,    4.106,2,    2.980,2, 2.01052066,2,   2143.9,2,   2321.0,2,     0.09,2,     0.18,2,   4.3178
  58GS20090528,   GIN,   275,  1,     13,20091606,1802, 79.1300,   4.9000, 1977,    100.7,   4.3220,  35.0743,2,  35.0712,2,   -999.0,9,  -999.00,9,  -999.00,9,  -999.00,9,  -999.00,9, -999.000,9, -999.000,9,       -999,9,   -999.0,9,   -999.0,9,  -999.00,9,  -999.00,9,   4.3147
  58GS20090528,   GIN,   275,  1,     14,20091606,1802, 79.1300,   4.9000, 1977,     75.4,   4.5250,  35.0821,2,  35.0803,2,    308.1,2,     4.15,2,     9.65,2,     0.18,2,     0.69,2, -999.000,9, -999.000,9,       -999,9,   2141.6,2,   2321.7,2,     0.01,2,     0.03,2,   4.5194
  58GS20090528,   GIN,   275,  1,     15,20091606,1802, 79.1300,   4.9000, 1977,     75.9,   4.5220,  35.0836,2,  35.0826,2,   -999.0,9,  -999.00,9,  -999.00,9,  -999.00,9,  -999.00,9, -999.000,9, -999.000,9,       -999,9,   -999.0,9,   -999.0,9,  -999.00,9,  -999.00,9,   4.5164
  58GS20090528,   GIN,   275,  1,     16,20091606,1802, 79.1300,   4.9000, 1977,     49.8,   4.3890,  35.0395,2,  35.0343,2,    316.6,2,     3.25,2,     7.93,2,     0.14,2,     0.61,2,    4.818,2,    2.891,2, 1.89620432,2,   2130.8,2,   2320.0,2,     0.17,2,     0.19,2,   4.3854
  58GS20090528,   GIN,   275,  1,     17,20091606,1802, 79.1300,   4.9000, 1977,     50.2,   4.3730,  35.0351,2,  35.0322,2,   -999.0,9,  -999.00,9,  -999.00,9,  -999.00,9,  -999.00,9, -999.000,9, -999.000,9,       -999,9,   -999.0,9,   -999.0,9,  -999.00,9,  -999.00,9,   4.3694
  58GS20090528,   GIN,   275,  1,     18,20091606,1802, 79.1300,   4.9000, 1977,     25.0,   4.7040,  35.0464,2,  35.0495,2,    319.4,2,     3.72,2,     7.20,2,     0.12,2,     0.55,2,    4.802,2,    2.742,2, 2.29077444,2,   2126.0,2,   2324.3,2,     0.30,2,     0.34,2,   4.7021
  58GS20090528,   GIN,   275,  1,     19,20091606,1802, 79.1300,   4.9000, 1977,     25.4,   4.7040,  35.0462,2,  34.5100,2,   -999.0,9,  -999.00,9,  -999.00,9,  -999.00,9,  -999.00,9, -999.000,9, -999.000,9,       -999,9,   -999.0,9,   -999.0,9,  -999.00,9,  -999.00,9,   4.7021
  58GS20090528,   GIN,   275,  1,     20,20091606,1802, 79.1300,   4.9000, 1977,     10.7,   3.2770,  34.4357,2,  34.4196,2,   -999.0,9,     3.24,2,     3.35,2,     0.10,2,     0.28,2, -999.000,9, -999.000,9,       -999,9,   -999.0,9,   -999.0,9,     2.96,2,     0.52,2,   3.2763
  58GS20090528,   GIN,   275,  1,     21,20091606,1802, 79.1300,   4.9000, 1977,     10.8,   3.2930,  34.4291,2,-999.0000,9,   -999.0,9,  -999.00,9,  -999.00,9,  -999.00,9,  -999.00,9, -999.000,9, -999.000,9,       -999,9,   -999.0,9,   -999.0,9,  -999.00,9,  -999.00,9,   3.2923
  58GS20090528,   GIN,   275,  1,     22,20091606,1802, 79.1300,   4.9000, 1977,      5.2,   3.3070,  34.4158,2,-999.0000,9,    356.4,2,     3.15,2,     2.67,2,     0.11,2,     0.26,2,    5.445,2,    2.939,2, 1.69237116,2,   2063.2,2,   2284.4,2,     3.14,2,     0.43,2,   3.3067
  58GS20090528,   GIN,   275,  1,     23,20091606,1802, 79.1300,   4.9000, 1977,      5.4,   3.3060,  34.4148,2,-999.0000,9,   -999.0,9,  -999.00,9,  -999.00,9,  -999.00,9,  -999.00,9, -999.000,9, -999.000,9,       -999,9,   -999.0,9,   -999.0,9,  -999.00,9,  -999.00,9,   3.3057
  58GS20090528,   GIN,   276,  1,      1,20091706,0040, 78.7480,   2.5600, 3069,   2498.6,  -0.7980,  34.9122,2,  34.9181,2,    297.8,2,    12.38,2,    14.70,2,     0.01,2,     1.01,2,    0.622,2,    0.320,2,          0,2,   2161.6,2,   2310.6,2,  -999.00,9,  -999.00,9,  -0.9262
  58GS20090528,   GIN,   276,  1,      2,20091706,0040, 78.7480,   2.5600, 3069,   2000.8,  -0.7140,  34.9128,2,  34.9187,2,    297.4,2,    11.52,2,    14.51,2,     0.01,2,     1.00,2,    0.875,2,    0.394,2,          0,2,   2162.2,2,   2309.7,2,  -999.00,9,  -999.00,9,  -0.8094
  58GS20090528,   GIN,   276,  1,      3,20091706,0040, 78.7480,   2.5600, 3069,   1500.4,  -0.5940,  34.9046,2,  34.9090,2,    302.6,2,     9.87,2,    13.95,2,     0.01,2,     0.97,2, -999.000,9, -999.000,9,       -999,9,   2162.7,2,   2308.8,2,  -999.00,9,  -999.00,9,  -0.6604
  58GS20090528,   GIN,   276,  1,      4,20091706,0040, 78.7480,   2.5600, 3069,   1200.1,  -0.4550,  34.9010,2,  34.9097,2,    318.8,2,     7.49,2,    13.18,2,     0.01,2,     0.91,2,    4.740,2,    2.158,2, 1.81827904,2,   2166.9,2,   2308.1,2,  -999.00,9,  -999.00,9,  -0.5063
  58GS20090528,   GIN,   276,  1,      5,20091706,0040, 78.7480,   2.5600, 3069,   1000.4,  -0.2290,  34.9108,2,  34.9162,2,    318.0,2,     7.17,2,    13.10,2,     0.01,2,     0.90,2,    4.959,2,    2.248,2, 1.42523808,2,   2166.1,2,   2309.2,2,  -999.00,9,  -999.00,9,  -0.2718
  58GS20090528,   GIN,   276,  1,      6,20091706,0040, 78.7480,   2.5600, 3069,    800.9,   0.2810,  34.9417,2,  34.9505,2,    321.4,2,     6.29,2,    12.51,2,     0.02,2,     0.86,2,    5.499,2,    2.486,2, 2.06124752,2,   2162.7,2,   2311.7,2,  -999.00,9,  -999.00,9,   0.2447
  58GS20090528,   GIN,   276,  1,      7,20091706,0040, 78.7480,   2.5600, 3069,    599.8,   0.7290,  34.9510,2,  34.9541,2,    315.4,2,     6.09,2,    12.34,2,     0.02,2,     0.85,2,    5.364,2,    2.427,2, 1.40533525,2,   2162.8,2,   2311.6,2,  -999.00,9,  -999.00,9,   0.7007
  58GS20090528,   GIN,   276,  1,      8,20091706,0040, 78.7480,   2.5600, 3069,    500.3,   0.6280,  34.9155,2,  34.9203,2,    307.3,2,     6.26,2,    12.22,2,     0.02,2,     0.84,2, -999.000,9, -999.000,9,       -999,9,   2158.9,2,   2311.6,2,  -999.00,9,  -999.00,9,   0.6053
  58GS20090528,   GIN,   276,  1,      9,20091706,0040, 78.7480,   2.5600, 3069,    400.7,   1.2440,  34.9546,2,  34.9584,2,    310.2,2,     5.76,2,    12.01,2,     0.02,2,     0.82,2,    5.261,2,    2.334,2, 1.29661633,2,   2158.2,2,   2310.8,2,  -999.00,9,  -999.00,9,   1.2241
  58GS20090528,   GIN,   276,  1,     10,20091706,0040, 78.7480,   2.5600, 3069,    300.3,   1.5370,  34.9588,2,  34.9607,2,    306.9,2,     5.71,2,    11.86,2,     0.02,2,     0.83,2, -999.000,9, -999.000,9,       -999,9,   2156.4,2,   2311.8,2,  -999.00,9,  -999.00,9,   1.5216
  58GS20090528,   GIN,   276,  1,     11,20091706,0040, 78.7480,   2.5600, 3069,    199.8,   2.6170,  35.0425,2,  35.0428,2,    314.0,2,     5.00,2,    11.51,2,     0.09,2,     0.79,2,    5.534,2,    2.679,2, 1.89355864,2,   2154.8,2,   2318.4,2,  -999.00,9,  -999.00,9,   2.6051
  58GS20090528,   GIN,   276,  1,     12,20091706,0040, 78.7480,   2.5600, 3069,    150.1,   2.3150,  34.9849,2,  34.9871,2,    308.1,2,     5.18,2,    11.60,2,     0.06,2,     0.80,2, -999.000,9, -999.000,9,       -999,9,   2154.4,2,   2311.0,2,  -999.00,9,  -999.00,9,   2.3065
  58GS20090528,   GIN,   276,  1,     13,20091706,0040, 78.7480,   2.5600, 3069,    125.0,   2.7370,  35.0132,2,  35.0156,2,    318.6,2,     4.78,2,    10.39,2,     0.12,2,     0.74,2, -999.000,9, -999.000,9,       -999,9,   2148.7,2,   2316.9,2,  -999.00,9,  -999.00,9,   2.7295
  58GS20090528,   GIN,   276,  1,     14,20091706,0040, 78.7480,   2.5600, 3069,     99.9,   3.3070,  35.0290,2,  35.0307,2,    321.4,2,     4.49,2,     9.09,2,     0.13,2,     0.70,2,    5.506,2,    2.741,2, 2.23523607,2,   2143.9,2,   2317.9,2,     0.14,2,     0.18,2,   3.3006
  58GS20090528,   GIN,   276,  1,     15,20091706,0040, 78.7480,   2.5600, 3069,     74.9,   3.7410,  35.0562,2,  35.0556,2,    323.6,2,     4.23,2,     8.22,2,     0.12,2,     0.64,2, -999.000,9, -999.000,9,       -999,9,   2138.8,2,   2320.2,2,     0.17,2,     0.24,2,   3.7359
  58GS20090528,   GIN,   276,  1,     16,20091706,0040, 78.7480,   2.5600, 3069,     75.1,   3.7470,  35.0585,2,-999.0000,9,   -999.0,9,  -999.00,9,  -999.00,9,  -999.00,9,  -999.00,9, -999.000,9, -999.000,9,       -999,9,   -999.0,9,   -999.0,9,  -999.00,9,  -999.00,9,   3.7419
  58GS20090528,   GIN,   276,  1,     17,20091706,0040, 78.7480,   2.5600, 3069,     50.5,   3.9680,  35.0675,2,  35.0719,2,    322.0,2,     4.08,2,     7.84,2,     0.12,2,     0.61,2,    5.911,2,    2.789,2, 2.13249496,2,   2138.5,2,   2321.1,2,     0.21,2,     0.29,2,   3.9645
  58GS20090528,   GIN,   276,  1,     18,20091706,0040, 78.7480,   2.5600, 3069,     50.6,   3.9640,  35.0673,2,-999.0000,9,   -999.0,9,  -999.00,9,  -999.00,9,  -999.00,9,  -999.00,9, -999.000,9, -999.000,9,       -999,9,   -999.0,9,   -999.0,9,  -999.00,9,  -999.00,9,   3.9605
  58GS20090528,   GIN,   276,  1,     19,20091706,0040, 78.7480,   2.5600, 3069,     24.0,   3.5900,  34.9553,2,  35.9845,2,    332.9,2,     3.98,2,     6.53,2,     0.10,2,     0.59,2, -999.000,9, -999.000,9,       -999,9,   2125.7,2,   2274.6,2,     1.20,2,     0.36,2,   3.5884
  58GS20090528,   GIN,   276,  1,     20,20091706,0040, 78.7480,   2.5600, 3069,     24.2,   3.4960,  34.9175,2,-999.0000,9,   -999.0,9,  -999.00,9,  -999.00,9,  -999.00,9,  -999.00,9, -999.000,9, -999.000,9,       -999,9,   -999.0,9,   -999.0,9,  -999.00,9,  -999.00,9,   3.4944
  58GS20090528,   GIN,   276,  1,     21,20091706,0040, 78.7480,   2.5600, 3069,      9.3,   1.6010,  33.9844,2,  34.2963,2,    353.0,2,     3.55,2,     4.32,2,     0.10,2,     0.46,2,    6.289,2,    2.990,2, 2.38233297,2,   2074.6,2,   2318.2,2,     2.92,2,     0.32,2,   1.6006
  58GS20090528,   GIN,   276,  1,     22,20091706,0040, 78.7480,   2.5600, 3069,      9.5,   1.4680,  33.8587,2,-999.0000,9,   -999.0,9,  -999.00,9,  -999.00,9,  -999.00,9,  -999.00,9, -999.000,9, -999.000,9,       -999,9,   -999.0,9,   -999.0,9,  -999.00,9,  -999.00,9,   1.4676
  58GS20090528,   GIN,   276,  1,     23,20091706,0040, 78.7480,   2.5600, 3069,      4.3,   1.0770,  33.6549,2,  33.5325,2,    355.5,2,     3.33,2,     3.65,2,     0.08,2,     0.41,2, -999.000,9, -999.000,9,       -999,9,   -999.0,9,   -999.0,9,     2.61,2,     0.42,2,   1.0768
  58GS20090528,   GIN,   276,  1,     24,20091706,0040, 78.7480,   2.5600, 3069,      4.8,   0.6130,  33.3607,2,-999.0000,9,   -999.0,9,  -999.00,9,  -999.00,9,  -999.00,9,  -999.00,9, -999.000,9, -999.000,9,       -999,9,   -999.0,9,   -999.0,9,  -999.00,9,  -999.00,9,   0.6128