BOTTLE,20120326PRINUNIVRMK
EXPOCODE,SECT_ID,STNNBR,CASTNO,BTLNBR,DATE,TIME,LATITUDE,LONGITUDE,DEPTH,CTDPRS,CTDTMP,CTDSAL,CTDSAL_FLAG_W,SALNTY,SALNTY_FLAG_W,OXYGEN,OXYGEN_FLAG_W,SILCAT,SILCAT_FLAG_W,NITRAT,NITRAT_FLAG_W,NITRIT,NITRIT_FLAG_W,PHSPHT,PHSPHT_FLAG_W,CFC-11,CFC-11_FLAG_W,CFC-12,CFC-12_FLAG_W,SF6,SF6_FLAG_W,TCARBN,TCARBN_FLAG_W,ALKALI,ALKALI_FLAG_W,CHLORA,CHLORA_FLAG_W,PHAEO,PHAEO_FLAG_W,THETA
,,,,,,,,,METERS,DBAR,ITS-90,PSS-78,,PSS-78,,UMOL/KG,,UMOL/KG,,UMOL/KG,,UMOL/KG,,UMOL/KG,,PMOL/KG,,PMOL/KG,,FMOL/KG,,UMOL/KG,,UMOL/KG,,UG/KG,,UG/KG,,DEG C
  58GS20090528,   GIN,   328,  1,      1,20090207,0318, 70.0050,  16.8000, 1295,    559.7,   4.8140,  35.1203,2,  35.1175,2,    295.8,2,     5.08,2,    11.88,2,     0.02,2,     0.80,2, -999.000,9,    2.490,2, 2.43426145,2,   2154.2,2,   2318.4,2,  -999.00,9,  -999.00,9,   4.7694
  58GS20090528,   GIN,   328,  1,      2,20090207,0318, 70.0050,  16.8000, 1295,    501.5,   5.2060,  35.1390,2,  35.1393,2,    294.4,2,     5.05,2,    11.79,2,     0.01,2,     0.79,2, -999.000,9,    2.531,2, 4.01345246,2,   2151.6,2,   2319.4,2,  -999.00,9,  -999.00,9,   5.1647
  58GS20090528,   GIN,   328,  1,      3,20090207,0318, 70.0050,  16.8000, 1295,    400.6,   5.4650,  35.1505,2,  35.1492,2,    293.4,2,     5.05,2,    11.76,2,     0.01,2,     0.79,2, -999.000,9, -999.000,9,       -999,9,   2150.8,2,   2320.1,2,  -999.00,9,  -999.00,9,   5.4315
  58GS20090528,   GIN,   328,  1,      4,20090207,0318, 70.0050,  16.8000, 1295,    300.6,   6.9110,  35.2165,2,  35.2113,2,    282.9,2,     5.12,2,    11.97,2,     0.02,2,     0.79,2, -999.000,9,    2.407,2, 3.62002021,2,   2150.3,2,   2324.1,2,  -999.00,9,  -999.00,9,   6.8827
  58GS20090528,   GIN,   328,  1,      5,20090207,0318, 70.0050,  16.8000, 1295,    200.8,   7.8440,  35.1074,2,  35.1126,2,    278.6,2,     2.55,2,     7.69,2,     0.14,2,     0.61,2, -999.000,9, -999.000,9,       -999,9,   2135.6,2,   2324.3,2,  -999.00,9,  -999.00,9,   7.8239
  58GS20090528,   GIN,   328,  1,      6,20090207,0318, 70.0050,  16.8000, 1295,    150.4,   7.3290,  34.7613,2,  34.7938,2,    278.7,2,     3.27,2,     8.38,2,     0.08,2,     0.60,2, -999.000,9,    2.420,2, 2.23438786,2,   2134.1,2,   2313.8,2,  -999.00,9,  -999.00,9,   7.3146
  58GS20090528,   GIN,   328,  1,      7,20090207,0318, 70.0050,  16.8000, 1295,    125.0,   6.9320,  34.6129,2,  34.6208,2,    278.6,2,     3.49,2,     8.54,2,     0.04,2,     0.61,2, -999.000,9, -999.000,9,       -999,9,   2134.6,2,   2307.3,2,  -999.00,9,  -999.00,9,   6.9205
  58GS20090528,   GIN,   328,  1,      8,20090207,0318, 70.0050,  16.8000, 1295,    100.3,   6.7630,  34.4568,2,  34.4644,2,    279.9,2,     3.42,2,     8.21,2,     0.03,2,     0.60,2, -999.000,9,    2.482,2, 2.80643879,2,   2129.8,2,   2301.9,2,     0.06,2,     0.24,2,   6.7539
  58GS20090528,   GIN,   328,  1,      9,20090207,0318, 70.0050,  16.8000, 1295,     74.9,   6.6530,  34.3583,2,  34.3736,2,    282.6,2,     3.04,2,     7.34,2,     0.12,2,     0.56,2, -999.000,9, -999.000,9,       -999,9,   2125.0,2,   2296.7,2,     0.10,2,     0.29,2,   6.6463
  58GS20090528,   GIN,   328,  1,     10,20090207,0318, 70.0050,  16.8000, 1295,     50.3,   6.8480,  34.2878,2,  34.2916,2,    282.0,2,     2.99,2,     7.28,2,     0.05,2,     0.55,2, -999.000,9,    2.510,2, 2.76801216,2,   2124.1,2,   2296.4,2,     0.09,2,     0.30,2,   6.8434
  58GS20090528,   GIN,   328,  1,     11,20090207,0318, 70.0050,  16.8000, 1295,     29.8,   7.2100,  34.1622,2,  34.1807,2,    286.4,2,     2.48,2,     5.58,2,     0.13,2,     0.48,2, -999.000,9,    2.518,2, 2.87226879,2,   2114.5,2,   2294.7,2,     0.40,2,     0.28,2,   7.2072
  58GS20090528,   GIN,   328,  1,     12,20090207,0318, 70.0050,  16.8000, 1295,     29.8,   7.2130,  34.1616,2,  34.1764,2,    286.9,2,  -999.00,9,  -999.00,9,  -999.00,9,  -999.00,9, -999.000,9, -999.000,9,       -999,9,   -999.0,9,   -999.0,9,  -999.00,9,  -999.00,9,   7.2102
  58GS20090528,   GIN,   328,  1,     13,20090207,0318, 70.0050,  16.8000, 1295,     10.6,   9.9160,  33.9481,2,  33.9550,2,    303.2,2,     0.58,2,     0.10,2,     0.02,2,     0.12,2, -999.000,9,    2.397,2, 4.67767677,2,   2068.2,2,   2291.9,2,     0.77,2,     0.12,2,   9.9148
  58GS20090528,   GIN,   328,  1,     14,20090207,0318, 70.0050,  16.8000, 1295,     10.7,   9.9180,  33.9480,2,-999.0000,9,   -999.0,9,  -999.00,9,  -999.00,9,  -999.00,9,  -999.00,9, -999.000,9, -999.000,9,       -999,9,   -999.0,9,   -999.0,9,  -999.00,9,  -999.00,9,   9.9168
  58GS20090528,   GIN,   328,  1,     15,20090207,0318, 70.0050,  16.8000, 1295,      5.6,   9.9570,  33.9515,2,  33.9510,2,    300.8,2,     0.52,2,     0.00,2,     0.01,2,     0.08,2, -999.000,9, -999.000,9,       -999,9,   2064.9,2,   2289.3,2,     0.55,2,     0.07,2,   9.9564
  58GS20090528,   GIN,   328,  1,     16,20090207,0318, 70.0050,  16.8000, 1295,      5.6,   9.9570,  33.9518,2,-999.0000,9,   -999.0,9,  -999.00,9,  -999.00,9,  -999.00,9,  -999.00,9, -999.000,9, -999.000,9,       -999,9,   -999.0,9,   -999.0,9,  -999.00,9,  -999.00,9,   9.9564
  58GS20090528,   GIN,   329,  1,      1,20090207,0554, 70.0030,  16.6680, 1295,   1149.9,  -0.6190,  34.8988,2,  34.9000,2,    299.0,2,    10.45,2,    14.37,2,     0.00,2,     0.98,2, -999.000,9,    1.177,2, 1.86307124,2,   2166.0,2,   2305.6,2,  -999.00,9,  -999.00,9,  -0.6660
  58GS20090528,   GIN,   329,  1,      2,20090207,0554, 70.0030,  16.6680, 1295,   1001.1,  -0.4710,  34.8984,2,  34.9046,2,    299.6,2,     9.83,2,    14.36,2,     0.01,2,     0.97,2, -999.000,9,    1.506,2,  2.9975818,2,   2168.4,2,   2303.9,2,  -999.00,9,  -999.00,9,  -0.5118
  58GS20090528,   GIN,   329,  1,      3,20090207,0554, 70.0030,  16.6680, 1295,    801.0,  -0.0500,  34.9039,2,  34.9109,2,    299.9,2,     8.85,2,    14.09,2,     0.01,2,     0.96,2, -999.000,9,    1.851,2, 2.64037229,2,   2168.2,2,   2303.0,2,  -999.00,9,  -999.00,9,  -0.0840
  58GS20090528,   GIN,   329,  1,      4,20090207,0554, 70.0030,  16.6680, 1295,    601.1,   4.3720,  35.1043,2,  35.1030,2,    298.3,2,     5.18,2,    11.94,2,     0.01,2,     0.80,2, -999.000,9,    2.574,2, 2.80206334,2,   2153.2,2,   2313.1,2,  -999.00,9,  -999.00,9,   4.3260
  58GS20090528,   GIN,   329,  1,      5,20090207,0554, 70.0030,  16.6680, 1295,    501.4,   5.4520,  35.1536,2,  35.1545,2,    294.5,2,     4.94,2,    11.62,2,     0.01,2,     0.77,2, -999.000,9, -999.000,9,       -999,9,   2149.8,2,   2315.9,2,  -999.00,9,  -999.00,9,   5.4098
  58GS20090528,   GIN,   329,  1,      6,20090207,0554, 70.0030,  16.6680, 1295,    401.4,   6.0450,  35.1818,2,  35.1793,2,    290.6,2,     5.01,2,    11.82,2,     0.01,2,     0.79,2, -999.000,9,    2.453,2, 2.95371207,2,   2149.3,2,   2319.0,2,  -999.00,9,  -999.00,9,   6.0096
  58GS20090528,   GIN,   329,  1,      7,20090207,0554, 70.0030,  16.6680, 1295,    302.0,   7.2180,  35.2356,2,  35.2345,2,    280.5,2,     5.20,2,    11.98,2,     0.02,2,     0.80,2, -999.000,9,    2.306,2, 3.55617585,2,   2147.7,2,   2319.7,2,  -999.00,9,  -999.00,9,   7.1889
  58GS20090528,   GIN,   329,  1,      8,20090207,0554, 70.0030,  16.6680, 1295,    201.8,   7.6010,  35.1929,2,  35.1974,2,    277.5,2,     4.16,2,    10.63,2,     0.07,2,     0.72,2, -999.000,9,    2.315,2, 3.50175227,2,   2142.5,2,   2320.8,2,  -999.00,9,  -999.00,9,   7.5811
  58GS20090528,   GIN,   329,  1,      9,20090207,0554, 70.0030,  16.6680, 1295,    153.4,   7.6350,  34.9342,2,  34.9323,2,    279.3,2,     3.08,2,     8.22,2,     0.09,2,     0.59,2, -999.000,9,    2.284,2, 2.56784551,2,   2131.6,2,   2314.8,2,  -999.00,9,  -999.00,9,   7.6199
  58GS20090528,   GIN,   329,  1,     10,20090207,0554, 70.0030,  16.6680, 1295,    125.0,   6.8710,  34.5392,2,  34.5386,2,    279.2,2,     3.54,2,     8.48,2,     0.03,2,     0.61,2, -999.000,9, -999.000,9,       -999,9,   2132.2,2,   2300.3,2,  -999.00,9,  -999.00,9,   6.8596
  58GS20090528,   GIN,   329,  1,     11,20090207,0554, 70.0030,  16.6680, 1295,    100.7,   6.8120,  34.3649,2,  34.3790,2,    281.0,2,     3.14,2,     7.70,2,     0.03,2,     0.57,2, -999.000,9,    2.438,2, 3.47587557,2,   2127.2,2,   2294.8,2,     0.09,2,     0.31,2,   6.8029
  58GS20090528,   GIN,   329,  1,     12,20090207,0554, 70.0030,  16.6680, 1295,    100.6,   6.8190,  34.3647,2,  34.3695,2,    281.4,2,  -999.00,9,  -999.00,9,  -999.00,9,  -999.00,9, -999.000,9,    2.342,2, 2.27148318,2,   -999.0,9,   -999.0,9,  -999.00,9,  -999.00,9,   6.8099
  58GS20090528,   GIN,   329,  1,     13,20090207,0554, 70.0030,  16.6680, 1295,     75.3,   6.9690,  34.2394,2,  34.2457,2,    283.1,2,  -999.00,9,  -999.00,9,  -999.00,9,  -999.00,9, -999.000,9, -999.000,9,       -999,9,   2121.0,2,   2290.7,2,     0.17,2,     0.28,2,   6.9621
  58GS20090528,   GIN,   329,  1,     14,20090207,0554, 70.0030,  16.6680, 1295,     75.3,   6.9700,  34.2381,2,-999.0000,9,   -999.0,9,  -999.00,9,  -999.00,9,  -999.00,9,  -999.00,9, -999.000,9, -999.000,9,       -999,9,   -999.0,9,   -999.0,9,  -999.00,9,  -999.00,9,   6.9631
  58GS20090528,   GIN,   329,  1,     15,20090207,0554, 70.0030,  16.6680, 1295,     50.7,   7.1770,  34.2105,2,-999.0000,9,   -999.0,9,  -999.00,9,  -999.00,9,  -999.00,9,  -999.00,9, -999.000,9, -999.000,9,       -999,9,   2114.6,2,   2289.0,2,  -999.00,9,  -999.00,9,   7.1723
  58GS20090528,   GIN,   329,  1,     16,20090207,0554, 70.0030,  16.6680, 1295,     50.5,   7.1710,  34.2126,2,  34.2050,2,    285.7,2,     2.43,2,     5.53,2,     0.15,2,     0.47,2, -999.000,9,    2.336,2, 2.44583204,2,   -999.0,9,   -999.0,9,     0.32,2,     0.28,2,   7.1663
  58GS20090528,   GIN,   329,  1,     17,20090207,0554, 70.0030,  16.6680, 1295,     30.7,   8.4700,  34.0257,2,  34.0605,2,    300.4,2,     1.12,2,     1.92,2,     0.09,2,     0.24,2, -999.000,9,    2.318,2, 2.16614799,2,   2087.4,2,   2288.6,2,     1.50,2,     0.26,2,   8.4669
  58GS20090528,   GIN,   329,  1,     18,20090207,0554, 70.0030,  16.6680, 1295,      9.6,   9.9250,  33.9470,2,  33.9475,2,    301.1,2,     0.58,2,     0.00,2,     0.01,2,     0.08,2, -999.000,9,    2.197,2, 1.99047801,2,   2065.9,2,   2284.6,2,     0.72,2,     0.08,2,   9.9239
  58GS20090528,   GIN,   329,  1,     19,20090207,0554, 70.0030,  16.6680, 1295,      5.0,   9.9280,  33.9466,2,  33.9481,2,    300.8,2,  -999.00,9,  -999.00,9,  -999.00,9,  -999.00,9, -999.000,9, -999.000,9,       -999,9,   2064.5,2,   2286.1,2,     0.73,2,     0.08,2,   9.9274
  58GS20090528,   GIN,   330,  1,      1,20090207,0851, 70.0060,  16.2590, 1960,   1949.6,  -0.8280,  34.9050,2,  34.9149,2,    295.4,2,    13.12,2,    14.99,2,     0.01,2,     1.01,2, -999.000,9,    0.456,2,0.524376069,2,   2165.7,2,   2308.8,2,  -999.00,9,  -999.00,9,  -0.9183
  58GS20090528,   GIN,   330,  1,      2,20090207,0851, 70.0060,  16.2590, 1960,   1500.0,  -0.7570,  34.9033,2,  34.9092,2,    297.2,2,    11.78,2,    14.71,2,     0.01,2,     1.00,2, -999.000,9,    0.713,6, 1.37719205,6,   2165.8,2,   2308.8,2,  -999.00,9,  -999.00,9,  -0.8214
  58GS20090528,   GIN,   330,  1,      3,20090207,0851, 70.0060,  16.2590, 1960,   1200.3,  -0.6850,  34.9004,2,  34.9102,2,    298.3,2,    10.82,2,    14.53,2,     0.01,2,     0.97,2, -999.000,9,    0.978,2, 1.83108753,2,   2165.6,2,   -999.0,9,  -999.00,9,  -999.00,9,  -0.7340
  58GS20090528,   GIN,   330,  1,      4,20090207,0851, 70.0060,  16.2590, 1960,   1000.0,  -0.5250,  34.8992,2,  34.9092,2,    298.7,2,    10.27,2,    14.42,2,     0.01,2,     0.97,2, -999.000,9,    1.244,2, 1.38859241,2,   2167.9,2,   2307.6,2,  -999.00,9,  -999.00,9,  -0.5654
  58GS20090528,   GIN,   330,  1,      5,20090207,0851, 70.0060,  16.2590, 1960,    799.7,   0.4350,  34.9176,2,  34.9261,2,    300.1,2,     8.18,2,    13.92,2,     0.02,2,     0.94,2, -999.000,9,    1.947,2, 1.84154837,2,   2166.9,2,   -999.0,9,  -999.00,9,  -999.00,9,   0.3978
  58GS20090528,   GIN,   330,  1,      6,20090207,0851, 70.0060,  16.2590, 1960,    599.8,   4.1780,  35.1019,2,  35.0996,2,    300.3,2,     5.02,2,    11.91,2,     0.02,2,     0.80,2, -999.000,9,    2.551,2, 2.60899697,2,   2152.3,2,   2315.6,2,  -999.00,9,  -999.00,9,   4.1330
  58GS20090528,   GIN,   330,  1,      7,20090207,0851, 70.0060,  16.2590, 1960,    500.6,   5.0270,  35.1347,2,  35.1335,2,    296.8,2,     4.97,2,    11.72,2,     0.02,2,     0.78,2, -999.000,9, -999.000,9,       -999,9,   2151.7,2,   -999.0,9,  -999.00,9,  -999.00,9,   4.9865
  58GS20090528,   GIN,   330,  1,      8,20090207,0851, 70.0060,  16.2590, 1960,    400.4,   5.8320,  35.1702,2,  35.1748,2,    291.8,2,     5.02,2,    11.76,2,     0.02,2,     0.78,2, -999.000,9,    2.368,2,  2.0089649,2,   2149.8,2,   2322.0,2,  -999.00,9,  -999.00,9,   5.7974
  58GS20090528,   GIN,   330,  1,      9,20090207,0851, 70.0060,  16.2590, 1960,    300.4,   6.9320,  35.2194,2,  35.2219,2,    282.6,2,     5.10,2,    11.95,2,     0.02,2,     0.79,2, -999.000,9, -999.000,9,       -999,9,   2147.2,2,   -999.0,9,  -999.00,9,  -999.00,9,   6.9037
  58GS20090528,   GIN,   330,  1,     10,20090207,0851, 70.0060,  16.2590, 1960,    199.8,   7.6350,  35.2392,2,  35.2400,2,    271.9,2,     4.59,2,    11.85,2,     0.06,2,     0.78,2, -999.000,9,    2.234,2, 2.23146279,2,   2147.3,2,   2323.9,2,  -999.00,9,  -999.00,9,   7.6152
  58GS20090528,   GIN,   330,  1,     11,20090207,0851, 70.0060,  16.2590, 1960,    199.9,   7.6350,  35.2388,2,  35.2392,2,    272.1,2,  -999.00,9,  -999.00,9,  -999.00,9,  -999.00,9, -999.000,9, -999.000,9,       -999,9,   2147.3,2,   2324.6,2,  -999.00,9,  -999.00,9,   7.6152
  58GS20090528,   GIN,   330,  1,     12,20090207,0851, 70.0060,  16.2590, 1960,    148.6,   7.7150,  35.0417,2,  35.0435,2,    277.8,2,     3.54,2,     9.43,2,     0.11,2,     0.65,2, -999.000,9, -999.000,9,       -999,9,   2135.0,2,   2321.6,2,  -999.00,9,  -999.00,9,   7.7003
  58GS20090528,   GIN,   330,  1,     13,20090207,0851, 70.0060,  16.2590, 1960,    148.6,   7.7120,  35.0419,2,-999.0000,9,   -999.0,9,  -999.00,9,  -999.00,9,  -999.00,9,  -999.00,9, -999.000,9, -999.000,9,       -999,9,   -999.0,9,   -999.0,9,  -999.00,9,  -999.00,9,   7.6973
  58GS20090528,   GIN,   330,  1,     14,20090207,0851, 70.0060,  16.2590, 1960,    124.2,   7.2670,  34.8086,2,  34.8117,2,    277.1,2,     3.81,2,     9.35,2,     0.05,2,     0.65,2, -999.000,9, -999.000,9,       -999,9,   2136.5,2,   2311.4,2,  -999.00,9,  -999.00,9,   7.2552
  58GS20090528,   GIN,   330,  1,     15,20090207,0851, 70.0060,  16.2590, 1960,    123.9,   7.2580,  34.8051,2,-999.0000,9,   -999.0,9,  -999.00,9,  -999.00,9,  -999.00,9,  -999.00,9, -999.000,9, -999.000,9,       -999,9,   -999.0,9,   -999.0,9,  -999.00,9,  -999.00,9,   7.2462
  58GS20090528,   GIN,   330,  1,     16,20090207,0851, 70.0060,  16.2590, 1960,    100.1,   6.9620,  34.6087,2,  34.6131,2,    278.0,2,     3.68,2,     8.79,2,     0.04,2,     0.62,2, -999.000,9,    2.354,2, 2.99406785,2,   2132.5,2,   2307.4,2,     0.04,2,     0.25,2,   6.9528
  58GS20090528,   GIN,   330,  1,     17,20090207,0851, 70.0060,  16.2590, 1960,     73.9,   6.5050,  34.3368,2,  34.3443,2,    283.1,2,     2.93,2,     7.15,2,     0.14,2,     0.55,2, -999.000,9, -999.000,9,       -999,9,   2122.9,2,   2296.0,2,     0.08,2,     0.25,2,   6.4985
  58GS20090528,   GIN,   330,  1,     18,20090207,0851, 70.0060,  16.2590, 1960,     50.2,   6.9130,  34.2484,2,  34.2591,2,    282.4,2,     2.91,2,     6.90,2,     0.14,2,     0.54,2, -999.000,9,    2.365,2, 2.84957915,2,   2119.7,2,   2294.4,2,     0.11,2,     0.21,2,   6.9084
  58GS20090528,   GIN,   330,  1,     19,20090207,0851, 70.0060,  16.2590, 1960,     29.9,   8.2300,  34.1435,2,  34.1589,2,    293.5,2,     1.29,2,     2.85,2,     0.09,2,     0.26,2, -999.000,9,    2.346,2, 2.85234403,2,   2096.1,2,   2295.0,2,     1.61,2,     0.85,2,   8.2270
  58GS20090528,   GIN,   330,  1,     20,20090207,0851, 70.0060,  16.2590, 1960,      9.5,  10.1690,  33.9352,2,  33.9425,2,    298.3,2,     0.47,2,     0.00,2,     0.00,2,     0.06,2, -999.000,9,    2.238,2, 2.37141993,2,   2062.9,2,   2286.4,2,     0.50,2,     0.07,2,  10.1679
  58GS20090528,   GIN,   330,  1,     21,20090207,0851, 70.0060,  16.2590, 1960,      5.2,  10.1890,  33.9373,2,  33.9386,2,    297.3,2,     0.50,2,     0.00,2,     0.00,2,     0.06,2, -999.000,9, -999.000,9,       -999,9,   2062.9,2,   2287.8,2,     0.52,2,     0.08,2,  10.1884