BOTTLE,20120326PRINUNIVRMK
EXPOCODE,SECT_ID,STNNBR,CASTNO,BTLNBR,DATE,TIME,LATITUDE,LONGITUDE,DEPTH,CTDPRS,CTDTMP,CTDSAL,CTDSAL_FLAG_W,SALNTY,SALNTY_FLAG_W,OXYGEN,OXYGEN_FLAG_W,SILCAT,SILCAT_FLAG_W,NITRAT,NITRAT_FLAG_W,NITRIT,NITRIT_FLAG_W,PHSPHT,PHSPHT_FLAG_W,CFC-11,CFC-11_FLAG_W,CFC-12,CFC-12_FLAG_W,SF6,SF6_FLAG_W,TCARBN,TCARBN_FLAG_W,ALKALI,ALKALI_FLAG_W,CHLORA,CHLORA_FLAG_W,PHAEO,PHAEO_FLAG_W,THETA
,,,,,,,,,METERS,DBAR,ITS-90,PSS-78,,PSS-78,,UMOL/KG,,UMOL/KG,,UMOL/KG,,UMOL/KG,,UMOL/KG,,PMOL/KG,,PMOL/KG,,FMOL/KG,,UMOL/KG,,UMOL/KG,,UG/KG,,UG/KG,,DEG C
  58GS20090528,   GIN,   239,  1,      1,20090706,0933, 75.0000,   1.0000, 3710,   3699.7,  -0.7850,  34.9098,2,-999.0000,9,    299.9,2,    13.14,2,    14.78,2,     0.02,2,     1.01,2, -999.000,9, -999.000,9,       -999,9,   2159.3,2,   -999.0,9,  -999.00,9,  -999.00,9,  -1.0120
  58GS20090528,   GIN,   239,  1,      2,20090706,0933, 75.0000,   1.0000, 3710,   2999.8,  -0.7990,  34.9123,2,-999.0000,9,    299.0,2,    12.53,2,    14.60,2,     0.02,2,     1.02,2, -999.000,9, -999.000,9,       -999,9,   2159.3,2,   -999.0,9,  -999.00,9,  -999.00,9,  -0.9656
  58GS20090528,   GIN,   239,  1,      3,20090706,0933, 75.0000,   1.0000, 3710,   2500.3,  -0.7790,  34.9115,2,-999.0000,9,    298.2,2,    12.06,2,    14.71,2,     0.03,2,     1.01,2, -999.000,9, -999.000,9,       -999,9,   2159.7,2,   -999.0,9,  -999.00,9,  -999.00,9,  -0.9077
  58GS20090528,   GIN,   239,  1,      4,20090706,0933, 75.0000,   1.0000, 3710,   2000.0,  -0.7070,  34.9077,2,-999.0000,9,    301.0,2,    10.78,2,    14.31,2,     0.02,2,     1.00,2, -999.000,9, -999.000,9,       -999,9,   2161.2,2,   -999.0,9,  -999.00,9,  -999.00,9,  -0.8024
  58GS20090528,   GIN,   239,  1,      5,20090706,0933, 75.0000,   1.0000, 3710,   1500.3,  -0.6010,  34.9023,2,-999.0000,9,    331.4,2,     6.85,2,    12.68,2,     0.04,2,  -999.00,9, -999.000,9, -999.000,9,       -999,9,   2165.0,2,   -999.0,9,  -999.00,9,  -999.00,9,  -0.6673
  58GS20090528,   GIN,   239,  1,      6,20090706,0933, 75.0000,   1.0000, 3710,   1200.1,  -0.6180,  34.9009,2,-999.0000,9,   -999.0,9,     6.72,2,    12.60,2,     0.02,2,     0.88,2, -999.000,9, -999.000,9,       -999,9,   -999.0,9,   -999.0,9,  -999.00,9,  -999.00,9,  -0.6676
  58GS20090528,   GIN,   239,  1,      7,20090706,0933, 75.0000,   1.0000, 3710,   1000.4,  -0.6230,  34.9009,2,-999.0000,9,    332.3,2,     6.73,2,    12.63,2,     0.03,2,     0.88,2, -999.000,9, -999.000,9,       -999,9,   2161.8,2,   -999.0,9,  -999.00,9,  -999.00,9,  -0.6625
  58GS20090528,   GIN,   239,  1,      8,20090706,0933, 75.0000,   1.0000, 3710,    799.6,  -0.6240,  34.9010,2,-999.0000,9,    332.0,2,     6.72,2,    12.58,2,     0.02,2,     0.88,2, -999.000,9, -999.000,9,       -999,9,   2160.9,2,   -999.0,9,  -999.00,9,  -999.00,9,  -0.6541
  58GS20090528,   GIN,   239,  1,      9,20090706,0933, 75.0000,   1.0000, 3710,    600.1,  -0.6110,  34.9018,2,-999.0000,9,    331.3,2,     6.69,2,    12.51,2,     0.02,2,     0.87,2, -999.000,9, -999.000,9,       -999,9,   2160.4,2,   -999.0,9,  -999.00,9,  -999.00,9,  -0.6326
  58GS20090528,   GIN,   239,  1,     10,20090706,0933, 75.0000,   1.0000, 3710,    600.4,  -0.6110,  34.9018,2,-999.0000,9,   -999.0,9,  -999.00,9,  -999.00,9,  -999.00,9,  -999.00,9, -999.000,9, -999.000,9,       -999,9,   -999.0,9,   -999.0,9,  -999.00,9,  -999.00,9,  -0.6326
  58GS20090528,   GIN,   239,  1,     11,20090706,0933, 75.0000,   1.0000, 3710,    500.8,  -0.5990,  34.9023,2,-999.0000,9,    331.1,2,     6.73,2,    12.54,2,     0.03,2,     0.88,2, -999.000,9, -999.000,9,       -999,9,   2161.7,2,   -999.0,9,  -999.00,9,  -999.00,9,  -0.6166
  58GS20090528,   GIN,   239,  1,     12,20090706,0933, 75.0000,   1.0000, 3710,    400.8,  -0.5740,  34.9030,2,-999.0000,9,    330.0,2,     6.73,2,    12.35,2,     0.05,2,     0.90,2, -999.000,9, -999.000,9,       -999,9,   2163.1,2,   -999.0,9,  -999.00,9,  -999.00,9,  -0.5878
  58GS20090528,   GIN,   239,  1,     13,20090706,0933, 75.0000,   1.0000, 3710,    300.0,  -0.5210,  34.9048,2,-999.0000,9,    328.8,2,     6.79,2,    12.64,2,     0.04,2,     0.90,2, -999.000,9, -999.000,9,       -999,9,   2161.7,2,   -999.0,9,  -999.00,9,  -999.00,9,  -0.5312
  58GS20090528,   GIN,   239,  1,     14,20090706,0933, 75.0000,   1.0000, 3710,    199.8,  -0.4330,  34.9069,2,-999.0000,9,    329.4,2,     6.62,2,    12.43,2,     0.04,2,     0.87,2, -999.000,9, -999.000,9,       -999,9,   2161.5,2,   -999.0,9,  -999.00,9,  -999.00,9,  -0.4398
  58GS20090528,   GIN,   239,  1,     15,20090706,0933, 75.0000,   1.0000, 3710,    149.6,  -0.3480,  34.9096,2,-999.0000,9,    328.6,2,     6.58,2,    12.35,2,     0.04,2,     0.88,2, -999.000,9, -999.000,9,       -999,9,   2158.4,2,   -999.0,9,  -999.00,9,  -999.00,9,  -0.3531
  58GS20090528,   GIN,   239,  1,     16,20090706,0933, 75.0000,   1.0000, 3710,     99.6,  -0.3220,  34.9003,2,-999.0000,9,    335.6,2,     6.43,2,    11.89,2,     0.04,2,     0.85,2, -999.000,9, -999.000,9,       -999,9,   2158.9,2,   -999.0,9,     0.12,2,     0.49,2,  -0.3254
  58GS20090528,   GIN,   239,  1,     17,20090706,0933, 75.0000,   1.0000, 3710,     76.0,  -0.2570,  34.8969,2,-999.0000,9,    339.7,2,     6.01,2,    11.24,2,     0.04,2,     0.83,2, -999.000,9, -999.000,9,       -999,9,   2158.7,2,   -999.0,9,     0.30,2,     0.58,2,  -0.2596
  58GS20090528,   GIN,   239,  1,     18,20090706,0933, 75.0000,   1.0000, 3710,     50.2,   0.0570,  34.8928,2,-999.0000,9,    355.2,2,     3.44,2,     9.12,2,     0.04,2,     0.72,2, -999.000,9, -999.000,9,       -999,9,   2147.0,2,   -999.0,9,     0.87,2,     0.61,2,   0.0552
  58GS20090528,   GIN,   239,  1,     19,20090706,0933, 75.0000,   1.0000, 3710,     30.0,   1.0290,  34.8716,2,-999.0000,9,    370.6,2,     0.41,2,     5.75,2,     0.06,2,     0.49,2, -999.000,9, -999.000,9,       -999,9,   2119.8,2,   -999.0,9,     0.93,2,     0.42,2,   1.0277
  58GS20090528,   GIN,   239,  1,     20,20090706,0933, 75.0000,   1.0000, 3710,     20.5,   1.0940,  34.8786,2,-999.0000,9,   -999.0,9,     0.28,2,     5.65,2,     0.06,2,     0.47,2, -999.000,9, -999.000,9,       -999,9,   -999.0,9,   -999.0,9,     0.69,2,     0.29,2,   1.0931
  58GS20090528,   GIN,   239,  1,     21,20090706,0933, 75.0000,   1.0000, 3710,     20.5,   1.0950,  34.8794,2,-999.0000,9,   -999.0,9,  -999.00,9,  -999.00,9,  -999.00,9,  -999.00,9, -999.000,9, -999.000,9,       -999,9,   -999.0,9,   -999.0,9,  -999.00,9,  -999.00,9,   1.0941
  58GS20090528,   GIN,   239,  1,     22,20090706,0933, 75.0000,   1.0000, 3710,     10.1,   1.2550,  34.8787,2,-999.0000,9,   -999.0,9,     0.29,2,     5.51,2,     0.06,2,     0.47,2, -999.000,9, -999.000,9,       -999,9,   -999.0,9,   -999.0,9,     0.61,2,     0.25,2,   1.2545
  58GS20090528,   GIN,   239,  1,     23,20090706,0933, 75.0000,   1.0000, 3710,      5.0,   1.2870,  34.8783,2,-999.0000,9,    367.0,2,     0.29,2,     5.48,2,     0.06,2,     0.47,2, -999.000,9, -999.000,9,       -999,9,   2119.5,2,   -999.0,9,     0.58,2,     0.21,2,   1.2868
  58GS20090528,   GIN,   239,  1,     24,20090706,0933, 75.0000,   1.0000, 3710,      4.8,   1.2850,  34.8787,2,-999.0000,9,   -999.0,9,  -999.00,9,  -999.00,9,  -999.00,9,  -999.00,9, -999.000,9, -999.000,9,       -999,9,   -999.0,9,   -999.0,9,  -999.00,9,  -999.00,9,   1.2848
  58GS20090528,   GIN,   240,  1,      1,20090706,1530, 75.0000,   2.0000, 2736,   2726.2,  -0.8030,  34.9117,2,  34.9101,2,    298.2,2,    12.66,2,    14.79,2,     0.01,2,     1.01,2,    0.835,2,    0.431,2,       -999,9,   2159.0,2,   2308.3,2,  -999.00,9,  -999.00,9,  -0.9480
  58GS20090528,   GIN,   240,  1,      2,20090706,1530, 75.0000,   2.0000, 2736,   2500.4,  -0.8030,  34.9115,2,  34.9083,2,    298.2,2,    12.30,2,    14.70,2,     0.01,2,     1.00,2,    0.910,2,    0.452,2,       -999,9,   2156.6,2,   2306.4,2,  -999.00,9,  -999.00,9,  -0.9312
  58GS20090528,   GIN,   240,  1,      3,20090706,1530, 75.0000,   2.0000, 2736,   2000.2,  -0.7440,  34.9084,2,  34.8991,2,    299.8,2,    11.08,2,    14.39,2,     0.01,2,     0.98,2,    1.586,2,    0.763,2,       -999,9,   2158.2,2,   2306.3,2,  -999.00,9,  -999.00,9,  -0.8388
  58GS20090528,   GIN,   240,  1,      4,20090706,1530, 75.0000,   2.0000, 2736,   1500.5,  -0.6250,  34.8992,2,  34.8940,2,    330.3,2,     6.90,2,    12.73,2,     0.01,2,     0.88,2,    5.798,2,    2.929,2,       -999,9,   2160.7,2,   2314.9,2,  -999.00,9,  -999.00,9,  -0.6910
  58GS20090528,   GIN,   240,  1,      5,20090706,1530, 75.0000,   2.0000, 2736,   1199.8,  -0.6170,  34.9002,2,  34.8919,2,   -999.0,9,     6.64,2,    12.54,2,     0.01,2,     0.86,2,    6.048,2,    3.052,2,       -999,9,   -999.0,9,   -999.0,9,  -999.00,9,  -999.00,9,  -0.6666
  58GS20090528,   GIN,   240,  1,      6,20090706,1530, 75.0000,   2.0000, 2736,   1000.3,  -0.6240,  34.9000,2,  34.8972,2,    332.2,2,     6.67,2,    12.61,2,     0.02,2,     0.87,2,    6.052,2,    3.037,2,       -999,9,   2159.2,2,   2304.6,2,  -999.00,9,  -999.00,9,  -0.6635
  58GS20090528,   GIN,   240,  1,      7,20090706,1530, 75.0000,   2.0000, 2736,    800.4,  -0.6160,  34.9002,2,  34.8935,2,    331.7,2,     6.70,2,    12.55,2,     0.01,2,     0.87,2,    6.004,2,    2.989,2,       -999,9,   2159.1,2,   2302.2,2,  -999.00,9,  -999.00,9,  -0.6462
  58GS20090528,   GIN,   240,  1,      8,20090706,1530, 75.0000,   2.0000, 2736,    600.3,  -0.6420,  34.8964,2,  34.8910,2,    331.6,2,     6.71,2,    12.64,2,     0.02,2,     0.87,2,    6.008,2,    2.972,2,       -999,9,   2161.5,2,   2303.0,2,  -999.00,9,  -999.00,9,  -0.6634
  58GS20090528,   GIN,   240,  1,      9,20090706,1530, 75.0000,   2.0000, 2736,    499.6,  -0.6410,  34.8950,2,  34.8951,2,    331.8,2,     6.70,2,    12.62,2,     0.02,2,     0.88,2,    6.032,2,    2.996,2,       -999,9,   2160.8,2,   2309.5,2,  -999.00,9,  -999.00,9,  -0.6584
  58GS20090528,   GIN,   240,  1,     10,20090706,1530, 75.0000,   2.0000, 2736,    399.8,  -0.4850,  34.9041,2,  34.9101,2,    330.3,2,     6.56,2,    12.57,2,     0.01,2,     0.86,2,    6.023,2,    3.006,2,       -999,9,   2160.7,2,   2309.9,2,  -999.00,9,  -999.00,9,  -0.4991
  58GS20090528,   GIN,   240,  1,     11,20090706,1530, 75.0000,   2.0000, 2736,    299.9,  -0.5470,  34.8968,2,  34.8928,2,    329.2,2,     6.64,2,    12.57,2,     0.02,2,     0.87,2,    5.968,2,    2.982,2,       -999,9,   2158.9,2,   2315.9,2,  -999.00,9,  -999.00,9,  -0.5571
  58GS20090528,   GIN,   240,  1,     12,20090706,1530, 75.0000,   2.0000, 2736,    199.8,  -0.4900,  34.8939,2,  34.8737,2,    328.4,2,     6.60,2,    12.57,2,     0.03,2,     0.87,2,    5.925,2,    2.884,2,       -999,9,   2159.5,2,   2308.3,2,  -999.00,9,  -999.00,9,  -0.4966
  58GS20090528,   GIN,   240,  1,     13,20090706,1530, 75.0000,   2.0000, 2736,    149.4,  -0.4220,  34.8934,2,  34.8924,2,    329.0,2,     6.47,2,    12.47,2,     0.03,2,     0.86,2,    5.808,2,    2.914,2,       -999,9,   2160.3,2,   2309.5,2,  -999.00,9,  -999.00,9,  -0.4270
  58GS20090528,   GIN,   240,  1,     14,20090706,1530, 75.0000,   2.0000, 2736,     99.8,  -0.3900,  34.8910,2,  34.8892,2,    332.6,2,     6.26,2,    12.17,2,     0.05,2,     0.85,2,    6.068,2,    3.015,2,       -999,9,   2158.6,2,   2310.2,2,     0.03,2,     0.06,2,  -0.3933
  58GS20090528,   GIN,   240,  1,     15,20090706,1530, 75.0000,   2.0000, 2736,     74.0,  -0.3450,  34.8874,2,  34.8898,2,    331.3,2,     6.22,2,    12.20,2,     0.06,2,     0.84,2,    6.094,2,    2.923,2,       -999,9,   2159.1,2,   2309.5,2,     0.04,2,     0.07,2,  -0.3475
  58GS20090528,   GIN,   240,  1,     16,20090706,1530, 75.0000,   2.0000, 2736,     50.1,   0.1210,  34.9033,2,  34.8963,2,    328.9,2,     5.96,2,    12.04,2,     0.06,2,     0.84,2,    6.127,2,    3.083,2,       -999,9,   2157.2,2,   2323.3,2,     0.09,2,     0.15,2,   0.1191
  58GS20090528,   GIN,   240,  1,     17,20090706,1530, 75.0000,   2.0000, 2736,     30.0,   1.0160,  34.9077,2,  34.9030,2,    350.7,2,     4.16,2,     9.45,2,     0.06,2,     0.70,2, -999.000,9, -999.000,9,       -999,9,   2146.7,2,   2332.7,2,     0.74,2,     0.36,2,   1.0147
  58GS20090528,   GIN,   240,  1,     18,20090706,1530, 75.0000,   2.0000, 2736,     20.4,   1.4640,  34.9288,2,  34.9238,2,   -999.0,9,     3.82,2,     8.53,2,     0.07,2,     0.63,2, -999.000,9, -999.000,9,       -999,9,   -999.0,9,   -999.0,9,     0.67,2,     0.47,2,   1.4630
  58GS20090528,   GIN,   240,  1,     19,20090706,1530, 75.0000,   2.0000, 2736,      9.3,   1.5870,  34.9340,2,  34.9329,2,   -999.0,9,     3.94,2,     8.48,2,     0.07,2,     0.63,2, -999.000,9, -999.000,9,       -999,9,   -999.0,9,   -999.0,9,     0.50,2,     0.33,2,   1.5865
  58GS20090528,   GIN,   240,  1,     20,20090706,1530, 75.0000,   2.0000, 2736,      4.5,   1.6490,  34.9335,2,  34.9272,2,    351.5,2,     3.96,2,     8.46,2,     0.07,2,     0.62,2,    6.796,2,    3.445,2,       -999,9,   2140.3,2,   2319.4,2,     0.68,2,     0.36,2,   1.6488
  58GS20090528,   GIN,   241,  1,      1,20090706,2051, 75.0000,   2.9930, 2824,   2462.6,  -0.8350,  34.9109,2,  34.9147,2,    298.2,2,    12.57,2,    14.76,2,     0.02,2,     1.01,2, -999.000,9, -999.000,9,       -999,9,   2160.4,2,   -999.0,9,  -999.00,9,  -999.00,9,  -0.9599
  58GS20090528,   GIN,   241,  1,      2,20090706,2051, 75.0000,   2.9930, 2824,   2000.0,  -0.8220,  34.9102,2,  34.9135,2,    298.0,2,    12.02,2,    14.62,2,     0.01,2,     1.01,2, -999.000,9, -999.000,9,       -999,9,   2158.6,2,   -999.0,9,  -999.00,9,  -999.00,9,  -0.9157
  58GS20090528,   GIN,   241,  1,      3,20090706,2051, 75.0000,   2.9930, 2824,   1500.2,  -0.7390,  34.9067,2,  34.9124,2,    300.2,2,    10.80,2,    14.35,2,     0.01,2,     0.99,2, -999.000,9, -999.000,9,       -999,9,   2159.2,2,   -999.0,9,  -999.00,9,  -999.00,9,  -0.8036
  58GS20090528,   GIN,   241,  1,      4,20090706,2051, 75.0000,   2.9930, 2824,   1200.3,  -0.6800,  34.8993,2,  34.9055,2,   -999.0,9,     9.23,2,    13.88,2,     0.01,2,     0.95,2, -999.000,9, -999.000,9,       -999,9,   -999.0,9,   -999.0,9,  -999.00,9,  -999.00,9,  -0.7291
  58GS20090528,   GIN,   241,  1,      5,20090706,2051, 75.0000,   2.9930, 2824,   1000.0,  -0.6270,  34.8975,2,  34.9020,2,    328.6,2,     6.91,2,    12.70,2,     0.01,2,     0.88,2, -999.000,9, -999.000,9,       -999,9,   2159.9,2,   -999.0,9,  -999.00,9,  -999.00,9,  -0.6665
  58GS20090528,   GIN,   241,  1,      6,20090706,2051, 75.0000,   2.9930, 2824,    799.9,  -0.6050,  34.8966,2,  34.9003,2,    327.6,2,     6.95,2,    12.76,2,     0.02,2,     0.89,2, -999.000,9, -999.000,9,       -999,9,   2163.7,2,   -999.0,9,  -999.00,9,  -999.00,9,  -0.6353
  58GS20090528,   GIN,   241,  1,      7,20090706,2051, 75.0000,   2.9930, 2824,    600.0,  -0.5740,  34.8954,2,  34.8986,2,    327.9,2,     6.78,2,    12.76,2,     0.03,2,     0.91,2, -999.000,9, -999.000,9,       -999,9,   2162.4,2,   -999.0,9,  -999.00,9,  -999.00,9,  -0.5958
  58GS20090528,   GIN,   241,  1,      8,20090706,2051, 75.0000,   2.9930, 2824,    499.8,  -0.5340,  34.8965,2,  34.8977,2,    324.7,2,     6.89,2,    12.88,2,     0.02,2,     0.90,2, -999.000,9, -999.000,9,       -999,9,   2161.4,2,   -999.0,9,  -999.00,9,  -999.00,9,  -0.5518
  58GS20090528,   GIN,   241,  1,      9,20090706,2051, 75.0000,   2.9930, 2824,    399.5,  -0.5180,  34.8946,2,  34.8965,2,    325.8,2,     6.80,2,    12.72,2,     0.02,2,     0.88,2, -999.000,9, -999.000,9,       -999,9,   2161.4,2,   -999.0,9,  -999.00,9,  -999.00,9,  -0.5319
  58GS20090528,   GIN,   241,  1,     10,20090706,2051, 75.0000,   2.9930, 2824,    299.2,  -0.5110,  34.8911,2,  34.8927,2,    326.5,2,     6.60,2,    12.52,2,     0.02,2,     0.86,2, -999.000,9, -999.000,9,       -999,9,   2161.5,2,   -999.0,9,  -999.00,9,  -999.00,9,  -0.5212
  58GS20090528,   GIN,   241,  1,     11,20090706,2051, 75.0000,   2.9930, 2824,    199.6,  -0.6320,  34.8768,2,  34.8811,2,    334.4,2,     6.26,2,    12.16,2,     0.06,2,     0.84,2, -999.000,9, -999.000,9,       -999,9,   2158.9,2,   -999.0,9,  -999.00,9,  -999.00,9,  -0.6384
  58GS20090528,   GIN,   241,  1,     12,20090706,2051, 75.0000,   2.9930, 2824,    148.9,  -0.5940,  34.8730,2,  34.8738,2,    334.7,2,     6.16,2,    12.00,2,     0.06,2,     0.83,2, -999.000,9, -999.000,9,       -999,9,   2161.5,2,   -999.0,9,  -999.00,9,  -999.00,9,  -0.5987
  58GS20090528,   GIN,   241,  1,     13,20090706,2051, 75.0000,   2.9930, 2824,     99.5,  -0.6250,  34.8634,2,  34.8724,2,    339.7,2,     5.87,2,    11.60,2,     0.08,2,     0.81,2, -999.000,9, -999.000,9,       -999,9,   2160.4,2,   -999.0,9,     0.06,2,     0.12,2,  -0.6281
  58GS20090528,   GIN,   241,  1,     14,20090706,2051, 75.0000,   2.9930, 2824,     74.3,  -0.5780,  34.8594,2,  34.8678,2,    346.7,2,     5.11,2,    10.85,2,     0.07,2,     0.77,2, -999.000,9, -999.000,9,       -999,9,   2157.1,2,   -999.0,9,     0.16,2,     0.22,2,  -0.5803
  58GS20090528,   GIN,   241,  1,     15,20090706,2051, 75.0000,   2.9930, 2824,     48.8,  -0.2190,  34.8524,2,  34.8642,2,    355.1,2,     4.59,2,     9.75,2,     0.05,2,     0.71,2, -999.000,9, -999.000,9,       -999,9,   2152.1,2,   -999.0,9,     0.49,2,     1.02,2,  -0.2207
  58GS20090528,   GIN,   241,  1,     16,20090706,2051, 75.0000,   2.9930, 2824,     29.5,   0.4440,  34.8643,2,  34.8754,2,    361.7,2,     4.20,2,     8.46,2,     0.06,2,     0.67,2, -999.000,9, -999.000,9,       -999,9,   2143.6,2,   -999.0,9,     0.59,2,     0.87,2,   0.4428
  58GS20090528,   GIN,   241,  1,     17,20090706,2051, 75.0000,   2.9930, 2824,     18.9,   1.4950,  34.9152,2,  34.9232,2,    350.6,2,  -999.00,9,  -999.00,9,  -999.00,9,  -999.00,9, -999.000,9, -999.000,9,       -999,9,   2139.2,2,   -999.0,9,  -999.00,9,  -999.00,9,   1.4941
  58GS20090528,   GIN,   241,  1,     18,20090706,2051, 75.0000,   2.9930, 2824,     18.8,   2.0420,  34.9155,2,-999.0000,9,   -999.0,9,     4.28,2,     8.40,2,     0.06,2,     0.67,2, -999.000,9, -999.000,9,       -999,9,   -999.0,9,   -999.0,9,     0.59,2,     0.75,2,   2.0410
  58GS20090528,   GIN,   241,  1,     19,20090706,2051, 75.0000,   2.9930, 2824,      9.2,   2.2750,  34.9330,2,  34.9360,2,   -999.0,9,     4.29,2,     7.86,2,     0.06,2,     0.61,2, -999.000,9, -999.000,9,       -999,9,   -999.0,9,   -999.0,9,     0.59,2,     0.33,2,   2.2745
  58GS20090528,   GIN,   241,  1,     20,20090706,2051, 75.0000,   2.9930, 2824,      4.6,   2.2900,  34.9356,2,  34.9345,2,    347.0,2,     4.27,2,     7.82,2,     0.06,2,     0.60,2, -999.000,9, -999.000,9,       -999,9,   2139.0,2,   -999.0,9,     0.56,2,     0.31,2,   2.2897
  58GS20090528,   GIN,   241,  1,     21,20090706,2051, 75.0000,   2.9930, 2824,      4.4,   2.2870,  34.9359,2,-999.0000,9,   -999.0,9,  -999.00,9,  -999.00,9,  -999.00,9,  -999.00,9, -999.000,9, -999.000,9,       -999,9,   -999.0,9,   -999.0,9,  -999.00,9,  -999.00,9,   2.2868