BOTTLE,20120326PRINUNIVRMK
EXPOCODE,SECT_ID,STNNBR,CASTNO,BTLNBR,DATE,TIME,LATITUDE,LONGITUDE,DEPTH,CTDPRS,CTDTMP,CTDSAL,CTDSAL_FLAG_W,SALNTY,SALNTY_FLAG_W,OXYGEN,OXYGEN_FLAG_W,SILCAT,SILCAT_FLAG_W,NITRAT,NITRAT_FLAG_W,NITRIT,NITRIT_FLAG_W,PHSPHT,PHSPHT_FLAG_W,CFC-11,CFC-11_FLAG_W,CFC-12,CFC-12_FLAG_W,SF6,SF6_FLAG_W,TCARBN,TCARBN_FLAG_W,ALKALI,ALKALI_FLAG_W,CHLORA,CHLORA_FLAG_W,PHAEO,PHAEO_FLAG_W,THETA
,,,,,,,,,METERS,DBAR,ITS-90,PSS-78,,PSS-78,,UMOL/KG,,UMOL/KG,,UMOL/KG,,UMOL/KG,,UMOL/KG,,PMOL/KG,,PMOL/KG,,FMOL/KG,,UMOL/KG,,UMOL/KG,,UG/KG,,UG/KG,,DEG C
  58GS20090528,   GIN,   235,  1,      1,20130607,1013, 75.0000,  -2.9960, 3610,   3600.4,  -0.7910,  34.9099,2,  34.9094,2,    298.9,2,    13.15,2,    14.87,2,     0.02,2,     1.01,2,    0.870,2,    0.366,2,0.518375844,2,   2160.9,2,   2304.8,2,  -999.00,9,  -999.00,9,  -1.0089
  58GS20090528,   GIN,   235,  1,      2,20130607,1013, 75.0000,  -2.9960, 3610,   3000.4,  -0.7870,  34.9129,2,  34.9105,2,    298.3,2,    12.54,2,    14.76,2,     0.02,2,     1.01,2,    0.867,2,    0.366,2,0.374463335,2,   2157.6,2,   2305.7,2,  -999.00,9,  -999.00,9,  -0.9539
  58GS20090528,   GIN,   235,  1,      3,20130607,1013, 75.0000,  -2.9960, 3610,   2501.4,  -0.7620,  34.9114,2,  34.9112,2,    297.9,2,    11.91,2,    14.72,2,     0.01,2,     1.01,2,    1.155,2,    0.481,2,0.797900988,2,   2157.7,2,   2303.7,2,  -999.00,9,  -999.00,9,  -0.8911
  58GS20090528,   GIN,   235,  1,      4,20130607,1013, 75.0000,  -2.9960, 3610,   1999.7,  -0.6840,  34.9058,2,  34.9070,2,    302.7,2,    10.38,2,    14.23,2,     0.01,2,     0.99,2,    2.359,2,    1.000,2, 1.41751605,2,   2160.8,2,   2301.1,2,  -999.00,9,  -999.00,9,  -0.7798
  58GS20090528,   GIN,   235,  1,      5,20130607,1013, 75.0000,  -2.9960, 3610,   1799.5,  -0.6490,  34.9007,2,  34.9008,2,    309.3,2,  -999.00,9,  -999.00,9,  -999.00,9,  -999.00,9,    3.491,2,    1.632,2, 2.59918402,2,   2159.9,2,   2301.2,2,  -999.00,9,  -999.00,9,  -0.7325
  58GS20090528,   GIN,   235,  1,      6,20130607,1013, 75.0000,  -2.9960, 3610,   1500.1,  -0.6130,  34.8989,2,  34.9024,2,    330.6,2,     9.13,2,    13.78,3,     0.01,2,     0.95,2,    5.635,2,    2.969,2, 2.88368241,2,   2159.6,2,   2304.5,2,  -999.00,9,  -999.00,9,  -0.6791
  58GS20090528,   GIN,   235,  1,      7,20130607,1013, 75.0000,  -2.9960, 3610,   1200.0,  -0.6150,  34.8988,2,  34.8977,2,   -999.0,9,     6.80,2,    12.65,2,     0.01,2,     0.87,2,    5.852,2,    2.561,2,       -999,9,   -999.0,9,   -999.0,9,  -999.00,9,  -999.00,9,  -0.6647
  58GS20090528,   GIN,   235,  1,      8,20130607,1013, 75.0000,  -2.9960, 3610,   1000.4,  -0.5780,  34.9016,2,  34.8929,2,    331.2,2,     6.81,2,    12.73,2,     0.02,2,     0.88,2,    5.915,2,    2.876,2,       -999,9,   2160.9,2,   2300.8,2,  -999.00,9,  -999.00,9,  -0.6179
  58GS20090528,   GIN,   235,  1,      9,20130607,1013, 75.0000,  -2.9960, 3610,    800.1,  -0.4550,  34.9094,2,  34.9118,2,    330.6,2,     6.74,2,    12.68,2,     0.02,2,     0.88,2,    6.211,2,    2.760,2,       -999,9,   2161.8,2,   2302.7,2,  -999.00,9,  -999.00,9,  -0.4863
  58GS20090528,   GIN,   235,  1,     10,20130607,1013, 75.0000,  -2.9960, 3610,    599.9,  -0.4420,  34.9102,2,  34.9090,2,    330.3,2,     6.52,2,    12.48,2,     0.02,2,     0.86,2,    6.081,2,    2.867,2,       -999,9,   2161.1,2,   2304.5,2,  -999.00,9,  -999.00,9,  -0.4644
  58GS20090528,   GIN,   235,  1,     11,20130607,1013, 75.0000,  -2.9960, 3610,    600.6,  -0.4380,  34.9101,2,-999.0000,9,   -999.0,9,     6.61,2,    12.47,2,     0.02,2,     0.87,2, -999.000,9, -999.000,9,       -999,9,   -999.0,9,   -999.0,9,  -999.00,9,  -999.00,9,  -0.4605
  58GS20090528,   GIN,   235,  1,     12,20130607,1013, 75.0000,  -2.9960, 3610,    500.2,  -0.5820,  34.8961,2,-999.0000,9,    330.0,2,     6.68,2,    12.55,2,     0.02,2,     0.88,2,    6.232,2,    2.733,2,       -999,9,   2161.0,2,   2302.0,2,  -999.00,9,  -999.00,9,  -0.5997
  58GS20090528,   GIN,   235,  1,     13,20130607,1013, 75.0000,  -2.9960, 3610,    399.9,  -0.5800,  34.8941,2,  34.8957,2,    329.8,2,     6.63,2,    12.55,2,     0.02,2,     0.89,2, -999.000,9, -999.000,9,       -999,9,   2164.6,2,   -999.0,9,  -999.00,9,  -999.00,9,  -0.5937
  58GS20090528,   GIN,   235,  1,     14,20130607,1013, 75.0000,  -2.9960, 3610,    300.0,  -0.5000,  34.8965,2,  34.8842,2,    328.0,2,     6.60,2,    12.53,2,     0.02,2,     0.87,2,    6.213,2,    2.692,2,       -999,9,   2160.7,2,   2302.9,2,  -999.00,9,  -999.00,9,  -0.5102
  58GS20090528,   GIN,   235,  1,     15,20130607,1013, 75.0000,  -2.9960, 3610,    199.6,  -0.4650,  34.8936,2,  34.8910,2,    329.1,2,  -999.00,9,  -999.00,9,  -999.00,9,  -999.00,9, -999.000,9, -999.000,9,       -999,9,   2164.5,2,   -999.0,9,  -999.00,9,  -999.00,9,  -0.4717
  58GS20090528,   GIN,   235,  1,     16,20130607,1013, 75.0000,  -2.9960, 3610,    150.2,  -0.4320,  34.8895,2,  34.8858,2,    330.3,2,  -999.00,9,  -999.00,9,  -999.00,9,  -999.00,9, -999.000,9, -999.000,9,       -999,9,   2162.7,2,   2317.9,2,  -999.00,9,  -999.00,9,  -0.4370
  58GS20090528,   GIN,   235,  1,     17,20130607,1013, 75.0000,  -2.9960, 3610,    100.2,  -0.3070,  34.8850,2,  34.8826,2,    327.3,2,  -999.00,9,  -999.00,9,  -999.00,9,  -999.00,9,    6.119,2,    2.492,2,       -999,9,   2161.8,2,   -999.0,9,  -999.00,9,  -999.00,9,  -0.3104
  58GS20090528,   GIN,   235,  1,     18,20130607,1013, 75.0000,  -2.9960, 3610,     75.0,  -0.1430,  34.8777,2,  34.8776,2,    340.4,2,  -999.00,9,  -999.00,9,  -999.00,9,  -999.00,9, -999.000,9, -999.000,9,       -999,9,   2158.2,2,   -999.0,9,  -999.00,9,  -999.00,9,  -0.1456
  58GS20090528,   GIN,   235,  1,     19,20130607,1013, 75.0000,  -2.9960, 3610,     50.1,   0.0900,  34.8733,2,  34.8704,2,    353.2,2,  -999.00,9,  -999.00,9,  -999.00,9,  -999.00,9, -999.000,9, -999.000,9,       -999,9,   2148.6,2,   2301.3,2,  -999.00,9,  -999.00,9,   0.0882
  58GS20090528,   GIN,   235,  1,     20,20130607,1013, 75.0000,  -2.9960, 3610,     30.0,   0.3210,  34.8603,2,  34.8598,2,    370.0,2,  -999.00,9,  -999.00,9,  -999.00,9,  -999.00,9,    7.083,2,    2.817,2,       -999,9,   2134.9,2,   2311.8,2,  -999.00,9,  -999.00,9,   0.3198
  58GS20090528,   GIN,   235,  1,     21,20130607,1013, 75.0000,  -2.9960, 3610,     20.6,   0.9610,  34.7794,2,  34.8271,2,   -999.0,9,  -999.00,9,  -999.00,9,  -999.00,9,  -999.00,9, -999.000,9, -999.000,9,       -999,9,   -999.0,9,   -999.0,9,  -999.00,9,  -999.00,9,   0.9601
  58GS20090528,   GIN,   235,  1,     22,20130607,1013, 75.0000,  -2.9960, 3610,      9.9,   1.2860,  34.7226,2,  34.7143,2,   -999.0,9,  -999.00,9,  -999.00,9,  -999.00,9,  -999.00,9, -999.000,9, -999.000,9,       -999,9,   -999.0,9,   -999.0,9,  -999.00,9,  -999.00,9,   1.2855
  58GS20090528,   GIN,   235,  1,     23,20130607,1013, 75.0000,  -2.9960, 3610,      5.2,   1.3710,  34.7245,2,  34.7225,2,   -999.0,9,  -999.00,9,  -999.00,9,  -999.00,9,  -999.00,9, -999.000,9, -999.000,9,       -999,9,   -999.0,9,   -999.0,9,  -999.00,9,  -999.00,9,   1.3708
  58GS20090528,   GIN,   235,  1,     24,20130607,1013, 75.0000,  -2.9960, 3610,      5.2,   1.3630,  34.7255,2,-999.0000,9,    363.1,2,  -999.00,9,  -999.00,9,  -999.00,9,  -999.00,9, -999.000,9, -999.000,9,       -999,9,   2109.9,2,   -999.0,9,  -999.00,9,  -999.00,9,   1.3628
  58GS20090528,   GIN,   236,  1,      1,20130607,1627, 75.0000,  -2.0000, 3571,   3561.2,  -0.7960,  34.9098,2,  34.9064,2,    300.5,2,    12.79,2,    14.73,2,     0.02,2,     1.01,2, -999.000,9, -999.000,9,       -999,9,   2161.7,2,   2300.3,2,  -999.00,9,  -999.00,9,  -1.0102
  58GS20090528,   GIN,   236,  1,      2,20130607,1627, 75.0000,  -2.0000, 3571,   3000.6,  -0.8020,  34.9119,2,  34.9129,2,    299.3,2,    12.38,2,    14.70,2,     0.01,2,     1.00,2, -999.000,9, -999.000,9,       -999,9,   2163.6,2,   2306.0,2,  -999.00,9,  -999.00,9,  -0.9686
  58GS20090528,   GIN,   236,  1,      3,20130607,1627, 75.0000,  -2.0000, 3571,   2500.4,  -0.7830,  34.9116,2,  34.9077,2,    298.9,2,    11.99,2,    14.67,2,     0.02,2,     1.01,2, -999.000,9, -999.000,9,       -999,9,   2162.9,2,   2305.5,2,  -999.00,9,  -999.00,9,  -0.9116
  58GS20090528,   GIN,   236,  1,      4,20130607,1627, 75.0000,  -2.0000, 3571,   2000.3,  -0.7080,  34.9080,2,  34.9041,2,    301.2,2,    10.77,2,    14.38,2,     0.02,2,     0.99,2, -999.000,9, -999.000,9,       -999,9,   2163.8,2,   2298.6,2,  -999.00,9,  -999.00,9,  -0.8034
  58GS20090528,   GIN,   236,  1,      5,20130607,1627, 75.0000,  -2.0000, 3571,   1500.3,  -0.6140,  34.9003,2,  34.9005,2,    331.1,2,     6.88,2,    12.77,2,     0.02,2,     0.89,2, -999.000,9, -999.000,9,       -999,9,   2167.8,2,   2300.7,2,  -999.00,9,  -999.00,9,  -0.6801
  58GS20090528,   GIN,   236,  1,      6,20130607,1627, 75.0000,  -2.0000, 3571,   1200.4,  -0.6200,  34.9000,2,  34.8978,2,    331.1,2,     6.78,2,    12.50,2,     0.02,2,     0.87,2, -999.000,9, -999.000,9,       -999,9,   -999.0,9,   -999.0,9,  -999.00,9,  -999.00,9,  -0.6696
  58GS20090528,   GIN,   236,  1,      7,20130607,1627, 75.0000,  -2.0000, 3571,   1000.3,  -0.6110,  34.9007,2,  34.9022,2,    331.0,2,     6.77,2,    12.74,2,     0.02,2,     0.88,2, -999.000,9, -999.000,9,       -999,9,   2164.1,2,   2298.1,2,  -999.00,9,  -999.00,9,  -0.6506
  58GS20090528,   GIN,   236,  1,      8,20130607,1627, 75.0000,  -2.0000, 3571,    800.2,  -0.6050,  34.9005,2,  34.8969,2,    331.0,2,     6.75,2,    12.68,2,     0.03,2,     0.87,2, -999.000,9, -999.000,9,       -999,9,   2166.1,2,   2299.3,2,  -999.00,9,  -999.00,9,  -0.6353
  58GS20090528,   GIN,   236,  1,      9,20130607,1627, 75.0000,  -2.0000, 3571,    600.5,  -0.5480,  34.9040,2,-999.0000,9,    328.6,2,     6.81,2,    12.75,2,     0.03,2,     0.87,2, -999.000,9, -999.000,9,       -999,9,   2165.6,2,   2298.3,2,  -999.00,9,  -999.00,9,  -0.5699
  58GS20090528,   GIN,   236,  1,     10,20130607,1627, 75.0000,  -2.0000, 3571,    600.6,  -0.5490,  34.9041,2,-999.0000,9,    328.7,2,  -999.00,9,  -999.00,9,  -999.00,9,  -999.00,9, -999.000,9, -999.000,9,       -999,9,   -999.0,9,   -999.0,9,  -999.00,9,  -999.00,9,  -0.5709
  58GS20090528,   GIN,   236,  1,     11,20130607,1627, 75.0000,  -2.0000, 3571,    500.5,  -0.5410,  34.9036,2,  34.8994,2,    328.1,2,     6.81,2,    12.70,2,     0.03,2,     0.88,2, -999.000,9, -999.000,9,       -999,9,   2164.9,2,   2302.0,2,  -999.00,9,  -999.00,9,  -0.5588
  58GS20090528,   GIN,   236,  1,     12,20130607,1627, 75.0000,  -2.0000, 3571,    399.3,  -0.4500,  34.9095,2,  34.9039,2,    327.2,2,     6.76,2,    12.65,2,     0.03,2,     0.89,2,    5.716,3,    2.490,3,       -999,9,   2166.0,2,   2303.3,2,  -999.00,9,  -999.00,9,  -0.4642
  58GS20090528,   GIN,   236,  1,     13,20130607,1627, 75.0000,  -2.0000, 3571,    299.9,  -0.4480,  34.9055,2,  34.9039,2,    326.3,2,     6.75,2,    12.70,2,     0.03,2,     0.89,2, -999.000,9, -999.000,9,       -999,9,   2164.9,2,   2294.5,2,  -999.00,9,  -999.00,9,  -0.4584
  58GS20090528,   GIN,   236,  1,     14,20130607,1627, 75.0000,  -2.0000, 3571,    199.2,  -0.2290,  34.9177,2,  34.9164,2,    328.1,2,     6.51,2,    12.43,2,     0.04,2,     0.85,2,    5.905,3,    2.432,3,       -999,9,   2163.8,2,   2300.6,2,  -999.00,9,  -999.00,9,  -0.2361
  58GS20090528,   GIN,   236,  1,     15,20130607,1627, 75.0000,  -2.0000, 3571,    149.2,  -0.1930,  34.9149,2,  34.9113,2,    333.3,2,     6.46,2,    12.30,2,     0.04,2,     0.86,2, -999.000,9, -999.000,9,       -999,9,   2164.7,2,   2297.0,2,  -999.00,9,  -999.00,9,  -0.1983
  58GS20090528,   GIN,   236,  1,     16,20130607,1627, 75.0000,  -2.0000, 3571,    100.8,  -0.0640,  34.9120,2,  34.9139,2,    333.0,2,     6.21,2,    11.55,2,     0.05,2,     0.83,2, -999.000,9, -999.000,9,       -999,9,   2160.5,2,   2302.5,2,     0.17,2,     0.50,2,  -0.0676
  58GS20090528,   GIN,   236,  1,     17,20130607,1627, 75.0000,  -2.0000, 3571,     74.9,   0.0380,  34.9115,2,  34.9093,2,    340.5,2,     5.87,2,    11.11,2,     0.04,2,     0.81,2,    6.302,3,    2.545,3,       -999,9,   2160.1,2,   2299.7,2,     0.20,2,     0.47,2,   0.0353
  58GS20090528,   GIN,   236,  1,     18,20130607,1627, 75.0000,  -2.0000, 3571,     50.1,   0.1030,  34.9017,2,  34.8972,2,    325.4,2,     5.17,2,    10.96,2,     0.04,2,     0.80,2, -999.000,9, -999.000,9,       -999,9,   2155.3,2,   2299.6,2,     0.34,2,     0.39,2,   0.1011
  58GS20090528,   GIN,   236,  1,     19,20130607,1627, 75.0000,  -2.0000, 3571,     30.2,   0.5270,  34.9162,2,-999.0000,9,    325.4,2,     4.68,2,    10.11,2,     0.04,2,     0.76,2,    5.942,3,    2.340,3,       -999,9,   2154.2,2,   2299.8,2,     0.38,2,     0.25,2,   0.5258
  58GS20090528,   GIN,   236,  1,     20,20130607,1627, 75.0000,  -2.0000, 3571,     20.3,   0.5070,  34.8912,2,-999.0000,9,   -999.0,9,     2.59,2,     8.52,2,     0.05,2,     0.66,2, -999.000,9, -999.000,9,       -999,9,   -999.0,9,   -999.0,9,     0.72,2,     0.56,2,   0.5062
  58GS20090528,   GIN,   236,  1,     21,20130607,1627, 75.0000,  -2.0000, 3571,     10.3,   1.0200,  34.8251,2,-999.0000,9,   -999.0,9,     0.46,2,     5.25,2,     0.05,2,     0.44,2, -999.000,9, -999.000,9,       -999,9,   -999.0,9,   -999.0,9,     0.85,2,     0.44,2,   1.0195
  58GS20090528,   GIN,   236,  1,     22,20130607,1627, 75.0000,  -2.0000, 3571,      3.8,   1.4510,  34.7258,2,-999.0000,9,    367.3,2,     0.27,2,     3.55,2,     0.05,2,     0.32,2, -999.000,9, -999.000,9,       -999,9,   2102.4,2,   2289.0,2,     0.65,2,     0.33,2,   1.4508