BOTTLE,20120326PRINUNIVRMK
EXPOCODE,SECT_ID,STNNBR,CASTNO,BTLNBR,DATE,TIME,LATITUDE,LONGITUDE,DEPTH,CTDPRS,CTDTMP,CTDSAL,CTDSAL_FLAG_W,SALNTY,SALNTY_FLAG_W,OXYGEN,OXYGEN_FLAG_W,SILCAT,SILCAT_FLAG_W,NITRAT,NITRAT_FLAG_W,NITRIT,NITRIT_FLAG_W,PHSPHT,PHSPHT_FLAG_W,CFC-11,CFC-11_FLAG_W,CFC-12,CFC-12_FLAG_W,SF6,SF6_FLAG_W,TCARBN,TCARBN_FLAG_W,ALKALI,ALKALI_FLAG_W,CHLORA,CHLORA_FLAG_W,PHAEO,PHAEO_FLAG_W,THETA
,,,,,,,,,METERS,DBAR,ITS-90,PSS-78,,PSS-78,,UMOL/KG,,UMOL/KG,,UMOL/KG,,UMOL/KG,,UMOL/KG,,PMOL/KG,,PMOL/KG,,FMOL/KG,,UMOL/KG,,UMOL/KG,,UG/KG,,UG/KG,,DEG C
  58GS20090528,   GIN,   229,  1,      1,20130407,1043, 72.7510,   0.5820, 2992,   2699.1,  -0.8140,  34.9125,2,  34.9087,2,    297.9,2,    12.76,2,    14.69,2,     0.01,2,     1.02,2, -999.000,9, -999.000,9,       -999,9,   2159.2,2,   -999.0,9,  -999.00,9,  -999.00,9,  -0.9567
  58GS20090528,   GIN,   229,  1,      2,20130407,1043, 72.7510,   0.5820, 2992,   2500.0,  -0.8220,  34.9126,2,  34.9082,2,    298.0,2,    12.62,2,    14.67,2,     0.01,2,     1.02,2, -999.000,9, -999.000,9,       -999,9,   2160.1,2,   -999.0,9,  -999.00,9,  -999.00,9,  -0.9498
  58GS20090528,   GIN,   229,  1,      3,20130407,1043, 72.7510,   0.5820, 2992,   1999.6,  -0.8040,  34.9120,2,  34.9139,2,    298.0,2,    12.06,2,    14.53,2,     0.01,2,     1.01,2, -999.000,9, -999.000,9,       -999,9,   2158.4,2,   -999.0,9,  -999.00,9,  -999.00,9,  -0.8979
  58GS20090528,   GIN,   229,  1,      4,20130407,1043, 72.7510,   0.5820, 2992,   1499.7,  -0.7000,  34.9076,2,  34.9080,2,    301.3,2,    10.55,2,    14.15,2,     0.01,2,     0.99,2, -999.000,9, -999.000,9,       -999,9,   2158.4,2,   -999.0,9,  -999.00,9,  -999.00,9,  -0.7651
  58GS20090528,   GIN,   229,  1,      5,20130407,1043, 72.7510,   0.5820, 2992,   1199.8,  -0.6320,  34.9011,2,  34.9024,2,    310.5,2,     8.87,2,    13.30,2,     0.02,2,     0.95,2, -999.000,9, -999.000,9,       -999,9,   2161.8,2,   -999.0,9,  -999.00,9,  -999.00,9,  -0.6815
  58GS20090528,   GIN,   229,  1,      6,20130407,1043, 72.7510,   0.5820, 2992,    999.3,  -0.5510,  34.9001,2,  34.9037,2,    320.4,2,     7.60,2,    13.01,2,     0.01,2,     0.92,2, -999.000,9, -999.000,9,       -999,9,   2162.1,2,   -999.0,9,  -999.00,9,  -999.00,9,  -0.5911
  58GS20090528,   GIN,   229,  1,      7,20130407,1043, 72.7510,   0.5820, 2992,    799.6,  -0.4670,  34.9008,2,  34.9024,2,    320.5,2,     7.19,2,    12.80,2,     0.01,2,     0.90,2, -999.000,9, -999.000,9,       -999,9,   2161.9,2,   -999.0,9,  -999.00,9,  -999.00,9,  -0.4982
  58GS20090528,   GIN,   229,  1,      8,20130407,1043, 72.7510,   0.5820, 2992,    599.8,  -0.2550,  34.9071,2,  34.9110,2,    316.8,2,     7.15,2,    12.82,2,     0.01,2,     0.91,2, -999.000,9, -999.000,9,       -999,9,   2160.6,2,   -999.0,9,  -999.00,9,  -999.00,9,  -0.2784
  58GS20090528,   GIN,   229,  1,      9,20130407,1043, 72.7510,   0.5820, 2992,    500.3,  -0.1530,  34.9068,2,  34.9049,2,    314.6,2,     7.10,2,    12.79,2,     0.01,2,     0.91,2, -999.000,9, -999.000,9,       -999,9,   2160.7,2,   -999.0,9,  -999.00,9,  -999.00,9,  -0.1725
  58GS20090528,   GIN,   229,  1,     10,20130407,1043, 72.7510,   0.5820, 2992,    400.7,  -0.0520,  34.9002,2,  34.9016,2,    316.2,2,     6.76,2,    12.65,2,     0.01,2,     0.89,2, -999.000,9, -999.000,9,       -999,9,   2158.7,2,   -999.0,9,  -999.00,9,  -999.00,9,  -0.0676
  58GS20090528,   GIN,   229,  1,     11,20130407,1043, 72.7510,   0.5820, 2992,    299.7,  -0.0600,  34.8855,2,  34.8900,2,    330.6,2,     5.86,2,    11.86,2,     0.02,2,     0.87,2, -999.000,9, -999.000,9,       -999,9,   2158.3,2,   -999.0,9,  -999.00,9,  -999.00,9,  -0.0713
  58GS20090528,   GIN,   229,  1,     12,20130407,1043, 72.7510,   0.5820, 2992,    200.4,   0.1220,  34.8937,2,  34.8982,2,    334.2,2,     5.65,2,    11.69,2,     0.05,2,     0.85,2, -999.000,9, -999.000,9,       -999,9,   2157.1,2,   -999.0,9,  -999.00,9,  -999.00,9,   0.1143
  58GS20090528,   GIN,   229,  1,     13,20130407,1043, 72.7510,   0.5820, 2992,    147.3,   0.3460,  34.9065,2,  34.9104,2,    333.3,2,     5.55,2,    11.59,2,     0.09,2,     0.82,2, -999.000,9, -999.000,9,       -999,9,   2155.9,2,   -999.0,9,  -999.00,9,  -999.00,9,   0.3401
  58GS20090528,   GIN,   229,  1,     14,20130407,1043, 72.7510,   0.5820, 2992,    125.2,   0.5420,  34.9220,2,  34.9259,2,   -999.0,9,     5.59,2,    11.75,2,     0.06,2,     0.83,2, -999.000,9, -999.000,9,       -999,9,   -999.0,9,   -999.0,9,  -999.00,9,  -999.00,9,   0.5368
  58GS20090528,   GIN,   229,  1,     15,20130407,1043, 72.7510,   0.5820, 2992,    100.6,   0.7960,  34.9366,2,  34.9413,2,    325.6,2,     5.55,2,    11.76,2,     0.07,2,     0.83,2, -999.000,9, -999.000,9,       -999,9,   2155.2,2,   -999.0,9,     0.04,2,     0.05,2,   0.7916
  58GS20090528,   GIN,   229,  1,     16,20130407,1043, 72.7510,   0.5820, 2992,     75.6,   1.0930,  34.9542,2,  34.9585,2,    323.9,2,     5.48,2,    11.82,2,     0.11,2,     0.83,2, -999.000,9, -999.000,9,       -999,9,   2154.9,2,   -999.0,9,     0.05,2,     0.12,2,   1.0896
  58GS20090528,   GIN,   229,  1,     17,20130407,1043, 72.7510,   0.5820, 2992,     49.8,   1.5320,  34.9698,2,  34.9648,2,    327.3,2,     5.15,2,    10.96,2,     0.15,2,     0.79,2, -999.000,9, -999.000,9,       -999,9,   2153.9,2,   -999.0,9,     0.18,2,     0.15,2,   1.5296
  58GS20090528,   GIN,   229,  1,     18,20130407,1043, 72.7510,   0.5820, 2992,     30.2,   2.8930,  35.0025,2,  35.0204,2,    335.5,2,     4.39,2,     6.53,2,     0.08,2,     0.55,2, -999.000,9, -999.000,9,       -999,9,   2122.8,2,   -999.0,9,     1.20,2,     0.21,2,   2.8912
  58GS20090528,   GIN,   229,  1,     19,20130407,1043, 72.7510,   0.5820, 2992,     21.0,   3.7870,  35.0327,2,  35.0336,2,   -999.0,9,  -999.00,9,  -999.00,9,  -999.00,9,  -999.00,9, -999.000,9, -999.000,9,       -999,9,   -999.0,9,   -999.0,9,  -999.00,9,  -999.00,9,   3.7856
  58GS20090528,   GIN,   229,  1,     20,20130407,1043, 72.7510,   0.5820, 2992,     20.8,   3.7930,  35.0353,2,  35.0347,2,   -999.0,9,     4.27,2,     5.92,2,     0.07,2,     0.52,2, -999.000,9, -999.000,9,       -999,9,   -999.0,9,   -999.0,9,     1.49,2,     0.23,2,   3.7916
  58GS20090528,   GIN,   229,  1,     21,20130407,1043, 72.7510,   0.5820, 2992,     10.4,   3.8110,  35.0366,2,  35.0330,2,   -999.0,9,     4.27,2,     5.94,2,     0.08,2,     0.50,2, -999.000,9, -999.000,9,       -999,9,   -999.0,9,   -999.0,9,     1.56,2,     0.25,2,   3.8103
  58GS20090528,   GIN,   229,  1,     22,20130407,1043, 72.7510,   0.5820, 2992,      5.4,   3.8150,  35.0369,2,  35.0331,2,    335.9,2,  -999.00,9,  -999.00,9,  -999.00,9,  -999.00,9, -999.000,9, -999.000,9,       -999,9,   2118.6,2,   -999.0,9,     1.53,2,     0.26,2,   3.8146
  58GS20090528,   GIN,   229,  1,     23,20130407,1043, 72.7510,   0.5820, 2992,      5.4,   3.8130,  35.0368,2,  35.0270,2,   -999.0,9,     4.26,2,     5.90,2,     0.07,2,     0.50,2, -999.000,9, -999.000,9,       -999,9,   -999.0,9,   -999.0,9,  -999.00,9,  -999.00,9,   3.8126
  58GS20090528,   GIN,   230,  1,      1,20130407,1848, 73.4170,  -1.5820, 3132,   2849.8,  -0.8360,  34.9099,2,  34.9073,2,    298.7,2,    12.77,2,    14.53,2,     0.01,2,     1.01,2, -999.000,9, -999.000,9,       -999,9,   2159.3,2,   -999.0,9,  -999.00,9,  -999.00,9,  -0.9898
  58GS20090528,   GIN,   230,  1,      2,20130407,1848, 73.4170,  -1.5820, 3132,   2499.5,  -0.8470,  34.9104,2,  34.9062,2,    298.6,2,    12.55,2,    14.52,2,     0.01,2,     1.01,2, -999.000,9, -999.000,9,       -999,9,   2159.4,2,   -999.0,9,  -999.00,9,  -999.00,9,  -0.9743
  58GS20090528,   GIN,   230,  1,      3,20130407,1848, 73.4170,  -1.5820, 3132,   2000.3,  -0.8000,  34.9103,2,  34.9076,2,    298.2,2,    11.85,2,    14.46,2,     0.01,2,     1.01,2, -999.000,9, -999.000,9,       -999,9,   2160.4,2,   -999.0,9,  -999.00,9,  -999.00,9,  -0.8940
  58GS20090528,   GIN,   230,  1,      4,20130407,1848, 73.4170,  -1.5820, 3132,   1500.8,  -0.7070,  34.9038,2,  34.8943,2,    303.7,2,    10.07,2,    14.00,2,     0.01,2,     0.99,2, -999.000,9, -999.000,9,       -999,9,   2161.5,2,   -999.0,9,  -999.00,9,  -999.00,9,  -0.7720
  58GS20090528,   GIN,   230,  1,      5,20130407,1848, 73.4170,  -1.5820, 3132,   1200.4,  -0.6450,  34.8977,2,  34.8800,2,    324.6,2,     7.47,2,    12.89,2,     0.01,2,     0.91,2, -999.000,9, -999.000,9,       -999,9,   2162.4,2,   -999.0,9,  -999.00,9,  -999.00,9,  -0.6944
  58GS20090528,   GIN,   230,  1,      6,20130407,1848, 73.4170,  -1.5820, 3132,   1002.6,  -0.6280,  34.8974,2,  34.8927,2,    329.6,2,     6.89,2,    12.51,2,     0.01,2,     0.88,2, -999.000,9, -999.000,9,       -999,9,   2163.5,2,   -999.0,9,  -999.00,9,  -999.00,9,  -0.6676
  58GS20090528,   GIN,   230,  1,      7,20130407,1848, 73.4170,  -1.5820, 3132,    800.0,  -0.6090,  34.8966,2,  34.8918,2,    328.0,2,     6.94,2,    12.59,2,     0.01,2,     0.89,2, -999.000,9, -999.000,9,       -999,9,   2163.8,2,   -999.0,9,  -999.00,9,  -999.00,9,  -0.6392
  58GS20090528,   GIN,   230,  1,      8,20130407,1848, 73.4170,  -1.5820, 3132,    601.3,  -0.5910,  34.8945,2,  34.8901,2,    329.2,2,     6.76,2,    12.58,2,     0.01,2,     0.89,2, -999.000,9, -999.000,9,       -999,9,   2163.2,2,   -999.0,9,  -999.00,9,  -999.00,9,  -0.6127
  58GS20090528,   GIN,   230,  1,      9,20130407,1848, 73.4170,  -1.5820, 3132,    500.1,  -0.5950,  34.8905,2,  34.8868,2,    330.8,2,     6.48,2,    12.23,2,     0.02,2,     0.88,2, -999.000,9, -999.000,9,       -999,9,   2163.6,2,   -999.0,9,  -999.00,9,  -999.00,9,  -0.6126
  58GS20090528,   GIN,   230,  1,     10,20130407,1848, 73.4170,  -1.5820, 3132,    398.5,  -0.4550,  34.8982,2,  34.8965,2,    326.6,2,     6.69,2,    12.44,2,     0.02,2,     0.89,2, -999.000,9, -999.000,9,       -999,9,   2163.7,2,   -999.0,9,  -999.00,9,  -999.00,9,  -0.4691
  58GS20090528,   GIN,   230,  1,     11,20130407,1848, 73.4170,  -1.5820, 3132,    301.3,  -0.2540,  34.9066,2,  34.9098,2,    320.0,2,     6.82,2,    12.44,2,     0.02,2,     0.90,2, -999.000,9, -999.000,9,       -999,9,   2160.7,2,   -999.0,9,  -999.00,9,  -999.00,9,  -0.2649
  58GS20090528,   GIN,   230,  1,     12,20130407,1848, 73.4170,  -1.5820, 3132,    200.2,  -0.5240,  34.8750,2,  34.8670,2,    329.7,2,     6.27,2,    11.94,2,     0.03,2,     0.85,2, -999.000,9, -999.000,9,       -999,9,   2160.2,2,   -999.0,9,  -999.00,9,  -999.00,9,  -0.5306
  58GS20090528,   GIN,   230,  1,     13,20130407,1848, 73.4170,  -1.5820, 3132,    149.2,  -0.6020,  34.8647,2,  34.8636,2,    332.9,2,     6.12,2,    11.75,2,     0.06,2,     0.84,2, -999.000,9, -999.000,9,       -999,9,   2160.5,2,   -999.0,9,  -999.00,9,  -999.00,9,  -0.6067
  58GS20090528,   GIN,   230,  1,     14,20130407,1848, 73.4170,  -1.5820, 3132,    124.1,  -0.6420,  34.8602,2,  34.8568,2,   -999.0,9,     6.05,2,    11.62,2,     0.08,2,     0.84,2, -999.000,9, -999.000,9,       -999,9,   -999.0,9,   -999.0,9,  -999.00,9,  -999.00,9,  -0.6459
  58GS20090528,   GIN,   230,  1,     15,20130407,1848, 73.4170,  -1.5820, 3132,    101.5,  -0.7910,  34.8473,2,  34.8393,2,    339.3,2,     5.87,2,    11.49,2,     0.09,2,     0.82,2, -999.000,9, -999.000,9,       -999,9,   2161.5,2,   -999.0,9,     0.04,2,     0.09,2,  -0.7940
  58GS20090528,   GIN,   230,  1,     16,20130407,1848, 73.4170,  -1.5820, 3132,     74.7,  -0.8110,  34.8394,2,  34.8371,2,    343.2,2,     5.77,2,    11.30,2,     0.12,2,     0.82,2, -999.000,9, -999.000,9,       -999,9,   2154.8,2,   -999.0,9,     0.05,2,     0.12,2,  -0.8132
  58GS20090528,   GIN,   230,  1,     17,20130407,1848, 73.4170,  -1.5820, 3132,     51.4,  -0.7930,  34.8355,2,  34.8351,2,    344.2,2,     5.79,2,    11.27,2,     0.14,2,     0.82,2, -999.000,9, -999.000,9,       -999,9,   2158.5,2,   -999.0,9,     0.07,2,     0.19,2,  -0.7945
  58GS20090528,   GIN,   230,  1,     18,20130407,1848, 73.4170,  -1.5820, 3132,     29.7,  -0.6400,  34.8202,2,  34.7989,2,    354.3,2,     2.72,2,     9.98,2,     0.07,2,     0.75,2, -999.000,9, -999.000,9,       -999,9,   2154.1,2,   -999.0,9,     0.56,2,     0.52,2,  -0.6409
  58GS20090528,   GIN,   230,  1,     19,20130407,1848, 73.4170,  -1.5820, 3132,     20.9,  -0.0630,  34.8134,2,  34.8120,2,   -999.0,9,     2.38,2,     9.18,2,     0.07,2,     0.80,2, -999.000,9, -999.000,9,       -999,9,   -999.0,9,   -999.0,9,     0.91,2,     1.13,2,  -0.0637
  58GS20090528,   GIN,   230,  1,     20,20130407,1848, 73.4170,  -1.5820, 3132,     20.8,   0.2050,  34.8170,2,-999.0000,9,   -999.0,9,  -999.00,9,  -999.00,9,  -999.00,9,  -999.00,9, -999.000,9, -999.000,9,       -999,9,   -999.0,9,   -999.0,9,  -999.00,9,  -999.00,9,   0.2042
  58GS20090528,   GIN,   230,  1,     21,20130407,1848, 73.4170,  -1.5820, 3132,      9.3,   0.6250,  34.8310,2,  34.8207,2,   -999.0,9,     2.34,2,     7.65,2,     0.07,2,     0.58,2, -999.000,9, -999.000,9,       -999,9,   -999.0,9,   -999.0,9,     0.78,2,     0.86,2,   0.6246
  58GS20090528,   GIN,   230,  1,     22,20130407,1848, 73.4170,  -1.5820, 3132,      5.4,   0.7020,  34.8288,2,  34.8212,2,    365.6,2,     2.36,2,     7.49,2,     0.10,2,     0.58,2, -999.000,9, -999.000,9,       -999,9,   2135.1,2,   -999.0,9,     0.82,2,     0.88,2,   0.7018
  58GS20090528,   GIN,   230,  1,     23,20130407,1848, 73.4170,  -1.5820, 3132,      5.5,   0.6780,  34.8288,2,  34.8211,2,   -999.0,9,  -999.00,9,  -999.00,9,  -999.00,9,  -999.00,9, -999.000,9, -999.000,9,       -999,9,   -999.0,9,   -999.0,9,  -999.00,9,  -999.00,9,   0.6778