BOTTLE,20120326PRINUNIVRMK
EXPOCODE,SECT_ID,STNNBR,CASTNO,BTLNBR,DATE,TIME,LATITUDE,LONGITUDE,DEPTH,CTDPRS,CTDTMP,CTDSAL,CTDSAL_FLAG_W,SALNTY,SALNTY_FLAG_W,OXYGEN,OXYGEN_FLAG_W,SILCAT,SILCAT_FLAG_W,NITRAT,NITRAT_FLAG_W,NITRIT,NITRIT_FLAG_W,PHSPHT,PHSPHT_FLAG_W,CFC-11,CFC-11_FLAG_W,CFC-12,CFC-12_FLAG_W,SF6,SF6_FLAG_W,TCARBN,TCARBN_FLAG_W,ALKALI,ALKALI_FLAG_W,CHLORA,CHLORA_FLAG_W,PHAEO,PHAEO_FLAG_W,THETA
,,,,,,,,,METERS,DBAR,ITS-90,PSS-78,,PSS-78,,UMOL/KG,,UMOL/KG,,UMOL/KG,,UMOL/KG,,UMOL/KG,,PMOL/KG,,PMOL/KG,,FMOL/KG,,UMOL/KG,,UMOL/KG,,UG/KG,,UG/KG,,DEG C
  58GS20090528,   GIN,   269,  1,      1,20091506,0938, 78.9350,   7.7710, 1122,   1111.6,  -0.8810,  34.9054,2,  34.9071,2,    295.2,2,    14.78,2,    15.02,2,     0.01,2,     1.01,2, -999.000,9, -999.000,9,       -999,9,   2165.4,2,   2307.1,2,  -999.00,9,  -999.00,9,  -0.9237
  58GS20090528,   GIN,   269,  1,      2,20091506,0938, 78.9350,   7.7710, 1122,   1000.5,  -0.8380,  34.9046,2,  34.9095,2,    295.8,2,    12.72,2,    14.97,2,     0.01,2,     1.01,2, -999.000,9, -999.000,9,       -999,9,   2165.9,2,   2308.0,2,  -999.00,9,  -999.00,9,  -0.8758
  58GS20090528,   GIN,   269,  1,      3,20091506,0938, 78.9350,   7.7710, 1122,    800.9,  -0.2410,  34.9076,2,  34.9090,2,    301.2,2,     9.20,2,    13.97,2,     0.04,2,     1.01,2, -999.000,9, -999.000,9,       -999,9,   2166.7,2,   2306.3,2,  -999.00,9,  -999.00,9,  -0.2738
  58GS20090528,   GIN,   269,  1,      4,20091506,0938, 78.9350,   7.7710, 1122,    599.9,   1.5010,  34.9877,2,  34.9862,2,    309.5,2,     6.19,2,    12.84,2,     0.01,2,     0.87,2, -999.000,9, -999.000,9,       -999,9,   2162.1,2,   2310.3,2,  -999.00,9,  -999.00,9,   1.4689
  58GS20090528,   GIN,   269,  1,      5,20091506,0938, 78.9350,   7.7710, 1122,    500.2,   3.1680,  35.0687,2,  35.0667,2,    310.1,2,     4.91,2,    11.69,2,     0.06,2,     0.79,2, -999.000,9, -999.000,9,       -999,9,   2152.4,2,   2316.9,2,  -999.00,9,  -999.00,9,   3.1349
  58GS20090528,   GIN,   269,  1,      6,20091506,0938, 78.9350,   7.7710, 1122,    400.4,   3.4440,  35.0661,2,  35.0631,2,    306.4,2,     4.90,2,    11.77,2,     0.03,2,     0.78,2, -999.000,9, -999.000,9,       -999,9,   2151.8,2,   2316.2,2,  -999.00,9,  -999.00,9,   3.4169
  58GS20090528,   GIN,   269,  1,      7,20091506,0938, 78.9350,   7.7710, 1122,    300.0,   3.5930,  35.0558,2,  35.0585,2,    304.9,2,     4.82,2,    11.54,2,     0.08,2,     0.78,2, -999.000,9, -999.000,9,       -999,9,   2151.6,2,   2316.6,2,  -999.00,9,  -999.00,9,   3.5726
  58GS20090528,   GIN,   269,  1,      8,20091506,0938, 78.9350,   7.7710, 1122,    200.0,   3.3630,  34.9466,2,  34.9518,2,    313.3,2,  -999.00,9,  -999.00,9,  -999.00,9,  -999.00,9, -999.000,9, -999.000,9,       -999,9,   2139.5,2,   2314.6,2,  -999.00,9,  -999.00,9,   3.3499
  58GS20090528,   GIN,   269,  1,      9,20091506,0938, 78.9350,   7.7710, 1122,    150.2,   3.8800,  34.9944,2,  34.9906,2,    312.6,2,     3.24,2,     9.10,2,     0.20,2,     0.68,2, -999.000,9, -999.000,9,       -999,9,   -999.0,9,   -999.0,9,  -999.00,9,  -999.00,9,   3.8696
  58GS20090528,   GIN,   269,  1,     10,20091506,0938, 78.9350,   7.7710, 1122,    125.1,   4.2150,  35.0198,2,  34.9947,2,   -999.0,9,     3.02,2,     8.12,2,     0.10,2,     0.61,2, -999.000,9, -999.000,9,       -999,9,   2138.4,2,   2314.4,2,     0.08,2,     0.13,2,   4.2061
  58GS20090528,   GIN,   269,  1,     11,20091506,0938, 78.9350,   7.7710, 1122,    100.4,   4.2260,  34.9980,2,  34.9819,2,    325.3,2,     2.91,2,     7.02,2,     0.08,2,     0.54,2, -999.000,9, -999.000,9,       -999,9,   2120.0,2,   2314.0,2,  -999.00,9,  -999.00,9,   4.2188
  58GS20090528,   GIN,   269,  1,     12,20091506,0938, 78.9350,   7.7710, 1122,     74.6,   4.6050,  35.0479,2,  35.0653,2,    311.4,2,     3.80,2,     9.12,2,     0.07,2,     0.65,2, -999.000,9, -999.000,9,       -999,9,   2133.3,2,   2318.3,2,     0.34,2,     0.17,2,   4.5995
  58GS20090528,   GIN,   269,  1,     13,20091506,0938, 78.9350,   7.7710, 1122,     71.6,   4.7990,  35.0681,2,-999.0000,9,   -999.0,9,  -999.00,9,  -999.00,9,  -999.00,9,  -999.00,9, -999.000,9, -999.000,9,       -999,9,   -999.0,9,   -999.0,9,  -999.00,9,  -999.00,9,   4.7936
  58GS20090528,   GIN,   269,  1,     14,20091506,0938, 78.9350,   7.7710, 1122,     50.0,   5.3140,  35.1223,2,  35.1237,2,   -999.0,9,     4.46,2,    11.00,2,     0.05,2,     0.74,2, -999.000,9, -999.000,9,       -999,9,   -999.0,9,   -999.0,9,     0.66,2,     0.30,2,   5.3100
  58GS20090528,   GIN,   269,  1,     15,20091506,0938, 78.9350,   7.7710, 1122,     49.9,   5.3680,  35.1293,2,-999.0000,9,    296.8,2,  -999.00,9,  -999.00,9,  -999.00,9,  -999.00,9, -999.000,9, -999.000,9,       -999,9,   2143.7,2,   2319.9,2,  -999.00,9,  -999.00,9,   5.3640
  58GS20090528,   GIN,   269,  1,     16,20091506,0938, 78.9350,   7.7710, 1122,     25.3,   5.2970,  35.0855,2,  35.0797,2,    313.8,2,     3.80,2,     8.28,2,     0.09,2,     0.57,2, -999.000,9, -999.000,9,       -999,9,   2126.5,2,   2338.5,2,     0.56,2,     0.33,2,   5.2950
  58GS20090528,   GIN,   269,  1,     17,20091506,0938, 78.9350,   7.7710, 1122,     25.4,   5.3370,  35.0905,2,-999.0000,9,   -999.0,9,  -999.00,9,  -999.00,9,  -999.00,9,  -999.00,9, -999.000,9, -999.000,9,       -999,9,   -999.0,9,   -999.0,9,  -999.00,9,  -999.00,9,   5.3350
  58GS20090528,   GIN,   269,  1,     18,20091506,0938, 78.9350,   7.7710, 1122,      9.9,   5.3700,  35.0951,2,  35.0892,2,   -999.0,9,     3.88,2,     8.62,2,     0.10,2,     0.61,2, -999.000,9, -999.000,9,       -999,9,   -999.0,9,   -999.0,9,     0.58,2,     0.26,2,   5.3692
  58GS20090528,   GIN,   269,  1,     19,20091506,0938, 78.9350,   7.7710, 1122,     10.2,   5.3710,  35.0951,2,-999.0000,9,   -999.0,9,  -999.00,9,  -999.00,9,  -999.00,9,  -999.00,9, -999.000,9, -999.000,9,       -999,9,   -999.0,9,   -999.0,9,  -999.00,9,  -999.00,9,   5.3702
  58GS20090528,   GIN,   269,  1,     20,20091506,0938, 78.9350,   7.7710, 1122,      5.3,   5.3580,  35.0932,2,  35.0876,2,    312.4,2,     3.89,2,     8.50,2,     0.10,2,     0.60,2, -999.000,9, -999.000,9,       -999,9,   2128.2,2,   2323.3,2,     0.67,2,     0.25,2,   5.3576
  58GS20090528,   GIN,   269,  1,     21,20091506,0938, 78.9350,   7.7710, 1122,      5.3,   5.3580,  35.0928,2,-999.0000,9,   -999.0,9,  -999.00,9,  -999.00,9,  -999.00,9,  -999.00,9, -999.000,9, -999.000,9,       -999,9,   -999.0,9,   -999.0,9,  -999.00,9,  -999.00,9,   5.3576
  58GS20090528,   GIN,   270,  1,      1,20091506,1147, 79.0520,   7.2590,  818,     50.8,   5.6270,  35.1385,2,-999.0000,9,   -999.0,9,  -999.00,9,  -999.00,9,  -999.00,9,  -999.00,9, -999.000,9, -999.000,9,       -999,9,   -999.0,9,   -999.0,9,  -999.00,9,  -999.00,9,   5.6228
  58GS20090528,   GIN,   270,  1,      2,20091506,1147, 79.0520,   7.2590,  818,     25.2,   6.0390,  35.1433,2,-999.0000,9,   -999.0,9,  -999.00,9,  -999.00,9,  -999.00,9,  -999.00,9, -999.000,9, -999.000,9,       -999,9,   -999.0,9,   -999.0,9,  -999.00,9,  -999.00,9,   6.0368
  58GS20090528,   GIN,   270,  1,      3,20091506,1147, 79.0520,   7.2590,  818,     25.2,   6.0420,  35.1437,2,-999.0000,9,   -999.0,9,  -999.00,9,  -999.00,9,  -999.00,9,  -999.00,9, -999.000,9, -999.000,9,       -999,9,   -999.0,9,   -999.0,9,  -999.00,9,  -999.00,9,   6.0398
  58GS20090528,   GIN,   270,  1,      4,20091506,1147, 79.0520,   7.2590,  818,     25.3,   6.0420,  35.1441,2,-999.0000,9,   -999.0,9,  -999.00,9,  -999.00,9,  -999.00,9,  -999.00,9, -999.000,9, -999.000,9,       -999,9,   -999.0,9,   -999.0,9,  -999.00,9,  -999.00,9,   6.0398
  58GS20090528,   GIN,   270,  1,      5,20091506,1147, 79.0520,   7.2590,  818,      5.6,   5.4210,  34.9526,2,-999.0000,9,   -999.0,9,  -999.00,9,  -999.00,9,  -999.00,9,  -999.00,9, -999.000,9, -999.000,9,       -999,9,   -999.0,9,   -999.0,9,  -999.00,9,  -999.00,9,   5.4206
  58GS20090528,   GIN,   270,  1,      6,20091506,1147, 79.0520,   7.2590,  818,      5.3,   5.4420,  34.9563,2,-999.0000,9,   -999.0,9,  -999.00,9,  -999.00,9,  -999.00,9,  -999.00,9, -999.000,9, -999.000,9,       -999,9,   -999.0,9,   -999.0,9,  -999.00,9,  -999.00,9,   5.4416
  58GS20090528,   GIN,   270,  1,      7,20091506,1147, 79.0520,   7.2590,  818,      5.3,   5.6590,  35.0127,2,-999.0000,9,   -999.0,9,  -999.00,9,  -999.00,9,  -999.00,9,  -999.00,9, -999.000,9, -999.000,9,       -999,9,   -999.0,9,   -999.0,9,  -999.00,9,  -999.00,9,   5.6586
  58GS20090528,   GIN,   271,  1,      1,20091506,1227, 79.0520,   7.2590, 1292,   1281.6,  -0.8640,  34.9060,2,  34.9061,2,    295.3,2,    13.07,2,    15.09,2,     0.01,2,     1.02,2, -999.000,9, -999.000,9,       -999,9,   2122.9,4,   2321.2,2,  -999.00,9,  -999.00,9,  -0.9154
  58GS20090528,   GIN,   271,  1,      2,20091506,1227, 79.0520,   7.2590, 1292,   1200.2,  -0.8290,  34.9049,2,  34.9025,2,    296.6,2,    12.44,2,    14.94,2,     0.01,2,     1.02,2, -999.000,9, -999.000,9,       -999,9,   2164.8,2,   2312.2,2,  -999.00,9,  -999.00,9,  -0.8766
  58GS20090528,   GIN,   271,  1,      3,20091506,1227, 79.0520,   7.2590, 1292,    999.9,  -0.5820,  34.8998,2,  34.9003,2,    304.7,2,     9.49,2,    14.03,2,     0.01,2,     0.96,2, -999.000,9, -999.000,9,       -999,9,   2166.6,2,   2306.9,2,  -999.00,9,  -999.00,9,  -0.6219
  58GS20090528,   GIN,   271,  1,      4,20091506,1227, 79.0520,   7.2590, 1292,    800.5,   0.2880,  34.9328,2,  34.9282,2,    314.2,2,     7.01,2,    13.12,2,     0.01,2,     0.89,2, -999.000,9, -999.000,9,       -999,9,   2165.3,2,   2310.0,2,  -999.00,9,  -999.00,9,   0.2517
  58GS20090528,   GIN,   271,  1,      5,20091506,1227, 79.0520,   7.2590, 1292,    724.2,   0.8340,  34.9554,2,  35.0096,2,   -999.0,9,  -999.00,9,  -999.00,9,  -999.00,9,  -999.00,9, -999.000,9, -999.000,9,       -999,9,   -999.0,9,   -999.0,9,  -999.00,9,  -999.00,9,   0.7983
  58GS20090528,   GIN,   271,  1,      6,20091506,1227, 79.0520,   7.2590, 1292,    600.4,   1.8460,  35.0026,2,  35.0508,2,    310.2,2,     5.71,2,    12.53,2,     0.01,2,     0.84,2, -999.000,9, -999.000,9,       -999,9,   2159.7,2,   2312.2,2,  -999.00,9,  -999.00,9,   1.8121
  58GS20090528,   GIN,   271,  1,      7,20091506,1227, 79.0520,   7.2590, 1292,    499.9,   2.8500,  35.0581,2,  35.0742,2,    309.7,2,     5.07,2,    11.94,2,     0.02,2,     0.82,2, -999.000,9, -999.000,9,       -999,9,   2155.3,2,   2317.5,2,  -999.00,9,  -999.00,9,   2.8181
  58GS20090528,   GIN,   271,  1,      8,20091506,1227, 79.0520,   7.2590, 1292,    400.1,   3.3830,  35.0736,2,  35.0579,2,    310.4,2,     4.87,2,    11.29,2,     0.11,2,     0.76,2, -999.000,9, -999.000,9,       -999,9,   2151.5,2,   2315.4,2,  -999.00,9,  -999.00,9,   3.3561
  58GS20090528,   GIN,   271,  1,      9,20091506,1227, 79.0520,   7.2590, 1292,    300.8,   3.7740,  35.0603,2,  35.0982,2,    303.1,2,     4.86,2,    11.60,2,     0.03,2,     0.77,2, -999.000,9, -999.000,9,       -999,9,   2152.2,2,   2315.9,2,  -999.00,9,  -999.00,9,   3.7531
  58GS20090528,   GIN,   271,  1,     10,20091506,1227, 79.0520,   7.2590, 1292,    199.8,   4.4480,  35.0995,2,  35.0990,2,    299.3,2,     4.73,2,    11.70,2,     0.03,2,     0.79,2, -999.000,9, -999.000,9,       -999,9,   2151.8,2,   2318.5,2,  -999.00,9,  -999.00,9,   4.4332
  58GS20090528,   GIN,   271,  1,     11,20091506,1227, 79.0520,   7.2590, 1292,    149.9,   4.6790,  35.1024,2,  34.9678,2,    299.0,2,     4.62,2,    11.44,2,     0.04,2,     0.76,2, -999.000,9, -999.000,9,       -999,9,   2150.3,2,   2317.8,2,  -999.00,9,  -999.00,9,   4.6677
  58GS20090528,   GIN,   271,  1,     12,20091506,1227, 79.0520,   7.2590, 1292,    123.5,   3.5920,  34.9191,2,  34.9946,2,    325.3,2,     2.61,2,     6.93,2,     0.08,2,     0.54,2, -999.000,9, -999.000,9,       -999,9,   2124.5,2,   2314.3,2,  -999.00,9,  -999.00,9,   3.5838
  58GS20090528,   GIN,   271,  1,     13,20091506,1227, 79.0520,   7.2590, 1292,    100.2,   4.7540,  35.0493,2,  35.0137,2,    324.0,2,     2.61,2,     7.00,2,     0.08,2,     0.53,2, -999.000,9, -999.000,9,       -999,9,   2125.7,2,   2315.7,2,     0.54,2,     0.30,2,   4.7464
  58GS20090528,   GIN,   271,  1,     14,20091506,1227, 79.0520,   7.2590, 1292,    100.2,   4.7390,  35.0520,2,  35.1172,2,   -999.0,9,  -999.00,9,  -999.00,9,  -999.00,9,  -999.00,9, -999.000,9, -999.000,9,       -999,9,   -999.0,9,   -999.0,9,  -999.00,9,  -999.00,9,   4.7314
  58GS20090528,   GIN,   271,  1,     15,20091506,1227, 79.0520,   7.2590, 1292,     74.6,   4.6280,  35.0119,2,  35.1383,2,    325.1,2,     2.91,2,     6.64,2,     0.09,2,     0.50,2, -999.000,9, -999.000,9,       -999,9,   2119.4,2,   2317.3,2,     0.88,2,     0.38,2,   4.6224
  58GS20090528,   GIN,   271,  1,     16,20091506,1227, 79.0520,   7.2590, 1292,     74.5,   4.6430,  35.0105,2,  35.1371,2,   -999.0,9,  -999.00,9,  -999.00,9,  -999.00,9,  -999.00,9, -999.000,9, -999.000,9,       -999,9,   -999.0,9,   -999.0,9,  -999.00,9,  -999.00,9,   4.6374
  58GS20090528,   GIN,   271,  1,     17,20091506,1227, 79.0520,   7.2590, 1292,     49.6,   5.5330,  35.1157,2,-999.0000,9,    313.4,2,     3.78,2,     7.57,2,     0.12,2,     0.56,2, -999.000,9, -999.000,9,       -999,9,   2130.0,2,   2323.6,2,     0.77,2,     0.44,2,   5.5290
  58GS20090528,   GIN,   271,  1,     18,20091506,1227, 79.0520,   7.2590, 1292,     49.8,   5.5780,  35.1192,2,-999.0000,9,   -999.0,9,  -999.00,9,  -999.00,9,  -999.00,9,  -999.00,9, -999.000,9, -999.000,9,       -999,9,   -999.0,9,   -999.0,9,  -999.00,9,  -999.00,9,   5.5739
  58GS20090528,   GIN,   271,  1,     19,20091506,1227, 79.0520,   7.2590, 1292,     24.3,   6.0410,  35.1394,2,-999.0000,9,    310.1,2,  -999.00,9,  -999.00,9,  -999.00,9,  -999.00,9, -999.000,9, -999.000,9,       -999,9,   2129.4,2,   2324.8,2,     0.44,2,     0.54,2,   6.0389
  58GS20090528,   GIN,   271,  1,     20,20091506,1227, 79.0520,   7.2590, 1292,     24.9,   6.0430,  35.1399,2,-999.0000,9,   -999.0,9,     3.74,2,     7.91,2,     0.12,2,     0.57,2, -999.000,9, -999.000,9,       -999,9,   -999.0,9,   -999.0,9,  -999.00,9,  -999.00,9,   6.0409
  58GS20090528,   GIN,   271,  1,     21,20091506,1227, 79.0520,   7.2590, 1292,     10.3,   5.9210,  35.0979,2,-999.0000,9,   -999.0,9,     3.59,2,     7.49,2,     0.12,2,     0.54,2, -999.000,9, -999.000,9,       -999,9,   -999.0,9,   -999.0,9,     0.64,2,     0.50,2,   5.9201
  58GS20090528,   GIN,   271,  1,     22,20091506,1227, 79.0520,   7.2590, 1292,     10.4,   5.9880,  35.1171,2,-999.0000,9,   -999.0,9,  -999.00,9,  -999.00,9,  -999.00,9,  -999.00,9, -999.000,9, -999.000,9,       -999,9,   -999.0,9,   -999.0,9,  -999.00,9,  -999.00,9,   5.9871
  58GS20090528,   GIN,   271,  1,     23,20091506,1227, 79.0520,   7.2590, 1292,      5.3,   5.8710,  35.0749,2,-999.0000,9,    315.8,2,     3.64,2,     7.36,2,     0.12,2,     0.55,2, -999.000,9, -999.000,9,       -999,9,   -999.0,9,   -999.0,9,     0.77,2,     0.45,2,   5.8706
  58GS20090528,   GIN,   271,  1,     24,20091506,1227, 79.0520,   7.2590, 1292,      5.2,   5.9230,  35.0923,2,-999.0000,9,   -999.0,9,  -999.00,9,  -999.00,9,  -999.00,9,  -999.00,9, -999.000,9, -999.000,9,       -999,9,   -999.0,9,   -999.0,9,  -999.00,9,  -999.00,9,   5.9226
  58GS20090528,   GIN,   272,  1,      1,20091506,2152, 79.0150,   7.1620,  818,     30.3,   6.0280,  35.1356,2,-999.0000,9,   -999.0,9,  -999.00,9,  -999.00,9,  -999.00,9,  -999.00,9, -999.000,9, -999.000,9,       -999,9,   -999.0,9,   -999.0,9,  -999.00,9,  -999.00,9,   6.0254
  58GS20090528,   GIN,   272,  1,      2,20091506,2152, 79.0150,   7.1620,  818,     15.2,   5.9990,  35.1247,2,-999.0000,9,   -999.0,9,  -999.00,9,  -999.00,9,  -999.00,9,  -999.00,9, -999.000,9, -999.000,9,       -999,9,   -999.0,9,   -999.0,9,  -999.00,9,  -999.00,9,   5.9977
  58GS20090528,   GIN,   272,  1,      3,20091506,2152, 79.0150,   7.1620,  818,      4.8,   5.4730,  34.9463,2,-999.0000,9,   -999.0,9,  -999.00,9,  -999.00,9,  -999.00,9,  -999.00,9, -999.000,9, -999.000,9,       -999,9,   -999.0,9,   -999.0,9,  -999.00,9,  -999.00,9,   5.4726
  58GS20090528,   GIN,   273,  1,      1,20091606,0503, 78.9880,   6.8150, 1471,    201.5,   4.1300,  35.0475,2,-999.0000,9,   -999.0,9,  -999.00,9,  -999.00,9,  -999.00,9,  -999.00,9, -999.000,9, -999.000,9,       -999,9,   -999.0,9,   -999.0,9,  -999.00,9,  -999.00,9,   4.1156
  58GS20090528,   GIN,   273,  1,      2,20091606,0503, 78.9880,   6.8150, 1471,    120.5,   5.1790,  35.1118,2,-999.0000,9,   -999.0,9,  -999.00,9,  -999.00,9,  -999.00,9,  -999.00,9, -999.000,9, -999.000,9,       -999,9,   -999.0,9,   -999.0,9,  -999.00,9,  -999.00,9,   5.1694
  58GS20090528,   GIN,   273,  1,      3,20091606,0503, 78.9880,   6.8150, 1471,     90.6,   5.4910,  35.1361,2,-999.0000,9,   -999.0,9,  -999.00,9,  -999.00,9,  -999.00,9,  -999.00,9, -999.000,9, -999.000,9,       -999,9,   -999.0,9,   -999.0,9,  -999.00,9,  -999.00,9,   5.4836
  58GS20090528,   GIN,   273,  1,      4,20091606,0503, 78.9880,   6.8150, 1471,     60.1,   5.7600,  35.1476,2,-999.0000,9,   -999.0,9,  -999.00,9,  -999.00,9,  -999.00,9,  -999.00,9, -999.000,9, -999.000,9,       -999,9,   -999.0,9,   -999.0,9,  -999.00,9,  -999.00,9,   5.7550
  58GS20090528,   GIN,   273,  1,      5,20091606,0503, 78.9880,   6.8150, 1471,     50.3,   5.8360,  35.1453,2,-999.0000,9,   -999.0,9,  -999.00,9,  -999.00,9,  -999.00,9,  -999.00,9, -999.000,9, -999.000,9,       -999,9,   -999.0,9,   -999.0,9,  -999.00,9,  -999.00,9,   5.8318
  58GS20090528,   GIN,   273,  1,      6,20091606,0503, 78.9880,   6.8150, 1471,     40.2,   5.9870,  35.1394,2,-999.0000,9,   -999.0,9,  -999.00,9,  -999.00,9,  -999.00,9,  -999.00,9, -999.000,9, -999.000,9,       -999,9,   -999.0,9,   -999.0,9,  -999.00,9,  -999.00,9,   5.9836
  58GS20090528,   GIN,   273,  1,      7,20091606,0503, 78.9880,   6.8150, 1471,     29.7,   6.0000,  35.1416,2,-999.0000,9,   -999.0,9,  -999.00,9,  -999.00,9,  -999.00,9,  -999.00,9, -999.000,9, -999.000,9,       -999,9,   -999.0,9,   -999.0,9,  -999.00,9,  -999.00,9,   5.9975
  58GS20090528,   GIN,   273,  1,      8,20091606,0503, 78.9880,   6.8150, 1471,     20.0,   6.0250,  35.1374,2,-999.0000,9,   -999.0,9,  -999.00,9,  -999.00,9,  -999.00,9,  -999.00,9, -999.000,9, -999.000,9,       -999,9,   -999.0,9,   -999.0,9,  -999.00,9,  -999.00,9,   6.0233
  58GS20090528,   GIN,   273,  1,      9,20091606,0503, 78.9880,   6.8150, 1471,     10.4,   5.6810,  35.0285,2,-999.0000,9,   -999.0,9,  -999.00,9,  -999.00,9,  -999.00,9,  -999.00,9, -999.000,9, -999.000,9,       -999,9,   -999.0,9,   -999.0,9,  -999.00,9,  -999.00,9,   5.6801
  58GS20090528,   GIN,   273,  1,     10,20091606,0503, 78.9880,   6.8150, 1471,      4.8,   5.4070,  34.9446,2,-999.0000,9,   -999.0,9,  -999.00,9,  -999.00,9,  -999.00,9,  -999.00,9, -999.000,9, -999.000,9,       -999,9,   -999.0,9,   -999.0,9,  -999.00,9,  -999.00,9,   5.4066