BOTTLE,20120326PRINUNIVRMK
EXPOCODE,SECT_ID,STNNBR,CASTNO,BTLNBR,DATE,TIME,LATITUDE,LONGITUDE,DEPTH,CTDPRS,CTDTMP,CTDSAL,CTDSAL_FLAG_W,SALNTY,SALNTY_FLAG_W,OXYGEN,OXYGEN_FLAG_W,SILCAT,SILCAT_FLAG_W,NITRAT,NITRAT_FLAG_W,NITRIT,NITRIT_FLAG_W,PHSPHT,PHSPHT_FLAG_W,CFC-11,CFC-11_FLAG_W,CFC-12,CFC-12_FLAG_W,SF6,SF6_FLAG_W,TCARBN,TCARBN_FLAG_W,ALKALI,ALKALI_FLAG_W,CHLORA,CHLORA_FLAG_W,PHAEO,PHAEO_FLAG_W,THETA
,,,,,,,,,METERS,DBAR,ITS-90,PSS-78,,PSS-78,,UMOL/KG,,UMOL/KG,,UMOL/KG,,UMOL/KG,,UMOL/KG,,PMOL/KG,,PMOL/KG,,FMOL/KG,,UMOL/KG,,UMOL/KG,,UG/KG,,UG/KG,,DEG C
  58GS20090528,   GIN,   287,  1,      1,20092006,0249, 77.0000,   4.4980, 2860,   2850.2,  -0.8110,  34.9102,2,  34.9135,2,    298.5,2,    12.75,2,    14.78,2,     0.02,2,     1.02,2, -999.000,9,    0.377,2,       -999,9,   2163.0,2,   2308.3,2,  -999.00,9,  -999.00,9,  -0.9654
  58GS20090528,   GIN,   287,  1,      2,20092006,0249, 77.0000,   4.4980, 2860,   2500.5,  -0.8120,  34.9104,2,  34.9132,2,    298.2,2,    12.45,2,    14.89,2,     0.03,2,     1.04,2, -999.000,9,    0.386,2,       -999,9,   2162.5,2,   2308.4,2,  -999.00,9,  -999.00,9,  -0.9401
  58GS20090528,   GIN,   287,  1,      3,20092006,0249, 77.0000,   4.4980, 2860,   1999.6,  -0.7830,  34.9090,2,  34.9130,2,    298.5,2,    11.76,2,    14.67,2,     0.01,2,     1.01,2, -999.000,9,    0.536,2,       -999,9,   2162.9,2,   2307.2,2,  -999.00,9,  -999.00,9,  -0.8772
  58GS20090528,   GIN,   287,  1,      4,20092006,0249, 77.0000,   4.4980, 2860,   1502.0,  -0.6760,  34.9005,2,  34.9052,2,    306.4,2,     9.63,2,    13.97,2,     0.01,2,     0.98,2, -999.000,9,    1.379,2,       -999,9,   2164.3,2,   2306.4,2,  -999.00,9,  -999.00,9,  -0.7415
  58GS20090528,   GIN,   287,  1,      5,20092006,0249, 77.0000,   4.4980, 2860,   1200.3,  -0.5590,  34.8993,2,  34.9023,2,   -999.0,9,     7.29,2,    12.97,2,     0.02,2,     0.92,2, -999.000,9,    2.601,2,       -999,9,   -999.0,9,   -999.0,9,  -999.00,9,  -999.00,9,  -0.6092
  58GS20090528,   GIN,   287,  1,      6,20092006,0249, 77.0000,   4.4980, 2860,   1000.6,  -0.3590,  34.9122,2,  34.9153,2,    328.8,2,     6.63,2,    12.67,2,     0.01,2,     0.89,2, -999.000,9,    2.936,2,       -999,9,   2165.2,2,   2305.0,2,  -999.00,9,  -999.00,9,  -0.4008
  58GS20090528,   GIN,   287,  1,      7,20092006,0249, 77.0000,   4.4980, 2860,    800.7,  -0.2220,  34.9210,2,  34.9256,2,    329.8,2,     6.33,2,    12.47,2,     0.03,2,     0.88,2, -999.000,9,    3.031,2,       -999,9,   2164.7,2,   2308.5,2,  -999.00,9,  -999.00,9,  -0.2549
  58GS20090528,   GIN,   287,  1,      8,20092006,0249, 77.0000,   4.4980, 2860,    600.6,  -0.2070,  34.9200,2,  34.9207,2,    329.8,2,     6.33,2,    12.56,2,     0.03,2,     0.89,2, -999.000,9,    3.004,2,       -999,9,   2164.7,2,   2305.7,2,  -999.00,9,  -999.00,9,  -0.2307
  58GS20090528,   GIN,   287,  1,      9,20092006,0249, 77.0000,   4.4980, 2860,    500.7,  -0.2500,  34.9120,2,  34.9139,2,    327.6,2,     6.51,2,    12.41,2,     0.02,2,     0.88,2, -999.000,9,    2.934,2,       -999,9,   2165.6,2,   2304.4,2,  -999.00,9,  -999.00,9,  -0.2691
  58GS20090528,   GIN,   287,  1,     10,20092006,0249, 77.0000,   4.4980, 2860,    401.0,  -0.0450,  34.9216,2,  34.9284,2,    328.6,2,     6.23,2,    12.40,2,     0.03,2,     0.89,2, -999.000,9,    3.063,6,       -999,9,   2163.3,2,   2305.6,2,  -999.00,9,  -999.00,9,  -0.0606
  58GS20090528,   GIN,   287,  1,     11,20092006,0249, 77.0000,   4.4980, 2860,    299.6,   0.2890,  34.9449,2,  34.9471,2,    328.8,2,     5.97,2,    12.40,2,     0.02,2,     0.86,2, -999.000,9,    3.111,2,       -999,9,   2163.5,2,   2308.5,2,  -999.00,9,  -999.00,9,   0.2768
  58GS20090528,   GIN,   287,  1,     12,20092006,0249, 77.0000,   4.4980, 2860,    200.5,   0.2870,  34.9413,2,  34.9449,2,    330.1,2,     5.89,2,    12.33,2,     0.02,2,     0.85,2, -999.000,9,    3.161,2,       -999,9,   2163.4,2,   2308.6,2,  -999.00,9,  -999.00,9,   0.2790
  58GS20090528,   GIN,   287,  1,     13,20092006,0249, 77.0000,   4.4980, 2860,    150.0,   0.3300,  34.9434,2,  34.9471,2,    329.5,2,     5.89,2,    12.11,2,     0.04,2,     0.84,2, -999.000,9, -999.000,9,       -999,9,   2163.1,2,   2309.5,2,  -999.00,9,  -999.00,9,   0.3240
  58GS20090528,   GIN,   287,  1,     14,20092006,0249, 77.0000,   4.4980, 2860,    124.2,   0.3270,  34.9420,2,  34.9398,2,   -999.0,9,     5.92,2,    12.26,2,     0.03,2,     0.87,2, -999.000,9, -999.000,9,       -999,9,   -999.0,9,   -999.0,9,  -999.00,9,  -999.00,9,   0.3221
  58GS20090528,   GIN,   287,  1,     15,20092006,0249, 77.0000,   4.4980, 2860,     99.7,   0.2790,  34.9341,2,  34.9291,2,    327.4,2,     6.07,2,    12.37,2,     0.05,2,     0.86,2, -999.000,9,    3.081,2,       -999,9,   2162.8,2,   2305.8,2,     0.02,2,     0.04,2,   0.2751
  58GS20090528,   GIN,   287,  1,     16,20092006,0249, 77.0000,   4.4980, 2860,     74.8,   0.4040,  34.9340,2,  34.9319,2,    326.3,2,     6.13,2,    12.29,2,     0.06,2,     0.86,2, -999.000,9, -999.000,9,       -999,9,   2163.2,2,   2309.2,2,     0.04,2,     0.08,2,   0.4010
  58GS20090528,   GIN,   287,  1,     17,20092006,0249, 77.0000,   4.4980, 2860,     50.7,   0.7800,  34.9477,2,  34.9529,2,    327.2,2,     5.79,2,    11.67,2,     0.08,2,     0.83,2, -999.000,9,    3.070,2,       -999,9,   2160.0,2,   2309.7,2,     0.14,2,     0.12,2,   0.7778
  58GS20090528,   GIN,   287,  1,     18,20092006,0249, 77.0000,   4.4980, 2860,     25.0,   2.0620,  34.9807,2,  35.0003,2,    337.3,2,     4.61,2,     8.09,2,     0.08,2,     0.65,2, -999.000,9, -999.000,9,       -999,9,   2140.0,2,   2315.3,2,     0.87,2,     0.32,2,   2.0607
  58GS20090528,   GIN,   287,  1,     19,20092006,0249, 77.0000,   4.4980, 2860,     25.4,   2.9420,  35.0004,2,-999.0000,9,   -999.0,9,  -999.00,9,  -999.00,9,  -999.00,9,  -999.00,9, -999.000,9, -999.000,9,       -999,9,   -999.0,9,   -999.0,9,  -999.00,9,  -999.00,9,   2.9405
  58GS20090528,   GIN,   287,  1,     20,20092006,0249, 77.0000,   4.4980, 2860,     14.9,   3.5540,  35.0250,2,  35.0263,2,   -999.0,9,     4.18,2,     6.60,2,     0.07,2,     0.55,2, -999.000,9, -999.000,9,       -999,9,   -999.0,9,   -999.0,9,     0.95,2,     0.25,2,   3.5530
  58GS20090528,   GIN,   287,  1,     21,20092006,0249, 77.0000,   4.4980, 2860,     10.5,   3.5890,  35.0267,2,  35.0245,2,    338.5,2,     4.17,2,     6.57,2,     0.07,2,     0.57,2, -999.000,9,    3.128,2,       -999,9,   2129.0,2,   2317.4,2,     0.84,2,     0.21,2,   3.5883
  58GS20090528,   GIN,   287,  1,     22,20092006,0249, 77.0000,   4.4980, 2860,     10.5,   3.6340,  35.0268,2,-999.0000,9,   -999.0,9,  -999.00,9,  -999.00,9,  -999.00,9,  -999.00,9, -999.000,9, -999.000,9,       -999,9,   -999.0,9,   -999.0,9,  -999.00,9,  -999.00,9,   3.6333
  58GS20090528,   GIN,   287,  1,     23,20092006,0249, 77.0000,   4.4980, 2860,      5.4,   3.7630,  35.0203,2,  35.0218,2,   -999.0,9,     4.19,2,     6.46,2,     0.07,2,     0.54,2, -999.000,9, -999.000,9,       -999,9,   -999.0,9,   -999.0,9,     0.77,2,     0.20,2,   3.7626
  58GS20090528,   GIN,   287,  1,     24,20092006,0249, 77.0000,   4.4980, 2860,      5.4,   3.8520,  35.0265,2,-999.0000,9,   -999.0,9,  -999.00,9,  -999.00,9,  -999.00,9,  -999.00,9, -999.000,9, -999.000,9,       -999,9,   -999.0,9,   -999.0,9,  -999.00,9,  -999.00,9,   3.8516
  58GS20090528,   GIN,   288,  1,      1,20092006,0700, 77.0000,   6.0050, 2516,   1979.6,  -0.8320,  34.9091,2,  34.9122,2,    297.2,2,    12.78,2,    15.12,2,     0.02,2,     1.11,2, -999.000,9, -999.000,9,       -999,9,   2161.9,2,   -999.0,9,  -999.00,9,  -999.00,9,  -0.9242
  58GS20090528,   GIN,   288,  1,      2,20092006,0700, 77.0000,   6.0050, 2516,   1500.3,  -0.7610,  34.9053,2,  34.9088,2,    299.2,2,    11.29,2,    14.52,2,     0.01,2,     1.05,2, -999.000,9, -999.000,9,       -999,9,   2163.1,2,   -999.0,9,  -999.00,9,  -999.00,9,  -0.8254
  58GS20090528,   GIN,   288,  1,      3,20092006,0700, 77.0000,   6.0050, 2516,   1200.5,  -0.6770,  34.8999,2,  34.9064,2,   -999.0,9,     9.77,2,    14.14,2,     0.02,2,     0.99,2, -999.000,9, -999.000,9,       -999,9,   -999.0,9,   -999.0,9,  -999.00,9,  -999.00,9,  -0.7261
  58GS20090528,   GIN,   288,  1,      4,20092006,0700, 77.0000,   6.0050, 2516,   1000.5,  -0.5680,  34.8997,2,  34.9066,2,    322.5,2,     7.57,2,    13.25,2,     0.01,2,     0.91,2, -999.000,9, -999.000,9,       -999,9,   2163.5,2,   -999.0,9,  -999.00,9,  -999.00,9,  -0.6080
  58GS20090528,   GIN,   288,  1,      5,20092006,0700, 77.0000,   6.0050, 2516,    799.8,  -0.3560,  34.9113,2,  34.9129,2,    324.2,2,     7.02,2,    13.04,2,     0.01,2,     0.91,2, -999.000,9, -999.000,9,       -999,9,   2162.0,2,   -999.0,9,  -999.00,9,  -999.00,9,  -0.3880
  58GS20090528,   GIN,   288,  1,      6,20092006,0700, 77.0000,   6.0050, 2516,    599.9,  -0.1850,  34.9177,2,  34.9227,2,    320.7,2,     6.95,2,    12.85,2,     0.01,2,     0.89,2, -999.000,9, -999.000,9,       -999,9,   2162.9,2,   -999.0,9,  -999.00,9,  -999.00,9,  -0.2087
  58GS20090528,   GIN,   288,  1,      7,20092006,0700, 77.0000,   6.0050, 2516,    500.8,  -0.0170,  34.9276,2,  34.9296,2,    321.3,2,     6.78,2,    12.94,2,     0.02,2,     0.89,2, -999.000,9, -999.000,9,       -999,9,   2162.9,2,   -999.0,9,  -999.00,9,  -999.00,9,  -0.0371
  58GS20090528,   GIN,   288,  1,      8,20092006,0700, 77.0000,   6.0050, 2516,    400.8,   0.1940,  34.9372,2,  34.9333,2,    321.6,2,     6.55,2,    12.78,2,     0.03,2,     0.88,2, -999.000,9, -999.000,9,       -999,9,   2163.2,2,   -999.0,9,  -999.00,9,  -999.00,9,   0.1776
  58GS20090528,   GIN,   288,  1,      9,20092006,0700, 77.0000,   6.0050, 2516,    299.5,   0.3550,  34.9381,2,  34.9402,2,    319.4,2,     6.44,2,    12.86,2,     0.02,2,     0.88,2, -999.000,9, -999.000,9,       -999,9,   2162.4,2,   -999.0,9,  -999.00,9,  -999.00,9,   0.3426
  58GS20090528,   GIN,   288,  1,     10,20092006,0700, 77.0000,   6.0050, 2516,    200.4,   0.7500,  34.9509,2,  34.9536,2,    322.4,2,     5.99,2,    12.33,2,     0.06,2,     0.87,2, -999.000,9, -999.000,9,       -999,9,   2161.9,2,   -999.0,9,  -999.00,9,  -999.00,9,   0.7412
  58GS20090528,   GIN,   288,  1,     11,20092006,0700, 77.0000,   6.0050, 2516,    149.2,   1.1500,  34.9684,2,  34.9722,2,    321.7,2,     5.60,2,    11.83,2,     0.06,2,     0.83,2, -999.000,9, -999.000,9,       -999,9,   2160.2,2,   -999.0,9,  -999.00,9,  -999.00,9,   1.1430
  58GS20090528,   GIN,   288,  1,     12,20092006,0700, 77.0000,   6.0050, 2516,    124.9,   1.4360,  34.9830,2,  34.9854,2,   -999.0,9,     5.79,2,    12.18,2,     0.07,2,     0.84,2, -999.000,9, -999.000,9,       -999,9,   -999.0,9,   -999.0,9,  -999.00,9,  -999.00,9,   1.4299
  58GS20090528,   GIN,   288,  1,     13,20092006,0700, 77.0000,   6.0050, 2516,    100.6,   1.8800,  35.0116,2,  35.0111,2,    316.5,2,     5.53,2,    11.99,2,     0.10,2,     0.88,2, -999.000,9, -999.000,9,       -999,9,   2159.4,2,   -999.0,9,     0.03,2,     0.08,2,   1.8747
  58GS20090528,   GIN,   288,  1,     14,20092006,0700, 77.0000,   6.0050, 2516,     75.5,   1.9840,  35.0162,2,  35.0186,2,    321.6,2,     5.14,2,    11.07,2,     0.10,2,     0.79,2, -999.000,9, -999.000,9,       -999,9,   2154.7,2,   -999.0,9,     0.07,2,     0.17,2,   1.9800
  58GS20090528,   GIN,   288,  1,     15,20092006,0700, 77.0000,   6.0050, 2516,     49.6,   2.3650,  35.0313,2,  35.0346,2,    323.8,2,     4.95,2,    10.15,2,     0.12,2,     0.78,2, -999.000,9, -999.000,9,       -999,9,   2151.1,2,   -999.0,9,     0.19,2,     0.16,2,   2.3622
  58GS20090528,   GIN,   288,  1,     16,20092006,0700, 77.0000,   6.0050, 2516,     49.7,   2.4970,  35.0351,2,-999.0000,9,   -999.0,9,  -999.00,9,  -999.00,9,  -999.00,9,  -999.00,9, -999.000,9, -999.000,9,       -999,9,   -999.0,9,   -999.0,9,  -999.00,9,  -999.00,9,   2.4942
  58GS20090528,   GIN,   288,  1,     17,20092006,0700, 77.0000,   6.0050, 2516,     24.8,   3.7760,  35.0620,2,  35.0627,2,    333.1,2,     4.30,2,     6.84,2,     0.08,2,     0.56,2, -999.000,9, -999.000,9,       -999,9,   2128.8,2,   -999.0,9,     1.14,2,     0.35,2,   3.7743
  58GS20090528,   GIN,   288,  1,     18,20092006,0700, 77.0000,   6.0050, 2516,     25.1,   3.8900,  35.0621,2,-999.0000,9,   -999.0,9,  -999.00,9,  -999.00,9,  -999.00,9,  -999.00,9, -999.000,9, -999.000,9,       -999,9,   -999.0,9,   -999.0,9,  -999.00,9,  -999.00,9,   3.8883
  58GS20090528,   GIN,   288,  1,     19,20092006,0700, 77.0000,   6.0050, 2516,     14.9,   4.0640,  35.0670,2,  35.0633,2,   -999.0,9,     4.25,2,     6.22,2,     0.09,2,     0.56,2, -999.000,9, -999.000,9,       -999,9,   -999.0,9,   -999.0,9,     1.69,2,     0.37,2,   4.0630
  58GS20090528,   GIN,   288,  1,     20,20092006,0700, 77.0000,   6.0050, 2516,     15.0,   4.0750,  35.0683,2,-999.0000,9,   -999.0,9,  -999.00,9,  -999.00,9,  -999.00,9,  -999.00,9, -999.000,9, -999.000,9,       -999,9,   -999.0,9,   -999.0,9,  -999.00,9,  -999.00,9,   4.0740
  58GS20090528,   GIN,   288,  1,     21,20092006,0700, 77.0000,   6.0050, 2516,      9.3,   4.1610,  35.0711,2,  35.0720,2,    337.4,2,     4.16,2,     5.75,2,     0.08,2,     0.52,2, -999.000,9, -999.000,9,       -999,9,   2122.5,2,   -999.0,9,     1.33,2,     0.33,2,   4.1603
  58GS20090528,   GIN,   288,  1,     22,20092006,0700, 77.0000,   6.0050, 2516,      9.7,   4.2920,  35.0720,2,-999.0000,9,   -999.0,9,  -999.00,9,  -999.00,9,  -999.00,9,  -999.00,9, -999.000,9, -999.000,9,       -999,9,   -999.0,9,   -999.0,9,  -999.00,9,  -999.00,9,   4.2913
  58GS20090528,   GIN,   288,  1,     23,20092006,0700, 77.0000,   6.0050, 2516,      4.7,   4.5530,  35.0698,2,  35.0703,2,   -999.0,9,     4.14,2,     5.72,2,     0.08,2,     0.50,2, -999.000,9, -999.000,9,       -999,9,   -999.0,9,   -999.0,9,     1.13,2,     0.29,2,   4.5527
  58GS20090528,   GIN,   288,  1,     24,20092006,0700, 77.0000,   6.0050, 2516,      5.0,   4.5720,  35.0713,2,-999.0000,9,   -999.0,9,  -999.00,9,  -999.00,9,  -999.00,9,  -999.00,9, -999.000,9, -999.000,9,       -999,9,   -999.0,9,   -999.0,9,  -999.00,9,  -999.00,9,   4.5716