BOTTLE,20120326PRINUNIVRMK
EXPOCODE,SECT_ID,STNNBR,CASTNO,BTLNBR,DATE,TIME,LATITUDE,LONGITUDE,DEPTH,CTDPRS,CTDTMP,CTDSAL,CTDSAL_FLAG_W,SALNTY,SALNTY_FLAG_W,OXYGEN,OXYGEN_FLAG_W,SILCAT,SILCAT_FLAG_W,NITRAT,NITRAT_FLAG_W,NITRIT,NITRIT_FLAG_W,PHSPHT,PHSPHT_FLAG_W,CFC-11,CFC-11_FLAG_W,CFC-12,CFC-12_FLAG_W,SF6,SF6_FLAG_W,TCARBN,TCARBN_FLAG_W,ALKALI,ALKALI_FLAG_W,CHLORA,CHLORA_FLAG_W,PHAEO,PHAEO_FLAG_W,THETA
,,,,,,,,,METERS,DBAR,ITS-90,PSS-78,,PSS-78,,UMOL/KG,,UMOL/KG,,UMOL/KG,,UMOL/KG,,UMOL/KG,,PMOL/KG,,PMOL/KG,,FMOL/KG,,UMOL/KG,,UMOL/KG,,UG/KG,,UG/KG,,DEG C
  58GS20090528,   GIN,   254,  1,      1,20091106,0317, 74.5000,  14.4160, 2010,   2000.4,  -0.8490,  34.9079,2,  34.9107,2,    294.6,2,    13.73,2,    15.06,2,     0.01,2,     1.03,2, -999.000,9, -999.000,9,       -999,9,   2166.2,2,   2310.8,2,  -999.00,9,  -999.00,9,  -0.9422
  58GS20090528,   GIN,   254,  1,      2,20091106,0317, 74.5000,  14.4160, 2010,   1499.1,  -0.7480,  34.9053,2,  34.9068,2,    296.8,2,    11.76,2,    14.61,2,     0.01,2,     1.01,2, -999.000,9, -999.000,9,       -999,9,   2163.9,2,   2308.2,2,  -999.00,9,  -999.00,9,  -0.8125
  58GS20090528,   GIN,   254,  1,      3,20091106,0317, 74.5000,  14.4160, 2010,   1199.5,  -0.6300,  34.9015,2,  34.9049,2,   -999.0,9,    10.56,2,    14.43,2,     0.01,2,     1.00,2, -999.000,9, -999.000,9,       -999,9,   -999.0,9,   -999.0,9,  -999.00,9,  -999.00,9,  -0.6795
  58GS20090528,   GIN,   254,  1,      4,20091106,0317, 74.5000,  14.4160, 2010,   1000.4,  -0.4840,  34.8983,2,  34.9007,2,    302.2,2,     9.28,2,    14.13,2,     0.01,2,     0.98,2, -999.000,9, -999.000,9,       -999,9,   2166.0,2,   2307.1,2,  -999.00,9,  -999.00,9,  -0.5247
  58GS20090528,   GIN,   254,  1,      5,20091106,0317, 74.5000,  14.4160, 2010,    800.3,  -0.0900,  34.9005,2,  34.9746,2,    303.7,2,     8.05,2,    13.80,2,     0.01,2,     0.96,2, -999.000,9, -999.000,9,       -999,9,   2167.1,2,   2308.2,2,  -999.00,9,  -999.00,9,  -0.1238
  58GS20090528,   GIN,   254,  1,      6,20091106,0317, 74.5000,  14.4160, 2010,    600.0,   1.6140,  34.9778,2,-999.0000,9,    307.2,2,     6.12,2,    12.87,2,     0.01,2,     0.89,2, -999.000,9, -999.000,9,       -999,9,   2161.5,2,   2309.7,2,  -999.00,9,  -999.00,9,   1.5813
  58GS20090528,   GIN,   254,  1,      7,20091106,0317, 74.5000,  14.4160, 2010,    500.6,   2.6520,  35.0354,2,  35.0371,2,    307.7,2,     5.30,2,    12.17,2,     0.02,2,     0.83,2, -999.000,9, -999.000,9,       -999,9,   2154.2,2,   2312.9,2,  -999.00,9,  -999.00,9,   2.6209
  58GS20090528,   GIN,   254,  1,      8,20091106,0317, 74.5000,  14.4160, 2010,    399.9,   3.5090,  35.0889,2,  35.0888,2,    307.8,2,     4.88,2,    11.48,2,     0.04,2,     0.78,2, -999.000,9, -999.000,9,       -999,9,   2151.0,2,   2318.4,2,  -999.00,9,  -999.00,9,   3.4817
  58GS20090528,   GIN,   254,  1,      9,20091106,0317, 74.5000,  14.4160, 2010,    300.8,   4.0850,  35.1083,2,  35.1089,2,    303.0,2,     4.83,2,    11.61,2,     0.02,2,     0.79,2, -999.000,9, -999.000,9,       -999,9,   2150.3,2,   2319.6,2,  -999.00,9,  -999.00,9,   4.0633
  58GS20090528,   GIN,   254,  1,     10,20091106,0317, 74.5000,  14.4160, 2010,    199.2,   4.9130,  35.1345,2,  35.1316,2,    298.0,2,     4.81,2,    11.45,2,     0.05,2,     0.78,2, -999.000,9, -999.000,9,       -999,9,   2146.7,2,   2304.7,2,  -999.00,9,  -999.00,9,   4.8975
  58GS20090528,   GIN,   254,  1,     11,20091106,0317, 74.5000,  14.4160, 2010,    149.7,   5.2660,  35.1469,2,  35.1438,2,    295.8,2,     4.85,2,    11.43,2,     0.04,2,     0.78,2, -999.000,9, -999.000,9,       -999,9,   2148.3,2,   2308.1,2,  -999.00,9,  -999.00,9,   5.2540
  58GS20090528,   GIN,   254,  1,     12,20091106,0317, 74.5000,  14.4160, 2010,    100.4,   5.7320,  35.1625,2,  35.1596,2,    293.5,2,     4.72,2,    11.28,2,     0.04,2,     0.77,2, -999.000,9, -999.000,9,       -999,9,   -999.0,9,   -999.0,9,     0.03,2,     0.11,2,   5.7236
  58GS20090528,   GIN,   254,  1,     13,20091106,0317, 74.5000,  14.4160, 2010,     75.2,   5.9980,  35.1710,2,  35.1701,2,    291.6,2,     4.72,2,    11.22,2,     0.10,2,     0.76,2, -999.000,9, -999.000,9,       -999,9,   2146.6,2,   2314.0,2,     0.04,2,     0.15,2,   5.9916
  58GS20090528,   GIN,   254,  1,     14,20091106,0317, 74.5000,  14.4160, 2010,     50.5,   6.2940,  35.1677,2,  35.1699,2,    290.7,2,     4.54,2,    10.81,2,     0.10,2,     0.74,2, -999.000,9, -999.000,9,       -999,9,   2143.4,2,   2294.7,2,     0.15,2,     0.16,2,   6.2896
  58GS20090528,   GIN,   254,  1,     15,20091106,0317, 74.5000,  14.4160, 2010,     30.2,   6.5210,  35.1463,2,  35.1411,2,    309.4,2,     3.86,2,     6.08,2,     0.12,2,     0.50,2, -999.000,9, -999.000,9,       -999,9,   2119.7,2,   2312.3,2,     0.53,2,     0.45,2,   6.5183
  58GS20090528,   GIN,   254,  1,     16,20091106,0317, 74.5000,  14.4160, 2010,     18.4,   7.0420,  35.1350,2,-999.0000,9,   -999.0,9,     3.62,2,     5.27,2,     0.10,2,     0.43,2, -999.000,9, -999.000,9,       -999,9,   -999.0,9,   -999.0,9,     0.75,2,     0.28,2,   7.0403
  58GS20090528,   GIN,   254,  1,     17,20091106,0317, 74.5000,  14.4160, 2010,     18.5,   7.0030,  35.1363,2,-999.0000,9,   -999.0,9,  -999.00,9,  -999.00,9,  -999.00,9,  -999.00,9, -999.000,9, -999.000,9,       -999,9,   -999.0,9,   -999.0,9,  -999.00,9,  -999.00,9,   7.0013
  58GS20090528,   GIN,   254,  1,     18,20091106,0317, 74.5000,  14.4160, 2010,     10.4,   7.0500,  35.1369,2,  35.1305,2,   -999.0,9,     3.55,2,     4.78,2,     0.09,2,     0.40,2, -999.000,9, -999.000,9,       -999,9,   -999.0,9,   -999.0,9,     0.88,2,     0.15,2,   7.0490
  58GS20090528,   GIN,   254,  1,     19,20091106,0317, 74.5000,  14.4160, 2010,      4.8,   7.0510,  35.1374,2,  35.1305,2,    316.1,2,     3.50,2,     4.76,2,     0.09,2,     0.40,2, -999.000,9, -999.000,9,       -999,9,   2110.2,2,   2323.9,2,     0.89,2,     0.19,2,   7.0506
  58GS20090528,   GIN,   254,  1,     20,20091106,0317, 74.5000,  14.4160, 2010,      4.7,   7.0510,  35.1374,2,-999.0000,9,   -999.0,9,  -999.00,9,  -999.00,9,  -999.00,9,  -999.00,9, -999.000,9, -999.000,9,       -999,9,   -999.0,9,   -999.0,9,  -999.00,9,  -999.00,9,   7.0506
  58GS20090528,   GIN,   255,  1,      1,20091106,0739, 74.5000,  15.2500, 1550,   1540.0,  -0.8660,  34.9077,2,  34.9096,2,    294.4,2,    13.55,2,    14.97,2,     0.01,2,     1.03,2, -999.000,9, -999.000,9,       -999,9,   2164.3,2,   2313.1,2,  -999.00,9,  -999.00,9,  -0.9313
  58GS20090528,   GIN,   255,  1,      2,20091106,0739, 74.5000,  15.2500, 1550,   1500.8,  -0.8680,  34.9076,2,  34.9138,2,    294.4,2,    13.55,2,    15.00,2,     0.01,2,     1.03,2, -999.000,9, -999.000,9,       -999,9,   2163.2,2,   2311.1,2,  -999.00,9,  -999.00,9,  -0.9311
  58GS20090528,   GIN,   255,  1,      3,20091106,0739, 74.5000,  15.2500, 1550,   1200.6,  -0.7220,  34.9043,2,  34.9082,2,    297.2,2,    11.52,2,    14.29,2,     0.01,2,     1.01,2, -999.000,9, -999.000,9,       -999,9,   2162.6,2,   2308.3,2,  -999.00,9,  -999.00,9,  -0.7707
  58GS20090528,   GIN,   255,  1,      4,20091106,0739, 74.5000,  15.2500, 1550,   1000.7,  -0.4550,  34.9006,2,  34.9021,2,    300.0,2,     9.52,2,    14.25,2,     0.01,2,     0.99,2, -999.000,9, -999.000,9,       -999,9,   2166.7,2,   2302.4,2,  -999.00,9,  -999.00,9,  -0.4959
  58GS20090528,   GIN,   255,  1,      5,20091106,0739, 74.5000,  15.2500, 1550,    800.4,   0.2070,  34.9089,2,  34.9111,2,    304.8,2,     7.71,2,    13.67,2,     0.01,2,     0.95,2, -999.000,9, -999.000,9,       -999,9,   2164.0,2,   2306.3,2,  -999.00,9,  -999.00,9,   0.1713
  58GS20090528,   GIN,   255,  1,      6,20091106,0739, 74.5000,  15.2500, 1550,    600.4,   2.5170,  35.0465,2,  35.0399,2,    311.0,2,     5.12,2,    11.91,2,     0.02,2,     0.82,2, -999.000,9, -999.000,9,       -999,9,   2156.2,2,   2302.2,2,  -999.00,9,  -999.00,9,   2.4799
  58GS20090528,   GIN,   255,  1,      7,20091106,0739, 74.5000,  15.2500, 1550,    500.1,   3.0230,  35.0792,2,  35.0801,2,    311.4,2,     4.88,2,    11.60,2,     0.02,2,     0.80,2, -999.000,9, -999.000,9,       -999,9,   2151.7,2,   2315.6,2,  -999.00,9,  -999.00,9,   2.9904
  58GS20090528,   GIN,   255,  1,      8,20091106,0739, 74.5000,  15.2500, 1550,    399.2,   3.4220,  35.0913,2,  35.0819,2,    308.9,2,     4.88,2,    11.48,2,     0.05,2,     0.79,2, -999.000,9, -999.000,9,       -999,9,   2151.7,2,   2319.4,2,  -999.00,9,  -999.00,9,   3.3951
  58GS20090528,   GIN,   255,  1,      9,20091106,0739, 74.5000,  15.2500, 1550,    300.1,   3.9300,  35.1072,2,  35.1034,2,    304.3,2,     4.84,2,    11.48,2,     0.03,2,     0.78,2, -999.000,9, -999.000,9,       -999,9,   2151.4,2,   2319.0,2,  -999.00,9,  -999.00,9,   3.9087
  58GS20090528,   GIN,   255,  1,     10,20091106,0739, 74.5000,  15.2500, 1550,    199.9,   4.6820,  35.1271,2,  35.1246,2,    297.9,2,     4.85,2,    11.58,2,     0.02,2,     0.79,2, -999.000,9, -999.000,9,       -999,9,   2146.8,2,   2321.0,2,  -999.00,9,  -999.00,9,   4.6668
  58GS20090528,   GIN,   255,  1,     11,20091106,0739, 74.5000,  15.2500, 1550,    149.9,   5.0210,  35.1374,2,  35.1388,2,    297.7,2,     4.79,2,    11.26,2,     0.06,2,     0.77,2, -999.000,9, -999.000,9,       -999,9,   2145.1,2,   2320.1,2,  -999.00,9,  -999.00,9,   5.0093
  58GS20090528,   GIN,   255,  1,     12,20091106,0739, 74.5000,  15.2500, 1550,    100.1,   5.5230,  35.1546,2,  35.1474,2,    295.3,2,     4.70,2,    11.03,2,     0.15,2,     0.76,2, -999.000,9, -999.000,9,       -999,9,   2145.8,2,   2321.5,2,     0.03,2,     0.16,2,   5.5148
  58GS20090528,   GIN,   255,  1,     13,20091106,0739, 74.5000,  15.2500, 1550,     74.3,   5.7210,  35.1628,2,  35.1478,2,    296.4,2,     4.65,2,    10.55,2,     0.21,2,     0.74,2, -999.000,9, -999.000,9,       -999,9,   2144.4,2,   2323.0,2,     0.10,2,     0.19,2,   5.7148
  58GS20090528,   GIN,   255,  1,     14,20091106,0739, 74.5000,  15.2500, 1550,     50.2,   5.8550,  35.1528,2,  35.1538,2,    301.2,2,     4.47,2,     9.00,2,     0.20,2,     0.67,2, -999.000,9, -999.000,9,       -999,9,   2137.4,2,   2321.0,2,     0.33,2,     0.31,2,   5.8508
  58GS20090528,   GIN,   255,  1,     15,20091106,0739, 74.5000,  15.2500, 1550,     30.4,   6.1270,  35.1557,2,  35.1532,2,    312.8,2,     4.03,2,     6.20,2,     0.13,2,     0.50,2, -999.000,9, -999.000,9,       -999,9,   2121.0,2,   2320.3,2,     0.85,2,     0.47,2,   6.1244
  58GS20090528,   GIN,   255,  1,     16,20091106,0739, 74.5000,  15.2500, 1550,     20.0,   6.3100,  35.1565,2,  35.1525,2,   -999.0,9,     3.95,2,     5.84,2,     0.12,2,     0.47,2, -999.000,9, -999.000,9,       -999,9,   -999.0,9,   -999.0,9,     0.99,2,     0.49,2,   6.3082
  58GS20090528,   GIN,   255,  1,     17,20091106,0739, 74.5000,  15.2500, 1550,     20.1,   6.3150,  35.1574,2,-999.0000,9,   -999.0,9,  -999.00,9,  -999.00,9,  -999.00,9,  -999.00,9, -999.000,9, -999.000,9,       -999,9,   -999.0,9,   -999.0,9,  -999.00,9,  -999.00,9,   6.3132
  58GS20090528,   GIN,   255,  1,     18,20091106,0739, 74.5000,  15.2500, 1550,     10.3,   6.3590,  35.1545,2,  35.1429,2,   -999.0,9,     3.88,2,     5.40,2,     0.11,2,     0.45,2, -999.000,9, -999.000,9,       -999,9,   -999.0,9,   -999.0,9,     1.20,2,     0.40,2,   6.3581
  58GS20090528,   GIN,   255,  1,     19,20091106,0739, 74.5000,  15.2500, 1550,      5.1,   6.6540,  35.1619,2,  35.1185,2,    320.5,2,     3.68,2,     4.36,2,     0.09,2,     0.39,2, -999.000,9, -999.000,9,       -999,9,   2105.3,2,   2321.2,2,     1.19,2,     0.16,2,   6.6535
  58GS20090528,   GIN,   255,  1,     20,20091106,0739, 74.5000,  15.2500, 1550,      5.2,   6.8380,  35.1330,2,-999.0000,9,   -999.0,9,  -999.00,9,  -999.00,9,  -999.00,9,  -999.00,9, -999.000,9, -999.000,9,       -999,9,   -999.0,9,   -999.0,9,  -999.00,9,  -999.00,9,   6.8375
  58GS20090528,   GIN,   256,  1,      1,20091106,1131, 74.5000,  15.4990, 1352,   1341.6,  -0.8670,  34.9065,2,  34.9109,2,   -999.0,9,    13.38,2,    14.95,2,     0.01,2,     1.02,2, -999.000,9, -999.000,9,       -999,9,   -999.0,9,   -999.0,9,  -999.00,9,  -999.00,9,  -0.9215
  58GS20090528,   GIN,   256,  1,      2,20091106,1131, 74.5000,  15.4990, 1352,   1199.8,  -0.8370,  34.9063,2,  34.9098,2,   -999.0,9,    12.75,2,    14.84,2,     0.01,2,     1.02,2, -999.000,9, -999.000,9,       -999,9,   -999.0,9,   -999.0,9,  -999.00,9,  -999.00,9,  -0.8845
  58GS20090528,   GIN,   256,  1,      3,20091106,1131, 74.5000,  15.4990, 1352,   1000.1,  -0.7000,  34.9031,2,  34.9972,2,   -999.0,9,    11.24,2,    14.58,2,     0.01,2,     1.01,2, -999.000,9, -999.000,9,       -999,9,   -999.0,9,   -999.0,9,  -999.00,9,  -999.00,9,  -0.7391
  58GS20090528,   GIN,   256,  1,      4,20091106,1131, 74.5000,  15.4990, 1352,    799.7,  -0.0040,  34.9183,2,  35.0183,2,   -999.0,9,     9.10,2,    14.11,2,     0.02,2,     0.98,2, -999.000,9, -999.000,9,       -999,9,   -999.0,9,   -999.0,9,  -999.00,9,  -999.00,9,  -0.0384
  58GS20090528,   GIN,   256,  1,      5,20091106,1131, 74.5000,  15.4990, 1352,    599.6,   2.1750,  35.0001,2,  35.0258,2,   -999.0,9,     5.96,2,    11.90,2,     0.04,2,     0.83,2, -999.000,9, -999.000,9,       -999,9,   -999.0,9,   -999.0,9,  -999.00,9,  -999.00,9,   2.1396
  58GS20090528,   GIN,   256,  1,      6,20091106,1131, 74.5000,  15.4990, 1352,    499.8,   2.8400,  35.0239,2,  35.0687,2,   -999.0,9,     5.45,2,    11.68,2,     0.06,2,     0.81,2, -999.000,9, -999.000,9,       -999,9,   -999.0,9,   -999.0,9,  -999.00,9,  -999.00,9,   2.8082
  58GS20090528,   GIN,   256,  1,      7,20091106,1131, 74.5000,  15.4990, 1352,    399.1,   3.1410,  35.0258,2,  35.1067,2,   -999.0,9,     5.20,2,    11.50,2,     0.06,2,     0.80,2, -999.000,9, -999.000,9,       -999,9,   -999.0,9,   -999.0,9,  -999.00,9,  -999.00,9,   3.1149
  58GS20090528,   GIN,   256,  1,      8,20091106,1131, 74.5000,  15.4990, 1352,    299.5,   4.0190,  35.0595,2,  35.1122,2,   -999.0,9,     4.70,2,    11.16,2,     0.10,2,     0.77,2, -999.000,9, -999.000,9,       -999,9,   -999.0,9,   -999.0,9,  -999.00,9,  -999.00,9,   3.9976
  58GS20090528,   GIN,   256,  1,      9,20091106,1131, 74.5000,  15.4990, 1352,    199.5,   5.1390,  35.1191,2,  35.1179,2,   -999.0,9,     4.63,2,    11.14,2,     0.11,2,     0.76,2, -999.000,9, -999.000,9,       -999,9,   -999.0,9,   -999.0,9,  -999.00,9,  -999.00,9,   5.1231
  58GS20090528,   GIN,   256,  1,     10,20091106,1131, 74.5000,  15.4990, 1352,    148.7,   5.8200,  35.1605,2,  35.1222,2,   -999.0,9,     4.73,2,    11.39,2,     0.05,2,     0.77,2, -999.000,9, -999.000,9,       -999,9,   -999.0,9,   -999.0,9,  -999.00,9,  -999.00,9,   5.8074
  58GS20090528,   GIN,   256,  1,     11,20091106,1131, 74.5000,  15.4990, 1352,    123.8,   5.9320,  35.1648,2,  35.1252,2,   -999.0,9,     4.71,2,    11.37,2,     0.04,2,     0.77,2, -999.000,9, -999.000,9,       -999,9,   -999.0,9,   -999.0,9,  -999.00,9,  -999.00,9,   5.9214
  58GS20090528,   GIN,   256,  1,     12,20091106,1131, 74.5000,  15.4990, 1352,     99.6,   6.1230,  35.1719,2,  35.1323,2,   -999.0,9,     4.64,2,    11.27,2,     0.04,2,     0.76,2, -999.000,9, -999.000,9,       -999,9,   -999.0,9,   -999.0,9,     0.02,2,     0.15,2,   6.1144
  58GS20090528,   GIN,   256,  1,     13,20091106,1131, 74.5000,  15.4990, 1352,     74.6,   6.3690,  35.1784,2,  35.1285,2,   -999.0,9,     4.56,2,    11.21,2,     0.04,2,     0.75,2, -999.000,9, -999.000,9,       -999,9,   -999.0,9,   -999.0,9,     0.03,2,     0.19,2,   6.3624
  58GS20090528,   GIN,   256,  1,     14,20091106,1131, 74.5000,  15.4990, 1352,     49.8,   6.5560,  35.1705,2,  35.1247,2,   -999.0,9,     4.22,2,     9.47,2,     0.14,2,     0.68,2, -999.000,9, -999.000,9,       -999,9,   -999.0,9,   -999.0,9,     0.12,2,     0.13,2,   6.5515
  58GS20090528,   GIN,   256,  1,     15,20091106,1131, 74.5000,  15.4990, 1352,     29.5,   6.7520,  35.1365,2,  35.1211,2,   -999.0,9,     3.70,2,     6.34,2,     0.12,2,     0.52,2, -999.000,9, -999.000,9,       -999,9,   -999.0,9,   -999.0,9,     0.25,2,     0.24,2,   6.7493
  58GS20090528,   GIN,   256,  1,     16,20091106,1131, 74.5000,  15.4990, 1352,     19.4,   6.8410,  35.1289,2,  35.1201,2,   -999.0,9,     3.63,2,     6.23,2,     0.12,2,     0.53,2, -999.000,9, -999.000,9,       -999,9,   -999.0,9,   -999.0,9,     0.27,2,     0.27,2,   6.8392
  58GS20090528,   GIN,   256,  1,     17,20091106,1131, 74.5000,  15.4990, 1352,      9.4,   6.9110,  35.1159,2,-999.0000,9,   -999.0,9,     3.56,2,     5.94,2,     0.11,2,     0.48,2, -999.000,9, -999.000,9,       -999,9,   -999.0,9,   -999.0,9,     0.50,2,     0.18,2,   6.9101
  58GS20090528,   GIN,   256,  1,     18,20091106,1131, 74.5000,  15.4990, 1352,      3.9,   7.0750,  35.1036,2,-999.0000,9,   -999.0,9,     3.52,2,     5.84,2,     0.11,2,     0.47,2, -999.000,9, -999.000,9,       -999,9,   -999.0,9,   -999.0,9,     0.55,2,     0.20,2,   7.0746