BOTTLE,20120918SIOCCHMYS
EXPOCODE,SECT_ID,STNNBR,CASTNO,SAMPNO,BTLNBR,BTLNBR_FLAG_W,DATE,TIME,LATITUDE,LONGITUDE,DEPTH,CTDPRS,CTDTMP,CTDSAL,CTDSAL_FLAG_W,SALNTY,SALNTY_FLAG_W,CTDOXY,CTDOXY_FLAG_W,OXYGEN,OXYGEN_FLAG_W,SILCAT,SILCAT_FLAG_W,NITRAT,NITRAT_FLAG_W,NITRIT,NITRIT_FLAG_W,PHSPHT,PHSPHT_FLAG_W,THETA
,,,,,,,,,,,,DBAR,ITS-90,PSS-78,,PSS-78,,UMOL/KG,,UMOL/KG,,UMOL/KG,,UMOL/KG,,UMOL/KG,,UMOL/KG,,DEG C
33AT20060118,  CLIMODE-2,      48,          1,         20,         20,2,20060128,       0557,  38.530667,-62.5566667,          0,     4.1,  19.9418,  36.6572,2,  36.6573,2, 215.4000,2,   215.7,2,    0.55,2,    0.63,2,    0.14,2,    0.05,2,  19.9410
33AT20060118,  CLIMODE-2,      48,          1,         19,         28,2,20060128,       0557,  38.530667,-62.5566667,          0,    29.0,  19.9670,  36.6567,2,  36.6573,2, 215.4000,2,   214.4,2,    0.54,2,    0.69,2,    0.14,2,    0.05,2,  19.9616
33AT20060118,  CLIMODE-2,      48,          1,         18,         18,2,20060128,       0557,  38.530667,-62.5566667,          0,    51.3,  19.9714,  36.6566,2,  36.6566,2, 215.1000,2,   215.4,2,    0.53,2,    0.64,2,    0.14,2,    0.05,2,  19.9618
33AT20060118,  CLIMODE-2,      48,          1,         17,         17,2,20060128,       0557,  38.530667,-62.5566667,          0,    76.0,  19.9783,  36.6563,2,  36.6574,2, 215.2000,2,   215.4,2,    0.40,2,    0.64,2,    0.14,2,    0.05,2,  19.9642
33AT20060118,  CLIMODE-2,      48,          1,         16,         16,2,20060128,       0557,  38.530667,-62.5566667,          0,   102.0,  19.9839,  36.6563,2,  36.6568,2, 215.1000,2,   214.8,2,    0.39,2,    0.64,2,    0.14,2,    0.05,2,  19.9649
33AT20060118,  CLIMODE-2,      48,          1,         15,         15,2,20060128,       0557,  38.530667,-62.5566667,          0,   125.7,  19.9874,  36.6577,2,  36.6581,2, 214.6000,2,   214.1,2,    0.38,2,    0.69,2,    0.13,2,    0.05,2,  19.9640
33AT20060118,  CLIMODE-2,      48,          1,         14,         14,2,20060128,       0557,  38.530667,-62.5566667,          0,   152.3,  19.9907,  36.6582,2,  36.6583,2, 214.2000,2,   213.6,2,    0.48,2,    0.75,2,    0.13,2,    0.05,2,  19.9623
33AT20060118,  CLIMODE-2,      48,          1,         13,         13,2,20060128,       0557,  38.530667,-62.5566667,          0,   177.9,  19.8437,  36.6819,2,  36.6809,2, 209.5000,2,   202.2,2,    0.58,2,    1.56,2,    0.07,2,    0.08,2,  19.8106
33AT20060118,  CLIMODE-2,      48,          1,         12,         12,2,20060128,       0557,  38.530667,-62.5566667,          0,   226.1,  19.1290,  36.6585,2,  36.6590,2, 195.7000,2,   195.9,2,    0.78,2,    2.62,2,    0.01,2,    0.12,2,  19.0881
33AT20060118,  CLIMODE-2,      48,          1,         11,         11,2,20060128,       0557,  38.530667,-62.5566667,          0,   277.1,  18.6841,  36.6202,2,  36.6199,2, 198.6000,2,   198.2,2,    0.88,2,    3.38,2,    0.01,2,    0.17,2,  18.6347
33AT20060118,  CLIMODE-2,      48,          1,         10,         10,2,20060128,       0557,  38.530667,-62.5566667,          0,   331.4,  18.4081,  36.5930,2,  36.5918,2, 197.4000,2,   198.7,2,    0.98,2,    3.88,2,    0.01,2,    0.20,2,  18.3495
33AT20060118,  CLIMODE-2,      48,          1,          9,         09,2,20060128,       0557,  38.530667,-62.5566667,          0,   384.0,  18.1316,  36.5530,2,  36.5522,2, 199.6000,2,   196.5,2,    1.18,2,    4.59,2,    0.01,2,    0.23,2,  18.0643
33AT20060118,  CLIMODE-2,      48,          1,          8,         08,2,20060128,       0557,  38.530667,-62.5566667,          0,   427.4,  17.9521,  36.5314,2,  36.5378,2, 195.0000,2,   198.9,2,    1.28,2,    4.64,2,    0.01,2,    0.24,2,  17.8777
33AT20060118,  CLIMODE-2,      48,          1,          7,         07,2,20060128,       0557,  38.530667,-62.5566667,          0,   474.3,  17.4210,  36.4236,2,  36.4300,2, 186.8000,2,   184.9,2,    1.92,2,    6.75,2,    0.01,2,    0.37,2,  17.3401
33AT20060118,  CLIMODE-2,      48,          1,          6,         06,2,20060128,       0557,  38.530667,-62.5566667,          0,   527.6,  17.0812,  36.3618,2,  36.3627,2, 180.6000,2,   180.6,2,    2.24,2,    7.72,2,    0.01,2,    0.43,2,  16.9923
33AT20060118,  CLIMODE-2,      48,          1,          5,         27,2,20060128,       0557,  38.530667,-62.5566667,          0,   580.0,  16.6897,  36.2977,2,  36.2982,2, 179.6000,2,   182.5,2,    2.33,2,    8.23,2,    0.00,2,    0.46,2,  16.5934
33AT20060118,  CLIMODE-2,      48,          1,          4,         04,2,20060128,       0557,  38.530667,-62.5566667,          0,   679.2,  14.6618,  35.9518,2,  35.9515,2, 168.2000,2,   167.0,2,    4.62,2,   13.05,2,    0.00,2,    0.77,2,  14.5582
33AT20060118,  CLIMODE-2,      48,          1,          3,         26,2,20060128,       0557,  38.530667,-62.5566667,          0,   782.8,  12.9779,  35.6816,2,  35.6811,2, 154.0000,2,   147.0,2,    7.57,2,   18.03,2,    0.00,2,    1.09,2,  12.8673
33AT20060118,  CLIMODE-2,      48,          1,          2,         02,2,20060128,       0557,  38.530667,-62.5566667,          0,   884.6,  10.4849,  35.3486,2,  35.3488,2, 138.7000,2,   142.0,2,   11.73,2,   22.52,2,    0.00,2,    1.42,2,  10.3752
33AT20060118,  CLIMODE-2,      48,          1,          1,         25,2,20060128,       0557,  38.530667,-62.5566667,          0,  1008.7,   7.8695,  35.1107,2,  35.1084,2, 158.1000,2,   157.4,2,   14.92,2,   24.34,2,    0.00,2,    1.58,2,   7.7629
33AT20060118,  CLIMODE-2,      49,          1,         20,         20,2,20060128,       1005,  38.702500,-62.5938333,          0,     2.5,  20.1640,  36.6121,2,  36.6126,2, 218.6000,2,   217.7,2,    0.71,2,    0.63,2,    0.20,2,    0.08,2,  20.1636
33AT20060118,  CLIMODE-2,      49,          1,         19,         28,2,20060128,       1005,  38.702500,-62.5938333,          0,    30.4,  20.1817,  36.6118,2,  36.6118,2, 218.9000,2,   216.8,2,    0.59,2,    0.63,2,    0.20,2,    0.07,2,  20.1760
33AT20060118,  CLIMODE-2,      49,          1,         18,         18,2,20060128,       1005,  38.702500,-62.5938333,          0,    52.1,  20.1576,  36.6150,2,  36.6144,2, 218.8000,2,   217.8,2,    0.57,2,    0.58,2,    0.21,2,    0.07,2,  20.1478
33AT20060118,  CLIMODE-2,      49,          1,         17,         17,2,20060128,       1005,  38.702500,-62.5938333,          0,    77.2,  20.1661,  36.6394,2,  36.6378,2, 218.4000,2,   217.5,2,    0.55,2,    0.46,2,    0.23,2,    0.05,2,  20.1516
33AT20060118,  CLIMODE-2,      49,          1,         16,         16,2,20060128,       1005,  38.702500,-62.5938333,          0,   101.8,  20.0484,  36.6555,2,  36.6556,2, 217.4000,2,   217.0,2,    0.42,2,    0.40,2,    0.24,2,    0.05,2,  20.0294
33AT20060118,  CLIMODE-2,      49,          1,         15,         15,2,20060128,       1005,  38.702500,-62.5938333,          0,   124.1,  20.0223,  36.6588,2,  36.6588,2, 216.8000,2,   216.8,2,    0.52,2,    0.47,2,    0.22,2,    0.05,2,  19.9992
33AT20060118,  CLIMODE-2,      49,          1,         14,         14,2,20060128,       1005,  38.702500,-62.5938333,          0,   153.0,  19.9700,  36.6603,2,  36.6596,2, 217.5000,2,   217.0,2,    0.50,2,    0.48,2,    0.22,2,    0.05,2,  19.9415
33AT20060118,  CLIMODE-2,      49,          1,         13,         13,2,20060128,       1005,  38.702500,-62.5938333,          0,   202.4,  19.6845,  36.6794,2,  36.6786,2, 206.4000,2,   207.3,2,    0.59,2,    1.29,2,    0.06,2,    0.08,2,  19.6472
33AT20060118,  CLIMODE-2,      49,          1,         12,         12,2,20060128,       1005,  38.702500,-62.5938333,          0,   253.0,  18.9976,  36.6550,2,  36.6552,2, 198.9000,2,   200.2,2,    0.79,2,    2.63,2,    0.01,2,    0.13,2,  18.9520
33AT20060118,  CLIMODE-2,      49,          1,         11,         11,2,20060128,       1005,  38.702500,-62.5938333,          0,   303.7,  18.7307,  36.6368,2,  36.6366,2, 202.7000,2,   202.9,2,    0.88,2,    2.99,2,    0.01,2,    0.15,2,  18.6764
33AT20060118,  CLIMODE-2,      49,          1,         10,         10,2,20060128,       1005,  38.702500,-62.5938333,          0,   347.1,  18.5699,  36.6215,2,  36.6217,2, 204.9000,2,   203.9,2,    0.97,2,    3.19,2,    0.01,2,    0.17,2,  18.5082
33AT20060118,  CLIMODE-2,      49,          1,          9,         09,2,20060128,       1005,  38.702500,-62.5938333,          0,   405.5,  18.2535,  36.5848,2,  36.5860,2, 202.3000,2,   204.0,2,    1.06,2,    3.75,2,    0.01,2,    0.20,2,  18.1821
33AT20060118,  CLIMODE-2,      49,          1,          8,         08,2,20060128,       1005,  38.702500,-62.5938333,          0,   453.4,  18.0404,  36.5420,2,  36.5420,2, 199.4000,2,   198.4,2,    1.26,2,    4.61,2,    0.01,2,    0.24,2,  17.9612
33AT20060118,  CLIMODE-2,      49,          1,          7,         07,2,20060128,       1005,  38.702500,-62.5938333,          0,   505.3,  17.5443,  36.4531,2,  36.4560,2, 192.3000,2,   191.2,2,    1.68,2,    6.07,2,    0.01,2,    0.33,2,  17.4576
33AT20060118,  CLIMODE-2,      49,          1,          6,         06,2,20060128,       1005,  38.702500,-62.5938333,          0,   557.5,  16.8544,  36.3276,2,  36.3330,2, 183.7000,2,   183.3,2,    2.21,2,    7.84,2,    0.01,2,    0.44,2,  16.7612
33AT20060118,  CLIMODE-2,      49,          1,          5,         27,2,20060128,       1005,  38.702500,-62.5938333,          0,   604.0,  15.8261,  36.1492,2,  36.1525,2, 180.1000,2,   177.2,2,    3.28,2,   10.23,2,    0.01,2,    0.60,2,  15.7293
33AT20060118,  CLIMODE-2,      49,          1,          4,         04,2,20060128,       1005,  38.702500,-62.5938333,          0,   707.0,  13.8930,  35.8305,2,  35.8301,2, 163.2000,2,   164.8,2,    5.55,2,   14.61,2,    0.00,2,    0.88,2,  13.7888
33AT20060118,  CLIMODE-2,      49,          1,          3,         26,2,20060128,       1005,  38.702500,-62.5938333,          0,   806.9,  11.4081,  35.4642,2,  35.4638,2, 144.9000,2,   143.1,2,   10.14,2,   21.09,2,    0.00,2,    1.31,2,  11.3030
33AT20060118,  CLIMODE-2,      49,          1,          2,         02,2,20060128,       1005,  38.702500,-62.5938333,          0,   907.4,   9.1651,  35.1880,2,  35.1859,2, 137.0000,2,   137.5,2,   14.75,2,   25.30,2,    0.00,2,    1.62,2,   9.0612
33AT20060118,  CLIMODE-2,      49,          1,          1,         25,2,20060128,       1005,  38.702500,-62.5938333,          0,  1032.1,   7.1014,  35.0903,2,  35.0894,2, 186.0000,2,   185.6,2,   13.85,2,   22.71,2,    0.00,2,    1.48,2,   6.9980
33AT20060118,  CLIMODE-2,      50,          1,         20,         20,2,20060128,       1400,  38.874667,-62.6256667,          0,     4.4,  21.1469,  36.6381,2,  36.6399,2, 209.8000,2,   209.0,2,    1.05,2,    1.02,2,    0.16,2,    0.09,2,  21.1461
33AT20060118,  CLIMODE-2,      50,          1,         19,         28,2,20060128,       1400,  38.874667,-62.6256667,          0,    25.6,  21.1569,  36.6377,2,  36.6384,2, 209.3000,2,   208.1,2,    1.01,2,    1.02,2,    0.16,2,    0.09,2,  21.1520
33AT20060118,  CLIMODE-2,      50,          1,         18,         18,2,20060128,       1400,  38.874667,-62.6256667,          0,    51.2,  21.1636,  36.6375,2,  36.6384,2, 209.2000,2,   209.0,2,    1.10,2,    1.02,2,    0.16,2,    0.09,2,  21.1537
33AT20060118,  CLIMODE-2,      50,          1,         17,         17,2,20060128,       1400,  38.874667,-62.6256667,          0,    76.2,  21.1685,  36.6374,2,  36.6398,2, 208.8000,2,   208.8,2,    0.96,2,    1.02,2,    0.16,2,    0.08,2,  21.1537
33AT20060118,  CLIMODE-2,      50,          1,         16,         16,2,20060128,       1400,  38.874667,-62.6256667,          0,   101.5,  20.4793,  36.6721,2,  36.6756,2, 207.8000,2,   208.1,2,    0.71,2,    0.71,2,    0.18,2,    0.06,2,  20.4600
33AT20060118,  CLIMODE-2,      50,          1,         15,         15,2,20060128,       1400,  38.874667,-62.6256667,          0,   126.0,  20.2053,  36.6709,2,  36.6737,2, 211.3000,2,   209.8,2,    0.68,2,    0.76,2,    0.14,2,    0.06,2,  20.1816
33AT20060118,  CLIMODE-2,      50,          1,         14,         14,2,20060128,       1400,  38.874667,-62.6256667,          0,   151.9,  20.0083,  36.6651,2,  36.6653,2, 215.1000,2,   213.2,2,    0.65,2,    0.71,2,    0.08,2,    0.05,2,  19.9800
33AT20060118,  CLIMODE-2,      50,          1,         13,         13,2,20060128,       1400,  38.874667,-62.6256667,          0,   178.2,  19.8282,  36.6697,2,  36.6675,2, 214.6000,2,   214.9,2,    0.52,2,    0.70,2,    0.10,2,    0.05,2,  19.7951
33AT20060118,  CLIMODE-2,      50,          1,         12,         12,2,20060128,       1400,  38.874667,-62.6256667,          0,   226.2,  19.2002,  36.6684,2,  36.6683,2, 198.6000,2,   198.1,2,    0.81,2,    2.34,2,    0.01,2,    0.12,2,  19.1591
33AT20060118,  CLIMODE-2,      50,          1,         11,         11,2,20060128,       1400,  38.874667,-62.6256667,          0,   277.5,  18.7486,  36.6382,2,  36.6374,2, 202.0000,2,   202.2,2,    1.00,2,    3.04,2,    0.01,2,    0.16,2,  18.6990
33AT20060118,  CLIMODE-2,      50,          1,         10,         10,2,20060128,       1400,  38.874667,-62.6256667,          0,   328.4,  18.4683,  36.6103,2,  36.6098,2, 203.3000,2,   203.4,2,    1.07,2,    3.40,2,    0.01,2,    0.20,2,  18.4101
33AT20060118,  CLIMODE-2,      50,          1,          9,         09,2,20060128,       1400,  38.874667,-62.6256667,          0,   377.8,  18.2259,  36.5815,2,  36.5811,2, 202.8000,2,   203.6,2,    1.15,2,    3.81,2,    0.01,2,    0.20,2,  18.1595
33AT20060118,  CLIMODE-2,      50,          1,          8,         08,2,20060128,       1400,  38.874667,-62.6256667,          0,   429.0,  18.0062,  36.5480,2,  36.5480,2, 203.4000,2,   202.0,2,    1.23,2,    4.36,2,    0.01,2,    0.23,2,  17.9314
33AT20060118,  CLIMODE-2,      50,          1,          7,         07,2,20060128,       1400,  38.874667,-62.6256667,          0,   479.9,  17.4824,  36.4458,2,  36.4505,2, 192.9000,2,   191.8,2,    1.64,2,    6.08,2,    0.00,2,    0.33,2,  17.4003
33AT20060118,  CLIMODE-2,      50,          1,          6,         06,2,20060128,       1400,  38.874667,-62.6256667,          0,   528.6,  16.5067,  36.2653,2,  36.2683,2, 177.3000,2,   177.5,2,    2.69,2,    9.07,2,    0.00,2,    0.52,2,  16.4196
33AT20060118,  CLIMODE-2,      50,          1,          5,         27,2,20060128,       1400,  38.874667,-62.6256667,          0,   580.0,  15.6680,  36.1234,2,  36.1262,2, 174.8000,2,   175.4,2,    3.32,2,   10.65,2,    0.00,2,    0.62,2,  15.5757
33AT20060118,  CLIMODE-2,      50,          1,          4,         04,2,20060128,       1400,  38.874667,-62.6256667,          0,   681.4,  13.7226,  35.7992,2,  35.7997,2, 163.3000,2,   161.8,2,    5.90,2,   15.13,2,    0.00,2,    0.92,2,  13.6231
33AT20060118,  CLIMODE-2,      50,          1,          3,         26,2,20060128,       1400,  38.874667,-62.6256667,          0,   780.5,  11.3731,  35.4732,2,  35.4774,2, 152.0000,2,   151.4,2,    9.36,2,   19.87,2,    0.00,2,    1.24,2,  11.2717
33AT20060118,  CLIMODE-2,      50,          1,          2,         02,2,20060128,       1400,  38.874667,-62.6256667,          0,   882.7,   8.9414,  35.1984,2,  35.1996,2, 147.2000,2,   147.2,2,   13.82,2,   24.17,2,    0.00,2,    1.54,2,   8.8419
33AT20060118,  CLIMODE-2,      50,          1,          1,         25,2,20060128,       1400,  38.874667,-62.6256667,          0,  1010.0,   6.3942,  35.0786,2,  35.0776,2, 198.3000,2,   198.1,2,   13.13,2,   21.22,2,    0.00,2,    1.40,2,   6.2985