BOTTLE,20120918SIOCCHMYS
EXPOCODE,SECT_ID,STNNBR,CASTNO,SAMPNO,BTLNBR,BTLNBR_FLAG_W,DATE,TIME,LATITUDE,LONGITUDE,DEPTH,CTDPRS,CTDTMP,CTDSAL,CTDSAL_FLAG_W,SALNTY,SALNTY_FLAG_W,CTDOXY,CTDOXY_FLAG_W,OXYGEN,OXYGEN_FLAG_W,SILCAT,SILCAT_FLAG_W,NITRAT,NITRAT_FLAG_W,NITRIT,NITRIT_FLAG_W,PHSPHT,PHSPHT_FLAG_W,THETA
,,,,,,,,,,,,DBAR,ITS-90,PSS-78,,PSS-78,,UMOL/KG,,UMOL/KG,,UMOL/KG,,UMOL/KG,,UMOL/KG,,UMOL/KG,,DEG C
33AT20060118,  CLIMODE-2,      30,          1,         20,         20,2,20060124,       1432,  37.569833,-65.9643333,          0,     2.7,  21.9304,  36.5672,2,  36.5696,2, 210.1000,2,   208.7,2,    0.46,2,    0.74,2,    0.13,2,    0.05,2,  21.9299
33AT20060118,  CLIMODE-2,      30,          1,         19,         28,2,20060124,       1432,  37.569833,-65.9643333,          0,    28.0,  21.9375,  36.5668,2,  36.5676,2, 208.9000,2,   207.9,2,    0.53,2,    0.74,2,    0.13,2,    0.05,2,  21.9320
33AT20060118,  CLIMODE-2,      30,          1,         18,         18,2,20060124,       1432,  37.569833,-65.9643333,          0,    49.4,  21.9449,  36.5677,2,  36.5678,2, 208.0000,2,   208.1,2,    0.49,2,    0.74,2,    0.13,2,    0.05,2,  21.9351
33AT20060118,  CLIMODE-2,      30,          1,         17,         17,2,20060124,       1432,  37.569833,-65.9643333,          0,    74.7,  22.0133,  36.5965,2,  36.5977,2, 207.0000,2,   206.6,2,    0.45,2,    0.79,2,    0.13,2,    0.05,2,  21.9985
33AT20060118,  CLIMODE-2,      30,          1,         16,         16,2,20060124,       1432,  37.569833,-65.9643333,          0,   100.8,  22.1183,  36.7026,2,  36.7022,2, 189.6000,2,   191.2,2,    0.52,2,    1.71,2,    0.09,2,    0.09,2,  22.0981
33AT20060118,  CLIMODE-2,      30,          1,         15,         15,2,20060124,       1432,  37.569833,-65.9643333,          0,   126.2,  21.7808,  36.8532,2,  36.8548,2, 166.5000,2,   157.1,2,    0.92,2,    4.61,2,    0.03,2,    0.22,2,  21.7558
33AT20060118,  CLIMODE-2,      30,          1,         14,         14,2,20060124,       1432,  37.569833,-65.9643333,          0,   152.1,  20.7892,  36.7953,2,  36.8018,2, 155.2000,2,   157.4,2,    1.00,2,    5.30,2,    0.01,2,    0.25,2,  20.7601
33AT20060118,  CLIMODE-2,      30,          1,         13,         13,2,20060124,       1432,  37.569833,-65.9643333,          0,   175.8,  19.9816,  36.7121,2,  36.7125,2, 151.3000,2,   152.9,2,    1.51,2,    6.73,2,    0.01,2,    0.34,2,  19.9489
33AT20060118,  CLIMODE-2,      30,          1,         12,         12,2,20060124,       1432,  37.569833,-65.9643333,          0,   225.6,  18.3786,  36.5059,2,  36.5024,2, 167.2000,2,   151.8,2,    2.14,2,    9.08,2,    0.01,2,    0.48,2,  18.3389
33AT20060118,  CLIMODE-2,      30,          1,         11,         11,2,20060124,       1432,  37.569833,-65.9643333,          0,   276.2,  17.7639,  36.4704,2,  36.4737,2, 183.9000,2,   182.2,2,    1.21,2,    6.63,2,    0.01,2,    0.34,2,  17.7164
33AT20060118,  CLIMODE-2,      30,          1,         10,         10,2,20060124,       1432,  37.569833,-65.9643333,          0,   327.6,  16.7926,  36.3123,2,  36.3192,2, 176.0000,2,   175.1,2,    2.72,2,    8.89,2,    0.01,2,    0.48,2,  16.7383
33AT20060118,  CLIMODE-2,      30,          1,          9,         09,2,20060124,       1432,  37.569833,-65.9643333,          0,   378.4,  15.5115,  36.0824,2,  36.0883,2, 159.7000,2,   155.2,2,    4.80,2,   13.12,2,    0.01,2,    0.75,2,  15.4521
33AT20060118,  CLIMODE-2,      30,          1,          8,         08,2,20060124,       1432,  37.569833,-65.9643333,          0,   429.5,  14.5289,  35.9378,2,  35.9352,2, 164.5000,2,   167.4,2,    5.09,2,   13.46,2,    0.01,2,    0.78,2,  14.4643
33AT20060118,  CLIMODE-2,      30,          1,          7,         07,2,20060124,       1432,  37.569833,-65.9643333,          0,   480.0,  12.6805,  35.6391,2,  35.6378,2, 142.5000,2,   139.3,2,    8.95,2,   19.54,2,    0.01,2,    1.19,2,  12.6145
33AT20060118,  CLIMODE-2,      30,          1,          6,         06,2,20060124,       1432,  37.569833,-65.9643333,          0,   529.4,  11.4889,  35.4585,2,  35.4580,2, 133.0000,2,   131.0,2,   11.36,2,   22.37,2,    0.00,2,    1.40,2,  11.4205
33AT20060118,  CLIMODE-2,      30,          1,          5,         27,2,20060124,       1432,  37.569833,-65.9643333,          0,   581.7,  10.1418,  35.2905,2,  35.2887,2, 130.6000,2,   131.2,2,   13.65,2,   24.56,2,    0.00,2,    1.55,2,  10.0722
33AT20060118,  CLIMODE-2,      30,          1,          4,         04,2,20060124,       1432,  37.569833,-65.9643333,          0,   689.1,   7.7158,  35.1180,2,  35.1173,2, 161.6000,2,   163.9,2,   14.73,2,   23.87,2,    0.00,2,    1.54,2,   7.6452
33AT20060118,  CLIMODE-2,      30,          1,          3,         26,2,20060124,       1432,  37.569833,-65.9643333,          0,   784.4,   6.2048,  35.0555,2,  35.0555,2, 199.1000,2,   200.2,2,   13.47,2,   21.39,2,    0.00,2,    1.40,2,   6.1328
33AT20060118,  CLIMODE-2,      30,          1,          2,         02,2,20060124,       1432,  37.569833,-65.9643333,          0,   880.8,   5.4696,  35.0397,2,  35.0409,2, 221.1000,2,   222.5,2,   12.87,2,   20.15,2,    0.00,2,    1.31,2,   5.3931
33AT20060118,  CLIMODE-2,      30,          1,          1,         25,2,20060124,       1432,  37.569833,-65.9643333,          0,   997.8,   4.8301,  34.9954,2,  34.9953,2, 242.9000,2,   242.2,2,   11.83,2,   19.01,2,    0.00,2,    1.24,2,   4.7475
33AT20060118,  CLIMODE-2,      31,          1,         20,         20,2,20060124,       1706,  37.729000,-65.9568333,          0,     1.8,  19.3548,  36.1272,2,  36.1264,2, 221.1000,2,   220.8,2,    1.39,2,    1.89,2,    0.27,2,    0.16,2,  19.3545
33AT20060118,  CLIMODE-2,      31,          1,         19,         28,2,20060124,       1706,  37.729000,-65.9568333,          0,    18.6,  19.4109,  36.1482,2,  36.1470,2, 221.2000,2,   218.9,2,    1.38,2,    1.97,2,    0.28,2,    0.16,2,  19.4075
33AT20060118,  CLIMODE-2,      31,          1,         18,         18,2,20060124,       1706,  37.729000,-65.9568333,          0,    50.8,  18.1786,  35.9337,2,  35.9394,2, 222.6000,2,   225.3,2,    1.59,2,    2.50,2,    0.28,2,    0.20,2,  18.1698
33AT20060118,  CLIMODE-2,      31,          1,         17,         17,2,20060124,       1706,  37.729000,-65.9568333,          0,    75.8,  16.8777,  35.6879,2,  35.6899,2, 230.1000,2,   231.9,2,    1.81,2,    3.10,2,    0.26,2,    0.24,2,  16.8652
33AT20060118,  CLIMODE-2,      31,          1,         16,         16,2,20060124,       1706,  37.729000,-65.9568333,          0,   101.4,  15.6899,  35.4586,2,  35.4662,2, 237.5000,2,   236.1,2,    2.14,2,    3.52,2,    0.24,2,    0.28,2,  15.6741
33AT20060118,  CLIMODE-2,      31,          1,         15,         15,2,20060124,       1706,  37.729000,-65.9568333,          0,   126.0,  14.1348,  35.1068,2,  35.1066,2, 243.8000,2,   243.5,2,    2.46,2,    4.14,2,    0.19,2,    0.34,2,  14.1165
33AT20060118,  CLIMODE-2,      31,          1,         14,         14,2,20060124,       1706,  37.729000,-65.9568333,          0,   150.9,  13.2124,  34.9178,2,  34.9206,2, 250.5000,2,   247.9,2,    2.57,2,    4.52,2,    0.16,2,    0.38,2,  13.1915
33AT20060118,  CLIMODE-2,      31,          1,         13,         13,2,20060124,       1706,  37.729000,-65.9568333,          0,   200.7,  13.7802,  35.2626,2,  35.2596,2, 204.8000,2,   209.1,2,    4.12,2,    8.31,2,    0.08,2,    0.57,2,  13.7514
33AT20060118,  CLIMODE-2,      31,          1,         12,         12,2,20060124,       1706,  37.729000,-65.9568333,          0,   254.2,  13.3752,  35.7157,2,  35.7200,2, 144.0000,2,   142.2,2,    7.65,2,   17.51,2,    0.02,2,    1.07,2,  13.3392
33AT20060118,  CLIMODE-2,      31,          1,         11,         11,2,20060124,       1706,  37.729000,-65.9568333,          0,   305.2,  11.8184,  35.5041,2,  35.5039,2, 136.3000,2,   134.3,2,   10.31,2,   21.11,2,    0.01,2,    1.31,2,  11.7786
33AT20060118,  CLIMODE-2,      31,          1,         10,         10,2,20060124,       1706,  37.729000,-65.9568333,          0,   353.9,  10.8079,  35.3763,2,  35.3736,2, 133.8000,2,   132.0,2,   12.08,2,   23.08,2,    0.00,2,    1.45,2,  10.7643
33AT20060118,  CLIMODE-2,      31,          1,          9,         09,2,20060124,       1706,  37.729000,-65.9568333,          0,   403.5,   9.7709,  35.2565,2,  35.2559,2, 134.6000,2,   131.5,2,   13.96,2,   24.75,2,    0.00,2,    1.56,2,   9.7241
33AT20060118,  CLIMODE-2,      31,          1,          8,         08,2,20060124,       1706,  37.729000,-65.9568333,          0,   455.3,   8.5628,  35.1269,2,  35.1275,2, 134.4000,2,   137.6,2,   16.29,2,   26.13,2,    0.00,2,    1.69,2,   8.5139
33AT20060118,  CLIMODE-2,      31,          1,          7,         07,2,20060124,       1706,  37.729000,-65.9568333,          0,   506.4,   7.8847,  35.1147,2,  35.1139,2, 159.5000,2,   158.4,2,   14.73,2,   24.16,2,    0.00,2,    1.59,2,   7.8327
33AT20060118,  CLIMODE-2,      31,          1,          6,         06,2,20060124,       1706,  37.729000,-65.9568333,          0,   557.7,   6.9577,  35.0716,2,  35.0432,2, 178.4000,2,   182.2,2,   13.95,2,   22.42,2,    0.00,2,    1.45,2,   6.9042
33AT20060118,  CLIMODE-2,      31,          1,          5,         27,2,20060124,       1706,  37.729000,-65.9568333,          0,   609.2,   6.3537,  35.0569,2,  35.0560,2, 192.8000,2,   195.5,2,   13.50,2,   21.62,2,    0.00,2,    1.41,2,   6.2978
33AT20060118,  CLIMODE-2,      31,          1,          4,         04,2,20060124,       1706,  37.729000,-65.9568333,          0,   711.3,   5.5725,  35.0361,2,  35.0362,2, 219.1000,2,   217.8,2,   12.84,2,   20.10,2,    0.00,2,    1.32,2,   5.5110
33AT20060118,  CLIMODE-2,      31,          1,          3,         26,2,20060124,       1706,  37.729000,-65.9568333,          0,   814.0,   5.0717,  35.0167,2,  35.0165,2, 233.8000,2,   233.1,2,   12.39,2,   19.21,2,    0.00,2,    1.26,2,   5.0038
33AT20060118,  CLIMODE-2,      31,          1,          2,         02,2,20060124,       1706,  37.729000,-65.9568333,          0,   910.8,   4.7706,  35.0071,2,  35.0063,2, 242.9000,2,   242.3,2,   12.16,2,   18.66,2,    0.00,2,    1.23,2,   4.6962
33AT20060118,  CLIMODE-2,      31,          1,          1,         25,2,20060124,       1706,  37.729000,-65.9568333,          0,  1007.7,   4.4849,  34.9877,2,  34.9872,2, 250.4000,2,   250.5,2,   11.94,2,   18.16,2,    0.00,2,    1.21,2,   4.4040
33AT20060118,  CLIMODE-2,      32,          1,         21,         29,2,20060124,       1954,  37.882833,-65.9576667,          0,     2.7,  15.3147,  35.2850,2,  35.2826,2, 245.8000,2,   241.8,2,    1.71,2,    3.34,2,    0.22,2,    0.29,2,  15.3143
33AT20060118,  CLIMODE-2,      32,          1,         20,         20,2,20060124,       1954,  37.882833,-65.9576667,          0,    27.2,  15.3443,  35.2993,2,  35.2963,2, 243.9000,2,   239.2,2,    1.69,2,    3.44,2,    0.22,2,    0.29,2,  15.3401
33AT20060118,  CLIMODE-2,      32,          1,         19,         28,2,20060124,       1954,  37.882833,-65.9576667,          0,    51.0,  15.5260,  35.3926,2,  35.3875,2, 240.2000,2,   234.7,2,    1.78,2,    3.68,2,    0.23,2,    0.30,2,  15.5181
33AT20060118,  CLIMODE-2,      32,          1,         18,         18,2,20060124,       1954,  37.882833,-65.9576667,          0,    75.0,  15.3865,  35.4322,2,  35.4309,2, 229.8000,2,   238.9,2,    2.09,2,    4.44,2,    0.20,2,    0.33,2,  15.3749
33AT20060118,  CLIMODE-2,      32,          1,         17,         17,2,20060124,       1954,  37.882833,-65.9576667,          0,   100.5,  14.9914,  35.5026,2,  35.4895,2, 198.8000,2,   210.1,2,    3.28,2,    7.20,2,    0.10,2,    0.48,2,  14.9761
33AT20060118,  CLIMODE-2,      32,          1,         16,         16,2,20060124,       1954,  37.882833,-65.9576667,          0,   126.5,  14.8832,  35.8118,2,  35.8006,2, 151.9000,2,   152.1,2,    5.70,2,   13.80,2,    0.02,2,    0.82,2,  14.8641
33AT20060118,  CLIMODE-2,      32,          1,         15,         15,2,20060124,       1954,  37.882833,-65.9576667,          0,   151.1,  13.3837,  35.6315,2,  35.6285,2, 152.8000,2,   152.6,2,    6.78,2,   15.91,2,    0.01,2,    0.97,2,  13.3624
33AT20060118,  CLIMODE-2,      32,          1,         14,         14,2,20060124,       1954,  37.882833,-65.9576667,          0,   177.5,  12.7596,  35.6086,2,  35.6111,2, 147.4000,2,   147.0,2,    7.97,2,   17.76,2,    0.01,2,    1.08,2,  12.7353
33AT20060118,  CLIMODE-2,      32,          1,         13,         13,2,20060124,       1954,  37.882833,-65.9576667,          0,   228.6,  11.4269,  35.4466,2,  35.4417,2, 138.8000,2,   138.4,2,   10.61,2,   21.20,2,    0.01,2,    1.32,2,  11.3978
33AT20060118,  CLIMODE-2,      32,          1,         12,         12,2,20060124,       1954,  37.882833,-65.9576667,          0,   228.6,  11.3422,  35.4319,2,  35.4294,2, 138.8000,2,   136.9,2,   10.70,2,   21.40,2,    0.01,2,    1.33,2,  11.3132
33AT20060118,  CLIMODE-2,      32,          1,         11,         11,2,20060124,       1954,  37.882833,-65.9576667,          0,   279.2,  10.0835,  35.2835,2,  35.2850,2, 137.8000,2,   136.8,2,   12.79,2,   23.27,2,    0.00,2,    1.48,2,  10.0507
33AT20060118,  CLIMODE-2,      32,          1,         10,         10,2,20060124,       1954,  37.882833,-65.9576667,          0,   328.1,   8.8945,  35.1654,2,  35.1646,2, 141.0000,2,   140.1,2,   14.88,2,   24.75,2,    0.00,2,    1.59,2,   8.8588
33AT20060118,  CLIMODE-2,      32,          1,          9,         09,2,20060124,       1954,  37.882833,-65.9576667,          0,   378.7,   8.2509,  35.1321,2,  35.1298,2, 150.3000,2,   148.9,2,   15.52,2,   24.75,2,    0.00,2,    1.60,2,   8.2113
33AT20060118,  CLIMODE-2,      32,          1,          8,         08,2,20060124,       1954,  37.882833,-65.9576667,          0,   428.8,   7.3853,  35.1011,2,  35.1007,2, 167.8000,2,   169.7,2,   14.40,2,   23.28,2,    0.00,2,    1.50,2,   7.3431
33AT20060118,  CLIMODE-2,      32,          1,          7,         07,2,20060124,       1954,  37.882833,-65.9576667,          0,   480.6,   6.6774,  35.0809,2,  35.0804,2, 187.6000,2,   189.3,2,   13.83,2,   21.86,2,    0.00,2,    1.42,2,   6.6325
33AT20060118,  CLIMODE-2,      32,          1,          6,         06,2,20060124,       1954,  37.882833,-65.9576667,          0,   531.9,   6.0881,  35.0527,2,  35.0515,2, 204.1000,2,   203.2,2,   13.25,2,   21.02,2,    0.00,2,    1.37,2,   6.0407
33AT20060118,  CLIMODE-2,      32,          1,          5,         27,2,20060124,       1954,  37.882833,-65.9576667,          0,   581.3,   5.6392,  35.0342,2,  35.0363,2, 213.3000,2,   214.6,2,   12.90,2,   20.28,2,    0.00,2,    1.33,2,   5.5892
33AT20060118,  CLIMODE-2,      32,          1,          4,         04,2,20060124,       1954,  37.882833,-65.9576667,          0,   682.2,   5.1246,  35.0153,2,  35.0147,2, 230.5000,2,   231.3,2,   12.34,2,   19.26,2,    0.00,2,    1.27,2,   5.0681
33AT20060118,  CLIMODE-2,      32,          1,          3,         26,2,20060124,       1954,  37.882833,-65.9576667,          0,   781.6,   4.7949,  35.0106,2,  35.0112,2, 241.5000,2,   241.6,2,   12.09,2,   18.82,2,    0.00,2,    1.23,2,   4.7316
33AT20060118,  CLIMODE-2,      32,          1,          2,         02,2,20060124,       1954,  37.882833,-65.9576667,          0,   883.8,   4.5018,  34.9860,2,  34.9868,2, 250.3000,2,   249.7,2,   11.74,2,   18.23,2,    0.00,2,    1.21,2,   4.4316
33AT20060118,  CLIMODE-2,      32,          1,          1,         25,2,20060124,       1954,  37.882833,-65.9576667,          0,  1008.6,   4.3201,  34.9799,2,  34.9807,2, 255.6000,2,   255.3,2,   11.72,2,   17.99,2,    0.00,2,    1.20,2,   4.2404