BOTTLE,20120918SIOCCHMYS
EXPOCODE,SECT_ID,STNNBR,CASTNO,SAMPNO,BTLNBR,BTLNBR_FLAG_W,DATE,TIME,LATITUDE,LONGITUDE,DEPTH,CTDPRS,CTDTMP,CTDSAL,CTDSAL_FLAG_W,SALNTY,SALNTY_FLAG_W,CTDOXY,CTDOXY_FLAG_W,OXYGEN,OXYGEN_FLAG_W,SILCAT,SILCAT_FLAG_W,NITRAT,NITRAT_FLAG_W,NITRIT,NITRIT_FLAG_W,PHSPHT,PHSPHT_FLAG_W,THETA
,,,,,,,,,,,,DBAR,ITS-90,PSS-78,,PSS-78,,UMOL/KG,,UMOL/KG,,UMOL/KG,,UMOL/KG,,UMOL/KG,,UMOL/KG,,DEG C
33AT20060118,  CLIMODE-2,      51,          2,         20,         20,2,20060128,       2203,  38.267000,-63.0245000,          0,     3.7,  19.8072,  36.6525,2,  36.6527,2, 219.0000,2,   218.8,2,    0.37,2,    0.60,2,    0.19,2,    0.05,2,  19.8065
33AT20060118,  CLIMODE-2,      51,          2,         19,         28,2,20060128,       2203,  38.267000,-63.0245000,          0,    29.9,  19.8306,  36.6521,2,  36.6515,2, 218.6000,2,   217.7,2,    0.36,2,    0.60,2,    0.18,2,    0.05,2,  19.8251
33AT20060118,  CLIMODE-2,      51,          2,         18,         18,2,20060128,       2203,  38.267000,-63.0245000,          0,    50.5,  19.8341,  36.6521,2,  36.6521,2, 218.5000,2,   224.5,2,    0.47,2,    0.61,2,    0.18,2,    0.05,2,  19.8248
33AT20060118,  CLIMODE-2,      51,          2,         17,         17,2,20060128,       2203,  38.267000,-63.0245000,          0,    76.6,  19.8399,  36.6520,2,  36.6537,2, 218.3000,2,   218.5,2,    0.46,2,    0.55,2,    0.18,2,    0.05,2,  19.8257
33AT20060118,  CLIMODE-2,      51,          2,         16,         16,2,20060128,       2203,  38.267000,-63.0245000,          0,   101.2,  19.8428,  36.6519,2,  36.6517,2, 218.4000,2,   217.8,2,    0.45,2,    0.56,2,    0.18,2,    0.05,2,  19.8240
33AT20060118,  CLIMODE-2,      51,          2,         15,         15,2,20060128,       2203,  38.267000,-63.0245000,          0,   126.1,  19.8400,  36.6525,2,  36.6525,2, 218.3000,2,   217.9,2,    0.44,2,    0.56,2,    0.19,2,    0.05,2,  19.8166
33AT20060118,  CLIMODE-2,      51,          2,         14,         14,2,20060128,       2203,  38.267000,-63.0245000,          0,   152.6,  19.8175,  36.6538,2,  36.6533,2, 218.0000,2,   217.3,2,    0.43,2,    0.50,2,    0.19,2,    0.04,2,  19.7892
33AT20060118,  CLIMODE-2,      51,          2,         13,         13,2,20060128,       2203,  38.267000,-63.0245000,          0,   201.9,  19.7368,  36.6597,2,  36.6577,2, 217.5000,2,   214.8,2,    0.42,2,    0.72,2,    0.17,2,    0.05,2,  19.6994
33AT20060118,  CLIMODE-2,      51,          2,         12,         12,2,20060128,       2203,  38.267000,-63.0245000,          0,   251.9,  19.0413,  36.6563,2,  36.6561,2, 198.3000,2,   199.2,2,    0.74,2,    2.66,2,    0.01,2,    0.13,2,  18.9958
33AT20060118,  CLIMODE-2,      51,          2,         11,         11,2,20060128,       2203,  38.267000,-63.0245000,          0,   302.9,  18.7474,  36.6345,2,  36.6337,2, 201.7000,2,   201.6,2,    0.85,2,    3.13,2,    0.01,2,    0.15,2,  18.6932
33AT20060118,  CLIMODE-2,      51,          2,         10,         10,2,20060128,       2203,  38.267000,-63.0245000,          0,   353.7,  18.5243,  36.6118,2,  36.6115,2, 199.7000,2,   201.4,2,    0.95,2,    3.54,2,    0.01,2,    0.18,2,  18.4614
33AT20060118,  CLIMODE-2,      51,          2,          9,         09,2,20060128,       2203,  38.267000,-63.0245000,          0,   404.5,  18.2743,  36.5808,2,  36.5804,2, 199.2000,2,   200.9,2,    1.04,2,    4.05,2,    0.00,2,    0.20,2,  18.2031
33AT20060118,  CLIMODE-2,      51,          2,          8,         08,2,20060128,       2203,  38.267000,-63.0245000,          0,   451.8,  18.0408,  36.5465,2,  36.5479,2, 199.6000,2,   200.5,2,    1.15,2,    4.46,2,    0.01,2,    0.23,2,  17.9618
33AT20060118,  CLIMODE-2,      51,          2,          7,         07,2,20060128,       2203,  38.267000,-63.0245000,          0,   504.7,  17.4781,  36.4386,2,  36.4399,2, 189.9000,2,   188.8,2,    1.81,2,    6.44,2,    0.00,2,    0.34,2,  17.3918
33AT20060118,  CLIMODE-2,      51,          2,          6,         06,2,20060128,       2203,  38.267000,-63.0245000,          0,   553.5,  16.8442,  36.3243,2,  36.3255,2, 180.8000,2,   181.7,2,    2.35,2,    8.13,2,    0.00,2,    0.45,2,  16.7518
33AT20060118,  CLIMODE-2,      51,          2,          5,         27,2,20060128,       2203,  38.267000,-63.0245000,          0,   604.1,  15.9470,  36.1635,2,  36.1644,2, 167.1000,2,   169.4,2,    3.45,2,   10.84,2,    0.00,2,    0.62,2,  15.8497
33AT20060118,  CLIMODE-2,      51,          2,          4,         04,2,20060128,       2203,  38.267000,-63.0245000,          0,   705.9,  14.2101,  35.8750,2,  35.8735,2, 154.3000,2,   158.9,2,    5.65,2,   14.67,2,    0.00,2,    0.88,2,  14.1046
33AT20060118,  CLIMODE-2,      51,          2,          3,         26,2,20060128,       2203,  38.267000,-63.0245000,          0,   807.4,  12.1457,  35.5634,2,  35.5616,2, 145.8000,2,   148.0,2,    8.97,2,   19.19,2,    0.00,2,    1.19,2,  12.0363
33AT20060118,  CLIMODE-2,      51,          2,          2,         02,2,20060128,       2203,  38.267000,-63.0245000,          0,   907.2,   9.4750,  35.2116,2,  35.2195,2, 128.8000,2,   134.1,2,   14.59,2,   24.94,2,    0.00,2,    1.59,2,   9.3691
33AT20060118,  CLIMODE-2,      51,          2,          1,         25,2,20060128,       2203,  38.267000,-63.0245000,          0,  1009.9,   7.4324,  35.1048,2,  35.1073,2, 165.2000,2,   170.2,2,   14.25,2,   23.02,2,    0.00,2,    1.50,2,   7.3290
33AT20060118,  CLIMODE-2,      52,          1,         19,         28,2,20060129,       0353,  38.452833,-63.3845000,          0,     3.6,  20.1991,  36.6265,2,  36.6261,2, 218.2000,2,   218.1,2,    0.60,2,    0.62,2,    0.15,2,    0.06,2,  20.1984
33AT20060118,  CLIMODE-2,      52,          1,         20,         20,2,20060129,       0353,  38.452833,-63.3845000,          0,     3.9,  20.1985,  36.6265,2,  36.6263,2, 218.2000,2,   218.7,2,    0.61,2,    0.62,2,    0.15,2,    0.06,2,  20.1978
33AT20060118,  CLIMODE-2,      52,          1,         18,         18,2,20060129,       0353,  38.452833,-63.3845000,          0,    29.2,  20.0780,  36.6281,2,  36.6275,2, 218.5000,2,   218.7,2,    0.50,2,    0.63,2,    0.14,2,    0.05,2,  20.0725
33AT20060118,  CLIMODE-2,      52,          1,         17,         17,2,20060129,       0353,  38.452833,-63.3845000,          0,    50.7,  19.9383,  36.6296,2,  36.6293,2, 217.6000,2,   218.3,2,    0.49,2,    0.69,2,    0.13,2,    0.05,2,  19.9288
33AT20060118,  CLIMODE-2,      52,          1,         16,         16,2,20060129,       0353,  38.452833,-63.3845000,          0,    75.9,  19.9313,  36.6297,2,  36.6299,2, 217.3000,2,   217.3,2,    0.48,2,    0.69,2,    0.13,2,    0.05,2,  19.9172
33AT20060118,  CLIMODE-2,      52,          1,         15,         15,2,20060129,       0353,  38.452833,-63.3845000,          0,   102.4,  19.9366,  36.6302,2,  36.6297,2, 217.4000,2,   217.5,2,    0.36,2,    0.69,2,    0.13,2,    0.05,2,  19.9175
33AT20060118,  CLIMODE-2,      52,          1,         14,         14,2,20060129,       0353,  38.452833,-63.3845000,          0,   126.0,  19.9409,  36.6312,2,  36.6307,2, 217.8000,2,   217.1,2,    0.36,2,    0.75,2,    0.13,2,    0.05,2,  19.9174
33AT20060118,  CLIMODE-2,      52,          1,         13,         13,2,20060129,       0353,  38.452833,-63.3845000,          0,   149.8,  19.9404,  36.6311,2,  36.6309,2, 217.4000,2,   217.1,2,    0.35,2,    0.75,2,    0.13,2,    0.05,2,  19.9125
33AT20060118,  CLIMODE-2,      52,          1,         12,         12,2,20060129,       0353,  38.452833,-63.3845000,          0,   176.1,  19.9389,  36.6306,2,  36.6303,2, 218.7000,2,   217.3,2,    0.35,2,    0.69,2,    0.13,2,    0.05,2,  19.9061
33AT20060118,  CLIMODE-2,      52,          1,         11,         11,2,20060129,       0353,  38.452833,-63.3845000,          0,   275.9,  18.9039,  36.6441,2,  36.6432,2, 200.3000,2,   199.2,2,    0.67,2,    3.02,2,    0.01,2,    0.14,2,  18.8543
33AT20060118,  CLIMODE-2,      52,          1,         10,         10,2,20060129,       0353,  38.452833,-63.3845000,          0,   328.0,  18.6261,  36.6258,2,  36.6256,2, 203.4000,2,   203.1,2,    0.77,2,    3.28,2,    0.01,2,    0.16,2,  18.5676
33AT20060118,  CLIMODE-2,      52,          1,          9,         09,2,20060129,       0353,  38.452833,-63.3845000,          0,   378.4,  18.3419,  36.5997,2,  36.5994,2, 202.5000,2,   204.2,2,    0.88,2,    3.69,2,    0.01,2,    0.19,2,  18.2752
33AT20060118,  CLIMODE-2,      52,          1,          8,         08,2,20060129,       0353,  38.452833,-63.3845000,          0,   428.9,  18.1226,  36.5677,2,  36.5669,2, 204.5000,2,   203.1,2,    0.99,2,    4.16,2,    0.01,2,    0.21,2,  18.0475
33AT20060118,  CLIMODE-2,      52,          1,          7,         07,2,20060129,       0353,  38.452833,-63.3845000,          0,   478.8,  17.5452,  36.4372,2,  36.4393,2, 182.0000,2,   183.1,2,    1.75,2,    6.93,2,    0.01,2,    0.38,2,  17.4631
33AT20060118,  CLIMODE-2,      52,          1,          6,         06,2,20060129,       0353,  38.452833,-63.3845000,          0,   529.3,  16.9544,  36.3438,2,  36.3445,2, 182.3000,2,   182.0,2,    2.19,2,    8.00,2,    0.00,2,    0.44,2,  16.8657
33AT20060118,  CLIMODE-2,      52,          1,          5,         27,2,20060129,       0353,  38.452833,-63.3845000,          0,   572.9,  16.2217,  36.2145,2,  36.2160,2, 175.8000,2,   176.0,2,    2.84,2,    9.75,2,    0.01,2,    0.56,2,  16.1284
33AT20060118,  CLIMODE-2,      52,          1,          4,         04,2,20060129,       0353,  38.452833,-63.3845000,          0,   678.1,  13.9375,  35.8371,2,  35.8362,2, 167.9000,2,   167.8,2,    5.25,2,   14.23,2,    0.00,2,    0.85,2,  13.8375
33AT20060118,  CLIMODE-2,      52,          1,          3,         26,2,20060129,       0353,  38.452833,-63.3845000,          0,   783.1,  11.5039,  35.4692,2,  35.4722,2, 141.5000,2,   140.7,2,   10.09,2,   21.18,2,    0.00,2,    1.31,2,  11.4015
33AT20060118,  CLIMODE-2,      52,          1,          2,         02,2,20060129,       0353,  38.452833,-63.3845000,          0,   883.1,   8.9690,  35.1917,2,  35.1925,2, 145.3000,2,   145.5,2,   14.14,2,   24.36,2,    0.00,2,    1.55,2,   8.8692
33AT20060118,  CLIMODE-2,      52,          1,          1,         25,2,20060129,       0353,  38.452833,-63.3845000,          0,  1009.2,   6.6118,  35.0758,2,  35.0756,2, 191.6000,2,   192.0,2,   13.37,2,   21.69,2,    0.00,2,    1.43,2,   6.5145