BOTTLE,20120918SIOCCHMYS
EXPOCODE,SECT_ID,STNNBR,CASTNO,SAMPNO,BTLNBR,BTLNBR_FLAG_W,DATE,TIME,LATITUDE,LONGITUDE,DEPTH,CTDPRS,CTDTMP,CTDSAL,CTDSAL_FLAG_W,SALNTY,SALNTY_FLAG_W,CTDOXY,CTDOXY_FLAG_W,OXYGEN,OXYGEN_FLAG_W,SILCAT,SILCAT_FLAG_W,NITRAT,NITRAT_FLAG_W,NITRIT,NITRIT_FLAG_W,PHSPHT,PHSPHT_FLAG_W,THETA
,,,,,,,,,,,,DBAR,ITS-90,PSS-78,,PSS-78,,UMOL/KG,,UMOL/KG,,UMOL/KG,,UMOL/KG,,UMOL/KG,,UMOL/KG,,DEG C
33AT20060118,  CLIMODE-2,      18,          1,         20,         20,2,20060122,       2206,  37.709000,-67.8920000,          0,     2.1,  22.0676,  36.5158,2,  36.5434,3, 212.3000,2,   215.9,2,    0.84,2,    0.50,2,    0.09,2,    0.02,2,  22.0671
33AT20060118,  CLIMODE-2,      18,          1,         19,         28,2,20060122,       2206,  37.709000,-67.8920000,          0,    28.4,  21.8823,  36.5211,2,  36.5220,2, 213.8000,2,   213.4,2,    0.84,2,    0.42,2,    0.08,2,    0.02,2,  21.8767
33AT20060118,  CLIMODE-2,      18,          1,         18,         18,2,20060122,       2206,  37.709000,-67.8920000,          0,    51.8,  21.2096,  36.5662,2,  36.5648,2, 216.2000,2,   215.5,2,    0.72,2,    0.47,2,    0.12,2,    0.02,2,  21.1996
33AT20060118,  CLIMODE-2,      18,          1,         17,         17,2,20060122,       2206,  37.709000,-67.8920000,          0,    75.7,  20.1170,  36.6521,2,  36.6512,2, 218.8000,2,   218.1,2,    0.61,2,    0.52,2,    0.22,2,    0.02,2,  20.1029
33AT20060118,  CLIMODE-2,      18,          1,         16,         16,2,20060122,       2206,  37.709000,-67.8920000,          0,   101.9,  19.9168,  36.6548,2,  36.6542,2, 217.5000,2,   216.2,2,    0.60,2,    0.62,2,    0.21,2,    0.03,2,  19.8979
33AT20060118,  CLIMODE-2,      18,          1,         15,         15,2,20060122,       2206,  37.709000,-67.8920000,          0,   126.2,  19.9156,  36.6553,2,  36.6544,2, 217.4000,2,   216.5,2,    0.70,2,    0.59,2,    0.20,2,    0.03,2,  19.8922
33AT20060118,  CLIMODE-2,      18,          1,         14,         14,2,20060122,       2206,  37.709000,-67.8920000,          0,   149.5,  19.9215,  36.6651,2,  36.6649,2, 216.9000,2,   216.3,2,    0.59,2,    0.58,2,    0.21,2,    0.03,2,  19.8937
33AT20060118,  CLIMODE-2,      18,          1,         13,         13,2,20060122,       2206,  37.709000,-67.8920000,          0,   175.6,  19.8988,  36.6671,2,  36.6670,2, 217.1000,2,   216.8,2,    0.58,2,    0.62,2,    0.22,2,    0.02,2,  19.8661
33AT20060118,  CLIMODE-2,      18,          1,         12,         12,2,20060122,       2206,  37.709000,-67.8920000,          0,   226.2,  19.1269,  36.6603,2,  36.6611,2, 198.6000,2,   196.3,2,    0.91,2,    2.76,2,    0.02,2,    0.11,2,  19.0859
33AT20060118,  CLIMODE-2,      18,          1,         11,         11,2,20060122,       2206,  37.709000,-67.8920000,          0,   276.3,  18.7313,  36.6434,2,  36.6428,2, 204.6000,2,   204.9,2,    1.02,2,    2.97,2,    0.01,2,    0.12,2,  18.6819
33AT20060118,  CLIMODE-2,      18,          1,         10,         10,2,20060122,       2206,  37.709000,-67.8920000,          0,   326.7,  18.4076,  36.6125,2,  36.6115,2, 205.7000,2,   205.4,2,    1.12,2,    3.46,2,    0.01,2,    0.15,2,  18.3499
33AT20060118,  CLIMODE-2,      18,          1,          9,         09,2,20060122,       2206,  37.709000,-67.8920000,          0,   376.9,  18.1822,  36.5820,2,  36.5851,2, 205.2000,2,   205.0,2,    1.11,2,    3.90,2,    0.01,2,    0.17,2,  18.1161
33AT20060118,  CLIMODE-2,      18,          1,          8,         08,2,20060122,       2206,  37.709000,-67.8920000,          0,   428.4,  17.8258,  36.5150,2,  36.5227,2, 200.2000,2,   199.3,2,    1.33,2,    5.02,2,    0.01,2,    0.22,2,  17.7516
33AT20060118,  CLIMODE-2,      18,          1,          7,         07,2,20060122,       2206,  37.709000,-67.8920000,          0,   479.2,  17.2170,  36.3965,2,  36.3959,2, 187.9000,2,   187.3,2,    2.00,2,    7.11,2,    0.00,2,    0.35,2,  17.1359
33AT20060118,  CLIMODE-2,      18,          1,          6,         06,2,20060122,       2206,  37.709000,-67.8920000,          0,   530.4,  16.3097,  36.2349,2,  36.2399,2, 181.2000,2,   180.2,2,    2.89,2,    9.21,2,    0.00,2,    0.49,2,  16.2231
33AT20060118,  CLIMODE-2,      18,          1,          5,         27,2,20060122,       2206,  37.709000,-67.8920000,          0,   579.7,  15.1775,  36.0440,2,  36.0489,2, 176.6000,2,   176.8,2,    4.00,2,   11.52,2,    0.00,2,    0.63,2,  15.0873
33AT20060118,  CLIMODE-2,      18,          1,          4,         04,2,20060122,       2206,  37.709000,-67.8920000,          0,   680.4,  12.7564,  35.6547,2,  35.6579,2, 158.1000,2,   157.0,2,    7.59,2,   17.25,2,    0.00,2,    1.03,2,  12.6617
33AT20060118,  CLIMODE-2,      18,          1,          3,         26,2,20060122,       2206,  37.709000,-67.8920000,          0,   782.1,  10.4236,  35.3670,2,  35.3654,2, 150.7000,2,   151.1,2,   11.18,2,   21.39,2,    0.00,2,    1.32,2,  10.3274
33AT20060118,  CLIMODE-2,      18,          1,          2,         02,2,20060122,       2206,  37.709000,-67.8920000,          0,   881.8,   8.2928,  35.1727,2,  35.1727,2, 161.4000,2,   160.8,2,   13.87,2,   23.12,2,    0.00,2,    1.47,2,   8.1976
33AT20060118,  CLIMODE-2,      18,          1,          1,         25,2,20060122,       2206,  37.709000,-67.8920000,          0,  1007.5,   6.1012,  35.0693,2,  35.0693,2, 207.7000,2,   205.3,3,   13.75,2,   21.05,2,    0.00,2,    1.37,2,   6.0080
33AT20060118,  CLIMODE-2,      19,          1,         20,         20,2,20060123,       0013,  37.815167,-67.7375000,          0,     1.9,  22.5145,  36.4711,2,  36.4725,2, 208.1000,2,   210.1,2,    0.62,2,    0.40,2,    0.10,2,    0.02,2,  22.5141
33AT20060118,  CLIMODE-2,      19,          1,         19,         28,2,20060123,       0013,  37.815167,-67.7375000,          0,    26.8,  22.5478,  36.4697,2,  36.4703,2, 208.3000,2,   209.5,2,    0.50,2,    0.40,2,    0.10,2,    0.02,2,  22.5424
33AT20060118,  CLIMODE-2,      19,          1,         18,         18,2,20060123,       0013,  37.815167,-67.7375000,          0,    50.7,  22.5476,  36.4761,2,  36.4768,2, 207.9000,2,   209.7,2,    0.50,2,    0.40,2,    0.10,2,    0.01,2,  22.5373
33AT20060118,  CLIMODE-2,      19,          1,         17,         17,2,20060123,       0013,  37.815167,-67.7375000,          0,    75.4,  22.1873,  36.5224,2,  36.5297,2, 207.8000,2,   210.6,2,    0.49,2,    0.37,2,    0.14,2,    0.01,2,  22.1722
33AT20060118,  CLIMODE-2,      19,          1,         16,         16,2,20060123,       0013,  37.815167,-67.7375000,          0,   100.8,  21.8223,  36.6415,2,-999.0000,1, 203.2000,2,   206.2,2,    0.25,2,    0.54,2,    0.22,2,    0.02,2,  21.8023
33AT20060118,  CLIMODE-2,      19,          1,         15,         15,2,20060123,       0013,  37.815167,-67.7375000,          0,   127.2,  20.8722,  36.7748,2,  36.7691,2, 176.1000,2,   166.1,2,    1.03,2,    4.50,2,    0.04,2,    0.20,2,  20.8478
33AT20060118,  CLIMODE-2,      19,          1,         14,         14,2,20060123,       0013,  37.815167,-67.7375000,          0,   151.3,  20.3488,  36.7750,2,  36.7788,2, 186.8000,2,   189.0,2,    0.36,2,    1.81,2,    0.01,2,    0.09,2,  20.3202
33AT20060118,  CLIMODE-2,      19,          1,         13,         13,2,20060123,       0013,  37.815167,-67.7375000,          0,   201.4,  19.1526,  36.6581,2,  36.6576,2, 193.4000,2,   194.2,2,    0.58,2,    2.84,2,    0.01,2,    0.13,2,  19.1161
33AT20060118,  CLIMODE-2,      19,          1,         12,         12,2,20060123,       0013,  37.815167,-67.7375000,          0,   249.7,  18.5940,  36.6092,2,  36.6094,2, 196.7000,2,   197.7,2,    0.79,2,    3.72,2,    0.01,2,    0.18,2,  18.5496
33AT20060118,  CLIMODE-2,      19,          1,         11,         11,2,20060123,       0013,  37.815167,-67.7375000,          0,   301.7,  18.2357,  36.5686,2,  36.5787,2, 199.1000,2,   197.9,2,    0.90,2,    4.35,2,    0.01,2,    0.21,2,  18.1828
33AT20060118,  CLIMODE-2,      19,          1,         10,         10,2,20060123,       0013,  37.815167,-67.7375000,          0,   353.0,  17.4647,  36.4177,2,  36.4249,2, 184.5000,2,   178.9,2,    1.79,2,    7.38,2,    0.01,2,    0.39,2,  17.4046
33AT20060118,  CLIMODE-2,      19,          1,          9,         09,2,20060123,       0013,  37.815167,-67.7375000,          0,   403.5,  16.8534,  36.3192,2,  36.3214,2, 177.7000,2,   174.7,2,    2.23,2,    8.75,2,    0.00,2,    0.48,2,  16.7863
33AT20060118,  CLIMODE-2,      19,          1,          8,         08,2,20060123,       0013,  37.815167,-67.7375000,          0,   453.4,  16.2185,  36.2177,2,  36.2174,2, 173.8000,2,   174.0,2,    2.77,2,    9.93,2,    0.00,2,    0.55,2,  16.1449
33AT20060118,  CLIMODE-2,      19,          1,          7,         07,2,20060123,       0013,  37.815167,-67.7375000,          0,   505.9,  15.2255,  36.0495,2,  36.0519,2, 171.3000,2,   171.1,2,    3.77,2,   11.89,2,    0.00,2,    0.67,2,  15.1467
33AT20060118,  CLIMODE-2,      19,          1,          6,         06,2,20060123,       0013,  37.815167,-67.7375000,          0,   556.0,  14.2028,  35.8804,2,  35.8837,2, 164.4000,2,   164.0,2,    5.11,2,   14.20,2,    0.00,2,    0.83,2,  14.1201
33AT20060118,  CLIMODE-2,      19,          1,          5,         27,2,20060123,       0013,  37.815167,-67.7375000,          0,   606.9,  12.9602,  35.6873,2,  35.7067,2, 157.2000,2,   157.7,2,    6.78,2,   16.63,2,    0.00,2,    1.00,2,  12.8751
33AT20060118,  CLIMODE-2,      19,          1,          4,         04,2,20060123,       0013,  37.815167,-67.7375000,          0,   707.8,  10.2933,  35.3181,2,  35.3279,2, 134.7000,2,   136.1,2,   12.47,2,   23.65,2,    0.00,2,    1.47,2,  10.2072
33AT20060118,  CLIMODE-2,      19,          1,          3,         26,2,20060123,       0013,  37.815167,-67.7375000,          0,   805.0,   7.9878,  35.1560,2,  35.1551,2, 165.3000,2,   166.2,2,   13.58,2,   23.01,2,    0.00,2,    1.48,2,   7.9031
33AT20060118,  CLIMODE-2,      19,          1,          2,         02,2,20060123,       0013,  37.815167,-67.7375000,          0,   901.4,   6.5116,  35.0927,2,  35.0915,2, 195.0000,2,   194.7,2,   13.57,2,   21.64,2,    0.00,2,    1.41,2,   6.4260
33AT20060118,  CLIMODE-2,      19,          1,          1,         25,2,20060123,       0013,  37.815167,-67.7375000,          0,  1006.4,   5.3781,  35.0549,2,  35.0533,2, 227.2000,2,   226.3,2,   12.45,2,   19.57,2,    0.00,2,    1.28,2,   5.2904
33AT20060118,  CLIMODE-2,      20,          1,         20,         20,2,20060123,       0258,  37.920500,-67.5851667,          0,     2.4,  22.1931,  36.6051,2,  36.6094,2, 208.0000,2,   205.4,2,    0.67,2,    0.68,2,    0.10,2,    0.05,2,  22.1927
33AT20060118,  CLIMODE-2,      20,          1,         19,         28,2,20060123,       0258,  37.920500,-67.5851667,          0,    26.5,  22.1905,  36.6047,2,  36.6045,2, 208.1000,2,   205.1,2,    0.66,2,    0.63,2,    0.10,2,    0.04,2,  22.1852
33AT20060118,  CLIMODE-2,      20,          1,         18,         18,2,20060123,       0258,  37.920500,-67.5851667,          0,    50.8,  22.2187,  36.6087,2,  36.6072,2, 207.6000,2,   204.8,2,    0.65,2,    0.68,2,    0.10,2,    0.04,2,  22.2085
33AT20060118,  CLIMODE-2,      20,          1,         17,         17,2,20060123,       0258,  37.920500,-67.5851667,          0,    75.8,  22.2078,  36.6084,2,  36.6062,2, 205.7000,2,   205.1,2,    0.63,2,    0.63,2,    0.10,2,    0.04,2,  22.1926
33AT20060118,  CLIMODE-2,      20,          1,         16,         16,2,20060123,       0258,  37.920500,-67.5851667,          0,   101.0,  22.2005,  36.7164,2,  36.7137,2, 192.6000,2,   195.5,2,    0.85,2,    1.88,2,    0.08,2,    0.09,2,  22.1803
33AT20060118,  CLIMODE-2,      20,          1,         15,         15,2,20060123,       0258,  37.920500,-67.5851667,          0,   125.8,  21.5977,  36.8516,2,  36.8556,2, 165.1000,2,   163.2,2,    1.05,2,    3.94,2,    0.02,2,    0.19,2,  21.5729
33AT20060118,  CLIMODE-2,      20,          1,         14,         14,2,20060123,       0258,  37.920500,-67.5851667,          0,   152.0,  20.4417,  36.7675,2,  36.7681,2, 167.1000,2,   168.8,2,    1.15,2,    4.29,2,    0.01,2,    0.20,2,  20.4129
33AT20060118,  CLIMODE-2,      20,          1,         13,         13,2,20060123,       0258,  37.920500,-67.5851667,          0,   174.9,  19.7108,  36.6955,2,  36.6975,2, 166.5000,2,   168.8,2,    1.25,2,    4.99,2,    0.01,2,    0.23,2,  19.6785
33AT20060118,  CLIMODE-2,      20,          1,         12,         12,2,20060123,       0258,  37.920500,-67.5851667,          0,   226.0,  18.6150,  36.5718,2,  36.6092,3, 171.4000,2,   171.7,2,    1.46,2,    5.82,2,    0.01,2,    0.28,2,  18.5749
33AT20060118,  CLIMODE-2,      20,          1,         11,         11,2,20060123,       0258,  37.920500,-67.5851667,          0,   277.9,  17.6342,  36.4323,2,  36.4327,2, 172.8000,2,   169.0,2,    2.12,2,    8.12,2,    0.01,2,    0.42,2,  17.5866
33AT20060118,  CLIMODE-2,      20,          1,         10,         10,2,20060123,       0258,  37.920500,-67.5851667,          0,   326.1,  16.3858,  36.2335,2,  36.2372,2, 163.5000,2,   163.3,2,    3.21,2,   10.58,2,    0.01,2,    0.58,2,  16.3327
33AT20060118,  CLIMODE-2,      20,          1,          9,         09,2,20060123,       0258,  37.920500,-67.5851667,          0,   377.1,  15.0239,  36.0205,2,  36.0196,2, 166.6000,2,   165.8,2,    4.08,2,   12.55,2,    0.01,2,    0.71,2,  14.9659
33AT20060118,  CLIMODE-2,      20,          1,          8,         08,2,20060123,       0258,  37.920500,-67.5851667,          0,   427.6,  13.8906,  35.8341,2,  35.8321,2, 163.9000,2,   163.7,2,    5.40,2,   14.73,2,    0.00,2,    0.86,2,  13.8282
33AT20060118,  CLIMODE-2,      20,          1,          7,         07,2,20060123,       0258,  37.920500,-67.5851667,          0,   479.2,  12.8759,  35.6793,2,  35.6798,2, 148.0000,2,   147.5,2,    7.38,2,   18.08,2,    0.00,2,    1.07,2,  12.8093
33AT20060118,  CLIMODE-2,      20,          1,          6,         06,2,20060123,       0258,  37.920500,-67.5851667,          0,   530.7,  11.2932,  35.4364,2,  35.4375,2, 135.0000,2,   132.9,2,   11.15,2,   22.50,2,    0.00,2,    1.38,2,  11.2253
33AT20060118,  CLIMODE-2,      20,          1,          5,         27,4,20060123,       0258,  37.920500,-67.5851667,          0,   582.1,   9.8660,  35.2614,2,  35.6214,4, 131.5000,2,   143.2,4,   10.14,4,   19.27,4,    0.02,4,    1.17,4,   9.7974
33AT20060118,  CLIMODE-2,      20,          1,          4,         04,2,20060123,       0258,  37.920500,-67.5851667,          0,   682.8,   7.7839,  35.1236,2,  35.1228,2, 161.5000,2,   163.2,2,   14.68,2,   24.16,2,    0.00,2,    1.53,2,   7.7136
33AT20060118,  CLIMODE-2,      20,          1,          3,         26,2,20060123,       0258,  37.920500,-67.5851667,          0,   781.4,   6.0736,  35.0648,2,  35.0636,2, 206.1000,2,   204.5,2,   13.34,2,   21.03,2,    0.00,2,    1.37,2,   6.0027
33AT20060118,  CLIMODE-2,      20,          1,          2,         02,2,20060123,       0258,  37.920500,-67.5851667,          0,   882.4,   5.1116,  35.0193,2,  35.0163,2, 234.3000,2,   232.1,2,   11.99,2,   19.19,2,    0.00,2,    1.26,2,   5.0373
33AT20060118,  CLIMODE-2,      20,          1,          1,         25,2,20060123,       0258,  37.920500,-67.5851667,          0,  1004.6,   4.5669,  34.9846,2,  34.9868,2, 250.2000,2,   248.2,2,   11.42,2,   18.35,2,    0.00,2,    1.20,2,   4.4857