BOTTLE,20120918SIOCCHMYS
EXPOCODE,SECT_ID,STNNBR,CASTNO,SAMPNO,BTLNBR,BTLNBR_FLAG_W,DATE,TIME,LATITUDE,LONGITUDE,DEPTH,CTDPRS,CTDTMP,CTDSAL,CTDSAL_FLAG_W,SALNTY,SALNTY_FLAG_W,CTDOXY,CTDOXY_FLAG_W,OXYGEN,OXYGEN_FLAG_W,SILCAT,SILCAT_FLAG_W,NITRAT,NITRAT_FLAG_W,NITRIT,NITRIT_FLAG_W,PHSPHT,PHSPHT_FLAG_W,THETA
,,,,,,,,,,,,DBAR,ITS-90,PSS-78,,PSS-78,,UMOL/KG,,UMOL/KG,,UMOL/KG,,UMOL/KG,,UMOL/KG,,UMOL/KG,,DEG C
33AT20060118,  CLIMODE-2,      45,          1,         20,         20,2,20060127,       0910,  37.842333,-62.4215000,          0,     3.6,  19.5678,  36.6063,2,  36.6073,2, 219.9000,2,   219.4,2,    0.76,2,    0.56,2,    0.23,2,    0.08,2,  19.5671
33AT20060118,  CLIMODE-2,      45,          1,         19,         28,2,20060127,       0910,  37.842333,-62.4215000,          0,    29.3,  19.5664,  36.6064,2,  36.6057,2, 217.9000,2,   218.9,2,    0.74,2,    0.56,2,    0.23,2,    0.08,2,  19.5610
33AT20060118,  CLIMODE-2,      45,          1,         18,         18,2,20060127,       0910,  37.842333,-62.4215000,          0,    50.0,  19.5770,  36.6062,2,  36.6073,2, 218.3000,2,   219.4,2,    0.60,2,    0.56,2,    0.23,2,    0.07,2,  19.5678
33AT20060118,  CLIMODE-2,      45,          1,         17,         17,2,20060127,       0910,  37.842333,-62.4215000,          0,    74.9,  19.5924,  36.6058,2,  36.6046,2, 219.3000,2,   219.5,2,    0.58,2,    0.60,2,    0.24,2,    0.07,2,  19.5786
33AT20060118,  CLIMODE-2,      45,          1,         16,         16,2,20060127,       0910,  37.842333,-62.4215000,          0,   100.7,  19.5982,  36.6059,2,  36.6048,2, 219.2000,2,   218.6,2,    0.65,2,    0.61,2,    0.23,2,    0.06,2,  19.5797
33AT20060118,  CLIMODE-2,      45,          1,         15,         15,2,20060127,       0910,  37.842333,-62.4215000,          0,   126.3,  19.6041,  36.6052,2,  36.6040,2, 218.1000,2,   219.1,2,    0.74,2,    0.61,2,    0.24,2,    0.06,2,  19.5808
33AT20060118,  CLIMODE-2,      45,          1,         14,         14,2,20060127,       0910,  37.842333,-62.4215000,          0,   149.8,  19.0101,  36.6254,2,  36.6242,2, 201.6000,2,   197.4,2,    1.04,2,    2.76,2,    0.05,2,    0.16,2,  18.9831
33AT20060118,  CLIMODE-2,      45,          1,         13,         13,2,20060127,       0910,  37.842333,-62.4215000,          0,   200.6,  18.6123,  36.6152,2,  36.6143,2, 199.5000,2,   199.2,2,    1.24,2,    3.35,2,    0.01,2,    0.18,2,  18.5766
33AT20060118,  CLIMODE-2,      45,          1,         12,         12,2,20060127,       0910,  37.842333,-62.4215000,          0,   256.2,  18.3742,  36.5939,2,  36.5935,2, 203.5000,2,   200.9,2,    1.32,2,    3.66,2,    0.01,2,    0.20,2,  18.3290
33AT20060118,  CLIMODE-2,      45,          1,         11,         11,2,20060127,       0910,  37.842333,-62.4215000,          0,   302.4,  18.2139,  36.5784,2,  36.5781,2, 205.0000,2,   203.5,2,    1.18,2,    3.76,2,    0.01,2,    0.20,2,  18.1609
33AT20060118,  CLIMODE-2,      45,          1,         10,         10,2,20060127,       0910,  37.842333,-62.4215000,          0,   351.7,  18.0893,  36.5655,2,  36.5658,2, 205.8000,2,   204.8,2,    1.27,2,    3.86,2,    0.01,2,    0.20,2,  18.0278
33AT20060118,  CLIMODE-2,      45,          1,          9,         09,2,20060127,       0910,  37.842333,-62.4215000,          0,   401.5,  17.9373,  36.5413,2,  36.5412,2, 203.6000,2,   203.6,2,    1.46,2,    4.27,2,    0.01,2,    0.23,2,  17.8675
33AT20060118,  CLIMODE-2,      45,          1,          8,         08,2,20060127,       0910,  37.842333,-62.4215000,          0,   455.6,  17.4395,  36.4428,2,  36.4545,2, 192.1000,2,   193.8,2,    1.87,2,    5.94,2,    0.01,2,    0.33,2,  17.3618
33AT20060118,  CLIMODE-2,      45,          1,          7,         07,2,20060127,       0910,  37.842333,-62.4215000,          0,   505.6,  16.6541,  36.2940,2,  36.2957,2, 182.6000,2,   182.7,2,    2.63,2,    8.32,2,    0.00,2,    0.48,2,  16.5704
33AT20060118,  CLIMODE-2,      45,          1,          6,         06,2,20060127,       0910,  37.842333,-62.4215000,          0,   557.8,  15.8541,  36.1552,2,  36.1562,2, 177.5000,2,   178.4,2,    3.38,2,   10.01,2,    0.00,2,    0.59,2,  15.7647
33AT20060118,  CLIMODE-2,      45,          1,          5,         27,2,20060127,       0910,  37.842333,-62.4215000,          0,   608.8,  15.0109,  36.0111,2,  36.0112,2, 179.9000,2,   179.0,2,    4.01,2,   11.29,2,    0.00,2,    0.68,2,  14.9168
33AT20060118,  CLIMODE-2,      45,          1,          4,         04,2,20060127,       0910,  37.842333,-62.4215000,          0,   711.3,  12.9329,  35.6744,2,  35.6730,2, 162.8000,2,   164.4,2,    6.78,2,   16.01,2,    0.00,2,    1.00,2,  12.8329
33AT20060118,  CLIMODE-2,      45,          1,          3,         26,2,20060127,       0910,  37.842333,-62.4215000,          0,   807.5,  11.2325,  35.4422,2,  35.4412,2, 151.3000,2,   150.1,2,    9.98,2,   20.40,2,    0.00,2,    1.28,2,  11.1284
33AT20060118,  CLIMODE-2,      45,          1,          2,         02,2,20060127,       0910,  37.842333,-62.4215000,          0,   910.3,   9.2324,  35.2301,2,  35.2302,2, 149.7000,2,   149.4,2,   13.19,2,   23.53,2,    0.00,2,    1.50,2,   9.1277
33AT20060118,  CLIMODE-2,      45,          1,          1,         25,2,20060127,       0910,  37.842333,-62.4215000,          0,  1003.5,   7.2607,  35.1088,2,  35.1063,2, 178.2000,2,   177.8,2,   13.84,2,   22.75,2,    0.00,2,    1.48,2,   7.1591
33AT20060118,  CLIMODE-2,      46,          1,         20,         20,2,20060127,       1245,  38.013167,-62.4541667,          0,     2.9,  19.3498,  36.5786,2,  36.5851,2, 222.5000,2,   222.1,2,    0.62,2,    0.52,2,    0.24,2,    0.06,2,  19.3493
33AT20060118,  CLIMODE-2,      46,          1,         19,         28,2,20060127,       1245,  38.013167,-62.4541667,          0,    24.8,  19.3672,  36.5777,2,  36.5780,2, 222.7000,2,   221.1,2,    0.48,2,    0.52,2,    0.24,2,    0.06,2,  19.3627
33AT20060118,  CLIMODE-2,      46,          1,         18,         18,2,20060127,       1245,  38.013167,-62.4541667,          0,    52.9,  19.3744,  36.5780,2,  36.5776,2, 222.5000,2,   221.9,2,    0.57,2,    0.52,2,    0.24,2,    0.06,2,  19.3648
33AT20060118,  CLIMODE-2,      46,          1,         17,         17,2,20060127,       1245,  38.013167,-62.4541667,          0,    74.0,  19.3680,  36.5780,2,  36.5776,2, 222.5000,2,   221.9,2,    0.64,2,    0.47,2,    0.24,2,    0.06,2,  19.3546
33AT20060118,  CLIMODE-2,      46,          1,         16,         16,2,20060127,       1245,  38.013167,-62.4541667,          0,   101.7,  19.3726,  36.5774,2,  36.5778,2, 222.4000,2,   221.0,2,    0.61,2,    0.47,2,    0.24,2,    0.06,2,  19.3540
33AT20060118,  CLIMODE-2,      46,          1,         15,         15,2,20060127,       1245,  38.013167,-62.4541667,          0,   125.6,  19.3760,  36.5777,2,  36.5780,2, 221.9000,2,   221.1,2,    0.59,2,    0.47,2,    0.24,2,    0.05,2,  19.3531
33AT20060118,  CLIMODE-2,      46,          1,         14,         14,2,20060127,       1245,  38.013167,-62.4541667,          0,   150.6,  19.3709,  36.5798,2,  36.5788,2, 222.2000,2,   220.4,2,    0.55,2,    0.52,2,    0.24,2,    0.05,2,  19.3435
33AT20060118,  CLIMODE-2,      46,          1,         13,         13,2,20060127,       1245,  38.013167,-62.4541667,          0,   175.7,  19.3211,  36.5912,2,  36.5883,2, 220.4000,2,   223.8,2,    0.63,2,    0.95,2,    0.20,2,    0.07,2,  19.2892
33AT20060118,  CLIMODE-2,      46,          1,         12,         12,2,20060127,       1245,  38.013167,-62.4541667,          0,   227.2,  18.5814,  36.6182,2,  36.6169,2, 202.5000,2,   203.1,2,    0.93,2,    3.08,2,    0.01,2,    0.16,2,  18.5411
33AT20060118,  CLIMODE-2,      46,          1,         11,         11,2,20060127,       1245,  38.013167,-62.4541667,          0,   276.9,  18.4039,  36.6051,2,  36.6030,2, 204.2000,2,   204.6,2,    1.01,2,    3.34,2,    0.01,2,    0.17,2,  18.3550
33AT20060118,  CLIMODE-2,      46,          1,         10,         10,2,20060127,       1245,  38.013167,-62.4541667,          0,   327.3,  18.2946,  36.5951,2,  36.5941,2, 205.9000,2,   205.6,2,    1.09,2,    3.44,2,    0.01,2,    0.18,2,  18.2370
33AT20060118,  CLIMODE-2,      46,          1,          9,         09,2,20060127,       1245,  38.013167,-62.4541667,          0,   376.6,  18.1587,  36.5767,2,  36.5766,2, 206.9000,2,   205.8,2,    1.17,2,    3.69,2,    0.01,2,    0.20,2,  18.0927
33AT20060118,  CLIMODE-2,      46,          1,          8,         08,2,20060127,       1245,  38.013167,-62.4541667,          0,   429.0,  17.9726,  36.5472,2,  36.5485,2, 204.1000,2,   203.9,2,    1.25,2,    4.19,2,    0.01,2,    0.22,2,  17.8978
33AT20060118,  CLIMODE-2,      46,          1,          7,         07,2,20060127,       1245,  38.013167,-62.4541667,          0,   479.8,  17.6352,  36.4793,2,  36.4835,2, 195.8000,2,   196.4,2,    1.55,2,    5.35,2,    0.01,2,    0.29,2,  17.5527
33AT20060118,  CLIMODE-2,      46,          1,          6,         06,2,20060127,       1245,  38.013167,-62.4541667,          0,   531.9,  16.7903,  36.3167,2,  36.3197,2, 183.0000,2,   181.9,2,    2.29,2,    8.01,2,    0.01,2,    0.45,2,  16.7017
33AT20060118,  CLIMODE-2,      46,          1,          5,         27,2,20060127,       1245,  38.013167,-62.4541667,          0,   579.2,  16.1306,  36.2001,2,  36.1992,2, 178.9000,2,   178.8,2,    2.92,2,    9.53,2,    0.00,2,    0.55,2,  16.0366
33AT20060118,  CLIMODE-2,      46,          1,          4,         04,2,20060127,       1245,  38.013167,-62.4541667,          0,   684.5,  13.8430,  35.8130,2,  35.8107,2, 170.7000,2,   170.4,2,    5.32,2,   14.00,2,    0.00,2,    0.85,2,  13.7425
33AT20060118,  CLIMODE-2,      46,          1,          3,         26,2,20060127,       1245,  38.013167,-62.4541667,          0,   780.9,  12.0101,  35.5422,2,  35.5501,2, 157.5000,2,   156.6,2,    8.28,2,   18.35,2,    0.00,2,    1.14,2,  11.9051
33AT20060118,  CLIMODE-2,      46,          1,          2,         02,2,20060127,       1245,  38.013167,-62.4541667,          0,   882.5,  10.1167,  35.3105,2,  35.3060,2, 146.8000,2,   147.5,2,   11.91,2,   22.43,2,    0.00,2,    1.43,2,  10.0097
33AT20060118,  CLIMODE-2,      46,          1,          1,         25,2,20060127,       1245,  38.013167,-62.4541667,          0,  1008.2,   7.4221,  35.1328,2,  35.1307,2, 179.3000,2,   177.7,2,   13.33,2,   22.23,2,    0.00,2,    1.46,2,   7.3189
33AT20060118,  CLIMODE-2,      47,          1,         20,         20,2,20060127,       1659,  38.185333,-62.4886667,          0,     3.9,  19.3879,  36.6033,2,  36.6035,2, 218.7000,2,   219.2,2,    0.64,2,    0.70,2,    0.22,2,    0.07,2,  19.3872
33AT20060118,  CLIMODE-2,      47,          1,         19,         28,2,20060127,       1659,  38.185333,-62.4886667,          0,    25.9,  19.4118,  36.6023,2,  36.6020,2, 219.4000,2,   219.4,2,    0.62,2,    0.70,2,    0.22,2,    0.07,2,  19.4071
33AT20060118,  CLIMODE-2,      47,          1,         18,         18,2,20060127,       1659,  38.185333,-62.4886667,          0,    50.9,  19.4119,  36.6027,2,  36.6026,2, 219.6000,2,   219.5,2,    0.60,2,    0.70,2,    0.22,2,    0.07,2,  19.4026
33AT20060118,  CLIMODE-2,      47,          1,         17,         17,2,20060127,       1659,  38.185333,-62.4886667,          0,    75.0,  19.4177,  36.6023,2,  36.6022,2, 219.8000,2,   219.5,2,    0.67,2,    0.69,2,    0.23,2,    0.07,2,  19.4040
33AT20060118,  CLIMODE-2,      47,          1,         16,         16,2,20060127,       1659,  38.185333,-62.4886667,          0,   101.7,  19.4212,  36.6021,2,  36.6026,2, 220.3000,2,   219.0,2,    0.76,2,    0.70,2,    0.23,2,    0.06,2,  19.4026
33AT20060118,  CLIMODE-2,      47,          1,         15,         15,2,20060127,       1659,  38.185333,-62.4886667,          0,   126.0,  19.4220,  36.6011,2,  36.6014,2, 220.1000,2,   218.9,2,    0.73,2,    0.75,2,    0.23,2,    0.07,2,  19.3990
33AT20060118,  CLIMODE-2,      47,          1,         14,         14,2,20060127,       1659,  38.185333,-62.4886667,          0,   151.2,  19.4282,  36.6001,2,  36.6002,2, 220.4000,2,   218.4,2,    0.70,2,    0.75,2,    0.23,2,    0.07,2,  19.4005
33AT20060118,  CLIMODE-2,      47,          1,         13,         13,2,20060127,       1659,  38.185333,-62.4886667,          0,   199.9,  19.0580,  36.6390,2,  36.6339,2, 204.7000,2,   204.1,2,    0.79,2,    2.15,2,    0.08,2,    0.12,2,  19.0219
33AT20060118,  CLIMODE-2,      47,          1,         12,         12,2,20060127,       1659,  38.185333,-62.4886667,          0,   253.0,  18.5828,  36.6099,2,  36.6121,2, 198.4000,2,   199.0,2,    1.09,2,    3.52,2,    0.01,2,    0.18,2,  18.5379
33AT20060118,  CLIMODE-2,      47,          1,         11,         11,2,20060127,       1659,  38.185333,-62.4886667,          0,   305.5,  18.3346,  36.5963,2,  36.5980,2, 203.9000,2,   204.2,2,    1.06,2,    3.52,2,    0.01,2,    0.19,2,  18.2808
33AT20060118,  CLIMODE-2,      47,          1,         10,         10,2,20060127,       1659,  38.185333,-62.4886667,          0,   354.2,  18.2067,  36.5845,2,  36.5865,2, 207.1000,2,   206.3,2,    1.14,2,    3.62,2,    0.01,2,    0.19,2,  18.1446
33AT20060118,  CLIMODE-2,      47,          1,          9,         09,2,20060127,       1659,  38.185333,-62.4886667,          0,   404.1,  18.0511,  36.5605,2,  36.5615,2, 206.5000,2,   204.7,2,    1.34,2,    4.03,2,    0.01,2,    0.21,2,  17.9805
33AT20060118,  CLIMODE-2,      47,          1,          8,         08,2,20060127,       1659,  38.185333,-62.4886667,          0,   453.1,  17.8340,  36.5241,2,  36.5276,2, 201.7000,2,   203.6,2,    1.41,2,    4.48,2,    0.01,2,    0.24,2,  17.7554
33AT20060118,  CLIMODE-2,      47,          1,          7,         07,2,20060127,       1659,  38.185333,-62.4886667,          0,   505.9,  17.2583,  36.4034,2,  36.4084,2, 187.5000,2,   188.9,2,    2.16,2,    6.75,2,    0.00,2,    0.37,2,  17.1725
33AT20060118,  CLIMODE-2,      47,          1,          6,         06,2,20060127,       1659,  38.185333,-62.4886667,          0,   548.6,  16.6174,  36.2847,2,  36.2899,2, 182.8000,2,   181.6,2,    2.68,2,    8.42,2,    0.00,2,    0.48,2,  16.5267
33AT20060118,  CLIMODE-2,      47,          1,          5,         27,2,20060127,       1659,  38.185333,-62.4886667,          0,   607.7,  15.7153,  36.1272,2,  36.1267,2, 176.0000,2,   175.4,2,    3.54,2,   10.51,2,    0.00,2,    0.61,2,  15.6184
33AT20060118,  CLIMODE-2,      47,          1,          4,         04,2,20060127,       1659,  38.185333,-62.4886667,          0,   712.1,  14.0316,  35.8432,2,  35.8491,2, 171.9000,2,   173.1,2,    5.06,2,   13.37,2,    0.00,2,    0.81,2,  13.9260
33AT20060118,  CLIMODE-2,      47,          1,          3,         26,2,20060127,       1659,  38.185333,-62.4886667,          0,   808.0,  12.1136,  35.5580,2,  35.5565,2, 156.3000,2,   155.3,2,    8.46,2,   18.55,2,    0.00,2,    1.15,2,  12.0043
33AT20060118,  CLIMODE-2,      47,          1,          2,         02,2,20060127,       1659,  38.185333,-62.4886667,          0,   906.0,   9.9468,  35.2833,2,  35.2869,2, 142.0000,2,   142.0,2,   12.76,2,   23.48,2,    0.00,2,    1.47,2,   9.8379
33AT20060118,  CLIMODE-2,      47,          1,          1,         25,2,20060127,       1659,  38.185333,-62.4886667,          0,   999.2,   8.2755,  35.1714,2,  35.1699,2, 164.6000,2,   165.0,2,   13.39,2,   23.01,2,    0.00,2,    1.47,2,   8.1670