BOTTLE,20120918SIOCCHMYS
EXPOCODE,SECT_ID,STNNBR,CASTNO,SAMPNO,BTLNBR,BTLNBR_FLAG_W,DATE,TIME,LATITUDE,LONGITUDE,DEPTH,CTDPRS,CTDTMP,CTDSAL,CTDSAL_FLAG_W,SALNTY,SALNTY_FLAG_W,CTDOXY,CTDOXY_FLAG_W,OXYGEN,OXYGEN_FLAG_W,SILCAT,SILCAT_FLAG_W,NITRAT,NITRAT_FLAG_W,NITRIT,NITRIT_FLAG_W,PHSPHT,PHSPHT_FLAG_W,THETA
,,,,,,,,,,,,DBAR,ITS-90,PSS-78,,PSS-78,,UMOL/KG,,UMOL/KG,,UMOL/KG,,UMOL/KG,,UMOL/KG,,UMOL/KG,,DEG C
33AT20060118,  CLIMODE-2,      27,          1,         21,         29,2,20060124,       0638,  37.096333,-65.9715000,          0,     3.3,  21.1013,  36.5735,2,  36.5755,2, 213.8000,2,   212.9,2,    0.89,2,    0.92,2,    0.11,2,    0.06,2,  21.1007
33AT20060118,  CLIMODE-2,      27,          1,         20,         20,2,20060124,       0638,  37.096333,-65.9715000,          0,     3.4,  21.1008,  36.5733,2,  36.5737,2, 213.8000,2,   212.8,2,    0.78,2,    0.87,2,    0.11,2,    0.05,2,  21.1001
33AT20060118,  CLIMODE-2,      27,          1,         19,         28,2,20060124,       0638,  37.096333,-65.9715000,          0,    28.4,  21.1067,  36.5725,2,  36.5727,2, 214.2000,2,   212.8,2,    0.78,2,    0.92,2,    0.11,2,    0.05,2,  21.1012
33AT20060118,  CLIMODE-2,      27,          1,         18,         18,2,20060124,       0638,  37.096333,-65.9715000,          0,    51.6,  21.0754,  36.5811,2,  36.5757,2, 213.8000,2,   213.7,2,    0.78,2,    0.92,2,    0.11,2,    0.06,2,  21.0654
33AT20060118,  CLIMODE-2,      27,          1,         17,         17,2,20060124,       0638,  37.096333,-65.9715000,          0,    75.9,  20.2480,  36.6498,2,  36.6489,2, 214.3000,2,   216.2,2,    0.44,2,    0.47,2,    0.22,2,    0.03,2,  20.2337
33AT20060118,  CLIMODE-2,      27,          1,         16,         16,2,20060124,       0638,  37.096333,-65.9715000,          0,   101.7,  19.9935,  36.6609,2,  36.6598,2, 219.6000,2,   218.1,2,    0.44,2,    0.40,2,    0.20,2,    0.02,2,  19.9746
33AT20060118,  CLIMODE-2,      27,          1,         15,         15,2,20060124,       0638,  37.096333,-65.9715000,          0,   126.2,  19.8723,  36.6659,2,  36.6707,2, 216.1000,2,   217.4,2,    0.44,2,    0.54,2,    0.20,2,    0.03,2,  19.8489
33AT20060118,  CLIMODE-2,      27,          1,         14,         14,2,20060124,       0638,  37.096333,-65.9715000,          0,   151.2,  19.8270,  36.6680,2,  36.6677,2, 218.0000,2,   217.7,2,    0.44,2,    0.63,2,    0.20,2,    0.03,2,  19.7990
33AT20060118,  CLIMODE-2,      27,          1,         13,         13,2,20060124,       0638,  37.096333,-65.9715000,          0,   200.1,  19.7376,  36.6722,2,  36.6709,2, 210.7000,2,   212.2,2,    0.56,2,    1.05,2,    0.13,2,    0.04,2,  19.7006
33AT20060118,  CLIMODE-2,      27,          1,         12,         12,2,20060124,       0638,  37.096333,-65.9715000,          0,   253.6,  19.0147,  36.6598,2,  36.6588,2, 203.4000,2,   201.1,2,    0.66,2,    2.65,2,    0.02,2,    0.11,2,  18.9690
33AT20060118,  CLIMODE-2,      27,          1,         11,         11,2,20060124,       0638,  37.096333,-65.9715000,          0,   304.9,  18.7350,  36.6409,2,  36.6394,2, 206.0000,2,   203.8,2,    0.77,2,    3.09,2,    0.01,2,    0.13,2,  18.6805
33AT20060118,  CLIMODE-2,      27,          1,         10,         10,2,20060124,       0638,  37.096333,-65.9715000,          0,   355.0,  18.5299,  36.6234,2,  36.6209,2, 205.2000,2,   204.7,2,    0.89,2,    3.37,2,    0.01,2,    0.15,2,  18.4669
33AT20060118,  CLIMODE-2,      27,          1,          9,         09,2,20060124,       0638,  37.096333,-65.9715000,          0,   402.4,  18.3552,  36.6045,2,  36.6039,2, 205.0000,2,   204.9,2,    1.00,2,    3.66,2,    0.01,2,    0.17,2,  18.2841
33AT20060118,  CLIMODE-2,      27,          1,          8,         08,2,20060124,       0638,  37.096333,-65.9715000,          0,   453.3,  18.1846,  36.5813,2,  36.5807,2, 205.3000,2,   204.9,2,    1.10,2,    3.96,2,    0.01,2,    0.19,2,  18.1049
33AT20060118,  CLIMODE-2,      27,          1,          7,         07,2,20060124,       0638,  37.096333,-65.9715000,          0,   504.7,  17.8120,  36.5092,2,  36.5121,2, 198.5000,2,   198.2,2,    1.45,2,    5.16,2,    0.01,2,    0.25,2,  17.7245
33AT20060118,  CLIMODE-2,      27,          1,          6,         06,2,20060124,       0638,  37.096333,-65.9715000,          0,   557.0,  17.1736,  36.3854,2,  36.3847,2, 185.3000,2,   186.1,2,    1.99,2,    7.27,2,    0.01,2,    0.37,2,  17.0793
33AT20060118,  CLIMODE-2,      27,          1,          5,         27,2,20060124,       0638,  37.096333,-65.9715000,          0,   604.6,  16.4646,  36.2587,2,  36.2602,2, 180.5000,2,   180.6,2,    2.67,2,    8.96,2,    0.00,2,    0.48,2,  16.3651
33AT20060118,  CLIMODE-2,      27,          1,          4,         04,2,20060124,       0638,  37.096333,-65.9715000,          0,   708.4,  14.8562,  35.9852,2,  35.9896,2, 171.9000,2,   171.6,2,    4.44,2,   12.38,2,    0.00,2,    0.71,2,  14.7471
33AT20060118,  CLIMODE-2,      27,          1,          3,         26,2,20060124,       0638,  37.096333,-65.9715000,          0,   806.6,  12.4302,  35.6087,2,  35.6113,2, 156.4000,2,   154.9,2,    8.00,2,   17.95,2,    0.00,2,    1.09,2,  12.3192
33AT20060118,  CLIMODE-2,      27,          1,          2,         02,2,20060124,       0638,  37.096333,-65.9715000,          0,   911.3,   9.7486,  35.2577,2,  35.2556,2, 136.8000,2,   137.3,2,   13.66,2,   24.38,2,    0.00,2,    1.54,2,   9.6404
33AT20060118,  CLIMODE-2,      27,          1,          1,         25,2,20060124,       0638,  37.096333,-65.9715000,          0,  1010.3,   7.6415,  35.1109,2,  35.1187,2, 165.6000,2,   165.6,2,   14.43,2,   23.60,2,    0.00,2,    1.52,2,   7.5365
33AT20060118,  CLIMODE-2,      28,          1,         20,         20,2,20060124,       0927,  37.254167,-65.9710000,          0,     2.8,  21.5924,  36.5068,2,  36.5065,2, 212.6000,2,   212.0,2,    1.01,2,    0.64,2,    0.10,2,    0.04,2,  21.5919
33AT20060118,  CLIMODE-2,      28,          1,         19,         28,2,20060124,       0927,  37.254167,-65.9710000,          0,    27.8,  21.6142,  36.5085,2,  36.5087,2, 212.8000,2,   212.1,2,    0.99,2,    0.60,2,    0.10,2,    0.04,2,  21.6088
33AT20060118,  CLIMODE-2,      28,          1,         18,         18,2,20060124,       0927,  37.254167,-65.9710000,          0,    50.7,  21.6293,  36.5250,2,  36.5202,2, 212.5000,2,   211.9,2,    0.96,2,    0.59,2,    0.11,2,    0.04,2,  21.6193
33AT20060118,  CLIMODE-2,      28,          1,         17,         17,2,20060124,       0927,  37.254167,-65.9710000,          0,    76.1,  21.1916,  36.5974,2,  36.5987,2, 209.9000,2,   209.0,2,    0.93,2,    0.86,2,    0.17,2,    0.05,2,  21.1769
33AT20060118,  CLIMODE-2,      28,          1,         16,         16,2,20060124,       0927,  37.254167,-65.9710000,          0,   101.8,  20.7187,  36.6430,2,  36.6336,2, 210.3000,2,   210.0,2,    0.80,2,    0.67,2,    0.21,2,    0.04,2,  20.6993
33AT20060118,  CLIMODE-2,      28,          1,         15,         15,2,20060124,       0927,  37.254167,-65.9710000,          0,   128.0,  20.0488,  36.6549,2,  36.6550,2, 216.9000,2,   216.3,2,    0.66,2,    0.41,2,    0.25,2,    0.02,2,  20.0249
33AT20060118,  CLIMODE-2,      28,          1,         14,         14,2,20060124,       0927,  37.254167,-65.9710000,          0,   152.4,  19.9781,  36.6631,2,  36.6618,2, 217.0000,2,   217.0,2,    0.63,2,    0.46,2,    0.24,2,    0.02,2,  19.9497
33AT20060118,  CLIMODE-2,      28,          1,         13,         13,2,20060124,       0927,  37.254167,-65.9710000,          0,   178.6,  19.9807,  36.6686,2,  36.6679,2, 216.7000,2,   216.2,2,    0.61,2,    0.52,2,    0.23,2,    0.03,2,  19.9474
33AT20060118,  CLIMODE-2,      28,          1,         12,         12,2,20060124,       0927,  37.254167,-65.9710000,          0,   226.4,  19.7433,  36.6753,2,  36.6746,2, 215.0000,2,   216.4,2,    0.59,2,    0.69,2,    0.16,2,    0.03,2,  19.7014
33AT20060118,  CLIMODE-2,      28,          1,         11,         11,2,20060124,       0927,  37.254167,-65.9710000,          0,   274.8,  19.1589,  36.6635,2,  36.6639,2, 196.7000,2,   198.4,2,    0.78,2,    2.52,2,    0.02,2,    0.10,2,  19.1090
33AT20060118,  CLIMODE-2,      28,          1,         10,         10,2,20060124,       0927,  37.254167,-65.9710000,          0,   330.1,  18.6529,  36.6212,2,  36.6199,2, 200.5000,2,   200.5,2,    1.08,2,    3.50,2,    0.01,2,    0.15,2,  18.5940
33AT20060118,  CLIMODE-2,      28,          1,          9,         09,2,20060124,       0927,  37.254167,-65.9710000,          0,   374.4,  18.4176,  36.5958,2,  36.5943,2, 201.2000,2,   200.5,2,    1.13,2,    3.90,2,    0.01,2,    0.19,2,  18.3514
33AT20060118,  CLIMODE-2,      28,          1,          8,         08,2,20060124,       0927,  37.254167,-65.9710000,          0,   425.8,  18.1333,  36.5566,2,  36.5565,2, 201.3000,2,   200.1,2,    1.33,2,    4.38,2,    0.01,2,    0.21,2,  18.0586
33AT20060118,  CLIMODE-2,      28,          1,          7,         07,2,20060124,       0927,  37.254167,-65.9710000,          0,   478.8,  17.7937,  36.4987,2,  36.4996,2, 195.7000,2,   194.9,2,    1.56,2,    5.49,2,    0.01,2,    0.26,2,  17.7108
33AT20060118,  CLIMODE-2,      28,          1,          6,         06,2,20060124,       0927,  37.254167,-65.9710000,          0,   530.2,  17.1459,  36.3715,2,  36.3772,2, 179.9000,2,   180.8,2,    2.31,2,    7.76,2,    0.01,2,    0.41,2,  17.0563
33AT20060118,  CLIMODE-2,      28,          1,          5,         27,2,20060124,       0927,  37.254167,-65.9710000,          0,   581.6,  16.4122,  36.2483,2,  36.2521,2, 178.4000,2,   179.5,2,    2.84,2,    9.12,2,    0.01,2,    0.49,2,  16.3167
33AT20060118,  CLIMODE-2,      28,          1,          4,         04,2,20060124,       0927,  37.254167,-65.9710000,          0,   681.6,  14.5358,  35.9309,2,  35.9338,2, 169.8000,2,   168.6,2,    4.85,2,   13.17,2,    0.01,2,    0.76,2,  14.4324
33AT20060118,  CLIMODE-2,      28,          1,          3,         26,2,20060124,       0927,  37.254167,-65.9710000,          0,   784.7,  12.0548,  35.5622,2,  35.5630,2, 156.8000,2,   156.6,2,    8.37,2,   18.34,2,    0.00,2,    1.11,2,  11.9491
33AT20060118,  CLIMODE-2,      28,          1,          2,         02,2,20060124,       0927,  37.254167,-65.9710000,          0,   883.6,   9.8263,  35.2844,2,  35.2830,2, 145.1000,2,   144.9,2,   12.78,2,   23.11,2,    0.00,2,    1.46,2,   9.7210
33AT20060118,  CLIMODE-2,      28,          1,          1,         25,2,20060124,       0927,  37.254167,-65.9710000,          0,  1003.5,   6.8445,  35.0819,2,  35.0815,2, 184.7000,2,   184.8,2,   13.76,2,   22.23,2,    0.00,2,    1.44,2,   6.7461
33AT20060118,  CLIMODE-2,      29,          1,         20,         20,2,20060124,       1205,  37.413167,-65.9663333,          0,     2.4,  22.2281,  36.5077,2,  36.5076,2, 210.1000,2,   211.0,2,    0.92,2,    0.46,2,    0.13,2,    0.04,2,  22.2276
33AT20060118,  CLIMODE-2,      29,          1,         19,         28,2,20060124,       1205,  37.413167,-65.9663333,          0,    25.6,  22.1445,  36.5158,2,  36.5151,2, 210.3000,2,   210.0,2,    0.90,2,    0.45,2,    0.14,2,    0.04,2,  22.1394
33AT20060118,  CLIMODE-2,      29,          1,         18,         18,2,20060124,       1205,  37.413167,-65.9663333,          0,    52.1,  21.7233,  36.5369,2,  36.5322,2, 213.2000,2,   213.2,2,    0.99,2,    0.43,2,    0.11,2,    0.03,2,  21.7130
33AT20060118,  CLIMODE-2,      29,          1,         17,         17,2,20060124,       1205,  37.413167,-65.9663333,          0,    77.0,  21.4675,  36.5578,2,  36.5572,2, 213.8000,2,   214.1,2,    0.97,2,    0.44,2,    0.10,2,    0.03,2,  21.4525
33AT20060118,  CLIMODE-2,      29,          1,         16,         16,2,20060124,       1205,  37.413167,-65.9663333,          0,   100.7,  21.4404,  36.5615,2,  36.5606,2, 213.3000,2,   213.2,2,    0.95,2,    0.43,2,    0.11,2,    0.03,2,  21.4207
33AT20060118,  CLIMODE-2,      29,          1,         15,         15,2,20060124,       1205,  37.413167,-65.9663333,          0,   127.7,  20.7544,  36.6134,2,  36.6111,2, 215.2000,2,   214.3,2,    0.82,2,    0.41,2,    0.23,2,    0.03,2,  20.7300
33AT20060118,  CLIMODE-2,      29,          1,         14,         14,2,20060124,       1205,  37.413167,-65.9663333,          0,   154.5,  20.1501,  36.6444,2,  36.6435,2, 215.7000,2,   215.5,2,    0.68,2,    0.46,2,    0.22,2,    0.03,2,  20.1212
33AT20060118,  CLIMODE-2,      29,          1,         13,         13,2,20060124,       1205,  37.413167,-65.9663333,          0,   206.3,  19.8181,  36.6646,2,  36.6643,2, 216.2000,2,   216.2,2,    0.66,2,    0.61,2,    0.18,2,    0.03,2,  19.7798
33AT20060118,  CLIMODE-2,      29,          1,         12,         12,2,20060124,       1205,  37.413167,-65.9663333,          0,   256.4,  19.0013,  36.6427,2,  36.6435,2, 194.1000,2,   194.1,2,    1.08,2,    3.13,2,    0.01,2,    0.14,2,  18.9551
33AT20060118,  CLIMODE-2,      29,          1,         11,         11,2,20060124,       1205,  37.413167,-65.9663333,          0,   302.9,  18.5474,  36.5959,2,  36.5977,2, 196.3000,2,   195.0,2,    1.28,2,    4.05,2,    0.01,2,    0.19,2,  18.4936
33AT20060118,  CLIMODE-2,      29,          1,         10,         10,2,20060124,       1205,  37.413167,-65.9663333,          0,   348.9,  18.1256,  36.5430,2,  36.5432,2, 193.9000,2,   193.2,2,    1.58,2,    4.93,2,    0.01,2,    0.23,2,  18.0646
33AT20060118,  CLIMODE-2,      29,          1,          9,         09,2,20060124,       1205,  37.413167,-65.9663333,          0,   400.7,  17.6126,  36.4652,2,  36.4678,2, 190.4000,2,   191.2,2,    1.89,2,    6.00,2,    0.01,2,    0.30,2,  17.5438
33AT20060118,  CLIMODE-2,      29,          1,          8,         08,2,20060124,       1205,  37.413167,-65.9663333,          0,   450.8,  16.7406,  36.3009,2,  36.2978,2, 173.2000,2,   173.9,2,    2.86,2,    9.09,2,    0.01,2,    0.49,2,  16.6658
33AT20060118,  CLIMODE-2,      29,          1,          7,         07,2,20060124,       1205,  37.413167,-65.9663333,          0,   503.8,  15.8856,  36.1605,2,  36.1595,2, 171.4000,2,   173.2,2,    3.50,2,   10.55,2,    0.01,2,    0.59,2,  15.8048
33AT20060118,  CLIMODE-2,      29,          1,          6,         06,2,20060124,       1205,  37.413167,-65.9663333,          0,   552.9,  14.8647,  35.9887,2,  35.9873,2, 170.3000,2,   168.9,2,    4.57,2,   12.64,2,    0.01,2,    0.72,2,  14.7799
33AT20060118,  CLIMODE-2,      29,          1,          5,         27,2,20060124,       1205,  37.413167,-65.9663333,          0,   603.6,  13.7828,  35.8126,2,  35.8128,2, 163.4000,2,   163.0,2,    5.87,2,   14.98,2,    0.00,2,    0.88,2,  13.6947
33AT20060118,  CLIMODE-2,      29,          1,          4,         04,2,20060124,       1205,  37.413167,-65.9663333,          0,   704.8,  11.6223,  35.5012,2,  35.5023,2, 145.2000,2,   143.9,2,    9.69,2,   20.55,2,    0.00,2,    1.25,2,  11.5299
33AT20060118,  CLIMODE-2,      29,          1,          3,         26,2,20060124,       1205,  37.413167,-65.9663333,          0,   806.4,   9.2803,  35.2570,2,  35.2530,2, 153.2000,2,   154.2,2,   12.63,2,   22.76,2,    0.00,2,    1.43,2,   9.1877
33AT20060118,  CLIMODE-2,      29,          1,          2,         02,2,20060124,       1205,  37.413167,-65.9663333,          0,   908.3,   6.7683,  35.0894,2,  35.0881,2, 186.2000,2,   186.8,2,   14.15,2,   22.37,2,    0.00,2,    1.45,2,   6.6803
33AT20060118,  CLIMODE-2,      29,          1,          1,         25,2,20060124,       1205,  37.413167,-65.9663333,          0,  1013.5,   5.4692,  35.0352,2,  35.0342,2, 222.5000,2,   222.4,2,   12.59,2,   19.92,2,    0.00,2,    1.30,2,   5.3802