BOTTLE,20120918SIOCCHMYS
EXPOCODE,SECT_ID,STNNBR,CASTNO,SAMPNO,BTLNBR,BTLNBR_FLAG_W,DATE,TIME,LATITUDE,LONGITUDE,DEPTH,CTDPRS,CTDTMP,CTDSAL,CTDSAL_FLAG_W,SALNTY,SALNTY_FLAG_W,CTDOXY,CTDOXY_FLAG_W,OXYGEN,OXYGEN_FLAG_W,SILCAT,SILCAT_FLAG_W,NITRAT,NITRAT_FLAG_W,NITRIT,NITRIT_FLAG_W,PHSPHT,PHSPHT_FLAG_W,THETA
,,,,,,,,,,,,DBAR,ITS-90,PSS-78,,PSS-78,,UMOL/KG,,UMOL/KG,,UMOL/KG,,UMOL/KG,,UMOL/KG,,UMOL/KG,,DEG C
33AT20060118,  CLIMODE-2,       3,          1,         20,         20,2,20060120,       2039,  37.547000,-69.4443333,          0,     4.7,  23.0746,  36.4497,2,  36.4503,2, 204.2000,2,   205.9,2,    1.03,2,    0.41,2,    0.09,2,    0.03,2,  23.0736
33AT20060118,  CLIMODE-2,       3,          1,         19,         28,2,20060120,       2039,  37.547000,-69.4443333,          0,    26.1,  23.0952,  36.4492,2,  36.4497,2, 203.5000,2,   205.0,2,    0.91,2,    0.41,2,    0.10,2,    0.03,2,  23.0898
33AT20060118,  CLIMODE-2,       3,          1,         18,         18,2,20060120,       2039,  37.547000,-69.4443333,          0,    51.2,  23.0928,  36.4475,2,  36.4478,2, 203.2000,2,   205.7,2,    1.03,2,    0.36,2,    0.09,2,    0.03,2,  23.0823
33AT20060118,  CLIMODE-2,       3,          1,         17,         17,2,20060120,       2039,  37.547000,-69.4443333,          0,    77.7,  22.5710,  36.4631,2,  36.4587,2, 202.0000,2,   204.3,2,    1.03,2,    0.66,2,    0.14,2,    0.04,2,  22.5552
33AT20060118,  CLIMODE-2,       3,          1,         16,         16,2,20060120,       2039,  37.547000,-69.4443333,          0,   101.9,  22.2855,  36.5266,2,  36.5257,2, 199.6000,2,   200.6,2,    1.03,2,    0.95,2,    0.15,2,    0.06,2,  22.2650
33AT20060118,  CLIMODE-2,       3,          1,         15,         15,2,20060120,       2039,  37.547000,-69.4443333,          0,   125.7,  22.0443,  36.7906,2,  36.7865,2, 175.4000,2,   160.4,2,    1.48,2,    4.09,2,    0.04,2,    0.20,2,  22.0192
33AT20060118,  CLIMODE-2,       3,          1,         14,         14,2,20060120,       2039,  37.547000,-69.4443333,          0,   153.5,  20.4116,  36.6408,2,  36.6740,3, 215.2000,2,   201.1,2,    0.91,2,    1.32,2,    0.17,2,    0.07,2,  20.3825
33AT20060118,  CLIMODE-2,       3,          1,         13,         13,2,20060120,       2039,  37.547000,-69.4443333,          0,   204.1,  19.2264,  36.6644,2,  36.6635,2, 193.0000,2,   190.4,2,    1.03,2,    3.09,2,    0.01,2,    0.13,2,  19.1893
33AT20060118,  CLIMODE-2,       3,          1,         12,         12,2,20060120,       2039,  37.547000,-69.4443333,          0,   254.7,  18.6040,  36.6140,2,  36.6183,2, 194.8000,2,   198.8,2,    1.25,2,    3.59,2,    0.01,2,    0.16,2,  18.5587
33AT20060118,  CLIMODE-2,       3,          1,         11,         11,2,20060120,       2039,  37.547000,-69.4443333,          0,   304.1,  18.1664,  36.5424,2,  36.5327,2, 197.3000,2,   185.6,2,    1.82,2,    5.69,2,    0.01,2,    0.26,2,  18.1131
33AT20060118,  CLIMODE-2,       3,          1,         10,         10,2,20060120,       2039,  37.547000,-69.4443333,          0,   353.5,  17.7642,  36.4814,2,  36.4840,2, 178.1000,2,   186.8,2,    1.82,2,    6.08,2,    0.01,2,    0.29,2,  17.7032
33AT20060118,  CLIMODE-2,       3,          1,          9,         09,2,20060120,       2039,  37.547000,-69.4443333,          0,   402.4,  17.1401,  36.3832,2,-999.0000,1, 183.6000,2,   183.8,2, -999.00,1, -999.00,1, -999.00,1, -999.00,1,  17.0723
33AT20060118,  CLIMODE-2,       3,          1,          8,         08,2,20060120,       2039,  37.547000,-69.4443333,          0,   453.5,  16.2469,  36.2307,2,  36.2333,2, 183.5000,2,   180.4,2,    3.08,2,    9.27,2,    0.01,2,    0.50,2,  16.1732
33AT20060118,  CLIMODE-2,       3,          1,          7,         07,2,20060120,       2039,  37.547000,-69.4443333,          0,   502.8,  15.5136,  36.1186,2,  36.1207,2, 182.5000,2,   183.5,2,    3.65,2,   10.21,2,    0.00,2,    0.57,2,  15.4343
33AT20060118,  CLIMODE-2,       3,          1,          6,         06,2,20060120,       2039,  37.547000,-69.4443333,          0,   552.3,  14.4821,  35.9294,2,  36.6497,4, 170.4000,2,   168.7,2,    5.13,2,   13.25,2,    0.00,2,    0.76,2,  14.3988
33AT20060118,  CLIMODE-2,       3,          1,          5,         27,2,20060120,       2039,  37.547000,-69.4443333,          0,   603.3,  12.9896,  35.6953,2,  35.6961,2, 160.9000,2,   160.6,2,    7.07,2,   16.40,2,    0.00,2,    0.98,2,  12.9049
33AT20060118,  CLIMODE-2,       3,          1,          4,         04,2,20060120,       2039,  37.547000,-69.4443333,          0,   706.0,  10.6722,  35.3921,2,  35.3960,2, 150.7000,2,   148.5,2,   11.07,2,   21.35,2,    0.00,2,    1.32,2,  10.5844
33AT20060118,  CLIMODE-2,       3,          1,          3,         26,2,20060120,       2039,  37.547000,-69.4443333,          0,   808.2,   8.5354,  35.1892,2,  35.1866,2, 159.4000,2,   157.0,2,   13.93,2,   23.39,2,    0.00,2,    1.49,2,   8.4470
33AT20060118,  CLIMODE-2,       3,          1,          2,         02,2,20060120,       2039,  37.547000,-69.4443333,          0,   911.4,   6.7231,  35.1003,2,  35.0988,2, 189.8000,2,   187.6,2,   14.28,2,   22.14,2,    0.00,2,    1.46,2,   6.6350
33AT20060118,  CLIMODE-2,       3,          1,          1,         25,2,20060120,       2039,  37.547000,-69.4443333,          0,  1010.5,   5.5466,  35.0612,2,  35.0643,2, 222.2000,2,   219.3,2,   13.14,2,   20.02,2,    0.00,2,    1.32,2,   5.4572
33AT20060118,  CLIMODE-2,       4,          1,         21,         29,2,20060121,       0301,  36.990333,-69.4436667,          0,     2.0,  20.2250,  36.6406,2,  36.6397,2, 222.0000,2,   219.8,2,    0.50,2,    0.43,2,    0.10,2,    0.03,2,  20.2247
33AT20060118,  CLIMODE-2,       4,          1,         20,         20,2,20060121,       0301,  36.990333,-69.4436667,          0,    27.6,  20.0222,  36.6651,2,  36.6670,2, 219.8000,2,   217.0,2,    0.39,2,    0.56,2,    0.17,2,    0.03,2,  20.0171
33AT20060118,  CLIMODE-2,       4,          1,         19,         28,2,20060121,       0301,  36.990333,-69.4436667,          0,    50.9,  20.0177,  36.6650,2,  36.6638,2, 218.8000,2,   217.2,2,    0.40,2,    0.55,2,    0.17,2,    0.03,2,  20.0083
33AT20060118,  CLIMODE-2,       4,          1,         18,         18,2,20060121,       0301,  36.990333,-69.4436667,          0,    75.6,  20.0218,  36.6654,2,  36.6691,2, 218.4000,2,   217.3,2,    0.40,2,    0.55,2,    0.17,2,    0.03,2,  20.0077
33AT20060118,  CLIMODE-2,       4,          1,         17,         17,2,20060121,       0301,  36.990333,-69.4436667,          0,   100.8,  19.9233,  36.6612,2,  36.6605,2, 217.6000,2,   215.4,2,    0.41,2,    0.63,2,    0.18,2,    0.03,2,  19.9046
33AT20060118,  CLIMODE-2,       4,          1,         16,         16,2,20060121,       0301,  36.990333,-69.4436667,          0,   126.1,  19.8753,  36.6614,2,  36.6593,2, 215.5000,2,   215.1,2,    0.42,2,    0.66,2,    0.19,2,    0.03,2,  19.8519
33AT20060118,  CLIMODE-2,       4,          1,         15,         15,2,20060121,       0301,  36.990333,-69.4436667,          0,   151.1,  19.8140,  36.6712,2,  36.6656,2, 211.7000,2,   214.0,2,    0.42,2,    0.83,2,    0.17,2,    0.04,2,  19.7860
33AT20060118,  CLIMODE-2,       4,          1,         14,         14,2,20060121,       0301,  36.990333,-69.4436667,          0,   177.7,  19.4835,  36.6809,2,  36.6763,2, 201.9000,2,   203.7,2,    0.54,2,    1.71,2,    0.07,2,    0.07,2,  19.4509
33AT20060118,  CLIMODE-2,       4,          1,         13,         13,2,20060121,       0301,  36.990333,-69.4436667,          0,   227.1,  18.8644,  36.6503,2,  36.6479,2, 202.0000,2,   202.1,2,    0.77,2,    2.88,2,    0.01,2,    0.11,2,  18.8237
33AT20060118,  CLIMODE-2,       4,          1,         12,         12,2,20060121,       0301,  36.990333,-69.4436667,          0,   275.9,  18.6307,  36.6303,2,  36.6340,2, 204.7000,2,   203.4,2,    0.78,2,    3.07,2,    0.01,2,    0.13,2,  18.5816
33AT20060118,  CLIMODE-2,       4,          1,         11,         11,2,20060121,       0301,  36.990333,-69.4436667,          0,   328.5,  18.4400,  36.6130,2,  36.6106,2, 204.8000,2,   206.7,2,    0.90,2,    3.41,2,    0.01,2,    0.15,2,  18.3818
33AT20060118,  CLIMODE-2,       4,          1,          9,         09,2,20060121,       0301,  36.990333,-69.4436667,          0,   379.1,  18.3035,  36.5981,2,  36.5956,2,-999.0000,9,  -999.0,1,    0.91,2,    3.66,2,    0.01,2,    0.16,2,  18.2366
33AT20060118,  CLIMODE-2,       4,          1,         10,         10,2,20060121,       0301,  36.990333,-69.4436667,          0,   380.8,  18.2795,  36.5936,2,  36.5945,2, 205.0000,2,   204.8,2,    0.91,2,    3.70,2,    0.01,2,    0.17,2,  18.2125
33AT20060118,  CLIMODE-2,       4,          1,          8,         08,2,20060121,       0301,  36.990333,-69.4436667,          0,   426.3,  18.0694,  36.5610,2,  36.5589,2, 203.7000,2,   203.0,2,    1.14,2,    4.28,2,    0.01,2,    0.19,2,  17.9949
33AT20060118,  CLIMODE-2,       4,          1,          7,         07,2,20060121,       0301,  36.990333,-69.4436667,          0,   479.1,  17.5079,  36.4526,2,  36.4505,2, 194.2000,2,   191.9,2,    1.60,2,    6.18,2,    0.01,2,    0.30,2,  17.4259
33AT20060118,  CLIMODE-2,       4,          1,          6,         06,2,20060121,       0301,  36.990333,-69.4436667,          0,   530.3,  16.9272,  36.3435,2,  36.3435,2, 185.4000,2,   185.2,2,    2.06,2,    7.68,2,    0.00,2,    0.40,2,  16.8383
33AT20060118,  CLIMODE-2,       4,          1,          5,         27,2,20060121,       0301,  36.990333,-69.4436667,          0,   580.2,  15.9976,  36.1788,2,  36.1792,2, 177.6000,2,   184.1,2,    3.09,2,   10.21,2,    0.00,2,    0.56,2,  15.9040
33AT20060118,  CLIMODE-2,       4,          1,          4,         04,2,20060121,       0301,  36.990333,-69.4436667,          0,   683.0,  14.4001,  35.9111,2,  35.9101,2, 167.3000,2,   166.2,2,    5.02,2,   13.72,2,    0.00,2,    0.79,2,  14.2972
33AT20060118,  CLIMODE-2,       4,          1,          3,         26,2,20060121,       0301,  36.990333,-69.4436667,          0,   779.9,  12.3853,  35.6089,2,  35.6087,2, 159.7000,2,   158.8,2,    7.63,2,   17.63,2,    0.00,2,    1.06,2,  12.2784
33AT20060118,  CLIMODE-2,       4,          1,          2,         02,2,20060121,       0301,  36.990333,-69.4436667,          0,   881.1,   9.6805,  35.2565,2,  35.2545,2, 141.5000,2,   141.3,2,   13.30,2,   23.92,2,    0.01,2,    1.50,2,   9.5764
33AT20060118,  CLIMODE-2,       4,          1,          1,         25,2,20060121,       0301,  36.990333,-69.4436667,          0,  1009.3,   7.3468,  35.1222,2,  35.1209,2, 176.9000,2,   177.2,2,   13.76,2,   22.54,2,    0.00,2,    1.45,2,   7.2440
33AT20060118,  CLIMODE-2,       5,          1,         20,         20,2,20060121,       0542,  37.156167,-69.4708333,          0,     2.1,  21.4609,  36.5606,2,  36.5605,2, 216.2000,2,   215.5,2,    0.60,2,    0.40,2,    0.05,2,    0.04,2,  21.4605
33AT20060118,  CLIMODE-2,       5,          1,         19,         28,2,20060121,       0542,  37.156167,-69.4708333,          0,    28.3,  21.3023,  36.5666,2,  36.5642,2, 216.3000,2,   216.0,2,    0.59,2,    0.40,2,    0.05,2,    0.03,2,  21.2968
33AT20060118,  CLIMODE-2,       5,          1,         18,         18,2,20060121,       0542,  37.156167,-69.4708333,          0,    51.0,  20.6692,  36.6159,2,  36.6027,2, 216.6000,2,   216.6,2,    0.47,2,    0.42,2,    0.13,2,    0.03,2,  20.6594
33AT20060118,  CLIMODE-2,       5,          1,         17,         17,2,20060121,       0542,  37.156167,-69.4708333,          0,    75.2,  20.2844,  36.6505,2,  36.6495,2, 216.8000,2,   218.0,2,    0.34,2,    0.29,2,    0.21,2,    0.02,2,  20.2702
33AT20060118,  CLIMODE-2,       5,          1,         16,         16,2,20060121,       0542,  37.156167,-69.4708333,          0,   101.4,  19.9691,  36.6562,2,  36.6551,2, 217.8000,2,   216.4,2,    0.33,2,    0.50,2,    0.20,2,    0.03,2,  19.9502
33AT20060118,  CLIMODE-2,       5,          1,         15,         15,2,20060121,       0542,  37.156167,-69.4708333,          0,   125.5,  19.9582,  36.6556,2,  36.6547,2, 216.4000,2,   215.8,2,    0.32,2,    0.50,2,    0.20,2,    0.03,2,  19.9348
33AT20060118,  CLIMODE-2,       5,          1,         14,         14,2,20060121,       0542,  37.156167,-69.4708333,          0,   151.3,  19.9419,  36.6561,2,  36.6551,2, 217.1000,2,   216.8,2,    0.31,2,    0.55,2,    0.20,2,    0.03,2,  19.9138
33AT20060118,  CLIMODE-2,       5,          1,         13,         13,2,20060121,       0542,  37.156167,-69.4708333,          0,   201.4,  19.0644,  36.6635,2,  36.6624,2, 201.0000,2,   199.9,2,    0.65,2,    2.58,2,    0.02,2,    0.10,2,  19.0280
33AT20060118,  CLIMODE-2,       5,          1,         12,         12,2,20060121,       0542,  37.156167,-69.4708333,          0,   251.5,  18.7799,  36.6443,2,  36.6418,2, 203.7000,2,   203.2,2,    0.75,2,    2.97,2,    0.01,2,    0.12,2,  18.7349
33AT20060118,  CLIMODE-2,       5,          1,         11,         11,2,20060121,       0542,  37.156167,-69.4708333,          0,   302.3,  18.4766,  36.6191,2,  36.6166,2, 205.1000,2,   204.6,2,    0.85,2,    3.36,2,    0.01,2,    0.15,2,  18.4231
33AT20060118,  CLIMODE-2,       5,          1,         10,         10,2,20060121,       0542,  37.156167,-69.4708333,          0,   352.9,  18.2915,  36.5973,2,  36.5952,2, 205.3000,2,   204.9,2,    0.96,2,    3.66,2,    0.01,2,    0.16,2,  18.2293
33AT20060118,  CLIMODE-2,       5,          1,          9,         09,2,20060121,       0542,  37.156167,-69.4708333,          0,   403.5,  18.1420,  36.5764,2,  36.5742,2, 204.5000,2,   204.6,2,    1.06,2,    3.94,2,    0.01,2,    0.19,2,  18.0713
33AT20060118,  CLIMODE-2,       5,          1,          8,         08,2,20060121,       0542,  37.156167,-69.4708333,          0,   453.4,  17.8586,  36.5207,2,  36.5199,2, 198.7000,2,   198.9,2,    1.28,2,    4.97,2,    0.01,2,    0.23,2,  17.7799
33AT20060118,  CLIMODE-2,       5,          1,          7,         07,2,20060121,       0542,  37.156167,-69.4708333,          0,   504.5,  17.0640,  36.3684,2,  36.3769,2, 185.6000,2,   185.4,2,    2.05,2,    7.39,2,    0.01,2,    0.37,2,  16.9790
33AT20060118,  CLIMODE-2,       5,          1,          6,         06,2,20060121,       0542,  37.156167,-69.4708333,          0,   553.4,  16.3236,  36.2371,2,  36.2370,2, 180.3000,2,   179.4,2,    2.73,2,    9.24,2,    0.01,2,    0.50,2,  16.2332
33AT20060118,  CLIMODE-2,       5,          1,          5,         27,2,20060121,       0542,  37.156167,-69.4708333,          0,   605.2,  15.4837,  36.0931,2,  36.0941,2, 174.6000,2,   174.5,2,    3.62,2,   11.15,2,    0.01,2,    0.64,2,  15.3882
33AT20060118,  CLIMODE-2,       5,          1,          4,         04,2,20060121,       0542,  37.156167,-69.4708333,          0,   706.6,  13.2001,  35.7195,2,  35.7195,2, 157.6000,2,   157.6,2,    6.77,2,   16.46,2,    0.00,2,    0.98,2,  13.0994
33AT20060118,  CLIMODE-2,       5,          1,          3,         26,2,20060121,       0542,  37.156167,-69.4708333,          0,   807.5,  10.7394,  35.3984,2,  35.3993,2, 149.6000,2,   149.7,2,   10.60,2,   21.07,2,    0.00,2,    1.30,2,  10.6381
33AT20060118,  CLIMODE-2,       5,          1,          2,         02,2,20060121,       0542,  37.156167,-69.4708333,          0,   907.8,   8.4096,  35.1314,2,  35.1309,2, 145.8000,2,   145.7,2,   15.67,2,   25.41,2,    0.01,2,    1.61,2,   8.3107
33AT20060118,  CLIMODE-2,       5,          1,          1,         25,2,20060121,       0542,  37.156167,-69.4708333,          0,  1010.1,   6.7484,  35.0850,2,  35.0898,3, 189.5000,2,   189.5,2,   13.51,2,   21.82,2,    0.00,2,    1.41,2,   6.6500