BOTTLE,20120918SIOCCHMYS
EXPOCODE,SECT_ID,STNNBR,CASTNO,SAMPNO,BTLNBR,BTLNBR_FLAG_W,DATE,TIME,LATITUDE,LONGITUDE,DEPTH,CTDPRS,CTDTMP,CTDSAL,CTDSAL_FLAG_W,SALNTY,SALNTY_FLAG_W,CTDOXY,CTDOXY_FLAG_W,OXYGEN,OXYGEN_FLAG_W,SILCAT,SILCAT_FLAG_W,NITRAT,NITRAT_FLAG_W,NITRIT,NITRIT_FLAG_W,PHSPHT,PHSPHT_FLAG_W,THETA
,,,,,,,,,,,,DBAR,ITS-90,PSS-78,,PSS-78,,UMOL/KG,,UMOL/KG,,UMOL/KG,,UMOL/KG,,UMOL/KG,,UMOL/KG,,DEG C
33AT20060118,  CLIMODE-2,       6,          1,         20,         20,2,20060121,       0815,  37.319833,-69.4971667,          0,     2.6,  22.7777,  36.4369,2,  36.4377,2, 210.1000,2,   208.0,2,    0.80,2,    0.33,2,    0.08,2,    0.03,2,  22.7772
33AT20060118,  CLIMODE-2,       6,          1,         19,         28,2,20060121,       0815,  37.319833,-69.4971667,          0,    28.3,  22.7876,  36.4363,2,  36.4367,2, 209.7000,2,   208.1,2,    0.90,2,    0.28,2,    0.08,2,    0.03,2,  22.7819
33AT20060118,  CLIMODE-2,       6,          1,         18,         18,2,20060121,       0815,  37.319833,-69.4971667,          0,    51.3,  22.0343,  36.5249,2,  36.5255,2, 211.5000,2,   210.8,2,    0.66,2,    0.28,2,    0.13,2,    0.03,2,  22.0241
33AT20060118,  CLIMODE-2,       6,          1,         17,         17,2,20060121,       0815,  37.319833,-69.4971667,          0,    74.9,  21.8744,  36.5281,2,  36.5276,2, 209.4000,2,   212.5,2,    0.76,2,    0.26,2,    0.10,2,    0.02,2,  21.8596
33AT20060118,  CLIMODE-2,       6,          1,         16,         16,2,20060121,       0815,  37.319833,-69.4971667,          0,   101.0,  21.1137,  36.6078,2,  36.6008,2, 211.6000,2,   212.1,2,    0.64,2,    0.30,2,    0.20,2,    0.03,2,  21.0942
33AT20060118,  CLIMODE-2,       6,          1,         15,         15,2,20060121,       0815,  37.319833,-69.4971667,          0,   125.2,  20.0786,  36.6608,2,  36.6573,2, 214.3000,2,   213.7,2,    0.51,2,    0.59,2,    0.17,2,    0.03,2,  20.0552
33AT20060118,  CLIMODE-2,       6,          1,         14,         14,2,20060121,       0815,  37.319833,-69.4971667,          0,   150.7,  19.8606,  36.6603,2,  36.6594,2, 216.3000,2,   216.8,2,    0.50,2,    0.58,2,    0.23,2,    0.03,2,  19.8326
33AT20060118,  CLIMODE-2,       6,          1,         13,         13,2,20060121,       0815,  37.319833,-69.4971667,          0,   181.3,  19.7654,  36.6698,2,  36.6668,2, 214.7000,2,   216.0,2,    0.37,2,    0.62,2,    0.19,2,    0.03,2,  19.7318
33AT20060118,  CLIMODE-2,       6,          1,         12,         12,2,20060121,       0815,  37.319833,-69.4971667,          0,   223.3,  19.0285,  36.6618,2,  36.6604,2, 202.1000,2,   201.0,2,    0.70,2,    2.64,2,    0.01,2,    0.10,2,  18.9882
33AT20060118,  CLIMODE-2,       6,          1,         11,         11,2,20060121,       0815,  37.319833,-69.4971667,          0,   271.9,  18.7566,  36.6507,2,  36.6497,2, 206.7000,2,   205.3,2,    0.80,2,    2.80,2,    0.01,2,    0.12,2,  18.7079
33AT20060118,  CLIMODE-2,       6,          1,         10,         10,2,20060121,       0815,  37.319833,-69.4971667,          0,   328.5,  18.4748,  36.6217,2,  36.6200,2, 206.0000,2,   205.6,2,    0.90,2,    3.28,2,    0.01,2,    0.14,2,  18.4166
33AT20060118,  CLIMODE-2,       6,          1,          9,         09,2,20060121,       0815,  37.319833,-69.4971667,          0,   382.5,  18.2396,  36.5915,2,  36.5942,2, 206.1000,2,   205.7,2,    1.11,2,    3.63,2,    0.01,2,    0.16,2,  18.1724
33AT20060118,  CLIMODE-2,       6,          1,          8,         08,2,20060121,       0815,  37.319833,-69.4971667,          0,   434.9,  17.6529,  36.4827,2,  36.4915,2, 195.2000,2,   195.1,2,    1.55,2,    5.53,2,    0.01,2,    0.27,2,  17.5781
33AT20060118,  CLIMODE-2,       6,          1,          7,         07,2,20060121,       0815,  37.319833,-69.4971667,          0,   474.3,  17.0310,  36.3620,2,  36.3618,2, 185.2000,2,   184.4,2,    2.22,2,    7.54,2,    0.00,2,    0.39,2,  16.9513
33AT20060118,  CLIMODE-2,       6,          1,          6,         06,2,20060121,       0815,  37.319833,-69.4971667,          0,   519.0,  16.2059,  36.2186,2,  36.2210,2, 180.4000,2,   180.5,2,    2.88,2,    9.25,2,    0.00,2,    0.50,2,  16.1215
33AT20060118,  CLIMODE-2,       6,          1,          5,         27,2,20060121,       0815,  37.319833,-69.4971667,          0,   576.8,  15.1492,  36.0372,2,  36.0410,2, 173.1000,2,   173.7,2,    4.12,2,   11.69,2,    0.00,2,    0.66,2,  15.0596
33AT20060118,  CLIMODE-2,       6,          1,          4,         04,2,20060121,       0815,  37.319833,-69.4971667,          0,   676.8,  12.3040,  35.5905,2,  35.5995,2, 153.9000,2,   154.0,2,    8.17,2,   18.18,2,    0.00,2,    1.10,2,  12.2120
33AT20060118,  CLIMODE-2,       6,          1,          3,         26,2,20060121,       0815,  37.319833,-69.4971667,          0,   781.9,   9.9202,  35.3127,2,  35.3173,2, 152.3000,2,   151.6,2,   11.89,2,   22.04,2,    0.00,2,    1.37,2,   9.8269
33AT20060118,  CLIMODE-2,       6,          1,          2,         02,2,20060121,       0815,  37.319833,-69.4971667,          0,   882.5,   7.7931,  35.1337,2,  35.1339,2, 164.9000,2,   165.4,2,   14.47,2,   23.48,2,    0.00,2,    1.51,2,   7.7010
33AT20060118,  CLIMODE-2,       6,          1,          1,         25,2,20060121,       0815,  37.319833,-69.4971667,          0,  1010.2,   5.7821,  35.0585,2,  35.0594,2, 215.0000,2,   214.7,2,   12.98,2,   20.27,2,    0.00,2,    1.32,2,   5.6910
33AT20060118,  CLIMODE-2,       7,          1,         20,         20,2,20060121,       1132,  37.654167,-69.5570000,          0,     3.0,  22.3999,  36.5656,2,  36.5672,2, 204.0000,2,   206.9,2,    0.94,2,    0.36,2,    0.11,2,    0.04,2,  22.3993
33AT20060118,  CLIMODE-2,       7,          1,         19,         28,2,20060121,       1132,  37.654167,-69.5570000,          0,    28.0,  22.4010,  36.5738,2,  36.5757,2, 204.2000,2,   206.8,2,    0.93,2,    0.35,2,    0.11,2,    0.03,2,  22.3954
33AT20060118,  CLIMODE-2,       7,          1,         18,         18,2,20060121,       1132,  37.654167,-69.5570000,          0,    50.7,  22.3709,  36.5915,2,  36.5926,2, 204.5000,2,   206.8,2,    0.92,2,    0.38,2,    0.13,2,    0.03,2,  22.3607
33AT20060118,  CLIMODE-2,       7,          1,         17,         17,2,20060121,       1132,  37.654167,-69.5570000,          0,    76.1,  22.3912,  36.6046,2,  36.6044,2, 205.0000,2,   205.1,2,    0.91,2,    0.53,2,    0.13,2,    0.03,2,  22.3758
33AT20060118,  CLIMODE-2,       7,          1,         16,         16,2,20060121,       1132,  37.654167,-69.5570000,          0,   101.2,  22.4230,  36.6205,2,  36.6223,2, 204.1000,2,   201.0,2,    1.01,2,    0.71,2,    0.13,2,    0.04,2,  22.4026
33AT20060118,  CLIMODE-2,       7,          1,         15,         15,2,20060121,       1132,  37.654167,-69.5570000,          0,   125.6,  21.7244,  36.8565,2,  36.8597,2, 178.8000,2,   173.0,2,    1.22,2,    2.96,2,    0.02,2,    0.14,2,  21.6996
33AT20060118,  CLIMODE-2,       7,          1,         14,         14,2,20060121,       1132,  37.654167,-69.5570000,          0,   150.8,  20.1482,  36.7302,2,  36.7315,2, 149.7000,2,   150.3,2,    2.11,2,    6.71,2,    0.01,2,    0.33,2,  20.1199
33AT20060118,  CLIMODE-2,       7,          1,         13,         13,2,20060121,       1132,  37.654167,-69.5570000,          0,   176.4,  19.8845,  36.7086,2,  36.7127,2, 153.9000,2,   158.6,2,    1.89,2,    5.93,2,    0.01,2,    0.28,2,  19.8517
33AT20060118,  CLIMODE-2,       7,          1,         12,         12,2,20060121,       1132,  37.654167,-69.5570000,          0,   226.1,  18.7550,  36.5759,2,  36.5776,2, 163.5000,2,   162.8,2,    2.21,2,    7.00,2,    0.01,2,    0.35,2,  18.7146
33AT20060118,  CLIMODE-2,       7,          1,         11,         11,2,20060121,       1132,  37.654167,-69.5570000,          0,   277.1,  17.2486,  36.3621,2,  36.3653,2, 162.4000,2,   162.4,2,    2.99,2,    9.44,2,    0.01,2,    0.50,2,  17.2019
33AT20060118,  CLIMODE-2,       7,          1,         10,         10,2,20060121,       1132,  37.654167,-69.5570000,          0,   327.6,  15.8861,  36.1611,2,  36.1576,2, 158.7000,2,   166.3,2,    3.76,2,   11.24,2,    0.00,2,    0.62,2,  15.8339
33AT20060118,  CLIMODE-2,       7,          1,          9,         09,2,20060121,       1132,  37.654167,-69.5570000,          0,   377.9,  15.1856,  36.0478,2,  36.0483,2, 172.3000,2,   172.3,2,    4.20,2,   11.73,2,    0.00,2,    0.66,2,  15.1271
33AT20060118,  CLIMODE-2,       7,          1,          8,         08,2,20060121,       1132,  37.654167,-69.5570000,          0,   428.3,  14.2656,  35.8947,2,  35.8952,2, 170.6000,2,   167.5,2,    5.32,2,   13.68,2,    0.00,2,    0.79,2,  14.2019
33AT20060118,  CLIMODE-2,       7,          1,          7,         07,2,20060121,       1132,  37.654167,-69.5570000,          0,   478.5,  13.0023,  35.6991,2,  35.7011,2, 157.7000,2,   147.8,2,    7.45,2,   17.75,2,    0.00,2,    1.06,2,  12.9353
33AT20060118,  CLIMODE-2,       7,          1,          6,         06,2,20060121,       1132,  37.654167,-69.5570000,          0,   530.4,  11.7396,  35.5164,2,  35.5164,2, 151.7000,2,   148.7,2,    9.47,2,   19.72,2,    0.00,2,    1.20,2,  11.6700
33AT20060118,  CLIMODE-2,       7,          1,          5,         27,2,20060121,       1132,  37.654167,-69.5570000,          0,   582.3,  10.4389,  35.3475,2,  35.3503,2, 144.1000,2,   142.0,2,   12.05,2,   22.57,2,    0.00,2,    1.41,2,  10.3679
33AT20060118,  CLIMODE-2,       7,          1,          4,         04,2,20060121,       1132,  37.654167,-69.5570000,          0,   682.5,   8.1291,  35.1353,2,  35.1342,2, 154.6000,2,   154.1,2,   14.86,2,   24.45,2,    0.00,2,    1.56,2,   8.0571
33AT20060118,  CLIMODE-2,       7,          1,          3,         26,2,20060121,       1132,  37.654167,-69.5570000,          0,   783.7,   6.3875,  35.0856,2,  35.0887,2, 203.3000,2,   198.1,2,   13.50,2,   21.29,2,    0.00,2,    1.37,2,   6.3144
33AT20060118,  CLIMODE-2,       7,          1,          2,         02,2,20060121,       1132,  37.654167,-69.5570000,          0,   880.3,   5.4433,  35.0577,2,  35.0601,2, 228.6000,2,   223.1,2,   12.82,2,   19.86,2,    0.00,2,    1.29,2,   5.3670
33AT20060118,  CLIMODE-2,       7,          1,          1,         25,2,20060121,       1132,  37.654167,-69.5570000,          0,  1003.5,   4.9015,  35.0286,2,  35.0294,2, 245.0000,2,   245.7,2,   12.36,2,   18.97,2,    0.00,2,    1.23,2,   4.8177
33AT20060118,  CLIMODE-2,       8,          1,         20,         20,2,20060121,       1402,  37.820167,-69.5835000,          0,     2.7,  21.8288,  36.5170,2,  36.5166,2, 206.1000,2,   208.2,2,    0.37,2,    0.72,2,    0.13,2,    0.06,2,  21.8283
33AT20060118,  CLIMODE-2,       8,          1,         19,         28,2,20060121,       1402,  37.820167,-69.5835000,          0,    26.1,  21.8290,  36.5147,2,  36.5140,2, 207.6000,2,   208.3,2,    0.25,2,    0.72,2,    0.13,2,    0.06,2,  21.8238
33AT20060118,  CLIMODE-2,       8,          1,         18,         18,2,20060121,       1402,  37.820167,-69.5835000,          0,    50.5,  21.7861,  36.5129,2,  36.5115,2, 206.6000,2,   206.3,2,    0.24,2,    0.86,2,    0.14,2,    0.06,2,  21.7762
33AT20060118,  CLIMODE-2,       8,          1,         17,         17,2,20060121,       1402,  37.820167,-69.5835000,          0,    75.6,  22.0895,  36.8448,2,  36.8438,2, 176.9000,2,   176.1,2,    0.34,2,    2.75,2,    0.04,2,    0.14,2,  22.0744
33AT20060118,  CLIMODE-2,       8,          1,         16,         16,2,20060121,       1402,  37.820167,-69.5835000,          0,   101.0,  20.9600,  36.8111,2,  36.8079,2, 164.1000,2,   165.5,2,    0.57,2,    4.33,2,    0.01,2,    0.21,2,  20.9405
33AT20060118,  CLIMODE-2,       8,          1,         15,         15,2,20060121,       1402,  37.820167,-69.5835000,          0,   126.1,  19.7252,  36.6628,2,  36.6655,2, 146.5000,2,   147.9,2,    1.46,2,    7.57,2,    0.01,2,    0.38,2,  19.7019
33AT20060118,  CLIMODE-2,       8,          1,         14,         14,2,20060121,       1402,  37.820167,-69.5835000,          0,   151.4,  18.1567,  36.4780,2,  36.4770,2, 151.8000,2,   151.4,2,    2.01,2,    9.48,2,    0.01,2,    0.50,2,  18.1303
33AT20060118,  CLIMODE-2,       8,          1,         13,         13,2,20060121,       1402,  37.820167,-69.5835000,          0,   201.7,  17.3587,  36.3732,2,  36.3773,2, 157.6000,2,   157.1,2,    2.23,2,    9.96,2,    0.00,2,    0.54,2,  17.3245
33AT20060118,  CLIMODE-2,       8,          1,         12,         12,2,20060121,       1402,  37.820167,-69.5835000,          0,   251.4,  15.8594,  36.1565,2,  36.1515,2, 151.4000,2,   166.2,2,    3.01,2,   11.48,2,    0.00,2,    0.64,2,  15.8195
33AT20060118,  CLIMODE-2,       8,          1,         11,         11,2,20060121,       1402,  37.820167,-69.5835000,          0,   302.1,  14.4799,  35.9323,2,  35.9339,2, 154.9000,2,   162.5,2,    4.24,2,   13.92,2,    0.00,2,    0.80,2,  14.4347
33AT20060118,  CLIMODE-2,       8,          1,         10,         10,2,20060121,       1402,  37.820167,-69.5835000,          0,   354.0,  13.4843,  35.7737,2,  35.7711,2, 157.4000,2,   152.5,2,    5.82,2,   16.56,2,    0.00,2,    0.98,2,  13.4338
33AT20060118,  CLIMODE-2,       8,          1,          9,         09,2,20060121,       1402,  37.820167,-69.5835000,          0,   404.7,  12.3353,  35.5992,2,  35.5976,2, 146.4000,2,   142.6,2,    7.83,2,   19.55,2,    0.00,2,    1.18,2,  12.2807
33AT20060118,  CLIMODE-2,       8,          1,          8,         08,2,20060121,       1402,  37.820167,-69.5835000,          0,   455.1,  11.1793,  35.4484,2,  35.4481,2, 145.3000,2,   140.8,2,    9.85,2,   21.62,2,    0.00,2,    1.33,2,  11.1216
33AT20060118,  CLIMODE-2,       8,          1,          7,         07,2,20060121,       1402,  37.820167,-69.5835000,          0,   504.6,   9.4871,  35.2195,2,  35.2188,2, 132.5000,2,   131.9,2,   13.91,2,   25.31,2,    0.00,2,    1.60,2,   9.4293
33AT20060118,  CLIMODE-2,       8,          1,          6,         06,2,20060121,       1402,  37.820167,-69.5835000,          0,   554.8,   8.4608,  35.1382,2,  35.1355,2, 144.0000,2,   142.5,2,   14.92,2,   25.52,2,    0.00,2,    1.63,2,   8.4014
33AT20060118,  CLIMODE-2,       8,          1,          5,         27,2,20060121,       1402,  37.820167,-69.5835000,          0,   611.1,   7.4772,  35.1040,2,  35.1042,2, 172.1000,2,   167.8,2,   13.67,2,   23.51,2,    0.00,2,    1.52,2,   7.4159
33AT20060118,  CLIMODE-2,       8,          1,          4,         04,2,20060121,       1402,  37.820167,-69.5835000,          0,   709.2,   5.7665,  35.0614,2,  35.0615,2, 222.1000,2,   214.1,2,   12.31,2,   20.32,2,    0.00,2,    1.33,2,   5.7041
33AT20060118,  CLIMODE-2,       8,          1,          3,         26,2,20060121,       1402,  37.820167,-69.5835000,          0,   810.2,   5.0019,  35.0208,2,  35.0232,2, 242.6000,2,   235.4,2,   11.85,2,   19.21,2,    0.00,2,    1.26,2,   4.9348
33AT20060118,  CLIMODE-2,       8,          1,          2,         02,2,20060121,       1402,  37.820167,-69.5835000,          0,   910.7,   4.4765,  34.9755,2,  35.0230,3, 258.6000,2,   250.4,2,   11.28,2,   18.38,2,    0.00,2,    1.21,2,   4.4041
33AT20060118,  CLIMODE-2,       8,          1,          1,         25,2,20060121,       1402,  37.820167,-69.5835000,          0,   999.6,   4.3100,  34.9674,2,  34.9668,2, 260.9000,2,   255.2,2,   11.15,2,   18.18,2,    0.00,2,    1.19,2,   4.2312