BOTTLE,20120918SIOCCHMYS
EXPOCODE,SECT_ID,STNNBR,CASTNO,SAMPNO,BTLNBR,BTLNBR_FLAG_W,DATE,TIME,LATITUDE,LONGITUDE,DEPTH,CTDPRS,CTDTMP,CTDSAL,CTDSAL_FLAG_W,SALNTY,SALNTY_FLAG_W,CTDOXY,CTDOXY_FLAG_W,OXYGEN,OXYGEN_FLAG_W,SILCAT,SILCAT_FLAG_W,NITRAT,NITRAT_FLAG_W,NITRIT,NITRIT_FLAG_W,PHSPHT,PHSPHT_FLAG_W,THETA
,,,,,,,,,,,,DBAR,ITS-90,PSS-78,,PSS-78,,UMOL/KG,,UMOL/KG,,UMOL/KG,,UMOL/KG,,UMOL/KG,,UMOL/KG,,DEG C
33AT20060118,  CLIMODE-2,      12,          1,         22,         22,2,20060121,       2344,  38.479167,-69.7010000,          0,     2.5,  13.2065,  34.9319,2,  34.9437,2, 250.4000,2,   252.4,2,    2.50,2,    4.30,2,    0.12,2,    0.37,2,  13.2061
33AT20060118,  CLIMODE-2,      12,          1,         21,         29,2,20060121,       2344,  38.479167,-69.7010000,          0,    29.0,  13.1939,  34.9367,2,  34.9336,2, 250.8000,2,   251.3,2,    2.61,2,    4.30,2,    0.12,2,    0.37,2,  13.1899
33AT20060118,  CLIMODE-2,      12,          1,         20,         20,2,20060121,       2344,  38.479167,-69.7010000,          0,    50.6,  13.1637,  34.9428,2,  34.9393,2, 248.0000,2,   248.6,2,    2.60,2,    4.45,2,    0.11,2,    0.39,2,  13.1567
33AT20060118,  CLIMODE-2,      12,          1,         19,         28,2,20060121,       2344,  38.479167,-69.7010000,          0,    76.2,  13.1626,  34.9426,2,  34.9401,2, 247.6000,2,   247.2,2,    2.59,2,    4.44,2,    0.12,2,    0.37,2,  13.1521
33AT20060118,  CLIMODE-2,      12,          1,         18,         18,2,20060121,       2344,  38.479167,-69.7010000,          0,   100.8,  13.4357,  35.0752,2,  35.0373,3, 236.8000,2,   237.0,2,    2.92,2,    5.54,2,    0.10,2,    0.43,2,  13.4215
33AT20060118,  CLIMODE-2,      12,          1,         17,         17,2,20060121,       2344,  38.479167,-69.7010000,          0,   124.6,  13.3459,  35.6812,2,  35.6803,2, 146.0000,2,   146.3,2,    7.51,2,   16.98,2,    0.01,2,    1.03,2,  13.3284
33AT20060118,  CLIMODE-2,      12,          1,         16,         16,2,20060121,       2344,  38.479167,-69.7010000,          0,   151.0,  12.3459,  35.5636,2,  35.5591,2, 141.0000,2,   142.4,2,    8.96,2,   19.26,2,    0.01,2,    1.17,2,  12.3257
33AT20060118,  CLIMODE-2,      12,          1,         15,         15,2,20060121,       2344,  38.479167,-69.7010000,          0,   176.6,  11.6411,  35.4810,2,  35.4816,2, 135.2000,2,   134.1,2,   10.75,2,   21.40,2,    0.00,2,    1.31,2,  11.6184
33AT20060118,  CLIMODE-2,      12,          1,         14,         14,2,20060121,       2344,  38.479167,-69.7010000,          0,   201.1,  10.8983,  35.3893,2,  35.3867,2, 132.4000,2,   131.0,2,   12.19,2,   23.05,2,    0.00,2,    1.43,2,  10.8736
33AT20060118,  CLIMODE-2,      12,          1,         13,         13,2,20060121,       2344,  38.479167,-69.7010000,          0,   252.2,   9.6312,  35.2380,2,  35.2377,2, 133.8000,2,   131.8,2,   14.43,2,   25.04,2,    0.01,2,    1.57,2,   9.6024
33AT20060118,  CLIMODE-2,      12,          1,         12,         12,2,20060121,       2344,  38.479167,-69.7010000,          0,   302.6,   8.3244,  35.1381,2,  35.1392,2, 144.6000,2,   146.7,2,   15.66,2,   25.18,2,    0.02,2,    1.61,2,   8.2928
33AT20060118,  CLIMODE-2,      12,          1,         11,         11,2,20060121,       2344,  38.479167,-69.7010000,          0,   403.1,   6.3725,  35.0701,2,  35.0705,2, 194.9000,2,   194.9,2,   13.97,2,   21.65,2,    0.00,2,    1.41,2,   6.3361
33AT20060118,  CLIMODE-2,      12,          1,         10,         10,2,20060121,       2344,  38.479167,-69.7010000,          0,   504.8,   5.3980,  35.0243,2,  35.0240,2, 222.3000,2,   222.3,2,   12.73,2,   19.82,2,    0.00,2,    1.30,2,   5.3558
33AT20060118,  CLIMODE-2,      12,          1,          9,         09,2,20060121,       2344,  38.479167,-69.7010000,          0,   606.0,   5.0592,  35.0311,2,  35.0336,2, 234.7000,2,   234.1,2,   12.39,2,   19.12,2,    0.00,2,    1.25,2,   5.0097
33AT20060118,  CLIMODE-2,      12,          1,          8,         08,2,20060121,       2344,  38.479167,-69.7010000,          0,   706.5,   4.5854,  34.9880,2,  34.9881,2, 247.6000,2,   247.2,2,   11.93,2,   18.48,2,    0.00,2,    1.21,2,   4.5297
33AT20060118,  CLIMODE-2,      12,          1,          7,         07,2,20060121,       2344,  38.479167,-69.7010000,          0,   807.3,   4.4204,  34.9846,2,  34.9828,2, 252.2000,2,   252.3,2,   11.92,2,   18.24,2,    0.00,2,    1.20,2,   4.3572
33AT20060118,  CLIMODE-2,      12,          1,          6,         06,2,20060121,       2344,  38.479167,-69.7010000,          0,   909.0,   4.3373,  34.9919,2,  34.9912,2, 253.4000,2,   253.5,2,   12.03,2,   18.13,2,    0.00,2,    1.19,2,   4.2661
33AT20060118,  CLIMODE-2,      12,          1,          5,         27,2,20060121,       2344,  38.479167,-69.7010000,          0,  1009.2,   4.1494,  34.9779,2,  34.9784,2, 257.0000,2,   257.6,2,   12.02,2,   18.08,2,    0.00,2,    1.18,2,   4.0710
33AT20060118,  CLIMODE-2,      12,          1,          4,         04,2,20060121,       2344,  38.479167,-69.7010000,          0,  1263.0,   3.8741,  34.9618,2,  34.9619,2, 263.0000,2,   263.0,2,   12.46,2,   17.88,2,    0.00,2,    1.17,2,   3.7763
33AT20060118,  CLIMODE-2,      12,          1,          3,         26,2,20060121,       2344,  38.479167,-69.7010000,          0,  1516.2,   3.5817,  34.9416,2,  34.9426,2, 267.8000,2,   268.1,2,   13.13,2,   17.74,2,    0.00,2,    1.16,2,   3.4648
33AT20060118,  CLIMODE-2,      12,          1,          2,         02,2,20060121,       2344,  38.479167,-69.7010000,          0,  1769.6,   3.4338,  34.9420,2,  34.9426,2, 268.8000,2,   268.7,2,   14.13,2,   17.73,2,    0.00,2,    1.17,2,   3.2961
33AT20060118,  CLIMODE-2,      12,          1,          1,         25,2,20060121,       2344,  38.479167,-69.7010000,          0,  2023.7,   3.2700,  34.9392,2,  34.9388,2, 268.7000,2,   268.8,2,   15.36,2,   17.68,2,    0.00,2,    1.17,2,   3.1112
33AT20060118,  CLIMODE-2,      13,          1,         20,         20,2,20060122,       0630,  37.883500,-69.0986667,          0,     2.6,  22.3433,  36.5842,2,  36.5833,2, 205.0000,2,   207.0,2,    0.61,2,    0.41,2,    0.10,2,    0.03,2,  22.3428
33AT20060118,  CLIMODE-2,      13,          1,         19,         28,2,20060122,       0630,  37.883500,-69.0986667,          0,    27.8,  22.3738,  36.5836,2,  36.5902,2, 204.5000,2,   206.6,2,    0.62,2,    0.40,2,    0.10,2,    0.03,2,  22.3682
33AT20060118,  CLIMODE-2,      13,          1,         18,         18,2,20060122,       0630,  37.883500,-69.0986667,          0,    51.0,  22.3866,  36.5870,2,  36.5869,2, 204.5000,2,   206.6,2,    0.62,2,    0.40,2,    0.10,2,    0.03,2,  22.3763
33AT20060118,  CLIMODE-2,      13,          1,         17,         17,2,20060122,       0630,  37.883500,-69.0986667,          0,    77.3,  22.3901,  36.5905,2,  36.6004,2, 204.0000,2,   206.9,2,    0.62,2,    0.44,2,    0.10,2,    0.03,2,  22.3745
33AT20060118,  CLIMODE-2,      13,          1,         16,         16,2,20060122,       0630,  37.883500,-69.0986667,          0,   102.7,  22.3451,  36.7007,2,  36.6888,2, 208.1000,2,   195.0,2,    0.74,2,    1.13,2,    0.08,2,    0.06,2,  22.3244
33AT20060118,  CLIMODE-2,      13,          1,         15,         15,2,20060122,       0630,  37.883500,-69.0986667,          0,   126.8,  21.2882,  36.8322,2,  36.8337,2, 160.8000,2,   169.0,2,    1.08,2,    3.62,2,    0.02,2,    0.18,2,  21.2635
33AT20060118,  CLIMODE-2,      13,          1,         14,         14,2,20060122,       0630,  37.883500,-69.0986667,          0,   152.0,  20.4245,  36.7615,2,  36.7692,2, 155.3000,2,   157.8,2,    1.53,2,    5.37,2,    0.01,2,    0.26,2,  20.3957
33AT20060118,  CLIMODE-2,      13,          1,         13,         13,2,20060122,       0630,  37.883500,-69.0986667,          0,   202.2,  19.0518,  36.6173,2,  36.6173,2, 160.8000,2,   164.6,2,    1.76,2,    6.30,2,    0.01,2,    0.31,2,  19.0153
33AT20060118,  CLIMODE-2,      13,          1,         12,         12,2,20060122,       0630,  37.883500,-69.0986667,          0,   252.8,  18.0043,  36.4762,2,  36.4822,2, 160.7000,2,   165.3,2,    2.22,2,    7.84,2,    0.01,2,    0.41,2,  17.9604
33AT20060118,  CLIMODE-2,      13,          1,         11,         11,2,20060122,       0630,  37.883500,-69.0986667,          0,   303.3,  16.8334,  36.2978,2,  36.3053,2, 167.2000,2,   167.2,2,    3.00,2,    9.74,2,    0.01,2,    0.53,2,  16.7831
33AT20060118,  CLIMODE-2,      13,          1,         10,         10,2,20060122,       0630,  37.883500,-69.0986667,          0,   353.0,  16.2878,  36.2359,2,  36.2400,2, 181.6000,2,   176.0,2,    2.78,2,    9.35,2,    0.01,2,    0.51,2,  16.2305
33AT20060118,  CLIMODE-2,      13,          1,          9,         09,2,20060122,       0630,  37.883500,-69.0986667,          0,   404.4,  15.4046,  36.0879,2,  36.0901,2, 179.0000,2,   177.1,2,    3.68,2,   10.85,2,    0.00,2,    0.61,2,  15.3414
33AT20060118,  CLIMODE-2,      13,          1,          8,         08,2,20060122,       0630,  37.883500,-69.0986667,          0,   456.0,  14.2615,  35.8916,2,  35.8977,2, 166.8000,2,   163.2,2,    5.25,2,   14.06,2,    0.00,2,    0.81,2,  14.1937
33AT20060118,  CLIMODE-2,      13,          1,          7,         07,2,20060122,       0630,  37.883500,-69.0986667,          0,   507.8,  13.2428,  35.7308,2,  35.7413,2, 159.2000,2,   156.9,2,    6.70,2,   16.35,2,    0.00,2,    0.97,2,  13.1708
33AT20060118,  CLIMODE-2,      13,          1,          6,         06,2,20060122,       0630,  37.883500,-69.0986667,          0,   555.5,  11.8915,  35.5364,2,  35.5386,2, 153.4000,2,   150.0,2,    9.05,2,   19.33,2,    0.00,2,    1.17,2,  11.8180
33AT20060118,  CLIMODE-2,      13,          1,          5,         27,2,20060122,       0630,  37.883500,-69.0986667,          0,   607.9,  10.4609,  35.3516,2,  35.3497,2, 143.3000,2,   143.1,2,   11.95,2,   22.42,2,    0.00,2,    1.40,2,  10.3866
33AT20060118,  CLIMODE-2,      13,          1,          4,         04,2,20060122,       0630,  37.883500,-69.0986667,          0,   707.1,   8.1482,  35.1651,2,  35.1651,2, 161.8000,2,   161.9,2,   13.85,2,   23.14,2,    0.00,2,    1.48,2,   8.0734
33AT20060118,  CLIMODE-2,      13,          1,          3,         26,2,20060122,       0630,  37.883500,-69.0986667,          0,   775.8,   7.1357,  35.1155,2,  35.1151,2, 181.7000,2,   180.8,2,   13.97,2,   22.21,2,    0.00,2,    1.44,2,   7.0590
33AT20060118,  CLIMODE-2,      13,          1,          2,         02,2,20060122,       0630,  37.883500,-69.0986667,          0,   906.5,   5.6266,  35.0680,2,  35.0671,2, 223.7000,2,   218.6,2,   12.97,2,   19.99,2,    0.00,2,    1.31,2,   5.5465
33AT20060118,  CLIMODE-2,      13,          1,          1,         25,2,20060122,       0630,  37.883500,-69.0986667,          0,  1009.9,   5.1019,  35.0506,2,  35.0498,2, 239.6000,2,   233.5,2,   12.42,2,   19.05,2,    0.00,2,    1.25,2,   5.0160
33AT20060118,  CLIMODE-2,      14,          1,         20,         20,2,20060122,       1238,  37.285500,-68.5026667,          0,     2.2,  19.9128,  36.6518,2,  36.6523,2, 218.9000,2,   218.2,2,    0.59,2,    0.52,2,    0.19,2,    0.04,2,  19.9124
33AT20060118,  CLIMODE-2,      14,          1,         19,         28,2,20060122,       1238,  37.285500,-68.5026667,          0,    25.6,  19.9273,  36.6518,2,  36.6511,2, 218.9000,2,   217.6,2,    0.59,2,    0.52,2,    0.19,2,    0.04,2,  19.9226
33AT20060118,  CLIMODE-2,      14,          1,         18,         18,2,20060122,       1238,  37.285500,-68.5026667,          0,    50.7,  19.9404,  36.6521,2,  36.6511,2, 218.9000,2,   218.0,2,    0.48,2,    0.51,2,    0.19,2,    0.03,2,  19.9309
33AT20060118,  CLIMODE-2,      14,          1,         17,         17,2,20060122,       1238,  37.285500,-68.5026667,          0,    75.9,  19.9449,  36.6517,2,  36.6519,2, 217.9000,2,   218.6,2,    0.37,2,    0.50,2,    0.20,2,    0.03,2,  19.9308
33AT20060118,  CLIMODE-2,      14,          1,         16,         16,2,20060122,       1238,  37.285500,-68.5026667,          0,   101.8,  19.9481,  36.6531,2,  36.6516,2, 218.1000,2,   217.1,2,    0.48,2,    0.56,2,    0.19,2,    0.03,2,  19.9291
33AT20060118,  CLIMODE-2,      14,          1,         15,         15,2,20060122,       1238,  37.285500,-68.5026667,          0,   126.3,  19.9497,  36.6552,2,  36.6532,2, 217.6000,2,   216.3,2,    0.49,2,    0.61,2,    0.18,2,    0.03,2,  19.9262
33AT20060118,  CLIMODE-2,      14,          1,         14,         14,2,20060122,       1238,  37.285500,-68.5026667,          0,   152.1,  19.9327,  36.6617,2,  36.6597,2, 215.8000,2,   213.9,2,    0.61,2,    0.76,2,    0.17,2,    0.04,2,  19.9044
33AT20060118,  CLIMODE-2,      14,          1,         13,         13,2,20060122,       1238,  37.285500,-68.5026667,          0,   177.6,  19.4635,  36.6880,2,  36.6867,2, 197.7000,2,   198.5,2,    0.71,2,    2.06,2,    0.02,2,    0.08,2,  19.4310
33AT20060118,  CLIMODE-2,      14,          1,         12,         12,2,20060122,       1238,  37.285500,-68.5026667,          0,   226.7,  18.9443,  36.6549,2,  36.6522,2, 202.2000,2,   201.8,2,    0.83,2,    2.65,2,    0.01,2,    0.10,2,  18.9035
33AT20060118,  CLIMODE-2,      14,          1,         11,         11,2,20060122,       1238,  37.285500,-68.5026667,          0,   276.8,  18.6692,  36.6294,2,  36.6273,2, 202.8000,2,   203.4,2,    0.95,2,    3.17,2,    0.01,2,    0.13,2,  18.6198
33AT20060118,  CLIMODE-2,      14,          1,         10,         10,2,20060122,       1238,  37.285500,-68.5026667,          0,   327.8,  18.4346,  36.6050,2,  36.6027,2, 202.4000,2,   201.9,2,    1.06,2,    3.66,2,    0.01,2,    0.16,2,  18.3766
33AT20060118,  CLIMODE-2,      14,          1,          9,         09,2,20060122,       1238,  37.285500,-68.5026667,          0,   379.8,  18.2240,  36.5688,2,  36.5670,2, 198.7000,2,   198.6,2,    1.17,2,    4.38,2,    0.01,2,    0.20,2,  18.1573
33AT20060118,  CLIMODE-2,      14,          1,          8,         08,2,20060122,       1238,  37.285500,-68.5026667,          0,   429.0,  18.0862,  36.5638,2,  36.5649,2, 203.9000,2,   203.3,2,    1.06,2,    4.14,2,    0.01,2,    0.19,2,  18.0112
33AT20060118,  CLIMODE-2,      14,          1,          7,         07,2,20060122,       1238,  37.285500,-68.5026667,          0,   480.1,  17.7089,  36.4908,2,  36.4941,2, 197.0000,2,   196.3,2,    1.41,2,    5.44,2,    0.01,2,    0.25,2,  17.6260
33AT20060118,  CLIMODE-2,      14,          1,          6,         06,2,20060122,       1238,  37.285500,-68.5026667,          0,   529.5,  16.8693,  36.3302,2,  36.3319,2, 184.7000,2,   183.4,2,    2.19,2,    7.95,2,    0.00,2,    0.41,2,  16.7809
33AT20060118,  CLIMODE-2,      14,          1,          5,         27,2,20060122,       1238,  37.285500,-68.5026667,          0,   580.5,  16.1494,  36.2090,2,  36.2069,2, 181.6000,2,   181.9,2, -999.00,1, -999.00,1, -999.00,1, -999.00,1,  16.0551
33AT20060118,  CLIMODE-2,      14,          1,          4,         04,2,20060122,       1238,  37.285500,-68.5026667,          0,   681.1,  14.6403,  35.9523,2,  35.9494,2, 173.8000,2,   172.7,2,    4.44,2,   12.55,2,    0.00,2,    0.71,2,  14.5365
33AT20060118,  CLIMODE-2,      14,          1,          3,         26,2,20060122,       1238,  37.285500,-68.5026667,          0,   781.9,  12.3936,  35.5881,2,  35.5868,2, 144.1000,2,   140.9,2,    8.91,2,   19.67,2,    0.00,2,    1.18,2,  12.2864
33AT20060118,  CLIMODE-2,      14,          1,          2,         02,2,20060122,       1238,  37.285500,-68.5026667,          0,   884.0,  10.2546,  35.2961,2,  35.2938,2, 133.0000,2,   130.1,2,   13.50,2,   24.38,2,    0.00,2,    1.53,2,  10.1465
33AT20060118,  CLIMODE-2,      14,          1,          1,         25,2,20060122,       1238,  37.285500,-68.5026667,          0,  1011.8,   7.9166,  35.1235,2,  35.1212,2, 160.1000,2,   160.0,2,   14.63,2,   23.89,2,    0.00,2,    1.53,2,   7.8093