BOTTLE,20120918SIOCCHMYS
EXPOCODE,SECT_ID,STNNBR,CASTNO,SAMPNO,BTLNBR,BTLNBR_FLAG_W,DATE,TIME,LATITUDE,LONGITUDE,DEPTH,CTDPRS,CTDTMP,CTDSAL,CTDSAL_FLAG_W,SALNTY,SALNTY_FLAG_W,CTDOXY,CTDOXY_FLAG_W,OXYGEN,OXYGEN_FLAG_W,SILCAT,SILCAT_FLAG_W,NITRAT,NITRAT_FLAG_W,NITRIT,NITRIT_FLAG_W,PHSPHT,PHSPHT_FLAG_W,THETA
,,,,,,,,,,,,DBAR,ITS-90,PSS-78,,PSS-78,,UMOL/KG,,UMOL/KG,,UMOL/KG,,UMOL/KG,,UMOL/KG,,UMOL/KG,,DEG C
33AT20060118,  CLIMODE-2,      24,          1,         20,         20,2,20060123,       1744,  37.410500,-66.6923333,          0,     2.9,  22.2237,  36.5736,2,  36.5740,2, 206.7000,2,   207.3,2,    0.91,2,    0.70,2,    0.10,2,    0.05,2,  22.2231
33AT20060118,  CLIMODE-2,      24,          1,         19,         28,2,20060123,       1744,  37.410500,-66.6923333,          0,    25.8,  22.2367,  36.5739,2,  36.5741,2, 207.1000,2,   206.6,2,    0.91,2,    0.70,2,    0.10,2,    0.05,2,  22.2315
33AT20060118,  CLIMODE-2,      24,          1,         18,         18,2,20060123,       1744,  37.410500,-66.6923333,          0,    50.3,  22.2368,  36.5755,2,  36.5761,2, 207.0000,2,   207.3,2,    0.91,2,    0.69,2,    0.11,2,    0.05,2,  22.2267
33AT20060118,  CLIMODE-2,      24,          1,         17,         17,2,20060123,       1744,  37.410500,-66.6923333,          0,    75.6,  22.2366,  36.5760,2,  36.5769,2, 206.9000,2,   207.3,2,    0.91,2,    0.68,2,    0.11,2,    0.04,2,  22.2214
33AT20060118,  CLIMODE-2,      24,          1,         16,         16,2,20060123,       1744,  37.410500,-66.6923333,          0,   100.9,  22.2081,  36.5781,2,  36.5791,2, 206.2000,2,   205.5,2,    1.03,2,    0.70,2,    0.14,2,    0.05,2,  22.1878
33AT20060118,  CLIMODE-2,      24,          1,         15,         15,2,20060123,       1744,  37.410500,-66.6923333,          0,   125.2,  21.5827,  36.6032,2,  36.6081,2, 211.4000,2,   207.2,2,    0.79,2,    0.58,2,    0.21,2,    0.04,2,  21.5581
33AT20060118,  CLIMODE-2,      24,          1,         14,         14,2,20060123,       1744,  37.410500,-66.6923333,          0,   151.0,  20.4630,  36.6406,2,  36.6399,2, 214.3000,2,   216.0,2,    0.68,2,    0.40,2,    0.24,2,    0.03,2,  20.4344
33AT20060118,  CLIMODE-2,      24,          1,         13,         13,2,20060123,       1744,  37.410500,-66.6923333,          0,   176.6,  19.9803,  36.6577,2,  36.6550,2, 211.2000,2,   214.9,2,    0.68,2,    0.58,2,    0.21,2,    0.03,2,  19.9474
33AT20060118,  CLIMODE-2,      24,          1,         12,         12,2,20060123,       1744,  37.410500,-66.6923333,          0,   229.5,  19.3828,  36.6758,2,  36.6781,2, 194.5000,2,   191.9,2,    1.03,2,    2.75,2,    0.02,2,    0.11,2,  19.3408
33AT20060118,  CLIMODE-2,      24,          1,         11,         11,2,20060123,       1744,  37.410500,-66.6923333,          0,   275.2,  18.7999,  36.6140,2,  36.6125,2, 197.8000,2,   188.9,2,    1.25,2,    4.14,2,    0.01,2,    0.18,2,  18.7506
33AT20060118,  CLIMODE-2,      24,          1,         10,         10,2,20060123,       1744,  37.410500,-66.6923333,          0,   326.1,  18.5840,  36.6244,2,  36.6232,2, 200.0000,2,   204.0,2,    1.13,2,    3.27,2,    0.01,2,    0.15,2,  18.5260
33AT20060118,  CLIMODE-2,      24,          1,          9,         09,2,20060123,       1744,  37.410500,-66.6923333,          0,   379.7,  18.2426,  36.5868,2,  36.5868,2, 203.0000,2,   204.2,2,    1.25,2,    3.85,2,    0.01,2,    0.18,2,  18.1758
33AT20060118,  CLIMODE-2,      24,          1,          8,         08,2,20060123,       1744,  37.410500,-66.6923333,          0,   431.6,  17.9939,  36.5484,2,  36.5511,2, 201.8000,2,   202.3,2,    1.37,2,    4.43,2,    0.01,2,    0.21,2,  17.9186
33AT20060118,  CLIMODE-2,      24,          1,          7,         07,2,20060123,       1744,  37.410500,-66.6923333,          0,   482.5,  17.4156,  36.4334,2,  36.4438,2, 191.3000,2,   190.7,2,    1.93,2,    6.35,2,    0.00,2,    0.32,2,  17.3333
33AT20060118,  CLIMODE-2,      24,          1,          6,         06,2,20060123,       1744,  37.410500,-66.6923333,          0,   531.5,  16.3573,  36.2445,2,  36.2494,2, 182.7000,2,   180.5,2,    2.96,2,    9.06,2,    0.00,2,    0.49,2,  16.2703
33AT20060118,  CLIMODE-2,      24,          1,          5,         27,2,20060123,       1744,  37.410500,-66.6923333,          0,   585.9,  15.2263,  36.0605,2,  36.0755,2, 178.7000,2,   180.7,2,    3.87,2,   10.94,2,    0.00,2,    0.62,2,  15.1348
33AT20060118,  CLIMODE-2,      24,          1,          4,         04,2,20060123,       1744,  37.410500,-66.6923333,          0,   684.4,  13.4557,  35.7598,2,  35.7600,2, 159.6000,2,   160.2,2,    6.48,2,   15.84,2,    0.00,2,    0.94,2,  13.3571
33AT20060118,  CLIMODE-2,      24,          1,          3,         26,2,20060123,       1744,  37.410500,-66.6923333,          0,   780.8,  10.9092,  35.4042,2,  35.4114,2, 141.6000,2,   140.9,2,   11.16,2,   22.02,2,    0.00,2,    1.36,2,  10.8104
33AT20060118,  CLIMODE-2,      24,          1,          2,         02,2,20060123,       1744,  37.410500,-66.6923333,          0,   880.5,   8.3884,  35.1738,2,  35.1767,2, 157.6000,2,   159.0,2,   13.89,2,   23.29,2,    0.00,2,    1.49,2,   8.2927
33AT20060118,  CLIMODE-2,      24,          1,          1,         25,2,20060123,       1744,  37.410500,-66.6923333,          0,   995.7,   6.0296,  35.0772,2,  35.0767,2, 208.1000,2,   207.6,2,   13.43,2,   20.79,2,    0.00,2,    1.35,2,   5.9380
33AT20060118,  CLIMODE-2,      25,          1,         20,         20,2,20060124,       0123,  36.782000,-65.9800000,          0,     2.4,  20.2317,  36.6477,2,  36.6499,2, 218.3000,2,   217.1,2,    0.56,2,    0.41,2,    0.17,2,    0.03,2,  20.2313
33AT20060118,  CLIMODE-2,      25,          1,         19,         28,2,20060124,       0123,  36.782000,-65.9800000,          0,    28.7,  20.2437,  36.6465,2,  36.6451,2, 218.4000,2,   216.7,2,    0.56,2,    0.40,2,    0.18,2,    0.03,2,  20.2383
33AT20060118,  CLIMODE-2,      25,          1,         18,         18,2,20060124,       0123,  36.782000,-65.9800000,          0,    51.0,  20.2471,  36.6471,2,  36.6553,2, 217.9000,2,   217.8,2,    0.56,2,    0.35,2,    0.17,2,    0.03,2,  20.2375
33AT20060118,  CLIMODE-2,      25,          1,         17,         17,2,20060124,       0123,  36.782000,-65.9800000,          0,    75.5,  20.2567,  36.6470,2,  36.6463,2, 216.9000,2,   217.6,2,    0.56,2,    0.35,2,    0.17,2,    0.02,2,  20.2425
33AT20060118,  CLIMODE-2,      25,          1,         16,         16,2,20060124,       0123,  36.782000,-65.9800000,          0,   100.3,  20.2624,  36.6472,2,  36.6471,2, 216.7000,2,   216.5,2,    0.56,2,    0.40,2,    0.18,2,    0.02,2,  20.2436
33AT20060118,  CLIMODE-2,      25,          1,         15,         15,2,20060124,       0123,  36.782000,-65.9800000,          0,   126.1,  20.2580,  36.6478,2,  36.6475,2, 215.8000,2,   216.1,2,    0.56,2,    0.41,2,    0.17,2,    0.02,2,  20.2343
33AT20060118,  CLIMODE-2,      25,          1,         14,         14,2,20060124,       0123,  36.782000,-65.9800000,          0,   150.7,  20.0208,  36.6135,2,  36.6127,2, 214.0000,2,   214.7,2,    0.67,2,    0.82,2,    0.14,2,    0.04,2,  19.9927
33AT20060118,  CLIMODE-2,      25,          1,         13,         13,2,20060124,       0123,  36.782000,-65.9800000,          0,   201.7,  19.3347,  36.6585,2,  36.6571,2, 197.3000,2,   196.8,2,    0.78,2,    2.52,2,    0.02,2,    0.11,2,  19.2980
33AT20060118,  CLIMODE-2,      25,          1,         12,         12,2,20060124,       0123,  36.782000,-65.9800000,          0,   251.8,  19.0009,  36.6472,2,  36.6466,2, 197.3000,2,   195.8,2,    0.90,2,    3.15,2,    0.01,2,    0.14,2,  18.9555
33AT20060118,  CLIMODE-2,      25,          1,         11,         11,2,20060124,       0123,  36.782000,-65.9800000,          0,   302.5,  18.6553,  36.6254,2,  36.6242,2, 201.1000,2,   200.7,2,    1.02,2,    3.39,2,    0.01,2,    0.15,2,  18.6013
33AT20060118,  CLIMODE-2,      25,          1,         10,         10,2,20060124,       0123,  36.782000,-65.9800000,          0,   352.9,  18.3906,  36.5978,2,  36.6004,2, 201.4000,2,   201.5,2,    1.12,2,    3.77,2,    0.01,2,    0.17,2,  18.3282
33AT20060118,  CLIMODE-2,      25,          1,          9,         09,2,20060124,       0123,  36.782000,-65.9800000,          0,   402.8,  18.1461,  36.5577,2,  36.5580,2, 198.0000,2,   198.7,2,    1.24,2,    4.49,2,    0.01,2,    0.21,2,  18.0756
33AT20060118,  CLIMODE-2,      25,          1,          8,         08,2,20060124,       0123,  36.782000,-65.9800000,          0,   453.5,  17.9247,  36.5225,2,  36.5207,2, 197.0000,2,   196.2,2,    1.47,2,    5.10,2,    0.01,2,    0.24,2,  17.8458
33AT20060118,  CLIMODE-2,      25,          1,          7,         07,2,20060124,       0123,  36.782000,-65.9800000,          0,   504.0,  17.5501,  36.4544,2,  36.4558,2, 192.3000,2,   191.1,2,    1.69,2,    6.16,2,    0.01,2,    0.31,2,  17.4636
33AT20060118,  CLIMODE-2,      25,          1,          6,         06,2,20060124,       0123,  36.782000,-65.9800000,          0,   554.3,  16.9984,  36.3485,2,  36.3474,2, 181.6000,2,   180.6,2,    2.25,2,    8.07,2,    0.00,2,    0.43,2,  16.9052
33AT20060118,  CLIMODE-2,      25,          1,          5,         27,2,20060124,       0123,  36.782000,-65.9800000,          0,   605.1,  16.2890,  36.2265,2,  36.2231,2, 177.7000,2,   177.7,2,    2.92,2,    9.61,2,    0.00,2,    0.53,2,  16.1901
33AT20060118,  CLIMODE-2,      25,          1,          4,         04,2,20060124,       0123,  36.782000,-65.9800000,          0,   706.2,  14.6151,  35.9394,2,  35.9399,2, 160.2000,2,   159.8,2,    5.06,2,   14.08,2,    0.00,2,    0.81,2,  14.5076
33AT20060118,  CLIMODE-2,      25,          1,          3,         26,2,20060124,       0123,  36.782000,-65.9800000,          0,   806.4,  12.6180,  35.6253,2,  35.6255,2,-999.0000,9,  -999.0,1,    8.11,2,   18.41,2,    0.00,2,    1.11,2,  12.5060
33AT20060118,  CLIMODE-2,      25,          1,          2,         02,2,20060124,       0123,  36.782000,-65.9800000,          0,   906.9,  10.0661,  35.2998,2,  35.2930,2, 147.0000,2,   147.4,2,   12.17,2,   22.53,2,    0.00,2,    1.42,2,   9.9563
33AT20060118,  CLIMODE-2,      25,          1,          1,         25,2,20060124,       0123,  36.782000,-65.9800000,          0,  1008.7,   7.8215,  35.1368,2,  35.1384,2, 172.5000,2,   172.3,2,   13.29,2,   22.34,2,    0.00,2,    1.44,2,   7.7152
33AT20060118,  CLIMODE-2,      26,          1,         20,         20,2,20060124,       0357,  36.939167,-65.9770000,          0,     3.1,  20.1169,  36.6605,2,  36.6598,2, 216.9000,2,   216.7,2,    0.66,2,    0.53,2,    0.18,2,    0.03,2,  20.1163
33AT20060118,  CLIMODE-2,      26,          1,         19,         28,2,20060124,       0357,  36.939167,-65.9770000,          0,    27.7,  20.1257,  36.6603,2,  36.6592,2, 217.0000,2,   217.1,2,    0.66,2,    0.53,2,    0.18,2,    0.03,2,  20.1205
33AT20060118,  CLIMODE-2,      26,          1,         18,         18,2,20060124,       0357,  36.939167,-65.9770000,          0,    50.8,  20.0954,  36.6603,2,  36.6588,2, 217.1000,2,   217.7,2,    0.66,2,    0.53,2,    0.18,2,    0.03,2,  20.0859
33AT20060118,  CLIMODE-2,      26,          1,         17,         17,2,20060124,       0357,  36.939167,-65.9770000,          0,    76.6,  20.0090,  36.6617,2,  36.6602,2, 218.0000,2,   217.4,2,    0.66,2,    0.57,2,    0.18,2,    0.03,2,  19.9947
33AT20060118,  CLIMODE-2,      26,          1,         16,         16,2,20060124,       0357,  36.939167,-65.9770000,          0,   101.7,  19.9958,  36.6626,2,  36.6612,2, 217.8000,2,   216.5,2,    0.77,2,    0.56,2,    0.20,2,    0.03,2,  19.9768
33AT20060118,  CLIMODE-2,      26,          1,         15,         15,2,20060124,       0357,  36.939167,-65.9770000,          0,   126.1,  19.9789,  36.6629,2,  36.6616,2, 217.6000,2,   216.5,2,    0.66,2,    0.56,2,    0.19,2,    0.03,2,  19.9554
33AT20060118,  CLIMODE-2,      26,          1,         14,         14,2,20060124,       0357,  36.939167,-65.9770000,          0,   152.3,  19.9542,  36.6617,2,  36.6626,2, 217.7000,2,   218.0,2,    0.66,2,    0.50,2,    0.20,2,    0.02,2,  19.9258
33AT20060118,  CLIMODE-2,      26,          1,         13,         13,2,20060124,       0357,  36.939167,-65.9770000,          0,   176.5,  19.8939,  36.6642,2,  36.6630,2, 214.4000,2,   216.4,2,    0.77,2,    0.60,2,    0.20,2,    0.03,2,  19.8611
33AT20060118,  CLIMODE-2,      26,          1,         12,         12,2,20060124,       0357,  36.939167,-65.9770000,          0,   227.1,  19.4492,  36.6827,2,  36.6848,2, 195.7000,2,   191.7,2,    1.00,2,    2.67,2,    0.03,2,    0.11,2,  19.4076
33AT20060118,  CLIMODE-2,      26,          1,         11,         11,2,20060124,       0357,  36.939167,-65.9770000,          0,   278.1,  18.9095,  36.6467,2,  36.6453,2, 198.8000,2,   200.0,2,    1.10,2,    2.95,2,    0.03,2,    0.12,2,  18.8594
33AT20060118,  CLIMODE-2,      26,          1,         10,         10,2,20060124,       0357,  36.939167,-65.9770000,          0,   328.0,  18.6390,  36.6289,2,  36.6277,2, 205.1000,2,   203.8,2,    1.21,2,    3.24,2,    0.03,2,    0.14,2,  18.5806
33AT20060118,  CLIMODE-2,      26,          1,          9,         09,2,20060124,       0357,  36.939167,-65.9770000,          0,   376.6,  18.4731,  36.6120,2,  36.6098,2, 204.9000,2,   203.8,2,    1.21,2,    3.53,2,    0.02,2,    0.16,2,  18.4063
33AT20060118,  CLIMODE-2,      26,          1,          8,         08,2,20060124,       0357,  36.939167,-65.9770000,          0,   427.2,  18.2455,  36.5844,2,  36.5840,2, 205.2000,2,   204.2,2,    1.44,2,    3.86,2,    0.02,2,    0.18,2,  18.1703
33AT20060118,  CLIMODE-2,      26,          1,          7,         07,2,20060124,       0357,  36.939167,-65.9770000,          0,   477.4,  18.0303,  36.5500,2,  36.5488,2, 203.5000,2,   202.7,2,    1.54,2,    4.38,2,    0.02,2,    0.21,2,  17.9469
33AT20060118,  CLIMODE-2,      26,          1,          6,         06,2,20060124,       0357,  36.939167,-65.9770000,          0,   528.5,  17.4781,  36.4417,2,  36.4414,2, 189.1000,2,   189.9,2,    2.10,2,    6.43,2,    0.02,2,    0.32,2,  17.3876
33AT20060118,  CLIMODE-2,      26,          1,          5,         27,2,20060124,       0357,  36.939167,-65.9770000,          0,   580.5,  16.7823,  36.3149,2,  36.3184,2, 183.3000,2,   183.4,2,    2.65,2,    8.09,2,    0.02,2,    0.43,2,  16.6855
33AT20060118,  CLIMODE-2,      26,          1,          4,         04,2,20060124,       0357,  36.939167,-65.9770000,          0,   679.4,  15.3367,  36.0661,2,  36.0705,2, 174.1000,2,   174.3,2,    4.09,2,   11.34,2,    0.02,2,    0.64,2,  15.2299
33AT20060118,  CLIMODE-2,      26,          1,          3,         26,2,20060124,       0357,  36.939167,-65.9770000,          0,   780.9,  12.9317,  35.6538,2,  35.6544,2, 136.5000,2,   136.0,2,    8.73,2,   19.40,2,    0.02,2,    1.16,2,  12.8217
33AT20060118,  CLIMODE-2,      26,          1,          2,         02,2,20060124,       0357,  36.939167,-65.9770000,          0,   883.2,  10.7051,  35.3739,2,  35.3679,2, 139.2000,2,   139.5,2,   11.94,2,   22.55,2,    0.02,2,    1.40,2,  10.5942
33AT20060118,  CLIMODE-2,      26,          1,          1,         25,2,20060124,       0357,  36.939167,-65.9770000,          0,  1008.3,   7.9023,  35.1139,2,  35.1116,2, 162.5000,2,   161.8,2,   14.49,2,   23.66,2,    0.01,2,    1.53,2,   7.7955