BOTTLE,20120918SIOCCHMYS
EXPOCODE,SECT_ID,STNNBR,CASTNO,SAMPNO,BTLNBR,BTLNBR_FLAG_W,DATE,TIME,LATITUDE,LONGITUDE,DEPTH,CTDPRS,CTDTMP,CTDSAL,CTDSAL_FLAG_W,SALNTY,SALNTY_FLAG_W,CTDOXY,CTDOXY_FLAG_W,OXYGEN,OXYGEN_FLAG_W,SILCAT,SILCAT_FLAG_W,NITRAT,NITRAT_FLAG_W,NITRIT,NITRIT_FLAG_W,PHSPHT,PHSPHT_FLAG_W,THETA
,,,,,,,,,,,,DBAR,ITS-90,PSS-78,,PSS-78,,UMOL/KG,,UMOL/KG,,UMOL/KG,,UMOL/KG,,UMOL/KG,,UMOL/KG,,DEG C
33AT20060118,  CLIMODE-2,      21,          1,         20,         20,2,20060123,       0535,  38.024000,-67.4286667,          0,     2.6,  21.1043,  36.4529,2,  36.4523,2, 209.9000,2,   211.8,2,    0.87,2,    1.06,2,    0.17,2,    0.09,2,  21.1038
33AT20060118,  CLIMODE-2,      21,          1,         19,         28,2,20060123,       0535,  38.024000,-67.4286667,          0,    25.1,  20.4713,  36.3230,2,  36.3465,2, 212.4000,2,   212.3,2,    0.86,2,    1.33,2,    0.20,2,    0.10,2,  20.4665
33AT20060118,  CLIMODE-2,      21,          1,         18,         18,2,20060123,       0535,  38.024000,-67.4286667,          0,    50.8,  18.1849,  35.8921,2,  35.8961,2, 219.9000,2,   219.8,2,    1.40,2,    2.76,2,    0.43,2,    0.22,2,  18.1761
33AT20060118,  CLIMODE-2,      21,          1,         17,         17,2,20060123,       0535,  38.024000,-67.4286667,          0,    75.5,  18.7654,  36.1333,2,  36.1401,2, 214.2000,2,   213.3,2,    1.38,2,    3.02,2,    0.47,2,    0.21,2,  18.7520
33AT20060118,  CLIMODE-2,      21,          1,         16,         16,2,20060123,       0535,  38.024000,-67.4286667,          0,   101.9,  18.5716,  36.1030,2,  36.1057,2, 214.5000,2,   214.4,2,    1.47,2,    3.11,2,    0.43,2,    0.21,2,  18.5537
33AT20060118,  CLIMODE-2,      21,          1,         15,         15,2,20060123,       0535,  38.024000,-67.4286667,          0,   126.0,  18.4636,  36.1677,2,  36.1644,2, 196.5000,2,   196.7,2,    2.01,2,    4.79,2,    0.37,2,    0.30,2,  18.4415
33AT20060118,  CLIMODE-2,      21,          1,         14,         14,2,20060123,       0535,  38.024000,-67.4286667,          0,   152.1,  18.1484,  36.2630,2,  36.2580,2, 179.6000,2,   178.2,2,    2.56,2,    7.00,2,    0.22,2,    0.40,2,  18.1219
33AT20060118,  CLIMODE-2,      21,          1,         13,         13,2,20060123,       0535,  38.024000,-67.4286667,          0,   201.8,  16.7152,  36.2995,2,  36.3010,2, 172.2000,2,   172.4,2,    2.76,2,    9.17,2,    0.01,2,    0.50,2,  16.6820
33AT20060118,  CLIMODE-2,      21,          1,         12,         12,2,20060123,       0535,  38.024000,-67.4286667,          0,   251.2,  14.2361,  35.7442,2,  35.7685,2, 156.7000,2,   156.1,2,    5.85,2,   14.06,2,    0.01,2,    0.84,2,  14.1991
33AT20060118,  CLIMODE-2,      21,          1,         11,         11,2,20060123,       0535,  38.024000,-67.4286667,          0,   301.6,  12.6494,  35.5893,2,  35.5786,2, 143.1000,2,   142.7,2,    8.73,2,   18.65,2,    0.02,2,    1.14,2,  12.6083
33AT20060118,  CLIMODE-2,      21,          1,         10,         10,2,20060123,       0535,  38.024000,-67.4286667,          0,   352.5,  11.5000,  35.4646,2,  35.4626,2, 131.8000,2,   132.7,2,   10.82,2,   21.93,2,    0.01,2,    1.35,2,  11.4547
33AT20060118,  CLIMODE-2,      21,          1,          9,         09,2,20060123,       0535,  38.024000,-67.4286667,          0,   404.5,  10.3342,  35.3143,2,  35.3214,2, 130.0000,2,   129.9,2,   13.03,2,   24.18,2,    0.01,2,    1.50,2,  10.2856
33AT20060118,  CLIMODE-2,      21,          1,          8,         08,2,20060123,       0535,  38.024000,-67.4286667,          0,   456.1,   9.2229,  35.1996,2,  35.2004,2, 134.7000,2,   134.8,2,   14.68,2,   25.37,2,    0.01,2,    1.60,2,   9.1717
33AT20060118,  CLIMODE-2,      21,          1,          7,         07,2,20060123,       0535,  38.024000,-67.4286667,          0,   509.0,   8.2781,  35.1408,2,  35.1402,2, 150.1000,2,   149.4,2,   14.90,2,   24.87,2,    0.01,2,    1.57,2,   8.2244
33AT20060118,  CLIMODE-2,      21,          1,          6,         06,2,20060123,       0535,  38.024000,-67.4286667,          0,   561.0,   7.2743,  35.1016,2,  35.1002,2, 172.6000,2,   173.3,2,   14.44,2,   23.33,2,    0.00,2,    1.49,2,   7.2191
33AT20060118,  CLIMODE-2,      21,          1,          5,         27,4,20060123,       0535,  38.024000,-67.4286667,          0,   613.6,   6.2871,  35.0604,2,  35.3287,4, 195.7000,2,   182.7,4,   11.64,4,   19.27,4,    0.04,4,    1.22,4,   6.2311
33AT20060118,  CLIMODE-2,      21,          1,          4,         04,2,20060123,       0535,  38.024000,-67.4286667,          0,   708.8,   5.4605,  35.0245,2,  35.0246,2, 221.9000,2,   221.3,2,   12.63,2,   19.85,2,    0.00,2,    1.30,2,   5.3999
33AT20060118,  CLIMODE-2,      21,          1,          3,         26,2,20060123,       0535,  38.024000,-67.4286667,          0,   808.1,   5.0041,  35.0129,2,  35.0128,2, 234.7000,2,   235.6,2,   12.06,2,   19.00,2,    0.00,2,    1.25,2,   4.9372
33AT20060118,  CLIMODE-2,      21,          1,          2,         02,2,20060123,       0535,  38.024000,-67.4286667,          0,   907.3,   4.6826,  34.9952,2,  34.9949,2, 245.7000,2,   245.3,2,   11.71,2,   18.45,2,    0.00,2,    1.21,2,   4.6091
33AT20060118,  CLIMODE-2,      21,          1,          1,         25,2,20060123,       0535,  38.024000,-67.4286667,          0,  1000.9,   4.3703,  34.9709,2,  34.9705,2, 254.7000,2,   255.0,2,   11.37,2,   17.96,2,    0.01,2,    1.18,2,   4.2909
33AT20060118,  CLIMODE-2,      22,          1,         20,         20,2,20060123,       0819,  38.131333,-67.2813333,          0,     1.9,  13.3476,  34.8960,2,  34.8966,2, 249.2000,2,   251.6,2,    2.00,2,    3.79,2,    0.15,2,    0.35,2,  13.3473
33AT20060118,  CLIMODE-2,      22,          1,         19,         28,2,20060123,       0819,  38.131333,-67.2813333,          0,    27.2,  13.2249,  34.8792,2,  34.8783,2, 249.3000,2,   250.6,2,    2.22,2,    4.09,2,    0.15,2,    0.36,2,  13.2211
33AT20060118,  CLIMODE-2,      22,          1,         18,         18,2,20060123,       0819,  38.131333,-67.2813333,          0,    50.6,  12.9916,  34.8339,2,  34.8335,2, 248.2000,2,   248.8,2,    2.32,2,    4.44,2,    0.14,2,    0.38,2,  12.9847
33AT20060118,  CLIMODE-2,      22,          1,         17,         17,2,20060123,       0819,  38.131333,-67.2813333,          0,    77.7,  13.0117,  34.8529,2,  34.8477,2, 246.6000,2,   245.8,2,    2.41,2,    4.70,2,    0.12,2,    0.40,2,  13.0010
33AT20060118,  CLIMODE-2,      22,          1,         16,         16,2,20060123,       0819,  38.131333,-67.2813333,          0,   101.7,  13.1233,  34.9132,2,  34.9114,2, 245.0000,2,   244.6,2,    2.51,2,    4.84,2,    0.13,2,    0.40,2,  13.1092
33AT20060118,  CLIMODE-2,      22,          1,         15,         15,2,20060123,       0819,  38.131333,-67.2813333,          0,   127.0,  13.4643,  35.0530,2,  35.0518,2, 244.1000,2,   222.3,2,    3.39,2,    6.73,2,    0.06,2,    0.50,2,  13.4464
33AT20060118,  CLIMODE-2,      22,          1,         14,         14,2,20060123,       0819,  38.131333,-67.2813333,          0,   151.2,  14.0578,  35.4753,2,  35.4685,2, 181.0000,2,   180.9,2,    5.04,2,   11.25,2,    0.03,2,    0.72,2,  14.0358
33AT20060118,  CLIMODE-2,      22,          1,         13,         13,2,20060123,       0819,  38.131333,-67.2813333,          0,   177.7,  13.6076,  35.6948,2,  35.6939,2, 147.1000,2,   146.8,2,    7.13,2,   16.40,2,    0.01,2,    1.00,2,  13.5823
33AT20060118,  CLIMODE-2,      22,          1,         12,         12,2,20060123,       0819,  38.131333,-67.2813333,          0,   225.6,  12.0166,  35.5242,2,  35.5254,2, 139.5000,2,   139.5,2,    9.34,2,   20.06,2,    0.01,2,    1.23,2,  11.9869
33AT20060118,  CLIMODE-2,      22,          1,         11,         11,2,20060123,       0819,  38.131333,-67.2813333,          0,   276.6,  10.6147,  35.3545,2,  35.3542,2, 131.7000,2,   130.9,2,   12.22,2,   23.49,2,    0.01,2,    1.46,2,  10.5811
33AT20060118,  CLIMODE-2,      22,          1,         10,         10,2,20060123,       0819,  38.131333,-67.2813333,          0,   328.0,   9.2411,  35.1853,2,  35.1840,2, 130.8000,2,   130.5,2,   15.42,2,   25.99,2,    0.01,2,    1.65,2,   9.2045
33AT20060118,  CLIMODE-2,      22,          1,          9,         09,2,20060123,       0819,  38.131333,-67.2813333,          0,   377.5,   8.6041,  35.1564,2,  35.1559,2, 146.0000,2,   144.4,2,   14.75,2,   24.93,2,    0.01,2,    1.58,2,   8.5636
33AT20060118,  CLIMODE-2,      22,          1,          8,         08,2,20060123,       0819,  38.131333,-67.2813333,          0,   427.7,   7.6427,  35.0928,2,  35.0954,2, 164.1000,2,   166.3,2,   13.96,2,   23.29,2,    0.00,2,    1.50,2,   7.5998
33AT20060118,  CLIMODE-2,      22,          1,          7,         07,2,20060123,       0819,  38.131333,-67.2813333,          0,   479.0,   6.6730,  35.0520,2,  35.0525,2, 187.4000,2,   187.7,2,   13.50,2,   21.95,2,    0.00,2,    1.43,2,   6.6283
33AT20060118,  CLIMODE-2,      22,          1,          6,         06,2,20060123,       0819,  38.131333,-67.2813333,          0,   530.0,   6.1215,  35.0556,2,  35.0555,2, 201.0000,2,   201.0,2,   13.38,2,   21.14,2,    0.00,2,    1.38,2,   6.0742
33AT20060118,  CLIMODE-2,      22,          1,          5,         27,4,20060123,       0819,  38.131333,-67.2813333,          0,   581.5,   5.5827,  35.0293,2,  35.0365,2, 216.1000,2,   214.5,2,   12.82,2,   20.20,2,    0.00,2,    1.32,2,   5.5329
33AT20060118,  CLIMODE-2,      22,          1,          4,         04,2,20060123,       0819,  38.131333,-67.2813333,          0,   682.0,   5.1165,  35.0193,2,  35.0202,2, 231.7000,2,   230.5,2,   12.25,2,   19.20,2,    0.00,2,    1.27,2,   5.0601
33AT20060118,  CLIMODE-2,      22,          1,          3,         26,2,20060123,       0819,  38.131333,-67.2813333,          0,   780.2,   4.7531,  35.0064,2,  35.0082,2, 242.2000,2,   242.8,2,   11.91,2,   18.51,2,    0.00,2,    1.22,2,   4.6902
33AT20060118,  CLIMODE-2,      22,          1,          2,         02,2,20060123,       0819,  38.131333,-67.2813333,          0,   880.9,   4.5385,  34.9950,2,  34.9966,2, 249.1000,2,   248.6,2,   11.78,2,   18.25,2,    0.00,2,    1.20,2,   4.4683
33AT20060118,  CLIMODE-2,      22,          1,          1,         25,2,20060123,       0819,  38.131333,-67.2813333,          0,  1011.4,   4.2488,  34.9736,2,  34.9750,2, 256.7000,2,   256.5,2,   11.56,2,   17.95,2,    0.00,2,    1.18,2,   4.1695
33AT20060118,  CLIMODE-2,      23,          1,         20,         20,2,20060123,       1041,  38.240667,-67.1310000,          0,     1.6,  14.0600,  34.9642,2,  34.9615,2, 245.6000,2,   245.4,2,    1.81,2,    3.66,2,    0.13,2,    0.32,2,  14.0598
33AT20060118,  CLIMODE-2,      23,          1,         19,         28,2,20060123,       1041,  38.240667,-67.1310000,          0,    27.8,  14.0761,  34.9644,2,  34.9620,2, 245.2000,2,   245.2,2,    1.78,2,    3.67,2,    0.12,2,    0.31,2,  14.0721
33AT20060118,  CLIMODE-2,      23,          1,         18,         18,2,20060123,       1041,  38.240667,-67.1310000,          0,    50.6,  14.0797,  34.9644,2,  34.9616,2, 246.5000,2,   246.0,2,    1.75,2,    3.67,2,    0.13,2,    0.32,2,  14.0723
33AT20060118,  CLIMODE-2,      23,          1,         17,         17,2,20060123,       1041,  38.240667,-67.1310000,          0,    75.3,  14.0829,  34.9643,2,  34.9614,2, 246.6000,2,   245.9,2,    1.88,2,    3.66,2,    0.13,2,    0.31,2,  14.0720
33AT20060118,  CLIMODE-2,      23,          1,         16,         16,2,20060123,       1041,  38.240667,-67.1310000,          0,   101.2,  14.2358,  35.0164,2,  35.0065,2, 240.6000,2,   240.1,2,    1.95,2,    4.07,2,    0.11,2,    0.33,2,  14.2211
33AT20060118,  CLIMODE-2,      23,          1,         15,         15,2,20060123,       1041,  38.240667,-67.1310000,          0,   125.4,  14.0793,  35.6651,2,  35.6593,2, 155.6000,2,   155.3,2,    5.61,2,   14.35,2,    0.01,2,    0.87,2,  14.0610
33AT20060118,  CLIMODE-2,      23,          1,         14,         14,2,20060123,       1041,  38.240667,-67.1310000,          0,   152.1,  13.0868,  35.6424,2,  35.6444,2, 149.7000,2,   147.5,2,    7.24,2,   17.33,2,    0.01,2,    1.05,2,  13.0657
33AT20060118,  CLIMODE-2,      23,          1,         13,         13,2,20060123,       1041,  38.240667,-67.1310000,          0,   201.8,  11.6715,  35.4895,2,  35.4885,2, 136.6000,2,   134.1,2,   10.21,2,   21.61,2,    0.01,2,    1.32,2,  11.6455
33AT20060118,  CLIMODE-2,      23,          1,         12,         12,2,20060123,       1041,  38.240667,-67.1310000,          0,   252.3,  10.0636,  35.2932,2,  35.2921,2, 131.4000,2,   132.9,2,   13.06,2,   24.37,2,    0.01,2,    1.51,2,  10.0340
33AT20060118,  CLIMODE-2,      23,          1,         11,         11,2,20060123,       1041,  38.240667,-67.1310000,          0,   303.1,   9.0632,  35.1870,2,  35.1921,2, 137.9000,2,   135.5,2,   14.37,2,   25.34,2,    0.01,2,    1.59,2,   9.0298
33AT20060118,  CLIMODE-2,      23,          1,         10,         10,2,20060123,       1041,  38.240667,-67.1310000,          0,   353.5,   7.9388,  35.1216,2,  35.1222,2, 152.7000,2,   156.6,2,   14.56,2,   24.40,2,    0.01,2,    1.56,2,   7.9027
33AT20060118,  CLIMODE-2,      23,          1,          9,         09,2,20060123,       1041,  38.240667,-67.1310000,          0,   404.0,   7.0655,  35.0915,2,  35.0913,2, 180.6000,2,   177.8,2,   13.87,2,   22.86,2,    0.00,2,    1.47,2,   7.0268
33AT20060118,  CLIMODE-2,      23,          1,          8,         08,2,20060123,       1041,  38.240667,-67.1310000,          0,   453.4,   6.3333,  35.0600,2,  35.0598,2, 198.0000,2,   195.6,2,   13.40,2,   21.71,2,    0.00,2,    1.40,2,   6.2923
33AT20060118,  CLIMODE-2,      23,          1,          7,         07,2,20060123,       1041,  38.240667,-67.1310000,          0,   505.1,   5.7631,  35.0462,2,  35.0459,2, 216.2000,2,   219.4,2,   12.69,2,   20.43,2,    0.00,2,    1.33,2,   5.7195
33AT20060118,  CLIMODE-2,      23,          1,          6,         06,2,20060123,       1041,  38.240667,-67.1310000,          0,   556.0,   5.3308,  35.0271,2,  35.0276,2, 225.6000,2,   225.0,2,   12.33,2,   19.59,2,    0.00,2,    1.28,2,   5.2844
33AT20060118,  CLIMODE-2,      23,          1,          5,         27,2,20060123,       1041,  38.240667,-67.1310000,          0,   607.3,   5.1474,  35.0195,2,  35.0198,2, 234.6000,2,   230.2,2,   11.97,2,   19.35,2,    0.00,2,    1.26,2,   5.0973
33AT20060118,  CLIMODE-2,      23,          1,          4,         04,2,20060123,       1041,  38.240667,-67.1310000,          0,   710.1,   4.8072,  35.0088,2,  35.0086,2, 240.9000,2,   240.8,2,   11.72,2,   18.86,2,    0.00,2,    1.22,2,   4.7500
33AT20060118,  CLIMODE-2,      23,          1,          3,         26,2,20060123,       1041,  38.240667,-67.1310000,          0,   809.2,   4.5452,  34.9950,2,  34.9956,2, 247.9000,2,   248.5,2,   11.58,2,   18.31,2,    0.00,2,    1.20,2,   4.4811
33AT20060118,  CLIMODE-2,      23,          1,          2,         02,2,20060123,       1041,  38.240667,-67.1310000,          0,   908.4,   4.3462,  34.9835,2,  34.9844,2, 253.7000,2,   252.9,2,   11.55,2,   18.23,2,    0.00,2,    1.19,2,   4.2750
33AT20060118,  CLIMODE-2,      23,          1,          1,         25,2,20060123,       1041,  38.240667,-67.1310000,          0,  1009.3,   4.1568,  34.9711,2,  34.9716,2, 257.9000,2,   257.5,2,   11.52,2,   18.08,2,    0.00,2,    1.18,2,   4.0784