BOTTLE,20120918SIOCCHMYS
EXPOCODE,SECT_ID,STNNBR,CASTNO,SAMPNO,BTLNBR,BTLNBR_FLAG_W,DATE,TIME,LATITUDE,LONGITUDE,DEPTH,CTDPRS,CTDTMP,CTDSAL,CTDSAL_FLAG_W,SALNTY,SALNTY_FLAG_W,CTDOXY,CTDOXY_FLAG_W,OXYGEN,OXYGEN_FLAG_W,SILCAT,SILCAT_FLAG_W,NITRAT,NITRAT_FLAG_W,NITRIT,NITRIT_FLAG_W,PHSPHT,PHSPHT_FLAG_W,THETA
,,,,,,,,,,,,DBAR,ITS-90,PSS-78,,PSS-78,,UMOL/KG,,UMOL/KG,,UMOL/KG,,UMOL/KG,,UMOL/KG,,UMOL/KG,,DEG C
33AT20060118,  CLIMODE-2,      15,          1,         20,         20,2,20060122,       1510,  37.390500,-68.3518333,          0,     2.6,  19.9654,  36.6656,2,  36.6665,2, 218.4000,2,   217.2,2,    0.72,2,    0.55,2,    0.15,2,    0.03,2,  19.9649
33AT20060118,  CLIMODE-2,      15,          1,         19,         28,2,20060122,       1510,  37.390500,-68.3518333,          0,    25.9,  19.9792,  36.6669,2,  36.6661,2, 218.9000,2,   216.8,2,    0.70,2,    0.55,2,    0.15,2,    0.03,2,  19.9744
33AT20060118,  CLIMODE-2,      15,          1,         18,         18,2,20060122,       1510,  37.390500,-68.3518333,          0,    50.5,  19.9823,  36.6665,2,  36.6660,2, 217.7000,2,   217.3,2,    0.68,2,    0.55,2,    0.15,2,    0.03,2,  19.9729
33AT20060118,  CLIMODE-2,      15,          1,         17,         17,2,20060122,       1510,  37.390500,-68.3518333,          0,    75.8,  19.9869,  36.6670,2,  36.6682,2, 217.8000,2,   217.4,2,    0.66,2,    0.55,2,    0.15,2,    0.03,2,  19.9728
33AT20060118,  CLIMODE-2,      15,          1,         16,         16,2,20060122,       1510,  37.390500,-68.3518333,          0,   100.6,  19.9917,  36.6665,2,  36.6662,2, 218.4000,2,   216.3,2,    0.76,2,    0.55,2,    0.15,2,    0.03,2,  19.9730
33AT20060118,  CLIMODE-2,      15,          1,         15,         15,2,20060122,       1510,  37.390500,-68.3518333,          0,   125.3,  19.9921,  36.6698,2,  36.6700,2, 216.7000,2,   222.5,2,    0.62,2,    0.69,2,    0.15,2,    0.03,2,  19.9688
33AT20060118,  CLIMODE-2,      15,          1,         14,         14,2,20060122,       1510,  37.390500,-68.3518333,          0,   151.9,  19.8592,  36.6793,2,  36.6775,2, 210.0000,2,   208.5,2,    0.72,2,    1.16,2,    0.11,2,    0.05,2,  19.8310
33AT20060118,  CLIMODE-2,      15,          1,         13,         13,2,20060122,       1510,  37.390500,-68.3518333,          0,   200.5,  19.0277,  36.6572,2,  36.6566,2, 199.8000,2,   199.0,2,    0.92,2,    2.66,2,    0.01,2,    0.10,2,  18.9915
33AT20060118,  CLIMODE-2,      15,          1,         12,         12,2,20060122,       1510,  37.390500,-68.3518333,          0,   251.3,  18.7463,  36.6303,2,  36.6283,2, 202.5000,2,   199.3,2, -999.00,1, -999.00,1, -999.00,1, -999.00,1,  18.7014
33AT20060118,  CLIMODE-2,      15,          1,         11,         11,2,20060122,       1510,  37.390500,-68.3518333,          0,   302.3,  18.5477,  36.6210,2,  36.6193,2, 203.8000,2,   203.7,2,    1.22,2,    3.29,2,    0.01,2,    0.14,2,  18.4940
33AT20060118,  CLIMODE-2,      15,          1,         10,         10,2,20060122,       1510,  37.390500,-68.3518333,          0,   353.1,  18.3986,  36.6056,2,  36.6042,2, 204.8000,2,   204.5,2,    1.20,2,    3.53,2,    0.01,2,    0.16,2,  18.3362
33AT20060118,  CLIMODE-2,      15,          1,          9,         09,2,20060122,       1510,  37.390500,-68.3518333,          0,   402.5,  18.2475,  36.5859,2,  36.5850,2, 205.4000,2,   204.8,2,    1.29,2,    3.78,2,    0.01,2,    0.17,2,  18.1766
33AT20060118,  CLIMODE-2,      15,          1,          8,         08,2,20060122,       1510,  37.390500,-68.3518333,          0,   421.0,  18.1863,  36.5788,2,  36.5774,2, 205.6000,2,   205.1,2,    1.27,2,    3.83,2,    0.01,2,    0.18,2,  18.1124
33AT20060118,  CLIMODE-2,      15,          1,          7,         07,2,20060122,       1510,  37.390500,-68.3518333,          0,   504.8,  17.6011,  36.4662,2,  36.4661,2, 193.5000,2,   193.3,2,    1.90,2,    5.85,2,    0.01,2,    0.29,2,  17.5143
33AT20060118,  CLIMODE-2,      15,          1,          6,         06,2,20060122,       1510,  37.390500,-68.3518333,          0,   551.0,  16.7977,  36.3147,2,  36.3177,2, 180.2000,2,   179.4,2,    2.75,2,    8.37,2,    0.00,2,    0.45,2,  16.7059
33AT20060118,  CLIMODE-2,      15,          1,          5,         27,2,20060122,       1510,  37.390500,-68.3518333,          0,   604.7,  15.7874,  36.1312,2,  36.1358,2, 167.4000,2,   165.1,2,    4.03,2,   11.47,2,    0.00,2,    0.64,2,  15.6907
33AT20060118,  CLIMODE-2,      15,          1,          4,         04,2,20060122,       1510,  37.390500,-68.3518333,          0,   705.3,  13.9131,  35.8330,2,  35.8314,2, 164.8000,2,   165.2,2,    5.96,2,   14.42,2,    0.00,2,    0.85,2,  13.8091
33AT20060118,  CLIMODE-2,      15,          1,          3,         26,2,20060122,       1510,  37.390500,-68.3518333,          0,   805.8,  12.0510,  35.5577,2,  35.5589,2, 150.8000,2,   153.1,2,    8.96,2,   18.55,2,    0.00,2,    1.13,2,  11.9423
33AT20060118,  CLIMODE-2,      15,          1,          2,         02,2,20060122,       1510,  37.390500,-68.3518333,          0,   909.5,   9.5778,  35.2585,2,  35.2641,2, 145.4000,2,   144.6,2,   14.77,2,   23.01,2,    0.00,2,    1.49,2,   9.4709
33AT20060118,  CLIMODE-2,      15,          1,          1,         25,2,20060122,       1510,  37.390500,-68.3518333,          0,  1007.4,   7.5859,  35.1077,2,  35.1075,2, 168.9000,2,   168.5,2,   14.74,2,   23.02,2,    0.00,2,    1.49,2,   7.4816
33AT20060118,  CLIMODE-2,      16,          1,         20,         20,2,20060122,       1734,  37.495667,-68.2013333,          0,     2.1,  20.0680,  36.6561,2,  36.6599,2, 218.2000,2,   219.5,2,    0.65,2,    0.49,2,    0.21,2,    0.03,2,  20.0676
33AT20060118,  CLIMODE-2,      16,          1,         19,         28,2,20060122,       1734,  37.495667,-68.2013333,          0,    25.6,  20.0871,  36.6555,2,  36.6623,2, 218.3000,2,   216.5,2,    0.64,2,    0.49,2,    0.21,2,    0.03,2,  20.0823
33AT20060118,  CLIMODE-2,      16,          1,         18,         18,2,20060122,       1734,  37.495667,-68.2013333,          0,    50.0,  20.0852,  36.6559,2,  36.6553,2, 218.1000,2,   217.7,2,    0.62,2,    0.50,2,    0.21,2,    0.03,2,  20.0759
33AT20060118,  CLIMODE-2,      16,          1,         17,         17,2,20060122,       1734,  37.495667,-68.2013333,          0,    75.4,  20.0913,  36.6558,2,  36.6555,2, 218.6000,2,   218.1,2,    0.61,2,    0.46,2,    0.20,2,    0.03,2,  20.0772
33AT20060118,  CLIMODE-2,      16,          1,         16,         16,2,20060122,       1734,  37.495667,-68.2013333,          0,   101.3,  20.0980,  36.6557,2,  36.6545,2, 217.9000,2,   216.9,2,    0.60,2,    0.50,2,    0.20,2,    0.03,2,  20.0791
33AT20060118,  CLIMODE-2,      16,          1,         15,         15,2,20060122,       1734,  37.495667,-68.2013333,          0,   127.0,  20.0914,  36.6563,2,  36.6553,2, 217.5000,2,   216.6,2,    0.58,2,    0.50,2,    0.21,2,    0.03,2,  20.0677
33AT20060118,  CLIMODE-2,      16,          1,         14,         14,2,20060122,       1734,  37.495667,-68.2013333,          0,   153.6,  20.0663,  36.6584,2,  36.6574,2, 216.6000,2,   215.9,2,    0.57,2,    0.55,2,    0.21,2,    0.03,2,  20.0376
33AT20060118,  CLIMODE-2,      16,          1,         13,         13,2,20060122,       1734,  37.495667,-68.2013333,          0,   176.9,  19.9928,  36.6616,2,  36.6602,2, 218.0000,2,   216.6,2,    0.66,2,    0.50,2,    0.21,2,    0.03,2,  19.9598
33AT20060118,  CLIMODE-2,      16,          1,         12,         12,2,20060122,       1734,  37.495667,-68.2013333,          0,   225.1,  19.6349,  36.6785,2,  36.6770,2, 205.9000,2,   204.4,2,    0.76,2,    1.61,2,    0.08,2,    0.07,2,  19.5934
33AT20060118,  CLIMODE-2,      16,          1,         11,         11,2,20060122,       1734,  37.495667,-68.2013333,          0,   275.3,  18.8490,  36.6435,2,  36.6429,2, 202.6000,2,   201.5,2,    0.97,2,    2.94,2,    0.01,2,    0.12,2,  18.7997
33AT20060118,  CLIMODE-2,      16,          1,         10,         10,2,20060122,       1734,  37.495667,-68.2013333,          0,   327.3,  18.5774,  36.6270,2,  36.6272,2, 204.5000,2,   204.4,2,    1.06,2,    3.19,2,    0.01,2,    0.14,2,  18.5192
33AT20060118,  CLIMODE-2,      16,          1,          9,         09,2,20060122,       1734,  37.495667,-68.2013333,          0,   376.6,  18.4131,  36.6030,2,  36.6020,2, 203.3000,2,   203.4,2,    1.04,2,    3.58,2,    0.01,2,    0.16,2,  18.3464
33AT20060118,  CLIMODE-2,      16,          1,          8,         08,2,20060122,       1734,  37.495667,-68.2013333,          0,   429.3,  18.1952,  36.5770,2,  36.5768,2, 204.5000,2,   204.4,2,    1.26,2,    3.92,2,    0.01,2,    0.18,2,  18.1197
33AT20060118,  CLIMODE-2,      16,          1,          7,         07,2,20060122,       1734,  37.495667,-68.2013333,          0,   477.6,  17.8560,  36.5169,2,  36.5192,2, 198.8000,2,   199.2,2,    1.46,2,    4.95,2,    0.01,2,    0.23,2,  17.7731
33AT20060118,  CLIMODE-2,      16,          1,          6,         06,2,20060122,       1734,  37.495667,-68.2013333,          0,   529.6,  16.9929,  36.3536,2,  36.3545,2, 184.9000,2,   184.8,2,    2.35,2,    7.68,2,    0.00,2,    0.39,2,  16.9040
33AT20060118,  CLIMODE-2,      16,          1,          5,         27,2,20060122,       1734,  37.495667,-68.2013333,          0,   580.2,  16.2103,  36.2185,2,  36.2207,2, 182.8000,2,   182.5,2,    3.01,2,    9.16,2,    0.00,2,    0.50,2,  16.1158
33AT20060118,  CLIMODE-2,      16,          1,          4,         04,2,20060122,       1734,  37.495667,-68.2013333,          0,   681.4,  14.3908,  35.9096,2,  35.9104,2, 168.3000,2,   168.0,2,    5.13,2,   13.47,2,    0.00,2,    0.77,2,  14.2881
33AT20060118,  CLIMODE-2,      16,          1,          3,         26,2,20060122,       1734,  37.495667,-68.2013333,          0,   781.8,  12.3316,  35.5946,2,  35.5913,2, 152.6000,2,   150.7,2,    8.60,2,   18.58,2,    0.00,2,    1.12,2,  12.2248
33AT20060118,  CLIMODE-2,      16,          1,          2,         02,2,20060122,       1734,  37.495667,-68.2013333,          0,   882.4,   9.5895,  35.2401,2,  35.2405,2, 138.1000,2,   139.0,2,   14.08,2,   24.31,2,    0.00,2,    1.53,2,   9.4859
33AT20060118,  CLIMODE-2,      16,          1,          1,         25,2,20060122,       1734,  37.495667,-68.2013333,          0,  1007.0,   7.1230,  35.0864,2,  35.0835,2, 175.4000,2,   175.2,2,   14.85,2,   23.23,2,    0.00,2,    1.50,2,   7.0221
33AT20060118,  CLIMODE-2,      17,          1,         20,         20,2,20060122,       1958,  37.602167,-68.0483333,          0,     2.0,  20.0412,  36.6551,2,  36.6556,2, 220.0000,2,   218.7,2,    0.60,2,    0.46,2,    0.19,2,    0.03,2,  20.0409
33AT20060118,  CLIMODE-2,      17,          1,         19,         28,2,20060122,       1958,  37.602167,-68.0483333,          0,    27.8,  20.0569,  36.6573,2,  36.6572,2, 219.0000,2,   217.4,2,    0.59,2,    0.44,2,    0.21,2,    0.03,2,  20.0517
33AT20060118,  CLIMODE-2,      17,          1,         18,         18,2,20060122,       1958,  37.602167,-68.0483333,          0,    50.1,  20.0567,  36.6569,2,  36.6550,2, 218.5000,2,   218.6,2,    0.46,2,    0.46,2,    0.19,2,    0.03,2,  20.0473
33AT20060118,  CLIMODE-2,      17,          1,         17,         17,2,20060122,       1958,  37.602167,-68.0483333,          0,    73.9,  20.0588,  36.6596,2,  36.6597,2, 218.3000,2,   217.8,2,    0.46,2,    0.49,2,    0.22,2,    0.03,2,  20.0450
33AT20060118,  CLIMODE-2,      17,          1,         16,         16,2,20060122,       1958,  37.602167,-68.0483333,          0,   101.1,  20.0581,  36.6613,2,  36.6615,2, 217.3000,2,   216.5,2,    0.56,2,    0.48,2,    0.22,2,    0.03,2,  20.0392
33AT20060118,  CLIMODE-2,      17,          1,         15,         15,2,20060122,       1958,  37.602167,-68.0483333,          0,   127.5,  20.0598,  36.6619,2,  36.6625,2, 216.9000,2,   216.1,2,    0.55,2,    0.53,2,    0.23,2,    0.03,2,  20.0359
33AT20060118,  CLIMODE-2,      17,          1,         14,         14,2,20060122,       1958,  37.602167,-68.0483333,          0,   152.9,  20.0367,  36.6632,2,  36.6633,2, 216.7000,2,   216.4,2,    0.54,2,    0.54,2,    0.22,2,    0.03,2,  20.0081
33AT20060118,  CLIMODE-2,      17,          1,         13,         13,2,20060122,       1958,  37.602167,-68.0483333,          0,   201.9,  19.7719,  36.6678,2,  36.6680,2, 212.5000,2,   212.1,2,    0.64,2,    0.89,2,    0.15,2,    0.04,2,  19.7345
33AT20060118,  CLIMODE-2,      17,          1,         12,         12,2,20060122,       1958,  37.602167,-68.0483333,          0,   251.8,  19.0029,  36.6573,2,  36.6581,2, 201.2000,2,   200.3,2,    0.86,2,    2.60,2,    0.01,2,    0.11,2,  18.9575
33AT20060118,  CLIMODE-2,      17,          1,         11,         11,2,20060122,       1958,  37.602167,-68.0483333,          0,   301.2,  18.6253,  36.6242,2,  36.6240,2, 202.4000,2,   202.5,2,    1.06,2,    3.23,2,    0.01,2,    0.15,2,  18.5716
33AT20060118,  CLIMODE-2,      17,          1,         10,         10,2,20060122,       1958,  37.602167,-68.0483333,          0,   352.5,  18.3751,  36.5954,2,  36.5938,2, 202.1000,2,   201.3,2,    1.17,2,    3.77,2,    0.01,2,    0.17,2,  18.3129
33AT20060118,  CLIMODE-2,      17,          1,          9,         09,2,20060122,       1958,  37.602167,-68.0483333,          0,   404.4,  18.1750,  36.5726,2,  36.5708,2, 203.3000,2,   202.2,2,    1.27,2,    4.06,2,    0.01,2,    0.19,2,  18.1040
33AT20060118,  CLIMODE-2,      17,          1,          8,         08,2,20060122,       1958,  37.602167,-68.0483333,          0,   455.6,  17.9626,  36.5382,2,  36.5383,2, 202.0000,2,   201.5,2,    1.38,2,    4.51,2,    0.01,2,    0.21,2,  17.8832
33AT20060118,  CLIMODE-2,      17,          1,          7,         07,2,20060122,       1958,  37.602167,-68.0483333,          0,   503.5,  17.4052,  36.4297,2,  36.4323,2, 191.1000,2,   190.9,2,    1.82,2,    6.36,2,    0.00,2,    0.32,2,  17.3193
33AT20060118,  CLIMODE-2,      17,          1,          6,         06,2,20060122,       1958,  37.602167,-68.0483333,          0,   554.8,  16.6770,  36.2963,2,  36.2959,2, 182.7000,2,   182.2,2,    2.47,2,    8.38,2,    0.00,2,    0.44,2,  16.5849
33AT20060118,  CLIMODE-2,      17,          1,          5,         27,2,20060122,       1958,  37.602167,-68.0483333,          0,   604.5,  15.6497,  36.1223,2,  36.1239,2, 179.2000,2,   179.1,2,    3.48,2,   10.44,2,    0.00,2,    0.58,2,  15.5536
33AT20060118,  CLIMODE-2,      17,          1,          4,         04,2,20060122,       1958,  37.602167,-68.0483333,          0,   704.9,  13.3459,  35.7426,2,  35.7420,2, 158.3000,2,   157.9,2,    6.70,2,   16.28,2,    0.00,2,    0.96,2,  13.2448
33AT20060118,  CLIMODE-2,      17,          1,          3,         26,2,20060122,       1958,  37.602167,-68.0483333,          0,   805.1,  10.8168,  35.3969,2,  35.3963,2, 145.9000,2,   145.9,2,   11.06,2,   21.68,2,    0.00,2,    1.33,2,  10.7154
33AT20060118,  CLIMODE-2,      17,          1,          2,         02,2,20060122,       1958,  37.602167,-68.0483333,          0,   907.3,   8.7687,  35.2036,2,  35.2024,2, 156.0000,2,   155.6,2,   13.50,2,   23.32,2,    0.00,2,    1.48,2,   8.6674
33AT20060118,  CLIMODE-2,      17,          1,          1,         25,2,20060122,       1958,  37.602167,-68.0483333,          0,  1008.9,   6.6289,  35.0815,2,  35.0795,2, 189.6000,2,   189.7,2,   14.39,2,   22.35,2,    0.00,2,    1.45,2,   6.5316