BOTTLE,20120918SIOCCHMYS
EXPOCODE,SECT_ID,STNNBR,CASTNO,SAMPNO,BTLNBR,BTLNBR_FLAG_W,DATE,TIME,LATITUDE,LONGITUDE,DEPTH,CTDPRS,CTDTMP,CTDSAL,CTDSAL_FLAG_W,SALNTY,SALNTY_FLAG_W,CTDOXY,CTDOXY_FLAG_W,OXYGEN,OXYGEN_FLAG_W,SILCAT,SILCAT_FLAG_W,NITRAT,NITRAT_FLAG_W,NITRIT,NITRIT_FLAG_W,PHSPHT,PHSPHT_FLAG_W,THETA
,,,,,,,,,,,,DBAR,ITS-90,PSS-78,,PSS-78,,UMOL/KG,,UMOL/KG,,UMOL/KG,,UMOL/KG,,UMOL/KG,,UMOL/KG,,DEG C
33AT20060118,  CLIMODE-2,      33,          1,         21,         29,2,20060124,       2218,  38.043500,-65.9573333,          0,     2.7,  14.8061,  35.1363,2,  35.1337,2, 243.8000,2,   243.1,2,    1.85,2,    3.62,2,    0.19,2,    0.31,2,  14.8057
33AT20060118,  CLIMODE-2,      33,          1,         20,         20,2,20060124,       2218,  38.043500,-65.9573333,          0,    27.7,  14.8830,  35.1748,2,  35.1728,2, 240.5000,2,   241.1,2,    1.83,2,    3.70,2,    0.20,2,    0.31,2,  14.8788
33AT20060118,  CLIMODE-2,      33,          1,         19,         28,2,20060124,       2218,  38.043500,-65.9573333,          0,    49.6,  14.9027,  35.1883,2,  35.1852,2, 239.5000,2,   241.5,2,    1.81,2,    3.69,2,    0.20,2,    0.31,2,  14.8952
33AT20060118,  CLIMODE-2,      33,          1,         18,         18,2,20060124,       2218,  38.043500,-65.9573333,          0,    75.6,  15.0188,  35.2524,2,  35.2512,2, 235.7000,2,   235.9,2,    2.01,2,    4.19,2,    0.20,2,    0.33,2,  15.0074
33AT20060118,  CLIMODE-2,      33,          1,         17,         17,2,20060124,       2218,  38.043500,-65.9573333,          0,   100.9,  15.1351,  35.7294,2,  35.7234,2, 169.4000,2,   168.4,2,    4.87,2,   11.75,2,    0.04,2,    0.71,2,  15.1197
33AT20060118,  CLIMODE-2,      33,          1,         16,         16,2,20060124,       2218,  38.043500,-65.9573333,          0,   126.5,  13.9231,  35.7317,2,  35.7316,2, 144.8000,2,   147.3,2,    6.62,2,   15.89,2,    0.02,2,    0.96,2,  13.9048
33AT20060118,  CLIMODE-2,      33,          1,         15,         15,2,20060124,       2218,  38.043500,-65.9573333,          0,   151.9,  13.2195,  35.6659,2,  35.6649,2, 147.6000,2,   146.8,2,    7.38,2,   17.26,2,    0.01,2,    1.06,2,  13.1983
33AT20060118,  CLIMODE-2,      33,          1,         14,         14,2,20060124,       2218,  38.043500,-65.9573333,          0,   201.0,  10.9435,  35.3956,2,  35.4009,2, 138.1000,2,   134.7,2,   11.34,2,   22.33,2,    0.01,2,    1.40,2,  10.9187
33AT20060118,  CLIMODE-2,      33,          1,         13,         13,2,20060124,       2218,  38.043500,-65.9573333,          0,   252.6,   9.4318,  35.2259,2,  35.2256,2, 134.5000,2,   136.4,2,   14.20,2,   24.90,2,    0.01,2,    1.57,2,   9.4034
33AT20060118,  CLIMODE-2,      33,          1,         12,         12,2,20060124,       2218,  38.043500,-65.9573333,          0,   302.2,   8.7955,  35.1734,2,  35.1819,2, 139.3000,2,   140.3,2,   14.62,2,   25.16,2,    0.00,2,    1.59,2,   8.7628
33AT20060118,  CLIMODE-2,      33,          1,         11,         11,2,20060124,       2218,  38.043500,-65.9573333,          0,   353.3,   7.7477,  35.1145,2,  35.1128,2, 162.4000,2,   162.0,2,   14.49,2,   23.97,2,    0.00,2,    1.54,2,   7.7121
33AT20060118,  CLIMODE-2,      33,          1,         10,         10,2,20060124,       2218,  38.043500,-65.9573333,          0,   403.8,   7.0986,  35.0803,2,  35.0807,2, 179.5000,2,   177.6,2,   13.93,2,   22.93,2,    0.00,2,    1.49,2,   7.0599
33AT20060118,  CLIMODE-2,      33,          1,          9,         09,2,20060124,       2218,  38.043500,-65.9573333,          0,   447.4,   6.4627,  35.0673,2,  35.0665,2, 192.2000,2,   193.5,2,   13.68,2,   21.94,2,    0.00,2,    1.43,2,   6.4218
33AT20060118,  CLIMODE-2,      33,          1,          8,         08,2,20060124,       2218,  38.043500,-65.9573333,          0,   504.2,   5.7314,  35.0320,2,  35.0317,2, 210.4000,2,   212.5,2,   12.89,2,   20.46,2,    0.00,2,    1.35,2,   5.6879
33AT20060118,  CLIMODE-2,      33,          1,          7,         07,2,20060124,       2218,  38.043500,-65.9573333,          0,   556.1,   5.3494,  35.0252,2,  35.0251,2, 221.9000,2,   224.4,2,   12.43,2,   19.77,2,    0.00,2,    1.30,2,   5.3029
33AT20060118,  CLIMODE-2,      33,          1,          5,         27,2,20060124,       2218,  38.043500,-65.9573333,          0,   605.3,   5.1796,  35.0161,2,  35.0158,2, 228.4000,2,   229.7,2,   12.29,2,   19.37,2,    0.00,2,    1.28,2,   5.1296
33AT20060118,  CLIMODE-2,      33,          1,          6,         06,2,20060124,       2218,  38.043500,-65.9573333,          0,   605.5,   5.1786,  35.0161,2,  35.0177,2, 228.4000,2,   229.7,2,   12.31,2,   19.42,2,    0.00,2,    1.28,2,   5.1286
33AT20060118,  CLIMODE-2,      33,          1,          4,         04,2,20060124,       2218,  38.043500,-65.9573333,          0,   706.5,   4.8133,  35.0002,2,  35.0058,2, 240.5000,2,   240.6,2,   11.94,2,   18.79,2,    0.00,2,    1.24,2,   4.7563
33AT20060118,  CLIMODE-2,      33,          1,          3,         26,2,20060124,       2218,  38.043500,-65.9573333,          0,   808.1,   4.6326,  35.0014,2,  35.0005,2, 246.5000,2,   246.1,2,   11.92,2,   18.63,2,    0.00,2,    1.22,2,   4.5680
33AT20060118,  CLIMODE-2,      33,          1,          2,         02,2,20060124,       2218,  38.043500,-65.9573333,          0,   906.7,   4.4636,  34.9962,2,  34.9962,2, 250.1000,2,   250.6,2,   11.79,2,   18.53,2,    0.00,2,    1.21,2,   4.3916
33AT20060118,  CLIMODE-2,      33,          1,          1,         25,2,20060124,       2218,  38.043500,-65.9573333,          0,  1009.9,   4.3057,  34.9898,2,  34.9903,2, 253.2000,2,   253.9,2,   11.89,2,   18.39,2,    0.00,2,    1.20,2,   4.2261
33AT20060118,  CLIMODE-2,      34,          1,         20,         20,2,20060125,       0417,  37.629833,-65.0333333,          0,     2.3,  22.2077,  36.5298,2,  36.5304,2, 208.0000,2,   206.8,2,    0.63,2,    0.62,2,    0.16,2,    0.06,2,  22.2072
33AT20060118,  CLIMODE-2,      34,          1,         19,         28,2,20060125,       0417,  37.629833,-65.0333333,          0,    28.1,  22.2164,  36.5305,2,  36.5312,2, 208.2000,2,   207.6,2,    0.63,2,    0.67,2,    0.16,2,    0.06,2,  22.2107
33AT20060118,  CLIMODE-2,      34,          1,         18,         18,2,20060125,       0417,  37.629833,-65.0333333,          0,    50.7,  22.1700,  36.5410,2,  36.5384,2, 207.4000,2,   207.2,2,    0.52,2,    0.73,2,    0.15,2,    0.06,2,  22.1598
33AT20060118,  CLIMODE-2,      34,          1,         17,         17,2,20060125,       0417,  37.629833,-65.0333333,          0,    75.5,  22.0776,  36.5430,2,  36.5432,2, 209.1000,2,   208.4,2,    0.62,2,    0.70,2,    0.13,2,    0.06,2,  22.0625
33AT20060118,  CLIMODE-2,      34,          1,         16,         16,2,20060125,       0417,  37.629833,-65.0333333,          0,   100.8,  21.8268,  36.5306,2,  36.5316,2, 211.3000,2,   210.4,2,    0.84,2,    0.57,2,    0.12,2,    0.05,2,  21.8068
33AT20060118,  CLIMODE-2,      34,          1,         15,         15,2,20060125,       0417,  37.629833,-65.0333333,          0,   126.4,  21.0694,  36.6305,2,  36.6319,2, 207.1000,2,   210.2,2,    0.40,2,    0.40,2,    0.24,2,    0.04,2,  21.0450
33AT20060118,  CLIMODE-2,      34,          1,         14,         14,2,20060125,       0417,  37.629833,-65.0333333,          0,   151.7,  20.1817,  36.6434,2,  36.6428,2, 216.1000,2,   215.1,2,    0.28,2,    0.43,2,    0.21,2,    0.04,2,  20.1532
33AT20060118,  CLIMODE-2,      34,          1,         13,         13,2,20060125,       0417,  37.629833,-65.0333333,          0,   201.9,  19.7980,  36.6683,2,  36.6712,2, 217.3000,2,   216.5,2,    0.28,2,    0.64,2,    0.14,2,    0.04,2,  19.7606
33AT20060118,  CLIMODE-2,      34,          1,         12,         12,2,20060125,       0417,  37.629833,-65.0333333,          0,   251.3,  19.3647,  36.6734,2,  36.6743,2, 201.7000,2,   204.8,2,    0.50,2,    1.76,2,    0.05,2,    0.09,2,  19.3188
33AT20060118,  CLIMODE-2,      34,          1,         11,         11,2,20060125,       0417,  37.629833,-65.0333333,          0,   301.7,  18.6454,  36.6002,2,  36.6016,2, 192.7000,2,   191.9,2,    0.83,2,    4.09,2,    0.01,2,    0.20,2,  18.5916
33AT20060118,  CLIMODE-2,      34,          1,         10,         10,2,20060125,       0417,  37.629833,-65.0333333,          0,   352.9,  18.2744,  36.5583,2,  36.5590,2, 193.3000,2,   192.0,2,    0.94,2,    4.77,2,    0.00,2,    0.23,2,  18.2123
33AT20060118,  CLIMODE-2,      34,          1,          9,         09,2,20060125,       0417,  37.629833,-65.0333333,          0,   404.2,  17.7822,  36.4803,2,  36.4847,2, 188.6000,2,   187.7,2,    1.37,2,    6.03,2,    0.00,2,    0.31,2,  17.7124
33AT20060118,  CLIMODE-2,      34,          1,          8,         08,2,20060125,       0417,  37.629833,-65.0333333,          0,   449.9,  16.8385,  36.3014,2,  36.3116,2, 165.8000,2,   165.2,2,    2.69,2,    9.80,2,    0.00,2,    0.55,2,  16.7636
33AT20060118,  CLIMODE-2,      34,          1,          7,         07,2,20060125,       0417,  37.629833,-65.0333333,          0,   504.9,  16.0931,  36.1978,2,  36.1993,2, 177.3000,2,   177.0,2,    2.79,2,    9.89,2,    0.00,2,    0.56,2,  16.0114
33AT20060118,  CLIMODE-2,      34,          1,          6,         06,2,20060125,       0417,  37.629833,-65.0333333,          0,   554.5,  15.2390,  36.0634,2,  36.0690,2, 178.5000,2,   179.4,2,    3.89,2,   11.02,2,    0.00,2,    0.64,2,  15.1525
33AT20060118,  CLIMODE-2,      34,          1,          5,         27,2,20060125,       0417,  37.629833,-65.0333333,          0,   605.8,  13.8022,  35.8150,2,  35.8188,2, 163.0000,2,   162.6,2,    5.75,2,   14.94,2,    0.00,2,    0.90,2,  13.7136
33AT20060118,  CLIMODE-2,      34,          1,          4,         04,2,20060125,       0417,  37.629833,-65.0333333,          0,   707.0,  11.4871,  35.4823,2,  35.4841,2, 148.9000,2,   148.1,2,    9.71,2,   20.19,2,    0.00,2,    1.25,2,  11.3950
33AT20060118,  CLIMODE-2,      34,          1,          3,         26,2,20060125,       0417,  37.629833,-65.0333333,          0,   807.4,   8.8423,  35.1753,2,  35.1743,2, 142.4000,2,   143.0,2,   14.77,2,   25.03,2,    0.00,2,    1.61,2,   8.7522
33AT20060118,  CLIMODE-2,      34,          1,          2,         02,2,20060125,       0417,  37.629833,-65.0333333,          0,   908.6,   6.9845,  35.0848,2,  35.0847,2, 179.8000,2,   180.8,2,   13.78,2,   22.51,2,    0.00,2,    1.47,2,   6.8950
33AT20060118,  CLIMODE-2,      34,          1,          1,         25,2,20060125,       0417,  37.629833,-65.0333333,          0,  1005.9,   5.5344,  35.0222,2,  35.0212,2, 220.8000,2,   220.6,2,   12.45,2,   19.99,2,    0.00,2,    1.33,2,   5.4457
33AT20060118,  CLIMODE-2,      35,          1,         22,         22,2,20060125,       1029,  37.215500,-64.1141667,          0,     2.3,  19.8570,  36.6043,2,  36.6035,2, 221.2000,2,   220.6,2,    0.37,2,    0.56,2,    0.15,2,    0.04,2,  19.8565
33AT20060118,  CLIMODE-2,      35,          1,         21,         29,2,20060125,       1029,  37.215500,-64.1141667,          0,    27.9,  19.8365,  36.6047,2,  36.6039,2, 221.1000,2,   220.5,2,    0.38,2,    0.53,2,    0.17,2,    0.04,2,  19.8314
33AT20060118,  CLIMODE-2,      35,          1,         20,         20,2,20060125,       1029,  37.215500,-64.1141667,          0,    51.1,  19.7894,  36.6036,2,  36.6029,2, 219.1000,2,   220.1,2,    0.39,2,    0.48,2,    0.21,2,    0.04,2,  19.7800
33AT20060118,  CLIMODE-2,      35,          1,         19,         28,2,20060125,       1029,  37.215500,-64.1141667,          0,    76.0,  19.7578,  36.6035,2,  36.6031,2, 220.2000,2,   220.3,2,    0.39,2,    0.38,2,    0.21,2,    0.03,2,  19.7438
33AT20060118,  CLIMODE-2,      35,          1,         18,         18,2,20060125,       1029,  37.215500,-64.1141667,          0,   100.8,  19.7310,  36.5983,2,  36.5987,2, 220.6000,2,   221.0,2,    0.40,2,    0.40,2,    0.23,2,    0.03,2,  19.7124
33AT20060118,  CLIMODE-2,      35,          1,         17,         17,2,20060125,       1029,  37.215500,-64.1141667,          0,   126.2,  19.7331,  36.5972,2,  36.5973,2, 219.7000,2,   220.8,2,    0.40,2,    0.44,2,    0.24,2,    0.03,2,  19.7098
33AT20060118,  CLIMODE-2,      35,          1,         16,         16,2,20060125,       1029,  37.215500,-64.1141667,          0,   151.4,  19.7411,  36.5985,2,  36.5977,2, 221.0000,2,   220.0,2,    0.52,2,    0.39,2,    0.24,2,    0.03,2,  19.7131
33AT20060118,  CLIMODE-2,      35,          1,         15,         15,2,20060125,       1029,  37.215500,-64.1141667,          0,   176.2,  19.7336,  36.5977,2,  36.5971,2, 220.4000,2,   220.0,2,    0.53,2,    0.43,2,    0.24,2,    0.03,2,  19.7011
33AT20060118,  CLIMODE-2,      35,          1,         14,         14,2,20060125,       1029,  37.215500,-64.1141667,          0,   201.6,  19.7287,  36.5955,2,  36.5951,2, 221.5000,2,   219.8,2,    0.42,2,    0.47,2,    0.25,2,    0.04,2,  19.6915
33AT20060118,  CLIMODE-2,      35,          1,         13,         13,2,20060125,       1029,  37.215500,-64.1141667,          0,   252.7,  18.8382,  36.6369,2,  36.6366,2, 198.6000,2,   198.2,2,    0.98,2,    3.26,2,    0.01,2,    0.15,2,  18.7929
33AT20060118,  CLIMODE-2,      35,          1,         12,         12,2,20060125,       1029,  37.215500,-64.1141667,          0,   302.1,  18.6046,  36.6293,2,  36.6304,2, 203.6000,2,   204.5,2,    0.99,2,    3.21,2,    0.01,2,    0.15,2,  18.5508
33AT20060118,  CLIMODE-2,      35,          1,         11,         11,2,20060125,       1029,  37.215500,-64.1141667,          0,   403.0,  18.1779,  36.5763,2,  36.5763,2, 203.6000,2,   203.7,2,    1.21,2,    4.03,2,    0.01,2,    0.20,2,  18.1072
33AT20060118,  CLIMODE-2,      35,          1,         10,         10,2,20060125,       1029,  37.215500,-64.1141667,          0,   503.7,  17.4932,  36.4435,2,  36.4521,2, 192.1000,2,   190.7,2,    1.77,2,    6.25,2,    0.01,2,    0.32,2,  17.4069
33AT20060118,  CLIMODE-2,      35,          1,          9,         09,2,20060125,       1029,  37.215500,-64.1141667,          0,   604.5,  15.9781,  36.1747,2,  36.1773,2, 180.0000,2,   177.2,2,    3.20,2,   10.07,2,    0.00,2,    0.57,2,  15.8806
33AT20060118,  CLIMODE-2,      35,          1,          8,         08,2,20060125,       1029,  37.215500,-64.1141667,          0,   706.0,  13.9605,  35.8357,2,  35.8418,2, 157.6000,2,   160.9,2,    5.85,2,   14.87,2,    0.00,2,    0.88,2,  13.8562
33AT20060118,  CLIMODE-2,      35,          1,          7,         07,2,20060125,       1029,  37.215500,-64.1141667,          0,   808.7,  11.6880,  35.5058,2,  35.5048,2, 146.7000,2,   149.9,2,    9.38,2,   19.74,2,    0.00,2,    1.22,2,  11.5810
33AT20060118,  CLIMODE-2,      35,          1,          6,         06,2,20060125,       1029,  37.215500,-64.1141667,          0,   908.5,   9.3677,  35.2239,2,  35.2264,2, 143.5000,2,   141.0,2,   13.91,2,   24.29,2,    0.00,2,    1.54,2,   9.2623
33AT20060118,  CLIMODE-2,      35,          1,          5,         27,2,20060125,       1029,  37.215500,-64.1141667,          0,  1009.4,   7.4887,  35.1163,2,  35.1187,2, 176.2000,2,   172.2,2,   14.03,2,   22.92,2,    0.00,2,    1.50,2,   7.3849
33AT20060118,  CLIMODE-2,      35,          1,          4,         04,2,20060125,       1029,  37.215500,-64.1141667,          0,  1262.2,   4.9536,  35.0133,2,  35.0122,2, 243.0000,2,   245.7,2,   12.05,2,   18.95,2,    0.00,2,    1.25,2,   4.8455
33AT20060118,  CLIMODE-2,      35,          1,          3,         26,2,20060125,       1029,  37.215500,-64.1141667,          0,  1515.7,   4.3006,  34.9814,2,  34.9823,2, 258.0000,2,   256.0,2,   11.95,2,   18.11,2,    0.00,2,    1.20,2,   4.1755
33AT20060118,  CLIMODE-2,      35,          1,          2,         02,2,20060125,       1029,  37.215500,-64.1141667,          0,  1769.8,   3.9763,  34.9619,2,  34.9622,2, 263.1000,2,   262.8,2,   12.06,2,   17.91,2,    0.00,2,    1.19,2,   3.8313
33AT20060118,  CLIMODE-2,      35,          1,          1,         25,2,20060125,       1029,  37.215500,-64.1141667,          0,  2024.6,   3.7130,  34.9487,2,  34.9490,2, 265.6000,2,   266.5,2,   12.84,2,   17.76,2,    0.00,2,    1.18,2,   3.5475