BOTTLE,20120918SIOCCHMYS
EXPOCODE,SECT_ID,STNNBR,CASTNO,SAMPNO,BTLNBR,BTLNBR_FLAG_W,DATE,TIME,LATITUDE,LONGITUDE,DEPTH,CTDPRS,CTDTMP,CTDSAL,CTDSAL_FLAG_W,SALNTY,SALNTY_FLAG_W,CTDOXY,CTDOXY_FLAG_W,OXYGEN,OXYGEN_FLAG_W,SILCAT,SILCAT_FLAG_W,NITRAT,NITRAT_FLAG_W,NITRIT,NITRIT_FLAG_W,PHSPHT,PHSPHT_FLAG_W,THETA
,,,,,,,,,,,,DBAR,ITS-90,PSS-78,,PSS-78,,UMOL/KG,,UMOL/KG,,UMOL/KG,,UMOL/KG,,UMOL/KG,,UMOL/KG,,DEG C
33AT20060118,  CLIMODE-2,     999,          1,         24,         24,2,20060119,       1452,  39.121833,-70.1361667,          0,    13.3,  12.6407,  34.5783,2,  34.5750,2, 149.3000,2,   253.1,2, -999.00,1, -999.00,1, -999.00,1, -999.00,1,  12.6389
33AT20060118,  CLIMODE-2,     999,          1,         23,         30,2,20060119,       1452,  39.121833,-70.1361667,          0,    13.4,  12.6372,  34.5774,2,  34.5740,2, 149.3000,2,   252.3,2, -999.00,1, -999.00,1, -999.00,1, -999.00,1,  12.6354
33AT20060118,  CLIMODE-2,     999,          1,         22,         22,2,20060119,       1452,  39.121833,-70.1361667,          0,    39.7,  12.6289,  34.5734,2,  34.5813,2, 260.2000,2,   252.4,2, -999.00,1, -999.00,1, -999.00,1, -999.00,1,  12.6236
33AT20060118,  CLIMODE-2,     999,          1,         21,         29,2,20060119,       1452,  39.121833,-70.1361667,          0,    39.9,  12.6390,  34.5765,2,  34.5707,2, 259.0000,2,   252.5,2, -999.00,1, -999.00,1, -999.00,1, -999.00,1,  12.6336
33AT20060118,  CLIMODE-2,     999,          1,         19,         28,2,20060119,       1452,  39.121833,-70.1361667,          0,    70.9,  13.7831,  35.0003,2,  34.8933,2, 244.3000,2,   240.6,2, -999.00,1, -999.00,1, -999.00,1, -999.00,1,  13.7730
33AT20060118,  CLIMODE-2,     999,          1,         20,         20,2,20060119,       1452,  39.121833,-70.1361667,          0,    71.2,  13.9424,  35.0606,2,  34.9633,2, 247.2000,2,   238.3,2, -999.00,1, -999.00,1, -999.00,1, -999.00,1,  13.9322
33AT20060118,  CLIMODE-2,     999,          1,         17,         17,9,20060119,       1452,  39.121833,-70.1361667,          0,   100.8,  13.6126,  35.6057,2,-999.0000,9,-999.0000,9,  -999.0,9, -999.00,9, -999.00,9, -999.00,9, -999.00,9,  13.5982
33AT20060118,  CLIMODE-2,     999,          1,         18,         18,2,20060119,       1452,  39.121833,-70.1361667,          0,   100.9,  13.6537,  35.6147,2,  35.5874,2, 159.7000,2,   157.4,2, -999.00,1, -999.00,1, -999.00,1, -999.00,1,  13.6393
33AT20060118,  CLIMODE-2,     999,          1,         15,         15,2,20060119,       1452,  39.121833,-70.1361667,          0,   191.1,  10.3819,  35.2925,2,  35.2929,2, 138.5000,2,   145.5,2, -999.00,1, -999.00,1, -999.00,1, -999.00,1,  10.3591
33AT20060118,  CLIMODE-2,     999,          1,         16,         16,2,20060119,       1452,  39.121833,-70.1361667,          0,   191.2,  10.3801,  35.2927,2,  35.2940,2, 138.5000,2,   145.6,2, -999.00,1, -999.00,1, -999.00,1, -999.00,1,  10.3573
33AT20060118,  CLIMODE-2,     999,          1,         13,         13,2,20060119,       1452,  39.121833,-70.1361667,          0,   303.6,   7.6827,  35.1088,2,  35.1073,2, 160.3000,2,   164.4,2, -999.00,1, -999.00,1, -999.00,1, -999.00,1,   7.6524
33AT20060118,  CLIMODE-2,     999,          1,         14,         14,2,20060119,       1452,  39.121833,-70.1361667,          0,   303.8,   7.6653,  35.1075,2,  35.1065,2, 160.3000,2,   164.5,2, -999.00,1, -999.00,1, -999.00,1, -999.00,1,   7.6351
33AT20060118,  CLIMODE-2,     999,          1,         12,         12,2,20060119,       1452,  39.121833,-70.1361667,          0,   452.4,   5.6172,  35.0036,2,  35.0007,2, 216.1000,2,   215.9,2, -999.00,1, -999.00,1, -999.00,1, -999.00,1,   5.5788
33AT20060118,  CLIMODE-2,     999,          1,         11,         11,2,20060119,       1452,  39.121833,-70.1361667,          0,   452.4,   5.6229,  35.0040,2,  35.0011,2, 216.1000,2,   215.6,2, -999.00,1, -999.00,1, -999.00,1, -999.00,1,   5.5845
33AT20060118,  CLIMODE-2,     999,          1,         10,         10,2,20060119,       1452,  39.121833,-70.1361667,          0,   603.9,   4.8075,  34.9827,2,  34.9797,2, 248.7000,2,   241.4,2, -999.00,1, -999.00,1, -999.00,1, -999.00,1,   4.7594
33AT20060118,  CLIMODE-2,     999,          1,          9,         09,2,20060119,       1452,  39.121833,-70.1361667,          0,   605.0,   4.8056,  34.9825,2,  34.9805,2, 249.1000,2,   242.5,2, -999.00,1, -999.00,1, -999.00,1, -999.00,1,   4.7573
33AT20060118,  CLIMODE-2,     999,          1,          7,         07,2,20060119,       1452,  39.121833,-70.1361667,          0,   757.3,   4.4434,  34.9772,2,  34.9740,2, 259.4000,2,   252.5,2, -999.00,1, -999.00,1, -999.00,1, -999.00,1,   4.3843
33AT20060118,  CLIMODE-2,     999,          1,          8,         08,2,20060119,       1452,  39.121833,-70.1361667,          0,   757.8,   4.4482,  34.9779,2,  34.9738,2, 259.4000,2,   252.5,2, -999.00,1, -999.00,1, -999.00,1, -999.00,1,   4.3890
33AT20060118,  CLIMODE-2,     999,          1,          5,         27,2,20060119,       1452,  39.121833,-70.1361667,          0,   909.8,   4.0990,  34.9496,2,  34.9461,2, 266.0000,2,   262.7,2, -999.00,1, -999.00,1, -999.00,1, -999.00,1,   4.0294
33AT20060118,  CLIMODE-2,     999,          1,          6,         06,2,20060119,       1452,  39.121833,-70.1361667,          0,   909.8,   4.0975,  34.9491,2,  34.9461,2, 266.0000,2,   262.7,2, -999.00,1, -999.00,1, -999.00,1, -999.00,1,   4.0279
33AT20060118,  CLIMODE-2,     999,          1,          3,         26,2,20060119,       1452,  39.121833,-70.1361667,          0,  1059.8,   3.9913,  34.9487,2,  34.9481,2, 267.9000,2,   264.3,2, -999.00,1, -999.00,1, -999.00,1, -999.00,1,   3.9100
33AT20060118,  CLIMODE-2,     999,          1,          4,         04,2,20060119,       1452,  39.121833,-70.1361667,          0,  1060.3,   3.9905,  34.9486,2,  34.9457,2, 268.1000,2,   264.3,2, -999.00,1, -999.00,1, -999.00,1, -999.00,1,   3.9091
33AT20060118,  CLIMODE-2,     999,          1,          1,         25,2,20060119,       1452,  39.121833,-70.1361667,          0,  1213.3,   3.8532,  34.9455,2,  34.9553,2, 269.3000,2,   266.8,2, -999.00,1, -999.00,1, -999.00,1, -999.00,1,   3.7600
33AT20060118,  CLIMODE-2,     999,          1,          2,         02,2,20060119,       1452,  39.121833,-70.1361667,          0,  1213.5,   3.8502,  34.9449,2,  34.9421,2, 269.3000,2,   272.7,2, -999.00,1, -999.00,1, -999.00,1, -999.00,1,   3.7569
33AT20060118,  CLIMODE-2,       1,          1,         20,         20,2,20060120,       0927,  36.825167,-69.4150000,          0,     5.9,  19.8763,  36.6426,2,  36.6409,2, 218.7000,2,   218.3,2,    0.15,2,    0.61,2,    0.22,2,    0.04,2,  19.8753
33AT20060118,  CLIMODE-2,       1,          1,         19,         28,2,20060120,       0927,  36.825167,-69.4150000,          0,    27.2,  19.8904,  36.6424,2,  36.6395,2, 219.2000,2,   218.6,2,    0.02,2,    0.64,2,    0.23,2,    0.04,2,  19.8854
33AT20060118,  CLIMODE-2,       1,          1,         18,         18,2,20060120,       0927,  36.825167,-69.4150000,          0,    51.0,  19.8988,  36.6425,2,  36.6395,2, 218.8000,2,   218.8,2,   -0.00,2,    0.64,2,    0.22,2,    0.04,2,  19.8893
33AT20060118,  CLIMODE-2,       1,          1,         17,         17,9,20060120,       0927,  36.825167,-69.4150000,          0,    76.8,  19.9033,  36.6425,2,-999.0000,9,-999.0000,9,  -999.0,9, -999.00,9, -999.00,9, -999.00,9, -999.00,9,  19.8891
33AT20060118,  CLIMODE-2,       1,          1,         16,         16,2,20060120,       0927,  36.825167,-69.4150000,          0,   101.7,  19.9062,  36.6424,2,  36.6401,2, 218.3000,2,   217.9,2,   -0.03,2,    0.64,2,    0.22,2,    0.04,2,  19.8873
33AT20060118,  CLIMODE-2,       1,          1,         15,         15,2,20060120,       0927,  36.825167,-69.4150000,          0,   126.7,  19.9120,  36.6421,2,  36.6403,2, 219.1000,2,   218.0,2,   -0.05,2,    0.64,2,    0.22,2,    0.04,2,  19.8885
33AT20060118,  CLIMODE-2,       1,          1,         14,         14,2,20060120,       0927,  36.825167,-69.4150000,          0,   151.6,  19.9145,  36.6420,2,  36.6405,2, 218.0000,2,   218.0,2,    0.03,2,    0.63,2,    0.22,2,    0.04,2,  19.8863
33AT20060118,  CLIMODE-2,       1,          1,         13,         13,2,20060120,       0927,  36.825167,-69.4150000,          0,   202.6,  19.4210,  36.6815,2,  36.6788,2, 200.1000,2,   199.6,2,    0.11,2,    2.28,2,    0.03,2,    0.09,2,  19.3839
33AT20060118,  CLIMODE-2,       1,          1,         12,         12,2,20060120,       0927,  36.825167,-69.4150000,          0,   253.3,  18.8179,  36.6472,2,  36.6490,2, 202.1000,2,   202.2,2,    0.28,2,    3.12,2,    0.01,2,    0.14,2,  18.7725
33AT20060118,  CLIMODE-2,       1,          1,         11,         11,2,20060120,       0927,  36.825167,-69.4150000,          0,   303.5,  18.5105,  36.6127,2,  36.6099,2, 202.4000,2,   202.1,2,    0.36,2,    3.76,2,    0.01,2,    0.17,2,  18.4566
33AT20060118,  CLIMODE-2,       1,          1,         10,         10,2,20060120,       0927,  36.825167,-69.4150000,          0,   352.0,  18.3305,  36.5903,2,  36.5893,2, 204.0000,2,   202.3,2,    0.54,2,    4.04,2,    0.01,2,    0.19,2,  18.2684
33AT20060118,  CLIMODE-2,       1,          1,          9,         09,2,20060120,       0927,  36.825167,-69.4150000,          0,   403.2,  18.2018,  36.5820,2,  36.5800,2, 203.6000,2,   204.9,2,    0.62,2,    4.09,2,    0.01,2,    0.20,2,  18.1310
33AT20060118,  CLIMODE-2,       1,          1,          8,         08,2,20060120,       0927,  36.825167,-69.4150000,          0,   454.9,  18.0487,  36.5585,2,  36.5560,2, 203.9000,2,   202.9,2,    0.69,2,    4.53,2,    0.01,2,    0.21,2,  17.9692
33AT20060118,  CLIMODE-2,       1,          1,          7,         07,2,20060120,       0927,  36.825167,-69.4150000,          0,   505.6,  17.7111,  36.4856,2,  36.4874,2, 194.3000,2,   193.9,2,    1.07,2,    5.90,2,    0.00,2,    0.29,2,  17.6238
33AT20060118,  CLIMODE-2,       1,          1,          6,         06,4,20060120,       0927,  36.825167,-69.4150000,          0,   556.0,  17.2000,  36.3906,2,  36.6460,4, 186.8000,2,   220.3,4,    0.05,4,    0.71,4,    0.22,4,    0.05,4,  17.1057
33AT20060118,  CLIMODE-2,       1,          1,          5,         27,2,20060120,       0927,  36.825167,-69.4150000,          0,   604.2,  16.5064,  36.2686,2,  36.2689,2, 182.5000,2,   182.3,2,    2.13,2,    8.87,2,    0.00,2,    0.48,2,  16.4067
33AT20060118,  CLIMODE-2,       1,          1,          4,         04,2,20060120,       0927,  36.825167,-69.4150000,          0,   705.8,  14.6343,  35.9543,2,  35.9535,2, 176.6000,2,   176.6,2,    3.82,2,   12.46,2,    0.00,2,    0.71,2,  14.5266
33AT20060118,  CLIMODE-2,       1,          1,          3,         26,2,20060120,       0927,  36.825167,-69.4150000,          0,   806.8,  12.2863,  35.5885,2,  35.5849,2, 155.1000,2,   154.3,2,    7.54,2,   18.64,2,    0.00,2,    1.12,2,  12.1762
33AT20060118,  CLIMODE-2,       1,          1,          2,         02,2,20060120,       0927,  36.825167,-69.4150000,          0,   908.5,   9.7809,  35.2866,2,  35.2840,2, 147.4000,2,   147.6,2,   11.72,2,   23.30,2,    0.00,2,    1.45,2,   9.6728
33AT20060118,  CLIMODE-2,       1,          1,          1,         25,2,20060120,       0927,  36.825167,-69.4150000,          0,  1010.5,   7.9738,  35.1464,2,  35.1427,2, 166.2000,2,   165.9,2,   13.14,2,   23.61,2,    0.00,2,    1.51,2,   7.8662
33AT20060118,  CLIMODE-2,       2,          1,         22,         22,2,20060120,       1208,  36.659833,-69.3870000,          0,    18.8,  19.9977,  36.6443,2,-999.0000,1, 216.2000,2,   217.8,2,    0.04,2,    0.67,2,    0.18,2,    0.04,2,  19.9942
33AT20060118,  CLIMODE-2,       2,          1,         21,         29,2,20060120,       1208,  36.659833,-69.3870000,          0,    25.3,  19.9938,  36.6446,2,  36.6427,2, 217.8000,2,   218.0,2,    0.00,2,    0.67,2,    0.18,2,    0.04,2,  19.9891
33AT20060118,  CLIMODE-2,       2,          1,         20,         20,2,20060120,       1208,  36.659833,-69.3870000,          0,    51.0,  20.0068,  36.6441,2,  36.6437,2, 217.2000,2,   217.7,2,    0.00,2,    0.63,2,    0.17,2,    0.04,2,  19.9973
33AT20060118,  CLIMODE-2,       2,          1,         19,         28,2,20060120,       1208,  36.659833,-69.3870000,          0,    75.9,  20.0092,  36.6442,2,  36.6429,2, 218.0000,2,   218.2,2,    0.00,2,    0.66,2,    0.18,2,    0.04,2,  19.9951
33AT20060118,  CLIMODE-2,       2,          1,         18,         18,2,20060120,       1208,  36.659833,-69.3870000,          0,   101.2,  20.0135,  36.6444,2,  36.6419,2, 216.9000,2,   218.3,2,    0.00,2,    0.67,2,    0.18,2,    0.04,2,  19.9946
33AT20060118,  CLIMODE-2,       2,          1,         16,         16,2,20060120,       1208,  36.659833,-69.3870000,          0,   126.0,  20.0193,  36.6439,2,  36.6413,2, 217.1000,2,   217.7,2,    0.00,2,    0.67,2,    0.18,2,    0.03,2,  19.9958
33AT20060118,  CLIMODE-2,       2,          1,         17,         17,2,20060120,       1208,  36.659833,-69.3870000,          0,   126.0,  20.0192,  36.6440,2,  36.6417,2, 217.1000,2,   218.7,2,    0.00,2,    0.66,2,    0.18,2,    0.04,2,  19.9957
33AT20060118,  CLIMODE-2,       2,          1,         15,         15,2,20060120,       1208,  36.659833,-69.3870000,          0,   151.4,  19.9565,  36.6628,2,  36.6623,2, 217.3000,2,   210.7,2,    0.00,2,    1.16,2,    0.11,2,    0.06,2,  19.9283
33AT20060118,  CLIMODE-2,       2,          1,         14,         14,2,20060120,       1208,  36.659833,-69.3870000,          0,   177.9,  19.2715,  36.6766,2,  36.6748,2, 198.7000,2,   198.1,2,    1.46,2,    2.46,2,    0.02,2,    0.10,2,  19.2392
33AT20060118,  CLIMODE-2,       2,          1,         13,         13,2,20060120,       1208,  36.659833,-69.3870000,          0,   202.2,  19.0769,  36.6649,2,  36.6625,2, 199.4000,2,   200.2,2,    1.43,2,    2.72,2,    0.02,2,    0.11,2,  19.0404
33AT20060118,  CLIMODE-2,       2,          1,         12,         12,2,20060120,       1208,  36.659833,-69.3870000,          0,   251.9,  18.7511,  36.6315,2,  36.6284,2, 199.2000,2,   199.4,2,    1.50,2,    3.50,2,    0.01,2,    0.15,2,  18.7061
33AT20060118,  CLIMODE-2,       2,          1,         11,         11,2,20060120,       1208,  36.659833,-69.3870000,          0,   302.7,  18.5547,  36.6230,2,  36.6224,2, 203.7000,2,   204.2,2,    1.49,2,    3.45,2,    0.01,2,    0.15,2,  18.5009
33AT20060118,  CLIMODE-2,       2,          1,         10,         10,2,20060120,       1208,  36.659833,-69.3870000,          0,   403.3,  18.1930,  36.5808,2,  36.5788,2, 204.2000,2,   204.8,2,    1.66,2,    4.04,2,    0.01,2,    0.19,2,  18.1222
33AT20060118,  CLIMODE-2,       2,          1,          9,         09,2,20060120,       1208,  36.659833,-69.3870000,          0,   504.4,  17.6837,  36.4863,2,  36.4854,2, 195.0000,2,   195.9,2,    2.04,2,    5.69,2,    0.01,2,    0.28,2,  17.5967
33AT20060118,  CLIMODE-2,       2,          1,          8,         08,2,20060120,       1208,  36.659833,-69.3870000,          0,   605.3,  16.5023,  36.2663,2,  36.2579,2, 181.4000,2,   180.6,2,    3.13,2,    9.09,2,    0.00,2,    0.49,2,  16.4025
33AT20060118,  CLIMODE-2,       2,          1,          7,         07,2,20060120,       1208,  36.659833,-69.3870000,          0,   806.5,  12.7134,  35.6457,2,  35.6501,2, 155.4000,2,   155.3,2,    7.68,2,   17.77,2,    0.00,2,    1.06,2,  12.6009
33AT20060118,  CLIMODE-2,       2,          1,          6,         06,2,20060120,       1208,  36.659833,-69.3870000,          0,   908.5,   9.9939,  35.2905,2,  35.2882,2, 141.7000,2,   140.5,2,   12.99,2,   24.00,2,    0.00,2,    1.49,2,   9.8843
33AT20060118,  CLIMODE-2,       2,          1,          5,         27,2,20060120,       1208,  36.659833,-69.3870000,          0,  1009.1,   8.3156,  35.1545,2,  35.1528,2, 155.1000,2,   156.1,2,   14.41,2,   24.46,2,    0.00,2,    1.54,2,   8.2056
33AT20060118,  CLIMODE-2,       2,          1,          4,         04,2,20060120,       1208,  36.659833,-69.3870000,          0,  1263.5,   5.3416,  35.0389,2,  35.0374,2, 228.4000,2,   227.5,2,   12.63,2,   19.91,2,    0.00,2,    1.29,2,   5.2297
33AT20060118,  CLIMODE-2,       2,          1,          3,         26,2,20060120,       1208,  36.659833,-69.3870000,          0,  1517.2,   4.4585,  34.9872,2,  34.9871,2, 251.8000,2,   252.3,2,   11.79,2,   18.59,2,    0.00,2,    1.21,2,   4.3314
33AT20060118,  CLIMODE-2,       2,          1,          2,         02,2,20060120,       1208,  36.659833,-69.3870000,          0,  1768.2,   3.9822,  34.9544,2,  34.9530,2, 263.3000,2,   270.2,3,   11.76,2,   18.13,2,    0.00,2,    1.18,2,   3.8373
33AT20060118,  CLIMODE-2,       2,          1,          1,         25,2,20060120,       1208,  36.659833,-69.3870000,          0,  2023.2,   3.7628,  34.9484,2,  34.9500,2, 266.4000,2,   266.5,2,   12.45,2,   18.08,2,    0.00,2,    1.18,2,   3.5966