BOTTLE,20120918SIOCCHMYS
EXPOCODE,SECT_ID,STNNBR,CASTNO,SAMPNO,BTLNBR,BTLNBR_FLAG_W,DATE,TIME,LATITUDE,LONGITUDE,DEPTH,CTDPRS,CTDTMP,CTDSAL,CTDSAL_FLAG_W,SALNTY,SALNTY_FLAG_W,CTDOXY,CTDOXY_FLAG_W,OXYGEN,OXYGEN_FLAG_W,SILCAT,SILCAT_FLAG_W,NITRAT,NITRAT_FLAG_W,NITRIT,NITRIT_FLAG_W,PHSPHT,PHSPHT_FLAG_W,THETA
,,,,,,,,,,,,DBAR,ITS-90,PSS-78,,PSS-78,,UMOL/KG,,UMOL/KG,,UMOL/KG,,UMOL/KG,,UMOL/KG,,UMOL/KG,,DEG C
33AT20060118,  CLIMODE-2,      42,          1,         20,         20,2,20060126,       1046,  38.238167,-65.0513333,          0,     2.4,  14.4687,  35.1745,2,  35.1752,2, 242.9000,2,   244.3,2,    2.10,2,    3.78,2,    0.21,2,    0.34,2,  14.4684
33AT20060118,  CLIMODE-2,      42,          1,         19,         28,2,20060126,       1046,  38.238167,-65.0513333,          0,    28.1,  14.5170,  35.1876,2,  35.1816,2, 242.9000,2,   243.2,2,    2.17,2,    3.78,2,    0.21,2,    0.34,2,  14.5129
33AT20060118,  CLIMODE-2,      42,          1,         18,         18,2,20060126,       1046,  38.238167,-65.0513333,          0,    51.3,  14.2152,  35.1040,2,  35.1014,2, 244.4000,2,   245.5,2,    2.23,2,    3.89,2,    0.20,2,    0.35,2,  14.2078
33AT20060118,  CLIMODE-2,      42,          1,         17,         17,2,20060126,       1046,  38.238167,-65.0513333,          0,    77.9,  13.1934,  34.8946,2,  34.8920,2, 249.0000,2,   247.6,2,    2.83,2,    4.67,2,    0.13,2,    0.41,2,  13.1827
33AT20060118,  CLIMODE-2,      42,          1,         16,         16,2,20060126,       1046,  38.238167,-65.0513333,          0,   101.0,  13.1719,  34.9005,2,  34.8962,2, 248.2000,2,   246.1,2,    2.89,2,    4.77,2,    0.13,2,    0.41,2,  13.1579
33AT20060118,  CLIMODE-2,      42,          1,         15,         15,2,20060126,       1046,  38.238167,-65.0513333,          0,   126.1,  14.2749,  35.4399,2,  35.4013,2, 193.9000,2,   193.9,2,    4.57,2,    9.53,2,    0.03,2,    0.64,2,  14.2564
33AT20060118,  CLIMODE-2,      42,          1,         14,         14,2,20060126,       1046,  38.238167,-65.0513333,          0,   150.4,  13.8378,  35.6998,2,  35.6973,2, 150.2000,2,   149.3,2,    6.58,2,   15.45,2,    0.01,2,    0.97,2,  13.8161
33AT20060118,  CLIMODE-2,      42,          1,         13,         13,2,20060126,       1046,  38.238167,-65.0513333,          0,   200.7,  12.2422,  35.5455,2,  35.5465,2, 146.0000,2,   144.9,2,    8.71,2,   19.03,2,    0.01,2,    1.19,2,  12.2155
33AT20060118,  CLIMODE-2,      42,          1,         12,         12,2,20060126,       1046,  38.238167,-65.0513333,          0,   249.7,  11.2937,  35.4344,2,  35.4402,2, 139.0000,2,   135.8,2,   10.72,2,   21.71,2,    0.01,2,    1.37,2,  11.2622
33AT20060118,  CLIMODE-2,      42,          1,         11,         11,2,20060126,       1046,  38.238167,-65.0513333,          0,   302.4,  10.0417,  35.2887,2,  35.2888,2, 133.6000,2,   132.2,2,   13.08,2,   24.35,2,    0.01,2,    1.54,2,  10.0062
33AT20060118,  CLIMODE-2,      42,          1,         10,         10,2,20060126,       1046,  38.238167,-65.0513333,          0,   352.6,   8.9317,  35.1719,2,  35.1714,2, 136.4000,2,   136.9,2,   14.99,2,   25.58,2,    0.00,2,    1.65,2,   8.8931
33AT20060118,  CLIMODE-2,      42,          1,          9,         09,2,20060126,       1046,  38.238167,-65.0513333,          0,   402.9,   8.1417,  35.1306,2,  35.1294,2, 148.8000,2,   151.7,2,   14.73,2,   24.55,2,    0.00,2,    1.60,2,   8.0998
33AT20060118,  CLIMODE-2,      42,          1,          8,         08,2,20060126,       1046,  38.238167,-65.0513333,          0,   452.2,   7.1887,  35.0877,2,  35.0875,2, 172.2000,2,   175.1,2,   13.93,2,   22.83,2,    0.00,2,    1.51,2,   7.1449
33AT20060118,  CLIMODE-2,      42,          1,          7,         07,2,20060126,       1046,  38.238167,-65.0513333,          0,   504.9,   6.4592,  35.0552,2,  35.0543,2, 192.4000,2,   192.8,2,   13.45,2,   21.60,2,    0.00,2,    1.44,2,   6.4129
33AT20060118,  CLIMODE-2,      42,          1,          6,         06,2,20060126,       1046,  38.238167,-65.0513333,          0,   554.6,   5.9916,  35.0529,2,  35.0525,2, 207.6000,2,   205.8,2,   13.20,2,   20.87,2,    0.00,2,    1.39,2,   5.9424
33AT20060118,  CLIMODE-2,      42,          1,          5,         27,2,20060126,       1046,  38.238167,-65.0513333,          0,   607.1,   5.6408,  35.0441,2,  35.0442,2, 217.1000,2,   216.0,2,   12.82,2,   20.23,2,    0.00,2,    1.35,2,   5.5885
33AT20060118,  CLIMODE-2,      42,          1,          4,         04,2,20060126,       1046,  38.238167,-65.0513333,          0,   703.6,   5.0258,  35.0103,2,  35.0104,2, 235.8000,2,   235.2,2,   12.13,2,   19.11,2,    0.00,2,    1.28,2,   4.9679
33AT20060118,  CLIMODE-2,      42,          1,          3,         26,2,20060126,       1046,  38.238167,-65.0513333,          0,   804.2,   4.7184,  34.9981,2,  34.9990,2, 243.9000,2,   243.9,2,   11.97,2,   18.63,2,    0.00,2,    1.25,2,   4.6537
33AT20060118,  CLIMODE-2,      42,          1,          2,         02,2,20060126,       1046,  38.238167,-65.0513333,          0,   910.7,   4.5084,  34.9890,2,  34.9896,2, 250.0000,2,   250.0,2,   11.72,2,   18.29,2,    0.00,2,    1.23,2,   4.4358
33AT20060118,  CLIMODE-2,      42,          1,          1,         25,2,20060126,       1046,  38.238167,-65.0513333,          0,  1009.6,   4.3844,  34.9827,2,  34.9831,2, 253.0000,2,   253.1,2,   11.67,2,   18.08,2,    0.00,2,    1.22,2,   4.3042
33AT20060118,  CLIMODE-2,      43,          1,         22,         22,2,20060126,       1402,  38.381500,-65.1876667,          0,     2.8,  15.1389,  35.2977,2,  35.2950,2, 236.1000,2,   239.7,2,    1.74,2,    1.96,2,    0.26,2,    0.32,2,  15.1385
33AT20060118,  CLIMODE-2,      43,          1,         21,         29,2,20060126,       1402,  38.381500,-65.1876667,          0,    25.4,  15.1501,  35.2980,2,  35.2950,2, 236.3000,2,   239.8,2,    1.60,2,    1.97,2,    0.25,2,    0.32,2,  15.1462
33AT20060118,  CLIMODE-2,      43,          1,         20,         20,2,20060126,       1402,  38.381500,-65.1876667,          0,    50.3,  15.1525,  35.2978,2,  35.2952,2, 236.6000,2,   239.5,2,    1.79,2,    2.03,2,    0.25,2,    0.32,2,  15.1448
33AT20060118,  CLIMODE-2,      43,          1,         19,         28,2,20060126,       1402,  38.381500,-65.1876667,          0,    74.9,  15.1476,  35.2958,2,  35.2925,2, 236.6000,2,   237.9,2,    1.88,2,    2.13,2,    0.26,2,    0.33,2,  15.1362
33AT20060118,  CLIMODE-2,      43,          1,         18,         18,2,20060126,       1402,  38.381500,-65.1876667,          0,   100.9,  15.4562,  35.5028,2,  35.4721,2, 224.3000,2,   226.3,2,    2.61,2,    4.10,2,    0.17,2,    0.42,2,  15.4406
33AT20060118,  CLIMODE-2,      43,          1,         17,         17,2,20060126,       1402,  38.381500,-65.1876667,          0,   127.0,  14.4011,  35.7104,2,  35.7109,2, 154.8000,2,   154.6,2,    5.73,2,   13.27,2,    0.02,2,    0.87,2,  14.3823
33AT20060118,  CLIMODE-2,      43,          1,         16,         16,2,20060126,       1402,  38.381500,-65.1876667,          0,   150.0,  13.3569,  35.6534,2,  35.6582,2, 148.3000,2,   151.3,2,    6.80,2,   15.75,2,    0.02,2,    1.01,2,  13.3358
33AT20060118,  CLIMODE-2,      43,          1,         15,         15,2,20060126,       1402,  38.381500,-65.1876667,          0,   176.8,  12.6410,  35.6137,2,  35.6108,2, 145.5000,2,   140.1,2,    8.85,2,   19.14,2,    0.02,2,    1.19,2,  12.6170
33AT20060118,  CLIMODE-2,      43,          1,         14,         14,2,20060126,       1402,  38.381500,-65.1876667,          0,   201.0,  11.6159,  35.4839,2,  35.4824,2, 132.7000,2,   134.5,2,   10.69,2,   21.86,2,    0.01,2,    1.35,2,  11.5901
33AT20060118,  CLIMODE-2,      43,          1,         13,         13,2,20060126,       1402,  38.381500,-65.1876667,          0,   252.2,  10.3494,  35.3213,2,  35.3193,2, 133.4000,2,   134.1,2,   12.53,2,   24.06,2,    0.01,2,    1.49,2,  10.3193
33AT20060118,  CLIMODE-2,      43,          1,         12,         12,2,20060126,       1402,  38.381500,-65.1876667,          0,   303.5,   9.1676,  35.2032,2,  35.2037,2, 138.8000,2,   138.5,2,   14.58,2,   25.67,2,    0.01,2,    1.61,2,   9.1340
33AT20060118,  CLIMODE-2,      43,          1,         11,         11,2,20060126,       1402,  38.381500,-65.1876667,          0,   404.4,   7.1202,  35.0851,2,  35.0826,2, 175.0000,2,   571.4,4,   13.90,2,   23.04,2,    0.00,2,    1.50,2,   7.0814
33AT20060118,  CLIMODE-2,      43,          1,         10,         10,2,20060126,       1402,  38.381500,-65.1876667,          0,   504.0,   5.7930,  35.0382,2,  35.0373,2, 210.2000,2,   211.6,2,   12.78,2,   20.47,2,    0.00,2,    1.37,2,   5.7493
33AT20060118,  CLIMODE-2,      43,          1,          9,         09,2,20060126,       1402,  38.381500,-65.1876667,          0,   606.1,   5.2069,  35.0241,2,  35.0241,2, 229.2000,2,   228.1,2,   12.32,2,   19.47,2,    0.00,2,    1.31,2,   5.1567
33AT20060118,  CLIMODE-2,      43,          1,          8,         08,2,20060126,       1402,  38.381500,-65.1876667,          0,   706.3,   4.8607,  35.0129,2,  35.0121,2, 240.0000,2,   239.3,2,   11.97,2,   18.82,2,    0.00,2,    1.27,2,   4.8035
33AT20060118,  CLIMODE-2,      43,          1,          7,         07,2,20060126,       1402,  38.381500,-65.1876667,          0,   807.5,   4.5702,  34.9956,2,  34.9974,2, 247.9000,2,   247.4,2,   11.83,2,   18.40,2,    0.00,2,    1.24,2,   4.5061
33AT20060118,  CLIMODE-2,      43,          1,          6,         06,2,20060126,       1402,  38.381500,-65.1876667,          0,   908.2,   4.2965,  34.9745,2,  34.9744,2, 254.7000,2,   254.8,2,   11.59,2,   17.98,2,    0.00,2,    1.22,2,   4.2256
33AT20060118,  CLIMODE-2,      43,          1,          5,         27,2,20060126,       1402,  38.381500,-65.1876667,          0,  1010.5,   4.2141,  34.9735,2,  34.9734,2, 257.3000,2,   256.6,2,   11.79,2,   17.80,2,    0.00,2,    1.22,2,   4.1351
33AT20060118,  CLIMODE-2,      43,          1,          4,         04,2,20060126,       1402,  38.381500,-65.1876667,          0,  1261.2,   3.9687,  34.9660,2,  34.9655,2, 261.6000,2,   261.4,2,   12.20,2,   17.55,2,    0.00,2,    1.21,2,   3.8702
33AT20060118,  CLIMODE-2,      43,          1,          3,         26,2,20060126,       1402,  38.381500,-65.1876667,          0,  1516.8,   3.7403,  34.9522,2,  34.9520,2, 265.4000,2,   265.7,2,   12.51,2,   17.42,2,    0.00,2,    1.20,2,   3.6216
33AT20060118,  CLIMODE-2,      43,          1,          2,         02,2,20060126,       1402,  38.381500,-65.1876667,          0,  1770.6,   3.5462,  34.9464,2,  34.9472,2, 267.8000,2,   268.0,2,   13.25,2,   17.41,2,    0.00,2,    1.20,2,   3.4069
33AT20060118,  CLIMODE-2,      43,          1,          1,         25,2,20060126,       1402,  38.381500,-65.1876667,          0,  2023.9,   3.3658,  34.9419,2,  34.9415,2, 268.5000,2,   268.5,2,   14.65,2,   17.40,2,    0.00,2,    1.20,2,   3.2056
33AT20060118,  CLIMODE-2,      44,          1,         20,         20,2,20060127,       0006,  38.203167,-63.8010000,          0,     2.9,  21.6375,  36.5641,2,  36.5658,2, 206.9000,2,   209.1,2,    0.75,2,    0.53,2,    0.17,2,    0.07,2,  21.6369
33AT20060118,  CLIMODE-2,      44,          1,         19,         28,2,20060127,       0006,  38.203167,-63.8010000,          0,    28.0,  21.6522,  36.5638,2,  36.5700,2, 207.6000,2,   209.3,2,    0.75,2,    0.53,2,    0.17,2,    0.07,2,  21.6467
33AT20060118,  CLIMODE-2,      44,          1,         18,         18,2,20060127,       0006,  38.203167,-63.8010000,          0,    50.1,  21.6499,  36.5637,2,  36.5647,2, 207.3000,2,   209.5,2,    0.75,2,    0.53,2,    0.17,2,    0.07,2,  21.6400
33AT20060118,  CLIMODE-2,      44,          1,         17,         17,2,20060127,       0006,  38.203167,-63.8010000,          0,    76.3,  21.1346,  36.6021,2,  36.5953,2, 209.3000,2,   207.2,2,    0.75,2,    0.88,2,    0.22,2,    0.08,2,  21.1198
33AT20060118,  CLIMODE-2,      44,          1,         16,         16,2,20060127,       0006,  38.203167,-63.8010000,          0,   102.7,  20.4190,  36.6268,2,  36.6296,2, 215.2000,2,   216.2,2,    0.64,2,    0.39,2,    0.25,2,    0.05,2,  20.3996
33AT20060118,  CLIMODE-2,      44,          1,         15,         15,2,20060127,       0006,  38.203167,-63.8010000,          0,   125.5,  20.2544,  36.6504,2,  36.6514,2, 215.4000,2,   216.4,2,    0.54,2,    0.36,2,    0.23,2,    0.05,2,  20.2308
33AT20060118,  CLIMODE-2,      44,          1,         14,         14,2,20060127,       0006,  38.203167,-63.8010000,          0,   151.6,  20.1716,  36.7282,2,  36.7332,2, 206.5000,2,   196.9,2,    1.07,2,    1.55,2,    0.05,2,    0.10,2,  20.1431
33AT20060118,  CLIMODE-2,      44,          1,         13,         13,2,20060127,       0006,  38.203167,-63.8010000,          0,   202.2,  19.6321,  36.6860,2,  36.6965,2, 204.0000,2,   206.4,2,    1.07,2,    1.37,2,    0.04,2,    0.09,2,  19.5949
33AT20060118,  CLIMODE-2,      44,          1,         12,         12,2,20060127,       0006,  38.203167,-63.8010000,          0,   252.8,  18.9377,  36.6585,2,  36.6585,2, 202.1000,2,   203.3,2,    1.18,2,    2.51,2,    0.01,2,    0.14,2,  18.8922
33AT20060118,  CLIMODE-2,      44,          1,         11,         11,2,20060127,       0006,  38.203167,-63.8010000,          0,   303.6,  18.7161,  36.6430,2,  36.6420,2, 205.1000,2,   204.9,2,    1.30,2,    2.76,2,    0.01,2,    0.15,2,  18.6618
33AT20060118,  CLIMODE-2,      44,          1,         10,         10,2,20060127,       0006,  38.203167,-63.8010000,          0,   351.2,  18.4591,  36.6155,2,  36.6161,2, 203.3000,2,   204.7,2,    1.41,2,    3.17,2,    0.01,2,    0.18,2,  18.3969
33AT20060118,  CLIMODE-2,      44,          1,          9,         09,2,20060127,       0006,  38.203167,-63.8010000,          0,   402.5,  18.1445,  36.5605,2,  36.5606,2, 198.5000,2,   198.9,2,    1.62,2,    4.24,2,    0.01,2,    0.23,2,  18.0740
33AT20060118,  CLIMODE-2,      44,          1,          8,         08,3,20060127,       0006,  38.203167,-63.8010000,          0,   449.9,  17.9527,  36.5354,2,  36.5372,2, 199.2000,2,   200.5,2,    1.84,2,    4.49,2,    0.01,2,    0.25,2,  17.8744
33AT20060118,  CLIMODE-2,      44,          1,          7,         07,2,20060127,       0006,  38.203167,-63.8010000,          0,   504.6,  17.2458,  36.3946,2,  36.3984,2, 184.6000,2,   184.5,2,    2.49,2,    7.09,2,    0.01,2,    0.40,2,  17.1603
33AT20060118,  CLIMODE-2,      44,          1,          6,         06,2,20060127,       0006,  38.203167,-63.8010000,          0,   553.5,  16.2790,  36.2279,2,  36.2296,2, 180.6000,2,   180.0,2,    3.25,2,    9.02,2,    0.00,2,    0.53,2,  16.1887
33AT20060118,  CLIMODE-2,      44,          1,          5,         27,2,20060127,       0006,  38.203167,-63.8010000,          0,   604.9,  15.3313,  36.0664,2,  36.0673,2, 177.4000,2,   176.7,2,    4.12,2,   10.97,2,    0.00,2,    0.66,2,  15.2364
33AT20060118,  CLIMODE-2,      44,          1,          4,         04,2,20060127,       0006,  38.203167,-63.8010000,          0,   705.0,  12.7164,  35.6494,2,  35.6539,2, 159.4000,2,   155.6,2,    7.94,2,   17.40,2,    0.00,2,    1.07,2,  12.6184
33AT20060118,  CLIMODE-2,      44,          1,          3,         26,2,20060127,       0006,  38.203167,-63.8010000,          0,   805.9,  10.1574,  35.2938,2,  35.2981,2, 134.0000,2,   135.0,2,   13.41,2,   24.21,2,    0.00,2,    1.52,2,  10.0598
33AT20060118,  CLIMODE-2,      44,          1,          2,         02,2,20060127,       0006,  38.203167,-63.8010000,          0,   908.8,   7.8640,  35.1189,2,  35.1181,2, 157.5000,2,   160.8,2,   15.17,2,   24.27,2,    0.00,2,    1.57,2,   7.7686
33AT20060118,  CLIMODE-2,      44,          1,          1,         25,2,20060127,       0006,  38.203167,-63.8010000,          0,  1011.2,   6.0616,  35.0452,2,  35.0452,2, 206.7000,2,   205.9,2,   13.42,2,   20.82,2,    0.00,2,    1.39,2,   5.9683