BOTTLE,20120918SIOCCHMYS
EXPOCODE,SECT_ID,STNNBR,CASTNO,SAMPNO,BTLNBR,BTLNBR_FLAG_W,DATE,TIME,LATITUDE,LONGITUDE,DEPTH,CTDPRS,CTDTMP,CTDSAL,CTDSAL_FLAG_W,SALNTY,SALNTY_FLAG_W,CTDOXY,CTDOXY_FLAG_W,OXYGEN,OXYGEN_FLAG_W,SILCAT,SILCAT_FLAG_W,NITRAT,NITRAT_FLAG_W,NITRIT,NITRIT_FLAG_W,PHSPHT,PHSPHT_FLAG_W,THETA
,,,,,,,,,,,,DBAR,ITS-90,PSS-78,,PSS-78,,UMOL/KG,,UMOL/KG,,UMOL/KG,,UMOL/KG,,UMOL/KG,,UMOL/KG,,DEG C
33AT20060118,  CLIMODE-2,       9,          1,         20,         20,2,20060121,       1638,  37.983500,-69.6148333,          0,     2.2,  18.4280,  35.8425,2,  35.8402,2, 216.3000,2,   222.8,2,    1.59,2,    2.21,2,    0.40,2,    0.21,2,  18.4276
33AT20060118,  CLIMODE-2,       9,          1,         19,         28,2,20060121,       1638,  37.983500,-69.6148333,          0,    25.0,  18.5994,  35.9548,2,  35.9591,2, 216.5000,2,   217.7,2,    1.58,2,    2.48,2,    0.37,2,    0.21,2,  18.5950
33AT20060118,  CLIMODE-2,       9,          1,         18,         18,2,20060121,       1638,  37.983500,-69.6148333,          0,    50.5,  19.1505,  36.2715,2,  36.2684,2, 213.8000,2,   209.3,2,    1.56,2,    3.21,2,    0.33,2,    0.21,2,  19.1414
33AT20060118,  CLIMODE-2,       9,          1,         17,         17,2,20060121,       1638,  37.983500,-69.6148333,          0,    75.4,  19.1203,  36.2720,2,  36.2700,2, 211.0000,2,   208.3,2,    1.55,2,    3.23,2,    0.36,2,    0.21,2,  19.1067
33AT20060118,  CLIMODE-2,       9,          1,         16,         16,2,20060121,       1638,  37.983500,-69.6148333,          0,   100.8,  18.9745,  36.2697,2,  36.2621,2, 206.2000,2,   207.2,2,    1.77,2,    3.37,2,    0.42,2,    0.23,2,  18.9564
33AT20060118,  CLIMODE-2,       9,          1,         15,         15,2,20060121,       1638,  37.983500,-69.6148333,          0,   125.7,  16.7293,  36.1520,2,  36.1483,2, 154.3000,2,   153.3,2,    4.92,2,   11.34,2,    0.10,2,    0.65,2,  16.7087
33AT20060118,  CLIMODE-2,       9,          1,         14,         14,2,20060121,       1638,  37.983500,-69.6148333,          0,   151.4,  15.9843,  36.1550,2,  36.1546,2, 151.0000,2,   151.3,2,    4.68,2,   12.60,2,    0.01,2,    0.72,2,  15.9602
33AT20060118,  CLIMODE-2,       9,          1,         13,         13,2,20060121,       1638,  37.983500,-69.6148333,          0,   176.4,  15.6453,  36.1059,2,  36.1047,2, 154.0000,2,   153.1,2,    4.79,2,   12.95,2,    0.01,2,    0.74,2,  15.6176
33AT20060118,  CLIMODE-2,       9,          1,         12,         12,2,20060121,       1638,  37.983500,-69.6148333,          0,   227.2,  14.3458,  35.9025,2,  35.9034,2, 149.5000,2,   152.1,2,    5.90,2,   15.07,2,    0.01,2,    0.88,2,  14.3121
33AT20060118,  CLIMODE-2,       9,          1,         11,         11,2,20060121,       1638,  37.983500,-69.6148333,          0,   277.3,  13.3444,  35.7478,2,  35.7499,2, 146.1000,2,   143.8,2,    7.82,2,   17.62,2,    0.01,2,    1.06,2,  13.3052
33AT20060118,  CLIMODE-2,       9,          1,         10,         10,2,20060121,       1638,  37.983500,-69.6148333,          0,   327.1,  10.9717,  35.3953,2,  35.3987,2, 132.0000,2,   131.4,2,   12.10,2,   22.90,2,    0.00,2,    1.42,2,  10.9310
33AT20060118,  CLIMODE-2,       9,          1,          9,         09,2,20060121,       1638,  37.983500,-69.6148333,          0,   377.4,   9.6923,  35.2400,2,  35.2398,2, 132.3000,2,   131.1,2,   14.59,2,   25.08,2,    0.00,2,    1.58,2,   9.6488
33AT20060118,  CLIMODE-2,       9,          1,          8,         08,2,20060121,       1638,  37.983500,-69.6148333,          0,   428.2,   8.7297,  35.1527,2,  35.1500,2, 139.4000,2,   139.9,2,   15.82,2,   25.49,2,    0.01,2,    1.63,2,   8.6833
33AT20060118,  CLIMODE-2,       9,          1,          7,         07,2,20060121,       1638,  37.983500,-69.6148333,          0,   478.4,   7.8043,  35.1197,2,  35.1180,2, 162.2000,2,   160.9,2,   15.02,2,   23.86,2,    0.00,2,    1.53,2,   7.7556
33AT20060118,  CLIMODE-2,       9,          1,          6,         06,2,20060121,       1638,  37.983500,-69.6148333,          0,   529.2,   7.0043,  35.0850,2,  35.0851,2, 179.8000,2,   179.1,2,   14.32,2,   22.54,2,    0.00,2,    1.47,2,   6.9534
33AT20060118,  CLIMODE-2,       9,          1,          5,         27,2,20060121,       1638,  37.983500,-69.6148333,          0,   579.7,   6.1616,  35.0586,2,  35.0552,2, 201.5000,2,   201.5,2,   13.75,2,   21.11,2,    0.00,2,    1.39,2,   6.1094
33AT20060118,  CLIMODE-2,       9,          1,          4,         04,2,20060121,       1638,  37.983500,-69.6148333,          0,   681.8,   5.3134,  35.0445,2,  35.0448,2, 227.1000,2,   226.4,2,   12.95,2,   19.54,2,    0.00,2,    1.28,2,   5.2559
33AT20060118,  CLIMODE-2,       9,          1,          3,         26,2,20060121,       1638,  37.983500,-69.6148333,          0,   783.7,   4.9798,  35.0433,2,  35.0438,2, 241.0000,2,   236.2,2,   12.82,2,   19.01,2,    0.00,2,    1.25,2,   4.9151
33AT20060118,  CLIMODE-2,       9,          1,          2,         02,2,20060121,       1638,  37.983500,-69.6148333,          0,   885.2,   4.5388,  35.0019,2,  35.0020,2, 253.2000,2,   248.2,2,   12.24,2,   18.42,2,    0.00,2,    1.20,2,   4.4682
33AT20060118,  CLIMODE-2,       9,          1,          1,         25,2,20060121,       1638,  37.983500,-69.6148333,          0,  1015.9,   4.1489,  34.9635,2,  34.9640,2, 263.1000,2,   258.3,2,   12.01,2,   17.99,2,    0.00,2,    1.18,2,   4.0700
33AT20060118,  CLIMODE-2,      10,          1,         20,         20,2,20060121,       1910,  38.149333,-69.6433333,          0,     2.5,  17.4618,  35.8078,2,  35.8084,2, 234.6000,2,   229.7,2,    1.68,2,    2.84,2,    0.22,2,    0.23,2,  17.4613
33AT20060118,  CLIMODE-2,      10,          1,         19,         28,2,20060121,       1910,  38.149333,-69.6433333,          0,    25.8,  16.4441,  35.6051,2,  35.6186,2, 236.3000,2,   231.0,2,    1.88,2,    3.33,2,    0.22,2,    0.26,2,  16.4399
33AT20060118,  CLIMODE-2,      10,          1,         18,         18,2,20060121,       1910,  38.149333,-69.6433333,          0,    50.8,  14.3238,  35.1707,2,  35.1685,2, 241.1000,2,   241.1,2,    2.30,2,    4.38,2,    0.16,2,    0.35,2,  14.3164
33AT20060118,  CLIMODE-2,      10,          1,         17,         17,2,20060121,       1910,  38.149333,-69.6433333,          0,    75.6,  14.1414,  35.1533,2,  35.1510,2, 247.4000,2,   241.4,2,    2.39,2,    4.57,2,    0.16,2,    0.36,2,  14.1305
33AT20060118,  CLIMODE-2,      10,          1,         16,         16,2,20060121,       1910,  38.149333,-69.6433333,          0,   101.0,  13.8552,  35.1130,2,  35.1098,2, 250.0000,2,   241.3,2,    2.58,2,    4.83,2,    0.15,2,    0.38,2,  13.8407
33AT20060118,  CLIMODE-2,      10,          1,         15,         15,2,20060121,       1910,  38.149333,-69.6433333,          0,   125.4,  13.8070,  35.1404,2,  35.1372,2, 244.2000,2,   250.1,2,    2.66,2,    5.06,2,    0.16,2,    0.39,2,  13.7891
33AT20060118,  CLIMODE-2,      10,          1,         14,         14,2,20060121,       1910,  38.149333,-69.6433333,          0,   150.4,  13.9082,  35.6576,2,  35.6377,2, 158.9000,2,   156.3,2,    6.34,2,   14.54,2,    0.02,2,    0.89,2,  13.8865
33AT20060118,  CLIMODE-2,      10,          1,         13,         13,2,20060121,       1910,  38.149333,-69.6433333,          0,   201.4,  11.6797,  35.4898,2,  35.4838,2, 135.3000,2,   134.4,2,   10.47,2,   21.28,2,    0.02,2,    1.30,2,  11.6538
33AT20060118,  CLIMODE-2,      10,          1,         12,         12,2,20060121,       1910,  38.149333,-69.6433333,          0,   252.5,   9.9726,  35.2816,2,  35.2801,2, 132.0000,2,   132.2,2,   13.47,2,   24.37,2,    0.01,2,    1.52,2,   9.9431
33AT20060118,  CLIMODE-2,      10,          1,         11,         11,2,20060121,       1910,  38.149333,-69.6433333,          0,   302.1,   8.8831,  35.1791,2,  35.1767,2, 136.7000,2,   139.9,2,   14.79,2,   25.02,2,    0.01,2,    1.58,2,   8.8503
33AT20060118,  CLIMODE-2,      10,          1,         10,         10,2,20060121,       1910,  38.149333,-69.6433333,          0,   350.5,   7.9311,  35.1261,2,  35.1231,2, 152.8000,2,   158.2,2,   14.55,2,   24.04,2,    0.00,2,    1.54,2,   7.8954
33AT20060118,  CLIMODE-2,      10,          1,          9,         09,2,20060121,       1910,  38.149333,-69.6433333,          0,   402.3,   6.9390,  35.0835,2,  35.0841,2, 175.8000,2,   178.8,2,   14.41,2,   22.85,2,    0.00,2,    1.48,2,   6.9008
33AT20060118,  CLIMODE-2,      10,          1,          8,         08,2,20060121,       1910,  38.149333,-69.6433333,          0,   453.1,   6.2595,  35.0541,2,  35.0538,2, 195.7000,2,   198.0,2,   13.37,2,   21.36,2,    0.00,2,    1.39,2,   6.2187
33AT20060118,  CLIMODE-2,      10,          1,          7,         07,2,20060121,       1910,  38.149333,-69.6433333,          0,   504.3,   5.8496,  35.0492,2,  35.0491,2, 212.9000,2,   209.8,2,   13.12,2,   20.63,2,    0.00,2,    1.35,2,   5.8057
33AT20060118,  CLIMODE-2,      10,          1,          6,         06,2,20060121,       1910,  38.149333,-69.6433333,          0,   554.6,   5.2801,  35.0157,2,  35.0180,2, 228.9000,2,   224.9,2,   12.53,2,   19.69,2,    0.00,2,    1.29,2,   5.2340
33AT20060118,  CLIMODE-2,      10,          1,          5,         27,2,20060121,       1910,  38.149333,-69.6433333,          0,   605.0,   5.1417,  35.0201,2,  35.0192,2, 239.4000,2,   230.9,2,   12.28,2,   19.30,2,    0.00,2,    1.27,2,   5.0918
33AT20060118,  CLIMODE-2,      10,          1,          4,         04,2,20060121,       1910,  38.149333,-69.6433333,          0,   706.0,   4.8105,  35.0068,2,  35.0067,2, 248.5000,2,   241.0,2,   11.92,2,   18.76,2,    0.00,2,    1.23,2,   4.7536
33AT20060118,  CLIMODE-2,      10,          1,          3,         26,2,20060121,       1910,  38.149333,-69.6433333,          0,   807.8,   4.4470,  34.9782,2,  34.9778,2, 257.7000,2,   251.5,2,   11.66,2,   18.21,2,    0.00,2,    1.19,2,   4.3836
33AT20060118,  CLIMODE-2,      10,          1,          2,         02,2,20060121,       1910,  38.149333,-69.6433333,          0,   911.0,   4.3217,  34.9774,2,  34.9780,2, 260.0000,2,   254.1,2,   11.75,2,   18.12,2,    0.00,2,    1.18,2,   4.2504
33AT20060118,  CLIMODE-2,      10,          1,          1,         25,2,20060121,       1910,  38.149333,-69.6433333,          0,  1019.0,   4.1785,  34.9714,2,  34.9723,2, 261.9000,2,   257.5,2,   11.84,2,   17.98,2,    0.00,2,    1.18,2,   4.0991
33AT20060118,  CLIMODE-2,      11,          1,         20,         20,2,20060121,       2127,  38.314500,-69.6731667,          0,     2.7,  14.6946,  35.1971,2,  35.1957,2, 246.9000,2,   246.2,2,    1.74,2,    3.67,2,    0.14,2,    0.31,2,  14.6942
33AT20060118,  CLIMODE-2,      11,          1,         19,         28,2,20060121,       2127,  38.314500,-69.6731667,          0,    27.5,  14.0245,  35.0804,2,  35.0848,2, 243.1000,2,   240.9,2,    1.86,2,    4.55,2,    0.15,2,    0.37,2,  14.0206
33AT20060118,  CLIMODE-2,      11,          1,         18,         18,2,20060121,       2127,  38.314500,-69.6731667,          0,    50.5,  13.5980,  35.0313,2,  35.0516,2, 237.0000,2,   240.2,2,    1.97,2,    4.90,2,    0.13,2,    0.39,2,  13.5909
33AT20060118,  CLIMODE-2,      11,          1,         17,         17,2,20060121,       2127,  38.314500,-69.6731667,          0,    76.1,  13.3663,  34.9860,2,  34.9841,2, 241.3000,2,   241.2,2,    1.98,2,    5.13,2,    0.14,2,    0.40,2,  13.3557
33AT20060118,  CLIMODE-2,      11,          1,         16,         16,2,20060121,       2127,  38.314500,-69.6731667,          0,   102.2,  13.8382,  35.3179,2,  35.2826,3, 205.5000,2,   205.5,2,    3.57,2,    8.83,2,    0.07,2,    0.59,2,  13.8236
33AT20060118,  CLIMODE-2,      11,          1,         15,         15,2,20060121,       2127,  38.314500,-69.6731667,          0,   126.3,  13.1015,  35.6414,2,  35.6557,2, 147.1000,2,   146.9,2,    6.95,2,   17.27,2,    0.01,2,    1.05,2,  13.0840
33AT20060118,  CLIMODE-2,      11,          1,         14,         14,2,20060121,       2127,  38.314500,-69.6731667,          0,   150.1,  12.3057,  35.5617,2,  35.5600,2, 144.9000,2,   142.7,2,    8.31,2,   19.40,2,    0.00,2,    1.18,2,  12.2857
33AT20060118,  CLIMODE-2,      11,          1,         13,         13,2,20060121,       2127,  38.314500,-69.6731667,          0,   176.4,  11.4211,  35.4588,2,  35.4577,2, 136.9000,2,   135.3,2,   10.12,2,   21.84,2,    0.00,2,    1.34,2,  11.3987
33AT20060118,  CLIMODE-2,      11,          1,         12,         12,2,20060121,       2127,  38.314500,-69.6731667,          0,   226.9,   9.9954,  35.2883,2,  35.2871,2, 131.2000,2,   131.1,2,   12.71,2,   24.68,2,    0.00,2,    1.53,2,   9.9690
33AT20060118,  CLIMODE-2,      11,          1,         11,         11,2,20060121,       2127,  38.314500,-69.6731667,          0,   276.6,   8.8481,  35.1707,2,  35.1729,2, 136.4000,2,   137.4,2,   14.30,2,   25.68,2,    0.00,2,    1.62,2,   8.8182
33AT20060118,  CLIMODE-2,      11,          1,         10,         10,2,20060121,       2127,  38.314500,-69.6731667,          0,   327.1,   8.0287,  35.1296,2,  35.1303,2, 153.7000,2,   155.3,2,   13.97,2,   24.58,2,    0.00,2,    1.56,2,   7.9952
33AT20060118,  CLIMODE-2,      11,          1,          9,         09,2,20060121,       2127,  38.314500,-69.6731667,          0,   377.4,   7.0396,  35.0959,2,  35.0945,2, 180.4000,2,   179.6,2,   13.30,2,   22.78,2,    0.00,2,    1.47,2,   7.0036
33AT20060118,  CLIMODE-2,      11,          1,          8,         08,2,20060121,       2127,  38.314500,-69.6731667,          0,   428.1,   6.2337,  35.0534,2,  35.0577,2, 199.5000,2,   198.4,2,   12.75,2,   21.54,2,    0.00,2,    1.40,2,   6.1953
33AT20060118,  CLIMODE-2,      11,          1,          7,         07,2,20060121,       2127,  38.314500,-69.6731667,          0,   479.1,   5.8506,  35.0477,2,  35.0466,2, 210.8000,2,   210.0,2,   12.41,2,   20.74,2,    0.00,2,    1.36,2,   5.8090
33AT20060118,  CLIMODE-2,      11,          1,          6,         06,2,20060121,       2127,  38.314500,-69.6731667,          0,   528.8,   5.4707,  35.0370,2,  35.0382,2, 221.8000,2,   221.1,2,   12.08,2,   20.05,2,    0.00,2,    1.31,2,   5.4261
33AT20060118,  CLIMODE-2,      11,          1,          5,         27,2,20060121,       2127,  38.314500,-69.6731667,          0,   580.4,   5.1082,  35.0208,2,  35.0209,2, 233.1000,2,   254.2,3,   11.75,2,   19.40,2,    0.00,2,    1.28,2,   5.0607
33AT20060118,  CLIMODE-2,      11,          1,          4,         04,2,20060121,       2127,  38.314500,-69.6731667,          0,   681.5,   4.7174,  35.0010,2,  35.0051,2, 243.4000,2,   242.9,2,   11.31,2,   18.86,2,    0.00,2,    1.24,2,   4.6631
33AT20060118,  CLIMODE-2,      11,          1,          3,         26,2,20060121,       2127,  38.314500,-69.6731667,          0,   782.1,   4.4531,  34.9862,2,  34.9858,2, 250.3000,2,   250.7,2,   11.31,2,   18.41,2,    0.00,2,    1.21,2,   4.3919
33AT20060118,  CLIMODE-2,      11,          1,          2,         02,2,20060121,       2127,  38.314500,-69.6731667,          0,   883.2,   4.2832,  34.9782,2,  34.9774,2, 254.7000,2,   255.1,2,   11.43,2,   18.20,2,    0.00,2,    1.20,2,   4.2145
33AT20060118,  CLIMODE-2,      11,          1,          1,         25,2,20060121,       2127,  38.314500,-69.6731667,          0,  1009.6,   4.0989,  34.9666,2,  34.9669,2, 259.9000,2,   259.5,2,   11.44,2,   18.05,2,    0.00,2,    1.19,2,   4.0209