BOTTLE,20120918SIOCCHMYS
EXPOCODE,SECT_ID,STNNBR,CASTNO,SAMPNO,BTLNBR,BTLNBR_FLAG_W,DATE,TIME,LATITUDE,LONGITUDE,DEPTH,CTDPRS,CTDTMP,CTDSAL,CTDSAL_FLAG_W,SALNTY,SALNTY_FLAG_W,CTDOXY,CTDOXY_FLAG_W,OXYGEN,OXYGEN_FLAG_W,SILCAT,SILCAT_FLAG_W,NITRAT,NITRAT_FLAG_W,NITRIT,NITRIT_FLAG_W,PHSPHT,PHSPHT_FLAG_W,THETA
,,,,,,,,,,,,DBAR,ITS-90,PSS-78,,PSS-78,,UMOL/KG,,UMOL/KG,,UMOL/KG,,UMOL/KG,,UMOL/KG,,UMOL/KG,,DEG C
33AT20060118,  CLIMODE-2,      39,          1,         21,         29,2,20060125,       2334,  37.801333,-64.6473333,          0,     2.2,  21.6694,  36.5429,2,  36.5437,2, 213.5000,2,   215.8,2,    0.62,2,    0.57,2,    0.15,2,    0.06,2,  21.6689
33AT20060118,  CLIMODE-2,      39,          1,         20,         20,2,20060125,       2334,  37.801333,-64.6473333,          0,    26.3,  21.6767,  36.5412,2,  36.5478,2, 212.3000,2,   211.1,2,    0.83,2,    0.57,2,    0.15,2,    0.06,2,  21.6715
33AT20060118,  CLIMODE-2,      39,          1,         19,         28,2,20060125,       2334,  37.801333,-64.6473333,          0,    51.2,  21.6497,  36.5381,2,  36.5388,2, 211.9000,2,   210.8,2,    0.72,2,    0.62,2,    0.15,2,    0.05,2,  21.6397
33AT20060118,  CLIMODE-2,      39,          1,         18,         18,2,20060125,       2334,  37.801333,-64.6473333,          0,    75.5,  21.3268,  36.5557,2,  36.5560,2, 211.3000,2,   212.4,2,    0.82,2,    0.68,2,    0.17,2,    0.06,2,  21.3121
33AT20060118,  CLIMODE-2,      39,          1,         17,         17,2,20060125,       2334,  37.801333,-64.6473333,          0,   100.8,  20.3647,  36.6430,2,  36.6420,2, 215.9000,2,   216.2,2,    0.61,2,    0.45,2,    0.26,2,    0.05,2,  20.3457
33AT20060118,  CLIMODE-2,      39,          1,         16,         16,2,20060125,       2334,  37.801333,-64.6473333,          0,   126.8,  20.0949,  36.6563,2,  36.6560,2, 215.4000,2,   215.5,2,    1.25,2,    0.58,2,    0.22,2,    0.05,2,  20.0711
33AT20060118,  CLIMODE-2,      39,          1,         15,         15,2,20060125,       2334,  37.801333,-64.6473333,          0,   150.6,  19.9633,  36.6570,2,  36.6603,2, 216.2000,2,   215.4,2,    1.03,2,    0.62,2,    0.22,2,    0.05,2,  19.9352
33AT20060118,  CLIMODE-2,      39,          1,         14,         14,2,20060125,       2334,  37.801333,-64.6473333,          0,   175.9,  19.9369,  36.6670,2,  36.6777,2, 214.7000,2,   213.2,2,    0.92,2,    0.79,2,    0.15,2,    0.05,2,  19.9042
33AT20060118,  CLIMODE-2,      39,          1,         12,         12,2,20060125,       2334,  37.801333,-64.6473333,          0,   228.3,  19.0987,  36.6621,2,  36.6611,2, 198.7000,2,   198.6,2,    1.02,2,    2.66,2,    0.01,2,    0.13,2,  19.0574
33AT20060118,  CLIMODE-2,      39,          1,         13,         13,2,20060125,       2334,  37.801333,-64.6473333,          0,   229.0,  19.0954,  36.6620,2,  36.6705,2, 198.7000,2,   198.9,2,    1.02,2,    2.66,2,    0.01,2,    0.13,2,  19.0540
33AT20060118,  CLIMODE-2,      39,          1,         11,         11,2,20060125,       2334,  37.801333,-64.6473333,          0,   278.6,  18.7846,  36.6506,2,  36.6539,2, 204.9000,2,   204.4,2,    1.13,2,    2.85,2,    0.01,2,    0.14,2,  18.7348
33AT20060118,  CLIMODE-2,      39,          1,         10,         10,2,20060125,       2334,  37.801333,-64.6473333,          0,   327.1,  18.5768,  36.6298,2,  36.6292,2, 204.3000,2,   205.3,2,    1.12,2,    3.13,2,    0.01,2,    0.16,2,  18.5186
33AT20060118,  CLIMODE-2,      39,          1,          9,         09,2,20060125,       2334,  37.801333,-64.6473333,          0,   376.7,  18.2399,  36.5906,2,  36.5899,2, 206.1000,2,   204.9,2,    1.34,2,    3.74,2,    0.01,2,    0.19,2,  18.1737
33AT20060118,  CLIMODE-2,      39,          1,          8,         08,2,20060125,       2334,  37.801333,-64.6473333,          0,   426.7,  17.9456,  36.5383,2,  36.5423,2, 200.8000,2,   201.5,2,    1.55,2,    4.59,2,    0.01,2,    0.24,2,  17.8714
33AT20060118,  CLIMODE-2,      39,          1,          7,         07,2,20060125,       2334,  37.801333,-64.6473333,          0,   478.8,  17.0223,  36.3598,2,  36.3630,2, 184.5000,2,   184.5,2,    2.42,2,    7.61,2,    0.00,2,    0.42,2,  16.9419
33AT20060118,  CLIMODE-2,      39,          1,          6,         06,2,20060125,       2334,  37.801333,-64.6473333,          0,   529.1,  16.1815,  36.2167,2,  36.2152,2, 182.3000,2,   181.8,2,    2.97,2,    9.27,2,    0.00,2,    0.54,2,  16.0956
33AT20060118,  CLIMODE-2,      39,          1,          5,         27,2,20060125,       2334,  37.801333,-64.6473333,          0,   579.3,  14.7070,  35.9613,2,  35.9642,2, 169.2000,2,   167.7,2,    4.71,2,   12.88,2,    0.00,2,    0.77,2,  14.6187
33AT20060118,  CLIMODE-2,      39,          1,          4,         04,2,20060125,       2334,  37.801333,-64.6473333,          0,   681.3,  12.2032,  35.5781,2,  35.5755,2, 153.8000,2,   153.6,2,    8.41,2,   18.50,2,    0.00,2,    1.14,2,  12.1111
33AT20060118,  CLIMODE-2,      39,          1,          3,         26,2,20060125,       2334,  37.801333,-64.6473333,          0,   780.5,   9.9685,  35.2934,2,  35.2949,2, 141.8000,2,   141.6,2,   12.79,2,   23.46,2,    0.00,2,    1.49,2,   9.8751
33AT20060118,  CLIMODE-2,      39,          1,          2,         02,2,20060125,       2334,  37.801333,-64.6473333,          0,   880.8,   7.4924,  35.1060,2,  35.1071,2, 166.5000,2,   167.6,2,   14.98,2,   23.86,2,    0.00,2,    1.55,2,   7.4025
33AT20060118,  CLIMODE-2,      39,          1,          1,         25,2,20060125,       2334,  37.801333,-64.6473333,          0,  1009.0,   5.5477,  35.0384,2,  35.0402,2, 221.2000,2,   220.9,2,   12.57,2,   19.92,2,    0.00,2,    1.33,2,   5.4585
33AT20060118,  CLIMODE-2,      40,          1,         20,         20,2,20060126,       0312,  37.945333,-64.7818333,          0,     2.6,  21.9386,  36.5961,2,  36.6027,2, 208.9000,2,   211.2,2,    0.68,2,    0.51,2,    0.18,2,    0.06,2,  21.9381
33AT20060118,  CLIMODE-2,      40,          1,         19,         28,2,20060126,       0312,  37.945333,-64.7818333,          0,    28.6,  21.9640,  36.5958,2,  36.6003,2, 209.1000,2,   208.1,2,    0.65,2,    0.51,2,    0.18,2,    0.06,2,  21.9583
33AT20060118,  CLIMODE-2,      40,          1,         18,         18,2,20060126,       0312,  37.945333,-64.7818333,          0,    50.2,  21.9738,  36.5969,2,  36.5977,2, 208.2000,2,   208.4,2,    0.74,2,    0.51,2,    0.18,2,    0.05,2,  21.9639
33AT20060118,  CLIMODE-2,      40,          1,         17,         17,2,20060126,       0312,  37.945333,-64.7818333,          0,    75.5,  21.9790,  36.5970,2,  36.5991,2, 209.2000,2,   208.1,2,    0.83,2,    0.56,2,    0.18,2,    0.05,2,  21.9640
33AT20060118,  CLIMODE-2,      40,          1,         16,         16,2,20060126,       0312,  37.945333,-64.7818333,          0,   101.7,  21.9471,  36.6457,2,  36.6403,2, 200.5000,2,   199.0,2,    0.92,2,    1.14,2,    0.15,2,    0.08,2,  21.9268
33AT20060118,  CLIMODE-2,      40,          1,         15,         15,2,20060126,       0312,  37.945333,-64.7818333,          0,   124.8,  21.0209,  36.8010,2,  36.8111,2, 158.5000,2,   162.7,2,    1.33,2,    4.56,2,    0.02,2,    0.23,2,  20.9968
33AT20060118,  CLIMODE-2,      40,          1,         14,         14,2,20060126,       0312,  37.945333,-64.7818333,          0,   151.3,  20.2546,  36.7570,2,  36.7649,2, 177.1000,2,   177.2,2,    0.99,2,    3.39,2,    0.01,2,    0.18,2,  20.2261
33AT20060118,  CLIMODE-2,      40,          1,         13,         13,2,20060126,       0312,  37.945333,-64.7818333,          0,   202.1,  19.1970,  36.6511,2,  36.6522,2, 185.9000,2,   183.4,2,    1.07,2,    4.00,2,    0.01,2,    0.20,2,  19.1603
33AT20060118,  CLIMODE-2,      40,          1,         12,         12,2,20060126,       0312,  37.945333,-64.7818333,          0,   253.4,  18.0283,  36.4741,2,  36.4772,2, 165.7000,2,   160.2,2,    2.45,2,    8.44,2,    0.01,2,    0.47,2,  17.9842
33AT20060118,  CLIMODE-2,      40,          1,         11,         11,2,20060126,       0312,  37.945333,-64.7818333,          0,   299.9,  17.4081,  36.3969,2,  36.4033,2, 167.9000,2,   170.3,2,    2.43,2,    8.44,2,    0.01,2,    0.47,2,  17.3572
33AT20060118,  CLIMODE-2,      40,          1,         10,         10,2,20060126,       0312,  37.945333,-64.7818333,          0,   351.4,  16.0220,  36.1781,2,  36.1802,2, 168.5000,2,   166.8,2,    3.49,2,   10.95,2,    0.01,2,    0.63,2,  15.9656
33AT20060118,  CLIMODE-2,      40,          1,          9,         09,2,20060126,       0312,  37.945333,-64.7818333,          0,   401.5,  15.1139,  36.0360,2,  36.0354,2, 170.2000,2,   172.3,2,    4.00,2,   11.81,2,    0.00,2,    0.70,2,  15.0519
33AT20060118,  CLIMODE-2,      40,          1,          8,         08,2,20060126,       0312,  37.945333,-64.7818333,          0,   454.1,  14.2792,  35.8968,2,  35.8967,2, 169.6000,2,   169.7,2,    4.84,2,   13.33,2,    0.01,2,    0.81,2,  14.2116
33AT20060118,  CLIMODE-2,      40,          1,          7,         07,2,20060126,       0312,  37.945333,-64.7818333,          0,   503.3,  13.5123,  35.7727,2,  35.7784,2, 160.6000,2,   161.0,2,    6.02,2,   15.38,2,    0.00,2,    0.95,2,  13.4400
33AT20060118,  CLIMODE-2,      40,          1,          6,         06,2,20060126,       0312,  37.945333,-64.7818333,          0,   554.7,  12.0860,  35.5640,2,  35.5620,2, 142.7000,2,   141.7,2,    8.81,2,   19.86,2,    0.00,2,    1.23,2,  12.0118
33AT20060118,  CLIMODE-2,      40,          1,          5,         27,2,20060126,       0312,  37.945333,-64.7818333,          0,   605.9,  10.2580,  35.3041,2,  35.3023,2, 131.4000,2,   130.5,2,   13.02,2,   24.27,2,    0.00,2,    1.54,2,  10.1848
33AT20060118,  CLIMODE-2,      40,          1,          4,         04,2,20060126,       0312,  37.945333,-64.7818333,          0,   709.8,   8.1177,  35.1380,2,  35.1398,2, 155.7000,2,   155.3,2,   14.84,2,   24.48,2,    0.00,2,    1.58,2,   8.0427
33AT20060118,  CLIMODE-2,      40,          1,          3,         26,2,20060126,       0312,  37.945333,-64.7818333,          0,   808.6,   6.2097,  35.0591,2,  35.0585,2, 198.9000,2,   200.3,2,   13.42,2,   21.28,2,    0.00,2,    1.42,2,   6.1353
33AT20060118,  CLIMODE-2,      40,          1,          2,         02,2,20060126,       0312,  37.945333,-64.7818333,          0,   907.2,   5.4831,  35.0441,2,  35.0449,2, 221.2000,2,   222.0,2,   12.42,2,   19.73,2,    0.00,2,    1.32,2,   5.4040
33AT20060118,  CLIMODE-2,      40,          1,          1,         25,2,20060126,       0312,  37.945333,-64.7818333,          0,  1005.7,   4.8353,  35.0113,2,  35.0120,2, 241.1000,2,   240.6,2,   11.75,2,   18.68,2,    0.00,2,    1.26,2,   4.7519
33AT20060118,  CLIMODE-2,      41,          1,         20,         20,2,20060126,       0709,  38.096667,-64.9133333,          0,     2.6,  20.7405,  36.4637,2,  36.4651,2, 207.8000,2,   206.2,2,    1.03,2,    1.70,2,    0.34,2,    0.13,2,  20.7400
33AT20060118,  CLIMODE-2,      41,          1,         19,         28,2,20060126,       0709,  38.096667,-64.9133333,          0,    30.5,  20.6360,  36.4283,2,  36.4402,2, 206.6000,2,   205.8,2,    1.12,2,    1.77,2,    0.38,2,    0.14,2,  20.6302
33AT20060118,  CLIMODE-2,      41,          1,         18,         18,2,20060126,       0709,  38.096667,-64.9133333,          0,    50.5,  20.2642,  36.3452,2,  36.3503,2, 207.3000,2,   207.2,2,    1.21,2,    2.06,2,    0.46,2,    0.17,2,  20.2547
33AT20060118,  CLIMODE-2,      41,          1,         17,         17,2,20060126,       0709,  38.096667,-64.9133333,          0,    77.0,  16.7080,  35.6187,2,  35.6212,2, 227.3000,2,   231.1,2,    1.84,2,    3.22,2,    0.34,2,    0.28,2,  16.6954
33AT20060118,  CLIMODE-2,      41,          1,         16,         16,2,20060126,       0709,  38.096667,-64.9133333,          0,   102.4,  15.6306,  35.4230,2,  35.4249,2, 240.7000,2,   236.7,2,    2.03,2,    3.54,2,    0.30,2,    0.31,2,  15.6146
33AT20060118,  CLIMODE-2,      41,          1,         15,         15,2,20060126,       0709,  38.096667,-64.9133333,          0,   127.9,  14.5440,  35.2035,2,  35.2138,2, 245.2000,2,   242.4,2,    2.13,2,    3.98,2,    0.25,2,    0.35,2,  14.5250
33AT20060118,  CLIMODE-2,      41,          1,         14,         14,2,20060126,       0709,  38.096667,-64.9133333,          0,   148.4,  13.8857,  35.0681,2,  35.0744,2, 243.0000,2,   245.2,2,    2.22,2,    4.25,2,    0.20,2,    0.37,2,  13.8644
33AT20060118,  CLIMODE-2,      41,          1,         13,         13,2,20060126,       0709,  38.096667,-64.9133333,          0,   176.7,  13.4372,  34.9947,2,  34.9927,2, 244.9000,2,   244.8,2,    2.52,2,    4.63,2,    0.15,2,    0.40,2,  13.4124
33AT20060118,  CLIMODE-2,      41,          1,         12,         12,2,20060126,       0709,  38.096667,-64.9133333,          0,   226.6,  13.8302,  35.6264,2,  35.6222,2, 155.4000,2,   154.3,2,    6.83,2,   14.88,2,    0.01,2,    0.95,2,  13.7975
33AT20060118,  CLIMODE-2,      41,          1,         11,         11,2,20060126,       0709,  38.096667,-64.9133333,          0,   277.6,  12.9337,  35.6514,2,  35.6498,2, 138.5000,2,   141.3,2,    7.79,2,   18.50,2,    0.01,2,    1.14,2,  12.8953
33AT20060118,  CLIMODE-2,      41,          1,         10,         10,2,20060126,       0709,  38.096667,-64.9133333,          0,   328.0,  11.9587,  35.5296,2,  35.5308,2, 133.2000,2,   134.6,2,    9.51,2,   20.94,2,    0.01,2,    1.31,2,  11.9155
33AT20060118,  CLIMODE-2,      41,          1,          9,         09,2,20060126,       0709,  38.096667,-64.9133333,          0,   379.3,  10.5956,  35.3473,2,  35.3468,2, 129.9000,2,   129.9,2,   11.99,2,   23.62,2,    0.00,2,    1.50,2,  10.5493
33AT20060118,  CLIMODE-2,      41,          1,          8,         08,2,20060126,       0709,  38.096667,-64.9133333,          0,   429.2,   9.6443,  35.2415,2,  35.2418,2, 131.7000,2,   132.6,2,   13.72,2,   24.80,2,    0.00,2,    1.60,2,   9.5948
33AT20060118,  CLIMODE-2,      41,          1,          7,         07,2,20060126,       0709,  38.096667,-64.9133333,          0,   479.3,   8.6985,  35.1598,2,  35.1583,2, 139.9000,2,   140.8,2,   14.69,2,   25.34,2,    0.00,2,    1.64,2,   8.6466
33AT20060118,  CLIMODE-2,      41,          1,          6,         06,2,20060126,       0709,  38.096667,-64.9133333,          0,   531.3,   8.0061,  35.1399,2,  35.1388,2, 158.8000,2,   158.2,2,   14.23,2,   24.11,2,    0.00,2,    1.56,2,   7.9511
33AT20060118,  CLIMODE-2,      41,          1,          5,         27,2,20060126,       0709,  38.096667,-64.9133333,          0,   581.7,   6.9999,  35.0808,2,  35.0835,2, 178.2000,2,   176.5,2,   14.44,2,   23.48,2,    0.00,2,    1.53,2,   6.9438
33AT20060118,  CLIMODE-2,      41,          1,          4,         04,2,20060126,       0709,  38.096667,-64.9133333,          0,   683.1,   5.6601,  35.0357,2,  35.0350,2, 212.9000,2,   215.8,2,   12.35,2,   20.26,2,    0.00,2,    1.35,2,   5.6007
33AT20060118,  CLIMODE-2,      41,          1,          3,         26,2,20060126,       0709,  38.096667,-64.9133333,          0,   782.2,   5.0654,  35.0154,2,  35.0155,2, 232.8000,2,   234.0,2,   11.79,2,   19.15,2,    0.00,2,    1.28,2,   5.0004
33AT20060118,  CLIMODE-2,      41,          1,          2,         02,2,20060126,       0709,  38.096667,-64.9133333,          0,   884.1,   4.6689,  34.9895,2,  34.9923,2, 246.5000,2,   246.0,2,   11.34,2,   18.46,2,    0.00,2,    1.24,2,   4.5975
33AT20060118,  CLIMODE-2,      41,          1,          1,         25,2,20060126,       0709,  38.096667,-64.9133333,          0,  1007.7,   4.4302,  34.9817,2,  34.9827,2, 251.3000,2,   252.2,2,   11.21,2,   18.17,2,    0.00,2,    1.22,2,   4.3498