BOTTLE,20120918SIOCCHMYS
EXPOCODE,SECT_ID,STNNBR,CASTNO,SAMPNO,BTLNBR,BTLNBR_FLAG_W,DATE,TIME,LATITUDE,LONGITUDE,DEPTH,CTDPRS,CTDTMP,CTDSAL,CTDSAL_FLAG_W,SALNTY,SALNTY_FLAG_W,CTDOXY,CTDOXY_FLAG_W,OXYGEN,OXYGEN_FLAG_W,SILCAT,SILCAT_FLAG_W,NITRAT,NITRAT_FLAG_W,NITRIT,NITRIT_FLAG_W,PHSPHT,PHSPHT_FLAG_W,THETA
,,,,,,,,,,,,DBAR,ITS-90,PSS-78,,PSS-78,,UMOL/KG,,UMOL/KG,,UMOL/KG,,UMOL/KG,,UMOL/KG,,UMOL/KG,,DEG C
33AT20060118,  CLIMODE-2,      36,          1,         20,         20,2,20060125,       1342,  37.363333,-64.2481667,          0,     2.0,  20.6257,  36.5960,2,  36.5967,2, 217.9000,2,   217.4,2,    1.06,2,    0.35,2,    0.17,2,    0.04,2,  20.6253
33AT20060118,  CLIMODE-2,      36,          1,         19,         28,2,20060125,       1342,  37.363333,-64.2481667,          0,    26.0,  20.6295,  36.5964,2,  36.5966,2, 217.3000,2,   216.4,2,    1.14,2,    0.35,2,    0.17,2,    0.04,2,  20.6245
33AT20060118,  CLIMODE-2,      36,          1,         18,         18,2,20060125,       1342,  37.363333,-64.2481667,          0,    50.6,  20.6340,  36.5976,2,  36.5966,2, 216.8000,2,   216.7,2,    1.01,2,    0.34,2,    0.17,2,    0.04,2,  20.6244
33AT20060118,  CLIMODE-2,      36,          1,         17,         17,2,20060125,       1342,  37.363333,-64.2481667,          0,    76.7,  20.6420,  36.6006,2,  36.6000,2, 216.7000,2,   216.7,2,    0.98,2,    0.39,2,    0.17,2,    0.04,2,  20.6274
33AT20060118,  CLIMODE-2,      36,          1,         16,         16,4,20060125,       1342,  37.363333,-64.2481667,          0,   126.8,  20.0857,  36.6177,2,  36.6168,2, 214.0000,2,   214.6,2,    1.05,2,    0.93,2,    0.07,2,    0.06,2,  20.0620
33AT20060118,  CLIMODE-2,      36,          1,         15,         15,4,20060125,       1342,  37.363333,-64.2481667,          0,   150.8,  20.0604,  36.6252,2,  36.6241,2, 215.0000,2,   213.9,2,    1.03,2,    1.05,2,    0.03,2,    0.06,2,  20.0323
33AT20060118,  CLIMODE-2,      36,          1,         14,         14,4,20060125,       1342,  37.363333,-64.2481667,          0,   202.2,  19.7626,  36.6825,2,  36.6820,2, 198.0000,2,   198.1,2,    1.32,2,    2.12,2,    0.02,2,    0.12,2,  19.7251
33AT20060118,  CLIMODE-2,      36,          1,         13,         13,4,20060125,       1342,  37.363333,-64.2481667,          0,   251.7,  18.9108,  36.6413,2,  36.6411,2, 198.3000,2,   197.6,2,    1.29,2,    3.13,2,    0.01,2,    0.16,2,  18.8655
33AT20060118,  CLIMODE-2,      36,          1,         12,         12,4,20060125,       1342,  37.363333,-64.2481667,          0,   302.4,  18.6940,  36.6348,2,  36.6328,2, 203.2000,2,   203.1,2,    1.26,2,    3.13,2,    0.01,2,    0.15,2,  18.6400
33AT20060118,  CLIMODE-2,      36,          1,         11,         11,4,20060125,       1342,  37.363333,-64.2481667,          0,   351.9,  18.3700,  36.5887,2,  36.5879,2, 199.2000,2,   199.5,2,    1.56,2,    4.08,2,    0.01,2,    0.20,2,  18.3078
33AT20060118,  CLIMODE-2,      36,          1,         10,         10,4,20060125,       1342,  37.363333,-64.2481667,          0,   404.4,  18.0529,  36.5416,2,  36.5385,2, 194.9000,2,   195.8,2,    1.86,2,    4.94,2,    0.01,2,    0.25,2,  17.9823
33AT20060118,  CLIMODE-2,      36,          1,          9,         09,4,20060125,       1342,  37.363333,-64.2481667,          0,   453.4,  17.7482,  36.4945,2,  36.4933,2, 195.3000,2,   194.5,2,    1.93,2,    5.52,2,    0.01,2,    0.28,2,  17.6699
33AT20060118,  CLIMODE-2,      36,          1,          8,         08,4,20060125,       1342,  37.363333,-64.2481667,          0,   503.6,  17.3515,  36.4166,2,  36.4190,2, 186.4000,2,   186.4,2,    2.34,2,    6.91,2,    0.01,2,    0.36,2,  17.2657
33AT20060118,  CLIMODE-2,      36,          1,          7,         07,2,20060125,       1342,  37.363333,-64.2481667,          0,   503.6,  17.3515,  36.4166,2,  36.4132,2, 186.4000,2,   186.4,2,    2.32,2,    6.91,2,    0.01,2,    0.37,2,  17.2658
33AT20060118,  CLIMODE-2,      36,          1,          6,         06,2,20060125,       1342,  37.363333,-64.2481667,          0,   554.7,  16.7453,  36.3060,2,  36.3043,2, 180.5000,2,   179.5,2,    2.83,2,    8.54,2,    0.00,2,    0.47,2,  16.6531
33AT20060118,  CLIMODE-2,      36,          1,          5,         27,2,20060125,       1342,  37.363333,-64.2481667,          0,   607.1,  15.9721,  36.1715,2,  36.1697,2, 175.5000,2,   175.3,2,    3.58,2,   10.26,2,    0.00,2,    0.58,2,  15.8742
33AT20060118,  CLIMODE-2,      36,          1,          4,         04,2,20060125,       1342,  37.363333,-64.2481667,          0,   705.6,  14.2013,  35.8673,2,  35.8678,2, 148.6000,2,   148.4,2,    6.51,2,   15.89,2,    0.00,2,    0.95,2,  14.0958
33AT20060118,  CLIMODE-2,      36,          1,          3,         26,2,20060125,       1342,  37.363333,-64.2481667,          0,   806.1,  12.1075,  35.5562,2,  35.5528,2, 147.0000,2,   146.7,2,    9.11,2,   19.41,2,    0.00,2,    1.20,2,  11.9985
33AT20060118,  CLIMODE-2,      36,          1,          2,         02,2,20060125,       1342,  37.363333,-64.2481667,          0,   908.7,   9.3596,  35.2150,2,  35.2206,2, 139.0000,2,   139.0,2,   14.36,2,   24.56,2,    0.00,2,    1.57,2,   9.2542
33AT20060118,  CLIMODE-2,      36,          1,          1,         25,2,20060125,       1342,  37.363333,-64.2481667,          0,  1009.5,   7.5123,  35.1179,2,  35.1166,2, 172.1000,2,   172.0,2,   14.11,2,   22.86,2,    0.00,2,    1.49,2,   7.4083
33AT20060118,  CLIMODE-2,      37,          1,         20,         20,2,20060125,       1640,  37.508833,-64.3806667,          0,     2.2,  20.3438,  36.6121,2,  36.6114,2, 220.3000,2,   218.1,2,    0.62,2,    0.42,2,    0.17,2,    0.04,2,  20.3434
33AT20060118,  CLIMODE-2,      37,          1,         19,         28,2,20060125,       1640,  37.508833,-64.3806667,          0,    25.3,  20.3546,  36.6126,2,  36.6131,2, 219.7000,2,   218.7,2,    0.59,2,    0.38,2,    0.17,2,    0.04,2,  20.3498
33AT20060118,  CLIMODE-2,      37,          1,         18,         18,2,20060125,       1640,  37.508833,-64.3806667,          0,    49.5,  20.3572,  36.6131,2,  36.6125,2, 219.1000,2,   218.1,2,    0.56,2,    0.38,2,    0.18,2,    0.04,2,  20.3479
33AT20060118,  CLIMODE-2,      37,          1,         17,         17,2,20060125,       1640,  37.508833,-64.3806667,          0,    76.8,  20.3499,  36.6117,2,  36.6090,2, 218.7000,2,   218.4,2,    0.63,2,    0.38,2,    0.18,2,    0.04,2,  20.3354
33AT20060118,  CLIMODE-2,      37,          1,         16,         16,2,20060125,       1640,  37.508833,-64.3806667,          0,   102.9,  20.3467,  36.6168,2,  36.6151,2, 217.4000,2,   217.1,2,    0.61,2,    0.42,2,    0.19,2,    0.04,2,  20.3273
33AT20060118,  CLIMODE-2,      37,          1,         15,         15,2,20060125,       1640,  37.508833,-64.3806667,          0,   126.2,  20.3521,  36.6197,2,  36.6199,2, 216.6000,2,   217.1,2,    0.68,2,    0.43,2,    0.19,2,    0.04,2,  20.3283
33AT20060118,  CLIMODE-2,      37,          1,         14,         14,2,20060125,       1640,  37.508833,-64.3806667,          0,   151.1,  20.1112,  36.6089,2,  36.6088,2, 215.4000,2,   215.5,2,    0.76,2,    0.74,2,    0.17,2,    0.05,2,  20.0829
33AT20060118,  CLIMODE-2,      37,          1,         13,         13,2,20060125,       1640,  37.508833,-64.3806667,          0,   177.4,  20.0692,  36.6132,2,  36.6117,2, 213.0000,2,   215.2,2,    0.73,2,    0.84,2,    0.12,2,    0.05,2,  20.0360
33AT20060118,  CLIMODE-2,      37,          1,         12,         12,2,20060125,       1640,  37.508833,-64.3806667,          0,   225.9,  19.5794,  36.6699,2,  36.6688,2, 195.9000,2,   196.1,2,    0.92,2,    2.39,2,    0.02,2,    0.12,2,  19.5378
33AT20060118,  CLIMODE-2,      37,          1,         11,         11,2,20060125,       1640,  37.508833,-64.3806667,          0,   276.4,  18.8449,  36.6358,2,  36.6349,2, 200.1000,2,   198.9,2,    1.00,2,    3.12,2,    0.01,2,    0.15,2,  18.7953
33AT20060118,  CLIMODE-2,      37,          1,         10,         10,2,20060125,       1640,  37.508833,-64.3806667,          0,   328.6,  18.5518,  36.6163,2,  36.6155,2, 202.8000,2,   201.9,2,    1.19,2,    3.47,2,    0.01,2,    0.18,2,  18.4934
33AT20060118,  CLIMODE-2,      37,          1,          9,         09,2,20060125,       1640,  37.508833,-64.3806667,          0,   380.9,  18.3214,  36.5921,2,  36.5913,2, 203.5000,2,   203.0,2,    1.16,2,    3.81,2,    0.01,2,    0.20,2,  18.2542
33AT20060118,  CLIMODE-2,      37,          1,          8,         08,2,20060125,       1640,  37.508833,-64.3806667,          0,   436.4,  18.1355,  36.5663,2,  36.5663,2, 202.2000,2,   202.5,2,    1.35,2,    4.15,2,    0.01,2,    0.21,2,  18.0590
33AT20060118,  CLIMODE-2,      37,          1,          7,         07,2,20060125,       1640,  37.508833,-64.3806667,          0,   475.4,  17.8707,  36.5166,2,  36.5163,2, 198.5000,2,   197.8,2,    1.53,2,    5.03,2,    0.01,2,    0.26,2,  17.7882
33AT20060118,  CLIMODE-2,      37,          1,          6,         06,2,20060125,       1640,  37.508833,-64.3806667,          0,   524.6,  17.0761,  36.3620,2,  36.3594,2, 182.4000,2,   181.3,2,    2.38,2,    7.83,2,    0.00,2,    0.44,2,  16.9877
33AT20060118,  CLIMODE-2,      37,          1,          5,         27,2,20060125,       1640,  37.508833,-64.3806667,          0,   576.4,  16.6048,  36.2763,2,  36.2751,2, 174.8000,2,   175.2,2,    2.89,2,    9.20,2,    0.00,2,    0.53,2,  16.5095
33AT20060118,  CLIMODE-2,      37,          1,          4,         04,2,20060125,       1640,  37.508833,-64.3806667,          0,   676.6,  14.8643,  35.9833,2,  35.9825,2, 166.8000,2,   167.0,2,    4.62,2,   12.81,2,    0.00,2,    0.76,2,  14.7602
33AT20060118,  CLIMODE-2,      37,          1,          3,         26,2,20060125,       1640,  37.508833,-64.3806667,          0,   783.8,  12.2822,  35.5769,2,  35.5808,2, 147.3000,2,   147.2,2,    8.75,2,   19.16,2,    0.00,2,    1.19,2,  12.1754
33AT20060118,  CLIMODE-2,      37,          1,          2,         02,2,20060125,       1640,  37.508833,-64.3806667,          0,   889.4,   9.4125,  35.2225,2,  35.2239,2, 139.4000,2,   139.4,2,   13.90,2,   24.38,2,    0.00,2,    1.56,2,   9.3092
33AT20060118,  CLIMODE-2,      37,          1,          1,         25,2,20060125,       1640,  37.508833,-64.3806667,          0,  1018.9,   6.7599,  35.0914,2,  35.0907,2, 189.3000,2,   189.4,2,   13.54,2,   21.76,2,    0.00,2,    1.44,2,   6.6605
33AT20060118,  CLIMODE-2,      38,          1,         20,         20,2,20060125,       1957,  37.654167,-64.5138333,          0,     3.3,  21.7409,  36.5761,2,  36.5775,2, 210.9000,2,   208.1,2,    1.08,2,    0.97,2,    0.12,2,    0.08,2,  21.7402
33AT20060118,  CLIMODE-2,      38,          1,         19,         28,2,20060125,       1957,  37.654167,-64.5138333,          0,    27.2,  21.5998,  36.5680,2,  36.5702,2, 211.3000,2,   208.3,2,    1.07,2,    0.87,2,    0.12,2,    0.08,2,  21.5945
33AT20060118,  CLIMODE-2,      38,          1,         18,         18,2,20060125,       1957,  37.654167,-64.5138333,          0,    51.4,  20.4389,  36.6119,2,  36.6033,2, 219.0000,2,   217.6,2,    0.85,2,    0.43,2,    0.18,2,    0.05,2,  20.4292
33AT20060118,  CLIMODE-2,      38,          1,         17,         17,2,20060125,       1957,  37.654167,-64.5138333,          0,    76.2,  20.2420,  36.6533,2,  36.6534,2, 216.8000,2,   217.8,2,    0.72,2,    0.36,2,    0.25,2,    0.04,2,  20.2277
33AT20060118,  CLIMODE-2,      38,          1,         16,         16,2,20060125,       1957,  37.654167,-64.5138333,          0,   101.5,  20.2275,  36.6513,2,  36.6516,2, 216.9000,2,   217.1,2,    0.71,2,    0.36,2,    0.25,2,    0.04,2,  20.2084
33AT20060118,  CLIMODE-2,      38,          1,         15,         15,2,20060125,       1957,  37.654167,-64.5138333,          0,   125.9,  20.2212,  36.6523,2,  36.6528,2, 217.4000,2,   217.3,2,    0.70,2,    0.37,2,    0.24,2,    0.04,2,  20.1975
33AT20060118,  CLIMODE-2,      38,          1,         14,         14,2,20060125,       1957,  37.654167,-64.5138333,          0,   149.7,  20.2269,  36.6550,2,  36.6550,2, 217.4000,2,   216.9,2,    0.58,2,    0.37,2,    0.25,2,    0.04,2,  20.1987
33AT20060118,  CLIMODE-2,      38,          1,         13,         13,2,20060125,       1957,  37.654167,-64.5138333,          0,   204.7,  19.8479,  36.6683,2,  36.6685,2, 213.8000,2,   213.7,2,    0.67,2,    0.84,2,    0.07,2,    0.05,2,  19.8099
33AT20060118,  CLIMODE-2,      38,          1,         12,         12,2,20060125,       1957,  37.654167,-64.5138333,          0,   260.9,  19.0325,  36.6542,2,  36.6348,2, 200.8000,2,   206.4,2,    0.88,2,    1.57,2,    0.10,2,    0.09,2,  18.9854
33AT20060118,  CLIMODE-2,      38,          1,         11,         11,2,20060125,       1957,  37.654167,-64.5138333,          0,   308.7,  18.7650,  36.6367,2,  36.6370,2, 202.7000,2,   202.0,2,    0.98,2,    3.00,2,    0.01,2,    0.15,2,  18.7097
33AT20060118,  CLIMODE-2,      38,          1,         10,         10,2,20060125,       1957,  37.654167,-64.5138333,          0,   352.8,  18.4509,  36.6099,2,  36.6094,2, 203.4000,2,   203.9,2,    1.18,2,    3.44,2,    0.00,2,    0.18,2,  18.3884
33AT20060118,  CLIMODE-2,      38,          1,          9,         09,2,20060125,       1957,  37.654167,-64.5138333,          0,   403.4,  18.1967,  36.5797,2,  36.5803,2, 204.3000,2,   204.5,2,    1.28,2,    3.82,2,    0.00,2,    0.20,2,  18.1258
33AT20060118,  CLIMODE-2,      38,          1,          8,         08,2,20060125,       1957,  37.654167,-64.5138333,          0,   452.7,  17.9185,  36.5300,2,  36.5303,2, 197.5000,2,   199.7,2,    1.59,2,    4.72,2,    0.00,2,    0.52,3,  17.8398
33AT20060118,  CLIMODE-2,      38,          1,          7,         07,2,20060125,       1957,  37.654167,-64.5138333,          0,   517.8,  16.9475,  36.3427,2,  36.3534,2, 185.8000,2,   183.8,2,    2.45,2,    7.65,2,    0.00,2,    0.44,2,  16.8607
33AT20060118,  CLIMODE-2,      38,          1,          6,         06,2,20060125,       1957,  37.654167,-64.5138333,          0,   557.4,  16.0375,  36.1752,2,  36.1749,2, 169.2000,2,   167.3,2,    3.75,2,   10.89,2,    0.00,2,    0.63,2,  15.9474
33AT20060118,  CLIMODE-2,      38,          1,          5,         27,2,20060125,       1957,  37.654167,-64.5138333,          0,   602.5,  15.4861,  36.0931,2,  36.0952,2, 177.4000,2,   176.6,2,    3.73,2,   10.79,2,    0.00,2,    0.64,2,  15.3909
33AT20060118,  CLIMODE-2,      38,          1,          4,         04,2,20060125,       1957,  37.654167,-64.5138333,          0,   698.8,  13.5107,  35.7694,2,  35.7697,2, 165.4000,2,   164.5,2,    6.12,2,   15.15,2,    0.00,2,    0.93,2,  13.4097
33AT20060118,  CLIMODE-2,      38,          1,          3,         26,2,20060125,       1957,  37.654167,-64.5138333,          0,   800.3,  10.6788,  35.3609,2,  35.3595,2, 134.9000,2,   136.7,2,   12.01,2,   23.05,2,    0.00,2,    1.46,2,  10.5788
33AT20060118,  CLIMODE-2,      38,          1,          2,         02,2,20060125,       1957,  37.654167,-64.5138333,          0,   910.3,   7.8214,  35.1100,2,  35.1089,2, 164.6000,2,   164.8,2,   13.97,2,   23.40,2,    0.00,2,    1.51,2,   7.7261
33AT20060118,  CLIMODE-2,      38,          1,          1,         25,2,20060125,       1957,  37.654167,-64.5138333,          0,  1005.3,   6.5564,  35.0896,2,  35.0882,2, 196.0000,2,   196.1,2,   13.30,2,   21.47,2,    0.00,2,    1.41,2,   6.4599