BOTTLE,20141031SIOCCHAMB
EXPOCODE,SECT_ID,STNNBR,CASTNO,SAMPNO,BTLNBR,BTLNBR_FLAG_W,DATE,TIME,LATITUDE,LONGITUDE,DEPTH,CTDPRS,CTDTMP,CTDSAL,CTDSAL_FLAG_W,SALNTY,SALNTY_FLAG_W,CTDOXY,CTDOXY_FLAG_W,OXYGEN,OXYGEN_FLAG_W,SILCAT,SILCAT_FLAG_W,PHSPHT,PHSPHT_FLAG_W,REVPRS,CTDRAW,THETA,NO2+NO3,NO2+NO3_FLAG_W,REVTMP
,,,,,,,,,,,METERS,DBAR,ITS-90,PSS-78,,PSS-78,,UMOL/KG,,UMOL/KG,,UMOL/KG,,UMOL/KG,,DBAR,DBAR,ITS-90,UMOL/KG,,DEG C
33KB20110227,       PRS2,       2,          9,         14,       8014,2,20110301,       1146,  22.752000,-157.9935000,       4748,     7.2,  24.4406,  35.1987,2,  35.1985,2,    208.2,1,  -999.0,9, -999.00,9, -999.00,9,  -999.0,       8,    24.4391, -999.00,9,     -999.0
33KB20110227,       PRS2,       2,          9,         13,       8025,2,20110301,       1146,  22.752000,-157.9935000,       4748,     7.3,  24.4410,  35.1988,2,  35.1977,2,    208.1,1,  -999.0,9, -999.00,9, -999.00,9,  -999.0,       7,    24.4394, -999.00,9,     -999.0
33KB20110227,       PRS2,       2,          9,         12,       8012,2,20110301,       1146,  22.752000,-157.9935000,       4748,    26.0,  24.4452,  35.1978,2,  35.1977,2,    207.9,1,  -999.0,9, -999.00,9, -999.00,9,  -999.0,      26,    24.4396, -999.00,9,     -999.0
33KB20110227,       PRS2,       2,          9,         11,       8011,2,20110301,       1146,  22.752000,-157.9935000,       4748,    25.8,  24.4451,  35.1977,2,  35.1971,2,    207.8,1,  -999.0,9, -999.00,9, -999.00,9,  -999.0,      26,    24.4396, -999.00,9,     -999.0
33KB20110227,       PRS2,       2,          9,         10,       8010,2,20110301,       1146,  22.752000,-157.9935000,       4748,    45.7,  24.2047,  35.2182,2,  35.2184,2,    208.1,1,  -999.0,9, -999.00,9, -999.00,9,  -999.0,      45,    24.1950, -999.00,9,     -999.0
33KB20110227,       PRS2,       2,          9,          9,       8009,2,20110301,       1146,  22.752000,-157.9935000,       4748,    45.7,  24.2041,  35.2184,2,  35.2186,2,    208.2,1,  -999.0,9, -999.00,9, -999.00,9,  -999.0,      45,    24.1944, -999.00,9,     -999.0
33KB20110227,       PRS2,       2,          9,          8,       8008,2,20110301,       1146,  22.752000,-157.9935000,       4748,    74.3,  23.8936,  35.2737,2,  35.2751,2,    208.2,1,  -999.0,9, -999.00,9, -999.00,9,  -999.0,      74,    23.8780, -999.00,9,     -999.0
33KB20110227,       PRS2,       2,          9,          7,       8026,2,20110301,       1146,  22.752000,-157.9935000,       4748,    74.1,  23.8948,  35.2736,2,  35.2745,2,    208.1,1,  -999.0,9, -999.00,9, -999.00,9,  -999.0,      75,    23.8793, -999.00,9,     -999.0
33KB20110227,       PRS2,       2,          9,          6,       8006,2,20110301,       1146,  22.752000,-157.9935000,       4748,   101.1,  23.3134,  35.3400,2,  35.3378,2,    206.1,1,  -999.0,9, -999.00,9, -999.00,9,  -999.0,     102,    23.2925, -999.00,9,     -999.0
33KB20110227,       PRS2,       2,          9,          5,       8005,2,20110301,       1146,  22.752000,-157.9935000,       4748,   101.0,  23.3052,  35.3452,2,  35.3356,2,    205.9,1,  -999.0,9, -999.00,9, -999.00,9,  -999.0,     100,    23.2843, -999.00,9,     -999.0
33KB20110227,       PRS2,       2,          9,          4,       8004,2,20110301,       1146,  22.752000,-157.9935000,       4748,   124.5,  21.8045,  35.2247,2,  35.2280,2,    202.1,1,  -999.0,9, -999.00,9, -999.00,9,  -999.0,     123,    21.7800, -999.00,9,     -999.0
33KB20110227,       PRS2,       2,          9,          3,       8003,2,20110301,       1146,  22.752000,-157.9935000,       4748,   124.2,  21.7733,  35.2224,2,  35.2288,2,    202.1,1,  -999.0,9, -999.00,9, -999.00,9,  -999.0,     124,    21.7488, -999.00,9,     -999.0
33KB20110227,       PRS2,       2,          9,          2,       8002,2,20110301,       1146,  22.752000,-157.9935000,       4748,   579.7,   5.8780,  34.0473,2,  34.0460,2,     83.5,1,  -999.0,9, -999.00,9, -999.00,9,  -999.0,     579,     5.8280, -999.00,9,     -999.0
33KB20110227,       PRS2,       2,          9,          1,       8001,2,20110301,       1146,  22.752000,-157.9935000,       4748,  1020.2,   3.9211,  34.4775,2,  34.4769,2,     45.1,1,  -999.0,9, -999.00,9, -999.00,9,  -999.0,    1021,     3.8445, -999.00,9,     -999.0
33KB20110227,       PRS2,       2,         10,         18,       8018,2,20110301,       1455,  22.728667,-158.0180000,       4745,     5.7,  24.3535,  35.1943,2,  35.1928,2,    208.1,1,  -999.0,9, -999.00,9, -999.00,9,  -999.0,       6,    24.3523, -999.00,9,     -999.0
33KB20110227,       PRS2,       2,         10,         17,       8017,2,20110301,       1455,  22.728667,-158.0180000,       4745,   124.0,  21.6055,  35.2306,2,-999.0000,5,    198.7,1,  -999.0,9, -999.00,9, -999.00,9,  -999.0,     124,    21.5813, -999.00,9,     -999.0
33KB20110227,       PRS2,       2,         10,         16,       8016,2,20110301,       1455,  22.728667,-158.0180000,       4745,   123.7,  21.6129,  35.2330,2,-999.0000,5,    198.9,1,  -999.0,9, -999.00,9, -999.00,9,  -999.0,     124,    21.5888, -999.00,9,     -999.0
33KB20110227,       PRS2,       2,         10,         15,       8015,2,20110301,       1455,  22.728667,-158.0180000,       4745,   123.9,  21.6070,  35.2319,2,-999.0000,5,    199.1,1,  -999.0,9, -999.00,9, -999.00,9,  -999.0,     124,    21.5828, -999.00,9,     -999.0
33KB20110227,       PRS2,       2,         10,         14,       8014,2,20110301,       1455,  22.728667,-158.0180000,       4745,   123.6,  21.5956,  35.2332,2,-999.0000,5,    199.3,1,  -999.0,9, -999.00,9, -999.00,9,  -999.0,     123,    21.5715, -999.00,9,     -999.0
33KB20110227,       PRS2,       2,         10,         13,       8025,2,20110301,       1455,  22.728667,-158.0180000,       4745,   123.9,  21.5344,  35.2328,2,-999.0000,5,    199.3,1,  -999.0,9, -999.00,9, -999.00,9,  -999.0,     125,    21.5102, -999.00,9,     -999.0
33KB20110227,       PRS2,       2,         10,         12,       8012,2,20110301,       1455,  22.728667,-158.0180000,       4745,   198.9,  18.4711,  34.9500,2,-999.0000,5,    196.1,1,  -999.0,9, -999.00,9, -999.00,9,  -999.0,     201,    18.4363, -999.00,9,     -999.0
33KB20110227,       PRS2,       2,         10,         11,       8011,2,20110301,       1455,  22.728667,-158.0180000,       4745,   198.9,  18.4548,  34.9456,2,-999.0000,5,    196.0,1,  -999.0,9, -999.00,9, -999.00,9,  -999.0,     199,    18.4201, -999.00,9,     -999.0
33KB20110227,       PRS2,       2,         10,         10,       8010,2,20110301,       1455,  22.728667,-158.0180000,       4745,   199.0,  18.4097,  34.9396,2,-999.0000,5,    195.5,1,  -999.0,9, -999.00,9, -999.00,9,  -999.0,     199,    18.3750, -999.00,9,     -999.0
33KB20110227,       PRS2,       2,         10,          9,       8009,2,20110301,       1455,  22.728667,-158.0180000,       4745,   199.0,  18.3667,  34.9342,2,-999.0000,5,    195.2,1,  -999.0,9, -999.00,9, -999.00,9,  -999.0,     198,    18.3320, -999.00,9,     -999.0
33KB20110227,       PRS2,       2,         10,          8,       8008,2,20110301,       1455,  22.728667,-158.0180000,       4745,   198.9,  18.3439,  34.9284,2,-999.0000,5,    195.0,1,  -999.0,9, -999.00,9, -999.00,9,  -999.0,     198,    18.3093, -999.00,9,     -999.0
33KB20110227,       PRS2,       2,         10,          7,       8026,2,20110301,       1455,  22.728667,-158.0180000,       4745,   530.5,   7.1889,  34.0521,2,  34.0517,2,    114.0,1,  -999.0,9, -999.00,9, -999.00,9,  -999.0,     531,     7.1380, -999.00,9,     -999.0
33KB20110227,       PRS2,       2,         10,          6,       8006,2,20110301,       1455,  22.728667,-158.0180000,       4745,  1020.6,   3.9318,  34.4733,2,-999.0000,5,     44.0,1,  -999.0,9, -999.00,9, -999.00,9,  -999.0,    1022,     3.8551, -999.00,9,     -999.0
33KB20110227,       PRS2,       2,         10,          5,       8005,2,20110301,       1455,  22.728667,-158.0180000,       4745,  1021.1,   3.9320,  34.4735,2,-999.0000,5,     44.0,1,  -999.0,9, -999.00,9, -999.00,9,  -999.0,    1021,     3.8552, -999.00,9,     -999.0
33KB20110227,       PRS2,       2,         10,          4,       8004,2,20110301,       1455,  22.728667,-158.0180000,       4745,  1021.2,   3.9326,  34.4733,2,-999.0000,5,     44.1,1,  -999.0,9, -999.00,9, -999.00,9,  -999.0,    1020,     3.8558, -999.00,9,     -999.0
33KB20110227,       PRS2,       2,         10,          3,       8003,2,20110301,       1455,  22.728667,-158.0180000,       4745,  1020.9,   3.9326,  34.4737,2,-999.0000,5,     44.1,1,  -999.0,9, -999.00,9, -999.00,9,  -999.0,    1022,     3.8558, -999.00,9,     -999.0
33KB20110227,       PRS2,       2,         10,          2,       8002,2,20110301,       1455,  22.728667,-158.0180000,       4745,  1020.8,   3.9325,  34.4735,2,-999.0000,5,     44.1,1,  -999.0,9, -999.00,9, -999.00,9,  -999.0,    1022,     3.8557, -999.00,9,     -999.0
33KB20110227,       PRS2,       2,         10,          1,       8001,2,20110301,       1455,  22.728667,-158.0180000,       4745,  1020.9,   3.9334,  34.4736,2,  34.4730,2,     44.2,1,  -999.0,9, -999.00,9, -999.00,9,  -999.0,    1022,     3.8566, -999.00,9,     -999.0
33KB20110227,       PRS2,       2,         11,         18,       8018,2,20110301,       1750,  22.728167,-158.0178333,       4748,     6.5,  24.3322,  35.2027,2,-999.0000,5,    207.6,1,  -999.0,9, -999.00,9, -999.00,9,  -999.0,       7,    24.3308, -999.00,9,     -999.0
33KB20110227,       PRS2,       2,         11,         17,       8017,2,20110301,       1750,  22.728167,-158.0178333,       4748,     6.4,  24.3307,  35.2028,2,  35.2016,2,    207.7,1,  -999.0,9, -999.00,9, -999.00,9,  -999.0,       7,    24.3293, -999.00,9,     -999.0
33KB20110227,       PRS2,       2,         11,         16,       8016,2,20110301,       1750,  22.728167,-158.0178333,       4748,    25.4,  24.3264,  35.2117,2,-999.0000,5,    208.3,1,  -999.0,9, -999.00,9, -999.00,9,  -999.0,      26,    24.3209, -999.00,9,     -999.0
33KB20110227,       PRS2,       2,         11,         15,       8015,2,20110301,       1750,  22.728167,-158.0178333,       4748,    25.3,  24.3244,  35.2122,2,  35.2107,2,    208.4,1,  -999.0,9, -999.00,9, -999.00,9,  -999.0,      26,    24.3190, -999.00,9,     -999.0
33KB20110227,       PRS2,       2,         11,         14,       8014,2,20110301,       1750,  22.728167,-158.0178333,       4748,    45.6,  23.9426,  35.2876,2,-999.0000,5,    209.1,1,  -999.0,9, -999.00,9, -999.00,9,  -999.0,      44,    23.9330, -999.00,9,     -999.0
33KB20110227,       PRS2,       2,         11,         13,       8025,2,20110301,       1750,  22.728167,-158.0178333,       4748,    45.4,  23.9356,  35.2879,2,  35.2863,2,    208.8,1,  -999.0,9, -999.00,9, -999.00,9,  -999.0,      44,    23.9260, -999.00,9,     -999.0
33KB20110227,       PRS2,       2,         11,         12,       8012,2,20110301,       1750,  22.728167,-158.0178333,       4748,    75.3,  23.1195,  35.4319,2,-999.0000,5,    209.3,1,  -999.0,9, -999.00,9, -999.00,9,  -999.0,      76,    23.1040, -999.00,9,     -999.0
33KB20110227,       PRS2,       2,         11,         11,       8011,2,20110301,       1750,  22.728167,-158.0178333,       4748,    75.2,  23.1189,  35.4322,2,  35.4320,2,    209.4,1,  -999.0,9, -999.00,9, -999.00,9,  -999.0,      75,    23.1034, -999.00,9,     -999.0
33KB20110227,       PRS2,       2,         11,         10,       8010,2,20110301,       1750,  22.728167,-158.0178333,       4748,   100.3,  21.9596,  35.2501,2,-999.0000,5,    204.1,1,  -999.0,9, -999.00,9, -999.00,9,  -999.0,     100,    21.9398, -999.00,9,     -999.0
33KB20110227,       PRS2,       2,         11,          9,       8009,2,20110301,       1750,  22.728167,-158.0178333,       4748,   100.2,  21.9523,  35.2491,2,  35.2459,2,    203.7,1,  -999.0,9, -999.00,9, -999.00,9,  -999.0,     101,    21.9325, -999.00,9,     -999.0
33KB20110227,       PRS2,       2,         11,          8,       8008,2,20110301,       1750,  22.728167,-158.0178333,       4748,   124.7,  21.0296,  35.2189,2,-999.0000,5,    195.5,1,  -999.0,9, -999.00,9, -999.00,9,  -999.0,     125,    21.0057, -999.00,9,     -999.0
33KB20110227,       PRS2,       2,         11,          7,       8026,2,20110301,       1750,  22.728167,-158.0178333,       4748,   124.8,  21.0367,  35.2202,2,  35.2182,2,    195.9,1,  -999.0,9, -999.00,9, -999.00,9,  -999.0,     126,    21.0128, -999.00,9,     -999.0
33KB20110227,       PRS2,       2,         11,          6,       8006,2,20110301,       1750,  22.728167,-158.0178333,       4748,   151.4,  19.9746,  35.1612,2,-999.0000,5,    197.4,1,  -999.0,9, -999.00,9, -999.00,9,  -999.0,     151,    19.9466, -999.00,9,     -999.0
33KB20110227,       PRS2,       2,         11,          5,       8005,2,20110301,       1750,  22.728167,-158.0178333,       4748,   151.4,  19.9668,  35.1604,2,  35.1654,2,    197.2,1,  -999.0,9, -999.00,9, -999.00,9,  -999.0,     151,    19.9389, -999.00,9,     -999.0
33KB20110227,       PRS2,       2,         11,          4,       8004,2,20110301,       1750,  22.728167,-158.0178333,       4748,   174.8,  19.2135,  35.0561,2,-999.0000,5,    196.1,1,  -999.0,9, -999.00,9, -999.00,9,  -999.0,     175,    19.1821, -999.00,9,     -999.0
33KB20110227,       PRS2,       2,         11,          3,       8003,2,20110301,       1750,  22.728167,-158.0178333,       4748,   175.0,  19.2083,  35.0565,2,  35.0437,2,    196.0,1,  -999.0,9, -999.00,9, -999.00,9,  -999.0,     175,    19.1769, -999.00,9,     -999.0
33KB20110227,       PRS2,       2,         11,          2,       8002,2,20110301,       1750,  22.728167,-158.0178333,       4748,   539.1,   6.7578,  34.0508,2,  34.0501,2,    102.5,1,  -999.0,9, -999.00,9, -999.00,9,  -999.0,     539,     6.7079, -999.00,9,     -999.0
33KB20110227,       PRS2,       2,         11,          1,       8001,2,20110301,       1750,  22.728167,-158.0178333,       4748,  1019.6,   3.8703,  34.4825,2,  34.4815,2,     45.3,1,  -999.0,9, -999.00,9, -999.00,9,  -999.0,    1020,     3.7941, -999.00,9,     -999.0
33KB20110227,       PRS2,       2,         12,          9,       8009,2,20110301,       2051,  22.737167,-158.0115000,       4744,     6.1,  24.3764,  35.1997,2,-999.0000,5,    207.9,1,  -999.0,9, -999.00,9, -999.00,9,  -999.0,       6,    24.3752, -999.00,9,     -999.0
33KB20110227,       PRS2,       2,         12,          8,       8008,2,20110301,       2051,  22.737167,-158.0115000,       4744,     6.0,  24.3782,  35.1996,2,  35.1979,2,    207.9,1,  -999.0,9, -999.00,9, -999.00,9,  -999.0,       6,    24.3769, -999.00,9,     -999.0
33KB20110227,       PRS2,       2,         12,          7,       8026,2,20110301,       2051,  22.737167,-158.0115000,       4744,    45.4,  23.8098,  35.3266,2,-999.0000,5,    206.8,1,  -999.0,9, -999.00,9, -999.00,9,  -999.0,      45,    23.8003, -999.00,9,     -999.0
33KB20110227,       PRS2,       2,         12,          6,       8006,2,20110301,       2051,  22.737167,-158.0115000,       4744,    85.2,  22.0692,  35.2413,2,-999.0000,5,    200.7,1,  -999.0,9, -999.00,9, -999.00,9,  -999.0,      85,    22.0523, -999.00,9,     -999.0
33KB20110227,       PRS2,       2,         12,          5,       8005,2,20110301,       2051,  22.737167,-158.0115000,       4744,    84.9,  22.0416,  35.2391,2,-999.0000,5,    200.9,1,  -999.0,9, -999.00,9, -999.00,9,  -999.0,      86,    22.0248, -999.00,9,     -999.0
33KB20110227,       PRS2,       2,         12,          4,       8004,2,20110301,       2051,  22.737167,-158.0115000,       4744,   101.7,  21.4218,  35.1914,2,-999.0000,5,    199.7,1,  -999.0,9, -999.00,9, -999.00,9,  -999.0,     101,    21.4020, -999.00,9,     -999.0
33KB20110227,       PRS2,       2,         12,          3,       8003,2,20110301,       2051,  22.737167,-158.0115000,       4744,   500.2,   7.3577,  34.0357,2,  34.0364,2,    125.2,1,  -999.0,9, -999.00,9, -999.00,9,  -999.0,     502,     7.3092, -999.00,9,     -999.0
33KB20110227,       PRS2,       2,         12,          2,       8002,2,20110301,       2051,  22.737167,-158.0115000,       4744,   781.0,   4.5602,  34.3147,2,-999.0000,5,     25.4,1,  -999.0,9, -999.00,9, -999.00,9,  -999.0,     784,     4.4993, -999.00,9,     -999.0
33KB20110227,       PRS2,       2,         12,          1,       8001,2,20110301,       2051,  22.737167,-158.0115000,       4744,  1019.8,   3.8555,  34.4840,2,  34.4826,2,     45.4,1,  -999.0,9, -999.00,9, -999.00,9,  -999.0,    1019,     3.7793, -999.00,9,     -999.0