BOTTLE,20141031SIOCCHAMB
EXPOCODE,SECT_ID,STNNBR,CASTNO,SAMPNO,BTLNBR,BTLNBR_FLAG_W,DATE,TIME,LATITUDE,LONGITUDE,DEPTH,CTDPRS,CTDTMP,CTDSAL,CTDSAL_FLAG_W,SALNTY,SALNTY_FLAG_W,CTDOXY,CTDOXY_FLAG_W,OXYGEN,OXYGEN_FLAG_W,SILCAT,SILCAT_FLAG_W,PHSPHT,PHSPHT_FLAG_W,REVPRS,CTDRAW,THETA,NO2+NO3,NO2+NO3_FLAG_W,REVTMP
,,,,,,,,,,,METERS,DBAR,ITS-90,PSS-78,,PSS-78,,UMOL/KG,,UMOL/KG,,UMOL/KG,,UMOL/KG,,DBAR,DBAR,ITS-90,UMOL/KG,,DEG C
33KB20110227,       PRS2,       2,         13,         23,       8023,2,20110302,       0009,  22.735500,-158.0125000,       4748,     6.6,  24.4073,  35.2009,2,  35.2040,2,    208.7,1,  -999.0,9, -999.00,9, -999.00,9,  -999.0,       6,    24.4059, -999.00,9,     -999.0
33KB20110227,       PRS2,       2,         13,         22,       8022,2,20110302,       0009,  22.735500,-158.0125000,       4748,    25.2,  24.3305,  35.2002,2,  35.1993,2,    208.4,1,  -999.0,9, -999.00,9, -999.00,9,  -999.0,      25,    24.3251, -999.00,9,     -999.0
33KB20110227,       PRS2,       2,         13,         21,       8021,2,20110302,       0009,  22.735500,-158.0125000,       4748,    45.0,  24.0669,  35.2651,2,  35.2662,2,    209.2,1,  -999.0,9, -999.00,9, -999.00,9,  -999.0,      45,    24.0574, -999.00,9,     -999.0
33KB20110227,       PRS2,       2,         13,         20,       8020,2,20110302,       0009,  22.735500,-158.0125000,       4748,    74.7,  23.3949,  35.3163,2,  35.3206,2,    206.5,1,  -999.0,9, -999.00,9, -999.00,9,  -999.0,      74,    23.3794, -999.00,9,     -999.0
33KB20110227,       PRS2,       2,         13,         19,       8019,2,20110302,       0009,  22.735500,-158.0125000,       4748,    99.1,  22.6882,  35.2691,2,  35.2635,2,    206.8,1,  -999.0,9, -999.00,9, -999.00,9,  -999.0,     100,    22.6681, -999.00,9,     -999.0
33KB20110227,       PRS2,       2,         13,         18,       8018,2,20110302,       0009,  22.735500,-158.0125000,       4748,   126.7,  21.4084,  35.2251,2,  35.2258,2,    199.5,1,  -999.0,9, -999.00,9, -999.00,9,  -999.0,     127,    21.3838, -999.00,9,     -999.0
33KB20110227,       PRS2,       2,         13,         17,       8017,2,20110302,       0009,  22.735500,-158.0125000,       4748,   150.3,  20.6548,  35.1942,2,  35.1959,2,    197.7,1,  -999.0,9, -999.00,9, -999.00,9,  -999.0,     149,    20.6264, -999.00,9,     -999.0
33KB20110227,       PRS2,       2,         13,         16,       8016,2,20110302,       0009,  22.735500,-158.0125000,       4748,   200.0,  18.3760,  34.9410,2,-999.0000,5,    199.9,1,  -999.0,9, -999.00,9, -999.00,9,  -999.0,     201,    18.3411, -999.00,9,     -999.0
33KB20110227,       PRS2,       2,         13,         15,       8015,2,20110302,       0009,  22.735500,-158.0125000,       4748,   200.2,  18.3741,  34.9410,2,  34.9425,2,    200.1,1,  -999.0,9, -999.00,9, -999.00,9,  -999.0,     199,    18.3393, -999.00,9,     -999.0
33KB20110227,       PRS2,       2,         13,         14,       8014,2,20110302,       0009,  22.735500,-158.0125000,       4748,   249.8,  15.4317,  34.4929,2,  34.4879,2,    188.5,1,  -999.0,9, -999.00,9, -999.00,9,  -999.0,     250,    15.3932, -999.00,9,     -999.0
33KB20110227,       PRS2,       2,         13,         13,       8025,2,20110302,       0009,  22.735500,-158.0125000,       4748,   301.5,  12.5639,  34.2223,2,-999.0000,5,    194.5,1,  -999.0,9, -999.00,9, -999.00,9,  -999.0,     303,    12.5236, -999.00,9,     -999.0
33KB20110227,       PRS2,       2,         13,         12,       8012,2,20110302,       0009,  22.735500,-158.0125000,       4748,   301.0,  12.5630,  34.2191,2,  34.2219,2,    194.8,1,  -999.0,9, -999.00,9, -999.00,9,  -999.0,     299,    12.5227, -999.00,9,     -999.0
33KB20110227,       PRS2,       2,         13,         11,       8011,2,20110302,       0009,  22.735500,-158.0125000,       4748,   349.6,  11.2005,  34.2124,2,  34.2128,2,    201.1,1,  -999.0,9, -999.00,9, -999.00,9,  -999.0,     350,    11.1570, -999.00,9,     -999.0
33KB20110227,       PRS2,       2,         13,         10,       8010,2,20110302,       0009,  22.735500,-158.0125000,       4748,   399.4,   9.9487,  34.1392,2,  34.1440,2,    189.4,1,  -999.0,9, -999.00,9, -999.00,9,  -999.0,     399,     9.9025, -999.00,9,     -999.0
33KB20110227,       PRS2,       2,         13,          9,       8009,2,20110302,       0009,  22.735500,-158.0125000,       4748,   499.2,   7.6865,  34.0423,2,  34.0480,2,    142.0,1,  -999.0,9, -999.00,9, -999.00,9,  -999.0,     499,     7.6369, -999.00,9,     -999.0
33KB20110227,       PRS2,       2,         13,          8,       8008,2,20110302,       0009,  22.735500,-158.0125000,       4748,   499.1,   7.6708,  34.0424,2,  34.0450,2,    139.8,1,  -999.0,9, -999.00,9, -999.00,9,  -999.0,     498,     7.6213, -999.00,9,     -999.0
33KB20110227,       PRS2,       2,         13,          7,       8026,2,20110302,       0009,  22.735500,-158.0125000,       4748,   498.9,   7.6628,  34.0426,2,  34.0449,2,    138.7,1,  -999.0,9, -999.00,9, -999.00,9,  -999.0,     499,     7.6133, -999.00,9,     -999.0
33KB20110227,       PRS2,       2,         13,          6,       8006,2,20110302,       0009,  22.735500,-158.0125000,       4748,   599.0,   5.6948,  34.0622,2,  34.0654,2,     73.1,1,  -999.0,9, -999.00,9, -999.00,9,  -999.0,     599,     5.6438, -999.00,9,     -999.0
33KB20110227,       PRS2,       2,         13,          5,       8005,2,20110302,       0009,  22.735500,-158.0125000,       4748,   700.6,   4.9587,  34.2076,2,  34.2126,2,     31.8,1,  -999.0,9, -999.00,9, -999.00,9,  -999.0,     701,     4.9024, -999.00,9,     -999.0
33KB20110227,       PRS2,       2,         13,          4,       8004,2,20110302,       0009,  22.735500,-158.0125000,       4748,   769.6,   4.5904,  34.3081,2,  34.3107,2,     25.5,1,  -999.0,9, -999.00,9, -999.00,9,  -999.0,     770,     4.5302, -999.00,9,     -999.0
33KB20110227,       PRS2,       2,         13,          3,       8003,2,20110302,       0009,  22.735500,-158.0125000,       4748,   800.8,   4.4757,  34.3397,2,  34.3403,2,     26.1,1,  -999.0,9, -999.00,9, -999.00,9,  -999.0,     803,     4.4136, -999.00,9,     -999.0
33KB20110227,       PRS2,       2,         13,          2,       8002,2,20110302,       0009,  22.735500,-158.0125000,       4748,   901.1,   4.2507,  34.4070,2,  34.4057,2,     34.7,1,  -999.0,9, -999.00,9, -999.00,9,  -999.0,     900,     4.1816, -999.00,9,     -999.0
33KB20110227,       PRS2,       2,         13,          1,       8001,2,20110302,       0009,  22.735500,-158.0125000,       4748,  1019.2,   3.8883,  34.4808,2,  34.4791,2,     45.3,1,  -999.0,9, -999.00,9, -999.00,9,  -999.0,    1018,     3.8119, -999.00,9,     -999.0
33KB20110227,       PRS2,       2,         14,         22,       8022,2,20110302,       0256,  22.750000,-158.0000000,       4746,     7.0,  24.4744,  35.2029,2,-999.0000,5,    208.1,1,  -999.0,9, -999.00,9, -999.00,9,  -999.0,       7,    24.4729, -999.00,9,     -999.0
33KB20110227,       PRS2,       2,         14,         21,       8021,3,20110302,       0256,  22.750000,-158.0000000,       4746,     7.1,  24.4745,  35.2031,2,  35.2026,2,    208.1,1,  -999.0,9, -999.00,9, -999.00,9,  -999.0,       7,    24.4730, -999.00,9,     -999.0
33KB20110227,       PRS2,       2,         14,         20,       8020,3,20110302,       0256,  22.750000,-158.0000000,       4746,    14.3,  24.4493,  35.2014,2,  35.2012,2,    208.3,1,  -999.0,9, -999.00,9, -999.00,9,  -999.0,      14,    24.4462, -999.00,9,     -999.0
33KB20110227,       PRS2,       2,         14,         19,       8019,2,20110302,       0256,  22.750000,-158.0000000,       4746,    25.3,  24.3558,  35.2028,2,-999.0000,5,    208.4,1,  -999.0,9, -999.00,9, -999.00,9,  -999.0,      26,    24.3504, -999.00,9,     -999.0
33KB20110227,       PRS2,       2,         14,         18,       8018,2,20110302,       0256,  22.750000,-158.0000000,       4746,    25.6,  24.3477,  35.2028,2,  35.2002,2,    208.4,1,  -999.0,9, -999.00,9, -999.00,9,  -999.0,      26,    24.3423, -999.00,9,     -999.0
33KB20110227,       PRS2,       2,         14,         17,       8017,2,20110302,       0256,  22.750000,-158.0000000,       4746,    34.8,  24.1897,  35.2236,2,  35.2192,2,    209.5,1,  -999.0,9, -999.00,9, -999.00,9,  -999.0,      34,    24.1823, -999.00,9,     -999.0
33KB20110227,       PRS2,       2,         14,         16,       8016,2,20110302,       0256,  22.750000,-158.0000000,       4746,    34.7,  24.1797,  35.2246,2,  35.2225,2,    209.5,1,  -999.0,9, -999.00,9, -999.00,9,  -999.0,      35,    24.1723, -999.00,9,     -999.0
33KB20110227,       PRS2,       2,         14,         15,       8015,2,20110302,       0256,  22.750000,-158.0000000,       4746,    44.7,  24.0809,  35.2435,2,-999.0000,5,    209.4,1,  -999.0,9, -999.00,9, -999.00,9,  -999.0,      45,    24.0715, -999.00,9,     -999.0
33KB20110227,       PRS2,       2,         14,         14,       8014,2,20110302,       0256,  22.750000,-158.0000000,       4746,    44.6,  24.0633,  35.2477,2,  35.2450,2,    209.0,1,  -999.0,9, -999.00,9, -999.00,9,  -999.0,      46,    24.0539, -999.00,9,     -999.0
33KB20110227,       PRS2,       2,         14,         13,       8025,2,20110302,       0256,  22.750000,-158.0000000,       4746,    59.5,  23.7816,  35.2791,2,  35.2769,2,    209.0,1,  -999.0,9, -999.00,9, -999.00,9,  -999.0,      59,    23.7691, -999.00,9,     -999.0
33KB20110227,       PRS2,       2,         14,         12,       8012,2,20110302,       0256,  22.750000,-158.0000000,       4746,    73.7,  23.6019,  35.2963,2,-999.0000,5,    207.8,1,  -999.0,9, -999.00,9, -999.00,9,  -999.0,      73,    23.5866, -999.00,9,     -999.0
33KB20110227,       PRS2,       2,         14,         11,       8011,2,20110302,       0256,  22.750000,-158.0000000,       4746,    74.3,  23.5891,  35.2967,2,  35.2976,2,    208.1,1,  -999.0,9, -999.00,9, -999.00,9,  -999.0,      75,    23.5736, -999.00,9,     -999.0
33KB20110227,       PRS2,       2,         14,         10,       8010,2,20110302,       0256,  22.750000,-158.0000000,       4746,    99.6,  22.5357,  35.2498,2,-999.0000,5,    205.8,1,  -999.0,9, -999.00,9, -999.00,9,  -999.0,      99,    22.5157, -999.00,9,     -999.0
33KB20110227,       PRS2,       2,         14,          9,       8009,2,20110302,       0256,  22.750000,-158.0000000,       4746,    99.3,  22.4968,  35.2422,2,  35.2461,2,    204.7,1,  -999.0,9, -999.00,9, -999.00,9,  -999.0,      99,    22.4768, -999.00,9,     -999.0
33KB20110227,       PRS2,       2,         14,          8,       8008,2,20110302,       0256,  22.750000,-158.0000000,       4746,    99.5,  22.3602,  35.2235,2,-999.0000,5,    203.6,1,  -999.0,9, -999.00,9, -999.00,9,  -999.0,     100,    22.3403, -999.00,9,     -999.0
33KB20110227,       PRS2,       2,         14,          7,       8026,2,20110302,       0256,  22.750000,-158.0000000,       4746,   125.0,  21.4593,  35.1991,2,  35.1973,2,    198.1,1,  -999.0,9, -999.00,9, -999.00,9,  -999.0,     125,    21.4351, -999.00,9,     -999.0
33KB20110227,       PRS2,       2,         14,          6,       8006,2,20110302,       0256,  22.750000,-158.0000000,       4746,   148.9,  20.6419,  35.1775,2,-999.0000,5,    195.5,1,  -999.0,9, -999.00,9, -999.00,9,  -999.0,     148,    20.6137, -999.00,9,     -999.0
33KB20110227,       PRS2,       2,         14,          5,       8005,2,20110302,       0256,  22.750000,-158.0000000,       4746,   148.9,  20.6454,  35.1848,2,  35.1782,2,    195.5,1,  -999.0,9, -999.00,9, -999.00,9,  -999.0,     148,    20.6173, -999.00,9,     -999.0
33KB20110227,       PRS2,       2,         14,          4,       8004,2,20110302,       0256,  22.750000,-158.0000000,       4746,   175.1,  19.8629,  35.1329,2,-999.0000,5,    195.3,1,  -999.0,9, -999.00,9, -999.00,9,  -999.0,     174,    19.8306, -999.00,9,     -999.0
33KB20110227,       PRS2,       2,         14,          3,       8003,2,20110302,       0256,  22.750000,-158.0000000,       4746,   175.1,  19.8640,  35.1325,2,  35.1368,2,    195.3,1,  -999.0,9, -999.00,9, -999.00,9,  -999.0,     174,    19.8317, -999.00,9,     -999.0
33KB20110227,       PRS2,       2,         14,          2,       8002,2,20110302,       0256,  22.750000,-158.0000000,       4746,   519.3,   6.9308,  34.0355,2,  34.0370,2,    114.0,1,  -999.0,9, -999.00,9, -999.00,9,  -999.0,     520,     6.8821, -999.00,9,     -999.0
33KB20110227,       PRS2,       2,         14,          1,       8001,2,20110302,       0256,  22.750000,-158.0000000,       4746,  1020.9,   3.8654,  34.4838,2,  34.4836,2,     45.6,1,  -999.0,9, -999.00,9, -999.00,9,  -999.0,    1020,     3.7891, -999.00,9,     -999.0
33KB20110227,       PRS2,       2,         15,         22,       8022,2,20110302,       0547,  22.750000,-157.9998333,       4746,     7.6,  24.4290,  35.2002,2,-999.0000,5,    207.8,1,  -999.0,9, -999.00,9, -999.00,9,  -999.0,       7,    24.4274, -999.00,9,     -999.0
33KB20110227,       PRS2,       2,         15,         21,       8021,3,20110302,       0547,  22.750000,-157.9998333,       4746,     7.4,  24.4254,  35.2003,2,  35.2004,2,    208.5,1,  -999.0,9, -999.00,9, -999.00,9,  -999.0,       8,    24.4238, -999.00,9,     -999.0
33KB20110227,       PRS2,       2,         15,         20,       8020,2,20110302,       0547,  22.750000,-157.9998333,       4746,    25.1,  24.4252,  35.2001,2,-999.0000,5,    208.5,1,  -999.0,9, -999.00,9, -999.00,9,  -999.0,      26,    24.4199, -999.00,9,     -999.0
33KB20110227,       PRS2,       2,         15,         19,       8019,2,20110302,       0547,  22.750000,-157.9998333,       4746,    24.7,  24.4227,  35.2003,2,  35.2004,2,    208.1,1,  -999.0,9, -999.00,9, -999.00,9,  -999.0,      24,    24.4175, -999.00,9,     -999.0
33KB20110227,       PRS2,       2,         15,         18,       8018,2,20110302,       0547,  22.750000,-157.9998333,       4746,    46.4,  24.0862,  35.2440,2,-999.0000,5,    209.9,1,  -999.0,9, -999.00,9, -999.00,9,  -999.0,      46,    24.0764, -999.00,9,     -999.0
33KB20110227,       PRS2,       2,         15,         17,       8017,2,20110302,       0547,  22.750000,-157.9998333,       4746,    46.3,  24.0864,  35.2446,2,  35.2390,2,    210.1,1,  -999.0,9, -999.00,9, -999.00,9,  -999.0,      46,    24.0766, -999.00,9,     -999.0
33KB20110227,       PRS2,       2,         15,         16,       8016,2,20110302,       0547,  22.750000,-157.9998333,       4746,    60.1,  23.8693,  35.2899,2,  35.2885,2,    208.3,1,  -999.0,9, -999.00,9, -999.00,9,  -999.0,      59,    23.8567, -999.00,9,     -999.0
33KB20110227,       PRS2,       2,         15,         15,       8015,2,20110302,       0547,  22.750000,-157.9998333,       4746,    75.4,  23.7206,  35.3030,2,-999.0000,5,    208.4,1,  -999.0,9, -999.00,9, -999.00,9,  -999.0,      74,    23.7049, -999.00,9,     -999.0
33KB20110227,       PRS2,       2,         15,         14,       8014,2,20110302,       0547,  22.750000,-157.9998333,       4746,    75.1,  23.7161,  35.3047,2,  35.3082,2,    208.1,1,  -999.0,9, -999.00,9, -999.00,9,  -999.0,      75,    23.7004, -999.00,9,     -999.0
33KB20110227,       PRS2,       2,         15,         13,       8025,2,20110302,       0547,  22.750000,-157.9998333,       4746,    84.3,  23.4844,  35.3728,2,  35.3798,2,    210.7,1,  -999.0,9, -999.00,9, -999.00,9,  -999.0,      85,    23.4670, -999.00,9,     -999.0
33KB20110227,       PRS2,       2,         15,         12,       8012,2,20110302,       0547,  22.750000,-157.9998333,       4746,    99.8,  22.5588,  35.2738,2,-999.0000,5,    204.7,1,  -999.0,9, -999.00,9, -999.00,9,  -999.0,      99,    22.5387, -999.00,9,     -999.0
33KB20110227,       PRS2,       2,         15,         11,       8011,2,20110302,       0547,  22.750000,-157.9998333,       4746,    99.6,  22.5538,  35.2708,2,  35.2572,2,    204.1,1,  -999.0,9, -999.00,9, -999.00,9,  -999.0,     100,    22.5337, -999.00,9,     -999.0
33KB20110227,       PRS2,       2,         15,         10,       8010,2,20110302,       0547,  22.750000,-157.9998333,       4746,   114.6,  21.6252,  35.2052,2,  35.2054,2,    200.2,1,  -999.0,9, -999.00,9, -999.00,9,  -999.0,     114,    21.6028, -999.00,9,     -999.0
33KB20110227,       PRS2,       2,         15,          9,       8009,2,20110302,       0547,  22.750000,-157.9998333,       4746,   124.8,  21.6099,  35.2138,2,-999.0000,5,    200.6,1,  -999.0,9, -999.00,9, -999.00,9,  -999.0,     125,    21.5855, -999.00,9,     -999.0
33KB20110227,       PRS2,       2,         15,          8,       8008,2,20110302,       0547,  22.750000,-157.9998333,       4746,   124.7,  21.6093,  35.2137,2,  35.2132,2,    200.6,1,  -999.0,9, -999.00,9, -999.00,9,  -999.0,     125,    21.5849, -999.00,9,     -999.0
33KB20110227,       PRS2,       2,         15,          7,       8026,2,20110302,       0547,  22.750000,-157.9998333,       4746,   135.2,  21.2146,  35.1728,2,  35.1770,2,    199.4,1,  -999.0,9, -999.00,9, -999.00,9,  -999.0,     136,    21.1885, -999.00,9,     -999.0
33KB20110227,       PRS2,       2,         15,          6,       8006,2,20110302,       0547,  22.750000,-157.9998333,       4746,   151.2,  20.5277,  35.1526,2,-999.0000,5,    196.3,1,  -999.0,9, -999.00,9, -999.00,9,  -999.0,     151,    20.4993, -999.00,9,     -999.0
33KB20110227,       PRS2,       2,         15,          5,       8005,2,20110302,       0547,  22.750000,-157.9998333,       4746,   151.3,  20.5341,  35.1508,2,  35.1532,2,    195.9,1,  -999.0,9, -999.00,9, -999.00,9,  -999.0,     152,    20.5056, -999.00,9,     -999.0
33KB20110227,       PRS2,       2,         15,          4,       8004,2,20110302,       0547,  22.750000,-157.9998333,       4746,   175.1,  19.7662,  35.1209,2,-999.0000,5,    195.1,1,  -999.0,9, -999.00,9, -999.00,9,  -999.0,     176,    19.7341, -999.00,9,     -999.0
33KB20110227,       PRS2,       2,         15,          3,       8003,2,20110302,       0547,  22.750000,-157.9998333,       4746,   175.1,  19.7654,  35.1209,2,  35.1266,2,    194.9,1,  -999.0,9, -999.00,9, -999.00,9,  -999.0,     174,    19.7332, -999.00,9,     -999.0
33KB20110227,       PRS2,       2,         15,          2,       8002,2,20110302,       0547,  22.750000,-157.9998333,       4746,   500.1,   7.0729,  34.0322,2,  34.0331,2,    121.8,1,  -999.0,9, -999.00,9, -999.00,9,  -999.0,     501,     7.0255, -999.00,9,     -999.0
33KB20110227,       PRS2,       2,         15,          1,       8001,2,20110302,       0547,  22.750000,-157.9998333,       4746,  1021.0,   3.8662,  34.4826,2,  34.4830,2,     45.5,1,  -999.0,9, -999.00,9, -999.00,9,  -999.0,    1020,     3.7899, -999.00,9,     -999.0