BOTTLE,20141031SIOCCHAMB
EXPOCODE,SECT_ID,STNNBR,CASTNO,SAMPNO,BTLNBR,BTLNBR_FLAG_W,DATE,TIME,LATITUDE,LONGITUDE,DEPTH,CTDPRS,CTDTMP,CTDSAL,CTDSAL_FLAG_W,SALNTY,SALNTY_FLAG_W,CTDOXY,CTDOXY_FLAG_W,OXYGEN,OXYGEN_FLAG_W,SILCAT,SILCAT_FLAG_W,PHSPHT,PHSPHT_FLAG_W,REVPRS,CTDRAW,THETA,NO2+NO3,NO2+NO3_FLAG_W,REVTMP
,,,,,,,,,,,METERS,DBAR,ITS-90,PSS-78,,PSS-78,,UMOL/KG,,UMOL/KG,,UMOL/KG,,UMOL/KG,,DBAR,DBAR,ITS-90,UMOL/KG,,DEG C
33KB20110227,       PRS2,       2,          6,         19,       8019,2,20110301,       0247,  22.676000,-158.0383333,       4774,     7.3,  24.2340,  35.3224,2,-999.0000,5,    208.5,1,  -999.0,9, -999.00,9, -999.00,9,  -999.0,       8,    24.2325, -999.00,9,     -999.0
33KB20110227,       PRS2,       2,          6,         18,       8018,2,20110301,       0247,  22.676000,-158.0383333,       4774,     7.5,  24.2450,  35.3213,2,  35.3208,2,    208.4,1,  -999.0,9, -999.00,9, -999.00,9,  -999.0,       6,    24.2434, -999.00,9,     -999.0
33KB20110227,       PRS2,       2,          6,         17,       8017,2,20110301,       0247,  22.676000,-158.0383333,       4774,    24.3,  23.8850,  35.3246,2,  35.3263,2,    210.8,1,  -999.0,9, -999.00,9, -999.00,9,  -999.0,      24,    23.8799, -999.00,9,     -999.0
33KB20110227,       PRS2,       2,          6,         16,       8016,2,20110301,       0247,  22.676000,-158.0383333,       4774,    45.2,  23.5007,  35.3936,2,-999.0000,5,    208.8,1,  -999.0,9, -999.00,9, -999.00,9,  -999.0,      45,    23.4913, -999.00,9,     -999.0
33KB20110227,       PRS2,       2,          6,         15,       8015,2,20110301,       0247,  22.676000,-158.0383333,       4774,    45.1,  23.5022,  35.3938,2,  35.3928,2,    208.8,1,  -999.0,9, -999.00,9, -999.00,9,  -999.0,      46,    23.4929, -999.00,9,     -999.0
33KB20110227,       PRS2,       2,          6,         14,       8014,2,20110301,       0247,  22.676000,-158.0383333,       4774,    75.1,  23.2043,  35.4190,2,  35.4182,2,    210.8,1,  -999.0,9, -999.00,9, -999.00,9,  -999.0,      74,    23.1889, -999.00,9,     -999.0
33KB20110227,       PRS2,       2,          6,         13,       8025,2,20110301,       0247,  22.676000,-158.0383333,       4774,   100.1,  22.9500,  35.4271,2,-999.0000,5,    207.8,1,  -999.0,9, -999.00,9, -999.00,9,  -999.0,     100,    22.9296, -999.00,9,     -999.0
33KB20110227,       PRS2,       2,          6,         12,       8012,2,20110301,       0247,  22.676000,-158.0383333,       4774,   100.1,  22.9518,  35.4270,2,  35.4273,2,    207.8,1,  -999.0,9, -999.00,9, -999.00,9,  -999.0,     100,    22.9314, -999.00,9,     -999.0
33KB20110227,       PRS2,       2,          6,         11,       8011,2,20110301,       0247,  22.676000,-158.0383333,       4774,   124.6,  22.0098,  35.3693,2,-999.0000,5,    205.1,1,  -999.0,9, -999.00,9, -999.00,9,  -999.0,     123,    21.9851, -999.00,9,     -999.0
33KB20110227,       PRS2,       2,          6,         10,       8010,2,20110301,       0247,  22.676000,-158.0383333,       4774,   124.8,  21.9944,  35.3680,2,-999.0000,5,    205.0,1,  -999.0,9, -999.00,9, -999.00,9,  -999.0,     126,    21.9697, -999.00,9,     -999.0
33KB20110227,       PRS2,       2,          6,          9,       8009,2,20110301,       0247,  22.676000,-158.0383333,       4774,   124.6,  21.9821,  35.3676,2,  35.3687,2,    204.8,1,  -999.0,9, -999.00,9, -999.00,9,  -999.0,     124,    21.9574, -999.00,9,     -999.0
33KB20110227,       PRS2,       2,          6,          8,       8008,2,20110301,       0247,  22.676000,-158.0383333,       4774,   148.7,  20.8002,  35.2754,2,  35.2609,3,    203.8,1,  -999.0,9, -999.00,9, -999.00,9,  -999.0,     148,    20.7719, -999.00,9,     -999.0
33KB20110227,       PRS2,       2,          6,          7,       8026,2,20110301,       0247,  22.676000,-158.0383333,       4774,   175.6,  19.7450,  35.1336,2,  35.1350,2,    199.2,1,  -999.0,9, -999.00,9, -999.00,9,  -999.0,     174,    19.7128, -999.00,9,     -999.0
33KB20110227,       PRS2,       2,          6,          6,       8006,2,20110301,       0247,  22.676000,-158.0383333,       4774,   200.8,  18.6441,  34.9819,2,  34.9817,2,    197.2,1,  -999.0,9, -999.00,9, -999.00,9,  -999.0,     201,    18.6088, -999.00,9,     -999.0
33KB20110227,       PRS2,       2,          6,          5,       8005,2,20110301,       0247,  22.676000,-158.0383333,       4774,   248.0,  16.7163,  34.7138,2,  34.6983,2,    204.6,1,  -999.0,9, -999.00,9, -999.00,9,  -999.0,     249,    16.6759, -999.00,9,     -999.0
33KB20110227,       PRS2,       2,          6,          4,       8004,2,20110301,       0247,  22.676000,-158.0383333,       4774,   350.2,  11.0393,  34.1998,2,  34.2073,2,    200.5,1,  -999.0,9, -999.00,9, -999.00,9,  -999.0,     349,    10.9961, -999.00,9,     -999.0
33KB20110227,       PRS2,       2,          6,          3,       8003,2,20110301,       0247,  22.676000,-158.0383333,       4774,   350.2,  11.0113,  34.1957,2,  34.2081,2,    200.5,1,  -999.0,9, -999.00,9, -999.00,9,  -999.0,     349,    10.9682, -999.00,9,     -999.0
33KB20110227,       PRS2,       2,          6,          2,       8002,2,20110301,       0247,  22.676000,-158.0383333,       4774,   508.0,   7.0221,  34.0314,2,  34.0307,2,    123.3,1,  -999.0,9, -999.00,9, -999.00,9,  -999.0,     508,     6.9742, -999.00,9,     -999.0
33KB20110227,       PRS2,       2,          6,          1,       8001,2,20110301,       0247,  22.676000,-158.0383333,       4774,  1019.9,   3.9122,  34.4751,2,  34.4748,2,     44.3,1,  -999.0,9, -999.00,9, -999.00,9,  -999.0,    1023,     3.8356, -999.00,9,     -999.0
33KB20110227,       PRS2,       2,          7,         23,       8023,2,20110301,       0549,  22.750000,-158.0000000,       4746,     7.9,  24.4126,  35.1893,2,  35.1890,2,    208.3,2,  -999.0,5, -999.00,5, -999.00,5,  -999.0,       8,    24.4109, -999.00,5,     -999.0
33KB20110227,       PRS2,       2,          7,         22,       8022,2,20110301,       0549,  22.750000,-158.0000000,       4746,     7.8,  24.4126,  35.1892,2,  35.1882,2,    208.1,2,   208.1,2,    1.07,2,    0.07,2,  -999.0,       8,    24.4110,    0.02,2,     -999.0
33KB20110227,       PRS2,       2,          7,         21,       8021,2,20110301,       0549,  22.750000,-158.0000000,       4746,    14.9,  24.4136,  35.1887,2,  35.1878,2,    208.1,2,  -999.0,5,    1.04,2,    0.07,2,  -999.0,      15,    24.4105,    0.01,2,     -999.0
33KB20110227,       PRS2,       2,          7,         20,       8020,2,20110301,       0549,  22.750000,-158.0000000,       4746,    25.9,  24.1062,  35.2226,2,  35.2225,2,    209.4,2,  -999.0,5, -999.00,5, -999.00,5,  -999.0,      25,    24.1007, -999.00,5,     -999.0
33KB20110227,       PRS2,       2,          7,         19,       8019,2,20110301,       0549,  22.750000,-158.0000000,       4746,    26.1,  24.1056,  35.2229,2,  35.2241,2,    209.5,2,   210.3,2,    1.10,2,    0.16,3,  -999.0,      27,    24.1001,    0.02,2,     -999.0
33KB20110227,       PRS2,       2,          7,         18,       8018,2,20110301,       0549,  22.750000,-158.0000000,       4746,    34.6,  24.0116,  35.2432,2,  35.2408,2,    210.0,2,  -999.0,5,    1.04,2,    0.07,2,  -999.0,      33,    24.0043,    0.01,2,     -999.0
33KB20110227,       PRS2,       2,          7,         17,       8017,2,20110301,       0549,  22.750000,-158.0000000,       4746,    45.0,  23.9383,  35.2955,2,  35.2944,2,    207.7,2,   207.7,2,    1.13,2,    0.06,2,  -999.0,      44,    23.9289,    0.03,2,     -999.0
33KB20110227,       PRS2,       2,          7,         16,       8016,2,20110301,       0549,  22.750000,-158.0000000,       4746,    60.0,  23.6761,  35.3510,2,  35.3463,2,    210.0,2,  -999.0,5,    1.06,2,    0.04,2,  -999.0,      59,    23.6636,    0.01,2,     -999.0
33KB20110227,       PRS2,       2,          7,         15,       8015,2,20110301,       0549,  22.750000,-158.0000000,       4746,    75.4,  23.3391,  35.4043,2,  35.4038,2,    210.0,2,   210.2,2,    1.04,2,    0.03,2,  -999.0,      75,    23.3236,    0.01,2,     -999.0
33KB20110227,       PRS2,       2,          7,         14,       8014,2,20110301,       0549,  22.750000,-158.0000000,       4746,    85.5,  23.1631,  35.4280,2,  35.4259,2,    209.5,2,   209.3,2, -999.00,5, -999.00,5,  -999.0,      85,    23.1455, -999.00,5,     -999.0
33KB20110227,       PRS2,       2,          7,         13,       8025,2,20110301,       0549,  22.750000,-158.0000000,       4746,    89.5,  23.0938,  35.4290,2,  35.4285,2,    209.5,2,  -999.0,5, -999.00,5, -999.00,5,  -999.0,      90,    23.0755, -999.00,5,     -999.0
33KB20110227,       PRS2,       2,          7,         12,       8012,2,20110301,       0549,  22.750000,-158.0000000,       4746,   100.5,  22.8785,  35.4164,2,  35.3957,4,    208.7,3,   207.1,2,    1.22,2,    0.10,2,  -999.0,     101,    22.8580,    0.10,2,     -999.0
33KB20110227,       PRS2,       2,          7,         11,       8011,2,20110301,       0549,  22.750000,-158.0000000,       4746,   110.3,  21.7161,  35.2517,2,  35.2534,2,    198.9,2,  -999.0,5, -999.00,5, -999.00,5,  -999.0,     112,    21.6944, -999.00,5,     -999.0
33KB20110227,       PRS2,       2,          7,         10,       8010,2,20110301,       0549,  22.750000,-158.0000000,       4746,   115.0,  21.5291,  35.2340,2,  35.2335,2,    197.0,2,   199.6,2, -999.00,5, -999.00,5,  -999.0,     116,    21.5067, -999.00,5,     -999.0
33KB20110227,       PRS2,       2,          7,          9,       8009,2,20110301,       0549,  22.750000,-158.0000000,       4746,   126.1,  20.9922,  35.2076,2,  35.2073,2,    195.5,2,   197.5,2,    1.72,2,    0.18,2,  -999.0,     125,    20.9681,    1.19,2,     -999.0
33KB20110227,       PRS2,       2,          7,          8,       8008,2,20110301,       0549,  22.750000,-158.0000000,       4746,   131.0,  20.7872,  35.2205,2,  35.2213,2,    195.6,2,  -999.0,5, -999.00,5, -999.00,5,  -999.0,     131,    20.7623, -999.00,5,     -999.0
33KB20110227,       PRS2,       2,          7,          7,       8026,2,20110301,       0549,  22.750000,-158.0000000,       4746,   150.8,  20.3860,  35.2031,2,  35.2032,2,    198.0,2,   197.2,2,    1.82,2,    0.17,2,  -999.0,     150,    20.3578,    1.31,2,     -999.0
33KB20110227,       PRS2,       2,          7,          6,       8006,2,20110301,       0549,  22.750000,-158.0000000,       4746,   166.9,  19.8667,  35.1452,2,  35.1478,2,    197.0,2,   197.8,2, -999.00,5, -999.00,5,  -999.0,     167,    19.8359, -999.00,5,     -999.0
33KB20110227,       PRS2,       2,          7,          5,       8005,2,20110301,       0549,  22.750000,-158.0000000,       4746,   174.8,  19.3985,  35.0828,2,  35.0872,2,    196.2,2,   196.7,2,    2.13,2,    0.19,2,  -999.0,     176,    19.3669,    1.88,2,     -999.0
33KB20110227,       PRS2,       2,          7,          4,       8004,2,20110301,       0549,  22.750000,-158.0000000,       4746,   200.1,  18.7773,  34.9982,2,  35.0051,2,    196.4,2,   196.8,2,    2.58,2,    0.22,2,  -999.0,     197,    18.7419,    2.43,2,     -999.0
33KB20110227,       PRS2,       2,          7,          3,       8003,2,20110301,       0549,  22.750000,-158.0000000,       4746,   530.1,   6.6442,  34.0497,2,  34.0452,2,     96.2,2,    99.1,2, -999.00,5, -999.00,5,  -999.0,     529,     6.5955, -999.00,5,     -999.0
33KB20110227,       PRS2,       2,          7,          2,       8002,2,20110301,       0549,  22.750000,-158.0000000,       4746,   800.0,   4.4659,  34.3430,2,  34.3407,2,     25.9,2,    25.8,2, -999.00,5, -999.00,5,  -999.0,     802,     4.4039, -999.00,5,     -999.0
33KB20110227,       PRS2,       2,          7,          1,       8001,2,20110301,       0549,  22.750000,-158.0000000,       4746,  1019.9,   3.8470,  34.4867,2,  34.4881,2,     46.3,2,    46.5,2, -999.00,5, -999.00,5,  -999.0,    1021,     3.7709, -999.00,5,     -999.0
33KB20110227,       PRS2,       2,          8,         24,       8024,2,20110301,       0905,  22.750167,-157.9998333,       4747,     6.6,  24.4126,  35.1965,2,  35.1961,2,    207.4,1,  -999.0,9, -999.00,9, -999.00,9,  -999.0,       7,    24.4111, -999.00,9,     -999.0
33KB20110227,       PRS2,       2,          8,         23,       8023,2,20110301,       0905,  22.750167,-157.9998333,       4747,    25.7,  24.4155,  35.1955,2,  35.1953,2,    207.5,1,  -999.0,9, -999.00,9, -999.00,9,  -999.0,      26,    24.4100, -999.00,9,     -999.0
33KB20110227,       PRS2,       2,          8,         22,       8022,2,20110301,       0905,  22.750167,-157.9998333,       4747,    45.1,  24.1055,  35.2204,2,  35.2205,2,    209.6,1,  -999.0,9, -999.00,9, -999.00,9,  -999.0,      46,    24.0960, -999.00,9,     -999.0
33KB20110227,       PRS2,       2,          8,         21,       8021,2,20110301,       0905,  22.750167,-157.9998333,       4747,    76.1,  23.9525,  35.3028,2,  35.2997,2,    207.5,1,  -999.0,9, -999.00,9, -999.00,9,  -999.0,      76,    23.9365, -999.00,9,     -999.0
33KB20110227,       PRS2,       2,          8,         20,       8020,2,20110301,       0905,  22.750167,-157.9998333,       4747,   100.5,  23.4675,  35.3741,2,  35.3717,2,    208.7,1,  -999.0,9, -999.00,9, -999.00,9,  -999.0,      99,    23.4467, -999.00,9,     -999.0
33KB20110227,       PRS2,       2,          8,         19,       8019,2,20110301,       0905,  22.750167,-157.9998333,       4747,   125.8,  22.0168,  35.2451,2,  35.2540,2,    200.5,1,  -999.0,9, -999.00,9, -999.00,9,  -999.0,     126,    21.9919, -999.00,9,     -999.0
33KB20110227,       PRS2,       2,          8,         18,       8018,2,20110301,       0905,  22.750167,-157.9998333,       4747,   150.3,  20.7062,  35.2140,2,  35.2144,2,    195.5,1,  -999.0,9, -999.00,9, -999.00,9,  -999.0,     149,    20.6777, -999.00,9,     -999.0
33KB20110227,       PRS2,       2,          8,         17,       8017,2,20110301,       0905,  22.750167,-157.9998333,       4747,   175.7,  19.5313,  35.1044,2,  35.1071,2,    197.4,1,  -999.0,9, -999.00,9, -999.00,9,  -999.0,     175,    19.4993, -999.00,9,     -999.0
33KB20110227,       PRS2,       2,          8,         16,       8016,2,20110301,       0905,  22.750167,-157.9998333,       4747,   499.7,   7.1181,  34.0574,2,-999.0000,5,    106.7,1,  -999.0,9, -999.00,9, -999.00,9,  -999.0,     500,     7.0706, -999.00,9,     -999.0
33KB20110227,       PRS2,       2,          8,         15,       8015,2,20110301,       0905,  22.750167,-157.9998333,       4747,   499.8,   7.1183,  34.0574,2,-999.0000,5,    106.6,1,  -999.0,9, -999.00,9, -999.00,9,  -999.0,     500,     7.0707, -999.00,9,     -999.0
33KB20110227,       PRS2,       2,          8,         14,       8014,2,20110301,       0905,  22.750167,-157.9998333,       4747,   499.8,   7.1183,  34.0573,2,  34.0572,2,    106.4,1,  -999.0,9, -999.00,9, -999.00,9,  -999.0,     500,     7.0708, -999.00,9,     -999.0
33KB20110227,       PRS2,       2,          8,         13,       8025,2,20110301,       0905,  22.750167,-157.9998333,       4747,   499.8,   7.1185,  34.0574,2,-999.0000,5,    106.2,1,  -999.0,9, -999.00,9, -999.00,9,  -999.0,     499,     7.0709, -999.00,9,     -999.0
33KB20110227,       PRS2,       2,          8,         12,       8012,2,20110301,       0905,  22.750167,-157.9998333,       4747,   500.0,   7.1188,  34.0571,2,-999.0000,5,    105.9,1,  -999.0,9, -999.00,9, -999.00,9,  -999.0,     500,     7.0712, -999.00,9,     -999.0
33KB20110227,       PRS2,       2,          8,         11,       8011,2,20110301,       0905,  22.750167,-157.9998333,       4747,   541.0,   6.3403,  34.0418,2,  34.0423,2,     96.2,1,  -999.0,9, -999.00,9, -999.00,9,  -999.0,     541,     6.2919, -999.00,9,     -999.0
33KB20110227,       PRS2,       2,          8,         10,       8010,2,20110301,       0905,  22.750167,-157.9998333,       4747,   769.6,   4.5565,  34.3177,2,-999.0000,5,     25.7,1,  -999.0,9, -999.00,9, -999.00,9,  -999.0,     770,     4.4965, -999.00,9,     -999.0
33KB20110227,       PRS2,       2,          8,          9,       8009,2,20110301,       0905,  22.750167,-157.9998333,       4747,   769.6,   4.5555,  34.3180,2,  34.3176,2,     25.7,1,  -999.0,9, -999.00,9, -999.00,9,  -999.0,     769,     4.4956, -999.00,9,     -999.0
33KB20110227,       PRS2,       2,          8,          8,       8008,2,20110301,       0905,  22.750167,-157.9998333,       4747,   769.6,   4.5554,  34.3180,2,-999.0000,5,     25.6,1,  -999.0,9, -999.00,9, -999.00,9,  -999.0,     771,     4.4954, -999.00,9,     -999.0
33KB20110227,       PRS2,       2,          8,          7,       8026,2,20110301,       0905,  22.750167,-157.9998333,       4747,   769.8,   4.5549,  34.3179,2,-999.0000,5,     25.6,1,  -999.0,9, -999.00,9, -999.00,9,  -999.0,     768,     4.4950, -999.00,9,     -999.0
33KB20110227,       PRS2,       2,          8,          6,       8006,2,20110301,       0905,  22.750167,-157.9998333,       4747,   769.8,   4.5536,  34.3180,2,-999.0000,5,     25.6,1,  -999.0,9, -999.00,9, -999.00,9,  -999.0,     770,     4.4936, -999.00,9,     -999.0
33KB20110227,       PRS2,       2,          8,          5,       8005,2,20110301,       0905,  22.750167,-157.9998333,       4747,  1019.1,   3.8560,  34.4858,2,-999.0000,5,     46.0,1,  -999.0,9, -999.00,9, -999.00,9,  -999.0,    1019,     3.7799, -999.00,9,     -999.0
33KB20110227,       PRS2,       2,          8,          4,       8004,2,20110301,       0905,  22.750167,-157.9998333,       4747,  1019.5,   3.8553,  34.4857,2,-999.0000,5,     46.0,1,  -999.0,9, -999.00,9, -999.00,9,  -999.0,    1019,     3.7792, -999.00,9,     -999.0
33KB20110227,       PRS2,       2,          8,          3,       8003,2,20110301,       0905,  22.750167,-157.9998333,       4747,  1018.8,   3.8560,  34.4857,2,-999.0000,5,     46.0,1,  -999.0,9, -999.00,9, -999.00,9,  -999.0,    1019,     3.7800, -999.00,9,     -999.0
33KB20110227,       PRS2,       2,          8,          2,       8002,2,20110301,       0905,  22.750167,-157.9998333,       4747,  1019.1,   3.8544,  34.4859,2,-999.0000,5,     46.0,1,  -999.0,9, -999.00,9, -999.00,9,  -999.0,    1019,     3.7784, -999.00,9,     -999.0
33KB20110227,       PRS2,       2,          8,          1,       8001,2,20110301,       0905,  22.750167,-157.9998333,       4747,  1019.3,   3.8530,  34.4864,2,  34.4850,2,     46.0,1,  -999.0,9, -999.00,9, -999.00,9,  -999.0,    1018,     3.7769, -999.00,9,     -999.0