BOTTLE,20141031SIOCCHAMB
EXPOCODE,SECT_ID,STNNBR,CASTNO,SAMPNO,BTLNBR,BTLNBR_FLAG_W,DATE,TIME,LATITUDE,LONGITUDE,DEPTH,CTDPRS,CTDTMP,CTDSAL,CTDSAL_FLAG_W,SALNTY,SALNTY_FLAG_W,CTDOXY,CTDOXY_FLAG_W,OXYGEN,OXYGEN_FLAG_W,SILCAT,SILCAT_FLAG_W,PHSPHT,PHSPHT_FLAG_W,REVPRS,CTDRAW,THETA,NO2+NO3,NO2+NO3_FLAG_W,REVTMP
,,,,,,,,,,,METERS,DBAR,ITS-90,PSS-78,,PSS-78,,UMOL/KG,,UMOL/KG,,UMOL/KG,,UMOL/KG,,DBAR,DBAR,ITS-90,UMOL/KG,,DEG C
33KB20110227,       PRS2,       2,         16,         17,       8017,2,20110302,       0851,  22.749667,-158.0005000,       4747,     7.0,  24.3065,  35.1956,2,  35.1951,2,    208.7,2,   208.7,2, -999.00,9, -999.00,9,  -999.0,       7,    24.3050, -999.00,9,     -999.0
33KB20110227,       PRS2,       2,         16,         16,       8016,2,20110302,       0851,  22.749667,-158.0005000,       4747,    81.7,  23.4083,  35.2742,2,  35.2749,2,    209.5,2,   206.8,2, -999.00,9, -999.00,9,  -999.0,      82,    23.3914, -999.00,9,     -999.0
33KB20110227,       PRS2,       2,         16,         15,       8015,2,20110302,       0851,  22.749667,-158.0005000,       4747,   480.8,   7.0966,  34.0319,2,  34.0327,2,    121.4,2,   119.8,2, -999.00,9, -999.00,9,  -999.0,     481,     7.0510, -999.00,9,     -999.0
33KB20110227,       PRS2,       2,         16,         14,       8014,2,20110302,       0851,  22.749667,-158.0005000,       4747,   780.5,   4.6165,  34.3038,2,  34.2993,2,     25.8,2,    25.1,2, -999.00,9, -999.00,9,  -999.0,     780,     4.5553, -999.00,9,     -999.0
33KB20110227,       PRS2,       2,         16,         13,       8025,2,20110302,       0851,  22.749667,-158.0005000,       4747,   999.6,   3.9355,  34.4746,2,  34.4750,2,     44.4,2,  -999.0,5, -999.00,9, -999.00,9,  -999.0,    1000,     3.8604, -999.00,9,     -999.0
33KB20110227,       PRS2,       2,         16,         12,       8012,2,20110302,       0851,  22.749667,-158.0005000,       4747,  2000.5,   2.1059,  34.6233,2,-999.0000,5,     89.1,2,  -999.0,5, -999.00,9, -999.00,9,  -999.0,    2000,     1.9678, -999.00,9,     -999.0
33KB20110227,       PRS2,       2,         16,         11,       8011,2,20110302,       0851,  22.749667,-158.0005000,       4747,  2000.4,   2.1056,  34.6231,2,  34.6231,2,     89.1,2,    89.6,2, -999.00,9, -999.00,9,  -999.0,    2000,     1.9676, -999.00,9,     -999.0
33KB20110227,       PRS2,       2,         16,         10,       8010,2,20110302,       0851,  22.749667,-158.0005000,       4747,  2500.3,   1.7472,  34.6518,2,  34.6521,2,    106.9,2,  -999.0,5, -999.00,9, -999.00,9,  -999.0,    2501,     1.5716, -999.00,9,     -999.0
33KB20110227,       PRS2,       2,         16,          9,       8009,2,20110302,       0851,  22.749667,-158.0005000,       4747,  3000.0,   1.5538,  34.6692,2,-999.0000,5,    121.9,2,  -999.0,5, -999.00,9, -999.00,9,  -999.0,    3001,     1.3358, -999.00,9,     -999.0
33KB20110227,       PRS2,       2,         16,          8,       8008,2,20110302,       0851,  22.749667,-158.0005000,       4747,  3000.1,   1.5537,  34.6693,2,  34.6694,2,    122.0,2,   122.4,2, -999.00,9, -999.00,9,  -999.0,    3000,     1.3358, -999.00,9,     -999.0
33KB20110227,       PRS2,       2,         16,          7,       8026,2,20110302,       0851,  22.749667,-158.0005000,       4747,  3500.7,   1.4757,  34.6810,2,  34.6804,2,    136.2,2,  -999.0,5, -999.00,9, -999.00,9,  -999.0,    3502,     1.2101, -999.00,9,     -999.0
33KB20110227,       PRS2,       2,         16,          6,       8006,2,20110302,       0851,  22.749667,-158.0005000,       4747,  3999.8,   1.4549,  34.6871,2,-999.0000,5,    146.6,2,  -999.0,5, -999.00,9, -999.00,9,  -999.0,    3998,     1.1373, -999.00,9,     -999.0
33KB20110227,       PRS2,       2,         16,          5,       8005,2,20110302,       0851,  22.749667,-158.0005000,       4747,  3999.6,   1.4548,  34.6872,2,  34.6883,2,    146.6,2,   147.1,2, -999.00,9, -999.00,9,  -999.0,    4000,     1.1372, -999.00,9,     -999.0
33KB20110227,       PRS2,       2,         16,          4,       8004,2,20110302,       0851,  22.749667,-158.0005000,       4747,  4501.4,   1.4848,  34.6898,2,  34.6887,2,    151.3,2,  -999.0,5, -999.00,9, -999.00,9,  -999.0,    4503,     1.1101, -999.00,9,     -999.0
33KB20110227,       PRS2,       2,         16,          3,       8003,2,20110302,       0851,  22.749667,-158.0005000,       4747,  4749.6,   1.5025,  34.6904,2,  34.6916,2,    152.9,2,  -999.0,5, -999.00,9, -999.00,9,  -999.0,    4749,     1.0982, -999.00,9,     -999.0
33KB20110227,       PRS2,       2,         16,          2,       8002,2,20110302,       0851,  22.749667,-158.0005000,       4747,  4804.9,   1.5089,  34.6905,2,-999.0000,5,    153.1,2,  -999.0,5, -999.00,9, -999.00,9,  -999.0,    4806,     1.0979, -999.00,9,     -999.0
33KB20110227,       PRS2,       2,         16,          1,       8001,2,20110302,       0851,  22.749667,-158.0005000,       4747,  4805.0,   1.5091,  34.6905,2,  34.6906,2,    153.1,2,   152.5,2, -999.00,9, -999.00,9,  -999.0,    4805,     1.0980, -999.00,9,     -999.0
33KB20110227,       PRS2,       2,         17,         24,       8024,2,20110302,       2147,  22.750833,-157.9223333,       4722,     6.3,  24.3357,  35.2010,2,-999.0000,9,    208.2,1,  -999.0,9, -999.00,9, -999.00,9,  -999.0,       6,    24.3344, -999.00,9,     -999.0
33KB20110227,       PRS2,       2,         17,         23,       8023,2,20110302,       2147,  22.750833,-157.9223333,       4722,     6.4,  24.3335,  35.2008,2,-999.0000,9,    207.8,1,  -999.0,9, -999.00,9, -999.00,9,  -999.0,       6,    24.3321, -999.00,9,     -999.0
33KB20110227,       PRS2,       2,         17,         22,       8022,2,20110302,       2147,  22.750833,-157.9223333,       4722,     6.2,  24.3335,  35.2009,2,-999.0000,9,    207.8,1,  -999.0,9, -999.00,9, -999.00,9,  -999.0,       7,    24.3322, -999.00,9,     -999.0
33KB20110227,       PRS2,       2,         17,         21,       8021,2,20110302,       2147,  22.750833,-157.9223333,       4722,     6.4,  24.3357,  35.2008,2,-999.0000,9,    207.7,1,  -999.0,9, -999.00,9, -999.00,9,  -999.0,       6,    24.3343, -999.00,9,     -999.0
33KB20110227,       PRS2,       2,         17,         20,       8020,2,20110302,       2147,  22.750833,-157.9223333,       4722,     6.1,  24.3405,  35.2012,2,-999.0000,9,    207.7,1,  -999.0,9, -999.00,9, -999.00,9,  -999.0,       7,    24.3392, -999.00,9,     -999.0
33KB20110227,       PRS2,       2,         17,         19,       8019,2,20110302,       2147,  22.750833,-157.9223333,       4722,     6.4,  24.3419,  35.2013,2,-999.0000,9,    207.8,1,  -999.0,9, -999.00,9, -999.00,9,  -999.0,       6,    24.3405, -999.00,9,     -999.0
33KB20110227,       PRS2,       2,         17,         18,       8018,2,20110302,       2147,  22.750833,-157.9223333,       4722,     6.2,  24.3420,  35.2013,2,-999.0000,9,    208.0,1,  -999.0,9, -999.00,9, -999.00,9,  -999.0,       6,    24.3407, -999.00,9,     -999.0
33KB20110227,       PRS2,       2,         17,         17,       8017,2,20110302,       2147,  22.750833,-157.9223333,       4722,     6.2,  24.3424,  35.2015,2,-999.0000,9,    208.2,1,  -999.0,9, -999.00,9, -999.00,9,  -999.0,       6,    24.3410, -999.00,9,     -999.0
33KB20110227,       PRS2,       2,         17,         16,       8016,2,20110302,       2147,  22.750833,-157.9223333,       4722,     6.3,  24.3412,  35.2012,2,-999.0000,9,    208.2,1,  -999.0,9, -999.00,9, -999.00,9,  -999.0,       7,    24.3399, -999.00,9,     -999.0
33KB20110227,       PRS2,       2,         17,         15,       8015,2,20110302,       2147,  22.750833,-157.9223333,       4722,     6.4,  24.3382,  35.2010,2,-999.0000,9,    208.1,1,  -999.0,9, -999.00,9, -999.00,9,  -999.0,       7,    24.3368, -999.00,9,     -999.0
33KB20110227,       PRS2,       2,         17,         14,       8014,2,20110302,       2147,  22.750833,-157.9223333,       4722,     6.4,  24.3367,  35.2010,2,-999.0000,9,    208.0,1,  -999.0,9, -999.00,9, -999.00,9,  -999.0,       6,    24.3354, -999.00,9,     -999.0
33KB20110227,       PRS2,       2,         17,         13,       8025,2,20110302,       2147,  22.750833,-157.9223333,       4722,     6.4,  24.3367,  35.2009,2,-999.0000,9,    208.0,1,  -999.0,9, -999.00,9, -999.00,9,  -999.0,       6,    24.3353, -999.00,9,     -999.0
33KB20110227,       PRS2,       2,         17,         12,       8012,2,20110302,       2147,  22.750833,-157.9223333,       4722,     6.4,  24.3373,  35.2012,2,-999.0000,9,    208.0,1,  -999.0,9, -999.00,9, -999.00,9,  -999.0,       6,    24.3359, -999.00,9,     -999.0
33KB20110227,       PRS2,       2,         17,         11,       8011,2,20110302,       2147,  22.750833,-157.9223333,       4722,     6.4,  24.3379,  35.2010,2,-999.0000,9,    208.1,1,  -999.0,9, -999.00,9, -999.00,9,  -999.0,       6,    24.3365, -999.00,9,     -999.0
33KB20110227,       PRS2,       2,         17,         10,       8010,2,20110302,       2147,  22.750833,-157.9223333,       4722,     6.4,  24.3381,  35.2009,2,-999.0000,9,    208.3,1,  -999.0,9, -999.00,9, -999.00,9,  -999.0,       7,    24.3368, -999.00,9,     -999.0
33KB20110227,       PRS2,       2,         17,          9,       8009,2,20110302,       2147,  22.750833,-157.9223333,       4722,     6.3,  24.3382,  35.2009,2,-999.0000,9,    208.4,1,  -999.0,9, -999.00,9, -999.00,9,  -999.0,       6,    24.3369, -999.00,9,     -999.0
33KB20110227,       PRS2,       2,         17,          8,       8008,2,20110302,       2147,  22.750833,-157.9223333,       4722,     6.3,  24.3382,  35.2009,2,-999.0000,9,    208.4,1,  -999.0,9, -999.00,9, -999.00,9,  -999.0,       6,    24.3368, -999.00,9,     -999.0
33KB20110227,       PRS2,       2,         17,          7,       8026,2,20110302,       2147,  22.750833,-157.9223333,       4722,     6.3,  24.3378,  35.2009,2,-999.0000,9,    208.3,1,  -999.0,9, -999.00,9, -999.00,9,  -999.0,       7,    24.3364, -999.00,9,     -999.0
33KB20110227,       PRS2,       2,         17,          6,       8006,2,20110302,       2147,  22.750833,-157.9223333,       4722,     6.3,  24.3376,  35.2010,2,-999.0000,9,    208.2,1,  -999.0,9, -999.00,9, -999.00,9,  -999.0,       6,    24.3363, -999.00,9,     -999.0
33KB20110227,       PRS2,       2,         17,          5,       8005,2,20110302,       2147,  22.750833,-157.9223333,       4722,     6.4,  24.3366,  35.2008,2,-999.0000,9,    208.2,1,  -999.0,9, -999.00,9, -999.00,9,  -999.0,       6,    24.3353, -999.00,9,     -999.0
33KB20110227,       PRS2,       2,         17,          4,       8004,2,20110302,       2147,  22.750833,-157.9223333,       4722,     6.4,  24.3366,  35.2009,2,-999.0000,9,    208.2,1,  -999.0,9, -999.00,9, -999.00,9,  -999.0,       6,    24.3352, -999.00,9,     -999.0
33KB20110227,       PRS2,       2,         17,          3,       8003,2,20110302,       2147,  22.750833,-157.9223333,       4722,     6.5,  24.3366,  35.2008,2,-999.0000,9,    208.3,1,  -999.0,9, -999.00,9, -999.00,9,  -999.0,       7,    24.3352, -999.00,9,     -999.0
33KB20110227,       PRS2,       2,         17,          2,       8002,2,20110302,       2147,  22.750833,-157.9223333,       4722,     6.3,  24.3370,  35.2006,2,-999.0000,9,    208.2,1,  -999.0,9, -999.00,9, -999.00,9,  -999.0,       7,    24.3357, -999.00,9,     -999.0
33KB20110227,       PRS2,       2,         17,          1,       8001,2,20110302,       2147,  22.750833,-157.9223333,       4722,     6.4,  24.3374,  35.2007,2,-999.0000,9,    208.0,1,  -999.0,9, -999.00,9, -999.00,9,  -999.0,       6,    24.3360, -999.00,9,     -999.0
33KB20110227,       PRS2,       2,         18,          8,       8008,2,20110302,       2327,  22.750167,-157.9226667,       4719,     5.7,  24.3470,  35.2016,2,-999.0000,9,    208.2,1,  -999.0,9, -999.00,9, -999.00,9,  -999.0,       6,    24.3458, -999.00,9,     -999.0
33KB20110227,       PRS2,       2,         18,          7,       8026,2,20110302,       2327,  22.750167,-157.9226667,       4719,    25.5,  24.3262,  35.1991,2,-999.0000,9,    207.9,1,  -999.0,9, -999.00,9, -999.00,9,  -999.0,      25,    24.3208, -999.00,9,     -999.0
33KB20110227,       PRS2,       2,         18,          6,       8006,2,20110302,       2327,  22.750167,-157.9226667,       4719,    45.3,  24.3073,  35.1969,2,-999.0000,9,    208.5,1,  -999.0,9, -999.00,9, -999.00,9,  -999.0,      45,    24.2976, -999.00,9,     -999.0
33KB20110227,       PRS2,       2,         18,          5,       8005,2,20110302,       2327,  22.750167,-157.9226667,       4719,    75.0,  23.6058,  35.2520,2,-999.0000,9,    206.0,1,  -999.0,9, -999.00,9, -999.00,9,  -999.0,      73,    23.5902, -999.00,9,     -999.0
33KB20110227,       PRS2,       2,         18,          4,       8004,2,20110302,       2327,  22.750167,-157.9226667,       4719,   101.1,  21.8215,  35.2014,2,-999.0000,9,    198.7,1,  -999.0,9, -999.00,9, -999.00,9,  -999.0,     100,    21.8016, -999.00,9,     -999.0
33KB20110227,       PRS2,       2,         18,          3,       8003,2,20110302,       2327,  22.750167,-157.9226667,       4719,   125.4,  20.9329,  35.2250,2,-999.0000,9,    196.5,1,  -999.0,9, -999.00,9, -999.00,9,  -999.0,     127,    20.9089, -999.00,9,     -999.0
33KB20110227,       PRS2,       2,         18,          2,       8002,2,20110302,       2327,  22.750167,-157.9226667,       4719,   150.5,  20.2123,  35.1694,2,-999.0000,9,    195.8,1,  -999.0,9, -999.00,9, -999.00,9,  -999.0,     152,    20.1842, -999.00,9,     -999.0
33KB20110227,       PRS2,       2,         18,          1,       8001,2,20110302,       2327,  22.750167,-157.9226667,       4719,   175.7,  19.3780,  35.0882,2,-999.0000,9,    196.2,1,  -999.0,9, -999.00,9, -999.00,9,  -999.0,     175,    19.3462, -999.00,9,     -999.0
33KB20110227,       PRS2,       6,          1,         13,       8025,2,20110303,       0603,  21.846667,-158.3633333,       2455,     7.7,  24.3483,  35.3001,2,  35.2972,2,    207.6,1,  -999.0,9, -999.00,9, -999.00,9,  -999.0,       7,    24.3467, -999.00,9,     -999.0
33KB20110227,       PRS2,       6,          1,         12,       8012,2,20110303,       0603,  21.846667,-158.3633333,       2455,    25.6,  24.3366,  35.2980,2,  35.2966,2,    207.4,1,  -999.0,9, -999.00,9, -999.00,9,  -999.0,      25,    24.3312, -999.00,9,     -999.0
33KB20110227,       PRS2,       6,          1,         11,       8011,2,20110303,       0603,  21.846667,-158.3633333,       2455,    45.5,  23.7704,  35.2892,2,  35.2873,2,    208.6,1,  -999.0,9, -999.00,9, -999.00,9,  -999.0,      46,    23.7609, -999.00,9,     -999.0
33KB20110227,       PRS2,       6,          1,         10,       8010,2,20110303,       0603,  21.846667,-158.3633333,       2455,    75.1,  23.5177,  35.3026,2,  35.2993,2,    207.1,1,  -999.0,9, -999.00,9, -999.00,9,  -999.0,      76,    23.5021, -999.00,9,     -999.0
33KB20110227,       PRS2,       6,          1,          9,       8009,2,20110303,       0603,  21.846667,-158.3633333,       2455,   100.8,  22.4959,  35.2686,2,  35.2676,2,    204.4,1,  -999.0,9, -999.00,9, -999.00,9,  -999.0,     101,    22.4757, -999.00,9,     -999.0
33KB20110227,       PRS2,       6,          1,          8,       8008,2,20110303,       0603,  21.846667,-158.3633333,       2455,   125.8,  21.2046,  35.2203,2,  35.2213,2,    196.2,1,  -999.0,9, -999.00,9, -999.00,9,  -999.0,     124,    21.1804, -999.00,9,     -999.0
33KB20110227,       PRS2,       6,          1,          7,       8026,2,20110303,       0603,  21.846667,-158.3633333,       2455,   150.0,  20.6280,  35.1860,2,  35.1861,2,    196.7,1,  -999.0,9, -999.00,9, -999.00,9,  -999.0,     148,    20.5997, -999.00,9,     -999.0
33KB20110227,       PRS2,       6,          1,          6,       8006,2,20110303,       0603,  21.846667,-158.3633333,       2455,   174.9,  19.3583,  35.0732,2,  35.0726,2,    195.2,1,  -999.0,9, -999.00,9, -999.00,9,  -999.0,     175,    19.3267, -999.00,9,     -999.0
33KB20110227,       PRS2,       6,          1,          5,       8005,2,20110303,       0603,  21.846667,-158.3633333,       2455,   501.1,   7.4909,  34.1380,2,  34.1376,2,     97.4,1,  -999.0,9, -999.00,9, -999.00,9,  -999.0,     501,     7.4417, -999.00,9,     -999.0
33KB20110227,       PRS2,       6,          1,          4,       8004,2,20110303,       0603,  21.846667,-158.3633333,       2455,  1000.1,   4.0866,  34.4815,2,  34.4809,2,     47.2,1,  -999.0,9, -999.00,9, -999.00,9,  -999.0,    1001,     4.0103, -999.00,9,     -999.0
33KB20110227,       PRS2,       6,          1,          3,       8003,2,20110303,       0603,  21.846667,-158.3633333,       2455,  1499.6,   2.9093,  34.5701,2,  34.5700,2,     67.5,1,  -999.0,9, -999.00,9, -999.00,9,  -999.0,    1501,     2.8025, -999.00,9,     -999.0
33KB20110227,       PRS2,       6,          1,          2,       8002,2,20110303,       0603,  21.846667,-158.3633333,       2455,  1999.9,   2.0943,  34.6205,2,  34.6199,2,     91.1,1,  -999.0,9, -999.00,9, -999.00,9,  -999.0,    2000,     1.9565, -999.00,9,     -999.0
33KB20110227,       PRS2,       6,          1,          1,       8001,2,20110303,       0603,  21.846667,-158.3633333,       2455,  2464.1,   1.7667,  34.6485,2,  34.6486,2,    107.4,1,  -999.0,9, -999.00,9, -999.00,9,  -999.0,    2464,     1.5940, -999.00,9,     -999.0
33KB20110227,       PRS2,      50,          1,          5,       8005,2,20110302,       1805,  22.751833,-157.9206667,       4720,     6.7,  24.3209,  35.2007,2,-999.0000,9,    207.6,1,  -999.0,9, -999.00,9, -999.00,9,  -999.0,       7,    24.3195, -999.00,9,     -999.0
33KB20110227,       PRS2,      50,          1,          4,       8004,2,20110302,       1805,  22.751833,-157.9206667,       4720,    47.1,  24.3102,  35.1999,2,-999.0000,9,    208.7,1,  -999.0,9, -999.00,9, -999.00,9,  -999.0,      47,    24.3002, -999.00,9,     -999.0
33KB20110227,       PRS2,      50,          1,          3,       8003,2,20110302,       1805,  22.751833,-157.9206667,       4720,    90.8,  22.4674,  35.2363,2,-999.0000,9,    201.3,1,  -999.0,9, -999.00,9, -999.00,9,  -999.0,      91,    22.4492, -999.00,9,     -999.0
33KB20110227,       PRS2,      50,          1,          2,       8002,2,20110302,       1805,  22.751833,-157.9206667,       4720,    90.5,  22.4117,  35.2324,2,-999.0000,9,    202.0,1,  -999.0,9, -999.00,9, -999.00,9,  -999.0,      90,    22.3936, -999.00,9,     -999.0
33KB20110227,       PRS2,      50,          1,          1,       8001,2,20110302,       1805,  22.751833,-157.9206667,       4720,    99.5,  22.2485,  35.2293,2,-999.0000,9,    200.9,1,  -999.0,9, -999.00,9, -999.00,9,  -999.0,      99,    22.2287, -999.00,9,     -999.0