BOTTLE,20141031SIOCCHAMB
EXPOCODE,SECT_ID,STNNBR,CASTNO,SAMPNO,BTLNBR,BTLNBR_FLAG_W,DATE,TIME,LATITUDE,LONGITUDE,DEPTH,CTDPRS,CTDTMP,CTDSAL,CTDSAL_FLAG_W,SALNTY,SALNTY_FLAG_W,CTDOXY,CTDOXY_FLAG_W,OXYGEN,OXYGEN_FLAG_W,SILCAT,SILCAT_FLAG_W,PHSPHT,PHSPHT_FLAG_W,REVPRS,CTDRAW,THETA,NO2+NO3,NO2+NO3_FLAG_W,REVTMP
,,,,,,,,,,,METERS,DBAR,ITS-90,PSS-78,,PSS-78,,UMOL/KG,,UMOL/KG,,UMOL/KG,,UMOL/KG,,DBAR,DBAR,ITS-90,UMOL/KG,,DEG C
33KB20110227,       PRS2,       2,          3,         24,       8024,2,20110228,       1437,  22.750167,-158.0000000,       4748,     6.8,  24.4339,  35.2531,2,  35.2544,2,    208.5,2,   208.2,2,    0.90,2,    0.04,2,  -999.0,       6,    24.4325,    0.02,2,     -999.0
33KB20110227,       PRS2,       2,          3,         23,       8023,2,20110228,       1437,  22.750167,-158.0000000,       4748,   509.7,   7.3970,  34.0342,2,  34.0341,2,    128.8,2,   129.5,2,   42.87,2,    1.94,2,  -999.0,     507,     7.3474,   27.74,2,     -999.0
33KB20110227,       PRS2,       2,          3,         22,       8022,2,20110228,       1437,  22.750167,-158.0000000,       4748,   749.2,   4.8238,  34.2611,2,  34.2583,2,     27.8,2,    27.4,2,   91.96,2,    2.97,2,  -999.0,     749,     4.7641,   40.86,2,     -999.0
33KB20110227,       PRS2,       2,          3,         21,       8021,2,20110228,       1437,  22.750167,-158.0000000,       4748,   999.6,   3.9639,  34.4707,2,  34.4705,2,     44.0,2,    44.0,2,  110.62,2,    2.97,2,  -999.0,    1000,     3.8886,   41.22,2,     -999.0
33KB20110227,       PRS2,       2,          3,         20,       8020,2,20110228,       1437,  22.750167,-158.0000000,       4748,  1199.8,   3.3673,  34.5308,2,  34.5294,2,     54.4,2,    55.0,2,  122.82,2,    2.94,2,  -999.0,    1200,     3.2805,   41.22,2,     -999.0
33KB20110227,       PRS2,       2,          3,         19,       8019,2,20110228,       1437,  22.750167,-158.0000000,       4748,  1399.6,   2.8809,  34.5642,2,  34.5637,2,     64.1,2,    64.8,2,  133.41,2,    2.91,2,  -999.0,    1400,     2.7827,   40.82,2,     -999.0
33KB20110227,       PRS2,       2,          3,         18,       8018,2,20110228,       1437,  22.750167,-158.0000000,       4748,  1601.6,   2.5780,  34.5879,2,  34.5875,2,     73.3,2,    74.5,2,  139.65,2,    2.87,2,  -999.0,    1601,     2.4668,   40.45,2,     -999.0
33KB20110227,       PRS2,       2,          3,         17,       8017,2,20110228,       1437,  22.750167,-158.0000000,       4748,  1801.6,   2.3166,  34.6058,2,  34.6048,2,     81.8,2,    82.0,2,  145.39,2,    2.83,2,  -999.0,    1801,     2.1923,   40.01,2,     -999.0
33KB20110227,       PRS2,       2,          3,         16,       8016,2,20110228,       1437,  22.750167,-158.0000000,       4748,  1998.9,   2.1151,  34.6221,2,  34.6217,2,     88.9,2,    89.5,2,  149.91,2,    2.78,2,  -999.0,    1999,     1.9770,   39.56,2,     -999.0
33KB20110227,       PRS2,       2,          3,         15,       8015,2,20110228,       1437,  22.750167,-158.0000000,       4748,  2198.0,   1.9378,  34.6342,2,  34.6331,2,     96.4,2,    96.1,2,  155.12,2,    2.75,2,  -999.0,    2198,     1.7855,   39.15,2,     -999.0
33KB20110227,       PRS2,       2,          3,         14,       8014,2,20110228,       1437,  22.750167,-158.0000000,       4748,  2399.2,   1.7994,  34.6449,2,  34.6439,2,    102.0,2,   102.7,2,  156.99,2,    2.71,2,  -999.0,    2401,     1.6319,   38.77,2,     -999.0
33KB20110227,       PRS2,       2,          3,         13,       8025,2,20110228,       1437,  22.750167,-158.0000000,       4748,  2600.0,   1.6812,  34.6544,2,  34.6547,2,    108.8,2,   109.0,2,  159.25,2,    2.69,2,  -999.0,    2602,     1.4979,   38.39,2,     -999.0
33KB20110227,       PRS2,       2,          3,         12,       8012,2,20110228,       1437,  22.750167,-158.0000000,       4748,  2799.8,   1.6039,  34.6631,2,  34.6639,2,    116.6,2,   117.3,2,  159.98,2,    2.65,2,  -999.0,    2799,     1.4038,   38.28,2,     -999.0
33KB20110227,       PRS2,       2,          3,         11,       8011,2,20110228,       1437,  22.750167,-158.0000000,       4748,  2999.4,   1.5467,  34.6697,2,  34.6693,2,    122.8,2,   123.2,2,  159.18,2,    2.59,2,  -999.0,    3000,     1.3290,   37.35,2,     -999.0
33KB20110227,       PRS2,       2,          3,         10,       8010,2,20110228,       1437,  22.750167,-158.0000000,       4748,  3198.9,   1.5005,  34.6762,2,  34.6753,2,    130.0,2,   130.6,2,  158.42,2,    2.57,2,  -999.0,    3200,     1.2645,   36.99,2,     -999.0
33KB20110227,       PRS2,       2,          3,          9,       8009,2,20110228,       1437,  22.750167,-158.0000000,       4748,  3397.9,   1.4778,  34.6798,2,  34.6789,2,    135.2,2,   134.9,2,  156.49,2,    2.55,2,  -999.0,    3398,     1.2225,   36.67,2,     -999.0
33KB20110227,       PRS2,       2,          3,          8,       8008,2,20110228,       1437,  22.750167,-158.0000000,       4748,  3600.8,   1.4616,  34.6828,2,  34.6815,2,    139.9,2,   140.0,2,  154.77,2,    2.53,2,  -999.0,    3599,     1.1861,   36.48,2,     -999.0
33KB20110227,       PRS2,       2,          3,          7,       8026,2,20110228,       1437,  22.750167,-158.0000000,       4748,  3797.5,   1.4543,  34.6851,2,  34.6842,2,    143.7,2,   143.5,2,  152.93,2,    2.51,2,  -999.0,    3798,     1.1584,   36.02,2,     -999.0
33KB20110227,       PRS2,       2,          3,          6,       8006,2,20110228,       1437,  22.750167,-158.0000000,       4748,  3998.9,   1.4542,  34.6868,2,  34.6857,2,    146.9,2,   146.9,2,  150.85,2,    2.51,2,  -999.0,    3999,     1.1367,   35.89,2,     -999.0
33KB20110227,       PRS2,       2,          3,          5,       8005,2,20110228,       1437,  22.750167,-158.0000000,       4748,  4196.5,   1.4628,  34.6881,2,  34.6875,2,    149.3,2,   148.4,2,  150.04,2,    2.49,2,  -999.0,    4196,     1.1234,   35.74,2,     -999.0
33KB20110227,       PRS2,       2,          3,          4,       8004,2,20110228,       1437,  22.750167,-158.0000000,       4748,  4395.8,   1.4763,  34.6887,2,  34.6879,2,    150.6,2,   151.5,2,  148.97,2,    2.49,2,  -999.0,    4396,     1.1140,   35.68,2,     -999.0
33KB20110227,       PRS2,       2,          3,          3,       8003,2,20110228,       1437,  22.750167,-158.0000000,       4748,  4498.9,   1.4843,  34.6893,2,  34.6895,2,    151.5,2,   151.2,2,  148.78,2,    2.49,2,  -999.0,    4500,     1.1099,   35.61,2,     -999.0
33KB20110227,       PRS2,       2,          3,          2,       8002,2,20110228,       1437,  22.750167,-158.0000000,       4748,  4598.0,   1.4913,  34.6895,2,  34.6895,2,    152.1,2,   151.9,2,  148.38,2,    2.49,2,  -999.0,    4597,     1.1052,   35.58,2,     -999.0
33KB20110227,       PRS2,       2,          3,          1,       8001,2,20110228,       1437,  22.750167,-158.0000000,       4748,  4807.4,   1.5089,  34.6904,2,  34.6901,2,    153.4,2,   152.7,2,  147.37,2,    2.46,2,  -999.0,    4807,     1.0976,   35.59,2,     -999.0
33KB20110227,       PRS2,       2,          4,         24,       8024,2,20110228,       2059,  22.750000,-158.0008333,       4748,    38.1,  23.8183,  35.3279,2,  35.3289,2,    209.8,2,   210.8,2,    1.03,2,    0.05,2,  -999.0,      38,    23.8103,    0.01,2,     -999.0
33KB20110227,       PRS2,       2,          4,         23,       8023,2,20110228,       2059,  22.750000,-158.0008333,       4748,   101.5,  22.2105,  35.3957,2,  35.4014,2,    207.2,2,   206.7,2,    1.35,2,    0.06,2,  -999.0,     103,    22.1902,    0.21,2,     -999.0
33KB20110227,       PRS2,       2,          4,         22,       8022,2,20110228,       2059,  22.750000,-158.0008333,       4748,   159.2,  19.3918,  35.0738,2,  35.0864,2,    196.2,2,   197.3,2,    2.19,2,    0.23,2,  -999.0,     159,    19.3630,    1.85,2,     -999.0
33KB20110227,       PRS2,       2,          4,         21,       8021,2,20110228,       2059,  22.750000,-158.0008333,       4748,   190.4,  18.0814,  34.8753,2,  34.8875,2,    197.8,2,   197.3,2,    3.06,2,    0.25,2,  -999.0,     189,    18.0486,    2.96,2,     -999.0
33KB20110227,       PRS2,       2,          4,         20,       8020,2,20110228,       2059,  22.750000,-158.0008333,       4748,   214.9,  17.0155,  34.7560,2,  34.7512,2,    204.7,2,   204.2,2,    3.77,2,    0.27,2,  -999.0,     214,    16.9800,    3.38,2,     -999.0
33KB20110227,       PRS2,       2,          4,         19,       8019,2,20110228,       2059,  22.750000,-158.0008333,       4748,   232.0,  16.0202,  34.6052,2,  34.6174,2,    204.0,2,   202.3,2,    4.38,2,    0.34,2,  -999.0,     233,    15.9836,    4.36,2,     -999.0
33KB20110227,       PRS2,       2,          4,         18,       8018,2,20110228,       2059,  22.750000,-158.0008333,       4748,   275.0,  13.5251,  34.3399,2,  34.3388,2,    204.3,2,   202.6,2,    8.03,2,    0.64,2,  -999.0,     276,    13.4864,    8.77,2,     -999.0
33KB20110227,       PRS2,       2,          4,         17,       8017,2,20110228,       2059,  22.750000,-158.0008333,       4748,   315.0,  12.1791,  34.2671,2,  34.2699,2,    203.6,2,   203.1,2,   11.04,2,    0.81,2,  -999.0,     314,    12.1377,   11.44,2,     -999.0
33KB20110227,       PRS2,       2,          4,         16,       8016,2,20110228,       2059,  22.750000,-158.0008333,       4748,   352.3,  11.0038,  34.2045,2,  34.2019,2,    200.3,2,   202.4,2,   15.09,2,    0.98,2,  -999.0,     353,    10.9605,   14.17,2,     -999.0
33KB20110227,       PRS2,       2,          4,         15,       8015,2,20110228,       2059,  22.750000,-158.0008333,       4748,   369.5,  10.3957,  34.1628,2,  34.1572,2,    193.7,2,   195.3,2,   18.14,2,    1.12,2,  -999.0,     370,    10.3518,   16.10,2,     -999.0
33KB20110227,       PRS2,       2,          4,         14,       8014,2,20110228,       2059,  22.750000,-158.0008333,       4748,   390.0,   9.9171,  34.1308,2,  34.1350,2,    195.5,2,   193.8,2,   19.59,2,    1.18,2,  -999.0,     390,     9.8721,   16.96,2,     -999.0
33KB20110227,       PRS2,       2,          4,         13,       8025,2,20110228,       2059,  22.750000,-158.0008333,       4748,   431.9,   8.7213,  34.0754,2,  34.0752,2,    169.9,2,   169.3,2,   28.99,2,    1.52,2,  -999.0,     432,     8.6752,   21.89,2,     -999.0
33KB20110227,       PRS2,       2,          4,         12,       8012,2,20110228,       2059,  22.750000,-158.0008333,       4748,   486.0,   7.3303,  34.0417,2,  34.0415,2,    122.8,2,   123.5,2,   43.92,2,    2.04,2,  -999.0,     487,     7.2833,   28.91,2,     -999.0
33KB20110227,       PRS2,       2,          4,         11,       8011,2,20110228,       2059,  22.750000,-158.0008333,       4748,   528.0,   6.5095,  34.0519,2,  34.0511,2,     94.4,2,    93.9,2,   55.81,2,    2.34,2,  -999.0,     529,     6.4616,   33.01,2,     -999.0
33KB20110227,       PRS2,       2,          4,         10,       8010,2,20110228,       2059,  22.750000,-158.0008333,       4748,   577.8,   5.7769,  34.0690,2,  34.0680,2,     72.9,2,    72.2,2,   67.21,2,    2.58,2,  -999.0,     580,     5.7275,   36.43,2,     -999.0
33KB20110227,       PRS2,       2,          4,          9,       8009,2,20110228,       2059,  22.750000,-158.0008333,       4748,   632.3,   5.3529,  34.1334,2,  34.1352,2,     48.6,2,    45.9,2,   78.00,2,    2.82,2,  -999.0,     632,     5.3006,   39.15,2,     -999.0
33KB20110227,       PRS2,       2,          4,          8,       8008,2,20110228,       2059,  22.750000,-158.0008333,       4748,   693.7,   4.9214,  34.2337,2,  34.2309,2,     29.7,2,    28.8,2,   88.91,2,    3.00,2,  -999.0,     694,     4.8659,   41.50,2,     -999.0
33KB20110227,       PRS2,       2,          4,          7,       8026,2,20110228,       2059,  22.750000,-158.0008333,       4748,   732.7,   4.7461,  34.2759,2,  34.2750,2,     26.7,2,    25.8,2,   94.03,2,    3.04,2,  -999.0,     733,     4.6882,   42.01,2,     -999.0
33KB20110227,       PRS2,       2,          4,          6,       8006,2,20110228,       2059,  22.750000,-158.0008333,       4748,   769.0,   4.6114,  34.3066,2,  34.3042,2,     25.7,2,    25.4,2,   96.88,2,    3.00,2,  -999.0,     769,     4.5511,   42.16,2,     -999.0
33KB20110227,       PRS2,       2,          4,          5,       8005,2,20110228,       2059,  22.750000,-158.0008333,       4748,   820.2,   4.5115,  34.3313,2,  34.3315,2,     25.7,2,    25.4,2,   99.55,2,    3.05,2,  -999.0,     820,     4.4475,   42.21,2,     -999.0
33KB20110227,       PRS2,       2,          4,          4,       8004,2,20110228,       2059,  22.750000,-158.0008333,       4748,   869.5,   4.3517,  34.3903,2,  34.3988,4,     30.5,3,    30.8,2,  102.98,2,    3.02,2,  -999.0,     869,     4.2845,   42.42,2,     -999.0
33KB20110227,       PRS2,       2,          4,          3,       8003,2,20110228,       2059,  22.750000,-158.0008333,       4748,   930.8,   4.1735,  34.4392,2,  34.4400,2,     38.6,2,    37.8,2,  106.41,2,    3.01,2,  -999.0,     931,     4.1024,   42.08,2,     -999.0
33KB20110227,       PRS2,       2,          4,          2,       8002,2,20110228,       2059,  22.750000,-158.0008333,       4748,   991.4,   3.9774,  34.4685,2,  34.4687,2,     44.0,2,    43.7,2,  110.09,2,    3.00,2,  -999.0,     991,     3.9026,   41.93,2,     -999.0
33KB20110227,       PRS2,       2,          4,          1,       8001,2,20110228,       2059,  22.750000,-158.0008333,       4748,  1019.3,   3.9261,  34.4758,2,  34.4771,2,     44.4,2,    45.1,2,  110.97,2,    3.00,2,  -999.0,    1020,     3.8494,   41.93,2,     -999.0
33KB20110227,       PRS2,       2,          5,         22,       8022,2,20110301,       0016,  22.764833,-157.9930000,       4737,     7.6,  24.3894,  35.1825,2,-999.0000,5,    208.0,1,  -999.0,9, -999.00,9, -999.00,9,  -999.0,       6,    24.3878, -999.00,9,     -999.0
33KB20110227,       PRS2,       2,          5,         21,       8021,2,20110301,       0016,  22.764833,-157.9930000,       4737,     7.1,  24.3877,  35.1822,2,  35.1817,2,    208.0,1,  -999.0,9, -999.00,9, -999.00,9,  -999.0,       8,    24.3862, -999.00,9,     -999.0
33KB20110227,       PRS2,       2,          5,         20,       8020,2,20110301,       0016,  22.764833,-157.9930000,       4737,    25.5,  24.2302,  35.2428,2,-999.0000,5,    208.7,1,  -999.0,9, -999.00,9, -999.00,9,  -999.0,      24,    24.2248, -999.00,9,     -999.0
33KB20110227,       PRS2,       2,          5,         19,       8019,2,20110301,       0016,  22.764833,-157.9930000,       4737,    25.1,  24.2442,  35.2430,2,  35.2481,2,    208.9,1,  -999.0,9, -999.00,9, -999.00,9,  -999.0,      26,    24.2388, -999.00,9,     -999.0
33KB20110227,       PRS2,       2,          5,         18,       8018,2,20110301,       0016,  22.764833,-157.9930000,       4737,    46.7,  23.9782,  35.2710,2,-999.0000,5,    207.9,1,  -999.0,9, -999.00,9, -999.00,9,  -999.0,      45,    23.9684, -999.00,9,     -999.0
33KB20110227,       PRS2,       2,          5,         17,       8017,2,20110301,       0016,  22.764833,-157.9930000,       4737,    46.5,  23.9784,  35.2690,2,  35.2787,2,    207.9,1,  -999.0,9, -999.00,9, -999.00,9,  -999.0,      47,    23.9686, -999.00,9,     -999.0
33KB20110227,       PRS2,       2,          5,         16,       8016,2,20110301,       0016,  22.764833,-157.9930000,       4737,    75.4,  23.3484,  35.4061,2,-999.0000,5,    210.1,1,  -999.0,9, -999.00,9, -999.00,9,  -999.0,      76,    23.3328, -999.00,9,     -999.0
33KB20110227,       PRS2,       2,          5,         15,       8015,2,20110301,       0016,  22.764833,-157.9930000,       4737,    75.3,  23.3476,  35.4061,2,  35.4085,2,    210.0,1,  -999.0,9, -999.00,9, -999.00,9,  -999.0,      75,    23.3321, -999.00,9,     -999.0
33KB20110227,       PRS2,       2,          5,         14,       8014,2,20110301,       0016,  22.764833,-157.9930000,       4737,    99.8,  22.1744,  35.2762,2,-999.0000,5,    200.2,1,  -999.0,9, -999.00,9, -999.00,9,  -999.0,     100,    22.1545, -999.00,9,     -999.0
33KB20110227,       PRS2,       2,          5,         13,       8025,2,20110301,       0016,  22.764833,-157.9930000,       4737,    99.8,  22.1300,  35.2776,2,  35.2921,4,    199.6,1,  -999.0,9, -999.00,9, -999.00,9,  -999.0,      99,    22.1101, -999.00,9,     -999.0
33KB20110227,       PRS2,       2,          5,         12,       8012,2,20110301,       0016,  22.764833,-157.9930000,       4737,   125.4,  21.1075,  35.2215,2,-999.0000,5,    196.3,1,  -999.0,9, -999.00,9, -999.00,9,  -999.0,     126,    21.0834, -999.00,9,     -999.0
33KB20110227,       PRS2,       2,          5,         11,       8011,2,20110301,       0016,  22.764833,-157.9930000,       4737,   125.3,  21.1009,  35.2211,2,  35.2227,2,    196.2,1,  -999.0,9, -999.00,9, -999.00,9,  -999.0,     124,    21.0768, -999.00,9,     -999.0
33KB20110227,       PRS2,       2,          5,         10,       8010,2,20110301,       0016,  22.764833,-157.9930000,       4737,   149.4,  20.2918,  35.1936,2,-999.0000,5,    197.2,1,  -999.0,9, -999.00,9, -999.00,9,  -999.0,     151,    20.2639, -999.00,9,     -999.0
33KB20110227,       PRS2,       2,          5,          9,       8009,2,20110301,       0016,  22.764833,-157.9930000,       4737,   150.1,  20.2882,  35.1930,2,  35.1967,2,    197.1,1,  -999.0,9, -999.00,9, -999.00,9,  -999.0,     147,    20.2602, -999.00,9,     -999.0
33KB20110227,       PRS2,       2,          5,          8,       8008,2,20110301,       0016,  22.764833,-157.9930000,       4737,   175.5,  19.2993,  35.0785,2,-999.0000,5,    197.0,1,  -999.0,9, -999.00,9, -999.00,9,  -999.0,     175,    19.2677, -999.00,9,     -999.0
33KB20110227,       PRS2,       2,          5,          7,       8026,2,20110301,       0016,  22.764833,-157.9930000,       4737,   175.6,  19.2975,  35.0778,2,  35.0787,2,    196.8,1,  -999.0,9, -999.00,9, -999.00,9,  -999.0,     175,    19.2658, -999.00,9,     -999.0
33KB20110227,       PRS2,       2,          5,          6,       8006,2,20110301,       0016,  22.764833,-157.9930000,       4737,   199.3,  17.8388,  34.8533,2,  34.8505,2,    189.9,1,  -999.0,9, -999.00,9, -999.00,9,  -999.0,     200,    17.8049, -999.00,9,     -999.0
33KB20110227,       PRS2,       2,          5,          5,       8005,2,20110301,       0016,  22.764833,-157.9930000,       4737,   250.6,  14.8374,  34.4434,2,  34.4544,2,    197.7,1,  -999.0,9, -999.00,9, -999.00,9,  -999.0,     251,    14.7999, -999.00,9,     -999.0
33KB20110227,       PRS2,       2,          5,          4,       8004,2,20110301,       0016,  22.764833,-157.9930000,       4737,   350.7,  11.2953,  34.2140,2,  34.2140,2,    202.2,1,  -999.0,9, -999.00,9, -999.00,9,  -999.0,     351,    11.2514, -999.00,9,     -999.0
33KB20110227,       PRS2,       2,          5,          3,       8003,2,20110301,       0016,  22.764833,-157.9930000,       4737,   350.8,  11.2829,  34.2135,2,  34.2128,2,    202.2,1,  -999.0,9, -999.00,9, -999.00,9,  -999.0,     351,    11.2391, -999.00,9,     -999.0
33KB20110227,       PRS2,       2,          5,          2,       8002,2,20110301,       0016,  22.764833,-157.9930000,       4737,   494.1,   7.4312,  34.0366,2,  34.0366,2,    133.3,1,  -999.0,9, -999.00,9, -999.00,9,  -999.0,     497,     7.3830, -999.00,9,     -999.0
33KB20110227,       PRS2,       2,          5,          1,       8001,2,20110301,       0016,  22.764833,-157.9930000,       4737,  1019.2,   3.8898,  34.4803,2,  34.4803,2,     45.2,1,  -999.0,9, -999.00,9, -999.00,9,  -999.0,    1018,     3.8134, -999.00,9,     -999.0