BOTTLE,20141031SIOCCHAMB
EXPOCODE,SECT_ID,STNNBR,CASTNO,SAMPNO,BTLNBR,BTLNBR_FLAG_W,DATE,TIME,LATITUDE,LONGITUDE,DEPTH,CTDPRS,CTDTMP,CTDSAL,CTDSAL_FLAG_W,SALNTY,SALNTY_FLAG_W,CTDOXY,CTDOXY_FLAG_W,OXYGEN,OXYGEN_FLAG_W,SILCAT,SILCAT_FLAG_W,PHSPHT,PHSPHT_FLAG_W,REVPRS,CTDRAW,THETA,NO2+NO3,NO2+NO3_FLAG_W,REVTMP
,,,,,,,,,,,METERS,DBAR,ITS-90,PSS-78,,PSS-78,,UMOL/KG,,UMOL/KG,,UMOL/KG,,UMOL/KG,,DBAR,DBAR,ITS-90,UMOL/KG,,DEG C
33KB20110227,       PRS2,       1,          1,         24,       8024,2,20110227,       2307,  21.343333,-158.2731667,       1565,     5.1,  24.7083,  35.2950,2,  35.2948,2,    207.2,2,   207.6,2, -999.00,9, -999.00,9,  -999.0,       5,    24.7072, -999.00,9,     -999.0
33KB20110227,       PRS2,       1,          1,         23,       8023,2,20110227,       2307,  21.343333,-158.2731667,       1565,     5.2,  24.7458,  35.2953,2,  35.2940,2,    207.3,2,   207.5,2, -999.00,9, -999.00,9,  -999.0,       5,    24.7446, -999.00,9,     -999.0
33KB20110227,       PRS2,       1,          1,         22,       8022,2,20110227,       2307,  21.343333,-158.2731667,       1565,    24.5,  24.5120,  35.2718,2,  35.2718,2,    208.0,2,   208.1,2, -999.00,9, -999.00,9,  -999.0,      24,    24.5067, -999.00,9,     -999.0
33KB20110227,       PRS2,       1,          1,         21,       8021,2,20110227,       2307,  21.343333,-158.2731667,       1565,    45.5,  24.3603,  35.2934,2,  35.2891,2,    208.4,2,   207.9,2, -999.00,9, -999.00,9,  -999.0,      46,    24.3506, -999.00,9,     -999.0
33KB20110227,       PRS2,       1,          1,         20,       8020,2,20110227,       2307,  21.343333,-158.2731667,       1565,    60.0,  24.1357,  35.3299,2,  35.3287,2,    208.5,2,   209.0,2, -999.00,9, -999.00,9,  -999.0,      61,    24.1230, -999.00,9,     -999.0
33KB20110227,       PRS2,       1,          1,         19,       8019,2,20110227,       2307,  21.343333,-158.2731667,       1565,    76.0,  24.0338,  35.3434,2,  35.3445,2,    208.9,2,   207.8,2, -999.00,9, -999.00,9,  -999.0,      76,    24.0178, -999.00,9,     -999.0
33KB20110227,       PRS2,       1,          1,         18,       8018,2,20110227,       2307,  21.343333,-158.2731667,       1565,   110.6,  23.4216,  35.3731,2,  35.3697,2,    205.6,2,   205.8,2, -999.00,9, -999.00,9,  -999.0,     110,    23.3987, -999.00,9,     -999.0
33KB20110227,       PRS2,       1,          1,         17,       8017,2,20110227,       2307,  21.343333,-158.2731667,       1565,   114.2,  23.3083,  35.3629,2,  35.3618,2,    205.4,2,   204.9,2, -999.00,9, -999.00,9,  -999.0,     114,    23.2847, -999.00,9,     -999.0
33KB20110227,       PRS2,       1,          1,         16,       8016,2,20110227,       2307,  21.343333,-158.2731667,       1565,   124.9,  22.8881,  35.3460,2,  35.3463,2,    203.0,2,   203.3,2, -999.00,9, -999.00,9,  -999.0,     125,    22.8627, -999.00,9,     -999.0
33KB20110227,       PRS2,       1,          1,         15,       8015,2,20110227,       2307,  21.343333,-158.2731667,       1565,   149.4,  20.9070,  35.2227,2,  35.2081,3,    197.1,3,   197.2,2, -999.00,9, -999.00,9,  -999.0,     149,    20.8784, -999.00,9,     -999.0
33KB20110227,       PRS2,       1,          1,         14,       8014,2,20110227,       2307,  21.343333,-158.2731667,       1565,   174.6,  19.8012,  35.1402,2,  35.1329,2,    197.0,2,   197.2,2, -999.00,9, -999.00,9,  -999.0,     174,    19.7691, -999.00,9,     -999.0
33KB20110227,       PRS2,       1,          1,         13,       8025,2,20110227,       2307,  21.343333,-158.2731667,       1565,   200.3,  18.1995,  34.9289,2,  34.7787,4,    197.4,3,   196.7,2, -999.00,9, -999.00,9,  -999.0,     201,    18.1648, -999.00,9,     -999.0
33KB20110227,       PRS2,       1,          1,         12,       8012,2,20110227,       2307,  21.343333,-158.2731667,       1565,   225.4,  17.2003,  34.7824,2,  34.7785,2,    197.4,2,   197.4,2, -999.00,9, -999.00,9,  -999.0,     225,    17.1628, -999.00,9,     -999.0
33KB20110227,       PRS2,       1,          1,         11,       8011,2,20110227,       2307,  21.343333,-158.2731667,       1565,   250.4,  16.0068,  34.6281,2,  34.6244,2,    196.5,2,   197.0,2, -999.00,9, -999.00,9,  -999.0,     251,    15.9672, -999.00,9,     -999.0
33KB20110227,       PRS2,       1,          1,         10,       8010,2,20110227,       2307,  21.343333,-158.2731667,       1565,   299.6,  12.3970,  34.2681,2,  34.2717,2,    186.2,2,   186.5,2, -999.00,9, -999.00,9,  -999.0,     301,    12.3572, -999.00,9,     -999.0
33KB20110227,       PRS2,       1,          1,          9,       8009,2,20110227,       2307,  21.343333,-158.2731667,       1565,   350.3,  10.7512,  34.1732,2,  34.1744,2,    169.4,2,   168.9,2, -999.00,9, -999.00,9,  -999.0,     351,    10.7088, -999.00,9,     -999.0
33KB20110227,       PRS2,       1,          1,          8,       8008,2,20110227,       2307,  21.343333,-158.2731667,       1565,   399.6,   9.2971,  34.1429,2,  34.1428,2,    143.1,2,   143.7,2, -999.00,9, -999.00,9,  -999.0,     400,     9.2528, -999.00,9,     -999.0
33KB20110227,       PRS2,       1,          1,          7,       8026,2,20110227,       2307,  21.343333,-158.2731667,       1565,   499.9,   7.1444,  34.1541,2,  34.1540,2,     82.4,2,    81.9,2, -999.00,9, -999.00,9,  -999.0,     501,     7.0967, -999.00,9,     -999.0
33KB20110227,       PRS2,       1,          1,          6,       8006,2,20110227,       2307,  21.343333,-158.2731667,       1565,   600.2,   5.7589,  34.2532,2,  34.2560,2,     45.8,2,    44.5,2, -999.00,9, -999.00,9,  -999.0,     600,     5.7074, -999.00,9,     -999.0
33KB20110227,       PRS2,       1,          1,          5,       8005,2,20110227,       2307,  21.343333,-158.2731667,       1565,   700.4,   5.1084,  34.3358,2,  34.3366,2,     36.3,2,    36.7,2, -999.00,9, -999.00,9,  -999.0,     701,     5.0511, -999.00,9,     -999.0
33KB20110227,       PRS2,       1,          1,          4,       8004,2,20110227,       2307,  21.343333,-158.2731667,       1565,   750.4,   4.8419,  34.3868,2,  34.4593,4,     36.4,3,    36.7,2, -999.00,9, -999.00,9,  -999.0,     749,     4.7818, -999.00,9,     -999.0
33KB20110227,       PRS2,       1,          1,          3,       8003,2,20110227,       2307,  21.343333,-158.2731667,       1565,   899.5,   4.4118,  34.4598,2,  34.4599,2,     41.3,2,    41.6,2, -999.00,9, -999.00,9,  -999.0,     901,     4.3416, -999.00,9,     -999.0
33KB20110227,       PRS2,       1,          1,          2,       8002,2,20110227,       2307,  21.343333,-158.2731667,       1565,   899.8,   4.4114,  34.4599,2,  34.4601,2,     41.4,2,    41.4,2, -999.00,9, -999.00,9,  -999.0,     900,     4.3412, -999.00,9,     -999.0
33KB20110227,       PRS2,       1,          1,          1,       8001,2,20110227,       2307,  21.343333,-158.2731667,       1565,  1019.6,   3.9934,  34.5022,2,  34.5034,2,     47.6,2,    48.0,2, -999.00,9, -999.00,9,  -999.0,    1019,     3.9162, -999.00,9,     -999.0
33KB20110227,       PRS2,       2,          1,         15,       8015,2,20110228,       1005,  22.716833,-158.0355000,       4760,    25.3,  23.9569,  35.3233,2,-999.0000,9,    209.2,1,  -999.0,9, -999.00,9, -999.00,9,  -999.0,      25,    23.9516, -999.00,9,     -999.0
33KB20110227,       PRS2,       2,          1,         14,       8014,2,20110228,       1005,  22.716833,-158.0355000,       4760,    25.7,  23.9567,  35.3231,2,-999.0000,9,    209.4,1,  -999.0,9, -999.00,9, -999.00,9,  -999.0,      26,    23.9513, -999.00,9,     -999.0
33KB20110227,       PRS2,       2,          1,         13,       8025,2,20110228,       1005,  22.716833,-158.0355000,       4760,    25.6,  23.9563,  35.3234,2,-999.0000,9,    209.5,1,  -999.0,9, -999.00,9, -999.00,9,  -999.0,      25,    23.9509, -999.00,9,     -999.0
33KB20110227,       PRS2,       2,          1,         12,       8012,2,20110228,       1005,  22.716833,-158.0355000,       4760,    25.2,  23.9561,  35.3229,2,-999.0000,9,    209.5,1,  -999.0,9, -999.00,9, -999.00,9,  -999.0,      27,    23.9508, -999.00,9,     -999.0
33KB20110227,       PRS2,       2,          1,         11,       8011,2,20110228,       1005,  22.716833,-158.0355000,       4760,    25.8,  23.9535,  35.3231,2,-999.0000,9,    209.5,1,  -999.0,9, -999.00,9, -999.00,9,  -999.0,      25,    23.9481, -999.00,9,     -999.0
33KB20110227,       PRS2,       2,          1,         10,       8010,2,20110228,       1005,  22.716833,-158.0355000,       4760,    45.2,  23.6688,  35.3728,2,-999.0000,9,    211.0,1,  -999.0,9, -999.00,9, -999.00,9,  -999.0,      45,    23.6593, -999.00,9,     -999.0
33KB20110227,       PRS2,       2,          1,          9,       8009,2,20110228,       1005,  22.716833,-158.0355000,       4760,    45.5,  23.6573,  35.3728,2,-999.0000,9,    211.0,1,  -999.0,9, -999.00,9, -999.00,9,  -999.0,      45,    23.6478, -999.00,9,     -999.0
33KB20110227,       PRS2,       2,          1,          8,       8008,2,20110228,       1005,  22.716833,-158.0355000,       4760,    44.8,  23.6470,  35.3745,2,-999.0000,9,    210.9,1,  -999.0,9, -999.00,9, -999.00,9,  -999.0,      45,    23.6377, -999.00,9,     -999.0
33KB20110227,       PRS2,       2,          1,          7,       8026,2,20110228,       1005,  22.716833,-158.0355000,       4760,    44.8,  23.6410,  35.3763,2,-999.0000,9,    210.9,1,  -999.0,9, -999.00,9, -999.00,9,  -999.0,      45,    23.6317, -999.00,9,     -999.0
33KB20110227,       PRS2,       2,          1,          6,       8006,2,20110228,       1005,  22.716833,-158.0355000,       4760,    45.3,  23.6217,  35.3795,2,-999.0000,9,    210.9,1,  -999.0,9, -999.00,9, -999.00,9,  -999.0,      44,    23.6122, -999.00,9,     -999.0
33KB20110227,       PRS2,       2,          1,          5,       8005,2,20110228,       1005,  22.716833,-158.0355000,       4760,    75.2,  23.2222,  35.4193,2,-999.0000,9,    208.1,1,  -999.0,9, -999.00,9, -999.00,9,  -999.0,      76,    23.2067, -999.00,9,     -999.0
33KB20110227,       PRS2,       2,          1,          4,       8004,2,20110228,       1005,  22.716833,-158.0355000,       4760,    75.8,  23.2213,  35.4197,2,-999.0000,9,    208.0,1,  -999.0,9, -999.00,9, -999.00,9,  -999.0,      75,    23.2057, -999.00,9,     -999.0
33KB20110227,       PRS2,       2,          1,          3,       8003,2,20110228,       1005,  22.716833,-158.0355000,       4760,    75.4,  23.2177,  35.4202,2,-999.0000,9,    207.8,1,  -999.0,9, -999.00,9, -999.00,9,  -999.0,      75,    23.2022, -999.00,9,     -999.0
33KB20110227,       PRS2,       2,          1,          2,       8002,2,20110228,       1005,  22.716833,-158.0355000,       4760,    75.6,  23.2128,  35.4203,2,-999.0000,9,    207.7,1,  -999.0,9, -999.00,9, -999.00,9,  -999.0,      74,    23.1973, -999.00,9,     -999.0
33KB20110227,       PRS2,       2,          1,          1,       8001,2,20110228,       1005,  22.716833,-158.0355000,       4760,    75.6,  23.2106,  35.4199,2,-999.0000,9,    207.6,1,  -999.0,9, -999.00,9, -999.00,9,  -999.0,      75,    23.1950, -999.00,9,     -999.0
33KB20110227,       PRS2,       2,          2,         22,       8022,2,20110228,       1123,  22.716667,-158.0360000,       4757,     6.8,  24.5306,  35.2692,2,  35.2688,2,    205.5,1,  -999.0,9, -999.00,9, -999.00,9,  -999.0,       8,    24.5291, -999.00,9,     -999.0
33KB20110227,       PRS2,       2,          2,         21,       8021,2,20110228,       1123,  22.716667,-158.0360000,       4757,     7.4,  24.5309,  35.2694,2,  35.2692,2,    209.3,1,  -999.0,9, -999.00,9, -999.00,9,  -999.0,       6,    24.5293, -999.00,9,     -999.0
33KB20110227,       PRS2,       2,          2,         20,       8020,2,20110228,       1123,  22.716667,-158.0360000,       4757,     6.8,  24.5303,  35.2692,2,  35.2721,2,    213.7,1,  -999.0,9, -999.00,9, -999.00,9,  -999.0,       8,    24.5289, -999.00,9,     -999.0
33KB20110227,       PRS2,       2,          2,         19,       8019,2,20110228,       1123,  22.716667,-158.0360000,       4757,    25.2,  23.9701,  35.3273,2,  35.3279,2,    208.5,1,  -999.0,9, -999.00,9, -999.00,9,  -999.0,      23,    23.9648, -999.00,9,     -999.0
33KB20110227,       PRS2,       2,          2,         18,       8018,2,20110228,       1123,  22.716667,-158.0360000,       4757,    24.6,  23.9756,  35.3282,2,  35.3275,2,    208.6,1,  -999.0,9, -999.00,9, -999.00,9,  -999.0,      26,    23.9704, -999.00,9,     -999.0
33KB20110227,       PRS2,       2,          2,         17,       8017,2,20110228,       1123,  22.716667,-158.0360000,       4757,    24.8,  23.9751,  35.3279,2,  35.3283,2,    208.7,1,  -999.0,9, -999.00,9, -999.00,9,  -999.0,      25,    23.9699, -999.00,9,     -999.0
33KB20110227,       PRS2,       2,          2,         16,       8016,2,20110228,       1123,  22.716667,-158.0360000,       4757,    46.0,  23.8794,  35.3198,2,  35.3191,2,    210.2,1,  -999.0,9, -999.00,9, -999.00,9,  -999.0,      48,    23.8697, -999.00,9,     -999.0
33KB20110227,       PRS2,       2,          2,         15,       8015,2,20110228,       1123,  22.716667,-158.0360000,       4757,    46.2,  23.8796,  35.3198,2,  35.3189,2,    210.2,1,  -999.0,9, -999.00,9, -999.00,9,  -999.0,      45,    23.8699, -999.00,9,     -999.0
33KB20110227,       PRS2,       2,          2,         14,       8014,2,20110228,       1123,  22.716667,-158.0360000,       4757,    46.3,  23.8796,  35.3201,2,  35.3196,2,    210.3,1,  -999.0,9, -999.00,9, -999.00,9,  -999.0,      46,    23.8699, -999.00,9,     -999.0
33KB20110227,       PRS2,       2,          2,         13,       8025,2,20110228,       1123,  22.716667,-158.0360000,       4757,    75.7,  23.2571,  35.4143,2,  35.4139,2,    208.3,1,  -999.0,9, -999.00,9, -999.00,9,  -999.0,      75,    23.2415, -999.00,9,     -999.0
33KB20110227,       PRS2,       2,          2,         12,       8012,2,20110228,       1123,  22.716667,-158.0360000,       4757,    75.6,  23.2575,  35.4142,2,  35.4147,2,    208.2,1,  -999.0,9, -999.00,9, -999.00,9,  -999.0,      75,    23.2419, -999.00,9,     -999.0
33KB20110227,       PRS2,       2,          2,         11,       8011,2,20110228,       1123,  22.716667,-158.0360000,       4757,    75.5,  23.2563,  35.4143,2,  35.4145,2,    208.1,1,  -999.0,9, -999.00,9, -999.00,9,  -999.0,      76,    23.2408, -999.00,9,     -999.0
33KB20110227,       PRS2,       2,          2,         10,       8010,2,20110228,       1123,  22.716667,-158.0360000,       4757,   100.8,  22.9667,  35.4273,2,  35.4275,2,    208.3,1,  -999.0,9, -999.00,9, -999.00,9,  -999.0,     100,    22.9461, -999.00,9,     -999.0
33KB20110227,       PRS2,       2,          2,          9,       8009,2,20110228,       1123,  22.716667,-158.0360000,       4757,   100.5,  22.9691,  35.4279,2,  35.4271,2,    208.0,1,  -999.0,9, -999.00,9, -999.00,9,  -999.0,     101,    22.9485, -999.00,9,     -999.0
33KB20110227,       PRS2,       2,          2,          8,       8008,2,20110228,       1123,  22.716667,-158.0360000,       4757,   100.7,  22.9653,  35.4273,2,  35.4275,2,    208.8,1,  -999.0,9, -999.00,9, -999.00,9,  -999.0,     100,    22.9447, -999.00,9,     -999.0
33KB20110227,       PRS2,       2,          2,          7,       8026,2,20110228,       1123,  22.716667,-158.0360000,       4757,   125.5,  22.0427,  35.3682,2,  35.3683,2,    206.5,1,  -999.0,9, -999.00,9, -999.00,9,  -999.0,     125,    22.0178, -999.00,9,     -999.0
33KB20110227,       PRS2,       2,          2,          6,       8006,2,20110228,       1123,  22.716667,-158.0360000,       4757,   125.5,  22.0038,  35.3620,2,  35.3677,2,    206.2,1,  -999.0,9, -999.00,9, -999.00,9,  -999.0,     125,    21.9790, -999.00,9,     -999.0
33KB20110227,       PRS2,       2,          2,          5,       8005,2,20110228,       1123,  22.716667,-158.0360000,       4757,   125.7,  21.9540,  35.3600,2,  35.3616,2,    205.6,1,  -999.0,9, -999.00,9, -999.00,9,  -999.0,     126,    21.9292, -999.00,9,     -999.0
33KB20110227,       PRS2,       2,          2,          4,       8004,2,20110228,       1123,  22.716667,-158.0360000,       4757,   150.4,  20.2947,  35.2155,2,  35.2099,2,    199.9,1,  -999.0,9, -999.00,9, -999.00,9,  -999.0,     149,    20.2665, -999.00,9,     -999.0
33KB20110227,       PRS2,       2,          2,          3,       8003,2,20110228,       1123,  22.716667,-158.0360000,       4757,   175.1,  19.3221,  35.1060,2,  35.1089,2,    198.3,1,  -999.0,9, -999.00,9, -999.00,9,  -999.0,     176,    19.2905, -999.00,9,     -999.0
33KB20110227,       PRS2,       2,          2,          2,       8002,2,20110228,       1123,  22.716667,-158.0360000,       4757,   518.4,   7.2788,  34.0311,2,  34.0307,2,    137.5,1,  -999.0,9, -999.00,9, -999.00,9,  -999.0,     518,     7.2288, -999.00,9,     -999.0
33KB20110227,       PRS2,       2,          2,          1,       8001,2,20110228,       1123,  22.716667,-158.0360000,       4757,  1019.8,   3.8879,  34.4790,2,  34.4797,2,     44.7,1,  -999.0,9, -999.00,9, -999.00,9,  -999.0,    1020,     3.8115, -999.00,9,     -999.0