BOTTLE,20140822SIOCCHAMB
EXPOCODE,SECT_ID,STNNBR,CASTNO,BTLNBR,DATE,TIME,LATITUDE,LONGITUDE,CTDPRS,CTDPRS_FLAG_W,CTDTMP,CTDTMP_FLAG_W,CTDSAL,CTDSAL_FLAG_W,SALNTY,SALNTY_FLAG_W,CTDOXY,CTDOXY_FLAG_W,OXYGEN,OXYGEN_FLAG_W,SILCAT,SILCAT_FLAG_W,NITRAT,NITRAT_FLAG_W,PHSPHT,PHSPHT_FLAG_W,DELHE3,DELHE3_FLAG_W
,,,,,,,,,DBAR,,ITS-90,,PSS-78,,PSS-78,,UMOL/KG,,UMOL/KG,,UMOL/KG,,UMOL/KG,,UMOL/KG,,PERCNT,
74JC19990315,  Albatross,      49,          1,          7,19990401,       0732,     -62.41,     -54.72,     7.4,2,  -0.7819,2,  34.1844,2,  34.1847,2,    275.1,2,  340.44,2,   65.83,2,   25.59,2,    1.78,2, -999.00,9
74JC19990315,  Albatross,      49,          1,          6,19990401,       0732,     -62.41,     -54.72,    53.0,2,  -0.6049,2,  34.2271,2,  34.2268,2,    330.2,2,  337.32,2,   65.53,2,   25.59,2,    1.77,2, -999.00,9
74JC19990315,  Albatross,      49,          1,          5,19990401,       0732,     -62.41,     -54.72,   103.8,2,  -0.9436,2,  34.3693,2,  34.3692,2,    320.2,2,  311.78,2,   72.66,2,   28.32,2,    1.96,2, -999.00,9
74JC19990315,  Albatross,      49,          1,          4,19990401,       0732,     -62.41,     -54.72,   194.9,2,  -0.9345,2,  34.5126,2,  34.5122,2,    269.0,2,  266.80,2,   85.54,2,   32.42,2,    2.12,2, -999.00,9
74JC19990315,  Albatross,      49,          1,          3,19990401,       0732,     -62.41,     -54.72,   245.7,2,  -0.8647,2,  34.5612,2,  34.5620,2,    264.2,2,  263.48,2,   90.61,2,   32.32,2,    2.15,2, -999.00,9
74JC19990315,  Albatross,      49,          1,          2,19990401,       0732,     -62.41,     -54.72,   286.6,2,  -0.8978,2,  34.5602,2,  34.5605,2,    262.0,2,  264.06,2,   90.90,2,   32.42,2,    2.16,2, -999.00,9
74JC19990315,  Albatross,      49,          1,          1,19990401,       0732,     -62.41,     -54.72,   286.6,2,  -0.8971,2,  34.5602,2,  34.5595,2,    262.0,2,  264.26,2,   90.51,2,   32.03,2,    2.15,2, -999.00,9
74JC19990315,  Albatross,      50,          1,          8,19990401,       1044,     -62.06,     -54.29,     6.9,2,   0.6912,2,  34.2437,2,  34.2438,2,    281.7,2,  321.86,2,   78.52,2,   28.03,2,    1.81,2, -999.00,9
74JC19990315,  Albatross,      50,          1,          7,19990401,       1044,     -62.06,     -54.29,    53.3,2,   0.6144,2,  34.2818,2,  34.2820,2,    313.7,2,  315.33,2,   80.18,2,   28.81,2,    1.85,2, -999.00,9
74JC19990315,  Albatross,      50,          1,          6,19990401,       1044,     -62.06,     -54.29,   104.1,2,   0.1805,2,  34.3685,2,  34.3678,2,    298.0,2,  296.13,2,   84.28,2,   30.27,2,    1.95,2, -999.00,9
74JC19990315,  Albatross,      50,          1,          5,19990401,       1044,     -62.06,     -54.29,   257.1,2,  -0.4070,2,  34.4753,2,  34.4756,2,    272.6,2,  273.42,2,   90.42,2,   32.22,2,    2.10,2, -999.00,9
74JC19990315,  Albatross,      50,          1,          4,19990401,       1044,     -62.06,     -54.29,   511.2,2,  -0.5903,2,  34.5189,2,  34.5195,2,    267.6,2,  266.21,2,   91.79,2,   32.81,2,    2.16,2, -999.00,9
74JC19990315,  Albatross,      50,          1,          3,19990401,       1044,     -62.06,     -54.29,   597.1,2,  -0.5529,2,  34.5311,2,  34.5313,2,    265.6,2,  262.32,2,   95.79,2,   32.52,2,    2.09,2, -999.00,9
74JC19990315,  Albatross,      50,          1,          2,19990401,       1044,     -62.06,     -54.29,   642.5,2,  -0.7627,2,  34.5450,2,  34.5450,2,    262.0,2,  263.78,2,   93.05,2,   32.61,2,    2.11,2, -999.00,9
74JC19990315,  Albatross,      50,          1,          1,19990401,       1044,     -62.06,     -54.29,   642.6,2,  -0.7583,2,  34.5443,2,  34.5436,2,    262.0,2,  264.36,2,   93.54,2,   32.51,2,    2.05,2, -999.00,9
74JC19990315,  Albatross,      51,          1,          7,19990401,       1408,     -61.72,     -53.87,     8.0,2,   0.8562,2,  34.2113,2,  34.2115,2,    343.4,2,  317.30,2,   78.76,2,   27.75,2,    1.75,2,   -2.51,2
74JC19990315,  Albatross,      51,          1,          6,19990401,       1408,     -61.72,     -53.87,    54.1,2,   0.4923,2,  34.3083,2,  34.3135,2,    309.7,2,  311.04,2,   83.27,2,   29.90,2,    1.89,2, -999.00,9
74JC19990315,  Albatross,      51,          1,          5,19990401,       1408,     -61.72,     -53.87,   122.9,2,   0.1546,2,  34.3745,2,  34.3739,2,    299.7,2,  297.20,2,   85.25,2,   30.73,2,    1.99,2,    0.56,2
74JC19990315,  Albatross,      51,          1,          4,19990401,       1408,     -61.72,     -53.87,   224.7,2,  -0.1828,2,  34.4371,2,  34.4378,2,    281.1,2,  281.51,2,   87.42,2,   31.66,2,    2.08,2, -999.00,9
74JC19990315,  Albatross,      51,          1,          3,19990401,       1408,     -61.72,     -53.87,   275.3,2,  -0.1926,2,  34.4390,2,  34.4389,2,    280.4,2,  280.15,2,   88.25,2,   31.67,2,    2.08,2, -999.00,9
74JC19990315,  Albatross,      51,          1,          2,19990401,       1408,     -61.72,     -53.87,   320.9,2,  -0.2600,2,  34.4530,2,  34.4519,2,    277.7,2,  277.91,2,   89.39,2,   32.10,2,    2.09,2,    2.96,2
74JC19990315,  Albatross,      51,          1,          1,19990401,       1408,     -61.72,     -53.87,   320.9,2,  -0.2600,2,  34.4530,2,  34.4540,2,    277.7,2,  278.00,2,   88.25,2,   31.69,2,    2.08,2,    2.96,2
74JC19990315,  Albatross,      52,          1,          8,19990401,       1702,     -61.64,     -53.11,     7.1,2,   0.5705,2,  34.2640,2,  34.2640,2,    321.7,2,  324.09,2,   79.11,2,   28.22,2,    1.82,2, -999.00,9
74JC19990315,  Albatross,      52,          1,          7,19990401,       1702,     -61.64,     -53.11,    53.1,2,   0.4413,2,  34.2950,2,  34.2937,2,    314.6,2,  312.89,2,   80.18,2,   29.20,2,    1.88,2, -999.00,9
74JC19990315,  Albatross,      52,          1,          6,19990401,       1702,     -61.64,     -53.11,   103.8,2,   0.0915,2,  34.3634,2,  34.3627,2,    294.0,2,  292.14,2,   84.37,2,   30.86,2,    2.02,2, -999.00,9
74JC19990315,  Albatross,      52,          1,          5,19990401,       1702,     -61.64,     -53.11,   257.0,2,  -0.5173,2,  34.4942,2,  34.4950,2,    266.8,2,  266.61,2,   90.81,2,   33.20,2,    2.18,2, -999.00,9
74JC19990315,  Albatross,      52,          1,          4,19990401,       1702,     -61.64,     -53.11,   279.7,2,  -0.6019,2,  34.5091,2,  34.5097,2,    262.4,2,  263.49,2,   92.47,2,   33.39,2,    2.19,2, -999.00,9
74JC19990315,  Albatross,      52,          1,          3,19990401,       1702,     -61.64,     -53.11,   354.1,2,  -0.6178,2,  34.5103,2,  34.5089,2,    262.8,2,  263.69,2,   92.27,2,   33.20,2,    2.21,2, -999.00,9
74JC19990315,  Albatross,      52,          1,          2,19990401,       1702,     -61.64,     -53.11,   399.9,2,  -0.6109,2,  34.5106,2,  34.5113,2,    264.1,2,  263.98,2,   91.88,2,   33.20,2,    2.16,2, -999.00,9
74JC19990315,  Albatross,      52,          1,          1,19990401,       1702,     -61.64,     -53.11,   399.9,2,  -0.6094,2,  34.5107,2,  34.5109,2,    264.1,2,  263.59,2,   91.49,2,   32.91,2,    2.17,2, -999.00,9
74JC19990315,  Albatross,      53,          1,          8,19990401,       2007,     -61.57,     -52.35,     8.2,2,   0.0637,2,  34.2669,2,  34.2669,2,    324.7,2,  324.97,2,   72.37,2,   27.54,2,    1.79,2,   -2.28,2
74JC19990315,  Albatross,      53,          1,          7,19990401,       2007,     -61.57,     -52.35,    53.9,2,  -0.0375,2,  34.2711,2,  34.2759,2,    327.7,2,  325.35,2,   71.39,2,   27.44,2,    1.81,2, -999.00,9
74JC19990315,  Albatross,      53,          1,          6,19990401,       2007,     -61.57,     -52.35,   104.4,2,  -0.1544,2,  34.3069,2,  34.2994,2,    313.9,2,  316.19,2,   73.24,2,   28.13,2,    1.85,2,    0.22,2
74JC19990315,  Albatross,      53,          1,          5,19990401,       2007,     -61.57,     -52.35,   271.9,2,  -0.7298,2,  34.5347,2,  34.5346,2,    260.7,2,  260.67,2,   91.98,2,   31.83,2,    2.12,2, -999.00,9
74JC19990315,  Albatross,      53,          1,          4,19990401,       2007,     -61.57,     -52.35,   373.4,2,  -0.6658,2,  34.5503,2,  34.5513,2,    258.0,2,  256.77,2,   93.93,2,   32.32,2,    2.13,2,    4.42,2
74JC19990315,  Albatross,      53,          1,          3,19990401,       2007,     -61.57,     -52.35,   424.4,2,  -0.6569,2,  34.5526,2,  34.5511,2,    256.1,2,  256.58,2,   93.93,2,   32.22,2,    2.13,2, -999.00,9
74JC19990315,  Albatross,      53,          1,          2,19990401,       2007,     -61.57,     -52.35,   467.8,2,  -0.6273,2,  34.5575,2,  34.5573,2,    253.9,2,  254.34,2,   94.91,2,   32.12,2,    2.12,2,    3.99,2
74JC19990315,  Albatross,      53,          1,          1,19990401,       2007,     -61.57,     -52.35,   467.8,2,  -0.6273,2,  34.5575,2,  34.5583,2,    253.9,2,  253.75,2,   95.00,2,   32.03,2,    2.11,2,    3.99,2
74JC19990315,  Albatross,      54,          1,         10,19990401,       2222,     -61.46,     -51.99,     8.0,2,  -0.0981,2,  34.2107,2,  34.2107,2,    332.0,2,  334.31,2,   63.48,2,   26.27,2,    1.74,2,   -1.04,2
74JC19990315,  Albatross,      54,          1,          9,19990401,       2222,     -61.46,     -51.99,    54.0,2,  -0.1645,2,  34.2368,2,  34.2350,2,    328.7,2,  327.49,2,   65.04,2,   26.76,2,    1.79,2, -999.00,9
74JC19990315,  Albatross,      54,          1,          8,19990401,       2222,     -61.46,     -51.99,   104.9,2,  -0.3855,2,  34.3503,2,  34.3492,2,    301.0,2,  300.31,2,   76.86,2,   29.39,2,    1.95,2, -999.00,9
74JC19990315,  Albatross,      54,          1,          7,19990401,       2222,     -61.46,     -51.99,   258.0,2,  -0.6293,2,  34.5285,2,  34.5264,2,    261.3,2,  259.98,2,   90.81,2,   31.73,2,    2.13,2, -999.00,9
74JC19990315,  Albatross,      54,          1,          6,19990401,       2222,     -61.46,     -51.99,   511.8,2,  -0.5478,2,  34.5601,2,  34.5599,2,    251.8,2,  251.32,2,   94.13,2,   32.03,2,    2.16,2,    5.00,2
74JC19990315,  Albatross,      54,          1,          5,19990401,       2222,     -61.46,     -51.99,   787.7,2,  -0.3901,2,  34.5952,2,  34.5954,2,    242.9,2,  242.65,2,   99.10,2,   32.03,2,    2.16,2, -999.00,9
74JC19990315,  Albatross,      54,          1,          4,19990401,       2222,     -61.46,     -51.99,   889.3,2,  -0.3682,2,  34.5984,2,  34.5987,2,    238.7,2,  241.97,2,   99.40,2,   32.61,2,    2.15,2,    5.47,2
74JC19990315,  Albatross,      54,          1,          3,19990401,       2222,     -61.46,     -51.99,   940.0,2,  -0.3387,2,  34.6068,2,  34.6040,2,    234.9,2,  239.83,2,  100.47,2,   32.51,2,    2.17,2, -999.00,9
74JC19990315,  Albatross,      54,          1,          2,19990401,       2222,     -61.46,     -51.99,   985.9,2,  -0.2637,2,  34.6294,2,  34.6285,2,    238.2,2,  234.96,2,  106.13,2,   32.32,2,    2.16,2, -999.00,9
74JC19990315,  Albatross,      54,          1,          1,19990401,       2222,     -61.46,     -51.99,   985.9,2,  -0.2637,2,  34.6294,2,  34.6299,2,    238.2,2,  234.77,2,  106.52,2,   32.71,2,    2.17,2, -999.00,9
74JC19990315,  Albatross,      55,          1,          9,19990402,       0143,     -61.28,     -51.35,     7.5,2,  -0.0268,2,  34.2775,2,  34.2757,2,    321.9,2,  318.43,2,   71.98,2,   28.32,2,    1.88,2, -999.00,9
74JC19990315,  Albatross,      55,          1,          8,19990402,       0143,     -61.28,     -51.35,    53.6,2,  -0.0221,2,  34.2617,2,  34.2634,2,    318.6,2,  321.16,2,   70.41,2,   27.93,2,    1.84,2, -999.00,9
74JC19990315,  Albatross,      55,          1,          7,19990402,       0143,     -61.28,     -51.35,   104.9,2,  -0.0407,2,  34.2976,2,  34.2977,2,    312.6,2,  313.17,2,   74.22,2,   28.81,2,    1.86,2, -999.00,9
74JC19990315,  Albatross,      55,          1,          6,19990402,       0143,     -61.28,     -51.35,   255.7,2,  -0.5228,2,  34.4901,2,  34.4899,2,    263.3,2,  267.87,2,   89.44,2,   31.64,2,    2.08,2, -999.00,9
74JC19990315,  Albatross,      55,          1,          5,19990402,       0143,     -61.28,     -51.35,   363.9,2,  -0.4580,2,  34.5676,2,  34.5685,2,    253.8,2,  248.79,2,   97.35,2,   32.71,2,    2.14,2, -999.00,9
74JC19990315,  Albatross,      55,          1,          4,19990402,       0143,     -61.28,     -51.35,   457.7,2,  -0.4258,2,  34.5796,2,  34.5795,2,    246.1,2,  245.48,2,   98.32,2,   32.42,2,    2.14,2, -999.00,9
74JC19990315,  Albatross,      55,          1,          3,19990402,       0143,     -61.28,     -51.35,   503.9,2,  -0.3911,2,  34.5849,2,  34.5844,2,    244.1,2,  244.50,2,   99.30,2,   32.61,2,    2.17,2, -999.00,9
74JC19990315,  Albatross,      55,          1,          2,19990402,       0143,     -61.28,     -51.35,   554.2,2,  -0.3508,2,  34.5917,2,  34.5919,2,    242.0,2,  242.75,2,  100.67,2,   31.63,2,    2.12,2, -999.00,9
74JC19990315,  Albatross,      55,          1,          1,19990402,       0143,     -61.28,     -51.35,   554.2,2,  -0.3508,2,  34.5917,2,  34.5915,2,    242.0,2,  242.27,2,  100.27,2,   31.93,2,    2.15,2, -999.00,9
74JC19990315,  Albatross,      56,          1,         11,19990402,       0321,     -61.22,     -51.18,     7.4,2,   0.1926,2,  34.1716,2,  34.1721,2,    327.0,2,  326.74,2,   64.17,2,   26.76,2,    1.72,2,   -0.93,2
74JC19990315,  Albatross,      56,          1,         10,19990402,       0321,     -61.22,     -51.18,    53.3,2,  -0.0190,2,  34.2628,2,  34.2620,2,    314.0,2,  314.64,2,   72.07,2,   28.22,2,    1.85,2, -999.00,9
74JC19990315,  Albatross,      56,          1,          9,19990402,       0321,     -61.22,     -51.18,   104.3,2,  -0.4265,2,  34.3997,2,  34.3999,2,    289.0,2,  287.94,2,   83.30,2,   30.17,2,    2.00,2,    0.59,2
74JC19990315,  Albatross,      56,          1,          8,19990402,       0321,     -61.22,     -51.18,   257.4,2,  -0.5769,2,  34.5092,2,  34.5093,2,    264.2,2,  263.78,2,   90.91,2,   31.83,2,    2.12,2, -999.00,9
74JC19990315,  Albatross,      56,          1,          7,19990402,       0321,     -61.22,     -51.18,   511.2,2,  -0.5182,2,  34.5480,2,  34.5477,2,    253.2,2,  254.82,2,   95.20,2,   32.12,2,    2.13,2,    4.42,2
74JC19990315,  Albatross,      56,          1,          6,19990402,       0321,     -61.22,     -51.18,   764.6,2,  -0.3929,2,  34.5820,2,  34.5826,2,    246.2,2,  245.57,2,   99.89,2,   32.22,2,    2.14,2,    2.65,2
74JC19990315,  Albatross,      56,          1,          5,19990402,       0321,     -61.22,     -51.18,   858.1,2,  -0.3838,2,  34.5834,2,  34.5834,2,    246.5,2,  245.38,2,  100.96,2,   33.00,2,    2.14,2,    3.64,2
74JC19990315,  Albatross,      56,          1,          4,19990402,       0321,     -61.22,     -51.18,   959.7,2,  -0.3787,2,  34.5836,2,  34.5832,2,    246.3,2,  245.09,2,  100.08,2,   32.42,2,    2.15,2,    4.80,2
74JC19990315,  Albatross,      56,          1,          3,19990402,       0321,     -61.22,     -51.18,   998.2,2,  -0.3828,2,  34.5816,2,  34.5809,2,    246.0,2,  245.67,2,   99.98,2,   32.51,2,    2.14,2, -999.00,9
74JC19990315,  Albatross,      56,          1,          2,19990402,       0321,     -61.22,     -51.18,  1038.4,2,  -0.3794,2,  34.5817,2,  34.5821,2,    244.3,2,  245.19,2,  101.54,2,   32.90,2,    2.16,2, -999.00,9
74JC19990315,  Albatross,      56,          1,          1,19990402,       0321,     -61.22,     -51.18,  1038.5,2,  -0.3780,2,  34.5825,2,  34.5828,2,    244.3,2,  245.48,2,  102.23,2,   32.51,2,    2.12,2, -999.00,9
74JC19990315,  Albatross,      57,          1,         12,19990402,       0521,     -61.19,     -51.11,    52.5,2,  -0.1737,2,  34.3245,2,  34.3245,2,    304.6,2,  304.50,2,   75.39,2,   28.91,2,    1.93,2, -999.00,9
74JC19990315,  Albatross,      57,          1,         11,19990402,       0521,     -61.19,     -51.11,   104.1,2,  -0.5094,2,  34.4205,2,  34.4138,2,    289.6,2,  285.01,2,   81.93,2,   30.66,2,    2.05,2, -999.00,9
74JC19990315,  Albatross,      57,          1,         10,19990402,       0521,     -61.19,     -51.11,   257.4,2,  -0.5997,2,  34.4973,2,  34.4123,2,    262.5,2,  266.80,2,   88.47,2,   31.64,2,    2.11,2, -999.00,9
74JC19990315,  Albatross,      57,          1,          9,19990402,       0521,     -61.19,     -51.11,   511.7,2,  -0.4154,2,  34.5748,2,  34.5748,2,    252.2,2,  245.96,2,   96.57,2,   32.22,2,    2.16,2, -999.00,9
74JC19990315,  Albatross,      57,          1,          8,19990402,       0521,     -61.19,     -51.11,   766.1,2,  -0.3518,2,  34.5906,2,  34.5932,2,    241.4,2,  242.46,2,   99.49,2,   32.12,2,    2.15,2, -999.00,9
74JC19990315,  Albatross,      57,          1,          7,19990402,       0521,     -61.19,     -51.11,  1020.5,2,  -0.2697,2,  34.6077,2,  34.6074,2,    237.4,2,  237.49,2,  102.42,2,   32.12,2,    2.16,2, -999.00,9
74JC19990315,  Albatross,      57,          1,          6,19990402,       0521,     -61.19,     -51.11,  1275.5,2,  -0.2353,2,  34.6161,2,  34.6170,2,    236.9,2,  236.91,2,  105.25,2,   32.51,2,    2.17,2, -999.00,9
74JC19990315,  Albatross,      57,          1,          5,19990402,       0521,     -61.19,     -51.11,  1362.2,2,  -0.2089,2,  34.6241,2,  34.6240,2,    235.7,2,  234.67,2,  106.81,2,   32.71,2,    2.17,2, -999.00,9
74JC19990315,  Albatross,      57,          1,          4,19990402,       0521,     -61.19,     -51.11,  1463.9,2,  -0.1948,2,  34.6263,2,  34.6260,2,    236.1,2, -999.00,9,  105.94,2,   32.32,2,    2.16,2, -999.00,9
74JC19990315,  Albatross,      57,          1,          3,19990402,       0521,     -61.19,     -51.11,  1515.0,2,  -0.2003,2,  34.6253,2,  34.6254,2,    236.2,2,  234.77,2,  106.81,2,   32.90,2,    2.18,2, -999.00,9
74JC19990315,  Albatross,      57,          1,          2,19990402,       0521,     -61.19,     -51.11,  1556.5,2,  -0.2105,2,  34.6221,2,  34.6217,2,    233.6,2,  234.77,2,  106.62,2,   32.61,2,    2.17,2, -999.00,9
74JC19990315,  Albatross,      57,          1,          1,19990402,       0521,     -61.19,     -51.11,  1556.5,2,  -0.2114,2,  34.6221,2,  34.6223,2,    233.6,2,  235.55,2,  105.25,2,   32.90,2,    2.14,2, -999.00,9