BOTTLE,20140822SIOCCHAMB
EXPOCODE,SECT_ID,STNNBR,CASTNO,BTLNBR,DATE,TIME,LATITUDE,LONGITUDE,CTDPRS,CTDPRS_FLAG_W,CTDTMP,CTDTMP_FLAG_W,CTDSAL,CTDSAL_FLAG_W,SALNTY,SALNTY_FLAG_W,CTDOXY,CTDOXY_FLAG_W,OXYGEN,OXYGEN_FLAG_W,SILCAT,SILCAT_FLAG_W,NITRAT,NITRAT_FLAG_W,PHSPHT,PHSPHT_FLAG_W,DELHE3,DELHE3_FLAG_W
,,,,,,,,,DBAR,,ITS-90,,PSS-78,,PSS-78,,UMOL/KG,,UMOL/KG,,UMOL/KG,,UMOL/KG,,UMOL/KG,,PERCNT,
74JC19990315,  Albatross,      74,          1,         15,19990404,       2138,     -60.65,     -42.21,     6.9,2,   0.4378,2,  33.9425,2,  33.9428,2,    331.1,2,  331.38,2,   63.89,2,   25.59,2,    1.56,2, -999.00,9
74JC19990315,  Albatross,      74,          1,         14,19990404,       2138,     -60.65,     -42.21,    53.1,2,   0.1612,2,  34.0566,2,  34.0612,2,    337.1,2,  313.44,2,   70.03,2,   27.35,2,    1.69,2, -999.00,9
74JC19990315,  Albatross,      74,          1,         13,19990404,       2138,     -60.65,     -42.21,   104.3,2,  -0.6920,2,  34.3238,2,  34.3243,2,    284.5,2,  283.19,2,   81.84,2,   30.37,2,    1.96,2, -999.00,9
74JC19990315,  Albatross,      74,          1,         12,19990404,       2138,     -60.65,     -42.21,   256.9,2,  -0.0847,2,  34.6028,2,  34.6019,2,    218.3,2,  221.55,2,   98.42,2,   32.81,2,    2.11,2, -999.00,9
74JC19990315,  Albatross,      74,          1,         11,19990404,       2138,     -60.65,     -42.21,   509.6,2,   0.6062,2,  34.6847,2,  34.6847,2,    200.8,2,  199.45,2,  113.45,2,   33.19,2,    2.13,2, -999.00,9
74JC19990315,  Albatross,      74,          1,         10,19990404,       2138,     -60.65,     -42.21,   764.9,2,   0.4579,2,  34.6847,2,  34.6847,2,    203.5,2,  202.47,2,  119.60,2,   33.78,2,    2.12,2, -999.00,9
74JC19990315,  Albatross,      74,          1,          9,19990404,       2138,     -60.65,     -42.21,  1019.8,2,   0.2932,2,  34.6783,2,  34.6786,2,    207.0,2,  206.55,2,  123.41,2,   33.20,2,    2.11,2, -999.00,9
74JC19990315,  Albatross,      74,          1,          8,19990404,       2138,     -60.65,     -42.21,  1272.1,2,   0.1073,2,  34.6718,2,  34.6719,2,    213.3,2,  213.37,2,  125.75,2,   33.39,2,    2.10,2, -999.00,9
74JC19990315,  Albatross,      74,          1,          7,19990404,       2138,     -60.65,     -42.21,  1531.1,2,   0.0132,2,  34.6663,2,  34.6664,2,    218.3,2,  218.52,2,  124.19,2,   33.10,2,    2.08,2, -999.00,9
74JC19990315,  Albatross,      74,          1,          6,19990404,       2138,     -60.65,     -42.21,  1787.0,2,  -0.1628,2,  34.6586,2,  34.6584,2,    226.0,2,  226.89,2,  122.43,2,   33.00,2,    2.06,2, -999.00,9
74JC19990315,  Albatross,      74,          1,          5,19990404,       2138,     -60.65,     -42.21,  1867.4,2,  -0.1799,2,  34.6592,2,  34.6578,2,    227.8,2,  227.57,2,  122.73,2,   33.00,2,    2.05,2, -999.00,9
74JC19990315,  Albatross,      74,          1,          4,19990404,       2138,     -60.65,     -42.21,  1963.2,2,  -0.1852,2,  34.6584,2,  34.6591,2,    228.7,2,  227.95,2,  121.07,2,   33.20,2,    2.05,2, -999.00,9
74JC19990315,  Albatross,      74,          1,          3,19990404,       2138,     -60.65,     -42.21,  2013.4,2,  -0.1853,2,  34.6583,2,  34.6584,2,    228.4,2,  228.25,2,  121.85,2,   33.20,2,    2.04,2, -999.00,9
74JC19990315,  Albatross,      74,          1,          2,19990404,       2138,     -60.65,     -42.21,  2064.5,2,  -0.2031,2,  34.6579,2,  34.6580,2,    229.1,2,  229.03,2,  121.55,2,   33.88,2,    2.02,2, -999.00,9
74JC19990315,  Albatross,      74,          1,          1,19990404,       2138,     -60.65,     -42.21,  2064.5,2,  -0.2031,2,  34.6579,2,  34.6584,2,    229.1,2,  229.81,2,  122.04,2,   33.00,2,    2.04,2, -999.00,9
74JC19990315,  Albatross,      75,          1,         16,19990405,       0124,     -60.65,     -42.19,     7.8,2,   0.4372,2,  33.9431,2,  33.9428,2,    328.2,2,  331.67,2,   65.25,2,   25.01,2,    1.56,2,   -2.25,2
74JC19990315,  Albatross,      75,          1,         15,19990405,       0124,     -60.65,     -42.19,    53.1,2,   0.3199,2,  33.9876,2,  33.9802,2,    328.2,2,  325.04,2,   67.50,2,   26.37,2,    1.61,2, -999.00,9
74JC19990315,  Albatross,      75,          1,         14,19990405,       0124,     -60.65,     -42.19,   104.8,2,  -0.9858,2,  34.3618,2,  34.3609,2,    298.1,2,  283.08,2,   83.50,2,   29.98,2,    2.02,2, -999.00,9
74JC19990315,  Albatross,      75,          1,         13,19990405,       0124,     -60.65,     -42.19,   257.3,2,  -0.2524,2,  34.5834,2,  34.5848,2,    226.3,2,  226.80,2,   97.54,2,   32.81,2,    2.15,2,    6.30,2
74JC19990315,  Albatross,      75,          1,         12,19990405,       0124,     -60.65,     -42.19,   511.1,2,   0.6015,2,  34.6827,2,  34.6819,2,    198.9,2,  199.26,2,  113.16,2,   34.37,2,    2.21,2,    7.62,2
74JC19990315,  Albatross,      75,          1,         11,19990405,       0124,     -60.65,     -42.19,   762.8,2,   0.4583,2,  34.6856,2,  34.6864,2,    202.1,2,  202.37,2,  122.63,2,   33.59,2,    2.19,2, -999.00,9
74JC19990315,  Albatross,      75,          1,         10,19990405,       0124,     -60.65,     -42.19,  1014.8,2,   0.3316,2,  34.6804,2,  34.6792,2,    206.4,2,  205.29,2,  124.38,2,   33.19,2,    2.23,2,    8.52,2
74JC19990315,  Albatross,      75,          1,          9,19990405,       0124,     -60.65,     -42.19,  1258.5,2,   0.1672,2,  34.6735,2,  34.6741,2,    211.5,2,  210.64,2,  127.80,2,   33.49,2,    2.27,2, -999.00,9
74JC19990315,  Albatross,      75,          1,          8,19990405,       0124,     -60.65,     -42.19,  1518.6,2,  -0.0264,2,  34.6651,2,  34.6654,2,    218.5,2,  219.20,2,  125.46,2,   33.10,2,    2.22,2,    6.90,2
74JC19990315,  Albatross,      75,          1,          7,19990405,       0124,     -60.65,     -42.19,  1763.1,2,  -0.1302,2,  34.6589,2,  34.6597,2,    221.9,2,  224.74,2,  123.60,2,   32.71,2,    2.25,2, -999.00,9
74JC19990315,  Albatross,      75,          1,          6,19990405,       0124,     -60.65,     -42.19,  2004.3,2,  -0.1290,2,  34.6592,2,  34.6593,2,    228.2,2,  225.52,2,  124.48,2,   32.80,2,    2.21,2,    6.69,2
74JC19990315,  Albatross,      75,          1,          5,19990405,       0124,     -60.65,     -42.19,  2452.2,2,  -0.2002,2,  34.6568,2,  34.6570,2,    230.8,2,  230.19,2,  124.09,2,   32.81,2,    2.23,2,    6.36,2
74JC19990315,  Albatross,      75,          1,          4,19990405,       0124,     -60.65,     -42.19,  2559.4,2,  -0.2213,2,  34.6560,2,  34.6556,2,    231.2,2,  231.26,2,  123.02,2,   32.51,2,    2.43,2, -999.00,9
74JC19990315,  Albatross,      75,          1,          3,19990405,       0124,     -60.65,     -42.19,  2610.7,2,  -0.2301,2,  34.6556,2,  34.6572,2,    231.5,2,  232.04,2,  123.21,2,   32.51,2,    2.18,2, -999.00,9
74JC19990315,  Albatross,      75,          1,          2,19990405,       0124,     -60.65,     -42.19,  2664.4,2,  -0.2310,2,  34.6555,2,  34.6550,2,    231.6,2,  232.04,2,  123.70,2,   32.81,2,    2.45,2,    6.58,2
74JC19990315,  Albatross,      75,          1,          1,19990405,       0124,     -60.65,     -42.19,  2664.4,2,  -0.2310,2,  34.6555,2,  34.6538,2,    231.6,2,  231.85,2,  123.60,2,   32.32,2,    2.36,2,    6.58,2
74JC19990315,  Albatross,      76,          1,         17,19990405,       0447,     -60.64,     -42.17,     6.2,2,   0.4355,2,  33.9447,2,  33.9452,2,    327.7,2,  331.48,2,   66.13,2,   25.01,2,    1.55,2, -999.00,9
74JC19990315,  Albatross,      76,          1,         16,19990405,       0447,     -60.64,     -42.17,    52.1,2,   0.2938,2,  34.0218,2,  34.0201,2,    322.8,2,  319.38,2,   69.35,2,   26.18,2,    1.66,2, -999.00,9
74JC19990315,  Albatross,      76,          1,         15,19990405,       0447,     -60.64,     -42.17,   100.7,2,  -0.9026,2,  34.3413,2,  34.3417,2,    286.9,2,  286.49,2,   82.13,2,   29.69,2,    1.98,2, -999.00,9
74JC19990315,  Albatross,      76,          1,         14,19990405,       0447,     -60.64,     -42.17,   254.8,2,  -0.1343,2,  34.5982,2,  34.5975,2,    223.0,2,  223.01,2,   99.01,2,   32.42,2,    2.15,2, -999.00,9
74JC19990315,  Albatross,      76,          1,         13,19990405,       0447,     -60.64,     -42.17,   508.4,2,   0.6045,2,  34.6824,2,  34.6815,2,    200.7,2,  199.26,2,  113.94,2,   33.29,2,    2.21,2, -999.00,9
74JC19990315,  Albatross,      76,          1,         12,19990405,       0447,     -60.64,     -42.17,   763.8,2,   0.4715,2,  34.6855,2,  34.6852,2,    203.4,2,  202.18,2,  121.16,2,   33.00,2,    2.20,2, -999.00,9
74JC19990315,  Albatross,      76,          1,         11,19990405,       0447,     -60.64,     -42.17,  1013.8,2,   0.3354,2,  34.6808,2,  34.6817,2,    205.8,2,  205.38,2,  124.58,2,   33.29,2,    2.19,2, -999.00,9
74JC19990315,  Albatross,      76,          1,         10,19990405,       0447,     -60.64,     -42.17,  1264.6,2,   0.2279,2,  34.6761,2,  34.6764,2,    208.5,2,  208.79,2,  127.02,2,   33.10,2,    2.21,2, -999.00,9
74JC19990315,  Albatross,      76,          1,          9,19990405,       0447,     -60.64,     -42.17,  1518.6,2,   0.0844,2,  34.6708,2,  34.6707,2,    213.6,2,  214.92,2,  128.39,2,   33.68,2,    2.24,2, -999.00,9
74JC19990315,  Albatross,      76,          1,          8,19990405,       0447,     -60.64,     -42.17,  1768.9,2,  -0.0760,2,  34.6642,2,  34.6642,2,    221.0,2,  221.92,2,  128.88,2,   33.29,2,    2.24,2, -999.00,9
74JC19990315,  Albatross,      76,          1,          7,19990405,       0447,     -60.64,     -42.17,  2024.5,2,  -0.1574,2,  34.6602,2,  34.6605,2,    222.7,2,  226.79,2,  125.65,2,   32.90,2,    2.20,2, -999.00,9
74JC19990315,  Albatross,      76,          1,          6,19990405,       0447,     -60.64,     -42.17,  2536.4,2,  -0.2562,2,  34.6547,2,  34.6558,2,    231.9,2,  232.92,2,  124.68,2,   32.71,2,    2.20,2, -999.00,9
74JC19990315,  Albatross,      76,          1,          5,19990405,       0447,     -60.64,     -42.17,  2941.9,2,  -0.2736,2,  34.6534,2,  34.6537,2,    236.0,2,  235.25,2,  122.43,2,   32.41,2,    2.17,2, -999.00,9
74JC19990315,  Albatross,      76,          1,          4,19990405,       0447,     -60.64,     -42.17,  3047.8,2,  -0.2633,2,  34.6537,2,  34.6537,2,    236.4,2,  235.06,2,  122.04,2,   32.90,2,    2.19,2, -999.00,9
74JC19990315,  Albatross,      76,          1,          3,19990405,       0447,     -60.64,     -42.17,  3096.1,2,  -0.2545,2,  34.6540,2,  34.6535,2,    236.6,2,  234.76,2,  122.63,2,   32.71,2,    2.18,2, -999.00,9
74JC19990315,  Albatross,      76,          1,          2,19990405,       0447,     -60.64,     -42.17,  3136.9,2,  -0.2543,2,  34.6540,2,  34.6535,2,    234.9,2,  234.86,2,  122.63,2,   32.61,2,    2.21,2, -999.00,9
74JC19990315,  Albatross,      76,          1,          1,19990405,       0447,     -60.64,     -42.17,  3136.9,2,  -0.2542,2,  34.6540,2,  34.6535,2,    234.9,2,  235.15,2,  122.92,2,   32.32,2,    2.15,2, -999.00,9
74JC19990315,  Albatross,      77,          1,         18,19990405,       0827,     -60.63,     -42.09,     7.1,2,   0.4935,2,  33.9408,2,  33.9420,2,    333.0,2,  331.88,2,   65.45,2,   25.20,2,    1.56,2, -999.00,9
74JC19990315,  Albatross,      77,          1,         17,19990405,       0827,     -60.63,     -42.09,    53.1,2,   0.4713,2,  33.9642,2,  33.9708,2,    327.2,2,  328.27,2,   66.62,2,   25.20,2,    1.58,2, -999.00,9
74JC19990315,  Albatross,      77,          1,         16,19990405,       0827,     -60.63,     -42.09,   104.5,2,  -0.6499,2,  34.3166,2,  34.3165,2,    303.4,2,  284.17,2,   82.52,2,   29.98,2,    1.99,2,    1.78,2
74JC19990315,  Albatross,      77,          1,         15,19990405,       0827,     -60.63,     -42.09,   256.1,2,  -0.4409,2,  34.5687,2,  34.5609,2,    235.1,2,  235.08,2,   95.59,2,   32.32,2,    2.16,2, -999.00,9
74JC19990315,  Albatross,      77,          1,         14,19990405,       0827,     -60.63,     -42.09,   511.0,2,   0.5995,2,  34.6803,2,  34.6792,2,    200.0,2,  199.17,2,  112.28,2,   33.29,2,    2.21,2, -999.00,9
74JC19990315,  Albatross,      77,          1,         13,19990405,       0827,     -60.63,     -42.09,   763.1,2,   0.5549,2,  34.6874,2,  34.6876,2,    200.7,2,  200.92,2,  119.40,2,   33.19,2,    2.20,2,    7.76,2
74JC19990315,  Albatross,      77,          1,         12,19990405,       0827,     -60.63,     -42.09,  1020.6,2,   0.4058,2,  34.6831,2,  34.6829,2,    203.7,2,  203.93,2,  122.04,2,   33.88,2,    2.23,2, -999.00,9
74JC19990315,  Albatross,      77,          1,         11,19990405,       0827,     -60.63,     -42.09,  1273.2,2,   0.2841,2,  34.6779,2,  34.6776,2,    208.2,2,  207.24,2,  124.19,2,   33.20,2,    2.23,2, -999.00,9
74JC19990315,  Albatross,      77,          1,         10,19990405,       0827,     -60.63,     -42.09,  1530.7,2,   0.1496,2,  34.6727,2,  34.6731,2,    212.2,2,  212.20,2,  127.02,2,   33.20,2,    2.23,2, -999.00,9
74JC19990315,  Albatross,      77,          1,          9,19990405,       0827,     -60.63,     -42.09,  1781.1,2,   0.0527,2,  34.6697,2,  34.6686,2,    215.8,2,  216.77,2,  128.00,2,   33.00,2,    2.21,2,    7.14,2
74JC19990315,  Albatross,      77,          1,          8,19990405,       0827,     -60.63,     -42.09,  2033.1,2,  -0.0275,2,  34.6661,2,  34.6672,2,    219.2,2,  220.37,2,  128.39,2,   33.10,2,    2.22,2, -999.00,9
74JC19990315,  Albatross,      77,          1,          7,19990405,       0827,     -60.63,     -42.09,  2544.1,2,  -0.1667,2,  34.6595,2,  34.6597,2,    228.8,2,  228.35,2,  125.75,2,   32.71,2,    2.20,2,    6.61,2
74JC19990315,  Albatross,      77,          1,          6,19990405,       0827,     -60.63,     -42.09,  3061.6,2,  -0.3611,2,  34.6489,2,  34.6474,2,    239.3,2,  239.83,2,  117.55,2,   32.32,2,    2.15,2, -999.00,9
74JC19990315,  Albatross,      77,          1,          5,19990405,       0827,     -60.63,     -42.09,  3515.6,2,  -0.3659,2,  34.6476,2,  34.6462,2,    241.7,2,  241.58,2,  116.97,2,   32.61,2,    2.17,2, -999.00,9
74JC19990315,  Albatross,      77,          1,          4,19990405,       0827,     -60.63,     -42.09,  3622.9,2,  -0.3596,2,  34.6474,2,  34.6482,2,    242.6,2,  241.97,2,  116.28,2,   32.12,2,    2.14,2,    5.66,2
74JC19990315,  Albatross,      77,          1,          3,19990405,       0827,     -60.63,     -42.09,  3676.7,2,  -0.3557,2,  34.6474,2,  34.6482,2,    242.8,2,  241.68,2,  116.48,2,   33.00,2,    2.16,2, -999.00,9
74JC19990315,  Albatross,      77,          1,          2,19990405,       0827,     -60.63,     -42.09,  3716.9,2,  -0.3514,2,  34.6474,2,  34.6482,2,    241.7,2,  241.97,2,  116.19,2,   32.22,2,    2.13,2,    5.07,2
74JC19990315,  Albatross,      77,          1,          1,19990405,       0827,     -60.63,     -42.09,  3716.4,2,  -0.3515,2,  34.6475,2,  34.6476,2,    241.7,2,  242.26,2,  117.36,2,   32.02,2,    2.11,2, -999.00,9
74JC19990315,  Albatross,      78,          1,         17,19990405,       1236,     -60.59,     -41.83,     4.3,2,   1.8461,2,  34.0392,2,  34.0393,2,    320.3,2,  321.75,2,   63.39,2,   23.15,2,    1.50,2, -999.00,9
74JC19990315,  Albatross,      78,          1,         16,19990405,       1236,     -60.59,     -41.83,    50.4,2,   1.8410,2,  34.0393,2,  34.0449,2,    322.7,2,  321.36,2,   63.88,2,   23.44,2,    1.52,2, -999.00,9
74JC19990315,  Albatross,      78,          1,         15,19990405,       1236,     -60.59,     -41.83,   101.5,2,  -0.4629,2,  34.3897,2,  34.3848,2,    271.0,2,  272.47,2,   86.62,2,   31.74,2,    2.08,2, -999.00,9
74JC19990315,  Albatross,      78,          1,         14,19990405,       1236,     -60.59,     -41.83,   254.7,2,   0.5623,2,  34.5998,2,  34.5993,2,    219.6,2,  217.37,2,   95.29,2,   32.12,2,    2.09,2, -999.00,9
74JC19990315,  Albatross,      78,          1,         13,19990405,       1236,     -60.59,     -41.83,   508.2,2,   0.6424,2,  34.6606,2,  34.6597,2,    209.7,2,  208.80,2,  107.01,2,   31.83,2,    2.10,2, -999.00,9
74JC19990315,  Albatross,      78,          1,         12,19990405,       1236,     -60.59,     -41.83,   763.4,2,   0.4813,2,  34.6668,2,  34.6678,2,    207.5,2,  208.12,2,  111.50,2,   32.02,2,    2.12,2, -999.00,9
74JC19990315,  Albatross,      78,          1,         11,19990405,       1236,     -60.59,     -41.83,  1018.4,2,   0.4490,2,  34.6780,2,  34.6772,2,    207.1,2,  207.82,2,  117.45,2,   32.32,2,    2.13,2, -999.00,9
74JC19990315,  Albatross,      78,          1,         10,19990405,       1236,     -60.59,     -41.83,  1274.1,2,   0.3608,2,  34.6784,2,  34.6788,2,    208.8,2,  209.38,2,  120.48,2,   32.61,2,    2.12,2, -999.00,9
74JC19990315,  Albatross,      78,          1,          9,19990405,       1236,     -60.59,     -41.83,  1531.0,2,   0.2478,2,  34.6763,2,  34.6768,2,    211.8,2,  212.68,2,  122.33,2,   32.51,2,    2.16,2, -999.00,9
74JC19990315,  Albatross,      78,          1,          8,19990405,       1236,     -60.59,     -41.83,  1787.2,2,   0.1748,2,  34.6731,2,  34.6731,2,    215.1,2,  215.50,2,  122.72,2,   32.51,2,    2.13,2, -999.00,9
74JC19990315,  Albatross,      78,          1,          7,19990405,       1236,     -60.59,     -41.83,  2044.0,2,   0.0717,2,  34.6688,2,  34.6690,2,    219.1,2,  218.91,2,  123.60,2,   32.90,2,    2.14,2, -999.00,9
74JC19990315,  Albatross,      78,          1,          6,19990405,       1236,     -60.59,     -41.83,  2558.1,2,  -0.0886,2,  34.6618,2,  34.6611,2,    225.6,2,  225.43,2,  124.48,2,   32.32,2,    2.16,2, -999.00,9
74JC19990315,  Albatross,      78,          1,          5,19990405,       1236,     -60.59,     -41.83,  2792.1,2,  -0.1703,2,  34.6584,2,  34.6588,2,    229.0,2,  229.22,2,  123.41,2,   32.71,2,    2.13,2, -999.00,9
74JC19990315,  Albatross,      78,          1,          4,19990405,       1236,     -60.59,     -41.83,  2894.3,2,  -0.1956,2,  34.6567,2,  34.6562,2,    230.5,2,  230.00,2,  124.09,2,   32.51,2,    2.14,2, -999.00,9
74JC19990315,  Albatross,      78,          1,          3,19990405,       1236,     -60.59,     -41.83,  2944.4,2,  -0.2133,2,  34.6563,2,  34.6564,2,    230.8,2,  230.48,2,  124.97,2,   33.00,2,    2.14,2, -999.00,9
74JC19990315,  Albatross,      78,          1,          2,19990405,       1236,     -60.59,     -41.83,  2993.0,2,  -0.2137,2,  34.6561,2,  34.6558,2,    231.1,2,  230.97,2,  124.68,2,   31.73,2,    2.14,2, -999.00,9
74JC19990315,  Albatross,      78,          1,          1,19990405,       1236,     -60.59,     -41.83,  2992.9,2,  -0.2133,2,  34.6560,2,  34.6566,2,    231.1,2,  231.16,2,  125.26,2,   32.02,2,    2.12,2, -999.00,9