BOTTLE,20140822SIOCCHAMB
EXPOCODE,SECT_ID,STNNBR,CASTNO,BTLNBR,DATE,TIME,LATITUDE,LONGITUDE,CTDPRS,CTDPRS_FLAG_W,CTDTMP,CTDTMP_FLAG_W,CTDSAL,CTDSAL_FLAG_W,SALNTY,SALNTY_FLAG_W,CTDOXY,CTDOXY_FLAG_W,OXYGEN,OXYGEN_FLAG_W,SILCAT,SILCAT_FLAG_W,NITRAT,NITRAT_FLAG_W,PHSPHT,PHSPHT_FLAG_W,DELHE3,DELHE3_FLAG_W
,,,,,,,,,DBAR,,ITS-90,,PSS-78,,PSS-78,,UMOL/KG,,UMOL/KG,,UMOL/KG,,UMOL/KG,,UMOL/KG,,PERCNT,
74JC19990315,  Albatross,      30,          1,         18,19990324,       2306,      -61.8,     -66.32,     9.7,2,   2.1035,2,  33.7234,2,  33.7231,2,    328.2,2,  327.08,2,   20.26,2,   26.29,2,    1.75,2, -999.00,9
74JC19990315,  Albatross,      30,          1,         17,19990324,       2306,      -61.8,     -66.32,    55.4,2,   1.8750,2,  33.7120,2,  33.7108,2,    332.9,2,  328.44,2,   23.79,2,   26.00,2,    1.78,2, -999.00,9
74JC19990315,  Albatross,      30,          1,         16,19990324,       2306,      -61.8,     -66.32,   100.6,2,  -0.7120,2,  33.8279,2,  33.8279,2,    336.9,2,  342.68,2,   26.82,2,   27.08,2,    1.85,2, -999.00,9
74JC19990315,  Albatross,      30,          1,         15,19990324,       2306,      -61.8,     -66.32,   256.3,2,   1.7070,2,  34.3058,2,  34.3031,2,    211.2,2,  215.29,2,   60.81,2,   34.77,2,    2.38,2, -999.00,9
74JC19990315,  Albatross,      30,          1,         14,19990324,       2306,      -61.8,     -66.32,   509.7,2,   2.2492,2,  34.5738,2,  34.5734,2,    169.4,2,  169.81,2,   80.98,2,   34.74,2,    2.43,2, -999.00,9
74JC19990315,  Albatross,      30,          1,         13,19990324,       2306,      -61.8,     -66.32,   764.4,2,   2.1565,2,  34.6543,2,  34.6544,2,    172.2,2,  171.16,2,   83.62,2,   33.03,2,    2.27,2, -999.00,9
74JC19990315,  Albatross,      30,          1,         12,19990324,       2306,      -61.8,     -66.32,  1015.9,2,   1.9969,2,  34.7056,2,  34.7058,2,    178.9,2,  177.67,2,   89.20,2,   32.00,2,    2.22,2, -999.00,9
74JC19990315,  Albatross,      30,          1,         11,19990324,       2306,      -61.8,     -66.32,  1269.6,2,   1.7479,2,  34.7250,2,  34.7251,2,    184.5,2,  183.89,2,   95.28,2,   31.61,2,    2.17,2, -999.00,9
74JC19990315,  Albatross,      30,          1,         10,19990324,       2306,      -61.8,     -66.32,  1524.7,2,   1.5548,2,  34.7264,2,  34.7268,2,    187.5,2,  186.90,2,  102.00,2,   31.70,2,    2.18,2, -999.00,9
74JC19990315,  Albatross,      30,          1,          9,19990324,       2306,      -61.8,     -66.32,  1779.7,2,   1.3755,2,  34.7262,2,  34.7266,2,    191.9,2,  190.89,2,  106.25,2,   31.82,2,    2.18,2, -999.00,9
74JC19990315,  Albatross,      30,          1,          8,19990324,       2306,      -61.8,     -66.32,  2037.0,2,   1.2188,2,  34.7229,2,  34.7245,2,    195.3,2,  194.00,2,  116.67,2,   31.64,2,    2.16,2, -999.00,9
74JC19990315,  Albatross,      30,          1,          7,19990324,       2306,      -61.8,     -66.32,  2553.1,2,   0.8559,2,  34.7117,2,  34.7127,2,    200.7,2,  200.13,2,  124.25,2,   32.19,2,    2.21,2, -999.00,9
74JC19990315,  Albatross,      30,          1,          6,19990324,       2306,      -61.8,     -66.32,  3062.4,2,   0.5763,2,  34.7058,2,  34.7068,2,    205.6,2,  204.90,2,  135.84,2,   32.08,2,    2.20,2, -999.00,9
74JC19990315,  Albatross,      30,          1,          5,19990324,       2306,      -61.8,     -66.32,  3569.1,2,   0.4969,2,  34.7038,2,  34.7031,2,    207.4,2,  208.01,2,  134.84,2,   32.45,2,    2.23,2, -999.00,9
74JC19990315,  Albatross,      30,          1,          4,19990324,       2306,      -61.8,     -66.32,  3673.7,2,   0.5050,2,  34.7038,2,  34.7027,2,    207.8,2,  208.11,2,  135.66,2,   32.60,2,    2.21,2, -999.00,9
74JC19990315,  Albatross,      30,          1,          3,19990324,       2306,      -61.8,     -66.32,  3726.6,2,   0.5081,2,  34.7032,2,  34.7031,2,    208.9,2,  207.91,2,  137.80,2,   32.36,2,    2.22,2, -999.00,9
74JC19990315,  Albatross,      30,          1,          2,19990324,       2306,      -61.8,     -66.32,  3767.4,2,   0.5121,2,  34.7032,2,  34.7031,2,    206.9,2,  208.40,2,  138.12,2,   32.31,2,    2.21,2, -999.00,9
74JC19990315,  Albatross,      30,          1,          1,19990324,       2306,      -61.8,     -66.32,  3767.3,2,   0.5126,2,  34.7033,2,  34.7025,2,    206.9,2,  207.72,2,  133.64,2,   32.24,2,    2.19,2, -999.00,9
74JC19990315,  Albatross,      31,          1,         18,19990325,       0439,      -62.0,     -65.95,    10.8,2,   1.8532,2,  33.6928,2,  33.6932,2,    322.7,2,  328.54,2,   26.19,2,   25.91,2,    1.75,2,   -1.60,2
74JC19990315,  Albatross,      31,          1,         17,19990325,       0439,      -62.0,     -65.95,    56.3,2,   1.8662,2,  33.6976,2,  33.6971,2,    333.4,2,  328.35,2,   24.74,2,   25.96,2,    1.73,2, -999.00,9
74JC19990315,  Albatross,      31,          1,         16,19990325,       0439,      -62.0,     -65.95,   107.2,2,  -0.6367,2,  33.9173,2,  33.9172,2,    318.4,2,  316.38,2,   41.61,2,   29.01,2,    1.98,2, -999.00,9
74JC19990315,  Albatross,      31,          1,         15,19990325,       0439,      -62.0,     -65.95,   259.5,2,   2.1058,2,  34.4432,2,  34.4413,2,    184.2,2,  185.49,2,   69.89,2,   35.20,2,    2.37,2,    5.64,2
74JC19990315,  Albatross,      31,          1,         14,19990325,       0439,      -62.0,     -65.95,   513.7,2,   2.1566,2,  34.6295,2,  34.6285,2,    168.5,2,  170.19,2,   82.48,2,   35.00,2,    2.29,2, -999.00,9
74JC19990315,  Albatross,      31,          1,         13,19990325,       0439,      -62.0,     -65.95,   768.0,2,   2.0270,2,  34.6909,2,  34.6898,2,    175.1,2,  174.65,2,   87.67,2,   33.00,2,    2.25,2, -999.00,9
74JC19990315,  Albatross,      31,          1,         12,19990325,       0439,      -62.0,     -65.95,  1021.4,2,   1.8057,2,  34.7233,2,  34.7227,2,    183.6,2,  182.33,2,   92.62,2,   32.16,2,    2.19,2, -999.00,9
74JC19990315,  Albatross,      31,          1,         11,19990325,       0439,      -62.0,     -65.95,  1277.2,2,   1.5469,2,  34.7298,2,  34.7298,2,    190.1,2,  187.88,2,  101.37,2,   31.88,2,    2.16,2, -999.00,9
74JC19990315,  Albatross,      31,          1,         10,19990325,       0439,      -62.0,     -65.95,  1532.8,2,   1.3338,2,  34.7269,2,  34.7272,2,    192.8,2,  192.45,2,  107.26,2,   32.06,2,    2.16,2, -999.00,9
74JC19990315,  Albatross,      31,          1,          9,19990325,       0439,      -62.0,     -65.95,  1785.8,2,   1.2023,2,  34.7236,2,  34.7241,2,    195.6,2,  194.59,2,  112.78,2,   32.38,2,    2.18,2,   10.35,2
74JC19990315,  Albatross,      31,          1,          8,19990325,       0439,      -62.0,     -65.95,  2042.1,2,   1.0608,2,  34.7186,2,  34.7386,2,    198.3,2,  197.31,2,  115.35,2,   32.40,2,    2.23,2, -999.00,9
74JC19990315,  Albatross,      31,          1,          7,19990325,       0439,      -62.0,     -65.95,  2555.0,2,   0.7490,2,  34.7093,2,  34.7098,2,    202.7,2,  202.66,2,  124.25,2,   32.66,2,    2.20,2,    9.87,2
74JC19990315,  Albatross,      31,          1,          6,19990325,       0439,      -62.0,     -65.95,  3067.8,2,   0.5169,2,  34.7049,2,  34.7049,2,    206.7,2,  207.33,2,  133.20,2,   32.94,2,    2.23,2, -999.00,9
74JC19990315,  Albatross,      31,          1,          5,19990325,       0439,      -62.0,     -65.95,  3438.0,2,   0.4908,2,  34.7037,2,  34.7031,2,    208.5,2,  208.21,2,  135.16,2,   32.76,2,    2.22,2, -999.00,9
74JC19990315,  Albatross,      31,          1,          4,19990325,       0439,      -62.0,     -65.95,  3540.7,2,   0.4948,2,  34.7033,2,  34.7027,2,    207.9,2,  208.11,2,  132.93,2,   32.87,2,    2.23,2, -999.00,9
74JC19990315,  Albatross,      31,          1,          3,19990325,       0439,      -62.0,     -65.95,  3592.6,2,   0.4991,2,  34.7035,2,  34.7039,2,    208.2,2,  208.30,2,  135.03,2,   32.61,2,    2.23,2,    9.56,2
74JC19990315,  Albatross,      31,          1,          2,19990325,       0439,      -62.0,     -65.95,  3631.2,2,   0.5029,2,  34.7036,2,  34.7041,2,    207.0,2,  207.72,2,  132.93,2,   32.45,2,    2.24,2,    9.56,2
74JC19990315,  Albatross,      31,          1,          1,19990325,       0439,      -62.0,     -65.95,  3631.0,2,   0.5030,2,  34.7036,2,  34.7033,2,    207.0,2,  207.82,2,  138.24,2,   32.46,2,    2.22,2,    9.56,2
74JC19990315,  Albatross,      32,          1,         17,19990325,       0841,     -62.14,     -65.58,    12.0,2,   1.7823,2,  33.6843,2,  33.6835,2,    319.0,2,  329.52,2,   28.35,2,   26.20,2,    1.66,2, -999.00,9
74JC19990315,  Albatross,      32,          1,         16,19990325,       0841,     -62.14,     -65.58,    57.9,2,   1.7611,2,  33.6834,2,  33.6821,2,    335.2,2,  329.33,2,   28.24,2,   26.26,2,    1.69,2, -999.00,9
74JC19990315,  Albatross,      32,          1,         15,19990325,       0841,     -62.14,     -65.58,   108.5,2,  -0.8924,2,  33.9319,2,  33.9319,2,    329.5,2,  324.64,2,   41.11,2,   29.95,2,    1.93,2, -999.00,9
74JC19990315,  Albatross,      32,          1,         14,19990325,       0841,     -62.14,     -65.58,   260.8,2,   1.4997,2,  34.4031,2,  34.3995,2,    196.5,2,  198.82,2,   71.21,2,   35.83,2,    2.38,2, -999.00,9
74JC19990315,  Albatross,      32,          1,         13,19990325,       0841,     -62.14,     -65.58,   513.2,2,   2.1073,2,  34.6404,2,  34.6397,2,    169.1,2,  170.77,2,   84.70,2,   34.34,2,    2.30,2, -999.00,9
74JC19990315,  Albatross,      32,          1,         12,19990325,       0841,     -62.14,     -65.58,   767.0,2,   1.9828,2,  34.6975,2,  34.6964,2,    174.6,2,  175.82,2,   91.28,2,   33.33,2,    2.21,2, -999.00,9
74JC19990315,  Albatross,      32,          1,         11,19990325,       0841,     -62.14,     -65.58,  1022.2,2,   1.7871,2,  34.7259,2,  34.7257,2,    184.7,2,  183.40,2,   95.85,2,   32.31,2,    2.14,2, -999.00,9
74JC19990315,  Albatross,      32,          1,         10,19990325,       0841,     -62.14,     -65.58,  1275.9,2,   1.5365,2,  34.7313,2,  34.7319,2,    190.9,2,  188.85,2,  103.02,2,   32.23,2,    2.14,2, -999.00,9
74JC19990315,  Albatross,      32,          1,          9,19990325,       0841,     -62.14,     -65.58,  1525.4,2,   1.2965,2,  34.7272,2,  34.7284,2,    195.1,2,  192.94,2,  110.94,2,   32.36,2,    2.16,2, -999.00,9
74JC19990315,  Albatross,      32,          1,          8,19990325,       0841,     -62.14,     -65.58,  1784.9,2,   1.1476,2,  34.7228,2,  34.7241,2,    197.1,2,  195.85,2,  114.11,2,   32.57,2,    2.16,2, -999.00,9
74JC19990315,  Albatross,      32,          1,          7,19990325,       0841,     -62.14,     -65.58,  2036.2,2,   0.9938,2,  34.7180,2,  34.7184,2,    200.5,2,  198.77,2,  119.05,2,   33.47,2,    2.25,2, -999.00,9
74JC19990315,  Albatross,      32,          1,          6,19990325,       0841,     -62.14,     -65.58,  2555.8,2,   0.7109,2,  34.7095,2,  34.7104,2,    204.7,2,  203.64,2,  127.80,2,   33.53,2,    2.21,2, -999.00,9
74JC19990315,  Albatross,      32,          1,          5,19990325,       0841,     -62.14,     -65.58,  3062.4,2,   0.4878,2,  34.7051,2,  34.7055,2,    208.8,2,  208.50,2,  134.46,2,   33.27,2,    2.22,2, -999.00,9
74JC19990315,  Albatross,      32,          1,          4,19990325,       0841,     -62.14,     -65.58,  3582.9,2,   0.4740,2,  34.7045,2,  34.7035,2,    209.7,2,  209.28,2,  136.30,2,   33.28,2,    2.22,2, -999.00,9
74JC19990315,  Albatross,      32,          1,          3,19990325,       0841,     -62.14,     -65.58,  3643.1,2,   0.4790,2,  34.7053,2,  34.7043,2,    209.7,2,  209.18,2,  137.00,2,   33.50,2,    2.24,2, -999.00,9
74JC19990315,  Albatross,      32,          1,          2,19990325,       0841,     -62.14,     -65.58,  3680.4,2,   0.4849,2,  34.7053,2,  34.7043,2,    206.7,2,  208.98,2,  136.80,2,   33.65,2,    2.23,2, -999.00,9
74JC19990315,  Albatross,      32,          1,          1,19990325,       0841,     -62.14,     -65.58,  3679.5,2,   0.4848,2,  34.7052,2,  34.7047,2,    206.7,2,  209.37,2,  137.25,2,   33.44,2,    2.22,2, -999.00,9
74JC19990315,  Albatross,      33,          1,         19,19990325,       1246,     -62.28,     -65.21,    10.8,2,   1.7810,2,  33.6895,2,  33.6872,2,    323.8,2,  326.12,2,   24.61,2,   26.10,2,    1.69,2,   -1.27,2
74JC19990315,  Albatross,      33,          1,         18,19990325,       1246,     -62.28,     -65.21,    56.6,2,   0.7745,2,  33.7213,2,  33.7186,2,    325.2,2, -999.00,9,   35.21,2,   27.12,2,    1.74,2, -999.00,9
74JC19990315,  Albatross,      33,          1,         17,19990325,       1246,     -62.28,     -65.21,   107.3,2,  -0.6953,2,  33.9719,2,  33.9727,2,    312.9,2,  310.43,2,   42.69,2,   30.14,2,    2.01,2,   -0.20,2
74JC19990315,  Albatross,      33,          1,         16,19990325,       1246,     -62.28,     -65.21,   260.3,2,   1.7442,2,  34.4438,2,  34.4485,2,    201.7,2,  189.77,2,   69.12,2,   35.55,2,    2.39,2, -999.00,9
74JC19990315,  Albatross,      33,          1,         15,19990325,       1246,     -62.28,     -65.21,   513.4,2,   2.0391,2,  34.6565,2,  34.6550,2,    170.0,2,  170.48,2,   83.94,2,   34.97,2,    2.27,2,    8.92,2
74JC19990315,  Albatross,      33,          1,         14,19990325,       1246,     -62.28,     -65.21,   767.7,2,   1.9166,2,  34.7100,2,  34.7098,2,    177.4,2,  179.23,2,   88.31,2,   32.61,2,    2.20,2, -999.00,9
74JC19990315,  Albatross,      33,          1,         13,19990325,       1246,     -62.28,     -65.21,  1021.5,2,   1.6912,2,  34.7294,2,  34.7290,2,    185.3,2,  184.77,2,   96.80,2,   31.98,2,    2.15,2,   10.25,2
74JC19990315,  Albatross,      33,          1,         12,19990325,       1246,     -62.28,     -65.21,  1277.1,2,   1.4736,2,  34.7300,2,  34.7172,2,    189.7,2,  187.00,2,  101.68,2,   32.52,2,    2.13,2, -999.00,9
74JC19990315,  Albatross,      33,          1,         11,19990325,       1246,     -62.28,     -65.21,  1532.1,2,   1.2953,2,  34.7262,2,  34.7170,2,    192.3,2,  192.45,2,  106.82,2,   32.32,2,    2.15,2, -999.00,9
74JC19990315,  Albatross,      33,          1,         10,19990325,       1246,     -62.28,     -65.21,  1787.8,2,   1.1250,2,  34.7217,2,  34.7225,2,    195.1,2,  195.08,2,  110.88,2,   32.32,2,    2.16,2,    9.81,2
74JC19990315,  Albatross,      33,          1,          9,19990325,       1246,     -62.28,     -65.21,  2043.5,2,   1.0191,2,  34.7175,2,  34.7186,2,    198.2,2,  196.44,2,  115.44,2,   32.63,2,    2.17,2,   10.22,2
74JC19990315,  Albatross,      33,          1,          8,19990325,       1246,     -62.28,     -65.21,  2556.9,2,   0.7302,2,  34.7086,2,  34.7098,2,    201.0,2,  203.25,2,  123.11,2,   33.44,2,    2.21,2,    9.53,2
74JC19990315,  Albatross,      33,          1,          7,19990325,       1246,     -62.28,     -65.21,  3070.5,2,   0.5311,2,  34.7048,2,  34.7041,2,    205.2,2,  206.16,2,  132.24,2,   33.09,2,    2.23,2,    9.76,2
74JC19990315,  Albatross,      33,          1,          6,19990325,       1246,     -62.28,     -65.21,  3583.2,2,   0.4889,2,  34.7021,2,  34.7017,2,    208.1,2,  208.40,2,  131.73,2,   32.84,2,    2.20,2,    9.26,2
74JC19990315,  Albatross,      33,          1,          5,19990325,       1246,     -62.28,     -65.21,  3918.8,2,   0.4605,2,  34.6950,2,  34.6947,2,    210.5,2,  209.47,2,  129.70,2,   32.75,2,    2.18,2,    9.47,2
74JC19990315,  Albatross,      33,          1,          4,19990325,       1246,     -62.28,     -65.21,  4022.0,2,   0.4362,2,  34.6913,2,  34.6909,2,    212.6,2,  212.49,2,  130.08,2,   33.03,2,    2.20,2, -999.00,9
74JC19990315,  Albatross,      33,          1,          3,19990325,       1246,     -62.28,     -65.21,  4073.8,2,   0.4323,2,  34.6899,2,  34.6898,2,    213.5,2,  212.29,2,  128.88,2,   33.12,2,    2.20,2, -999.00,9
74JC19990315,  Albatross,      33,          1,          2,19990325,       1246,     -62.28,     -65.21,  4122.6,2,   0.4313,2,  34.6893,2,  34.6898,2,    212.7,2,  213.46,2,  129.01,2,   32.88,2,    2.20,2, -999.00,9
74JC19990315,  Albatross,      33,          1,          1,19990325,       1246,     -62.28,     -65.21,  4122.5,2,   0.4310,2,  34.6895,2,  34.6890,2,    212.7,2,  213.27,2,  130.72,2,   32.96,2,    2.18,2, -999.00,9
74JC19990315,  Albatross,      34,          1,         18,19990325,       2040,     -62.39,     -64.83,     9.6,2,   0.8428,2,  33.7003,2,  33.6989,2,    329.2,2,  335.83,2,   45.14,2,   26.58,2,    1.64,2, -999.00,9
74JC19990315,  Albatross,      34,          1,         17,19990325,       2040,     -62.39,     -64.83,    55.3,2,   0.2333,2,  33.8885,2,  33.8883,2,    323.4,2,  317.86,2,   46.99,2,   28.82,2,    1.84,2, -999.00,9
74JC19990315,  Albatross,      34,          1,         16,19990325,       2040,     -62.39,     -64.83,   106.3,2,  -0.2981,2,  34.0817,2,  34.0852,2,    284.4,2,  286.36,2,   58.90,2,   31.26,2,    2.06,2, -999.00,9
74JC19990315,  Albatross,      34,          1,         15,19990325,       2040,     -62.39,     -64.83,   258.8,2,   1.8581,2,  34.5668,2,  34.5681,2,    177.7,2,  174.28,2,   83.58,2,   35.25,2,    2.34,2, -999.00,9
74JC19990315,  Albatross,      34,          1,         14,19990325,       2040,     -62.39,     -64.83,   512.5,2,   1.9410,2,  34.6956,2,  34.6958,2,    177.0,2,  174.95,2,   91.68,2,   33.59,2,    2.23,2, -999.00,9
74JC19990315,  Albatross,      34,          1,         13,19990325,       2040,     -62.39,     -64.83,   759.8,2,   1.6902,2,  34.7264,2,  34.7243,2,    182.7,2,  183.89,2,   99.48,2,   32.32,2,    2.14,2, -999.00,9
74JC19990315,  Albatross,      34,          1,         12,19990325,       2040,     -62.39,     -64.83,   995.5,2,   1.4538,2,  34.7287,2,  34.7288,2,    188.5,2,  188.75,2,  107.10,2,   32.71,2,    2.15,2, -999.00,9
74JC19990315,  Albatross,      34,          1,         11,19990325,       2040,     -62.39,     -64.83,  1252.1,2,   1.2467,2,  34.7252,2,  34.7261,2,    192.2,2,  193.33,2,  113.44,2,   32.61,2,    2.15,2, -999.00,9
74JC19990315,  Albatross,      34,          1,         10,19990325,       2040,     -62.39,     -64.83,  1503.2,2,   1.0747,2,  34.7202,2,  34.7202,2,    195.3,2,  196.24,2,  117.64,2,   32.41,2,    2.13,2, -999.00,9
74JC19990315,  Albatross,      34,          1,          9,19990325,       2040,     -62.39,     -64.83,  1752.4,2,   0.9212,2,  34.7151,2,  34.7170,2,    197.7,2,  198.97,2,  123.89,2,   33.00,2,    2.18,2, -999.00,9
74JC19990315,  Albatross,      34,          1,          8,19990325,       2040,     -62.39,     -64.83,  2010.9,2,   0.7807,2,  34.7107,2,  34.7131,2,    199.4,2,  201.98,2,  125.36,2,   33.00,2,    2.17,2, -999.00,9
74JC19990315,  Albatross,      34,          1,          7,19990325,       2040,     -62.39,     -64.83,  2532.8,2,   0.5695,2,  34.7056,2,  34.7064,2,    204.0,2,  205.58,2,  132.97,2,   33.39,2,    2.17,2, -999.00,9
74JC19990315,  Albatross,      34,          1,          6,19990325,       2040,     -62.39,     -64.83,  3058.7,2,   0.4773,2,  34.7019,2,  34.7009,2,    207.3,2,  208.40,2,  137.76,2,   33.29,2,    2.19,2, -999.00,9
74JC19990315,  Albatross,      34,          1,          5,19990325,       2040,     -62.39,     -64.83,  3669.1,2,   0.4347,2,  34.6954,2,  34.6937,2,    212.5,2,  210.83,2,  136.00,2,   33.19,2,    2.20,2, -999.00,9
74JC19990315,  Albatross,      34,          1,          4,19990325,       2040,     -62.39,     -64.83,  3769.1,2,   0.4165,2,  34.6924,2,  34.6929,2,    213.3,2,  212.10,2,  135.02,2,   33.19,2,    2.21,2, -999.00,9
74JC19990315,  Albatross,      34,          1,          3,19990325,       2040,     -62.39,     -64.83,  3819.8,2,   0.4051,2,  34.6913,2,  34.6901,2,    214.0,2,  213.66,2,  133.85,2,   33.78,2,    2.23,2, -999.00,9
74JC19990315,  Albatross,      34,          1,          2,19990325,       2040,     -62.39,     -64.83,  3866.9,2,   0.4015,2,  34.6903,2,  34.6899,2,    213.8,2,  213.56,2,  133.27,2,   33.68,2,    2.21,2, -999.00,9
74JC19990315,  Albatross,      34,          1,          1,19990325,       2040,     -62.39,     -64.83,  3866.9,2,   0.4015,2,  34.6903,2,  34.6896,2,    213.8,2,  213.08,2,  133.46,2,   33.29,2,    2.20,2, -999.00,9