BOTTLE,20140822SIOCCHAMB
EXPOCODE,SECT_ID,STNNBR,CASTNO,BTLNBR,DATE,TIME,LATITUDE,LONGITUDE,CTDPRS,CTDPRS_FLAG_W,CTDTMP,CTDTMP_FLAG_W,CTDSAL,CTDSAL_FLAG_W,SALNTY,SALNTY_FLAG_W,CTDOXY,CTDOXY_FLAG_W,OXYGEN,OXYGEN_FLAG_W,SILCAT,SILCAT_FLAG_W,NITRAT,NITRAT_FLAG_W,PHSPHT,PHSPHT_FLAG_W,DELHE3,DELHE3_FLAG_W
,,,,,,,,,DBAR,,ITS-90,,PSS-78,,PSS-78,,UMOL/KG,,UMOL/KG,,UMOL/KG,,UMOL/KG,,UMOL/KG,,PERCNT,
74JC19990315,  Albatross,     150,          1,         16,19990419,       2006,     -50.65,     -47.15,     9.6,2,   4.9502,2,  33.7911,2,  33.7909,2,    308.8,2,  307.89,2,    5.28,2,   23.45,2,    1.45,2,   -1.23,2
74JC19990315,  Albatross,     150,          1,         15,19990419,       2006,     -50.65,     -47.15,    55.0,2,   4.9126,2,  33.7914,2,  33.7915,2,    307.2,2,  307.21,2,    5.37,2,   23.25,2,    1.45,2, -999.00,9
74JC19990315,  Albatross,     150,          1,         14,19990419,       2006,     -50.65,     -47.15,   106.0,2,   3.2905,2,  33.9229,2,  33.9217,2,    298.5,2,  300.51,2,   12.31,2,   26.67,2,    1.66,2,   -1.99,2
74JC19990315,  Albatross,     150,          1,         13,19990419,       2006,     -50.65,     -47.15,   258.7,2,   2.7260,2,  34.1328,2,  34.1316,2,    256.9,2,  254.79,2,   29.40,2,   31.84,2,    1.94,2,    0.76,2
74JC19990315,  Albatross,     150,          1,         12,19990419,       2006,     -50.65,     -47.15,   512.5,2,   2.8281,2,  34.3593,2,  34.3613,2,    191.4,2,  193.81,2,   54.98,2,   35.45,2,    2.17,2,    4.32,2
74JC19990315,  Albatross,     150,          1,         11,19990419,       2006,     -50.65,     -47.15,   766.3,2,   2.5435,2,  34.5080,2,  34.5079,2,    171.2,2,  169.35,2,   74.11,2,   36.42,2,    2.27,2,    8.19,2
74JC19990315,  Albatross,     150,          1,         10,19990419,       2006,     -50.65,     -47.15,  1020.6,2,   2.3193,2,  34.5966,2,  34.5968,2,    165.8,2,  165.35,2,   83.19,2,   35.83,2,    2.23,2, -999.00,9
74JC19990315,  Albatross,     150,          1,          9,19990419,       2006,     -50.65,     -47.15,  1274.3,2,   2.1368,2,  34.6580,2,  34.5972,2,    168.5,2,  167.97,2,   89.33,2,   35.15,2,    2.19,2,   11.78,2
74JC19990315,  Albatross,     150,          1,          8,19990419,       2006,     -50.65,     -47.15,  1531.1,2,   1.9772,2,  34.6963,2,  34.6958,2,    173.2,2,  172.72,2,   95.09,2,   34.46,2,    2.15,2, -999.00,9
74JC19990315,  Albatross,     150,          1,          7,19990419,       2006,     -50.65,     -47.15,  1785.0,2,   1.9848,2,  34.7411,2,  34.7412,2,    182.2,2,  186.34,2,   90.79,2,   32.31,2,    2.03,2,   10.22,2
74JC19990315,  Albatross,     150,          1,          6,19990419,       2006,     -50.65,     -47.15,  2041.2,2,   1.6377,2,  34.7264,2,  34.7272,2,    186.4,2,  185.37,2,  102.32,2,   33.39,2,    2.07,2, -999.00,9
74JC19990315,  Albatross,     150,          1,          5,19990419,       2006,     -50.65,     -47.15,  2509.9,2,   1.0681,2,  34.7132,2,  34.7131,2,    198.1,2,  196.84,2,  115.59,2,   33.68,2,    2.06,2, -999.00,9
74JC19990315,  Albatross,     150,          1,          4,19990419,       2006,     -50.65,     -47.15,  2613.3,2,   0.8931,2,  34.7068,2,  34.7066,2,    201.0,2,  199.86,2,  118.72,2,   33.49,2,    2.08,2, -999.00,9
74JC19990315,  Albatross,     150,          1,          3,19990419,       2006,     -50.65,     -47.15,  2664.9,2,   0.7738,2,  34.7016,2,  34.7019,2,    203.1,2,  202.87,2,  120.28,2,   33.78,2,    2.07,2, -999.00,9
74JC19990315,  Albatross,     150,          1,          2,19990419,       2006,     -50.65,     -47.15,  2710.6,2,   0.7715,2,  34.7028,2,  34.7023,2,    202.7,2,  203.55,2,  119.70,2,   33.29,2,    2.10,2,    9.02,2
74JC19990315,  Albatross,     150,          1,          1,19990419,       2006,     -50.65,     -47.15,  2710.6,2,   0.7715,2,  34.7028,2,  34.7027,2,    202.7,2,  203.16,2,  120.48,2,   32.80,2,    2.08,2,    9.02,2
74JC19990315,  Albatross,     151,          1,         16,19990420,       0105,     -50.67,     -47.83,    10.2,2,   4.9212,2,  33.7958,2,  33.7958,2,    306.9,2,  306.91,2,    4.79,2,   23.15,2,    1.43,2, -999.00,9
74JC19990315,  Albatross,     151,          1,         15,19990420,       0105,     -50.67,     -47.83,    55.7,2,   4.8789,2,  33.8112,2,  33.8191,2,    306.3,2,  305.83,2,    4.98,2,   23.15,2,    1.46,2, -999.00,9
74JC19990315,  Albatross,     151,          1,         14,19990420,       0105,     -50.67,     -47.83,   106.9,2,   3.8919,2,  34.0337,2,  34.0369,2,    288.3,2,  289.00,2,   11.53,2,   25.88,2,    1.64,2, -999.00,9
74JC19990315,  Albatross,     151,          1,         13,19990420,       0105,     -50.67,     -47.83,   259.5,2,   3.0276,2,  34.1397,2,  34.1402,2,    251.7,2,  251.57,2,   26.96,2,   30.86,2,    1.91,2, -999.00,9
74JC19990315,  Albatross,     151,          1,         12,19990420,       0105,     -50.67,     -47.83,   513.2,2,   2.8669,2,  34.3733,2,  34.3737,2,    196.8,2,  189.71,2,   55.96,2,   35.25,2,    2.21,2, -999.00,9
74JC19990315,  Albatross,     151,          1,         11,19990420,       0105,     -50.67,     -47.83,   767.1,2,   2.4673,2,  34.5101,2,  34.5101,2,    171.9,2,  169.54,2,   74.01,2,   36.42,2,    2.26,2, -999.00,9
74JC19990315,  Albatross,     151,          1,         10,19990420,       0105,     -50.67,     -47.83,  1021.8,2,   2.2950,2,  34.6074,2,  34.6068,2,    165.8,2,  167.75,2,   83.97,2,   35.54,2,    2.23,2, -999.00,9
74JC19990315,  Albatross,     151,          1,          9,19990420,       0105,     -50.67,     -47.83,  1266.1,2,   2.1225,2,  34.6600,2,-999.0000,9,    168.0,2, -999.00,9, -999.00,9, -999.00,9, -999.00,9, -999.00,9
74JC19990315,  Albatross,     151,          1,          8,19990420,       0105,     -50.67,     -47.83,  1532.5,2,   2.0080,2,  34.6996,2,-999.0000,9,    173.8,2, -999.00,9, -999.00,9, -999.00,9, -999.00,9, -999.00,9
74JC19990315,  Albatross,     151,          1,          7,19990420,       0105,     -50.67,     -47.83,  1786.4,2,   1.9177,2,  34.7319,2,-999.0000,9,    185.2,2, -999.00,9, -999.00,9, -999.00,9, -999.00,9, -999.00,9
74JC19990315,  Albatross,     151,          1,          6,19990420,       0105,     -50.67,     -47.83,  2043.1,2,   1.6013,2,  34.7227,2,-999.0000,9,    186.0,2, -999.00,9, -999.00,9, -999.00,9, -999.00,9, -999.00,9
74JC19990315,  Albatross,     151,          1,          5,19990420,       0105,     -50.67,     -47.83,  2488.7,2,   0.9998,2,  34.7107,2,  34.7107,2,    197.9,2,  199.86,2,  116.08,2,   33.98,2,    2.10,2, -999.00,9
74JC19990315,  Albatross,     151,          1,          4,19990420,       0105,     -50.67,     -47.83,  2591.7,2,   0.8239,2,  34.7036,2,  34.7049,2,    202.0,2,  200.92,2,  119.11,2,   34.17,2,    2.12,2, -999.00,9
74JC19990315,  Albatross,     151,          1,          3,19990420,       0105,     -50.67,     -47.83,  2642.4,2,   0.7756,2,  34.7014,2,  34.7011,2,    203.2,2,  202.09,2,  118.91,2,   33.78,2,    2.14,2, -999.00,9
74JC19990315,  Albatross,     151,          1,          2,19990420,       0105,     -50.67,     -47.83,  2688.5,2,   0.7566,2,  34.7005,2,  34.7003,2,    202.0,2,  202.19,2,  119.79,2,   33.88,2,    2.11,2, -999.00,9
74JC19990315,  Albatross,     151,          1,          1,19990420,       0105,     -50.67,     -47.83,  2688.5,2,   0.7566,2,  34.7005,2,  34.6998,2,    202.0,2,  202.09,2,  118.82,2,   33.58,2,    2.14,2, -999.00,9
74JC19990315,  Albatross,     152,          1,         19,19990420,       0701,      -50.7,     -48.52,     9.6,2,   4.8222,2,  33.7762,2,  33.7761,2,    308.5,2,  304.69,2,    6.15,2,   22.28,2,    1.48,2,   -2.78,2
74JC19990315,  Albatross,     152,          1,         18,19990420,       0701,      -50.7,     -48.52,    54.9,2,   4.8429,2,  33.7888,2,  33.7886,2,    307.7,2,  307.50,2,    6.45,2,   22.47,2,    1.48,2, -999.00,9
74JC19990315,  Albatross,     152,          1,         17,19990420,       0701,      -50.7,     -48.52,   106.8,2,   3.4779,2,  33.8598,2,  33.8640,2,    306.7,2,  305.41,2,   12.02,2,   25.01,2,    1.75,2,   -1.14,2
74JC19990315,  Albatross,     152,          1,         16,19990420,       0701,      -50.7,     -48.52,   258.8,2,   2.3019,2,  34.0823,2,  34.0819,2,    259.9,2,  269.21,2,   28.03,2,   29.79,2,    1.97,2,   -0.31,2
74JC19990315,  Albatross,     152,          1,         15,19990420,       0701,      -50.7,     -48.52,   506.7,2,   2.6278,2,  34.3286,2,  34.3278,2,    202.7,2,  201.79,2,   53.71,2,   33.79,2,    2.24,2,    4.53,2
74JC19990315,  Albatross,     152,          1,         14,19990420,       0701,      -50.7,     -48.52,   764.4,2,   2.4727,2,  34.4862,2,  34.4862,2,    174.2,2,  173.83,2,   71.97,2,   35.25,2,    2.31,2, -999.00,9
74JC19990315,  Albatross,     152,          1,         13,19990420,       0701,      -50.7,     -48.52,  1017.0,2,   2.3335,2,  34.5934,2,  34.5942,2,    166.4,2,  165.74,2,   83.09,2,   34.27,2,    2.72,2,   10.10,2
74JC19990315,  Albatross,     152,          1,         12,19990420,       0701,      -50.7,     -48.52,  1272.7,2,   2.1625,2,  34.6560,2,  34.6564,2,    167.7,2,  166.60,2,   92.07,2,   33.49,2,    2.22,2, -999.00,9
74JC19990315,  Albatross,     152,          1,         11,19990420,       0701,      -50.7,     -48.52,  1525.5,2,   2.0220,2,  34.6948,2,  34.6951,2,    173.6,2,  172.73,2,   95.29,2,   32.90,2,    2.16,2,    8.57,2
74JC19990315,  Albatross,     152,          1,         10,19990420,       0701,      -50.7,     -48.52,  1779.4,2,   1.8644,2,  34.7074,2,-999.0000,9,    177.9,2, -999.00,9, -999.00,9, -999.00,9, -999.00,9,   13.00,2
74JC19990315,  Albatross,     152,          1,          6,19990420,       0701,      -50.7,     -48.52,  2036.8,2,   1.6708,2,  34.7174,2,-999.0000,9,    183.9,2, -999.00,9, -999.00,9, -999.00,9, -999.00,9, -999.00,9
74JC19990315,  Albatross,     152,          1,          5,19990420,       0701,      -50.7,     -48.52,  2615.3,2,   1.0779,2,  34.7124,2,  34.7139,2,    197.8,2,  201.52,2,  117.16,2,   32.02,2,    2.12,2, -999.00,9
74JC19990315,  Albatross,     152,          1,          4,19990420,       0701,      -50.7,     -48.52,  2717.4,2,   0.9286,2,  34.7076,2,  34.7074,2,    201.0,2,  200.15,2,  119.30,2,   31.93,2,    2.14,2,    8.96,2
74JC19990315,  Albatross,     152,          1,          3,19990420,       0701,      -50.7,     -48.52,  2769.0,2,   0.8518,2,  34.7039,2,  34.7037,2,    202.7,2,  201.41,2,  121.06,2,   32.12,2,    2.12,2, -999.00,9
74JC19990315,  Albatross,     152,          1,          2,19990420,       0701,      -50.7,     -48.52,  2810.2,2,   0.7571,2,  34.6999,2,  34.6990,2,    203.8,2,  203.36,2,  123.11,2,   31.93,2,    2.12,2,    9.76,2
74JC19990315,  Albatross,     152,          1,          1,19990420,       0701,      -50.7,     -48.52,  2810.3,2,   0.7574,2,  34.6999,2,  34.6994,2,    203.8,2,  202.97,2,  122.33,2,   31.93,2,    2.11,2, -999.00,9
74JC19990315,  Albatross,     154,          1,         24,19990420,       1309,      -50.7,     -48.91,  2451.1,2,   1.4395,2,  34.7235,2,-999.0000,9,    186.6,2, -999.00,9, -999.00,9, -999.00,9, -999.00,9, -999.00,9
74JC19990315,  Albatross,     154,          1,         23,19990420,       1309,      -50.7,     -48.91,  2451.3,2,   1.4395,2,  34.7236,2,-999.0000,9,    186.6,2, -999.00,9, -999.00,9, -999.00,9, -999.00,9, -999.00,9
74JC19990315,  Albatross,     154,          1,         22,19990420,       1309,      -50.7,     -48.91,  2451.5,2,   1.4396,2,  34.7235,2,-999.0000,9,    186.6,2, -999.00,9, -999.00,9, -999.00,9, -999.00,9, -999.00,9
74JC19990315,  Albatross,     154,          1,         21,19990420,       1309,      -50.7,     -48.91,  2451.6,2,   1.4396,2,  34.7235,2,-999.0000,9,    186.7,2, -999.00,9, -999.00,9, -999.00,9, -999.00,9, -999.00,9
74JC19990315,  Albatross,     154,          1,         20,19990420,       1309,      -50.7,     -48.91,  2451.6,2,   1.4398,2,  34.7235,2,-999.0000,9,    186.7,2, -999.00,9, -999.00,9, -999.00,9, -999.00,9, -999.00,9
74JC19990315,  Albatross,     154,          1,         19,19990420,       1309,      -50.7,     -48.91,  2451.8,2,   1.4398,2,  34.7235,2,-999.0000,9,    186.7,2, -999.00,9, -999.00,9, -999.00,9, -999.00,9, -999.00,9
74JC19990315,  Albatross,     154,          1,         18,19990420,       1309,      -50.7,     -48.91,  2451.9,2,   1.4399,2,  34.7235,2,-999.0000,9,    186.7,2, -999.00,9, -999.00,9, -999.00,9, -999.00,9, -999.00,9
74JC19990315,  Albatross,     154,          1,         17,19990420,       1309,      -50.7,     -48.91,  2452.0,2,   1.4400,2,  34.7235,2,  34.7261,2,    186.7,2, -999.00,9, -999.00,9, -999.00,9, -999.00,9, -999.00,9
74JC19990315,  Albatross,     154,          1,         16,19990420,       1309,      -50.7,     -48.91,  2451.9,2,   1.4400,2,  34.7236,2,-999.0000,9,    186.7,2, -999.00,9, -999.00,9, -999.00,9, -999.00,9, -999.00,9
74JC19990315,  Albatross,     154,          1,         15,19990420,       1309,      -50.7,     -48.91,  2451.9,2,   1.4401,2,  34.7235,2,-999.0000,9,    186.7,2, -999.00,9, -999.00,9, -999.00,9, -999.00,9, -999.00,9
74JC19990315,  Albatross,     154,          1,         14,19990420,       1309,      -50.7,     -48.91,  2451.9,2,   1.4401,2,  34.7235,2,-999.0000,9,    186.7,2, -999.00,9, -999.00,9, -999.00,9, -999.00,9, -999.00,9
74JC19990315,  Albatross,     154,          1,         13,19990420,       1309,      -50.7,     -48.91,  2452.1,2,   1.4401,2,  34.7235,2,-999.0000,9,    186.7,2, -999.00,9, -999.00,9, -999.00,9, -999.00,9, -999.00,9
74JC19990315,  Albatross,     154,          1,         12,19990420,       1309,      -50.7,     -48.91,  2452.0,2,   1.4401,2,  34.7237,2,-999.0000,9,    186.7,2,  189.09,2,  108.08,2,   32.90,2,    2.13,2, -999.00,9
74JC19990315,  Albatross,     154,          1,         11,19990420,       1309,      -50.7,     -48.91,  2452.0,2,   1.4404,2,  34.7235,2,  34.7272,2,    186.7,2,  188.60,2,  107.98,2,   33.19,2,    2.35,2, -999.00,9
74JC19990315,  Albatross,     154,          1,         10,19990420,       1309,      -50.7,     -48.91,  2452.2,2,   1.4403,2,  34.7235,2,-999.0000,9,    186.7,2, -999.00,9, -999.00,9, -999.00,9, -999.00,9, -999.00,9
74JC19990315,  Albatross,     154,          1,          9,19990420,       1309,      -50.7,     -48.91,  2452.3,2,   1.4404,2,  34.7235,2,-999.0000,9,    186.7,2, -999.00,9, -999.00,9, -999.00,9, -999.00,9, -999.00,9
74JC19990315,  Albatross,     154,          1,          8,19990420,       1309,      -50.7,     -48.91,  2452.2,2,   1.4402,2,  34.7235,2,-999.0000,9,    186.7,2, -999.00,9, -999.00,9, -999.00,9, -999.00,9, -999.00,9
74JC19990315,  Albatross,     154,          1,          7,19990420,       1309,      -50.7,     -48.91,  2452.3,2,   1.4402,2,  34.7235,2,-999.0000,9,    186.7,2, -999.00,9, -999.00,9, -999.00,9, -999.00,9, -999.00,9
74JC19990315,  Albatross,     154,          1,          6,19990420,       1309,      -50.7,     -48.91,  2452.5,2,   1.4401,2,  34.7233,2,-999.0000,9,    186.7,2, -999.00,9, -999.00,9, -999.00,9, -999.00,9, -999.00,9
74JC19990315,  Albatross,     154,          1,          5,19990420,       1309,      -50.7,     -48.91,  2452.4,2,   1.4402,2,  34.7234,2,-999.0000,9,    186.7,2, -999.00,9,  108.47,2,   32.41,2,    2.13,2, -999.00,9
74JC19990315,  Albatross,     154,          1,          4,19990420,       1309,      -50.7,     -48.91,  2452.3,2,   1.4404,2,  34.7233,2,-999.0000,9,    186.7,2,  188.58,2,  108.27,2,   32.51,2,    2.12,2, -999.00,9
74JC19990315,  Albatross,     154,          1,          3,19990420,       1309,      -50.7,     -48.91,  2452.4,2,   1.4402,2,  34.7234,2,  34.7274,2,    186.7,2,  188.49,2,  107.68,2,   32.41,2,    2.11,2, -999.00,9
74JC19990315,  Albatross,     154,          1,          2,19990420,       1309,      -50.7,     -48.91,  2452.2,2,   1.4401,2,  34.7232,2,-999.0000,9,    186.7,2,  188.57,2, -999.00,9, -999.00,9, -999.00,9, -999.00,9
74JC19990315,  Albatross,     154,          1,          1,19990420,       1309,      -50.7,     -48.91,  2452.3,2,   1.4401,2,  34.7232,2,-999.0000,9,    186.7,2, -999.00,9,  107.10,2,   33.00,2,    2.21,2, -999.00,9