BOTTLE,20140822SIOCCHAMB
EXPOCODE,SECT_ID,STNNBR,CASTNO,BTLNBR,DATE,TIME,LATITUDE,LONGITUDE,CTDPRS,CTDPRS_FLAG_W,CTDTMP,CTDTMP_FLAG_W,CTDSAL,CTDSAL_FLAG_W,SALNTY,SALNTY_FLAG_W,CTDOXY,CTDOXY_FLAG_W,OXYGEN,OXYGEN_FLAG_W,SILCAT,SILCAT_FLAG_W,NITRAT,NITRAT_FLAG_W,PHSPHT,PHSPHT_FLAG_W,DELHE3,DELHE3_FLAG_W
,,,,,,,,,DBAR,,ITS-90,,PSS-78,,PSS-78,,UMOL/KG,,UMOL/KG,,UMOL/KG,,UMOL/KG,,UMOL/KG,,PERCNT,
74JC19990315,  Albatross,      58,          1,         11,19990402,       0754,     -61.09,     -50.85,     6.7,2,   0.0310,2,  34.3538,2,  34.3543,2,    300.1,2,  300.61,2,   79.98,2,   29.10,2,    1.87,2, -999.00,9
74JC19990315,  Albatross,      58,          1,         10,19990402,       0754,     -61.09,     -50.85,    52.9,2,  -0.1365,2,  34.4229,2,  34.4229,2,    287.5,2,  286.87,2,   84.86,2,   30.17,2,    1.95,2, -999.00,9
74JC19990315,  Albatross,      58,          1,          9,19990402,       0754,     -61.09,     -50.85,   103.6,2,  -0.1363,2,  34.4645,2,  34.4632,2,    284.0,2,  277.32,2,   89.05,2,   30.17,2,    1.98,2, -999.00,9
74JC19990315,  Albatross,      58,          1,          8,19990402,       0754,     -61.09,     -50.85,   256.4,2,  -0.2002,2,  34.5600,2,  34.5611,2,    247.5,2,  249.18,2,   99.50,2,   31.93,2,    2.07,2, -999.00,9
74JC19990315,  Albatross,      58,          1,          7,19990402,       0754,     -61.09,     -50.85,   511.5,2,  -0.1352,2,  34.6062,2,  34.6066,2,    236.2,2,  235.45,2,  105.25,2,   32.42,2,    2.11,2, -999.00,9
74JC19990315,  Albatross,      58,          1,          6,19990402,       0754,     -61.09,     -50.85,   766.4,2,  -0.0863,2,  34.6201,2,  34.6207,2,    233.1,2,  231.75,2,  106.91,2,   32.42,2,    2.11,2, -999.00,9
74JC19990315,  Albatross,      58,          1,          5,19990402,       0754,     -61.09,     -50.85,   825.0,2,  -0.0841,2,  34.6206,2,  34.6179,2,    233.0,2,  231.56,2,  107.40,2,   32.32,2,    2.11,2, -999.00,9
74JC19990315,  Albatross,      58,          1,          4,19990402,       0754,     -61.09,     -50.85,   926.6,2,  -0.0778,2,  34.6211,2,  34.6217,2,    232.2,2,  231.56,2,  107.99,2,   32.51,2,    2.12,2, -999.00,9
74JC19990315,  Albatross,      58,          1,          3,19990402,       0754,     -61.09,     -50.85,   976.3,2,  -0.0645,2,  34.6227,2,  34.6234,2,    231.5,2,  230.49,2,  108.57,2,   32.42,2,    2.12,2, -999.00,9
74JC19990315,  Albatross,      58,          1,          2,19990402,       0754,     -61.09,     -50.85,  1017.0,2,  -0.0625,2,  34.6231,2,  34.6223,2,    229.3,2,  230.88,2,  107.99,2,   32.22,2,    2.11,2, -999.00,9
74JC19990315,  Albatross,      58,          1,          1,19990402,       0754,     -61.09,     -50.85,  1016.9,2,  -0.0634,2,  34.6230,2,  34.6240,2,    229.3,2,  231.47,2,  109.06,2,   32.22,2,    2.10,2, -999.00,9
74JC19990315,  Albatross,      59,          1,         10,19990402,       1045,     -60.91,     -50.47,     7.6,2,  -0.1092,2,  34.3865,2,  34.3874,2,    280.9,2,  300.40,2,   82.22,2,   29.59,2,    1.90,2, -999.00,9
74JC19990315,  Albatross,      59,          1,          9,19990402,       1045,     -60.91,     -50.47,    53.3,2,  -0.1215,2,  34.3958,2,  34.3944,2,    293.3,2,  297.38,2,   82.71,2,   29.88,2,    1.90,2, -999.00,9
74JC19990315,  Albatross,      59,          1,          8,19990402,       1045,     -60.91,     -50.47,   104.6,2,  -0.1824,2,  34.4243,2,  34.4246,2,    293.1,2,  289.10,2,   84.96,2,   30.47,2,    1.96,2, -999.00,9
74JC19990315,  Albatross,      59,          1,          7,19990402,       1045,     -60.91,     -50.47,   256.7,2,  -0.3481,2,  34.5096,2,  34.5091,2,    262.3,2,  262.71,2,   92.96,2,   31.93,2,    2.08,2, -999.00,9
74JC19990315,  Albatross,      59,          1,          6,19990402,       1045,     -60.91,     -50.47,   510.0,2,  -0.1939,2,  34.5802,2,  34.5809,2,    243.2,2,  242.66,2,  101.84,2,   32.61,2,    2.10,2, -999.00,9
74JC19990315,  Albatross,      59,          1,          5,19990402,       1045,     -60.91,     -50.47,   765.5,2,  -0.1360,2,  34.6096,2,  34.6103,2,    236.0,2,  234.38,2,  105.55,2,   32.90,2,    2.10,2, -999.00,9
74JC19990315,  Albatross,      59,          1,          4,19990402,       1045,     -60.91,     -50.47,   917.6,2,  -0.1338,2,  34.6104,2,  34.6105,2,    234.4,2,  234.67,2,  105.84,2,   33.00,2,    2.12,2, -999.00,9
74JC19990315,  Albatross,      59,          1,          3,19990402,       1045,     -60.91,     -50.47,   968.9,2,  -0.1299,2,  34.6110,2,  34.6125,2,    233.1,2,  234.58,2,  105.84,2,   32.90,2,    2.13,2, -999.00,9
74JC19990315,  Albatross,      59,          1,          2,19990402,       1045,     -60.91,     -50.47,  1009.6,2,  -0.1040,2,  34.6223,2,  34.6205,2,    231.4,2,  231.37,2,  107.79,2,   33.00,2,    2.12,2, -999.00,9
74JC19990315,  Albatross,      59,          1,          1,19990402,       1045,     -60.91,     -50.47,  1009.7,2,  -0.1033,2,  34.6225,2,  34.6221,2,    231.4,2,  231.36,2,  107.79,2,   32.90,2,    2.12,2, -999.00,9
74JC19990315,  Albatross,      60,          1,         13,19990402,       1400,     -60.63,     -50.17,     6.4,2,   0.9840,2,  34.1845,2,  34.1837,2,    304.2,2,  331.52,2,   70.42,2,   25.30,2,    1.60,2, -999.00,9
74JC19990315,  Albatross,      60,          1,         12,19990402,       1400,     -60.63,     -50.17,    52.4,2,   0.9110,2,  34.2021,2,  34.2221,2,    326.6,2,  328.30,2,   71.59,2,   25.98,2,    1.65,2, -999.00,9
74JC19990315,  Albatross,      60,          1,         11,19990402,       1400,     -60.63,     -50.17,   103.8,2,   0.2616,2,  34.2921,2,  34.3078,2,    316.1,2,  312.31,2,   75.78,2,   28.03,2,    1.81,2,   -0.51,2
74JC19990315,  Albatross,      60,          1,         10,19990402,       1400,     -60.63,     -50.17,   256.9,2,  -0.7102,2,  34.4930,2,  34.4930,2,    256.0,2,  257.66,2,   90.22,2,   32.03,2,    2.08,2, -999.00,9
74JC19990315,  Albatross,      60,          1,          9,19990402,       1400,     -60.63,     -50.17,   511.3,2,   0.3874,2,  34.6436,2,  34.6533,2,    205.3,2,  208.02,2,  107.59,2,   33.10,2,    2.15,2,    8.30,2
74JC19990315,  Albatross,      60,          1,          8,19990402,       1400,     -60.63,     -50.17,   749.4,2,   0.4424,2,  34.6669,2,  34.6772,2,    207.5,2,  205.19,2,  116.38,2,   32.90,2,    2.15,2,    8.55,2
74JC19990315,  Albatross,      60,          1,          7,19990402,       1400,     -60.63,     -50.17,  1015.5,2,   0.1799,2,  34.6623,2,  34.6682,2,    214.4,2,  212.78,2,  120.97,2,   33.20,2,    2.19,2, -999.00,9
74JC19990315,  Albatross,      60,          1,          6,19990402,       1400,     -60.63,     -50.17,  1272.6,2,  -0.0610,2,  34.6553,2,  34.6580,2,    223.7,2,  222.70,2,  119.11,2,   32.81,2,    2.16,2,    6.27,2
74JC19990315,  Albatross,      60,          1,          5,19990402,       1400,     -60.63,     -50.17,  1379.1,2,  -0.1516,2,  34.6521,2,  34.6535,2,    228.7,2,  227.37,2,  118.14,2,   33.20,2,    2.23,2, -999.00,9
74JC19990315,  Albatross,      60,          1,          4,19990402,       1400,     -60.63,     -50.17,  1481.8,2,  -0.2973,2,  34.6446,2,  34.6460,2,    233.7,2,  234.38,2,  113.35,2,   32.71,2,    2.12,2,    5.24,2
74JC19990315,  Albatross,      60,          1,          3,19990402,       1400,     -60.63,     -50.17,  1543.0,2,  -0.3243,2,  34.6450,2,  34.6433,2,    235.5,2,  235.83,2,  115.11,2,   32.61,2,    2.14,2, -999.00,9
74JC19990315,  Albatross,      60,          1,          2,19990402,       1400,     -60.63,     -50.17,  1585.6,2,  -0.3424,2,  34.6462,2,  34.6448,2,    234.7,2,  235.83,2,  115.79,2,   32.41,2,    2.13,2, -999.00,9
74JC19990315,  Albatross,      60,          1,          1,19990402,       1400,     -60.63,     -50.17,  1585.7,2,  -0.3426,2,  34.6460,2,  34.6444,2,    234.7,2,  235.45,2,  115.89,2,   32.32,2,    2.14,2, -999.00,9
74JC19990315,  Albatross,      61,          1,         13,19990402,       1816,     -60.58,      -49.5,     3.4,2,   1.0977,2,  34.1903,2,  34.1905,2,    322.7,2,  330.94,2,   67.29,2,   25.20,2,    1.58,2, -999.00,9
74JC19990315,  Albatross,      61,          1,         12,19990402,       1816,     -60.58,      -49.5,    49.9,2,   1.1210,2,  34.1943,2,  34.1956,2,    337.9,2,  330.55,2,   67.68,2,   25.39,2,    1.59,2, -999.00,9
74JC19990315,  Albatross,      61,          1,         11,19990402,       1816,     -60.58,      -49.5,   101.2,2,  -0.1615,2,  34.3578,2,  34.3594,2,    295.8,2,  294.77,2,   79.30,2,   29.69,2,    1.91,2, -999.00,9
74JC19990315,  Albatross,      61,          1,         10,19990402,       1816,     -60.58,      -49.5,   253.8,2,  -0.3124,2,  34.5589,2,  34.5589,2,    235.0,2,  237.51,2,   96.27,2,   32.61,2,    2.13,2, -999.00,9
74JC19990315,  Albatross,      61,          1,          9,19990402,       1816,     -60.58,      -49.5,   508.6,2,   0.4906,2,  34.6666,2,  34.6668,2,    207.0,2,  204.42,2,  107.79,2,   33.20,2,    2.16,2, -999.00,9
74JC19990315,  Albatross,      61,          1,          8,19990402,       1816,     -60.58,      -49.5,   763.1,2,   0.3059,2,  34.6713,2,  34.6707,2,    208.8,2,  209.18,2,  115.99,2,   33.00,2,    2.17,2, -999.00,9
74JC19990315,  Albatross,      61,          1,          7,19990402,       1816,     -60.58,      -49.5,  1019.4,2,   0.1858,2,  34.6688,2,  34.6690,2,    213.2,2,  212.88,2,  119.31,2,   33.29,2,    2.19,2, -999.00,9
74JC19990315,  Albatross,      61,          1,          6,19990402,       1816,     -60.58,      -49.5,  1273.8,2,   0.0562,2,  34.6644,2,  34.6637,2,    220.8,2,  217.84,2,  118.23,2,   33.20,2,    2.18,2, -999.00,9
74JC19990315,  Albatross,      61,          1,          5,19990402,       1816,     -60.58,      -49.5,  1385.0,2,  -0.0802,2,  34.6576,2,  34.6576,2,    225.7,2,  224.16,2,  117.16,2,   32.90,2,    2.15,2, -999.00,9
74JC19990315,  Albatross,      61,          1,          4,19990402,       1816,     -60.58,      -49.5,  1516.5,2,  -0.2135,2,  34.6509,2,  34.6515,2,    232.7,2,  230.68,2,  114.53,2,   32.81,2,    2.14,2, -999.00,9
74JC19990315,  Albatross,      61,          1,          3,19990402,       1816,     -60.58,      -49.5,  1568.0,2,  -0.2346,2,  34.6498,2,  34.6501,2,    233.8,2,  231.55,2,  114.23,2,   32.90,2,    2.15,2, -999.00,9
74JC19990315,  Albatross,      61,          1,          2,19990402,       1816,     -60.58,      -49.5,  1613.6,2,  -0.2497,2,  34.6491,2,  34.6491,2,    228.6,2,  232.53,2,  113.35,2,   32.71,2,    2.13,2, -999.00,9
74JC19990315,  Albatross,      61,          1,          1,19990402,       1816,     -60.58,      -49.5,  1613.4,2,  -0.2503,2,  34.6492,2,  34.6491,2,    228.7,2,  233.21,2,  112.67,2,   32.90,2,    2.12,2, -999.00,9
74JC19990315,  Albatross,      62,          1,         12,19990402,       2150,     -60.53,     -48.82,     6.0,2,   1.1459,2,  34.1535,2,  34.1535,2,    297.4,2,  329.10,2,   66.73,2,   24.43,2,    1.59,2,   -2.07,2
74JC19990315,  Albatross,      62,          1,         11,19990402,       2150,     -60.53,     -48.82,    51.9,2,   1.1478,2,  34.1579,2,  34.1655,2,    327.8,2,  327.83,2,   66.15,2,   24.69,2,    1.58,2, -999.00,9
74JC19990315,  Albatross,      62,          1,         10,19990402,       2150,     -60.53,     -48.82,   102.9,2,   0.3044,2,  34.2809,2,  34.2843,2,    305.2,2,  299.47,2,   76.33,2,   28.51,2,    1.83,2,    0.57,2
74JC19990315,  Albatross,      62,          1,          9,19990402,       2150,     -60.53,     -48.82,   256.4,2,  -0.7053,2,  34.5296,2,  34.5369,2,    241.5,2,  248.41,2,   88.42,2,   32.00,2,    2.07,2,    4.63,2
74JC19990315,  Albatross,      62,          1,          8,19990402,       2150,     -60.53,     -48.82,   510.1,2,   0.5639,2,  34.6786,2,  34.6788,2,    203.2,2,  201.98,2,  109.15,2,   32.92,2,    2.17,2,    8.08,2
74JC19990315,  Albatross,      62,          1,          7,19990402,       2150,     -60.53,     -48.82,   765.3,2,   0.3311,2,  34.6725,2,  34.6727,2,    210.3,2,  208.70,2,  113.93,2,   32.89,2,    2.15,2, -999.00,9
74JC19990315,  Albatross,      62,          1,          6,19990402,       2150,     -60.53,     -48.82,  1020.4,2,   0.0706,2,  34.6612,2,  34.6609,2,    220.3,2,  218.33,2,  115.59,2,   32.78,2,    2.16,2,    5.98,2
74JC19990315,  Albatross,      62,          1,          5,19990402,       2150,     -60.53,     -48.82,  1311.2,2,  -0.0818,2,  34.6555,2,  34.6548,2,    225.8,2,  224.94,2,  113.29,2,   32.51,2,    2.14,2, -999.00,9
74JC19990315,  Albatross,      62,          1,          4,19990402,       2150,     -60.53,     -48.82,  1414.2,2,  -0.1553,2,  34.6520,2,  34.6515,2,    228.7,2,  228.15,2,  113.87,2,   33.02,2,    2.13,2,    5.90,2
74JC19990315,  Albatross,      62,          1,          3,19990402,       2150,     -60.53,     -48.82,  1465.2,2,  -0.2210,2,  34.6499,2,  34.6503,2,    230.9,2,  231.17,2,  112.53,2,   32.49,2,    2.12,2, -999.00,9
74JC19990315,  Albatross,      62,          1,          2,19990402,       2150,     -60.53,     -48.82,  1511.0,2,  -0.2477,2,  34.6488,2,  34.6491,2,    230.7,2,  232.05,2,  112.03,2,   32.60,2,    2.12,2,    5.44,2
74JC19990315,  Albatross,      62,          1,          1,19990402,       2150,     -60.53,     -48.82,  1511.0,2,  -0.2477,2,  34.6488,2,  34.6493,2,    230.7,2,  232.05,2,  111.13,2,   32.24,2,    2.13,2,    5.44,2
74JC19990315,  Albatross,      63,          1,         12,19990403,       0120,     -60.48,     -48.16,     8.9,2,   0.8907,2,  34.0483,2,  34.0488,2,    314.7,2,  328.25,2,   72.87,2,   23.83,2,    1.68,2, -999.00,9
74JC19990315,  Albatross,      63,          1,         11,19990403,       0120,     -60.48,     -48.16,    54.6,2,   0.4678,2,  34.1763,2,  34.1788,2,    309.3,2,  303.29,2,   79.50,2,   26.37,2,    1.86,2, -999.00,9
74JC19990315,  Albatross,      63,          1,         10,19990403,       0120,     -60.48,     -48.16,   105.9,2,  -0.0370,2,  34.3716,2,  34.3701,2,    294.4,2,  287.57,2,   84.57,2,   30.08,2,    1.99,2, -999.00,9
74JC19990315,  Albatross,      63,          1,          9,19990403,       0120,     -60.48,     -48.16,   258.6,2,  -0.3520,2,  34.5404,2,  34.5403,2,    239.4,2,  241.11,2,   97.25,2,   33.00,2,    2.14,2, -999.00,9
74JC19990315,  Albatross,      63,          1,          8,19990403,       0120,     -60.48,     -48.16,   512.8,2,   0.5590,2,  34.6772,2,  34.6772,2,    201.7,2,  202.27,2,  111.40,2,   33.59,2,    2.20,2, -999.00,9
74JC19990315,  Albatross,      63,          1,          7,19990403,       0120,     -60.48,     -48.16,   766.2,2,   0.4106,2,  34.6772,2,  34.6764,2,    205.8,2,  205.78,2,  117.16,2,   33.68,2,    2.20,2, -999.00,9
74JC19990315,  Albatross,      63,          1,          6,19990403,       0120,     -60.48,     -48.16,  1021.0,2,   0.1958,2,  34.6707,2,  34.6709,2,    213.7,2,  211.51,2,  120.67,2,   33.78,2,    2.22,2, -999.00,9
74JC19990315,  Albatross,      63,          1,          5,19990403,       0120,     -60.48,     -48.16,  1173.1,2,   0.0548,2,  34.6642,2,  34.6635,2,    217.3,2,  217.25,2,  120.38,2,   33.39,2,    2.20,2, -999.00,9
74JC19990315,  Albatross,      63,          1,          4,19990403,       0120,     -60.48,     -48.16,  1275.7,2,  -0.0827,2,  34.6579,2,  34.6584,2,    223.5,2,  223.48,2,  119.21,2,   33.00,2,    2.19,2, -999.00,9
74JC19990315,  Albatross,      63,          1,          3,19990403,       0120,     -60.48,     -48.16,  1327.2,2,  -0.1485,2,  34.6552,2,  34.6550,2,    227.2,2,  226.88,2,  117.75,2,   32.90,2,    2.17,2, -999.00,9
74JC19990315,  Albatross,      63,          1,          2,19990403,       0120,     -60.48,     -48.16,  1378.3,2,  -0.2143,2,  34.6522,2,  34.6527,2,    228.0,2,  229.12,2,  117.06,2,   32.81,2,    2.14,2, -999.00,9
74JC19990315,  Albatross,      63,          1,          1,19990403,       0120,     -60.48,     -48.16,  1378.3,2,  -0.2143,2,  34.6522,2,  34.6525,2,    228.0,2,  229.51,2,  117.75,2,   32.71,2,    2.15,2, -999.00,9
74JC19990315,  Albatross,      64,          1,         15,19990403,       0555,     -60.51,     -47.85,     9.8,2,   0.8623,2,  34.0275,2,  34.0279,2,    333.4,2,  329.43,2,   73.65,2,   24.32,2,    1.72,2, -999.00,9
74JC19990315,  Albatross,      64,          1,         14,19990403,       0555,     -60.51,     -47.85,    55.8,2,   0.8886,2,  34.0708,2,  34.0711,2,    321.2,2,  324.35,2,   73.55,2,   24.52,2,    1.73,2, -999.00,9
74JC19990315,  Albatross,      64,          1,         13,19990403,       0555,     -60.51,     -47.85,   106.2,2,   0.2608,2,  34.1766,2,  34.1755,2,    292.2,2,  297.74,2,   80.28,2,   27.05,2,    1.92,2,    0.45,2
74JC19990315,  Albatross,      64,          1,         12,19990403,       0555,     -60.51,     -47.85,   259.3,2,  -0.4070,2,  34.5686,2,  34.5691,2,    232.2,2,  236.54,2,   95.00,2,   33.30,2,    2.17,2, -999.00,9
74JC19990315,  Albatross,      64,          1,         11,19990403,       0555,     -60.51,     -47.85,   513.4,2,   0.4995,2,  34.6679,2,  34.6680,2,    206.1,2,  204.22,2,  108.67,2,   33.88,2,    2.20,2, -999.00,9
74JC19990315,  Albatross,      64,          1,         10,19990403,       0555,     -60.51,     -47.85,   768.3,2,   0.4129,2,  34.6749,2,  34.6750,2,    209.1,2,  206.75,2,  114.03,2,   33.78,2,    2.22,2,    7.29,2
74JC19990315,  Albatross,      64,          1,          9,19990403,       0555,     -60.51,     -47.85,  1023.2,2,   0.2636,2,  34.6714,2,  34.6711,2,    210.7,2,  210.45,2,  117.35,2,   34.27,2,    2.23,2, -999.00,9
74JC19990315,  Albatross,      64,          1,          8,19990403,       0555,     -60.51,     -47.85,  1278.2,2,   0.0910,2,  34.6651,2,  34.6648,2,    216.4,2,  216.58,2,  118.23,2,   33.78,2,    2.21,2,    5.19,2
74JC19990315,  Albatross,      64,          1,          7,19990403,       0555,     -60.51,     -47.85,  1535.0,2,  -0.2059,2,  34.6524,2,  34.6529,2,    229.8,2,  229.81,2,  114.92,2,   33.49,2,    2.20,2, -999.00,9
74JC19990315,  Albatross,      64,          1,          6,19990403,       0555,     -60.51,     -47.85,  1713.3,2,  -0.4125,2,  34.6437,2,  34.6438,2,    239.0,2,  239.44,2,  111.89,2,   33.10,2,    2.17,2,    5.52,2
74JC19990315,  Albatross,      64,          1,          5,19990403,       0555,     -60.51,     -47.85,  1713.1,2,  -0.4065,2,  34.6441,2,  34.6438,2,    239.0,2,  239.05,2,  111.69,2,   33.29,2,    2.17,2, -999.00,9
74JC19990315,  Albatross,      64,          1,          4,19990403,       0555,     -60.51,     -47.85,  1815.7,2,  -0.4508,2,  34.6424,2,  34.6427,2,    242.0,2,  241.48,2,  110.72,2,   33.10,2,    2.22,2,    5.35,2
74JC19990315,  Albatross,      64,          1,          3,19990403,       0555,     -60.51,     -47.85,  1867.1,2,  -0.4660,2,  34.6423,2,  34.6415,2,    242.9,2,  242.16,2,  111.11,2,   33.10,2,    2.16,2,    5.16,2
74JC19990315,  Albatross,      64,          1,          2,19990403,       0555,     -60.51,     -47.85,  1907.3,2,  -0.4741,2,  34.6422,2,  34.6425,2,    242.0,2,  242.85,2,  112.08,2,   33.39,2,    2.16,2,    5.04,2
74JC19990315,  Albatross,      64,          1,          1,19990403,       0555,     -60.51,     -47.85,  1907.4,2,  -0.4736,2,  34.6421,2,  34.6423,2,    242.0,2,  242.55,2,  111.40,2,   32.90,2,    2.16,2, -999.00,9