BOTTLE,20140822SIOCCHAMB
EXPOCODE,SECT_ID,STNNBR,CASTNO,BTLNBR,DATE,TIME,LATITUDE,LONGITUDE,CTDPRS,CTDPRS_FLAG_W,CTDTMP,CTDTMP_FLAG_W,CTDSAL,CTDSAL_FLAG_W,SALNTY,SALNTY_FLAG_W,CTDOXY,CTDOXY_FLAG_W,OXYGEN,OXYGEN_FLAG_W,SILCAT,SILCAT_FLAG_W,NITRAT,NITRAT_FLAG_W,PHSPHT,PHSPHT_FLAG_W,DELHE3,DELHE3_FLAG_W
,,,,,,,,,DBAR,,ITS-90,,PSS-78,,PSS-78,,UMOL/KG,,UMOL/KG,,UMOL/KG,,UMOL/KG,,UMOL/KG,,PERCNT,
74JC19990315,  Albatross,     108,          1,         18,19990410,       1050,     -58.63,     -30.83,     8.2,2,   1.5193,2,  33.8446,2,  33.8447,2,    319.0,2,  321.27,2,   51.48,2,   23.15,2,    1.54,2,   -1.30,2
74JC19990315,  Albatross,     108,          1,         17,19990410,       1050,     -58.63,     -30.83,    54.6,2,   1.5192,2,  33.8451,2,  33.8459,2,    324.3,2,  321.95,2,   51.29,2,   23.06,2,    1.53,2, -999.00,9
74JC19990315,  Albatross,     108,          1,         16,19990410,       1050,     -58.63,     -30.83,   105.8,2,  -0.0557,2,  34.2591,2,  34.2546,2,    289.1,2,  265.99,2,   77.74,2,   32.62,2,    2.28,2, -999.00,9
74JC19990315,  Albatross,     108,          1,         15,19990410,       1050,     -58.63,     -30.83,   258.9,2,   1.1796,2,  34.6006,2,  34.5993,2,    196.3,2,  195.37,2,   91.49,2,   33.88,2,    2.27,2, -999.00,9
74JC19990315,  Albatross,     108,          1,         14,19990410,       1050,     -58.63,     -30.83,   512.4,2,   0.8345,2,  34.6649,2,  34.6648,2,    200.1,2,  201.10,2,  105.05,2,   32.90,2,    2.23,2, -999.00,9
74JC19990315,  Albatross,     108,          1,         13,19990410,       1050,     -58.63,     -30.83,   766.3,2,   0.7710,2,  34.6853,2,  34.6850,2,    202.0,2,  200.71,2,  113.45,2,   33.10,2,    2.21,2,    8.68,2
74JC19990315,  Albatross,     108,          1,         12,19990410,       1050,     -58.63,     -30.83,  1020.7,2,   0.7276,2,  34.6966,2,  34.6968,2,    202.7,2,  201.39,2,  119.01,2,   33.00,2,    2.22,2, -999.00,9
74JC19990315,  Albatross,     108,          1,         11,19990410,       1050,     -58.63,     -30.83,  1276.8,2,   0.5263,2,  34.6853,2,  34.6854,2,    204.5,2,  204.02,2,  120.58,2,   33.00,2,    2.24,2,   10.09,2
74JC19990315,  Albatross,     108,          1,         10,19990410,       1050,     -58.63,     -30.83,  1533.0,2,   0.3947,2,  34.6838,2,  34.6841,2,    206.8,2,  208.30,2,  123.41,2,   32.71,2,    2.20,2, -999.00,9
74JC19990315,  Albatross,     108,          1,          9,19990410,       1050,     -58.63,     -30.83,  1788.3,2,   0.2545,2,  34.6776,2,  34.6782,2,    210.2,2,  211.90,2,  125.85,2,   33.00,2,    2.24,2,    8.19,2
74JC19990315,  Albatross,     108,          1,          8,19990410,       1050,     -58.63,     -30.83,  2044.8,2,   0.1633,2,  34.6731,2,  34.6735,2,    213.8,2,  213.95,2,  126.43,2,   33.39,2,    2.22,2, -999.00,9
74JC19990315,  Albatross,     108,          1,          7,19990410,       1050,     -58.63,     -30.83,  2558.0,2,  -0.0140,2,  34.6659,2,  34.6654,2,    220.5,2,  222.02,2,  126.63,2,   33.10,2,    2.24,2,    7.62,2
74JC19990315,  Albatross,     108,          1,          6,19990410,       1050,     -58.63,     -30.83,  3068.8,2,  -0.0965,2,  34.6612,2,  34.6613,2,    226.3,2,  226.98,2,  126.83,2,   33.00,2,    2.22,2, -999.00,9
74JC19990315,  Albatross,     108,          1,          5,19990410,       1050,     -58.63,     -30.83,  3399.9,2,  -0.1324,2,  34.6593,2,  34.6595,2,    230.2,2,  229.22,2,  125.17,2,   32.71,2,    2.21,2, -999.00,9
74JC19990315,  Albatross,     108,          1,          4,19990410,       1050,     -58.63,     -30.83,  3504.4,2,  -0.1305,2,  34.6591,2,  34.6588,2,    230.4,2,  229.71,2,  125.75,2,   32.90,2,    2.20,2, -999.00,9
74JC19990315,  Albatross,     108,          1,          3,19990410,       1050,     -58.63,     -30.83,  3548.9,2,  -0.1316,2,  34.6587,2,  34.6588,2,    230.5,2,  229.71,2,  125.65,2,   32.71,2,    2.19,2,    6.55,2
74JC19990315,  Albatross,     108,          1,          2,19990410,       1050,     -58.63,     -30.83,  3596.8,2,  -0.1316,2,  34.6586,2,  34.6588,2,    230.2,2,  230.20,2,  124.97,2,   32.12,2,    2.18,2,    6.55,2
74JC19990315,  Albatross,     108,          1,          1,19990410,       1050,     -58.63,     -30.83,  3596.8,2,  -0.1318,2,  34.6585,2,  34.6580,2,    230.2,2, -999.00,9,  126.53,2,   32.02,2,    2.19,2, -999.00,9
74JC19990315,  Albatross,     109,          1,         19,19990410,       1707,     -58.21,     -30.82,     9.0,2,   1.4948,2,  33.8649,2,  33.8638,2,    320.0,2,  319.05,2,   49.53,2,   22.76,2,    1.49,2, -999.00,9
74JC19990315,  Albatross,     109,          1,         18,19990410,       1707,     -58.21,     -30.82,    55.2,2,   1.4835,2,  33.8660,2,  33.8668,2,    320.8,2,  321.58,2,   50.12,2,   22.66,2,    1.54,2, -999.00,9
74JC19990315,  Albatross,     109,          1,         17,19990410,       1707,     -58.21,     -30.82,   105.4,2,  -0.0044,2,  34.2598,2,  34.2581,2,    273.8,2,  265.01,2,   75.69,2,   31.35,2,    2.21,2, -999.00,9
74JC19990315,  Albatross,     109,          1,         16,19990410,       1707,     -58.21,     -30.82,   259.4,2,   1.2737,2,  34.6039,2,  34.6028,2,    197.6,2,  192.86,2,   88.95,2,   33.20,2,    2.27,2, -999.00,9
74JC19990315,  Albatross,     109,          1,         15,19990410,       1707,     -58.21,     -30.82,   513.1,2,   1.2054,2,  34.6731,2,  34.6733,2,    195.6,2,  194.01,2,   98.12,2,   31.73,2,    2.18,2, -999.00,9
74JC19990315,  Albatross,     109,          1,         14,19990410,       1707,     -58.21,     -30.82,   765.7,2,   1.0870,2,  34.7023,2,  34.7029,2,    196.1,2,  195.27,2,  106.91,2,   31.63,2,    2.15,2, -999.00,9
74JC19990315,  Albatross,     109,          1,         13,19990410,       1707,     -58.21,     -30.82,  1022.4,2,   0.7089,2,  34.6873,2,  34.6878,2,    202.3,2,  202.66,2,  112.28,2,   31.83,2,    2.18,2, -999.00,9
74JC19990315,  Albatross,     109,          1,         12,19990410,       1707,     -58.21,     -30.82,  1277.8,2,   0.5705,2,  34.6830,2,  34.6835,2,    201.8,2,  203.25,2,  115.79,2,   31.83,2,    2.18,2, -999.00,9
74JC19990315,  Albatross,     109,          1,         11,19990410,       1707,     -58.21,     -30.82,  1533.6,2,   0.4459,2,  34.6846,2,  34.6847,2,    204.5,2,  206.46,2,  119.60,2,   32.32,2,    2.19,2, -999.00,9
74JC19990315,  Albatross,     109,          1,         10,19990410,       1707,     -58.21,     -30.82,  1789.3,2,   0.3319,2,  34.6811,2,  34.6809,2,    208.0,2,  210.45,2,  120.97,2,   32.41,2,    2.21,2, -999.00,9
74JC19990315,  Albatross,     109,          1,          9,19990410,       1707,     -58.21,     -30.82,  2045.7,2,   0.2331,2,  34.6769,2,  34.6770,2,    210.1,2,  213.75,2,  122.04,2,   32.22,2,    2.20,2, -999.00,9
74JC19990315,  Albatross,     109,          1,          8,19990410,       1707,     -58.21,     -30.82,  2558.2,2,   0.0542,2,  34.6683,2,  34.6678,2,    218.0,2,  220.17,2,  124.29,2,   32.41,2,    2.20,2, -999.00,9
74JC19990315,  Albatross,     109,          1,          7,19990410,       1707,     -58.21,     -30.82,  3070.3,2,  -0.0373,2,  34.6637,2,  34.6631,2,    223.0,2,  224.26,2,  125.46,2,   32.32,2,    2.22,2, -999.00,9
74JC19990315,  Albatross,     109,          1,          6,19990410,       1707,     -58.21,     -30.82,  3586.9,2,  -0.0413,2,  34.6616,2,  34.6611,2,    227.1,2,  226.89,2,  125.65,2,   32.41,2,    2.22,2, -999.00,9
74JC19990315,  Albatross,     109,          1,          5,19990410,       1707,     -58.21,     -30.82,  3863.5,2,  -0.0212,2,  34.6609,2,  34.6607,2,    227.7,2,  226.01,2,  125.36,2,   32.32,2,    2.21,2, -999.00,9
74JC19990315,  Albatross,     109,          1,          4,19990410,       1707,     -58.21,     -30.82,  3967.3,2,  -0.0457,2,  34.6594,2,  34.6599,2,    229.0,2,  227.67,2,  125.75,2,   32.41,2,    2.21,2, -999.00,9
74JC19990315,  Albatross,     109,          1,          3,19990410,       1707,     -58.21,     -30.82,  4018.1,2,  -0.0534,2,  34.6590,2,  34.6589,2,    229.8,2,  228.35,2,  124.19,2,   32.32,2,    2.20,2, -999.00,9
74JC19990315,  Albatross,     109,          1,          2,19990410,       1707,     -58.21,     -30.82,  4063.4,2,  -0.0581,2,  34.6586,2,  34.6589,2,    228.8,2,  228.25,2,  126.63,2,   32.51,2,    2.22,2, -999.00,9
74JC19990315,  Albatross,     109,          1,          1,19990410,       1707,     -58.21,     -30.82,  4063.4,2,  -0.0581,2,  34.6586,2,  34.6589,2,    228.8,2,  228.35,2,  126.83,2,   32.41,2,    2.22,2, -999.00,9
74JC19990315,  Albatross,     110,          1,         18,19990410,       2240,      -57.8,     -30.83,     9.7,2,   2.1154,2,  33.8848,2,  33.8849,2,    308.7,2,  318.17,2,   42.98,2,   23.34,2,    1.41,2,   -1.19,2
74JC19990315,  Albatross,     110,          1,         17,19990410,       2240,      -57.8,     -30.83,    56.1,2,   1.7557,2,  33.9438,2,  33.9473,2,    316.7,2,  308.42,2,   48.89,2,   24.89,2,    1.61,2, -999.00,9
74JC19990315,  Albatross,     110,          1,         16,19990410,       2240,      -57.8,     -30.83,   107.4,2,   0.5599,2,  34.2941,2,  34.2892,2,    280.9,2,  240.19,2,   72.71,2,   33.84,2,    2.31,2, -999.00,9
74JC19990315,  Albatross,     110,          1,         15,19990410,       2240,      -57.8,     -30.83,   260.2,2,   1.5037,2,  34.5726,2,  34.5705,2,    190.3,2,  186.05,2,   86.84,2,   34.72,2,    2.31,2,    7.64,2
74JC19990315,  Albatross,     110,          1,         14,19990410,       2240,      -57.8,     -30.83,   513.5,2,   1.4755,2,  34.6669,2,  34.6603,2,    188.0,2,  187.10,2,   96.05,2,   33.41,2,    2.22,2, -999.00,9
74JC19990315,  Albatross,     110,          1,         13,19990410,       2240,      -57.8,     -30.83,   768.5,2,   1.2923,2,  34.6988,2,  34.6986,2,    189.0,2,  190.80,2,  104.42,2,   32.51,2,    2.18,2,    9.52,2
74JC19990315,  Albatross,     110,          1,         12,19990410,       2240,      -57.8,     -30.83,  1023.2,2,   1.0146,2,  34.6983,2,  34.6980,2,    197.5,2,  197.02,2,  110.84,2,   32.43,2,    2.17,2,    7.86,2
74JC19990315,  Albatross,     110,          1,         11,19990410,       2240,      -57.8,     -30.83,  1276.6,2,   0.7142,2,  34.6873,2,  34.6872,2,    202.4,2,  202.27,2,  115.64,2,   32.58,2,    2.20,2,    9.03,2
74JC19990315,  Albatross,     110,          1,         10,19990410,       2240,      -57.8,     -30.83,  1534.6,2,   0.5874,2,  34.6878,2,  34.6880,2,    203.9,2,  204.41,2,  119.86,2,   32.72,2,    2.18,2,    8.83,2
74JC19990315,  Albatross,     110,          1,          9,19990410,       2240,      -57.8,     -30.83,  1790.3,2,   0.4803,2,  34.6854,2,  34.6856,2,    205.7,2,  207.23,2,  122.65,2,   32.72,2,    2.22,2, -999.00,9
74JC19990315,  Albatross,     110,          1,          8,19990410,       2240,      -57.8,     -30.83,  2046.3,2,   0.3476,2,  34.6801,2,  34.6803,2,    208.6,2,  210.25,2,  124.54,2,   32.71,2,    2.23,2,    8.43,2
74JC19990315,  Albatross,     110,          1,          7,19990410,       2240,      -57.8,     -30.83,  2542.7,2,   0.1328,2,  34.6700,2,  34.6707,2,    215.6,2,  217.65,2,  126.48,2,   32.99,2,    2.22,2,    6.76,2
74JC19990315,  Albatross,     110,          1,          6,19990410,       2240,      -57.8,     -30.83,  3070.5,2,  -0.0208,2,  34.6633,2,  34.6623,2,    221.8,2,  223.58,2,  127.53,2,   32.64,2,    2.22,2,   10.53,2
74JC19990315,  Albatross,     110,          1,          5,19990410,       2240,      -57.8,     -30.83,  3438.7,2,  -0.0340,2,  34.6608,2,  34.6603,2,    224.1,2,  225.91,2,  127.78,2,   32.51,2,    2.21,2, -999.00,9
74JC19990315,  Albatross,     110,          1,          4,19990410,       2240,      -57.8,     -30.83,  3541.6,2,  -0.0277,2,  34.6606,2,  34.6611,2,    227.1,2,  225.62,2,  127.72,2,   32.33,2,    2.21,2, -999.00,9
74JC19990315,  Albatross,     110,          1,          3,19990410,       2240,      -57.8,     -30.83,  3592.7,2,  -0.0241,2,  34.6604,2,  34.6607,2,    227.8,2,  225.23,2,  128.11,2,   32.19,2,    2.20,2, -999.00,9
74JC19990315,  Albatross,     110,          1,          2,19990410,       2240,      -57.8,     -30.83,  3639.4,2,  -0.0199,2,  34.6600,2,  34.6544,2,    225.9,2,  224.84,2,  127.98,2,   32.19,2,    2.21,2,    6.96,2
74JC19990315,  Albatross,     110,          1,          1,19990410,       2240,      -57.8,     -30.83,  3639.4,2,  -0.0199,2,  34.6600,2,  34.6519,2,    225.9,2,  225.04,2,  127.66,2,   32.03,2,    2.24,2,    6.96,2
74JC19990315,  Albatross,     111,          1,         18,19990411,       0410,     -57.46,     -31.33,    10.9,2,   1.9806,2,  33.8309,2,  33.8310,2,    319.2,2,  320.23,2,   44.94,2,   23.06,2,    1.42,2, -999.00,9
74JC19990315,  Albatross,     111,          1,         17,19990411,       0410,     -57.46,     -31.33,    57.6,2,   1.9964,2,  33.8336,2,  33.8335,2,    321.6,2,  320.72,2,   45.43,2,   23.45,2,    1.42,2, -999.00,9
74JC19990315,  Albatross,     111,          1,         16,19990411,       0410,     -57.46,     -31.33,   108.7,2,   0.5652,2,  34.0030,2,  34.0027,2,    328.0,2,  304.20,2,   60.95,2,   27.45,2,    1.83,2, -999.00,9
74JC19990315,  Albatross,     111,          1,         15,19990411,       0410,     -57.46,     -31.33,   261.7,2,  -0.0414,2,  34.4713,2,  34.4687,2,    232.8,2,  240.05,2,   91.50,2,   33.79,2,    2.27,2, -999.00,9
74JC19990315,  Albatross,     111,          1,         14,19990411,       0410,     -57.46,     -31.33,   515.3,2,   0.7891,2,  34.6723,2,  34.6727,2,    202.8,2,  201.20,2,  107.30,2,   33.39,2,    2.18,2, -999.00,9
74JC19990315,  Albatross,     111,          1,         13,19990411,       0410,     -57.46,     -31.33,   770.1,2,   0.6551,2,  34.6789,2,  34.6784,2,    201.7,2,  202.08,2,  111.89,2,   33.68,2,    2.18,2, -999.00,9
74JC19990315,  Albatross,     111,          1,         12,19990411,       0410,     -57.46,     -31.33,  1024.7,2,   0.5586,2,  34.6829,2,  34.6760,2,    202.3,2,  202.47,2,  115.99,2,   33.39,2,    2.20,2, -999.00,9
74JC19990315,  Albatross,     111,          1,         11,19990411,       0410,     -57.46,     -31.33,  1279.5,2,   0.4808,2,  34.6843,2,  34.6839,2,    204.8,2,  205.38,2,  119.70,2,   33.68,2,    2.22,2, -999.00,9
74JC19990315,  Albatross,     111,          1,         10,19990411,       0410,     -57.46,     -31.33,  1535.6,2,   0.3978,2,  34.6827,2,  34.6833,2,    207.5,2,  207.82,2,  122.14,2,   33.78,2,    2.21,2, -999.00,9
74JC19990315,  Albatross,     111,          1,          9,19990411,       0410,     -57.46,     -31.33,  1791.6,2,   0.2748,2,  34.6778,2,  34.6782,2,    210.6,2,  210.73,2,  123.41,2,   34.07,2,    2.23,2, -999.00,9
74JC19990315,  Albatross,     111,          1,          8,19990411,       0410,     -57.46,     -31.33,  2045.4,2,   0.1623,2,  34.6725,2,  34.6735,2,    214.7,2,  215.21,2,  124.19,2,   33.78,2,    2.23,2, -999.00,9
74JC19990315,  Albatross,     111,          1,          7,19990411,       0410,     -57.46,     -31.33,  2560.2,2,   0.0102,2,  34.6660,2,  34.6650,2,    221.2,2,  221.24,2,  125.75,2,   33.88,2,    2.24,2, -999.00,9
74JC19990315,  Albatross,     111,          1,          6,19990411,       0410,     -57.46,     -31.33,  3072.9,2,  -0.0420,2,  34.6627,2,  34.6625,2,    225.0,2,  224.55,2,  125.56,2,   33.59,2,    2.24,2, -999.00,9
74JC19990315,  Albatross,     111,          1,          5,19990411,       0410,     -57.46,     -31.33,  3627.5,2,  -0.0359,2,  34.6614,2,  34.6589,2,    226.6,2,  225.52,2,  125.56,2,   33.39,2,    2.23,2, -999.00,9
74JC19990315,  Albatross,     111,          1,          4,19990411,       0410,     -57.46,     -31.33,  3731.5,2,  -0.0263,2,  34.6614,2,  34.6591,2,    226.6,2,  225.81,2,  126.92,2,   34.17,2,    2.23,2, -999.00,9
74JC19990315,  Albatross,     111,          1,          3,19990411,       0410,     -57.46,     -31.33,  3782.7,2,  -0.0218,2,  34.6612,2,  34.6611,2,    225.3,2,  225.72,2,  125.95,2,   33.39,2,    2.21,2, -999.00,9
74JC19990315,  Albatross,     111,          1,          2,19990411,       0410,     -57.46,     -31.33,  3813.5,2,  -0.0186,2,  34.6610,2,  34.6615,2,    225.0,2,  225.72,2,  125.56,2,   33.49,2,    2.21,2, -999.00,9
74JC19990315,  Albatross,     111,          1,          1,19990411,       0410,     -57.46,     -31.33,  3813.3,2,  -0.0184,2,  34.6610,2,  34.6607,2,    225.0,2,  225.42,2,  127.22,2,   33.49,2,    2.24,2, -999.00,9