BOTTLE,20140822SIOCCHAMB
EXPOCODE,SECT_ID,STNNBR,CASTNO,BTLNBR,DATE,TIME,LATITUDE,LONGITUDE,CTDPRS,CTDPRS_FLAG_W,CTDTMP,CTDTMP_FLAG_W,CTDSAL,CTDSAL_FLAG_W,SALNTY,SALNTY_FLAG_W,CTDOXY,CTDOXY_FLAG_W,OXYGEN,OXYGEN_FLAG_W,SILCAT,SILCAT_FLAG_W,NITRAT,NITRAT_FLAG_W,PHSPHT,PHSPHT_FLAG_W,DELHE3,DELHE3_FLAG_W
,,,,,,,,,DBAR,,ITS-90,,PSS-78,,PSS-78,,UMOL/KG,,UMOL/KG,,UMOL/KG,,UMOL/KG,,UMOL/KG,,PERCNT,
74JC19990315,  Albatross,     123,          1,          8,19990414,       1730,     -54.22,     -36.44,     8.4,2,   3.7251,2,  33.6161,2,  33.5989,2,    307.7,2,  307.98,2,   18.86,2,   21.20,2,    1.49,2, -999.00,9
74JC19990315,  Albatross,     123,          1,          7,19990414,       1730,     -54.22,     -36.44,    16.9,2,   3.7217,2,  33.6147,2,  33.6147,2,    305.5,2,  307.98,2,   19.44,2,   21.01,2,    1.48,2, -999.00,9
74JC19990315,  Albatross,     123,          1,          6,19990414,       1730,     -54.22,     -36.44,    54.4,2,   3.1104,2,  33.8031,2,  33.7868,2,    297.9,2,  297.49,2,   26.28,2,   23.45,2,    1.61,2, -999.00,9
74JC19990315,  Albatross,     123,          1,          5,19990414,       1730,     -54.22,     -36.44,   105.4,2,   2.8416,2,  33.8302,2,  33.8300,2,    295.7,2,  292.81,2,   29.41,2,   24.62,2,    1.69,2, -999.00,9
74JC19990315,  Albatross,     123,          1,          4,19990414,       1730,     -54.22,     -36.44,   156.4,2,   2.1547,2,  33.9398,2,  33.9401,2,    286.1,2,  273.00,2,   40.05,2,   28.23,2,    1.90,2, -999.00,9
74JC19990315,  Albatross,     123,          1,          3,19990414,       1730,     -54.22,     -36.44,   200.2,2,   1.6332,2,  34.1109,2,  34.1107,2,    250.1,2,  241.61,2,   54.11,2,   31.84,2,    2.15,2, -999.00,9
74JC19990315,  Albatross,     123,          1,          2,19990414,       1730,     -54.22,     -36.44,   244.7,2,   1.6013,2,  34.2069,2,  34.2086,2,    217.4,2,  217.74,2,   63.78,2,   33.21,2,    2.26,2, -999.00,9
74JC19990315,  Albatross,     123,          1,          1,19990414,       1730,     -54.22,     -36.44,   244.7,2,   1.6013,2,  34.2069,2,  34.2052,2,    217.4,2,  217.65,2,   64.95,2,   33.69,2,    2.27,2, -999.00,9
74JC19990315,  Albatross,     124,          1,          6,19990415,       0116,     -53.89,     -38.66,    11.0,2,   3.5324,2,  33.6479,2,  33.6452,2,    311.6,2,  311.67,2,   18.66,2,   21.50,2,    1.44,2, -999.00,9
74JC19990315,  Albatross,     124,          1,          5,19990415,       0116,     -53.89,     -38.66,    56.4,2,   3.4803,2,  33.6496,2,  33.6524,2,    309.9,2,  310.01,2,   19.15,2,   21.69,2,    1.47,2, -999.00,9
74JC19990315,  Albatross,     124,          1,          4,19990415,       0116,     -53.89,     -38.66,   107.3,2,   1.6593,2,  33.9922,2,  33.9923,2,    266.6,2,  263.73,2,   43.76,2,   31.36,2,    2.04,2, -999.00,9
74JC19990315,  Albatross,     124,          1,          3,19990415,       0116,     -53.89,     -38.66,   139.7,2,   1.3294,2,  34.0928,2,  34.0962,2,    248.6,2,  248.52,2,   51.47,2,   32.23,2,    2.20,2, -999.00,9
74JC19990315,  Albatross,     124,          1,          2,19990415,       0116,     -53.89,     -38.66,   169.4,2,   1.3700,2,  34.1420,2,  34.1430,2,    236.1,2,  235.57,2,   56.26,2,   32.92,2,    2.27,2, -999.00,9
74JC19990315,  Albatross,     124,          1,          1,19990415,       0116,     -53.89,     -38.66,   169.4,2,   1.3700,2,  34.1420,2,  34.1373,2,    236.1,2,  236.64,2,   56.55,2,   33.11,2,    2.26,2, -999.00,9
74JC19990315,  Albatross,     125,          1,          9,19990415,       0328,      -53.7,     -38.82,     8.4,2,   3.5653,2,  33.6549,2,  33.6544,2,    313.6,2,  313.71,2,   16.41,2,   21.40,2,    1.41,2, -999.00,9
74JC19990315,  Albatross,     125,          1,          8,19990415,       0328,      -53.7,     -38.82,    54.2,2,   3.4996,2,  33.6608,2,  33.6624,2,    310.9,2,  310.79,2,   17.20,2,   22.18,2,    1.44,2, -999.00,9
74JC19990315,  Albatross,     125,          1,          7,19990415,       0328,      -53.7,     -38.82,   105.3,2,   1.1354,2,  34.0729,2,  34.0743,2,    270.8,2,  271.21,2,   43.27,2,   30.96,2,    2.13,2, -999.00,9
74JC19990315,  Albatross,     125,          1,          6,19990415,       0328,      -53.7,     -38.82,   257.3,2,   2.0196,2,  34.4447,2,  34.4221,2,    185.8,2,  186.47,2,   70.89,2,   35.45,2,    2.37,2, -999.00,9
74JC19990315,  Albatross,     125,          1,          5,19990415,       0328,      -53.7,     -38.82,   523.7,2,   2.0647,2,  34.6109,2,  34.6038,2,    169.3,2,  168.25,2,   85.43,2,   34.76,2,    2.32,2, -999.00,9
74JC19990315,  Albatross,     125,          1,          4,19990415,       0328,      -53.7,     -38.82,   625.0,2,   2.0291,2,  34.6352,2,  34.6336,2,    169.5,2,  169.22,2,   88.26,2,   33.78,2,    2.31,2, -999.00,9
74JC19990315,  Albatross,     125,          1,          3,19990415,       0328,      -53.7,     -38.82,   675.5,2,   2.0157,2,  34.6400,2,  34.6399,2,    169.7,2,  169.12,2,   89.92,2,   34.17,2,    2.31,2, -999.00,9
74JC19990315,  Albatross,     125,          1,          2,19990415,       0328,      -53.7,     -38.82,   717.4,2,   2.0141,2,  34.6400,2,  34.6429,2,    168.6,2,  169.32,2,   89.43,2,   33.98,2,    2.32,2, -999.00,9
74JC19990315,  Albatross,     125,          1,          1,19990415,       0328,      -53.7,     -38.82,   717.1,2,   2.0150,2,  34.6394,2,  34.6429,2,    168.7,2,  169.31,2,   89.04,2,   33.78,2,    2.27,2, -999.00,9
74JC19990315,  Albatross,     126,          1,         11,19990415,       0510,     -53.61,     -38.89,    10.2,2,   3.6272,2,  33.6613,2,  33.6497,2,    311.5,2,  312.55,2,   15.34,2,   21.01,2,    1.41,2,   -1.83,2
74JC19990315,  Albatross,     126,          1,         10,19990415,       0510,     -53.61,     -38.89,    57.0,2,   3.5800,2,  33.6649,2,  33.6720,2,    313.4,2,  312.26,2,   15.34,2,   21.20,2,    1.44,2, -999.00,9
74JC19990315,  Albatross,     126,          1,          9,19990415,       0510,     -53.61,     -38.89,   107.9,2,   1.1042,2,  34.0327,2,  34.0326,2,    267.1,2,  267.72,2,   42.20,2,   30.87,2,    2.17,2,    0.63,2
74JC19990315,  Albatross,     126,          1,          8,19990415,       0510,     -53.61,     -38.89,   259.9,2,   2.0255,2,  34.4490,2,  34.4495,2,    182.9,2,  180.44,2,   71.28,2,   34.86,2,    2.42,2,    6.79,2
74JC19990315,  Albatross,     126,          1,          7,19990415,       0510,     -53.61,     -38.89,   512.7,2,   2.0891,2,  34.6045,2,  34.6044,2,    169.0,2,  169.13,2,   83.77,2,   34.27,2,    2.37,2,    9.26,2
74JC19990315,  Albatross,     126,          1,          6,19990415,       0510,     -53.61,     -38.89,   767.8,2,   1.9444,2,  34.6707,2,  34.6699,2,    171.1,2,  173.01,2,   90.12,2,   33.20,2,    2.29,2, -999.00,9
74JC19990315,  Albatross,     126,          1,          5,19990415,       0510,     -53.61,     -38.89,  1055.8,2,   1.7375,2,  34.7013,2,  34.7017,2,    178.2,2,  181.57,2,   97.34,2,   32.90,2,    2.27,2,   11.60,2
74JC19990315,  Albatross,     126,          1,          4,19990415,       0510,     -53.61,     -38.89,  1157.5,2,   1.6346,2,  34.7071,2,  34.7070,2,    180.9,2,  180.88,2,   99.68,2,   32.61,2,    2.23,2, -999.00,9
74JC19990315,  Albatross,     126,          1,          3,19990415,       0510,     -53.61,     -38.89,  1208.2,2,   1.5859,2,  34.7085,2,  34.7090,2,    183.1,2,  181.76,2,  102.71,2,   32.51,2,    2.24,2, -999.00,9
74JC19990315,  Albatross,     126,          1,          2,19990415,       0510,     -53.61,     -38.89,  1239.3,2,   1.5416,2,  34.7097,2,  34.7102,2,    183.9,2,  183.12,2,  103.20,2,   31.93,2,    2.23,2,   10.87,2
74JC19990315,  Albatross,     126,          1,          1,19990415,       0510,     -53.61,     -38.89,  1239.1,2,   1.5458,2,  34.7096,2,  34.7088,2,    184.0,2,  182.83,2,  106.61,2,   32.12,2,    2.22,2, -999.00,9
74JC19990315,  Albatross,     127,          1,         14,19990415,       0716,     -53.55,     -38.94,     9.7,2,   3.5562,2,  33.6443,2,  33.6288,2,    312.2,2,  312.36,2,   17.00,2,   22.28,2,    1.49,2, -999.00,9
74JC19990315,  Albatross,     127,          1,         13,19990415,       0716,     -53.55,     -38.94,    55.0,2,   3.4981,2,  33.6524,2,  33.6530,2,    310.5,2,  310.30,2,   18.27,2,   22.37,2,    1.51,2, -999.00,9
74JC19990315,  Albatross,     127,          1,         12,19990415,       0716,     -53.55,     -38.94,   106.1,2,   1.1199,2,  34.0588,2,  34.0672,2,    255.9,2,  256.42,2,   45.13,2,   32.23,2,    2.27,2, -999.00,9
74JC19990315,  Albatross,     127,          1,         11,19990415,       0716,     -53.55,     -38.94,   259.0,2,   2.0165,2,  34.4597,2,  34.4611,2,    181.5,2,  178.98,2,   72.85,2,   34.76,2,    2.43,2, -999.00,9
74JC19990315,  Albatross,     127,          1,         10,19990415,       0716,     -53.55,     -38.94,   512.3,2,   2.0736,2,  34.5990,2,  34.5981,2,    167.6,2,  168.45,2,   83.29,2,   33.88,2,    2.34,2, -999.00,9
74JC19990315,  Albatross,     127,          1,          9,19990415,       0716,     -53.55,     -38.94,   765.9,2,   1.9758,2,  34.6654,2,  34.6615,2,    170.1,2,  170.87,2,   88.85,2,   33.20,2,    2.29,2, -999.00,9
74JC19990315,  Albatross,     127,          1,          8,19990415,       0716,     -53.55,     -38.94,  1020.7,2,   1.7303,2,  34.7021,2,  34.7005,2,    176.8,2,  177.97,2,   97.53,2,   32.90,2,    2.27,2, -999.00,9
74JC19990315,  Albatross,     127,          1,          7,19990415,       0716,     -53.55,     -38.94,  1276.2,2,   1.5225,2,  34.7116,2,  34.7106,2,    183.4,2,  184.00,2,  101.83,2,   32.80,2,    2.23,2, -999.00,9
74JC19990315,  Albatross,     127,          1,          6,19990415,       0716,     -53.55,     -38.94,  1531.1,2,   1.3631,2,  34.7122,2,  34.7119,2,    189.1,2,  188.96,2,  105.15,2,   32.61,2,    2.21,2, -999.00,9
74JC19990315,  Albatross,     127,          1,          5,19990415,       0716,     -53.55,     -38.94,  1645.6,2,   1.2827,2,  34.7098,2,  34.7088,2,    191.8,2,  190.12,2,  107.20,2,   32.61,2,    2.21,2, -999.00,9
74JC19990315,  Albatross,     127,          1,          4,19990415,       0716,     -53.55,     -38.94,  1746.6,2,   1.1655,2,  34.7076,2,  34.7082,2,    194.3,2,  193.14,2,  110.13,2,   31.93,2,    2.22,2, -999.00,9
74JC19990315,  Albatross,     127,          1,          3,19990415,       0716,     -53.55,     -38.94,  1797.8,2,   1.0679,2,  34.7045,2,  34.7053,2,    195.5,2,  195.18,2,  109.05,2,   32.51,2,    2.21,2, -999.00,9
74JC19990315,  Albatross,     127,          1,          2,19990415,       0716,     -53.55,     -38.94,  1838.8,2,   1.0336,2,  34.7036,2,  34.7058,2,    195.0,2,  195.86,2,  109.35,2,   31.83,2,    2.21,2, -999.00,9
74JC19990315,  Albatross,     127,          1,          1,19990415,       0716,     -53.55,     -38.94,  1838.6,2,   1.0333,2,  34.7035,2,  34.7049,2,    195.1,2,  196.05,2,  109.25,2,   32.12,2,    2.20,2, -999.00,9
74JC19990315,  Albatross,     128,          1,         17,19990415,       0942,     -53.53,     -38.96,    10.9,2,   3.5871,2,  33.6244,2,  33.6243,2,    313.0,2,  311.31,2,   16.61,2,   21.79,2,    1.48,2,   -1.67,2
74JC19990315,  Albatross,     128,          1,         16,19990415,       0942,     -53.53,     -38.96,    57.0,2,   3.4443,2,  33.6485,2,  33.6491,2,    308.1,2,  310.03,2,   17.59,2,   22.28,2,    1.50,2, -999.00,9
74JC19990315,  Albatross,     128,          1,         15,19990415,       0942,     -53.53,     -38.96,   108.1,2,   1.1086,2,  34.0512,2,  34.0492,2,    259.5,2,  259.84,2,   42.69,2,   32.43,2,    2.42,2,    0.41,2
74JC19990315,  Albatross,     128,          1,         14,19990415,       0942,     -53.53,     -38.96,   260.6,2,   1.9896,2,  34.4471,2,  34.4464,2,    184.3,2,  183.66,2,   70.99,2,   34.67,2,    2.42,2, -999.00,9
74JC19990315,  Albatross,     128,          1,         13,19990415,       0942,     -53.53,     -38.96,   514.3,2,   2.0731,2,  34.6066,2,  34.6072,2,    169.7,2,  168.65,2,   83.77,2,   34.66,2,    2.36,2,   10.02,2
74JC19990315,  Albatross,     128,          1,         12,19990415,       0942,     -53.53,     -38.96,   516.1,2,   2.0675,2,  34.6087,2,-999.0000,9,    169.7,2, -999.00,9, -999.00,9, -999.00,9, -999.00,9, -999.00,9
74JC19990315,  Albatross,     128,          1,         11,19990415,       0942,     -53.53,     -38.96,   768.0,2,   1.9352,2,  34.6727,2,  34.6733,2,    172.0,2,  171.75,2,   89.92,2,   33.68,2,    2.29,2, -999.00,9
74JC19990315,  Albatross,     128,          1,         10,19990415,       0942,     -53.53,     -38.96,  1022.2,2,   1.7210,2,  34.7038,2,  34.7005,2,    177.3,2,  178.46,2,   96.95,2,   32.90,2,    2.26,2,   11.04,2
74JC19990315,  Albatross,     128,          1,          9,19990415,       0942,     -53.53,     -38.96,  1277.3,2,   1.5654,2,  34.7110,2,  34.7096,2,    182.6,2,  182.64,2,  101.14,2,   32.22,2,    2.24,2, -999.00,9
74JC19990315,  Albatross,     128,          1,          8,19990415,       0942,     -53.53,     -38.96,  1532.6,2,   1.3138,2,  34.7111,2,  34.7127,2,    188.7,2,  189.94,2,  105.73,2,   32.32,2,    2.22,2,   10.55,2
74JC19990315,  Albatross,     128,          1,          7,19990415,       0942,     -53.53,     -38.96,  1788.0,2,   1.1235,2,  34.7123,2,  34.7117,2,    193.9,2,  195.29,2,  109.74,2,   32.51,2,    2.22,2,    9.85,2
74JC19990315,  Albatross,     128,          1,          6,19990415,       0942,     -53.53,     -38.96,  2043.7,2,   0.8405,2,  34.6996,2,  34.7002,2,    198.6,2,  200.34,2,  116.08,2,   32.71,2,    2.23,2,    9.69,2
74JC19990315,  Albatross,     128,          1,          5,19990415,       0942,     -53.53,     -38.96,  2187.6,2,   0.7532,2,  34.6969,2,  34.6968,2,    201.3,2,  195.77,2,  118.43,2,   32.51,2,    2.25,2,    9.56,2
74JC19990315,  Albatross,     128,          1,          4,19990415,       0942,     -53.53,     -38.96,  2290.7,2,   0.7138,2,  34.6957,2,  34.6956,2,    202.4,2,  202.77,2,  120.09,2,   32.90,2,    2.24,2, -999.00,9
74JC19990315,  Albatross,     128,          1,          3,19990415,       0942,     -53.53,     -38.96,  2342.2,2,   0.7007,2,  34.6952,2,  34.6947,2,    203.3,2,  202.77,2,  120.97,2,   32.90,2,    2.23,2, -999.00,9
74JC19990315,  Albatross,     128,          1,          2,19990415,       0942,     -53.53,     -38.96,  2382.8,2,   0.6833,2,  34.6942,2,  34.6911,2,    202.5,2,  203.06,2,  121.75,2,   32.41,2,    2.23,2,    9.29,2
74JC19990315,  Albatross,     128,          1,          1,19990415,       0942,     -53.53,     -38.96,  2382.8,2,   0.6837,2,  34.6941,2,  34.6917,2,    202.5,2,  203.94,2,  122.23,2,   33.00,2,    2.23,2, -999.00,9
74JC19990315,  Albatross,     129,          1,         17,19990415,       1301,     -53.49,      -39.0,    10.1,2,   3.6016,2,  33.6168,2,  33.6169,2,    313.8,2,  311.30,2,   17.39,2,   21.11,2,    1.47,2, -999.00,9
74JC19990315,  Albatross,     129,          1,         16,19990415,       1301,     -53.49,      -39.0,    56.2,2,   3.5925,2,  33.6182,2,  33.6181,2,    308.7,2,  311.39,2,   17.59,2,   21.11,2,    1.48,2, -999.00,9
74JC19990315,  Albatross,     129,          1,         15,19990415,       1301,     -53.49,      -39.0,   107.5,2,   1.4006,2,  33.9150,2,  33.9149,2,    291.8,2,  291.50,2,   29.50,2,   26.28,2,    2.02,2, -999.00,9
74JC19990315,  Albatross,     129,          1,         14,19990415,       1301,     -53.49,      -39.0,   259.7,2,   2.0008,2,  34.4041,2,  34.4031,2,    190.4,2,  188.72,2,   68.75,2,   33.79,2,    2.38,2, -999.00,9
74JC19990315,  Albatross,     129,          1,         13,19990415,       1301,     -53.49,      -39.0,   513.9,2,   2.0750,2,  34.5936,2,  34.5930,2,    169.3,2,  168.84,2,   86.51,2,   33.69,2,    2.33,2, -999.00,9
74JC19990315,  Albatross,     129,          1,         12,19990415,       1301,     -53.49,      -39.0,   767.8,2,   1.9501,2,  34.6714,2,  34.6719,2,    170.7,2,  170.87,2,   92.17,2,   32.22,2,    2.27,2, -999.00,9
74JC19990315,  Albatross,     129,          1,         11,19990415,       1301,     -53.49,      -39.0,  1021.9,2,   1.7744,2,  34.6990,2,  34.6996,2,    175.4,2,  175.92,2,   98.02,2,   31.83,2,    2.24,2, -999.00,9
74JC19990315,  Albatross,     129,          1,         10,19990415,       1301,     -53.49,      -39.0,  1277.0,2,   1.5588,2,  34.7112,2,  34.7115,2,    182.5,2,  182.63,2,  104.07,2,   32.51,2,    2.23,2, -999.00,9
74JC19990315,  Albatross,     129,          1,          9,19990415,       1301,     -53.49,      -39.0,  1532.6,2,   1.3230,2,  34.7128,2,  34.7106,2,    188.3,2,  189.44,2,  107.59,2,   31.83,2,    2.21,2, -999.00,9
74JC19990315,  Albatross,     129,          1,          8,19990415,       1301,     -53.49,      -39.0,  1788.0,2,   1.1297,2,  34.7098,2,  34.7104,2,    193.3,2,  194.30,2,  111.20,2,   31.53,2,    2.19,2, -999.00,9
74JC19990315,  Albatross,     129,          1,          7,19990415,       1301,     -53.49,      -39.0,  2043.6,2,   0.9124,2,  34.7017,2,  34.7027,2,    197.8,2,  198.19,2,  116.86,2,   31.73,2,    2.20,2, -999.00,9
74JC19990315,  Albatross,     129,          1,          6,19990415,       1301,     -53.49,      -39.0,  2556.7,2,   0.5924,2,  34.6902,2,  34.6909,2,    205.4,2,  205.39,2,  125.85,2,   31.53,2,    2.20,2, -999.00,9
74JC19990315,  Albatross,     129,          1,          5,19990415,       1301,     -53.49,      -39.0,  2742.2,2,   0.5199,2,  34.6873,2,  34.6874,2,    207.2,2,  207.14,2,  123.99,2,   31.83,2,    2.22,2, -999.00,9
74JC19990315,  Albatross,     129,          1,          4,19990415,       1301,     -53.49,      -39.0,  2844.4,2,   0.5153,2,  34.6868,2,  34.6870,2,    207.9,2,  207.24,2,  124.19,2,   32.51,2,    2.22,2, -999.00,9
74JC19990315,  Albatross,     129,          1,          3,19990415,       1301,     -53.49,      -39.0,  2895.7,2,   0.5128,2,  34.6866,2,  34.6850,2,    208.0,2,  207.43,2,  124.38,2,   32.02,2,    2.21,2, -999.00,9
74JC19990315,  Albatross,     129,          1,          2,19990415,       1301,     -53.49,      -39.0,  2941.3,2,   0.5087,2,  34.6862,2,  34.6870,2,    207.4,2,  207.63,2,  125.55,2,   32.51,2,    2.21,2, -999.00,9
74JC19990315,  Albatross,     129,          1,          1,19990415,       1301,     -53.49,      -39.0,  2941.3,2,   0.5087,2,  34.6862,2,  34.6848,2,    207.4,2,  207.14,2,  125.07,2,   31.54,2,    2.19,2, -999.00,9