BOTTLE,20140822SIOCCHAMB
EXPOCODE,SECT_ID,STNNBR,CASTNO,BTLNBR,DATE,TIME,LATITUDE,LONGITUDE,CTDPRS,CTDPRS_FLAG_W,CTDTMP,CTDTMP_FLAG_W,CTDSAL,CTDSAL_FLAG_W,SALNTY,SALNTY_FLAG_W,CTDOXY,CTDOXY_FLAG_W,OXYGEN,OXYGEN_FLAG_W,SILCAT,SILCAT_FLAG_W,NITRAT,NITRAT_FLAG_W,PHSPHT,PHSPHT_FLAG_W,DELHE3,DELHE3_FLAG_W
,,,,,,,,,DBAR,,ITS-90,,PSS-78,,PSS-78,,UMOL/KG,,UMOL/KG,,UMOL/KG,,UMOL/KG,,UMOL/KG,,PERCNT,
74JC19990315,  Albatross,     134,          1,         24,19990416,       1326,     -52.48,     -39.81,  1329.8,2,   1.3811,2,  34.7148,2,  34.7129,2,    186.6,2, -999.00,9, -999.00,9, -999.00,9, -999.00,9, -999.00,9
74JC19990315,  Albatross,     134,          1,         23,19990416,       1326,     -52.48,     -39.81,  1329.7,2,   1.3814,2,  34.7148,2,  34.7141,2,    186.6,2, -999.00,9, -999.00,9, -999.00,9, -999.00,9, -999.00,9
74JC19990315,  Albatross,     134,          1,         22,19990416,       1326,     -52.48,     -39.81,  1329.4,2,   1.3812,2,  34.7147,2,  34.7141,2,    186.5,2, -999.00,9, -999.00,9, -999.00,9, -999.00,9, -999.00,9
74JC19990315,  Albatross,     134,          1,         21,19990416,       1326,     -52.48,     -39.81,  1329.8,2,   1.3807,2,  34.7149,2,  34.7131,2,    186.6,2, -999.00,9, -999.00,9, -999.00,9, -999.00,9, -999.00,9
74JC19990315,  Albatross,     134,          1,         20,19990416,       1326,     -52.48,     -39.81,  1329.9,2,   1.3815,2,  34.7150,2,  34.7131,2,    186.6,2, -999.00,9, -999.00,9, -999.00,9, -999.00,9, -999.00,9
74JC19990315,  Albatross,     134,          1,         19,19990416,       1326,     -52.48,     -39.81,  1330.1,2,   1.3817,2,  34.7151,2,  34.7131,2,    186.6,2, -999.00,9, -999.00,9, -999.00,9, -999.00,9, -999.00,9
74JC19990315,  Albatross,     134,          1,         18,19990416,       1326,     -52.48,     -39.81,  1329.9,2,   1.3823,2,  34.7152,2,  34.7139,2,    186.6,2, -999.00,9, -999.00,9, -999.00,9, -999.00,9, -999.00,9
74JC19990315,  Albatross,     134,          1,         17,19990416,       1326,     -52.48,     -39.81,  1329.7,2,   1.3826,2,  34.7152,2,  34.7143,2,    186.6,2, -999.00,9, -999.00,9, -999.00,9, -999.00,9, -999.00,9
74JC19990315,  Albatross,     134,          1,         16,19990416,       1326,     -52.48,     -39.81,  1329.7,2,   1.3839,2,  34.7153,2,  34.7143,2,    186.6,2, -999.00,9, -999.00,9, -999.00,9, -999.00,9, -999.00,9
74JC19990315,  Albatross,     134,          1,         15,19990416,       1326,     -52.48,     -39.81,  1329.9,2,   1.3841,2,  34.7153,2,  34.7141,2,    186.6,2, -999.00,9, -999.00,9, -999.00,9, -999.00,9, -999.00,9
74JC19990315,  Albatross,     134,          1,         14,19990416,       1326,     -52.48,     -39.81,  1330.0,2,   1.3839,2,  34.7154,2,  34.7143,2,    186.6,2, -999.00,9, -999.00,9, -999.00,9, -999.00,9, -999.00,9
74JC19990315,  Albatross,     134,          1,         13,19990416,       1326,     -52.48,     -39.81,  1329.8,2,   1.3844,2,  34.7155,2,  34.7096,2,    186.6,2, -999.00,9, -999.00,9, -999.00,9, -999.00,9, -999.00,9
74JC19990315,  Albatross,     134,          1,         12,19990416,       1326,     -52.48,     -39.81,  1329.8,2,   1.3839,2,  34.7154,2,  34.7133,2,    186.6,2, -999.00,9, -999.00,9, -999.00,9, -999.00,9, -999.00,9
74JC19990315,  Albatross,     134,          1,         11,19990416,       1326,     -52.48,     -39.81,  1329.9,2,   1.3838,2,  34.7154,2,  34.7143,2,    186.6,2,  187.80,2, -999.00,9, -999.00,9, -999.00,9, -999.00,9
74JC19990315,  Albatross,     134,          1,         10,19990416,       1326,     -52.48,     -39.81,  1329.9,2,   1.3840,2,  34.7155,2,  34.7139,2,    186.6,2,  187.70,2,  107.30,2,   32.61,2,    2.18,2, -999.00,9
74JC19990315,  Albatross,     134,          1,          9,19990416,       1326,     -52.48,     -39.81,  1329.9,2,   1.3847,2,  34.7156,2,  34.7137,2,    186.6,2,  187.41,2,  107.49,2,   33.19,2,    2.19,2, -999.00,9
74JC19990315,  Albatross,     134,          1,          8,19990416,       1326,     -52.48,     -39.81,  1329.8,2,   1.3872,2,  34.7158,2,  34.7147,2,    186.6,2,  187.51,2,  107.20,2,   32.90,2,    2.21,2, -999.00,9
74JC19990315,  Albatross,     134,          1,          7,19990416,       1326,     -52.48,     -39.81,  1329.8,2,   1.3888,2,  34.7157,2,  34.7149,2,    186.6,2,  187.50,2,  106.90,2,   32.41,2,    2.21,2, -999.00,9
74JC19990315,  Albatross,     134,          1,          6,19990416,       1326,     -52.48,     -39.81,  1330.0,2,   1.3896,2,  34.7160,2,  34.7149,2,    186.6,2,  187.31,2,  106.61,2,   32.22,2,    2.17,2, -999.00,9
74JC19990315,  Albatross,     134,          1,          5,19990416,       1326,     -52.48,     -39.81,  1329.7,2,   1.3909,2,  34.7160,2,  34.7147,2,    186.6,2,  186.82,2,  107.10,2,   32.41,2,    2.25,2, -999.00,9
74JC19990315,  Albatross,     134,          1,          4,19990416,       1326,     -52.48,     -39.81,  1329.8,2,   1.3915,2,  34.7161,2,-999.0000,9,    186.6,2, -999.00,9,  107.10,2,   33.19,2,    2.18,2, -999.00,9
74JC19990315,  Albatross,     134,          1,          3,19990416,       1326,     -52.48,     -39.81,  1330.1,2,   1.3917,2,  34.7160,2,  34.7149,2,    186.6,2,  187.30,2,  107.49,2,   32.80,2,    2.21,2, -999.00,9
74JC19990315,  Albatross,     134,          1,          2,19990416,       1326,     -52.48,     -39.81,  1329.6,2,   1.3919,2,  34.7159,2,  34.7151,2,    186.6,2,  186.91,2,  107.78,2,   32.61,2,    2.23,2, -999.00,9
74JC19990315,  Albatross,     134,          1,          1,19990416,       1326,     -52.48,     -39.81,  1329.7,2,   1.3913,2,  34.7161,2,  34.7151,2,    186.6,2,  187.20,2,  108.56,2,   31.92,2,    2.19,2, -999.00,9
74JC19990315,  Albatross,     135,          1,         18,19990416,       1814,      -52.2,     -40.04,     9.8,2,   4.3750,2,  33.7302,2,  33.7300,2,    308.0,2,  307.59,2,   11.25,2,   20.88,2,    1.46,2, -999.00,9
74JC19990315,  Albatross,     135,          1,         17,19990416,       1814,      -52.2,     -40.04,    56.2,2,   4.3385,2,  33.7383,2,  33.7382,2,    306.6,2,  307.19,2,   11.00,2,   20.70,2,    1.34,2, -999.00,9
74JC19990315,  Albatross,     135,          1,         16,19990416,       1814,      -52.2,     -40.04,   107.1,2,   1.3414,2,  33.9305,2,  33.9293,2,    292.5,2,  292.08,2,   33.07,2,   28.48,2,    1.94,2, -999.00,9
74JC19990315,  Albatross,     135,          1,         15,19990416,       1814,      -52.2,     -40.04,   260.5,2,   2.0141,2,  34.4141,2,  34.4133,2,    190.0,2,  185.99,2,   68.91,2,   34.87,2,    2.37,2, -999.00,9
74JC19990315,  Albatross,     135,          1,         14,19990416,       1814,      -52.2,     -40.04,   514.5,2,   2.0458,2,  34.6263,2,  34.6264,2,    170.5,2,  169.42,2,   86.06,2,   33.81,2,    2.27,2, -999.00,9
74JC19990315,  Albatross,     135,          1,         13,19990416,       1814,      -52.2,     -40.04,   764.0,2,   1.8713,2,  34.6873,2,  34.6868,2,    172.9,2,  174.08,2,   94.42,2,   32.62,2,    2.19,2, -999.00,9
74JC19990315,  Albatross,     135,          1,         12,19990416,       1814,      -52.2,     -40.04,  1020.4,2,   1.7512,2,  34.7016,2,  34.7013,2,    176.6,2,  177.38,2,   97.64,2,   32.31,2,    2.18,2, -999.00,9
74JC19990315,  Albatross,     135,          1,         11,19990416,       1814,      -52.2,     -40.04,  1277.2,2,   1.5978,2,  34.7113,2,  34.7117,2,    181.2,2,  182.34,2,  102.06,2,   32.47,2,    2.20,2, -999.00,9
74JC19990315,  Albatross,     135,          1,         10,19990416,       1814,      -52.2,     -40.04,  1529.4,2,   1.3545,2,  34.7139,2,  34.7153,2,    187.8,2,  188.66,2,  107.14,2,   32.54,2,    2.12,2, -999.00,9
74JC19990315,  Albatross,     135,          1,          9,19990416,       1814,      -52.2,     -40.04,  1786.1,2,   1.0802,2,  34.7083,2,  34.7096,2,    193.9,2,  194.99,2,  112.34,2,   32.47,2,    2.14,2, -999.00,9
74JC19990315,  Albatross,     135,          1,          8,19990416,       1814,      -52.2,     -40.04,  2041.1,2,   0.8775,2,  34.7010,2,  34.7021,2,    198.8,2,  199.36,2,  116.59,2,   33.18,2,    2.16,2, -999.00,9
74JC19990315,  Albatross,     135,          1,          7,19990416,       1814,      -52.2,     -40.04,  2555.5,2,   0.5830,2,  34.6900,2,  34.6911,2,    205.4,2,  205.68,2,  121.31,2,   33.04,2,    2.13,2, -999.00,9
74JC19990315,  Albatross,     135,          1,          6,19990416,       1814,      -52.2,     -40.04,  3068.9,2,   0.3230,2,  34.6773,2,  34.6780,2,    212.4,2,  214.25,2,  124.35,2,   33.27,2,    2.15,2, -999.00,9
74JC19990315,  Albatross,     135,          1,          5,19990416,       1814,      -52.2,     -40.04,  3600.0,2,   0.1194,2,  34.6707,2,  34.6701,2,    219.7,2,  219.11,2,  128.12,2,   33.55,2,    2.34,2, -999.00,9
74JC19990315,  Albatross,     135,          1,          4,19990416,       1814,      -52.2,     -40.04,  3704.1,2,   0.0477,2,  34.6666,2,  34.6660,2,    222.3,2,  221.83,2,  130.21,2,   33.04,2,    2.16,2, -999.00,9
74JC19990315,  Albatross,     135,          1,          3,19990416,       1814,      -52.2,     -40.04,  3748.3,2,   0.0137,2,  34.6652,2,  34.6644,2,    223.7,2,  222.90,2,  132.01,2,   33.28,2,    2.15,2, -999.00,9
74JC19990315,  Albatross,     135,          1,          2,19990416,       1814,      -52.2,     -40.04,  3806.3,2,  -0.0328,2,  34.6627,2,  34.6623,2,    223.5,2,  223.10,2,  137.26,2,   33.29,2,    2.16,2, -999.00,9
74JC19990315,  Albatross,     135,          1,          1,19990416,       1814,      -52.2,     -40.04,  3806.3,2,  -0.0328,2,  34.6627,2,  34.6621,2,    223.5,2,  222.71,2,  137.45,2,   33.01,2,    2.16,2, -999.00,9
74JC19990315,  Albatross,     136,          1,         18,19990416,       2306,     -51.92,     -40.26,     9.7,2,   4.3627,2,  33.7317,2,  33.7327,2,    305.6,2,  306.63,2,   10.26,2,   20.71,2,    1.38,2,   -1.72,2
74JC19990315,  Albatross,     136,          1,         17,19990416,       2306,     -51.92,     -40.26,    55.5,2,   4.3192,2,  33.7404,2,  33.7397,2,    303.7,2,  305.94,2,   10.16,2,   20.42,2,    1.38,2, -999.00,9
74JC19990315,  Albatross,     136,          1,         16,19990416,       2306,     -51.92,     -40.26,   106.3,2,   1.2032,2,  33.9125,2,  33.9192,2,    298.9,2,  295.62,2,   32.04,2,   27.84,2,    2.02,2, -999.00,9
74JC19990315,  Albatross,     136,          1,         15,19990416,       2306,     -51.92,     -40.26,   259.8,2,   1.7458,2,  34.3621,2,  34.3611,2,    200.2,2,  196.82,2,   66.70,2,   36.13,2,    2.41,2, -999.00,9
74JC19990315,  Albatross,     136,          1,         14,19990416,       2306,     -51.92,     -40.26,   513.9,2,   2.0553,2,  34.6070,2,  34.6062,2,    171.9,2,  169.73,2,   84.65,2,   34.17,2,    2.33,2, -999.00,9
74JC19990315,  Albatross,     136,          1,         13,19990416,       2306,     -51.92,     -40.26,   767.9,2,   1.9267,2,  34.6824,2,  34.6819,2,    173.2,2,  171.96,2,   92.36,2,   33.19,2,    2.27,2,   11.41,2
74JC19990315,  Albatross,     136,          1,         12,19990416,       2306,     -51.92,     -40.26,  1022.2,2,   1.7265,2,  34.7092,2,  34.7088,2,    178.2,2,  178.66,2,   98.22,2,   34.46,2,    2.22,2, -999.00,9
74JC19990315,  Albatross,     136,          1,         11,19990416,       2306,     -51.92,     -40.26,  1277.4,2,   1.4578,2,  34.7142,2,  34.7143,2,    184.2,2,  185.47,2,  103.98,2,   32.12,2,    2.26,2, -999.00,9
74JC19990315,  Albatross,     136,          1,         10,19990416,       2306,     -51.92,     -40.26,  1532.9,2,   1.2372,2,  34.7165,2,  34.7166,2,    189.8,2,  192.57,2,  108.37,2,   31.92,2,    2.17,2, -999.00,9
74JC19990315,  Albatross,     136,          1,          9,19990416,       2306,     -51.92,     -40.26,  1787.5,2,   1.0059,2,  34.7058,2,  34.7076,2,    194.2,2,  196.26,2,  113.15,2,   32.32,2,    2.19,2,    8.94,2
74JC19990315,  Albatross,     136,          1,          8,19990416,       2306,     -51.92,     -40.26,  2042.2,2,   0.8057,2,  34.6996,2,  34.7011,2,    197.9,2,  200.74,2,  116.57,2,   32.02,2,    2.19,2,    9.74,2
74JC19990315,  Albatross,     136,          1,          7,19990416,       2306,     -51.92,     -40.26,  2553.6,2,   0.5510,2,  34.6883,2,  34.6892,2,    204.8,2,  206.67,2,  121.36,2,   32.51,2,    2.24,2,    8.76,2
74JC19990315,  Albatross,     136,          1,          6,19990416,       2306,     -51.92,     -40.26,  3065.7,2,   0.3368,2,  34.6781,2,  34.6786,2,    211.8,2,  212.31,2,  122.82,2,   33.29,2,    2.24,2,    7.80,2
74JC19990315,  Albatross,     136,          1,          5,19990416,       2306,     -51.92,     -40.26,  3579.8,2,   0.1010,2,  34.6696,2,  34.6688,2,    219.9,2,  218.83,2,  127.90,2,   32.61,2,    2.27,2, -999.00,9
74JC19990315,  Albatross,     136,          1,          4,19990416,       2306,     -51.92,     -40.26,  3683.1,2,   0.0275,2,  34.6658,2,  34.6652,2,    221.9,2,  220.87,2,  130.44,2,   34.07,2,    2.24,2, -999.00,9
74JC19990315,  Albatross,     136,          1,          3,19990416,       2306,     -51.92,     -40.26,  3735.6,2,  -0.0090,2,  34.6644,2,  34.6637,2,    222.9,2,  221.74,2,  132.88,2,   32.51,2,    2.26,2, -999.00,9
74JC19990315,  Albatross,     136,          1,          2,19990416,       2306,     -51.92,     -40.26,  3776.4,2,  -0.0492,2,  34.6623,2,  34.6623,2,    223.2,2,  222.62,2,  136.20,2,   32.32,2,    2.29,2,    6.68,2
74JC19990315,  Albatross,     136,          1,          1,19990416,       2306,     -51.92,     -40.26,  3776.4,2,  -0.0492,2,  34.6623,2,  34.6620,2,    223.2,2,  222.52,2,  135.61,2,   32.22,2,    2.25,2,    6.68,2
74JC19990315,  Albatross,     137,          1,         18,19990417,       0410,     -51.64,     -40.49,     9.7,2,   3.9445,2,  33.7163,2,  33.7159,2,    312.7,2,  312.05,2,   14.26,2,   22.47,2,    1.41,2, -999.00,9
74JC19990315,  Albatross,     137,          1,         17,19990417,       0410,     -51.64,     -40.49,    57.5,2,   3.6212,2,  33.7347,2,  33.7360,2,    311.7,2,  309.01,2,   14.75,2,   23.25,2,    1.42,2, -999.00,9
74JC19990315,  Albatross,     137,          1,         16,19990417,       0410,     -51.64,     -40.49,   108.1,2,   1.2737,2,  33.9769,2,  33.9771,2,    278.2,2,  282.81,2,   35.75,2,   31.65,2,    1.98,2, -999.00,9
74JC19990315,  Albatross,     137,          1,         15,19990417,       0410,     -51.64,     -40.49,   260.7,2,   2.1319,2,  34.3842,2,  34.3831,2,    195.9,2,  193.78,2,   64.94,2,   34.86,2,    2.33,2, -999.00,9
74JC19990315,  Albatross,     137,          1,         14,19990417,       0410,     -51.64,     -40.49,   514.5,2,   2.1522,2,  34.5896,2,  34.5883,2,    170.6,2,  168.55,2,   83.58,2,   34.95,2,    2.33,2, -999.00,9
74JC19990315,  Albatross,     137,          1,         13,19990417,       0410,     -51.64,     -40.49,   769.1,2,   2.0266,2,  34.6713,2,  34.6709,2,    170.5,2,  169.31,2,   91.77,2,   33.49,2,    2.24,2, -999.00,9
74JC19990315,  Albatross,     137,          1,         12,19990417,       0410,     -51.64,     -40.49,  1022.9,2,   1.8556,2,  34.7030,2,  34.7025,2,    174.7,2,  173.88,2,   98.61,2,   33.39,2,    2.22,2, -999.00,9
74JC19990315,  Albatross,     137,          1,         11,19990417,       0410,     -51.64,     -40.49,  1278.8,2,   1.6459,2,  34.7186,2,  34.7178,2,    181.4,2,  181.56,2,  103.10,2,   32.90,2,    2.15,2, -999.00,9
74JC19990315,  Albatross,     137,          1,         10,19990417,       0410,     -51.64,     -40.49,  1533.7,2,   1.3836,2,  34.7155,2,  34.7164,2,    187.2,2,  187.20,2, -999.00,9, -999.00,9, -999.00,9, -999.00,9
74JC19990315,  Albatross,     137,          1,          9,19990417,       0410,     -51.64,     -40.49,  1788.4,2,   1.1316,2,  34.7090,2,  34.7100,2,    192.0,2,  193.72,2, -999.00,9, -999.00,9, -999.00,9, -999.00,9
74JC19990315,  Albatross,     137,          1,          8,19990417,       0410,     -51.64,     -40.49,  2044.6,2,   0.9322,2,  34.7034,2,  34.7047,2,    195.6,2,  198.10,2,  116.18,2,   33.00,2,    2.21,2, -999.00,9
74JC19990315,  Albatross,     137,          1,          7,19990417,       0410,     -51.64,     -40.49,  2554.3,2,   0.6161,2,  34.6905,2,  34.6917,2,    202.9,2,  205.20,2,  120.18,2,   33.59,2,    2.20,2, -999.00,9
74JC19990315,  Albatross,     137,          1,          6,19990417,       0410,     -51.64,     -40.49,  3068.9,2,   0.3697,2,  34.6786,2,  34.6799,2,    209.7,2,  211.82,2,  123.90,2,   32.80,2,    2.24,2, -999.00,9
74JC19990315,  Albatross,     137,          1,          5,19990417,       0410,     -51.64,     -40.49,  3585.3,2,   0.1185,2,  34.6693,2,  34.6680,2,    219.5,2,  218.53,2,  129.36,2,   34.46,2,    2.22,2, -999.00,9
74JC19990315,  Albatross,     137,          1,          4,19990417,       0410,     -51.64,     -40.49,  3688.9,2,   0.0386,2,  34.6659,2,  34.6644,2,    221.8,2,  220.96,2,  131.22,2,   33.10,2,    2.23,2, -999.00,9
74JC19990315,  Albatross,     137,          1,          3,19990417,       0410,     -51.64,     -40.49,  3740.5,2,  -0.0238,2,  34.6629,2,  34.6627,2,    224.7,2,  222.13,2,  136.20,2,   32.51,2,    2.25,2, -999.00,9
74JC19990315,  Albatross,     137,          1,          2,19990417,       0410,     -51.64,     -40.49,  3781.4,2,  -0.0758,2,  34.6602,2,  34.6603,2,    223.1,2,  222.91,2,  139.32,2,   32.61,2,    2.26,2, -999.00,9
74JC19990315,  Albatross,     137,          1,          1,19990417,       0410,     -51.64,     -40.49,  3781.5,2,  -0.0762,2,  34.6602,2,  34.6603,2,    223.1,2,  223.20,2,  139.23,2,   32.80,2,    2.24,2, -999.00,9