BOTTLE,20140822SIOCCHAMB
EXPOCODE,SECT_ID,STNNBR,CASTNO,BTLNBR,DATE,TIME,LATITUDE,LONGITUDE,CTDPRS,CTDPRS_FLAG_W,CTDTMP,CTDTMP_FLAG_W,CTDSAL,CTDSAL_FLAG_W,SALNTY,SALNTY_FLAG_W,CTDOXY,CTDOXY_FLAG_W,OXYGEN,OXYGEN_FLAG_W,SILCAT,SILCAT_FLAG_W,NITRAT,NITRAT_FLAG_W,PHSPHT,PHSPHT_FLAG_W,DELHE3,DELHE3_FLAG_W
,,,,,,,,,DBAR,,ITS-90,,PSS-78,,PSS-78,,UMOL/KG,,UMOL/KG,,UMOL/KG,,UMOL/KG,,UMOL/KG,,PERCNT,
74JC19990315,  Albatross,      40,          1,         13,19990326,       2026,     -62.86,     -63.52,     7.9,2,   1.4110,2,  33.7988,2,  33.7987,2,    332.7,2,  334.46,2,   41.81,2,   24.72,2,    1.35,2,   -2.24,2
74JC19990315,  Albatross,      40,          1,         12,19990326,       2026,     -62.86,     -63.52,    53.4,2,   1.4117,2,  33.7989,2,  33.8048,2,    335.0,2,  333.29,2,   41.62,2,   25.11,2,    1.36,2, -999.00,9
74JC19990315,  Albatross,      40,          1,         11,19990326,       2026,     -62.86,     -63.52,   104.3,2,  -0.1204,2,  34.1002,2,  34.1003,2,    305.1,2,  285.10,2,   66.61,2,   30.28,2,    1.81,2, -999.00,9
74JC19990315,  Albatross,      40,          1,         10,19990326,       2026,     -62.86,     -63.52,   257.0,2,   1.0844,2,  34.5502,2,  34.5503,2,    197.9,2,  195.20,2,   97.15,2,   33.69,2,    2.04,2,    8.23,2
74JC19990315,  Albatross,      40,          1,          9,19990326,       2026,     -62.86,     -63.52,   510.4,2,   1.4160,2,  34.7059,2,  34.7062,2,    185.5,2,  186.03,2,  105.64,2,   32.71,2,    1.99,2,    8.65,2
74JC19990315,  Albatross,      40,          1,          8,19990326,       2026,     -62.86,     -63.52,   763.9,2,   0.9533,2,  34.7186,2,  34.7184,2,    196.3,2,  197.51,2,  121.94,2,   32.51,2,    2.02,2, -999.00,9
74JC19990315,  Albatross,      40,          1,          7,19990326,       2026,     -62.86,     -63.52,  1018.0,2,   0.6267,2,  34.7098,2,  34.7094,2,    201.7,2,  203.25,2,  130.82,2,   32.61,2,    2.03,2,    8.57,2
74JC19990315,  Albatross,      40,          1,          6,19990326,       2026,     -62.86,     -63.52,  1271.9,2,   0.5114,2,  34.7061,2,  34.7062,2,    204.2,2,  205.29,2,  133.27,2,   32.61,2,    2.06,2, -999.00,9
74JC19990315,  Albatross,      40,          1,          5,19990326,       2026,     -62.86,     -63.52,  1576.9,2,   0.4399,2,  34.7033,2,  34.7035,2,    207.5,2,  207.14,2,  136.59,2,   32.80,2,    2.09,2,    9.76,2
74JC19990315,  Albatross,      40,          1,          4,19990326,       2026,     -62.86,     -63.52,  1678.9,2,   0.4321,2,  34.7027,2,  34.7029,2,    208.0,2,  207.23,2,  134.34,2,   32.71,2,    2.11,2, -999.00,9
74JC19990315,  Albatross,      40,          1,          3,19990326,       2026,     -62.86,     -63.52,  1730.3,2,   0.4354,2,  34.7031,2,  34.7029,2,    208.2,2,  207.33,2,  135.51,2,   33.10,2,    2.13,2, -999.00,9
74JC19990315,  Albatross,      40,          1,          2,19990326,       2026,     -62.86,     -63.52,  1771.4,2,   0.4391,2,  34.7030,2,  34.7035,2,    206.8,2,  206.84,2,  133.95,2,   32.80,2,    2.17,2, -999.00,9
74JC19990315,  Albatross,      40,          1,          1,19990326,       2026,     -62.86,     -63.52,  1771.4,2,   0.4391,2,  34.7030,2,  34.7025,2,    206.8,2,  206.84,2,  133.56,2,   33.00,2,    2.16,2, -999.00,9
74JC19990315,  Albatross,      41,          1,         10,19990326,       2300,     -62.94,     -63.45,     7.4,2,   1.4304,2,  33.8291,2,  33.8287,2,    332.9,2,  334.15,2,   46.70,2,   24.42,2,    1.22,2, -999.00,9
74JC19990315,  Albatross,      41,          1,          9,19990326,       2300,     -62.94,     -63.45,    49.4,2,   1.3806,2,  33.8466,2,  33.8484,2,    333.8,2,  332.49,2,   47.48,2,   24.91,2,    1.23,2, -999.00,9
74JC19990315,  Albatross,      41,          1,          8,19990326,       2300,     -62.94,     -63.45,   104.5,2,   0.4452,2,  34.2037,2,  34.2033,2,    288.0,2,  264.45,2,   77.65,2,   30.86,2,    1.65,2, -999.00,9
74JC19990315,  Albatross,      41,          1,          7,19990326,       2300,     -62.94,     -63.45,   256.8,2,   1.3748,2,  34.6083,2,  34.6077,2,    183.7,2,  183.42,2,   95.59,2,   33.59,2,    1.85,2, -999.00,9
74JC19990315,  Albatross,      41,          1,          6,19990326,       2300,     -62.94,     -63.45,   510.2,2,   1.2359,2,  34.7249,2,  34.7237,2,    190.5,2,  190.99,2,  111.98,2,   32.41,2,    1.77,2, -999.00,9
74JC19990315,  Albatross,      41,          1,          5,19990326,       2300,     -62.94,     -63.45,   829.8,2,   0.7996,2,  34.7143,2,  34.7145,2,    200.0,2,  199.74,2,  123.70,2,   32.32,2,    1.80,2, -999.00,9
74JC19990315,  Albatross,      41,          1,          4,19990326,       2300,     -62.94,     -63.45,   931.4,2,   0.6895,2,  34.7112,2,  34.7113,2,    201.8,2,  200.81,2,  126.82,2,   32.80,2,    1.82,2, -999.00,9
74JC19990315,  Albatross,      41,          1,          3,19990326,       2300,     -62.94,     -63.45,   982.2,2,   0.6642,2,  34.7103,2,  34.7104,2,    202.5,2,  201.88,2,  128.38,2,   32.80,2,    1.84,2, -999.00,9
74JC19990315,  Albatross,      41,          1,          2,19990326,       2300,     -62.94,     -63.45,  1027.7,2,   0.6675,2,  34.7104,2,  34.7102,2,    201.0,2,  201.98,2,  129.65,2,   32.90,2,    1.84,2, -999.00,9
74JC19990315,  Albatross,      41,          1,          1,19990326,       2300,     -62.94,     -63.45,  1027.7,2,   0.6675,2,  34.7104,2,  34.7109,2,    201.0,2,  201.69,2,  127.11,2,   32.71,2,    1.85,2, -999.00,9
74JC19990315,  Albatross,      42,          1,          9,19990327,       0038,     -62.98,     -63.39,     7.5,2,   1.4422,2,  33.8572,2,  33.8558,2,    327.8,2,  334.44,2,   48.26,2,   24.13,2,    1.25,2,   -1.44,2
74JC19990315,  Albatross,      42,          1,          8,19990327,       0038,     -62.98,     -63.39,    53.1,2,   1.2601,2,  33.8941,2,  33.8906,2,    331.4,2,  325.17,2,   52.85,2,   25.30,2,    1.32,2, -999.00,9
74JC19990315,  Albatross,      42,          1,          7,19990327,       0038,     -62.98,     -63.39,   104.1,2,   0.2434,2,  34.3046,2,  34.3051,2,    271.7,2,  242.43,2,   82.72,2,   32.42,2,    1.76,2,    4.27,2
74JC19990315,  Albatross,      42,          1,          6,19990327,       0038,     -62.98,     -63.39,   256.4,2,   1.4120,2,  34.6432,2,  34.6431,2,    186.2,2,  184.00,2,  101.15,2,   33.59,2,    1.81,2,    8.78,2
74JC19990315,  Albatross,      42,          1,          5,19990327,       0038,     -62.98,     -63.39,   297.0,2,   1.4504,2,  34.6755,2,  34.6774,2,    183.5,2,  183.21,2,  103.20,2,   33.00,2,    1.80,2, -999.00,9
74JC19990315,  Albatross,      42,          1,          4,19990327,       0038,     -62.98,     -63.39,   398.0,2,   1.4212,2,  34.7197,2,  34.7210,2,    186.9,2,  186.71,2,  107.29,2,   31.92,2,    1.70,2,   10.09,2
74JC19990315,  Albatross,      42,          1,          3,19990327,       0038,     -62.98,     -63.39,   448.1,2,   1.2892,2,  34.7208,2,  34.7255,2,    190.5,2,  190.50,2,  112.08,2,   31.63,2,    1.68,2, -999.00,9
74JC19990315,  Albatross,      42,          1,          2,19990327,       0038,     -62.98,     -63.39,   494.1,2,   1.1698,2,  34.7171,2,  34.7155,2,    190.9,2,  192.64,2,  114.91,2,   31.92,2,    1.67,2, -999.00,9
74JC19990315,  Albatross,      42,          1,          1,19990327,       0038,     -62.98,     -63.39,   494.1,2,   1.1698,2,  34.7171,2,  34.7166,2,    190.9,2,  191.67,2,  115.40,2,   32.12,2,    1.66,2, -999.00,9
74JC19990315,  Albatross,      43,          1,          9,19990327,       0245,     -63.15,      -63.2,     7.8,2,   1.3549,2,  33.8688,2,  33.8674,2,    333.2,2,  333.27,2,   47.87,2,   23.84,2,    1.40,2, -999.00,9
74JC19990315,  Albatross,      43,          1,          8,19990327,       0245,     -63.15,      -63.2,    53.7,2,   1.1301,2,  34.0632,2,  34.0659,2,    320.8,2,  296.51,2,   69.06,2,   26.86,2,    1.65,2, -999.00,9
74JC19990315,  Albatross,      43,          1,          7,19990327,       0245,     -63.15,      -63.2,   104.5,2,   0.5448,2,  34.3228,2,  34.3218,2,    279.3,2,  244.76,2,   84.86,2,   31.15,2,    1.90,2, -999.00,9
74JC19990315,  Albatross,      43,          1,          6,19990327,       0245,     -63.15,      -63.2,   257.0,2,   1.3848,2,  34.6276,2,  34.6270,2,    185.5,2,  184.58,2,   96.17,2,   32.81,2,    1.99,2, -999.00,9
74JC19990315,  Albatross,      43,          1,          5,19990327,       0245,     -63.15,      -63.2,   272.2,2,   1.4025,2,  34.6347,2,  34.6350,2,    183.4,2,  184.39,2,   98.32,2,   32.41,2,    1.96,2, -999.00,9
74JC19990315,  Albatross,      43,          1,          4,19990327,       0245,     -63.15,      -63.2,   373.3,2,   1.4656,2,  34.6852,2,  34.6841,2,    182.7,2,  183.02,2,  102.51,2,   32.12,2,    1.93,2, -999.00,9
74JC19990315,  Albatross,      43,          1,          3,19990327,       0245,     -63.15,      -63.2,   423.9,2,   1.3348,2,  34.6907,2,  34.6915,2,    187.1,2,  185.84,2,  110.03,2,   32.12,2,    1.91,2, -999.00,9
74JC19990315,  Albatross,      43,          1,          2,19990327,       0245,     -63.15,      -63.2,   469.0,2,   1.2366,2,  34.7185,2,  34.7196,2,    190.4,2,  190.99,2,  111.10,2,   31.73,2,    1.85,2, -999.00,9
74JC19990315,  Albatross,      43,          1,          1,19990327,       0245,     -63.15,      -63.2,   469.0,2,   1.2366,2,  34.7185,2,  34.7176,2,    190.4,2,  190.60,2,  110.71,2,   31.83,2,    1.83,2, -999.00,9
74JC19990315,  Albatross,      44,          1,          9,19990327,       0600,     -63.48,     -63.17,     9.0,2,   1.3955,2,  33.8916,2,  33.8926,2,    317.0,2,  316.97,2,   62.13,2,   25.30,2,    1.64,2, -999.00,9
74JC19990315,  Albatross,      44,          1,          8,19990327,       0600,     -63.48,     -63.17,    54.8,2,   1.2214,2,  33.9584,2,  33.9571,2,    277.7,2,  261.19,2,   85.47,2,   31.16,2,    2.12,2, -999.00,9
74JC19990315,  Albatross,      44,          1,          7,19990327,       0600,     -63.48,     -63.17,   105.4,2,   0.1416,2,  34.2530,2,  34.2532,2,    193.2,2,  193.20,2,  101.86,2,   32.52,2,    2.23,2, -999.00,9
74JC19990315,  Albatross,      44,          1,          6,19990327,       0600,     -63.48,     -63.17,   257.2,2,   1.0994,2,  34.6086,2,  34.6087,2,    187.8,2,  187.89,2,  107.01,2,   32.42,2,    2.24,2, -999.00,9
74JC19990315,  Albatross,      44,          1,          5,19990327,       0600,     -63.48,     -63.17,   487.2,2,   1.2641,2,  34.6704,2,  34.6703,2,    188.5,2,  188.27,2,  108.96,2,   32.51,2,    2.23,2, -999.00,9
74JC19990315,  Albatross,      44,          1,          4,19990327,       0600,     -63.48,     -63.17,   587.2,2,   1.2543,2,  34.6776,2,  34.6772,2,    188.2,2,  188.37,2,  105.74,2,   31.93,2,    2.13,2, -999.00,9
74JC19990315,  Albatross,      44,          1,          3,19990327,       0600,     -63.48,     -63.17,   639.0,2,   1.2476,2,  34.6787,2,  34.6792,2,    188.7,2, -999.00,9, -999.00,9, -999.00,9, -999.00,9, -999.00,9
74JC19990315,  Albatross,      44,          1,          1,19990327,       0600,     -63.48,     -63.17,   679.7,2,   1.2462,2,  34.6799,2,  34.6799,2,    184.0,2,  188.27,2,  105.93,2,   32.51,2,    2.10,2, -999.00,9
74JC19990315,  Albatross,      45,          1,          9,19990327,       0903,     -63.81,     -63.12,     8.1,2,   0.8614,2,  33.6638,2,  33.6618,2,    331.9,2,  333.41,2,   77.77,2,   25.01,2,    1.59,2, -999.00,9
74JC19990315,  Albatross,      45,          1,          8,19990327,       0903,     -63.81,     -63.12,    53.7,2,   0.2446,2,  34.0959,2,  34.1003,2,    303.6,2,  287.05,2,   84.98,2,   29.11,2,    1.96,2, -999.00,9
74JC19990315,  Albatross,      45,          1,          7,19990327,       0903,     -63.81,     -63.12,   104.4,2,   0.2978,2,  34.4058,2,  34.4019,2,    235.9,2,  231.90,2,   91.70,2,   33.01,2,    2.22,2, -999.00,9
74JC19990315,  Albatross,      45,          1,          6,19990327,       0903,     -63.81,     -63.12,   256.4,2,   1.2716,2,  34.6359,2,  34.6376,2,    189.5,2,  186.33,2,  102.61,2,   33.39,2,    2.22,2, -999.00,9
74JC19990315,  Albatross,      45,          1,          5,19990327,       0903,     -63.81,     -63.12,   308.3,2,   1.3847,2,  34.6719,2,  34.6723,2,    183.5,2,  182.82,2,  106.91,2,   33.00,2,    2.22,2, -999.00,9
74JC19990315,  Albatross,      45,          1,          4,19990327,       0903,     -63.81,     -63.12,   358.9,2,   1.3638,2,  34.6783,2,  34.6799,2,    182.1,2,  182.82,2,  107.69,2,   33.00,2,    2.24,2, -999.00,9
74JC19990315,  Albatross,      45,          1,          3,19990327,       0903,     -63.81,     -63.12,   409.3,2,   1.4409,2,  34.7070,2,  34.7068,2,    181.0,2,  180.78,2,  111.40,2,   32.71,2,    2.24,2, -999.00,9
74JC19990315,  Albatross,      45,          1,          2,19990327,       0903,     -63.81,     -63.12,   454.4,2,   1.4468,2,  34.7090,2,  34.7084,2,    177.8,2,  180.58,2,  111.10,2,   32.32,2,    2.24,2, -999.00,9
74JC19990315,  Albatross,      45,          1,          1,19990327,       0903,     -63.81,     -63.12,   454.4,2,   1.4466,2,  34.7090,2,  34.7078,2,    177.8,2,  180.58,2,  110.61,2,   32.22,2,    2.23,2, -999.00,9
74JC19990315,  Albatross,      46,          1,          9,19990327,       1143,     -64.14,     -63.08,     6.4,2,   0.7877,2,  33.5770,2,  33.5743,2,    327.3,2,  334.01,2,   76.02,2,   24.33,2,    1.45,2, -999.00,9
74JC19990315,  Albatross,      46,          1,          8,19990327,       1143,     -64.14,     -63.08,    52.3,2,   0.2957,2,  34.1295,2,  34.1410,2,    292.5,2,  276.63,2,   86.44,2,   29.20,2,    1.95,2, -999.00,9
74JC19990315,  Albatross,      46,          1,          7,19990327,       1143,     -64.14,     -63.08,   102.5,2,   0.0237,2,  34.3430,2,  34.3353,2,    268.0,2,  257.11,2,   89.84,2,   31.25,2,    2.06,2, -999.00,9
74JC19990315,  Albatross,      46,          1,          6,19990327,       1143,     -64.14,     -63.08,   254.8,2,   1.2135,2,  34.6222,2,  34.6199,2,    188.6,2,  188.86,2,   98.71,2,   32.90,2,    2.17,2, -999.00,9
74JC19990315,  Albatross,      46,          1,          5,19990327,       1143,     -64.14,     -63.08,   406.9,2,   1.4257,2,  34.6990,2,  34.6984,2,    179.2,2,  181.17,2,  107.39,2,   32.51,2,    2.16,2, -999.00,9
74JC19990315,  Albatross,      46,          1,          4,19990327,       1143,     -64.14,     -63.08,   508.0,2,   1.4384,2,  34.7072,2,  34.7076,2,    180.9,2,  181.36,2,  108.27,2,   32.41,2,    2.15,2, -999.00,9
74JC19990315,  Albatross,      46,          1,          3,19990327,       1143,     -64.14,     -63.08,   558.5,2,   1.4382,2,  34.7096,2,  34.7098,2,    182.4,2,  181.56,2,  109.05,2,   32.41,2,    2.20,2, -999.00,9
74JC19990315,  Albatross,      46,          1,          2,19990327,       1143,     -64.14,     -63.08,   604.9,2,   1.4401,2,  34.7104,2,  34.7060,2,    180.4,2,  181.46,2,  110.22,2,   32.22,2,    2.16,2, -999.00,9
74JC19990315,  Albatross,      46,          1,          1,19990327,       1143,     -64.14,     -63.08,   604.9,2,   1.4401,2,  34.7105,2,  34.7117,2,    180.4,2,  181.26,2,  110.91,2,   32.02,2,    2.20,2, -999.00,9
74JC19990315,  Albatross,      47,          1,         12,19990330,       0139,     -67.58,     -68.13,     9.4,2,  -0.0554,2,  33.0871,2,  33.0874,2,    342.1,2,  337.54,2,   60.02,2,   21.31,2,    1.48,2, -999.00,9
74JC19990315,  Albatross,      47,          1,         11,19990330,       0139,     -67.58,     -68.13,    35.1,2,   0.2140,2,  33.2306,2,  33.2310,2,    336.1,2,  334.77,2,   59.91,2,   22.28,2,    1.55,2, -999.00,9
74JC19990315,  Albatross,      47,          1,         10,19990330,       0139,     -67.58,     -68.13,    58.5,2,   0.3663,2,  33.4017,2,  33.4131,2,    328.1,2,  328.50,2,   60.78,2,   22.87,2,    1.58,2, -999.00,9
74JC19990315,  Albatross,      47,          1,          9,19990330,       0139,     -67.58,     -68.13,    73.0,2,   0.4505,2,  33.5560,2,  33.5722,2,    327.9,2,  324.66,2,   62.73,2,   23.35,2,    1.64,2, -999.00,9
74JC19990315,  Albatross,      47,          1,          8,19990330,       0139,     -67.58,     -68.13,    85.7,2,  -0.0679,2,  33.6934,2,  33.6923,2,    304.1,2,  309.82,2,   71.23,2,   25.31,2,    1.85,2, -999.00,9
74JC19990315,  Albatross,      47,          1,          7,19990330,       0139,     -67.58,     -68.13,   131.3,2,  -0.9083,2,  34.0021,2,  34.0019,2,    265.6,2,  269.82,2,   92.60,2,   30.87,2,    2.26,2, -999.00,9
74JC19990315,  Albatross,      47,          1,          6,19990330,       0139,     -67.58,     -68.13,   154.5,2,  -0.7491,2,  34.1015,2,  34.1023,2,    247.6,2,  249.46,2,   98.85,2,   32.13,2,    2.35,2, -999.00,9
74JC19990315,  Albatross,      47,          1,          5,19990330,       0139,     -67.58,     -68.13,   206.2,2,   0.4273,2,  34.4370,2,  34.4360,2,    175.5,2,  176.72,2,  115.72,2,   34.96,2,    2.52,2, -999.00,9
74JC19990315,  Albatross,      47,          1,          4,19990330,       0139,     -67.58,     -68.13,   257.9,2,   0.8678,2,  34.5555,2,  34.5558,2,    157.6,2,  160.07,2,  119.81,2,   34.47,2,    2.53,2, -999.00,9
74JC19990315,  Albatross,      47,          1,          3,19990330,       0139,     -67.58,     -68.13,   309.1,2,   1.0092,2,  34.5928,2,  34.5956,2,    163.4,2,  160.55,2,  120.68,2,   34.27,2,    2.50,2, -999.00,9
74JC19990315,  Albatross,      47,          1,          2,19990330,       0139,     -67.58,     -68.13,   336.5,2,   1.0609,2,  34.6073,2,  34.6074,2,    162.3,2,  160.64,2,  121.17,2,   34.17,2,    2.48,2, -999.00,9
74JC19990315,  Albatross,      47,          1,          1,19990330,       0139,     -67.58,     -68.13,   336.5,2,   1.0609,2,  34.6073,2,  34.6050,2,    162.3,2,  160.45,2,  124.78,2,   33.49,2,    2.46,2, -999.00,9
74JC19990315,  Albatross,      48,          1,          6,19990401,       0411,     -62.75,     -55.15,     7.2,2,  -0.6044,2,  34.3120,2,  34.3120,2,    334.9,2,  335.15,2,   74.29,2,   27.69,2,    1.93,2,   -1.72,2
74JC19990315,  Albatross,      48,          1,          5,19990401,       0411,     -62.75,     -55.15,    52.6,2,  -0.4825,2,  34.3267,2,  34.3266,2,    334.6,2,  334.56,2,   75.12,2,   27.46,2,    1.92,2, -999.00,9
74JC19990315,  Albatross,      48,          1,          4,19990401,       0411,     -62.75,     -55.15,   103.6,2,  -0.4903,2,  34.3276,2,  34.3276,2,    334.4,2,  334.37,2,   75.63,2,   27.40,2,    1.94,2,   -2.19,2
74JC19990315,  Albatross,      48,          1,          3,19990401,       0411,     -62.75,     -55.15,   144.2,2,  -0.4955,2,  34.3272,2,  34.3274,2,    334.1,2,  334.08,2,   75.18,2,   27.29,2,    1.93,2, -999.00,9
74JC19990315,  Albatross,      48,          1,          2,19990401,       0411,     -62.75,     -55.15,   184.8,2,  -0.4963,2,  34.3278,2,  34.3276,2,    333.3,2,  333.11,2,   75.75,2,   27.29,2,    1.91,2,   -2.47,2
74JC19990315,  Albatross,      48,          1,          1,19990401,       0411,     -62.75,     -55.15,   184.8,2,  -0.4965,2,  34.3280,2,  34.3280,2,    333.3,2,  333.59,2,   76.20,2,   27.22,2,    1.85,2, -999.00,9