BOTTLE,20140822SIOCCHAMB
EXPOCODE,SECT_ID,STNNBR,CASTNO,BTLNBR,DATE,TIME,LATITUDE,LONGITUDE,CTDPRS,CTDPRS_FLAG_W,CTDTMP,CTDTMP_FLAG_W,CTDSAL,CTDSAL_FLAG_W,SALNTY,SALNTY_FLAG_W,CTDOXY,CTDOXY_FLAG_W,OXYGEN,OXYGEN_FLAG_W,SILCAT,SILCAT_FLAG_W,NITRAT,NITRAT_FLAG_W,PHSPHT,PHSPHT_FLAG_W,DELHE3,DELHE3_FLAG_W
,,,,,,,,,DBAR,,ITS-90,,PSS-78,,PSS-78,,UMOL/KG,,UMOL/KG,,UMOL/KG,,UMOL/KG,,UMOL/KG,,PERCNT,
74JC19990315,  Albatross,     130,          1,         18,19990415,       1654,     -53.34,     -39.13,    10.2,2,   3.5943,2,  33.6624,2,  33.6624,2,    314.5,2,  311.98,2,   16.90,2,   21.69,2,    1.47,2,   -1.44,2
74JC19990315,  Albatross,     130,          1,         17,19990415,       1654,     -53.34,     -39.13,    56.4,2,   3.5684,2,  33.6649,2,  33.6651,2,    308.2,2,  310.90,2,   16.61,2,   21.01,2,    1.47,2, -999.00,9
74JC19990315,  Albatross,     130,          1,         16,19990415,       1654,     -53.34,     -39.13,   107.8,2,   1.5021,2,  33.9391,2,  33.9366,2,    282.6,2,  284.51,2,   34.48,2,   28.04,2,    2.01,2, -999.00,9
74JC19990315,  Albatross,     130,          1,         15,19990415,       1654,     -53.34,     -39.13,   259.6,2,   1.8617,2,  34.3819,2,  34.3807,2,    203.0,2,  194.97,2,   67.48,2,   33.69,2,    2.41,2,    5.16,2
74JC19990315,  Albatross,     130,          1,         14,19990415,       1654,     -53.34,     -39.13,   514.4,2,   2.0914,2,  34.5886,2,  34.5885,2,    170.9,2,  169.63,2,   83.38,2,   33.69,2,    2.37,2, -999.00,9
74JC19990315,  Albatross,     130,          1,         13,19990415,       1654,     -53.34,     -39.13,   768.3,2,   1.9191,2,  34.6677,2,  34.6672,2,    172.7,2,  172.53,2,   91.87,2,   33.49,2,    2.28,2,   10.82,2
74JC19990315,  Albatross,     130,          1,         12,19990415,       1654,     -53.34,     -39.13,  1022.3,2,   1.7444,2,  34.7030,2,  34.7023,2,    177.5,2,  178.47,2,   98.12,2,   31.34,2,    2.23,2,   11.06,2
74JC19990315,  Albatross,     130,          1,         11,19990415,       1654,     -53.34,     -39.13,  1278.1,2,   1.5090,2,  34.7117,2,  34.7125,2,    183.2,2,  184.98,2,  103.78,2,   31.34,2,    2.21,2, -999.00,9
74JC19990315,  Albatross,     130,          1,         10,19990415,       1654,     -53.34,     -39.13,  1533.9,2,   1.3047,2,  34.7149,2,  34.7155,2,    189.3,2,  191.79,2,  106.71,2,   31.24,2,    2.21,2, -999.00,9
74JC19990315,  Albatross,     130,          1,          9,19990415,       1654,     -53.34,     -39.13,  1788.7,2,   1.0284,2,  34.7048,2,  34.7058,2,    193.1,2,  195.97,2,  113.15,2,   31.44,2,    2.22,2,    9.42,2
74JC19990315,  Albatross,     130,          1,          8,19990415,       1654,     -53.34,     -39.13,  2044.9,2,   0.8541,2,  34.7000,2,  34.7011,2,    197.0,2,  199.57,2,  117.25,2,   32.32,2,    2.22,2,    9.68,2
74JC19990315,  Albatross,     130,          1,          7,19990415,       1654,     -53.34,     -39.13,  2557.1,2,   0.6058,2,  34.6907,2,  34.6915,2,    204.6,2,  206.18,2,  122.53,2,   31.05,2,    2.22,2,    8.82,2
74JC19990315,  Albatross,     130,          1,          6,19990415,       1654,     -53.34,     -39.13,  3069.2,2,   0.3747,2,  34.6796,2,  34.6801,2,    212.9,2,  211.92,2,  125.16,2,   31.24,2,    2.23,2,    7.80,2
74JC19990315,  Albatross,     130,          1,          5,19990415,       1654,     -53.34,     -39.13,  3290.4,2,   0.2102,2,  34.6731,2,  34.6721,2,    217.4,2,  217.47,2,  128.97,2,   30.95,2,    2.24,2,    7.41,2
74JC19990315,  Albatross,     130,          1,          4,19990415,       1654,     -53.34,     -39.13,  3393.9,2,   0.1485,2,  34.6707,2,  34.6703,2,    219.2,2,  217.37,2,  130.44,2,   31.14,2,    2.25,2, -999.00,9
74JC19990315,  Albatross,     130,          1,          3,19990415,       1654,     -53.34,     -39.13,  3444.5,2,   0.1316,2,  34.6698,2,  34.6701,2,    220.1,2,  218.24,2,  130.63,2,   30.75,2,    2.26,2, -999.00,9
74JC19990315,  Albatross,     130,          1,          2,19990415,       1654,     -53.34,     -39.13,  3492.1,2,   0.1133,2,  34.6694,2,  34.6688,2,    219.1,2,  223.69,2,  131.32,2,   32.12,2,    2.26,2,    6.35,2
74JC19990315,  Albatross,     130,          1,          1,19990415,       1654,     -53.34,     -39.13,  3492.1,2,   0.1133,2,  34.6694,2,  34.6688,2,    219.1,2,  218.63,2,  132.29,2,   30.66,2,    2.26,2,    6.35,2
74JC19990315,  Albatross,     131,          1,         18,19990415,       2147,     -53.05,     -39.36,    10.0,2,   4.3573,2,  33.7442,2,  33.7444,2,    306.6,2,  305.83,2,    6.25,2,   18.66,2,    1.26,2, -999.00,9
74JC19990315,  Albatross,     131,          1,         17,19990415,       2147,     -53.05,     -39.36,    55.7,2,   4.3380,2,  33.7449,2,  33.7450,2,    305.1,2,  305.92,2,    6.25,2,   19.05,2,    1.27,2, -999.00,9
74JC19990315,  Albatross,     131,          1,         16,19990415,       2147,     -53.05,     -39.36,   106.2,2,   1.4007,2,  33.9059,2,  33.9063,2,    302.4,2,  289.27,2,   27.26,2,   26.57,2,    2.17,2, -999.00,9
74JC19990315,  Albatross,     131,          1,         15,19990415,       2147,     -53.05,     -39.36,   259.6,2,   1.7722,2,  34.3556,2,  34.3545,2,    204.3,2,  197.68,2,   66.41,2,   35.45,2,    2.39,2, -999.00,9
74JC19990315,  Albatross,     131,          1,         14,19990415,       2147,     -53.05,     -39.36,   513.2,2,   2.0247,2,  34.6211,2,  34.6199,2,    172.7,2,  169.03,2,   86.51,2,   34.08,2,    2.31,2, -999.00,9
74JC19990315,  Albatross,     131,          1,         13,19990415,       2147,     -53.05,     -39.36,   766.8,2,   1.7880,2,  34.6893,2,  34.6896,2,    176.2,2,  175.73,2,   95.97,2,   32.71,2,    2.24,2, -999.00,9
74JC19990315,  Albatross,     131,          1,         12,19990415,       2147,     -53.05,     -39.36,  1022.2,2,   1.5657,2,  34.7107,2,  34.7102,2,    181.5,2,  182.15,2,  103.00,2,   32.32,2,    2.20,2, -999.00,9
74JC19990315,  Albatross,     131,          1,         11,19990415,       2147,     -53.05,     -39.36,  1274.7,2,   1.3524,2,  34.7130,2,  34.7129,2,    186.7,2,  187.89,2,  108.47,2,   32.12,2,    2.19,2, -999.00,9
74JC19990315,  Albatross,     131,          1,         10,19990415,       2147,     -53.05,     -39.36,  1530.9,2,   1.1445,2,  34.7093,2,  34.7096,2,    191.1,2,  193.04,2,  113.15,2,   33.19,2,    2.21,2, -999.00,9
74JC19990315,  Albatross,     131,          1,          9,19990415,       2147,     -53.05,     -39.36,  1782.1,2,   0.9863,2,  34.7050,2,  34.7058,2,    194.7,2,  196.15,2,  116.08,2,   32.02,2,    2.21,2, -999.00,9
74JC19990315,  Albatross,     131,          1,          8,19990415,       2147,     -53.05,     -39.36,  2039.5,2,   0.8649,2,  34.7003,2,  34.7015,2,    198.0,2,  198.39,2,  118.62,2,   32.32,2,    2.23,2, -999.00,9
74JC19990315,  Albatross,     131,          1,          7,19990415,       2147,     -53.05,     -39.36,  2550.0,2,   0.6084,2,  34.6901,2,  34.6911,2,    204.4,2,  205.30,2,  122.14,2,   32.12,2,    2.25,2, -999.00,9
74JC19990315,  Albatross,     131,          1,          6,19990415,       2147,     -53.05,     -39.36,  3065.3,2,   0.3877,2,  34.6796,2,  34.6801,2,    211.3,2,  211.72,2,  125.07,2,   32.71,2,    2.25,2, -999.00,9
74JC19990315,  Albatross,     131,          1,          5,19990415,       2147,     -53.05,     -39.36,  3624.8,2,   0.1078,2,  34.6683,2,  34.6686,2,    219.8,2,  219.01,2,  129.85,2,   32.41,2,    2.26,2, -999.00,9
74JC19990315,  Albatross,     131,          1,          4,19990415,       2147,     -53.05,     -39.36,  3726.9,2,   0.0479,2,  34.6657,2,  34.6648,2,    221.4,2,  220.76,2,  132.59,2,   32.12,2,    2.26,2, -999.00,9
74JC19990315,  Albatross,     131,          1,          3,19990415,       2147,     -53.05,     -39.36,  3777.0,2,   0.0211,2,  34.6643,2,  34.6640,2,    221.7,2,  221.25,2,  133.95,2,   31.93,2,    2.27,2, -999.00,9
74JC19990315,  Albatross,     131,          1,          2,19990415,       2147,     -53.05,     -39.36,  3818.6,2,  -0.0052,2,  34.6632,2,  34.6627,2,    221.1,2,  220.86,2,  137.27,2,   32.22,2,    2.28,2, -999.00,9
74JC19990315,  Albatross,     131,          1,          1,19990415,       2147,     -53.05,     -39.36,  3818.6,2,  -0.0052,2,  34.6632,2,  34.6627,2,    221.1,2,  220.86,2,  137.86,2,   31.73,2,    2.27,2, -999.00,9
74JC19990315,  Albatross,     132,          1,         18,19990416,       0306,     -52.77,     -39.58,    11.7,2,   4.4192,2,  33.7396,2,  33.7405,2,    305.2,2,  306.92,2,    6.45,2,   19.05,2,    1.24,2,   -1.37,2
74JC19990315,  Albatross,     132,          1,         17,19990416,       0306,     -52.77,     -39.58,    57.9,2,   4.1711,2,  33.7456,2,  33.7448,2,    308.2,2,  306.42,2,    8.70,2,   19.25,2,    1.28,2, -999.00,9
74JC19990315,  Albatross,     132,          1,         16,19990416,       0306,     -52.77,     -39.58,   109.2,2,   1.6569,2,  33.8906,2,  33.8912,2,    332.3,2,  296.31,2,   29.40,2,   27.06,2,    1.92,2,   -0.76,2
74JC19990315,  Albatross,     132,          1,         15,19990416,       0306,     -52.77,     -39.58,   261.4,2,   1.8100,2,  34.4078,2,  34.4072,2,    202.1,2,  189.80,2,   69.14,2,   35.35,2,    2.39,2,    4.75,2
74JC19990315,  Albatross,     132,          1,         14,19990416,       0306,     -52.77,     -39.58,   515.8,2,   2.0074,2,  34.6226,2,  34.6215,2,    171.3,2,  171.19,2,   84.94,2,   33.88,2,    2.29,2,    9.50,2
74JC19990315,  Albatross,     132,          1,         13,19990416,       0306,     -52.77,     -39.58,   770.0,2,   1.8810,2,  34.6889,2,  34.6896,2,    173.6,2,  173.12,2,   92.95,2,   33.39,2,    2.22,2, -999.00,9
74JC19990315,  Albatross,     132,          1,         12,19990416,       0306,     -52.77,     -39.58,  1024.2,2,   1.6735,2,  34.7103,2,  34.7102,2,    180.4,2,  180.12,2,   99.19,2,   32.51,2,    2.19,2,   11.16,2
74JC19990315,  Albatross,     132,          1,         11,19990416,       0306,     -52.77,     -39.58,  1279.6,2,   1.4200,2,  34.7172,2,  34.7176,2,    187.5,2,  187.22,2,  104.17,2,   32.22,2,    2.16,2, -999.00,9
74JC19990315,  Albatross,     132,          1,         10,19990416,       0306,     -52.77,     -39.58,  1535.5,2,   1.1977,2,  34.7145,2,  34.7145,2,    193.5,2,  192.86,2,  109.15,2,   32.51,2,    2.16,2,   10.62,2
74JC19990315,  Albatross,     132,          1,          9,19990416,       0306,     -52.77,     -39.58,  1790.8,2,   1.0001,2,  34.7085,2,  34.7088,2,    197.1,2,  196.55,2,  114.13,2,   32.61,2,    2.17,2, -999.00,9
74JC19990315,  Albatross,     132,          1,          8,19990416,       0306,     -52.77,     -39.58,  2046.4,2,   0.8246,2,  34.7027,2,  34.7033,2,    200.9,2,  201.42,2,  117.06,2,   32.61,2,    2.18,2, -999.00,9
74JC19990315,  Albatross,     132,          1,          7,19990416,       0306,     -52.77,     -39.58,  2559.0,2,   0.5527,2,  34.6897,2,  34.6896,2,    206.5,2,  208.13,2,  122.04,2,   32.71,2,    2.18,2,    8.64,2
74JC19990315,  Albatross,     132,          1,          6,19990416,       0306,     -52.77,     -39.58,  3072.2,2,   0.3293,2,  34.6789,2,  34.6782,2,    212.3,2,  215.43,2,  126.04,2,   32.71,2,    2.23,2,    7.80,2
74JC19990315,  Albatross,     132,          1,          5,19990416,       0306,     -52.77,     -39.58,  3603.4,2,   0.1063,2,  34.6694,2,  34.6682,2,    220.8,2,  222.92,2,  131.51,2,   33.39,2,    2.24,2,    6.58,2
74JC19990315,  Albatross,     132,          1,          4,19990416,       0306,     -52.77,     -39.58,  3706.3,2,   0.0199,2,  34.6654,2,  34.6656,2,    223.1,2,  221.26,2,  135.32,2,   32.51,2,    2.23,2, -999.00,9
74JC19990315,  Albatross,     132,          1,          3,19990416,       0306,     -52.77,     -39.58,  3757.8,2,  -0.0539,2,  34.6624,2,  34.6623,2,    224.1,2,  222.81,2,  139.03,2,   32.71,2,    2.23,2, -999.00,9
74JC19990315,  Albatross,     132,          1,          2,19990416,       0306,     -52.77,     -39.58,  3795.6,2,  -0.0805,2,  34.6605,2,  34.6611,2,    225.5,2,  223.98,2,  139.42,2,   32.61,2,    2.24,2,    6.27,2
74JC19990315,  Albatross,     132,          1,          1,19990416,       0306,     -52.77,     -39.58,  3795.8,2,  -0.0805,2,  34.6605,2,  34.6611,2,    225.5,2,  225.06,2,  139.03,2,   33.00,2,    2.25,2,    6.27,2
74JC19990315,  Albatross,     133,          1,         18,19990416,       0755,     -52.48,     -39.81,    13.3,2,   4.3503,2,  33.7334,2,  33.7333,2,    307.0,2,  307.29,2,    7.23,2,   19.74,2,    1.35,2, -999.00,9
74JC19990315,  Albatross,     133,          1,         17,19990416,       0755,     -52.48,     -39.81,    59.7,2,   4.3594,2,  33.7411,2,  33.7413,2,    306.6,2,  306.12,2,    6.55,2,   19.83,2,    1.35,2, -999.00,9
74JC19990315,  Albatross,     133,          1,         16,19990416,       0755,     -52.48,     -39.81,   111.2,2,   1.3603,2,  33.9312,2,  33.9317,2,    295.2,2,  287.79,2,   32.24,2,   29.01,2,    2.03,2, -999.00,9
74JC19990315,  Albatross,     133,          1,         15,19990416,       0755,     -52.48,     -39.81,   263.5,2,   1.8481,2,  34.3838,2,  34.3815,2,    202.9,2,  204.88,2,   66.89,2,   35.45,2,    2.38,2, -999.00,9
74JC19990315,  Albatross,     133,          1,         14,19990416,       0755,     -52.48,     -39.81,   517.9,2,   2.0612,2,  34.6053,2,  34.6028,2,    172.0,2,  168.74,2,   85.14,2,   34.66,2,    2.34,2, -999.00,9
74JC19990315,  Albatross,     133,          1,         13,19990416,       0755,     -52.48,     -39.81,   771.7,2,   1.8586,2,  34.6770,2,  34.6764,2,    175.2,2,  173.79,2,   93.53,2,   33.78,2,    2.25,2, -999.00,9
74JC19990315,  Albatross,     133,          1,         12,19990416,       0755,     -52.48,     -39.81,  1026.8,2,   1.6911,2,  34.7094,2,  34.7088,2,    179.2,2,  179.13,2,  100.17,2,   33.10,2,    2.20,2, -999.00,9
74JC19990315,  Albatross,     133,          1,         11,19990416,       0755,     -52.48,     -39.81,  1281.4,2,   1.4185,2,  34.7111,2,  34.7121,2,    186.2,2,  187.11,2,  105.05,2,   33.00,2,    2.19,2, -999.00,9
74JC19990315,  Albatross,     133,          1,         10,19990416,       0755,     -52.48,     -39.81,  1537.2,2,   1.1701,2,  34.7117,2,  34.7115,2,    191.6,2,  193.04,2,  109.93,2,   32.80,2,    2.17,2, -999.00,9
74JC19990315,  Albatross,     133,          1,          9,19990416,       0755,     -52.48,     -39.81,  1792.6,2,   0.9729,2,  34.7063,2,  34.7060,2,    195.2,2,  197.42,2,  114.13,2,   32.90,2,    2.20,2, -999.00,9
74JC19990315,  Albatross,     133,          1,          8,19990416,       0755,     -52.48,     -39.81,  2048.5,2,   0.7995,2,  34.6987,2,  34.6994,2,    199.2,2,  200.82,2,  116.86,2,   32.80,2,    2.19,2, -999.00,9
74JC19990315,  Albatross,     133,          1,          7,19990416,       0755,     -52.48,     -39.81,  2560.9,2,   0.5350,2,  34.6878,2,  34.6880,2,    205.9,2,  207.24,2,  119.79,2,   32.41,2,    2.19,2, -999.00,9
74JC19990315,  Albatross,     133,          1,          6,19990416,       0755,     -52.48,     -39.81,  3073.4,2,   0.3122,2,  34.6768,2,  34.6770,2,    212.6,2,  214.25,2,  123.31,2,   32.90,2,    2.21,2, -999.00,9
74JC19990315,  Albatross,     133,          1,          5,19990416,       0755,     -52.48,     -39.81,  3603.7,2,   0.0995,2,  34.6685,2,  34.6680,2,    220.3,2,  220.08,2,  127.70,2,   32.51,2,    2.22,2, -999.00,9
74JC19990315,  Albatross,     133,          1,          4,19990416,       0755,     -52.48,     -39.81,  3707.0,2,   0.0401,2,  34.6655,2,  34.6656,2,    222.2,2,  221.15,2,  130.73,2,   32.61,2,    2.23,2, -999.00,9
74JC19990315,  Albatross,     133,          1,          3,19990416,       0755,     -52.48,     -39.81,  3758.3,2,  -0.0226,2,  34.6631,2,  34.6625,2,    223.7,2,  222.61,2,  132.98,2,   32.71,2,    2.21,2, -999.00,9
74JC19990315,  Albatross,     133,          1,          2,19990416,       0755,     -52.48,     -39.81,  3799.7,2,  -0.0322,2,  34.6622,2,  34.6621,2,    223.4,2,  222.81,2,  134.44,2,   32.32,2,    2.24,2, -999.00,9
74JC19990315,  Albatross,     133,          1,          1,19990416,       0755,     -52.48,     -39.81,  3799.7,2,  -0.0324,2,  34.6621,2,  34.6627,2,    223.4,2,  222.51,2,  135.03,2,   32.32,2,    2.21,2, -999.00,9