BOTTLE,20140822SIOCCHAMB
EXPOCODE,SECT_ID,STNNBR,CASTNO,BTLNBR,DATE,TIME,LATITUDE,LONGITUDE,CTDPRS,CTDPRS_FLAG_W,CTDTMP,CTDTMP_FLAG_W,CTDSAL,CTDSAL_FLAG_W,SALNTY,SALNTY_FLAG_W,CTDOXY,CTDOXY_FLAG_W,OXYGEN,OXYGEN_FLAG_W,SILCAT,SILCAT_FLAG_W,NITRAT,NITRAT_FLAG_W,PHSPHT,PHSPHT_FLAG_W,DELHE3,DELHE3_FLAG_W
,,,,,,,,,DBAR,,ITS-90,,PSS-78,,PSS-78,,UMOL/KG,,UMOL/KG,,UMOL/KG,,UMOL/KG,,UMOL/KG,,PERCNT,
74JC19990315,  Albatross,     117,          1,         21,19990413,       0724,     -55.67,     -33.86,    12.1,2,   2.3973,2,  33.8859,2,  33.8857,2,    315.4,2,  315.86,2,   28.33,2,   23.93,2,    1.44,2, -999.00,9
74JC19990315,  Albatross,     117,          1,         20,19990413,       0724,     -55.67,     -33.86,    57.4,2,   2.3981,2,  33.8859,2,  33.8863,2,    317.0,2,  316.25,2,   28.33,2,   23.84,2,    1.43,2, -999.00,9
74JC19990315,  Albatross,     117,          1,         19,19990413,       0724,     -55.67,     -33.86,   109.2,2,   1.5692,2,  33.9989,2,  34.0060,2,    300.3,2,  287.58,2,   41.81,2,   28.82,2,    1.87,2, -999.00,9
74JC19990315,  Albatross,     117,          1,         18,19990413,       0724,     -55.67,     -33.86,   261.7,2,   2.0050,2,  34.5017,2,  34.5019,2,    184.3,2,  176.15,2,   79.09,2,   37.01,2,    2.43,2, -999.00,9
74JC19990315,  Albatross,     117,          1,         17,19990413,       0724,     -55.67,     -33.86,   515.4,2,   1.7421,2,  34.6401,2,  34.6387,2,    179.4,2,  177.78,2,   91.29,2,   34.76,2,    2.33,2, -999.00,9
74JC19990315,  Albatross,     117,          1,         16,19990413,       0724,     -55.67,     -33.86,   768.9,2,   1.5773,2,  34.6885,2,  34.6886,2,    183.6,2,  183.51,2,   98.61,2,   33.19,2,    2.27,2, -999.00,9
74JC19990315,  Albatross,     117,          1,         15,19990413,       0724,     -55.67,     -33.86,  1023.7,2,   1.2432,2,  34.6937,2,  34.6933,2,    189.4,2,  191.88,2,  104.07,2,   32.90,2,    2.25,2, -999.00,9
74JC19990315,  Albatross,     117,          1,         14,19990413,       0724,     -55.67,     -33.86,  1024.4,2,   1.2390,2,  34.6940,2,  34.6933,2,    189.5,2,  192.17,2,  103.88,2,   33.49,2,    2.25,2, -999.00,9
74JC19990315,  Albatross,     117,          1,         13,19990413,       0724,     -55.67,     -33.86,  1277.9,2,   1.0689,2,  34.7031,2,  34.7027,2,    193.4,2,  195.57,2,  111.10,2,   33.29,2,    2.27,2, -999.00,9
74JC19990315,  Albatross,     117,          1,         12,19990413,       0724,     -55.67,     -33.86,  1277.7,2,   1.0669,2,  34.7031,2,  34.7027,2,    193.4,2,  195.76,2,  112.08,2,   33.10,2,    2.26,2, -999.00,9
74JC19990315,  Albatross,     117,          1,         11,19990413,       0724,     -55.67,     -33.86,  1534.9,2,   0.8524,2,  34.6943,2,  34.6951,2,    197.9,2,  199.94,2,  116.96,2,   34.07,2,    2.24,2, -999.00,9
74JC19990315,  Albatross,     117,          1,         10,19990413,       0724,     -55.67,     -33.86,  1789.8,2,   0.6585,2,  34.6885,2,  34.6890,2,    201.2,2,  203.74,2,  118.13,2,   34.27,2,    2.26,2, -999.00,9
74JC19990315,  Albatross,     117,          1,          9,19990413,       0724,     -55.67,     -33.86,  2046.7,2,   0.5660,2,  34.6885,2,  34.6886,2,    204.2,2,  205.78,2,  120.48,2,   33.39,2,    2.26,2, -999.00,9
74JC19990315,  Albatross,     117,          1,          8,19990413,       0724,     -55.67,     -33.86,  2558.9,2,   0.3731,2,  34.6807,2,  34.6815,2,    211.1,2,  211.23,2,  124.48,2,   35.15,2,    2.27,2, -999.00,9
74JC19990315,  Albatross,     117,          1,          7,19990413,       0724,     -55.67,     -33.86,  2913.2,2,   0.2273,2,  34.6735,2,  34.6741,2,    217.0,2,  215.61,2,  124.48,2,   33.88,2,    2.27,2, -999.00,9
74JC19990315,  Albatross,     117,          1,          6,19990413,       0724,     -55.67,     -33.86,  2913.2,2,   0.2267,2,  34.6735,2,  34.6741,2,    217.0,2,  216.09,2,  124.68,2,   33.68,2,    2.28,2, -999.00,9
74JC19990315,  Albatross,     117,          1,          5,19990413,       0724,     -55.67,     -33.86,  2912.8,2,   0.2264,2,  34.6734,2,-999.0000,9,    217.0,2, -999.00,9, -999.00,9, -999.00,9, -999.00,9, -999.00,9
74JC19990315,  Albatross,     117,          1,          4,19990413,       0724,     -55.67,     -33.86,  3015.5,2,   0.1862,2,  34.6714,2,  34.6711,2,    218.1,2,  217.16,2,  124.29,2,   33.88,2,    2.25,2, -999.00,9
74JC19990315,  Albatross,     117,          1,          3,19990413,       0724,     -55.67,     -33.86,  3066.7,2,   0.1626,2,  34.6706,2,  34.6703,2,    218.7,2,  218.24,2,  124.77,2,   33.88,2,    2.22,2, -999.00,9
74JC19990315,  Albatross,     117,          1,          2,19990413,       0724,     -55.67,     -33.86,  3107.5,2,   0.1226,2,  34.6693,2,  34.6686,2,    219.5,2,  218.62,2,  123.41,2,   34.07,2,    2.21,2, -999.00,9
74JC19990315,  Albatross,     117,          1,          1,19990413,       0724,     -55.67,     -33.86,  3107.2,2,   0.1235,2,  34.6692,2,  34.6686,2,    219.6,2,  218.62,2,  124.78,2,   34.27,2,    2.22,2, -999.00,9
74JC19990315,  Albatross,     118,          1,         20,19990413,       1151,     -55.49,     -34.13,     8.1,2,   2.5655,2,  33.8713,2,  33.8713,2,    307.3,2,  315.29,2,   27.84,2,   21.79,2,    1.35,2,   -1.69,2
74JC19990315,  Albatross,     118,          1,         19,19990413,       1151,     -55.49,     -34.13,    53.8,2,   2.5537,2,  33.8728,2,  33.8732,2,    312.9,2,  313.15,2,   27.84,2,   22.18,2,    1.35,2, -999.00,9
74JC19990315,  Albatross,     118,          1,         18,19990413,       1151,     -55.49,     -34.13,   103.6,2,   0.9236,2,  34.1608,2,  34.1608,2,    264.6,2,  254.26,2,   56.75,2,   32.72,2,    2.19,2,    1.76,2
74JC19990315,  Albatross,     118,          1,         17,19990413,       1151,     -55.49,     -34.13,   511.3,2,   2.0005,2,  34.6629,2,-999.0000,9,    172.1,2, -999.00,9, -999.00,9, -999.00,9, -999.00,9,   10.28,2
74JC19990315,  Albatross,     118,          1,         16,19990413,       1151,     -55.49,     -34.13,   511.3,2,   2.0005,2,  34.6629,2,  34.6623,2,    172.1,2,  170.49,2,   89.04,2,   33.10,2,    2.25,2,   10.28,2
74JC19990315,  Albatross,     118,          1,         15,19990413,       1151,     -55.49,     -34.13,   765.6,2,   1.6912,2,  34.7033,2,  34.7029,2,    179.2,2,  178.07,2,   97.63,2,   32.41,2,    2.22,2, -999.00,9
74JC19990315,  Albatross,     118,          1,         14,19990413,       1151,     -55.49,     -34.13,   765.8,2,   1.6923,2,  34.7031,2,  34.7031,2,    179.2,2,  181.18,2,   97.44,2,   32.51,2,    2.19,2,   11.33,2
74JC19990315,  Albatross,     118,          1,         13,19990413,       1151,     -55.49,     -34.13,  1019.7,2,   1.5057,2,  34.7129,2,  34.7131,2,    185.4,2,  185.56,2,  102.61,2,   32.61,2,    2.19,2,   11.43,2
74JC19990315,  Albatross,     118,          1,         12,19990413,       1151,     -55.49,     -34.13,  1020.0,2,   1.5041,2,  34.7130,2,  34.7125,2,    185.4,2,  185.07,2,  102.61,2,   32.41,2,    2.17,2,    7.43,2
74JC19990315,  Albatross,     118,          1,         11,19990413,       1151,     -55.49,     -34.13,  1275.2,2,   1.3050,2,  34.7131,2,  34.7137,2,    189.4,2,  189.44,2,  107.20,2,   32.41,2,    2.19,2, -999.00,9
74JC19990315,  Albatross,     118,          1,         10,19990413,       1151,     -55.49,     -34.13,  1529.5,2,   1.1057,2,  34.7090,2,  34.7094,2,    192.2,2,  195.09,2,  111.40,2,   32.71,2,    2.20,2,   10.20,2
74JC19990315,  Albatross,     118,          1,          9,19990413,       1151,     -55.49,     -34.13,  1783.7,2,   0.9629,2,  34.7045,2,  34.7043,2,    197.8,2,  198.29,2,  113.45,2,   32.41,2,    2.21,2, -999.00,9
74JC19990315,  Albatross,     118,          1,          8,19990413,       1151,     -55.49,     -34.13,  2041.1,2,   0.8323,2,  34.7014,2,  34.7017,2,    200.5,2,  200.34,2,  116.28,2,   32.22,2,    2.20,2,    8.52,2
74JC19990315,  Albatross,     118,          1,          7,19990413,       1151,     -55.49,     -34.13,  2289.1,2,   0.6492,2,  34.6948,2,  34.6949,2,    205.2,2,  204.32,2,  117.94,2,   32.32,2,    2.19,2, -999.00,9
74JC19990315,  Albatross,     118,          1,          6,19990413,       1151,     -55.49,     -34.13,  2288.5,2,   0.6485,2,  34.6948,2,  34.6943,2,    205.2,2,  204.81,2,  119.31,2,   33.00,2,    2.23,2,    9.41,2
74JC19990315,  Albatross,     118,          1,          5,19990413,       1151,     -55.49,     -34.13,  2288.9,2,   0.6477,2,  34.6946,2,-999.0000,9,    205.2,2, -999.00,9, -999.00,9, -999.00,9, -999.00,9, -999.00,9
74JC19990315,  Albatross,     118,          1,          4,19990413,       1151,     -55.49,     -34.13,  2392.1,2,   0.6043,2,  34.6927,2,  34.6909,2,    206.1,2,  205.68,2,  120.09,2,   33.49,2,    2.24,2, -999.00,9
74JC19990315,  Albatross,     118,          1,          3,19990413,       1151,     -55.49,     -34.13,  2443.2,2,   0.5722,2,  34.6913,2,  34.6921,2,    206.7,2,  206.37,2,  120.48,2,   33.10,2,    2.21,2, -999.00,9
74JC19990315,  Albatross,     118,          1,          2,19990413,       1151,     -55.49,     -34.13,  2487.3,2,   0.5591,2,  34.6908,2,  34.6899,2,    206.5,2,  206.75,2,  122.63,2,   33.10,2,    2.22,2,    9.49,2
74JC19990315,  Albatross,     118,          1,          1,19990413,       1151,     -55.49,     -34.13,  2487.3,2,   0.5591,2,  34.6908,2,  34.6909,2,    206.5,2,  206.85,2,  123.50,2,   33.19,2,    2.21,2,    9.49,2
74JC19990315,  Albatross,     119,          1,         14,19990413,       1530,     -55.29,      -34.4,     8.6,2,   2.7421,2,  33.8091,2,  33.8085,2,    315.6,2,  315.79,2,   24.23,2,   22.76,2,    1.52,2, -999.00,9
74JC19990315,  Albatross,     119,          1,         13,19990413,       1530,     -55.29,      -34.4,    54.6,2,   2.7309,2,  33.8095,2,  33.8091,2,    319.5,2,  281.38,2,   42.40,2,   30.87,2,    2.06,2, -999.00,9
74JC19990315,  Albatross,     119,          1,         12,19990413,       1530,     -55.29,      -34.4,   105.0,2,   1.0782,2,  34.0178,2,  34.0175,2,    180.0,2,  179.91,2,   73.46,2,   36.24,2,    2.37,2, -999.00,9
74JC19990315,  Albatross,     119,          1,         11,19990413,       1530,     -55.29,      -34.4,   256.6,2,   2.1300,2,  34.4519,2,  34.4550,2,    154.4,2,  172.26,2,   87.88,2,   35.54,2,    2.36,2, -999.00,9
74JC19990315,  Albatross,     119,          1,         10,19990413,       1530,     -55.29,      -34.4,   511.9,2,   1.9611,2,  34.6080,2,  34.6077,2,    174.8,2,  172.53,2,   96.17,2,   34.17,2,    2.28,2, -999.00,9
74JC19990315,  Albatross,     119,          1,          9,19990413,       1530,     -55.29,      -34.4,   763.9,2,   1.9340,2,  34.6803,2,  34.6809,2,    182.0,2,  179.23,2,  101.44,2,   33.78,2,    2.25,2, -999.00,9
74JC19990315,  Albatross,     119,          1,          8,19990413,       1530,     -55.29,      -34.4,  1019.6,2,   1.7410,2,  34.7068,2,  34.7080,2,    184.5,2,  185.94,2,  107.20,2,   33.10,2,    2.22,2, -999.00,9
74JC19990315,  Albatross,     119,          1,          7,19990413,       1530,     -55.29,      -34.4,  1275.0,2,   1.4778,2,  34.7147,2,  34.7160,2,    184.0,2,  190.51,2,  111.49,2,   33.00,2,    2.19,2, -999.00,9
74JC19990315,  Albatross,     119,          1,          6,19990413,       1530,     -55.29,      -34.4,  1530.5,2,   1.2930,2,  34.7121,2,  34.7135,2,    188.6,2, -999.00,9, -999.00,9, -999.00,9, -999.00,9, -999.00,9
74JC19990315,  Albatross,     119,          1,          5,19990413,       1530,     -55.29,      -34.4,  1801.7,2,   1.1287,2,  34.7094,2,  34.7080,2,    191.8,2,  194.21,2,  115.50,2,   32.80,2,    2.18,2, -999.00,9
74JC19990315,  Albatross,     119,          1,          4,19990413,       1530,     -55.29,      -34.4,  1903.5,2,   1.0929,2,  34.7088,2,  34.7086,2,    194.1,2,  195.08,2,  116.08,2,   33.39,2,    2.19,2, -999.00,9
74JC19990315,  Albatross,     119,          1,          3,19990413,       1530,     -55.29,      -34.4,  1954.2,2,   1.0608,2,  34.7082,2,  34.7082,2,    199.7,2,  195.95,2,  117.06,2,   33.19,2,    2.17,2, -999.00,9
74JC19990315,  Albatross,     119,          1,          2,19990413,       1530,     -55.29,      -34.4,  1997.1,2,   1.0433,2,  34.7075,2,  34.7064,2,    197.5,2,  196.15,2,  118.23,2,   33.10,2,    2.20,2, -999.00,9
74JC19990315,  Albatross,     119,          1,          1,19990413,       1530,     -55.29,      -34.4,  1997.1,2,   1.0433,2,  34.7075,2,  34.7045,2,    197.5,2,  196.44,2,  116.96,2,   33.29,2,    2.16,2, -999.00,9
74JC19990315,  Albatross,     120,          1,         12,19990413,       1732,     -55.26,     -34.44,     8.3,2,   2.6825,2,  33.8221,2,  33.8216,2,    313.7,2,  316.00,2,   25.01,2,   23.35,2,    1.53,2,   -2.09,2
74JC19990315,  Albatross,     120,          1,         11,19990413,       1732,     -55.26,     -34.44,    53.0,2,   2.6687,2,  33.8205,2,  33.8218,2,    313.6,2,  316.18,2,   25.50,2,   23.45,2,    1.59,2, -999.00,9
74JC19990315,  Albatross,     120,          1,         10,19990413,       1732,     -55.26,     -34.44,   104.8,2,   1.1729,2,  34.0040,2,  34.0042,2,    294.5,2,  289.92,2,   45.23,2,   29.79,2,    1.99,2, -999.00,9
74JC19990315,  Albatross,     120,          1,          9,19990413,       1732,     -55.26,     -34.44,   257.3,2,   2.0815,2,  34.4675,2,  34.4673,2,    183.9,2,  179.47,2,   74.99,2,   36.03,2,    2.43,2,    4.65,2
74JC19990315,  Albatross,     120,          1,          8,19990413,       1732,     -55.26,     -34.44,   508.4,2,   1.9561,2,  34.6036,2,  34.6034,2,    170.1,2,  171.86,2,   86.80,2,   35.05,2,    2.36,2, -999.00,9
74JC19990315,  Albatross,     120,          1,          7,19990413,       1732,     -55.26,     -34.44,   763.0,2,   1.9350,2,  34.6781,2,  34.6770,2,    171.7,2,  172.82,2,   93.73,2,   33.98,2,    2.27,2,   11.98,2
74JC19990315,  Albatross,     120,          1,          6,19990413,       1732,     -55.26,     -34.44,  1018.2,2,   1.7201,2,  34.7034,2,  34.6366,2,    178.3,2,  198.12,2,   94.21,2,   32.90,2,    2.24,2, -999.00,9
74JC19990315,  Albatross,     120,          1,          5,19990413,       1732,     -55.26,     -34.44,  1335.3,2,   1.5162,2,  34.7140,2,  34.7139,2,    185.1,2,  185.26,2,  106.51,2,   32.90,2,    2.30,2,    9.88,2
74JC19990315,  Albatross,     120,          1,          4,19990413,       1732,     -55.26,     -34.44,  1436.9,2,   1.4104,2,  34.7144,2,  34.7149,2,    187.8,2,  188.18,2,  108.66,2,   32.90,2,    2.22,2, -999.00,9
74JC19990315,  Albatross,     120,          1,          3,19990413,       1732,     -55.26,     -34.44,  1486.7,2,   1.2968,2,  34.7137,2,  34.7135,2,    190.6,2,  190.32,2,  111.59,2,   33.10,2,    2.21,2, -999.00,9
74JC19990315,  Albatross,     120,          1,          2,19990413,       1732,     -55.26,     -34.44,  1531.3,2,   1.2917,2,  34.7137,2,  34.7145,2,    190.6,2,  191.10,2,  112.27,2,   33.68,2,    2.20,2,   11.14,2
74JC19990315,  Albatross,     120,          1,          1,19990413,       1732,     -55.26,     -34.44,  1531.3,2,   1.2917,2,  34.7137,2,  34.7133,2,    190.6,2,  190.71,2,  113.25,2,   33.00,2,    2.19,2,   11.14,2
74JC19990315,  Albatross,     121,          1,         11,19990413,       1943,     -55.23,     -34.49,     8.6,2,   2.6704,2,  33.8219,2,  33.8218,2,    319.9,2,  316.48,2,   26.28,2,   23.64,2,    1.48,2, -999.00,9
74JC19990315,  Albatross,     121,          1,         10,19990413,       1943,     -55.23,     -34.49,    54.7,2,   2.6600,2,  33.8241,2,  33.8240,2,    312.7,2,  316.18,2,   26.67,2,   23.74,2,    1.50,2, -999.00,9
74JC19990315,  Albatross,     121,          1,          9,19990413,       1943,     -55.23,     -34.49,   105.0,2,   1.0003,2,  34.1058,2,  34.1058,2,    320.6,2,  259.52,2,   51.96,2,   33.21,2,    2.18,2, -999.00,9
74JC19990315,  Albatross,     121,          1,          8,19990413,       1943,     -55.23,     -34.49,   258.6,2,   1.7366,2,  34.3703,2,  34.3672,2,    198.5,2,  199.13,2,   69.53,2,   37.11,2,    2.40,2, -999.00,9
74JC19990315,  Albatross,     121,          1,          7,19990413,       1943,     -55.23,     -34.49,   509.4,2,   2.0598,2,  34.6139,2,  34.6140,2,    170.1,2,  169.71,2,   88.36,2,   35.44,2,    2.35,2, -999.00,9
74JC19990315,  Albatross,     121,          1,          6,19990413,       1943,     -55.23,     -34.49,   765.5,2,   1.9355,2,  34.6739,2,  34.6744,2,    172.7,2,  173.40,2,   94.31,2,   34.17,2,    2.27,2, -999.00,9
74JC19990315,  Albatross,     121,          1,          5,19990413,       1943,     -55.23,     -34.49,   885.1,2,   1.8692,2,  34.6857,2,  34.6860,2,    174.8,2,  174.18,2,   96.46,2,   34.17,2,    2.24,2, -999.00,9
74JC19990315,  Albatross,     121,          1,          4,19990413,       1943,     -55.23,     -34.49,   987.3,2,   1.7683,2,  34.7003,2,  34.7002,2,    178.0,2,  177.87,2,   99.68,2,   33.98,2,    2.24,2, -999.00,9
74JC19990315,  Albatross,     121,          1,          3,19990413,       1943,     -55.23,     -34.49,  1048.1,2,   1.7213,2,  34.7050,2,  34.7049,2,    179.8,2,  178.94,2,  100.75,2,   33.39,2,    2.21,2, -999.00,9
74JC19990315,  Albatross,     121,          1,          2,19990413,       1943,     -55.23,     -34.49,  1093.4,2,   1.6813,2,  34.7080,2,  34.7078,2,    180.1,2,  180.49,2,  102.02,2,   33.39,2,    2.22,2, -999.00,9
74JC19990315,  Albatross,     121,          1,          1,19990413,       1943,     -55.23,     -34.49,  1093.4,2,   1.6813,2,  34.7080,2,  34.7078,2,    180.1,2,  180.40,2,  102.80,2,   33.00,2,    2.17,2, -999.00,9
74JC19990315,  Albatross,     122,          1,          9,19990413,       2059,     -55.21,     -34.51,     8.6,2,   2.6635,2,  33.8198,2,  33.8201,2,    316.3,2,  316.68,2,   25.89,2,   23.64,2,    1.48,2,   -1.12,2
74JC19990315,  Albatross,     122,          1,          8,19990413,       2059,     -55.21,     -34.51,    54.3,2,   2.6640,2,  33.8241,2,  33.8240,2,    316.9,2,  316.47,2,   26.28,2,   23.35,2,    1.46,2, -999.00,9
74JC19990315,  Albatross,     122,          1,          7,19990413,       2059,     -55.21,     -34.51,   105.6,2,   1.0472,2,  34.0241,2,  34.0242,2,    277.4,2,  277.36,2,   45.32,2,   31.06,2,    2.05,2,    0.35,2
74JC19990315,  Albatross,     122,          1,          6,19990413,       2059,     -55.21,     -34.51,   255.5,2,   1.9395,2,  34.4604,2,  34.4605,2,    183.4,2,  182.49,2,   75.29,2,   35.84,2,    2.37,2, -999.00,9
74JC19990315,  Albatross,     122,          1,          5,19990413,       2059,     -55.21,     -34.51,   369.8,2,   2.1304,2,  34.5579,2,  34.5571,2,    169.8,2,  170.79,2,   88.95,2,   36.13,2,    2.35,2, -999.00,9
74JC19990315,  Albatross,     122,          1,          4,19990413,       2059,     -55.21,     -34.51,   470.8,2,   2.1014,2,  34.5897,2,  34.5895,2,    169.4,2,  169.23,2,   85.92,2,   36.03,2,    2.35,2, -999.00,9
74JC19990315,  Albatross,     122,          1,          3,19990413,       2059,     -55.21,     -34.51,   522.2,2,   2.0854,2,  34.6041,2,  34.6042,2,    170.1,2,  169.82,2,   88.36,2,   35.93,2,    2.32,2, -999.00,9
74JC19990315,  Albatross,     122,          1,          2,19990413,       2059,     -55.21,     -34.51,   568.6,2,   2.0592,2,  34.6179,2,  34.6181,2,    170.0,2,  170.39,2,   90.12,2,   35.74,2,    2.35,2,    9.96,2
74JC19990315,  Albatross,     122,          1,          1,19990413,       2059,     -55.21,     -34.51,   568.6,2,   2.0592,2,  34.6179,2,  34.6181,2,    170.0,2,  169.91,2,   90.51,2,   35.25,2,    2.31,2,    9.96,2