BOTTLE,20140822SIOCCHAMB
EXPOCODE,SECT_ID,STNNBR,CASTNO,BTLNBR,DATE,TIME,LATITUDE,LONGITUDE,CTDPRS,CTDPRS_FLAG_W,CTDTMP,CTDTMP_FLAG_W,CTDSAL,CTDSAL_FLAG_W,SALNTY,SALNTY_FLAG_W,CTDOXY,CTDOXY_FLAG_W,OXYGEN,OXYGEN_FLAG_W,SILCAT,SILCAT_FLAG_W,NITRAT,NITRAT_FLAG_W,PHSPHT,PHSPHT_FLAG_W,DELHE3,DELHE3_FLAG_W
,,,,,,,,,DBAR,,ITS-90,,PSS-78,,PSS-78,,UMOL/KG,,UMOL/KG,,UMOL/KG,,UMOL/KG,,UMOL/KG,,PERCNT,
74JC19990315,  Albatross,     112,          1,         19,19990411,       0940,     -57.12,     -31.81,    10.6,2,   1.9579,2,  33.8883,2,  33.8881,2,    317.6,2,  315.36,2,   45.03,2,   23.25,2,    1.55,2,   -0.70,2
74JC19990315,  Albatross,     112,          1,         18,19990411,       0940,     -57.12,     -31.81,    56.8,2,   1.9736,2,  33.8908,2,  33.8898,2,    317.5,2,  319.84,2,   44.84,2,   22.86,2,    1.42,2, -999.00,9
74JC19990315,  Albatross,     112,          1,         17,19990411,       0940,     -57.12,     -31.81,   108.2,2,   0.4657,2,  34.1741,2,  34.1731,2,    304.6,2,  263.39,2,   65.24,2,   32.23,2,    2.10,2,    0.21,2
74JC19990315,  Albatross,     112,          1,         16,19990411,       0940,     -57.12,     -31.81,   260.7,2,   1.5385,2,  34.5599,2,  34.5624,2,    189.8,2,  184.30,2,   87.00,2,   34.86,2,    2.28,2,    4.66,2
74JC19990315,  Albatross,     112,          1,         15,19990411,       0940,     -57.12,     -31.81,   514.6,2,   1.6261,2,  34.6750,2,  34.6750,2,    181.7,2,  182.15,2,   95.19,2,   33.49,2,    2.18,2, -999.00,9
74JC19990315,  Albatross,     112,          1,         14,19990411,       0940,     -57.12,     -31.81,   768.9,2,   1.4033,2,  34.6990,2,  34.6996,2,    188.2,2,  190.12,2,  102.81,2,   32.90,2,    2.15,2,    9.59,2
74JC19990315,  Albatross,     112,          1,         13,19990411,       0940,     -57.12,     -31.81,  1024.1,2,   1.1001,2,  34.6991,2,  34.6994,2,    194.7,2,  193.91,2,  110.42,2,   33.00,2,    2.14,2, -999.00,9
74JC19990315,  Albatross,     112,          1,         12,19990411,       0940,     -57.12,     -31.81,  1278.2,2,   0.8474,2,  34.6950,2,  34.6943,2,    198.8,2,  200.24,2,  117.35,2,   33.49,2,    2.16,2,    6.35,2
74JC19990315,  Albatross,     112,          1,         11,19990411,       0940,     -57.12,     -31.81,  1534.5,2,   0.6622,2,  34.6886,2,  34.6899,2,    201.3,2,  202.57,2,  119.99,2,   33.59,2,    2.19,2, -999.00,9
74JC19990315,  Albatross,     112,          1,         10,19990411,       0940,     -57.12,     -31.81,  1789.9,2,   0.5678,2,  34.6892,2,  34.6903,2,    204.6,2,  205.97,2,  124.38,2,   32.90,2,    2.19,2,    8.98,2
74JC19990315,  Albatross,     112,          1,          9,19990411,       0940,     -57.12,     -31.81,  2046.3,2,   0.4254,2,  34.6833,2,  34.6845,2,    207.1,2,  209.38,2,  126.34,2,   32.90,2,    2.20,2, -999.00,9
74JC19990315,  Albatross,     112,          1,          8,19990411,       0940,     -57.12,     -31.81,  2559.5,2,   0.1912,2,  34.6707,2,  34.6733,2,    214.7,2,  216.38,2,  127.31,2,   33.29,2,    2.20,2,    6.53,2
74JC19990315,  Albatross,     112,          1,          7,19990411,       0940,     -57.12,     -31.81,  3071.4,2,   0.0578,2,  34.6652,2,  34.6660,2,    221.7,2,  221.34,2,  128.97,2,   33.10,2,    2.18,2, -999.00,9
74JC19990315,  Albatross,     112,          1,          6,19990411,       0940,     -57.12,     -31.81,  3253.1,2,   0.0195,2,  34.6631,2,  34.6640,2,    222.9,2,  224.26,2,  130.24,2,   33.00,2,    2.19,2, -999.00,9
74JC19990315,  Albatross,     112,          1,          5,19990411,       0940,     -57.12,     -31.81,  3252.9,2,   0.0197,2,  34.6632,2,  34.6613,2,    222.9,2, -999.00,9, -999.00,9, -999.00,9, -999.00,9, -999.00,9
74JC19990315,  Albatross,     112,          1,          4,19990411,       0940,     -57.12,     -31.81,  3355.4,2,   0.0055,2,  34.6622,2,  34.6609,2,    224.2,2,  223.00,2,  130.54,2,   33.20,2,    2.18,2, -999.00,9
74JC19990315,  Albatross,     112,          1,          3,19990411,       0940,     -57.12,     -31.81,  3405.7,2,  -0.0007,2,  34.6616,2,  34.6613,2,    225.0,2,  223.39,2,  129.95,2,   33.00,2,    2.19,2, -999.00,9
74JC19990315,  Albatross,     112,          1,          2,19990411,       0940,     -57.12,     -31.81,  3446.4,2,  -0.0095,2,  34.6613,2,  34.6574,2,    224.7,2,  223.97,2,  130.34,2,   33.00,2,    2.23,2,    7.09,2
74JC19990315,  Albatross,     112,          1,          1,19990411,       0940,     -57.12,     -31.81,  3446.9,2,  -0.0094,2,  34.6612,2,-999.0000,9,    224.6,2,  223.39,2,  130.93,2,   33.20,2,    2.18,2, -999.00,9
74JC19990315,  Albatross,     113,          1,         17,19990411,       1453,     -56.78,      -32.3,     8.9,2,   2.2771,2,  33.8765,2,  33.8767,2,    317.2,2,  319.07,2,   36.34,2,   24.13,2,    1.41,2, -999.00,9
74JC19990315,  Albatross,     113,          1,         16,19990411,       1453,     -56.78,      -32.3,    55.0,2,   2.2875,2,  33.8798,2,  33.8801,2,    320.0,2,  318.19,2,   35.66,2,   23.25,2,    1.41,2, -999.00,9
74JC19990315,  Albatross,     113,          1,         15,19990411,       1453,     -56.78,      -32.3,   106.6,2,   1.2556,2,  33.9970,2,  33.9933,2,    317.0,2,  299.94,2,   50.31,2,   26.47,2,    1.77,2, -999.00,9
74JC19990315,  Albatross,     113,          1,         14,19990411,       1453,     -56.78,      -32.3,   259.2,2,   0.9216,2,  34.5199,2,  34.5183,2,    213.4,2,  205.90,2,   85.73,2,   35.54,2,    2.34,2, -999.00,9
74JC19990315,  Albatross,     113,          1,         13,19990411,       1453,     -56.78,      -32.3,   513.5,2,   1.5291,2,  34.6908,2,  34.6888,2,    186.2,2,  184.38,2,   96.85,2,   33.78,2,    2.22,2, -999.00,9
74JC19990315,  Albatross,     113,          1,         12,19990411,       1453,     -56.78,      -32.3,   767.4,2,   1.2321,2,  34.7045,2,  34.7053,2,    191.4,2,  191.28,2,  105.64,2,   33.10,2,    2.27,2, -999.00,9
74JC19990315,  Albatross,     113,          1,         11,19990411,       1453,     -56.78,      -32.3,  1021.9,2,   0.8892,2,  34.6950,2,  34.6956,2,    198.6,2,  198.48,2,  111.10,2,   33.00,2,    2.16,2, -999.00,9
74JC19990315,  Albatross,     113,          1,         10,19990411,       1453,     -56.78,      -32.3,  1277.5,2,   0.6753,2,  34.6883,2,  34.6892,2,    202.1,2,  202.37,2,  115.69,2,   33.39,2,    2.17,2, -999.00,9
74JC19990315,  Albatross,     113,          1,          9,19990411,       1453,     -56.78,      -32.3,  1533.7,2,   0.5840,2,  34.6891,2,  34.6899,2,    203.8,2,  204.03,2,  119.01,2,   33.10,2,    2.18,2, -999.00,9
74JC19990315,  Albatross,     113,          1,          8,19990411,       1453,     -56.78,      -32.3,  1789.1,2,   0.4388,2,  34.6837,2,  34.6843,2,    206.4,2,  207.43,2,  121.26,2,   34.46,2,    2.18,2, -999.00,9
74JC19990315,  Albatross,     113,          1,          7,19990411,       1453,     -56.78,      -32.3,  2044.9,2,   0.3294,2,  34.6792,2,  34.6803,2,    209.6,2,  209.96,2,  121.55,2,   34.17,2,    2.17,2, -999.00,9
74JC19990315,  Albatross,     113,          1,          6,19990411,       1453,     -56.78,      -32.3,  2557.5,2,   0.1398,2,  34.6704,2,  34.6703,2,    215.9,2,  218.42,2,  123.02,2,   33.68,2,    2.18,2, -999.00,9
74JC19990315,  Albatross,     113,          1,          5,19990411,       1453,     -56.78,      -32.3,  3073.9,2,   0.0248,2,  34.6651,2,  34.6640,2,    221.0,2,  222.22,2,  124.68,2,   33.98,2,    2.17,2, -999.00,9
74JC19990315,  Albatross,     113,          1,          4,19990411,       1453,     -56.78,      -32.3,  3180.5,2,   0.0143,2,  34.6645,2,  34.6640,2,    221.3,2,  222.51,2,  124.97,2,   33.39,2,    2.20,2, -999.00,9
74JC19990315,  Albatross,     113,          1,          3,19990411,       1453,     -56.78,      -32.3,  3232.0,2,   0.0123,2,  34.6640,2,  34.6639,2,    225.5,2,  222.99,2,  125.36,2,   33.49,2,    2.17,2, -999.00,9
74JC19990315,  Albatross,     113,          1,          2,19990411,       1453,     -56.78,      -32.3,  3277.9,2,   0.0120,2,  34.6639,2,  34.6639,2,    224.0,2,  222.90,2,  126.34,2,   32.61,2,    2.15,2, -999.00,9
74JC19990315,  Albatross,     113,          1,          1,19990411,       1453,     -56.78,      -32.3,  3277.9,2,   0.0120,2,  34.6639,2,  34.6570,2,    224.0,2,  223.00,2,  127.02,2,   32.71,2,    2.15,2, -999.00,9
74JC19990315,  Albatross,     114,          1,         17,19990411,       2039,     -56.38,     -32.87,    13.0,2,   2.0405,2,  33.9284,2,  33.9297,2,    316.0,2,  318.09,2,   41.61,2,   23.05,2,    1.50,2,   -1.56,2
74JC19990315,  Albatross,     114,          1,         16,19990411,       2039,     -56.38,     -32.87,    55.6,2,   1.9445,2,  33.9401,2,  33.9434,2,    319.1,2,  317.11,2,   45.72,2,   23.44,2,    1.55,2, -999.00,9
74JC19990315,  Albatross,     114,          1,         15,19990411,       2039,     -56.38,     -32.87,   106.6,2,   0.6869,2,  34.2193,2,  34.2193,2,    292.9,2,  250.34,2,   65.24,2,   33.40,2,    2.31,2, -999.00,9
74JC19990315,  Albatross,     114,          1,         14,19990411,       2039,     -56.38,     -32.87,   259.7,2,   1.6238,2,  34.5431,2,  34.5420,2,    184.9,2,  184.51,2,   83.58,2,   35.15,2,    2.45,2,    6.99,2
74JC19990315,  Albatross,     114,          1,         13,19990411,       2039,     -56.38,     -32.87,   513.6,2,   1.7592,2,  34.6863,2,  34.6864,2,    177.0,2,  177.68,2,   94.70,2,   33.39,2,    2.31,2,    9.87,2
74JC19990315,  Albatross,     114,          1,         12,19990411,       2039,     -56.38,     -32.87,   766.7,2,   1.4760,2,  34.7024,2,  34.7013,2,    184.7,2,  185.75,2,  100.85,2,   32.71,2,    2.26,2,   10.94,2
74JC19990315,  Albatross,     114,          1,         11,19990411,       2039,     -56.38,     -32.87,  1021.7,2,   1.2849,2,  34.7138,2,  34.7135,2,    189.5,2,  190.12,2,  109.74,2,   32.80,2,    2.25,2,   10.47,2
74JC19990315,  Albatross,     114,          1,         10,19990411,       2039,     -56.38,     -32.87,  1276.4,2,   0.9999,2,  34.7045,2,  34.7043,2,    196.7,2,  191.29,2,  114.03,2,   32.51,2,    2.26,2, -999.00,9
74JC19990315,  Albatross,     114,          1,          9,19990411,       2039,     -56.38,     -32.87,  1533.3,2,   0.7630,2,  34.6937,2,  34.6949,2,    201.0,2,  202.28,2,  116.86,2,   32.61,2,    2.20,2,    9.36,2
74JC19990315,  Albatross,     114,          1,          8,19990411,       2039,     -56.38,     -32.87,  1788.4,2,   0.5949,2,  34.6893,2,  34.6896,2,    204.2,2,  204.52,2,  120.28,2,   32.80,2,    2.27,2, -999.00,9
74JC19990315,  Albatross,     114,          1,          7,19990411,       2039,     -56.38,     -32.87,  2043.6,2,   0.4961,2,  34.6867,2,  34.6864,2,    207.1,2,  208.12,2,  122.23,2,   32.71,2,    2.28,2,    8.89,2
74JC19990315,  Albatross,     114,          1,          6,19990411,       2039,     -56.38,     -32.87,  2557.7,2,   0.2447,2,  34.6741,2,  34.6746,2,    213.7,2,  216.10,2,  123.99,2,   33.20,2,    2.29,2,    6.54,2
74JC19990315,  Albatross,     114,          1,          5,19990411,       2039,     -56.38,     -32.87,  2984.4,2,   0.0733,2,  34.6666,2,  34.6664,2,    220.3,2,  220.67,2,  124.97,2,   33.00,2,    2.28,2, -999.00,9
74JC19990315,  Albatross,     114,          1,          4,19990411,       2039,     -56.38,     -32.87,  3086.3,2,   0.0431,2,  34.6653,2,  34.6648,2,    221.4,2,  222.03,2,  125.85,2,   33.20,2,    2.27,2, -999.00,9
74JC19990315,  Albatross,     114,          1,          3,19990411,       2039,     -56.38,     -32.87,  3137.7,2,   0.0428,2,  34.6648,2,  34.6648,2,    222.2,2,  222.32,2,  126.04,2,   33.00,2,    2.28,2, -999.00,9
74JC19990315,  Albatross,     114,          1,          2,19990411,       2039,     -56.38,     -32.87,  3184.1,2,   0.0468,2,  34.6648,2,  34.6644,2,    223.5,2,  222.32,2,  126.53,2,   33.39,2,    2.28,2,    7.52,2
74JC19990315,  Albatross,     114,          1,          1,19990411,       2039,     -56.38,     -32.87,  3184.1,2,   0.0468,2,  34.6648,2,  34.6654,2,    223.5,2,  222.03,2,  128.09,2,   33.29,2,    2.29,2,    7.52,2
74JC19990315,  Albatross,     115,          1,         17,19990412,       0258,     -55.99,     -33.42,     9.2,2,   2.5451,2,  33.8697,2,  33.8703,2,    314.6,2,  316.06,2,   25.20,2,   22.96,2,    1.44,2,   -1.68,2
74JC19990315,  Albatross,     115,          1,         16,19990412,       0258,     -55.99,     -33.42,    56.0,2,   2.5419,2,  33.8706,2,  33.8709,2,    318.5,2,  315.77,2,   25.40,2,   23.25,2,    1.43,2, -999.00,9
74JC19990315,  Albatross,     115,          1,         15,19990412,       0258,     -55.99,     -33.42,   106.5,2,   1.3494,2,  34.1142,2,  34.1101,2,    253.7,2,  256.41,2,   46.79,2,   31.55,2,    2.17,2,    1.53,2
74JC19990315,  Albatross,     115,          1,         14,19990412,       0258,     -55.99,     -33.42,   259.3,2,   2.0081,2,  34.4828,2,  34.4773,2,    183.2,2,  179.55,2,   74.99,2,   34.37,2,    2.41,2, -999.00,9
74JC19990315,  Albatross,     115,          1,         13,19990412,       0258,     -55.99,     -33.42,   513.6,2,   1.9491,2,  34.6433,2,  34.6431,2,    172.0,2,  172.23,2,   87.97,2,   33.39,2,    2.31,2,   10.22,2
74JC19990315,  Albatross,     115,          1,         12,19990412,       0258,     -55.99,     -33.42,   766.9,2,   1.7748,2,  34.6984,2,  34.6984,2,    176.9,2,  177.38,2,   95.58,2,   32.32,2,    2.26,2,    9.83,2
74JC19990315,  Albatross,     115,          1,         11,19990412,       0258,     -55.99,     -33.42,  1022.4,2,   1.5039,2,  34.7133,2,  34.7123,2,    185.7,2,  185.26,2,  101.44,2,   32.12,2,    2.22,2, -999.00,9
74JC19990315,  Albatross,     115,          1,         10,19990412,       0258,     -55.99,     -33.42,  1278.0,2,   1.2567,2,  34.7124,2,  34.7106,2,    191.4,2,  191.58,2,  107.39,2,   32.02,2,    2.22,2,    9.45,2
74JC19990315,  Albatross,     115,          1,          9,19990412,       0258,     -55.99,     -33.42,  1533.5,2,   0.9654,2,  34.7041,2,  34.7049,2,    196.3,2,  197.61,2,  113.54,2,   31.93,2,    2.24,2, -999.00,9
74JC19990315,  Albatross,     115,          1,          8,19990412,       0258,     -55.99,     -33.42,  1786.8,2,   0.7826,2,  34.6971,2,  34.6986,2,    200.3,2,  201.01,2,  117.94,2,   32.12,2,    2.28,2,   10.10,2
74JC19990315,  Albatross,     115,          1,          7,19990412,       0258,     -55.99,     -33.42,  2044.2,2,   0.6223,2,  34.6907,2,  34.6917,2,    204.1,2,  204.13,2,  119.21,2,   32.22,2,    2.25,2, -999.00,9
74JC19990315,  Albatross,     115,          1,          6,19990412,       0258,     -55.99,     -33.42,  2557.2,2,   0.3682,2,  34.6803,2,  34.6811,2,    211.4,2,  211.52,2,  122.82,2,   32.41,2,    2.26,2, -999.00,9
74JC19990315,  Albatross,     115,          1,          5,19990412,       0258,     -55.99,     -33.42,  2896.7,2,   0.1802,2,  34.6719,2,-999.0000,9,    217.7,2,  221.94,2,  109.25,2,   32.12,2,    2.23,2, -999.00,9
74JC19990315,  Albatross,     115,          1,          4,19990412,       0258,     -55.99,     -33.42,  2999.6,2,   0.1482,2,  34.6705,2,  34.6705,2,    218.9,2,  217.84,2,  125.46,2,   32.51,2,    2.27,2, -999.00,9
74JC19990315,  Albatross,     115,          1,          3,19990412,       0258,     -55.99,     -33.42,  3050.5,2,   0.1396,2,  34.6697,2,  34.6697,2,    219.6,2,  218.33,2,  125.36,2,   32.41,2,    2.30,2, -999.00,9
74JC19990315,  Albatross,     115,          1,          2,19990412,       0258,     -55.99,     -33.42,  3097.1,2,   0.1241,2,  34.6696,2,  34.6695,2,    220.2,2,  218.82,2,  126.04,2,   32.61,2,    2.27,2,    7.34,2
74JC19990315,  Albatross,     115,          1,          1,19990412,       0258,     -55.99,     -33.42,  3097.1,2,   0.1241,2,  34.6696,2,  34.6690,2,    220.2,2,  219.01,2,  127.70,2,   32.80,2,    2.30,2,    7.34,2
74JC19990315,  Albatross,     116,          1,         18,19990413,       0036,     -55.73,     -33.79,    10.8,2,   2.4062,2,  33.8843,2,  33.8842,2,    311.9,2,  314.49,2,   27.55,2,   23.45,2,    1.46,2, -999.00,9
74JC19990315,  Albatross,     116,          1,         17,19990413,       0036,     -55.73,     -33.79,    56.4,2,   2.4041,2,  33.8841,2,  33.8849,2,    316.9,2,  314.69,2,   27.84,2,   22.96,2,    1.43,2, -999.00,9
74JC19990315,  Albatross,     116,          1,         16,19990413,       0036,     -55.73,     -33.79,   107.3,2,   1.6497,2,  34.0116,2,  34.0070,2,    267.3,2,  285.34,2,   41.51,2,   28.33,2,    1.85,2, -999.00,9
74JC19990315,  Albatross,     116,          1,         15,19990413,       0036,     -55.73,     -33.79,   260.4,2,   1.6709,2,  34.4732,2,  34.4709,2,    192.6,2,  185.58,2,   80.07,2,   35.15,2,    2.43,2, -999.00,9
74JC19990315,  Albatross,     116,          1,         14,19990413,       0036,     -55.73,     -33.79,   513.8,2,   1.9111,2,  34.6525,2,  34.6519,2,    176.4,2,  179.43,2,   92.07,2,   33.29,2,    2.30,2, -999.00,9
74JC19990315,  Albatross,     116,          1,         13,19990413,       0036,     -55.73,     -33.79,   768.1,2,   1.6915,2,  34.6978,2,  34.6974,2,    181.0,2,  179.71,2,   99.58,2,   33.78,2,    2.23,2, -999.00,9
74JC19990315,  Albatross,     116,          1,         12,19990413,       0036,     -55.73,     -33.79,  1021.9,2,   1.4242,2,  34.7077,2,  34.7074,2,    187.1,2,  186.13,2,  105.25,2,   31.83,2,    2.21,2, -999.00,9
74JC19990315,  Albatross,     116,          1,         11,19990413,       0036,     -55.73,     -33.79,  1278.9,2,   1.0616,2,  34.6961,2,  34.6966,2,    193.5,2,  195.66,2,  108.76,2,   31.63,2,    2.20,2, -999.00,9
74JC19990315,  Albatross,     116,          1,         10,19990413,       0036,     -55.73,     -33.79,  1534.4,2,   0.8530,2,  34.6957,2,  34.6958,2,    198.4,2,  200.23,2,  115.40,2,   31.83,2,    2.21,2, -999.00,9
74JC19990315,  Albatross,     116,          1,          9,19990413,       0036,     -55.73,     -33.79,  1788.9,2,   0.6860,2,  34.6926,2,  34.6925,2,    200.7,2,  203.25,2,  119.31,2,   31.83,2,    2.23,2, -999.00,9
74JC19990315,  Albatross,     116,          1,          8,19990413,       0036,     -55.73,     -33.79,  2045.2,2,   0.5551,2,  34.6887,2,  34.6884,2,    203.5,2,  205.29,2,  122.33,2,   31.63,2,    2.21,2, -999.00,9
74JC19990315,  Albatross,     116,          1,          7,19990413,       0036,     -55.73,     -33.79,  2557.2,2,   0.3266,2,  34.6787,2,  34.6790,2,    210.5,2,  211.71,2,  125.46,2,   32.02,2,    2.23,2, -999.00,9
74JC19990315,  Albatross,     116,          1,          6,19990413,       0036,     -55.73,     -33.79,  3071.2,2,   0.1701,2,  34.6704,2,  34.6707,2,    217.1,2,  218.72,2,  125.75,2,   31.93,2,    2.22,2, -999.00,9
74JC19990315,  Albatross,     116,          1,          5,19990413,       0036,     -55.73,     -33.79,  3365.9,2,   0.1223,2,  34.6681,2,-999.0000,9,    220.4,2, -999.00,9, -999.00,9, -999.00,9, -999.00,9, -999.00,9
74JC19990315,  Albatross,     116,          1,          4,19990413,       0036,     -55.73,     -33.79,  3468.3,2,   0.1292,2,  34.6678,2,  34.6674,2,    220.6,2,  219.01,2,  126.24,2,   32.22,2,    2.23,2, -999.00,9
74JC19990315,  Albatross,     116,          1,          3,19990413,       0036,     -55.73,     -33.79,  3519.7,2,   0.1307,2,  34.6672,2,  34.6676,2,    221.9,2,  219.69,2,  126.34,2,   31.83,2,    2.69,2, -999.00,9
74JC19990315,  Albatross,     116,          1,          2,19990413,       0036,     -55.73,     -33.79,  3565.3,2,   0.1264,2,  34.6671,2,  34.6674,2,    221.0,2,  220.66,2,  126.14,2,   32.41,2,    2.30,2, -999.00,9
74JC19990315,  Albatross,     116,          1,          1,19990413,       0036,     -55.73,     -33.79,  3565.3,2,   0.1264,2,  34.6671,2,  34.6666,2,    221.0,2,  220.08,2,  127.12,2,   31.63,2,    2.25,2, -999.00,9