BOTTLE,20140822SIOCCHAMB
EXPOCODE,SECT_ID,STNNBR,CASTNO,BTLNBR,DATE,TIME,LATITUDE,LONGITUDE,CTDPRS,CTDPRS_FLAG_W,CTDTMP,CTDTMP_FLAG_W,CTDSAL,CTDSAL_FLAG_W,SALNTY,SALNTY_FLAG_W,CTDOXY,CTDOXY_FLAG_W,OXYGEN,OXYGEN_FLAG_W,SILCAT,SILCAT_FLAG_W,NITRAT,NITRAT_FLAG_W,PHSPHT,PHSPHT_FLAG_W,DELHE3,DELHE3_FLAG_W
,,,,,,,,,DBAR,,ITS-90,,PSS-78,,PSS-78,,UMOL/KG,,UMOL/KG,,UMOL/KG,,UMOL/KG,,UMOL/KG,,PERCNT,
74JC19990315,  Albatross,      35,          1,         18,19990326,       0050,      -62.5,     -64.46,    11.9,2,   1.1303,2,  33.7418,2,  33.7413,2,    338.0,2,  335.04,2,   42.11,2,   26.38,2,    1.63,2, -999.00,9
74JC19990315,  Albatross,      35,          1,         17,19990326,       0050,      -62.5,     -64.46,    57.8,2,   1.0781,2,  33.7981,2,  33.7968,2,    334.7,2,  331.81,2,   43.96,2,   26.38,2,    1.66,2, -999.00,9
74JC19990315,  Albatross,      35,          1,         16,19990326,       0050,      -62.5,     -64.46,   108.6,2,  -0.2629,2,  34.1794,2,  34.1759,2,    275.4,2,  285.07,2,   72.57,2,   32.23,2,    2.16,2, -999.00,9
74JC19990315,  Albatross,      35,          1,         15,19990326,       0050,      -62.5,     -64.46,   261.1,2,   1.5911,2,  34.6247,2,  34.6242,2,    178.1,2,  171.84,2,   91.09,2,   34.17,2,    2.30,2, -999.00,9
74JC19990315,  Albatross,      35,          1,         14,19990326,       0050,      -62.5,     -64.46,   515.0,2,   1.6872,2,  34.7198,2,  34.7186,2,    180.4,2,  180.68,2,   98.90,2,   33.19,2,    2.20,2, -999.00,9
74JC19990315,  Albatross,      35,          1,         13,19990326,       0050,      -62.5,     -64.46,   769.2,2,   1.3998,2,  34.7292,2,  34.7296,2,    190.0,2,  188.65,2,  105.34,2,   32.51,2,    2.17,2, -999.00,9
74JC19990315,  Albatross,      35,          1,         12,19990326,       0050,      -62.5,     -64.46,  1023.3,2,   1.1199,2,  34.7237,2,  34.7245,2,    194.6,2,  194.30,2,  114.42,2,   32.51,2,    2.17,2, -999.00,9
74JC19990315,  Albatross,      35,          1,         11,19990326,       0050,      -62.5,     -64.46,  1278.4,2,   0.9359,2,  34.7171,2,  34.7172,2,    197.0,2,  198.19,2,  119.11,2,   32.80,2,    2.24,2, -999.00,9
74JC19990315,  Albatross,      35,          1,         10,19990326,       0050,      -62.5,     -64.46,  1534.7,2,   0.8088,2,  34.7129,2,  34.7166,2,    199.2,2,  199.74,2,  121.84,2,   32.61,2,    2.18,2, -999.00,9
74JC19990315,  Albatross,      35,          1,          9,19990326,       0050,      -62.5,     -64.46,  1789.9,2,   0.6540,2,  34.7084,2,  34.7090,2,    201.3,2,  202.46,2,  128.38,2,   32.90,2,    2.19,2, -999.00,9
74JC19990315,  Albatross,      35,          1,          8,19990326,       0050,      -62.5,     -64.46,  2045.7,2,   0.5542,2,  34.7061,2,  34.7070,2,    203.6,2,  204.51,2,  129.56,2,   33.29,2,    2.20,2, -999.00,9
74JC19990315,  Albatross,      35,          1,          7,19990326,       0050,      -62.5,     -64.46,  2557.7,2,   0.4457,2,  34.7019,2,  34.7025,2,    206.5,2,  208.01,2,  134.34,2,   33.58,2,    2.22,2, -999.00,9
74JC19990315,  Albatross,      35,          1,          6,19990326,       0050,      -62.5,     -64.46,  3070.6,2,   0.4372,2,  34.7004,2,  34.7005,2,    206.8,2,  208.79,2,  132.97,2,   33.68,2,    2.21,2, -999.00,9
74JC19990315,  Albatross,      35,          1,          5,19990326,       0050,      -62.5,     -64.46,  3610.0,2,   0.3932,2,  34.6915,2,  34.6913,2,    212.9,2,  211.90,2,  131.22,2,   33.88,2,    2.19,2, -999.00,9
74JC19990315,  Albatross,      35,          1,          4,19990326,       0050,      -62.5,     -64.46,  3712.9,2,   0.3833,2,  34.6893,2,  34.6892,2,    214.3,2,  213.27,2,  130.05,2,   33.39,2,    2.24,2, -999.00,9
74JC19990315,  Albatross,      35,          1,          3,19990326,       0050,      -62.5,     -64.46,  3764.5,2,   0.3856,2,  34.6888,2,  34.6888,2,    214.1,2,  212.68,2,  132.10,2,   33.29,2,    2.19,2, -999.00,9
74JC19990315,  Albatross,      35,          1,          2,19990326,       0050,      -62.5,     -64.46,  3805.8,2,   0.3886,2,  34.6891,2,  34.6886,2,    213.0,2,  212.29,2,  132.19,2,   33.88,2,    2.17,2, -999.00,9
74JC19990315,  Albatross,      35,          1,          1,19990326,       0050,      -62.5,     -64.46,  3805.8,2,   0.3886,2,  34.6891,2,  34.6884,2,    213.0,2,  213.17,2,  132.00,2,   33.59,2,    2.17,2, -999.00,9
74JC19990315,  Albatross,      36,          1,         18,19990326,       0453,     -62.61,     -64.08,    11.3,2,   1.3171,2,  33.7443,2,  33.7436,2,    330.5,2,  334.75,2,   32.83,2,   25.79,2,    1.62,2, -999.00,9
74JC19990315,  Albatross,      36,          1,         17,19990326,       0453,     -62.61,     -64.08,    56.6,2,   1.2574,2,  33.7824,2,  33.7706,2,    337.7,2,  333.57,2,   35.66,2,   25.99,2,    1.61,2, -999.00,9
74JC19990315,  Albatross,      36,          1,         16,19990326,       0453,     -62.61,     -64.08,   107.8,2,  -0.2424,2,  34.0617,2,  34.0594,2,    287.1,2,  293.47,2,   63.00,2,   29.89,2,    1.94,2,   -0.37,2
74JC19990315,  Albatross,      36,          1,         15,19990326,       0453,     -62.61,     -64.08,   259.5,2,   1.1450,2,  34.4978,2,  34.4960,2,    184.5,2,  194.72,2,   84.37,2,   34.08,2,    2.27,2,    6.71,2
74JC19990315,  Albatross,      36,          1,         14,19990326,       0453,     -62.61,     -64.08,   512.8,2,   1.6773,2,  34.6942,2,  34.6943,2,    178.2,2,  179.22,2,   97.34,2,   33.10,2,    2.15,2,    8.61,2
74JC19990315,  Albatross,      36,          1,         13,19990326,       0453,     -62.61,     -64.08,   767.9,2,   1.5146,2,  34.7245,2,  34.7243,2,    185.6,2,  186.32,2,  102.90,2,   32.51,2,    2.07,2, -999.00,9
74JC19990315,  Albatross,      36,          1,         12,19990326,       0453,     -62.61,     -64.08,  1021.8,2,   1.2878,2,  34.7266,2,  34.7276,2,    193.1,2,  191.67,2,  109.64,2,   32.61,2,    2.14,2,    9.68,2
74JC19990315,  Albatross,      36,          1,         11,19990326,       0453,     -62.61,     -64.08,  1275.8,2,   1.0622,2,  34.7220,2,  34.7194,2,    197.4,2,  195.36,2,  116.08,2,   32.80,2,    2.18,2, -999.00,9
74JC19990315,  Albatross,      36,          1,         10,19990326,       0453,     -62.61,     -64.08,  1532.3,2,   0.9032,2,  34.7166,2,  34.7170,2,    199.4,2,  199.26,2,  120.57,2,   32.61,2,    2.17,2,    9.88,2
74JC19990315,  Albatross,      36,          1,          9,19990326,       0453,     -62.61,     -64.08,  1788.1,2,   0.7825,2,  34.7121,2,  34.7129,2,    202.1,2,  201.10,2,  122.82,2,   32.71,2,    2.16,2, -999.00,9
74JC19990315,  Albatross,      36,          1,          8,19990326,       0453,     -62.61,     -64.08,  2042.3,2,   0.6073,2,  34.7082,2,  34.7102,2,    203.6,2,  204.61,2,  128.77,2,   32.80,2,    2.19,2,    9.82,2
74JC19990315,  Albatross,      36,          1,          7,19990326,       0453,     -62.61,     -64.08,  2556.4,2,   0.4703,2,  34.7043,2,  34.7051,2,    207.2,2,  207.52,2,  133.75,2,   33.00,2,    2.20,2,    9.24,2
74JC19990315,  Albatross,      36,          1,          6,19990326,       0453,     -62.61,     -64.08,  3065.9,2,   0.4069,2,  34.6977,2,  34.6980,2,    208.5,2,  211.03,2,  131.90,2,   32.80,2,    2.21,2,    8.89,2
74JC19990315,  Albatross,      36,          1,          5,19990326,       0453,     -62.61,     -64.08,  3327.9,2,   0.3742,2,  34.6931,2,  34.6919,2,    213.0,2,  212.39,2,  129.95,2,   32.61,2,    2.18,2, -999.00,9
74JC19990315,  Albatross,      36,          1,          4,19990326,       0453,     -62.61,     -64.08,  3429.6,2,   0.3576,2,  34.6907,2,  34.6901,2,    214.0,2,  212.49,2,  132.49,2,   33.00,2,    2.20,2, -999.00,9
74JC19990315,  Albatross,      36,          1,          3,19990326,       0453,     -62.61,     -64.08,  3480.2,2,   0.3466,2,  34.6896,2,  34.6876,2,    215.0,2,  214.04,2,  132.00,2,   32.80,2,    2.19,2, -999.00,9
74JC19990315,  Albatross,      36,          1,          2,19990326,       0453,     -62.61,     -64.08,  3523.6,2,   0.3474,2,  34.6894,2,  34.6894,2,    213.4,2,  214.04,2,  132.68,2,   32.80,2,    2.21,2,    9.05,2
74JC19990315,  Albatross,      36,          1,          1,19990326,       0453,     -62.61,     -64.08,  3523.5,2,   0.3474,2,  34.6894,2,  34.6884,2,    213.4,2,  214.24,2,  133.76,2,   32.90,2,    2.21,2,    9.05,2
74JC19990315,  Albatross,      37,          1,         20,19990326,       0920,     -62.69,      -63.9,    13.1,2,   1.3776,2,  33.7444,2,  33.7452,2,    330.6,2,  333.78,2,   33.22,2,   26.18,2,    1.60,2, -999.00,9
74JC19990315,  Albatross,      37,          1,         19,19990326,       0920,     -62.69,      -63.9,    58.8,2,   0.9886,2,  33.7884,2,  33.7872,2,    339.2,2,  333.67,2,   36.05,2,   26.28,2,    1.62,2, -999.00,9
74JC19990315,  Albatross,      37,          1,         18,19990326,       0920,     -62.69,      -63.9,   109.4,2,   0.5434,2,  34.2289,2,  34.2189,2,    269.2,2,  244.20,2,   63.38,2,   33.69,2,    2.19,2, -999.00,9
74JC19990315,  Albatross,      37,          1,         17,19990326,       0920,     -62.69,      -63.9,   259.5,2,   2.0002,2,  34.5817,2,  34.5807,2,    174.0,2,  171.95,2,   83.97,2,   34.95,2,    2.29,2, -999.00,9
74JC19990315,  Albatross,      37,          1,         16,19990326,       0920,     -62.69,      -63.9,   511.4,2,   1.9334,2,  34.7053,2,  34.6974,2,    175.3,2,  177.09,2,   93.73,2,   32.90,2,    2.14,2, -999.00,9
74JC19990315,  Albatross,      37,          1,         15,19990326,       0920,     -62.69,      -63.9,   768.2,2,   1.6541,2,  34.7292,2,  34.7304,2,    184.7,2,  184.86,2,  101.63,2,   32.12,2,    2.11,2, -999.00,9
74JC19990315,  Albatross,      37,          1,         14,19990326,       0920,     -62.69,      -63.9,  1023.7,2,   1.3661,2,  34.7295,2,  34.7298,2,    191.7,2,  190.02,2,  109.44,2,   32.02,2,    2.10,2, -999.00,9
74JC19990315,  Albatross,      37,          1,         13,19990326,       0920,     -62.69,      -63.9,  1278.3,2,   1.1903,2,  34.7257,2,  34.7255,2,    193.7,2,  193.62,2,  115.30,2,   32.12,2,    2.09,2, -999.00,9
74JC19990315,  Albatross,      37,          1,         12,19990326,       0920,     -62.69,      -63.9,  1533.3,2,   1.0358,2,  34.7211,2,  34.7210,2,    196.2,2,  196.73,2,  118.52,2,   32.22,2,    2.10,2, -999.00,9
74JC19990315,  Albatross,      37,          1,         11,19990326,       0920,     -62.69,      -63.9,  1788.9,2,   0.8796,2,  34.7161,2,  34.7149,2,    199.0,2,  199.84,2,  122.62,2,   32.22,2,    2.13,2, -999.00,9
74JC19990315,  Albatross,      37,          1,         10,19990326,       0920,     -62.69,      -63.9,  2044.2,2,   0.7541,2,  34.7124,2,  34.7119,2,    200.9,2,  201.49,2,  126.43,2,   32.32,2,    2.12,2, -999.00,9
74JC19990315,  Albatross,      37,          1,          9,19990326,       0920,     -62.69,      -63.9,  2556.4,2,   0.5672,2,  34.7071,2,  34.7072,2,    204.4,2,  205.58,2,  132.29,2,   33.49,2,    2.15,2, -999.00,9
74JC19990315,  Albatross,      37,          1,          8,19990326,       0920,     -62.69,      -63.9,  3070.5,2,   0.4644,2,  34.7008,2,  34.6992,2,    208.1,2,  208.60,2,  134.54,2,   32.51,2,    2.17,2, -999.00,9
74JC19990315,  Albatross,      37,          1,          7,19990326,       0920,     -62.69,      -63.9,  3584.1,2,   0.3868,2,  34.6914,2,  34.6892,2,    213.9,2,  213.56,2,  131.51,2,   32.32,2,    2.15,2, -999.00,9
74JC19990315,  Albatross,      37,          1,          6,19990326,       0920,     -62.69,      -63.9,  4100.8,2,   0.4256,2,  34.6895,2,  34.6903,2,    214.8,2,  214.04,2,  131.31,2,   32.32,2,    2.17,2,    8.46,2
74JC19990315,  Albatross,      37,          1,          5,19990326,       0920,     -62.69,      -63.9,  4361.7,2,   0.4524,2,  34.6898,2,  34.6896,2,    214.8,2,  214.44,2,  132.10,2,   32.12,2,    2.15,2,    8.78,2
74JC19990315,  Albatross,      37,          1,          4,19990326,       0920,     -62.69,      -63.9,  4464.4,2,   0.4595,2,  34.6887,2,  34.7873,2,    214.5,2,  214.24,2,  132.49,2,   31.93,2,    2.16,2, -999.00,9
74JC19990315,  Albatross,      37,          1,          3,19990326,       0920,     -62.69,      -63.9,  4517.3,2,   0.4682,2,  34.6892,2,  34.6888,2,    215.0,2,  214.05,2,  131.61,2,   32.32,2,    2.17,2, -999.00,9
74JC19990315,  Albatross,      37,          1,          2,19990326,       0920,     -62.69,      -63.9,  4557.2,2,   0.4679,2,  34.6888,2,  34.6890,2,    214.0,2,  214.73,2,  129.85,2,   32.51,2,    2.15,2,    8.10,2
74JC19990315,  Albatross,      37,          1,          1,19990326,       0920,     -62.69,      -63.9,  4557.1,2,   0.4678,2,  34.6887,2,  34.6888,2,    214.1,2,  214.53,2,  130.92,2,   32.41,2,    2.14,2,    8.10,2
74JC19990315,  Albatross,      38,          1,         18,19990326,       1345,     -62.78,      -63.7,     7.8,2,   1.5765,2,  33.7983,2,  33.7995,2,    323.5,2,  331.73,2,   38.20,2,   25.01,2,    1.53,2, -999.00,9
74JC19990315,  Albatross,      38,          1,         17,19990326,       1345,     -62.78,      -63.7,    53.5,2,   0.6762,2,  33.8542,2,  33.8490,2,    327.3,2,  321.09,2,   46.11,2,   27.06,2,    1.73,2, -999.00,9
74JC19990315,  Albatross,      38,          1,         16,19990326,       1345,     -62.78,      -63.7,   104.2,2,  -0.2283,2,  34.1553,2,  34.1545,2,    228.5,2,  266.49,2,   67.00,2,   31.65,2,    2.10,2, -999.00,9
74JC19990315,  Albatross,      38,          1,         15,19990326,       1345,     -62.78,      -63.7,   256.6,2,   2.0598,2,  34.6303,2,  34.6293,2,    171.4,2,  170.19,2,   85.63,2,   33.88,2,    2.27,2, -999.00,9
74JC19990315,  Albatross,      38,          1,         14,19990326,       1345,     -62.78,      -63.7,   510.3,2,   1.8815,2,  34.7111,2,  34.7106,2,    178.5,2,  177.77,2,   92.85,2,   32.51,2,    2.16,2, -999.00,9
74JC19990315,  Albatross,      38,          1,         13,19990326,       1345,     -62.78,      -63.7,   764.6,2,   1.5664,2,  34.7297,2,  34.7278,2,    186.5,2,  186.52,2,  100.85,2,   32.02,2,    2.10,2, -999.00,9
74JC19990315,  Albatross,      38,          1,         12,19990326,       1345,     -62.78,      -63.7,  1018.6,2,   1.3183,2,  34.7274,2,  34.7261,2,    191.4,2,  191.09,2,  108.56,2,   31.73,2,    2.10,2, -999.00,9
74JC19990315,  Albatross,      38,          1,         11,19990326,       1345,     -62.78,      -63.7,  1274.5,2,   1.0823,2,  34.7205,2,  34.7210,2,    194.9,2,  194.88,2,  115.20,2,   31.83,2,    2.11,2, -999.00,9
74JC19990315,  Albatross,      38,          1,         10,19990326,       1345,     -62.78,      -63.7,  1530.0,2,   0.9230,2,  34.7151,2,  34.7170,2,    197.6,2,  198.09,2,  120.28,2,   32.22,2,    2.11,2, -999.00,9
74JC19990315,  Albatross,      38,          1,          9,19990326,       1345,     -62.78,      -63.7,  1785.8,2,   0.7445,2,  34.7100,2,  34.7078,2,    199.9,2,  201.40,2,  124.87,2,   32.12,2,    2.12,2, -999.00,9
74JC19990315,  Albatross,      38,          1,          8,19990326,       1345,     -62.78,      -63.7,  2041.6,2,   0.6059,2,  34.7059,2,  34.7068,2,    202.9,2,  203.73,2,  130.04,2,   32.32,2,    2.13,2, -999.00,9
74JC19990315,  Albatross,      38,          1,          7,19990326,       1345,     -62.78,      -63.7,  2554.2,2,   0.4524,2,  34.7009,2,  34.7009,2,    207.4,2,  208.01,2,  132.58,2,   32.61,2,    2.14,2, -999.00,9
74JC19990315,  Albatross,      38,          1,          6,19990326,       1345,     -62.78,      -63.7,  3066.8,2,   0.3884,2,  34.6938,2,  34.6935,2,    212.0,2,  211.03,2,  131.61,2,   32.61,2,    2.14,2, -999.00,9
74JC19990315,  Albatross,      38,          1,          5,19990326,       1345,     -62.78,      -63.7,  3171.5,2,   0.3919,2,  34.6932,2,  34.6937,2,    212.6,2,  211.81,2,  130.34,2,   32.61,2,    2.13,2, -999.00,9
74JC19990315,  Albatross,      38,          1,          4,19990326,       1345,     -62.78,      -63.7,  3274.2,2,   0.3994,2,  34.6931,2,  34.6929,2,    213.6,2,  211.71,2,  131.12,2,   32.71,2,    2.13,2, -999.00,9
74JC19990315,  Albatross,      38,          1,          3,19990326,       1345,     -62.78,      -63.7,  3325.3,2,   0.4048,2,  34.6934,2,  34.6937,2,    213.3,2,  211.90,2,  132.19,2,   32.61,2,    2.12,2, -999.00,9
74JC19990315,  Albatross,      38,          1,          2,19990326,       1345,     -62.78,      -63.7,  3371.4,2,   0.4089,2,  34.6937,2,  34.6931,2,    210.6,2,  211.90,2,  131.41,2,   32.61,2,    2.12,2, -999.00,9
74JC19990315,  Albatross,      38,          1,          1,19990326,       1345,     -62.78,      -63.7,  3371.6,2,   0.4087,2,  34.6937,2,  34.6929,2,    210.5,2,  212.49,2,  131.80,2,   32.41,2,    2.12,2, -999.00,9
74JC19990315,  Albatross,      39,          1,         16,19990326,       1804,     -62.81,     -63.62,     9.6,2,   1.2638,2,  33.8036,2,  33.8046,2,    328.6,2,  334.35,2,   40.45,2,   25.40,2,    1.57,2, -999.00,9
74JC19990315,  Albatross,      39,          1,         15,19990326,       1804,     -62.81,     -63.62,    55.4,2,   0.8857,2,  33.8625,2,  33.8562,2,    329.3,2,  323.62,2,   44.74,2,   26.96,2,    1.70,2, -999.00,9
74JC19990315,  Albatross,      39,          1,         14,19990326,       1804,     -62.81,     -63.62,   105.8,2,  -0.2485,2,  34.0654,2,  34.0651,2,    290.0,2,  291.33,2,   63.49,2,   30.67,2,    2.01,2, -999.00,9
74JC19990315,  Albatross,      39,          1,         13,19990326,       1804,     -62.81,     -63.62,   258.8,2,   1.3894,2,  34.5701,2,  34.5681,2,    188.4,2,  214.37,2,   89.83,2,   33.59,2,    2.27,2, -999.00,9
74JC19990315,  Albatross,      39,          1,         12,19990326,       1804,     -62.81,     -63.62,   512.1,2,   1.6715,2,  34.7039,2,  34.7023,2,    180.1,2,  179.13,2,   99.78,2,   32.80,2,    2.20,2, -999.00,9
74JC19990315,  Albatross,      39,          1,         11,19990326,       1804,     -62.81,     -63.62,   765.7,2,   1.3455,2,  34.7199,2,  34.7190,2,    189.1,2,  189.34,2,  107.29,2,   32.22,2,    2.16,2, -999.00,9
74JC19990315,  Albatross,      39,          1,         10,19990326,       1804,     -62.81,     -63.62,  1018.0,2,   1.0449,2,  34.7209,2,  34.7200,2,    195.9,2,  195.46,2,  115.98,2,   31.92,2,    2.16,2, -999.00,9
74JC19990315,  Albatross,      39,          1,          9,19990326,       1804,     -62.81,     -63.62,  1274.5,2,   0.8070,2,  34.7132,2,  34.7135,2,    198.9,2,  199.35,2,  124.87,2,   31.92,2,    2.18,2, -999.00,9
74JC19990315,  Albatross,      39,          1,          8,19990326,       1804,     -62.81,     -63.62,  1530.4,2,   0.6047,2,  34.7074,2,  34.7080,2,    202.4,2,  203.15,2,  129.46,2,   32.12,2,    2.19,2, -999.00,9
74JC19990315,  Albatross,      39,          1,          7,19990326,       1804,     -62.81,     -63.62,  1783.8,2,   0.5299,2,  34.7053,2,  34.7056,2,    204.2,2,  204.80,2,  131.02,2,   32.51,2,    2.20,2, -999.00,9
74JC19990315,  Albatross,      39,          1,          6,19990326,       1804,     -62.81,     -63.62,  2039.6,2,   0.4386,2,  34.7020,2,  34.7021,2,    207.1,2,  207.14,2,  132.58,2,   32.41,2,    2.22,2, -999.00,9
74JC19990315,  Albatross,      39,          1,          5,19990326,       1804,     -62.81,     -63.62,  2412.1,2,   0.4219,2,  34.6999,2,  34.6990,2,    209.8,2,  208.98,2,  130.92,2,   32.32,2,    2.18,2, -999.00,9
74JC19990315,  Albatross,      39,          1,          4,19990326,       1804,     -62.81,     -63.62,  2515.4,2,   0.4275,2,  34.6995,2,  34.7002,2,    209.9,2,  208.50,2,  132.58,2,   32.22,2,    2.19,2, -999.00,9
74JC19990315,  Albatross,      39,          1,          3,19990326,       1804,     -62.81,     -63.62,  2566.3,2,   0.4313,2,  34.6999,2,  34.6996,2,    209.1,2,  208.69,2,  133.17,2,   32.51,2,    2.19,2, -999.00,9
74JC19990315,  Albatross,      39,          1,          2,19990326,       1804,     -62.81,     -63.62,  2612.5,2,   0.4352,2,  34.7000,2,  34.7003,2,    207.9,2,  208.79,2,  132.58,2,   32.51,2,    2.20,2, -999.00,9
74JC19990315,  Albatross,      39,          1,          1,19990326,       1804,     -62.81,     -63.62,  2612.6,2,   0.4350,2,  34.7001,2,  34.7000,2,    207.9,2,  208.79,2,  132.29,2,   32.41,2,    2.18,2, -999.00,9