BOTTLE,20140822SIOCCHAMB
EXPOCODE,SECT_ID,STNNBR,CASTNO,BTLNBR,DATE,TIME,LATITUDE,LONGITUDE,CTDPRS,CTDPRS_FLAG_W,CTDTMP,CTDTMP_FLAG_W,CTDSAL,CTDSAL_FLAG_W,SALNTY,SALNTY_FLAG_W,CTDOXY,CTDOXY_FLAG_W,OXYGEN,OXYGEN_FLAG_W,SILCAT,SILCAT_FLAG_W,NITRAT,NITRAT_FLAG_W,PHSPHT,PHSPHT_FLAG_W,DELHE3,DELHE3_FLAG_W
,,,,,,,,,DBAR,,ITS-90,,PSS-78,,PSS-78,,UMOL/KG,,UMOL/KG,,UMOL/KG,,UMOL/KG,,UMOL/KG,,PERCNT,
74JC19990315,  Albatross,      97,          1,         14,19990408,       1003,     -59.89,     -32.86,     9.4,2,   0.5858,2,  34.0982,2,  34.0982,2,    320.7,2,  324.83,2,   66.81,2,   26.08,2,    1.73,2, -999.00,9
74JC19990315,  Albatross,      97,          1,         13,19990408,       1003,     -59.89,     -32.86,    54.9,2,   0.5886,2,  34.0979,2,  34.0978,2,    324.3,2,  320.45,2,   67.88,2,   25.69,2,    1.68,2, -999.00,9
74JC19990315,  Albatross,      97,          1,         12,19990408,       1003,     -59.89,     -32.86,   106.3,2,  -0.4652,2,  34.3632,2,  34.3633,2,    302.1,2,  264.50,2,   89.16,2,   30.47,2,    2.02,2, -999.00,9
74JC19990315,  Albatross,      97,          1,         11,19990408,       1003,     -59.89,     -32.86,   258.7,2,   0.4516,2,  34.6343,2,  34.6340,2,    209.9,2,  208.71,2,  104.57,2,   32.12,2,    2.15,2, -999.00,9
74JC19990315,  Albatross,      97,          1,         10,19990408,       1003,     -59.89,     -32.86,   512.2,2,   0.6048,2,  34.6849,2,  34.6850,2,    202.1,2,  202.66,2,  115.89,2,   32.41,2,    2.13,2, -999.00,9
74JC19990315,  Albatross,      97,          1,          9,19990408,       1003,     -59.89,     -32.86,   766.6,2,   0.4680,2,  34.6850,2,  34.6850,2,    204.5,2,  205.00,2,  120.18,2,   31.93,2,    2.15,2, -999.00,9
74JC19990315,  Albatross,      97,          1,          8,19990408,       1003,     -59.89,     -32.86,  1018.8,2,   0.3472,2,  34.6820,2,  34.6825,2,    208.6,2,  207.92,2,  122.82,2,   32.61,2,    2.14,2, -999.00,9
74JC19990315,  Albatross,      97,          1,          7,19990408,       1003,     -59.89,     -32.86,  1275.2,2,   0.2486,2,  34.6779,2,  34.6790,2,    210.5,2,  211.32,2,  124.09,2,   32.12,2,    2.14,2, -999.00,9
74JC19990315,  Albatross,      97,          1,          6,19990408,       1003,     -59.89,     -32.86,  1531.0,2,   0.1543,2,  34.6732,2,  34.6717,2,    214.6,2,  213.66,2,  124.87,2,   32.22,2,    2.10,2, -999.00,9
74JC19990315,  Albatross,      97,          1,          5,19990408,       1003,     -59.89,     -32.86,  1832.1,2,   0.0561,2,  34.6696,2,-999.0000,9,    217.4,2,  217.35,2,  125.17,2,   32.41,2,    2.17,2, -999.00,9
74JC19990315,  Albatross,      97,          1,          4,19990408,       1003,     -59.89,     -32.86,  1933.3,2,   0.0219,2,  34.6683,2,  34.6680,2,    218.7,2,  218.42,2,  127.12,2,   32.32,2,    2.13,2, -999.00,9
74JC19990315,  Albatross,      97,          1,          3,19990408,       1003,     -59.89,     -32.86,  1984.4,2,   0.0382,2,  34.6687,2,  34.6690,2,    218.8,2,  218.13,2,  126.43,2,   31.93,2,    2.12,2, -999.00,9
74JC19990315,  Albatross,      97,          1,          2,19990408,       1003,     -59.89,     -32.86,  2025.6,2,   0.0269,2,  34.6681,2,  34.6680,2,    217.8,2,  218.62,2,  128.29,2,   31.93,2,    2.12,2, -999.00,9
74JC19990315,  Albatross,      97,          1,          1,19990408,       1003,     -59.89,     -32.86,  2025.6,2,   0.0300,2,  34.6681,2,  34.6684,2,    217.8,2,  218.52,2,  127.70,2,   31.83,2,    2.12,2, -999.00,9
74JC19990315,  Albatross,      98,          1,         13,19990408,       1159,      -59.9,     -32.81,     7.9,2,   0.6098,2,  34.1055,2,  34.1046,2,    323.7,2,  325.01,2,   65.54,2,   25.69,2,    1.67,2, -999.00,9
74JC19990315,  Albatross,      98,          1,         12,19990408,       1159,      -59.9,     -32.81,    53.7,2,   0.6030,2,  34.1061,2,  34.1036,2,    325.6,2,  324.23,2,   65.34,2,   26.27,2,    1.67,2, -999.00,9
74JC19990315,  Albatross,      98,          1,         11,19990408,       1159,      -59.9,     -32.81,   104.8,2,  -0.3442,2,  34.2941,2,  34.2943,2,    276.6,2,  276.29,2,   83.69,2,   29.88,2,    1.96,2, -999.00,9
74JC19990315,  Albatross,      98,          1,         10,19990408,       1159,      -59.9,     -32.81,   257.5,2,   0.3735,2,  34.6345,2,  34.6346,2,    209.1,2,  209.28,2,  104.76,2,   32.71,2,    2.14,2, -999.00,9
74JC19990315,  Albatross,      98,          1,          9,19990408,       1159,      -59.9,     -32.81,   510.7,2,   0.5954,2,  34.6843,2,  34.6854,2,    202.7,2,  202.95,2,  116.18,2,   32.80,2,    2.14,2, -999.00,9
74JC19990315,  Albatross,      98,          1,          8,19990408,       1159,      -59.9,     -32.81,   764.1,2,   0.4554,2,  34.6848,2,  34.6848,2,    205.0,2,  204.90,2,  120.97,2,   32.51,2,    2.17,2, -999.00,9
74JC19990315,  Albatross,      98,          1,          7,19990408,       1159,      -59.9,     -32.81,  1017.4,2,   0.3157,2,  34.6803,2,  34.6803,2,    208.5,2,  207.91,2,  123.31,2,   33.19,2,    2.16,2, -999.00,9
74JC19990315,  Albatross,      98,          1,          6,19990408,       1159,      -59.9,     -32.81,  1274.7,2,   0.1585,2,  34.6731,2,  34.6721,2,    212.8,2, -999.00,9,  123.99,2,   32.61,2,    2.17,2, -999.00,9
74JC19990315,  Albatross,      98,          1,          5,19990408,       1159,      -59.9,     -32.81,  1330.1,2,   0.1503,2,  34.6729,2,  34.6852,2,    213.0,2,  212.58,2,  124.68,2,   33.00,2,    2.18,2, -999.00,9
74JC19990315,  Albatross,      98,          1,          4,19990408,       1159,      -59.9,     -32.81,  1431.5,2,   0.1177,2,  34.6728,2,  34.6735,2,    215.5,2,  215.01,2,  123.80,2,   32.51,2,    2.16,2, -999.00,9
74JC19990315,  Albatross,      98,          1,          3,19990408,       1159,      -59.9,     -32.81,  1483.3,2,   0.0820,2,  34.6708,2,  34.6705,2,    216.6,2,  215.79,2,  123.80,2,   32.22,2,    2.16,2, -999.00,9
74JC19990315,  Albatross,      98,          1,          2,19990408,       1159,      -59.9,     -32.81,  1526.9,2,   0.0132,2,  34.6679,2,  34.6674,2,    216.7,2,  217.35,2,  124.09,2,   32.61,2,    2.16,2, -999.00,9
74JC19990315,  Albatross,      98,          1,          1,19990408,       1159,      -59.9,     -32.81,  1526.9,2,   0.0132,2,  34.6679,2,  34.6684,2,    216.7,2,  217.93,2,  123.99,2,   32.61,2,    2.15,2, -999.00,9
74JC19990315,  Albatross,      99,          1,         13,19990408,       1400,      -59.9,     -32.73,     7.6,2,   0.6106,2,  34.1064,2,  34.1066,2,    324.8,2,  324.24,2,   65.73,2,   26.47,2,    1.68,2, -999.00,9
74JC19990315,  Albatross,      99,          1,         12,19990408,       1400,      -59.9,     -32.73,     7.7,2,   0.6116,2,  34.1063,2,  34.1056,2,    324.7,2,  324.53,2,   65.54,2,   26.37,2,    1.69,2, -999.00,9
74JC19990315,  Albatross,      99,          1,         11,19990408,       1400,      -59.9,     -32.73,     7.6,2,   0.6146,2,  34.1061,2,  34.1160,2,    324.8,2,  324.43,2,   65.34,2,   26.66,2,    1.71,2,   -1.36,2
74JC19990315,  Albatross,      99,          1,         10,19990408,       1400,      -59.9,     -32.73,    54.0,2,   0.5972,2,  34.1090,2,  34.1095,2,    322.7,2,  323.94,2,   66.42,2,   27.06,2,    1.72,2, -999.00,9
74JC19990315,  Albatross,      99,          1,          9,19990408,       1400,      -59.9,     -32.73,   104.5,2,  -0.4831,2,  34.3292,2,  34.3292,2,    270.1,2,  269.95,2,   86.92,2,   31.06,2,    2.03,2,    2.62,2
74JC19990315,  Albatross,      99,          1,          8,19990408,       1400,      -59.9,     -32.73,   257.7,2,   0.2773,2,  34.6322,2,  34.6321,2,    211.1,2,  210.84,2,  105.54,2,   33.00,2,    2.16,2, -999.00,9
74JC19990315,  Albatross,      99,          1,          7,19990408,       1400,      -59.9,     -32.73,   510.7,2,   0.5195,2,  34.6824,2,  34.6825,2,    204.0,2,  203.25,2,  118.33,2,   33.59,2,    2.18,2, -999.00,9
74JC19990315,  Albatross,      99,          1,          6,19990408,       1400,      -59.9,     -32.73,   765.0,2,   0.3439,2,  34.6761,2,  34.6735,2,    206.5,2,  210.06,2,  121.65,2,   33.59,2,    2.20,2, -999.00,9
74JC19990315,  Albatross,      99,          1,          5,19990408,       1400,      -59.9,     -32.73,   842.4,2,   0.3354,2,  34.6761,2,  34.6760,2,    207.6,2,  206.16,2,  121.55,2,   33.88,2,    2.18,2,    7.46,2
74JC19990315,  Albatross,      99,          1,          4,19990408,       1400,      -59.9,     -32.73,   944.4,2,   0.3009,2,  34.6765,2,  34.6768,2,    208.2,2,  207.33,2,  121.65,2,   33.78,2,    2.18,2, -999.00,9
74JC19990315,  Albatross,      99,          1,          3,19990408,       1400,      -59.9,     -32.73,   995.1,2,   0.2676,2,  34.6766,2,  34.6764,2,    209.4,2,  209.08,2,  122.63,2,   33.39,2,    2.16,2, -999.00,9
74JC19990315,  Albatross,      99,          1,          2,19990408,       1400,      -59.9,     -32.73,  1048.7,2,   0.2623,2,  34.6764,2,  34.6770,2,    208.7,2,  208.69,2,  123.41,2,   33.20,2,    2.15,2,    8.30,2
74JC19990315,  Albatross,      99,          1,          1,19990408,       1400,      -59.9,     -32.73,  1048.7,2,   0.2623,2,  34.6764,2,  34.6758,2,    208.7,2,  208.79,2,  125.85,2,   33.39,2,    2.15,2,    8.30,2
74JC19990315,  Albatross,     100,          1,         11,19990408,       1648,     -59.94,     -32.24,     6.8,2,   0.5470,2,  34.0698,2,  34.0700,2,    319.6,2,  322.68,2,   67.98,2,   27.64,2,    1.73,2, -999.00,9
74JC19990315,  Albatross,     100,          1,         10,19990408,       1648,     -59.94,     -32.24,    52.5,2,   0.6089,2,  34.0878,2,  34.0858,2,    326.1,2,  323.36,2,   66.91,2,   27.45,2,    1.71,2, -999.00,9
74JC19990315,  Albatross,     100,          1,          9,19990408,       1648,     -59.94,     -32.24,   103.3,2,  -0.4551,2,  34.2772,2,  34.2771,2,    315.7,2,  281.06,2,   83.11,2,   31.54,2,    2.01,2, -999.00,9
74JC19990315,  Albatross,     100,          1,          8,19990408,       1648,     -59.94,     -32.24,   256.6,2,   0.0691,2,  34.5998,2,  34.5999,2,    218.4,2,  217.36,2,  103.79,2,   34.17,2,    2.16,2, -999.00,9
74JC19990315,  Albatross,     100,          1,          7,19990408,       1648,     -59.94,     -32.24,   508.8,2,   0.4326,2,  34.6685,2,  34.6682,2,    203.5,2,  203.83,2,  115.21,2,   34.76,2,    2.20,2, -999.00,9
74JC19990315,  Albatross,     100,          1,          6,19990408,       1648,     -59.94,     -32.24,   761.8,2,   0.3494,2,  34.6753,2,  34.6748,2,    205.9,2,  206.55,2,  120.58,2,   33.98,2,    2.19,2, -999.00,9
74JC19990315,  Albatross,     100,          1,          5,19990408,       1648,     -59.94,     -32.24,   799.4,2,   0.3410,2,  34.6757,2,  34.6758,2,    206.2,2,  205.68,2,  121.36,2,   33.68,2,    2.21,2, -999.00,9
74JC19990315,  Albatross,     100,          1,          4,19990408,       1648,     -59.94,     -32.24,   902.0,2,   0.3274,2,  34.6756,2,  34.6717,2,    206.4,2,  205.77,2,  120.77,2,   33.59,2,    2.22,2, -999.00,9
74JC19990315,  Albatross,     100,          1,          3,19990408,       1648,     -59.94,     -32.24,   953.4,2,   0.3282,2,  34.6757,2,  34.6752,2,    206.7,2,  206.45,2,  120.48,2,   33.59,2,    2.20,2, -999.00,9
74JC19990315,  Albatross,     100,          1,          2,19990408,       1648,     -59.94,     -32.24,   999.6,2,   0.3309,2,  34.6758,2,  34.6756,2,    205.9,2,  206.36,2,  119.89,2,   33.49,2,    2.20,2, -999.00,9
74JC19990315,  Albatross,     100,          1,          1,19990408,       1648,     -59.94,     -32.24,   999.6,2,   0.3309,2,  34.6758,2,  34.6770,2,    205.9,2,  206.55,2,  119.99,2,   33.29,2,    2.20,2, -999.00,9
74JC19990315,  Albatross,     101,          1,         15,19990408,       2044,     -59.97,     -31.48,     8.6,2,   0.6309,2,  34.0770,2,  34.0764,2,    323.5,2,  328.13,2,   66.22,2,   24.91,2,    1.63,2, -999.00,9
74JC19990315,  Albatross,     101,          1,         14,19990408,       2044,     -59.97,     -31.48,    54.6,2,   0.6333,2,  34.0809,2,  34.0807,2,    329.2,2,  324.83,2,   65.74,2,   24.91,2,    1.64,2, -999.00,9
74JC19990315,  Albatross,     101,          1,         13,19990408,       2044,     -59.97,     -31.48,   105.4,2,  -0.7268,2,  34.3162,2,  34.3167,2,    278.0,2,  277.54,2,   84.47,2,   30.27,2,    2.08,2, -999.00,9
74JC19990315,  Albatross,     101,          1,         12,19990408,       2044,     -59.97,     -31.48,   257.9,2,  -0.0451,2,  34.5838,2,  34.5824,2,    224.0,2,  224.18,2,   99.40,2,   32.03,2,    2.21,2, -999.00,9
74JC19990315,  Albatross,     101,          1,         11,19990408,       2044,     -59.97,     -31.48,   511.5,2,   0.3882,2,  34.6612,2,  34.6617,2,    205.9,2,  205.78,2,  113.84,2,   32.41,2,    2.22,2, -999.00,9
74JC19990315,  Albatross,     101,          1,         10,19990408,       2044,     -59.97,     -31.48,   765.7,2,   0.3972,2,  34.6774,2,  34.6776,2,    205.4,2,  204.90,2,  119.60,2,   32.51,2,    2.27,2, -999.00,9
74JC19990315,  Albatross,     101,          1,          9,19990408,       2044,     -59.97,     -31.48,  1018.2,2,   0.3018,2,  34.6765,2,  34.6780,2,    207.5,2,  206.84,2,  122.53,2,   32.51,2,    2.26,2, -999.00,9
74JC19990315,  Albatross,     101,          1,          8,19990408,       2044,     -59.97,     -31.48,  1275.8,2,   0.2029,2,  34.6737,2,  34.6743,2,    209.8,2,  210.83,2,  124.09,2,   33.00,2,    2.25,2, -999.00,9
74JC19990315,  Albatross,     101,          1,          7,19990408,       2044,     -59.97,     -31.48,  1530.1,2,   0.1204,2,  34.6713,2,  34.6711,2,    214.1,2,  213.85,2,  124.97,2,   32.61,2,    2.27,2, -999.00,9
74JC19990315,  Albatross,     101,          1,          6,19990408,       2044,     -59.97,     -31.48,  1785.8,2,   0.0747,2,  34.6694,2,  34.6695,2,    216.1,2,  215.21,2,  125.36,2,   32.51,2,    2.21,2, -999.00,9
74JC19990315,  Albatross,     101,          1,          5,19990408,       2044,     -59.97,     -31.48,  2071.5,2,   0.0020,2,  34.6667,2,  34.6656,2,    219.6,2,  219.49,2,  125.17,2,   32.41,2,    2.24,2, -999.00,9
74JC19990315,  Albatross,     101,          1,          4,19990408,       2044,     -59.97,     -31.48,  2174.1,2,  -0.0349,2,  34.6650,2,  34.6654,2,    221.3,2,  220.85,2,  126.14,2,   32.51,2,    2.25,2, -999.00,9
74JC19990315,  Albatross,     101,          1,          3,19990408,       2044,     -59.97,     -31.48,  2225.1,2,  -0.0360,2,  34.6648,2,  34.6644,2,    221.9,2,  221.44,2,  125.65,2,   32.32,2,    2.25,2, -999.00,9
74JC19990315,  Albatross,     101,          1,          2,19990408,       2044,     -59.97,     -31.48,  2271.3,2,  -0.0381,2,  34.6646,2,  34.6646,2,    220.8,2,  221.83,2,  125.56,2,   32.61,2,    2.25,2, -999.00,9
74JC19990315,  Albatross,     101,          1,          1,19990408,       2044,     -59.97,     -31.48,  2271.3,2,  -0.0381,2,  34.6646,2,  34.6646,2,    220.8,2,  221.63,2,  126.83,2,   32.22,2,    2.23,2, -999.00,9
74JC19990315,  Albatross,     102,          1,         16,19990409,       0142,     -60.32,     -30.96,    10.5,2,   0.6518,2,  34.0433,2,  34.0428,2,    324.6,2,  327.07,2,   68.28,2,   25.59,2,    1.67,2, -999.00,9
74JC19990315,  Albatross,     102,          1,         15,19990409,       0142,     -60.32,     -30.96,    55.3,2,   0.6485,2,  34.0440,2,  34.0440,2,    328.3,2,  326.00,2,   68.57,2,   25.79,2,    1.67,2, -999.00,9
74JC19990315,  Albatross,     102,          1,         14,19990409,       0142,     -60.32,     -30.96,   107.4,2,  -1.1958,2,  34.3273,2,  34.3274,2,    274.8,2,  274.42,2,   88.77,2,   30.86,2,    2.14,2, -999.00,9
74JC19990315,  Albatross,     102,          1,         13,19990409,       0142,     -60.32,     -30.96,   260.2,2,   0.1330,2,  34.6140,2,  34.6136,2,    211.5,2,  211.81,2,  106.13,2,   32.61,2,    2.27,2, -999.00,9
74JC19990315,  Albatross,     102,          1,         12,19990409,       0142,     -60.32,     -30.96,   513.8,2,   0.5197,2,  34.6814,2,  34.6819,2,    199.1,2,  197.89,2,  117.55,2,   33.68,2,    2.26,2, -999.00,9
74JC19990315,  Albatross,     102,          1,         11,19990409,       0142,     -60.32,     -30.96,   768.1,2,   0.4007,2,  34.6815,2,  34.6817,2,    202.3,2,  201.10,2,  124.09,2,   33.59,2,    2.35,2, -999.00,9
74JC19990315,  Albatross,     102,          1,         10,19990409,       0142,     -60.32,     -30.96,  1022.8,2,   0.2871,2,  34.6777,2,  34.6780,2,    206.2,2,  206.06,2,  124.87,2,   33.00,2,    2.27,2, -999.00,9
74JC19990315,  Albatross,     102,          1,          9,19990409,       0142,     -60.32,     -30.96,  1278.5,2,   0.1552,2,  34.6733,2,  34.6735,2,    210.1,2,  211.42,2,  126.53,2,   32.71,2,    2.27,2, -999.00,9
74JC19990315,  Albatross,     102,          1,          8,19990409,       0142,     -60.32,     -30.96,  1534.1,2,   0.0562,2,  34.6693,2,  34.6693,2,    214.9,2,  214.82,2,  126.53,2,   32.71,2,    2.25,2, -999.00,9
74JC19990315,  Albatross,     102,          1,          7,19990409,       0142,     -60.32,     -30.96,  1789.6,2,  -0.0206,2,  34.6660,2,  34.6658,2,    217.2,2,  219.10,2,  128.19,2,   32.61,2,    2.26,2, -999.00,9
74JC19990315,  Albatross,     102,          1,          6,19990409,       0142,     -60.32,     -30.96,  2044.3,2,  -0.0673,2,  34.6634,2,  34.6635,2,    219.5,2,  221.82,2,  130.34,2,   32.71,2,    2.27,2, -999.00,9
74JC19990315,  Albatross,     102,          1,          5,19990409,       0142,     -60.32,     -30.96,  2589.6,2,  -0.0971,2,  34.6609,2,  34.6601,2,    223.1,2,  222.99,2,  133.17,2,   32.51,2,    2.27,2, -999.00,9
74JC19990315,  Albatross,     102,          1,          4,19990409,       0142,     -60.32,     -30.96,  2692.0,2,  -0.0902,2,  34.6608,2,  34.6605,2,    224.2,2,  223.09,2,  132.98,2,   32.80,2,    2.27,2, -999.00,9
74JC19990315,  Albatross,     102,          1,          3,19990409,       0142,     -60.32,     -30.96,  2743.1,2,  -0.0874,2,  34.6609,2,  34.6609,2,    223.6,2,  222.80,2,  132.59,2,   32.22,2,    2.27,2, -999.00,9
74JC19990315,  Albatross,     102,          1,          2,19990409,       0142,     -60.32,     -30.96,  2788.7,2,  -0.0836,2,  34.6609,2,  34.6611,2,    223.1,2,  222.60,2,  132.98,2,   32.32,2,    2.25,2, -999.00,9
74JC19990315,  Albatross,     102,          1,          1,19990409,       0142,     -60.32,     -30.96,  2788.7,2,  -0.0836,2,  34.6609,2,  34.6615,2,    223.1,2,  222.70,2,  132.49,2,   32.22,2,    2.27,2, -999.00,9