BOTTLE,20140822SIOCCHAMB
EXPOCODE,SECT_ID,STNNBR,CASTNO,BTLNBR,DATE,TIME,LATITUDE,LONGITUDE,CTDPRS,CTDPRS_FLAG_W,CTDTMP,CTDTMP_FLAG_W,CTDSAL,CTDSAL_FLAG_W,SALNTY,SALNTY_FLAG_W,CTDOXY,CTDOXY_FLAG_W,OXYGEN,OXYGEN_FLAG_W,SILCAT,SILCAT_FLAG_W,NITRAT,NITRAT_FLAG_W,PHSPHT,PHSPHT_FLAG_W,DELHE3,DELHE3_FLAG_W
,,,,,,,,,DBAR,,ITS-90,,PSS-78,,PSS-78,,UMOL/KG,,UMOL/KG,,UMOL/KG,,UMOL/KG,,UMOL/KG,,PERCNT,
74JC19990315,  Albatross,       2,          1,          4,19990319,       0340,     -56.33,     -67.99,     8.4,2,   9.3720,2,  33.5101,2,  33.5105,2,    275.1,2,  275.04,2,    4.32,2,   15.35,2,    1.12,2, -999.00,9
74JC19990315,  Albatross,       2,          1,          3,19990319,       0340,     -56.33,     -67.99,    53.8,2,   8.8738,2,  33.7152,2,  33.7143,2,    277.7,2,  277.96,2,    4.14,2,   11.38,2,    0.92,2,   -1.44,2
74JC19990315,  Albatross,       2,          1,          2,19990319,       0340,     -56.33,     -67.99,    95.3,2,   8.3934,2,  33.8435,2,  33.8455,2,    278.1,2,  280.26,2,    4.57,2,   13.54,2,    1.15,2,   -1.20,2
74JC19990315,  Albatross,       2,          1,          1,19990319,       0340,     -56.33,     -67.99,    95.1,2,   8.3874,2,  33.8478,2,  33.8462,2,    278.2,2,  276.05,2,    5.82,2,   15.21,2,    1.11,2,   -1.92,2
74JC19990315,  Albatross,       3,          1,          7,19990319,       0732,      -56.8,     -68.19,     8.5,2,   7.3416,2,  34.0174,2,  34.0173,2,   -999.0,9,  286.49,2,    3.62,2,   17.92,2,    1.24,2, -999.00,9
74JC19990315,  Albatross,       3,          1,          6,19990319,       0732,      -56.8,     -68.19,    54.4,2,   7.3151,2,  34.0213,2,  34.0213,2,    285.7,2,  286.77,2,    3.71,2,   17.76,2,    1.22,2, -999.00,9
74JC19990315,  Albatross,       3,          1,          5,19990319,       0732,      -56.8,     -68.19,   112.1,2,   7.1883,2,  34.0317,2,  34.0318,2,    286.3,2,  286.09,2,    4.36,2,   17.71,2,    1.23,2, -999.00,9
74JC19990315,  Albatross,       3,          1,          4,19990319,       0732,      -56.8,     -68.19,   214.1,2,   5.5876,2,  34.1175,2,  34.1177,2,    286.8,2,  284.75,2,    8.19,2,   21.25,2,    1.37,2, -999.00,9
74JC19990315,  Albatross,       3,          1,          3,19990319,       0732,      -56.8,     -68.19,   263.2,2,   5.2164,2,  34.1476,2,  34.1477,2,    287.7,2,  287.65,2,    8.89,2,   21.49,2,    1.41,2, -999.00,9
74JC19990315,  Albatross,       3,          1,          2,19990319,       0732,      -56.8,     -68.19,   304.2,2,   5.1955,2,  34.1538,2,  34.1535,2,    285.7,2,  286.87,2,    9.44,2,   21.87,2,    1.42,2, -999.00,9
74JC19990315,  Albatross,       3,          1,          1,19990319,       0732,      -56.8,     -68.19,   303.9,2,   5.1963,2,  34.1538,2,  34.1539,2,    285.7,2,  286.19,2,    9.10,2,   21.09,2,    1.41,2, -999.00,9
74JC19990315,  Albatross,       4,          1,          9,19990319,       0951,     -56.85,     -68.21,     7.9,2,   7.1678,2,  34.0090,2,  34.0316,2,    273.5,2,  272.17,2,    3.42,2,   18.85,2,    1.26,2, -999.00,9
74JC19990315,  Albatross,       4,          1,          8,19990319,       0951,     -56.85,     -68.21,    53.7,2,   7.0236,2,  34.0358,2,  34.0359,2,    272.3,2,  268.55,2,    3.52,2,   19.34,2,    1.26,2, -999.00,9
74JC19990315,  Albatross,       4,          1,          7,19990319,       0951,     -56.85,     -68.21,   104.6,2,   6.9243,2,  34.0383,2,  34.0381,2,    270.4,2,  275.85,2,    3.81,2,   19.05,2,    1.32,2, -999.00,9
74JC19990315,  Albatross,       4,          1,          6,19990319,       0951,     -56.85,     -68.21,   257.3,2,   5.1837,2,  34.1541,2,  34.1539,2,    270.1,2,  269.64,2,    8.30,2,   21.78,2,    1.48,2, -999.00,9
74JC19990315,  Albatross,       4,          1,          5,19990319,       0951,     -56.85,     -68.21,   333.6,2,   5.1948,2,  34.2041,2,  34.2042,2,    264.7,2,  267.49,2,   10.45,2,   22.56,2,    1.54,2, -999.00,9
74JC19990315,  Albatross,       4,          1,          4,19990319,       0951,     -56.85,     -68.21,   434.6,2,   4.9696,2,  34.2086,2,  34.2089,2,    260.6,2,  241.09,2,   12.31,2,   23.34,2,    1.54,2, -999.00,9
74JC19990315,  Albatross,       4,          1,          3,19990319,       0951,     -56.85,     -68.21,   485.0,2,   4.7974,2,  34.2038,2,  34.2039,2,    257.8,2,  253.45,2,   13.58,2,   23.83,2,    1.60,2, -999.00,9
74JC19990315,  Albatross,       4,          1,          2,19990319,       0951,     -56.85,     -68.21,   524.6,2,   4.6629,2,  34.2056,2,  34.2058,2,    254.6,2,  256.37,2,   15.72,2,   25.30,2,    1.65,2, -999.00,9
74JC19990315,  Albatross,       4,          1,          1,19990319,       0951,     -56.85,     -68.21,   525.0,2,   4.6619,2,  34.2059,2,  34.2054,2,    254.5,2, -999.00,9,   15.92,2,   26.17,2,    1.65,2, -999.00,9
74JC19990315,  Albatross,       5,          1,         12,19990319,       1140,     -56.88,     -68.23,     7.3,2,   6.8918,2,  34.0400,2,  34.0402,2,    291.3,2,  288.54,2,    3.81,2,   18.17,2,    1.27,2, -999.00,9
74JC19990315,  Albatross,       5,          1,         11,19990319,       1140,     -56.88,     -68.23,    53.3,2,   6.8818,2,  34.0398,2,  34.0402,2,    285.1,2,  288.81,2,    4.00,2,   18.17,2,    1.28,2, -999.00,9
74JC19990315,  Albatross,       5,          1,         10,19990319,       1140,     -56.88,     -68.23,   104.5,2,   6.4627,2,  34.0631,2,  34.0623,2,    288.7,2,  287.14,2,    5.37,2,   19.54,2,    1.36,2, -999.00,9
74JC19990315,  Albatross,       5,          1,          9,19990319,       1140,     -56.88,     -68.23,   257.1,2,   5.1829,2,  34.1732,2,  34.1723,2,    282.6,2,  282.20,2,    9.18,2,   22.07,2,    1.46,2, -999.00,9
74JC19990315,  Albatross,       5,          1,          8,19990319,       1140,     -56.88,     -68.23,   510.7,2,   4.9225,2,  34.2069,2,  34.2076,2,    268.9,2,  272.44,2,   12.40,2,   24.03,2,    1.54,2, -999.00,9
74JC19990315,  Albatross,       5,          1,          7,19990319,       1140,     -56.88,     -68.23,   762.0,2,   4.3206,2,  34.2224,2,  34.2227,2,    241.1,2,  239.91,2,   23.24,2,   28.91,2,    1.79,2, -999.00,9
74JC19990315,  Albatross,       5,          1,          6,19990319,       1140,     -56.88,     -68.23,  1012.1,2,   3.5262,2,  34.3158,2,  34.3155,2,    203.6,2,  200.64,2,   42.87,2,   32.33,2,    2.07,2, -999.00,9
74JC19990315,  Albatross,       5,          1,          5,19990319,       1140,     -56.88,     -68.23,  1146.7,2,   3.0955,2,  34.3841,2,  34.3868,2,    183.7,2,  183.59,2,   55.37,2,   33.89,2,    2.17,2, -999.00,9
74JC19990315,  Albatross,       5,          1,          4,19990319,       1140,     -56.88,     -68.23,  1259.5,2,   2.8748,2,  34.4370,2,  34.4389,2,    175.9,2,  174.52,2,   64.55,2,   35.45,2,    2.24,2, -999.00,9
74JC19990315,  Albatross,       5,          1,          3,19990319,       1140,     -56.88,     -68.23,  1285.1,2,   2.8477,2,  34.4516,2,  34.4487,2,    172.3,2,  172.96,2,   66.89,2,   34.37,2,    2.22,2, -999.00,9
74JC19990315,  Albatross,       5,          1,          2,19990319,       1140,     -56.88,     -68.23,  1320.9,2,   2.8249,2,  34.4574,2,  34.4562,2,    170.2,2,  171.50,2,   68.16,2,   34.86,2,    2.38,2, -999.00,9
74JC19990315,  Albatross,       5,          1,          1,19990319,       1140,     -56.88,     -68.23,  1320.8,2,   2.8273,2,  34.4548,2,  34.4548,2,    170.2,2,  171.50,2,   69.33,2,   34.27,2,    2.21,2, -999.00,9
74JC19990315,  Albatross,       6,          1,         15,19990319,       1353,     -56.89,     -68.24,     7.8,2,   6.8834,2,  34.0429,2,  34.0430,2,    295.4,2, -999.00,9, -999.00,9, -999.00,9, -999.00,9,   -0.67,2
74JC19990315,  Albatross,       6,          1,         14,19990319,       1353,     -56.89,     -68.24,    53.6,2,   6.8622,2,  34.0434,2,  34.0436,2,    291.0,2,  289.59,2,    4.00,2,   19.14,2,    1.26,2, -999.00,9
74JC19990315,  Albatross,       6,          1,         13,19990319,       1353,     -56.89,     -68.24,   104.6,2,   6.8492,2,  34.0434,2,  34.0430,2,    290.9,2,  289.29,2,    3.32,2,   18.95,2,    1.27,2, -999.00,9
74JC19990315,  Albatross,       6,          1,         12,19990319,       1353,     -56.89,     -68.24,   257.3,2,   5.2349,2,  34.1423,2,  34.1422,2,    284.3,2,  287.30,2,    7.52,2,   21.78,2,    1.44,2,   -1.82,2
74JC19990315,  Albatross,       6,          1,         11,19990319,       1353,     -56.89,     -68.24,   510.4,2,   5.0676,2,  34.2128,2,  34.2131,2,    271.3,2,  274.60,2,   10.84,2,   23.34,2,    1.50,2, -999.00,9
74JC19990315,  Albatross,       6,          1,         10,19990319,       1353,     -56.89,     -68.24,   764.0,2,   4.4372,2,  34.2154,2,  34.1371,2,    251.2,2,  245.77,2,   20.22,2,   26.86,2,    1.74,2,   -0.85,2
74JC19990315,  Albatross,       6,          1,          9,19990319,       1353,     -56.89,     -68.24,  1018.9,2,   3.5213,2,  34.3197,2,  34.3200,2,    200.1,2,  199.77,2,   42.77,2,   31.84,2,    2.04,2, -999.00,9
74JC19990315,  Albatross,       6,          1,          8,19990319,       1353,     -56.89,     -68.24,  1273.8,2,   2.8341,2,  34.4499,2,  34.4497,2,    172.6,2,  173.36,2,   64.64,2,   33.01,2,    2.18,2,    8.12,2
74JC19990315,  Albatross,       6,          1,          7,19990319,       1353,     -56.89,     -68.24,  1528.6,2,   2.5998,2,  34.5388,2,  34.5385,2,    156.4,2,  158.26,2,   79.48,2,   34.27,2,    2.24,2, -999.00,9
74JC19990315,  Albatross,       6,          1,          6,19990319,       1353,     -56.89,     -68.24,  1783.2,2,   2.3816,2,  34.6056,2,  34.6056,2,    150.4,2,  151.33,2,   92.37,2,   33.98,2,    2.27,2,   15.91,2
74JC19990315,  Albatross,       6,          1,          5,19990319,       1353,     -56.89,     -68.24,  1832.0,2,   2.3228,2,  34.6196,2,  34.6191,2,    150.4,2,  150.07,2,   95.49,2,   33.98,2,    2.34,2, -999.00,9
74JC19990315,  Albatross,       6,          1,          4,19990319,       1353,     -56.89,     -68.24,  1933.1,2,   2.2402,2,  34.6346,2,  34.6348,2,    150.9,2,  151.33,2,   99.98,2,   34.37,2,    2.27,2, -999.00,9
74JC19990315,  Albatross,       6,          1,          3,19990319,       1353,     -56.89,     -68.24,  1972.1,2,   2.2207,2,  34.6380,2,  34.6382,2,    151.6,2,  151.42,2,   99.98,2,   33.88,2,    2.26,2, -999.00,9
74JC19990315,  Albatross,       6,          1,          2,19990319,       1353,     -56.89,     -68.24,  2010.1,2,   2.2091,2,  34.6407,2,  34.6407,2,    152.1,2,  151.52,2,  101.15,2,   33.78,2,    2.23,2,   18.86,2
74JC19990315,  Albatross,       6,          1,          1,19990319,       1353,     -56.89,     -68.24,  2010.1,2,   2.2091,2,  34.6407,2,  34.6409,2,    152.1,2,  151.03,2,  100.66,2,   33.49,2,    2.27,2,   18.86,2
74JC19990315,  Albatross,       7,          1,         16,19990319,       1656,     -56.91,     -68.24,     8.5,2,   7.1475,2,  34.0339,2,  34.0336,2,    301.7,2,  288.73,2,    2.54,2,   20.90,2,    1.24,2, -999.00,9
74JC19990315,  Albatross,       7,          1,         15,19990319,       1656,     -56.91,     -68.24,    54.3,2,   7.0420,2,  34.0347,2,  34.0348,2,    290.9,2,  289.02,2,    2.54,2,   21.00,2,    1.24,2, -999.00,9
74JC19990315,  Albatross,       7,          1,         14,19990319,       1656,     -56.91,     -68.24,   105.4,2,   6.8711,2,  34.0423,2,  34.0422,2,    288.6,2,  289.30,2,    2.73,2,   20.71,2,    1.27,2, -999.00,9
74JC19990315,  Albatross,       7,          1,         13,19990319,       1656,     -56.91,     -68.24,   258.6,2,   5.3466,2,  34.1404,2,  34.1412,2,    290.3,2,  289.82,2,    7.42,2,   23.25,2,    1.41,2, -999.00,9
74JC19990315,  Albatross,       7,          1,         12,19990319,       1656,     -56.91,     -68.24,   509.8,2,   4.9884,2,  34.2082,2,  34.2080,2,    271.7,2,  274.89,2,   10.65,2,   25.49,2,    1.59,2, -999.00,9
74JC19990315,  Albatross,       7,          1,         11,19990319,       1656,     -56.91,     -68.24,   763.2,2,   4.0620,2,  34.2492,2,  34.2493,2,    239.1,2,  225.10,2,   28.22,2,   32.23,2,    1.95,2, -999.00,9
74JC19990315,  Albatross,       7,          1,         10,19990319,       1656,     -56.91,     -68.24,  1016.9,2,   3.2810,2,  34.3537,2,  34.3533,2,    194.1,2,  191.00,2,   51.17,2,   35.16,2,    2.23,2, -999.00,9
74JC19990315,  Albatross,       7,          1,          9,19990319,       1656,     -56.91,     -68.24,  1270.7,2,   2.8410,2,  34.4686,2,  34.4542,2,    171.0,2,  169.56,2,   67.38,2,   37.79,2,    2.29,2, -999.00,9
74JC19990315,  Albatross,       7,          1,          8,19990319,       1656,     -56.91,     -68.24,  1526.8,2,   2.5662,2,  34.5510,2,  34.5511,2,    155.4,2,  157.57,2,   83.00,2,   37.01,2,    2.33,2, -999.00,9
74JC19990315,  Albatross,       7,          1,          7,19990319,       1656,     -56.91,     -68.24,  1782.8,2,   2.3503,2,  34.6148,2,  34.6144,2,    149.1,2,  150.55,2,   95.68,2,   36.61,2,    2.31,2, -999.00,9
74JC19990315,  Albatross,       7,          1,          6,19990319,       1656,     -56.91,     -68.24,  2039.3,2,   2.1675,2,  34.6482,2,  34.6480,2,    151.4,2,  151.91,2,  103.69,2,   36.42,2,    2.33,2, -999.00,9
74JC19990315,  Albatross,       7,          1,          5,19990319,       1656,     -56.91,     -68.24,  2434.3,2,   1.9453,2,  34.6833,2,  34.6835,2,    159.3,2,  159.39,2,  110.23,2,   35.64,2,    2.25,2, -999.00,9
74JC19990315,  Albatross,       7,          1,          4,19990319,       1656,     -56.91,     -68.24,  2537.3,2,   1.9162,2,  34.6894,2,  34.6901,2,    162.3,2,  162.22,2,  109.64,2,   36.12,2,    2.27,2, -999.00,9
74JC19990315,  Albatross,       7,          1,          3,19990319,       1656,     -56.91,     -68.24,  2598.2,2,   1.9016,2,  34.6929,2,  34.6931,2,    164.5,2,  164.35,2,  109.05,2,   35.05,2,    2.24,2, -999.00,9
74JC19990315,  Albatross,       7,          1,          2,19990319,       1656,     -56.91,     -68.24,  2635.6,2,   1.8906,2,  34.6949,2,  34.6947,2,    165.7,2,  164.84,2,  109.25,2,   35.24,2,    2.23,2, -999.00,9
74JC19990315,  Albatross,       7,          1,          1,19990319,       1656,     -56.91,     -68.24,  2635.4,2,   1.8905,2,  34.6949,2,  34.6945,2,    165.7,2,  165.61,2,  110.13,2,   35.44,2,    2.57,2, -999.00,9
74JC19990315,  Albatross,       8,          1,         17,19990319,       1949,     -56.92,     -68.24,     6.9,2,   7.1567,2,  34.0333,2,  34.0328,2,    293.9,2,  289.14,2,    3.71,2,   20.22,2,    1.22,2,   -3.32,2
74JC19990315,  Albatross,       8,          1,         16,19990319,       1949,     -56.92,     -68.24,    55.3,2,   7.0494,2,  34.0337,2,  34.0336,2,    287.6,2,  289.51,2,    3.81,2,   19.83,2,    1.24,2, -999.00,9
74JC19990315,  Albatross,       8,          1,         15,19990319,       1949,     -56.92,     -68.24,   105.8,2,   6.9289,2,  34.0373,2,  34.0375,2,    285.9,2,  289.12,2,    4.30,2,   20.32,2,    1.27,2,   -1.55,2
74JC19990315,  Albatross,       8,          1,         14,19990319,       1949,     -56.92,     -68.24,   259.1,2,   5.2295,2,  34.1500,2,-999.0000,9,    289.1,2, -999.00,9, -999.00,9, -999.00,9, -999.00,9, -999.00,9
74JC19990315,  Albatross,       8,          1,         13,19990319,       1949,     -56.92,     -68.24,   512.8,2,   4.7911,2,  34.2036,2,  34.2041,2,    269.1,2,  270.14,2,   14.26,2,   26.47,2,    1.66,2,   -0.74,2
74JC19990315,  Albatross,       8,          1,         12,19990319,       1949,     -56.92,     -68.24,   765.1,2,   3.9556,2,  34.2593,2,  34.2599,2,    223.1,2,  221.32,2,   31.74,2,   32.13,2,    1.96,2, -999.00,9
74JC19990315,  Albatross,       8,          1,         11,19990319,       1949,     -56.92,     -68.24,  1013.4,2,   3.2698,2,  34.3539,2,  34.3545,2,    191.1,2,  192.67,2,   50.59,2,   34.96,2,    2.19,2, -999.00,9
74JC19990315,  Albatross,       8,          1,         10,19990319,       1949,     -56.92,     -68.24,  1266.3,2,   2.8143,2,  34.4634,2,  34.4632,2,    168.4,2,  167.43,2,   69.62,2,   37.11,2,    2.28,2, -999.00,9
74JC19990315,  Albatross,       8,          1,          9,19990319,       1949,     -56.92,     -68.24,  1523.8,2,   2.5543,2,  34.5535,2,  34.5528,2,    159.6,2,  158.85,2,   84.36,2,   37.10,2,    2.29,2,   11.92,2
74JC19990315,  Albatross,       8,          1,          8,19990319,       1949,     -56.92,     -68.24,  1778.7,2,   2.3534,2,  34.6140,2,  34.6140,2,    151.1,2,  152.03,2,   95.78,2,   36.61,2,    2.30,2,   16.88,2
74JC19990315,  Albatross,       8,          1,          7,19990319,       1949,     -56.92,     -68.24,  2041.0,2,   2.1477,2,  34.6526,2,  34.6515,2,    154.1,2,  153.38,2,  106.03,2,   36.12,2,    2.28,2,   20.89,2
74JC19990315,  Albatross,       8,          1,          6,19990319,       1949,     -56.92,     -68.24,  2552.2,2,   1.9156,2,  34.6875,2,  34.6878,2,    162.7,2,  164.86,2,  108.37,2,   35.34,2,    2.25,2,   21.36,2
74JC19990315,  Albatross,       8,          1,          5,19990319,       1949,     -56.92,     -68.24,  2804.6,2,   1.8953,2,  34.6977,2,  34.6972,2,    168.3,2,  168.55,2,  106.61,2,   35.05,2,    2.21,2, -999.00,9
74JC19990315,  Albatross,       8,          1,          4,19990319,       1949,     -56.92,     -68.24,  2907.1,2,   1.8504,2,  34.7053,2,  34.7053,2,    172.8,2,  172.94,2,  105.73,2,   35.54,2,    2.24,2,   16.10,2
74JC19990315,  Albatross,       8,          1,          3,19990319,       1949,     -56.92,     -68.24,  2961.2,2,   1.8196,2,  34.7078,2,  34.7086,2,    174.9,2,  173.80,2,  106.03,2,   34.66,2,    2.19,2, -999.00,9
74JC19990315,  Albatross,       8,          1,          2,19990319,       1949,     -56.92,     -68.24,  3003.7,2,   1.7874,2,  34.7095,2,  34.7096,2,    176.4,2,  175.06,2,  107.78,2,   35.24,2,    2.18,2,   15.32,2
74JC19990315,  Albatross,       8,          1,          1,19990319,       1949,     -56.92,     -68.24,  3003.7,2,   1.7874,2,  34.7095,2,  34.7100,2,    176.4,2,  177.11,2,  106.22,2,   35.73,2,    2.22,2,   15.32,2