BOTTLE,20140822SIOCCHAMB
EXPOCODE,SECT_ID,STNNBR,CASTNO,BTLNBR,DATE,TIME,LATITUDE,LONGITUDE,CTDPRS,CTDPRS_FLAG_W,CTDTMP,CTDTMP_FLAG_W,CTDSAL,CTDSAL_FLAG_W,SALNTY,SALNTY_FLAG_W,CTDOXY,CTDOXY_FLAG_W,OXYGEN,OXYGEN_FLAG_W,SILCAT,SILCAT_FLAG_W,NITRAT,NITRAT_FLAG_W,PHSPHT,PHSPHT_FLAG_W,DELHE3,DELHE3_FLAG_W
,,,,,,,,,DBAR,,ITS-90,,PSS-78,,PSS-78,,UMOL/KG,,UMOL/KG,,UMOL/KG,,UMOL/KG,,UMOL/KG,,PERCNT,
74JC19990315,  Albatross,      22,          1,         18,19990323,       0516,     -60.07,     -68.18,    13.7,2,   3.1183,2,  33.7778,2,  33.7833,2,    315.7,2,  319.02,2,   12.99,2,   24.33,2,    1.59,2, -999.00,9
74JC19990315,  Albatross,      22,          1,         17,19990323,       0516,     -60.07,     -68.18,    58.8,2,   3.1122,2,  33.7783,2,  33.7737,2,    317.2,2,  319.41,2,   13.48,2,   23.84,2,    1.60,2, -999.00,9
74JC19990315,  Albatross,      22,          1,         16,19990323,       0516,     -60.07,     -68.18,   109.8,2,   1.4296,2,  33.8734,2,  33.8738,2,    325.9,2,  323.53,2,   26.77,2,   24.62,2,    1.78,2, -999.00,9
74JC19990315,  Albatross,      22,          1,         15,19990323,       0516,     -60.07,     -68.18,   261.0,2,   1.9074,2,  34.1206,2,  34.1199,2,    265.2,2,  264.10,2,   35.55,2,   29.79,2,    2.07,2, -999.00,9
74JC19990315,  Albatross,      22,          1,         14,19990323,       0516,     -60.07,     -68.18,   515.2,2,   2.3936,2,  34.3786,2,  34.3756,2,    195.9,2,  193.20,2,   64.35,2,   32.62,2,    2.30,2, -999.00,9
74JC19990315,  Albatross,      22,          1,         13,19990323,       0516,     -60.07,     -68.18,   768.0,2,   2.3680,2,  34.5407,2,  34.5381,2,    169.0,2,  170.60,2,   80.07,2,   33.00,2,    2.30,2, -999.00,9
74JC19990315,  Albatross,      22,          1,         12,19990323,       0516,     -60.07,     -68.18,  1023.7,2,   2.2400,2,  34.6347,2,  34.6323,2,    169.5,2,  169.22,2,   87.77,2,   31.73,2,    2.26,2, -999.00,9
74JC19990315,  Albatross,      22,          1,         11,19990323,       0516,     -60.07,     -68.18,  1278.5,2,   2.0873,2,  34.6914,2,  34.6903,2,    175.0,2,  175.34,2,   92.75,2,   30.75,2,    2.19,2, -999.00,9
74JC19990315,  Albatross,      22,          1,         10,19990323,       0516,     -60.07,     -68.18,  1532.5,2,   1.9146,2,  34.7181,2,  34.7176,2,    179.5,2,  179.71,2,   98.80,2,   31.05,2,    2.27,2, -999.00,9
74JC19990315,  Albatross,      22,          1,          9,19990323,       0516,     -60.07,     -68.18,  1790.5,2,   1.7240,2,  34.7286,2,  34.7288,2,    184.9,2,  185.35,2,  103.97,2,   30.85,2,    2.13,2, -999.00,9
74JC19990315,  Albatross,      22,          1,          8,19990323,       0516,     -60.07,     -68.18,  2045.1,2,   1.5029,2,  34.7288,2,  34.7288,2,    189.2,2,  189.92,2,  110.91,2,   29.87,2,    2.15,2, -999.00,9
74JC19990315,  Albatross,      22,          1,          7,19990323,       0516,     -60.07,     -68.18,  2555.5,2,   1.1799,2,  34.7216,2,  34.7221,2,    196.3,2,  196.15,2,  120.18,2,   31.34,2,    2.16,2, -999.00,9
74JC19990315,  Albatross,      22,          1,          6,19990323,       0516,     -60.07,     -68.18,  3061.4,2,   0.8839,2,  34.7117,2,  34.7121,2,    202.1,2,  201.21,2,  131.12,2,   31.34,2,    2.18,2, -999.00,9
74JC19990315,  Albatross,      22,          1,          5,19990323,       0516,     -60.07,     -68.18,  3354.0,2,   0.6853,2,  34.7077,2,  34.7084,2,    205.4,2,  205.00,2,  137.27,2,   31.24,2,    2.18,2, -999.00,9
74JC19990315,  Albatross,      22,          1,          4,19990323,       0516,     -60.07,     -68.18,  3457.0,2,   0.6696,2,  34.7075,2,  34.7555,2,    205.6,2,  207.35,2,  105.15,2,   32.90,2,    2.20,2, -999.00,9
74JC19990315,  Albatross,      22,          1,          3,19990323,       0516,     -60.07,     -68.18,  3510.0,2,   0.6248,2,  34.7067,2,  34.7062,2,    206.3,2,  206.17,2,  139.12,2,   31.05,2,    2.19,2, -999.00,9
74JC19990315,  Albatross,      22,          1,          2,19990323,       0516,     -60.07,     -68.18,  3551.5,2,   0.6194,2,  34.7064,2,  34.7062,2,    206.4,2,  205.87,2,  139.71,2,   31.34,2,    2.18,2, -999.00,9
74JC19990315,  Albatross,      22,          1,          1,19990323,       0516,     -60.07,     -68.18,  3551.7,2,   0.6197,2,  34.7064,2,  34.7064,2,    206.4,2,  206.07,2,  140.20,2,   30.95,2,    2.19,2, -999.00,9
74JC19990315,  Albatross,      23,          1,         24,19990323,       1131,     -60.32,     -68.12,    17.0,2,   3.4039,2,  33.7798,2,  33.7802,2,    311.8,2,  315.89,2,    8.40,2,   24.13,2,    1.54,2,   -1.15,2
74JC19990315,  Albatross,      23,          1,         23,19990323,       1131,     -60.32,     -68.12,    57.3,2,   3.3964,2,  33.7807,2,  33.7804,2,    319.4,2,  314.92,2,    8.79,2,   24.42,2,    1.55,2, -999.00,9
74JC19990315,  Albatross,      23,          1,         22,19990323,       1131,     -60.32,     -68.12,   107.7,2,   1.3536,2,  33.9013,2,  33.8977,2,    316.4,2,  316.32,2,   17.97,2,   26.96,2,    1.86,2, -999.00,9
74JC19990315,  Albatross,      23,          1,         21,19990323,       1131,     -60.32,     -68.12,   244.7,2,   2.1617,2,  34.1838,2,  34.1968,2,    252.5,2,  239.56,2,   42.10,2,   31.45,2,    2.11,2,    1.55,2
74JC19990315,  Albatross,      23,          1,         20,19990323,       1131,     -60.32,     -68.12,   515.6,2,   2.3648,2,  34.4156,2,  34.4134,2,    186.2,2,  184.72,2,   66.11,2,   33.69,2,    2.30,2,    5.03,2
74JC19990315,  Albatross,      23,          1,         19,19990323,       1131,     -60.32,     -68.12,   769.6,2,   2.2837,2,  34.5655,2,  34.5640,2,    168.4,2,  185.48,2,   79.87,2,   33.20,2,    2.28,2, -999.00,9
74JC19990315,  Albatross,      23,          1,         18,19990323,       1131,     -60.32,     -68.12,  1022.6,2,   2.1963,2,  34.6493,2,  34.6487,2,    169.3,2,  168.24,2,   85.72,2,   33.39,2,    2.21,2,    9.30,2
74JC19990315,  Albatross,      23,          1,         17,19990323,       1131,     -60.32,     -68.12,  1024.5,2,   2.1953,2,  34.6495,2,-999.0000,9,    169.1,2, -999.00,9, -999.00,9, -999.00,9, -999.00,9, -999.00,9
74JC19990315,  Albatross,      23,          1,         16,19990323,       1131,     -60.32,     -68.12,  1279.7,2,   2.0449,2,  34.6993,2,  34.6994,2,    174.5,2,  174.76,2,   91.09,2,   31.53,2,    2.14,2, -999.00,9
74JC19990315,  Albatross,      23,          1,         15,19990323,       1131,     -60.32,     -68.12,  1534.5,2,   1.8662,2,  34.7224,2,  34.7231,2,    180.5,2,  182.63,2,   94.90,2,   31.53,2,    2.10,2,   10.03,2
74JC19990315,  Albatross,      23,          1,         14,19990323,       1131,     -60.32,     -68.12,  1790.5,2,   1.6831,2,  34.7274,2,  34.7274,2,    185.5,2,  185.16,2,  101.73,2,   31.83,2,    2.12,2, -999.00,9
74JC19990315,  Albatross,      23,          1,         13,19990323,       1131,     -60.32,     -68.12,  2045.8,2,   1.5012,2,  34.7277,2,  34.7270,2,    187.9,2,  187.78,2,  111.49,2,   32.12,2,    2.12,2,   11.14,2
74JC19990315,  Albatross,      23,          1,         12,19990323,       1131,     -60.32,     -68.12,  2556.8,2,   1.1863,2,  34.7206,2,  34.7210,2,    194.0,2,  195.57,2,  116.67,2,   31.44,2,    2.19,2, -999.00,9
74JC19990315,  Albatross,      23,          1,         11,19990323,       1131,     -60.32,     -68.12,  2556.8,2,   1.1863,2,  34.7206,2,-999.0000,9,    194.0,2, -999.00,9, -999.00,9, -999.00,9, -999.00,9, -999.00,9
74JC19990315,  Albatross,      23,          1,         10,19990323,       1131,     -60.32,     -68.12,  3068.8,2,   0.8678,2,  34.7108,2,-999.0000,9,    200.1,2, -999.00,9, -999.00,9, -999.00,9, -999.00,9, -999.00,9
74JC19990315,  Albatross,      23,          1,          9,19990323,       1131,     -60.32,     -68.12,  3581.7,2,   0.6761,2,  34.7071,2,  34.7084,2,    204.2,2,  203.35,2,  135.02,2,   32.22,2,    2.17,2,    9.57,2
74JC19990315,  Albatross,      23,          1,          8,19990323,       1131,     -60.32,     -68.12,  3638.5,2,   0.6759,2,  34.7067,2,  34.7058,2,    204.0,2,  204.03,2,  133.85,2,   33.10,2,    2.21,2,    9.50,2
74JC19990315,  Albatross,      23,          1,          7,19990323,       1131,     -60.32,     -68.12,  3638.5,2,   0.6759,2,  34.7067,2,-999.0000,9,    204.0,2, -999.00,9, -999.00,9, -999.00,9, -999.00,9,    9.50,2
74JC19990315,  Albatross,      23,          1,          6,19990323,       1131,     -60.32,     -68.12,  3742.1,2,   0.6761,2,  34.7066,2,  34.7060,2,    204.6,2,  204.51,2,  132.09,2,   31.44,2,    2.20,2, -999.00,9
74JC19990315,  Albatross,      23,          1,          5,19990323,       1131,     -60.32,     -68.12,  3793.7,2,   0.6628,2,  34.7063,2,  34.7066,2,    205.4,2,  204.61,2,  134.14,2,   32.51,2,    2.19,2, -999.00,9
74JC19990315,  Albatross,      23,          1,          4,19990323,       1131,     -60.32,     -68.12,  3793.7,2,   0.6628,2,  34.7063,2,-999.0000,9,    205.4,2, -999.00,9, -999.00,9, -999.00,9, -999.00,9, -999.00,9
74JC19990315,  Albatross,      23,          1,          3,19990323,       1131,     -60.32,     -68.12,  3828.4,2,   0.6550,2,  34.7061,2,  34.7062,2,    205.2,2,  204.51,2,  134.83,2,   32.12,2,    2.19,2, -999.00,9
74JC19990315,  Albatross,      23,          1,          2,19990323,       1131,     -60.32,     -68.12,  3827.8,2,   0.6554,2,  34.7060,2,  34.7058,2,    205.2,2,  206.36,2,  134.34,2,   31.73,2,    2.19,2,    9.45,2
74JC19990315,  Albatross,      23,          1,          1,19990323,       1131,     -60.32,     -68.12,  3827.8,2,   0.6554,2,  34.7060,2,-999.0000,9,    205.2,2, -999.00,9, -999.00,9, -999.00,9, -999.00,9,    9.45,2
74JC19990315,  Albatross,      24,          1,         19,19990323,       1625,     -60.58,     -68.06,    12.1,2,   3.0604,2,  33.7576,2,  33.7569,2,    319.1,2,  318.92,2,   10.53,2,   24.78,2,    1.61,2, -999.00,9
74JC19990315,  Albatross,      24,          1,         18,19990323,       1625,     -60.58,     -68.06,    55.2,2,   3.0602,2,  33.7582,2,  33.7589,2,    320.9,2,  319.99,2,   10.84,2,   25.18,2,    1.60,2, -999.00,9
74JC19990315,  Albatross,      24,          1,         17,19990323,       1625,     -60.58,     -68.06,   112.8,2,   0.4327,2,  33.8524,2,  33.8523,2,    331.9,2,  331.99,2,   19.99,2,   26.21,2,    1.81,2, -999.00,9
74JC19990315,  Albatross,      24,          1,         16,19990323,       1625,     -60.58,     -68.06,   259.6,2,   1.8464,2,  34.1777,2,  34.1764,2,    245.7,2,  246.95,2,   43.12,2,   31.90,2,    2.14,2, -999.00,9
74JC19990315,  Albatross,      24,          1,         15,19990323,       1625,     -60.58,     -68.06,   514.1,2,   2.2383,2,  34.4451,2,  34.4444,2,    181.9,2,  183.06,2,   69.52,2,   33.85,2,    2.32,2, -999.00,9
74JC19990315,  Albatross,      24,          1,         14,19990323,       1625,     -60.58,     -68.06,   767.6,2,   2.2499,2,  34.5910,2,  34.5901,2,    168.9,2,  169.52,2,   81.48,2,   33.78,2,    2.27,2, -999.00,9
74JC19990315,  Albatross,      24,          1,         13,19990323,       1625,     -60.58,     -68.06,  1021.1,2,   2.1612,2,  34.6645,2,  34.6640,2,    172.3,2,  172.13,2,   85.57,2,   32.71,2,    2.20,2, -999.00,9
74JC19990315,  Albatross,      24,          1,         12,19990323,       1625,     -60.58,     -68.06,  1277.5,2,   2.0124,2,  34.7044,2,  34.7045,2,    178.1,2,  176.50,2,   90.42,2,   32.27,2,    2.12,2, -999.00,9
74JC19990315,  Albatross,      24,          1,         11,19990323,       1625,     -60.58,     -68.06,  1532.6,2,   1.7919,2,  34.7260,2,  34.7264,2,    184.1,2,  183.99,2,   95.96,2,   31.30,2,    2.08,2, -999.00,9
74JC19990315,  Albatross,      24,          1,         10,19990323,       1625,     -60.58,     -68.06,  1789.0,2,   1.6040,2,  34.7280,2,  34.7274,2,    187.4,2,  186.81,2,  101.70,2,   31.23,2,    2.08,2, -999.00,9
74JC19990315,  Albatross,      24,          1,          9,19990323,       1625,     -60.58,     -68.06,  2043.4,2,   1.4494,2,  34.7278,2,  34.7284,2,    190.7,2,  190.31,2,  105.86,2,   31.03,2,    2.08,2, -999.00,9
74JC19990315,  Albatross,      24,          1,          8,19990323,       1625,     -60.58,     -68.06,  2557.2,2,   1.1458,2,  34.7198,2,  34.7202,2,    197.0,2,  195.86,2,  115.81,2,   31.43,2,    2.08,2, -999.00,9
74JC19990315,  Albatross,      24,          1,          7,19990323,       1625,     -60.58,     -68.06,  3069.9,2,   0.8518,2,  34.7112,2,  34.7115,2,    201.7,2,  202.08,2,  123.12,2,   31.92,2,    2.13,2, -999.00,9
74JC19990315,  Albatross,      24,          1,          6,19990323,       1625,     -60.58,     -68.06,  3582.5,2,   0.6108,2,  34.7066,2,  34.7064,2,    206.8,2,  206.26,2,  131.06,2,   32.02,2,    2.12,2, -999.00,9
74JC19990315,  Albatross,      24,          1,          5,19990323,       1625,     -60.58,     -68.06,  3805.6,2,   0.5836,2,  34.7060,2,  34.7049,2,    206.6,2,  207.24,2,  132.88,2,   31.73,2,    2.13,2, -999.00,9
74JC19990315,  Albatross,      24,          1,          4,19990323,       1625,     -60.58,     -68.06,  3920.3,2,   0.5560,2,  34.7048,2,  34.7049,2,    208.3,2,  207.72,2,  134.34,2,   32.08,2,    2.17,2, -999.00,9
74JC19990315,  Albatross,      24,          1,          3,19990323,       1625,     -60.58,     -68.06,  3972.3,2,   0.5487,2,  34.7047,2,  34.7043,2,    208.2,2,  207.53,2,  134.72,2,   31.55,2,    2.12,2, -999.00,9
74JC19990315,  Albatross,      24,          1,          2,19990323,       1625,     -60.58,     -68.06,  4012.1,2,   0.5505,2,  34.7048,2,  34.7049,2,    206.6,2,  208.01,2,  135.03,2,   32.22,2,    2.47,2, -999.00,9
74JC19990315,  Albatross,      24,          1,          1,19990323,       1625,     -60.58,     -68.06,  4011.8,2,   0.5505,2,  34.7049,2,  34.7047,2,    206.6,2,  207.43,2,  136.42,2,   31.14,2,    2.09,2, -999.00,9
74JC19990315,  Albatross,      25,          1,         19,19990323,       2119,     -60.83,      -68.0,    13.8,2,   2.9400,2,  33.7595,2,  33.7579,2,    329.5,2,  320.47,2,   11.24,2,   25.21,2,    1.65,2,   -1.33,2
74JC19990315,  Albatross,      25,          1,         18,19990323,       2119,     -60.83,      -68.0,    60.3,2,   2.9215,2,  33.7603,2,  33.7606,2,    319.7,2,  319.98,2,   11.43,2,   25.11,2,    1.67,2, -999.00,9
74JC19990315,  Albatross,      25,          1,         17,19990323,       2119,     -60.83,      -68.0,   111.1,2,   0.5408,2,  33.8679,2,  33.8676,2,    322.1,2,  328.87,2,   20.22,2,   26.08,2,    1.84,2, -999.00,9
74JC19990315,  Albatross,      25,          1,         16,19990323,       2119,     -60.83,      -68.0,   263.8,2,   1.7883,2,  34.1885,2,  34.1880,2,    237.3,2,  243.15,2,   46.29,2,   31.84,2,    2.22,2,    0.58,2
74JC19990315,  Albatross,      25,          1,         15,19990323,       2119,     -60.83,      -68.0,   517.8,2,   2.3272,2,  34.4494,2,  34.4479,2,    180.8,2,  181.31,2,   70.31,2,   34.08,2,    2.33,2,    6.18,2
74JC19990315,  Albatross,      25,          1,         14,19990323,       2119,     -60.83,      -68.0,   769.0,2,   2.2431,2,  34.5884,2,-999.0000,9,    170.3,2,  169.32,2,   81.63,2,   33.20,2,    2.29,2, -999.00,9
74JC19990315,  Albatross,      25,          1,         13,19990323,       2119,     -60.83,      -68.0,  1008.5,2,   2.1380,2,  34.6654,2,  34.6707,2,    174.7,2,  172.72,2,   87.77,2,   32.41,2,    2.23,2,    9.21,2
74JC19990315,  Albatross,      25,          1,         12,19990323,       2119,     -60.83,      -68.0,  1276.4,2,   1.9803,2,  34.7075,2,  34.7076,2,    178.0,2,  175.43,2,   92.65,2,   31.93,2,    2.18,2, -999.00,9
74JC19990315,  Albatross,      25,          1,         11,19990323,       2119,     -60.83,      -68.0,  1530.5,2,   1.7905,2,  34.7232,2,  34.7237,2,    183.4,2,  181.95,2,   98.02,2,   30.85,2,    2.14,2,   11.23,2
74JC19990315,  Albatross,      25,          1,         10,19990323,       2119,     -60.83,      -68.0,  1788.4,2,   1.5807,2,  34.7225,2,  34.7237,2,    185.1,2,  184.48,2,  105.63,2,   31.44,2,    2.14,2, -999.00,9
74JC19990315,  Albatross,      25,          1,          9,19990323,       2119,     -60.83,      -68.0,  2046.0,2,   1.4374,2,  34.7263,2,  34.7270,2,    189.0,2,  190.51,2,  107.98,2,   30.66,2,    2.21,2, -999.00,9
74JC19990315,  Albatross,      25,          1,          8,19990323,       2119,     -60.83,      -68.0,  2559.0,2,   1.0661,2,  34.7171,2,  34.7180,2,    196.1,2,  197.51,2,  118.62,2,   30.95,2,    2.16,2, -999.00,9
74JC19990315,  Albatross,      25,          1,          7,19990323,       2119,     -60.83,      -68.0,  3069.8,2,   0.7720,2,  34.7089,2,  34.7088,2,    202.0,2,  202.57,2,  126.82,2,   31.93,2,    2.17,2, -999.00,9
74JC19990315,  Albatross,      25,          1,          6,19990323,       2119,     -60.83,      -68.0,  3583.5,2,   0.5528,2,  34.7055,2,  34.7049,2,    206.0,2,  206.75,2,  134.44,2,   31.73,2,    2.18,2, -999.00,9
74JC19990315,  Albatross,      25,          1,          5,19990323,       2119,     -60.83,      -68.0,  3827.5,2,   0.5488,2,  34.7055,2,  34.7049,2,    207.9,2,  207.24,2,  135.12,2,   31.63,2,    2.20,2, -999.00,9
74JC19990315,  Albatross,      25,          1,          4,19990323,       2119,     -60.83,      -68.0,  3930.6,2,   0.5507,2,  34.7052,2,  34.7049,2,    207.4,2,  204.42,2,  136.00,2,   32.51,2,    2.18,2, -999.00,9
74JC19990315,  Albatross,      25,          1,          3,19990323,       2119,     -60.83,      -68.0,  3982.3,2,   0.5502,2,  34.7052,2,  34.7051,2,    208.0,2,  208.31,2,  136.88,2,   31.83,2,    2.18,2, -999.00,9
74JC19990315,  Albatross,      25,          1,          2,19990323,       2119,     -60.83,      -68.0,  4023.5,2,   0.5523,2,  34.7051,2,  34.7043,2,    206.8,2,  208.31,2,  136.39,2,   31.93,2,    2.19,2, -999.00,9
74JC19990315,  Albatross,      25,          1,          1,19990323,       2119,     -60.83,      -68.0,  4023.5,2,   0.5523,2,  34.7051,2,  34.7045,2,    206.8,2,  207.05,2,  136.68,2,   31.05,2,    2.17,2, -999.00,9