BOTTLE,20140822SIOCCHAMB
EXPOCODE,SECT_ID,STNNBR,CASTNO,BTLNBR,DATE,TIME,LATITUDE,LONGITUDE,CTDPRS,CTDPRS_FLAG_W,CTDTMP,CTDTMP_FLAG_W,CTDSAL,CTDSAL_FLAG_W,SALNTY,SALNTY_FLAG_W,CTDOXY,CTDOXY_FLAG_W,OXYGEN,OXYGEN_FLAG_W,SILCAT,SILCAT_FLAG_W,NITRAT,NITRAT_FLAG_W,PHSPHT,PHSPHT_FLAG_W,DELHE3,DELHE3_FLAG_W
,,,,,,,,,DBAR,,ITS-90,,PSS-78,,PSS-78,,UMOL/KG,,UMOL/KG,,UMOL/KG,,UMOL/KG,,UMOL/KG,,PERCNT,
74JC19990315,  Albatross,      17,          1,         19,19990321,       1740,     -58.84,     -68.26,    11.0,2,   6.2575,2,  33.9966,2,  33.9984,2,    305.7,2,  290.95,2,    3.61,2,   21.29,2,    1.37,2,   -2.69,2
74JC19990315,  Albatross,      17,          1,         18,19990321,       1740,     -58.84,     -68.26,    56.0,2,   6.1809,2,  33.9826,2,  34.0003,2,    293.3,2,  293.57,2,    3.71,2,   20.32,2,    1.38,2, -999.00,9
74JC19990315,  Albatross,      17,          1,         17,19990321,       1740,     -58.84,     -68.26,   107.3,2,   5.2886,2,  34.1160,2,  34.1281,2,    295.9,2,  291.86,2,    9.18,2,   22.17,2,    1.48,2, -999.00,9
74JC19990315,  Albatross,      17,          1,         16,19990321,       1740,     -58.84,     -68.26,   257.9,2,   4.8656,2,  34.1467,2,  34.1441,2,    278.0,2,  282.20,2,   11.04,2,   24.32,2,    1.56,2,   -0.87,2
74JC19990315,  Albatross,      17,          1,         15,19990321,       1740,     -58.84,     -68.26,   511.1,2,   4.2912,2,  34.2277,2,  34.2326,2,    229.1,2,  230.76,2,   25.78,2,   28.52,2,    1.94,2,    0.36,2
74JC19990315,  Albatross,      17,          1,         14,19990321,       1740,     -58.84,     -68.26,   763.6,2,   3.3855,2,  34.3232,2,  34.3351,2,    198.1,2,  198.99,2,   47.27,2,   33.11,2,    2.18,2,    4.63,2
74JC19990315,  Albatross,      17,          1,         13,19990321,       1740,     -58.84,     -68.26,  1017.6,2,   2.7976,2,  34.4390,2,  34.4530,2,    178.6,2,  176.57,2,   66.60,2,   33.20,2,    2.33,2, -999.00,9
74JC19990315,  Albatross,      17,          1,         12,19990321,       1740,     -58.84,     -68.26,  1273.0,2,   2.5267,2,  34.5594,2,  34.5497,2,    156.4,2,  156.79,2,   83.29,2,   34.66,2,    2.38,2, -999.00,9
74JC19990315,  Albatross,      17,          1,         11,19990321,       1740,     -58.84,     -68.26,  1527.4,2,   2.2965,2,  34.6218,2,  34.6127,2,    152.7,2,  152.40,2,   94.51,2,   34.17,2,    2.38,2,   16.28,2
74JC19990315,  Albatross,      17,          1,         10,19990321,       1740,     -58.84,     -68.26,  1782.8,2,   2.1109,2,  34.6551,2,  34.6568,2,    154.5,2,  153.76,2,  105.93,2,   33.59,2,    2.36,2,   21.14,2
74JC19990315,  Albatross,      17,          1,          9,19990321,       1740,     -58.84,     -68.26,  2038.8,2,   1.9440,2,  34.6767,2,  34.6764,2,    157.0,2,  156.28,2,  112.57,2,   33.78,2,    2.35,2,   23.05,2
74JC19990315,  Albatross,      17,          1,          8,19990321,       1740,     -58.84,     -68.26,  2552.6,2,   1.7574,2,  34.7042,2,  34.7043,2,    168.2,2,  169.90,2,  111.50,2,   32.51,2,    2.26,2,   18.08,2
74JC19990315,  Albatross,      17,          1,          7,19990321,       1740,     -58.84,     -68.26,  3063.9,2,   1.4557,2,  34.7242,2,  34.7245,2,    186.7,2,  190.04,2,  110.32,2,   31.05,2,    2.16,2,   10.54,2
74JC19990315,  Albatross,      17,          1,          6,19990321,       1740,     -58.84,     -68.26,  3575.4,2,   0.9713,2,  34.7135,2,  34.7131,2,    199.1,2,  197.33,2,  124.87,2,   31.14,2,    2.16,2,    9.37,2
74JC19990315,  Albatross,      17,          1,          5,19990321,       1740,     -58.84,     -68.26,  3703.5,2,   0.9232,2,  34.7144,2,  34.7119,2,    199.2,2,  198.59,2,  125.75,2,   31.24,2,    2.16,2, -999.00,9
74JC19990315,  Albatross,      17,          1,          4,19990321,       1740,     -58.84,     -68.26,  3806.7,2,   0.8716,2,  34.7111,2,  34.7123,2,    200.0,2,  199.95,2,  127.99,2,   31.24,2,    2.18,2, -999.00,9
74JC19990315,  Albatross,      17,          1,          3,19990321,       1740,     -58.84,     -68.26,  3856.6,2,   0.8723,2,  34.7108,2,  34.7109,2,    200.3,2,  199.95,2,  127.80,2,   31.05,2,    2.18,2, -999.00,9
74JC19990315,  Albatross,      17,          1,          2,19990321,       1740,     -58.84,     -68.26,  3902.0,2,   0.8644,2,-999.0000,9,  34.7107,2,   -999.0,9,  200.24,2,  128.38,2,   32.02,2,    2.21,2, -999.00,9
74JC19990315,  Albatross,      17,          1,          1,19990321,       1740,     -58.84,     -68.26,  3884.7,2,   0.8630,2,  34.7108,2,  34.7104,2,    200.4,2,  200.05,2,  128.38,2,   31.14,2,    2.20,2, -999.00,9
74JC19990315,  Albatross,      18,          1,         18,19990321,       2207,     -59.09,     -68.25,     9.2,2,   5.7245,2,  33.9577,2,  33.9575,2,    288.9,2,  288.27,2,    3.13,2,   20.81,2,    1.44,2, -999.00,9
74JC19990315,  Albatross,      18,          1,         17,19990321,       2207,     -59.09,     -68.25,    55.0,2,   5.7014,2,  33.9588,2,  33.9591,2,    287.3,2,  290.61,2,    3.32,2,   20.61,2,    1.41,2, -999.00,9
74JC19990315,  Albatross,      18,          1,         16,19990321,       2207,     -59.09,     -68.25,   106.2,2,   5.6782,2,  33.9599,2,  33.9598,2,    286.0,2,  283.20,2,    3.22,2,   20.51,2,    1.42,2, -999.00,9
74JC19990315,  Albatross,      18,          1,         15,19990321,       2207,     -59.09,     -68.25,   259.1,2,   4.0784,2,  34.0803,2,  34.0802,2,    270.2,2,  268.54,2,   12.11,2,   24.13,2,    1.61,2, -999.00,9
74JC19990315,  Albatross,      18,          1,         14,19990321,       2207,     -59.09,     -68.25,   511.4,2,   3.7082,2,  34.2278,2,  34.2252,2,    228.0,2,  228.10,2,   29.69,2,   28.81,2,    1.98,2, -999.00,9
74JC19990315,  Albatross,      18,          1,         13,19990321,       2207,     -59.09,     -68.25,   765.3,2,   3.0448,2,  34.3363,2,  34.3349,2,    192.7,2,  190.01,2,   48.73,2,   31.54,2,    2.20,2, -999.00,9
74JC19990315,  Albatross,      18,          1,         12,19990321,       2207,     -59.09,     -68.25,  1020.5,2,   2.6949,2,  34.4709,2,  34.4699,2,    165.7,2,  165.26,2,   66.89,2,   32.52,2,    2.28,2, -999.00,9
74JC19990315,  Albatross,      18,          1,         11,19990321,       2207,     -59.09,     -68.25,  1275.1,2,   2.4749,2,  34.5613,2,  34.5619,2,    160.4,2,  161.65,2,   77.43,2,   33.00,2,    2.27,2, -999.00,9
74JC19990315,  Albatross,      18,          1,         10,19990321,       2207,     -59.09,     -68.25,  1531.1,2,   2.3099,2,  34.6321,2,  34.6319,2,    160.7,2,  162.03,2,   83.87,2,   31.93,2,    2.25,2, -999.00,9
74JC19990315,  Albatross,      18,          1,          9,19990321,       2207,     -59.09,     -68.25,  1782.8,2,   2.0544,2,  34.6659,2,  34.6656,2,    152.6,2,  153.65,2,  105.35,2,   32.61,2,    2.30,2, -999.00,9
74JC19990315,  Albatross,      18,          1,          8,19990321,       2207,     -59.09,     -68.25,  2037.8,2,   1.9087,2,  34.6782,2,  34.6780,2,    152.4,2,  151.70,2,  112.37,2,   32.90,2,    2.31,2, -999.00,9
74JC19990315,  Albatross,      18,          1,          7,19990321,       2207,     -59.09,     -68.25,  2529.0,2,   1.7820,2,  34.7216,2,  34.7217,2,    179.4,2,  178.36,2,  100.95,2,   30.75,2,    2.10,2, -999.00,9
74JC19990315,  Albatross,      18,          1,          6,19990321,       2207,     -59.09,     -68.25,  3067.5,2,   1.3037,2,  34.7198,2,  34.7196,2,    187.1,2,  187.20,2,  114.42,2,   30.17,2,    2.12,2, -999.00,9
74JC19990315,  Albatross,      18,          1,          5,19990321,       2207,     -59.09,     -68.25,  3381.4,2,   1.1379,2,  34.7167,2,  34.7172,2,    192.5,2,  191.19,2,  118.42,2,   31.63,2,    2.12,2, -999.00,9
74JC19990315,  Albatross,      18,          1,          4,19990321,       2207,     -59.09,     -68.25,  3483.8,2,   1.0996,2,  34.7159,2,  34.7160,2,    194.8,2,  195.57,2,  119.60,2,   30.36,2,    2.18,2, -999.00,9
74JC19990315,  Albatross,      18,          1,          3,19990321,       2207,     -59.09,     -68.25,  3534.4,2,   1.0637,2,  34.7150,2,  34.7145,2,    195.4,2,  195.57,2,  120.67,2,   30.46,2,    2.16,2, -999.00,9
74JC19990315,  Albatross,      18,          1,          2,19990321,       2207,     -59.09,     -68.25,  3576.4,2,   0.9996,2,  34.7139,2,  34.7143,2,    195.8,2,  196.64,2,  121.55,2,   30.75,2,    2.16,2, -999.00,9
74JC19990315,  Albatross,      18,          1,          1,19990321,       2207,     -59.09,     -68.25,  3576.4,2,   0.9996,2,  34.7139,2,  34.7137,2,    195.8,2, -999.00,9,  121.26,2,   30.27,2,    2.12,2, -999.00,9
74JC19990315,  Albatross,      19,          1,         19,19990322,       0232,     -59.33,     -68.24,    17.3,2,   5.3065,2,  33.8943,2,  33.8941,2,    296.5,2,  298.10,2,    3.32,2,   21.78,2,    1.66,2,   -1.70,2
74JC19990315,  Albatross,      19,          1,         18,19990322,       0232,     -59.33,     -68.24,    56.9,2,   5.2816,2,  33.8944,2,  33.8947,2,    297.3,2,  299.75,2,    3.52,2,   21.98,2,    1.71,2, -999.00,9
74JC19990315,  Albatross,      19,          1,         17,19990322,       0232,     -59.33,     -68.24,   107.8,2,   3.9353,2,  34.0300,2,  34.0322,2,    301.6,2,  296.29,2,   11.14,2,   23.74,2,    1.77,2,   -3.25,2
74JC19990315,  Albatross,      19,          1,         16,19990322,       0232,     -59.33,     -68.24,   259.9,2,   3.2015,2,  34.0590,2,  34.0590,2,    269.2,2,  278.94,2,   17.87,2,   26.37,2,    1.91,2, -999.00,9
74JC19990315,  Albatross,      19,          1,         15,19990322,       0232,     -59.33,     -68.24,   513.9,2,   3.2580,2,  34.2630,2,  34.2628,2,    221.6,2,  217.66,2,   38.67,2,   30.47,2,    2.22,2, -999.00,9
74JC19990315,  Albatross,      19,          1,         14,19990322,       0232,     -59.33,     -68.24,   766.3,2,   2.7340,2,  34.4021,2,  34.3999,2,    191.1,2,  186.00,2,   59.57,2,   32.23,2,    2.41,2, -999.00,9
74JC19990315,  Albatross,      19,          1,         13,19990322,       0232,     -59.33,     -68.24,  1021.4,2,   2.4947,2,  34.5266,2,  34.5246,2,    171.8,2,  169.82,2,   73.53,2,   32.52,2,    2.39,2, -999.00,9
74JC19990315,  Albatross,      19,          1,         12,19990322,       0232,     -59.33,     -68.24,  1276.5,2,   2.3409,2,  34.6120,2,  34.6103,2,    165.6,2,  167.28,2,   81.62,2,   32.02,2,    2.34,2,   10.19,2
74JC19990315,  Albatross,      19,          1,         11,19990322,       0232,     -59.33,     -68.24,  1530.8,2,   2.1984,2,  34.6685,2,  34.6678,2,    168.7,2,  169.90,2,   86.70,2,   31.34,2,    2.30,2,   10.25,2
74JC19990315,  Albatross,      19,          1,         10,19990322,       0232,     -59.33,     -68.24,  1786.2,2,   2.0314,2,  34.7023,2,  34.7027,2,    172.2,2,  173.88,2,   92.75,2,   30.75,2,    2.29,2, -999.00,9
74JC19990315,  Albatross,      19,          1,          9,19990322,       0232,     -59.33,     -68.24,  2043.0,2,   1.7891,2,  34.6986,2,  34.6988,2,    165.2,2,  166.97,2,  109.64,2,   31.73,2,    2.31,2,   19.20,2
74JC19990315,  Albatross,      19,          1,          8,19990322,       0232,     -59.33,     -68.24,  2557.3,2,   1.5034,2,  34.7216,2,  34.7221,2,    184.2,2,  185.16,2,  108.66,2,   30.95,2,    2.23,2,   12.27,2
74JC19990315,  Albatross,      19,          1,          7,19990322,       0232,     -59.33,     -68.24,  3069.2,2,   1.1051,2,  34.7174,2,  34.7182,2,    194.6,2,  195.08,2,  117.74,2,   30.56,2,    2.24,2,   10.54,2
74JC19990315,  Albatross,      19,          1,          6,19990322,       0232,     -59.33,     -68.24,  3343.5,2,   0.9651,2,  34.7142,2,  34.7143,2,    198.1,2,  197.32,2,  121.74,2,   30.27,2,    2.23,2, -999.00,9
74JC19990315,  Albatross,      19,          1,          5,19990322,       0232,     -59.33,     -68.24,  3420.2,2,   0.9501,2,  34.7139,2,  34.7129,2,    197.9,2,  197.90,2,  121.94,2,   31.24,2,    2.24,2, -999.00,9
74JC19990315,  Albatross,      19,          1,          4,19990322,       0232,     -59.33,     -68.24,  3549.9,2,   0.9156,2,  34.7128,2,  34.7129,2,    199.3,2,  198.88,2,  123.70,2,   30.75,2,    2.27,2, -999.00,9
74JC19990315,  Albatross,      19,          1,          3,19990322,       0232,     -59.33,     -68.24,  3600.9,2,   0.9143,2,  34.7127,2,  34.7123,2,    199.3,2,  199.27,2,  124.19,2,   31.53,2,    2.27,2, -999.00,9
74JC19990315,  Albatross,      19,          1,          2,19990322,       0232,     -59.33,     -68.24,  3652.4,2,   0.8497,2,  34.7112,2,  34.7111,2,    199.9,2,  199.66,2,  126.33,2,   30.46,2,    2.25,2,    9.36,2
74JC19990315,  Albatross,      19,          1,          1,19990322,       0232,     -59.33,     -68.24,  3652.4,2,   0.8497,2,  34.7112,2,  34.7115,2,    199.9,2,  199.56,2,  126.63,2,   30.66,2,    2.24,2,    9.36,2
74JC19990315,  Albatross,      20,          1,         17,19990322,       1852,     -59.59,     -68.24,    57.0,2,   4.9818,2,  33.8881,2,  33.8883,2,    301.4,2,  301.62,2,    4.56,2,   21.45,2,    1.52,2, -999.00,9
74JC19990315,  Albatross,      20,          1,         16,19990322,       1852,     -59.59,     -68.24,   108.3,2,   3.2107,2,  33.9515,2,  33.9508,2,    300.0,2,  304.19,2,   11.74,2,   23.67,2,    1.69,2, -999.00,9
74JC19990315,  Albatross,      20,          1,         15,19990322,       1852,     -59.59,     -68.24,   260.8,2,   3.0090,2,  34.0867,2,  34.0864,2,    262.9,2,  268.62,2,   22.04,2,   26.84,2,    1.89,2, -999.00,9
74JC19990315,  Albatross,      20,          1,         14,19990322,       1852,     -59.59,     -68.24,   513.9,2,   2.9103,2,  34.3171,2,  34.3170,2,    208.2,2,  204.32,2,   49.06,2,   31.43,2,    2.23,2, -999.00,9
74JC19990315,  Albatross,      20,          1,         13,19990322,       1852,     -59.59,     -68.24,   764.0,2,   2.5872,2,  34.4662,2,  34.4648,2,    179.2,2,  176.36,2,   68.34,2,   33.29,2,    2.34,2, -999.00,9
74JC19990315,  Albatross,      20,          1,         12,19990322,       1852,     -59.59,     -68.24,  1023.1,2,   2.3766,2,  34.5824,2,  34.5822,2,    167.3,2,  167.87,2,   80.63,2,   32.47,2,    2.33,2, -999.00,9
74JC19990315,  Albatross,      20,          1,         11,19990322,       1852,     -59.59,     -68.24,  1276.1,2,   2.2209,2,  34.6532,2,  34.6535,2,    168.5,2,  169.71,2,   86.24,2,   32.62,2,    2.25,2, -999.00,9
74JC19990315,  Albatross,      20,          1,         10,19990322,       1852,     -59.59,     -68.24,  1527.4,2,   2.0860,2,  34.6951,2,  34.6947,2,    172.9,2,  174.86,2,   89.99,2,   31.71,2,    2.21,2, -999.00,9
74JC19990315,  Albatross,      20,          1,          9,19990322,       1852,     -59.59,     -68.24,  1784.8,2,   1.8866,2,  34.7177,2,  34.7184,2,    177.5,2,  179.23,2,   95.97,2,   31.48,2,    2.17,2, -999.00,9
74JC19990315,  Albatross,      20,          1,          8,19990322,       1852,     -59.59,     -68.24,  2038.3,2,   1.6820,2,  34.7220,2,  34.7229,2,    181.7,2,  182.73,2,  103.58,2,   31.31,2,    2.26,2, -999.00,9
74JC19990315,  Albatross,      20,          1,          7,19990322,       1852,     -59.59,     -68.24,  2554.7,2,   1.3538,2,  34.7247,2,  34.7253,2,    192.1,2,  191.49,2,  112.63,2,   30.73,2,    2.15,2, -999.00,9
74JC19990315,  Albatross,      20,          1,          6,19990322,       1852,     -59.59,     -68.24,  3068.7,2,   1.0207,2,  34.7159,2,  34.7160,2,    196.8,2,  197.81,2,  122.24,2,   30.53,2,    2.18,2, -999.00,9
74JC19990315,  Albatross,      20,          1,          5,19990322,       1852,     -59.59,     -68.24,  3550.9,2,   0.7797,2,  34.7102,2,  34.7098,2,    201.9,2,  201.99,2,  130.17,2,   31.57,2,    2.23,2, -999.00,9
74JC19990315,  Albatross,      20,          1,          4,19990322,       1852,     -59.59,     -68.24,  3654.0,2,   0.7664,2,  34.7094,2,  34.7092,2,    202.7,2,  202.28,2,  131.04,2,   30.78,2,    2.19,2, -999.00,9
74JC19990315,  Albatross,      20,          1,          3,19990322,       1852,     -59.59,     -68.24,  3715.1,2,   0.7608,2,  34.7094,2,  34.7090,2,    203.6,2,  202.67,2,  131.42,2,   31.53,2,    2.21,2, -999.00,9
74JC19990315,  Albatross,      20,          1,          2,19990322,       1852,     -59.59,     -68.24,  3755.0,2,   0.7660,2,  34.7090,2,  34.7088,2,    203.7,2,  202.58,2,  131.66,2,   31.28,2,    2.20,2, -999.00,9
74JC19990315,  Albatross,      20,          1,          1,19990322,       1852,     -59.59,     -68.24,  3764.9,2,   0.7678,2,  34.7094,2,  34.7084,2,    202.5,2,  202.96,2,  132.86,2,   31.54,2,    2.19,2, -999.00,9
74JC19990315,  Albatross,      21,          1,         17,19990323,       0022,     -59.82,     -68.24,     8.9,2,   4.1098,2,  33.8389,2,  33.8386,2,    309.8,2,  310.47,2,    6.64,2,   23.15,2,    1.56,2, -999.00,9
74JC19990315,  Albatross,      21,          1,         16,19990323,       0022,     -59.82,     -68.24,    55.3,2,   4.1138,2,  33.8389,2,  33.8390,2,    309.4,2,  310.47,2,    6.84,2,   23.54,2,    1.56,2,   -1.77,2
74JC19990315,  Albatross,      21,          1,         15,19990323,       0022,     -59.82,     -68.24,   105.9,2,   2.8524,2,  33.9893,2,  33.9898,2,    311.5,2,  304.75,2,   15.92,2,   25.89,2,    1.70,2,   -1.48,2
74JC19990315,  Albatross,      21,          1,         14,19990323,       0022,     -59.82,     -68.24,   259.5,2,   2.3582,2,  34.0845,2,  34.0841,2,    263.3,2,  271.81,2,   27.35,2,   28.52,2,    1.93,2, -999.00,9
74JC19990315,  Albatross,      21,          1,         13,19990323,       0022,     -59.82,     -68.24,   513.7,2,   2.5619,2,  34.3424,2,  34.3409,2,    203.7,2,  200.71,2,   55.66,2,   32.03,2,    2.26,2,    4.09,2
74JC19990315,  Albatross,      21,          1,         12,19990323,       0022,     -59.82,     -68.24,   768.2,2,   2.4299,2,  34.5026,2,  34.5017,2,    175.8,2,  174.21,2,   71.67,2,   33.59,2,    2.32,2,    7.43,2
74JC19990315,  Albatross,      21,          1,         11,19990323,       0022,     -59.82,     -68.24,  1022.5,2,   2.3041,2,  34.6137,2,  34.6134,2,    170.3,2,  168.55,2,   80.65,2,   33.10,2,    2.27,2,    9.89,2
74JC19990315,  Albatross,      21,          1,         10,19990323,       0022,     -59.82,     -68.24,  1532.3,2,   1.9806,2,  34.7114,2,  34.7113,2,    177.8,2,  178.85,2,   91.48,2,   30.95,2,    2.18,2, -999.00,9
74JC19990315,  Albatross,      21,          1,          9,19990323,       0022,     -59.82,     -68.24,  1785.3,2,   1.7797,2,  34.7248,2,  34.7253,2,    182.2,2,  183.12,2,  100.26,2,   31.34,2,    2.14,2, -999.00,9
74JC19990315,  Albatross,      21,          1,          8,19990323,       0022,     -59.82,     -68.24,  2035.3,2,   1.6147,2,  34.7291,2,  34.7298,2,    186.1,2,  187.79,2,  103.68,2,   30.95,2,    2.14,2,   10.82,2
74JC19990315,  Albatross,      21,          1,          7,19990323,       0022,     -59.82,     -68.24,  2528.2,2,   1.2842,2,  34.7252,2,  34.7249,2,    193.3,2,  193.14,2,  112.27,2,   30.17,2,    2.14,2,   10.19,2
74JC19990315,  Albatross,      21,          1,          6,19990323,       0022,     -59.82,     -68.24,  3022.1,2,   0.9769,2,  34.7153,2,  34.7153,2,    199.1,2,  200.05,2,  121.94,2,   31.24,2,    2.15,2,   10.50,2
74JC19990315,  Albatross,      21,          1,          5,19990323,       0022,     -59.82,     -68.24,  3501.1,2,   0.6716,2,  34.7085,2,  34.7074,2,    204.9,2,  205.39,2,  130.92,2,   31.44,2,    2.19,2, -999.00,9
74JC19990315,  Albatross,      21,          1,          4,19990323,       0022,     -59.82,     -68.24,  3605.0,2,   0.6547,2,  34.7080,2,  34.7078,2,    205.2,2,  204.52,2,  132.19,2,   31.83,2,    2.18,2, -999.00,9
74JC19990315,  Albatross,      21,          1,          3,19990323,       0022,     -59.82,     -68.24,  3655.5,2,   0.6498,2,  34.7077,2,  34.7082,2,    205.2,2,  205.78,2,  132.00,2,   31.44,2,    2.18,2, -999.00,9
74JC19990315,  Albatross,      21,          1,          2,19990323,       0022,     -59.82,     -68.24,  3706.5,2,   0.6507,2,  34.7076,2,  34.7080,2,    206.1,2,  204.81,2,  132.19,2,   31.44,2,    2.19,2,   10.37,2
74JC19990315,  Albatross,      21,          1,          1,19990323,       0022,     -59.82,     -68.24,  3706.5,2,   0.6507,2,  34.7076,2,  34.7078,2,    206.1,2,  205.39,2,  134.34,2,   30.95,2,    2.16,2,   10.37,2