BOTTLE,20140822SIOCCHAMB
EXPOCODE,SECT_ID,STNNBR,CASTNO,BTLNBR,DATE,TIME,LATITUDE,LONGITUDE,CTDPRS,CTDPRS_FLAG_W,CTDTMP,CTDTMP_FLAG_W,CTDSAL,CTDSAL_FLAG_W,SALNTY,SALNTY_FLAG_W,CTDOXY,CTDOXY_FLAG_W,OXYGEN,OXYGEN_FLAG_W,SILCAT,SILCAT_FLAG_W,NITRAT,NITRAT_FLAG_W,PHSPHT,PHSPHT_FLAG_W,DELHE3,DELHE3_FLAG_W
,,,,,,,,,DBAR,,ITS-90,,PSS-78,,PSS-78,,UMOL/KG,,UMOL/KG,,UMOL/KG,,UMOL/KG,,UMOL/KG,,PERCNT,
74JC19990315,  Albatross,     103,          1,         17,19990409,       0611,     -59.99,     -30.93,     9.1,2,   0.8418,2,  33.9438,2,  33.9436,2,    324.9,2,  325.44,2,   68.18,2,   25.59,2,    1.66,2,   -1.34,2
74JC19990315,  Albatross,     103,          1,         16,19990409,       0611,     -59.99,     -30.93,    54.8,2,   0.8490,2,  33.9446,2,  33.9446,2,    328.3,2,  327.68,2,   68.38,2,   24.91,2,    1.65,2, -999.00,9
74JC19990315,  Albatross,     103,          1,         15,19990409,       0611,     -59.99,     -30.93,   106.0,2,  -1.0069,2,  34.2258,2,  34.2258,2,    280.4,2,  280.00,2,   83.80,2,   30.57,2,    2.15,2,    1.07,2
74JC19990315,  Albatross,     103,          1,         14,19990409,       0611,     -59.99,     -30.93,   258.7,2,   0.5361,2,  34.6210,2,  34.6209,2,    209.4,2,  210.84,2,  102.71,2,   33.20,2,    2.26,2,    7.57,2
74JC19990315,  Albatross,     103,          1,         13,19990409,       0611,     -59.99,     -30.93,   511.0,2,   0.6197,2,  34.6759,2,  34.6756,2,    203.2,2,  202.76,2,  112.38,2,   32.80,2,    2.22,2,    8.54,2
74JC19990315,  Albatross,     103,          1,         12,19990409,       0611,     -59.99,     -30.93,   766.1,2,   0.5229,2,  34.6835,2,  34.6837,2,    203.8,2,  201.50,2,  119.60,2,   33.19,2,    2.26,2,    8.70,2
74JC19990315,  Albatross,     103,          1,         11,19990409,       0611,     -59.99,     -30.93,  1021.5,2,   0.3999,2,  34.6826,2,  34.6829,2,    205.4,2,  205.38,2,  121.65,2,   33.00,2,    2.25,2,    8.67,2
74JC19990315,  Albatross,     103,          1,         10,19990409,       0611,     -59.99,     -30.93,  1277.1,2,   0.2766,2,  34.6782,2,  34.6784,2,    207.5,2,  208.99,2,  123.70,2,   33.39,2,    2.25,2,    7.52,2
74JC19990315,  Albatross,     103,          1,          9,19990409,       0611,     -59.99,     -30.93,  2042.0,2,  -0.0213,2,  34.6658,2,-999.0000,9,    218.1,2, -999.00,9, -999.00,9, -999.00,9, -999.00,9,    8.90,2
74JC19990315,  Albatross,     103,          1,          8,19990409,       0611,     -59.99,     -30.93,  2042.0,2,  -0.0213,2,  34.6658,2,  34.6699,2,    218.1,2,  216.28,2,  124.68,2,   33.10,2,    2.26,2,    8.90,2
74JC19990315,  Albatross,     103,          1,          7,19990409,       0611,     -59.99,     -30.93,  2042.0,2,  -0.0213,2,  34.6658,2,  34.6660,2,    218.1,2,  219.88,2,  126.24,2,   32.90,2,    2.24,2,    8.90,2
74JC19990315,  Albatross,     103,          1,          6,19990409,       0611,     -59.99,     -30.93,  2557.0,2,  -0.0900,2,  34.6613,2,  34.6611,2,    222.6,2,  223.58,2,  128.39,2,   33.00,2,    2.27,2,   13.15,2
74JC19990315,  Albatross,     103,          1,          5,19990409,       0611,     -59.99,     -30.93,  2841.5,2,  -0.0929,2,  34.6605,2,  34.6603,2,    225.1,2,  224.65,2,  129.27,2,   32.90,2,    2.26,2,   10.21,2
74JC19990315,  Albatross,     103,          1,          4,19990409,       0611,     -59.99,     -30.93,  2944.2,2,  -0.1028,2,  34.6607,2,  34.6609,2,    225.9,2,  225.33,2,  127.41,2,   32.80,2,    2.24,2, -999.00,9
74JC19990315,  Albatross,     103,          1,          3,19990409,       0611,     -59.99,     -30.93,  2995.6,2,  -0.1141,2,  34.6603,2,  34.6601,2,    226.8,2,  226.79,2,  127.22,2,   32.51,2,    2.25,2, -999.00,9
74JC19990315,  Albatross,     103,          1,          2,19990409,       0611,     -59.99,     -30.93,  3035.5,2,  -0.1316,2,  34.6595,2,  34.6597,2,    227.1,2,  227.18,2,  127.51,2,   32.61,2,    2.23,2,    7.52,2
74JC19990315,  Albatross,     103,          1,          1,19990409,       0611,     -59.99,     -30.93,  3034.7,2,  -0.1303,2,  34.6597,2,  34.6595,2,    227.1,2,  227.28,2,  127.51,2,   32.32,2,    2.23,2, -999.00,9
74JC19990315,  Albatross,     104,          1,         18,19990409,       1613,     -59.77,     -30.91,     7.4,2,   0.8114,2,  33.9571,2,  33.9567,2,    326.0,2,  326.61,2,   69.36,2,   25.40,2,    1.75,2, -999.00,9
74JC19990315,  Albatross,     104,          1,         17,19990409,       1613,     -59.77,     -30.91,    53.7,2,   0.7680,2,  33.9688,2,  33.9686,2,    326.3,2,  326.02,2,   68.96,2,   25.40,2,    1.75,2, -999.00,9
74JC19990315,  Albatross,     104,          1,         16,19990409,       1613,     -59.77,     -30.91,   104.1,2,  -1.0329,2,  34.2556,2,  34.2555,2,    328.0,2,  276.58,2,   86.53,2,   31.35,2,    2.22,2, -999.00,9
74JC19990315,  Albatross,     104,          1,         15,19990409,       1613,     -59.77,     -30.91,   257.0,2,   0.5324,2,  34.6277,2,  34.6274,2,    213.1,2,  208.02,2,  102.42,2,   32.71,2,    2.28,2, -999.00,9
74JC19990315,  Albatross,     104,          1,         14,19990409,       1613,     -59.77,     -30.91,   511.5,2,   0.5875,2,  34.6769,2,  34.6768,2,    201.1,2,  201.59,2,  113.74,2,   33.20,2,    2.32,2, -999.00,9
74JC19990315,  Albatross,     104,          1,         13,19990409,       1613,     -59.77,     -30.91,   766.0,2,   0.5032,2,  34.6840,2,  34.6845,2,    201.9,2,  203.25,2,  119.11,2,   33.68,2,    2.27,2, -999.00,9
74JC19990315,  Albatross,     104,          1,         12,19990409,       1613,     -59.77,     -30.91,  1020.8,2,   0.3688,2,  34.6806,2,  34.6807,2,    204.2,2,  205.48,2,  122.53,2,   33.39,2,    2.33,2, -999.00,9
74JC19990315,  Albatross,     104,          1,         11,19990409,       1613,     -59.77,     -30.91,  1276.4,2,   0.2556,2,  34.6773,2,  34.6780,2,    209.2,2,  209.96,2,  123.02,2,   32.80,2,    2.29,2, -999.00,9
74JC19990315,  Albatross,     104,          1,         10,19990409,       1613,     -59.77,     -30.91,  1532.1,2,   0.1457,2,  34.6723,2,  34.6727,2,    211.6,2,  212.49,2,  124.68,2,   32.90,2,    2.29,2, -999.00,9
74JC19990315,  Albatross,     104,          1,          9,19990409,       1613,     -59.77,     -30.91,  1786.7,2,   0.0554,2,  34.6692,2,  34.6690,2,    215.9,2,  216.67,2,  125.75,2,   33.00,2,    2.29,2, -999.00,9
74JC19990315,  Albatross,     104,          1,          8,19990409,       1613,     -59.77,     -30.91,  2043.8,2,  -0.0303,2,  34.6650,2,  34.6652,2,    220.2,2,  220.85,2,  125.17,2,   32.71,2,    2.28,2, -999.00,9
74JC19990315,  Albatross,     104,          1,          7,19990409,       1613,     -59.77,     -30.91,  2556.2,2,  -0.1030,2,  34.6604,2,  34.6607,2,    224.1,2,  224.16,2,  128.58,2,   32.90,2,    2.27,2, -999.00,9
74JC19990315,  Albatross,     104,          1,          6,19990409,       1613,     -59.77,     -30.91,  3070.7,2,  -0.1380,2,  34.6586,2,  34.6580,2,    227.9,2,  228.83,2,  125.65,2,   32.80,2,    2.26,2, -999.00,9
74JC19990315,  Albatross,     104,          1,          5,19990409,       1613,     -59.77,     -30.91,  3649.2,2,  -0.1434,2,  34.6570,2,  34.6566,2,    231.5,2,  230.68,2,  126.44,2,   32.32,2,    2.26,2, -999.00,9
74JC19990315,  Albatross,     104,          1,          4,19990409,       1613,     -59.77,     -30.91,  3751.1,2,  -0.1364,2,  34.6566,2,  34.6564,2,    231.5,2,  230.19,2,  126.14,2,   32.71,2,    2.26,2, -999.00,9
74JC19990315,  Albatross,     104,          1,          3,19990409,       1613,     -59.77,     -30.91,  3808.2,2,  -0.1316,2,  34.6565,2,  34.6562,2,    231.3,2,  230.78,2,  123.90,2,   32.41,2,    2.24,2, -999.00,9
74JC19990315,  Albatross,     104,          1,          2,19990409,       1613,     -59.77,     -30.91,  3856.7,2,  -0.1277,2,  34.6565,2,  34.6568,2,    230.5,2,  230.87,2,  125.56,2,   32.81,2,    2.25,2, -999.00,9
74JC19990315,  Albatross,     104,          1,          1,19990409,       1613,     -59.77,     -30.91,  3856.7,2,  -0.1277,2,  34.6565,2,  34.6568,2,    230.5,2,  230.58,2,  125.75,2,   32.22,2,    2.22,2, -999.00,9
74JC19990315,  Albatross,     105,          1,         17,19990409,       2021,     -59.67,      -30.9,     8.9,2,   0.8321,2,  33.9527,2,  33.9520,2,    324.2,2,  325.54,2,   74.92,2,   28.72,2,    1.93,2, -999.00,9
74JC19990315,  Albatross,     105,          1,         16,19990409,       2021,     -59.67,      -30.9,    54.9,2,   0.8245,2,  33.9623,2,  33.9636,2,    326.5,2,  325.44,2,   74.34,2,   30.58,2,    1.93,2, -999.00,9
74JC19990315,  Albatross,     105,          1,         15,19990409,       2021,     -59.67,      -30.9,   105.3,2,  -1.0613,2,  34.2645,2,  34.2649,2,    275.0,2,  274.54,2,   93.07,2,   37.11,2,    2.45,2, -999.00,9
74JC19990315,  Albatross,     105,          1,         14,19990409,       2021,     -59.67,      -30.9,   258.2,2,   0.2176,2,  34.6104,2,  34.6093,2,    214.1,2,  214.25,2,  112.28,2,   36.91,2,    2.57,2, -999.00,9
74JC19990315,  Albatross,     105,          1,         13,19990409,       2021,     -59.67,      -30.9,   511.6,2,   0.5511,2,  34.6768,2,  34.6768,2,    203.1,2,  201.30,2,  121.85,2,   36.91,2,    2.53,2, -999.00,9
74JC19990315,  Albatross,     105,          1,         12,19990409,       2021,     -59.67,      -30.9,   766.7,2,   0.4713,2,  34.6828,2,  34.6837,2,    202.6,2,  202.18,2,  128.19,2,   36.81,2,    2.56,2, -999.00,9
74JC19990315,  Albatross,     105,          1,         11,19990409,       2021,     -59.67,      -30.9,  1021.1,2,   0.3492,2,  34.6802,2,  34.6794,2,    205.5,2,  205.00,2,  130.14,2,   36.61,2,    2.62,2, -999.00,9
74JC19990315,  Albatross,     105,          1,         10,19990409,       2021,     -59.67,      -30.9,  1276.8,2,   0.2332,2,  34.6762,2,  34.6766,2,    208.3,2,  208.69,2,  130.93,2,   36.71,2,    2.54,2, -999.00,9
74JC19990315,  Albatross,     105,          1,          9,19990409,       2021,     -59.67,      -30.9,  1529.8,2,   0.1213,2,  34.6725,2,  34.6723,2,    212.3,2,  213.36,2,  131.22,2,   35.54,2,    2.50,2, -999.00,9
74JC19990315,  Albatross,     105,          1,          8,19990409,       2021,     -59.67,      -30.9,  1783.4,2,   0.0367,2,  34.6686,2,  34.6684,2,    215.0,2,  217.06,2,  133.46,2,   35.93,2,    2.51,2, -999.00,9
74JC19990315,  Albatross,     105,          1,          7,19990409,       2021,     -59.67,      -30.9,  2042.6,2,  -0.0436,2,  34.6650,2,  34.6646,2,    219.5,2,  221.05,2,  130.93,2,   34.95,2,    2.46,2, -999.00,9
74JC19990315,  Albatross,     105,          1,          6,19990409,       2021,     -59.67,      -30.9,  2554.7,2,  -0.1101,2,  34.6606,2,  34.6607,2,    224.4,2,  224.36,2,  133.37,2,   34.86,2,    2.45,2, -999.00,9
74JC19990315,  Albatross,     105,          1,          5,19990409,       2021,     -59.67,      -30.9,  2813.7,2,  -0.1453,2,  34.6591,2,  34.6591,2,    227.3,2,  227.18,2,  130.93,2,   34.46,2,    2.44,2, -999.00,9
74JC19990315,  Albatross,     105,          1,          4,19990409,       2021,     -59.67,      -30.9,  2916.7,2,  -0.1517,2,  34.6590,2,  34.6591,2,    228.9,2,  228.15,2,  128.78,2,   34.07,2,    2.40,2, -999.00,9
74JC19990315,  Albatross,     105,          1,          3,19990409,       2021,     -59.67,      -30.9,  2968.4,2,  -0.1462,2,  34.6590,2,  34.6591,2,    229.3,2,  227.96,2,  128.88,2,   33.78,2,    2.41,2, -999.00,9
74JC19990315,  Albatross,     105,          1,          2,19990409,       2021,     -59.67,      -30.9,  3015.2,2,  -0.1458,2,  34.6589,2,  34.6591,2,    228.2,2,  228.05,2,  127.80,2,   33.29,2,    2.41,2, -999.00,9
74JC19990315,  Albatross,     105,          1,          1,19990409,       2021,     -59.67,      -30.9,  3015.2,2,  -0.1458,2,  34.6589,2,  34.6588,2,    228.2,2,  228.25,2,  129.85,2,   33.00,2,    2.38,2, -999.00,9
74JC19990315,  Albatross,     106,          1,         18,19990410,       0028,     -59.44,     -30.86,     8.9,2,   0.9114,2,  33.9289,2,  33.9293,2,    318.1,2,  325.74,2, -999.00,9, -999.00,9, -999.00,9,   -1.23,2
74JC19990315,  Albatross,     106,          1,         17,19990410,       0028,     -59.44,     -30.86,    54.8,2,   0.9754,2,  33.9607,2,  33.9587,2,    331.5,2,  324.95,2, -999.00,9, -999.00,9, -999.00,9, -999.00,9
74JC19990315,  Albatross,     106,          1,         16,19990410,       0028,     -59.44,     -30.86,   106.0,2,  -0.6962,2,  34.2086,2,  34.2093,2,    287.5,2,  286.91,2, -999.00,9, -999.00,9, -999.00,9, -999.00,9
74JC19990315,  Albatross,     106,          1,         15,19990410,       0028,     -59.44,     -30.86,   259.0,2,   0.3290,2,  34.6220,2,  34.6197,2,    212.9,2,  211.33,2, -999.00,9, -999.00,9, -999.00,9,    7.19,2
74JC19990315,  Albatross,     106,          1,         14,19990410,       0028,     -59.44,     -30.86,   512.6,2,   0.5641,2,  34.6776,2,  34.6774,2,    201.9,2,  200.91,2, -999.00,9, -999.00,9, -999.00,9,    8.54,2
74JC19990315,  Albatross,     106,          1,         13,19990410,       0028,     -59.44,     -30.86,   767.4,2,   0.4819,2,  34.6840,2,  34.6837,2,    203.3,2,  203.15,2, -999.00,9, -999.00,9, -999.00,9,    7.94,2
74JC19990315,  Albatross,     106,          1,         12,19990410,       0028,     -59.44,     -30.86,  1022.2,2,   0.3653,2,  34.6819,2,  34.6815,2,    205.9,2,  206.65,2, -999.00,9, -999.00,9, -999.00,9, -999.00,9
74JC19990315,  Albatross,     106,          1,         11,19990410,       0028,     -59.44,     -30.86,  1277.8,2,   0.2550,2,  34.6774,2,  34.6774,2,    208.9,2,  208.79,2, -999.00,9, -999.00,9, -999.00,9,    8.17,2
74JC19990315,  Albatross,     106,          1,         10,19990410,       0028,     -59.44,     -30.86,  1533.1,2,   0.1278,2,  34.6731,2,  34.6729,2,    213.1,2,  213.56,2, -999.00,9, -999.00,9, -999.00,9, -999.00,9
74JC19990315,  Albatross,     106,          1,          9,19990410,       0028,     -59.44,     -30.86,  1788.7,2,   0.0289,2,  34.6686,2,  34.6690,2,    216.0,2,  217.35,2, -999.00,9, -999.00,9, -999.00,9, -999.00,9
74JC19990315,  Albatross,     106,          1,          8,19990410,       0028,     -59.44,     -30.86,  2044.9,2,  -0.0478,2,  34.6651,2,  34.6664,2,    220.8,2,  220.07,2, -999.00,9, -999.00,9, -999.00,9,    7.90,2
74JC19990315,  Albatross,     106,          1,          7,19990410,       0028,     -59.44,     -30.86,  2557.3,2,  -0.1006,2,  34.6610,2,  34.6615,2,    223.7,2,  224.45,2, -999.00,9, -999.00,9, -999.00,9,   11.66,2
74JC19990315,  Albatross,     106,          1,          6,19990410,       0028,     -59.44,     -30.86,  3072.1,2,  -0.1216,2,  34.6594,2,  34.6597,2,    226.5,2,  226.79,2, -999.00,9, -999.00,9, -999.00,9, -999.00,9
74JC19990315,  Albatross,     106,          1,          5,19990410,       0028,     -59.44,     -30.86,  3313.6,2,  -0.1731,2,  34.6572,2,  34.6574,2,    231.0,2,  230.58,2, -999.00,9, -999.00,9, -999.00,9,    6.08,2
74JC19990315,  Albatross,     106,          1,          4,19990410,       0028,     -59.44,     -30.86,  3417.4,2,  -0.1854,2,  34.6566,2,  34.6564,2,    232.0,2,  231.46,2, -999.00,9, -999.00,9, -999.00,9, -999.00,9
74JC19990315,  Albatross,     106,          1,          3,19990410,       0028,     -59.44,     -30.86,  3468.6,2,  -0.1858,2,  34.6566,2,  34.6564,2,    232.8,2,  230.48,2, -999.00,9, -999.00,9, -999.00,9, -999.00,9
74JC19990315,  Albatross,     106,          1,          2,19990410,       0028,     -59.44,     -30.86,  3514.1,2,  -0.1817,2,  34.6563,2,  34.6562,2,    230.7,2,  231.26,2, -999.00,9, -999.00,9, -999.00,9,    6.53,2
74JC19990315,  Albatross,     106,          1,          1,19990410,       0028,     -59.44,     -30.86,  3514.1,2,  -0.1817,2,  34.6563,2,  34.6560,2,    230.7,2,  232.33,2, -999.00,9, -999.00,9, -999.00,9,    6.53,2
74JC19990315,  Albatross,     107,          1,         17,19990410,       0534,     -59.05,     -30.83,    10.7,2,   0.9431,2,  33.9340,2,  33.9330,2,    324.3,2,  326.22,2,   69.85,2,   23.64,2,    1.64,2, -999.00,9
74JC19990315,  Albatross,     107,          1,         16,19990410,       0534,     -59.05,     -30.83,    56.4,2,   0.8816,2,  33.9741,2,  33.9716,2,    325.1,2,  323.49,2,   69.75,2,   24.62,2,    1.66,2, -999.00,9
74JC19990315,  Albatross,     107,          1,         15,19990410,       0534,     -59.05,     -30.83,   107.3,2,  -0.7144,2,  34.3062,2,  34.3059,2,    304.4,2,  265.38,2,   86.82,2,   31.93,2,    2.16,2, -999.00,9
74JC19990315,  Albatross,     107,          1,         14,19990410,       0534,     -59.05,     -30.83,   260.1,2,   1.0405,2,  34.6510,2,  34.6507,2,    202.0,2,  198.49,2,   98.22,2,   32.51,2,    2.21,2, -999.00,9
74JC19990315,  Albatross,     107,          1,         13,19990410,       0534,     -59.05,     -30.83,   514.0,2,   0.8468,2,  34.6836,2,  34.6841,2,    202.7,2, -999.00,9,  111.59,2,   32.80,2,    2.22,2, -999.00,9
74JC19990315,  Albatross,     107,          1,         12,19990410,       0534,     -59.05,     -30.83,   768.9,2,   0.6871,2,  34.6903,2,  34.6898,2,    203.7,2,  206.07,2,  117.45,2,   32.80,2,    2.18,2, -999.00,9
74JC19990315,  Albatross,     107,          1,         11,19990410,       0534,     -59.05,     -30.83,  1023.1,2,   0.5185,2,  34.6858,2,  34.6858,2,    205.0,2,  205.87,2,  122.43,2,   33.00,2,    2.21,2, -999.00,9
74JC19990315,  Albatross,     107,          1,         10,19990410,       0534,     -59.05,     -30.83,  1278.7,2,   0.3972,2,  34.6824,2,  34.6833,2,    207.4,2,  207.52,2,  123.99,2,   32.51,2,    2.23,2, -999.00,9
74JC19990315,  Albatross,     107,          1,          9,19990410,       0534,     -59.05,     -30.83,  1532.9,2,   0.2628,2,  34.6775,2,  34.6784,2,    211.0,2,  210.83,2,  125.75,2,   32.71,2,    2.23,2, -999.00,9
74JC19990315,  Albatross,     107,          1,          8,19990410,       0534,     -59.05,     -30.83,  1789.7,2,   0.1427,2,  34.6719,2,  34.6729,2,    214.4,2,  214.24,2,  126.63,2,   33.20,2,    2.22,2, -999.00,9
74JC19990315,  Albatross,     107,          1,          7,19990410,       0534,     -59.05,     -30.83,  2045.3,2,   0.0501,2,  34.6685,2,  34.6688,2,    217.2,2,  218.42,2,  127.22,2,   32.80,2,    2.21,2, -999.00,9
74JC19990315,  Albatross,     107,          1,          6,19990410,       0534,     -59.05,     -30.83,  2558.0,2,  -0.0965,2,  34.6617,2,  34.6621,2,    224.5,2,  225.91,2,  127.41,2,   33.20,2,    2.22,2, -999.00,9
74JC19990315,  Albatross,     107,          1,          5,19990410,       0534,     -59.05,     -30.83,  2971.3,2,  -0.1350,2,  34.6599,2,  34.6599,2,    228.2,2,  227.66,2,  126.73,2,   32.90,2,    2.21,2, -999.00,9
74JC19990315,  Albatross,     107,          1,          4,19990410,       0534,     -59.05,     -30.83,  3073.7,2,  -0.1358,2,  34.6598,2,  34.6595,2,    228.4,2,  228.24,2,  127.12,2,   32.61,2,    2.21,2, -999.00,9
74JC19990315,  Albatross,     107,          1,          3,19990410,       0534,     -59.05,     -30.83,  3125.2,2,  -0.1370,2,  34.6597,2,  34.6591,2,    229.1,2,  228.83,2,  127.61,2,   32.90,2,    2.23,2, -999.00,9
74JC19990315,  Albatross,     107,          1,          2,19990410,       0534,     -59.05,     -30.83,  3165.4,2,  -0.1460,2,  34.6591,2,  34.6588,2,    229.0,2,  228.54,2,  126.83,2,   32.80,2,    2.19,2, -999.00,9
74JC19990315,  Albatross,     107,          1,          1,19990410,       0534,     -59.05,     -30.83,  3164.8,2,  -0.1454,2,  34.6593,2,  34.6586,2,    229.1,2,  228.25,2,  128.00,2,   32.80,2,    2.21,2, -999.00,9