BOTTLE,20140822SIOCCHAMB
EXPOCODE,SECT_ID,STNNBR,CASTNO,BTLNBR,DATE,TIME,LATITUDE,LONGITUDE,CTDPRS,CTDPRS_FLAG_W,CTDTMP,CTDTMP_FLAG_W,CTDSAL,CTDSAL_FLAG_W,SALNTY,SALNTY_FLAG_W,CTDOXY,CTDOXY_FLAG_W,OXYGEN,OXYGEN_FLAG_W,SILCAT,SILCAT_FLAG_W,NITRAT,NITRAT_FLAG_W,PHSPHT,PHSPHT_FLAG_W,DELHE3,DELHE3_FLAG_W
,,,,,,,,,DBAR,,ITS-90,,PSS-78,,PSS-78,,UMOL/KG,,UMOL/KG,,UMOL/KG,,UMOL/KG,,UMOL/KG,,PERCNT,
74JC19990315,  Albatross,     155,          1,         22,19990420,       1617,     -50.72,     -49.22,     9.1,2,   5.5665,2,  33.9031,2,  33.9027,2,    305.0,2,  301.07,2,    4.88,2,   21.69,2,    1.39,2, -999.00,9
74JC19990315,  Albatross,     155,          1,         21,19990420,       1617,     -50.72,     -49.22,    54.5,2,   5.5248,2,  33.9027,2,  33.9025,2,    298.1,2,  299.99,2,    4.98,2,   21.69,2,    1.40,2, -999.00,9
74JC19990315,  Albatross,     155,          1,         20,19990420,       1617,     -50.72,     -49.22,   105.8,2,   4.4029,2,  33.9973,2,  33.9986,2,    302.8,2,  294.97,2,    9.08,2,   23.93,2,    1.53,2, -999.00,9
74JC19990315,  Albatross,     155,          1,         19,19990420,       1617,     -50.72,     -49.22,   255.2,2,   3.2600,2,  34.0435,2,  34.0441,2,    265.3,2,  281.59,2,   17.29,2,   27.06,2,    1.74,2, -999.00,9
74JC19990315,  Albatross,     155,          1,         18,19990420,       1617,     -50.72,     -49.22,   504.9,2,   3.2853,2,  34.2764,2,  34.2759,2,    215.0,2,  212.91,2,   40.43,2,   32.42,2,    2.09,2, -999.00,9
74JC19990315,  Albatross,     155,          1,         17,19990420,       1617,     -50.72,     -49.22,   757.8,2,   2.7367,2,  34.4321,2,  34.4313,2,    183.0,2,  179.20,2,   64.25,2,   35.25,2,    2.27,2, -999.00,9
74JC19990315,  Albatross,     155,          1,         16,19990420,       1617,     -50.72,     -49.22,  1008.5,2,   2.4538,2,  34.5589,2,  34.5585,2,    165.4,2,  163.31,2,   81.04,2,   35.05,2,    2.32,2, -999.00,9
74JC19990315,  Albatross,     155,          1,         15,19990420,       1617,     -50.72,     -49.22,  1253.6,2,   2.2398,2,  34.6342,2,  34.6338,2,    164.6,2,  164.27,2,   88.36,2,   34.27,2,    2.26,2, -999.00,9
74JC19990315,  Albatross,     155,          1,         14,19990420,       1617,     -50.72,     -49.22,  1500.4,2,   2.0870,2,  34.6703,2,  34.6707,2,    164.1,2,  165.44,2,   96.17,2,   33.98,2,    2.24,2, -999.00,9
74JC19990315,  Albatross,     155,          1,         13,19990420,       1617,     -50.72,     -49.22,  1749.3,2,   1.9830,2,  34.6845,2,  34.6848,2,    162.9,2,  164.84,2,  102.03,2,   34.27,2,    2.25,2, -999.00,9
74JC19990315,  Albatross,     155,          1,         12,19990420,       1617,     -50.72,     -49.22,  2002.4,2,   1.8872,2,  34.7051,2,  34.7055,2,    173.4,2,  174.47,2,  100.85,2,   33.39,2,    2.18,2, -999.00,9
74JC19990315,  Albatross,     155,          1,         11,19990420,       1617,     -50.72,     -49.22,  2519.3,2,   1.4081,2,  34.7247,2,  34.7245,2,    190.5,2,  191.01,2,  108.86,2,   32.32,2,    2.10,2, -999.00,9
74JC19990315,  Albatross,     155,          1,         10,19990420,       1617,     -50.72,     -49.22,  2519.5,2,   1.4073,2,  34.7245,2,-999.0000,9,    190.5,2, -999.00,9, -999.00,9, -999.00,9, -999.00,9, -999.00,9
74JC19990315,  Albatross,     155,          1,          9,19990420,       1617,     -50.72,     -49.22,  2519.4,2,   1.4085,2,  34.7245,2,-999.0000,9,    190.5,2, -999.00,9, -999.00,9, -999.00,9, -999.00,9, -999.00,9
74JC19990315,  Albatross,     155,          1,          8,19990420,       1617,     -50.72,     -49.22,  2519.6,2,   1.4088,2,  34.7247,2,-999.0000,9,    190.5,2, -999.00,9, -999.00,9, -999.00,9, -999.00,9, -999.00,9
74JC19990315,  Albatross,     155,          1,          7,19990420,       1617,     -50.72,     -49.22,  2519.7,2,   1.4096,2,  34.7247,2,-999.0000,9,    190.5,2, -999.00,9, -999.00,9, -999.00,9, -999.00,9, -999.00,9
74JC19990315,  Albatross,     155,          1,          6,19990420,       1617,     -50.72,     -49.22,  2519.6,2,   1.4099,2,  34.7249,2,-999.0000,9,    190.5,2, -999.00,9, -999.00,9, -999.00,9, -999.00,9, -999.00,9
74JC19990315,  Albatross,     155,          1,          5,19990420,       1617,     -50.72,     -49.22,  2609.2,2,   1.2650,2,  34.7194,2,  34.7192,2,    193.4,2,  196.16,2,  112.76,2,   32.71,2,    2.12,2, -999.00,9
74JC19990315,  Albatross,     155,          1,          4,19990420,       1617,     -50.72,     -49.22,  2713.2,2,   1.0424,2,  34.7129,2,  34.7125,2,    197.6,2,  197.23,2,  117.45,2,   32.71,2,    2.18,2, -999.00,9
74JC19990315,  Albatross,     155,          1,          3,19990420,       1617,     -50.72,     -49.22,  2765.7,2,   0.8026,2,  34.7032,2,  34.7023,2,    203.1,2,  201.80,2,  121.55,2,   32.90,2,    2.15,2, -999.00,9
74JC19990315,  Albatross,     155,          1,          2,19990420,       1617,     -50.72,     -49.22,  2812.8,2,   0.8079,2,  34.7029,2,  34.7031,2,    203.2,2,  201.80,2,  123.01,2,   32.80,2,    2.15,2, -999.00,9
74JC19990315,  Albatross,     155,          1,          1,19990420,       1617,     -50.72,     -49.22,  2812.8,2,   0.8079,2,  34.7029,2,  34.7043,2,    203.2,2,  201.80,2,  123.60,2,   32.90,2,    2.19,2, -999.00,9
74JC19990315,  Albatross,     156,          1,         16,19990420,       2102,     -50.75,     -49.88,     8.0,2,   5.6415,2,  33.9166,2,  33.9176,2,    302.7,2,  301.17,2,    4.49,2,   21.69,2,    1.40,2,   -1.98,2
74JC19990315,  Albatross,     156,          1,         15,19990420,       2102,     -50.75,     -49.88,    53.4,2,   5.6230,2,  33.9176,2,  34.0044,2,    300.4,2,  300.38,2,    4.59,2,   21.88,2,    1.39,2, -999.00,9
74JC19990315,  Albatross,     156,          1,         14,19990420,       2102,     -50.75,     -49.88,   104.6,2,   4.2945,2,  34.0052,2,  34.0040,2,    293.8,2,  294.98,2,    9.67,2,   24.42,2,    1.57,2,   -6.87,2
74JC19990315,  Albatross,     156,          1,         13,19990420,       2102,     -50.75,     -49.88,   257.2,2,   3.9181,2,  34.1159,2,  34.1146,2,    265.1,2,  268.75,2,   17.68,2,   27.54,2,    1.76,2,   -0.06,2
74JC19990315,  Albatross,     156,          1,         12,19990420,       2102,     -50.75,     -49.88,   509.0,2,   3.2430,2,  34.2752,2,  34.2759,2,    218.2,2,  213.11,2,   41.51,2,   32.62,2,    2.09,2, -999.00,9
74JC19990315,  Albatross,     156,          1,         11,19990420,       2102,     -50.75,     -49.88,   763.5,2,   2.7435,2,  34.4284,2,  34.4289,2,    180.4,2,  180.27,2,   65.04,2,   35.25,2,    2.29,2,    7.06,2
74JC19990315,  Albatross,     156,          1,         10,19990420,       2102,     -50.75,     -49.88,  1009.9,2,   2.4299,2,  34.5470,2,  34.5475,2,    165.3,2,  166.72,2,   79.38,2,   35.25,2,    2.28,2, -999.00,9
74JC19990315,  Albatross,     156,          1,          9,19990420,       2102,     -50.75,     -49.88,  1274.2,2,   2.2351,2,  34.6343,2,  34.6340,2,    167.2,2,  166.13,2,   88.56,2,   34.76,2,    2.24,2, -999.00,9
74JC19990315,  Albatross,     156,          1,          8,19990420,       2102,     -50.75,     -49.88,  1529.9,2,   2.1058,2,  34.6737,2,  34.6741,2,    166.6,2,  168.35,2,   94.02,2,   34.17,2,    2.19,2, -999.00,9
74JC19990315,  Albatross,     156,          1,          7,19990420,       2102,     -50.75,     -49.88,  1774.1,2,   1.9886,2,  34.6953,2,  34.6956,2,    170.6,2,  171.08,2,   97.83,2,   33.49,2,    2.15,2, -999.00,9
74JC19990315,  Albatross,     156,          1,          6,19990420,       2102,     -50.75,     -49.88,  2032.8,2,   1.8336,2,  34.7116,2,  34.7117,2,    177.2,2,  177.00,2,  101.34,2,   32.61,2,    2.13,2,   12.15,2
74JC19990315,  Albatross,     156,          1,          5,19990420,       2102,     -50.75,     -49.88,  2452.9,2,   1.5265,2,  34.7209,2,  34.7196,2,    188.1,2,  188.68,2,  107.98,2,   32.90,2,    2.10,2, -999.00,9
74JC19990315,  Albatross,     156,          1,          4,19990420,       2102,     -50.75,     -49.88,  2554.8,2,   1.3290,2,  34.7194,2,  34.7192,2,    192.3,2,  191.01,2,  112.08,2,   32.80,2,    2.12,2,   10.93,2
74JC19990315,  Albatross,     156,          1,          3,19990420,       2102,     -50.75,     -49.88,  2605.6,2,   1.1358,2,  34.7130,2,  34.7135,2,    194.2,2,  194.32,2,  115.89,2,   32.51,2,    2.11,2, -999.00,9
74JC19990315,  Albatross,     156,          1,          2,19990420,       2102,     -50.75,     -49.88,  2650.7,2,   1.0698,2,  34.7113,2,  34.7113,2,    196.2,2,  196.75,2,  117.84,2,   32.51,2,    2.10,2,    9.74,2
74JC19990315,  Albatross,     156,          1,          1,19990420,       2102,     -50.75,     -49.88,  2650.7,2,   1.0698,2,  34.7113,2,  34.7115,2,    196.2,2,  195.87,2,  119.40,2,   32.61,2,    2.28,2,    9.74,2
74JC19990315,  Albatross,     157,          1,         16,19990421,       0135,     -50.77,     -50.56,     9.0,2,   6.2966,2,  33.7992,2,  33.7991,2,    298.9,2,  297.40,2,    3.91,2,   20.42,2,    1.40,2, -999.00,9
74JC19990315,  Albatross,     157,          1,         15,19990421,       0135,     -50.77,     -50.56,    54.7,2,   5.8822,2,  33.8046,2,  33.8062,2,    297.9,2,  299.24,2,    4.59,2,   20.61,2,    1.34,2, -999.00,9
74JC19990315,  Albatross,     157,          1,         14,19990421,       0135,     -50.77,     -50.56,   106.5,2,   3.8757,2,  33.9699,2,  33.9639,2,    294.9,2,  295.24,2,   12.11,2,   25.10,2,    1.65,2, -999.00,9
74JC19990315,  Albatross,     157,          1,         13,19990421,       0135,     -50.77,     -50.56,   259.0,2,   2.7363,2,  34.1073,2,  34.1126,2,    258.5,2,  258.11,2,   28.13,2,   30.08,2,    1.91,2, -999.00,9
74JC19990315,  Albatross,     157,          1,         12,19990421,       0135,     -50.77,     -50.56,   512.9,2,   2.7054,2,  34.3426,2,  34.3425,2,    198.1,2,  196.82,2,   55.66,2,   34.57,2,    2.22,2, -999.00,9
74JC19990315,  Albatross,     157,          1,         11,19990421,       0135,     -50.77,     -50.56,   766.8,2,   2.4705,2,  34.5003,2,  34.5011,2,    171.3,2,  170.51,2,   74.80,2,   35.25,2,    2.32,2, -999.00,9
74JC19990315,  Albatross,     157,          1,         10,19990421,       0135,     -50.77,     -50.56,  1021.3,2,   2.2835,2,  34.5964,2,  34.5958,2,    164.9,2,  165.63,2,   83.68,2,   34.76,2,    2.27,2, -999.00,9
74JC19990315,  Albatross,     157,          1,          9,19990421,       0135,     -50.77,     -50.56,  1274.8,2,   2.1093,2,  34.6622,2,  34.6609,2,    167.0,2,  167.76,2,   91.48,2,   33.78,2,    2.20,2, -999.00,9
74JC19990315,  Albatross,     157,          1,          8,19990421,       0135,     -50.77,     -50.56,  1531.1,2,   1.9473,2,  34.6965,2,  34.6968,2,    170.7,2,  171.07,2,   98.80,2,   33.49,2,    2.21,2, -999.00,9
74JC19990315,  Albatross,     157,          1,          7,19990421,       0135,     -50.77,     -50.56,  1785.9,2,   1.7302,2,  34.7139,2,  34.7155,2,    178.4,2,  178.36,2,  104.46,2,   32.90,2,    2.16,2, -999.00,9
74JC19990315,  Albatross,     157,          1,          6,19990421,       0135,     -50.77,     -50.56,  2042.1,2,   1.5055,2,  34.7196,2,  34.7204,2,    185.8,2,  186.04,2,  107.98,2,   32.41,2,    2.12,2, -999.00,9
74JC19990315,  Albatross,     157,          1,          5,19990421,       0135,     -50.77,     -50.56,  2282.5,2,   1.2781,2,  34.7168,2,  34.7166,2,    191.6,2,  191.49,2,  112.96,2,   32.61,2,    2.27,2, -999.00,9
74JC19990315,  Albatross,     157,          1,          4,19990421,       0135,     -50.77,     -50.56,  2384.7,2,   1.0564,2,  34.7110,2,  34.7094,2,    195.6,2,  195.86,2,  117.45,2,   32.22,2,    2.16,2, -999.00,9
74JC19990315,  Albatross,     157,          1,          3,19990421,       0135,     -50.77,     -50.56,  2436.4,2,   1.0029,2,  34.7089,2,  34.7090,2,    197.5,2,  196.54,2,  118.91,2,   32.22,2,    2.12,2, -999.00,9
74JC19990315,  Albatross,     157,          1,          2,19990421,       0135,     -50.77,     -50.56,  2482.4,2,   0.9174,2,  34.7059,2,  34.7056,2,    198.1,2,  198.29,2,  120.38,2,   32.02,2,    2.16,2, -999.00,9
74JC19990315,  Albatross,     157,          1,          1,19990421,       0135,     -50.77,     -50.56,  2482.4,2,   0.9174,2,  34.7059,2,  34.7066,2,    198.1,2,  198.10,2,  121.26,2,   32.02,2,    2.19,2, -999.00,9
74JC19990315,  Albatross,     158,          1,         16,19990421,       0533,     -50.79,     -51.08,    10.2,2,   6.2242,2,  33.8299,2,  33.8306,2,    296.9,2,  297.91,2,    3.71,2,   20.22,2,    1.27,2,   -1.49,2
74JC19990315,  Albatross,     158,          1,         15,19990421,       0533,     -50.79,     -51.08,    55.8,2,   6.0253,2,  33.8314,2,  33.8308,2,    299.0,2,  297.50,2,    4.10,2,   20.71,2,    1.30,2, -999.00,9
74JC19990315,  Albatross,     158,          1,         14,19990421,       0533,     -50.79,     -51.08,   106.7,2,   4.0240,2,  34.0143,2,  34.0152,2,    291.3,2,  293.42,2,   10.94,2,   25.40,2,    1.56,2,   -1.38,2
74JC19990315,  Albatross,     158,          1,         13,19990421,       0533,     -50.79,     -51.08,   259.2,2,   3.4521,2,  34.1610,2,  34.1608,2,    249.8,2,  248.20,2,   26.18,2,   30.28,2,    1.89,2, -999.00,9
74JC19990315,  Albatross,     158,          1,         12,19990421,       0533,     -50.79,     -51.08,   513.5,2,   2.6326,2,  34.3043,2,  34.3055,2,    209.1,2,  208.63,2,   50.69,2,   34.47,2,    2.18,2, -999.00,9
74JC19990315,  Albatross,     158,          1,         11,19990421,       0533,     -50.79,     -51.08,   767.0,2,   2.5361,2,  34.4897,2,  34.4891,2,    172.4,2,  172.87,2,   71.97,2,   35.64,2,    2.28,2, -999.00,9
74JC19990315,  Albatross,     158,          1,         10,19990421,       0533,     -50.79,     -51.08,  1020.8,2,   2.3178,2,  34.5854,2,  34.5848,2,    166.4,2,  166.82,2,   82.99,2,   35.15,2,    2.25,2,    9.75,2
74JC19990315,  Albatross,     158,          1,          9,19990421,       0533,     -50.79,     -51.08,  1274.8,2,   2.1649,2,  34.6540,2,  34.6540,2,    167.4,2,  167.49,2,   89.34,2,   33.98,2,    2.19,2, -999.00,9
74JC19990315,  Albatross,     158,          1,          8,19990421,       0533,     -50.79,     -51.08,  1531.4,2,   2.0636,2,  34.6810,2,  34.6807,2,    170.7,2,  170.60,2,   93.53,2,   33.88,2,    2.19,2,   12.78,2
74JC19990315,  Albatross,     158,          1,          7,19990421,       0533,     -50.79,     -51.08,  1786.4,2,   1.8655,2,  34.7036,2,  34.7039,2,    176.7,2,  175.46,2,   99.09,2,   33.98,2,    2.14,2, -999.00,9
74JC19990315,  Albatross,     158,          1,          6,19990421,       0533,     -50.79,     -51.08,  2042.6,2,   1.5474,2,  34.7141,2,  34.7143,2,    185.0,2,  185.67,2,  106.32,2,   33.10,2,    2.10,2,   10.41,2
74JC19990315,  Albatross,     158,          1,          5,19990421,       0533,     -50.79,     -51.08,  2174.0,2,   1.2281,2,  34.7155,2,  34.7147,2,    192.6,2,  195.78,2,  112.37,2,   32.51,2,    2.09,2, -999.00,9
74JC19990315,  Albatross,     158,          1,          4,19990421,       0533,     -50.79,     -51.08,  2275.1,2,   1.0863,2,  34.7128,2,  34.7129,2,    195.1,2,  195.09,2,  115.30,2,   32.61,2,    2.14,2, -999.00,9
74JC19990315,  Albatross,     158,          1,          3,19990421,       0533,     -50.79,     -51.08,  2326.8,2,   1.0587,2,  34.7121,2,  34.7125,2,    196.9,2,  195.58,2,  115.69,2,   32.51,2,    2.09,2, -999.00,9
74JC19990315,  Albatross,     158,          1,          2,19990421,       0533,     -50.79,     -51.08,  2368.9,2,   1.0627,2,  34.7122,2,  34.7127,2,    196.7,2,  195.97,2,  116.57,2,   32.71,2,    2.13,2,   10.38,2
74JC19990315,  Albatross,     158,          1,          1,19990421,       0533,     -50.79,     -51.08,  2369.3,2,   1.0629,2,  34.7121,2,  34.7119,2,    196.6,2,  196.16,2,  117.25,2,   32.61,2,    2.11,2, -999.00,9
74JC19990315,  Albatross,     159,          1,         15,19990421,       0949,     -50.81,     -51.61,     9.0,2,   6.3516,2,  33.8468,2,  33.8462,2,    295.3,2,  296.43,2,    3.71,2,   19.25,2,    1.25,2, -999.00,9
74JC19990315,  Albatross,     159,          1,         14,19990421,       0949,     -50.81,     -51.61,    54.8,2,   6.2298,2,  33.8613,2,  33.8615,2,    299.2,2,  296.42,2,    4.10,2,   20.12,2,    1.25,2, -999.00,9
74JC19990315,  Albatross,     159,          1,         13,19990421,       0949,     -50.81,     -51.61,   104.4,2,   4.4123,2,  33.9253,2,  33.9268,2,    302.7,2,  297.52,2,    9.77,2,   23.35,2,    1.50,2, -999.00,9
74JC19990315,  Albatross,     159,          1,         12,19990421,       0949,     -50.81,     -51.61,   258.6,2,   3.4850,2,  34.1333,2,  34.1322,2,    250.2,2,  256.75,2,   23.54,2,   28.03,2,    1.80,2, -999.00,9
74JC19990315,  Albatross,     159,          1,         11,19990421,       0949,     -50.81,     -51.61,   512.2,2,   2.8582,2,  34.3287,2,  34.3290,2,    201.2,2,  200.72,2,   51.56,2,   32.91,2,    2.14,2, -999.00,9
74JC19990315,  Albatross,     159,          1,         10,19990421,       0949,     -50.81,     -51.61,   766.0,2,   2.4743,2,  34.4571,2,  34.4570,2,    177.4,2,  176.26,2,   69.82,2,   34.37,2,    2.24,2, -999.00,9
74JC19990315,  Albatross,     159,          1,          9,19990421,       0949,     -50.81,     -51.61,  1019.5,2,   2.3373,2,  34.5807,2,  34.5801,2,    165.7,2,  165.44,2,   82.60,2,   33.59,2,    2.23,2, -999.00,9
74JC19990315,  Albatross,     159,          1,          8,19990421,       0949,     -50.81,     -51.61,  1275.4,2,   2.2587,2,  34.6410,2,  34.6415,2,    166.6,2,  166.50,2,   87.29,2,   33.20,2,    2.18,2, -999.00,9
74JC19990315,  Albatross,     159,          1,          7,19990421,       0949,     -50.81,     -51.61,  1530.9,2,   2.0578,2,  34.6793,2,  34.6792,2,    169.7,2,  169.31,2,   94.70,2,   32.80,2,    2.17,2, -999.00,9
74JC19990315,  Albatross,     159,          1,          6,19990421,       0949,     -50.81,     -51.61,  1785.6,2,   1.7807,2,  34.7027,2,  34.7027,2,    178.0,2,  177.29,2,  101.63,2,   32.02,2,    2.13,2, -999.00,9
74JC19990315,  Albatross,     159,          1,          5,19990421,       0949,     -50.81,     -51.61,  1881.3,2,   1.5847,2,  34.7127,2,  34.7119,2,    182.6,2,  182.25,2,  105.73,2,   31.92,2,    2.10,2, -999.00,9
74JC19990315,  Albatross,     159,          1,          4,19990421,       0949,     -50.81,     -51.61,  1983.3,2,   1.3074,2,  34.7139,2,  34.7143,2,    189.6,2,  189.15,2,  111.20,2,   31.92,2,    2.10,2, -999.00,9
74JC19990315,  Albatross,     159,          1,          3,19990421,       0949,     -50.81,     -51.61,  2034.4,2,   1.2718,2,  34.7142,2,  34.7141,2,    190.7,2,  190.22,2,  111.98,2,   31.63,2,    2.11,2, -999.00,9
74JC19990315,  Albatross,     159,          1,          2,19990421,       0949,     -50.81,     -51.61,  2077.5,2,   1.2436,2,  34.7146,2,  34.7149,2,    190.0,2,  190.90,2,  112.86,2,   31.34,2,    2.10,2, -999.00,9
74JC19990315,  Albatross,     159,          1,          1,19990421,       0949,     -50.81,     -51.61,  2077.4,2,   1.2434,2,  34.7147,2,  34.7149,2,    190.0,2,  191.00,2,  114.03,2,   31.24,2,    2.09,2, -999.00,9