BOTTLE,20140822SIOCCHAMB
EXPOCODE,SECT_ID,STNNBR,CASTNO,BTLNBR,DATE,TIME,LATITUDE,LONGITUDE,CTDPRS,CTDPRS_FLAG_W,CTDTMP,CTDTMP_FLAG_W,CTDSAL,CTDSAL_FLAG_W,SALNTY,SALNTY_FLAG_W,CTDOXY,CTDOXY_FLAG_W,OXYGEN,OXYGEN_FLAG_W,SILCAT,SILCAT_FLAG_W,NITRAT,NITRAT_FLAG_W,PHSPHT,PHSPHT_FLAG_W,DELHE3,DELHE3_FLAG_W
,,,,,,,,,DBAR,,ITS-90,,PSS-78,,PSS-78,,UMOL/KG,,UMOL/KG,,UMOL/KG,,UMOL/KG,,UMOL/KG,,PERCNT,
74JC19990315,  Albatross,     138,          1,         18,19990417,       1355,     -51.35,      -40.7,    15.0,2,   4.1741,2,  33.7177,2,  33.7083,2,    318.5,2,  323.65,2,   12.80,2,   22.37,2,    1.43,2,   -1.72,2
74JC19990315,  Albatross,     138,          1,         17,19990417,       1355,     -51.35,      -40.7,    58.0,2,   4.0104,2,  33.7163,2,  33.7157,2,    315.0,2,  309.72,2,   13.19,2,   22.76,2,    1.44,2, -999.00,9
74JC19990315,  Albatross,     138,          1,         16,19990417,       1355,     -51.35,      -40.7,   108.7,2,   0.7928,2,  33.8753,2,  33.8752,2,    312.7,2,  312.64,2,   26.47,2,   28.82,2,    1.93,2,   -0.93,2
74JC19990315,  Albatross,     138,          1,         15,19990417,       1355,     -51.35,      -40.7,   260.8,2,   2.1324,2,  34.3171,2,  34.3161,2,    211.9,2,  206.36,2,   57.33,2,   34.38,2,    2.27,2,    4.61,2
74JC19990315,  Albatross,     138,          1,         14,19990417,       1355,     -51.35,      -40.7,   512.6,2,   2.3179,2,  34.5583,2,  34.5581,2,    169.8,2,  168.27,2,   78.99,2,   35.54,2,    2.31,2,    8.70,2
74JC19990315,  Albatross,     138,          1,         13,19990417,       1355,     -51.35,      -40.7,   768.0,2,   2.1310,2,  34.6501,2,  34.6501,2,    169.1,2,  166.99,2,   88.46,2,   33.98,2,    2.26,2, -999.00,9
74JC19990315,  Albatross,     138,          1,         12,19990417,       1355,     -51.35,      -40.7,  1023.5,2,   1.9530,2,  34.6920,2,  34.6911,2,    171.5,2,  171.46,2,   95.39,2,   34.46,2,    2.22,2,   12.64,2
74JC19990315,  Albatross,     138,          1,         11,19990417,       1355,     -51.35,      -40.7,  1278.6,2,   1.7778,2,  34.7115,2,  34.7127,2,    178.1,2,  180.89,2,  101.34,2,   32.90,2,    2.18,2, -999.00,9
74JC19990315,  Albatross,     138,          1,         10,19990417,       1355,     -51.35,      -40.7,  1533.8,2,   1.4935,2,  34.7118,2,  34.7115,2,    186.0,2,  185.08,2,  104.27,2,   32.90,2,    2.17,2,   11.10,2
74JC19990315,  Albatross,     138,          1,          9,19990417,       1355,     -51.35,      -40.7,  1789.4,2,   1.2672,2,  34.7115,2,  34.7127,2,    191.1,2,  191.01,2,  108.76,2,   33.19,2,    2.15,2, -999.00,9
74JC19990315,  Albatross,     138,          1,          8,19990417,       1355,     -51.35,      -40.7,  2045.6,2,   1.0651,2,  34.7073,2,  34.7084,2,    195.2,2,  196.95,2,  115.98,2,   33.10,2,    2.21,2,    9.34,2
74JC19990315,  Albatross,     138,          1,          7,19990417,       1355,     -51.35,      -40.7,  2558.4,2,   0.7518,2,  34.6970,2,  34.6978,2,    202.1,2,  206.19,2,  121.16,2,   33.10,2,    2.15,2,    9.33,2
74JC19990315,  Albatross,     138,          1,          6,19990417,       1355,     -51.35,      -40.7,  3069.7,2,   0.5474,2,  34.6903,2,  34.6905,2,    209.4,2,  209.49,2,  123.60,2,   32.71,2,    2.16,2,    8.35,2
74JC19990315,  Albatross,     138,          1,          5,19990417,       1355,     -51.35,      -40.7,  3458.0,2,   0.3559,2,  34.6797,2,  34.6792,2,    213.9,2,  213.09,2,  125.75,2,   33.10,2,    2.17,2, -999.00,9
74JC19990315,  Albatross,     138,          1,          4,19990417,       1355,     -51.35,      -40.7,  3561.0,2,   0.2732,2,  34.6762,2,  34.6754,2,    216.6,2,  214.74,2,  128.87,2,   33.10,2,    2.19,2, -999.00,9
74JC19990315,  Albatross,     138,          1,          3,19990417,       1355,     -51.35,      -40.7,  3612.8,2,   0.2324,2,  34.6746,2,  34.6737,2,    217.1,2,  216.00,2,  130.53,2,   33.49,2,    2.41,2, -999.00,9
74JC19990315,  Albatross,     138,          1,          2,19990417,       1355,     -51.35,      -40.7,  3653.5,2,   0.1847,2,  34.6724,2,  34.6729,2,    217.2,2,  216.78,2,  134.05,2,   33.68,2,    2.18,2,    7.95,2
74JC19990315,  Albatross,     138,          1,          1,19990417,       1355,     -51.35,      -40.7,  3653.5,2,   0.1847,2,  34.6724,2,  34.6723,2,    217.2,2,  217.86,2,  133.85,2,   33.39,2,    2.21,2,    7.95,2
74JC19990315,  Albatross,     139,          1,         17,19990417,       1857,     -51.07,     -40.93,    10.3,2,   4.4887,2,  33.7075,2,  33.7073,2,    312.3,2,  309.53,2,   11.72,2,   22.86,2,    1.41,2, -999.00,9
74JC19990315,  Albatross,     139,          1,         16,19990417,       1857,     -51.07,     -40.93,    55.0,2,   4.4889,2,  33.7082,2,  33.7081,2,    306.7,2,  309.24,2,   11.72,2,   22.76,2,    1.40,2, -999.00,9
74JC19990315,  Albatross,     139,          1,         15,19990417,       1857,     -51.07,     -40.93,   105.9,2,   1.3304,2,  33.8882,2,  33.8879,2,    311.4,2,  311.57,2,   20.03,2,   27.35,2,    1.84,2, -999.00,9
74JC19990315,  Albatross,     139,          1,         14,19990417,       1857,     -51.07,     -40.93,   259.1,2,   2.2179,2,  34.2097,2,  34.2099,2,    230.1,2,  233.04,2,   43.07,2,   33.30,2,    2.14,2, -999.00,9
74JC19990315,  Albatross,     139,          1,         13,19990417,       1857,     -51.07,     -40.93,   511.3,2,   2.3215,2,  34.4597,2,  34.4593,2,    179.3,2,  178.01,2,   70.21,2,   35.74,2,    2.31,2, -999.00,9
74JC19990315,  Albatross,     139,          1,         12,19990417,       1857,     -51.07,     -40.93,   761.5,2,   2.2384,2,  34.6071,2,  34.6074,2,    166.8,2,  165.92,2,   83.77,2,   34.08,2,    2.27,2, -999.00,9
74JC19990315,  Albatross,     139,          1,         11,19990417,       1857,     -51.07,     -40.93,  1015.5,2,   2.0862,2,  34.6679,2,  34.6915,2,    168.2,2,  175.83,2,   95.97,2,   32.80,2,    2.17,2, -999.00,9
74JC19990315,  Albatross,     139,          1,         10,19990417,       1857,     -51.07,     -40.93,  1268.3,2,   1.9214,2,  34.7002,2,  34.7002,2,    172.9,2,  173.01,2,   94.90,2,   32.71,2,    2.18,2, -999.00,9
74JC19990315,  Albatross,     139,          1,          9,19990417,       1857,     -51.07,     -40.93,  1526.3,2,   1.7646,2,  34.7151,2,  34.7153,2,    178.6,2,  178.94,2,   98.80,2,   32.51,2,    2.19,2, -999.00,9
74JC19990315,  Albatross,     139,          1,          8,19990417,       1857,     -51.07,     -40.93,  1781.9,2,   1.5101,2,  34.7215,2,  34.7219,2,    186.1,2,  186.04,2,  103.88,2,   32.51,2,    2.14,2, -999.00,9
74JC19990315,  Albatross,     139,          1,          7,19990417,       1857,     -51.07,     -40.93,  2037.8,2,   1.2540,2,  34.7184,2,  34.7184,2,    191.1,2,  191.68,2,  109.25,2,   31.92,2,    2.16,2, -999.00,9
74JC19990315,  Albatross,     139,          1,          6,19990417,       1857,     -51.07,     -40.93,  2549.7,2,   0.7826,2,  34.7013,2,  34.7023,2,    201.6,2,  201.60,2,  117.06,2,   32.51,2,    2.15,2, -999.00,9
74JC19990315,  Albatross,     139,          1,          5,19990417,       1857,     -51.07,     -40.93,  2769.6,2,   0.5901,2,  34.6924,2,  34.6927,2,    206.5,2,  205.49,2,  118.91,2,   32.51,2,    2.50,2, -999.00,9
74JC19990315,  Albatross,     139,          1,          4,19990417,       1857,     -51.07,     -40.93,  2869.5,2,   0.5151,2,  34.6889,2,  34.6888,2,    208.7,2,  208.41,2,  121.36,2,   32.22,2,    2.16,2, -999.00,9
74JC19990315,  Albatross,     139,          1,          3,19990417,       1857,     -51.07,     -40.93,  2922.7,2,   0.4693,2,  34.6866,2,  34.6860,2,    209.6,2,  209.87,2,  123.21,2,   33.10,2,    2.28,2, -999.00,9
74JC19990315,  Albatross,     139,          1,          2,19990417,       1857,     -51.07,     -40.93,  2968.3,2,   0.4626,2,  34.6860,2,  34.6860,2,    209.7,2,  209.77,2,  123.11,2,   32.32,2,    2.86,2, -999.00,9
74JC19990315,  Albatross,     139,          1,          1,19990417,       1857,     -51.07,     -40.93,  2968.3,2,   0.4626,2,  34.6860,2,  34.6852,2,    209.7,2,  210.06,2,  123.70,2,   32.51,2,    2.18,2, -999.00,9
74JC19990315,  Albatross,     140,          1,         15,19990417,       2338,     -50.79,     -41.14,     9.3,2,   5.2559,2,  33.7876,2,  33.7868,2,    301.7,2,  302.05,2,    5.86,2,   21.88,2,    1.39,2,   -1.35,2
74JC19990315,  Albatross,     140,          1,         14,19990417,       2338,     -50.79,     -41.14,    55.0,2,   5.2340,2,  33.7878,2,  33.7886,2,    303.8,2,  302.15,2,    5.86,2,   21.69,2,    1.38,2, -999.00,9
74JC19990315,  Albatross,     140,          1,         13,19990417,       2338,     -50.79,     -41.14,   106.0,2,   2.9631,2,  33.9128,2,  33.9125,2,    298.7,2,  298.56,2,   14.95,2,   27.16,2,    1.72,2, -999.00,9
74JC19990315,  Albatross,     140,          1,         12,19990417,       2338,     -50.79,     -41.14,   257.3,2,   2.6000,2,  34.1577,2,  34.1573,2,    244.1,2,  247.77,2,   33.21,2,   31.74,2,    2.02,2,    1.63,2
74JC19990315,  Albatross,     140,          1,         11,19990417,       2338,     -50.79,     -41.14,   511.5,2,   2.4162,2,  34.4152,2,  34.4158,2,    185.4,2,  182.50,2,   65.33,2,   35.35,2,    2.32,2,    4.61,2
74JC19990315,  Albatross,     140,          1,         10,19990417,       2338,     -50.79,     -41.14,   764.9,2,   2.2840,2,  34.5674,2,  34.5675,2,    167.2,2,  167.20,2,   80.46,2,   35.44,2,    2.31,2,   10.16,2
74JC19990315,  Albatross,     140,          1,          9,19990417,       2338,     -50.79,     -41.14,  1017.9,2,   2.1680,2,  34.6483,2,  34.6480,2,    167.2,2,  167.77,2,   88.55,2,   34.46,2,    2.25,2, -999.00,9
74JC19990315,  Albatross,     140,          1,          8,19990417,       2338,     -50.79,     -41.14,  1273.9,2,   1.9790,2,  34.6914,2,  34.6921,2,    171.1,2,  171.17,2,   94.90,2,   33.29,2,    2.20,2,   12.33,2
74JC19990315,  Albatross,     140,          1,          7,19990417,       2338,     -50.79,     -41.14,  1527.8,2,   1.7545,2,  34.7133,2,  34.7133,2,    177.9,2,  178.07,2,  100.56,2,   32.90,2,    2.16,2, -999.00,9
74JC19990315,  Albatross,     140,          1,          6,19990417,       2338,     -50.79,     -41.14,  1782.1,2,   1.5459,2,  34.7208,2,  34.7213,2,    184.6,2,  185.36,2,  106.32,2,   33.10,2,    2.14,2,   11.87,2
74JC19990315,  Albatross,     140,          1,          5,19990417,       2338,     -50.79,     -41.14,  2092.2,2,   1.2352,2,  34.7169,2,  34.7160,2,    191.5,2,  191.39,2,  113.64,2,   33.10,2,    2.13,2, -999.00,9
74JC19990315,  Albatross,     140,          1,          4,19990417,       2338,     -50.79,     -41.14,  2194.0,2,   1.1137,2,  34.7154,2,  34.7149,2,    194.5,2,  194.50,2,  115.69,2,   33.29,2,    2.16,2, -999.00,9
74JC19990315,  Albatross,     140,          1,          3,19990417,       2338,     -50.79,     -41.14,  2245.4,2,   1.0615,2,  34.7141,2,  34.7141,2,    195.7,2,  195.48,2,  116.57,2,   32.61,2,    2.13,2, -999.00,9
74JC19990315,  Albatross,     140,          1,          2,19990417,       2338,     -50.79,     -41.14,  2288.4,2,   1.0383,2,  34.7134,2,  34.7137,2,    196.8,2,  196.74,2,  117.74,2,   34.07,2,    2.12,2,   10.88,2
74JC19990315,  Albatross,     140,          1,          1,19990417,       2338,     -50.79,     -41.14,  2288.4,2,   1.0383,2,  34.7134,2,  34.7137,2,    196.8,2,  196.45,2,  120.38,2,   32.80,2,    2.15,2,   10.88,2
74JC19990315,  Albatross,     141,          1,         13,19990418,       0619,     -50.51,     -41.38,    10.2,2,   5.5005,2,  33.8181,2,  33.8177,2,    297.2,2,  300.38,2,    4.98,2,   20.32,2,    1.22,2, -999.00,9
74JC19990315,  Albatross,     141,          1,         12,19990418,       0619,     -50.51,     -41.38,    56.1,2,   5.4619,2,  33.8152,2,  33.8156,2,    303.1,2,  300.39,2,    5.18,2,   20.32,2,    1.25,2, -999.00,9
74JC19990315,  Albatross,     141,          1,         11,19990418,       0619,     -50.51,     -41.38,   107.3,2,   2.9767,2,  33.9804,2,  33.9802,2,    294.9,2,  291.13,2,   16.70,2,   27.64,2,    1.63,2, -999.00,9
74JC19990315,  Albatross,     141,          1,         10,19990418,       0619,     -50.51,     -41.38,   259.4,2,   2.8085,2,  34.1665,2,  34.1669,2,    239.3,2,  245.81,2,   32.72,2,   31.45,2,    1.89,2, -999.00,9
74JC19990315,  Albatross,     141,          1,          9,19990418,       0619,     -50.51,     -41.38,   513.5,2,   2.6752,2,  34.3754,2,  34.3758,2,    191.2,2,  190.29,2,   59.37,2,   34.86,2,    2.16,2, -999.00,9
74JC19990315,  Albatross,     141,          1,          8,19990418,       0619,     -50.51,     -41.38,   766.7,2,   2.3893,2,  34.5414,2,  34.5407,2,    169.9,2,  168.07,2,   78.89,2,   35.93,2,    2.20,2, -999.00,9
74JC19990315,  Albatross,     141,          1,          7,19990418,       0619,     -50.51,     -41.38,  1020.8,2,   2.1768,2,  34.6332,2,  34.6332,2,    167.7,2,  167.08,2,   87.97,2,   34.27,2,    2.16,2, -999.00,9
74JC19990315,  Albatross,     141,          1,          6,19990418,       0619,     -50.51,     -41.38,  1276.1,2,   2.0236,2,  34.6856,2,  34.6854,2,    171.1,2,  170.48,2,   94.61,2,   34.56,2,    2.10,2, -999.00,9
74JC19990315,  Albatross,     141,          1,          5,19990418,       0619,     -50.51,     -41.38,  1581.3,2,   1.7483,2,  34.7215,2,  34.7219,2,    180.7,2,  180.59,2,  101.53,2,   32.61,2,    2.12,2, -999.00,9
74JC19990315,  Albatross,     141,          1,          4,19990418,       0619,     -50.51,     -41.38,  1684.2,2,   1.6015,2,  34.7299,2,  34.7296,2,    186.5,2,  186.91,2,  102.90,2,   33.00,2,    2.03,2, -999.00,9
74JC19990315,  Albatross,     141,          1,          3,19990418,       0619,     -50.51,     -41.38,  1735.6,2,   1.5048,2,  34.7266,2,  34.7263,2,    187.2,2,  187.40,2,  107.68,2,   32.80,2,    2.06,2, -999.00,9
74JC19990315,  Albatross,     141,          1,          2,19990418,       0619,     -50.51,     -41.38,  1776.7,2,   1.5075,2,  34.7264,2,  34.7266,2,    187.0,2,  187.30,2,  107.49,2,   32.71,2,    2.06,2, -999.00,9
74JC19990315,  Albatross,     141,          1,          1,19990418,       0619,     -50.51,     -41.38,  1776.8,2,   1.5075,2,  34.7263,2,  34.7266,2,    187.0,2,  187.01,2,  108.47,2,   32.51,2,    2.06,2, -999.00,9
74JC19990315,  Albatross,     142,          1,         12,19990418,       0956,     -50.23,     -41.59,     8.9,2,   5.3857,2,  33.7332,2,  33.7337,2,    299.1,2,  301.86,2,    6.74,2,   20.52,2,    1.29,2,   -1.28,2
74JC19990315,  Albatross,     142,          1,         11,19990418,       0956,     -50.23,     -41.59,    55.0,2,   3.9286,2,  33.7963,2,  33.7956,2,    309.9,2,  305.60,2,   11.53,2,   23.06,2,    1.49,2, -999.00,9
74JC19990315,  Albatross,     142,          1,         10,19990418,       0956,     -50.23,     -41.59,   106.0,2,   2.2743,2,  33.9442,2,  33.9446,2,    299.0,2,  299.01,2,   17.78,2,   26.77,2,    1.67,2, -999.00,9
74JC19990315,  Albatross,     142,          1,          9,19990418,       0956,     -50.23,     -41.59,   258.3,2,   2.4272,2,  34.1504,2,  34.1510,2,    245.8,2,  249.90,2,   34.18,2,   30.38,2,    1.88,2,   -0.53,2
74JC19990315,  Albatross,     142,          1,          8,19990418,       0956,     -50.23,     -41.59,   510.0,2,   2.4608,2,  34.4114,2,  34.4105,2,    185.8,2,  183.96,2,   65.23,2,   34.67,2,    2.12,2, -999.00,9
74JC19990315,  Albatross,     142,          1,          7,19990418,       0956,     -50.23,     -41.59,   765.3,2,   2.2816,2,  34.5598,2,  34.5599,2,    169.2,2,  168.36,2,   80.85,2,   33.59,2,    2.11,2,    9.53,2
74JC19990315,  Albatross,     142,          1,          6,19990418,       0956,     -50.23,     -41.59,  1018.7,2,   2.1074,2,  34.6610,2,  34.6609,2,    168.2,2,  169.22,2,   91.19,2,   33.00,2,    2.03,2,   11.57,2
74JC19990315,  Albatross,     142,          1,          5,19990418,       0956,     -50.23,     -41.59,  1169.9,2,   2.0149,2,  34.6889,2,  34.6884,2,    171.4,2,  170.38,2,   94.61,2,   32.22,2,    2.03,2, -999.00,9
74JC19990315,  Albatross,     142,          1,          4,19990418,       0956,     -50.23,     -41.59,  1272.0,2,   1.9204,2,  34.7028,2,  34.7015,2,    173.3,2,  172.43,2,   98.12,2,   32.12,2,    1.96,2, -999.00,9
74JC19990315,  Albatross,     142,          1,          3,19990418,       0956,     -50.23,     -41.59,  1322.3,2,   1.8115,2,  34.7110,2,  34.7113,2,    175.0,2,  176.31,2,  101.24,2,   31.93,2,    1.92,2, -999.00,9
74JC19990315,  Albatross,     142,          1,          2,19990418,       0956,     -50.23,     -41.59,  1363.9,2,   1.6939,2,  34.7153,2,  34.7168,2,    178.8,2,  179.23,2,  104.17,2,   30.85,2,    1.91,2,    9.76,2
74JC19990315,  Albatross,     142,          1,          1,19990418,       0956,     -50.23,     -41.59,  1364.0,2,   1.6941,2,  34.7153,2,  34.7153,2,    178.8,2,  178.35,2,  104.46,2,   31.05,2,    1.88,2, -999.00,9
74JC19990315,  Albatross,     143,          1,         12,19990418,       1455,     -50.36,     -42.29,     8.5,2,   5.5880,2,  33.7444,2,  33.7446,2,    298.5,2,  300.59,2,    5.76,2,   21.40,2,    1.34,2, -999.00,9
74JC19990315,  Albatross,     143,          1,         11,19990418,       1455,     -50.36,     -42.29,    54.7,2,   3.4544,2,  33.8195,2,  33.8193,2,    301.8,2,  303.93,2,   14.75,2,   25.40,2,    1.69,2, -999.00,9
74JC19990315,  Albatross,     143,          1,         10,19990418,       1455,     -50.36,     -42.29,   105.4,2,   2.1077,2,  33.9009,2,  33.9014,2,    302.9,2,  303.00,2,   20.22,2,   28.43,2,    1.80,2, -999.00,9
74JC19990315,  Albatross,     143,          1,          9,19990418,       1455,     -50.36,     -42.29,   258.4,2,   2.3618,2,  34.1724,2,  34.1723,2,    240.6,2,  243.27,2,   36.92,2,   31.94,2,    2.05,2, -999.00,9
74JC19990315,  Albatross,     143,          1,          8,19990418,       1455,     -50.36,     -42.29,   512.0,2,   2.4919,2,  34.4681,2,  34.4679,2,    177.7,2,  174.50,2,   69.92,2,   35.64,2,    2.29,2, -999.00,9
74JC19990315,  Albatross,     143,          1,          7,19990418,       1455,     -50.36,     -42.29,   764.9,2,   2.2872,2,  34.5822,2,  34.5815,2,    164.9,2,  165.92,2,   81.63,2,   34.86,2,    2.28,2, -999.00,9
74JC19990315,  Albatross,     143,          1,          6,19990418,       1455,     -50.36,     -42.29,  1020.3,2,   2.0995,2,  34.6631,2,  34.6633,2,    166.8,2,  167.27,2,   90.90,2,   34.17,2,    2.21,2, -999.00,9
74JC19990315,  Albatross,     143,          1,          5,19990418,       1455,     -50.36,     -42.29,  1167.6,2,   1.9965,2,  34.6902,2,  34.6899,2,    170.3,2,  170.67,2,   94.60,2,   33.59,2,    2.22,2, -999.00,9
74JC19990315,  Albatross,     143,          1,          4,19990418,       1455,     -50.36,     -42.29,  1268.6,2,   1.8762,2,  34.7074,2,  34.7076,2,    173.7,2,  173.78,2,   99.39,2,   33.78,2,    2.15,2, -999.00,9
74JC19990315,  Albatross,     143,          1,          3,19990418,       1455,     -50.36,     -42.29,  1321.1,2,   1.7648,2,  34.7138,2,  34.7139,2,    176.5,2,  177.28,2,  103.10,2,   33.68,2,    2.16,2, -999.00,9
74JC19990315,  Albatross,     143,          1,          2,19990418,       1455,     -50.36,     -42.29,  1366.6,2,   1.6667,2,  34.7166,2,  34.7168,2,    179.3,2,  178.74,2,  106.90,2,   32.90,2,    2.15,2, -999.00,9
74JC19990315,  Albatross,     143,          1,          1,19990418,       1455,     -50.36,     -42.29,  1366.6,2,   1.6667,2,  34.7166,2,  34.7166,2,    179.3,2,  178.74,2,  107.39,2,   32.41,2,    2.15,2, -999.00,9