BOTTLE,20140822SIOCCHAMB
EXPOCODE,SECT_ID,STNNBR,CASTNO,BTLNBR,DATE,TIME,LATITUDE,LONGITUDE,CTDPRS,CTDPRS_FLAG_W,CTDTMP,CTDTMP_FLAG_W,CTDSAL,CTDSAL_FLAG_W,SALNTY,SALNTY_FLAG_W,CTDOXY,CTDOXY_FLAG_W,OXYGEN,OXYGEN_FLAG_W,SILCAT,SILCAT_FLAG_W,NITRAT,NITRAT_FLAG_W,PHSPHT,PHSPHT_FLAG_W,DELHE3,DELHE3_FLAG_W
,,,,,,,,,DBAR,,ITS-90,,PSS-78,,PSS-78,,UMOL/KG,,UMOL/KG,,UMOL/KG,,UMOL/KG,,UMOL/KG,,PERCNT,
74JC19990315,  Albatross,     160,          1,         14,19990421,       1407,     -50.83,     -52.16,     7.1,2,   6.2732,2,  33.7975,2,  33.7968,2,    297.6,2,  297.11,2,    1.86,2,   19.34,2,    1.31,2, -999.00,9
74JC19990315,  Albatross,     160,          1,         13,19990421,       1407,     -50.83,     -52.16,    53.1,2,   6.1756,2,  33.7992,2,  33.7997,2,    296.3,2,  297.31,2,    2.15,2,   20.13,2,    1.33,2, -999.00,9
74JC19990315,  Albatross,     160,          1,         12,19990421,       1407,     -50.83,     -52.16,   104.2,2,   3.8287,2,  33.8437,2,  33.8443,2,    307.7,2,  304.24,2,   11.92,2,   23.15,2,    1.64,2, -999.00,9
74JC19990315,  Albatross,     160,          1,         11,19990421,       1407,     -50.83,     -52.16,   257.2,2,   2.7202,2,  34.1585,2,  34.1584,2,    242.4,2,  247.19,2,   31.35,2,   30.57,2,    2.04,2, -999.00,9
74JC19990315,  Albatross,     160,          1,         10,19990421,       1407,     -50.83,     -52.16,   510.0,2,   2.5512,2,  34.3722,2,  34.3721,2,    192.6,2,  191.07,2,   59.08,2,   34.28,2,    2.28,2, -999.00,9
74JC19990315,  Albatross,     160,          1,          9,19990421,       1407,     -50.83,     -52.16,   764.3,2,   2.4515,2,  34.5218,2,  34.5213,2,    169.8,2,  168.66,2,   74.99,2,   34.76,2,    2.32,2, -999.00,9
74JC19990315,  Albatross,     160,          1,          8,19990421,       1407,     -50.83,     -52.16,  1018.8,2,   2.2724,2,  34.6180,2,  34.6179,2,    165.6,2,  165.24,2,   84.85,2,   34.17,2,    2.28,2, -999.00,9
74JC19990315,  Albatross,     160,          1,          7,19990421,       1407,     -50.83,     -52.16,  1272.2,2,   2.1597,2,  34.6613,2,  34.6617,2,    167.7,2,  167.47,2,   89.24,2,   33.49,2,    2.45,2, -999.00,9
74JC19990315,  Albatross,     160,          1,          6,19990421,       1407,     -50.83,     -52.16,  1528.4,2,   2.0063,2,  34.6878,2,  34.6880,2,    171.0,2,  171.17,2,   95.39,2,   33.49,2,    2.22,2, -999.00,9
74JC19990315,  Albatross,     160,          1,          5,19990421,       1407,     -50.83,     -52.16,  1783.1,2,   1.7564,2,  34.7106,2,  34.7102,2,    178.7,2,  180.99,2,  101.63,2,   32.41,2,    2.16,2, -999.00,9
74JC19990315,  Albatross,     160,          1,          4,19990421,       1407,     -50.83,     -52.16,  1959.4,2,   1.4088,2,  34.7164,2,  34.7160,2,    187.4,2,  186.82,2,  108.47,2,   32.12,2,    2.13,2, -999.00,9
74JC19990315,  Albatross,     160,          1,          3,19990421,       1407,     -50.83,     -52.16,  2010.9,2,   1.3297,2,  34.7159,2,  34.7155,2,    189.4,2,  188.57,2,  110.32,2,   32.02,2,    2.14,2, -999.00,9
74JC19990315,  Albatross,     160,          1,          2,19990421,       1407,     -50.83,     -52.16,  2057.2,2,   1.2607,2,  34.7157,2,  34.7159,2,    190.3,2,  190.32,2,  112.96,2,   32.51,2,    2.16,2, -999.00,9
74JC19990315,  Albatross,     160,          1,          1,19990421,       1407,     -50.83,     -52.16,  2057.2,2,   1.2607,2,  34.7157,2,  34.7164,2,    190.3,2,  190.12,2,  113.06,2,   32.61,2,    2.13,2, -999.00,9
74JC19990315,  Albatross,     161,          1,         15,19990421,       1835,     -50.85,      -52.7,     8.2,2,   6.2839,2,  33.8182,2,  33.8177,2,    296.0,2,  298.09,2,    3.13,2,   19.93,2,    1.35,2, -999.00,9
74JC19990315,  Albatross,     161,          1,         14,19990421,       1835,     -50.85,      -52.7,    54.2,2,   6.2664,2,  33.8224,2,  33.8226,2,    298.1,2,  297.21,2,    3.42,2,   19.54,2,    1.36,2, -999.00,9
74JC19990315,  Albatross,     161,          1,         13,19990421,       1835,     -50.85,      -52.7,   105.3,2,   3.8990,2,  33.8407,2,  33.8412,2,    310.7,2,  304.24,2,   12.31,2,   23.84,2,    1.68,2, -999.00,9
74JC19990315,  Albatross,     161,          1,         12,19990421,       1835,     -50.85,      -52.7,   258.1,2,   2.6831,2,  34.0985,2,  34.0987,2,    252.3,2,  262.19,2,   28.52,2,   29.69,2,    1.96,2, -999.00,9
74JC19990315,  Albatross,     161,          1,         11,19990421,       1835,     -50.85,      -52.7,   506.7,2,   2.7003,2,  34.3304,2,  34.3266,2,    204.3,2,  201.79,2,   54.10,2,   33.59,2,    2.28,2, -999.00,9
74JC19990315,  Albatross,     161,          1,         10,19990421,       1835,     -50.85,      -52.7,   763.1,2,   2.4853,2,  34.4804,2,  34.4801,2,    175.3,2,  173.83,2,   73.43,2,   35.06,2,    2.37,2, -999.00,9
74JC19990315,  Albatross,     161,          1,          9,19990421,       1835,     -50.85,      -52.7,  1015.9,2,   2.3441,2,  34.5793,2,  34.5783,2,    166.5,2,  166.12,2,   83.48,2,   34.08,2,    2.31,2, -999.00,9
74JC19990315,  Albatross,     161,          1,          8,19990421,       1835,     -50.85,      -52.7,  1268.7,2,   2.1970,2,  34.6410,2,  34.6409,2,    166.4,2,  166.21,2,   91.09,2,   34.07,2,    2.28,2, -999.00,9
74JC19990315,  Albatross,     161,          1,          7,19990421,       1835,     -50.85,      -52.7,  1519.6,2,   2.0855,2,  34.6872,2,  34.6886,2,    172.2,2,  171.46,2,   93.63,2,   33.00,2,    2.21,2, -999.00,9
74JC19990315,  Albatross,     161,          1,          6,19990421,       1835,     -50.85,      -52.7,  1777.2,2,   1.8798,2,  34.7072,2,  34.7088,2,    176.4,2,  176.42,2,  100.85,2,   32.80,2,    2.21,2, -999.00,9
74JC19990315,  Albatross,     161,          1,          5,19990421,       1835,     -50.85,      -52.7,  1866.4,2,   1.7537,2,  34.7109,2,  34.7102,2,    178.8,2,  178.75,2,  101.63,2,   32.32,2,    2.22,2, -999.00,9
74JC19990315,  Albatross,     161,          1,          4,19990421,       1835,     -50.85,      -52.7,  1967.4,2,   1.5876,2,  34.7153,2,  34.7147,2,    182.6,2,  182.54,2,  106.12,2,   32.51,2,    2.21,2, -999.00,9
74JC19990315,  Albatross,     161,          1,          3,19990421,       1835,     -50.85,      -52.7,  2018.6,2,   1.5314,2,  34.7157,2,  34.7153,2,    185.1,2,  184.10,2,  107.10,2,   32.12,2,    2.17,2, -999.00,9
74JC19990315,  Albatross,     161,          1,          2,19990421,       1835,     -50.85,      -52.7,  2066.3,2,   1.4239,2,  34.7139,2,  34.7135,2,    185.5,2,  186.82,2,  109.25,2,   32.22,2,    2.17,2, -999.00,9
74JC19990315,  Albatross,     161,          1,          1,19990421,       1835,     -50.85,      -52.7,  2066.3,2,   1.4239,2,  34.7139,2,  34.7141,2,    185.5,2,  186.14,2,  112.76,2,   32.22,2,    2.17,2, -999.00,9
74JC19990315,  Albatross,     162,          1,         15,19990421,       2351,     -50.86,     -53.25,     8.3,2,   6.0939,2,  33.9367,2,  33.9366,2,    296.1,2,  296.88,2,    4.40,2,   20.12,2,    1.34,2, -999.00,9
74JC19990315,  Albatross,     162,          1,         14,19990421,       2351,     -50.86,     -53.25,     8.7,2,   6.0928,2,  33.9365,2,  33.9370,2,    296.0,2,  296.20,2,    4.40,2,   20.12,2,    1.35,2, -999.00,9
74JC19990315,  Albatross,     162,          1,         13,19990421,       2351,     -50.86,     -53.25,    54.8,2,   6.0707,2,  33.9383,2,  33.9381,2,    296.8,2,  297.07,2,    4.59,2,   20.12,2,    1.36,2, -999.00,9
74JC19990315,  Albatross,     162,          1,         12,19990421,       2351,     -50.86,     -53.25,   105.6,2,   5.1246,2,  34.0798,2,  34.0792,2,    291.5,2,  288.83,2,    8.99,2,   22.07,2,    1.49,2,   -1.47,2
74JC19990315,  Albatross,     162,          1,         11,19990421,       2351,     -50.86,     -53.25,   257.3,2,   4.3739,2,  34.1229,2,  34.1230,2,    275.6,2,  276.15,2,   14.06,2,   24.61,2,    1.63,2,   -2.68,2
74JC19990315,  Albatross,     162,          1,         10,19990421,       2351,     -50.86,     -53.25,   510.2,2,   3.6446,2,  34.1895,2,  34.1900,2,    237.6,2,  242.23,2,   27.93,2,   29.01,2,    1.92,2, -999.00,9
74JC19990315,  Albatross,     162,          1,          9,19990421,       2351,     -50.86,     -53.25,   762.6,2,   3.1228,2,  34.3509,2,  34.3486,2,    199.9,2,  195.37,2,   52.73,2,   33.01,2,    2.22,2,    4.85,2
74JC19990315,  Albatross,     162,          1,          8,19990421,       2351,     -50.86,     -53.25,  1015.1,2,   2.7035,2,  34.4639,2,  34.4636,2,    173.9,2,  173.84,2,   70.60,2,   34.37,2,    2.32,2, -999.00,9
74JC19990315,  Albatross,     162,          1,          7,19990421,       2351,     -50.86,     -53.25,  1274.7,2,   2.3975,2,  34.5723,2,  34.5722,2,    163.9,2,  165.16,2,   83.48,2,   34.08,2,    2.34,2,   10.64,2
74JC19990315,  Albatross,     162,          1,          6,19990421,       2351,     -50.86,     -53.25,  1527.7,2,   2.2496,2,  34.6317,2,  34.6321,2,    165.1,2,  166.31,2,   89.34,2,   33.39,2,    2.27,2, -999.00,9
74JC19990315,  Albatross,     162,          1,          5,19990421,       2351,     -50.86,     -53.25,  1704.0,2,   2.1512,2,  34.6683,2,  34.6676,2,    168.3,2,  169.13,2,   93.53,2,   32.90,2,    2.25,2, -999.00,9
74JC19990315,  Albatross,     162,          1,          4,19990421,       2351,     -50.86,     -53.25,  1813.3,2,   2.0538,2,  34.6831,2,  34.6831,2,    170.5,2,  169.61,2,   96.95,2,   33.00,2,    2.22,2, -999.00,9
74JC19990315,  Albatross,     162,          1,          3,19990421,       2351,     -50.86,     -53.25,  1864.3,2,   1.9651,2,  34.6893,2,  34.6898,2,    172.5,2,  171.46,2,  100.46,2,   32.41,2,    2.21,2,   12.20,2
74JC19990315,  Albatross,     162,          1,          2,19990421,       2351,     -50.86,     -53.25,  1910.8,2,   1.7688,2,  34.7031,2,  34.7031,2,    176.6,2,  176.61,2,  103.88,2,   33.10,2,    2.20,2,   12.39,2
74JC19990315,  Albatross,     162,          1,          1,19990421,       2351,     -50.86,     -53.25,  1910.8,2,   1.7688,2,  34.7031,2,  34.7029,2,    176.6,2,  176.71,2,  105.34,2,   32.41,2,    2.21,2,   12.39,2
74JC19990315,  Albatross,     163,          1,         13,19990422,       0414,     -50.88,     -53.78,     7.5,2,   6.2481,2,  33.9853,2,  33.9857,2,    295.3,2,  295.51,2,    5.76,2,   19.63,2,    1.42,2, -999.00,9
74JC19990315,  Albatross,     163,          1,         12,19990422,       0414,     -50.88,     -53.78,    53.7,2,   6.1396,2,  33.9828,2,  33.9831,2,    295.3,2,  295.70,2,    5.96,2,   19.73,2,    1.42,2, -999.00,9
74JC19990315,  Albatross,     163,          1,         11,19990422,       0414,     -50.88,     -53.78,   104.8,2,   5.5940,2,  34.0848,2,  34.0841,2,    288.5,2,  286.90,2,    8.99,2,   20.80,2,    1.49,2, -999.00,9
74JC19990315,  Albatross,     163,          1,         10,19990422,       0414,     -50.88,     -53.78,   257.1,2,   4.7543,2,  34.1268,2,  34.1252,2,    279.6,2,  283.74,2, -999.00,9,   22.66,2,    1.58,2, -999.00,9
74JC19990315,  Albatross,     163,          1,          9,19990422,       0414,     -50.88,     -53.78,   509.3,2,   4.4001,2,  34.2135,2,  34.2144,2,    248.7,2,  246.13,2, -999.00,9,   27.25,2,    1.88,2, -999.00,9
74JC19990315,  Albatross,     163,          1,          8,19990422,       0414,     -50.88,     -53.78,   760.3,2,   3.5410,2,  34.2569,2,  34.2583,2,    222.2,2,  221.67,2, -999.00,9,   30.18,2,    2.10,2, -999.00,9
74JC19990315,  Albatross,     163,          1,          7,19990422,       0414,     -50.88,     -53.78,  1012.9,2,   2.9657,2,  34.3815,2,  34.3813,2,    190.0,2,  188.45,2,   59.37,2,   33.01,2,    2.30,2, -999.00,9
74JC19990315,  Albatross,     163,          1,          6,19990422,       0414,     -50.88,     -53.78,  1268.9,2,   2.6063,2,  34.5002,2,  34.5005,2,    169.6,2,  169.54,2,   77.14,2,   34.08,2,    2.38,2, -999.00,9
74JC19990315,  Albatross,     163,          1,          5,19990422,       0414,     -50.88,     -53.78,  1535.9,2,   2.4124,2,  34.5779,2,  34.5773,2,    163.8,2,  164.37,2,   86.51,2,   34.08,2,    2.39,2, -999.00,9
74JC19990315,  Albatross,     163,          1,          4,19990422,       0414,     -50.88,     -53.78,  1639.0,2,   2.3421,2,  34.6053,2,  34.6048,2,    163.5,2,  163.39,2,   88.56,2,   33.78,2,    2.36,2, -999.00,9
74JC19990315,  Albatross,     163,          1,          3,19990422,       0414,     -50.88,     -53.78,  1690.5,2,   2.3014,2,  34.6187,2,  34.6191,2,    163.7,2,  163.68,2,   92.17,2,   34.08,2,    2.35,2, -999.00,9
74JC19990315,  Albatross,     163,          1,          2,19990422,       0414,     -50.88,     -53.78,  1730.0,2,   2.2824,2,  34.6244,2,  34.6246,2,    163.2,2,  163.87,2,   94.02,2,   34.37,2,    2.40,2, -999.00,9
74JC19990315,  Albatross,     163,          1,          1,19990422,       0414,     -50.88,     -53.78,  1729.9,2,   2.2822,2,  34.6245,2,  34.6242,2,    163.2,2,  163.87,2,   92.75,2,   33.10,2,    2.31,2, -999.00,9
74JC19990315,  Albatross,     164,          1,         13,19990422,       0737,      -50.9,     -54.32,     8.3,2,   6.8102,2,  34.0070,2,  34.0074,2,    290.3,2,  291.76,2,    4.59,2,   17.78,2,    1.31,2, -999.00,9
74JC19990315,  Albatross,     164,          1,         12,19990422,       0737,      -50.9,     -54.32,    54.2,2,   6.7896,2,  34.0068,2,  34.0074,2,    291.3,2,  291.83,2,    4.69,2,   17.97,2,    1.29,2, -999.00,9
74JC19990315,  Albatross,     164,          1,         11,19990422,       0737,      -50.9,     -54.32,   105.5,2,   5.9645,2,  34.0547,2,  34.0526,2,    290.1,2,  286.15,2,    6.64,2,   19.93,2,    1.41,2, -999.00,9
74JC19990315,  Albatross,     164,          1,         10,19990422,       0737,      -50.9,     -54.32,   258.4,2,   4.9573,2,  34.1433,2,  34.1434,2,    280.0,2,  283.18,2,   11.13,2,   21.59,2,    1.49,2, -999.00,9
74JC19990315,  Albatross,     164,          1,          9,19990422,       0737,      -50.9,     -54.32,   508.7,2,   4.5181,2,  34.1976,2,  34.1980,2,    257.6,2,  257.45,2,   18.36,2,   24.51,2,    1.71,2, -999.00,9
74JC19990315,  Albatross,     164,          1,          8,19990422,       0737,      -50.9,     -54.32,   765.3,2,   3.9123,2,  34.2454,2,  34.2469,2,    228.3,2,  228.31,2,   30.57,2,   28.03,2,    1.95,2, -999.00,9
74JC19990315,  Albatross,     164,          1,          7,19990422,       0737,      -50.9,     -54.32,  1019.4,2,   3.1184,2,  34.3210,2,  34.3253,2,    201.8,2,  201.61,2,   47.36,2,   30.66,2,    2.15,2, -999.00,9
74JC19990315,  Albatross,     164,          1,          6,19990422,       0737,      -50.9,     -54.32,  1273.4,2,   2.6653,2,  34.4789,2,  34.4950,2,    174.1,2,  173.64,2,   70.31,2,   32.42,2,    2.27,2, -999.00,9
74JC19990315,  Albatross,     164,          1,          5,19990422,       0737,      -50.9,     -54.32,  1335.8,2,   2.5977,2,  34.5052,2,  34.5056,2,    171.0,2,  170.72,2,   72.26,2,   32.22,2,    2.28,2, -999.00,9
74JC19990315,  Albatross,     164,          1,          4,19990422,       0737,      -50.9,     -54.32,  1436.4,2,   2.5092,2,  34.5404,2,  34.5373,2,    167.4,2, -999.00,9,   76.26,2,   32.81,2,    2.27,2, -999.00,9
74JC19990315,  Albatross,     164,          1,          3,19990422,       0737,      -50.9,     -54.32,  1486.6,2,   2.4579,2,  34.5601,2,  34.5613,2,    166.3,2,  165.45,2,   79.19,2,   32.12,2,    2.25,2, -999.00,9
74JC19990315,  Albatross,     164,          1,          2,19990422,       0737,      -50.9,     -54.32,  1527.5,2,   2.4186,2,  34.5740,2,  34.5746,2,    164.5,2,  165.54,2,   81.14,2,   32.32,2,    2.27,2, -999.00,9
74JC19990315,  Albatross,     164,          1,          1,19990422,       0737,      -50.9,     -54.32,  1528.1,2,   2.4191,2,  34.5742,2,  34.5742,2,    164.5,2,  164.96,2,   81.82,2,   31.44,2,    2.24,2, -999.00,9
74JC19990315,  Albatross,     165,          1,         13,19990422,       1102,     -50.92,     -54.85,     7.7,2,   7.0893,2,  33.9979,2,  33.9978,2,    289.3,2,  289.82,2,    3.71,2,   17.68,2,    1.25,2, -999.00,9
74JC19990315,  Albatross,     165,          1,         12,19990422,       1102,     -50.92,     -54.85,     7.9,2,   7.0895,2,  33.9980,2,  33.9980,2,    289.4,2,  289.72,2,    3.81,2,   17.68,2,    1.28,2,   -2.19,2
74JC19990315,  Albatross,     165,          1,         11,19990422,       1102,     -50.92,     -54.85,    54.2,2,   6.7640,2,  34.0099,2,  34.0097,2,    292.5,2,  290.86,2,    4.40,2,   17.39,2,    1.27,2, -999.00,9
74JC19990315,  Albatross,     165,          1,         10,19990422,       1102,     -50.92,     -54.85,   104.4,2,   5.8302,2,  34.0312,2,  34.0320,2,    288.3,2,  286.84,2,    6.06,2,   19.63,2,    1.43,2,   -1.46,2
74JC19990315,  Albatross,     165,          1,          9,19990422,       1102,     -50.92,     -54.85,   257.8,2,   4.9000,2,  34.1299,2,  34.1295,2,    283.6,2,  287.17,2,    9.96,2,   21.10,2,    1.49,2,   -2.06,2
74JC19990315,  Albatross,     165,          1,          8,19990422,       1102,     -50.92,     -54.85,   511.2,2,   4.5173,2,  34.1956,2,  34.1954,2,    256.7,2,  255.89,2,   18.46,2,   24.81,2,    1.73,2,   -0.79,2
74JC19990315,  Albatross,     165,          1,          7,19990422,       1102,     -50.92,     -54.85,   765.4,2,   3.5691,2,  34.2175,2,  34.2174,2,    230.7,2,  232.40,2,   31.16,2,   28.71,2,    1.99,2, -999.00,9
74JC19990315,  Albatross,     165,          1,          6,19990422,       1102,     -50.92,     -54.85,  1019.7,2,   3.1008,2,  34.3315,2,  34.3323,2,    204.4,2,  200.15,2,   49.71,2,   31.64,2,    2.22,2,    4.22,2
74JC19990315,  Albatross,     165,          1,          5,19990422,       1102,     -50.92,     -54.85,  1136.7,2,   2.9243,2,  34.3977,2,  34.3968,2,    187.6,2,  191.86,2,   58.88,2,   32.42,2,    2.27,2, -999.00,9
74JC19990315,  Albatross,     165,          1,          4,19990422,       1102,     -50.92,     -54.85,  1238.4,2,   2.7569,2,  34.4449,2,  34.4446,2,    178.9,2,  177.15,2,   66.30,2,   32.32,2,    2.29,2, -999.00,9
74JC19990315,  Albatross,     165,          1,          3,19990422,       1102,     -50.92,     -54.85,  1289.9,2,   2.7005,2,  34.4648,2,  34.4650,2,    175.6,2,  174.03,2,   70.50,2,   32.42,2,    2.30,2, -999.00,9
74JC19990315,  Albatross,     165,          1,          2,19990422,       1102,     -50.92,     -54.85,  1335.9,2,   2.6033,2,  34.5006,2,  34.5009,2,    168.1,2,  169.06,2,   75.28,2,   33.10,2,    2.36,2,    9.05,2
74JC19990315,  Albatross,     165,          1,          1,19990422,       1102,     -50.92,     -54.85,  1335.9,2,   2.6033,2,  34.5006,2,  34.5007,2,    168.1,2,  168.96,2,   76.46,2,   32.71,2,    2.31,2,    9.05,2