BOTTLE,20140822SIOCCHAMB
EXPOCODE,SECT_ID,STNNBR,CASTNO,BTLNBR,DATE,TIME,LATITUDE,LONGITUDE,CTDPRS,CTDPRS_FLAG_W,CTDTMP,CTDTMP_FLAG_W,CTDSAL,CTDSAL_FLAG_W,SALNTY,SALNTY_FLAG_W,CTDOXY,CTDOXY_FLAG_W,OXYGEN,OXYGEN_FLAG_W,SILCAT,SILCAT_FLAG_W,NITRAT,NITRAT_FLAG_W,PHSPHT,PHSPHT_FLAG_W,DELHE3,DELHE3_FLAG_W
,,,,,,,,,DBAR,,ITS-90,,PSS-78,,PSS-78,,UMOL/KG,,UMOL/KG,,UMOL/KG,,UMOL/KG,,UMOL/KG,,PERCNT,
74JC19990315,  Albatross,     144,          1,         12,19990418,       1931,      -50.5,      -43.0,     7.9,2,   6.0508,2,  33.7381,2,  33.7382,2,    292.7,2,  298.17,2,    5.47,2,   20.03,2,    1.36,2, -999.00,9
74JC19990315,  Albatross,     144,          1,         11,19990418,       1931,      -50.5,      -43.0,    53.7,2,   6.0503,2,  33.7380,2,  33.7378,2,    303.1,2,  297.88,2,    5.57,2,   19.54,2,    1.33,2, -999.00,9
74JC19990315,  Albatross,     144,          1,         10,19990418,       1931,      -50.5,      -43.0,   104.6,2,   3.4031,2,  33.8261,2,  33.8208,2,    302.9,2, -999.00,9,   16.22,2,   24.91,2,    1.69,2, -999.00,9
74JC19990315,  Albatross,     144,          1,          9,19990418,       1931,      -50.5,      -43.0,   255.0,2,   2.2025,2,  34.1465,2,  34.1459,2,    239.5,2,  251.64,2,   36.33,2,   31.06,2,    2.04,2, -999.00,9
74JC19990315,  Albatross,     144,          1,          8,19990418,       1931,      -50.5,      -43.0,   510.8,2,   2.3360,2,  34.4368,2,  34.4378,2,    179.6,2,  180.35,2,   69.92,2,   34.76,2,    2.33,2, -999.00,9
74JC19990315,  Albatross,     144,          1,          7,19990418,       1931,      -50.5,      -43.0,   764.1,2,   2.2461,2,  34.6051,2,  34.6046,2,    166.7,2,  165.82,2,   86.12,2,   34.17,2,    2.29,2, -999.00,9
74JC19990315,  Albatross,     144,          1,          6,19990418,       1931,      -50.5,      -43.0,  1016.9,2,   2.0989,2,  34.6629,2,  34.6639,2,    168.9,2,  167.47,2,   91.97,2,   33.49,2,    2.24,2, -999.00,9
74JC19990315,  Albatross,     144,          1,          5,19990418,       1931,      -50.5,      -43.0,  1150.1,2,   2.0210,2,  34.6858,2,  34.6852,2,    171.3,2,  170.19,2,   95.68,2,   32.90,2,    2.19,2, -999.00,9
74JC19990315,  Albatross,     144,          1,          4,19990418,       1931,      -50.5,      -43.0,  1254.3,2,   1.9415,2,  34.7013,2,  34.7007,2,    173.3,2,  172.13,2,   99.78,2,   32.51,2,    2.19,2, -999.00,9
74JC19990315,  Albatross,     144,          1,          3,19990418,       1931,      -50.5,      -43.0,  1305.3,2,   1.7867,2,  34.7113,2,  34.7113,2,    175.5,2,  176.70,2,   99.88,2,   33.00,2,    2.18,2, -999.00,9
74JC19990315,  Albatross,     144,          1,          2,19990418,       1931,      -50.5,      -43.0,  1350.9,2,   1.7882,2,  34.7115,2,  34.7119,2,    175.7,2,  176.41,2,  105.05,2,   33.00,2,    2.16,2, -999.00,9
74JC19990315,  Albatross,     144,          1,          1,19990418,       1931,      -50.5,      -43.0,  1350.9,2,   1.7882,2,  34.7115,2,  34.7115,2,    175.7,2,  177.38,2,  105.25,2,   32.41,2,    2.16,2, -999.00,9
74JC19990315,  Albatross,     145,          1,         12,19990418,       2338,     -50.53,     -43.69,     8.7,2,   6.2173,2,  33.7335,2,  33.7333,2,    293.7,2,  297.50,2,    3.91,2,   19.25,2,    1.32,2,   -2.38,2
74JC19990315,  Albatross,     145,          1,         11,19990418,       2338,     -50.53,     -43.69,    54.8,2,   6.0380,2,  33.7325,2,  33.7327,2,    302.3,2,  298.47,2,    4.01,2,   19.74,2,    1.33,2, -999.00,9
74JC19990315,  Albatross,     145,          1,         10,19990418,       2338,     -50.53,     -43.69,   106.1,2,   1.9148,2,  33.8733,2,  33.8736,2,    306.9,2,  307.21,2,   21.69,2,   28.43,2,    1.83,2,   -1.63,2
74JC19990315,  Albatross,     145,          1,          9,19990418,       2338,     -50.53,     -43.69,   257.4,2,   2.0960,2,  34.1566,2,  34.1563,2,    247.0,2,  247.47,2,   37.41,2,   31.45,2,    2.08,2,    1.55,2
74JC19990315,  Albatross,     145,          1,          8,19990418,       2338,     -50.53,     -43.69,   512.6,2,   2.4154,2,  34.4461,2,  34.4468,2,    178.8,2,  176.85,2,   69.33,2,   34.76,2,    2.30,2, -999.00,9
74JC19990315,  Albatross,     145,          1,          7,19990418,       2338,     -50.53,     -43.69,   765.3,2,   2.2233,2,  34.5953,2,  34.5946,2,    166.8,2,  166.99,2,   84.36,2,   34.08,2,    2.29,2,    8.03,2
74JC19990315,  Albatross,     145,          1,          6,19990418,       2338,     -50.53,     -43.69,  1020.0,2,   2.0803,2,  34.6683,2,  34.6676,2,    167.5,2,  168.63,2,   92.85,2,   33.59,2,    2.22,2, -999.00,9
74JC19990315,  Albatross,     145,          1,          5,19990418,       2338,     -50.53,     -43.69,  1152.5,2,   1.9981,2,  34.6915,2,  34.6915,2,    170.8,2,  170.38,2,   97.63,2,   32.51,2,    2.19,2,   12.23,2
74JC19990315,  Albatross,     145,          1,          4,19990418,       2338,     -50.53,     -43.69,  1254.8,2,   1.8238,2,  34.7098,2,  34.7094,2,    174.4,2,  175.15,2,  103.59,2,   32.32,2,    2.16,2, -999.00,9
74JC19990315,  Albatross,     145,          1,          3,19990418,       2338,     -50.53,     -43.69,  1305.9,2,   1.6843,2,  34.7152,2,  34.7157,2,    177.9,2,  178.55,2,  108.37,2,   32.02,2,    2.17,2, -999.00,9
74JC19990315,  Albatross,     145,          1,          2,19990418,       2338,     -50.53,     -43.69,  1356.8,2,   1.6585,2,  34.7159,2,  34.7164,2,    179.3,2,  178.84,2,  108.27,2,   32.32,2,    2.17,2,   11.61,2
74JC19990315,  Albatross,     145,          1,          1,19990418,       2338,     -50.53,     -43.69,  1356.8,2,   1.6585,2,  34.7159,2,  34.7160,2,    179.3,2,  178.74,2,  107.98,2,   31.83,2,    2.16,2,   11.61,2
74JC19990315,  Albatross,     146,          1,         12,19990419,       0325,     -50.55,     -44.39,     9.0,2,   6.2223,2,  33.7261,2,  33.7265,2,    293.7,2,  296.25,2,    4.01,2,   19.34,2,    1.34,2, -999.00,9
74JC19990315,  Albatross,     146,          1,         11,19990419,       0325,     -50.55,     -44.39,    54.8,2,   6.1410,2,  33.7259,2,  33.7255,2,    296.7,2,  296.73,2,    4.20,2,   19.44,2,    1.32,2, -999.00,9
74JC19990315,  Albatross,     146,          1,         10,19990419,       0325,     -50.55,     -44.39,   106.3,2,   4.5152,2,  33.7947,2,  33.7790,2,    298.7,2,  297.74,2,   10.55,2,   22.37,2,    1.58,2, -999.00,9
74JC19990315,  Albatross,     146,          1,          9,19990419,       0325,     -50.55,     -44.39,   256.8,2,   1.4819,2,  34.0445,2,  34.0443,2,    277.8,2,  277.84,2,   34.97,2,   30.28,2,    1.99,2, -999.00,9
74JC19990315,  Albatross,     146,          1,          8,19990419,       0325,     -50.55,     -44.39,   510.3,2,   2.0180,2,  34.4720,2,  34.4724,2,    180.6,2,  181.89,2,   75.97,2,   34.57,2,    2.29,2, -999.00,9
74JC19990315,  Albatross,     146,          1,          7,19990419,       0325,     -50.55,     -44.39,   762.8,2,   2.1947,2,  34.6238,2,  34.6238,2,    166.5,2,  165.72,2,   87.48,2,   34.37,2,    2.27,2, -999.00,9
74JC19990315,  Albatross,     146,          1,          6,19990419,       0325,     -50.55,     -44.39,  1015.2,2,   2.0350,2,  34.6792,2,  34.6797,2,    170.1,2,  168.92,2,   93.73,2,   33.10,2,    2.22,2, -999.00,9
74JC19990315,  Albatross,     146,          1,          5,19990419,       0325,     -50.55,     -44.39,  1173.9,2,   1.9655,2,  34.6998,2,  34.6978,2,    173.6,2,  172.33,2,   96.75,2,   33.19,2,    2.20,2, -999.00,9
74JC19990315,  Albatross,     146,          1,          4,19990419,       0325,     -50.55,     -44.39,  1275.2,2,   1.8620,2,  34.7085,2,  34.4466,2,    175.4,2,  175.25,2,   95.78,2,   33.10,2,    2.20,2, -999.00,9
74JC19990315,  Albatross,     146,          1,          3,19990419,       0325,     -50.55,     -44.39,  1327.9,2,   1.7175,2,  34.7166,2,  34.7170,2,    178.8,2,  179.13,2,  103.59,2,   32.12,2,    2.16,2, -999.00,9
74JC19990315,  Albatross,     146,          1,          2,19990419,       0325,     -50.55,     -44.39,  1379.6,2,   1.5997,2,  34.7177,2,  34.7180,2,    180.3,2,  181.75,2,  108.27,2,   32.02,2,    2.30,2, -999.00,9
74JC19990315,  Albatross,     146,          1,          1,19990419,       0325,     -50.55,     -44.39,  1379.6,2,   1.6000,2,  34.7179,2,  34.7184,2,    180.3,2,  180.78,2,  109.93,2,   32.12,2,    2.16,2, -999.00,9
74JC19990315,  Albatross,     147,          1,         12,19990419,       0720,     -50.57,     -45.08,     9.3,2,   5.9336,2,  33.7154,2,  33.7151,2,    299.5,2,  300.05,2,    2.83,2,   19.35,2,    1.32,2, -999.00,9
74JC19990315,  Albatross,     147,          1,         11,19990419,       0720,     -50.57,     -45.08,    55.5,2,   5.7419,2,  33.7200,2,  33.7204,2,    301.3,2,  301.59,2,    3.71,2,   20.03,2,    1.34,2, -999.00,9
74JC19990315,  Albatross,     147,          1,         10,19990419,       0720,     -50.57,     -45.08,   106.2,2,   2.0284,2,  33.8816,2,  33.8820,2,    305.8,2,  305.63,2,   20.51,2,   27.65,2,    1.82,2, -999.00,9
74JC19990315,  Albatross,     147,          1,          9,19990419,       0720,     -50.57,     -45.08,   258.6,2,   2.1165,2,  34.1647,2,  34.1653,2,    234.6,2,  245.31,2,   38.29,2,   31.74,2,    2.10,2, -999.00,9
74JC19990315,  Albatross,     147,          1,          8,19990419,       0720,     -50.57,     -45.08,   512.2,2,   2.4266,2,  34.4318,2,  34.4317,2,    180.9,2,  180.25,2,   66.79,2,   35.06,2,    2.29,2, -999.00,9
74JC19990315,  Albatross,     147,          1,          7,19990419,       0720,     -50.57,     -45.08,   766.5,2,   2.3269,2,  34.5814,2,  34.5803,2,    168.3,2,  166.99,2,   80.55,2,   34.66,2,    2.28,2, -999.00,9
74JC19990315,  Albatross,     147,          1,          6,19990419,       0720,     -50.57,     -45.08,  1020.6,2,   2.1281,2,  34.6572,2,  34.6576,2,    168.9,2,  168.25,2,   89.73,2,   34.27,2,    2.24,2, -999.00,9
74JC19990315,  Albatross,     147,          1,          5,19990419,       0720,     -50.57,     -45.08,  1248.6,2,   1.9504,2,  34.7012,2,  34.7017,2,    173.3,2,  172.81,2,   97.34,2,   32.71,2,    2.19,2, -999.00,9
74JC19990315,  Albatross,     147,          1,          4,19990419,       0720,     -50.57,     -45.08,  1351.6,2,   1.7999,2,  34.7121,2,  34.7119,2,    177.7,2,  177.09,2,   99.88,2,   32.41,2,    2.18,2, -999.00,9
74JC19990315,  Albatross,     147,          1,          3,19990419,       0720,     -50.57,     -45.08,  1402.8,2,   1.6595,2,  34.7167,2,  34.7166,2,    179.9,2,  180.49,2,  103.88,2,   32.22,2,    2.15,2, -999.00,9
74JC19990315,  Albatross,     147,          1,          2,19990419,       0720,     -50.57,     -45.08,  1442.9,2,   1.5791,2,  34.7181,2,  34.7188,2,    180.8,2,  182.24,2,  106.12,2,   32.02,2,    2.14,2, -999.00,9
74JC19990315,  Albatross,     147,          1,          1,19990419,       0720,     -50.57,     -45.08,  1443.2,2,   1.5802,2,  34.7179,2,  34.7174,2,    180.7,2,  181.76,2,  105.83,2,   32.12,2,    2.14,2, -999.00,9
74JC19990315,  Albatross,     148,          1,         13,19990419,       1126,      -50.6,     -45.77,     8.3,2,   6.1600,2,  33.7213,2,  33.7216,2,    298.4,2,  298.60,2,    3.71,2,   18.66,2,    1.25,2,   -1.70,2
74JC19990315,  Albatross,     148,          1,         12,19990419,       1126,      -50.6,     -45.77,    54.7,2,   6.0031,2,  33.7263,2,  33.7261,2,    299.1,2,  299.27,2,    4.01,2,   19.44,2,    1.27,2, -999.00,9
74JC19990315,  Albatross,     148,          1,         11,19990419,       1126,      -50.6,     -45.77,   105.5,2,   2.2092,2,  33.8670,2,  33.8728,2,    306.6,2,  305.19,2,   20.61,2,   27.55,2,    1.77,2,   -1.41,2
74JC19990315,  Albatross,     148,          1,         10,19990419,       1126,      -50.6,     -45.77,   258.3,2,   2.1487,2,  34.1627,2,  34.1614,2,    243.2,2,  246.61,2,   38.97,2,   32.43,2,    2.04,2,    1.75,2
74JC19990315,  Albatross,     148,          1,          9,19990419,       1126,      -50.6,     -45.77,   511.6,2,   2.4293,2,  34.4284,2,  34.4289,2,    182.6,2,  180.56,2,   68.45,2,   35.54,2,    2.25,2,    6.67,2
74JC19990315,  Albatross,     148,          1,          8,19990419,       1126,      -50.6,     -45.77,   765.8,2,   2.2481,2,  34.5874,2,  34.5875,2,    166.2,2,  166.03,2,   84.36,2,   35.15,2,    2.25,2, -999.00,9
74JC19990315,  Albatross,     148,          1,          7,19990419,       1126,      -50.6,     -45.77,  1020.0,2,   2.1849,2,  34.6736,2,  34.6727,2,    169.9,2,  171.28,2,   89.24,2,   33.78,2,    2.16,2,   11.74,2
74JC19990315,  Albatross,     148,          1,          6,19990419,       1126,      -50.6,     -45.77,  1274.8,2,   1.9563,2,  34.6993,2,  34.6986,2,    174.5,2,  172.82,2,   96.56,2,   33.29,2,    2.12,2, -999.00,9
74JC19990315,  Albatross,     148,          1,          5,19990419,       1126,      -50.6,     -45.77,  1366.1,2,   1.8845,2,  34.7116,2,  34.7111,2,    176.4,2,  176.62,2,   99.19,2,   32.80,2,    2.09,2, -999.00,9
74JC19990315,  Albatross,     148,          1,          4,19990419,       1126,      -50.6,     -45.77,  1468.4,2,   1.7676,2,  34.7276,2,  34.7176,2,    181.9,2,  183.14,2,  100.26,2,   32.02,2,    2.05,2,   10.88,2
74JC19990315,  Albatross,     148,          1,          3,19990419,       1126,      -50.6,     -45.77,  1519.3,2,   1.6194,2,  34.7202,2,  34.7210,2,    184.9,2,  182.84,2,  105.73,2,   32.80,2,    2.08,2, -999.00,9
74JC19990315,  Albatross,     148,          1,          2,19990419,       1126,      -50.6,     -45.77,  1565.5,2,   1.5321,2,  34.7187,2,  34.7196,2,    183.1,2,  183.61,2,  110.32,2,   33.29,2,    2.09,2,   11.79,2
74JC19990315,  Albatross,     148,          1,          1,19990419,       1126,      -50.6,     -45.77,  1565.5,2,   1.5321,2,  34.7187,2,  34.7184,2,    183.1,2,  183.81,2,  109.64,2,   32.32,2,    2.09,2,   11.79,2
74JC19990315,  Albatross,     149,          1,         14,19990419,       1532,     -50.62,     -46.46,     8.5,2,   5.2300,2,  33.7655,2,  33.7646,2,    320.7,2,  304.89,2,    5.57,2,   21.88,2,    1.38,2, -999.00,9
74JC19990315,  Albatross,     149,          1,         13,19990419,       1532,     -50.62,     -46.46,    54.2,2,   5.1443,2,  33.7917,2,  33.7929,2,    304.3,2,  304.67,2,    5.57,2,   22.37,2,    1.47,2, -999.00,9
74JC19990315,  Albatross,     149,          1,         12,19990419,       1532,     -50.62,     -46.46,   105.9,2,   2.0731,2,  33.8218,2,  33.8259,2,    310.4,2,  312.59,2,   18.66,2,   26.08,2,    1.71,2, -999.00,9
74JC19990315,  Albatross,     149,          1,         11,19990419,       1532,     -50.62,     -46.46,   258.4,2,   2.3171,2,  34.1775,2,  34.1786,2,    242.7,2,  244.06,2,   38.19,2,   32.82,2,    2.05,2, -999.00,9
74JC19990315,  Albatross,     149,          1,         10,19990419,       1532,     -50.62,     -46.46,   512.4,2,   2.5937,2,  34.4335,2,  34.4325,2,    180.5,2,  179.97,2,   65.82,2,   35.74,2,    2.23,2, -999.00,9
74JC19990315,  Albatross,     149,          1,          9,19990419,       1532,     -50.62,     -46.46,   766.0,2,   2.3197,2,  34.5650,2,  34.5624,2,    167.4,2,  166.90,2,   80.65,2,   35.35,2,    2.25,2, -999.00,9
74JC19990315,  Albatross,     149,          1,          8,19990419,       1532,     -50.62,     -46.46,  1020.4,2,   2.2541,2,  34.6609,2,  34.6611,2,    168.7,2,  169.61,2,   85.92,2,   33.68,2,    2.16,2, -999.00,9
74JC19990315,  Albatross,     149,          1,          7,19990419,       1532,     -50.62,     -46.46,  1273.7,2,   2.1696,2,  34.7109,2,  34.7106,2,    177.5,2,  177.10,2,   88.16,2,   32.71,2,    2.05,2, -999.00,9
74JC19990315,  Albatross,     149,          1,          6,19990419,       1532,     -50.62,     -46.46,  1529.7,2,   1.8418,2,  34.7090,2,  34.7070,2,    175.9,2,  175.73,2,   99.78,2,   33.78,2,    2.13,2, -999.00,9
74JC19990315,  Albatross,     149,          1,          5,19990419,       1532,     -50.62,     -46.46,  1767.1,2,   1.6228,2,  34.7179,2,  34.7168,2,    182.5,2,  182.05,2,  104.66,2,   33.29,2,    2.11,2, -999.00,9
74JC19990315,  Albatross,     149,          1,          4,19990419,       1532,     -50.62,     -46.46,  1869.5,2,   1.5356,2,  34.7188,2,  34.7198,2,    185.2,2,  184.09,2,  107.29,2,   32.41,2,    2.09,2, -999.00,9
74JC19990315,  Albatross,     149,          1,          3,19990419,       1532,     -50.62,     -46.46,  1917.5,2,   1.5049,2,  34.7190,2,  34.7200,2,    185.7,2,  185.16,2,  107.88,2,   32.32,2,    2.09,2, -999.00,9
74JC19990315,  Albatross,     149,          1,          2,19990419,       1532,     -50.62,     -46.46,  1979.6,2,   1.4700,2,  34.7189,2,  34.7196,2,    185.0,2,  185.94,2,  108.76,2,   32.61,2,    2.08,2, -999.00,9
74JC19990315,  Albatross,     149,          1,          1,19990419,       1532,     -50.62,     -46.46,  1979.6,2,   1.4700,2,  34.7189,2,  34.7217,2,    185.0,2,  186.13,2,  109.05,2,   32.41,2,    2.08,2, -999.00,9