BOTTLE,20140822SIOCCHAMB
EXPOCODE,SECT_ID,STNNBR,CASTNO,BTLNBR,DATE,TIME,LATITUDE,LONGITUDE,CTDPRS,CTDPRS_FLAG_W,CTDTMP,CTDTMP_FLAG_W,CTDSAL,CTDSAL_FLAG_W,SALNTY,SALNTY_FLAG_W,CTDOXY,CTDOXY_FLAG_W,OXYGEN,OXYGEN_FLAG_W,SILCAT,SILCAT_FLAG_W,NITRAT,NITRAT_FLAG_W,PHSPHT,PHSPHT_FLAG_W,DELHE3,DELHE3_FLAG_W
,,,,,,,,,DBAR,,ITS-90,,PSS-78,,PSS-78,,UMOL/KG,,UMOL/KG,,UMOL/KG,,UMOL/KG,,UMOL/KG,,PERCNT,
74JC19990315,  Albatross,      26,          1,         21,19990324,       0459,     -61.02,     -67.67,    12.7,2,   2.9278,2,  33.7756,2,  33.7753,2,    311.8,2,  319.39,2,   10.26,2,   25.11,2,    1.69,2, -999.00,9
74JC19990315,  Albatross,      26,          1,         20,19990324,       0459,     -61.02,     -67.67,    58.4,2,   2.9196,2,  33.7757,2,  33.7745,2,    321.0,2,  320.27,2,   10.65,2,   25.50,2,    1.65,2, -999.00,9
74JC19990315,  Albatross,      26,          1,         19,19990324,       0459,     -61.02,     -67.67,   109.7,2,   0.4609,2,  33.8514,2,  33.8513,2,    328.0,2,  332.57,2,   19.34,2,   26.87,2,    1.85,2, -999.00,9
74JC19990315,  Albatross,      26,          1,         18,19990324,       0459,     -61.02,     -67.67,   148.1,2,   0.3485,2,  33.9096,2,  33.9098,2,    322.9,2,  319.41,2,   24.32,2,   28.13,2,    1.97,2, -999.00,9
74JC19990315,  Albatross,      26,          1,         17,19990324,       0459,     -61.02,     -67.67,   148.1,2,   0.3642,2,  33.9128,2,  33.9125,2,    322.9,2,  318.92,2,   24.72,2,   28.92,2,    1.96,2, -999.00,9
74JC19990315,  Albatross,      26,          1,         16,19990324,       0459,     -61.02,     -67.67,   262.2,2,   2.0261,2,  34.2221,2,  34.2223,2,    240.4,2,  234.19,2,   47.66,2,   32.62,2,    2.24,2, -999.00,9
74JC19990315,  Albatross,      26,          1,         15,19990324,       0459,     -61.02,     -67.67,   515.6,2,   2.2844,2,  34.4593,2,  34.4593,2,    179.7,2,  180.14,2,   72.36,2,   35.06,2,    2.38,2, -999.00,9
74JC19990315,  Albatross,      26,          1,         14,19990324,       0459,     -61.02,     -67.67,   769.0,2,   2.2369,2,  34.6076,2,  34.6072,2,    168.3,2,  169.41,2,   84.55,2,   33.68,2,    2.31,2, -999.00,9
74JC19990315,  Albatross,      26,          1,         13,19990324,       0459,     -61.02,     -67.67,  1023.8,2,   2.1383,2,  34.6750,2,  34.6750,2,    172.4,2,  173.10,2,   89.92,2,   32.80,2,    2.24,2, -999.00,9
74JC19990315,  Albatross,      26,          1,         12,19990324,       0459,     -61.02,     -67.67,  1278.5,2,   1.9695,2,  34.7123,2,  34.7121,2,    180.6,2,  179.03,2,   95.29,2,   32.41,2,    2.20,2, -999.00,9
74JC19990315,  Albatross,      26,          1,         11,19990324,       0459,     -61.02,     -67.67,  1534.4,2,   1.7591,2,  34.7260,2,  34.7264,2,    183.5,2,  183.79,2,  101.44,2,   32.80,2,    2.18,2, -999.00,9
74JC19990315,  Albatross,      26,          1,         10,19990324,       0459,     -61.02,     -67.67,  1789.5,2,   1.5214,2,  34.7258,2,  34.7264,2,    186.9,2,  187.39,2,  109.54,2,   32.02,2,    2.20,2, -999.00,9
74JC19990315,  Albatross,      26,          1,          9,19990324,       0459,     -61.02,     -67.67,  2045.3,2,   1.3878,2,  34.7264,2,  34.7270,2,    191.3,2,  191.38,2,  111.98,2,   31.92,2,    2.16,2, -999.00,9
74JC19990315,  Albatross,      26,          1,          8,19990324,       0459,     -61.02,     -67.67,  2557.5,2,   1.0449,2,  34.7180,2,  34.7180,2,    196.5,2,  198.48,2,  121.65,2,   32.22,2,    2.18,2, -999.00,9
74JC19990315,  Albatross,      26,          1,          7,19990324,       0459,     -61.02,     -67.67,  3070.1,2,   0.7638,2,  34.7097,2,  34.7100,2,    201.5,2,  203.83,2,  129.65,2,   32.61,2,    2.20,2, -999.00,9
74JC19990315,  Albatross,      26,          1,          6,19990324,       0459,     -61.02,     -67.67,  3583.8,2,   0.5410,2,  34.7061,2,  34.7055,2,    207.1,2,  208.11,2,  137.56,2,   32.51,2,    2.21,2, -999.00,9
74JC19990315,  Albatross,      26,          1,          5,19990324,       0459,     -61.02,     -67.67,  3971.7,2,   0.5516,2,  34.7056,2,  34.7045,2,    208.4,2,  208.01,2,  138.64,2,   32.51,2,    2.21,2, -999.00,9
74JC19990315,  Albatross,      26,          1,          4,19990324,       0459,     -61.02,     -67.67,  4075.0,2,   0.5589,2,  34.7053,2,  34.7053,2,    208.7,2,  208.21,2,  137.95,2,   32.32,2,    2.21,2, -999.00,9
74JC19990315,  Albatross,      26,          1,          3,19990324,       0459,     -61.02,     -67.67,  4126.7,2,   0.5624,2,  34.7055,2,  34.7045,2,    208.7,2,  208.01,2,  138.54,2,   32.51,2,    2.20,2, -999.00,9
74JC19990315,  Albatross,      26,          1,          2,19990324,       0459,     -61.02,     -67.67,  4168.1,2,   0.5659,2,  34.7054,2,  34.7055,2,    208.7,2,  207.92,2,  138.73,2,   32.71,2,    2.20,2, -999.00,9
74JC19990315,  Albatross,      26,          1,          1,19990324,       0459,     -61.02,     -67.67,  4168.2,2,   0.5660,2,  34.7054,2,  34.7051,2,    208.7,2,  207.92,2,  138.64,2,   32.41,2,    2.19,2, -999.00,9
74JC19990315,  Albatross,      27,          1,         19,19990324,       0941,     -61.21,     -67.33,    12.9,2,   2.9460,2,  33.7376,2,  33.7372,2,    304.9,2,  319.59,2,   12.11,2,   25.21,2,    1.63,2,   -2.26,2
74JC19990315,  Albatross,      27,          1,         18,19990324,       0941,     -61.21,     -67.33,    58.9,2,   2.9471,2,  33.7381,2,  33.7374,2,    319.6,2,  319.49,2,   12.21,2,   24.52,2,    1.63,2, -999.00,9
74JC19990315,  Albatross,      27,          1,         17,19990324,       0941,     -61.21,     -67.33,   109.2,2,   0.8572,2,  33.9044,2,  33.9043,2,    332.2,2,  319.62,2,   21.30,2,   27.16,2,    1.87,2,   -1.11,2
74JC19990315,  Albatross,      27,          1,         16,19990324,       0941,     -61.21,     -67.33,   261.5,2,   2.1457,2,  34.2431,2,  34.2426,2,    231.2,2,  226.79,2,   50.10,2,   32.91,2,    2.26,2, -999.00,9
74JC19990315,  Albatross,      27,          1,         15,19990324,       0941,     -61.21,     -67.33,   510.1,2,   2.3181,2,  34.4784,2,  34.4797,2,    180.8,2,  177.51,2,   74.02,2,   34.08,2,    2.34,2,    6.87,2
74JC19990315,  Albatross,      27,          1,         14,19990324,       0941,     -61.21,     -67.33,   767.2,2,   2.2170,2,  34.6134,2,  34.6134,2,    169.1,2,  168.92,2,   85.14,2,   33.39,2,    2.29,2, -999.00,9
74JC19990315,  Albatross,      27,          1,         13,19990324,       0941,     -61.21,     -67.33,  1020.1,2,   2.0703,2,  34.6875,2,  34.6874,2,    172.8,2,  173.88,2,   90.60,2,   32.61,2,    2.22,2,    9.95,2
74JC19990315,  Albatross,      27,          1,         12,19990324,       0941,     -61.21,     -67.33,  1269.0,2,   1.9282,2,  34.7150,2,  34.7155,2,    179.4,2,  179.13,2,   95.58,2,   31.44,2,    2.18,2, -999.00,9
74JC19990315,  Albatross,      27,          1,         11,19990324,       0941,     -61.21,     -67.33,  1529.1,2,   1.7179,2,  34.7265,2,  34.7266,2,    183.7,2,  184.09,2,  101.44,2,   31.83,2,    2.17,2, -999.00,9
74JC19990315,  Albatross,      27,          1,         10,19990324,       0941,     -61.21,     -67.33,  1787.4,2,   1.5094,2,  34.7276,2,  34.7280,2,    188.1,2,  191.67,2,  107.49,2,   32.02,2,    2.16,2,   11.15,2
74JC19990315,  Albatross,      27,          1,          9,19990324,       0941,     -61.21,     -67.33,  2043.0,2,   1.3589,2,  34.7260,2,  34.7186,2,    190.7,2,  191.48,2,  111.59,2,   31.24,2,    2.17,2, -999.00,9
74JC19990315,  Albatross,      27,          1,          8,19990324,       0941,     -61.21,     -67.33,  2555.3,2,   1.0476,2,  34.7176,2,  34.7176,2,    196.4,2,  197.51,2,  120.77,2,   31.44,2,    2.18,2,   10.29,2
74JC19990315,  Albatross,      27,          1,          7,19990324,       0941,     -61.21,     -67.33,  3065.7,2,   0.7352,2,  34.7087,2,  34.7092,2,    203.7,2,  203.15,2,  130.04,2,   31.83,2,    2.19,2,   10.49,2
74JC19990315,  Albatross,      27,          1,          6,19990324,       0941,     -61.21,     -67.33,  3580.4,2,   0.5226,2,  34.7053,2,  34.7043,2,    206.4,2,  207.53,2,  137.76,2,   31.93,2,    2.18,2, -999.00,9
74JC19990315,  Albatross,      27,          1,          5,19990324,       0941,     -61.21,     -67.33,  3667.6,2,   0.5224,2,  34.7053,2,  34.7045,2,    206.5,2,  206.65,2,  137.56,2,   32.12,2,    2.20,2, -999.00,9
74JC19990315,  Albatross,      27,          1,          4,19990324,       0941,     -61.21,     -67.33,  3769.0,2,   0.5257,2,  34.7051,2,  34.7056,2,    206.8,2,  202.95,2,  136.98,2,   31.83,2,    2.19,2, -999.00,9
74JC19990315,  Albatross,      27,          1,          3,19990324,       0941,     -61.21,     -67.33,  3822.4,2,   0.5187,2,  34.7051,2,  34.7055,2,    207.7,2,  207.82,2,  137.95,2,   31.53,2,    2.20,2, -999.00,9
74JC19990315,  Albatross,      27,          1,          2,19990324,       0941,     -61.21,     -67.33,  3868.9,2,   0.5144,2,  34.7053,2,  34.7053,2,    206.7,2,  207.62,2,  138.73,2,   31.73,2,    2.22,2,    9.72,2
74JC19990315,  Albatross,      27,          1,          1,19990324,       0941,     -61.21,     -67.33,  3870.0,2,   0.5145,2,  34.7053,2,  34.7051,2,    206.8,2,  207.04,2,  139.42,2,   32.80,2,    2.21,2, -999.00,9
74JC19990315,  Albatross,      28,          1,         20,19990324,       1417,     -61.41,      -67.0,    11.2,2,   2.7527,2,  33.7463,2,  33.7464,2,    316.4,2,  320.38,2,   12.99,2,   25.01,2,    1.62,2, -999.00,9
74JC19990315,  Albatross,      28,          1,         19,19990324,       1417,     -61.41,      -67.0,    56.7,2,   2.6898,2,  33.7495,2,  33.7474,2,    334.0,2,  320.66,2,   13.48,2,   25.01,2,    1.61,2, -999.00,9
74JC19990315,  Albatross,      28,          1,         18,19990324,       1417,     -61.41,      -67.0,   107.6,2,   1.1112,2,  33.9573,2,  33.9571,2,    285.2,2,  305.69,2,   23.54,2,   28.33,2,    1.88,2, -999.00,9
74JC19990315,  Albatross,      28,          1,         17,19990324,       1417,     -61.41,      -67.0,   260.4,2,   2.2476,2,  34.2392,2,  34.2403,2,    233.5,2,  227.28,2,   46.88,2,   33.21,2,    2.32,2, -999.00,9
74JC19990315,  Albatross,      28,          1,         16,19990324,       1417,     -61.41,      -67.0,   310.8,2,   2.2888,2,  34.3012,2,  34.2992,2,    222.3,2,  211.41,2,   54.01,2,   33.40,2,    2.25,2, -999.00,9
74JC19990315,  Albatross,      28,          1,         15,19990324,       1417,     -61.41,      -67.0,   513.1,2,   2.2877,2,  34.4941,2,  34.4958,2,    176.2,2,  174.69,2,   74.60,2,   34.66,2,    2.32,2, -999.00,9
74JC19990315,  Albatross,      28,          1,         14,19990324,       1417,     -61.41,      -67.0,   767.2,2,   2.2105,2,  34.6391,2,  34.6397,2,    166.9,2,  169.22,2,   85.53,2,   33.49,2,    2.23,2, -999.00,9
74JC19990315,  Albatross,      28,          1,         13,19990324,       1417,     -61.41,      -67.0,  1021.4,2,   2.0489,2,  34.6967,2,  34.6970,2,    172.9,2,  176.21,2,   90.80,2,   32.61,2,    2.17,2, -999.00,9
74JC19990315,  Albatross,      28,          1,         12,19990324,       1417,     -61.41,      -67.0,  1276.9,2,   1.8781,2,  34.7176,2,  34.7172,2,    178.9,2,  179.52,2,   96.75,2,   32.12,2,    2.13,2, -999.00,9
74JC19990315,  Albatross,      28,          1,         11,19990324,       1417,     -61.41,      -67.0,  1532.2,2,   1.6922,2,  34.7268,2,  34.7280,2,    184.8,2,  185.16,2,  102.32,2,   32.02,2,    2.11,2, -999.00,9
74JC19990315,  Albatross,      28,          1,         10,19990324,       1417,     -61.41,      -67.0,  1786.7,2,   1.4970,2,  34.7281,2,  34.7286,2,    188.6,2,  188.85,2,  107.78,2,   31.83,2,    2.13,2, -999.00,9
74JC19990315,  Albatross,      28,          1,          9,19990324,       1417,     -61.41,      -67.0,  2043.0,2,   1.3183,2,  34.7258,2,  34.7264,2,    191.3,2,  192.16,2,  112.47,2,   31.53,2,    2.11,2, -999.00,9
74JC19990315,  Albatross,      28,          1,          8,19990324,       1417,     -61.41,      -67.0,  2555.1,2,   0.9955,2,  34.7166,2,  34.7160,2,    198.1,2,  197.80,2,  122.23,2,   31.92,2,    2.13,2, -999.00,9
74JC19990315,  Albatross,      28,          1,          7,19990324,       1417,     -61.41,      -67.0,  3067.3,2,   0.6963,2,  34.7087,2,  34.7086,2,    204.4,2,  203.83,2,  130.92,2,   31.83,2,    2.16,2, -999.00,9
74JC19990315,  Albatross,      28,          1,          6,19990324,       1417,     -61.41,      -67.0,  3580.2,2,   0.5351,2,  34.7060,2,  34.7053,2,    207.4,2,  206.85,2,  136.10,2,   32.12,2,    2.19,2, -999.00,9
74JC19990315,  Albatross,      28,          1,          5,19990324,       1417,     -61.41,      -67.0,  3918.5,2,   0.5273,2,  34.7049,2,  34.7047,2,    208.4,2,  208.01,2,  137.76,2,   32.22,2,    2.21,2, -999.00,9
74JC19990315,  Albatross,      28,          1,          4,19990324,       1417,     -61.41,      -67.0,  4021.5,2,   0.5303,2,  34.7044,2,  34.7047,2,    208.5,2,  208.30,2,  138.34,2,   32.32,2,    2.21,2, -999.00,9
74JC19990315,  Albatross,      28,          1,          3,19990324,       1417,     -61.41,      -67.0,  4072.9,2,   0.5294,2,  34.7041,2,  34.7045,2,    209.6,2,  208.11,2,  139.03,2,   31.93,2,    2.19,2, -999.00,9
74JC19990315,  Albatross,      28,          1,          2,19990324,       1417,     -61.41,      -67.0,  4125.3,2,   0.5325,2,  34.7041,2,  34.7043,2,    207.3,2,  207.92,2,  138.93,2,   32.12,2,    2.19,2, -999.00,9
74JC19990315,  Albatross,      28,          1,          1,19990324,       1417,     -61.41,      -67.0,  4125.3,2,   0.5322,2,  34.7041,2,  34.7033,2,    207.3,2,  208.89,2,  140.39,2,   32.22,2,    2.20,2, -999.00,9
74JC19990315,  Albatross,      29,          1,         19,19990324,       1848,      -61.6,     -66.67,    11.5,2,   2.2362,2,  33.7300,2,  33.7298,2,    325.3,2,  324.29,2,   17.42,2,   25.85,2,    1.69,2,   -1.86,2
74JC19990315,  Albatross,      29,          1,         18,19990324,       1848,      -61.6,     -66.67,    57.0,2,   1.8909,2,  33.7167,2,  33.7159,2,    327.1,2,  328.66,2,   21.14,2,   25.78,2,    1.71,2, -999.00,9
74JC19990315,  Albatross,      29,          1,         17,19990324,       1848,      -61.6,     -66.67,    98.5,2,   0.6618,2,  33.9533,2,  33.9524,2,    331.1,2,  309.69,2,   26.32,2,   29.53,2,    1.95,2,   -1.46,2
74JC19990315,  Albatross,      29,          1,         16,19990324,       1848,      -61.6,     -66.67,   258.8,2,   2.1113,2,  34.3222,2,  34.3204,2,    225.2,2,  207.91,2,   58.42,2,   34.41,2,    2.31,2, -999.00,9
74JC19990315,  Albatross,      29,          1,         15,19990324,       1848,      -61.6,     -66.67,   514.1,2,   2.2827,2,  34.5626,2,  34.5619,2,    172.2,2,  170.50,2,   76.84,2,   35.41,2,    2.33,2,    6.53,2
74JC19990315,  Albatross,      29,          1,         14,19990324,       1848,      -61.6,     -66.67,   766.4,2,   2.1646,2,  34.6335,2,  34.6334,2,    171.1,2,  170.59,2,   84.83,2,   34.31,2,    2.27,2, -999.00,9
74JC19990315,  Albatross,      29,          1,         13,19990324,       1848,      -61.6,     -66.67,  1017.9,2,   2.0178,2,  34.7022,2,  34.7013,2,    178.3,2,  178.07,2,   88.18,2,   32.60,2,    2.19,2,    9.55,2
74JC19990315,  Albatross,      29,          1,         12,19990324,       1848,      -61.6,     -66.67,  1273.2,2,   1.8245,2,  34.7198,2,  34.7206,2,    182.4,2,  181.86,2,   99.07,2,   32.45,2,    2.17,2, -999.00,9
74JC19990315,  Albatross,      29,          1,         11,19990324,       1848,      -61.6,     -66.67,  1529.0,2,   1.6070,2,  34.7256,2,  34.7264,2,    186.3,2,  186.82,2,  105.51,2,   32.19,2,    2.15,2,   11.47,2
74JC19990315,  Albatross,      29,          1,         10,19990324,       1848,      -61.6,     -66.67,  1783.8,2,   1.4261,2,  34.7264,2,  34.7270,2,    191.0,2,  194.22,2,  119.45,2,   32.24,2,    2.16,2, -999.00,9
74JC19990315,  Albatross,      29,          1,          9,19990324,       1848,      -61.6,     -66.67,  2040.7,2,   1.2315,2,  34.7227,2,  34.7229,2,    194.1,2,  194.69,2,  116.99,2,   31.96,2,    2.17,2,    9.95,2
74JC19990315,  Albatross,      29,          1,          8,19990324,       1848,      -61.6,     -66.67,  2552.3,2,   0.9197,2,  34.7131,2,  34.7141,2,    199.7,2,  200.43,2,  125.69,2,   32.05,2,    2.18,2,   10.81,2
74JC19990315,  Albatross,      29,          1,          7,19990324,       1848,      -61.6,     -66.67,  3065.8,2,   0.5964,2,  34.7061,2,  34.7060,2,    205.5,2,  206.17,2,  131.22,2,   32.25,2,    2.24,2,    9.98,2
74JC19990315,  Albatross,      29,          1,          6,19990324,       1848,      -61.6,     -66.67,  3578.5,2,   0.5045,2,  34.7036,2,  34.7031,2,    209.5,2,  208.31,2,  140.51,2,   32.15,2,    2.22,2, -999.00,9
74JC19990315,  Albatross,      29,          1,          5,19990324,       1848,      -61.6,     -66.67,  3798.1,2,   0.5178,2,  34.7034,2,  34.7031,2,    207.4,2,  208.51,2,  140.20,2,   32.58,2,    2.22,2, -999.00,9
74JC19990315,  Albatross,      29,          1,          4,19990324,       1848,      -61.6,     -66.67,  3901.6,2,   0.5280,2,  34.7029,2,  34.7037,2,    209.4,2,  209.19,2,  136.73,2,   32.38,2,    2.20,2,    9.91,2
74JC19990315,  Albatross,      29,          1,          3,19990324,       1848,      -61.6,     -66.67,  3953.1,2,   0.5291,2,  34.7036,2,  34.7031,2,    210.0,2,  208.70,2,  139.12,2,   32.22,2,    2.20,2, -999.00,9
74JC19990315,  Albatross,      29,          1,          2,19990324,       1848,      -61.6,     -66.67,  3998.4,2,   0.5264,2,  34.7039,2,  34.7033,2,    208.7,2,  208.31,2,  136.60,2,   33.01,2,    2.20,2, -999.00,9
74JC19990315,  Albatross,      29,          1,          1,19990324,       1848,      -61.6,     -66.67,  3998.4,2,   0.5264,2,  34.7039,2,  34.7031,2,    208.7,2,  208.31,2,  135.47,2,   32.16,2,    2.24,2, -999.00,9