BOTTLE,20140822SIOCCHAMB
EXPOCODE,SECT_ID,STNNBR,CASTNO,BTLNBR,DATE,TIME,LATITUDE,LONGITUDE,CTDPRS,CTDPRS_FLAG_W,CTDTMP,CTDTMP_FLAG_W,CTDSAL,CTDSAL_FLAG_W,SALNTY,SALNTY_FLAG_W,CTDOXY,CTDOXY_FLAG_W,OXYGEN,OXYGEN_FLAG_W,SILCAT,SILCAT_FLAG_W,NITRAT,NITRAT_FLAG_W,PHSPHT,PHSPHT_FLAG_W,DELHE3,DELHE3_FLAG_W
,,,,,,,,,DBAR,,ITS-90,,PSS-78,,PSS-78,,UMOL/KG,,UMOL/KG,,UMOL/KG,,UMOL/KG,,UMOL/KG,,PERCNT,
74JC19990315,  Albatross,      79,          1,         16,19990405,       1543,     -60.57,     -41.69,    13.7,2,   1.8507,2,  34.0274,2,  34.0273,2,    319.4,2,  321.85,2,   61.83,2,   23.93,2,    1.50,2,   -1.66,2
74JC19990315,  Albatross,      79,          1,         15,19990405,       1543,     -60.57,     -41.69,    55.2,2,   1.5962,2,  34.0777,2,  34.0776,2,    315.9,2,  313.75,2,   65.35,2,   24.81,2,    1.61,2, -999.00,9
74JC19990315,  Albatross,      79,          1,         14,19990405,       1543,     -60.57,     -41.69,   106.0,2,   0.3537,2,  34.4318,2,  34.4315,2,    240.4,2,  240.27,2,   84.86,2,   33.20,2,    2.19,2, -999.00,9
74JC19990315,  Albatross,      79,          1,         13,19990405,       1543,     -60.57,     -41.69,   258.5,2,   0.9223,2,  34.6131,2,  34.6138,2,    206.9,2,  205.89,2,   95.20,2,   33.39,2,    2.19,2,    7.32,2
74JC19990315,  Albatross,      79,          1,         12,19990405,       1543,     -60.57,     -41.69,   513.0,2,   0.8007,2,  34.6626,2,  34.6666,2,    205.3,2,  204.91,2,  103.10,2,   33.29,2,    2.19,2,    7.60,2
74JC19990315,  Albatross,      79,          1,         11,19990405,       1543,     -60.57,     -41.69,   767.0,2,   0.5363,2,  34.6686,2,  34.6690,2,    204.9,2,  207.05,2,  112.57,2,   32.90,2,    2.14,2, -999.00,9
74JC19990315,  Albatross,      79,          1,         10,19990405,       1543,     -60.57,     -41.69,  1021.6,2,   0.5222,2,  34.6812,2,  34.6795,2,    205.8,2,  206.56,2,  118.23,2,   32.80,2,    2.14,2, -999.00,9
74JC19990315,  Albatross,      79,          1,          9,19990405,       1543,     -60.57,     -41.69,  1277.0,2,   0.4795,2,  34.6845,2,  34.6847,2,    208.6,2,  207.92,2,  120.18,2,   32.61,2,    2.14,2, -999.00,9
74JC19990315,  Albatross,      79,          1,          8,19990405,       1543,     -60.57,     -41.69,  1532.8,2,   0.2791,2,  34.6753,2,  34.6764,2,    210.8,2,  210.15,2,  123.31,2,   33.98,2,    2.21,2,    8.41,2
74JC19990315,  Albatross,      79,          1,          7,19990405,       1543,     -60.57,     -41.69,  1787.1,2,   0.1639,2,  34.6724,2,  34.6725,2,    215.9,2,  215.60,2,  123.90,2,   33.20,2,    2.18,2, -999.00,9
74JC19990315,  Albatross,      79,          1,          6,19990405,       1543,     -60.57,     -41.69,  2043.5,2,   0.0545,2,  34.6686,2,  34.6688,2,    219.2,2,  218.13,2,  125.26,2,   33.39,2,    2.20,2, -999.00,9
74JC19990315,  Albatross,      79,          1,          5,19990405,       1543,     -60.57,     -41.69,  2288.7,2,  -0.0823,2,  34.6634,2,  34.6623,2,    224.1,2,  224.55,2,  124.97,2,   33.49,2,    2.20,2, -999.00,9
74JC19990315,  Albatross,      79,          1,          4,19990405,       1543,     -60.57,     -41.69,  2392.0,2,  -0.1325,2,  34.6612,2,  34.6658,2,    226.0,2,  226.50,2,  126.44,2,   33.00,2,    2.17,2,    6.89,2
74JC19990315,  Albatross,      79,          1,          3,19990405,       1543,     -60.57,     -41.69,  2443.7,2,  -0.1428,2,  34.6607,2,  34.6601,2,    226.9,2,  226.98,2,  125.95,2,   32.80,2,    2.17,2, -999.00,9
74JC19990315,  Albatross,      79,          1,          2,19990405,       1543,     -60.57,     -41.69,  2489.1,2,  -0.1395,2,  34.6609,2,  34.6574,2,    226.6,2,  226.69,2,  125.26,2,   32.80,2,    2.16,2,    5.19,2
74JC19990315,  Albatross,      79,          1,          1,19990405,       1543,     -60.57,     -41.69,  2489.2,2,  -0.1396,2,  34.6609,2,  34.6562,2,    226.6,2,  226.69,2,  127.41,2,   33.78,2,    2.15,2, -999.00,9
74JC19990315,  Albatross,      80,          1,         14,19990405,       1845,     -60.53,     -41.38,    14.8,2,   1.4092,2,  33.9628,2,  33.9624,2,    326.3,2,  326.53,2,   65.45,2,   22.66,2,    1.51,2, -999.00,9
74JC19990315,  Albatross,      80,          1,         13,19990405,       1845,     -60.53,     -41.38,    55.8,2,   1.4104,2,  33.9635,2,  33.9653,2,    324.9,2,  325.26,2,   65.74,2,   23.05,2,    1.56,2, -999.00,9
74JC19990315,  Albatross,      80,          1,         12,19990405,       1845,     -60.53,     -41.38,   107.4,2,  -0.4946,2,  34.2533,2,  34.2532,2,    284.9,2,  283.89,2,   83.01,2,   30.08,2,    2.05,2, -999.00,9
74JC19990315,  Albatross,      80,          1,         11,19990405,       1845,     -60.53,     -41.38,   260.1,2,   0.1349,2,  34.5677,2,  34.5673,2,    220.3,2,  223.99,2,   97.64,2,   31.93,2,    2.15,2, -999.00,9
74JC19990315,  Albatross,      80,          1,         10,19990405,       1845,     -60.53,     -41.38,   513.2,2,   0.4982,2,  34.6618,2,  34.6619,2,    208.0,2,  207.73,2,  115.79,2,   32.71,2,    2.18,2, -999.00,9
74JC19990315,  Albatross,      80,          1,          9,19990405,       1845,     -60.53,     -41.38,   766.6,2,   0.4686,2,  34.6712,2,  34.6717,2,    207.7,2,  206.75,2, -999.00,9, -999.00,9, -999.00,9, -999.00,9
74JC19990315,  Albatross,      80,          1,          8,19990405,       1845,     -60.53,     -41.38,  1022.8,2,   0.4110,2,  34.6787,2,  34.6792,2,    208.2,2,  206.65,2,  122.33,2,   32.90,2, -999.00,9, -999.00,9
74JC19990315,  Albatross,      80,          1,          7,19990405,       1845,     -60.53,     -41.38,  1275.3,2,   0.3012,2,  34.6772,2,  34.6776,2,    210.1,2,  208.40,2,  123.90,2,   32.80,2,    2.18,2, -999.00,9
74JC19990315,  Albatross,      80,          1,          6,19990405,       1845,     -60.53,     -41.38,  1533.1,2,   0.2035,2,  34.6733,2,  34.6739,2,    212.8,2,  212.00,2,  125.17,2,   33.10,2,    2.19,2, -999.00,9
74JC19990315,  Albatross,      80,          1,          5,19990405,       1845,     -60.53,     -41.38,  1796.3,2,   0.0880,2,  34.6701,2,  34.6688,2,    216.2,2,  216.48,2, -999.00,9, -999.00,9, -999.00,9, -999.00,9
74JC19990315,  Albatross,      80,          1,          4,19990405,       1845,     -60.53,     -41.38,  1897.6,2,   0.0530,2,  34.6686,2,  34.6690,2,    217.0,2,  218.13,2,  126.83,2,   32.80,2,    2.20,2, -999.00,9
74JC19990315,  Albatross,      80,          1,          3,19990405,       1845,     -60.53,     -41.38,  1947.8,2,   0.0478,2,  34.6681,2,  34.6674,2,    217.9,2,  217.64,2,  127.31,2,   32.90,2,    2.18,2, -999.00,9
74JC19990315,  Albatross,      80,          1,          2,19990405,       1845,     -60.53,     -41.38,  1991.5,2,   0.0501,2,  34.6683,2,  34.6686,2,    217.3,2,  217.94,2,  128.39,2,   33.00,2,    2.18,2, -999.00,9
74JC19990315,  Albatross,      80,          1,          1,19990405,       1845,     -60.53,     -41.38,  1991.5,2,   0.0501,2,  34.6683,2,  34.6682,2,    217.3,2,  217.94,2,  128.00,2,   32.61,2,    2.16,2, -999.00,9
74JC19990315,  Albatross,      81,          1,         12,19990405,       2137,     -60.47,     -40.98,    12.2,2,   1.4825,2,  33.9652,2,  33.9647,2,    320.9,2,  325.17,2,   64.18,2,   22.86,2,    1.50,2,   -2.11,2
74JC19990315,  Albatross,      81,          1,         11,19990405,       2137,     -60.47,     -40.98,    54.2,2,   1.4946,2,  33.9703,2,  33.9708,2,    328.9,2,  324.97,2,   63.79,2,   22.56,2,    1.48,2, -999.00,9
74JC19990315,  Albatross,      81,          1,         10,19990405,       2137,     -60.47,     -40.98,   105.1,2,  -0.1071,2,  34.1882,2,  34.1882,2,    292.8,2,  292.96,2,   77.45,2,   28.32,2,    1.91,2,    1.01,2
74JC19990315,  Albatross,      81,          1,          9,19990405,       2137,     -60.47,     -40.98,   258.2,2,   0.3524,2,  34.5519,2,  34.5522,2,    224.7,2,  224.58,2,   90.32,2,   31.83,2,    2.11,2,    5.43,2
74JC19990315,  Albatross,      81,          1,          8,19990405,       2137,     -60.47,     -40.98,   511.3,2,   0.6860,2,  34.6580,2,  34.6586,2,    208.4,2,  207.34,2,  103.20,2,   32.02,2,    2.09,2,    8.16,2
74JC19990315,  Albatross,      81,          1,          7,19990405,       2137,     -60.47,     -40.98,   763.5,2,   0.4950,2,  34.6654,2,  34.6644,2,    207.2,2,  207.63,2,  110.23,2,   31.83,2,    2.13,2, -999.00,9
74JC19990315,  Albatross,      81,          1,          6,19990405,       2137,     -60.47,     -40.98,  1020.1,2,   0.4136,2,  34.6729,2,  34.6725,2,    207.8,2,  208.31,2,  116.09,2,   32.22,2,    2.12,2,    8.04,2
74JC19990315,  Albatross,      81,          1,          5,19990405,       2137,     -60.47,     -40.98,  1270.6,2,   0.2226,2,  34.6737,2,  34.6737,2,    211.5,2,  211.22,2,  121.85,2,   32.32,2,    2.15,2,    7.73,2
74JC19990315,  Albatross,      81,          1,          4,19990405,       2137,     -60.47,     -40.98,  1371.1,2,   0.1922,2,  34.6729,2,  34.6729,2,    212.5,2,  211.71,2,  122.04,2,   32.32,2,    2.15,2, -999.00,9
74JC19990315,  Albatross,      81,          1,          3,19990405,       2137,     -60.47,     -40.98,  1421.6,2,   0.1482,2,  34.6715,2,  34.6709,2,    213.2,2,  212.68,2,  123.99,2,   33.49,2,    2.15,2, -999.00,9
74JC19990315,  Albatross,      81,          1,          2,19990405,       2137,     -60.47,     -40.98,  1470.9,2,   0.1434,2,  34.6713,2,  34.6719,2,    211.8,2,  212.59,2,  123.80,2,   32.51,2,    2.16,2,    8.34,2
74JC19990315,  Albatross,      81,          1,          1,19990405,       2137,     -60.47,     -40.98,  1470.9,2,   0.1434,2,  34.6713,2,  34.6719,2,    211.8,2,  212.49,2,  124.19,2,   32.41,2,    2.14,2,    8.34,2
74JC19990315,  Albatross,      82,          1,         12,19990406,       0152,     -60.43,     -40.07,     9.7,2,   1.4612,2,  34.0197,2,  34.0191,2,    324.4,2,  323.59,2,   64.08,2,   23.15,2,    1.52,2, -999.00,9
74JC19990315,  Albatross,      82,          1,         11,19990406,       0152,     -60.43,     -40.07,    55.5,2,   1.1375,2,  34.0236,2,  34.0236,2,    324.1,2,  324.85,2,   64.86,2,   23.64,2,    1.52,2, -999.00,9
74JC19990315,  Albatross,      82,          1,         10,19990406,       0152,     -60.43,     -40.07,   106.4,2,  -0.1323,2,  34.3564,2,  34.3558,2,    262.8,2,  261.97,2,   84.86,2,   31.93,2,    2.13,2, -999.00,9
74JC19990315,  Albatross,      82,          1,          9,19990406,       0152,     -60.43,     -40.07,   259.3,2,   0.6520,2,  34.5936,2,  34.5934,2,    215.0,2,  214.16,2,   93.83,2,   32.12,2,    2.13,2, -999.00,9
74JC19990315,  Albatross,      82,          1,          8,19990406,       0152,     -60.43,     -40.07,   512.9,2,   0.5266,2,  34.6416,2,  34.6438,2,    208.7,2,  210.36,2,  104.37,2,   32.32,2,    2.11,2, -999.00,9
74JC19990315,  Albatross,      82,          1,          7,19990406,       0152,     -60.43,     -40.07,   767.1,2,   0.5123,2,  34.6711,2,  34.6713,2,    207.0,2,  206.65,2,  113.25,2,   32.61,2,    2.12,2, -999.00,9
74JC19990315,  Albatross,      82,          1,          6,19990406,       0152,     -60.43,     -40.07,  1019.9,2,   0.4245,2,  34.6761,2,  34.6758,2,    207.0,2,  206.94,2,  117.35,2,   32.61,2,    2.13,2, -999.00,9
74JC19990315,  Albatross,      82,          1,          5,19990406,       0152,     -60.43,     -40.07,  1179.6,2,   0.3521,2,  34.6762,2,  34.6758,2,    208.8,2,  208.60,2,  119.89,2,   32.80,2,    2.14,2, -999.00,9
74JC19990315,  Albatross,      82,          1,          4,19990406,       0152,     -60.43,     -40.07,  1280.9,2,   0.3437,2,  34.6761,2,  34.6774,2,    209.5,2,  208.79,2,  119.99,2,   32.22,2,    2.15,2, -999.00,9
74JC19990315,  Albatross,      82,          1,          3,19990406,       0152,     -60.43,     -40.07,  1332.0,2,   0.3287,2,  34.6761,2,  34.6748,2,    209.6,2,  208.79,2,  119.70,2,   32.12,2,    2.11,2, -999.00,9
74JC19990315,  Albatross,      82,          1,          2,19990406,       0152,     -60.43,     -40.07,  1378.2,2,   0.3143,2,  34.6757,2,  34.6758,2,    208.6,2,  209.08,2,  119.89,2,   32.51,2,    2.15,2, -999.00,9
74JC19990315,  Albatross,      82,          1,          1,19990406,       0152,     -60.43,     -40.07,  1378.2,2,   0.3143,2,  34.6757,2,  34.6754,2,    208.6,2,  209.57,2,  119.54,2,   32.01,2,    2.13,2, -999.00,9
74JC19990315,  Albatross,      83,          1,         13,19990406,       0618,     -60.41,      -39.3,     9.2,2,   0.9088,2,  34.0086,2,  34.0089,2,    325.7,2,  327.29,2,   66.42,2,   24.52,2,    1.54,2, -999.00,9
74JC19990315,  Albatross,      83,          1,         12,19990406,       0618,     -60.41,      -39.3,    55.0,2,   0.8653,2,  34.0832,2,  34.0807,2,    320.6,2,  318.21,2,   69.45,2,   25.40,2,    1.63,2, -999.00,9
74JC19990315,  Albatross,      83,          1,         11,19990406,       0618,     -60.41,      -39.3,   106.1,2,  -0.1629,2,  34.4156,2,  34.4129,2,    257.6,2,  258.18,2,   88.18,2,   32.22,2,    2.11,2, -999.00,9
74JC19990315,  Albatross,      83,          1,         10,19990406,       0618,     -60.41,      -39.3,   258.7,2,   0.9419,2,  34.6326,2,  34.6325,2,    203.5,2,  202.77,2,   97.73,2,   32.32,2,    2.13,2, -999.00,9
74JC19990315,  Albatross,      83,          1,          9,19990406,       0618,     -60.41,      -39.3,   512.5,2,   0.5772,2,  34.6660,2,  34.6658,2,    207.0,2,  207.05,2,  111.50,2,   32.22,2,    2.12,2, -999.00,9
74JC19990315,  Albatross,      83,          1,          8,19990406,       0618,     -60.41,      -39.3,   766.2,2,   0.5267,2,  34.6762,2,  34.6762,2,    206.1,2,  206.26,2,  117.35,2,   32.22,2,    2.12,2, -999.00,9
74JC19990315,  Albatross,      83,          1,          7,19990406,       0618,     -60.41,      -39.3,  1021.1,2,   0.4208,2,  34.6803,2,  34.6801,2,    207.8,2,  208.02,2,  121.06,2,   32.32,2,    2.12,2, -999.00,9
74JC19990315,  Albatross,      83,          1,          6,19990406,       0618,     -60.41,      -39.3,  1276.2,2,   0.2763,2,  34.6756,2,  34.6756,2,    209.5,2,  210.06,2,  124.19,2,   32.61,2,    2.13,2, -999.00,9
74JC19990315,  Albatross,      83,          1,          5,19990406,       0618,     -60.41,      -39.3,  1365.0,2,   0.2594,2,  34.6753,2,  34.6756,2,    210.1,2,  210.35,2,  125.16,2,   32.61,2,    2.13,2, -999.00,9
74JC19990315,  Albatross,      83,          1,          4,19990406,       0618,     -60.41,      -39.3,  1467.6,2,   0.2320,2,  34.6740,2,  34.6741,2,    211.9,2,  212.49,2,  125.95,2,   32.61,2,    2.15,2, -999.00,9
74JC19990315,  Albatross,      83,          1,          3,19990406,       0618,     -60.41,      -39.3,  1518.4,2,   0.2171,2,  34.6737,2,  34.6735,2,    212.3,2,  212.00,2,  126.53,2,   32.51,2,    2.14,2, -999.00,9
74JC19990315,  Albatross,      83,          1,          2,19990406,       0618,     -60.41,      -39.3,  1560.4,2,   0.2075,2,  34.6728,2,  34.6729,2,    212.6,2,  212.00,2,  126.63,2,   32.51,2,    2.16,2, -999.00,9
74JC19990315,  Albatross,      83,          1,          1,19990406,       0618,     -60.41,      -39.3,  1560.4,2,   0.2082,2,  34.6727,2,-999.0000,9,    212.6,2,  212.30,2,  127.61,2,   32.61,2,    2.15,2, -999.00,9
74JC19990315,  Albatross,      84,          1,         15,19990406,       0848,     -60.41,     -39.12,    10.1,2,   0.9435,2,  34.0213,2,  34.0205,2,    325.4,2,  326.31,2,   65.64,2,   24.52,2,    1.54,2,   -1.30,2
74JC19990315,  Albatross,      84,          1,         14,19990406,       0848,     -60.41,     -39.12,    56.3,2,   0.8131,2,  34.0893,2,  34.0839,2,    319.4,2,  317.92,2,   68.47,2,   25.98,2,    1.61,2, -999.00,9
74JC19990315,  Albatross,      84,          1,         13,19990406,       0848,     -60.41,     -39.12,   106.8,2,  -0.1083,2,  34.4391,2,  34.4319,2,    265.4,2,  265.76,2,   87.10,2,   32.32,2,    2.07,2,    3.00,2
74JC19990315,  Albatross,      84,          1,         12,19990406,       0848,     -60.41,     -39.12,   259.7,2,   0.4200,2,  34.6076,2,  34.6066,2,    219.9,2,  220.29,2,   98.03,2,   32.03,2,    2.07,2, -999.00,9
74JC19990315,  Albatross,      84,          1,         11,19990406,       0848,     -60.41,     -39.12,   511.4,2,   0.6518,2,  34.6696,2,  34.6697,2,    207.4,2,  206.46,2,  109.25,2,   32.41,2,    2.06,2,    7.45,2
74JC19990315,  Albatross,      84,          1,         10,19990406,       0848,     -60.41,     -39.12,   767.2,2,   0.4660,2,  34.6740,2,  34.6750,2,    207.1,2,  208.02,2,  117.06,2,   32.32,2,    2.07,2,    8.51,2
74JC19990315,  Albatross,      84,          1,          9,19990406,       0848,     -60.41,     -39.12,  1019.4,2,   0.3825,2,  34.6802,2,  34.6815,2,    209.2,2,  209.08,2,  121.94,2,   32.51,2,    2.09,2, -999.00,9
74JC19990315,  Albatross,      84,          1,          8,19990406,       0848,     -60.41,     -39.12,  1273.7,2,   0.2724,2,  34.6758,2,  34.6766,2,    211.6,2,  211.23,2,  123.21,2,   32.22,2,    2.10,2,    7.67,2
74JC19990315,  Albatross,      84,          1,          7,19990406,       0848,     -60.41,     -39.12,  1529.5,2,   0.1816,2,  34.6734,2,  34.6735,2,    214.1,2,  213.75,2,  125.46,2,   32.32,2,    2.10,2, -999.00,9
74JC19990315,  Albatross,      84,          1,          6,19990406,       0848,     -60.41,     -39.12,  1786.0,2,   0.1036,2,  34.6701,2,  34.6699,2,    216.7,2,  216.67,2,  124.48,2,   32.41,2,    2.10,2, -999.00,9
74JC19990315,  Albatross,      84,          1,          5,19990406,       0848,     -60.41,     -39.12,  1927.6,2,   0.0794,2,  34.6685,2,  34.6691,2,    218.4,2,  217.94,2,  124.58,2,   32.22,2,    2.13,2, -999.00,9
74JC19990315,  Albatross,      84,          1,          4,19990406,       0848,     -60.41,     -39.12,  2030.2,2,   0.0605,2,  34.6677,2,  34.6662,2,    219.5,2,  219.20,2,  124.78,2,   32.32,2,    2.10,2,    5.44,2
74JC19990315,  Albatross,      84,          1,          3,19990406,       0848,     -60.41,     -39.12,  2080.9,2,   0.0426,2,  34.6668,2,  34.6658,2,    220.2,2,  219.49,2,  124.87,2,   32.22,2,    2.10,2, -999.00,9
74JC19990315,  Albatross,      84,          1,          2,19990406,       0848,     -60.41,     -39.12,  2120.0,2,   0.0349,2,  34.6665,2,  34.6668,2,    219.0,2,  219.98,2,  124.38,2,   33.68,2,    2.12,2,    6.57,2
74JC19990315,  Albatross,      84,          1,          1,19990406,       0848,     -60.41,     -39.12,  2119.1,2,   0.0359,2,  34.6666,2,  34.6668,2,    219.2,2,  219.88,2,  124.78,2,   32.32,2,    2.12,2, -999.00,9