BOTTLE,20140822SIOCCHAMB
EXPOCODE,SECT_ID,STNNBR,CASTNO,BTLNBR,DATE,TIME,LATITUDE,LONGITUDE,CTDPRS,CTDPRS_FLAG_W,CTDTMP,CTDTMP_FLAG_W,CTDSAL,CTDSAL_FLAG_W,SALNTY,SALNTY_FLAG_W,CTDOXY,CTDOXY_FLAG_W,OXYGEN,OXYGEN_FLAG_W,SILCAT,SILCAT_FLAG_W,NITRAT,NITRAT_FLAG_W,PHSPHT,PHSPHT_FLAG_W,DELHE3,DELHE3_FLAG_W
,,,,,,,,,DBAR,,ITS-90,,PSS-78,,PSS-78,,UMOL/KG,,UMOL/KG,,UMOL/KG,,UMOL/KG,,UMOL/KG,,PERCNT,
74JC19990315,  Albatross,      13,          1,         24,19990320,       2014,     -57.83,     -68.24,     9.9,2,   6.0381,2,  33.9844,2,  33.9841,2,    301.4,2,  296.20,2,    4.45,2,   21.10,2,    1.43,2,   -2.00,2
74JC19990315,  Albatross,      13,          1,         23,19990320,       2014,     -57.83,     -68.24,    55.3,2,   6.0321,2,  33.9910,2,  33.9917,2,    293.4,2,  295.22,2,    3.67,2,   21.30,2,    1.40,2, -999.00,9
74JC19990315,  Albatross,      13,          1,         22,19990320,       2014,     -57.83,     -68.24,   106.4,2,   5.2178,2,  34.0541,2,  34.0592,2,    296.7,2,  293.63,2,    7.78,2,   22.16,2,    1.49,2, -999.00,9
74JC19990315,  Albatross,      13,          1,         21,19990320,       2014,     -57.83,     -68.24,   256.0,2,   4.6113,2,  34.1168,2,  34.1164,2,    285.4,2,  285.81,2,   11.03,2,   23.49,2,    1.55,2,   -1.42,2
74JC19990315,  Albatross,      13,          1,         20,19990320,       2014,     -57.83,     -68.24,   510.9,2,   4.1755,2,  34.1911,2,  34.1907,2,    238.6,2,  244.50,2,   22.47,2,   28.17,2,    1.87,2,   -0.37,2
74JC19990315,  Albatross,      13,          1,         19,19990320,       2014,     -57.83,     -68.24,  2849.5,2,   1.4646,2,  34.7259,2,-999.0000,9,    189.3,2,  195.41,2,  109.64,2,   31.46,2,    2.16,2, -999.00,9
74JC19990315,  Albatross,      13,          1,         18,19990320,       2014,     -57.83,     -68.24,  2850.2,2,   1.4646,2,  34.7260,2,-999.0000,9,    189.3,2,  189.76,2,  110.77,2,   31.66,2,    2.14,2, -999.00,9
74JC19990315,  Albatross,      13,          1,         17,19990320,       2014,     -57.83,     -68.24,  2849.9,2,   1.4641,2,  34.7262,2,-999.0000,9,    189.3,2,  189.87,2,  110.20,2,   31.21,2,    2.20,2, -999.00,9
74JC19990315,  Albatross,      13,          1,         16,19990320,       2014,     -57.83,     -68.24,  2850.1,2,   1.4639,2,  34.7260,2,-999.0000,9,    189.3,2,  190.25,2,  109.57,2,   31.49,2,    2.16,2, -999.00,9
74JC19990315,  Albatross,      13,          1,         15,19990320,       2014,     -57.83,     -68.24,   766.9,2,   3.4762,2,  34.3048,2,  34.3049,2,    208.3,2,  206.69,2,   42.04,2,   31.51,2,    2.18,2, -999.00,9
74JC19990315,  Albatross,      13,          1,         14,19990320,       2014,     -57.83,     -68.24,  2850.6,2,   1.4639,2,  34.7260,2,-999.0000,9,    189.3,2,  189.76,2,  109.64,2,   31.38,2,    2.16,2, -999.00,9
74JC19990315,  Albatross,      13,          1,         13,19990320,       2014,     -57.83,     -68.24,  2850.0,2,   1.4635,2,  34.7260,2,  34.7257,2,    189.3,2,  190.64,2,  109.00,2,   31.40,2,    2.18,2, -999.00,9
74JC19990315,  Albatross,      13,          1,         12,19990320,       2014,     -57.83,     -68.24,  1018.6,2,   2.9663,2,  34.3995,2,  34.3993,2,    181.2,2,  186.42,2,   58.37,2,   32.98,2,    2.29,2, -999.00,9
74JC19990315,  Albatross,      13,          1,         11,19990320,       2014,     -57.83,     -68.24,  1531.2,2,   2.4045,2,  34.5995,2,  34.5989,2,    169.6,2,  166.72,2,   83.01,2,   34.33,2,    2.33,2,    9.85,2
74JC19990315,  Albatross,      13,          1,         10,19990320,       2014,     -57.83,     -68.24,  1783.5,2,   2.2541,2,  34.6574,2,  34.6584,2,    171.7,2,  169.44,2,   87.89,2,   33.03,2,    2.26,2, -999.00,9
74JC19990315,  Albatross,      13,          1,          9,19990320,       2014,     -57.83,     -68.24,  2041.6,2,   2.0797,2,  34.6993,2,  34.6998,2,    175.8,2,  174.69,2,   93.18,2,   32.77,2,    2.19,2,   11.11,2
74JC19990315,  Albatross,      13,          1,          8,19990320,       2014,     -57.83,     -68.24,  2551.4,2,   1.6396,2,  34.7239,2,  34.7239,2,    184.0,2,  183.92,2,  105.62,2,   32.14,2,    2.18,2,   11.89,2
74JC19990315,  Albatross,      13,          1,          7,19990320,       2014,     -57.83,     -68.24,  3062.1,2,   1.3397,2,  34.7233,2,  34.7237,2,    192.0,2,  192.57,2,  112.25,2,   32.08,2,    2.17,2,   10.39,2
74JC19990315,  Albatross,      13,          1,          6,19990320,       2014,     -57.83,     -68.24,  3571.9,2,   0.8701,2,  34.7114,2,  34.7109,2,    200.8,2,  201.43,2,  126.25,2,   32.01,2,    2.21,2,   10.66,2
74JC19990315,  Albatross,      13,          1,          5,19990320,       2014,     -57.83,     -68.24,  3610.9,2,   0.8582,2,  34.7111,2,  34.7117,2,    201.9,2,  201.13,2,  126.88,2,   32.43,2,    2.23,2, -999.00,9
74JC19990315,  Albatross,      13,          1,          4,19990320,       2014,     -57.83,     -68.24,  3716.1,2,   0.8565,2,  34.7108,2,  34.7113,2,    201.9,2,  201.43,2,  130.41,2,   32.43,2,    2.20,2, -999.00,9
74JC19990315,  Albatross,      13,          1,          3,19990320,       2014,     -57.83,     -68.24,  3768.6,2,   0.8608,2,  34.7107,2,  34.7113,2,    201.5,2,  200.64,2,  128.01,2,   32.04,2,    2.23,2, -999.00,9
74JC19990315,  Albatross,      13,          1,          2,19990320,       2014,     -57.83,     -68.24,  3806.9,2,   0.8619,2,  34.7105,2,  34.7102,2,    200.7,2,  201.72,2,  128.22,2,   32.56,2,    2.34,2,   10.77,2
74JC19990315,  Albatross,      13,          1,          1,19990320,       2014,     -57.83,     -68.24,  3806.9,2,   0.8619,2,  34.7105,2,  34.7092,2,    200.7,2, -999.00,9, -999.00,9, -999.00,9, -999.00,9,   10.77,2
74JC19990315,  Albatross,      14,          1,         18,19990321,       0100,     -58.08,     -68.24,    10.6,2,   6.0206,2,  33.9900,2,  33.9900,2,    293.9,2,  295.70,2,    3.89,2,   20.81,2,    1.37,2, -999.00,9
74JC19990315,  Albatross,      14,          1,         17,19990321,       0100,     -58.08,     -68.24,    56.4,2,   5.9553,2,  33.9929,2,  33.9929,2,    296.7,2,  295.79,2,    3.89,2,   20.23,2,    1.38,2, -999.00,9
74JC19990315,  Albatross,      14,          1,         16,19990321,       0100,     -58.08,     -68.24,   107.6,2,   5.1607,2,  34.1291,2,  34.1293,2,    292.9,2,  291.74,2,    9.54,2,   21.61,2,    1.47,2, -999.00,9
74JC19990315,  Albatross,      14,          1,         15,19990321,       0100,     -58.08,     -68.24,   260.0,2,   4.8504,2,  34.1399,2,  34.1396,2,    283.7,2,  285.30,2,   10.60,2,   23.51,2,    1.52,2, -999.00,9
74JC19990315,  Albatross,      14,          1,         14,19990321,       0100,     -58.08,     -68.24,   513.5,2,   4.4355,2,  34.2239,2,  34.2228,2,    236.4,2,  236.59,2,   22.97,2,   27.73,2,    1.84,2, -999.00,9
74JC19990315,  Albatross,      14,          1,         13,19990321,       0100,     -58.08,     -68.24,   766.8,2,   3.4223,2,  34.3143,2,  34.3131,2,    204.5,2,  204.04,2,   43.74,2,   30.87,2,    2.12,2, -999.00,9
74JC19990315,  Albatross,      14,          1,         12,19990321,       0100,     -58.08,     -68.24,  1020.8,2,   2.8859,2,  34.4211,2,  34.4199,2,    183.7,2,  182.21,2,   61.33,2,   32.29,2,    2.24,2, -999.00,9
74JC19990315,  Albatross,      14,          1,         11,19990321,       0100,     -58.08,     -68.24,  1274.8,2,   2.6287,2,  34.5304,2,  34.5305,2,    158.6,2,  156.30,2,   81.68,2,   33.99,2,    2.34,2, -999.00,9
74JC19990315,  Albatross,      14,          1,         10,19990321,       0100,     -58.08,     -68.24,  1530.1,2,   2.3782,2,  34.6065,2,  34.6060,2,    157.3,2,  157.75,2,   90.50,2,   32.98,2,    2.32,2, -999.00,9
74JC19990315,  Albatross,      14,          1,          9,19990321,       0100,     -58.08,     -68.24,  1785.0,2,   2.2277,2,  34.6588,2,  34.6593,2,    164.0,2,  165.82,2,   91.91,2,   32.01,2,    2.22,2, -999.00,9
74JC19990315,  Albatross,      14,          1,          8,19990321,       0100,     -58.08,     -68.24,  2039.6,2,   2.0661,2,  34.6935,2,  34.6937,2,    170.6,2,  170.58,2,   97.70,2,   31.80,2,    2.17,2, -999.00,9
74JC19990315,  Albatross,      14,          1,          7,19990321,       0100,     -58.08,     -68.24,  2552.0,2,   1.6961,2,  34.7259,2,  34.7261,2,    181.9,2,  184.58,2,  104.63,2,   30.80,2,    2.11,2, -999.00,9
74JC19990315,  Albatross,      14,          1,          6,19990321,       0100,     -58.08,     -68.24,  3064.8,2,   1.3730,2,  34.7243,2,  34.7235,2,    190.2,2,  191.88,2,  112.40,2,   30.91,2,    2.11,2, -999.00,9
74JC19990315,  Albatross,      14,          1,          5,19990321,       0100,     -58.08,     -68.24,  3591.6,2,   0.9653,2,  34.7142,2,  34.7143,2,    198.9,2,  198.78,2,  124.41,2,   31.09,2,    2.16,2, -999.00,9
74JC19990315,  Albatross,      14,          1,          4,19990321,       0100,     -58.08,     -68.24,  3694.7,2,   0.9195,2,  34.7127,2,  34.7127,2,    200.7,2,  200.34,2,  125.33,2,   31.47,2,    2.18,2, -999.00,9
74JC19990315,  Albatross,      14,          1,          3,19990321,       0100,     -58.08,     -68.24,  3746.2,2,   0.8806,2,  34.7115,2,  34.7115,2,    201.2,2,  200.14,2,  127.23,2,   30.93,2,    2.15,2, -999.00,9
74JC19990315,  Albatross,      14,          1,          2,19990321,       0100,     -58.08,     -68.24,  3798.5,2,   0.8617,2,  34.7110,2,  34.7113,2,    201.3,2,  200.83,2,  128.15,2,   31.07,2,    2.14,2, -999.00,9
74JC19990315,  Albatross,      14,          1,          1,19990321,       0100,     -58.08,     -68.24,  3798.5,2,   0.8617,2,  34.7110,2,  34.7109,2,    201.3,2,  200.73,2,  127.94,2,   31.00,2,    2.13,2, -999.00,9
74JC19990315,  Albatross,      15,          1,         24,19990321,       0552,     -58.33,     -68.24,     8.5,2,   6.0847,2,  33.9903,2,  33.9923,2,    292.8,2,  293.95,2,    3.82,2,   20.54,2,    1.37,2, -999.00,9
74JC19990315,  Albatross,      15,          1,         23,19990321,       0552,     -58.33,     -68.24,    54.3,2,   6.0345,2,  33.9941,2,  33.9925,2,    294.1,2,  294.53,2,    3.89,2,   20.57,2,    1.36,2, -999.00,9
74JC19990315,  Albatross,      15,          1,         22,19990321,       0552,     -58.33,     -68.24,   105.1,2,   5.5559,2,  34.0847,2,  34.0843,2,    291.5,2,  290.12,2,    7.42,2,   21.35,2,    1.44,2,   -1.27,2
74JC19990315,  Albatross,      15,          1,         21,19990321,       0552,     -58.33,     -68.24,   257.0,2,   4.8921,2,  34.1236,2,  34.1436,2,    284.0,2,  284.45,2,   10.39,2,   22.45,2,    1.48,2,   -1.15,2
74JC19990315,  Albatross,      15,          1,         20,19990321,       0552,     -58.33,     -68.24,   509.4,2,   4.4079,2,  34.1942,2,  34.2095,2,    244.3,2,  241.97,2,   21.84,2,   28.00,2,    1.78,2,    1.07,2
74JC19990315,  Albatross,      15,          1,         19,19990321,       0552,     -58.33,     -68.24,   763.1,2,   3.7045,2,  34.2823,2,  34.2947,2,    209.2,2,  211.08,2,   39.50,2,   30.56,2,    2.03,2, -999.00,9
74JC19990315,  Albatross,      15,          1,         18,19990321,       0552,     -58.33,     -68.24,  1018.0,2,   2.9295,2,  34.4037,2,  34.4021,2,    185.9,2,  185.64,2,   59.92,2,   31.76,2,    2.19,2,    5.26,2
74JC19990315,  Albatross,      15,          1,         17,19990321,       0552,     -58.33,     -68.24,  1273.6,2,   2.5998,2,  34.5134,2,  34.5138,2,    171.9,2,  170.82,2,   74.89,2,   33.16,2,    2.24,2, -999.00,9
74JC19990315,  Albatross,      15,          1,         16,19990321,       0552,     -58.33,     -68.24,  1529.6,2,   2.3993,2,  34.5989,2,  34.5989,2,    166.6,2,  165.94,2,   84.57,2,   32.90,2,    2.22,2,   11.19,2
74JC19990315,  Albatross,      15,          1,         15,19990321,       0552,     -58.33,     -68.24,  1784.1,2,   2.2331,2,  34.6608,2,  34.6613,2,    169.0,2,  168.66,2,   89.86,2,   32.48,2,    2.16,2, -999.00,9
74JC19990315,  Albatross,      15,          1,         14,19990321,       0552,     -58.33,     -68.24,  2040.4,2,   2.1156,2,  34.6948,2,  34.6958,2,    173.2,2,  173.81,2,   92.83,2,   31.37,2,    2.10,2,   11.46,2
74JC19990315,  Albatross,      15,          1,         13,19990321,       0552,     -58.33,     -68.24,  2553.4,2,   1.7164,2,  34.7172,2,  34.7174,2,    179.5,2,  180.22,2,  107.24,2,   31.44,2,    2.12,2,   11.92,2
74JC19990315,  Albatross,      15,          1,         12,19990321,       0552,     -58.33,     -68.24,  2963.5,2,   1.4628,2,  34.7225,2,-999.0000,9,    188.4,2,  189.07,2,  111.69,2,   30.94,2,    2.08,2,   10.77,2
74JC19990315,  Albatross,      15,          1,         11,19990321,       0552,     -58.33,     -68.24,  2963.2,2,   1.4633,2,  34.7223,2,-999.0000,9,    188.4,2,  188.69,2,  111.48,2,   31.19,2,    2.08,2, -999.00,9
74JC19990315,  Albatross,      15,          1,         10,19990321,       0552,     -58.33,     -68.24,  2963.5,2,   1.4634,2,  34.7225,2,-999.0000,9,    188.4,2,  188.39,2,  111.83,2,   30.87,2,    2.07,2, -999.00,9
74JC19990315,  Albatross,      15,          1,          9,19990321,       0552,     -58.33,     -68.24,  2963.1,2,   1.4634,2,  34.7224,2,-999.0000,9,    188.3,2,  188.78,2,  110.49,2,   30.94,2,    2.09,2, -999.00,9
74JC19990315,  Albatross,      15,          1,          8,19990321,       0552,     -58.33,     -68.24,  2963.2,2,   1.4637,2,  34.7225,2,-999.0000,9,    188.4,2,  188.58,2,  112.25,2,   31.00,2,    2.09,2, -999.00,9
74JC19990315,  Albatross,      15,          1,          7,19990321,       0552,     -58.33,     -68.24,  2963.2,2,   1.4628,2,  34.7225,2,  34.7231,2,    188.4,2,  188.39,2,  112.19,2,   30.74,2,    2.06,2,   10.77,2
74JC19990315,  Albatross,      15,          1,          6,19990321,       0552,     -58.33,     -68.24,  3580.1,2,   0.9162,2,  34.7116,2,  34.7117,2,    200.1,2,  199.96,2,  126.67,2,   31.10,2,    2.12,2,   10.11,2
74JC19990315,  Albatross,      15,          1,          5,19990321,       0552,     -58.33,     -68.24,  3693.9,2,   0.9068,2,  34.7114,2,  34.7098,2,    200.7,2,  200.25,2,  127.45,2,   31.10,2,    2.08,2, -999.00,9
74JC19990315,  Albatross,      15,          1,          4,19990321,       0552,     -58.33,     -68.24,  3797.0,2,   0.9041,2,  34.7118,2,  34.7117,2,    201.4,2,  200.55,2,  126.81,2,   31.31,2,    2.08,2, -999.00,9
74JC19990315,  Albatross,      15,          1,          3,19990321,       0552,     -58.33,     -68.24,  3847.0,2,   0.8915,2,  34.7111,2,  34.7117,2,    202.2,2,  201.03,2,  128.01,2,   31.38,2,    2.09,2, -999.00,9
74JC19990315,  Albatross,      15,          1,          2,19990321,       0552,     -58.33,     -68.24,  3889.1,2,   0.8893,2,  34.7110,2,  34.7111,2,    201.6,2,  200.84,2,  127.73,2,   32.29,2,    2.12,2,   10.29,2
74JC19990315,  Albatross,      15,          1,          1,19990321,       0552,     -58.33,     -68.24,  3888.8,2,   0.8894,2,  34.7110,2,  34.7107,2,    201.6,2,  203.66,2,  126.46,2,   30.73,2,    2.06,2,   10.29,2
74JC19990315,  Albatross,      16,          1,         19,19990321,       1054,     -58.58,     -68.25,    11.3,2,   6.2169,2,  33.9932,2,  33.9943,2,    285.5,2,  285.86,2,    4.10,2,   20.32,2,    1.42,2, -999.00,9
74JC19990315,  Albatross,      16,          1,         18,19990321,       1054,     -58.58,     -68.25,    56.7,2,   6.2003,2,  33.9911,2,  33.9976,2,    286.4,2,  286.55,2,    4.01,2,   20.12,2,    1.40,2, -999.00,9
74JC19990315,  Albatross,      16,          1,         17,19990321,       1054,     -58.58,     -68.25,   107.7,2,   5.2458,2,  34.1335,2,  34.1179,2,    279.7,2,  279.68,2,    8.60,2,   21.98,2,    1.51,2, -999.00,9
74JC19990315,  Albatross,      16,          1,         16,19990321,       1054,     -58.58,     -68.25,   258.9,2,   4.9072,2,  34.1436,2,  34.1496,2,    273.3,2,  272.26,2,   10.74,2,   22.76,2,    1.55,2, -999.00,9
74JC19990315,  Albatross,      16,          1,         15,19990321,       1054,     -58.58,     -68.25,   512.2,2,   4.3861,2,  34.2040,2,  34.2162,2,    234.0,2,  232.51,2,   24.12,2,   27.84,2,    1.91,2, -999.00,9
74JC19990315,  Albatross,      16,          1,         14,19990321,       1054,     -58.58,     -68.25,   765.6,2,   3.5210,2,  34.3211,2,  34.3196,2,    194.5,2,  196.06,2,   43.46,2,   31.35,2,    2.17,2, -999.00,9
74JC19990315,  Albatross,      16,          1,         13,19990321,       1054,     -58.58,     -68.25,  1019.8,2,   2.8966,2,  34.4182,2,  34.3198,2,    175.6,2,  175.60,2,   62.01,2,   32.81,2,    2.30,2, -999.00,9
74JC19990315,  Albatross,      16,          1,         12,19990321,       1054,     -58.58,     -68.25,  1274.1,2,   2.5910,2,  34.5224,2,  34.5109,2,    162.9,2,  160.20,2,   73.92,2,   33.49,2,    2.34,2, -999.00,9
74JC19990315,  Albatross,      16,          1,         11,19990321,       1054,     -58.58,     -68.25,  1528.7,2,   2.3884,2,  34.6061,2,  34.6003,2,    159.4,2,  156.98,2,   90.02,2,   33.39,2,    2.30,2, -999.00,9
74JC19990315,  Albatross,      16,          1,         10,19990321,       1054,     -58.58,     -68.25,  1784.8,2,   2.2324,2,  34.6650,2,  34.6713,2,    161.2,2,  163.97,2,   89.82,2,   31.73,2,    2.24,2, -999.00,9
74JC19990315,  Albatross,      16,          1,          9,19990321,       1054,     -58.58,     -68.25,  2040.5,2,   2.0113,2,  34.6876,2,  34.6980,2,    165.1,2,  168.64,2,   97.15,2,   32.22,2,    2.23,2, -999.00,9
74JC19990315,  Albatross,      16,          1,          8,19990321,       1054,     -58.58,     -68.25,  2552.4,2,   1.7407,2,  34.7245,2,  34.7229,2,    175.2,2,  173.98,2,  104.86,2,   30.95,2,    2.18,2, -999.00,9
74JC19990315,  Albatross,      16,          1,          7,19990321,       1054,     -58.58,     -68.25,  3065.1,2,   1.3967,2,  34.7245,2,  34.7227,2,    183.1,2,  187.60,2,  112.37,2,   31.14,2,    2.18,2, -999.00,9
74JC19990315,  Albatross,      16,          1,          6,19990321,       1054,     -58.58,     -68.25,  3578.9,2,   0.9437,2,  34.7138,2,  34.7137,2,    193.6,2,  197.91,2,  126.24,2,   31.14,2,    2.22,2, -999.00,9
74JC19990315,  Albatross,      16,          1,          5,19990321,       1054,     -58.58,     -68.25,  3819.3,2,   0.8398,2,  34.7119,2,  34.7113,2,    196.5,2,  194.80,2,  129.17,2,   31.44,2,    2.23,2, -999.00,9
74JC19990315,  Albatross,      16,          1,          4,19990321,       1054,     -58.58,     -68.25,  3921.9,2,   0.8458,2,  34.7112,2,  34.7102,2,    197.5,2,  195.38,2,  129.46,2,   30.95,2,    2.19,2, -999.00,9
74JC19990315,  Albatross,      16,          1,          3,19990321,       1054,     -58.58,     -68.25,  3974.4,2,   0.8499,2,  34.7113,2,  34.7107,2,    197.8,2,  195.48,2,  129.66,2,   31.54,2,    2.20,2, -999.00,9
74JC19990315,  Albatross,      16,          1,          2,19990321,       1054,     -58.58,     -68.25,  4015.1,2,   0.8562,2,  34.7104,2,  34.7104,2,    197.1,2,  177.19,2,  129.46,2,   31.34,2,    2.17,2, -999.00,9
74JC19990315,  Albatross,      16,          1,          1,19990321,       1054,     -58.58,     -68.25,  4015.4,2,   0.8562,2,  34.7103,2,-999.0000,9,    197.1,2, -999.00,9, -999.00,9, -999.00,9, -999.00,9, -999.00,9