BOTTLE,20140822SIOCCHAMB
EXPOCODE,SECT_ID,STNNBR,CASTNO,BTLNBR,DATE,TIME,LATITUDE,LONGITUDE,CTDPRS,CTDPRS_FLAG_W,CTDTMP,CTDTMP_FLAG_W,CTDSAL,CTDSAL_FLAG_W,SALNTY,SALNTY_FLAG_W,CTDOXY,CTDOXY_FLAG_W,OXYGEN,OXYGEN_FLAG_W,SILCAT,SILCAT_FLAG_W,NITRAT,NITRAT_FLAG_W,PHSPHT,PHSPHT_FLAG_W,DELHE3,DELHE3_FLAG_W
,,,,,,,,,DBAR,,ITS-90,,PSS-78,,PSS-78,,UMOL/KG,,UMOL/KG,,UMOL/KG,,UMOL/KG,,UMOL/KG,,PERCNT,
74JC19990315,  Albatross,      65,          1,         13,19990403,       0854,     -60.52,     -47.69,    10.3,2,   0.8686,2,  34.0298,2,  34.0303,2,    328.4,2,  329.23,2,   74.43,2,   23.54,2,    1.69,2, -999.00,9
74JC19990315,  Albatross,      65,          1,         12,19990403,       0854,     -60.52,     -47.69,    56.1,2,   0.8591,2,  34.0317,2,  34.0303,2,    329.3,2,  328.45,2,   74.72,2,   24.03,2,    1.69,2, -999.00,9
74JC19990315,  Albatross,      65,          1,         11,19990403,       0854,     -60.52,     -47.69,   107.3,2,   0.5819,2,  34.0937,2,  34.1005,2,    320.9,2,  311.59,2,   77.85,2,   25.49,2,    1.82,2, -999.00,9
74JC19990315,  Albatross,      65,          1,         10,19990403,       0854,     -60.52,     -47.69,   259.9,2,  -0.2951,2,  34.5479,2,  34.5477,2,    240.9,2,  241.01,2,   97.54,2,   32.61,2,    2.16,2, -999.00,9
74JC19990315,  Albatross,      65,          1,          9,19990403,       0854,     -60.52,     -47.69,   514.2,2,   0.3728,2,  34.6662,2,  34.6674,2,    207.9,2,  208.70,2,  113.55,2,   33.68,2,    2.19,2, -999.00,9
74JC19990315,  Albatross,      65,          1,          8,19990403,       0854,     -60.52,     -47.69,   765.6,2,   0.2760,2,  34.6706,2,  34.6709,2,    211.3,2,  211.13,2,  128.58,2,   33.20,2,    2.19,2, -999.00,9
74JC19990315,  Albatross,      65,          1,          7,19990403,       0854,     -60.52,     -47.69,  1022.8,2,   0.1799,2,  34.6691,2,  34.6690,2,    215.3,2,  213.27,2,  122.33,2,   33.59,2,    2.19,2, -999.00,9
74JC19990315,  Albatross,      65,          1,          6,19990403,       0854,     -60.52,     -47.69,  1275.9,2,  -0.0547,2,  34.6597,2,  34.6599,2,    220.7,2,  222.71,2,  120.77,2,   33.10,2,    2.19,2, -999.00,9
74JC19990315,  Albatross,      65,          1,          5,19990403,       0854,     -60.52,     -47.69,  1431.5,2,  -0.3158,2,  34.6488,2,  34.6493,2,    236.8,2,  234.67,2,  115.50,2,   32.90,2,    2.15,2,    4.87,2
74JC19990315,  Albatross,      65,          1,          4,19990403,       0854,     -60.52,     -47.69,  1533.7,2,  -0.3552,2,  34.6467,2,  34.6456,2,    236.2,2,  236.72,2,  113.84,2,   33.10,2,    2.14,2,    4.59,2
74JC19990315,  Albatross,      65,          1,          3,19990403,       0854,     -60.52,     -47.69,  1580.8,2,  -0.3825,2,  34.6453,2,  34.6456,2,    237.9,2,  237.88,2,  114.53,2,   33.10,2,    2.16,2, -999.00,9
74JC19990315,  Albatross,      65,          1,          2,19990403,       0854,     -60.52,     -47.69,  1609.6,2,  -0.3970,2,  34.6447,2,  34.6448,2,    238.3,2,  238.76,2,  114.72,2,   33.00,2,    2.14,2,    5.88,2
74JC19990315,  Albatross,      65,          1,          1,19990403,       0854,     -60.52,     -47.69,  1607.5,2,  -0.3960,2,  34.6449,2,  34.6446,2,    238.7,2,  239.34,2,  115.79,2,   32.81,2,    2.16,2, -999.00,9
74JC19990315,  Albatross,      66,          1,         10,19990403,       1109,     -60.53,      -47.6,     9.3,2,   0.8538,2,  34.0264,2,  34.0252,2,    327.0,2,  328.93,2,   73.65,2,   22.86,2,    1.68,2, -999.00,9
74JC19990315,  Albatross,      66,          1,          9,19990403,       1109,     -60.53,      -47.6,    55.5,2,   0.8457,2,  34.0302,2,  34.0316,2,    328.2,2,  328.25,2,   73.85,2,   23.05,2,    1.68,2, -999.00,9
74JC19990315,  Albatross,      66,          1,          8,19990403,       1109,     -60.53,      -47.6,   106.6,2,   0.3065,2,  34.1423,2,  34.1420,2,    303.2,2,  300.66,2,   79.31,2,   25.20,2,    1.87,2, -999.00,9
74JC19990315,  Albatross,      66,          1,          7,19990403,       1109,     -60.53,      -47.6,   258.3,2,  -0.1952,2,  34.5678,2,  34.5681,2,    231.6,2,  233.71,2,   99.98,2,   31.93,2,    2.18,2, -999.00,9
74JC19990315,  Albatross,      66,          1,          6,19990403,       1109,     -60.53,      -47.6,   509.7,2,   0.2424,2,  34.6471,2,  34.6466,2,    214.1,2,  212.59,2,  111.89,2,   32.32,2,    2.17,2, -999.00,9
74JC19990315,  Albatross,      66,          1,          5,19990403,       1109,     -60.53,      -47.6,   778.0,2,   0.2542,2,  34.6706,2,  34.6715,2,    212.3,2,  210.35,2,  119.21,2,   32.41,2,    2.16,2, -999.00,9
74JC19990315,  Albatross,      66,          1,          4,19990403,       1109,     -60.53,      -47.6,   880.0,2,   0.2063,2,  34.6710,2,  34.6709,2,    211.6,2,  211.81,2,  120.28,2,   32.61,2,    2.17,2, -999.00,9
74JC19990315,  Albatross,      66,          1,          3,19990403,       1109,     -60.53,      -47.6,   926.9,2,   0.1972,2,  34.6705,2,  34.6695,2,    212.1,2,  211.71,2,  125.26,2,   33.00,2,    2.23,2, -999.00,9
74JC19990315,  Albatross,      66,          1,          2,19990403,       1109,     -60.53,      -47.6,   978.8,2,   0.2065,2,  34.6698,2,  34.6691,2,    209.2,2,  211.61,2,  120.67,2,   32.90,2,    2.19,2, -999.00,9
74JC19990315,  Albatross,      66,          1,          1,19990403,       1109,     -60.53,      -47.6,   979.0,2,   0.2067,2,  34.6698,2,  34.6709,2,   -999.0,9,  211.61,2,  119.89,2,   33.00,2,    2.17,2, -999.00,9
74JC19990315,  Albatross,      67,          1,          9,19990403,       1314,     -60.56,     -47.24,     8.2,2,   0.9215,2,  34.0204,2,  34.0215,2,    323.9,2,  326.89,2,   71.40,2,   22.86,2,    1.63,2,   -1.49,2
74JC19990315,  Albatross,      67,          1,          8,19990403,       1314,     -60.56,     -47.24,    54.3,2,   0.9221,2,  34.0209,2,  34.0199,2,    329.6,2,  326.70,2,   71.89,2,   23.15,2,    1.64,2, -999.00,9
74JC19990315,  Albatross,      67,          1,          7,19990403,       1314,     -60.56,     -47.24,   105.1,2,   0.5975,2,  34.1333,2,  34.1336,2,    308.5,2,  307.98,2,   77.36,2,   24.71,2,    1.80,2,   -0.75,2
74JC19990315,  Albatross,      67,          1,          6,19990403,       1314,     -60.56,     -47.24,   231.1,2,  -0.3140,2,  34.5011,2,  34.5028,2,    242.1,2,  241.90,2,   97.94,2,   31.44,2,    2.12,2,    3.48,2
74JC19990315,  Albatross,      67,          1,          5,19990403,       1314,     -60.56,     -47.24,   289.0,2,  -0.0209,2,  34.5932,2,  34.5901,2,    223.6,2,  222.13,2,  105.45,2,   32.03,2,    2.16,2,    4.89,2
74JC19990315,  Albatross,      67,          1,          4,19990403,       1314,     -60.56,     -47.24,   390.5,2,   0.2096,2,  34.6449,2,  34.6448,2,    213.7,2,  211.71,2,  111.11,2,   32.22,2,    2.15,2,    7.58,2
74JC19990315,  Albatross,      67,          1,          3,19990403,       1314,     -60.56,     -47.24,   441.4,2,   0.2394,2,  34.6545,2,  34.6544,2,    212.0,2,  210.16,2,  113.65,2,   32.22,2,    2.17,2, -999.00,9
74JC19990315,  Albatross,      67,          1,          2,19990403,       1314,     -60.56,     -47.24,   486.5,2,   0.2426,2,  34.6550,2,  34.6562,2,    208.5,2,  210.64,2,  114.82,2,   32.32,2,    2.17,2,    7.56,2
74JC19990315,  Albatross,      67,          1,          1,19990403,       1314,     -60.56,     -47.24,   486.5,2,   0.2426,2,  34.6550,2,  34.6550,2,    208.5,2,  210.64,2,  113.74,2,   32.22,2,    2.16,2,    7.56,2
74JC19990315,  Albatross,      68,          1,          7,19990403,       1439,     -60.58,      -47.0,     9.4,2,   0.9579,2,  34.0279,2,  34.0267,2,    323.8,2,  325.53,2,   72.28,2,   23.35,2,    1.71,2, -999.00,9
74JC19990315,  Albatross,      68,          1,          6,19990403,       1439,     -60.58,      -47.0,    55.4,2,   0.9101,2,  34.0317,2,  34.0330,2,    326.4,2,  324.75,2,   72.77,2,   23.54,2,    1.67,2, -999.00,9
74JC19990315,  Albatross,      68,          1,          5,19990403,       1439,     -60.58,      -47.0,   105.7,2,   0.4505,2,  34.1582,2,-999.0000,9,    305.1,2, -999.00,9, -999.00,9, -999.00,9, -999.00,9, -999.00,9
74JC19990315,  Albatross,      68,          1,          4,19990403,       1439,     -60.58,      -47.0,   151.7,2,   0.0350,2,  34.2842,2,  34.2841,2,    277.2,2,  277.76,2,   88.19,2,   28.13,2,    1.97,2, -999.00,9
74JC19990315,  Albatross,      68,          1,          3,19990403,       1439,     -60.58,      -47.0,   202.4,2,  -0.2150,2,  34.4582,2,  34.4591,2,    247.7,2,  245.99,2,   99.02,2,   31.05,2,    2.14,2, -999.00,9
74JC19990315,  Albatross,      68,          1,          2,19990403,       1439,     -60.58,      -47.0,   246.2,2,  -0.1238,2,  34.5457,2,  34.5426,2,    227.9,2,  228.28,2,  105.45,2,   32.03,2,    2.20,2, -999.00,9
74JC19990315,  Albatross,      68,          1,          1,19990403,       1439,     -60.58,      -47.0,   246.4,2,  -0.1238,2,  34.5451,2,  34.5473,2,    227.8,2,  228.46,2,  105.65,2,   31.93,2,    2.18,2, -999.00,9
74JC19990315,  Albatross,      69,          1,          7,19990403,       2334,     -60.92,      -44.0,     8.1,2,   1.3621,2,  33.9579,2,  33.9579,2,    325.8,2,  327.70,2,   58.12,2,   23.05,2,    1.47,2, -999.00,9
74JC19990315,  Albatross,      69,          1,          6,19990403,       2334,     -60.92,      -44.0,    53.8,2,   1.3636,2,  33.9582,2,  33.9585,2,    328.2,2,  327.01,2,   58.71,2,   22.86,2,    1.47,2, -999.00,9
74JC19990315,  Albatross,      69,          1,          5,19990403,       2334,     -60.92,      -44.0,   105.0,2,  -0.9023,2,  34.2892,2,  34.2885,2,    292.9,2,  290.78,2,   83.79,2,   30.18,2,    2.00,2, -999.00,9
74JC19990315,  Albatross,      69,          1,          4,19990403,       2334,     -60.92,      -44.0,   155.6,2,  -1.0723,2,  34.4204,2,  34.4215,2,    259.6,2,  263.02,2,   91.60,2,   32.22,2,    2.11,2,    2.40,2
74JC19990315,  Albatross,      69,          1,          3,19990403,       2334,     -60.92,      -44.0,   206.3,2,  -0.2894,2,  34.5642,2,  34.5628,2,    218.2,2,  212.40,2,  113.65,2,   33.98,2,    2.27,2, -999.00,9
74JC19990315,  Albatross,      69,          1,          2,19990403,       2334,     -60.92,      -44.0,   250.1,2,  -0.2680,2,  34.5671,2,  34.5668,2,    209.1,2,  210.85,2,  115.61,2,   34.08,2,    2.42,2,    5.70,2
74JC19990315,  Albatross,      69,          1,          1,19990403,       2334,     -60.92,      -44.0,   250.1,2,  -0.2680,2,  34.5671,2,  34.5681,2,    209.1,2,  211.33,2,  116.39,2,   34.08,2,    2.29,2,    5.70,2
74JC19990315,  Albatross,      70,          1,          9,19990404,       1320,     -60.76,     -42.96,     7.7,2,   0.8204,2,  33.9985,2,  33.9980,2,    331.2,2,  330.31,2,   60.17,2,   24.52,2,    1.44,2, -999.00,9
74JC19990315,  Albatross,      70,          1,          8,19990404,       1320,     -60.76,     -42.96,    53.4,2,   0.8301,2,  34.0040,2,  33.9997,2,    327.3,2,  328.36,2,   59.88,2,   24.13,2,    1.47,2, -999.00,9
74JC19990315,  Albatross,      70,          1,          7,19990404,       1320,     -60.76,     -42.96,   104.5,2,  -0.5158,2,  34.4447,2,  34.4440,2,    254.2,2,  254.07,2,   92.47,2,   31.05,2,    1.98,2, -999.00,9
74JC19990315,  Albatross,      70,          1,          6,19990404,       1320,     -60.76,     -42.96,   257.3,2,   0.0504,2,  34.6176,2,  34.6187,2,    217.5,2,  216.78,2,  107.01,2,   32.51,2,    2.09,2, -999.00,9
74JC19990315,  Albatross,      70,          1,          5,19990404,       1320,     -60.76,     -42.96,   312.4,2,   0.1081,2,  34.6275,2,  34.6285,2,    213.0,2,  214.54,2,  109.45,2,   32.71,2,    2.08,2, -999.00,9
74JC19990315,  Albatross,      70,          1,          4,19990404,       1320,     -60.76,     -42.96,   413.2,2,   0.1327,2,  34.6336,2,  34.6336,2,    212.6,2,  212.50,2,  111.01,2,   32.42,2,    2.13,2, -999.00,9
74JC19990315,  Albatross,      70,          1,          3,19990404,       1320,     -60.76,     -42.96,   463.8,2,   0.1782,2,  34.6519,2,  34.6531,2,    213.1,2,  209.77,2,  119.41,2,   32.90,2,    2.13,2, -999.00,9
74JC19990315,  Albatross,      70,          1,          2,19990404,       1320,     -60.76,     -42.96,   504.8,2,   0.1725,2,  34.6588,2,  34.6570,2,    209.1,2,  210.55,2,  118.92,2,   32.51,2,    2.16,2, -999.00,9
74JC19990315,  Albatross,      70,          1,          1,19990404,       1320,     -60.76,     -42.96,   504.8,2,   0.1721,2,  34.6588,2,  34.6584,2,    209.1,2,  209.96,2,  119.99,2,   33.00,2,    2.14,2, -999.00,9
74JC19990315,  Albatross,      71,          1,         12,19990404,       1500,     -60.74,     -42.79,     8.8,2,   0.8156,2,  33.9846,2,  33.9839,2,    328.9,2,  328.75,2,   61.44,2,   24.42,2,    1.45,2, -999.00,9
74JC19990315,  Albatross,      71,          1,         11,19990404,       1500,     -60.74,     -42.79,    54.6,2,   0.8003,2,  33.9843,2,  33.9845,2,    328.7,2,  328.95,2,   61.74,2,   24.23,2,    1.43,2, -999.00,9
74JC19990315,  Albatross,      71,          1,         10,19990404,       1500,     -60.74,     -42.79,   106.0,2,  -0.4918,2,  34.3723,2,  34.3723,2,    266.7,2,  266.45,2,   87.79,2,   30.27,2,    1.89,2,    1.81,2
74JC19990315,  Albatross,      71,          1,          9,19990404,       1500,     -60.74,     -42.79,   258.6,2,   0.1156,2,  34.6244,2,  34.6242,2,    213.2,2,  213.86,2,  105.06,2,   32.71,2,    2.10,2,    4.10,2
74JC19990315,  Albatross,      71,          1,          8,19990404,       1500,     -60.74,     -42.79,   511.8,2,   0.3857,2,  34.6706,2,  34.6713,2,    205.7,2,  205.20,2,  114.23,2,   32.71,2,    2.06,2,    8.32,2
74JC19990315,  Albatross,      71,          1,          7,19990404,       1500,     -60.74,     -42.79,   765.9,2,   0.1980,2,  34.6682,2,  34.6691,2,    209.6,2,  210.06,2,  119.60,2,   32.61,2,    2.06,2,    7.23,2
74JC19990315,  Albatross,      71,          1,          6,19990404,       1500,     -60.74,     -42.79,  1021.1,2,   0.1067,2,  34.6664,2,  34.6658,2,    214.5,2,  213.66,2,  121.26,2,   32.80,2,    2.08,2, -999.00,9
74JC19990315,  Albatross,      71,          1,          5,19990404,       1500,     -60.74,     -42.79,  1162.3,2,   0.0711,2,  34.6650,2,  34.6650,2,    215.9,2,  215.21,2,  122.24,2,   32.71,2,    2.07,2, -999.00,9
74JC19990315,  Albatross,      71,          1,          4,19990404,       1500,     -60.74,     -42.79,  1266.1,2,   0.0086,2,  34.6628,2,  34.6635,2,    217.9,2,  217.74,2,  121.07,2,   33.00,2,    2.10,2,    7.38,2
74JC19990315,  Albatross,      71,          1,          3,19990404,       1500,     -60.74,     -42.79,  1316.8,2,   0.0025,2,  34.6626,2,  34.6627,2,    219.0,2,  218.62,2,  121.26,2,   33.00,2,    2.07,2, -999.00,9
74JC19990315,  Albatross,      71,          1,          2,19990404,       1500,     -60.74,     -42.79,  1361.0,2,  -0.0188,2,  34.6620,2,  34.6617,2,    218.7,2,  219.30,2,  121.55,2,   33.10,2,    2.09,2,    6.08,2
74JC19990315,  Albatross,      71,          1,          1,19990404,       1500,     -60.74,     -42.79,  1361.0,2,  -0.0190,2,  34.6620,2,  34.6613,2,    218.7,2,  219.49,2,  120.97,2,   33.20,2,    2.09,2, -999.00,9
74JC19990315,  Albatross,      72,          1,         11,19990404,       1735,     -60.68,     -42.39,     7.9,2,   0.4215,2,  33.9621,2,  33.9624,2,    331.9,2,  332.25,2,   66.43,2,   25.30,2,    1.42,2, -999.00,9
74JC19990315,  Albatross,      72,          1,         10,19990404,       1735,     -60.68,     -42.39,    53.7,2,   0.4140,2,  33.9624,2,  33.9616,2,    332.9,2,  332.44,2,   66.03,2,   25.59,2,    1.44,2, -999.00,9
74JC19990315,  Albatross,      72,          1,          9,19990404,       1735,     -60.68,     -42.39,   104.2,2,  -0.6198,2,  34.4739,2,  34.4740,2,    253.2,2,  253.28,2,   91.69,2,   31.54,2,    1.89,2, -999.00,9
74JC19990315,  Albatross,      72,          1,          8,19990404,       1735,     -60.68,     -42.39,   257.0,2,   0.4889,2,  34.6672,2,  34.6676,2,    202.9,2,  202.18,2,  109.15,2,   33.39,2,    1.98,2, -999.00,9
74JC19990315,  Albatross,      72,          1,          7,19990404,       1735,     -60.68,     -42.39,   510.8,2,   0.4213,2,  34.6807,2,  34.6809,2,    203.2,2,  203.73,2,  119.89,2,   33.19,2,    2.02,2, -999.00,9
74JC19990315,  Albatross,      72,          1,          6,19990404,       1735,     -60.68,     -42.39,   765.5,2,   0.1550,2,  34.6693,2,  34.6709,2,    210.5,2,  211.32,2,  122.33,2,   33.20,2,    2.14,2, -999.00,9
74JC19990315,  Albatross,      72,          1,          5,19990404,       1735,     -60.68,     -42.39,   802.4,2,   0.1155,2,  34.6706,2,  34.6703,2,    212.5,2,  212.68,2,  123.31,2,   33.10,2,    2.02,2, -999.00,9
74JC19990315,  Albatross,      72,          1,          4,19990404,       1735,     -60.68,     -42.39,   906.0,2,   0.0259,2,  34.6659,2,  34.6666,2,    216.0,2,  215.60,2,  123.02,2,   33.68,2,    2.01,2, -999.00,9
74JC19990315,  Albatross,      72,          1,          3,19990404,       1735,     -60.68,     -42.39,   966.8,2,   0.0150,2,  34.6653,2,  34.6652,2,    218.2,2,  217.25,2,  122.63,2,   33.20,2,    2.15,2, -999.00,9
74JC19990315,  Albatross,      72,          1,          2,19990404,       1735,     -60.68,     -42.39,  1013.4,2,  -0.0102,2,  34.6648,2,  34.6646,2,    217.9,2,  218.23,2,  122.43,2,   33.00,2,    2.19,2, -999.00,9
74JC19990315,  Albatross,      72,          1,          1,19990404,       1735,     -60.68,     -42.39,  1013.3,2,  -0.0135,2,  34.6645,2,  34.6642,2,    217.8,2,  217.93,2,  121.26,2,   32.80,2,    2.01,2, -999.00,9
74JC19990315,  Albatross,      73,          1,         12,19990404,       1913,     -60.66,     -42.31,     9.1,2,   0.4067,2,  33.9633,2,  33.9639,2,    330.8,2,  331.38,2,   66.52,2,   26.08,2,    1.48,2,   -2.46,2
74JC19990315,  Albatross,      73,          1,         11,19990404,       1913,     -60.66,     -42.31,    54.7,2,   0.4447,2,  33.9712,2,  33.9741,2,    333.2,2,  332.06,2,   67.01,2,   25.79,2,    1.50,2, -999.00,9
74JC19990315,  Albatross,      73,          1,         10,19990404,       1913,     -60.66,     -42.31,   105.7,2,  -0.6498,2,  34.3776,2,  34.3705,2,    308.1,2,  273.06,2,   85.15,2,   31.05,2,    2.22,2,    0.79,2
74JC19990315,  Albatross,      73,          1,          9,19990404,       1913,     -60.66,     -42.31,   257.7,2,   0.1327,2,  34.6260,2,  34.6260,2,    210.7,2,  213.86,2,  102.91,2,   33.00,2,    1.99,2, -999.00,9
74JC19990315,  Albatross,      73,          1,          8,19990404,       1913,     -60.66,     -42.31,   512.4,2,   0.5625,2,  34.6859,2,  34.6856,2,    202.1,2,  200.33,2,  116.77,2,   33.29,2,    1.99,2, -999.00,9
74JC19990315,  Albatross,      73,          1,          7,19990404,       1913,     -60.66,     -42.31,   766.5,2,   0.2701,2,  34.6771,2,  34.6772,2,    207.7,2,  207.33,2,  123.41,2,   33.49,2,    2.00,2, -999.00,9
74JC19990315,  Albatross,      73,          1,          6,19990404,       1913,     -60.66,     -42.31,  1020.3,2,   0.0575,2,  34.6685,2,  34.6674,2,    217.2,2,  215.41,2,  125.65,2,   33.78,2,    2.00,2, -999.00,9
74JC19990315,  Albatross,      73,          1,          5,19990404,       1913,     -60.66,     -42.31,  1352.9,2,  -0.0021,2,  34.6644,2,  34.6644,2,    219.9,2,  219.01,2,  124.68,2,   33.68,2,    1.99,2, -999.00,9
74JC19990315,  Albatross,      73,          1,          4,19990404,       1913,     -60.66,     -42.31,  1447.9,2,  -0.0042,2,  34.6633,2,  34.6631,2,    219.5,2,  219.98,2,  124.68,2,   33.39,2,    1.99,2,    5.99,2
74JC19990315,  Albatross,      73,          1,          3,19990404,       1913,     -60.66,     -42.31,  1504.7,2,   0.0008,2,  34.6635,2,  34.6637,2,    219.5,2,  219.30,2,  124.48,2,   33.29,2,    1.98,2, -999.00,9
74JC19990315,  Albatross,      73,          1,          2,19990404,       1913,     -60.66,     -42.31,  1551.7,2,  -0.0192,2,  34.6629,2,  34.6635,2,    219.2,2,  220.08,2,  124.46,2,   33.08,2,    1.95,2, -999.00,9
74JC19990315,  Albatross,      73,          1,          1,19990404,       1913,     -60.66,     -42.31,  1551.7,2,  -0.0192,2,  34.6629,2,  34.6631,2,    219.2,2,  220.47,2,  125.19,2,   33.24,2,    2.27,2, -999.00,9