BOTTLE,20140822SIOCCHAMB
EXPOCODE,SECT_ID,STNNBR,CASTNO,BTLNBR,DATE,TIME,LATITUDE,LONGITUDE,CTDPRS,CTDPRS_FLAG_W,CTDTMP,CTDTMP_FLAG_W,CTDSAL,CTDSAL_FLAG_W,SALNTY,SALNTY_FLAG_W,CTDOXY,CTDOXY_FLAG_W,OXYGEN,OXYGEN_FLAG_W,SILCAT,SILCAT_FLAG_W,NITRAT,NITRAT_FLAG_W,PHSPHT,PHSPHT_FLAG_W,DELHE3,DELHE3_FLAG_W
,,,,,,,,,DBAR,,ITS-90,,PSS-78,,PSS-78,,UMOL/KG,,UMOL/KG,,UMOL/KG,,UMOL/KG,,UMOL/KG,,PERCNT,
74JC19990315,  Albatross,      85,          1,         16,19990406,       1208,     -60.42,     -38.71,    13.3,2,   0.6740,2,  34.0459,2,  34.0461,2,    330.6,2,  330.39,2,   68.37,2,   25.69,2,    1.59,2, -999.00,9
74JC19990315,  Albatross,      85,          1,         15,19990406,       1208,     -60.42,     -38.71,    56.0,2,   0.6784,2,  34.0461,2,  34.0457,2,    330.4,2,  330.58,2,   68.47,2,   26.08,2,    1.60,2, -999.00,9
74JC19990315,  Albatross,      85,          1,         14,19990406,       1208,     -60.42,     -38.71,   107.6,2,  -0.5773,2,  34.2900,2,  34.2900,2,    292.5,2,  291.96,2,   81.06,2,   29.88,2,    2.00,2, -999.00,9
74JC19990315,  Albatross,      85,          1,         13,19990406,       1208,     -60.42,     -38.71,   260.2,2,   0.0662,2,  34.6211,2,  34.6209,2,    215.1,2,  215.12,2,  101.83,2,   33.78,2,    2.20,2, -999.00,9
74JC19990315,  Albatross,      85,          1,         12,19990406,       1208,     -60.42,     -38.71,   514.0,2,   0.5917,2,  34.6845,2,  34.6845,2,    199.6,2,  199.07,2,  113.94,2,   33.59,2,    2.21,2, -999.00,9
74JC19990315,  Albatross,      85,          1,         11,19990406,       1208,     -60.42,     -38.71,   768.1,2,   0.5225,2,  34.6866,2,  34.6870,2,    200.6,2,  200.04,2,  119.01,2,   33.78,2,    2.21,2, -999.00,9
74JC19990315,  Albatross,      85,          1,         10,19990406,       1208,     -60.42,     -38.71,  1022.2,2,   0.3242,2,  34.6801,2,  34.6790,2,    204.8,2,  205.58,2,  122.63,2,   33.98,2,    2.22,2, -999.00,9
74JC19990315,  Albatross,      85,          1,          9,19990406,       1208,     -60.42,     -38.71,  1278.0,2,   0.1723,2,  34.6730,2,  34.6733,2,    211.6,2,  211.13,2,  124.58,2,   33.49,2,    2.21,2, -999.00,9
74JC19990315,  Albatross,      85,          1,          8,19990406,       1208,     -60.42,     -38.71,  1534.1,2,   0.0720,2,  34.6705,2,  34.6707,2,    214.7,2,  215.21,2,  126.92,2,   33.88,2,    2.40,2, -999.00,9
74JC19990315,  Albatross,      85,          1,          7,19990406,       1208,     -60.42,     -38.71,  1789.1,2,   0.0003,2,  34.6665,2,  34.6680,2,    217.6,2,  218.91,2,  127.70,2,   33.98,2,    2.33,2, -999.00,9
74JC19990315,  Albatross,      85,          1,          6,19990406,       1208,     -60.42,     -38.71,  2044.7,2,  -0.0929,2,  34.6635,2,  34.6640,2,    223.0,2,  223.29,2,  126.34,2,   33.78,2,    2.32,2, -999.00,9
74JC19990315,  Albatross,      85,          1,          5,19990406,       1208,     -60.42,     -38.71,  2424.6,2,  -0.1895,2,  34.6579,2,  34.6599,2,    228.7,2,  229.22,2,  123.99,2,   33.78,2,    2.31,2, -999.00,9
74JC19990315,  Albatross,      85,          1,          4,19990406,       1208,     -60.42,     -38.71,  2527.1,2,  -0.1917,2,  34.6575,2,  34.6560,2,    229.8,2,  229.32,2,  123.51,2,   33.49,2,    2.28,2, -999.00,9
74JC19990315,  Albatross,      85,          1,          3,19990406,       1208,     -60.42,     -38.71,  2577.9,2,  -0.1890,2,  34.6573,2,  34.6580,2,    230.1,2,  229.22,2,  123.80,2,   33.39,2,    2.29,2, -999.00,9
74JC19990315,  Albatross,      85,          1,          2,19990406,       1208,     -60.42,     -38.71,  2624.3,2,  -0.1882,2,  34.6574,2,  34.6535,2,    230.0,2,  229.61,2,  124.87,2,   33.59,2,    2.27,2, -999.00,9
74JC19990315,  Albatross,      85,          1,          1,19990406,       1208,     -60.42,     -38.71,  2624.3,2,  -0.1882,2,  34.6574,2,  34.6542,2,    230.0,2,  230.00,2,  124.29,2,   33.10,2,    2.28,2, -999.00,9
74JC19990315,  Albatross,      86,          1,         18,19990406,       1631,     -60.44,      -38.0,     9.7,2,   1.2458,2,  33.9072,2,  33.9082,2,    332.8,2,  327.80,2,   62.62,2,   24.62,2,    1.51,2,   -1.45,2
74JC19990315,  Albatross,      86,          1,         17,19990406,       1631,     -60.44,      -38.0,    53.0,2,   0.9867,2,  33.9625,2,  34.2029,2,    320.8,2,  328.75,2,   67.79,2,   25.98,2,    1.61,2, -999.00,9
74JC19990315,  Albatross,      86,          1,         16,19990406,       1631,     -60.44,      -38.0,   103.6,2,  -0.5719,2,  34.3030,2,  34.3553,2,    287.2,2,  280.86,2,   84.96,2,   31.35,2,    2.02,2, -999.00,9
74JC19990315,  Albatross,      86,          1,         15,19990406,       1631,     -60.44,      -38.0,   154.6,2,  -0.9796,2,  34.4813,2,  34.4819,2,    252.5,2,  257.56,2,   90.03,2,   32.81,2,    2.09,2,    2.71,2
74JC19990315,  Albatross,      86,          1,         14,19990406,       1631,     -60.44,      -38.0,   256.4,2,  -0.0420,2,  34.6068,2,  34.6060,2,    219.4,2,  219.02,2,  101.15,2,   33.59,2,    2.23,2,    6.15,2
74JC19990315,  Albatross,      86,          1,         13,19990406,       1631,     -60.44,      -38.0,   510.3,2,   0.5783,2,  34.6797,2,  34.6815,2,    199.8,2,  198.68,2,  113.35,2,   34.27,2,    2.26,2,    8.86,2
74JC19990315,  Albatross,      86,          1,         12,19990406,       1631,     -60.44,      -38.0,   764.6,2,   0.5481,2,  34.6872,2,  34.6839,2,    200.9,2,  199.65,2,  120.28,2,   34.76,2,    2.26,2, -999.00,9
74JC19990315,  Albatross,      86,          1,         11,19990406,       1631,     -60.44,      -38.0,  1018.3,2,   0.3549,2,  34.6789,2,  34.6711,2,    207.4,2,  208.21,2,  123.21,2,   34.17,2,    2.26,2,    8.46,2
74JC19990315,  Albatross,      86,          1,         10,19990406,       1631,     -60.44,      -38.0,  1273.7,2,   0.2542,2,  34.6773,2,  34.6774,2,    207.1,2,  207.23,2,  128.00,2,   34.66,2,    2.28,2, -999.00,9
74JC19990315,  Albatross,      86,          1,          9,19990406,       1631,     -60.44,      -38.0,  1530.0,2,   0.1473,2,  34.6729,2,  34.6719,2,    211.6,2,  211.51,2,  128.58,2,   34.07,2,    2.27,2,    7.79,2
74JC19990315,  Albatross,      86,          1,          8,19990406,       1631,     -60.44,      -38.0,  1785.7,2,   0.0368,2,  34.6678,2,  34.6625,2,    216.8,2,  217.45,2,  127.70,2,   33.88,2,    2.27,2, -999.00,9
74JC19990315,  Albatross,      86,          1,          7,19990406,       1631,     -60.44,      -38.0,  2042.9,2,  -0.0723,2,  34.6631,2,  34.6633,2,    221.8,2,  222.41,2,  127.80,2,   34.07,2,    2.27,2,    7.88,2
74JC19990315,  Albatross,      86,          1,          6,19990406,       1631,     -60.44,      -38.0,  2556.3,2,  -0.2256,2,  34.6548,2,  34.6580,2,    232.4,2,  230.97,2,  125.46,2,   33.29,2,    2.24,2,    5.53,2
74JC19990315,  Albatross,      86,          1,          5,19990406,       1631,     -60.44,      -38.0,  2744.0,2,  -0.3432,2,  34.6471,2,  34.6497,2,    237.7,2,  237.20,2,  120.68,2,   33.39,2,    2.22,2,    5.25,2
74JC19990315,  Albatross,      86,          1,          4,19990406,       1631,     -60.44,      -38.0,  2846.7,2,  -0.4435,2,  34.6419,2,  34.6466,2,    241.4,2,  241.58,2,  118.63,2,   33.29,2,    2.23,2,    4.48,2
74JC19990315,  Albatross,      86,          1,          3,19990406,       1631,     -60.44,      -38.0,  2896.8,2,  -0.5140,2,  34.6399,2,  34.6393,2,    244.3,2,  245.08,2,  115.70,2,   33.29,2,    2.20,2, -999.00,9
74JC19990315,  Albatross,      86,          1,          2,19990406,       1631,     -60.44,      -38.0,  2943.6,2,  -0.5388,2,-999.0000,9,  34.6389,2,   -999.0,9, -999.00,9, -999.00,9, -999.00,9, -999.00,9, -999.00,9
74JC19990315,  Albatross,      86,          1,          1,19990406,       1631,     -60.44,      -38.0,  2943.6,2,  -0.5388,2,-999.0000,9,  34.6374,2,   -999.0,9, -999.00,9, -999.00,9, -999.00,9, -999.00,9, -999.00,9
74JC19990315,  Albatross,      87,          1,         15,19990406,       2047,     -60.46,     -37.37,    11.2,2,   0.9705,2,  33.9029,2,  33.9027,2,    326.4,2,  327.21,2,   63.50,2,   24.23,2,    1.61,2, -999.00,9
74JC19990315,  Albatross,      87,          1,         14,19990406,       2047,     -60.46,     -37.37,    54.3,2,   0.9752,2,  33.9038,2,  33.9031,2,    328.2,2,  327.22,2,   63.89,2,   24.23,2,    1.59,2, -999.00,9
74JC19990315,  Albatross,      87,          1,         13,19990406,       2047,     -60.46,     -37.37,   104.6,2,  -0.6843,2,  34.2620,2,  34.2618,2,    282.2,2,  282.81,2,   82.82,2,   31.94,2,    2.17,2, -999.00,9
74JC19990315,  Albatross,      87,          1,         12,19990406,       2047,     -60.46,     -37.37,   257.8,2,   0.6274,2,  34.5975,2,  34.5989,2,    211.6,2,  212.41,2,   95.10,2,   33.39,2,    2.20,2, -999.00,9
74JC19990315,  Albatross,      87,          1,         11,19990406,       2047,     -60.46,     -37.37,   511.6,2,   0.5659,2,  34.6564,2,  34.6564,2,    207.2,2,  206.85,2,  107.79,2,   33.39,2,    2.18,2, -999.00,9
74JC19990315,  Albatross,      87,          1,         10,19990406,       2047,     -60.46,     -37.37,   765.7,2,   0.5322,2,  34.6747,2,  34.6744,2,    204.0,2,  203.93,2,  114.62,2,   33.78,2,    2.21,2, -999.00,9
74JC19990315,  Albatross,      87,          1,          9,19990406,       2047,     -60.46,     -37.37,  1020.6,2,   0.4613,2,  34.6816,2,  34.6813,2,    206.4,2,  206.65,2,  120.09,2,   33.88,2,    2.22,2, -999.00,9
74JC19990315,  Albatross,      87,          1,          8,19990406,       2047,     -60.46,     -37.37,  1267.3,2,   0.3668,2,  34.6788,2,  34.6788,2,    208.9,2,  207.92,2,  122.24,2,   33.68,2,    2.22,2, -999.00,9
74JC19990315,  Albatross,      87,          1,          7,19990406,       2047,     -60.46,     -37.37,  1502.1,2,   0.2861,2,  34.6765,2,  34.6764,2,    209.5,2,  209.67,2,  123.21,2,   33.59,2,    2.29,2, -999.00,9
74JC19990315,  Albatross,      87,          1,          6,19990406,       2047,     -60.46,     -37.37,  1781.3,2,   0.1764,2,  34.6722,2,  34.6727,2,    214.2,2,  213.56,2,  124.48,2,   33.68,2,    2.21,2, -999.00,9
74JC19990315,  Albatross,      87,          1,          5,19990406,       2047,     -60.46,     -37.37,  1896.6,2,   0.1391,2,  34.6708,2,  34.6717,2,    215.3,2,  214.73,2,  124.97,2,   34.27,2,    2.22,2, -999.00,9
74JC19990315,  Albatross,      87,          1,          4,19990406,       2047,     -60.46,     -37.37,  2000.7,2,   0.0698,2,  34.6693,2,  34.6690,2,    217.4,2,  217.06,2,  125.56,2,   33.59,2,    2.23,2, -999.00,9
74JC19990315,  Albatross,      87,          1,          3,19990406,       2047,     -60.46,     -37.37,  2051.4,2,   0.0221,2,  34.6675,2,  34.6674,2,    219.1,2,  219.10,2,  126.63,2,   33.88,2,    2.20,2, -999.00,9
74JC19990315,  Albatross,      87,          1,          2,19990406,       2047,     -60.46,     -37.37,  2096.9,2,   0.0181,2,  34.6674,2,  34.6668,2,    218.6,2,  219.30,2,  127.12,2,   33.78,2,    2.21,2, -999.00,9
74JC19990315,  Albatross,      87,          1,          1,19990406,       2047,     -60.46,     -37.37,  2096.9,2,   0.0181,2,  34.6674,2,  34.6672,2,    218.6,2,  219.49,2,  127.41,2,   33.49,2,    2.20,2, -999.00,9
74JC19990315,  Albatross,      88,          1,         14,19990407,       0134,     -60.38,      -36.4,    10.2,2,   0.9324,2,  33.9182,2,  33.9178,2,    322.6,2,  324.57,2,   65.16,2,   24.62,2,    1.62,2,   -0.97,2
74JC19990315,  Albatross,      88,          1,         13,19990407,       0134,     -60.38,      -36.4,    55.6,2,   0.9257,2,  33.9220,2,  33.9207,2,    327.0,2,  325.15,2,   65.35,2,   25.20,2,    1.63,2, -999.00,9
74JC19990315,  Albatross,      88,          1,         12,19990407,       0134,     -60.38,      -36.4,   107.3,2,  -0.7000,2,  34.3167,2,  34.3165,2,    264.9,2,  264.60,2,   90.14,2,   32.81,2,    2.17,2,    2.29,2
74JC19990315,  Albatross,      88,          1,         11,19990407,       0134,     -60.38,      -36.4,   260.0,2,   0.4916,2,  34.6171,2,  34.6178,2,    209.2,2,  210.84,2,  105.74,2,   33.29,2,    2.21,2,    7.53,2
74JC19990315,  Albatross,      88,          1,         10,19990407,       0134,     -60.38,      -36.4,   513.5,2,   0.5904,2,  34.6676,2,  34.6680,2,    204.5,2,  204.42,2,  112.47,2,   33.10,2,    2.23,2, -999.00,9
74JC19990315,  Albatross,      88,          1,          9,19990407,       0134,     -60.38,      -36.4,   767.5,2,   0.5284,2,  34.6781,2,  34.6786,2,    203.7,2,  203.54,2,  118.33,2,   33.00,2,    2.23,2,    9.06,2
74JC19990315,  Albatross,      88,          1,          8,19990407,       0134,     -60.38,      -36.4,  1021.2,2,   0.4343,2,  34.6803,2,  34.6815,2,    206.3,2,  205.00,2,  121.85,2,   33.29,2,    2.23,2, -999.00,9
74JC19990315,  Albatross,      88,          1,          7,19990407,       0134,     -60.38,      -36.4,  1277.1,2,   0.3484,2,  34.6786,2,  34.6788,2,    208.2,2,  207.04,2,  123.80,2,   33.39,2,    2.24,2,    8.87,2
74JC19990315,  Albatross,      88,          1,          6,19990407,       0134,     -60.38,      -36.4,  1532.4,2,   0.2459,2,  34.6753,2,  34.6750,2,    211.0,2,  210.05,2,  125.65,2,   33.39,2,    2.25,2, -999.00,9
74JC19990315,  Albatross,      88,          1,          5,19990407,       0134,     -60.38,      -36.4,  1706.4,2,   0.1684,2,  34.6725,2,  34.6731,2,    212.8,2,  212.29,2,  127.61,2, -999.00,9,    2.22,2,    7.31,2
74JC19990315,  Albatross,      88,          1,          4,19990407,       0134,     -60.38,      -36.4,  1808.4,2,   0.0838,2,  34.6699,2,  34.6691,2,    214.5,2,  214.33,2,  128.58,2,   32.80,2,    2.22,2, -999.00,9
74JC19990315,  Albatross,      88,          1,          3,19990407,       0134,     -60.38,      -36.4,  1859.1,2,   0.0627,2,  34.6687,2,  34.6688,2,    213.9,2,  215.31,2,  130.05,2,   33.00,2,    2.26,2, -999.00,9
74JC19990315,  Albatross,      88,          1,          2,19990407,       0134,     -60.38,      -36.4,  1902.5,2,   0.0600,2,  34.6684,2,  34.6682,2,    213.2,2,  213.95,2,  133.27,2,   32.90,2,    2.25,2,    6.35,2
74JC19990315,  Albatross,      88,          1,          1,19990407,       0134,     -60.38,      -36.4,  1902.5,2,   0.0600,2,  34.6684,2,  34.6678,2,    213.2,2,  213.95,2,  134.05,2,   33.29,2,    2.23,2,    6.35,2
74JC19990315,  Albatross,      89,          1,         13,19990407,       0723,     -60.31,     -35.46,    11.1,2,   0.8826,2,  33.9246,2,  33.9246,2,    322.0,2,  325.94,2,   67.21,2,   24.32,2,    1.72,2, -999.00,9
74JC19990315,  Albatross,      89,          1,         12,19990407,       0723,     -60.31,     -35.46,    57.4,2,   0.8580,2,  33.9301,2,  33.9278,2,    329.3,2,  325.94,2,   67.60,2,   24.42,2,    1.68,2, -999.00,9
74JC19990315,  Albatross,      89,          1,         11,19990407,       0723,     -60.31,     -35.46,   107.2,2,  -0.6466,2,  34.3093,2,  34.3065,2,    269.7,2,  269.86,2,   89.36,2,   31.54,2,    2.22,2, -999.00,9
74JC19990315,  Albatross,      89,          1,         10,19990407,       0723,     -60.31,     -35.46,   260.8,2,   0.5232,2,  34.6111,2,  34.6111,2,    211.4,2,  211.43,2,  101.05,2,   32.22,2,    2.23,2, -999.00,9
74JC19990315,  Albatross,      89,          1,          9,19990407,       0723,     -60.31,     -35.46,   514.3,2,   0.5577,2,  34.6592,2,  34.6597,2,    205.8,2,  206.27,2,  110.72,2,   32.71,2,    2.25,2, -999.00,9
74JC19990315,  Albatross,      89,          1,          8,19990407,       0723,     -60.31,     -35.46,   767.6,2,   0.5013,2,  34.6686,2,  34.6680,2,    206.5,2,  205.88,2,  115.21,2,   32.02,2,    2.31,2, -999.00,9
74JC19990315,  Albatross,      89,          1,          7,19990407,       0723,     -60.31,     -35.46,  1021.5,2,   0.4704,2,  34.6761,2,  34.6762,2,    207.0,2,  205.19,2,  119.50,2,   32.41,2,    2.27,2, -999.00,9
74JC19990315,  Albatross,      89,          1,          6,19990407,       0723,     -60.31,     -35.46,  1275.9,2,   0.4330,2,  34.6779,2,  34.6778,2,    205.4,2,  205.68,2,  120.97,2,   31.93,2,    2.27,2, -999.00,9
74JC19990315,  Albatross,      89,          1,          5,19990407,       0723,     -60.31,     -35.46,  1326.8,2,   0.4165,2,  34.6783,2,  34.6784,2,    205.5,2,  205.29,2,  125.26,2,   33.39,2,    2.31,2, -999.00,9
74JC19990315,  Albatross,      89,          1,          4,19990407,       0723,     -60.31,     -35.46,  1427.5,2,   0.4088,2,  34.6785,2,  34.6784,2,    206.4,2,  206.26,2,  123.11,2,   32.02,2,    2.25,2, -999.00,9
74JC19990315,  Albatross,      89,          1,          3,19990407,       0723,     -60.31,     -35.46,  1478.5,2,   0.4000,2,  34.6782,2,  34.6778,2,    206.2,2,  205.97,2,  124.87,2,   32.51,2,    2.29,2, -999.00,9
74JC19990315,  Albatross,      89,          1,          2,19990407,       0723,     -60.31,     -35.46,  1518.4,2,   0.3794,2,  34.6782,2,  34.6788,2,    205.0,2,  205.97,2,  125.26,2,   32.51,2,    2.35,2, -999.00,9
74JC19990315,  Albatross,      89,          1,          1,19990407,       0723,     -60.31,     -35.46,  1518.0,2,   0.3837,2,  34.6780,2,  34.6780,2,    205.0,2,  205.87,2,  124.68,2,   32.22,2,    2.25,2, -999.00,9
74JC19990315,  Albatross,      90,          1,          8,19990407,       1420,     -60.14,     -34.89,    11.0,2,   0.6575,2,  33.9871,2,  33.9866,2,    324.2,2,  324.85,2,   69.45,2,   25.50,2,    1.75,2, -999.00,9
74JC19990315,  Albatross,      90,          1,          7,19990407,       1420,     -60.14,     -34.89,    53.7,2,   0.6216,2,  33.9992,2,  33.9999,2,    325.1,2,  324.55,2,   70.92,2,   25.98,2,    1.78,2, -999.00,9
74JC19990315,  Albatross,      90,          1,          6,19990407,       1420,     -60.14,     -34.89,   104.3,2,  -0.3544,2,  34.2168,2,  34.2168,2,    283.5,2,  283.12,2,   83.89,2,   31.16,2,    2.12,2, -999.00,9
74JC19990315,  Albatross,      90,          1,          5,19990407,       1420,     -60.14,     -34.89,   188.5,2,   0.0242,2,  34.4978,2,  34.4979,2,    232.2,2,  233.05,2,   97.65,2,   32.03,2,    2.26,2, -999.00,9
74JC19990315,  Albatross,      90,          1,          4,19990407,       1420,     -60.14,     -34.89,   289.1,2,   0.4770,2,  34.6412,2,  34.6407,2,    209.0,2,  208.12,2,  111.01,2,   32.02,2,    2.27,2, -999.00,9
74JC19990315,  Albatross,      90,          1,          3,19990407,       1420,     -60.14,     -34.89,   335.1,2,   0.5001,2,  34.6514,2,  34.6515,2,    207.2,2,  206.46,2,  112.57,2,   32.32,2,    2.26,2, -999.00,9
74JC19990315,  Albatross,      90,          1,          2,19990407,       1420,     -60.14,     -34.89,   380.4,2,   0.5046,2,  34.6549,2,  34.6552,2,    205.7,2,  206.07,2,  112.86,2,   32.71,2,    2.25,2, -999.00,9
74JC19990315,  Albatross,      90,          1,          1,19990407,       1420,     -60.14,     -34.89,   380.4,2,   0.5046,2,  34.6549,2,  34.6548,2,    205.7,2,  206.46,2,  113.65,2,   32.12,2,    2.24,2, -999.00,9