BOTTLE,20140822SIOCCHAMB
EXPOCODE,SECT_ID,STNNBR,CASTNO,BTLNBR,DATE,TIME,LATITUDE,LONGITUDE,CTDPRS,CTDPRS_FLAG_W,CTDTMP,CTDTMP_FLAG_W,CTDSAL,CTDSAL_FLAG_W,SALNTY,SALNTY_FLAG_W,CTDOXY,CTDOXY_FLAG_W,OXYGEN,OXYGEN_FLAG_W,SILCAT,SILCAT_FLAG_W,NITRAT,NITRAT_FLAG_W,PHSPHT,PHSPHT_FLAG_W,DELHE3,DELHE3_FLAG_W
,,,,,,,,,DBAR,,ITS-90,,PSS-78,,PSS-78,,UMOL/KG,,UMOL/KG,,UMOL/KG,,UMOL/KG,,UMOL/KG,,PERCNT,
74JC19990315,  Albatross,      91,          1,         11,19990407,       1644,     -60.03,     -34.47,     8.0,2,   0.7310,2,  33.9682,2,  33.9683,2,    323.7,2,  325.05,2,   67.30,2,   24.52,2,    1.70,2,   -1.14,2
74JC19990315,  Albatross,      91,          1,         10,19990407,       1644,     -60.03,     -34.47,    53.8,2,   0.7233,2,  33.9699,2,  33.9700,2,    326.9,2,  325.54,2,   67.69,2,   25.10,2,    1.70,2, -999.00,9
74JC19990315,  Albatross,      91,          1,          9,19990407,       1644,     -60.03,     -34.47,   104.8,2,   0.1895,2,  34.0786,2,  34.0782,2,    304.8,2,  303.99,2,   74.33,2,   27.54,2,    1.89,2,   -0.62,2
74JC19990315,  Albatross,      91,          1,          8,19990407,       1644,     -60.03,     -34.47,   257.7,2,   0.4180,2,  34.5992,2,  34.5993,2,    215.1,2,  214.55,2,  101.84,2,   32.22,2,    2.23,2, -999.00,9
74JC19990315,  Albatross,      91,          1,          7,19990407,       1644,     -60.03,     -34.47,   511.1,2,   0.5835,2,  34.6643,2,  34.6646,2,    204.9,2,  205.39,2,  110.62,2,   31.73,2,    2.65,2,    8.44,2
74JC19990315,  Albatross,      91,          1,          6,19990407,       1644,     -60.03,     -34.47,   765.2,2,   0.5298,2,  34.6673,2,  34.6666,2,    205.6,2,  205.49,2,  114.13,2,   32.02,2,    2.25,2,    7.94,2
74JC19990315,  Albatross,      91,          1,          5,19990407,       1644,     -60.03,     -34.47,   821.4,2,   0.5342,2,  34.6709,2,  34.6699,2,    205.1,2,  205.68,2,  114.43,2,   31.93,2,    2.25,2, -999.00,9
74JC19990315,  Albatross,      91,          1,          4,19990407,       1644,     -60.03,     -34.47,   922.9,2,   0.5108,2,  34.6744,2,  34.6750,2,    206.1,2,  204.32,2,  116.48,2,   31.73,2,    2.23,2, -999.00,9
74JC19990315,  Albatross,      91,          1,          3,19990407,       1644,     -60.03,     -34.47,   975.5,2,   0.5056,2,  34.6748,2,  34.6752,2,    205.2,2,  205.10,2,  116.57,2,   32.12,2,    2.23,2, -999.00,9
74JC19990315,  Albatross,      91,          1,          2,19990407,       1644,     -60.03,     -34.47,  1020.5,2,   0.5051,2,  34.6752,2,  34.6754,2,    204.5,2,  205.39,2,  118.43,2,   31.93,2,    2.26,2,    8.32,2
74JC19990315,  Albatross,      91,          1,          1,19990407,       1644,     -60.03,     -34.47,  1020.5,2,   0.5051,2,  34.6752,2,  34.6754,2,    204.5,2,  205.00,2,  119.31,2,   31.54,2,    2.24,2,    8.32,2
74JC19990315,  Albatross,      92,          1,         12,19990407,       2000,     -59.93,     -33.85,     7.0,2,   0.5247,2,  34.0499,2,  34.0498,2,    317.7,2,  324.45,2,   70.13,2,   26.08,2,    1.79,2, -999.00,9
74JC19990315,  Albatross,      92,          1,         11,19990407,       2000,     -59.93,     -33.85,    53.2,2,   0.5179,2,  34.0526,2,  34.0522,2,    329.7,2,  323.86,2,   70.13,2,   25.98,2,    1.77,2, -999.00,9
74JC19990315,  Albatross,      92,          1,         10,19990407,       2000,     -59.93,     -33.85,   103.6,2,   0.0368,2,  34.1579,2,  34.1569,2,    298.3,2,  298.13,2,   77.06,2,   28.52,2,    1.96,2, -999.00,9
74JC19990315,  Albatross,      92,          1,          9,19990407,       2000,     -59.93,     -33.85,   256.4,2,   0.6470,2,  34.6316,2,  34.6297,2,    210.7,2,  207.34,2,  101.64,2,   32.42,2,    2.24,2, -999.00,9
74JC19990315,  Albatross,      92,          1,          8,19990407,       2000,     -59.93,     -33.85,   510.6,2,   0.5780,2,  34.6620,2,  34.6623,2,    203.3,2,  205.20,2,  108.47,2,   32.22,2,    2.23,2, -999.00,9
74JC19990315,  Albatross,      92,          1,          7,19990407,       2000,     -59.93,     -33.85,   764.1,2,   0.5350,2,  34.6720,2,  34.6721,2,    204.2,2,  204.90,2,  112.96,2,   32.12,2,    2.24,2, -999.00,9
74JC19990315,  Albatross,      92,          1,          6,19990407,       2000,     -59.93,     -33.85,  1018.7,2,   0.4756,2,  34.6767,2,  34.6764,2,    205.3,2,  204.90,2,  117.35,2,   32.71,2,    2.25,2, -999.00,9
74JC19990315,  Albatross,      92,          1,          5,19990407,       2000,     -59.93,     -33.85,  1106.4,2,   0.4544,2,  34.6773,2,  34.6768,2,    206.5,2,  206.07,2,  116.77,2,   32.71,2,    2.25,2, -999.00,9
74JC19990315,  Albatross,      92,          1,          4,19990407,       2000,     -59.93,     -33.85,  1209.1,2,   0.4048,2,  34.6770,2,  34.6770,2,    207.6,2,  206.65,2,  119.11,2,   31.93,2,    2.25,2, -999.00,9
74JC19990315,  Albatross,      92,          1,          3,19990407,       2000,     -59.93,     -33.85,  1259.0,2,   0.3932,2,  34.6769,2,  34.6774,2,    209.0,2,  207.62,2,  120.28,2,   32.71,2,    2.25,2, -999.00,9
74JC19990315,  Albatross,      92,          1,          2,19990407,       2000,     -59.93,     -33.85,  1305.2,2,   0.3988,2,  34.6770,2,  34.6768,2,    206.5,2,  208.01,2,  120.28,2,   32.12,2,    2.23,2, -999.00,9
74JC19990315,  Albatross,      92,          1,          1,19990407,       2000,     -59.93,     -33.85,  1305.2,2,   0.3988,2,  34.6770,2,  34.6772,2,    206.5,2,  207.82,2,  119.99,2,   32.02,2,    2.23,2, -999.00,9
74JC19990315,  Albatross,      93,          1,         13,19990407,       2312,     -59.85,     -33.28,     7.0,2,   0.5166,2,  34.0704,2,  34.0708,2,    321.8,2,  324.24,2,   69.74,2,   26.18,2,    1.69,2, -999.00,9
74JC19990315,  Albatross,      93,          1,         12,19990407,       2312,     -59.85,     -33.28,    52.3,2,   0.4922,2,  34.0790,2,  34.0786,2,    324.8,2,  322.58,2,   69.84,2,   26.27,2,    1.72,2, -999.00,9
74JC19990315,  Albatross,      93,          1,         11,19990407,       2312,     -59.85,     -33.28,   103.8,2,  -0.4020,2,  34.3786,2,  34.3709,2,    264.1,2,  263.72,2,   83.69,2,   31.05,2,    2.11,2, -999.00,9
74JC19990315,  Albatross,      93,          1,         10,19990407,       2312,     -59.85,     -33.28,   256.4,2,   0.4655,2,  34.6176,2,  34.6191,2,    211.3,2,  213.37,2,   97.93,2,   32.02,2,    2.17,2, -999.00,9
74JC19990315,  Albatross,      93,          1,          9,19990407,       2312,     -59.85,     -33.28,   509.2,2,   0.6032,2,  34.6731,2,  34.6731,2,    205.8,2,  204.42,2,  109.93,2,   31.83,2,    2.18,2, -999.00,9
74JC19990315,  Albatross,      93,          1,          8,19990407,       2312,     -59.85,     -33.28,   764.2,2,   0.5015,2,  34.6785,2,  34.6786,2,    205.3,2,  204.71,2,  115.79,2,   32.12,2,    2.20,2, -999.00,9
74JC19990315,  Albatross,      93,          1,          7,19990407,       2312,     -59.85,     -33.28,  1018.2,2,   0.3958,2,  34.6809,2,  34.6807,2,    205.5,2,  204.90,2,  120.38,2,   32.90,2,    2.22,2, -999.00,9
74JC19990315,  Albatross,      93,          1,          6,19990407,       2312,     -59.85,     -33.28,  1272.9,2,   0.2797,2,  34.6770,2,  34.6766,2,    208.7,2,  208.60,2,  120.87,2,   32.02,2,    2.19,2, -999.00,9
74JC19990315,  Albatross,      93,          1,          5,19990407,       2312,     -59.85,     -33.28,  1417.9,2,   0.2366,2,  34.6751,2,  34.6750,2,    209.9,2,  209.67,2,  121.06,2,   32.12,2,    2.20,2, -999.00,9
74JC19990315,  Albatross,      93,          1,          4,19990407,       2312,     -59.85,     -33.28,  1521.1,2,   0.2056,2,  34.6737,2,  34.6746,2,    211.6,2,  211.81,2,  122.24,2,   32.32,2,    2.21,2, -999.00,9
74JC19990315,  Albatross,      93,          1,          3,19990407,       2312,     -59.85,     -33.28,  1571.2,2,   0.2024,2,  34.6736,2,  34.6744,2,    212.1,2,  212.00,2,  122.43,2,   32.12,2,    2.20,2, -999.00,9
74JC19990315,  Albatross,      93,          1,          2,19990407,       2312,     -59.85,     -33.28,  1618.3,2,   0.1872,2,  34.6731,2,  34.6725,2,    212.1,2,  212.58,2,  123.31,2,   32.02,2,    2.21,2, -999.00,9
74JC19990315,  Albatross,      93,          1,          1,19990407,       2312,     -59.85,     -33.28,  1618.3,2,   0.1872,2,  34.6731,2,  34.6725,2,    212.1,2,  212.58,2,  122.92,2,   32.02,2,    2.21,2, -999.00,9
74JC19990315,  Albatross,      94,          1,         15,19990408,       0123,     -59.86,     -33.16,     9.9,2,   0.5087,2,  34.0942,2,  34.0940,2,    320.8,2,  325.99,2, -999.00,9, -999.00,9, -999.00,9,   -1.01,2
74JC19990315,  Albatross,      94,          1,         14,19990408,       0123,     -59.86,     -33.16,    55.5,2,   0.5142,2,  34.0948,2,  34.0940,2,    330.8,2,  325.99,2,   68.67,2,   26.86,2,    1.68,2, -999.00,9
74JC19990315,  Albatross,      94,          1,         13,19990408,       0123,     -59.86,     -33.16,   106.6,2,  -0.4995,2,  34.3255,2,  34.3259,2,    275.2,2,  275.21,2,   83.30,2,   31.25,2,    2.09,2,    1.86,2
74JC19990315,  Albatross,      94,          1,         12,19990408,       0123,     -59.86,     -33.16,   259.3,2,   0.2765,2,  34.6119,2,  34.6113,2,    217.5,2,  217.07,2,   99.10,2,   32.22,2,    2.19,2, -999.00,9
74JC19990315,  Albatross,      94,          1,         11,19990408,       0123,     -59.86,     -33.16,   513.6,2,   0.5203,2,  34.6706,2,  34.6723,2,    202.6,2,  202.28,2,  109.45,2,   32.61,2,    2.22,2,    6.81,2
74JC19990315,  Albatross,      94,          1,         10,19990408,       0123,     -59.86,     -33.16,   765.7,2,   0.4715,2,  34.6815,2,  34.6815,2,    204.5,2,  203.93,2,  117.16,2,   32.71,2,    2.23,2, -999.00,9
74JC19990315,  Albatross,      94,          1,          9,19990408,       0123,     -59.86,     -33.16,  1018.9,2,   0.3488,2,  34.6801,2,  34.6799,2,    206.0,2,  206.65,2,  120.67,2,   33.10,2,    2.25,2,    8.35,2
74JC19990315,  Albatross,      94,          1,          8,19990408,       0123,     -59.86,     -33.16,  1276.1,2,   0.2487,2,  34.6761,2,  34.6764,2,    208.1,2,  208.21,2,  123.90,2,   33.10,2,    2.27,2, -999.00,9
74JC19990315,  Albatross,      94,          1,          7,19990408,       0123,     -59.86,     -33.16,  1530.9,2,   0.1458,2,  34.6724,2,  34.6725,2,    212.2,2,  212.00,2,  125.07,2,   33.29,2,    2.27,2,    7.07,2
74JC19990315,  Albatross,      94,          1,          6,19990408,       0123,     -59.86,     -33.16,  1785.5,2,   0.0315,2,  34.6680,2,  34.6672,2,    217.6,2,  218.13,2,  125.46,2,   33.10,2,    2.24,2,    6.29,2
74JC19990315,  Albatross,      94,          1,          5,19990408,       0123,     -59.86,     -33.16,  1866.1,2,   0.0244,2,  34.6681,2,  34.6680,2,    218.8,2,  218.52,2,  124.48,2,   32.71,2,    2.21,2, -999.00,9
74JC19990315,  Albatross,      94,          1,          4,19990408,       0123,     -59.86,     -33.16,  1968.1,2,  -0.0121,2,  34.6663,2,  34.6656,2,    220.4,2,  218.81,2,  124.09,2,   32.71,2,    2.23,2,    6.51,2
74JC19990315,  Albatross,      94,          1,          3,19990408,       0123,     -59.86,     -33.16,  2019.3,2,  -0.0082,2,  34.6664,2,  34.6666,2,    220.6,2,  220.27,2,  124.43,2,   32.42,2,    2.24,2, -999.00,9
74JC19990315,  Albatross,      94,          1,          2,19990408,       0123,     -59.86,     -33.16,  2070.4,2,  -0.0345,2,  34.6653,2,  34.6648,2,    220.2,2,  221.14,2,  124.76,2,   32.66,2,    2.24,2,    6.56,2
74JC19990315,  Albatross,      94,          1,          1,19990408,       0123,     -59.86,     -33.16,  2070.4,2,  -0.0345,2,  34.6653,2,  34.6666,2,    220.2,2,  221.15,2,  123.91,2,   32.42,2,    2.21,2,    6.56,2
74JC19990315,  Albatross,      95,          1,         16,19990408,       0348,     -59.86,     -33.07,    10.5,2,   0.6013,2,  34.0722,2,  34.0715,2,    325.0,2,  326.09,2,   69.25,2,   26.37,2,    1.70,2, -999.00,9
74JC19990315,  Albatross,      95,          1,         15,19990408,       0348,     -59.86,     -33.07,    57.0,2,   0.6123,2,  34.0719,2,  34.0721,2,    326.2,2,  325.51,2,   68.86,2,   26.96,2,    1.69,2, -999.00,9
74JC19990315,  Albatross,      95,          1,         14,19990408,       0348,     -59.86,     -33.07,   107.4,2,  -0.2152,2,  34.2282,2,  34.2287,2,    290.9,2,  289.34,2,   78.62,2,   29.79,2,    2.00,2, -999.00,9
74JC19990315,  Albatross,      95,          1,         13,19990408,       0348,     -59.86,     -33.07,   260.5,2,  -0.0044,2,  34.5894,2,  34.5887,2,    221.0,2,  222.52,2,   98.42,2,   32.51,2,    2.20,2, -999.00,9
74JC19990315,  Albatross,      95,          1,         12,19990408,       0348,     -59.86,     -33.07,   513.8,2,   0.5027,2,  34.6715,2,  34.6711,2,    203.2,2,  201.50,2,  112.28,2,   34.07,2,    2.23,2, -999.00,9
74JC19990315,  Albatross,      95,          1,         11,19990408,       0348,     -59.86,     -33.07,   767.8,2,   0.4561,2,  34.6803,2,  34.6803,2,    202.6,2,  202.76,2,  117.55,2,   32.61,2,    2.22,2, -999.00,9
74JC19990315,  Albatross,      95,          1,         10,19990408,       0348,     -59.86,     -33.07,  1022.3,2,   0.3585,2,  34.6792,2,  34.6803,2,    205.3,2,  205.29,2,  120.38,2,   33.19,2,    2.23,2, -999.00,9
74JC19990315,  Albatross,      95,          1,          9,19990408,       0348,     -59.86,     -33.07,  1276.0,2,   0.2420,2,  34.6751,2,  34.6770,2,    208.5,2,  208.98,2,  123.70,2,   33.00,2,    2.24,2, -999.00,9
74JC19990315,  Albatross,      95,          1,          8,19990408,       0348,     -59.86,     -33.07,  1530.6,2,   0.1354,2,  34.6709,2,  34.6721,2,    212.8,2,  212.49,2,  123.80,2,   32.71,2,    2.23,2, -999.00,9
74JC19990315,  Albatross,      95,          1,          7,19990408,       0348,     -59.86,     -33.07,  1786.2,2,   0.0531,2,  34.6688,2,  34.6688,2,    216.4,2,  216.86,2,  127.22,2,   33.39,2,    2.28,2, -999.00,9
74JC19990315,  Albatross,      95,          1,          6,19990408,       0348,     -59.86,     -33.07,  2042.7,2,  -0.0334,2,  34.6646,2,  34.6642,2,    220.4,2,  221.14,2,  123.60,2,   33.39,2,    2.24,2, -999.00,9
74JC19990315,  Albatross,      95,          1,          5,19990408,       0348,     -59.86,     -33.07,  2312.5,2,  -0.1108,2,  34.6610,2,  34.6601,2,    225.6,2,  225.23,2,  124.87,2,   33.10,2,    2.26,2, -999.00,9
74JC19990315,  Albatross,      95,          1,          4,19990408,       0348,     -59.86,     -33.07,  2414.1,2,  -0.1345,2,  34.6597,2,  34.6595,2,    227.2,2,  226.40,2,  122.82,2,   32.61,2,    2.26,2, -999.00,9
74JC19990315,  Albatross,      95,          1,          3,19990408,       0348,     -59.86,     -33.07,  2466.3,2,  -0.1459,2,  34.6593,2,  34.6584,2,    227.6,2,  227.17,2,  123.31,2,   33.10,2,    2.23,2, -999.00,9
74JC19990315,  Albatross,      95,          1,          2,19990408,       0348,     -59.86,     -33.07,  2506.8,2,  -0.1712,2,  34.6580,2,  34.6589,2,    227.9,2,  228.44,2,  122.63,2,   33.29,2,    2.23,2, -999.00,9
74JC19990315,  Albatross,      95,          1,          1,19990408,       0348,     -59.86,     -33.07,  2506.8,2,  -0.1712,2,  34.6580,2,  34.6582,2,    227.9,2,  228.35,2,  123.31,2,   33.29,2,    2.21,2, -999.00,9
74JC19990315,  Albatross,      96,          1,         17,19990408,       0659,     -59.88,     -32.95,     8.8,2,   0.6087,2,  34.0832,2,  34.0796,2,    324.4,2,  326.28,2,   67.49,2,   25.98,2,    1.70,2,   -1.78,2
74JC19990315,  Albatross,      96,          1,         16,19990408,       0659,     -59.88,     -32.95,    54.7,2,   0.6108,2,  34.0836,2,  34.0829,2,    326.1,2,  325.21,2,   66.71,2,   26.18,2,    1.68,2, -999.00,9
74JC19990315,  Albatross,      96,          1,         15,19990408,       0659,     -59.88,     -32.95,   105.6,2,  -0.0439,2,  34.2221,2,  34.2301,2,    296.3,2,  294.02,2,   76.77,2,   28.71,2,    1.92,2, -999.00,9
74JC19990315,  Albatross,      96,          1,         14,19990408,       0659,     -59.88,     -32.95,   258.5,2,   0.0259,2,  34.5867,2,  34.5877,2,    218.1,2,  221.45,2,  101.06,2,   31.83,2,    2.18,2,    6.14,2
74JC19990315,  Albatross,      96,          1,         13,19990408,       0659,     -59.88,     -32.95,   511.9,2,   0.5125,2,  34.6687,2,  34.6699,2,    202.5,2,  201.79,2,  112.08,2,   34.07,2,    2.23,2,    6.79,2
74JC19990315,  Albatross,      96,          1,         12,19990408,       0659,     -59.88,     -32.95,   765.6,2,   0.4987,2,  34.6811,2,  34.6803,2,    204.2,2,  203.64,2,  118.13,2,   32.32,2,    2.23,2, -999.00,9
74JC19990315,  Albatross,      96,          1,         11,19990408,       0659,     -59.88,     -32.95,  1020.5,2,   0.4233,2,  34.6814,2,  34.6825,2,    206.2,2,  205.68,2,  119.11,2,   32.41,2,    2.20,2, -999.00,9
74JC19990315,  Albatross,      96,          1,         10,19990408,       0659,     -59.88,     -32.95,  1276.1,2,   0.3271,2,  34.6788,2,  34.6792,2,    209.3,2,  209.38,2,  121.16,2,   32.12,2,    2.21,2,    9.53,2
74JC19990315,  Albatross,      96,          1,          9,19990408,       0659,     -59.88,     -32.95,  1530.8,2,   0.2361,2,  34.6745,2,  34.6760,2,    212.7,2,  211.71,2,  122.33,2,   32.32,2,    2.25,2, -999.00,9
74JC19990315,  Albatross,      96,          1,          8,19990408,       0659,     -59.88,     -32.95,  1786.6,2,   0.1213,2,  34.6698,2,  34.6699,2,    214.4,2,  214.34,2,  123.12,2,   32.61,2,    2.24,2,    7.00,2
74JC19990315,  Albatross,      96,          1,          7,19990408,       0659,     -59.88,     -32.95,  2042.0,2,   0.0337,2,  34.6661,2,  34.6686,2,    218.6,2,  217.84,2,  123.99,2,   32.71,2,    2.21,2, -999.00,9
74JC19990315,  Albatross,      96,          1,          6,19990408,       0659,     -59.88,     -32.95,  2554.7,2,  -0.2031,2,  34.6560,2,  34.6533,2,    230.0,2,  230.00,2,  121.26,2,   32.22,2,    2.23,2, -999.00,9
74JC19990315,  Albatross,      96,          1,          5,19990408,       0659,     -59.88,     -32.95,  2735.8,2,  -0.3230,2,  34.6505,2,  34.6523,2,    235.6,2,  236.03,2,  117.55,2,   31.93,2,    2.18,2,    5.17,2
74JC19990315,  Albatross,      96,          1,          4,19990408,       0659,     -59.88,     -32.95,  2837.3,2,  -0.3595,2,  34.6491,2,  34.6509,2,    237.7,2,  237.88,2,  117.36,2,   31.83,2,    2.18,2,    5.91,2
74JC19990315,  Albatross,      96,          1,          3,19990408,       0659,     -59.88,     -32.95,  2889.6,2,  -0.3643,2,  34.6488,2,  34.6484,2,    238.5,2,  238.56,2,  116.48,2,   31.73,2,    2.20,2, -999.00,9
74JC19990315,  Albatross,      96,          1,          2,19990408,       0659,     -59.88,     -32.95,  2931.4,2,  -0.3696,2,  34.6483,2,  34.6476,2,    238.1,2,  239.05,2,  115.79,2,   33.00,2,    2.17,2,    4.14,2
74JC19990315,  Albatross,      96,          1,          1,19990408,       0659,     -59.88,     -32.95,  2931.5,2,  -0.3691,2,  34.6483,2,  34.6452,2,    238.1,2,  237.88,2,  115.21,2,   32.02,2,    2.17,2, -999.00,9