BOTTLE,20140822SIOCCHAMB
EXPOCODE,SECT_ID,STNNBR,CASTNO,BTLNBR,DATE,TIME,LATITUDE,LONGITUDE,CTDPRS,CTDPRS_FLAG_W,CTDTMP,CTDTMP_FLAG_W,CTDSAL,CTDSAL_FLAG_W,SALNTY,SALNTY_FLAG_W,CTDOXY,CTDOXY_FLAG_W,OXYGEN,OXYGEN_FLAG_W,SILCAT,SILCAT_FLAG_W,NITRAT,NITRAT_FLAG_W,PHSPHT,PHSPHT_FLAG_W,DELHE3,DELHE3_FLAG_W
,,,,,,,,,DBAR,,ITS-90,,PSS-78,,PSS-78,,UMOL/KG,,UMOL/KG,,UMOL/KG,,UMOL/KG,,UMOL/KG,,PERCNT,
74JC19990315,  Albatross,       9,          1,         18,19990319,       2334,     -56.98,     -68.25,     8.7,2,   7.1104,2,  34.0337,2,  34.0330,2,    288.1,2,  288.72,2,    2.74,2,   19.34,2,    1.23,2, -999.00,9
74JC19990315,  Albatross,       9,          1,         17,19990319,       2334,     -56.98,     -68.25,    55.0,2,   7.0137,2,  34.0384,2,  34.0381,2,    286.6,2,  287.35,2,    2.93,2,   19.93,2,    1.23,2, -999.00,9
74JC19990315,  Albatross,       9,          1,         16,19990319,       2334,     -56.98,     -68.25,   105.7,2,   5.8597,2,  34.0940,2,  34.0956,2,    288.0,2,  286.53,2,    5.76,2,   21.88,2,    1.37,2, -999.00,9
74JC19990315,  Albatross,       9,          1,         15,19990319,       2334,     -56.98,     -68.25,   258.0,2,   5.2339,2,  34.1689,2,  34.1690,2,    287.6,2,  288.44,2,    7.72,2,   22.66,2,    1.42,2, -999.00,9
74JC19990315,  Albatross,       9,          1,         14,19990319,       2334,     -56.98,     -68.25,   512.4,2,   4.8579,2,  34.2051,2,-999.0000,9,    263.3,2, -999.00,9, -999.00,9, -999.00,9, -999.00,9, -999.00,9
74JC19990315,  Albatross,       9,          1,         13,19990319,       2334,     -56.98,     -68.25,   765.5,2,   4.0091,2,  34.2464,2,  34.2463,2,    225.5,2,  225.39,2,   27.64,2,   31.15,2,    1.91,2, -999.00,9
74JC19990315,  Albatross,       9,          1,         12,19990319,       2334,     -56.98,     -68.25,  1019.8,2,   3.3217,2,  34.3446,2,  34.3443,2,    194.1,2,  195.09,2,   46.78,2,   34.38,2,    2.12,2, -999.00,9
74JC19990315,  Albatross,       9,          1,         11,19990319,       2334,     -56.98,     -68.25,  1273.2,2,   2.8053,2,  34.4547,2,  34.4542,2,    171.6,2,  171.99,2,   65.62,2,   36.03,2,    2.23,2, -999.00,9
74JC19990315,  Albatross,       9,          1,         10,19990319,       2334,     -56.98,     -68.25,  1529.4,2,   2.5655,2,  34.5526,2,  34.5522,2,    156.5,2,  154.94,2,   80.75,2,   36.13,2,    2.29,2, -999.00,9
74JC19990315,  Albatross,       9,          1,          9,19990319,       2334,     -56.98,     -68.25,  1784.1,2,   2.3788,2,  34.6096,2,  34.6095,2,    154.2,2,  153.96,2,   90.02,2,   36.13,2,    2.27,2, -999.00,9
74JC19990315,  Albatross,       9,          1,          8,19990319,       2334,     -56.98,     -68.25,  2041.4,2,   2.2174,2,  34.6456,2,  34.6464,2,    156.0,2,  154.93,2,   97.15,2,   35.93,2,    2.25,2, -999.00,9
74JC19990315,  Albatross,       9,          1,          7,19990319,       2334,     -56.98,     -68.25,  2554.1,2,   1.9496,2,  34.6954,2,  34.6954,2,    163.3,2,  166.69,2,  102.61,2,   34.76,2,    2.21,2, -999.00,9
74JC19990315,  Albatross,       9,          1,          6,19990319,       2334,     -56.98,     -68.25,  3067.2,2,   1.6729,2,  34.7177,2,  34.7178,2,    181.7,2,  179.92,2,  104.56,2,   33.98,2,    2.09,2, -999.00,9
74JC19990315,  Albatross,       9,          1,          5,19990319,       2334,     -56.98,     -68.25,  3464.5,2,   1.4254,2,  34.7234,2,  34.7229,2,    190.6,2,  190.91,2,  108.17,2,   33.58,2,    2.10,2, -999.00,9
74JC19990315,  Albatross,       9,          1,          4,19990319,       2334,     -56.98,     -68.25,  3567.4,2,   1.3552,2,  34.7212,2,  34.7206,2,    191.9,2,  192.17,2,  110.32,2,   33.10,2,    2.07,2, -999.00,9
74JC19990315,  Albatross,       9,          1,          3,19990319,       2334,     -56.98,     -68.25,  3618.5,2,   1.3322,2,  34.7205,2,  34.7200,2,    192.6,2,  192.66,2,  111.40,2,   32.80,2,    2.05,2, -999.00,9
74JC19990315,  Albatross,       9,          1,          2,19990319,       2334,     -56.98,     -68.25,  3669.4,2,   1.2991,2,  34.7191,2,  34.7196,2,    193.1,2,  193.24,2,  111.88,2,   33.29,2,    2.08,2, -999.00,9
74JC19990315,  Albatross,       9,          1,          1,19990319,       2334,     -56.98,     -68.25,  3669.4,2,   1.2991,2,  34.7191,2,  34.7200,2,    193.1,2,  192.46,2,  112.57,2,   32.90,2,    2.06,2, -999.00,9
74JC19990315,  Albatross,      10,          1,         21,19990320,       0420,     -57.13,     -68.25,    10.4,2,   6.5591,2,  34.0165,2,  34.0160,2,    296.2,2,  292.40,2,    4.10,2,   20.72,2,    1.33,2, -999.00,9
74JC19990315,  Albatross,      10,          1,         20,19990320,       0420,     -57.13,     -68.25,    56.3,2,   6.4079,2,  34.0129,2,  34.0125,2,    293.3,2,  291.81,2,    4.16,2,   21.33,2,    1.31,2, -999.00,9
74JC19990315,  Albatross,      10,          1,         19,19990320,       0420,     -57.13,     -68.25,   107.5,2,   5.8000,2,  33.9874,2,  33.9882,2,    295.6,2,  292.57,2,    4.10,2,   22.67,2,    1.44,2, -999.00,9
74JC19990315,  Albatross,      10,          1,         18,19990320,       0420,     -57.13,     -68.25,   260.4,2,   5.0585,2,  34.1522,2,  34.1530,2,    283.3,2,  288.04,2,   10.13,2,   23.83,2,    1.49,2, -999.00,9
74JC19990315,  Albatross,      10,          1,         17,19990320,       0420,     -57.13,     -68.25,   514.0,2,   4.6087,2,  34.1829,2,  34.1808,2,    252.9,2,  259.87,2,   16.96,2,   28.26,2,    1.78,2, -999.00,9
74JC19990315,  Albatross,      10,          1,         16,19990320,       0420,     -57.13,     -68.25,   767.4,2,   3.9504,2,  34.2622,2,  34.2624,2,    217.9,2,  219.05,2,   33.68,2,   32.28,2,    2.00,2, -999.00,9
74JC19990315,  Albatross,      10,          1,         15,19990320,       0420,     -57.13,     -68.25,  1021.5,2,   3.1647,2,  34.3503,2,  34.3504,2,    197.0,2,  194.98,2,   53.32,2,   35.74,2,    2.21,2, -999.00,9
74JC19990315,  Albatross,      10,          1,         14,19990320,       0420,     -57.13,     -68.25,  1021.7,2,   3.1639,2,  34.3512,2,  34.3498,2,    197.0,2,  195.08,2,   52.70,2,   34.33,2,    2.19,2, -999.00,9
74JC19990315,  Albatross,      10,          1,         13,19990320,       0420,     -57.13,     -68.25,  1276.6,2,   2.7192,2,  34.4673,2,  34.4668,2,    176.8,2,  174.32,2,   71.02,2,   35.17,2,    2.29,2, -999.00,9
74JC19990315,  Albatross,      10,          1,         12,19990320,       0420,     -57.13,     -68.25,  1528.3,2,   2.4675,2,  34.5699,2,  34.5707,2,    167.6,2,  167.30,2,   82.76,2,   35.22,2,    2.28,2, -999.00,9
74JC19990315,  Albatross,      10,          1,         11,19990320,       0420,     -57.13,     -68.25,  1780.2,2,   2.2843,2,  34.6460,2,  34.6436,2,    166.0,2,  168.94,2,   89.22,2,   34.08,2,    2.21,2, -999.00,9
74JC19990315,  Albatross,      10,          1,         10,19990320,       0420,     -57.13,     -68.25,  2033.5,2,   2.0585,2,  34.6746,2,-999.0000,9,    162.7,2, -999.00,9, -999.00,9, -999.00,9, -999.00,9, -999.00,9
74JC19990315,  Albatross,      10,          1,          9,19990320,       0420,     -57.13,     -68.25,  2540.9,2,   1.8303,2,  34.6944,2,  34.6947,2,    164.2,2,  164.06,2,  116.24,2,   33.95,2,    2.29,2, -999.00,9
74JC19990315,  Albatross,      10,          1,          8,19990320,       0420,     -57.13,     -68.25,  3050.7,2,   1.6251,2,  34.7241,2,  34.7245,2,    183.9,2,  185.27,2,  111.45,2,   31.86,2,    2.15,2, -999.00,9
74JC19990315,  Albatross,      10,          1,          7,19990320,       0420,     -57.13,     -68.25,  3560.4,2,   1.3120,2,  34.7233,2,  34.7225,2,    193.2,2,  193.24,2,  118.79,2,   32.47,2,    2.15,2, -999.00,9
74JC19990315,  Albatross,      10,          1,          6,19990320,       0420,     -57.13,     -68.25,  4081.6,2,   0.9382,2,  34.7131,2,  34.7141,2,    200.1,2,  200.73,2,  128.85,2,   33.32,2,    2.13,2, -999.00,9
74JC19990315,  Albatross,      10,          1,          5,19990320,       0420,     -57.13,     -68.25,  4250.5,2,   0.9231,2,  34.7123,2,  34.7121,2,    200.5,2,  200.24,2,  130.34,2,   32.53,2,    2.13,2, -999.00,9
74JC19990315,  Albatross,      10,          1,          4,19990320,       0420,     -57.13,     -68.25,  4330.6,2,   0.9160,2,  34.7120,2,  34.7115,2,    201.0,2,  200.44,2,  130.65,2,   32.42,2,    2.17,2, -999.00,9
74JC19990315,  Albatross,      10,          1,          3,19990320,       0420,     -57.13,     -68.25,  4398.3,2,   0.9055,2,  34.7116,2,  34.7117,2,    201.3,2,  201.12,2,  132.08,2,   32.16,2,    2.13,2, -999.00,9
74JC19990315,  Albatross,      10,          1,          2,19990320,       0420,     -57.13,     -68.25,  4451.2,2,   0.9113,2,  34.7116,2,  34.7115,2,    201.4,2,  200.73,2,  133.20,2,   32.38,2,    2.16,2, -999.00,9
74JC19990315,  Albatross,      10,          1,          1,19990320,       0420,     -57.13,     -68.25,  4451.1,2,   0.9109,2,  34.7115,2,  34.7047,2,    201.4,2,  200.83,2,  132.95,2,   31.29,2,    2.13,2, -999.00,9
74JC19990315,  Albatross,      11,          1,         24,19990320,       0920,     -57.33,     -68.24,  3055.7,2,   1.4365,2,  34.7238,2,-999.0000,9,    190.3,2,  164.36,2,  114.19,2,   32.62,2,    2.18,2, -999.00,9
74JC19990315,  Albatross,      11,          1,         23,19990320,       0920,     -57.33,     -68.24,  3055.8,2,   1.4368,2,  34.7238,2,-999.0000,9,    190.3,2,  176.62,2,  113.44,2,   32.59,2,    2.17,2, -999.00,9
74JC19990315,  Albatross,      11,          1,         22,19990320,       0920,     -57.33,     -68.24,  3056.0,2,   1.4357,2,  34.7239,2,-999.0000,9,    190.4,2,  186.35,2,  113.32,2,   32.35,2,    2.17,2, -999.00,9
74JC19990315,  Albatross,      11,          1,         21,19990320,       0920,     -57.33,     -68.24,  3056.4,2,   1.4365,2,  34.7238,2,-999.0000,9,    190.4,2,  173.12,2,  113.44,2,   32.42,2,    2.16,2, -999.00,9
74JC19990315,  Albatross,      11,          1,         20,19990320,       0920,     -57.33,     -68.24,  3056.4,2,   1.4371,2,  34.7237,2,-999.0000,9,    190.4,2,  181.68,2,  113.69,2,   32.73,2,    2.16,2, -999.00,9
74JC19990315,  Albatross,      11,          1,         19,19990320,       0920,     -57.33,     -68.24,    10.0,2,   6.2533,2,  34.0007,2,  33.9992,2,    306.5,2,  284.89,2,    4.23,2,   21.37,2,    1.40,2, -999.00,9
74JC19990315,  Albatross,      11,          1,         18,19990320,       0920,     -57.33,     -68.24,    55.2,2,   6.2414,2,  34.0069,2,  34.0070,2,    307.2,2,  261.61,2,    4.16,2,   21.03,2,    1.37,2, -999.00,9
74JC19990315,  Albatross,      11,          1,         17,19990320,       0920,     -57.33,     -68.24,   106.8,2,   5.8753,2,  33.9908,2,  33.9925,2,    306.2,2,  264.82,2,    4.23,2,   21.25,2,    1.42,2,   -1.67,2
74JC19990315,  Albatross,      11,          1,         16,19990320,       0920,     -57.33,     -68.24,   256.9,2,   4.7991,2,  34.1304,2,  34.1310,2,    291.2,2,  257.07,2,   10.70,2,   23.41,2,    1.52,2,   -1.01,2
74JC19990315,  Albatross,      11,          1,         15,19990320,       0920,     -57.33,     -68.24,  3056.6,2,   1.4376,2,  34.7236,2,  34.7235,2,    190.5,2,  176.13,2,  113.75,2,   32.36,2,    2.16,2,   10.98,2
74JC19990315,  Albatross,      11,          1,         14,19990320,       0920,     -57.33,     -68.24,   513.1,2,   4.3231,2,  34.1999,2,  34.1992,2,    254.1,2,  216.54,2,   22.00,2,   28.34,2,    1.88,2,   -4.62,2
74JC19990315,  Albatross,      11,          1,         13,19990320,       0920,     -57.33,     -68.24,   765.5,2,   3.6121,2,  34.2794,2,  34.2789,2,    220.9,2,  198.70,2,   39.34,2,   31.61,2,    2.07,2,    3.28,2
74JC19990315,  Albatross,      11,          1,         12,19990320,       0920,     -57.33,     -68.24,  1015.2,2,   3.1067,2,  34.3788,2,  34.3794,2,    191.1,2,  169.67,2,   56.42,2,   33.55,2,    2.29,2, -999.00,9
74JC19990315,  Albatross,      11,          1,         11,19990320,       0920,     -57.33,     -68.24,  1272.7,2,   2.6261,2,  34.4954,2,  34.4956,2,    175.1,2,  166.05,2,   72.82,2,   34.34,2,    2.28,2,    8.30,2
74JC19990315,  Albatross,      11,          1,         10,19990320,       0920,     -57.33,     -68.24,  1520.7,2,   2.4388,2,  34.5803,2,  34.5801,2,    168.6,2,  158.93,2,   83.20,2,   34.41,2,    2.31,2,   10.60,2
74JC19990315,  Albatross,      11,          1,          9,19990320,       0920,     -57.33,     -68.24,  1773.7,2,   2.2539,2,  34.6561,2,  34.6552,2,    170.9,2,  157.36,2,   88.66,2,   33.46,2,    2.27,2, -999.00,9
74JC19990315,  Albatross,      11,          1,          8,19990320,       0920,     -57.33,     -68.24,  2030.3,2,   2.1057,2,  34.6990,2,  34.6986,2,    176.4,2,  161.73,2,   92.76,2,   32.76,2,    2.18,2,   10.06,2
74JC19990315,  Albatross,      11,          1,          7,19990320,       0920,     -57.33,     -68.24,  2541.1,2,   1.7086,2,  34.7210,2,  34.7223,2,    183.1,2,  176.90,2,  106.36,2,   32.38,2,    2.13,2,   12.61,2
74JC19990315,  Albatross,      11,          1,          6,19990320,       0920,     -57.33,     -68.24,  3573.6,2,   1.1314,2,  34.7171,2,  34.7174,2,    196.6,2,  187.31,2,  122.13,2,   32.27,2,    2.13,2, -999.00,9
74JC19990315,  Albatross,      11,          1,          5,19990320,       0920,     -57.33,     -68.24,  4092.8,2,   0.9526,2,  34.7119,2,  34.7119,2,    200.2,2,  198.01,2,  128.23,2,   32.48,2,    2.19,2,    9.81,2
74JC19990315,  Albatross,      11,          1,          4,19990320,       0920,     -57.33,     -68.24,  4256.7,2,   0.9357,2,  34.7111,2,  34.7102,2,    201.0,2,  188.96,2,  128.97,2,   32.53,2,    2.15,2, -999.00,9
74JC19990315,  Albatross,      11,          1,          3,19990320,       0920,     -57.33,     -68.24,  4361.4,2,   0.9219,2,  34.7102,2,  34.7107,2,    200.9,2,  217.96,2,  130.15,2,   32.55,2,    2.16,2, -999.00,9
74JC19990315,  Albatross,      11,          1,          2,19990320,       0920,     -57.33,     -68.24,  4413.1,2,   0.9206,2,  34.7102,2,  34.7074,2,    201.6,2,  189.64,2,  130.53,2,   32.83,2,    2.14,2, -999.00,9
74JC19990315,  Albatross,      11,          1,          1,19990320,       0920,     -57.33,     -68.24,  4459.2,2,   0.9204,2,  34.7097,2,  34.7068,2,    201.8,2,  189.54,2,  131.70,2,   32.81,2,    2.14,2,   10.07,2
74JC19990315,  Albatross,      12,          1,         19,19990320,       1541,     -57.58,     -68.25,    10.5,2,   6.0381,2,  33.9891,2,  33.9882,2,    302.4,2,  294.25,2,    3.42,2,   21.36,2,    1.40,2, -999.00,9
74JC19990315,  Albatross,      12,          1,         18,19990320,       1541,     -57.58,     -68.25,    56.1,2,   5.8699,2,  33.9817,2,  33.9812,2,    294.2,2,  296.68,2,    3.42,2,   21.77,2,    1.43,2, -999.00,9
74JC19990315,  Albatross,      12,          1,         17,19990320,       1541,     -57.58,     -68.25,   107.5,2,   5.7632,2,  33.9799,2,  33.9817,2,    296.5,2,  295.70,2,    3.79,2,   21.82,2,    1.44,2, -999.00,9
74JC19990315,  Albatross,      12,          1,         16,19990320,       1541,     -57.58,     -68.25,   258.8,2,   4.0930,2,  34.0648,2,  34.0649,2,    288.4,2,  290.67,2,   11.50,2,   24.32,2,    1.59,2, -999.00,9
74JC19990315,  Albatross,      12,          1,         15,19990320,       1541,     -57.58,     -68.25,   512.8,2,   3.9080,2,  34.1662,2,  34.1655,2,    242.3,2,  249.74,2,   22.56,2,   28.43,2,    1.86,2, -999.00,9
74JC19990315,  Albatross,      12,          1,         14,19990320,       1541,     -57.58,     -68.25,   766.4,2,   3.5691,2,  34.3106,2,  34.3104,2,    202.1,2,  203.56,2,   42.32,2,   32.46,2,    2.13,2, -999.00,9
74JC19990315,  Albatross,      12,          1,         13,19990320,       1541,     -57.58,     -68.25,  1019.9,2,   2.7747,2,  34.3806,2,  34.3805,2,    188.4,2,  190.11,2,   59.29,2,   35.51,2,    2.31,2, -999.00,9
74JC19990315,  Albatross,      12,          1,         12,19990320,       1541,     -57.58,     -68.25,  1274.0,2,   2.5912,2,  34.5063,2,  34.5068,2,    171.8,2,  171.30,2,   73.88,2,   34.32,2,    2.31,2, -999.00,9
74JC19990315,  Albatross,      12,          1,         11,19990320,       1541,     -57.58,     -68.25,  1528.8,2,   2.3555,2,  34.6083,2,  34.6083,2,    169.4,2,  167.68,2,   83.69,2,   33.64,2,    2.27,2, -999.00,9
74JC19990315,  Albatross,      12,          1,         10,19990320,       1541,     -57.58,     -68.25,  1784.2,2,   2.2126,2,  34.6695,2,  34.6703,2,    172.2,2,  171.07,2,   88.04,2,   32.98,2,    2.20,2, -999.00,9
74JC19990315,  Albatross,      12,          1,          9,19990320,       1541,     -57.58,     -68.25,  2039.6,2,   2.0690,2,  34.7037,2,  34.7025,2,    177.5,2,  176.91,2,   92.13,2,   32.27,2,    2.17,2, -999.00,9
74JC19990315,  Albatross,      12,          1,          8,19990320,       1541,     -57.58,     -68.25,  2551.1,2,   1.6756,2,  34.7245,2,  34.7247,2,    186.0,2,  184.19,2,  104.06,2,   31.62,2,    2.15,2, -999.00,9
74JC19990315,  Albatross,      12,          1,          7,19990320,       1541,     -57.58,     -68.25,  3061.7,2,   1.3561,2,  34.7222,2,  34.7229,2,    192.3,2,  191.29,2,  112.58,2,   32.42,2,    2.14,2, -999.00,9
74JC19990315,  Albatross,      12,          1,          6,19990320,       1541,     -57.58,     -68.25,  3577.5,2,   0.9811,2,  34.7126,2,  34.7121,2,    197.2,2,  198.20,2,  125.75,2,   32.92,2,    2.16,2, -999.00,9
74JC19990315,  Albatross,      12,          1,          5,19990320,       1541,     -57.58,     -68.25,  3619.4,2,   0.9629,2,  34.7118,2,  34.7127,2,    200.0,2,  199.07,2,  126.80,2,   32.64,2,    2.17,2, -999.00,9
74JC19990315,  Albatross,      12,          1,          4,19990320,       1541,     -57.58,     -68.25,  3721.7,2,   0.9303,2,  34.7110,2,  34.7106,2,    198.6,2,  199.27,2,  126.24,2,   34.78,2,    2.22,2, -999.00,9
74JC19990315,  Albatross,      12,          1,          3,19990320,       1541,     -57.58,     -68.25,  3775.7,2,   0.9102,2,  34.7104,2,  34.6890,2,    200.7,2,  200.05,2,  122.26,2,   32.62,2,    2.16,2, -999.00,9
74JC19990315,  Albatross,      12,          1,          2,19990320,       1541,     -57.58,     -68.25,  3818.6,2,   0.9092,2,  34.7097,2,  34.6854,2,    199.5,2,  199.86,2,  122.02,2,   32.71,2,    2.17,2, -999.00,9
74JC19990315,  Albatross,      12,          1,          1,19990320,       1541,     -57.58,     -68.25,  3818.3,2,   0.9093,2,  34.7098,2,  34.7094,2,    199.5,2,  200.24,2,  128.73,2,   32.83,2,    2.20,2, -999.00,9