BOTTLE,20140822SIOCCHAMB
EXPOCODE,SECT_ID,STNNBR,CASTNO,BTLNBR,DATE,TIME,LATITUDE,LONGITUDE,CTDPRS,CTDPRS_FLAG_W,CTDTMP,CTDTMP_FLAG_W,CTDSAL,CTDSAL_FLAG_W,SALNTY,SALNTY_FLAG_W,CTDOXY,CTDOXY_FLAG_W,OXYGEN,OXYGEN_FLAG_W,SILCAT,SILCAT_FLAG_W,NITRAT,NITRAT_FLAG_W,PHSPHT,PHSPHT_FLAG_W,DELHE3,DELHE3_FLAG_W
,,,,,,,,,DBAR,,ITS-90,,PSS-78,,PSS-78,,UMOL/KG,,UMOL/KG,,UMOL/KG,,UMOL/KG,,UMOL/KG,,PERCNT,
74JC19990315,  Albatross,     166,          1,         11,19990422,       1401,     -50.94,      -55.3,     8.1,2,   7.1573,2,  33.9919,2,  33.9913,2,    321.8,2,  289.81,2,    4.40,2,   18.27,2,    1.26,2, -999.00,9
74JC19990315,  Albatross,     166,          1,         10,19990422,       1401,     -50.94,      -55.3,    54.0,2,   7.1231,2,  33.9943,2,  33.9949,2,    290.6,2,  290.39,2,    4.49,2,   18.27,2,    1.23,2, -999.00,9
74JC19990315,  Albatross,     166,          1,          9,19990422,       1401,     -50.94,      -55.3,   105.2,2,   5.5663,2,  34.0590,2,  34.0588,2,    291.6,2,  286.72,2,    7.62,2,   21.59,2,    1.44,2, -999.00,9
74JC19990315,  Albatross,     166,          1,          8,19990422,       1401,     -50.94,      -55.3,   258.3,2,   4.8789,2,  34.1377,2,  34.1375,2,    278.3,2,  283.36,2,   11.33,2,   22.46,2,    1.47,2, -999.00,9
74JC19990315,  Albatross,     166,          1,          7,19990422,       1401,     -50.94,      -55.3,   512.1,2,   4.4242,2,  34.1903,2,  34.1909,2,    249.2,2,  253.55,2,   19.63,2,   26.66,2,    1.70,2, -999.00,9
74JC19990315,  Albatross,     166,          1,          6,19990422,       1401,     -50.94,      -55.3,   766.0,2,   3.4989,2,  34.2454,2,  34.2456,2,    225.9,2,  223.43,2,   35.35,2,   30.47,2,    1.99,2, -999.00,9
74JC19990315,  Albatross,     166,          1,          5,19990422,       1401,     -50.94,      -55.3,   928.0,2,   3.1445,2,  34.3328,2,  34.3329,2,    203.5,2,  201.02,2,   48.93,2,   32.13,2,    2.15,2, -999.00,9
74JC19990315,  Albatross,     166,          1,          4,19990422,       1401,     -50.94,      -55.3,  1028.6,2,   2.9509,2,  34.3727,2,  34.3723,2,    192.1,2,  189.81,2,   56.25,2,   33.01,2,    2.19,2, -999.00,9
74JC19990315,  Albatross,     166,          1,          3,19990422,       1401,     -50.94,      -55.3,  1080.5,2,   2.8680,2,  34.4006,2,  34.4005,2,    188.1,2,  184.55,2,   61.23,2,   33.79,2,    2.25,2, -999.00,9
74JC19990315,  Albatross,     166,          1,          2,19990422,       1401,     -50.94,      -55.3,  1125.7,2,   2.8160,2,  34.4184,2,  34.4183,2,    177.5,2,  180.75,2,   63.96,2,   33.49,2,    2.21,2, -999.00,9
74JC19990315,  Albatross,     166,          1,          1,19990422,       1401,     -50.94,      -55.3,  1125.7,2,   2.8160,2,  34.4184,2,  34.4185,2,    177.5,2,  180.85,2,   65.33,2,   33.49,2,    2.19,2, -999.00,9
74JC19990315,  Albatross,     167,          1,         10,19990422,       1701,     -50.96,     -55.78,     7.5,2,   7.1774,2,  34.0020,2,  34.0019,2,    304.8,2,  289.51,2,    3.81,2,   17.88,2,    1.24,2, -999.00,9
74JC19990315,  Albatross,     167,          1,          9,19990422,       1701,     -50.96,     -55.78,    53.5,2,   7.1406,2,  34.0008,2,  34.0009,2,    288.1,2,  289.41,2,    3.81,2,   17.48,2,    1.33,2, -999.00,9
74JC19990315,  Albatross,     167,          1,          8,19990422,       1701,     -50.96,     -55.78,   104.4,2,   6.1473,2,  34.0256,2,  34.0252,2,    293.4,2,  288.69,2,    4.98,2,   19.34,2,    1.38,2, -999.00,9
74JC19990315,  Albatross,     167,          1,          7,19990422,       1701,     -50.96,     -55.78,   257.3,2,   4.7930,2,  34.1166,2,  34.1167,2,    284.5,2,  287.46,2,    9.96,2,   22.37,2,    1.49,2, -999.00,9
74JC19990315,  Albatross,     167,          1,          6,19990422,       1701,     -50.96,     -55.78,   511.1,2,   4.4480,2,  34.1892,2,  34.1890,2,    250.8,2,  254.32,2,   18.56,2,   26.47,2,    1.72,2, -999.00,9
74JC19990315,  Albatross,     167,          1,          5,19990422,       1701,     -50.96,     -55.78,   676.3,2,   3.8775,2,  34.2232,2,  34.2228,2,    236.5,2,  234.73,2,   27.64,2,   29.01,2,    1.89,2, -999.00,9
74JC19990315,  Albatross,     167,          1,          4,19990422,       1701,     -50.96,     -55.78,   778.4,2,   3.4161,2,  34.2486,2,  34.2485,2,    225.5,2,  222.64,2,   35.35,2,   30.67,2,    2.01,2, -999.00,9
74JC19990315,  Albatross,     167,          1,          3,19990422,       1701,     -50.96,     -55.78,   830.0,2,   3.2926,2,  34.2731,2,  34.2736,2,    217.3,2,  215.14,2,   39.94,2,   31.35,2,    2.05,2, -999.00,9
74JC19990315,  Albatross,     167,          1,          2,19990422,       1701,     -50.96,     -55.78,   875.0,2,   3.2929,2,  34.2908,2,  34.2904,2,    208.6,2,  210.17,2,   42.09,2,   31.84,2,    2.08,2, -999.00,9
74JC19990315,  Albatross,     167,          1,          1,19990422,       1701,     -50.96,     -55.78,   875.0,2,   3.2929,2,  34.2908,2,  34.2910,2,    208.6,2,  210.46,2,   42.19,2,   31.74,2,    2.09,2, -999.00,9
74JC19990315,  Albatross,     168,          1,          9,19990422,       1932,     -50.98,     -56.26,     6.7,2,   7.3547,2,  33.9929,2,  33.9929,2,    295.0,2,  291.37,2,    4.88,2,   17.19,2,    1.22,2,   -1.91,2
74JC19990315,  Albatross,     168,          1,          8,19990422,       1932,     -50.98,     -56.26,    52.0,2,   7.2884,2,  33.9962,2,  33.9954,2,    291.1,2,  291.56,2,    4.98,2,   17.00,2,    1.20,2, -999.00,9
74JC19990315,  Albatross,     168,          1,          7,19990422,       1932,     -50.98,     -56.26,   103.8,2,   6.8435,2,  34.0224,2,  34.0218,2,    288.2,2,  287.74,2,    5.57,2,   18.36,2,    1.32,2, -999.00,9
74JC19990315,  Albatross,     168,          1,          6,19990422,       1932,     -50.98,     -56.26,   256.7,2,   4.9493,2,  34.1111,2,  34.1111,2,    285.7,2,  290.77,2,   10.55,2,   21.78,2,    1.50,2, -999.00,9
74JC19990315,  Albatross,     168,          1,          5,19990422,       1932,     -50.98,     -56.26,   410.1,2,   4.7549,2,  34.1587,2,  34.1588,2,    276.8,2,  279.95,2,   13.58,2,   23.05,2,    1.57,2, -999.00,9
74JC19990315,  Albatross,     168,          1,          4,19990422,       1932,     -50.98,     -56.26,   509.0,2,   4.6856,2,  34.1929,2,  34.1927,2,    267.1,2,  266.01,2,   16.90,2,   24.51,2,    1.67,2, -999.00,9
74JC19990315,  Albatross,     168,          1,          3,19990422,       1932,     -50.98,     -56.26,   560.8,2,   4.5431,2,  34.1983,2,  34.1986,2,    261.4,2,  259.58,2,   19.14,2,   25.78,2,    1.74,2, -999.00,9
74JC19990315,  Albatross,     168,          1,          2,19990422,       1932,     -50.98,     -56.26,   607.2,2,   4.3816,2,  34.1951,2,  34.1950,2,    255.3,2,  254.52,2,   21.78,2,   25.98,2,    1.77,2,   -0.30,2
74JC19990315,  Albatross,     168,          1,          1,19990422,       1932,     -50.98,     -56.26,   607.2,2,   4.3816,2,  34.1951,2,  34.1950,2,    255.3,2,  254.41,2,   23.73,2,   26.08,2,    1.76,2,   -0.30,2
74JC19990315,  Albatross,     169,          1,          7,19990422,       2154,     -50.99,     -56.73,     7.6,2,   7.6468,2,  33.9064,2,  33.9063,2,    289.3,2,  289.25,2,    3.71,2,   15.83,2,    1.22,2, -999.00,9
74JC19990315,  Albatross,     169,          1,          6,19990422,       2154,     -50.99,     -56.73,    53.5,2,   7.4594,2,  33.9452,2,  33.9452,2,    288.0,2,  287.78,2,    3.71,2,   16.12,2,    1.31,2, -999.00,9
74JC19990315,  Albatross,     169,          1,          5,19990422,       2154,     -50.99,     -56.73,   104.5,2,   7.0961,2,  34.0053,2,  34.0054,2,    285.1,2,  286.19,2,    4.40,2,   17.88,2,    1.34,2, -999.00,9
74JC19990315,  Albatross,     169,          1,          4,19990422,       2154,     -50.99,     -56.73,   256.6,2,   5.5914,2,  34.0771,2,  34.0774,2,    276.2,2,  273.75,2,   10.55,2,   21.98,2,    1.52,2, -999.00,9
74JC19990315,  Albatross,     169,          1,          3,19990422,       2154,     -50.99,     -56.73,   314.7,2,   5.3414,2,  34.0957,2,  34.0952,2,    273.1,2,  273.16,2,   11.92,2,   22.47,2,    1.53,2, -999.00,9
74JC19990315,  Albatross,     169,          1,          2,19990422,       2154,     -50.99,     -56.73,   360.0,2,   5.2735,2,  34.1026,2,  34.1027,2,    268.1,2,  268.97,2,   12.50,2,   22.56,2,    1.63,2, -999.00,9
74JC19990315,  Albatross,     169,          1,          1,19990422,       2154,     -50.99,     -56.73,   360.0,2,   5.2735,2,  34.1026,2,  34.1027,2,    268.1,2,  268.77,2,   12.50,2,   22.95,2,    1.57,2, -999.00,9
74JC19990315,  Albatross,     170,          1,          4,19990422,       2356,     -51.01,      -57.2,     8.4,2,   8.0369,2,  33.7894,2,  33.7894,2,    286.2,2,  286.17,2,    3.71,2,   14.75,2,    1.11,2, -999.00,9
74JC19990315,  Albatross,     170,          1,          3,19990422,       2356,     -51.01,      -57.2,    55.8,2,   7.6916,2,  33.8287,2,  33.8287,2,    278.8,2,  278.84,2,    4.30,2,   15.83,2,    1.18,2, -999.00,9
74JC19990315,  Albatross,     170,          1,          2,19990422,       2356,     -51.01,      -57.2,   113.6,2,   7.6857,2,  33.8303,2,  33.8306,2,    277.9,2,  278.06,2,    4.40,2,   16.31,2,    1.20,2, -999.00,9
74JC19990315,  Albatross,     170,          1,          1,19990422,       2356,     -51.01,      -57.2,   113.6,2,   7.6857,2,  33.8303,2,  33.8300,2,    277.9,2,  277.77,2,    4.40,2,   16.51,2,    1.25,2, -999.00,9