BOTTLE,20090923WHPSIOMYS
EXPOCODE,SECT_ID,STNNBR,CASTNO,SAMPNO,BTLNBR,BTLNBR_FLAG_W,DATE,TIME,LATITUDE,LONGITUDE,DEPTH,CTDRAW,CTDPRS,CTDTMP,CTDSAL,CTDSAL_FLAG_W,SALNTY,SALNTY_FLAG_W,CTDOXY,CTDOXY_FLAG_W,THETA,OXYGEN,OXYGEN_FLAG_W,SILCAT,SILCAT_FLAG_W,NO2+NO3,NO2+NO3_FLAG_W,PHSPHT,PHSPHT_FLAG_W,REVPRS,REVTMP
,,,,,,,,,,,,,DBAR,ITS-90,PSS-78,,PSS-78,,UMOL/KG,,ITS-90,UMOL/KG,,UMOL/KG,,UMOL/KG,,UMOL/KG,,DBAR,DEG C
     33KB205_1,  PRS2,     2,  9,     24,   8024,2,20081011,1156, 22.8013,-158.0212, 4737,      7,      6.9,  26.2696,  35.3084,2,-999.0000,9,    204.0,1, 26.2681,   -999.0,9,  -999.00,9,  -999.00,9,  -999.00,9,  -999.0,-999.000
     33KB205_1,  PRS2,     2,  9,     23,   8023,2,20081011,1156, 22.8013,-158.0212, 4737,      7,      6.9,  26.2696,  35.3084,2,-999.0000,9,    204.0,1, 26.2681,   -999.0,9,  -999.00,9,  -999.00,9,  -999.00,9,  -999.0,-999.000
     33KB205_1,  PRS2,     2,  9,     22,   8022,2,20081011,1156, 22.8013,-158.0212, 4737,      8,      6.9,  26.2693,  35.3084,2,-999.0000,9,    204.1,1, 26.2678,   -999.0,9,  -999.00,9,  -999.00,9,  -999.00,9,  -999.0,-999.000
     33KB205_1,  PRS2,     2,  9,     21,   8021,2,20081011,1156, 22.8013,-158.0212, 4737,      7,      6.9,  26.2693,  35.3084,2,-999.0000,9,    204.1,1, 26.2678,   -999.0,9,  -999.00,9,  -999.00,9,  -999.00,9,  -999.0,-999.000
     33KB205_1,  PRS2,     2,  9,     18,   8018,2,20081011,1156, 22.8013,-158.0212, 4737,     24,     24.6,  26.2734,  35.3078,2,-999.0000,9,    204.3,1, 26.2679,   -999.0,9,  -999.00,9,  -999.00,9,  -999.00,9,  -999.0,-999.000
     33KB205_1,  PRS2,     2,  9,     17,   8017,2,20081011,1156, 22.8013,-158.0212, 4737,     24,     24.6,  26.2734,  35.3078,2,-999.0000,9,    204.3,1, 26.2679,   -999.0,9,  -999.00,9,  -999.00,9,  -999.00,9,  -999.0,-999.000
     33KB205_1,  PRS2,     2,  9,     20,   8020,2,20081011,1156, 22.8013,-158.0212, 4737,     25,     24.7,  26.2732,  35.3079,2,-999.0000,9,    204.1,1, 26.2676,   -999.0,9,  -999.00,9,  -999.00,9,  -999.00,9,  -999.0,-999.000
     33KB205_1,  PRS2,     2,  9,     19,   8019,2,20081011,1156, 22.8013,-158.0212, 4737,     25,     24.7,  26.2734,  35.3079,2,-999.0000,9,    204.2,1, 26.2679,   -999.0,9,  -999.00,9,  -999.00,9,  -999.00,9,  -999.0,-999.000
     33KB205_1,  PRS2,     2,  9,     14,   8014,2,20081011,1156, 22.8013,-158.0212, 4737,     45,     44.5,  26.2727,  35.3073,2,-999.0000,9,    204.1,1, 26.2627,   -999.0,9,  -999.00,9,  -999.00,9,  -999.00,9,  -999.0,-999.000
     33KB205_1,  PRS2,     2,  9,     16,   8016,2,20081011,1156, 22.8013,-158.0212, 4737,     44,     44.6,  26.2740,  35.3074,2,-999.0000,9,    204.3,1, 26.2639,   -999.0,9,  -999.00,9,  -999.00,9,  -999.00,9,  -999.0,-999.000
     33KB205_1,  PRS2,     2,  9,     15,   8015,2,20081011,1156, 22.8013,-158.0212, 4737,     45,     44.6,  26.2738,  35.3072,2,-999.0000,9,    204.2,1, 26.2638,   -999.0,9,  -999.00,9,  -999.00,9,  -999.00,9,  -999.0,-999.000
     33KB205_1,  PRS2,     2,  9,     13,   8025,2,20081011,1156, 22.8013,-158.0212, 4737,     45,     44.6,  26.2720,  35.3073,2,-999.0000,9,    204.1,1, 26.2619,   -999.0,9,  -999.00,9,  -999.00,9,  -999.00,9,  -999.0,-999.000
     33KB205_1,  PRS2,     2,  9,      9,   8009,2,20081011,1156, 22.8013,-158.0212, 4737,     75,     75.0,  24.6507,  35.2349,2,-999.0000,9,    216.7,1, 24.6346,   -999.0,9,  -999.00,9,  -999.00,9,  -999.00,9,  -999.0,-999.000
     33KB205_1,  PRS2,     2,  9,     12,   8012,2,20081011,1156, 22.8013,-158.0212, 4737,     75,     75.1,  24.6400,  35.2347,2,-999.0000,9,    216.7,1, 24.6238,   -999.0,9,  -999.00,9,  -999.00,9,  -999.00,9,  -999.0,-999.000
     33KB205_1,  PRS2,     2,  9,     11,   8011,2,20081011,1156, 22.8013,-158.0212, 4737,     75,     75.2,  24.6414,  35.2348,2,-999.0000,9,    216.7,1, 24.6252,   -999.0,9,  -999.00,9,  -999.00,9,  -999.00,9,  -999.0,-999.000
     33KB205_1,  PRS2,     2,  9,     10,   8010,2,20081011,1156, 22.8013,-158.0212, 4737,     75,     75.2,  24.6442,  35.2350,2,-999.0000,9,    216.7,1, 24.6280,   -999.0,9,  -999.00,9,  -999.00,9,  -999.00,9,  -999.0,-999.000
     33KB205_1,  PRS2,     2,  9,      8,   8008,2,20081011,1156, 22.8013,-158.0212, 4737,     98,     98.6,  23.4051,  35.2361,2,-999.0000,9,    210.6,1, 23.3847,   -999.0,9,  -999.00,9,  -999.00,9,  -999.00,9,  -999.0,-999.000
     33KB205_1,  PRS2,     2,  9,      7,   8026,2,20081011,1156, 22.8013,-158.0212, 4737,     99,     98.6,  23.3993,  35.2371,2,-999.0000,9,    210.6,1, 23.3789,   -999.0,9,  -999.00,9,  -999.00,9,  -999.00,9,  -999.0,-999.000
     33KB205_1,  PRS2,     2,  9,      6,   8006,2,20081011,1156, 22.8013,-158.0212, 4737,     99,     98.6,  23.3849,  35.2397,2,-999.0000,9,    210.6,1, 23.3645,   -999.0,9,  -999.00,9,  -999.00,9,  -999.00,9,  -999.0,-999.000
     33KB205_1,  PRS2,     2,  9,      4,   8004,2,20081011,1156, 22.8013,-158.0212, 4737,    125,    125.3,  22.2425,  35.2729,2,-999.0000,9,    205.5,1, 22.2175,   -999.0,9,  -999.00,9,  -999.00,9,  -999.00,9,  -999.0,-999.000
     33KB205_1,  PRS2,     2,  9,      3,   8003,2,20081011,1156, 22.8013,-158.0212, 4737,    125,    125.3,  22.2318,  35.2727,2,-999.0000,9,    205.5,1, 22.2068,   -999.0,9,  -999.00,9,  -999.00,9,  -999.00,9,  -999.0,-999.000
     33KB205_1,  PRS2,     2,  9,      5,   8005,2,20081011,1156, 22.8013,-158.0212, 4737,    126,    125.5,  22.2553,  35.2735,2,-999.0000,9,    205.5,1, 22.2302,   -999.0,9,  -999.00,9,  -999.00,9,  -999.00,9,  -999.0,-999.000
     33KB205_1,  PRS2,     2,  9,      2,   8002,2,20081011,1156, 22.8013,-158.0212, 4737,    149,    148.9,  21.6327,  35.2224,2,-999.0000,9,    196.5,1, 21.6036,   -999.0,9,  -999.00,9,  -999.00,9,  -999.00,9,  -999.0,-999.000
     33KB205_1,  PRS2,     2,  9,      1,   8001,2,20081011,1156, 22.8013,-158.0212, 4737,    175,    175.3,  19.7479,  35.0625,2,-999.0000,9,    191.1,1, 19.7157,   -999.0,9,  -999.00,9,  -999.00,9,  -999.00,9,  -999.0,-999.000
     33KB205_1,  PRS2,     2, 10,     14,   8014,2,20081011,1459, 22.7668,-157.9975, 4735,     24,     24.2,  26.2554,  35.2966,2,  35.3084,3,    203.5,1, 26.2500,   -999.0,9,  -999.00,9,  -999.00,9,  -999.00,9,  -999.0,-999.000
     33KB205_1,  PRS2,     2, 10,     13,   8025,2,20081011,1459, 22.7668,-157.9975, 4735,     24,     24.4,  26.2560,  35.2965,2,-999.0000,5,    203.4,1, 26.2505,   -999.0,9,  -999.00,9,  -999.00,9,  -999.00,9,  -999.0,-999.000
     33KB205_1,  PRS2,     2, 10,     10,   8010,2,20081011,1459, 22.7668,-157.9975, 4735,    125,    124.8,  21.7265,  35.2486,2,-999.0000,5,    199.1,1, 21.7020,   -999.0,9,  -999.00,9,  -999.00,9,  -999.00,9,  -999.0,-999.000
     33KB205_1,  PRS2,     2, 10,     12,   8012,2,20081011,1459, 22.7668,-157.9975, 4735,    126,    124.9,  21.7264,  35.2493,2,-999.0000,5,    199.3,1, 21.7019,   -999.0,9,  -999.00,9,  -999.00,9,  -999.00,9,  -999.0,-999.000
     33KB205_1,  PRS2,     2, 10,     11,   8011,2,20081011,1459, 22.7668,-157.9975, 4735,    125,    124.9,  21.7216,  35.2493,2,-999.0000,5,    199.2,1, 21.6972,   -999.0,9,  -999.00,9,  -999.00,9,  -999.00,9,  -999.0,-999.000
     33KB205_1,  PRS2,     2, 10,      8,   8008,2,20081011,1459, 22.7668,-157.9975, 4735,    125,    124.9,  21.7212,  35.2481,2,-999.0000,5,    198.8,1, 21.6967,   -999.0,9,  -999.00,9,  -999.00,9,  -999.00,9,  -999.0,-999.000
     33KB205_1,  PRS2,     2, 10,      9,   8009,2,20081011,1459, 22.7668,-157.9975, 4735,    125,    125.0,  21.7230,  35.2490,2,-999.0000,5,    199.0,1, 21.6985,   -999.0,9,  -999.00,9,  -999.00,9,  -999.00,9,  -999.0,-999.000
     33KB205_1,  PRS2,     2, 10,      5,   8005,2,20081011,1459, 22.7668,-157.9975, 4735,    200,    199.8,  18.6757,  34.9154,2,-999.0000,5,    189.4,1, 18.6405,   -999.0,9,  -999.00,9,  -999.00,9,  -999.00,9,  -999.0,-999.000
     33KB205_1,  PRS2,     2, 10,      4,   8004,2,20081011,1459, 22.7668,-157.9975, 4735,    200,    199.8,  18.6496,  34.9070,2,-999.0000,5,    189.5,1, 18.6144,   -999.0,9,  -999.00,9,  -999.00,9,  -999.00,9,  -999.0,-999.000
     33KB205_1,  PRS2,     2, 10,      7,   8026,2,20081011,1459, 22.7668,-157.9975, 4735,    200,    200.1,  18.7043,  34.9162,2,-999.0000,5,    189.2,1, 18.6690,   -999.0,9,  -999.00,9,  -999.00,9,  -999.00,9,  -999.0,-999.000
     33KB205_1,  PRS2,     2, 10,      6,   8006,2,20081011,1459, 22.7668,-157.9975, 4735,    201,    200.1,  18.6920,  34.9151,2,-999.0000,5,    189.3,1, 18.6567,   -999.0,9,  -999.00,9,  -999.00,9,  -999.00,9,  -999.0,-999.000
     33KB205_1,  PRS2,     2, 10,      3,   8003,2,20081011,1459, 22.7668,-157.9975, 4735,    201,    200.1,  18.6165,  34.9042,2,-999.0000,5,    189.5,1, 18.5814,   -999.0,9,  -999.00,9,  -999.00,9,  -999.00,9,  -999.0,-999.000
     33KB205_1,  PRS2,     2, 10,      2,   8002,2,20081011,1459, 22.7668,-157.9975, 4735,    450,    450.0,   8.2384,  34.0973,2,  34.0995,2,    137.7,1,  8.1919,   -999.0,9,  -999.00,9,  -999.00,9,  -999.00,9,  -999.0,-999.000
     33KB205_1,  PRS2,     2, 10,      1,   8001,2,20081011,1459, 22.7668,-157.9975, 4735,   1020,   1019.3,   3.9947,  34.4815,2,  34.4844,2,     41.6,1,  3.9175,   -999.0,9,  -999.00,9,  -999.00,9,  -999.00,9,  -999.0,-999.000
     33KB205_1,  PRS2,     2, 11,     24,   8024,2,20081011,1802, 22.8290,-158.0075, 4713,      9,      8.6,  26.2348,  35.3006,2,-999.0000,5,    202.8,1, 26.2329,   -999.0,9,  -999.00,9,  -999.00,9,  -999.00,9,  -999.0,-999.000
     33KB205_1,  PRS2,     2, 11,     23,   8023,2,20081011,1802, 22.8290,-158.0075, 4713,      8,      8.6,  26.2332,  35.3005,2,-999.0000,5,    202.8,1, 26.2312,   -999.0,9,  -999.00,9,  -999.00,9,  -999.00,9,  -999.0,-999.000
     33KB205_1,  PRS2,     2, 11,     22,   8022,2,20081011,1802, 22.8290,-158.0075, 4713,     10,      8.6,  26.2322,  35.3003,2,  35.3015,2,    202.9,1, 26.2303,   -999.0,9,  -999.00,9,  -999.00,9,  -999.00,9,  -999.0,-999.000
     33KB205_1,  PRS2,     2, 11,     19,   8019,2,20081011,1802, 22.8290,-158.0075, 4713,     25,     25.1,  26.2358,  35.3001,2,  35.3007,2,    203.2,1, 26.2302,   -999.0,9,  -999.00,9,  -999.00,9,  -999.00,9,  -999.0,-999.000
     33KB205_1,  PRS2,     2, 11,     21,   8021,2,20081011,1802, 22.8290,-158.0075, 4713,     26,     25.5,  26.2362,  35.3001,2,-999.0000,5,    203.0,1, 26.2305,   -999.0,9,  -999.00,9,  -999.00,9,  -999.00,9,  -999.0,-999.000
     33KB205_1,  PRS2,     2, 11,     20,   8020,2,20081011,1802, 22.8290,-158.0075, 4713,     26,     25.5,  26.2360,  35.3002,2,-999.0000,5,    203.1,1, 26.2302,   -999.0,9,  -999.00,9,  -999.00,9,  -999.00,9,  -999.0,-999.000
     33KB205_1,  PRS2,     2, 11,     16,   8016,2,20081011,1802, 22.8290,-158.0075, 4713,     44,     44.4,  26.2390,  35.2996,2,  35.3017,2,    203.3,1, 26.2290,   -999.0,9,  -999.00,9,  -999.00,9,  -999.00,9,  -999.0,-999.000
     33KB205_1,  PRS2,     2, 11,     18,   8018,2,20081011,1802, 22.8290,-158.0075, 4713,     45,     44.5,  26.2385,  35.2995,2,-999.0000,5,    203.3,1, 26.2285,   -999.0,9,  -999.00,9,  -999.00,9,  -999.00,9,  -999.0,-999.000
     33KB205_1,  PRS2,     2, 11,     17,   8017,2,20081011,1802, 22.8290,-158.0075, 4713,     46,     44.5,  26.2392,  35.2996,2,-999.0000,5,    203.3,1, 26.2292,   -999.0,9,  -999.00,9,  -999.00,9,  -999.00,9,  -999.0,-999.000
     33KB205_1,  PRS2,     2, 11,     15,   8015,2,20081011,1802, 22.8290,-158.0075, 4713,     74,     74.4,  24.6486,  35.2319,2,-999.0000,5,    217.9,1, 24.6326,   -999.0,9,  -999.00,9,  -999.00,9,  -999.00,9,  -999.0,-999.000
     33KB205_1,  PRS2,     2, 11,     14,   8014,2,20081011,1802, 22.8290,-158.0075, 4713,     74,     74.5,  24.6369,  35.2329,2,-999.0000,5,    217.7,1, 24.6210,   -999.0,9,  -999.00,9,  -999.00,9,  -999.00,9,  -999.0,-999.000
     33KB205_1,  PRS2,     2, 11,     13,   8025,2,20081011,1802, 22.8290,-158.0075, 4713,     75,     74.5,  24.6125,  35.2342,2,  35.2367,2,    217.5,1, 24.5965,   -999.0,9,  -999.00,9,  -999.00,9,  -999.00,9,  -999.0,-999.000
     33KB205_1,  PRS2,     2, 11,     11,   8011,2,20081011,1802, 22.8290,-158.0075, 4713,    100,     99.9,  22.7871,  35.2417,2,-999.0000,5,    206.3,1, 22.7668,   -999.0,9,  -999.00,9,  -999.00,9,  -999.00,9,  -999.0,-999.000
     33KB205_1,  PRS2,     2, 11,     10,   8010,2,20081011,1802, 22.8290,-158.0075, 4713,    100,    100.0,  22.7887,  35.2415,2,  35.2420,2,    206.3,1, 22.7684,   -999.0,9,  -999.00,9,  -999.00,9,  -999.00,9,  -999.0,-999.000
     33KB205_1,  PRS2,     2, 11,     12,   8012,2,20081011,1802, 22.8290,-158.0075, 4713,    100,    100.1,  22.7860,  35.2418,2,-999.0000,5,    206.3,1, 22.7657,   -999.0,9,  -999.00,9,  -999.00,9,  -999.00,9,  -999.0,-999.000
     33KB205_1,  PRS2,     2, 11,      8,   8008,2,20081011,1802, 22.8290,-158.0075, 4713,    125,    125.4,  21.6393,  35.2421,2,-999.0000,5,    195.2,1, 21.6148,   -999.0,9,  -999.00,9,  -999.00,9,  -999.00,9,  -999.0,-999.000
     33KB205_1,  PRS2,     2, 11,      9,   8009,2,20081011,1802, 22.8290,-158.0075, 4713,    126,    125.5,  21.6420,  35.2413,2,-999.0000,5,    195.1,1, 21.6174,   -999.0,9,  -999.00,9,  -999.00,9,  -999.00,9,  -999.0,-999.000
     33KB205_1,  PRS2,     2, 11,      7,   8026,2,20081011,1802, 22.8290,-158.0075, 4713,    126,    125.6,  21.6332,  35.2418,2,  35.2422,2,    195.3,1, 21.6086,   -999.0,9,  -999.00,9,  -999.00,9,  -999.00,9,  -999.0,-999.000
     33KB205_1,  PRS2,     2, 11,      6,   8006,2,20081011,1802, 22.8290,-158.0075, 4713,    149,    149.4,  20.7728,  35.1443,2,-999.0000,5,    189.7,1, 20.7444,   -999.0,9,  -999.00,9,  -999.00,9,  -999.00,9,  -999.0,-999.000
     33KB205_1,  PRS2,     2, 11,      5,   8005,2,20081011,1802, 22.8290,-158.0075, 4713,    149,    149.5,  20.7714,  35.1439,2,-999.0000,5,    189.6,1, 20.7430,   -999.0,9,  -999.00,9,  -999.00,9,  -999.00,9,  -999.0,-999.000
     33KB205_1,  PRS2,     2, 11,      4,   8004,2,20081011,1802, 22.8290,-158.0075, 4713,    176,    175.5,  19.4606,  35.0204,2,-999.0000,5,    189.8,1, 19.4288,   -999.0,9,  -999.00,9,  -999.00,9,  -999.00,9,  -999.0,-999.000
     33KB205_1,  PRS2,     2, 11,      3,   8003,2,20081011,1802, 22.8290,-158.0075, 4713,    175,    175.5,  19.4564,  35.0214,2,  35.0173,2,    189.8,1, 19.4246,   -999.0,9,  -999.00,9,  -999.00,9,  -999.00,9,  -999.0,-999.000
     33KB205_1,  PRS2,     2, 11,      2,   8002,2,20081011,1802, 22.8290,-158.0075, 4713,    500,    499.9,   7.3407,  34.0919,2,  34.0948,2,    106.0,1,  7.2923,   -999.0,9,  -999.00,9,  -999.00,9,  -999.00,9,  -999.0,-999.000
     33KB205_1,  PRS2,     2, 11,      1,   8001,2,20081011,1802, 22.8290,-158.0075, 4713,   1022,   1020.8,   3.9857,  34.4852,2,  34.4836,2,     42.0,1,  3.9084,   -999.0,9,  -999.00,9,  -999.00,9,  -999.00,9,  -999.0,-999.000
     33KB205_1,  PRS2,     2, 12,     20,   8020,2,20081011,2058, 22.8222,-157.9770, 4701,      9,      8.5,  26.2861,  35.2711,2,  35.2706,2,    204.1,1, 26.2842,   -999.0,9,  -999.00,9,  -999.00,9,  -999.00,9,  -999.0,-999.000
     33KB205_1,  PRS2,     2, 12,     19,   8019,2,20081011,2058, 22.8222,-157.9770, 4701,     25,     24.6,  26.2532,  35.2742,2,-999.0000,5,    203.6,1, 26.2476,   -999.0,9,  -999.00,9,  -999.00,9,  -999.00,9,  -999.0,-999.000
     33KB205_1,  PRS2,     2, 12,     18,   8018,2,20081011,2058, 22.8222,-157.9770, 4701,     24,     24.6,  26.2532,  35.2742,2,-999.0000,5,    203.6,1, 26.2476,   -999.0,9,  -999.00,9,  -999.00,9,  -999.00,9,  -999.0,-999.000
     33KB205_1,  PRS2,     2, 12,     17,   8017,2,20081011,2058, 22.8222,-157.9770, 4701,     25,     24.6,  26.2533,  35.2743,2,  35.2737,2,    203.7,1, 26.2477,   -999.0,9,  -999.00,9,  -999.00,9,  -999.00,9,  -999.0,-999.000
     33KB205_1,  PRS2,     2, 12,     16,   8016,2,20081011,2058, 22.8222,-157.9770, 4701,     45,     44.9,  26.2483,  35.2763,2,  35.2757,2,    203.6,1, 26.2382,   -999.0,9,  -999.00,9,  -999.00,9,  -999.00,9,  -999.0,-999.000
     33KB205_1,  PRS2,     2, 12,     15,   8015,2,20081011,2058, 22.8222,-157.9770, 4701,     62,     60.7,  26.2434,  35.2766,2,  35.2763,2,    203.8,1, 26.2298,   -999.0,9,  -999.00,9,  -999.00,9,  -999.00,9,  -999.0,-999.000
     33KB205_1,  PRS2,     2, 12,     14,   8014,2,20081011,2058, 22.8222,-157.9770, 4701,     75,     75.5,  24.2923,  35.2380,2,-999.0000,5,    219.7,1, 24.2762,   -999.0,9,  -999.00,9,  -999.00,9,  -999.00,9,  -999.0,-999.000
     33KB205_1,  PRS2,     2, 12,     13,   8025,2,20081011,2058, 22.8222,-157.9770, 4701,     75,     75.5,  24.2575,  35.2352,2,  35.2387,2,    219.5,1, 24.2415,   -999.0,9,  -999.00,9,  -999.00,9,  -999.00,9,  -999.0,-999.000
     33KB205_1,  PRS2,     2, 12,     12,   8012,2,20081011,2058, 22.8222,-157.9770, 4701,     86,     85.2,  23.6952,  35.2394,2,  35.2396,2,    213.8,1, 23.6774,   -999.0,9,  -999.00,9,  -999.00,9,  -999.00,9,  -999.0,-999.000
     33KB205_1,  PRS2,     2, 12,     11,   8011,2,20081011,2058, 22.8222,-157.9770, 4701,    100,    100.0,  22.9717,  35.2407,2,  35.2408,2,    207.8,1, 22.9513,   -999.0,9,  -999.00,9,  -999.00,9,  -999.00,9,  -999.0,-999.000
     33KB205_1,  PRS2,     2, 12,     10,   8010,2,20081011,2058, 22.8222,-157.9770, 4701,    116,    115.8,  22.4034,  35.2350,2,  35.2357,2,    203.7,1, 22.3802,   -999.0,9,  -999.00,9,  -999.00,9,  -999.00,9,  -999.0,-999.000
     33KB205_1,  PRS2,     2, 12,      8,   8008,2,20081011,2058, 22.8222,-157.9770, 4701,    125,    124.3,  22.1024,  35.2577,2,  35.2572,2,    202.5,1, 22.0777,   -999.0,9,  -999.00,9,  -999.00,9,  -999.00,9,  -999.0,-999.000
     33KB205_1,  PRS2,     2, 12,      9,   8009,2,20081011,2058, 22.8222,-157.9770, 4701,    125,    124.5,  22.1020,  35.2579,2,-999.0000,5,    202.3,1, 22.0772,   -999.0,9,  -999.00,9,  -999.00,9,  -999.00,9,  -999.0,-999.000
     33KB205_1,  PRS2,     2, 12,      7,   8026,2,20081011,2058, 22.8222,-157.9770, 4701,    152,    150.5,  20.8498,  35.1547,2,  35.1563,2,    189.2,1, 20.8212,   -999.0,9,  -999.00,9,  -999.00,9,  -999.00,9,  -999.0,-999.000
     33KB205_1,  PRS2,     2, 12,      6,   8006,2,20081011,2058, 22.8222,-157.9770, 4701,    175,    174.5,  19.7194,  35.0550,2,  35.0579,2,    189.2,1, 19.6875,   -999.0,9,  -999.00,9,  -999.00,9,  -999.00,9,  -999.0,-999.000
     33KB205_1,  PRS2,     2, 12,      5,   8005,2,20081011,2058, 22.8222,-157.9770, 4701,    199,    199.5,  18.2553,  34.8655,2,  34.8709,2,    189.5,1, 18.2207,   -999.0,9,  -999.00,9,  -999.00,9,  -999.00,9,  -999.0,-999.000
     33KB205_1,  PRS2,     2, 12,      4,   8004,2,20081011,2058, 22.8222,-157.9770, 4701,    226,    224.8,  16.7276,  34.6571,2,  34.8707,4,    187.8,1, 16.6910,   -999.0,9,  -999.00,9,  -999.00,9,  -999.00,9,  -999.0,-999.000
     33KB205_1,  PRS2,     2, 12,      3,   8003,2,20081011,2058, 22.8222,-157.9770, 4701,    252,    251.2,  14.8389,  34.3919,2,  34.3976,2,    180.5,1, 14.8013,   -999.0,9,  -999.00,9,  -999.00,9,  -999.00,9,  -999.0,-999.000
     33KB205_1,  PRS2,     2, 12,      2,   8002,2,20081011,2058, 22.8222,-157.9770, 4701,    500,    499.9,   7.2784,  34.0997,2,  34.0983,2,    102.1,1,  7.2302,   -999.0,9,  -999.00,9,  -999.00,9,  -999.00,9,  -999.0,-999.000
     33KB205_1,  PRS2,     2, 12,      1,   8001,2,20081011,2058, 22.8222,-157.9770, 4701,   1022,   1020.3,   3.9139,  34.4900,2,  34.4891,2,     43.1,1,  3.8373,   -999.0,9,  -999.00,9,  -999.00,9,  -999.00,9,  -999.0,-999.000