BOTTLE,20090923WHPSIOMYS
EXPOCODE,SECT_ID,STNNBR,CASTNO,SAMPNO,BTLNBR,BTLNBR_FLAG_W,DATE,TIME,LATITUDE,LONGITUDE,DEPTH,CTDRAW,CTDPRS,CTDTMP,CTDSAL,CTDSAL_FLAG_W,SALNTY,SALNTY_FLAG_W,CTDOXY,CTDOXY_FLAG_W,THETA,OXYGEN,OXYGEN_FLAG_W,SILCAT,SILCAT_FLAG_W,NO2+NO3,NO2+NO3_FLAG_W,PHSPHT,PHSPHT_FLAG_W,REVPRS,REVTMP
,,,,,,,,,,,,,DBAR,ITS-90,PSS-78,,PSS-78,,UMOL/KG,,ITS-90,UMOL/KG,,UMOL/KG,,UMOL/KG,,UMOL/KG,,DBAR,DEG C
     33KB205_1,  PRS2,     2,  6,     18,   8018,2,20081011,0238, 22.7707,-158.0542, 4757,      7,      6.7,  26.2902,  35.2809,2,  35.2836,2,    204.6,1, 26.2887,   -999.0,9,  -999.00,9,  -999.00,9,  -999.00,9,  -999.0,-999.000
     33KB205_1,  PRS2,     2,  6,     17,   8017,2,20081011,0238, 22.7707,-158.0542, 4757,     25,     25.7,  26.2264,  35.2771,2,-999.0000,5,    205.0,1, 26.2206,   -999.0,9,  -999.00,9,  -999.00,9,  -999.00,9,  -999.0,-999.000
     33KB205_1,  PRS2,     2,  6,     15,   8015,2,20081011,0238, 22.7707,-158.0542, 4757,     25,     25.7,  26.2210,  35.2769,2,  35.2785,2,    205.0,1, 26.2152,   -999.0,9,  -999.00,9,  -999.00,9,  -999.00,9,  -999.0,-999.000
     33KB205_1,  PRS2,     2,  6,     16,   8016,2,20081011,0238, 22.7707,-158.0542, 4757,     26,     25.8,  26.2214,  35.2771,2,-999.0000,5,    205.0,1, 26.2156,   -999.0,9,  -999.00,9,  -999.00,9,  -999.00,9,  -999.0,-999.000
     33KB205_1,  PRS2,     2,  6,     14,   8014,2,20081011,0238, 22.7707,-158.0542, 4757,     44,     44.3,  26.1911,  35.2900,2,  35.2897,2,    205.3,1, 26.1812,   -999.0,9,  -999.00,9,  -999.00,9,  -999.00,9,  -999.0,-999.000
     33KB205_1,  PRS2,     2,  6,     13,   8025,2,20081011,0238, 22.7707,-158.0542, 4757,     75,     75.2,  24.4817,  35.2344,2,  35.2355,2,    217.4,1, 24.4657,   -999.0,9,  -999.00,9,  -999.00,9,  -999.00,9,  -999.0,-999.000
     33KB205_1,  PRS2,     2,  6,     12,   8012,2,20081011,0238, 22.7707,-158.0542, 4757,    101,    100.8,  22.9888,  35.2381,2,  35.2392,2,    208.5,1, 22.9682,   -999.0,9,  -999.00,9,  -999.00,9,  -999.00,9,  -999.0,-999.000
     33KB205_1,  PRS2,     2,  6,     11,   8011,2,20081011,0238, 22.7707,-158.0542, 4757,    124,    123.9,  21.7649,  35.2349,2,  35.2357,2,    198.3,1, 21.7406,   -999.0,9,  -999.00,9,  -999.00,9,  -999.00,9,  -999.0,-999.000
     33KB205_1,  PRS2,     2,  6,     10,   8010,2,20081011,0238, 22.7707,-158.0542, 4757,    150,    149.5,  21.0059,  35.2042,2,  35.2012,2,    197.4,1, 20.9773,   -999.0,9,  -999.00,9,  -999.00,9,  -999.00,9,  -999.0,-999.000
     33KB205_1,  PRS2,     2,  6,      9,   8009,2,20081011,0238, 22.7707,-158.0542, 4757,    175,    174.4,  20.0510,  35.0852,2,  35.0886,2,    189.7,1, 20.0187,   -999.0,9,  -999.00,9,  -999.00,9,  -999.00,9,  -999.0,-999.000
     33KB205_1,  PRS2,     2,  6,      8,   8008,2,20081011,0238, 22.7707,-158.0542, 4757,    200,    199.8,  18.5019,  34.8979,2,  34.8951,2,    189.2,1, 18.4669,   -999.0,9,  -999.00,9,  -999.00,9,  -999.00,9,  -999.0,-999.000
     33KB205_1,  PRS2,     2,  6,      7,   8026,2,20081011,0238, 22.7707,-158.0542, 4757,    251,    250.9,  15.8642,  34.5474,2,  34.5602,2,    188.2,1, 15.8248,   -999.0,9,  -999.00,9,  -999.00,9,  -999.00,9,  -999.0,-999.000
     33KB205_1,  PRS2,     2,  6,      6,   8006,2,20081011,0238, 22.7707,-158.0542, 4757,    350,    349.5,  10.7274,  34.1485,2,  34.1519,2,    149.3,1, 10.6851,   -999.0,9,  -999.00,9,  -999.00,9,  -999.00,9,  -999.0,-999.000
     33KB205_1,  PRS2,     2,  6,      5,   8005,2,20081011,0238, 22.7707,-158.0542, 4757,    350,    349.5,  10.7223,  34.1478,2,  34.1519,2,    149.5,1, 10.6801,   -999.0,9,  -999.00,9,  -999.00,9,  -999.00,9,  -999.0,-999.000
     33KB205_1,  PRS2,     2,  6,      4,   8004,2,20081011,0238, 22.7707,-158.0542, 4757,    481,    481.0,   7.5048,  34.1004,2,  34.1034,2,    107.5,1,  7.4576,   -999.0,9,  -999.00,9,  -999.00,9,  -999.00,9,  -999.0,-999.000
     33KB205_1,  PRS2,     2,  6,      3,   8003,2,20081011,0238, 22.7707,-158.0542, 4757,   1019,   1019.4,   3.9427,  34.4778,2,-999.0000,5,     43.5,1,  3.8659,   -999.0,9,  -999.00,9,  -999.00,9,  -999.00,9,  -999.0,-999.000
     33KB205_1,  PRS2,     2,  6,      2,   8002,2,20081011,0238, 22.7707,-158.0542, 4757,   1019,   1019.4,   3.9442,  34.4775,2,-999.0000,5,     43.5,1,  3.8674,   -999.0,9,  -999.00,9,  -999.00,9,  -999.00,9,  -999.0,-999.000
     33KB205_1,  PRS2,     2,  6,      1,   8001,2,20081011,0238, 22.7707,-158.0542, 4757,   1018,   1019.4,   3.9462,  34.4774,2,  34.4781,2,     43.5,1,  3.8694,   -999.0,9,  -999.00,9,  -999.00,9,  -999.00,9,  -999.0,-999.000
     33KB205_1,  PRS2,     2,  7,     22,   8022,2,20081011,0600, 22.7740,-158.0457, 4753,      5,      6.0,  26.2986,  35.2982,2,  35.2986,2,    204.5,2, 26.2973,    203.7,2,  -999.00,9,  -999.00,9,  -999.00,9,  -999.0,-999.000
     33KB205_1,  PRS2,     2,  7,     23,   8023,2,20081011,0600, 22.7740,-158.0457, 4753,      7,      6.3,  26.2990,  35.2982,2,  35.2986,2,    204.5,2, 26.2976,   -999.0,5,  -999.00,9,  -999.00,9,  -999.00,9,  -999.0,-999.000
     33KB205_1,  PRS2,     2,  7,     21,   8021,2,20081011,0600, 22.7740,-158.0457, 4753,     16,     16.0,  26.3005,  35.2981,2,  35.2970,2,    204.6,2, 26.2969,   -999.0,5,  -999.00,9,  -999.00,9,  -999.00,9,  -999.0,-999.000
     33KB205_1,  PRS2,     2,  7,     20,   8020,2,20081011,0600, 22.7740,-158.0457, 4753,     25,     24.9,  26.3027,  35.2978,2,  35.3009,2,    204.5,2, 26.2971,   -999.0,5,  -999.00,9,  -999.00,9,  -999.00,9,  -999.0,-999.000
     33KB205_1,  PRS2,     2,  7,     19,   8019,2,20081011,0600, 22.7740,-158.0457, 4753,     25,     25.1,  26.3035,  35.2977,2,  35.2978,2,    204.5,2, 26.2978,    205.7,2,  -999.00,9,  -999.00,9,  -999.00,9,  -999.0,-999.000
     33KB205_1,  PRS2,     2,  7,     18,   8018,2,20081011,0600, 22.7740,-158.0457, 4753,     35,     34.9,  26.3015,  35.2971,2,  35.2966,2,    204.5,2, 26.2936,   -999.0,5,  -999.00,9,  -999.00,9,  -999.00,9,  -999.0,-999.000
     33KB205_1,  PRS2,     2,  7,     17,   8017,2,20081011,0600, 22.7740,-158.0457, 4753,     45,     45.8,  26.2210,  35.2935,2,  35.2950,2,    204.9,2, 26.2108,    204.7,2,  -999.00,9,  -999.00,9,  -999.00,9,  -999.0,-999.000
     33KB205_1,  PRS2,     2,  7,     16,   8016,2,20081011,0600, 22.7740,-158.0457, 4753,     61,     60.5,  25.6224,  35.2792,2,  35.2741,2,    210.2,2, 25.6091,   -999.0,5,  -999.00,9,  -999.00,9,  -999.00,9,  -999.0,-999.000
     33KB205_1,  PRS2,     2,  7,     15,   8015,2,20081011,0600, 22.7740,-158.0457, 4753,     76,     75.4,  24.2068,  35.2390,2,  35.2390,2,    217.0,2, 24.1908,    216.8,2,  -999.00,9,  -999.00,9,  -999.00,9,  -999.0,-999.000
     33KB205_1,  PRS2,     2,  7,     14,   8014,2,20081011,0600, 22.7740,-158.0457, 4753,     85,     85.4,  23.6795,  35.2356,2,  35.2357,2,    214.9,2, 23.6616,    214.4,2,  -999.00,9,  -999.00,9,  -999.00,9,  -999.0,-999.000
     33KB205_1,  PRS2,     2,  7,     13,   8025,2,20081011,0600, 22.7740,-158.0457, 4753,     91,     91.0,  23.4995,  35.2361,2,  35.2359,2,    214.3,2, 23.4806,   -999.0,5,  -999.00,9,  -999.00,9,  -999.00,9,  -999.0,-999.000
     33KB205_1,  PRS2,     2,  7,     12,   8012,2,20081011,0600, 22.7740,-158.0457, 4753,    100,    100.1,  23.0889,  35.2367,2,  35.2367,2,    209.9,2, 23.0684,    209.3,2,  -999.00,9,  -999.00,9,  -999.00,9,  -999.0,-999.000
     33KB205_1,  PRS2,     2,  7,     11,   8011,2,20081011,0600, 22.7740,-158.0457, 4753,    110,    109.9,  22.5236,  35.2453,2,  35.2444,2,    203.9,2, 22.5015,   -999.0,5,  -999.00,9,  -999.00,9,  -999.00,9,  -999.0,-999.000
     33KB205_1,  PRS2,     2,  7,     10,   8010,2,20081011,0600, 22.7740,-158.0457, 4753,    115,    114.2,  22.3929,  35.2499,2,  35.2507,2,    204.2,2, 22.3700,    204.6,2,  -999.00,9,  -999.00,9,  -999.00,9,  -999.0,-999.000
     33KB205_1,  PRS2,     2,  7,      9,   8009,2,20081011,0600, 22.7740,-158.0457, 4753,    124,    124.8,  22.0021,  35.2495,2,  35.2552,2,    201.9,2, 21.9774,    202.2,2,  -999.00,9,  -999.00,9,  -999.00,9,  -999.0,-999.000
     33KB205_1,  PRS2,     2,  7,      8,   8008,2,20081011,0600, 22.7740,-158.0457, 4753,    131,    130.1,  21.7430,  35.2380,2,  35.2402,2,    198.6,2, 21.7174,   -999.0,5,  -999.00,9,  -999.00,9,  -999.00,9,  -999.0,-999.000
     33KB205_1,  PRS2,     2,  7,      7,   8026,2,20081011,0600, 22.7740,-158.0457, 4753,    150,    149.5,  21.1601,  35.2315,2,  35.2341,2,    200.0,2, 21.1313,    199.0,2,  -999.00,9,  -999.00,9,  -999.00,9,  -999.0,-999.000
     33KB205_1,  PRS2,     2,  7,      6,   8006,2,20081011,0600, 22.7740,-158.0457, 4753,    164,    164.5,  20.2567,  35.0962,2,  35.1008,2,    190.3,2, 20.2260,    191.5,2,  -999.00,9,  -999.00,9,  -999.00,9,  -999.0,-999.000
     33KB205_1,  PRS2,     2,  7,      5,   8005,2,20081011,0600, 22.7740,-158.0457, 4753,    174,    175.0,  19.8631,  35.0898,2,  35.0957,2,    192.8,2, 19.8309,    193.6,2,  -999.00,9,  -999.00,9,  -999.00,9,  -999.0,-999.000
     33KB205_1,  PRS2,     2,  7,      4,   8004,2,20081011,0600, 22.7740,-158.0457, 4753,    200,    200.3,  17.2649,  34.7228,2,  34.7325,2,    188.6,2, 17.2316,    189.7,2,  -999.00,9,  -999.00,9,  -999.00,9,  -999.0,-999.000
     33KB205_1,  PRS2,     2,  7,      3,   8003,2,20081011,0600, 22.7740,-158.0457, 4753,    492,    490.6,   7.1925,  34.1078,2,  34.1072,2,     95.9,2,  7.1455,     97.1,2,  -999.00,9,  -999.00,9,  -999.00,9,  -999.0,-999.000
     33KB205_1,  PRS2,     2,  7,      2,   8002,2,20081011,0600, 22.7740,-158.0457, 4753,    801,    800.3,   4.6367,  34.3599,2,  34.3576,2,     31.1,2,  4.5736,     30.4,2,  -999.00,9,  -999.00,9,  -999.00,9,  -999.0,-999.000
     33KB205_1,  PRS2,     2,  7,      1,   8001,2,20081011,0600, 22.7740,-158.0457, 4753,   1021,   1020.2,   4.0213,  34.4747,2,  34.4742,2,     41.8,2,  3.9438,     41.7,2,  -999.00,9,  -999.00,9,  -999.00,9,  -999.0,-999.000
     33KB205_1,  PRS2,     2,  8,     24,   8024,2,20081011,0909, 22.8022,-158.0288, 4742,      6,      6.8,  26.2806,  35.3076,2,  35.3092,2,    204.0,1, 26.2791,   -999.0,9,  -999.00,9,  -999.00,9,  -999.00,9,  -999.0,-999.000
     33KB205_1,  PRS2,     2,  8,     23,   8023,2,20081011,0909, 22.8022,-158.0288, 4742,     25,     25.3,  26.2838,  35.3062,2,  35.3074,2,    204.0,1, 26.2781,   -999.0,9,  -999.00,9,  -999.00,9,  -999.00,9,  -999.0,-999.000
     33KB205_1,  PRS2,     2,  8,     22,   8022,2,20081011,0909, 22.8022,-158.0288, 4742,     45,     44.3,  26.2861,  35.3060,2,  35.3072,2,    204.0,1, 26.2761,   -999.0,9,  -999.00,9,  -999.00,9,  -999.00,9,  -999.0,-999.000
     33KB205_1,  PRS2,     2,  8,     21,   8021,2,20081011,0909, 22.8022,-158.0288, 4742,     75,     75.0,  24.2139,  35.2407,2,  35.2410,2,    217.3,1, 24.1980,   -999.0,9,  -999.00,9,  -999.00,9,  -999.00,9,  -999.0,-999.000
     33KB205_1,  PRS2,     2,  8,     20,   8020,2,20081011,0909, 22.8022,-158.0288, 4742,     99,    100.2,  22.8711,  35.2408,2,  35.2450,2,    207.4,1, 22.8507,   -999.0,9,  -999.00,9,  -999.00,9,  -999.00,9,  -999.0,-999.000
     33KB205_1,  PRS2,     2,  8,     19,   8019,2,20081011,0909, 22.8022,-158.0288, 4742,    123,    123.7,  22.1291,  35.2646,2,  35.2641,2,    204.6,1, 22.1045,   -999.0,9,  -999.00,9,  -999.00,9,  -999.00,9,  -999.0,-999.000
     33KB205_1,  PRS2,     2,  8,     18,   8018,2,20081011,0909, 22.8022,-158.0288, 4742,    150,    150.0,  21.2407,  35.1896,2,  35.1863,2,    193.2,1, 21.2118,   -999.0,9,  -999.00,9,  -999.00,9,  -999.00,9,  -999.0,-999.000
     33KB205_1,  PRS2,     2,  8,     17,   8017,2,20081011,0909, 22.8022,-158.0288, 4742,    175,    174.8,  20.0565,  35.1066,2,  35.1067,2,    193.3,1, 20.0241,   -999.0,9,  -999.00,9,  -999.00,9,  -999.00,9,  -999.0,-999.000
     33KB205_1,  PRS2,     2,  8,     16,   8016,2,20081011,0909, 22.8022,-158.0288, 4742,    490,    489.1,   7.2913,  34.0869,2,  34.0860,2,    104.9,1,  7.2442,   -999.0,9,  -999.00,9,  -999.00,9,  -999.00,9,  -999.0,-999.000
     33KB205_1,  PRS2,     2,  8,     13,   8025,2,20081011,0909, 22.8022,-158.0288, 4742,    500,    499.9,   7.2106,  34.1035,2,-999.0000,5,     98.7,1,  7.1627,   -999.0,9,  -999.00,9,  -999.00,9,  -999.00,9,  -999.0,-999.000
     33KB205_1,  PRS2,     2,  8,     15,   8015,2,20081011,0909, 22.8022,-158.0288, 4742,    500,    500.0,   7.2113,  34.1034,2,-999.0000,5,     99.2,1,  7.1634,   -999.0,9,  -999.00,9,  -999.00,9,  -999.00,9,  -999.0,-999.000
     33KB205_1,  PRS2,     2,  8,     12,   8012,2,20081011,0909, 22.8022,-158.0288, 4742,    500,    500.0,   7.2085,  34.1023,2,-999.0000,5,     98.4,1,  7.1606,   -999.0,9,  -999.00,9,  -999.00,9,  -999.00,9,  -999.0,-999.000
     33KB205_1,  PRS2,     2,  8,     14,   8014,2,20081011,0909, 22.8022,-158.0288, 4742,    500,    500.1,   7.2110,  34.1033,2,-999.0000,5,     99.0,1,  7.1630,   -999.0,9,  -999.00,9,  -999.00,9,  -999.00,9,  -999.0,-999.000
     33KB205_1,  PRS2,     2,  8,     11,   8011,2,20081011,0909, 22.8022,-158.0288, 4742,    500,    500.1,   7.2061,  34.1034,2,-999.0000,5,     98.1,1,  7.1581,   -999.0,9,  -999.00,9,  -999.00,9,  -999.00,9,  -999.0,-999.000
     33KB205_1,  PRS2,     2,  8,     10,   8010,2,20081011,0909, 22.8022,-158.0288, 4742,    771,    770.5,   4.8592,  34.3228,2,-999.0000,5,     32.1,1,  4.7973,   -999.0,9,  -999.00,9,  -999.00,9,  -999.00,9,  -999.0,-999.000
     33KB205_1,  PRS2,     2,  8,      9,   8009,2,20081011,0909, 22.8022,-158.0288, 4742,    771,    770.6,   4.8589,  34.3228,2,-999.0000,5,     32.1,1,  4.7970,   -999.0,9,  -999.00,9,  -999.00,9,  -999.00,9,  -999.0,-999.000
     33KB205_1,  PRS2,     2,  8,      8,   8008,2,20081011,0909, 22.8022,-158.0288, 4742,    771,    770.6,   4.8593,  34.3226,2,-999.0000,5,     32.1,1,  4.7974,   -999.0,9,  -999.00,9,  -999.00,9,  -999.00,9,  -999.0,-999.000
     33KB205_1,  PRS2,     2,  8,      6,   8006,2,20081011,0909, 22.8022,-158.0288, 4742,    771,    770.6,   4.8629,  34.3213,2,-999.0000,5,     32.0,1,  4.8010,   -999.0,9,  -999.00,9,  -999.00,9,  -999.00,9,  -999.0,-999.000
     33KB205_1,  PRS2,     2,  8,      7,   8026,2,20081011,0909, 22.8022,-158.0288, 4742,    772,    770.7,   4.8608,  34.3222,2,-999.0000,5,     32.0,1,  4.7989,   -999.0,9,  -999.00,9,  -999.00,9,  -999.00,9,  -999.0,-999.000
     33KB205_1,  PRS2,     2,  8,      5,   8005,2,20081011,0909, 22.8022,-158.0288, 4742,   1021,   1020.7,   4.0872,  34.4731,2,-999.0000,5,     40.5,1,  4.0092,   -999.0,9,  -999.00,9,  -999.00,9,  -999.00,9,  -999.0,-999.000
     33KB205_1,  PRS2,     2,  8,      4,   8004,2,20081011,0909, 22.8022,-158.0288, 4742,   1021,   1020.7,   4.0879,  34.4731,2,-999.0000,5,     40.5,1,  4.0098,   -999.0,9,  -999.00,9,  -999.00,9,  -999.00,9,  -999.0,-999.000
     33KB205_1,  PRS2,     2,  8,      3,   8003,2,20081011,0909, 22.8022,-158.0288, 4742,   1021,   1020.9,   4.0884,  34.4734,2,-999.0000,5,     40.5,1,  4.0104,   -999.0,9,  -999.00,9,  -999.00,9,  -999.00,9,  -999.0,-999.000
     33KB205_1,  PRS2,     2,  8,      1,   8001,2,20081011,0909, 22.8022,-158.0288, 4742,   1021,   1020.9,   4.0872,  34.4732,2,  34.4738,2,     40.5,1,  4.0092,   -999.0,9,  -999.00,9,  -999.00,9,  -999.00,9,  -999.0,-999.000
     33KB205_1,  PRS2,     2,  8,      2,   8002,2,20081011,0909, 22.8022,-158.0288, 4742,   1020,   1021.0,   4.0872,  34.4732,2,-999.0000,5,     40.5,1,  4.0092,   -999.0,9,  -999.00,9,  -999.00,9,  -999.00,9,  -999.0,-999.000