BOTTLE,20090923WHPSIOMYS
EXPOCODE,SECT_ID,STNNBR,CASTNO,SAMPNO,BTLNBR,BTLNBR_FLAG_W,DATE,TIME,LATITUDE,LONGITUDE,DEPTH,CTDRAW,CTDPRS,CTDTMP,CTDSAL,CTDSAL_FLAG_W,SALNTY,SALNTY_FLAG_W,CTDOXY,CTDOXY_FLAG_W,THETA,OXYGEN,OXYGEN_FLAG_W,SILCAT,SILCAT_FLAG_W,NO2+NO3,NO2+NO3_FLAG_W,PHSPHT,PHSPHT_FLAG_W,REVPRS,REVTMP
,,,,,,,,,,,,,DBAR,ITS-90,PSS-78,,PSS-78,,UMOL/KG,,ITS-90,UMOL/KG,,UMOL/KG,,UMOL/KG,,UMOL/KG,,DBAR,DEG C
     33KB205_1,  PRS2,     2, 16,     24,   8024,2,20081012,0905, 22.7495,-158.0012, 4753,      5,      5.5,  26.2320,  35.2956,2,  35.2984,2,    203.5,2, 26.2307,    203.6,2,  -999.00,9,  -999.00,9,  -999.00,9,  -999.0,-999.000
     33KB205_1,  PRS2,     2, 16,     23,   8023,2,20081012,0905, 22.7495,-158.0012, 4753,     24,     23.9,  26.2331,  35.2947,2,-999.0000,5,    203.4,2, 26.2277,   -999.0,5,  -999.00,9,  -999.00,9,  -999.00,9,  -999.0,-999.000
     33KB205_1,  PRS2,     2, 16,     22,   8022,2,20081012,0905, 22.7495,-158.0012, 4753,     71,     70.2,  24.4528,  35.2565,2,  35.2574,2,    218.3,2, 24.4378,    218.5,2,  -999.00,9,  -999.00,9,  -999.00,9,  -999.0,-999.000
     33KB205_1,  PRS2,     2, 16,     21,   8021,2,20081012,0905, 22.7495,-158.0012, 4753,     76,     76.0,  24.2683,  35.2539,2,-999.0000,5,    218.5,2, 24.2522,   -999.0,5,  -999.00,9,  -999.00,9,  -999.00,9,  -999.0,-999.000
     33KB205_1,  PRS2,     2, 16,     20,   8020,2,20081012,0905, 22.7495,-158.0012, 4753,     96,     97.9,  23.4797,  35.2390,2,-999.0000,5,    211.2,2, 23.4594,   -999.0,5,  -999.00,9,  -999.00,9,  -999.00,9,  -999.0,-999.000
     33KB205_1,  PRS2,     2, 16,     19,   8019,2,20081012,0905, 22.7495,-158.0012, 4753,    127,    125.5,  22.2527,  35.2378,2,-999.0000,5,    202.7,2, 22.2277,   -999.0,5,  -999.00,9,  -999.00,9,  -999.00,9,  -999.0,-999.000
     33KB205_1,  PRS2,     2, 16,     18,   8018,2,20081012,0905, 22.7495,-158.0012, 4753,    176,    176.0,  20.7034,  35.1453,2,-999.0000,5,    190.3,2, 20.6700,   -999.0,5,  -999.00,9,  -999.00,9,  -999.00,9,  -999.0,-999.000
     33KB205_1,  PRS2,     2, 16,     17,   8017,2,20081012,0905, 22.7495,-158.0012, 4753,    399,    399.9,   9.4436,  34.1161,2,-999.0000,5,    157.5,2,  9.3988,   -999.0,5,  -999.00,9,  -999.00,9,  -999.00,9,  -999.0,-999.000
     33KB205_1,  PRS2,     2, 16,     16,   8016,2,20081012,0905, 22.7495,-158.0012, 4753,    530,    530.3,   6.6181,  34.0891,2,  34.0897,2,     95.3,2,  6.5695,     93.7,2,  -999.00,9,  -999.00,9,  -999.00,9,  -999.0,-999.000
     33KB205_1,  PRS2,     2, 16,     15,   8015,2,20081012,0905, 22.7495,-158.0012, 4753,    600,    599.1,   5.9220,  34.1724,2,-999.0000,5,     54.8,2,  5.8699,   -999.0,5,  -999.00,9,  -999.00,9,  -999.00,9,  -999.0,-999.000
     33KB205_1,  PRS2,     2, 16,     14,   8014,2,20081012,0905, 22.7495,-158.0012, 4753,    831,    830.9,   4.5918,  34.3778,2,  34.3764,2,     31.0,2,  4.5264,     30.7,2,  -999.00,9,  -999.00,9,  -999.00,9,  -999.0,-999.000
     33KB205_1,  PRS2,     2, 16,     13,   8025,2,20081012,0905, 22.7495,-158.0012, 4753,   1000,    998.9,   4.0451,  34.4746,2,-999.0000,5,     40.9,2,  3.9692,   -999.0,5,  -999.00,9,  -999.00,9,  -999.00,9,  -999.0,-999.000
     33KB205_1,  PRS2,     2, 16,     12,   8012,2,20081012,0905, 22.7495,-158.0012, 4753,   1000,    998.9,   4.0456,  34.4753,2,  34.4779,2,     41.0,2,  3.9697,   -999.0,5,  -999.00,9,  -999.00,9,  -999.00,9,  -999.0,-999.000
     33KB205_1,  PRS2,     2, 16,     11,   8011,2,20081012,0905, 22.7495,-158.0012, 4753,   2000,   1999.7,   2.1301,  34.6180,2,-999.0000,5,     86.2,2,  1.9917,   -999.0,5,  -999.00,9,  -999.00,9,  -999.00,9,  -999.0,-999.000
     33KB205_1,  PRS2,     2, 16,     10,   8010,2,20081012,0905, 22.7495,-158.0012, 4753,   2000,   1999.7,   2.1293,  34.6180,2,  34.6189,2,     86.2,2,  1.9910,     86.8,2,  -999.00,9,  -999.00,9,  -999.00,9,  -999.0,-999.000
     33KB205_1,  PRS2,     2, 16,      9,   8009,2,20081012,0905, 22.7495,-158.0012, 4753,   3001,   2999.8,   1.5382,  34.6703,2,-999.0000,5,    123.3,2,  1.3206,   -999.0,5,  -999.00,9,  -999.00,9,  -999.00,9,  -999.0,-999.000
     33KB205_1,  PRS2,     2, 16,      8,   8008,2,20081012,0905, 22.7495,-158.0012, 4753,   3002,   2999.9,   1.5380,  34.6702,2,  34.6708,2,    123.3,2,  1.3204,    124.3,2,  -999.00,9,  -999.00,9,  -999.00,9,  -999.0,-999.000
     33KB205_1,  PRS2,     2, 16,      6,   8006,2,20081012,0905, 22.7495,-158.0012, 4753,   4001,   4001.1,   1.4573,  34.6874,2,  34.6875,2,    146.6,2,  1.1395,    146.5,2,  -999.00,9,  -999.00,9,  -999.00,9,  -999.0,-999.000
     33KB205_1,  PRS2,     2, 16,      7,   8026,2,20081012,0905, 22.7495,-158.0012, 4753,   4002,   4001.4,   1.4572,  34.6874,2,-999.0000,5,    146.6,2,  1.1393,   -999.0,5,  -999.00,9,  -999.00,9,  -999.00,9,  -999.0,-999.000
     33KB205_1,  PRS2,     2, 16,      1,   8001,2,20081012,0905, 22.7495,-158.0012, 4753,   4804,   4803.3,   1.5038,  34.6911,2,  34.6928,2,    153.2,2,  1.0931,    153.7,2,  -999.00,9,  -999.00,9,  -999.00,9,  -999.0,-999.000
     33KB205_1,  PRS2,     2, 16,      2,   8002,2,20081012,0905, 22.7495,-158.0012, 4753,   4805,   4803.4,   1.5038,  34.6911,2,  34.6924,2,    153.3,2,  1.0931,   -999.0,5,  -999.00,9,  -999.00,9,  -999.00,9,  -999.0,-999.000
     33KB205_1,  PRS2,     2, 16,      5,   8005,2,20081012,0905, 22.7495,-158.0012, 4753,   4803,   4803.5,   1.5038,  34.6910,2,  34.6928,2,    153.4,2,  1.0931,   -999.0,5,  -999.00,9,  -999.00,9,  -999.00,9,  -999.0,-999.000
     33KB205_1,  PRS2,     2, 16,      4,   8004,2,20081012,0905, 22.7495,-158.0012, 4753,   4805,   4803.5,   1.5038,  34.6911,2,  34.6932,2,    153.4,2,  1.0931,   -999.0,5,  -999.00,9,  -999.00,9,  -999.00,9,  -999.0,-999.000
     33KB205_1,  PRS2,     2, 16,      3,   8003,2,20081012,0905, 22.7495,-158.0012, 4753,   4804,   4803.5,   1.5037,  34.6912,2,  34.6926,2,    153.2,2,  1.0930,   -999.0,5,  -999.00,9,  -999.00,9,  -999.00,9,  -999.0,-999.000
     33KB205_1,  PRS2,     2, 17,      8,   8008,2,20081012,2041, 22.8330,-157.9687, 4694,      9,      8.4,  26.2702,  35.2820,2,-999.0000,9,    202.9,1, 26.2683,   -999.0,9,  -999.00,9,  -999.00,9,  -999.00,9,  -999.0,-999.000
     33KB205_1,  PRS2,     2, 17,      7,   8026,2,20081012,2041, 22.8330,-157.9687, 4694,     25,     25.0,  26.2577,  35.2800,2,-999.0000,9,    203.1,1, 26.2520,   -999.0,9,  -999.00,9,  -999.00,9,  -999.00,9,  -999.0,-999.000
     33KB205_1,  PRS2,     2, 17,      6,   8006,2,20081012,2041, 22.8330,-157.9687, 4694,     50,     49.7,  26.2523,  35.2792,2,-999.0000,9,    203.1,1, 26.2411,   -999.0,9,  -999.00,9,  -999.00,9,  -999.00,9,  -999.0,-999.000
     33KB205_1,  PRS2,     2, 17,      5,   8005,2,20081012,2041, 22.8330,-157.9687, 4694,     75,     75.7,  24.6174,  35.2542,2,-999.0000,9,    218.6,1, 24.6011,   -999.0,9,  -999.00,9,  -999.00,9,  -999.00,9,  -999.0,-999.000
     33KB205_1,  PRS2,     2, 17,      4,   8004,2,20081012,2041, 22.8330,-157.9687, 4694,    101,    100.4,  22.6392,  35.2353,2,-999.0000,9,    203.7,1, 22.6190,   -999.0,9,  -999.00,9,  -999.00,9,  -999.00,9,  -999.0,-999.000
     33KB205_1,  PRS2,     2, 17,      3,   8003,2,20081012,2041, 22.8330,-157.9687, 4694,    122,    123.8,  21.8164,  35.2424,2,-999.0000,9,    200.2,1, 21.7921,   -999.0,9,  -999.00,9,  -999.00,9,  -999.00,9,  -999.0,-999.000
     33KB205_1,  PRS2,     2, 17,      2,   8002,2,20081012,2041, 22.8330,-157.9687, 4694,    149,    149.2,  20.2933,  35.0958,2,-999.0000,9,    188.2,1, 20.2654,   -999.0,9,  -999.00,9,  -999.00,9,  -999.00,9,  -999.0,-999.000
     33KB205_1,  PRS2,     2, 17,      1,   8001,2,20081012,2041, 22.8330,-157.9687, 4694,    175,    174.6,  19.3841,  35.0095,2,-999.0000,9,    189.6,1, 19.3525,   -999.0,9,  -999.00,9,  -999.00,9,  -999.00,9,  -999.0,-999.000
     33KB205_1,  PRS2,     3,  1,      3,   8003,2,20081012,1831, 22.8835,-158.0500, 4704,    399,    399.4,   9.4182,  34.1502,2,-999.0000,9,    140.2,1,  9.3736,   -999.0,9,  -999.00,9,  -999.00,9,  -999.00,9,  -999.0,-999.000
     33KB205_1,  PRS2,     3,  1,      2,   8002,2,20081012,1831, 22.8835,-158.0500, 4704,    449,    450.2,   8.6794,  34.1690,2,-999.0000,9,    105.3,1,  8.6314,   -999.0,9,  -999.00,9,  -999.00,9,  -999.00,9,  -999.0,-999.000
     33KB205_1,  PRS2,     3,  1,      1,   8001,2,20081012,1831, 22.8835,-158.0500, 4704,    500,    499.5,   7.3796,  34.0750,2,-999.0000,9,    110.2,1,  7.3311,   -999.0,9,  -999.00,9,  -999.00,9,  -999.00,9,  -999.0,-999.000
     33KB205_1,  PRS2,     6,  1,     13,   8025,2,20081013,0650, 21.8453,-158.3593, 2465,      5,      5.8,  26.2819,  35.1892,2,  35.1896,2,    203.7,1, 26.2806,   -999.0,9,  -999.00,9,  -999.00,9,  -999.00,9,  -999.0,-999.000
     33KB205_1,  PRS2,     6,  1,     12,   8012,2,20081013,0650, 21.8453,-158.3593, 2465,     25,     25.7,  26.3075,  35.1969,2,  35.1973,2,    203.6,1, 26.3017,   -999.0,9,  -999.00,9,  -999.00,9,  -999.00,9,  -999.0,-999.000
     33KB205_1,  PRS2,     6,  1,     11,   8011,2,20081013,0650, 21.8453,-158.3593, 2465,     42,     43.7,  26.2602,  35.2088,2,  35.2089,2,    203.8,1, 26.2504,   -999.0,9,  -999.00,9,  -999.00,9,  -999.00,9,  -999.0,-999.000
     33KB205_1,  PRS2,     6,  1,     10,   8010,2,20081013,0650, 21.8453,-158.3593, 2465,     76,     75.9,  23.2860,  35.2008,2,  35.2008,2,    210.8,1, 23.2703,   -999.0,9,  -999.00,9,  -999.00,9,  -999.00,9,  -999.0,-999.000
     33KB205_1,  PRS2,     6,  1,      9,   8009,2,20081013,0650, 21.8453,-158.3593, 2465,     99,    100.0,  22.6437,  35.2214,2,  35.2211,2,    201.6,1, 22.6235,   -999.0,9,  -999.00,9,  -999.00,9,  -999.00,9,  -999.0,-999.000
     33KB205_1,  PRS2,     6,  1,      8,   8008,2,20081013,0650, 21.8453,-158.3593, 2465,    123,    124.2,  22.0944,  35.2161,2,  35.2160,2,    196.3,1, 22.0697,   -999.0,9,  -999.00,9,  -999.00,9,  -999.00,9,  -999.0,-999.000
     33KB205_1,  PRS2,     6,  1,      7,   8026,2,20081013,0650, 21.8453,-158.3593, 2465,    150,    151.1,  21.0074,  35.1437,2,  35.1601,3,    190.8,1, 20.9784,   -999.0,9,  -999.00,9,  -999.00,9,  -999.00,9,  -999.0,-999.000
     33KB205_1,  PRS2,     6,  1,      6,   8006,2,20081013,0650, 21.8453,-158.3593, 2465,    174,    175.8,  19.9380,  35.0344,2,  35.0386,2,    189.4,1, 19.9056,   -999.0,9,  -999.00,9,  -999.00,9,  -999.00,9,  -999.0,-999.000
     33KB205_1,  PRS2,     6,  1,      5,   8005,2,20081013,0650, 21.8453,-158.3593, 2465,    503,    501.0,   7.1826,  34.1015,2,  34.1021,2,    104.8,1,  7.1347,   -999.0,9,  -999.00,9,  -999.00,9,  -999.00,9,  -999.0,-999.000
     33KB205_1,  PRS2,     6,  1,      4,   8004,2,20081013,0650, 21.8453,-158.3593, 2465,   1000,   1000.4,   4.1085,  34.4773,2,  34.4773,2,     44.0,1,  4.0320,   -999.0,9,  -999.00,9,  -999.00,9,  -999.00,9,  -999.0,-999.000
     33KB205_1,  PRS2,     6,  1,      3,   8003,2,20081013,0650, 21.8453,-158.3593, 2465,   1502,   1499.7,   2.9022,  34.5668,2,  34.5675,2,     65.9,1,  2.7956,   -999.0,9,  -999.00,9,  -999.00,9,  -999.00,9,  -999.0,-999.000
     33KB205_1,  PRS2,     6,  1,      2,   8002,2,20081013,0650, 21.8453,-158.3593, 2465,   1999,   2000.0,   2.1367,  34.6224,2,  34.6242,2,     91.1,1,  1.9982,   -999.0,9,  -999.00,9,  -999.00,9,  -999.00,9,  -999.0,-999.000
     33KB205_1,  PRS2,     6,  1,      1,   8001,2,20081013,0650, 21.8453,-158.3593, 2465,   2462,   2461.1,   1.7690,  34.6498,2,  34.6515,2,    108.6,1,  1.5965,   -999.0,9,  -999.00,9,  -999.00,9,  -999.00,9,  -999.0,-999.000
     33KB205_1,  PRS2,    50,  1,     24,   8024,2,20081012,2323, 22.7685,-157.9357, 4712,      6,      6.4,  26.3146,  35.3335,2,-999.0000,9,    204.1,1, 26.3131,   -999.0,9,  -999.00,9,  -999.00,9,  -999.00,9,  -999.0,-999.000
     33KB205_1,  PRS2,    50,  1,     23,   8023,2,20081012,2323, 22.7685,-157.9357, 4712,      6,      6.4,  26.3167,  35.3329,2,-999.0000,9,    203.9,1, 26.3153,   -999.0,9,  -999.00,9,  -999.00,9,  -999.00,9,  -999.0,-999.000
     33KB205_1,  PRS2,    50,  1,     22,   8022,2,20081012,2323, 22.7685,-157.9357, 4712,      6,      6.4,  26.3170,  35.3332,2,-999.0000,9,    203.9,1, 26.3156,   -999.0,9,  -999.00,9,  -999.00,9,  -999.00,9,  -999.0,-999.000
     33KB205_1,  PRS2,    50,  1,     21,   8021,2,20081012,2323, 22.7685,-157.9357, 4712,     16,     15.3,  26.2198,  35.3306,2,-999.0000,9,    204.1,1, 26.2164,   -999.0,9,  -999.00,9,  -999.00,9,  -999.00,9,  -999.0,-999.000
     33KB205_1,  PRS2,    50,  1,     18,   8018,2,20081012,2323, 22.7685,-157.9357, 4712,     25,     25.2,  26.1985,  35.3288,2,-999.0000,9,    204.3,1, 26.1928,   -999.0,9,  -999.00,9,  -999.00,9,  -999.00,9,  -999.0,-999.000
     33KB205_1,  PRS2,    50,  1,     19,   8019,2,20081012,2323, 22.7685,-157.9357, 4712,     25,     25.4,  26.1984,  35.3291,2,-999.0000,9,    204.2,1, 26.1927,   -999.0,9,  -999.00,9,  -999.00,9,  -999.00,9,  -999.0,-999.000
     33KB205_1,  PRS2,    50,  1,     20,   8020,2,20081012,2323, 22.7685,-157.9357, 4712,     26,     25.5,  26.1983,  35.3289,2,-999.0000,9,    204.2,1, 26.1926,   -999.0,9,  -999.00,9,  -999.00,9,  -999.00,9,  -999.0,-999.000
     33KB205_1,  PRS2,    50,  1,     17,   8017,2,20081012,2323, 22.7685,-157.9357, 4712,     40,     39.6,  26.1897,  35.3288,2,-999.0000,9,    203.9,1, 26.1808,   -999.0,9,  -999.00,9,  -999.00,9,  -999.00,9,  -999.0,-999.000
     33KB205_1,  PRS2,    50,  1,     16,   8016,2,20081012,2323, 22.7685,-157.9357, 4712,     47,     46.1,  26.1845,  35.3282,2,-999.0000,9,    204.5,1, 26.1742,   -999.0,9,  -999.00,9,  -999.00,9,  -999.00,9,  -999.0,-999.000
     33KB205_1,  PRS2,    50,  1,     15,   8015,2,20081012,2323, 22.7685,-157.9357, 4712,     46,     46.1,  26.1840,  35.3283,2,-999.0000,9,    204.6,1, 26.1737,   -999.0,9,  -999.00,9,  -999.00,9,  -999.00,9,  -999.0,-999.000
     33KB205_1,  PRS2,    50,  1,     14,   8014,2,20081012,2323, 22.7685,-157.9357, 4712,     46,     46.1,  26.1848,  35.3282,2,-999.0000,9,    204.6,1, 26.1745,   -999.0,9,  -999.00,9,  -999.00,9,  -999.00,9,  -999.0,-999.000
     33KB205_1,  PRS2,    50,  1,     13,   8025,2,20081012,2323, 22.7685,-157.9357, 4712,     68,     68.2,  24.8671,  35.2604,2,-999.0000,9,    215.3,1, 24.8524,   -999.0,9,  -999.00,9,  -999.00,9,  -999.00,9,  -999.0,-999.000
     33KB205_1,  PRS2,    50,  1,     12,   8012,2,20081012,2323, 22.7685,-157.9357, 4712,     75,     75.4,  24.6147,  35.2514,2,-999.0000,9,    217.6,1, 24.5985,   -999.0,9,  -999.00,9,  -999.00,9,  -999.00,9,  -999.0,-999.000
     33KB205_1,  PRS2,    50,  1,     10,   8010,2,20081012,2323, 22.7685,-157.9357, 4712,     77,     75.5,  24.6178,  35.2522,2,-999.0000,9,    217.8,1, 24.6016,   -999.0,9,  -999.00,9,  -999.00,9,  -999.00,9,  -999.0,-999.000
     33KB205_1,  PRS2,    50,  1,     11,   8011,2,20081012,2323, 22.7685,-157.9357, 4712,     75,     75.6,  24.6143,  35.2516,2,-999.0000,9,    217.7,1, 24.5981,   -999.0,9,  -999.00,9,  -999.00,9,  -999.00,9,  -999.0,-999.000
     33KB205_1,  PRS2,    50,  1,      9,   8009,2,20081012,2323, 22.7685,-157.9357, 4712,     99,    101.1,  23.1370,  35.2431,2,-999.0000,9,    211.6,1, 23.1163,   -999.0,9,  -999.00,9,  -999.00,9,  -999.00,9,  -999.0,-999.000
     33KB205_1,  PRS2,    50,  1,      8,   8008,2,20081012,2323, 22.7685,-157.9357, 4712,    101,    101.2,  23.1167,  35.2431,2,-999.0000,9,    211.5,1, 23.0960,   -999.0,9,  -999.00,9,  -999.00,9,  -999.00,9,  -999.0,-999.000
     33KB205_1,  PRS2,    50,  1,      7,   8026,2,20081012,2323, 22.7685,-157.9357, 4712,    102,    101.5,  23.1027,  35.2448,2,-999.0000,9,    211.4,1, 23.0819,   -999.0,9,  -999.00,9,  -999.00,9,  -999.00,9,  -999.0,-999.000
     33KB205_1,  PRS2,    50,  1,      5,   8005,2,20081012,2323, 22.7685,-157.9357, 4712,    126,    126.2,  21.7176,  35.2295,2,-999.0000,9,    197.3,1, 21.6928,   -999.0,9,  -999.00,9,  -999.00,9,  -999.00,9,  -999.0,-999.000
     33KB205_1,  PRS2,    50,  1,      6,   8006,2,20081012,2323, 22.7685,-157.9357, 4712,    127,    126.5,  21.7205,  35.2286,2,-999.0000,9,    197.8,1, 21.6957,   -999.0,9,  -999.00,9,  -999.00,9,  -999.00,9,  -999.0,-999.000
     33KB205_1,  PRS2,    50,  1,      4,   8004,2,20081012,2323, 22.7685,-157.9357, 4712,    150,    150.4,  20.8312,  35.1675,2,-999.0000,9,    191.0,1, 20.8026,   -999.0,9,  -999.00,9,  -999.00,9,  -999.00,9,  -999.0,-999.000
     33KB205_1,  PRS2,    50,  1,      3,   8003,2,20081012,2323, 22.7685,-157.9357, 4712,    151,    150.6,  20.8195,  35.1674,2,-999.0000,9,    191.0,1, 20.7909,   -999.0,9,  -999.00,9,  -999.00,9,  -999.00,9,  -999.0,-999.000
     33KB205_1,  PRS2,    50,  1,      2,   8002,2,20081012,2323, 22.7685,-157.9357, 4712,    177,    175.3,  19.8229,  35.0651,2,-999.0000,9,    189.5,1, 19.7907,   -999.0,9,  -999.00,9,  -999.00,9,  -999.00,9,  -999.0,-999.000
     33KB205_1,  PRS2,    50,  1,      1,   8001,2,20081012,2323, 22.7685,-157.9357, 4712,    176,    175.6,  19.8176,  35.0643,2,-999.0000,9,    189.5,1, 19.7854,   -999.0,9,  -999.00,9,  -999.00,9,  -999.00,9,  -999.0,-999.000