BOTTLE,20090923WHPSIOMYS
EXPOCODE,SECT_ID,STNNBR,CASTNO,SAMPNO,BTLNBR,BTLNBR_FLAG_W,DATE,TIME,LATITUDE,LONGITUDE,DEPTH,CTDRAW,CTDPRS,CTDTMP,CTDSAL,CTDSAL_FLAG_W,SALNTY,SALNTY_FLAG_W,CTDOXY,CTDOXY_FLAG_W,THETA,OXYGEN,OXYGEN_FLAG_W,SILCAT,SILCAT_FLAG_W,NO2+NO3,NO2+NO3_FLAG_W,PHSPHT,PHSPHT_FLAG_W,REVPRS,REVTMP
,,,,,,,,,,,,,DBAR,ITS-90,PSS-78,,PSS-78,,UMOL/KG,,ITS-90,UMOL/KG,,UMOL/KG,,UMOL/KG,,UMOL/KG,,DBAR,DEG C
     33KB205_1,  PRS2,     2, 13,     24,   8024,2,20081011,2359, 22.8222,-157.9763, 4703,      6,      6.3,  26.2892,  35.2617,2,  35.2609,2,    204.6,1, 26.2878,   -999.0,9,  -999.00,9,  -999.00,9,  -999.00,9,  -999.0,-999.000
     33KB205_1,  PRS2,     2, 13,     23,   8023,2,20081011,2359, 22.8222,-157.9763, 4703,     26,     25.2,  26.2388,  35.2610,2,  35.2603,2,    204.7,1, 26.2332,   -999.0,9,  -999.00,9,  -999.00,9,  -999.00,9,  -999.0,-999.000
     33KB205_1,  PRS2,     2, 13,     22,   8022,2,20081011,2359, 22.8222,-157.9763, 4703,     43,     43.9,  26.2361,  35.2665,2,  35.2656,2,    204.3,1, 26.2262,   -999.0,9,  -999.00,9,  -999.00,9,  -999.00,9,  -999.0,-999.000
     33KB205_1,  PRS2,     2, 13,     21,   8021,2,20081011,2359, 22.8222,-157.9763, 4703,     76,     75.1,  25.2168,  35.2390,2,  35.2396,2,    215.2,1, 25.2004,   -999.0,9,  -999.00,9,  -999.00,9,  -999.00,9,  -999.0,-999.000
     33KB205_1,  PRS2,     2, 13,     20,   8020,2,20081011,2359, 22.8222,-157.9763, 4703,     99,     99.8,  23.5042,  35.2389,2,  35.2387,2,    213.5,1, 23.4835,   -999.0,9,  -999.00,9,  -999.00,9,  -999.00,9,  -999.0,-999.000
     33KB205_1,  PRS2,     2, 13,     19,   8019,2,20081011,2359, 22.8222,-157.9763, 4703,    126,    125.8,  22.3977,  35.2302,2,  35.2322,2,    202.8,1, 22.3725,   -999.0,9,  -999.00,9,  -999.00,9,  -999.00,9,  -999.0,-999.000
     33KB205_1,  PRS2,     2, 13,     18,   8018,2,20081011,2359, 22.8222,-157.9763, 4703,    150,    149.9,  21.5464,  35.2366,2,  35.2371,2,    198.2,1, 21.5172,   -999.0,9,  -999.00,9,  -999.00,9,  -999.00,9,  -999.0,-999.000
     33KB205_1,  PRS2,     2, 13,     17,   8017,2,20081011,2359, 22.8222,-157.9763, 4703,    200,    200.1,  19.4107,  35.0146,2,-999.0000,5,    189.8,1, 19.3745,   -999.0,9,  -999.00,9,  -999.00,9,  -999.00,9,  -999.0,-999.000
     33KB205_1,  PRS2,     2, 13,     16,   8016,2,20081011,2359, 22.8222,-157.9763, 4703,    201,    200.2,  19.4104,  35.0145,2,-999.0000,5,    189.8,1, 19.3742,   -999.0,9,  -999.00,9,  -999.00,9,  -999.00,9,  -999.0,-999.000
     33KB205_1,  PRS2,     2, 13,     15,   8015,2,20081011,2359, 22.8222,-157.9763, 4703,    249,    249.0,  16.0082,  34.5543,2,  34.5555,2,    186.8,1, 15.9689,   -999.0,9,  -999.00,9,  -999.00,9,  -999.00,9,  -999.0,-999.000
     33KB205_1,  PRS2,     2, 13,     14,   8014,2,20081011,2359, 22.8222,-157.9763, 4703,    299,    299.3,  13.1738,  34.2317,2,-999.0000,5,    181.6,1, 13.1324,   -999.0,9,  -999.00,9,  -999.00,9,  -999.00,9,  -999.0,-999.000
     33KB205_1,  PRS2,     2, 13,     13,   8025,2,20081011,2359, 22.8222,-157.9763, 4703,    300,    299.7,  13.1760,  34.2325,2,-999.0000,5,    181.5,1, 13.1346,   -999.0,9,  -999.00,9,  -999.00,9,  -999.00,9,  -999.0,-999.000
     33KB205_1,  PRS2,     2, 13,     12,   8012,2,20081011,2359, 22.8222,-157.9763, 4703,    350,    349.7,  10.8985,  34.1391,2,  34.1417,2,    174.0,1, 10.8557,   -999.0,9,  -999.00,9,  -999.00,9,  -999.00,9,  -999.0,-999.000
     33KB205_1,  PRS2,     2, 13,     11,   8011,2,20081011,2359, 22.8222,-157.9763, 4703,    400,    400.2,   9.3292,  34.1120,2,-999.0000,5,    156.3,1,  9.2848,   -999.0,9,  -999.00,9,  -999.00,9,  -999.00,9,  -999.0,-999.000
     33KB205_1,  PRS2,     2, 13,     10,   8010,2,20081011,2359, 22.8222,-157.9763, 4703,    449,    450.6,   8.0908,  34.0974,2,  34.0976,2,    134.2,1,  8.0448,   -999.0,9,  -999.00,9,  -999.00,9,  -999.00,9,  -999.0,-999.000
     33KB205_1,  PRS2,     2, 13,      8,   8008,2,20081011,2359, 22.8222,-157.9763, 4703,    499,    499.5,   7.2539,  34.1059,2,-999.0000,5,     99.2,1,  7.2058,   -999.0,9,  -999.00,9,  -999.00,9,  -999.00,9,  -999.0,-999.000
     33KB205_1,  PRS2,     2, 13,      9,   8009,2,20081011,2359, 22.8222,-157.9763, 4703,    500,    500.1,   7.2582,  34.1064,2,-999.0000,5,     99.6,1,  7.2100,   -999.0,9,  -999.00,9,  -999.00,9,  -999.00,9,  -999.0,-999.000
     33KB205_1,  PRS2,     2, 13,      7,   8026,2,20081011,2359, 22.8222,-157.9763, 4703,    601,    599.5,   5.8003,  34.1604,2,-999.0000,5,     56.8,1,  5.7487,   -999.0,9,  -999.00,9,  -999.00,9,  -999.00,9,  -999.0,-999.000
     33KB205_1,  PRS2,     2, 13,      6,   8006,2,20081011,2359, 22.8222,-157.9763, 4703,    701,    700.6,   5.2107,  34.2966,2,-999.0000,5,     35.5,1,  5.1530,   -999.0,9,  -999.00,9,  -999.00,9,  -999.00,9,  -999.0,-999.000
     33KB205_1,  PRS2,     2, 13,      5,   8005,2,20081011,2359, 22.8222,-157.9763, 4703,    769,    768.8,   4.8301,  34.3333,2,-999.0000,5,     31.6,1,  4.7685,   -999.0,9,  -999.00,9,  -999.00,9,  -999.00,9,  -999.0,-999.000
     33KB205_1,  PRS2,     2, 13,      4,   8004,2,20081011,2359, 22.8222,-157.9763, 4703,    799,    799.7,   4.6861,  34.3611,2,-999.0000,5,     31.1,1,  4.6228,   -999.0,9,  -999.00,9,  -999.00,9,  -999.00,9,  -999.0,-999.000
     33KB205_1,  PRS2,     2, 13,      3,   8003,2,20081011,2359, 22.8222,-157.9763, 4703,    900,    900.5,   4.2858,  34.4371,2,-999.0000,5,     36.3,1,  4.2165,   -999.0,9,  -999.00,9,  -999.00,9,  -999.00,9,  -999.0,-999.000
     33KB205_1,  PRS2,     2, 13,      2,   8002,2,20081011,2359, 22.8222,-157.9763, 4703,   1020,   1019.9,   3.9623,  34.4839,2,-999.0000,5,     41.6,1,  3.8853,   -999.0,9,  -999.00,9,  -999.00,9,  -999.00,9,  -999.0,-999.000
     33KB205_1,  PRS2,     2, 13,      1,   8001,2,20081011,2359, 22.8222,-157.9763, 4703,   1021,   1020.0,   3.9656,  34.4841,2,  34.4840,2,     41.6,1,  3.8886,   -999.0,9,  -999.00,9,  -999.00,9,  -999.00,9,  -999.0,-999.000
     33KB205_1,  PRS2,     2, 14,     23,   8023,2,20081012,0255, 22.8202,-158.0390, 4730,      7,      6.5,  26.2951,  35.3014,2,  35.2999,2,    204.0,1, 26.2936,   -999.0,9,  -999.00,9,  -999.00,9,  -999.00,9,  -999.0,-999.000
     33KB205_1,  PRS2,     2, 14,     24,   8024,2,20081012,0255, 22.8202,-158.0390, 4730,      7,      6.6,  26.2957,  35.3013,2,-999.0000,5,    203.9,1, 26.2942,   -999.0,9,  -999.00,9,  -999.00,9,  -999.00,9,  -999.0,-999.000
     33KB205_1,  PRS2,     2, 14,     22,   8022,2,20081012,0255, 22.8202,-158.0390, 4730,     16,     15.5,  26.3011,  35.3010,2,  35.2999,2,    204.1,1, 26.2977,   -999.0,9,  -999.00,9,  -999.00,9,  -999.00,9,  -999.0,-999.000
     33KB205_1,  PRS2,     2, 14,     21,   8021,2,20081012,0255, 22.8202,-158.0390, 4730,     24,     24.0,  26.2855,  35.3004,2,-999.0000,5,    203.7,1, 26.2801,   -999.0,9,  -999.00,9,  -999.00,9,  -999.00,9,  -999.0,-999.000
     33KB205_1,  PRS2,     2, 14,     19,   8019,2,20081012,0255, 22.8202,-158.0390, 4730,     25,     24.0,  26.2888,  35.3002,2,-999.0000,5,    203.7,1, 26.2834,   -999.0,9,  -999.00,9,  -999.00,9,  -999.00,9,  -999.0,-999.000
     33KB205_1,  PRS2,     2, 14,     18,   8018,2,20081012,0255, 22.8202,-158.0390, 4730,     24,     24.0,  26.2894,  35.3000,2,  35.2995,2,    203.8,1, 26.2840,   -999.0,9,  -999.00,9,  -999.00,9,  -999.00,9,  -999.0,-999.000
     33KB205_1,  PRS2,     2, 14,     20,   8020,2,20081012,0255, 22.8202,-158.0390, 4730,     25,     24.1,  26.2884,  35.3002,2,-999.0000,5,    203.6,1, 26.2830,   -999.0,9,  -999.00,9,  -999.00,9,  -999.00,9,  -999.0,-999.000
     33KB205_1,  PRS2,     2, 14,     17,   8017,2,20081012,0255, 22.8202,-158.0390, 4730,     34,     34.5,  26.2846,  35.3005,2,  35.2993,2,    204.2,1, 26.2768,   -999.0,9,  -999.00,9,  -999.00,9,  -999.00,9,  -999.0,-999.000
     33KB205_1,  PRS2,     2, 14,     16,   8016,2,20081012,0255, 22.8202,-158.0390, 4730,     34,     34.5,  26.2872,  35.3002,2,  35.2999,2,    204.3,1, 26.2794,   -999.0,9,  -999.00,9,  -999.00,9,  -999.00,9,  -999.0,-999.000
     33KB205_1,  PRS2,     2, 14,     14,   8014,2,20081012,0255, 22.8202,-158.0390, 4730,     44,     44.2,  26.2569,  35.3006,2,  35.3015,2,    204.3,1, 26.2470,   -999.0,9,  -999.00,9,  -999.00,9,  -999.00,9,  -999.0,-999.000
     33KB205_1,  PRS2,     2, 14,     15,   8015,2,20081012,0255, 22.8202,-158.0390, 4730,     43,     44.3,  26.2569,  35.3006,2,-999.0000,5,    204.3,1, 26.2470,   -999.0,9,  -999.00,9,  -999.00,9,  -999.00,9,  -999.0,-999.000
     33KB205_1,  PRS2,     2, 14,     13,   8025,2,20081012,0255, 22.8202,-158.0390, 4730,     58,     59.0,  26.1866,  35.2923,2,  35.3060,3,    204.5,1, 26.1734,   -999.0,9,  -999.00,9,  -999.00,9,  -999.00,9,  -999.0,-999.000
     33KB205_1,  PRS2,     2, 14,     12,   8012,2,20081012,0255, 22.8202,-158.0390, 4730,     75,     75.0,  25.3337,  35.2135,2,-999.0000,5,    211.6,1, 25.3173,   -999.0,9,  -999.00,9,  -999.00,9,  -999.00,9,  -999.0,-999.000
     33KB205_1,  PRS2,     2, 14,     11,   8011,2,20081012,0255, 22.8202,-158.0390, 4730,     75,     75.0,  25.3136,  35.2138,2,  35.2156,2,    211.7,1, 25.2972,   -999.0,9,  -999.00,9,  -999.00,9,  -999.00,9,  -999.0,-999.000
     33KB205_1,  PRS2,     2, 14,     10,   8010,2,20081012,0255, 22.8202,-158.0390, 4730,     98,     98.9,  23.2487,  35.2344,2,-999.0000,5,    210.0,1, 23.2283,   -999.0,9,  -999.00,9,  -999.00,9,  -999.00,9,  -999.0,-999.000
     33KB205_1,  PRS2,     2, 14,      9,   8009,2,20081012,0255, 22.8202,-158.0390, 4730,     99,     99.0,  23.2471,  35.2322,2,  35.2779,4,    209.9,1, 23.2267,   -999.0,9,  -999.00,9,  -999.00,9,  -999.00,9,  -999.0,-999.000
     33KB205_1,  PRS2,     2, 14,      7,   8026,2,20081012,0255, 22.8202,-158.0390, 4730,    123,    123.7,  22.1836,  35.2692,2,  35.2755,2,    205.3,1, 22.1589,   -999.0,9,  -999.00,9,  -999.00,9,  -999.00,9,  -999.0,-999.000
     33KB205_1,  PRS2,     2, 14,      8,   8008,2,20081012,0255, 22.8202,-158.0390, 4730,    124,    123.9,  22.2034,  35.2724,2,-999.0000,5,    205.4,1, 22.1787,   -999.0,9,  -999.00,9,  -999.00,9,  -999.00,9,  -999.0,-999.000
     33KB205_1,  PRS2,     2, 14,      6,   8006,2,20081012,0255, 22.8202,-158.0390, 4730,    149,    149.7,  20.8102,  35.1491,2,-999.0000,5,    190.8,1, 20.7817,   -999.0,9,  -999.00,9,  -999.00,9,  -999.00,9,  -999.0,-999.000
     33KB205_1,  PRS2,     2, 14,      5,   8005,2,20081012,0255, 22.8202,-158.0390, 4730,    150,    149.7,  20.7710,  35.1471,2,  35.1819,4,    190.9,1, 20.7426,   -999.0,9,  -999.00,9,  -999.00,9,  -999.00,9,  -999.0,-999.000
     33KB205_1,  PRS2,     2, 14,      3,   8003,2,20081012,0255, 22.8202,-158.0390, 4730,    176,    176.0,  19.6904,  35.0483,2,  35.0443,2,    189.9,1, 19.6583,   -999.0,9,  -999.00,9,  -999.00,9,  -999.00,9,  -999.0,-999.000
     33KB205_1,  PRS2,     2, 14,      4,   8004,2,20081012,0255, 22.8202,-158.0390, 4730,    176,    176.1,  19.7017,  35.0477,2,-999.0000,5,    189.7,1, 19.6695,   -999.0,9,  -999.00,9,  -999.00,9,  -999.00,9,  -999.0,-999.000
     33KB205_1,  PRS2,     2, 14,      2,   8002,2,20081012,0255, 22.8202,-158.0390, 4730,    500,    500.2,   7.4675,  34.0973,2,  34.0989,2,    108.5,1,  7.4185,   -999.0,9,  -999.00,9,  -999.00,9,  -999.00,9,  -999.0,-999.000
     33KB205_1,  PRS2,     2, 14,      1,   8001,2,20081012,0255, 22.8202,-158.0390, 4730,   1020,   1019.9,   4.0371,  34.4803,2,  34.4791,2,     41.3,1,  3.9596,   -999.0,9,  -999.00,9,  -999.00,9,  -999.00,9,  -999.0,-999.000
     33KB205_1,  PRS2,     2, 15,     24,   8024,2,20081012,0559, 22.8058,-158.0435, 4743,      6,      6.0,  26.2612,  35.3028,2,-999.0000,5,    203.7,1, 26.2598,   -999.0,9,  -999.00,9,  -999.00,9,  -999.00,9,  -999.0,-999.000
     33KB205_1,  PRS2,     2, 15,     23,   8023,2,20081012,0559, 22.8058,-158.0435, 4743,      5,      6.0,  26.2612,  35.3028,2,  35.3060,2,    203.7,1, 26.2599,   -999.0,9,  -999.00,9,  -999.00,9,  -999.00,9,  -999.0,-999.000
     33KB205_1,  PRS2,     2, 15,     22,   8022,2,20081012,0559, 22.8058,-158.0435, 4743,     25,     24.8,  26.2660,  35.3024,2,-999.0000,5,    203.7,1, 26.2605,   -999.0,9,  -999.00,9,  -999.00,9,  -999.00,9,  -999.0,-999.000
     33KB205_1,  PRS2,     2, 15,     21,   8021,2,20081012,0559, 22.8058,-158.0435, 4743,     25,     25.1,  26.2660,  35.3022,2,-999.0000,5,    203.8,1, 26.2604,   -999.0,9,  -999.00,9,  -999.00,9,  -999.00,9,  -999.0,-999.000
     33KB205_1,  PRS2,     2, 15,     20,   8020,2,20081012,0559, 22.8058,-158.0435, 4743,     25,     25.1,  26.2662,  35.3022,2,  35.3094,2,    203.9,1, 26.2605,   -999.0,9,  -999.00,9,  -999.00,9,  -999.00,9,  -999.0,-999.000
     33KB205_1,  PRS2,     2, 15,     19,   8019,2,20081012,0559, 22.8058,-158.0435, 4743,     45,     44.8,  26.2432,  35.3026,2,-999.0000,5,    203.6,1, 26.2331,   -999.0,9,  -999.00,9,  -999.00,9,  -999.00,9,  -999.0,-999.000
     33KB205_1,  PRS2,     2, 15,     18,   8018,2,20081012,0559, 22.8058,-158.0435, 4743,     46,     44.8,  26.2434,  35.3025,2,  35.2974,2,    203.6,1, 26.2333,   -999.0,9,  -999.00,9,  -999.00,9,  -999.00,9,  -999.0,-999.000
     33KB205_1,  PRS2,     2, 15,     17,   8017,2,20081012,0559, 22.8058,-158.0435, 4743,     57,     58.2,  24.7395,  35.2390,2,  35.2365,2,    216.8,1, 24.7269,   -999.0,9,  -999.00,9,  -999.00,9,  -999.00,9,  -999.0,-999.000
     33KB205_1,  PRS2,     2, 15,     16,   8016,2,20081012,0559, 22.8058,-158.0435, 4743,     74,     74.8,  23.4671,  35.2343,2,-999.0000,5,    212.0,1, 23.4516,   -999.0,9,  -999.00,9,  -999.00,9,  -999.00,9,  -999.0,-999.000
     33KB205_1,  PRS2,     2, 15,     15,   8015,2,20081012,0559, 22.8058,-158.0435, 4743,     74,     74.8,  23.4489,  35.2363,2,  35.2353,2,    211.5,1, 23.4334,   -999.0,9,  -999.00,9,  -999.00,9,  -999.00,9,  -999.0,-999.000
     33KB205_1,  PRS2,     2, 15,     14,   8014,2,20081012,0559, 22.8058,-158.0435, 4743,     84,     84.6,  22.9273,  35.2382,2,  35.2371,2,    206.9,1, 22.9101,   -999.0,9,  -999.00,9,  -999.00,9,  -999.00,9,  -999.0,-999.000
     33KB205_1,  PRS2,     2, 15,     13,   8025,2,20081012,0559, 22.8058,-158.0435, 4743,     96,     96.1,  22.7119,  35.2455,2,-999.0000,5,    206.0,1, 22.6924,   -999.0,9,  -999.00,9,  -999.00,9,  -999.00,9,  -999.0,-999.000
     33KB205_1,  PRS2,     2, 15,     12,   8012,2,20081012,0559, 22.8058,-158.0435, 4743,    100,     99.8,  22.6595,  35.2487,2,-999.0000,5,    205.9,1, 22.6393,   -999.0,9,  -999.00,9,  -999.00,9,  -999.00,9,  -999.0,-999.000
     33KB205_1,  PRS2,     2, 15,     11,   8011,2,20081012,0559, 22.8058,-158.0435, 4743,    100,    100.0,  22.6516,  35.2480,2,  35.2471,2,    205.7,1, 22.6314,   -999.0,9,  -999.00,9,  -999.00,9,  -999.00,9,  -999.0,-999.000
     33KB205_1,  PRS2,     2, 15,     10,   8010,2,20081012,0559, 22.8058,-158.0435, 4743,    116,    115.6,  22.2837,  35.2768,2,  35.2777,2,    205.1,1, 22.2606,   -999.0,9,  -999.00,9,  -999.00,9,  -999.00,9,  -999.0,-999.000
     33KB205_1,  PRS2,     2, 15,      8,   8008,2,20081012,0559, 22.8058,-158.0435, 4743,    125,    124.7,  21.7734,  35.2326,2,  35.2300,2,    198.2,1, 21.7489,   -999.0,9,  -999.00,9,  -999.00,9,  -999.00,9,  -999.0,-999.000
     33KB205_1,  PRS2,     2, 15,      9,   8009,2,20081012,0559, 22.8058,-158.0435, 4743,    126,    125.0,  21.7988,  35.2365,2,-999.0000,5,    198.8,1, 21.7742,   -999.0,9,  -999.00,9,  -999.00,9,  -999.00,9,  -999.0,-999.000
     33KB205_1,  PRS2,     2, 15,      7,   8026,2,20081012,0559, 22.8058,-158.0435, 4743,    133,    133.9,  21.4052,  35.2055,2,  35.2128,2,    194.6,1, 21.3792,   -999.0,9,  -999.00,9,  -999.00,9,  -999.00,9,  -999.0,-999.000
     33KB205_1,  PRS2,     2, 15,      6,   8006,2,20081012,0559, 22.8058,-158.0435, 4743,    152,    151.4,  20.6749,  35.1513,2,-999.0000,5,    190.1,1, 20.6463,   -999.0,9,  -999.00,9,  -999.00,9,  -999.00,9,  -999.0,-999.000
     33KB205_1,  PRS2,     2, 15,      5,   8005,2,20081012,0559, 22.8058,-158.0435, 4743,    152,    151.4,  20.6733,  35.1505,2,  35.1494,2,    190.1,1, 20.6446,   -999.0,9,  -999.00,9,  -999.00,9,  -999.00,9,  -999.0,-999.000
     33KB205_1,  PRS2,     2, 15,      4,   8004,2,20081012,0559, 22.8058,-158.0435, 4743,    175,    174.5,  19.6240,  35.0385,2,-999.0000,5,    189.3,1, 19.5922,   -999.0,9,  -999.00,9,  -999.00,9,  -999.00,9,  -999.0,-999.000
     33KB205_1,  PRS2,     2, 15,      3,   8003,2,20081012,0559, 22.8058,-158.0435, 4743,    174,    174.5,  19.6206,  35.0403,2,  35.0561,2,    189.4,1, 19.5887,   -999.0,9,  -999.00,9,  -999.00,9,  -999.00,9,  -999.0,-999.000
     33KB205_1,  PRS2,     2, 15,      2,   8002,2,20081012,0559, 22.8058,-158.0435, 4743,    490,    489.3,   7.4562,  34.0927,2,  34.0927,2,    111.8,1,  7.4084,   -999.0,9,  -999.00,9,  -999.00,9,  -999.00,9,  -999.0,-999.000
     33KB205_1,  PRS2,     2, 15,      1,   8001,2,20081012,0559, 22.8058,-158.0435, 4743,   1020,   1020.2,   4.0366,  34.4775,2,  34.4775,2,     41.0,1,  3.9590,   -999.0,9,  -999.00,9,  -999.00,9,  -999.00,9,  -999.0,-999.000