BOTTLE,20090923WHPSIOMYS
#code : jjward hyd_to_exchange.pl 
#original files copied from HTML directory: 20090923
#original HYD file: 33KB205_1_hy.txt   Wed Sep 23 18:03:05 2009
#original SUM file: ../33KB205_1su.txt   Wed Sep 23 18:03:03 2009
EXPOCODE,SECT_ID,STNNBR,CASTNO,SAMPNO,BTLNBR,BTLNBR_FLAG_W,DATE,TIME,LATITUDE,LONGITUDE,DEPTH,CTDRAW,CTDPRS,CTDTMP,CTDSAL,CTDSAL_FLAG_W,SALNTY,SALNTY_FLAG_W,CTDOXY,CTDOXY_FLAG_W,THETA,OXYGEN,OXYGEN_FLAG_W,SILCAT,SILCAT_FLAG_W,NO2+NO3,NO2+NO3_FLAG_W,PHSPHT,PHSPHT_FLAG_W,REVPRS,REVTMP
,,,,,,,,,,,,,DBAR,ITS-90,PSS-78,,PSS-78,,UMOL/KG,,ITS-90,UMOL/KG,,UMOL/KG,,UMOL/KG,,UMOL/KG,,DBAR,DEG C
     33KB205_1,  PRS2,     1,  1,     24,   8024,2,20081009,2312, 21.3427,-158.2732, 1544,      8,      7.5,  27.4667,  35.0004,2,  35.0059,2,    200.8,2, 27.4649,    201.0,2,  -999.00,9,  -999.00,9,  -999.00,9,  -999.0,-999.000
     33KB205_1,  PRS2,     1,  1,     23,   8023,2,20081009,2312, 21.3427,-158.2732, 1544,      8,      7.5,  27.4674,  35.0016,2,  35.0024,2,    200.9,2, 27.4657,    201.2,2,  -999.00,9,  -999.00,9,  -999.00,9,  -999.0,-999.000
     33KB205_1,  PRS2,     1,  1,     22,   8022,2,20081009,2312, 21.3427,-158.2732, 1544,     25,     25.3,  27.0726,  34.9851,2,  34.9856,2,    202.2,2, 27.0668,    202.2,2,  -999.00,9,  -999.00,9,  -999.00,9,  -999.0,-999.000
     33KB205_1,  PRS2,     1,  1,     21,   8021,2,20081009,2312, 21.3427,-158.2732, 1544,     45,     44.7,  26.7595,  35.1277,2,  35.1264,2,    207.3,2, 26.7493,    206.4,2,  -999.00,9,  -999.00,9,  -999.00,9,  -999.0,-999.000
     33KB205_1,  PRS2,     1,  1,     20,   8020,2,20081009,2312, 21.3427,-158.2732, 1544,     59,     59.9,  25.7114,  35.0226,2,  35.0976,3,    212.3,3, 25.6982,    210.4,2,  -999.00,9,  -999.00,9,  -999.00,9,  -999.0,-999.000
     33KB205_1,  PRS2,     1,  1,     19,   8019,2,20081009,2312, 21.3427,-158.2732, 1544,     75,     75.1,  24.0085,  34.8299,2,  34.8359,2,    214.9,2, 23.9927,    215.0,2,  -999.00,9,  -999.00,9,  -999.00,9,  -999.0,-999.000
     33KB205_1,  PRS2,     1,  1,     18,   8018,2,20081009,2312, 21.3427,-158.2732, 1544,    100,    100.9,  23.3173,  34.9504,2,  34.9630,2,    212.3,2, 23.2965,    211.7,2,  -999.00,9,  -999.00,9,  -999.00,9,  -999.0,-999.000
     33KB205_1,  PRS2,     1,  1,     17,   8017,2,20081009,2312, 21.3427,-158.2732, 1544,    115,    114.9,  23.2340,  35.0856,2,  35.0888,2,    208.5,2, 23.2103,    208.0,2,  -999.00,9,  -999.00,9,  -999.00,9,  -999.0,-999.000
     33KB205_1,  PRS2,     1,  1,     16,   8016,2,20081009,2312, 21.3427,-158.2732, 1544,    126,    125.3,  22.5836,  35.1362,2,  35.1374,2,    201.2,2, 22.5583,    201.3,2,  -999.00,9,  -999.00,9,  -999.00,9,  -999.0,-999.000
     33KB205_1,  PRS2,     1,  1,     15,   8015,2,20081009,2312, 21.3427,-158.2732, 1544,    150,    149.6,  20.0180,  34.9805,2,  34.9868,2,    185.4,2, 19.9903,    186.0,2,  -999.00,9,  -999.00,9,  -999.00,9,  -999.0,-999.000
     33KB205_1,  PRS2,     1,  1,     14,   8014,2,20081009,2312, 21.3427,-158.2732, 1544,    175,    175.1,  18.3213,  34.8382,2,  34.8344,2,    186.0,2, 18.2909,    187.4,2,  -999.00,9,  -999.00,9,  -999.00,9,  -999.0,-999.000
     33KB205_1,  PRS2,     1,  1,     13,   8025,2,20081009,2312, 21.3427,-158.2732, 1544,    200,    200.1,  17.0846,  34.7009,2,  34.7026,2,    186.8,2, 17.0515,    186.9,2,  -999.00,9,  -999.00,9,  -999.00,9,  -999.0,-999.000
     33KB205_1,  PRS2,     1,  1,     12,   8012,2,20081009,2312, 21.3427,-158.2732, 1544,    225,    224.8,  15.9217,  34.5744,2,  34.5708,2,    189.1,2, 15.8863,    189.4,2,  -999.00,9,  -999.00,9,  -999.00,9,  -999.0,-999.000
     33KB205_1,  PRS2,     1,  1,     11,   8011,2,20081009,2312, 21.3427,-158.2732, 1544,    251,    250.4,  14.6837,  34.4581,2,  34.4614,2,    192.1,2, 14.6464,    192.2,2,  -999.00,9,  -999.00,9,  -999.00,9,  -999.0,-999.000
     33KB205_1,  PRS2,     1,  1,     10,   8010,2,20081009,2312, 21.3427,-158.2732, 1544,    300,    299.8,  12.4825,  34.2452,2,  34.2444,2,    180.0,2, 12.4425,    182.7,2,  -999.00,9,  -999.00,9,  -999.00,9,  -999.0,-999.000
     33KB205_1,  PRS2,     1,  1,      9,   8009,2,20081009,2312, 21.3427,-158.2732, 1544,    350,    349.5,  10.6131,  34.1698,2,  34.1705,2,    175.5,2, 10.5711,    174.5,2,  -999.00,9,  -999.00,9,  -999.00,9,  -999.0,-999.000
     33KB205_1,  PRS2,     1,  1,      8,   8008,2,20081009,2312, 21.3427,-158.2732, 1544,    400,    400.3,   9.2978,  34.1371,2,  34.1372,2,    151.4,2,  9.2535,    151.6,2,  -999.00,9,  -999.00,9,  -999.00,9,  -999.0,-999.000
     33KB205_1,  PRS2,     1,  1,      7,   8026,2,20081009,2312, 21.3427,-158.2732, 1544,    500,    500.4,   7.4141,  34.1366,2,  34.1374,2,    101.1,2,  7.3654,     97.2,2,  -999.00,9,  -999.00,9,  -999.00,9,  -999.0,-999.000
     33KB205_1,  PRS2,     1,  1,      6,   8006,2,20081009,2312, 21.3427,-158.2732, 1544,    601,    599.7,   5.9375,  34.1938,2,  34.1968,2,     56.2,2,  5.8853,     54.7,2,  -999.00,9,  -999.00,9,  -999.00,9,  -999.0,-999.000
     33KB205_1,  PRS2,     1,  1,      5,   8005,2,20081009,2312, 21.3427,-158.2732, 1544,    700,    699.8,   5.4059,  34.3030,2,  34.3076,2,     37.4,2,  5.3472,     37.1,2,  -999.00,9,  -999.00,9,  -999.00,9,  -999.0,-999.000
     33KB205_1,  PRS2,     1,  1,      4,   8004,2,20081009,2312, 21.3427,-158.2732, 1544,    750,    750.0,   5.0933,  34.3639,2,  34.3692,2,     34.2,2,  5.0318,     35.1,2,  -999.00,9,  -999.00,9,  -999.00,9,  -999.0,-999.000
     33KB205_1,  PRS2,     1,  1,      3,   8003,2,20081009,2312, 21.3427,-158.2732, 1544,    901,    900.3,   4.4089,  34.4734,2,  34.4730,2,     41.6,2,  4.3387,     41.8,2,  -999.00,9,  -999.00,9,  -999.00,9,  -999.0,-999.000
     33KB205_1,  PRS2,     1,  1,      2,   8002,2,20081009,2312, 21.3427,-158.2732, 1544,    901,    900.3,   4.3994,  34.4743,2,  34.4709,2,     41.7,2,  4.3293,     42.0,2,  -999.00,9,  -999.00,9,  -999.00,9,  -999.0,-999.000
     33KB205_1,  PRS2,     1,  1,      1,   8001,2,20081009,2312, 21.3427,-158.2732, 1544,   1020,   1020.3,   4.0620,  34.5029,2,  34.5029,2,     46.7,2,  3.9842,     46.6,2,  -999.00,9,  -999.00,9,  -999.00,9,  -999.0,-999.000
     33KB205_1,  PRS2,     2,  1,     11,   8011,2,20081010,1001, 22.7717,-157.9870, 4736,     24,     24.4,  26.2658,  35.2959,2,-999.0000,9,    204.8,1, 26.2603,   -999.0,9,  -999.00,9,  -999.00,9,  -999.00,9,  -999.0,-999.000
     33KB205_1,  PRS2,     2,  1,     17,   8017,2,20081010,1001, 22.7717,-157.9870, 4736,     24,     24.5,  26.2558,  35.2952,2,-999.0000,9,    204.8,1, 26.2503,   -999.0,9,  -999.00,9,  -999.00,9,  -999.00,9,  -999.0,-999.000
     33KB205_1,  PRS2,     2,  1,     16,   8016,2,20081010,1001, 22.7717,-157.9870, 4736,     24,     24.5,  26.2595,  35.2954,2,-999.0000,9,    204.8,1, 26.2540,   -999.0,9,  -999.00,9,  -999.00,9,  -999.00,9,  -999.0,-999.000
     33KB205_1,  PRS2,     2,  1,     15,   8015,2,20081010,1001, 22.7717,-157.9870, 4736,     24,     24.5,  26.2653,  35.2960,2,-999.0000,9,    204.8,1, 26.2598,   -999.0,9,  -999.00,9,  -999.00,9,  -999.00,9,  -999.0,-999.000
     33KB205_1,  PRS2,     2,  1,     14,   8014,2,20081010,1001, 22.7717,-157.9870, 4736,     25,     24.5,  26.2688,  35.2961,2,-999.0000,9,    204.8,1, 26.2633,   -999.0,9,  -999.00,9,  -999.00,9,  -999.00,9,  -999.0,-999.000
     33KB205_1,  PRS2,     2,  1,     12,   8012,2,20081010,1001, 22.7717,-157.9870, 4736,     25,     24.5,  26.2813,  35.2969,2,-999.0000,9,    204.8,1, 26.2758,   -999.0,9,  -999.00,9,  -999.00,9,  -999.00,9,  -999.0,-999.000
     33KB205_1,  PRS2,     2,  1,     13,   8025,2,20081010,1001, 22.7717,-157.9870, 4736,     24,     24.6,  26.2758,  35.2961,2,-999.0000,9,    204.7,1, 26.2703,   -999.0,9,  -999.00,9,  -999.00,9,  -999.00,9,  -999.0,-999.000
     33KB205_1,  PRS2,     2,  1,      8,   8008,2,20081010,1001, 22.7717,-157.9870, 4736,     46,     45.4,  26.2267,  35.2955,2,-999.0000,9,    204.4,1, 26.2165,   -999.0,9,  -999.00,9,  -999.00,9,  -999.00,9,  -999.0,-999.000
     33KB205_1,  PRS2,     2,  1,      7,   8026,2,20081010,1001, 22.7717,-157.9870, 4736,     46,     45.4,  26.2267,  35.2954,2,-999.0000,9,    204.6,1, 26.2165,   -999.0,9,  -999.00,9,  -999.00,9,  -999.00,9,  -999.0,-999.000
     33KB205_1,  PRS2,     2,  1,      6,   8006,2,20081010,1001, 22.7717,-157.9870, 4736,     46,     45.4,  26.2263,  35.2954,2,-999.0000,9,    204.7,1, 26.2161,   -999.0,9,  -999.00,9,  -999.00,9,  -999.00,9,  -999.0,-999.000
     33KB205_1,  PRS2,     2,  1,     10,   8010,2,20081010,1001, 22.7717,-157.9870, 4736,     46,     45.5,  26.2265,  35.2953,2,-999.0000,9,    204.4,1, 26.2163,   -999.0,9,  -999.00,9,  -999.00,9,  -999.00,9,  -999.0,-999.000
     33KB205_1,  PRS2,     2,  1,      9,   8009,2,20081010,1001, 22.7717,-157.9870, 4736,     46,     45.5,  26.2266,  35.2954,2,-999.0000,9,    204.4,1, 26.2164,   -999.0,9,  -999.00,9,  -999.00,9,  -999.00,9,  -999.0,-999.000
     33KB205_1,  PRS2,     2,  1,      3,   8003,2,20081010,1001, 22.7717,-157.9870, 4736,     75,     75.3,  24.1195,  35.2387,2,-999.0000,9,    216.8,1, 24.1035,   -999.0,9,  -999.00,9,  -999.00,9,  -999.00,9,  -999.0,-999.000
     33KB205_1,  PRS2,     2,  1,      2,   8002,2,20081010,1001, 22.7717,-157.9870, 4736,     74,     75.3,  24.1195,  35.2387,2,-999.0000,9,    216.7,1, 24.1035,   -999.0,9,  -999.00,9,  -999.00,9,  -999.00,9,  -999.0,-999.000
     33KB205_1,  PRS2,     2,  1,      1,   8001,2,20081010,1001, 22.7717,-157.9870, 4736,     75,     75.3,  24.1185,  35.2386,2,-999.0000,9,    216.7,1, 24.1026,   -999.0,9,  -999.00,9,  -999.00,9,  -999.00,9,  -999.0,-999.000
     33KB205_1,  PRS2,     2,  1,      4,   8004,2,20081010,1001, 22.7717,-157.9870, 4736,     76,     75.6,  24.1187,  35.2386,2,-999.0000,9,    216.8,1, 24.1027,   -999.0,9,  -999.00,9,  -999.00,9,  -999.00,9,  -999.0,-999.000
     33KB205_1,  PRS2,     2,  1,      5,   8005,2,20081010,1001, 22.7717,-157.9870, 4736,     76,     75.7,  24.1189,  35.2393,2,-999.0000,9,    216.8,1, 24.1029,   -999.0,9,  -999.00,9,  -999.00,9,  -999.00,9,  -999.0,-999.000
     33KB205_1,  PRS2,     2,  2,     23,   8023,2,20081010,1123, 22.7717,-157.9870, 4736,      6,      6.0,  26.2886,  35.2988,2,  35.3017,2,    204.1,1, 26.2873,   -999.0,9,  -999.00,9,  -999.00,9,  -999.00,9,  -999.0,-999.000
     33KB205_1,  PRS2,     2,  2,     22,   8022,2,20081010,1123, 22.7717,-157.9870, 4736,      7,      6.0,  26.2887,  35.2987,2,  35.2989,2,    204.0,1, 26.2874,   -999.0,9,  -999.00,9,  -999.00,9,  -999.00,9,  -999.0,-999.000
     33KB205_1,  PRS2,     2,  2,     24,   8024,2,20081010,1123, 22.7717,-157.9870, 4736,      6,      6.1,  26.2879,  35.2987,2,  35.2993,2,    204.2,1, 26.2865,   -999.0,9,  -999.00,9,  -999.00,9,  -999.00,9,  -999.0,-999.000
     33KB205_1,  PRS2,     2,  2,     21,   8021,2,20081010,1123, 22.7717,-157.9870, 4736,     24,     24.2,  26.2908,  35.2984,2,  35.3001,2,    203.9,1, 26.2854,   -999.0,9,  -999.00,9,  -999.00,9,  -999.00,9,  -999.0,-999.000
     33KB205_1,  PRS2,     2,  2,     18,   8018,2,20081010,1123, 22.7717,-157.9870, 4736,     26,     24.5,  26.2902,  35.2982,2,  35.2991,2,    203.9,1, 26.2847,   -999.0,9,  -999.00,9,  -999.00,9,  -999.00,9,  -999.0,-999.000
     33KB205_1,  PRS2,     2,  2,     17,   8017,2,20081010,1123, 22.7717,-157.9870, 4736,     25,     24.5,  26.2893,  35.2980,2,  35.2991,2,    204.0,1, 26.2838,   -999.0,9,  -999.00,9,  -999.00,9,  -999.00,9,  -999.0,-999.000
     33KB205_1,  PRS2,     2,  2,     20,   8020,2,20081010,1123, 22.7717,-157.9870, 4736,     25,     24.6,  26.2908,  35.2983,2,  35.2995,2,    203.9,1, 26.2853,   -999.0,9,  -999.00,9,  -999.00,9,  -999.00,9,  -999.0,-999.000
     33KB205_1,  PRS2,     2,  2,     19,   8019,2,20081010,1123, 22.7717,-157.9870, 4736,     25,     24.6,  26.2904,  35.2983,2,  35.2986,2,    203.9,1, 26.2849,   -999.0,9,  -999.00,9,  -999.00,9,  -999.00,9,  -999.0,-999.000
     33KB205_1,  PRS2,     2,  2,     16,   8016,2,20081010,1123, 22.7717,-157.9870, 4736,     44,     44.1,  26.2095,  35.2943,2,  35.2966,2,    204.9,1, 26.1996,   -999.0,9,  -999.00,9,  -999.00,9,  -999.00,9,  -999.0,-999.000
     33KB205_1,  PRS2,     2,  2,     14,   8014,2,20081010,1123, 22.7717,-157.9870, 4736,     45,     44.2,  26.2083,  35.2941,2,  35.2960,2,    205.0,1, 26.1984,   -999.0,9,  -999.00,9,  -999.00,9,  -999.00,9,  -999.0,-999.000
     33KB205_1,  PRS2,     2,  2,     15,   8015,2,20081010,1123, 22.7717,-157.9870, 4736,     45,     44.4,  26.2085,  35.2939,2,  35.2958,2,    204.9,1, 26.1985,   -999.0,9,  -999.00,9,  -999.00,9,  -999.00,9,  -999.0,-999.000
     33KB205_1,  PRS2,     2,  2,     11,   8011,2,20081010,1123, 22.7717,-157.9870, 4736,     74,     74.3,  23.9256,  35.2349,2,  35.2357,2,    214.9,1, 23.9100,   -999.0,9,  -999.00,9,  -999.00,9,  -999.00,9,  -999.0,-999.000
     33KB205_1,  PRS2,     2,  2,     12,   8012,2,20081010,1123, 22.7717,-157.9870, 4736,     75,     74.4,  23.9200,  35.2351,2,  35.2361,2,    215.2,1, 23.9044,   -999.0,9,  -999.00,9,  -999.00,9,  -999.00,9,  -999.0,-999.000
     33KB205_1,  PRS2,     2,  2,     13,   8025,2,20081010,1123, 22.7717,-157.9870, 4736,     75,     74.5,  23.9161,  35.2346,2,  35.2355,2,    215.6,1, 23.9004,   -999.0,9,  -999.00,9,  -999.00,9,  -999.00,9,  -999.0,-999.000
     33KB205_1,  PRS2,     2,  2,      8,   8008,2,20081010,1123, 22.7717,-157.9870, 4736,     99,     99.2,  23.0571,  35.2355,2,  35.2363,2,    207.9,1, 23.0368,   -999.0,9,  -999.00,9,  -999.00,9,  -999.00,9,  -999.0,-999.000
     33KB205_1,  PRS2,     2,  2,     10,   8010,2,20081010,1123, 22.7717,-157.9870, 4736,    101,     99.3,  23.0576,  35.2343,2,  35.2367,2,    208.2,1, 23.0373,   -999.0,9,  -999.00,9,  -999.00,9,  -999.00,9,  -999.0,-999.000
     33KB205_1,  PRS2,     2,  2,      9,   8009,2,20081010,1123, 22.7717,-157.9870, 4736,    100,     99.3,  23.0531,  35.2351,2,  35.2367,2,    208.0,1, 23.0328,   -999.0,9,  -999.00,9,  -999.00,9,  -999.00,9,  -999.0,-999.000
     33KB205_1,  PRS2,     2,  2,      7,   8026,2,20081010,1123, 22.7717,-157.9870, 4736,    124,    124.0,  22.2954,  35.2719,2,  35.2721,2,    205.4,1, 22.2706,   -999.0,9,  -999.00,9,  -999.00,9,  -999.00,9,  -999.0,-999.000
     33KB205_1,  PRS2,     2,  2,      6,   8006,2,20081010,1123, 22.7717,-157.9870, 4736,    124,    124.0,  22.2924,  35.2722,2,  35.2723,2,    205.4,1, 22.2676,   -999.0,9,  -999.00,9,  -999.00,9,  -999.00,9,  -999.0,-999.000
     33KB205_1,  PRS2,     2,  2,      5,   8005,2,20081010,1123, 22.7717,-157.9870, 4736,    124,    124.1,  22.2892,  35.2729,2,  35.2706,2,    205.5,1, 22.2644,   -999.0,9,  -999.00,9,  -999.00,9,  -999.00,9,  -999.0,-999.000
     33KB205_1,  PRS2,     2,  2,      4,   8004,2,20081010,1123, 22.7717,-157.9870, 4736,    149,    148.9,  21.2628,  35.2335,2,  35.2337,2,    197.0,1, 21.2340,   -999.0,9,  -999.00,9,  -999.00,9,  -999.00,9,  -999.0,-999.000
     33KB205_1,  PRS2,     2,  2,      3,   8003,2,20081010,1123, 22.7717,-157.9870, 4736,    174,    174.0,  19.9759,  35.1054,2,  35.0943,2,    193.3,1, 19.9438,   -999.0,9,  -999.00,9,  -999.00,9,  -999.00,9,  -999.0,-999.000
     33KB205_1,  PRS2,     2,  2,      2,   8002,2,20081010,1123, 22.7717,-157.9870, 4736,    490,    490.0,   7.5135,  34.0888,2,  34.0913,2,    112.7,1,  7.4655,   -999.0,9,  -999.00,9,  -999.00,9,  -999.00,9,  -999.0,-999.000
     33KB205_1,  PRS2,     2,  2,      1,   8001,2,20081010,1123, 22.7717,-157.9870, 4736,   1020,   1020.2,   4.0359,  34.4802,2,  34.4799,2,     41.3,1,  3.9583,   -999.0,9,  -999.00,9,  -999.00,9,  -999.00,9,  -999.0,-999.000