BOTTLE,20090923WHPSIOMYS
EXPOCODE,SECT_ID,STNNBR,CASTNO,SAMPNO,BTLNBR,BTLNBR_FLAG_W,DATE,TIME,LATITUDE,LONGITUDE,DEPTH,CTDRAW,CTDPRS,CTDTMP,CTDSAL,CTDSAL_FLAG_W,SALNTY,SALNTY_FLAG_W,CTDOXY,CTDOXY_FLAG_W,THETA,OXYGEN,OXYGEN_FLAG_W,SILCAT,SILCAT_FLAG_W,NO2+NO3,NO2+NO3_FLAG_W,PHSPHT,PHSPHT_FLAG_W,REVPRS,REVTMP
,,,,,,,,,,,,,DBAR,ITS-90,PSS-78,,PSS-78,,UMOL/KG,,ITS-90,UMOL/KG,,UMOL/KG,,UMOL/KG,,UMOL/KG,,DBAR,DEG C
     33KB205_1,  PRS2,     2,  3,     24,   8024,2,20081010,1504, 22.7500,-158.0002, 4747,      7,      7.4,  26.2536,  35.2913,2,  35.2926,2,    204.3,2, 26.2519,    204.7,2,     1.22,2,     0.06,2,     0.01,2,  -999.0,-999.000
     33KB205_1,  PRS2,     2,  3,     23,   8023,2,20081010,1504, 22.7500,-158.0002, 4747,    499,    498.9,   7.2424,  34.1065,2,  34.1085,2,     97.8,2,  7.1944,     96.2,2,    48.90,2,    30.71,2,     2.25,2,  -999.0,-999.000
     33KB205_1,  PRS2,     2,  3,     22,   8022,2,20081010,1504, 22.7500,-158.0002, 4747,    750,    749.7,   4.9078,  34.3400,2,  34.3423,2,     31.8,2,  4.8475,     32.8,2,    90.38,2,    41.01,2,     3.00,2,  -999.0,-999.000
     33KB205_1,  PRS2,     2,  3,     21,   8021,2,20081010,1504, 22.7500,-158.0002, 4747,    999,    999.1,   4.0079,  34.4830,2,  34.4830,2,     41.8,2,  3.9322,     41.6,2,   107.55,2,    42.03,2,     3.04,2,  -999.0,-999.000
     33KB205_1,  PRS2,     2,  3,     20,   8020,3,20081010,1504, 22.7500,-158.0002, 4747,   1199,   1198.7,   3.4095,  34.5268,2,  34.5280,2,     54.8,2,  3.3224,     54.6,2,   121.96,2,    41.57,2,     2.99,2,  -999.0,-999.000
     33KB205_1,  PRS2,     2,  3,     19,   8019,2,20081010,1504, 22.7500,-158.0002, 4747,   1399,   1399.1,   3.0148,  34.5571,2,  34.5584,2,     62.1,2,  2.9152,     62.2,2,   130.76,2,    41.35,2,     2.96,2,  -999.0,-999.000
     33KB205_1,  PRS2,     2,  3,     18,   8018,2,20081010,1504, 22.7500,-158.0002, 4747,   1599,   1599.3,   2.6575,  34.5835,2,  34.5844,2,     70.7,2,  2.5455,     71.7,2,   138.69,2,    40.99,2,     2.93,2,  -999.0,-999.000
     33KB205_1,  PRS2,     2,  3,     17,   8017,2,20081010,1504, 22.7500,-158.0002, 4747,   1800,   1799.8,   2.3671,  34.6004,2,  34.6022,2,     78.2,2,  2.2421,     78.9,2,   145.59,2,    40.71,2,     2.88,2,  -999.0,-999.000
     33KB205_1,  PRS2,     2,  3,     16,   8016,2,20081010,1504, 22.7500,-158.0002, 4747,   2000,   1999.9,   2.1194,  34.6183,2,  34.6207,2,     86.7,2,  1.9812,     87.3,2,   151.12,2,    40.24,2,     2.83,2,  -999.0,-999.000
     33KB205_1,  PRS2,     2,  3,     15,   8015,2,20081010,1504, 22.7500,-158.0002, 4747,   2200,   2199.4,   1.9167,  34.6325,2,  34.6329,2,     93.1,2,  1.7646,     93.4,2,   156.44,2,    39.85,2,     2.79,2,  -999.0,-999.000
     33KB205_1,  PRS2,     2,  3,     14,   8014,2,20081010,1504, 22.7500,-158.0002, 4747,   2397,   2398.3,   1.7617,  34.6459,2,  34.6468,2,    101.5,2,  1.5950,    102.0,2,   159.84,2,    38.96,2,     2.72,2,  -999.0,-999.000
     33KB205_1,  PRS2,     2,  3,     13,   8025,2,20081010,1504, 22.7500,-158.0002, 4747,   2599,   2599.2,   1.6508,  34.6572,2,-999.0000,5,    110.7,2,  1.4682,    111.0,2,   159.84,2,    38.90,2,     2.71,2,  -999.0,-999.000
     33KB205_1,  PRS2,     2,  3,     12,   8012,2,20081010,1504, 22.7500,-158.0002, 4747,   2800,   2800.7,   1.5892,  34.6635,2,  34.6643,2,    117.1,2,  1.3893,    117.5,2,   160.00,2,    38.22,2,     2.65,2,  -999.0,-999.000
     33KB205_1,  PRS2,     2,  3,     11,   8011,2,20081010,1504, 22.7500,-158.0002, 4747,   2999,   2999.7,   1.5325,  34.6708,2,  34.6716,2,    124.2,2,  1.3151,    124.7,2,   159.06,2,    37.77,2,     2.61,2,  -999.0,-999.000
     33KB205_1,  PRS2,     2,  3,     10,   8010,2,20081010,1504, 22.7500,-158.0002, 4747,   3200,   3199.2,   1.4951,  34.6760,2,  34.6761,2,    131.0,2,  1.2592,    131.6,2,   157.40,2,    37.17,2,     2.58,2,  -999.0,-999.000
     33KB205_1,  PRS2,     2,  3,      9,   8009,2,20081010,1504, 22.7500,-158.0002, 4747,   3400,   3400.1,   1.4749,  34.6802,2,  34.6804,2,    135.9,2,  1.2196,    135.7,2,   155.38,2,    36.79,2,     2.55,2,  -999.0,-999.000
     33KB205_1,  PRS2,     2,  3,      8,   8008,2,20081010,1504, 22.7500,-158.0002, 4747,   3599,   3598.5,   1.4662,  34.6830,2,  34.6834,2,    139.9,2,  1.1908,    139.3,2,   155.97,2,    36.52,2,     2.53,2,  -999.0,-999.000
     33KB205_1,  PRS2,     2,  3,      7,   8026,2,20081010,1504, 22.7500,-158.0002, 4747,   3798,   3798.9,   1.4597,  34.6848,2,  34.6855,2,    143.3,2,  1.1635,    142.4,2,   153.33,2,    36.39,2,     2.51,2,  -999.0,-999.000
     33KB205_1,  PRS2,     2,  3,      6,   8006,2,20081010,1504, 22.7500,-158.0002, 4747,   3998,   3998.5,   1.4631,  34.6866,2,  34.6871,2,    146.1,2,  1.1454,    145.6,2,   152.83,2,    36.20,2,     2.50,2,  -999.0,-999.000
     33KB205_1,  PRS2,     2,  3,      5,   8005,2,20081010,1504, 22.7500,-158.0002, 4747,   4199,   4198.9,   1.4691,  34.6876,2,  34.6889,2,    148.4,2,  1.1291,    148.4,2,   150.44,2,    36.00,2,     2.48,2,  -999.0,-999.000
     33KB205_1,  PRS2,     2,  3,      4,   8004,2,20081010,1504, 22.7500,-158.0002, 4747,   4399,   4400.2,   1.4774,  34.6888,2,  34.6899,2,    150.8,2,  1.1145,    150.0,2,   149.49,2,    35.87,2,     2.47,2,  -999.0,-999.000
     33KB205_1,  PRS2,     2,  3,      3,   8003,2,20081010,1504, 22.7500,-158.0002, 4747,   4499,   4498.7,   1.4846,  34.6892,2,  34.6906,2,    151.3,2,  1.1103,    151.2,2,   148.83,2,    35.84,2,     2.46,2,  -999.0,-999.000
     33KB205_1,  PRS2,     2,  3,      2,   8002,2,20081010,1504, 22.7500,-158.0002, 4747,   4598,   4598.1,   1.4913,  34.6896,2,  34.6905,2,    152.1,2,  1.1052,    152.3,2,   148.64,2,    35.71,2,     2.46,2,  -999.0,-999.000
     33KB205_1,  PRS2,     2,  3,      1,   8001,2,20081010,1504, 22.7500,-158.0002, 4747,   4806,   4804.8,   1.5021,  34.6908,2,  34.6924,2,    154.4,2,  1.0913,    154.4,2,   146.71,2,    35.58,2,     2.46,2,  -999.0,-999.000
     33KB205_1,  PRS2,     2,  4,     24,   8024,2,20081010,2100, 22.7418,-157.9925, 4745,      9,     10.2,  26.3265,  35.2963,2,  35.2964,2,    204.3,2, 26.3242,    203.9,2,     0.91,2,     0.08,2,     0.00,2,  -999.0,-999.000
     33KB205_1,  PRS2,     2,  4,     23,   8023,2,20081010,2100, 22.7418,-157.9925, 4745,     62,     62.3,  24.9877,  35.2728,2,  35.2690,2,    217.1,2, 24.9742,    216.9,2,     1.04,2,     0.08,2,     0.00,2,  -999.0,-999.000
     33KB205_1,  PRS2,     2,  4,     22,   8022,2,20081010,2100, 22.7418,-157.9925, 4745,     86,     85.6,  23.6170,  35.2338,2,  35.2351,2,    215.0,2, 23.5992,    213.5,2,     1.16,2,     0.07,2,     0.03,2,  -999.0,-999.000
     33KB205_1,  PRS2,     2,  4,     21,   8021,2,20081010,2100, 22.7418,-157.9925, 4745,    122,    122.4,  22.0944,  35.2656,2,  35.2654,2,    203.4,2, 22.0701,    203.8,2,     1.41,2,     0.45,2,     0.06,2,  -999.0,-999.000
     33KB205_1,  PRS2,     2,  4,     20,   8020,2,20081010,2100, 22.7418,-157.9925, 4745,    154,    154.1,  20.8666,  35.1898,2,  35.1878,2,    195.1,2, 20.8372,    195.2,2,     1.79,2,     1.37,2,     0.14,2,  -999.0,-999.000
     33KB205_1,  PRS2,     2,  4,     19,   8019,2,20081010,2100, 22.7418,-157.9925, 4745,    190,    190.6,  19.7249,  35.0576,2,  35.0506,2,    191.9,2, 19.6900,    192.3,2,     2.28,2,     2.30,2,     0.20,2,  -999.0,-999.000
     33KB205_1,  PRS2,     2,  4,     18,   8018,2,20081010,2100, 22.7418,-157.9925, 4745,    259,    258.0,  15.3344,  34.4620,2,  34.4587,2,    183.9,2, 15.2948,    185.2,2,     5.99,2,    42.17,4,     3.02,4,  -999.0,-999.000
     33KB205_1,  PRS2,     2,  4,     17,   8017,2,20081010,2100, 22.7418,-157.9925, 4745,    326,    325.7,  11.3804,  34.1429,2,  34.1454,2,    157.9,2, 11.3395,    162.4,2,    15.94,2,    16.39,2,     1.27,2,  -999.0,-999.000
     33KB205_1,  PRS2,     2,  4,     16,   8016,2,20081010,2100, 22.7418,-157.9925, 4745,    359,    358.5,  10.3244,  34.1320,2,  34.1387,2,    172.5,2, 10.2820,    162.7,2,    20.68,2,    18.84,2,     1.40,2,  -999.0,-999.000
     33KB205_1,  PRS2,     2,  4,     15,   8015,2,20081010,2100, 22.7418,-157.9925, 4745,    408,    407.6,   9.0043,  34.1166,2,  34.1174,2,    146.5,2,  8.9600,    144.7,2,    29.64,2,    23.28,2,     1.69,2,  -999.0,-999.000
     33KB205_1,  PRS2,     2,  4,     14,   8014,2,20081010,2100, 22.7418,-157.9925, 4745,    461,    462.0,   7.5905,  34.0954,2,  34.0974,2,    112.8,2,  7.5449,    113.6,2,    44.04,2,    28.91,2,     2.10,2,  -999.0,-999.000
     33KB205_1,  PRS2,     2,  4,     13,   8025,2,20081010,2100, 22.7418,-157.9925, 4745,    506,    506.1,   6.7969,  34.0868,2,  34.0897,2,     97.4,2,  6.7500,     95.3,2,    54.67,2,    32.43,2,     2.34,2,  -999.0,-999.000
     33KB205_1,  PRS2,     2,  4,     12,   8012,2,20081010,2100, 22.7418,-157.9925, 4745,    560,    560.0,   6.2246,  34.1345,2,  34.1360,2,     66.2,2,  6.1748,     65.6,2,    63.90,2,    35.73,2,     2.61,2,  -999.0,-999.000
     33KB205_1,  PRS2,     2,  4,     11,   8011,2,20081010,2100, 22.7418,-157.9925, 4745,    606,    605.0,   5.9433,  34.2110,2,  34.2113,2,     49.6,2,  5.8906,     47.0,2,    70.90,2,    37.82,2,     2.77,2,  -999.0,-999.000
     33KB205_1,  PRS2,     2,  4,     10,   8010,2,20081010,2100, 22.7418,-157.9925, 4745,    643,    643.9,   5.6067,  34.2363,2,  34.2352,2,     41.3,2,  5.5521,     41.3,2,    76.91,2,    39.03,2,     2.87,2,  -999.0,-999.000
     33KB205_1,  PRS2,     2,  4,      9,   8009,2,20081010,2100, 22.7418,-157.9925, 4745,    680,    680.2,   5.3575,  34.2576,2,  34.2595,2,     38.3,2,  5.3008,     37.2,2,    82.12,2,    40.07,2,     2.91,2,  -999.0,-999.000
     33KB205_1,  PRS2,     2,  4,      8,   8008,2,20081010,2100, 22.7418,-157.9925, 4745,    719,    720.0,   5.1604,  34.2859,2,  34.2836,2,     35.9,2,  5.1013,     41.9,4,    86.10,2,    40.57,2,     2.95,2,  -999.0,-999.000
     33KB205_1,  PRS2,     2,  4,      7,   8026,2,20081010,2100, 22.7418,-157.9925, 4745,    758,    757.9,   5.0186,  34.3473,2,  34.3476,2,     32.8,2,  4.9569,     32.9,2,    89.39,2,    41.15,2,     3.00,2,  -999.0,-999.000
     33KB205_1,  PRS2,     2,  4,      6,   8006,2,20081010,2100, 22.7418,-157.9925, 4745,    804,    803.1,   4.6492,  34.3663,2,  34.3670,2,     31.3,2,  4.5858,     31.2,2,    96.66,2,    41.95,2,     3.05,2,  -999.0,-999.000
     33KB205_1,  PRS2,     2,  4,      5,   8005,2,20081010,2100, 22.7418,-157.9925, 4745,    849,    848.9,   4.4997,  34.3993,2,  34.3990,2,     33.1,2,  4.4333,     33.4,2,   100.17,2,    42.11,2,     3.06,2,  -999.0,-999.000
     33KB205_1,  PRS2,     2,  4,      4,   8004,2,20081010,2100, 22.7418,-157.9925, 4745,    885,    884.9,   4.4086,  34.4211,2,  34.4204,2,     34.4,2,  4.3397,     34.6,2,   101.84,2,    42.28,2,     3.07,2,  -999.0,-999.000
     33KB205_1,  PRS2,     2,  4,      3,   8003,2,20081010,2100, 22.7418,-157.9925, 4745,    922,    920.9,   4.3094,  34.4440,2,  34.4430,2,     36.7,2,  4.2382,     36.8,2,   104.01,2,    42.20,2,     3.06,2,  -999.0,-999.000
     33KB205_1,  PRS2,     2,  4,      2,   8002,2,20081010,2100, 22.7418,-157.9925, 4745,    955,    954.5,   4.2153,  34.4609,2,  34.4591,2,     38.8,2,  4.1419,     47.7,4,   105.60,2,    42.28,2,     3.05,2,  -999.0,-999.000
     33KB205_1,  PRS2,     2,  4,      1,   8001,2,20081010,2100, 22.7418,-157.9925, 4745,    991,    991.0,   4.0364,  34.4796,2,  34.4797,2,     41.0,2,  3.9612,     41.1,2,   109.33,2,    42.13,2,     3.04,2,  -999.0,-999.000
     33KB205_1,  PRS2,     2,  5,     24,   8024,2,20081010,2357, 22.7388,-157.9823, 4743,      8,      7.1,  26.3906,  35.3014,2,-999.0000,5,    204.1,1, 26.3890,   -999.0,9,  -999.00,9,  -999.00,9,  -999.00,9,  -999.0,-999.000
     33KB205_1,  PRS2,     2,  5,     23,   8023,2,20081010,2357, 22.7388,-157.9823, 4743,      7,      7.1,  26.3931,  35.3014,2,  35.3001,2,    204.1,1, 26.3915,   -999.0,9,  -999.00,9,  -999.00,9,  -999.00,9,  -999.0,-999.000
     33KB205_1,  PRS2,     2,  5,     20,   8020,2,20081010,2357, 22.7388,-157.9823, 4743,     26,     25.3,  26.3055,  35.2954,2,  35.2952,2,    204.0,1, 26.2998,   -999.0,9,  -999.00,9,  -999.00,9,  -999.00,9,  -999.0,-999.000
     33KB205_1,  PRS2,     2,  5,     22,   8022,2,20081010,2357, 22.7388,-157.9823, 4743,     26,     25.5,  26.2956,  35.2947,2,-999.0000,5,    204.1,1, 26.2899,   -999.0,9,  -999.00,9,  -999.00,9,  -999.00,9,  -999.0,-999.000
     33KB205_1,  PRS2,     2,  5,     21,   8021,2,20081010,2357, 22.7388,-157.9823, 4743,     26,     25.5,  26.3007,  35.2950,2,-999.0000,5,    204.0,1, 26.2950,   -999.0,9,  -999.00,9,  -999.00,9,  -999.00,9,  -999.0,-999.000
     33KB205_1,  PRS2,     2,  5,     19,   8019,2,20081010,2357, 22.7388,-157.9823, 4743,     46,     45.3,  26.2748,  35.2952,2,-999.0000,5,    204.3,1, 26.2647,   -999.0,9,  -999.00,9,  -999.00,9,  -999.00,9,  -999.0,-999.000
     33KB205_1,  PRS2,     2,  5,     17,   8017,2,20081010,2357, 22.7388,-157.9823, 4743,     46,     45.3,  26.2750,  35.2954,2,  35.2962,2,    204.2,1, 26.2648,   -999.0,9,  -999.00,9,  -999.00,9,  -999.00,9,  -999.0,-999.000
     33KB205_1,  PRS2,     2,  5,     18,   8018,2,20081010,2357, 22.7388,-157.9823, 4743,     46,     45.4,  26.2746,  35.2953,2,-999.0000,5,    204.2,1, 26.2644,   -999.0,9,  -999.00,9,  -999.00,9,  -999.00,9,  -999.0,-999.000
     33KB205_1,  PRS2,     2,  5,     15,   8015,2,20081010,2357, 22.7388,-157.9823, 4743,     75,     75.0,  25.2198,  35.2706,2,  35.2702,2,    215.2,1, 25.2035,   -999.0,9,  -999.00,9,  -999.00,9,  -999.00,9,  -999.0,-999.000
     33KB205_1,  PRS2,     2,  5,     16,   8016,2,20081010,2357, 22.7388,-157.9823, 4743,     74,     75.2,  25.2271,  35.2710,2,-999.0000,5,    214.9,1, 25.2107,   -999.0,9,  -999.00,9,  -999.00,9,  -999.00,9,  -999.0,-999.000
     33KB205_1,  PRS2,     2,  5,     14,   8014,2,20081010,2357, 22.7388,-157.9823, 4743,    100,     99.7,  22.9692,  35.2363,2,-999.0000,5,    208.8,1, 22.9488,   -999.0,9,  -999.00,9,  -999.00,9,  -999.00,9,  -999.0,-999.000
     33KB205_1,  PRS2,     2,  5,     13,   8025,2,20081010,2357, 22.7388,-157.9823, 4743,     99,     99.7,  22.9660,  35.2365,2,  35.2373,2,    208.7,1, 22.9456,   -999.0,9,  -999.00,9,  -999.00,9,  -999.00,9,  -999.0,-999.000
     33KB205_1,  PRS2,     2,  5,     12,   8012,2,20081010,2357, 22.7388,-157.9823, 4743,    126,    126.0,  22.2907,  35.2653,2,-999.0000,5,    205.4,1, 22.2655,   -999.0,9,  -999.00,9,  -999.00,9,  -999.00,9,  -999.0,-999.000
     33KB205_1,  PRS2,     2,  5,     11,   8011,2,20081010,2357, 22.7388,-157.9823, 4743,    126,    126.1,  22.2888,  35.2655,2,  35.2645,2,    205.4,1, 22.2636,   -999.0,9,  -999.00,9,  -999.00,9,  -999.00,9,  -999.0,-999.000
     33KB205_1,  PRS2,     2,  5,      9,   8009,2,20081010,2357, 22.7388,-157.9823, 4743,    149,    149.4,  21.4511,  35.2225,2,  35.2209,2,    196.8,1, 21.4221,   -999.0,9,  -999.00,9,  -999.00,9,  -999.00,9,  -999.0,-999.000
     33KB205_1,  PRS2,     2,  5,     10,   8010,2,20081010,2357, 22.7388,-157.9823, 4743,    149,    149.6,  21.4561,  35.2226,2,-999.0000,5,    197.0,1, 21.4271,   -999.0,9,  -999.00,9,  -999.00,9,  -999.00,9,  -999.0,-999.000
     33KB205_1,  PRS2,     2,  5,      8,   8008,2,20081010,2357, 22.7388,-157.9823, 4743,    175,    175.3,  20.5516,  35.1495,2,-999.0000,5,    192.2,1, 20.5185,   -999.0,9,  -999.00,9,  -999.00,9,  -999.00,9,  -999.0,-999.000
     33KB205_1,  PRS2,     2,  5,      7,   8026,2,20081010,2357, 22.7388,-157.9823, 4743,    175,    175.3,  20.5506,  35.1494,2,  35.1506,2,    192.2,1, 20.5175,   -999.0,9,  -999.00,9,  -999.00,9,  -999.00,9,  -999.0,-999.000
     33KB205_1,  PRS2,     2,  5,      6,   8006,2,20081010,2357, 22.7388,-157.9823, 4743,    199,    199.3,  19.3747,  35.0085,2,  35.0112,2,    190.3,1, 19.3387,   -999.0,9,  -999.00,9,  -999.00,9,  -999.00,9,  -999.0,-999.000
     33KB205_1,  PRS2,     2,  5,      5,   8005,2,20081010,2357, 22.7388,-157.9823, 4743,    252,    250.4,  15.6140,  34.5009,2,  34.5056,2,    185.2,1, 15.5751,   -999.0,9,  -999.00,9,  -999.00,9,  -999.00,9,  -999.0,-999.000
     33KB205_1,  PRS2,     2,  5,      4,   8004,2,20081010,2357, 22.7388,-157.9823, 4743,    350,    349.5,  10.3090,  34.1359,2,  34.1370,2,    164.5,1, 10.2678,   -999.0,9,  -999.00,9,  -999.00,9,  -999.00,9,  -999.0,-999.000
     33KB205_1,  PRS2,     2,  5,      3,   8003,2,20081010,2357, 22.7388,-157.9823, 4743,    350,    349.5,  10.3088,  34.1356,2,  34.1368,2,    164.3,1, 10.2676,   -999.0,9,  -999.00,9,  -999.00,9,  -999.00,9,  -999.0,-999.000
     33KB205_1,  PRS2,     2,  5,      2,   8002,2,20081010,2357, 22.7388,-157.9823, 4743,    501,    500.6,   7.0912,  34.1045,2,  34.1074,2,     94.2,1,  7.0437,   -999.0,9,  -999.00,9,  -999.00,9,  -999.00,9,  -999.0,-999.000
     33KB205_1,  PRS2,     2,  5,      1,   8001,2,20081010,2357, 22.7388,-157.9823, 4743,   1021,   1020.0,   4.0154,  34.4834,2,  34.4826,2,     41.6,1,  3.9380,   -999.0,9,  -999.00,9,  -999.00,9,  -999.00,9,  -999.0,-999.000