BOTTLE,20141031SIOCCHAMB
EXPOCODE,SECT_ID,STNNBR,CASTNO,SAMPNO,BTLNBR,BTLNBR_FLAG_W,DATE,TIME,LATITUDE,LONGITUDE,DEPTH,CTDPRS,CTDTMP,CTDSAL,CTDSAL_FLAG_W,SALNTY,SALNTY_FLAG_W,CTDOXY,CTDOXY_FLAG_W,OXYGEN,OXYGEN_FLAG_W,SILCAT,SILCAT_FLAG_W,PHSPHT,PHSPHT_FLAG_W,REVPRS,CTDRAW,THETA,NO2+NO3,NO2+NO3_FLAG_W,REVTMP
,,,,,,,,,,,METERS,DBAR,ITS-90,PSS-78,,PSS-78,,UMOL/KG,,UMOL/KG,,UMOL/KG,,UMOL/KG,,DBAR,DBAR,ITS-90,UMOL/KG,,DEG C
33KI20111103,       PRS2,       1,          1,         24,       8024,2,20111103,       2254,  21.352333,-158.2718333,       1426,     6.6,  26.7834,  35.1134,2,  35.1122,2,    200.2,2,   204.3,2, -999.00,9, -999.00,9,  -999.0,       7,    26.7819, -999.00,9,     -999.0
33KI20111103,       PRS2,       1,          1,         23,       8023,2,20111103,       2254,  21.352333,-158.2718333,       1426,     6.7,  26.7820,  35.1135,2,  35.1114,2,    200.1,2,   201.4,2, -999.00,9, -999.00,9,  -999.0,       7,    26.7805, -999.00,9,     -999.0
33KI20111103,       PRS2,       1,          1,         22,       8022,2,20111103,       2254,  21.352333,-158.2718333,       1426,    26.7,  26.6736,  35.1079,2,  35.1051,2,    201.1,2,   201.0,2, -999.00,9, -999.00,9,  -999.0,      26,    26.6675, -999.00,9,     -999.0
33KI20111103,       PRS2,       1,          1,         21,       8021,2,20111103,       2254,  21.352333,-158.2718333,       1426,    46.2,  26.6571,  35.1087,2,  35.1091,2,    201.4,2,   202.5,2, -999.00,9, -999.00,9,  -999.0,      46,    26.6466, -999.00,9,     -999.0
33KI20111103,       PRS2,       1,          1,         20,       8020,2,20111103,       2254,  21.352333,-158.2718333,       1426,    60.3,  26.1729,  35.3010,2,  35.2980,2,    204.9,2,   206.0,2, -999.00,9, -999.00,9,  -999.0,      60,    26.1594, -999.00,9,     -999.0
33KI20111103,       PRS2,       1,          1,         19,       8019,2,20111103,       2254,  21.352333,-158.2718333,       1426,    74.7,  26.0965,  35.3054,2,  35.3047,2,    205.0,2,   204.5,2, -999.00,9, -999.00,9,  -999.0,      74,    26.0798, -999.00,9,     -999.0
33KI20111103,       PRS2,       1,          1,         18,       8018,2,20111103,       2254,  21.352333,-158.2718333,       1426,    99.2,  25.0923,  35.2354,2,  35.2320,2,    212.9,2,   211.5,2, -999.00,9, -999.00,9,  -999.0,      99,    25.0707, -999.00,9,     -999.0
33KI20111103,       PRS2,       1,          1,         17,       8017,2,20111103,       2254,  21.352333,-158.2718333,       1426,   116.1,  23.1691,  35.2637,2,  35.2615,2,    209.7,2,   209.6,2, -999.00,9, -999.00,9,  -999.0,     115,    23.1452, -999.00,9,     -999.0
33KI20111103,       PRS2,       1,          1,         16,       8016,2,20111103,       2254,  21.352333,-158.2718333,       1426,   128.6,  22.3546,  35.2768,2,  35.2729,2,    206.0,2,   208.2,2, -999.00,9, -999.00,9,  -999.0,     128,    22.3288, -999.00,9,     -999.0
33KI20111103,       PRS2,       1,          1,         15,       8015,2,20111103,       2254,  21.352333,-158.2718333,       1426,   154.6,  20.3616,  35.1584,2,  35.1620,2,    204.3,2,   201.9,2, -999.00,9, -999.00,9,  -999.0,     154,    20.3327, -999.00,9,     -999.0
33KI20111103,       PRS2,       1,          1,         14,       8014,2,20111103,       2254,  21.352333,-158.2718333,       1426,   176.8,  18.5208,  34.9366,2,  34.9484,2,    197.3,2,   196.1,2, -999.00,9, -999.00,9,  -999.0,     177,    18.4899, -999.00,9,     -999.0
33KI20111103,       PRS2,       1,          1,         13,       8025,2,20111103,       2254,  21.352333,-158.2718333,       1426,   198.3,  17.2212,  34.7703,2,  34.7726,2,    202.0,2,   199.5,2, -999.00,9, -999.00,9,  -999.0,     198,    17.1882, -999.00,9,     -999.0
33KI20111103,       PRS2,       1,          1,         12,       8012,2,20111103,       2254,  21.352333,-158.2718333,       1426,   225.7,  14.8153,  34.4685,2,  34.4797,2,    193.7,2,   192.8,2, -999.00,9, -999.00,9,  -999.0,     226,    14.7815, -999.00,9,     -999.0
33KI20111103,       PRS2,       1,          1,         11,       8011,2,20111103,       2254,  21.352333,-158.2718333,       1426,   252.5,  13.4630,  34.3438,2,  34.3590,2,    186.4,2,   187.1,2, -999.00,9, -999.00,9,  -999.0,     253,    13.4276, -999.00,9,     -999.0
33KI20111103,       PRS2,       1,          1,         10,       8010,2,20111103,       2254,  21.352333,-158.2718333,       1426,   298.6,  11.3990,  34.2014,2,  34.2215,3,    177.6,3,   179.1,2, -999.00,9, -999.00,9,  -999.0,     298,    11.3615, -999.00,9,     -999.0
33KI20111103,       PRS2,       1,          1,          9,       8009,2,20111103,       2254,  21.352333,-158.2718333,       1426,   350.1,   9.7740,  34.1454,2,  34.1446,2,    147.7,2,   149.1,2, -999.00,9, -999.00,9,  -999.0,     350,     9.7341, -999.00,9,     -999.0
33KI20111103,       PRS2,       1,          1,          8,       8008,2,20111103,       2254,  21.352333,-158.2718333,       1426,   401.5,   8.6247,  34.1343,2,  34.1321,2,    118.1,2,   123.9,2, -999.00,9, -999.00,9,  -999.0,     402,     8.5822, -999.00,9,     -999.0
33KI20111103,       PRS2,       1,          1,          7,       8026,2,20111103,       2254,  21.352333,-158.2718333,       1426,   501.1,   6.5209,  34.0886,2,  34.0862,2,     84.4,2,    85.6,2, -999.00,9, -999.00,9,  -999.0,     501,     6.4755, -999.00,9,     -999.0
33KI20111103,       PRS2,       1,          1,          6,       8006,2,20111103,       2254,  21.352333,-158.2718333,       1426,   600.1,   5.5854,  34.2230,2,  34.2195,2,     42.9,2,    43.2,2, -999.00,9, -999.00,9,  -999.0,     600,     5.5347, -999.00,9,     -999.0
33KI20111103,       PRS2,       1,          1,          5,       8005,2,20111103,       2254,  21.352333,-158.2718333,       1426,   704.3,   5.2140,  34.3420,2,  34.3372,2,     34.1,2,    32.9,2, -999.00,9, -999.00,9,  -999.0,     704,     5.1558, -999.00,9,     -999.0
33KI20111103,       PRS2,       1,          1,          4,       8004,2,20111103,       2254,  21.352333,-158.2718333,       1426,   750.4,   5.0599,  34.3616,2,  34.3582,2,     33.9,2,    32.8,2, -999.00,9, -999.00,9,  -999.0,     750,     4.9985, -999.00,9,     -999.0
33KI20111103,       PRS2,       1,          1,          3,       8003,2,20111103,       2254,  21.352333,-158.2718333,       1426,   894.4,   4.5628,  34.4368,2,  34.4357,2,     37.7,2,    37.3,2, -999.00,9, -999.00,9,  -999.0,     894,     4.4921, -999.00,9,     -999.0
33KI20111103,       PRS2,       1,          1,          2,       8002,2,20111103,       2254,  21.352333,-158.2718333,       1426,   895.0,   4.5623,  34.4366,2,  34.4359,2,     37.7,2,    38.0,2, -999.00,9, -999.00,9,  -999.0,     894,     4.4915, -999.00,9,     -999.0
33KI20111103,       PRS2,       1,          1,          1,       8001,2,20111103,       2254,  21.352333,-158.2718333,       1426,  1018.8,   4.2848,  34.4818,2,  34.4816,2,     42.2,2,    42.8,2, -999.00,9, -999.00,9,  -999.0,    1019,     4.2054, -999.00,9,     -999.0
33KI20111103,       PRS2,       2,          1,         15,       8015,2,20111104,       1032,  22.735000,-158.0025000,       4726,    25.5,  25.8321,  35.2150,2,-999.0000,9,    206.1,1,  -999.0,9, -999.00,9, -999.00,9,  -999.0,      25,    25.8264, -999.00,9,     -999.0
33KI20111103,       PRS2,       2,          1,         14,       8014,2,20111104,       1032,  22.735000,-158.0025000,       4726,    25.4,  25.8302,  35.2138,2,-999.0000,9,    206.0,1,  -999.0,9, -999.00,9, -999.00,9,  -999.0,      26,    25.8246, -999.00,9,     -999.0
33KI20111103,       PRS2,       2,          1,         13,       8025,2,20111104,       1032,  22.735000,-158.0025000,       4726,    25.2,  25.8299,  35.2135,2,-999.0000,9,    206.1,1,  -999.0,9, -999.00,9, -999.00,9,  -999.0,      25,    25.8243, -999.00,9,     -999.0
33KI20111103,       PRS2,       2,          1,         12,       8012,2,20111104,       1032,  22.735000,-158.0025000,       4726,    25.0,  25.8299,  35.2136,2,-999.0000,9,    206.2,1,  -999.0,9, -999.00,9, -999.00,9,  -999.0,      25,    25.8243, -999.00,9,     -999.0
33KI20111103,       PRS2,       2,          1,         11,       8011,2,20111104,       1032,  22.735000,-158.0025000,       4726,    25.2,  25.8318,  35.2150,2,-999.0000,9,    206.2,1,  -999.0,9, -999.00,9, -999.00,9,  -999.0,      26,    25.8262, -999.00,9,     -999.0
33KI20111103,       PRS2,       2,          1,         10,       8010,2,20111104,       1032,  22.735000,-158.0025000,       4726,    45.7,  25.8357,  35.2151,2,-999.0000,9,    205.3,1,  -999.0,9, -999.00,9, -999.00,9,  -999.0,      46,    25.8256, -999.00,9,     -999.0
33KI20111103,       PRS2,       2,          1,          9,       8009,2,20111104,       1032,  22.735000,-158.0025000,       4726,    45.7,  25.8334,  35.2143,2,-999.0000,9,    205.9,1,  -999.0,9, -999.00,9, -999.00,9,  -999.0,      46,    25.8232, -999.00,9,     -999.0
33KI20111103,       PRS2,       2,          1,          8,       8008,2,20111104,       1032,  22.735000,-158.0025000,       4726,    45.7,  25.8320,  35.2125,2,-999.0000,9,    206.0,1,  -999.0,9, -999.00,9, -999.00,9,  -999.0,      45,    25.8219, -999.00,9,     -999.0
33KI20111103,       PRS2,       2,          1,          7,       8026,2,20111104,       1032,  22.735000,-158.0025000,       4726,    45.7,  25.8316,  35.2120,2,-999.0000,9,    206.1,1,  -999.0,9, -999.00,9, -999.00,9,  -999.0,      45,    25.8215, -999.00,9,     -999.0
33KI20111103,       PRS2,       2,          1,          6,       8006,2,20111104,       1032,  22.735000,-158.0025000,       4726,    45.7,  25.8256,  35.2119,2,-999.0000,9,    207.9,1,  -999.0,9, -999.00,9, -999.00,9,  -999.0,      45,    25.8155, -999.00,9,     -999.0
33KI20111103,       PRS2,       2,          1,          5,       8005,2,20111104,       1032,  22.735000,-158.0025000,       4726,    76.8,  24.6020,  35.2911,2,-999.0000,9,    215.5,1,  -999.0,9, -999.00,9, -999.00,9,  -999.0,      78,    24.5855, -999.00,9,     -999.0
33KI20111103,       PRS2,       2,          1,          4,       8004,2,20111104,       1032,  22.735000,-158.0025000,       4726,    76.3,  24.5949,  35.2919,2,-999.0000,9,    215.5,1,  -999.0,9, -999.00,9, -999.00,9,  -999.0,      75,    24.5785, -999.00,9,     -999.0
33KI20111103,       PRS2,       2,          1,          3,       8003,2,20111104,       1032,  22.735000,-158.0025000,       4726,    77.2,  24.5863,  35.2926,2,-999.0000,9,    216.0,1,  -999.0,9, -999.00,9, -999.00,9,  -999.0,      76,    24.5697, -999.00,9,     -999.0
33KI20111103,       PRS2,       2,          1,          2,       8002,2,20111104,       1032,  22.735000,-158.0025000,       4726,    78.2,  24.5819,  35.2923,2,-999.0000,9,    216.4,1,  -999.0,9, -999.00,9, -999.00,9,  -999.0,      81,    24.5651, -999.00,9,     -999.0
33KI20111103,       PRS2,       2,          1,          1,       8001,2,20111104,       1032,  22.735000,-158.0025000,       4726,    78.3,  24.5821,  35.2921,2,-999.0000,9,    216.3,1,  -999.0,9, -999.00,9, -999.00,9,  -999.0,      77,    24.5653, -999.00,9,     -999.0
33KI20111103,       PRS2,       2,          2,         24,       8024,2,20111104,       1223,  22.732667,-157.9986667,       4726,     5.7,  25.9064,  35.2449,2,  35.2438,2,    205.7,1,  -999.0,9, -999.00,9, -999.00,9,  -999.0,       5,    25.9051, -999.00,9,     -999.0
33KI20111103,       PRS2,       2,          2,         23,       8023,2,20111104,       1223,  22.732667,-157.9986667,       4726,     5.8,  25.9065,  35.2448,2,  35.2469,2,    205.7,1,  -999.0,9, -999.00,9, -999.00,9,  -999.0,       6,    25.9052, -999.00,9,     -999.0
33KI20111103,       PRS2,       2,          2,         22,       8022,2,20111104,       1223,  22.732667,-157.9986667,       4726,     5.7,  25.9067,  35.2449,2,  35.2446,2,    205.6,1,  -999.0,9, -999.00,9, -999.00,9,  -999.0,       6,    25.9054, -999.00,9,     -999.0
33KI20111103,       PRS2,       2,          2,         21,       8021,2,20111104,       1223,  22.732667,-157.9986667,       4726,    26.0,  25.9198,  35.2458,2,  35.2450,2,    205.6,1,  -999.0,9, -999.00,9, -999.00,9,  -999.0,      26,    25.9140, -999.00,9,     -999.0
33KI20111103,       PRS2,       2,          2,         20,       8020,2,20111104,       1223,  22.732667,-157.9986667,       4726,    26.0,  25.9201,  35.2459,2,  35.2450,2,    205.5,1,  -999.0,9, -999.00,9, -999.00,9,  -999.0,      26,    25.9143, -999.00,9,     -999.0
33KI20111103,       PRS2,       2,          2,         19,       8019,2,20111104,       1223,  22.732667,-157.9986667,       4726,    26.0,  25.9206,  35.2459,2,  35.2450,2,    205.6,1,  -999.0,9, -999.00,9, -999.00,9,  -999.0,      26,    25.9148, -999.00,9,     -999.0
33KI20111103,       PRS2,       2,          2,         18,       8018,2,20111104,       1223,  22.732667,-157.9986667,       4726,    46.8,  25.9198,  35.2445,2,  35.2446,2,    205.8,1,  -999.0,9, -999.00,9, -999.00,9,  -999.0,      46,    25.9094, -999.00,9,     -999.0
33KI20111103,       PRS2,       2,          2,         17,       8017,2,20111104,       1223,  22.732667,-157.9986667,       4726,    47.1,  25.9192,  35.2445,2,  35.2442,2,    205.9,1,  -999.0,9, -999.00,9, -999.00,9,  -999.0,      48,    25.9087, -999.00,9,     -999.0
33KI20111103,       PRS2,       2,          2,         16,       8016,2,20111104,       1223,  22.732667,-157.9986667,       4726,    47.1,  25.9164,  35.2445,2,  35.2444,2,    205.9,1,  -999.0,9, -999.00,9, -999.00,9,  -999.0,      47,    25.9059, -999.00,9,     -999.0
33KI20111103,       PRS2,       2,          2,         15,       8015,2,20111104,       1223,  22.732667,-157.9986667,       4726,    79.1,  23.8227,  35.2994,2,  35.2984,2,    217.2,1,  -999.0,9, -999.00,9, -999.00,9,  -999.0,      78,    23.8062, -999.00,9,     -999.0
33KI20111103,       PRS2,       2,          2,         14,       8014,2,20111104,       1223,  22.732667,-157.9986667,       4726,    78.7,  23.8240,  35.2994,2,  35.2982,2,    217.2,1,  -999.0,9, -999.00,9, -999.00,9,  -999.0,      78,    23.8075, -999.00,9,     -999.0
33KI20111103,       PRS2,       2,          2,         13,       8025,2,20111104,       1223,  22.732667,-157.9986667,       4726,    78.5,  23.8262,  35.2991,2,  35.2978,2,    217.1,1,  -999.0,9, -999.00,9, -999.00,9,  -999.0,      79,    23.8098, -999.00,9,     -999.0
33KI20111103,       PRS2,       2,          2,         12,       8012,2,20111104,       1223,  22.732667,-157.9986667,       4726,   100.1,  23.0462,  35.3008,2,  35.3001,2,    215.5,1,  -999.0,9, -999.00,9, -999.00,9,  -999.0,      99,    23.0258, -999.00,9,     -999.0
33KI20111103,       PRS2,       2,          2,         11,       8011,2,20111104,       1223,  22.732667,-157.9986667,       4726,   100.1,  23.0437,  35.3011,2,  35.3001,2,    215.5,1,  -999.0,9, -999.00,9, -999.00,9,  -999.0,      99,    23.0232, -999.00,9,     -999.0
33KI20111103,       PRS2,       2,          2,         10,       8010,2,20111104,       1223,  22.732667,-157.9986667,       4726,    99.9,  23.0442,  35.3009,2,  35.3001,2,    215.4,1,  -999.0,9, -999.00,9, -999.00,9,  -999.0,     100,    23.0238, -999.00,9,     -999.0
33KI20111103,       PRS2,       2,          2,          9,       8009,2,20111104,       1223,  22.732667,-157.9986667,       4726,   127.6,  21.5442,  35.2377,2,  35.2400,2,    207.2,1,  -999.0,9, -999.00,9, -999.00,9,  -999.0,     128,    21.5193, -999.00,9,     -999.0
33KI20111103,       PRS2,       2,          2,          8,       8008,2,20111104,       1223,  22.732667,-157.9986667,       4726,   127.2,  21.5577,  35.2385,2,  35.2408,2,    206.9,1,  -999.0,9, -999.00,9, -999.00,9,  -999.0,     128,    21.5328, -999.00,9,     -999.0
33KI20111103,       PRS2,       2,          2,          7,       8026,2,20111104,       1223,  22.732667,-157.9986667,       4726,   126.7,  21.5783,  35.2397,2,  35.2418,2,    206.6,1,  -999.0,9, -999.00,9, -999.00,9,  -999.0,     127,    21.5535, -999.00,9,     -999.0
33KI20111103,       PRS2,       2,          2,          6,       8006,2,20111104,       1223,  22.732667,-157.9986667,       4726,   152.8,  20.3536,  35.1422,2,  35.1510,2,    202.6,1,  -999.0,9, -999.00,9, -999.00,9,  -999.0,     152,    20.3250, -999.00,9,     -999.0
33KI20111103,       PRS2,       2,          2,          5,       8005,2,20111104,       1223,  22.732667,-157.9986667,       4726,   181.0,  18.7346,  34.9670,2,  34.9756,2,    201.2,1,  -999.0,9, -999.00,9, -999.00,9,  -999.0,     181,    18.7026, -999.00,9,     -999.0
33KI20111103,       PRS2,       2,          2,          4,       8004,2,20111104,       1223,  22.732667,-157.9986667,       4726,   508.4,   7.0568,  34.0438,2,  34.0464,2,    104.4,1,  -999.0,9, -999.00,9, -999.00,9,  -999.0,     508,     7.0086, -999.00,9,     -999.0
33KI20111103,       PRS2,       2,          2,          3,       8003,2,20111104,       1223,  22.732667,-157.9986667,       4726,   507.1,   7.0797,  34.0448,2,  34.0472,2,    104.4,1,  -999.0,9, -999.00,9, -999.00,9,  -999.0,     507,     7.0316, -999.00,9,     -999.0
33KI20111103,       PRS2,       2,          2,          2,       8002,2,20111104,       1223,  22.732667,-157.9986667,       4726,   799.8,   4.3949,  34.3328,2,  34.3343,2,     25.9,1,  -999.0,9, -999.00,9, -999.00,9,  -999.0,     800,     4.3333, -999.00,9,     -999.0
33KI20111103,       PRS2,       2,          2,          1,       8001,2,20111104,       1223,  22.732667,-157.9986667,       4726,  1021.1,   3.7645,  34.4795,2,  34.4811,2,     44.9,1,  -999.0,9, -999.00,9, -999.00,9,  -999.0,    1022,     3.6890, -999.00,9,     -999.0