BOTTLE,20141031SIOCCHAMB
EXPOCODE,SECT_ID,STNNBR,CASTNO,SAMPNO,BTLNBR,BTLNBR_FLAG_W,DATE,TIME,LATITUDE,LONGITUDE,DEPTH,CTDPRS,CTDTMP,CTDSAL,CTDSAL_FLAG_W,SALNTY,SALNTY_FLAG_W,CTDOXY,CTDOXY_FLAG_W,OXYGEN,OXYGEN_FLAG_W,SILCAT,SILCAT_FLAG_W,PHSPHT,PHSPHT_FLAG_W,REVPRS,CTDRAW,THETA,NO2+NO3,NO2+NO3_FLAG_W,REVTMP
,,,,,,,,,,,METERS,DBAR,ITS-90,PSS-78,,PSS-78,,UMOL/KG,,UMOL/KG,,UMOL/KG,,UMOL/KG,,DBAR,DBAR,ITS-90,UMOL/KG,,DEG C
33KI20111103,       PRS2,       2,          6,         22,       8022,2,20111105,       0556,  22.820167,-158.0110000,       4704,     4.8,  25.8344,  35.2184,2,  35.2209,2,    204.3,1,  -999.0,9, -999.00,9, -999.00,9,  -999.0,       4,    25.8333, -999.00,9,     -999.0
33KI20111103,       PRS2,       2,          6,         21,       8021,2,20111105,       0556,  22.820167,-158.0110000,       4704,     4.8,  25.8328,  35.2173,2,  35.2227,2,    204.3,1,  -999.0,9, -999.00,9, -999.00,9,  -999.0,       4,    25.8317, -999.00,9,     -999.0
33KI20111103,       PRS2,       2,          6,         20,       8020,2,20111105,       0556,  22.820167,-158.0110000,       4704,    24.4,  25.8402,  35.2226,2,  35.2237,2,    204.2,1,  -999.0,9, -999.00,9, -999.00,9,  -999.0,      24,    25.8348, -999.00,9,     -999.0
33KI20111103,       PRS2,       2,          6,         19,       8019,2,20111105,       0556,  22.820167,-158.0110000,       4704,    24.4,  25.8395,  35.2220,2,  35.2245,2,    204.2,1,  -999.0,9, -999.00,9, -999.00,9,  -999.0,      24,    25.8341, -999.00,9,     -999.0
33KI20111103,       PRS2,       2,          6,         18,       8018,2,20111105,       0556,  22.820167,-158.0110000,       4704,    44.3,  25.8398,  35.2239,2,  35.2278,2,    204.6,1,  -999.0,9, -999.00,9, -999.00,9,  -999.0,      45,    25.8300, -999.00,9,     -999.0
33KI20111103,       PRS2,       2,          6,         17,       8017,2,20111105,       0556,  22.820167,-158.0110000,       4704,    44.3,  25.8371,  35.2247,2,  35.2284,2,    204.7,1,  -999.0,9, -999.00,9, -999.00,9,  -999.0,      43,    25.8273, -999.00,9,     -999.0
33KI20111103,       PRS2,       2,          6,         16,       8016,2,20111105,       0556,  22.820167,-158.0110000,       4704,    76.2,  24.0704,  35.2884,2,  35.2926,2,    212.4,1,  -999.0,9, -999.00,9, -999.00,9,  -999.0,      76,    24.0543, -999.00,9,     -999.0
33KI20111103,       PRS2,       2,          6,         15,       8015,2,20111105,       0556,  22.820167,-158.0110000,       4704,    76.2,  24.0670,  35.2890,2,  35.2934,2,    212.6,1,  -999.0,9, -999.00,9, -999.00,9,  -999.0,      75,    24.0510, -999.00,9,     -999.0
33KI20111103,       PRS2,       2,          6,         14,       8014,2,20111105,       0556,  22.820167,-158.0110000,       4704,    99.8,  22.1552,  35.3171,2,  35.3131,2,    204.8,1,  -999.0,9, -999.00,9, -999.00,9,  -999.0,     100,    22.1353, -999.00,9,     -999.0
33KI20111103,       PRS2,       2,          6,         13,       8025,2,20111105,       0556,  22.820167,-158.0110000,       4704,    99.6,  22.1666,  35.3194,2,  35.3129,2,    204.7,1,  -999.0,9, -999.00,9, -999.00,9,  -999.0,     100,    22.1468, -999.00,9,     -999.0
33KI20111103,       PRS2,       2,          6,         12,       8012,2,20111105,       0556,  22.820167,-158.0110000,       4704,   124.2,  20.6622,  35.1821,2,  35.1859,2,    201.4,1,  -999.0,9, -999.00,9, -999.00,9,  -999.0,     124,    20.6387, -999.00,9,     -999.0
33KI20111103,       PRS2,       2,          6,         11,       8011,2,20111105,       0556,  22.820167,-158.0110000,       4704,   124.3,  20.6622,  35.1820,2,  35.1857,2,    201.3,1,  -999.0,9, -999.00,9, -999.00,9,  -999.0,     125,    20.6386, -999.00,9,     -999.0
33KI20111103,       PRS2,       2,          6,         10,       8010,2,20111105,       0556,  22.820167,-158.0110000,       4704,   149.0,  19.7632,  35.0921,2,  35.0957,2,    200.4,1,  -999.0,9, -999.00,9, -999.00,9,  -999.0,     149,    19.7359, -999.00,9,     -999.0
33KI20111103,       PRS2,       2,          6,          9,       8009,2,20111105,       0556,  22.820167,-158.0110000,       4704,   148.9,  19.7520,  35.0917,2,  35.0949,2,    200.2,1,  -999.0,9, -999.00,9, -999.00,9,  -999.0,     148,    19.7247, -999.00,9,     -999.0
33KI20111103,       PRS2,       2,          6,          8,       8008,2,20111105,       0556,  22.820167,-158.0110000,       4704,   173.5,  18.2980,  34.9167,2,  34.9063,2,    198.8,1,  -999.0,9, -999.00,9, -999.00,9,  -999.0,     173,    18.2679, -999.00,9,     -999.0
33KI20111103,       PRS2,       2,          6,          7,       8026,2,20111105,       0556,  22.820167,-158.0110000,       4704,   173.5,  18.2943,  34.9154,2,  34.9004,2,    198.9,1,  -999.0,9, -999.00,9, -999.00,9,  -999.0,     174,    18.2642, -999.00,9,     -999.0
33KI20111103,       PRS2,       2,          6,          6,       8006,2,20111105,       0556,  22.820167,-158.0110000,       4704,   199.8,  16.9710,  34.7339,2,  34.7335,2,    201.8,1,  -999.0,9, -999.00,9, -999.00,9,  -999.0,     200,    16.9381, -999.00,9,     -999.0
33KI20111103,       PRS2,       2,          6,          5,       8005,2,20111105,       0556,  22.820167,-158.0110000,       4704,   250.3,  14.3049,  34.3872,2,  34.3914,2,    198.9,1,  -999.0,9, -999.00,9, -999.00,9,  -999.0,     250,    14.2683, -999.00,9,     -999.0
33KI20111103,       PRS2,       2,          6,          4,       8004,2,20111105,       0556,  22.820167,-158.0110000,       4704,   350.4,  10.6909,  34.1554,2,  34.1530,2,    199.5,1,  -999.0,9, -999.00,9, -999.00,9,  -999.0,     349,    10.6486, -999.00,9,     -999.0
33KI20111103,       PRS2,       2,          6,          3,       8003,2,20111105,       0556,  22.820167,-158.0110000,       4704,   350.4,  10.6328,  34.1504,2,  34.1483,2,    199.4,1,  -999.0,9, -999.00,9, -999.00,9,  -999.0,     351,    10.5906, -999.00,9,     -999.0
33KI20111103,       PRS2,       2,          6,          2,       8002,2,20111105,       0556,  22.820167,-158.0110000,       4704,   540.2,   6.1295,  34.0472,2,  34.0484,2,     81.9,1,  -999.0,9, -999.00,9, -999.00,9,  -999.0,     540,     6.0820, -999.00,9,     -999.0
33KI20111103,       PRS2,       2,          6,          1,       8001,2,20111105,       0556,  22.820167,-158.0110000,       4704,  1021.5,   3.7587,  34.4859,2,  34.4830,2,     45.9,1,  -999.0,9, -999.00,9, -999.00,9,  -999.0,    1022,     3.6832, -999.00,9,     -999.0
33KI20111103,       PRS2,       2,          7,         23,       8023,2,20111105,       0853,  22.750833,-158.0035000,       4725,     5.6,  25.7090,  35.1988,2,  35.1975,2,    204.6,2,  -999.0,5, -999.00,5, -999.00,5,  -999.0,       5,    25.7078, -999.00,5,     -999.0
33KI20111103,       PRS2,       2,          7,         22,       8022,2,20111105,       0853,  22.750833,-158.0035000,       4725,     5.7,  25.7107,  35.1989,2,  35.1979,2,    204.6,2,   204.9,2,    1.64,3,    0.04,2,  -999.0,       5,    25.7095,    0.02,2,     -999.0
33KI20111103,       PRS2,       2,          7,         21,       8021,2,20111105,       0853,  22.750833,-158.0035000,       4725,    15.8,  25.7025,  35.1975,2,  35.1961,2,    205.0,2,  -999.0,5,    0.98,2,    0.04,2,  -999.0,      15,    25.6990,    0.02,2,     -999.0
33KI20111103,       PRS2,       2,          7,         20,       8020,2,20111105,       0853,  22.750833,-158.0035000,       4725,    24.4,  25.7157,  35.1977,2,  35.1953,2,    205.1,2,  -999.0,5, -999.00,5, -999.00,5,  -999.0,      24,    25.7103, -999.00,5,     -999.0
33KI20111103,       PRS2,       2,          7,         19,       8019,2,20111105,       0853,  22.750833,-158.0035000,       4725,    24.5,  25.7150,  35.1975,2,  35.1963,2,    205.1,2,   204.2,2,    0.96,2,    0.04,2,  -999.0,      24,    25.7095,    0.02,2,     -999.0
33KI20111103,       PRS2,       2,          7,         18,       8018,2,20111105,       0853,  22.750833,-158.0035000,       4725,    35.7,  25.7103,  35.1961,2,  35.1933,2,    205.0,2,  -999.0,5,    1.00,2,    0.04,2,  -999.0,      35,    25.7024,    0.02,2,     -999.0
33KI20111103,       PRS2,       2,          7,         17,       8017,2,20111105,       0853,  22.750833,-158.0035000,       4725,    45.5,  25.7127,  35.1949,2,  35.1937,2,    204.9,2,   205.5,2,    0.95,2,    0.03,2,  -999.0,      46,    25.7026,    0.02,2,     -999.0
33KI20111103,       PRS2,       2,          7,         16,       8016,2,20111105,       0853,  22.750833,-158.0035000,       4725,    60.8,  25.7087,  35.1972,2,  35.1969,2,    204.9,2,  -999.0,5,    1.04,2,    0.03,2,  -999.0,      61,    25.6952,    0.05,2,     -999.0
33KI20111103,       PRS2,       2,          7,         15,       8015,2,20111105,       0853,  22.750833,-158.0035000,       4725,    74.9,  25.2338,  35.2600,2,  35.2613,2,    209.6,2,   209.5,2,    1.08,2,    0.04,2,  -999.0,      74,    25.2174,    0.04,2,     -999.0
33KI20111103,       PRS2,       2,          7,         14,       8014,2,20111105,       0853,  22.750833,-158.0035000,       4725,    84.6,  24.9305,  35.2763,2,  35.2787,2,    210.4,2,   210.1,2, -999.00,5, -999.00,5,  -999.0,      84,    24.9122, -999.00,5,     -999.0
33KI20111103,       PRS2,       2,          7,         13,       8025,2,20111105,       0853,  22.750833,-158.0035000,       4725,    89.8,  24.2354,  35.2847,2,  35.2932,2,    212.2,2,  -999.0,5, -999.00,5, -999.00,5,  -999.0,      90,    24.2163, -999.00,5,     -999.0
33KI20111103,       PRS2,       2,          7,         12,       8012,2,20111105,       0853,  22.750833,-158.0035000,       4725,    99.8,  22.9983,  35.2932,2,  35.2930,2,    210.3,2,   210.8,2,    1.34,2,    0.07,2,  -999.0,     100,    22.9779,    0.22,2,     -999.0
33KI20111103,       PRS2,       2,          7,         11,       8011,2,20111105,       0853,  22.750833,-158.0035000,       4725,   109.5,  22.8557,  35.2934,2,  35.2972,2,    209.4,2,  -999.0,5, -999.00,5, -999.00,5,  -999.0,     110,    22.8334, -999.00,5,     -999.0
33KI20111103,       PRS2,       2,          7,         10,       8010,2,20111105,       0853,  22.750833,-158.0035000,       4725,   114.1,  22.1350,  35.2811,2,  35.2790,2,    204.5,2,   203.8,2, -999.00,5, -999.00,5,  -999.0,     115,    22.1124, -999.00,5,     -999.0
33KI20111103,       PRS2,       2,          7,          9,       8009,2,20111105,       0853,  22.750833,-158.0035000,       4725,   125.4,  21.3674,  35.2349,2,  35.2459,2,    198.9,2,   200.6,2,    1.60,2,    0.13,2,  -999.0,     125,    21.3431,    0.83,2,     -999.0
33KI20111103,       PRS2,       2,          7,          8,       8008,2,20111105,       0853,  22.750833,-158.0035000,       4725,   129.6,  21.1494,  35.2167,2,  35.2296,2,    198.0,2,  -999.0,5, -999.00,5, -999.00,5,  -999.0,     129,    21.1245, -999.00,5,     -999.0
33KI20111103,       PRS2,       2,          7,          7,       8026,2,20111105,       0853,  22.750833,-158.0035000,       4725,   149.8,  20.2779,  35.1396,2,  35.1412,2,    194.7,2,   195.1,2,    2.07,2,    0.18,2,  -999.0,     149,    20.2499,    1.66,2,     -999.0
33KI20111103,       PRS2,       2,          7,          6,       8006,2,20111105,       0853,  22.750833,-158.0035000,       4725,   164.7,  19.8983,  35.0968,2,  35.0943,2,    194.6,2,   194.3,2, -999.00,5, -999.00,5,  -999.0,     165,    19.8679, -999.00,5,     -999.0
33KI20111103,       PRS2,       2,          7,          5,       8005,2,20111105,       0853,  22.750833,-158.0035000,       4725,   173.9,  19.5669,  35.0492,2,  35.0585,2,    196.7,2,   196.6,2,    2.38,2,    0.20,2,  -999.0,     173,    19.5352,    1.94,2,     -999.0
33KI20111103,       PRS2,       2,          7,          4,       8004,2,20111105,       0853,  22.750833,-158.0035000,       4725,   200.3,  17.7411,  34.8412,2,  34.8340,2,    198.8,2,   199.5,2,    3.45,2,    0.27,2,  -999.0,     200,    17.7070,    3.30,2,     -999.0
33KI20111103,       PRS2,       2,          7,          3,       8003,2,20111105,       0853,  22.750833,-158.0035000,       4725,   491.0,   7.1483,  34.0631,2,  34.0607,2,    100.2,2,   101.1,2, -999.00,5, -999.00,5,  -999.0,     491,     7.1015, -999.00,5,     -999.0
33KI20111103,       PRS2,       2,          7,          2,       8002,2,20111105,       0853,  22.750833,-158.0035000,       4725,   776.1,   4.3811,  34.3369,2,  34.3362,2,     26.4,2,    27.6,2, -999.00,5, -999.00,5,  -999.0,     776,     4.3216, -999.00,5,     -999.0
33KI20111103,       PRS2,       2,          7,          1,       8001,2,20111105,       0853,  22.750833,-158.0035000,       4725,  1023.3,   3.7260,  34.4890,2,  34.4893,2,     46.4,2,    48.0,2, -999.00,5, -999.00,5,  -999.0,    1023,     3.6506, -999.00,5,     -999.0
33KI20111103,       PRS2,       2,          8,         14,       8014,2,20111105,       1151,  22.752167,-157.9958333,       4726,     5.4,  25.8299,  35.2304,2,  35.2284,2,    204.5,1,  -999.0,9, -999.00,9, -999.00,9,  -999.0,       5,    25.8287, -999.00,9,     -999.0
33KI20111103,       PRS2,       2,          8,         13,       8025,2,20111105,       1151,  22.752167,-157.9958333,       4726,     5.6,  25.8298,  35.2302,2,  35.2282,2,    204.4,1,  -999.0,9, -999.00,9, -999.00,9,  -999.0,       5,    25.8286, -999.00,9,     -999.0
33KI20111103,       PRS2,       2,          8,         12,       8012,2,20111105,       1151,  22.752167,-157.9958333,       4726,    25.1,  25.8334,  35.2294,2,  35.2282,2,    204.3,1,  -999.0,9, -999.00,9, -999.00,9,  -999.0,      25,    25.8278, -999.00,9,     -999.0
33KI20111103,       PRS2,       2,          8,         11,       8011,2,20111105,       1151,  22.752167,-157.9958333,       4726,    25.4,  25.8382,  35.2290,2,  35.2282,2,    204.3,1,  -999.0,9, -999.00,9, -999.00,9,  -999.0,      25,    25.8326, -999.00,9,     -999.0
33KI20111103,       PRS2,       2,          8,         10,       8010,2,20111105,       1151,  22.752167,-157.9958333,       4726,    46.2,  25.8428,  35.2272,2,  35.2286,2,    204.2,1,  -999.0,9, -999.00,9, -999.00,9,  -999.0,      47,    25.8325, -999.00,9,     -999.0
33KI20111103,       PRS2,       2,          8,          9,       8009,2,20111105,       1151,  22.752167,-157.9958333,       4726,    46.0,  25.8437,  35.2275,2,  35.2282,2,    204.1,1,  -999.0,9, -999.00,9, -999.00,9,  -999.0,      46,    25.8335, -999.00,9,     -999.0
33KI20111103,       PRS2,       2,          8,          8,       8008,2,20111105,       1151,  22.752167,-157.9958333,       4726,    74.7,  24.6799,  35.2859,2,  35.2850,2,    210.8,1,  -999.0,9, -999.00,9, -999.00,9,  -999.0,      74,    24.6638, -999.00,9,     -999.0
33KI20111103,       PRS2,       2,          8,          7,       8026,2,20111105,       1151,  22.752167,-157.9958333,       4726,    74.8,  24.6799,  35.2859,2,  35.2846,2,    210.8,1,  -999.0,9, -999.00,9, -999.00,9,  -999.0,      76,    24.6638, -999.00,9,     -999.0
33KI20111103,       PRS2,       2,          8,          6,       8006,2,20111105,       1151,  22.752167,-157.9958333,       4726,   101.0,  23.1340,  35.2902,2,  35.2909,2,    207.4,1,  -999.0,9, -999.00,9, -999.00,9,  -999.0,     101,    23.1133, -999.00,9,     -999.0
33KI20111103,       PRS2,       2,          8,          5,       8005,2,20111105,       1151,  22.752167,-157.9958333,       4726,   100.6,  23.1574,  35.2908,2,  35.2917,2,    207.3,1,  -999.0,9, -999.00,9, -999.00,9,  -999.0,     100,    23.1367, -999.00,9,     -999.0
33KI20111103,       PRS2,       2,          8,          4,       8004,2,20111105,       1151,  22.752167,-157.9958333,       4726,   123.6,  21.7839,  35.2641,2,  35.2674,2,    201.9,1,  -999.0,9, -999.00,9, -999.00,9,  -999.0,     123,    21.7596, -999.00,9,     -999.0
33KI20111103,       PRS2,       2,          8,          3,       8003,2,20111105,       1151,  22.752167,-157.9958333,       4726,   123.5,  21.7874,  35.2648,2,  35.2664,2,    201.9,1,  -999.0,9, -999.00,9, -999.00,9,  -999.0,     123,    21.7631, -999.00,9,     -999.0
33KI20111103,       PRS2,       2,          8,          2,       8002,2,20111105,       1151,  22.752167,-157.9958333,       4726,   494.6,   7.2768,  34.0425,2,  34.0454,2,    111.1,1,  -999.0,9, -999.00,9, -999.00,9,  -999.0,     494,     7.2292, -999.00,9,     -999.0
33KI20111103,       PRS2,       2,          8,          1,       8001,2,20111105,       1151,  22.752167,-157.9958333,       4726,  1020.1,   3.7536,  34.4887,2,  34.4901,2,     46.5,1,  -999.0,9, -999.00,9, -999.00,9,  -999.0,    1020,     3.6782, -999.00,9,     -999.0