BOTTLE,20141031SIOCCHAMB
EXPOCODE,SECT_ID,STNNBR,CASTNO,SAMPNO,BTLNBR,BTLNBR_FLAG_W,DATE,TIME,LATITUDE,LONGITUDE,DEPTH,CTDPRS,CTDTMP,CTDSAL,CTDSAL_FLAG_W,SALNTY,SALNTY_FLAG_W,CTDOXY,CTDOXY_FLAG_W,OXYGEN,OXYGEN_FLAG_W,SILCAT,SILCAT_FLAG_W,PHSPHT,PHSPHT_FLAG_W,REVPRS,CTDRAW,THETA,NO2+NO3,NO2+NO3_FLAG_W,REVTMP
,,,,,,,,,,,METERS,DBAR,ITS-90,PSS-78,,PSS-78,,UMOL/KG,,UMOL/KG,,UMOL/KG,,UMOL/KG,,DBAR,DBAR,ITS-90,UMOL/KG,,DEG C
33KI20111103,       PRS2,       2,          3,         24,       8024,2,20111104,       1633,  22.733333,-157.9913333,       4726,     5.5,  25.7982,  35.2094,2,  35.2103,2,    205.5,2,   206.4,2,    0.79,2,    0.04,2,  -999.0,       5,    25.7970,    0.02,2,     -999.0
33KI20111103,       PRS2,       2,          3,         23,       8023,2,20111104,       1633,  22.733333,-157.9913333,       4726,   499.5,   7.0691,  34.0689,2,  34.0672,2,    102.6,2,    96.5,3,   48.62,2,    2.22,2,  -999.0,     499,     7.0218,   30.53,2,     -999.0
33KI20111103,       PRS2,       2,          3,         22,       8022,2,20111104,       1633,  22.733333,-157.9913333,       4726,   754.1,   4.5713,  34.2908,2,  34.2901,2,     26.4,2,    25.2,2,   96.96,2,    3.00,2,  -999.0,     755,     4.5126,   41.05,2,     -999.0
33KI20111103,       PRS2,       2,          3,         21,       8021,2,20111104,       1633,  22.733333,-157.9913333,       4726,  1009.2,   3.7965,  34.4767,2,  34.4763,2,     44.1,2,    43.6,2,  113.15,2,    2.97,2,  -999.0,    1008,     3.7217,   40.95,2,     -999.0
33KI20111103,       PRS2,       2,          3,         20,       8020,2,20111104,       1633,  22.733333,-157.9913333,       4726,  1205.4,   3.3039,  34.5326,2,  34.5315,2,     57.0,2,    54.7,2,  122.96,2,    2.95,2,  -999.0,    1204,     3.2172,   40.79,2,     -999.0
33KI20111103,       PRS2,       2,          3,         19,       8019,2,20111104,       1633,  22.733333,-157.9913333,       4726,  1399.1,   2.8901,  34.5635,2,  34.5628,2,     64.7,2,    64.4,2,  131.99,2,    2.91,2,  -999.0,    1399,     2.7918,   40.39,2,     -999.0
33KI20111103,       PRS2,       2,          3,         18,       8018,4,20111104,       1633,  22.733333,-157.9913333,       4726,  1603.5,   2.5634,  34.5854,2,-999.0000,5,     72.6,2,  -999.0,5, -999.00,5, -999.00,5,  -999.0,    1602,     2.4522, -999.00,5,     -999.0
33KI20111103,       PRS2,       2,          3,         17,       8017,2,20111104,       1633,  22.733333,-157.9913333,       4726,  1798.7,   2.2927,  34.6040,2,  34.6038,2,     81.3,2,    81.8,2,  145.49,2,    2.83,2,  -999.0,    1800,     2.1688,   39.61,2,     -999.0
33KI20111103,       PRS2,       2,          3,         16,       8016,2,20111104,       1633,  22.733333,-157.9913333,       4726,  2001.2,   2.0449,  34.6224,2,  34.6225,2,     91.3,2,    91.6,2,  150.68,2,    2.77,2,  -999.0,    2001,     1.9077,   39.00,2,     -999.0
33KI20111103,       PRS2,       2,          3,         15,       8015,2,20111104,       1633,  22.733333,-157.9913333,       4726,  2197.3,   1.9005,  34.6350,2,  34.6350,2,    100.1,2,    99.9,2,  152.34,2,    2.74,2,  -999.0,    2197,     1.7489,   38.77,2,     -999.0
33KI20111103,       PRS2,       2,          3,         14,       8014,2,20111104,       1633,  22.733333,-157.9913333,       4726,  2395.9,   1.7908,  34.6448,2,  34.6447,2,    104.7,2,   106.6,2,  154.96,2,    2.71,2,  -999.0,    2395,     1.6238,   38.24,2,     -999.0
33KI20111103,       PRS2,       2,          3,         13,       8025,2,20111104,       1633,  22.733333,-157.9913333,       4726,  2598.8,   1.6809,  34.6525,2,  34.6527,2,    110.0,2,   109.4,2,  158.64,2,    2.69,2,  -999.0,    2598,     1.4977,   38.07,2,     -999.0
33KI20111103,       PRS2,       2,          3,         12,       8012,2,20111104,       1633,  22.733333,-157.9913333,       4726,  2796.2,   1.5935,  34.6618,2,  34.6637,2,    116.5,2,   118.2,2,  160.29,2,    2.64,2,  -999.0,    2796,     1.3939,   37.58,2,     -999.0
33KI20111103,       PRS2,       2,          3,         11,       8011,2,20111104,       1633,  22.733333,-157.9913333,       4726,  2999.5,   1.5476,  34.6685,2,  34.6682,2,    123.0,2,  -999.0,5,  159.75,2,    2.60,2,  -999.0,    2999,     1.3298,   37.10,2,     -999.0
33KI20111103,       PRS2,       2,          3,         10,       8010,2,20111104,       1633,  22.733333,-157.9913333,       4726,  3197.6,   1.5139,  34.6739,2,  34.6739,2,    128.9,2,  -999.0,5,  158.77,2,    2.59,2,  -999.0,    3198,     1.2777,   36.87,2,     -999.0
33KI20111103,       PRS2,       2,          3,          9,       8009,2,20111104,       1633,  22.733333,-157.9913333,       4726,  3396.3,   1.4998,  34.6765,2,  34.6765,2,    132.6,2,   132.3,2,  158.15,2,    2.57,2,  -999.0,    3397,     1.2442,   36.60,2,     -999.0
33KI20111103,       PRS2,       2,          3,          8,       8008,2,20111104,       1633,  22.733333,-157.9913333,       4726,  3596.1,   1.4756,  34.6801,2,  34.6798,2,    138.4,2,   137.8,2,  155.55,2,    2.54,2,  -999.0,    3597,     1.2002,   36.26,2,     -999.0
33KI20111103,       PRS2,       2,          3,          7,       8026,2,20111104,       1633,  22.733333,-157.9913333,       4726,  3797.1,   1.4598,  34.6823,2,  34.6826,2,    143.3,2,   143.2,2,  154.22,2,    2.51,2,  -999.0,    3796,     1.1638,   35.93,2,     -999.0
33KI20111103,       PRS2,       2,          3,          6,       8006,2,20111104,       1633,  22.733333,-157.9913333,       4726,  3999.3,   1.4579,  34.6838,2,  34.6840,2,    147.0,2,   146.7,2,  152.23,2,    2.49,2,  -999.0,    3999,     1.1403,   35.72,2,     -999.0
33KI20111103,       PRS2,       2,          3,          5,       8005,2,20111104,       1633,  22.733333,-157.9913333,       4726,  4197.7,   1.4609,  34.6856,2,  34.6857,2,    149.8,2,   149.4,2,  150.40,2,    2.47,2,  -999.0,    4199,     1.1213,   35.29,2,     -999.0
33KI20111103,       PRS2,       2,          3,          4,       8004,2,20111104,       1633,  22.733333,-157.9913333,       4726,  4399.0,   1.4736,  34.6865,2,  34.6871,2,    151.6,2,   150.9,2,  149.25,2,    2.47,2,  -999.0,    4399,     1.1110,   35.39,2,     -999.0
33KI20111103,       PRS2,       2,          3,          3,       8003,2,20111104,       1633,  22.733333,-157.9913333,       4726,  4497.5,   1.4812,  34.6869,2,  34.6873,2,    152.5,2,   152.4,2,  148.91,2,    2.45,2,  -999.0,    4497,     1.1071,   35.24,2,     -999.0
33KI20111103,       PRS2,       2,          3,          2,       8002,2,20111104,       1633,  22.733333,-157.9913333,       4726,  4600.7,   1.4891,  34.6872,2,  34.6873,2,    153.4,2,   153.6,2,  148.13,2,    2.47,2,  -999.0,    4600,     1.1028,   35.34,2,     -999.0
33KI20111103,       PRS2,       2,          3,          1,       8001,2,20111104,       1633,  22.733333,-157.9913333,       4726,  4807.8,   1.5086,  34.6875,2,  34.6885,2,    154.1,2,   154.4,2,  147.57,2,    2.45,2,  -999.0,    4807,     1.0972,   35.15,2,     -999.0
33KI20111103,       PRS2,       2,          4,         24,       8024,2,20111104,       2304,  22.752000,-157.9990000,       4719,     5.8,  25.8179,  35.2030,2,  35.2097,2,    205.1,2,   212.8,4,    0.74,2,    0.04,2,  -999.0,       6,    25.8166,    0.00,2,     -999.0
33KI20111103,       PRS2,       2,          4,         23,       8023,2,20111104,       2304,  22.752000,-157.9990000,       4719,    66.1,  25.8268,  35.2158,2,  35.2126,2,    204.9,2,   204.7,2,    0.78,2,    0.04,2,  -999.0,      67,    25.8121,    0.02,2,     -999.0
33KI20111103,       PRS2,       2,          4,         22,       8022,2,20111104,       2304,  22.752000,-157.9990000,       4719,    84.1,  24.0723,  35.2852,2,  35.2855,2,    213.1,2,   211.9,2,    1.01,2,    0.02,2,  -999.0,      84,    24.0546,    0.05,2,     -999.0
33KI20111103,       PRS2,       2,          4,         21,       8021,2,20111104,       2304,  22.752000,-157.9990000,       4719,   118.8,  21.9895,  35.3009,2,  35.3094,2,    204.2,2,   204.8,2,    1.22,2,    0.07,2,  -999.0,     119,    21.9660,    0.42,2,     -999.0
33KI20111103,       PRS2,       2,          4,         20,       8020,2,20111104,       2304,  22.752000,-157.9990000,       4719,   157.7,  19.2246,  35.0299,2,  35.0311,2,    202.3,2,   198.6,2,    2.25,2,    0.16,2,  -999.0,     158,    19.1963,    1.80,2,     -999.0
33KI20111103,       PRS2,       2,          4,         19,       8019,2,20111104,       2304,  22.752000,-157.9990000,       4719,   195.5,  17.5392,  34.8139,2,  34.8163,2,    201.6,2,   200.7,2,    3.50,2,    0.25,2,  -999.0,     195,    17.5062,    3.29,2,     -999.0
33KI20111103,       PRS2,       2,          4,         18,       8018,2,20111104,       2304,  22.752000,-157.9990000,       4719,   230.7,  15.6114,  34.5695,2,  34.5783,2,    204.4,2,   202.8,2,    5.22,2,    0.39,2,  -999.0,     229,    15.5756,    5.32,2,     -999.0
33KI20111103,       PRS2,       2,          4,         17,       8017,2,20111104,       2304,  22.752000,-157.9990000,       4719,   292.7,  12.5953,  34.2812,2,  34.2819,2,    202.0,2,   204.3,2,   10.22,2,    0.73,2,  -999.0,     292,    12.5560,   10.28,2,     -999.0
33KI20111103,       PRS2,       2,          4,         16,       8016,2,20111104,       2304,  22.752000,-157.9990000,       4719,   332.0,  11.2061,  34.1771,2,  34.1848,2,    202.4,2,   202.2,2,   13.56,2,    0.93,2,  -999.0,     332,    11.1648,   13.14,2,     -999.0
33KI20111103,       PRS2,       2,          4,         15,       8015,2,20111104,       2304,  22.752000,-157.9990000,       4719,   366.4,  10.5429,  34.1487,2,  34.1497,2,    197.6,2,   198.1,2,   16.35,2,    1.04,2,  -999.0,     366,    10.4990,   14.92,2,     -999.0
33KI20111103,       PRS2,       2,          4,         14,       8014,2,20111104,       2304,  22.752000,-157.9990000,       4719,   415.5,   9.0139,  34.0729,2,  34.0725,2,    172.8,2,   171.9,2,   26.41,2,    1.44,2,  -999.0,     416,     8.9687,   20.45,2,     -999.0
33KI20111103,       PRS2,       2,          4,         13,       8025,2,20111104,       2304,  22.752000,-157.9990000,       4719,   448.8,   8.1938,  34.0514,2,  34.0505,2,    143.6,2,   144.8,2,   34.63,2,    1.74,2,  -999.0,     449,     8.1477,   24.45,2,     -999.0
33KI20111103,       PRS2,       2,          4,         12,       8012,2,20111104,       2304,  22.752000,-157.9990000,       4719,   484.5,   7.3640,  34.0654,2,  34.0644,2,    108.2,2,   106.7,2,   45.60,2,    2.15,2,  -999.0,     485,     7.3171,   29.52,2,     -999.0
33KI20111103,       PRS2,       2,          4,         11,       8011,2,20111104,       2304,  22.752000,-157.9990000,       4719,   507.0,   6.7471,  34.0664,2,  34.0682,2,     89.2,2,    88.5,2,   54.59,2,    2.34,2,  -999.0,     506,     6.7003,   32.40,2,     -999.0
33KI20111103,       PRS2,       2,          4,         10,       8010,2,20111104,       2304,  22.752000,-157.9990000,       4719,   519.0,   6.5305,  34.0562,2,  34.0560,2,     87.9,2,    86.8,2,   55.84,2,    2.36,2,  -999.0,     519,     6.4833,   32.65,2,     -999.0
33KI20111103,       PRS2,       2,          4,          9,       8009,2,20111104,       2304,  22.752000,-157.9990000,       4719,   562.3,   5.8756,  34.0655,2,  34.0654,2,     70.5,2,    70.4,2,   66.04,2,    2.56,2,  -999.0,     562,     5.8272,   35.42,2,     -999.0
33KI20111103,       PRS2,       2,          4,          8,       8008,2,20111104,       2304,  22.752000,-157.9990000,       4719,   611.7,   5.3478,  34.1131,2,  34.1109,2,     50.3,2,    51.1,2,   76.85,2,    2.74,2,  -999.0,     611,     5.2973,   37.87,2,     -999.0
33KI20111103,       PRS2,       2,          4,          7,       8026,2,20111104,       2304,  22.752000,-157.9990000,       4719,   671.2,   4.9147,  34.1850,2,  34.1840,2,     34.8,2,    34.3,2,   88.14,2,    2.89,2,  -999.0,     671,     4.8612,   39.77,2,     -999.0
33KI20111103,       PRS2,       2,          4,          6,       8006,2,20111104,       2304,  22.752000,-157.9990000,       4719,   736.6,   4.5863,  34.2891,2,  34.2887,2,     26.3,2,    25.6,2,   97.75,2,    3.01,2,  -999.0,     738,     4.5289,   41.27,2,     -999.0
33KI20111103,       PRS2,       2,          4,          5,       8005,2,20111104,       2304,  22.752000,-157.9990000,       4719,   758.4,   4.4993,  34.3070,2,  34.3042,2,     25.9,2,    26.0,2,   99.85,2,    3.00,2,  -999.0,     759,     4.4407,   41.25,2,     -999.0
33KI20111103,       PRS2,       2,          4,          4,       8004,2,20111104,       2304,  22.752000,-157.9990000,       4719,   822.0,   4.2849,  34.3728,2,  34.3725,2,     29.0,2,    28.2,2,  104.39,2,    3.02,2,  -999.0,     822,     4.2222,   41.62,2,     -999.0
33KI20111103,       PRS2,       2,          4,          3,       8003,2,20111104,       2304,  22.752000,-157.9990000,       4719,   888.5,   4.1067,  34.4199,2,  34.4196,2,     34.7,2,    34.3,2,  107.97,2,    3.01,2,  -999.0,     888,     4.0396,   41.52,2,     -999.0
33KI20111103,       PRS2,       2,          4,          2,       8002,2,20111104,       2304,  22.752000,-157.9990000,       4719,   951.8,   3.9243,  34.4576,2,  34.4567,2,     40.6,2,    40.0,2,  111.14,2,    2.99,2,  -999.0,     950,     3.8533,   41.48,2,     -999.0
33KI20111103,       PRS2,       2,          4,          1,       8001,2,20111104,       2304,  22.752000,-157.9990000,       4719,  1019.2,   3.7944,  34.4754,2,  34.4756,2,     44.0,2,    44.7,2,  113.49,2,    2.98,2,  -999.0,    1019,     3.7188,   41.22,2,     -999.0
33KI20111103,       PRS2,       2,          5,         24,       8024,2,20111105,       0158,  22.787667,-158.0078333,       4716,     5.9,  25.8854,  35.2355,2,-999.0000,5,    205.4,1,  -999.0,9, -999.00,9, -999.00,9,  -999.0,       6,    25.8841, -999.00,9,     -999.0
33KI20111103,       PRS2,       2,          5,         23,       8023,2,20111105,       0158,  22.787667,-158.0078333,       4716,     5.7,  25.8851,  35.2355,2,  35.2343,2,    205.4,1,  -999.0,9, -999.00,9, -999.00,9,  -999.0,       6,    25.8839, -999.00,9,     -999.0
33KI20111103,       PRS2,       2,          5,         22,       8022,2,20111105,       0158,  22.787667,-158.0078333,       4716,    15.9,  25.8956,  35.2344,2,-999.0000,5,    205.5,1,  -999.0,9, -999.00,9, -999.00,9,  -999.0,      15,    25.8920, -999.00,9,     -999.0
33KI20111103,       PRS2,       2,          5,         21,       8021,2,20111105,       0158,  22.787667,-158.0078333,       4716,    16.0,  25.8948,  35.2346,2,-999.0000,5,    205.5,1,  -999.0,9, -999.00,9, -999.00,9,  -999.0,      16,    25.8912, -999.00,9,     -999.0
33KI20111103,       PRS2,       2,          5,         20,       8020,2,20111105,       0158,  22.787667,-158.0078333,       4716,    26.0,  25.8917,  35.2333,2,-999.0000,5,    205.4,1,  -999.0,9, -999.00,9, -999.00,9,  -999.0,      26,    25.8859, -999.00,9,     -999.0
33KI20111103,       PRS2,       2,          5,         19,       8019,2,20111105,       0158,  22.787667,-158.0078333,       4716,    25.8,  25.8920,  35.2333,2,  35.2361,2,    205.4,1,  -999.0,9, -999.00,9, -999.00,9,  -999.0,      24,    25.8862, -999.00,9,     -999.0
33KI20111103,       PRS2,       2,          5,         18,       8018,2,20111105,       0158,  22.787667,-158.0078333,       4716,    44.8,  25.9021,  35.2332,2,-999.0000,5,    205.4,1,  -999.0,9, -999.00,9, -999.00,9,  -999.0,      45,    25.8921, -999.00,9,     -999.0
33KI20111103,       PRS2,       2,          5,         17,       8017,2,20111105,       0158,  22.787667,-158.0078333,       4716,    44.6,  25.9027,  35.2339,2,  35.2337,2,    205.3,1,  -999.0,9, -999.00,9, -999.00,9,  -999.0,      45,    25.8928, -999.00,9,     -999.0
33KI20111103,       PRS2,       2,          5,         16,       8016,2,20111105,       0158,  22.787667,-158.0078333,       4716,    77.2,  24.2400,  35.2826,2,-999.0000,5,    212.1,1,  -999.0,9, -999.00,9, -999.00,9,  -999.0,      77,    24.2237, -999.00,9,     -999.0
33KI20111103,       PRS2,       2,          5,         15,       8015,2,20111105,       0158,  22.787667,-158.0078333,       4716,    76.9,  24.2655,  35.2826,2,  35.2767,2,    212.1,1,  -999.0,9, -999.00,9, -999.00,9,  -999.0,      76,    24.2492, -999.00,9,     -999.0
33KI20111103,       PRS2,       2,          5,         14,       8014,2,20111105,       0158,  22.787667,-158.0078333,       4716,   103.4,  22.7313,  35.2967,2,-999.0000,5,    209.2,1,  -999.0,9, -999.00,9, -999.00,9,  -999.0,     103,    22.7103, -999.00,9,     -999.0
33KI20111103,       PRS2,       2,          5,         13,       8025,2,20111105,       0158,  22.787667,-158.0078333,       4716,   103.0,  22.7477,  35.2969,2,  35.2932,2,    209.1,1,  -999.0,9, -999.00,9, -999.00,9,  -999.0,     103,    22.7268, -999.00,9,     -999.0
33KI20111103,       PRS2,       2,          5,         12,       8012,2,20111105,       0158,  22.787667,-158.0078333,       4716,   127.0,  21.3851,  35.2627,2,-999.0000,5,    199.7,1,  -999.0,9, -999.00,9, -999.00,9,  -999.0,     126,    21.3605, -999.00,9,     -999.0
33KI20111103,       PRS2,       2,          5,         11,       8011,2,20111105,       0158,  22.787667,-158.0078333,       4716,   126.8,  21.3927,  35.2639,2,  35.2777,2,    199.5,1,  -999.0,9, -999.00,9, -999.00,9,  -999.0,     127,    21.3681, -999.00,9,     -999.0
33KI20111103,       PRS2,       2,          5,         10,       8010,2,20111105,       0158,  22.787667,-158.0078333,       4716,   150.0,  19.8409,  35.0964,2,-999.0000,5,    198.2,1,  -999.0,9, -999.00,9, -999.00,9,  -999.0,     150,    19.8133, -999.00,9,     -999.0
33KI20111103,       PRS2,       2,          5,          9,       8009,2,20111105,       0158,  22.787667,-158.0078333,       4716,   150.6,  19.8102,  35.0933,2,  35.0949,2,    198.3,1,  -999.0,9, -999.00,9, -999.00,9,  -999.0,     151,    19.7826, -999.00,9,     -999.0
33KI20111103,       PRS2,       2,          5,          8,       8008,2,20111105,       0158,  22.787667,-158.0078333,       4716,   174.0,  18.8632,  34.9857,2,-999.0000,5,    196.1,1,  -999.0,9, -999.00,9, -999.00,9,  -999.0,     173,    18.8323, -999.00,9,     -999.0
33KI20111103,       PRS2,       2,          5,          7,       8026,2,20111105,       0158,  22.787667,-158.0078333,       4716,   174.3,  18.8553,  34.9852,2,  34.9874,2,    196.0,1,  -999.0,9, -999.00,9, -999.00,9,  -999.0,     175,    18.8243, -999.00,9,     -999.0
33KI20111103,       PRS2,       2,          5,          6,       8006,2,20111105,       0158,  22.787667,-158.0078333,       4716,   200.6,  17.3895,  34.7912,2,  34.8092,2,    202.3,1,  -999.0,9, -999.00,9, -999.00,9,  -999.0,     200,    17.3559, -999.00,9,     -999.0
33KI20111103,       PRS2,       2,          5,          5,       8005,2,20111105,       0158,  22.787667,-158.0078333,       4716,   253.5,  14.2900,  34.3911,2,  34.4039,2,    201.5,1,  -999.0,9, -999.00,9, -999.00,9,  -999.0,     253,    14.2529, -999.00,9,     -999.0
33KI20111103,       PRS2,       2,          5,          4,       8004,2,20111105,       0158,  22.787667,-158.0078333,       4716,   350.5,  10.4865,  34.1406,2,  34.1397,2,    197.2,1,  -999.0,9, -999.00,9, -999.00,9,  -999.0,     351,    10.4447, -999.00,9,     -999.0
33KI20111103,       PRS2,       2,          5,          3,       8003,2,20111105,       0158,  22.787667,-158.0078333,       4716,   350.4,  10.4875,  34.1405,2,  34.1407,2,    196.8,1,  -999.0,9, -999.00,9, -999.00,9,  -999.0,     350,    10.4457, -999.00,9,     -999.0
33KI20111103,       PRS2,       2,          5,          2,       8002,2,20111105,       0158,  22.787667,-158.0078333,       4716,   545.3,   6.2334,  34.0445,2,  34.0462,2,     84.8,1,  -999.0,9, -999.00,9, -999.00,9,  -999.0,     545,     6.1850, -999.00,9,     -999.0
33KI20111103,       PRS2,       2,          5,          1,       8001,2,20111105,       0158,  22.787667,-158.0078333,       4716,  1017.6,   3.8012,  34.4760,2,  34.4756,2,     44.2,1,  -999.0,9, -999.00,9, -999.00,9,  -999.0,    1018,     3.7257, -999.00,9,     -999.0