BOTTLE,20141031SIOCCHAMB
EXPOCODE,SECT_ID,STNNBR,CASTNO,SAMPNO,BTLNBR,BTLNBR_FLAG_W,DATE,TIME,LATITUDE,LONGITUDE,DEPTH,CTDPRS,CTDTMP,CTDSAL,CTDSAL_FLAG_W,SALNTY,SALNTY_FLAG_W,CTDOXY,CTDOXY_FLAG_W,OXYGEN,OXYGEN_FLAG_W,SILCAT,SILCAT_FLAG_W,PHSPHT,PHSPHT_FLAG_W,REVPRS,CTDRAW,THETA,NO2+NO3,NO2+NO3_FLAG_W,REVTMP
,,,,,,,,,,,METERS,DBAR,ITS-90,PSS-78,,PSS-78,,UMOL/KG,,UMOL/KG,,UMOL/KG,,UMOL/KG,,DBAR,DBAR,ITS-90,UMOL/KG,,DEG C
33KI20111103,       PRS2,       2,          9,         24,       8024,2,20111105,       1500,  22.750000,-157.9995000,       4727,     4.8,  25.8765,  35.2312,2,  35.2298,2,    206.1,1,  -999.0,9, -999.00,9, -999.00,9,  -999.0,       4,    25.8754, -999.00,9,     -999.0
33KI20111103,       PRS2,       2,          9,         23,       8023,2,20111105,       1500,  22.750000,-157.9995000,       4727,   149.2,  19.7532,  35.0796,2,-999.0000,5,    192.9,1,  -999.0,9, -999.00,9, -999.00,9,  -999.0,     148,    19.7259, -999.00,9,     -999.0
33KI20111103,       PRS2,       2,          9,         22,       8022,2,20111105,       1500,  22.750000,-157.9995000,       4727,   495.0,   7.4254,  34.0480,2,-999.0000,5,    116.0,1,  -999.0,9, -999.00,9, -999.00,9,  -999.0,     494,     7.3771, -999.00,9,     -999.0
33KI20111103,       PRS2,       2,          9,         21,       8021,2,20111105,       1500,  22.750000,-157.9995000,       4727,   498.9,   7.4013,  34.0467,2,-999.0000,5,    115.9,1,  -999.0,9, -999.00,9, -999.00,9,  -999.0,     499,     7.3528, -999.00,9,     -999.0
33KI20111103,       PRS2,       2,          9,         20,       8020,2,20111105,       1500,  22.750000,-157.9995000,       4727,   499.8,   7.3997,  34.0463,2,-999.0000,5,    115.7,1,  -999.0,9, -999.00,9, -999.00,9,  -999.0,     500,     7.3511, -999.00,9,     -999.0
33KI20111103,       PRS2,       2,          9,         19,       8019,2,20111105,       1500,  22.750000,-157.9995000,       4727,   500.3,   7.3966,  34.0461,2,-999.0000,5,    115.5,1,  -999.0,9, -999.00,9, -999.00,9,  -999.0,     501,     7.3479, -999.00,9,     -999.0
33KI20111103,       PRS2,       2,          9,         18,       8018,4,20111105,       1500,  22.750000,-157.9995000,       4727,   500.7,   7.3946,  34.0461,2,-999.0000,5,    115.2,1,  -999.0,9, -999.00,9, -999.00,9,  -999.0,     501,     7.3459, -999.00,9,     -999.0
33KI20111103,       PRS2,       2,          9,         17,       8017,2,20111105,       1500,  22.750000,-157.9995000,       4727,   568.3,   6.1654,  34.0487,2,  34.0490,2,     81.5,1,  -999.0,9, -999.00,9, -999.00,9,  -999.0,     568,     6.1152, -999.00,9,     -999.0
33KI20111103,       PRS2,       2,          9,         16,       8016,2,20111105,       1500,  22.750000,-157.9995000,       4727,   768.8,   4.5475,  34.3007,2,-999.0000,5,     25.9,1,  -999.0,9, -999.00,9, -999.00,9,  -999.0,     769,     4.4877, -999.00,9,     -999.0
33KI20111103,       PRS2,       2,          9,         15,       8015,2,20111105,       1500,  22.750000,-157.9995000,       4727,   768.6,   4.5488,  34.2999,2,-999.0000,5,     25.9,1,  -999.0,9, -999.00,9, -999.00,9,  -999.0,     768,     4.4890, -999.00,9,     -999.0
33KI20111103,       PRS2,       2,          9,         14,       8014,2,20111105,       1500,  22.750000,-157.9995000,       4727,   767.6,   4.5506,  34.2970,2,-999.0000,5,     25.9,1,  -999.0,9, -999.00,9, -999.00,9,  -999.0,     768,     4.4908, -999.00,9,     -999.0
33KI20111103,       PRS2,       2,          9,         13,       8025,2,20111105,       1500,  22.750000,-157.9995000,       4727,   767.4,   4.5529,  34.2957,2,-999.0000,5,     25.9,1,  -999.0,9, -999.00,9, -999.00,9,  -999.0,     767,     4.4932, -999.00,9,     -999.0
33KI20111103,       PRS2,       2,          9,         12,       8012,2,20111105,       1500,  22.750000,-157.9995000,       4727,   766.9,   4.5527,  34.2950,2,-999.0000,5,     25.9,1,  -999.0,9, -999.00,9, -999.00,9,  -999.0,     766,     4.4930, -999.00,9,     -999.0
33KI20111103,       PRS2,       2,          9,         11,       8011,2,20111105,       1500,  22.750000,-157.9995000,       4727,  1018.4,   3.7205,  34.4935,2,-999.0000,5,     47.5,1,  -999.0,9, -999.00,9, -999.00,9,  -999.0,    1018,     3.6455, -999.00,9,     -999.0
33KI20111103,       PRS2,       2,          9,         10,       8010,2,20111105,       1500,  22.750000,-157.9995000,       4727,  1018.6,   3.7204,  34.4935,2,-999.0000,5,     47.5,1,  -999.0,9, -999.00,9, -999.00,9,  -999.0,    1018,     3.6454, -999.00,9,     -999.0
33KI20111103,       PRS2,       2,          9,          9,       8009,2,20111105,       1500,  22.750000,-157.9995000,       4727,  1018.4,   3.7202,  34.4938,2,-999.0000,5,     47.5,1,  -999.0,9, -999.00,9, -999.00,9,  -999.0,    1019,     3.6453, -999.00,9,     -999.0
33KI20111103,       PRS2,       2,          9,          8,       8008,2,20111105,       1500,  22.750000,-157.9995000,       4727,  1018.4,   3.7199,  34.4937,2,-999.0000,5,     47.5,1,  -999.0,9, -999.00,9, -999.00,9,  -999.0,    1019,     3.6449, -999.00,9,     -999.0
33KI20111103,       PRS2,       2,          9,          7,       8026,2,20111105,       1500,  22.750000,-157.9995000,       4727,  1018.6,   3.7200,  34.4938,2,-999.0000,5,     47.5,1,  -999.0,9, -999.00,9, -999.00,9,  -999.0,    1018,     3.6450, -999.00,9,     -999.0
33KI20111103,       PRS2,       2,          9,          6,       8006,2,20111105,       1500,  22.750000,-157.9995000,       4727,  1018.5,   3.7198,  34.4940,2,-999.0000,5,     47.5,1,  -999.0,9, -999.00,9, -999.00,9,  -999.0,    1020,     3.6448, -999.00,9,     -999.0
33KI20111103,       PRS2,       2,          9,          5,       8005,2,20111105,       1500,  22.750000,-157.9995000,       4727,  1019.5,   3.7194,  34.4938,2,-999.0000,5,     47.5,1,  -999.0,9, -999.00,9, -999.00,9,  -999.0,    1021,     3.6444, -999.00,9,     -999.0
33KI20111103,       PRS2,       2,          9,          4,       8004,2,20111105,       1500,  22.750000,-157.9995000,       4727,  1020.3,   3.7192,  34.4939,2,-999.0000,5,     47.5,1,  -999.0,9, -999.00,9, -999.00,9,  -999.0,    1021,     3.6441, -999.00,9,     -999.0
33KI20111103,       PRS2,       2,          9,          3,       8003,2,20111105,       1500,  22.750000,-157.9995000,       4727,  1020.6,   3.7184,  34.4944,2,-999.0000,5,     47.5,1,  -999.0,9, -999.00,9, -999.00,9,  -999.0,    1020,     3.6432, -999.00,9,     -999.0
33KI20111103,       PRS2,       2,          9,          2,       8002,2,20111105,       1500,  22.750000,-157.9995000,       4727,  1020.6,   3.7177,  34.4947,2,-999.0000,5,     47.5,1,  -999.0,9, -999.00,9, -999.00,9,  -999.0,    1020,     3.6426, -999.00,9,     -999.0
33KI20111103,       PRS2,       2,          9,          1,       8001,2,20111105,       1500,  22.750000,-157.9995000,       4727,  1020.6,   3.7177,  34.4946,2,  34.4938,2,     47.5,1,  -999.0,9, -999.00,9, -999.00,9,  -999.0,    1019,     3.6426, -999.00,9,     -999.0
33KI20111103,       PRS2,       2,         10,         23,       8023,2,20111105,       1756,  22.788500,-157.9903333,       4719,     5.3,  25.7240,  35.1325,2,-999.0000,5,    204.3,1,  -999.0,9, -999.00,9, -999.00,9,  -999.0,       5,    25.7229, -999.00,9,     -999.0
33KI20111103,       PRS2,       2,         10,         22,       8022,2,20111105,       1756,  22.788500,-157.9903333,       4719,     5.3,  25.7226,  35.1316,2,  35.1362,2,    204.3,1,  -999.0,9, -999.00,9, -999.00,9,  -999.0,       5,    25.7214, -999.00,9,     -999.0
33KI20111103,       PRS2,       2,         10,         21,       8021,2,20111105,       1756,  22.788500,-157.9903333,       4719,    25.2,  25.8155,  35.2405,2,-999.0000,5,    204.3,1,  -999.0,9, -999.00,9, -999.00,9,  -999.0,      25,    25.8099, -999.00,9,     -999.0
33KI20111103,       PRS2,       2,         10,         20,       8020,2,20111105,       1756,  22.788500,-157.9903333,       4719,    25.2,  25.8145,  35.2393,2,-999.0000,5,    204.3,1,  -999.0,9, -999.00,9, -999.00,9,  -999.0,      25,    25.8089, -999.00,9,     -999.0
33KI20111103,       PRS2,       2,         10,         19,       8019,2,20111105,       1756,  22.788500,-157.9903333,       4719,    25.2,  25.8147,  35.2401,2,-999.0000,5,    204.3,1,  -999.0,9, -999.00,9, -999.00,9,  -999.0,      25,    25.8091, -999.00,9,     -999.0
33KI20111103,       PRS2,       2,         10,         18,       8018,2,20111105,       1756,  22.788500,-157.9903333,       4719,    25.2,  25.8150,  35.2406,2,  35.2408,2,    204.3,1,  -999.0,9, -999.00,9, -999.00,9,  -999.0,      24,    25.8094, -999.00,9,     -999.0
33KI20111103,       PRS2,       2,         10,         17,       8017,2,20111105,       1756,  22.788500,-157.9903333,       4719,    44.2,  25.8127,  35.2411,2,-999.0000,5,    203.7,1,  -999.0,9, -999.00,9, -999.00,9,  -999.0,      44,    25.8029, -999.00,9,     -999.0
33KI20111103,       PRS2,       2,         10,         16,       8016,2,20111105,       1756,  22.788500,-157.9903333,       4719,    44.2,  25.8134,  35.2414,2,  35.2410,2,    203.8,1,  -999.0,9, -999.00,9, -999.00,9,  -999.0,      44,    25.8036, -999.00,9,     -999.0
33KI20111103,       PRS2,       2,         10,         15,       8015,2,20111105,       1756,  22.788500,-157.9903333,       4719,    74.1,  23.7236,  35.2881,2,-999.0000,5,    209.8,1,  -999.0,9, -999.00,9, -999.00,9,  -999.0,      75,    23.7081, -999.00,9,     -999.0
33KI20111103,       PRS2,       2,         10,         14,       8014,2,20111105,       1756,  22.788500,-157.9903333,       4719,    74.0,  23.7195,  35.2884,2,  35.2873,2,    209.9,1,  -999.0,9, -999.00,9, -999.00,9,  -999.0,      74,    23.7040, -999.00,9,     -999.0
33KI20111103,       PRS2,       2,         10,         13,       8025,2,20111105,       1756,  22.788500,-157.9903333,       4719,   101.8,  22.2529,  35.2743,2,-999.0000,5,    203.0,1,  -999.0,9, -999.00,9, -999.00,9,  -999.0,     102,    22.2326, -999.00,9,     -999.0
33KI20111103,       PRS2,       2,         10,         12,       8012,2,20111105,       1756,  22.788500,-157.9903333,       4719,   101.4,  22.3468,  35.2762,2,  35.2759,2,    203.0,1,  -999.0,9, -999.00,9, -999.00,9,  -999.0,     102,    22.3265, -999.00,9,     -999.0
33KI20111103,       PRS2,       2,         10,         11,       8011,2,20111105,       1756,  22.788500,-157.9903333,       4719,   125.6,  21.0140,  35.1989,2,-999.0000,5,    198.4,1,  -999.0,9, -999.00,9, -999.00,9,  -999.0,     126,    20.9900, -999.00,9,     -999.0
33KI20111103,       PRS2,       2,         10,         10,       8010,2,20111105,       1756,  22.788500,-157.9903333,       4719,   125.3,  21.0418,  35.2008,2,  35.2065,2,    198.4,1,  -999.0,9, -999.00,9, -999.00,9,  -999.0,     125,    21.0178, -999.00,9,     -999.0
33KI20111103,       PRS2,       2,         10,          9,       8009,2,20111105,       1756,  22.788500,-157.9903333,       4719,   147.6,  19.9765,  35.1025,2,-999.0000,5,    193.3,1,  -999.0,9, -999.00,9, -999.00,9,  -999.0,     146,    19.9493, -999.00,9,     -999.0
33KI20111103,       PRS2,       2,         10,          8,       8008,2,20111105,       1756,  22.788500,-157.9903333,       4719,   148.1,  19.9300,  35.0969,2,  35.1120,3,    193.0,1,  -999.0,9, -999.00,9, -999.00,9,  -999.0,     147,    19.9027, -999.00,9,     -999.0
33KI20111103,       PRS2,       2,         10,          7,       8026,2,20111105,       1756,  22.788500,-157.9903333,       4719,   174.7,  18.2131,  34.9053,2,-999.0000,5,    198.9,1,  -999.0,9, -999.00,9, -999.00,9,  -999.0,     174,    18.1829, -999.00,9,     -999.0
33KI20111103,       PRS2,       2,         10,          6,       8006,2,20111105,       1756,  22.788500,-157.9903333,       4719,   174.7,  18.0847,  34.8882,2,  34.9018,2,    199.4,1,  -999.0,9, -999.00,9, -999.00,9,  -999.0,     175,    18.0546, -999.00,9,     -999.0
33KI20111103,       PRS2,       2,         10,          5,       8005,2,20111105,       1756,  22.788500,-157.9903333,       4719,   499.8,   7.0934,  34.0713,2,-999.0000,5,     93.2,1,  -999.0,9, -999.00,9, -999.00,9,  -999.0,     500,     7.0459, -999.00,9,     -999.0
33KI20111103,       PRS2,       2,         10,          4,       8004,2,20111105,       1756,  22.788500,-157.9903333,       4719,   549.6,   6.1579,  34.0464,2,  34.0488,2,     81.9,1,  -999.0,9, -999.00,9, -999.00,9,  -999.0,     550,     6.1094, -999.00,9,     -999.0
33KI20111103,       PRS2,       2,         10,          3,       8003,2,20111105,       1756,  22.788500,-157.9903333,       4719,   769.9,   4.5310,  34.3011,2,-999.0000,5,     25.9,1,  -999.0,9, -999.00,9, -999.00,9,  -999.0,     769,     4.4712, -999.00,9,     -999.0
33KI20111103,       PRS2,       2,         10,          2,       8002,2,20111105,       1756,  22.788500,-157.9903333,       4719,  1019.3,   3.7388,  34.4906,2,-999.0000,5,     46.7,1,  -999.0,9, -999.00,9, -999.00,9,  -999.0,    1019,     3.6637, -999.00,9,     -999.0
33KI20111103,       PRS2,       2,         10,          1,       8001,2,20111105,       1756,  22.788500,-157.9903333,       4719,  1019.3,   3.7397,  34.4904,2,  34.4897,2,     46.7,1,  -999.0,9, -999.00,9, -999.00,9,  -999.0,    1020,     3.6645, -999.00,9,     -999.0
33KI20111103,       PRS2,       2,         11,         24,       8024,2,20111105,       2054,  22.756500,-157.9951667,       4719,     4.2,  25.8407,  35.2180,2,  35.2146,2,    205.0,1,  -999.0,9, -999.00,9, -999.00,9,  -999.0,       4,    25.8398, -999.00,9,     -999.0
33KI20111103,       PRS2,       2,         11,         23,       8023,2,20111105,       2054,  22.756500,-157.9951667,       4719,     4.1,  25.8407,  35.2182,2,-999.0000,5,    204.9,1,  -999.0,9, -999.00,9, -999.00,9,  -999.0,       4,    25.8398, -999.00,9,     -999.0
33KI20111103,       PRS2,       2,         11,         22,       8022,2,20111105,       2054,  22.756500,-157.9951667,       4719,    25.4,  25.7360,  35.2016,2,-999.0000,5,    205.0,1,  -999.0,9, -999.00,9, -999.00,9,  -999.0,      25,    25.7304, -999.00,9,     -999.0
33KI20111103,       PRS2,       2,         11,         21,       8021,2,20111105,       2054,  22.756500,-157.9951667,       4719,    25.4,  25.7359,  35.2012,2,-999.0000,5,    205.1,1,  -999.0,9, -999.00,9, -999.00,9,  -999.0,      25,    25.7303, -999.00,9,     -999.0
33KI20111103,       PRS2,       2,         11,         20,       8020,2,20111105,       2054,  22.756500,-157.9951667,       4719,    45.2,  25.7394,  35.2024,2,-999.0000,5,    204.4,1,  -999.0,9, -999.00,9, -999.00,9,  -999.0,      45,    25.7294, -999.00,9,     -999.0
33KI20111103,       PRS2,       2,         11,         19,       8019,2,20111105,       2054,  22.756500,-157.9951667,       4719,    45.0,  25.7399,  35.2024,2,-999.0000,5,    204.7,1,  -999.0,9, -999.00,9, -999.00,9,  -999.0,      45,    25.7300, -999.00,9,     -999.0
33KI20111103,       PRS2,       2,         11,         18,       8018,4,20111105,       2054,  22.756500,-157.9951667,       4719,    75.2,  24.9471,  35.2727,2,-999.0000,5,    209.9,1,  -999.0,9, -999.00,9, -999.00,9,  -999.0,      75,    24.9308, -999.00,9,     -999.0
33KI20111103,       PRS2,       2,         11,         17,       8017,2,20111105,       2054,  22.756500,-157.9951667,       4719,    75.3,  24.9453,  35.2726,2,-999.0000,5,    210.0,1,  -999.0,9, -999.00,9, -999.00,9,  -999.0,      74,    24.9290, -999.00,9,     -999.0
33KI20111103,       PRS2,       2,         11,         16,       8016,2,20111105,       2054,  22.756500,-157.9951667,       4719,    75.3,  24.9433,  35.2727,2,-999.0000,5,    210.2,1,  -999.0,9, -999.00,9, -999.00,9,  -999.0,      75,    24.9270, -999.00,9,     -999.0
33KI20111103,       PRS2,       2,         11,         15,       8015,2,20111105,       2054,  22.756500,-157.9951667,       4719,   100.5,  23.3959,  35.2866,2,-999.0000,5,    209.9,1,  -999.0,9, -999.00,9, -999.00,9,  -999.0,      99,    23.3752, -999.00,9,     -999.0
33KI20111103,       PRS2,       2,         11,         14,       8014,2,20111105,       2054,  22.756500,-157.9951667,       4719,   127.9,  21.3244,  35.2559,2,-999.0000,5,    199.4,1,  -999.0,9, -999.00,9, -999.00,9,  -999.0,     127,    21.2997, -999.00,9,     -999.0
33KI20111103,       PRS2,       2,         11,         13,       8025,2,20111105,       2054,  22.756500,-157.9951667,       4719,   127.8,  21.3252,  35.2555,2,-999.0000,5,    199.5,1,  -999.0,9, -999.00,9, -999.00,9,  -999.0,     127,    21.3005, -999.00,9,     -999.0
33KI20111103,       PRS2,       2,         11,         12,       8012,2,20111105,       2054,  22.756500,-157.9951667,       4719,   127.4,  21.3279,  35.2548,2,-999.0000,5,    199.6,1,  -999.0,9, -999.00,9, -999.00,9,  -999.0,     127,    21.3033, -999.00,9,     -999.0
33KI20111103,       PRS2,       2,         11,         11,       8011,2,20111105,       2054,  22.756500,-157.9951667,       4719,   127.0,  21.3315,  35.2543,2,-999.0000,5,    199.7,1,  -999.0,9, -999.00,9, -999.00,9,  -999.0,     126,    21.3069, -999.00,9,     -999.0
33KI20111103,       PRS2,       2,         11,         10,       8010,2,20111105,       2054,  22.756500,-157.9951667,       4719,   126.8,  21.3359,  35.2542,2,-999.0000,5,    199.6,1,  -999.0,9, -999.00,9, -999.00,9,  -999.0,     126,    21.3114, -999.00,9,     -999.0
33KI20111103,       PRS2,       2,         11,          9,       8009,2,20111105,       2054,  22.756500,-157.9951667,       4719,   126.4,  21.3437,  35.2542,2,-999.0000,5,    199.6,1,  -999.0,9, -999.00,9, -999.00,9,  -999.0,     126,    21.3192, -999.00,9,     -999.0
33KI20111103,       PRS2,       2,         11,          8,       8008,2,20111105,       2054,  22.756500,-157.9951667,       4719,   149.4,  20.1921,  35.1303,2,-999.0000,5,    194.1,1,  -999.0,9, -999.00,9, -999.00,9,  -999.0,     149,    20.1643, -999.00,9,     -999.0
33KI20111103,       PRS2,       2,         11,          7,       8026,2,20111105,       2054,  22.756500,-157.9951667,       4719,   200.0,  16.9954,  34.7472,2,-999.0000,5,    203.2,1,  -999.0,9, -999.00,9, -999.00,9,  -999.0,     200,    16.9624, -999.00,9,     -999.0
33KI20111103,       PRS2,       2,         11,          6,       8006,2,20111105,       2054,  22.756500,-157.9951667,       4719,   199.9,  16.9956,  34.7472,2,-999.0000,5,    203.3,1,  -999.0,9, -999.00,9, -999.00,9,  -999.0,     200,    16.9627, -999.00,9,     -999.0
33KI20111103,       PRS2,       2,         11,          5,       8005,2,20111105,       2054,  22.756500,-157.9951667,       4719,   200.0,  16.9953,  34.7473,2,-999.0000,5,    203.4,1,  -999.0,9, -999.00,9, -999.00,9,  -999.0,     199,    16.9623, -999.00,9,     -999.0
33KI20111103,       PRS2,       2,         11,          4,       8004,2,20111105,       2054,  22.756500,-157.9951667,       4719,   200.0,  16.9948,  34.7473,2,-999.0000,5,    203.4,1,  -999.0,9, -999.00,9, -999.00,9,  -999.0,     201,    16.9618, -999.00,9,     -999.0
33KI20111103,       PRS2,       2,         11,          3,       8003,2,20111105,       2054,  22.756500,-157.9951667,       4719,   199.9,  16.9922,  34.7480,2,-999.0000,5,    203.4,1,  -999.0,9, -999.00,9, -999.00,9,  -999.0,     199,    16.9593, -999.00,9,     -999.0
33KI20111103,       PRS2,       2,         11,          2,       8002,2,20111105,       2054,  22.756500,-157.9951667,       4719,   509.2,   6.7353,  34.0423,2,  34.0431,2,     94.2,1,  -999.0,9, -999.00,9, -999.00,9,  -999.0,     509,     6.6883, -999.00,9,     -999.0
33KI20111103,       PRS2,       2,         11,          1,       8001,2,20111105,       2054,  22.756500,-157.9951667,       4719,  1020.8,   3.7825,  34.4796,2,  34.4832,2,     45.0,1,  -999.0,9, -999.00,9, -999.00,9,  -999.0,    1021,     3.7068, -999.00,9,     -999.0