BOTTLE,20141031SIOCCHAMB
EXPOCODE,SECT_ID,STNNBR,CASTNO,SAMPNO,BTLNBR,BTLNBR_FLAG_W,DATE,TIME,LATITUDE,LONGITUDE,DEPTH,CTDPRS,CTDTMP,CTDSAL,CTDSAL_FLAG_W,SALNTY,SALNTY_FLAG_W,CTDOXY,CTDOXY_FLAG_W,OXYGEN,OXYGEN_FLAG_W,SILCAT,SILCAT_FLAG_W,PHSPHT,PHSPHT_FLAG_W,REVPRS,CTDRAW,THETA,NO2+NO3,NO2+NO3_FLAG_W,REVTMP
,,,,,,,,,,,METERS,DBAR,ITS-90,PSS-78,,PSS-78,,UMOL/KG,,UMOL/KG,,UMOL/KG,,UMOL/KG,,DBAR,DBAR,ITS-90,UMOL/KG,,DEG C
33KI20111103,       PRS2,       2,         12,         24,       8024,3,20111105,       2351,  22.763667,-158.0010000,       4717,     5.4,  25.9069,  35.2151,2,  35.2128,2,    204.7,1,  -999.0,9, -999.00,9, -999.00,9,  -999.0,       5,    25.9057, -999.00,9,     -999.0
33KI20111103,       PRS2,       2,         12,         23,       8023,3,20111105,       2351,  22.763667,-158.0010000,       4717,    25.1,  25.8434,  35.2122,2,  35.2144,2,    204.6,1,  -999.0,9, -999.00,9, -999.00,9,  -999.0,      25,    25.8379, -999.00,9,     -999.0
33KI20111103,       PRS2,       2,         12,         22,       8022,2,20111105,       2351,  22.763667,-158.0010000,       4717,    45.3,  25.8551,  35.2135,2,  35.2121,2,    204.5,1,  -999.0,9, -999.00,9, -999.00,9,  -999.0,      45,    25.8450, -999.00,9,     -999.0
33KI20111103,       PRS2,       2,         12,         21,       8021,2,20111105,       2351,  22.763667,-158.0010000,       4717,    75.5,  25.0576,  35.2672,2,  35.2686,2,    210.3,1,  -999.0,9, -999.00,9, -999.00,9,  -999.0,      75,    25.0412, -999.00,9,     -999.0
33KI20111103,       PRS2,       2,         12,         20,       8020,2,20111105,       2351,  22.763667,-158.0010000,       4717,    99.8,  23.7568,  35.2848,2,  35.2852,2,    209.5,1,  -999.0,9, -999.00,9, -999.00,9,  -999.0,     100,    23.7359, -999.00,9,     -999.0
33KI20111103,       PRS2,       2,         12,         19,       8019,2,20111105,       2351,  22.763667,-158.0010000,       4717,   124.8,  22.1262,  35.2705,2,  35.2741,2,    202.3,1,  -999.0,9, -999.00,9, -999.00,9,  -999.0,     125,    22.1014, -999.00,9,     -999.0
33KI20111103,       PRS2,       2,         12,         18,       8018,4,20111105,       2351,  22.763667,-158.0010000,       4717,   124.7,  22.1312,  35.2710,2,-999.0000,5,    202.2,1,  -999.0,9, -999.00,9, -999.00,9,  -999.0,     124,    22.1064, -999.00,9,     -999.0
33KI20111103,       PRS2,       2,         12,         17,       8017,2,20111105,       2351,  22.763667,-158.0010000,       4717,   150.0,  20.4840,  35.1623,2,  35.1616,2,    194.7,1,  -999.0,9, -999.00,9, -999.00,9,  -999.0,     150,    20.4558, -999.00,9,     -999.0
33KI20111103,       PRS2,       2,         12,         16,       8016,2,20111105,       2351,  22.763667,-158.0010000,       4717,   199.8,  17.3661,  34.7954,2,-999.0000,5,    200.2,1,  -999.0,9, -999.00,9, -999.00,9,  -999.0,     199,    17.3326, -999.00,9,     -999.0
33KI20111103,       PRS2,       2,         12,         15,       8015,2,20111105,       2351,  22.763667,-158.0010000,       4717,   199.6,  17.3696,  34.7958,2,-999.0000,5,    200.2,1,  -999.0,9, -999.00,9, -999.00,9,  -999.0,     200,    17.3362, -999.00,9,     -999.0
33KI20111103,       PRS2,       2,         12,         14,       8014,2,20111105,       2351,  22.763667,-158.0010000,       4717,   258.6,  15.1835,  34.5199,2,  34.5372,2,    202.8,1,  -999.0,9, -999.00,9, -999.00,9,  -999.0,     258,    15.1441, -999.00,9,     -999.0
33KI20111103,       PRS2,       2,         12,         13,       8025,2,20111105,       2351,  22.763667,-158.0010000,       4717,   300.6,  12.6567,  34.2568,2,-999.0000,5,    200.5,1,  -999.0,9, -999.00,9, -999.00,9,  -999.0,     301,    12.6162, -999.00,9,     -999.0
33KI20111103,       PRS2,       2,         12,         12,       8012,2,20111105,       2351,  22.763667,-158.0010000,       4717,   300.5,  12.6636,  34.2582,2,-999.0000,5,    200.6,1,  -999.0,9, -999.00,9, -999.00,9,  -999.0,     300,    12.6232, -999.00,9,     -999.0
33KI20111103,       PRS2,       2,         12,         11,       8011,2,20111105,       2351,  22.763667,-158.0010000,       4717,   350.0,  10.9560,  34.1584,2,  34.1615,2,    199.6,1,  -999.0,9, -999.00,9, -999.00,9,  -999.0,     349,    10.9131, -999.00,9,     -999.0
33KI20111103,       PRS2,       2,         12,         10,       8010,2,20111105,       2351,  22.763667,-158.0010000,       4717,   396.3,   9.8868,  34.1112,2,-999.0000,5,    188.4,1,  -999.0,9, -999.00,9, -999.00,9,  -999.0,     396,     9.8411, -999.00,9,     -999.0
33KI20111103,       PRS2,       2,         12,          9,       8009,2,20111105,       2351,  22.763667,-158.0010000,       4717,   482.5,   7.2908,  34.0431,2,  34.0476,2,    110.3,1,  -999.0,9, -999.00,9, -999.00,9,  -999.0,     481,     7.2443, -999.00,9,     -999.0
33KI20111103,       PRS2,       2,         12,          8,       8008,2,20111105,       2351,  22.763667,-158.0010000,       4717,   495.7,   7.1010,  34.0665,2,-999.0000,5,    101.8,1,  -999.0,9, -999.00,9, -999.00,9,  -999.0,     495,     7.0539, -999.00,9,     -999.0
33KI20111103,       PRS2,       2,         12,          7,       8026,2,20111105,       2351,  22.763667,-158.0010000,       4717,   496.7,   7.0703,  34.0665,2,-999.0000,5,     99.8,1,  -999.0,9, -999.00,9, -999.00,9,  -999.0,     497,     7.0232, -999.00,9,     -999.0
33KI20111103,       PRS2,       2,         12,          6,       8006,2,20111105,       2351,  22.763667,-158.0010000,       4717,   600.0,   5.4702,  34.1031,2,-999.0000,5,     55.0,1,  -999.0,9, -999.00,9, -999.00,9,  -999.0,     599,     5.4202, -999.00,9,     -999.0
33KI20111103,       PRS2,       2,         12,          5,       8005,2,20111105,       2351,  22.763667,-158.0010000,       4717,   699.6,   4.7755,  34.2135,2,-999.0000,5,     30.9,1,  -999.0,9, -999.00,9, -999.00,9,  -999.0,     699,     4.7203, -999.00,9,     -999.0
33KI20111103,       PRS2,       2,         12,          4,       8004,2,20111105,       2351,  22.763667,-158.0010000,       4717,   770.6,   4.5280,  34.3108,2,-999.0000,5,     26.0,1,  -999.0,9, -999.00,9, -999.00,9,  -999.0,     770,     4.4681, -999.00,9,     -999.0
33KI20111103,       PRS2,       2,         12,          3,       8003,2,20111105,       2351,  22.763667,-158.0010000,       4717,   799.9,   4.4256,  34.3362,2,-999.0000,5,     26.6,1,  -999.0,9, -999.00,9, -999.00,9,  -999.0,     799,     4.3639, -999.00,9,     -999.0
33KI20111103,       PRS2,       2,         12,          2,       8002,2,20111105,       2351,  22.763667,-158.0010000,       4717,   894.8,   4.1318,  34.4170,2,-999.0000,5,     34.1,1,  -999.0,9, -999.00,9, -999.00,9,  -999.0,     895,     4.0641, -999.00,9,     -999.0
33KI20111103,       PRS2,       2,         12,          1,       8001,2,20111105,       2351,  22.763667,-158.0010000,       4717,  1019.2,   3.8507,  34.4689,2,  34.4677,2,     42.7,1,  -999.0,9, -999.00,9, -999.00,9,  -999.0,    1020,     3.7747, -999.00,9,     -999.0
33KI20111103,       PRS2,       2,         13,         24,       8024,2,20111106,       0251,  22.750667,-158.0043333,       4716,     4.8,  26.0064,  35.1934,2,-999.0000,5,    203.6,1,  -999.0,9, -999.00,9, -999.00,9,  -999.0,       4,    26.0053, -999.00,9,     -999.0
33KI20111103,       PRS2,       2,         13,         23,       8023,2,20111106,       0251,  22.750667,-158.0043333,       4716,     4.7,  26.0087,  35.1937,2,  35.1898,2,    203.6,1,  -999.0,9, -999.00,9, -999.00,9,  -999.0,       3,    26.0077, -999.00,9,     -999.0
33KI20111103,       PRS2,       2,         13,         22,       8022,2,20111106,       0251,  22.750667,-158.0043333,       4716,    15.1,  26.0109,  35.1923,2,  35.1900,2,    203.7,1,  -999.0,9, -999.00,9, -999.00,9,  -999.0,      14,    26.0076, -999.00,9,     -999.0
33KI20111103,       PRS2,       2,         13,         21,       8021,2,20111106,       0251,  22.750667,-158.0043333,       4716,    23.9,  26.0141,  35.1939,2,-999.0000,5,    203.8,1,  -999.0,9, -999.00,9, -999.00,9,  -999.0,      24,    26.0088, -999.00,9,     -999.0
33KI20111103,       PRS2,       2,         13,         20,       8020,2,20111106,       0251,  22.750667,-158.0043333,       4716,    24.1,  26.0136,  35.1927,2,  35.1914,2,    203.8,1,  -999.0,9, -999.00,9, -999.00,9,  -999.0,      25,    26.0082, -999.00,9,     -999.0
33KI20111103,       PRS2,       2,         13,         19,       8019,2,20111106,       0251,  22.750667,-158.0043333,       4716,    24.0,  26.0136,  35.1916,2,-999.0000,5,    203.8,1,  -999.0,9, -999.00,9, -999.00,9,  -999.0,      24,    26.0082, -999.00,9,     -999.0
33KI20111103,       PRS2,       2,         13,         18,       8018,2,20111106,       0251,  22.750667,-158.0043333,       4716,    35.1,  25.8468,  35.2178,2,  35.2166,2,    204.1,1,  -999.0,9, -999.00,9, -999.00,9,  -999.0,      35,    25.8390, -999.00,9,     -999.0
33KI20111103,       PRS2,       2,         13,         17,       8017,2,20111106,       0251,  22.750667,-158.0043333,       4716,    34.9,  25.8458,  35.2203,2,  35.2201,2,    204.3,1,  -999.0,9, -999.00,9, -999.00,9,  -999.0,      34,    25.8380, -999.00,9,     -999.0
33KI20111103,       PRS2,       2,         13,         16,       8016,2,20111106,       0251,  22.750667,-158.0043333,       4716,    44.2,  25.7008,  35.3045,2,-999.0000,5,    207.4,1,  -999.0,9, -999.00,9, -999.00,9,  -999.0,      45,    25.6911, -999.00,9,     -999.0
33KI20111103,       PRS2,       2,         13,         15,       8015,2,20111106,       0251,  22.750667,-158.0043333,       4716,    44.1,  25.7007,  35.3025,2,  35.2840,3,    207.4,1,  -999.0,9, -999.00,9, -999.00,9,  -999.0,      44,    25.6909, -999.00,9,     -999.0
33KI20111103,       PRS2,       2,         13,         14,       8014,2,20111106,       0251,  22.750667,-158.0043333,       4716,    59.7,  25.1618,  35.3670,2,-999.0000,5,    207.8,1,  -999.0,9, -999.00,9, -999.00,9,  -999.0,      60,    25.1488, -999.00,9,     -999.0
33KI20111103,       PRS2,       2,         13,         13,       8025,2,20111106,       0251,  22.750667,-158.0043333,       4716,    59.7,  25.1758,  35.3664,2,  35.3896,4,    208.0,1,  -999.0,9, -999.00,9, -999.00,9,  -999.0,      59,    25.1628, -999.00,9,     -999.0
33KI20111103,       PRS2,       2,         13,         12,       8012,2,20111106,       0251,  22.750667,-158.0043333,       4716,    76.7,  24.1884,  35.2801,2,-999.0000,5,    212.0,1,  -999.0,9, -999.00,9, -999.00,9,  -999.0,      76,    24.1722, -999.00,9,     -999.0
33KI20111103,       PRS2,       2,         13,         11,       8011,2,20111106,       0251,  22.750667,-158.0043333,       4716,    76.7,  24.2019,  35.2791,2,  35.2790,2,    212.0,1,  -999.0,9, -999.00,9, -999.00,9,  -999.0,      77,    24.1856, -999.00,9,     -999.0
33KI20111103,       PRS2,       2,         13,         10,       8010,2,20111106,       0251,  22.750667,-158.0043333,       4716,    99.5,  22.6683,  35.2786,2,-999.0000,5,    204.2,1,  -999.0,9, -999.00,9, -999.00,9,  -999.0,     100,    22.6482, -999.00,9,     -999.0
33KI20111103,       PRS2,       2,         13,          9,       8009,2,20111106,       0251,  22.750667,-158.0043333,       4716,    99.4,  22.6641,  35.2793,2,  35.2781,2,    204.1,1,  -999.0,9, -999.00,9, -999.00,9,  -999.0,     100,    22.6440, -999.00,9,     -999.0
33KI20111103,       PRS2,       2,         13,          8,       8008,2,20111106,       0251,  22.750667,-158.0043333,       4716,   124.9,  21.0763,  35.2446,2,-999.0000,5,    196.6,1,  -999.0,9, -999.00,9, -999.00,9,  -999.0,     124,    21.0523, -999.00,9,     -999.0
33KI20111103,       PRS2,       2,         13,          7,       8026,2,20111106,       0251,  22.750667,-158.0043333,       4716,   124.8,  21.0783,  35.2454,2,  35.2771,4,    196.6,1,  -999.0,9, -999.00,9, -999.00,9,  -999.0,     125,    21.0543, -999.00,9,     -999.0
33KI20111103,       PRS2,       2,         13,          6,       8006,2,20111106,       0251,  22.750667,-158.0043333,       4716,   150.3,  19.7587,  35.0905,2,-999.0000,5,    193.1,1,  -999.0,9, -999.00,9, -999.00,9,  -999.0,     150,    19.7311, -999.00,9,     -999.0
33KI20111103,       PRS2,       2,         13,          5,       8005,2,20111106,       0251,  22.750667,-158.0043333,       4716,   150.0,  19.7763,  35.0924,2,  35.1006,2,    193.2,1,  -999.0,9, -999.00,9, -999.00,9,  -999.0,     150,    19.7488, -999.00,9,     -999.0
33KI20111103,       PRS2,       2,         13,          4,       8004,2,20111106,       0251,  22.750667,-158.0043333,       4716,   178.9,  18.0646,  34.8818,2,-999.0000,5,    199.5,1,  -999.0,9, -999.00,9, -999.00,9,  -999.0,     180,    18.0338, -999.00,9,     -999.0
33KI20111103,       PRS2,       2,         13,          3,       8003,2,20111106,       0251,  22.750667,-158.0043333,       4716,   176.9,  18.1504,  34.8916,2,  34.9075,2,    199.5,1,  -999.0,9, -999.00,9, -999.00,9,  -999.0,     176,    18.1198, -999.00,9,     -999.0
33KI20111103,       PRS2,       2,         13,          2,       8002,2,20111106,       0251,  22.750667,-158.0043333,       4716,   481.8,   7.4473,  34.0422,2,  34.0423,2,    116.4,1,  -999.0,9, -999.00,9, -999.00,9,  -999.0,     483,     7.4003, -999.00,9,     -999.0
33KI20111103,       PRS2,       2,         13,          1,       8001,2,20111106,       0251,  22.750667,-158.0043333,       4716,  1023.9,   3.7532,  34.4852,2,  34.4883,2,     45.8,1,  -999.0,9, -999.00,9, -999.00,9,  -999.0,    1025,     3.6776, -999.00,9,     -999.0
33KI20111103,       PRS2,       2,         14,         23,       8023,2,20111106,       0549,  22.749500,-158.0058333,       4724,     5.1,  26.0442,  35.2004,2,  35.1985,2,    203.5,1,  -999.0,9, -999.00,9, -999.00,9,  -999.0,       4,    26.0430, -999.00,9,     -999.0
33KI20111103,       PRS2,       2,         14,         22,       8022,2,20111106,       0549,  22.749500,-158.0058333,       4724,     5.2,  26.0386,  35.2005,2,  35.1995,2,    203.4,1,  -999.0,9, -999.00,9, -999.00,9,  -999.0,       5,    26.0375, -999.00,9,     -999.0
33KI20111103,       PRS2,       2,         14,         21,       8021,2,20111106,       0549,  22.749500,-158.0058333,       4724,    24.9,  26.0429,  35.2008,2,  35.1996,2,    203.5,1,  -999.0,9, -999.00,9, -999.00,9,  -999.0,      25,    26.0373, -999.00,9,     -999.0
33KI20111103,       PRS2,       2,         14,         20,       8020,2,20111106,       0549,  22.749500,-158.0058333,       4724,    24.9,  26.0433,  35.2007,2,  35.2028,2,    203.6,1,  -999.0,9, -999.00,9, -999.00,9,  -999.0,      24,    26.0377, -999.00,9,     -999.0
33KI20111103,       PRS2,       2,         14,         19,       8019,2,20111106,       0549,  22.749500,-158.0058333,       4724,    45.4,  25.6866,  35.3386,2,  35.3405,2,    206.4,1,  -999.0,9, -999.00,9, -999.00,9,  -999.0,      45,    25.6765, -999.00,9,     -999.0
33KI20111103,       PRS2,       2,         14,         18,       8018,4,20111106,       0549,  22.749500,-158.0058333,       4724,    45.4,  25.6835,  35.3388,2,-999.0000,5,    206.4,1,  -999.0,9, -999.00,9, -999.00,9,  -999.0,      45,    25.6734, -999.00,9,     -999.0
33KI20111103,       PRS2,       2,         14,         17,       8017,2,20111106,       0549,  22.749500,-158.0058333,       4724,    45.0,  25.6837,  35.3390,2,  35.3480,2,    206.5,1,  -999.0,9, -999.00,9, -999.00,9,  -999.0,      44,    25.6737, -999.00,9,     -999.0
33KI20111103,       PRS2,       2,         14,         16,       8016,2,20111106,       0549,  22.749500,-158.0058333,       4724,    62.3,  24.9468,  35.3690,2,  35.4062,3,    210.5,1,  -999.0,9, -999.00,9, -999.00,9,  -999.0,      62,    24.9333, -999.00,9,     -999.0
33KI20111103,       PRS2,       2,         14,         15,       8015,2,20111106,       0549,  22.749500,-158.0058333,       4724,    73.0,  23.9438,  35.2804,2,  35.2794,2,    213.3,1,  -999.0,9, -999.00,9, -999.00,9,  -999.0,      72,    23.9284, -999.00,9,     -999.0
33KI20111103,       PRS2,       2,         14,         14,       8014,2,20111106,       0549,  22.749500,-158.0058333,       4724,    73.1,  23.9317,  35.2806,2,  35.2800,2,    213.3,1,  -999.0,9, -999.00,9, -999.00,9,  -999.0,      72,    23.9164, -999.00,9,     -999.0
33KI20111103,       PRS2,       2,         14,         13,       8025,2,20111106,       0549,  22.749500,-158.0058333,       4724,    85.1,  23.1367,  35.2833,2,  35.2834,2,    205.8,1,  -999.0,9, -999.00,9, -999.00,9,  -999.0,      84,    23.1193, -999.00,9,     -999.0
33KI20111103,       PRS2,       2,         14,         12,       8012,2,20111106,       0549,  22.749500,-158.0058333,       4724,    99.7,  22.0808,  35.2625,2,  35.2651,2,    202.5,1,  -999.0,9, -999.00,9, -999.00,9,  -999.0,     100,    22.0610, -999.00,9,     -999.0
33KI20111103,       PRS2,       2,         14,         11,       8011,2,20111106,       0549,  22.749500,-158.0058333,       4724,    99.7,  22.0827,  35.2647,2,  35.2645,2,    202.4,1,  -999.0,9, -999.00,9, -999.00,9,  -999.0,     100,    22.0629, -999.00,9,     -999.0
33KI20111103,       PRS2,       2,         14,         10,       8010,2,20111106,       0549,  22.749500,-158.0058333,       4724,   115.7,  21.0677,  35.2084,2,  35.2121,2,    198.3,1,  -999.0,9, -999.00,9, -999.00,9,  -999.0,     116,    21.0455, -999.00,9,     -999.0
33KI20111103,       PRS2,       2,         14,          9,       8009,2,20111106,       0549,  22.749500,-158.0058333,       4724,   125.6,  20.5776,  35.1720,2,  35.1723,2,    196.3,1,  -999.0,9, -999.00,9, -999.00,9,  -999.0,     125,    20.5540, -999.00,9,     -999.0
33KI20111103,       PRS2,       2,         14,          8,       8008,2,20111106,       0549,  22.749500,-158.0058333,       4724,   125.4,  20.5896,  35.1730,2,  35.1725,2,    196.2,1,  -999.0,9, -999.00,9, -999.00,9,  -999.0,     125,    20.5659, -999.00,9,     -999.0
33KI20111103,       PRS2,       2,         14,          7,       8026,2,20111106,       0549,  22.749500,-158.0058333,       4724,   136.6,  20.1452,  35.1322,2,  35.1321,2,    194.9,1,  -999.0,9, -999.00,9, -999.00,9,  -999.0,     136,    20.1198, -999.00,9,     -999.0
33KI20111103,       PRS2,       2,         14,          6,       8006,2,20111106,       0549,  22.749500,-158.0058333,       4724,   151.2,  19.3792,  35.0413,2,  35.0632,3,    193.5,1,  -999.0,9, -999.00,9, -999.00,9,  -999.0,     151,    19.3519, -999.00,9,     -999.0
33KI20111103,       PRS2,       2,         14,          5,       8005,2,20111106,       0549,  22.749500,-158.0058333,       4724,   150.7,  19.4926,  35.0559,2,  35.0685,2,    193.6,1,  -999.0,9, -999.00,9, -999.00,9,  -999.0,     150,    19.4653, -999.00,9,     -999.0
33KI20111103,       PRS2,       2,         14,          4,       8004,2,20111106,       0549,  22.749500,-158.0058333,       4724,   173.9,  18.3438,  34.9147,2,  34.9205,2,    198.8,1,  -999.0,9, -999.00,9, -999.00,9,  -999.0,     175,    18.3136, -999.00,9,     -999.0
33KI20111103,       PRS2,       2,         14,          3,       8003,2,20111106,       0549,  22.749500,-158.0058333,       4724,   174.4,  18.2914,  34.9085,2,  34.9185,2,    198.6,1,  -999.0,9, -999.00,9, -999.00,9,  -999.0,     174,    18.2611, -999.00,9,     -999.0
33KI20111103,       PRS2,       2,         14,          2,       8002,2,20111106,       0549,  22.749500,-158.0058333,       4724,   476.2,   7.5333,  34.0400,2,  34.0437,2,    121.7,1,  -999.0,9, -999.00,9, -999.00,9,  -999.0,     476,     7.4866, -999.00,9,     -999.0
33KI20111103,       PRS2,       2,         14,          1,       8001,2,20111106,       0549,  22.749500,-158.0058333,       4724,  1021.2,   3.7734,  34.4831,2,  34.4822,2,     45.3,1,  -999.0,9, -999.00,9, -999.00,9,  -999.0,    1021,     3.6978, -999.00,9,     -999.0