BOTTLE,20141031SIOCCHAMB
EXPOCODE,SECT_ID,STNNBR,CASTNO,SAMPNO,BTLNBR,BTLNBR_FLAG_W,DATE,TIME,LATITUDE,LONGITUDE,DEPTH,CTDPRS,CTDTMP,CTDSAL,CTDSAL_FLAG_W,SALNTY,SALNTY_FLAG_W,CTDOXY,CTDOXY_FLAG_W,OXYGEN,OXYGEN_FLAG_W,SILCAT,SILCAT_FLAG_W,PHSPHT,PHSPHT_FLAG_W,REVPRS,CTDRAW,THETA,NO2+NO3,NO2+NO3_FLAG_W,REVTMP
,,,,,,,,,,,METERS,DBAR,ITS-90,PSS-78,,PSS-78,,UMOL/KG,,UMOL/KG,,UMOL/KG,,UMOL/KG,,DBAR,DBAR,ITS-90,UMOL/KG,,DEG C
33KI20111103,       PRS2,       2,         15,         12,       8012,2,20111106,       0859,  22.749333,-158.0031667,       4726,     5.1,  25.9869,  35.1979,2,  35.1987,2,    203.5,2,   209.2,4, -999.00,9, -999.00,9,  -999.0,       4,    25.9858, -999.00,9,     -999.0
33KI20111103,       PRS2,       2,         15,         11,       8011,2,20111106,       0859,  22.749333,-158.0031667,       4726,    90.9,  23.6661,  35.2812,2,  35.2834,2,    211.7,2,   211.9,2, -999.00,9, -999.00,9,  -999.0,      91,    23.6471, -999.00,9,     -999.0
33KI20111103,       PRS2,       2,         15,         10,       8010,2,20111106,       0859,  22.749333,-158.0031667,       4726,   478.5,   7.5814,  34.0448,2,  34.0433,2,    125.5,2,   126.0,2, -999.00,9, -999.00,9,  -999.0,     478,     7.5343, -999.00,9,     -999.0
33KI20111103,       PRS2,       2,         15,          9,       8009,2,20111106,       0859,  22.749333,-158.0031667,       4726,   762.9,   4.5268,  34.3048,2,  34.3038,2,     25.8,2,    25.0,2, -999.00,9, -999.00,9,  -999.0,     763,     4.4676, -999.00,9,     -999.0
33KI20111103,       PRS2,       2,         15,          8,       8008,2,20111106,       0859,  22.749333,-158.0031667,       4726,  1000.9,   3.7808,  34.4814,2,-999.0000,5,     44.8,2,  -999.0,5, -999.00,9, -999.00,9,  -999.0,    1001,     3.7068, -999.00,9,     -999.0
33KI20111103,       PRS2,       2,         15,          7,       8026,2,20111106,       0859,  22.749333,-158.0031667,       4726,  2001.2,   2.1005,  34.6205,2,-999.0000,5,     89.6,2,  -999.0,5, -999.00,9, -999.00,9,  -999.0,    2000,     1.9625, -999.00,9,     -999.0
33KI20111103,       PRS2,       2,         15,          6,       8006,2,20111106,       0859,  22.749333,-158.0031667,       4726,  2001.0,   2.1003,  34.6204,2,  34.6205,2,     89.6,2,    90.7,2, -999.00,9, -999.00,9,  -999.0,    2000,     1.9623, -999.00,9,     -999.0
33KI20111103,       PRS2,       2,         15,          5,       8005,2,20111106,       0859,  22.749333,-158.0031667,       4726,  3000.8,   1.5472,  34.6686,2,-999.0000,5,    122.4,2,  -999.0,5, -999.00,9, -999.00,9,  -999.0,    3002,     1.3293, -999.00,9,     -999.0
33KI20111103,       PRS2,       2,         15,          4,       8004,2,20111106,       0859,  22.749333,-158.0031667,       4726,  3002.7,   1.5475,  34.6685,2,  34.6686,2,    122.4,2,   122.5,2, -999.00,9, -999.00,9,  -999.0,    3004,     1.3294, -999.00,9,     -999.0
33KI20111103,       PRS2,       2,         15,          3,       8003,2,20111106,       0859,  22.749333,-158.0031667,       4726,  4001.7,   1.4596,  34.6839,2,-999.0000,5,    146.4,2,  -999.0,5, -999.00,9, -999.00,9,  -999.0,    4002,     1.1417, -999.00,9,     -999.0
33KI20111103,       PRS2,       2,         15,          2,       8002,2,20111106,       0859,  22.749333,-158.0031667,       4726,  4001.7,   1.4595,  34.6839,2,  34.6832,2,    146.4,2,   146.5,2, -999.00,9, -999.00,9,  -999.0,    4002,     1.1416, -999.00,9,     -999.0
33KI20111103,       PRS2,       2,         15,          1,       8001,2,20111106,       0859,  22.749333,-158.0031667,       4726,  4801.9,   1.5067,  34.6878,2,  34.6891,2,    154.1,2,   154.1,2, -999.00,9, -999.00,9,  -999.0,    4801,     1.0961, -999.00,9,     -999.0
33KI20111103,       PRS2,       2,         16,         24,       8024,2,20111106,       2256,  22.704667,-157.9875000,       4723,    25.4,  25.6963,  35.1967,2,  35.1965,2,    204.8,1,  -999.0,9, -999.00,9, -999.00,9,  -999.0,      25,    25.6907, -999.00,9,     -999.0
33KI20111103,       PRS2,       2,         16,         23,       8023,2,20111106,       2256,  22.704667,-157.9875000,       4723,    25.5,  25.6961,  35.1968,2,-999.0000,5,    204.6,1,  -999.0,9, -999.00,9, -999.00,9,  -999.0,      25,    25.6905, -999.00,9,     -999.0
33KI20111103,       PRS2,       2,         16,         22,       8022,2,20111106,       2256,  22.704667,-157.9875000,       4723,    25.5,  25.6956,  35.1969,2,-999.0000,5,    204.5,1,  -999.0,9, -999.00,9, -999.00,9,  -999.0,      25,    25.6900, -999.00,9,     -999.0
33KI20111103,       PRS2,       2,         16,         21,       8021,2,20111106,       2256,  22.704667,-157.9875000,       4723,    25.5,  25.6956,  35.1969,2,-999.0000,5,    204.5,1,  -999.0,9, -999.00,9, -999.00,9,  -999.0,      26,    25.6900, -999.00,9,     -999.0
33KI20111103,       PRS2,       2,         16,         20,       8020,2,20111106,       2256,  22.704667,-157.9875000,       4723,    25.6,  25.6958,  35.1967,2,-999.0000,5,    204.4,1,  -999.0,9, -999.00,9, -999.00,9,  -999.0,      25,    25.6901, -999.00,9,     -999.0
33KI20111103,       PRS2,       2,         16,         19,       8019,2,20111106,       2256,  22.704667,-157.9875000,       4723,    25.6,  25.6961,  35.1968,2,-999.0000,5,    204.3,1,  -999.0,9, -999.00,9, -999.00,9,  -999.0,      25,    25.6905, -999.00,9,     -999.0
33KI20111103,       PRS2,       2,         16,         18,       8018,2,20111106,       2256,  22.704667,-157.9875000,       4723,    25.6,  25.6960,  35.1969,2,-999.0000,5,    204.1,1,  -999.0,9, -999.00,9, -999.00,9,  -999.0,      25,    25.6903, -999.00,9,     -999.0
33KI20111103,       PRS2,       2,         16,         17,       8017,2,20111106,       2256,  22.704667,-157.9875000,       4723,    25.5,  25.6964,  35.1967,2,-999.0000,5,    204.0,1,  -999.0,9, -999.00,9, -999.00,9,  -999.0,      25,    25.6908, -999.00,9,     -999.0
33KI20111103,       PRS2,       2,         16,         16,       8016,2,20111106,       2256,  22.704667,-157.9875000,       4723,    25.5,  25.6965,  35.1966,2,-999.0000,5,    203.8,1,  -999.0,9, -999.00,9, -999.00,9,  -999.0,      25,    25.6908, -999.00,9,     -999.0
33KI20111103,       PRS2,       2,         16,         15,       8015,2,20111106,       2256,  22.704667,-157.9875000,       4723,    25.5,  25.6963,  35.1964,2,-999.0000,5,    203.9,1,  -999.0,9, -999.00,9, -999.00,9,  -999.0,      26,    25.6907, -999.00,9,     -999.0
33KI20111103,       PRS2,       2,         16,         14,       8014,2,20111106,       2256,  22.704667,-157.9875000,       4723,    25.6,  25.6959,  35.1960,2,-999.0000,5,    204.0,1,  -999.0,9, -999.00,9, -999.00,9,  -999.0,      25,    25.6903, -999.00,9,     -999.0
33KI20111103,       PRS2,       2,         16,         13,       8025,2,20111106,       2256,  22.704667,-157.9875000,       4723,    25.5,  25.6955,  35.1956,2,-999.0000,5,    203.9,1,  -999.0,9, -999.00,9, -999.00,9,  -999.0,      26,    25.6899, -999.00,9,     -999.0
33KI20111103,       PRS2,       2,         16,         12,       8012,2,20111106,       2256,  22.704667,-157.9875000,       4723,    25.7,  25.6950,  35.1958,2,-999.0000,5,    203.9,1,  -999.0,9, -999.00,9, -999.00,9,  -999.0,      26,    25.6893, -999.00,9,     -999.0
33KI20111103,       PRS2,       2,         16,         11,       8011,2,20111106,       2256,  22.704667,-157.9875000,       4723,    25.4,  25.6944,  35.1954,2,-999.0000,5,    203.8,1,  -999.0,9, -999.00,9, -999.00,9,  -999.0,      25,    25.6887, -999.00,9,     -999.0
33KI20111103,       PRS2,       2,         16,         10,       8010,2,20111106,       2256,  22.704667,-157.9875000,       4723,    25.4,  25.6944,  35.1953,2,-999.0000,5,    203.9,1,  -999.0,9, -999.00,9, -999.00,9,  -999.0,      25,    25.6887, -999.00,9,     -999.0
33KI20111103,       PRS2,       2,         16,          9,       8009,2,20111106,       2256,  22.704667,-157.9875000,       4723,    25.5,  25.6945,  35.1952,2,-999.0000,5,    204.0,1,  -999.0,9, -999.00,9, -999.00,9,  -999.0,      26,    25.6889, -999.00,9,     -999.0
33KI20111103,       PRS2,       2,         16,          8,       8008,2,20111106,       2256,  22.704667,-157.9875000,       4723,    25.5,  25.6944,  35.1952,2,-999.0000,5,    204.2,1,  -999.0,9, -999.00,9, -999.00,9,  -999.0,      26,    25.6888, -999.00,9,     -999.0
33KI20111103,       PRS2,       2,         16,          7,       8026,2,20111106,       2256,  22.704667,-157.9875000,       4723,    25.6,  25.6944,  35.1949,2,-999.0000,5,    204.2,1,  -999.0,9, -999.00,9, -999.00,9,  -999.0,      25,    25.6888, -999.00,9,     -999.0
33KI20111103,       PRS2,       2,         16,          6,       8006,2,20111106,       2256,  22.704667,-157.9875000,       4723,    25.6,  25.6950,  35.1949,2,-999.0000,5,    204.3,1,  -999.0,9, -999.00,9, -999.00,9,  -999.0,      26,    25.6893, -999.00,9,     -999.0
33KI20111103,       PRS2,       2,         16,          5,       8005,2,20111106,       2256,  22.704667,-157.9875000,       4723,    40.3,  25.6945,  35.1955,2,-999.0000,5,    204.9,1,  -999.0,9, -999.00,9, -999.00,9,  -999.0,      40,    25.6856, -999.00,9,     -999.0
33KI20111103,       PRS2,       2,         16,          4,       8004,2,20111106,       2256,  22.704667,-157.9875000,       4723,   501.1,   7.5896,  34.0569,2,-999.0000,5,    121.6,1,  -999.0,9, -999.00,9, -999.00,9,  -999.0,     502,     7.5402, -999.00,9,     -999.0
33KI20111103,       PRS2,       2,         16,          3,       8003,2,20111106,       2256,  22.704667,-157.9875000,       4723,   545.5,   6.5396,  34.0443,2,  34.0427,2,     89.4,1,  -999.0,9, -999.00,9, -999.00,9,  -999.0,     545,     6.4899, -999.00,9,     -999.0
33KI20111103,       PRS2,       2,         16,          2,       8002,2,20111106,       2256,  22.704667,-157.9875000,       4723,   770.3,   4.5428,  34.2935,2,-999.0000,5,     25.9,1,  -999.0,9, -999.00,9, -999.00,9,  -999.0,     771,     4.4828, -999.00,9,     -999.0
33KI20111103,       PRS2,       2,         16,          1,       8001,2,20111106,       2256,  22.704667,-157.9875000,       4723,  1020.0,   3.7758,  34.4823,2,  34.4946,4,     45.2,1,  -999.0,9, -999.00,9, -999.00,9,  -999.0,    1019,     3.7003, -999.00,9,     -999.0
33KI20111103,       PRS2,       6,          1,         13,       8025,2,20111107,       0652,  21.846667,-158.3658333,       2474,     5.2,  26.4918,  35.1422,2,  35.1433,2,    200.9,1,  -999.0,9, -999.00,9, -999.00,9,  -999.0,       5,    26.4906, -999.00,9,     -999.0
33KI20111103,       PRS2,       6,          1,         12,       8012,2,20111107,       0652,  21.846667,-158.3658333,       2474,    25.3,  26.4949,  35.1415,2,  35.1447,2,    200.9,1,  -999.0,9, -999.00,9, -999.00,9,  -999.0,      25,    26.4892, -999.00,9,     -999.0
33KI20111103,       PRS2,       6,          1,         11,       8011,2,20111107,       0652,  21.846667,-158.3658333,       2474,    45.0,  25.8272,  35.2655,2,  35.2694,2,    205.8,1,  -999.0,9, -999.00,9, -999.00,9,  -999.0,      44,    25.8172, -999.00,9,     -999.0
33KI20111103,       PRS2,       6,          1,         10,       8010,2,20111107,       0652,  21.846667,-158.3658333,       2474,    75.3,  23.6826,  35.2711,2,  35.2702,2,    207.0,1,  -999.0,9, -999.00,9, -999.00,9,  -999.0,      75,    23.6669, -999.00,9,     -999.0
33KI20111103,       PRS2,       6,          1,          9,       8009,2,20111107,       0652,  21.846667,-158.3658333,       2474,    99.0,  22.3174,  35.2679,2,  35.2684,2,    206.6,1,  -999.0,9, -999.00,9, -999.00,9,  -999.0,     100,    22.2976, -999.00,9,     -999.0
33KI20111103,       PRS2,       6,          1,          8,       8008,2,20111107,       0652,  21.846667,-158.3658333,       2474,   125.0,  21.2520,  35.2259,2,  35.2251,2,    203.3,1,  -999.0,9, -999.00,9, -999.00,9,  -999.0,     125,    21.2278, -999.00,9,     -999.0
33KI20111103,       PRS2,       6,          1,          7,       8026,2,20111107,       0652,  21.846667,-158.3658333,       2474,   150.2,  19.8324,  35.0829,2,  35.0839,2,    199.1,1,  -999.0,9, -999.00,9, -999.00,9,  -999.0,     150,    19.8048, -999.00,9,     -999.0
33KI20111103,       PRS2,       6,          1,          6,       8006,2,20111107,       0652,  21.846667,-158.3658333,       2474,   176.6,  17.9900,  34.8688,2,  34.8782,2,    198.2,1,  -999.0,9, -999.00,9, -999.00,9,  -999.0,     177,    17.9597, -999.00,9,     -999.0
33KI20111103,       PRS2,       6,          1,          5,       8005,2,20111107,       0652,  21.846667,-158.3658333,       2474,   501.6,   6.7657,  34.0414,2,  34.0425,2,     99.7,1,  -999.0,9, -999.00,9, -999.00,9,  -999.0,     502,     6.7193, -999.00,9,     -999.0
33KI20111103,       PRS2,       6,          1,          4,       8004,2,20111107,       0652,  21.846667,-158.3658333,       2474,   999.8,   3.8525,  34.4766,2,  34.4763,2,     48.6,1,  -999.0,9, -999.00,9, -999.00,9,  -999.0,    1000,     3.7781, -999.00,9,     -999.0
33KI20111103,       PRS2,       6,          1,          3,       8003,2,20111107,       0652,  21.846667,-158.3658333,       2474,  1500.7,   2.8782,  34.5684,2,  34.5682,2,     68.4,1,  -999.0,9, -999.00,9, -999.00,9,  -999.0,    1501,     2.7717, -999.00,9,     -999.0
33KI20111103,       PRS2,       6,          1,          2,       8002,2,20111107,       0652,  21.846667,-158.3658333,       2474,  1998.6,   2.2065,  34.6111,2,  34.6115,2,     88.3,1,  -999.0,9, -999.00,9, -999.00,9,  -999.0,    1999,     2.0671, -999.00,9,     -999.0
33KI20111103,       PRS2,       6,          1,          1,       8001,2,20111107,       0652,  21.846667,-158.3658333,       2474,  2491.7,   1.7690,  34.6451,2,  34.6453,2,    109.4,1,  -999.0,9, -999.00,9, -999.00,9,  -999.0,    2492,     1.5938, -999.00,9,     -999.0
33KI20111103,       PRS2,      52,          1,         20,       8020,2,20111106,       2039,  22.687500,-157.9785000,       4720,     4.8,  25.7375,  35.2169,2,-999.0000,9,    204.2,1,  -999.0,9, -999.00,9, -999.00,9,  -999.0,       5,    25.7365, -999.00,9,     -999.0
33KI20111103,       PRS2,      52,          1,         19,       8019,2,20111106,       2039,  22.687500,-157.9785000,       4720,    25.0,  25.7341,  35.2175,2,-999.0000,9,    204.4,1,  -999.0,9, -999.00,9, -999.00,9,  -999.0,      25,    25.7286, -999.00,9,     -999.0
33KI20111103,       PRS2,      52,          1,         18,       8018,2,20111106,       2039,  22.687500,-157.9785000,       4720,    25.0,  25.7341,  35.2174,2,-999.0000,9,    204.5,1,  -999.0,9, -999.00,9, -999.00,9,  -999.0,      24,    25.7286, -999.00,9,     -999.0
33KI20111103,       PRS2,      52,          1,         17,       8017,2,20111106,       2039,  22.687500,-157.9785000,       4720,    25.0,  25.7345,  35.2172,2,-999.0000,9,    204.6,1,  -999.0,9, -999.00,9, -999.00,9,  -999.0,      25,    25.7290, -999.00,9,     -999.0
33KI20111103,       PRS2,      52,          1,         16,       8016,2,20111106,       2039,  22.687500,-157.9785000,       4720,    25.0,  25.7341,  35.2168,2,-999.0000,9,    204.5,1,  -999.0,9, -999.00,9, -999.00,9,  -999.0,      25,    25.7286, -999.00,9,     -999.0
33KI20111103,       PRS2,      52,          1,         15,       8015,2,20111106,       2039,  22.687500,-157.9785000,       4720,    25.0,  25.7329,  35.2165,2,-999.0000,9,    204.5,1,  -999.0,9, -999.00,9, -999.00,9,  -999.0,      25,    25.7274, -999.00,9,     -999.0
33KI20111103,       PRS2,      52,          1,         14,       8014,2,20111106,       2039,  22.687500,-157.9785000,       4720,    25.0,  25.7328,  35.2163,2,-999.0000,9,    204.6,1,  -999.0,9, -999.00,9, -999.00,9,  -999.0,      25,    25.7273, -999.00,9,     -999.0
33KI20111103,       PRS2,      52,          1,         13,       8025,2,20111106,       2039,  22.687500,-157.9785000,       4720,    25.1,  25.7324,  35.2160,2,-999.0000,9,    204.5,1,  -999.0,9, -999.00,9, -999.00,9,  -999.0,      25,    25.7269, -999.00,9,     -999.0
33KI20111103,       PRS2,      52,          1,         12,       8012,2,20111106,       2039,  22.687500,-157.9785000,       4720,    25.0,  25.7324,  35.2161,2,-999.0000,9,    204.6,1,  -999.0,9, -999.00,9, -999.00,9,  -999.0,      24,    25.7269, -999.00,9,     -999.0
33KI20111103,       PRS2,      52,          1,         11,       8011,2,20111106,       2039,  22.687500,-157.9785000,       4720,    25.0,  25.7330,  35.2161,2,-999.0000,9,    204.5,1,  -999.0,9, -999.00,9, -999.00,9,  -999.0,      25,    25.7274, -999.00,9,     -999.0
33KI20111103,       PRS2,      52,          1,         10,       8010,2,20111106,       2039,  22.687500,-157.9785000,       4720,    25.0,  25.7331,  35.2164,2,-999.0000,9,    204.5,1,  -999.0,9, -999.00,9, -999.00,9,  -999.0,      25,    25.7276, -999.00,9,     -999.0
33KI20111103,       PRS2,      52,          1,          9,       8009,2,20111106,       2039,  22.687500,-157.9785000,       4720,    45.2,  25.7371,  35.2194,2,-999.0000,9,    204.4,1,  -999.0,9, -999.00,9, -999.00,9,  -999.0,      45,    25.7271, -999.00,9,     -999.0
33KI20111103,       PRS2,      52,          1,          8,       8008,2,20111106,       2039,  22.687500,-157.9785000,       4720,    74.4,  25.1378,  35.3805,2,-999.0000,9,    209.1,1,  -999.0,9, -999.00,9, -999.00,9,  -999.0,      75,    25.1216, -999.00,9,     -999.0
33KI20111103,       PRS2,      52,          1,          7,       8026,2,20111106,       2039,  22.687500,-157.9785000,       4720,    90.0,  24.0029,  35.2808,2,-999.0000,9,    211.8,1,  -999.0,9, -999.00,9, -999.00,9,  -999.0,      89,    23.9839, -999.00,9,     -999.0
33KI20111103,       PRS2,      52,          1,          6,       8006,2,20111106,       2039,  22.687500,-157.9785000,       4720,    94.8,  23.7860,  35.2811,2,-999.0000,9,    212.7,1,  -999.0,9, -999.00,9, -999.00,9,  -999.0,      94,    23.7662, -999.00,9,     -999.0
33KI20111103,       PRS2,      52,          1,          5,       8005,2,20111106,       2039,  22.687500,-157.9785000,       4720,    99.7,  23.1695,  35.2859,2,-999.0000,9,    210.4,1,  -999.0,9, -999.00,9, -999.00,9,  -999.0,      98,    23.1490, -999.00,9,     -999.0
33KI20111103,       PRS2,      52,          1,          4,       8004,2,20111106,       2039,  22.687500,-157.9785000,       4720,    99.6,  23.1701,  35.2873,2,-999.0000,9,    210.4,1,  -999.0,9, -999.00,9, -999.00,9,  -999.0,     100,    23.1497, -999.00,9,     -999.0
33KI20111103,       PRS2,      52,          1,          3,       8003,2,20111106,       2039,  22.687500,-157.9785000,       4720,   124.8,  21.3527,  35.2881,2,-999.0000,9,    201.8,1,  -999.0,9, -999.00,9, -999.00,9,  -999.0,     125,    21.3285, -999.00,9,     -999.0
33KI20111103,       PRS2,      52,          1,          2,       8002,2,20111106,       2039,  22.687500,-157.9785000,       4720,   149.9,  20.0690,  35.1463,2,-999.0000,9,    195.3,1,  -999.0,9, -999.00,9, -999.00,9,  -999.0,     150,    20.0412, -999.00,9,     -999.0
33KI20111103,       PRS2,      52,          1,          1,       8001,2,20111106,       2039,  22.687500,-157.9785000,       4720,   175.4,  18.3488,  34.9141,2,-999.0000,9,    193.5,1,  -999.0,9, -999.00,9, -999.00,9,  -999.0,     176,    18.3183, -999.00,9,     -999.0