BOTTLE,20141031SIOCCHAMB
EXPOCODE,SECT_ID,STNNBR,CASTNO,SAMPNO,BTLNBR,BTLNBR_FLAG_W,DATE,TIME,LATITUDE,LONGITUDE,DEPTH,CTDPRS,CTDTMP,CTDSAL,CTDSAL_FLAG_W,SALNTY,SALNTY_FLAG_W,CTDOXY,CTDOXY_FLAG_W,OXYGEN,OXYGEN_FLAG_W,SILCAT,SILCAT_FLAG_W,PHSPHT,PHSPHT_FLAG_W,REVPRS,CTDRAW,THETA,NO2+NO3,NO2+NO3_FLAG_W,REVTMP
,,,,,,,,,,,METERS,DBAR,ITS-90,PSS-78,,PSS-78,,UMOL/KG,,UMOL/KG,,UMOL/KG,,UMOL/KG,,DBAR,DBAR,ITS-90,UMOL/KG,,DEG C
33KB20100707,       PRS2,       2,          9,         24,       8024,2,20100709,       1030,  22.804667,-157.9370000,       4696,     5.8,  25.7923,  35.2082,2,  35.2073,2,    207.9,1,  -999.0,9, -999.00,9, -999.00,9,  -999.0,       6,    25.7910, -999.00,9,     -999.0
33KB20100707,       PRS2,       2,          9,         23,       8023,2,20100709,       1030,  22.804667,-157.9370000,       4696,    26.6,  25.4572,  35.4199,2,  35.3906,3,    208.2,1,  -999.0,9, -999.00,9, -999.00,9,  -999.0,      27,    25.4513, -999.00,9,     -999.0
33KB20100707,       PRS2,       2,          9,         22,       8022,2,20100709,       1030,  22.804667,-157.9370000,       4696,    45.3,  25.1914,  35.4949,2,  35.4949,2,    209.7,1,  -999.0,9, -999.00,9, -999.00,9,  -999.0,      46,    25.1815, -999.00,9,     -999.0
33KB20100707,       PRS2,       2,          9,         21,       8021,2,20100709,       1030,  22.804667,-157.9370000,       4696,    75.1,  21.9371,  35.4154,2,  35.4135,2,    225.8,1,  -999.0,9, -999.00,9, -999.00,9,  -999.0,      76,    21.9223, -999.00,9,     -999.0
33KB20100707,       PRS2,       2,          9,         20,       8020,2,20100709,       1030,  22.804667,-157.9370000,       4696,   100.3,  21.0075,  35.4096,2,  35.4085,2,    220.7,1,  -999.0,9, -999.00,9, -999.00,9,  -999.0,     100,    20.9883, -999.00,9,     -999.0
33KB20100707,       PRS2,       2,          9,         19,       8019,2,20100709,       1030,  22.804667,-157.9370000,       4696,   125.1,  20.1323,  35.2970,2,  35.3013,2,    211.6,1,  -999.0,9, -999.00,9, -999.00,9,  -999.0,     126,    20.1090, -999.00,9,     -999.0
33KB20100707,       PRS2,       2,          9,         18,       8018,2,20100709,       1030,  22.804667,-157.9370000,       4696,   150.5,  19.2128,  35.1453,2,  35.1494,2,    207.0,1,  -999.0,9, -999.00,9, -999.00,9,  -999.0,     151,    19.1858, -999.00,9,     -999.0
33KB20100707,       PRS2,       2,          9,         17,       8017,2,20100709,       1030,  22.804667,-157.9370000,       4696,   175.6,  18.6197,  35.0650,2,  35.0711,2,    210.0,1,  -999.0,9, -999.00,9, -999.00,9,  -999.0,     176,    18.5888, -999.00,9,     -999.0
33KB20100707,       PRS2,       2,          9,         16,       8016,2,20100709,       1030,  22.804667,-157.9370000,       4696,   450.3,   8.3020,  34.0660,2,  34.0666,2,    158.7,1,  -999.0,9, -999.00,9, -999.00,9,  -999.0,     450,     8.2553, -999.00,9,     -999.0
33KB20100707,       PRS2,       2,          9,         15,       8015,2,20100709,       1030,  22.804667,-157.9370000,       4696,   499.5,   7.4093,  34.0884,2,-999.0000,5,    103.5,1,  -999.0,9, -999.00,9, -999.00,9,  -999.0,     500,     7.3607, -999.00,9,     -999.0
33KB20100707,       PRS2,       2,          9,         14,       8014,2,20100709,       1030,  22.804667,-157.9370000,       4696,   499.5,   7.4056,  34.0888,2,-999.0000,5,    103.3,1,  -999.0,9, -999.00,9, -999.00,9,  -999.0,     500,     7.3570, -999.00,9,     -999.0
33KB20100707,       PRS2,       2,          9,         13,       8025,2,20100709,       1030,  22.804667,-157.9370000,       4696,   499.7,   7.4066,  34.0883,2,-999.0000,5,    103.2,1,  -999.0,9, -999.00,9, -999.00,9,  -999.0,     500,     7.3579, -999.00,9,     -999.0
33KB20100707,       PRS2,       2,          9,         12,       8012,2,20100709,       1030,  22.804667,-157.9370000,       4696,   499.4,   7.4068,  34.0883,2,-999.0000,5,    103.1,1,  -999.0,9, -999.00,9, -999.00,9,  -999.0,     499,     7.3582, -999.00,9,     -999.0
33KB20100707,       PRS2,       2,          9,         11,       8011,2,20100709,       1030,  22.804667,-157.9370000,       4696,   499.6,   7.4054,  34.0884,2,-999.0000,5,    103.0,1,  -999.0,9, -999.00,9, -999.00,9,  -999.0,     499,     7.3568, -999.00,9,     -999.0
33KB20100707,       PRS2,       2,          9,         10,       8010,2,20100709,       1030,  22.804667,-157.9370000,       4696,   770.3,   4.9384,  34.3371,2,-999.0000,5,     34.1,1,  -999.0,9, -999.00,9, -999.00,9,  -999.0,     770,     4.8761, -999.00,9,     -999.0
33KB20100707,       PRS2,       2,          9,          9,       8009,2,20100709,       1030,  22.804667,-157.9370000,       4696,   770.3,   4.9371,  34.3376,2,-999.0000,5,     34.1,1,  -999.0,9, -999.00,9, -999.00,9,  -999.0,     770,     4.8747, -999.00,9,     -999.0
33KB20100707,       PRS2,       2,          9,          8,       8008,2,20100709,       1030,  22.804667,-157.9370000,       4696,   770.2,   4.9354,  34.3379,2,-999.0000,5,     34.1,1,  -999.0,9, -999.00,9, -999.00,9,  -999.0,     770,     4.8731, -999.00,9,     -999.0
33KB20100707,       PRS2,       2,          9,          7,       8026,2,20100709,       1030,  22.804667,-157.9370000,       4696,   770.2,   4.9315,  34.3383,2,-999.0000,5,     34.2,1,  -999.0,9, -999.00,9, -999.00,9,  -999.0,     770,     4.8692, -999.00,9,     -999.0
33KB20100707,       PRS2,       2,          9,          6,       8006,2,20100709,       1030,  22.804667,-157.9370000,       4696,   770.2,   4.9266,  34.3392,2,-999.0000,5,     34.2,1,  -999.0,9, -999.00,9, -999.00,9,  -999.0,     771,     4.8644, -999.00,9,     -999.0
33KB20100707,       PRS2,       2,          9,          5,       8005,2,20100709,       1030,  22.804667,-157.9370000,       4696,  1019.2,   3.9950,  34.4847,2,-999.0000,5,     46.7,1,  -999.0,9, -999.00,9, -999.00,9,  -999.0,    1020,     3.9178, -999.00,9,     -999.0
33KB20100707,       PRS2,       2,          9,          4,       8004,2,20100709,       1030,  22.804667,-157.9370000,       4696,  1019.3,   3.9950,  34.4847,2,-999.0000,5,     46.7,1,  -999.0,9, -999.00,9, -999.00,9,  -999.0,    1019,     3.9178, -999.00,9,     -999.0
33KB20100707,       PRS2,       2,          9,          3,       8003,2,20100709,       1030,  22.804667,-157.9370000,       4696,  1019.3,   3.9949,  34.4846,2,-999.0000,5,     46.7,1,  -999.0,9, -999.00,9, -999.00,9,  -999.0,    1018,     3.9177, -999.00,9,     -999.0
33KB20100707,       PRS2,       2,          9,          2,       8002,2,20100709,       1030,  22.804667,-157.9370000,       4696,  1019.3,   3.9946,  34.4847,2,-999.0000,5,     46.7,1,  -999.0,9, -999.00,9, -999.00,9,  -999.0,    1019,     3.9174, -999.00,9,     -999.0
33KB20100707,       PRS2,       2,          9,          1,       8001,2,20100709,       1030,  22.804667,-157.9370000,       4696,  1019.5,   3.9945,  34.4847,2,  34.4856,2,     46.7,1,  -999.0,9, -999.00,9, -999.00,9,  -999.0,    1019,     3.9173, -999.00,9,     -999.0
33KB20100707,       PRS2,       2,         10,         14,       8014,2,20100709,       1233,  22.804167,-157.9373333,       4698,     5.0,  25.7695,  35.2154,2,  35.2148,2,    207.7,1,  -999.0,9, -999.00,9, -999.00,9,  -999.0,       5,    25.7684, -999.00,9,     -999.0
33KB20100707,       PRS2,       2,         10,         13,       8025,2,20100709,       1233,  22.804167,-157.9373333,       4698,     5.0,  25.7683,  35.2151,2,-999.0000,5,    207.7,1,  -999.0,9, -999.00,9, -999.00,9,  -999.0,       5,    25.7672, -999.00,9,     -999.0
33KB20100707,       PRS2,       2,         10,         12,       8012,2,20100709,       1233,  22.804167,-157.9373333,       4698,    24.5,  25.5109,  35.3966,2,-999.0000,5,    208.2,1,  -999.0,9, -999.00,9, -999.00,9,  -999.0,      23,    25.5055, -999.00,9,     -999.0
33KB20100707,       PRS2,       2,         10,         11,       8011,2,20100709,       1233,  22.804167,-157.9373333,       4698,    24.1,  25.5311,  35.3855,2,-999.0000,5,    208.3,1,  -999.0,9, -999.00,9, -999.00,9,  -999.0,      25,    25.5258, -999.00,9,     -999.0
33KB20100707,       PRS2,       2,         10,         10,       8010,2,20100709,       1233,  22.804167,-157.9373333,       4698,    45.7,  25.2240,  35.4903,2,-999.0000,5,    209.2,1,  -999.0,9, -999.00,9, -999.00,9,  -999.0,      46,    25.2140, -999.00,9,     -999.0
33KB20100707,       PRS2,       2,         10,          9,       8009,2,20100709,       1233,  22.804167,-157.9373333,       4698,    45.8,  25.2232,  35.4902,2,-999.0000,5,    209.2,1,  -999.0,9, -999.00,9, -999.00,9,  -999.0,      46,    25.2132, -999.00,9,     -999.0
33KB20100707,       PRS2,       2,         10,          8,       8008,2,20100709,       1233,  22.804167,-157.9373333,       4698,    74.6,  22.2518,  35.4020,2,-999.0000,5,    227.7,1,  -999.0,9, -999.00,9, -999.00,9,  -999.0,      75,    22.2369, -999.00,9,     -999.0
33KB20100707,       PRS2,       2,         10,          7,       8026,2,20100709,       1233,  22.804167,-157.9373333,       4698,    74.5,  22.2417,  35.4034,2,-999.0000,5,    227.7,1,  -999.0,9, -999.00,9, -999.00,9,  -999.0,      75,    22.2268, -999.00,9,     -999.0
33KB20100707,       PRS2,       2,         10,          6,       8006,2,20100709,       1233,  22.804167,-157.9373333,       4698,   100.3,  20.9962,  35.4073,2,-999.0000,5,    222.6,1,  -999.0,9, -999.00,9, -999.00,9,  -999.0,     101,    20.9770, -999.00,9,     -999.0
33KB20100707,       PRS2,       2,         10,          5,       8005,2,20100709,       1233,  22.804167,-157.9373333,       4698,   100.3,  21.0030,  35.4058,2,-999.0000,5,    222.4,1,  -999.0,9, -999.00,9, -999.00,9,  -999.0,     101,    20.9838, -999.00,9,     -999.0
33KB20100707,       PRS2,       2,         10,          4,       8004,2,20100709,       1233,  22.804167,-157.9373333,       4698,   125.1,  20.0929,  35.2948,2,-999.0000,5,    216.7,1,  -999.0,9, -999.00,9, -999.00,9,  -999.0,     125,    20.0697, -999.00,9,     -999.0
33KB20100707,       PRS2,       2,         10,          3,       8003,2,20100709,       1233,  22.804167,-157.9373333,       4698,   124.9,  20.0903,  35.2945,2,-999.0000,5,    216.8,1,  -999.0,9, -999.00,9, -999.00,9,  -999.0,     124,    20.0671, -999.00,9,     -999.0
33KB20100707,       PRS2,       2,         10,          2,       8002,2,20100709,       1233,  22.804167,-157.9373333,       4698,   520.5,   7.0330,  34.0732,2,  34.0789,2,    109.3,1,  -999.0,9, -999.00,9, -999.00,9,  -999.0,     520,     6.9837, -999.00,9,     -999.0
33KB20100707,       PRS2,       2,         10,          1,       8001,2,20100709,       1233,  22.804167,-157.9373333,       4698,  1019.9,   4.0185,  34.4781,2,  34.4783,2,     46.6,1,  -999.0,9, -999.00,9, -999.00,9,  -999.0,    1020,     3.9410, -999.00,9,     -999.0
33KB20100707,       PRS2,       2,         11,         24,       8024,2,20100709,       1459,  22.749333,-157.9623333,       4730,   125.6,  20.6272,  35.3678,2,-999.0000,5,    218.8,1,  -999.0,9, -999.00,9, -999.00,9,  -999.0,     126,    20.6035, -999.00,9,     -999.0
33KB20100707,       PRS2,       2,         11,         23,       8023,2,20100709,       1459,  22.749333,-157.9623333,       4730,   125.6,  20.6274,  35.3677,2,-999.0000,5,    218.6,1,  -999.0,9, -999.00,9, -999.00,9,  -999.0,     125,    20.6036, -999.00,9,     -999.0
33KB20100707,       PRS2,       2,         11,         22,       8022,2,20100709,       1459,  22.749333,-157.9623333,       4730,   125.5,  20.6309,  35.3688,2,-999.0000,5,    218.3,1,  -999.0,9, -999.00,9, -999.00,9,  -999.0,     125,    20.6072, -999.00,9,     -999.0
33KB20100707,       PRS2,       2,         11,         21,       8021,2,20100709,       1459,  22.749333,-157.9623333,       4730,   125.4,  20.6328,  35.3686,2,-999.0000,5,    218.0,1,  -999.0,9, -999.00,9, -999.00,9,  -999.0,     126,    20.6091, -999.00,9,     -999.0
33KB20100707,       PRS2,       2,         11,         20,       8020,2,20100709,       1459,  22.749333,-157.9623333,       4730,   125.5,  20.6329,  35.3688,2,-999.0000,5,    217.8,1,  -999.0,9, -999.00,9, -999.00,9,  -999.0,     125,    20.6092, -999.00,9,     -999.0
33KB20100707,       PRS2,       2,         11,         19,       8019,2,20100709,       1459,  22.749333,-157.9623333,       4730,   200.4,  17.4743,  34.8603,2,-999.0000,5,    204.9,1,  -999.0,9, -999.00,9, -999.00,9,  -999.0,     200,    17.4406, -999.00,9,     -999.0
33KB20100707,       PRS2,       2,         11,         18,       8018,2,20100709,       1459,  22.749333,-157.9623333,       4730,   200.3,  17.4879,  34.8614,2,-999.0000,5,    204.6,1,  -999.0,9, -999.00,9, -999.00,9,  -999.0,     199,    17.4542, -999.00,9,     -999.0
33KB20100707,       PRS2,       2,         11,         17,       8017,2,20100709,       1459,  22.749333,-157.9623333,       4730,   200.5,  17.4728,  34.8573,2,-999.0000,5,    204.4,1,  -999.0,9, -999.00,9, -999.00,9,  -999.0,     202,    17.4391, -999.00,9,     -999.0
33KB20100707,       PRS2,       2,         11,         16,       8016,2,20100709,       1459,  22.749333,-157.9623333,       4730,   200.4,  17.4727,  34.8561,2,-999.0000,5,    204.2,1,  -999.0,9, -999.00,9, -999.00,9,  -999.0,     201,    17.4390, -999.00,9,     -999.0
33KB20100707,       PRS2,       2,         11,         15,       8015,2,20100709,       1459,  22.749333,-157.9623333,       4730,   200.6,  17.4761,  34.8595,2,-999.0000,5,    204.1,1,  -999.0,9, -999.00,9, -999.00,9,  -999.0,     200,    17.4424, -999.00,9,     -999.0
33KB20100707,       PRS2,       2,         11,         14,       8014,2,20100709,       1459,  22.749333,-157.9623333,       4730,   456.3,   8.4763,  34.0825,2,  34.0850,2,    145.8,1,  -999.0,9, -999.00,9, -999.00,9,  -999.0,     456,     8.4284, -999.00,9,     -999.0
33KB20100707,       PRS2,       2,         11,         13,       8025,2,20100709,       1459,  22.749333,-157.9623333,       4730,  1020.4,   3.9923,  34.4880,2,-999.0000,5,     46.9,1,  -999.0,9, -999.00,9, -999.00,9,  -999.0,    1020,     3.9151, -999.00,9,     -999.0
33KB20100707,       PRS2,       2,         11,         12,       8012,2,20100709,       1459,  22.749333,-157.9623333,       4730,  1020.4,   3.9934,  34.4878,2,-999.0000,5,     46.9,1,  -999.0,9, -999.00,9, -999.00,9,  -999.0,    1021,     3.9161, -999.00,9,     -999.0
33KB20100707,       PRS2,       2,         11,         11,       8011,2,20100709,       1459,  22.749333,-157.9623333,       4730,  1020.6,   3.9931,  34.4881,2,-999.0000,5,     46.9,1,  -999.0,9, -999.00,9, -999.00,9,  -999.0,    1020,     3.9158, -999.00,9,     -999.0
33KB20100707,       PRS2,       2,         11,         10,       8010,2,20100709,       1459,  22.749333,-157.9623333,       4730,  1020.3,   3.9943,  34.4879,2,-999.0000,5,     46.9,1,  -999.0,9, -999.00,9, -999.00,9,  -999.0,    1021,     3.9170, -999.00,9,     -999.0
33KB20100707,       PRS2,       2,         11,          9,       8009,2,20100709,       1459,  22.749333,-157.9623333,       4730,  1020.3,   3.9945,  34.4881,2,-999.0000,5,     46.9,1,  -999.0,9, -999.00,9, -999.00,9,  -999.0,    1020,     3.9172, -999.00,9,     -999.0
33KB20100707,       PRS2,       2,         11,          8,       8008,2,20100709,       1459,  22.749333,-157.9623333,       4730,  1020.3,   3.9948,  34.4880,2,-999.0000,5,     46.9,1,  -999.0,9, -999.00,9, -999.00,9,  -999.0,    1020,     3.9175, -999.00,9,     -999.0
33KB20100707,       PRS2,       2,         11,          7,       8026,2,20100709,       1459,  22.749333,-157.9623333,       4730,  1020.3,   3.9952,  34.4879,2,-999.0000,5,     46.9,1,  -999.0,9, -999.00,9, -999.00,9,  -999.0,    1020,     3.9180, -999.00,9,     -999.0
33KB20100707,       PRS2,       2,         11,          6,       8006,2,20100709,       1459,  22.749333,-157.9623333,       4730,  1020.4,   3.9959,  34.4882,2,-999.0000,5,     46.9,1,  -999.0,9, -999.00,9, -999.00,9,  -999.0,    1020,     3.9186, -999.00,9,     -999.0
33KB20100707,       PRS2,       2,         11,          5,       8005,2,20100709,       1459,  22.749333,-157.9623333,       4730,  1020.4,   3.9958,  34.4881,2,-999.0000,5,     46.9,1,  -999.0,9, -999.00,9, -999.00,9,  -999.0,    1020,     3.9185, -999.00,9,     -999.0
33KB20100707,       PRS2,       2,         11,          4,       8004,2,20100709,       1459,  22.749333,-157.9623333,       4730,  1020.2,   3.9959,  34.4881,2,-999.0000,5,     46.9,1,  -999.0,9, -999.00,9, -999.00,9,  -999.0,    1020,     3.9186, -999.00,9,     -999.0
33KB20100707,       PRS2,       2,         11,          3,       8003,2,20100709,       1459,  22.749333,-157.9623333,       4730,  1020.1,   3.9960,  34.4881,2,-999.0000,5,     46.9,1,  -999.0,9, -999.00,9, -999.00,9,  -999.0,    1019,     3.9187, -999.00,9,     -999.0
33KB20100707,       PRS2,       2,         11,          2,       8002,2,20100709,       1459,  22.749333,-157.9623333,       4730,  1020.2,   3.9954,  34.4882,2,-999.0000,5,     46.9,1,  -999.0,9, -999.00,9, -999.00,9,  -999.0,    1020,     3.9181, -999.00,9,     -999.0
33KB20100707,       PRS2,       2,         11,          1,       8001,2,20100709,       1459,  22.749333,-157.9623333,       4730,  1020.2,   3.9952,  34.4881,2,  34.4858,2,     46.9,1,  -999.0,9, -999.00,9, -999.00,9,  -999.0,    1020,     3.9180, -999.00,9,     -999.0