BOTTLE,20141031SIOCCHAMB
EXPOCODE,SECT_ID,STNNBR,CASTNO,SAMPNO,BTLNBR,BTLNBR_FLAG_W,DATE,TIME,LATITUDE,LONGITUDE,DEPTH,CTDPRS,CTDTMP,CTDSAL,CTDSAL_FLAG_W,SALNTY,SALNTY_FLAG_W,CTDOXY,CTDOXY_FLAG_W,OXYGEN,OXYGEN_FLAG_W,SILCAT,SILCAT_FLAG_W,PHSPHT,PHSPHT_FLAG_W,REVPRS,CTDRAW,THETA,NO2+NO3,NO2+NO3_FLAG_W,REVTMP
,,,,,,,,,,,METERS,DBAR,ITS-90,PSS-78,,PSS-78,,UMOL/KG,,UMOL/KG,,UMOL/KG,,UMOL/KG,,DBAR,DBAR,ITS-90,UMOL/KG,,DEG C
33KB20100707,       PRS2,       2,         18,         22,       8022,2,20100711,       0037,  22.697500,-157.9196667,       4743,    25.6,  25.7793,  35.1474,2,-999.0000,9,    207.8,1,  -999.0,9, -999.00,9, -999.00,9,  -999.0,      25,    25.7737, -999.00,9,     -999.0
33KB20100707,       PRS2,       2,         18,         21,       8021,2,20100711,       0037,  22.697500,-157.9196667,       4743,    25.8,  25.7792,  35.1472,2,-999.0000,9,    207.9,1,  -999.0,9, -999.00,9, -999.00,9,  -999.0,      26,    25.7734, -999.00,9,     -999.0
33KB20100707,       PRS2,       2,         18,         20,       8020,2,20100711,       0037,  22.697500,-157.9196667,       4743,    25.7,  25.7793,  35.1472,2,-999.0000,9,    207.8,1,  -999.0,9, -999.00,9, -999.00,9,  -999.0,      26,    25.7736, -999.00,9,     -999.0
33KB20100707,       PRS2,       2,         18,         19,       8019,2,20100711,       0037,  22.697500,-157.9196667,       4743,    25.8,  25.7804,  35.1466,2,-999.0000,9,    207.7,1,  -999.0,9, -999.00,9, -999.00,9,  -999.0,      25,    25.7747, -999.00,9,     -999.0
33KB20100707,       PRS2,       2,         18,         18,       8018,2,20100711,       0037,  22.697500,-157.9196667,       4743,    26.0,  25.7811,  35.1461,2,-999.0000,9,    207.7,1,  -999.0,9, -999.00,9, -999.00,9,  -999.0,      26,    25.7753, -999.00,9,     -999.0
33KB20100707,       PRS2,       2,         18,         17,       8017,2,20100711,       0037,  22.697500,-157.9196667,       4743,    26.3,  25.7802,  35.1465,2,-999.0000,9,    207.7,1,  -999.0,9, -999.00,9, -999.00,9,  -999.0,      26,    25.7744, -999.00,9,     -999.0
33KB20100707,       PRS2,       2,         18,         16,       8016,2,20100711,       0037,  22.697500,-157.9196667,       4743,    26.3,  25.7784,  35.1473,2,-999.0000,9,    207.7,1,  -999.0,9, -999.00,9, -999.00,9,  -999.0,      27,    25.7726, -999.00,9,     -999.0
33KB20100707,       PRS2,       2,         18,         15,       8015,2,20100711,       0037,  22.697500,-157.9196667,       4743,    26.4,  25.7785,  35.1472,2,-999.0000,9,    207.7,1,  -999.0,9, -999.00,9, -999.00,9,  -999.0,      26,    25.7726, -999.00,9,     -999.0
33KB20100707,       PRS2,       2,         18,         14,       8014,2,20100711,       0037,  22.697500,-157.9196667,       4743,    26.1,  25.7788,  35.1470,2,-999.0000,9,    207.7,1,  -999.0,9, -999.00,9, -999.00,9,  -999.0,      26,    25.7730, -999.00,9,     -999.0
33KB20100707,       PRS2,       2,         18,         13,       8025,2,20100711,       0037,  22.697500,-157.9196667,       4743,    26.1,  25.7793,  35.1467,2,-999.0000,9,    207.6,1,  -999.0,9, -999.00,9, -999.00,9,  -999.0,      26,    25.7735, -999.00,9,     -999.0
33KB20100707,       PRS2,       2,         18,         12,       8012,2,20100711,       0037,  22.697500,-157.9196667,       4743,    26.2,  25.7802,  35.1463,2,-999.0000,9,    207.6,1,  -999.0,9, -999.00,9, -999.00,9,  -999.0,      26,    25.7744, -999.00,9,     -999.0
33KB20100707,       PRS2,       2,         18,         11,       8011,2,20100711,       0037,  22.697500,-157.9196667,       4743,    26.1,  25.7784,  35.1466,2,-999.0000,9,    207.6,1,  -999.0,9, -999.00,9, -999.00,9,  -999.0,      26,    25.7726, -999.00,9,     -999.0
33KB20100707,       PRS2,       2,         18,         10,       8010,2,20100711,       0037,  22.697500,-157.9196667,       4743,    25.9,  25.7782,  35.1468,2,-999.0000,9,    207.6,1,  -999.0,9, -999.00,9, -999.00,9,  -999.0,      26,    25.7725, -999.00,9,     -999.0
33KB20100707,       PRS2,       2,         18,          9,       8009,2,20100711,       0037,  22.697500,-157.9196667,       4743,    25.8,  25.7810,  35.1455,2,-999.0000,9,    207.6,1,  -999.0,9, -999.00,9, -999.00,9,  -999.0,      26,    25.7753, -999.00,9,     -999.0
33KB20100707,       PRS2,       2,         18,          8,       8008,2,20100711,       0037,  22.697500,-157.9196667,       4743,    25.8,  25.7814,  35.1455,2,-999.0000,9,    207.6,1,  -999.0,9, -999.00,9, -999.00,9,  -999.0,      25,    25.7757, -999.00,9,     -999.0
33KB20100707,       PRS2,       2,         18,          7,       8026,2,20100711,       0037,  22.697500,-157.9196667,       4743,    26.3,  25.7804,  35.1455,2,-999.0000,9,    207.7,1,  -999.0,9, -999.00,9, -999.00,9,  -999.0,      25,    25.7746, -999.00,9,     -999.0
33KB20100707,       PRS2,       2,         18,          6,       8006,2,20100711,       0037,  22.697500,-157.9196667,       4743,    26.3,  25.7807,  35.1455,2,-999.0000,9,    207.8,1,  -999.0,9, -999.00,9, -999.00,9,  -999.0,      27,    25.7749, -999.00,9,     -999.0
33KB20100707,       PRS2,       2,         18,          5,       8005,2,20100711,       0037,  22.697500,-157.9196667,       4743,    26.3,  25.7813,  35.1452,2,-999.0000,9,    207.8,1,  -999.0,9, -999.00,9, -999.00,9,  -999.0,      26,    25.7755, -999.00,9,     -999.0
33KB20100707,       PRS2,       2,         18,          4,       8004,2,20100711,       0037,  22.697500,-157.9196667,       4743,    26.2,  25.7831,  35.1446,2,-999.0000,9,    207.9,1,  -999.0,9, -999.00,9, -999.00,9,  -999.0,      26,    25.7773, -999.00,9,     -999.0
33KB20100707,       PRS2,       2,         18,          3,       8003,2,20100711,       0037,  22.697500,-157.9196667,       4743,    25.8,  25.7865,  35.1438,2,-999.0000,9,    208.0,1,  -999.0,9, -999.00,9, -999.00,9,  -999.0,      26,    25.7807, -999.00,9,     -999.0
33KB20100707,       PRS2,       2,         18,          2,       8002,2,20100711,       0037,  22.697500,-157.9196667,       4743,    25.4,  25.7829,  35.1449,2,-999.0000,9,    208.0,1,  -999.0,9, -999.00,9, -999.00,9,  -999.0,      26,    25.7773, -999.00,9,     -999.0
33KB20100707,       PRS2,       2,         18,          1,       8001,2,20100711,       0037,  22.697500,-157.9196667,       4743,   142.8,  20.3074,  35.3064,2,-999.0000,9,    217.3,1,  -999.0,9, -999.00,9, -999.00,9,  -999.0,     143,    20.2807, -999.00,9,     -999.0
33KB20100707,       PRS2,       6,          1,         13,       8025,2,20100711,       0759,  21.846000,-158.3631667,       2425,     7.0,  25.6811,  35.0468,2,  35.0453,2,    207.9,1,  -999.0,9, -999.00,9, -999.00,9,  -999.0,       7,    25.6796, -999.00,9,     -999.0
33KB20100707,       PRS2,       6,          1,         12,       8012,2,20100711,       0759,  21.846000,-158.3631667,       2425,    25.2,  25.6902,  35.0452,2,  35.0445,2,    208.0,1,  -999.0,9, -999.00,9, -999.00,9,  -999.0,      25,    25.6847, -999.00,9,     -999.0
33KB20100707,       PRS2,       6,          1,         11,       8011,2,20100711,       0759,  21.846000,-158.3631667,       2425,    44.6,  25.6892,  35.0463,2,  35.0459,2,    208.0,1,  -999.0,9, -999.00,9, -999.00,9,  -999.0,      44,    25.6793, -999.00,9,     -999.0
33KB20100707,       PRS2,       6,          1,         10,       8010,2,20100711,       0759,  21.846000,-158.3631667,       2425,    75.8,  24.2183,  35.1621,2,  35.1538,2,    211.3,1,  -999.0,9, -999.00,9, -999.00,9,  -999.0,      76,    24.2022, -999.00,9,     -999.0
33KB20100707,       PRS2,       6,          1,          9,       8009,2,20100711,       0759,  21.846000,-158.3631667,       2425,   100.9,  23.0379,  35.2650,2,  35.2670,2,    211.6,1,  -999.0,9, -999.00,9, -999.00,9,  -999.0,     100,    23.0173, -999.00,9,     -999.0
33KB20100707,       PRS2,       6,          1,          8,       8008,2,20100711,       0759,  21.846000,-158.3631667,       2425,   125.9,  21.4975,  35.3353,2,  35.3368,2,    213.4,1,  -999.0,9, -999.00,9, -999.00,9,  -999.0,     127,    21.4729, -999.00,9,     -999.0
33KB20100707,       PRS2,       6,          1,          7,       8026,2,20100711,       0759,  21.846000,-158.3631667,       2425,   150.2,  20.8902,  35.2640,2,  35.2649,2,    205.1,1,  -999.0,9, -999.00,9, -999.00,9,  -999.0,     151,    20.8615, -999.00,9,     -999.0
33KB20100707,       PRS2,       6,          1,          6,       8006,2,20100711,       0759,  21.846000,-158.3631667,       2425,   175.6,  20.2076,  35.2505,2,  35.2517,2,    202.5,1,  -999.0,9, -999.00,9, -999.00,9,  -999.0,     177,    20.1749, -999.00,9,     -999.0
33KB20100707,       PRS2,       6,          1,          5,       8005,2,20100711,       0759,  21.846000,-158.3631667,       2425,   500.2,   7.2328,  34.1265,2,  34.1264,2,     94.9,1,  -999.0,9, -999.00,9, -999.00,9,  -999.0,     500,     7.1847, -999.00,9,     -999.0
33KB20100707,       PRS2,       6,          1,          4,       8004,2,20100711,       0759,  21.846000,-158.3631667,       2425,  1000.0,   4.1771,  34.4746,2,  34.4742,2,     42.4,1,  -999.0,9, -999.00,9, -999.00,9,  -999.0,    1001,     4.1002, -999.00,9,     -999.0
33KB20100707,       PRS2,       6,          1,          3,       8003,2,20100711,       0759,  21.846000,-158.3631667,       2425,  1499.8,   2.9191,  34.5672,2,  34.6233,4,     66.5,1,  -999.0,9, -999.00,9, -999.00,9,  -999.0,    1500,     2.8122, -999.00,9,     -999.0
33KB20100707,       PRS2,       6,          1,          2,       8002,2,20100711,       0759,  21.846000,-158.3631667,       2425,  2000.6,   2.1142,  34.6228,2,  34.6234,2,     92.6,1,  -999.0,9, -999.00,9, -999.00,9,  -999.0,    2000,     1.9760, -999.00,9,     -999.0
33KB20100707,       PRS2,       6,          1,          1,       8001,2,20100711,       0759,  21.846000,-158.3631667,       2425,  2440.1,   1.7753,  34.6488,2,  34.6490,2,    109.0,1,  -999.0,9, -999.00,9, -999.00,9,  -999.0,    2442,     1.6046, -999.00,9,     -999.0
33KB20100707,       PRS2,      52,          1,          9,       8009,2,20100710,       2127,  22.697500,-157.9288333,       4745,     6.5,  25.7897,  35.1566,2,-999.0000,9,    207.7,1,  -999.0,9, -999.00,9, -999.00,9,  -999.0,       6,    25.7883, -999.00,9,     -999.0
33KB20100707,       PRS2,      52,          1,          8,       8008,2,20100710,       2127,  22.697500,-157.9288333,       4745,     6.5,  25.7895,  35.1553,2,-999.0000,9,    207.8,1,  -999.0,9, -999.00,9, -999.00,9,  -999.0,       7,    25.7880, -999.00,9,     -999.0
33KB20100707,       PRS2,      52,          1,          7,       8026,2,20100710,       2127,  22.697500,-157.9288333,       4745,    44.9,  25.7258,  35.2499,2,-999.0000,9,    208.1,1,  -999.0,9, -999.00,9, -999.00,9,  -999.0,      45,    25.7159, -999.00,9,     -999.0
33KB20100707,       PRS2,      52,          1,          6,       8006,2,20100710,       2127,  22.697500,-157.9288333,       4745,    44.8,  25.7375,  35.2328,2,-999.0000,9,    208.1,1,  -999.0,9, -999.00,9, -999.00,9,  -999.0,      45,    25.7276, -999.00,9,     -999.0
33KB20100707,       PRS2,      52,          1,          5,       8005,2,20100710,       2127,  22.697500,-157.9288333,       4745,    75.5,  24.1623,  35.4249,2,-999.0000,9,    221.4,1,  -999.0,9, -999.00,9, -999.00,9,  -999.0,      76,    24.1463, -999.00,9,     -999.0
33KB20100707,       PRS2,      52,          1,          4,       8004,2,20100710,       2127,  22.697500,-157.9288333,       4745,   100.7,  21.4119,  35.4008,2,-999.0000,9,    224.0,1,  -999.0,9, -999.00,9, -999.00,9,  -999.0,     101,    21.3923, -999.00,9,     -999.0
33KB20100707,       PRS2,      52,          1,          3,       8003,2,20100710,       2127,  22.697500,-157.9288333,       4745,   100.7,  21.4133,  35.4004,2,-999.0000,9,    223.9,1,  -999.0,9, -999.00,9, -999.00,9,  -999.0,     100,    21.3937, -999.00,9,     -999.0
33KB20100707,       PRS2,      52,          1,          2,       8002,2,20100710,       2127,  22.697500,-157.9288333,       4745,   150.6,  19.6313,  35.2278,2,-999.0000,9,    212.0,1,  -999.0,9, -999.00,9, -999.00,9,  -999.0,     150,    19.6038, -999.00,9,     -999.0
33KB20100707,       PRS2,      52,          1,          1,       8001,2,20100710,       2127,  22.697500,-157.9288333,       4745,   200.6,  18.1292,  34.9854,2,-999.0000,9,    209.4,1,  -999.0,9, -999.00,9, -999.00,9,  -999.0,     201,    18.0946, -999.00,9,     -999.0