BOTTLE,20141031SIOCCHAMB
EXPOCODE,SECT_ID,STNNBR,CASTNO,SAMPNO,BTLNBR,BTLNBR_FLAG_W,DATE,TIME,LATITUDE,LONGITUDE,DEPTH,CTDPRS,CTDTMP,CTDSAL,CTDSAL_FLAG_W,SALNTY,SALNTY_FLAG_W,CTDOXY,CTDOXY_FLAG_W,OXYGEN,OXYGEN_FLAG_W,SILCAT,SILCAT_FLAG_W,PHSPHT,PHSPHT_FLAG_W,REVPRS,CTDRAW,THETA,NO2+NO3,NO2+NO3_FLAG_W,REVTMP
,,,,,,,,,,,METERS,DBAR,ITS-90,PSS-78,,PSS-78,,UMOL/KG,,UMOL/KG,,UMOL/KG,,UMOL/KG,,DBAR,DBAR,ITS-90,UMOL/KG,,DEG C
33KB20100707,       PRS2,       2,          3,         20,       8020,2,20100708,       1409,  22.747333,-157.9620000,       4731,    24.9,  25.7440,  35.2358,2,-999.0000,9,    208.2,1,  -999.0,9, -999.00,9, -999.00,9,  -999.0,      25,    25.7385, -999.00,9,     -999.0
33KB20100707,       PRS2,       2,          3,         19,       8019,2,20100708,       1409,  22.747333,-157.9620000,       4731,    24.8,  25.8117,  35.1863,2,-999.0000,9,    208.2,1,  -999.0,9, -999.00,9, -999.00,9,  -999.0,      25,    25.8062, -999.00,9,     -999.0
33KB20100707,       PRS2,       2,          3,         18,       8018,2,20100708,       1409,  22.747333,-157.9620000,       4731,    24.8,  25.8174,  35.1806,2,-999.0000,9,    208.2,1,  -999.0,9, -999.00,9, -999.00,9,  -999.0,      25,    25.8119, -999.00,9,     -999.0
33KB20100707,       PRS2,       2,          3,         17,       8017,2,20100708,       1409,  22.747333,-157.9620000,       4731,    24.7,  25.8174,  35.1795,2,-999.0000,9,    208.2,1,  -999.0,9, -999.00,9, -999.00,9,  -999.0,      25,    25.8120, -999.00,9,     -999.0
33KB20100707,       PRS2,       2,          3,         16,       8016,2,20100708,       1409,  22.747333,-157.9620000,       4731,    24.8,  25.7905,  35.1987,2,-999.0000,9,    208.3,1,  -999.0,9, -999.00,9, -999.00,9,  -999.0,      25,    25.7850, -999.00,9,     -999.0
33KB20100707,       PRS2,       2,          3,         15,       8015,2,20100708,       1409,  22.747333,-157.9620000,       4731,    24.9,  25.5471,  35.3541,2,-999.0000,9,    208.8,1,  -999.0,9, -999.00,9, -999.00,9,  -999.0,      25,    25.5416, -999.00,9,     -999.0
33KB20100707,       PRS2,       2,          3,         14,       8014,2,20100708,       1409,  22.747333,-157.9620000,       4731,    24.9,  25.5005,  35.3832,2,-999.0000,9,    209.2,1,  -999.0,9, -999.00,9, -999.00,9,  -999.0,      25,    25.4950, -999.00,9,     -999.0
33KB20100707,       PRS2,       2,          3,         13,       8025,2,20100708,       1409,  22.747333,-157.9620000,       4731,    45.1,  25.2603,  35.4867,2,-999.0000,9,    210.5,1,  -999.0,9, -999.00,9, -999.00,9,  -999.0,      45,    25.2505, -999.00,9,     -999.0
33KB20100707,       PRS2,       2,          3,         12,       8012,2,20100708,       1409,  22.747333,-157.9620000,       4731,    45.0,  25.2599,  35.4860,2,-999.0000,9,    210.6,1,  -999.0,9, -999.00,9, -999.00,9,  -999.0,      45,    25.2501, -999.00,9,     -999.0
33KB20100707,       PRS2,       2,          3,         11,       8011,2,20100708,       1409,  22.747333,-157.9620000,       4731,    45.1,  25.2593,  35.4857,2,-999.0000,9,    210.7,1,  -999.0,9, -999.00,9, -999.00,9,  -999.0,      45,    25.2494, -999.00,9,     -999.0
33KB20100707,       PRS2,       2,          3,         10,       8010,2,20100708,       1409,  22.747333,-157.9620000,       4731,    45.1,  25.2597,  35.4850,2,-999.0000,9,    210.7,1,  -999.0,9, -999.00,9, -999.00,9,  -999.0,      45,    25.2498, -999.00,9,     -999.0
33KB20100707,       PRS2,       2,          3,          9,       8009,2,20100708,       1409,  22.747333,-157.9620000,       4731,    45.1,  25.2595,  35.4848,2,-999.0000,9,    210.7,1,  -999.0,9, -999.00,9, -999.00,9,  -999.0,      45,    25.2496, -999.00,9,     -999.0
33KB20100707,       PRS2,       2,          3,          8,       8008,2,20100708,       1409,  22.747333,-157.9620000,       4731,    75.6,  22.8426,  35.4254,2,-999.0000,9,    228.5,1,  -999.0,9, -999.00,9, -999.00,9,  -999.0,      76,    22.8272, -999.00,9,     -999.0
33KB20100707,       PRS2,       2,          3,          7,       8026,2,20100708,       1409,  22.747333,-157.9620000,       4731,    75.5,  22.8220,  35.4253,2,-999.0000,9,    228.7,1,  -999.0,9, -999.00,9, -999.00,9,  -999.0,      76,    22.8067, -999.00,9,     -999.0
33KB20100707,       PRS2,       2,          3,          6,       8006,2,20100708,       1409,  22.747333,-157.9620000,       4731,    75.7,  22.7638,  35.4257,2,-999.0000,9,    228.9,1,  -999.0,9, -999.00,9, -999.00,9,  -999.0,      75,    22.7485, -999.00,9,     -999.0
33KB20100707,       PRS2,       2,          3,          5,       8005,2,20100708,       1409,  22.747333,-157.9620000,       4731,    75.5,  22.7498,  35.4268,2,-999.0000,9,    229.0,1,  -999.0,9, -999.00,9, -999.00,9,  -999.0,      76,    22.7345, -999.00,9,     -999.0
33KB20100707,       PRS2,       2,          3,          4,       8004,2,20100708,       1409,  22.747333,-157.9620000,       4731,    75.4,  22.7685,  35.4235,2,-999.0000,9,    229.2,1,  -999.0,9, -999.00,9, -999.00,9,  -999.0,      76,    22.7532, -999.00,9,     -999.0
33KB20100707,       PRS2,       2,          3,          3,       8003,2,20100708,       1409,  22.747333,-157.9620000,       4731,   100.1,  20.8578,  35.3208,2,-999.0000,9,    219.4,1,  -999.0,9, -999.00,9, -999.00,9,  -999.0,     100,    20.8387, -999.00,9,     -999.0
33KB20100707,       PRS2,       2,          3,          2,       8002,2,20100708,       1409,  22.747333,-157.9620000,       4731,   126.1,  20.1625,  35.2948,2,-999.0000,9,    220.6,1,  -999.0,9, -999.00,9, -999.00,9,  -999.0,     126,    20.1390, -999.00,9,     -999.0
33KB20100707,       PRS2,       2,          3,          1,       8001,2,20100708,       1409,  22.747333,-157.9620000,       4731,   199.9,  17.3789,  34.8319,2,-999.0000,9,    206.8,1,  -999.0,9, -999.00,9, -999.00,9,  -999.0,     200,    17.3454, -999.00,9,     -999.0
33KB20100707,       PRS2,       2,          4,         24,       8024,2,20100708,       1609,  22.751167,-158.0008333,       4747,     6.9,  25.5833,  35.2926,2,  35.2936,2,    207.5,2,   206.9,2,    0.97,2,    0.05,2,  -999.0,       7,    25.5817,    0.04,2,     -999.0
33KB20100707,       PRS2,       2,          4,         23,       8023,2,20100708,       1609,  22.751167,-158.0008333,       4747,   500.2,   7.4123,  34.0982,2,  34.0980,2,    101.7,2,   100.5,2,   46.49,2,    2.17,2,  -999.0,     500,     7.3635,   29.76,2,     -999.0
33KB20100707,       PRS2,       2,          4,         22,       8022,2,20100708,       1609,  22.751167,-158.0008333,       4747,   750.3,   4.9657,  34.3257,2,  34.3256,2,     34.9,2,    34.4,2,   89.87,2,    2.92,2,  -999.0,     750,     4.9049,   40.17,2,     -999.0
33KB20100707,       PRS2,       2,          4,         21,       8021,2,20100708,       1609,  22.751167,-158.0008333,       4747,  1000.6,   3.9801,  34.4833,2,  34.4816,2,     47.0,2,    47.3,2,  109.56,2,    2.93,3,  -999.0,    1001,     3.9046,   40.95,2,     -999.0
33KB20100707,       PRS2,       2,          4,         20,       8020,2,20100708,       1609,  22.751167,-158.0008333,       4747,  1200.4,   3.4466,  34.5293,2,  34.5282,2,     57.0,2,    56.7,2,  120.14,2,    2.94,2,  -999.0,    1200,     3.3590,   40.87,2,     -999.0
33KB20100707,       PRS2,       2,          4,         19,       8019,2,20100708,       1609,  22.751167,-158.0008333,       4747,  1400.4,   2.9479,  34.5586,2,  34.5573,2,     65.7,2,    66.1,2,  131.74,2,    2.91,2,  -999.0,    1401,     2.8489,   40.55,2,     -999.0
33KB20100707,       PRS2,       2,          4,         18,       8018,2,20100708,       1609,  22.751167,-158.0008333,       4747,  1600.4,   2.5763,  34.5844,2,  34.5838,2,     75.0,2,    75.1,2,  140.70,2,    2.86,2,  -999.0,    1601,     2.4652,   40.24,2,     -999.0
33KB20100707,       PRS2,       2,          4,         17,       8017,2,20100708,       1609,  22.751167,-158.0008333,       4747,  1800.7,   2.2871,  34.6088,2,  34.6079,2,     83.8,2,    83.8,2,  146.83,2,    2.82,2,  -999.0,    1800,     2.1631,   39.70,2,     -999.0
33KB20100707,       PRS2,       2,          4,         16,       8016,2,20100708,       1609,  22.751167,-158.0008333,       4747,  2000.1,   2.0761,  34.6223,2,  34.6227,2,     91.4,2,    91.4,2,  151.13,2,    2.78,2,  -999.0,    2000,     1.9385,   39.27,2,     -999.0
33KB20100707,       PRS2,       2,          4,         15,       8015,2,20100708,       1609,  22.751167,-158.0008333,       4747,  2200.6,   1.9044,  34.6357,2,  34.6352,2,     98.2,2,    99.1,2,  155.21,2,    2.74,2,  -999.0,    2200,     1.7524,   38.88,2,     -999.0
33KB20100707,       PRS2,       2,          4,         14,       8014,2,20100708,       1609,  22.751167,-158.0008333,       4747,  2399.7,   1.7664,  34.6467,2,  34.6464,2,    105.2,2,   105.3,2,  158.33,2,    2.70,2,  -999.0,    2399,     1.5995,   38.53,2,     -999.0
33KB20100707,       PRS2,       2,          4,         13,       8025,2,20100708,       1609,  22.751167,-158.0008333,       4747,  2600.2,   1.6574,  34.6570,2,  34.6563,2,    113.0,2,   113.1,2,  160.01,2,    2.67,2,  -999.0,    2600,     1.4745,   38.12,2,     -999.0
33KB20100707,       PRS2,       2,          4,         12,       8012,2,20100708,       1609,  22.751167,-158.0008333,       4747,  2799.8,   1.5832,  34.6649,2,  34.6657,2,    120.8,2,   121.8,2,  159.38,2,    2.63,2,  -999.0,    2799,     1.3835,   37.59,2,     -999.0
33KB20100707,       PRS2,       2,          4,         11,       8011,2,20100708,       1609,  22.751167,-158.0008333,       4747,  2999.8,   1.5233,  34.6716,2,  34.6718,2,    127.8,2,   127.8,2,  157.79,2,    2.59,2,  -999.0,    2999,     1.3060,   37.19,2,     -999.0
33KB20100707,       PRS2,       2,          4,         10,       8010,2,20100708,       1609,  22.751167,-158.0008333,       4747,  3198.9,   1.4803,  34.6772,2,  34.6775,2,    134.1,2,   133.9,2,  156.98,2,    2.56,2,  -999.0,    3199,     1.2447,   36.71,2,     -999.0
33KB20100707,       PRS2,       2,          4,          9,       8009,2,20100708,       1609,  22.751167,-158.0008333,       4747,  3399.9,   1.4548,  34.6813,2,  34.6816,2,    139.8,2,   140.1,2,  155.24,2,    2.53,2,  -999.0,    3401,     1.2000,   36.36,2,     -999.0
33KB20100707,       PRS2,       2,          4,          8,       8008,2,20100708,       1609,  22.751167,-158.0008333,       4747,  3599.7,   1.4432,  34.6840,2,  34.6840,2,    144.2,2,   144.7,2,  153.13,2,    2.53,2,  -999.0,    3600,     1.1682,   36.18,2,     -999.0
33KB20100707,       PRS2,       2,          4,          7,       8026,2,20100708,       1609,  22.751167,-158.0008333,       4747,  3800.0,   1.4447,  34.6858,2,  34.6922,4,    147.0,3,   146.6,2,  151.88,2,    2.50,2,  -999.0,    3800,     1.1488,   35.87,2,     -999.0
33KB20100707,       PRS2,       2,          4,          6,       8006,2,20100708,       1609,  22.751167,-158.0008333,       4747,  4000.0,   1.4506,  34.6873,2,  34.6879,2,    149.3,2,   149.2,2,  150.20,2,    2.49,2,  -999.0,    3999,     1.1331,   35.71,2,     -999.0
33KB20100707,       PRS2,       2,          4,          5,       8005,2,20100708,       1609,  22.751167,-158.0008333,       4747,  4200.2,   1.4604,  34.6882,2,  34.6887,2,    151.1,2,   150.5,2,  149.07,2,    2.48,2,  -999.0,    4200,     1.1206,   35.56,2,     -999.0
33KB20100707,       PRS2,       2,          4,          4,       8004,2,20100708,       1609,  22.751167,-158.0008333,       4747,  4399.5,   1.4759,  34.6889,2,  34.6895,2,    152.4,2,   152.0,2,  148.20,2,    2.47,2,  -999.0,    4401,     1.1132,   35.57,2,     -999.0
33KB20100707,       PRS2,       2,          4,          3,       8003,2,20100708,       1609,  22.751167,-158.0008333,       4747,  4498.6,   1.4840,  34.6892,2,  34.6897,2,    153.1,2,   152.9,2,  148.26,2,    2.47,2,  -999.0,    4499,     1.1097,   35.55,2,     -999.0
33KB20100707,       PRS2,       2,          4,          2,       8002,2,20100708,       1609,  22.751167,-158.0008333,       4747,  4599.3,   1.4930,  34.6894,2,  34.6893,2,    153.5,2,   153.1,2,  147.36,2,    2.47,2,  -999.0,    4599,     1.1067,   35.51,2,     -999.0
33KB20100707,       PRS2,       2,          4,          1,       8001,2,20100708,       1609,  22.751167,-158.0008333,       4747,  4809.5,   1.5111,  34.6902,2,  34.6912,2,    154.2,2,   154.9,2,  145.82,2,    2.47,2,  -999.0,    4809,     1.0994,   35.30,2,     -999.0
33KB20100707,       PRS2,       2,          5,         24,       8024,2,20100708,       2202,  22.749500,-157.9995000,       4746,    13.8,  25.5915,  35.3120,2,  35.3047,2,    208.0,2,   207.4,2,    0.92,2,    0.06,2,  -999.0,      14,    25.5884,    0.01,2,     -999.0
33KB20100707,       PRS2,       2,          5,         23,       8023,2,20100708,       2202,  22.749500,-157.9995000,       4746,    46.9,  25.1966,  35.4997,2,  35.5003,2,    210.6,2,   210.5,2,    1.11,2,    0.04,2,  -999.0,      46,    25.1863,    0.03,2,     -999.0
33KB20100707,       PRS2,       2,          5,         22,       8022,2,20100708,       2202,  22.749500,-157.9995000,       4746,    55.4,  24.6803,  35.4690,2,  35.4728,2,    215.7,2,   214.6,2,    1.15,2,    0.03,2,  -999.0,      55,    24.6684,    0.02,2,     -999.0
33KB20100707,       PRS2,       2,          5,         21,       8021,2,20100708,       2202,  22.749500,-157.9995000,       4746,    70.2,  22.5215,  35.4138,2,  35.4133,2,    228.6,2,   228.5,2,    1.33,2,    0.02,2,  -999.0,      71,    22.5074,    0.03,2,     -999.0
33KB20100707,       PRS2,       2,          5,         20,       8020,2,20100708,       2202,  22.749500,-157.9995000,       4746,   111.7,  20.3844,  35.3185,2,  35.3120,2,    216.6,2,   215.5,2,    1.58,2,    0.07,2,  -999.0,     112,    20.3635,    0.23,2,     -999.0
33KB20100707,       PRS2,       2,          5,         19,       8019,2,20100708,       2202,  22.749500,-157.9995000,       4746,   172.0,  18.6065,  35.0398,2,  35.0382,2,    206.4,2,   202.6,3,    2.47,2,    0.22,2,  -999.0,     172,    18.5763,    2.57,2,     -999.0
33KB20100707,       PRS2,       2,          5,         18,       8018,2,20100708,       2202,  22.749500,-157.9995000,       4746,   231.2,  16.5412,  34.7081,2,  34.6932,2,    203.2,2,   203.3,2,    4.07,2,    0.35,2,  -999.0,     231,    16.5038,    4.45,2,     -999.0
33KB20100707,       PRS2,       2,          5,         17,       8017,2,20100708,       2202,  22.749500,-157.9995000,       4746,   266.7,  14.6355,  34.4618,2,  34.4606,2,    200.8,2,   201.2,2,    6.27,2,    0.55,2,  -999.0,     268,    14.5958,    7.26,2,     -999.0
33KB20100707,       PRS2,       2,          5,         16,       8016,2,20100708,       2202,  22.749500,-157.9995000,       4746,   303.4,  12.3221,  34.2939,2,  34.2962,2,    208.5,2,   207.7,2,   10.46,2,    0.78,2,  -999.0,     303,    12.2819,   10.94,2,     -999.0
33KB20100707,       PRS2,       2,          5,         15,       8015,2,20100708,       2202,  22.749500,-157.9995000,       4746,   367.9,  10.6718,  34.1832,2,  34.1844,2,    203.9,2,   203.1,2,   16.10,2,    1.05,2,  -999.0,     368,    10.6274,   14.83,2,     -999.0
33KB20100707,       PRS2,       2,          5,         14,       8014,2,20100708,       2202,  22.749500,-157.9995000,       4746,   428.6,   8.9170,  34.0900,2,  34.0891,2,    157.1,2,   159.1,2,   28.60,2,    1.60,2,  -999.0,     429,     8.8707,   22.22,2,     -999.0
33KB20100707,       PRS2,       2,          5,         13,       8025,2,20100708,       2202,  22.749500,-157.9995000,       4746,   469.8,   8.2853,  34.0937,2,  34.0907,2,    134.8,2,   127.6,3,   35.17,2,    1.86,2,  -999.0,     470,     8.2365,   25.73,2,     -999.0
33KB20100707,       PRS2,       2,          5,         12,       8012,2,20100708,       2202,  22.749500,-157.9995000,       4746,   508.6,   7.6942,  34.0939,2,  34.0944,2,    113.3,2,   110.1,2,   42.69,2,    2.13,2,  -999.0,     509,     7.6435,   29.01,2,     -999.0
33KB20100707,       PRS2,       2,          5,         11,       8011,2,20100708,       2202,  22.749500,-157.9995000,       4746,   543.2,   6.9844,  34.1041,2,  34.1034,2,     88.6,2,    88.5,2,   51.90,2,    2.35,2,  -999.0,     543,     6.9331,   32.44,2,     -999.0
33KB20100707,       PRS2,       2,          5,         10,       8010,2,20100708,       2202,  22.749500,-157.9995000,       4746,   581.3,   6.3488,  34.1289,2,  34.1283,2,     70.7,2,    67.6,2,   62.03,2,    2.58,2,  -999.0,     582,     6.2965,   35.39,2,     -999.0
33KB20100707,       PRS2,       2,          5,          9,       8009,2,20100708,       2202,  22.749500,-157.9995000,       4746,   624.4,   5.8259,  34.1810,2,  34.1815,2,     54.1,2,    54.1,2,   72.04,2,    2.73,2,  -999.0,     624,     5.7720,   37.54,2,     -999.0
33KB20100707,       PRS2,       2,          5,          8,       8008,2,20100708,       2202,  22.749500,-157.9995000,       4746,   657.1,   5.6100,  34.2237,2,  34.2236,2,     43.0,2,    43.2,2,   77.14,2,    2.84,2,  -999.0,     658,     5.5541,   38.91,2,     -999.0
33KB20100707,       PRS2,       2,          5,          7,       8026,2,20100708,       2202,  22.749500,-157.9995000,       4746,   704.2,   5.2709,  34.2834,2,  34.2830,2,     35.8,2,    35.4,2,   84.00,2,    2.93,2,  -999.0,     704,     5.2126,   40.45,2,     -999.0
33KB20100707,       PRS2,       2,          5,          6,       8006,2,20100708,       2202,  22.749500,-157.9995000,       4746,   750.9,   4.9790,  34.3233,2,  34.3172,2,     34.6,2,    34.1,2,   89.14,2,    2.94,2,  -999.0,     750,     4.9182,   40.82,2,     -999.0
33KB20100707,       PRS2,       2,          5,          5,       8005,2,20100708,       2202,  22.749500,-157.9995000,       4746,   766.4,   4.9364,  34.3379,2,  34.3403,2,     34.5,2,    33.8,2,   90.90,2,    2.98,2,  -999.0,     766,     4.8744,   41.07,2,     -999.0
33KB20100707,       PRS2,       2,          5,          4,       8004,2,20100708,       2202,  22.749500,-157.9995000,       4746,   812.8,   4.7509,  34.3754,2,  34.3764,2,     34.8,2,    34.6,2,   94.66,2,    3.00,2,  -999.0,     813,     4.6860,   41.39,2,     -999.0
33KB20100707,       PRS2,       2,          5,          3,       8003,2,20100708,       2202,  22.749500,-157.9995000,       4746,   858.4,   4.5334,  34.3981,2,  34.3965,2,     36.5,2,    36.6,2,   98.58,2,    3.01,2,  -999.0,     859,     4.4660,   41.70,2,     -999.0
33KB20100707,       PRS2,       2,          5,          2,       8002,2,20100708,       2202,  22.749500,-157.9995000,       4746,   928.3,   4.3074,  34.4431,2,  34.4430,2,     41.1,2,    41.0,2,  103.01,2,    3.00,2,  -999.0,     928,     4.2356,   41.82,2,     -999.0
33KB20100707,       PRS2,       2,          5,          1,       8001,2,20100708,       2202,  22.749500,-157.9995000,       4746,   997.5,   4.0784,  34.4709,2,  34.4726,2,     45.2,2,    45.8,2,  107.52,2,    2.99,2,  -999.0,     998,     4.0024,   41.70,2,     -999.0