BOTTLE,20141031SIOCCHAMB
EXPOCODE,SECT_ID,STNNBR,CASTNO,SAMPNO,BTLNBR,BTLNBR_FLAG_W,DATE,TIME,LATITUDE,LONGITUDE,DEPTH,CTDPRS,CTDTMP,CTDSAL,CTDSAL_FLAG_W,SALNTY,SALNTY_FLAG_W,CTDOXY,CTDOXY_FLAG_W,OXYGEN,OXYGEN_FLAG_W,SILCAT,SILCAT_FLAG_W,PHSPHT,PHSPHT_FLAG_W,REVPRS,CTDRAW,THETA,NO2+NO3,NO2+NO3_FLAG_W,REVTMP
,,,,,,,,,,,METERS,DBAR,ITS-90,PSS-78,,PSS-78,,UMOL/KG,,UMOL/KG,,UMOL/KG,,UMOL/KG,,DBAR,DBAR,ITS-90,UMOL/KG,,DEG C
33KB20100707,       PRS2,       2,          6,         20,       8020,2,20100709,       0134,  22.753500,-158.0155000,       4750,     4.7,  25.6906,  35.3635,2,-999.0000,5,    208.3,1,  -999.0,9, -999.00,9, -999.00,9,  -999.0,       4,    25.6895, -999.00,9,     -999.0
33KB20100707,       PRS2,       2,          6,         19,       8019,2,20100709,       0134,  22.753500,-158.0155000,       4750,     4.7,  25.6648,  35.3712,2,  35.3668,2,    208.2,1,  -999.0,9, -999.00,9, -999.00,9,  -999.0,       4,    25.6637, -999.00,9,     -999.0
33KB20100707,       PRS2,       2,          6,         18,       8018,2,20100709,       0134,  22.753500,-158.0155000,       4750,    25.2,  25.2624,  35.4899,2,-999.0000,5,    209.7,1,  -999.0,9, -999.00,9, -999.00,9,  -999.0,      25,    25.2569, -999.00,9,     -999.0
33KB20100707,       PRS2,       2,          6,         17,       8017,2,20100709,       0134,  22.753500,-158.0155000,       4750,    25.1,  25.2629,  35.4897,2,  35.4890,2,    209.7,1,  -999.0,9, -999.00,9, -999.00,9,  -999.0,      25,    25.2574, -999.00,9,     -999.0
33KB20100707,       PRS2,       2,          6,         16,       8016,2,20100709,       0134,  22.753500,-158.0155000,       4750,    45.7,  25.0841,  35.4952,2,  35.4961,2,    211.9,1,  -999.0,9, -999.00,9, -999.00,9,  -999.0,      45,    25.0742, -999.00,9,     -999.0
33KB20100707,       PRS2,       2,          6,         15,       8015,2,20100709,       0134,  22.753500,-158.0155000,       4750,    45.6,  25.0849,  35.4951,2,-999.0000,5,    212.0,1,  -999.0,9, -999.00,9, -999.00,9,  -999.0,      46,    25.0750, -999.00,9,     -999.0
33KB20100707,       PRS2,       2,          6,         14,       8014,2,20100709,       0134,  22.753500,-158.0155000,       4750,    75.1,  22.0056,  35.4028,2,  35.4028,2,    227.1,1,  -999.0,9, -999.00,9, -999.00,9,  -999.0,      74,    21.9907, -999.00,9,     -999.0
33KB20100707,       PRS2,       2,          6,         13,       8025,2,20100709,       0134,  22.753500,-158.0155000,       4750,    99.7,  20.7911,  35.3341,2,-999.0000,5,    217.8,1,  -999.0,9, -999.00,9, -999.00,9,  -999.0,      99,    20.7721, -999.00,9,     -999.0
33KB20100707,       PRS2,       2,          6,         12,       8012,2,20100709,       0134,  22.753500,-158.0155000,       4750,    99.7,  20.7876,  35.3335,2,  35.3346,2,    217.5,1,  -999.0,9, -999.00,9, -999.00,9,  -999.0,     100,    20.7687, -999.00,9,     -999.0
33KB20100707,       PRS2,       2,          6,         11,       8011,2,20100709,       0134,  22.753500,-158.0155000,       4750,   124.8,  19.9527,  35.2733,2,  35.2716,2,    213.1,1,  -999.0,9, -999.00,9, -999.00,9,  -999.0,     125,    19.9296, -999.00,9,     -999.0
33KB20100707,       PRS2,       2,          6,         10,       8010,2,20100709,       0134,  22.753500,-158.0155000,       4750,   150.1,  19.0685,  35.1381,2,-999.0000,5,    206.8,1,  -999.0,9, -999.00,9, -999.00,9,  -999.0,     150,    19.0417, -999.00,9,     -999.0
33KB20100707,       PRS2,       2,          6,          9,       8009,2,20100709,       0134,  22.753500,-158.0155000,       4750,   150.0,  19.0683,  35.1379,2,  35.1364,2,    207.0,1,  -999.0,9, -999.00,9, -999.00,9,  -999.0,     151,    19.0415, -999.00,9,     -999.0
33KB20100707,       PRS2,       2,          6,          8,       8008,2,20100709,       0134,  22.753500,-158.0155000,       4750,   175.9,  18.3013,  34.9947,2,  34.9969,2,    203.0,1,  -999.0,9, -999.00,9, -999.00,9,  -999.0,     176,    18.2708, -999.00,9,     -999.0
33KB20100707,       PRS2,       2,          6,          7,       8026,2,20100709,       0134,  22.753500,-158.0155000,       4750,   199.8,  17.6631,  34.8912,2,  34.8918,2,    205.7,1,  -999.0,9, -999.00,9, -999.00,9,  -999.0,     200,    17.6292, -999.00,9,     -999.0
33KB20100707,       PRS2,       2,          6,          6,       8006,2,20100709,       0134,  22.753500,-158.0155000,       4750,   199.8,  17.6634,  34.8907,2,-999.0000,5,    205.7,1,  -999.0,9, -999.00,9, -999.00,9,  -999.0,     199,    17.6295, -999.00,9,     -999.0
33KB20100707,       PRS2,       2,          6,          5,       8005,2,20100709,       0134,  22.753500,-158.0155000,       4750,   249.7,  15.3400,  34.5416,2,  34.5384,2,    199.4,1,  -999.0,9, -999.00,9, -999.00,9,  -999.0,     250,    15.3017, -999.00,9,     -999.0
33KB20100707,       PRS2,       2,          6,          4,       8004,2,20100709,       0134,  22.753500,-158.0155000,       4750,   349.3,  11.0095,  34.2006,2,  34.1958,2,    204.1,1,  -999.0,9, -999.00,9, -999.00,9,  -999.0,     349,    10.9665, -999.00,9,     -999.0
33KB20100707,       PRS2,       2,          6,          3,       8003,2,20100709,       0134,  22.753500,-158.0155000,       4750,   349.3,  11.0043,  34.2017,2,  34.1962,2,    204.2,1,  -999.0,9, -999.00,9, -999.00,9,  -999.0,     349,    10.9613, -999.00,9,     -999.0
33KB20100707,       PRS2,       2,          6,          2,       8002,2,20100709,       0134,  22.753500,-158.0155000,       4750,   460.6,   8.4261,  34.0940,2,  34.0934,2,    136.7,1,  -999.0,9, -999.00,9, -999.00,9,  -999.0,     461,     8.3779, -999.00,9,     -999.0
33KB20100707,       PRS2,       2,          6,          1,       8001,2,20100709,       0134,  22.753500,-158.0155000,       4750,  1019.9,   4.0201,  34.4755,2,  34.4748,2,     46.5,1,  -999.0,9, -999.00,9, -999.00,9,  -999.0,    1020,     3.9427, -999.00,9,     -999.0
33KB20100707,       PRS2,       2,          7,         20,       8020,2,20100709,       0354,  22.791500,-157.9073333,       4694,     5.6,  25.9497,  35.1674,2,  35.1677,2,    208.2,1,  -999.0,9, -999.00,9, -999.00,9,  -999.0,       5,    25.9485, -999.00,9,     -999.0
33KB20100707,       PRS2,       2,          7,         19,       8019,2,20100709,       0354,  22.791500,-157.9073333,       4694,    25.5,  25.5460,  35.4036,2,-999.0000,5,    208.8,1,  -999.0,9, -999.00,9, -999.00,9,  -999.0,      26,    25.5403, -999.00,9,     -999.0
33KB20100707,       PRS2,       2,          7,         18,       8018,2,20100709,       0354,  22.791500,-157.9073333,       4694,    25.5,  25.5459,  35.4057,2,  35.3843,3,    208.8,1,  -999.0,9, -999.00,9, -999.00,9,  -999.0,      26,    25.5403, -999.00,9,     -999.0
33KB20100707,       PRS2,       2,          7,         17,       8017,2,20100709,       0354,  22.791500,-157.9073333,       4694,    46.2,  25.1430,  35.4685,2,  35.4683,2,    210.7,1,  -999.0,9, -999.00,9, -999.00,9,  -999.0,      47,    25.1329, -999.00,9,     -999.0
33KB20100707,       PRS2,       2,          7,         16,       8016,2,20100709,       0354,  22.791500,-157.9073333,       4694,    49.3,  25.0963,  35.4670,2,-999.0000,5,    210.8,1,  -999.0,9, -999.00,9, -999.00,9,  -999.0,      49,    25.0856, -999.00,9,     -999.0
33KB20100707,       PRS2,       2,          7,         15,       8015,2,20100709,       0354,  22.791500,-157.9073333,       4694,    75.9,  22.0819,  35.4142,2,-999.0000,5,    229.2,1,  -999.0,9, -999.00,9, -999.00,9,  -999.0,      75,    22.0668, -999.00,9,     -999.0
33KB20100707,       PRS2,       2,          7,         14,       8014,2,20100709,       0354,  22.791500,-157.9073333,       4694,    75.8,  22.0820,  35.4141,2,  35.4129,2,    229.2,1,  -999.0,9, -999.00,9, -999.00,9,  -999.0,      75,    22.0670, -999.00,9,     -999.0
33KB20100707,       PRS2,       2,          7,         13,       8025,2,20100709,       0354,  22.791500,-157.9073333,       4694,   100.9,  21.0602,  35.3923,2,-999.0000,5,    222.8,1,  -999.0,9, -999.00,9, -999.00,9,  -999.0,     100,    21.0409, -999.00,9,     -999.0
33KB20100707,       PRS2,       2,          7,         12,       8012,2,20100709,       0354,  22.791500,-157.9073333,       4694,   100.8,  21.0779,  35.3952,2,  35.3906,2,    222.6,1,  -999.0,9, -999.00,9, -999.00,9,  -999.0,     100,    21.0586, -999.00,9,     -999.0
33KB20100707,       PRS2,       2,          7,         11,       8011,2,20100709,       0354,  22.791500,-157.9073333,       4694,   125.5,  19.9897,  35.2553,2,  35.2568,2,    215.1,1,  -999.0,9, -999.00,9, -999.00,9,  -999.0,     125,    19.9665, -999.00,9,     -999.0
33KB20100707,       PRS2,       2,          7,         10,       8010,2,20100709,       0354,  22.791500,-157.9073333,       4694,   149.5,  19.3757,  35.1818,2,-999.0000,5,    214.0,1,  -999.0,9, -999.00,9, -999.00,9,  -999.0,     150,    19.3486, -999.00,9,     -999.0
33KB20100707,       PRS2,       2,          7,          9,       8009,2,20100709,       0354,  22.791500,-157.9073333,       4694,   149.5,  19.3812,  35.1829,2,  35.1815,2,    213.8,1,  -999.0,9, -999.00,9, -999.00,9,  -999.0,     149,    19.3542, -999.00,9,     -999.0
33KB20100707,       PRS2,       2,          7,          8,       8008,2,20100709,       0354,  22.791500,-157.9073333,       4694,   175.0,  18.6830,  35.0660,2,  35.0683,2,    211.2,1,  -999.0,9, -999.00,9, -999.00,9,  -999.0,     175,    18.6521, -999.00,9,     -999.0
33KB20100707,       PRS2,       2,          7,          7,       8026,2,20100709,       0354,  22.791500,-157.9073333,       4694,   200.8,  17.5949,  34.8695,2,-999.0000,5,    210.4,1,  -999.0,9, -999.00,9, -999.00,9,  -999.0,     201,    17.5610, -999.00,9,     -999.0
33KB20100707,       PRS2,       2,          7,          6,       8006,2,20100709,       0354,  22.791500,-157.9073333,       4694,   200.8,  17.6023,  34.8703,2,  34.8731,2,    209.7,1,  -999.0,9, -999.00,9, -999.00,9,  -999.0,     201,    17.5683, -999.00,9,     -999.0
33KB20100707,       PRS2,       2,          7,          5,       8005,2,20100709,       0354,  22.791500,-157.9073333,       4694,   250.4,  14.2571,  34.4163,2,  34.4365,3,    197.7,1,  -999.0,9, -999.00,9, -999.00,9,  -999.0,     251,    14.2206, -999.00,9,     -999.0
33KB20100707,       PRS2,       2,          7,          4,       8004,2,20100709,       0354,  22.791500,-157.9073333,       4694,   350.3,  10.9654,  34.1940,2,  34.1948,2,    202.3,1,  -999.0,9, -999.00,9, -999.00,9,  -999.0,     350,    10.9224, -999.00,9,     -999.0
33KB20100707,       PRS2,       2,          7,          3,       8003,2,20100709,       0354,  22.791500,-157.9073333,       4694,   350.3,  10.9614,  34.1935,2,  34.1936,2,    202.2,1,  -999.0,9, -999.00,9, -999.00,9,  -999.0,     350,    10.9184, -999.00,9,     -999.0
33KB20100707,       PRS2,       2,          7,          2,       8002,2,20100709,       0354,  22.791500,-157.9073333,       4694,   500.4,   7.4975,  34.0668,2,  34.0668,2,    115.4,1,  -999.0,9, -999.00,9, -999.00,9,  -999.0,     501,     7.4484, -999.00,9,     -999.0
33KB20100707,       PRS2,       2,          7,          1,       8001,2,20100709,       0354,  22.791500,-157.9073333,       4694,  1032.1,   3.8457,  34.4923,2,  34.4921,2,     49.4,1,  -999.0,9, -999.00,9, -999.00,9,  -999.0,    1032,     3.7686, -999.00,9,     -999.0
33KB20100707,       PRS2,       2,          8,         23,       8023,2,20100709,       0738,  22.820667,-157.9330000,       4636,     5.6,  25.7828,  35.2382,2,  35.2385,2,    206.8,2,  -999.0,5, -999.00,5, -999.00,5,  -999.0,       6,    25.7816, -999.00,5,     -999.0
33KB20100707,       PRS2,       2,          8,         22,       8022,2,20100709,       0738,  22.820667,-157.9330000,       4636,     5.7,  25.7813,  35.2390,2,  35.2385,2,    206.8,2,   207.4,2,    0.84,2,    0.07,2,  -999.0,       6,    25.7800,    0.03,2,     -999.0
33KB20100707,       PRS2,       2,          8,         21,       8021,2,20100709,       0738,  22.820667,-157.9330000,       4636,    15.0,  25.7823,  35.2411,2,  35.2475,2,    206.9,2,  -999.0,5,    0.91,2,    0.07,2,  -999.0,      14,    25.7789,    0.04,2,     -999.0
33KB20100707,       PRS2,       2,          8,         20,       8020,2,20100709,       0738,  22.820667,-157.9330000,       4636,    25.0,  25.2669,  35.4875,2,  35.4778,2,    209.1,2,  -999.0,5, -999.00,5, -999.00,5,  -999.0,      26,    25.2614, -999.00,5,     -999.0
33KB20100707,       PRS2,       2,          8,         19,       8019,2,20100709,       0738,  22.820667,-157.9330000,       4636,    25.0,  25.2672,  35.4874,2,  35.4742,2,    209.1,2,   209.2,2,    1.11,2,    0.04,2,  -999.0,      25,    25.2617,    0.05,2,     -999.0
33KB20100707,       PRS2,       2,          8,         18,       8018,2,20100709,       0738,  22.820667,-157.9330000,       4636,    35.1,  25.1435,  35.4997,2,  35.4987,2,    210.8,2,  -999.0,5,    1.16,2,    0.05,2,  -999.0,      35,    25.1359,    0.06,2,     -999.0
33KB20100707,       PRS2,       2,          8,         17,       8017,2,20100709,       0738,  22.820667,-157.9330000,       4636,    44.3,  24.8211,  35.4825,2,  35.4835,2,    213.6,2,   213.8,2,    1.18,2,    0.04,2,  -999.0,      45,    24.8115,    0.04,2,     -999.0
33KB20100707,       PRS2,       2,          8,         16,       8016,2,20100709,       0738,  22.820667,-157.9330000,       4636,    59.5,  23.1849,  35.4152,2,  35.4160,2,    226.0,2,  -999.0,5,    1.29,2,    0.03,2,  -999.0,      59,    23.1727,    0.04,2,     -999.0
33KB20100707,       PRS2,       2,          8,         15,       8015,2,20100709,       0738,  22.820667,-157.9330000,       4636,    74.4,  22.2898,  35.4125,2,  35.4099,2,    226.7,2,   227.7,2,    1.37,2,    0.03,2,  -999.0,      75,    22.2749,    0.04,2,     -999.0
33KB20100707,       PRS2,       2,          8,         14,       8014,2,20100709,       0738,  22.820667,-157.9330000,       4636,    84.9,  21.7742,  35.4003,2,  35.3961,2,    225.1,2,   225.4,2, -999.00,5, -999.00,5,  -999.0,      85,    21.7575, -999.00,5,     -999.0
33KB20100707,       PRS2,       2,          8,         13,       8025,2,20100709,       0738,  22.820667,-157.9330000,       4636,    89.5,  21.5350,  35.3853,2,  35.3873,2,    223.7,2,  -999.0,5, -999.00,5, -999.00,5,  -999.0,      88,    21.5176, -999.00,5,     -999.0
33KB20100707,       PRS2,       2,          8,         12,       8012,2,20100709,       0738,  22.820667,-157.9330000,       4636,    99.3,  21.0099,  35.3666,2,  35.3646,2,    219.0,2,   219.8,2,    1.34,2,    0.06,2,  -999.0,     100,    20.9909,    0.06,2,     -999.0
33KB20100707,       PRS2,       2,          8,         11,       8011,2,20100709,       0738,  22.820667,-157.9330000,       4636,   109.9,  20.9182,  35.4156,2,  35.4145,2,    222.0,2,  -999.0,5, -999.00,5, -999.00,5,  -999.0,     110,    20.8972, -999.00,5,     -999.0
33KB20100707,       PRS2,       2,          8,         10,       8010,2,20100709,       0738,  22.820667,-157.9330000,       4636,   114.7,  20.5782,  35.3532,2,  35.3668,2,    218.2,2,   220.3,2, -999.00,5, -999.00,5,  -999.0,     115,    20.5566, -999.00,5,     -999.0
33KB20100707,       PRS2,       2,          8,          9,       8009,2,20100709,       0738,  22.820667,-157.9330000,       4636,   125.1,  20.0823,  35.2776,2,  35.2779,2,    208.4,2,   210.9,2,    1.86,2,    0.11,2,  -999.0,     124,    20.0590,    0.77,2,     -999.0
33KB20100707,       PRS2,       2,          8,          8,       8008,2,20100709,       0738,  22.820667,-157.9330000,       4636,   129.8,  19.9776,  35.2664,2,  35.2641,2,    206.0,2,  -999.0,5, -999.00,5, -999.00,5,  -999.0,     129,    19.9536, -999.00,5,     -999.0
33KB20100707,       PRS2,       2,          8,          7,       8026,2,20100709,       0738,  22.820667,-157.9330000,       4636,   149.1,  19.3948,  35.1850,2,  35.1750,2,    207.0,2,   208.2,2,    2.27,2,    0.15,2,  -999.0,     149,    19.3679,    1.52,2,     -999.0
33KB20100707,       PRS2,       2,          8,          6,       8006,2,20100709,       0738,  22.820667,-157.9330000,       4636,   164.1,  19.0726,  35.1313,2,  35.1315,2,    207.5,2,   206.8,2, -999.00,5, -999.00,5,  -999.0,     164,    19.0433, -999.00,5,     -999.0
33KB20100707,       PRS2,       2,          8,          5,       8005,2,20100709,       0738,  22.820667,-157.9330000,       4636,   174.9,  18.9026,  35.1201,2,  35.1187,2,    211.3,2,   211.3,2,    2.42,2,    0.15,2,  -999.0,     175,    18.8715,    1.59,2,     -999.0
33KB20100707,       PRS2,       2,          8,          4,       8004,2,20100709,       0738,  22.820667,-157.9330000,       4636,   200.5,  17.3708,  34.8408,2,  34.8505,2,    204.3,2,   205.3,2,    3.42,2,    0.26,2,  -999.0,     201,    17.3372,    3.19,2,     -999.0
33KB20100707,       PRS2,       2,          8,          3,       8003,2,20100709,       0738,  22.820667,-157.9330000,       4636,   459.3,   8.0495,  34.0600,2,  34.0642,2,    149.5,2,   143.0,2, -999.00,5, -999.00,5,  -999.0,     460,     8.0027, -999.00,5,     -999.0
33KB20100707,       PRS2,       2,          8,          2,       8002,2,20100709,       0738,  22.820667,-157.9330000,       4636,   769.7,   4.8845,  34.3565,2,  34.3580,2,     34.1,2,    34.6,2, -999.00,5, -999.00,5,  -999.0,     771,     4.8225, -999.00,5,     -999.0
33KB20100707,       PRS2,       2,          8,          1,       8001,2,20100709,       0738,  22.820667,-157.9330000,       4636,  1020.2,   3.9588,  34.4830,2,  34.4838,2,     47.6,2,    47.7,2, -999.00,5, -999.00,5,  -999.0,    1020,     3.8818, -999.00,5,     -999.0