BOTTLE,20141031SIOCCHAMB
EXPOCODE,SECT_ID,STNNBR,CASTNO,SAMPNO,BTLNBR,BTLNBR_FLAG_W,DATE,TIME,LATITUDE,LONGITUDE,DEPTH,CTDPRS,CTDTMP,CTDSAL,CTDSAL_FLAG_W,SALNTY,SALNTY_FLAG_W,CTDOXY,CTDOXY_FLAG_W,OXYGEN,OXYGEN_FLAG_W,SILCAT,SILCAT_FLAG_W,PHSPHT,PHSPHT_FLAG_W,REVPRS,CTDRAW,THETA,NO2+NO3,NO2+NO3_FLAG_W,REVTMP
,,,,,,,,,,,METERS,DBAR,ITS-90,PSS-78,,PSS-78,,UMOL/KG,,UMOL/KG,,UMOL/KG,,UMOL/KG,,DBAR,DBAR,ITS-90,UMOL/KG,,DEG C
33KB20100707,       PRS2,       2,         12,         22,       8022,2,20100709,       1746,  22.750000,-157.9098333,       4712,     6.4,  25.8032,  35.1811,2,-999.0000,5,    207.7,1,  -999.0,9, -999.00,9, -999.00,9,  -999.0,       6,    25.8018, -999.00,9,     -999.0
33KB20100707,       PRS2,       2,         12,         21,       8021,2,20100709,       1746,  22.750000,-157.9098333,       4712,     6.2,  25.8031,  35.1808,2,-999.0000,5,    207.7,1,  -999.0,9, -999.00,9, -999.00,9,  -999.0,       5,    25.8017, -999.00,9,     -999.0
33KB20100707,       PRS2,       2,         12,         20,       8020,2,20100709,       1746,  22.750000,-157.9098333,       4712,     6.0,  25.8040,  35.1808,2,  35.1805,2,    207.8,1,  -999.0,9, -999.00,9, -999.00,9,  -999.0,       6,    25.8026, -999.00,9,     -999.0
33KB20100707,       PRS2,       2,         12,         19,       8019,2,20100709,       1746,  22.750000,-157.9098333,       4712,    25.0,  25.8063,  35.1821,2,-999.0000,5,    207.9,1,  -999.0,9, -999.00,9, -999.00,9,  -999.0,      25,    25.8007, -999.00,9,     -999.0
33KB20100707,       PRS2,       2,         12,         18,       8018,2,20100709,       1746,  22.750000,-157.9098333,       4712,    25.1,  25.8064,  35.1821,2,  35.1827,2,    208.0,1,  -999.0,9, -999.00,9, -999.00,9,  -999.0,      25,    25.8008, -999.00,9,     -999.0
33KB20100707,       PRS2,       2,         12,         17,       8017,2,20100709,       1746,  22.750000,-157.9098333,       4712,    46.3,  25.3432,  35.4570,2,-999.0000,5,    209.6,1,  -999.0,9, -999.00,9, -999.00,9,  -999.0,      47,    25.3330, -999.00,9,     -999.0
33KB20100707,       PRS2,       2,         12,         16,       8016,2,20100709,       1746,  22.750000,-157.9098333,       4712,    46.2,  25.3475,  35.4556,2,  35.4539,2,    209.7,1,  -999.0,9, -999.00,9, -999.00,9,  -999.0,      47,    25.3374, -999.00,9,     -999.0
33KB20100707,       PRS2,       2,         12,         15,       8015,2,20100709,       1746,  22.750000,-157.9098333,       4712,    46.0,  25.3527,  35.4570,2,-999.0000,5,    209.7,1,  -999.0,9, -999.00,9, -999.00,9,  -999.0,      47,    25.3426, -999.00,9,     -999.0
33KB20100707,       PRS2,       2,         12,         14,       8014,2,20100709,       1746,  22.750000,-157.9098333,       4712,    74.5,  22.7691,  35.4091,2,-999.0000,5,    226.4,1,  -999.0,9, -999.00,9, -999.00,9,  -999.0,      75,    22.7540, -999.00,9,     -999.0
33KB20100707,       PRS2,       2,         12,         13,       8025,2,20100709,       1746,  22.750000,-157.9098333,       4712,    74.5,  22.7593,  35.4072,2,  35.4080,2,    226.5,1,  -999.0,9, -999.00,9, -999.00,9,  -999.0,      74,    22.7442, -999.00,9,     -999.0
33KB20100707,       PRS2,       2,         12,         12,       8012,2,20100709,       1746,  22.750000,-157.9098333,       4712,    99.5,  21.3730,  35.3737,2,-999.0000,5,    226.3,1,  -999.0,9, -999.00,9, -999.00,9,  -999.0,     100,    21.3537, -999.00,9,     -999.0
33KB20100707,       PRS2,       2,         12,         11,       8011,2,20100709,       1746,  22.750000,-157.9098333,       4712,    99.4,  21.3716,  35.3739,2,-999.0000,5,    226.4,1,  -999.0,9, -999.00,9, -999.00,9,  -999.0,      99,    21.3523, -999.00,9,     -999.0
33KB20100707,       PRS2,       2,         12,         10,       8010,2,20100709,       1746,  22.750000,-157.9098333,       4712,    99.2,  21.3657,  35.3742,2,  35.3748,2,    226.4,1,  -999.0,9, -999.00,9, -999.00,9,  -999.0,      99,    21.3465, -999.00,9,     -999.0
33KB20100707,       PRS2,       2,         12,          9,       8009,2,20100709,       1746,  22.750000,-157.9098333,       4712,   125.0,  20.4342,  35.3351,2,-999.0000,5,    219.7,1,  -999.0,9, -999.00,9, -999.00,9,  -999.0,     124,    20.4107, -999.00,9,     -999.0
33KB20100707,       PRS2,       2,         12,          8,       8008,2,20100709,       1746,  22.750000,-157.9098333,       4712,   125.3,  20.4354,  35.3360,2,  35.3287,2,    219.7,1,  -999.0,9, -999.00,9, -999.00,9,  -999.0,     125,    20.4119, -999.00,9,     -999.0
33KB20100707,       PRS2,       2,         12,          7,       8026,2,20100709,       1746,  22.750000,-157.9098333,       4712,   149.4,  19.6201,  35.2221,2,-999.0000,5,    213.2,1,  -999.0,9, -999.00,9, -999.00,9,  -999.0,     148,    19.5928, -999.00,9,     -999.0
33KB20100707,       PRS2,       2,         12,          6,       8006,2,20100709,       1746,  22.750000,-157.9098333,       4712,   149.7,  19.6149,  35.2204,2,  35.2227,2,    212.9,1,  -999.0,9, -999.00,9, -999.00,9,  -999.0,     150,    19.5876, -999.00,9,     -999.0
33KB20100707,       PRS2,       2,         12,          5,       8005,2,20100709,       1746,  22.750000,-157.9098333,       4712,   175.3,  18.7652,  35.0706,2,-999.0000,5,    209.4,1,  -999.0,9, -999.00,9, -999.00,9,  -999.0,     176,    18.7342, -999.00,9,     -999.0
33KB20100707,       PRS2,       2,         12,          4,       8004,2,20100709,       1746,  22.750000,-157.9098333,       4712,   175.2,  18.7654,  35.0710,2,  35.0730,2,    209.1,1,  -999.0,9, -999.00,9, -999.00,9,  -999.0,     176,    18.7344, -999.00,9,     -999.0
33KB20100707,       PRS2,       2,         12,          3,       8003,2,20100709,       1746,  22.750000,-157.9098333,       4712,   199.5,  17.7772,  34.8941,2,-999.0000,5,    206.3,1,  -999.0,9, -999.00,9, -999.00,9,  -999.0,     199,    17.7433, -999.00,9,     -999.0
33KB20100707,       PRS2,       2,         12,          2,       8002,2,20100709,       1746,  22.750000,-157.9098333,       4712,   452.5,   8.4640,  34.0840,2,  34.0858,2,    144.7,1,  -999.0,9, -999.00,9, -999.00,9,  -999.0,     452,     8.4165, -999.00,9,     -999.0
33KB20100707,       PRS2,       2,         12,          1,       8001,2,20100709,       1746,  22.750000,-157.9098333,       4712,  1021.0,   3.9306,  34.4827,2,  34.4836,2,     48.0,1,  -999.0,9, -999.00,9, -999.00,9,  -999.0,    1020,     3.8538, -999.00,9,     -999.0
33KB20100707,       PRS2,       2,         13,         24,       8024,2,20100709,       2104,  22.734833,-158.0260000,       4749,     6.5,  25.7692,  35.2609,2,-999.0000,5,    207.3,1,  -999.0,9, -999.00,9, -999.00,9,  -999.0,       6,    25.7678, -999.00,9,     -999.0
33KB20100707,       PRS2,       2,         13,         23,       8023,2,20100709,       2104,  22.734833,-158.0260000,       4749,     6.4,  25.7692,  35.2610,2,-999.0000,5,    207.4,1,  -999.0,9, -999.00,9, -999.00,9,  -999.0,       7,    25.7678, -999.00,9,     -999.0
33KB20100707,       PRS2,       2,         13,         22,       8022,2,20100709,       2104,  22.734833,-158.0260000,       4749,     6.4,  25.7684,  35.2612,2,-999.0000,5,    207.4,1,  -999.0,9, -999.00,9, -999.00,9,  -999.0,       6,    25.7670, -999.00,9,     -999.0
33KB20100707,       PRS2,       2,         13,         21,       8021,2,20100709,       2104,  22.734833,-158.0260000,       4749,     6.4,  25.7680,  35.2610,2,-999.0000,5,    207.4,1,  -999.0,9, -999.00,9, -999.00,9,  -999.0,       6,    25.7666, -999.00,9,     -999.0
33KB20100707,       PRS2,       2,         13,         20,       8020,2,20100709,       2104,  22.734833,-158.0260000,       4749,     6.4,  25.7681,  35.2609,2,-999.0000,5,    207.4,1,  -999.0,9, -999.00,9, -999.00,9,  -999.0,       6,    25.7667, -999.00,9,     -999.0
33KB20100707,       PRS2,       2,         13,         19,       8019,2,20100709,       2104,  22.734833,-158.0260000,       4749,     6.4,  25.7626,  35.2614,2,-999.0000,5,    207.4,1,  -999.0,9, -999.00,9, -999.00,9,  -999.0,       7,    25.7612, -999.00,9,     -999.0
33KB20100707,       PRS2,       2,         13,         18,       8018,2,20100709,       2104,  22.734833,-158.0260000,       4749,     6.5,  25.7624,  35.2614,2,-999.0000,5,    207.5,1,  -999.0,9, -999.00,9, -999.00,9,  -999.0,       6,    25.7610, -999.00,9,     -999.0
33KB20100707,       PRS2,       2,         13,         17,       8017,2,20100709,       2104,  22.734833,-158.0260000,       4749,     6.4,  25.7596,  35.2612,2,-999.0000,5,    207.5,1,  -999.0,9, -999.00,9, -999.00,9,  -999.0,       6,    25.7582, -999.00,9,     -999.0
33KB20100707,       PRS2,       2,         13,         16,       8016,2,20100709,       2104,  22.734833,-158.0260000,       4749,     6.4,  25.7600,  35.2613,2,-999.0000,5,    207.6,1,  -999.0,9, -999.00,9, -999.00,9,  -999.0,       6,    25.7585, -999.00,9,     -999.0
33KB20100707,       PRS2,       2,         13,         15,       8015,2,20100709,       2104,  22.734833,-158.0260000,       4749,     6.4,  25.7615,  35.2615,2,-999.0000,5,    207.5,1,  -999.0,9, -999.00,9, -999.00,9,  -999.0,       7,    25.7600, -999.00,9,     -999.0
33KB20100707,       PRS2,       2,         13,         14,       8014,2,20100709,       2104,  22.734833,-158.0260000,       4749,     6.4,  25.7627,  35.2614,2,-999.0000,5,    207.5,1,  -999.0,9, -999.00,9, -999.00,9,  -999.0,       6,    25.7613, -999.00,9,     -999.0
33KB20100707,       PRS2,       2,         13,         13,       8025,2,20100709,       2104,  22.734833,-158.0260000,       4749,     6.5,  25.7656,  35.2612,2,  35.2613,2,    207.5,1,  -999.0,9, -999.00,9, -999.00,9,  -999.0,       7,    25.7642, -999.00,9,     -999.0
33KB20100707,       PRS2,       2,         13,         12,       8012,2,20100709,       2104,  22.734833,-158.0260000,       4749,    24.8,  25.5279,  35.4009,2,-999.0000,5,    208.6,1,  -999.0,9, -999.00,9, -999.00,9,  -999.0,      25,    25.5224, -999.00,9,     -999.0
33KB20100707,       PRS2,       2,         13,         11,       8011,2,20100709,       2104,  22.734833,-158.0260000,       4749,    44.9,  25.2694,  35.4357,2,  35.4377,2,    210.6,1,  -999.0,9, -999.00,9, -999.00,9,  -999.0,      45,    25.2596, -999.00,9,     -999.0
33KB20100707,       PRS2,       2,         13,         10,       8010,2,20100709,       2104,  22.734833,-158.0260000,       4749,    60.0,  24.4067,  35.4085,2,  35.4160,2,    220.6,1,  -999.0,9, -999.00,9, -999.00,9,  -999.0,      60,    24.3939, -999.00,9,     -999.0
33KB20100707,       PRS2,       2,         13,          9,       8009,2,20100709,       2104,  22.734833,-158.0260000,       4749,    74.7,  22.3694,  35.4223,2,-999.0000,5,    228.8,1,  -999.0,9, -999.00,9, -999.00,9,  -999.0,      75,    22.3544, -999.00,9,     -999.0
33KB20100707,       PRS2,       2,         13,          8,       8008,2,20100709,       2104,  22.734833,-158.0260000,       4749,    85.1,  21.7684,  35.4102,2,  35.4101,2,    227.3,1,  -999.0,9, -999.00,9, -999.00,9,  -999.0,      85,    21.7517, -999.00,9,     -999.0
33KB20100707,       PRS2,       2,         13,          7,       8026,2,20100709,       2104,  22.734833,-158.0260000,       4749,    99.5,  21.2462,  35.3922,2,  35.3947,2,    224.0,1,  -999.0,9, -999.00,9, -999.00,9,  -999.0,      98,    21.2270, -999.00,9,     -999.0
33KB20100707,       PRS2,       2,         13,          6,       8006,2,20100709,       2104,  22.734833,-158.0260000,       4749,   124.9,  20.3911,  35.3135,2,  35.3102,2,    219.0,1,  -999.0,9, -999.00,9, -999.00,9,  -999.0,     125,    20.3677, -999.00,9,     -999.0
33KB20100707,       PRS2,       2,         13,          5,       8005,2,20100709,       2104,  22.734833,-158.0260000,       4749,   131.9,  20.0892,  35.2709,2,-999.0000,5,    213.8,1,  -999.0,9, -999.00,9, -999.00,9,  -999.0,     132,    20.0647, -999.00,9,     -999.0
33KB20100707,       PRS2,       2,         13,          4,       8004,2,20100709,       2104,  22.734833,-158.0260000,       4749,   151.3,  19.3632,  35.1488,2,-999.0000,5,    198.3,1,  -999.0,9, -999.00,9, -999.00,9,  -999.0,     151,    19.3359, -999.00,9,     -999.0
33KB20100707,       PRS2,       2,         13,          3,       8003,2,20100709,       2104,  22.734833,-158.0260000,       4749,   176.2,  18.7110,  35.0665,2,  35.0711,2,    205.8,1,  -999.0,9, -999.00,9, -999.00,9,  -999.0,     176,    18.6799, -999.00,9,     -999.0
33KB20100707,       PRS2,       2,         13,          2,       8002,2,20100709,       2104,  22.734833,-158.0260000,       4749,   479.4,   7.9685,  34.0873,2,  34.0878,2,    122.5,1,  -999.0,9, -999.00,9, -999.00,9,  -999.0,     479,     7.9199, -999.00,9,     -999.0
33KB20100707,       PRS2,       2,         13,          1,       8001,2,20100709,       2104,  22.734833,-158.0260000,       4749,  1019.9,   3.8964,  34.4873,2,  34.4873,2,     48.6,1,  -999.0,9, -999.00,9, -999.00,9,  -999.0,    1020,     3.8200, -999.00,9,     -999.0
33KB20100707,       PRS2,       2,         14,         24,       8024,2,20100710,       0020,  22.726667,-158.0166667,       4749,     7.4,  25.8666,  35.2031,2,  35.2022,2,    210.0,1,  -999.0,9, -999.00,9, -999.00,9,  -999.0,       8,    25.8650, -999.00,9,     -999.0
33KB20100707,       PRS2,       2,         14,         23,       8023,2,20100710,       0020,  22.726667,-158.0166667,       4749,    26.0,  25.4936,  35.3940,2,  35.3886,2,    209.9,1,  -999.0,9, -999.00,9, -999.00,9,  -999.0,      25,    25.4879, -999.00,9,     -999.0
33KB20100707,       PRS2,       2,         14,         22,       8022,2,20100710,       0020,  22.726667,-158.0166667,       4749,    26.3,  25.4938,  35.3933,2,-999.0000,5,    209.8,1,  -999.0,9, -999.00,9, -999.00,9,  -999.0,      25,    25.4880, -999.00,9,     -999.0
33KB20100707,       PRS2,       2,         14,         21,       8021,2,20100710,       0020,  22.726667,-158.0166667,       4749,    26.3,  25.4949,  35.3925,2,-999.0000,5,    209.7,1,  -999.0,9, -999.00,9, -999.00,9,  -999.0,      27,    25.4891, -999.00,9,     -999.0
33KB20100707,       PRS2,       2,         14,         20,       8020,2,20100710,       0020,  22.726667,-158.0166667,       4749,    45.3,  25.1330,  35.4842,2,  35.4874,2,    211.6,1,  -999.0,9, -999.00,9, -999.00,9,  -999.0,      46,    25.1232, -999.00,9,     -999.0
33KB20100707,       PRS2,       2,         14,         19,       8019,2,20100710,       0020,  22.726667,-158.0166667,       4749,    74.9,  22.8263,  35.4196,2,  35.4192,2,    227.5,1,  -999.0,9, -999.00,9, -999.00,9,  -999.0,      75,    22.8111, -999.00,9,     -999.0
33KB20100707,       PRS2,       2,         14,         18,       8018,2,20100710,       0020,  22.726667,-158.0166667,       4749,   100.3,  20.9461,  35.3656,2,  35.3668,2,    222.0,1,  -999.0,9, -999.00,9, -999.00,9,  -999.0,     100,    20.9269, -999.00,9,     -999.0
33KB20100707,       PRS2,       2,         14,         17,       8017,2,20100710,       0020,  22.726667,-158.0166667,       4749,   125.9,  20.3770,  35.3287,2,  35.3252,2,    220.3,1,  -999.0,9, -999.00,9, -999.00,9,  -999.0,     126,    20.3533, -999.00,9,     -999.0
33KB20100707,       PRS2,       2,         14,         16,       8016,2,20100710,       0020,  22.726667,-158.0166667,       4749,   150.5,  19.4054,  35.1795,2,  35.1837,2,    201.2,1,  -999.0,9, -999.00,9, -999.00,9,  -999.0,     151,    19.3781, -999.00,9,     -999.0
33KB20100707,       PRS2,       2,         14,         15,       8015,2,20100710,       0020,  22.726667,-158.0166667,       4749,   199.0,  17.4661,  34.8558,2,-999.0000,5,    202.7,1,  -999.0,9, -999.00,9, -999.00,9,  -999.0,     198,    17.4327, -999.00,9,     -999.0
33KB20100707,       PRS2,       2,         14,         14,       8014,2,20100710,       0020,  22.726667,-158.0166667,       4749,   199.0,  17.4765,  34.8573,2,-999.0000,5,    202.8,1,  -999.0,9, -999.00,9, -999.00,9,  -999.0,     198,    17.4430, -999.00,9,     -999.0
33KB20100707,       PRS2,       2,         14,         13,       8025,2,20100710,       0020,  22.726667,-158.0166667,       4749,   250.8,  15.1453,  34.5146,2,  34.5103,2,    196.2,1,  -999.0,9, -999.00,9, -999.00,9,  -999.0,     250,    15.1071, -999.00,9,     -999.0
33KB20100707,       PRS2,       2,         14,         12,       8012,2,20100710,       0020,  22.726667,-158.0166667,       4749,   300.0,  13.3696,  34.3404,2,-999.0000,5,    200.4,1,  -999.0,9, -999.00,9, -999.00,9,  -999.0,     301,    13.3277, -999.00,9,     -999.0
33KB20100707,       PRS2,       2,         14,         11,       8011,2,20100710,       0020,  22.726667,-158.0166667,       4749,   300.1,  13.3772,  34.3415,2,-999.0000,5,    200.5,1,  -999.0,9, -999.00,9, -999.00,9,  -999.0,     300,    13.3353, -999.00,9,     -999.0
33KB20100707,       PRS2,       2,         14,         10,       8010,2,20100710,       0020,  22.726667,-158.0166667,       4749,   349.7,  11.3159,  34.2101,2,  34.2119,2,    203.0,1,  -999.0,9, -999.00,9, -999.00,9,  -999.0,     350,    11.2721, -999.00,9,     -999.0
33KB20100707,       PRS2,       2,         14,          9,       8009,2,20100710,       0020,  22.726667,-158.0166667,       4749,   399.7,  10.0426,  34.1471,2,-999.0000,5,    197.3,1,  -999.0,9, -999.00,9, -999.00,9,  -999.0,     400,     9.9961, -999.00,9,     -999.0
33KB20100707,       PRS2,       2,         14,          8,       8008,2,20100710,       0020,  22.726667,-158.0166667,       4749,   499.2,   7.7661,  34.0872,2,-999.0000,5,    115.4,1,  -999.0,9, -999.00,9, -999.00,9,  -999.0,     499,     7.7161, -999.00,9,     -999.0
33KB20100707,       PRS2,       2,         14,          7,       8026,2,20100710,       0020,  22.726667,-158.0166667,       4749,   499.2,   7.7573,  34.0876,2,  34.0874,2,    115.1,1,  -999.0,9, -999.00,9, -999.00,9,  -999.0,     499,     7.7074, -999.00,9,     -999.0
33KB20100707,       PRS2,       2,         14,          6,       8006,2,20100710,       0020,  22.726667,-158.0166667,       4749,   600.9,   6.1230,  34.1585,2,-999.0000,5,     61.8,1,  -999.0,9, -999.00,9, -999.00,9,  -999.0,     601,     6.0699, -999.00,9,     -999.0
33KB20100707,       PRS2,       2,         14,          5,       8005,2,20100710,       0020,  22.726667,-158.0166667,       4749,   700.2,   5.4722,  34.2462,2,-999.0000,5,     42.2,1,  -999.0,9, -999.00,9, -999.00,9,  -999.0,     700,     5.4132, -999.00,9,     -999.0
33KB20100707,       PRS2,       2,         14,          4,       8004,2,20100710,       0020,  22.726667,-158.0166667,       4749,   769.6,   5.0459,  34.3116,2,-999.0000,5,     34.8,1,  -999.0,9, -999.00,9, -999.00,9,  -999.0,     770,     4.9830, -999.00,9,     -999.0
33KB20100707,       PRS2,       2,         14,          3,       8003,2,20100710,       0020,  22.726667,-158.0166667,       4749,   799.7,   4.8455,  34.3511,2,-999.0000,5,     34.3,1,  -999.0,9, -999.00,9, -999.00,9,  -999.0,     800,     4.7812, -999.00,9,     -999.0
33KB20100707,       PRS2,       2,         14,          2,       8002,2,20100710,       0020,  22.726667,-158.0166667,       4749,   900.5,   4.4455,  34.4302,2,-999.0000,5,     38.5,1,  -999.0,9, -999.00,9, -999.00,9,  -999.0,     901,     4.3750, -999.00,9,     -999.0
33KB20100707,       PRS2,       2,         14,          1,       8001,2,20100710,       0020,  22.726667,-158.0166667,       4749,  1020.6,   3.9857,  34.4757,2,  34.4767,2,     46.0,1,  -999.0,9, -999.00,9, -999.00,9,  -999.0,    1022,     3.9084, -999.00,9,     -999.0