BOTTLE,20141031SIOCCHAMB
EXPOCODE,SECT_ID,STNNBR,CASTNO,SAMPNO,BTLNBR,BTLNBR_FLAG_W,DATE,TIME,LATITUDE,LONGITUDE,DEPTH,CTDPRS,CTDTMP,CTDSAL,CTDSAL_FLAG_W,SALNTY,SALNTY_FLAG_W,CTDOXY,CTDOXY_FLAG_W,OXYGEN,OXYGEN_FLAG_W,SILCAT,SILCAT_FLAG_W,PHSPHT,PHSPHT_FLAG_W,REVPRS,CTDRAW,THETA,NO2+NO3,NO2+NO3_FLAG_W,REVTMP
,,,,,,,,,,,METERS,DBAR,ITS-90,PSS-78,,PSS-78,,UMOL/KG,,UMOL/KG,,UMOL/KG,,UMOL/KG,,DBAR,DBAR,ITS-90,UMOL/KG,,DEG C
33KB20100707,       PRS2,       2,         15,         22,       8022,2,20100710,       0254,  22.749667,-158.0000000,       4750,     7.2,  25.8407,  35.2159,2,-999.0000,5,    210.6,1,  -999.0,9, -999.00,9, -999.00,9,  -999.0,       7,    25.8391, -999.00,9,     -999.0
33KB20100707,       PRS2,       2,         15,         21,       8021,2,20100710,       0254,  22.749667,-158.0000000,       4750,     7.1,  25.8407,  35.2157,2,  35.2160,2,    210.5,1,  -999.0,9, -999.00,9, -999.00,9,  -999.0,       7,    25.8391, -999.00,9,     -999.0
33KB20100707,       PRS2,       2,         15,         20,       8020,2,20100710,       0254,  22.749667,-158.0000000,       4750,    14.8,  25.8453,  35.2169,2,  35.2182,2,    210.4,1,  -999.0,9, -999.00,9, -999.00,9,  -999.0,      15,    25.8421, -999.00,9,     -999.0
33KB20100707,       PRS2,       2,         15,         19,       8019,2,20100710,       0254,  22.749667,-158.0000000,       4750,    25.7,  25.5199,  35.4065,2,-999.0000,5,    210.4,1,  -999.0,9, -999.00,9, -999.00,9,  -999.0,      25,    25.5142, -999.00,9,     -999.0
33KB20100707,       PRS2,       2,         15,         18,       8018,2,20100710,       0254,  22.749667,-158.0000000,       4750,    25.6,  25.5239,  35.4052,2,  35.3920,2,    210.3,1,  -999.0,9, -999.00,9, -999.00,9,  -999.0,      25,    25.5183, -999.00,9,     -999.0
33KB20100707,       PRS2,       2,         15,         17,       8017,2,20100710,       0254,  22.749667,-158.0000000,       4750,    35.0,  25.3258,  35.4374,2,  35.4308,2,    210.3,1,  -999.0,9, -999.00,9, -999.00,9,  -999.0,      36,    25.3182, -999.00,9,     -999.0
33KB20100707,       PRS2,       2,         15,         16,       8016,2,20100710,       0254,  22.749667,-158.0000000,       4750,    34.5,  25.3313,  35.4342,2,  35.4322,2,    210.2,1,  -999.0,9, -999.00,9, -999.00,9,  -999.0,      34,    25.3237, -999.00,9,     -999.0
33KB20100707,       PRS2,       2,         15,         15,       8015,2,20100710,       0254,  22.749667,-158.0000000,       4750,    45.9,  25.2378,  35.4860,2,-999.0000,5,    210.3,1,  -999.0,9, -999.00,9, -999.00,9,  -999.0,      46,    25.2277, -999.00,9,     -999.0
33KB20100707,       PRS2,       2,         15,         14,       8014,2,20100710,       0254,  22.749667,-158.0000000,       4750,    45.8,  25.2394,  35.4854,2,  35.4843,2,    210.3,1,  -999.0,9, -999.00,9, -999.00,9,  -999.0,      46,    25.2294, -999.00,9,     -999.0
33KB20100707,       PRS2,       2,         15,         13,       8025,2,20100710,       0254,  22.749667,-158.0000000,       4750,    60.4,  24.1665,  35.4271,2,  35.4285,2,    220.4,1,  -999.0,9, -999.00,9, -999.00,9,  -999.0,      60,    24.1537, -999.00,9,     -999.0
33KB20100707,       PRS2,       2,         15,         12,       8012,2,20100710,       0254,  22.749667,-158.0000000,       4750,    74.9,  22.8341,  35.4170,2,-999.0000,5,    229.2,1,  -999.0,9, -999.00,9, -999.00,9,  -999.0,      75,    22.8188, -999.00,9,     -999.0
33KB20100707,       PRS2,       2,         15,         11,       8011,2,20100710,       0254,  22.749667,-158.0000000,       4750,    74.9,  22.8334,  35.4169,2,  35.4156,2,    229.2,1,  -999.0,9, -999.00,9, -999.00,9,  -999.0,      75,    22.8182, -999.00,9,     -999.0
33KB20100707,       PRS2,       2,         15,         10,       8010,2,20100710,       0254,  22.749667,-158.0000000,       4750,   100.5,  21.2684,  35.3824,2,-999.0000,5,    222.8,1,  -999.0,9, -999.00,9, -999.00,9,  -999.0,     100,    21.2490, -999.00,9,     -999.0
33KB20100707,       PRS2,       2,         15,          9,       8009,2,20100710,       0254,  22.749667,-158.0000000,       4750,   100.4,  21.2689,  35.3825,2,  35.3835,2,    222.5,1,  -999.0,9, -999.00,9, -999.00,9,  -999.0,     100,    21.2495, -999.00,9,     -999.0
33KB20100707,       PRS2,       2,         15,          8,       8008,2,20100710,       0254,  22.749667,-158.0000000,       4750,   124.0,  20.7371,  35.3594,2,-999.0000,5,    220.7,1,  -999.0,9, -999.00,9, -999.00,9,  -999.0,     124,    20.7136, -999.00,9,     -999.0
33KB20100707,       PRS2,       2,         15,          7,       8026,2,20100710,       0254,  22.749667,-158.0000000,       4750,   124.0,  20.7374,  35.3593,2,  35.3600,2,    220.7,1,  -999.0,9, -999.00,9, -999.00,9,  -999.0,     124,    20.7139, -999.00,9,     -999.0
33KB20100707,       PRS2,       2,         15,          6,       8006,2,20100710,       0254,  22.749667,-158.0000000,       4750,   149.3,  19.5656,  35.1838,2,  35.1886,2,    203.5,1,  -999.0,9, -999.00,9, -999.00,9,  -999.0,     149,    19.5385, -999.00,9,     -999.0
33KB20100707,       PRS2,       2,         15,          5,       8005,2,20100710,       0254,  22.749667,-158.0000000,       4750,   149.4,  19.5623,  35.1827,2,-999.0000,5,    202.1,1,  -999.0,9, -999.00,9, -999.00,9,  -999.0,     149,    19.5351, -999.00,9,     -999.0
33KB20100707,       PRS2,       2,         15,          4,       8004,2,20100710,       0254,  22.749667,-158.0000000,       4750,   175.6,  18.8621,  35.0884,2,  35.0915,2,    204.2,1,  -999.0,9, -999.00,9, -999.00,9,  -999.0,     176,    18.8310, -999.00,9,     -999.0
33KB20100707,       PRS2,       2,         15,          3,       8003,2,20100710,       0254,  22.749667,-158.0000000,       4750,   175.6,  18.8604,  35.0881,2,-999.0000,5,    204.4,1,  -999.0,9, -999.00,9, -999.00,9,  -999.0,     175,    18.8293, -999.00,9,     -999.0
33KB20100707,       PRS2,       2,         15,          2,       8002,2,20100710,       0254,  22.749667,-158.0000000,       4750,   474.8,   8.1585,  34.0910,2,  34.0972,2,    129.1,1,  -999.0,9, -999.00,9, -999.00,9,  -999.0,     475,     8.1097, -999.00,9,     -999.0
33KB20100707,       PRS2,       2,         15,          1,       8001,2,20100710,       0254,  22.749667,-158.0000000,       4750,  1020.5,   3.9719,  34.4821,2,  34.4830,2,     46.6,1,  -999.0,9, -999.00,9, -999.00,9,  -999.0,    1020,     3.8948, -999.00,9,     -999.0
33KB20100707,       PRS2,       2,         16,         22,       8022,2,20100710,       0556,  22.750000,-157.9991667,       4746,     7.1,  25.8866,  35.1879,2,-999.0000,5,    207.9,1,  -999.0,9, -999.00,9, -999.00,9,  -999.0,       7,    25.8850, -999.00,9,     -999.0
33KB20100707,       PRS2,       2,         16,         21,       8021,2,20100710,       0556,  22.750000,-157.9991667,       4746,     7.1,  25.8871,  35.1878,2,  35.1882,2,    207.7,1,  -999.0,9, -999.00,9, -999.00,9,  -999.0,       7,    25.8855, -999.00,9,     -999.0
33KB20100707,       PRS2,       2,         16,         20,       8020,2,20100710,       0556,  22.750000,-157.9991667,       4746,    25.5,  25.8932,  35.1876,2,-999.0000,5,    207.7,1,  -999.0,9, -999.00,9, -999.00,9,  -999.0,      25,    25.8875, -999.00,9,     -999.0
33KB20100707,       PRS2,       2,         16,         19,       8019,2,20100710,       0556,  22.750000,-157.9991667,       4746,    25.5,  25.8889,  35.1919,2,  35.1955,2,    207.8,1,  -999.0,9, -999.00,9, -999.00,9,  -999.0,      26,    25.8832, -999.00,9,     -999.0
33KB20100707,       PRS2,       2,         16,         18,       8018,2,20100710,       0556,  22.750000,-157.9991667,       4746,    45.3,  25.3738,  35.4420,2,-999.0000,5,    210.7,1,  -999.0,9, -999.00,9, -999.00,9,  -999.0,      45,    25.3639, -999.00,9,     -999.0
33KB20100707,       PRS2,       2,         16,         17,       8017,2,20100710,       0556,  22.750000,-157.9991667,       4746,    45.5,  25.3740,  35.4422,2,  35.4440,2,    210.6,1,  -999.0,9, -999.00,9, -999.00,9,  -999.0,      45,    25.3640, -999.00,9,     -999.0
33KB20100707,       PRS2,       2,         16,         16,       8016,2,20100710,       0556,  22.750000,-157.9991667,       4746,    60.5,  24.5865,  35.4608,2,  35.4529,2,    216.2,1,  -999.0,9, -999.00,9, -999.00,9,  -999.0,      60,    24.5735, -999.00,9,     -999.0
33KB20100707,       PRS2,       2,         16,         15,       8015,2,20100710,       0556,  22.750000,-157.9991667,       4746,    75.2,  22.5630,  35.3921,2,-999.0000,5,    227.8,1,  -999.0,9, -999.00,9, -999.00,9,  -999.0,      75,    22.5478, -999.00,9,     -999.0
33KB20100707,       PRS2,       2,         16,         14,       8014,2,20100710,       0556,  22.750000,-157.9991667,       4746,    75.4,  22.5427,  35.3921,2,  35.3930,2,    228.0,1,  -999.0,9, -999.00,9, -999.00,9,  -999.0,      75,    22.5275, -999.00,9,     -999.0
33KB20100707,       PRS2,       2,         16,         13,       8025,2,20100710,       0556,  22.750000,-157.9991667,       4746,    85.2,  21.7630,  35.4047,2,  35.4046,2,    226.9,1,  -999.0,9, -999.00,9, -999.00,9,  -999.0,      86,    21.7462, -999.00,9,     -999.0
33KB20100707,       PRS2,       2,         16,         12,       8012,2,20100710,       0556,  22.750000,-157.9991667,       4746,    99.5,  20.9042,  35.3525,2,-999.0000,5,    220.0,1,  -999.0,9, -999.00,9, -999.00,9,  -999.0,      99,    20.8852, -999.00,9,     -999.0
33KB20100707,       PRS2,       2,         16,         11,       8011,2,20100710,       0556,  22.750000,-157.9991667,       4746,    99.7,  20.8976,  35.3527,2,  35.3545,2,    219.9,1,  -999.0,9, -999.00,9, -999.00,9,  -999.0,      99,    20.8786, -999.00,9,     -999.0
33KB20100707,       PRS2,       2,         16,         10,       8010,2,20100710,       0556,  22.750000,-157.9991667,       4746,   115.0,  20.3930,  35.3202,2,  35.3191,2,    219.3,1,  -999.0,9, -999.00,9, -999.00,9,  -999.0,     115,    20.3714, -999.00,9,     -999.0
33KB20100707,       PRS2,       2,         16,          9,       8009,2,20100710,       0556,  22.750000,-157.9991667,       4746,   124.8,  19.9502,  35.2673,2,-999.0000,5,    217.3,1,  -999.0,9, -999.00,9, -999.00,9,  -999.0,     124,    19.9272, -999.00,9,     -999.0
33KB20100707,       PRS2,       2,         16,          8,       8008,2,20100710,       0556,  22.750000,-157.9991667,       4746,   124.8,  19.9508,  35.2675,2,  35.2759,2,    216.8,1,  -999.0,9, -999.00,9, -999.00,9,  -999.0,     126,    19.9277, -999.00,9,     -999.0
33KB20100707,       PRS2,       2,         16,          7,       8026,2,20100710,       0556,  22.750000,-157.9991667,       4746,   134.2,  19.5767,  35.1906,2,  35.1918,2,    202.9,1,  -999.0,9, -999.00,9, -999.00,9,  -999.0,     134,    19.5522, -999.00,9,     -999.0
33KB20100707,       PRS2,       2,         16,          6,       8006,2,20100710,       0556,  22.750000,-157.9991667,       4746,   149.3,  19.2221,  35.1457,2,-999.0000,5,    200.9,1,  -999.0,9, -999.00,9, -999.00,9,  -999.0,     149,    19.1952, -999.00,9,     -999.0
33KB20100707,       PRS2,       2,         16,          5,       8005,2,20100710,       0556,  22.750000,-157.9991667,       4746,   149.4,  19.2201,  35.1456,2,  35.1469,2,    201.3,1,  -999.0,9, -999.00,9, -999.00,9,  -999.0,     150,    19.1933, -999.00,9,     -999.0
33KB20100707,       PRS2,       2,         16,          4,       8004,2,20100710,       0556,  22.750000,-157.9991667,       4746,   174.1,  18.5095,  35.0362,2,-999.0000,5,    205.7,1,  -999.0,9, -999.00,9, -999.00,9,  -999.0,     174,    18.4790, -999.00,9,     -999.0
33KB20100707,       PRS2,       2,         16,          3,       8003,2,20100710,       0556,  22.750000,-157.9991667,       4746,   174.1,  18.5103,  35.0355,2,  35.0346,2,    205.7,1,  -999.0,9, -999.00,9, -999.00,9,  -999.0,     174,    18.4798, -999.00,9,     -999.0
33KB20100707,       PRS2,       2,         16,          2,       8002,2,20100710,       0556,  22.750000,-157.9991667,       4746,   449.7,   8.2859,  34.0906,2,  34.0931,2,    133.2,1,  -999.0,9, -999.00,9, -999.00,9,  -999.0,     450,     8.2394, -999.00,9,     -999.0
33KB20100707,       PRS2,       2,         16,          1,       8001,2,20100710,       0556,  22.750000,-157.9991667,       4746,  1019.0,   3.8977,  34.4882,2,  34.4889,2,     48.5,1,  -999.0,9, -999.00,9, -999.00,9,  -999.0,    1019,     3.8213, -999.00,9,     -999.0
33KB20100707,       PRS2,       2,         17,         14,       8014,2,20100710,       0910,  22.750833,-157.9998333,       4747,     7.2,  25.8026,  35.1856,2,  35.1851,2,    207.6,2,   207.4,2, -999.00,9, -999.00,9,  -999.0,       6,    25.8010, -999.00,9,     -999.0
33KB20100707,       PRS2,       2,         17,         13,       8025,2,20100710,       0910,  22.750833,-157.9998333,       4747,    80.3,  22.0589,  35.4090,2,  35.4087,2,    228.7,2,   229.3,2, -999.00,9, -999.00,9,  -999.0,      81,    22.0430, -999.00,9,     -999.0
33KB20100707,       PRS2,       2,         17,         12,       8012,2,20100710,       0910,  22.750833,-157.9998333,       4747,   449.7,   8.5762,  34.0916,2,  34.0917,2,    140.0,2,   143.1,2, -999.00,9, -999.00,9,  -999.0,     449,     8.5286, -999.00,9,     -999.0
33KB20100707,       PRS2,       2,         17,         11,       8011,2,20100710,       0910,  22.750833,-157.9998333,       4747,   771.1,   4.9432,  34.3368,2,  34.3348,2,     34.3,2,    33.8,2, -999.00,9, -999.00,9,  -999.0,     771,     4.8808, -999.00,9,     -999.0
33KB20100707,       PRS2,       2,         17,         10,       8010,2,20100710,       0910,  22.750833,-157.9998333,       4747,  1000.6,   4.0267,  34.4751,2,-999.0000,5,     45.1,2,  -999.0,5, -999.00,9, -999.00,9,  -999.0,    1000,     3.9508, -999.00,9,     -999.0
33KB20100707,       PRS2,       2,         17,          9,       8009,2,20100710,       0910,  22.750833,-157.9998333,       4747,  2000.0,   2.1026,  34.6209,2,-999.0000,5,     90.4,2,  -999.0,5, -999.00,9, -999.00,9,  -999.0,    2000,     1.9646, -999.00,9,     -999.0
33KB20100707,       PRS2,       2,         17,          8,       8008,2,20100710,       0910,  22.750833,-157.9998333,       4747,  1999.8,   2.1012,  34.6209,2,  34.6201,2,     90.5,2,    91.0,2, -999.00,9, -999.00,9,  -999.0,    2000,     1.9633, -999.00,9,     -999.0
33KB20100707,       PRS2,       2,         17,          7,       8026,2,20100710,       0910,  22.750833,-157.9998333,       4747,  3000.7,   1.5550,  34.6691,2,-999.0000,5,    124.6,2,  -999.0,5, -999.00,9, -999.00,9,  -999.0,    3000,     1.3370, -999.00,9,     -999.0
33KB20100707,       PRS2,       2,         17,          6,       8006,2,20100710,       0910,  22.750833,-157.9998333,       4747,  3000.7,   1.5548,  34.6691,2,  34.6686,2,    124.6,2,   124.9,2, -999.00,9, -999.00,9,  -999.0,    3000,     1.3368, -999.00,9,     -999.0
33KB20100707,       PRS2,       2,         17,          5,       8005,2,20100710,       0910,  22.750833,-157.9998333,       4747,  3999.4,   1.4553,  34.6873,2,-999.0000,5,    148.8,2,  -999.0,5, -999.00,9, -999.00,9,  -999.0,    4000,     1.1378, -999.00,9,     -999.0
33KB20100707,       PRS2,       2,         17,          4,       8004,2,20100710,       0910,  22.750833,-157.9998333,       4747,  3999.2,   1.4554,  34.6871,2,  34.6863,2,    148.8,2,   148.4,2, -999.00,9, -999.00,9,  -999.0,    3999,     1.1378, -999.00,9,     -999.0
33KB20100707,       PRS2,       2,         17,          3,       8003,2,20100710,       0910,  22.750833,-157.9998333,       4747,  4749.2,   1.5041,  34.6905,2,-999.0000,5,    154.3,2,  -999.0,5, -999.00,9, -999.00,9,  -999.0,    4750,     1.0998, -999.00,9,     -999.0
33KB20100707,       PRS2,       2,         17,          2,       8002,2,20100710,       0910,  22.750833,-157.9998333,       4747,  4809.2,   1.5113,  34.6906,2,-999.0000,5,    154.4,2,  -999.0,5, -999.00,9, -999.00,9,  -999.0,    4808,     1.0997, -999.00,9,     -999.0
33KB20100707,       PRS2,       2,         17,          1,       8001,2,20100710,       0910,  22.750833,-157.9998333,       4747,  4809.4,   1.5114,  34.6905,2,  34.6903,2,    154.4,2,   154.5,2, -999.00,9, -999.00,9,  -999.0,    4809,     1.0998, -999.00,9,     -999.0