BOTTLE,20141031SIOCCHAMB
EXPOCODE,SECT_ID,STNNBR,CASTNO,SAMPNO,BTLNBR,BTLNBR_FLAG_W,DATE,TIME,LATITUDE,LONGITUDE,DEPTH,CTDPRS,CTDTMP,CTDSAL,CTDSAL_FLAG_W,SALNTY,SALNTY_FLAG_W,CTDOXY,CTDOXY_FLAG_W,OXYGEN,OXYGEN_FLAG_W,SILCAT,SILCAT_FLAG_W,PHSPHT,PHSPHT_FLAG_W,REVPRS,CTDRAW,THETA,NO2+NO3,NO2+NO3_FLAG_W,REVTMP
,,,,,,,,,,,METERS,DBAR,ITS-90,PSS-78,,PSS-78,,UMOL/KG,,UMOL/KG,,UMOL/KG,,UMOL/KG,,DBAR,DBAR,ITS-90,UMOL/KG,,DEG C
33KB20100707,       PRS2,       1,          1,         24,       8024,2,20100707,       2245,  21.343167,-158.2731667,       1562,     5.3,  25.7208,  34.9967,2,  34.9969,2,    208.5,2,   208.4,2, -999.00,9, -999.00,9,  -999.0,       4,    25.7196, -999.00,9,     -999.0
33KB20100707,       PRS2,       1,          1,         23,       8023,2,20100707,       2245,  21.343167,-158.2731667,       1562,     5.2,  25.7247,  34.9964,2,  34.9955,2,    208.5,2,   208.5,2, -999.00,9, -999.00,9,  -999.0,       5,    25.7235, -999.00,9,     -999.0
33KB20100707,       PRS2,       1,          1,         22,       8022,2,20100707,       2245,  21.343167,-158.2731667,       1562,    25.4,  25.6401,  34.9954,2,  34.9943,2,    208.5,2,   209.1,2, -999.00,9, -999.00,9,  -999.0,      25,    25.6345, -999.00,9,     -999.0
33KB20100707,       PRS2,       1,          1,         21,       8021,2,20100707,       2245,  21.343167,-158.2731667,       1562,    44.8,  25.6224,  34.9941,2,  34.9939,2,    208.9,2,   209.0,2, -999.00,9, -999.00,9,  -999.0,      44,    25.6125, -999.00,9,     -999.0
33KB20100707,       PRS2,       1,          1,         20,       8020,2,20100707,       2245,  21.343167,-158.2731667,       1562,    60.5,  25.6033,  34.9923,2,  34.9970,2,    209.2,2,   209.2,2, -999.00,9, -999.00,9,  -999.0,      61,    25.5900, -999.00,9,     -999.0
33KB20100707,       PRS2,       1,          1,         19,       8019,2,20100707,       2245,  21.343167,-158.2731667,       1562,    74.8,  24.6595,  35.1780,2,  35.1754,2,    215.8,2,   215.0,2, -999.00,9, -999.00,9,  -999.0,      75,    24.6434, -999.00,9,     -999.0
33KB20100707,       PRS2,       1,          1,         18,       8018,2,20100707,       2245,  21.343167,-158.2731667,       1562,   100.2,  23.5534,  35.2425,2,  35.2398,2,    212.6,2,   212.2,2, -999.00,9, -999.00,9,  -999.0,     100,    23.5326, -999.00,9,     -999.0
33KB20100707,       PRS2,       1,          1,         17,       8017,2,20100707,       2245,  21.343167,-158.2731667,       1562,   115.4,  22.5733,  35.2815,2,  35.2806,2,    209.3,2,   209.6,2, -999.00,9, -999.00,9,  -999.0,     115,    22.5500, -999.00,9,     -999.0
33KB20100707,       PRS2,       1,          1,         16,       8016,2,20100707,       2245,  21.343167,-158.2731667,       1562,   125.3,  22.3785,  35.3008,2,  35.3007,2,    209.6,2,   210.3,2, -999.00,9, -999.00,9,  -999.0,     124,    22.3534, -999.00,9,     -999.0
33KB20100707,       PRS2,       1,          1,         15,       8015,2,20100707,       2245,  21.343167,-158.2731667,       1562,   150.2,  21.2856,  35.2397,2,  35.2404,2,    203.9,2,   203.7,2, -999.00,9, -999.00,9,  -999.0,     150,    21.2565, -999.00,9,     -999.0
33KB20100707,       PRS2,       1,          1,         14,       8014,2,20100707,       2245,  21.343167,-158.2731667,       1562,   175.3,  20.2493,  35.1496,2,  35.1433,2,    200.8,2,   200.0,2, -999.00,9, -999.00,9,  -999.0,     175,    20.2166, -999.00,9,     -999.0
33KB20100707,       PRS2,       1,          1,         13,       8025,2,20100707,       2245,  21.343167,-158.2731667,       1562,   200.1,  18.6479,  34.9665,2,  34.9567,2,    194.8,2,   195.2,2, -999.00,9, -999.00,9,  -999.0,     200,    18.6127, -999.00,9,     -999.0
33KB20100707,       PRS2,       1,          1,         12,       8012,2,20100707,       2245,  21.343167,-158.2731667,       1562,   225.7,  17.6943,  34.8349,2,  34.8330,2,    192.2,2,   192.1,2, -999.00,9, -999.00,9,  -999.0,     225,    17.6560, -999.00,9,     -999.0
33KB20100707,       PRS2,       1,          1,         11,       8011,2,20100707,       2245,  21.343167,-158.2731667,       1562,   250.2,  16.9558,  34.7321,2,  34.7321,2,    189.3,2,   190.1,2, -999.00,9, -999.00,9,  -999.0,     250,    16.9146, -999.00,9,     -999.0
33KB20100707,       PRS2,       1,          1,         10,       8010,2,20100707,       2245,  21.343167,-158.2731667,       1562,   300.6,  12.7509,  34.2715,2,  34.2674,2,    178.6,2,   178.7,2, -999.00,9, -999.00,9,  -999.0,     301,    12.7102, -999.00,9,     -999.0
33KB20100707,       PRS2,       1,          1,          9,       8009,2,20100707,       2245,  21.343167,-158.2731667,       1562,   350.7,  10.9001,  34.1707,2,  34.1697,2,    165.5,2,   164.7,2, -999.00,9, -999.00,9,  -999.0,     350,    10.8572, -999.00,9,     -999.0
33KB20100707,       PRS2,       1,          1,          8,       8008,2,20100707,       2245,  21.343167,-158.2731667,       1562,   400.9,   8.9767,  34.1025,2,  34.1005,2,    146.6,2,   147.0,2, -999.00,9, -999.00,9,  -999.0,     401,     8.9332, -999.00,9,     -999.0
33KB20100707,       PRS2,       1,          1,          7,       8026,2,20100707,       2245,  21.343167,-158.2731667,       1562,   500.0,   7.1450,  34.1184,2,  34.1191,2,     97.6,2,    93.3,2, -999.00,9, -999.00,9,  -999.0,     499,     7.0973, -999.00,9,     -999.0
33KB20100707,       PRS2,       1,          1,          6,       8006,2,20100707,       2245,  21.343167,-158.2731667,       1562,   600.8,   5.8302,  34.2033,2,  34.2024,2,     50.9,2,    50.2,2, -999.00,9, -999.00,9,  -999.0,     601,     5.7783, -999.00,9,     -999.0
33KB20100707,       PRS2,       1,          1,          5,       8005,2,20100707,       2245,  21.343167,-158.2731667,       1562,   700.2,   5.2308,  34.3181,2,  34.3156,2,     37.4,2,    37.6,2, -999.00,9, -999.00,9,  -999.0,     700,     5.1730, -999.00,9,     -999.0
33KB20100707,       PRS2,       1,          1,          4,       8004,2,20100707,       2245,  21.343167,-158.2731667,       1562,   750.8,   5.0445,  34.3536,2,  34.3523,2,     35.6,2,    35.5,2, -999.00,9, -999.00,9,  -999.0,     751,     4.9832, -999.00,9,     -999.0
33KB20100707,       PRS2,       1,          1,          3,       8003,2,20100707,       2245,  21.343167,-158.2731667,       1562,   900.7,   4.5492,  34.4446,2,  34.4473,2,     40.4,2,    40.8,2, -999.00,9, -999.00,9,  -999.0,     901,     4.4780, -999.00,9,     -999.0
33KB20100707,       PRS2,       1,          1,          2,       8002,2,20100707,       2245,  21.343167,-158.2731667,       1562,   900.7,   4.5477,  34.4450,2,  34.4479,2,     40.4,2,    40.7,2, -999.00,9, -999.00,9,  -999.0,     900,     4.4765, -999.00,9,     -999.0
33KB20100707,       PRS2,       1,          1,          1,       8001,2,20100707,       2245,  21.343167,-158.2731667,       1562,  1019.4,   4.2161,  34.4876,2,  34.4868,2,     45.1,2,    45.0,2, -999.00,9, -999.00,9,  -999.0,    1019,     4.1372, -999.00,9,     -999.0
33KB20100707,       PRS2,       2,          1,         18,       8018,2,20100708,       1017,  22.745000,-157.9425000,       4725,     4.2,  25.8645,  35.1343,2,-999.0000,9,    207.9,1,  -999.0,9, -999.00,9, -999.00,9,  -999.0,       4,    25.8636, -999.00,9,     -999.0
33KB20100707,       PRS2,       2,          1,         17,       8017,2,20100708,       1017,  22.745000,-157.9425000,       4725,     4.3,  25.8667,  35.1343,2,-999.0000,9,    208.0,1,  -999.0,9, -999.00,9, -999.00,9,  -999.0,       5,    25.8657, -999.00,9,     -999.0
33KB20100707,       PRS2,       2,          1,         16,       8016,2,20100708,       1017,  22.745000,-157.9425000,       4725,     4.3,  25.8656,  35.1343,2,-999.0000,9,    207.9,1,  -999.0,9, -999.00,9, -999.00,9,  -999.0,       4,    25.8647, -999.00,9,     -999.0
33KB20100707,       PRS2,       2,          1,         15,       8015,2,20100708,       1017,  22.745000,-157.9425000,       4725,     4.2,  25.8641,  35.1340,2,-999.0000,9,    207.8,1,  -999.0,9, -999.00,9, -999.00,9,  -999.0,       5,    25.8631, -999.00,9,     -999.0
33KB20100707,       PRS2,       2,          1,         14,       8014,2,20100708,       1017,  22.745000,-157.9425000,       4725,     4.2,  25.8627,  35.1336,2,-999.0000,9,    207.9,1,  -999.0,9, -999.00,9, -999.00,9,  -999.0,       4,    25.8618, -999.00,9,     -999.0
33KB20100707,       PRS2,       2,          1,         13,       8025,2,20100708,       1017,  22.745000,-157.9425000,       4725,     4.3,  25.8671,  35.1339,2,-999.0000,9,    207.9,1,  -999.0,9, -999.00,9, -999.00,9,  -999.0,       4,    25.8661, -999.00,9,     -999.0
33KB20100707,       PRS2,       2,          1,         12,       8012,2,20100708,       1017,  22.745000,-157.9425000,       4725,     4.3,  25.8657,  35.1338,2,-999.0000,9,    207.9,1,  -999.0,9, -999.00,9, -999.00,9,  -999.0,       4,    25.8647, -999.00,9,     -999.0
33KB20100707,       PRS2,       2,          1,         11,       8011,2,20100708,       1017,  22.745000,-157.9425000,       4725,     4.0,  25.8674,  35.1331,2,-999.0000,9,    207.8,1,  -999.0,9, -999.00,9, -999.00,9,  -999.0,       4,    25.8665, -999.00,9,     -999.0
33KB20100707,       PRS2,       2,          1,         10,       8010,2,20100708,       1017,  22.745000,-157.9425000,       4725,     4.0,  25.8670,  35.1329,2,-999.0000,9,    207.8,1,  -999.0,9, -999.00,9, -999.00,9,  -999.0,       3,    25.8661, -999.00,9,     -999.0
33KB20100707,       PRS2,       2,          1,          9,       8009,2,20100708,       1017,  22.745000,-157.9425000,       4725,     4.2,  25.8666,  35.1328,2,-999.0000,9,    207.8,1,  -999.0,9, -999.00,9, -999.00,9,  -999.0,       4,    25.8656, -999.00,9,     -999.0
33KB20100707,       PRS2,       2,          1,          8,       8008,2,20100708,       1017,  22.745000,-157.9425000,       4725,     4.2,  25.8652,  35.1326,2,-999.0000,9,    207.8,1,  -999.0,9, -999.00,9, -999.00,9,  -999.0,       4,    25.8643, -999.00,9,     -999.0
33KB20100707,       PRS2,       2,          1,          7,       8026,2,20100708,       1017,  22.745000,-157.9425000,       4725,     4.3,  25.8659,  35.1322,2,-999.0000,9,    207.8,1,  -999.0,9, -999.00,9, -999.00,9,  -999.0,       5,    25.8650, -999.00,9,     -999.0
33KB20100707,       PRS2,       2,          1,          6,       8006,2,20100708,       1017,  22.745000,-157.9425000,       4725,     4.3,  25.8671,  35.1320,2,-999.0000,9,    207.8,1,  -999.0,9, -999.00,9, -999.00,9,  -999.0,       5,    25.8662, -999.00,9,     -999.0
33KB20100707,       PRS2,       2,          1,          5,       8005,2,20100708,       1017,  22.745000,-157.9425000,       4725,     4.3,  25.8603,  35.1321,2,-999.0000,9,    207.8,1,  -999.0,9, -999.00,9, -999.00,9,  -999.0,       4,    25.8593, -999.00,9,     -999.0
33KB20100707,       PRS2,       2,          1,          4,       8004,2,20100708,       1017,  22.745000,-157.9425000,       4725,     4.1,  25.8578,  35.1322,2,-999.0000,9,    207.9,1,  -999.0,9, -999.00,9, -999.00,9,  -999.0,       4,    25.8569, -999.00,9,     -999.0
33KB20100707,       PRS2,       2,          1,          3,       8003,2,20100708,       1017,  22.745000,-157.9425000,       4725,     4.2,  25.8578,  35.1319,2,-999.0000,9,    207.9,1,  -999.0,9, -999.00,9, -999.00,9,  -999.0,       4,    25.8568, -999.00,9,     -999.0
33KB20100707,       PRS2,       2,          1,          2,       8002,2,20100708,       1017,  22.745000,-157.9425000,       4725,     4.2,  25.8546,  35.1321,2,-999.0000,9,    207.9,1,  -999.0,9, -999.00,9, -999.00,9,  -999.0,       4,    25.8536, -999.00,9,     -999.0
33KB20100707,       PRS2,       2,          1,          1,       8001,2,20100708,       1017,  22.745000,-157.9425000,       4725,     4.0,  25.8589,  35.1316,2,-999.0000,9,    207.9,1,  -999.0,9, -999.00,9, -999.00,9,  -999.0,       3,    25.8580, -999.00,9,     -999.0
33KB20100707,       PRS2,       2,          2,         22,       8022,2,20100708,       1124,  22.745000,-157.9425000,       4729,     5.8,  25.8547,  35.1416,2,  35.1408,2,    207.9,1,  -999.0,9, -999.00,9, -999.00,9,  -999.0,       6,    25.8534, -999.00,9,     -999.0
33KB20100707,       PRS2,       2,          2,         21,       8021,2,20100708,       1124,  22.745000,-157.9425000,       4729,     5.8,  25.8546,  35.1416,2,  35.1408,2,    207.9,1,  -999.0,9, -999.00,9, -999.00,9,  -999.0,       6,    25.8533, -999.00,9,     -999.0
33KB20100707,       PRS2,       2,          2,         20,       8020,2,20100708,       1124,  22.745000,-157.9425000,       4729,     5.9,  25.8551,  35.1412,2,  35.1406,2,    207.9,1,  -999.0,9, -999.00,9, -999.00,9,  -999.0,       6,    25.8538, -999.00,9,     -999.0
33KB20100707,       PRS2,       2,          2,         19,       8019,2,20100708,       1124,  22.745000,-157.9425000,       4729,    25.8,  25.8644,  35.1445,2,  35.1532,2,    207.9,1,  -999.0,9, -999.00,9, -999.00,9,  -999.0,      26,    25.8587, -999.00,9,     -999.0
33KB20100707,       PRS2,       2,          2,         18,       8018,2,20100708,       1124,  22.745000,-157.9425000,       4729,    25.7,  25.8655,  35.1424,2,  35.1575,4,    207.9,1,  -999.0,9, -999.00,9, -999.00,9,  -999.0,      25,    25.8598, -999.00,9,     -999.0
33KB20100707,       PRS2,       2,          2,         17,       8017,2,20100708,       1124,  22.745000,-157.9425000,       4729,    25.7,  25.8669,  35.1400,2,  35.1593,4,    207.9,1,  -999.0,9, -999.00,9, -999.00,9,  -999.0,      26,    25.8612, -999.00,9,     -999.0
33KB20100707,       PRS2,       2,          2,         16,       8016,2,20100708,       1124,  22.745000,-157.9425000,       4729,    46.2,  25.3798,  35.4676,2,  35.4669,2,    207.9,1,  -999.0,9, -999.00,9, -999.00,9,  -999.0,      46,    25.3696, -999.00,9,     -999.0
33KB20100707,       PRS2,       2,          2,         15,       8015,2,20100708,       1124,  22.745000,-157.9425000,       4729,    46.2,  25.3813,  35.4673,2,  35.4673,2,    207.9,1,  -999.0,9, -999.00,9, -999.00,9,  -999.0,      46,    25.3712, -999.00,9,     -999.0
33KB20100707,       PRS2,       2,          2,         14,       8014,2,20100708,       1124,  22.745000,-157.9425000,       4729,    46.1,  25.3842,  35.4669,2,  35.4669,2,    207.9,1,  -999.0,9, -999.00,9, -999.00,9,  -999.0,      46,    25.3741, -999.00,9,     -999.0
33KB20100707,       PRS2,       2,          2,         13,       8025,2,20100708,       1124,  22.745000,-157.9425000,       4729,    75.5,  22.8476,  35.3896,2,  35.3900,2,    207.9,1,  -999.0,9, -999.00,9, -999.00,9,  -999.0,      75,    22.8322, -999.00,9,     -999.0
33KB20100707,       PRS2,       2,          2,         12,       8012,2,20100708,       1124,  22.745000,-157.9425000,       4729,    75.4,  22.8256,  35.3897,2,  35.3894,2,    207.9,1,  -999.0,9, -999.00,9, -999.00,9,  -999.0,      76,    22.8102, -999.00,9,     -999.0
33KB20100707,       PRS2,       2,          2,         11,       8011,2,20100708,       1124,  22.745000,-157.9425000,       4729,    75.3,  22.8406,  35.3886,2,  35.3910,2,    207.9,1,  -999.0,9, -999.00,9, -999.00,9,  -999.0,      75,    22.8253, -999.00,9,     -999.0
33KB20100707,       PRS2,       2,          2,         10,       8010,2,20100708,       1124,  22.745000,-157.9425000,       4729,   100.6,  21.1637,  35.3982,2,  35.3969,2,    207.9,1,  -999.0,9, -999.00,9, -999.00,9,  -999.0,     101,    21.1443, -999.00,9,     -999.0
33KB20100707,       PRS2,       2,          2,          9,       8009,2,20100708,       1124,  22.745000,-157.9425000,       4729,   100.5,  21.1645,  35.3981,2,  35.3969,2,    207.9,1,  -999.0,9, -999.00,9, -999.00,9,  -999.0,     100,    21.1451, -999.00,9,     -999.0
33KB20100707,       PRS2,       2,          2,          8,       8008,2,20100708,       1124,  22.745000,-157.9425000,       4729,   100.4,  21.1689,  35.3982,2,  35.3967,2,    225.1,1,  -999.0,9, -999.00,9, -999.00,9,  -999.0,     100,    21.1496, -999.00,9,     -999.0
33KB20100707,       PRS2,       2,          2,          7,       8026,2,20100708,       1124,  22.745000,-157.9425000,       4729,   125.5,  20.4243,  35.3290,2,  35.3279,2,    219.2,1,  -999.0,9, -999.00,9, -999.00,9,  -999.0,     125,    20.4007, -999.00,9,     -999.0
33KB20100707,       PRS2,       2,          2,          6,       8006,2,20100708,       1124,  22.745000,-157.9425000,       4729,   125.7,  20.4228,  35.3288,2,  35.3275,2,    219.2,1,  -999.0,9, -999.00,9, -999.00,9,  -999.0,     126,    20.3992, -999.00,9,     -999.0
33KB20100707,       PRS2,       2,          2,          5,       8005,2,20100708,       1124,  22.745000,-157.9425000,       4729,   125.5,  20.4244,  35.3289,2,  35.3261,2,    219.1,1,  -999.0,9, -999.00,9, -999.00,9,  -999.0,     126,    20.4008, -999.00,9,     -999.0
33KB20100707,       PRS2,       2,          2,          4,       8004,2,20100708,       1124,  22.745000,-157.9425000,       4729,   150.6,  19.6325,  35.2507,2,  35.2487,2,    224.3,1,  -999.0,9, -999.00,9, -999.00,9,  -999.0,     150,    19.6049, -999.00,9,     -999.0
33KB20100707,       PRS2,       2,          2,          3,       8003,2,20100708,       1124,  22.745000,-157.9425000,       4729,   175.0,  18.6466,  35.0744,2,  35.0823,2,    214.8,1,  -999.0,9, -999.00,9, -999.00,9,  -999.0,     176,    18.6158, -999.00,9,     -999.0
33KB20100707,       PRS2,       2,          2,          2,       8002,2,20100708,       1124,  22.745000,-157.9425000,       4729,   480.7,   7.9142,  34.0831,2,  34.0831,2,    125.5,1,  -999.0,9, -999.00,9, -999.00,9,  -999.0,     481,     7.8656, -999.00,9,     -999.0
33KB20100707,       PRS2,       2,          2,          1,       8001,2,20100708,       1124,  22.745000,-157.9425000,       4729,  1019.9,   4.0138,  34.4765,2,  34.4771,2,     45.8,1,  -999.0,9, -999.00,9, -999.00,9,  -999.0,    1020,     3.9364, -999.00,9,     -999.0