BOTTLE,20090923WHPSIOMYS
EXPOCODE,SECT_ID,STNNBR,CASTNO,SAMPNO,BTLNBR,BTLNBR_FLAG_W,DATE,TIME,LATITUDE,LONGITUDE,DEPTH,CTDRAW,CTDPRS,CTDTMP,CTDSAL,CTDSAL_FLAG_W,SALNTY,SALNTY_FLAG_W,CTDOXY,CTDOXY_FLAG_W,THETA,OXYGEN,OXYGEN_FLAG_W,SILCAT,SILCAT_FLAG_W,NO2+NO3,NO2+NO3_FLAG_W,PHSPHT,PHSPHT_FLAG_W,REVPRS,REVTMP
,,,,,,,,,,,,,DBAR,ITS-90,PSS-78,,PSS-78,,UMOL/KG,,ITS-90,UMOL/KG,,UMOL/KG,,UMOL/KG,,UMOL/KG,,DBAR,DEG C
     33KB203_1,  PRS2,     2, 12,     24,   8024,2,20080727,1757, 22.7505,-157.9998, 4745,      8,      8.1,  25.7450,  34.9068,2,-999.0000,5,    206.1,1, 25.7432,   -999.0,9,  -999.00,9,  -999.00,9,  -999.00,9,  -999.0,-999.000
     33KB203_1,  PRS2,     2, 12,     23,   8023,2,20080727,1757, 22.7505,-157.9998, 4745,      7,      8.1,  25.7446,  34.9069,2,-999.0000,5,    206.2,1, 25.7428,   -999.0,9,  -999.00,9,  -999.00,9,  -999.00,9,  -999.0,-999.000
     33KB203_1,  PRS2,     2, 12,     22,   8022,2,20080727,1757, 22.7505,-157.9998, 4745,      8,      8.1,  25.7443,  34.9067,2,  34.9067,2,    206.3,1, 25.7425,   -999.0,9,  -999.00,9,  -999.00,9,  -999.00,9,  -999.0,-999.000
     33KB203_1,  PRS2,     2, 12,     21,   8021,2,20080727,1757, 22.7505,-157.9998, 4745,     25,     25.1,  25.7380,  34.9090,2,-999.0000,5,    206.4,1, 25.7324,   -999.0,9,  -999.00,9,  -999.00,9,  -999.00,9,  -999.0,-999.000
     33KB203_1,  PRS2,     2, 12,     19,   8019,2,20080727,1757, 22.7505,-157.9998, 4745,     25,     25.2,  25.7375,  34.9095,2,  34.9166,2,    206.5,1, 25.7319,   -999.0,9,  -999.00,9,  -999.00,9,  -999.00,9,  -999.0,-999.000
     33KB203_1,  PRS2,     2, 12,     20,   8020,2,20080727,1757, 22.7505,-157.9998, 4745,     25,     25.3,  25.7379,  34.9091,2,-999.0000,5,    206.5,1, 25.7323,   -999.0,9,  -999.00,9,  -999.00,9,  -999.00,9,  -999.0,-999.000
     33KB203_1,  PRS2,     2, 12,     18,   8018,2,20080727,1757, 22.7505,-157.9998, 4745,     45,     44.9,  24.6190,  35.0757,2,-999.0000,5,    223.2,1, 24.6094,   -999.0,9,  -999.00,9,  -999.00,9,  -999.00,9,  -999.0,-999.000
     33KB203_1,  PRS2,     2, 12,     17,   8017,2,20080727,1757, 22.7505,-157.9998, 4745,     45,     44.9,  24.6189,  35.0758,2,-999.0000,5,    223.5,1, 24.6092,   -999.0,9,  -999.00,9,  -999.00,9,  -999.00,9,  -999.0,-999.000
     33KB203_1,  PRS2,     2, 12,     16,   8016,2,20080727,1757, 22.7505,-157.9998, 4745,     45,     44.9,  24.6182,  35.0755,2,  35.0764,2,    223.8,1, 24.6086,   -999.0,9,  -999.00,9,  -999.00,9,  -999.00,9,  -999.0,-999.000
     33KB203_1,  PRS2,     2, 12,     13,   8025,2,20080727,1757, 22.7505,-157.9998, 4745,     74,     74.2,  23.5275,  35.1277,2,  35.1313,2,    222.3,1, 23.5121,   -999.0,9,  -999.00,9,  -999.00,9,  -999.00,9,  -999.0,-999.000
     33KB203_1,  PRS2,     2, 12,     14,   8014,2,20080727,1757, 22.7505,-157.9998, 4745,     75,     74.3,  23.5276,  35.1276,2,-999.0000,5,    222.5,1, 23.5122,   -999.0,9,  -999.00,9,  -999.00,9,  -999.00,9,  -999.0,-999.000
     33KB203_1,  PRS2,     2, 12,     15,   8015,2,20080727,1757, 22.7505,-157.9998, 4745,     75,     74.4,  23.5282,  35.1275,2,-999.0000,5,    222.6,1, 23.5128,   -999.0,9,  -999.00,9,  -999.00,9,  -999.00,9,  -999.0,-999.000
     33KB203_1,  PRS2,     2, 12,     11,   8011,2,20080727,1757, 22.7505,-157.9998, 4745,    100,     99.8,  23.0237,  35.2110,2,-999.0000,5,    217.0,1, 23.0033,   -999.0,9,  -999.00,9,  -999.00,9,  -999.00,9,  -999.0,-999.000
     33KB203_1,  PRS2,     2, 12,     10,   8010,2,20080727,1757, 22.7505,-157.9998, 4745,    100,     99.8,  23.0024,  35.2125,2,  35.2150,2,    217.7,1, 22.9820,   -999.0,9,  -999.00,9,  -999.00,9,  -999.00,9,  -999.0,-999.000
     33KB203_1,  PRS2,     2, 12,     12,   8012,2,20080727,1757, 22.7505,-157.9998, 4745,    100,     99.9,  23.0291,  35.2099,2,-999.0000,5,    216.9,1, 23.0087,   -999.0,9,  -999.00,9,  -999.00,9,  -999.00,9,  -999.0,-999.000
     33KB203_1,  PRS2,     2, 12,      9,   8009,2,20080727,1757, 22.7505,-157.9998, 4745,    124,    124.6,  22.2856,  35.2092,2,-999.0000,5,    208.4,1, 22.2607,   -999.0,9,  -999.00,9,  -999.00,9,  -999.00,9,  -999.0,-999.000
     33KB203_1,  PRS2,     2, 12,      8,   8008,2,20080727,1757, 22.7505,-157.9998, 4745,    125,    124.6,  22.2855,  35.2093,2,-999.0000,5,    208.4,1, 22.2606,   -999.0,9,  -999.00,9,  -999.00,9,  -999.00,9,  -999.0,-999.000
     33KB203_1,  PRS2,     2, 12,      7,   8026,2,20080727,1757, 22.7505,-157.9998, 4745,    124,    124.6,  22.2854,  35.2091,2,  35.2105,2,    208.4,1, 22.2606,   -999.0,9,  -999.00,9,  -999.00,9,  -999.00,9,  -999.0,-999.000
     33KB203_1,  PRS2,     2, 12,      6,   8006,2,20080727,1757, 22.7505,-157.9998, 4745,    149,    149.4,  21.8897,  35.2162,2,-999.0000,5,    205.0,1, 21.8603,   -999.0,9,  -999.00,9,  -999.00,9,  -999.00,9,  -999.0,-999.000
     33KB203_1,  PRS2,     2, 12,      5,   8005,2,20080727,1757, 22.7505,-157.9998, 4745,    150,    149.5,  21.8897,  35.2161,2,-999.0000,5,    205.0,1, 21.8602,   -999.0,9,  -999.00,9,  -999.00,9,  -999.00,9,  -999.0,-999.000
     33KB203_1,  PRS2,     2, 12,      4,   8004,2,20080727,1757, 22.7505,-157.9998, 4745,    174,    173.6,  21.3111,  35.2184,2,-999.0000,5,    202.0,1, 21.2775,   -999.0,9,  -999.00,9,  -999.00,9,  -999.00,9,  -999.0,-999.000
     33KB203_1,  PRS2,     2, 12,      3,   8003,2,20080727,1757, 22.7505,-157.9998, 4745,    174,    173.6,  21.3112,  35.2186,2,  35.2176,2,    202.1,1, 21.2776,   -999.0,9,  -999.00,9,  -999.00,9,  -999.00,9,  -999.0,-999.000
     33KB203_1,  PRS2,     2, 12,      2,   8002,2,20080727,1757, 22.7505,-157.9998, 4745,    500,    499.9,   7.4958,  34.0649,2,  34.0662,2,    125.5,1,  7.4468,   -999.0,9,  -999.00,9,  -999.00,9,  -999.00,9,  -999.0,-999.000
     33KB203_1,  PRS2,     2, 12,      1,   8001,2,20080727,1757, 22.7505,-157.9998, 4745,   1022,   1021.0,   3.9624,  34.4705,2,  34.4703,2,     44.1,1,  3.8853,   -999.0,9,  -999.00,9,  -999.00,9,  -999.00,9,  -999.0,-999.000
     33KB203_1,  PRS2,     2, 13,     24,   8024,2,20080727,2055, 22.7487,-157.9887, 4744,      9,      8.5,  25.8476,  34.9004,2,-999.0000,5,    208.2,1, 25.8457,   -999.0,9,  -999.00,9,  -999.00,9,  -999.00,9,  -999.0,-999.000
     33KB203_1,  PRS2,     2, 13,     23,   8023,2,20080727,2055, 22.7487,-157.9887, 4744,      9,      8.5,  25.8455,  34.9004,2,-999.0000,5,    207.9,1, 25.8437,   -999.0,9,  -999.00,9,  -999.00,9,  -999.00,9,  -999.0,-999.000
     33KB203_1,  PRS2,     2, 13,     22,   8022,2,20080727,2055, 22.7487,-157.9887, 4744,      8,      8.5,  25.8452,  34.9004,2,  34.8997,2,    207.7,1, 25.8433,   -999.0,9,  -999.00,9,  -999.00,9,  -999.00,9,  -999.0,-999.000
     33KB203_1,  PRS2,     2, 13,     19,   8019,2,20080727,2055, 22.7487,-157.9887, 4744,     25,     25.2,  25.7808,  34.8987,2,  34.8983,2,    207.2,1, 25.7752,   -999.0,9,  -999.00,9,  -999.00,9,  -999.00,9,  -999.0,-999.000
     33KB203_1,  PRS2,     2, 13,     21,   8021,2,20080727,2055, 22.7487,-157.9887, 4744,     26,     25.3,  25.7812,  34.8986,2,-999.0000,5,    207.6,1, 25.7756,   -999.0,9,  -999.00,9,  -999.00,9,  -999.00,9,  -999.0,-999.000
     33KB203_1,  PRS2,     2, 13,     20,   8020,2,20080727,2055, 22.7487,-157.9887, 4744,     25,     25.3,  25.7812,  34.8985,2,-999.0000,5,    207.4,1, 25.7756,   -999.0,9,  -999.00,9,  -999.00,9,  -999.00,9,  -999.0,-999.000
     33KB203_1,  PRS2,     2, 13,     18,   8018,2,20080727,2055, 22.7487,-157.9887, 4744,     44,     44.9,  24.9512,  35.0671,2,  35.0671,2,    222.4,1, 24.9414,   -999.0,9,  -999.00,9,  -999.00,9,  -999.00,9,  -999.0,-999.000
     33KB203_1,  PRS2,     2, 13,     17,   8017,2,20080727,2055, 22.7487,-157.9887, 4744,     59,     59.5,  24.2308,  35.0841,2,  35.0854,2,    223.0,1, 24.2182,   -999.0,9,  -999.00,9,  -999.00,9,  -999.00,9,  -999.0,-999.000
     33KB203_1,  PRS2,     2, 13,     16,   8016,2,20080727,2055, 22.7487,-157.9887, 4744,     75,     74.7,  23.7934,  35.0953,2,  35.0961,2,    222.3,1, 23.7778,   -999.0,9,  -999.00,9,  -999.00,9,  -999.00,9,  -999.0,-999.000
     33KB203_1,  PRS2,     2, 13,     15,   8015,2,20080727,2055, 22.7487,-157.9887, 4744,     86,     84.9,  23.5226,  35.1199,2,  35.1199,2,    222.9,1, 23.5050,   -999.0,9,  -999.00,9,  -999.00,9,  -999.00,9,  -999.0,-999.000
     33KB203_1,  PRS2,     2, 13,     14,   8014,2,20080727,2055, 22.7487,-157.9887, 4744,    100,    100.0,  23.1084,  35.1868,2,  35.1866,2,    219.3,1, 23.0879,   -999.0,9,  -999.00,9,  -999.00,9,  -999.00,9,  -999.0,-999.000
     33KB203_1,  PRS2,     2, 13,     13,   8025,2,20080727,2055, 22.7487,-157.9887, 4744,    116,    115.2,  22.9093,  35.2237,2,  35.2117,2,    216.0,1, 22.8859,   -999.0,9,  -999.00,9,  -999.00,9,  -999.00,9,  -999.0,-999.000
     33KB203_1,  PRS2,     2, 13,     12,   8012,2,20080727,2055, 22.7487,-157.9887, 4744,    124,    124.7,  22.6042,  35.1739,2,  35.1756,2,    212.2,1, 22.5790,   -999.0,9,  -999.00,9,  -999.00,9,  -999.00,9,  -999.0,-999.000
     33KB203_1,  PRS2,     2, 13,     11,   8011,2,20080727,2055, 22.7487,-157.9887, 4744,    150,    149.8,  22.1807,  35.2183,2,  35.2162,2,    207.9,1, 22.1509,   -999.0,9,  -999.00,9,  -999.00,9,  -999.00,9,  -999.0,-999.000
     33KB203_1,  PRS2,     2, 13,     10,   8010,2,20080727,2055, 22.7487,-157.9887, 4744,    175,    175.3,  21.7590,  35.2227,2,  35.2260,2,    205.4,1, 21.7245,   -999.0,9,  -999.00,9,  -999.00,9,  -999.00,9,  -999.0,-999.000
     33KB203_1,  PRS2,     2, 13,      9,   8009,2,20080727,2055, 22.7487,-157.9887, 4744,    200,    199.3,  20.8949,  35.1665,2,  35.1691,2,    200.1,1, 20.8569,   -999.0,9,  -999.00,9,  -999.00,9,  -999.00,9,  -999.0,-999.000
     33KB203_1,  PRS2,     2, 13,      8,   8008,2,20080727,2055, 22.7487,-157.9887, 4744,    224,    224.4,  19.5293,  34.9892,2,  34.9917,2,    188.7,1, 19.4884,   -999.0,9,  -999.00,9,  -999.00,9,  -999.00,9,  -999.0,-999.000
     33KB203_1,  PRS2,     2, 13,      7,   8026,2,20080727,2055, 22.7487,-157.9887, 4744,    250,    250.5,  18.3058,  34.8465,2,  34.8481,2,    192.7,1, 18.2623,   -999.0,9,  -999.00,9,  -999.00,9,  -999.00,9,  -999.0,-999.000
     33KB203_1,  PRS2,     2, 13,      6,   8006,2,20080727,2055, 22.7487,-157.9887, 4744,    301,    300.6,  13.9699,  34.2991,2,-999.0000,5,    187.4,1, 13.9266,   -999.0,9,  -999.00,9,  -999.00,9,  -999.00,9,  -999.0,-999.000
     33KB203_1,  PRS2,     2, 13,      3,   8003,2,20080727,2055, 22.7487,-157.9887, 4744,    301,    300.6,  13.9678,  34.2993,2,-999.0000,5,    186.8,1, 13.9245,   -999.0,9,  -999.00,9,  -999.00,9,  -999.00,9,  -999.0,-999.000
     33KB203_1,  PRS2,     2, 13,      5,   8005,2,20080727,2055, 22.7487,-157.9887, 4744,    301,    300.7,  13.9643,  34.2985,2,-999.0000,5,    187.2,1, 13.9210,   -999.0,9,  -999.00,9,  -999.00,9,  -999.00,9,  -999.0,-999.000
     33KB203_1,  PRS2,     2, 13,      4,   8004,2,20080727,2055, 22.7487,-157.9887, 4744,    301,    300.7,  13.9659,  34.2986,2,-999.0000,5,    187.0,1, 13.9226,   -999.0,9,  -999.00,9,  -999.00,9,  -999.00,9,  -999.0,-999.000
     33KB203_1,  PRS2,     2, 13,      2,   8002,2,20080727,2055, 22.7487,-157.9887, 4744,    537,    535.7,   6.5835,  34.0448,2,  34.0456,2,    107.6,1,  6.5346,   -999.0,9,  -999.00,9,  -999.00,9,  -999.00,9,  -999.0,-999.000
     33KB203_1,  PRS2,     2, 13,      1,   8001,2,20080727,2055, 22.7487,-157.9887, 4744,   1020,   1020.3,   3.9923,  34.4668,2,  34.4656,2,     43.5,1,  3.9150,   -999.0,9,  -999.00,9,  -999.00,9,  -999.00,9,  -999.0,-999.000
     33KB203_1,  PRS2,     2, 14,     24,   8024,2,20080727,2353, 22.7513,-157.9868, 4741,      6,      6.0,  25.8593,  34.9127,2,  34.9115,2,    207.9,1, 25.8579,   -999.0,9,  -999.00,9,  -999.00,9,  -999.00,9,  -999.0,-999.000
     33KB203_1,  PRS2,     2, 14,     23,   8023,2,20080727,2353, 22.7513,-157.9868, 4741,     25,     25.1,  25.7398,  34.8989,2,  34.8987,2,    208.4,1, 25.7343,   -999.0,9,  -999.00,9,  -999.00,9,  -999.00,9,  -999.0,-999.000
     33KB203_1,  PRS2,     2, 14,     22,   8022,2,20080727,2353, 22.7513,-157.9868, 4741,     45,     44.9,  25.2618,  34.9927,2,  34.9921,2,    216.7,1, 25.2520,   -999.0,9,  -999.00,9,  -999.00,9,  -999.00,9,  -999.0,-999.000
     33KB203_1,  PRS2,     2, 14,     21,   8021,2,20080727,2353, 22.7513,-157.9868, 4741,     75,     74.6,  23.5534,  35.1171,2,  35.1167,2,    222.1,1, 23.5379,   -999.0,9,  -999.00,9,  -999.00,9,  -999.00,9,  -999.0,-999.000
     33KB203_1,  PRS2,     2, 14,     20,   8020,2,20080727,2353, 22.7513,-157.9868, 4741,    100,     99.8,  22.8242,  35.1940,2,  35.1941,2,    214.0,1, 22.8039,   -999.0,9,  -999.00,9,  -999.00,9,  -999.00,9,  -999.0,-999.000
     33KB203_1,  PRS2,     2, 14,     19,   8019,2,20080727,2353, 22.7513,-157.9868, 4741,    124,    124.4,  22.3654,  35.1982,2,  35.1977,2,    209.3,1, 22.3405,   -999.0,9,  -999.00,9,  -999.00,9,  -999.00,9,  -999.0,-999.000
     33KB203_1,  PRS2,     2, 14,     18,   8018,2,20080727,2353, 22.7513,-157.9868, 4741,    151,    149.8,  21.7164,  35.2324,2,  35.2308,2,    204.1,1, 21.6870,   -999.0,9,  -999.00,9,  -999.00,9,  -999.00,9,  -999.0,-999.000
     33KB203_1,  PRS2,     2, 14,     16,   8016,2,20080727,2353, 22.7513,-157.9868, 4741,    200,    199.6,  19.6839,  35.0159,2,-999.0000,5,    191.3,1, 19.6474,   -999.0,9,  -999.00,9,  -999.00,9,  -999.00,9,  -999.0,-999.000
     33KB203_1,  PRS2,     2, 14,     17,   8017,2,20080727,2353, 22.7513,-157.9868, 4741,    200,    199.7,  19.6895,  35.0162,2,-999.0000,5,    191.4,1, 19.6529,   -999.0,9,  -999.00,9,  -999.00,9,  -999.00,9,  -999.0,-999.000
     33KB203_1,  PRS2,     2, 14,     15,   8015,2,20080727,2353, 22.7513,-157.9868, 4741,    251,    250.0,  16.8133,  34.6565,2,  34.6521,2,    191.3,1, 16.7724,   -999.0,9,  -999.00,9,  -999.00,9,  -999.00,9,  -999.0,-999.000
     33KB203_1,  PRS2,     2, 14,     13,   8025,2,20080727,2353, 22.7513,-157.9868, 4741,    300,    300.1,  14.1963,  34.3233,2,-999.0000,5,    189.3,1, 14.1526,   -999.0,9,  -999.00,9,  -999.00,9,  -999.00,9,  -999.0,-999.000
     33KB203_1,  PRS2,     2, 14,     14,   8014,2,20080727,2353, 22.7513,-157.9868, 4741,    300,    300.3,  14.1953,  34.3235,2,-999.0000,5,    189.3,1, 14.1516,   -999.0,9,  -999.00,9,  -999.00,9,  -999.00,9,  -999.0,-999.000
     33KB203_1,  PRS2,     2, 14,     12,   8012,2,20080727,2353, 22.7513,-157.9868, 4741,    350,    349.9,  11.5574,  34.1446,2,  34.1458,2,    195.9,1, 11.5130,   -999.0,9,  -999.00,9,  -999.00,9,  -999.00,9,  -999.0,-999.000
     33KB203_1,  PRS2,     2, 14,     11,   8011,2,20080727,2353, 22.7513,-157.9868, 4741,    401,    401.3,   9.8241,  34.1020,2,-999.0000,5,    174.2,1,  9.7781,   -999.0,9,  -999.00,9,  -999.00,9,  -999.00,9,  -999.0,-999.000
     33KB203_1,  PRS2,     2, 14,     10,   8010,2,20080727,2353, 22.7513,-157.9868, 4741,    500,    500.6,   7.6688,  34.0608,2,  34.0611,2,    131.1,1,  7.6191,   -999.0,9,  -999.00,9,  -999.00,9,  -999.00,9,  -999.0,-999.000
     33KB203_1,  PRS2,     2, 14,      9,   8009,2,20080727,2353, 22.7513,-157.9868, 4741,    502,    500.6,   7.6688,  34.0608,2,-999.0000,5,    130.8,1,  7.6191,   -999.0,9,  -999.00,9,  -999.00,9,  -999.00,9,  -999.0,-999.000
     33KB203_1,  PRS2,     2, 14,      8,   8008,2,20080727,2353, 22.7513,-157.9868, 4741,    501,    500.6,   7.6699,  34.0606,2,-999.0000,5,    130.4,1,  7.6202,   -999.0,9,  -999.00,9,  -999.00,9,  -999.00,9,  -999.0,-999.000
     33KB203_1,  PRS2,     2, 14,      7,   8026,2,20080727,2353, 22.7513,-157.9868, 4741,    600,    600.5,   6.2270,  34.1615,2,-999.0000,5,     65.8,1,  6.1734,   -999.0,9,  -999.00,9,  -999.00,9,  -999.00,9,  -999.0,-999.000
     33KB203_1,  PRS2,     2, 14,      6,   8006,2,20080727,2353, 22.7513,-157.9868, 4741,    700,    700.0,   5.3938,  34.2726,2,-999.0000,5,     41.5,1,  5.3352,   -999.0,9,  -999.00,9,  -999.00,9,  -999.00,9,  -999.0,-999.000
     33KB203_1,  PRS2,     2, 14,      5,   8005,2,20080727,2353, 22.7513,-157.9868, 4741,    770,    770.0,   4.9708,  34.3434,2,-999.0000,5,     36.5,1,  4.9083,   -999.0,9,  -999.00,9,  -999.00,9,  -999.00,9,  -999.0,-999.000
     33KB203_1,  PRS2,     2, 14,      4,   8004,2,20080727,2353, 22.7513,-157.9868, 4741,    801,    800.9,   4.7021,  34.3377,2,-999.0000,5,     33.8,1,  4.6385,   -999.0,9,  -999.00,9,  -999.00,9,  -999.00,9,  -999.0,-999.000
     33KB203_1,  PRS2,     2, 14,      3,   8003,2,20080727,2353, 22.7513,-157.9868, 4741,    902,    900.7,   4.3616,  34.4198,2,-999.0000,5,     37.9,1,  4.2918,   -999.0,9,  -999.00,9,  -999.00,9,  -999.00,9,  -999.0,-999.000
     33KB203_1,  PRS2,     2, 14,      1,   8001,2,20080727,2353, 22.7513,-157.9868, 4741,   1021,   1020.8,   3.9600,  34.4702,2,  34.4687,2,     43.7,1,  3.8830,   -999.0,9,  -999.00,9,  -999.00,9,  -999.00,9,  -999.0,-999.000
     33KB203_1,  PRS2,     2, 14,      2,   8002,2,20080727,2353, 22.7513,-157.9868, 4741,   1021,   1021.0,   3.9600,  34.4704,2,-999.0000,5,     43.7,1,  3.8830,   -999.0,9,  -999.00,9,  -999.00,9,  -999.00,9,  -999.0,-999.000