BOTTLE,20090923WHPSIOMYS
EXPOCODE,SECT_ID,STNNBR,CASTNO,SAMPNO,BTLNBR,BTLNBR_FLAG_W,DATE,TIME,LATITUDE,LONGITUDE,DEPTH,CTDRAW,CTDPRS,CTDTMP,CTDSAL,CTDSAL_FLAG_W,SALNTY,SALNTY_FLAG_W,CTDOXY,CTDOXY_FLAG_W,THETA,OXYGEN,OXYGEN_FLAG_W,SILCAT,SILCAT_FLAG_W,NO2+NO3,NO2+NO3_FLAG_W,PHSPHT,PHSPHT_FLAG_W,REVPRS,REVTMP
,,,,,,,,,,,,,DBAR,ITS-90,PSS-78,,PSS-78,,UMOL/KG,,ITS-90,UMOL/KG,,UMOL/KG,,UMOL/KG,,UMOL/KG,,DBAR,DEG C
     33KB203_1,  PRS2,     2,  3,     15,   8015,2,20080726,1453, 22.7498,-158.0083, 4747,     16,     15.3,  25.9067,  34.9570,2,-999.0000,9,    208.3,1, 25.9033,   -999.0,9,  -999.00,9,  -999.00,9,  -999.00,9,  -999.0,-999.000
     33KB203_1,  PRS2,     2,  3,     13,   8025,2,20080726,1453, 22.7498,-158.0083, 4747,     16,     15.3,  25.9058,  34.9571,2,-999.0000,9,    208.7,1, 25.9024,   -999.0,9,  -999.00,9,  -999.00,9,  -999.00,9,  -999.0,-999.000
     33KB203_1,  PRS2,     2,  3,     20,   8020,2,20080726,1453, 22.7498,-158.0083, 4747,     16,     15.4,  25.8988,  34.9573,2,-999.0000,9,    207.4,1, 25.8953,   -999.0,9,  -999.00,9,  -999.00,9,  -999.00,9,  -999.0,-999.000
     33KB203_1,  PRS2,     2,  3,     14,   8014,2,20080726,1453, 22.7498,-158.0083, 4747,     16,     15.4,  25.9065,  34.9570,2,-999.0000,9,    208.5,1, 25.9031,   -999.0,9,  -999.00,9,  -999.00,9,  -999.00,9,  -999.0,-999.000
     33KB203_1,  PRS2,     2,  3,     21,   8021,2,20080726,1453, 22.7498,-158.0083, 4747,     15,     15.5,  25.8995,  34.9571,2,-999.0000,9,    207.4,1, 25.8961,   -999.0,9,  -999.00,9,  -999.00,9,  -999.00,9,  -999.0,-999.000
     33KB203_1,  PRS2,     2,  3,     19,   8019,2,20080726,1453, 22.7498,-158.0083, 4747,     16,     15.5,  25.8995,  34.9573,2,-999.0000,9,    207.5,1, 25.8960,   -999.0,9,  -999.00,9,  -999.00,9,  -999.00,9,  -999.0,-999.000
     33KB203_1,  PRS2,     2,  3,     18,   8018,2,20080726,1453, 22.7498,-158.0083, 4747,     16,     15.5,  25.9020,  34.9573,2,-999.0000,9,    207.7,1, 25.8986,   -999.0,9,  -999.00,9,  -999.00,9,  -999.00,9,  -999.0,-999.000
     33KB203_1,  PRS2,     2,  3,     17,   8017,2,20080726,1453, 22.7498,-158.0083, 4747,     16,     15.5,  25.9058,  34.9569,2,-999.0000,9,    207.9,1, 25.9023,   -999.0,9,  -999.00,9,  -999.00,9,  -999.00,9,  -999.0,-999.000
     33KB203_1,  PRS2,     2,  3,     12,   8012,2,20080726,1453, 22.7498,-158.0083, 4747,     15,     15.5,  25.9043,  34.9569,2,-999.0000,9,    209.0,1, 25.9009,   -999.0,9,  -999.00,9,  -999.00,9,  -999.00,9,  -999.0,-999.000
     33KB203_1,  PRS2,     2,  3,     11,   8011,2,20080726,1453, 22.7498,-158.0083, 4747,     16,     15.5,  25.9035,  34.9570,2,-999.0000,9,    209.1,1, 25.9000,   -999.0,9,  -999.00,9,  -999.00,9,  -999.00,9,  -999.0,-999.000
     33KB203_1,  PRS2,     2,  3,     10,   8010,2,20080726,1453, 22.7498,-158.0083, 4747,     16,     15.5,  25.9043,  34.9569,2,-999.0000,9,    209.2,1, 25.9009,   -999.0,9,  -999.00,9,  -999.00,9,  -999.00,9,  -999.0,-999.000
     33KB203_1,  PRS2,     2,  3,      9,   8009,2,20080726,1453, 22.7498,-158.0083, 4747,     15,     15.5,  25.9040,  34.9569,2,-999.0000,9,    209.4,1, 25.9005,   -999.0,9,  -999.00,9,  -999.00,9,  -999.00,9,  -999.0,-999.000
     33KB203_1,  PRS2,     2,  3,      8,   8008,2,20080726,1453, 22.7498,-158.0083, 4747,     16,     15.5,  25.9041,  34.9569,2,-999.0000,9,    209.5,1, 25.9007,   -999.0,9,  -999.00,9,  -999.00,9,  -999.00,9,  -999.0,-999.000
     33KB203_1,  PRS2,     2,  3,      7,   8026,2,20080726,1453, 22.7498,-158.0083, 4747,     16,     15.5,  25.9038,  34.9569,2,-999.0000,9,    209.5,1, 25.9003,   -999.0,9,  -999.00,9,  -999.00,9,  -999.00,9,  -999.0,-999.000
     33KB203_1,  PRS2,     2,  3,      6,   8006,2,20080726,1453, 22.7498,-158.0083, 4747,     16,     15.5,  25.9037,  34.9568,2,-999.0000,9,    209.5,1, 25.9002,   -999.0,9,  -999.00,9,  -999.00,9,  -999.00,9,  -999.0,-999.000
     33KB203_1,  PRS2,     2,  3,      5,   8005,2,20080726,1453, 22.7498,-158.0083, 4747,     15,     15.5,  25.9015,  34.9569,2,-999.0000,9,    209.5,1, 25.8981,   -999.0,9,  -999.00,9,  -999.00,9,  -999.00,9,  -999.0,-999.000
     33KB203_1,  PRS2,     2,  3,     22,   8022,2,20080726,1453, 22.7498,-158.0083, 4747,     16,     15.6,  25.9004,  34.9572,2,-999.0000,9,    207.3,1, 25.8969,   -999.0,9,  -999.00,9,  -999.00,9,  -999.00,9,  -999.0,-999.000
     33KB203_1,  PRS2,     2,  3,     16,   8016,2,20080726,1453, 22.7498,-158.0083, 4747,     15,     15.7,  25.9067,  34.9570,2,-999.0000,9,    208.1,1, 25.9032,   -999.0,9,  -999.00,9,  -999.00,9,  -999.00,9,  -999.0,-999.000
     33KB203_1,  PRS2,     2,  3,      4,   8004,2,20080726,1453, 22.7498,-158.0083, 4747,     15,     15.7,  25.9013,  34.9569,2,-999.0000,9,    209.5,1, 25.8978,   -999.0,9,  -999.00,9,  -999.00,9,  -999.00,9,  -999.0,-999.000
     33KB203_1,  PRS2,     2,  3,      3,   8003,2,20080726,1453, 22.7498,-158.0083, 4747,     16,     15.7,  25.9005,  34.9570,2,-999.0000,9,    209.5,1, 25.8971,   -999.0,9,  -999.00,9,  -999.00,9,  -999.00,9,  -999.0,-999.000
     33KB203_1,  PRS2,     2,  3,      2,   8002,2,20080726,1453, 22.7498,-158.0083, 4747,    250,    250.4,  16.2255,  34.5787,2,-999.0000,9,    193.0,1, 16.1856,   -999.0,9,  -999.00,9,  -999.00,9,  -999.00,9,  -999.0,-999.000
     33KB203_1,  PRS2,     2,  3,      1,   8001,2,20080726,1453, 22.7498,-158.0083, 4747,    251,    250.5,  16.2217,  34.5776,2,-999.0000,9,    193.0,1, 16.1817,   -999.0,9,  -999.00,9,  -999.00,9,  -999.00,9,  -999.0,-999.000
     33KB203_1,  PRS2,     2,  4,     24,   8024,2,20080726,1616, 22.7498,-158.0003, 4746,     14,     14.2,  25.8227,  34.9287,2,  34.9290,2,    207.9,2, 25.8196,    207.2,2,     1.51,2,     0.09,2,     0.08,2,  -999.0,-999.000
     33KB203_1,  PRS2,     2,  4,     23,   8023,2,20080726,1616, 22.7498,-158.0003, 4746,    401,    400.4,   9.6302,  34.1159,2,  34.1176,2,    174.3,2,  9.5848,    172.3,2,    23.62,2,    19.22,2,     1.39,2,  -999.0,-999.000
     33KB203_1,  PRS2,     2,  4,     22,   8022,2,20080726,1616, 22.7498,-158.0003, 4746,    750,    749.6,   4.9988,  34.3024,2,  34.3042,2,     35.0,2,  4.9380,     34.7,2,    88.82,2,    40.47,2,     2.97,2,  -999.0,-999.000
     33KB203_1,  PRS2,     2,  4,     21,   8021,2,20080726,1616, 22.7498,-158.0003, 4746,   1000,    999.5,   4.1084,  34.4836,2,  34.4836,2,     43.5,2,  4.0320,     43.8,2,   107.09,2,    41.44,2,     3.01,2,  -999.0,-999.000
     33KB203_1,  PRS2,     2,  4,     20,   8020,2,20080726,1616, 22.7498,-158.0003, 4746,   1199,   1199.2,   3.6325,  34.5229,2,  34.5235,2,     52.1,2,  3.5433,     52.8,2,   117.46,2,    41.52,2,     2.99,2,  -999.0,-999.000
     33KB203_1,  PRS2,     2,  4,     19,   8019,2,20080726,1616, 22.7498,-158.0003, 4746,   1400,   1400.1,   3.1072,  34.5497,2,  34.5502,2,     61.7,2,  3.0065,     61.6,2,   129.49,2,    41.14,2,     2.95,2,  -999.0,-999.000
     33KB203_1,  PRS2,     2,  4,     18,   8018,2,20080726,1616, 22.7498,-158.0003, 4746,   1600,   1600.4,   2.7960,  34.5737,2,  34.5741,2,     68.0,2,  2.6823,     68.2,2,   136.07,2,    40.98,2,     2.94,2,  -999.0,-999.000
     33KB203_1,  PRS2,     2,  4,     17,   8017,2,20080726,1616, 22.7498,-158.0003, 4746,   1800,   1799.0,   2.4346,  34.5950,2,  34.5954,2,     77.5,2,  2.3089,     77.8,2,   145.53,2,    40.36,2,     2.88,2,  -999.0,-999.000
     33KB203_1,  PRS2,     2,  4,     16,   8016,2,20080726,1616, 22.7498,-158.0003, 4746,   2000,   1999.4,   2.1264,  34.6137,2,  34.6142,2,     86.5,2,  1.9881,     87.4,2,   152.10,2,    39.95,2,     2.86,2,  -999.0,-999.000
     33KB203_1,  PRS2,     2,  4,     15,   8015,2,20080726,1616, 22.7498,-158.0003, 4746,   2200,   2199.8,   1.9493,  34.6315,2,  34.6315,2,     95.8,2,  1.7966,     95.9,2,   155.29,2,    39.34,2,     2.79,2,  -999.0,-999.000
     33KB203_1,  PRS2,     2,  4,     14,   8014,2,20080726,1616, 22.7498,-158.0003, 4746,   2398,   2398.5,   1.8077,  34.6436,2,  34.6435,2,    102.9,2,  1.6401,    104.3,2,   158.59,2,    39.00,2,     2.75,2,  -999.0,-999.000
     33KB203_1,  PRS2,     2,  4,     13,   8025,2,20080726,1616, 22.7498,-158.0003, 4746,   2599,   2599.4,   1.7045,  34.6531,2,  34.6535,2,    110.5,2,  1.5208,    111.3,2,   158.84,2,    38.53,2,     2.72,2,  -999.0,-999.000
     33KB203_1,  PRS2,     2,  4,     12,   8012,2,20080726,1616, 22.7498,-158.0003, 4746,   2800,   2799.8,   1.6135,  34.6620,2,  34.6620,2,    118.0,2,  1.4132,    118.3,2,   159.54,2,    37.91,2,     2.69,2,  -999.0,-999.000
     33KB203_1,  PRS2,     2,  4,     11,   8011,2,20080726,1616, 22.7498,-158.0003, 4746,   3000,   2999.0,   1.5604,  34.6681,2,  34.6679,2,    124.1,2,  1.3424,    124.4,2,   159.95,2,    37.65,2,     2.64,2,  -999.0,-999.000
     33KB203_1,  PRS2,     2,  4,     10,   8010,2,20080726,1616, 22.7498,-158.0003, 4746,   3200,   3199.9,   1.5239,  34.6731,2,  34.6736,2,    130.2,2,  1.2873,    130.2,2,   158.24,2,    37.38,2,     2.63,2,  -999.0,-999.000
     33KB203_1,  PRS2,     2,  4,      9,   8009,2,20080726,1616, 22.7498,-158.0003, 4746,   3399,   3399.5,   1.4923,  34.6773,2,  34.6777,2,    135.8,2,  1.2366,    135.4,2,   157.03,2,    37.00,2,     2.60,2,  -999.0,-999.000
     33KB203_1,  PRS2,     2,  4,      8,   8008,2,20080726,1616, 22.7498,-158.0003, 4746,   3599,   3599.0,   1.4696,  34.6812,2,  34.6816,2,    141.4,2,  1.1941,    140.8,2,   155.44,2,    36.63,2,     2.57,2,  -999.0,-999.000
     33KB203_1,  PRS2,     2,  4,      7,   8026,2,20080726,1616, 22.7498,-158.0003, 4746,   3799,   3799.1,   1.4568,  34.6840,2,  34.6848,2,    145.4,2,  1.1607,    144.9,2,   153.91,2,    36.26,2,     2.54,2,  -999.0,-999.000
     33KB203_1,  PRS2,     2,  4,      6,   8006,2,20080726,1616, 22.7498,-158.0003, 4746,   3998,   3998.1,   1.4618,  34.6856,2,  34.6859,2,    147.6,2,  1.1441,    147.4,2,   153.32,2,    36.05,2,     2.54,2,  -999.0,-999.000
     33KB203_1,  PRS2,     2,  4,      5,   8005,2,20080726,1616, 22.7498,-158.0003, 4746,   4199,   4198.4,   1.4691,  34.6869,2,  34.6873,2,    150.0,2,  1.1292,    149.4,2,   151.93,2,    36.06,2,     2.53,2,  -999.0,-999.000
     33KB203_1,  PRS2,     2,  4,      4,   8004,2,20080726,1616, 22.7498,-158.0003, 4746,   4399,   4398.1,   1.4799,  34.6880,2,  34.6879,2,    151.8,2,  1.1172,    151.2,2,   151.47,2,    36.00,2,     2.53,2,  -999.0,-999.000
     33KB203_1,  PRS2,     2,  4,      3,   8003,2,20080726,1616, 22.7498,-158.0003, 4746,   4501,   4501.0,   1.4878,  34.6882,2,  34.6885,2,    152.4,2,  1.1131,    152.4,2,   151.10,2,    35.87,2,     2.52,2,  -999.0,-999.000
     33KB203_1,  PRS2,     2,  4,      2,   8002,2,20080726,1616, 22.7498,-158.0003, 4746,   4600,   4599.5,   1.4945,  34.6886,2,  34.6887,2,    152.5,2,  1.1081,    152.3,2,   150.81,2,    36.08,2,     2.52,2,  -999.0,-999.000
     33KB203_1,  PRS2,     2,  4,      1,   8001,2,20080726,1616, 22.7498,-158.0003, 4746,   4804,   4803.4,   1.5064,  34.6897,2,  34.6905,2,    154.3,2,  1.0956,    154.8,2,   148.10,2,    35.65,2,     2.47,2,  -999.0,-999.000
     33KB203_1,  PRS2,     2,  5,     24,   8024,2,20080726,2156, 22.7503,-158.0000, 4746,     11,     10.7,  26.0290,  34.9791,2,  34.9787,2,    208.0,2, 26.0266,    207.0,2,     0.87,2,     0.09,2,     0.10,2,  -999.0,-999.000
     33KB203_1,  PRS2,     2,  5,     23,   8023,2,20080726,2156, 22.7503,-158.0000, 4746,     51,     51.8,  24.5667,  35.0436,2,  35.0583,3,    228.3,3, 24.5556,    224.3,2,     0.81,2,     0.24,3,     0.06,2,  -999.0,-999.000
     33KB203_1,  PRS2,     2,  5,     22,   8022,2,20080726,2156, 22.7503,-158.0000, 4746,     82,     82.0,  23.5239,  35.1424,2,  35.1437,2,    220.0,2, 23.5069,    221.2,2,     0.87,2,     0.17,3,     0.06,2,  -999.0,-999.000
     33KB203_1,  PRS2,     2,  5,     21,   8021,2,20080726,2156, 22.7503,-158.0000, 4746,    120,    120.6,  22.6706,  35.1847,2,  35.1839,2,    210.8,2, 22.6462,    213.3,2,     0.91,2,     0.19,3,     0.08,2,  -999.0,-999.000
     33KB203_1,  PRS2,     2,  5,     20,   8020,2,20080726,2156, 22.7503,-158.0000, 4746,    161,    160.8,  21.8435,  35.2325,2,  35.2322,2,    206.8,2, 21.8118,    206.7,2,     1.23,2,     0.46,2,     0.09,2,  -999.0,-999.000
     33KB203_1,  PRS2,     2,  5,     19,   8019,2,20080726,2156, 22.7503,-158.0000, 4746,    198,    198.3,  20.0080,  35.0445,2,  35.0405,2,    192.8,2, 19.9713,    194.0,2,     2.15,2,     1.89,2,     0.20,2,  -999.0,-999.000
     33KB203_1,  PRS2,     2,  5,     18,   8018,2,20080726,2156, 22.7503,-158.0000, 4746,    235,    235.0,  18.2543,  34.8377,2,  34.8401,2,    193.5,2, 18.2136,    192.8,2,     2.98,2,     3.38,2,     0.31,2,  -999.0,-999.000
     33KB203_1,  PRS2,     2,  5,     17,   8017,2,20080726,2156, 22.7503,-158.0000, 4746,    279,    280.0,  15.6997,  34.5073,2,  34.5080,2,    190.3,2, 15.6560,    191.6,2,     5.22,2,     6.02,2,     0.49,2,  -999.0,-999.000
     33KB203_1,  PRS2,     2,  5,     16,   8016,2,20080726,2156, 22.7503,-158.0000, 4746,    332,    332.4,  11.9460,  34.1603,2,  34.1601,2,    194.3,2, 11.9029,    194.8,2,    11.64,2,    12.13,2,     0.90,2,  -999.0,-999.000
     33KB203_1,  PRS2,     2,  5,     15,   8015,2,20080726,2156, 22.7503,-158.0000, 4746,    354,    354.5,  10.8435,  34.1117,2,  34.1113,2,    186.6,2, 10.8003,    186.1,2,    15.96,2,    15.31,2,     1.13,2,  -999.0,-999.000
     33KB203_1,  PRS2,     2,  5,     14,   8014,2,20080726,2156, 22.7503,-158.0000, 4746,    425,    425.1,   9.2211,  34.1099,2,  34.1099,2,    164.7,2,  9.1742,    164.4,2,    26.66,2,    21.03,2,     1.51,2,  -999.0,-999.000
     33KB203_1,  PRS2,     2,  5,     13,   8025,2,20080726,2156, 22.7503,-158.0000, 4746,    466,    466.7,   8.4037,  34.0975,2,  34.0972,2,    141.8,2,  8.3549,    141.4,2,    34.72,2,    24.84,2,     1.80,2,  -999.0,-999.000
     33KB203_1,  PRS2,     2,  5,     12,   8012,2,20080726,2156, 22.7503,-158.0000, 4746,    509,    508.6,   7.4722,  34.0694,2,  34.0713,2,    120.7,2,  7.4224,    123.1,2,    43.97,2,    28.41,2,     2.04,2,  -999.0,-999.000
     33KB203_1,  PRS2,     2,  5,     11,   8011,2,20080726,2156, 22.7503,-158.0000, 4746,    545,    545.1,   6.8445,  34.0751,2,  34.0758,2,    100.5,2,  6.7936,    100.0,2,    53.37,2,    31.62,2,     2.29,2,  -999.0,-999.000
     33KB203_1,  PRS2,     2,  5,      9,   8009,2,20080726,2156, 22.7503,-158.0000, 4746,    651,    651.9,   5.9111,  34.1984,2,  34.1968,2,     60.4,2,  5.8542,     56.8,2,    71.48,2,    37.11,2,     2.72,2,  -999.0,-999.000
     33KB203_1,  PRS2,     2,  5,     10,   8010,2,20080726,2156, 22.7503,-158.0000, 4746,    653,    652.2,   5.9100,  34.2004,2,  34.1983,2,     60.7,2,  5.8531,     56.6,2,    71.52,2,    37.23,2,     2.72,2,  -999.0,-999.000
     33KB203_1,  PRS2,     2,  5,      8,   8008,2,20080726,2156, 22.7503,-158.0000, 4746,    718,    717.8,   5.3597,  34.2546,2,  34.2548,2,     39.4,2,  5.2996,     38.7,2,    82.24,2,    39.93,2,     2.92,2,  -999.0,-999.000
     33KB203_1,  PRS2,     2,  5,      7,   8026,2,20080726,2156, 22.7503,-158.0000, 4746,    780,    779.8,   4.8428,  34.3105,2,  34.3107,2,     33.1,2,  4.7803,     32.0,2,    92.80,2,    41.25,2,     3.01,2,  -999.0,-999.000
     33KB203_1,  PRS2,     2,  5,      6,   8006,2,20080726,2156, 22.7503,-158.0000, 4746,    817,    815.6,   4.6488,  34.3400,2,  34.3399,2,     33.1,2,  4.5843,     32.4,2,    97.14,2,    41.65,2,     3.03,2,  -999.0,-999.000
     33KB203_1,  PRS2,     2,  5,      5,   8005,2,20080726,2156, 22.7503,-158.0000, 4746,    852,    852.2,   4.4839,  34.3886,2,  34.3884,2,     35.3,2,  4.4173,     34.4,2,   100.68,2,    41.74,2,     3.04,2,  -999.0,-999.000
     33KB203_1,  PRS2,     2,  5,      4,   8004,2,20080726,2156, 22.7503,-158.0000, 4746,    891,    890.7,   4.3816,  34.4306,2,  34.4296,2,     38.6,2,  4.3124,     38.8,2,   102.49,2,    41.72,2,     3.02,2,  -999.0,-999.000
     33KB203_1,  PRS2,     2,  5,      3,   8003,2,20080726,2156, 22.7503,-158.0000, 4746,    928,    927.9,   4.2426,  34.4513,2,  34.4508,2,     40.9,2,  4.1713,     41.1,2,   105.34,2,    41.84,2,     3.02,2,  -999.0,-999.000
     33KB203_1,  PRS2,     2,  5,      2,   8002,2,20080726,2156, 22.7503,-158.0000, 4746,    966,    965.3,   4.1986,  34.4738,2,  34.4728,2,     44.5,2,  4.1243,     49.6,3,   105.76,2,    41.84,2,     3.03,2,  -999.0,-999.000
     33KB203_1,  PRS2,     2,  5,      1,   8001,2,20080726,2156, 22.7503,-158.0000, 4746,   1004,   1002.6,   4.1190,  34.4869,2,  34.4868,2,     45.0,2,  4.0423,     45.3,2,   107.43,2,    41.78,2,     3.03,2,  -999.0,-999.000