BOTTLE,20090923WHPSIOMYS
#code : jjward hyd_to_exchange.pl 
#original files copied from HTML directory: 20090923
#original HYD file: 33KB203_1_hy.txt   Wed Sep 23 18:02:46 2009
#original SUM file: ../33KB203_1su.txt   Wed Sep 23 18:02:45 2009
EXPOCODE,SECT_ID,STNNBR,CASTNO,SAMPNO,BTLNBR,BTLNBR_FLAG_W,DATE,TIME,LATITUDE,LONGITUDE,DEPTH,CTDRAW,CTDPRS,CTDTMP,CTDSAL,CTDSAL_FLAG_W,SALNTY,SALNTY_FLAG_W,CTDOXY,CTDOXY_FLAG_W,THETA,OXYGEN,OXYGEN_FLAG_W,SILCAT,SILCAT_FLAG_W,NO2+NO3,NO2+NO3_FLAG_W,PHSPHT,PHSPHT_FLAG_W,REVPRS,REVTMP
,,,,,,,,,,,,,DBAR,ITS-90,PSS-78,,PSS-78,,UMOL/KG,,ITS-90,UMOL/KG,,UMOL/KG,,UMOL/KG,,UMOL/KG,,DBAR,DEG C
     33KB203_1,  PRS2,     1,  1,     23,   8023,2,20080726,0048, 21.3432,-158.2732, 1560,      8,      8.2,  26.6796,  34.9502,2,  34.9486,2,    205.4,2, 26.6777,    206.6,2,  -999.00,9,  -999.00,9,  -999.00,9,  -999.0,-999.000
     33KB203_1,  PRS2,     1,  1,     24,   8024,2,20080726,0048, 21.3432,-158.2732, 1560,      8,      8.5,  26.6822,  34.9504,2,  34.9504,2,    205.3,2, 26.6802,    204.8,2,  -999.00,9,  -999.00,9,  -999.00,9,  -999.0,-999.000
     33KB203_1,  PRS2,     1,  1,     22,   8022,2,20080726,0048, 21.3432,-158.2732, 1560,     24,     24.7,  26.5752,  34.9538,2,  34.9612,2,    206.8,2, 26.5696,    205.8,2,  -999.00,9,  -999.00,9,  -999.00,9,  -999.0,-999.000
     33KB203_1,  PRS2,     1,  1,     21,   8021,2,20080726,0048, 21.3432,-158.2732, 1560,     45,     44.8,  26.2258,  34.9794,2,  34.9862,2,    207.2,2, 26.2157,    208.1,2,  -999.00,9,  -999.00,9,  -999.00,9,  -999.0,-999.000
     33KB203_1,  PRS2,     1,  1,     20,   8020,2,20080726,0048, 21.3432,-158.2732, 1560,     60,     59.8,  24.7005,  35.0557,2,  35.0620,2,    220.4,2, 24.6877,    218.4,2,  -999.00,9,  -999.00,9,  -999.00,9,  -999.0,-999.000
     33KB203_1,  PRS2,     1,  1,     19,   8019,2,20080726,0048, 21.3432,-158.2732, 1560,     75,     75.4,  23.8003,  35.1166,2,  35.1150,2,    216.8,2, 23.7845,    216.4,2,  -999.00,9,  -999.00,9,  -999.00,9,  -999.0,-999.000
     33KB203_1,  PRS2,     1,  1,     18,   8018,2,20080726,0048, 21.3432,-158.2732, 1560,    100,     99.7,  22.6726,  35.1153,2,  35.1173,2,    210.6,2, 22.6524,    210.9,2,  -999.00,9,  -999.00,9,  -999.00,9,  -999.0,-999.000
     33KB203_1,  PRS2,     1,  1,     17,   8017,2,20080726,0048, 21.3432,-158.2732, 1560,    114,    114.6,  22.3011,  35.1237,2,  35.1209,2,    207.1,2, 22.2782,    206.4,2,  -999.00,9,  -999.00,9,  -999.00,9,  -999.0,-999.000
     33KB203_1,  PRS2,     1,  1,     16,   8016,2,20080726,0048, 21.3432,-158.2732, 1560,    125,    124.6,  21.9241,  35.1134,2,  35.1102,2,    203.8,2, 21.8995,    202.4,2,  -999.00,9,  -999.00,9,  -999.00,9,  -999.0,-999.000
     33KB203_1,  PRS2,     1,  1,     15,   8015,2,20080726,0048, 21.3432,-158.2732, 1560,    150,    150.0,  20.9419,  35.0436,2,  35.0443,2,    188.0,2, 20.9133,    189.2,2,  -999.00,9,  -999.00,9,  -999.00,9,  -999.0,-999.000
     33KB203_1,  PRS2,     1,  1,     14,   8014,2,20080726,0048, 21.3432,-158.2732, 1560,    175,    175.3,  19.1876,  34.9248,2,  34.9225,2,    188.0,2, 19.1562,    187.5,2,  -999.00,9,  -999.00,9,  -999.00,9,  -999.0,-999.000
     33KB203_1,  PRS2,     1,  1,     13,   8025,2,20080726,0048, 21.3432,-158.2732, 1560,    200,    200.6,  18.0293,  34.7957,2,  34.7954,2,    186.6,2, 17.9949,    186.8,2,  -999.00,9,  -999.00,9,  -999.00,9,  -999.0,-999.000
     33KB203_1,  PRS2,     1,  1,     12,   8012,2,20080726,0048, 21.3432,-158.2732, 1560,    225,    224.7,  16.0497,  34.5769,2,  34.5765,2,    187.8,2, 16.0141,    188.1,2,  -999.00,9,  -999.00,9,  -999.00,9,  -999.0,-999.000
     33KB203_1,  PRS2,     1,  1,     11,   8011,2,20080726,0048, 21.3432,-158.2732, 1560,    250,    249.9,  14.7173,  34.4311,2,  34.4283,2,    190.3,2, 14.6801,    191.1,2,  -999.00,9,  -999.00,9,  -999.00,9,  -999.0,-999.000
     33KB203_1,  PRS2,     1,  1,     10,   8010,2,20080726,0048, 21.3432,-158.2732, 1560,    300,    299.7,  11.7044,  34.2157,2,  34.2181,2,    185.1,2, 11.6661,    185.1,2,  -999.00,9,  -999.00,9,  -999.00,9,  -999.0,-999.000
     33KB203_1,  PRS2,     1,  1,      9,   8009,2,20080726,0048, 21.3432,-158.2732, 1560,    349,    349.4,  10.0846,  34.1512,2,  34.1521,2,    170.3,2, 10.0440,    170.0,2,  -999.00,9,  -999.00,9,  -999.00,9,  -999.0,-999.000
     33KB203_1,  PRS2,     1,  1,      8,   8008,2,20080726,0048, 21.3432,-158.2732, 1560,    400,    400.4,   8.8205,  34.1265,2,  34.1272,2,    146.5,2,  8.7775,    143.6,2,  -999.00,9,  -999.00,9,  -999.00,9,  -999.0,-999.000
     33KB203_1,  PRS2,     1,  1,      7,   8026,2,20080726,0048, 21.3432,-158.2732, 1560,    499,    498.9,   7.1518,  34.1158,2,  34.1164,2,     95.8,2,  7.1041,     95.0,2,  -999.00,9,  -999.00,9,  -999.00,9,  -999.0,-999.000
     33KB203_1,  PRS2,     1,  1,      6,   8006,2,20080726,0048, 21.3432,-158.2732, 1560,    600,    599.3,   5.8558,  34.2157,2,  34.2144,2,     52.8,2,  5.8040,     48.7,2,  -999.00,9,  -999.00,9,  -999.00,9,  -999.0,-999.000
     33KB203_1,  PRS2,     1,  1,      5,   8005,2,20080726,0048, 21.3432,-158.2732, 1560,    700,    700.3,   5.1936,  34.3580,2,  34.3572,2,     34.0,2,  5.1359,     34.0,2,  -999.00,9,  -999.00,9,  -999.00,9,  -999.0,-999.000
     33KB203_1,  PRS2,     1,  1,      4,   8004,2,20080726,0048, 21.3432,-158.2732, 1560,    750,    750.1,   5.0530,  34.3872,2,  34.3870,2,     34.1,2,  4.9917,     33.8,2,  -999.00,9,  -999.00,9,  -999.00,9,  -999.0,-999.000
     33KB203_1,  PRS2,     1,  1,      3,   8003,2,20080726,0048, 21.3432,-158.2732, 1560,    799,    799.4,   4.9228,  34.4045,2,  34.4037,2,     34.8,2,  4.8580,     34.9,2,  -999.00,9,  -999.00,9,  -999.00,9,  -999.0,-999.000
     33KB203_1,  PRS2,     1,  1,      2,   8002,2,20080726,0048, 21.3432,-158.2732, 1560,    901,    901.0,   4.4374,  34.4718,2,-999.0000,5,     40.6,2,  4.3669,   -999.0,5,  -999.00,9,  -999.00,9,  -999.00,9,  -999.0,-999.000
     33KB203_1,  PRS2,     1,  1,      1,   8001,2,20080726,0048, 21.3432,-158.2732, 1560,   1019,   1019.5,   4.1821,  34.4974,2,  34.4972,2,     43.8,2,  4.1033,     44.5,2,  -999.00,9,  -999.00,9,  -999.00,9,  -999.0,-999.000
     33KB203_1,  PRS2,     2,  1,     18,   8018,2,20080726,1123, 22.7498,-158.0085, 4750,      7,      6.7,  25.9343,  34.9632,2,-999.0000,9,    207.4,1, 25.9328,   -999.0,9,  -999.00,9,  -999.00,9,  -999.00,9,  -999.0,-999.000
     33KB203_1,  PRS2,     2,  1,     19,   8019,2,20080726,1123, 22.7498,-158.0085, 4750,      6,      6.8,  25.9341,  34.9632,2,-999.0000,9,    207.5,1, 25.9326,   -999.0,9,  -999.00,9,  -999.00,9,  -999.00,9,  -999.0,-999.000
     33KB203_1,  PRS2,     2,  1,     17,   8017,2,20080726,1123, 22.7498,-158.0085, 4750,      7,      6.8,  25.9362,  34.9630,2,-999.0000,9,    207.2,1, 25.9347,   -999.0,9,  -999.00,9,  -999.00,9,  -999.00,9,  -999.0,-999.000
     33KB203_1,  PRS2,     2,  1,     21,   8021,2,20080726,1123, 22.7498,-158.0085, 4750,      8,      6.9,  25.9352,  34.9629,2,-999.0000,9,    207.2,1, 25.9336,   -999.0,9,  -999.00,9,  -999.00,9,  -999.00,9,  -999.0,-999.000
     33KB203_1,  PRS2,     2,  1,     20,   8020,2,20080726,1123, 22.7498,-158.0085, 4750,      7,      6.9,  25.9353,  34.9631,2,-999.0000,9,    207.2,1, 25.9337,   -999.0,9,  -999.00,9,  -999.00,9,  -999.00,9,  -999.0,-999.000
     33KB203_1,  PRS2,     2,  1,     16,   8016,2,20080726,1123, 22.7498,-158.0085, 4750,      7,      6.9,  25.9378,  34.9630,2,-999.0000,9,    207.2,1, 25.9362,   -999.0,9,  -999.00,9,  -999.00,9,  -999.00,9,  -999.0,-999.000
     33KB203_1,  PRS2,     2,  1,     22,   8022,2,20080726,1123, 22.7498,-158.0085, 4750,      8,      7.0,  25.9353,  34.9630,2,-999.0000,9,    207.2,1, 25.9337,   -999.0,9,  -999.00,9,  -999.00,9,  -999.00,9,  -999.0,-999.000
     33KB203_1,  PRS2,     2,  1,     24,   8024,2,20080726,1123, 22.7498,-158.0085, 4750,      8,      7.1,  25.9350,  34.9630,2,-999.0000,9,    207.1,1, 25.9335,   -999.0,9,  -999.00,9,  -999.00,9,  -999.00,9,  -999.0,-999.000
     33KB203_1,  PRS2,     2,  1,     23,   8023,2,20080726,1123, 22.7498,-158.0085, 4750,      7,      7.1,  25.9353,  34.9630,2,-999.0000,9,    207.1,1, 25.9337,   -999.0,9,  -999.00,9,  -999.00,9,  -999.00,9,  -999.0,-999.000
     33KB203_1,  PRS2,     2,  1,     14,   8014,2,20080726,1123, 22.7498,-158.0085, 4750,     25,     24.8,  25.9413,  34.9627,2,-999.0000,9,    207.5,1, 25.9358,   -999.0,9,  -999.00,9,  -999.00,9,  -999.00,9,  -999.0,-999.000
     33KB203_1,  PRS2,     2,  1,     13,   8025,2,20080726,1123, 22.7498,-158.0085, 4750,     26,     24.8,  25.9405,  34.9629,2,-999.0000,9,    207.7,1, 25.9350,   -999.0,9,  -999.00,9,  -999.00,9,  -999.00,9,  -999.0,-999.000
     33KB203_1,  PRS2,     2,  1,     12,   8012,2,20080726,1123, 22.7498,-158.0085, 4750,     25,     24.9,  25.9410,  34.9629,2,-999.0000,9,    208.1,1, 25.9355,   -999.0,9,  -999.00,9,  -999.00,9,  -999.00,9,  -999.0,-999.000
     33KB203_1,  PRS2,     2,  1,     11,   8011,2,20080726,1123, 22.7498,-158.0085, 4750,     25,     24.9,  25.9402,  34.9629,2,-999.0000,9,    208.5,1, 25.9346,   -999.0,9,  -999.00,9,  -999.00,9,  -999.00,9,  -999.0,-999.000
     33KB203_1,  PRS2,     2,  1,     15,   8015,2,20080726,1123, 22.7498,-158.0085, 4750,     26,     25.0,  25.9415,  34.9628,2,-999.0000,9,    207.3,1, 25.9360,   -999.0,9,  -999.00,9,  -999.00,9,  -999.00,9,  -999.0,-999.000
     33KB203_1,  PRS2,     2,  1,      4,   8004,2,20080726,1123, 22.7498,-158.0085, 4750,     45,     44.5,  24.7009,  35.0635,2,-999.0000,9,    221.9,1, 24.6914,   -999.0,9,  -999.00,9,  -999.00,9,  -999.00,9,  -999.0,-999.000
     33KB203_1,  PRS2,     2,  1,      3,   8003,2,20080726,1123, 22.7498,-158.0085, 4750,     45,     44.5,  24.7046,  35.0644,2,-999.0000,9,    222.0,1, 24.6950,   -999.0,9,  -999.00,9,  -999.00,9,  -999.00,9,  -999.0,-999.000
     33KB203_1,  PRS2,     2,  1,      2,   8002,2,20080726,1123, 22.7498,-158.0085, 4750,     45,     44.5,  24.7045,  35.0638,2,-999.0000,9,    221.9,1, 24.6949,   -999.0,9,  -999.00,9,  -999.00,9,  -999.00,9,  -999.0,-999.000
     33KB203_1,  PRS2,     2,  1,      5,   8005,2,20080726,1123, 22.7498,-158.0085, 4750,     44,     44.6,  24.7004,  35.0636,2,-999.0000,9,    221.7,1, 24.6908,   -999.0,9,  -999.00,9,  -999.00,9,  -999.00,9,  -999.0,-999.000
     33KB203_1,  PRS2,     2,  1,      1,   8001,2,20080726,1123, 22.7498,-158.0085, 4750,     45,     44.6,  24.7053,  35.0639,2,-999.0000,9,    221.9,1, 24.6958,   -999.0,9,  -999.00,9,  -999.00,9,  -999.00,9,  -999.0,-999.000
     33KB203_1,  PRS2,     2,  1,      9,   8009,2,20080726,1123, 22.7498,-158.0085, 4750,     75,     74.9,  23.9272,  35.1046,2,-999.0000,9,    221.8,1, 23.9115,   -999.0,9,  -999.00,9,  -999.00,9,  -999.00,9,  -999.0,-999.000
     33KB203_1,  PRS2,     2,  1,      8,   8008,2,20080726,1123, 22.7498,-158.0085, 4750,     75,     74.9,  23.9267,  35.1046,2,-999.0000,9,    222.0,1, 23.9110,   -999.0,9,  -999.00,9,  -999.00,9,  -999.00,9,  -999.0,-999.000
     33KB203_1,  PRS2,     2,  1,      7,   8026,2,20080726,1123, 22.7498,-158.0085, 4750,     74,     74.9,  23.9259,  35.1049,2,-999.0000,9,    222.0,1, 23.9101,   -999.0,9,  -999.00,9,  -999.00,9,  -999.00,9,  -999.0,-999.000
     33KB203_1,  PRS2,     2,  1,     10,   8010,2,20080726,1123, 22.7498,-158.0085, 4750,     75,     75.0,  23.9295,  35.1043,2,-999.0000,9,    221.7,1, 23.9138,   -999.0,9,  -999.00,9,  -999.00,9,  -999.00,9,  -999.0,-999.000
     33KB203_1,  PRS2,     2,  1,      6,   8006,2,20080726,1123, 22.7498,-158.0085, 4750,     74,     75.1,  23.9254,  35.1048,2,-999.0000,9,    221.8,1, 23.9096,   -999.0,9,  -999.00,9,  -999.00,9,  -999.00,9,  -999.0,-999.000
     33KB203_1,  PRS2,     2,  2,     24,   8024,2,20080726,1247, 22.7498,-158.0085, 4748,      8,      8.3,  25.9198,  34.9611,2,  34.9610,2,    208.0,1, 25.9179,   -999.0,9,  -999.00,9,  -999.00,9,  -999.00,9,  -999.0,-999.000
     33KB203_1,  PRS2,     2,  2,     23,   8023,2,20080726,1247, 22.7498,-158.0085, 4748,      8,      8.3,  25.9201,  34.9611,2,  34.9610,2,    207.9,1, 25.9182,   -999.0,9,  -999.00,9,  -999.00,9,  -999.00,9,  -999.0,-999.000
     33KB203_1,  PRS2,     2,  2,     22,   8022,2,20080726,1247, 22.7498,-158.0085, 4748,      8,      8.4,  25.9213,  34.9609,2,  34.9610,2,    208.0,1, 25.9194,   -999.0,9,  -999.00,9,  -999.00,9,  -999.00,9,  -999.0,-999.000
     33KB203_1,  PRS2,     2,  2,     21,   8021,2,20080726,1247, 22.7498,-158.0085, 4748,     25,     25.2,  25.9264,  34.9605,2,  34.9616,2,    208.3,1, 25.9208,   -999.0,9,  -999.00,9,  -999.00,9,  -999.00,9,  -999.0,-999.000
     33KB203_1,  PRS2,     2,  2,     20,   8020,2,20080726,1247, 22.7498,-158.0085, 4748,     25,     25.2,  25.9263,  34.9605,2,  34.9612,2,    208.6,1, 25.9207,   -999.0,9,  -999.00,9,  -999.00,9,  -999.00,9,  -999.0,-999.000
     33KB203_1,  PRS2,     2,  2,     19,   8019,2,20080726,1247, 22.7498,-158.0085, 4748,     26,     25.2,  25.9261,  34.9605,2,  34.9614,2,    208.7,1, 25.9205,   -999.0,9,  -999.00,9,  -999.00,9,  -999.00,9,  -999.0,-999.000
     33KB203_1,  PRS2,     2,  2,     18,   8018,2,20080726,1247, 22.7498,-158.0085, 4748,     25,     25.3,  25.9263,  34.9604,2,  34.9612,2,    208.8,1, 25.9207,   -999.0,9,  -999.00,9,  -999.00,9,  -999.00,9,  -999.0,-999.000
     33KB203_1,  PRS2,     2,  2,     15,   8015,2,20080726,1247, 22.7498,-158.0085, 4748,     45,     44.7,  24.8599,  35.0470,2,  35.0470,2,    225.3,1, 24.8502,   -999.0,9,  -999.00,9,  -999.00,9,  -999.00,9,  -999.0,-999.000
     33KB203_1,  PRS2,     2,  2,     17,   8017,2,20080726,1247, 22.7498,-158.0085, 4748,     45,     44.8,  24.8788,  35.0455,2,  35.0461,2,    225.5,1, 24.8692,   -999.0,9,  -999.00,9,  -999.00,9,  -999.00,9,  -999.0,-999.000
     33KB203_1,  PRS2,     2,  2,     16,   8016,2,20080726,1247, 22.7498,-158.0085, 4748,     45,     44.8,  24.8705,  35.0451,2,  35.0457,2,    225.5,1, 24.8608,   -999.0,9,  -999.00,9,  -999.00,9,  -999.00,9,  -999.0,-999.000
     33KB203_1,  PRS2,     2,  2,     12,   8012,2,20080726,1247, 22.7498,-158.0085, 4748,     75,     75.0,  23.8464,  35.1079,2,  35.1167,2,    222.7,1, 23.8307,   -999.0,9,  -999.00,9,  -999.00,9,  -999.00,9,  -999.0,-999.000
     33KB203_1,  PRS2,     2,  2,     14,   8014,2,20080726,1247, 22.7498,-158.0085, 4748,     75,     75.1,  23.8594,  35.1085,2,  35.1159,2,    223.5,1, 23.8437,   -999.0,9,  -999.00,9,  -999.00,9,  -999.00,9,  -999.0,-999.000
     33KB203_1,  PRS2,     2,  2,     13,   8025,2,20080726,1247, 22.7498,-158.0085, 4748,     75,     75.2,  23.8508,  35.1090,2,  35.1181,2,    223.1,1, 23.8351,   -999.0,9,  -999.00,9,  -999.00,9,  -999.00,9,  -999.0,-999.000
     33KB203_1,  PRS2,     2,  2,     10,   8010,2,20080726,1247, 22.7498,-158.0085, 4748,    101,    100.8,  23.0019,  35.1663,2,  35.1673,2,    217.0,1, 22.9814,   -999.0,9,  -999.00,9,  -999.00,9,  -999.00,9,  -999.0,-999.000
     33KB203_1,  PRS2,     2,  2,      9,   8009,2,20080726,1247, 22.7498,-158.0085, 4748,    101,    100.9,  22.9998,  35.1661,2,  35.1671,2,    217.1,1, 22.9792,   -999.0,9,  -999.00,9,  -999.00,9,  -999.00,9,  -999.0,-999.000
     33KB203_1,  PRS2,     2,  2,     11,   8011,2,20080726,1247, 22.7498,-158.0085, 4748,    101,    101.0,  22.9994,  35.1663,2,  35.1670,2,    217.0,1, 22.9787,   -999.0,9,  -999.00,9,  -999.00,9,  -999.00,9,  -999.0,-999.000
     33KB203_1,  PRS2,     2,  2,      7,   8026,2,20080726,1247, 22.7498,-158.0085, 4748,    125,    124.9,  22.4451,  35.2009,2,  35.2008,2,    208.2,1, 22.4201,   -999.0,9,  -999.00,9,  -999.00,9,  -999.00,9,  -999.0,-999.000
     33KB203_1,  PRS2,     2,  2,      6,   8006,2,20080726,1247, 22.7498,-158.0085, 4748,    125,    125.2,  22.4408,  35.2015,2,  35.2012,2,    208.3,1, 22.4157,   -999.0,9,  -999.00,9,  -999.00,9,  -999.00,9,  -999.0,-999.000
     33KB203_1,  PRS2,     2,  2,      5,   8005,2,20080726,1247, 22.7498,-158.0085, 4748,    126,    125.3,  22.4386,  35.2018,2,  35.2008,2,    208.5,1, 22.4135,   -999.0,9,  -999.00,9,  -999.00,9,  -999.00,9,  -999.0,-999.000
     33KB203_1,  PRS2,     2,  2,      8,   8008,2,20080726,1247, 22.7498,-158.0085, 4748,    126,    125.5,  22.4417,  35.2014,2,  35.2012,2,    208.2,1, 22.4165,   -999.0,9,  -999.00,9,  -999.00,9,  -999.00,9,  -999.0,-999.000
     33KB203_1,  PRS2,     2,  2,      4,   8004,2,20080726,1247, 22.7498,-158.0085, 4748,    150,    150.0,  21.4046,  35.1799,2,  35.1880,2,    203.6,1, 21.3755,   -999.0,9,  -999.00,9,  -999.00,9,  -999.00,9,  -999.0,-999.000
     33KB203_1,  PRS2,     2,  2,      3,   8003,2,20080726,1247, 22.7498,-158.0085, 4748,    176,    176.1,  19.9259,  35.0339,2,  35.0374,2,    191.3,1, 19.8935,   -999.0,9,  -999.00,9,  -999.00,9,  -999.00,9,  -999.0,-999.000
     33KB203_1,  PRS2,     2,  2,      2,   8002,2,20080726,1247, 22.7498,-158.0085, 4748,    499,    499.6,   7.5558,  34.0749,2,  34.0750,2,    127.5,1,  7.5066,   -999.0,9,  -999.00,9,  -999.00,9,  -999.00,9,  -999.0,-999.000
     33KB203_1,  PRS2,     2,  2,      1,   8001,2,20080726,1247, 22.7498,-158.0085, 4748,   1020,   1019.6,   4.0771,  34.4924,2,  34.4899,2,     44.1,1,  3.9992,   -999.0,9,  -999.00,9,  -999.00,9,  -999.00,9,  -999.0,-999.000