BOTTLE,20090923WHPSIOMYS
EXPOCODE,SECT_ID,STNNBR,CASTNO,SAMPNO,BTLNBR,BTLNBR_FLAG_W,DATE,TIME,LATITUDE,LONGITUDE,DEPTH,CTDRAW,CTDPRS,CTDTMP,CTDSAL,CTDSAL_FLAG_W,SALNTY,SALNTY_FLAG_W,CTDOXY,CTDOXY_FLAG_W,THETA,OXYGEN,OXYGEN_FLAG_W,SILCAT,SILCAT_FLAG_W,NO2+NO3,NO2+NO3_FLAG_W,PHSPHT,PHSPHT_FLAG_W,REVPRS,REVTMP
,,,,,,,,,,,,,DBAR,ITS-90,PSS-78,,PSS-78,,UMOL/KG,,ITS-90,UMOL/KG,,UMOL/KG,,UMOL/KG,,UMOL/KG,,DBAR,DEG C
     33KB203_1,  PRS2,     2,  6,     23,   8023,2,20080727,0032, 22.7455,-157.9950, 4741,      6,      5.7,  26.0206,  34.9452,2,  34.9437,2,    207.8,1, 26.0194,   -999.0,9,  -999.00,9,  -999.00,9,  -999.00,9,  -999.0,-999.000
     33KB203_1,  PRS2,     2,  6,     24,   8024,2,20080727,0032, 22.7455,-157.9950, 4741,      6,      5.8,  26.0188,  34.9451,2,-999.0000,5,    208.0,1, 26.0175,   -999.0,9,  -999.00,9,  -999.00,9,  -999.00,9,  -999.0,-999.000
     33KB203_1,  PRS2,     2,  6,     20,   8020,2,20080727,0032, 22.7455,-157.9950, 4741,     25,     25.0,  25.8945,  34.9542,2,  34.9538,2,    207.3,1, 25.8890,   -999.0,9,  -999.00,9,  -999.00,9,  -999.00,9,  -999.0,-999.000
     33KB203_1,  PRS2,     2,  6,     22,   8022,2,20080727,0032, 22.7455,-157.9950, 4741,     25,     25.1,  25.8937,  34.9542,2,-999.0000,5,    207.5,1, 25.8881,   -999.0,9,  -999.00,9,  -999.00,9,  -999.00,9,  -999.0,-999.000
     33KB203_1,  PRS2,     2,  6,     21,   8021,2,20080727,0032, 22.7455,-157.9950, 4741,     25,     25.1,  25.8945,  34.9545,2,-999.0000,5,    207.4,1, 25.8889,   -999.0,9,  -999.00,9,  -999.00,9,  -999.00,9,  -999.0,-999.000
     33KB203_1,  PRS2,     2,  6,     18,   8018,2,20080727,0032, 22.7455,-157.9950, 4741,     45,     45.0,  24.7938,  35.0547,2,  35.0585,2,    228.0,1, 24.7841,   -999.0,9,  -999.00,9,  -999.00,9,  -999.00,9,  -999.0,-999.000
     33KB203_1,  PRS2,     2,  6,     19,   8019,2,20080727,0032, 22.7455,-157.9950, 4741,     46,     45.2,  24.7894,  35.0556,2,-999.0000,5,    228.0,1, 24.7797,   -999.0,9,  -999.00,9,  -999.00,9,  -999.00,9,  -999.0,-999.000
     33KB203_1,  PRS2,     2,  6,     17,   8017,2,20080727,0032, 22.7455,-157.9950, 4741,     75,     75.1,  23.4228,  35.1481,2,-999.0000,5,    220.9,1, 23.4073,   -999.0,9,  -999.00,9,  -999.00,9,  -999.00,9,  -999.0,-999.000
     33KB203_1,  PRS2,     2,  6,     16,   8016,2,20080727,0032, 22.7455,-157.9950, 4741,     75,     75.2,  23.4207,  35.1491,2,  35.1484,2,    220.7,1, 23.4052,   -999.0,9,  -999.00,9,  -999.00,9,  -999.00,9,  -999.0,-999.000
     33KB203_1,  PRS2,     2,  6,     15,   8015,2,20080727,0032, 22.7455,-157.9950, 4741,    100,    100.0,  22.8141,  35.1803,2,-999.0000,5,    215.7,1, 22.7938,   -999.0,9,  -999.00,9,  -999.00,9,  -999.00,9,  -999.0,-999.000
     33KB203_1,  PRS2,     2,  6,     14,   8014,2,20080727,0032, 22.7455,-157.9950, 4741,    100,    100.0,  22.8157,  35.1802,2,  35.1790,2,    215.7,1, 22.7954,   -999.0,9,  -999.00,9,  -999.00,9,  -999.00,9,  -999.0,-999.000
     33KB203_1,  PRS2,     2,  6,     12,   8012,2,20080727,0032, 22.7455,-157.9950, 4741,    124,    125.2,  22.3336,  35.2118,2,-999.0000,5,    209.8,1, 22.3085,   -999.0,9,  -999.00,9,  -999.00,9,  -999.00,9,  -999.0,-999.000
     33KB203_1,  PRS2,     2,  6,     11,   8011,2,20080727,0032, 22.7455,-157.9950, 4741,    126,    125.2,  22.3323,  35.2121,2,  35.2111,2,    209.9,1, 22.3073,   -999.0,9,  -999.00,9,  -999.00,9,  -999.00,9,  -999.0,-999.000
     33KB203_1,  PRS2,     2,  6,     13,   8025,2,20080727,0032, 22.7455,-157.9950, 4741,    126,    125.4,  22.3354,  35.2118,2,-999.0000,5,    209.7,1, 22.3103,   -999.0,9,  -999.00,9,  -999.00,9,  -999.00,9,  -999.0,-999.000
     33KB203_1,  PRS2,     2,  6,      9,   8009,2,20080727,0032, 22.7455,-157.9950, 4741,    151,    150.4,  21.7645,  35.2365,2,  35.2343,2,    205.9,1, 21.7350,   -999.0,9,  -999.00,9,  -999.00,9,  -999.00,9,  -999.0,-999.000
     33KB203_1,  PRS2,     2,  6,     10,   8010,2,20080727,0032, 22.7455,-157.9950, 4741,    151,    150.6,  21.7636,  35.2366,2,-999.0000,5,    206.0,1, 21.7340,   -999.0,9,  -999.00,9,  -999.00,9,  -999.00,9,  -999.0,-999.000
     33KB203_1,  PRS2,     2,  6,      8,   8008,2,20080727,0032, 22.7455,-157.9950, 4741,    175,    174.9,  20.8749,  35.1347,2,-999.0000,5,    194.6,1, 20.8416,   -999.0,9,  -999.00,9,  -999.00,9,  -999.00,9,  -999.0,-999.000
     33KB203_1,  PRS2,     2,  6,      7,   8026,2,20080727,0032, 22.7455,-157.9950, 4741,    174,    174.9,  20.8723,  35.1350,2,  35.1268,2,    194.4,1, 20.8389,   -999.0,9,  -999.00,9,  -999.00,9,  -999.00,9,  -999.0,-999.000
     33KB203_1,  PRS2,     2,  6,      6,   8006,2,20080727,0032, 22.7455,-157.9950, 4741,    201,    200.1,  19.4402,  34.9828,2,  34.9815,2,    189.4,1, 19.4039,   -999.0,9,  -999.00,9,  -999.00,9,  -999.00,9,  -999.0,-999.000
     33KB203_1,  PRS2,     2,  6,      5,   8005,2,20080727,0032, 22.7455,-157.9950, 4741,    250,    250.0,  16.8233,  34.6573,2,  34.6551,2,    191.3,1, 16.7824,   -999.0,9,  -999.00,9,  -999.00,9,  -999.00,9,  -999.0,-999.000
     33KB203_1,  PRS2,     2,  6,      4,   8004,2,20080727,0032, 22.7455,-157.9950, 4741,    350,    350.7,  11.0724,  34.1206,2,  34.1201,2,    189.2,1, 11.0291,   -999.0,9,  -999.00,9,  -999.00,9,  -999.00,9,  -999.0,-999.000
     33KB203_1,  PRS2,     2,  6,      3,   8003,2,20080727,0032, 22.7455,-157.9950, 4741,    350,    350.7,  11.0687,  34.1210,2,  34.1205,2,    188.8,1, 11.0255,   -999.0,9,  -999.00,9,  -999.00,9,  -999.00,9,  -999.0,-999.000
     33KB203_1,  PRS2,     2,  6,      2,   8002,2,20080727,0032, 22.7455,-157.9950, 4741,    450,    450.2,   8.4356,  34.0963,2,  34.0960,2,    141.6,1,  8.3884,   -999.0,9,  -999.00,9,  -999.00,9,  -999.00,9,  -999.0,-999.000
     33KB203_1,  PRS2,     2,  6,      1,   8001,2,20080727,0032, 22.7455,-157.9950, 4741,   1020,   1020.6,   4.1068,  34.4829,2,  34.4830,2,     44.2,1,  4.0286,   -999.0,9,  -999.00,9,  -999.00,9,  -999.00,9,  -999.0,-999.000
     33KB203_1,  PRS2,     2,  7,     24,   8024,2,20080727,0304, 22.7918,-158.0522, 4743,      5,      5.9,  25.9949,  34.9628,2,  34.9622,2,    208.4,1, 25.9936,   -999.0,9,  -999.00,9,  -999.00,9,  -999.00,9,  -999.0,-999.000
     33KB203_1,  PRS2,     2,  7,     23,   8023,2,20080727,0304, 22.7918,-158.0522, 4743,     25,     25.1,  25.9077,  34.9566,2,  34.9579,2,    208.9,1, 25.9021,   -999.0,9,  -999.00,9,  -999.00,9,  -999.00,9,  -999.0,-999.000
     33KB203_1,  PRS2,     2,  7,     21,   8021,2,20080727,0304, 22.7918,-158.0522, 4743,     45,     45.0,  24.5767,  35.0613,2,-999.0000,5,    224.3,1, 24.5670,   -999.0,9,  -999.00,9,  -999.00,9,  -999.00,9,  -999.0,-999.000
     33KB203_1,  PRS2,     2,  7,     20,   8020,2,20080727,0304, 22.7918,-158.0522, 4743,     45,     45.0,  24.5760,  35.0618,2,  35.0644,2,    224.4,1, 24.5664,   -999.0,9,  -999.00,9,  -999.00,9,  -999.00,9,  -999.0,-999.000
     33KB203_1,  PRS2,     2,  7,     22,   8022,2,20080727,0304, 22.7918,-158.0522, 4743,     45,     45.1,  24.5727,  35.0621,2,-999.0000,5,    224.3,1, 24.5631,   -999.0,9,  -999.00,9,  -999.00,9,  -999.00,9,  -999.0,-999.000
     33KB203_1,  PRS2,     2,  7,     19,   8019,2,20080727,0304, 22.7918,-158.0522, 4743,     75,     74.9,  23.8526,  35.0952,2,-999.0000,5,    224.0,1, 23.8369,   -999.0,9,  -999.00,9,  -999.00,9,  -999.00,9,  -999.0,-999.000
     33KB203_1,  PRS2,     2,  7,     18,   8018,2,20080727,0304, 22.7918,-158.0522, 4743,     74,     74.9,  23.8523,  35.0950,2,-999.0000,5,    223.8,1, 23.8366,   -999.0,9,  -999.00,9,  -999.00,9,  -999.00,9,  -999.0,-999.000
     33KB203_1,  PRS2,     2,  7,     17,   8017,2,20080727,0304, 22.7918,-158.0522, 4743,     75,     75.0,  23.8527,  35.0952,2,  35.0953,2,    223.6,1, 23.8370,   -999.0,9,  -999.00,9,  -999.00,9,  -999.00,9,  -999.0,-999.000
     33KB203_1,  PRS2,     2,  7,     16,   8016,2,20080727,0304, 22.7918,-158.0522, 4743,     99,     99.6,  23.2579,  35.1394,2,-999.0000,5,    220.6,1, 23.2374,   -999.0,9,  -999.00,9,  -999.00,9,  -999.00,9,  -999.0,-999.000
     33KB203_1,  PRS2,     2,  7,     15,   8015,2,20080727,0304, 22.7918,-158.0522, 4743,    100,     99.8,  23.2544,  35.1422,2,-999.0000,5,    220.5,1, 23.2338,   -999.0,9,  -999.00,9,  -999.00,9,  -999.00,9,  -999.0,-999.000
     33KB203_1,  PRS2,     2,  7,     14,   8014,2,20080727,0304, 22.7918,-158.0522, 4743,    100,     99.8,  23.2516,  35.1428,2,  35.1402,2,    220.3,1, 23.2311,   -999.0,9,  -999.00,9,  -999.00,9,  -999.00,9,  -999.0,-999.000
     33KB203_1,  PRS2,     2,  7,     13,   8025,2,20080727,0304, 22.7918,-158.0522, 4743,    125,    124.9,  22.5803,  35.1985,2,-999.0000,5,    210.7,1, 22.5551,   -999.0,9,  -999.00,9,  -999.00,9,  -999.00,9,  -999.0,-999.000
     33KB203_1,  PRS2,     2,  7,     12,   8012,2,20080727,0304, 22.7918,-158.0522, 4743,    125,    125.0,  22.5757,  35.1987,2,-999.0000,5,    210.9,1, 22.5505,   -999.0,9,  -999.00,9,  -999.00,9,  -999.00,9,  -999.0,-999.000
     33KB203_1,  PRS2,     2,  7,     11,   8011,2,20080727,0304, 22.7918,-158.0522, 4743,    125,    125.1,  22.5712,  35.1990,2,  35.1991,2,    211.2,1, 22.5460,   -999.0,9,  -999.00,9,  -999.00,9,  -999.00,9,  -999.0,-999.000
     33KB203_1,  PRS2,     2,  7,      9,   8009,2,20080727,0304, 22.7918,-158.0522, 4743,    149,    149.4,  21.8339,  35.2319,2,-999.0000,5,    206.6,1, 21.8045,   -999.0,9,  -999.00,9,  -999.00,9,  -999.00,9,  -999.0,-999.000
     33KB203_1,  PRS2,     2,  7,     10,   8010,2,20080727,0304, 22.7918,-158.0522, 4743,    149,    149.5,  21.8452,  35.2333,2,-999.0000,5,    206.7,1, 21.8158,   -999.0,9,  -999.00,9,  -999.00,9,  -999.00,9,  -999.0,-999.000
     33KB203_1,  PRS2,     2,  7,      8,   8008,2,20080727,0304, 22.7918,-158.0522, 4743,    149,    149.5,  21.8198,  35.2304,2,  35.2327,2,    206.5,1, 21.7903,   -999.0,9,  -999.00,9,  -999.00,9,  -999.00,9,  -999.0,-999.000
     33KB203_1,  PRS2,     2,  7,      7,   8026,2,20080727,0304, 22.7918,-158.0522, 4743,    175,    174.6,  20.2529,  35.0549,2,  35.0577,2,    192.6,1, 20.2203,   -999.0,9,  -999.00,9,  -999.00,9,  -999.00,9,  -999.0,-999.000
     33KB203_1,  PRS2,     2,  7,      6,   8006,2,20080727,0304, 22.7918,-158.0522, 4743,    200,    199.5,  19.1842,  34.9473,2,  34.9492,2,    192.7,1, 19.1484,   -999.0,9,  -999.00,9,  -999.00,9,  -999.00,9,  -999.0,-999.000
     33KB203_1,  PRS2,     2,  7,      5,   8005,2,20080727,0304, 22.7918,-158.0522, 4743,    249,    249.5,  16.3636,  34.5968,2,  34.5967,2,    193.0,1, 16.3236,   -999.0,9,  -999.00,9,  -999.00,9,  -999.00,9,  -999.0,-999.000
     33KB203_1,  PRS2,     2,  7,      4,   8004,2,20080727,0304, 22.7918,-158.0522, 4743,    349,    349.7,  11.1016,  34.1217,2,  34.1238,2,    190.9,1, 11.0583,   -999.0,9,  -999.00,9,  -999.00,9,  -999.00,9,  -999.0,-999.000
     33KB203_1,  PRS2,     2,  7,      3,   8003,2,20080727,0304, 22.7918,-158.0522, 4743,    350,    349.7,  11.1007,  34.1212,2,  34.1234,2,    190.8,1, 11.0574,   -999.0,9,  -999.00,9,  -999.00,9,  -999.00,9,  -999.0,-999.000
     33KB203_1,  PRS2,     2,  7,      2,   8002,2,20080727,0304, 22.7918,-158.0522, 4743,    452,    451.3,   8.4596,  34.0872,2,  34.0884,2,    149.7,1,  8.4123,   -999.0,9,  -999.00,9,  -999.00,9,  -999.00,9,  -999.0,-999.000
     33KB203_1,  PRS2,     2,  7,      1,   8001,2,20080727,0304, 22.7918,-158.0522, 4743,   1020,   1019.9,   4.0888,  34.4919,2,  34.4907,2,     43.4,1,  4.0108,   -999.0,9,  -999.00,9,  -999.00,9,  -999.00,9,  -999.0,-999.000
     33KB203_1,  PRS2,     2,  8,     23,   8023,2,20080727,0557, 22.8152,-158.0387, 4735,      6,      6.1,  25.9494,  34.9587,2,  34.9579,2,    207.9,2, 25.9480,    207.9,2,  -999.00,9,  -999.00,9,  -999.00,9,  -999.0,-999.000
     33KB203_1,  PRS2,     2,  8,     24,   8024,2,20080727,0557, 22.8152,-158.0387, 4735,      7,      6.2,  25.9486,  34.9589,2,  34.9579,2,    207.8,2, 25.9473,   -999.0,5,  -999.00,9,  -999.00,9,  -999.00,9,  -999.0,-999.000
     33KB203_1,  PRS2,     2,  8,     22,   8022,2,20080727,0557, 22.8152,-158.0387, 4735,     15,     14.9,  25.9534,  34.9579,2,  34.9567,2,    208.0,2, 25.9501,   -999.0,5,  -999.00,9,  -999.00,9,  -999.00,9,  -999.0,-999.000
     33KB203_1,  PRS2,     2,  8,     21,   8021,2,20080727,0557, 22.8152,-158.0387, 4735,     24,     24.4,  25.9436,  34.9622,2,  34.9604,2,    208.2,2, 25.9382,   -999.0,5,  -999.00,9,  -999.00,9,  -999.00,9,  -999.0,-999.000
     33KB203_1,  PRS2,     2,  8,     20,   8020,2,20080727,0557, 22.8152,-158.0387, 4735,     25,     24.4,  25.9452,  34.9617,2,  34.9608,2,    208.4,2, 25.9398,   -999.0,5,  -999.00,9,  -999.00,9,  -999.00,9,  -999.0,-999.000
     33KB203_1,  PRS2,     2,  8,     19,   8019,2,20080727,0557, 22.8152,-158.0387, 4735,     25,     24.4,  25.9464,  34.9613,2,  34.9614,2,    208.5,2, 25.9410,    208.2,2,  -999.00,9,  -999.00,9,  -999.00,9,  -999.0,-999.000
     33KB203_1,  PRS2,     2,  8,     18,   8018,2,20080727,0557, 22.8152,-158.0387, 4735,     34,     34.5,  25.6779,  34.9854,2,  34.9908,2,    214.2,2, 25.6703,   -999.0,5,  -999.00,9,  -999.00,9,  -999.00,9,  -999.0,-999.000
     33KB203_1,  PRS2,     2,  8,     17,   8017,2,20080727,0557, 22.8152,-158.0387, 4735,     45,     45.0,  24.9660,  35.0359,2,  35.0419,2,    224.2,2, 24.9563,    221.2,2,  -999.00,9,  -999.00,9,  -999.00,9,  -999.0,-999.000
     33KB203_1,  PRS2,     2,  8,     16,   8016,2,20080727,0557, 22.8152,-158.0387, 4735,     59,     59.6,  24.4555,  35.0732,2,  35.0736,2,    222.7,2, 24.4428,   -999.0,5,  -999.00,9,  -999.00,9,  -999.00,9,  -999.0,-999.000
     33KB203_1,  PRS2,     2,  8,     15,   8015,2,20080727,0557, 22.8152,-158.0387, 4735,     74,     74.4,  24.1279,  35.1015,2,  35.1014,2,    221.9,2, 24.1122,    221.6,2,  -999.00,9,  -999.00,9,  -999.00,9,  -999.0,-999.000
     33KB203_1,  PRS2,     2,  8,     14,   8014,2,20080727,0557, 22.8152,-158.0387, 4735,     86,     85.6,  23.7791,  35.1233,2,  35.1230,2,    223.3,2, 23.7612,    221.7,2,  -999.00,9,  -999.00,9,  -999.00,9,  -999.0,-999.000
     33KB203_1,  PRS2,     2,  8,     13,   8025,2,20080727,0557, 22.8152,-158.0387, 4735,     90,     89.5,  23.5963,  35.1418,2,  35.1427,2,    220.9,2, 23.5777,   -999.0,5,  -999.00,9,  -999.00,9,  -999.00,9,  -999.0,-999.000
     33KB203_1,  PRS2,     2,  8,     12,   8012,2,20080727,0557, 22.8152,-158.0387, 4735,    100,     99.7,  23.3428,  35.1641,2,  35.1606,2,    219.5,2, 23.3222,    219.9,2,  -999.00,9,  -999.00,9,  -999.00,9,  -999.0,-999.000
     33KB203_1,  PRS2,     2,  8,     11,   8011,2,20080727,0557, 22.8152,-158.0387, 4735,    110,    109.8,  22.9858,  35.1551,2,  35.1614,2,    216.6,2, 22.9634,   -999.0,5,  -999.00,9,  -999.00,9,  -999.00,9,  -999.0,-999.000
     33KB203_1,  PRS2,     2,  8,     10,   8010,2,20080727,0557, 22.8152,-158.0387, 4735,    115,    114.7,  22.9080,  35.1708,2,  35.1709,2,    216.4,2, 22.8847,    216.6,2,  -999.00,9,  -999.00,9,  -999.00,9,  -999.0,-999.000
     33KB203_1,  PRS2,     2,  8,      9,   8009,2,20080727,0557, 22.8152,-158.0387, 4735,    125,    125.5,  22.5956,  35.1972,2,  35.1953,2,    211.3,2, 22.5703,    212.2,2,  -999.00,9,  -999.00,9,  -999.00,9,  -999.0,-999.000
     33KB203_1,  PRS2,     2,  8,      8,   8008,2,20080727,0557, 22.8152,-158.0387, 4735,    130,    129.9,  22.5030,  35.2021,2,  35.2012,2,    210.7,2, 22.4769,   -999.0,5,  -999.00,9,  -999.00,9,  -999.00,9,  -999.0,-999.000
     33KB203_1,  PRS2,     2,  8,      7,   8026,2,20080727,0557, 22.8152,-158.0387, 4735,    151,    149.6,  22.0280,  35.2278,2,  35.2276,2,    208.3,2, 21.9983,    208.1,2,  -999.00,9,  -999.00,9,  -999.00,9,  -999.0,-999.000
     33KB203_1,  PRS2,     2,  8,      6,   8006,2,20080727,0557, 22.8152,-158.0387, 4735,    165,    165.1,  21.4787,  35.2107,2,  35.2105,2,    202.3,2, 21.4465,    203.7,2,  -999.00,9,  -999.00,9,  -999.00,9,  -999.0,-999.000
     33KB203_1,  PRS2,     2,  8,      5,   8005,2,20080727,0557, 22.8152,-158.0387, 4735,    174,    173.9,  20.9708,  35.1399,2,  35.1443,2,    195.3,2, 20.9375,    199.5,2,  -999.00,9,  -999.00,9,  -999.00,9,  -999.0,-999.000
     33KB203_1,  PRS2,     2,  8,      4,   8004,2,20080727,0557, 22.8152,-158.0387, 4735,    201,    200.4,  19.6234,  34.9902,2,  34.9858,2,    192.7,2, 19.5868,    192.6,2,  -999.00,9,  -999.00,9,  -999.00,9,  -999.0,-999.000
     33KB203_1,  PRS2,     2,  8,      3,   8003,2,20080727,0557, 22.8152,-158.0387, 4735,    500,    500.2,   7.3544,  34.0639,2,  34.0646,2,    121.4,2,  7.3059,    121.9,2,  -999.00,9,  -999.00,9,  -999.00,9,  -999.0,-999.000
     33KB203_1,  PRS2,     2,  8,      2,   8002,2,20080727,0557, 22.8152,-158.0387, 4735,    870,    869.7,   4.5607,  34.4110,2,  34.4104,2,     36.5,2,  4.4921,     36.9,2,  -999.00,9,  -999.00,9,  -999.00,9,  -999.0,-999.000
     33KB203_1,  PRS2,     2,  8,      1,   8001,2,20080727,0557, 22.8152,-158.0387, 4735,   1020,   1020.5,   4.0838,  34.4980,2,  34.4962,2,     43.2,2,  4.0058,     43.3,2,  -999.00,9,  -999.00,9,  -999.00,9,  -999.0,-999.000