BOTTLE,20090923WHPSIOMYS
EXPOCODE,SECT_ID,STNNBR,CASTNO,SAMPNO,BTLNBR,BTLNBR_FLAG_W,DATE,TIME,LATITUDE,LONGITUDE,DEPTH,CTDRAW,CTDPRS,CTDTMP,CTDSAL,CTDSAL_FLAG_W,SALNTY,SALNTY_FLAG_W,CTDOXY,CTDOXY_FLAG_W,THETA,OXYGEN,OXYGEN_FLAG_W,SILCAT,SILCAT_FLAG_W,NO2+NO3,NO2+NO3_FLAG_W,PHSPHT,PHSPHT_FLAG_W,REVPRS,REVTMP
,,,,,,,,,,,,,DBAR,ITS-90,PSS-78,,PSS-78,,UMOL/KG,,ITS-90,UMOL/KG,,UMOL/KG,,UMOL/KG,,UMOL/KG,,DBAR,DEG C
     33KB203_1,  PRS2,     2, 15,     23,   8023,2,20080728,0255, 22.7870,-157.9370, 4706,      5,      5.7,  25.7233,  34.9246,2,-999.0000,5,    210.1,1, 25.7221,   -999.0,9,  -999.00,9,  -999.00,9,  -999.00,9,  -999.0,-999.000
     33KB203_1,  PRS2,     2, 15,     22,   8022,2,20080728,0255, 22.7870,-157.9370, 4706,      6,      5.8,  25.7256,  34.9246,2,  34.9229,2,    209.9,1, 25.7243,   -999.0,9,  -999.00,9,  -999.00,9,  -999.00,9,  -999.0,-999.000
     33KB203_1,  PRS2,     2, 15,     21,   8021,2,20080728,0255, 22.7870,-157.9370, 4706,     15,     15.3,  25.7177,  34.9235,2,  34.9221,2,    209.6,1, 25.7143,   -999.0,9,  -999.00,9,  -999.00,9,  -999.00,9,  -999.0,-999.000
     33KB203_1,  PRS2,     2, 15,     19,   8019,2,20080728,0255, 22.7870,-157.9370, 4706,     25,     24.6,  25.5939,  34.9141,2,  34.9205,2,    209.6,1, 25.5885,   -999.0,9,  -999.00,9,  -999.00,9,  -999.00,9,  -999.0,-999.000
     33KB203_1,  PRS2,     2, 15,     20,   8020,2,20080728,0255, 22.7870,-157.9370, 4706,     25,     24.7,  25.6178,  34.9153,2,-999.0000,5,    209.3,1, 25.6123,   -999.0,9,  -999.00,9,  -999.00,9,  -999.00,9,  -999.0,-999.000
     33KB203_1,  PRS2,     2, 15,     18,   8018,2,20080728,0255, 22.7870,-157.9370, 4706,     34,     34.7,  25.0693,  35.0790,2,  35.0772,2,    222.0,1, 25.0617,   -999.0,9,  -999.00,9,  -999.00,9,  -999.00,9,  -999.0,-999.000
     33KB203_1,  PRS2,     2, 15,     17,   8017,2,20080728,0255, 22.7870,-157.9370, 4706,     35,     34.7,  25.0723,  35.0787,2,  35.0774,2,    222.4,1, 25.0648,   -999.0,9,  -999.00,9,  -999.00,9,  -999.00,9,  -999.0,-999.000
     33KB203_1,  PRS2,     2, 15,     15,   8015,2,20080728,0255, 22.7870,-157.9370, 4706,     46,     44.9,  24.4804,  35.0745,2,  35.0732,2,    221.2,1, 24.4708,   -999.0,9,  -999.00,9,  -999.00,9,  -999.00,9,  -999.0,-999.000
     33KB203_1,  PRS2,     2, 15,     16,   8016,2,20080728,0255, 22.7870,-157.9370, 4706,     46,     45.3,  24.4828,  35.0746,2,-999.0000,5,    221.5,1, 24.4731,   -999.0,9,  -999.00,9,  -999.00,9,  -999.00,9,  -999.0,-999.000
     33KB203_1,  PRS2,     2, 15,     14,   8014,2,20080728,0255, 22.7870,-157.9370, 4706,     60,     59.9,  24.0125,  35.0781,2,  35.0797,2,    222.9,1, 23.9999,   -999.0,9,  -999.00,9,  -999.00,9,  -999.00,9,  -999.0,-999.000
     33KB203_1,  PRS2,     2, 15,     13,   8025,2,20080728,0255, 22.7870,-157.9370, 4706,     75,     74.8,  23.3728,  35.1253,2,-999.0000,5,    220.8,1, 23.3574,   -999.0,9,  -999.00,9,  -999.00,9,  -999.00,9,  -999.0,-999.000
     33KB203_1,  PRS2,     2, 15,     12,   8012,2,20080728,0255, 22.7870,-157.9370, 4706,     76,     74.9,  23.3735,  35.1248,2,  35.1244,2,    220.0,1, 23.3580,   -999.0,9,  -999.00,9,  -999.00,9,  -999.00,9,  -999.0,-999.000
     33KB203_1,  PRS2,     2, 15,     11,   8011,2,20080728,0255, 22.7870,-157.9370, 4706,    100,     99.6,  22.6863,  35.1731,2,-999.0000,5,    211.9,1, 22.6662,   -999.0,9,  -999.00,9,  -999.00,9,  -999.00,9,  -999.0,-999.000
     33KB203_1,  PRS2,     2, 15,     10,   8010,2,20080728,0255, 22.7870,-157.9370, 4706,    100,     99.8,  22.6864,  35.1729,2,  35.1719,2,    211.9,1, 22.6662,   -999.0,9,  -999.00,9,  -999.00,9,  -999.00,9,  -999.0,-999.000
     33KB203_1,  PRS2,     2, 15,      9,   8009,2,20080728,0255, 22.7870,-157.9370, 4706,    126,    126.0,  22.1296,  35.2046,2,-999.0000,5,    205.1,1, 22.1046,   -999.0,9,  -999.00,9,  -999.00,9,  -999.00,9,  -999.0,-999.000
     33KB203_1,  PRS2,     2, 15,      8,   8008,2,20080728,0255, 22.7870,-157.9370, 4706,    125,    126.0,  22.1086,  35.2058,2,  35.2075,2,    205.8,1, 22.0835,   -999.0,9,  -999.00,9,  -999.00,9,  -999.00,9,  -999.0,-999.000
     33KB203_1,  PRS2,     2, 15,      7,   8026,2,20080728,0255, 22.7870,-157.9370, 4706,    150,    149.9,  21.5305,  35.2342,2,-999.0000,5,    204.4,1, 21.5013,   -999.0,9,  -999.00,9,  -999.00,9,  -999.00,9,  -999.0,-999.000
     33KB203_1,  PRS2,     2, 15,      6,   8006,2,20080728,0255, 22.7870,-157.9370, 4706,    150,    149.9,  21.5248,  35.2344,2,  35.2335,2,    204.5,1, 21.4956,   -999.0,9,  -999.00,9,  -999.00,9,  -999.00,9,  -999.0,-999.000
     33KB203_1,  PRS2,     2, 15,      5,   8005,2,20080728,0255, 22.7870,-157.9370, 4706,    176,    175.5,  20.6792,  35.1346,2,-999.0000,5,    194.7,1, 20.6459,   -999.0,9,  -999.00,9,  -999.00,9,  -999.00,9,  -999.0,-999.000
     33KB203_1,  PRS2,     2, 15,      4,   8004,2,20080728,0255, 22.7870,-157.9370, 4706,    176,    175.6,  20.6644,  35.1330,2,  35.1343,2,    194.4,1, 20.6311,   -999.0,9,  -999.00,9,  -999.00,9,  -999.00,9,  -999.0,-999.000
     33KB203_1,  PRS2,     2, 15,      3,   8003,2,20080728,0255, 22.7870,-157.9370, 4706,    301,    300.5,  13.4653,  34.2562,2,  34.2626,2,    190.4,1, 13.4232,   -999.0,9,  -999.00,9,  -999.00,9,  -999.00,9,  -999.0,-999.000
     33KB203_1,  PRS2,     2, 15,      2,   8002,2,20080728,0255, 22.7870,-157.9370, 4706,    532,    530.9,   6.5619,  34.0462,2,  34.0460,2,    103.8,1,  6.5135,   -999.0,9,  -999.00,9,  -999.00,9,  -999.00,9,  -999.0,-999.000
     33KB203_1,  PRS2,     2, 15,      1,   8001,2,20080728,0255, 22.7870,-157.9370, 4706,   1019,   1019.4,   4.0919,  34.4731,2,  34.4722,2,     43.7,1,  4.0139,   -999.0,9,  -999.00,9,  -999.00,9,  -999.00,9,  -999.0,-999.000
     33KB203_1,  PRS2,     2, 16,     22,   8022,2,20080728,0554, 22.7507,-158.0168, 4735,      6,      6.4,  25.7593,  34.9032,2,  34.9046,2,    210.1,1, 25.7579,   -999.0,9,  -999.00,9,  -999.00,9,  -999.00,9,  -999.0,-999.000
     33KB203_1,  PRS2,     2, 16,     23,   8023,2,20080728,0554, 22.7507,-158.0168, 4735,      6,      6.5,  25.7604,  34.9025,2,-999.0000,5,    208.8,1, 25.7590,   -999.0,9,  -999.00,9,  -999.00,9,  -999.00,9,  -999.0,-999.000
     33KB203_1,  PRS2,     2, 16,     21,   8021,2,20080728,0554, 22.7507,-158.0168, 4735,     24,     24.5,  25.7577,  34.9041,2,-999.0000,5,    209.4,1, 25.7523,   -999.0,9,  -999.00,9,  -999.00,9,  -999.00,9,  -999.0,-999.000
     33KB203_1,  PRS2,     2, 16,     20,   8020,2,20080728,0554, 22.7507,-158.0168, 4735,     25,     24.6,  25.7576,  34.9042,2,  34.9050,2,    209.5,1, 25.7522,   -999.0,9,  -999.00,9,  -999.00,9,  -999.00,9,  -999.0,-999.000
     33KB203_1,  PRS2,     2, 16,     19,   8019,2,20080728,0554, 22.7507,-158.0168, 4735,     45,     45.0,  24.9708,  34.9638,2,-999.0000,5,    220.4,1, 24.9610,   -999.0,9,  -999.00,9,  -999.00,9,  -999.00,9,  -999.0,-999.000
     33KB203_1,  PRS2,     2, 16,     18,   8018,2,20080728,0554, 22.7507,-158.0168, 4735,     45,     45.0,  24.9636,  34.9628,2,  34.9665,2,    220.8,1, 24.9539,   -999.0,9,  -999.00,9,  -999.00,9,  -999.00,9,  -999.0,-999.000
     33KB203_1,  PRS2,     2, 16,     17,   8017,2,20080728,0554, 22.7507,-158.0168, 4735,     60,     59.7,  24.5744,  35.0691,2,  35.0689,2,    224.8,1, 24.5616,   -999.0,9,  -999.00,9,  -999.00,9,  -999.00,9,  -999.0,-999.000
     33KB203_1,  PRS2,     2, 16,     15,   8015,2,20080728,0554, 22.7507,-158.0168, 4735,     76,     75.9,  23.7432,  35.1044,2,  35.0994,2,    222.7,1, 23.7273,   -999.0,9,  -999.00,9,  -999.00,9,  -999.00,9,  -999.0,-999.000
     33KB203_1,  PRS2,     2, 16,     16,   8016,2,20080728,0554, 22.7507,-158.0168, 4735,     76,     76.0,  23.7434,  35.1042,2,-999.0000,5,    222.5,1, 23.7275,   -999.0,9,  -999.00,9,  -999.00,9,  -999.00,9,  -999.0,-999.000
     33KB203_1,  PRS2,     2, 16,     14,   8014,2,20080728,0554, 22.7507,-158.0168, 4735,     86,     84.9,  23.4006,  35.1381,2,  35.1333,2,    221.7,1, 23.3830,   -999.0,9,  -999.00,9,  -999.00,9,  -999.00,9,  -999.0,-999.000
     33KB203_1,  PRS2,     2, 16,     13,   8025,2,20080728,0554, 22.7507,-158.0168, 4735,    101,    100.5,  23.0316,  35.2122,2,-999.0000,5,    217.0,1, 23.0110,   -999.0,9,  -999.00,9,  -999.00,9,  -999.00,9,  -999.0,-999.000
     33KB203_1,  PRS2,     2, 16,     12,   8012,2,20080728,0554, 22.7507,-158.0168, 4735,    101,    100.5,  23.0315,  35.2122,2,-999.0000,5,    216.9,1, 23.0110,   -999.0,9,  -999.00,9,  -999.00,9,  -999.00,9,  -999.0,-999.000
     33KB203_1,  PRS2,     2, 16,     11,   8011,2,20080728,0554, 22.7507,-158.0168, 4735,    111,    110.2,  22.7183,  35.2006,2,-999.0000,5,    213.2,1, 22.6960,   -999.0,9,  -999.00,9,  -999.00,9,  -999.00,9,  -999.0,-999.000
     33KB203_1,  PRS2,     2, 16,     10,   8010,2,20080728,0554, 22.7507,-158.0168, 4735,    115,    114.9,  22.5485,  35.1797,2,  35.1821,2,    212.5,1, 22.5253,   -999.0,9,  -999.00,9,  -999.00,9,  -999.00,9,  -999.0,-999.000
     33KB203_1,  PRS2,     2, 16,      9,   8009,2,20080728,0554, 22.7507,-158.0168, 4735,    125,    124.5,  22.4139,  35.2202,2,-999.0000,5,    213.1,1, 22.3889,   -999.0,9,  -999.00,9,  -999.00,9,  -999.00,9,  -999.0,-999.000
     33KB203_1,  PRS2,     2, 16,      8,   8008,2,20080728,0554, 22.7507,-158.0168, 4735,    125,    124.5,  22.4113,  35.2218,2,  35.2193,2,    213.0,1, 22.3863,   -999.0,9,  -999.00,9,  -999.00,9,  -999.00,9,  -999.0,-999.000
     33KB203_1,  PRS2,     2, 16,      7,   8026,2,20080728,0554, 22.7507,-158.0168, 4735,    137,    135.1,  22.0277,  35.2389,2,  35.2383,2,    209.7,1, 22.0009,   -999.0,9,  -999.00,9,  -999.00,9,  -999.00,9,  -999.0,-999.000
     33KB203_1,  PRS2,     2, 16,      6,   8006,2,20080728,0554, 22.7507,-158.0168, 4735,    150,    149.7,  21.4923,  35.2171,2,-999.0000,5,    203.7,1, 21.4632,   -999.0,9,  -999.00,9,  -999.00,9,  -999.00,9,  -999.0,-999.000
     33KB203_1,  PRS2,     2, 16,      5,   8005,2,20080728,0554, 22.7507,-158.0168, 4735,    150,    149.7,  21.4939,  35.2169,2,  35.2162,2,    203.7,1, 21.4648,   -999.0,9,  -999.00,9,  -999.00,9,  -999.00,9,  -999.0,-999.000
     33KB203_1,  PRS2,     2, 16,      4,   8004,2,20080728,0554, 22.7507,-158.0168, 4735,    174,    174.3,  20.3620,  35.0911,2,-999.0000,5,    196.2,1, 20.3293,   -999.0,9,  -999.00,9,  -999.00,9,  -999.00,9,  -999.0,-999.000
     33KB203_1,  PRS2,     2, 16,      3,   8003,2,20080728,0554, 22.7507,-158.0168, 4735,    174,    174.4,  20.3569,  35.0901,2,  35.0913,2,    196.2,1, 20.3242,   -999.0,9,  -999.00,9,  -999.00,9,  -999.00,9,  -999.0,-999.000
     33KB203_1,  PRS2,     2, 16,      2,   8002,2,20080728,0554, 22.7507,-158.0168, 4735,    521,    520.5,   6.6966,  34.0520,2,  34.0521,2,    107.8,1,  6.6487,   -999.0,9,  -999.00,9,  -999.00,9,  -999.00,9,  -999.0,-999.000
     33KB203_1,  PRS2,     2, 16,      1,   8001,2,20080728,0554, 22.7507,-158.0168, 4735,   1021,   1020.5,   3.9729,  34.4693,2,  34.4673,2,     43.6,1,  3.8958,   -999.0,9,  -999.00,9,  -999.00,9,  -999.00,9,  -999.0,-999.000
     33KB203_1,  PRS2,     2, 17,     24,   8024,2,20080728,0924, 22.7498,-158.0010, 4747,     10,      8.8,  25.6548,  34.9027,2,  34.9024,2,    209.1,2, 25.6529,    209.7,2,  -999.00,9,  -999.00,9,  -999.00,9,  -999.0,-999.000
     33KB203_1,  PRS2,     2, 17,     23,   8023,2,20080728,0924, 22.7498,-158.0010, 4747,     10,      9.7,  25.6543,  34.9014,2,-999.0000,5,    209.0,2, 25.6521,   -999.0,5,  -999.00,9,  -999.00,9,  -999.00,9,  -999.0,-999.000
     33KB203_1,  PRS2,     2, 17,     22,   8022,2,20080728,0924, 22.7498,-158.0010, 4747,     75,     75.2,  23.9197,  35.0930,2,-999.0000,5,    221.7,2, 23.9039,   -999.0,5,  -999.00,9,  -999.00,9,  -999.00,9,  -999.0,-999.000
     33KB203_1,  PRS2,     2, 17,     21,   8021,2,20080728,0924, 22.7498,-158.0010, 4747,     91,     90.8,  23.4457,  35.1206,2,  35.1193,2,    223.6,2, 23.4269,    223.1,2,  -999.00,9,  -999.00,9,  -999.00,9,  -999.0,-999.000
     33KB203_1,  PRS2,     2, 17,     20,   8020,2,20080728,0924, 22.7498,-158.0010, 4747,    102,    100.4,  23.1709,  35.1263,2,-999.0000,5,    221.2,2, 23.1503,   -999.0,5,  -999.00,9,  -999.00,9,  -999.00,9,  -999.0,-999.000
     33KB203_1,  PRS2,     2, 17,     19,   8019,2,20080728,0924, 22.7498,-158.0010, 4747,    125,    125.0,  22.4600,  35.1844,2,-999.0000,5,    211.6,2, 22.4348,   -999.0,5,  -999.00,9,  -999.00,9,  -999.00,9,  -999.0,-999.000
     33KB203_1,  PRS2,     2, 17,     18,   8018,2,20080728,0924, 22.7498,-158.0010, 4747,    175,    175.2,  20.8124,  35.1514,2,-999.0000,5,    196.3,2, 20.7791,   -999.0,5,  -999.00,9,  -999.00,9,  -999.00,9,  -999.0,-999.000
     33KB203_1,  PRS2,     2, 17,     17,   8017,2,20080728,0924, 22.7498,-158.0010, 4747,    400,    399.9,   9.8538,  34.1039,2,-999.0000,5,    177.2,2,  9.8079,   -999.0,5,  -999.00,9,  -999.00,9,  -999.00,9,  -999.0,-999.000
     33KB203_1,  PRS2,     2, 17,     16,   8016,2,20080728,0924, 22.7498,-158.0010, 4747,    560,    559.8,   6.4152,  34.0649,2,  34.0650,2,     99.2,2,  6.3646,     90.9,2,  -999.00,9,  -999.00,9,  -999.00,9,  -999.0,-999.000
     33KB203_1,  PRS2,     2, 17,     15,   8015,2,20080728,0924, 22.7498,-158.0010, 4747,    602,    601.0,   5.9351,  34.0676,2,-999.0000,5,     78.7,2,  5.8828,   -999.0,5,  -999.00,9,  -999.00,9,  -999.00,9,  -999.0,-999.000
     33KB203_1,  PRS2,     2, 17,     14,   8014,2,20080728,0924, 22.7498,-158.0010, 4747,    801,    800.9,   4.6869,  34.3310,2,  34.3288,2,     33.0,2,  4.6234,     32.6,2,  -999.00,9,  -999.00,9,  -999.00,9,  -999.0,-999.000
     33KB203_1,  PRS2,     2, 17,     13,   8025,2,20080728,0924, 22.7498,-158.0010, 4747,    800,    800.9,   4.6867,  34.3308,2,-999.0000,5,     33.0,2,  4.6233,   -999.0,5,  -999.00,9,  -999.00,9,  -999.00,9,  -999.0,-999.000
     33KB203_1,  PRS2,     2, 17,     12,   8012,2,20080728,0924, 22.7498,-158.0010, 4747,   1000,   1000.1,   3.9643,  34.4656,2,-999.0000,5,     43.6,2,  3.8889,   -999.0,5,  -999.00,9,  -999.00,9,  -999.00,9,  -999.0,-999.000
     33KB203_1,  PRS2,     2, 17,     11,   8011,2,20080728,0924, 22.7498,-158.0010, 4747,   1000,   1000.2,   3.9646,  34.4655,2,-999.0000,5,     43.7,2,  3.8893,   -999.0,5,  -999.00,9,  -999.00,9,  -999.00,9,  -999.0,-999.000
     33KB203_1,  PRS2,     2, 17,      9,   8009,2,20080728,0924, 22.7498,-158.0010, 4747,   2001,   2000.6,   2.1102,  34.6145,2,-999.0000,5,     87.4,2,  1.9721,   -999.0,5,  -999.00,9,  -999.00,9,  -999.00,9,  -999.0,-999.000
     33KB203_1,  PRS2,     2, 17,      8,   8008,2,20080728,0924, 22.7498,-158.0010, 4747,   2002,   2000.6,   2.1097,  34.6146,2,  34.6154,2,     87.4,2,  1.9716,     88.1,2,  -999.00,9,  -999.00,9,  -999.00,9,  -999.0,-999.000
     33KB203_1,  PRS2,     2, 17,     10,   8010,2,20080728,0924, 22.7498,-158.0010, 4747,   2001,   2000.7,   2.1105,  34.6143,2,-999.0000,5,     87.4,2,  1.9724,   -999.0,5,  -999.00,9,  -999.00,9,  -999.00,9,  -999.0,-999.000
     33KB203_1,  PRS2,     2, 17,      7,   8026,2,20080728,0924, 22.7498,-158.0010, 4747,   2999,   2999.6,   1.5606,  34.6669,2,-999.0000,5,    123.8,2,  1.3426,   -999.0,5,  -999.00,9,  -999.00,9,  -999.00,9,  -999.0,-999.000
     33KB203_1,  PRS2,     2, 17,      6,   8006,2,20080728,0924, 22.7498,-158.0010, 4747,   3000,   2999.6,   1.5604,  34.6670,2,-999.0000,5,    123.8,2,  1.3424,   -999.0,5,  -999.00,9,  -999.00,9,  -999.00,9,  -999.0,-999.000
     33KB203_1,  PRS2,     2, 17,      5,   8005,2,20080728,0924, 22.7498,-158.0010, 4747,   3001,   2999.7,   1.5600,  34.6669,2,  34.6675,2,    123.8,2,  1.3420,    124.2,2,  -999.00,9,  -999.00,9,  -999.00,9,  -999.0,-999.000
     33KB203_1,  PRS2,     2, 17,      4,   8004,2,20080728,0924, 22.7498,-158.0010, 4747,   3999,   3999.1,   1.4593,  34.6847,2,-999.0000,5,    147.9,2,  1.1417,   -999.0,5,  -999.00,9,  -999.00,9,  -999.00,9,  -999.0,-999.000
     33KB203_1,  PRS2,     2, 17,      3,   8003,2,20080728,0924, 22.7498,-158.0010, 4747,   3999,   3999.1,   1.4593,  34.6847,2,-999.0000,5,    147.9,2,  1.1416,   -999.0,5,  -999.00,9,  -999.00,9,  -999.00,9,  -999.0,-999.000
     33KB203_1,  PRS2,     2, 17,      2,   8002,2,20080728,0924, 22.7498,-158.0010, 4747,   4001,   3999.5,   1.4591,  34.6848,2,  34.6850,2,    147.9,2,  1.1414,    147.3,2,  -999.00,9,  -999.00,9,  -999.00,9,  -999.0,-999.000
     33KB203_1,  PRS2,     2, 17,      1,   8001,2,20080728,0924, 22.7498,-158.0010, 4747,   4810,   4809.3,   1.5073,  34.6885,2,  34.6897,2,    153.7,2,  1.0958,    154.7,2,  -999.00,9,  -999.00,9,  -999.00,9,  -999.0,-999.000