BOTTLE,20090923WHPSIOMYS
EXPOCODE,SECT_ID,STNNBR,CASTNO,SAMPNO,BTLNBR,BTLNBR_FLAG_W,DATE,TIME,LATITUDE,LONGITUDE,DEPTH,CTDRAW,CTDPRS,CTDTMP,CTDSAL,CTDSAL_FLAG_W,SALNTY,SALNTY_FLAG_W,CTDOXY,CTDOXY_FLAG_W,THETA,OXYGEN,OXYGEN_FLAG_W,SILCAT,SILCAT_FLAG_W,NO2+NO3,NO2+NO3_FLAG_W,PHSPHT,PHSPHT_FLAG_W,REVPRS,REVTMP
,,,,,,,,,,,,,DBAR,ITS-90,PSS-78,,PSS-78,,UMOL/KG,,ITS-90,UMOL/KG,,UMOL/KG,,UMOL/KG,,UMOL/KG,,DBAR,DEG C
     33KB203_1,  PRS2,     2, 18,     24,   8024,2,20080729,0022, 22.8025,-157.9262, 4695,      7,      6.7,  25.7402,  34.9366,2,-999.0000,5,    209.0,1, 25.7387,   -999.0,9,  -999.00,9,  -999.00,9,  -999.00,9,  -999.0,-999.000
     33KB203_1,  PRS2,     2, 18,     23,   8023,2,20080729,0022, 22.8025,-157.9262, 4695,      6,      6.7,  25.7405,  34.9366,2,-999.0000,5,    208.9,1, 25.7390,   -999.0,9,  -999.00,9,  -999.00,9,  -999.00,9,  -999.0,-999.000
     33KB203_1,  PRS2,     2, 18,     22,   8022,2,20080729,0022, 22.8025,-157.9262, 4695,      6,      6.7,  25.7402,  34.9368,2,-999.0000,5,    208.9,1, 25.7388,   -999.0,9,  -999.00,9,  -999.00,9,  -999.00,9,  -999.0,-999.000
     33KB203_1,  PRS2,     2, 18,     21,   8021,2,20080729,0022, 22.8025,-157.9262, 4695,      7,      7.0,  25.7405,  34.9368,2,-999.0000,5,    208.9,1, 25.7390,   -999.0,9,  -999.00,9,  -999.00,9,  -999.00,9,  -999.0,-999.000
     33KB203_1,  PRS2,     2, 18,     20,   8020,2,20080729,0022, 22.8025,-157.9262, 4695,     10,     11.0,  25.7436,  34.9366,2,  34.9355,2,    208.8,1, 25.7412,   -999.0,9,  -999.00,9,  -999.00,9,  -999.00,9,  -999.0,-999.000
     33KB203_1,  PRS2,     2, 18,     19,   8019,2,20080729,0022, 22.8025,-157.9262, 4695,     26,     25.4,  25.7442,  34.9359,2,-999.0000,5,    208.8,1, 25.7386,   -999.0,9,  -999.00,9,  -999.00,9,  -999.00,9,  -999.0,-999.000
     33KB203_1,  PRS2,     2, 18,     18,   8018,2,20080729,0022, 22.8025,-157.9262, 4695,     46,     44.9,  25.2958,  35.0130,2,-999.0000,5,    215.4,1, 25.2860,   -999.0,9,  -999.00,9,  -999.00,9,  -999.00,9,  -999.0,-999.000
     33KB203_1,  PRS2,     2, 18,     17,   8017,2,20080729,0022, 22.8025,-157.9262, 4695,     74,     74.4,  23.6629,  35.0990,2,-999.0000,5,    223.6,1, 23.6475,   -999.0,9,  -999.00,9,  -999.00,9,  -999.00,9,  -999.0,-999.000
     33KB203_1,  PRS2,     2, 18,     16,   8016,2,20080729,0022, 22.8025,-157.9262, 4695,    101,    100.0,  22.8206,  35.1450,2,-999.0000,5,    216.2,1, 22.8004,   -999.0,9,  -999.00,9,  -999.00,9,  -999.00,9,  -999.0,-999.000
     33KB203_1,  PRS2,     2, 18,     15,   8015,2,20080729,0022, 22.8025,-157.9262, 4695,    124,    125.1,  22.4289,  35.1968,2,-999.0000,5,    211.0,1, 22.4038,   -999.0,9,  -999.00,9,  -999.00,9,  -999.00,9,  -999.0,-999.000
     33KB203_1,  PRS2,     2, 18,     14,   8014,2,20080729,0022, 22.8025,-157.9262, 4695,    150,    150.4,  21.9414,  35.2147,2,  35.2166,2,    202.3,1, 21.9117,   -999.0,9,  -999.00,9,  -999.00,9,  -999.00,9,  -999.0,-999.000
     33KB203_1,  PRS2,     2, 18,     13,   8025,2,20080729,0022, 22.8025,-157.9262, 4695,    448,    448.9,   8.8987,  34.1009,2,  34.1011,2,    151.9,1,  8.8502,   -999.0,9,  -999.00,9,  -999.00,9,  -999.00,9,  -999.0,-999.000
     33KB203_1,  PRS2,     2, 18,     12,   8012,2,20080729,0022, 22.8025,-157.9262, 4695,   1000,   1000.0,   4.0352,  34.4586,2,  34.4587,2,     42.5,1,  3.9594,   -999.0,9,  -999.00,9,  -999.00,9,  -999.00,9,  -999.0,-999.000
     33KB203_1,  PRS2,     2, 18,     11,   8011,2,20080729,0022, 22.8025,-157.9262, 4695,   2000,   2000.5,   2.1659,  34.6118,2,  34.6111,2,     85.7,1,  2.0270,   -999.0,9,  -999.00,9,  -999.00,9,  -999.00,9,  -999.0,-999.000
     33KB203_1,  PRS2,     2, 18,      7,   8026,2,20080729,0022, 22.8025,-157.9262, 4695,   2997,   2998.0,   1.5681,  34.6665,2,-999.0000,5,    121.4,1,  1.3500,   -999.0,9,  -999.00,9,  -999.00,9,  -999.00,9,  -999.0,-999.000
     33KB203_1,  PRS2,     2, 18,      6,   8006,2,20080729,0022, 22.8025,-157.9262, 4695,   2997,   2998.0,   1.5681,  34.6665,2,-999.0000,5,    121.4,1,  1.3500,   -999.0,9,  -999.00,9,  -999.00,9,  -999.00,9,  -999.0,-999.000
     33KB203_1,  PRS2,     2, 18,      1,   8001,2,20080729,0022, 22.8025,-157.9262, 4695,   2998,   2998.3,   1.5680,  34.6662,2,  34.6661,2,    121.4,1,  1.3499,   -999.0,9,  -999.00,9,  -999.00,9,  -999.00,9,  -999.0,-999.000
     33KB203_1,  PRS2,     2, 18,      8,   8008,2,20080729,0022, 22.8025,-157.9262, 4695,   2998,   2998.5,   1.5679,  34.6663,2,-999.0000,5,    121.7,1,  1.3498,   -999.0,9,  -999.00,9,  -999.00,9,  -999.00,9,  -999.0,-999.000
     33KB203_1,  PRS2,     2, 18,      5,   8005,2,20080729,0022, 22.8025,-157.9262, 4695,   2999,   2998.6,   1.5681,  34.6664,2,-999.0000,5,    121.4,1,  1.3500,   -999.0,9,  -999.00,9,  -999.00,9,  -999.00,9,  -999.0,-999.000
     33KB203_1,  PRS2,     2, 18,      2,   8002,2,20080729,0022, 22.8025,-157.9262, 4695,   2999,   2998.6,   1.5679,  34.6662,2,-999.0000,5,    121.4,1,  1.3498,   -999.0,9,  -999.00,9,  -999.00,9,  -999.00,9,  -999.0,-999.000
     33KB203_1,  PRS2,     2, 18,      4,   8004,2,20080729,0022, 22.8025,-157.9262, 4695,   3000,   2998.7,   1.5681,  34.6663,2,-999.0000,5,    121.4,1,  1.3500,   -999.0,9,  -999.00,9,  -999.00,9,  -999.00,9,  -999.0,-999.000
     33KB203_1,  PRS2,     2, 18,      9,   8009,2,20080729,0022, 22.8025,-157.9262, 4695,   2999,   2998.8,   1.5679,  34.6662,2,-999.0000,5,    121.7,1,  1.3498,   -999.0,9,  -999.00,9,  -999.00,9,  -999.00,9,  -999.0,-999.000
     33KB203_1,  PRS2,     2, 18,      3,   8003,2,20080729,0022, 22.8025,-157.9262, 4695,   3000,   2999.1,   1.5680,  34.6661,2,-999.0000,5,    121.4,1,  1.3498,   -999.0,9,  -999.00,9,  -999.00,9,  -999.00,9,  -999.0,-999.000
     33KB203_1,  PRS2,     2, 18,     10,   8010,2,20080729,0022, 22.8025,-157.9262, 4695,   3000,   2999.3,   1.5679,  34.6663,2,-999.0000,5,    121.7,1,  1.3498,   -999.0,9,  -999.00,9,  -999.00,9,  -999.00,9,  -999.0,-999.000