BOTTLE,20090923WHPSIOMYS
EXPOCODE,SECT_ID,STNNBR,CASTNO,SAMPNO,BTLNBR,BTLNBR_FLAG_W,DATE,TIME,LATITUDE,LONGITUDE,DEPTH,CTDRAW,CTDPRS,CTDTMP,CTDSAL,CTDSAL_FLAG_W,SALNTY,SALNTY_FLAG_W,CTDOXY,CTDOXY_FLAG_W,THETA,OXYGEN,OXYGEN_FLAG_W,SILCAT,SILCAT_FLAG_W,NO2+NO3,NO2+NO3_FLAG_W,PHSPHT,PHSPHT_FLAG_W,REVPRS,REVTMP
,,,,,,,,,,,,,DBAR,ITS-90,PSS-78,,PSS-78,,UMOL/KG,,ITS-90,UMOL/KG,,UMOL/KG,,UMOL/KG,,UMOL/KG,,DBAR,DEG C
     33KB203_1,  PRS2,     2,  9,     24,   8024,2,20080727,0901, 22.8268,-158.0370, 4723,      5,      6.0,  25.9109,  34.9559,2,  34.9581,2,    206.9,1, 25.9096,   -999.0,9,  -999.00,9,  -999.00,9,  -999.00,9,  -999.0,-999.000
     33KB203_1,  PRS2,     2,  9,     23,   8023,2,20080727,0901, 22.8268,-158.0370, 4723,     25,     24.6,  25.8946,  34.9573,2,  34.9585,2,    208.0,1, 25.8892,   -999.0,9,  -999.00,9,  -999.00,9,  -999.00,9,  -999.0,-999.000
     33KB203_1,  PRS2,     2,  9,     22,   8022,2,20080727,0901, 22.8268,-158.0370, 4723,     45,     45.2,  24.8361,  35.0477,2,  35.0443,2,    223.4,1, 24.8263,   -999.0,9,  -999.00,9,  -999.00,9,  -999.00,9,  -999.0,-999.000
     33KB203_1,  PRS2,     2,  9,     21,   8021,2,20080727,0901, 22.8268,-158.0370, 4723,     75,     75.2,  23.9664,  35.1010,2,  35.1008,2,    223.7,1, 23.9506,   -999.0,9,  -999.00,9,  -999.00,9,  -999.00,9,  -999.0,-999.000
     33KB203_1,  PRS2,     2,  9,     20,   8020,2,20080727,0901, 22.8268,-158.0370, 4723,    101,    100.6,  23.2823,  35.1936,2,  35.1943,2,    218.2,1, 23.2616,   -999.0,9,  -999.00,9,  -999.00,9,  -999.00,9,  -999.0,-999.000
     33KB203_1,  PRS2,     2,  9,     19,   8019,2,20080727,0901, 22.8268,-158.0370, 4723,    125,    125.1,  22.6810,  35.1865,2,  35.1896,2,    210.5,1, 22.6557,   -999.0,9,  -999.00,9,  -999.00,9,  -999.00,9,  -999.0,-999.000
     33KB203_1,  PRS2,     2,  9,     18,   8018,2,20080727,0901, 22.8268,-158.0370, 4723,    150,    149.5,  22.1341,  35.2208,2,  35.2207,2,    207.4,1, 22.1044,   -999.0,9,  -999.00,9,  -999.00,9,  -999.00,9,  -999.0,-999.000
     33KB203_1,  PRS2,     2,  9,     17,   8017,2,20080727,0901, 22.8268,-158.0370, 4723,    176,    175.9,  21.3703,  35.1994,2,  35.2014,2,    200.3,1, 21.3362,   -999.0,9,  -999.00,9,  -999.00,9,  -999.00,9,  -999.0,-999.000
     33KB203_1,  PRS2,     2,  9,     13,   8025,2,20080727,0901, 22.8268,-158.0370, 4723,    500,    499.9,   7.9951,  34.0789,2,-999.0000,5,    135.1,1,  7.9443,   -999.0,9,  -999.00,9,  -999.00,9,  -999.00,9,  -999.0,-999.000
     33KB203_1,  PRS2,     2,  9,     12,   8012,2,20080727,0901, 22.8268,-158.0370, 4723,    500,    499.9,   7.9882,  34.0782,2,-999.0000,5,    134.4,1,  7.9374,   -999.0,9,  -999.00,9,  -999.00,9,  -999.00,9,  -999.0,-999.000
     33KB203_1,  PRS2,     2,  9,     16,   8016,2,20080727,0901, 22.8268,-158.0370, 4723,    500,    500.0,   7.9956,  34.0789,2,-999.0000,5,    137.8,1,  7.9447,   -999.0,9,  -999.00,9,  -999.00,9,  -999.00,9,  -999.0,-999.000
     33KB203_1,  PRS2,     2,  9,     14,   8014,2,20080727,0901, 22.8268,-158.0370, 4723,    500,    500.0,   7.9959,  34.0789,2,-999.0000,5,    135.9,1,  7.9450,   -999.0,9,  -999.00,9,  -999.00,9,  -999.00,9,  -999.0,-999.000
     33KB203_1,  PRS2,     2,  9,     15,   8015,2,20080727,0901, 22.8268,-158.0370, 4723,    500,    500.1,   7.9957,  34.0791,2,-999.0000,5,    136.8,1,  7.9448,   -999.0,9,  -999.00,9,  -999.00,9,  -999.00,9,  -999.0,-999.000
     33KB203_1,  PRS2,     2,  9,     11,   8011,2,20080727,0901, 22.8268,-158.0370, 4723,    520,    520.9,   7.4326,  34.0672,2,  34.0688,2,    124.0,1,  7.3818,   -999.0,9,  -999.00,9,  -999.00,9,  -999.00,9,  -999.0,-999.000
     33KB203_1,  PRS2,     2,  9,      9,   8009,2,20080727,0901, 22.8268,-158.0370, 4723,    771,    770.5,   5.0945,  34.3349,2,-999.0000,5,     36.3,1,  5.0312,   -999.0,9,  -999.00,9,  -999.00,9,  -999.00,9,  -999.0,-999.000
     33KB203_1,  PRS2,     2,  9,      6,   8006,2,20080727,0901, 22.8268,-158.0370, 4723,    771,    770.6,   5.0943,  34.3347,2,-999.0000,5,     36.1,1,  5.0311,   -999.0,9,  -999.00,9,  -999.00,9,  -999.00,9,  -999.0,-999.000
     33KB203_1,  PRS2,     2,  9,     10,   8010,2,20080727,0901, 22.8268,-158.0370, 4723,    770,    770.7,   5.0946,  34.3349,2,-999.0000,5,     36.3,1,  5.0314,   -999.0,9,  -999.00,9,  -999.00,9,  -999.00,9,  -999.0,-999.000
     33KB203_1,  PRS2,     2,  9,      8,   8008,2,20080727,0901, 22.8268,-158.0370, 4723,    771,    770.7,   5.0944,  34.3347,2,-999.0000,5,     36.2,1,  5.0311,   -999.0,9,  -999.00,9,  -999.00,9,  -999.00,9,  -999.0,-999.000
     33KB203_1,  PRS2,     2,  9,      7,   8026,2,20080727,0901, 22.8268,-158.0370, 4723,    771,    770.7,   5.0944,  34.3348,2,-999.0000,5,     36.2,1,  5.0311,   -999.0,9,  -999.00,9,  -999.00,9,  -999.00,9,  -999.0,-999.000
     33KB203_1,  PRS2,     2,  9,      1,   8001,2,20080727,0901, 22.8268,-158.0370, 4723,   1021,   1020.6,   4.0531,  34.5002,2,  34.4989,2,     43.9,1,  3.9753,   -999.0,9,  -999.00,9,  -999.00,9,  -999.00,9,  -999.0,-999.000
     33KB203_1,  PRS2,     2,  9,      2,   8002,2,20080727,0901, 22.8268,-158.0370, 4723,   1021,   1020.7,   4.0532,  34.5001,2,-999.0000,5,     43.8,1,  3.9754,   -999.0,9,  -999.00,9,  -999.00,9,  -999.00,9,  -999.0,-999.000
     33KB203_1,  PRS2,     2,  9,      4,   8004,2,20080727,0901, 22.8268,-158.0370, 4723,   1021,   1020.8,   4.0528,  34.5000,2,-999.0000,5,     43.9,1,  3.9750,   -999.0,9,  -999.00,9,  -999.00,9,  -999.00,9,  -999.0,-999.000
     33KB203_1,  PRS2,     2,  9,      3,   8003,2,20080727,0901, 22.8268,-158.0370, 4723,   1021,   1020.8,   4.0530,  34.5000,2,-999.0000,5,     43.9,1,  3.9752,   -999.0,9,  -999.00,9,  -999.00,9,  -999.00,9,  -999.0,-999.000
     33KB203_1,  PRS2,     2,  9,      5,   8005,2,20080727,0901, 22.8268,-158.0370, 4723,   1021,   1020.9,   4.0527,  34.5000,2,-999.0000,5,     43.9,1,  3.9749,   -999.0,9,  -999.00,9,  -999.00,9,  -999.00,9,  -999.0,-999.000
     33KB203_1,  PRS2,     2, 10,     24,   8024,2,20080727,1156, 22.8267,-158.0153, 4716,      9,      9.1,  25.8958,  34.9780,2,-999.0000,9,    208.8,1, 25.8938,   -999.0,9,  -999.00,9,  -999.00,9,  -999.00,9,  -999.0,-999.000
     33KB203_1,  PRS2,     2, 10,     23,   8023,2,20080727,1156, 22.8267,-158.0153, 4716,     10,      9.2,  25.8966,  34.9781,2,-999.0000,9,    208.9,1, 25.8946,   -999.0,9,  -999.00,9,  -999.00,9,  -999.00,9,  -999.0,-999.000
     33KB203_1,  PRS2,     2, 10,     21,   8021,2,20080727,1156, 22.8267,-158.0153, 4716,      9,      9.2,  25.8986,  34.9778,2,-999.0000,9,    209.1,1, 25.8966,   -999.0,9,  -999.00,9,  -999.00,9,  -999.00,9,  -999.0,-999.000
     33KB203_1,  PRS2,     2, 10,     22,   8022,2,20080727,1156, 22.8267,-158.0153, 4716,     10,      9.3,  25.8975,  34.9779,2,-999.0000,9,    209.0,1, 25.8954,   -999.0,9,  -999.00,9,  -999.00,9,  -999.00,9,  -999.0,-999.000
     33KB203_1,  PRS2,     2, 10,     20,   8020,2,20080727,1156, 22.8267,-158.0153, 4716,     24,     24.5,  25.9057,  34.9777,2,-999.0000,9,    209.1,1, 25.9003,   -999.0,9,  -999.00,9,  -999.00,9,  -999.00,9,  -999.0,-999.000
     33KB203_1,  PRS2,     2, 10,     19,   8019,2,20080727,1156, 22.8267,-158.0153, 4716,     24,     24.7,  25.9061,  34.9775,2,-999.0000,9,    209.0,1, 25.9006,   -999.0,9,  -999.00,9,  -999.00,9,  -999.00,9,  -999.0,-999.000
     33KB203_1,  PRS2,     2, 10,     18,   8018,2,20080727,1156, 22.8267,-158.0153, 4716,     25,     24.9,  25.9057,  34.9775,2,-999.0000,9,    209.3,1, 25.9002,   -999.0,9,  -999.00,9,  -999.00,9,  -999.00,9,  -999.0,-999.000
     33KB203_1,  PRS2,     2, 10,     17,   8017,2,20080727,1156, 22.8267,-158.0153, 4716,     25,     25.0,  25.9049,  34.9776,2,-999.0000,9,    209.6,1, 25.8993,   -999.0,9,  -999.00,9,  -999.00,9,  -999.00,9,  -999.0,-999.000
     33KB203_1,  PRS2,     2, 10,     16,   8016,2,20080727,1156, 22.8267,-158.0153, 4716,     45,     45.1,  24.7035,  35.0481,2,-999.0000,9,    222.9,1, 24.6938,   -999.0,9,  -999.00,9,  -999.00,9,  -999.00,9,  -999.0,-999.000
     33KB203_1,  PRS2,     2, 10,     13,   8025,2,20080727,1156, 22.8267,-158.0153, 4716,     46,     45.2,  24.7028,  35.0480,2,-999.0000,9,    221.9,1, 24.6931,   -999.0,9,  -999.00,9,  -999.00,9,  -999.00,9,  -999.0,-999.000
     33KB203_1,  PRS2,     2, 10,     15,   8015,2,20080727,1156, 22.8267,-158.0153, 4716,     45,     45.3,  24.7034,  35.0479,2,-999.0000,9,    222.6,1, 24.6937,   -999.0,9,  -999.00,9,  -999.00,9,  -999.00,9,  -999.0,-999.000
     33KB203_1,  PRS2,     2, 10,     14,   8014,2,20080727,1156, 22.8267,-158.0153, 4716,     46,     45.3,  24.7029,  35.0479,2,-999.0000,9,    222.1,1, 24.6931,   -999.0,9,  -999.00,9,  -999.00,9,  -999.00,9,  -999.0,-999.000
     33KB203_1,  PRS2,     2, 10,     12,   8012,2,20080727,1156, 22.8267,-158.0153, 4716,     74,     74.4,  23.5603,  35.1346,2,-999.0000,9,    220.9,1, 23.5449,   -999.0,9,  -999.00,9,  -999.00,9,  -999.00,9,  -999.0,-999.000
     33KB203_1,  PRS2,     2, 10,      9,   8009,2,20080727,1156, 22.8267,-158.0153, 4716,     74,     74.4,  23.5643,  35.1355,2,-999.0000,9,    220.9,1, 23.5488,   -999.0,9,  -999.00,9,  -999.00,9,  -999.00,9,  -999.0,-999.000
     33KB203_1,  PRS2,     2, 10,     10,   8010,2,20080727,1156, 22.8267,-158.0153, 4716,     74,     74.5,  23.5623,  35.1347,2,-999.0000,9,    220.9,1, 23.5468,   -999.0,9,  -999.00,9,  -999.00,9,  -999.00,9,  -999.0,-999.000
     33KB203_1,  PRS2,     2, 10,     11,   8011,2,20080727,1156, 22.8267,-158.0153, 4716,     75,     74.6,  23.5614,  35.1346,2,-999.0000,9,    220.9,1, 23.5459,   -999.0,9,  -999.00,9,  -999.00,9,  -999.00,9,  -999.0,-999.000
     33KB203_1,  PRS2,     2, 10,      6,   8006,2,20080727,1156, 22.8267,-158.0153, 4716,    101,    100.9,  22.8008,  35.1699,2,-999.0000,9,    212.1,1, 22.7803,   -999.0,9,  -999.00,9,  -999.00,9,  -999.00,9,  -999.0,-999.000
     33KB203_1,  PRS2,     2, 10,      8,   8008,2,20080727,1156, 22.8267,-158.0153, 4716,    101,    101.0,  22.7980,  35.1703,2,-999.0000,9,    212.2,1, 22.7776,   -999.0,9,  -999.00,9,  -999.00,9,  -999.00,9,  -999.0,-999.000
     33KB203_1,  PRS2,     2, 10,      7,   8026,2,20080727,1156, 22.8267,-158.0153, 4716,    101,    101.0,  22.8003,  35.1699,2,-999.0000,9,    212.2,1, 22.7799,   -999.0,9,  -999.00,9,  -999.00,9,  -999.00,9,  -999.0,-999.000
     33KB203_1,  PRS2,     2, 10,      5,   8005,2,20080727,1156, 22.8267,-158.0153, 4716,    125,    124.5,  22.4075,  35.1811,2,-999.0000,9,    209.2,1, 22.3825,   -999.0,9,  -999.00,9,  -999.00,9,  -999.00,9,  -999.0,-999.000
     33KB203_1,  PRS2,     2, 10,      4,   8004,2,20080727,1156, 22.8267,-158.0153, 4716,    124,    124.5,  22.4077,  35.1813,2,-999.0000,9,    208.3,1, 22.3828,   -999.0,9,  -999.00,9,  -999.00,9,  -999.00,9,  -999.0,-999.000
     33KB203_1,  PRS2,     2, 10,      3,   8003,2,20080727,1156, 22.8267,-158.0153, 4716,    125,    124.5,  22.4077,  35.1813,2,-999.0000,9,    207.4,1, 22.3827,   -999.0,9,  -999.00,9,  -999.00,9,  -999.00,9,  -999.0,-999.000
     33KB203_1,  PRS2,     2, 10,      2,   8002,2,20080727,1156, 22.8267,-158.0153, 4716,    150,    150.0,  21.9059,  35.2414,2,-999.0000,9,    210.3,1, 21.8763,   -999.0,9,  -999.00,9,  -999.00,9,  -999.00,9,  -999.0,-999.000
     33KB203_1,  PRS2,     2, 10,      1,   8001,2,20080727,1156, 22.8267,-158.0153, 4716,    175,    174.5,  21.0762,  35.1848,2,-999.0000,9,    199.1,1, 21.0427,   -999.0,9,  -999.00,9,  -999.00,9,  -999.00,9,  -999.0,-999.000
     33KB203_1,  PRS2,     2, 11,     24,   8024,2,20080727,1453, 22.7527,-158.0067, 4740,     10,     10.1,  25.7322,  34.9199,2,  34.9199,2,    207.9,1, 25.7299,   -999.0,9,  -999.00,9,  -999.00,9,  -999.00,9,  -999.0,-999.000
     33KB203_1,  PRS2,     2, 11,     23,   8023,2,20080727,1453, 22.7527,-158.0067, 4740,     45,     45.3,  24.4762,  35.0801,2,-999.0000,5,    224.0,1, 24.4665,   -999.0,9,  -999.00,9,  -999.00,9,  -999.00,9,  -999.0,-999.000
     33KB203_1,  PRS2,     2, 11,     22,   8022,2,20080727,1453, 22.7527,-158.0067, 4740,     75,     74.9,  23.6506,  35.1250,2,-999.0000,5,    222.3,1, 23.6350,   -999.0,9,  -999.00,9,  -999.00,9,  -999.00,9,  -999.0,-999.000
     33KB203_1,  PRS2,     2, 11,     21,   8021,2,20080727,1453, 22.7527,-158.0067, 4740,    100,    100.3,  23.0736,  35.2209,2,-999.0000,5,    215.9,1, 23.0531,   -999.0,9,  -999.00,9,  -999.00,9,  -999.00,9,  -999.0,-999.000
     33KB203_1,  PRS2,     2, 11,     20,   8020,2,20080727,1453, 22.7527,-158.0067, 4740,    125,    124.9,  22.2027,  35.2284,2,-999.0000,5,    207.2,1, 22.1778,   -999.0,9,  -999.00,9,  -999.00,9,  -999.00,9,  -999.0,-999.000
     33KB203_1,  PRS2,     2, 11,     19,   8019,2,20080727,1453, 22.7527,-158.0067, 4740,    126,    125.1,  22.1993,  35.2300,2,-999.0000,5,    207.1,1, 22.1744,   -999.0,9,  -999.00,9,  -999.00,9,  -999.00,9,  -999.0,-999.000
     33KB203_1,  PRS2,     2, 11,     18,   8018,2,20080727,1453, 22.7527,-158.0067, 4740,    125,    125.1,  22.2000,  35.2297,2,-999.0000,5,    207.1,1, 22.1750,   -999.0,9,  -999.00,9,  -999.00,9,  -999.00,9,  -999.0,-999.000
     33KB203_1,  PRS2,     2, 11,     17,   8017,2,20080727,1453, 22.7527,-158.0067, 4740,    125,    125.1,  22.2010,  35.2289,2,-999.0000,5,    207.2,1, 22.1761,   -999.0,9,  -999.00,9,  -999.00,9,  -999.00,9,  -999.0,-999.000
     33KB203_1,  PRS2,     2, 11,     16,   8016,2,20080727,1453, 22.7527,-158.0067, 4740,    126,    125.2,  22.2018,  35.2279,2,-999.0000,5,    207.3,1, 22.1769,   -999.0,9,  -999.00,9,  -999.00,9,  -999.00,9,  -999.0,-999.000
     33KB203_1,  PRS2,     2, 11,     15,   8015,2,20080727,1453, 22.7527,-158.0067, 4740,    126,    125.2,  22.1998,  35.2284,2,-999.0000,5,    207.4,1, 22.1748,   -999.0,9,  -999.00,9,  -999.00,9,  -999.00,9,  -999.0,-999.000
     33KB203_1,  PRS2,     2, 11,     14,   8014,2,20080727,1453, 22.7527,-158.0067, 4740,    149,    149.9,  21.6535,  35.2297,2,-999.0000,5,    204.5,1, 21.6242,   -999.0,9,  -999.00,9,  -999.00,9,  -999.00,9,  -999.0,-999.000
     33KB203_1,  PRS2,     2, 11,     13,   8025,2,20080727,1453, 22.7527,-158.0067, 4740,    175,    175.0,  20.5090,  35.0960,2,-999.0000,5,    193.7,1, 20.4761,   -999.0,9,  -999.00,9,  -999.00,9,  -999.00,9,  -999.0,-999.000
     33KB203_1,  PRS2,     2, 11,      7,   8026,2,20080727,1453, 22.7527,-158.0067, 4740,    200,    199.6,  18.9959,  34.9268,2,-999.0000,5,    191.8,1, 18.9603,   -999.0,9,  -999.00,9,  -999.00,9,  -999.00,9,  -999.0,-999.000
     33KB203_1,  PRS2,     2, 11,     11,   8011,2,20080727,1453, 22.7527,-158.0067, 4740,    200,    199.7,  18.9993,  34.9273,2,-999.0000,5,    191.3,1, 18.9637,   -999.0,9,  -999.00,9,  -999.00,9,  -999.00,9,  -999.0,-999.000
     33KB203_1,  PRS2,     2, 11,     10,   8010,2,20080727,1453, 22.7527,-158.0067, 4740,    200,    199.7,  18.9993,  34.9272,2,-999.0000,5,    191.4,1, 18.9637,   -999.0,9,  -999.00,9,  -999.00,9,  -999.00,9,  -999.0,-999.000
     33KB203_1,  PRS2,     2, 11,      9,   8009,2,20080727,1453, 22.7527,-158.0067, 4740,    199,    199.7,  18.9993,  34.9271,2,-999.0000,5,    191.5,1, 18.9637,   -999.0,9,  -999.00,9,  -999.00,9,  -999.00,9,  -999.0,-999.000
     33KB203_1,  PRS2,     2, 11,      8,   8008,2,20080727,1453, 22.7527,-158.0067, 4740,    200,    199.7,  18.9992,  34.9271,2,-999.0000,5,    191.7,1, 18.9636,   -999.0,9,  -999.00,9,  -999.00,9,  -999.00,9,  -999.0,-999.000
     33KB203_1,  PRS2,     2, 11,     12,   8012,2,20080727,1453, 22.7527,-158.0067, 4740,    200,    199.8,  19.0005,  34.9272,2,-999.0000,5,    191.2,1, 18.9649,   -999.0,9,  -999.00,9,  -999.00,9,  -999.00,9,  -999.0,-999.000
     33KB203_1,  PRS2,     2, 11,      6,   8006,2,20080727,1453, 22.7527,-158.0067, 4740,    400,    400.2,   9.3471,  34.1091,2,-999.0000,5,    161.3,1,  9.3026,   -999.0,9,  -999.00,9,  -999.00,9,  -999.00,9,  -999.0,-999.000
     33KB203_1,  PRS2,     2, 11,      5,   8005,2,20080727,1453, 22.7527,-158.0067, 4740,    400,    400.2,   9.3455,  34.1091,2,  34.1107,2,    160.8,1,  9.3010,   -999.0,9,  -999.00,9,  -999.00,9,  -999.00,9,  -999.0,-999.000
     33KB203_1,  PRS2,     2, 11,      4,   8004,2,20080727,1453, 22.7527,-158.0067, 4740,    599,    599.4,   5.9780,  34.1536,2,-999.0000,5,     66.2,1,  5.9256,   -999.0,9,  -999.00,9,  -999.00,9,  -999.00,9,  -999.0,-999.000
     33KB203_1,  PRS2,     2, 11,      3,   8003,2,20080727,1453, 22.7527,-158.0067, 4740,    800,    800.2,   4.6734,  34.3325,2,-999.0000,5,     32.8,1,  4.6101,   -999.0,9,  -999.00,9,  -999.00,9,  -999.00,9,  -999.0,-999.000
     33KB203_1,  PRS2,     2, 11,      1,   8001,2,20080727,1453, 22.7527,-158.0067, 4740,   1021,   1020.1,   3.9527,  34.4760,2,  34.4744,2,     44.5,1,  3.8758,   -999.0,9,  -999.00,9,  -999.00,9,  -999.00,9,  -999.0,-999.000
     33KB203_1,  PRS2,     2, 11,      2,   8002,2,20080727,1453, 22.7527,-158.0067, 4740,   1020,   1020.2,   3.9520,  34.4761,2,-999.0000,5,     44.5,1,  3.8751,   -999.0,9,  -999.00,9,  -999.00,9,  -999.00,9,  -999.0,-999.000