BOTTLE,20141031SIOCCHAMB
EXPOCODE,SECT_ID,STNNBR,CASTNO,SAMPNO,BTLNBR,BTLNBR_FLAG_W,DATE,TIME,LATITUDE,LONGITUDE,DEPTH,CTDPRS,CTDTMP,CTDSAL,CTDSAL_FLAG_W,SALNTY,SALNTY_FLAG_W,CTDOXY,CTDOXY_FLAG_W,OXYGEN,OXYGEN_FLAG_W,SILCAT,SILCAT_FLAG_W,PHSPHT,PHSPHT_FLAG_W,REVPRS,CTDRAW,THETA,NO2+NO3,NO2+NO3_FLAG_W,REVTMP
,,,,,,,,,,,METERS,DBAR,ITS-90,PSS-78,,PSS-78,,UMOL/KG,,UMOL/KG,,UMOL/KG,,UMOL/KG,,DBAR,DBAR,ITS-90,UMOL/KG,,DEG C
33KB20110108,       PRS2,       2,          1,         18,       8018,2,20110109,       1243,  22.757833,-158.0763333,       4763,    15.9,  23.8096,  35.4102,2,-999.0000,9,    213.2,1,  -999.0,9, -999.00,9, -999.00,9,  -999.0,      15,    23.8063, -999.00,9,     -999.0
33KB20110108,       PRS2,       2,          1,         17,       8017,2,20110109,       1243,  22.757833,-158.0763333,       4763,    25.6,  23.8049,  35.4106,2,-999.0000,9,    212.8,1,  -999.0,9, -999.00,9, -999.00,9,  -999.0,      24,    23.7995, -999.00,9,     -999.0
33KB20110108,       PRS2,       2,          1,         16,       8016,2,20110109,       1243,  22.757833,-158.0763333,       4763,    25.7,  23.8051,  35.4104,2,-999.0000,9,    212.8,1,  -999.0,9, -999.00,9, -999.00,9,  -999.0,      26,    23.7997, -999.00,9,     -999.0
33KB20110108,       PRS2,       2,          1,         15,       8015,2,20110109,       1243,  22.757833,-158.0763333,       4763,    26.0,  23.8055,  35.4103,2,-999.0000,9,    212.7,1,  -999.0,9, -999.00,9, -999.00,9,  -999.0,      25,    23.8001, -999.00,9,     -999.0
33KB20110108,       PRS2,       2,          1,         14,       8014,2,20110109,       1243,  22.757833,-158.0763333,       4763,    25.9,  23.8057,  35.4103,2,-999.0000,9,    212.4,1,  -999.0,9, -999.00,9, -999.00,9,  -999.0,      24,    23.8002, -999.00,9,     -999.0
33KB20110108,       PRS2,       2,          1,         13,       8025,2,20110109,       1243,  22.757833,-158.0763333,       4763,    25.7,  23.8055,  35.4103,2,-999.0000,9,    212.0,1,  -999.0,9, -999.00,9, -999.00,9,  -999.0,      24,    23.8001, -999.00,9,     -999.0
33KB20110108,       PRS2,       2,          1,         12,       8012,2,20110109,       1243,  22.757833,-158.0763333,       4763,    46.5,  23.8119,  35.4107,2,-999.0000,9,    211.8,1,  -999.0,9, -999.00,9, -999.00,9,  -999.0,      45,    23.8022, -999.00,9,     -999.0
33KB20110108,       PRS2,       2,          1,         11,       8011,2,20110109,       1243,  22.757833,-158.0763333,       4763,    46.8,  23.8119,  35.4105,2,-999.0000,9,    211.8,1,  -999.0,9, -999.00,9, -999.00,9,  -999.0,      47,    23.8021, -999.00,9,     -999.0
33KB20110108,       PRS2,       2,          1,         10,       8010,2,20110109,       1243,  22.757833,-158.0763333,       4763,    46.8,  23.8132,  35.4105,2,-999.0000,9,    211.9,1,  -999.0,9, -999.00,9, -999.00,9,  -999.0,      46,    23.8034, -999.00,9,     -999.0
33KB20110108,       PRS2,       2,          1,          9,       8009,2,20110109,       1243,  22.757833,-158.0763333,       4763,    47.1,  23.8149,  35.4103,2,-999.0000,9,    212.1,1,  -999.0,9, -999.00,9, -999.00,9,  -999.0,      45,    23.8051, -999.00,9,     -999.0
33KB20110108,       PRS2,       2,          1,          8,       8008,2,20110109,       1243,  22.757833,-158.0763333,       4763,    47.0,  23.8162,  35.4102,2,-999.0000,9,    212.3,1,  -999.0,9, -999.00,9, -999.00,9,  -999.0,      47,    23.8063, -999.00,9,     -999.0
33KB20110108,       PRS2,       2,          1,          7,       8026,2,20110109,       1243,  22.757833,-158.0763333,       4763,    46.9,  23.8167,  35.4101,2,-999.0000,9,    212.5,1,  -999.0,9, -999.00,9, -999.00,9,  -999.0,      47,    23.8069, -999.00,9,     -999.0
33KB20110108,       PRS2,       2,          1,          6,       8006,2,20110109,       1243,  22.757833,-158.0763333,       4763,    75.2,  23.8174,  35.4100,2,-999.0000,9,    212.5,1,  -999.0,9, -999.00,9, -999.00,9,  -999.0,      74,    23.8016, -999.00,9,     -999.0
33KB20110108,       PRS2,       2,          1,          5,       8005,2,20110109,       1243,  22.757833,-158.0763333,       4763,    75.6,  23.8170,  35.4100,2,-999.0000,9,    212.5,1,  -999.0,9, -999.00,9, -999.00,9,  -999.0,      76,    23.8011, -999.00,9,     -999.0
33KB20110108,       PRS2,       2,          1,          4,       8004,2,20110109,       1243,  22.757833,-158.0763333,       4763,    75.8,  23.8169,  35.4100,2,-999.0000,9,    212.7,1,  -999.0,9, -999.00,9, -999.00,9,  -999.0,      76,    23.8010, -999.00,9,     -999.0
33KB20110108,       PRS2,       2,          1,          3,       8003,2,20110109,       1243,  22.757833,-158.0763333,       4763,    75.5,  23.8168,  35.4100,2,-999.0000,9,    213.0,1,  -999.0,9, -999.00,9, -999.00,9,  -999.0,      76,    23.8010, -999.00,9,     -999.0
33KB20110108,       PRS2,       2,          1,          2,       8002,2,20110109,       1243,  22.757833,-158.0763333,       4763,    75.9,  23.8171,  35.4101,2,-999.0000,9,    213.2,1,  -999.0,9, -999.00,9, -999.00,9,  -999.0,      74,    23.8012, -999.00,9,     -999.0
33KB20110108,       PRS2,       2,          1,          1,       8001,2,20110109,       1243,  22.757833,-158.0763333,       4763,    75.5,  23.8204,  35.4095,2,-999.0000,9,    213.4,1,  -999.0,9, -999.00,9, -999.00,9,  -999.0,      76,    23.8045, -999.00,9,     -999.0
33KB20110108,       PRS2,       2,          2,         20,       8020,2,20110109,       1423,  22.758333,-158.0753333,       4761,     7.0,  23.7943,  35.4086,2,  35.4085,2,    213.4,1,  -999.0,9, -999.00,9, -999.00,9,  -999.0,       7,    23.7928, -999.00,9,     -999.0
33KB20110108,       PRS2,       2,          2,         19,       8019,2,20110109,       1423,  22.758333,-158.0753333,       4761,     6.9,  23.7947,  35.4087,2,  35.4084,2,    213.4,1,  -999.0,9, -999.00,9, -999.00,9,  -999.0,       6,    23.7932, -999.00,9,     -999.0
33KB20110108,       PRS2,       2,          2,         18,       8018,2,20110109,       1423,  22.758333,-158.0753333,       4761,     6.7,  23.7949,  35.4087,2,  35.4089,2,    213.4,1,  -999.0,9, -999.00,9, -999.00,9,  -999.0,       7,    23.7935, -999.00,9,     -999.0
33KB20110108,       PRS2,       2,          2,         17,       8017,2,20110109,       1423,  22.758333,-158.0753333,       4761,    26.9,  23.8016,  35.4084,2,  35.4080,2,    213.5,1,  -999.0,9, -999.00,9, -999.00,9,  -999.0,      26,    23.7959, -999.00,9,     -999.0
33KB20110108,       PRS2,       2,          2,         16,       8016,2,20110109,       1423,  22.758333,-158.0753333,       4761,    26.5,  23.8015,  35.4085,2,  35.4084,2,    213.7,1,  -999.0,9, -999.00,9, -999.00,9,  -999.0,      25,    23.7959, -999.00,9,     -999.0
33KB20110108,       PRS2,       2,          2,         15,       8015,2,20110109,       1423,  22.758333,-158.0753333,       4761,    26.6,  23.8015,  35.4084,2,  35.4084,2,    213.9,1,  -999.0,9, -999.00,9, -999.00,9,  -999.0,      26,    23.7959, -999.00,9,     -999.0
33KB20110108,       PRS2,       2,          2,         14,       8014,2,20110109,       1423,  22.758333,-158.0753333,       4761,    46.4,  23.8026,  35.4086,2,  35.4087,2,    214.1,1,  -999.0,9, -999.00,9, -999.00,9,  -999.0,      46,    23.7929, -999.00,9,     -999.0
33KB20110108,       PRS2,       2,          2,         13,       8025,2,20110109,       1423,  22.758333,-158.0753333,       4761,    46.6,  23.8026,  35.4087,2,  35.4084,2,    214.2,1,  -999.0,9, -999.00,9, -999.00,9,  -999.0,      46,    23.7929, -999.00,9,     -999.0
33KB20110108,       PRS2,       2,          2,         12,       8012,2,20110109,       1423,  22.758333,-158.0753333,       4761,    46.2,  23.8023,  35.4086,2,  35.4082,2,    214.2,1,  -999.0,9, -999.00,9, -999.00,9,  -999.0,      46,    23.7926, -999.00,9,     -999.0
33KB20110108,       PRS2,       2,          2,         11,       8011,2,20110109,       1423,  22.758333,-158.0753333,       4761,    76.7,  23.8095,  35.4080,2,  35.4082,2,    214.1,1,  -999.0,9, -999.00,9, -999.00,9,  -999.0,      77,    23.7934, -999.00,9,     -999.0
33KB20110108,       PRS2,       2,          2,         10,       8010,2,20110109,       1423,  22.758333,-158.0753333,       4761,    76.6,  23.8091,  35.4080,2,  35.4085,2,    214.1,1,  -999.0,9, -999.00,9, -999.00,9,  -999.0,      76,    23.7930, -999.00,9,     -999.0
33KB20110108,       PRS2,       2,          2,          9,       8009,2,20110109,       1423,  22.758333,-158.0753333,       4761,    76.6,  23.8088,  35.4079,2,  35.4084,2,    214.1,1,  -999.0,9, -999.00,9, -999.00,9,  -999.0,      77,    23.7928, -999.00,9,     -999.0
33KB20110108,       PRS2,       2,          2,          8,       8008,2,20110109,       1423,  22.758333,-158.0753333,       4761,   101.6,  23.6870,  35.4089,2,  35.4095,2,    212.9,1,  -999.0,9, -999.00,9, -999.00,9,  -999.0,     101,    23.6658, -999.00,9,     -999.0
33KB20110108,       PRS2,       2,          2,          7,       8026,2,20110109,       1423,  22.758333,-158.0753333,       4761,   101.6,  23.6586,  35.4112,2,  35.4093,2,    212.4,1,  -999.0,9, -999.00,9, -999.00,9,  -999.0,     101,    23.6374, -999.00,9,     -999.0
33KB20110108,       PRS2,       2,          2,          6,       8006,2,20110109,       1423,  22.758333,-158.0753333,       4761,   101.4,  23.6091,  35.4074,2,  35.4074,2,    211.5,1,  -999.0,9, -999.00,9, -999.00,9,  -999.0,      99,    23.5880, -999.00,9,     -999.0
33KB20110108,       PRS2,       2,          2,          5,       8005,2,20110109,       1423,  22.758333,-158.0753333,       4761,   125.8,  21.2330,  35.2740,2,  35.2737,2,    208.1,1,  -999.0,9, -999.00,9, -999.00,9,  -999.0,     125,    21.2087, -999.00,9,     -999.0
33KB20110108,       PRS2,       2,          2,          4,       8004,2,20110109,       1423,  22.758333,-158.0753333,       4761,   125.7,  21.2441,  35.2726,2,  35.2777,2,    208.4,1,  -999.0,9, -999.00,9, -999.00,9,  -999.0,     125,    21.2198, -999.00,9,     -999.0
33KB20110108,       PRS2,       2,          2,          3,       8003,2,20110109,       1423,  22.758333,-158.0753333,       4761,   125.5,  21.2441,  35.2744,2,  35.2741,2,    208.6,1,  -999.0,9, -999.00,9, -999.00,9,  -999.0,     125,    21.2198, -999.00,9,     -999.0
33KB20110108,       PRS2,       2,          2,          2,       8002,2,20110109,       1423,  22.758333,-158.0753333,       4761,   149.6,  19.9514,  35.1885,2,  35.1961,2,    202.8,1,  -999.0,9, -999.00,9, -999.00,9,  -999.0,     148,    19.9238, -999.00,9,     -999.0
33KB20110108,       PRS2,       2,          2,          1,       8001,2,20110109,       1423,  22.758333,-158.0753333,       4761,   175.1,  18.7491,  35.0300,2,  35.0317,2,    206.6,1,  -999.0,9, -999.00,9, -999.00,9,  -999.0,     175,    18.7182, -999.00,9,     -999.0
33KB20110108,       PRS2,       2,          3,         24,       8024,2,20110109,       1715,  22.750167,-157.9996667,       4744,     4.1,  23.7756,  35.4089,2,  35.4095,2,    212.6,2,   212.6,2,    1.04,2,    0.05,2,  -999.0,       4,    23.7748,    0.08,2,     -999.0
33KB20110108,       PRS2,       2,          3,         23,       8023,2,20110109,       1715,  22.750167,-157.9996667,       4744,   499.8,   7.6545,  34.0543,2,  34.0562,2,    129.6,2,   129.3,2,   41.12,2,    1.98,2,  -999.0,     500,     7.6050,   27.46,2,     -999.0
33KB20110108,       PRS2,       2,          3,         22,       8022,2,20110109,       1715,  22.750167,-157.9996667,       4744,   751.2,   4.7513,  34.3060,2,  34.3029,2,     32.2,2,    32.0,2,   93.53,2,    2.96,2,  -999.0,     750,     4.6918,   41.23,2,     -999.0
33KB20110108,       PRS2,       2,          3,         21,       8021,2,20110109,       1715,  22.750167,-157.9996667,       4744,  1000.7,   3.9846,  34.4741,2,  34.4738,2,     45.7,2,    44.2,2,  109.33,2,    2.87,4,  -999.0,     999,     3.9091,   41.77,2,     -999.0
33KB20110108,       PRS2,       2,          3,         20,       8020,2,20110109,       1715,  22.750167,-157.9996667,       4744,  1199.7,   3.4037,  34.5321,2,  34.5311,2,     55.6,2,    55.5,2,  121.39,2,    2.98,2,  -999.0,    1201,     3.3166,   41.67,2,     -999.0
33KB20110108,       PRS2,       2,          3,         19,       8019,2,20110109,       1715,  22.750167,-157.9996667,       4744,  1400.2,   2.9834,  34.5581,2,  34.5580,2,     63.5,2,    63.6,2,  130.88,2,    2.85,4,  -999.0,    1401,     2.8840,   41.47,2,     -999.0
33KB20110108,       PRS2,       2,          3,         18,       8018,2,20110109,       1715,  22.750167,-157.9996667,       4744,  1600.5,   2.6115,  34.5810,2,  34.5814,2,     72.1,2,    73.0,2,  139.39,2,    2.94,2,  -999.0,    1602,     2.4999,   40.97,2,     -999.0
33KB20110108,       PRS2,       2,          3,         17,       8017,2,20110109,       1715,  22.750167,-157.9996667,       4744,  1800.5,   2.3433,  34.5993,2,  34.5995,2,     78.8,2,    79.7,2,  145.42,2,    2.92,2,  -999.0,    1800,     2.2186,   40.64,2,     -999.0
33KB20110108,       PRS2,       2,          3,         16,       8016,2,20110109,       1715,  22.750167,-157.9996667,       4744,  2000.7,   2.0805,  34.6177,2,  34.6178,2,     87.3,2,    87.6,2,  152.10,2,    2.88,2,  -999.0,    1999,     1.9429,   40.18,2,     -999.0
33KB20110108,       PRS2,       2,          3,         15,       8015,2,20110109,       1715,  22.750167,-157.9996667,       4744,  2200.7,   1.9091,  34.6321,2,  34.6325,2,     95.5,2,    96.1,2,  155.67,2,    2.82,2,  -999.0,    2200,     1.7571,   39.70,2,     -999.0
33KB20110108,       PRS2,       2,          3,         14,       8014,2,20110109,       1715,  22.750167,-157.9996667,       4744,  2399.5,   1.7899,  34.6429,2,  34.6429,2,    101.9,2,   102.1,2,  158.31,2,    2.65,4,  -999.0,    2401,     1.6225,   39.41,2,     -999.0
33KB20110108,       PRS2,       2,          3,         13,       8025,2,20110109,       1715,  22.750167,-157.9996667,       4744,  2599.8,   1.6986,  34.6542,2,  34.6541,2,    111.0,2,   110.4,2,  158.35,2,    2.66,3,  -999.0,    2599,     1.5150,   38.90,2,     -999.0
33KB20110108,       PRS2,       2,          3,         12,       8012,2,20110109,       1715,  22.750167,-157.9996667,       4744,  2799.8,   1.6047,  34.6611,2,  34.6608,2,    116.3,2,   116.3,2,  160.24,2,    2.69,2,  -999.0,    2798,     1.4046,   38.25,2,     -999.0
33KB20110108,       PRS2,       2,          3,         11,       8011,2,20110109,       1715,  22.750167,-157.9996667,       4744,  3001.0,   1.5531,  34.6684,2,  34.6682,2,    124.1,2,   123.7,2,  159.38,2,    2.63,2,  -999.0,    3000,     1.3351,   37.72,2,     -999.0
33KB20110108,       PRS2,       2,          3,         10,       8010,2,20110109,       1715,  22.750167,-157.9996667,       4744,  3199.7,   1.5095,  34.6742,2,  34.6736,2,    130.7,2,   130.8,2,  157.43,2,    2.58,2,  -999.0,    3199,     1.2732,   37.26,2,     -999.0
33KB20110108,       PRS2,       2,          3,          9,       8009,2,20110109,       1715,  22.750167,-157.9996667,       4744,  3399.7,   1.4827,  34.6785,2,  34.6787,2,    136.4,2,   136.2,2,  156.00,2,    2.53,3,  -999.0,    3400,     1.2272,   36.87,2,     -999.0
33KB20110108,       PRS2,       2,          3,          8,       8008,2,20110109,       1715,  22.750167,-157.9996667,       4744,  3598.6,   1.4652,  34.6814,2,  34.6806,2,    141.2,2,   141.1,2,  154.46,2,    2.55,2,  -999.0,    3598,     1.1899,   36.57,2,     -999.0
33KB20110108,       PRS2,       2,          3,          7,       8026,2,20110109,       1715,  22.750167,-157.9996667,       4744,  3798.7,   1.4544,  34.6842,2,  34.6832,2,    145.6,2,   145.6,2,  153.39,2,    2.52,2,  -999.0,    3799,     1.1584,   36.17,2,     -999.0
33KB20110108,       PRS2,       2,          3,          6,       8006,2,20110109,       1715,  22.750167,-157.9996667,       4744,  4001.0,   1.4567,  34.6856,2,  34.6850,2,    148.1,2,   147.9,2,  150.91,2,    2.51,2,  -999.0,    4001,     1.1389,   35.98,2,     -999.0
33KB20110108,       PRS2,       2,          3,          5,       8005,2,20110109,       1715,  22.750167,-157.9996667,       4744,  4200.0,   1.4654,  34.6867,2,  34.6865,2,    150.2,2,   149.7,2,  149.85,2,    2.49,2,  -999.0,    4200,     1.1255,   35.85,2,     -999.0
33KB20110108,       PRS2,       2,          3,          4,       8004,2,20110109,       1715,  22.750167,-157.9996667,       4744,  4399.7,   1.4781,  34.6876,2,  34.6873,2,    151.6,2,   151.6,2,  149.52,2,    2.48,2,  -999.0,    4400,     1.1153,   35.85,2,     -999.0
33KB20110108,       PRS2,       2,          3,          3,       8003,2,20110109,       1715,  22.750167,-157.9996667,       4744,  4498.3,   1.4852,  34.6881,2,  34.6889,2,    152.6,2,   152.8,2,  148.75,2,    2.48,2,  -999.0,    4499,     1.1109,   35.68,2,     -999.0
33KB20110108,       PRS2,       2,          3,          2,       8002,2,20110109,       1715,  22.750167,-157.9996667,       4744,  4599.4,   1.4921,  34.6886,2,  34.6889,2,    153.4,2,   153.4,2,  147.81,2,    2.47,2,  -999.0,    4598,     1.1059,   35.55,2,     -999.0
33KB20110108,       PRS2,       2,          3,          1,       8001,2,20110109,       1715,  22.750167,-157.9996667,       4744,  4807.3,   1.5066,  34.6892,2,  34.6901,2,    154.5,2,   155.0,2,  147.31,2,    2.36,4,  -999.0,    4809,     1.0954,   35.52,2,     -999.0