BOTTLE,20141031SIOCCHAMB
EXPOCODE,SECT_ID,STNNBR,CASTNO,SAMPNO,BTLNBR,BTLNBR_FLAG_W,DATE,TIME,LATITUDE,LONGITUDE,DEPTH,CTDPRS,CTDTMP,CTDSAL,CTDSAL_FLAG_W,SALNTY,SALNTY_FLAG_W,CTDOXY,CTDOXY_FLAG_W,OXYGEN,OXYGEN_FLAG_W,SILCAT,SILCAT_FLAG_W,PHSPHT,PHSPHT_FLAG_W,REVPRS,CTDRAW,THETA,NO2+NO3,NO2+NO3_FLAG_W,REVTMP
,,,,,,,,,,,METERS,DBAR,ITS-90,PSS-78,,PSS-78,,UMOL/KG,,UMOL/KG,,UMOL/KG,,UMOL/KG,,DBAR,DBAR,ITS-90,UMOL/KG,,DEG C
33KB20130910,       PRS2,       1,          1,         24,       8024,2,20130910,       2244,  21.343500,-158.2723333,       1555,     7.5,  26.8796,  35.1419,2,  35.1480,2,    203.3,2,   203.1,2, -999.00,9, -999.00,9,  -999.0,       7,    26.8778, -999.00,9,     -999.0
33KB20130910,       PRS2,       1,          1,         23,       8023,2,20130910,       2244,  21.343500,-158.2723333,       1555,     7.5,  26.8733,  35.1423,2,  35.1473,2,    203.2,2,   202.8,2, -999.00,9, -999.00,9,  -999.0,       7,    26.8716, -999.00,9,     -999.0
33KB20130910,       PRS2,       1,          1,         22,       8022,2,20130910,       2244,  21.343500,-158.2723333,       1555,    25.8,  26.8808,  35.1648,2,  35.1658,2,    203.7,2,   203.2,2, -999.00,9, -999.00,9,  -999.0,      26,    26.8749, -999.00,9,     -999.0
33KB20130910,       PRS2,       1,          1,         21,       8021,2,20130910,       2244,  21.343500,-158.2723333,       1555,    45.5,  26.8603,  35.1871,2,  35.1786,2,    203.9,2,   204.2,2, -999.00,9, -999.00,9,  -999.0,      44,    26.8499, -999.00,9,     -999.0
33KB20130910,       PRS2,       1,          1,         20,       8020,2,20130910,       2244,  21.343500,-158.2723333,       1555,    60.4,  24.8877,  35.2276,2,  35.2160,2,    216.7,2,   215.6,2, -999.00,9, -999.00,9,  -999.0,      59,    24.8747, -999.00,9,     -999.0
33KB20130910,       PRS2,       1,          1,         19,       8019,2,20130910,       2244,  21.343500,-158.2723333,       1555,    75.5,  23.7240,  35.3119,2,  35.3090,2,    216.0,2,   215.9,2, -999.00,9, -999.00,9,  -999.0,      75,    23.7082, -999.00,9,     -999.0
33KB20130910,       PRS2,       1,          1,         18,       8018,2,20130910,       2244,  21.343500,-158.2723333,       1555,   100.4,  22.5894,  35.2829,2,  35.2767,2,    212.5,2,   212.8,2, -999.00,9, -999.00,9,  -999.0,     100,    22.5691, -999.00,9,     -999.0
33KB20130910,       PRS2,       1,          1,         17,       8017,2,20130910,       2244,  21.343500,-158.2723333,       1555,   115.3,  22.1232,  35.2604,2,  35.2664,2,    213.2,2,   213.7,2, -999.00,9, -999.00,9,  -999.0,     115,    22.1003, -999.00,9,     -999.0
33KB20130910,       PRS2,       1,          1,         16,       8016,2,20130910,       2244,  21.343500,-158.2723333,       1555,   125.4,  21.9613,  35.2791,2,  35.2745,2,    212.7,2,   210.9,2, -999.00,9, -999.00,9,  -999.0,     125,    21.9365, -999.00,9,     -999.0
33KB20130910,       PRS2,       1,          1,         15,       8015,2,20130910,       2244,  21.343500,-158.2723333,       1555,   149.8,  21.4292,  35.2888,2,  35.2852,2,    201.9,2,   204.2,2, -999.00,9, -999.00,9,  -999.0,     150,    21.4001, -999.00,9,     -999.0
33KB20130910,       PRS2,       1,          1,         14,       8014,2,20130910,       2244,  21.343500,-158.2723333,       1555,   175.6,  19.7657,  35.1063,2,  35.1026,2,    198.3,2,   198.0,2, -999.00,9, -999.00,9,  -999.0,     176,    19.7335, -999.00,9,     -999.0
33KB20130910,       PRS2,       1,          1,         13,       8025,2,20130910,       2244,  21.343500,-158.2723333,       1555,   200.2,  18.4049,  34.9150,2,  34.9073,2,    196.1,2,   196.8,2, -999.00,9, -999.00,9,  -999.0,     199,    18.3700, -999.00,9,     -999.0
33KB20130910,       PRS2,       1,          1,         12,       8012,2,20130910,       2244,  21.343500,-158.2723333,       1555,   226.0,  16.1379,  34.5987,2,  34.5873,2,    188.5,2,   190.7,2, -999.00,9, -999.00,9,  -999.0,     226,    16.1019, -999.00,9,     -999.0
33KB20130910,       PRS2,       1,          1,         11,       8011,2,20130910,       2244,  21.343500,-158.2723333,       1555,   250.5,  14.4539,  34.4114,2,  34.3998,2,    193.1,2,   193.1,2, -999.00,9, -999.00,9,  -999.0,     250,    14.4170, -999.00,9,     -999.0
33KB20130910,       PRS2,       1,          1,         10,       8010,2,20130910,       2244,  21.343500,-158.2723333,       1555,   300.6,  11.3869,  34.2024,2,  34.2034,2,    190.1,2,   190.0,2, -999.00,9, -999.00,9,  -999.0,     300,    11.3492, -999.00,9,     -999.0
33KB20130910,       PRS2,       1,          1,          9,       8009,2,20130910,       2244,  21.343500,-158.2723333,       1555,   350.6,   9.9147,  34.1414,2,  34.1411,2,    156.7,2,   155.2,2, -999.00,9, -999.00,9,  -999.0,     349,     9.8743, -999.00,9,     -999.0
33KB20130910,       PRS2,       1,          1,          8,       8008,2,20130910,       2244,  21.343500,-158.2723333,       1555,   400.3,   8.5265,  34.1414,2,  34.1407,2,    118.4,2,   116.9,2, -999.00,9, -999.00,9,  -999.0,     399,     8.4844, -999.00,9,     -999.0
33KB20130910,       PRS2,       1,          1,          7,       8026,2,20130910,       2244,  21.343500,-158.2723333,       1555,   500.9,   6.7931,  34.2045,2,  34.2011,2,     59.7,2,    60.5,2, -999.00,9, -999.00,9,  -999.0,     501,     6.7466, -999.00,9,     -999.0
33KB20130910,       PRS2,       1,          1,          6,       8006,2,20130910,       2244,  21.343500,-158.2723333,       1555,   600.3,   6.0116,  34.2938,2,  34.2887,2,     37.0,2,    37.6,2, -999.00,9, -999.00,9,  -999.0,     600,     5.9589, -999.00,9,     -999.0
33KB20130910,       PRS2,       1,          1,          5,       8005,2,20130910,       2244,  21.343500,-158.2723333,       1555,   700.6,   5.2073,  34.3585,2,  34.3576,2,     31.2,2,    31.2,2, -999.00,9, -999.00,9,  -999.0,     700,     5.1495, -999.00,9,     -999.0
33KB20130910,       PRS2,       1,          1,          4,       8004,2,20130910,       2244,  21.343500,-158.2723333,       1555,   751.4,   4.9793,  34.3998,2,  34.3986,2,     34.5,2,    34.2,2, -999.00,9, -999.00,9,  -999.0,     751,     4.9183, -999.00,9,     -999.0
33KB20130910,       PRS2,       1,          1,          3,       8003,2,20130910,       2244,  21.343500,-158.2723333,       1555,   900.3,   4.3668,  34.4634,2,  34.4638,2,     40.6,2,    41.0,2, -999.00,9, -999.00,9,  -999.0,     900,     4.2969, -999.00,9,     -999.0
33KB20130910,       PRS2,       1,          1,          2,       8002,2,20130910,       2244,  21.343500,-158.2723333,       1555,   900.2,   4.3667,  34.4629,2,  34.4642,2,     40.6,2,    40.6,2, -999.00,9, -999.00,9,  -999.0,     900,     4.2968, -999.00,9,     -999.0
33KB20130910,       PRS2,       1,          1,          1,       8001,2,20130910,       2244,  21.343500,-158.2723333,       1555,  1020.4,   4.1178,  34.4893,2,  34.4899,2,     44.3,2,    43.7,2, -999.00,9, -999.00,9,  -999.0,    1021,     4.0395, -999.00,9,     -999.0
33KB20130910,       PRS2,       2,          1,         22,       8022,2,20130911,       1149,  22.749500,-158.0185000,       4744,     6.7,  26.8907,  35.4954,2,  35.4953,2,    203.9,1,  -999.0,9, -999.00,9, -999.00,9,  -999.0,       6,    26.8892, -999.00,9,     -999.0
33KB20130910,       PRS2,       2,          1,         21,       8021,2,20130911,       1149,  22.749500,-158.0185000,       4744,     6.7,  26.8907,  35.4954,2,  35.4951,2,    203.9,1,  -999.0,9, -999.00,9, -999.00,9,  -999.0,       7,    26.8891, -999.00,9,     -999.0
33KB20130910,       PRS2,       2,          1,         20,       8020,2,20130911,       1149,  22.749500,-158.0185000,       4744,     6.8,  26.8909,  35.4952,2,  35.4951,2,    203.8,1,  -999.0,9, -999.00,9, -999.00,9,  -999.0,       7,    26.8894, -999.00,9,     -999.0
33KB20130910,       PRS2,       2,          1,         19,       8019,2,20130911,       1149,  22.749500,-158.0185000,       4744,    24.9,  26.8894,  35.4948,2,  35.4951,2,    203.2,1,  -999.0,9, -999.00,9, -999.00,9,  -999.0,      26,    26.8837, -999.00,9,     -999.0
33KB20130910,       PRS2,       2,          1,         18,       8018,2,20130911,       1149,  22.749500,-158.0185000,       4744,    25.2,  26.8898,  35.4946,2,  35.4943,2,    203.1,1,  -999.0,9, -999.00,9, -999.00,9,  -999.0,      26,    26.8841, -999.00,9,     -999.0
33KB20130910,       PRS2,       2,          1,         17,       8017,2,20130911,       1149,  22.749500,-158.0185000,       4744,    25.4,  26.8906,  35.4944,2,  35.4949,2,    203.0,1,  -999.0,9, -999.00,9, -999.00,9,  -999.0,      25,    26.8848, -999.00,9,     -999.0
33KB20130910,       PRS2,       2,          1,         16,       8016,2,20130911,       1149,  22.749500,-158.0185000,       4744,    45.0,  26.8544,  35.4896,2,  35.4916,2,    204.3,1,  -999.0,9, -999.00,9, -999.00,9,  -999.0,      44,    26.8441, -999.00,9,     -999.0
33KB20130910,       PRS2,       2,          1,         15,       8015,2,20130911,       1149,  22.749500,-158.0185000,       4744,    45.0,  26.8579,  35.4894,2,  35.4918,2,    204.3,1,  -999.0,9, -999.00,9, -999.00,9,  -999.0,      44,    26.8476, -999.00,9,     -999.0
33KB20130910,       PRS2,       2,          1,         14,       8014,2,20130911,       1149,  22.749500,-158.0185000,       4744,    45.2,  26.8515,  35.4893,2,  35.4892,2,    204.3,1,  -999.0,9, -999.00,9, -999.00,9,  -999.0,      44,    26.8411, -999.00,9,     -999.0
33KB20130910,       PRS2,       2,          1,         13,       8025,2,20130911,       1149,  22.749500,-158.0185000,       4744,    75.5,  23.2388,  35.3746,2,  35.3748,2,    222.8,1,  -999.0,9, -999.00,9, -999.00,9,  -999.0,      75,    23.2233, -999.00,9,     -999.0
33KB20130910,       PRS2,       2,          1,         12,       8012,2,20130911,       1149,  22.749500,-158.0185000,       4744,    75.4,  23.2369,  35.3741,2,  35.3760,2,    222.6,1,  -999.0,9, -999.00,9, -999.00,9,  -999.0,      76,    23.2214, -999.00,9,     -999.0
33KB20130910,       PRS2,       2,          1,         11,       8011,2,20130911,       1149,  22.749500,-158.0185000,       4744,    75.6,  23.2362,  35.3744,2,  35.3731,2,    222.4,1,  -999.0,9, -999.00,9, -999.00,9,  -999.0,      76,    23.2206, -999.00,9,     -999.0
33KB20130910,       PRS2,       2,          1,         10,       8010,2,20130911,       1149,  22.749500,-158.0185000,       4744,   100.5,  22.0433,  35.3136,2,  35.3163,2,    214.1,1,  -999.0,9, -999.00,9, -999.00,9,  -999.0,     101,    22.0234, -999.00,9,     -999.0
33KB20130910,       PRS2,       2,          1,          9,       8009,2,20130911,       1149,  22.749500,-158.0185000,       4744,   100.6,  22.0226,  35.3122,2,  35.3135,2,    214.1,1,  -999.0,9, -999.00,9, -999.00,9,  -999.0,     101,    22.0027, -999.00,9,     -999.0
33KB20130910,       PRS2,       2,          1,          8,       8008,2,20130911,       1149,  22.749500,-158.0185000,       4744,   101.3,  22.0010,  35.3107,2,  35.3118,2,    214.0,1,  -999.0,9, -999.00,9, -999.00,9,  -999.0,      99,    21.9809, -999.00,9,     -999.0
33KB20130910,       PRS2,       2,          1,          7,       8026,2,20130911,       1149,  22.749500,-158.0185000,       4744,   126.2,  21.2858,  35.2850,2,  35.2854,2,    202.2,1,  -999.0,9, -999.00,9, -999.00,9,  -999.0,     125,    21.2614, -999.00,9,     -999.0
33KB20130910,       PRS2,       2,          1,          6,       8006,2,20130911,       1149,  22.749500,-158.0185000,       4744,   125.9,  21.2827,  35.2849,2,  35.2848,2,    203.0,1,  -999.0,9, -999.00,9, -999.00,9,  -999.0,     125,    21.2584, -999.00,9,     -999.0
33KB20130910,       PRS2,       2,          1,          5,       8005,2,20130911,       1149,  22.749500,-158.0185000,       4744,   125.8,  21.2825,  35.2848,2,  35.2850,2,    202.9,1,  -999.0,9, -999.00,9, -999.00,9,  -999.0,     125,    21.2582, -999.00,9,     -999.0
33KB20130910,       PRS2,       2,          1,          4,       8004,2,20130911,       1149,  22.749500,-158.0185000,       4744,   151.2,  20.2100,  35.1915,2,  35.1902,2,    203.5,1,  -999.0,9, -999.00,9, -999.00,9,  -999.0,     151,    20.1818, -999.00,9,     -999.0
33KB20130910,       PRS2,       2,          1,          3,       8003,2,20130911,       1149,  22.749500,-158.0185000,       4744,   175.5,  18.5114,  34.9217,2,  34.9331,2,    194.7,1,  -999.0,9, -999.00,9, -999.00,9,  -999.0,     175,    18.4807, -999.00,9,     -999.0
33KB20130910,       PRS2,       2,          1,          2,       8002,2,20130911,       1149,  22.749500,-158.0185000,       4744,   500.6,   7.1460,  34.0919,2,  34.0931,2,    100.9,1,  -999.0,9, -999.00,9, -999.00,9,  -999.0,     500,     7.0982, -999.00,9,     -999.0
33KB20130910,       PRS2,       2,          1,          1,       8001,2,20130911,       1149,  22.749500,-158.0185000,       4744,  1020.4,   3.8573,  34.4750,2,  34.4767,2,     47.5,1,  -999.0,9, -999.00,9, -999.00,9,  -999.0,    1019,     3.7811, -999.00,9,     -999.0
33KB20130910,       PRS2,       2,          2,         24,       8024,2,20130911,       1512,  22.749833,-158.0005000,       4743,     6.6,  26.8932,  35.4975,2,  35.4987,2,    202.8,2,   202.9,2,    1.03,2,    0.05,2,  -999.0,       7,    26.8917,    0.02,2,     -999.0
33KB20130910,       PRS2,       2,          2,         23,       8023,2,20130911,       1512,  22.749833,-158.0005000,       4743,   500.6,   7.4158,  34.0841,2,  34.0835,2,    109.1,2,   111.0,2,   45.93,2,    2.07,2,  -999.0,     501,     7.3670,   28.74,2,     -999.0
33KB20130910,       PRS2,       2,          2,         22,       8022,2,20130911,       1512,  22.749833,-158.0005000,       4743,   750.0,   4.5874,  34.2787,2,  34.2756,2,     39.0,2,    38.7,2,   95.96,2,    2.89,2,  -999.0,     749,     4.5290,   40.04,2,     -999.0
33KB20130910,       PRS2,       2,          2,         21,       8021,2,20130911,       1512,  22.749833,-158.0005000,       4743,  1000.4,   3.9121,  34.4580,2,  34.4585,2,     45.9,2,    45.6,2,  111.50,2,    2.94,2,  -999.0,    1002,     3.8371,   40.64,2,     -999.0
33KB20130910,       PRS2,       2,          2,         20,       8020,2,20130911,       1512,  22.749833,-158.0005000,       4743,  1202.1,   3.4670,  34.5178,2,  34.5178,2,     56.0,2,    56.1,2,  120.64,2,    2.91,2,  -999.0,    1204,     3.3791,   40.66,2,     -999.0
33KB20130910,       PRS2,       2,          2,         19,       8019,2,20130911,       1512,  22.749833,-158.0005000,       4743,  1400.1,   3.1137,  34.5443,2,  34.5451,2,     62.6,2,    63.8,2,  127.92,2,    2.90,2,  -999.0,    1401,     3.0130,   40.45,2,     -999.0
33KB20130910,       PRS2,       2,          2,         18,       8018,2,20130911,       1512,  22.749833,-158.0005000,       4743,  1600.3,   2.7267,  34.5706,2,  34.5714,2,     70.0,2,    70.1,2,  136.75,2,    2.85,2,  -999.0,    1601,     2.6138,   40.22,2,     -999.0
33KB20130910,       PRS2,       2,          2,         17,       8017,2,20130911,       1512,  22.749833,-158.0005000,       4743,  1800.7,   2.4423,  34.5979,2,  34.5975,2,     78.8,2,    79.1,2,  142.86,2,    2.82,2,  -999.0,    1800,     2.3163,   39.76,2,     -999.0
33KB20130910,       PRS2,       2,          2,         16,       8016,2,20130911,       1512,  22.749833,-158.0005000,       4743,  2001.8,   2.1552,  34.6173,2,  34.6170,2,     87.9,2,    88.2,2,  149.26,2,    2.79,2,  -999.0,    2001,     2.0163,   39.33,2,     -999.0
33KB20130910,       PRS2,       2,          2,         15,       8015,2,20130911,       1512,  22.749833,-158.0005000,       4743,  2201.6,   1.9629,  34.6325,2,  34.6329,2,     96.0,2,    96.5,2,  153.72,2,    2.75,2,  -999.0,    2200,     1.8099,   38.94,2,     -999.0
33KB20130910,       PRS2,       2,          2,         14,       8014,2,20130911,       1512,  22.749833,-158.0005000,       4743,  2400.5,   1.8167,  34.6440,2,  34.6451,2,    103.4,2,   103.8,2,  157.10,2,    2.70,2,  -999.0,    2401,     1.6487,   38.48,2,     -999.0
33KB20130910,       PRS2,       2,          2,         13,       8025,2,20130911,       1512,  22.749833,-158.0005000,       4743,  2601.0,   1.7311,  34.6518,2,  34.6521,2,    108.9,2,   109.1,2,  158.33,2,    2.68,2,  -999.0,    2600,     1.5467,   38.15,2,     -999.0
33KB20130910,       PRS2,       2,          2,         12,       8012,2,20130911,       1512,  22.749833,-158.0005000,       4743,  2800.8,   1.6264,  34.6588,2,  34.6594,2,    114.4,2,   114.9,2,  160.36,2,    2.66,2,  -999.0,    2801,     1.4257,   37.83,2,     -999.0
33KB20130910,       PRS2,       2,          2,         11,       8011,2,20130911,       1512,  22.749833,-158.0005000,       4743,  3001.0,   1.5560,  34.6668,2,  34.6663,2,    123.1,2,   123.4,2,  158.63,2,    2.60,2,  -999.0,    3000,     1.3379,   37.21,2,     -999.0
33KB20130910,       PRS2,       2,          2,         10,       8010,2,20130911,       1512,  22.749833,-158.0005000,       4743,  3199.9,   1.5072,  34.6733,2,  34.6726,2,    130.1,2,   130.8,2,  157.04,2,    2.56,2,  -999.0,    3201,     1.2709,   36.67,2,     -999.0
33KB20130910,       PRS2,       2,          2,          9,       8009,2,20130911,       1512,  22.749833,-158.0005000,       4743,  3400.5,   1.4854,  34.6774,2,  34.6773,2,    135.6,2,   135.3,2,  156.17,2,    2.53,2,  -999.0,    3402,     1.2297,   36.40,2,     -999.0
33KB20130910,       PRS2,       2,          2,          8,       8008,2,20130911,       1512,  22.749833,-158.0005000,       4743,  3600.9,   1.4663,  34.6810,2,  34.6810,2,    140.7,2,   140.5,2,  155.12,2,    2.51,2,  -999.0,    3601,     1.1907,   36.09,2,     -999.0
33KB20130910,       PRS2,       2,          2,          7,       8026,2,20130911,       1512,  22.749833,-158.0005000,       4743,  3800.8,   1.4571,  34.6837,2,  34.6836,2,    144.6,2,   144.3,2,  152.16,2,    2.47,2,  -999.0,    3802,     1.1608,   35.72,2,     -999.0
33KB20130910,       PRS2,       2,          2,          6,       8006,2,20130911,       1512,  22.749833,-158.0005000,       4743,  4000.1,   1.4589,  34.6854,2,  34.6853,2,    147.6,2,   147.2,2,  151.10,2,    2.46,2,  -999.0,    3999,     1.1411,   35.35,2,     -999.0
33KB20130910,       PRS2,       2,          2,          5,       8005,2,20130911,       1512,  22.749833,-158.0005000,       4743,  4200.8,   1.4657,  34.6869,2,  34.6861,2,    149.7,2,   149.5,2,  149.77,2,    2.45,2,  -999.0,    4202,     1.1257,   35.41,2,     -999.0
33KB20130910,       PRS2,       2,          2,          4,       8004,2,20130911,       1512,  22.749833,-158.0005000,       4743,  4400.4,   1.4794,  34.6877,2,  34.6867,2,    151.4,2,   151.1,2,  149.02,2,    2.44,2,  -999.0,    4401,     1.1165,   35.28,2,     -999.0
33KB20130910,       PRS2,       2,          2,          3,       8003,2,20130911,       1512,  22.749833,-158.0005000,       4743,  4500.8,   1.4896,  34.6879,2,  34.6875,2,    151.6,2,   151.5,2,  149.29,2,    2.45,2,  -999.0,    4498,     1.1149,   35.36,2,     -999.0
33KB20130910,       PRS2,       2,          2,          2,       8002,2,20130911,       1512,  22.749833,-158.0005000,       4743,  4601.2,   1.5002,  34.6883,2,  34.6887,2,    152.1,2,   151.6,2,  148.83,2,    2.43,2,  -999.0,    4601,     1.1135,   35.12,2,     -999.0
33KB20130910,       PRS2,       2,          2,          1,       8001,2,20130911,       1512,  22.749833,-158.0005000,       4743,  4808.8,   1.5053,  34.6896,2,  34.6903,2,    154.5,2,   154.7,2,  146.50,2,    2.42,2,  -999.0,    4809,     1.0939,   34.90,2,     -999.0