BOTTLE,20141031SIOCCHAMB
EXPOCODE,SECT_ID,STNNBR,CASTNO,SAMPNO,BTLNBR,BTLNBR_FLAG_W,DATE,TIME,LATITUDE,LONGITUDE,DEPTH,CTDPRS,CTDTMP,CTDSAL,CTDSAL_FLAG_W,SALNTY,SALNTY_FLAG_W,CTDOXY,CTDOXY_FLAG_W,OXYGEN,OXYGEN_FLAG_W,SILCAT,SILCAT_FLAG_W,PHSPHT,PHSPHT_FLAG_W,REVPRS,CTDRAW,THETA,NO2+NO3,NO2+NO3_FLAG_W,REVTMP
,,,,,,,,,,,METERS,DBAR,ITS-90,PSS-78,,PSS-78,,UMOL/KG,,UMOL/KG,,UMOL/KG,,UMOL/KG,,DBAR,DBAR,ITS-90,UMOL/KG,,DEG C
33KB20130910,       PRS2,       2,         14,         22,       8022,2,20130913,       0553,  22.749667,-157.9995000,       4740,     5.7,  26.9921,  35.4597,2,  35.4602,2,    203.4,1,  -999.0,9, -999.00,9, -999.00,9,  -999.0,       5,    26.9908, -999.00,9,     -999.0
33KB20130910,       PRS2,       2,         14,         21,       8021,2,20130913,       0553,  22.749667,-157.9995000,       4740,     5.6,  26.9926,  35.4589,2,  35.4624,2,    203.5,1,  -999.0,9, -999.00,9, -999.00,9,  -999.0,       4,    26.9913, -999.00,9,     -999.0
33KB20130910,       PRS2,       2,         14,         20,       8020,2,20130913,       0553,  22.749667,-157.9995000,       4740,    25.0,  26.9845,  35.5025,2,  35.5032,2,    203.7,1,  -999.0,9, -999.00,9, -999.00,9,  -999.0,      25,    26.9788, -999.00,9,     -999.0
33KB20130910,       PRS2,       2,         14,         19,       8019,2,20130913,       0553,  22.749667,-157.9995000,       4740,    25.1,  26.9847,  35.5024,2,  35.5034,2,    203.8,1,  -999.0,9, -999.00,9, -999.00,9,  -999.0,      24,    26.9789, -999.00,9,     -999.0
33KB20130910,       PRS2,       2,         14,         18,       8018,2,20130913,       0553,  22.749667,-157.9995000,       4740,    46.4,  26.9461,  35.5037,2,  35.5040,2,    204.1,1,  -999.0,9, -999.00,9, -999.00,9,  -999.0,      46,    26.9355, -999.00,9,     -999.0
33KB20130910,       PRS2,       2,         14,         17,       8017,2,20130913,       0553,  22.749667,-157.9995000,       4740,    46.1,  26.9452,  35.5036,2,  35.5040,2,    204.0,1,  -999.0,9, -999.00,9, -999.00,9,  -999.0,      45,    26.9346, -999.00,9,     -999.0
33KB20130910,       PRS2,       2,         14,         16,       8016,2,20130913,       0553,  22.749667,-157.9995000,       4740,    60.9,  25.9874,  35.4551,2,  35.4478,2,    214.9,1,  -999.0,9, -999.00,9, -999.00,9,  -999.0,      61,    25.9738, -999.00,9,     -999.0
33KB20130910,       PRS2,       2,         14,         15,       8015,2,20130913,       0553,  22.749667,-157.9995000,       4740,    75.4,  24.0811,  35.3932,2,  35.3936,2,    225.6,1,  -999.0,9, -999.00,9, -999.00,9,  -999.0,      75,    24.0651, -999.00,9,     -999.0
33KB20130910,       PRS2,       2,         14,         14,       8014,2,20130913,       0553,  22.749667,-157.9995000,       4740,    75.3,  24.0810,  35.3933,2,  35.3922,2,    225.7,1,  -999.0,9, -999.00,9, -999.00,9,  -999.0,      75,    24.0651, -999.00,9,     -999.0
33KB20130910,       PRS2,       2,         14,         13,       8025,2,20130913,       0553,  22.749667,-157.9995000,       4740,    84.8,  23.7091,  35.3802,2,  35.3802,2,    221.7,1,  -999.0,9, -999.00,9, -999.00,9,  -999.0,      84,    23.6914, -999.00,9,     -999.0
33KB20130910,       PRS2,       2,         14,         12,       8012,2,20130913,       0553,  22.749667,-157.9995000,       4740,    85.0,  23.6935,  35.3796,2,  35.3652,4,    221.9,1,  -999.0,9, -999.00,9, -999.00,9,  -999.0,      85,    23.6758, -999.00,9,     -999.0
33KB20130910,       PRS2,       2,         14,         11,       8011,2,20130913,       0553,  22.749667,-157.9995000,       4740,   100.4,  22.7837,  35.3617,2,  35.3640,2,    216.7,1,  -999.0,9, -999.00,9, -999.00,9,  -999.0,     100,    22.7634, -999.00,9,     -999.0
33KB20130910,       PRS2,       2,         14,         10,       8010,2,20130913,       0553,  22.749667,-157.9995000,       4740,   115.9,  22.1180,  35.3393,2,  35.3401,2,    213.4,1,  -999.0,9, -999.00,9, -999.00,9,  -999.0,     115,    22.0950, -999.00,9,     -999.0
33KB20130910,       PRS2,       2,         14,          9,       8009,2,20130913,       0553,  22.749667,-157.9995000,       4740,   125.1,  21.6970,  35.3219,2,  35.3279,2,    208.0,1,  -999.0,9, -999.00,9, -999.00,9,  -999.0,     125,    21.6725, -999.00,9,     -999.0
33KB20130910,       PRS2,       2,         14,          8,       8008,2,20130913,       0553,  22.749667,-157.9995000,       4740,   125.1,  21.6738,  35.3197,2,  35.3267,2,    208.0,1,  -999.0,9, -999.00,9, -999.00,9,  -999.0,     124,    21.6493, -999.00,9,     -999.0
33KB20130910,       PRS2,       2,         14,          7,       8026,2,20130913,       0553,  22.749667,-157.9995000,       4740,   136.5,  21.2736,  35.2805,2,  35.2834,2,    203.9,1,  -999.0,9, -999.00,9, -999.00,9,  -999.0,     136,    21.2472, -999.00,9,     -999.0
33KB20130910,       PRS2,       2,         14,          6,       8006,2,20130913,       0553,  22.749667,-157.9995000,       4740,   149.3,  21.1120,  35.2807,2,  35.3013,3,    203.4,1,  -999.0,9, -999.00,9, -999.00,9,  -999.0,     149,    21.0833, -999.00,9,     -999.0
33KB20130910,       PRS2,       2,         14,          5,       8005,2,20130913,       0553,  22.749667,-157.9995000,       4740,   149.4,  21.1145,  35.2833,2,  35.3216,4,    203.2,1,  -999.0,9, -999.00,9, -999.00,9,  -999.0,     148,    21.0858, -999.00,9,     -999.0
33KB20130910,       PRS2,       2,         14,          4,       8004,2,20130913,       0553,  22.749667,-157.9995000,       4740,   175.0,  20.2936,  35.2269,2,  35.2292,2,    198.8,1,  -999.0,9, -999.00,9, -999.00,9,  -999.0,     174,    20.2608, -999.00,9,     -999.0
33KB20130910,       PRS2,       2,         14,          3,       8003,2,20130913,       0553,  22.749667,-157.9995000,       4740,   175.1,  20.2819,  35.2256,2,  35.2274,2,    199.2,1,  -999.0,9, -999.00,9, -999.00,9,  -999.0,     174,    20.2492, -999.00,9,     -999.0
33KB20130910,       PRS2,       2,         14,          2,       8002,2,20130913,       0553,  22.749667,-157.9995000,       4740,   550.3,   6.1565,  34.0727,2,  34.0733,2,     87.7,1,  -999.0,9, -999.00,9, -999.00,9,  -999.0,     551,     6.1080, -999.00,9,     -999.0
33KB20130910,       PRS2,       2,         14,          1,       8001,2,20130913,       0553,  22.749667,-157.9995000,       4740,  1020.8,   3.8505,  34.4685,2,  34.4695,2,     47.1,1,  -999.0,9, -999.00,9, -999.00,9,  -999.0,    1020,     3.7743, -999.00,9,     -999.0
33KB20130910,       PRS2,       2,         15,         12,       8012,2,20130913,       0857,  22.749833,-158.0001667,       4742,     7.1,  26.9360,  35.4760,2,  35.4780,2,    203.7,2,   203.4,2, -999.00,9, -999.00,9,  -999.0,       6,    26.9344, -999.00,9,     -999.0
33KB20130910,       PRS2,       2,         15,         11,       8011,2,20130913,       0857,  22.749833,-158.0001667,       4742,    66.2,  24.1194,  35.3930,2,  35.3886,2,    225.2,2,   224.2,2, -999.00,9, -999.00,9,  -999.0,      66,    24.1054, -999.00,9,     -999.0
33KB20130910,       PRS2,       2,         15,         10,       8010,2,20130913,       0857,  22.749833,-158.0001667,       4742,   500.5,   7.4343,  34.0959,2,  34.0954,2,    105.3,2,   104.3,2, -999.00,9, -999.00,9,  -999.0,     500,     7.3855, -999.00,9,     -999.0
33KB20130910,       PRS2,       2,         15,          9,       8009,2,20130913,       0857,  22.749833,-158.0001667,       4742,   820.8,   4.4153,  34.3245,2,  34.3240,2,     37.3,2,    36.5,2, -999.00,9, -999.00,9,  -999.0,     820,     4.3519, -999.00,9,     -999.0
33KB20130910,       PRS2,       2,         15,          8,       8008,2,20130913,       0857,  22.749833,-158.0001667,       4742,  1000.6,   3.9164,  34.4567,2,-999.0000,5,     45.6,2,  -999.0,5, -999.00,9, -999.00,9,  -999.0,    1001,     3.8414, -999.00,9,     -999.0
33KB20130910,       PRS2,       2,         15,          7,       8026,2,20130913,       0857,  22.749833,-158.0001667,       4742,  2001.5,   2.1604,  34.6175,2,-999.0000,5,     87.7,2,  -999.0,5, -999.00,9, -999.00,9,  -999.0,    2000,     2.0215, -999.00,9,     -999.0
33KB20130910,       PRS2,       2,         15,          6,       8006,2,20130913,       0857,  22.749833,-158.0001667,       4742,  2001.0,   2.1600,  34.6176,2,  34.6176,2,     87.7,2,    87.8,2, -999.00,9, -999.00,9,  -999.0,    2002,     2.0211, -999.00,9,     -999.0
33KB20130910,       PRS2,       2,         15,          5,       8005,2,20130913,       0857,  22.749833,-158.0001667,       4742,  2999.8,   1.5631,  34.6660,2,-999.0000,5,    122.0,2,  -999.0,5, -999.00,9, -999.00,9,  -999.0,    2999,     1.3450, -999.00,9,     -999.0
33KB20130910,       PRS2,       2,         15,          4,       8004,2,20130913,       0857,  22.749833,-158.0001667,       4742,  3000.4,   1.5627,  34.6658,2,  34.6698,4,    122.0,3,   122.0,2, -999.00,9, -999.00,9,  -999.0,    3001,     1.3445, -999.00,9,     -999.0
33KB20130910,       PRS2,       2,         15,          3,       8003,2,20130913,       0857,  22.749833,-158.0001667,       4742,  3999.9,   1.4557,  34.6854,2,-999.0000,5,    147.6,2,  -999.0,5, -999.00,9, -999.00,9,  -999.0,    3999,     1.1381, -999.00,9,     -999.0
33KB20130910,       PRS2,       2,         15,          2,       8002,2,20130913,       0857,  22.749833,-158.0001667,       4742,  3999.9,   1.4557,  34.6853,2,  34.6855,2,    147.6,2,   147.7,2, -999.00,9, -999.00,9,  -999.0,    4000,     1.1380, -999.00,9,     -999.0
33KB20130910,       PRS2,       2,         15,          1,       8001,2,20130913,       0857,  22.749833,-158.0001667,       4742,  4809.5,   1.5050,  34.6893,2,  34.6916,2,    154.2,2,   154.7,2, -999.00,9, -999.00,9,  -999.0,    4811,     1.0935, -999.00,9,     -999.0
33KB20130910,       PRS2,       6,          1,         13,       8025,2,20130914,       0550,  21.845000,-158.3630000,       2426,     6.3,  26.9807,  35.3360,2,  35.3372,2,    203.6,1,  -999.0,9, -999.00,9, -999.00,9,  -999.0,       5,    26.9792, -999.00,9,     -999.0
33KB20130910,       PRS2,       6,          1,         12,       8012,2,20130914,       0550,  21.845000,-158.3630000,       2426,    25.6,  26.9816,  35.3361,2,  35.3390,2,    203.8,1,  -999.0,9, -999.00,9, -999.00,9,  -999.0,      24,    26.9757, -999.00,9,     -999.0
33KB20130910,       PRS2,       6,          1,         11,       8011,2,20130914,       0550,  21.845000,-158.3630000,       2426,    45.5,  26.8052,  35.4397,2,  35.4403,2,    204.9,1,  -999.0,9, -999.00,9, -999.00,9,  -999.0,      45,    26.7948, -999.00,9,     -999.0
33KB20130910,       PRS2,       6,          1,         10,       8010,2,20130914,       0550,  21.845000,-158.3630000,       2426,    74.9,  23.4317,  35.3580,2,  35.3585,2,    223.5,1,  -999.0,9, -999.00,9, -999.00,9,  -999.0,      75,    23.4162, -999.00,9,     -999.0
33KB20130910,       PRS2,       6,          1,          9,       8009,2,20130914,       0550,  21.845000,-158.3630000,       2426,   101.4,  21.9876,  35.3524,2,  35.3502,2,    213.6,1,  -999.0,9, -999.00,9, -999.00,9,  -999.0,     100,    21.9676, -999.00,9,     -999.0
33KB20130910,       PRS2,       6,          1,          8,       8008,2,20130914,       0550,  21.845000,-158.3630000,       2426,   125.5,  21.1793,  35.2941,2,  35.2909,2,    215.6,1,  -999.0,9, -999.00,9, -999.00,9,  -999.0,     125,    21.1551, -999.00,9,     -999.0
33KB20130910,       PRS2,       6,          1,          7,       8026,2,20130914,       0550,  21.845000,-158.3630000,       2426,   150.5,  20.5803,  35.2464,2,  35.2440,2,    206.7,1,  -999.0,9, -999.00,9, -999.00,9,  -999.0,     150,    20.5519, -999.00,9,     -999.0
33KB20130910,       PRS2,       6,          1,          6,       8006,2,20130914,       0550,  21.845000,-158.3630000,       2426,   175.8,  19.3938,  35.0494,2,  35.0537,2,    199.0,1,  -999.0,9, -999.00,9, -999.00,9,  -999.0,     175,    19.3620, -999.00,9,     -999.0
33KB20130910,       PRS2,       6,          1,          5,       8005,2,20130914,       0550,  21.845000,-158.3630000,       2426,   500.8,   6.0660,  34.0911,2,  34.0925,2,     74.1,1,  -999.0,9, -999.00,9, -999.00,9,  -999.0,     501,     6.0223, -999.00,9,     -999.0
33KB20130910,       PRS2,       6,          1,          4,       8004,2,20130914,       0550,  21.845000,-158.3630000,       2426,  1000.5,   4.0997,  34.4971,2,  34.4960,2,     43.9,1,  -999.0,9, -999.00,9, -999.00,9,  -999.0,    1000,     4.0232, -999.00,9,     -999.0
33KB20130910,       PRS2,       6,          1,          3,       8003,2,20130914,       0550,  21.845000,-158.3630000,       2426,  1500.6,   2.9649,  34.5678,2,  34.5684,2,     64.3,1,  -999.0,9, -999.00,9, -999.00,9,  -999.0,    1500,     2.8574, -999.00,9,     -999.0
33KB20130910,       PRS2,       6,          1,          2,       8002,2,20130914,       0550,  21.845000,-158.3630000,       2426,  1999.5,   2.1607,  34.6192,2,  34.6189,2,     89.5,1,  -999.0,9, -999.00,9, -999.00,9,  -999.0,    1998,     2.0219, -999.00,9,     -999.0
33KB20130910,       PRS2,       6,          1,          1,       8001,2,20130914,       0550,  21.845000,-158.3630000,       2426,  2450.8,   1.8217,  34.6452,2,  34.6453,2,    106.1,1,  -999.0,9, -999.00,9, -999.00,9,  -999.0,    2449,     1.6491, -999.00,9,     -999.0
33KB20130910,       PRS2,      52,          1,          6,       8006,2,20130913,       2213,  22.649167,-157.9768333,       4756,     3.0,  26.9242,  35.4877,2,-999.0000,9,    202.5,1,  -999.0,9, -999.00,9, -999.00,9,  -999.0,       3,    26.9236, -999.00,9,     -999.0
33KB20130910,       PRS2,      52,          1,          5,       8005,2,20130913,       2213,  22.649167,-157.9768333,       4756,    25.6,  26.8467,  35.4857,2,-999.0000,9,    203.5,1,  -999.0,9, -999.00,9, -999.00,9,  -999.0,      25,    26.8408, -999.00,9,     -999.0
33KB20130910,       PRS2,      52,          1,          4,       8004,2,20130913,       2213,  22.649167,-157.9768333,       4756,    25.6,  26.8460,  35.4856,2,-999.0000,9,    203.4,1,  -999.0,9, -999.00,9, -999.00,9,  -999.0,      25,    26.8401, -999.00,9,     -999.0
33KB20130910,       PRS2,      52,          1,          3,       8003,2,20130913,       2213,  22.649167,-157.9768333,       4756,    25.5,  26.8443,  35.4855,2,-999.0000,9,    203.4,1,  -999.0,9, -999.00,9, -999.00,9,  -999.0,      25,    26.8385, -999.00,9,     -999.0
33KB20130910,       PRS2,      52,          1,          2,       8002,2,20130913,       2213,  22.649167,-157.9768333,       4756,    25.5,  26.8424,  35.4854,2,-999.0000,9,    202.4,1,  -999.0,9, -999.00,9, -999.00,9,  -999.0,      25,    26.8365, -999.00,9,     -999.0
33KB20130910,       PRS2,      52,          1,          1,       8001,2,20130913,       2213,  22.649167,-157.9768333,       4756,    25.5,  26.8425,  35.4853,2,-999.0000,9,    202.3,1,  -999.0,9, -999.00,9, -999.00,9,  -999.0,      24,    26.8367, -999.00,9,     -999.0