BOTTLE,20141031SIOCCHAMB
EXPOCODE,SECT_ID,STNNBR,CASTNO,SAMPNO,BTLNBR,BTLNBR_FLAG_W,DATE,TIME,LATITUDE,LONGITUDE,DEPTH,CTDPRS,CTDTMP,CTDSAL,CTDSAL_FLAG_W,SALNTY,SALNTY_FLAG_W,CTDOXY,CTDOXY_FLAG_W,OXYGEN,OXYGEN_FLAG_W,SILCAT,SILCAT_FLAG_W,PHSPHT,PHSPHT_FLAG_W,REVPRS,CTDRAW,THETA,NO2+NO3,NO2+NO3_FLAG_W,REVTMP
,,,,,,,,,,,METERS,DBAR,ITS-90,PSS-78,,PSS-78,,UMOL/KG,,UMOL/KG,,UMOL/KG,,UMOL/KG,,DBAR,DBAR,ITS-90,UMOL/KG,,DEG C
33KB20130910,       PRS2,       2,          3,         24,       8024,2,20130911,       2115,  22.749833,-158.0000000,       4743,    30.9,  26.8965,  35.4974,2,  35.4973,2,    203.2,2,   203.1,2,    1.12,2,    0.37,3,  -999.0,      30,    26.8894,    0.04,2,     -999.0
33KB20130910,       PRS2,       2,          3,         23,       8023,2,20130911,       2115,  22.749833,-158.0000000,       4743,    55.1,  26.2887,  35.4562,2,  35.4525,2,    210.2,2,   212.8,2,    1.19,2,    0.04,2,  -999.0,      56,    26.2762,    0.05,2,     -999.0
33KB20130910,       PRS2,       2,          3,         22,       8022,2,20130911,       2115,  22.749833,-158.0000000,       4743,    70.5,  24.5142,  35.4054,2,  35.4007,2,    225.2,2,   223.8,2,    1.28,2,    0.02,2,  -999.0,      69,    24.4991,    0.04,2,     -999.0
33KB20130910,       PRS2,       2,          3,         21,       8021,2,20130911,       2115,  22.749833,-158.0000000,       4743,   108.7,  21.7436,  35.3136,2,  35.3070,2,    208.0,2,   205.6,2,    1.68,2,    0.09,2,  -999.0,     109,    21.7222,    0.40,2,     -999.0
33KB20130910,       PRS2,       2,          3,         20,       8020,2,20130911,       2115,  22.749833,-158.0000000,       4743,   120.9,  21.2608,  35.3066,2,  35.2995,2,    204.6,2,   203.7,2,    1.70,2,    0.10,2,  -999.0,     121,    21.2375,    0.71,2,     -999.0
33KB20130910,       PRS2,       2,          3,         19,       8019,2,20130911,       2115,  22.749833,-158.0000000,       4743,   141.0,  20.9714,  35.3365,2,  35.3512,4,    200.2,3,   201.7,2,    1.70,2,    0.12,2,  -999.0,     140,    20.9444,    0.89,2,     -999.0
33KB20130910,       PRS2,       2,          3,         18,       8018,2,20130911,       2115,  22.749833,-158.0000000,       4743,   160.3,  19.9718,  35.1698,2,  35.1729,2,    198.9,2,   200.2,2,    2.25,2,    0.15,2,  -999.0,     160,    19.9421,    1.63,2,     -999.0
33KB20130910,       PRS2,       2,          3,         17,       8017,2,20130911,       2115,  22.749833,-158.0000000,       4743,   188.9,  18.4483,  34.9094,2,  34.9067,2,    194.1,2,   195.1,2,    3.22,2,    0.26,2,  -999.0,     188,    18.4153,    3.11,2,     -999.0
33KB20130910,       PRS2,       2,          3,         16,       8016,2,20130911,       2115,  22.749833,-158.0000000,       4743,   226.0,  15.2185,  34.4875,2,  34.4834,2,    197.2,2,   199.1,2,    6.11,2,    0.47,2,  -999.0,     226,    15.1840,    6.36,2,     -999.0
33KB20130910,       PRS2,       2,          3,         15,       8015,2,20130911,       2115,  22.749833,-158.0000000,       4743,   315.6,  11.8522,  34.1935,2,  34.1922,2,    186.9,2,   187.1,2,   13.38,2,    0.97,2,  -999.0,     315,    11.8115,   13.16,2,     -999.0
33KB20130910,       PRS2,       2,          3,         14,       8014,2,20130911,       2115,  22.749833,-158.0000000,       4743,   350.4,  10.8852,  34.1744,2,  34.1744,2,    176.1,2,   184.3,2,   17.38,2,    1.13,2,  -999.0,     352,    10.8424,   15.62,2,     -999.0
33KB20130910,       PRS2,       2,          3,         13,       8025,2,20130911,       2115,  22.749833,-158.0000000,       4743,   367.0,  10.3470,  34.1512,2,  34.1523,2,    177.0,2,   176.7,2,   20.28,2,    1.26,2,  -999.0,     366,    10.3036,   17.38,2,     -999.0
33KB20130910,       PRS2,       2,          3,         12,       8012,2,20130911,       2115,  22.749833,-158.0000000,       4743,   401.0,   9.4002,  34.1028,2,  34.1040,2,    185.8,2,   185.1,2,   23.98,2,    1.32,2,  -999.0,     400,     9.3554,   18.72,2,     -999.0
33KB20130910,       PRS2,       2,          3,         11,       8011,2,20130911,       2115,  22.749833,-158.0000000,       4743,   424.8,   9.0412,  34.0924,2,  34.0952,2,    177.6,2,   173.4,2,   27.43,2,    1.44,2,  -999.0,     424,     8.9948,   20.41,2,     -999.0
33KB20130910,       PRS2,       2,          3,         10,       8010,2,20130911,       2115,  22.749833,-158.0000000,       4743,   481.0,   7.8832,  34.0631,2,  34.0619,2,    134.6,2,   135.0,2,   39.59,2,    1.87,2,  -999.0,     481,     7.8347,   26.30,2,     -999.0
33KB20130910,       PRS2,       2,          3,          9,       8009,2,20130911,       2115,  22.749833,-158.0000000,       4743,   495.1,   7.7199,  34.0723,2,  34.0739,2,    124.0,2,   122.5,2,   42.78,2,    1.98,2,  -999.0,     495,     7.6705,   27.56,2,     -999.0
33KB20130910,       PRS2,       2,          3,          8,       8008,2,20130911,       2115,  22.749833,-158.0000000,       4743,   541.1,   6.8669,  34.0885,2,  34.0884,2,     94.7,2,    94.7,2,   54.36,2,    2.28,2,  -999.0,     539,     6.8163,   31.59,2,     -999.0
33KB20130910,       PRS2,       2,          3,          7,       8026,2,20130911,       2115,  22.749833,-158.0000000,       4743,   603.9,   5.9575,  34.0811,2,  34.0813,2,     80.0,2,    79.9,2,   66.46,2,    2.48,2,  -999.0,     604,     5.9049,   34.69,2,     -999.0
33KB20130910,       PRS2,       2,          3,          6,       8006,2,20130911,       2115,  22.749833,-158.0000000,       4743,   639.4,   5.3132,  34.1171,2,  34.1183,2,     59.9,2,    59.8,2,   78.92,2,    2.69,2,  -999.0,     637,     5.2604,   37.41,2,     -999.0
33KB20130910,       PRS2,       2,          3,          5,       8005,2,20130911,       2115,  22.749833,-158.0000000,       4743,   690.5,   4.7833,  34.1913,2,  34.1930,2,     42.0,2,    41.5,2,   91.67,2,    2.86,2,  -999.0,     689,     4.7288,   39.77,2,     -999.0
33KB20130910,       PRS2,       2,          3,          4,       8004,2,20130911,       2115,  22.749833,-158.0000000,       4743,   757.7,   4.4821,  34.3019,2,  34.3017,2,     38.5,2,    38.1,2,   99.66,2,    2.94,2,  -999.0,     757,     4.4236,   40.72,2,     -999.0
33KB20130910,       PRS2,       2,          3,          3,       8003,2,20130911,       2115,  22.749833,-158.0000000,       4743,   800.3,   4.4626,  34.3602,2,  34.3564,2,     36.7,2,    36.6,2,  101.09,2,    2.96,2,  -999.0,     800,     4.4006,   40.95,2,     -999.0
33KB20130910,       PRS2,       2,          3,          2,       8002,2,20130911,       2115,  22.749833,-158.0000000,       4743,   851.7,   4.3193,  34.3863,2,  34.3870,2,     37.7,2,    37.8,2,  103.70,2,    2.97,2,  -999.0,     852,     4.2538,   41.18,2,     -999.0
33KB20130910,       PRS2,       2,          3,          1,       8001,2,20130911,       2115,  22.749833,-158.0000000,       4743,  1020.6,   3.8682,  34.4642,2,  34.4661,2,     46.5,2,    47.1,2,  112.56,2,    2.94,2,  -999.0,    1018,     3.7919,   40.85,2,     -999.0
33KB20130910,       PRS2,       2,          4,         14,       8014,2,20130912,       0027,  22.749667,-157.9985000,       4743,    11.0,  26.8998,  35.4944,2,  35.4947,2,    204.2,1,  -999.0,9, -999.00,9, -999.00,9,  -999.0,      11,    26.8973, -999.00,9,     -999.0
33KB20130910,       PRS2,       2,          4,         13,       8025,2,20130912,       0027,  22.749667,-157.9985000,       4743,    24.7,  26.8672,  35.4922,2,  35.4935,2,    203.6,1,  -999.0,9, -999.00,9, -999.00,9,  -999.0,      24,    26.8615, -999.00,9,     -999.0
33KB20130910,       PRS2,       2,          4,         12,       8012,2,20130912,       0027,  22.749667,-157.9985000,       4743,    45.0,  26.4049,  35.4566,2,  35.4582,2,    208.2,1,  -999.0,9, -999.00,9, -999.00,9,  -999.0,      46,    26.3947, -999.00,9,     -999.0
33KB20130910,       PRS2,       2,          4,         11,       8011,2,20130912,       0027,  22.749667,-157.9985000,       4743,    74.7,  22.8891,  35.3554,2,  35.3660,2,    221.6,1,  -999.0,9, -999.00,9, -999.00,9,  -999.0,      75,    22.8739, -999.00,9,     -999.0
33KB20130910,       PRS2,       2,          4,         10,       8010,2,20130912,       0027,  22.749667,-157.9985000,       4743,    99.8,  21.5503,  35.3027,2,  35.3108,2,    205.6,1,  -999.0,9, -999.00,9, -999.00,9,  -999.0,      99,    21.5309, -999.00,9,     -999.0
33KB20130910,       PRS2,       2,          4,          9,       8009,2,20130912,       0027,  22.749667,-157.9985000,       4743,   125.5,  21.1083,  35.3477,2,  35.3457,2,    200.9,1,  -999.0,9, -999.00,9, -999.00,9,  -999.0,     125,    21.0841, -999.00,9,     -999.0
33KB20130910,       PRS2,       2,          4,          8,       8008,2,20130912,       0027,  22.749667,-157.9985000,       4743,   151.6,  20.0907,  35.1917,2,  35.1949,2,    199.9,1,  -999.0,9, -999.00,9, -999.00,9,  -999.0,     149,    20.0626, -999.00,9,     -999.0
33KB20130910,       PRS2,       2,          4,          7,       8026,2,20130912,       0027,  22.749667,-157.9985000,       4743,   175.7,  18.9896,  35.0030,2,  35.0106,2,    196.6,1,  -999.0,9, -999.00,9, -999.00,9,  -999.0,     176,    18.9583, -999.00,9,     -999.0
33KB20130910,       PRS2,       2,          4,          6,       8006,2,20130912,       0027,  22.749667,-157.9985000,       4743,   200.8,  17.4233,  34.7585,2,  34.7622,2,    195.0,1,  -999.0,9, -999.00,9, -999.00,9,  -999.0,     200,    17.3896, -999.00,9,     -999.0
33KB20130910,       PRS2,       2,          4,          5,       8005,2,20130912,       0027,  22.749667,-157.9985000,       4743,   250.0,  14.4135,  34.4193,2,  34.4206,2,    200.2,1,  -999.0,9, -999.00,9, -999.00,9,  -999.0,     250,    14.3767, -999.00,9,     -999.0
33KB20130910,       PRS2,       2,          4,          4,       8004,2,20130912,       0027,  22.749667,-157.9985000,       4743,   351.2,  10.5867,  34.1620,2,  34.1609,2,    185.2,1,  -999.0,9, -999.00,9, -999.00,9,  -999.0,     351,    10.5446, -999.00,9,     -999.0
33KB20130910,       PRS2,       2,          4,          3,       8003,2,20130912,       0027,  22.749667,-157.9985000,       4743,   351.4,  10.5820,  34.1599,2,  34.1605,2,    185.6,1,  -999.0,9, -999.00,9, -999.00,9,  -999.0,     351,    10.5398, -999.00,9,     -999.0
33KB20130910,       PRS2,       2,          4,          2,       8002,2,20130912,       0027,  22.749667,-157.9985000,       4743,   460.1,   7.9866,  34.0624,2,  34.0627,2,    141.9,1,  -999.0,9, -999.00,9, -999.00,9,  -999.0,     461,     7.9399, -999.00,9,     -999.0
33KB20130910,       PRS2,       2,          4,          1,       8001,2,20130912,       0027,  22.749667,-157.9985000,       4743,  1019.4,   3.8716,  34.4648,2,  34.4638,2,     46.6,1,  -999.0,9, -999.00,9, -999.00,9,  -999.0,    1021,     3.7954, -999.00,9,     -999.0
33KB20130910,       PRS2,       2,          5,         14,       8014,2,20130912,       0253,  22.732000,-158.0345000,       4751,     7.3,  26.9810,  35.4967,2,  35.5105,4,    203.4,1,  -999.0,9, -999.00,9, -999.00,9,  -999.0,       7,    26.9793, -999.00,9,     -999.0
33KB20130910,       PRS2,       2,          5,         13,       8025,2,20130912,       0253,  22.732000,-158.0345000,       4751,    25.6,  26.9016,  35.4934,2,  35.4949,2,    204.3,1,  -999.0,9, -999.00,9, -999.00,9,  -999.0,      25,    26.8958, -999.00,9,     -999.0
33KB20130910,       PRS2,       2,          5,         12,       8012,2,20130912,       0253,  22.732000,-158.0345000,       4751,    45.9,  26.6538,  35.4760,2,  35.4742,2,    205.8,1,  -999.0,9, -999.00,9, -999.00,9,  -999.0,      45,    26.6433, -999.00,9,     -999.0
33KB20130910,       PRS2,       2,          5,         11,       8011,2,20130912,       0253,  22.732000,-158.0345000,       4751,    74.9,  23.6626,  35.3804,2,  35.3835,2,    224.0,1,  -999.0,9, -999.00,9, -999.00,9,  -999.0,      75,    23.6470, -999.00,9,     -999.0
33KB20130910,       PRS2,       2,          5,         10,       8010,2,20130912,       0253,  22.732000,-158.0345000,       4751,   100.4,  22.0518,  35.3211,2,  35.3228,2,    215.1,1,  -999.0,9, -999.00,9, -999.00,9,  -999.0,     100,    22.0319, -999.00,9,     -999.0
33KB20130910,       PRS2,       2,          5,          9,       8009,2,20130912,       0253,  22.732000,-158.0345000,       4751,   124.7,  21.1538,  35.2772,2,  35.2710,2,    203.2,1,  -999.0,9, -999.00,9, -999.00,9,  -999.0,     125,    21.1298, -999.00,9,     -999.0
33KB20130910,       PRS2,       2,          5,          8,       8008,2,20130912,       0253,  22.732000,-158.0345000,       4751,   149.2,  20.5253,  35.2427,2,  35.2389,2,    204.8,1,  -999.0,9, -999.00,9, -999.00,9,  -999.0,     149,    20.4972, -999.00,9,     -999.0
33KB20130910,       PRS2,       2,          5,          7,       8026,2,20130912,       0253,  22.732000,-158.0345000,       4751,   176.2,  19.4635,  35.0771,2,  35.0870,2,    197.7,1,  -999.0,9, -999.00,9, -999.00,9,  -999.0,     177,    19.4316, -999.00,9,     -999.0
33KB20130910,       PRS2,       2,          5,          6,       8006,2,20130912,       0253,  22.732000,-158.0345000,       4751,   200.6,  18.1854,  34.8613,2,  34.8481,2,    196.4,1,  -999.0,9, -999.00,9, -999.00,9,  -999.0,     200,    18.1507, -999.00,9,     -999.0
33KB20130910,       PRS2,       2,          5,          5,       8005,2,20130912,       0253,  22.732000,-158.0345000,       4751,   250.0,  15.1336,  34.4730,2,  34.4722,2,    196.4,1,  -999.0,9, -999.00,9, -999.00,9,  -999.0,     252,    15.0956, -999.00,9,     -999.0
33KB20130910,       PRS2,       2,          5,          4,       8004,2,20130912,       0253,  22.732000,-158.0345000,       4751,   350.7,  11.2599,  34.2050,2,  34.2050,2,    208.6,1,  -999.0,9, -999.00,9, -999.00,9,  -999.0,     350,    11.2161, -999.00,9,     -999.0
33KB20130910,       PRS2,       2,          5,          3,       8003,2,20130912,       0253,  22.732000,-158.0345000,       4751,   350.4,  11.2598,  34.2048,2,  34.2056,2,    209.1,1,  -999.0,9, -999.00,9, -999.00,9,  -999.0,     350,    11.2160, -999.00,9,     -999.0
33KB20130910,       PRS2,       2,          5,          2,       8002,2,20130912,       0253,  22.732000,-158.0345000,       4751,   465.5,   7.9898,  34.0628,2,  34.0633,2,    139.6,1,  -999.0,9, -999.00,9, -999.00,9,  -999.0,     465,     7.9426, -999.00,9,     -999.0
33KB20130910,       PRS2,       2,          5,          1,       8001,2,20130912,       0253,  22.732000,-158.0345000,       4751,  1020.1,   3.8356,  34.4759,2,  34.4769,2,     48.1,1,  -999.0,9, -999.00,9, -999.00,9,  -999.0,    1018,     3.7596, -999.00,9,     -999.0