BOTTLE,20141031SIOCCHAMB
EXPOCODE,SECT_ID,STNNBR,CASTNO,SAMPNO,BTLNBR,BTLNBR_FLAG_W,DATE,TIME,LATITUDE,LONGITUDE,DEPTH,CTDPRS,CTDTMP,CTDSAL,CTDSAL_FLAG_W,SALNTY,SALNTY_FLAG_W,CTDOXY,CTDOXY_FLAG_W,OXYGEN,OXYGEN_FLAG_W,SILCAT,SILCAT_FLAG_W,PHSPHT,PHSPHT_FLAG_W,REVPRS,CTDRAW,THETA,NO2+NO3,NO2+NO3_FLAG_W,REVTMP
,,,,,,,,,,,METERS,DBAR,ITS-90,PSS-78,,PSS-78,,UMOL/KG,,UMOL/KG,,UMOL/KG,,UMOL/KG,,DBAR,DBAR,ITS-90,UMOL/KG,,DEG C
33KB20130910,       PRS2,       2,          6,         23,       8023,2,20130912,       0548,  22.749333,-158.0000000,       4743,     7.3,  26.9499,  35.5017,2,  35.5008,2,    204.4,2,  -999.0,5, -999.00,9, -999.00,9,  -999.0,       7,    26.9482, -999.00,9,     -999.0
33KB20130910,       PRS2,       2,          6,         22,       8022,2,20130912,       0548,  22.749333,-158.0000000,       4743,     7.4,  26.9467,  35.5016,2,  35.5006,2,    203.4,2,   203.4,2, -999.00,9, -999.00,9,  -999.0,       7,    26.9450, -999.00,9,     -999.0
33KB20130910,       PRS2,       2,          6,         21,       8021,2,20130912,       0548,  22.749333,-158.0000000,       4743,    17.4,  26.9347,  35.4998,2,  35.4995,2,    204.0,2,  -999.0,5, -999.00,9, -999.00,9,  -999.0,      17,    26.9307, -999.00,9,     -999.0
33KB20130910,       PRS2,       2,          6,         20,       8020,2,20130912,       0548,  22.749333,-158.0000000,       4743,    26.7,  26.9098,  35.4980,2,  35.4979,2,    204.1,2,  -999.0,5, -999.00,9, -999.00,9,  -999.0,      26,    26.9037, -999.00,9,     -999.0
33KB20130910,       PRS2,       2,          6,         19,       8019,2,20130912,       0548,  22.749333,-158.0000000,       4743,    26.9,  26.9103,  35.4980,2,  35.4977,2,    204.0,2,   204.0,2, -999.00,9, -999.00,9,  -999.0,      26,    26.9041, -999.00,9,     -999.0
33KB20130910,       PRS2,       2,          6,         18,       8018,2,20130912,       0548,  22.749333,-158.0000000,       4743,    35.3,  26.8719,  35.4958,2,  35.4953,2,    205.7,2,  -999.0,5, -999.00,9, -999.00,9,  -999.0,      36,    26.8638, -999.00,9,     -999.0
33KB20130910,       PRS2,       2,          6,         17,       8017,2,20130912,       0548,  22.749333,-158.0000000,       4743,    46.3,  26.5408,  35.4845,2,  35.4760,2,    208.5,2,   210.0,2, -999.00,9, -999.00,9,  -999.0,      47,    26.5303, -999.00,9,     -999.0
33KB20130910,       PRS2,       2,          6,         16,       8016,2,20130912,       0548,  22.749333,-158.0000000,       4743,    60.0,  24.8079,  35.4180,2,  35.4056,2,    224.4,2,  -999.0,5, -999.00,9, -999.00,9,  -999.0,      60,    24.7949, -999.00,9,     -999.0
33KB20130910,       PRS2,       2,          6,         15,       8015,2,20130912,       0548,  22.749333,-158.0000000,       4743,    75.1,  24.0959,  35.3946,2,  35.3934,2,    225.2,2,   224.9,2, -999.00,9, -999.00,9,  -999.0,      75,    24.0800, -999.00,9,     -999.0
33KB20130910,       PRS2,       2,          6,         14,       8014,2,20130912,       0548,  22.749333,-158.0000000,       4743,    85.6,  23.6766,  35.3833,2,  35.3792,2,    224.0,2,   222.6,2, -999.00,9, -999.00,9,  -999.0,      85,    23.6587, -999.00,9,     -999.0
33KB20130910,       PRS2,       2,          6,         13,       8025,2,20130912,       0548,  22.749333,-158.0000000,       4743,    90.5,  23.0685,  35.3705,2,  35.3711,2,    219.6,2,  -999.0,5, -999.00,9, -999.00,9,  -999.0,      91,    23.0500, -999.00,9,     -999.0
33KB20130910,       PRS2,       2,          6,         12,       8012,2,20130912,       0548,  22.749333,-158.0000000,       4743,   100.6,  22.6512,  35.3643,2,  35.3634,2,    217.4,2,   215.0,2, -999.00,9, -999.00,9,  -999.0,     101,    22.6309, -999.00,9,     -999.0
33KB20130910,       PRS2,       2,          6,         11,       8011,2,20130912,       0548,  22.749333,-158.0000000,       4743,   110.2,  22.3927,  35.3559,2,  35.3587,2,    212.2,2,  -999.0,5, -999.00,9, -999.00,9,  -999.0,     111,    22.3706, -999.00,9,     -999.0
33KB20130910,       PRS2,       2,          6,         10,       8010,2,20130912,       0548,  22.749333,-158.0000000,       4743,   115.5,  22.2295,  35.3476,2,  35.3537,2,    211.8,2,   212.2,2, -999.00,9, -999.00,9,  -999.0,     114,    22.2065, -999.00,9,     -999.0
33KB20130910,       PRS2,       2,          6,          9,       8009,2,20130912,       0548,  22.749333,-158.0000000,       4743,   125.9,  21.5858,  35.3137,2,  35.3295,3,    207.5,3,   207.6,2, -999.00,9, -999.00,9,  -999.0,     125,    21.5612, -999.00,9,     -999.0
33KB20130910,       PRS2,       2,          6,          8,       8008,2,20130912,       0548,  22.749333,-158.0000000,       4743,   130.0,  21.4329,  35.3101,2,  35.3106,2,    203.2,2,  -999.0,5, -999.00,9, -999.00,9,  -999.0,     129,    21.4077, -999.00,9,     -999.0
33KB20130910,       PRS2,       2,          6,          7,       8026,2,20130912,       0548,  22.749333,-158.0000000,       4743,   150.3,  21.2449,  35.3638,2,  35.3559,2,    202.0,2,   202.3,2, -999.00,9, -999.00,9,  -999.0,     150,    21.2159, -999.00,9,     -999.0
33KB20130910,       PRS2,       2,          6,          6,       8006,2,20130912,       0548,  22.749333,-158.0000000,       4743,   165.5,  20.8853,  35.3263,2,  35.3181,2,    200.3,2,   200.3,2, -999.00,9, -999.00,9,  -999.0,     165,    20.8537, -999.00,9,     -999.0
33KB20130910,       PRS2,       2,          6,          5,       8005,2,20130912,       0548,  22.749333,-158.0000000,       4743,   175.1,  20.6276,  35.2793,2,  35.2739,2,    201.1,2,   200.2,2, -999.00,9, -999.00,9,  -999.0,     175,    20.5945, -999.00,9,     -999.0
33KB20130910,       PRS2,       2,          6,          4,       8004,2,20130912,       0548,  22.749333,-158.0000000,       4743,   201.6,  19.4985,  35.0913,2,  35.0959,2,    197.5,2,   197.8,2, -999.00,9, -999.00,9,  -999.0,     201,    19.4619, -999.00,9,     -999.0
33KB20130910,       PRS2,       2,          6,          3,       8003,2,20130912,       0548,  22.749333,-158.0000000,       4743,   486.0,   7.8451,  34.0614,2,  34.0601,2,    136.5,2,   135.4,2, -999.00,9, -999.00,9,  -999.0,     485,     7.7962, -999.00,9,     -999.0
33KB20130910,       PRS2,       2,          6,          2,       8002,2,20130912,       0548,  22.749333,-158.0000000,       4743,   831.1,   4.3825,  34.3449,2,  34.3409,2,     36.4,2,    36.3,2, -999.00,9, -999.00,9,  -999.0,     831,     4.3184, -999.00,9,     -999.0
33KB20130910,       PRS2,       2,          6,          1,       8001,2,20130912,       0548,  22.749333,-158.0000000,       4743,  1020.6,   3.8360,  34.4659,2,  34.4659,2,     46.9,2,    47.0,2, -999.00,9, -999.00,9,  -999.0,    1021,     3.7600, -999.00,9,     -999.0
33KB20130910,       PRS2,       2,          7,         10,       8010,2,20130912,       0857,  22.752000,-157.9826667,       4735,     7.2,  27.0168,  35.5035,2,  35.5038,2,    204.5,1,  -999.0,9, -999.00,9, -999.00,9,  -999.0,       7,    27.0151, -999.00,9,     -999.0
33KB20130910,       PRS2,       2,          7,          9,       8009,2,20130912,       0857,  22.752000,-157.9826667,       4735,    25.5,  26.9141,  35.4968,2,  35.4975,2,    204.5,1,  -999.0,9, -999.00,9, -999.00,9,  -999.0,      24,    26.9083, -999.00,9,     -999.0
33KB20130910,       PRS2,       2,          7,          8,       8008,2,20130912,       0857,  22.752000,-157.9826667,       4735,    46.4,  26.8557,  35.4929,2,  35.4910,2,    204.6,1,  -999.0,9, -999.00,9, -999.00,9,  -999.0,      45,    26.8451, -999.00,9,     -999.0
33KB20130910,       PRS2,       2,          7,          7,       8026,2,20130912,       0857,  22.752000,-157.9826667,       4735,    75.3,  23.8987,  35.3959,2,  35.3898,2,    224.1,1,  -999.0,9, -999.00,9, -999.00,9,  -999.0,      75,    23.8829, -999.00,9,     -999.0
33KB20130910,       PRS2,       2,          7,          6,       8006,2,20130912,       0857,  22.752000,-157.9826667,       4735,   100.8,  21.9544,  35.3562,2,  35.3441,2,    214.1,1,  -999.0,9, -999.00,9, -999.00,9,  -999.0,     100,    21.9345, -999.00,9,     -999.0
33KB20130910,       PRS2,       2,          7,          5,       8005,2,20130912,       0857,  22.752000,-157.9826667,       4735,   125.8,  21.4418,  35.3770,2,  35.3654,2,    203.3,1,  -999.0,9, -999.00,9, -999.00,9,  -999.0,     125,    21.4174, -999.00,9,     -999.0
33KB20130910,       PRS2,       2,          7,          4,       8004,2,20130912,       0857,  22.752000,-157.9826667,       4735,   150.8,  20.6950,  35.2793,2,  35.2932,2,    202.0,1,  -999.0,9, -999.00,9, -999.00,9,  -999.0,     151,    20.6664, -999.00,9,     -999.0
33KB20130910,       PRS2,       2,          7,          3,       8003,2,20130912,       0857,  22.752000,-157.9826667,       4735,   175.4,  19.4407,  35.0764,2,  35.0870,2,    200.2,1,  -999.0,9, -999.00,9, -999.00,9,  -999.0,     176,    19.4089, -999.00,9,     -999.0
33KB20130910,       PRS2,       2,          7,          2,       8002,2,20130912,       0857,  22.752000,-157.9826667,       4735,   480.1,   7.6109,  34.0697,2,  34.0709,2,    121.5,1,  -999.0,9, -999.00,9, -999.00,9,  -999.0,     479,     7.5635, -999.00,9,     -999.0
33KB20130910,       PRS2,       2,          7,          1,       8001,2,20130912,       0857,  22.752000,-157.9826667,       4735,  1020.0,   3.8742,  34.4651,2,  34.4659,2,     46.4,1,  -999.0,9, -999.00,9, -999.00,9,  -999.0,    1021,     3.7979, -999.00,9,     -999.0
33KB20130910,       PRS2,       2,          8,         14,       8014,2,20130912,       1155,  22.749167,-158.0178333,       4745,     7.6,  26.9846,  35.4810,2,  35.4910,2,    203.4,1,  -999.0,9, -999.00,9, -999.00,9,  -999.0,       7,    26.9828, -999.00,9,     -999.0
33KB20130910,       PRS2,       2,          8,         13,       8025,2,20130912,       1155,  22.749167,-158.0178333,       4745,     7.7,  26.9861,  35.4840,2,  35.4912,2,    203.8,1,  -999.0,9, -999.00,9, -999.00,9,  -999.0,       8,    26.9843, -999.00,9,     -999.0
33KB20130910,       PRS2,       2,          8,         12,       8012,2,20130912,       1155,  22.749167,-158.0178333,       4745,    25.3,  26.9432,  35.4998,2,  35.5008,2,    203.2,1,  -999.0,9, -999.00,9, -999.00,9,  -999.0,      24,    26.9374, -999.00,9,     -999.0
33KB20130910,       PRS2,       2,          8,         11,       8011,2,20130912,       1155,  22.749167,-158.0178333,       4745,    25.1,  26.9431,  35.4998,2,  35.4997,2,    203.2,1,  -999.0,9, -999.00,9, -999.00,9,  -999.0,      24,    26.9374, -999.00,9,     -999.0
33KB20130910,       PRS2,       2,          8,         10,       8010,2,20130912,       1155,  22.749167,-158.0178333,       4745,    46.0,  26.9032,  35.4916,2,  35.4947,2,    204.3,1,  -999.0,9, -999.00,9, -999.00,9,  -999.0,      46,    26.8926, -999.00,9,     -999.0
33KB20130910,       PRS2,       2,          8,          9,       8009,2,20130912,       1155,  22.749167,-158.0178333,       4745,    46.0,  26.9033,  35.4917,2,  35.4939,2,    204.1,1,  -999.0,9, -999.00,9, -999.00,9,  -999.0,      46,    26.8928, -999.00,9,     -999.0
33KB20130910,       PRS2,       2,          8,          8,       8008,2,20130912,       1155,  22.749167,-158.0178333,       4745,    74.9,  23.5514,  35.3795,2,  35.3796,2,    225.7,1,  -999.0,9, -999.00,9, -999.00,9,  -999.0,      74,    23.5358, -999.00,9,     -999.0
33KB20130910,       PRS2,       2,          8,          7,       8026,2,20130912,       1155,  22.749167,-158.0178333,       4745,    75.1,  23.5481,  35.3796,2,  35.3790,2,    225.4,1,  -999.0,9, -999.00,9, -999.00,9,  -999.0,      74,    23.5325, -999.00,9,     -999.0
33KB20130910,       PRS2,       2,          8,          6,       8006,2,20130912,       1155,  22.749167,-158.0178333,       4745,    99.8,  22.0615,  35.3349,2,  35.3366,2,    211.4,1,  -999.0,9, -999.00,9, -999.00,9,  -999.0,     101,    22.0417, -999.00,9,     -999.0
33KB20130910,       PRS2,       2,          8,          5,       8005,2,20130912,       1155,  22.749167,-158.0178333,       4745,    99.9,  22.0569,  35.3350,2,  35.3356,2,    211.3,1,  -999.0,9, -999.00,9, -999.00,9,  -999.0,     100,    22.0371, -999.00,9,     -999.0
33KB20130910,       PRS2,       2,          8,          4,       8004,2,20130912,       1155,  22.749167,-158.0178333,       4745,   125.1,  21.4579,  35.2992,2,  35.3049,2,    205.6,1,  -999.0,9, -999.00,9, -999.00,9,  -999.0,     125,    21.4336, -999.00,9,     -999.0
33KB20130910,       PRS2,       2,          8,          3,       8003,2,20130912,       1155,  22.749167,-158.0178333,       4745,   125.3,  21.4609,  35.2989,2,  35.3027,2,    205.4,1,  -999.0,9, -999.00,9, -999.00,9,  -999.0,     125,    21.4366, -999.00,9,     -999.0
33KB20130910,       PRS2,       2,          8,          2,       8002,2,20130912,       1155,  22.749167,-158.0178333,       4745,   441.3,   8.5958,  34.0740,2,  34.0758,2,    161.4,1,  -999.0,9, -999.00,9, -999.00,9,  -999.0,     441,     8.5491, -999.00,9,     -999.0
33KB20130910,       PRS2,       2,          8,          1,       8001,2,20130912,       1155,  22.749167,-158.0178333,       4745,  1020.7,   3.8255,  34.4706,2,  34.4709,2,     47.5,1,  -999.0,9, -999.00,9, -999.00,9,  -999.0,    1019,     3.7495, -999.00,9,     -999.0
33KB20130910,       PRS2,       2,          9,          8,       8008,2,20130912,       1447,  22.750000,-158.0003333,       4743,     6.8,  26.9680,  35.4804,2,  35.4701,3,    202.9,1,  -999.0,9, -999.00,9, -999.00,9,  -999.0,       7,    26.9664, -999.00,9,     -999.0
33KB20130910,       PRS2,       2,          9,          7,       8026,2,20130912,       1447,  22.750000,-158.0003333,       4743,   459.8,   7.9665,  34.0644,2,  34.0654,2,    136.8,1,  -999.0,9, -999.00,9, -999.00,9,  -999.0,     459,     7.9199, -999.00,9,     -999.0
33KB20130910,       PRS2,       2,          9,          6,       8006,2,20130912,       1447,  22.750000,-158.0003333,       4743,  1020.3,   3.8233,  34.4726,2,-999.0000,5,     47.5,1,  -999.0,9, -999.00,9, -999.00,9,  -999.0,    1020,     3.7474, -999.00,9,     -999.0
33KB20130910,       PRS2,       2,          9,          5,       8005,2,20130912,       1447,  22.750000,-158.0003333,       4743,  1020.4,   3.8237,  34.4725,2,-999.0000,5,     47.5,1,  -999.0,9, -999.00,9, -999.00,9,  -999.0,    1020,     3.7478, -999.00,9,     -999.0
33KB20130910,       PRS2,       2,          9,          4,       8004,2,20130912,       1447,  22.750000,-158.0003333,       4743,  1020.4,   3.8234,  34.4726,2,-999.0000,5,     47.5,1,  -999.0,9, -999.00,9, -999.00,9,  -999.0,    1019,     3.7475, -999.00,9,     -999.0
33KB20130910,       PRS2,       2,          9,          3,       8003,2,20130912,       1447,  22.750000,-158.0003333,       4743,  1020.5,   3.8229,  34.4726,2,-999.0000,5,     47.6,1,  -999.0,9, -999.00,9, -999.00,9,  -999.0,    1020,     3.7470, -999.00,9,     -999.0
33KB20130910,       PRS2,       2,          9,          2,       8002,2,20130912,       1447,  22.750000,-158.0003333,       4743,  1020.6,   3.8228,  34.4725,2,-999.0000,5,     47.6,1,  -999.0,9, -999.00,9, -999.00,9,  -999.0,    1020,     3.7469, -999.00,9,     -999.0
33KB20130910,       PRS2,       2,          9,          1,       8001,2,20130912,       1447,  22.750000,-158.0003333,       4743,  1020.6,   3.8242,  34.4721,2,  34.4732,2,     47.6,1,  -999.0,9, -999.00,9, -999.00,9,  -999.0,    1020,     3.7483, -999.00,9,     -999.0