BOTTLE,20141031SIOCCHAMB
EXPOCODE,SECT_ID,STNNBR,CASTNO,SAMPNO,BTLNBR,BTLNBR_FLAG_W,DATE,TIME,LATITUDE,LONGITUDE,DEPTH,CTDPRS,CTDTMP,CTDSAL,CTDSAL_FLAG_W,SALNTY,SALNTY_FLAG_W,CTDOXY,CTDOXY_FLAG_W,OXYGEN,OXYGEN_FLAG_W,SILCAT,SILCAT_FLAG_W,PHSPHT,PHSPHT_FLAG_W,REVPRS,CTDRAW,THETA,NO2+NO3,NO2+NO3_FLAG_W,REVTMP
,,,,,,,,,,,METERS,DBAR,ITS-90,PSS-78,,PSS-78,,UMOL/KG,,UMOL/KG,,UMOL/KG,,UMOL/KG,,DBAR,DBAR,ITS-90,UMOL/KG,,DEG C
33KB20130910,       PRS2,       2,         10,         18,       8018,2,20130912,       1758,  22.749667,-158.0006667,       4742,     8.5,  26.9209,  35.4407,2,-999.0000,5,    202.9,1,  -999.0,9, -999.00,9, -999.00,9,  -999.0,       7,    26.9189, -999.00,9,     -999.0
33KB20130910,       PRS2,       2,         10,         17,       8017,2,20130912,       1758,  22.749667,-158.0006667,       4742,     8.5,  26.9190,  35.4386,2,  35.4421,2,    202.8,1,  -999.0,9, -999.00,9, -999.00,9,  -999.0,       8,    26.9171, -999.00,9,     -999.0
33KB20130910,       PRS2,       2,         10,         16,       8016,2,20130912,       1758,  22.749667,-158.0006667,       4742,    25.0,  26.9756,  35.5057,2,-999.0000,5,    202.2,1,  -999.0,9, -999.00,9, -999.00,9,  -999.0,      24,    26.9699, -999.00,9,     -999.0
33KB20130910,       PRS2,       2,         10,         15,       8015,2,20130912,       1758,  22.749667,-158.0006667,       4742,    25.0,  26.9757,  35.5054,2,  35.5054,2,    202.2,1,  -999.0,9, -999.00,9, -999.00,9,  -999.0,      25,    26.9699, -999.00,9,     -999.0
33KB20130910,       PRS2,       2,         10,         14,       8014,2,20130912,       1758,  22.749667,-158.0006667,       4742,    45.7,  26.5691,  35.4841,2,-999.0000,5,    207.7,1,  -999.0,9, -999.00,9, -999.00,9,  -999.0,      45,    26.5587, -999.00,9,     -999.0
33KB20130910,       PRS2,       2,         10,         13,       8025,2,20130912,       1758,  22.749667,-158.0006667,       4742,    45.7,  26.4929,  35.4764,2,  35.4859,2,    209.5,1,  -999.0,9, -999.00,9, -999.00,9,  -999.0,      45,    26.4825, -999.00,9,     -999.0
33KB20130910,       PRS2,       2,         10,         12,       8012,2,20130912,       1758,  22.749667,-158.0006667,       4742,    75.1,  23.7222,  35.3846,2,-999.0000,5,    224.0,1,  -999.0,9, -999.00,9, -999.00,9,  -999.0,      75,    23.7065, -999.00,9,     -999.0
33KB20130910,       PRS2,       2,         10,         11,       8011,2,20130912,       1758,  22.749667,-158.0006667,       4742,    75.0,  23.7159,  35.3845,2,  35.3819,2,    223.9,1,  -999.0,9, -999.00,9, -999.00,9,  -999.0,      75,    23.7002, -999.00,9,     -999.0
33KB20130910,       PRS2,       2,         10,         10,       8010,2,20130912,       1758,  22.749667,-158.0006667,       4742,   100.4,  22.7291,  35.3628,2,-999.0000,5,    217.7,1,  -999.0,9, -999.00,9, -999.00,9,  -999.0,     100,    22.7087, -999.00,9,     -999.0
33KB20130910,       PRS2,       2,         10,          9,       8009,2,20130912,       1758,  22.749667,-158.0006667,       4742,   100.3,  22.7219,  35.3626,2,  35.3575,2,    217.6,1,  -999.0,9, -999.00,9, -999.00,9,  -999.0,     100,    22.7016, -999.00,9,     -999.0
33KB20130910,       PRS2,       2,         10,          8,       8008,2,20130912,       1758,  22.749667,-158.0006667,       4742,   125.6,  21.8157,  35.3136,2,-999.0000,5,    208.2,1,  -999.0,9, -999.00,9, -999.00,9,  -999.0,     127,    21.7910, -999.00,9,     -999.0
33KB20130910,       PRS2,       2,         10,          7,       8026,2,20130912,       1758,  22.749667,-158.0006667,       4742,   125.7,  21.8038,  35.3148,2,  35.3133,2,    208.4,1,  -999.0,9, -999.00,9, -999.00,9,  -999.0,     126,    21.7791, -999.00,9,     -999.0
33KB20130910,       PRS2,       2,         10,          6,       8006,2,20130912,       1758,  22.749667,-158.0006667,       4742,   151.2,  21.3950,  35.3204,2,-999.0000,5,    205.9,1,  -999.0,9, -999.00,9, -999.00,9,  -999.0,     151,    21.3656, -999.00,9,     -999.0
33KB20130910,       PRS2,       2,         10,          5,       8005,2,20130912,       1758,  22.749667,-158.0006667,       4742,   151.0,  21.3950,  35.3215,2,  35.3165,2,    206.0,1,  -999.0,9, -999.00,9, -999.00,9,  -999.0,     150,    21.3657, -999.00,9,     -999.0
33KB20130910,       PRS2,       2,         10,          4,       8004,2,20130912,       1758,  22.749667,-158.0006667,       4742,   174.9,  20.8625,  35.3105,2,-999.0000,5,    201.5,1,  -999.0,9, -999.00,9, -999.00,9,  -999.0,     174,    20.8291, -999.00,9,     -999.0
33KB20130910,       PRS2,       2,         10,          3,       8003,2,20130912,       1758,  22.749667,-158.0006667,       4742,   174.7,  20.8634,  35.3102,2,  35.3157,2,    201.6,1,  -999.0,9, -999.00,9, -999.00,9,  -999.0,     174,    20.8301, -999.00,9,     -999.0
33KB20130910,       PRS2,       2,         10,          2,       8002,2,20130912,       1758,  22.749667,-158.0006667,       4742,   480.3,   7.7768,  34.0781,2,  34.0784,2,    119.2,1,  -999.0,9, -999.00,9, -999.00,9,  -999.0,     480,     7.7288, -999.00,9,     -999.0
33KB20130910,       PRS2,       2,         10,          1,       8001,2,20130912,       1758,  22.749667,-158.0006667,       4742,  1021.1,   3.8544,  34.4657,2,  34.4671,2,     46.8,1,  -999.0,9, -999.00,9, -999.00,9,  -999.0,    1021,     3.7782, -999.00,9,     -999.0
33KB20130910,       PRS2,       2,         11,         18,       8018,2,20130912,       2110,  22.757167,-157.9925000,       4737,     8.3,  26.9459,  35.4335,2,-999.0000,5,    204.3,1,  -999.0,9, -999.00,9, -999.00,9,  -999.0,       8,    26.9440, -999.00,9,     -999.0
33KB20130910,       PRS2,       2,         11,         17,       8017,2,20130912,       2110,  22.757167,-157.9925000,       4737,     8.4,  26.9477,  35.4331,2,  35.4316,2,    204.4,1,  -999.0,9, -999.00,9, -999.00,9,  -999.0,       7,    26.9458, -999.00,9,     -999.0
33KB20130910,       PRS2,       2,         11,         16,       8016,2,20130912,       2110,  22.757167,-157.9925000,       4737,    24.9,  26.9596,  35.4912,2,-999.0000,5,    202.8,1,  -999.0,9, -999.00,9, -999.00,9,  -999.0,      24,    26.9539, -999.00,9,     -999.0
33KB20130910,       PRS2,       2,         11,         15,       8015,2,20130912,       2110,  22.757167,-157.9925000,       4737,    25.0,  26.9599,  35.4912,2,-999.0000,5,    202.9,1,  -999.0,9, -999.00,9, -999.00,9,  -999.0,      25,    26.9541, -999.00,9,     -999.0
33KB20130910,       PRS2,       2,         11,         14,       8014,2,20130912,       2110,  22.757167,-157.9925000,       4737,    45.5,  26.9251,  35.5008,2,-999.0000,5,    203.0,1,  -999.0,9, -999.00,9, -999.00,9,  -999.0,      46,    26.9147, -999.00,9,     -999.0
33KB20130910,       PRS2,       2,         11,         13,       8025,2,20130912,       2110,  22.757167,-157.9925000,       4737,    45.5,  26.9267,  35.5005,2,-999.0000,5,    202.8,1,  -999.0,9, -999.00,9, -999.00,9,  -999.0,      45,    26.9163, -999.00,9,     -999.0
33KB20130910,       PRS2,       2,         11,         12,       8012,2,20130912,       2110,  22.757167,-157.9925000,       4737,    74.9,  23.4187,  35.3596,2,-999.0000,5,    221.5,1,  -999.0,9, -999.00,9, -999.00,9,  -999.0,      75,    23.4032, -999.00,9,     -999.0
33KB20130910,       PRS2,       2,         11,         11,       8011,2,20130912,       2110,  22.757167,-157.9925000,       4737,    74.9,  23.3852,  35.3594,2,-999.0000,5,    221.9,1,  -999.0,9, -999.00,9, -999.00,9,  -999.0,      75,    23.3697, -999.00,9,     -999.0
33KB20130910,       PRS2,       2,         11,         10,       8010,2,20130912,       2110,  22.757167,-157.9925000,       4737,   100.4,  22.1484,  35.3406,2,-999.0000,5,    213.3,1,  -999.0,9, -999.00,9, -999.00,9,  -999.0,     100,    22.1285, -999.00,9,     -999.0
33KB20130910,       PRS2,       2,         11,          9,       8009,2,20130912,       2110,  22.757167,-157.9925000,       4737,   100.4,  22.1537,  35.3396,2,-999.0000,5,    213.0,1,  -999.0,9, -999.00,9, -999.00,9,  -999.0,     101,    22.1337, -999.00,9,     -999.0
33KB20130910,       PRS2,       2,         11,          8,       8008,2,20130912,       2110,  22.757167,-157.9925000,       4737,   126.0,  21.3890,  35.2968,2,-999.0000,5,    204.8,1,  -999.0,9, -999.00,9, -999.00,9,  -999.0,     125,    21.3645, -999.00,9,     -999.0
33KB20130910,       PRS2,       2,         11,          7,       8026,2,20130912,       2110,  22.757167,-157.9925000,       4737,   126.0,  21.3740,  35.2958,2,-999.0000,5,    204.7,1,  -999.0,9, -999.00,9, -999.00,9,  -999.0,     125,    21.3496, -999.00,9,     -999.0
33KB20130910,       PRS2,       2,         11,          6,       8006,2,20130912,       2110,  22.757167,-157.9925000,       4737,   150.4,  21.0565,  35.3446,2,-999.0000,5,    201.4,1,  -999.0,9, -999.00,9, -999.00,9,  -999.0,     149,    21.0276, -999.00,9,     -999.0
33KB20130910,       PRS2,       2,         11,          5,       8005,2,20130912,       2110,  22.757167,-157.9925000,       4737,   150.4,  21.0459,  35.3426,2,-999.0000,5,    201.4,1,  -999.0,9, -999.00,9, -999.00,9,  -999.0,     149,    21.0171, -999.00,9,     -999.0
33KB20130910,       PRS2,       2,         11,          4,       8004,2,20130912,       2110,  22.757167,-157.9925000,       4737,   175.8,  19.8242,  35.1492,2,-999.0000,5,    199.0,1,  -999.0,9, -999.00,9, -999.00,9,  -999.0,     175,    19.7919, -999.00,9,     -999.0
33KB20130910,       PRS2,       2,         11,          3,       8003,2,20130912,       2110,  22.757167,-157.9925000,       4737,   175.8,  19.7818,  35.1336,2,-999.0000,5,    199.0,1,  -999.0,9, -999.00,9, -999.00,9,  -999.0,     175,    19.7495, -999.00,9,     -999.0
33KB20130910,       PRS2,       2,         11,          2,       8002,2,20130912,       2110,  22.757167,-157.9925000,       4737,   500.3,   7.4514,  34.0742,2,  34.0746,2,    116.5,1,  -999.0,9, -999.00,9, -999.00,9,  -999.0,     500,     7.4026, -999.00,9,     -999.0
33KB20130910,       PRS2,       2,         11,          1,       8001,2,20130912,       2110,  22.757167,-157.9925000,       4737,  1019.1,   3.8559,  34.4634,2,  34.4654,2,     46.5,1,  -999.0,9, -999.00,9, -999.00,9,  -999.0,    1019,     3.7799, -999.00,9,     -999.0
33KB20130910,       PRS2,       2,         12,         23,       8023,2,20130912,       2353,  22.758667,-157.9843333,       4731,     6.0,  27.0608,  35.4401,2,  35.4399,2,    204.5,1,  -999.0,9, -999.00,9, -999.00,9,  -999.0,       5,    27.0594, -999.00,9,     -999.0
33KB20130910,       PRS2,       2,         12,         22,       8022,2,20130912,       2353,  22.758667,-157.9843333,       4731,    25.6,  26.9418,  35.4914,2,  35.4906,2,    203.9,1,  -999.0,9, -999.00,9, -999.00,9,  -999.0,      26,    26.9359, -999.00,9,     -999.0
33KB20130910,       PRS2,       2,         12,         21,       8021,2,20130912,       2353,  22.758667,-157.9843333,       4731,    45.3,  26.8866,  35.4962,2,  35.4973,2,    204.3,1,  -999.0,9, -999.00,9, -999.00,9,  -999.0,      45,    26.8762, -999.00,9,     -999.0
33KB20130910,       PRS2,       2,         12,         20,       8020,2,20130912,       2353,  22.758667,-157.9843333,       4731,    74.9,  24.0333,  35.3662,2,  35.3648,2,    223.2,1,  -999.0,9, -999.00,9, -999.00,9,  -999.0,      75,    24.0175, -999.00,9,     -999.0
33KB20130910,       PRS2,       2,         12,         19,       8019,2,20130912,       2353,  22.758667,-157.9843333,       4731,   100.7,  22.1680,  35.3450,2,  35.3435,2,    212.2,1,  -999.0,9, -999.00,9, -999.00,9,  -999.0,     100,    22.1479, -999.00,9,     -999.0
33KB20130910,       PRS2,       2,         12,         18,       8018,2,20130912,       2353,  22.758667,-157.9843333,       4731,   125.3,  21.3451,  35.3726,2,  35.3713,2,    203.8,1,  -999.0,9, -999.00,9, -999.00,9,  -999.0,     125,    21.3208, -999.00,9,     -999.0
33KB20130910,       PRS2,       2,         12,         17,       8017,2,20130912,       2353,  22.758667,-157.9843333,       4731,   150.7,  20.0840,  35.1904,2,  35.1882,2,    199.9,1,  -999.0,9, -999.00,9, -999.00,9,  -999.0,     150,    20.0561, -999.00,9,     -999.0
33KB20130910,       PRS2,       2,         12,         16,       8016,2,20130912,       2353,  22.758667,-157.9843333,       4731,   200.2,  16.0844,  34.5778,2,-999.0000,5,    196.4,1,  -999.0,9, -999.00,9, -999.00,9,  -999.0,     198,    16.0527, -999.00,9,     -999.0
33KB20130910,       PRS2,       2,         12,         15,       8015,2,20130912,       2353,  22.758667,-157.9843333,       4731,   200.4,  16.0372,  34.5807,2,-999.0000,5,    196.6,1,  -999.0,9, -999.00,9, -999.00,9,  -999.0,     201,    16.0055, -999.00,9,     -999.0
33KB20130910,       PRS2,       2,         12,         14,       8014,2,20130912,       2353,  22.758667,-157.9843333,       4731,   250.8,  13.7433,  34.3686,2,  34.3690,2,    202.4,1,  -999.0,9, -999.00,9, -999.00,9,  -999.0,     251,    13.7077, -999.00,9,     -999.0
33KB20130910,       PRS2,       2,         12,         13,       8025,2,20130912,       2353,  22.758667,-157.9843333,       4731,   301.0,  12.1304,  34.2077,2,-999.0000,5,    198.8,1,  -999.0,9, -999.00,9, -999.00,9,  -999.0,     300,    12.0910, -999.00,9,     -999.0
33KB20130910,       PRS2,       2,         12,         12,       8012,2,20130912,       2353,  22.758667,-157.9843333,       4731,   300.8,  12.1304,  34.2078,2,-999.0000,5,    197.6,1,  -999.0,9, -999.00,9, -999.00,9,  -999.0,     302,    12.0911, -999.00,9,     -999.0
33KB20130910,       PRS2,       2,         12,         11,       8011,2,20130912,       2353,  22.758667,-157.9843333,       4731,   350.6,  10.6670,  34.1493,2,  34.1474,2,    163.9,1,  -999.0,9, -999.00,9, -999.00,9,  -999.0,     351,    10.6247, -999.00,9,     -999.0
33KB20130910,       PRS2,       2,         12,         10,       8010,2,20130912,       2353,  22.758667,-157.9843333,       4731,   401.2,   9.5506,  34.1124,2,-999.0000,5,    177.7,1,  -999.0,9, -999.00,9, -999.00,9,  -999.0,     400,     9.5053, -999.00,9,     -999.0
33KB20130910,       PRS2,       2,         12,          9,       8009,2,20130912,       2353,  22.758667,-157.9843333,       4731,   500.6,   7.4468,  34.0740,2,  34.0778,2,    115.4,1,  -999.0,9, -999.00,9, -999.00,9,  -999.0,     500,     7.3979, -999.00,9,     -999.0
33KB20130910,       PRS2,       2,         12,          8,       8008,2,20130912,       2353,  22.758667,-157.9843333,       4731,   500.6,   7.4262,  34.0779,2,-999.0000,5,    114.8,1,  -999.0,9, -999.00,9, -999.00,9,  -999.0,     501,     7.3774, -999.00,9,     -999.0
33KB20130910,       PRS2,       2,         12,          7,       8026,2,20130912,       2353,  22.758667,-157.9843333,       4731,   500.7,   7.4183,  34.0773,2,-999.0000,5,    114.4,1,  -999.0,9, -999.00,9, -999.00,9,  -999.0,     499,     7.3696, -999.00,9,     -999.0
33KB20130910,       PRS2,       2,         12,          6,       8006,2,20130912,       2353,  22.758667,-157.9843333,       4731,   600.2,   5.7371,  34.0885,2,-999.0000,5,     73.0,1,  -999.0,9, -999.00,9, -999.00,9,  -999.0,     601,     5.6859, -999.00,9,     -999.0
33KB20130910,       PRS2,       2,         12,          5,       8005,2,20130912,       2353,  22.758667,-157.9843333,       4731,   700.8,   4.7781,  34.1908,2,-999.0000,5,     41.6,1,  -999.0,9, -999.00,9, -999.00,9,  -999.0,     701,     4.7228, -999.00,9,     -999.0
33KB20130910,       PRS2,       2,         12,          4,       8004,2,20130912,       2353,  22.758667,-157.9843333,       4731,   770.4,   4.5625,  34.2898,2,-999.0000,5,     37.1,1,  -999.0,9, -999.00,9, -999.00,9,  -999.0,     771,     4.5025, -999.00,9,     -999.0
33KB20130910,       PRS2,       2,         12,          3,       8003,2,20130912,       2353,  22.758667,-157.9843333,       4731,   800.2,   4.4229,  34.3228,2,-999.0000,5,     37.3,1,  -999.0,9, -999.00,9, -999.00,9,  -999.0,     800,     4.3612, -999.00,9,     -999.0
33KB20130910,       PRS2,       2,         12,          2,       8002,2,20130912,       2353,  22.758667,-157.9843333,       4731,   900.5,   4.2462,  34.4330,2,-999.0000,5,     39.8,1,  -999.0,9, -999.00,9, -999.00,9,  -999.0,     900,     4.1772, -999.00,9,     -999.0
33KB20130910,       PRS2,       2,         12,          1,       8001,2,20130912,       2353,  22.758667,-157.9843333,       4731,  1020.3,   3.8156,  34.4695,2,  34.4712,2,     47.4,1,  -999.0,9, -999.00,9, -999.00,9,  -999.0,    1020,     3.7397, -999.00,9,     -999.0
33KB20130910,       PRS2,       2,         13,         10,       8010,2,20130913,       0253,  22.749667,-157.9990000,       4741,     5.5,  27.0160,  35.4462,2,-999.0000,5,    204.2,1,  -999.0,9, -999.00,9, -999.00,9,  -999.0,       4,    27.0147, -999.00,9,     -999.0
33KB20130910,       PRS2,       2,         13,          9,       8009,2,20130913,       0253,  22.749667,-157.9990000,       4741,    25.3,  26.9577,  35.5037,2,  35.5022,2,    203.9,1,  -999.0,9, -999.00,9, -999.00,9,  -999.0,      25,    26.9519, -999.00,9,     -999.0
33KB20130910,       PRS2,       2,         13,          8,       8008,2,20130913,       0253,  22.749667,-157.9990000,       4741,    45.7,  26.8959,  35.4956,2,-999.0000,5,    204.3,1,  -999.0,9, -999.00,9, -999.00,9,  -999.0,      45,    26.8855, -999.00,9,     -999.0
33KB20130910,       PRS2,       2,         13,          7,       8026,2,20130913,       0253,  22.749667,-157.9990000,       4741,    76.1,  24.1085,  35.3786,2,-999.0000,5,    223.6,1,  -999.0,9, -999.00,9, -999.00,9,  -999.0,      76,    24.0924, -999.00,9,     -999.0
33KB20130910,       PRS2,       2,         13,          6,       8006,2,20130913,       0253,  22.749667,-157.9990000,       4741,   100.6,  22.3953,  35.3499,2,-999.0000,5,    213.7,1,  -999.0,9, -999.00,9, -999.00,9,  -999.0,     100,    22.3752, -999.00,9,     -999.0
33KB20130910,       PRS2,       2,         13,          5,       8005,2,20130913,       0253,  22.749667,-157.9990000,       4741,   126.2,  21.1896,  35.3533,2,-999.0000,5,    203.8,1,  -999.0,9, -999.00,9, -999.00,9,  -999.0,     126,    21.1653, -999.00,9,     -999.0
33KB20130910,       PRS2,       2,         13,          4,       8004,2,20130913,       0253,  22.749667,-157.9990000,       4741,   150.7,  20.2300,  35.2170,2,-999.0000,5,    200.6,1,  -999.0,9, -999.00,9, -999.00,9,  -999.0,     149,    20.2019, -999.00,9,     -999.0
33KB20130910,       PRS2,       2,         13,          3,       8003,2,20130913,       0253,  22.749667,-157.9990000,       4741,   175.1,  19.2174,  35.0406,2,-999.0000,5,    196.8,1,  -999.0,9, -999.00,9, -999.00,9,  -999.0,     174,    19.1859, -999.00,9,     -999.0
33KB20130910,       PRS2,       2,         13,          2,       8002,2,20130913,       0253,  22.749667,-157.9990000,       4741,   500.6,   7.3503,  34.0875,2,  34.0897,2,    104.1,1,  -999.0,9, -999.00,9, -999.00,9,  -999.0,     500,     7.3017, -999.00,9,     -999.0
33KB20130910,       PRS2,       2,         13,          1,       8001,2,20130913,       0253,  22.749667,-157.9990000,       4741,  1020.4,   3.8387,  34.4682,2,  34.4687,2,     47.2,1,  -999.0,9, -999.00,9, -999.00,9,  -999.0,    1021,     3.7627, -999.00,9,     -999.0