BOTTLE,20140813SIOCCHRJL
EXPOCODE,SECT_ID,STNNBR,CASTNO,SAMPNO,BTLNBR,BTLNBR_FLAG_W,DATE,TIME,LATITUDE,LONGITUDE,DEPTH,CTDPRS,CTDTMP,CTDSAL,CTDSAL_FLAG_W,SALNTY,SALNTY_FLAG_W,CTDOXY,CTDOXY_FLAG_W,OXYGEN,OXYGEN_FLAG_W,SILCAT,SILCAT_FLAG_W,NITRAT,NITRAT_FLAG_W,PHSPHT,PHSPHT_FLAG_W,CFC-11,CFC-11_FLAG_W,CFC-12,CFC-12_FLAG_W,CFC113,CFC113_FLAG_W,CCL4,CCL4_FLAG_W,MCHFRM,MCHFRM_FLAG_W,TCARBN,TCARBN_FLAG_W,THETA
,,,,,,,,,,,METERS,DBAR,ITS-90,PSS-78,,PSS-78,,UMOL/KG,,UMOL/KG,,UMOL/KG,,UMOL/KG,,UMOL/KG,,PMOL/KG,,PMOL/KG,,PMOL/KG,,PMOL/KG,,PMOL/KG,,UMOL/KG,,DEG C
  18HU19940524, AR07W,    27,  2, 140243,     43,2,19940530,1254, 60.3603, -48.4960,  737,      4.3,   1.9038,  34.1247,2,-999.0000,9,    242.0,2,   -999.0,9,     5.90,6,     7.75,6,     0.76,6, -999.000,9, -999.000,9, -999.000,9, -999.000,9,     -999,9,   -999.0,9,   1.9036
  18HU19940524, AR07W,    27,  2, 140242,     42,2,19940530,1254, 60.3603, -48.4960,  737,      4.4,   1.9007,  34.1190,2,-999.0000,9,    242.2,2,   -999.0,9,  -999.00,9,  -999.00,9,  -999.00,9, -999.000,9, -999.000,9, -999.000,9, -999.000,9,     -999,9,   -999.0,9,   1.9005
  18HU19940524, AR07W,    27,  2, 140241,     41,2,19940530,1254, 60.3603, -48.4960,  737,     13.4,   1.8502,  34.1705,2,-999.0000,9,    240.3,2,   -999.0,9,  -999.00,9,  -999.00,9,  -999.00,9, -999.000,9, -999.000,9, -999.000,9, -999.000,9,     -999,9,   -999.0,9,   1.8495
  18HU19940524, AR07W,    27,  2, 140240,     40,2,19940530,1254, 60.3603, -48.4960,  737,     13.4,   1.8494,  34.1705,2,-999.0000,9,    240.1,2,   -999.0,9,     6.09,6,     8.10,6,     0.79,6, -999.000,9, -999.000,9, -999.000,9, -999.000,9,     -999,9,   -999.0,9,   1.8487
  18HU19940524, AR07W,    27,  2, 140239,     39,2,19940530,1254, 60.3603, -48.4960,  737,     18.5,   1.8133,  34.1801,2,-999.0000,9,    238.4,2,   -999.0,9,     6.08,6,     8.28,6,     0.80,6, -999.000,9, -999.000,9, -999.000,9, -999.000,9,     -999,9,   -999.0,9,   1.8124
  18HU19940524, AR07W,    27,  2, 140237,     37,2,19940530,1254, 60.3603, -48.4960,  737,     23.2,   1.9387,  34.2287,2,-999.0000,9,    235.9,2,   -999.0,9,     6.32,6,     8.89,6,     0.84,6, -999.000,9, -999.000,9, -999.000,9, -999.000,9,     -999,9,   -999.0,9,   1.9375
  18HU19940524, AR07W,    27,  2, 140238,     38,2,19940530,1254, 60.3603, -48.4960,  737,     23.6,   1.9441,  34.2293,2,-999.0000,9,    236.0,2,   -999.0,9,  -999.00,9,  -999.00,9,  -999.00,9, -999.000,9, -999.000,9, -999.000,9, -999.000,9,     -999,9,   -999.0,9,   1.9429
  18HU19940524, AR07W,    27,  2, 140236,     36,2,19940530,1254, 60.3603, -48.4960,  737,     27.2,   2.1622,  34.3216,2,-999.0000,9,    231.6,2,   -999.0,9,  -999.00,9,  -999.00,9,  -999.00,9, -999.000,9, -999.000,9, -999.000,9, -999.000,9,     -999,9,   -999.0,9,   2.1608
  18HU19940524, AR07W,    27,  2, 140235,     35,2,19940530,1254, 60.3603, -48.4960,  737,     33.6,   2.1630,  34.3419,2,-999.0000,9,    230.5,2,   -999.0,9,  -999.00,9,  -999.00,9,  -999.00,9, -999.000,9, -999.000,9, -999.000,9, -999.000,9,     -999,9,   -999.0,9,   2.1612
  18HU19940524, AR07W,    27,  2, 140234,     34,2,19940530,1254, 60.3603, -48.4960,  737,     33.6,   2.1589,  34.3421,2,-999.0000,9,    230.7,2,   -999.0,9,     6.70,6,    10.28,6,     0.90,6, -999.000,9, -999.000,9, -999.000,9, -999.000,9,     -999,9,   -999.0,9,   2.1571
  18HU19940524, AR07W,    27,  2, 140233,     33,2,19940530,1254, 60.3603, -48.4960,  737,     43.8,   2.1516,  34.3450,2,-999.0000,9,    230.4,2,   -999.0,9,     6.82,6,    10.32,6,     0.92,6, -999.000,9, -999.000,9, -999.000,9, -999.000,9,     -999,9,   -999.0,9,   2.1493
  18HU19940524, AR07W,    27,  2, 140231,     31,2,19940530,1254, 60.3603, -48.4960,  737,     53.1,   2.1820,  34.3551,2,-999.0000,9,    230.6,2,   -999.0,9,     6.89,6,    10.48,6,     0.92,6, -999.000,9, -999.000,9, -999.000,9, -999.000,9,     -999,9,   -999.0,9,   2.1792
  18HU19940524, AR07W,    27,  2, 140232,     32,2,19940530,1254, 60.3603, -48.4960,  737,     53.9,   2.1838,  34.3556,2,-999.0000,9,    230.4,2,   -999.0,9,  -999.00,9,  -999.00,9,  -999.00,9, -999.000,9, -999.000,9, -999.000,9, -999.000,9,     -999,9,   -999.0,9,   2.1809
  18HU19940524, AR07W,    27,  2, 140230,     30,2,19940530,1254, 60.3603, -48.4960,  737,     63.6,   2.1998,  34.3592,2,-999.0000,9,    230.6,2,   -999.0,9,     6.90,6,    10.55,6,     0.92,6, -999.000,9, -999.000,9, -999.000,9, -999.000,9,     -999,9,   -999.0,9,   2.1964
  18HU19940524, AR07W,    27,  2, 140229,     29,2,19940530,1254, 60.3603, -48.4960,  737,     79.0,   2.2192,  34.3655,2,-999.0000,9,    230.8,2,   -999.0,9,  -999.00,9,  -999.00,9,  -999.00,9, -999.000,9, -999.000,9, -999.000,9, -999.000,9,     -999,9,   -999.0,9,   2.2149
  18HU19940524, AR07W,    27,  2, 140228,     28,2,19940530,1254, 60.3603, -48.4960,  737,     84.4,   2.2279,  34.3693,2,-999.0000,9,    230.9,2,   -999.0,9,     6.94,6,    10.67,6,     0.91,6, -999.000,9, -999.000,9, -999.000,9, -999.000,9,     -999,9,   -999.0,9,   2.2233
  18HU19940524, AR07W,    27,  2, 140227,     27,2,19940530,1254, 60.3603, -48.4960,  737,    104.7,   2.3084,  34.3939,2,-999.0000,9,    230.8,2,   -999.0,9,  -999.00,9,  -999.00,9,  -999.00,9, -999.000,9, -999.000,9, -999.000,9, -999.000,9,     -999,9,   -999.0,9,   2.3026
  18HU19940524, AR07W,    27,  2, 140226,     26,2,19940530,1254, 60.3603, -48.4960,  737,    155.4,   2.7615,  34.4974,2,-999.0000,9,    229.2,2,   -999.0,9,  -999.00,9,  -999.00,9,  -999.00,9, -999.000,9, -999.000,9, -999.000,9, -999.000,9,     -999,9,   -999.0,9,   2.7523
  18HU19940524, AR07W,    27,  2, 140225,     25,2,19940530,1254, 60.3603, -48.4960,  737,    203.2,   2.8709,  34.5226,2,-999.0000,9,    229.3,2,   -999.0,9,  -999.00,9,  -999.00,9,  -999.00,9, -999.000,9, -999.000,9, -999.000,9, -999.000,9,     -999,9,   -999.0,9,   2.8586
  18HU19940524, AR07W,    27,  2, 140224,     24,2,19940530,1254, 60.3603, -48.4960,  737,    252.4,   3.1268,  34.5935,2,-999.0000,9,    228.7,2,   -999.0,9,  -999.00,9,  -999.00,9,  -999.00,9, -999.000,9, -999.000,9, -999.000,9, -999.000,9,     -999,9,   -999.0,9,   3.1109
  18HU19940524, AR07W,    28,  1, 140261,     61,3,19940530,1520, 60.2977, -48.5920, 2780,      5.6,   4.1271,  34.7172,2,  34.7119,2,    230.4,2,    336.6,2,     7.33,6,    10.01,6,     0.86,6,    4.573,2,    2.514,2,    1.510,4,    9.883,2,   19.494,2,   2114.7,2,   4.1267
  18HU19940524, AR07W,    28,  1, 140260,     60,3,19940530,1520, 60.2977, -48.5920, 2780,     52.9,   4.3732,  34.8123,2,  34.8151,2,    223.7,2,    325.6,2,     7.59,4,    11.14,4,     0.93,4,    4.491,2,    2.501,2,    0.712,2,    9.457,2,   17.256,2,   2124.8,2,   4.3694
  18HU19940524, AR07W,    28,  1, 140259,     59,2,19940530,1520, 60.2977, -48.5920, 2780,    101.7,   4.2182,  34.8070,2,  34.8082,2,    221.4,2,    320.6,2,     7.68,6,    12.24,6,     0.98,6,    4.449,2,    2.439,2,    0.713,2,    9.288,2,   17.504,2,   2130.7,2,   4.2110
  18HU19940524, AR07W,    28,  1, 140258,     58,2,19940530,1520, 60.2977, -48.5920, 2780,    204.4,   4.0565,  34.8569,2,  34.8564,2,    214.5,2,    308.6,2,     8.33,6,    14.97,6,     1.09,6,    4.284,2,    2.512,2,    0.651,2,    8.721,2,   16.081,2,   2145.6,2,   4.0421
  18HU19940524, AR07W,    28,  1, 140257,     57,2,19940530,1520, 60.2977, -48.5920, 2780,    352.7,   4.0508,  34.8765,2,  34.8768,2,    214.2,2,    304.1,2,     8.55,6,    15.31,6,     1.18,6,    4.116,2,    2.353,2,    0.613,2,    8.531,2,   16.794,2,   2148.4,2,   4.0255
  18HU19940524, AR07W,    28,  1, 140256,     56,2,19940530,1520, 60.2977, -48.5920, 2780,    501.7,   3.8610,  34.8822,2,  34.8825,2,    213.8,2,    304.3,2,     8.95,6,    15.44,6,     1.13,6,    3.966,2,    2.212,2,    0.496,2,    8.123,2,   15.244,2,   2151.9,2,   3.8252
  18HU19940524, AR07W,    28,  1, 140255,     55,2,19940530,1520, 60.2977, -48.5920, 2780,    751.1,   3.4238,  34.8800,2,  34.8802,2,    215.7,2,    303.2,2,     9.48,6,    15.70,6,     1.16,6,    3.741,6,    2.202,6,    0.526,6,    7.793,6,   14.539,6,   2153.4,2,   3.3713
  18HU19940524, AR07W,    28,  1, 140254,     54,2,19940530,1520, 60.2977, -48.5920, 2780,    993.4,   3.2056,  34.8718,2,  34.8727,2,    218.0,2,    303.7,2,     9.57,6,    15.63,6,     1.18,6,    3.641,2,    2.091,2,    0.435,2,    7.767,2,   14.998,2,   2154.9,2,   3.1360
  18HU19940524, AR07W,    28,  1, 140253,     53,2,19940530,1520, 60.2977, -48.5920, 2780,   1229.8,   3.0738,  34.8623,2,  34.8625,2,    220.7,2,    305.9,2,     9.66,6,    15.74,6,     1.19,6,    3.681,2,    2.125,2,    0.474,2,    7.891,2,   15.257,2,   2155.7,2,   2.9866
  18HU19940524, AR07W,    28,  1, 140252,     52,2,19940530,1520, 60.2977, -48.5920, 2780,   1467.0,   2.8859,  34.8549,2,  34.8554,2,    219.8,2,    301.5,2,    10.03,6,    15.74,6,     1.18,6,    3.254,2,    1.886,2,    0.346,2,    6.981,2,   13.209,2,   2156.8,2,   2.7814
  18HU19940524, AR07W,    28,  1, 140251,     51,2,19940530,1520, 60.2977, -48.5920, 2780,   1701.7,   2.9109,  34.8588,2,  34.8592,2,    220.7,2,    301.0,2,    10.00,6,    16.02,6,     1.21,6,    3.091,6,    1.811,6,    0.387,6,    6.458,6,   11.511,6,   2157.6,2,   2.7863
  18HU19940524, AR07W,    28,  1, 140250,     50,2,19940530,1520, 60.2977, -48.5920, 2780,   1941.4,   2.9235,  34.8775,2,  34.8773,2,    218.6,2,    296.1,6,    10.57,6,    15.75,6,     1.16,6,    2.823,2,    1.735,2,    0.257,2,    6.196,2,   11.379,2,   2157.9,2,   2.7776
  18HU19940524, AR07W,    28,  1, 140249,     49,2,19940530,1520, 60.2977, -48.5920, 2780,   2142.3,   2.8381,  34.8891,2,  34.8890,2,    217.5,2,    293.0,2,    10.82,6,    15.43,6,     1.17,6,    2.487,2,    1.356,2,    0.347,2,    5.614,2,   10.721,2,   2157.8,6,   2.6752
  18HU19940524, AR07W,    28,  1, 140248,     48,2,19940530,1520, 60.2977, -48.5920, 2780,   2293.2,   2.8071,  34.8917,2,  34.8914,2,    217.4,2,    292.2,2,    10.89,6,    14.93,6,     1.16,6,    2.586,2,    1.410,2,    0.237,2,    5.360,2,    9.152,2,   1026.1,4,   2.6306
  18HU19940524, AR07W,    28,  1, 140247,     47,3,19940530,1520, 60.2977, -48.5920, 2780,   2424.1,   2.7795,  34.8988,2,  34.8796,4,    216.7,2,    299.7,2,    10.04,4,    14.85,4,     1.16,4,    3.044,2,    1.789,2,    0.562,3,    6.643,2,   13.399,2,   2155.2,2,   2.5910
  18HU19940524, AR07W,    28,  1, 140246,     46,2,19940530,1520, 60.2977, -48.5920, 2780,   2544.7,   2.4560,  34.8866,2,  34.8867,2,    221.2,2,    294.9,2,    10.52,6,    13.84,6,     1.14,6,    2.583,2,    1.543,2,    0.300,2,    5.568,2,    9.794,2,   2158.2,2,   2.2620
  18HU19940524, AR07W,    28,  1, 140245,     45,2,19940530,1520, 60.2977, -48.5920, 2780,   2650.1,   2.3585,  34.8818,2,  34.8830,2,    223.9,2,    296.4,2,    10.43,6,    13.86,6,     1.11,6,    2.659,2,    1.547,2,    0.277,2,    5.840,2,   10.273,2,   2158.1,6,   2.1563
  18HU19940524, AR07W,    28,  1, 140244,     44,3,19940530,1520, 60.2977, -48.5920, 2780,   2764.0,   2.3304,  34.8814,2,  34.9047,4,    226.4,2,    294.8,2,    10.45,4,    13.79,4,     1.11,4,    2.598,2,    1.393,2,    0.629,3,    5.884,2,   11.554,2,   2157.7,2,   2.1178
  18HU19940524, AR07W,    29,  1, 140279,     79,3,19940530,1913, 60.1792, -48.7238, 2916,      6.3,   4.3402,  34.7739,2,  34.7798,2,    227.6,2,    324.0,2,     7.93,4,    12.21,4,     1.01,4,    4.142,2,    2.335,2,    0.505,2,    7.898,2,   17.408,2,   -999.0,5,   4.3398
  18HU19940524, AR07W,    29,  1, 140278,     78,2,19940530,1913, 60.1792, -48.7238, 2916,     52.5,   4.0355,  34.7962,2,  34.7980,2,    226.6,2,    319.9,2,     7.98,6,    12.46,6,     1.03,6,    4.019,2,    2.226,2,    0.450,2,    7.647,2,   13.281,2,   2145.6,2,   4.0319
  18HU19940524, AR07W,    29,  1, 140277,     77,2,19940530,1913, 60.1792, -48.7238, 2916,    118.7,   4.0305,  34.8156,2,  34.8162,2,    224.0,2,    318.8,2,     8.05,6,    12.74,6,     1.04,6,    4.084,2,    2.851,2,    0.526,2,    7.578,2,   10.707,2,   2132.3,2,   4.0222
  18HU19940524, AR07W,    29,  1, 140276,     76,2,19940530,1913, 60.1792, -48.7238, 2916,    245.1,   3.8948,  34.8589,2,  34.8614,2,    220.5,2,    311.6,2,     8.38,6,    13.54,6,     1.10,6,    3.668,2,    2.101,2,    0.410,2,    6.308,2,    9.163,2,   2140.9,2,   3.8777
  18HU19940524, AR07W,    29,  1, 140275,     75,2,19940530,1913, 60.1792, -48.7238, 2916,    485.3,   3.6937,  34.8766,2,  34.8772,2,    218.5,2,    304.1,2,     8.84,6,    14.52,6,     1.09,6,    3.468,2,    1.777,2,    0.391,2,    6.279,2,    9.131,2,   2146.9,2,   3.6597
  18HU19940524, AR07W,    29,  1, 140274,     74,2,19940530,1913, 60.1792, -48.7238, 2916,    679.1,   3.4012,  34.8776,2,  34.8783,2,    217.8,2,    294.5,2,     9.37,6,    15.27,6,     1.14,6,    3.139,2,    1.640,2,    0.436,2,    5.929,2,    9.848,2,   2153.2,2,   3.3542
  18HU19940524, AR07W,    29,  1, 140273,     73,2,19940530,1913, 60.1792, -48.7238, 2916,    784.2,   3.2877,  34.8762,2,  34.8759,2,    218.0,2,    302.1,6,     9.65,6,    15.50,6,     1.15,6,    3.290,2,    2.002,2,    0.356,2,    6.097,2,     8.75,2,   -999.0,5,   3.2335
  18HU19940524, AR07W,    29,  1, 140272,     72,2,19940530,1913, 60.1792, -48.7238, 2916,   1001.0,   3.1079,  34.8702,2,  34.8709,2,    219.2,2,    302.8,2,     9.86,6,    15.21,6,     1.17,6,    3.321,6,    1.813,6,    0.406,6,    6.678,6,   11.384,6,   2046.2,4,   3.0384
  18HU19940524, AR07W,    29,  1, 140271,     71,2,19940530,1913, 60.1792, -48.7238, 2916,   1216.0,   2.8363,  34.8797,2,  34.8798,2,    216.0,2,    297.1,2,    10.40,6,    14.86,6,     1.14,6,    2.609,2,    1.755,2,    0.259,2,    5.550,2,   14.456,3,   -999.0,5,   2.7524
  18HU19940524, AR07W,    29,  1, 140270,     70,2,19940530,1913, 60.1792, -48.7238, 2916,   1513.5,   2.6482,  34.8943,2,  34.8951,2,    215.1,2,    291.3,2,    11.20,6,    14.92,6,     1.17,6,    2.026,2,    1.095,2,    0.097,2,    3.786,2,    5.443,2,   -999.0,5,   2.5425
  18HU19940524, AR07W,    29,  1, 140269,     69,2,19940530,1913, 60.1792, -48.7238, 2916,   1762.5,   2.4853,  34.8810,2,  34.8824,2,    219.0,2,    296.8,2,    10.56,6,    14.30,6,     1.12,6,    2.415,2,    1.413,2,    0.176,2,    4.939,2,    6.959,2,   -999.0,5,   2.3610
  18HU19940524, AR07W,    29,  1, 140268,     68,2,19940530,1913, 60.1792, -48.7238, 2916,   1913.4,   2.3973,  34.8806,2,  34.8816,2,    220.2,2,    297.3,2,    10.51,6,    14.07,6,     1.13,6,    2.295,2,    1.386,2,    0.188,2,    4.438,2,    5.936,2,   2159.2,2,   2.2615
  18HU19940524, AR07W,    29,  1, 140267,     67,2,19940530,1913, 60.1792, -48.7238, 2916,   2004.3,   2.3964,  34.8815,2,  34.8837,2,    221.5,2,    296.5,2,    10.73,6,    14.34,6,     1.12,6,    2.256,2,    1.162,2,    0.165,2,    4.143,2,    6.874,2,   2166.4,2,   2.2527
  18HU19940524, AR07W,    29,  1, 140266,     66,2,19940530,1913, 60.1792, -48.7238, 2916,   2172.3,   2.3821,  34.8852,2,  34.8869,2,    220.8,2,    296.2,2,    10.90,6,    14.53,6,     1.13,6,    2.272,6,    1.212,6,    0.176,6,    4.639,6,   13.027,4,   -999.0,5,   2.2238
  18HU19940524, AR07W,    29,  1, 140265,     65,2,19940530,1913, 60.1792, -48.7238, 2916,   2372.4,   2.3020,  34.8803,2,  34.8806,2,    222.5,2,    297.5,2,    10.62,6,    14.40,6,     1.13,6,    2.352,2,    1.218,2,    0.189,2,    4.574,2,     5.62,2,   2160.0,6,   2.1270
  18HU19940524, AR07W,    29,  1, 140264,     64,2,19940530,1913, 60.1792, -48.7238, 2916,   2571.8,   2.1853,  34.8745,2,  34.8764,2,    225.2,2,    299.6,6,    10.36,6,    14.30,6,     1.12,6,    2.504,2,    1.354,2,    0.176,2,    5.563,2,   13.408,3,   2151.8,2,   1.9939
  18HU19940524, AR07W,    29,  1, 140263,     63,2,19940530,1913, 60.1792, -48.7238, 2916,   2721.7,   2.1293,  34.8843,2,  34.8855,2,    224.1,2,    295.3,2,    11.44,6,    14.73,6,     1.12,6,    2.255,2,    1.195,2,    0.150,2,    4.597,2,    6.939,2,   2159.6,2,   1.9248
  18HU19940524, AR07W,    29,  1, 140262,     62,2,19940530,1913, 60.1792, -48.7238, 2916,   2896.9,   1.9118,  34.8838,2,  34.8837,2,    228.8,2,    298.0,2,    11.22,4,    14.63,4,     1.10,4,    2.329,2,    1.333,2,    0.157,2,    4.459,2,    5.476,2,   1059.9,4,   1.6949