BOTTLE,20140813SIOCCHRJL
EXPOCODE,SECT_ID,STNNBR,CASTNO,SAMPNO,BTLNBR,BTLNBR_FLAG_W,DATE,TIME,LATITUDE,LONGITUDE,DEPTH,CTDPRS,CTDTMP,CTDSAL,CTDSAL_FLAG_W,SALNTY,SALNTY_FLAG_W,CTDOXY,CTDOXY_FLAG_W,OXYGEN,OXYGEN_FLAG_W,SILCAT,SILCAT_FLAG_W,NITRAT,NITRAT_FLAG_W,PHSPHT,PHSPHT_FLAG_W,CFC-11,CFC-11_FLAG_W,CFC-12,CFC-12_FLAG_W,CFC113,CFC113_FLAG_W,CCL4,CCL4_FLAG_W,MCHFRM,MCHFRM_FLAG_W,TCARBN,TCARBN_FLAG_W,THETA
,,,,,,,,,,,METERS,DBAR,ITS-90,PSS-78,,PSS-78,,UMOL/KG,,UMOL/KG,,UMOL/KG,,UMOL/KG,,UMOL/KG,,PMOL/KG,,PMOL/KG,,PMOL/KG,,PMOL/KG,,PMOL/KG,,UMOL/KG,,DEG C
  18HU19940524, AR07W,    33,  1, 140359,     59,2,19940531,1340, 59.0555, -49.9235, 3484,      4.0,   3.6222,  34.5519,2,-999.0000,9,    250.1,2,   -999.0,9,  -999.00,9,  -999.00,9,  -999.00,9, -999.000,9, -999.000,9, -999.000,9, -999.000,9,     -999,9,   -999.0,9,   3.6219
  18HU19940524, AR07W,    33,  1, 140358,     58,2,19940531,1340, 59.0555, -49.9235, 3484,      4.4,   3.6162,  34.5520,2,-999.0000,9,    250.0,2,   -999.0,9,     7.89,6,     9.76,6,     0.84,6, -999.000,9, -999.000,9, -999.000,9, -999.000,9,     -999,9,   -999.0,9,   3.6159
  18HU19940524, AR07W,    33,  1, 140357,     57,2,19940531,1340, 59.0555, -49.9235, 3484,     13.0,   3.6139,  34.5517,2,-999.0000,9,    250.0,2,   -999.0,9,  -999.00,9,  -999.00,9,  -999.00,9, -999.000,9, -999.000,9, -999.000,9, -999.000,9,     -999,9,   -999.0,9,   3.6131
  18HU19940524, AR07W,    33,  1, 140355,     55,2,19940531,1340, 59.0555, -49.9235, 3484,     23.6,   3.4212,  34.5573,2,-999.0000,9,    250.9,2,   -999.0,9,     7.90,6,     9.79,6,     0.84,6, -999.000,9, -999.000,9, -999.000,9, -999.000,9,     -999,9,   -999.0,9,   3.4197
  18HU19940524, AR07W,    33,  1, 140356,     56,2,19940531,1340, 59.0555, -49.9235, 3484,     23.7,   3.4806,  34.5531,2,-999.0000,9,    250.4,2,   -999.0,9,  -999.00,9,  -999.00,9,  -999.00,9, -999.000,9, -999.000,9, -999.000,9, -999.000,9,     -999,9,   -999.0,9,   3.4791
  18HU19940524, AR07W,    33,  1, 140354,     54,2,19940531,1340, 59.0555, -49.9235, 3484,     28.3,   3.3707,  34.5599,2,-999.0000,9,    250.3,2,   -999.0,9,  -999.00,9,  -999.00,9,  -999.00,9, -999.000,9, -999.000,9, -999.000,9, -999.000,9,     -999,9,   -999.0,9,   3.3689
  18HU19940524, AR07W,    33,  1, 140353,     53,2,19940531,1340, 59.0555, -49.9235, 3484,     32.2,   3.3472,  34.5677,2,-999.0000,9,    248.9,2,   -999.0,9,  -999.00,9,  -999.00,9,  -999.00,9, -999.000,9, -999.000,9, -999.000,9, -999.000,9,     -999,9,   -999.0,9,   3.3452
  18HU19940524, AR07W,    33,  1, 140352,     52,2,19940531,1340, 59.0555, -49.9235, 3484,     32.4,   3.3415,  34.5728,2,-999.0000,9,    248.7,2,   -999.0,9,     7.85,6,     9.80,6,     0.86,6, -999.000,9, -999.000,9, -999.000,9, -999.000,9,     -999,9,   -999.0,9,   3.3395
  18HU19940524, AR07W,    33,  1, 140351,     51,2,19940531,1340, 59.0555, -49.9235, 3484,     43.3,   3.3626,  34.6058,2,-999.0000,9,    247.2,2,   -999.0,9,  -999.00,9,  -999.00,9,  -999.00,9, -999.000,9, -999.000,9, -999.000,9, -999.000,9,     -999,9,   -999.0,9,   3.3599
  18HU19940524, AR07W,    33,  1, 140350,     50,2,19940531,1340, 59.0555, -49.9235, 3484,     43.4,   3.3619,  34.6077,2,-999.0000,9,    246.9,2,   -999.0,9,     8.01,6,    10.35,6,     0.90,6, -999.000,9, -999.000,9, -999.000,9, -999.000,9,     -999,9,   -999.0,9,   3.3591
  18HU19940524, AR07W,    33,  1, 140349,     49,2,19940531,1340, 59.0555, -49.9235, 3484,     53.8,   3.4421,  34.6526,2,-999.0000,9,    245.6,2,   -999.0,9,  -999.00,9,  -999.00,9,  -999.00,9, -999.000,9, -999.000,9, -999.000,9, -999.000,9,     -999,9,   -999.0,9,   3.4386
  18HU19940524, AR07W,    33,  1, 140348,     48,2,19940531,1340, 59.0555, -49.9235, 3484,     63.9,   3.4071,  34.6876,2,-999.0000,9,    245.2,2,   -999.0,9,  -999.00,9,  -999.00,9,  -999.00,9, -999.000,9, -999.000,9, -999.000,9, -999.000,9,     -999,9,   -999.0,9,   3.4030
  18HU19940524, AR07W,    33,  1, 140347,     47,2,19940531,1340, 59.0555, -49.9235, 3484,     64.0,   3.3788,  34.6782,2,-999.0000,9,    244.9,2,   -999.0,9,     8.27,6,    11.42,6,     0.95,6, -999.000,9, -999.000,9, -999.000,9, -999.000,9,     -999,9,   -999.0,9,   3.3747
  18HU19940524, AR07W,    33,  1, 140346,     46,2,19940531,1340, 59.0555, -49.9235, 3484,     78.8,   3.2213,  34.7134,2,-999.0000,9,    244.6,2,   -999.0,9,     8.38,6,    11.61,6,     0.97,6, -999.000,9, -999.000,9, -999.000,9, -999.000,9,     -999,9,   -999.0,9,   3.2164
  18HU19940524, AR07W,    33,  1, 140345,     45,2,19940531,1340, 59.0555, -49.9235, 3484,     83.3,   3.0262,  34.7018,2,-999.0000,9,    244.5,2,   -999.0,9,     8.36,6,    11.52,6,     0.97,6, -999.000,9, -999.000,9, -999.000,9, -999.000,9,     -999,9,   -999.0,9,   3.0211
  18HU19940524, AR07W,    33,  1, 140344,     44,2,19940531,1340, 59.0555, -49.9235, 3484,    104.4,   3.0070,  34.7318,2,-999.0000,9,    242.8,2,   -999.0,9,     8.67,6,    12.24,6,     1.02,6, -999.000,9, -999.000,9, -999.000,9, -999.000,9,     -999,9,   -999.0,9,   3.0006
  18HU19940524, AR07W,    33,  1, 140343,     43,2,19940531,1340, 59.0555, -49.9235, 3484,    153.0,   2.9776,  34.7784,2,-999.0000,9,    242.4,2,   -999.0,9,     9.05,6,    13.70,6,     1.10,6, -999.000,9, -999.000,9, -999.000,9, -999.000,9,     -999,9,   -999.0,9,   2.9682
  18HU19940524, AR07W,    33,  1, 140342,     42,2,19940531,1340, 59.0555, -49.9235, 3484,    202.4,   2.9449,  34.7888,2,-999.0000,9,    241.4,2,   -999.0,9,  -999.00,9,  -999.00,9,  -999.00,9, -999.000,9, -999.000,9, -999.000,9, -999.000,9,     -999,9,   -999.0,9,   2.9324
  18HU19940524, AR07W,    33,  1, 140341,     41,2,19940531,1340, 59.0555, -49.9235, 3484,    254.6,   3.0062,  34.8104,2,-999.0000,9,    237.0,2,   -999.0,9,  -999.00,9,  -999.00,9,  -999.00,9, -999.000,9, -999.000,9, -999.000,9, -999.000,9,     -999,9,   -999.0,9,   2.9903
  18HU19940524, AR07W,    33,  1, 140340,     40,2,19940531,1340, 59.0555, -49.9235, 3484,    303.8,   2.9990,  34.8197,2,-999.0000,9,    237.7,2,   -999.0,9,  -999.00,9,  -999.00,9,  -999.00,9, -999.000,9, -999.000,9, -999.000,9, -999.000,9,     -999,9,   -999.0,9,   2.9799
  18HU19940524, AR07W,    33,  2, 140379,     79,2,19940531,1611, 59.0555, -49.9235, 3484,      7.9,   3.6743,  34.5518,2,  34.5525,2,    244.6,2,    341.6,2,     7.76,6,     9.19,6,     0.72,6,    4.397,2,    2.611,2,    0.454,2,    8.850,2,   15.166,2,   -999.0,5,   3.6738
  18HU19940524, AR07W,    33,  2, 140378,     78,3,19940531,1611, 59.0555, -49.9235, 3484,     55.3,   3.4707,  34.6434,2,  34.6393,2,    240.8,2,    332.6,2,     7.99,4,    10.35,4,     0.79,4,    4.542,2,    6.229,4,    0.417,2,    9.586,2,   18.462,2,   -999.0,5,   3.4671
  18HU19940524, AR07W,    33,  2, 140377,     77,2,19940531,1611, 59.0555, -49.9235, 3484,    123.7,   3.0672,  34.7729,2,  34.7734,2,    231.1,2,    315.7,2,     8.76,6,    14.21,6,     1.00,6,    4.021,2,    2.554,2,    0.596,2,    8.383,2,   14.252,2,   -999.0,5,   3.0595
  18HU19940524, AR07W,    33,  2, 140376,     76,2,19940531,1611, 59.0555, -49.9235, 3484,    216.6,   3.0334,  34.8086,2,  34.8082,2,    228.4,2,    312.2,2,     9.11,6,    15.47,6,     1.12,6,    3.818,2,    2.258,2,    0.278,2,    7.325,2,   11.994,2,   -999.0,5,   3.0199
  18HU19940524, AR07W,    33,  2, 140375,     75,2,19940531,1611, 59.0555, -49.9235, 3484,    329.8,   3.0360,  34.8288,2,  34.8255,2,    227.2,2,    308.3,2,     9.37,6,    15.58,6,     1.08,6,    3.552,2,    2.150,2,    0.264,2,    6.465,2,   10.141,2,   -999.0,5,   3.0151
  18HU19940524, AR07W,    33,  2, 140374,     74,2,19940531,1611, 59.0555, -49.9235, 3484,    472.1,   2.9156,  34.8333,2,  34.8330,2,    228.6,2,    307.7,2,     9.35,6,    15.81,6,     1.09,6,    3.592,2,    1.972,2,    0.355,2,    6.272,2,   10.424,2,   -999.0,5,   2.8856
  18HU19940524, AR07W,    33,  2, 140373,     73,2,19940531,1611, 59.0555, -49.9235, 3484,    688.3,   2.8784,  34.8356,2,  34.8340,2,    230.3,2,    306.7,2,     9.48,6,    15.84,6,     1.10,6,    3.487,2,    3.458,3,    0.253,2,    6.745,2,    12.43,2,   -999.0,5,   2.8336
  18HU19940524, AR07W,    33,  2, 140372,     72,2,19940531,1611, 59.0555, -49.9235, 3484,    933.5,   2.8207,  34.8330,2,-999.0000,5,    230.9,2,    306.6,2,     9.53,6,    15.90,6,     1.10,6,    3.343,2,    6.406,4,    0.243,2,    6.564,2,   11.113,2,   -999.0,5,   2.7586
  18HU19940524, AR07W,    33,  2, 140371,     71,2,19940531,1611, 59.0555, -49.9235, 3484,   1219.2,   2.8135,  34.8338,2,  34.8325,2,    232.2,2,    306.9,2,     9.54,6,    15.84,6,     1.09,6,    3.101,2,    1.929,2,    0.283,2,    5.027,2,    8.003,2,   -999.0,5,   2.7297
  18HU19940524, AR07W,    33,  2, 140370,     70,2,19940531,1611, 59.0555, -49.9235, 3484,   1524.3,   2.8241,  34.8345,2,  34.8331,2,    234.0,2,    306.2,2,     9.42,6,    15.66,6,     1.09,6,    3.612,6,    4.160,4,    0.362,6,    7.335,6,   12.297,6,   -999.0,5,   2.7156
  18HU19940524, AR07W,    33,  2, 140369,     69,2,19940531,1611, 59.0555, -49.9235, 3484,   1827.7,   2.8540,  34.8392,2,  34.8381,2,    232.6,2,    304.4,2,     9.53,6,    15.42,6,     1.09,6,    3.044,2,    1.347,2,    0.279,2,    4.622,2,    8.559,2,   -999.0,5,   2.7192
  18HU19940524, AR07W,    33,  2, 140368,     68,2,19940531,1611, 59.0555, -49.9235, 3484,   2127.7,   2.9801,  34.8641,2,  34.8617,2,    227.4,2,    297.7,2,    10.09,6,    15.28,6,     1.19,3,    2.593,2,    1.858,2,    0.157,2,    5.460,2,    8.868,2,   -999.0,5,   2.8163
  18HU19940524, AR07W,    33,  2, 140367,     67,3,19940531,1611, 59.0555, -49.9235, 3484,   2370.6,   3.0606,  34.9014,2,  34.8952,4,    219.9,2,    287.9,2,    10.94,4,    15.14,4,     1.11,4,    1.829,2,    0.887,2,    0.119,2,    3.410,2,    5.731,2,   -999.0,5,   2.8723
  18HU19940524, AR07W,    33,  2, 140366,     66,2,19940531,1611, 59.0555, -49.9235, 3484,   2610.5,   2.9200,  34.9123,2,  34.9109,2,    219.0,2,    285.5,2,    11.66,6,    14.61,6,     1.11,6,    1.503,2,    0.855,2,    0.116,2,    2.619,2,    3.258,2,   -999.0,5,   2.7107
  18HU19940524, AR07W,    33,  2, 140365,     65,2,19940531,1611, 59.0555, -49.9235, 3484,   2830.2,   2.7296,  34.9147,2,  34.9141,2,    219.5,2,    284.8,2,    12.55,6,    14.68,6,     1.10,6,    1.476,6,    1.133,6,    0.079,6,    3.438,6,    4.676,6,   -999.0,5,   2.5021
  18HU19940524, AR07W,    33,  2, 140364,     64,2,19940531,1611, 59.0555, -49.9235, 3484,   3020.6,   2.5025,  34.9108,2,  34.9098,2,    221.0,2,    224.9,3,    13.32,6,    14.78,6,     1.11,6,    1.346,2,    0.615,2,    0.154,2,    2.215,2,    3.527,2,   -999.0,5,   2.2605
  18HU19940524, AR07W,    33,  2, 140363,     63,2,19940531,1611, 59.0555, -49.9235, 3484,   3180.2,   2.2360,  34.8988,2,  34.8968,2,    225.1,2,    290.4,2,    12.69,6,    14.30,6,     1.07,6,    1.783,2,    0.959,2,    0.128,2,    3.726,2,    5.354,2,   -999.0,5,   1.9837
  18HU19940524, AR07W,    33,  2, 140362,     62,2,19940531,1611, 59.0555, -49.9235, 3484,   3321.3,   1.9262,  34.8867,2,  34.8853,2,    230.7,2,    294.0,2,    11.58,6,    13.66,6,     1.04,6,    2.091,2,    1.231,2,    0.162,2,    3.365,2,    4.897,2,   -999.0,5,   1.6667
  18HU19940524, AR07W,    33,  2, 140361,     61,2,19940531,1611, 59.0555, -49.9235, 3484,   3421.7,   1.6779,  34.8751,2,  34.8758,2,    237.6,2,    297.7,2,    10.81,6,    13.35,6,     1.01,6,    2.660,2,    1.503,2,    0.152,2,    7.403,2,    20.19,4,   -999.0,5,   1.4142
  18HU19940524, AR07W,    33,  2, 140360,     60,2,19940531,1611, 59.0555, -49.9235, 3484,   3484.0,   1.5810,  34.8778,2,  34.8757,2,    239.5,2,    301.2,6,    10.26,6,    13.30,6,     1.09,6,    2.550,2,    1.520,2,    0.236,2,    4.950,2,    7.814,2,   -999.0,5,   1.3133
  18HU19940524, AR07W,    34,  1, 140399,     99,3,19940531,2138, 58.6413, -50.3915, 3549,     10.8,   3.7466,  34.6635,2,  34.6672,2,    248.6,2,    317.8,3,     7.66,4,     8.29,4,     0.69,4,    4.984,2,    2.979,2,    0.580,2,   11.215,3,   19.638,2,   -999.0,9,   3.7459
  18HU19940524, AR07W,    34,  1, 140398,     98,2,19940531,2138, 58.6413, -50.3915, 3549,     56.1,   3.1398,  34.7218,2,  34.7217,2,    243.2,2,    337.2,2,     8.21,6,    10.61,6,     0.82,6,    4.872,2,    2.857,2,    0.529,2,   10.613,3,   18.874,2,   -999.0,9,   3.1363
  18HU19940524, AR07W,    34,  1, 140397,     97,2,19940531,2138, 58.6413, -50.3915, 3549,    127.5,   2.9339,  34.7738,2,  34.7762,2,    230.8,2,    317.3,2,     9.12,6,    14.20,6,     1.01,6,    4.409,2,    2.467,2,    0.423,2,    9.312,2,   17.193,2,   -999.0,9,   2.9261
  18HU19940524, AR07W,    34,  1, 140396,     96,2,19940531,2138, 58.6413, -50.3915, 3549,    218.8,   2.9334,  34.8098,2,  34.8111,2,    226.8,2,    305.3,2,     9.50,6,    15.77,6,     1.08,6,    4.057,2,    2.917,2,    0.420,2,    8.636,2,   16.047,2,   -999.0,9,   2.9199
  18HU19940524, AR07W,    34,  1, 140395,     95,2,19940531,2138, 58.6413, -50.3915, 3549,    337.5,   2.9405,  34.8290,2,  34.8296,2,    228.0,2,    305.7,2,     9.50,6,    15.95,6,     1.06,6,    3.949,2,    2.732,2,    0.384,2,    8.320,2,    15.72,2,   -999.0,9,   2.9193
  18HU19940524, AR07W,    34,  1, 140394,     94,2,19940531,2138, 58.6413, -50.3915, 3549,    502.6,   2.8489,  34.8291,2,  34.8296,2,    228.2,2,    304.0,2,     9.85,6,    16.05,6,     1.08,6,    3.619,2,    1.845,2,    0.354,2,    7.766,2,   14.662,2,   -999.0,9,   2.8171
  18HU19940524, AR07W,    34,  1, 140393,     93,2,19940531,2138, 58.6413, -50.3915, 3549,    695.4,   2.7689,  34.8251,2,  34.8258,2,    231.5,2,    307.0,2,     9.79,6,    15.97,6,     1.08,6,    3.756,2,    2.149,2,    0.385,2,    7.952,2,   14.881,2,   -999.0,9,   2.7242
  18HU19940524, AR07W,    34,  1, 140392,     92,2,19940531,2138, 58.6413, -50.3915, 3549,    910.3,   2.7542,  34.8261,2,  34.8262,2,    232.6,2,    306.7,2,     9.69,6,    16.00,6,     1.14,6,    3.759,2,    2.043,2,    0.376,2,    7.957,2,   15.398,2,   -999.0,9,   2.6943
  18HU19940524, AR07W,    34,  1, 140391,     91,2,19940531,2138, 58.6413, -50.3915, 3549,   1179.6,   2.7522,  34.8262,2,  34.8276,2,    234.9,2,    307.4,2,     9.72,6,    16.23,6,     1.08,6,    3.662,6,    2.654,6,    0.305,6,    7.636,6,   14.948,6,   -999.0,9,   2.6721
  18HU19940524, AR07W,    34,  1, 140390,     90,2,19940531,2138, 58.6413, -50.3915, 3549,   1489.4,   2.7705,  34.8279,2,  34.8259,2,    234.7,2,    309.2,2,     9.68,6,    16.35,6,     1.05,6,    3.715,2,    1.993,2,    0.355,2,    7.911,2,   15.636,2,   -999.0,9,   2.6655
  18HU19940524, AR07W,    34,  1, 140389,     89,2,19940531,2138, 58.6413, -50.3915, 3549,   1761.3,   2.7779,  34.8273,2,  34.8253,2,    236.6,2,    307.8,2,     9.67,6,    16.32,6,     1.07,6,    3.726,2,    1.995,2,    0.370,2,    7.989,2,   14.768,2,   -999.0,9,   2.6500
  18HU19940524, AR07W,    34,  1, 140388,     88,2,19940531,2138, 58.6413, -50.3915, 3549,   2037.3,   2.8159,  34.8306,2,  34.8293,2,    236.3,2,    305.4,6,     9.69,6,    16.46,6,     1.06,6,    3.667,2,    2.000,2,    0.367,2,    7.917,2,   14.809,2,   -999.0,9,   2.6631
  18HU19940524, AR07W,    34,  1, 140387,     87,2,19940531,2138, 58.6413, -50.3915, 3549,   2408.7,   3.0664,  34.8812,2,  34.8820,2,    225.4,2,    291.6,2,    10.82,6,    16.54,6,     1.07,6,    2.447,2,    1.369,2,    0.147,2,    5.477,2,    9.397,2,   -999.0,9,   2.8744
  18HU19940524, AR07W,    34,  1, 140386,     86,3,19940531,2138, 58.6413, -50.3915, 3549,   2671.6,   3.0107,  34.9106,2,  34.9066,4,    220.9,2,    284.6,2,    11.77,4,    15.92,4,     1.08,4,    1.742,2,    1.017,2,    0.090,2,    4.314,2,    6.982,2,   -999.0,9,   2.7936
  18HU19940524, AR07W,    34,  1, 140385,     85,2,19940531,2138, 58.6413, -50.3915, 3549,   2893.3,   2.8056,  34.9122,2,  34.9121,2,    221.9,2,    281.6,2,    12.34,6,    15.89,6,     1.06,6,    1.687,2,    1.373,2,    0.066,2,    4.200,2,    6.898,2,   -999.0,9,   2.5701
  18HU19940524, AR07W,    34,  1, 140384,     84,2,19940531,2138, 58.6413, -50.3915, 3549,   3091.0,   2.5570,  34.9067,2,  34.9064,2,    223.3,2,    286.3,2,    12.70,6,    15.30,6,     1.12,6,    1.774,2,    0.954,2,    0.079,2,    4.301,2,    6.795,2,   -999.0,9,   2.3066
  18HU19940524, AR07W,    34,  1, 140383,     83,2,19940531,2138, 58.6413, -50.3915, 3549,   3250.2,   2.2931,  34.9012,2,  34.8996,2,    225.6,2,    285.9,2,    13.62,6,    15.10,6,     1.06,6,    1.703,6,    0.834,6,    0.116,6,    3.518,6,    5.092,6,   -999.0,9,   2.0322
  18HU19940524, AR07W,    34,  1, 140382,     82,2,19940531,2138, 58.6413, -50.3915, 3549,   3388.6,   1.9433,  34.8840,2,  34.8825,2,    233.0,2,    295.7,2,    11.49,6,    14.09,6,     1.01,6,    2.448,2,    1.328,2,    0.156,2,    5.577,2,   10.315,2,   -999.0,9,   1.6765
  18HU19940524, AR07W,    34,  1, 140381,     81,2,19940531,2138, 58.6413, -50.3915, 3549,   3488.1,   1.7163,  34.8793,2,  34.8768,2,    237.1,2,    300.9,2,    10.42,6,    13.80,6,     0.99,6,    2.822,2,    1.544,2,    0.223,2,    6.063,2,   11.564,2,   -999.0,9,   1.4448
  18HU19940524, AR07W,    34,  1, 140380,     80,2,19940531,2138, 58.6413, -50.3915, 3549,   3546.7,   1.5789,  34.8790,2,  34.8782,2,    240.2,2,    301.5,2,    10.44,6,    13.88,6,     1.01,6,    2.885,2,    1.646,2,    0.214,2,    6.235,2,   12.138,2,   -999.0,9,   1.3048