BOTTLE,20140813SIOCCHRJL
EXPOCODE,SECT_ID,STNNBR,CASTNO,SAMPNO,BTLNBR,BTLNBR_FLAG_W,DATE,TIME,LATITUDE,LONGITUDE,DEPTH,CTDPRS,CTDTMP,CTDSAL,CTDSAL_FLAG_W,SALNTY,SALNTY_FLAG_W,CTDOXY,CTDOXY_FLAG_W,OXYGEN,OXYGEN_FLAG_W,SILCAT,SILCAT_FLAG_W,NITRAT,NITRAT_FLAG_W,PHSPHT,PHSPHT_FLAG_W,CFC-11,CFC-11_FLAG_W,CFC-12,CFC-12_FLAG_W,CFC113,CFC113_FLAG_W,CCL4,CCL4_FLAG_W,MCHFRM,MCHFRM_FLAG_W,TCARBN,TCARBN_FLAG_W,THETA
,,,,,,,,,,,METERS,DBAR,ITS-90,PSS-78,,PSS-78,,UMOL/KG,,UMOL/KG,,UMOL/KG,,UMOL/KG,,UMOL/KG,,PMOL/KG,,PMOL/KG,,PMOL/KG,,PMOL/KG,,PMOL/KG,,UMOL/KG,,DEG C
  18HU19940524, AR07W,    41,  1, 140543,     43,2,19940602,1250, 56.3253, -52.8723, 3535,      3.9,   3.6058,  34.6135,2,-999.0000,9,    264.6,2,   -999.0,9,     6.08,6,     7.93,6,     0.75,6, -999.000,9, -999.000,9, -999.000,9, -999.000,9,     -999,9,   -999.0,9,   3.6055
  18HU19940524, AR07W,    41,  1, 140542,     42,2,19940602,1250, 56.3253, -52.8723, 3535,      4.1,   3.6036,  34.6142,2,-999.0000,9,    264.6,2,   -999.0,9,  -999.00,9,  -999.00,9,  -999.00,9, -999.000,9, -999.000,9, -999.000,9, -999.000,9,     -999,9,   -999.0,9,   3.6033
  18HU19940524, AR07W,    41,  1, 140541,     41,2,19940602,1250, 56.3253, -52.8723, 3535,     13.0,   3.6043,  34.6142,2,-999.0000,9,    263.7,2,   -999.0,9,     6.08,6,     7.78,6,     0.74,6, -999.000,9, -999.000,9, -999.000,9, -999.000,9,     -999,9,   -999.0,9,   3.6035
  18HU19940524, AR07W,    41,  1, 140540,     40,2,19940602,1250, 56.3253, -52.8723, 3535,     13.1,   3.5939,  34.6144,2,-999.0000,9,    263.9,2,   -999.0,9,  -999.00,9,  -999.00,9,  -999.00,9, -999.000,9, -999.000,9, -999.000,9, -999.000,9,     -999,9,   -999.0,9,   3.5930
  18HU19940524, AR07W,    41,  1, 140538,     38,2,19940602,1250, 56.3253, -52.8723, 3535,     22.1,   3.5866,  34.6134,2,-999.0000,9,    263.0,2,   -999.0,9,  -999.00,9,  -999.00,9,  -999.00,9, -999.000,9, -999.000,9, -999.000,9, -999.000,9,     -999,9,   -999.0,9,   3.5852
  18HU19940524, AR07W,    41,  1, 140539,     39,2,19940602,1250, 56.3253, -52.8723, 3535,     22.8,   3.5869,  34.6144,2,-999.0000,9,    263.5,2,   -999.0,9,     6.14,6,     7.62,6,     0.77,6, -999.000,9, -999.000,9, -999.000,9, -999.000,9,     -999,9,   -999.0,9,   3.5854
  18HU19940524, AR07W,    41,  1, 140536,     36,2,19940602,1250, 56.3253, -52.8723, 3535,     42.1,   3.0456,  34.6799,2,-999.0000,9,    257.6,2,   -999.0,9,  -999.00,9,  -999.00,9,  -999.00,9, -999.000,9, -999.000,9, -999.000,9, -999.000,9,     -999,9,   -999.0,9,   3.0430
  18HU19940524, AR07W,    41,  1, 140537,     37,2,19940602,1250, 56.3253, -52.8723, 3535,     42.5,   3.0855,  34.6676,2,-999.0000,9,    258.2,2,   -999.0,9,     7.79,6,    10.32,6,     0.93,6, -999.000,9, -999.000,9, -999.000,9, -999.000,9,     -999,9,   -999.0,9,   3.0829
  18HU19940524, AR07W,    41,  1, 140534,     34,2,19940602,1250, 56.3253, -52.8723, 3535,     51.7,   2.9542,  34.7283,2,-999.0000,9,    253.6,2,   -999.0,9,  -999.00,9,  -999.00,9,  -999.00,9, -999.000,9, -999.000,9, -999.000,9, -999.000,9,     -999,9,   -999.0,9,   2.9511
  18HU19940524, AR07W,    41,  1, 140535,     35,2,19940602,1250, 56.3253, -52.8723, 3535,     52.5,   2.9510,  34.7288,2,-999.0000,9,    254.1,2,   -999.0,9,     8.50,6,    11.73,6,     1.01,6, -999.000,9, -999.000,9, -999.000,9, -999.000,9,     -999,9,   -999.0,9,   2.9478
  18HU19940524, AR07W,    41,  1, 140532,     32,2,19940602,1250, 56.3253, -52.8723, 3535,     60.4,   2.8898,  34.7302,2,-999.0000,9,    251.8,2,   -999.0,9,  -999.00,9,  -999.00,9,  -999.00,9, -999.000,9, -999.000,9, -999.000,9, -999.000,9,     -999,9,   -999.0,9,   2.8862
  18HU19940524, AR07W,    41,  1, 140533,     33,2,19940602,1250, 56.3253, -52.8723, 3535,     62.2,   2.8269,  34.7299,2,-999.0000,9,    251.2,2,   -999.0,9,     8.62,6,    12.39,6,     1.04,6, -999.000,9, -999.000,9, -999.000,9, -999.000,9,     -999,9,   -999.0,9,   2.8232
  18HU19940524, AR07W,    41,  1, 140531,     31,2,19940602,1250, 56.3253, -52.8723, 3535,     71.1,   2.7974,  34.7408,2,-999.0000,9,    248.9,2,   -999.0,9,     8.71,6,    12.85,6,     1.06,6, -999.000,9, -999.000,9, -999.000,9, -999.000,9,     -999,9,   -999.0,9,   2.7932
  18HU19940524, AR07W,    41,  1, 140530,     30,2,19940602,1250, 56.3253, -52.8723, 3535,     75.7,   2.7998,  34.7434,2,-999.0000,9,    248.3,2,   -999.0,9,  -999.00,9,  -999.00,9,  -999.00,9, -999.000,9, -999.000,9, -999.000,9, -999.000,9,     -999,9,   -999.0,9,   2.7953
  18HU19940524, AR07W,    41,  1, 140529,     29,2,19940602,1250, 56.3253, -52.8723, 3535,     76.3,   2.8059,  34.7429,2,-999.0000,9,    248.5,2,   -999.0,9,  -999.00,9,  -999.00,9,  -999.00,9, -999.000,9, -999.000,9, -999.000,9, -999.000,9,     -999,9,   -999.0,9,   2.8014
  18HU19940524, AR07W,    41,  1, 140528,     28,2,19940602,1250, 56.3253, -52.8723, 3535,     80.4,   2.8294,  34.7425,2,-999.0000,9,    248.9,2,   -999.0,9,     9.47,6,    12.64,6,     1.05,6, -999.000,9, -999.000,9, -999.000,9, -999.000,9,     -999,9,   -999.0,9,   2.8246
  18HU19940524, AR07W,    41,  1, 140527,     27,2,19940602,1250, 56.3253, -52.8723, 3535,    101.5,   2.7917,  34.7545,2,-999.0000,9,    244.9,2,   -999.0,9,     8.88,6,    13.49,6,     1.09,6, -999.000,9, -999.000,9, -999.000,9, -999.000,9,     -999,9,   -999.0,9,   2.7857
  18HU19940524, AR07W,    41,  1, 140526,     26,2,19940602,1250, 56.3253, -52.8723, 3535,    154.6,   2.8851,  34.7936,2,-999.0000,9,    239.5,2,   -999.0,9,     9.23,6,    14.47,6,     1.14,6, -999.000,9, -999.000,9, -999.000,9, -999.000,9,     -999,9,   -999.0,9,   2.8757
  18HU19940524, AR07W,    41,  1, 140525,     25,2,19940602,1250, 56.3253, -52.8723, 3535,    202.3,   2.8897,  34.8089,2,-999.0000,9,    243.6,2,   -999.0,9,  -999.00,9,  -999.00,9,  -999.00,9, -999.000,9, -999.000,9, -999.000,9, -999.000,9,     -999,9,   -999.0,9,   2.8773
  18HU19940524, AR07W,    41,  1, 140524,     24,2,19940602,1250, 56.3253, -52.8723, 3535,    300.7,   2.8788,  34.8247,2,-999.0000,9,    245.3,2,   -999.0,9,  -999.00,9,  -999.00,9,  -999.00,9, -999.000,9, -999.000,9, -999.000,9, -999.000,9,     -999,9,   -999.0,9,   2.8602
  18HU19940524, AR07W,    41,  2, 140544,     44,2,19940602,1919, 56.3253, -52.8723, 3535,   3532.5,   1.6270,  34.8727,2,-999.0000,9,    236.1,2,   -999.0,9,  -999.00,9,  -999.00,9,  -999.00,9, -999.000,9, -999.000,9, -999.000,9, -999.000,9,     -999,9,   -999.0,5,   1.3532
  18HU19940524, AR07W,    42,  1, 140564,     64,2,19940602,2301, 56.1108, -53.1130, 3354,      8.5,   3.5205,  34.5708,2,  34.5724,2,    264.1,2,    351.1,2,     5.65,6,     8.08,6,     0.81,6,    4.732,2,    2.537,2,    0.428,2,   10.378,3,   17.718,2,   2097.6,2,   3.5200
  18HU19940524, AR07W,    42,  1, 140563,     63,2,19940602,2301, 56.1108, -53.1130, 3354,     54.7,   3.2750,  34.7214,2,  34.7193,2,    253.5,2,    337.7,2,     8.36,6,    11.35,6,     1.04,6,    4.497,2,    2.210,2,    0.396,2,    9.686,2,   17.204,2,   2125.0,2,   3.2716
  18HU19940524, AR07W,    42,  1, 140562,     62,3,19940602,2301, 56.1108, -53.1130, 3354,     97.7,   3.0904,  34.7829,2,  34.7791,2,    236.4,2,    310.5,2,     8.78,4,    14.08,4,     1.18,4,    4.034,2,    7.270,4,    0.316,2,    8.401,2,    15.75,2,   2142.9,2,   3.0844
  18HU19940524, AR07W,    42,  1, 140561,     61,2,19940602,2301, 56.1108, -53.1130, 3354,    241.0,   3.1151,  34.8351,2,  34.8357,2,    234.1,2,    303.3,2,     9.24,6,    14.52,6,     1.24,6,    3.722,2,    1.935,2,    0.319,2,    7.691,2,   14.861,2,   2146.9,2,   3.0998
  18HU19940524, AR07W,    42,  1, 140560,     60,2,19940602,2301, 56.1108, -53.1130, 3354,    392.4,   2.8539,  34.8245,2,  34.8271,2,    236.3,2,    305.6,2,     9.43,6,    14.49,6,     1.24,6,    3.603,6,    2.295,6,    0.336,6,    7.713,6,   14.634,6,   2148.5,2,   2.8294
  18HU19940524, AR07W,    42,  1, 140559,     59,2,19940602,2301, 56.1108, -53.1130, 3354,    581.3,   2.8986,  34.8397,2,  34.8401,2,    234.7,2,    305.0,2,     9.45,6,    14.11,6,     1.25,6,    3.448,2,    1.745,2,    0.266,2,    7.262,2,   13.666,2,   2148.5,2,   2.8612
  18HU19940524, AR07W,    42,  1, 140558,     58,2,19940602,2301, 56.1108, -53.1130, 3354,    749.0,   2.8206,  34.8324,2,  34.8328,2,    237.7,2,    304.6,2,     9.31,6,    13.75,6,     1.23,6,    3.439,2,    1.656,2,    0.265,2,    7.338,2,   13.861,2,   2148.0,2,   2.7719
  18HU19940524, AR07W,    42,  1, 140557,     57,2,19940602,2301, 56.1108, -53.1130, 3354,    929.3,   2.7603,  34.8265,2,  34.8263,2,    238.2,2,    307.2,2,     9.67,6,    14.37,6,     1.19,6,    3.526,2,    1.728,2,    0.396,3,    7.645,2,   14.692,2,   2148.6,2,   2.6989
  18HU19940524, AR07W,    42,  1, 140556,     56,2,19940602,2301, 56.1108, -53.1130, 3354,   1119.3,   2.7502,  34.8258,2,  34.8247,2,    238.4,2,    306.6,2,     9.76,6,    15.67,6,     1.21,6,    3.406,2,    1.857,2,    0.517,3,    7.401,2,   14.165,2,   2148.2,2,   2.6747
  18HU19940524, AR07W,    42,  1, 140555,     55,2,19940602,2301, 56.1108, -53.1130, 3354,   1348.2,   2.7522,  34.8258,2,  34.8261,2,    239.1,2,    308.6,2,     9.71,6,    15.68,6,     1.20,6,    3.537,2,    1.928,2,    0.257,2,    7.537,2,   13.973,2,   2148.6,2,   2.6588
  18HU19940524, AR07W,    42,  1, 140554,     54,2,19940602,2301, 56.1108, -53.1130, 3354,   1570.6,   2.7724,  34.8275,2,  34.8289,2,    238.3,2,    305.0,2,     9.76,6,    15.74,6,     1.20,6,    3.504,2,    1.834,2,    0.221,2,    7.437,2,   13.287,2,   2147.9,2,   2.6607
  18HU19940524, AR07W,    42,  1, 140553,     53,2,19940602,2301, 56.1108, -53.1130, 3354,   1782.7,   2.7570,  34.8233,2,  34.8241,2,    238.8,2,    307.7,2,     9.72,6,    15.66,6,     1.19,6,    3.534,2,    1.820,2,    0.277,2,    7.581,2,   14.045,2,   2148.0,2,   2.6275
  18HU19940524, AR07W,    42,  1, 140552,     52,2,19940602,2301, 56.1108, -53.1130, 3354,   2102.5,   2.8353,  34.8336,2,  34.8334,2,    237.2,2,    305.7,2,     9.79,6,    15.50,6,     1.19,6,    3.357,2,    1.759,2,    0.243,2,    7.237,2,   13.499,2,   2149.3,2,   2.6762
  18HU19940524, AR07W,    42,  1, 140551,     51,2,19940602,2301, 56.1108, -53.1130, 3354,   2300.7,   3.0509,  34.8798,2,  34.8800,2,    226.3,2,    293.5,2,    10.75,6,    15.83,6,     1.19,6,    2.364,2,    1.184,2,    0.138,2,    5.452,2,    9.481,2,   2150.7,2,   2.8696
  18HU19940524, AR07W,    42,  1, 140550,     50,2,19940602,2301, 56.1108, -53.1130, 3354,   2595.8,   2.9391,  34.9074,2,  34.9079,2,    222.1,2,    285.7,6,    11.78,6,    15.37,6,     1.19,6,    1.726,6,    0.950,6,    0.078,6,    3.916,6,    5.551,6,   2152.2,2,   2.7309
  18HU19940524, AR07W,    42,  1, 140549,     49,2,19940602,2301, 56.1108, -53.1130, 3354,   2800.3,   2.7295,  34.9093,2,  34.9111,2,    222.2,2,    283.6,2,    12.43,6,    15.28,6,     1.17,6,    1.578,2,    0.818,2,    0.534,3,    3.918,2,    6.751,2,   2153.0,2,   2.5050
  18HU19940524, AR07W,    42,  1, 140548,     48,3,19940602,2301, 56.1108, -53.1130, 3354,   3006.4,   2.4004,  34.8990,2,  34.8938,4,    226.0,2,    288.6,2,    12.22,4,    14.85,4,     1.15,4,    1.954,2,    0.992,2,    0.118,2,    4.672,2,    8.112,2,   2152.4,6,   2.1621
  18HU19940524, AR07W,    42,  1, 140547,     47,2,19940602,2301, 56.1108, -53.1130, 3354,   3180.5,   1.9358,  34.8843,2,  34.8857,2,    233.0,2,    295.7,2,    11.67,6,    14.30,6,     1.11,6,    2.286,2,    1.159,2,    0.128,2,    5.182,2,    9.362,2,   2151.8,2,   1.6904
  18HU19940524, AR07W,    42,  1, 140546,     46,2,19940602,2301, 56.1108, -53.1130, 3354,   3279.3,   1.7368,  34.8762,2,  34.8766,2,    237.5,2,    297.7,2,    11.43,6,    14.01,6,     1.10,6,    2.511,2,    1.314,2,    0.151,2,    5.533,2,   10.368,2,   2152.2,2,   1.4861
  18HU19940524, AR07W,    42,  1, 140545,     45,2,19940602,2301, 56.1108, -53.1130, 3354,   3336.5,   1.6240,  34.8732,2,  34.8711,2,    241.3,2,    296.4,2,    11.38,6,    14.15,6,     1.07,6,    2.665,2,    1.331,2,    0.167,2,    5.775,2,   11.089,2,   2152.9,2,   1.3703
  18HU19940524, AR07W,    44,  1, 140584,     84,3,19940603, 558, 55.8438, -53.3733, 3146,      6.0,   1.9106,  34.1918,2,  34.1960,2,    277.3,2,    363.6,2,     6.25,4,     8.32,4,     0.82,4,    4.893,2,    3.040,2,    0.533,2,    8.266,2,    4.571,3,   2088.5,2,   1.9103
  18HU19940524, AR07W,    44,  1, 140583,     83,2,19940603, 558, 55.8438, -53.3733, 3146,     53.0,   1.8551,  34.4278,2,  34.4258,2,    260.0,2,    335.2,2,     7.39,6,    12.13,6,     1.08,6,    4.680,2,    2.559,2,    0.705,2,    7.786,2,    4.467,3,   2124.6,2,   1.8524
  18HU19940524, AR07W,    44,  1, 140582,     82,4,19940603, 558, 55.8438, -53.3733, 3146,    103.7,   2.9625,  34.7234,2,-999.0000,9,    246.1,2,   -999.0,9,  -999.00,9,  -999.00,9,  -999.00,9, -999.000,9, -999.000,9, -999.000,9, -999.000,9,     -999,9,   -999.0,5,   2.9562
  18HU19940524, AR07W,    44,  1, 140581,     81,3,19940603, 558, 55.8438, -53.3733, 3146,    254.8,   3.0385,  34.8082,2,  34.8063,2,    240.3,2,    310.3,2,     8.94,4,    15.01,4,     1.24,4,    3.153,2,    1.467,2,    0.275,2,    5.371,2,    3.448,2,   2149.3,2,   3.0225
  18HU19940524, AR07W,    44,  1, 140580,     80,3,19940603, 558, 55.8438, -53.3733, 3146,    405.6,   3.3133,  34.8662,2,  34.8647,2,    234.0,2,    297.7,2,     9.68,4,    15.48,4,     1.27,4,    3.139,2,    1.300,2,    0.253,2,    5.264,2,    2.917,2,   2155.1,2,   3.2864
  18HU19940524, AR07W,    44,  1, 140579,     79,3,19940603, 558, 55.8438, -53.3733, 3146,    595.5,   3.1709,  34.8641,2,  34.8641,2,    235.6,2,    298.1,2,     9.68,4,    15.38,4,     1.26,4,    2.948,2,    1.475,2,    0.206,2,    4.847,2,    2.484,2,   2154.4,2,   3.1312
  18HU19940524, AR07W,    44,  1, 140578,     78,2,19940603, 558, 55.8438, -53.3733, 3146,    782.1,   3.0915,  34.8631,2,  34.8613,2,    236.1,2,    305.3,2,    10.28,6,    15.45,6,     1.28,6,    2.939,2,    1.166,2,    0.203,2,    5.175,2,    3.351,2,   2154.3,2,   3.0387
  18HU19940524, AR07W,    44,  1, 140577,     77,3,19940603, 558, 55.8438, -53.3733, 3146,    963.6,   2.8899,  34.8397,2,  34.8365,2,    240.4,2,    303.6,2,     9.62,4,    15.73,4,     1.26,4,    3.223,2,    1.823,2,    0.238,2,    5.392,2,    2.785,2,   2152.2,2,   2.8250
  18HU19940524, AR07W,    44,  1, 140576,     76,2,19940603, 558, 55.8438, -53.3733, 3146,   1178.0,   2.8350,  34.8356,2,  34.8365,2,    240.8,2,    304.0,2,     9.65,6,    15.33,6,     1.25,6,    3.119,2,    1.596,2,    0.215,2,    5.771,2,     6.23,3,   2153.2,2,   2.7542
  18HU19940524, AR07W,    44,  1, 140575,     75,2,19940603, 558, 55.8438, -53.3733, 3146,   1392.0,   2.7989,  34.8306,2,  34.8301,2,    241.3,2,    306.6,2,     9.46,6,    15.20,6,     1.20,6,    3.350,2,    1.994,2,    0.264,2,    5.714,2,    3.204,2,   2151.9,2,   2.7015
  18HU19940524, AR07W,    44,  1, 140574,     74,3,19940603, 558, 55.8438, -53.3733, 3146,   1587.1,   2.8056,  34.8319,2,  34.8304,2,    240.5,2,    305.7,2,     9.47,4,    14.83,4,     1.26,4,    3.143,2,    1.866,2,    0.258,2,    5.237,2,    2.646,2,   2151.2,2,   2.6921
  18HU19940524, AR07W,    44,  1, 140573,     73,3,19940603, 558, 55.8438, -53.3733, 3146,   1785.7,   2.8348,  34.8372,2,-999.0000,9,    239.7,2,    305.6,2,     9.96,4,    14.80,4,     1.25,4,    3.151,2,    1.862,2,    0.228,2,    5.421,2,    2.811,2,   2147.5,2,   2.7040
  18HU19940524, AR07W,    44,  1, 140572,     72,3,19940603, 558, 55.8438, -53.3733, 3146,   1984.5,   2.9594,  34.8628,2,  34.8586,2,    233.6,2,    298.3,2,    10.11,4,    14.94,4,     1.27,4,    2.571,2,    1.097,2,    0.136,2,    5.109,2,    4.031,2,   2150.2,2,   2.8091
  18HU19940524, AR07W,    44,  1, 140571,     71,2,19940603, 558, 55.8438, -53.3733, 3146,   2182.7,   3.0588,  34.9015,2,  34.9022,2,    226.3,2,    287.0,2,    11.00,6,    14.45,6,     1.25,6,    1.788,2,    0.761,2,    0.066,2,    3.556,2,    1.603,2,   2152.5,2,   2.8885
  18HU19940524, AR07W,    44,  1, 140570,     70,3,19940603, 558, 55.8438, -53.3733, 3146,   2379.6,   2.9301,  34.9082,2,  34.8682,4,    225.6,2,    285.4,2,    10.14,4,    14.52,4,     1.25,4,    1.657,2,    0.630,2,    0.115,2,    3.008,2,    0.714,2,   2151.5,2,   2.7432
  18HU19940524, AR07W,    44,  1, 140569,     69,2,19940603, 558, 55.8438, -53.3733, 3146,   2579.2,   2.7284,  34.9101,2,  34.9112,2,    225.7,2,    258.6,3,    12.08,6,    14.72,6,     1.23,6,    1.655,2,    0.789,2,    0.039,2,    3.111,2,    0.688,2,   2150.9,2,   2.5259
  18HU19940524, AR07W,    44,  1, 140568,     68,3,19940603, 558, 55.8438, -53.3733, 3146,   2797.0,   2.3997,  34.9032,2,  34.8831,4,    228.7,2,    294.4,2,    11.85,4,    14.73,4,     1.22,4, -999.000,9, -999.000,9, -999.000,9, -999.000,9,     -999,9,   -999.0,5,   2.1823
  18HU19940524, AR07W,    44,  1, 140567,     67,2,19940603, 558, 55.8438, -53.3733, 3146,   2980.5,   1.9720,  34.8847,2,  34.8826,2,    236.2,2,    294.9,2,    11.42,6,    13.83,6,     1.12,6,    2.225,6,    1.189,6,    0.191,6,    4.528,6,    5.418,6,   2151.1,2,   1.7457
  18HU19940524, AR07W,    44,  1, 140566,     66,2,19940603, 558, 55.8438, -53.3733, 3146,   3081.6,   1.6539,  34.8736,2,-999.0000,9,    241.3,2,    309.4,2,  -999.00,9,  -999.00,9,  -999.00,9,    2.402,2,    1.359,2,    0.140,2,    4.066,2,        2,2,   2153.3,6,   1.4248
  18HU19940524, AR07W,    44,  1, 140565,     65,3,19940603, 558, 55.8438, -53.3733, 3146,   3147.7,   1.6588,  34.8736,2,  34.7063,3,    243.0,2,    297.8,6,  -999.00,5,  -999.00,5,  -999.00,5,    2.464,2,    1.302,2,    0.247,2,    4.164,2,    1.858,2,   2149.9,2,   1.4231