BOTTLE,20140813SIOCCHRJL
EXPOCODE,SECT_ID,STNNBR,CASTNO,SAMPNO,BTLNBR,BTLNBR_FLAG_W,DATE,TIME,LATITUDE,LONGITUDE,DEPTH,CTDPRS,CTDTMP,CTDSAL,CTDSAL_FLAG_W,SALNTY,SALNTY_FLAG_W,CTDOXY,CTDOXY_FLAG_W,OXYGEN,OXYGEN_FLAG_W,SILCAT,SILCAT_FLAG_W,NITRAT,NITRAT_FLAG_W,PHSPHT,PHSPHT_FLAG_W,CFC-11,CFC-11_FLAG_W,CFC-12,CFC-12_FLAG_W,CFC113,CFC113_FLAG_W,CCL4,CCL4_FLAG_W,MCHFRM,MCHFRM_FLAG_W,TCARBN,TCARBN_FLAG_W,THETA
,,,,,,,,,,,METERS,DBAR,ITS-90,PSS-78,,PSS-78,,UMOL/KG,,UMOL/KG,,UMOL/KG,,UMOL/KG,,UMOL/KG,,PMOL/KG,,PMOL/KG,,PMOL/KG,,PMOL/KG,,PMOL/KG,,UMOL/KG,,DEG C
  18HU19940524, AR07W,    37,  2, 140479,     79,2,19940601,1804, 57.3962, -51.7538, 3549,      8.4,   3.5564,  34.6545,2,  34.6565,2,    252.8,2,    341.6,2,     7.15,6,     8.60,6,     0.74,6,    4.271,2,    2.412,2,    0.815,2,    6.574,2,   11.487,2,   -999.0,9,   3.5559
  18HU19940524, AR07W,    37,  2, 140478,     78,2,19940601,1804, 57.3962, -51.7538, 3549,     54.8,   3.4114,  34.6605,2,  34.6619,2,    249.4,2,    339.2,2,     7.28,6,     9.02,6,     0.76,6,    4.202,2,    2.280,2,    0.726,2,    5.580,2,   10.151,2,   -999.0,9,   3.4079
  18HU19940524, AR07W,    37,  2, 140477,     77,2,19940601,1804, 57.3962, -51.7538, 3549,    125.9,   3.0966,  34.7701,2,  34.7698,2,    233.1,2,    311.3,2,     8.58,6,    14.33,6,     1.07,6,    3.951,2,    2.520,2,    0.679,2,    4.845,2,   10.346,2,   -999.0,9,   3.0888
  18HU19940524, AR07W,    37,  2, 140476,     76,2,19940601,1804, 57.3962, -51.7538, 3549,    216.2,   3.0920,  34.8100,2,  34.8107,2,    231.9,2,    309.8,2,     8.91,6,    14.72,6,     1.09,6,    3.938,6,    2.042,6,    0.589,6,    6.656,6,   12.819,6,   -999.0,9,   3.0784
  18HU19940524, AR07W,    37,  2, 140475,     75,2,19940601,1804, 57.3962, -51.7538, 3549,    333.6,   2.9842,  34.8323,2,  34.8338,2,    231.7,2,    307.9,2,     9.31,6,    15.39,6,     1.13,6,    3.608,2,    2.700,2,    0.578,2,    5.586,2,   16.086,2,   -999.0,9,   2.9632
  18HU19940524, AR07W,    37,  2, 140474,     74,2,19940601,1804, 57.3962, -51.7538, 3549,    481.4,   2.8261,  34.8267,2,  34.8266,2,    233.3,2,    309.9,2,     9.54,6,    15.22,6,     1.14,6,    3.421,2,    2.139,2,    0.600,2,    4.985,2,   10.662,2,   -999.0,9,   2.7958
  18HU19940524, AR07W,    37,  2, 140473,     73,2,19940601,1804, 57.3962, -51.7538, 3549,    698.2,   2.8026,  34.8282,2,  34.8290,2,    232.3,2,    307.8,2,     9.47,6,    15.33,6,     1.13,6,    3.345,2,    1.816,2,    0.560,2,    4.266,2,    9.034,2,   -999.0,9,   2.7575
  18HU19940524, AR07W,    37,  2, 140472,     72,2,19940601,1804, 57.3962, -51.7538, 3549,    926.0,   2.7585,  34.8251,2,  34.8245,2,    232.9,2,    307.6,2,     9.45,6,    15.17,6,     1.14,6,    3.486,2,    2.217,2,    0.564,2,    4.578,2,    9.128,2,   -999.0,9,   2.6974
  18HU19940524, AR07W,    37,  2, 140471,     71,2,19940601,1804, 57.3962, -51.7538, 3549,   1191.5,   2.7680,  34.8269,2,  34.8260,2,    233.3,2,    308.2,2,     9.53,6,    14.91,6,     1.15,6,    3.362,2,    1.872,2,    0.533,2,    4.958,2,   11.482,2,   -999.0,9,   2.6868
  18HU19940524, AR07W,    37,  2, 140470,     70,2,19940601,1804, 57.3962, -51.7538, 3549,   1462.8,   2.7885,  34.8291,2,  34.8298,2,    234.2,2,    307.5,2,     9.45,6,    15.12,6,     1.14,6,    3.368,2,    1.961,2,    0.566,2,    4.205,2,   10.433,2,   -999.0,9,   2.6855
  18HU19940524, AR07W,    37,  2, 140469,     69,2,19940601,1804, 57.3962, -51.7538, 3549,   1751.2,   2.8121,  34.8307,2,  34.8304,2,    234.3,2,    307.0,2,     9.49,6,    15.10,6,     1.16,6,    3.171,2,    1.736,2,    0.479,2,    4.289,2,    8.375,2,   -999.0,9,   2.6846
  18HU19940524, AR07W,    37,  2, 140468,     68,2,19940601,1804, 57.3962, -51.7538, 3549,   2065.3,   2.8294,  34.8306,2,  34.8307,2,    234.6,2,    306.9,2,     9.52,6,    15.17,6,     1.16,6,    3.338,2,    2.030,2,    0.494,2,    5.337,2,    9.152,2,   -999.0,9,   2.6738
  18HU19940524, AR07W,    37,  2, 140467,     67,2,19940601,1804, 57.3962, -51.7538, 3549,   2400.4,   2.9077,  34.8417,2,  34.8431,2,    232.9,2,    303.7,2,     9.63,6,    14.68,6,     1.17,6,    3.079,2,    1.748,2,    0.487,2,    4.179,2,   12.498,2,   -999.0,9,   2.7195
  18HU19940524, AR07W,    37,  2, 140466,     66,2,19940601,1804, 57.3962, -51.7538, 3549,   2669.0,   3.0550,  34.8817,2,  34.8847,2,    225.2,2,    292.4,2,    10.54,6,    14.28,6,     1.19,6,    2.283,6,    1.425,6,    0.204,6,    4.229,6,    5.991,6,   -999.0,9,   2.8374
  18HU19940524, AR07W,    37,  2, 140465,     65,2,19940601,1804, 57.3962, -51.7538, 3549,   2902.5,   3.0196,  34.9119,2,  34.9130,2,    219.8,2,    283.8,2,    11.62,6,    14.12,6,     1.17,6,    1.432,2,    0.787,2,    0.121,2,    2.580,2,    5.329,2,   -999.0,9,   2.7787
  18HU19940524, AR07W,    37,  2, 140464,     64,2,19940601,1804, 57.3962, -51.7538, 3549,   3089.6,   2.8517,  34.9143,2,  34.9161,2,    220.1,2,    283.5,2,    12.11,6,    14.03,6,     1.16,6,    1.508,2,    1.131,2,    0.110,2,    3.008,2,    4.106,2,   -999.0,9,   2.5948
  18HU19940524, AR07W,    37,  2, 140463,     63,3,19940601,1804, 57.3962, -51.7538, 3549,   3251.4,   2.6342,  34.9126,2,  34.9088,4,    221.5,2,    287.3,2,    12.75,4,    14.27,4,     1.16,4,    1.519,2,    0.737,2,    0.151,2,    2.864,2,    4.807,2,   -999.0,9,   2.3652
  18HU19940524, AR07W,    37,  2, 140462,     62,2,19940601,1804, 57.3962, -51.7538, 3549,   3399.8,   2.3219,  34.9009,2,  34.9022,2,    226.1,2,    287.3,2,    12.92,6,    14.00,6,     1.14,6,    1.667,2,    0.931,2,    0.113,2,    3.274,2,     4.23,2,   -999.0,9,   2.0446
  18HU19940524, AR07W,    37,  2, 140461,     61,2,19940601,1804, 57.3962, -51.7538, 3549,   3490.1,   2.0019,  34.8884,2,  34.8889,2,    232.2,2,    292.8,2,    11.65,6,    13.90,6,     1.08,6,    2.053,2,    1.015,2,    0.220,2,    3.682,2,    6.785,2,   -999.0,9,   1.7230
  18HU19940524, AR07W,    37,  2, 140460,     60,2,19940601,1804, 57.3962, -51.7538, 3549,   3550.8,   1.7972,  34.8811,2,  34.8832,2,    236.4,2,    292.9,6,    10.92,6,    13.51,6,     1.09,6,    2.445,2,    1.356,2,    0.296,2,    4.093,2,    8.236,2,   -999.0,9,   1.5171
  18HU19940524, AR07W,    38,  1, 140499,     99,2,19940602,  18, 56.9682, -52.2248, 3531,      8.4,   3.6434,  34.6356,2,  34.6377,2,    252.6,2,    342.7,2,     7.01,6,     6.60,6,     0.67,6,    4.988,2,    2.650,2,    0.706,2,   10.825,3,   19.039,2,   2096.0,2,   3.6429
  18HU19940524, AR07W,    38,  1, 140498,     98,2,19940602,  18, 56.9682, -52.2248, 3531,     51.8,   3.3954,  34.6656,2,  34.6658,2,    250.0,2,    337.0,2,     7.26,6,     7.31,6,     0.76,6,    4.917,6,    2.736,6,    0.705,6,   10.494,6,   18.263,6,   2106.9,2,   3.3921
  18HU19940524, AR07W,    38,  1, 140497,     97,3,19940602,  18, 56.9682, -52.2248, 3531,    112.9,   3.1834,  34.7967,2,  34.7781,4,    231.0,2,    305.2,2,     8.68,4,    13.96,4,     1.10,4,    4.313,2,    2.384,2,    0.547,2,    8.666,2,   16.694,2,   2147.0,2,   3.1763
  18HU19940524, AR07W,    38,  1, 140496,     96,2,19940602,  18, 56.9682, -52.2248, 3531,    211.6,   3.0324,  34.8263,2,  34.8282,2,    231.6,2,    306.9,2,     9.21,6,    14.53,6,     1.15,6,    4.105,2,    2.146,2,    0.505,2,    8.384,2,   15.879,2,   2147.5,2,   3.0192
  18HU19940524, AR07W,    38,  1, 140495,     95,2,19940602,  18, 56.9682, -52.2248, 3531,    308.0,   2.9334,  34.8312,2,  34.8318,2,    231.4,2,    306.6,2,     9.29,6,    14.84,6,     1.15,6,    3.941,2,    2.149,2,    0.520,2,    7.966,2,   14.589,2,   2148.2,2,   2.9142
  18HU19940524, AR07W,    38,  1, 140494,     94,2,19940602,  18, 56.9682, -52.2248, 3531,    473.2,   2.8202,  34.8252,2,  34.8261,2,    233.2,2,    304.1,2,     9.32,6,    14.70,6,     1.14,6,    3.841,2,    2.264,2,    0.481,2,    7.893,2,   14.688,2,   2148.5,2,   2.7905
  18HU19940524, AR07W,    38,  1, 140493,     93,2,19940602,  18, 56.9682, -52.2248, 3531,    666.9,   2.8187,  34.8288,2,  34.8320,2,    232.9,2,    304.4,2,     9.52,6,    14.77,6,     1.13,6,    3.754,2,    2.006,2,    0.456,2,    7.719,2,    14.12,2,   2149.6,2,   2.7757
  18HU19940524, AR07W,    38,  1, 140492,     92,2,19940602,  18, 56.9682, -52.2248, 3531,    904.1,   2.8112,  34.8318,2,  34.8302,2,    233.0,2,    303.5,6,     9.50,6,    14.68,6,     1.14,6,    3.655,2,    1.988,2,    0.420,2,    7.512,2,   13.693,2,   2148.2,2,   2.7513
  18HU19940524, AR07W,    38,  1, 140491,     91,2,19940602,  18, 56.9682, -52.2248, 3531,   1155.2,   2.7782,  34.8293,2,  34.8293,2,    235.7,2,    306.2,2,     9.61,6,    14.86,6,     1.13,6,    3.768,2,    2.067,2,    0.477,2,    7.820,2,   14.858,2,   2148.1,2,   2.6997
  18HU19940524, AR07W,    38,  1, 140490,     90,2,19940602,  18, 56.9682, -52.2248, 3531,   1423.2,   2.7869,  34.8296,2,  34.8313,2,    237.0,2,    306.5,2,     9.81,6,    14.85,6,     1.15,6,    3.735,2,    2.142,2,    0.507,2,    7.755,2,   14.543,2,   2148.0,2,   2.6871
  18HU19940524, AR07W,    38,  1, 140489,     89,2,19940602,  18, 56.9682, -52.2248, 3531,   1684.7,   2.7943,  34.8290,2,  34.8294,2,    237.4,2,    306.1,2,     9.52,6,    14.76,6,     1.14,6,    3.733,2,    2.028,2,    0.476,2,    7.765,2,   14.717,2,   2148.9,2,   2.6727
  18HU19940524, AR07W,    38,  1, 140488,     88,2,19940602,  18, 56.9682, -52.2248, 3531,   1987.3,   2.8233,  34.8312,2,  34.8312,2,    237.9,2,    306.4,2,     9.64,6,    14.88,6,     1.14,6,    3.460,6,    1.872,6,    0.472,6,    6.660,6,   12.041,6,   2148.0,2,   2.6749
  18HU19940524, AR07W,    38,  1, 140487,     87,2,19940602,  18, 56.9682, -52.2248, 3531,   2559.4,   3.0999,  34.9053,2,  34.9042,2,    223.7,2,    285.9,2,    11.93,6,    15.28,6,     1.22,6,    1.895,2,    1.018,2,    0.137,2,    4.359,2,    6.969,2,   2151.7,2,   2.8923
  18HU19940524, AR07W,    38,  1, 140486,     86,2,19940602,  18, 56.9682, -52.2248, 3531,   2783.8,   2.9470,  34.9134,2,  34.9144,2,    223.2,2,    283.5,2,    12.05,6,    14.68,6,     1.13,6,    1.672,2,    0.998,2,    0.153,2,    4.093,2,     6.88,2,   2152.5,2,   2.7198
  18HU19940524, AR07W,    38,  1, 140485,     85,2,19940602,  18, 56.9682, -52.2248, 3531,   2974.4,   2.7279,  34.9102,2,-999.0000,5,    224.8,2,    285.8,2,     9.82,4,    15.20,6,     1.12,6,    1.738,2,    1.023,2,    0.174,2,    4.239,2,    7.372,2,   2152.8,2,   2.4857
  18HU19940524, AR07W,    38,  1, 140484,     84,2,19940602,  18, 56.9682, -52.2248, 3531,   3070.6,   2.6393,  34.9114,2,  34.9125,2,    224.8,2,    284.9,2,    13.23,4,    15.03,4,     1.10,4,    1.697,2,    0.967,2,    0.139,2,    4.014,2,     6.63,2,   2153.6,2,   2.3891
  18HU19940524, AR07W,    38,  1, 140483,     83,3,19940602,  18, 56.9682, -52.2248, 3531,   3233.8,   2.3895,  34.9037,2,  34.8960,4,    227.3,2,    288.4,2,    12.68,6,    14.94,6,     1.12,6,    1.971,2,    1.154,2,    0.206,2,    4.717,2,    8.587,2,   2153.8,2,   2.1281
  18HU19940524, AR07W,    38,  1, 140482,     82,2,19940602,  18, 56.9682, -52.2248, 3531,   3366.4,   2.1139,  34.8919,2,  34.8919,2,    232.0,2,    291.3,2,    12.70,6,    14.40,6,     1.08,6,    2.185,2,    1.254,2,    5.515,4,    5.003,2,    9.159,2,   2153.2,2,   1.8452
  18HU19940524, AR07W,    38,  1, 140481,     81,2,19940602,  18, 56.9682, -52.2248, 3531,   3469.6,   1.8882,  34.8835,2,  34.8845,2,    236.8,2,    296.5,6,    11.28,6,    13.97,6,     1.05,6,    3.714,3,    2.188,6,    0.672,4,    6.845,6,   12.796,6,   2152.1,2,   1.6143
  18HU19940524, AR07W,    38,  1, 140480,     80,3,19940602,  18, 56.9682, -52.2248, 3531,   3532.1,   1.7268,  34.8789,2,  34.8688,4,    240.0,2,    297.6,2,    10.95,4,    13.77,4,     1.05,4,    2.753,2,    1.525,2,    0.289,2,    5.895,2,   11.517,2,   2153.1,2,   1.4505
  18HU19940524, AR07W,    39,  1, 140503,      3,2,19940602, 432, 56.7662, -52.4468, 3531,    177.2,   2.8955,  34.7973,2,-999.0000,9,    232.7,2,    304.4,6,  -999.00,9,  -999.00,9,  -999.00,9, -999.000,9, -999.000,9, -999.000,9, -999.000,9,     -999,9,   -999.0,9,   2.8847
  18HU19940524, AR07W,    39,  1, 140502,      2,2,19940602, 432, 56.7662, -52.4468, 3531,    201.4,   2.9485,  34.8118,2,-999.0000,9,    231.4,2,    302.3,6,  -999.00,9,  -999.00,9,  -999.00,9, -999.000,9, -999.000,9, -999.000,9, -999.000,9,     -999,9,   -999.0,9,   2.9361
  18HU19940524, AR07W,    39,  1, 140501,      1,2,19940602, 432, 56.7662, -52.4468, 3531,    229.0,   2.8881,  34.8085,2,-999.0000,9,    235.5,2,    308.3,6,  -999.00,9,  -999.00,9,  -999.00,9, -999.000,9, -999.000,9, -999.000,9, -999.000,9,     -999,9,   -999.0,9,   2.8740
  18HU19940524, AR07W,    39,  1, 140500,      0,2,19940602, 432, 56.7662, -52.4468, 3531,    251.5,   2.8839,  34.8127,2,-999.0000,9,    234.9,2,    309.0,6,  -999.00,9,  -999.00,9,  -999.00,9, -999.000,9, -999.000,9, -999.000,9, -999.000,9,     -999,9,   -999.0,9,   2.8684
  18HU19940524, AR07W,    40,  1, 140523,     23,2,19940602, 821, 56.5427, -52.6897, 3512,      5.8,   3.4340,  34.5453,2,-999.0000,9,    259.0,2,    345.4,6,     5.09,3,     8.38,6,     0.76,6,    4.472,2,    2.827,2,    0.715,2,    8.478,2,   12.334,2,   2095.0,2,   3.4336
  18HU19940524, AR07W,    40,  1, 140522,     22,3,19940602, 821, 56.5427, -52.6897, 3512,     53.2,   3.1497,  34.6055,2,  34.5905,4,    251.2,2,    343.9,2,     6.34,4,     9.65,4,     0.86,4,    4.424,2,    2.843,2,    0.732,2,    7.520,2,   20.735,3,   2107.1,2,   3.1464
  18HU19940524, AR07W,    40,  1, 140521,     21,2,19940602, 821, 56.5427, -52.6897, 3512,    124.1,   2.9039,  34.7824,2,  34.7823,2,    233.1,2,    306.7,2,     9.46,6,    15.35,6,     1.18,6,    3.713,2,    2.559,2,    0.528,2,    6.258,2,   15.484,2,   2146.0,2,   2.8964
  18HU19940524, AR07W,    40,  1, 140520,     20,3,19940602, 821, 56.5427, -52.6897, 3512,    212.1,   2.9408,  34.8171,2,  34.8179,2,    230.1,2,    301.1,2,     9.73,4,    15.80,4,     1.20,4,    3.463,2,    2.349,2,    0.456,2,    6.503,2,   11.647,2,   2146.6,2,   2.9277
  18HU19940524, AR07W,    40,  1, 140519,     19,2,19940602, 821, 56.5427, -52.6897, 3512,    335.1,   2.9043,  34.8273,2,  34.8285,2,    232.3,2,    301.7,2,     9.71,6,    15.71,6,     1.21,6,    3.347,2,    2.013,2,    0.404,2,    5.784,2,   15.085,2,   2146.9,2,   2.8834
  18HU19940524, AR07W,    40,  1, 140518,     18,2,19940602, 821, 56.5427, -52.6897, 3512,    487.1,   2.8309,  34.8268,2,  34.8271,2,    232.4,2,    304.6,2,     9.66,6,    15.81,6,     1.19,6,    3.349,2,    2.299,2,    0.436,2,    6.031,2,   19.032,3,   2148.0,2,   2.8002
  18HU19940524, AR07W,    40,  1, 140517,     17,2,19940602, 821, 56.5427, -52.6897, 3512,    689.2,   2.8432,  34.8347,2,  34.8319,2,    234.6,2,    302.7,2,    10.18,6,    15.76,6,     1.20,6,    3.163,2,    2.319,2,    0.380,2,    6.086,2,   11.634,2,   2148.1,2,   2.7986
  18HU19940524, AR07W,    40,  1, 140516,     16,3,19940602, 821, 56.5427, -52.6897, 3512,    932.5,   2.8062,  34.8321,2,-999.0000,9,    235.4,2,    305.8,2,  -999.00,9,  -999.00,9,  -999.00,9,    3.374,2,    2.717,2,    0.451,2,    5.491,2,   12.209,2,   2146.9,2,   2.7443
  18HU19940524, AR07W,    40,  1, 140515,     15,2,19940602, 821, 56.5427, -52.6897, 3512,   1214.6,   2.7896,  34.8314,2,  34.8323,2,    237.2,2,    305.5,2,     9.68,6,    15.84,6,     1.19,6,    3.195,2,    2.029,2,    0.364,2,    5.330,2,   13.522,2,   2147.5,2,   2.7064
  18HU19940524, AR07W,    40,  1, 140514,     14,2,19940602, 821, 56.5427, -52.6897, 3512,   1519.0,   2.7951,  34.8308,2,  34.8309,2,    237.4,2,    306.2,2,     9.70,6,    15.71,6,     1.19,6,    3.188,2,    1.571,2,    0.385,2,    6.209,2,   14.644,2,   2147.4,2,   2.6874
  18HU19940524, AR07W,    40,  1, 140513,     13,2,19940602, 821, 56.5427, -52.6897, 3512,   1824.2,   2.8068,  34.8314,2,-999.0000,9,    237.5,2,    305.2,2,     9.53,6,    15.43,6,     1.15,6,    3.375,2,    2.359,2,    0.428,2,    5.216,2,   12.452,2,   2148.1,2,   2.6730
  18HU19940524, AR07W,    40,  1, 140512,     12,2,19940602, 821, 56.5427, -52.6897, 3512,   2132.3,   2.9039,  34.8468,2,  34.8441,2,    234.3,2,    301.6,2,     9.70,6,    14.88,6,     1.17,6,    3.131,2,    2.196,2,    0.393,2,    5.636,2,   14.675,2,   2147.6,2,   2.7410
  18HU19940524, AR07W,    40,  1, 140511,     11,2,19940602, 821, 56.5427, -52.6897, 3512,   2438.2,   3.0938,  34.9049,2,-999.0000,9,    222.3,2,    286.2,2,    11.32,6,    14.60,6,     1.17,6,    1.696,2,    0.824,2, -999.000,5,    3.371,2,    4.829,2,   2147.7,2,   2.8983
  18HU19940524, AR07W,    40,  1, 140510,     10,2,19940602, 821, 56.5427, -52.6897, 3512,   2641.0,   2.9457,  34.9100,2,  34.9098,2,    222.2,2,    285.1,2,    11.66,6,    14.23,6,     1.16,6,    1.673,2,    0.778,2,    0.109,2,    3.279,2,    4.943,2,   2149.5,2,   2.7329
  18HU19940524, AR07W,    40,  1, 140509,      9,2,19940602, 821, 56.5427, -52.6897, 3512,   2842.7,   2.7995,  34.9156,2,  34.9153,2,    221.8,2,    283.7,2,    12.24,6,    14.30,6,     1.14,6,    1.523,2,    1.861,3,    0.219,2,    5.051,2,   21.873,4,   2148.9,2,   2.5693
  18HU19940524, AR07W,    40,  1, 140508,      8,2,19940602, 821, 56.5427, -52.6897, 3512,   3046.4,   2.5312,  34.9094,2,  34.9104,2,    223.7,2,    286.4,2,    13.34,6,    14.41,6,     1.14,6,    1.462,2,    1.000,2,    0.098,2,    3.057,2,    4.632,2,   2151.8,2,   2.2859
  18HU19940524, AR07W,    40,  1, 140507,      7,3,19940602, 821, 56.5427, -52.6897, 3512,   3199.6,   2.2996,  34.8986,2,  34.8895,4,    227.4,2,    291.5,2,    12.08,4,    14.27,4,     1.11,4,    1.977,2,    1.218,2,    0.173,2,    3.733,2,    7.238,2,   2149.0,2,   2.0438
  18HU19940524, AR07W,    40,  1, 140506,      6,2,19940602, 821, 56.5427, -52.6897, 3512,   3341.5,   1.9626,  34.8852,2,-999.0000,9,    233.1,2,    295.7,2,    12.09,6,    13.81,6,     1.12,6,    2.226,2,    1.320,2,    0.203,2,    4.341,2,    7.332,2,   2148.9,2,   1.7002
  18HU19940524, AR07W,    40,  1, 140505,      5,3,19940602, 821, 56.5427, -52.6897, 3512,   3443.3,   1.6812,  34.8753,2,-999.0000,9,    237.6,2,    300.0,2,  -999.00,9,  -999.00,9,  -999.00,9,    2.511,2,    1.600,2,    0.237,2,    4.446,2,    8.751,2,   2149.4,6,   1.4152
  18HU19940524, AR07W,    40,  1, 140504,      4,2,19940602, 821, 56.5427, -52.6897, 3512,   3518.1,   1.6343,  34.8740,2,-999.0000,9,    239.5,2,    299.4,2,  -999.00,5,  -999.00,5,  -999.00,5,    2.640,2,    2.156,3,    0.234,2,    4.397,2,   10.857,2,   2150.7,2,   1.3618