BOTTLE,20140813SIOCCHRJL
EXPOCODE,SECT_ID,STNNBR,CASTNO,SAMPNO,BTLNBR,BTLNBR_FLAG_W,DATE,TIME,LATITUDE,LONGITUDE,DEPTH,CTDPRS,CTDTMP,CTDSAL,CTDSAL_FLAG_W,SALNTY,SALNTY_FLAG_W,CTDOXY,CTDOXY_FLAG_W,OXYGEN,OXYGEN_FLAG_W,SILCAT,SILCAT_FLAG_W,NITRAT,NITRAT_FLAG_W,PHSPHT,PHSPHT_FLAG_W,CFC-11,CFC-11_FLAG_W,CFC-12,CFC-12_FLAG_W,CFC113,CFC113_FLAG_W,CCL4,CCL4_FLAG_W,MCHFRM,MCHFRM_FLAG_W,TCARBN,TCARBN_FLAG_W,THETA
,,,,,,,,,,,METERS,DBAR,ITS-90,PSS-78,,PSS-78,,UMOL/KG,,UMOL/KG,,UMOL/KG,,UMOL/KG,,UMOL/KG,,PMOL/KG,,PMOL/KG,,PMOL/KG,,PMOL/KG,,PMOL/KG,,UMOL/KG,,DEG C
  18HU19940524, AR07W,    65,  1, 140836,     36,2,19940608,1150, 51.8242, -48.6383, 3512,      5.3,   4.6927,  34.5652,2,-999.0000,9,    274.3,2,   -999.0,9,     3.68,6,     8.98,6,     0.70,6, -999.000,9, -999.000,9, -999.000,9, -999.000,9,     -999,9,   -999.0,9,   4.6923
  18HU19940524, AR07W,    65,  1, 140835,     35,2,19940608,1150, 51.8242, -48.6383, 3512,      5.7,   4.6933,  34.5650,2,-999.0000,9,    274.3,2,   -999.0,9,  -999.00,9,  -999.00,9,  -999.00,9, -999.000,9, -999.000,9, -999.000,9, -999.000,9,     -999,9,   -999.0,9,   4.6929
  18HU19940524, AR07W,    65,  1, 140834,     34,2,19940608,1150, 51.8242, -48.6383, 3512,     13.5,   4.6927,  34.5666,2,-999.0000,9,    273.7,2,   -999.0,9,     3.80,6,     8.93,6,     0.71,6, -999.000,9, -999.000,9, -999.000,9, -999.000,9,     -999,9,   -999.0,9,   4.6917
  18HU19940524, AR07W,    65,  1, 140833,     33,2,19940608,1150, 51.8242, -48.6383, 3512,     19.2,   4.6931,  34.5664,2,-999.0000,9,    273.3,2,   -999.0,9,  -999.00,9,  -999.00,9,  -999.00,9, -999.000,9, -999.000,9, -999.000,9, -999.000,9,     -999,9,   -999.0,9,   4.6917
  18HU19940524, AR07W,    65,  1, 140832,     32,2,19940608,1150, 51.8242, -48.6383, 3512,     22.1,   4.6906,  34.5690,2,-999.0000,9,    273.1,2,   -999.0,9,     3.49,6,     8.77,6,     0.69,6, -999.000,9, -999.000,9, -999.000,9, -999.000,9,     -999,9,   -999.0,9,   4.6890
  18HU19940524, AR07W,    65,  1, 140831,     31,2,19940608,1150, 51.8242, -48.6383, 3512,     28.0,   4.6933,  34.5680,2,-999.0000,9,    272.8,2,   -999.0,9,  -999.00,9,  -999.00,9,  -999.00,9, -999.000,9, -999.000,9, -999.000,9, -999.000,9,     -999,9,   -999.0,9,   4.6912
  18HU19940524, AR07W,    65,  1, 140830,     30,2,19940608,1150, 51.8242, -48.6383, 3512,     32.6,   4.6867,  34.5745,2,-999.0000,9,    272.6,2,   -999.0,9,  -999.00,9,  -999.00,9,  -999.00,9, -999.000,9, -999.000,9, -999.000,9, -999.000,9,     -999,9,   -999.0,9,   4.6843
  18HU19940524, AR07W,    65,  1, 140829,     29,2,19940608,1150, 51.8242, -48.6383, 3512,     36.4,   4.6893,  34.5738,2,-999.0000,9,    272.1,2,   -999.0,9,  -999.00,9,  -999.00,9,  -999.00,9, -999.000,9, -999.000,9, -999.000,9, -999.000,9,     -999,9,   -999.0,9,   4.6866
  18HU19940524, AR07W,    65,  1, 140828,     28,2,19940608,1150, 51.8242, -48.6383, 3512,     42.7,   4.6860,  34.5759,2,-999.0000,9,    271.8,2,   -999.0,9,     3.10,6,     8.72,6,     0.68,6, -999.000,9, -999.000,9, -999.000,9, -999.000,9,     -999,9,   -999.0,9,   4.6828
  18HU19940524, AR07W,    65,  1, 140827,     27,2,19940608,1150, 51.8242, -48.6383, 3512,     43.7,   4.6885,  34.5748,2,-999.0000,9,    271.2,2,   -999.0,9,     3.33,6,     8.74,6,     0.71,6, -999.000,9, -999.000,9, -999.000,9, -999.000,9,     -999,9,   -999.0,9,   4.6853
  18HU19940524, AR07W,    65,  1, 140826,     26,2,19940608,1150, 51.8242, -48.6383, 3512,     49.1,   4.6868,  34.5750,2,-999.0000,9,    270.6,2,   -999.0,9,  -999.00,9,  -999.00,9,  -999.00,9, -999.000,9, -999.000,9, -999.000,9, -999.000,9,     -999,9,   -999.0,9,   4.6832
  18HU19940524, AR07W,    65,  1, 140825,     25,2,19940608,1150, 51.8242, -48.6383, 3512,     53.6,   4.6783,  34.5774,2,-999.0000,9,    269.9,2,   -999.0,9,     3.09,6,     8.72,6,     0.69,6, -999.000,9, -999.000,9, -999.000,9, -999.000,9,     -999,9,   -999.0,9,   4.6743
  18HU19940524, AR07W,    65,  1, 140824,     24,2,19940608,1150, 51.8242, -48.6383, 3512,     58.6,   4.6867,  34.5754,2,-999.0000,9,    269.5,2,   -999.0,9,  -999.00,9,  -999.00,9,  -999.00,9, -999.000,9, -999.000,9, -999.000,9, -999.000,9,     -999,9,   -999.0,9,   4.6824
  18HU19940524, AR07W,    65,  1, 140823,     23,2,19940608,1150, 51.8242, -48.6383, 3512,     61.5,   4.6741,  34.5767,2,-999.0000,9,    268.3,2,   -999.0,9,     3.03,6,     8.66,6,     0.72,6, -999.000,9, -999.000,9, -999.000,9, -999.000,9,     -999,9,   -999.0,9,   4.6696
  18HU19940524, AR07W,    65,  1, 140821,     21,2,19940608,1150, 51.8242, -48.6383, 3512,     67.8,   4.5389,  34.5747,2,-999.0000,9,    267.0,2,   -999.0,9,  -999.00,9,  -999.00,9,  -999.00,9, -999.000,9, -999.000,9, -999.000,9, -999.000,9,     -999,9,   -999.0,9,   4.5340
  18HU19940524, AR07W,    65,  1, 140822,     22,2,19940608,1150, 51.8242, -48.6383, 3512,     72.0,   4.2003,  34.5867,2,-999.0000,9,    267.0,2,   -999.0,9,     5.47,6,    10.63,6,     0.86,6, -999.000,9, -999.000,9, -999.000,9, -999.000,9,     -999,9,   -999.0,9,   4.1952
  18HU19940524, AR07W,    65,  1, 140820,     20,2,19940608,1150, 51.8242, -48.6383, 3512,     80.1,   3.5855,  34.5915,2,-999.0000,9,    263.5,2,   -999.0,9,     7.93,6,    12.86,6,     1.03,6, -999.000,9, -999.000,9, -999.000,9, -999.000,9,     -999,9,   -999.0,9,   3.5803
  18HU19940524, AR07W,    65,  1, 140819,     19,2,19940608,1150, 51.8242, -48.6383, 3512,     91.9,   3.2471,  34.6068,2,-999.0000,9,    264.1,2,   -999.0,9,     8.41,6,    13.90,6,     1.07,6, -999.000,9, -999.000,9, -999.000,9, -999.000,9,     -999,9,   -999.0,9,   3.2413
  18HU19940524, AR07W,    65,  1, 140818,     18,2,19940608,1150, 51.8242, -48.6383, 3512,    127.6,   2.9432,  34.6318,2,-999.0000,9,    264.1,2,   -999.0,9,     8.64,6,    15.00,6,     1.11,6, -999.000,9, -999.000,9, -999.000,9, -999.000,9,     -999,9,   -999.0,9,   2.9355
  18HU19940524, AR07W,    65,  1, 140817,     17,2,19940608,1150, 51.8242, -48.6383, 3512,    191.3,   2.8103,  34.6676,2,-999.0000,9,    262.6,2,   -999.0,9,     8.94,6,    15.67,6,     1.14,6, -999.000,9, -999.000,9, -999.000,9, -999.000,9,     -999,9,   -999.0,9,   2.7988
  18HU19940524, AR07W,    65,  2, 140856,     56,3,19940608, 412, 51.8242, -48.6383, 3512,     10.8,   4.5963,  34.5460,2,  34.5487,2,    250.1,2,    332.8,2,     4.96,4,     9.03,4,     0.74,4,    3.583,2,    1.757,2,    0.635,2,    5.471,2,    5.955,2,   -999.0,5,   4.5955
  18HU19940524, AR07W,    65,  2, 140855,     55,3,19940608, 412, 51.8242, -48.6383, 3512,     51.0,   4.5721,  34.5450,2,  34.5490,2,    248.7,2,    333.5,2,     5.00,4,     9.14,4,     0.75,4,    3.640,2,    2.072,2,    0.634,2,    6.090,2,    6.229,2,   2107.6,2,   4.5684
  18HU19940524, AR07W,    65,  2, 140854,     54,2,19940608, 412, 51.8242, -48.6383, 3512,     97.9,   2.9883,  34.6278,2,  34.6287,2,    244.4,2,    318.6,2,     8.64,6,    14.76,6,     1.10,6,    3.613,2,    2.188,2,    0.558,2,    5.700,2,    4.787,2,   2139.6,2,   2.9823
  18HU19940524, AR07W,    65,  2, 140853,     53,2,19940608, 412, 51.8242, -48.6383, 3512,    187.8,   2.7843,  34.6600,2,  34.6601,2,    238.6,2,    310.8,2,     8.91,6,    15.27,6,     1.18,6,    3.474,2,    1.866,2,    0.566,2,    6.609,2,    9.444,2,   -999.0,5,   2.7730
  18HU19940524, AR07W,    65,  2, 140852,     52,2,19940608, 412, 51.8242, -48.6383, 3512,    279.7,   3.2409,  34.7895,2,  34.7896,2,    229.7,2,    294.0,2,     9.93,6,    17.02,6,     1.25,6,    2.909,2,    1.713,2,    0.461,2,    4.781,2,    5.228,2,   -999.0,5,   3.2228
  18HU19940524, AR07W,    65,  2, 140851,     51,2,19940608, 412, 51.8242, -48.6383, 3512,    474.2,   3.3127,  34.8490,2,  34.8507,2,    228.4,2,    290.0,2,    10.38,6,    17.45,6,     1.25,6,    2.559,2,    1.614,2,    0.351,2,    3.596,2,     2.32,2,   2157.2,2,   3.2810
  18HU19940524, AR07W,    65,  2, 140850,     50,2,19940608, 412, 51.8242, -48.6383, 3512,    673.4,   3.2818,  34.8633,2,  34.8632,2,    229.6,2,    290.4,2,    10.38,6,    17.30,6,     1.24,6,    2.361,2,    1.385,2,    0.491,3,    4.358,2,    4.366,2,   2156.2,2,   3.2359
  18HU19940524, AR07W,    65,  2, 140849,     49,3,19940608, 412, 51.8242, -48.6383, 3512,    973.4,   3.0569,  34.8481,2,  34.8482,2,    231.3,2,    297.9,2,    10.29,4,    17.35,4,     1.24,4,    2.350,2,    1.469,2,    0.319,2,    6.488,2,    9.944,2,   -999.0,5,   2.9900
  18HU19940524, AR07W,    65,  2, 140848,     48,2,19940608, 412, 51.8242, -48.6383, 3512,   1175.4,   3.0584,  34.8582,2,  34.8570,2,    230.1,2,    296.1,2,    10.49,6,    17.18,6,     1.24,6,    2.151,2,    0.962,3,    0.220,2,    3.227,2,    2.451,2,   2155.0,2,   2.9757
  18HU19940524, AR07W,    65,  2, 140847,     47,2,19940608, 412, 51.8242, -48.6383, 3512,   1468.2,   3.0005,  34.8568,2,  34.8563,2,    231.0,2,    296.5,2,    10.52,6,    17.09,6,     1.22,6,    2.376,2,    1.623,2,    0.253,2,    3.947,2,    3.628,2,   -999.0,5,   2.8946
  18HU19940524, AR07W,    65,  2, 140846,     46,2,19940608, 412, 51.8242, -48.6383, 3512,   1759.2,   3.0318,  34.8729,2,  34.8726,2,    226.6,2,    293.8,2,    10.93,6,    16.92,6,     1.24,6,    2.042,2,    1.172,2,    0.257,2,    3.582,2,    3.542,2,   -999.0,5,   2.9005
  18HU19940524, AR07W,    65,  2, 140845,     45,2,19940608, 412, 51.8242, -48.6383, 3512,   2052.8,   3.1105,  34.9124,2,  34.9104,2,    218.4,2,    282.3,2,    12.32,6,    17.04,6,     1.24,6,    1.203,2,    0.917,2,    0.072,2,    1.692,2,        0,2,   2155.5,2,   2.9515
  18HU19940524, AR07W,    65,  2, 140844,     44,2,19940608, 412, 51.8242, -48.6383, 3512,   2358.3,   2.9527,  34.9222,2,  34.9203,2,    216.9,2,    280.1,2,    13.27,6,    16.89,6,     1.21,6,    0.996,2,    0.821,2,    0.081,2,    1.471,2,        0,2,   2155.8,2,   2.7674
  18HU19940524, AR07W,    65,  2, 140843,     43,3,19940608, 412, 51.8242, -48.6383, 3512,   2667.2,   2.6623,  34.9211,2,  34.9194,4,    218.5,2,    282.2,2,    14.47,4,    16.74,4,     1.21,4,    1.010,2,    0.686,2,    0.069,2,    1.517,2,        0,2,   2155.4,2,   2.4524
  18HU19940524, AR07W,    65,  2, 140842,     42,3,19940608, 412, 51.8242, -48.6383, 3512,   2869.8,   2.4456,  34.9101,2,  34.9053,2,    220.7,2,    284.9,2,    14.65,4,    16.46,4,     1.19,4,    0.000,3,    0.000,3,    0.000,2,    0.000,2,        0,2,   2156.2,2,   2.2200
  18HU19940524, AR07W,    65,  2, 140841,     41,2,19940608, 412, 51.8242, -48.6383, 3512,   3067.5,   2.2530,  34.9034,2,  34.9024,2,    222.8,2,    285.5,2,    15.61,6,    16.54,6,     1.19,6,    1.225,2,    0.948,2,    0.082,2,    1.857,2,    0.054,2,   2128.2,4,   2.0118
  18HU19940524, AR07W,    65,  2, 140840,     40,2,19940608, 412, 51.8242, -48.6383, 3512,   3223.7,   2.1455,  34.8981,2,  34.8969,2,    225.5,2,    287.8,2,    15.20,6,    16.16,6,     1.17,6,    1.390,2,    0.675,2,    0.164,2,    4.003,2,    6.233,2,   2155.3,2,   1.8908
  18HU19940524, AR07W,    65,  2, 140839,     39,2,19940608, 412, 51.8242, -48.6383, 3512,   3328.3,   2.0570,  34.8938,2,  34.8932,2,    228.5,2,    290.4,2,    13.90,6,    16.05,6,     1.16,6,    1.679,6,    0.970,6,    0.185,6,    3.546,6,    4.987,6,   2157.5,6,   1.7936
  18HU19940524, AR07W,    65,  2, 140838,     38,2,19940608, 412, 51.8242, -48.6383, 3512,   3432.4,   1.9436,  34.8882,2,  34.8873,2,    232.4,2,    293.0,2,    12.79,6,    15.47,6,     1.15,6,    1.818,2,    1.184,2,    0.225,2,    3.242,2,    5.184,2,   2156.1,2,   1.6722
  18HU19940524, AR07W,    65,  2, 140837,     37,2,19940608, 412, 51.8242, -48.6383, 3512,   3532.6,   1.8534,  34.8831,2,  34.8799,3,    235.0,2,    294.5,6,    12.63,6,    15.81,6,     1.11,6,    1.985,2,    1.112,2,    0.215,2,    2.970,2,    1.516,2,   2156.4,2,   1.5738
  18HU19940524, AR07W,    66,  1, 140876,     76,3,19940609, 933, 52.1222, -47.9305, 3792,     14.5,   4.8927,  34.3662,2,  34.3681,2,    256.2,2,    332.0,2,     1.90,4,     5.42,4,     0.51,4,    4.289,2,    2.447,2,    0.741,2,    9.306,2,   16.206,2,   -999.0,5,   4.8916
  18HU19940524, AR07W,    66,  1, 140875,     75,3,19940609, 933, 52.1222, -47.9305, 3792,     60.6,   4.8187,  34.4658,2,  34.4961,4,    248.8,2,    323.9,2,     2.94,4,     7.97,4,     0.71,4,    4.208,2,    2.428,2,    0.771,2,    8.917,2,   16.331,2,   2116.3,2,   4.8142
  18HU19940524, AR07W,    66,  1, 140874,     74,2,19940609, 933, 52.1222, -47.9305, 3792,    111.2,   4.0536,  34.6528,2,  34.6549,2,    239.5,2,    309.6,2,     7.77,6,    13.78,6,     1.06,6,    4.064,2,    2.445,2,    0.758,2,    8.344,2,   14.743,2,   2155.6,2,   4.0459
  18HU19940524, AR07W,    66,  1, 140873,     73,3,19940609, 933, 52.1222, -47.9305, 3792,    212.3,   3.6638,  34.7010,2,  34.7004,2,    224.7,2,    286.2,2,     9.36,4,    15.89,4,     1.20,4,    3.470,2,    1.941,2,    0.561,2,    6.931,2,   13.398,2,   2158.2,2,   3.6495
  18HU19940524, AR07W,    66,  1, 140872,     72,2,19940609, 933, 52.1222, -47.9305, 3792,    410.8,   3.8627,  34.8804,2,  34.8822,2,    221.8,2,    274.1,3,    10.31,6,    17.14,6,     1.25,6,    2.836,2,    1.540,3,    0.410,2,    5.644,2,   11.633,2,   2169.3,2,   3.8336
  18HU19940524, AR07W,    66,  1, 140871,     71,2,19940609, 933, 52.1222, -47.9305, 3792,    588.7,   3.2703,  34.8366,2,  34.8373,2,    233.4,2,    293.2,2,     9.89,6,    16.68,6,     1.21,6,    3.258,2,    1.945,2,    0.530,2,    6.559,2,   12.489,2,   2161.5,2,   3.2306
  18HU19940524, AR07W,    66,  1, 140870,     70,2,19940609, 933, 52.1222, -47.9305, 3792,    791.5,   3.3077,  34.8668,2,  34.8678,2,    233.5,2,    290.3,2,    10.18,6,    16.92,6,     1.25,6,    2.720,6,    1.533,6,    0.344,6,    5.741,6,   10.409,6,   2162.7,2,   3.2528
  18HU19940524, AR07W,    66,  1, 140869,     69,3,19940609, 933, 52.1222, -47.9305, 3792,    991.7,   3.2005,  34.8620,2,  34.8632,2,    234.3,2,    293.6,2,    10.29,4,    16.87,4,     1.24,4,    2.677,2,    1.381,2,    0.330,2,    5.804,2,   10.465,2,   2156.1,2,   3.1311
  18HU19940524, AR07W,    66,  1, 140868,     68,2,19940609, 933, 52.1222, -47.9305, 3792,   1259.1,   2.9559,  34.8344,2,  34.8360,2,    238.8,2,    300.9,2,     9.65,6,    16.21,6,     1.20,6,    3.300,2,    1.884,2,    0.470,2,    6.911,2,   13.222,2,   2157.3,2,   2.8676
  18HU19940524, AR07W,    66,  1, 140867,     67,2,19940609, 933, 52.1222, -47.9305, 3792,   1545.7,   2.9786,  34.8447,2,  34.8461,2,    236.9,2,    301.0,2,     9.94,6,    16.45,6,     1.21,6,    3.029,2,    1.771,2,    0.409,2,    6.444,2,   11.831,2,   -999.0,5,   2.8665
  18HU19940524, AR07W,    66,  1, 140866,     66,2,19940609, 933, 52.1222, -47.9305, 3792,   1813.0,   2.9893,  34.8521,2,  34.8537,2,    235.2,2,    298.5,2,    10.18,6,    16.58,6,     1.20,6,    2.797,2,    1.542,2,    0.325,2,    6.048,2,   11.246,2,   2156.2,2,   2.8539
  18HU19940524, AR07W,    66,  1, 140865,     65,2,19940609, 933, 52.1222, -47.9305, 3792,   2086.5,   3.0174,  34.8641,2,  34.8661,2,    231.7,2,    296.5,2,    10.53,6,    16.66,6,     1.20,6,    2.571,2,    1.617,2,    0.499,3,    5.649,2,   10.582,2,   2156.1,2,   2.8569
  18HU19940524, AR07W,    66,  1, 140864,     64,2,19940609, 933, 52.1222, -47.9305, 3792,   2394.6,   3.0687,  34.8967,2,  34.8985,2,    224.5,2,    287.9,2,    11.32,6,    16.48,6,     1.20,6,    1.808,2,    0.896,2,    0.994,4,    4.303,2,    7.703,2,   2160.3,2,   2.8780
  18HU19940524, AR07W,    66,  1, 140863,     63,2,19940609, 933, 52.1222, -47.9305, 3792,   2662.2,   2.9438,  34.9092,2,  34.9104,2,    222.2,2,    285.3,2,    11.97,6,    16.21,6,     1.19,6,    1.593,2,    0.870,2,    0.145,2,    3.794,2,    6.036,2,   2162.7,2,   2.7289
  18HU19940524, AR07W,    66,  1, 140862,     62,2,19940609, 933, 52.1222, -47.9305, 3792,   2961.3,   2.7571,  34.9206,2,  34.9192,2,    220.2,2,    280.2,2,    13.92,6,    16.43,6,     1.22,6,    1.139,2,    0.740,2,    0.454,3,    3.005,2,    4.531,2,   2167.0,2,   2.5156
  18HU19940524, AR07W,    66,  1, 140861,     61,3,19940609, 933, 52.1222, -47.9305, 3792,   3249.9,   2.4446,  34.9082,2,  34.9089,2,    223.4,2,    285.9,2,    14.57,4,    16.21,4,     1.19,4,    1.350,2,    0.718,2,    1.312,4,    3.356,2,    4.963,2,   -999.0,5,   2.1802
  18HU19940524, AR07W,    66,  1, 140860,     60,2,19940609, 933, 52.1222, -47.9305, 3792,   3442.1,   2.2068,  34.8944,2,  34.8941,2,    228.7,2,    291.0,2,    12.69,6,    15.67,6,     1.15,6,    1.810,6,    1.021,6,    0.215,6,    3.325,6,    4.678,6,   -999.0,5,   1.9279
  18HU19940524, AR07W,    66,  1, 140859,     59,2,19940609, 933, 52.1222, -47.9305, 3792,   3613.4,   1.9085,  34.8823,2,  34.8848,3,    234.2,2,    295.4,2,    11.92,6,    15.30,6,     1.12,6,    2.249,2,    1.217,2,    2.138,4,    4.920,2,    8.948,2,   -999.0,5,   1.6189
  18HU19940524, AR07W,    66,  1, 140858,     58,3,19940609, 933, 52.1222, -47.9305, 3792,   3759.1,   1.7265,  34.8747,2,  34.8826,4,    237.5,2,    296.0,2,    11.93,4,    15.45,4,     1.13,4,    2.278,2,    1.219,2,    0.243,2,    4.969,2,    9.265,2,   2162.4,2,   1.4262
  18HU19940524, AR07W,    66,  1, 140857,     57,3,19940609, 933, 52.1222, -47.9305, 3792,   3840.5,   1.7298,  34.8746,2,  34.8703,4,    239.1,2,    298.3,6,    11.70,4,    15.37,4,     1.11,4,    2.530,2,    1.656,2,    0.524,3,    5.345,2,   10.861,2,   2160.8,2,   1.4206