BOTTLE,20140813SIOCCHRJL
EXPOCODE,SECT_ID,STNNBR,CASTNO,SAMPNO,BTLNBR,BTLNBR_FLAG_W,DATE,TIME,LATITUDE,LONGITUDE,DEPTH,CTDPRS,CTDTMP,CTDSAL,CTDSAL_FLAG_W,SALNTY,SALNTY_FLAG_W,CTDOXY,CTDOXY_FLAG_W,OXYGEN,OXYGEN_FLAG_W,SILCAT,SILCAT_FLAG_W,NITRAT,NITRAT_FLAG_W,PHSPHT,PHSPHT_FLAG_W,CFC-11,CFC-11_FLAG_W,CFC-12,CFC-12_FLAG_W,CFC113,CFC113_FLAG_W,CCL4,CCL4_FLAG_W,MCHFRM,MCHFRM_FLAG_W,TCARBN,TCARBN_FLAG_W,THETA
,,,,,,,,,,,METERS,DBAR,ITS-90,PSS-78,,PSS-78,,UMOL/KG,,UMOL/KG,,UMOL/KG,,UMOL/KG,,UMOL/KG,,PMOL/KG,,PMOL/KG,,PMOL/KG,,PMOL/KG,,PMOL/KG,,UMOL/KG,,DEG C
  18HU19940524, AR07W,    46,  1, 140604,      4,2,19940603,1301, 55.6095, -53.6037, 2930,      1.8,   0.8074,  33.9071,2,-999.0000,9,    287.6,2,   -999.0,9,     6.53,6,     8.73,6,     0.77,6, -999.000,9, -999.000,9, -999.000,9, -999.000,9,     -999,9,   -999.0,9,   0.8073
  18HU19940524, AR07W,    46,  1, 140603,      3,2,19940603,1301, 55.6095, -53.6037, 2930,      2.1,   0.8013,  33.9009,2,-999.0000,9,    273.9,2,   -999.0,9,  -999.00,9,  -999.00,9,  -999.00,9, -999.000,9, -999.000,9, -999.000,9, -999.000,9,     -999,9,   -999.0,9,   0.8012
  18HU19940524, AR07W,    46,  1, 140602,      2,2,19940603,1301, 55.6095, -53.6037, 2930,      4.2,   0.7843,  33.9084,2,-999.0000,9,    292.0,2,   -999.0,9,     6.45,6,     8.55,6,     0.75,6, -999.000,9, -999.000,9, -999.000,9, -999.000,9,     -999,9,   -999.0,9,   0.7841
  18HU19940524, AR07W,    46,  1, 140601,      1,2,19940603,1301, 55.6095, -53.6037, 2930,     10.4,   0.7068,  33.9065,2,-999.0000,9,    292.1,2,   -999.0,9,     6.47,6,     8.83,6,     0.77,6, -999.000,9, -999.000,9, -999.000,9, -999.000,9,     -999,9,   -999.0,9,   0.7064
  18HU19940524, AR07W,    46,  1, 140600,      0,2,19940603,1301, 55.6095, -53.6037, 2930,     10.4,   0.6981,  33.9074,2,-999.0000,9,    292.0,2,   -999.0,9,  -999.00,9,  -999.00,9,  -999.00,9, -999.000,9, -999.000,9, -999.000,9, -999.000,9,     -999,9,   -999.0,9,   0.6977
  18HU19940524, AR07W,    46,  1, 140598,     98,2,19940603,1301, 55.6095, -53.6037, 2930,     16.7,   0.5869,  33.9156,2,-999.0000,9,    292.0,2,   -999.0,9,  -999.00,9,  -999.00,9,  -999.00,9, -999.000,9, -999.000,9, -999.000,9, -999.000,9,     -999,9,   -999.0,9,   0.5863
  18HU19940524, AR07W,    46,  1, 140599,     99,2,19940603,1301, 55.6095, -53.6037, 2930,     16.8,   0.5743,  33.9177,2,-999.0000,9,    292.3,2,   -999.0,9,     6.50,6,     8.87,6,     0.79,6, -999.000,9, -999.000,9, -999.000,9, -999.000,9,     -999,9,   -999.0,9,   0.5736
  18HU19940524, AR07W,    46,  1, 140597,     97,2,19940603,1301, 55.6095, -53.6037, 2930,     21.6,   0.6284,  33.9340,2,-999.0000,9,    290.3,2,   -999.0,9,  -999.00,9,  -999.00,9,  -999.00,9, -999.000,9, -999.000,9, -999.000,9, -999.000,9,     -999,9,   -999.0,9,   0.6276
  18HU19940524, AR07W,    46,  1, 140596,     96,2,19940603,1301, 55.6095, -53.6037, 2930,     26.4,   1.0792,  34.0112,2,-999.0000,9,    285.2,2,   -999.0,9,  -999.00,9,  -999.00,9,  -999.00,9, -999.000,9, -999.000,9, -999.000,9, -999.000,9,     -999,9,   -999.0,9,   1.0781
  18HU19940524, AR07W,    46,  1, 140595,     95,2,19940603,1301, 55.6095, -53.6037, 2930,     31.7,   0.2497,  34.1424,2,-999.0000,9,    278.3,2,   -999.0,9,     7.06,6,    11.33,6,     0.95,6, -999.000,9, -999.000,9, -999.000,9, -999.000,9,     -999,9,   -999.0,9,   0.2485
  18HU19940524, AR07W,    46,  1, 140594,     94,2,19940603,1301, 55.6095, -53.6037, 2930,     36.7,   1.0860,  34.3555,2,-999.0000,9,    267.1,2,   -999.0,9,     7.54,6,    12.66,6,     1.03,6, -999.000,9, -999.000,9, -999.000,9, -999.000,9,     -999,9,   -999.0,9,   1.0844
  18HU19940524, AR07W,    46,  1, 140593,     93,2,19940603,1301, 55.6095, -53.6037, 2930,     37.2,   1.2209,  34.3876,2,-999.0000,9,    265.4,2,   -999.0,9,  -999.00,9,  -999.00,9,  -999.00,9, -999.000,9, -999.000,9, -999.000,9, -999.000,9,     -999,9,   -999.0,9,   1.2192
  18HU19940524, AR07W,    46,  1, 140592,     92,2,19940603,1301, 55.6095, -53.6037, 2930,     41.6,   1.3167,  34.4122,2,-999.0000,9,    264.1,2,   -999.0,9,  -999.00,9,  -999.00,9,  -999.00,9, -999.000,9, -999.000,9, -999.000,9, -999.000,9,     -999,9,   -999.0,9,   1.3148
  18HU19940524, AR07W,    46,  1, 140591,     91,2,19940603,1301, 55.6095, -53.6037, 2930,     47.1,   1.4307,  34.4362,2,-999.0000,9,    262.9,2,   -999.0,9,     7.60,6,    12.87,6,     1.04,6, -999.000,9, -999.000,9, -999.000,9, -999.000,9,     -999,9,   -999.0,9,   1.4285
  18HU19940524, AR07W,    46,  1, 140590,     90,2,19940603,1301, 55.6095, -53.6037, 2930,     56.3,   1.8482,  34.5236,2,-999.0000,9,    256.5,2,   -999.0,9,     7.96,6,    13.55,6,     1.08,6, -999.000,9, -999.000,9, -999.000,9, -999.000,9,     -999,9,   -999.0,9,   1.8453
  18HU19940524, AR07W,    46,  1, 140589,     89,2,19940603,1301, 55.6095, -53.6037, 2930,     67.3,   2.4062,  34.6042,2,-999.0000,9,    251.7,2,   -999.0,9,     8.12,6,    13.79,6,     1.09,6, -999.000,9, -999.000,9, -999.000,9, -999.000,9,     -999,9,   -999.0,9,   2.4024
  18HU19940524, AR07W,    46,  1, 140588,     88,2,19940603,1301, 55.6095, -53.6037, 2930,     77.0,   2.9945,  34.7045,2,-999.0000,9,    245.0,2,   -999.0,9,     8.38,6,    14.19,6,     1.07,6, -999.000,9, -999.000,9, -999.000,9, -999.000,9,     -999,9,   -999.0,9,   2.9898
  18HU19940524, AR07W,    46,  1, 140587,     87,2,19940603,1301, 55.6095, -53.6037, 2930,     97.0,   3.4222,  34.7801,2,-999.0000,9,    240.1,2,   -999.0,9,  -999.00,9,  -999.00,9,  -999.00,9, -999.000,9, -999.000,9, -999.000,9, -999.000,9,     -999,9,   -999.0,9,   3.4159
  18HU19940524, AR07W,    46,  1, 140586,     86,2,19940603,1301, 55.6095, -53.6037, 2930,    197.7,   3.6849,  34.8497,2,-999.0000,9,    235.7,2,   -999.0,9,  -999.00,9,  -999.00,9,  -999.00,9, -999.000,9, -999.000,9, -999.000,9, -999.000,9,     -999,9,   -999.0,9,   3.6715
  18HU19940524, AR07W,    46,  1, 140585,     85,2,19940603,1301, 55.6095, -53.6037, 2930,    303.3,   3.6881,  34.8793,2,-999.0000,9,    235.5,2,   -999.0,9,  -999.00,9,  -999.00,9,  -999.00,9,    2.724,2,    1.477,2,    0.226,2,    6.074,2,   10.705,2,   -999.0,9,   3.6673
  18HU19940524, AR07W,    46,  2, 140623,     23,3,19940603,1600, 55.6095, -53.6037, 2930,      6.2,   1.4365,  33.7875,2,  33.8104,4,    288.0,2,    378.6,2,     6.05,4,     7.44,4,     0.70,4,    5.791,2,    2.918,2,    0.769,2,   12.872,3,   21.223,2,   2054.2,2,   1.4362
  18HU19940524, AR07W,    46,  2, 140622,     22,3,19940603,1600, 55.6095, -53.6037, 2930,     51.7,   1.7873,  34.5015,2,  34.8802,3,    251.8,2,    324.2,2,     7.54,4,    12.97,4,     1.08,4,    4.791,6,    2.363,6,    0.573,6,    9.570,6,   13.877,6,   2110.0,2,   1.7847
  18HU19940524, AR07W,    46,  2, 140621,     21,2,19940603,1600, 55.6095, -53.6037, 2930,     94.3,   3.6355,  34.8084,2,  34.8070,2,    232.3,2,    297.2,2,     8.81,6,    14.75,6,     1.18,6,    3.984,2,    2.142,2,    0.452,2,    7.875,2,   15.259,2,   2128.2,2,   3.6292
  18HU19940524, AR07W,    46,  2, 140620,     20,2,19940603,1600, 55.6095, -53.6037, 2930,    186.2,   3.7279,  34.8483,2,  34.8489,2,    232.9,2,    295.1,2,     9.60,6,    15.13,6,     1.20,6,    3.854,2,    2.052,2,    0.426,2,    7.676,2,   15.471,2,   2164.7,2,   3.7153
  18HU19940524, AR07W,    46,  2, 140619,     19,2,19940603,1600, 55.6095, -53.6037, 2930,    330.0,   3.6891,  34.8768,2,  34.8782,2,    235.6,2,    296.0,2,     9.32,6,    15.63,6,     1.21,6,    3.678,2,    2.024,2,    0.395,2,    7.380,2,   14.035,2,   1390.4,4,   3.6664
  18HU19940524, AR07W,    46,  2, 140618,     18,2,19940603,1600, 55.6095, -53.6037, 2930,    530.1,   3.4823,  34.8768,2,  34.8760,2,    237.1,2,    296.4,2,     9.63,6,    15.81,6,     1.22,6,    3.551,2,    1.925,2,    0.499,3,    7.221,2,   13.812,2,   1398.3,4,   3.4459
  18HU19940524, AR07W,    46,  2, 140617,     17,2,19940603,1600, 55.6095, -53.6037, 2930,    734.0,   3.1591,  34.8609,2,  34.8630,2,    240.5,2,    297.9,2,     9.71,6,    15.99,6,     1.22,6,    3.434,2,    1.936,2,    0.313,2,    7.395,2,   13.352,2,   -999.0,5,   3.1094
  18HU19940524, AR07W,    46,  2, 140616,     16,2,19940603,1600, 55.6095, -53.6037, 2930,    928.9,   3.0563,  34.8535,2,  34.8524,2,    239.0,2,    300.6,2,     9.71,6,    16.05,6,     1.20,6,    3.464,2,    1.797,2,    0.326,2,    7.270,2,   13.201,2,   -999.0,5,   2.9928
  18HU19940524, AR07W,    46,  2, 140615,     15,2,19940603,1600, 55.6095, -53.6037, 2930,   1126.9,   2.9225,  34.8415,2,  34.8439,2,    241.3,2,    303.8,2,     9.50,6,    15.85,6,     1.21,6,    3.524,2,    1.845,2,    0.354,2,    7.467,2,    13.87,2,   2131.9,3,   2.8449
  18HU19940524, AR07W,    46,  2, 140614,     14,2,19940603,1600, 55.6095, -53.6037, 2930,   1331.3,   2.9096,  34.8456,2,  34.8451,2,    240.8,2,    302.4,2,     9.67,6,    15.90,6,     1.21,6,    3.332,2,    1.754,2,    0.342,2,    7.075,2,   13.211,2,   2131.5,3,   2.8159
  18HU19940524, AR07W,    46,  2, 140613,     13,2,19940603,1600, 55.6095, -53.6037, 2930,   1531.0,   2.9113,  34.8483,2,  34.8486,2,    238.2,2,    302.6,2,     9.74,6,    15.85,6,     1.20,6,    3.299,2,    1.740,2,    0.349,2,    6.970,2,   12.482,2,   2132.1,3,   2.8012
  18HU19940524, AR07W,    46,  2, 140612,     12,3,19940603,1600, 55.6095, -53.6037, 2930,   1728.5,   2.9416,  34.8608,2,  34.8874,4,    235.5,2,    297.4,2,    10.69,4,    15.68,4,     1.22,4,    2.962,6,    1.538,6,    0.521,3,    6.520,6,   12.551,6,   2133.5,3,   2.8143
  18HU19940524, AR07W,    46,  2, 140611,     11,2,19940603,1600, 55.6095, -53.6037, 2930,   1929.1,   3.0293,  34.8901,2,  34.8880,2,    228.9,2,    291.0,2,    10.74,6,    15.64,6,     1.22,6,    2.330,2,    1.238,2,    0.155,2,    5.341,2,    8.947,2,   2133.7,3,   2.8829
  18HU19940524, AR07W,    46,  2, 140610,     10,2,19940603,1600, 55.6095, -53.6037, 2930,   2132.5,   2.9153,  34.9018,2,  34.9011,2,    227.2,2,    287.9,2,    11.21,6,    15.28,6,     1.22,6,    1.991,2,    1.049,2,    0.110,2,    5.298,2,    7.543,2,   2134.7,3,   2.7520
  18HU19940524, AR07W,    46,  2, 140609,      9,2,19940603,1600, 55.6095, -53.6037, 2930,   2335.4,   2.7311,  34.9069,2,  34.9062,2,    226.8,2,    288.0,2,    11.71,6,    14.99,6,     1.20,6,    1.911,2,    1.001,2,    0.120,2,    4.431,2,    7.355,2,   2135.2,3,   2.5519
  18HU19940524, AR07W,    46,  2, 140608,      8,2,19940603,1600, 55.6095, -53.6037, 2930,   2535.1,   2.4641,  34.9021,2,  34.9009,2,    229.2,2,    288.2,2,    12.09,6,    14.85,6,     1.23,6,    1.908,2,    1.092,2,    0.107,2,    4.945,2,    7.322,2,   2136.2,3,   2.2708
  18HU19940524, AR07W,    46,  2, 140607,      7,2,19940603,1600, 55.6095, -53.6037, 2930,   2738.1,   2.0632,  34.8885,2,  34.8879,2,    235.8,2,    294.3,2,    11.77,6,    14.64,6,     1.16,6,    2.255,2,    1.195,2,    0.158,2,    5.120,2,    8.976,2,   2134.9,3,   1.8584
  18HU19940524, AR07W,    46,  2, 140606,      6,2,19940603,1600, 55.6095, -53.6037, 2930,   2840.3,   1.7047,  34.8762,2,  34.8763,2,    241.5,2,    298.3,2,    11.18,6,    14.12,6,     1.15,6,    2.665,2,    1.393,2,    0.200,2,    5.671,2,   10.137,2,   2135.2,3,   1.4976
  18HU19940524, AR07W,    46,  2, 140605,      5,2,19940603,1600, 55.6095, -53.6037, 2930,   2929.3,   1.6385,  34.8734,2,  34.8724,2,    245.2,2,    299.8,2,    11.28,6,    14.08,6,     1.14,6,    2.658,2,    1.314,2,    0.214,2,    5.888,2,   10.397,2,   2134.0,3,   1.4244
  18HU19940524, AR07W,    48,  1, 140641,     41,3,19940604,1108, 55.4163, -53.7912, 2687,      7.9,   0.3489,  33.0522,2,  33.0643,4,    286.4,2,    377.4,2,     7.54,4,     6.85,4,     0.76,4,    5.337,2,    3.572,2,    0.662,2,    9.644,2,   12.362,2,   2055.3,2,   0.3486
  18HU19940524, AR07W,    48,  1, 140640,     40,2,19940604,1108, 55.4163, -53.7912, 2687,     53.9,   0.9748,  34.3951,2,-999.0000,9,    253.5,2,    330.1,2,     7.28,6,    14.09,6,     1.04,6,    4.569,2,    2.144,2,    0.504,2,    8.666,2,     9.68,2,   2121.7,2,   0.9725
  18HU19940524, AR07W,    48,  1, 140639,     39,2,19940604,1108, 55.4163, -53.7912, 2687,    104.5,   3.2270,  34.7368,2,  34.7370,2,    232.6,2,    302.3,2,     8.52,6,    15.82,6,     1.10,6,    3.874,2,    2.197,2,    0.360,2,    6.511,2,    6.096,2,   2137.3,2,   3.2204
  18HU19940524, AR07W,    48,  1, 140638,     38,2,19940604,1108, 55.4163, -53.7912, 2687,    239.1,   3.5814,  34.8279,2,  34.8255,2,    237.4,2,    298.9,2,     8.82,6,    16.63,6,     1.14,6,    3.639,6,    2.051,6,    0.385,6,    6.363,6,    7.755,6,   2144.8,2,   3.5654
  18HU19940524, AR07W,    48,  1, 140637,     37,2,19940604,1108, 55.4163, -53.7912, 2687,    434.9,   3.6098,  34.8764,2,  34.8764,2,    229.7,2,    295.6,6,     9.47,6,    17.18,6,     1.15,6,    3.429,2,    2.246,2,    0.360,2,    6.521,2,   11.668,2,   -999.0,5,   3.5798
  18HU19940524, AR07W,    48,  1, 140636,     36,3,19940604,1108, 55.4163, -53.7912, 2687,    630.5,   3.4236,  34.8739,2,  34.8564,4,    231.0,2,    296.7,2,     9.76,4,    17.39,4,     1.15,4,    3.230,2,    2.001,2,    0.290,2,    5.860,2,    6.407,2,   2149.8,2,   3.3801
  18HU19940524, AR07W,    48,  1, 140635,     35,2,19940604,1108, 55.4163, -53.7912, 2687,    821.5,   3.2949,  34.8738,2,  34.8749,2,    233.0,2,    297.3,2,     9.87,6,    17.50,6,     1.16,6,    3.125,2,    2.346,2,    0.262,2,    5.025,2,    4.072,2,   2150.8,2,   3.2378
  18HU19940524, AR07W,    48,  1, 140634,     34,2,19940604,1108, 55.4163, -53.7912, 2687,    998.8,   3.2231,  34.8706,2,  34.8707,2,    233.3,2,    297.3,2,     9.95,6,    17.32,6,     1.19,6,    2.827,2,    1.306,3,    0.241,2,    5.092,2,    4.318,2,   2150.5,2,   3.1529
  18HU19940524, AR07W,    48,  1, 140633,     33,2,19940604,1108, 55.4163, -53.7912, 2687,   1164.4,   3.1011,  34.8634,2,  34.8601,2,    232.0,2,    297.1,6,    10.05,6,    17.35,6,     1.18,6,    3.090,2,    3.139,4,    0.243,2,    5.720,2,    5.001,2,   2150.2,2,   3.0189
  18HU19940524, AR07W,    48,  1, 140632,     32,3,19940604,1108, 55.4163, -53.7912, 2687,   1362.1,   3.0242,  34.8627,2,  34.8538,4,    231.1,2,    295.4,2,     9.63,4,    17.17,4,     1.17,4,    3.143,2,    1.955,2,    0.289,2,    5.741,2,    6.637,2,   2149.8,2,   2.9268
  18HU19940524, AR07W,    48,  1, 140631,     31,2,19940604,1108, 55.4163, -53.7912, 2687,   1540.6,   3.0023,  34.8680,2,  34.8678,2,    228.8,2,    296.3,2,    10.24,6,    17.17,6,     1.18,6,    2.604,2,    1.418,2,    0.198,2,    4.925,2,    6.174,2,   2150.1,2,   2.8903
  18HU19940524, AR07W,    48,  1, 140630,     30,2,19940604,1108, 55.4163, -53.7912, 2687,   1767.2,   2.9606,  34.8954,2,  34.8965,2,    223.7,2,    289.1,2,    10.97,6,    16.79,6,     1.17,6,    1.958,2,    1.381,2,    0.123,2,    4.890,2,   14.003,3,   2150.9,2,   2.8295
  18HU19940524, AR07W,    48,  1, 140629,     29,2,19940604,1108, 55.4163, -53.7912, 2687,   2004.8,   2.7851,  34.9077,2,  34.9073,2,    223.1,2,    286.6,2,    11.62,6,    16.54,6,     1.15,6,    1.681,2,    1.349,2,    0.081,2,    4.043,2,    5.635,2,   2151.3,2,   2.6354
  18HU19940524, AR07W,    48,  1, 140628,     28,2,19940604,1108, 55.4163, -53.7912, 2687,   2197.2,   2.6611,  34.9091,2,  34.9103,2,    223.0,2,    287.1,2,    12.04,6,    16.54,6,     1.15,6,    1.706,6,    0.846,6,    0.089,6,    3.702,6,    4.346,6,   2153.2,2,   2.4959
  18HU19940524, AR07W,    48,  1, 140627,     27,3,19940604,1108, 55.4163, -53.7912, 2687,   2380.2,   2.2922,  34.8980,2,  34.8867,4,    227.1,2,    291.9,2,    11.70,4,    16.24,4,     1.14,4,    2.031,2,    1.677,2,    0.147,2,    4.761,2,    13.82,3,   2152.0,6,   2.1165
  18HU19940524, AR07W,    48,  1, 140626,     26,2,19940604,1108, 55.4163, -53.7912, 2687,   2500.8,   1.9363,  34.8861,2,  34.8875,2,    231.9,2,    294.8,2,    11.47,6,    13.88,6,     1.19,6,    2.062,2,    1.651,2,    0.144,2,    4.041,2,    3.831,2,   2152.0,2,   1.7561
  18HU19940524, AR07W,    48,  1, 140625,     25,2,19940604,1108, 55.4163, -53.7912, 2687,   2598.5,   1.8394,  34.8816,2,  34.8823,2,    235.1,2,    296.0,2,    11.34,6,    13.80,6,     1.17,6,    2.230,2,    1.436,2,    0.138,2,    4.286,2,    4.072,2,   2153.0,2,   1.6521
  18HU19940524, AR07W,    48,  1, 140624,     24,2,19940604,1108, 55.4163, -53.7912, 2687,   2670.3,   1.7982,  34.8796,2,  34.8806,2,    238.4,2,    297.6,6,    11.28,6,    13.70,6,     1.18,6,    2.284,2,    1.485,2,    0.695,3,    4.221,2,    4.132,2,   2151.2,2,   1.6051