BOTTLE,20140813SIOCCHRJL
EXPOCODE,SECT_ID,STNNBR,CASTNO,SAMPNO,BTLNBR,BTLNBR_FLAG_W,DATE,TIME,LATITUDE,LONGITUDE,DEPTH,CTDPRS,CTDTMP,CTDSAL,CTDSAL_FLAG_W,SALNTY,SALNTY_FLAG_W,CTDOXY,CTDOXY_FLAG_W,OXYGEN,OXYGEN_FLAG_W,SILCAT,SILCAT_FLAG_W,NITRAT,NITRAT_FLAG_W,PHSPHT,PHSPHT_FLAG_W,CFC-11,CFC-11_FLAG_W,CFC-12,CFC-12_FLAG_W,CFC113,CFC113_FLAG_W,CCL4,CCL4_FLAG_W,MCHFRM,MCHFRM_FLAG_W,TCARBN,TCARBN_FLAG_W,THETA
,,,,,,,,,,,METERS,DBAR,ITS-90,PSS-78,,PSS-78,,UMOL/KG,,UMOL/KG,,UMOL/KG,,UMOL/KG,,UMOL/KG,,PMOL/KG,,PMOL/KG,,PMOL/KG,,PMOL/KG,,PMOL/KG,,UMOL/KG,,DEG C
  18HU19940524, AR07W,    48,  2, 140661,     61,2,19940604,1512, 55.4163, -53.7912, 2687,      4.8,   1.5798,  33.7655,2,-999.0000,9,    296.1,2,   -999.0,9,     5.97,6,     6.38,6,     0.72,6, -999.000,9, -999.000,9, -999.000,9, -999.000,9,     -999,9,   -999.0,9,   1.5796
  18HU19940524, AR07W,    48,  2, 140660,     60,2,19940604,1512, 55.4163, -53.7912, 2687,      5.0,   1.6052,  33.7733,2,-999.0000,9,    296.7,2,   -999.0,9,  -999.00,9,  -999.00,9,  -999.00,9, -999.000,9, -999.000,9, -999.000,9, -999.000,9,     -999,9,   -999.0,9,   1.6050
  18HU19940524, AR07W,    48,  2, 140658,     58,2,19940604,1512, 55.4163, -53.7912, 2687,     13.8,   1.6322,  33.7952,2,-999.0000,9,    294.9,2,   -999.0,9,  -999.00,9,  -999.00,9,  -999.00,9, -999.000,9, -999.000,9, -999.000,9, -999.000,9,     -999,9,   -999.0,9,   1.6315
  18HU19940524, AR07W,    48,  2, 140659,     59,2,19940604,1512, 55.4163, -53.7912, 2687,     13.9,   1.6267,  33.7857,2,-999.0000,9,    295.0,2,   -999.0,9,     5.92,6,     6.35,6,     0.73,6, -999.000,9, -999.000,9, -999.000,9, -999.000,9,     -999,9,   -999.0,9,   1.6260
  18HU19940524, AR07W,    48,  2, 140657,     57,2,19940604,1512, 55.4163, -53.7912, 2687,     18.8,   1.7479,  33.8766,2,-999.0000,9,    293.4,2,   -999.0,9,     5.88,6,     6.45,6,     0.72,6, -999.000,9, -999.000,9, -999.000,9, -999.000,9,     -999,9,   -999.0,9,   1.7470
  18HU19940524, AR07W,    48,  2, 140656,     56,2,19940604,1512, 55.4163, -53.7912, 2687,     24.1,   2.0169,  34.1506,2,-999.0000,9,    287.9,2,   -999.0,9,     5.93,6,     7.73,6,     0.78,6, -999.000,9, -999.000,9, -999.000,9, -999.000,9,     -999,9,   -999.0,9,   2.0157
  18HU19940524, AR07W,    48,  2, 140655,     55,2,19940604,1512, 55.4163, -53.7912, 2687,     24.3,   1.9201,  34.1703,2,-999.0000,9,    286.7,2,   -999.0,9,  -999.00,9,  -999.00,9,  -999.00,9, -999.000,9, -999.000,9, -999.000,9, -999.000,9,     -999,9,   -999.0,9,   1.9189
  18HU19940524, AR07W,    48,  2, 140653,     53,2,19940604,1512, 55.4163, -53.7912, 2687,     33.1,   0.6134,  34.2728,2,-999.0000,9,    282.8,2,   -999.0,9,  -999.00,9,  -999.00,9,  -999.00,9, -999.000,9, -999.000,9, -999.000,9, -999.000,9,     -999,9,   -999.0,9,   0.6121
  18HU19940524, AR07W,    48,  2, 140654,     54,2,19940604,1512, 55.4163, -53.7912, 2687,     33.5,   0.5574,  34.2691,2,-999.0000,9,    283.3,2,   -999.0,9,     7.16,6,    11.41,6,     1.02,6, -999.000,9, -999.000,9, -999.000,9, -999.000,9,     -999,9,   -999.0,9,   0.5561
  18HU19940524, AR07W,    48,  2, 140652,     52,2,19940604,1512, 55.4163, -53.7912, 2687,     38.3,   0.6042,  34.2867,2,-999.0000,9,    281.1,2,   -999.0,9,     6.97,6,    11.54,6,     1.03,6, -999.000,9, -999.000,9, -999.000,9, -999.000,9,     -999,9,   -999.0,9,   0.6027
  18HU19940524, AR07W,    48,  2, 140650,     50,2,19940604,1512, 55.4163, -53.7912, 2687,     44.2,   0.6453,  34.2913,2,-999.0000,9,    282.8,2,   -999.0,9,  -999.00,9,  -999.00,9,  -999.00,9, -999.000,9, -999.000,9, -999.000,9, -999.000,9,     -999,9,   -999.0,9,   0.6435
  18HU19940524, AR07W,    48,  2, 140651,     51,2,19940604,1512, 55.4163, -53.7912, 2687,     44.3,   0.6703,  34.2989,2,-999.0000,9,    281.9,2,   -999.0,9,     6.96,6,    11.46,6,     1.02,6, -999.000,9, -999.000,9, -999.000,9, -999.000,9,     -999,9,   -999.0,9,   0.6685
  18HU19940524, AR07W,    48,  2, 140649,     49,2,19940604,1512, 55.4163, -53.7912, 2687,     59.6,   0.9332,  34.3462,2,-999.0000,9,    278.9,2,   -999.0,9,     7.09,6,    11.76,6,     1.02,6, -999.000,9, -999.000,9, -999.000,9, -999.000,9,     -999,9,   -999.0,9,   0.9306
  18HU19940524, AR07W,    48,  2, 140648,     48,2,19940604,1512, 55.4163, -53.7912, 2687,     59.8,   0.8408,  34.3299,2,-999.0000,9,    279.6,2,   -999.0,9,  -999.00,9,  -999.00,9,  -999.00,9, -999.000,9, -999.000,9, -999.000,9, -999.000,9,     -999,9,   -999.0,9,   0.8383
  18HU19940524, AR07W,    48,  2, 140647,     47,2,19940604,1512, 55.4163, -53.7912, 2687,     84.4,   2.1884,  34.5625,2,-999.0000,9,    265.0,2,   -999.0,9,     7.70,6,    12.97,6,     1.11,6, -999.000,9, -999.000,9, -999.000,9, -999.000,9,     -999,9,   -999.0,9,   2.1838
  18HU19940524, AR07W,    48,  2, 140645,     45,2,19940604,1512, 55.4163, -53.7912, 2687,    101.1,   2.6337,  34.6436,2,-999.0000,9,    255.8,2,   -999.0,9,  -999.00,9,  -999.00,9,  -999.00,9, -999.000,9, -999.000,9, -999.000,9, -999.000,9,     -999,9,   -999.0,9,   2.6278
  18HU19940524, AR07W,    48,  2, 140646,     46,2,19940604,1512, 55.4163, -53.7912, 2687,    103.4,   2.7136,  34.6570,2,-999.0000,9,    255.7,2,   -999.0,9,     7.90,6,    13.50,6,     1.16,6, -999.000,9, -999.000,9, -999.000,9, -999.000,9,     -999,9,   -999.0,9,   2.7075
  18HU19940524, AR07W,    48,  2, 140644,     44,2,19940604,1512, 55.4163, -53.7912, 2687,    197.9,   3.4462,  34.8064,2,-999.0000,9,    238.4,2,   -999.0,9,  -999.00,9,  -999.00,9,  -999.00,9, -999.000,9, -999.000,9, -999.000,9, -999.000,9,     -999,9,   -999.0,9,   3.4332
  18HU19940524, AR07W,    48,  2, 140643,     43,2,19940604,1512, 55.4163, -53.7912, 2687,    250.6,   3.4755,  34.8274,2,-999.0000,9,    238.0,2,   -999.0,9,  -999.00,9,  -999.00,9,  -999.00,9, -999.000,9, -999.000,9, -999.000,9, -999.000,9,     -999,9,   -999.0,9,   3.4589
  18HU19940524, AR07W,    48,  2, 140642,     42,2,19940604,1512, 55.4163, -53.7912, 2687,    303.0,   3.6809,  34.8667,2,-999.0000,9,    236.1,2,   -999.0,9,  -999.00,9,  -999.00,9,  -999.00,9, -999.000,9, -999.000,9, -999.000,9, -999.000,9,     -999,9,   -999.0,9,   3.6602
  18HU19940524, AR07W,    50,  1, 140676,     76,2,19940604,2253, 55.2653, -53.9597, 2116,     10.6,   2.4204,  34.2084,2,  34.2095,2,    283.9,2,    368.8,2,     5.23,6,     6.99,6,     0.60,6,    5.530,2,    2.856,2,    0.817,2,   11.991,3,   20.086,2,   2076.9,2,   2.4198
  18HU19940524, AR07W,    50,  1, 140675,     75,2,19940604,2253, 55.2653, -53.9597, 2116,     56.8,   2.7024,  34.6469,2,  34.6435,2,    249.9,2,    318.3,2,     8.06,6,    14.65,6,     1.08,6,    4.650,2,    2.534,2,    0.577,2,    9.574,2,   17.636,2,   2133.9,2,   2.6991
  18HU19940524, AR07W,    50,  1, 140674,     74,2,19940604,2253, 55.2653, -53.9597, 2116,     96.6,   3.2972,  34.7619,2,  34.7614,2,    239.8,2,    304.1,2,     8.51,6,    15.97,6,     1.12,6,    3.984,6,    2.286,6,    0.534,6,    7.276,6,   10.316,6,   2143.0,2,   3.2911
  18HU19940524, AR07W,    50,  1, 140673,     73,2,19940604,2253, 55.2653, -53.9597, 2116,    190.4,   3.4464,  34.8179,2,  34.8196,2,    239.7,2,    300.7,2,     8.76,6,    16.49,6,     1.15,6,    4.064,2,    2.254,2,    0.451,2,    7.922,2,   15.283,2,   2146.1,2,   3.4339
  18HU19940524, AR07W,    50,  1, 140672,     72,2,19940604,2253, 55.2653, -53.9597, 2116,    263.4,   3.4266,  34.8328,2,  34.8348,2,    240.7,2,    301.0,2,     8.97,6,    16.66,6,     1.16,6,    3.992,2,    2.270,2,    0.432,2,    7.985,2,   15.299,2,   2146.7,2,   3.4092
  18HU19940524, AR07W,    50,  1, 140671,     71,2,19940604,2253, 55.2653, -53.9597, 2116,    448.0,   3.4293,  34.8644,2,  34.8664,2,    238.2,2,    297.4,2,     9.49,6,    17.06,6,     1.20,6,    3.726,2,    2.043,2,    0.423,2,    7.445,2,   14.397,2,   2149.7,2,   3.3990
  18HU19940524, AR07W,    50,  1, 140670,     70,2,19940604,2253, 55.2653, -53.9597, 2116,    649.4,   3.3069,  34.8702,2,  34.8719,2,    237.5,2,    294.3,2,     9.98,6,    17.41,6,     1.20,6,    3.524,2,    1.896,2,    0.327,2,    7.191,2,   13.971,2,   2151.5,2,   3.2626
  18HU19940524, AR07W,    50,  1, 140669,     69,3,19940604,2253, 55.2653, -53.9597, 2116,    840.2,   3.1899,  34.8646,2,  34.8576,4,    237.9,2,   -999.0,9,  -999.00,9,  -999.00,9,  -999.00,9, -999.000,9, -999.000,9, -999.000,9, -999.000,9,     -999,9,   -999.0,5,   3.1321
  18HU19940524, AR07W,    50,  1, 140668,     68,2,19940604,2253, 55.2653, -53.9597, 2116,   1060.1,   3.0476,  34.8560,2,-999.0000,5,    241.6,2,    298.0,2,     9.90,6,    17.28,6,     1.21,6,    3.374,2,    1.870,2,    0.298,2,    7.027,2,   13.018,2,   2150.6,2,   2.9741
  18HU19940524, AR07W,    50,  1, 140667,     67,2,19940604,2253, 55.2653, -53.9597, 2116,   1276.6,   3.0095,  34.8611,2,  34.8619,2,    239.0,2,    303.3,2,    10.08,6,    16.97,6,     1.21,6,    3.147,2,    1.880,2,    0.244,2,    6.651,2,    12.04,2,   2151.4,2,   2.9192
  18HU19940524, AR07W,    50,  1, 140666,     66,2,19940604,2253, 55.2653, -53.9597, 2116,   1485.3,   2.9583,  34.8677,2,  34.8676,2,    238.1,2,    295.7,2,    10.40,6,    17.02,6,     1.20,6,    2.951,2,    1.648,2,    0.208,2,    6.208,2,   10.751,2,   2152.1,6,   2.8514
  18HU19940524, AR07W,    50,  1, 140665,     65,2,19940604,2253, 55.2653, -53.9597, 2116,   1682.6,   2.9485,  34.8927,2,  34.8922,2,    232.9,2,    289.2,6,    11.10,6,    16.96,6,     1.18,6,    2.524,2,    1.311,2,    0.156,2,    5.220,2,    8.398,2,   2153.0,2,   2.8249
  18HU19940524, AR07W,    50,  1, 140664,     64,2,19940604,2253, 55.2653, -53.9597, 2116,   1838.8,   2.8497,  34.9027,2,  34.9032,2,    231.7,2,    287.0,2,    11.44,6,    16.90,6,     1.17,6,    2.021,6,    1.114,6,    0.119,6,    4.674,6,    7.106,6,   2153.4,2,   2.7138
  18HU19940524, AR07W,    50,  1, 140663,     63,2,19940604,2253, 55.2653, -53.9597, 2116,   1959.9,   2.6729,  34.9051,2,  34.9050,2,    233.4,2,    287.6,2,    11.73,6,    16.47,6,     1.16,6,    1.932,2,    0.952,2,    0.115,2,    4.465,2,    6.747,2,   2153.3,2,   2.5289
  18HU19940524, AR07W,    50,  1, 140662,     62,2,19940604,2253, 55.2653, -53.9597, 2116,   2075.1,   2.4899,  34.9009,2,  34.9012,2,    235.9,2,    286.1,2,    11.94,6,    16.08,6,     1.18,6,    1.995,2,    1.190,2,    0.117,2,    4.556,2,    7.035,2,   2153.4,2,   2.3385
  18HU19940524, AR07W,    52,  1, 140687,     87,2,19940605, 248, 55.1090, -54.1327,  941,      6.8,  -0.7280,  32.3122,2,  32.3090,2,    297.0,2,    367.7,2,    10.11,6,     5.75,6,     0.94,6,    4.735,2,    2.828,2,    0.928,2,    6.466,2,     3.84,2,   2063.5,2,  -0.7282
  18HU19940524, AR07W,    52,  1, 140686,     86,3,19940605, 248, 55.1090, -54.1327,  941,     34.1,  -1.3940,  33.3625,2,  33.3736,4,    288.7,2,    352.2,2,     8.83,4,     9.17,4,     0.95,4,    4.894,2,    3.306,2,    0.964,2,    6.000,2,     3.31,3,   2098.8,2,  -1.3947
  18HU19940524, AR07W,    52,  1, 140685,     85,3,19940605, 248, 55.1090, -54.1327,  941,     64.6,  -0.5381,  33.8335,2,  33.8050,4,    283.9,2,    346.3,2,     7.88,4,    11.09,4,     0.96,4,    5.095,2,    3.037,2,    0.847,2,    7.522,2,    3.995,3,   2106.4,2,  -0.5400
  18HU19940524, AR07W,    52,  1, 140684,     84,2,19940605, 248, 55.1090, -54.1327,  941,    104.3,   0.5220,  34.1405,2,  34.1436,2,    266.5,2,    324.6,2,     8.60,6,    12.86,6,     1.01,6,    4.491,2,    2.448,2,    0.752,2,    6.781,2,    4.565,3,   2124.0,2,   0.5179
  18HU19940524, AR07W,    52,  1, 140683,     83,3,19940605, 248, 55.1090, -54.1327,  941,    205.3,   3.0151,  34.6479,2,  34.6339,4,    243.6,2,    299.2,2,     9.13,4,    15.11,4,     1.11,4,    3.727,2,    2.279,2,    0.553,2,    5.586,2,    3.659,2,   2143.9,2,   3.0024
  18HU19940524, AR07W,    52,  1, 140682,     82,3,19940605, 248, 55.1090, -54.1327,  941,    349.0,   3.4281,  34.7728,2,  34.7632,4,    244.2,2,    300.7,2,     8.57,4,    15.84,4,     1.12,4,    3.703,2,    2.558,2,    0.667,2,    4.439,2,     5.95,2,   2144.3,2,   3.4048
  18HU19940524, AR07W,    52,  1, 140681,     81,2,19940605, 248, 55.1090, -54.1327,  941,    497.5,   3.6426,  34.8497,2,  34.8501,2,    239.7,2,    296.7,2,     9.24,6,    16.69,6,     1.16,6,    3.664,6,    1.929,6,    0.484,6,    6.238,6,    9.024,6,   2150.4,6,   3.6080
  18HU19940524, AR07W,    52,  1, 140680,     80,3,19940605, 248, 55.1090, -54.1327,  941,    655.5,   3.5840,  34.8777,2,  34.8735,4,    238.4,2,    294.3,6,     9.83,4,    16.94,4,     1.18,4,    3.305,2,    1.997,2,    0.426,2,    5.015,2,    6.584,2,   2153.9,2,   3.5378
  18HU19940524, AR07W,    52,  1, 140679,     79,2,19940605, 248, 55.1090, -54.1327,  941,    757.8,   3.4658,  34.8761,2,  34.8764,2,    239.4,2,    293.9,2,    10.09,6,    16.97,6,     1.21,6,    3.096,2,    2.230,2,    0.510,2,    3.865,2,    2.815,2,   2154.4,2,   3.4125
  18HU19940524, AR07W,    52,  1, 140678,     78,2,19940605, 248, 55.1090, -54.1327,  941,    850.9,   3.4033,  34.8742,2,  34.8737,2,    240.0,2,    294.4,2,    10.28,6,    17.03,6,     1.18,6,    3.002,2,    2.105,2,    0.356,2,    4.951,2,    4.177,2,   2155.2,2,   3.3433
  18HU19940524, AR07W,    52,  1, 140677,     77,2,19940605, 248, 55.1090, -54.1327,  941,    920.6,   3.3513,  34.8716,2,  34.8721,2,    241.0,2,    294.2,2,    10.16,6,    16.93,6,     1.19,6,    2.978,2,    1.942,2,    0.367,2,    3.921,2,    3.193,2,   2156.6,2,   3.2863
  18HU19940524, AR07W,    53,  1, 140695,     95,3,19940605, 608, 54.9720, -54.2023,  447,      7.0,  -1.1677,  32.1115,2,  32.0264,2,    323.5,2,    394.8,2,     4.79,4,     2.04,4,     0.76,4,    5.523,6,    2.958,6,    0.967,6,    9.670,6,   13.459,6,   2020.8,2,  -1.1678
  18HU19940524, AR07W,    53,  1, 140694,     94,2,19940605, 608, 54.9720, -54.2023,  447,     44.7,  -1.2267,  33.3636,2,  33.3609,2,    291.8,2,    334.6,2,    10.28,6,     9.68,6,     1.12,6,    5.340,2,    2.715,2,    0.759,2,   10.355,3,   21.921,2,   -999.0,5,  -1.2277
  18HU19940524, AR07W,    53,  1, 140693,     93,3,19940605, 608, 54.9720, -54.2023,  447,    100.1,  -0.3238,  33.8209,2,  33.7901,4,    279.7,2,    323.6,2,     9.45,4,    11.62,4,     1.12,4,    5.140,2,    2.795,2,    0.716,2,   10.201,3,   20.294,2,   -999.0,5,  -0.3270
  18HU19940524, AR07W,    53,  1, 140692,     92,2,19940605, 608, 54.9720, -54.2023,  447,    149.8,   1.6688,  34.2647,2,  34.2648,2,    262.3,2,    491.5,4,    10.38,6,    13.45,6,     1.17,6,    4.468,2,    2.325,2,    0.594,2,    8.273,2,   17.188,2,   -999.0,5,   1.6613
  18HU19940524, AR07W,    53,  1, 140691,     91,2,19940605, 608, 54.9720, -54.2023,  447,    234.3,   2.7902,  34.5775,2,  34.5762,6,    249.4,2,    296.7,2,     9.71,6,    14.61,6,     1.18,6,    4.293,2,    2.300,2,    0.598,2,    8.150,2,    17.05,2,   -999.0,5,   2.7761
  18HU19940524, AR07W,    53,  1, 140690,     90,2,19940605, 608, 54.9720, -54.2023,  447,    315.4,   3.4309,  34.7294,2,  34.7284,2,    246.3,2,    294.6,2,     9.15,6,    15.24,6,     1.19,6,    4.059,2,    2.242,2,    0.523,2,    7.710,2,   15.911,2,   2150.6,2,   3.4100
  18HU19940524, AR07W,    53,  1, 140689,     89,2,19940605, 608, 54.9720, -54.2023,  447,    361.1,   3.4872,  34.7446,2,  34.7431,2,    244.8,2,    294.5,2,     9.12,6,    15.37,6,     1.20,6,    4.038,2,    2.323,2,    0.574,2,    7.724,2,   16.009,2,   2148.8,2,   3.4630
  18HU19940524, AR07W,    53,  1, 140688,     88,2,19940605, 608, 54.9720, -54.2023,  447,    420.4,   3.5156,  34.7526,2,  34.7514,2,    243.6,2,    294.1,6,     9.19,6,    15.13,6,     1.19,6,    4.060,2,    2.198,2,    0.505,2,    7.817,2,    16.27,2,   2147.4,2,   3.4871