BOTTLE,20140813SIOCCHRJL
EXPOCODE,SECT_ID,STNNBR,CASTNO,SAMPNO,BTLNBR,BTLNBR_FLAG_W,DATE,TIME,LATITUDE,LONGITUDE,DEPTH,CTDPRS,CTDTMP,CTDSAL,CTDSAL_FLAG_W,SALNTY,SALNTY_FLAG_W,CTDOXY,CTDOXY_FLAG_W,OXYGEN,OXYGEN_FLAG_W,SILCAT,SILCAT_FLAG_W,NITRAT,NITRAT_FLAG_W,PHSPHT,PHSPHT_FLAG_W,CFC-11,CFC-11_FLAG_W,CFC-12,CFC-12_FLAG_W,CFC113,CFC113_FLAG_W,CCL4,CCL4_FLAG_W,MCHFRM,MCHFRM_FLAG_W,TCARBN,TCARBN_FLAG_W,THETA
,,,,,,,,,,,METERS,DBAR,ITS-90,PSS-78,,PSS-78,,UMOL/KG,,UMOL/KG,,UMOL/KG,,UMOL/KG,,UMOL/KG,,PMOL/KG,,PMOL/KG,,PMOL/KG,,PMOL/KG,,PMOL/KG,,UMOL/KG,,DEG C
  18HU19940524, AR07W,    30,  1, 140299,     99,3,19940530,2300, 59.9897, -48.8960, 3034,      9.4,   3.7233,  34.5522,2,  34.5475,2,    239.2,2,    337.0,2,     7.38,4,    10.62,4,     0.90,4,    4.901,2,    2.698,2,    0.751,2,   10.360,3,   18.726,2,   -999.0,9,   3.7227
  18HU19940524, AR07W,    30,  1, 140298,     98,2,19940530,2300, 59.9897, -48.8960, 3034,     47.1,   3.8562,  34.7026,2,  34.6995,2,    232.5,2,    326.4,2,     7.91,6,    11.98,6,     0.97,6,    4.633,2,    2.832,2,    0.639,2,    9.926,2,   18.118,2,   -999.0,9,   3.8530
  18HU19940524, AR07W,    30,  1, 140297,     97,3,19940530,2300, 59.9897, -48.8960, 3034,    107.8,   3.7165,  34.7785,2,  34.7739,2,    228.1,2,    318.7,2,     8.41,4,    13.33,4,     1.05,4,    4.561,2,    2.440,2,    0.656,2,    9.459,2,   16.866,2,   -999.0,9,   3.7093
  18HU19940524, AR07W,    30,  1, 140296,     96,2,19940530,2300, 59.9897, -48.8960, 3034,    180.4,   3.8317,  34.8515,2,  34.8509,2,    221.5,2,    309.0,2,     8.66,6,    14.73,6,     1.12,6,    4.253,2,    2.330,2,    0.695,2,    8.636,2,    16.25,2,   -999.0,9,   3.8193
  18HU19940524, AR07W,    30,  1, 140295,     95,2,19940530,2300, 59.9897, -48.8960, 3034,    286.4,   3.8008,  34.8745,2,  34.8736,2,    218.8,2,    305.5,2,     8.89,6,    15.36,6,     1.15,6,    4.041,2,    2.308,2,    0.519,2,    8.249,2,    15.57,2,   -999.0,9,   3.7810
  18HU19940524, AR07W,    30,  1, 140294,     94,2,19940530,2300, 59.9897, -48.8960, 3034,    501.5,   3.3435,  34.8780,2,  34.8782,2,    219.7,2,    301.8,2,     9.66,6,    16.21,6,     1.18,6,    3.676,2,    2.133,2,    0.480,2,    7.751,2,   65.651,4,   -999.0,9,   3.3097
  18HU19940524, AR07W,    30,  1, 140293,     93,2,19940530,2300, 59.9897, -48.8960, 3034,    699.4,   3.3138,  34.8772,2,  34.8767,2,    220.7,2,    302.1,2,     9.78,6,    16.12,6,     1.18,6,    3.607,2,    2.078,2,    0.449,2,    7.358,2,   13.948,2,   -999.0,9,   3.2658
  18HU19940524, AR07W,    30,  1, 140291,     91,2,19940530,2300, 59.9897, -48.8960, 3034,   1047.6,   3.0980,  34.8612,2,  34.8603,2,    225.8,2,    305.6,6,     9.92,6,    16.50,6,     1.20,6,    3.706,2,    1.728,2,    1.144,4,    7.822,2,   15.718,2,   -999.0,9,   3.0250
  18HU19940524, AR07W,    30,  1, 140292,     92,2,19940530,2300, 59.9897, -48.8960, 3034,   1049.7,   3.0975,  34.8613,2,  34.8594,2,    226.3,2,    304.5,2,     9.76,6,    16.39,6,     1.19,6,    3.786,2,    2.096,2,    0.541,2,    7.882,2,   17.482,3,   -999.0,9,   3.0244
  18HU19940524, AR07W,    30,  1, 140290,     90,2,19940530,2300, 59.9897, -48.8960, 3034,   1301.2,   3.0100,  34.8586,2,  34.8583,2,    226.0,2,    302.1,2,    10.00,6,    16.38,6,     1.19,6,    3.290,6,    1.824,6,    0.385,6,    6.466,6,   22.072,3,   -999.0,9,   2.9177
  18HU19940524, AR07W,    30,  1, 140289,     89,2,19940530,2300, 59.9897, -48.8960, 3034,   1561.7,   2.8918,  34.8488,2,  34.8474,2,    227.3,2,    302.0,2,     9.91,6,    15.95,6,     1.17,6,    3.419,2,    1.853,2,    0.653,3,    7.012,2,    13.23,2,   -999.0,9,   2.7794
  18HU19940524, AR07W,    30,  1, 140288,     88,2,19940530,2300, 59.9897, -48.8960, 3034,   1810.0,   3.0232,  34.8854,2,  34.8848,2,    220.5,2,    292.4,2,    10.81,6,    15.83,6,     1.18,6,    2.470,2,    1.448,2,    0.523,3,    5.416,2,    9.963,2,   -999.0,9,   2.8875
  18HU19940524, AR07W,    30,  1, 140287,     87,2,19940530,2300, 59.9897, -48.8960, 3034,   2052.2,   2.9643,  34.9082,2,  34.9067,2,    217.6,2,    281.9,2,    11.64,6,    15.94,6,     1.19,6,    1.924,2,    1.164,2,    0.271,2,    4.567,2,    7.845,2,   -999.0,9,   2.8076
  18HU19940524, AR07W,    30,  1, 140286,     86,2,19940530,2300, 59.9897, -48.8960, 3034,   2250.2,   2.7908,  34.9103,2,  34.9105,2,    218.5,2,    284.7,2,    12.01,6,    15.59,6,     1.17,6,    1.840,2,    1.129,2,    0.229,2,    4.391,2,    7.506,2,   -999.0,9,   2.6185
  18HU19940524, AR07W,    30,  1, 140285,     85,2,19940530,2300, 59.9897, -48.8960, 3034,   2453.3,   2.5689,  34.9064,2,  34.9056,2,    220.9,2,    287.6,2,    12.35,6,    15.17,6,     1.16,6,    1.890,2,    1.025,2,    0.314,2,    4.326,2,    7.112,2,   -999.0,9,   2.3814
  18HU19940524, AR07W,    30,  1, 140284,     84,2,19940530,2300, 59.9897, -48.8960, 3034,   2600.8,   2.3899,  34.8964,2,  34.8970,2,    223.5,2,    291.8,2,    12.05,6,    14.78,6,     1.17,6,    2.171,2,    1.231,2,    0.241,2,    5.040,2,    16.18,3,   -999.0,9,   2.1918
  18HU19940524, AR07W,    30,  1, 140283,     83,3,19940530,2300, 59.9897, -48.8960, 3034,   2752.0,   2.2509,  34.8963,2,  34.8914,4,    225.5,2,    292.0,2,    12.11,4,    14.71,4,     1.15,4,    2.121,6,    1.147,6,    0.274,6,    4.352,6,    4.771,6,   -999.0,9,   2.0410
  18HU19940524, AR07W,    30,  1, 140282,     82,2,19940530,2300, 59.9897, -48.8960, 3034,   2871.1,   2.0682,  34.8912,2,  34.8904,2,    228.4,2,    293.2,2,    12.24,6,    14.33,6,     1.14,6,    2.219,2,    1.326,2,    0.440,3,    5.020,2,    8.908,2,   -999.0,9,   1.8505
  18HU19940524, AR07W,    30,  1, 140281,     81,2,19940530,2300, 59.9897, -48.8960, 3034,   2970.0,   1.8681,  34.8792,2,  34.8813,2,    233.9,2,    299.1,2,    10.72,6,    13.81,6,     1.11,6,    2.725,2,    1.531,2,    0.316,2,    5.804,2,   11.055,2,   -999.0,9,   1.6451
  18HU19940524, AR07W,    30,  1, 140280,     80,3,19940530,2300, 59.9897, -48.8960, 3034,   3029.3,   1.8601,  34.8798,2,  34.8854,4,    234.7,2,    299.6,2,    10.73,4,    13.92,4,     1.15,4,    2.726,2,    1.523,2,    0.288,2,    5.852,2,   11.092,2,   -999.0,9,   1.6315
  18HU19940524, AR07W,    31,  1, 140319,     19,3,19940531, 313, 59.7465, -49.1428, 3240,      8.0,   3.2998,  34.3908,2,  34.3929,2,    254.4,2,    359.3,2,     5.10,4,     5.55,4,     0.61,4,    4.828,2,    3.274,3,    0.612,2,    8.821,2,    8.354,2,   -999.0,9,   3.2993
  18HU19940524, AR07W,    31,  1, 140318,     18,3,19940531, 313, 59.7465, -49.1428, 3240,     53.8,   3.3694,  34.6184,2,  34.6418,4,    238.6,2,    331.3,2,     7.46,4,    11.20,4,     1.00,4,    4.416,2,    2.402,2,    0.481,2,    7.969,2,    7.562,2,   -999.0,9,   3.3660
  18HU19940524, AR07W,    31,  1, 140317,     17,2,19940531, 313, 59.7465, -49.1428, 3240,    111.0,   3.5599,  34.7838,2,  34.7833,2,    230.5,2,    320.9,2,     8.26,6,    13.40,6,     1.10,6,    4.022,2,    2.054,2,    0.549,2,    7.050,2,    6.881,2,   -999.0,9,   3.5526
  18HU19940524, AR07W,    31,  1, 140316,     16,3,19940531, 313, 59.7465, -49.1428, 3240,    195.0,   3.7829,  34.8712,2,  34.8709,2,    222.8,2,    306.6,2,     8.69,4,    14.49,4,     1.16,4,    3.733,2,    1.876,2,    0.430,2,    6.564,2,    7.528,2,   -999.0,9,   3.7696
  18HU19940524, AR07W,    31,  1, 140315,     15,3,19940531, 313, 59.7465, -49.1428, 3240,    307.8,   3.6795,  34.8854,2,  34.8859,2,    221.2,2,    303.1,2,     9.09,4,    15.07,4,     1.19,4,    3.682,2,    2.185,2,    0.353,2,    6.859,2,    6.519,2,   -999.0,9,   3.6584
  18HU19940524, AR07W,    31,  1, 140314,     14,2,19940531, 313, 59.7465, -49.1428, 3240,    487.3,   3.4601,  34.8835,2,  34.8855,2,    222.4,2,    301.5,2,     9.46,6,    15.46,6,     1.22,6,    3.437,2,    1.704,2,    0.417,2,    6.069,2,    6.124,2,   -999.0,9,   3.4269
  18HU19940524, AR07W,    31,  1, 140313,     13,2,19940531, 313, 59.7465, -49.1428, 3240,    741.6,   3.1568,  34.8671,2,  34.8693,2,    226.9,2,    304.1,2,     9.74,6,    15.95,6,     1.23,6,    3.386,2,    2.028,2,    0.383,2,    5.953,2,    4.574,2,   -999.0,9,   3.1066
  18HU19940524, AR07W,    31,  1, 140312,     12,2,19940531, 313, 59.7465, -49.1428, 3240,   1008.7,   3.0014,  34.8547,2,  34.8543,2,    229.7,2,    306.9,2,     9.64,6,    15.61,6,     1.22,6,    3.447,2,    1.921,2,    0.301,2,    6.285,2,     6.28,2,   -999.0,9,   2.9322
  18HU19940524, AR07W,    31,  1, 140311,     11,2,19940531, 313, 59.7465, -49.1428, 3240,   1319.3,   2.9006,  34.8450,2,  34.8446,2,    229.8,2,    306.1,2,     9.79,6,    15.56,6,     1.22,6,    3.456,6,    1.801,6,    0.413,6,    6.792,6,   11.812,6,   -999.0,9,   2.8080
  18HU19940524, AR07W,    31,  1, 140310,     10,2,19940531, 313, 59.7465, -49.1428, 3240,   1624.0,   2.9205,  34.8524,2,-999.0000,9,    228.6,2,    301.9,2,  -999.00,9,  -999.00,9,  -999.00,9,    3.007,2,    1.481,2,    0.353,2,    5.800,2,   12.339,2,   -999.0,9,   2.8024
  18HU19940524, AR07W,    31,  1, 140309,      9,3,19940531, 313, 59.7465, -49.1428, 3240,   1970.0,   3.0492,  34.8976,2,  34.8965,3,    220.4,2,    286.5,2,    11.16,4,    15.62,4,     1.21,4,    1.951,2,    0.903,2,    0.226,2,    3.758,2,    1.005,2,   -999.0,9,   2.8988
  18HU19940524, AR07W,    31,  1, 140308,      8,3,19940531, 313, 59.7465, -49.1428, 3240,   2232.7,   2.9212,  34.9095,2,  34.9084,3,    219.2,2,    285.3,2,    11.72,4,    15.66,4,     1.21,4,    1.693,2,    0.742,2,    0.156,2,    3.289,2,    0.588,2,   -999.0,9,   2.7484
  18HU19940524, AR07W,    31,  1, 140307,      7,3,19940531, 313, 59.7465, -49.1428, 3240,   2343.9,   2.8026,  34.9011,2,  34.8992,2,    221.1,2,    289.8,6,    11.42,4,    15.41,4,     1.19,4,    1.969,2,    0.845,2,    0.185,2,    4.105,2,     3.57,2,   -999.0,9,   2.6214
  18HU19940524, AR07W,    31,  1, 140306,      6,2,19940531, 313, 59.7465, -49.1428, 3240,   2553.4,   2.5984,  34.9022,2,  34.9014,2,    222.8,2,   -999.0,5,    12.02,6,    15.56,6,     1.17,6,    1.848,2,    0.960,2,    0.155,2,    3.609,2,    0.785,2,   -999.0,9,   2.4008
  18HU19940524, AR07W,    31,  1, 140305,      5,2,19940531, 313, 59.7465, -49.1428, 3240,   2702.6,   2.4873,  34.9038,2,  34.9047,2,    222.8,2,    289.4,2,    12.61,6,    15.52,6,     1.19,6,    1.756,2,    1.201,2,    0.174,2,    3.592,2,    2.102,2,   -999.0,9,   2.2774
  18HU19940524, AR07W,    31,  1, 140304,      4,2,19940531, 313, 59.7465, -49.1428, 3240,   2826.0,   2.2248,  34.8874,2,  34.8883,2,    227.4,2,    295.0,2,    11.72,6,    15.37,6,     1.14,6,    2.193,2,    1.277,2,    0.252,2,    4.218,2,    3.061,2,   -999.0,9,   2.0082
  18HU19940524, AR07W,    31,  1, 140303,      3,3,19940531, 313, 59.7465, -49.1428, 3240,   2972.9,   2.1507,  34.8832,2,  34.8856,2,    228.6,2,    291.5,2,    11.38,4,    15.51,4,     1.14,4,    2.247,2,    1.195,2,    0.168,2,    4.375,2,    7.972,3,   -999.0,9,   1.9213
  18HU19940524, AR07W,    31,  1, 140302,      2,2,19940531, 313, 59.7465, -49.1428, 3240,   3103.3,   1.9263,  34.8817,2,  34.8825,2,    232.3,2,    296.9,2,    11.15,6,    15.23,6,     1.12,6,    2.359,2,    1.102,2,    0.264,2,    4.307,2,    3.232,2,   -999.0,9,   1.6889
  18HU19940524, AR07W,    31,  1, 140301,      1,2,19940531, 313, 59.7465, -49.1428, 3240,   3190.1,   1.6920,  34.8803,2,  34.8791,2,    235.5,2,    301.4,2,    10.63,6,    15.06,6,     1.08,6,    2.598,2,    1.187,2,    0.267,2,    4.552,2,    2.678,2,   -999.0,9,   1.4513
  18HU19940524, AR07W,    31,  1, 140300,      0,2,19940531, 313, 59.7465, -49.1428, 3240,   3243.8,   1.5612,  34.8778,2,  34.8780,2,    238.1,2,    301.8,2,    10.41,6,    15.02,6,     1.09,6,    2.707,2,    1.399,2,    0.257,2,    5.035,2,    5.495,2,   -999.0,9,   1.3182
  18HU19940524, AR07W,    32,  1, 140339,     39,3,19940531, 757, 59.4722, -49.4790, 3418,      7.2,   3.4940,  34.5359,2,  34.5373,2,    243.7,2,    339.4,2,     7.32,4,     9.11,4,     0.78,4,    5.094,2,    2.600,2,    0.728,2,   11.135,3,   18.742,2,   -999.0,9,   3.4935
  18HU19940524, AR07W,    32,  1, 140338,     38,2,19940531, 757, 59.4722, -49.4790, 3418,     53.9,   3.2008,  34.5406,2,  34.5420,2,    241.8,2,    338.2,2,     7.44,6,     9.54,6,     0.80,6,    5.125,2,    2.863,2,    0.693,2,   11.134,3,   18.275,2,   -999.0,9,   3.1975
  18HU19940524, AR07W,    32,  1, 140337,     37,2,19940531, 757, 59.4722, -49.4790, 3418,    123.9,   3.1826,  34.7512,2,  34.7485,2,    225.9,2,    352.5,3,     8.34,6,    14.00,6,     1.06,6,    4.569,2,    3.400,3,    0.613,2,    9.241,2,   16.537,2,   -999.0,9,   3.1748
  18HU19940524, AR07W,    32,  1, 140336,     36,3,19940531, 757, 59.4722, -49.4790, 3418,    205.1,   3.3768,  34.8146,2,  34.8136,2,    224.0,2,    306.0,2,     8.54,4,    14.77,4,     1.07,4,    4.209,2,    2.266,2,    0.611,2,    8.540,2,   15.574,2,   -999.0,9,   3.3634
  18HU19940524, AR07W,    32,  1, 140335,     35,2,19940531, 757, 59.4722, -49.4790, 3418,    324.6,   3.2105,  34.8333,2,  34.8339,2,    225.0,2,    305.1,2,     8.91,6,    14.95,6,     1.10,6,    4.087,2,    2.392,2,    0.499,2,    8.493,2,   14.853,2,   -999.0,9,   3.1895
  18HU19940524, AR07W,    32,  1, 140334,     34,4,19940531, 757, 59.4722, -49.4790, 3418,    471.6,   3.0724,  34.8367,2,  34.8373,2,    226.4,2,    306.3,2,     9.22,4,    15.18,4,     1.12,4,    4.103,2,    2.420,2,    0.478,2,    8.589,2,   15.444,2,   -999.0,9,   3.0418
  18HU19940524, AR07W,    32,  1, 140333,     33,2,19940531, 757, 59.4722, -49.4790, 3418,    652.7,   3.0239,  34.8434,2,  34.8420,2,    227.6,2,    305.6,2,     9.35,6,    15.35,6,     1.12,6,    3.933,2,    2.055,2,    0.645,2,    8.293,2,    15.33,2,   -999.0,9,   2.9809
  18HU19940524, AR07W,    32,  1, 140332,     32,2,19940531, 757, 59.4722, -49.4790, 3418,    878.9,   2.9163,  34.8376,2,  34.8371,2,    229.0,2,    305.3,2,     9.33,6,    15.47,6,     1.17,6,    3.871,2,    2.129,2,    0.462,2,    8.135,2,   14.054,2,   -999.0,9,   2.8575
  18HU19940524, AR07W,    32,  1, 140331,     31,2,19940531, 757, 59.4722, -49.4790, 3418,   1154.7,   2.8370,  34.8316,2,  34.8309,2,    231.6,2,    305.1,2,     9.49,6,    15.58,6,     1.23,6,    3.898,2,    2.796,2,    0.539,2,    8.287,2,   15.323,2,   -999.0,9,   2.7580
  18HU19940524, AR07W,    32,  1, 140330,     30,2,19940531, 757, 59.4722, -49.4790, 3418,   1457.4,   2.7984,  34.8275,2,  34.8268,2,    232.3,2,    301.0,2,     9.55,6,    16.19,6,     1.23,6,    3.837,2,    2.423,2,    0.433,2,    8.017,2,   14.439,2,   -999.0,9,   2.6957
  18HU19940524, AR07W,    32,  1, 140329,     29,2,19940531, 757, 59.4722, -49.4790, 3418,   1756.6,   2.8148,  34.8295,2,  34.8290,2,    234.2,2,    306.5,2,     9.56,6,    15.73,6,     1.23,6,    3.831,2,    2.173,2,    0.407,2,    8.085,2,    14.31,2,   -999.0,9,   2.6868
  18HU19940524, AR07W,    32,  1, 140328,     28,3,19940531, 757, 59.4722, -49.4790, 3418,   2049.9,   2.8660,  34.8373,2,  34.8369,2,    233.6,2,    304.9,2,     9.63,4,    15.61,4,     1.23,4,    3.624,2,    2.047,2,    0.417,2,    7.675,2,   13.446,2,   -999.0,9,   2.7112
  18HU19940524, AR07W,    32,  1, 140327,     27,2,19940531, 757, 59.4722, -49.4790, 3418,   2326.0,   2.9641,  34.8565,2,  34.8556,2,    229.7,2,    300.1,2,     9.98,6,    15.80,6,     1.21,6,    3.092,6,    1.855,6,    0.262,6,    6.182,6,    7.975,6,   -999.0,9,   2.7820
  18HU19940524, AR07W,    32,  1, 140326,     26,2,19940531, 757, 59.4722, -49.4790, 3418,   2566.9,   3.0644,  34.9030,2,  34.9032,2,    220.8,2,    285.2,2,    11.23,6,    15.60,6,     1.21,6,    2.060,2,    1.285,2,    0.178,2,    4.791,2,    6.659,2,   -999.0,9,   2.8568
  18HU19940524, AR07W,    32,  1, 140325,     25,2,19940531, 757, 59.4722, -49.4790, 3418,   2768.2,   2.8460,  34.9092,2,  34.9092,2,    220.6,2,    285.3,2,    11.74,6,    15.25,6,     1.19,6,    1.925,2,    1.348,2,    0.126,2,    4.540,2,    6.392,2,   -999.0,9,   2.6224
  18HU19940524, AR07W,    32,  1, 140324,     24,2,19940531, 757, 59.4722, -49.4790, 3418,   2959.5,   2.6069,  34.9075,2,  34.9083,2,    222.0,2,    286.2,2,    12.44,6,    15.14,6,     1.19,6,    1.886,2,    1.101,2,    0.122,2,    4.455,2,    6.191,2,   -999.0,9,   2.3689
  18HU19940524, AR07W,    32,  1, 140323,     23,2,19940531, 757, 59.4722, -49.4790, 3418,   3115.1,   2.3014,  34.8988,2,  34.8987,2,    225.3,2,    289.8,2,    12.60,6,    15.48,6,     1.19,6,    2.020,2,    1.157,2,    0.172,2,    4.747,2,    7.373,2,   -999.0,9,   2.0542
  18HU19940524, AR07W,    32,  1, 140322,     22,2,19940531, 757, 59.4722, -49.4790, 3418,   3256.1,   2.0060,  34.8873,2,  34.8879,2,    231.0,2,    296.4,2,    11.63,6,    15.18,6,     1.15,6,    2.502,2,    1.335,2,    0.184,2,    5.460,2,    8.796,2,   -999.0,9,   1.7513
  18HU19940524, AR07W,    32,  1, 140321,     21,2,19940531, 757, 59.4722, -49.4790, 3418,   3359.2,   1.6951,  34.8802,2,  34.8804,6,    237.4,2,    300.3,6,    10.31,6,    14.45,6,     1.12,6,    2.938,2,    1.746,2,    0.249,2,    6.227,2,   10.689,2,   -999.0,9,   1.4373
  18HU19940524, AR07W,    32,  1, 140320,     20,2,19940531, 757, 59.4722, -49.4790, 3418,   3418.9,   1.6307,  34.8802,2,  34.8774,2,    239.2,2,    301.3,2,    10.18,6,    14.02,6,     1.13,6,    2.971,2,    1.588,2,    0.321,2,    6.292,2,   11.584,2,   -999.0,9,   1.3684