BOTTLE,20140813SIOCCHRJL
EXPOCODE,SECT_ID,STNNBR,CASTNO,SAMPNO,BTLNBR,BTLNBR_FLAG_W,DATE,TIME,LATITUDE,LONGITUDE,DEPTH,CTDPRS,CTDTMP,CTDSAL,CTDSAL_FLAG_W,SALNTY,SALNTY_FLAG_W,CTDOXY,CTDOXY_FLAG_W,OXYGEN,OXYGEN_FLAG_W,SILCAT,SILCAT_FLAG_W,NITRAT,NITRAT_FLAG_W,PHSPHT,PHSPHT_FLAG_W,CFC-11,CFC-11_FLAG_W,CFC-12,CFC-12_FLAG_W,CFC113,CFC113_FLAG_W,CCL4,CCL4_FLAG_W,MCHFRM,MCHFRM_FLAG_W,TCARBN,TCARBN_FLAG_W,THETA
,,,,,,,,,,,METERS,DBAR,ITS-90,PSS-78,,PSS-78,,UMOL/KG,,UMOL/KG,,UMOL/KG,,UMOL/KG,,UMOL/KG,,PMOL/KG,,PMOL/KG,,PMOL/KG,,PMOL/KG,,PMOL/KG,,UMOL/KG,,DEG C
  18HU19940524, AR07W,    61,  1, 140772,     72,3,19940607,2149, 51.2482, -50.4985,  328,      6.9,   1.0316,  32.4550,2,  32.4623,2,    300.4,2,    430.2,2,     0.74,4,     0.00,4,     0.35,4,    4.683,2,    2.619,2,    1.058,3,    9.551,2,   15.782,2,   1951.1,2,   1.0313
  18HU19940524, AR07W,    61,  1, 140771,     71,2,19940607,2149, 51.2482, -50.4985,  328,     54.2,  -0.7670,  33.6746,2,  33.6742,2,    261.4,2,    334.1,2,     9.03,6,    11.71,6,     1.07,6,    4.105,2,    2.549,2,    0.837,2,    7.672,2,   31.915,3,   2108.8,2,  -0.7685
  18HU19940524, AR07W,    61,  1, 140770,     70,2,19940607,2149, 51.2482, -50.4985,  328,    103.7,  -0.0093,  34.0172,2,  34.0159,2,    256.5,2,    326.8,2,     8.86,6,    12.81,6,     1.07,6,    4.164,6,    2.727,6,    0.758,6,    7.117,6,   12.868,6,   2116.9,2,  -0.0129
  18HU19940524, AR07W,    61,  1, 140769,     69,3,19940607,2149, 51.2482, -50.4985,  328,    154.0,   0.7526,  34.2347,2,  34.2285,2,    249.5,2,    319.2,2,     9.47,4,    14.04,4,     1.12,4,    4.216,2,    2.925,2,    0.887,2,    7.286,2,   12.815,2,   2125.4,2,   0.7461
  18HU19940524, AR07W,    61,  1, 140768,     68,2,19940607,2149, 51.2482, -50.4985,  328,    204.6,   1.9304,  34.4768,2,  34.4740,2,    240.5,2,    308.2,2,     9.74,6,    14.91,6,     1.14,6,    3.680,2,    2.377,2,    0.628,2,    5.679,2,    13.29,2,   2135.4,6,   1.9196
  18HU19940524, AR07W,    61,  1, 140767,     67,2,19940607,2149, 51.2482, -50.4985,  328,    251.1,   2.5236,  34.6341,2,  34.6339,2,    236.8,2,    303.5,6,    10.42,6,    15.78,6,     1.20,6,    3.723,6,    2.383,6,    0.614,6,    7.067,6,   13.296,6,   2142.9,2,   2.5090
  18HU19940524, AR07W,    61,  1, 140766,     66,2,19940607,2149, 51.2482, -50.4985,  328,    301.5,   2.6805,  34.6800,2,  34.6819,2,    238.2,2,    304.9,2,    10.85,6,    16.12,6,     1.22,6,    3.084,2,    2.008,2,    0.487,2,    6.100,2,   21.568,3,   2145.8,2,   2.6624
  18HU19940524, AR07W,    62,  1, 140781,     81,3,19940608,  47, 51.2547, -49.9192,  850,      8.9,   1.2630,  32.8853,2,  32.8914,2,    294.8,2,    391.1,2,     1.35,4,     0.58,4,     0.45,4,    4.932,2,    2.908,2,    1.212,3,    8.235,2,   14.283,2,   1997.2,2,   1.2626
  18HU19940524, AR07W,    62,  1, 140780,     80,2,19940608,  47, 51.2547, -49.9192,  850,     50.7,   1.6550,  34.4225,2,  34.4196,2,    255.0,2,    328.0,2,     8.43,6,    13.85,6,     1.05,6,    3.987,2,    3.020,2,    0.729,2,    6.042,2,    13.11,2,   2125.5,2,   1.6525
  18HU19940524, AR07W,    62,  1, 140779,     79,2,19940608,  47, 51.2547, -49.9192,  850,     93.0,   2.5494,  34.6448,2,  34.6455,2,    244.5,2,    315.1,2,     8.44,6,    15.03,6,     1.10,6,    3.775,2,    2.602,2,    0.549,2,    7.599,2,   13.353,2,   2138.6,2,   2.5441
  18HU19940524, AR07W,    62,  1, 140778,     78,2,19940608,  47, 51.2547, -49.9192,  850,    177.3,   3.3413,  34.7972,2,  34.8004,2,    232.4,2,   -999.0,5,     9.01,6,    15.94,6,     1.18,6,    3.504,6,    2.217,6,    0.600,6,    6.149,6,   12.607,6,   2146.0,2,   3.3298
  18HU19940524, AR07W,    62,  1, 140777,     77,3,19940608,  47, 51.2547, -49.9192,  850,    314.2,   3.4624,  34.8464,2,  34.8548,4,    227.8,2,    297.5,2,     9.80,4,    16.51,4,     1.22,4,    3.122,6,    2.167,6,    0.493,6,    5.815,6,   20.995,4,   2150.3,2,   3.4414
  18HU19940524, AR07W,    62,  1, 140776,     76,2,19940608,  47, 51.2547, -49.9192,  850,    472.5,   3.2380,  34.8477,2,  34.8497,2,    229.8,2,    299.3,6,     9.76,6,    16.55,6,     1.21,6,    2.977,2,    1.881,2,    0.558,2,    4.393,2,    8.919,2,   2151.3,2,   3.2067
  18HU19940524, AR07W,    62,  1, 140775,     75,2,19940608,  47, 51.2547, -49.9192,  850,    638.4,   3.1308,  34.8453,2,  34.8475,2,    232.0,2,    298.0,2,     9.73,6,    16.55,6,     1.20,6,    2.973,2,    2.382,2,    0.596,2,    6.081,2,   10.761,2,   2151.4,2,   3.0882
  18HU19940524, AR07W,    62,  1, 140774,     74,2,19940608,  47, 51.2547, -49.9192,  850,    761.8,   3.0625,  34.8447,2,  34.8471,2,    233.4,2,    300.1,2,     9.81,6,    16.69,6,     1.23,6,    2.900,2,    2.590,2,    0.524,2,    4.689,2,    8.429,2,   2151.1,6,   3.0114
  18HU19940524, AR07W,    62,  1, 140773,     73,2,19940608,  47, 51.2547, -49.9192,  850,    857.0,   2.9859,  34.8458,2,  34.8464,2,    236.3,2,    282.9,3,    10.06,6,    16.99,6,     1.21,6,    2.850,2,    2.022,2,    0.345,2,    5.503,2,    9.531,2,   2150.3,2,   2.9283
  18HU19940524, AR07W,    63,  1, 140796,     96,3,19940608, 319, 51.3745, -49.6140, 2097,      9.4,   1.7825,  33.2494,2,  33.2407,4,    288.1,2,    383.8,2,     1.04,4,     1.55,4,     0.44,4,    5.241,2,    2.803,2,    1.070,3,   11.312,3,   19.377,2,   1998.0,2,   1.7821
  18HU19940524, AR07W,    63,  1, 140795,     95,2,19940608, 319, 51.3745, -49.6140, 2097,     55.2,   2.4713,  34.4617,2,  34.4592,2,    254.5,2,    329.7,2,     7.15,6,    13.44,6,     1.01,6,    4.507,2,    2.519,2,    0.823,2,    9.477,2,   17.145,2,   2125.6,2,   2.4682
  18HU19940524, AR07W,    63,  1, 140794,     94,3,19940608, 319, 51.3745, -49.6140, 2097,    105.2,   2.7460,  34.6937,2,  34.6964,2,    244.5,2,    312.9,2,     8.78,4,    16.09,4,     1.16,4,    4.128,2,    2.262,2,    0.717,2,    8.354,2,   15.302,2,   2142.5,2,   2.7398
  18HU19940524, AR07W,    63,  1, 140793,     93,2,19940608, 319, 51.3745, -49.6140, 2097,    202.4,   3.0431,  34.7938,2,  34.7953,2,    239.3,2,    305.7,2,     9.17,6,    16.78,6,     1.18,6,    3.773,2,    2.138,2,    0.691,2,    7.653,2,   14.468,2,   2147.7,2,   3.0305
  18HU19940524, AR07W,    63,  1, 140792,     92,3,19940608, 319, 51.3745, -49.6140, 2097,    401.7,   2.9837,  34.8299,2,  34.8345,2,    238.6,2,    302.7,2,     9.47,4,    17.00,4,     1.18,4,    3.497,2,    1.933,2,    0.525,2,    7.200,2,   13.879,2,   2149.7,2,   2.9581
  18HU19940524, AR07W,    63,  1, 140791,     91,2,19940608, 319, 51.3745, -49.6140, 2097,    605.5,   2.9529,  34.8386,2,  34.8397,2,    239.5,2,    301.9,2,     9.59,6,    16.95,6,     1.20,6,    3.392,2,    1.884,2,    0.485,2,    7.002,2,   13.098,2,   2150.5,2,   2.9135
  18HU19940524, AR07W,    63,  1, 140790,     90,2,19940608, 319, 51.3745, -49.6140, 2097,    812.1,   2.9187,  34.8415,2,  34.8421,2,    238.9,2,    302.3,2,     9.66,6,    16.96,6,     1.23,6,    3.262,2,    1.815,2,    0.473,2,    6.831,2,   12.828,2,   2151.2,2,   2.8648
  18HU19940524, AR07W,    63,  1, 140789,     89,2,19940608, 319, 51.3745, -49.6140, 2097,   1015.4,   2.8407,  34.8375,2,  34.8410,2,    240.5,2,    303.5,2,     9.99,6,    16.69,6,     1.20,6,    3.297,2,    1.818,2,    0.500,2,    6.987,2,   13.239,2,   2151.6,2,   2.7723
  18HU19940524, AR07W,    63,  1, 140788,     88,3,19940608, 319, 51.3745, -49.6140, 2097,   1218.2,   2.8430,  34.8405,2,  34.8422,2,    240.3,2,    302.3,2,    10.06,4,    16.89,4,     1.20,4,    3.157,2,    1.708,2,    0.443,2,    6.624,2,   12.373,2,   2151.7,2,   2.7590
  18HU19940524, AR07W,    63,  1, 140787,     87,2,19940608, 319, 51.3745, -49.6140, 2097,   1418.0,   2.8748,  34.8490,2,  34.8504,2,    238.9,2,    301.5,2,    10.13,6,    16.59,6,     1.19,6,    2.792,6,    1.555,6,    0.383,6,    5.180,6,   10.269,6,   2152.2,2,   2.7744
  18HU19940524, AR07W,    63,  1, 140786,     86,3,19940608, 319, 51.3745, -49.6140, 2097,   1613.9,   2.9812,  34.8806,2,  34.8833,2,    232.4,2,    291.8,2,    10.90,4,    16.55,4,     1.21,4,    2.358,2,    1.286,2,    0.306,2,    5.154,2,    8.917,2,   2150.9,2,   2.8632
  18HU19940524, AR07W,    63,  1, 140785,     85,2,19940608, 319, 51.3745, -49.6140, 2097,   1813.8,   2.9763,  34.8966,2,  34.8987,2,    230.9,2,    287.7,2,    11.42,6,    16.91,6,     1.20,6,    1.972,2,    1.104,2,    0.200,2,    4.438,2,    7.242,2,   2153.9,6,   2.8409
  18HU19940524, AR07W,    63,  1, 140784,     84,2,19940608, 319, 51.3745, -49.6140, 2097,   1908.0,   2.9473,  34.8983,2,  34.9007,2,    231.3,2,    287.0,2,    11.48,6,    16.58,6,     1.18,6,    1.952,2,    0.950,2,    0.187,2,    4.521,2,      7.9,2,   2153.6,2,   2.8039
  18HU19940524, AR07W,    63,  1, 140783,     83,2,19940608, 319, 51.3745, -49.6140, 2097,   2003.9,   2.9267,  34.9025,2,  34.9055,2,    231.5,2,    286.5,6,    11.65,6,    16.82,6,     1.19,6,    1.818,2,    1.027,2,    0.180,2,    4.173,2,    6.716,2,   2154.1,2,   2.7750
  18HU19940524, AR07W,    63,  1, 140782,     82,2,19940608, 319, 51.3745, -49.6140, 2097,   2072.1,   2.9328,  34.9029,2,  34.9030,2,    232.7,2,    285.5,2,    11.74,6,    16.63,6,     1.21,6,    1.816,2,    0.905,2,    0.174,2,    4.227,2,    7.082,2,   2153.9,2,   2.7748
  18HU19940524, AR07W,    64,  1, 140816,     16,2,19940608, 705, 51.5672, -49.1785, 2964,     10.7,   2.9703,  33.8514,2,  33.8521,2,    282.8,2,    363.1,2,     1.07,6,     2.85,6,     0.43,6,    4.072,2,    2.122,2,    0.760,2,    8.550,2,   10.992,2,   -999.0,5,   2.9697
  18HU19940524, AR07W,    64,  1, 140815,     15,2,19940608, 705, 51.5672, -49.1785, 2964,     54.4,   2.6815,  33.8905,2,  33.8919,2,    281.2,2,    366.0,2,     1.34,6,     3.72,6,     0.52,6,    4.143,2,    2.195,2,    2.300,4,    9.765,2,   13.482,2,   -999.0,5,   2.6784
  18HU19940524, AR07W,    64,  1, 140814,     14,2,19940608, 705, 51.5672, -49.1785, 2964,    101.3,   2.4733,  34.5068,2,  34.5037,2,    256.2,2,    323.5,3,     8.19,6,    14.03,6,     1.08,6,    3.654,2,    1.798,2,    0.768,3,    7.917,2,    8.906,2,   -999.0,5,   2.4676
  18HU19940524, AR07W,    64,  1, 140813,     13,3,19940608, 705, 51.5672, -49.1785, 2964,    202.9,   2.7188,  34.7188,2,  34.7190,2,    249.4,2,    311.5,2,     9.26,4,    16.19,4,     1.15,4,    3.270,2,    1.663,2,    0.523,2,    6.765,2,     8.92,2,   -999.0,5,   2.7067
  18HU19940524, AR07W,    64,  1, 140812,     12,2,19940608, 705, 51.5672, -49.1785, 2964,    291.4,   2.9133,  34.7962,2,  34.7963,2,    243.1,2,    311.6,2,     9.60,6,    16.76,6,     1.17,6,    3.135,2,    2.146,2,    0.521,2,    6.464,2,    7.322,2,   -999.0,5,   2.8952
  18HU19940524, AR07W,    64,  1, 140811,     11,2,19940608, 705, 51.5672, -49.1785, 2964,    393.1,   2.9851,  34.8304,2,  34.8314,2,    242.1,2,    303.0,2,     9.76,6,    16.97,6,     1.19,6,    2.750,2,    1.330,3,    0.671,3,    5.349,2,    6.167,2,   -999.0,5,   2.9601
  18HU19940524, AR07W,    64,  1, 140810,     10,3,19940608, 705, 51.5672, -49.1785, 2964,    592.6,   2.9509,  34.8426,2,  34.8387,2,    241.9,2,    301.7,2,     9.88,4,    16.98,4,     1.19,4,    2.834,2,    2.094,2,    0.473,2,    6.087,2,    6.901,2,   -999.0,5,   2.9125
  18HU19940524, AR07W,    64,  1, 140809,      9,2,19940608, 705, 51.5672, -49.1785, 2964,    800.6,   2.9261,  34.8464,2,  34.8448,2,    241.3,2,    302.1,2,     9.95,6,    16.90,6,     1.19,6,    2.886,6,    1.414,6,    0.364,6,    6.157,6,   16.202,3,   -999.0,5,   2.8730
  18HU19940524, AR07W,    64,  1, 140808,      8,2,19940608, 705, 51.5672, -49.1785, 2964,   1010.7,   2.8942,  34.8473,2,  34.8472,2,    240.9,2,    301.2,2,    10.04,6,    16.92,6,     1.18,6,    2.742,2,    1.238,2,    0.429,2,    6.099,2,    6.729,2,   -999.0,5,   2.8257
  18HU19940524, AR07W,    64,  1, 140807,      7,2,19940608, 705, 51.5672, -49.1785, 2964,   1216.3,   2.8853,  34.8504,2,  34.8514,2,    242.5,2,    300.0,2,    10.10,6,    16.82,6,     1.20,6,    2.480,2,    1.417,2,    0.284,2,    4.645,2,    5.264,2,   -999.0,5,   2.8010
  18HU19940524, AR07W,    64,  1, 140806,      6,3,19940608, 705, 51.5672, -49.1785, 2964,   1515.1,   2.9813,  34.8837,2,  34.8924,4,    231.9,2,    292.1,2,    10.90,4,    16.95,4,     1.21,4,    1.912,2,    1.142,2,    0.235,2,    3.518,2,    4.862,2,   -999.0,5,   2.8716
  18HU19940524, AR07W,    64,  1, 140805,      5,2,19940608, 705, 51.5672, -49.1785, 2964,   1811.5,   2.9167,  34.9046,2,  34.9056,2,    227.2,2,    286.1,2,    11.62,6,    16.90,6,     1.18,6,    1.432,2,    0.943,2,    0.150,2,    3.218,2,    2.682,2,   -999.0,5,   2.7823
  18HU19940524, AR07W,    64,  1, 140804,      4,2,19940608, 705, 51.5672, -49.1785, 2964,   2062.8,   2.6898,  34.9093,2,  34.9113,2,    226.9,2,    283.6,2,    12.28,6,    16.69,6,     1.18,6,    1.332,2,    0.700,2,    0.539,3,    4.667,2,    5.577,2,   -999.0,5,   2.5363
  18HU19940524, AR07W,    64,  1, 140803,      3,3,19940608, 705, 51.5672, -49.1785, 2964,   2255.6,   2.4589,  34.9052,2,  34.9061,2,    228.3,2,    286.5,2,    12.71,4,    16.49,4,     1.24,4,    1.336,2,    0.779,2,    0.158,2,    3.067,2,    2.466,2,   -999.0,5,   2.2917
  18HU19940524, AR07W,    64,  1, 140802,      2,2,19940608, 705, 51.5672, -49.1785, 2964,   2452.9,   2.2476,  34.8976,2,  34.8990,2,    230.8,2,    287.8,2,    12.60,6,    16.24,6,     1.16,6,    1.585,2,    1.571,3,    0.385,3,    4.960,2,    4.715,2,   -999.0,5,   2.0660
  18HU19940524, AR07W,    64,  1, 140801,      1,3,19940608, 705, 51.5672, -49.1785, 2964,   2601.9,   2.0465,  34.8894,2,  34.8910,2,    233.7,2,    296.5,2,    12.29,4,    16.08,4,     1.14,4,    1.735,2,    1.086,2,    0.221,2,    3.088,2,    4.618,2,   -999.0,5,   1.8549
  18HU19940524, AR07W,    64,  1, 140800,      0,2,19940608, 705, 51.5672, -49.1785, 2964,   2700.7,   1.8880,  34.8842,2,  34.8836,2,    236.3,2,    295.4,2,    12.05,6,    15.73,6,     1.12,6,    1.871,2,    1.181,2,    0.238,2,    4.175,2,    4.741,2,   -999.0,5,   1.6903
  18HU19940524, AR07W,    64,  1, 140799,     99,2,19940608, 705, 51.5672, -49.1785, 2964,   2804.4,   1.7131,  34.8761,2,  34.8769,2,    239.8,2,    297.8,2,    11.54,6,    15.42,6,     1.10,6,    2.084,2,    1.900,3,    0.230,2,    5.181,2,    5.665,2,   -999.0,5,   1.5092
  18HU19940524, AR07W,    64,  1, 140798,     98,3,19940608, 705, 51.5672, -49.1785, 2964,   2900.6,   1.6971,  34.8749,2,  34.8789,4,    241.0,2,    297.8,2,    11.46,4,    15.41,4,     1.11,4,    2.043,2,    1.257,2,    0.288,2,    4.674,2,    5.252,2,   -999.0,5,   1.4845
  18HU19940524, AR07W,    64,  1, 140797,     97,2,19940608, 705, 51.5672, -49.1785, 2964,   2951.4,   1.6983,  34.8749,2,  34.8756,2,    242.3,2,    298.3,6,    11.46,6,    15.51,6,     1.09,6,    2.060,2,    1.404,2,    0.359,3,    4.565,2,    5.381,2,   -999.0,5,   1.4808