BOTTLE,20140813SIOCCHRJL
EXPOCODE,SECT_ID,STNNBR,CASTNO,SAMPNO,BTLNBR,BTLNBR_FLAG_W,DATE,TIME,LATITUDE,LONGITUDE,DEPTH,CTDPRS,CTDTMP,CTDSAL,CTDSAL_FLAG_W,SALNTY,SALNTY_FLAG_W,CTDOXY,CTDOXY_FLAG_W,OXYGEN,OXYGEN_FLAG_W,SILCAT,SILCAT_FLAG_W,NITRAT,NITRAT_FLAG_W,PHSPHT,PHSPHT_FLAG_W,CFC-11,CFC-11_FLAG_W,CFC-12,CFC-12_FLAG_W,CFC113,CFC113_FLAG_W,CCL4,CCL4_FLAG_W,MCHFRM,MCHFRM_FLAG_W,TCARBN,TCARBN_FLAG_W,THETA
,,,,,,,,,,,METERS,DBAR,ITS-90,PSS-78,,PSS-78,,UMOL/KG,,UMOL/KG,,UMOL/KG,,UMOL/KG,,UMOL/KG,,PMOL/KG,,PMOL/KG,,PMOL/KG,,PMOL/KG,,PMOL/KG,,UMOL/KG,,DEG C
  18HU19940524, AR07W,    35,  1, 140419,     19,2,19940601, 313, 58.2217, -50.8542, 3571,      8.0,   3.8342,  34.6166,2,  34.6184,2,    250.8,2,    348.9,2,     7.74,6,     8.46,6,     0.67,6,    4.525,6,    2.659,6,    0.499,6,    8.362,6,   13.016,6,   -999.0,9,   3.8337
  18HU19940524, AR07W,    35,  1, 140418,     18,2,19940601, 313, 58.2217, -50.8542, 3571,     55.2,   2.9633,  34.7288,2,  34.7279,2,    240.4,2,    329.1,2,     8.83,6,    12.82,6,     0.92,6,    4.341,2,    2.100,2,    0.447,2,    9.168,2,   23.429,3,   -999.0,9,   2.9600
  18HU19940524, AR07W,    35,  1, 140417,     17,2,19940601, 313, 58.2217, -50.8542, 3571,    123.4,   2.9059,  34.7915,2,  34.7920,2,    228.5,2,    307.0,6,     9.51,6,    15.67,6,     1.07,6,    3.881,2,    2.755,2,    0.391,2,    6.594,2,    9.719,2,   -999.0,9,   2.8984
  18HU19940524, AR07W,    35,  1, 140416,     16,3,19940601, 313, 58.2217, -50.8542, 3571,    212.8,   2.9190,  34.8191,2,  34.8198,2,    227.9,2,    304.6,2,     9.60,4,    16.27,4,     1.16,4,    3.648,2,    2.529,2,    0.424,2,    6.976,2,   17.865,3,   -999.0,9,   2.9059
  18HU19940524, AR07W,    35,  1, 140415,     15,2,19940601, 313, 58.2217, -50.8542, 3571,    340.6,   2.8491,  34.8284,2,-999.0000,9,    227.9,2,    303.4,2,     9.83,6,    16.59,6,     1.07,6,    3.283,2,    1.954,2,    0.336,2,    5.617,2,    8.961,2,   -999.0,9,   2.8280
  18HU19940524, AR07W,    35,  1, 140414,     14,2,19940601, 313, 58.2217, -50.8542, 3571,    488.6,   2.7537,  34.8219,2,  34.8232,2,    230.4,2,    306.0,2,     9.80,6,    16.99,6,     1.07,6,    3.528,2,    2.073,2,    0.342,2,    5.774,2,     8.16,2,   -999.0,9,   2.7232
  18HU19940524, AR07W,    35,  1, 140413,     13,2,19940601, 313, 58.2217, -50.8542, 3571,    699.2,   2.7646,  34.8262,2,  34.8260,2,    230.3,2,    256.4,3,     9.86,6,    17.04,6,     1.08,6,    3.361,2,    1.837,2,    0.357,2,    6.183,2,    9.795,2,   -999.0,9,   2.7197
  18HU19940524, AR07W,    35,  1, 140412,     12,2,19940601, 313, 58.2217, -50.8542, 3571,    953.9,   2.7529,  34.8265,2,  34.8245,2,    231.8,2,    306.3,2,     9.88,6,    16.91,6,     1.07,6,    3.314,2,    1.936,2,    0.291,2,    5.902,2,   15.252,2,   -999.0,9,   2.6898
  18HU19940524, AR07W,    35,  1, 140411,     11,2,19940601, 313, 58.2217, -50.8542, 3571,   1206.9,   2.7712,  34.8286,2,  34.8277,2,    232.7,2,    306.9,2,     9.81,6,    16.67,6,     1.08,6,    3.464,2,    2.017,2,    0.327,2,    5.488,2,    8.076,2,   -999.0,9,   2.6888
  18HU19940524, AR07W,    35,  1, 140410,     10,2,19940601, 313, 58.2217, -50.8542, 3571,   1464.3,   2.7953,  34.8312,2,  34.8316,2,    233.4,2,    305.6,2,     9.75,6,    16.47,6,     1.05,6,    3.193,2,    1.829,2,    0.290,2,    5.813,2,    8.914,2,   -999.0,9,   2.6921
  18HU19940524, AR07W,    35,  1, 140409,      9,2,19940601, 313, 58.2217, -50.8542, 3571,   1772.8,   2.8072,  34.8315,2,  34.8315,2,    234.4,2,    305.8,2,     9.85,6,    16.58,6,     1.04,6,    3.264,2,    2.148,2,    0.293,2,    5.658,2,    7.065,2,   -999.0,9,   2.6779
  18HU19940524, AR07W,    35,  1, 140408,      8,3,19940601, 313, 58.2217, -50.8542, 3571,   2083.2,   2.8576,  34.8377,2,  34.8380,2,    235.1,2,    304.1,2,     9.91,4,    16.56,4,     1.12,4,    3.255,2,    1.647,2,    0.285,2,    5.172,2,    8.685,2,   -999.0,9,   2.6999
  18HU19940524, AR07W,    35,  1, 140407,      7,2,19940601, 313, 58.2217, -50.8542, 3571,   2387.0,   3.1056,  34.8941,2,  34.8930,2,    223.0,2,    287.9,2,    11.31,6,    16.60,6,     1.08,6,    1.895,2,    0.901,2,    0.124,2,    3.125,2,    2.506,2,   -999.0,9,   2.9150
  18HU19940524, AR07W,    35,  1, 140406,      6,2,19940601, 313, 58.2217, -50.8542, 3571,   2694.3,   2.9662,  34.9101,2,  34.9113,2,    221.6,2,    283.9,2,    11.88,6,    16.07,6,     1.07,6,    1.428,2,    0.687,2,    0.075,2,    2.816,2,    0.734,2,   -999.0,9,   2.7477
  18HU19940524, AR07W,    35,  1, 140405,      5,2,19940601, 313, 58.2217, -50.8542, 3571,   2929.0,   2.7855,  34.9106,2,  34.9123,2,    222.4,2,    284.6,2,    12.35,6,    15.78,6,     1.06,6,    1.532,2,    0.988,2,    0.079,2,    2.596,2,    0.739,2,   -999.0,9,   2.5468
  18HU19940524, AR07W,    35,  1, 140404,      4,2,19940601, 313, 58.2217, -50.8542, 3571,   3123.6,   2.5378,  34.9049,2,  34.9055,2,    224.5,2,    287.1,2,    12.54,6,    15.18,6,     1.05,6,    1.700,2,    1.127,2,    0.096,2,    3.372,2,    1.604,2,   -999.0,9,   2.2844
  18HU19940524, AR07W,    35,  1, 140403,      3,3,19940601, 313, 58.2217, -50.8542, 3571,   3284.7,   2.2606,  34.8947,2,  34.8861,4,    228.0,2,    293.8,2,    11.85,4,    14.43,4,     1.05,4,    2.081,2,    1.355,2,    0.135,2,    3.310,2,    2.867,2,   -999.0,9,   1.9969
  18HU19940524, AR07W,    35,  1, 140402,      2,2,19940601, 313, 58.2217, -50.8542, 3571,   3435.3,   1.9072,  34.8831,2,  34.8830,2,    233.4,2,    297.2,2,    11.52,6,    13.66,6,     0.99,6,    2.336,2,    1.338,2,    0.167,2,    4.522,2,    4.986,2,   -999.0,9,   1.6364
  18HU19940524, AR07W,    35,  1, 140401,      1,2,19940601, 313, 58.2217, -50.8542, 3571,   3533.7,   1.7059,  34.8756,2,  34.8757,2,    236.9,2,    298.9,2,    11.42,6,    13.52,6,     0.99,6,    2.539,2,    1.114,2,    0.151,2,    5.121,2,   35.185,4,   -999.0,9,   1.4299
  18HU19940524, AR07W,    35,  1, 140400,      0,3,19940601, 313, 58.2217, -50.8542, 3571,   3585.0,   1.6873,  34.8755,2,  34.8502,4,    237.7,2,    298.2,2,    11.08,6,    13.84,6,     1.07,6,    2.581,2,    1.535,2,    0.151,2,    4.252,2,    7.367,2,   -999.0,9,   1.4065
  18HU19940524, AR07W,    36,  1, 140439,     39,3,19940601, 902, 57.8033, -51.3040, 3646,      6.9,   3.5687,  34.6573,2,  34.6600,2,    253.1,2,    350.6,2,     7.51,4,     7.73,4,     0.67,4,    4.967,2,    2.676,2,    0.690,2,   10.924,3,   19.117,2,   -999.0,9,   3.5683
  18HU19940524, AR07W,    36,  1, 140438,     38,2,19940601, 902, 57.8033, -51.3040, 3646,     52.6,   3.4315,  34.6703,2,  34.6687,2,    251.9,2,    350.3,2,     7.40,6,     7.89,6,     0.58,6,    4.960,2,    2.537,2,    0.744,2,   10.739,3,   18.441,2,   -999.0,9,   3.4281
  18HU19940524, AR07W,    36,  1, 140437,     37,2,19940601, 902, 57.8033, -51.3040, 3646,    124.0,   2.8929,  34.7735,2,  34.7746,2,    236.1,2,    317.6,2,     8.92,6,    13.87,6,     0.94,6,    4.486,2,    2.416,2,    0.544,2,    9.505,2,   16.987,2,   -999.0,9,   2.8854
  18HU19940524, AR07W,    36,  1, 140436,     36,2,19940601, 902, 57.8033, -51.3040, 3646,    208.4,   2.8604,  34.8036,2,  34.8047,2,    232.1,2,    311.0,2,     8.99,6,    15.33,6,     0.98,6,    4.262,2,    2.357,2,    0.596,2,    8.838,2,   16.111,2,   -999.0,9,   2.8477
  18HU19940524, AR07W,    36,  1, 140435,     35,2,19940601, 902, 57.8033, -51.3040, 3646,    350.4,   2.9013,  34.8301,2,  34.8315,2,    230.2,2,    306.1,2,     9.40,6,    15.78,6,     0.99,6,    3.926,2,    2.029,2,    0.495,2,    8.236,2,   15.253,2,   -999.0,9,   2.8794
  18HU19940524, AR07W,    36,  1, 140434,     34,2,19940601, 902, 57.8033, -51.3040, 3646,    505.9,   2.8216,  34.8286,2,  34.8290,2,    230.0,2,    305.2,2,     9.67,6,    16.31,6,     1.00,6,    3.614,6,    1.899,6,    0.435,6,    6.533,6,    11.92,6,   -999.0,9,   2.7897
  18HU19940524, AR07W,    36,  1, 140433,     33,2,19940601, 902, 57.8033, -51.3040, 3646,    707.2,   2.7688,  34.8266,2,  34.8274,2,    231.7,2,    306.7,2,     9.61,6,    15.86,6,     1.07,6,    3.788,2,    1.905,2,    0.467,2,    8.042,2,   14.768,2,   -999.0,9,   2.7233
  18HU19940524, AR07W,    36,  1, 140432,     32,2,19940601, 902, 57.8033, -51.3040, 3646,    952.6,   2.7351,  34.8239,2,  34.8266,2,    233.1,2,    306.2,2,     9.55,6,    15.63,6,     1.13,6,    3.828,2,    2.087,2,    0.482,2,    8.099,2,   15.339,2,   -999.0,9,   2.6722
  18HU19940524, AR07W,    36,  1, 140431,     31,2,19940601, 902, 57.8033, -51.3040, 3646,   1237.9,   2.7626,  34.8277,2,  34.8300,2,    232.8,2,    304.9,2,     9.60,6,    16.33,6,     1.07,6,    3.725,2,    1.950,2,    0.464,2,    7.877,2,   14.381,2,   -999.0,9,   2.6778
  18HU19940524, AR07W,    36,  1, 140430,     30,2,19940601, 902, 57.8033, -51.3040, 3646,   1489.6,   2.7935,  34.8320,2,  34.8326,2,    233.7,2,    306.9,6,     9.78,6,    16.59,6,     1.08,6,    3.710,2,    1.944,2,    0.397,2,    7.946,2,    14.76,2,   -999.0,9,   2.6882
  18HU19940524, AR07W,    36,  1, 140429,     29,2,19940601, 902, 57.8033, -51.3040, 3646,   1740.9,   2.7824,  34.8279,2,  34.8289,2,    234.9,2,    304.8,2,     9.73,6,    16.37,6,     1.05,6,    3.762,2,    2.154,2,    0.454,2,    7.890,2,   14.309,2,   -999.0,9,   2.6562
  18HU19940524, AR07W,    36,  1, 140428,     28,3,19940601, 902, 57.8033, -51.3040, 3646,   2005.4,   2.8239,  34.8322,2,  34.8338,2,    235.1,2,    305.6,2,     9.72,4,    16.34,4,     1.06,4,    3.663,2,    1.898,2,    0.490,2,    7.788,2,   14.386,2,   -999.0,9,   2.6738
  18HU19940524, AR07W,    36,  1, 140427,     27,3,19940601, 902, 57.8033, -51.3040, 3646,   2308.2,   2.9965,  34.8643,2,  34.8686,2,    228.5,2,    297.1,2,    10.32,4,    15.89,4,     1.07,4,    2.954,2,    1.592,2,    0.278,2,    6.444,2,   11.777,2,   -999.0,9,   2.8155
  18HU19940524, AR07W,    36,  1, 140426,     26,3,19940601, 902, 57.8033, -51.3040, 3646,   2645.2,   3.0295,  34.9107,2,  34.9139,2,    219.3,2,    284.7,2,    11.82,4,    15.64,4,     1.09,4,    1.751,2,    0.968,2,    0.000,2,    4.304,2,    6.781,2,   -999.0,9,   2.8147
  18HU19940524, AR07W,    36,  1, 140425,     25,2,19940601, 902, 57.8033, -51.3040, 3646,   2928.0,   2.8111,  34.9120,2,  34.9141,2,    220.2,2,    284.6,2,    12.31,6,    15.50,6,     1.05,6,    1.705,2,    0.938,2,    0.109,2,    4.182,2,     6.81,2,   -999.0,9,   2.5719
  18HU19940524, AR07W,    36,  1, 140424,     24,2,19940601, 902, 57.8033, -51.3040, 3646,   3149.0,   2.5441,  34.9047,2,  34.9065,2,    222.8,2,    287.7,2,    12.60,6,    15.37,6,     1.12,6,    1.900,6,    0.964,6,    0.123,6,    4.449,6,    7.328,6,   -999.0,9,   2.2879
  18HU19940524, AR07W,    36,  1, 140423,     23,3,19940601, 902, 57.8033, -51.3040, 3646,   3337.1,   2.2272,  34.8955,2,  34.8854,4,    226.4,2,    293.8,2,    12.00,4,    15.03,4,     1.06,4,    2.370,2,    1.287,2,    0.176,2,    5.403,2,    9.467,2,   -999.0,9,   1.9588
  18HU19940524, AR07W,    36,  1, 140422,     22,2,19940601, 902, 57.8033, -51.3040, 3646,   3480.3,   1.8544,  34.8816,2,  34.8825,2,    232.4,2,    297.1,2,    11.48,6,    14.30,6,     0.99,6,    2.606,2,    1.369,2,    0.182,2,    5.763,2,   10.523,2,   -999.0,9,   1.5802
  18HU19940524, AR07W,    36,  1, 140421,     21,2,19940601, 902, 57.8033, -51.3040, 3646,   3582.8,   1.6694,  34.8739,2,  34.8764,2,    236.1,2,    299.7,2,    11.48,6,    14.18,6,     0.98,6,    2.852,2,    1.575,2,    0.278,2,    6.082,2,   11.971,2,   -999.0,9,   1.3892
  18HU19940524, AR07W,    36,  1, 140420,     20,4,19940601, 902, 57.8033, -51.3040, 3646,   3657.2,   1.6735,  34.8739,2,  34.8733,2,    237.7,2,    299.7,6,    11.49,4,    14.29,4,     1.01,4,    2.833,2,    1.440,2,    0.241,2,    5.990,2,   11.484,2,   -999.0,9,   1.3854
  18HU19940524, AR07W,    37,  1, 140459,     59,2,19940601,1514, 57.3962, -51.7538, 3549,      5.0,   3.5931,  34.6513,2,-999.0000,9,    258.2,2,   -999.0,9,  -999.00,9,  -999.00,9,  -999.00,9, -999.000,9, -999.000,9, -999.000,9, -999.000,9,     -999,9,   -999.0,9,   3.5928
  18HU19940524, AR07W,    37,  1, 140458,     58,2,19940601,1514, 57.3962, -51.7538, 3549,      5.1,   3.5993,  34.6517,2,-999.0000,9,    258.5,2,   -999.0,9,  -999.00,9,  -999.00,9,  -999.00,9, -999.000,9, -999.000,9, -999.000,9, -999.000,9,     -999,9,   -999.0,9,   3.5990
  18HU19940524, AR07W,    37,  1, 140456,     56,2,19940601,1514, 57.3962, -51.7538, 3549,     14.0,   3.5864,  34.6512,2,-999.0000,9,    258.4,2,   -999.0,9,  -999.00,9,  -999.00,9,  -999.00,9, -999.000,9, -999.000,9, -999.000,9, -999.000,9,     -999,9,   -999.0,9,   3.5855
  18HU19940524, AR07W,    37,  1, 140457,     57,2,19940601,1514, 57.3962, -51.7538, 3549,     14.6,   3.5742,  34.6518,2,-999.0000,9,    258.9,2,   -999.0,9,     7.18,6,     8.56,6,     0.67,6, -999.000,9, -999.000,9, -999.000,9, -999.000,9,     -999,9,   -999.0,9,   3.5733
  18HU19940524, AR07W,    37,  1, 140455,     55,2,19940601,1514, 57.3962, -51.7538, 3549,     23.6,   3.5786,  34.6511,2,-999.0000,9,    258.1,2,   -999.0,9,     7.23,6,     8.58,6,     0.67,6, -999.000,9, -999.000,9, -999.000,9, -999.000,9,     -999,9,   -999.0,9,   3.5771
  18HU19940524, AR07W,    37,  1, 140454,     54,2,19940601,1514, 57.3962, -51.7538, 3549,     23.9,   3.5671,  34.6513,2,-999.0000,9,    257.9,2,   -999.0,9,  -999.00,9,  -999.00,9,  -999.00,9, -999.000,9, -999.000,9, -999.000,9, -999.000,9,     -999,9,   -999.0,9,   3.5655
  18HU19940524, AR07W,    37,  1, 140453,     53,2,19940601,1514, 57.3962, -51.7538, 3549,     28.2,   3.5823,  34.6512,2,-999.0000,9,    258.0,2,   -999.0,9,  -999.00,9,  -999.00,9,  -999.00,9, -999.000,9, -999.000,9, -999.000,9, -999.000,9,     -999,9,   -999.0,9,   3.5805
  18HU19940524, AR07W,    37,  1, 140452,     52,2,19940601,1514, 57.3962, -51.7538, 3549,     32.5,   3.5614,  34.6519,2,-999.0000,9,    257.6,2,   -999.0,9,     7.25,6,     8.58,6,     0.66,6, -999.000,9, -999.000,9, -999.000,9, -999.000,9,     -999,9,   -999.0,9,   3.5593
  18HU19940524, AR07W,    37,  1, 140451,     51,2,19940601,1514, 57.3962, -51.7538, 3549,     38.0,   3.5630,  34.6523,2,-999.0000,9,    257.7,2,   -999.0,9,  -999.00,9,  -999.00,9,  -999.00,9, -999.000,9, -999.000,9, -999.000,9, -999.000,9,     -999,9,   -999.0,9,   3.5605
  18HU19940524, AR07W,    37,  1, 140450,     50,2,19940601,1514, 57.3962, -51.7538, 3549,     43.7,   3.5192,  34.6559,2,-999.0000,9,    256.9,2,   -999.0,9,     7.18,6,     8.64,6,     0.73,6, -999.000,9, -999.000,9, -999.000,9, -999.000,9,     -999,9,   -999.0,9,   3.5164
  18HU19940524, AR07W,    37,  1, 140449,     49,2,19940601,1514, 57.3962, -51.7538, 3549,     44.4,   3.5194,  34.6551,2,-999.0000,9,    256.2,2,   -999.0,9,  -999.00,9,  -999.00,9,  -999.00,9, -999.000,9, -999.000,9, -999.000,9, -999.000,9,     -999,9,   -999.0,9,   3.5165
  18HU19940524, AR07W,    37,  1, 140448,     48,2,19940601,1514, 57.3962, -51.7538, 3549,     54.1,   3.4155,  34.6694,2,-999.0000,9,    253.1,2,   -999.0,9,     7.61,6,    10.02,6,     0.76,6, -999.000,9, -999.000,9, -999.000,9, -999.000,9,     -999,9,   -999.0,9,   3.4120
  18HU19940524, AR07W,    37,  1, 140447,     47,2,19940601,1514, 57.3962, -51.7538, 3549,     64.1,   3.3617,  34.6757,2,-999.0000,9,    251.8,2,   -999.0,9,     7.67,6,    10.02,6,     0.75,6, -999.000,9, -999.000,9, -999.000,9, -999.000,9,     -999,9,   -999.0,9,   3.3576
  18HU19940524, AR07W,    37,  1, 140446,     46,2,19940601,1514, 57.3962, -51.7538, 3549,     64.4,   3.3633,  34.6753,2,-999.0000,9,    249.9,2,   -999.0,9,  -999.00,9,  -999.00,9,  -999.00,9, -999.000,9, -999.000,9, -999.000,9, -999.000,9,     -999,9,   -999.0,9,   3.3592
  18HU19940524, AR07W,    37,  1, 140445,     45,2,19940601,1514, 57.3962, -51.7538, 3549,     83.0,   3.1341,  34.7539,2,-999.0000,9,    237.9,2,   -999.0,9,     8.39,2,    14.01,2,     0.97,2, -999.000,9, -999.000,9, -999.000,9, -999.000,9,     -999,9,   -999.0,9,   3.1289
  18HU19940524, AR07W,    37,  1, 140444,     44,2,19940601,1514, 57.3962, -51.7538, 3549,    102.8,   3.1603,  34.7702,2,-999.0000,9,    236.1,2,   -999.0,9,     8.49,6,    14.64,6,     1.06,6, -999.000,9, -999.000,9, -999.000,9, -999.000,9,     -999,9,   -999.0,9,   3.1539
  18HU19940524, AR07W,    37,  1, 140443,     43,2,19940601,1514, 57.3962, -51.7538, 3549,    133.6,   3.2053,  34.7849,2,-999.0000,9,    235.5,2,   -999.0,9,  -999.00,9,  -999.00,9,  -999.00,9, -999.000,9, -999.000,9, -999.000,9, -999.000,9,     -999,9,   -999.0,9,   3.1969
  18HU19940524, AR07W,    37,  1, 140442,     42,2,19940601,1514, 57.3962, -51.7538, 3549,    181.8,   3.1129,  34.7950,2,-999.0000,9,    236.6,2,   -999.0,9,  -999.00,9,  -999.00,9,  -999.00,9, -999.000,9, -999.000,9, -999.000,9, -999.000,9,     -999,9,   -999.0,9,   3.1015
  18HU19940524, AR07W,    37,  1, 140441,     41,2,19940601,1514, 57.3962, -51.7538, 3549,    239.1,   3.1017,  34.8210,2,-999.0000,9,    236.4,2,   -999.0,9,  -999.00,9,  -999.00,9,  -999.00,9, -999.000,9, -999.000,9, -999.000,9, -999.000,9,     -999,9,   -999.0,9,   3.0866
  18HU19940524, AR07W,    37,  1, 140440,     40,2,19940601,1514, 57.3962, -51.7538, 3549,    295.5,   3.0668,  34.8330,2,-999.0000,9,    237.4,2,   -999.0,9,  -999.00,9,  -999.00,9,  -999.00,9, -999.000,9, -999.000,9, -999.000,9, -999.000,9,     -999,9,   -999.0,9,   3.0481