BOTTLE,20140813SIOCCHRJL
EXPOCODE,SECT_ID,STNNBR,CASTNO,SAMPNO,BTLNBR,BTLNBR_FLAG_W,DATE,TIME,LATITUDE,LONGITUDE,DEPTH,CTDPRS,CTDTMP,CTDSAL,CTDSAL_FLAG_W,SALNTY,SALNTY_FLAG_W,CTDOXY,CTDOXY_FLAG_W,OXYGEN,OXYGEN_FLAG_W,SILCAT,SILCAT_FLAG_W,NITRAT,NITRAT_FLAG_W,PHSPHT,PHSPHT_FLAG_W,CFC-11,CFC-11_FLAG_W,CFC-12,CFC-12_FLAG_W,CFC113,CFC113_FLAG_W,CCL4,CCL4_FLAG_W,MCHFRM,MCHFRM_FLAG_W,TCARBN,TCARBN_FLAG_W,THETA
,,,,,,,,,,,METERS,DBAR,ITS-90,PSS-78,,PSS-78,,UMOL/KG,,UMOL/KG,,UMOL/KG,,UMOL/KG,,UMOL/KG,,PMOL/KG,,PMOL/KG,,PMOL/KG,,PMOL/KG,,PMOL/KG,,UMOL/KG,,DEG C
  18HU19940524, AR07W,     5,  1, 140165,     65,2,19940529,  45, 56.7493, -52.4403, 3533,   2384.1,   3.0959,  34.8918,2,-999.0000,9,    241.4,2,    290.9,2,  -999.00,5,  -999.00,5,  -999.00,5,    2.109,2,    1.146,2,    0.125,2,    4.121,2,    3.997,2,   2194.6,4,   2.9057
  18HU19940524, AR07W,     5,  1, 140164,     64,3,19940529,  45, 56.7493, -52.4403, 3533,   2386.6,   3.0976,  34.8923,2,-999.0000,9,    241.0,2,    288.2,2,  -999.00,9,  -999.00,9,  -999.00,9,    2.310,2,    1.459,2,    0.175,2,    5.155,2,   10.748,2,   2194.0,4,   2.9072
  18HU19940524, AR07W,     5,  1, 140166,     66,4,19940529,  45, 56.7493, -52.4403, 3533,   2389.0,   3.0993,  34.8928,2,  34.8816,2,    241.6,2,    290.5,2,    10.01,4,    14.76,4,     1.16,4,    2.013,2,    1.128,2,    0.123,2,    4.650,2,    8.651,2,   2193.1,4,   2.9086
  18HU19940524, AR07W,     5,  1, 140163,     63,2,19940529,  45, 56.7493, -52.4403, 3533,   2390.5,   3.1001,  34.8932,2,  34.8940,2,    240.8,2,    289.3,2,    10.85,6,    15.17,6,     1.17,6,    1.937,2,    1.153,2,    0.125,2,    4.004,2,    4.367,2,   2192.1,4,   2.9092
  18HU19940524, AR07W,     5,  1, 140162,     62,2,19940529,  45, 56.7493, -52.4403, 3533,   2392.7,   3.1005,  34.8934,2,  34.8938,2,    240.6,2,    289.3,2,    10.90,6,    15.29,6,     1.17,6,    2.024,2,    1.036,2,    0.121,2,    5.307,2,   14.541,3,   2194.0,4,   2.9094
  18HU19940524, AR07W,     5,  1, 140161,     61,2,19940529,  45, 56.7493, -52.4403, 3533,   2393.7,   3.1004,  34.8935,2,  34.8920,2,    240.5,2,    290.2,2,    10.86,6,    15.17,6,     1.17,6,    1.974,2,    1.059,2,    0.129,2,    3.924,2,    4.268,2,   2194.0,4,   2.9092
  18HU19940524, AR07W,     5,  1, 140167,     67,2,19940529,  45, 56.7493, -52.4403, 3533,   2394.1,   3.1030,  34.8944,2,  34.8932,2,    241.5,2,    287.9,2,    10.85,6,    15.31,6,     1.17,6,    1.952,2,    1.119,2,    0.104,2,    3.970,2,    4.967,2,   2193.6,4,   2.9117
  18HU19940524, AR07W,     5,  1, 140180,     80,3,19940529,  45, 56.7493, -52.4403, 3533,   2395.0,   3.1044,  34.8971,2,  34.8962,2,    241.4,2,    288.1,2,    11.10,4,    15.68,4,     1.16,4,    1.802,2,    1.015,2,    0.087,2,    3.821,2,    5.583,2,   2192.4,4,   2.9130
  18HU19940524, AR07W,     5,  1, 140179,     79,2,19940529,  45, 56.7493, -52.4403, 3533,   2397.6,   3.1044,  34.8973,2,  34.8962,2,    241.5,2,    289.3,2,    11.13,6,    15.68,6,     1.15,6,    1.999,2,    1.153,2,    0.138,2,    4.466,2,    8.364,2,   2194.2,4,   2.9127
  18HU19940524, AR07W,     5,  1, 140168,     68,2,19940529,  45, 56.7493, -52.4403, 3533,   2397.9,   3.1038,  34.8952,2,  34.8918,2,    241.3,2,    288.8,2,    10.94,6,    15.65,6,     1.17,6,    1.958,2,    1.054,2,    0.130,2,    4.138,2,    6.175,2,   2194.4,4,   2.9121
  18HU19940524, AR07W,     5,  1, 140175,     75,2,19940529,  45, 56.7493, -52.4403, 3533,   2398.0,   3.1035,  34.8965,2,  34.8962,2,    241.3,2,    288.8,2,    11.13,6,    16.12,6,     1.18,6,    1.903,2,    1.133,2,    0.106,2,    4.053,2,    6.326,2,   2194.7,4,   2.9118
  18HU19940524, AR07W,     5,  1, 140178,     78,2,19940529,  45, 56.7493, -52.4403, 3533,   2399.5,   3.1044,  34.8971,2,  34.8970,2,    241.3,2,    289.1,2,    11.11,6,    15.99,6,     1.16,6,    1.872,2,    1.077,2,    0.104,2,    3.708,2,    5.243,2,   2194.9,4,   2.9126
  18HU19940524, AR07W,     5,  1, 140177,     77,2,19940529,  45, 56.7493, -52.4403, 3533,   2399.6,   3.1043,  34.8974,2,  34.8973,2,    241.3,2,    288.6,2,    11.10,6,    16.09,6,     1.18,6,    1.873,2,    1.132,2,    0.103,2,    3.746,2,    4.912,2,   2196.9,3,   2.9125
  18HU19940524, AR07W,     5,  1, 140174,     74,2,19940529,  45, 56.7493, -52.4403, 3533,   2399.8,   3.1037,  34.8968,2,  34.8962,2,    241.3,2,    289.2,2,    11.14,6,    16.06,6,     1.16,6,    1.834,2,    1.082,2,    0.090,2,    3.639,2,    3.899,2,   2194.6,4,   2.9118
  18HU19940524, AR07W,     5,  1, 140176,     76,2,19940529,  45, 56.7493, -52.4403, 3533,   2400.2,   3.1044,  34.8969,2,  34.8942,2,    241.4,2,    278.0,3,    11.14,6,    16.01,6,     1.17,6,    1.917,2,    1.053,2,    0.091,2,    4.097,2,    5.191,2,   2195.4,4,   2.9125
  18HU19940524, AR07W,     5,  1, 140173,     73,2,19940529,  45, 56.7493, -52.4403, 3533,   2404.1,   3.1042,  34.8970,2,  34.8905,2,    241.2,2,    290.6,2,    10.92,6,    16.43,6,     1.17,6,    1.868,2,    1.072,2,    0.101,2,    4.076,2,    6.589,2,   2193.6,4,   2.9119
  18HU19940524, AR07W,     5,  1, 140169,     69,2,19940529,  45, 56.7493, -52.4403, 3533,   2404.8,   3.1043,  34.8971,2,  34.8956,2,    241.1,2,    287.1,2,    11.12,6,    15.63,6,     1.17,6,    1.954,2,    0.941,2,    0.106,2,    4.365,2,    7.238,2,   2195.7,4,   2.9120
  18HU19940524, AR07W,     5,  1, 140172,     72,2,19940529,  45, 56.7493, -52.4403, 3533,   2406.6,   3.1040,  34.8972,2,  34.8964,2,    241.1,2,    286.8,2,    11.02,6,    16.27,6,     1.17,6,    1.894,2,    1.085,2,    0.108,2,    3.846,2,    4.324,2,   2194.2,4,   2.9115
  18HU19940524, AR07W,     5,  1, 140170,     70,2,19940529,  45, 56.7493, -52.4403, 3533,   2408.0,   3.1045,  34.8972,2,  34.8979,2,    241.0,2,    289.1,2,    11.03,6,    15.67,6,     1.17,6,    1.924,2,    1.091,2,    0.100,2,    3.927,2,    4.328,2,   2194.5,4,   2.9118
  18HU19940524, AR07W,     5,  1, 140171,     71,2,19940529,  45, 56.7493, -52.4403, 3533,   2410.8,   3.1041,  34.8972,2,  34.8767,3,    240.9,2,    294.8,3,    10.53,6,    16.16,6,     1.15,6,    2.348,2,    1.514,2,    0.183,2,    4.698,2,    6.368,2,   2195.7,4,   2.9112
  18HU19940524, AR07W,     6,  1, 140200,      0,2,19940529,1308, 58.1650, -50.9342, 3569,      4.9,   3.6073,  34.6596,2,-999.0000,9,    324.8,2,   -999.0,9,  -999.00,9,  -999.00,9,  -999.00,9, -999.000,9, -999.000,9, -999.000,9, -999.000,9,     -999,9,   -999.0,9,   3.6070
  18HU19940524, AR07W,     6,  1, 140199,     99,2,19940529,1308, 58.1650, -50.9342, 3569,      4.9,   3.6078,  34.6598,2,-999.0000,9,    326.9,2,   -999.0,9,     7.79,6,     7.69,6,     0.70,6, -999.000,9, -999.000,9, -999.000,9, -999.000,9,     -999,9,   -999.0,9,   3.6075
  18HU19940524, AR07W,     6,  1, 140198,     98,2,19940529,1308, 58.1650, -50.9342, 3569,     13.2,   3.5985,  34.6600,2,-999.0000,9,    318.6,2,   -999.0,9,     7.62,6,     7.67,6,     0.69,6, -999.000,9, -999.000,9, -999.000,9, -999.000,9,     -999,9,   -999.0,9,   3.5976
  18HU19940524, AR07W,     6,  1, 140197,     97,2,19940529,1308, 58.1650, -50.9342, 3569,     17.4,   3.5858,  34.6600,2,-999.0000,9,    323.1,2,   -999.0,9,     7.78,6,     7.96,6,     0.77,6, -999.000,9, -999.000,9, -999.000,9, -999.000,9,     -999,9,   -999.0,9,   3.5847
  18HU19940524, AR07W,     6,  1, 140196,     96,2,19940529,1308, 58.1650, -50.9342, 3569,     23.1,   3.5754,  34.6604,2,-999.0000,9,    319.8,2,   -999.0,9,  -999.00,9,  -999.00,9,  -999.00,9, -999.000,9, -999.000,9, -999.000,9, -999.000,9,     -999,9,   -999.0,9,   3.5739
  18HU19940524, AR07W,     6,  1, 140195,     95,2,19940529,1308, 58.1650, -50.9342, 3569,     28.9,   3.5352,  34.6619,2,-999.0000,9,    324.7,2,   -999.0,9,     7.68,6,     7.95,6,     0.71,6, -999.000,9, -999.000,9, -999.000,9, -999.000,9,     -999,9,   -999.0,9,   3.5333
  18HU19940524, AR07W,     6,  1, 140193,     93,2,19940529,1308, 58.1650, -50.9342, 3569,     33.4,   3.5081,  34.6622,2,-999.0000,9,    325.4,2,   -999.0,9,  -999.00,9,  -999.00,9,  -999.00,9, -999.000,9, -999.000,9, -999.000,9, -999.000,9,     -999,9,   -999.0,9,   3.5059
  18HU19940524, AR07W,     6,  1, 140194,     94,2,19940529,1308, 58.1650, -50.9342, 3569,     33.5,   3.5024,  34.6637,2,-999.0000,9,    325.0,2,   -999.0,9,     7.69,6,     8.04,6,     0.72,6, -999.000,9, -999.000,9, -999.000,9, -999.000,9,     -999,9,   -999.0,9,   3.5002
  18HU19940524, AR07W,     6,  1, 140192,     92,2,19940529,1308, 58.1650, -50.9342, 3569,     42.1,   3.4316,  34.6726,2,-999.0000,9,    322.4,2,   -999.0,9,     7.74,6,     8.45,6,     0.74,6, -999.000,9, -999.000,9, -999.000,9, -999.000,9,     -999,9,   -999.0,9,   3.4289
  18HU19940524, AR07W,     6,  1, 140191,     91,2,19940529,1308, 58.1650, -50.9342, 3569,     50.5,   3.2363,  34.6906,2,-999.0000,9,    316.3,2,   -999.0,9,     8.43,6,    11.37,6,     0.93,6, -999.000,9, -999.000,9, -999.000,9, -999.000,9,     -999,9,   -999.0,9,   3.2331
  18HU19940524, AR07W,     6,  1, 140190,     90,2,19940529,1308, 58.1650, -50.9342, 3569,     64.6,   3.0144,  34.7101,2,-999.0000,9,    310.2,2,   -999.0,9,     8.45,6,    11.45,6,     0.94,6, -999.000,9, -999.000,9, -999.000,9, -999.000,9,     -999,9,   -999.0,9,   3.0105
  18HU19940524, AR07W,     6,  1, 140189,     89,2,19940529,1308, 58.1650, -50.9342, 3569,     65.4,   2.9663,  34.7223,2,-999.0000,9,    303.2,2,   -999.0,9,  -999.00,9,  -999.00,9,  -999.00,9, -999.000,9, -999.000,9, -999.000,9, -999.000,9,     -999,9,   -999.0,9,   2.9623
  18HU19940524, AR07W,     6,  1, 140188,     88,2,19940529,1308, 58.1650, -50.9342, 3569,     74.7,   2.9304,  34.7305,2,-999.0000,9,    294.7,2,   -999.0,9,     8.64,6,    12.56,6,     1.00,6, -999.000,9, -999.000,9, -999.000,9, -999.000,9,     -999,9,   -999.0,9,   2.9259
  18HU19940524, AR07W,     6,  1, 140187,     87,2,19940529,1308, 58.1650, -50.9342, 3569,     82.8,   2.8723,  34.7406,2,-999.0000,9,    287.6,2,   -999.0,9,     8.69,6,    13.36,6,     1.04,6, -999.000,9, -999.000,9, -999.000,9, -999.000,9,     -999,9,   -999.0,9,   2.8673
  18HU19940524, AR07W,     6,  1, 140186,     86,2,19940529,1308, 58.1650, -50.9342, 3569,    103.2,   2.8386,  34.7655,2,-999.0000,9,    278.1,2,   -999.0,9,     8.98,6,    14.61,6,     1.11,6, -999.000,9, -999.000,9, -999.000,9, -999.000,9,     -999,9,   -999.0,9,   2.8324
  18HU19940524, AR07W,     6,  1, 140185,     85,2,19940529,1308, 58.1650, -50.9342, 3569,    129.3,   2.8841,  34.7927,2,-999.0000,9,    274.6,2,   -999.0,9,  -999.00,9,  -999.00,9,  -999.00,9, -999.000,9, -999.000,9, -999.000,9, -999.000,9,     -999,9,   -999.0,9,   2.8763
  18HU19940524, AR07W,     6,  1, 140184,     84,2,19940529,1308, 58.1650, -50.9342, 3569,    153.0,   2.9045,  34.8028,2,-999.0000,9,    273.2,2,   -999.0,9,  -999.00,9,  -999.00,9,  -999.00,9, -999.000,9, -999.000,9, -999.000,9, -999.000,9,     -999,9,   -999.0,9,   2.8952
  18HU19940524, AR07W,     6,  1, 140183,     83,2,19940529,1308, 58.1650, -50.9342, 3569,    205.6,   2.9355,  34.8211,2,-999.0000,9,    268.0,2,   -999.0,9,     9.49,6,    15.72,6,     1.16,6, -999.000,9, -999.000,9, -999.000,9, -999.000,9,     -999,9,   -999.0,9,   2.9228
  18HU19940524, AR07W,     6,  1, 140182,     82,2,19940529,1308, 58.1650, -50.9342, 3569,    252.5,   2.9154,  34.8266,2,-999.0000,9,    268.5,2,   -999.0,9,  -999.00,9,  -999.00,9,  -999.00,9, -999.000,9, -999.000,9, -999.000,9, -999.000,9,     -999,9,   -999.0,9,   2.8998
  18HU19940524, AR07W,     6,  1, 140181,     81,2,19940529,1308, 58.1650, -50.9342, 3569,    304.3,   2.8804,  34.8267,2,-999.0000,9,    271.7,2,   -999.0,9,     9.47,6,    15.65,6,     1.16,6, -999.000,9, -999.000,9, -999.000,9, -999.000,9,     -999,9,   -999.0,9,   2.8615
  18HU19940524, AR07W,    25,  1, 140205,      5,3,19940530, 554, 60.5677, -48.2242,  127,      6.3,  -0.4908,  33.2948,2,  33.2475,4,    224.8,2,    391.5,2,  -999.00,9,  -999.00,9,  -999.00,9,    5.536,6,    2.974,6,    1.046,6,   11.091,6,   18.857,6,   2046.3,2,  -0.4910
  18HU19940524, AR07W,    25,  1, 140204,      4,3,19940530, 554, 60.5677, -48.2242,  127,     34.3,  -0.2401,  33.4229,2,  33.4229,2,    220.8,2,    377.2,2,  -999.00,9,  -999.00,9,  -999.00,9,    4.915,2,    2.680,2,    0.890,2,    9.203,2,   15.638,2,   2064.0,2,  -0.2412
  18HU19940524, AR07W,    25,  1, 140203,      3,2,19940530, 554, 60.5677, -48.2242,  127,     64.4,  -0.2186,  33.5945,2,  33.5957,2,    213.6,2,    359.4,2,  -999.00,9,  -999.00,9,  -999.00,9,    5.045,2,    2.737,2,    0.949,2,    9.478,2,   17.482,2,   2090.1,2,  -0.2207
  18HU19940524, AR07W,    25,  1, 140202,      2,2,19940530, 554, 60.5677, -48.2242,  127,     84.0,  -0.2456,  33.5983,2,  33.5995,2,    215.6,2,    358.8,2,  -999.00,9,  -999.00,9,  -999.00,9,    4.944,2,    2.657,2,    0.925,2,    9.506,2,   19.868,2,   2091.6,2,  -0.2483
  18HU19940524, AR07W,    25,  1, 140201,      1,2,19940530, 554, 60.5677, -48.2242,  127,    114.0,  -0.2203,  33.6077,2,-999.0000,9,    218.2,2,    357.3,6,  -999.00,9,  -999.00,9,  -999.00,9,    4.891,2,    2.766,2,    0.901,2,    9.258,2,   16.157,2,   2093.1,2,  -0.2240
  18HU19940524, AR07W,    26,  1, 140211,     11,2,19940530, 724, 60.4190, -48.4072,  235,      8.0,  -0.2291,  33.3325,2,  33.3305,2,    240.8,2,    387.9,2,     3.77,6,     3.38,6,     0.52,6,    5.784,2,    2.962,2,    1.212,3,   12.178,3,   21.569,2,   2046.5,2,  -0.2293
  18HU19940524, AR07W,    26,  1, 140210,     10,2,19940530, 724, 60.4190, -48.4072,  235,     35.2,   0.3744,  33.7030,2,  33.7018,2,    227.8,2,    363.4,2,     5.29,6,     6.86,6,     0.69,6,    5.659,2,    2.886,2,    1.152,3,   11.483,3,   20.513,2,   2084.8,2,   0.3731
  18HU19940524, AR07W,    26,  1, 140209,      9,2,19940530, 724, 60.4190, -48.4072,  235,     65.7,   0.6972,  33.8761,2,  33.8740,2,    222.8,2,    352.1,2,     5.81,6,     8.19,6,     0.78,6,    5.422,2,    2.851,2,    1.042,3,   11.162,3,   20.041,2,   2099.8,2,   0.6946
  18HU19940524, AR07W,    26,  1, 140208,      8,2,19940530, 724, 60.4190, -48.4072,  235,    106.2,   1.9154,  34.2331,2,  34.2303,2,    215.2,2,    343.5,2,     6.31,6,     9.53,6,     0.88,6,    5.062,2,    2.627,2,    0.969,2,   10.470,3,   18.239,2,   2114.0,6,   1.9099
  18HU19940524, AR07W,    26,  1, 140207,      7,3,19940530, 724, 60.4190, -48.4072,  235,    159.3,   2.1919,  34.3425,2,  34.3388,2,    210.5,2,    335.7,2,     6.66,4,    10.30,4,     0.88,4,    4.987,2,    2.582,2,    0.937,2,   10.177,3,   18.124,2,   2121.9,2,   2.1832
  18HU19940524, AR07W,    26,  1, 140206,      6,2,19940530, 724, 60.4190, -48.4072,  235,    220.2,   3.0903,  34.5885,2,  34.5912,2,    202.4,2,    325.4,2,     7.24,6,    11.51,6,     0.93,6,    4.346,6,    2.352,6,    0.745,6,    8.590,6,   13.373,6,   2133.2,2,   3.0765
  18HU19940524, AR07W,    27,  1, 140222,     22,3,19940530, 921, 60.3603, -48.4960,  737,      9.0,   1.9391,  34.2483,2,  34.2428,2,    227.3,2,    342.6,2,     6.51,4,     9.92,4,     0.88,4,    4.503,2,    2.445,2,    0.810,2,    7.958,2,   13.633,2,   -999.0,5,   1.9386
  18HU19940524, AR07W,    27,  1, 140221,     21,2,19940530, 921, 60.3603, -48.4960,  737,     36.1,   2.1471,  34.3412,2,  34.3413,2,    227.6,2,    334.8,2,     7.01,6,    10.98,6,     0.92,6,    4.227,2,    2.423,2,    0.767,2,    7.281,2,   11.299,2,   2125.7,2,   2.1452
  18HU19940524, AR07W,    27,  1, 140220,     20,3,19940530, 921, 60.3603, -48.4960,  737,     67.0,   2.2239,  34.3672,2,  34.3678,2,    225.9,2,    333.5,2,     6.97,4,    11.22,4,     0.90,4,    4.605,2,    2.524,2,    0.782,2,    8.398,2,     13.3,2,   2127.1,2,   2.2203
  18HU19940524, AR07W,    27,  1, 140219,     19,2,19940530, 921, 60.3603, -48.4960,  737,    106.8,   2.4276,  34.4251,2,  34.4250,2,    222.5,2,    331.1,2,     7.10,6,    11.48,6,     0.92,6,    4.484,2,    2.566,2,    0.812,2,    7.855,2,   12.525,2,   2130.4,2,   2.4216
  18HU19940524, AR07W,    27,  1, 140218,     18,2,19940530, 921, 60.3603, -48.4960,  737,    166.9,   3.0451,  34.5645,2,  34.5650,2,    219.0,2,    327.8,2,     7.25,6,    11.70,6,     0.93,6,    4.225,2,    2.334,2,    0.722,2,    7.457,2,   11.352,2,   2134.4,2,   3.0348
  18HU19940524, AR07W,    27,  1, 140217,     17,2,19940530, 921, 60.3603, -48.4960,  737,    256.8,   3.1459,  34.5882,2,  34.5867,2,    218.9,2,    327.3,2,     7.29,6,    11.85,6,     0.96,6,    4.273,2,    2.412,2,    0.751,2,    7.734,2,   12.254,2,   2136.7,6,   3.1296
  18HU19940524, AR07W,    27,  1, 140216,     16,2,19940530, 921, 60.3603, -48.4960,  737,    391.5,   3.8915,  34.7882,2,  34.7907,2,    210.1,2,    313.1,2,     7.84,6,    13.84,6,     1.03,6,    3.878,2,    2.154,2,    0.672,2,    6.650,2,    9.297,2,   2147.1,2,   3.8638
  18HU19940524, AR07W,    27,  1, 140215,     15,3,19940530, 921, 60.3603, -48.4960,  737,    506.9,   4.0452,  34.8247,2,  34.8287,2,    208.8,2,    308.9,2,     7.90,4,    14.00,4,     1.03,4,    4.135,6,    2.417,3,    0.734,6,    7.948,6,   13.205,6,   2149.5,2,   4.0083
  18HU19940524, AR07W,    27,  1, 140214,     14,2,19940530, 921, 60.3603, -48.4960,  737,    606.4,   3.9919,  34.8686,2,  34.8699,2,    207.4,2,    304.7,2,     8.39,6,    14.61,6,     1.08,6,    3.692,2,    2.085,2,    0.651,2,    6.298,2,    8.811,2,   2154.6,6,   3.9475
  18HU19940524, AR07W,    27,  1, 140213,     13,2,19940530, 921, 60.3603, -48.4960,  737,    713.3,   3.3041,  34.8742,2,  34.8750,2,    209.8,2,    302.5,6,     9.42,6,    15.52,6,     1.16,6,    3.124,2,    1.817,2,    0.445,2,    5.749,2,   10.076,2,   2162.3,2,   3.2551
  18HU19940524, AR07W,    27,  1, 140212,     12,2,19940530, 921, 60.3603, -48.4960,  737,    743.9,   3.3101,  34.8737,2,  34.8723,2,    210.6,2,    302.9,2,     9.56,6,    15.53,6,     1.14,6,    3.194,2,    1.660,2,    0.442,2,    5.845,2,   10.217,2,   2162.9,2,   3.2588