BOTTLE,20101119CCHDOSIODM
EXPOCODE,SECT_ID,STNNBR,CASTNO,SAMPNO,BTLNBR,BTLNBR_FLAG_W,DATE,TIME,LATITUDE,LONGITUDE,DEPTH,CTDPRS,CTDTMP,CTDSAL,CTDSAL_FLAG_W,SALNTY,SALNTY_FLAG_W,CTDOXY,CTDOXY_FLAG_W,OXYGEN,OXYGEN_FLAG_W,SILCAT,SILCAT_FLAG_W,NITRAT,NITRAT_FLAG_W,NITRIT,NITRIT_FLAG_W,PHSPHT,PHSPHT_FLAG_W,CFC-11,CFC-11_FLAG_W,CFC-12,CFC-12_FLAG_W,CFC113,CFC113_FLAG_W,CCL4,CCL4_FLAG_W,TCARBN,TCARBN_FLAG_W,ALKALI,ALKALI_FLAG_W,THETA
,,,,,,,,,,,METERS,DBAR,ITS-90,PSS-78,,PSS-78,,UMOL/KG,,UMOL/KG,,UMOL/KG,,UMOL/KG,,UMOL/KG,,UMOL/KG,,PMOL/KG,,PMOL/KG,,PMOL/KG,,PMOL/KG,,UMOL/KG,,UMOL/KG,,DEG C
18SN19970924, A97, 10, 1, 36, 36, 2, 19970926, 1957, 72.4557, -142.0080, 3225,     10.1,   2.4554,  24.6358, 2,  24.6001, 2,    356.6, 2,    350.9, 2,     6.18, 2,     0.05, 2,     0.00, 2,     0.44, 2,    6.550, 2,    3.200, 2,    0.270, 2,    6.500, 3,   1863.2, 2,   1976.0, 2,   2.4550
18SN19970924, A97, 10, 1, 35, 35, 2, 19970926, 1957, 72.4557, -142.0080, 3225,     25.8,   1.9682,  26.4906, 2,  26.3387, 2,    352.7, 2,    357.2, 2,     4.92, 2,     0.05, 2,     0.00, 2,     0.55, 2, -999.000, 9, -999.000, 9, -999.000, 9, -999.000, 9,   -999.0, 9,   -999.0, 9,   1.9673
18SN19970924, A97, 10, 1, 34, 34, 2, 19970926, 1957, 72.4557, -142.0080, 3225,     46.8,  -0.7131,  30.7986, 2,  30.6248, 2,    387.4, 2,    410.0, 2,     4.08, 2,     0.05, 2,     0.00, 2,     0.80, 2,    6.570, 2,    3.240, 2,    0.330, 2,   11.260, 2,   2013.4, 2,   2155.7, 2,  -0.7141
18SN19970924, A97, 10, 1, 33, 33, 2, 19970926, 1957, 72.4557, -142.0080, 3225,     64.7,  -0.9987,  31.8949, 2,  31.8370, 2,    383.2, 2,    358.9, 2,    12.28, 2,     4.59, 2,     0.15, 2,     1.20, 2, -999.000, 9, -999.000, 9, -999.000, 9, -999.000, 9,   -999.0, 9,   -999.0, 9,  -1.0001
18SN19970924, A97, 10, 1, 32, 32, 2, 19970926, 1957, 72.4557, -142.0080, 3225,     86.6,  -1.1997,  32.2459, 2,  32.2293, 2,    324.0, 2,    316.4, 2,    20.68, 2,    10.01, 2,     0.05, 2,     1.53, 2,    5.760, 2,    2.450, 2,    0.130, 2,    9.830, 2,   2136.7, 2,   2229.0, 2,  -1.2015
18SN19970924, A97, 10, 1, 31, 31, 2, 19970926, 1957, 72.4557, -142.0080, 3225,    106.8,  -1.3419,  32.5101, 2,  32.5099, 2,    293.2, 2,    292.8, 2,    27.22, 2,    12.75, 2,     0.01, 2,     1.71, 2, -999.000, 9, -999.000, 9, -999.000, 9, -999.000, 9,   -999.0, 9,   -999.0, 9,  -1.3441
18SN19970924, A97, 10, 1, 30, 30, 2, 19970926, 1957, 72.4557, -142.0080, 3225,    125.9,  -1.4208,  32.6920, 2,  32.6922, 2,    282.8, 2,    288.6, 2,    30.95, 2,    13.96, 2,     0.01, 2,     1.78, 2,    5.090, 2,    2.260, 2,    0.120, 2,    8.250, 2,   2178.1, 2,   2242.9, 2,  -1.4234
18SN19970924, A97, 10, 1, 29, 29, 2, 19970926, 1957, 72.4557, -142.0080, 3225,    146.0,  -1.4760,  32.8775, 2,  32.8882, 2,    279.6, 2,    283.6, 2,    32.91, 2,    14.83, 2,     0.01, 2,     1.84, 2, -999.000, 9, -999.000, 9, -999.000, 9, -999.000, 9,   -999.0, 9,   -999.0, 9,  -1.4790
18SN19970924, A97, 10, 1, 28, 28, 2, 19970926, 1957, 72.4557, -142.0080, 3225,    166.7,  -1.4788,  33.0661, 2,  33.0807, 2,    280.7, 2,    280.2, 2,    33.74, 2,    15.31, 2,     0.01, 2,     1.85, 2,    4.380, 2,    1.960, 2,    0.090, 2,    8.400, 2,   2206.6, 2,   2270.5, 2,  -1.4823
18SN19970924, A97, 10, 1, 27, 27, 2, 19970926, 1957, 72.4557, -142.0080, 3225,    185.7,  -1.4109,  33.2966, 2,  33.2957, 2,    273.2, 2,    274.5, 2,    34.14, 2,    15.89, 2,     0.01, 2,     1.83, 2, -999.000, 9, -999.000, 9, -999.000, 9, -999.000, 9,   -999.0, 9,   -999.0, 9,  -1.4150
18SN19970924, A97, 10, 1, 26, 26, 2, 19970926, 1957, 72.4557, -142.0080, 3225,    207.0,  -1.1803,  33.6790, 2,  33.6966, 2,    260.9, 2,    263.0, 2,    31.75, 2,    15.89, 2,     0.01, 2,     1.70, 2,    3.520, 2,    1.670, 2,    0.060, 2,    7.590, 2,   2218.1, 2,   2276.7, 2,  -1.1855
18SN19970924, A97, 10, 1, 25, 25, 2, 19970926, 1957, 72.4557, -142.0080, 3225,    228.0,  -0.8623,  34.0906, 2,  34.0833, 2,    257.5, 2,    259.7, 2,    25.73, 2,    15.11, 2,     0.01, 2,     1.47, 2, -999.000, 9, -999.000, 9, -999.000, 9, -999.000, 9,   -999.0, 9,   -999.0, 9,  -0.8688
18SN19970924, A97, 10, 1, 24, 24, 2, 19970926, 1957, 72.4557, -142.0080, 3225,    251.9,  -0.5537,  34.4080, 2,  34.4203, 2,    258.1, 2,    264.5, 2,    18.06, 2,    13.70, 2,     0.01, 2,     1.18, 2,    3.400, 2,    1.510, 2,    0.050, 2,    6.260, 2,   2179.6, 2,   2279.2, 2,  -0.5619
18SN19970924, A97, 10, 1, 23, 23, 2, 19970926, 1957, 72.4557, -142.0080, 3225,    278.0,  -0.2641,  34.5618, 2,  34.5624, 2,    266.0, 2,    270.6, 2,    14.12, 2,    13.12, 2,     0.01, 2,     1.04, 2, -999.000, 9, -999.000, 9, -999.000, 9, -999.000, 9,   -999.0, 9,   -999.0, 9,  -0.2739
18SN19970924, A97, 10, 1, 22, 22, 2, 19970926, 1957, 72.4557, -142.0080, 3225,    307.8,  -0.0123,  34.6534, 2,  34.6565, 2,    275.7, 2,    276.7, 2,    11.74, 2,    12.83, 2,     0.01, 2,     0.98, 2,    3.690, 2,    1.590, 2,    0.060, 2,    5.510, 2,   2157.2, 2,   2282.8, 2,  -0.0240
18SN19970924, A97, 10, 1, 21, 21, 2, 19970926, 1957, 72.4557, -142.0080, 3225,    348.5,   0.2333,  34.7282, 2,  34.7291, 2,    283.3, 2,    283.2, 2,     9.98, 2,    12.74, 2,     0.01, 2,     0.94, 2, -999.000, 9, -999.000, 9, -999.000, 9, -999.000, 9,   -999.0, 9,   -999.0, 9,   0.2192
18SN19970924, A97, 10, 1, 20, 20, 2, 19970926, 1957, 72.4557, -142.0080, 3225,    388.3,   0.3402,  34.7674, 2,  34.7680, 2,    286.6, 2,    288.2, 2,     8.74, 2,    12.69, 2,     0.01, 2,     0.91, 2,    3.680, 2,    1.740, 2,    0.070, 2,    5.610, 2,   2150.2, 2,   2284.6, 2,   0.3240
18SN19970924, A97, 10, 1, 19, 19, 2, 19970926, 1957, 72.4557, -142.0080, 3225,    429.5,   0.4105,  34.7933, 2,  34.7945, 2,    294.0, 2,    294.7, 2,     8.02, 2,    12.64, 2,     0.01, 2,     0.90, 2, -999.000, 9, -999.000, 9, -999.000, 9, -999.000, 9,   -999.0, 9,   -999.0, 9,   0.3922
18SN19970924, A97, 10, 1, 18, 18, 2, 19970926, 1957, 72.4557, -142.0080, 3225,    479.2,   0.4354,  34.8134, 2,  34.8140, 2,    294.4, 2,    291.7, 2,     7.81, 2,    12.69, 2,     0.01, 2,     0.90, 2,    3.730, 2,    1.710, 2,    0.070, 2,    5.190, 2,   2145.0, 2,   2289.5, 2,   0.4146
18SN19970924, A97, 10, 1, 17, 17, 2, 19970926, 1957, 72.4557, -142.0080, 3225,    528.8,   0.4334,  34.8281, 2,  34.8272, 2,    291.8, 2,    293.1, 2,     7.40, 2,    12.64, 2,     0.01, 2,     0.89, 2, -999.000, 9, -999.000, 9, -999.000, 9, -999.000, 9,   -999.0, 9,   -999.0, 9,   0.4102
18SN19970924, A97, 10, 1, 16, 16, 2, 19970926, 1957, 72.4557, -142.0080, 3225,    594.0,   0.4099,  34.8422, 2,  34.8404, 2,    291.1, 2,    293.9, 2,     7.30, 2,    12.69, 2,     0.01, 2,     0.89, 2,    3.770, 3,    1.360, 2,    0.050, 2,    4.570, 2,   2145.6, 2,   2288.0, 2,   0.3836
18SN19970924, A97, 10, 1, 15, 15, 2, 19970926, 1957, 72.4557, -142.0080, 3225,    680.5,   0.3724,  34.8567, 2,  34.8573, 2,    292.8, 2,    294.7, 2,     7.30, 2,    12.69, 2,     0.01, 2,     0.89, 2, -999.000, 9, -999.000, 9, -999.000, 9, -999.000, 9,   -999.0, 9,   -999.0, 9,   0.3420
18SN19970924, A97, 10, 1, 14, 14, 2, 19970926, 1957, 72.4557, -142.0080, 3225,    786.5,   0.2720,  34.8672, 2,  34.8675, 2,    294.1, 2,    296.4, 2,     7.40, 2,    12.74, 2,     0.01, 2,     0.90, 2,    2.930, 2,    1.060, 2,    0.020, 2,    4.440, 2,   2144.8, 2,   2286.0, 2,   0.2367
18SN19970924, A97, 10, 1, 13, 13, 2, 19970926, 1957, 72.4557, -142.0080, 3225,    912.2,   0.1353,  34.8775, 2,  34.8779, 2,    295.6, 2,    297.7, 2,     7.41, 2,    12.74, 2,     0.01, 2,     0.90, 2, -999.000, 9, -999.000, 9, -999.000, 9, -999.000, 9,   -999.0, 9,   -999.0, 9,   0.0943
18SN19970924, A97, 10, 1, 12, 12, 2, 19970926, 1957, 72.4557, -142.0080, 3225,   1039.1,   0.0229,  34.8862, 2,  34.8864, 2,    295.1, 2,    298.6, 2,     7.61, 2,    12.79, 2,     0.01, 2,     0.91, 2,    2.130, 2,    0.670, 2,    0.010, 2,    3.120, 2,   2146.7, 2,   2290.0, 2,  -0.0240
18SN19970924, A97, 10, 1, 11, 11, 2, 19970926, 1957, 72.4557, -142.0080, 3225,   1165.2,  -0.0830,  34.8943, 2,  34.8943, 2,    297.9, 2,    299.2, 2,     7.82, 2,    12.89, 2,     0.01, 2,     0.92, 2, -999.000, 9, -999.000, 9, -999.000, 9, -999.000, 9,   -999.0, 9,   -999.0, 9,  -0.1359
18SN19970924, A97, 10, 1, 10, 10, 2, 19970926, 1957, 72.4557, -142.0080, 3225,   1317.5,  -0.1884,  34.9040, 2,  34.9012, 2,    297.3, 2,    299.1, 2,     8.24, 2,    13.13, 2,     0.01, 2,     0.93, 2,    1.800, 2,    0.490, 2,    0.000, 2,    2.910, 2,   2147.2, 2,   2288.1, 2,  -0.2489
18SN19970924, A97, 10, 1, 9, 9, 2, 19970926, 1957, 72.4557, -142.0080, 3225,   1519.8,  -0.2866,  34.9149, 2,  34.9149, 2,    299.4, 2,    298.8, 2,     8.86, 2,    13.32, 2,     0.01, 2,     0.95, 2, -999.000, 9, -999.000, 9, -999.000, 9, -999.000, 9,   -999.0, 9,   -999.0, 9,  -0.3579
18SN19970924, A97, 10, 1, 8, 8, 2, 19970926, 1957, 72.4557, -142.0080, 3225,   1775.3,  -0.3765,  34.9291, 2,  34.9262, 2,    297.5, 2,    295.8, 2,     9.99, 2,    13.81, 2,     0.01, 2,     0.98, 2,    1.050, 2,    0.270, 2,    0.000, 2,    2.220, 2,   2144.1, 2,   2297.3, 2,  -0.4625
18SN19970924, A97, 10, 1, 7, 7, 2, 19970926, 1957, 72.4557, -142.0080, 3225,   2079.8,  -0.4088,  34.9419, 2,  34.9386, 2,    293.9, 2,    291.4, 2,    11.54, 2,    14.29, 2,     0.01, 2,     1.01, 2, -999.000, 9, -999.000, 9, -999.000, 9, -999.000, 9,   -999.0, 9,   -999.0, 9,  -0.5145
18SN19970924, A97, 10, 1, 6, 6, 2, 19970926, 1957, 72.4557, -142.0080, 3225,   2334.6,  -0.3989,  34.9488, 2,  34.9480, 2,    290.4, 2,    288.5, 2,    12.37, 2,    14.58, 2,     0.01, 2,     1.03, 2,    1.040, 2,    0.350, 2,    0.000, 2,    2.120, 2,   2146.6, 2,   2293.4, 3,  -0.5228
18SN19970924, A97, 10, 1, 5, 5, 2, 19970926, 1957, 72.4557, -142.0080, 3225,   2538.0,  -0.3851,  34.9514, 2,  34.9494, 2,    289.1, 2,    286.8, 2,    12.99, 2,    14.63, 2,     0.01, 2,     1.03, 2, -999.000, 9, -999.000, 9, -999.000, 9, -999.000, 9,   -999.0, 9,   -999.0, 9,  -0.5244
18SN19970924, A97, 10, 1, 4, 4, 2, 19970926, 1957, 72.4557, -142.0080, 3225,   2793.5,  -0.3534,  34.9554, 2,  34.9539, 2,    281.3, 2,    282.6, 2,    14.34, 2,    14.77, 2,     0.01, 2,     1.04, 2,    0.590, 2,    0.200, 2,    0.010, 3,    2.100, 2,   2149.3, 2,   2302.9, 2,  -0.5133
18SN19970924, A97, 10, 1, 3, 3, 2, 19970926, 1957, 72.4557, -142.0080, 3225,   3049.7,  -0.3322,  34.9558, 2,  34.9532, 2,    282.8, 2,    283.0, 2,    14.03, 2,    14.78, 2,     0.01, 2,     1.04, 2, -999.000, 9, -999.000, 9, -999.000, 9, -999.000, 9,   -999.0, 9,   -999.0, 9,  -0.5137
18SN19970924, A97, 10, 1, 2, 2, 2, 19970926, 1957, 72.4557, -142.0080, 3225,   3176.1,  -0.3212,  34.9557, 2,  34.9557, 2,    283.0, 2,    283.0, 2,    14.03, 2,    14.78, 2,     0.01, 2,     1.04, 2,    0.373, 3,    0.105, 2,    0.000, 2,    1.697, 3,   2150.0, 2,   2301.6, 2,  -0.5137
18SN19970924, A97, 10, 1, 1, 1, 2, 19970926, 1957, 72.4557, -142.0080, 3225,   3278.9,  -0.3116,  34.9553, 2,  34.9553, 2,    280.9, 2,    283.0, 2,    14.03, 2,    14.73, 2,     0.01, 2,     1.04, 2,    0.350, 2,    0.120, 2,    0.000, 2,    1.590, 2,   2151.1, 2,   2296.4, 2,  -0.5133