BOTTLE,20101119CCHDOSIODM
EXPOCODE,SECT_ID,STNNBR,CASTNO,SAMPNO,BTLNBR,BTLNBR_FLAG_W,DATE,TIME,LATITUDE,LONGITUDE,DEPTH,CTDPRS,CTDTMP,CTDSAL,CTDSAL_FLAG_W,SALNTY,SALNTY_FLAG_W,CTDOXY,CTDOXY_FLAG_W,OXYGEN,OXYGEN_FLAG_W,SILCAT,SILCAT_FLAG_W,NITRAT,NITRAT_FLAG_W,NITRIT,NITRIT_FLAG_W,PHSPHT,PHSPHT_FLAG_W,CFC-11,CFC-11_FLAG_W,CFC-12,CFC-12_FLAG_W,CFC113,CFC113_FLAG_W,CCL4,CCL4_FLAG_W,TCARBN,TCARBN_FLAG_W,ALKALI,ALKALI_FLAG_W,THETA
,,,,,,,,,,,METERS,DBAR,ITS-90,PSS-78,,PSS-78,,UMOL/KG,,UMOL/KG,,UMOL/KG,,UMOL/KG,,UMOL/KG,,UMOL/KG,,PMOL/KG,,PMOL/KG,,PMOL/KG,,PMOL/KG,,UMOL/KG,,UMOL/KG,,DEG C
18SN19970924, A97, 11, 1, 36, 36, 2, 19970927, 0115, 73.0652, -142.0305, 3464,     10.8,   1.8774,  24.2628, 2,  24.1914, 2,    422.5, 2,    352.3, 2,     7.09, 2,     0.09, 2,     0.00, 2,     0.43, 2,    6.350, 2,    3.480, 2,    0.380, 2,    8.200, 3,   1861.1, 2,   1961.2, 2,   1.8770
18SN19970924, A97, 11, 1, 35, 35, 2, 19970927, 0115, 73.0652, -142.0305, 3464,     26.9,  -0.3119,  27.3421, 2,  26.8104, 2,    406.1, 2,    383.3, 2,     3.94, 2,     0.09, 2,     0.00, 2,     0.64, 2, -999.000, 9, -999.000, 9, -999.000, 9, -999.000, 9,   1867.9, 2,   1973.5, 2,  -0.3124
18SN19970924, A97, 11, 1, 34, 34, 2, 19970927, 0115, 73.0652, -142.0305, 3464,     48.1,  -1.0010,  30.2174, 2,  29.9348, 2,    469.5, 2,    409.3, 2,     3.83, 2,     0.08, 2,     0.00, 2,     0.75, 2,    7.580, 2,    3.630, 2,    0.370, 2,   12.260, 2,   1985.8, 2,   2129.2, 2,  -1.0019
18SN19970924, A97, 11, 1, 33, 33, 2, 19970927, 0115, 73.0652, -142.0305, 3464,     68.0,  -0.9658,  31.7380, 2,  31.6885, 2,    425.3, 2,    373.7, 2,     9.95, 2,     2.50, 2,     0.15, 2,     1.08, 2, -999.000, 9, -999.000, 9, -999.000, 9, -999.000, 9,   2085.0, 2,   2210.7, 2,  -0.9673
18SN19970924, A97, 11, 1, 32, 32, 2, 19970927, 0115, 73.0652, -142.0305, 3464,     85.5,  -1.1822,  32.1548, 2,  32.1636, 2,    323.7, 2,    323.7, 2,    18.98, 2,     9.23, 2,     0.04, 2,     1.45, 2,    5.330, 2,    2.530, 2,    0.170, 2,    9.830, 2,   2132.3, 2,   2233.2, 2,  -1.1840
18SN19970924, A97, 11, 1, 31, 31, 2, 19970927, 0115, 73.0652, -142.0305, 3464,    107.7,  -1.3424,  32.4771, 2,  32.4714, 2,    301.6, 2,    298.8, 2,    26.55, 2,    12.31, 2,     0.01, 2,     1.68, 2, -999.000, 9, -999.000, 9, -999.000, 9, -999.000, 9,   2169.8, 2,   2237.6, 2,  -1.3446
18SN19970924, A97, 11, 1, 30, 30, 2, 19970927, 0115, 73.0652, -142.0305, 3464,    127.8,  -1.4325,  32.6445, 2,  32.6329, 2,    293.5, 2,    293.8, 2,    29.66, 2,    13.33, 2,     0.01, 2,     1.73, 2,    4.720, 2,    2.440, 2,    0.130, 2,    9.100, 2,   2181.2, 2,   2245.1, 2,  -1.4351
18SN19970924, A97, 11, 1, 29, 29, 2, 19970927, 0115, 73.0652, -142.0305, 3464,    147.1,  -1.4620,  32.8162, 2,  32.8197, 2,    290.1, 2,    285.4, 2,    32.46, 2,    14.59, 2,     0.00, 2,     1.82, 2, -999.000, 9, -999.000, 9, -999.000, 9, -999.000, 9,   2196.9, 2,   2249.8, 2,  -1.4650
18SN19970924, A97, 11, 1, 28, 28, 2, 19970927, 0115, 73.0652, -142.0305, 3464,    167.5,  -1.4893,  32.9755, 2,  32.9696, 2,    279.3, 2,    283.0, 2,    33.39, 2,    15.17, 2,     0.01, 2,     1.82, 2,    4.140, 2,    1.950, 2,    0.090, 2,    8.190, 2,   2198.0, 2,   2265.6, 2,  -1.4928
18SN19970924, A97, 11, 1, 27, 27, 2, 19970927, 0115, 73.0652, -142.0305, 3464,    188.1,  -1.4646,  33.1634, 2,  33.1589, 2,    275.4, 2,    280.6, 2,    34.10, 2,    15.75, 2,     0.00, 2,     1.85, 2, -999.000, 9, -999.000, 9, -999.000, 9, -999.000, 9,   2219.0, 2,   2265.6, 2,  -1.4687
18SN19970924, A97, 11, 1, 26, 26, 2, 19970927, 0115, 73.0652, -142.0305, 3464,    207.3,  -1.3118,  33.4714, 2,  33.4767, 2,    264.4, 2,    271.0, 2,    32.54, 2,    15.65, 2,     0.00, 2,     1.73, 2,    4.230, 2,    2.010, 2,    0.110, 2,    8.770, 2,   2217.1, 2,   2280.1, 2,  -1.3167
18SN19970924, A97, 11, 1, 25, 25, 2, 19970927, 0115, 73.0652, -142.0305, 3464,    227.1,  -1.0510,  33.8568, 2,  33.8632, 2,    261.5, 2,    263.5, 2,    28.69, 2,    15.35, 2,     0.00, 2,     1.57, 2, -999.000, 9, -999.000, 9, -999.000, 9, -999.000, 9,   2216.2, 2,   2276.6, 2,  -1.0570
18SN19970924, A97, 11, 1, 24, 24, 2, 19970927, 0115, 73.0652, -142.0305, 3464,    252.1,  -0.6806,  34.3071, 2,  34.2965, 2,    255.6, 2,    262.9, 2,    20.79, 2,    14.19, 2,     0.00, 2,     1.27, 2,    3.560, 2,    1.590, 2,    0.050, 2,    7.550, 2,   2190.8, 2,   2287.2, 2,  -0.6884
18SN19970924, A97, 11, 1, 23, 23, 2, 19970927, 0115, 73.0652, -142.0305, 3464,    276.7,  -0.4780,  34.4697, 2,  34.4852, 2,    262.3, 2,    268.4, 2,    15.50, 2,    13.22, 2,     0.00, 2,     1.08, 2, -999.000, 9, -999.000, 9, -999.000, 9, -999.000, 9,   2179.3, 2,   2284.6, 2,  -0.4872
18SN19970924, A97, 11, 1, 22, 22, 2, 19970927, 0115, 73.0652, -142.0305, 3464,    308.2,  -0.1450,  34.6107, 2,  34.6127, 2,    270.5, 2,    274.6, 2,    12.49, 2,    12.83, 2,     0.00, 2,     0.99, 2, -999.000, 9,    1.730, 2,    0.040, 2,    7.770, 2,   2165.5, 2,   2278.8, 2,  -0.1563
18SN19970924, A97, 11, 1, 21, 21, 2, 19970927, 0115, 73.0652, -142.0305, 3464,    348.4,   0.1937,  34.7077, 2,  34.7074, 2,    285.8, 2,    282.7, 2,    10.00, 2,    12.69, 2,     0.00, 2,     0.92, 2, -999.000, 9, -999.000, 9, -999.000, 9, -999.000, 9,   2163.6, 2,   2283.2, 2,   0.1798
18SN19970924, A97, 11, 1, 20, 20, 2, 19970927, 0115, 73.0652, -142.0305, 3464,    389.7,   0.3272,  34.7604, 2,  34.7582, 2,    288.6, 2,    287.8, 2,     8.86, 2,    12.69, 2,     0.00, 2,     0.91, 2,    4.230, 2,    1.780, 2,    0.050, 2,    7.520, 2,   2154.0, 2,   2295.1, 3,   0.3109
18SN19970924, A97, 11, 1, 19, 19, 2, 19970927, 0115, 73.0652, -142.0305, 3464,    429.6,   0.4023,  34.7888, 2,  34.7891, 2,    290.8, 2,    289.9, 2,     7.92, 2,    12.54, 2,     0.00, 2,     0.89, 2, -999.000, 9, -999.000, 9, -999.000, 9, -999.000, 9,   2155.4, 2,   2285.8, 2,   0.3840
18SN19970924, A97, 11, 1, 18, 18, 2, 19970927, 0115, 73.0652, -142.0305, 3464,    479.0,   0.4493,  34.8128, 2,  34.8135, 2,    294.5, 2,    292.1, 2,     7.61, 2,    12.64, 2,     0.00, 2,     0.88, 2,    3.750, 2,    1.700, 2,    0.060, 2,    6.650, 2,   2149.1, 2,   2295.5, 3,   0.4284
18SN19970924, A97, 11, 1, 17, 17, 2, 19970927, 0115, 73.0652, -142.0305, 3464,    529.3,   0.4472,  34.8294, 2,  34.8285, 2,    290.1, 2,    293.5, 2,     7.30, 2,    12.64, 2,     0.00, 2,     0.88, 2, -999.000, 9, -999.000, 9, -999.000, 9, -999.000, 9,   2154.1, 2,   -999.0, 9,   0.4239
18SN19970924, A97, 11, 1, 16, 16, 2, 19970927, 0115, 73.0652, -142.0305, 3464,    593.9,   0.4162,  34.8428, 2,  34.8411, 2,    293.8, 2,    294.1, 2,     7.30, 2,    12.74, 2,     0.00, 2,     0.88, 2,    2.850, 2,    1.360, 2,    0.010, 2,    5.810, 2,   2145.0, 2,   2288.9, 2,   0.3899
18SN19970924, A97, 11, 1, 15, 15, 2, 19970927, 0115, 73.0652, -142.0305, 3464,    679.4,   0.3749,  34.8576, 2,  34.8573, 2,    290.9, 2,    294.6, 2,     7.29, 2,    12.78, 2,     0.00, 2,     0.89, 2, -999.000, 9, -999.000, 9, -999.000, 9, -999.000, 9,   2153.2, 2,   2287.4, 2,   0.3445
18SN19970924, A97, 11, 1, 14, 14, 2, 19970927, 0115, 73.0652, -142.0305, 3464,    784.8,   0.2729,  34.8679, 2,  34.8678, 2,    288.7, 2,    296.3, 2,     7.39, 2,    12.78, 2,     0.00, 2,     0.90, 2,    2.510, 2,    1.140, 2,    0.000, 2,    4.750, 2,   2145.5, 2,   2291.7, 3,   0.2377
18SN19970924, A97, 11, 1, 13, 13, 2, 19970927, 0115, 73.0652, -142.0305, 3464,    961.5,   0.0929,  34.8820, 2,  34.8796, 2,    294.1, 2,    297.7, 2,     7.49, 2,    12.78, 2,     0.00, 2,     0.90, 2, -999.000, 9, -999.000, 9, -999.000, 9, -999.000, 9,   2155.0, 2,   2330.6, 4,   0.0496
18SN19970924, A97, 11, 1, 12, 12, 2, 19970927, 0115, 73.0652, -142.0305, 3464,   1163.2,  -0.0901,  34.8948, 2,  34.8954, 2,    297.6, 2,    299.0, 2,     7.80, 2,    12.88, 2,     0.00, 2,     0.92, 2,    1.350, 2,    0.630, 2,    0.000, 2,    3.440, 2,   2146.5, 2,   2299.8, 3,  -0.1428
18SN19970924, A97, 11, 1, 11, 11, 2, 19970927, 0115, 73.0652, -142.0305, 3464,   1416.5,  -0.2461,  34.9104, 2,  34.9104, 2,    295.3, 2,    298.9, 2,     8.53, 2,    13.22, 2,     0.01, 2,     0.95, 2, -999.000, 9, -999.000, 9, -999.000, 9, -999.000, 9,   2152.5, 2,   2288.7, 2,  -0.3117
18SN19970924, A97, 11, 1, 10, 10, 2, 19970927, 0115, 73.0652, -142.0305, 3464,   1668.7,  -0.3548,  34.9245, 2,  34.9238, 2,    297.1, 2,    296.9, 2,     9.45, 2,    13.66, 2,     0.00, 2,     0.96, 2,    0.570, 2,    0.160, 2,    0.000, 2,    2.340, 2,   2147.6, 2,   2292.7, 2,  -0.4343
18SN19970924, A97, 11, 1, 9, 9, 2, 19970927, 0115, 73.0652, -142.0305, 3464,   1921.8,  -0.4047,  34.9372, 2,  34.9366, 2,    292.3, 2,    293.4, 2,    10.90, 2,    14.09, 2,     0.00, 2,     0.99, 2, -999.000, 9, -999.000, 9, -999.000, 9, -999.000, 9,   2152.5, 2,   2283.0, 3,  -0.4998
18SN19970924, A97, 11, 1, 8, 8, 2, 19970927, 0115, 73.0652, -142.0305, 3464,   2173.5,  -0.4084,  34.9457, 2,  34.9432, 2,    286.3, 2,    290.1, 2,    11.93, 2,    14.43, 2,     0.00, 2,     1.02, 2,    0.420, 2,    0.130, 2,    0.000, 2,    2.040, 2,   2147.4, 2,   2299.9, 2,  -0.5206
18SN19970924, A97, 11, 1, 7, 7, 2, 19970927, 0115, 73.0652, -142.0305, 3464,   2378.3,  -0.3976,  34.9502, 2,  34.9489, 2,    285.7, 2,    288.3, 2,    12.35, 2,    14.58, 2,     0.00, 2,     1.03, 2, -999.000, 9, -999.000, 9, -999.000, 9, -999.000, 9,   2154.2, 2,   2284.9, 3,  -0.5247
18SN19970924, A97, 11, 1, 6, 6, 2, 19970927, 0115, 73.0652, -142.0305, 3464,   2531.6,  -0.3861,  34.9523, 2,  34.9527, 2,    285.4, 2,    289.0, 3,    12.76, 2,    14.62, 2,     0.01, 2,     1.03, 2,    0.510, 2,    0.060, 2,    0.000, 2,    2.150, 2,   2149.7, 2,   2300.6, 2,  -0.5249
18SN19970924, A97, 11, 1, 5, 5, 2, 19970927, 0115, 73.0652, -142.0305, 3464,   2684.2,  -0.3699,  34.9549, 2,  34.9541, 2,    285.2, 2,    285.5, 2,    13.06, 2,    14.67, 2,     0.01, 2,     1.03, 2, -999.000, 9, -999.000, 9, -999.000, 9, -999.000, 9,   2156.1, 2,   2295.5, 2,  -0.5209
18SN19970924, A97, 11, 1, 4, 4, 2, 19970927, 0115, 73.0652, -142.0305, 3464,   2888.0,  -0.3467,  34.9569, 2,  34.9557, 2,    282.1, 2,    282.9, 2,    13.99, 2,    14.67, 2,     0.01, 2,     1.04, 2,    0.270, 2,    0.030, 2,    0.000, 2,    1.410, 2,   2152.9, 2,   2299.6, 2,  -0.5144
18SN19970924, A97, 11, 1, 3, 3, 2, 19970927, 0115, 73.0652, -142.0305, 3464,   3144.0,  -0.3244,  34.9564, 2,  34.9566, 2,    283.6, 2,    283.0, 2,    13.99, 2,    14.72, 2,     0.01, 2,     1.04, 2, -999.000, 9, -999.000, 9, -999.000, 9, -999.000, 9,   2160.6, 2,   2303.7, 2,  -0.5141
18SN19970924, A97, 11, 1, 2, 2, 2, 19970927, 0115, 73.0652, -142.0305, 3464,   3400.1,  -0.3017,  34.9563, 2,  34.9560, 2,    285.9, 2,    283.0, 2,    13.88, 2,    14.67, 2,     0.01, 2,     1.04, 2,    0.600, 3,    0.057, 2,    0.000, 2,    1.857, 3,   2153.7, 2,   2271.5, 4,  -0.5145
18SN19970924, A97, 11, 1, 1, 1, 2, 19970927, 0115, 73.0652, -142.0305, 3464,   3515.5,  -0.2909,  34.9563, 2,  34.9563, 2,    296.3, 2,    283.1, 2,    13.88, 2,    14.67, 2,     0.01, 2,     1.04, 2,    0.110, 2,    0.050, 2,    0.000, 2,    1.440, 2,   2160.9, 2,   2293.9, 2,  -0.5144