BOTTLE,20101119CCHDOSIODM
EXPOCODE,SECT_ID,STNNBR,CASTNO,SAMPNO,BTLNBR,BTLNBR_FLAG_W,DATE,TIME,LATITUDE,LONGITUDE,DEPTH,CTDPRS,CTDTMP,CTDSAL,CTDSAL_FLAG_W,SALNTY,SALNTY_FLAG_W,CTDOXY,CTDOXY_FLAG_W,OXYGEN,OXYGEN_FLAG_W,SILCAT,SILCAT_FLAG_W,NITRAT,NITRAT_FLAG_W,NITRIT,NITRIT_FLAG_W,PHSPHT,PHSPHT_FLAG_W,CFC-11,CFC-11_FLAG_W,CFC-12,CFC-12_FLAG_W,CFC113,CFC113_FLAG_W,CCL4,CCL4_FLAG_W,TCARBN,TCARBN_FLAG_W,ALKALI,ALKALI_FLAG_W,THETA
,,,,,,,,,,,METERS,DBAR,ITS-90,PSS-78,,PSS-78,,UMOL/KG,,UMOL/KG,,UMOL/KG,,UMOL/KG,,UMOL/KG,,UMOL/KG,,PMOL/KG,,PMOL/KG,,PMOL/KG,,PMOL/KG,,UMOL/KG,,UMOL/KG,,DEG C
18SN19970924, A97, 14, 1, 36, 36, 2, 19971002, 0132, 75.2023, -142.3305, 3723,     13.9,  -1.5073,  27.6071, 2,  27.5949, 2,    387.4, 2,    394.3, 2,     2.95, 2,     0.00, 2,     0.00, 2,     0.65, 2,    7.540, 2,    3.660, 2,    0.340, 2,   10.350, 2,   1842.7, 2,   1954.7, 2,  -1.5074
18SN19970924, A97, 14, 1, 35, 35, 2, 19971002, 0132, 75.2023, -142.3305, 3723,     24.5,  -1.4149,  27.9557, 2,  27.7654, 2,    387.7, 2,    397.6, 2,     2.94, 2,     0.00, 2,     0.00, 2,     0.66, 2,    7.810, 2,    3.690, 2,    0.380, 2,   10.170, 2,   1858.4, 2,   1968.3, 2,  -1.4151
18SN19970924, A97, 14, 1, 34, 34, 2, 19971002, 0132, 75.2023, -142.3305, 3723,     38.8,  -1.2165,  29.5491, 2,  29.5225, 2,    390.6, 2,    406.6, 2,     3.14, 2,     0.00, 2,     0.00, 2,     0.72, 2,    7.500, 2,    3.680, 2,    0.310, 2,   11.640, 2,   1964.7, 2,   2090.5, 2,  -1.2171
18SN19970924, A97, 14, 1, 33, 33, 2, 19971002, 0132, 75.2023, -142.3305, 3723,     59.6,  -0.8234,  31.3480, 2,  31.3164, 2,    386.7, 2,    393.2, 2,     6.74, 2,     0.75, 2,     0.08, 2,     0.91, 2,    6.750, 2,    3.250, 2,    0.320, 2,   11.970, 2,   2061.4, 2,   2199.3, 2,  -0.8247
18SN19970924, A97, 14, 1, 32, 32, 2, 19971002, 0132, 75.2023, -142.3305, 3723,     84.5,  -1.2079,  32.1276, 2,  32.1318, 2,    341.5, 2,    329.1, 2,    19.00, 2,     8.81, 2,     0.01, 2,     1.43, 2,    5.140, 2,    2.490, 2,    0.150, 2,    8.190, 2,   2135.8, 2,   2221.0, 2,  -1.2096
18SN19970924, A97, 14, 1, 31, 31, 2, 19971002, 0132, 75.2023, -142.3305, 3723,    109.4,  -1.3585,  32.4693, 2,  32.4648, 2,    305.7, 2,    301.9, 2,    26.31, 2,    12.06, 2,     0.01, 2,     1.66, 2,    4.880, 2,    2.360, 2,    0.150, 2,    7.770, 2,   2170.6, 2,   2234.3, 2,  -1.3607
18SN19970924, A97, 14, 1, 30, 30, 2, 19971002, 0132, 75.2023, -142.3305, 3723,    129.8,  -1.3992,  32.6631, 2,  32.6654, 2,    298.1, 2,    291.6, 2,    29.80, 2,    13.46, 2,     0.01, 2,     1.76, 2,    4.660, 2,    2.320, 2,    0.180, 2,    8.390, 2,   2182.2, 2,   2240.1, 2,  -1.4018
18SN19970924, A97, 14, 1, 29, 29, 2, 19971002, 0132, 75.2023, -142.3305, 3723,    149.8,  -1.4793,  32.8270, 2,  32.8369, 2,    291.0, 2,    285.3, 2,    33.50, 2,    14.67, 2,     0.02, 2,     1.83, 2,    4.710, 2,    2.340, 2,    0.140, 2,    8.090, 2,   2200.6, 2,   2243.2, 2,  -1.4823
18SN19970924, A97, 14, 1, 28, 28, 2, 19971002, 0132, 75.2023, -142.3305, 3723,    170.0,  -1.5060,  33.0202, 2,  33.0135, 2,    281.8, 2,    288.1, 2,    34.93, 2,    15.30, 2,     0.01, 2,     1.85, 2,    4.330, 2,    2.210, 2,    0.120, 2,    6.940, 2,   2207.1, 2,   2259.0, 2,  -1.5095
18SN19970924, A97, 14, 1, 27, 27, 2, 19971002, 0132, 75.2023, -142.3305, 3723,    190.5,  -1.4409,  33.2320, 2,  33.2317, 2,    276.5, 2,    276.3, 2,    34.50, 2,    15.49, 2,     0.01, 2,     1.82, 2,    4.260, 2,    2.060, 2,    0.130, 2,    6.350, 2,   2218.0, 2,   2267.0, 2,  -1.4451
18SN19970924, A97, 14, 1, 26, 26, 2, 19971002, 0132, 75.2023, -142.3305, 3723,    210.5,  -1.2889,  33.5811, 2,  33.6035, 2,    271.0, 2,    266.7, 2,    33.35, 2,    15.77, 2,     0.01, 2,     1.74, 2,    4.020, 2,    1.890, 2,    0.120, 2,    5.930, 2,   2220.1, 2,   2275.1, 2,  -1.2940
18SN19970924, A97, 14, 1, 25, 25, 2, 19971002, 0132, 75.2023, -142.3305, 3723,    229.8,  -1.1648,  34.0445, 2,  34.0414, 2,    264.1, 2,    266.2, 2,    23.44, 2,    13.83, 2,     0.01, 2,     1.35, 2,    4.240, 2,    1.990, 2,    0.100, 2,    5.060, 2,   2197.3, 2,   2272.3, 3,  -1.1708
18SN19970924, A97, 14, 1, 24, 24, 2, 19971002, 0132, 75.2023, -142.3305, 3723,    255.0,  -0.8192,  34.3578, 2,  34.3528, 2,    275.0, 2,    286.2, 2,    12.53, 2,    11.80, 2,     0.01, 2,     0.98, 2,    4.100, 2,    1.740, 2,    0.110, 2,    3.440, 2,   2167.4, 2,   2272.8, 2,  -0.8268
18SN19970924, A97, 14, 1, 23, 23, 2, 19971002, 0132, 75.2023, -142.3305, 3723,    280.2,  -0.4722,  34.4999, 2,  34.4946, 2,    283.1, 2,    286.6, 2,     9.64, 2,    11.50, 2,     0.01, 2,     0.89, 2,    3.840, 2,    1.810, 2,    0.100, 2,    3.790, 2,   2162.0, 2,   2267.3, 3,  -0.4816
18SN19970924, A97, 14, 1, 22, 22, 2, 19971002, 0132, 75.2023, -142.3305, 3723,    312.5,  -0.0892,  34.6230, 2,  34.6213, 2,    287.0, 2,    286.8, 2,     8.91, 2,    11.93, 2,     0.01, 2,     0.89, 2,    3.390, 2,    1.550, 2,    0.080, 2,    3.380, 2,   2153.7, 2,   2274.9, 2,  -0.1008
18SN19970924, A97, 14, 1, 21, 21, 2, 19971002, 0132, 75.2023, -142.3305, 3723,    351.8,   0.1850,  34.7266, 2,  34.7274, 2,    286.5, 2,    289.1, 2,     7.98, 2,    12.31, 2,     0.02, 2,     0.88, 2,    3.320, 2,    1.530, 2,    0.070, 2,    3.510, 2,   2151.0, 2,   2279.0, 2,   0.1710
18SN19970924, A97, 14, 1, 20, 20, 2, 19971002, 0132, 75.2023, -142.3305, 3723,    392.8,   0.3463,  34.7805, 2,  34.7764, 2,    292.3, 2,    294.1, 2,     7.25, 2,    12.32, 2,     0.01, 2,     0.87, 2,    3.080, 2,    1.440, 2,    0.060, 2,    3.040, 2,   2143.7, 2,   2281.9, 2,   0.3298
18SN19970924, A97, 14, 1, 19, 19, 2, 19971002, 0132, 75.2023, -142.3305, 3723,    432.4,   0.3851,  34.8016, 2,  34.8042, 2,    295.9, 2,    293.2, 2,     7.04, 2,    12.41, 2,     0.01, 2,     0.87, 2,    2.950, 2,    1.340, 2,    0.060, 2,    3.390, 3,   2140.2, 3,   2284.0, 2,   0.3667
18SN19970924, A97, 14, 1, 18, 18, 2, 19971002, 0132, 75.2023, -142.3305, 3723,    482.8,   0.4326,  34.8315, 2,  34.8308, 2,    295.7, 2,    297.6, 3,     7.03, 2,    12.65, 2,     0.02, 2,     0.87, 2,    2.360, 2,    1.020, 2,    0.050, 2,    2.780, 2,   2145.9, 2,   2285.8, 2,   0.4116
18SN19970924, A97, 14, 1, 17, 17, 2, 19971002, 0132, 75.2023, -142.3305, 3723,    533.5,   0.4209,  34.8414, 2,  34.8428, 2,    296.3, 2,    293.1, 2,     7.02, 2,    12.70, 2,     0.02, 2,     0.89, 2,    2.200, 2,    1.060, 2,    0.040, 2,    2.740, 2,   2152.5, 3,   2287.1, 2,   0.3975
18SN19970924, A97, 14, 1, 16, 16, 2, 19971002, 0132, 75.2023, -142.3305, 3723,    600.1,   0.4215,  34.8594, 2,  34.8517, 3,    296.2, 2,    292.6, 2,     7.43, 2,    12.84, 2,     0.02, 2,     0.89, 2,    1.630, 2,    0.720, 2,    0.020, 2,    2.270, 2,   2147.2, 2,   2284.2, 2,   0.3948
18SN19970924, A97, 14, 1, 15, 15, 2, 19971002, 0132, 75.2023, -142.3305, 3723,    685.4,   0.3368,  34.8684, 2,  34.8671, 2,    298.5, 2,    294.4, 2,     7.42, 2,    12.84, 2,     0.02, 2,     0.90, 2,    1.650, 2,    0.730, 2,    0.020, 2,    2.520, 2,   2145.6, 2,   2287.3, 2,   0.3062
18SN19970924, A97, 14, 1, 14, 14, 2, 19971002, 0132, 75.2023, -142.3305, 3723,    791.7,   0.1996,  34.8773, 2,  34.8777, 2,    299.2, 2,    296.7, 2,     7.41, 2,    12.79, 2,     0.02, 2,     0.90, 2,    1.190, 2,    0.550, 2,    0.010, 2,    1.950, 2,   2144.0, 2,   2285.7, 2,   0.1645
18SN19970924, A97, 14, 1, 13, 13, 2, 19971002, 0132, 75.2023, -142.3305, 3723,    967.9,   0.0116,  34.8883, 2,  34.8870, 2,    298.6, 2,    303.4, 3,     7.40, 2,    12.79, 2,     0.01, 2,     0.91, 2,    1.027, 3,    0.420, 3,    0.010, 3,    1.943, 3,   2145.9, 3,   2291.7, 2,  -0.0314
18SN19970924, A97, 14, 1, 12, 12, 2, 19971002, 0132, 75.2023, -142.3305, 3723,   1170.3,  -0.1538,  34.9006, 2,  34.9014, 2,    298.3, 2,    299.3, 2,     7.81, 2,    12.88, 2,     0.01, 2,     0.92, 2,    0.930, 2,    0.380, 2,    0.000, 2,    1.720, 2,   2145.4, 2,   2289.7, 2,  -0.2063
18SN19970924, A97, 14, 1, 11, 11, 2, 19971002, 0132, 75.2023, -142.3305, 3723,   1423.3,  -0.2913,  34.9145, 2,  34.9158, 2,    295.8, 2,    302.0, 3,     8.62, 2,    13.32, 2,     0.02, 2,     0.95, 2,    0.660, 2,    0.220, 2,    0.000, 2,    1.750, 2,   2148.8, 2,   2290.3, 2,  -0.3568
18SN19970924, A97, 14, 1, 10, 10, 2, 19971002, 0132, 75.2023, -142.3305, 3723,   1676.9,  -0.3831,  34.9274, 2,  34.9278, 2,    293.3, 2,    295.8, 2,     9.74, 2,    13.75, 2,     0.02, 2,     0.98, 2,    0.370, 2,    0.090, 2,    0.000, 2,    0.850, 3,   2142.7, 3,   2289.0, 2,  -0.4628
18SN19970924, A97, 14, 1, 9, 9, 2, 19971002, 0132, 75.2023, -142.3305, 3723,   1932.8,  -0.4161,  34.9391, 2,  34.9387, 2,    289.1, 2,    292.2, 2,    10.97, 2,    14.18, 2,     0.01, 2,     1.01, 2,    0.230, 2,    0.080, 2,    0.000, 2,    1.100, 2,   2147.2, 2,   2289.9, 2,  -0.5118
18SN19970924, A97, 14, 1, 8, 8, 2, 19971002, 0132, 75.2023, -142.3305, 3723,   2185.8,  -0.4102,  34.9462, 2,  34.9462, 2,    281.5, 2,    288.7, 2,    11.88, 2,    14.38, 2,     0.01, 2,     1.02, 2,    0.520, 3,    0.080, 2,    0.000, 2,    1.080, 2,   2146.3, 2,   2291.4, 2,  -0.5233
18SN19970924, A97, 14, 1, 7, 7, 2, 19971002, 0132, 75.2023, -142.3305, 3723,   2440.2,  -0.3929,  34.9514, 2,  34.9500, 2,    282.1, 2,    289.5, 3,    12.70, 2,    14.52, 2,     0.02, 2,     1.04, 2,    0.250, 2,    0.030, 2,    0.000, 2,    1.050, 2,   2150.9, 2,   2290.1, 3,  -0.5247
18SN19970924, A97, 14, 1, 6, 6, 2, 19971002, 0132, 75.2023, -142.3305, 3723,   2644.4,  -0.3739,  34.9534, 2,  34.9539, 2,    282.0, 2,    285.2, 2,    13.00, 2,    14.61, 2,     0.02, 2,     1.04, 2,    0.070, 2,    0.010, 2,    0.000, 2,    0.770, 2,   2151.3, 2,   2297.1, 2,  -0.5217
18SN19970924, A97, 14, 1, 5, 5, 2, 19971002, 0132, 75.2023, -142.3305, 3723,   2848.6,  -0.3511,  34.9554, 2,  34.9538, 2,    281.4, 2,    283.3, 2,    13.61, 2,    14.66, 2,     0.01, 2,     1.04, 2,    0.190, 2,    0.000, 2,    0.000, 2,    0.910, 2,   2154.8, 2,   2292.6, 2,  -0.5155
18SN19970924, A97, 14, 1, 4, 4, 2, 19971002, 0132, 75.2023, -142.3305, 3723,   3154.9,  -0.3248,  34.9560, 2,  34.9548, 2,    278.4, 2,    283.3, 2,    13.60, 2,    14.61, 2,     0.01, 2,     1.04, 2,    0.200, 2,    0.050, 2,    0.000, 2,    0.830, 2,   2154.3, 2,   2289.4, 3,  -0.5154
18SN19970924, A97, 14, 1, 3, 3, 2, 19971002, 0132, 75.2023, -142.3305, 3723,   3461.4,  -0.2971,  34.9559, 2,  34.9542, 2,    280.3, 2,    283.5, 2,    13.59, 2,    14.66, 2,     0.02, 2,     1.04, 2,    0.220, 2,    0.040, 2,    0.010, 3,    1.160, 2,   2155.3, 2,   2290.2, 3,  -0.5155
18SN19970924, A97, 14, 1, 2, 2, 2, 19971002, 0132, 75.2023, -142.3305, 3723,   3692.6,  -0.2750,  34.9560, 2,  34.9549, 2,    282.2, 2,    283.3, 2,    13.58, 2,    14.65, 2,     0.02, 2,     1.04, 2,    0.170, 2,    0.020, 2,    0.000, 2,    0.870, 2,   2151.6, 2,   2292.6, 3,  -0.5154
18SN19970924, A97, 14, 1, 1, 1, 2, 19971002, 0132, 75.2023, -142.3305, 3723,   3791.4,  -0.2652,  34.9556, 2,  34.9543, 2,    284.7, 2,    283.5, 2,    13.57, 2,    14.65, 2,     0.01, 2,     1.06, 2,    0.110, 2,    0.080, 2,    0.000, 2,    0.920, 2,   2156.8, 2,   2342.9, 3,  -0.5153