BOTTLE,20101119CCHDOSIODM
EXPOCODE,SECT_ID,STNNBR,CASTNO,SAMPNO,BTLNBR,BTLNBR_FLAG_W,DATE,TIME,LATITUDE,LONGITUDE,DEPTH,CTDPRS,CTDTMP,CTDSAL,CTDSAL_FLAG_W,SALNTY,SALNTY_FLAG_W,CTDOXY,CTDOXY_FLAG_W,OXYGEN,OXYGEN_FLAG_W,SILCAT,SILCAT_FLAG_W,NITRAT,NITRAT_FLAG_W,NITRIT,NITRIT_FLAG_W,PHSPHT,PHSPHT_FLAG_W,CFC-11,CFC-11_FLAG_W,CFC-12,CFC-12_FLAG_W,CFC113,CFC113_FLAG_W,CCL4,CCL4_FLAG_W,TCARBN,TCARBN_FLAG_W,ALKALI,ALKALI_FLAG_W,THETA
,,,,,,,,,,,METERS,DBAR,ITS-90,PSS-78,,PSS-78,,UMOL/KG,,UMOL/KG,,UMOL/KG,,UMOL/KG,,UMOL/KG,,UMOL/KG,,PMOL/KG,,PMOL/KG,,PMOL/KG,,PMOL/KG,,UMOL/KG,,UMOL/KG,,DEG C
18SN19970924, A97, 9, 1, 36, 36, 2, 19970926, 1500, 71.8585, -142.0088, 2888,      9.5,   3.0922,  24.0848, 2,  24.0885, 2,    336.8, 2,   -999.0, 9,  -999.00, 9,  -999.00, 9,  -999.00, 9,  -999.00, 9, -999.000, 9, -999.000, 9, -999.000, 9, -999.000, 9,   -999.0, 9,   -999.0, 9,   3.0918
18SN19970924, A97, 9, 1, 35, 35, 2, 19970926, 1500, 71.8585, -142.0088, 2888,      9.7,   3.0605,  24.1129, 2,  24.0965, 2,    361.4, 2,    343.6, 2,     7.63, 2,     0.07, 2,     0.00, 2,     0.45, 2,    6.190, 2,    3.110, 2,    0.360, 2,    6.080, 3,   1881.6, 2,   1981.9, 2,   3.0601
18SN19970924, A97, 9, 1, 34, 34, 2, 19970926, 1500, 71.8585, -142.0088, 2888,     24.0,  -0.2046,  27.6864, 2,  27.6819, 2,    364.4, 2,    379.7, 2,     3.73, 2,     0.07, 2,     0.00, 2,     0.72, 2,    7.720, 2,    3.860, 2,    0.350, 2,   11.340, 2,   1865.6, 2,   -999.0, 9,  -0.2051
18SN19970924, A97, 9, 1, 33, 33, 2, 19970926, 1500, 71.8585, -142.0088, 2888,     44.1,  -0.5889,  30.7368, 2,  30.4974, 2,    412.6, 2,    404.7, 2,     4.13, 2,     0.06, 2,     0.00, 2,     0.81, 2,    7.330, 2,    3.430, 2,    0.370, 2,   10.140, 2,   2016.0, 2,   2160.0, 2,  -0.5899
18SN19970924, A97, 9, 1, 32, 32, 2, 19970926, 1500, 71.8585, -142.0088, 2888,     63.6,  -1.1167,  31.7263, 2,  31.6246, 2,    391.8, 2,    362.0, 2,    11.12, 2,     3.95, 2,     0.06, 2,     1.15, 2,    6.110, 2,    3.160, 2,    0.270, 2,    9.890, 2,   2106.3, 2,   2222.9, 2,  -1.1180
18SN19970924, A97, 9, 1, 31, 31, 3, 19970926, 1500, 71.8585, -142.0088, 2888,     83.0,  -1.2145,  32.2615, 2,  33.2498, 3,    326.9, 2,    294.9, 3,    12.67, 3,    13.29, 3,     0.01, 3,     1.06, 3,    2.580, 4,    0.380, 4,    0.000, 4,    3.110, 4,   2156.1, 2,   2293.1, 3,  -1.2162
18SN19970924, A97, 9, 1, 30, 30, 2, 19970926, 1500, 71.8585, -142.0088, 2888,    101.3,  -1.3396,  32.5138, 2,  32.4851, 2,    298.1, 2,    296.8, 2,    26.86, 2,    12.70, 2,     0.02, 2,     1.72, 2,    4.480, 2,    2.220, 2,    0.210, 2,    8.320, 2,   2162.5, 2,   2231.8, 2,  -1.3417
18SN19970924, A97, 9, 1, 29, 29, 2, 19970926, 1500, 71.8585, -142.0088, 2888,    121.5,  -1.4214,  32.6978, 2,  32.6788, 2,    289.9, 2,    288.1, 2,    31.12, 2,    13.96, 2,     0.01, 2,     1.81, 2,    4.430, 2,    2.050, 2,    0.110, 2,    8.470, 2,   2186.2, 2,   2244.4, 2,  -1.4239
18SN19970924, A97, 9, 1, 28, 28, 2, 19970926, 1500, 71.8585, -142.0088, 2888,    140.9,  -1.4681,  32.8635, 2,  32.8500, 2,    281.3, 2,    283.7, 2,    32.99, 2,    14.78, 2,     0.01, 2,     1.86, 2,    4.010, 2,    2.060, 2,    0.170, 2,    7.720, 2,   2195.9, 2,   2251.3, 2,  -1.4710
18SN19970924, A97, 9, 1, 27, 27, 2, 19970926, 1500, 71.8585, -142.0088, 2888,    161.1,  -1.4715,  33.0656, 2,  33.0459, 2,    278.5, 2,    285.4, 2,    34.13, 2,    15.59, 2,     0.01, 2,     1.88, 2,    3.850, 2,    1.810, 2,    0.080, 2,    7.800, 2,   2211.5, 2,   2259.7, 2,  -1.4749
18SN19970924, A97, 9, 1, 26, 26, 2, 19970926, 1500, 71.8585, -142.0088, 2888,    179.3,  -1.4063,  33.3037, 2,  33.2943, 2,    273.7, 2,    271.9, 2,    34.95, 2,    16.17, 2,     0.01, 2,     1.88, 2,    3.510, 2,    1.770, 2,    0.120, 2,    8.200, 2,   2220.2, 2,   2270.9, 2,  -1.4102
18SN19970924, A97, 9, 1, 25, 25, 2, 19970926, 1500, 71.8585, -142.0088, 2888,    198.2,  -1.2477,  33.5681, 2,  33.5530, 2,    273.4, 2,    269.9, 2,    32.23, 2,    15.63, 2,     0.01, 2,     1.74, 2,    4.040, 2,    1.850, 2,    0.090, 2,    9.910, 3,   2219.9, 2,   2277.1, 2,  -1.2525
18SN19970924, A97, 9, 1, 24, 24, 2, 19970926, 1500, 71.8585, -142.0088, 2888,    216.7,  -0.9091,  33.9891, 2,  33.9696, 2,    261.4, 2,    263.4, 2,    27.00, 2,    15.10, 2,     0.00, 2,     1.52, 2,    3.460, 2,    1.710, 2,    0.120, 2,    8.350, 2,   2205.0, 2,   2279.1, 2,  -0.9152
18SN19970924, A97, 9, 1, 23, 23, 2, 19970926, 1500, 71.8585, -142.0088, 2888,    240.1,  -0.5860,  34.3521, 2,  34.3364, 2,    259.2, 2,    263.9, 2,    19.91, 2,    14.04, 2,     0.00, 2,     1.26, 2,    3.420, 2,    1.540, 2,    0.080, 2,    7.180, 2,   2187.8, 2,   2273.7, 2,  -0.5937
18SN19970924, A97, 9, 1, 22, 22, 2, 19970926, 1500, 71.8585, -142.0088, 2888,    263.2,  -0.3638,  34.5137, 2,  34.5099, 2,    263.5, 2,    268.6, 2,    15.53, 2,    13.26, 2,     0.01, 2,     1.11, 2,    3.640, 2,    1.600, 2,    0.110, 2,    6.160, 2,   2174.7, 2,   2277.5, 2,  -0.3728
18SN19970924, A97, 9, 1, 21, 21, 2, 19970926, 1500, 71.8585, -142.0088, 2888,    290.4,  -0.1247,  34.6076, 2,  34.6030, 2,    272.8, 2,    273.9, 2,    13.23, 2,    12.92, 2,     0.01, 2,     1.04, 2,    3.630, 2,    1.660, 2,    0.100, 2,    6.280, 2,   2169.5, 2,   2275.3, 2,  -0.1353
18SN19970924, A97, 9, 1, 20, 20, 2, 19970926, 1500, 71.8585, -142.0088, 2888,    328.2,   0.2083,  34.7090, 2,  34.7103, 2,    280.5, 2,    282.5, 2,    10.62, 2,    12.78, 2,     0.00, 2,     0.97, 2,    3.750, 2,    1.880, 2,    0.130, 2,    6.340, 2,   2160.9, 2,   2284.7, 2,   0.1952
18SN19970924, A97, 9, 1, 19, 19, 2, 19970926, 1500, 71.8585, -142.0088, 2888,    363.8,   0.3425,  34.7554, 2,  34.7563, 2,    286.6, 2,    285.7, 2,     9.47, 2,    12.72, 2,     0.01, 2,     0.95, 2,    3.850, 2,    1.810, 2,    0.090, 2,    6.530, 2,   2157.7, 2,   2278.9, 2,   0.3274
18SN19970924, A97, 9, 1, 18, 18, 2, 19970926, 1500, 71.8585, -142.0088, 2888,    402.4,   0.4027,  34.7842, 2,  34.7850, 2,    290.4, 2,    291.5, 2,     8.42, 2,    12.67, 2,     0.01, 2,     0.92, 2,    3.750, 2,    1.830, 2,    0.100, 2,    5.880, 2,   2150.6, 2,   2308.7, 3,   0.3857
18SN19970924, A97, 9, 1, 17, 17, 2, 19970926, 1500, 71.8585, -142.0088, 2888,    448.3,   0.4328,  34.8076, 2,  34.8084, 2,    294.4, 2,    293.0, 2,     7.80, 2,    12.62, 2,     0.01, 2,     0.90, 2,    3.330, 2,    1.540, 2,    0.070, 2,    5.500, 2,   1595.3, 4,   2270.2, 3,   0.4135
18SN19970924, A97, 9, 1, 16, 16, 2, 19970926, 1500, 71.8585, -142.0088, 2888,    495.7,   0.4404,  34.8213, 2,  34.8198, 2,    294.7, 2,    293.6, 2,     7.58, 2,    12.72, 2,     0.01, 2,     0.90, 2,    3.950, 4,    1.470, 2,    0.090, 2,    5.300, 2,   2151.9, 2,   2279.4, 3,   0.4188
18SN19970924, A97, 9, 1, 15, 15, 2, 19970926, 1500, 71.8585, -142.0088, 2888,    558.3,   0.4197,  34.8375, 2,  34.8377, 2,    294.9, 2,    294.8, 2,     7.47, 2,    12.67, 2,     0.01, 2,     0.90, 2,    3.140, 2,    1.400, 2,    0.040, 2,    5.440, 2,   2144.4, 2,   2292.9, 2,   0.3951
18SN19970924, A97, 9, 1, 14, 14, 2, 19970926, 1500, 71.8585, -142.0088, 2888,    643.3,   0.3864,  34.8527, 2,  34.8538, 2,    292.6, 2,    295.0, 2,     7.57, 2,    12.71, 2,     0.01, 2,     0.91, 2,    2.400, 2,    1.180, 2,    0.000, 3,    4.430, 2,   2150.7, 2,   2298.5, 2,   0.3578
18SN19970924, A97, 9, 1, 13, 13, 2, 19970926, 1500, 71.8585, -142.0088, 2888,    748.7,   0.3027,  34.8645, 2,  34.8623, 2,    293.2, 2,    296.7, 2,     7.36, 2,    12.71, 2,     0.01, 2,     0.91, 2,    2.330, 2,    1.010, 2,    0.010, 2,    4.090, 2,   2146.5, 2,   2320.5, 3,   0.2691
18SN19970924, A97, 9, 1, 12, 12, 2, 19970926, 1500, 71.8585, -142.0088, 2888,    874.7,   0.1699,  34.8751, 2,  34.8764, 2,    293.7, 2,    297.8, 2,     7.46, 2,    12.76, 2,     0.01, 2,     0.91, 2,    1.740, 2,    0.850, 2,    0.000, 3,    3.510, 2,   2143.8, 3,   2305.5, 3,   0.1306
18SN19970924, A97, 9, 1, 11, 11, 2, 19970926, 1500, 71.8585, -142.0088, 2888,   1003.5,   0.0365,  34.8832, 2,  34.8847, 2,    293.7, 2,    299.7, 2,     7.66, 2,    12.80, 2,     0.01, 2,     0.92, 2,    1.750, 2,    0.830, 2,    0.010, 2,    3.740, 2,   2149.2, 2,   2301.3, 2,  -0.0086
18SN19970924, A97, 9, 1, 10, 10, 2, 19970926, 1500, 71.8585, -142.0088, 2888,   1130.9,  -0.0737,  34.8913, 2,  34.8920, 2,    294.8, 2,    299.6, 2,     7.97, 2,    12.85, 2,     0.01, 2,     0.92, 2,    1.540, 2,    0.650, 2,    0.000, 2,    3.240, 2,   2145.1, 3,   2290.2, 2,  -0.1248
18SN19970924, A97, 9, 1, 9, 9, 2, 19970926, 1500, 71.8585, -142.0088, 2888,   1284.0,  -0.1831,  34.9008, 2,  34.9010, 2,    295.8, 2,    304.0, 3,     8.17, 2,    13.09, 2,     0.01, 2,     0.94, 2,    1.370, 2,    0.410, 2,    0.000, 2,    3.410, 2,   2151.2, 2,   2300.3, 2,  -0.2417
18SN19970924, A97, 9, 1, 8, 8, 2, 19970926, 1500, 71.8585, -142.0088, 2888,   1490.1,  -0.2985,  34.9139, 2,  34.9138, 2,    298.5, 2,    299.2, 2,     9.11, 2,    13.37, 2,     0.01, 2,     0.96, 2,    1.170, 2,    0.260, 2,    0.000, 2,    3.100, 2,   2148.5, 2,   2290.9, 2,  -0.3678
18SN19970924, A97, 9, 1, 7, 7, 2, 19970926, 1500, 71.8585, -142.0088, 2888,   1748.1,  -0.3901,  34.9303, 2,  34.9292, 2,    295.7, 2,    295.4, 2,    10.77, 2,    13.95, 2,     0.01, 2,     1.00, 2,    0.550, 2,    0.200, 2,    0.000, 2,    2.390, 2,   2149.6, 2,   2299.6, 2,  -0.4742
18SN19970924, A97, 9, 1, 6, 6, 2, 19970926, 1500, 71.8585, -142.0088, 2888,   2005.6,  -0.4110,  34.9423, 2,  34.9423, 2,    293.0, 2,    290.1, 2,    12.11, 2,    14.29, 2,     0.01, 2,     1.02, 2,    0.160, 2,    0.050, 2,    0.000, 2,    1.890, 2,   2149.2, 2,   2317.7, 3,  -0.5116
18SN19970924, A97, 9, 1, 5, 5, 2, 19970926, 1500, 71.8585, -142.0088, 2888,   2262.1,  -0.4011,  34.9482, 2,  34.9490, 2,    290.0, 2,    288.5, 2,    12.73, 2,    14.53, 2,     0.01, 2,     1.03, 2,    0.290, 2,    0.000, 2,    0.000, 2,    1.940, 2,   2149.8, 2,   2297.4, 2,  -0.5197
18SN19970924, A97, 9, 1, 4, 4, 2, 19970926, 1500, 71.8585, -142.0088, 2888,   2416.4,  -0.3900,  34.9515, 2,  34.9508, 2,    289.2, 2,    286.8, 2,    13.14, 2,    14.58, 2,     0.01, 2,     1.04, 2,    0.070, 2,    0.000, 2,    0.000, 2,    1.730, 2,   2152.7, 2,   2297.2, 2,  -0.5201
18SN19970924, A97, 9, 1, 3, 3, 2, 19970926, 1500, 71.8585, -142.0088, 2888,   2569.8,  -0.3771,  34.9540, 2,  34.9545, 2,    288.0, 2,    285.6, 2,    13.66, 2,    14.63, 2,     0.00, 2,     1.04, 2,    0.270, 3,    0.110, 3,    0.000, 2,    1.990, 2,   2156.4, 2,   2299.3, 2,  -0.5190
18SN19970924, A97, 9, 1, 2, 2, 2, 19970926, 1500, 71.8585, -142.0088, 2888,   2800.1,  -0.3522,  34.9564, 2,  34.9557, 2,    278.9, 2,    284.1, 2,    14.59, 2,    14.77, 2,     0.01, 2,     1.06, 2,    0.050, 2,    0.040, 2,    0.000, 2,    1.640, 2,   2155.2, 2,   2293.2, 3,  -0.5127
18SN19970924, A97, 9, 1, 1, 1, 2, 19970926, 1500, 71.8585, -142.0088, 2888,   2912.7,  -0.3424,  34.9555, 2,  34.9553, 2,    282.1, 2,    282.8, 2,    14.69, 2,    14.77, 2,     0.01, 2,     1.05, 2,    0.100, 2,    0.020, 2,    0.000, 2,    2.060, 3,   2166.8, 3,   2302.0, 2,  -0.5122