BOTTLE,20101119CCHDOSIODM
EXPOCODE,SECT_ID,STNNBR,CASTNO,SAMPNO,BTLNBR,BTLNBR_FLAG_W,DATE,TIME,LATITUDE,LONGITUDE,DEPTH,CTDPRS,CTDTMP,CTDSAL,CTDSAL_FLAG_W,SALNTY,SALNTY_FLAG_W,CTDOXY,CTDOXY_FLAG_W,OXYGEN,OXYGEN_FLAG_W,SILCAT,SILCAT_FLAG_W,NITRAT,NITRAT_FLAG_W,NITRIT,NITRIT_FLAG_W,PHSPHT,PHSPHT_FLAG_W,CFC-11,CFC-11_FLAG_W,CFC-12,CFC-12_FLAG_W,CFC113,CFC113_FLAG_W,CCL4,CCL4_FLAG_W,TCARBN,TCARBN_FLAG_W,ALKALI,ALKALI_FLAG_W,THETA
,,,,,,,,,,,METERS,DBAR,ITS-90,PSS-78,,PSS-78,,UMOL/KG,,UMOL/KG,,UMOL/KG,,UMOL/KG,,UMOL/KG,,UMOL/KG,,PMOL/KG,,PMOL/KG,,PMOL/KG,,PMOL/KG,,UMOL/KG,,UMOL/KG,,DEG C
18SN19970924, A97, 7, 1, 35, 35, 2, 19970925, 2145, 71.0303, -141.9850, 2410,      9.4,   1.9863,  27.2083, 2,  27.1100, 2,    366.2, 2,   -999.0, 9,  -999.00, 9,  -999.00, 9,  -999.00, 9,  -999.00, 9, -999.000, 9, -999.000, 9, -999.000, 9, -999.000, 9,   -999.0, 9,   -999.0, 9,   1.9860
18SN19970924, A97, 7, 1, 34, 34, 2, 19970925, 2145, 71.0303, -141.9850, 2410,      9.7,   2.2540,  26.8310, 2,  27.0090, 2,    368.5, 2,    365.1, 2,     6.49, 2,     0.10, 2,     0.00, 2,     0.56, 2,    6.540, 2,    3.160, 2,    0.310, 2,   10.070, 2,   1967.0, 2,   2092.1, 2,   2.2536
18SN19970924, A97, 7, 1, 33, 33, 2, 19970925, 2145, 71.0303, -141.9850, 2410,     24.4,  -0.7019,  30.8985, 2,  30.7710, 2,    399.9, 2,   -999.0, 9,  -999.00, 9,  -999.00, 9,  -999.00, 9,  -999.00, 9, -999.000, 9, -999.000, 9, -999.000, 9, -999.000, 9,   -999.0, 9,   -999.0, 9,  -0.7024
18SN19970924, A97, 7, 1, 32, 32, 2, 19970925, 2145, 71.0303, -141.9850, 2410,     25.3,  -0.7582,  30.8483, 2,  30.8070, 2,    398.6, 2,    396.4, 2,     5.10, 2,     0.39, 2,     0.01, 2,     0.81, 2,    7.100, 2,    3.370, 2,    0.340, 2,   13.360, 3,   2056.9, 2,   2198.7, 2,  -0.7588
18SN19970924, A97, 7, 1, 31, 31, 2, 19970925, 2145, 71.0303, -141.9850, 2410,     45.5,  -0.8511,  31.8331, 2,  31.8100, 2,    368.5, 2,    358.7, 2,    10.87, 2,     4.11, 2,     0.10, 2,     1.12, 2, -999.000, 9, -999.000, 9, -999.000, 9, -999.000, 9,   -999.0, 9,   -999.0, 9,  -0.8521
18SN19970924, A97, 7, 1, 30, 30, 2, 19970925, 2145, 71.0303, -141.9850, 2410,     65.8,  -1.2602,  32.2826, 2,  32.2610, 2,    326.0, 2,    324.1, 2,    18.31, 2,     8.32, 2,     0.08, 2,     1.39, 2,    5.830, 2,    2.760, 2, -999.000, 9,   11.650, 2,   2161.1, 2,   2244.2, 2,  -1.2616
18SN19970924, A97, 7, 1, 29, 29, 2, 19970925, 2145, 71.0303, -141.9850, 2410,     85.1,  -1.3421,  32.5014, 2,  32.4980, 2,    313.3, 2,    322.6, 2,    22.52, 2,    10.18, 2,     0.17, 2,     1.52, 2, -999.000, 9, -999.000, 9, -999.000, 9, -999.000, 9,   -999.0, 9,   -999.0, 9,  -1.3438
18SN19970924, A97, 7, 1, 28, 28, 2, 19970925, 2145, 71.0303, -141.9850, 2410,    104.9,  -1.4984,  32.6572, 2,  32.6450, 2,    305.6, 2,    296.6, 2,    28.00, 2,    12.63, 2,     0.04, 2,     1.62, 2,    5.990, 2,    2.550, 2,    0.180, 2,   10.430, 2,   2197.0, 2,   2257.9, 2,  -1.5004
18SN19970924, A97, 7, 1, 27, 27, 2, 19970925, 2145, 71.0303, -141.9850, 2410,    125.2,  -1.5151,  32.7466, 2,  32.7500, 2,    292.9, 2,    295.3, 2,    30.05, 2,    13.31, 2,     0.05, 2,     1.70, 2, -999.000, 9, -999.000, 9, -999.000, 9, -999.000, 9,   -999.0, 9,   -999.0, 9,  -1.5175
18SN19970924, A97, 7, 1, 26, 26, 2, 19970925, 2145, 71.0303, -141.9850, 2410,    145.1,  -1.4866,  32.9395, 2,  32.9460, 2,    289.9, 2,    285.5, 2,    32.59, 2,    14.78, 2,     0.01, 2,     1.79, 2,    4.500, 2,    2.150, 2, -999.000, 9,    9.560, 2,   2206.3, 2,   2292.6, 3,  -1.4896
18SN19970924, A97, 7, 1, 25, 25, 2, 19970925, 2145, 71.0303, -141.9850, 2410,    166.8,  -1.4914,  33.1371, 2,  33.1370, 2,    280.9, 2,    292.6, 2,    32.68, 2,    14.58, 2,     0.00, 2,     1.74, 2, -999.000, 9, -999.000, 9, -999.000, 9, -999.000, 9,   -999.0, 9,   -999.0, 9,  -1.4949
18SN19970924, A97, 7, 1, 24, 24, 2, 19970925, 2145, 71.0303, -141.9850, 2410,    186.7,  -1.3953,  33.4012, 2,  33.3940, 2,    282.4, 2,    284.7, 2,    32.68, 2,    15.07, 2,     0.00, 2,     1.73, 2,    4.750, 2,    2.210, 2,    0.140, 2,   10.950, 3,   2217.2, 2,   2279.6, 2,  -1.3995
18SN19970924, A97, 7, 1, 23, 23, 2, 19970925, 2145, 71.0303, -141.9850, 2410,    206.7,  -1.1493,  33.7948, 2,  33.8180, 2,    278.3, 2,    276.5, 2,    29.15, 2,    14.87, 2,     0.01, 2,     1.57, 2, -999.000, 9, -999.000, 9, -999.000, 9, -999.000, 9,   -999.0, 9,   -999.0, 9,  -1.1546
18SN19970924, A97, 7, 1, 22, 22, 2, 19970925, 2145, 71.0303, -141.9850, 2410,    226.1,  -0.7753,  34.1805, 2,  34.1970, 2,    265.4, 2,    268.7, 2,    22.39, 2,    14.28, 2,     0.01, 2,     1.33, 2,    3.970, 2,    1.790, 2,    0.120, 2,    7.630, 2,   2197.8, 2,   2286.2, 2,  -0.7820
18SN19970924, A97, 7, 1, 21, 21, 2, 19970925, 2145, 71.0303, -141.9850, 2410,    251.7,  -0.4279,  34.4533, 2,  34.4650, 2,    268.1, 2,    269.3, 2,    16.03, 2,    13.39, 2,     0.01, 2,     1.11, 2, -999.000, 9, -999.000, 9, -999.000, 9, -999.000, 9,   -999.0, 9,   -999.0, 9,  -0.4363
18SN19970924, A97, 7, 1, 20, 20, 2, 19970925, 2145, 71.0303, -141.9850, 2410,    276.5,  -0.1590,  34.5790, 2,  34.5760, 2,    271.5, 2,    275.4, 2,    13.20, 2,    13.00, 2,     0.01, 2,     1.02, 2,    3.870, 2,    1.760, 2,    0.050, 2,    6.730, 2,   2172.1, 2,   2285.1, 2,  -0.1690
18SN19970924, A97, 7, 1, 19, 19, 2, 19970925, 2145, 71.0303, -141.9850, 2410,    307.3,   0.0850,  34.6672, 2,  34.6710, 2,    280.1, 2,    279.7, 2,    11.24, 2,    12.80, 2,     0.01, 2,     0.97, 2, -999.000, 9, -999.000, 9, -999.000, 9, -999.000, 9,   -999.0, 9,   -999.0, 9,   0.0731
18SN19970924, A97, 7, 1, 18, 18, 2, 19970925, 2145, 71.0303, -141.9850, 2410,    348.4,   0.2858,  34.7317, 2,  34.7340, 2,    286.8, 2,    284.4, 2,     9.77, 2,    12.71, 2,     0.01, 2,     0.93, 2, -999.000, 9,    1.750, 2,    0.070, 2,    5.620, 2,   2159.8, 2,   2278.7, 3,   0.2716
18SN19970924, A97, 7, 1, 17, 17, 2, 19970925, 2145, 71.0303, -141.9850, 2410,    387.4,   0.3386,  34.7650, 2,  34.7670, 2,    288.5, 2,    288.0, 2,     8.70, 2,    12.71, 2,     0.01, 2,     0.90, 2, -999.000, 9, -999.000, 9, -999.000, 9, -999.000, 9,   -999.0, 9,   -999.0, 9,   0.3224
18SN19970924, A97, 7, 1, 16, 16, 2, 19970925, 2145, 71.0303, -141.9850, 2410,    426.8,   0.4055,  34.7916, 2,  34.7890, 2,    290.0, 2,    290.5, 2,     7.92, 2,    12.71, 2,     0.01, 2,     0.89, 2,    3.560, 2,    1.620, 2,    0.040, 2,    5.660, 2,   2153.1, 2,   2282.6, 3,   0.3873
18SN19970924, A97, 7, 1, 15, 15, 2, 19970925, 2145, 71.0303, -141.9850, 2410,    476.4,   0.4501,  34.8118, 2,  34.8130, 2,    292.4, 2,   -999.0, 5,     7.72, 2,    12.71, 2,     0.01, 2,     0.89, 2, -999.000, 9, -999.000, 9, -999.000, 9, -999.000, 9,   -999.0, 9,   -999.0, 9,   0.4294
18SN19970924, A97, 7, 1, 14, 14, 2, 19970925, 2145, 71.0303, -141.9850, 2410,    526.8,   0.4433,  34.8257, 2,  34.8270, 2,    296.4, 2,    293.8, 2,     7.53, 2,    12.71, 2,     0.01, 2,     0.85, 2,    3.460, 2,    1.580, 2,    0.050, 2,    4.980, 2,   2152.0, 2,   2290.3, 2,   0.4202
18SN19970924, A97, 7, 1, 13, 13, 2, 19970925, 2145, 71.0303, -141.9850, 2410,    592.1,   0.4166,  34.8397, 2,  34.8390, 2,    292.7, 2,    295.1, 2,     7.13, 2,    12.70, 2,     0.01, 2,     0.84, 2, -999.000, 9, -999.000, 9, -999.000, 9, -999.000, 9,   -999.0, 9,   -999.0, 9,   0.3904
18SN19970924, A97, 7, 1, 12, 12, 2, 19970925, 2145, 71.0303, -141.9850, 2410,    673.9,   0.3666,  34.8539, 2,  34.8560, 2,    295.9, 2,    295.6, 2,     7.33, 2,    12.80, 2,     0.01, 2,     0.89, 2,    2.730, 2,    1.240, 2,    0.020, 2,    4.720, 2,   2153.6, 2,   2292.1, 2,   0.3365
18SN19970924, A97, 7, 1, 11, 11, 2, 19970925, 2145, 71.0303, -141.9850, 2410,    777.0,   0.2700,  34.8651, 2,  34.8650, 2,    295.9, 2,    297.3, 2,     7.33, 2,    12.80, 2,     0.01, 2,     0.89, 2, -999.000, 9, -999.000, 9, -999.000, 9, -999.000, 9,   -999.0, 9,   -999.0, 9,   0.2352
18SN19970924, A97, 7, 1, 10, 10, 2, 19970925, 2145, 71.0303, -141.9850, 2410,    902.6,   0.1428,  34.8746, 2,  34.8750, 2,    297.2, 2,    298.1, 2,     7.43, 2,    12.80, 2,     0.01, 2,     0.88, 2,    2.330, 2,    0.960, 2,    0.030, 2,    3.520, 2,   2151.2, 2,   2293.3, 2,   0.1023
18SN19970924, A97, 7, 1, 9, 9, 2, 19970925, 2145, 71.0303, -141.9850, 2410,   1034.5,   0.0211,  34.8825, 2,  34.8840, 2,    298.2, 2,    302.3, 3,     7.62, 2,    12.80, 2,     0.01, 2,     0.89, 2, -999.000, 9, -999.000, 9, -999.000, 9, -999.000, 9,   -999.0, 9,   -999.0, 9,  -0.0255
18SN19970924, A97, 7, 1, 8, 8, 2, 19970925, 2145, 71.0303, -141.9850, 2410,   1163.4,  -0.1026,  34.8920, 2,  34.8920, 2,    296.2, 2,    299.9, 2,     7.82, 2,    12.80, 2,     0.01, 2,     0.91, 2,    2.010, 2,    0.790, 2,    0.000, 3,    3.420, 2,   2149.7, 2,   2291.8, 2,  -0.1552
18SN19970924, A97, 7, 1, 7, 7, 2, 19970925, 2145, 71.0303, -141.9850, 2410,   1316.1,  -0.2398,  34.9052, 2,  34.9030, 2,    298.2, 2,    299.5, 2,     8.70, 2,    13.19, 2,     0.01, 2,     0.94, 2, -999.000, 9, -999.000, 9, -999.000, 9, -999.000, 9,   -999.0, 9,   2282.8, 3,  -0.2997
18SN19970924, A97, 7, 1, 6, 6, 2, 19970925, 2145, 71.0303, -141.9850, 2410,   1563.6,  -0.3542,  34.9215, 2,  34.9220, 2,    294.0, 2,    296.9, 2,     9.97, 2,    13.58, 2,     0.01, 2,     0.93, 3,    1.710, 3,    0.340, 2,    0.000, 2,    2.320, 2,   2153.1, 3,   2294.9, 2,  -0.4273
18SN19970924, A97, 7, 1, 5, 5, 2, 19970925, 2145, 71.0303, -141.9850, 2410,   1752.4,  -0.4028,  34.9345, 2,  34.9340, 2,    291.0, 2,    292.7, 2,    11.24, 2,    14.07, 2,     0.01, 2,     0.97, 2, -999.000, 9, -999.000, 9, -999.000, 9, -999.000, 9,   -999.0, 9,   -999.0, 9,  -0.4870
18SN19970924, A97, 7, 1, 4, 4, 2, 19970925, 2145, 71.0303, -141.9850, 2410,   1941.4,  -0.4151,  34.9428, 2,  34.9410, 2,    284.8, 2,    289.5, 2,    12.12, 2,    14.37, 2,     0.01, 2,     1.02, 2,    0.830, 2,    0.160, 2,    0.000, 2,    2.100, 2,   2153.9, 2,   2296.6, 2,  -0.5114
18SN19970924, A97, 7, 1, 3, 3, 2, 19970925, 2145, 71.0303, -141.9850, 2410,   2123.0,  -0.4051,  34.9480, 2,  34.9480, 2,    285.4, 2,    287.2, 2,    13.09, 2,    14.46, 2,     0.01, 2,     1.03, 2, -999.000, 9, -999.000, 9, -999.000, 9, -999.000, 9,   -999.0, 9,   -999.0, 9,  -0.5139
18SN19970924, A97, 7, 1, 2, 2, 2, 19970925, 2145, 71.0303, -141.9850, 2410,   2285.2,  -0.3955,  34.9520, 2,  34.9520, 2,    284.3, 2,    285.5, 2,    13.49, 2,    14.56, 2,     0.01, 2,     1.04, 2,    0.503, 3,    0.100, 2,    0.000, 2,    1.790, 3,   2156.7, 2,   2296.4, 2,  -0.5159
18SN19970924, A97, 7, 1, 1, 1, 2, 19970925, 2145, 71.0303, -141.9850, 2410,   2367.7,  -0.3873,  34.9537, 2,  34.9540, 2,    283.8, 2,    282.8, 2,    14.37, 2,    14.66, 2,     0.01, 2,     1.05, 2,    0.710, 2,    0.130, 2,    0.000, 2,    2.130, 2,   2158.2, 2,   2293.9, 2,  -0.5139