BOTTLE,20101119CCHDOSIODM
# Ship: Louis S. St. Laurent 
# Cruise: JOIS 97  Leg IV
# Dates: 09/18 - 10/20/1997 
# EXPOCODE: 18SN19970924 
# Region:Arctic 
# Chief Scientist:James H. Swift
# 16 stations with 36 place Rosette 
# Hydro: Who - James H. Swift; Status - final 
# Nuts/O2: Who - James H. Swift; Status - final 
# TCO2: Who - P.Jones/K.Azetsu-Scott; Status - final 
# TA: Who - Who - P.Jones/K.Azetsu-Scott; Status - final 
# CFC: Who - P.Jones/K.Azetsu-Scott; Status - final 
#       Notes: Includes CFC-113 and CCl4 
# References: 
# McLaughlin, F.A., E.C. Carmack, R.W. Macdonald, H. Melling, J.H. Swift, P.A. Wheeler, B.F. Sherr and E.B. Sherr, The joint roles of Pacific and Atlantic-origin waters in the Canada Basin, 1997-1998, Deep-Sea Res. I, 51(1), 107-128, 2004. 
# Jutterstrm, S. and L.G. Anderson, The saturation of calcite and aragonite in thhe Arctic Ocean, Mar. Chem., 94, 101-110, 2005. 
#code : Justin Fields merge_exchange.rb 
#original files copied from HTML directory: 2010-11-17
#original HYD file: /Users/dave/CCHD10/JOIS4/jois4cut2_hy1.csv  2010-11-17
EXPOCODE,SECT_ID,STNNBR,CASTNO,SAMPNO,BTLNBR,BTLNBR_FLAG_W,DATE,TIME,LATITUDE,LONGITUDE,DEPTH,CTDPRS,CTDTMP,CTDSAL,CTDSAL_FLAG_W,SALNTY,SALNTY_FLAG_W,CTDOXY,CTDOXY_FLAG_W,OXYGEN,OXYGEN_FLAG_W,SILCAT,SILCAT_FLAG_W,NITRAT,NITRAT_FLAG_W,NITRIT,NITRIT_FLAG_W,PHSPHT,PHSPHT_FLAG_W,CFC-11,CFC-11_FLAG_W,CFC-12,CFC-12_FLAG_W,CFC113,CFC113_FLAG_W,CCL4,CCL4_FLAG_W,TCARBN,TCARBN_FLAG_W,ALKALI,ALKALI_FLAG_W,THETA
,,,,,,,,,,,METERS,DBAR,ITS-90,PSS-78,,PSS-78,,UMOL/KG,,UMOL/KG,,UMOL/KG,,UMOL/KG,,UMOL/KG,,UMOL/KG,,PMOL/KG,,PMOL/KG,,PMOL/KG,,PMOL/KG,,UMOL/KG,,UMOL/KG,,DEG C
18SN19970924, A97, 1, 1, 6, 6, 2, 19970924, 2341, 70.1982, -141.5107, 41,      3.7,  -0.3861,  32.2629, 2,  32.2612, 2,    353.4, 2,   -999.0, 9,    21.25, 2,     8.93, 2,     0.06, 2,     1.41, 2, -999.000, 9, -999.000, 9, -999.000, 9, -999.000, 9,   -999.0, 9,   -999.0, 9,  -0.3862
18SN19970924, A97, 1, 1, 5, 5, 2, 19970924, 2341, 70.1982, -141.5107, 41,      4.1,  -0.3864,  32.2629, 2,  32.2625, 2,    344.3, 2,    344.7, 2,    21.25, 2,     8.93, 2,     0.06, 2,     1.44, 2,    6.220, 2,    3.090, 2,    0.340, 2,    8.440, 2,   2153.0, 2,   2243.4, 2,  -0.3866
18SN19970924, A97, 1, 1, 3, 3, 2, 19970924, 2341, 70.1982, -141.5107, 41,     16.0,  -0.4311,  32.2890, 2,  32.2915, 2,    342.8, 2,    343.5, 2,    21.87, 2,     9.27, 2,     0.07, 2,     1.41, 2,    6.220, 2,    3.240, 2,    0.400, 2,    8.930, 2,   2159.3, 2,   2245.2, 2,  -0.4315
18SN19970924, A97, 1, 1, 4, 4, 2, 19970924, 2341, 70.1982, -141.5107, 41,     16.5,  -0.4311,  32.2891, 2,  32.2929, 2,    342.8, 2,   -999.0, 9,    21.88, 2,     9.26, 2,     0.07, 2,     1.44, 2,    6.400, 2,    3.250, 2,    0.340, 2,    8.640, 2,   2159.8, 2,   2233.5, 2,  -0.4316
18SN19970924, A97, 1, 1, 2, 2, 2, 19970924, 2341, 70.1982, -141.5107, 41,     34.4,  -1.2987,  32.6594, 2,  32.6064, 2,    311.7, 2,    309.3, 2,    27.21, 2,    11.69, 2,     0.08, 2,     1.62, 2,    5.510, 2,    2.920, 2,    0.340, 2,    7.690, 2,   2188.6, 2,   2254.5, 2,  -1.2994
18SN19970924, A97, 1, 1, 1, 1, 2, 19970924, 2341, 70.1982, -141.5107, 41,     45.4,  -1.3092,  32.6665, 2,  32.6622, 2,    298.9, 2,    304.8, 2,    28.46, 2,    12.17, 2,     0.08, 2,     1.66, 2,    5.500, 2,    2.755, 2,    0.260, 2,    8.495, 2,   1908.0, 4,   2251.6, 2,  -1.3101
18SN19970924, A97, 2, 1, 7, 7, 2, 19970925, 0124, 70.4173, -141.6467, 102,      5.8,  -0.5486,  31.2139, 2,  31.2207, 2,    368.9, 2,    371.3, 2,     8.97, 2,     2.59, 2,     0.05, 2,     1.00, 2, -999.000, 9, -999.000, 9, -999.000, 9, -999.000, 9,   -999.0, 9,   -999.0, 9,  -0.5488
18SN19970924, A97, 2, 1, 8, 8, 2, 19970925, 0124, 70.4173, -141.6467, 102,      5.9,  -0.5647,  31.2273, 2,  31.2178, 2,    369.4, 2,   -999.0, 9,  -999.00, 9,  -999.00, 9,  -999.00, 9,  -999.00, 9,    6.720, 2,    3.250, 2,    0.390, 2,    9.300, 2,   2103.4, 2,   2228.6, 2,  -0.5649
18SN19970924, A97, 2, 1, 6, 6, 2, 19970925, 0124, 70.4173, -141.6467, 102,     19.9,  -0.6069,  31.4408, 2,  31.3847, 2,    362.1, 2,   -999.0, 9,  -999.00, 9,  -999.00, 9,  -999.00, 9,  -999.00, 9, -999.000, 9, -999.000, 9, -999.000, 9, -999.000, 9,   -999.0, 9,   -999.0, 9,  -0.6074
18SN19970924, A97, 2, 1, 5, 5, 2, 19970925, 0124, 70.4173, -141.6467, 102,     20.3,  -0.6188,  31.4346, 2,  31.4226, 2,    362.1, 2,    368.9, 2,    10.12, 2,     3.24, 2,     0.06, 2,     1.05, 2,    6.380, 2,    3.230, 2,    0.360, 2,    9.380, 2,   2111.1, 2,   2221.4, 2,  -0.6193
18SN19970924, A97, 2, 1, 4, 4, 2, 19970925, 0124, 70.4173, -141.6467, 102,     37.2,  -1.0366,  32.2084, 2,  32.2227, 2,    333.2, 2,    326.2, 2,    19.75, 2,     8.64, 2,     0.08, 2,     1.43, 2,    5.520, 2,    2.850, 2,    0.330, 2,    8.600, 2,   2156.4, 2,   2230.3, 2,  -1.0374
18SN19970924, A97, 2, 1, 3, 3, 2, 19970925, 0124, 70.4173, -141.6467, 102,     56.6,  -1.4799,  32.7955, 2,  32.7888, 2,    297.6, 2,    300.6, 2,    31.06, 2,    13.57, 2,     0.08, 2,     1.71, 2,    5.340, 2,    2.600, 2,    0.260, 2,    7.840, 2,   2189.0, 2,   2240.1, 2,  -1.4810
18SN19970924, A97, 2, 1, 2, 2, 2, 19970925, 0124, 70.4173, -141.6467, 102,     76.4,  -1.5111,  32.9092, 2,  32.9069, 2,    293.5, 2,    297.2, 2,    32.52, 2,    14.24, 2,     0.03, 2,     1.77, 2,    5.180, 2,    2.520, 2,    0.280, 2,    6.920, 2,   2194.4, 3,   2251.5, 2,  -1.5126
18SN19970924, A97, 2, 1, 1, 1, 2, 19970925, 0124, 70.4173, -141.6467, 102,     93.4,  -1.5071,  32.9871, 2,  32.9420, 2,    288.0, 2,    295.2, 2,    33.25, 2,    14.54, 2,     0.02, 2,     1.78, 2,    4.995, 2,    2.480, 2,    0.305, 2,    7.085, 2,   2196.7, 2,   2269.3, 2,  -1.5089
18SN19970924, A97, 3, 1, 15, 15, 2, 19970925, 0231, 70.4533, -141.6953, 247,      6.8,  -0.4826,  30.9745, 2,  30.9996, 2,    339.8, 2,   -999.0, 9,     7.42, 2,     1.69, 2,     0.03, 2,     0.89, 2, -999.000, 9, -999.000, 9, -999.000, 9, -999.000, 9,   -999.0, 9,   -999.0, 9,  -0.4827
18SN19970924, A97, 3, 1, 14, 14, 2, 19970925, 0231, 70.4533, -141.6953, 247,      7.2,  -0.4837,  30.9732, 2,  31.0049, 2,    340.4, 2,    383.5, 2,     7.52, 2,     1.69, 2,     0.03, 2,     0.90, 2,    6.640, 2,    3.400, 2,    0.390, 2,   10.180, 2,   2089.0, 2,   2222.3, 2,  -0.4839
18SN19970924, A97, 3, 1, 13, 13, 2, 19970925, 0231, 70.4533, -141.6953, 247,     21.0,  -0.4691,  31.1894, 2,  31.3468, 2,    370.9, 2,   -999.0, 9,     9.09, 2,     2.73, 2,     0.05, 2,     0.98, 2,    6.620, 2,    3.250, 2,    0.360, 2,   10.350, 2,   -999.0, 9,   -999.0, 9,  -0.4696
18SN19970924, A97, 3, 1, 12, 12, 2, 19970925, 0231, 70.4533, -141.6953, 247,     22.2,  -0.5051,  31.2072, 2,  31.3964, 2,    370.8, 2,    363.9, 2,     9.82, 2,     3.15, 2,     0.06, 2,     1.04, 2,    6.520, 2,    3.230, 2,    0.370, 2,   10.090, 2,   2112.6, 2,   2231.4, 2,  -0.5056
18SN19970924, A97, 3, 1, 11, 11, 2, 19970925, 0231, 70.4533, -141.6953, 247,     38.7,  -1.2201,  32.2776, 2,  32.3412, 2,    335.1, 2,    317.8, 2,    21.65, 2,     9.84, 2,     0.07, 2,     1.44, 2,    5.640, 2,    2.770, 2,    0.310, 2,    9.250, 2,   2159.7, 2,   2243.3, 2,  -1.2209
18SN19970924, A97, 3, 1, 10, 10, 2, 19970925, 0231, 70.4533, -141.6953, 247,     59.4,  -1.4238,  32.5846, 2,  32.6041, 2,    307.1, 2,    306.0, 2,    27.92, 2,    12.38, 2,     0.06, 2,     1.62, 2,    5.100, 2,    2.560, 2,    0.300, 2,    8.100, 2,   2186.0, 2,   2250.7, 2,  -1.4250
18SN19970924, A97, 3, 1, 9, 9, 2, 19970925, 0231, 70.4533, -141.6953, 247,     79.0,  -1.4827,  32.7567, 2,  32.7696, 2,    294.9, 2,    294.2, 2,    31.16, 2,    13.77, 2,     0.02, 2,     1.69, 2,    5.110, 2,    2.460, 2,    0.280, 2,    7.460, 2,   2193.1, 2,   2255.9, 2,  -1.4842
18SN19970924, A97, 3, 1, 8, 8, 2, 19970925, 0231, 70.4533, -141.6953, 247,     97.5,  -1.4735,  32.9097, 2,  32.9270, 2,    291.1, 2,    284.2, 2,    33.14, 2,    15.02, 2,     0.01, 2,     1.78, 2,    3.970, 2,    1.960, 2,    0.190, 2,    4.810, 3,   2202.8, 2,   2256.2, 2,  -1.4755
18SN19970924, A97, 3, 1, 7, 7, 2, 19970925, 0231, 70.4533, -141.6953, 247,    117.7,  -1.4689,  33.0822, 2,  33.0918, 2,    281.2, 2,    282.1, 2,    33.65, 2,    15.16, 2,     0.01, 2,     1.77, 2,    4.260, 2,    2.020, 2,    0.210, 2,    5.780, 3,   2210.9, 2,   2266.3, 2,  -1.4713
18SN19970924, A97, 3, 1, 6, 6, 2, 19970925, 0231, 70.4533, -141.6953, 247,    136.9,  -1.4747,  33.3003, 2,  33.3162, 2,    283.0, 2,    291.9, 2,    34.16, 2,    15.06, 2,     0.01, 2,     1.71, 2,    4.960, 2,    2.590, 2,    0.320, 3,    7.270, 2,   2212.5, 2,   2270.0, 2,  -1.4776
18SN19970924, A97, 3, 1, 5, 5, 2, 19970925, 0231, 70.4533, -141.6953, 247,    157.0,  -1.3213,  33.5631, 2,  33.5743, 2,    289.3, 2,    303.5, 2,    33.21, 2,    15.05, 2,     0.02, 2,     1.65, 2,    5.680, 2,    2.880, 2,    0.310, 3,    8.200, 3,   2205.3, 2,   2273.3, 2,  -1.3249
18SN19970924, A97, 3, 1, 4, 4, 2, 19970925, 0231, 70.4533, -141.6953, 247,    176.6,  -1.0466,  33.9044, 2,  33.9335, 2,    291.4, 2,    284.1, 2,    27.65, 2,    14.52, 2,     0.01, 2,     1.49, 2,    4.813, 2,    2.360, 2,    0.227, 3,    6.793, 2,   2205.5, 2,   2279.4, 2,  -1.0512
18SN19970924, A97, 3, 1, 3, 3, 2, 19970925, 0231, 70.4533, -141.6953, 247,    195.8,  -0.6275,  34.2742, 2,  34.2809, 2,    278.2, 2,    274.4, 2,    20.84, 2,    13.79, 2,     0.02, 2,     1.22, 2,    4.300, 2,    2.050, 2,    0.210, 2,    5.300, 2,   2185.6, 2,   2283.7, 2,  -0.6336
18SN19970924, A97, 3, 1, 2, 2, 2, 19970925, 0231, 70.4533, -141.6953, 247,    219.1,  -0.1310,  34.5676, 2,  34.5673, 2,    273.1, 2,    276.0, 2,    14.35, 2,    12.96, 2,     0.03, 2,     1.03, 2,    3.910, 2,    1.910, 2,    0.180, 2,    4.320, 2,   2170.2, 2,   2275.7, 2,  -0.1388
18SN19970924, A97, 3, 1, 1, 1, 2, 19970925, 0231, 70.4533, -141.6953, 247,    238.9,   0.2563,  34.7203, 2,  34.6900, 2,    281.4, 2,    281.4, 2,    11.83, 2,    12.73, 2,     0.02, 2,     0.96, 2,    4.050, 2,    1.910, 2,    0.160, 2,    4.250, 2,   2163.2, 2,   2282.2, 2,   0.2468
18SN19970924, A97, 4, 1, 28, 28, 2, 19970925, 0451, 70.5617, -141.7222, 490,      7.3,   0.0657,  30.3545, 2,  30.3543, 2,    372.4, 2,   -999.0, 9,  -999.00, 9,  -999.00, 9,  -999.00, 9,  -999.00, 9, -999.000, 9, -999.000, 9, -999.000, 9, -999.000, 9,   -999.0, 9,   -999.0, 9,   0.0655
18SN19970924, A97, 4, 1, 27, 27, 2, 19970925, 0451, 70.5617, -141.7222, 490,      7.9,   0.0579,  30.3595, 2,  30.3568, 2,    373.6, 2,    373.7, 2,     6.06, 2,     0.64, 2,     0.02, 2,     0.81, 2, -999.000, 9, -999.000, 9, -999.000, 9, -999.000, 9,   -999.0, 9,   -999.0, 9,   0.0577
18SN19970924, A97, 4, 1, 26, 26, 2, 19970925, 0451, 70.5617, -141.7222, 490,     21.9,  -0.7225,  31.0730, 2,  31.1272, 2,    379.9, 2,   -999.0, 9,  -999.00, 9,  -999.00, 9,  -999.00, 9,  -999.00, 9,    6.970, 2,    3.490, 2,    0.390, 2,    8.750, 2,   2065.5, 2,   2197.5, 2,  -0.7229
18SN19970924, A97, 4, 1, 25, 25, 2, 19970925, 0451, 70.5617, -141.7222, 490,     22.3,  -0.6364,  31.2246, 2,  31.1609, 2,    382.6, 2,    398.6, 2,     4.90, 2,     0.18, 2,     0.00, 2,     0.83, 2, -999.000, 9, -999.000, 9, -999.000, 9, -999.000, 9,   -999.0, 9,   -999.0, 9,  -0.6369
18SN19970924, A97, 4, 1, 24, 24, 2, 19970925, 0451, 70.5617, -141.7222, 490,     42.9,  -1.1745,  32.1655, 2,  32.1297, 2,    330.2, 2,    324.9, 2,    18.28, 2,     8.47, 2,     0.07, 2,     1.42, 2,    6.980, 2,    3.110, 2,    0.320, 2,    8.490, 2,   2059.3, 2,   2201.8, 2,  -1.1754
18SN19970924, A97, 4, 1, 23, 23, 2, 19970925, 0451, 70.5617, -141.7222, 490,     61.9,  -1.3871,  32.6072, 2,  32.5862, 2,    308.2, 2,    307.0, 2,    26.63, 2,    11.81, 2,     0.07, 2,     1.63, 2,    5.370, 2,    2.570, 2,    0.180, 2,    7.890, 2,   2133.3, 2,   2230.7, 2,  -1.3883
18SN19970924, A97, 4, 1, 22, 22, 2, 19970925, 0451, 70.5617, -141.7222, 490,     81.6,  -1.4268,  32.6901, 2,  32.6921, 2,    300.6, 2,    302.1, 2,    28.81, 2,    12.66, 2,     0.08, 2,     1.67, 2,    5.180, 2,    2.730, 2,    0.210, 2,    9.070, 2,   2175.9, 2,   2246.5, 2,  -1.4285
18SN19970924, A97, 4, 1, 21, 21, 2, 19970925, 0451, 70.5617, -141.7222, 490,    100.9,  -1.4313,  32.8681, 2,  32.8614, 2,    295.9, 2,    302.5, 2,    31.08, 2,    13.49, 2,     0.06, 2,     1.69, 2,    5.480, 2,    2.570, 2,    0.210, 2,    9.040, 2,   2182.3, 2,   2251.6, 2,  -1.4334
18SN19970924, A97, 4, 1, 20, 20, 2, 19970925, 0451, 70.5617, -141.7222, 490,    120.9,  -1.5283,  32.9941, 2,  32.9956, 2,    298.0, 2,    303.5, 2,    34.30, 2,    14.63, 2,     0.01, 2,     1.72, 2,    5.510, 2,    2.700, 2,    0.220, 2,    8.560, 2,   2189.4, 2,   2254.6, 2,  -1.5307
18SN19970924, A97, 4, 1, 19, 19, 2, 19970925, 0451, 70.5617, -141.7222, 490,    140.5,  -1.4191,  33.3754, 2,  33.3576, 2,    295.2, 2,    302.3, 2,    35.00, 2,    15.29, 2,     0.01, 2,     1.72, 2,    5.670, 2,    2.800, 2,    0.230, 2,    9.110, 2,   2193.1, 2,   2261.0, 2,  -1.4222
18SN19970924, A97, 4, 1, 18, 18, 2, 19970925, 0451, 70.5617, -141.7222, 490,    160.7,  -1.3688,  33.4715, 2,  33.4690, 2,    293.4, 2,    300.7, 2,    34.25, 2,    15.24, 2,     0.02, 2,     1.70, 2,    5.910, 2,    3.000, 2,    0.260, 2,    9.060, 2,   2202.8, 2,   2273.9, 2,  -1.3724
18SN19970924, A97, 4, 1, 17, 17, 2, 19970925, 0451, 70.5617, -141.7222, 490,    180.4,  -1.1430,  33.7761, 2,  33.7567, 2,    291.0, 2,    284.7, 2,    29.64, 2,    14.67, 2,     0.00, 2,     1.55, 2,    5.970, 2,    2.910, 2,    0.270, 2,    9.420, 2,   2203.4, 2,   2276.1, 2,  -1.1476
18SN19970924, A97, 4, 1, 16, 16, 2, 19970925, 0451, 70.5617, -141.7222, 490,    200.0,  -0.7689,  34.1631, 2,  34.1585, 2,    284.1, 2,    275.7, 2,    22.85, 2,    14.04, 2,     0.00, 2,     1.31, 2,    4.890, 2,    2.340, 2,    0.180, 2,    7.170, 2,   2211.3, 2,   2284.4, 3,  -0.7748
18SN19970924, A97, 4, 1, 15, 15, 2, 19970925, 0451, 70.5617, -141.7222, 490,    218.5,  -0.4876,  34.3771, 2,  34.3943, 2,    276.8, 2,    271.4, 2,    17.63, 2,    13.42, 2,     0.00, 2,     1.12, 2,    4.430, 2,    2.130, 2,    0.170, 2,    6.250, 2,   2192.3, 2,   2278.7, 2,  -0.4947
18SN19970924, A97, 4, 1, 12, 12, 2, 19970925, 0451, 70.5617, -141.7222, 490,    240.5,  -0.1947,  34.5481, 2,  34.5495, 2,    277.1, 2,    276.3, 2,    13.98, 2,    12.98, 2,     0.00, 2,     1.00, 2, -999.000, 9, -999.000, 9, -999.000, 9, -999.000, 9,   -999.0, 9,   -999.0, 9,  -0.2033
18SN19970924, A97, 4, 1, 13, 13, 2, 19970925, 0451, 70.5617, -141.7222, 490,    240.5,  -0.2215,  34.5441, 2,  34.5465, 2,    277.1, 2,   -999.0, 9,  -999.00, 9,  -999.00, 9,  -999.00, 9,  -999.00, 9,    3.960, 2,    1.830, 2,    0.080, 2,    5.600, 2,   2167.7, 2,   2281.3, 2,  -0.2300
18SN19970924, A97, 4, 1, 14, 14, 2, 19970925, 0451, 70.5617, -141.7222, 490,    241.0,  -0.2206,  34.5444, 2,  34.5473, 2,    277.1, 2,   -999.0, 9,  -999.00, 9,  -999.00, 9,  -999.00, 9,  -999.00, 9,    3.920, 2,    1.780, 2,    0.130, 2,    5.230, 2,   2180.6, 2,   2277.2, 2,  -0.2291
18SN19970924, A97, 4, 1, 11, 11, 2, 19970925, 0451, 70.5617, -141.7222, 490,    265.1,  -0.0355,  34.6150, 2,  34.6189, 2,    277.9, 2,    278.5, 2,    12.30, 2,    12.79, 2,     0.00, 2,     0.98, 2,    3.970, 2,    1.830, 2,    0.110, 2,    5.030, 2,   2165.2, 2,   2274.4, 3,  -0.0454
18SN19970924, A97, 4, 1, 9, 9, 2, 19970925, 0451, 70.5617, -141.7222, 490,    295.7,   0.1241,  34.6717, 2,  34.6707, 2,    281.5, 2,   -999.0, 9,  -999.00, 9,  -999.00, 9,  -999.00, 9,  -999.00, 9,    4.030, 2,    1.900, 2,    0.120, 2,    5.480, 2,   2160.1, 2,   2284.2, 2,   0.1126
18SN19970924, A97, 4, 1, 8, 8, 2, 19970925, 0451, 70.5617, -141.7222, 490,    295.8,   0.1329,  34.6731, 2,  34.6723, 2,    281.5, 2,    281.1, 2,    11.25, 2,    12.69, 2,     0.01, 2,     0.93, 2, -999.000, 9, -999.000, 9, -999.000, 9, -999.000, 9,   -999.0, 9,   -999.0, 9,   0.1213
18SN19970924, A97, 4, 1, 10, 10, 2, 19970925, 0451, 70.5617, -141.7222, 490,    296.0,   0.1265,  34.6711, 2,  34.6708, 2,    281.5, 2,   -999.0, 9,  -999.00, 9,  -999.00, 9,  -999.00, 9,  -999.00, 9, -999.000, 9, -999.000, 9, -999.000, 9, -999.000, 9,   -999.0, 9,   -999.0, 9,   0.1149
18SN19970924, A97, 4, 1, 7, 7, 2, 19970925, 0451, 70.5617, -141.7222, 490,    333.7,   0.2991,  34.7300, 2,  34.7315, 2,    282.6, 2,    285.4, 2,    10.10, 2,    12.64, 2,     0.01, 2,     0.90, 2,    3.990, 2,    1.760, 2,    0.170, 3,    4.980, 2,   2159.0, 2,   2287.5, 2,   0.2855
18SN19970924, A97, 4, 1, 6, 6, 2, 19970925, 0451, 70.5617, -141.7222, 490,    374.3,   0.4144,  34.7801, 2, -999.0000, 9,    287.9, 2,   -999.0, 9,  -999.00, 9,  -999.00, 9,  -999.00, 9,  -999.00, 9, -999.000, 9, -999.000, 9, -999.000, 9, -999.000, 9,   -999.0, 9,   -999.0, 9,   0.3986
18SN19970924, A97, 4, 1, 5, 5, 2, 19970925, 0451, 70.5617, -141.7222, 490,    374.4,   0.4166,  34.7811, 2,  34.7807, 2,    287.9, 2,   -999.0, 9,  -999.00, 9,  -999.00, 9,  -999.00, 9,  -999.00, 9, -999.000, 9, -999.000, 9, -999.000, 9, -999.000, 9,   -999.0, 9,   -999.0, 9,   0.4008
18SN19970924, A97, 4, 1, 4, 4, 2, 19970925, 0451, 70.5617, -141.7222, 490,    375.1,   0.4202,  34.7828, 2,  34.7821, 2,    288.3, 2,    289.7, 2,     8.75, 2,    12.58, 2,     0.01, 2,     0.87, 2,    4.010, 2,    1.900, 2,    0.090, 2,    5.470, 2,   2152.1, 2,   2287.0, 2,   0.4043
18SN19970924, A97, 4, 1, 3, 3, 2, 19970925, 0451, 70.5617, -141.7222, 490,    414.8,   0.4337,  34.8108, 2,  34.8112, 2,    291.1, 2,    292.1, 2,     8.32, 2,    12.57, 2,     0.02, 2,     0.86, 2,    3.960, 2,    1.697, 2,    0.130, 3,    4.857, 2,   2152.9, 2,   2293.7, 2,   0.4159
18SN19970924, A97, 4, 1, 2, 2, 2, 19970925, 0451, 70.5617, -141.7222, 490,    451.0,   0.4150,  34.8310, 2,  34.8325, 2,    295.5, 2,    293.8, 2,     8.21, 2,    12.61, 2,     0.02, 2,     0.86, 2,    3.440, 2,    1.540, 2,    0.090, 2,    4.700, 2,   2151.0, 2,   2286.1, 2,   0.3956
18SN19970924, A97, 4, 1, 1, 1, 2, 19970925, 0451, 70.5617, -141.7222, 490,    482.0,   0.2832,  34.8572, 2,  34.8613, 2,    296.6, 2,    296.3, 2,     8.21, 2,    12.66, 2,     0.02, 2,     0.88, 2,    2.660, 2,    1.300, 2,    0.110, 2,    3.490, 3,   2150.4, 2,   2323.7, 3,   0.2628