BOTTLE,20141031SIOCCHAMB
EXPOCODE,SECT_ID,STNNBR,CASTNO,SAMPNO,BTLNBR,BTLNBR_FLAG_W,DATE,TIME,LATITUDE,LONGITUDE,DEPTH,CTDPRS,CTDTMP,CTDSAL,CTDSAL_FLAG_W,SALNTY,SALNTY_FLAG_W,CTDOXY,CTDOXY_FLAG_W,OXYGEN,OXYGEN_FLAG_W,SILCAT,SILCAT_FLAG_W,PHSPHT,PHSPHT_FLAG_W,REVPRS,CTDRAW,THETA,NO2+NO3,NO2+NO3_FLAG_W,REVTMP
,,,,,,,,,,,METERS,DBAR,ITS-90,PSS-78,,PSS-78,,UMOL/KG,,UMOL/KG,,UMOL/KG,,UMOL/KG,,DBAR,DBAR,ITS-90,UMOL/KG,,DEG C
33KB20130624,       PRS2,       2,         15,         22,       8022,2,20130627,       0554,  22.750833,-157.9995000,       4743,     7.0,  25.4130,  35.1945,2,  35.1935,2,    206.7,1,  -999.0,9, -999.00,9, -999.00,9,  -999.0,       6,    25.4114, -999.00,9,     -999.0
33KB20130624,       PRS2,       2,         15,         21,       8021,2,20130627,       0554,  22.750833,-157.9995000,       4743,     6.9,  25.4132,  35.1947,2,  35.1939,2,    206.7,1,  -999.0,9, -999.00,9, -999.00,9,  -999.0,       6,    25.4117, -999.00,9,     -999.0
33KB20130624,       PRS2,       2,         15,         20,       8020,2,20130627,       0554,  22.750833,-157.9995000,       4743,    26.0,  25.1602,  35.1827,2,  35.1813,2,    208.5,1,  -999.0,9, -999.00,9, -999.00,9,  -999.0,      25,    25.1546, -999.00,9,     -999.0
33KB20130624,       PRS2,       2,         15,         19,       8019,2,20130627,       0554,  22.750833,-157.9995000,       4743,    25.9,  25.1597,  35.1827,2,-999.0000,5,    208.6,1,  -999.0,9, -999.00,9, -999.00,9,  -999.0,      25,    25.1541, -999.00,9,     -999.0
33KB20130624,       PRS2,       2,         15,         18,       8018,2,20130627,       0554,  22.750833,-157.9995000,       4743,    45.2,  24.5870,  35.1767,2,  35.1770,2,    213.7,1,  -999.0,9, -999.00,9, -999.00,9,  -999.0,      44,    24.5773, -999.00,9,     -999.0
33KB20130624,       PRS2,       2,         15,         17,       8017,2,20130627,       0554,  22.750833,-157.9995000,       4743,    45.2,  24.6050,  35.1801,2,  35.1768,2,    214.1,1,  -999.0,9, -999.00,9, -999.00,9,  -999.0,      45,    24.5953, -999.00,9,     -999.0
33KB20130624,       PRS2,       2,         15,         16,       8016,2,20130627,       0554,  22.750833,-157.9995000,       4743,    60.1,  23.4862,  35.1948,2,  35.1981,2,    219.9,1,  -999.0,9, -999.00,9, -999.00,9,  -999.0,      59,    23.4738, -999.00,9,     -999.0
33KB20130624,       PRS2,       2,         15,         15,       8015,2,20130627,       0554,  22.750833,-157.9995000,       4743,    75.1,  22.9564,  35.2007,2,  35.1996,2,    218.2,1,  -999.0,9, -999.00,9, -999.00,9,  -999.0,      75,    22.9411, -999.00,9,     -999.0
33KB20130624,       PRS2,       2,         15,         14,       8014,2,20130627,       0554,  22.750833,-157.9995000,       4743,    75.0,  22.9598,  35.2005,2,  35.1993,2,    218.3,1,  -999.0,9, -999.00,9, -999.00,9,  -999.0,      75,    22.9445, -999.00,9,     -999.0
33KB20130624,       PRS2,       2,         15,         13,       8025,2,20130627,       0554,  22.750833,-157.9995000,       4743,    85.1,  22.9161,  35.2019,2,  35.2014,2,    217.2,1,  -999.0,9, -999.00,9, -999.00,9,  -999.0,      85,    22.8987, -999.00,9,     -999.0
33KB20130624,       PRS2,       2,         15,         12,       8012,2,20130627,       0554,  22.750833,-157.9995000,       4743,   100.5,  22.5479,  35.2233,2,  35.2229,2,    216.0,1,  -999.0,9, -999.00,9, -999.00,9,  -999.0,     100,    22.5276, -999.00,9,     -999.0
33KB20130624,       PRS2,       2,         15,         11,       8011,2,20130627,       0554,  22.750833,-157.9995000,       4743,   100.4,  22.5564,  35.2232,2,  35.2253,2,    216.0,1,  -999.0,9, -999.00,9, -999.00,9,  -999.0,     100,    22.5362, -999.00,9,     -999.0
33KB20130624,       PRS2,       2,         15,         10,       8010,2,20130627,       0554,  22.750833,-157.9995000,       4743,   115.3,  22.0020,  35.2125,2,  35.2111,2,    212.2,1,  -999.0,9, -999.00,9, -999.00,9,  -999.0,     115,    21.9792, -999.00,9,     -999.0
33KB20130624,       PRS2,       2,         15,          9,       8009,2,20130627,       0554,  22.750833,-157.9995000,       4743,   125.4,  21.7399,  35.2057,2,  35.2050,2,    210.1,1,  -999.0,9, -999.00,9, -999.00,9,  -999.0,     125,    21.7152, -999.00,9,     -999.0
33KB20130624,       PRS2,       2,         15,          8,       8008,2,20130627,       0554,  22.750833,-157.9995000,       4743,   125.4,  21.7404,  35.2059,2,  35.1967,2,    210.0,1,  -999.0,9, -999.00,9, -999.00,9,  -999.0,     125,    21.7158, -999.00,9,     -999.0
33KB20130624,       PRS2,       2,         15,          7,       8026,2,20130627,       0554,  22.750833,-157.9995000,       4743,   135.1,  21.6769,  35.2047,2,  35.2024,2,    209.4,1,  -999.0,9, -999.00,9, -999.00,9,  -999.0,     135,    21.6505, -999.00,9,     -999.0
33KB20130624,       PRS2,       2,         15,          6,       8006,2,20130627,       0554,  22.750833,-157.9995000,       4743,   150.5,  21.1514,  35.1770,2,  35.1758,2,    204.4,1,  -999.0,9, -999.00,9, -999.00,9,  -999.0,     150,    21.1224, -999.00,9,     -999.0
33KB20130624,       PRS2,       2,         15,          5,       8005,2,20130627,       0554,  22.750833,-157.9995000,       4743,   150.3,  21.1540,  35.1772,2,  35.1736,2,    204.6,1,  -999.0,9, -999.00,9, -999.00,9,  -999.0,     150,    21.1251, -999.00,9,     -999.0
33KB20130624,       PRS2,       2,         15,          4,       8004,2,20130627,       0554,  22.750833,-157.9995000,       4743,   175.9,  20.4690,  35.1425,2,  35.1396,2,    197.9,1,  -999.0,9, -999.00,9, -999.00,9,  -999.0,     175,    20.4359, -999.00,9,     -999.0
33KB20130624,       PRS2,       2,         15,          3,       8003,2,20130627,       0554,  22.750833,-157.9995000,       4743,   175.8,  20.4818,  35.1431,2,  35.1378,2,    197.8,1,  -999.0,9, -999.00,9, -999.00,9,  -999.0,     175,    20.4487, -999.00,9,     -999.0
33KB20130624,       PRS2,       2,         15,          2,       8002,2,20130627,       0554,  22.750833,-157.9995000,       4743,   400.4,   9.3544,  34.1165,2,  34.1148,2,    158.5,1,  -999.0,9, -999.00,9, -999.00,9,  -999.0,     400,     9.3098, -999.00,9,     -999.0
33KB20130624,       PRS2,       2,         15,          1,       8001,2,20130627,       0554,  22.750833,-157.9995000,       4743,  1020.5,   3.9676,  34.4882,2,  34.4887,2,     44.9,1,  -999.0,9, -999.00,9, -999.00,9,  -999.0,    1020,     3.8905, -999.00,9,     -999.0
33KB20130624,       PRS2,       2,         16,         12,       8012,2,20130627,       0856,  22.749833,-158.0000000,       4738,     6.0,  25.3931,  35.1948,2,  35.1931,2,    206.7,2,   208.1,2, -999.00,9, -999.00,9,  -999.0,       6,    25.3918, -999.00,9,     -999.0
33KB20130624,       PRS2,       2,         16,         11,       8011,2,20130627,       0856,  22.749833,-158.0000000,       4738,    55.3,  23.8290,  35.1735,2,  35.1750,2,    219.4,2,   218.6,2, -999.00,9, -999.00,9,  -999.0,      54,    23.8174, -999.00,9,     -999.0
33KB20130624,       PRS2,       2,         16,         10,       8010,2,20130627,       0856,  22.749833,-158.0000000,       4738,   400.0,   9.1874,  34.1161,2,  34.1111,2,    159.9,2,   157.4,2, -999.00,9, -999.00,9,  -999.0,     400,     9.1434, -999.00,9,     -999.0
33KB20130624,       PRS2,       2,         16,          9,       8009,2,20130627,       0856,  22.749833,-158.0000000,       4738,   780.2,   4.5513,  34.3711,2,  34.3753,2,     32.6,2,    30.9,2, -999.00,9, -999.00,9,  -999.0,     780,     4.4904, -999.00,9,     -999.0
33KB20130624,       PRS2,       2,         16,          8,       8008,2,20130627,       0856,  22.749833,-158.0000000,       4738,  1001.0,   3.9159,  34.4963,2,-999.0000,5,     45.8,2,  -999.0,5, -999.00,9, -999.00,9,  -999.0,    1001,     3.8408, -999.00,9,     -999.0
33KB20130624,       PRS2,       2,         16,          7,       8026,2,20130627,       0856,  22.749833,-158.0000000,       4738,  2000.5,   2.1306,  34.6199,2,-999.0000,5,     89.0,2,  -999.0,5, -999.00,9, -999.00,9,  -999.0,    2001,     1.9922, -999.00,9,     -999.0
33KB20130624,       PRS2,       2,         16,          6,       8006,2,20130627,       0856,  22.749833,-158.0000000,       4738,  2000.5,   2.1301,  34.6199,2,  34.6189,2,     89.0,2,    90.0,2, -999.00,9, -999.00,9,  -999.0,    2001,     1.9917, -999.00,9,     -999.0
33KB20130624,       PRS2,       2,         16,          5,       8005,2,20130627,       0856,  22.749833,-158.0000000,       4738,  3000.5,   1.5776,  34.6669,2,-999.0000,5,    122.1,2,  -999.0,5, -999.00,9, -999.00,9,  -999.0,    2999,     1.3591, -999.00,9,     -999.0
33KB20130624,       PRS2,       2,         16,          4,       8004,2,20130627,       0856,  22.749833,-158.0000000,       4738,  3000.5,   1.5774,  34.6669,2,  34.6669,2,    122.1,2,   122.8,2, -999.00,9, -999.00,9,  -999.0,    2999,     1.3589, -999.00,9,     -999.0
33KB20130624,       PRS2,       2,         16,          3,       8003,2,20130627,       0856,  22.749833,-158.0000000,       4738,  4000.3,   1.4609,  34.6852,2,-999.0000,5,    146.2,2,  -999.0,5, -999.00,9, -999.00,9,  -999.0,    4001,     1.1430, -999.00,9,     -999.0
33KB20130624,       PRS2,       2,         16,          2,       8002,2,20130627,       0856,  22.749833,-158.0000000,       4738,  4000.3,   1.4607,  34.6852,2,  34.6877,2,    146.2,2,   146.6,2, -999.00,9, -999.00,9,  -999.0,    4001,     1.1429, -999.00,9,     -999.0
33KB20130624,       PRS2,       2,         16,          1,       8001,2,20130627,       0856,  22.749833,-158.0000000,       4738,  4807.4,   1.5242,  34.6881,2,  34.6885,2,    151.4,2,   150.8,2, -999.00,9, -999.00,9,  -999.0,    4809,     1.1123, -999.00,9,     -999.0
33KB20130624,       PRS2,       6,          1,         13,       8025,2,20130628,       0648,  21.846667,-158.3633333,       2432,     6.4,  25.9573,  35.2143,2,  35.2128,2,    204.0,1,  -999.0,9, -999.00,9, -999.00,9,  -999.0,       6,    25.9559, -999.00,9,     -999.0
33KB20130624,       PRS2,       6,          1,         12,       8012,2,20130628,       0648,  21.846667,-158.3633333,       2432,    26.2,  25.6790,  35.2146,2,  35.2140,2,    205.3,1,  -999.0,9, -999.00,9, -999.00,9,  -999.0,      26,    25.6732, -999.00,9,     -999.0
33KB20130624,       PRS2,       6,          1,         11,       8011,2,20130628,       0648,  21.846667,-158.3633333,       2432,    45.5,  24.4720,  35.2601,2,  35.2595,2,    213.3,1,  -999.0,9, -999.00,9, -999.00,9,  -999.0,      45,    24.4623, -999.00,9,     -999.0
33KB20130624,       PRS2,       6,          1,         10,       8010,2,20130628,       0648,  21.846667,-158.3633333,       2432,    75.8,  23.1446,  35.2909,2,  35.2804,2,    218.3,1,  -999.0,9, -999.00,9, -999.00,9,  -999.0,      74,    23.1290, -999.00,9,     -999.0
33KB20130624,       PRS2,       6,          1,          9,       8009,2,20130628,       0648,  21.846667,-158.3633333,       2432,   100.7,  22.5293,  35.3484,2,  35.3459,2,    213.4,1,  -999.0,9, -999.00,9, -999.00,9,  -999.0,     101,    22.5090, -999.00,9,     -999.0
33KB20130624,       PRS2,       6,          1,          8,       8008,2,20130628,       0648,  21.846667,-158.3633333,       2432,   125.3,  22.1239,  35.3243,2,  35.3137,3,    211.1,1,  -999.0,9, -999.00,9, -999.00,9,  -999.0,     125,    22.0990, -999.00,9,     -999.0
33KB20130624,       PRS2,       6,          1,          7,       8026,2,20130628,       0648,  21.846667,-158.3633333,       2432,   150.5,  21.5547,  35.2606,2,  35.2501,2,    207.8,1,  -999.0,9, -999.00,9, -999.00,9,  -999.0,     150,    21.5253, -999.00,9,     -999.0
33KB20130624,       PRS2,       6,          1,          6,       8006,2,20130628,       0648,  21.846667,-158.3633333,       2432,   175.3,  20.6828,  35.2384,2,  35.2367,2,    200.7,1,  -999.0,9, -999.00,9, -999.00,9,  -999.0,     174,    20.6496, -999.00,9,     -999.0
33KB20130624,       PRS2,       6,          1,          5,       8005,2,20130628,       0648,  21.846667,-158.3633333,       2432,   501.1,   7.2563,  34.1771,2,  34.1773,2,     66.9,1,  -999.0,9, -999.00,9, -999.00,9,  -999.0,     501,     7.2080, -999.00,9,     -999.0
33KB20130624,       PRS2,       6,          1,          4,       8004,2,20130628,       0648,  21.846667,-158.3633333,       2432,  1000.0,   4.0832,  34.5122,2,  34.5105,2,     44.9,1,  -999.0,9, -999.00,9, -999.00,9,  -999.0,     999,     4.0068, -999.00,9,     -999.0
33KB20130624,       PRS2,       6,          1,          3,       8003,2,20130628,       0648,  21.846667,-158.3633333,       2432,  1501.1,   2.9114,  34.5742,2,  34.5722,2,     66.7,1,  -999.0,9, -999.00,9, -999.00,9,  -999.0,    1500,     2.8045, -999.00,9,     -999.0
33KB20130624,       PRS2,       6,          1,          2,       8002,2,20130628,       0648,  21.846667,-158.3633333,       2432,  2000.6,   2.2294,  34.6161,2,  34.6150,2,     88.2,1,  -999.0,9, -999.00,9, -999.00,9,  -999.0,    2001,     2.0894, -999.00,9,     -999.0
33KB20130624,       PRS2,       6,          1,          1,       8001,2,20130628,       0648,  21.846667,-158.3633333,       2432,  2465.4,   1.8115,  34.6478,2,  34.6472,2,    107.5,1,  -999.0,9, -999.00,9, -999.00,9,  -999.0,    2466,     1.6379, -999.00,9,     -999.0
33KB20130624,       PRS2,      50,          1,         24,       8024,2,20130627,       2259,  22.785500,-157.9303333,       4700,     3.5,  25.8354,  35.1631,2,-999.0000,9,    204.6,1,  -999.0,9, -999.00,9, -999.00,9,  -999.0,       3,    25.8346, -999.00,9,     -999.0
33KB20130624,       PRS2,      50,          1,         23,       8023,2,20130627,       2259,  22.785500,-157.9303333,       4700,     7.4,  25.8262,  35.1625,2,-999.0000,9,    204.8,1,  -999.0,9, -999.00,9, -999.00,9,  -999.0,       7,    25.8246, -999.00,9,     -999.0
33KB20130624,       PRS2,      50,          1,         22,       8022,2,20130627,       2259,  22.785500,-157.9303333,       4700,     7.3,  25.8207,  35.1624,2,-999.0000,9,    205.0,1,  -999.0,9, -999.00,9, -999.00,9,  -999.0,       7,    25.8191, -999.00,9,     -999.0
33KB20130624,       PRS2,      50,          1,         21,       8021,2,20130627,       2259,  22.785500,-157.9303333,       4700,     7.0,  25.8237,  35.1627,2,-999.0000,9,    205.0,1,  -999.0,9, -999.00,9, -999.00,9,  -999.0,       6,    25.8222, -999.00,9,     -999.0
33KB20130624,       PRS2,      50,          1,         20,       8020,2,20130627,       2259,  22.785500,-157.9303333,       4700,     7.0,  25.8160,  35.1628,2,-999.0000,9,    205.0,1,  -999.0,9, -999.00,9, -999.00,9,  -999.0,       6,    25.8145, -999.00,9,     -999.0
33KB20130624,       PRS2,      50,          1,         19,       8019,2,20130627,       2259,  22.785500,-157.9303333,       4700,     7.1,  25.8157,  35.1626,2,-999.0000,9,    205.0,1,  -999.0,9, -999.00,9, -999.00,9,  -999.0,       6,    25.8142, -999.00,9,     -999.0
33KB20130624,       PRS2,      50,          1,         18,       8018,2,20130627,       2259,  22.785500,-157.9303333,       4700,    25.3,  25.5498,  35.1641,2,-999.0000,9,    205.5,1,  -999.0,9, -999.00,9, -999.00,9,  -999.0,      25,    25.5442, -999.00,9,     -999.0
33KB20130624,       PRS2,      50,          1,         17,       8017,2,20130627,       2259,  22.785500,-157.9303333,       4700,    25.3,  25.5526,  35.1640,2,-999.0000,9,    205.5,1,  -999.0,9, -999.00,9, -999.00,9,  -999.0,      25,    25.5470, -999.00,9,     -999.0
33KB20130624,       PRS2,      50,          1,         16,       8016,2,20130627,       2259,  22.785500,-157.9303333,       4700,    25.3,  25.5534,  35.1638,2,-999.0000,9,    205.5,1,  -999.0,9, -999.00,9, -999.00,9,  -999.0,      25,    25.5479, -999.00,9,     -999.0
33KB20130624,       PRS2,      50,          1,         15,       8015,2,20130627,       2259,  22.785500,-157.9303333,       4700,    25.4,  25.5535,  35.1638,2,-999.0000,9,    205.5,1,  -999.0,9, -999.00,9, -999.00,9,  -999.0,      24,    25.5479, -999.00,9,     -999.0
33KB20130624,       PRS2,      50,          1,         14,       8014,2,20130627,       2259,  22.785500,-157.9303333,       4700,    25.2,  25.5543,  35.1635,2,-999.0000,9,    205.5,1,  -999.0,9, -999.00,9, -999.00,9,  -999.0,      24,    25.5487, -999.00,9,     -999.0
33KB20130624,       PRS2,      50,          1,         13,       8025,2,20130627,       2259,  22.785500,-157.9303333,       4700,    25.1,  25.5562,  35.1633,2,-999.0000,9,    205.4,1,  -999.0,9, -999.00,9, -999.00,9,  -999.0,      24,    25.5506, -999.00,9,     -999.0
33KB20130624,       PRS2,      50,          1,         12,       8012,2,20130627,       2259,  22.785500,-157.9303333,       4700,    25.1,  25.5562,  35.1633,2,-999.0000,9,    205.4,1,  -999.0,9, -999.00,9, -999.00,9,  -999.0,      25,    25.5507, -999.00,9,     -999.0
33KB20130624,       PRS2,      50,          1,         11,       8011,2,20130627,       2259,  22.785500,-157.9303333,       4700,    25.2,  25.5562,  35.1628,2,-999.0000,9,    205.2,1,  -999.0,9, -999.00,9, -999.00,9,  -999.0,      24,    25.5506, -999.00,9,     -999.0
33KB20130624,       PRS2,      50,          1,         10,       8010,2,20130627,       2259,  22.785500,-157.9303333,       4700,    75.3,  23.1895,  35.1948,2,-999.0000,9,    218.9,1,  -999.0,9, -999.00,9, -999.00,9,  -999.0,      75,    23.1740, -999.00,9,     -999.0
33KB20130624,       PRS2,      50,          1,          9,       8009,2,20130627,       2259,  22.785500,-157.9303333,       4700,    75.3,  23.1554,  35.2028,2,-999.0000,9,    218.5,1,  -999.0,9, -999.00,9, -999.00,9,  -999.0,      75,    23.1399, -999.00,9,     -999.0
33KB20130624,       PRS2,      50,          1,          8,       8008,2,20130627,       2259,  22.785500,-157.9303333,       4700,    90.1,  22.8977,  35.2376,2,-999.0000,9,    218.5,1,  -999.0,9, -999.00,9, -999.00,9,  -999.0,      90,    22.8794, -999.00,9,     -999.0
33KB20130624,       PRS2,      50,          1,          7,       8026,2,20130627,       2259,  22.785500,-157.9303333,       4700,   150.6,  20.7992,  35.1970,2,-999.0000,9,    199.6,1,  -999.0,9, -999.00,9, -999.00,9,  -999.0,     151,    20.7706, -999.00,9,     -999.0
33KB20130624,       PRS2,      50,          1,          6,       8006,2,20130627,       2259,  22.785500,-157.9303333,       4700,   150.7,  20.7971,  35.1967,2,-999.0000,9,    199.7,1,  -999.0,9, -999.00,9, -999.00,9,  -999.0,     150,    20.7684, -999.00,9,     -999.0
33KB20130624,       PRS2,      50,          1,          5,       8005,2,20130627,       2259,  22.785500,-157.9303333,       4700,   150.7,  20.7957,  35.1964,2,-999.0000,9,    199.8,1,  -999.0,9, -999.00,9, -999.00,9,  -999.0,     150,    20.7670, -999.00,9,     -999.0
33KB20130624,       PRS2,      50,          1,          4,       8004,2,20130627,       2259,  22.785500,-157.9303333,       4700,   150.6,  20.7917,  35.1956,2,-999.0000,9,    199.8,1,  -999.0,9, -999.00,9, -999.00,9,  -999.0,     150,    20.7631, -999.00,9,     -999.0
33KB20130624,       PRS2,      50,          1,          3,       8003,2,20130627,       2259,  22.785500,-157.9303333,       4700,   150.6,  20.7635,  35.1921,2,-999.0000,9,    199.8,1,  -999.0,9, -999.00,9, -999.00,9,  -999.0,     150,    20.7349, -999.00,9,     -999.0
33KB20130624,       PRS2,      50,          1,          2,       8002,2,20130627,       2259,  22.785500,-157.9303333,       4700,   175.6,  20.1068,  35.1373,2,-999.0000,9,    197.5,1,  -999.0,9, -999.00,9, -999.00,9,  -999.0,     175,    20.0742, -999.00,9,     -999.0
33KB20130624,       PRS2,      50,          1,          1,       8001,2,20130627,       2259,  22.785500,-157.9303333,       4700,   175.5,  20.1044,  35.1373,2,-999.0000,9,    197.5,1,  -999.0,9, -999.00,9, -999.00,9,  -999.0,     174,    20.0718, -999.00,9,     -999.0