BOTTLE,20141031SIOCCHAMB
EXPOCODE,SECT_ID,STNNBR,CASTNO,SAMPNO,BTLNBR,BTLNBR_FLAG_W,DATE,TIME,LATITUDE,LONGITUDE,DEPTH,CTDPRS,CTDTMP,CTDSAL,CTDSAL_FLAG_W,SALNTY,SALNTY_FLAG_W,CTDOXY,CTDOXY_FLAG_W,OXYGEN,OXYGEN_FLAG_W,SILCAT,SILCAT_FLAG_W,PHSPHT,PHSPHT_FLAG_W,REVPRS,CTDRAW,THETA,NO2+NO3,NO2+NO3_FLAG_W,REVTMP
,,,,,,,,,,,METERS,DBAR,ITS-90,PSS-78,,PSS-78,,UMOL/KG,,UMOL/KG,,UMOL/KG,,UMOL/KG,,DBAR,DBAR,ITS-90,UMOL/KG,,DEG C
33KB20130624,       PRS2,       2,          6,         22,       8022,2,20130626,       0248,  22.750000,-158.0000000,       4740,     6.9,  25.2377,  35.1843,2,  35.1839,2,    208.2,1,  -999.0,9, -999.00,9, -999.00,9,  -999.0,       6,    25.2362, -999.00,9,     -999.0
33KB20130624,       PRS2,       2,          6,         21,       8021,2,20130626,       0248,  22.750000,-158.0000000,       4740,    25.5,  25.2163,  35.1820,2,  35.1815,2,    208.1,1,  -999.0,9, -999.00,9, -999.00,9,  -999.0,      25,    25.2107, -999.00,9,     -999.0
33KB20130624,       PRS2,       2,          6,         20,       8020,2,20130626,       0248,  22.750000,-158.0000000,       4740,    45.5,  25.1416,  35.1798,2,  35.1780,2,    208.3,1,  -999.0,9, -999.00,9, -999.00,9,  -999.0,      45,    25.1317, -999.00,9,     -999.0
33KB20130624,       PRS2,       2,          6,         19,       8019,2,20130626,       0248,  22.750000,-158.0000000,       4740,    74.6,  23.8067,  35.1793,2,  35.1800,2,    219.0,1,  -999.0,9, -999.00,9, -999.00,9,  -999.0,      74,    23.7911, -999.00,9,     -999.0
33KB20130624,       PRS2,       2,          6,         18,       8018,2,20130626,       0248,  22.750000,-158.0000000,       4740,   100.5,  22.7563,  35.1896,2,  35.1878,2,    216.5,1,  -999.0,9, -999.00,9, -999.00,9,  -999.0,     101,    22.7360, -999.00,9,     -999.0
33KB20130624,       PRS2,       2,          6,         17,       8017,2,20130626,       0248,  22.750000,-158.0000000,       4740,   125.7,  22.0117,  35.2041,2,  35.2046,2,    211.7,1,  -999.0,9, -999.00,9, -999.00,9,  -999.0,     126,    21.9868, -999.00,9,     -999.0
33KB20130624,       PRS2,       2,          6,         16,       8016,2,20130626,       0248,  22.750000,-158.0000000,       4740,   149.9,  21.3939,  35.1889,2,  35.1839,2,    206.5,1,  -999.0,9, -999.00,9, -999.00,9,  -999.0,     150,    21.3648, -999.00,9,     -999.0
33KB20130624,       PRS2,       2,          6,         15,       8015,2,20130626,       0248,  22.750000,-158.0000000,       4740,   176.3,  20.4298,  35.1374,2,  35.1315,2,    198.8,1,  -999.0,9, -999.00,9, -999.00,9,  -999.0,     175,    20.3967, -999.00,9,     -999.0
33KB20130624,       PRS2,       2,          6,         14,       8014,2,20130626,       0248,  22.750000,-158.0000000,       4740,   200.7,  19.8452,  35.0952,2,  35.0923,2,    196.3,1,  -999.0,9, -999.00,9, -999.00,9,  -999.0,     200,    19.8083, -999.00,9,     -999.0
33KB20130624,       PRS2,       2,          6,         13,       8025,2,20130626,       0248,  22.750000,-158.0000000,       4740,   200.5,  19.8155,  35.0893,2,-999.0000,5,    196.4,1,  -999.0,9, -999.00,9, -999.00,9,  -999.0,     200,    19.7786, -999.00,9,     -999.0
33KB20130624,       PRS2,       2,          6,         12,       8012,2,20130626,       0248,  22.750000,-158.0000000,       4740,   250.6,  16.8705,  34.6376,2,  34.6317,2,    188.6,1,  -999.0,9, -999.00,9, -999.00,9,  -999.0,     250,    16.8294, -999.00,9,     -999.0
33KB20130624,       PRS2,       2,          6,         11,       8011,2,20130626,       0248,  22.750000,-158.0000000,       4740,   349.8,  10.8670,  34.1415,2,  34.1475,2,    160.0,1,  -999.0,9, -999.00,9, -999.00,9,  -999.0,     350,    10.8243, -999.00,9,     -999.0
33KB20130624,       PRS2,       2,          6,         10,       8010,2,20130626,       0248,  22.750000,-158.0000000,       4740,   349.6,  10.8559,  34.1424,2,  34.1483,2,    161.0,1,  -999.0,9, -999.00,9, -999.00,9,  -999.0,     350,    10.8133, -999.00,9,     -999.0
33KB20130624,       PRS2,       2,          6,          9,       8009,2,20130626,       0248,  22.750000,-158.0000000,       4740,   400.4,   9.8179,  34.1244,2,  34.1240,2,    170.8,1,  -999.0,9, -999.00,9, -999.00,9,  -999.0,     400,     9.7720, -999.00,9,     -999.0
33KB20130624,       PRS2,       2,          6,          8,       8008,2,20130626,       0248,  22.750000,-158.0000000,       4740,   601.2,   6.3544,  34.2164,2,-999.0000,5,     45.2,1,  -999.0,9, -999.00,9, -999.00,9,  -999.0,     600,     6.3001, -999.00,9,     -999.0
33KB20130624,       PRS2,       2,          6,          7,       8026,2,20130626,       0248,  22.750000,-158.0000000,       4740,   651.1,   5.8685,  34.2600,2,-999.0000,5,     38.0,1,  -999.0,9, -999.00,9, -999.00,9,  -999.0,     650,     5.8118, -999.00,9,     -999.0
33KB20130624,       PRS2,       2,          6,          6,       8006,2,20130626,       0248,  22.750000,-158.0000000,       4740,   701.7,   5.4989,  34.3026,2,-999.0000,5,     33.4,1,  -999.0,9, -999.00,9, -999.00,9,  -999.0,     701,     5.4395, -999.00,9,     -999.0
33KB20130624,       PRS2,       2,          6,          5,       8005,2,20130626,       0248,  22.750000,-158.0000000,       4740,   769.9,   4.9849,  34.3502,2,-999.0000,5,     31.1,1,  -999.0,9, -999.00,9, -999.00,9,  -999.0,     769,     4.9223, -999.00,9,     -999.0
33KB20130624,       PRS2,       2,          6,          4,       8004,2,20130626,       0248,  22.750000,-158.0000000,       4740,   800.6,   4.8447,  34.3769,2,-999.0000,5,     31.3,1,  -999.0,9, -999.00,9, -999.00,9,  -999.0,     802,     4.7803, -999.00,9,     -999.0
33KB20130624,       PRS2,       2,          6,          3,       8003,2,20130626,       0248,  22.750000,-158.0000000,       4740,   900.2,   4.5017,  34.4576,2,-999.0000,5,     37.0,1,  -999.0,9, -999.00,9, -999.00,9,  -999.0,     900,     4.4309, -999.00,9,     -999.0
33KB20130624,       PRS2,       2,          6,          2,       8002,2,20130626,       0248,  22.750000,-158.0000000,       4740,  1019.6,   4.0099,  34.4815,2,-999.0000,5,     43.7,1,  -999.0,9, -999.00,9, -999.00,9,  -999.0,    1019,     3.9326, -999.00,9,     -999.0
33KB20130624,       PRS2,       2,          6,          1,       8001,2,20130626,       0248,  22.750000,-158.0000000,       4740,  1020.0,   4.0093,  34.4814,2,  34.4826,2,     43.7,1,  -999.0,9, -999.00,9, -999.00,9,  -999.0,    1019,     3.9319, -999.00,9,     -999.0
33KB20130624,       PRS2,       2,          7,         23,       8023,2,20130626,       0558,  22.719333,-158.0363333,       4755,     7.2,  25.2469,  35.1834,2,  35.1825,2,    207.4,2,  -999.0,5, -999.00,9, -999.00,9,  -999.0,       7,    25.2453, -999.00,9,     -999.0
33KB20130624,       PRS2,       2,          7,         22,       8022,2,20130626,       0558,  22.719333,-158.0363333,       4755,     7.2,  25.2469,  35.1832,2,  35.1831,2,    207.5,2,   207.8,2, -999.00,9, -999.00,9,  -999.0,       6,    25.2453, -999.00,9,     -999.0
33KB20130624,       PRS2,       2,          7,         21,       8021,2,20130626,       0558,  22.719333,-158.0363333,       4755,    17.0,  25.2435,  35.1825,2,  35.1813,2,    207.6,2,  -999.0,5, -999.00,9, -999.00,9,  -999.0,      17,    25.2398, -999.00,9,     -999.0
33KB20130624,       PRS2,       2,          7,         20,       8020,2,20130626,       0558,  22.719333,-158.0363333,       4755,    25.0,  25.1444,  35.1772,2,  35.1770,2,    207.8,2,  -999.0,5, -999.00,9, -999.00,9,  -999.0,      24,    25.1389, -999.00,9,     -999.0
33KB20130624,       PRS2,       2,          7,         19,       8019,2,20130626,       0558,  22.719333,-158.0363333,       4755,    24.9,  25.1440,  35.1772,2,  35.1770,2,    207.8,2,   208.0,2, -999.00,9, -999.00,9,  -999.0,      24,    25.1385, -999.00,9,     -999.0
33KB20130624,       PRS2,       2,          7,         18,       8018,2,20130626,       0558,  22.719333,-158.0363333,       4755,    35.5,  25.1322,  35.1772,2,  35.1776,2,    207.7,2,  -999.0,5, -999.00,9, -999.00,9,  -999.0,      36,    25.1244, -999.00,9,     -999.0
33KB20130624,       PRS2,       2,          7,         17,       8017,2,20130626,       0558,  22.719333,-158.0363333,       4755,    45.2,  24.7879,  35.1742,2,  35.1750,2,    210.6,2,   212.8,2, -999.00,9, -999.00,9,  -999.0,      45,    24.7782, -999.00,9,     -999.0
33KB20130624,       PRS2,       2,          7,         16,       8016,2,20130626,       0558,  22.719333,-158.0363333,       4755,    60.6,  23.2389,  35.1961,2,  35.1993,2,    218.7,2,  -999.0,5, -999.00,9, -999.00,9,  -999.0,      60,    23.2264, -999.00,9,     -999.0
33KB20130624,       PRS2,       2,          7,         15,       8015,2,20130626,       0558,  22.719333,-158.0363333,       4755,    75.5,  22.8274,  35.2458,2,  35.2493,2,    218.0,2,   217.9,2, -999.00,9, -999.00,9,  -999.0,      75,    22.8120, -999.00,9,     -999.0
33KB20130624,       PRS2,       2,          7,         14,       8014,2,20130626,       0558,  22.719333,-158.0363333,       4755,    85.3,  22.5495,  35.2744,2,  35.2755,2,    216.4,2,   215.7,2, -999.00,9, -999.00,9,  -999.0,      85,    22.5323, -999.00,9,     -999.0
33KB20130624,       PRS2,       2,          7,         13,       8025,2,20130626,       0558,  22.719333,-158.0363333,       4755,    89.8,  22.4919,  35.2781,2,  35.2852,2,    215.8,2,  -999.0,5, -999.00,9, -999.00,9,  -999.0,      89,    22.4738, -999.00,9,     -999.0
33KB20130624,       PRS2,       2,          7,         12,       8012,2,20130626,       0558,  22.719333,-158.0363333,       4755,   100.0,  22.2965,  35.3010,2,  35.2991,2,    213.7,2,   213.9,2, -999.00,9, -999.00,9,  -999.0,     100,    22.2765, -999.00,9,     -999.0
33KB20130624,       PRS2,       2,          7,         11,       8011,2,20130626,       0558,  22.719333,-158.0363333,       4755,   110.2,  22.1668,  35.2850,2,  35.2830,2,    212.7,2,  -999.0,5, -999.00,9, -999.00,9,  -999.0,     110,    22.1449, -999.00,9,     -999.0
33KB20130624,       PRS2,       2,          7,         10,       8010,2,20130626,       0558,  22.719333,-158.0363333,       4755,   115.0,  22.0996,  35.2753,2,  35.2787,2,    212.7,2,   212.3,2, -999.00,9, -999.00,9,  -999.0,     115,    22.0767, -999.00,9,     -999.0
33KB20130624,       PRS2,       2,          7,          9,       8009,2,20130626,       0558,  22.719333,-158.0363333,       4755,   125.3,  21.7709,  35.2536,2,  35.2530,2,    209.9,2,   210.0,2, -999.00,9, -999.00,9,  -999.0,     125,    21.7463, -999.00,9,     -999.0
33KB20130624,       PRS2,       2,          7,          8,       8008,2,20130626,       0558,  22.719333,-158.0363333,       4755,   129.3,  21.7154,  35.2522,2,  35.2471,2,    209.1,2,  -999.0,5, -999.00,9, -999.00,9,  -999.0,     129,    21.6900, -999.00,9,     -999.0
33KB20130624,       PRS2,       2,          7,          7,       8026,2,20130626,       0558,  22.719333,-158.0363333,       4755,   150.8,  20.7308,  35.1769,2,  35.1774,2,    199.3,2,   199.8,2, -999.00,9, -999.00,9,  -999.0,     150,    20.7022, -999.00,9,     -999.0
33KB20130624,       PRS2,       2,          7,          6,       8006,2,20130626,       0558,  22.719333,-158.0363333,       4755,   164.9,  20.2478,  35.1288,2,  35.1307,2,    197.8,2,   197.1,2, -999.00,9, -999.00,9,  -999.0,     165,    20.2170, -999.00,9,     -999.0
33KB20130624,       PRS2,       2,          7,          5,       8005,2,20130626,       0558,  22.719333,-158.0363333,       4755,   174.5,  19.9593,  35.1170,2,  35.1181,2,    196.1,2,   196.7,2, -999.00,9, -999.00,9,  -999.0,     175,    19.9270, -999.00,9,     -999.0
33KB20130624,       PRS2,       2,          7,          4,       8004,2,20130626,       0558,  22.719333,-158.0363333,       4755,   199.9,  18.6623,  34.9231,2,  34.9225,2,    194.3,2,   193.8,2, -999.00,9, -999.00,9,  -999.0,     200,    18.6271, -999.00,9,     -999.0
33KB20130624,       PRS2,       2,          7,          3,       8003,2,20130626,       0558,  22.719333,-158.0363333,       4755,   421.0,   9.1566,  34.1344,2,  34.1354,2,    128.6,2,   129.0,2, -999.00,9, -999.00,9,  -999.0,     421,     9.1103, -999.00,9,     -999.0
33KB20130624,       PRS2,       2,          7,          2,       8002,2,20130626,       0558,  22.719333,-158.0363333,       4755,   699.6,   5.6087,  34.3401,2,  34.3423,2,     29.7,2,    29.9,2, -999.00,9, -999.00,9,  -999.0,     699,     5.5488, -999.00,9,     -999.0
33KB20130624,       PRS2,       2,          7,          1,       8001,2,20130626,       0558,  22.719333,-158.0363333,       4755,  1021.5,   4.0845,  34.4962,2,  34.4987,2,     43.5,2,    43.0,2, -999.00,9, -999.00,9,  -999.0,    1021,     4.0064, -999.00,9,     -999.0
33KB20130624,       PRS2,       2,          8,         18,       8018,2,20130626,       0909,  22.730000,-158.0101667,       4742,     7.4,  25.1720,  35.1820,2,  35.1815,2,    208.2,1,  -999.0,9, -999.00,9, -999.00,9,  -999.0,       7,    25.1704, -999.00,9,     -999.0
33KB20130624,       PRS2,       2,          8,         17,       8017,2,20130626,       0909,  22.730000,-158.0101667,       4742,    24.8,  25.1242,  35.1784,2,  35.1772,2,    208.5,1,  -999.0,9, -999.00,9, -999.00,9,  -999.0,      25,    25.1188, -999.00,9,     -999.0
33KB20130624,       PRS2,       2,          8,         16,       8016,2,20130626,       0909,  22.730000,-158.0101667,       4742,    45.4,  25.0867,  35.1762,2,  35.1770,2,    208.8,1,  -999.0,9, -999.00,9, -999.00,9,  -999.0,      45,    25.0768, -999.00,9,     -999.0
33KB20130624,       PRS2,       2,          8,         15,       8015,2,20130626,       0909,  22.730000,-158.0101667,       4742,    74.2,  23.1586,  35.1857,2,  35.1890,2,    219.8,1,  -999.0,9, -999.00,9, -999.00,9,  -999.0,      74,    23.1434, -999.00,9,     -999.0
33KB20130624,       PRS2,       2,          8,         14,       8014,2,20130626,       0909,  22.730000,-158.0101667,       4742,   100.6,  22.4010,  35.2198,2,  35.2186,2,    214.9,1,  -999.0,9, -999.00,9, -999.00,9,  -999.0,      99,    22.3809, -999.00,9,     -999.0
33KB20130624,       PRS2,       2,          8,         13,       8025,2,20130626,       0909,  22.730000,-158.0101667,       4742,   125.9,  21.4388,  35.2100,2,  35.2144,2,    208.0,1,  -999.0,9, -999.00,9, -999.00,9,  -999.0,     126,    21.4143, -999.00,9,     -999.0
33KB20130624,       PRS2,       2,          8,         12,       8012,2,20130626,       0909,  22.730000,-158.0101667,       4742,   150.6,  20.3745,  35.1409,2,  35.1350,2,    198.6,1,  -999.0,9, -999.00,9, -999.00,9,  -999.0,     150,    20.3463, -999.00,9,     -999.0
33KB20130624,       PRS2,       2,          8,         11,       8011,2,20130626,       0909,  22.730000,-158.0101667,       4742,   175.2,  19.3007,  35.0150,2,  35.0185,2,    193.7,1,  -999.0,9, -999.00,9, -999.00,9,  -999.0,     175,    19.2691, -999.00,9,     -999.0
33KB20130624,       PRS2,       2,          8,         10,       8010,2,20130626,       0909,  22.730000,-158.0101667,       4742,   175.0,  19.2749,  35.0140,2,-999.0000,5,    193.6,1,  -999.0,9, -999.00,9, -999.00,9,  -999.0,     175,    19.2434, -999.00,9,     -999.0
33KB20130624,       PRS2,       2,          8,          9,       8009,2,20130626,       0909,  22.730000,-158.0101667,       4742,   225.7,  16.7262,  34.6167,2,-999.0000,5,    188.3,1,  -999.0,9, -999.00,9, -999.00,9,  -999.0,     226,    16.6894, -999.00,9,     -999.0
33KB20130624,       PRS2,       2,          8,          8,       8008,2,20130626,       0909,  22.730000,-158.0101667,       4742,   251.0,  14.9647,  34.3911,2,-999.0000,5,    186.4,1,  -999.0,9, -999.00,9, -999.00,9,  -999.0,     251,    14.9269, -999.00,9,     -999.0
33KB20130624,       PRS2,       2,          8,          7,       8026,2,20130626,       0909,  22.730000,-158.0101667,       4742,   300.1,  11.8842,  34.1311,2,-999.0000,5,    167.3,1,  -999.0,9, -999.00,9, -999.00,9,  -999.0,     300,    11.8454, -999.00,9,     -999.0
33KB20130624,       PRS2,       2,          8,          6,       8006,2,20130626,       0909,  22.730000,-158.0101667,       4742,   350.6,  10.3086,  34.1463,2,-999.0000,5,    189.6,1,  -999.0,9, -999.00,9, -999.00,9,  -999.0,     350,    10.2672, -999.00,9,     -999.0
33KB20130624,       PRS2,       2,          8,          5,       8005,2,20130626,       0909,  22.730000,-158.0101667,       4742,   401.0,   9.1411,  34.1371,2,-999.0000,5,    129.4,1,  -999.0,9, -999.00,9, -999.00,9,  -999.0,     399,     9.0972, -999.00,9,     -999.0
33KB20130624,       PRS2,       2,          8,          4,       8004,2,20130626,       0909,  22.730000,-158.0101667,       4742,   439.7,   8.4821,  34.1502,2,  34.1524,2,    107.2,1,  -999.0,9, -999.00,9, -999.00,9,  -999.0,     440,     8.4359, -999.00,9,     -999.0
33KB20130624,       PRS2,       2,          8,          3,       8003,2,20130626,       0909,  22.730000,-158.0101667,       4742,   500.0,   7.6312,  34.1791,2,-999.0000,5,     71.1,1,  -999.0,9, -999.00,9, -999.00,9,  -999.0,     499,     7.5816, -999.00,9,     -999.0
33KB20130624,       PRS2,       2,          8,          2,       8002,2,20130626,       0909,  22.730000,-158.0101667,       4742,   550.1,   6.9037,  34.1986,2,-999.0000,5,     53.4,1,  -999.0,9, -999.00,9, -999.00,9,  -999.0,     549,     6.8519, -999.00,9,     -999.0
33KB20130624,       PRS2,       2,          8,          1,       8001,2,20130626,       0909,  22.730000,-158.0101667,       4742,  1019.9,   3.9784,  34.5021,2,  34.5054,2,     45.3,1,  -999.0,9, -999.00,9, -999.00,9,  -999.0,    1019,     3.9013, -999.00,9,     -999.0