BOTTLE,20141031SIOCCHAMB
EXPOCODE,SECT_ID,STNNBR,CASTNO,SAMPNO,BTLNBR,BTLNBR_FLAG_W,DATE,TIME,LATITUDE,LONGITUDE,DEPTH,CTDPRS,CTDTMP,CTDSAL,CTDSAL_FLAG_W,SALNTY,SALNTY_FLAG_W,CTDOXY,CTDOXY_FLAG_W,OXYGEN,OXYGEN_FLAG_W,SILCAT,SILCAT_FLAG_W,PHSPHT,PHSPHT_FLAG_W,REVPRS,CTDRAW,THETA,NO2+NO3,NO2+NO3_FLAG_W,REVTMP
,,,,,,,,,,,METERS,DBAR,ITS-90,PSS-78,,PSS-78,,UMOL/KG,,UMOL/KG,,UMOL/KG,,UMOL/KG,,DBAR,DBAR,ITS-90,UMOL/KG,,DEG C
33KB20130624,       PRS2,       2,          3,         24,       8024,2,20130625,       1504,  22.749833,-157.9996667,       4741,     7.0,  25.0493,  35.1782,2,  35.1772,2,    207.8,2,   208.8,2,    1.23,2,    0.13,2,  -999.0,       6,    25.0478,    0.01,2,     -999.0
33KB20130624,       PRS2,       2,          3,         23,       8023,2,20130625,       1504,  22.749833,-157.9996667,       4741,   501.1,   7.7146,  34.1800,2,  34.1803,2,     71.3,2,    71.5,2,   47.18,2,    2.36,2,  -999.0,     501,     7.6646,   30.61,2,     -999.0
33KB20130624,       PRS2,       2,          3,         22,       8022,2,20130625,       1504,  22.749833,-157.9996667,       4741,   750.8,   5.0821,  34.3882,2,  34.3910,2,     30.9,2,    30.9,2,   88.67,2,    2.98,2,  -999.0,     751,     5.0206,   40.36,2,     -999.0
33KB20130624,       PRS2,       2,          3,         21,       8021,2,20130625,       1504,  22.749833,-157.9996667,       4741,   999.6,   4.0408,  34.4848,2,  34.4846,2,     42.4,2,    42.8,2,  107.89,2,    2.98,2,  -999.0,     999,     3.9649,   40.95,2,     -999.0
33KB20130624,       PRS2,       2,          3,         20,       8020,2,20130625,       1504,  22.749833,-157.9996667,       4741,  1200.4,   3.5465,  34.5290,2,  34.5298,2,     52.4,2,    52.2,2,  118.48,2,    2.98,2,  -999.0,    1200,     3.4580,   41.02,2,     -999.0
33KB20130624,       PRS2,       2,          3,         19,       8019,2,20130625,       1504,  22.749833,-157.9996667,       4741,  1400.5,   3.1006,  34.5606,2,  34.5596,2,     60.3,2,    59.9,2,  128.44,2,    2.96,2,  -999.0,    1401,     3.0000,   40.61,2,     -999.0
33KB20130624,       PRS2,       2,          3,         18,       8018,2,20130625,       1504,  22.749833,-157.9996667,       4741,  1599.6,   2.7502,  34.5736,2,  34.5737,2,     69.7,2,    70.0,2,  136.21,2,    2.88,2,  -999.0,    1600,     2.6371,   40.21,2,     -999.0
33KB20130624,       PRS2,       2,          3,         17,       8017,2,20130625,       1504,  22.749833,-157.9996667,       4741,  1800.3,   2.4362,  34.5973,2,  34.5963,2,     77.8,2,    77.7,2,  143.26,2,    2.86,2,  -999.0,    1800,     2.3103,   39.83,2,     -999.0
33KB20130624,       PRS2,       2,          3,         16,       8016,2,20130625,       1504,  22.749833,-157.9996667,       4741,  2000.2,   2.1889,  34.6155,2,  34.6152,2,     87.3,2,    87.6,2,  148.03,2,    2.80,2,  -999.0,    1999,     2.0497,   39.39,2,     -999.0
33KB20130624,       PRS2,       2,          3,         15,       8015,2,20130625,       1504,  22.749833,-157.9996667,       4741,  2200.7,   1.9886,  34.6295,2,  34.6295,2,     95.1,2,    95.2,2,  152.79,2,    2.75,2,  -999.0,    2201,     1.8352,   39.02,2,     -999.0
33KB20130624,       PRS2,       2,          3,         14,       8014,2,20130625,       1504,  22.749833,-157.9996667,       4741,  2399.8,   1.8240,  34.6413,2,  34.6413,2,    101.2,2,   102.0,2,  156.98,2,    2.72,2,  -999.0,    2399,     1.6560,   38.71,2,     -999.0
33KB20130624,       PRS2,       2,          3,         13,       8025,2,20130625,       1504,  22.749833,-157.9996667,       4741,  2600.1,   1.7361,  34.6510,2,  34.6508,2,    109.2,2,   109.9,2,  157.28,2,    2.67,2,  -999.0,    2600,     1.5517,   38.21,2,     -999.0
33KB20130624,       PRS2,       2,          3,         12,       8012,2,20130625,       1504,  22.749833,-157.9996667,       4741,  2800.6,   1.6559,  34.6581,2,  34.6586,2,    114.9,2,   115.7,2,  158.65,2,    2.65,2,  -999.0,    2801,     1.4546,   37.77,2,     -999.0
33KB20130624,       PRS2,       2,          3,         11,       8011,2,20130625,       1504,  22.749833,-157.9996667,       4741,  3000.1,   1.5919,  34.6649,2,  34.6643,2,    120.4,2,   121.4,2,  158.58,2,    2.61,2,  -999.0,    2999,     1.3732,   37.42,2,     -999.0
33KB20130624,       PRS2,       2,          3,         10,       8010,2,20130625,       1504,  22.749833,-157.9996667,       4741,  3199.9,   1.5425,  34.6706,2,  34.6704,2,    127.5,2,   128.3,2,  157.55,2,    2.58,2,  -999.0,    3199,     1.3055,   37.11,2,     -999.0
33KB20130624,       PRS2,       2,          3,          9,       8009,2,20130625,       1504,  22.749833,-157.9996667,       4741,  3400.1,   1.5018,  34.6755,2,  34.6755,2,    133.5,2,   133.7,2,  156.51,2,    2.55,2,  -999.0,    3400,     1.2457,   36.55,2,     -999.0
33KB20130624,       PRS2,       2,          3,          8,       8008,2,20130625,       1504,  22.749833,-157.9996667,       4741,  3600.6,   1.4658,  34.6802,2,  34.6722,4,    140.1,3,   128.7,4,  157.69,3,    2.57,3,  -999.0,    3601,     1.1902,   36.92,3,     -999.0
33KB20130624,       PRS2,       2,          3,          7,       8026,2,20130625,       1504,  22.749833,-157.9996667,       4741,  3799.6,   1.4565,  34.6830,2,  34.6836,2,    144.3,2,   144.5,2,  153.07,2,    2.49,2,  -999.0,    3800,     1.1603,   35.69,2,     -999.0
33KB20130624,       PRS2,       2,          3,          6,       8006,2,20130625,       1504,  22.749833,-157.9996667,       4741,  3998.7,   1.4556,  34.6848,2,  34.6850,2,    147.4,2,   147.2,2,  151.16,2,    2.47,2,  -999.0,    3998,     1.1381,   35.47,2,     -999.0
33KB20130624,       PRS2,       2,          3,          5,       8005,2,20130625,       1504,  22.749833,-157.9996667,       4741,  4201.0,   1.4668,  34.6857,2,  34.6861,2,    149.1,2,   149.0,2,  150.87,2,    2.47,2,  -999.0,    4200,     1.1267,   35.36,2,     -999.0
33KB20130624,       PRS2,       2,          3,          4,       8004,2,20130625,       1504,  22.749833,-157.9996667,       4741,  4401.6,   1.4814,  34.6869,2,  34.6865,2,    150.9,2,   150.1,2,  149.98,2,    2.46,2,  -999.0,    4405,     1.1183,   35.33,2,     -999.0
33KB20130624,       PRS2,       2,          3,          3,       8003,2,20130625,       1504,  22.749833,-157.9996667,       4741,  4500.2,   1.4904,  34.6869,2,  34.6871,2,    151.2,2,   150.9,2,  149.83,2,    2.46,2,  -999.0,    4500,     1.1157,   35.38,2,     -999.0
33KB20130624,       PRS2,       2,          3,          2,       8002,2,20130625,       1504,  22.749833,-157.9996667,       4741,  4600.2,   1.5000,  34.6870,2,  34.6879,2,    151.5,2,   151.4,2,  149.33,2,    2.46,2,  -999.0,    4602,     1.1134,   35.31,2,     -999.0
33KB20130624,       PRS2,       2,          3,          1,       8001,2,20130625,       1504,  22.749833,-157.9996667,       4741,  4810.0,   1.5247,  34.6870,2,  34.6883,2,    151.6,2,   150.8,2,  149.13,2,    2.48,2,  -999.0,    4810,     1.1125,   35.28,2,     -999.0
33KB20130624,       PRS2,       2,          4,         24,       8024,2,20130625,       2104,  22.751000,-157.9978333,       4743,     9.1,  25.1849,  35.1804,2,  35.1794,2,    208.3,2,   208.2,2,    1.15,2,    0.13,2,  -999.0,       9,    25.1830,    0.09,2,     -999.0
33KB20130624,       PRS2,       2,          4,         23,       8023,2,20130625,       2104,  22.751000,-157.9978333,       4743,    65.6,  23.0591,  35.1631,2,  35.1652,2,    217.2,2,   217.4,2,    1.29,2,    0.14,2,  -999.0,      66,    23.0457,    0.12,2,     -999.0
33KB20130624,       PRS2,       2,          4,         22,       8022,2,20130625,       2104,  22.751000,-157.9978333,       4743,   105.6,  21.6748,  35.1969,2,  35.1939,2,    208.7,2,   208.9,2,    1.50,2,    0.15,2,  -999.0,     105,    21.6542,    0.15,2,     -999.0
33KB20130624,       PRS2,       2,          4,         21,       8021,2,20130625,       2104,  22.751000,-157.9978333,       4743,   116.5,  21.1010,  35.1748,2,  35.1776,2,    204.8,2,   204.3,2,    1.71,2,    0.17,2,  -999.0,     116,    21.0786,    0.57,2,     -999.0
33KB20130624,       PRS2,       2,          4,         20,       8020,2,20130625,       2104,  22.751000,-157.9978333,       4743,   174.5,  19.0273,  34.9705,2,  34.9703,2,    192.9,2,   193.0,2,    2.77,2,    0.27,2,  -999.0,     174,    18.9962,    2.71,2,     -999.0
33KB20130624,       PRS2,       2,          4,         19,       8019,2,20130625,       2104,  22.751000,-157.9978333,       4743,   237.7,  15.3251,  34.4245,2,  34.4267,2,    185.6,2,   184.6,2,    6.17,2,    0.57,2,  -999.0,     237,    15.2887,    6.85,2,     -999.0
33KB20130624,       PRS2,       2,          4,         18,       8018,2,20130625,       2104,  22.751000,-157.9978333,       4743,   275.8,  12.9783,  34.1992,2,  34.1971,2,    181.5,2,   174.8,2,   11.04,2,    0.91,2,  -999.0,     277,    12.9406,   11.60,2,     -999.0
33KB20130624,       PRS2,       2,          4,         17,       8017,2,20130625,       2104,  22.751000,-157.9978333,       4743,   314.2,  11.8094,  34.1343,2,  34.1350,2,    167.2,2,   165.7,2,   14.65,2,    1.12,2,  -999.0,     315,    11.7690,   14.56,2,     -999.0
33KB20130624,       PRS2,       2,          4,         16,       8016,2,20130625,       2104,  22.751000,-157.9978333,       4743,   353.1,  10.7394,  34.1540,2,  34.1546,2,    194.2,2,   187.5,2,   16.84,3,    1.10,3,  -999.0,     352,    10.6967,   15.33,3,     -999.0
33KB20130624,       PRS2,       2,          4,         15,       8015,2,20130625,       2104,  22.751000,-157.9978333,       4743,   398.1,   9.5083,  34.1392,2,  34.1391,2,    142.1,2,   136.9,2,   27.95,2,    1.67,2,  -999.0,     397,     9.4636,   22.31,2,     -999.0
33KB20130624,       PRS2,       2,          4,         14,       8014,2,20130625,       2104,  22.751000,-157.9978333,       4743,   462.7,   7.9042,  34.1394,2,  34.1372,2,     99.2,2,    95.4,2,   43.79,2,    2.17,2,  -999.0,     463,     7.8575,   28.96,2,     -999.0
33KB20130624,       PRS2,       2,          4,         13,       8025,2,20130625,       2104,  22.751000,-157.9978333,       4743,   500.0,   7.4583,  34.1772,2,  34.1770,2,     68.5,2,    68.0,2,   50.02,2,    2.41,2,  -999.0,     500,     7.4093,   32.06,2,     -999.0
33KB20130624,       PRS2,       2,          4,         12,       8012,2,20130625,       2104,  22.751000,-157.9978333,       4743,   539.9,   6.5861,  34.1836,2,  34.1817,2,     53.5,2,    54.6,2,   60.87,2,    2.61,2,  -999.0,     539,     6.5366,   35.14,2,     -999.0
33KB20130624,       PRS2,       2,          4,         11,       8011,2,20130625,       2104,  22.751000,-157.9978333,       4743,   578.5,   6.3695,  34.2288,2,  34.2309,2,     44.2,2,    41.0,2,   65.45,2,    2.73,2,  -999.0,     577,     6.3173,   36.78,2,     -999.0
33KB20130624,       PRS2,       2,          4,         10,       8010,2,20130625,       2104,  22.751000,-157.9978333,       4743,   615.9,   6.1436,  34.2497,2,  34.2499,2,     39.1,2,    38.4,2,   70.22,2,    2.76,2,  -999.0,     616,     6.0888,   37.50,2,     -999.0
33KB20130624,       PRS2,       2,          4,          9,       8009,2,20130625,       2104,  22.751000,-157.9978333,       4743,   688.9,   5.5417,  34.3055,2,  34.3054,2,     32.6,2,    32.4,2,   80.11,2,    2.89,2,  -999.0,     688,     5.4833,   39.46,2,     -999.0
33KB20130624,       PRS2,       2,          4,          8,       8008,2,20130625,       2104,  22.751000,-157.9978333,       4743,   740.1,   4.9775,  34.3367,2,  34.3033,4,     31.9,3,    31.9,2,   79.78,3,    2.88,2,  -999.0,     739,     4.9176,   39.45,3,     -999.0
33KB20130624,       PRS2,       2,          4,          7,       8026,2,20130625,       2104,  22.751000,-157.9978333,       4743,   760.9,   4.9146,  34.3641,2,  34.3766,3,     30.9,3,    30.0,2,   91.07,2,    2.95,2,  -999.0,     761,     4.8532,   40.86,2,     -999.0
33KB20130624,       PRS2,       2,          4,          6,       8006,2,20130625,       2104,  22.751000,-157.9978333,       4743,   827.7,   4.7344,  34.4302,2,  34.4292,2,     34.3,2,    33.9,2,   94.83,2,    2.98,2,  -999.0,     828,     4.6682,   41.10,2,     -999.0
33KB20130624,       PRS2,       2,          4,          5,       8005,2,20130625,       2104,  22.751000,-157.9978333,       4743,   862.6,   4.6567,  34.4432,2,  34.4432,2,     35.4,2,    34.9,2,   97.00,2,    2.98,2,  -999.0,     861,     4.5880,   41.36,2,     -999.0
33KB20130624,       PRS2,       2,          4,          4,       8004,2,20130625,       2104,  22.751000,-157.9978333,       4743,   904.3,   4.4590,  34.4581,2,  34.4577,2,     37.7,2,    39.0,2,  100.61,2,    2.95,2,  -999.0,     905,     4.3881,   41.38,2,     -999.0
33KB20130624,       PRS2,       2,          4,          3,       8003,2,20130625,       2104,  22.751000,-157.9978333,       4743,   942.3,   4.3728,  34.4761,2,  34.4758,2,     39.1,2,    38.6,2,  102.07,2,    2.96,2,  -999.0,     942,     4.2993,   41.52,2,     -999.0
33KB20130624,       PRS2,       2,          4,          2,       8002,2,20130625,       2104,  22.751000,-157.9978333,       4743,   980.6,   4.1599,  34.4904,2,  34.4911,2,     42.2,2,    41.8,2,  106.68,2,    2.96,2,  -999.0,     981,     4.0846,   41.63,2,     -999.0
33KB20130624,       PRS2,       2,          4,          1,       8001,2,20130625,       2104,  22.751000,-157.9978333,       4743,  1021.1,   3.9763,  34.4939,2,  34.4954,2,     44.4,2,    44.2,2,  110.31,2,    2.97,2,  -999.0,    1020,     3.8991,   41.31,2,     -999.0
33KB20130624,       PRS2,       2,          5,         16,       8016,2,20130626,       0008,  22.751833,-157.9958333,       4740,     7.1,  25.2265,  35.1821,2,  35.1813,2,    208.1,1,  -999.0,9, -999.00,9, -999.00,9,  -999.0,       6,    25.2249, -999.00,9,     -999.0
33KB20130624,       PRS2,       2,          5,         15,       8015,2,20130626,       0008,  22.751833,-157.9958333,       4740,    25.9,  25.0783,  35.1778,2,-999.0000,5,    208.4,1,  -999.0,9, -999.00,9, -999.00,9,  -999.0,      25,    25.0727, -999.00,9,     -999.0
33KB20130624,       PRS2,       2,          5,         14,       8014,2,20130626,       0008,  22.751833,-157.9958333,       4740,    25.9,  25.0787,  35.1776,2,  35.1782,2,    208.4,1,  -999.0,9, -999.00,9, -999.00,9,  -999.0,      26,    25.0730, -999.00,9,     -999.0
33KB20130624,       PRS2,       2,          5,         13,       8025,2,20130626,       0008,  22.751833,-157.9958333,       4740,    45.9,  24.4701,  35.1679,2,  35.1687,2,    214.0,1,  -999.0,9, -999.00,9, -999.00,9,  -999.0,      46,    24.4603, -999.00,9,     -999.0
33KB20130624,       PRS2,       2,          5,         12,       8012,2,20130626,       0008,  22.751833,-157.9958333,       4740,    75.5,  22.7581,  35.1767,2,  35.1784,2,    216.8,1,  -999.0,9, -999.00,9, -999.00,9,  -999.0,      75,    22.7428, -999.00,9,     -999.0
33KB20130624,       PRS2,       2,          5,         11,       8011,2,20130626,       0008,  22.751833,-157.9958333,       4740,   101.1,  21.9101,  35.2026,2,  35.1998,2,    210.8,1,  -999.0,9, -999.00,9, -999.00,9,  -999.0,     101,    21.8902, -999.00,9,     -999.0
33KB20130624,       PRS2,       2,          5,         10,       8010,2,20130626,       0008,  22.751833,-157.9958333,       4740,   114.8,  21.5606,  35.1931,2,-999.0000,5,    208.8,1,  -999.0,9, -999.00,9, -999.00,9,  -999.0,     114,    21.5382, -999.00,9,     -999.0
33KB20130624,       PRS2,       2,          5,          9,       8009,2,20130626,       0008,  22.751833,-157.9958333,       4740,   125.4,  21.1295,  35.1759,2,  35.1673,2,    203.9,1,  -999.0,9, -999.00,9, -999.00,9,  -999.0,     125,    21.1054, -999.00,9,     -999.0
33KB20130624,       PRS2,       2,          5,          8,       8008,2,20130626,       0008,  22.751833,-157.9958333,       4740,   150.3,  19.9736,  35.0913,2,-999.0000,5,    196.3,1,  -999.0,9, -999.00,9, -999.00,9,  -999.0,     150,    19.9458, -999.00,9,     -999.0
33KB20130624,       PRS2,       2,          5,          7,       8026,2,20130626,       0008,  22.751833,-157.9958333,       4740,   175.5,  18.9463,  34.9580,2,  34.9632,2,    193.0,1,  -999.0,9, -999.00,9, -999.00,9,  -999.0,     175,    18.9151, -999.00,9,     -999.0
33KB20130624,       PRS2,       2,          5,          6,       8006,2,20130626,       0008,  22.751833,-157.9958333,       4740,   200.3,  17.7720,  34.7714,2,  34.7860,2,    189.7,1,  -999.0,9, -999.00,9, -999.00,9,  -999.0,     199,    17.7379, -999.00,9,     -999.0
33KB20130624,       PRS2,       2,          5,          5,       8005,2,20130626,       0008,  22.751833,-157.9958333,       4740,   251.2,  14.9565,  34.3855,2,  34.3784,2,    184.3,1,  -999.0,9, -999.00,9, -999.00,9,  -999.0,     251,    14.9186, -999.00,9,     -999.0
33KB20130624,       PRS2,       2,          5,          4,       8004,2,20130626,       0008,  22.751833,-157.9958333,       4740,   350.6,  10.5535,  34.1524,2,  34.1436,2,    197.1,1,  -999.0,9, -999.00,9, -999.00,9,  -999.0,     350,    10.5115, -999.00,9,     -999.0
33KB20130624,       PRS2,       2,          5,          3,       8003,2,20130626,       0008,  22.751833,-157.9958333,       4740,   350.6,  10.4515,  34.1412,2,  34.1405,2,    196.3,1,  -999.0,9, -999.00,9, -999.00,9,  -999.0,     350,    10.4098, -999.00,9,     -999.0
33KB20130624,       PRS2,       2,          5,          2,       8002,2,20130626,       0008,  22.751833,-157.9958333,       4740,   420.2,   8.5870,  34.1337,2,  34.1350,2,    116.4,1,  -999.0,9, -999.00,9, -999.00,9,  -999.0,     420,     8.5425, -999.00,9,     -999.0
33KB20130624,       PRS2,       2,          5,          1,       8001,2,20130626,       0008,  22.751833,-157.9958333,       4740,  1020.1,   4.0449,  34.4812,2,  34.4815,2,     43.1,1,  -999.0,9, -999.00,9, -999.00,9,  -999.0,    1020,     3.9673, -999.00,9,     -999.0