BOTTLE,20141031SIOCCHAMB
EXPOCODE,SECT_ID,STNNBR,CASTNO,SAMPNO,BTLNBR,BTLNBR_FLAG_W,DATE,TIME,LATITUDE,LONGITUDE,DEPTH,CTDPRS,CTDTMP,CTDSAL,CTDSAL_FLAG_W,SALNTY,SALNTY_FLAG_W,CTDOXY,CTDOXY_FLAG_W,OXYGEN,OXYGEN_FLAG_W,SILCAT,SILCAT_FLAG_W,PHSPHT,PHSPHT_FLAG_W,REVPRS,CTDRAW,THETA,NO2+NO3,NO2+NO3_FLAG_W,REVTMP
,,,,,,,,,,,METERS,DBAR,ITS-90,PSS-78,,PSS-78,,UMOL/KG,,UMOL/KG,,UMOL/KG,,UMOL/KG,,DBAR,DBAR,ITS-90,UMOL/KG,,DEG C
33KB20130624,       PRS2,       1,          1,         24,       8024,2,20130624,       2330,  21.342833,-158.2733333,       1554,     7.0,  26.2849,  35.2162,2,  35.2164,2,    203.5,2,   203.8,2, -999.00,9, -999.00,9,  -999.0,       7,    26.2833, -999.00,9,     -999.0
33KB20130624,       PRS2,       1,          1,         23,       8023,2,20130624,       2330,  21.342833,-158.2733333,       1554,     7.1,  26.2862,  35.2162,2,  35.2162,2,    203.6,2,   203.8,2, -999.00,9, -999.00,9,  -999.0,       7,    26.2846, -999.00,9,     -999.0
33KB20130624,       PRS2,       1,          1,         22,       8022,2,20130624,       2330,  21.342833,-158.2733333,       1554,    25.6,  26.1341,  35.2131,2,  35.2132,2,    203.6,2,   204.1,2, -999.00,9, -999.00,9,  -999.0,      26,    26.1284, -999.00,9,     -999.0
33KB20130624,       PRS2,       1,          1,         21,       8021,2,20130624,       2330,  21.342833,-158.2733333,       1554,    44.8,  26.0929,  35.2112,2,  35.2121,2,    204.3,2,   203.8,2, -999.00,9, -999.00,9,  -999.0,      45,    26.0829, -999.00,9,     -999.0
33KB20130624,       PRS2,       1,          1,         20,       8020,2,20130624,       2330,  21.342833,-158.2733333,       1554,    60.5,  26.0807,  35.2091,2,  35.2119,2,    204.7,2,   205.5,2, -999.00,9, -999.00,9,  -999.0,      61,    26.0672, -999.00,9,     -999.0
33KB20130624,       PRS2,       1,          1,         19,       8019,2,20130624,       2330,  21.342833,-158.2733333,       1554,    74.8,  25.9440,  35.1685,2,  35.1656,2,    205.6,2,   205.2,2, -999.00,9, -999.00,9,  -999.0,      74,    25.9273, -999.00,9,     -999.0
33KB20130624,       PRS2,       1,          1,         18,       8018,2,20130624,       2330,  21.342833,-158.2733333,       1554,   100.6,  22.4563,  35.2487,2,  35.2708,3,    211.7,3,   210.0,2, -999.00,9, -999.00,9,  -999.0,     100,    22.4361, -999.00,9,     -999.0
33KB20130624,       PRS2,       1,          1,         17,       8017,2,20130624,       2330,  21.342833,-158.2733333,       1554,   114.7,  21.1263,  35.2063,2,  35.2063,2,    201.8,2,   202.8,2, -999.00,9, -999.00,9,  -999.0,     115,    21.1042, -999.00,9,     -999.0
33KB20130624,       PRS2,       1,          1,         16,       8016,2,20130624,       2330,  21.342833,-158.2733333,       1554,   125.2,  20.8166,  35.1906,2,  35.1920,2,    202.0,2,   201.6,2, -999.00,9, -999.00,9,  -999.0,     126,    20.7928, -999.00,9,     -999.0
33KB20130624,       PRS2,       1,          1,         15,       8015,2,20130624,       2330,  21.342833,-158.2733333,       1554,   150.5,  19.4255,  35.0332,2,  35.0209,2,    194.0,2,   193.8,2, -999.00,9, -999.00,9,  -999.0,     151,    19.3983, -999.00,9,     -999.0
33KB20130624,       PRS2,       1,          1,         14,       8014,2,20130624,       2330,  21.342833,-158.2733333,       1554,   175.2,  17.7150,  34.7732,2,  34.7714,2,    187.2,2,   187.6,2, -999.00,9, -999.00,9,  -999.0,     175,    17.6853, -999.00,9,     -999.0
33KB20130624,       PRS2,       1,          1,         13,       8025,2,20130624,       2330,  21.342833,-158.2733333,       1554,   200.2,  16.8436,  34.6561,2,  34.6376,2,    184.1,2,   183.9,2, -999.00,9, -999.00,9,  -999.0,     199,    16.8109, -999.00,9,     -999.0
33KB20130624,       PRS2,       1,          1,         12,       8012,2,20130624,       2330,  21.342833,-158.2733333,       1554,   225.8,  15.9266,  34.5382,2,  34.5298,2,    181.0,2,   181.4,2, -999.00,9, -999.00,9,  -999.0,     225,    15.8911, -999.00,9,     -999.0
33KB20130624,       PRS2,       1,          1,         11,       8011,2,20130624,       2330,  21.342833,-158.2733333,       1554,   250.7,  15.0159,  34.4387,2,  34.4347,2,    178.5,2,   178.5,2, -999.00,9, -999.00,9,  -999.0,     250,    14.9780, -999.00,9,     -999.0
33KB20130624,       PRS2,       1,          1,         10,       8010,2,20130624,       2330,  21.342833,-158.2733333,       1554,   300.7,  12.3296,  34.1958,2,  34.1932,2,    172.1,2,   171.9,2, -999.00,9, -999.00,9,  -999.0,     300,    12.2898, -999.00,9,     -999.0
33KB20130624,       PRS2,       1,          1,          9,       8009,2,20130624,       2330,  21.342833,-158.2733333,       1554,   350.0,   9.7899,  34.1354,2,  34.1364,2,    149.5,2,   148.3,2, -999.00,9, -999.00,9,  -999.0,     350,     9.7499, -999.00,9,     -999.0
33KB20130624,       PRS2,       1,          1,          8,       8008,2,20130624,       2330,  21.342833,-158.2733333,       1554,   400.7,   8.7202,  34.1276,2,  34.1287,2,    127.1,2,   128.9,2, -999.00,9, -999.00,9,  -999.0,     401,     8.6775, -999.00,9,     -999.0
33KB20130624,       PRS2,       1,          1,          7,       8026,2,20130624,       2330,  21.342833,-158.2733333,       1554,   500.5,   6.5066,  34.1660,2,  34.1683,2,     62.2,2,    61.9,2, -999.00,9, -999.00,9,  -999.0,     500,     6.4612, -999.00,9,     -999.0
33KB20130624,       PRS2,       1,          1,          6,       8006,2,20130624,       2330,  21.342833,-158.2733333,       1554,   600.3,   5.7481,  34.2872,2,  34.2938,2,     36.0,2,    34.9,2, -999.00,9, -999.00,9,  -999.0,     599,     5.6966, -999.00,9,     -999.0
33KB20130624,       PRS2,       1,          1,          5,       8005,2,20130624,       2330,  21.342833,-158.2733333,       1554,   700.3,   5.3014,  34.3978,2,  34.3980,2,     33.3,2,    33.4,2, -999.00,9, -999.00,9,  -999.0,     700,     5.2431, -999.00,9,     -999.0
33KB20130624,       PRS2,       1,          1,          4,       8004,2,20130624,       2330,  21.342833,-158.2733333,       1554,   750.7,   5.1885,  34.4191,2,  34.4202,2,     34.1,2,    34.5,2, -999.00,9, -999.00,9,  -999.0,     750,     5.1263, -999.00,9,     -999.0
33KB20130624,       PRS2,       1,          1,          3,       8003,2,20130624,       2330,  21.342833,-158.2733333,       1554,   900.7,   4.6644,  34.4752,2,  34.4742,2,     41.9,2,    41.7,2, -999.00,9, -999.00,9,  -999.0,     900,     4.5924, -999.00,9,     -999.0
33KB20130624,       PRS2,       1,          1,          2,       8002,2,20130624,       2330,  21.342833,-158.2733333,       1554,   900.8,   4.6645,  34.4751,2,  34.4736,2,     41.9,2,    42.5,2, -999.00,9, -999.00,9,  -999.0,     900,     4.5924, -999.00,9,     -999.0
33KB20130624,       PRS2,       1,          1,          1,       8001,2,20130624,       2330,  21.342833,-158.2733333,       1554,  1020.4,   4.1907,  34.4958,2,  34.4976,2,     44.8,2,    44.6,2, -999.00,9, -999.00,9,  -999.0,    1020,     4.1118, -999.00,9,     -999.0
33KB20130624,       PRS2,       2,          1,         24,       8024,2,20130625,       0954,  22.750167,-158.0366667,       4750,    25.9,  25.1570,  35.1766,2,-999.0000,9,    208.6,1,  -999.0,9, -999.00,9, -999.00,9,  -999.0,      25,    25.1513, -999.00,9,     -999.0
33KB20130624,       PRS2,       2,          1,         23,       8023,2,20130625,       0954,  22.750167,-158.0366667,       4750,    26.1,  25.1574,  35.1766,2,-999.0000,9,    208.6,1,  -999.0,9, -999.00,9, -999.00,9,  -999.0,      26,    25.1517, -999.00,9,     -999.0
33KB20130624,       PRS2,       2,          1,         22,       8022,2,20130625,       0954,  22.750167,-158.0366667,       4750,    26.1,  25.1575,  35.1765,2,-999.0000,9,    208.5,1,  -999.0,9, -999.00,9, -999.00,9,  -999.0,      26,    25.1518, -999.00,9,     -999.0
33KB20130624,       PRS2,       2,          1,         21,       8021,2,20130625,       0954,  22.750167,-158.0366667,       4750,    25.9,  25.1575,  35.1766,2,-999.0000,9,    208.4,1,  -999.0,9, -999.00,9, -999.00,9,  -999.0,      27,    25.1519, -999.00,9,     -999.0
33KB20130624,       PRS2,       2,          1,         20,       8020,2,20130625,       0954,  22.750167,-158.0366667,       4750,    25.8,  25.1572,  35.1766,2,-999.0000,9,    208.5,1,  -999.0,9, -999.00,9, -999.00,9,  -999.0,      25,    25.1516, -999.00,9,     -999.0
33KB20130624,       PRS2,       2,          1,         19,       8019,2,20130625,       0954,  22.750167,-158.0366667,       4750,    26.0,  25.1571,  35.1766,2,-999.0000,9,    208.5,1,  -999.0,9, -999.00,9, -999.00,9,  -999.0,      25,    25.1515, -999.00,9,     -999.0
33KB20130624,       PRS2,       2,          1,         18,       8018,2,20130625,       0954,  22.750167,-158.0366667,       4750,    26.1,  25.1557,  35.1764,2,-999.0000,9,    208.4,1,  -999.0,9, -999.00,9, -999.00,9,  -999.0,      25,    25.1500, -999.00,9,     -999.0
33KB20130624,       PRS2,       2,          1,         17,       8017,2,20130625,       0954,  22.750167,-158.0366667,       4750,    26.0,  25.1557,  35.1762,2,-999.0000,9,    208.4,1,  -999.0,9, -999.00,9, -999.00,9,  -999.0,      26,    25.1500, -999.00,9,     -999.0
33KB20130624,       PRS2,       2,          1,         16,       8016,2,20130625,       0954,  22.750167,-158.0366667,       4750,    26.0,  25.1562,  35.1764,2,-999.0000,9,    208.4,1,  -999.0,9, -999.00,9, -999.00,9,  -999.0,      25,    25.1506, -999.00,9,     -999.0
33KB20130624,       PRS2,       2,          1,         15,       8015,2,20130625,       0954,  22.750167,-158.0366667,       4750,    26.2,  25.1556,  35.1761,2,-999.0000,9,    208.4,1,  -999.0,9, -999.00,9, -999.00,9,  -999.0,      25,    25.1499, -999.00,9,     -999.0
33KB20130624,       PRS2,       2,          1,         14,       8014,2,20130625,       0954,  22.750167,-158.0366667,       4750,    25.9,  25.1556,  35.1761,2,-999.0000,9,    208.5,1,  -999.0,9, -999.00,9, -999.00,9,  -999.0,      26,    25.1500, -999.00,9,     -999.0
33KB20130624,       PRS2,       2,          1,         13,       8025,2,20130625,       0954,  22.750167,-158.0366667,       4750,    25.7,  25.1558,  35.1761,2,-999.0000,9,    208.6,1,  -999.0,9, -999.00,9, -999.00,9,  -999.0,      26,    25.1502, -999.00,9,     -999.0
33KB20130624,       PRS2,       2,          1,         12,       8012,2,20130625,       0954,  22.750167,-158.0366667,       4750,    25.9,  25.1555,  35.1760,2,-999.0000,9,    208.6,1,  -999.0,9, -999.00,9, -999.00,9,  -999.0,      25,    25.1498, -999.00,9,     -999.0
33KB20130624,       PRS2,       2,          1,         11,       8011,2,20130625,       0954,  22.750167,-158.0366667,       4750,    26.0,  25.1558,  35.1762,2,-999.0000,9,    208.5,1,  -999.0,9, -999.00,9, -999.00,9,  -999.0,      25,    25.1502, -999.00,9,     -999.0
33KB20130624,       PRS2,       2,          1,         10,       8010,2,20130625,       0954,  22.750167,-158.0366667,       4750,    26.0,  25.1562,  35.1760,2,-999.0000,9,    208.5,1,  -999.0,9, -999.00,9, -999.00,9,  -999.0,      26,    25.1506, -999.00,9,     -999.0
33KB20130624,       PRS2,       2,          1,          9,       8009,2,20130625,       0954,  22.750167,-158.0366667,       4750,    26.1,  25.1573,  35.1760,2,-999.0000,9,    208.5,1,  -999.0,9, -999.00,9, -999.00,9,  -999.0,      26,    25.1516, -999.00,9,     -999.0
33KB20130624,       PRS2,       2,          1,          8,       8008,2,20130625,       0954,  22.750167,-158.0366667,       4750,    26.1,  25.1574,  35.1758,2,-999.0000,9,    208.5,1,  -999.0,9, -999.00,9, -999.00,9,  -999.0,      25,    25.1517, -999.00,9,     -999.0
33KB20130624,       PRS2,       2,          1,          7,       8026,2,20130625,       0954,  22.750167,-158.0366667,       4750,    25.8,  25.1554,  35.1759,2,-999.0000,9,    208.5,1,  -999.0,9, -999.00,9, -999.00,9,  -999.0,      25,    25.1498, -999.00,9,     -999.0
33KB20130624,       PRS2,       2,          1,          6,       8006,2,20130625,       0954,  22.750167,-158.0366667,       4750,    25.8,  25.1541,  35.1753,2,-999.0000,9,    207.8,1,  -999.0,9, -999.00,9, -999.00,9,  -999.0,      26,    25.1484, -999.00,9,     -999.0
33KB20130624,       PRS2,       2,          1,          5,       8005,2,20130625,       0954,  22.750167,-158.0366667,       4750,    26.0,  25.1537,  35.1753,2,-999.0000,9,    207.8,1,  -999.0,9, -999.00,9, -999.00,9,  -999.0,      25,    25.1481, -999.00,9,     -999.0
33KB20130624,       PRS2,       2,          1,          4,       8004,2,20130625,       0954,  22.750167,-158.0366667,       4750,    26.1,  25.1536,  35.1753,2,-999.0000,9,    207.8,1,  -999.0,9, -999.00,9, -999.00,9,  -999.0,      25,    25.1480, -999.00,9,     -999.0
33KB20130624,       PRS2,       2,          1,          3,       8003,2,20130625,       0954,  22.750167,-158.0366667,       4750,    25.8,  25.1531,  35.1753,2,-999.0000,9,    207.8,1,  -999.0,9, -999.00,9, -999.00,9,  -999.0,      26,    25.1475, -999.00,9,     -999.0
33KB20130624,       PRS2,       2,          1,          2,       8002,2,20130625,       0954,  22.750167,-158.0366667,       4750,    25.8,  25.1533,  35.1752,2,-999.0000,9,    207.9,1,  -999.0,9, -999.00,9, -999.00,9,  -999.0,      26,    25.1477, -999.00,9,     -999.0
33KB20130624,       PRS2,       2,          1,          1,       8001,2,20130625,       0954,  22.750167,-158.0366667,       4750,    26.0,  25.1530,  35.1752,2,-999.0000,9,    207.9,1,  -999.0,9, -999.00,9, -999.00,9,  -999.0,      25,    25.1474, -999.00,9,     -999.0
33KB20130624,       PRS2,       2,          2,         24,       8024,2,20130625,       1212,  22.749667,-158.0365000,       4752,     8.4,  25.1091,  35.1761,2,  35.1780,2,    207.9,1,  -999.0,9, -999.00,9, -999.00,9,  -999.0,       8,    25.1073, -999.00,9,     -999.0
33KB20130624,       PRS2,       2,          2,         23,       8023,2,20130625,       1212,  22.749667,-158.0365000,       4752,     8.1,  25.1087,  35.1763,2,  35.1788,2,    207.9,1,  -999.0,9, -999.00,9, -999.00,9,  -999.0,       7,    25.1070, -999.00,9,     -999.0
33KB20130624,       PRS2,       2,          2,         22,       8022,2,20130625,       1212,  22.749667,-158.0365000,       4752,     8.0,  25.1065,  35.1762,2,  35.1772,2,    208.6,1,  -999.0,9, -999.00,9, -999.00,9,  -999.0,       7,    25.1047, -999.00,9,     -999.0
33KB20130624,       PRS2,       2,          2,         21,       8021,2,20130625,       1212,  22.749667,-158.0365000,       4752,    26.0,  25.1080,  35.1760,2,-999.0000,5,    208.9,1,  -999.0,9, -999.00,9, -999.00,9,  -999.0,      25,    25.1024, -999.00,9,     -999.0
33KB20130624,       PRS2,       2,          2,         20,       8020,2,20130625,       1212,  22.749667,-158.0365000,       4752,    25.8,  25.1054,  35.1761,2,  35.1778,2,    208.8,1,  -999.0,9, -999.00,9, -999.00,9,  -999.0,      25,    25.0997, -999.00,9,     -999.0
33KB20130624,       PRS2,       2,          2,         19,       8019,2,20130625,       1212,  22.749667,-158.0365000,       4752,    25.9,  25.1054,  35.1760,2,  35.1774,2,    208.7,1,  -999.0,9, -999.00,9, -999.00,9,  -999.0,      26,    25.0997, -999.00,9,     -999.0
33KB20130624,       PRS2,       2,          2,         18,       8018,2,20130625,       1212,  22.749667,-158.0365000,       4752,    25.9,  25.1048,  35.1760,2,  35.1766,2,    208.6,1,  -999.0,9, -999.00,9, -999.00,9,  -999.0,      26,    25.0991, -999.00,9,     -999.0
33KB20130624,       PRS2,       2,          2,         17,       8017,2,20130625,       1212,  22.749667,-158.0365000,       4752,    44.9,  24.9899,  35.1698,2,  35.1736,2,    208.8,1,  -999.0,9, -999.00,9, -999.00,9,  -999.0,      45,    24.9802, -999.00,9,     -999.0
33KB20130624,       PRS2,       2,          2,         16,       8016,2,20130625,       1212,  22.749667,-158.0365000,       4752,    45.0,  24.9768,  35.1709,2,  35.1740,2,    209.1,1,  -999.0,9, -999.00,9, -999.00,9,  -999.0,      44,    24.9671, -999.00,9,     -999.0
33KB20130624,       PRS2,       2,          2,         15,       8015,2,20130625,       1212,  22.749667,-158.0365000,       4752,    45.1,  24.9341,  35.1715,2,  35.1760,2,    209.7,1,  -999.0,9, -999.00,9, -999.00,9,  -999.0,      44,    24.9244, -999.00,9,     -999.0
33KB20130624,       PRS2,       2,          2,         14,       8014,2,20130625,       1212,  22.749667,-158.0365000,       4752,    75.7,  22.4825,  35.2213,2,  35.2341,2,    215.0,1,  -999.0,9, -999.00,9, -999.00,9,  -999.0,      75,    22.4673, -999.00,9,     -999.0
33KB20130624,       PRS2,       2,          2,         13,       8025,2,20130625,       1212,  22.749667,-158.0365000,       4752,    76.1,  22.4863,  35.2225,2,  35.2363,3,    215.0,1,  -999.0,9, -999.00,9, -999.00,9,  -999.0,      75,    22.4710, -999.00,9,     -999.0
33KB20130624,       PRS2,       2,          2,         12,       8012,2,20130625,       1212,  22.749667,-158.0365000,       4752,    76.1,  22.4799,  35.2238,2,  35.2446,3,    215.0,1,  -999.0,9, -999.00,9, -999.00,9,  -999.0,      75,    22.4646, -999.00,9,     -999.0
33KB20130624,       PRS2,       2,          2,         11,       8011,2,20130625,       1212,  22.749667,-158.0365000,       4752,   102.1,  21.7687,  35.2508,2,  35.2493,2,    211.2,1,  -999.0,9, -999.00,9, -999.00,9,  -999.0,     102,    21.7487, -999.00,9,     -999.0
33KB20130624,       PRS2,       2,          2,         10,       8010,2,20130625,       1212,  22.749667,-158.0365000,       4752,   102.1,  21.7683,  35.2508,2,  35.2489,2,    210.8,1,  -999.0,9, -999.00,9, -999.00,9,  -999.0,     101,    21.7482, -999.00,9,     -999.0
33KB20130624,       PRS2,       2,          2,          9,       8009,2,20130625,       1212,  22.749667,-158.0365000,       4752,   101.8,  21.7675,  35.2503,2,  35.2467,2,    210.4,1,  -999.0,9, -999.00,9, -999.00,9,  -999.0,     102,    21.7475, -999.00,9,     -999.0
33KB20130624,       PRS2,       2,          2,          8,       8008,2,20130625,       1212,  22.749667,-158.0365000,       4752,   126.2,  21.0349,  35.2081,2,  35.2119,2,    202.0,1,  -999.0,9, -999.00,9, -999.00,9,  -999.0,     125,    21.0107, -999.00,9,     -999.0
33KB20130624,       PRS2,       2,          2,          7,       8026,2,20130625,       1212,  22.749667,-158.0365000,       4752,   126.0,  21.0337,  35.2091,2,  35.2113,2,    202.1,1,  -999.0,9, -999.00,9, -999.00,9,  -999.0,     125,    21.0096, -999.00,9,     -999.0
33KB20130624,       PRS2,       2,          2,          6,       8006,2,20130625,       1212,  22.749667,-158.0365000,       4752,   125.7,  21.0375,  35.2089,2,  35.2099,2,    202.0,1,  -999.0,9, -999.00,9, -999.00,9,  -999.0,     125,    21.0134, -999.00,9,     -999.0
33KB20130624,       PRS2,       2,          2,          5,       8005,2,20130625,       1212,  22.749667,-158.0365000,       4752,   149.9,  20.2242,  35.1444,2,  35.1380,2,    197.1,1,  -999.0,9, -999.00,9, -999.00,9,  -999.0,     150,    20.1962, -999.00,9,     -999.0
33KB20130624,       PRS2,       2,          2,          4,       8004,2,20130625,       1212,  22.749667,-158.0365000,       4752,   175.5,  19.3352,  35.0316,2,  35.0201,2,    195.4,1,  -999.0,9, -999.00,9, -999.00,9,  -999.0,     175,    19.3036, -999.00,9,     -999.0
33KB20130624,       PRS2,       2,          2,          3,       8003,2,20130625,       1212,  22.749667,-158.0365000,       4752,   400.4,   9.0702,  34.1544,2,  34.1544,2,    115.7,1,  -999.0,9, -999.00,9, -999.00,9,  -999.0,     399,     9.0265, -999.00,9,     -999.0
33KB20130624,       PRS2,       2,          2,          2,       8002,2,20130625,       1212,  22.749667,-158.0365000,       4752,   600.7,   6.4184,  34.2335,2,-999.0000,5,     42.3,1,  -999.0,9, -999.00,9, -999.00,9,  -999.0,     601,     6.3639, -999.00,9,     -999.0
33KB20130624,       PRS2,       2,          2,          1,       8001,2,20130625,       1212,  22.749667,-158.0365000,       4752,  1020.7,   4.0532,  34.4977,2,  34.4983,2,     44.0,1,  -999.0,9, -999.00,9, -999.00,9,  -999.0,    1020,     3.9754, -999.00,9,     -999.0