BOTTLE,20141031SIOCCHAMB
EXPOCODE,SECT_ID,STNNBR,CASTNO,SAMPNO,BTLNBR,BTLNBR_FLAG_W,DATE,TIME,LATITUDE,LONGITUDE,DEPTH,CTDPRS,CTDTMP,CTDSAL,CTDSAL_FLAG_W,SALNTY,SALNTY_FLAG_W,CTDOXY,CTDOXY_FLAG_W,OXYGEN,OXYGEN_FLAG_W,SILCAT,SILCAT_FLAG_W,PHSPHT,PHSPHT_FLAG_W,REVPRS,CTDRAW,THETA,NO2+NO3,NO2+NO3_FLAG_W,REVTMP
,,,,,,,,,,,METERS,DBAR,ITS-90,PSS-78,,PSS-78,,UMOL/KG,,UMOL/KG,,UMOL/KG,,UMOL/KG,,DBAR,DBAR,ITS-90,UMOL/KG,,DEG C
33KB20130624,       PRS2,       2,          9,         17,       8017,2,20130626,       1151,  22.729500,-158.0101667,       4742,     8.3,  25.1609,  35.1836,2,  35.1829,2,    208.2,1,  -999.0,9, -999.00,9, -999.00,9,  -999.0,       8,    25.1591, -999.00,9,     -999.0
33KB20130624,       PRS2,       2,          9,         16,       8016,2,20130626,       1151,  22.729500,-158.0101667,       4742,     8.2,  25.1614,  35.1836,2,  35.1829,2,    208.2,1,  -999.0,9, -999.00,9, -999.00,9,  -999.0,       8,    25.1596, -999.00,9,     -999.0
33KB20130624,       PRS2,       2,          9,         15,       8015,2,20130626,       1151,  22.729500,-158.0101667,       4742,    24.8,  25.1619,  35.1832,2,-999.0000,5,    208.2,1,  -999.0,9, -999.00,9, -999.00,9,  -999.0,      24,    25.1565, -999.00,9,     -999.0
33KB20130624,       PRS2,       2,          9,         14,       8014,2,20130626,       1151,  22.729500,-158.0101667,       4742,    24.8,  25.1625,  35.1832,2,-999.0000,5,    208.1,1,  -999.0,9, -999.00,9, -999.00,9,  -999.0,      24,    25.1571, -999.00,9,     -999.0
33KB20130624,       PRS2,       2,          9,         13,       8025,2,20130626,       1151,  22.729500,-158.0101667,       4742,    24.9,  25.1629,  35.1830,2,  35.1827,2,    208.1,1,  -999.0,9, -999.00,9, -999.00,9,  -999.0,      24,    25.1575, -999.00,9,     -999.0
33KB20130624,       PRS2,       2,          9,         12,       8012,2,20130626,       1151,  22.729500,-158.0101667,       4742,    24.9,  25.1632,  35.1829,2,  35.1809,2,    208.0,1,  -999.0,9, -999.00,9, -999.00,9,  -999.0,      25,    25.1578, -999.00,9,     -999.0
33KB20130624,       PRS2,       2,          9,         11,       8011,2,20130626,       1151,  22.729500,-158.0101667,       4742,    46.1,  24.0370,  35.1844,2,  35.1827,2,    215.1,1,  -999.0,9, -999.00,9, -999.00,9,  -999.0,      46,    24.0273, -999.00,9,     -999.0
33KB20130624,       PRS2,       2,          9,         10,       8010,2,20130626,       1151,  22.729500,-158.0101667,       4742,    46.0,  24.0161,  35.1838,2,  35.1813,2,    215.4,1,  -999.0,9, -999.00,9, -999.00,9,  -999.0,      45,    24.0064, -999.00,9,     -999.0
33KB20130624,       PRS2,       2,          9,          9,       8009,2,20130626,       1151,  22.729500,-158.0101667,       4742,    75.5,  22.4502,  35.1978,2,-999.0000,5,    214.4,1,  -999.0,9, -999.00,9, -999.00,9,  -999.0,      74,    22.4351, -999.00,9,     -999.0
33KB20130624,       PRS2,       2,          9,          8,       8008,2,20130626,       1151,  22.729500,-158.0101667,       4742,    75.4,  22.4449,  35.1977,2,  35.1973,2,    214.2,1,  -999.0,9, -999.00,9, -999.00,9,  -999.0,      75,    22.4298, -999.00,9,     -999.0
33KB20130624,       PRS2,       2,          9,          7,       8026,2,20130626,       1151,  22.729500,-158.0101667,       4742,    75.4,  22.4412,  35.1979,2,  35.1975,2,    214.0,1,  -999.0,9, -999.00,9, -999.00,9,  -999.0,      75,    22.4261, -999.00,9,     -999.0
33KB20130624,       PRS2,       2,          9,          6,       8006,3,20130626,       1151,  22.729500,-158.0101667,       4742,   100.9,  21.1422,  35.1756,2,  35.1754,2,    205.4,1,  -999.0,9, -999.00,9, -999.00,9,  -999.0,     101,    21.1228, -999.00,9,     -999.0
33KB20130624,       PRS2,       2,          9,          5,       8005,2,20130626,       1151,  22.729500,-158.0101667,       4742,   101.0,  21.1380,  35.1760,2,  35.1768,2,    205.1,1,  -999.0,9, -999.00,9, -999.00,9,  -999.0,     100,    21.1186, -999.00,9,     -999.0
33KB20130624,       PRS2,       2,          9,          4,       8004,2,20130626,       1151,  22.729500,-158.0101667,       4742,   125.3,  20.3852,  35.1427,2,  35.1433,2,    199.1,1,  -999.0,9, -999.00,9, -999.00,9,  -999.0,     125,    20.3617, -999.00,9,     -999.0
33KB20130624,       PRS2,       2,          9,          3,       8003,2,20130626,       1151,  22.729500,-158.0101667,       4742,   125.3,  20.3872,  35.1429,2,  35.1413,2,    198.9,1,  -999.0,9, -999.00,9, -999.00,9,  -999.0,     125,    20.3637, -999.00,9,     -999.0
33KB20130624,       PRS2,       2,          9,          2,       8002,2,20130626,       1151,  22.729500,-158.0101667,       4742,   380.2,   9.4896,  34.1135,2,  34.1179,2,    168.3,1,  -999.0,9, -999.00,9, -999.00,9,  -999.0,     380,     9.4469, -999.00,9,     -999.0
33KB20130624,       PRS2,       2,          9,          1,       8001,2,20130626,       1151,  22.729500,-158.0101667,       4742,  1019.9,   4.0976,  34.4987,2,  34.4989,2,     42.9,1,  -999.0,9, -999.00,9, -999.00,9,  -999.0,    1020,     4.0196, -999.00,9,     -999.0
33KB20130624,       PRS2,       2,         10,         14,       8014,2,20130626,       1449,  22.751667,-158.0718333,       4759,     8.9,  25.0825,  35.1818,2,  35.1827,2,    207.6,1,  -999.0,9, -999.00,9, -999.00,9,  -999.0,       8,    25.0806, -999.00,9,     -999.0
33KB20130624,       PRS2,       2,         10,         13,       8025,2,20130626,       1449,  22.751667,-158.0718333,       4759,     8.8,  25.0813,  35.1818,2,-999.0000,5,    207.7,1,  -999.0,9, -999.00,9, -999.00,9,  -999.0,       9,    25.0794, -999.00,9,     -999.0
33KB20130624,       PRS2,       2,         10,         12,       8012,2,20130626,       1449,  22.751667,-158.0718333,       4759,     8.8,  25.0817,  35.1816,2,-999.0000,5,    207.7,1,  -999.0,9, -999.00,9, -999.00,9,  -999.0,       8,    25.0798, -999.00,9,     -999.0
33KB20130624,       PRS2,       2,         10,         11,       8011,2,20130626,       1449,  22.751667,-158.0718333,       4759,     8.7,  25.0788,  35.1817,2,-999.0000,5,    207.8,1,  -999.0,9, -999.00,9, -999.00,9,  -999.0,       9,    25.0769, -999.00,9,     -999.0
33KB20130624,       PRS2,       2,         10,         10,       8010,2,20130626,       1449,  22.751667,-158.0718333,       4759,     8.7,  25.0780,  35.1819,2,-999.0000,5,    207.9,1,  -999.0,9, -999.00,9, -999.00,9,  -999.0,       9,    25.0761, -999.00,9,     -999.0
33KB20130624,       PRS2,       2,         10,          9,       8009,2,20130626,       1449,  22.751667,-158.0718333,       4759,     8.8,  25.0794,  35.1820,2,-999.0000,5,    208.0,1,  -999.0,9, -999.00,9, -999.00,9,  -999.0,       8,    25.0775, -999.00,9,     -999.0
33KB20130624,       PRS2,       2,         10,          8,       8008,2,20130626,       1449,  22.751667,-158.0718333,       4759,     8.9,  25.0786,  35.1816,2,-999.0000,5,    208.0,1,  -999.0,9, -999.00,9, -999.00,9,  -999.0,       8,    25.0766, -999.00,9,     -999.0
33KB20130624,       PRS2,       2,         10,          7,       8026,2,20130626,       1449,  22.751667,-158.0718333,       4759,   410.9,   9.4773,  34.1385,2,  34.1401,2,    137.4,1,  -999.0,9, -999.00,9, -999.00,9,  -999.0,     410,     9.4312, -999.00,9,     -999.0
33KB20130624,       PRS2,       2,         10,          6,       8006,2,20130626,       1449,  22.751667,-158.0718333,       4759,  1020.5,   4.0821,  34.4949,2,-999.0000,5,     43.8,1,  -999.0,9, -999.00,9, -999.00,9,  -999.0,    1021,     4.0041, -999.00,9,     -999.0
33KB20130624,       PRS2,       2,         10,          5,       8005,2,20130626,       1449,  22.751667,-158.0718333,       4759,  1020.6,   4.0846,  34.4947,2,-999.0000,5,     43.8,1,  -999.0,9, -999.00,9, -999.00,9,  -999.0,    1020,     4.0066, -999.00,9,     -999.0
33KB20130624,       PRS2,       2,         10,          4,       8004,2,20130626,       1449,  22.751667,-158.0718333,       4759,  1020.6,   4.0880,  34.4945,2,-999.0000,5,     43.8,1,  -999.0,9, -999.00,9, -999.00,9,  -999.0,    1021,     4.0099, -999.00,9,     -999.0
33KB20130624,       PRS2,       2,         10,          3,       8003,2,20130626,       1449,  22.751667,-158.0718333,       4759,  1020.8,   4.0882,  34.4944,2,-999.0000,5,     43.8,1,  -999.0,9, -999.00,9, -999.00,9,  -999.0,    1019,     4.0102, -999.00,9,     -999.0
33KB20130624,       PRS2,       2,         10,          2,       8002,2,20130626,       1449,  22.751667,-158.0718333,       4759,  1020.5,   4.0872,  34.4948,2,-999.0000,5,     43.8,1,  -999.0,9, -999.00,9, -999.00,9,  -999.0,    1019,     4.0092, -999.00,9,     -999.0
33KB20130624,       PRS2,       2,         10,          1,       8001,2,20130626,       1449,  22.751667,-158.0718333,       4759,  1020.6,   4.0842,  34.4945,2,  34.4962,2,     43.8,1,  -999.0,9, -999.00,9, -999.00,9,  -999.0,    1020,     4.0062, -999.00,9,     -999.0
33KB20130624,       PRS2,       2,         11,         23,       8023,2,20130626,       1752,  22.750167,-157.9995000,       4740,     7.7,  25.1886,  35.1863,2,-999.0000,5,    206.9,1,  -999.0,9, -999.00,9, -999.00,9,  -999.0,       7,    25.1869, -999.00,9,     -999.0
33KB20130624,       PRS2,       2,         11,         22,       8022,2,20130626,       1752,  22.750167,-157.9995000,       4740,     7.5,  25.1891,  35.1864,2,  35.1857,2,    206.9,1,  -999.0,9, -999.00,9, -999.00,9,  -999.0,       7,    25.1874, -999.00,9,     -999.0
33KB20130624,       PRS2,       2,         11,         21,       8021,2,20130626,       1752,  22.750167,-157.9995000,       4740,    25.3,  25.1726,  35.1850,2,-999.0000,5,    207.1,1,  -999.0,9, -999.00,9, -999.00,9,  -999.0,      25,    25.1671, -999.00,9,     -999.0
33KB20130624,       PRS2,       2,         11,         20,       8020,2,20130626,       1752,  22.750167,-157.9995000,       4740,    25.2,  25.1729,  35.1848,2,-999.0000,5,    207.2,1,  -999.0,9, -999.00,9, -999.00,9,  -999.0,      25,    25.1674, -999.00,9,     -999.0
33KB20130624,       PRS2,       2,         11,         19,       8019,2,20130626,       1752,  22.750167,-157.9995000,       4740,    25.2,  25.1726,  35.1850,2,  35.1851,2,    207.2,1,  -999.0,9, -999.00,9, -999.00,9,  -999.0,      24,    25.1671, -999.00,9,     -999.0
33KB20130624,       PRS2,       2,         11,         18,       8018,2,20130626,       1752,  22.750167,-157.9995000,       4740,    46.0,  25.1131,  35.1786,2,-999.0000,5,    208.1,1,  -999.0,9, -999.00,9, -999.00,9,  -999.0,      46,    25.1031, -999.00,9,     -999.0
33KB20130624,       PRS2,       2,         11,         17,       8017,2,20130626,       1752,  22.750167,-157.9995000,       4740,    46.1,  25.1110,  35.1787,2,-999.0000,5,    208.1,1,  -999.0,9, -999.00,9, -999.00,9,  -999.0,      45,    25.1010, -999.00,9,     -999.0
33KB20130624,       PRS2,       2,         11,         16,       8016,2,20130626,       1752,  22.750167,-157.9995000,       4740,    46.0,  25.1106,  35.1789,2,  35.1807,2,    208.2,1,  -999.0,9, -999.00,9, -999.00,9,  -999.0,      45,    25.1006, -999.00,9,     -999.0
33KB20130624,       PRS2,       2,         11,         15,       8015,2,20130626,       1752,  22.750167,-157.9995000,       4740,    75.2,  23.1127,  35.1677,2,-999.0000,5,    217.9,1,  -999.0,9, -999.00,9, -999.00,9,  -999.0,      74,    23.0973, -999.00,9,     -999.0
33KB20130624,       PRS2,       2,         11,         14,       8014,2,20130626,       1752,  22.750167,-157.9995000,       4740,    75.2,  23.1132,  35.1677,2,-999.0000,5,    217.8,1,  -999.0,9, -999.00,9, -999.00,9,  -999.0,      74,    23.0978, -999.00,9,     -999.0
33KB20130624,       PRS2,       2,         11,         13,       8025,2,20130626,       1752,  22.750167,-157.9995000,       4740,    75.0,  23.1193,  35.1675,2,  35.1746,2,    217.7,1,  -999.0,9, -999.00,9, -999.00,9,  -999.0,      75,    23.1039, -999.00,9,     -999.0
33KB20130624,       PRS2,       2,         11,         12,       8012,2,20130626,       1752,  22.750167,-157.9995000,       4740,   100.4,  22.4812,  35.2018,2,-999.0000,5,    214.0,1,  -999.0,9, -999.00,9, -999.00,9,  -999.0,     101,    22.4610, -999.00,9,     -999.0
33KB20130624,       PRS2,       2,         11,         11,       8011,2,20130626,       1752,  22.750167,-157.9995000,       4740,   100.4,  22.4809,  35.2016,2,  35.2028,2,    213.9,1,  -999.0,9, -999.00,9, -999.00,9,  -999.0,     100,    22.4608, -999.00,9,     -999.0
33KB20130624,       PRS2,       2,         11,         10,       8010,2,20130626,       1752,  22.750167,-157.9995000,       4740,   124.7,  21.6552,  35.1956,2,-999.0000,5,    208.6,1,  -999.0,9, -999.00,9, -999.00,9,  -999.0,     124,    21.6308, -999.00,9,     -999.0
33KB20130624,       PRS2,       2,         11,          9,       8009,2,20130626,       1752,  22.750167,-157.9995000,       4740,   124.7,  21.6538,  35.1959,2,-999.0000,5,    208.7,1,  -999.0,9, -999.00,9, -999.00,9,  -999.0,     124,    21.6294, -999.00,9,     -999.0
33KB20130624,       PRS2,       2,         11,          8,       8008,2,20130626,       1752,  22.750167,-157.9995000,       4740,   124.6,  21.6362,  35.1963,2,  35.1955,2,    209.2,1,  -999.0,9, -999.00,9, -999.00,9,  -999.0,     125,    21.6119, -999.00,9,     -999.0
33KB20130624,       PRS2,       2,         11,          7,       8026,2,20130626,       1752,  22.750167,-157.9995000,       4740,   149.8,  21.0498,  35.1750,2,-999.0000,5,    203.2,1,  -999.0,9, -999.00,9, -999.00,9,  -999.0,     149,    21.0210, -999.00,9,     -999.0
33KB20130624,       PRS2,       2,         11,          6,       8006,2,20130626,       1752,  22.750167,-157.9995000,       4740,   149.8,  21.0302,  35.1735,2,  35.1742,2,    203.3,1,  -999.0,9, -999.00,9, -999.00,9,  -999.0,     150,    21.0014, -999.00,9,     -999.0
33KB20130624,       PRS2,       2,         11,          5,       8005,2,20130626,       1752,  22.750167,-157.9995000,       4740,   174.5,  20.0400,  35.1013,2,-999.0000,5,    196.6,1,  -999.0,9, -999.00,9, -999.00,9,  -999.0,     174,    20.0077, -999.00,9,     -999.0
33KB20130624,       PRS2,       2,         11,          4,       8004,2,20130626,       1752,  22.750167,-157.9995000,       4740,   174.6,  20.0142,  35.0994,2,-999.0000,5,    196.4,1,  -999.0,9, -999.00,9, -999.00,9,  -999.0,     174,    19.9819, -999.00,9,     -999.0
33KB20130624,       PRS2,       2,         11,          3,       8003,2,20130626,       1752,  22.750167,-157.9995000,       4740,   174.4,  19.8984,  35.0869,2,  35.0931,2,    195.7,1,  -999.0,9, -999.00,9, -999.00,9,  -999.0,     174,    19.8663, -999.00,9,     -999.0
33KB20130624,       PRS2,       2,         11,          2,       8002,2,20130626,       1752,  22.750167,-157.9995000,       4740,   450.7,   8.3635,  34.1373,2,  34.1370,2,    107.2,1,  -999.0,9, -999.00,9, -999.00,9,  -999.0,     450,     8.3165, -999.00,9,     -999.0
33KB20130624,       PRS2,       2,         11,          1,       8001,2,20130626,       1752,  22.750167,-157.9995000,       4740,  1020.6,   3.9849,  34.4875,2,  34.4881,2,     44.2,1,  -999.0,9, -999.00,9, -999.00,9,  -999.0,    1020,     3.9077, -999.00,9,     -999.0