BOTTLE,20141031SIOCCHAMB
EXPOCODE,SECT_ID,STNNBR,CASTNO,SAMPNO,BTLNBR,BTLNBR_FLAG_W,DATE,TIME,LATITUDE,LONGITUDE,DEPTH,CTDPRS,CTDTMP,CTDSAL,CTDSAL_FLAG_W,SALNTY,SALNTY_FLAG_W,CTDOXY,CTDOXY_FLAG_W,OXYGEN,OXYGEN_FLAG_W,SILCAT,SILCAT_FLAG_W,PHSPHT,PHSPHT_FLAG_W,REVPRS,CTDRAW,THETA,NO2+NO3,NO2+NO3_FLAG_W,REVTMP
,,,,,,,,,,,METERS,DBAR,ITS-90,PSS-78,,PSS-78,,UMOL/KG,,UMOL/KG,,UMOL/KG,,UMOL/KG,,DBAR,DBAR,ITS-90,UMOL/KG,,DEG C
33KB20130624,       PRS2,       2,         12,         24,       8024,2,20130626,       2049,  22.739333,-157.9910000,       4741,     9.6,  25.3692,  35.1924,2,  35.1924,2,    207.1,1,  -999.0,9, -999.00,9, -999.00,9,  -999.0,       9,    25.3671, -999.00,9,     -999.0
33KB20130624,       PRS2,       2,         12,         23,       8023,2,20130626,       2049,  22.739333,-157.9910000,       4741,     9.6,  25.3714,  35.1924,2,-999.0000,5,    207.0,1,  -999.0,9, -999.00,9, -999.00,9,  -999.0,       9,    25.3693, -999.00,9,     -999.0
33KB20130624,       PRS2,       2,         12,         22,       8022,2,20130626,       2049,  22.739333,-157.9910000,       4741,     9.7,  25.3710,  35.1922,2,-999.0000,5,    206.9,1,  -999.0,9, -999.00,9, -999.00,9,  -999.0,       9,    25.3689, -999.00,9,     -999.0
33KB20130624,       PRS2,       2,         12,         21,       8021,2,20130626,       2049,  22.739333,-157.9910000,       4741,    25.9,  25.2467,  35.1879,2,-999.0000,5,    207.0,1,  -999.0,9, -999.00,9, -999.00,9,  -999.0,      25,    25.2411, -999.00,9,     -999.0
33KB20130624,       PRS2,       2,         12,         20,       8020,2,20130626,       2049,  22.739333,-157.9910000,       4741,    25.8,  25.2493,  35.1884,2,-999.0000,5,    207.0,1,  -999.0,9, -999.00,9, -999.00,9,  -999.0,      25,    25.2437, -999.00,9,     -999.0
33KB20130624,       PRS2,       2,         12,         19,       8019,2,20130626,       2049,  22.739333,-157.9910000,       4741,    26.0,  25.2498,  35.1881,2,-999.0000,5,    207.0,1,  -999.0,9, -999.00,9, -999.00,9,  -999.0,      26,    25.2441, -999.00,9,     -999.0
33KB20130624,       PRS2,       2,         12,         18,       8018,2,20130626,       2049,  22.739333,-157.9910000,       4741,    26.0,  25.2498,  35.1880,2,-999.0000,5,    207.0,1,  -999.0,9, -999.00,9, -999.00,9,  -999.0,      26,    25.2441, -999.00,9,     -999.0
33KB20130624,       PRS2,       2,         12,         17,       8017,2,20130626,       2049,  22.739333,-157.9910000,       4741,    45.2,  25.2058,  35.1837,2,-999.0000,5,    207.7,1,  -999.0,9, -999.00,9, -999.00,9,  -999.0,      45,    25.1959, -999.00,9,     -999.0
33KB20130624,       PRS2,       2,         12,         16,       8016,2,20130626,       2049,  22.739333,-157.9910000,       4741,    45.1,  25.2056,  35.1840,2,-999.0000,5,    207.4,1,  -999.0,9, -999.00,9, -999.00,9,  -999.0,      45,    25.1958, -999.00,9,     -999.0
33KB20130624,       PRS2,       2,         12,         15,       8015,2,20130626,       2049,  22.739333,-157.9910000,       4741,    60.7,  23.7168,  35.1828,2,-999.0000,5,    219.5,1,  -999.0,9, -999.00,9, -999.00,9,  -999.0,      60,    23.7041, -999.00,9,     -999.0
33KB20130624,       PRS2,       2,         12,         14,       8014,2,20130626,       2049,  22.739333,-157.9910000,       4741,    75.5,  22.9526,  35.1996,2,-999.0000,5,    217.3,1,  -999.0,9, -999.00,9, -999.00,9,  -999.0,      75,    22.9372, -999.00,9,     -999.0
33KB20130624,       PRS2,       2,         12,         13,       8025,2,20130626,       2049,  22.739333,-157.9910000,       4741,    75.5,  22.9524,  35.1993,2,-999.0000,5,    217.5,1,  -999.0,9, -999.00,9, -999.00,9,  -999.0,      76,    22.9370, -999.00,9,     -999.0
33KB20130624,       PRS2,       2,         12,         12,       8012,2,20130626,       2049,  22.739333,-157.9910000,       4741,   100.4,  22.4206,  35.2538,2,-999.0000,5,    214.7,1,  -999.0,9, -999.00,9, -999.00,9,  -999.0,     101,    22.4005, -999.00,9,     -999.0
33KB20130624,       PRS2,       2,         12,         11,       8011,2,20130626,       2049,  22.739333,-157.9910000,       4741,   100.4,  22.4234,  35.2539,2,-999.0000,5,    214.5,1,  -999.0,9, -999.00,9, -999.00,9,  -999.0,     100,    22.4033, -999.00,9,     -999.0
33KB20130624,       PRS2,       2,         12,         10,       8010,2,20130626,       2049,  22.739333,-157.9910000,       4741,   100.4,  22.4199,  35.2535,2,-999.0000,5,    214.2,1,  -999.0,9, -999.00,9, -999.00,9,  -999.0,     100,    22.3997, -999.00,9,     -999.0
33KB20130624,       PRS2,       2,         12,          9,       8009,2,20130626,       2049,  22.739333,-157.9910000,       4741,   125.5,  21.6924,  35.2176,2,-999.0000,5,    209.8,1,  -999.0,9, -999.00,9, -999.00,9,  -999.0,     125,    21.6678, -999.00,9,     -999.0
33KB20130624,       PRS2,       2,         12,          8,       8008,2,20130626,       2049,  22.739333,-157.9910000,       4741,   125.7,  21.6906,  35.2177,2,-999.0000,5,    209.6,1,  -999.0,9, -999.00,9, -999.00,9,  -999.0,     125,    21.6660, -999.00,9,     -999.0
33KB20130624,       PRS2,       2,         12,          7,       8026,2,20130626,       2049,  22.739333,-157.9910000,       4741,   146.4,  21.0322,  35.1732,2,-999.0000,5,    203.5,1,  -999.0,9, -999.00,9, -999.00,9,  -999.0,     146,    21.0041, -999.00,9,     -999.0
33KB20130624,       PRS2,       2,         12,          6,       8006,2,20130626,       2049,  22.739333,-157.9910000,       4741,   151.2,  20.7008,  35.1537,2,-999.0000,5,    200.6,1,  -999.0,9, -999.00,9, -999.00,9,  -999.0,     151,    20.6722, -999.00,9,     -999.0
33KB20130624,       PRS2,       2,         12,          5,       8005,2,20130626,       2049,  22.739333,-157.9910000,       4741,   151.5,  20.6258,  35.1562,2,-999.0000,5,    200.6,1,  -999.0,9, -999.00,9, -999.00,9,  -999.0,     151,    20.5972, -999.00,9,     -999.0
33KB20130624,       PRS2,       2,         12,          4,       8004,2,20130626,       2049,  22.739333,-157.9910000,       4741,   175.9,  19.5831,  35.0591,2,-999.0000,5,    193.5,1,  -999.0,9, -999.00,9, -999.00,9,  -999.0,     176,    19.5511, -999.00,9,     -999.0
33KB20130624,       PRS2,       2,         12,          3,       8003,2,20130626,       2049,  22.739333,-157.9910000,       4741,   176.0,  19.5843,  35.0581,2,-999.0000,5,    193.5,1,  -999.0,9, -999.00,9, -999.00,9,  -999.0,     175,    19.5523, -999.00,9,     -999.0
33KB20130624,       PRS2,       2,         12,          2,       8002,2,20130626,       2049,  22.739333,-157.9910000,       4741,   574.9,   6.1765,  34.1510,2,  34.1536,2,     55.9,1,  -999.0,9, -999.00,9, -999.00,9,  -999.0,     575,     6.1255, -999.00,9,     -999.0
33KB20130624,       PRS2,       2,         12,          1,       8001,2,20130626,       2049,  22.739333,-157.9910000,       4741,  1019.5,   4.0275,  34.4785,2,  34.4805,2,     43.5,1,  -999.0,9, -999.00,9, -999.00,9,  -999.0,    1019,     3.9501, -999.00,9,     -999.0
33KB20130624,       PRS2,       2,         13,         23,       8023,2,20130626,       2342,  22.731500,-157.9818333,       4741,     6.6,  25.3651,  35.1902,2,  35.1900,2,    207.5,1,  -999.0,9, -999.00,9, -999.00,9,  -999.0,       6,    25.3637, -999.00,9,     -999.0
33KB20130624,       PRS2,       2,         13,         22,       8022,2,20130626,       2342,  22.731500,-157.9818333,       4741,    25.0,  25.2632,  35.1870,2,  35.1872,2,    208.0,1,  -999.0,9, -999.00,9, -999.00,9,  -999.0,      24,    25.2577, -999.00,9,     -999.0
33KB20130624,       PRS2,       2,         13,         21,       8021,2,20130626,       2342,  22.731500,-157.9818333,       4741,    44.8,  25.1721,  35.1786,2,  35.1784,2,    207.5,1,  -999.0,9, -999.00,9, -999.00,9,  -999.0,      43,    25.1623, -999.00,9,     -999.0
33KB20130624,       PRS2,       2,         13,         20,       8020,2,20130626,       2342,  22.731500,-157.9818333,       4741,    75.6,  22.9530,  35.2436,2,  35.2515,2,    218.1,1,  -999.0,9, -999.00,9, -999.00,9,  -999.0,      75,    22.9376, -999.00,9,     -999.0
33KB20130624,       PRS2,       2,         13,         19,       8019,2,20130626,       2342,  22.731500,-157.9818333,       4741,   100.3,  22.3119,  35.2815,2,  35.2818,2,    213.7,1,  -999.0,9, -999.00,9, -999.00,9,  -999.0,     101,    22.2919, -999.00,9,     -999.0
33KB20130624,       PRS2,       2,         13,         18,       8018,2,20130626,       2342,  22.731500,-157.9818333,       4741,   124.8,  21.4522,  35.2274,2,  35.2227,2,    207.0,1,  -999.0,9, -999.00,9, -999.00,9,  -999.0,     125,    21.4280, -999.00,9,     -999.0
33KB20130624,       PRS2,       2,         13,         17,       8017,2,20130626,       2342,  22.731500,-157.9818333,       4741,   150.8,  20.7094,  35.1687,2,  35.1632,2,    201.6,1,  -999.0,9, -999.00,9, -999.00,9,  -999.0,     150,    20.6808, -999.00,9,     -999.0
33KB20130624,       PRS2,       2,         13,         16,       8016,2,20130626,       2342,  22.731500,-157.9818333,       4741,   200.2,  18.1823,  34.8385,2,-999.0000,5,    191.7,1,  -999.0,9, -999.00,9, -999.00,9,  -999.0,     199,    18.1477, -999.00,9,     -999.0
33KB20130624,       PRS2,       2,         13,         15,       8015,2,20130626,       2342,  22.731500,-157.9818333,       4741,   200.2,  18.1718,  34.8387,2,-999.0000,5,    191.7,1,  -999.0,9, -999.00,9, -999.00,9,  -999.0,     199,    18.1373, -999.00,9,     -999.0
33KB20130624,       PRS2,       2,         13,         14,       8014,2,20130626,       2342,  22.731500,-157.9818333,       4741,   250.2,  15.1225,  34.4033,2,  34.3925,2,    183.8,1,  -999.0,9, -999.00,9, -999.00,9,  -999.0,     250,    15.0845, -999.00,9,     -999.0
33KB20130624,       PRS2,       2,         13,         13,       8025,2,20130626,       2342,  22.731500,-157.9818333,       4741,   300.3,  12.0542,  34.1243,2,-999.0000,5,    174.2,1,  -999.0,9, -999.00,9, -999.00,9,  -999.0,     300,    12.0151, -999.00,9,     -999.0
33KB20130624,       PRS2,       2,         13,         12,       8012,2,20130626,       2342,  22.731500,-157.9818333,       4741,   300.4,  12.0535,  34.1245,2,-999.0000,5,    173.9,1,  -999.0,9, -999.00,9, -999.00,9,  -999.0,     299,    12.0143, -999.00,9,     -999.0
33KB20130624,       PRS2,       2,         13,         11,       8011,2,20130626,       2342,  22.731500,-157.9818333,       4741,   351.0,  10.4147,  34.1384,2,  34.1391,2,    147.5,1,  -999.0,9, -999.00,9, -999.00,9,  -999.0,     351,    10.3730, -999.00,9,     -999.0
33KB20130624,       PRS2,       2,         13,         10,       8010,2,20130626,       2342,  22.731500,-157.9818333,       4741,   400.6,   9.1480,  34.1357,2,-999.0000,5,    128.7,1,  -999.0,9, -999.00,9, -999.00,9,  -999.0,     401,     9.1041, -999.00,9,     -999.0
33KB20130624,       PRS2,       2,         13,          9,       8009,2,20130626,       2342,  22.731500,-157.9818333,       4741,   499.9,   7.2592,  34.1895,2,-999.0000,5,     60.9,1,  -999.0,9, -999.00,9, -999.00,9,  -999.0,     499,     7.2110, -999.00,9,     -999.0
33KB20130624,       PRS2,       2,         13,          8,       8008,2,20130626,       2342,  22.731500,-157.9818333,       4741,   499.8,   7.2273,  34.1913,2,-999.0000,5,     59.8,1,  -999.0,9, -999.00,9, -999.00,9,  -999.0,     499,     7.1792, -999.00,9,     -999.0
33KB20130624,       PRS2,       2,         13,          7,       8026,2,20130626,       2342,  22.731500,-157.9818333,       4741,   575.9,   6.0393,  34.1531,2,  34.1532,2,     52.5,1,  -999.0,9, -999.00,9, -999.00,9,  -999.0,     575,     5.9888, -999.00,9,     -999.0
33KB20130624,       PRS2,       2,         13,          6,       8006,2,20130626,       2342,  22.731500,-157.9818333,       4741,   599.5,   5.8234,  34.1996,2,-999.0000,5,     46.7,1,  -999.0,9, -999.00,9, -999.00,9,  -999.0,     600,     5.7717, -999.00,9,     -999.0
33KB20130624,       PRS2,       2,         13,          5,       8005,2,20130626,       2342,  22.731500,-157.9818333,       4741,   700.2,   5.1971,  34.3281,2,-999.0000,5,     32.6,1,  -999.0,9, -999.00,9, -999.00,9,  -999.0,     701,     5.1395, -999.00,9,     -999.0
33KB20130624,       PRS2,       2,         13,          4,       8004,2,20130626,       2342,  22.731500,-157.9818333,       4741,   769.9,   4.6829,  34.3543,2,-999.0000,5,     30.6,1,  -999.0,9, -999.00,9, -999.00,9,  -999.0,     770,     4.6222, -999.00,9,     -999.0
33KB20130624,       PRS2,       2,         13,          3,       8003,2,20130626,       2342,  22.731500,-157.9818333,       4741,   800.0,   4.6013,  34.3778,2,-999.0000,5,     31.8,1,  -999.0,9, -999.00,9, -999.00,9,  -999.0,     799,     4.5385, -999.00,9,     -999.0
33KB20130624,       PRS2,       2,         13,          2,       8002,2,20130626,       2342,  22.731500,-157.9818333,       4741,   899.9,   4.4695,  34.4655,2,-999.0000,5,     37.3,1,  -999.0,9, -999.00,9, -999.00,9,  -999.0,     900,     4.3989, -999.00,9,     -999.0
33KB20130624,       PRS2,       2,         13,          1,       8001,2,20130626,       2342,  22.731500,-157.9818333,       4741,  1020.1,   3.9472,  34.4906,2,  34.4923,2,     45.4,1,  -999.0,9, -999.00,9, -999.00,9,  -999.0,    1020,     3.8703, -999.00,9,     -999.0
33KB20130624,       PRS2,       2,         14,         21,       8021,2,20130627,       0250,  22.732167,-157.9821667,       4741,     7.2,  25.5360,  35.1911,2,-999.0000,5,    206.5,1,  -999.0,9, -999.00,9, -999.00,9,  -999.0,       7,    25.5345, -999.00,9,     -999.0
33KB20130624,       PRS2,       2,         14,         20,       8020,2,20130627,       0250,  22.732167,-157.9821667,       4741,    25.5,  25.3575,  35.1898,2,-999.0000,5,    206.8,1,  -999.0,9, -999.00,9, -999.00,9,  -999.0,      25,    25.3519, -999.00,9,     -999.0
33KB20130624,       PRS2,       2,         14,         19,       8019,2,20130627,       0250,  22.732167,-157.9821667,       4741,    25.5,  25.3582,  35.1899,2,-999.0000,5,    206.9,1,  -999.0,9, -999.00,9, -999.00,9,  -999.0,      26,    25.3526, -999.00,9,     -999.0
33KB20130624,       PRS2,       2,         14,         18,       8018,2,20130627,       0250,  22.732167,-157.9821667,       4741,    25.6,  25.3604,  35.1898,2,-999.0000,5,    207.1,1,  -999.0,9, -999.00,9, -999.00,9,  -999.0,      25,    25.3548, -999.00,9,     -999.0
33KB20130624,       PRS2,       2,         14,         17,       8017,2,20130627,       0250,  22.732167,-157.9821667,       4741,    25.6,  25.3575,  35.1896,2,-999.0000,5,    207.3,1,  -999.0,9, -999.00,9, -999.00,9,  -999.0,      25,    25.3519, -999.00,9,     -999.0
33KB20130624,       PRS2,       2,         14,         16,       8016,2,20130627,       0250,  22.732167,-157.9821667,       4741,    25.6,  25.3573,  35.1897,2,-999.0000,5,    207.5,1,  -999.0,9, -999.00,9, -999.00,9,  -999.0,      25,    25.3517, -999.00,9,     -999.0
33KB20130624,       PRS2,       2,         14,         15,       8015,2,20130627,       0250,  22.732167,-157.9821667,       4741,    25.6,  25.3609,  35.1895,2,-999.0000,5,    207.6,1,  -999.0,9, -999.00,9, -999.00,9,  -999.0,      25,    25.3553, -999.00,9,     -999.0
33KB20130624,       PRS2,       2,         14,         14,       8014,2,20130627,       0250,  22.732167,-157.9821667,       4741,    25.5,  25.3709,  35.1900,2,-999.0000,5,    207.7,1,  -999.0,9, -999.00,9, -999.00,9,  -999.0,      25,    25.3653, -999.00,9,     -999.0
33KB20130624,       PRS2,       2,         14,         13,       8025,2,20130627,       0250,  22.732167,-157.9821667,       4741,    25.6,  25.3719,  35.1900,2,  35.1876,2,    207.7,1,  -999.0,9, -999.00,9, -999.00,9,  -999.0,      25,    25.3663, -999.00,9,     -999.0
33KB20130624,       PRS2,       2,         14,         12,       8012,2,20130627,       0250,  22.732167,-157.9821667,       4741,    45.5,  25.2287,  35.1837,2,-999.0000,5,    206.6,1,  -999.0,9, -999.00,9, -999.00,9,  -999.0,      46,    25.2188, -999.00,9,     -999.0
33KB20130624,       PRS2,       2,         14,         11,       8011,2,20130627,       0250,  22.732167,-157.9821667,       4741,    45.5,  25.2287,  35.1836,2,-999.0000,5,    206.6,1,  -999.0,9, -999.00,9, -999.00,9,  -999.0,      45,    25.2188, -999.00,9,     -999.0
33KB20130624,       PRS2,       2,         14,         10,       8010,2,20130627,       0250,  22.732167,-157.9821667,       4741,    76.4,  24.2007,  35.1664,2,-999.0000,5,    214.9,1,  -999.0,9, -999.00,9, -999.00,9,  -999.0,      75,    24.1845, -999.00,9,     -999.0
33KB20130624,       PRS2,       2,         14,          9,       8009,2,20130627,       0250,  22.732167,-157.9821667,       4741,    76.4,  24.1248,  35.1630,2,-999.0000,5,    215.5,1,  -999.0,9, -999.00,9, -999.00,9,  -999.0,      76,    24.1086, -999.00,9,     -999.0
33KB20130624,       PRS2,       2,         14,          8,       8008,2,20130627,       0250,  22.732167,-157.9821667,       4741,   100.5,  22.8261,  35.2836,2,-999.0000,5,    218.1,1,  -999.0,9, -999.00,9, -999.00,9,  -999.0,     100,    22.8057, -999.00,9,     -999.0
33KB20130624,       PRS2,       2,         14,          7,       8026,2,20130627,       0250,  22.732167,-157.9821667,       4741,   125.5,  22.2264,  35.2909,2,-999.0000,5,    212.9,1,  -999.0,9, -999.00,9, -999.00,9,  -999.0,     124,    22.2013, -999.00,9,     -999.0
33KB20130624,       PRS2,       2,         14,          6,       8006,2,20130627,       0250,  22.732167,-157.9821667,       4741,   125.3,  22.2206,  35.2906,2,  35.2917,2,    212.7,1,  -999.0,9, -999.00,9, -999.00,9,  -999.0,     124,    22.1956, -999.00,9,     -999.0
33KB20130624,       PRS2,       2,         14,          5,       8005,2,20130627,       0250,  22.732167,-157.9821667,       4741,   151.2,  21.0751,  35.2046,2,-999.0000,5,    202.1,1,  -999.0,9, -999.00,9, -999.00,9,  -999.0,     151,    21.0461, -999.00,9,     -999.0
33KB20130624,       PRS2,       2,         14,          4,       8004,2,20130627,       0250,  22.732167,-157.9821667,       4741,   175.5,  20.3222,  35.1300,2,-999.0000,5,    198.1,1,  -999.0,9, -999.00,9, -999.00,9,  -999.0,     174,    20.2894, -999.00,9,     -999.0
33KB20130624,       PRS2,       2,         14,          3,       8003,2,20130627,       0250,  22.732167,-157.9821667,       4741,   175.4,  20.2996,  35.1284,2,-999.0000,5,    197.9,1,  -999.0,9, -999.00,9, -999.00,9,  -999.0,     175,    20.2668, -999.00,9,     -999.0
33KB20130624,       PRS2,       2,         14,          2,       8002,2,20130627,       0250,  22.732167,-157.9821667,       4741,   400.6,   9.3052,  34.1141,2,  34.1313,2,    156.9,1,  -999.0,9, -999.00,9, -999.00,9,  -999.0,     401,     9.2608, -999.00,9,     -999.0
33KB20130624,       PRS2,       2,         14,          1,       8001,2,20130627,       0250,  22.732167,-157.9821667,       4741,  1019.5,   3.9589,  34.4850,2,  34.4887,2,     45.3,1,  -999.0,9, -999.00,9, -999.00,9,  -999.0,    1020,     3.8820, -999.00,9,     -999.0