BOTTLE,20090923WHPSIOMYS
EXPOCODE,SECT_ID,STNNBR,CASTNO,SAMPNO,BTLNBR,BTLNBR_FLAG_W,DATE,TIME,LATITUDE,LONGITUDE,DEPTH,CTDRAW,CTDPRS,CTDTMP,CTDSAL,CTDSAL_FLAG_W,SALNTY,SALNTY_FLAG_W,CTDOXY,CTDOXY_FLAG_W,THETA,OXYGEN,OXYGEN_FLAG_W,SILCAT,SILCAT_FLAG_W,NO2+NO3,NO2+NO3_FLAG_W,PHSPHT,PHSPHT_FLAG_W,REVPRS,REVTMP
,,,,,,,,,,,,,DBAR,ITS-90,PSS-78,,PSS-78,,UMOL/KG,,ITS-90,UMOL/KG,,UMOL/KG,,UMOL/KG,,UMOL/KG,,DBAR,DEG C
     32WC168_1,  PRS2,     2, 13,     22,     22,2,20050306,0000, 22.7495,-158.0102, 1020,      5,      5.1,  23.8594,  35.0389,2,  35.0372,2,    210.2,1, 23.8583,   -999.0,9,  -999.00,9,  -999.00,9,  -999.00,9,  -999.0,-999.000
     32WC168_1,  PRS2,     2, 13,     21,     21,2,20050306,0000, 22.7495,-158.0102, 1020,      4,      5.1,  23.8617,  35.0386,2,  35.0402,2,    210.2,1, 23.8606,   -999.0,9,  -999.00,9,  -999.00,9,  -999.00,9,  -999.0,-999.000
     32WC168_1,  PRS2,     2, 13,     20,     41,3,20050306,0000, 22.7495,-158.0102, 1020,     26,     25.4,  23.4453,  35.1176,2,  35.1132,2,    211.6,1, 23.4400,   -999.0,9,  -999.00,9,  -999.00,9,  -999.00,9,  -999.0,-999.000
     32WC168_1,  PRS2,     2, 13,     19,     19,2,20050306,0000, 22.7495,-158.0102, 1020,     26,     25.5,  23.4431,  35.1169,2,  35.1161,2,    211.6,1, 23.4378,   -999.0,9,  -999.00,9,  -999.00,9,  -999.00,9,  -999.0,-999.000
     32WC168_1,  PRS2,     2, 13,     17,     17,2,20050306,0000, 22.7495,-158.0102, 1020,     46,     45.4,  23.0291,  35.1690,2,  35.1683,2,    212.8,1, 23.0198,   -999.0,9,  -999.00,9,  -999.00,9,  -999.00,9,  -999.0,-999.000
     32WC168_1,  PRS2,     2, 13,     18,     18,2,20050306,0000, 22.7495,-158.0102, 1020,     46,     45.6,  23.0296,  35.1687,2,  35.1673,2,    212.8,1, 23.0203,   -999.0,9,  -999.00,9,  -999.00,9,  -999.00,9,  -999.0,-999.000
     32WC168_1,  PRS2,     2, 13,     16,     34,2,20050306,0000, 22.7495,-158.0102, 1020,     79,     76.8,  22.6615,  35.1927,2,  35.1920,2,    214.8,1, 22.6460,   -999.0,9,  -999.00,9,  -999.00,9,  -999.00,9,  -999.0,-999.000
     32WC168_1,  PRS2,     2, 13,     15,    102,2,20050306,0000, 22.7495,-158.0102, 1020,     77,     76.8,  22.6764,  35.1926,2,  35.1924,2,    214.8,1, 22.6609,   -999.0,9,  -999.00,9,  -999.00,9,  -999.00,9,  -999.0,-999.000
     32WC168_1,  PRS2,     2, 13,     14,    101,2,20050306,0000, 22.7495,-158.0102, 1020,    100,     98.9,  22.1323,  35.1806,2,  35.1835,2,    202.9,1, 22.1127,   -999.0,9,  -999.00,9,  -999.00,9,  -999.00,9,  -999.0,-999.000
     32WC168_1,  PRS2,     2, 13,     12,     12,2,20050306,0000, 22.7495,-158.0102, 1020,    126,    124.6,  21.1234,  35.1961,2,  35.2036,2,    205.7,1, 21.0995,   -999.0,9,  -999.00,9,  -999.00,9,  -999.00,9,  -999.0,-999.000
     32WC168_1,  PRS2,     2, 13,     11,     39,2,20050306,0000, 22.7495,-158.0102, 1020,    124,    125.0,  21.0995,  35.1956,2,  35.1900,2,    205.5,1, 21.0755,   -999.0,9,  -999.00,9,  -999.00,9,  -999.00,9,  -999.0,-999.000
     32WC168_1,  PRS2,     2, 13,     13,     42,2,20050306,0000, 22.7495,-158.0102, 1020,    126,    125.2,  21.1328,  35.1956,2,  35.1945,2,    205.7,1, 21.1087,   -999.0,9,  -999.00,9,  -999.00,9,  -999.00,9,  -999.0,-999.000
     32WC168_1,  PRS2,     2, 13,     10,     33,2,20050306,0000, 22.7495,-158.0102, 1020,    150,    151.0,  20.1572,  35.1157,2,  35.1185,2,    194.5,1, 20.1292,   -999.0,9,  -999.00,9,  -999.00,9,  -999.00,9,  -999.0,-999.000
     32WC168_1,  PRS2,     2, 13,      9,      3,2,20050306,0000, 22.7495,-158.0102, 1020,    150,    151.0,  20.1385,  35.1124,2,  35.1203,2,    194.4,1, 20.1105,   -999.0,9,  -999.00,9,  -999.00,9,  -999.00,9,  -999.0,-999.000
     32WC168_1,  PRS2,     2, 13,      8,     29,2,20050306,0000, 22.7495,-158.0102, 1020,    176,    174.9,  18.8788,  34.9713,2,  34.9713,2,    196.2,1, 18.8477,   -999.0,9,  -999.00,9,  -999.00,9,  -999.00,9,  -999.0,-999.000
     32WC168_1,  PRS2,     2, 13,      7,     28,2,20050306,0000, 22.7495,-158.0102, 1020,    176,    175.4,  18.8045,  34.9614,2,  34.9658,2,    196.4,1, 18.7735,   -999.0,9,  -999.00,9,  -999.00,9,  -999.00,9,  -999.0,-999.000
     32WC168_1,  PRS2,     2, 13,      6,     13,2,20050306,0000, 22.7495,-158.0102, 1020,    201,    200.5,  16.5103,  34.6709,2,  34.6690,2,    202.3,1, 16.4779,   -999.0,9,  -999.00,9,  -999.00,9,  -999.00,9,  -999.0,-999.000
     32WC168_1,  PRS2,     2, 13,      5,     38,2,20050306,0000, 22.7495,-158.0102, 1020,    253,    250.2,  14.1142,  34.3781,2,  34.3837,2,    203.7,1, 14.0780,   -999.0,9,  -999.00,9,  -999.00,9,  -999.00,9,  -999.0,-999.000
     32WC168_1,  PRS2,     2, 13,      3,     35,2,20050306,0000, 22.7495,-158.0102, 1020,    350,    349.5,  10.1311,  34.1195,2,  34.1179,2,    187.6,1, 10.0903,   -999.0,9,  -999.00,9,  -999.00,9,  -999.00,9,  -999.0,-999.000
     32WC168_1,  PRS2,     2, 13,      4,     36,2,20050306,0000, 22.7495,-158.0102, 1020,    352,    350.0,  10.1439,  34.1191,2,  34.1183,2,    187.7,1, 10.1031,   -999.0,9,  -999.00,9,  -999.00,9,  -999.00,9,  -999.0,-999.000
     32WC168_1,  PRS2,     2, 13,      2,      7,2,20050306,0000, 22.7495,-158.0102, 1020,    500,    500.4,   6.9606,  34.0685,2,  34.0680,2,     99.5,1,  6.9136,   -999.0,9,  -999.00,9,  -999.00,9,  -999.00,9,  -999.0,-999.000
     32WC168_1,  PRS2,     2, 13,      1,     11,2,20050306,0000, 22.7495,-158.0102, 1020,   1015,   1018.4,   4.0423,  34.4673,2,  34.4661,2,     41.3,1,  3.9649,   -999.0,9,  -999.00,9,  -999.00,9,  -999.00,9,  -999.0,-999.000
     32WC168_1,  PRS2,     2, 14,      9,      3,2,20050306,0258, 22.7733,-158.0000, 1020,      5,      4.9,  23.9644,  35.0199,2,-999.0000,5,    209.9,1, 23.9634,   -999.0,9,  -999.00,9,  -999.00,9,  -999.00,9,  -999.0,-999.000
     32WC168_1,  PRS2,     2, 14,      8,     29,2,20050306,0258, 22.7733,-158.0000, 1020,      4,      4.9,  23.9643,  35.0196,2,-999.0000,5,    209.7,1, 23.9633,   -999.0,9,  -999.00,9,  -999.00,9,  -999.00,9,  -999.0,-999.000
     32WC168_1,  PRS2,     2, 14,     12,     12,2,20050306,0258, 22.7733,-158.0000, 1020,      5,      5.0,  23.9640,  35.0198,2,-999.0000,5,    210.1,1, 23.9630,   -999.0,9,  -999.00,9,  -999.00,9,  -999.00,9,  -999.0,-999.000
     32WC168_1,  PRS2,     2, 14,      6,     13,3,20050306,0258, 22.7733,-158.0000, 1020,      5,      5.0,  23.9575,  35.0195,2,-999.0000,5,    209.5,1, 23.9565,   -999.0,9,  -999.00,9,  -999.00,9,  -999.00,9,  -999.0,-999.000
     32WC168_1,  PRS2,     2, 14,      5,     38,3,20050306,0258, 22.7733,-158.0000, 1020,      6,      5.0,  23.9577,  35.0197,2,-999.0000,5,    209.8,1, 23.9566,   -999.0,9,  -999.00,9,  -999.00,9,  -999.00,9,  -999.0,-999.000
     32WC168_1,  PRS2,     2, 14,     13,     42,2,20050306,0258, 22.7733,-158.0000, 1020,      5,      5.1,  23.9631,  35.0197,2,-999.0000,5,    210.1,1, 23.9621,   -999.0,9,  -999.00,9,  -999.00,9,  -999.00,9,  -999.0,-999.000
     32WC168_1,  PRS2,     2, 14,     11,     39,2,20050306,0258, 22.7733,-158.0000, 1020,      5,      5.1,  23.9651,  35.0199,2,  35.0207,2,    210.1,1, 23.9640,   -999.0,9,  -999.00,9,  -999.00,9,  -999.00,9,  -999.0,-999.000
     32WC168_1,  PRS2,     2, 14,     10,     33,2,20050306,0258, 22.7733,-158.0000, 1020,      4,      5.1,  23.9650,  35.0199,2,-999.0000,5,    210.0,1, 23.9639,   -999.0,9,  -999.00,9,  -999.00,9,  -999.00,9,  -999.0,-999.000
     32WC168_1,  PRS2,     2, 14,      7,     28,2,20050306,0258, 22.7733,-158.0000, 1020,      5,      5.1,  23.9582,  35.0195,2,-999.0000,5,    209.6,1, 23.9571,   -999.0,9,  -999.00,9,  -999.00,9,  -999.00,9,  -999.0,-999.000
     32WC168_1,  PRS2,     2, 14,      4,     36,2,20050306,0258, 22.7733,-158.0000, 1020,      6,      5.1,  23.9592,  35.0199,2,-999.0000,5,    209.8,1, 23.9582,   -999.0,9,  -999.00,9,  -999.00,9,  -999.00,9,  -999.0,-999.000
     32WC168_1,  PRS2,     2, 14,      3,     35,3,20050306,0258, 22.7733,-158.0000, 1020,     91,     90.5,  21.9915,  35.1506,2,  35.1469,2,    188.2,1, 21.9736,   -999.0,9,  -999.00,9,  -999.00,9,  -999.00,9,  -999.0,-999.000
     32WC168_1,  PRS2,     2, 14,      2,      7,2,20050306,0258, 22.7733,-158.0000, 1020,    512,    510.5,   6.8588,  34.0665,2,  34.0641,2,     96.0,1,  6.8112,   -999.0,9,  -999.00,9,  -999.00,9,  -999.00,9,  -999.0,-999.000
     32WC168_1,  PRS2,     2, 14,      1,     11,2,20050306,0258, 22.7733,-158.0000, 1020,   1018,   1018.8,   4.0077,  34.4722,2,  34.4724,2,     41.7,1,  3.9305,   -999.0,9,  -999.00,9,  -999.00,9,  -999.00,9,  -999.0,-999.000
     32WC168_1,  PRS2,     2, 15,     19,     19,2,20050306,0630, 22.7503,-158.0002, 1020,      5,      5.5,  23.6010,  35.0853,2,  35.0974,2,    209.9,1, 23.5998,   -999.0,9,  -999.00,9,  -999.00,9,  -999.00,9,  -999.0,-999.000
     32WC168_1,  PRS2,     2, 15,     20,     41,2,20050306,0630, 22.7503,-158.0002, 1020,      6,      5.8,  23.6005,  35.0846,2,  35.0842,2,    210.3,1, 23.5993,   -999.0,9,  -999.00,9,  -999.00,9,  -999.00,9,  -999.0,-999.000
     32WC168_1,  PRS2,     2, 15,     18,     18,2,20050306,0630, 22.7503,-158.0002, 1020,     11,     10.4,  23.6059,  35.0838,2,  35.0823,2,    209.9,1, 23.6037,   -999.0,9,  -999.00,9,  -999.00,9,  -999.00,9,  -999.0,-999.000
     32WC168_1,  PRS2,     2, 15,     17,     17,2,20050306,0630, 22.7503,-158.0002, 1020,     21,     21.3,  23.4799,  35.1164,2,  35.1114,2,    211.4,1, 23.4755,   -999.0,9,  -999.00,9,  -999.00,9,  -999.00,9,  -999.0,-999.000
     32WC168_1,  PRS2,     2, 15,     16,     34,2,20050306,0630, 22.7503,-158.0002, 1020,     28,     25.9,  23.3739,  35.1370,2,  35.1443,2,    212.1,1, 23.3685,   -999.0,9,  -999.00,9,  -999.00,9,  -999.00,9,  -999.0,-999.000
     32WC168_1,  PRS2,     2, 15,     15,    102,2,20050306,0630, 22.7503,-158.0002, 1020,     27,     29.1,  23.2590,  35.1567,2,  35.1551,2,    212.6,1, 23.2530,   -999.0,9,  -999.00,9,  -999.00,9,  -999.00,9,  -999.0,-999.000
     32WC168_1,  PRS2,     2, 15,     14,    101,2,20050306,0630, 22.7503,-158.0002, 1020,     47,     46.8,  22.9361,  35.1769,2,  35.1760,2,    213.3,1, 22.9265,   -999.0,9,  -999.00,9,  -999.00,9,  -999.00,9,  -999.0,-999.000
     32WC168_1,  PRS2,     2, 15,     13,     42,2,20050306,0630, 22.7503,-158.0002, 1020,     65,     61.4,  22.8042,  35.1880,2,  35.1868,2,    214.4,1, 22.7918,   -999.0,9,  -999.00,9,  -999.00,9,  -999.00,9,  -999.0,-999.000
     32WC168_1,  PRS2,     2, 15,     12,     12,3,20050306,0630, 22.7503,-158.0002, 1020,     75,     75.1,  22.6384,  35.1895,2,  35.1721,4,    213.8,1, 22.6233,   -999.0,9,  -999.00,9,  -999.00,9,  -999.00,9,  -999.0,-999.000
     32WC168_1,  PRS2,     2, 15,     11,     39,3,20050306,0630, 22.7503,-158.0002, 1020,     80,     80.4,  22.4849,  35.2013,2,  35.2000,2,    214.4,1, 22.4687,   -999.0,9,  -999.00,9,  -999.00,9,  -999.00,9,  -999.0,-999.000
     32WC168_1,  PRS2,     2, 15,     10,     33,3,20050306,0630, 22.7503,-158.0002, 1020,     88,     90.3,  22.1345,  35.2257,2,  35.2083,4,    210.5,1, 22.1165,   -999.0,9,  -999.00,9,  -999.00,9,  -999.00,9,  -999.0,-999.000
     32WC168_1,  PRS2,     2, 15,      9,      3,2,20050306,0630, 22.7503,-158.0002, 1020,    101,     98.9,  21.5868,  35.1786,2,  35.1746,2,    198.9,1, 21.5675,   -999.0,9,  -999.00,9,  -999.00,9,  -999.00,9,  -999.0,-999.000
     32WC168_1,  PRS2,     2, 15,      8,     29,2,20050306,0630, 22.7503,-158.0002, 1020,    111,    110.8,  21.2922,  35.1838,2,  35.1817,2,    204.9,1, 21.2708,   -999.0,9,  -999.00,9,  -999.00,9,  -999.00,9,  -999.0,-999.000
     32WC168_1,  PRS2,     2, 15,      7,     28,2,20050306,0630, 22.7503,-158.0002, 1020,    124,    125.2,  20.8190,  35.1813,2,  35.1815,2,    199.9,1, 20.7951,   -999.0,9,  -999.00,9,  -999.00,9,  -999.00,9,  -999.0,-999.000
     32WC168_1,  PRS2,     2, 15,      6,     13,2,20050306,0630, 22.7503,-158.0002, 1020,    140,    139.7,  20.1099,  35.0949,2,  35.0935,2,    192.0,1, 20.0839,   -999.0,9,  -999.00,9,  -999.00,9,  -999.00,9,  -999.0,-999.000
     32WC168_1,  PRS2,     2, 15,      5,     38,2,20050306,0630, 22.7503,-158.0002, 1020,    152,    151.7,  19.4715,  35.0204,2,  35.0224,2,    188.8,1, 19.4440,   -999.0,9,  -999.00,9,  -999.00,9,  -999.00,9,  -999.0,-999.000
     32WC168_1,  PRS2,     2, 15,      4,     36,2,20050306,0630, 22.7503,-158.0002, 1020,    164,    160.5,  18.9520,  34.9747,2,  34.9721,2,    193.7,1, 18.9235,   -999.0,9,  -999.00,9,  -999.00,9,  -999.00,9,  -999.0,-999.000
     32WC168_1,  PRS2,     2, 15,      3,     35,2,20050306,0630, 22.7503,-158.0002, 1020,    177,    173.4,  18.2553,  34.8934,2,  35.0726,4,    197.3,1, 18.2252,   -999.0,9,  -999.00,9,  -999.00,9,  -999.00,9,  -999.0,-999.000
     32WC168_1,  PRS2,     2, 15,      2,      7,2,20050306,0630, 22.7503,-158.0002, 1020,    483,    481.9,   7.0158,  34.0689,2,  34.0668,2,    103.1,1,  6.9703,   -999.0,9,  -999.00,9,  -999.00,9,  -999.00,9,  -999.0,-999.000
     32WC168_1,  PRS2,     2, 15,      1,     11,2,20050306,0630, 22.7503,-158.0002, 1020,   1021,   1020.5,   3.9967,  34.4733,2,  34.4728,2,     42.0,1,  3.9194,   -999.0,9,  -999.00,9,  -999.00,9,  -999.00,9,  -999.0,-999.000