BOTTLE,20090923WHPSIOMYS
#code : jjward hyd_to_exchange.pl 
#original files copied from HTML directory: 20090923
#original HYD file: 32WC168_1_hy.txt   Wed Sep 23 17:57:23 2009
#original SUM file: ../32WC168_1su.txt   Wed Sep 23 17:57:22 2009
EXPOCODE,SECT_ID,STNNBR,CASTNO,SAMPNO,BTLNBR,BTLNBR_FLAG_W,DATE,TIME,LATITUDE,LONGITUDE,DEPTH,CTDRAW,CTDPRS,CTDTMP,CTDSAL,CTDSAL_FLAG_W,SALNTY,SALNTY_FLAG_W,CTDOXY,CTDOXY_FLAG_W,THETA,OXYGEN,OXYGEN_FLAG_W,SILCAT,SILCAT_FLAG_W,NO2+NO3,NO2+NO3_FLAG_W,PHSPHT,PHSPHT_FLAG_W,REVPRS,REVTMP
,,,,,,,,,,,,,DBAR,ITS-90,PSS-78,,PSS-78,,UMOL/KG,,ITS-90,UMOL/KG,,UMOL/KG,,UMOL/KG,,UMOL/KG,,DBAR,DEG C
     32WC168_1,  PRS2,     1,  1,     24,     23,3,20050303,2358, 21.3433,-158.2728, 1020,      6,      5.6,  24.8507,  34.7106,2,  34.7241,3,    208.2,3, 24.8495,    208.6,2,  -999.00,9,  -999.00,9,  -999.00,9,  -999.0,-999.000
     32WC168_1,  PRS2,     1,  1,     23,     30,3,20050303,2358, 21.3433,-158.2728, 1020,      6,      5.6,  24.8505,  34.7098,2,  34.7101,2,    208.2,2, 24.8493,    208.7,2,  -999.00,9,  -999.00,9,  -999.00,9,  -999.0,-999.000
     32WC168_1,  PRS2,     1,  1,     22,     22,2,20050303,2358, 21.3433,-158.2728, 1020,     26,     25.3,  24.6590,  34.8202,2,  34.8174,2,    208.6,2, 24.6536,    208.4,2,  -999.00,9,  -999.00,9,  -999.00,9,  -999.0,-999.000
     32WC168_1,  PRS2,     1,  1,     21,     21,2,20050303,2358, 21.3433,-158.2728, 1020,     45,     44.7,  24.4500,  34.9199,2,  34.9176,2,    209.1,2, 24.4405,    208.7,2,  -999.00,9,  -999.00,9,  -999.00,9,  -999.0,-999.000
     32WC168_1,  PRS2,     1,  1,     20,     41,3,20050303,2358, 21.3433,-158.2728, 1020,     60,     59.6,  24.1231,  34.9858,2,  34.9850,2,    210.1,2, 24.1105,    210.2,2,  -999.00,9,  -999.00,9,  -999.00,9,  -999.0,-999.000
     32WC168_1,  PRS2,     1,  1,     19,     19,2,20050303,2358, 21.3433,-158.2728, 1020,     75,     75.4,  23.4687,  35.0601,2,  35.0608,2,    205.7,2, 23.4531,    204.7,2,  -999.00,9,  -999.00,9,  -999.00,9,  -999.0,-999.000
     32WC168_1,  PRS2,     1,  1,     18,     18,2,20050303,2358, 21.3433,-158.2728, 1020,    101,     99.4,  22.8935,  35.1122,2,  35.1173,2,    201.5,2, 22.8732,    201.5,2,  -999.00,9,  -999.00,9,  -999.00,9,  -999.0,-999.000
     32WC168_1,  PRS2,     1,  1,     17,     17,2,20050303,2358, 21.3433,-158.2728, 1020,    116,    115.5,  21.8596,  35.1267,2,  35.1246,2,    192.4,2, 21.8369,    192.2,2,  -999.00,9,  -999.00,9,  -999.00,9,  -999.0,-999.000
     32WC168_1,  PRS2,     1,  1,     16,     34,2,20050303,2358, 21.3433,-158.2728, 1020,    124,    125.0,  21.5391,  35.1046,2,  35.1035,2,    190.6,2, 21.5148,    190.9,2,  -999.00,9,  -999.00,9,  -999.00,9,  -999.0,-999.000
     32WC168_1,  PRS2,     1,  1,     15,    102,2,20050303,2358, 21.3433,-158.2728, 1020,    148,    148.6,  20.1742,  35.0278,2,  35.0319,2,    187.2,2, 20.1466,    187.7,2,  -999.00,9,  -999.00,9,  -999.00,9,  -999.0,-999.000
     32WC168_1,  PRS2,     1,  1,     14,    101,3,20050303,2358, 21.3433,-158.2728, 1020,    176,    175.3,  19.0283,  34.9512,2,  34.9445,2,    187.7,2, 18.9971,    182.3,4,  -999.00,9,  -999.00,9,  -999.00,9,  -999.0,-999.000
     32WC168_1,  PRS2,     1,  1,     13,     42,2,20050303,2358, 21.3433,-158.2728, 1020,    201,    199.4,  18.0337,  34.8222,2,  34.8139,2,    187.5,2, 17.9995,    186.6,2,  -999.00,9,  -999.00,9,  -999.00,9,  -999.0,-999.000
     32WC168_1,  PRS2,     1,  1,     12,     12,2,20050303,2358, 21.3433,-158.2728, 1020,    224,    224.8,  16.5480,  34.6455,2,  34.6500,2,    186.4,2, 16.5116,    187.6,2,  -999.00,9,  -999.00,9,  -999.00,9,  -999.0,-999.000
     32WC168_1,  PRS2,     1,  1,     11,     39,2,20050303,2358, 21.3433,-158.2728, 1020,    251,    250.1,  15.0580,  34.4897,2,  34.4946,2,    191.9,2, 15.0201,    192.0,2,  -999.00,9,  -999.00,9,  -999.00,9,  -999.0,-999.000
     32WC168_1,  PRS2,     1,  1,     10,     33,2,20050303,2358, 21.3433,-158.2728, 1020,    301,    299.9,  11.6295,  34.1999,2,  34.1966,2,    192.0,2, 11.5913,    191.5,2,  -999.00,9,  -999.00,9,  -999.00,9,  -999.0,-999.000
     32WC168_1,  PRS2,     1,  1,      9,      3,2,20050303,2358, 21.3433,-158.2728, 1020,    351,    350.4,  10.3224,  34.1551,2,  34.1544,2,    182.5,2, 10.2810,    182.6,2,  -999.00,9,  -999.00,9,  -999.00,9,  -999.0,-999.000
     32WC168_1,  PRS2,     1,  1,      8,     29,2,20050303,2358, 21.3433,-158.2728, 1020,    400,    399.7,   9.3906,  34.1254,2,  34.1293,2,    170.6,2,  9.3460,    170.6,2,  -999.00,9,  -999.00,9,  -999.00,9,  -999.0,-999.000
     32WC168_1,  PRS2,     1,  1,      7,     28,2,20050303,2358, 21.3433,-158.2728, 1020,    499,    498.7,   7.1946,  34.1491,2,  34.1475,2,     89.9,2,  7.1468,     90.3,2,  -999.00,9,  -999.00,9,  -999.00,9,  -999.0,-999.000
     32WC168_1,  PRS2,     1,  1,      6,     13,2,20050303,2358, 21.3433,-158.2728, 1020,    600,    600.2,   5.8768,  34.2057,2,  34.2038,2,     52.4,2,  5.8248,     51.2,2,  -999.00,9,  -999.00,9,  -999.00,9,  -999.0,-999.000
     32WC168_1,  PRS2,     1,  1,      5,     38,2,20050303,2358, 21.3433,-158.2728, 1020,    700,    700.1,   5.1514,  34.3138,2,  34.3072,2,     37.5,2,  5.0940,     37.5,2,  -999.00,9,  -999.00,9,  -999.00,9,  -999.0,-999.000
     32WC168_1,  PRS2,     1,  1,      4,     36,2,20050303,2358, 21.3433,-158.2728, 1020,    750,    749.1,   4.9432,  34.3621,2,  34.3598,2,     36.9,2,  4.8826,     36.8,2,  -999.00,9,  -999.00,9,  -999.00,9,  -999.0,-999.000
     32WC168_1,  PRS2,     1,  1,      3,     35,2,20050303,2358, 21.3433,-158.2728, 1020,    800,    799.6,   4.7564,  34.3987,2,  34.3970,2,     38.2,2,  4.6926,     38.9,2,  -999.00,9,  -999.00,9,  -999.00,9,  -999.0,-999.000
     32WC168_1,  PRS2,     1,  1,      2,      7,2,20050303,2358, 21.3433,-158.2728, 1020,    902,    901.3,   4.5001,  34.4527,2,  34.4512,2,     43.2,2,  4.4292,     42.9,2,  -999.00,9,  -999.00,9,  -999.00,9,  -999.0,-999.000
     32WC168_1,  PRS2,     1,  1,      1,     11,2,20050303,2358, 21.3433,-158.2728, 1020,   1020,   1019.7,   4.2035,  34.4817,2,  34.4813,2,     46.9,2,  4.1247,     47.1,2,  -999.00,9,  -999.00,9,  -999.00,9,  -999.0,-999.000
     32WC168_1,  PRS2,     2,  1,      3,     35,2,20050304,0845, 22.7735,-158.0253,   25,     25,     25.2,  24.1069,  34.9523,2,  34.9469,2,    209.5,1, 24.1016,   -999.0,9,  -999.00,9,  -999.00,9,  -999.00,9,  -999.0,-999.000
     32WC168_1,  PRS2,     2,  1,      1,     11,2,20050304,0845, 22.7735,-158.0253,   25,     26,     25.4,  24.1099,  34.9505,2,  34.9528,2,    209.6,1, 24.1045,   -999.0,9,  -999.00,9,  -999.00,9,  -999.00,9,  -999.0,-999.000
     32WC168_1,  PRS2,     2,  1,      5,     38,2,20050304,0845, 22.7735,-158.0253,   25,     25,     25.5,  24.1042,  34.9537,2,  34.9477,2,    209.5,1, 24.0988,   -999.0,9,  -999.00,9,  -999.00,9,  -999.00,9,  -999.0,-999.000
     32WC168_1,  PRS2,     2,  1,      4,     36,2,20050304,0845, 22.7735,-158.0253,   25,     25,     25.5,  24.1045,  34.9538,2,  34.9473,2,    209.5,1, 24.0991,   -999.0,9,  -999.00,9,  -999.00,9,  -999.00,9,  -999.0,-999.000
     32WC168_1,  PRS2,     2,  1,      7,     28,2,20050304,0845, 22.7735,-158.0253,   25,     26,     25.6,  24.1060,  34.9518,2,  34.9504,2,    209.6,1, 24.1006,   -999.0,9,  -999.00,9,  -999.00,9,  -999.00,9,  -999.0,-999.000
     32WC168_1,  PRS2,     2,  1,      6,     13,2,20050304,0845, 22.7735,-158.0253,   25,     25,     25.6,  24.1051,  34.9531,2,  34.9516,2,    209.6,1, 24.0997,   -999.0,9,  -999.00,9,  -999.00,9,  -999.00,9,  -999.0,-999.000
     32WC168_1,  PRS2,     2,  1,      2,      7,2,20050304,0845, 22.7735,-158.0253,   25,     25,     25.6,  24.1087,  34.9511,2,  34.9479,2,    209.5,1, 24.1033,   -999.0,9,  -999.00,9,  -999.00,9,  -999.00,9,  -999.0,-999.000
     32WC168_1,  PRS2,     2,  2,     24,     23,2,20050304,1135, 22.7500,-158.0000, 4800,      7,      6.2,  24.0942,  34.9602,2,-999.0000,5,    209.0,2, 24.0929,    210.7,2,     3.01,4,     0.05,2,     0.04,2,  -999.0,-999.000
     32WC168_1,  PRS2,     2,  2,     23,     30,2,20050304,1135, 22.7500,-158.0000, 4800,    501,    499.5,   6.8945,  34.0644,2,  34.0648,2,     97.5,2,  6.8478,     96.6,2,    53.28,2,    31.15,2,     2.28,2,  -999.0,-999.000
     32WC168_1,  PRS2,     2,  2,     22,     22,2,20050304,1135, 22.7500,-158.0000, 4800,    751,    750.6,   4.8061,  34.3019,2,  34.3025,2,     30.1,2,  4.7463,     29.9,2,    89.99,4,    40.83,2,     2.97,2,  -999.0,-999.000
     32WC168_1,  PRS2,     2,  2,     21,     21,2,20050304,1135, 22.7500,-158.0000, 4800,   1003,   1000.0,   4.0004,  34.4708,2,  34.4709,2,     42.0,2,  3.9248,     39.3,2,   105.54,4,    41.23,2,     2.99,2,  -999.0,-999.000
     32WC168_1,  PRS2,     2,  2,     20,     41,2,20050304,1135, 22.7500,-158.0000, 4800,   1199,   1199.2,   3.5016,  34.5221,2,  34.5231,2,     51.9,2,  3.4136,     53.0,2,   119.16,2,    41.04,2,     2.96,2,  -999.0,-999.000
     32WC168_1,  PRS2,     2,  2,     19,     19,2,20050304,1135, 22.7500,-158.0000, 4800,   1401,   1400.7,   3.0100,  34.5582,2,  34.5586,2,     62.7,2,  2.9103,     61.9,2,   129.48,2,    40.65,2,     2.92,2,  -999.0,-999.000
     32WC168_1,  PRS2,     2,  2,     18,     18,2,20050304,1135, 22.7500,-158.0000, 4800,   1601,   1600.9,   2.6636,  34.5817,2,  34.5814,2,     71.2,2,  2.5514,     71.9,2,   137.96,2,    40.25,2,     2.87,2,  -999.0,-999.000
     32WC168_1,  PRS2,     2,  2,     17,     17,2,20050304,1135, 22.7500,-158.0000, 4800,   1802,   1800.1,   2.3965,  34.5985,2,  34.5991,2,     78.4,2,  2.2711,     79.1,2,   143.36,2,    39.94,2,     2.86,2,  -999.0,-999.000
     32WC168_1,  PRS2,     2,  2,     16,     34,2,20050304,1135, 22.7500,-158.0000, 4800,   2001,   2000.2,   2.1427,  34.6171,2,  34.6178,2,     86.8,2,  2.0041,     88.3,2,   147.83,2,    39.44,2,     2.79,2,  -999.0,-999.000
     32WC168_1,  PRS2,     2,  2,     15,    102,2,20050304,1135, 22.7500,-158.0000, 4800,   2200,   2200.6,   1.9476,  34.6305,2,  34.6299,2,     94.4,2,  1.7949,     94.6,2,   152.34,2,    39.03,2,     2.76,2,  -999.0,-999.000
     32WC168_1,  PRS2,     2,  2,     14,    101,3,20050304,1135, 22.7500,-158.0000, 4800,   2403,   2401.2,   1.8222,  34.6414,2,  34.6409,2,    100.8,2,  1.6541,    102.0,2,   162.10,4,    38.57,2,     2.71,2,  -999.0,-999.000
     32WC168_1,  PRS2,     2,  2,     13,     42,2,20050304,1135, 22.7500,-158.0000, 4800,   2599,   2598.6,   1.7020,  34.6521,2,  34.6519,2,    108.4,2,  1.5184,    109.5,2,   164.39,4,    38.14,2,     2.70,2,  -999.0,-999.000
     32WC168_1,  PRS2,     2,  2,     12,     12,2,20050304,1135, 22.7500,-158.0000, 4800,   2800,   2799.1,   1.6140,  34.6613,2,  34.6616,2,    117.6,2,  1.4137,    118.1,2,   157.98,2,    37.51,2,     2.67,2,  -999.0,-999.000
     32WC168_1,  PRS2,     2,  2,     11,     39,2,20050304,1135, 22.7500,-158.0000, 4800,   3001,   2999.4,   1.5534,  34.6683,2,  34.6677,2,    124.4,2,  1.3355,    125.1,2,   158.17,2,    37.04,2,     2.63,2,  -999.0,-999.000
     32WC168_1,  PRS2,     2,  2,     10,     33,2,20050304,1135, 22.7500,-158.0000, 4800,   3200,   3198.9,   1.5034,  34.6744,2,  34.6739,2,    131.8,2,  1.2673,    132.0,2,   156.44,2,    36.49,2,     2.59,2,  -999.0,-999.000
     32WC168_1,  PRS2,     2,  2,      9,      3,2,20050304,1135, 22.7500,-158.0000, 4800,   3401,   3399.2,   1.4729,  34.6788,2,  34.6794,2,    137.2,2,  1.2176,    137.5,2,   157.70,3,    36.22,2,     2.55,2,  -999.0,-999.000
     32WC168_1,  PRS2,     2,  2,      8,     29,2,20050304,1135, 22.7500,-158.0000, 4800,   3598,   3598.2,   1.4539,  34.6822,2,  34.6824,2,    141.6,2,  1.1789,    141.6,2,   153.87,2,    36.08,2,     2.53,2,  -999.0,-999.000
     32WC168_1,  PRS2,     2,  2,      7,     28,2,20050304,1135, 22.7500,-158.0000, 4800,   3798,   3798.2,   1.4449,  34.6850,2,  34.6848,2,    146.1,2,  1.1491,    140.0,4,   154.86,3,    35.81,2,     2.53,2,  -999.0,-999.000
     32WC168_1,  PRS2,     2,  2,      6,     13,2,20050304,1135, 22.7500,-158.0000, 4800,   4000,   3999.8,   1.4487,  34.6865,2,  34.6873,2,    148.6,2,  1.1312,    148.6,2,   151.38,2,    35.64,2,     2.50,2,  -999.0,-999.000
     32WC168_1,  PRS2,     2,  2,      5,     38,2,20050304,1135, 22.7500,-158.0000, 4800,   4199,   4200.5,   1.4589,  34.6876,2,  34.6877,2,    150.8,2,  1.1191,    150.9,2,   154.08,3,    35.56,2,     2.51,2,  -999.0,-999.000
     32WC168_1,  PRS2,     2,  2,      4,     36,2,20050304,1135, 22.7500,-158.0000, 4800,   4403,   4400.4,   1.4753,  34.6884,2,  34.6881,2,    152.2,2,  1.1125,    151.7,2,   150.87,2,    35.51,2,     2.50,2,  -999.0,-999.000
     32WC168_1,  PRS2,     2,  2,      3,     35,2,20050304,1135, 22.7500,-158.0000, 4800,   4500,   4500.2,   1.4844,  34.6884,2,  34.6887,2,    152.6,2,  1.1099,    151.9,2,   150.89,2,    35.55,2,     2.51,2,  -999.0,-999.000
     32WC168_1,  PRS2,     2,  2,      2,      7,2,20050304,1135, 22.7500,-158.0000, 4800,   4599,   4600.0,   1.4940,  34.6887,2,  34.6891,2,    153.2,2,  1.1076,    152.4,2,  -999.00,5,    35.46,2,     2.51,2,  -999.0,-999.000
     32WC168_1,  PRS2,     2,  2,      1,     11,2,20050304,1135, 22.7500,-158.0000, 4800,   4805,   4804.3,   1.5144,  34.6892,2,  34.6901,2,    153.9,2,  1.1033,    153.7,2,   150.14,2,    35.53,2,     2.52,2,  -999.0,-999.000
     32WC168_1,  PRS2,     2,  3,     24,     23,2,20050304,1756, 22.7498,-157.9992, 1020,      6,      5.2,  24.1257,  34.9514,2,  34.9691,4,    355.0,4, 24.1246,    209.5,2,     6.16,4,     0.02,2,     0.02,2,  -999.0,-999.000
     32WC168_1,  PRS2,     2,  3,     23,     30,2,20050304,1756, 22.7498,-157.9992, 1020,     56,     55.7,  23.4562,  35.0885,2,  35.0868,2,    212.3,2, 23.4447,    212.1,2,     1.36,2,     0.04,2,     0.01,2,  -999.0,-999.000
     32WC168_1,  PRS2,     2,  3,     22,     22,2,20050304,1756, 22.7498,-157.9992, 1020,    115,    114.8,  21.9873,  35.2154,2,  35.2146,2,    213.9,2, 21.9646,    211.9,2,     1.66,2,     0.09,2,     0.02,2,  -999.0,-999.000
     32WC168_1,  PRS2,     2,  3,     21,     21,2,20050304,1756, 22.7498,-157.9992, 1020,    173,    172.2,  19.5270,  35.0481,2,  35.0478,2,    193.5,2, 19.4957,    193.5,2,     4.78,4,     2.21,2,     0.14,2,  -999.0,-999.000
     32WC168_1,  PRS2,     2,  3,     20,     41,2,20050304,1756, 22.7498,-157.9992, 1020,    223,    222.0,  15.6379,  34.5290,2,  34.5264,2,    197.2,2, 15.6035,    196.8,2,    13.48,4,     5.32,2,     0.34,3,  -999.0,-999.000
     32WC168_1,  PRS2,     2,  3,     19,     19,2,20050304,1756, 22.7498,-157.9992, 1020,    268,    265.0,  14.0112,  34.3420,2,  34.3403,2,    201.2,2, 13.9730,    200.8,2,    10.40,4,     7.45,2,     0.59,2,  -999.0,-999.000
     32WC168_1,  PRS2,     2,  3,     18,     18,2,20050304,1756, 22.7498,-157.9992, 1020,    311,    310.1,  11.7095,  34.1458,2,  34.1450,2,    193.8,2, 11.6699,    193.9,2,    12.31,2,    12.17,2,     0.78,3,  -999.0,-999.000
     32WC168_1,  PRS2,     2,  3,     17,     17,2,20050304,1756, 22.7498,-157.9992, 1020,    340,    340.9,  10.4820,  34.1156,2,  34.1150,2,    188.2,2, 10.4414,    189.0,2,    17.22,2,    15.52,2,     0.95,3,  -999.0,-999.000
     32WC168_1,  PRS2,     2,  3,     16,     34,2,20050304,1756, 22.7498,-157.9992, 1020,    375,    375.4,   9.7793,  34.1192,2,  34.1183,2,    183.4,2,  9.7364,    182.6,2,    22.05,2,    17.98,2,     1.17,2,  -999.0,-999.000
     32WC168_1,  PRS2,     2,  3,     15,    102,2,20050304,1756, 22.7498,-157.9992, 1020,    411,    410.0,   9.0739,  34.1029,2,  34.1036,2,    168.0,2,  9.0291,    167.9,2,    28.59,2,    21.04,2,     1.43,2,  -999.0,-999.000
     32WC168_1,  PRS2,     2,  3,     14,    101,2,20050304,1756, 22.7498,-157.9992, 1020,    465,    464.4,   7.7932,  34.0715,2,  34.0709,2,    126.0,2,  7.7467,    125.8,2,    41.26,2,    27.39,2,     1.96,2,  -999.0,-999.000
     32WC168_1,  PRS2,     2,  3,     13,     42,2,20050304,1756, 22.7498,-157.9992, 1020,    513,    512.0,   6.7834,  34.0659,2,  34.0660,2,     94.1,2,  6.7359,     93.6,2,    62.37,4,    32.05,2,     2.35,2,  -999.0,-999.000
     32WC168_1,  PRS2,     2,  3,     12,     12,2,20050304,1756, 22.7498,-157.9992, 1020,    567,    565.0,   6.1901,  34.0882,2,  34.0882,2,     71.3,2,  6.1400,     71.1,2,    62.12,2,    35.13,2,     2.58,2,  -999.0,-999.000
     32WC168_1,  PRS2,     2,  3,     11,     39,2,20050304,1756, 22.7498,-157.9992, 1020,    618,    616.7,   5.4745,  34.1039,2,  34.1025,2,     54.4,2,  5.4230,     54.0,2,    74.56,2,    37.69,2,     2.77,2,  -999.0,-999.000
     32WC168_1,  PRS2,     2,  3,     10,     33,2,20050304,1756, 22.7498,-157.9992, 1020,    678,    677.3,   5.0688,  34.1899,2,  34.1877,2,     35.1,2,  5.0139,     35.0,2,    80.57,4,    40.20,2,     2.96,2,  -999.0,-999.000
     32WC168_1,  PRS2,     2,  3,      9,      3,2,20050304,1756, 22.7498,-157.9992, 1020,    716,    715.0,   4.9482,  34.2555,2,  34.2534,2,     32.6,2,  4.8907,     31.3,2,    93.42,4,    40.80,2,     3.00,2,  -999.0,-999.000
     32WC168_1,  PRS2,     2,  3,      8,     29,2,20050304,1756, 22.7498,-157.9992, 1020,    754,    752.9,   4.8123,  34.2982,2,  34.2995,2,     30.5,2,  4.7523,     29.8,2,    83.80,4,    41.05,2,     3.03,2,  -999.0,-999.000
     32WC168_1,  PRS2,     2,  3,      7,     28,2,20050304,1756, 22.7498,-157.9992, 1020,    798,    797.7,   4.6623,  34.3564,2,  34.3556,2,     31.9,2,  4.5993,     31.3,2,    87.56,4,    41.27,2,     3.04,2,  -999.0,-999.000
     32WC168_1,  PRS2,     2,  3,      6,     13,2,20050304,1756, 22.7498,-157.9992, 1020,    844,    843.4,   4.4735,  34.3903,2,  34.3890,2,     33.8,2,  4.4078,     32.9,2,    79.55,4,    41.60,2,     3.05,2,  -999.0,-999.000
     32WC168_1,  PRS2,     2,  3,      5,     38,2,20050304,1756, 22.7498,-157.9992, 1020,    882,    881.0,   4.3660,  34.4188,2,  34.4173,2,     37.1,2,  4.2977,     36.6,2,    92.18,4,    41.52,2,     3.04,2,  -999.0,-999.000
     32WC168_1,  PRS2,     2,  3,      4,     36,2,20050304,1756, 22.7498,-157.9992, 1020,    918,    918.0,   4.2954,  34.4321,2,  34.4306,2,     38.1,2,  4.2245,     37.1,2,    85.79,4,    41.63,2,     3.01,2,  -999.0,-999.000
     32WC168_1,  PRS2,     2,  3,      3,     35,2,20050304,1756, 22.7498,-157.9992, 1020,    959,    957.1,   4.1563,  34.4512,2,  34.4522,2,     39.9,2,  4.0831,     39.7,2,    88.83,4,    41.58,2,     3.04,2,  -999.0,-999.000
     32WC168_1,  PRS2,     2,  3,      2,      7,2,20050304,1756, 22.7498,-157.9992, 1020,    994,    994.6,   4.0236,  34.4682,2,  34.4683,2,     41.8,2,  3.9483,     42.2,2,    88.01,4,    41.98,2,     3.05,2,  -999.0,-999.000
     32WC168_1,  PRS2,     2,  3,      1,     11,2,20050304,1756, 22.7498,-157.9992, 1020,   1020,   1019.8,   3.9667,  34.4771,2,  34.4771,2,     42.7,2,  3.8897,     43.6,2,   102.07,4,    41.85,2,     3.04,2,  -999.0,-999.000