BOTTLE,20090923WHPSIOMYS
EXPOCODE,SECT_ID,STNNBR,CASTNO,SAMPNO,BTLNBR,BTLNBR_FLAG_W,DATE,TIME,LATITUDE,LONGITUDE,DEPTH,CTDRAW,CTDPRS,CTDTMP,CTDSAL,CTDSAL_FLAG_W,SALNTY,SALNTY_FLAG_W,CTDOXY,CTDOXY_FLAG_W,THETA,OXYGEN,OXYGEN_FLAG_W,SILCAT,SILCAT_FLAG_W,NO2+NO3,NO2+NO3_FLAG_W,PHSPHT,PHSPHT_FLAG_W,REVPRS,REVTMP
,,,,,,,,,,,,,DBAR,ITS-90,PSS-78,,PSS-78,,UMOL/KG,,ITS-90,UMOL/KG,,UMOL/KG,,UMOL/KG,,UMOL/KG,,DBAR,DEG C
     32WC168_1,  PRS2,     2,  8,     19,     19,2,20050305,0908, 22.7427,-157.9952, 1020,      5,      4.8,  24.1146,  34.9862,2,  34.9856,2,    210.5,2, 24.1136,    216.3,4,  -999.00,9,  -999.00,9,  -999.00,9,  -999.0,-999.000
     32WC168_1,  PRS2,     2,  8,     20,     41,3,20050305,0908, 22.7427,-157.9952, 1020,      5,      4.9,  24.1151,  34.9863,2,  34.9933,2,    210.6,2, 24.1141,   -999.0,5,  -999.00,9,  -999.00,9,  -999.00,9,  -999.0,-999.000
     32WC168_1,  PRS2,     2,  8,     18,     18,2,20050305,0908, 22.7427,-157.9952, 1020,     15,     15.1,  24.1192,  34.9854,2,  34.9841,2,    210.3,2, 24.1160,    210.9,2,  -999.00,9,  -999.00,9,  -999.00,9,  -999.0,-999.000
     32WC168_1,  PRS2,     2,  8,     17,     17,2,20050305,0908, 22.7427,-157.9952, 1020,     25,     25.4,  24.1211,  34.9856,2,  34.9925,2,    210.2,2, 24.1158,   -999.0,5,  -999.00,9,  -999.00,9,  -999.00,9,  -999.0,-999.000
     32WC168_1,  PRS2,     2,  8,     16,     34,2,20050305,0908, 22.7427,-157.9952, 1020,     25,     25.5,  24.1214,  34.9858,2,  34.9909,2,    210.2,2, 24.1160,    210.6,2,  -999.00,9,  -999.00,9,  -999.00,9,  -999.0,-999.000
     32WC168_1,  PRS2,     2,  8,     15,    102,2,20050305,0908, 22.7427,-157.9952, 1020,     35,     34.1,  24.0474,  34.9995,2,  34.9961,2,    210.1,2, 24.0402,    210.7,2,  -999.00,9,  -999.00,9,  -999.00,9,  -999.0,-999.000
     32WC168_1,  PRS2,     2,  8,     14,    101,2,20050305,0908, 22.7427,-157.9952, 1020,     45,     45.0,  22.9853,  35.1658,2,  35.1640,2,    213.6,2, 22.9761,    214.4,2,  -999.00,9,  -999.00,9,  -999.00,9,  -999.0,-999.000
     32WC168_1,  PRS2,     2,  8,     13,     42,2,20050305,0908, 22.7427,-157.9952, 1020,     61,     60.6,  22.7733,  35.1974,2,  35.2030,2,    214.1,2, 22.7611,    215.1,2,  -999.00,9,  -999.00,9,  -999.00,9,  -999.0,-999.000
     32WC168_1,  PRS2,     2,  8,     12,     12,3,20050305,0908, 22.7427,-157.9952, 1020,     74,     75.5,  22.5878,  35.2059,2,  35.2067,2,    214.5,2, 22.5726,    214.9,2,  -999.00,9,  -999.00,9,  -999.00,9,  -999.0,-999.000
     32WC168_1,  PRS2,     2,  8,     11,     39,2,20050305,0908, 22.7427,-157.9952, 1020,     85,     85.2,  22.5027,  35.2089,2,  35.1996,2,    214.7,2, 22.4856,    212.5,2,  -999.00,9,  -999.00,9,  -999.00,9,  -999.0,-999.000
     32WC168_1,  PRS2,     2,  8,     10,     33,3,20050305,0908, 22.7427,-157.9952, 1020,     99,     99.7,  21.8240,  35.1894,2,  35.1859,2,    201.6,2, 21.8044,    200.4,2,  -999.00,9,  -999.00,9,  -999.00,9,  -999.0,-999.000
     32WC168_1,  PRS2,     2,  8,      9,      3,2,20050305,0908, 22.7427,-157.9952, 1020,    115,    115.2,  21.4159,  35.2078,2,  35.2111,2,    209.4,2, 21.3935,    208.0,2,  -999.00,9,  -999.00,9,  -999.00,9,  -999.0,-999.000
     32WC168_1,  PRS2,     2,  8,      8,     29,2,20050305,0908, 22.7427,-157.9952, 1020,    126,    125.3,  21.2742,  35.2004,2,  35.2000,2,    208.5,2, 21.2500,    206.6,2,  -999.00,9,  -999.00,9,  -999.00,9,  -999.0,-999.000
     32WC168_1,  PRS2,     2,  8,      7,     28,2,20050305,0908, 22.7427,-157.9952, 1020,    149,    150.8,  20.6287,  35.1619,2,  35.1632,2,    196.2,2, 20.6002,    197.9,2,  -999.00,9,  -999.00,9,  -999.00,9,  -999.0,-999.000
     32WC168_1,  PRS2,     2,  8,      6,     13,2,20050305,0908, 22.7427,-157.9952, 1020,    167,    165.3,  20.0789,  35.0810,2,  35.0860,2,    189.1,2, 20.0483,    190.6,2,  -999.00,9,  -999.00,9,  -999.00,9,  -999.0,-999.000
     32WC168_1,  PRS2,     2,  8,      5,     38,2,20050305,0908, 22.7427,-157.9952, 1020,    176,    174.9,  19.8399,  35.0629,2,  35.0614,2,    191.4,2, 19.8077,    191.6,2,  -999.00,9,  -999.00,9,  -999.00,9,  -999.0,-999.000
     32WC168_1,  PRS2,     2,  8,      4,     36,2,20050305,0908, 22.7427,-157.9952, 1020,    200,    199.7,  18.6676,  34.9427,2,  34.9396,2,    196.4,2, 18.6324,    197.3,2,  -999.00,9,  -999.00,9,  -999.00,9,  -999.0,-999.000
     32WC168_1,  PRS2,     2,  8,      3,     35,2,20050305,0908, 22.7427,-157.9952, 1020,    492,    489.4,   6.9522,  34.0621,2,  34.0617,2,    101.6,2,  6.9062,    100.2,2,  -999.00,9,  -999.00,9,  -999.00,9,  -999.0,-999.000
     32WC168_1,  PRS2,     2,  8,      2,      7,2,20050305,0908, 22.7427,-157.9952, 1020,    749,    750.4,   4.9662,  34.3485,2,  34.3468,2,     32.3,2,  4.9054,     32.3,2,  -999.00,9,  -999.00,9,  -999.00,9,  -999.0,-999.000
     32WC168_1,  PRS2,     2,  8,      1,     11,2,20050305,0908, 22.7427,-157.9952, 1020,   1019,   1019.1,   3.9941,  34.4729,2,  34.4724,2,     42.3,2,  3.9169,     43.1,2,  -999.00,9,  -999.00,9,  -999.00,9,  -999.0,-999.000
     32WC168_1,  PRS2,     2,  9,     22,     22,2,20050305,1158, 22.7503,-157.9997, 1020,      6,      5.5,  23.9819,  35.0078,2,  35.0065,2,    209.6,1, 23.9807,   -999.0,9,  -999.00,9,  -999.00,9,  -999.00,9,  -999.0,-999.000
     32WC168_1,  PRS2,     2,  9,     21,     21,2,20050305,1158, 22.7503,-157.9997, 1020,      6,      5.5,  23.9822,  35.0079,2,  35.0065,2,    209.7,1, 23.9811,   -999.0,9,  -999.00,9,  -999.00,9,  -999.00,9,  -999.0,-999.000
     32WC168_1,  PRS2,     2,  9,     20,     41,2,20050305,1158, 22.7503,-157.9997, 1020,      5,      5.5,  23.9833,  35.0079,2,  35.0071,2,    209.8,1, 23.9821,   -999.0,9,  -999.00,9,  -999.00,9,  -999.00,9,  -999.0,-999.000
     32WC168_1,  PRS2,     2,  9,     18,     18,2,20050305,1158, 22.7503,-157.9997, 1020,     25,     24.9,  23.9791,  35.0109,2,  35.0094,2,    210.1,1, 23.9739,   -999.0,9,  -999.00,9,  -999.00,9,  -999.00,9,  -999.0,-999.000
     32WC168_1,  PRS2,     2,  9,     19,     19,2,20050305,1158, 22.7503,-157.9997, 1020,     26,     25.0,  23.9813,  35.0103,2,  35.0092,2,    210.0,1, 23.9761,   -999.0,9,  -999.00,9,  -999.00,9,  -999.00,9,  -999.0,-999.000
     32WC168_1,  PRS2,     2,  9,     17,     17,2,20050305,1158, 22.7503,-157.9997, 1020,     25,     25.1,  23.9784,  35.0111,2,  35.0091,2,    210.2,1, 23.9731,   -999.0,9,  -999.00,9,  -999.00,9,  -999.00,9,  -999.0,-999.000
     32WC168_1,  PRS2,     2,  9,     15,    102,2,20050305,1158, 22.7503,-157.9997, 1020,     46,     44.4,  23.0421,  35.1643,2,  35.1673,2,    213.7,1, 23.0331,   -999.0,9,  -999.00,9,  -999.00,9,  -999.00,9,  -999.0,-999.000
     32WC168_1,  PRS2,     2,  9,     14,    101,2,20050305,1158, 22.7503,-157.9997, 1020,     45,     44.4,  23.0581,  35.1616,2,  35.1488,2,    213.8,1, 23.0490,   -999.0,9,  -999.00,9,  -999.00,9,  -999.00,9,  -999.0,-999.000
     32WC168_1,  PRS2,     2,  9,     16,     34,2,20050305,1158, 22.7503,-157.9997, 1020,     45,     45.0,  23.0012,  35.1666,2,  35.1683,2,    213.7,1, 22.9920,   -999.0,9,  -999.00,9,  -999.00,9,  -999.00,9,  -999.0,-999.000
     32WC168_1,  PRS2,     2,  9,     12,     12,2,20050305,1158, 22.7503,-157.9997, 1020,     75,     74.9,  22.6275,  35.2028,2,  35.2004,2,    214.2,1, 22.6124,   -999.0,9,  -999.00,9,  -999.00,9,  -999.00,9,  -999.0,-999.000
     32WC168_1,  PRS2,     2,  9,     13,     42,2,20050305,1158, 22.7503,-157.9997, 1020,     75,     75.0,  22.6281,  35.2028,2,  35.2018,2,    214.2,1, 22.6130,   -999.0,9,  -999.00,9,  -999.00,9,  -999.00,9,  -999.0,-999.000
     32WC168_1,  PRS2,     2,  9,     11,     39,3,20050305,1158, 22.7503,-157.9997, 1020,     74,     75.0,  22.6315,  35.2023,2,  35.2038,2,    214.2,1, 22.6164,   -999.0,9,  -999.00,9,  -999.00,9,  -999.00,9,  -999.0,-999.000
     32WC168_1,  PRS2,     2,  9,     10,     33,3,20050305,1158, 22.7503,-157.9997, 1020,    100,     99.4,  21.7623,  35.1909,2,  35.1947,2,    198.6,1, 21.7428,   -999.0,9,  -999.00,9,  -999.00,9,  -999.00,9,  -999.0,-999.000
     32WC168_1,  PRS2,     2,  9,      9,      3,2,20050305,1158, 22.7503,-157.9997, 1020,     99,     99.5,  21.7514,  35.1918,2,  35.1855,2,    200.0,1, 21.7319,   -999.0,9,  -999.00,9,  -999.00,9,  -999.00,9,  -999.0,-999.000
     32WC168_1,  PRS2,     2,  9,      8,     29,2,20050305,1158, 22.7503,-157.9997, 1020,    100,     99.6,  21.7408,  35.1928,2,  35.1949,2,    200.5,1, 21.7212,   -999.0,9,  -999.00,9,  -999.00,9,  -999.00,9,  -999.0,-999.000
     32WC168_1,  PRS2,     2,  9,      5,     38,2,20050305,1158, 22.7503,-157.9997, 1020,    126,    125.3,  20.5821,  35.1573,2,  35.1630,2,    194.1,1, 20.5585,   -999.0,9,  -999.00,9,  -999.00,9,  -999.00,9,  -999.0,-999.000
     32WC168_1,  PRS2,     2,  9,      6,     13,2,20050305,1158, 22.7503,-157.9997, 1020,    125,    125.4,  20.5794,  35.1579,2,  35.1654,2,    194.8,1, 20.5557,   -999.0,9,  -999.00,9,  -999.00,9,  -999.00,9,  -999.0,-999.000
     32WC168_1,  PRS2,     2,  9,      7,     28,2,20050305,1158, 22.7503,-157.9997, 1020,    127,    125.7,  20.5713,  35.1573,2,  35.1561,2,    195.3,1, 20.5476,   -999.0,9,  -999.00,9,  -999.00,9,  -999.00,9,  -999.0,-999.000
     32WC168_1,  PRS2,     2,  9,      4,     36,2,20050305,1158, 22.7503,-157.9997, 1020,    152,    150.0,  19.6106,  35.0414,2,  35.0403,2,    190.8,1, 19.5832,   -999.0,9,  -999.00,9,  -999.00,9,  -999.00,9,  -999.0,-999.000
     32WC168_1,  PRS2,     2,  9,      3,     35,2,20050305,1158, 22.7503,-157.9997, 1020,    173,    173.9,  18.7657,  34.9487,2,  34.9534,2,    195.4,1, 18.7349,   -999.0,9,  -999.00,9,  -999.00,9,  -999.00,9,  -999.0,-999.000
     32WC168_1,  PRS2,     2,  9,      2,      7,2,20050305,1158, 22.7503,-157.9997, 1020,    499,    500.1,   7.0079,  34.0588,2,  34.0588,2,    103.2,1,  6.9607,   -999.0,9,  -999.00,9,  -999.00,9,  -999.00,9,  -999.0,-999.000
     32WC168_1,  PRS2,     2,  9,      1,     11,2,20050305,1158, 22.7503,-157.9997, 1020,   1020,   1019.3,   3.9953,  34.4733,2,  34.4736,2,     42.2,1,  3.9181,   -999.0,9,  -999.00,9,  -999.00,9,  -999.00,9,  -999.0,-999.000
     32WC168_1,  PRS2,     2, 10,     16,     34,2,20050305,1456, 22.7497,-157.9997, 1020,      6,      6.3,  23.9664,  35.0213,2,-999.0000,5,    209.9,1, 23.9651,   -999.0,9,  -999.00,9,  -999.00,9,  -999.00,9,  -999.0,-999.000
     32WC168_1,  PRS2,     2, 10,     15,    102,2,20050305,1456, 22.7497,-157.9997, 1020,      7,      6.3,  23.9670,  35.0212,2,  35.0246,2,    210.0,1, 23.9657,   -999.0,9,  -999.00,9,  -999.00,9,  -999.00,9,  -999.0,-999.000
     32WC168_1,  PRS2,     2, 10,     14,    101,2,20050305,1456, 22.7497,-157.9997, 1020,     25,     25.6,  23.9471,  35.0280,2,  35.0252,2,    210.0,1, 23.9417,   -999.0,9,  -999.00,9,  -999.00,9,  -999.00,9,  -999.0,-999.000
     32WC168_1,  PRS2,     2, 10,     13,     42,2,20050305,1456, 22.7497,-157.9997, 1020,     44,     45.6,  23.1163,  35.1645,2,  35.1646,2,    213.5,1, 23.1069,   -999.0,9,  -999.00,9,  -999.00,9,  -999.00,9,  -999.0,-999.000
     32WC168_1,  PRS2,     2, 10,     12,     12,2,20050305,1456, 22.7497,-157.9997, 1020,     77,     76.5,  22.5472,  35.2041,2,  35.2056,2,    214.1,1, 22.5318,   -999.0,9,  -999.00,9,  -999.00,9,  -999.00,9,  -999.0,-999.000
     32WC168_1,  PRS2,     2, 10,     11,     39,2,20050305,1456, 22.7497,-157.9997, 1020,    100,     99.8,  21.4724,  35.2076,2,  35.2044,2,    206.4,1, 21.4529,   -999.0,9,  -999.00,9,  -999.00,9,  -999.00,9,  -999.0,-999.000
     32WC168_1,  PRS2,     2, 10,     10,     33,2,20050305,1456, 22.7497,-157.9997, 1020,    126,    125.7,  20.5903,  35.1617,2,  35.1626,2,    197.2,1, 20.5666,   -999.0,9,  -999.00,9,  -999.00,9,  -999.00,9,  -999.0,-999.000
     32WC168_1,  PRS2,     2, 10,      9,      3,3,20050305,1456, 22.7497,-157.9997, 1020,    150,    150.8,  19.3980,  35.0229,2,  35.0230,2,    194.0,1, 19.3707,   -999.0,9,  -999.00,9,  -999.00,9,  -999.00,9,  -999.0,-999.000
     32WC168_1,  PRS2,     2, 10,      8,     29,2,20050305,1456, 22.7497,-157.9997, 1020,    174,    175.6,  17.9272,  34.8399,2,  34.8776,3,    197.3,1, 17.8972,   -999.0,9,  -999.00,9,  -999.00,9,  -999.00,9,  -999.0,-999.000
     32WC168_1,  PRS2,     2, 10,      7,     28,2,20050305,1456, 22.7497,-157.9997, 1020,    501,    500.4,   7.0273,  34.0592,2,  34.0584,2,    104.3,1,  6.9801,   -999.0,9,  -999.00,9,  -999.00,9,  -999.00,9,  -999.0,-999.000
     32WC168_1,  PRS2,     2, 10,      6,     13,2,20050305,1456, 22.7497,-157.9997, 1020,   1021,   1019.8,   3.9784,  34.4748,2,  34.4750,2,     42.5,1,  3.9013,   -999.0,9,  -999.00,9,  -999.00,9,  -999.00,9,  -999.0,-999.000
     32WC168_1,  PRS2,     2, 10,      1,     11,2,20050305,1456, 22.7497,-157.9997, 1020,   1017,   1019.8,   3.9812,  34.4738,2,  34.4795,2,     42.5,1,  3.9041,   -999.0,9,  -999.00,9,  -999.00,9,  -999.00,9,  -999.0,-999.000
     32WC168_1,  PRS2,     2, 10,      2,      7,2,20050305,1456, 22.7497,-157.9997, 1020,   1020,   1019.9,   3.9807,  34.4739,2,  34.4734,2,     42.5,1,  3.9036,   -999.0,9,  -999.00,9,  -999.00,9,  -999.00,9,  -999.0,-999.000
     32WC168_1,  PRS2,     2, 10,      3,     35,2,20050305,1456, 22.7497,-157.9997, 1020,   1020,   1020.1,   3.9806,  34.4739,2,  34.4738,2,     42.5,1,  3.9035,   -999.0,9,  -999.00,9,  -999.00,9,  -999.00,9,  -999.0,-999.000
     32WC168_1,  PRS2,     2, 10,      4,     36,2,20050305,1456, 22.7497,-157.9997, 1020,   1019,   1020.4,   3.9806,  34.4738,2,  34.4744,2,     42.5,1,  3.9035,   -999.0,9,  -999.00,9,  -999.00,9,  -999.00,9,  -999.0,-999.000
     32WC168_1,  PRS2,     2, 10,      5,     38,2,20050305,1456, 22.7497,-157.9997, 1020,   1019,   1021.1,   3.9794,  34.4737,2,  34.4746,2,     42.5,1,  3.9022,   -999.0,9,  -999.00,9,  -999.00,9,  -999.00,9,  -999.0,-999.000
     32WC168_1,  PRS2,     2, 11,     14,    101,2,20050305,1756, 22.7502,-157.9995, 1020,      6,      5.1,  23.9156,  35.0336,2,  35.0388,2,    210.1,1, 23.9145,   -999.0,9,  -999.00,9,  -999.00,9,  -999.00,9,  -999.0,-999.000
     32WC168_1,  PRS2,     2, 11,     13,     42,2,20050305,1756, 22.7502,-157.9995, 1020,     25,     25.3,  23.7148,  35.0788,2,  35.0781,2,    210.8,1, 23.7095,   -999.0,9,  -999.00,9,  -999.00,9,  -999.00,9,  -999.0,-999.000
     32WC168_1,  PRS2,     2, 11,     12,     12,2,20050305,1756, 22.7502,-157.9995, 1020,     43,     44.6,  23.0528,  35.1732,2,  35.1670,2,    213.6,1, 23.0437,   -999.0,9,  -999.00,9,  -999.00,9,  -999.00,9,  -999.0,-999.000
     32WC168_1,  PRS2,     2, 11,     11,     39,2,20050305,1756, 22.7502,-157.9995, 1020,     74,     73.5,  22.8184,  35.1850,2,  35.1849,2,    213.8,1, 22.8035,   -999.0,9,  -999.00,9,  -999.00,9,  -999.00,9,  -999.0,-999.000
     32WC168_1,  PRS2,     2, 11,     10,     33,2,20050305,1756, 22.7502,-157.9995, 1020,    100,    100.0,  22.2014,  35.1824,2,  35.1912,2,    202.1,1, 22.1815,   -999.0,9,  -999.00,9,  -999.00,9,  -999.00,9,  -999.0,-999.000
     32WC168_1,  PRS2,     2, 11,      9,      3,3,20050305,1756, 22.7502,-157.9995, 1020,    126,    125.2,  21.0790,  35.1925,2,  35.1961,2,    203.5,1, 21.0549,   -999.0,9,  -999.00,9,  -999.00,9,  -999.00,9,  -999.0,-999.000
     32WC168_1,  PRS2,     2, 11,      8,     29,2,20050305,1756, 22.7502,-157.9995, 1020,    151,    150.7,  19.9986,  35.0956,2,  35.0821,2,    192.5,1, 19.9707,   -999.0,9,  -999.00,9,  -999.00,9,  -999.00,9,  -999.0,-999.000
     32WC168_1,  PRS2,     2, 11,      7,     28,2,20050305,1756, 22.7502,-157.9995, 1020,    174,    173.0,  19.4266,  35.0286,2,  35.0262,2,    192.8,1, 19.3952,   -999.0,9,  -999.00,9,  -999.00,9,  -999.00,9,  -999.0,-999.000
     32WC168_1,  PRS2,     2, 11,      6,     13,2,20050305,1756, 22.7502,-157.9995, 1020,    199,    199.4,  17.5385,  34.7736,2,  34.7807,2,    193.4,1, 17.5049,   -999.0,9,  -999.00,9,  -999.00,9,  -999.00,9,  -999.0,-999.000
     32WC168_1,  PRS2,     2, 11,      5,     38,2,20050305,1756, 22.7502,-157.9995, 1020,    249,    250.1,  15.2085,  34.5117,2,  34.5211,2,    205.4,1, 15.1703,   -999.0,9,  -999.00,9,  -999.00,9,  -999.00,9,  -999.0,-999.000
     32WC168_1,  PRS2,     2, 11,      4,     36,2,20050305,1756, 22.7502,-157.9995, 1020,    351,    349.1,  10.3148,  34.1186,2,  34.1199,2,    188.8,1, 10.2736,   -999.0,9,  -999.00,9,  -999.00,9,  -999.00,9,  -999.0,-999.000
     32WC168_1,  PRS2,     2, 11,      3,     35,2,20050305,1756, 22.7502,-157.9995, 1020,    349,    349.2,  10.3080,  34.1191,2,  34.1209,2,    188.8,1, 10.2668,   -999.0,9,  -999.00,9,  -999.00,9,  -999.00,9,  -999.0,-999.000
     32WC168_1,  PRS2,     2, 11,      2,      7,2,20050305,1756, 22.7502,-157.9995, 1020,    503,    500.6,   6.8299,  34.0692,2,  34.0684,2,     94.5,1,  6.7833,   -999.0,9,  -999.00,9,  -999.00,9,  -999.00,9,  -999.0,-999.000
     32WC168_1,  PRS2,     2, 11,      1,     11,2,20050305,1756, 22.7502,-157.9995, 1020,   1019,   1018.7,   3.9089,  34.4828,2,  34.4826,2,     43.7,1,  3.8324,   -999.0,9,  -999.00,9,  -999.00,9,  -999.00,9,  -999.0,-999.000
     32WC168_1,  PRS2,     2, 12,     10,     33,2,20050305,2034, 22.7495,-158.0102, 1020,      5,      4.6,  23.8673,  35.0400,2,  35.0400,2,    210.3,1, 23.8663,   -999.0,9,  -999.00,9,  -999.00,9,  -999.00,9,  -999.0,-999.000
     32WC168_1,  PRS2,     2, 12,      9,      3,2,20050305,2034, 22.7495,-158.0102, 1020,     26,     25.8,  23.2223,  35.1404,2,  35.1467,2,    212.4,1, 23.2170,   -999.0,9,  -999.00,9,  -999.00,9,  -999.00,9,  -999.0,-999.000
     32WC168_1,  PRS2,     2, 12,      8,     29,2,20050305,2034, 22.7495,-158.0102, 1020,     46,     45.0,  23.0314,  35.1660,2,  35.1652,2,    212.3,1, 23.0222,   -999.0,9,  -999.00,9,  -999.00,9,  -999.00,9,  -999.0,-999.000
     32WC168_1,  PRS2,     2, 12,      7,     28,2,20050305,2034, 22.7495,-158.0102, 1020,     76,     74.9,  22.7698,  35.1909,2,  35.1890,2,    214.2,1, 22.7546,   -999.0,9,  -999.00,9,  -999.00,9,  -999.00,9,  -999.0,-999.000
     32WC168_1,  PRS2,     2, 12,      6,     13,2,20050305,2034, 22.7495,-158.0102, 1020,    104,    101.0,  22.1436,  35.1759,2,  35.1744,2,    206.1,1, 22.1236,   -999.0,9,  -999.00,9,  -999.00,9,  -999.00,9,  -999.0,-999.000
     32WC168_1,  PRS2,     2, 12,      5,     38,2,20050305,2034, 22.7495,-158.0102, 1020,    125,    124.8,  21.2605,  35.2033,2,  35.2071,2,    205.9,1, 21.2364,   -999.0,9,  -999.00,9,  -999.00,9,  -999.00,9,  -999.0,-999.000
     32WC168_1,  PRS2,     2, 12,      4,     36,2,20050305,2034, 22.7495,-158.0102, 1020,    150,    149.1,  19.6697,  35.0466,2,  35.0500,2,    191.0,1, 19.6425,   -999.0,9,  -999.00,9,  -999.00,9,  -999.00,9,  -999.0,-999.000
     32WC168_1,  PRS2,     2, 12,      3,     35,3,20050305,2034, 22.7495,-158.0102, 1020,    176,    175.4,  17.9963,  34.8537,2,  34.9858,4,    193.7,1, 17.9662,   -999.0,9,  -999.00,9,  -999.00,9,  -999.00,9,  -999.0,-999.000
     32WC168_1,  PRS2,     2, 12,      2,      7,2,20050305,2034, 22.7495,-158.0102, 1020,    748,    748.7,   4.9827,  34.3391,2,  34.3366,2,     32.7,1,  4.9219,   -999.0,9,  -999.00,9,  -999.00,9,  -999.00,9,  -999.0,-999.000
     32WC168_1,  PRS2,     2, 12,      1,     11,2,20050305,2034, 22.7495,-158.0102, 1020,   1020,   1018.9,   3.9586,  34.4766,2,  34.4769,2,     42.7,1,  3.8817,   -999.0,9,  -999.00,9,  -999.00,9,  -999.00,9,  -999.0,-999.000