BOTTLE,20090923WHPSIOMYS
EXPOCODE,SECT_ID,STNNBR,CASTNO,SAMPNO,BTLNBR,BTLNBR_FLAG_W,DATE,TIME,LATITUDE,LONGITUDE,DEPTH,CTDRAW,CTDPRS,CTDTMP,CTDSAL,CTDSAL_FLAG_W,SALNTY,SALNTY_FLAG_W,CTDOXY,CTDOXY_FLAG_W,THETA,OXYGEN,OXYGEN_FLAG_W,SILCAT,SILCAT_FLAG_W,NO2+NO3,NO2+NO3_FLAG_W,PHSPHT,PHSPHT_FLAG_W,REVPRS,REVTMP
,,,,,,,,,,,,,DBAR,ITS-90,PSS-78,,PSS-78,,UMOL/KG,,ITS-90,UMOL/KG,,UMOL/KG,,UMOL/KG,,UMOL/KG,,DBAR,DEG C
     32WC168_1,  PRS2,     2,  4,     23,     30,2,20050304,2056, 22.7503,-157.9998, 1020,      5,      4.4,  24.2089,  34.9416,2,  34.9421,2,    209.1,1, 24.2080,   -999.0,9,  -999.00,9,  -999.00,9,  -999.00,9,  -999.0,-999.000
     32WC168_1,  PRS2,     2,  4,     22,     22,2,20050304,2056, 22.7503,-157.9998, 1020,      5,      4.5,  24.2098,  34.9416,2,  34.9416,2,    209.3,1, 24.2089,   -999.0,9,  -999.00,9,  -999.00,9,  -999.00,9,  -999.0,-999.000
     32WC168_1,  PRS2,     2,  4,     21,     21,2,20050304,2056, 22.7503,-157.9998, 1020,     25,     24.5,  24.1631,  34.9477,2,  34.9479,2,    209.6,1, 24.1579,   -999.0,9,  -999.00,9,  -999.00,9,  -999.00,9,  -999.0,-999.000
     32WC168_1,  PRS2,     2,  4,     20,     41,2,20050304,2056, 22.7503,-157.9998, 1020,     25,     24.5,  24.1632,  34.9478,2,  34.9469,2,    209.6,1, 24.1580,   -999.0,9,  -999.00,9,  -999.00,9,  -999.00,9,  -999.0,-999.000
     32WC168_1,  PRS2,     2,  4,     19,     19,3,20050304,2056, 22.7503,-157.9998, 1020,     25,     24.6,  24.1633,  34.9482,2,  34.9581,2,    209.6,1, 24.1581,   -999.0,9,  -999.00,9,  -999.00,9,  -999.00,9,  -999.0,-999.000
     32WC168_1,  PRS2,     2,  4,     18,     18,2,20050304,2056, 22.7503,-157.9998, 1020,     46,     45.5,  23.2003,  35.1371,2,  35.1309,2,    212.7,1, 23.1909,   -999.0,9,  -999.00,9,  -999.00,9,  -999.00,9,  -999.0,-999.000
     32WC168_1,  PRS2,     2,  4,     17,     17,2,20050304,2056, 22.7503,-157.9998, 1020,     44,     45.6,  23.1981,  35.1373,2,  35.1329,2,    212.7,1, 23.1887,   -999.0,9,  -999.00,9,  -999.00,9,  -999.00,9,  -999.0,-999.000
     32WC168_1,  PRS2,     2,  4,     16,     34,2,20050304,2056, 22.7503,-157.9998, 1020,     61,     60.4,  22.5900,  35.1497,2,  35.1528,2,    194.2,1, 22.5779,   -999.0,9,  -999.00,9,  -999.00,9,  -999.00,9,  -999.0,-999.000
     32WC168_1,  PRS2,     2,  4,     15,    102,2,20050304,2056, 22.7503,-157.9998, 1020,     76,     75.4,  22.1892,  35.1916,2,  35.1904,2,    199.0,1, 22.1742,   -999.0,9,  -999.00,9,  -999.00,9,  -999.00,9,  -999.0,-999.000
     32WC168_1,  PRS2,     2,  4,     13,     42,2,20050304,2056, 22.7503,-157.9998, 1020,     76,     75.5,  22.1871,  35.1915,2,  35.1963,2,    199.0,1, 22.1720,   -999.0,9,  -999.00,9,  -999.00,9,  -999.00,9,  -999.0,-999.000
     32WC168_1,  PRS2,     2,  4,     14,    101,2,20050304,2056, 22.7503,-157.9998, 1020,     75,     75.6,  22.1878,  35.1915,2,  35.1906,2,    199.0,1, 22.1727,   -999.0,9,  -999.00,9,  -999.00,9,  -999.00,9,  -999.0,-999.000
     32WC168_1,  PRS2,     2,  4,     12,     12,2,20050304,2056, 22.7503,-157.9998, 1020,     85,     84.2,  22.0233,  35.2061,2,  35.2044,2,    205.1,1, 22.0066,   -999.0,9,  -999.00,9,  -999.00,9,  -999.00,9,  -999.0,-999.000
     32WC168_1,  PRS2,     2,  4,     11,     39,2,20050304,2056, 22.7503,-157.9998, 1020,    101,    100.4,  21.6624,  35.2165,2,  35.2136,2,    214.3,1, 21.6428,   -999.0,9,  -999.00,9,  -999.00,9,  -999.00,9,  -999.0,-999.000
     32WC168_1,  PRS2,     2,  4,     10,     33,3,20050304,2056, 22.7503,-157.9998, 1020,    102,    100.4,  21.6600,  35.2170,2,  35.2160,2,    213.9,1, 21.6403,   -999.0,9,  -999.00,9,  -999.00,9,  -999.00,9,  -999.0,-999.000
     32WC168_1,  PRS2,     2,  4,      9,      3,2,20050304,2056, 22.7503,-157.9998, 1020,    116,    115.3,  21.2696,  35.2014,2,  35.1993,2,    207.9,1, 21.2473,   -999.0,9,  -999.00,9,  -999.00,9,  -999.00,9,  -999.0,-999.000
     32WC168_1,  PRS2,     2,  4,      8,     29,2,20050304,2056, 22.7503,-157.9998, 1020,    127,    125.5,  20.8975,  35.1796,2,  35.1790,2,    202.6,1, 20.8735,   -999.0,9,  -999.00,9,  -999.00,9,  -999.00,9,  -999.0,-999.000
     32WC168_1,  PRS2,     2,  4,      7,     28,2,20050304,2056, 22.7503,-157.9998, 1020,    126,    125.7,  20.8825,  35.1777,2,  35.1784,2,    201.5,1, 20.8586,   -999.0,9,  -999.00,9,  -999.00,9,  -999.00,9,  -999.0,-999.000
     32WC168_1,  PRS2,     2,  4,      6,     13,2,20050304,2056, 22.7503,-157.9998, 1020,    127,    125.7,  20.8718,  35.1769,2,  35.1733,2,    200.3,1, 20.8479,   -999.0,9,  -999.00,9,  -999.00,9,  -999.00,9,  -999.0,-999.000
     32WC168_1,  PRS2,     2,  4,      5,     38,2,20050304,2056, 22.7503,-157.9998, 1020,    151,    150.1,  19.6941,  35.0709,2,  35.0675,2,    192.8,1, 19.6666,   -999.0,9,  -999.00,9,  -999.00,9,  -999.00,9,  -999.0,-999.000
     32WC168_1,  PRS2,     2,  4,      4,     36,2,20050304,2056, 22.7503,-157.9998, 1020,    174,    174.6,  18.3363,  34.8832,2,  34.9122,3,    193.0,1, 18.3060,   -999.0,9,  -999.00,9,  -999.00,9,  -999.00,9,  -999.0,-999.000
     32WC168_1,  PRS2,     2,  4,      3,     35,2,20050304,2056, 22.7503,-157.9998, 1020,    200,    199.4,  16.7598,  34.6927,2,  34.6962,2,    199.8,1, 16.7273,   -999.0,9,  -999.00,9,  -999.00,9,  -999.00,9,  -999.0,-999.000
     32WC168_1,  PRS2,     2,  4,      2,      7,2,20050304,2056, 22.7503,-157.9998, 1020,    501,    500.5,   6.9899,  34.0630,2,  34.0637,2,    103.5,1,  6.9428,   -999.0,9,  -999.00,9,  -999.00,9,  -999.00,9,  -999.0,-999.000
     32WC168_1,  PRS2,     2,  4,      1,     11,2,20050304,2056, 22.7503,-157.9998, 1020,   1020,   1019.9,   3.9572,  34.4765,2,  34.4775,2,     42.9,1,  3.8802,   -999.0,9,  -999.00,9,  -999.00,9,  -999.00,9,  -999.0,-999.000
     32WC168_1,  PRS2,     2,  5,     15,    102,2,20050304,2356, 22.7400,-157.9977, 1020,      5,      4.7,  24.1571,  34.9610,2,-999.0000,5,    209.3,1, 24.1561,   -999.0,9,  -999.00,9,  -999.00,9,  -999.00,9,  -999.0,-999.000
     32WC168_1,  PRS2,     2,  5,     17,     17,2,20050304,2356, 22.7400,-157.9977, 1020,      5,      4.8,  24.1567,  34.9608,2,-999.0000,5,    209.3,1, 24.1557,   -999.0,9,  -999.00,9,  -999.00,9,  -999.00,9,  -999.0,-999.000
     32WC168_1,  PRS2,     2,  5,     16,     34,2,20050304,2356, 22.7400,-157.9977, 1020,      5,      4.8,  24.1576,  34.9609,2,-999.0000,5,    209.2,1, 24.1566,   -999.0,9,  -999.00,9,  -999.00,9,  -999.00,9,  -999.0,-999.000
     32WC168_1,  PRS2,     2,  5,     14,    101,2,20050304,2356, 22.7400,-157.9977, 1020,      5,      4.8,  24.1569,  34.9609,2,  34.9604,2,    209.3,1, 24.1559,   -999.0,9,  -999.00,9,  -999.00,9,  -999.00,9,  -999.0,-999.000
     32WC168_1,  PRS2,     2,  5,     13,     42,2,20050304,2356, 22.7400,-157.9977, 1020,     26,     24.9,  24.1084,  34.9686,2,-999.0000,5,    209.5,1, 24.1031,   -999.0,9,  -999.00,9,  -999.00,9,  -999.00,9,  -999.0,-999.000
     32WC168_1,  PRS2,     2,  5,     11,     39,2,20050304,2356, 22.7400,-157.9977, 1020,     26,     25.0,  24.1069,  34.9692,2,-999.0000,5,    209.6,1, 24.1016,   -999.0,9,  -999.00,9,  -999.00,9,  -999.00,9,  -999.0,-999.000
     32WC168_1,  PRS2,     2,  5,     12,     12,2,20050304,2356, 22.7400,-157.9977, 1020,     25,     25.1,  24.1078,  34.9688,2,-999.0000,5,    209.6,1, 24.1025,   -999.0,9,  -999.00,9,  -999.00,9,  -999.00,9,  -999.0,-999.000
     32WC168_1,  PRS2,     2,  5,     10,     33,2,20050304,2356, 22.7400,-157.9977, 1020,     25,     25.1,  24.1057,  34.9695,2,  34.9689,2,    209.6,1, 24.1004,   -999.0,9,  -999.00,9,  -999.00,9,  -999.00,9,  -999.0,-999.000
     32WC168_1,  PRS2,     2,  5,      9,      3,2,20050304,2356, 22.7400,-157.9977, 1020,     44,     44.9,  23.1505,  35.1455,2,  35.1461,2,    213.4,1, 23.1413,   -999.0,9,  -999.00,9,  -999.00,9,  -999.00,9,  -999.0,-999.000
     32WC168_1,  PRS2,     2,  5,      8,     29,2,20050304,2356, 22.7400,-157.9977, 1020,     76,     75.1,  22.4557,  35.1554,2,  35.1618,2,    194.8,1, 22.4407,   -999.0,9,  -999.00,9,  -999.00,9,  -999.00,9,  -999.0,-999.000
     32WC168_1,  PRS2,     2,  5,      7,     28,2,20050304,2356, 22.7400,-157.9977, 1020,    100,     99.9,  21.6789,  35.2150,2,  35.2146,2,    210.7,1, 21.6593,   -999.0,9,  -999.00,9,  -999.00,9,  -999.00,9,  -999.0,-999.000
     32WC168_1,  PRS2,     2,  5,      6,     13,2,20050304,2356, 22.7400,-157.9977, 1020,    126,    126.3,  21.3143,  35.2048,2,  35.2073,2,    207.7,1, 21.2898,   -999.0,9,  -999.00,9,  -999.00,9,  -999.00,9,  -999.0,-999.000
     32WC168_1,  PRS2,     2,  5,      5,     38,2,20050304,2356, 22.7400,-157.9977, 1020,    150,    150.5,  20.1143,  35.0947,2,  35.0953,2,    186.4,1, 20.0864,   -999.0,9,  -999.00,9,  -999.00,9,  -999.00,9,  -999.0,-999.000
     32WC168_1,  PRS2,     2,  5,      4,     36,2,20050304,2356, 22.7400,-157.9977, 1020,    250,    250.2,  13.8335,  34.3235,2,  34.3258,2,    199.7,1, 13.7977,   -999.0,9,  -999.00,9,  -999.00,9,  -999.00,9,  -999.0,-999.000
     32WC168_1,  PRS2,     2,  5,      3,     35,2,20050304,2356, 22.7400,-157.9977, 1020,    350,    349.9,   9.9141,  34.1211,2,  34.1211,2,    185.8,1,  9.8738,   -999.0,9,  -999.00,9,  -999.00,9,  -999.00,9,  -999.0,-999.000
     32WC168_1,  PRS2,     2,  5,      2,      7,2,20050304,2356, 22.7400,-157.9977, 1020,    500,    501.0,   6.9634,  34.0586,2,  34.0607,2,    105.1,1,  6.9163,   -999.0,9,  -999.00,9,  -999.00,9,  -999.00,9,  -999.0,-999.000
     32WC168_1,  PRS2,     2,  5,      1,     11,2,20050304,2356, 22.7400,-157.9977, 1020,   1020,   1019.6,   4.0029,  34.4725,2,  34.4714,2,     42.1,1,  3.9257,   -999.0,9,  -999.00,9,  -999.00,9,  -999.00,9,  -999.0,-999.000
     32WC168_1,  PRS2,     2,  6,     14,    101,2,20050305,0257, 22.7500,-158.0000, 1020,      5,      5.4,  24.1747,  34.9849,2,  34.9860,2,    210.0,1, 24.1736,   -999.0,9,  -999.00,9,  -999.00,9,  -999.00,9,  -999.0,-999.000
     32WC168_1,  PRS2,     2,  6,     13,     42,2,20050305,0257, 22.7500,-158.0000, 1020,     15,     15.4,  24.1757,  34.9850,2,  34.9854,2,    210.1,1, 24.1724,   -999.0,9,  -999.00,9,  -999.00,9,  -999.00,9,  -999.0,-999.000
     32WC168_1,  PRS2,     2,  6,     12,     12,2,20050305,0257, 22.7500,-158.0000, 1020,     26,     25.4,  24.1624,  34.9840,2,  34.9829,2,    210.1,1, 24.1570,   -999.0,9,  -999.00,9,  -999.00,9,  -999.00,9,  -999.0,-999.000
     32WC168_1,  PRS2,     2,  6,     11,     39,2,20050305,0257, 22.7500,-158.0000, 1020,     35,     34.9,  23.9156,  35.0126,2,  35.0087,2,    210.5,1, 23.9083,   -999.0,9,  -999.00,9,  -999.00,9,  -999.00,9,  -999.0,-999.000
     32WC168_1,  PRS2,     2,  6,     10,     33,2,20050305,0257, 22.7500,-158.0000, 1020,     34,     34.9,  23.9082,  35.0136,2,  35.0091,2,    210.6,1, 23.9009,   -999.0,9,  -999.00,9,  -999.00,9,  -999.00,9,  -999.0,-999.000
     32WC168_1,  PRS2,     2,  6,      9,      3,2,20050305,0257, 22.7500,-158.0000, 1020,     46,     45.2,  23.3005,  35.1128,2,  35.1087,2,    213.2,1, 23.2912,   -999.0,9,  -999.00,9,  -999.00,9,  -999.00,9,  -999.0,-999.000
     32WC168_1,  PRS2,     2,  6,      8,     29,2,20050305,0257, 22.7500,-158.0000, 1020,     63,     60.4,  22.9766,  35.1738,2,  35.1738,2,    213.1,1, 22.9643,   -999.0,9,  -999.00,9,  -999.00,9,  -999.00,9,  -999.0,-999.000
     32WC168_1,  PRS2,     2,  6,      7,     28,2,20050305,0257, 22.7500,-158.0000, 1020,     76,     75.6,  22.5267,  35.1571,2,  35.1642,2,    194.2,1, 22.5115,   -999.0,9,  -999.00,9,  -999.00,9,  -999.00,9,  -999.0,-999.000
     32WC168_1,  PRS2,     2,  6,      6,     13,2,20050305,0257, 22.7500,-158.0000, 1020,    101,     99.2,  22.0757,  35.1899,2,  35.1910,2,    200.9,1, 22.0560,   -999.0,9,  -999.00,9,  -999.00,9,  -999.00,9,  -999.0,-999.000
     32WC168_1,  PRS2,     2,  6,      5,     38,2,20050305,0257, 22.7500,-158.0000, 1020,    126,    125.4,  21.2185,  35.2008,2,  35.1908,2,    205.7,1, 21.1943,   -999.0,9,  -999.00,9,  -999.00,9,  -999.00,9,  -999.0,-999.000
     32WC168_1,  PRS2,     2,  6,      4,     36,2,20050305,0257, 22.7500,-158.0000, 1020,    152,    150.3,  19.8664,  35.0790,2,  35.0754,2,    189.1,1, 19.8387,   -999.0,9,  -999.00,9,  -999.00,9,  -999.00,9,  -999.0,-999.000
     32WC168_1,  PRS2,     2,  6,      3,     35,2,20050305,0257, 22.7500,-158.0000, 1020,    175,    176.0,  18.5711,  34.9356,2,  34.9396,2,    197.6,1, 18.5402,   -999.0,9,  -999.00,9,  -999.00,9,  -999.00,9,  -999.0,-999.000
     32WC168_1,  PRS2,     2,  6,      2,      7,2,20050305,0257, 22.7500,-158.0000, 1020,    486,    485.5,   7.0888,  34.0600,2,  34.0629,2,    106.2,1,  7.0428,   -999.0,9,  -999.00,9,  -999.00,9,  -999.00,9,  -999.0,-999.000
     32WC168_1,  PRS2,     2,  6,      1,     11,2,20050305,0257, 22.7500,-158.0000, 1020,   1018,   1019.6,   3.9333,  34.4821,2,  34.4818,2,     43.3,1,  3.8566,   -999.0,9,  -999.00,9,  -999.00,9,  -999.00,9,  -999.0,-999.000
     32WC168_1,  PRS2,     2,  7,     21,     21,2,20050305,0604, 22.7503,-157.9995, 1020,      6,      5.3,  24.1281,  34.9926,2,  34.9943,2,    210.1,1, 24.1270,   -999.0,9,  -999.00,9,  -999.00,9,  -999.00,9,  -999.0,-999.000
     32WC168_1,  PRS2,     2,  7,     22,     22,2,20050305,0604, 22.7503,-157.9995, 1020,      6,      5.4,  24.1280,  34.9927,2,  34.9921,2,    210.1,1, 24.1269,   -999.0,9,  -999.00,9,  -999.00,9,  -999.00,9,  -999.0,-999.000
     32WC168_1,  PRS2,     2,  7,     20,     41,3,20050305,0604, 22.7503,-157.9995, 1020,     26,     25.2,  24.1218,  34.9922,2,  34.9917,2,    210.0,1, 24.1165,   -999.0,9,  -999.00,9,  -999.00,9,  -999.00,9,  -999.0,-999.000
     32WC168_1,  PRS2,     2,  7,     19,     19,2,20050305,0604, 22.7503,-157.9995, 1020,     26,     25.2,  24.1232,  34.9922,2,  34.9941,2,    210.1,1, 24.1179,   -999.0,9,  -999.00,9,  -999.00,9,  -999.00,9,  -999.0,-999.000
     32WC168_1,  PRS2,     2,  7,     18,     18,2,20050305,0604, 22.7503,-157.9995, 1020,     45,     44.7,  23.1891,  35.1341,2,  35.1317,2,    214.0,1, 23.1799,   -999.0,9,  -999.00,9,  -999.00,9,  -999.00,9,  -999.0,-999.000
     32WC168_1,  PRS2,     2,  7,     17,     17,3,20050305,0604, 22.7503,-157.9995, 1020,     45,     44.7,  23.1887,  35.1336,2,-999.0000,5,    214.0,1, 23.1795,   -999.0,9,  -999.00,9,  -999.00,9,  -999.00,9,  -999.0,-999.000
     32WC168_1,  PRS2,     2,  7,     16,     34,2,20050305,0604, 22.7503,-157.9995, 1020,     60,     59.7,  22.8957,  35.1888,2,  35.1914,2,    214.0,1, 22.8836,   -999.0,9,  -999.00,9,  -999.00,9,  -999.00,9,  -999.0,-999.000
     32WC168_1,  PRS2,     2,  7,     15,    102,2,20050305,0604, 22.7503,-157.9995, 1020,     75,     74.2,  22.6236,  35.1939,2,  35.1947,2,    209.3,1, 22.6086,   -999.0,9,  -999.00,9,  -999.00,9,  -999.00,9,  -999.0,-999.000
     32WC168_1,  PRS2,     2,  7,     14,    101,2,20050305,0604, 22.7503,-157.9995, 1020,     74,     74.5,  22.6395,  35.1954,2,  35.1996,2,    208.7,1, 22.6244,   -999.0,9,  -999.00,9,  -999.00,9,  -999.00,9,  -999.0,-999.000
     32WC168_1,  PRS2,     2,  7,     13,     42,2,20050305,0604, 22.7503,-157.9995, 1020,     84,     84.9,  22.1828,  35.1658,2,  35.1648,2,    194.7,1, 22.1660,   -999.0,9,  -999.00,9,  -999.00,9,  -999.00,9,  -999.0,-999.000
     32WC168_1,  PRS2,     2,  7,     12,     12,2,20050305,0604, 22.7503,-157.9995, 1020,    101,     99.1,  21.7309,  35.1987,2,  35.1945,2,    203.0,1, 21.7115,   -999.0,9,  -999.00,9,  -999.00,9,  -999.00,9,  -999.0,-999.000
     32WC168_1,  PRS2,     2,  7,     11,     39,2,20050305,0604, 22.7503,-157.9995, 1020,     98,     99.8,  21.7165,  35.2007,2,  35.1943,2,    203.7,1, 21.6969,   -999.0,9,  -999.00,9,  -999.00,9,  -999.00,9,  -999.0,-999.000
     32WC168_1,  PRS2,     2,  7,     10,     33,2,20050305,0604, 22.7503,-157.9995, 1020,    116,    115.1,  21.3107,  35.2034,2,  35.2018,2,    208.4,1, 21.2884,   -999.0,9,  -999.00,9,  -999.00,9,  -999.00,9,  -999.0,-999.000
     32WC168_1,  PRS2,     2,  7,      8,     29,2,20050305,0604, 22.7503,-157.9995, 1020,    126,    124.5,  20.7618,  35.1670,2,  35.1648,2,    198.3,1, 20.7382,   -999.0,9,  -999.00,9,  -999.00,9,  -999.00,9,  -999.0,-999.000
     32WC168_1,  PRS2,     2,  7,      9,      3,2,20050305,0604, 22.7503,-157.9995, 1020,    125,    124.8,  20.7620,  35.1669,2,  35.1656,2,    199.0,1, 20.7383,   -999.0,9,  -999.00,9,  -999.00,9,  -999.00,9,  -999.0,-999.000
     32WC168_1,  PRS2,     2,  7,      7,     28,2,20050305,0604, 22.7503,-157.9995, 1020,    134,    135.2,  20.2761,  35.1069,2,  35.1106,2,    188.1,1, 20.2509,   -999.0,9,  -999.00,9,  -999.00,9,  -999.00,9,  -999.0,-999.000
     32WC168_1,  PRS2,     2,  7,      6,     13,2,20050305,0604, 22.7503,-157.9995, 1020,    151,    149.7,  19.2574,  35.0157,2,  35.0205,2,    193.4,1, 19.2305,   -999.0,9,  -999.00,9,  -999.00,9,  -999.00,9,  -999.0,-999.000
     32WC168_1,  PRS2,     2,  7,      5,     38,2,20050305,0604, 22.7503,-157.9995, 1020,    151,    149.7,  19.2603,  35.0161,2,  35.0148,2,    193.7,1, 19.2333,   -999.0,9,  -999.00,9,  -999.00,9,  -999.00,9,  -999.0,-999.000
     32WC168_1,  PRS2,     2,  7,      4,     36,2,20050305,0604, 22.7503,-157.9995, 1020,    175,    174.3,  18.8784,  34.9752,2,  34.9740,2,    196.3,1, 18.8475,   -999.0,9,  -999.00,9,  -999.00,9,  -999.00,9,  -999.0,-999.000
     32WC168_1,  PRS2,     2,  7,      3,     35,2,20050305,0604, 22.7503,-157.9995, 1020,    175,    174.4,  18.8757,  34.9748,2,  34.9717,2,    196.4,1, 18.8448,   -999.0,9,  -999.00,9,  -999.00,9,  -999.00,9,  -999.0,-999.000
     32WC168_1,  PRS2,     2,  7,      2,      7,2,20050305,0604, 22.7503,-157.9995, 1020,    500,    499.1,   6.9202,  34.0601,2,  34.0590,2,    101.3,1,  6.8734,   -999.0,9,  -999.00,9,  -999.00,9,  -999.00,9,  -999.0,-999.000
     32WC168_1,  PRS2,     2,  7,      1,     11,2,20050305,0604, 22.7503,-157.9995, 1020,   1021,   1020.8,   3.9586,  34.4791,2,  34.4803,2,     42.6,1,  3.8816,   -999.0,9,  -999.00,9,  -999.00,9,  -999.00,9,  -999.0,-999.000