BOTTLE,20240417CCHHYDRO
EXPOCODE,SECT_ID,STNNBR,CASTNO,SAMPNO,BTLNBR,BTLNBR_FLAG_W,DATE,TIME,LATITUDE,LONGITUDE,DEPTH,CTDPRS,CTDTMP,CTDSAL,CTDSAL_FLAG_W,SALNTY,SALNTY_FLAG_W,CTDOXY,CTDOXY_FLAG_W,OXYGEN,OXYGEN_FLAG_W,SILCAT,SILCAT_FLAG_W,NH4,NH4_FLAG_W,NITRAT,NITRAT_FLAG_W,NITRIT,NITRIT_FLAG_W,PHSPHT,PHSPHT_FLAG_W,CFC-11,CFC-11_FLAG_W,CFC-12,CFC-12_FLAG_W,CFC113,CFC113_FLAG_W,SF6,SF6_FLAG_W,TCARBN,TCARBN_FLAG_W,ALKALI,ALKALI_FLAG_W,PH_TOT,PH_TOT_FLAG_W,PH_TMP,DOC,DOC_FLAG_W,REFTMP,REFTMP_FLAG_W,DELC14,DELC14_FLAG_W,C14ERR,POC,POC_FLAG_W,PON,PON_FLAG_W,POP,POP_FLAG_W,PCOD,PCOD_FLAG_W,DOP,DOP_FLAG_W,TDN,TDN_FLAG_W,CTDFLUOR,CTDFLUOR_FLAG_W,CTDXMISS,CTDXMISS_FLAG_W,N2O,N2O_FLAG_W,ARGON,ARGON_FLAG_W,BTL_DATE,BTL_TIME,BTL_LAT,BTL_LON,KRYPTON,KRYPTON_FLAG_W,XENON,XENON_FLAG_W,HPLC,HPLC_FLAG_W,DNA,DNA_FLAG_W,FCM,FCM_FLAG_W
,,,,,,,,,,,METERS,DBAR,ITS-90,PSS-78,,PSS-78,,UMOL/KG,,UMOL/KG,,UMOL/KG,,UMOL/KG,,UMOL/KG,,UMOL/KG,,UMOL/KG,,PMOL/KG,,PMOL/KG,,PMOL/KG,,FMOL/KG,,UMOL/KG,,UMOL/KG,,,,DEG C,UMOL/KG,,ITS-90,,/MILLE,,/MILLE,UG/KG,,UG/KG,,UG/L,,UG/L,,UMOL/KG,,UMOL/KG,,VOLTS,,VOLTS,,NMOL/KG,,UMOL/L,,,,,,NMOL/L,,NMOL/L,,,,,,,
325020240221  ,I08        ,50      ,  1,5          ,5          ,2,20240322,1550, -41.0097,  94.9837,     3452,   2702.1,   1.9003,  34.7490,2,  34.7486,2,    196.4,2,    196.6,2,    90.58,2,     0.00,2,    30.26,2,     0.00,2,     2.08,2,     -999,9,     -999,9,     -999,9,     -999,9,     -999,9,     -999,9,     -999,9,     -999,     -999,1,   1.9027,2,     -999,9,     -999,     -999,9,     -999,9,     -999,9,     -999,9,     -999,9,     -999,1,   0.0183,1,   4.6435,1,     -999,9,     -999,9,20240322,1610, -41.0097,  94.9837,     -999,9,     -999,9,-999          ,9,-999          ,9,-999          ,9
325020240221  ,I08        ,50      ,  1,4          ,4          ,2,20240322,1550, -41.0097,  94.9837,     3452,   2906.1,   1.6075,  34.7407,2,  34.7394,2,    199.4,2,    199.8,2,   100.34,2,     0.00,2,    30.71,2,     0.00,2,     2.13,2,    0.148,2,    0.078,2,    0.016,4,   0.0080,2,     -999,9,     -999,9,     -999,9,     -999,     -999,1,   1.6095,2,     -999,9,     -999,     -999,9,     -999,9,     -999,9,     -999,9,     -999,9,     -999,1,   0.0183,1,   4.6402,1,     15.8,2,     -999,9,20240322,1605, -41.0097,  94.9837,     -999,9,     -999,9,-999          ,9,-999          ,9,-999          ,9
325020240221  ,I08        ,50      ,  1,3          ,3          ,2,20240322,1550, -41.0097,  94.9837,     3452,   3111.2,   1.4084,  34.7321,2,  34.7311,2,    201.5,2,    201.7,2,   107.27,2,     0.00,2,    31.08,2,     0.00,2,     2.15,2,     -999,9,     -999,9,     -999,9,     -999,9,   2258.5,3,   2360.2,2,   7.6151,6,    25.00,     -999,1,   1.4092,2,     -999,9,     -999,     -999,9,     -999,9,     -999,9,     -999,9,     -999,9,     -999,1,   0.0189,1,   4.6385,1,     -999,9,     -999,9,20240322,1600, -41.0097,  94.9837,     -999,9,     -999,9,-999          ,9,-999          ,9,-999          ,9
325020240221  ,I08        ,50      ,  1,2          ,2          ,2,20240322,1550, -41.0097,  94.9837,     3452,   3300.0,   1.2913,  34.7263,2,  34.7254,2,    202.7,2,    202.7,2,   111.66,2,     0.02,2,    31.34,2,     0.00,2,     2.16,2,    0.201,2,    0.105,2,    0.025,4,   0.0000,2,     -999,9,     -999,9,     -999,9,     -999,     -999,1,   1.2914,2,     -999,9,     -999,     -999,9,     -999,9,     -999,9,     -999,9,     -999,9,     -999,1,   0.0183,1,   4.6386,1,     15.3,2,     -999,9,20240322,1555, -41.0097,  94.9837,     -999,9,     -999,9,-999          ,9,-999          ,9,-999          ,9
325020240221  ,I08        ,50      ,  1,1          ,1          ,2,20240322,1550, -41.0097,  94.9837,     3452,   3497.6,   1.2812,  34.7250,2,  34.7256,2,    202.9,2,    202.7,2,   112.64,2,     0.02,2,    31.45,2,     0.00,2,     2.18,2,    0.205,2,    0.108,2,    0.044,4,   0.0000,2,   2258.3,3,   2363.1,2,   7.6134,2,    25.00,     -999,1,   1.2812,2,     -999,9,     -999,     -999,9,     -999,9,     -999,9,     -999,9,     -999,9,     -999,1,   0.0183,1,   4.6409,1,      9.6,4,     -999,9,20240322,1550, -41.0097,  94.9837,     -999,9,     -999,9,-999          ,9,-999          ,9,-999          ,9