BOTTLE,20240417CCHHYDRO
EXPOCODE,SECT_ID,STNNBR,CASTNO,SAMPNO,BTLNBR,BTLNBR_FLAG_W,DATE,TIME,LATITUDE,LONGITUDE,DEPTH,CTDPRS,CTDTMP,CTDSAL,CTDSAL_FLAG_W,SALNTY,SALNTY_FLAG_W,CTDOXY,CTDOXY_FLAG_W,OXYGEN,OXYGEN_FLAG_W,SILCAT,SILCAT_FLAG_W,NH4,NH4_FLAG_W,NITRAT,NITRAT_FLAG_W,NITRIT,NITRIT_FLAG_W,PHSPHT,PHSPHT_FLAG_W,CFC-11,CFC-11_FLAG_W,CFC-12,CFC-12_FLAG_W,CFC113,CFC113_FLAG_W,SF6,SF6_FLAG_W,TCARBN,TCARBN_FLAG_W,ALKALI,ALKALI_FLAG_W,PH_TOT,PH_TOT_FLAG_W,PH_TMP,DOC,DOC_FLAG_W,REFTMP,REFTMP_FLAG_W,DELC14,DELC14_FLAG_W,C14ERR,POC,POC_FLAG_W,PON,PON_FLAG_W,POP,POP_FLAG_W,PCOD,PCOD_FLAG_W,DOP,DOP_FLAG_W,TDN,TDN_FLAG_W,CTDFLUOR,CTDFLUOR_FLAG_W,CTDXMISS,CTDXMISS_FLAG_W,N2O,N2O_FLAG_W,ARGON,ARGON_FLAG_W,BTL_DATE,BTL_TIME,BTL_LAT,BTL_LON,KRYPTON,KRYPTON_FLAG_W,XENON,XENON_FLAG_W,HPLC,HPLC_FLAG_W,DNA,DNA_FLAG_W,FCM,FCM_FLAG_W
,,,,,,,,,,,METERS,DBAR,ITS-90,PSS-78,,PSS-78,,UMOL/KG,,UMOL/KG,,UMOL/KG,,UMOL/KG,,UMOL/KG,,UMOL/KG,,UMOL/KG,,PMOL/KG,,PMOL/KG,,PMOL/KG,,FMOL/KG,,UMOL/KG,,UMOL/KG,,,,DEG C,UMOL/KG,,ITS-90,,/MILLE,,/MILLE,UG/KG,,UG/KG,,UG/L,,UG/L,,UMOL/KG,,UMOL/KG,,VOLTS,,VOLTS,,NMOL/KG,,UMOL/L,,,,,,NMOL/L,,NMOL/L,,,,,,,
325020240221  ,I08        ,51      ,  1,5          ,5          ,2,20240322,2151, -40.4970,  95.0051,     3501,   2773.3,   1.7461,  34.7454,2,  34.7439,2,    198.3,2,    198.5,2,    95.26,2,     0.00,2,    30.39,2,     0.00,2,     2.10,2,    0.167,2,    0.093,2,    0.008,4,   0.0190,2,   2251.3,3,   2358.2,2,   7.6178,2,    25.03,     -999,9,   1.7432,2,     -999,9,     -999,     -999,9,     -999,9,     -999,9,     -999,9,     -999,9,     -999,9,   0.0183,1,   4.6410,1,     12.6,2,     -999,9,20240322,2210, -40.4970,  95.0051,     -999,9,     -999,9,-999          ,9,-999          ,9,-999          ,9
325020240221  ,I08        ,51      ,  1,4          ,4          ,2,20240322,2151, -40.4970,  95.0051,     3501,   2978.1,   1.4778,  34.7355,2,  34.7345,2,    201.0,2,    200.9,2,   104.44,2,     0.00,2,    30.89,2,     0.00,2,     2.13,2,    0.167,2,    0.088,2,    0.012,4,   0.0000,2,   2252.9,3,   2359.4,2,   7.6157,6,    24.99,     -999,9,   1.4778,2,     -999,9,     -999,     -999,9,     -999,9,     -999,9,     -999,9,     -999,9,     -999,9,   0.0183,1,   4.6385,1,     13.1,2,     -999,9,20240322,2205, -40.4970,  95.0051,     -999,9,     -999,9,-999          ,9,-999          ,9,-999          ,9
325020240221  ,I08        ,51      ,  1,3          ,3          ,2,20240322,2151, -40.4970,  95.0051,     3501,   3249.0,   1.3044,  34.7271,2,  34.7258,2,    202.7,2,    202.8,2,   110.88,2,     0.00,2,    31.23,2,     0.00,2,     2.16,2,    0.208,2,    0.105,2,    0.017,4,   0.0030,2,   2257.5,3,   2360.9,2,   7.6132,2,    24.97,     -999,9,   1.3047,2,     -999,9,     -999,     -999,9,     -999,9,     -999,9,     -999,9,     -999,9,     -999,9,   0.0183,1,   4.6386,1,     13.5,2,     -999,9,20240322,2159, -40.4970,  95.0051,     -999,9,     -999,9,-999          ,9,-999          ,9,-999          ,9
325020240221  ,I08        ,51      ,  1,2          ,2          ,2,20240322,2151, -40.4970,  95.0051,     3501,   3402.1,   1.2571,  34.7245,3,  34.7223,2,    203.2,2,    203.1,2,   112.05,2,     0.00,2,    31.39,2,     0.00,2,     2.16,2,    0.245,2,    0.120,2,    0.026,4,   0.0040,2,   2258.4,3,   2364.0,2,   7.6133,2,    25.02,     -999,9,   1.2576,2,     -999,9,     -999,     -999,9,     -999,9,     -999,9,     -999,9,     -999,9,     -999,9,   0.0183,1,   4.6386,1,     13.6,2,     -999,9,20240322,2155, -40.4970,  95.0051,     -999,9,     -999,9,-999          ,9,-999          ,9,-999          ,9
325020240221  ,I08        ,51      ,  1,1          ,1          ,2,20240322,2151, -40.4970,  95.0051,     3501,   3549.1,   1.2471,  34.7232,2,  34.7217,2,    203.4,2,    203.4,2,   113.71,2,     0.00,2,    31.46,2,     0.00,2,     2.16,2,    0.232,2,    0.117,2,    0.042,4,   0.0000,2,   2258.5,3,   2363.3,2,   7.6129,2,    25.05,     -999,9,   1.2472,2,     -999,9,     -999,     -999,9,     -999,9,     -999,9,     -999,9,     -999,9,     -999,9,   0.0183,1,   4.6388,1,      9.1,4,     -999,9,20240322,2151, -40.4970,  95.0051,     -999,9,     -999,9,-999          ,9,-999          ,9,-999          ,9
325020240221  ,I08        ,52      ,  1,22         ,22         ,2,20240323,0238, -39.9973,  94.9950,     -999,      3.2,  15.2352,  34.7628,2,     -999,9,    258.5,2,     -999,9,     -999,9,     -999,9,     -999,9,     -999,9,     -999,9,     -999,9,     -999,9,     -999,9,     -999,9,     -999,9,     -999,9,     -999,9,     -999,     -999,9,  15.2484,2,     -999,9,     -999,     -999,9,     -999,1,     -999,1,     -999,1,     -999,1,     -999,9,   0.0342,1,   4.4309,1,     -999,9,     -999,9,20240323,0256, -39.9973,  94.9950,     -999,9,     -999,9,-999          ,9,-999          ,9,-999          ,9
325020240221  ,I08        ,52      ,  1,13         ,13         ,2,20240323,0238, -39.9973,  94.9950,     -999,      3.2,  15.2472,  34.7637,2,     -999,9,    258.3,2,     -999,9,     -999,9,     -999,9,     -999,9,     -999,9,     -999,9,     -999,9,     -999,9,     -999,9,     -999,9,     -999,9,     -999,9,     -999,9,     -999,     -999,9,  15.2458,2,     -999,9,     -999,     -999,9,     -999,9,     -999,9,     -999,9,     -999,9,     -999,9,   0.0353,1,   4.4288,1,     -999,9,     -999,9,20240323,0255, -39.9973,  94.9950,     -999,9,     -999,9,-999          ,1,-999          ,9,-999          ,9
325020240221  ,I08        ,52      ,  1,12         ,12         ,2,20240323,0238, -39.9973,  94.9950,     -999,      3.3,  15.2362,  34.7629,2,     -999,9,    258.2,2,     -999,9,     -999,9,     -999,9,     -999,9,     -999,9,     -999,9,     -999,9,     -999,9,     -999,9,     -999,9,     -999,9,     -999,9,     -999,9,     -999,     -999,9,  15.2419,2,     -999,9,     -999,     -999,9,     -999,9,     -999,9,     -999,9,     -999,9,     -999,9,   0.0366,1,   4.4299,1,     -999,9,     -999,9,20240323,0255, -39.9973,  94.9950,     -999,9,     -999,9,-999          ,1,-999          ,9,-999          ,1
325020240221  ,I08        ,52      ,  1,24         ,24         ,2,20240323,0238, -39.9973,  94.9950,     -999,      3.3,  15.2575,  34.7634,2,     -999,9,    258.2,2,     -999,9,     -999,9,     -999,9,     -999,9,     -999,9,     -999,9,     -999,9,     -999,9,     -999,9,     -999,9,     -999,9,     -999,9,     -999,9,     -999,     -999,9,     -999,1,     -999,9,     -999,     -999,9,     -999,1,     -999,1,     -999,1,     -999,1,     -999,9,   0.0366,1,   4.4263,1,     -999,9,     -999,9,20240323,0256, -39.9973,  94.9950,     -999,9,     -999,9,-999          ,9,-999          ,9,-999          ,9
325020240221  ,I08        ,52      ,  1,32         ,32         ,2,20240323,0238, -39.9973,  94.9950,     -999,      3.3,  15.2588,  34.7634,2,     -999,9,    258.2,2,     -999,9,     -999,9,     -999,9,     -999,9,     -999,9,     -999,9,     -999,9,     -999,9,     -999,9,     -999,9,     -999,9,     -999,9,     -999,9,     -999,     -999,9,  15.2571,2,     -999,9,     -999,     -999,9,     -999,1,     -999,1,     -999,1,     -999,1,     -999,9,   0.0342,1,   4.4289,1,     -999,9,     -999,9,20240323,0257, -39.9973,  94.9950,     -999,9,     -999,9,-999          ,9,-999          ,9,-999          ,9
325020240221  ,I08        ,52      ,  1,34         ,34         ,2,20240323,0238, -39.9973,  94.9950,     -999,      3.3,  15.2567,  34.7634,2,     -999,9,    258.2,2,     -999,9,     -999,9,     -999,9,     -999,9,     -999,9,     -999,9,     -999,9,     -999,9,     -999,9,     -999,9,     -999,9,     -999,9,     -999,9,     -999,     -999,9,     -999,1,     -999,9,     -999,     -999,9,     -999,1,     -999,1,     -999,1,     -999,1,     -999,9,   0.0342,1,   4.4296,1,     -999,9,     -999,9,20240323,0257, -39.9973,  94.9950,     -999,9,     -999,9,-999          ,9,-999          ,9,-999          ,9
325020240221  ,I08        ,52      ,  1,14         ,14         ,2,20240323,0238, -39.9973,  94.9950,     -999,      3.4,  15.2436,  34.7634,2,     -999,9,    258.3,2,     -999,9,     -999,9,     -999,9,     -999,9,     -999,9,     -999,9,     -999,9,     -999,9,     -999,9,     -999,9,     -999,9,     -999,9,     -999,9,     -999,     -999,9,     -999,1,     -999,9,     -999,     -999,9,     -999,9,     -999,9,     -999,9,     -999,9,     -999,9,   0.0364,1,   4.4288,1,     -999,9,     -999,9,20240323,0255, -39.9973,  94.9950,     -999,9,     -999,9,-999          ,9,-999          ,1,-999          ,9
325020240221  ,I08        ,52      ,  1,16         ,16         ,2,20240323,0238, -39.9973,  94.9950,     -999,      3.5,  15.2419,  34.7635,2,     -999,9,    258.4,2,     -999,9,     -999,9,     -999,9,     -999,9,     -999,9,     -999,9,     -999,9,     -999,9,     -999,9,     -999,9,     -999,9,     -999,9,     -999,9,     -999,     -999,9,  15.2492,2,     -999,9,     -999,     -999,9,     -999,1,     -999,1,     -999,1,     -999,1,     -999,9,   0.0342,1,   4.4314,1,     -999,9,     -999,9,20240323,0255, -39.9973,  94.9950,     -999,9,     -999,9,-999          ,9,-999          ,9,-999          ,9
325020240221  ,I08        ,52      ,  1,20         ,20         ,2,20240323,0238, -39.9973,  94.9950,     -999,      3.5,  15.2543,  34.7634,2,     -999,9,    258.4,2,     -999,9,     -999,9,     -999,9,     -999,9,     -999,9,     -999,9,     -999,9,     -999,9,     -999,9,     -999,9,     -999,9,     -999,9,     -999,9,     -999,     -999,9,     -999,1,     -999,9,     -999,     -999,9,     -999,1,     -999,1,     -999,1,     -999,1,     -999,9,   0.0342,1,   4.4336,1,     -999,9,     -999,9,20240323,0256, -39.9973,  94.9950,     -999,9,     -999,9,-999          ,9,-999          ,9,-999          ,9
325020240221  ,I08        ,52      ,  1,36         ,36         ,2,20240323,0238, -39.9973,  94.9950,     -999,      3.6,  15.2486,  34.7635,2,     -999,9,    258.2,2,     -999,9,     -999,9,     -999,9,     -999,9,     -999,9,     -999,9,     -999,9,     -999,9,     -999,9,     -999,9,     -999,9,     -999,9,     -999,9,     -999,     -999,9,  15.2530,2,     -999,9,     -999,     -999,9,     -999,1,     -999,1,     -999,1,     -999,1,     -999,9,   0.0342,1,   4.4273,1,     -999,9,     -999,9,20240323,0257, -39.9973,  94.9950,     -999,9,     -999,9,-999          ,9,-999          ,9,-999          ,9
325020240221  ,I08        ,52      ,  1,30         ,30         ,2,20240323,0238, -39.9973,  94.9950,     -999,      3.6,  15.2530,  34.7632,2,     -999,9,    258.3,2,     -999,9,     -999,9,     -999,9,     -999,9,     -999,9,     -999,9,     -999,9,     -999,9,     -999,9,     -999,9,     -999,9,     -999,9,     -999,9,     -999,     -999,9,  15.2575,2,     -999,9,     -999,     -999,9,     -999,1,     -999,1,     -999,1,     -999,1,     -999,9,   0.0353,1,   4.4278,1,     -999,9,     -999,9,20240323,0256, -39.9973,  94.9950,     -999,9,     -999,9,-999          ,9,-999          ,9,-999          ,9
325020240221  ,I08        ,52      ,  1,18         ,18         ,2,20240323,0238, -39.9973,  94.9950,     -999,      3.9,  15.2598,  34.7630,2,     -999,9,    258.2,2,     -999,9,     -999,9,     -999,9,     -999,9,     -999,9,     -999,9,     -999,9,     -999,9,     -999,9,     -999,9,     -999,9,     -999,9,     -999,9,     -999,     -999,9,     -999,1,     -999,9,     -999,     -999,9,     -999,1,     -999,1,     -999,1,     -999,1,     -999,9,   0.0342,1,   4.4328,1,     -999,9,     -999,9,20240323,0256, -39.9973,  94.9950,     -999,9,     -999,9,-999          ,9,-999          ,9,-999          ,9
325020240221  ,I08        ,52      ,  1,19         ,19         ,2,20240323,0238, -39.9973,  94.9950,     -999,      4.0,  15.2570,  34.7633,2,     -999,9,    258.3,2,     -999,9,     -999,9,     -999,9,     -999,9,     -999,9,     -999,9,     -999,9,     -999,9,     -999,9,     -999,9,     -999,9,     -999,9,     -999,9,     -999,     -999,9,  15.2514,2,     -999,9,     -999,     -999,9,     -999,9,     -999,9,     -999,9,     -999,9,     -999,9,   0.0342,1,   4.4301,1,     -999,9,     -999,9,20240323,0256, -39.9973,  94.9950,     -999,9,     -999,9,-999          ,1,-999          ,9,-999          ,9
325020240221  ,I08        ,52      ,  1,26         ,26         ,2,20240323,0238, -39.9973,  94.9950,     -999,     35.1,  14.8284,  34.7588,2,     -999,9,    257.0,2,     -999,9,     -999,9,     -999,9,     -999,9,     -999,9,     -999,9,     -999,9,     -999,9,     -999,9,     -999,9,     -999,9,     -999,9,     -999,9,     -999,     -999,9,  14.8293,2,     -999,9,     -999,     -999,1,     -999,9,     -999,9,     -999,9,     -999,9,     -999,9,   0.0957,1,   4.4545,1,     -999,9,     -999,9,20240323,0253, -39.9973,  94.9950,     -999,9,     -999,9,-999          ,1,-999          ,9,-999          ,9
325020240221  ,I08        ,52      ,  1,11         ,11         ,2,20240323,0238, -39.9973,  94.9950,     -999,     39.7,  14.7561,  34.7565,2,     -999,9,    255.4,2,     -999,9,     -999,9,     -999,9,     -999,9,     -999,9,     -999,9,     -999,9,     -999,9,     -999,9,     -999,9,     -999,9,     -999,9,     -999,9,     -999,     -999,9,  14.7694,2,     -999,9,     -999,     -999,9,     -999,9,     -999,9,     -999,9,     -999,9,     -999,9,   0.0913,1,   4.4933,1,     -999,9,     -999,9,20240323,0252, -39.9973,  94.9950,     -999,9,     -999,9,-999          ,9,-999          ,9,-999          ,9
325020240221  ,I08        ,52      ,  1,10         ,10         ,2,20240323,0238, -39.9973,  94.9950,     -999,     39.8,  14.7551,  34.7565,2,     -999,9,    255.1,2,     -999,9,     -999,9,     -999,9,     -999,9,     -999,9,     -999,9,     -999,9,     -999,9,     -999,9,     -999,9,     -999,9,     -999,9,     -999,9,     -999,     -999,9,  14.7626,2,     -999,9,     -999,     -999,9,     -999,9,     -999,9,     -999,9,     -999,9,     -999,9,   0.0903,1,   4.4929,1,     -999,9,     -999,9,20240323,0251, -39.9973,  94.9950,     -999,9,     -999,9,-999          ,1,-999          ,9,-999          ,1
325020240221  ,I08        ,52      ,  1,17         ,17         ,2,20240323,0238, -39.9973,  94.9950,     -999,     42.4,  14.6851,  34.7513,2,     -999,9,    255.1,2,     -999,9,     -999,9,     -999,9,     -999,9,     -999,9,     -999,9,     -999,9,     -999,9,     -999,9,     -999,9,     -999,9,     -999,9,     -999,9,     -999,     -999,9,  14.6941,2,     -999,9,     -999,     -999,1,     -999,9,     -999,9,     -999,9,     -999,9,     -999,9,   0.0888,1,   4.5020,1,     -999,9,     -999,9,20240323,0250, -39.9973,  94.9950,     -999,9,     -999,9,-999          ,9,-999          ,9,-999          ,9
325020240221  ,I08        ,52      ,  1,15         ,15         ,2,20240323,0238, -39.9973,  94.9950,     -999,     49.7,  14.5417,  34.7442,2,     -999,9,    252.9,2,     -999,9,     -999,9,     -999,9,     -999,9,     -999,9,     -999,9,     -999,9,     -999,9,     -999,9,     -999,9,     -999,9,     -999,9,     -999,9,     -999,     -999,9,  14.5441,2,     -999,9,     -999,     -999,1,     -999,9,     -999,9,     -999,9,     -999,9,     -999,9,   0.0807,1,   4.5413,1,     -999,9,     -999,9,20240323,0249, -39.9973,  94.9950,     -999,9,     -999,9,-999          ,9,-999          ,9,-999          ,9
325020240221  ,I08        ,52      ,  1,9          ,9          ,2,20240323,0238, -39.9973,  94.9950,     -999,     74.7,  12.3076,  34.8132,2,     -999,9,    258.5,2,     -999,9,     -999,9,     -999,9,     -999,9,     -999,9,     -999,9,     -999,9,     -999,9,     -999,9,     -999,9,     -999,9,     -999,9,     -999,9,     -999,     -999,9,  12.3164,2,     -999,9,     -999,     -999,9,     -999,9,     -999,9,     -999,9,     -999,9,     -999,9,   0.0456,1,   4.6202,1,     -999,9,     -999,9,20240323,0247, -39.9973,  94.9950,     -999,9,     -999,9,-999          ,9,-999          ,9,-999          ,1
325020240221  ,I08        ,52      ,  1,27         ,27         ,2,20240323,0238, -39.9973,  94.9950,     -999,     84.9,  11.5478,  34.8243,2,     -999,9,    258.7,2,     -999,9,     -999,9,     -999,9,     -999,9,     -999,9,     -999,9,     -999,9,     -999,9,     -999,9,     -999,9,     -999,9,     -999,9,     -999,9,     -999,     -999,9,  11.5515,2,     -999,9,     -999,     -999,1,     -999,9,     -999,9,     -999,9,     -999,9,     -999,9,   0.0326,1,   4.6411,1,     -999,9,     -999,9,20240323,0246, -39.9973,  94.9950,     -999,9,     -999,9,-999          ,1,-999          ,9,-999          ,9
325020240221  ,I08        ,52      ,  1,8          ,8          ,2,20240323,0238, -39.9973,  94.9950,     -999,     99.9,  11.3045,  34.8543,2,     -999,9,    255.6,2,     -999,9,     -999,9,     -999,9,     -999,9,     -999,9,     -999,9,     -999,9,     -999,9,     -999,9,     -999,9,     -999,9,     -999,9,     -999,9,     -999,     -999,9,  11.3052,2,     -999,9,     -999,     -999,9,     -999,9,     -999,9,     -999,9,     -999,9,     -999,9,   0.0269,1,   4.6625,1,     -999,9,     -999,9,20240323,0244, -39.9973,  94.9950,     -999,9,     -999,9,-999          ,9,-999          ,1,-999          ,9
325020240221  ,I08        ,52      ,  1,7          ,7          ,2,20240323,0238, -39.9973,  94.9950,     -999,    100.0,  11.3046,  34.8545,2,     -999,9,    255.4,2,     -999,9,     -999,9,     -999,9,     -999,9,     -999,9,     -999,9,     -999,9,     -999,9,     -999,9,     -999,9,     -999,9,     -999,9,     -999,9,     -999,     -999,9,  11.3055,2,     -999,9,     -999,     -999,9,     -999,9,     -999,9,     -999,9,     -999,9,     -999,9,   0.0273,1,   4.6641,1,     -999,9,     -999,9,20240323,0244, -39.9973,  94.9950,     -999,9,     -999,9,-999          ,1,-999          ,9,-999          ,1
325020240221  ,I08        ,52      ,  1,6          ,6          ,2,20240323,0238, -39.9973,  94.9950,     -999,    150.4,  11.1169,  34.8563,2,     -999,9,    256.4,2,     -999,9,     -999,9,     -999,9,     -999,9,     -999,9,     -999,9,     -999,9,     -999,9,     -999,9,     -999,9,     -999,9,     -999,9,     -999,9,     -999,     -999,9,  11.1193,2,     -999,9,     -999,     -999,9,     -999,9,     -999,9,     -999,9,     -999,9,     -999,9,   0.0195,1,   4.6761,1,     -999,9,     -999,9,20240323,0242, -39.9973,  94.9950,     -999,9,     -999,9,-999          ,9,-999          ,9,-999          ,1
325020240221  ,I08        ,52      ,  1,4          ,4          ,2,20240323,0238, -39.9973,  94.9950,     -999,    200.6,  11.0887,  34.8797,2,     -999,9,    255.8,2,     -999,9,     -999,9,     -999,9,     -999,9,     -999,9,     -999,9,     -999,9,     -999,9,     -999,9,     -999,9,     -999,9,     -999,9,     -999,9,     -999,     -999,9,  11.0904,2,     -999,9,     -999,     -999,9,     -999,9,     -999,9,     -999,9,     -999,9,     -999,9,   0.0177,1,   4.6778,1,     -999,9,     -999,9,20240323,0238, -39.9973,  94.9950,     -999,9,     -999,9,-999          ,9,-999          ,1,-999          ,9
325020240221  ,I08        ,52      ,  1,5          ,5          ,2,20240323,0238, -39.9973,  94.9950,     -999,    200.6,  11.0895,  34.8800,2,     -999,9,    255.8,2,     -999,9,     -999,9,     -999,9,     -999,9,     -999,9,     -999,9,     -999,9,     -999,9,     -999,9,     -999,9,     -999,9,     -999,9,     -999,9,     -999,     -999,9,     -999,1,     -999,9,     -999,     -999,9,     -999,9,     -999,9,     -999,9,     -999,9,     -999,9,   0.0183,1,   4.6782,1,     -999,9,     -999,9,20240323,0239, -39.9973,  94.9950,     -999,9,     -999,9,-999          ,9,-999          ,9,-999          ,1
325020240221  ,I08        ,52      ,  1,3          ,3          ,2,20240323,0238, -39.9973,  94.9950,     -999,    200.8,  11.0908,  34.8802,2,     -999,9,    255.6,2,     -999,9,     -999,9,     -999,9,     -999,9,     -999,9,     -999,9,     -999,9,     -999,9,     -999,9,     -999,9,     -999,9,     -999,9,     -999,9,     -999,     -999,9,  11.0921,2,     -999,9,     -999,     -999,9,     -999,9,     -999,9,     -999,9,     -999,9,     -999,9,   0.0183,1,   4.6783,1,     -999,9,     -999,9,20240323,0240, -39.9973,  94.9950,     -999,9,     -999,9,-999          ,9,-999          ,9,-999          ,9