BOTTLE,20240417CCHHYDRO
EXPOCODE,SECT_ID,STNNBR,CASTNO,SAMPNO,BTLNBR,BTLNBR_FLAG_W,DATE,TIME,LATITUDE,LONGITUDE,DEPTH,CTDPRS,CTDTMP,CTDSAL,CTDSAL_FLAG_W,SALNTY,SALNTY_FLAG_W,CTDOXY,CTDOXY_FLAG_W,OXYGEN,OXYGEN_FLAG_W,SILCAT,SILCAT_FLAG_W,NH4,NH4_FLAG_W,NITRAT,NITRAT_FLAG_W,NITRIT,NITRIT_FLAG_W,PHSPHT,PHSPHT_FLAG_W,CFC-11,CFC-11_FLAG_W,CFC-12,CFC-12_FLAG_W,CFC113,CFC113_FLAG_W,SF6,SF6_FLAG_W,TCARBN,TCARBN_FLAG_W,ALKALI,ALKALI_FLAG_W,PH_TOT,PH_TOT_FLAG_W,PH_TMP,DOC,DOC_FLAG_W,REFTMP,REFTMP_FLAG_W,DELC14,DELC14_FLAG_W,C14ERR,POC,POC_FLAG_W,PON,PON_FLAG_W,POP,POP_FLAG_W,PCOD,PCOD_FLAG_W,DOP,DOP_FLAG_W,TDN,TDN_FLAG_W,CTDFLUOR,CTDFLUOR_FLAG_W,CTDXMISS,CTDXMISS_FLAG_W,N2O,N2O_FLAG_W,ARGON,ARGON_FLAG_W,BTL_DATE,BTL_TIME,BTL_LAT,BTL_LON,KRYPTON,KRYPTON_FLAG_W,XENON,XENON_FLAG_W,HPLC,HPLC_FLAG_W,DNA,DNA_FLAG_W,FCM,FCM_FLAG_W
,,,,,,,,,,,METERS,DBAR,ITS-90,PSS-78,,PSS-78,,UMOL/KG,,UMOL/KG,,UMOL/KG,,UMOL/KG,,UMOL/KG,,UMOL/KG,,UMOL/KG,,PMOL/KG,,PMOL/KG,,PMOL/KG,,FMOL/KG,,UMOL/KG,,UMOL/KG,,,,DEG C,UMOL/KG,,ITS-90,,/MILLE,,/MILLE,UG/KG,,UG/KG,,UG/L,,UG/L,,UMOL/KG,,UMOL/KG,,VOLTS,,VOLTS,,NMOL/KG,,UMOL/L,,,,,,NMOL/L,,NMOL/L,,,,,,,
325020240221  ,I08        ,36      ,  2,36         ,36         ,2,20240318,1116, -49.2829,  91.2569,     3702,      5.7,   9.2399,  33.9974,2,  33.9974,2,    279.5,2,    279.7,2,     1.46,2,     0.19,2,    13.66,2,     0.24,2,     1.05,2,    3.680,2,    1.918,2,    0.592,4,   3.3210,2,   2099.4,3,   2275.0,2,   7.8064,2,    24.99,     -999,1,   9.2395,2,     -999,1,     -999,     -999,9,     -999,9,     -999,9,     -999,9,     -999,9,     -999,1,   0.0578,1,   4.5306,1,      9.3,2,     -999,9,20240318,1335, -49.2829,  91.2569,     -999,9,     -999,9,-999          ,9,-999          ,9,-999          ,9
325020240221  ,I08        ,36      ,  2,35         ,35         ,2,20240318,1116, -49.2829,  91.2569,     3702,     19.8,   9.2416,  33.9975,2,  33.9980,2,    279.3,2,    279.9,2,     1.46,2,     0.17,2,    13.75,2,     0.24,2,     1.06,2,    3.665,2,    1.961,2,    0.519,4,   3.2110,2,   2102.8,3,   2274.8,2,   7.8060,6,    24.99,     -999,1,   9.2415,2,     -999,9,     -999,     -999,9,     -999,9,     -999,9,     -999,9,     -999,9,     -999,1,   0.0600,1,   4.5309,1,      9.3,2,     -999,9,20240318,1333, -49.2828,  91.2568,     -999,9,     -999,9,-999          ,9,-999          ,9,-999          ,9
325020240221  ,I08        ,36      ,  2,34         ,34         ,2,20240318,1116, -49.2829,  91.2569,     3702,     39.6,   9.2428,  33.9975,2,  33.9978,2,    279.4,2,    279.9,2,     1.46,2,     0.20,2,    13.82,2,     0.24,2,     1.07,2,    3.736,2,    1.880,2,    0.564,4,   3.2590,2,   2098.2,3,   2275.5,6,   7.8066,2,    25.00,     -999,1,   9.2427,2,     -999,1,     -999,     -999,9,     -999,9,     -999,9,     -999,9,     -999,9,     -999,1,   0.0596,1,   4.5310,1,      9.5,2,     -999,9,20240318,1331, -49.2828,  91.2569,     -999,9,     -999,9,-999          ,9,-999          ,9,-999          ,9
325020240221  ,I08        ,36      ,  2,33         ,33         ,2,20240318,1116, -49.2829,  91.2569,     3702,     65.6,   9.2260,  33.9955,2,  33.9951,2,    279.4,2,    279.7,2,     1.46,2,     0.20,2,    13.92,2,     0.24,2,     1.08,2,    3.540,2,    1.880,2,    0.474,4,   3.3220,2,   2100.0,3,   2275.5,2,   7.8057,2,    25.01,     -999,1,   9.2273,2,     -999,1,     -999,     -999,9,     -999,9,     -999,9,     -999,9,     -999,9,     -999,1,   0.0582,1,   4.5335,1,      9.6,2,     -999,9,20240318,1328, -49.2827,  91.2567,     -999,9,     -999,9,-999          ,9,-999          ,9,-999          ,9
325020240221  ,I08        ,36      ,  2,32         ,32         ,2,20240318,1116, -49.2829,  91.2569,     3702,     90.1,   9.1986,  33.9923,2,  33.9923,2,    279.1,2,    280.1,2,     1.56,2,     0.18,2,    14.00,2,     0.24,2,     1.08,2,    3.926,2,    1.954,2,    0.452,4,   3.1900,2,   2102.3,3,   2275.4,2,   7.8045,2,    25.01,     -999,1,   9.1982,2,     -999,9,     -999,     -999,9,     -999,9,     -999,9,     -999,9,     -999,9,     -999,1,   0.0535,1,   4.5378,1,     10.0,2,     -999,9,20240318,1326, -49.2828,  91.2568,     -999,9,     -999,9,-999          ,9,-999          ,9,-999          ,9
325020240221  ,I08        ,36      ,  2,31         ,31         ,2,20240318,1116, -49.2829,  91.2569,     3702,    114.0,   9.0890,  33.9797,2,  33.9804,2,    278.8,2,    279.1,2,     1.56,2,     0.22,2,    14.42,2,     0.26,2,     1.12,2,    3.742,2,    1.953,2,    0.436,4,   3.3440,2,   2102.6,3,   2274.1,2,   7.8000,6,    25.00,     -999,1,   9.0904,2,     -999,1,     -999,     -999,9,     -999,9,     -999,9,     -999,9,     -999,9,     -999,1,   0.0464,1,   4.5629,1,     10.1,2,     -999,9,20240318,1323, -49.2828,  91.2567,     -999,9,     -999,9,-999          ,9,-999          ,9,-999          ,9
325020240221  ,I08        ,36      ,  2,30         ,30         ,2,20240318,1116, -49.2829,  91.2569,     3702,    139.9,   9.0629,  34.0026,3,  34.0272,2,    278.1,2,    276.8,2,     1.76,2,     0.20,2,    14.63,2,     0.24,2,     1.10,2,    3.465,2,    1.957,2,    0.384,4,   3.2470,2,   2104.3,3,   2276.2,2,   7.7951,2,    25.00,     -999,1,   9.0643,2,     -999,9,     -999,     -999,9,     -999,9,     -999,9,     -999,9,     -999,9,     -999,1,   0.0391,1,   4.5841,1,     10.2,2,     -999,9,20240318,1321, -49.2828,  91.2568,     -999,9,     -999,9,-999          ,9,-999          ,9,-999          ,9
325020240221  ,I08        ,36      ,  2,29         ,29         ,2,20240318,1116, -49.2829,  91.2569,     3702,    186.0,   9.5676,  34.5495,2,  34.5482,2,    251.6,2,    251.3,2,     4.59,2,     0.00,2,    15.19,2,     0.00,2,     1.08,2,    3.647,2,    1.897,2,    0.305,4,   2.8980,2,   2130.0,3,   2289.3,2,   7.7684,2,    25.02,     -999,1,   9.5702,2,     -999,1,     -999,     -999,9,     -999,9,     -999,9,     -999,9,     -999,9,     -999,1,   0.0183,1,   4.6409,1,     11.3,2,     -999,9,20240318,1318, -49.2828,  91.2569,     -999,9,     -999,9,-999          ,9,-999          ,9,-999          ,9
325020240221  ,I08        ,36      ,  2,28         ,28         ,2,20240318,1116, -49.2829,  91.2569,     3702,    237.0,   9.2845,  34.5595,2,  34.5586,2,    241.4,2,    240.9,2,     5.76,2,     0.00,2,    16.84,2,     0.00,2,     1.18,2,    3.696,6,    1.930,6,    0.282,4,   2.7230,6,   2136.5,3,   2290.0,2,   7.7483,2,    25.01,     -999,1,   9.2850,2,     -999,1,     -999,     -999,9,     -999,9,     -999,9,     -999,9,     -999,9,     -999,1,   0.0183,1,   4.6410,1,     12.3,6,     -999,9,20240318,1316, -49.2828,  91.2569,     -999,9,     -999,9,-999          ,9,-999          ,9,-999          ,9
325020240221  ,I08        ,36      ,  2,27         ,27         ,2,20240318,1116, -49.2829,  91.2569,     3702,    286.9,   8.8000,  34.5159,2,  34.5160,2,    238.2,2,    237.5,2,     6.83,2,     0.00,2,    18.25,2,     0.00,2,     1.27,2,    3.570,2,    1.933,2,    0.283,4,   2.3840,2,   2142.4,3,   2288.2,2,   7.7309,2,    25.00,     -999,1,   8.8045,2,     -999,1,     -999,     -999,9,     -999,9,     -999,9,     -999,9,     -999,9,     -999,1,   0.0183,1,   4.6415,1,      7.5,4,     -999,9,20240318,1313, -49.2828,  91.2570,     -999,9,     -999,9,-999          ,9,-999          ,9,-999          ,9
325020240221  ,I08        ,36      ,  2,26         ,26         ,2,20240318,1116, -49.2829,  91.2569,     3702,    337.5,   8.3880,  34.4973,2,  34.4983,2,    233.8,2,    232.9,2,     7.91,2,     0.00,2,    19.50,2,     0.00,2,     1.35,2,    3.524,2,    1.990,2,    0.210,4,   2.3460,2,   2150.0,3,   2288.1,2,   7.7154,2,    25.00,     -999,1,   8.3894,2,     -999,9,     -999,     -999,9,     -999,9,     -999,9,     -999,9,     -999,9,     -999,1,   0.0183,1,   4.6405,1,     14.1,2,     -999,9,20240318,1310, -49.2829,  91.2569,     -999,9,     -999,9,-999          ,9,-999          ,9,-999          ,9
325020240221  ,I08        ,36      ,  2,25         ,25         ,2,20240318,1116, -49.2829,  91.2569,     3702,    388.2,   7.9149,  34.4707,2,  34.4724,2,    227.9,2,    229.1,2,     9.47,2,     0.00,2,    20.80,2,     0.00,2,     1.42,2,    3.768,2,    1.917,2,    0.205,4,   2.1290,2,   2152.9,3,   2287.3,2,   7.7001,6,    25.00,     -999,1,   7.9417,2,     -999,1,     -999,     -999,9,     -999,9,     -999,9,     -999,9,     -999,9,     -999,1,   0.0178,1,   4.6412,1,     14.8,2,     -999,9,20240318,1308, -49.2828,  91.2567,     -999,9,     -999,9,-999          ,9,-999          ,9,-999          ,9
325020240221  ,I08        ,36      ,  2,24         ,24         ,2,20240318,1116, -49.2829,  91.2569,     3702,    438.4,   7.4215,  34.4391,2,  34.4304,2,    223.6,2,    224.1,2,    11.72,2,     0.00,2,    22.69,2,     0.00,2,     1.54,2,    3.764,2,    1.884,2,    0.273,4,   1.9240,2,   2160.9,3,   2285.5,2,   7.6787,2,    24.99,     -999,1,   7.4168,2,     -999,9,     -999,     -999,9,     -999,9,     -999,9,     -999,9,     -999,9,     -999,1,   0.0183,1,   4.6418,1,     15.5,2,     -999,9,20240318,1305, -49.2829,  91.2569,     -999,9,     -999,9,-999          ,9,-999          ,9,-999          ,9
325020240221  ,I08        ,36      ,  2,23         ,37         ,2,20240318,1116, -49.2829,  91.2569,     3702,    489.0,   6.2371,  34.3008,2,  34.3001,2,    235.0,2,    235.4,2,    13.77,2,     0.00,2,    24.54,2,     0.00,2,     1.69,2,    4.208,2,    1.986,2,    0.327,4,   2.2330,2,   2168.5,3,   2283.0,2,   7.6599,2,    24.98,     -999,1,   6.2412,2,     -999,1,     -999,     -999,9,     -999,9,     -999,9,     -999,9,     -999,9,     -999,1,   0.0176,1,   4.6423,1,     15.8,2,     -999,9,20240318,1302, -49.2829,  91.2569,     -999,9,     -999,9,-999          ,9,-999          ,9,-999          ,9
325020240221  ,I08        ,36      ,  2,22         ,22         ,2,20240318,1116, -49.2829,  91.2569,     3702,    570.4,   5.8706,  34.3416,2,  34.3427,2,    220.6,2,    220.6,2,    18.16,2,     0.00,2,    26.38,2,     0.00,2,     1.83,2,    4.054,2,    1.799,2,    0.278,4,   1.6160,2,   2174.3,3,   2285.3,2,   7.6416,2,    25.00,     -999,1,   5.8711,2,     -999,9,     -999,     -999,9,     -999,9,     -999,9,     -999,9,     -999,9,     -999,1,   0.0183,1,   4.6459,1,     17.0,2,     -999,9,20240318,1259, -49.2829,  91.2569,     -999,9,     -999,9,-999          ,9,-999          ,9,-999          ,9
325020240221  ,I08        ,36      ,  2,21         ,21         ,2,20240318,1116, -49.2829,  91.2569,     3702,    670.4,   4.7314,  34.2652,2,  34.2666,2,    227.0,2,    227.1,2,    22.75,2,     0.00,2,    28.42,2,     0.00,2,     1.96,2,    3.747,2,    1.759,2,    0.303,4,   1.5070,2,   2181.7,3,   2286.0,2,   7.6242,2,    25.01,     -999,1,   4.7343,2,     -999,1,     -999,     -999,9,     -999,9,     -999,9,     -999,9,     -999,9,     -999,1,   0.0183,1,   4.6463,1,     17.4,2,     -999,9,20240318,1255, -49.2829,  91.2569,     -999,9,     -999,9,-999          ,9,-999          ,9,-999          ,9
325020240221  ,I08        ,36      ,  2,20         ,20         ,2,20240318,1116, -49.2829,  91.2569,     3702,    771.5,   4.1269,  34.2616,2,  34.2658,2,    222.7,2,    222.8,2,    29.10,2,     0.00,2,    29.94,2,     0.00,2,     2.07,2,    3.890,2,    1.702,2,    0.267,4,   1.3430,2,   2192.0,3,   2292.5,2,   7.6097,2,    25.00,     -999,1,   4.1197,2,     -999,9,     -999,     -999,9,     -999,9,     -999,9,     -999,9,     -999,9,     -999,1,   0.0183,1,   4.6480,1,     18.5,2,     -999,9,20240318,1251, -49.2828,  91.2569,     -999,9,     -999,9,-999          ,9,-999          ,9,-999          ,9
325020240221  ,I08        ,36      ,  2,19         ,19         ,2,20240318,1116, -49.2829,  91.2569,     3702,    873.3,   3.6785,  34.2923,2,  34.2932,2,    213.2,2,    213.1,2,    36.61,2,     0.00,2,    31.38,2,     0.00,2,     2.17,2,    3.424,2,    1.440,2,    0.218,4,   0.9940,2,   2205.7,3,   2297.9,2,   7.5936,2,    25.00,     -999,1,   3.6808,2,     -999,1,     -999,     -999,9,     -999,9,     -999,9,     -999,9,     -999,9,     -999,1,   0.0183,1,   4.6486,1,     19.4,2,     -999,9,20240318,1248, -49.2829,  91.2569,     -999,9,     -999,9,-999          ,9,-999          ,9,-999          ,9
325020240221  ,I08        ,36      ,  2,18         ,18         ,2,20240318,1116, -49.2829,  91.2569,     3702,    974.5,   3.3539,  34.3329,2,  34.3366,2,    202.3,2,    201.8,2,    44.42,2,     0.00,2,    32.61,2,     0.00,2,     2.27,2,    2.887,2,    1.209,2,    0.183,4,   0.9520,2,   2214.6,3,   2305.0,2,   7.5783,6,    24.99,     -999,1,   3.3537,2,     -999,9,     -999,     -999,9,     -999,9,     -999,9,     -999,9,     -999,9,     -999,1,   0.0183,1,   4.6489,1,     20.3,2,     -999,9,20240318,1244, -49.2828,  91.2567,     -999,9,     -999,9,-999          ,9,-999          ,9,-999          ,9
325020240221  ,I08        ,36      ,  2,17         ,17         ,2,20240318,1116, -49.2829,  91.2569,     3702,   1076.5,   3.2301,  34.3917,2,  34.3927,2,    190.2,2,    190.4,2,    51.45,2,     0.00,2,    33.34,2,     0.00,2,     2.32,2,    2.251,2,    0.923,2,    0.143,4,   0.5290,2,   2225.7,3,   2311.5,2,   7.5689,2,    24.98,     -999,1,   3.2299,2,     -999,1,     -999,     -999,9,     -999,9,     -999,9,     -999,9,     -999,9,     -999,1,   0.0183,1,   4.6480,1,     20.7,2,     -999,9,20240318,1240, -49.2827,  91.2568,     -999,9,     -999,9,-999          ,9,-999          ,9,-999          ,9
325020240221  ,I08        ,36      ,  2,16         ,16         ,2,20240318,1116, -49.2829,  91.2569,     3702,   1177.9,   3.0718,  34.4546,2,  34.4530,2,    180.8,2,    180.9,2,    58.09,2,     0.02,2,    33.82,2,     0.00,2,     2.35,2,    1.707,2,    0.679,2,    0.111,4,   0.4580,2,   2234.8,3,   2319.3,2,   7.5617,2,    25.00,     -999,1,   3.0734,2,     -999,9,     -999,     -999,9,     -999,9,     -999,9,     -999,9,     -999,9,     -999,1,   0.0183,1,   4.6487,1,     21.4,2,     -999,9,20240318,1237, -49.2827,  91.2568,     -999,9,     -999,9,-999          ,9,-999          ,9,-999          ,9
325020240221  ,I08        ,36      ,  2,15         ,15         ,2,20240318,1116, -49.2829,  91.2569,     3702,   1280.6,   2.9201,  34.4936,2,  34.4946,2,    176.8,2,    176.8,2,    63.06,2,     0.03,2,    34.01,2,     0.00,2,     2.35,2,    1.346,2,    0.557,2,    0.109,4,   0.3300,2,   2240.1,3,   2325.5,2,   7.5595,2,    24.99,     -999,1,   2.9204,2,     -999,1,     -999,     -999,9,     -999,9,     -999,9,     -999,9,     -999,9,     -999,1,   0.0183,1,   4.6496,1,     20.9,2,     -999,9,20240318,1233, -49.2827,  91.2567,     -999,9,     -999,9,-999          ,9,-999          ,9,-999          ,9
325020240221  ,I08        ,36      ,  2,14         ,14         ,2,20240318,1116, -49.2829,  91.2569,     3702,   1380.7,   2.7835,  34.5462,2,  34.5457,2,    174.2,2,    174.3,2,    67.26,2,     0.02,2,    33.79,2,     0.00,2,     2.31,2,    1.095,2,    0.415,2,    0.105,4,   0.0380,2,   2248.1,3,   2329.0,2,   7.5598,2,    25.00,     -999,1,   2.7839,2,     -999,9,     -999,     -999,9,     -999,9,     -999,9,     -999,9,     -999,9,     -999,1,   0.0183,1,   4.6499,1,     19.8,2,     -999,9,20240318,1229, -49.2829,  91.2568,     -999,9,     -999,9,-999          ,9,-999          ,9,-999          ,9
325020240221  ,I08        ,36      ,  2,13         ,13         ,2,20240318,1116, -49.2829,  91.2569,     3702,   1482.3,   2.7084,  34.5893,2,  34.5938,2,    174.0,2,    173.7,2,    70.09,2,     0.00,2,    33.29,2,     0.00,2,     2.28,2,    0.742,2,    0.312,2,    0.153,4,   0.0140,2,   2244.5,3,   2333.1,2,   7.5661,6,    24.99,     -999,1,   2.7067,2,     -999,1,     -999,     -999,9,     -999,9,     -999,9,     -999,9,     -999,9,     -999,1,   0.0183,1,   4.6496,1,     11.5,2,     -999,9,20240318,1226, -49.2827,  91.2569,     -999,9,     -999,9,-999          ,9,-999          ,9,-999          ,9
325020240221  ,I08        ,36      ,  2,12         ,12         ,2,20240318,1116, -49.2829,  91.2569,     3702,   1584.4,   2.6319,  34.6265,2,  34.6276,2,    175.5,2,    176.3,2,    71.65,2,     0.00,2,    32.58,2,     0.00,2,     2.25,2,    0.669,2,    0.246,2,    0.036,4,   0.0000,2,   2245.5,3,   2335.3,6,   7.5721,2,    24.98,     -999,1,   2.6317,2,     -999,9,     -999,     -999,9,     -999,9,     -999,9,     -999,9,     -999,9,     -999,1,   0.0183,1,   4.6507,1,     21.0,2,     -999,9,20240318,1222, -49.2827,  91.2572,     -999,9,     -999,9,-999          ,9,-999          ,9,-999          ,9
325020240221  ,I08        ,36      ,  2,11         ,11         ,2,20240318,1116, -49.2829,  91.2569,     3702,   1686.0,   2.5463,  34.6596,2,  34.6600,2,    177.8,2,    178.0,2,    73.40,2,     0.03,2,    31.93,2,     0.00,2,     2.19,2,    0.529,2,    0.205,2,    0.027,4,   0.0000,2,   2244.7,3,   2337.5,2,   7.5793,2,    25.01,     -999,1,   2.5485,2,     -999,1,     -999,     -999,9,     -999,9,     -999,9,     -999,9,     -999,9,     -999,1,   0.0183,1,   4.6504,1,     20.1,2,     -999,9,20240318,1218, -49.2828,  91.2571,     -999,9,     -999,9,-999          ,9,-999          ,9,-999          ,9
325020240221  ,I08        ,36      ,  2,10         ,10         ,2,20240318,1116, -49.2829,  91.2569,     3702,   1787.1,   2.5176,  34.6831,2,  34.6844,2,    180.6,2,    180.6,2,    74.09,2,     0.00,2,    31.30,2,     0.00,2,     2.15,2,    0.436,2,    0.172,2,    0.021,4,   0.0000,2,   2246.3,3,   2340.1,2,   7.5879,2,    25.00,     -999,1,   2.5174,2,     -999,1,     -999,     -999,9,     -999,9,     -999,9,     -999,9,     -999,9,     -999,1,   0.0183,1,   4.6508,1,     20.1,2,     -999,9,20240318,1214, -49.2828,  91.2569,     -999,9,     -999,9,-999          ,9,-999          ,9,-999          ,9
325020240221  ,I08        ,36      ,  2,9          ,9          ,2,20240318,1116, -49.2829,  91.2569,     3702,   1960.4,   2.4087,  34.7209,2,  34.7201,2,    186.6,2,    186.4,2,    75.64,2,     0.03,2,    30.31,2,     0.00,2,     2.10,2,    0.288,2,    0.121,2,    0.013,4,   0.0000,2,   2245.3,3,   2341.3,2,   7.6026,2,    24.99,     -999,1,   2.4084,2,     -999,1,     -999,     -999,9,     -999,9,     -999,9,     -999,9,     -999,9,     -999,1,   0.0183,1,   4.6512,1,     19.5,2,     -999,9,20240318,1208, -49.2828,  91.2568,     -999,9,     -999,9,-999          ,9,-999          ,9,-999          ,9
325020240221  ,I08        ,36      ,  2,8          ,8          ,2,20240318,1116, -49.2829,  91.2569,     3702,   2164.2,   2.2764,  34.7431,2,  34.7441,2,    191.9,2,    191.9,2,    78.77,2,     0.03,2,    29.67,2,     0.00,2,     2.07,2,    0.224,2,    0.091,2,    0.012,4,   0.0000,2,   2244.7,3,   2345.4,2,   7.6139,2,    24.98,     -999,1,   2.2765,2,     -999,1,     -999,     -999,9,     -999,9,     -999,9,     -999,9,     -999,9,     -999,1,   0.0181,1,   4.6520,1,     19.1,2,     -999,9,20240318,1202, -49.2827,  91.2568,     -999,9,     -999,9,-999          ,9,-999          ,9,-999          ,9
325020240221  ,I08        ,36      ,  2,7          ,7          ,2,20240318,1116, -49.2829,  91.2569,     3702,   2367.9,   2.1145,  34.7530,2,  34.7532,2,    195.6,2,    195.3,2,    83.06,2,     0.00,2,    29.46,2,     0.00,2,     2.06,2,    0.198,2,    0.080,2,    0.011,4,   0.0000,2,   2246.8,3,   2349.1,2,   7.6188,2,    24.99,     -999,1,   2.1155,2,     -999,9,     -999,     -999,9,     -999,9,     -999,9,     -999,9,     -999,9,     -999,1,   0.0183,1,   4.6510,1,     18.9,2,     -999,9,20240318,1156, -49.2828,  91.2567,     -999,9,     -999,9,-999          ,9,-999          ,9,-999          ,9
325020240221  ,I08        ,36      ,  2,6          ,6          ,2,20240318,1116, -49.2829,  91.2569,     3702,   2572.3,   1.9179,  34.7528,2,  34.7533,2,    197.9,2,    198.2,2,    89.60,2,     0.03,2,    29.63,2,     0.00,2,     2.06,2,    0.185,2,    0.075,2,   -0.003,4,   0.0000,2,   2248.7,3,   2353.2,2,   7.6216,2,    25.01,     -999,1,   1.9187,2,     -999,9,     -999,     -999,9,     -999,9,     -999,9,     -999,9,     -999,9,     -999,1,   0.0183,1,   4.6482,1,     18.7,2,     -999,9,20240318,1150, -49.2827,  91.2568,     -999,9,     -999,9,-999          ,9,-999          ,9,-999          ,9