BOTTLE,20240417CCHHYDRO
EXPOCODE,SECT_ID,STNNBR,CASTNO,SAMPNO,BTLNBR,BTLNBR_FLAG_W,DATE,TIME,LATITUDE,LONGITUDE,DEPTH,CTDPRS,CTDTMP,CTDSAL,CTDSAL_FLAG_W,SALNTY,SALNTY_FLAG_W,CTDOXY,CTDOXY_FLAG_W,OXYGEN,OXYGEN_FLAG_W,SILCAT,SILCAT_FLAG_W,NH4,NH4_FLAG_W,NITRAT,NITRAT_FLAG_W,NITRIT,NITRIT_FLAG_W,PHSPHT,PHSPHT_FLAG_W,CFC-11,CFC-11_FLAG_W,CFC-12,CFC-12_FLAG_W,CFC113,CFC113_FLAG_W,SF6,SF6_FLAG_W,TCARBN,TCARBN_FLAG_W,ALKALI,ALKALI_FLAG_W,PH_TOT,PH_TOT_FLAG_W,PH_TMP,DOC,DOC_FLAG_W,REFTMP,REFTMP_FLAG_W,DELC14,DELC14_FLAG_W,C14ERR,POC,POC_FLAG_W,PON,PON_FLAG_W,POP,POP_FLAG_W,PCOD,PCOD_FLAG_W,DOP,DOP_FLAG_W,TDN,TDN_FLAG_W,CTDFLUOR,CTDFLUOR_FLAG_W,CTDXMISS,CTDXMISS_FLAG_W,N2O,N2O_FLAG_W,ARGON,ARGON_FLAG_W,BTL_DATE,BTL_TIME,BTL_LAT,BTL_LON,KRYPTON,KRYPTON_FLAG_W,XENON,XENON_FLAG_W,HPLC,HPLC_FLAG_W,DNA,DNA_FLAG_W,FCM,FCM_FLAG_W
,,,,,,,,,,,METERS,DBAR,ITS-90,PSS-78,,PSS-78,,UMOL/KG,,UMOL/KG,,UMOL/KG,,UMOL/KG,,UMOL/KG,,UMOL/KG,,UMOL/KG,,PMOL/KG,,PMOL/KG,,PMOL/KG,,FMOL/KG,,UMOL/KG,,UMOL/KG,,,,DEG C,UMOL/KG,,ITS-90,,/MILLE,,/MILLE,UG/KG,,UG/KG,,UG/L,,UG/L,,UMOL/KG,,UMOL/KG,,VOLTS,,VOLTS,,NMOL/KG,,UMOL/L,,,,,,NMOL/L,,NMOL/L,,,,,,,
325020240221  ,I08        ,59      ,  1,5          ,5          ,2,20240325,0022, -36.2495,  95.0054,     4332,   3452.4,   1.1920,  34.7221,2,  34.7217,2,    203.7,2,    203.8,2,   114.59,2,     0.01,2,    31.32,2,     0.00,2,     2.15,2,    0.204,2,    0.088,2,    0.010,4,   0.0030,2,   2260.2,3,   2361.7,2,   7.6136,2,    25.01,     -999,9,   1.1932,2,     -999,9,     -999,     -999,9,     -999,9,     -999,9,     -999,9,     -999,9,     -999,9,   0.0189,1,   4.6326,1,     16.6,2,     -999,9,20240325,0045, -36.2495,  95.0055,     -999,9,     -999,9,-999          ,9,-999          ,9,-999          ,9
325020240221  ,I08        ,59      ,  1,4          ,4          ,2,20240325,0022, -36.2495,  95.0054,     4332,   3761.6,   1.0684,  34.7155,2,  34.7160,2,    204.9,2,    204.9,2,   119.08,2,     0.00,2,    31.63,2,     0.00,2,     2.18,2,    0.208,2,    0.091,2,    0.010,4,   0.0000,2,   2261.0,3,   2366.9,2,   7.6166,2,    25.01,     -999,9,   1.0685,2,     -999,9,     -999,     -999,9,     -999,9,     -999,9,     -999,9,     -999,9,     -999,9,   0.0176,1,   4.6325,1,     16.3,2,     -999,9,20240325,0038, -36.2496,  95.0054,     -999,9,     -999,9,-999          ,9,-999          ,9,-999          ,9
325020240221  ,I08        ,59      ,  1,3          ,3          ,2,20240325,0022, -36.2495,  95.0054,     4332,   4016.3,   1.0236,  34.7125,2,  34.7142,2,    205.3,2,    205.4,2,   121.03,2,     0.00,2,    31.73,2,     0.00,2,     2.19,2,    0.199,2,    0.087,2,    0.014,4,   0.0000,2,   2266.9,3,   2370.8,2,   7.6188,6,    25.03,     -999,9,   1.0236,2,     -999,9,     -999,     -999,9,     -999,9,     -999,9,     -999,9,     -999,9,     -999,9,   0.0183,1,   4.6336,1,     15.9,2,     -999,9,20240325,0032, -36.2495,  95.0054,     -999,9,     -999,9,-999          ,9,-999          ,9,-999          ,9
325020240221  ,I08        ,59      ,  1,2          ,2          ,2,20240325,0022, -36.2495,  95.0054,     4332,   4221.4,   1.0215,  34.7115,2,  34.7119,2,    205.4,2,    205.5,2,   121.91,2,     0.01,2,    31.83,2,     0.00,2,     2.20,2,    0.176,2,    0.083,2,    0.020,4,   0.0010,2,   2262.3,3,   2374.0,6,   7.6197,2,    24.96,     -999,9,   1.0215,2,     -999,9,     -999,     -999,9,     -999,9,     -999,9,     -999,9,     -999,9,     -999,9,   0.0176,1,   4.6349,1,     15.5,2,     -999,9,20240325,0027, -36.2495,  95.0054,     -999,9,     -999,9,-999          ,9,-999          ,9,-999          ,9
325020240221  ,I08        ,59      ,  1,1          ,1          ,2,20240325,0022, -36.2495,  95.0054,     4332,   4395.4,   1.0395,  34.7115,2,  34.7140,3,    205.3,2,    205.5,2,   121.91,2,     0.01,2,    31.94,2,     0.00,2,     2.21,2,    0.154,2,    0.083,2,    0.041,4,   0.0190,2,   2267.1,3,   2373.6,2,   7.6204,2,    24.96,     -999,9,   1.0397,2,     -999,9,     -999,     -999,9,     -999,9,     -999,9,     -999,9,     -999,9,     -999,9,   0.0166,1,   4.6360,1,      9.8,4,     -999,9,20240325,0022, -36.2494,  95.0054,     -999,9,     -999,9,-999          ,9,-999          ,9,-999          ,9