BOTTLE,20240417CCHHYDRO
EXPOCODE,SECT_ID,STNNBR,CASTNO,SAMPNO,BTLNBR,BTLNBR_FLAG_W,DATE,TIME,LATITUDE,LONGITUDE,DEPTH,CTDPRS,CTDTMP,CTDSAL,CTDSAL_FLAG_W,SALNTY,SALNTY_FLAG_W,CTDOXY,CTDOXY_FLAG_W,OXYGEN,OXYGEN_FLAG_W,SILCAT,SILCAT_FLAG_W,NH4,NH4_FLAG_W,NITRAT,NITRAT_FLAG_W,NITRIT,NITRIT_FLAG_W,PHSPHT,PHSPHT_FLAG_W,CFC-11,CFC-11_FLAG_W,CFC-12,CFC-12_FLAG_W,CFC113,CFC113_FLAG_W,SF6,SF6_FLAG_W,TCARBN,TCARBN_FLAG_W,ALKALI,ALKALI_FLAG_W,PH_TOT,PH_TOT_FLAG_W,PH_TMP,DOC,DOC_FLAG_W,REFTMP,REFTMP_FLAG_W,DELC14,DELC14_FLAG_W,C14ERR,POC,POC_FLAG_W,PON,PON_FLAG_W,POP,POP_FLAG_W,PCOD,PCOD_FLAG_W,DOP,DOP_FLAG_W,TDN,TDN_FLAG_W,CTDFLUOR,CTDFLUOR_FLAG_W,CTDXMISS,CTDXMISS_FLAG_W,N2O,N2O_FLAG_W,ARGON,ARGON_FLAG_W,BTL_DATE,BTL_TIME,BTL_LAT,BTL_LON,KRYPTON,KRYPTON_FLAG_W,XENON,XENON_FLAG_W,HPLC,HPLC_FLAG_W,DNA,DNA_FLAG_W,FCM,FCM_FLAG_W
,,,,,,,,,,,METERS,DBAR,ITS-90,PSS-78,,PSS-78,,UMOL/KG,,UMOL/KG,,UMOL/KG,,UMOL/KG,,UMOL/KG,,UMOL/KG,,UMOL/KG,,PMOL/KG,,PMOL/KG,,PMOL/KG,,FMOL/KG,,UMOL/KG,,UMOL/KG,,,,DEG C,UMOL/KG,,ITS-90,,/MILLE,,/MILLE,UG/KG,,UG/KG,,UG/L,,UG/L,,UMOL/KG,,UMOL/KG,,VOLTS,,VOLTS,,NMOL/KG,,UMOL/L,,,,,,NMOL/L,,NMOL/L,,,,,,,
325020240221  ,I08        ,38      ,  1,5          ,5          ,2,20240319,0522, -47.7707,  92.5489,     3616,   2907.9,   1.3696,  34.7321,2,  34.7317,2,    203.0,2,    202.9,2,   105.72,2,     0.01,2,    31.40,2,     0.00,2,     2.16,2,    0.136,2,    0.097,2,    0.026,4,   0.0000,2,   2255.9,3,   2359.2,2,   7.6164,2,    24.99,     -999,1,   1.3690,2,     -999,1,     -999,     -999,9,     -999,9,     -999,9,     -999,9,     -999,9,     -999,1,   0.0186,1,   4.6397,1,     17.5,2,     -999,9,20240319,0548, -47.7692,  92.5493,     -999,9,     -999,9,-999          ,9,-999          ,9,-999          ,9
325020240221  ,I08        ,38      ,  1,4          ,4          ,2,20240319,0522, -47.7707,  92.5489,     3616,   3148.1,   1.1526,  34.7209,2,  34.7211,2,    205.7,2,    205.4,2,   112.26,2,     0.02,2,    31.79,2,     0.00,2,     2.18,2,     -999,9,     -999,9,     -999,9,     -999,9,   2256.9,3,   2359.2,2,   7.6118,2,    24.96,     -999,1,   1.1520,2,     -999,1,     -999,     -999,9,     -999,9,     -999,9,     -999,9,     -999,9,     -999,1,   0.0182,1,   4.6374,1,     -999,9,     -999,9,20240319,0541, -47.7692,  92.5493,     -999,9,     -999,9,-999          ,9,-999          ,9,-999          ,9
325020240221  ,I08        ,38      ,  1,3          ,3          ,2,20240319,0522, -47.7707,  92.5489,     3616,   3404.5,   0.9986,  34.7123,2,  34.7119,2,    207.9,2,    209.3,2,   117.53,2,     0.02,2,    32.05,2,     0.00,2,     2.18,2,    0.246,2,    0.171,2,    0.045,4,   0.0000,2,   2258.0,3,   2359.9,2,   7.6082,2,    24.98,     -999,1,   0.9991,2,     -999,1,     -999,     -999,9,     -999,9,     -999,9,     -999,9,     -999,9,     -999,1,   0.0159,1,   4.6374,1,     16.8,2,     -999,9,20240319,0533, -47.7692,  92.5496,     -999,9,     -999,9,-999          ,9,-999          ,9,-999          ,9
325020240221  ,I08        ,38      ,  1,2          ,2          ,2,20240319,0522, -47.7707,  92.5489,     3616,   3558.4,   0.9713,  34.7100,2,  34.7095,2,    208.4,2,    208.1,2,   118.71,2,     0.03,2,    32.07,2,     0.00,2,     2.19,2,     -999,9,     -999,9,     -999,9,     -999,9,   2259.8,3,   2360.5,2,   7.6068,2,    25.00,     -999,1,   0.9713,2,     -999,1,     -999,     -999,9,     -999,9,     -999,9,     -999,9,     -999,9,     -999,1,   0.0183,1,   4.6382,1,     -999,9,     -999,9,20240319,0526, -47.7692,  92.5496,     -999,9,     -999,9,-999          ,9,-999          ,9,-999          ,9
325020240221  ,I08        ,38      ,  1,1          ,1          ,2,20240319,0522, -47.7707,  92.5489,     3616,   3667.6,   0.9444,  34.7080,2,  34.7085,2,    209.1,2,    209.0,2,   119.68,2,     0.03,2,    32.08,2,     0.00,2,     2.20,2,    0.256,2,    0.194,2,    0.066,4,   0.0000,2,   2259.2,3,   2360.3,2,   7.6065,2,    24.99,     -999,1,   0.9443,2,     -999,1,     -999,     -999,9,     -999,9,     -999,9,     -999,9,     -999,9,     -999,1,   0.0183,1,   4.6386,1,      7.8,2,     -999,9,20240319,0522, -47.7692,  92.5494,     -999,9,     -999,9,-999          ,9,-999          ,9,-999          ,9