BOTTLE,20240417CCHHYDRO
EXPOCODE,SECT_ID,STNNBR,CASTNO,SAMPNO,BTLNBR,BTLNBR_FLAG_W,DATE,TIME,LATITUDE,LONGITUDE,DEPTH,CTDPRS,CTDTMP,CTDSAL,CTDSAL_FLAG_W,SALNTY,SALNTY_FLAG_W,CTDOXY,CTDOXY_FLAG_W,OXYGEN,OXYGEN_FLAG_W,SILCAT,SILCAT_FLAG_W,NH4,NH4_FLAG_W,NITRAT,NITRAT_FLAG_W,NITRIT,NITRIT_FLAG_W,PHSPHT,PHSPHT_FLAG_W,CFC-11,CFC-11_FLAG_W,CFC-12,CFC-12_FLAG_W,CFC113,CFC113_FLAG_W,SF6,SF6_FLAG_W,TCARBN,TCARBN_FLAG_W,ALKALI,ALKALI_FLAG_W,PH_TOT,PH_TOT_FLAG_W,PH_TMP,DOC,DOC_FLAG_W,REFTMP,REFTMP_FLAG_W,DELC14,DELC14_FLAG_W,C14ERR,POC,POC_FLAG_W,PON,PON_FLAG_W,POP,POP_FLAG_W,PCOD,PCOD_FLAG_W,DOP,DOP_FLAG_W,TDN,TDN_FLAG_W,CTDFLUOR,CTDFLUOR_FLAG_W,CTDXMISS,CTDXMISS_FLAG_W,N2O,N2O_FLAG_W,ARGON,ARGON_FLAG_W,BTL_DATE,BTL_TIME,BTL_LAT,BTL_LON,KRYPTON,KRYPTON_FLAG_W,XENON,XENON_FLAG_W,HPLC,HPLC_FLAG_W,DNA,DNA_FLAG_W,FCM,FCM_FLAG_W
,,,,,,,,,,,METERS,DBAR,ITS-90,PSS-78,,PSS-78,,UMOL/KG,,UMOL/KG,,UMOL/KG,,UMOL/KG,,UMOL/KG,,UMOL/KG,,UMOL/KG,,PMOL/KG,,PMOL/KG,,PMOL/KG,,FMOL/KG,,UMOL/KG,,UMOL/KG,,,,DEG C,UMOL/KG,,ITS-90,,/MILLE,,/MILLE,UG/KG,,UG/KG,,UG/L,,UG/L,,UMOL/KG,,UMOL/KG,,VOLTS,,VOLTS,,NMOL/KG,,UMOL/L,,,,,,NMOL/L,,NMOL/L,,,,,,,
325020240221  ,I08        ,48      ,  1,5          ,5          ,2,20240322,0356, -42.0084,  95.0074,     3270,   2448.2,   2.2050,  34.7443,2,  34.7439,2,    191.9,2,    191.7,2,    81.28,2,     0.02,2,    30.53,2,     0.00,2,     2.10,2,    0.147,2,    0.080,2,    0.010,4,   0.0000,2,   2247.4,3,   2347.4,2,   7.6136,6,    25.02,     -999,1,   2.2067,2,     -999,1,     -999,     -999,9,     -999,9,     -999,9,     -999,9,     -999,9,     -999,1,   0.0180,1,   4.6484,1,     16.7,2,     -999,9,20240322,0416, -42.0084,  95.0074,     -999,9,     -999,9,-999          ,9,-999          ,9,-999          ,9
325020240221  ,I08        ,48      ,  1,4          ,4          ,2,20240322,0356, -42.0084,  95.0074,     3270,   2702.0,   1.9332,  34.7495,2,  34.7486,2,    196.6,2,    197.1,2,    89.48,2,     0.03,2,    30.46,2,     0.00,2,     2.09,2,    0.126,2,    0.071,2,    0.014,4,   0.0000,2,   2249.7,3,   2354.9,6,   7.6182,2,    25.00,     -999,1,   1.9331,2,     -999,1,     -999,     -999,9,     -999,9,     -999,9,     -999,9,     -999,9,     -999,1,   0.0183,1,   4.6456,1,     16.2,2,     -999,9,20240322,0411, -42.0084,  95.0074,     -999,9,     -999,9,-999          ,9,-999          ,9,-999          ,9
325020240221  ,I08        ,48      ,  1,3          ,3          ,2,20240322,0356, -42.0084,  95.0074,     3270,   2957.9,   1.6468,  34.7411,2,  34.7414,2,    199.2,2,    199.7,2,    98.85,2,     0.00,2,    30.93,2,     0.00,2,     2.08,2,     -999,9,     -999,9,     -999,9,     -999,9,     -999,9,     -999,9,     -999,9,     -999,     -999,1,   1.6485,2,     -999,1,     -999,     -999,9,     -999,9,     -999,9,     -999,9,     -999,9,     -999,1,   0.0183,1,   4.6428,1,     -999,9,     -999,9,20240322,0405, -42.0084,  95.0075,     -999,9,     -999,9,-999          ,9,-999          ,9,-999          ,9
325020240221  ,I08        ,48      ,  1,2          ,2          ,2,20240322,0356, -42.0084,  95.0074,     3270,   3148.1,   1.5040,  34.7355,2,  34.7364,2,    200.8,2,    200.8,2,   103.63,2,     0.00,2,    31.13,2,     0.00,2,     2.11,2,    0.160,2,    0.084,2,    0.022,4,   0.0000,2,   2256.7,3,   2359.6,2,   7.6161,2,    24.99,     -999,1,   1.5047,2,     -999,1,     -999,     -999,9,     -999,9,     -999,9,     -999,9,     -999,9,     -999,1,   0.0183,1,   4.6420,1,     15.6,2,     -999,9,20240322,0400, -42.0084,  95.0074,     -999,9,     -999,9,-999          ,9,-999          ,9,-999          ,9
325020240221  ,I08        ,48      ,  1,1          ,1          ,2,20240322,0356, -42.0084,  95.0074,     3270,   3312.7,   1.3502,  34.7286,2,  34.7300,2,    202.5,2,    202.3,2,   109.00,2,     0.01,2,    31.41,2,     0.00,2,     2.14,2,    0.191,2,    0.099,2,    0.045,4,   0.0130,2,   2259.4,3,   2361.9,2,   7.6143,2,    25.00,     -999,1,   1.3482,2,     -999,1,     -999,     -999,9,     -999,9,     -999,9,     -999,9,     -999,9,     -999,1,   0.0183,1,   4.6431,1,      9.7,4,     -999,9,20240322,0356, -42.0084,  95.0074,     -999,9,     -999,9,-999          ,9,-999          ,9,-999          ,9