BOTTLE,20240417CCHHYDRO
EXPOCODE,SECT_ID,STNNBR,CASTNO,SAMPNO,BTLNBR,BTLNBR_FLAG_W,DATE,TIME,LATITUDE,LONGITUDE,DEPTH,CTDPRS,CTDTMP,CTDSAL,CTDSAL_FLAG_W,SALNTY,SALNTY_FLAG_W,CTDOXY,CTDOXY_FLAG_W,OXYGEN,OXYGEN_FLAG_W,SILCAT,SILCAT_FLAG_W,NH4,NH4_FLAG_W,NITRAT,NITRAT_FLAG_W,NITRIT,NITRIT_FLAG_W,PHSPHT,PHSPHT_FLAG_W,CFC-11,CFC-11_FLAG_W,CFC-12,CFC-12_FLAG_W,CFC113,CFC113_FLAG_W,SF6,SF6_FLAG_W,TCARBN,TCARBN_FLAG_W,ALKALI,ALKALI_FLAG_W,PH_TOT,PH_TOT_FLAG_W,PH_TMP,DOC,DOC_FLAG_W,REFTMP,REFTMP_FLAG_W,DELC14,DELC14_FLAG_W,C14ERR,POC,POC_FLAG_W,PON,PON_FLAG_W,POP,POP_FLAG_W,PCOD,PCOD_FLAG_W,DOP,DOP_FLAG_W,TDN,TDN_FLAG_W,CTDFLUOR,CTDFLUOR_FLAG_W,CTDXMISS,CTDXMISS_FLAG_W,N2O,N2O_FLAG_W,ARGON,ARGON_FLAG_W,BTL_DATE,BTL_TIME,BTL_LAT,BTL_LON,KRYPTON,KRYPTON_FLAG_W,XENON,XENON_FLAG_W,HPLC,HPLC_FLAG_W,DNA,DNA_FLAG_W,FCM,FCM_FLAG_W
,,,,,,,,,,,METERS,DBAR,ITS-90,PSS-78,,PSS-78,,UMOL/KG,,UMOL/KG,,UMOL/KG,,UMOL/KG,,UMOL/KG,,UMOL/KG,,UMOL/KG,,PMOL/KG,,PMOL/KG,,PMOL/KG,,FMOL/KG,,UMOL/KG,,UMOL/KG,,,,DEG C,UMOL/KG,,ITS-90,,/MILLE,,/MILLE,UG/KG,,UG/KG,,UG/L,,UG/L,,UMOL/KG,,UMOL/KG,,VOLTS,,VOLTS,,NMOL/KG,,UMOL/L,,,,,,NMOL/L,,NMOL/L,,,,,,,
325020240221  ,I08        ,7       ,  2,3          ,3          ,2,20240305,0404, -66.3038,  76.7320,     2805,   2437.4,   0.0037,  34.6672,2,  34.6655,2,    225.9,2,    226.0,2,   125.32,2,     0.00,2,    32.43,2,     0.00,2,     2.24,2,    1.322,2,    0.635,2,    0.080,2,   0.4650,2,   2258.1,3,   2354.9,2,   7.5925,2,    25.00,     -999,9,   0.0025,2,     -999,9,     -999,     -999,9,     -999,9,     -999,9,     -999,9,     -999,9,     -999,9,   0.0180,1,   4.5861,1,     13.4,2,     -999,9,20240305,0414, -66.3039,  76.7308,     -999,9,     -999,9,-999          ,9,-999          ,9,-999          ,9
325020240221  ,I08        ,7       ,  2,2          ,2          ,2,20240305,0404, -66.3038,  76.7320,     2805,   2641.9,  -0.0718,  34.6641,2,  34.6633,2,    228.8,2,    228.7,2,   125.61,2,     0.00,2,    32.55,2,     0.00,2,     2.25,2,    1.494,2,    0.694,2,    0.091,2,   0.5360,2,   2260.2,3,   2354.8,2,   7.5932,6,    25.01,     -999,9,  -0.0720,2,     -999,9,     -999,     -999,9,     -999,9,     -999,9,     -999,9,     -999,9,     -999,9,   0.0180,1,   4.5861,1,     13.0,2,     -999,9,20240305,0409, -66.3039,  76.7308,     -999,9,     -999,9,-999          ,9,-999          ,9,-999          ,9
325020240221  ,I08        ,7       ,  2,1          ,1          ,2,20240305,0404, -66.3038,  76.7320,     2805,   2841.3,  -0.1426,  34.6600,2,  34.6590,2,    231.9,2,    231.7,2,   126.78,2,     0.00,2,    32.59,2,     0.00,2,     2.23,2,    1.720,2,    0.806,2,    0.103,2,   0.6550,2,   2260.2,3,   2354.5,2,   7.5916,2,    25.00,     -999,9,  -0.1450,2,     -999,9,     -999,     -999,9,     -999,9,     -999,9,     -999,9,     -999,9,     -999,9,   0.0180,1,   4.5865,1,      9.0,2,     -999,9,20240305,0404, -66.3039,  76.7308,     -999,9,     -999,9,-999          ,9,-999          ,9,-999          ,9