BOTTLE,20240417CCHHYDRO
EXPOCODE,SECT_ID,STNNBR,CASTNO,SAMPNO,BTLNBR,BTLNBR_FLAG_W,DATE,TIME,LATITUDE,LONGITUDE,DEPTH,CTDPRS,CTDTMP,CTDSAL,CTDSAL_FLAG_W,SALNTY,SALNTY_FLAG_W,CTDOXY,CTDOXY_FLAG_W,OXYGEN,OXYGEN_FLAG_W,SILCAT,SILCAT_FLAG_W,NH4,NH4_FLAG_W,NITRAT,NITRAT_FLAG_W,NITRIT,NITRIT_FLAG_W,PHSPHT,PHSPHT_FLAG_W,CFC-11,CFC-11_FLAG_W,CFC-12,CFC-12_FLAG_W,CFC113,CFC113_FLAG_W,SF6,SF6_FLAG_W,TCARBN,TCARBN_FLAG_W,ALKALI,ALKALI_FLAG_W,PH_TOT,PH_TOT_FLAG_W,PH_TMP,DOC,DOC_FLAG_W,REFTMP,REFTMP_FLAG_W,DELC14,DELC14_FLAG_W,C14ERR,POC,POC_FLAG_W,PON,PON_FLAG_W,POP,POP_FLAG_W,PCOD,PCOD_FLAG_W,DOP,DOP_FLAG_W,TDN,TDN_FLAG_W,CTDFLUOR,CTDFLUOR_FLAG_W,CTDXMISS,CTDXMISS_FLAG_W,N2O,N2O_FLAG_W,ARGON,ARGON_FLAG_W,BTL_DATE,BTL_TIME,BTL_LAT,BTL_LON,KRYPTON,KRYPTON_FLAG_W,XENON,XENON_FLAG_W,HPLC,HPLC_FLAG_W,DNA,DNA_FLAG_W,FCM,FCM_FLAG_W
,,,,,,,,,,,METERS,DBAR,ITS-90,PSS-78,,PSS-78,,UMOL/KG,,UMOL/KG,,UMOL/KG,,UMOL/KG,,UMOL/KG,,UMOL/KG,,UMOL/KG,,PMOL/KG,,PMOL/KG,,PMOL/KG,,FMOL/KG,,UMOL/KG,,UMOL/KG,,,,DEG C,UMOL/KG,,ITS-90,,/MILLE,,/MILLE,UG/KG,,UG/KG,,UG/L,,UG/L,,UMOL/KG,,UMOL/KG,,VOLTS,,VOLTS,,NMOL/KG,,UMOL/L,,,,,,NMOL/L,,NMOL/L,,,,,,,
325020240221  ,I08        ,1       ,  1,11         ,11         ,2,20240304,0124, -67.1141,  76.6639,     -999,     64.9,  -1.0343,  34.3578,2,  34.3598,2,    308.5,2,    307.7,2,    61.57,2,     1.10,2,    27.85,2,     0.21,2,     1.98,2,     -999,9,     -999,9,     -999,9,     -999,9,   2231.9,3,   2324.4,2,   7.6169,2,    25.02,     -999,9,  -1.0367,2,     -999,9,     -999,     -999,9,     -999,9,     -999,9,     -999,9,     -999,9,     -999,9,   0.0373,1,   4.4993,1,     -999,9,     -999,9,20240304,0145, -67.1141,  76.6639,     -999,9,     -999,9,-999          ,9,-999          ,9,-999          ,9
325020240221  ,I08        ,1       ,  1,10         ,10         ,2,20240304,0124, -67.1141,  76.6639,     -999,     90.3,  -1.4171,  34.3862,2,  34.3859,2,    301.0,2,    300.9,2,    64.79,2,     0.53,2,    29.30,2,     0.26,2,     2.11,2,    5.009,2,    2.389,2,    0.405,2,   3.6820,2,   2234.8,3,   2324.7,2,   7.5968,2,    25.02,     -999,9,  -1.4183,2,     -999,9,     -999,     -999,9,     -999,9,     -999,9,     -999,9,     -999,9,     -999,9,   0.0278,1,   4.4957,1,     13.5,2,     -999,9,20240304,0143, -67.1141,  76.6639,     -999,9,     -999,9,-999          ,9,-999          ,9,-999          ,9
325020240221  ,I08        ,1       ,  1,9          ,9          ,2,20240304,0124, -67.1141,  76.6639,     -999,    115.7,  -1.6715,  34.3983,2,  34.3949,2,    301.7,2,    301.5,2,    65.57,2,     0.13,2,    30.43,2,     0.22,2,     2.11,2,    4.889,2,    2.465,2,    0.414,2,   3.0390,2,   2239.7,3,   2326.3,2,   7.5950,2,    25.03,     -999,9,  -1.6720,2,     -999,9,     -999,     -999,9,     -999,9,     -999,9,     -999,9,     -999,9,     -999,9,   0.0231,1,   4.4956,1,     12.3,2,     -999,9,20240304,0141, -67.1141,  76.6639,     -999,9,     -999,9,-999          ,9,-999          ,9,-999          ,9
325020240221  ,I08        ,1       ,  1,8          ,8          ,2,20240304,0124, -67.1141,  76.6639,     -999,    140.6,  -1.6524,  34.4091,2,  34.4069,2,    302.7,2,    302.1,2,    65.96,2,     0.09,2,    30.56,2,     0.06,2,     2.09,2,    4.272,2,    2.493,2,    0.416,2,   1.1170,4,   2240.8,3,   2325.9,2,   7.5971,2,    25.02,     -999,9,  -1.6527,2,     -999,9,     -999,     -999,9,     -999,9,     -999,9,     -999,9,     -999,9,     -999,9,   0.0214,1,   4.4968,1,     15.9,2,     -999,9,20240304,0139, -67.1141,  76.6639,     -999,9,     -999,9,-999          ,9,-999          ,9,-999          ,9
325020240221  ,I08        ,1       ,  1,7          ,7          ,2,20240304,0124, -67.1141,  76.6639,     -999,    165.4,  -1.5632,  34.4250,2,  34.4204,2,    302.2,2,    304.2,2,    66.45,2,     0.08,2,    30.54,2,     0.00,2,     2.06,2,     -999,9,     -999,9,     -999,9,     -999,9,   2236.1,3,   2326.4,2,   7.5995,2,    25.02,     -999,9,  -1.5659,2,     -999,9,     -999,     -999,9,     -999,9,     -999,9,     -999,9,     -999,9,     -999,9,   0.0195,1,   4.4981,1,     -999,9,     -999,9,20240304,0137, -67.1141,  76.6639,     -999,9,     -999,9,-999          ,9,-999          ,9,-999          ,9
325020240221  ,I08        ,1       ,  1,6          ,6          ,2,20240304,0124, -67.1141,  76.6639,     -999,    191.3,  -1.4520,  34.4384,2,  34.4389,2,    296.9,2,    296.1,2,    68.40,2,     0.00,2,    30.12,2,     0.00,2,     2.01,2,    3.924,2,    2.299,2,    0.391,2,   2.8880,2,   2239.4,3,   2330.0,2,   7.5990,6,    25.01,     -999,9,  -1.4515,2,     -999,9,     -999,     -999,9,     -999,9,     -999,9,     -999,9,     -999,9,     -999,9,   0.0188,1,   4.4994,1,     13.6,2,     -999,9,20240304,0135, -67.1141,  76.6639,     -999,9,     -999,9,-999          ,9,-999          ,9,-999          ,9
325020240221  ,I08        ,1       ,  1,5          ,5          ,2,20240304,0124, -67.1141,  76.6639,     -999,    216.2,  -1.2169,  34.4615,2,  34.4606,2,    287.6,2,    288.2,2,    70.85,2,     0.06,2,    30.53,2,     0.00,2,     2.13,2,    3.691,2,    2.130,2,    0.373,2,   2.5430,2,   2244.6,3,   2329.9,6,   7.5964,2,    25.02,     -999,9,  -1.2115,2,     -999,9,     -999,     -999,9,     -999,9,     -999,9,     -999,9,     -999,9,     -999,9,   0.0186,1,   4.5005,1,     13.9,2,     -999,9,20240304,0133, -67.1141,  76.6639,     -999,9,     -999,9,-999          ,9,-999          ,9,-999          ,9
325020240221  ,I08        ,1       ,  1,4          ,4          ,2,20240304,0124, -67.1141,  76.6639,     -999,    241.3,  -0.9938,  34.4865,2,  34.4848,2,    279.1,2,    278.9,2,    73.48,2,     0.04,2,    30.84,2,     0.03,2,     2.13,2,    3.398,2,    2.011,2,    0.337,2,   2.6050,2,   2243.6,3,   2331.8,2,   7.5924,2,    25.01,     -999,9,  -0.9940,2,     -999,9,     -999,     -999,9,     -999,9,     -999,9,     -999,9,     -999,9,     -999,9,   0.0177,1,   4.4994,1,     14.1,2,     -999,9,20240304,0131, -67.1141,  76.6639,     -999,9,     -999,9,-999          ,9,-999          ,9,-999          ,9
325020240221  ,I08        ,1       ,  1,3          ,3          ,2,20240304,0124, -67.1141,  76.6639,     -999,    266.6,  -1.2539,  34.4978,2,  34.4936,2,    285.1,2,    285.6,2,    72.99,2,     0.09,2,    30.85,2,     0.11,2,     2.15,2,     -999,9,     -999,9,     -999,9,     -999,9,   2250.0,3,   2331.7,2,   7.5895,2,    25.01,     -999,9,  -1.2417,2,     -999,9,     -999,     -999,9,     -999,9,     -999,9,     -999,9,     -999,9,     -999,9,   0.0195,1,   4.4968,1,     -999,9,     -999,9,20240304,0129, -67.1141,  76.6639,     -999,9,     -999,9,-999          ,9,-999          ,9,-999          ,9
325020240221  ,I08        ,1       ,  1,2          ,2          ,2,20240304,0124, -67.1141,  76.6639,     -999,    292.5,  -1.5524,  34.5041,2,  34.5025,2,    294.0,2,    294.5,2,    72.02,2,     0.15,2,    30.99,2,     0.11,2,     2.16,2,    4.169,2,    2.489,2,    0.411,2,   2.7590,2,   2241.5,3,   2334.1,2,   7.5821,6,    25.00,     -999,9,  -1.5524,2,     -999,9,     -999,     -999,9,     -999,9,     -999,9,     -999,9,     -999,9,     -999,9,   0.0195,1,   4.4966,1,     13.1,2,     -999,9,20240304,0127, -67.1141,  76.6639,     -999,9,     -999,9,-999          ,9,-999          ,9,-999          ,9
325020240221  ,I08        ,1       ,  1,1          ,1          ,2,20240304,0124, -67.1141,  76.6639,     -999,    302.3,  -1.5572,  34.5049,2,  34.5023,2,    294.9,2,    294.3,2,    72.02,2,     0.17,2,    31.12,2,     0.11,2,     2.19,2,    4.046,2,    2.470,2,    0.434,2,   2.7070,2,   2251.5,3,   2333.0,2,   7.5810,2,    25.01,     -999,9,  -1.5587,2,     -999,9,     -999,     -999,9,     -999,9,     -999,9,     -999,9,     -999,9,     -999,9,   0.0194,1,   4.4982,1,      8.5,4,     -999,9,20240304,0124, -67.1141,  76.6639,     -999,9,     -999,9,-999          ,9,-999          ,9,-999          ,9