BOTTLE,20240417CCHHYDRO
EXPOCODE,SECT_ID,STNNBR,CASTNO,SAMPNO,BTLNBR,BTLNBR_FLAG_W,DATE,TIME,LATITUDE,LONGITUDE,DEPTH,CTDPRS,CTDTMP,CTDSAL,CTDSAL_FLAG_W,SALNTY,SALNTY_FLAG_W,CTDOXY,CTDOXY_FLAG_W,OXYGEN,OXYGEN_FLAG_W,SILCAT,SILCAT_FLAG_W,NH4,NH4_FLAG_W,NITRAT,NITRAT_FLAG_W,NITRIT,NITRIT_FLAG_W,PHSPHT,PHSPHT_FLAG_W,CFC-11,CFC-11_FLAG_W,CFC-12,CFC-12_FLAG_W,CFC113,CFC113_FLAG_W,SF6,SF6_FLAG_W,TCARBN,TCARBN_FLAG_W,ALKALI,ALKALI_FLAG_W,PH_TOT,PH_TOT_FLAG_W,PH_TMP,DOC,DOC_FLAG_W,REFTMP,REFTMP_FLAG_W,DELC14,DELC14_FLAG_W,C14ERR,POC,POC_FLAG_W,PON,PON_FLAG_W,POP,POP_FLAG_W,PCOD,PCOD_FLAG_W,DOP,DOP_FLAG_W,TDN,TDN_FLAG_W,CTDFLUOR,CTDFLUOR_FLAG_W,CTDXMISS,CTDXMISS_FLAG_W,N2O,N2O_FLAG_W,ARGON,ARGON_FLAG_W,BTL_DATE,BTL_TIME,BTL_LAT,BTL_LON,KRYPTON,KRYPTON_FLAG_W,XENON,XENON_FLAG_W,HPLC,HPLC_FLAG_W,DNA,DNA_FLAG_W,FCM,FCM_FLAG_W
,,,,,,,,,,,METERS,DBAR,ITS-90,PSS-78,,PSS-78,,UMOL/KG,,UMOL/KG,,UMOL/KG,,UMOL/KG,,UMOL/KG,,UMOL/KG,,UMOL/KG,,PMOL/KG,,PMOL/KG,,PMOL/KG,,FMOL/KG,,UMOL/KG,,UMOL/KG,,,,DEG C,UMOL/KG,,ITS-90,,/MILLE,,/MILLE,UG/KG,,UG/KG,,UG/L,,UG/L,,UMOL/KG,,UMOL/KG,,VOLTS,,VOLTS,,NMOL/KG,,UMOL/L,,,,,,NMOL/L,,NMOL/L,,,,,,,
325020240221  ,I08        ,40      ,  1,5          ,5          ,2,20240319,2308, -46.4990,  93.7129,     3319,   2637.9,   1.5007,  34.7382,2,  34.7384,2,    201.3,2,    201.4,2,   100.82,2,     0.06,2,    30.65,2,     0.00,2,     2.21,2,    0.079,4,    0.096,2,    0.000,4,   0.0150,2,   2250.3,3,   2358.5,6,   7.6179,2,    25.03,     -999,1,   1.5006,2,     -999,9,     -999,     -999,9,     -999,9,     -999,9,     -999,9,     -999,9,     -999,1,   0.0183,1,   4.6410,1,     17.2,2,     -999,9,20240319,2334, -46.4990,  93.7129,     -999,9,     -999,9,-999          ,9,-999          ,9,-999          ,9
325020240221  ,I08        ,40      ,  1,4          ,4          ,2,20240319,2308, -46.4990,  93.7129,     3319,   2841.7,   1.2925,  34.7284,2,  34.7284,2,    203.4,2,    203.5,2,   107.55,2,     0.02,2,    31.15,2,     0.00,2,     2.24,2,     -999,9,     -999,9,     -999,9,     -999,9,     -999,9,     -999,9,     -999,9,     -999,     -999,1,   1.2923,2,     -999,9,     -999,     -999,9,     -999,9,     -999,9,     -999,9,     -999,9,     -999,1,   0.0185,1,   4.6386,1,     -999,9,     -999,9,20240319,2328, -46.4991,  93.7129,     -999,9,     -999,9,-999          ,9,-999          ,9,-999          ,9
325020240221  ,I08        ,40      ,  1,3          ,3          ,2,20240319,2308, -46.4990,  93.7129,     3319,   3047.4,   1.1252,  34.7198,2,  34.7193,2,    205.6,2,    205.5,2,   112.73,2,     0.03,2,    31.44,2,     0.00,2,     2.25,2,    0.214,4,    0.154,2,    0.000,4,   0.0190,2,   2256.5,3,   2360.0,2,   7.6120,2,    25.01,     -999,1,   1.1251,2,     -999,9,     -999,     -999,9,     -999,9,     -999,9,     -999,9,     -999,9,     -999,1,   0.0189,1,   4.6376,1,     16.8,2,     -999,9,20240319,2322, -46.4991,  93.7130,     -999,9,     -999,9,-999          ,9,-999          ,9,-999          ,9
325020240221  ,I08        ,40      ,  1,2          ,2          ,2,20240319,2308, -46.4990,  93.7129,     3319,   3225.6,   1.0550,  34.7156,2,  34.7150,2,    206.7,2,    206.8,2,   115.17,2,     0.05,2,    31.59,2,     0.00,2,     2.24,2,     -999,9,     -999,9,     -999,9,     -999,9,   2259.5,3,   2360.6,2,   7.6091,2,    25.01,     -999,1,   1.0546,2,     -999,9,     -999,     -999,9,     -999,9,     -999,9,     -999,9,     -999,9,     -999,1,   0.0183,1,   4.6379,1,     -999,9,     -999,9,20240319,2313, -46.4991,  93.7130,     -999,9,     -999,9,-999          ,9,-999          ,9,-999          ,9
325020240221  ,I08        ,40      ,  1,1          ,1          ,2,20240319,2308, -46.4990,  93.7129,     3319,   3356.9,   1.0024,  34.7123,2,  34.7133,2,    207.8,2,    207.7,2,   116.92,2,     0.06,2,    31.70,2,     0.00,2,     2.25,2,    0.313,4,    0.194,2,    0.000,4,   0.0860,2,   2258.9,3,   2359.2,2,   7.6088,6,    25.03,     -999,1,   1.0019,2,     -999,9,     -999,     -999,9,     -999,9,     -999,9,     -999,9,     -999,9,     -999,1,   0.0183,1,   4.6386,1,     16.3,2,     -999,9,20240319,2308, -46.4991,  93.7129,     -999,9,     -999,9,-999          ,9,-999          ,9,-999          ,9