BOTTLE,20240417CCHHYDRO
EXPOCODE,SECT_ID,STNNBR,CASTNO,SAMPNO,BTLNBR,BTLNBR_FLAG_W,DATE,TIME,LATITUDE,LONGITUDE,DEPTH,CTDPRS,CTDTMP,CTDSAL,CTDSAL_FLAG_W,SALNTY,SALNTY_FLAG_W,CTDOXY,CTDOXY_FLAG_W,OXYGEN,OXYGEN_FLAG_W,SILCAT,SILCAT_FLAG_W,NH4,NH4_FLAG_W,NITRAT,NITRAT_FLAG_W,NITRIT,NITRIT_FLAG_W,PHSPHT,PHSPHT_FLAG_W,CFC-11,CFC-11_FLAG_W,CFC-12,CFC-12_FLAG_W,CFC113,CFC113_FLAG_W,SF6,SF6_FLAG_W,TCARBN,TCARBN_FLAG_W,ALKALI,ALKALI_FLAG_W,PH_TOT,PH_TOT_FLAG_W,PH_TMP,DOC,DOC_FLAG_W,REFTMP,REFTMP_FLAG_W,DELC14,DELC14_FLAG_W,C14ERR,POC,POC_FLAG_W,PON,PON_FLAG_W,POP,POP_FLAG_W,PCOD,PCOD_FLAG_W,DOP,DOP_FLAG_W,TDN,TDN_FLAG_W,CTDFLUOR,CTDFLUOR_FLAG_W,CTDXMISS,CTDXMISS_FLAG_W,N2O,N2O_FLAG_W,ARGON,ARGON_FLAG_W,BTL_DATE,BTL_TIME,BTL_LAT,BTL_LON,KRYPTON,KRYPTON_FLAG_W,XENON,XENON_FLAG_W,HPLC,HPLC_FLAG_W,DNA,DNA_FLAG_W,FCM,FCM_FLAG_W
,,,,,,,,,,,METERS,DBAR,ITS-90,PSS-78,,PSS-78,,UMOL/KG,,UMOL/KG,,UMOL/KG,,UMOL/KG,,UMOL/KG,,UMOL/KG,,UMOL/KG,,PMOL/KG,,PMOL/KG,,PMOL/KG,,FMOL/KG,,UMOL/KG,,UMOL/KG,,,,DEG C,UMOL/KG,,ITS-90,,/MILLE,,/MILLE,UG/KG,,UG/KG,,UG/L,,UG/L,,UMOL/KG,,UMOL/KG,,VOLTS,,VOLTS,,NMOL/KG,,UMOL/L,,,,,,NMOL/L,,NMOL/L,,,,,,,
325020240221  ,I08        ,39      ,  1,36         ,36         ,2,20240319,1403, -47.1446,  93.1625,     3296,      6.4,   8.4891,  33.8603,2,  33.8609,2,    287.9,2,    286.9,2,     1.66,2,     0.31,2,    15.91,2,     0.27,2,     1.25,2,    3.680,2,    1.961,2,    0.344,4,   3.3820,2,   2119.4,3,   2271.9,2,   7.7876,6,    25.01,     -999,1,   8.4890,2,     -999,9,     -999,     -999,9,     -999,9,     -999,9,     -999,9,     -999,9,     -999,1,   0.0486,1,   4.5824,1,     13.1,2,     -999,9,20240319,1632, -47.1446,  93.1625,     -999,9,     -999,9,-999          ,9,-999          ,9,-999          ,9
325020240221  ,I08        ,39      ,  1,35         ,35         ,2,20240319,1403, -47.1446,  93.1625,     3296,     18.6,   8.4590,  33.8579,2,  33.8600,2,    287.8,2,    287.1,2,     1.66,2,     0.29,2,    16.00,2,     0.27,2,     1.25,2,    3.751,2,    1.996,2,    0.332,4,   3.3640,2,   2112.5,3,   2270.5,2,   7.7870,2,    25.01,     -999,9,   8.4546,2,     -999,9,     -999,     -999,9,     -999,9,     -999,9,     -999,9,     -999,9,     -999,9,   0.0471,1,   4.5822,1,     13.0,2,     -999,9,20240319,1630, -47.1445,  93.1626,     -999,9,     -999,9,-999          ,9,-999          ,9,-999          ,9
325020240221  ,I08        ,39      ,  1,34         ,34         ,2,20240319,1403, -47.1446,  93.1625,     3296,     40.2,   8.2548,  33.8481,2,  33.8486,2,    286.9,2,    288.0,2,     1.76,2,     0.32,2,    16.43,2,     0.27,2,     1.28,2,    3.612,2,    1.956,2,    0.373,4,   3.2870,2,   2112.8,3,   2272.0,2,   7.7827,6,    25.02,     -999,9,   8.2554,2,     -999,9,     -999,     -999,9,     -999,9,     -999,9,     -999,9,     -999,9,     -999,9,   0.0513,1,   4.5836,1,     12.9,2,     -999,9,20240319,1627, -47.1445,  93.1626,     -999,9,     -999,9,-999          ,9,-999          ,9,-999          ,9
325020240221  ,I08        ,39      ,  1,33         ,33         ,2,20240319,1403, -47.1446,  93.1625,     3296,     65.7,   8.1621,  33.8456,2,  33.8018,3,    287.1,2,    288.1,2,     1.86,2,     0.33,2,    16.59,2,     0.28,2,     1.28,2,    3.789,2,    2.001,2,    0.376,4,   3.3380,2,   2111.4,3,   2271.3,6,   7.7810,2,    25.02,     -999,9,   8.1622,2,     -999,9,     -999,     -999,9,     -999,9,     -999,9,     -999,9,     -999,9,     -999,9,   0.0502,1,   4.5885,1,     12.7,2,     -999,9,20240319,1625, -47.1446,  93.1626,     -999,9,     -999,9,-999          ,9,-999          ,9,-999          ,9
325020240221  ,I08        ,39      ,  1,32         ,32         ,2,20240319,1403, -47.1446,  93.1625,     3296,     90.3,   8.0062,  33.8733,2,  33.8739,2,    285.8,2,    285.9,2,     2.05,2,     0.34,2,    16.85,2,     0.34,2,     1.33,2,    3.976,2,    2.017,2,    0.362,4,   3.0170,2,   2119.7,3,   2272.5,2,   7.7758,2,    25.02,     -999,9,   8.0084,2,     -999,9,     -999,     -999,9,     -999,9,     -999,9,     -999,9,     -999,9,     -999,9,   0.0411,1,   4.6190,1,     12.7,2,     -999,9,20240319,1623, -47.1446,  93.1625,     -999,9,     -999,9,-999          ,9,-999          ,9,-999          ,9
325020240221  ,I08        ,39      ,  1,31         ,31         ,2,20240319,1403, -47.1446,  93.1625,     3296,    115.4,   7.9604,  34.0970,2,  34.0831,2,    275.5,2,    275.2,2,     3.22,2,     0.00,2,    17.94,2,     0.16,2,     1.35,2,    4.056,2,    2.044,2,    0.338,4,   3.0550,2,     -999,9,     -999,9,     -999,9,     -999,     -999,9,   7.9624,2,     -999,9,     -999,     -999,9,     -999,9,     -999,9,     -999,9,     -999,9,     -999,9,   0.0274,1,   4.6575,1,     13.1,2,     -999,9,20240319,1621, -47.1445,  93.1626,     -999,9,     -999,9,-999          ,9,-999          ,9,-999          ,9
325020240221  ,I08        ,39      ,  1,30         ,30         ,2,20240319,1403, -47.1446,  93.1625,     3296,    140.9,   7.6367,  34.1515,2,  34.1423,2,    261.1,3,    270.7,2,     4.88,2,     0.00,2,    19.02,2,     0.00,2,     1.40,2,    4.046,2,    1.991,2,    0.338,4,   2.9910,2,   2132.6,3,   2277.3,2,   7.7370,2,    25.01,     -999,9,   7.6447,2,     -999,9,     -999,     -999,9,     -999,9,     -999,9,     -999,9,     -999,9,     -999,9,   0.0214,1,   4.6680,1,     13.2,2,     -999,9,20240319,1618, -47.1446,  93.1625,     -999,9,     -999,9,-999          ,9,-999          ,9,-999          ,9
325020240221  ,I08        ,39      ,  1,29         ,29         ,2,20240319,1403, -47.1446,  93.1625,     3296,    164.9,   8.1613,  34.3162,2,  34.3176,2,    256.3,3,    259.6,2,     5.47,2,     0.02,2,    18.08,2,     0.00,2,     1.33,2,    3.707,2,    1.996,2,    0.313,4,   2.6590,2,   2137.3,3,   2281.8,2,   7.7409,2,    25.00,     -999,9,   8.1480,2,     -999,9,     -999,     -999,9,     -999,9,     -999,9,     -999,9,     -999,9,     -999,9,   0.0195,1,   4.6734,1,     13.2,2,     -999,9,20240319,1616, -47.1445,  93.1625,     -999,9,     -999,9,-999          ,9,-999          ,9,-999          ,9
325020240221  ,I08        ,39      ,  1,28         ,28         ,2,20240319,1403, -47.1446,  93.1625,     3296,    191.7,   8.3069,  34.3826,2,  34.3847,2,    252.0,2,    252.5,2,     6.05,2,     0.00,2,    18.18,2,     0.00,2,     1.33,2,    3.724,2,    1.948,2,    0.303,4,   2.5170,2,   2144.7,3,   2283.8,2,   7.7370,2,    25.02,     -999,9,   8.3195,2,     -999,9,     -999,     -999,9,     -999,9,     -999,9,     -999,9,     -999,9,     -999,9,   0.0183,1,   4.6746,1,     13.3,2,     -999,9,20240319,1614, -47.1446,  93.1624,     -999,9,     -999,9,-999          ,9,-999          ,9,-999          ,9
325020240221  ,I08        ,39      ,  1,27         ,27         ,2,20240319,1403, -47.1446,  93.1625,     3296,    235.9,   7.7728,  34.3550,2,  34.3507,2,    245.9,3,    248.7,2,     7.32,2,     0.00,2,    19.79,2,     0.00,2,     1.42,2,    3.770,2,    2.016,2,    0.254,4,   2.3930,2,     -999,9,     -999,9,     -999,9,     -999,     -999,9,   7.7644,2,     -999,9,     -999,     -999,9,     -999,9,     -999,9,     -999,9,     -999,9,     -999,9,   0.0183,1,   4.6762,1,     13.8,2,     -999,9,20240319,1611, -47.1445,  93.1626,     -999,9,     -999,9,-999          ,9,-999          ,9,-999          ,9
325020240221  ,I08        ,39      ,  1,26         ,26         ,2,20240319,1403, -47.1446,  93.1625,     3296,    288.7,   7.6900,  34.4188,2,  34.4184,2,    235.8,2,    234.7,2,     9.18,2,     0.00,2,    21.07,2,     0.00,2,     1.47,2,    3.836,2,    1.929,2,    0.245,4,   2.1970,2,   2158.4,3,   2285.7,2,   7.6820,6,    25.01,     -999,9,   7.6960,2,     -999,9,     -999,     -999,9,     -999,9,     -999,9,     -999,9,     -999,9,     -999,9,   0.0183,1,   4.6777,1,     14.0,2,     -999,9,20240319,1608, -47.1446,  93.1625,     -999,9,     -999,9,-999          ,9,-999          ,9,-999          ,9
325020240221  ,I08        ,39      ,  1,25         ,25         ,2,20240319,1403, -47.1446,  93.1625,     3296,    337.3,   7.3829,  34.4159,2,  34.4208,2,    228.1,2,    228.5,2,    10.93,2,     0.00,2,    22.26,2,     0.00,2,     1.56,2,    3.657,2,    1.875,2,    0.229,4,   1.6620,2,     -999,9,     -999,9,     -999,9,     -999,     -999,9,   7.3907,2,     -999,9,     -999,     -999,9,     -999,9,     -999,9,     -999,9,     -999,9,     -999,9,   0.0183,1,   4.6799,1,     14.8,2,     -999,9,20240319,1605, -47.1446,  93.1625,     -999,9,     -999,9,-999          ,9,-999          ,9,-999          ,9
325020240221  ,I08        ,39      ,  1,24         ,24         ,2,20240319,1403, -47.1446,  93.1625,     3296,    387.1,   6.5816,  34.3682,2,  34.3702,2,    224.9,2,    225.1,2,    14.06,2,     0.00,2,    24.43,2,     0.00,2,     1.70,2,    3.678,2,    1.795,2,    0.232,4,   1.7470,2,   2176.0,3,   2285.7,2,   7.6626,2,    25.01,     -999,9,   6.5804,2,     -999,9,     -999,     -999,9,     -999,9,     -999,9,     -999,9,     -999,9,     -999,9,   0.0183,1,   4.6817,1,     15.7,2,     -999,9,20240319,1602, -47.1444,  93.1628,     -999,9,     -999,9,-999          ,9,-999          ,9,-999          ,9
325020240221  ,I08        ,39      ,  1,23         ,37         ,2,20240319,1403, -47.1446,  93.1625,     3296,    440.3,   6.1397,  34.3534,2,  34.3552,2,    222.1,2,    221.8,2,    16.50,2,     0.00,2,    25.75,2,     0.00,2,     1.79,2,    3.627,2,    1.745,2,    0.246,4,   1.5970,2,   2179.8,3,   2284.8,2,   7.6487,2,    25.01,     -999,9,   6.1458,2,     -999,9,     -999,     -999,9,     -999,9,     -999,9,     -999,9,     -999,9,     -999,9,   0.0181,1,   4.6825,1,     15.4,2,     -999,9,20240319,1559, -47.1444,  93.1627,     -999,9,     -999,9,-999          ,9,-999          ,9,-999          ,9
325020240221  ,I08        ,39      ,  1,22         ,22         ,2,20240319,1403, -47.1446,  93.1625,     3296,    488.2,   5.7071,  34.3310,2,  34.3325,2,    221.8,2,    221.2,2,    18.45,2,     0.00,2,    26.75,2,     0.00,2,     1.86,2,    3.377,2,    1.733,2,    0.227,4,   1.5400,2,   2176.5,3,   2285.8,2,   7.6395,2,    24.99,     -999,9,   5.7055,2,     -999,9,     -999,     -999,9,     -999,9,     -999,9,     -999,9,     -999,9,     -999,9,   0.0177,1,   4.6837,1,     15.6,2,     -999,9,20240319,1555, -47.1447,  93.1624,     -999,9,     -999,9,-999          ,9,-999          ,9,-999          ,9
325020240221  ,I08        ,39      ,  1,21         ,21         ,2,20240319,1403, -47.1446,  93.1625,     3296,    571.1,   4.8476,  34.2761,2,  34.2752,2,    225.8,2,    226.7,2,    22.16,2,     0.00,2,    28.22,2,     0.00,2,     1.98,2,    3.414,2,    1.752,2,    0.192,4,   1.4060,2,     -999,9,     -999,9,     -999,9,     -999,     -999,9,   4.8499,2,     -999,9,     -999,     -999,9,     -999,9,     -999,9,     -999,9,     -999,9,     -999,9,   0.0183,1,   4.6848,1,     14.8,2,     -999,9,20240319,1551, -47.1445,  93.1627,     -999,9,     -999,9,-999          ,9,-999          ,9,-999          ,9
325020240221  ,I08        ,39      ,  1,20         ,20         ,2,20240319,1403, -47.1446,  93.1625,     3296,    669.6,   4.1963,  34.2835,2,  34.2866,2,    218.6,2,    218.4,2,    29.88,2,     0.00,2,    29.91,2,     0.00,2,     2.11,2,    2.915,2,    1.546,2,    0.278,4,   1.1380,2,   2198.7,3,   2291.7,2,   7.6096,2,    25.02,     -999,9,   4.2044,2,     -999,9,     -999,     -999,9,     -999,9,     -999,9,     -999,9,     -999,9,     -999,9,   0.0183,1,   4.6762,1,      9.3,4,     -999,9,20240319,1546, -47.1444,  93.1625,     -999,9,     -999,9,-999          ,9,-999          ,9,-999          ,9
325020240221  ,I08        ,39      ,  1,19         ,19         ,2,20240319,1403, -47.1446,  93.1625,     3296,    771.8,   3.7673,  34.3193,2,  34.3193,2,    207.7,2,    207.7,2,    37.88,2,     0.00,2,    31.24,2,     0.00,2,     2.21,2,    2.419,2,    1.307,2,    0.164,4,   1.0520,2,     -999,9,     -999,9,     -999,9,     -999,     -999,9,   3.7677,2,     -999,9,     -999,     -999,9,     -999,9,     -999,9,     -999,9,     -999,9,     -999,9,   0.0183,1,   4.6702,1,     17.4,2,     -999,9,20240319,1542, -47.1443,  93.1626,     -999,9,     -999,9,-999          ,9,-999          ,9,-999          ,9
325020240221  ,I08        ,39      ,  1,18         ,18         ,2,20240319,1403, -47.1446,  93.1625,     3296,    875.1,   3.3464,  34.3536,2,  34.3541,2,    197.9,2,    197.5,2,    46.18,2,     0.02,2,    32.50,2,     0.00,2,     2.29,2,    2.053,2,    1.076,2,    0.151,4,   0.8150,2,   2227.2,3,   2306.8,2,   7.5754,2,    25.02,     -999,9,   3.3467,2,     -999,9,     -999,     -999,9,     -999,9,     -999,9,     -999,9,     -999,9,     -999,9,   0.0183,1,   4.6653,1,     18.6,2,     -999,9,20240319,1536, -47.1444,  93.1625,     -999,9,     -999,9,-999          ,9,-999          ,9,-999          ,9
325020240221  ,I08        ,39      ,  1,17         ,17         ,2,20240319,1403, -47.1446,  93.1625,     3296,    976.3,   3.1818,  34.4028,2,  34.4014,2,    188.2,2,    188.2,2,    52.53,2,     0.00,2,    33.19,2,     0.00,2,     2.34,2,    1.517,2,    0.871,2,    0.104,4,   0.7600,2,     -999,9,     -999,9,     -999,9,     -999,     -999,9,   3.1728,2,     -999,9,     -999,     -999,9,     -999,9,     -999,9,     -999,9,     -999,9,     -999,9,   0.0183,1,   4.6618,1,     19.0,2,     -999,9,20240319,1532, -47.1444,  93.1625,     -999,9,     -999,9,-999          ,9,-999          ,9,-999          ,9
325020240221  ,I08        ,39      ,  1,16         ,16         ,2,20240319,1403, -47.1446,  93.1625,     3296,   1075.7,   3.0104,  34.4530,2,  34.4542,2,    180.8,2,    180.7,2,    58.77,2,     0.00,2,    33.57,2,     0.00,2,     2.36,2,    1.100,2,    0.658,2,    0.075,4,   0.4880,2,   2243.8,3,   2318.1,2,   7.5609,6,    25.01,     -999,9,   3.0137,2,     -999,9,     -999,     -999,9,     -999,9,     -999,9,     -999,9,     -999,9,     -999,9,   0.0183,1,   4.6596,1,     19.3,2,     -999,9,20240319,1527, -47.1445,  93.1625,     -999,9,     -999,9,-999          ,9,-999          ,9,-999          ,9
325020240221  ,I08        ,39      ,  1,15         ,15         ,2,20240319,1403, -47.1446,  93.1625,     3296,   1176.7,   2.8855,  34.5144,2,  34.5150,2,    175.1,2,    175.3,2,    64.43,2,     0.02,2,    33.62,2,     0.00,2,     2.37,2,    0.701,2,    0.448,2,    0.053,4,   0.3060,2,     -999,9,     -999,9,     -999,9,     -999,     -999,9,   2.8856,2,     -999,9,     -999,     -999,9,     -999,9,     -999,9,     -999,9,     -999,9,     -999,9,   0.0183,1,   4.6580,1,     19.6,2,     -999,9,20240319,1523, -47.1443,  93.1626,     -999,9,     -999,9,-999          ,9,-999          ,9,-999          ,9
325020240221  ,I08        ,39      ,  1,14         ,14         ,2,20240319,1403, -47.1446,  93.1625,     3296,   1278.4,   2.7536,  34.5642,2,  34.5663,2,    173.5,2,    173.5,2,    68.43,2,     0.00,2,    33.38,2,     0.00,2,     2.35,2,    0.525,2,    0.344,2,    0.034,4,   0.1980,2,   2255.0,3,   2329.8,2,   7.5637,2,    25.01,     -999,9,   2.7532,2,     -999,9,     -999,     -999,9,     -999,9,     -999,9,     -999,9,     -999,9,     -999,9,   0.0182,1,   4.6569,1,     19.7,2,     -999,9,20240319,1518, -47.1443,  93.1624,     -999,9,     -999,9,-999          ,9,-999          ,9,-999          ,9
325020240221  ,I08        ,39      ,  1,13         ,13         ,2,20240319,1403, -47.1446,  93.1625,     3296,   1380.2,   2.6634,  34.6040,2,  34.6042,2,    174.1,2,    174.0,2,    70.48,2,     0.00,2,    33.00,2,     0.00,2,     2.32,2,    0.386,2,    0.273,2,    0.025,4,   0.0000,2,   2254.8,3,   2333.2,2,   7.5683,6,    25.01,     -999,9,   2.6634,2,     -999,9,     -999,     -999,9,     -999,9,     -999,9,     -999,9,     -999,9,     -999,9,   0.0189,1,   4.6563,1,     19.2,2,     -999,9,20240319,1514, -47.1444,  93.1623,     -999,9,     -999,9,-999          ,9,-999          ,9,-999          ,9
325020240221  ,I08        ,39      ,  1,12         ,12         ,2,20240319,1403, -47.1446,  93.1625,     3296,   1481.1,   2.5994,  34.6418,2,  34.6425,2,    176.2,2,    176.0,2,    72.23,2,     0.00,2,    32.45,2,     0.00,2,     2.25,2,    0.268,2,    0.210,2,    0.018,4,   0.0080,2,   2253.2,3,   2336.7,6,   7.5765,2,    25.00,     -999,9,   2.5990,2,     -999,9,     -999,     -999,9,     -999,9,     -999,9,     -999,9,     -999,9,     -999,9,   0.0183,1,   4.6556,1,     18.8,2,     -999,9,20240319,1509, -47.1444,  93.1626,     -999,9,     -999,9,-999          ,9,-999          ,9,-999          ,9
325020240221  ,I08        ,39      ,  1,11         ,11         ,2,20240319,1403, -47.1446,  93.1625,     3296,   1582.1,   2.5351,  34.6688,2,  34.6706,2,    178.7,2,    179.0,2,    73.40,2,     0.00,2,    31.88,2,     0.00,2,     2.21,2,    0.219,2,    0.173,2,    0.014,4,   0.0000,2,     -999,9,     -999,9,     -999,9,     -999,     -999,9,   2.5347,2,     -999,9,     -999,     -999,9,     -999,9,     -999,9,     -999,9,     -999,9,     -999,9,   0.0183,1,   4.6544,1,     18.7,2,     -999,9,20240319,1505, -47.1444,  93.1624,     -999,9,     -999,9,-999          ,9,-999          ,9,-999          ,9
325020240221  ,I08        ,39      ,  1,10         ,10         ,2,20240319,1403, -47.1446,  93.1625,     3296,   1684.8,   2.4771,  34.6917,2,  34.6932,2,    181.5,2,    181.8,2,    74.18,2,     0.00,2,    31.42,2,     0.00,2,     2.16,2,    0.169,4,    0.149,2,    0.011,4,   0.0000,2,   2252.0,3,   2339.2,2,   7.5908,2,    25.00,     -999,9,   2.4769,2,     -999,9,     -999,     -999,9,     -999,9,     -999,9,     -999,9,     -999,9,     -999,9,   0.0183,1,   4.6543,1,     18.2,2,     -999,9,20240319,1501, -47.1444,  93.1623,     -999,9,     -999,9,-999          ,9,-999          ,9,-999          ,9
325020240221  ,I08        ,39      ,  1,9          ,9          ,2,20240319,1403, -47.1446,  93.1625,     3296,   1787.9,   2.4000,  34.7101,2,  34.7123,2,    184.4,2,    184.2,2,    75.94,2,     0.00,2,    30.94,2,     0.00,2,     2.13,2,    0.142,4,    0.129,2,    0.010,4,   0.0000,2,     -999,9,     -999,9,     -999,9,     -999,     -999,9,   2.3998,2,     -999,9,     -999,     -999,9,     -999,9,     -999,9,     -999,9,     -999,9,     -999,9,   0.0183,1,   4.6532,1,     18.0,2,     -999,9,20240319,1456, -47.1444,  93.1624,     -999,9,     -999,9,-999          ,9,-999          ,9,-999          ,9
325020240221  ,I08        ,39      ,  1,8          ,8          ,2,20240319,1403, -47.1446,  93.1625,     3296,   1960.2,   2.2764,  34.7390,2,  34.7398,2,    190.8,2,    191.2,2,    77.40,2,     0.02,2,    29.93,2,     0.00,2,     2.09,2,    0.079,4,    0.092,2,    0.009,4,   0.0000,2,   2241.0,3,   2344.2,2,   7.6102,2,    25.03,     -999,9,   2.2763,2,     -999,9,     -999,     -999,9,     -999,9,     -999,9,     -999,9,     -999,9,     -999,9,   0.0183,1,   4.6519,1,     17.5,2,     -999,9,20240319,1450, -47.1446,  93.1624,     -999,9,     -999,9,-999          ,9,-999          ,9,-999          ,9
325020240221  ,I08        ,39      ,  1,7          ,7          ,2,20240319,1403, -47.1446,  93.1625,     3296,   2163.0,   2.1321,  34.7510,2,  34.7514,2,    194.7,2,    194.5,2,    81.60,2,     0.03,2,    29.54,2,     0.00,2,     2.07,2,    0.053,4,    0.077,2,    0.008,4,   0.0000,2,     -999,9,     -999,9,     -999,9,     -999,     -999,9,   2.1323,2,     -999,9,     -999,     -999,9,     -999,9,     -999,9,     -999,9,     -999,9,     -999,9,   0.0183,1,   4.6497,1,     17.1,2,     -999,9,20240319,1443, -47.1445,  93.1625,     -999,9,     -999,9,-999          ,9,-999          ,9,-999          ,9
325020240221  ,I08        ,39      ,  1,6          ,6          ,2,20240319,1403, -47.1446,  93.1625,     3296,   2367.2,   1.9303,  34.7521,2,  34.7539,2,    197.2,2,    197.5,2,    88.04,2,     0.00,2,    29.59,2,     0.00,2,     2.08,2,    0.048,4,    0.068,6,    0.012,4,   0.0000,6,   2242.9,3,   2352.9,2,   7.6205,6,    25.02,     -999,9,   1.9275,2,     -999,9,     -999,     -999,9,     -999,9,     -999,9,     -999,9,     -999,9,     -999,9,   0.0183,1,   4.6470,1,     17.0,6,     -999,9,20240319,1436, -47.1444,  93.1626,     -999,9,     -999,9,-999          ,9,-999          ,9,-999          ,9