BOTTLE,20240417CCHHYDRO
EXPOCODE,SECT_ID,STNNBR,CASTNO,SAMPNO,BTLNBR,BTLNBR_FLAG_W,DATE,TIME,LATITUDE,LONGITUDE,DEPTH,CTDPRS,CTDTMP,CTDSAL,CTDSAL_FLAG_W,SALNTY,SALNTY_FLAG_W,CTDOXY,CTDOXY_FLAG_W,OXYGEN,OXYGEN_FLAG_W,SILCAT,SILCAT_FLAG_W,NH4,NH4_FLAG_W,NITRAT,NITRAT_FLAG_W,NITRIT,NITRIT_FLAG_W,PHSPHT,PHSPHT_FLAG_W,CFC-11,CFC-11_FLAG_W,CFC-12,CFC-12_FLAG_W,CFC113,CFC113_FLAG_W,SF6,SF6_FLAG_W,TCARBN,TCARBN_FLAG_W,ALKALI,ALKALI_FLAG_W,PH_TOT,PH_TOT_FLAG_W,PH_TMP,DOC,DOC_FLAG_W,REFTMP,REFTMP_FLAG_W,DELC14,DELC14_FLAG_W,C14ERR,POC,POC_FLAG_W,PON,PON_FLAG_W,POP,POP_FLAG_W,PCOD,PCOD_FLAG_W,DOP,DOP_FLAG_W,TDN,TDN_FLAG_W,CTDFLUOR,CTDFLUOR_FLAG_W,CTDXMISS,CTDXMISS_FLAG_W,N2O,N2O_FLAG_W,ARGON,ARGON_FLAG_W,BTL_DATE,BTL_TIME,BTL_LAT,BTL_LON,KRYPTON,KRYPTON_FLAG_W,XENON,XENON_FLAG_W,HPLC,HPLC_FLAG_W,DNA,DNA_FLAG_W,FCM,FCM_FLAG_W
,,,,,,,,,,,METERS,DBAR,ITS-90,PSS-78,,PSS-78,,UMOL/KG,,UMOL/KG,,UMOL/KG,,UMOL/KG,,UMOL/KG,,UMOL/KG,,UMOL/KG,,PMOL/KG,,PMOL/KG,,PMOL/KG,,FMOL/KG,,UMOL/KG,,UMOL/KG,,,,DEG C,UMOL/KG,,ITS-90,,/MILLE,,/MILLE,UG/KG,,UG/KG,,UG/L,,UG/L,,UMOL/KG,,UMOL/KG,,VOLTS,,VOLTS,,NMOL/KG,,UMOL/L,,,,,,NMOL/L,,NMOL/L,,,,,,,
325020240221  ,I08        ,33      ,  2,36         ,36         ,2,20240316,0936, -53.5277,  87.0234,     4582,      4.9,   3.8414,  33.8055,2,  33.8055,2,    314.8,2,    315.4,2,    11.82,2,     0.46,2,    23.63,2,     0.26,2,     1.61,2,    4.855,2,    2.647,2,    0.404,2,   4.1360,2,   2146.2,3,   2280.9,2,   7.7092,6,    25.04,     -999,1,   3.8412,2,     -999,1,     -999,     -999,9,     -999,9,     -999,9,     -999,9,     -999,9,     -999,1,   0.0516,1,   4.4895,1,      9.7,2,     -999,9,20240316,1209, -53.5277,  87.0234,     -999,9,     -999,9,-999          ,9,-999          ,9,-999          ,9
325020240221  ,I08        ,33      ,  2,35         ,35         ,2,20240316,0936, -53.5277,  87.0234,     4582,     19.2,   3.8464,  33.8056,2,  33.8055,2,    314.6,2,    314.5,2,    11.92,2,     0.44,2,    23.66,2,     0.26,2,     1.64,2,    4.768,2,    2.606,2,    0.419,2,   4.0860,2,   2146.3,3,   2280.1,2,   7.7093,2,    25.00,     -999,9,   3.8483,2,     -999,1,     -999,     -999,9,     -999,9,     -999,9,     -999,9,     -999,9,     -999,9,   0.0516,1,   4.4927,1,      9.9,2,     -999,9,20240316,1207, -53.5277,  87.0234,     -999,9,     -999,9,-999          ,9,-999          ,9,-999          ,9
325020240221  ,I08        ,33      ,  2,34         ,34         ,2,20240316,0936, -53.5277,  87.0234,     4582,     39.8,   3.8495,  33.8058,2,  33.8063,2,    314.6,2,    315.0,2,    11.92,2,     0.43,2,    23.64,2,     0.25,2,     1.64,2,    4.462,2,    2.753,2,    0.425,2,   4.1300,2,   2146.3,3,   2281.3,2,   7.7087,2,    24.99,     -999,9,   3.8493,2,     -999,9,     -999,     -999,9,     -999,9,     -999,9,     -999,9,     -999,9,     -999,9,   0.0513,1,   4.4920,1,     10.3,2,     -999,9,20240316,1205, -53.5276,  87.0234,     -999,9,     -999,9,-999          ,9,-999          ,9,-999          ,9
325020240221  ,I08        ,33      ,  2,33         ,33         ,2,20240316,0936, -53.5277,  87.0234,     4582,     65.4,   3.8677,  33.8106,2,  33.8112,2,    314.3,2,    314.0,2,    11.72,2,     0.44,2,    23.66,2,     0.26,2,     1.64,2,    4.470,2,    2.700,2,    0.452,2,   4.0880,2,   2147.7,3,   2279.7,2,   7.7078,2,    25.05,     -999,9,   3.8684,2,     -999,1,     -999,     -999,9,     -999,9,     -999,9,     -999,9,     -999,9,     -999,9,   0.0513,1,   4.5069,1,     10.2,2,     -999,9,20240316,1202, -53.5276,  87.0233,     -999,9,     -999,9,-999          ,9,-999          ,9,-999          ,9
325020240221  ,I08        ,33      ,  2,32         ,32         ,2,20240316,0936, -53.5277,  87.0234,     4582,     90.5,   3.8711,  33.8129,2,  33.8140,2,    313.9,2,    313.9,2,    11.82,2,     0.48,2,    23.79,2,     0.26,2,     1.67,2,    4.575,2,    2.618,2,    0.416,2,   3.9660,2,   2147.5,3,   2281.3,2,   7.7064,2,    25.04,     -999,9,   3.8725,2,     -999,9,     -999,     -999,9,     -999,9,     -999,9,     -999,9,     -999,9,     -999,9,   0.0519,1,   4.5127,1,     10.4,2,     -999,9,20240316,1200, -53.5277,  87.0234,     -999,9,     -999,9,-999          ,9,-999          ,9,-999          ,9
325020240221  ,I08        ,33      ,  2,31         ,31         ,2,20240316,0936, -53.5277,  87.0234,     4582,    137.0,   1.9958,  33.9196,2,  33.9195,2,    306.3,2,    308.0,2,    25.40,2,     0.31,2,    27.85,2,     0.23,2,     1.96,2,    4.972,2,    2.805,2,    0.450,2,   3.7900,2,   2177.2,3,   2285.1,2,   7.6446,2,    25.02,     -999,9,   1.9928,2,     -999,1,     -999,     -999,9,     -999,9,     -999,9,     -999,9,     -999,9,     -999,9,   0.0220,1,   4.6019,1,     12.5,2,     -999,9,20240316,1157, -53.5276,  87.0233,     -999,9,     -999,9,-999          ,9,-999          ,9,-999          ,9
325020240221  ,I08        ,33      ,  2,30         ,30         ,2,20240316,0936, -53.5277,  87.0234,     4582,    186.7,   1.7964,  34.0307,2,  34.0303,2,    282.9,2,    282.3,2,    33.70,2,     0.06,2,    30.38,2,     0.03,2,     2.10,2,    4.694,2,    2.542,2,    0.409,2,   3.0470,2,   2188.6,3,   2290.0,2,   7.6125,2,    25.04,     -999,9,   1.7971,2,     -999,1,     -999,     -999,9,     -999,9,     -999,9,     -999,9,     -999,9,     -999,9,   0.0188,1,   4.6146,1,     14.2,2,     -999,9,20240316,1154, -53.5277,  87.0234,     -999,9,     -999,9,-999          ,9,-999          ,9,-999          ,9
325020240221  ,I08        ,33      ,  2,29         ,29         ,2,20240316,0936, -53.5277,  87.0234,     4582,    237.0,   2.0088,  34.1844,2,  34.1838,2,    243.5,2,    242.3,2,    44.53,2,     0.03,2,    32.52,2,     0.00,2,     2.24,2,    3.252,2,    1.933,2,    0.318,2,   2.0060,2,   2215.4,3,   2300.9,2,   7.5760,2,    25.03,     -999,9,   2.0076,2,     -999,1,     -999,     -999,9,     -999,9,     -999,9,     -999,9,     -999,9,     -999,9,   0.0183,1,   4.6211,1,     16.0,2,     -999,9,20240316,1151, -53.5277,  87.0234,     -999,9,     -999,9,-999          ,9,-999          ,9,-999          ,9
325020240221  ,I08        ,33      ,  2,28         ,28         ,2,20240316,0936, -53.5277,  87.0234,     4582,    287.9,   2.1307,  34.2593,2,  34.2599,2,    223.6,2,    222.9,2,    50.29,2,     0.00,2,    33.45,2,     0.00,2,     2.30,2,    3.050,2,    1.615,2,    0.251,2,   1.5530,2,   2222.6,3,   2305.6,2,   7.5623,6,    25.02,     -999,9,   2.1308,2,     -999,1,     -999,     -999,9,     -999,9,     -999,9,     -999,9,     -999,9,     -999,9,   0.0183,1,   4.6240,1,     17.2,2,     -999,9,20240316,1148, -53.5277,  87.0234,     -999,9,     -999,9,-999          ,9,-999          ,9,-999          ,9
325020240221  ,I08        ,33      ,  2,27         ,27         ,2,20240316,0936, -53.5277,  87.0234,     4582,    337.9,   2.2612,  34.3386,2,  34.3352,2,    204.8,2,    205.1,2,    56.35,2,     0.00,2,    34.19,2,     0.00,2,     2.33,2,    2.411,2,    1.304,2,    0.208,2,   1.2020,2,   2232.9,3,   2313.2,2,   7.5491,2,    24.99,     -999,9,   2.2613,2,     -999,9,     -999,     -999,9,     -999,9,     -999,9,     -999,9,     -999,9,     -999,9,   0.0184,1,   4.6265,1,     18.4,2,     -999,9,20240316,1146, -53.5276,  87.0234,     -999,9,     -999,9,-999          ,9,-999          ,9,-999          ,9
325020240221  ,I08        ,33      ,  2,26         ,26         ,2,20240316,0936, -53.5277,  87.0234,     4582,    389.9,   2.3035,  34.4010,2,  34.4004,2,    192.7,2,    192.5,2,    61.81,2,     0.00,2,    34.54,2,     0.00,2,     2.35,2,    1.992,2,    1.023,2,    0.163,2,   0.8730,2,   2240.5,3,   2318.4,2,   7.5433,2,    24.99,     -999,9,   2.3030,2,     -999,1,     -999,     -999,9,     -999,9,     -999,9,     -999,9,     -999,9,     -999,9,   0.0183,1,   4.6296,1,     19.0,2,     -999,9,20240316,1143, -53.5276,  87.0234,     -999,9,     -999,9,-999          ,9,-999          ,9,-999          ,9
325020240221  ,I08        ,33      ,  2,25         ,25         ,2,20240316,0936, -53.5277,  87.0234,     4582,    439.2,   2.3307,  34.4457,2,  34.4455,2,    185.7,2,    185.4,2,    65.32,2,     0.00,2,    34.53,2,     0.00,2,     2.36,2,    1.605,2,    0.831,2,    0.134,2,   0.6720,2,   2244.6,3,   2322.7,2,   7.5419,2,    25.02,     -999,9,   2.3304,2,     -999,9,     -999,     -999,9,     -999,9,     -999,9,     -999,9,     -999,9,     -999,9,   0.0183,1,   4.6315,1,     19.4,2,     -999,9,20240316,1140, -53.5277,  87.0234,     -999,9,     -999,9,-999          ,9,-999          ,9,-999          ,9
325020240221  ,I08        ,33      ,  2,24         ,24         ,2,20240316,0936, -53.5277,  87.0234,     4582,    489.9,   2.3870,  34.4940,2,  34.4936,2,    179.5,2,    179.6,2,    68.35,2,     0.02,2,    34.36,2,     0.00,2,     2.34,2,    1.361,2,    0.702,2,    0.098,2,   0.5750,2,   2248.0,3,   2327.2,2,   7.5433,2,    25.01,     -999,9,   2.3880,2,     -999,1,     -999,     -999,9,     -999,9,     -999,9,     -999,9,     -999,9,     -999,9,   0.0183,1,   4.6323,1,     19.5,2,     -999,9,20240316,1137, -53.5276,  87.0234,     -999,9,     -999,9,-999          ,9,-999          ,9,-999          ,9
325020240221  ,I08        ,33      ,  2,23         ,37         ,2,20240316,0936, -53.5277,  87.0234,     4582,    571.0,   2.4135,  34.5606,2,  34.5602,2,    174.9,2,    174.7,2,    71.86,2,     0.02,2,    33.80,2,     0.00,2,     2.31,2,    0.997,2,    0.479,2,    0.061,2,   0.3540,2,   2250.4,3,   2333.1,2,   7.5507,2,    24.98,     -999,9,   2.4136,2,     -999,9,     -999,     -999,9,     -999,9,     -999,9,     -999,9,     -999,9,     -999,9,   0.0183,1,   4.6373,1,     19.7,2,     -999,9,20240316,1133, -53.5277,  87.0234,     -999,9,     -999,9,-999          ,9,-999          ,9,-999          ,9
325020240221  ,I08        ,33      ,  2,22         ,22         ,2,20240316,0936, -53.5277,  87.0234,     4582,    671.2,   2.4046,  34.6139,2,  34.6140,2,    174.4,2,    174.6,2,    74.20,2,     0.02,2,    33.15,2,     0.00,2,     2.28,2,    0.674,6,    0.339,6,    0.040,6,   0.1805,6,   2253.3,3,   2336.5,2,   7.5604,2,    24.96,     -999,9,   2.4044,2,     -999,1,     -999,     -999,9,     -999,9,     -999,9,     -999,9,     -999,9,     -999,9,   0.0183,1,   4.6402,1,     19.1,6,     -999,9,20240316,1130, -53.5277,  87.0233,     -999,9,     -999,9,-999          ,9,-999          ,9,-999          ,9
325020240221  ,I08        ,33      ,  2,21         ,21         ,2,20240316,0936, -53.5277,  87.0234,     4582,    773.4,   2.3085,  34.6445,2,  34.6449,2,    176.2,2,    176.3,2,    74.88,2,     0.02,2,    32.67,2,     0.00,2,     2.26,2,    0.605,2,    0.303,2,    0.048,2,   0.2050,2,   2253.9,3,   2338.2,2,   7.5665,6,    25.00,     -999,9,   2.3081,2,     -999,9,     -999,     -999,9,     -999,9,     -999,9,     -999,9,     -999,9,     -999,9,   0.0183,1,   4.6409,1,     12.3,2,     -999,9,20240316,1126, -53.5276,  87.0233,     -999,9,     -999,9,-999          ,9,-999          ,9,-999          ,9
325020240221  ,I08        ,33      ,  2,20         ,20         ,2,20240316,0936, -53.5277,  87.0234,     4582,    874.7,   2.2819,  34.6751,2,  34.6753,2,    178.9,2,    179.0,2,    77.52,2,     0.00,2,    32.06,2,     0.00,2,     2.22,2,    0.455,2,    0.236,2,    0.025,2,   0.1440,2,   2248.1,3,   2342.0,6,   7.5761,2,    25.02,     -999,9,   2.2816,2,     -999,1,     -999,     -999,9,     -999,9,     -999,9,     -999,9,     -999,9,     -999,9,   0.0183,1,   4.6422,1,     19.7,2,     -999,9,20240316,1123, -53.5277,  87.0234,     -999,9,     -999,9,-999          ,9,-999          ,9,-999          ,9
325020240221  ,I08        ,33      ,  2,19         ,19         ,2,20240316,0936, -53.5277,  87.0234,     4582,    975.9,   2.2234,  34.6943,2,  34.6954,2,    181.1,2,    180.6,2,    79.08,2,     0.00,2,    31.77,2,     0.00,2,     2.19,2,    0.427,2,    0.210,2,    0.022,2,   0.1650,2,   2248.6,3,   2343.3,2,   7.5825,2,    25.01,     -999,9,   2.2231,2,     -999,9,     -999,     -999,9,     -999,9,     -999,9,     -999,9,     -999,9,     -999,9,   0.0183,1,   4.6422,1,     19.7,2,     -999,9,20240316,1119, -53.5277,  87.0233,     -999,9,     -999,9,-999          ,9,-999          ,9,-999          ,9
325020240221  ,I08        ,33      ,  2,18         ,18         ,2,20240316,0936, -53.5277,  87.0234,     4582,   1078.8,   2.1433,  34.7093,2,  34.7091,2,    183.3,2,    183.1,2,    80.64,2,     0.02,2,    31.47,2,     0.00,2,     2.19,2,    0.380,2,    0.194,2,    0.020,2,   0.1530,2,   2248.9,3,   2344.5,2,   7.5862,2,    25.01,     -999,9,   2.1456,2,     -999,1,     -999,     -999,9,     -999,9,     -999,9,     -999,9,     -999,9,     -999,9,   0.0189,1,   4.6412,1,     19.8,2,     -999,9,20240316,1115, -53.5276,  87.0234,     -999,9,     -999,9,-999          ,9,-999          ,9,-999          ,9
325020240221  ,I08        ,33      ,  2,17         ,17         ,2,20240316,0936, -53.5277,  87.0234,     4582,   1176.9,   2.1037,  34.7237,2,  34.7239,2,    186.4,2,    186.7,2,    81.91,2,     0.00,2,    31.08,2,     0.00,2,     2.15,2,    0.324,2,    0.164,2,    0.015,2,   0.0000,2,   2247.2,3,   2348.0,2,   7.5942,2,    24.99,     -999,9,   2.1033,2,     -999,9,     -999,     -999,9,     -999,9,     -999,9,     -999,9,     -999,9,     -999,9,   0.0189,1,   4.6423,1,     19.7,2,     -999,9,20240316,1111, -53.5277,  87.0233,     -999,9,     -999,9,-999          ,9,-999          ,9,-999          ,9
325020240221  ,I08        ,33      ,  2,16         ,16         ,2,20240316,0936, -53.5277,  87.0234,     4582,   1277.2,   2.0134,  34.7328,2,  34.7333,2,    189.2,2,    189.6,2,    83.96,2,     0.00,2,    30.87,2,     0.00,2,     2.15,2,    0.308,2,    0.157,2,    0.016,2,   0.0000,2,   2245.5,3,   2347.2,2,   7.6002,6,    24.99,     -999,9,   2.0132,2,     -999,1,     -999,     -999,9,     -999,9,     -999,9,     -999,9,     -999,9,     -999,9,   0.0189,1,   4.6434,1,     19.5,2,     -999,9,20240316,1108, -53.5277,  87.0234,     -999,9,     -999,9,-999          ,9,-999          ,9,-999          ,9
325020240221  ,I08        ,33      ,  2,15         ,15         ,2,20240316,0936, -53.5277,  87.0234,     4582,   1379.0,   1.9271,  34.7391,2,  34.7394,2,    191.7,2,    192.9,2,    85.81,2,     0.00,2,    30.68,2,     0.00,2,     2.14,2,    0.322,2,    0.160,2,    0.015,2,   0.2500,2,   2245.5,3,   2350.2,2,   7.6030,2,    24.98,     -999,9,   1.9273,2,     -999,9,     -999,     -999,9,     -999,9,     -999,9,     -999,9,     -999,9,     -999,9,   0.0189,1,   4.6434,1,     19.8,2,     -999,9,20240316,1105, -53.5276,  87.0234,     -999,9,     -999,9,-999          ,9,-999          ,9,-999          ,9
325020240221  ,I08        ,33      ,  2,14         ,14         ,2,20240316,0936, -53.5277,  87.0234,     4582,   1483.5,   1.8600,  34.7434,2,  34.7443,2,    194.3,2,    194.1,2,    87.57,2,     0.00,2,    30.54,2,     0.00,2,     2.10,2,    0.268,2,    0.137,2,    0.014,2,   0.0000,2,   2247.1,3,   2352.1,2,   7.6086,2,    24.98,     -999,9,   1.8600,2,     -999,1,     -999,     -999,9,     -999,9,     -999,9,     -999,9,     -999,9,     -999,9,   0.0195,1,   4.6441,1,     19.7,2,     -999,9,20240316,1101, -53.5277,  87.0233,     -999,9,     -999,9,-999          ,9,-999          ,9,-999          ,9
325020240221  ,I08        ,33      ,  2,13         ,13         ,2,20240316,0936, -53.5277,  87.0234,     4582,   1585.8,   1.7997,  34.7463,2,  34.7473,2,    196.4,2,    196.2,2,    89.13,2,     0.02,2,    30.39,2,     0.00,2,     2.10,2,    0.242,2,    0.123,2,    0.011,2,   0.0180,2,   2246.5,3,   2351.6,2,   7.6123,2,    25.02,     -999,9,   1.8012,2,     -999,1,     -999,     -999,9,     -999,9,     -999,9,     -999,9,     -999,9,     -999,9,   0.0177,1,   4.6441,1,     19.9,2,     -999,9,20240316,1058, -53.5276,  87.0233,     -999,9,     -999,9,-999          ,9,-999          ,9,-999          ,9
325020240221  ,I08        ,33      ,  2,12         ,12         ,2,20240316,0936, -53.5277,  87.0234,     4582,   1756.9,   1.6485,  34.7441,2,  34.7451,2,    198.7,2,    198.3,2,    93.33,2,     0.00,2,    30.51,2,     0.00,2,     2.10,2,    0.261,2,    0.127,2,    0.011,2,   0.0000,2,   2246.5,3,   2354.5,2,   7.6132,2,    25.01,     -999,9,   1.6485,2,     -999,9,     -999,     -999,9,     -999,9,     -999,9,     -999,9,     -999,9,     -999,9,   0.0176,1,   4.6420,1,     19.8,2,     -999,9,20240316,1053, -53.5276,  87.0234,     -999,9,     -999,9,-999          ,9,-999          ,9,-999          ,9
325020240221  ,I08        ,33      ,  2,11         ,11         ,2,20240316,0936, -53.5277,  87.0234,     4582,   1960.6,   1.4675,  34.7387,2,  34.7392,2,    201.1,2,    201.3,2,    98.31,2,     0.00,2,    30.67,2,     0.00,2,     2.12,2,    0.256,2,    0.129,2,    0.011,2,   0.0000,2,   2249.7,3,   2356.3,2,   7.6127,2,    25.03,     -999,9,   1.4675,2,     -999,1,     -999,     -999,9,     -999,9,     -999,9,     -999,9,     -999,9,     -999,9,   0.0183,1,   4.6391,1,     19.8,2,     -999,9,20240316,1048, -53.5276,  87.0234,     -999,9,     -999,9,-999          ,9,-999          ,9,-999          ,9
325020240221  ,I08        ,33      ,  2,10         ,10         ,2,20240316,0936, -53.5277,  87.0234,     4582,   2196.5,   1.2789,  34.7302,2,  34.7304,2,    203.1,2,    203.1,2,   104.16,2,     0.00,2,    30.87,2,     0.00,2,     2.14,2,    0.275,2,    0.142,2,    0.014,2,   0.0000,2,   2253.4,3,   2356.4,2,   7.6090,2,    25.02,     -999,9,   1.2794,2,     -999,1,     -999,     -999,9,     -999,9,     -999,9,     -999,9,     -999,9,     -999,9,   0.0183,1,   4.6374,1,     19.8,2,     -999,9,20240316,1043, -53.5276,  87.0233,     -999,9,     -999,9,-999          ,9,-999          ,9,-999          ,9
325020240221  ,I08        ,33      ,  2,9          ,9          ,2,20240316,0936, -53.5277,  87.0234,     4582,   2448.5,   1.0803,  34.7192,2,  34.7195,2,    204.7,2,    204.6,2,   110.02,2,     0.00,2,    31.23,2,     0.00,2,     2.17,2,    0.326,2,    0.165,2,    0.015,2,   0.0110,2,   2254.4,3,   2357.7,2,   7.6050,2,    25.03,     -999,9,   1.0803,2,     -999,9,     -999,     -999,9,     -999,9,     -999,9,     -999,9,     -999,9,     -999,9,   0.0182,1,   4.6360,1,     19.9,2,     -999,9,20240316,1037, -53.5277,  87.0234,     -999,9,     -999,9,-999          ,9,-999          ,9,-999          ,9
325020240221  ,I08        ,33      ,  2,8          ,8          ,2,20240316,0936, -53.5277,  87.0234,     4582,   2705.2,   0.9039,  34.7090,2,  34.7093,2,    206.8,2,    207.1,2,   114.90,2,     0.00,2,    31.60,2,     0.00,2,     2.19,2,    0.399,2,    0.196,2,    0.018,2,   0.0000,2,   2256.6,3,   2359.0,2,   7.6010,6,    25.01,     -999,9,   0.9048,2,     -999,1,     -999,     -999,9,     -999,9,     -999,9,     -999,9,     -999,9,     -999,9,   0.0183,1,   4.6336,1,     20.0,2,     -999,9,20240316,1031, -53.5277,  87.0233,     -999,9,     -999,9,-999          ,9,-999          ,9,-999          ,9
325020240221  ,I08        ,33      ,  2,7          ,7          ,2,20240316,0936, -53.5277,  87.0234,     4582,   2961.3,   0.7486,  34.7003,2,  34.7003,2,    209.5,2,    209.5,2,   119.88,2,     0.00,2,    31.90,2,     0.00,2,     2.24,2,    0.481,2,    0.234,2,    0.024,2,   0.0000,2,   2257.3,3,   2358.3,6,   7.5987,2,    25.00,     -999,9,   0.7483,2,     -999,9,     -999,     -999,9,     -999,9,     -999,9,     -999,9,     -999,9,     -999,9,   0.0183,1,   4.6325,1,     19.7,2,     -999,9,20240316,1023, -53.5276,  87.0233,     -999,9,     -999,9,-999          ,9,-999          ,9,-999          ,9
325020240221  ,I08        ,33      ,  2,6          ,6          ,2,20240316,0936, -53.5277,  87.0234,     4582,   3253.8,   0.5722,  34.6906,2,  34.6905,2,    213.4,2,    213.4,2,   123.69,2,     0.00,2,    32.05,2,     0.00,2,     2.25,2,    0.616,2,    0.306,2,    0.029,2,   0.0930,2,   2257.6,3,   2361.2,2,   7.5982,6,    24.98,     -999,9,   0.5719,2,     -999,1,     -999,     -999,9,     -999,9,     -999,9,     -999,9,     -999,9,     -999,9,   0.0182,1,   4.6305,1,     15.0,2,     -999,9,20240316,1015, -53.5276,  87.0233,     -999,9,     -999,9,-999          ,9,-999          ,9,-999          ,9