BOTTLE,20240417CCHHYDRO
EXPOCODE,SECT_ID,STNNBR,CASTNO,SAMPNO,BTLNBR,BTLNBR_FLAG_W,DATE,TIME,LATITUDE,LONGITUDE,DEPTH,CTDPRS,CTDTMP,CTDSAL,CTDSAL_FLAG_W,SALNTY,SALNTY_FLAG_W,CTDOXY,CTDOXY_FLAG_W,OXYGEN,OXYGEN_FLAG_W,SILCAT,SILCAT_FLAG_W,NH4,NH4_FLAG_W,NITRAT,NITRAT_FLAG_W,NITRIT,NITRIT_FLAG_W,PHSPHT,PHSPHT_FLAG_W,CFC-11,CFC-11_FLAG_W,CFC-12,CFC-12_FLAG_W,CFC113,CFC113_FLAG_W,SF6,SF6_FLAG_W,TCARBN,TCARBN_FLAG_W,ALKALI,ALKALI_FLAG_W,PH_TOT,PH_TOT_FLAG_W,PH_TMP,DOC,DOC_FLAG_W,REFTMP,REFTMP_FLAG_W,DELC14,DELC14_FLAG_W,C14ERR,POC,POC_FLAG_W,PON,PON_FLAG_W,POP,POP_FLAG_W,PCOD,PCOD_FLAG_W,DOP,DOP_FLAG_W,TDN,TDN_FLAG_W,CTDFLUOR,CTDFLUOR_FLAG_W,CTDXMISS,CTDXMISS_FLAG_W,N2O,N2O_FLAG_W,ARGON,ARGON_FLAG_W,BTL_DATE,BTL_TIME,BTL_LAT,BTL_LON,KRYPTON,KRYPTON_FLAG_W,XENON,XENON_FLAG_W,HPLC,HPLC_FLAG_W,DNA,DNA_FLAG_W,FCM,FCM_FLAG_W
,,,,,,,,,,,METERS,DBAR,ITS-90,PSS-78,,PSS-78,,UMOL/KG,,UMOL/KG,,UMOL/KG,,UMOL/KG,,UMOL/KG,,UMOL/KG,,UMOL/KG,,PMOL/KG,,PMOL/KG,,PMOL/KG,,FMOL/KG,,UMOL/KG,,UMOL/KG,,,,DEG C,UMOL/KG,,ITS-90,,/MILLE,,/MILLE,UG/KG,,UG/KG,,UG/L,,UG/L,,UMOL/KG,,UMOL/KG,,VOLTS,,VOLTS,,NMOL/KG,,UMOL/L,,,,,,NMOL/L,,NMOL/L,,,,,,,
325020240221  ,I08        ,43      ,  1,36         ,36         ,2,20240320,2136, -44.5000,  95.0271,     3184,      3.1,   9.5226,  33.9437,2,  33.9414,2,    283.4,2,    283.1,2,     1.66,2,     0.18,2,    14.33,2,     0.25,2,     1.10,2,    4.781,4,    1.922,2,    0.439,4,   3.2440,2,   2101.2,3,   2272.3,2,   7.8046,2,    24.99,     -999,1,     -999,1,     -999,9,     -999,     -999,9,     -999,9,     -999,9,     -999,9,     -999,9,     -999,1,   0.0552,1,   4.5470,1,     10.3,2,     -999,9,20240320,2321, -44.5000,  95.0271,     -999,9,     -999,9,-999          ,9,-999          ,9,-999          ,9
325020240221  ,I08        ,43      ,  1,35         ,35         ,2,20240320,2136, -44.5000,  95.0271,     3184,     24.8,   9.5238,  33.9439,2,  33.9420,2,    283.4,2,    283.0,2,     1.56,2,     0.15,2,    14.34,2,     0.25,2,     1.10,2,    4.643,4,    1.881,2,    0.492,4,   3.2030,2,   2101.8,3,   2274.6,2,   7.8047,2,    25.00,     -999,9,     -999,1,     -999,9,     -999,     -999,9,     -999,9,     -999,9,     -999,9,     -999,9,     -999,9,   0.0575,1,   4.5443,1,     10.4,2,     -999,9,20240320,2319, -44.5000,  95.0271,     -999,9,     -999,9,-999          ,9,-999          ,9,-999          ,9
325020240221  ,I08        ,43      ,  1,34         ,34         ,2,20240320,2136, -44.5000,  95.0271,     3184,     49.9,   9.5025,  33.9466,2,  33.9449,2,    282.5,2,    282.5,2,     1.56,2,     0.16,2,    14.35,2,     0.25,2,     1.12,2,    4.627,4,    1.947,2,    0.425,4,   2.9930,2,   2101.9,3,   2274.8,2,   7.8049,2,    25.02,     -999,9,     -999,1,     -999,9,     -999,     -999,9,     -999,9,     -999,9,     -999,9,     -999,9,     -999,9,   0.0611,1,   4.5504,1,     10.3,2,     -999,9,20240320,2317, -44.5000,  95.0271,     -999,9,     -999,9,-999          ,9,-999          ,9,-999          ,9
325020240221  ,I08        ,43      ,  1,33         ,33         ,2,20240320,2136, -44.5000,  95.0271,     3184,     75.3,   9.3870,  33.9419,2,  33.9424,2,    281.3,2,    281.1,2,     1.47,2,     0.23,2,    14.47,2,     0.26,2,     1.11,2,    4.988,4,    1.960,2,    0.450,4,   3.0200,2,   2102.4,3,   2273.8,2,   7.8018,2,    25.00,     -999,9,     -999,1,     -999,9,     -999,     -999,9,     -999,9,     -999,9,     -999,9,     -999,9,     -999,9,   0.0511,1,   4.5973,1,     10.4,2,     -999,9,20240320,2315, -44.5000,  95.0271,     -999,9,     -999,9,-999          ,9,-999          ,9,-999          ,9
325020240221  ,I08        ,43      ,  1,32         ,32         ,2,20240320,2136, -44.5000,  95.0271,     3184,    100.5,   9.2751,  34.1885,2,  34.1850,2,    271.3,2,    270.2,2,     2.25,2,     0.05,2,    14.60,2,     0.39,2,     1.10,2,    5.046,4,    1.979,2,    0.415,4,   2.9840,2,   2113.3,3,   2279.5,2,   7.7851,2,    24.98,     -999,9,     -999,1,     -999,9,     -999,     -999,9,     -999,9,     -999,9,     -999,9,     -999,9,     -999,9,   0.0360,1,   4.6399,1,     10.7,2,     -999,9,20240320,2313, -44.5000,  95.0271,     -999,9,     -999,9,-999          ,9,-999          ,9,-999          ,9
325020240221  ,I08        ,43      ,  1,31         ,31         ,2,20240320,2136, -44.5000,  95.0271,     3184,    125.4,   9.6700,  34.4606,2,  34.4599,2,    257.2,2,    258.4,2,     3.61,2,     0.02,2,    14.36,2,     0.00,2,     1.06,2,    4.833,4,    1.872,2,    0.360,4,   2.7130,2,   2122.0,3,   2287.1,2,   7.7798,2,    24.98,     -999,9,     -999,1,     -999,9,     -999,     -999,9,     -999,9,     -999,9,     -999,9,     -999,9,     -999,9,   0.0220,1,   4.6699,1,     10.7,2,     -999,9,20240320,2312, -44.5000,  95.0271,     -999,9,     -999,9,-999          ,9,-999          ,9,-999          ,9
325020240221  ,I08        ,43      ,  1,30         ,30         ,2,20240320,2136, -44.5000,  95.0271,     3184,    150.1,   9.9869,  34.5923,2,  34.5891,2,    250.0,2,    252.4,2,     4.20,2,     0.02,2,    13.95,2,     0.00,2,     1.02,2,    4.319,4,    1.837,2,    0.338,4,   2.6200,2,   2125.6,3,   2291.9,2,   7.7803,2,    25.00,     -999,9,     -999,1,     -999,9,     -999,     -999,9,     -999,9,     -999,9,     -999,9,     -999,9,     -999,9,   0.0195,1,   4.6771,1,     10.7,2,     -999,9,20240320,2310, -44.5000,  95.0271,     -999,9,     -999,9,-999          ,9,-999          ,9,-999          ,9
325020240221  ,I08        ,43      ,  1,29         ,29         ,2,20240320,2136, -44.5000,  95.0271,     3184,    176.5,  10.0565,  34.6522,2,  34.6513,2,    244.5,2,    245.6,2,     4.59,2,     0.00,2,    14.24,2,     0.00,2,     1.03,2,    4.048,4,    1.878,2,    0.289,4,   2.5230,2,   2130.3,3,   2293.3,2,   7.7757,6,    24.99,     -999,9,     -999,1,     -999,9,     -999,     -999,9,     -999,9,     -999,9,     -999,9,     -999,9,     -999,9,   0.0183,1,   4.6777,1,     11.1,2,     -999,9,20240320,2308, -44.5000,  95.0271,     -999,9,     -999,9,-999          ,9,-999          ,9,-999          ,9
325020240221  ,I08        ,43      ,  1,28         ,28         ,2,20240320,2136, -44.5000,  95.0271,     3184,    202.5,  10.1063,  34.6942,2,  34.6910,2,    236.4,2,    236.2,2,     5.27,2,     0.00,2,    14.98,2,     0.00,2,     1.07,2,    4.189,4,    1.831,6,    0.273,4,   2.2865,6,   2136.3,3,   2295.0,2,   7.7643,2,    24.99,     -999,9,     -999,1,     -999,9,     -999,     -999,9,     -999,9,     -999,9,     -999,9,     -999,9,     -999,9,   0.0183,1,   4.6765,1,     11.5,6,     -999,9,20240320,2306, -44.5000,  95.0271,     -999,9,     -999,9,-999          ,9,-999          ,9,-999          ,9
325020240221  ,I08        ,43      ,  1,27         ,27         ,2,20240320,2136, -44.5000,  95.0271,     3184,    252.2,   9.3835,  34.5975,2,  34.5979,2,    237.0,2,    236.3,2,     6.15,2,     0.02,2,    16.71,2,     0.00,2,     1.18,2,    4.185,4,    1.924,2,    0.279,4,   2.3350,2,   2140.3,3,   2291.4,6,   7.7463,6,    24.98,     -999,9,     -999,1,     -999,9,     -999,     -999,9,     -999,9,     -999,9,     -999,9,     -999,9,     -999,9,   0.0183,1,   4.6777,1,     11.9,2,     -999,9,20240320,2304, -44.5000,  95.0271,     -999,9,     -999,9,-999          ,9,-999          ,9,-999          ,9
325020240221  ,I08        ,43      ,  1,26         ,26         ,2,20240320,2136, -44.5000,  95.0271,     3184,    301.3,   8.6246,  34.5165,2,  34.5135,2,    233.5,2,    233.6,2,     7.62,2,     0.00,2,    18.89,2,     0.00,2,     1.32,2,    4.540,4,    1.925,2,    0.302,4,   2.2270,2,   2146.5,3,   2288.7,2,   7.7222,2,    24.98,     -999,9,     -999,1,     -999,9,     -999,     -999,9,     -999,9,     -999,9,     -999,9,     -999,9,     -999,9,   0.0183,1,   4.6778,1,     12.6,2,     -999,9,20240320,2302, -44.5000,  95.0271,     -999,9,     -999,9,-999          ,9,-999          ,9,-999          ,9
325020240221  ,I08        ,43      ,  1,25         ,25         ,2,20240320,2136, -44.5000,  95.0271,     3184,    354.3,   8.1138,  34.4815,2,  34.4785,2,    231.7,2,    232.3,2,     8.98,2,     0.00,2,    20.21,2,     0.00,2,     1.40,2,    4.431,4,    1.946,2,    0.295,4,   2.1330,2,   2153.0,3,   2287.0,2,   7.7087,2,    24.99,     -999,9,     -999,1,     -999,9,     -999,     -999,9,     -999,9,     -999,9,     -999,9,     -999,9,     -999,9,   0.0176,1,   4.6779,1,     13.2,2,     -999,9,20240320,2300, -44.5000,  95.0271,     -999,9,     -999,9,-999          ,9,-999          ,9,-999          ,9
325020240221  ,I08        ,43      ,  1,24         ,24         ,2,20240320,2136, -44.5000,  95.0271,     3184,    404.0,   7.7195,  34.4688,2,  34.4673,2,    223.6,2,    223.5,2,    11.03,2,     0.00,2,    21.97,2,     0.00,2,     1.51,2,    4.237,4,    1.886,2,    0.301,4,   1.9390,2,   2159.6,3,   2285.9,2,   7.6880,2,    24.99,     -999,9,     -999,1,     -999,9,     -999,     -999,9,     -999,9,     -999,9,     -999,9,     -999,9,     -999,9,   0.0172,1,   4.6781,1,     13.8,2,     -999,9,20240320,2258, -44.5000,  95.0271,     -999,9,     -999,9,-999          ,9,-999          ,9,-999          ,9
325020240221  ,I08        ,43      ,  1,23         ,37         ,2,20240320,2136, -44.5000,  95.0271,     3184,    455.0,   6.7995,  34.3823,2,  34.3821,2,    224.5,2,    224.7,2,    13.08,2,     0.00,2,    24.17,2,     0.00,2,     1.65,2,    4.299,4,    1.967,2,    0.353,4,   1.8270,2,   2167.1,3,   2283.8,2,   7.6653,2,    24.98,     -999,9,     -999,1,     -999,9,     -999,     -999,9,     -999,9,     -999,9,     -999,9,     -999,9,     -999,9,   0.0183,1,   4.6812,1,     14.2,2,     -999,9,20240320,2256, -44.5000,  95.0271,     -999,9,     -999,9,-999          ,9,-999          ,9,-999          ,9
325020240221  ,I08        ,43      ,  1,22         ,22         ,2,20240320,2136, -44.5000,  95.0271,     3184,    504.2,   5.9911,  34.3191,2,  34.3182,2,    227.2,2,    227.3,2,    16.21,2,     0.00,2,    26.12,2,     0.00,2,     1.79,2,    4.597,4,    1.943,2,    0.355,4,   1.7230,2,   2173.5,3,   2283.6,2,   7.6478,6,    25.00,     -999,9,     -999,1,     -999,9,     -999,     -999,9,     -999,9,     -999,9,     -999,9,     -999,9,     -999,9,   0.0178,1,   4.6817,1,     14.6,2,     -999,9,20240320,2253, -44.5000,  95.0271,     -999,9,     -999,9,-999          ,9,-999          ,9,-999          ,9
325020240221  ,I08        ,43      ,  1,21         ,21         ,2,20240320,2136, -44.5000,  95.0271,     3184,    604.2,   4.9963,  34.2763,2,  34.2805,2,    226.7,2,    226.8,2,    21.38,2,     0.00,2,    28.47,2,     0.00,2,     1.95,2,    4.268,4,    1.854,2,    0.362,4,   1.6040,2,   2180.9,3,   2284.2,2,   7.6279,2,    25.02,     -999,9,     -999,1,     -999,9,     -999,     -999,9,     -999,9,     -999,9,     -999,9,     -999,9,     -999,9,   0.0183,1,   4.6824,1,     15.1,2,     -999,9,20240320,2250, -44.5000,  95.0271,     -999,9,     -999,9,-999          ,9,-999          ,9,-999          ,9
325020240221  ,I08        ,43      ,  1,20         ,20         ,2,20240320,2136, -44.5000,  95.0271,     3184,    705.4,   3.9892,  34.2175,2,  34.2166,2,    233.2,2,    233.9,2,    26.76,2,     0.00,2,    30.10,2,     0.00,2,     2.05,2,    4.404,4,    1.863,2,    0.340,4,   1.5770,2,   2189.3,3,   2286.7,2,   7.6128,2,    25.02,     -999,9,     -999,1,     -999,9,     -999,     -999,9,     -999,9,     -999,9,     -999,9,     -999,9,     -999,9,   0.0183,1,   4.6728,1,     15.2,2,     -999,9,20240320,2247, -44.5000,  95.0271,     -999,9,     -999,9,-999          ,9,-999          ,9,-999          ,9
325020240221  ,I08        ,43      ,  1,19         ,19         ,2,20240320,2136, -44.5000,  95.0271,     3184,    806.6,   3.8324,  34.2961,2,  34.2972,2,    213.8,2,    213.4,2,    35.05,2,     0.00,2,    31.52,2,     0.00,2,     2.15,2,    3.063,4,    1.521,2,    0.233,4,   1.0510,2,   2204.1,3,   2297.2,2,   7.5976,2,    25.00,     -999,9,   3.8320,2,     -999,9,     -999,     -999,9,     -999,9,     -999,9,     -999,9,     -999,9,     -999,9,   0.0183,1,   4.6703,1,     11.5,2,     -999,9,20240320,2244, -44.5000,  95.0271,     -999,9,     -999,9,-999          ,9,-999          ,9,-999          ,9
325020240221  ,I08        ,43      ,  1,18         ,18         ,2,20240320,2136, -44.5000,  95.0271,     3184,    908.1,   3.5901,  34.3496,2,  34.3580,2,    200.1,2,    199.1,2,    43.16,2,     0.00,2,    32.65,2,     0.00,2,     2.24,2,    2.694,4,    1.212,2,    0.196,4,   0.8530,2,   2214.4,3,   2305.2,2,   7.5826,2,    25.00,     -999,9,   3.5931,2,     -999,9,     -999,     -999,9,     -999,9,     -999,9,     -999,9,     -999,9,     -999,9,   0.0183,1,   4.6666,1,     17.7,2,     -999,9,20240320,2241, -44.5000,  95.0271,     -999,9,     -999,9,-999          ,9,-999          ,9,-999          ,9
325020240221  ,I08        ,43      ,  1,17         ,17         ,2,20240320,2136, -44.5000,  95.0271,     3184,   1009.0,   3.2590,  34.3797,2,  34.3780,2,    193.0,2,    192.6,2,    49.41,2,     0.00,2,    33.47,2,     0.00,2,     2.27,2,    2.213,4,    1.021,2,    0.155,4,   0.7480,2,   2226.2,3,   2309.6,2,   7.5705,2,    24.99,     -999,9,   3.2590,2,     -999,9,     -999,     -999,9,     -999,9,     -999,9,     -999,9,     -999,9,     -999,9,   0.0183,1,   4.6629,1,     18.3,2,     -999,9,20240320,2237, -44.5000,  95.0271,     -999,9,     -999,9,-999          ,9,-999          ,9,-999          ,9
325020240221  ,I08        ,43      ,  1,16         ,16         ,2,20240320,2136, -44.5000,  95.0271,     3184,   1111.0,   3.1144,  34.4439,2,  34.4424,2,    182.0,2,    181.7,2,    56.43,2,     0.00,2,    33.93,2,     0.00,2,     2.29,2,    1.606,4,    0.738,2,    0.113,4,   0.5060,2,   2234.2,3,   2319.1,2,   7.5635,2,    24.97,     -999,9,   3.1158,2,     -999,9,     -999,     -999,9,     -999,9,     -999,9,     -999,9,     -999,9,     -999,9,   0.0183,1,   4.6606,1,     18.6,2,     -999,9,20240320,2234, -44.5000,  95.0271,     -999,9,     -999,9,-999          ,9,-999          ,9,-999          ,9
325020240221  ,I08        ,43      ,  1,15         ,15         ,2,20240320,2136, -44.5000,  95.0271,     3184,   1212.7,   2.9085,  34.4939,2,  34.4909,2,    177.0,2,    176.7,2,    62.97,2,     0.00,2,    34.13,2,     0.00,2,     2.31,2,    1.235,4,    0.555,2,    0.090,4,   0.3460,2,   2240.8,3,   2323.7,2,   7.5590,2,    24.98,     -999,9,   2.9034,2,     -999,9,     -999,     -999,9,     -999,9,     -999,9,     -999,9,     -999,9,     -999,9,   0.0183,1,   4.6569,1,     18.8,2,     -999,9,20240320,2228, -44.5000,  95.0271,     -999,9,     -999,9,-999          ,9,-999          ,9,-999          ,9
325020240221  ,I08        ,43      ,  1,14         ,14         ,2,20240320,2136, -44.5000,  95.0271,     3184,   1314.6,   2.7532,  34.5459,2,  34.5451,2,    174.3,2,    174.0,2,    67.66,2,     0.00,2,    33.88,2,     0.00,2,     2.28,2,    0.942,4,    0.430,2,    0.064,4,   0.3320,2,   2246.2,3,   2327.8,2,   7.5596,2,    24.98,     -999,9,   2.7527,2,     -999,9,     -999,     -999,9,     -999,9,     -999,9,     -999,9,     -999,9,     -999,9,   0.0183,1,   4.6569,1,     18.7,2,     -999,9,20240320,2225, -44.5000,  95.0271,     -999,9,     -999,9,-999          ,9,-999          ,9,-999          ,9
325020240221  ,I08        ,43      ,  1,13         ,13         ,2,20240320,2136, -44.5000,  95.0271,     3184,   1415.3,   2.7126,  34.5987,2,  34.5969,2,    173.6,2,    173.4,2,    70.09,2,     0.00,2,    33.33,2,     0.00,2,     2.28,2,    0.588,4,    0.291,2,    0.045,4,   0.2150,2,   2248.2,3,   2332.2,2,   7.5689,6,    24.99,     -999,9,   2.7138,2,     -999,9,     -999,     -999,9,     -999,9,     -999,9,     -999,9,     -999,9,     -999,9,   0.0183,1,   4.6563,1,     18.3,2,     -999,9,20240320,2222, -44.5000,  95.0271,     -999,9,     -999,9,-999          ,9,-999          ,9,-999          ,9
325020240221  ,I08        ,43      ,  1,12         ,12         ,2,20240320,2136, -44.5000,  95.0271,     3184,   1516.1,   2.6476,  34.6305,2,  34.6301,2,    175.4,2,    175.3,2,    71.75,2,     0.00,2,    32.81,2,     0.00,2,     2.26,2,    0.492,4,    0.234,2,    0.030,4,   0.1160,2,   2247.6,3,   2334.7,6,   7.5750,2,    25.01,     -999,9,   2.6469,2,     -999,9,     -999,     -999,9,     -999,9,     -999,9,     -999,9,     -999,9,     -999,9,   0.0183,1,   4.6556,1,     18.1,2,     -999,9,20240320,2219, -44.5000,  95.0271,     -999,9,     -999,9,-999          ,9,-999          ,9,-999          ,9
325020240221  ,I08        ,43      ,  1,11         ,11         ,2,20240320,2136, -44.5000,  95.0271,     3184,   1617.9,   2.5819,  34.6621,2,  34.6610,2,    178.0,2,    177.9,2,    73.02,2,     0.00,2,    32.36,2,     0.00,2,     2.23,2,    0.364,4,    0.189,2,    0.023,4,   0.0920,2,   2245.4,3,   2338.6,2,   7.5832,6,    24.98,     -999,9,   2.5817,2,     -999,9,     -999,     -999,9,     -999,9,     -999,9,     -999,9,     -999,9,     -999,9,   0.0182,1,   4.6544,1,     17.7,2,     -999,9,20240320,2216, -44.5000,  95.0271,     -999,9,     -999,9,-999          ,9,-999          ,9,-999          ,9
325020240221  ,I08        ,43      ,  1,10         ,10         ,2,20240320,2136, -44.5000,  95.0271,     3184,   1720.4,   2.5304,  34.6846,2,  34.6863,2,    180.8,2,    181.4,2,    74.09,2,     0.02,2,    31.87,2,     0.00,2,     2.18,2,    0.306,4,    0.159,2,    0.025,4,   0.0950,2,   2244.7,3,   2340.0,2,   7.5903,2,    24.98,     -999,9,   2.5302,2,     -999,9,     -999,     -999,9,     -999,9,     -999,9,     -999,9,     -999,9,     -999,9,   0.0183,1,   4.6542,1,     17.3,2,     -999,9,20240320,2213, -44.5000,  95.0271,     -999,9,     -999,9,-999          ,9,-999          ,9,-999          ,9
325020240221  ,I08        ,43      ,  1,9          ,9          ,2,20240320,2136, -44.5000,  95.0271,     3184,   1821.6,   2.4522,  34.7087,2,  34.7496,3,    184.3,2,    184.6,2,    75.07,2,     0.02,2,    31.34,2,     0.00,2,     2.15,2,    0.227,4,    0.130,2,    0.030,4,   0.0010,2,   2243.9,3,   2339.0,2,   7.5970,2,    24.99,     -999,9,   2.4533,2,     -999,9,     -999,     -999,9,     -999,9,     -999,9,     -999,9,     -999,9,     -999,9,   0.0183,1,   4.6530,1,     17.1,2,     -999,9,20240320,2210, -44.5000,  95.0271,     -999,9,     -999,9,-999          ,9,-999          ,9,-999          ,9
325020240221  ,I08        ,43      ,  1,8          ,8          ,2,20240320,2136, -44.5000,  95.0271,     3184,   2026.9,   2.2927,  34.7364,2,  34.7357,2,    189.9,2,    190.3,2,    78.38,2,     0.00,2,    30.65,2,     0.00,2,     2.11,2,    0.172,4,    0.112,2,    0.029,4,   0.0970,2,   2243.1,3,   2344.6,2,   7.6085,2,    24.99,     -999,9,   2.2915,2,     -999,9,     -999,     -999,9,     -999,9,     -999,9,     -999,9,     -999,9,     -999,9,   0.0183,1,   4.6508,1,     16.6,2,     -999,9,20240320,2205, -44.5000,  95.0271,     -999,9,     -999,9,-999          ,9,-999          ,9,-999          ,9
325020240221  ,I08        ,43      ,  1,7          ,7          ,2,20240320,2136, -44.5000,  95.0271,     3184,   2230.2,   2.1216,  34.7492,2,  34.7490,2,    194.1,2,    194.6,2,    82.48,2,     0.00,2,    30.36,2,     0.00,2,     2.07,2,    0.127,4,    0.095,2,    0.036,4,   0.0650,2,   2244.3,3,   2346.9,2,   7.6154,2,    24.99,     -999,9,   2.1203,2,     -999,9,     -999,     -999,9,     -999,9,     -999,9,     -999,9,     -999,9,     -999,9,   0.0183,1,   4.6483,1,     16.4,2,     -999,9,20240320,2200, -44.5000,  95.0271,     -999,9,     -999,9,-999          ,9,-999          ,9,-999          ,9
325020240221  ,I08        ,43      ,  1,6          ,6          ,2,20240320,2136, -44.5000,  95.0271,     3184,   2433.5,   1.9129,  34.7516,2,  34.7514,2,    197.2,2,    197.4,2,    88.44,2,     0.00,2,    30.45,2,     0.00,2,     2.06,2,    0.109,4,    0.087,2,    0.053,4,   0.0000,2,   2245.4,3,   2353.2,2,   7.6189,2,    24.99,     -999,9,   1.9134,2,     -999,9,     -999,     -999,9,     -999,9,     -999,9,     -999,9,     -999,9,     -999,9,   0.0183,1,   4.6456,1,     15.9,2,     -999,9,20240320,2156, -44.5000,  95.0271,     -999,9,     -999,9,-999          ,9,-999          ,9,-999          ,9