BOTTLE,20240417CCHHYDRO
EXPOCODE,SECT_ID,STNNBR,CASTNO,SAMPNO,BTLNBR,BTLNBR_FLAG_W,DATE,TIME,LATITUDE,LONGITUDE,DEPTH,CTDPRS,CTDTMP,CTDSAL,CTDSAL_FLAG_W,SALNTY,SALNTY_FLAG_W,CTDOXY,CTDOXY_FLAG_W,OXYGEN,OXYGEN_FLAG_W,SILCAT,SILCAT_FLAG_W,NH4,NH4_FLAG_W,NITRAT,NITRAT_FLAG_W,NITRIT,NITRIT_FLAG_W,PHSPHT,PHSPHT_FLAG_W,CFC-11,CFC-11_FLAG_W,CFC-12,CFC-12_FLAG_W,CFC113,CFC113_FLAG_W,SF6,SF6_FLAG_W,TCARBN,TCARBN_FLAG_W,ALKALI,ALKALI_FLAG_W,PH_TOT,PH_TOT_FLAG_W,PH_TMP,DOC,DOC_FLAG_W,REFTMP,REFTMP_FLAG_W,DELC14,DELC14_FLAG_W,C14ERR,POC,POC_FLAG_W,PON,PON_FLAG_W,POP,POP_FLAG_W,PCOD,PCOD_FLAG_W,DOP,DOP_FLAG_W,TDN,TDN_FLAG_W,CTDFLUOR,CTDFLUOR_FLAG_W,CTDXMISS,CTDXMISS_FLAG_W,N2O,N2O_FLAG_W,ARGON,ARGON_FLAG_W,BTL_DATE,BTL_TIME,BTL_LAT,BTL_LON,KRYPTON,KRYPTON_FLAG_W,XENON,XENON_FLAG_W,HPLC,HPLC_FLAG_W,DNA,DNA_FLAG_W,FCM,FCM_FLAG_W
,,,,,,,,,,,METERS,DBAR,ITS-90,PSS-78,,PSS-78,,UMOL/KG,,UMOL/KG,,UMOL/KG,,UMOL/KG,,UMOL/KG,,UMOL/KG,,UMOL/KG,,PMOL/KG,,PMOL/KG,,PMOL/KG,,FMOL/KG,,UMOL/KG,,UMOL/KG,,,,DEG C,UMOL/KG,,ITS-90,,/MILLE,,/MILLE,UG/KG,,UG/KG,,UG/L,,UG/L,,UMOL/KG,,UMOL/KG,,VOLTS,,VOLTS,,NMOL/KG,,UMOL/L,,,,,,NMOL/L,,NMOL/L,,,,,,,
325020240221  ,I08        ,7       ,  2,35         ,35         ,2,20240305,0404, -66.3038,  76.7320,     2805,      1.5,  -0.3479,  33.8540,2,  33.8537,2,    332.2,2,    332.0,2,    44.04,2,     1.63,2,    23.51,2,     0.17,2,     1.70,2,    5.132,6,    2.760,6,    0.420,6,   4.2140,2,   2173.8,3,   2301.7,2,   7.6834,2,    25.05,     -999,1,  -0.3484,2,     -999,9,     -999,     -999,9,     -999,9,     -999,9,     -999,9,     -999,9,     -999,1,   0.0232,1,   4.5640,1,     12.0,6,     -999,9,20240305,0540, -66.3038,  76.7320,     -999,9,     -999,9,-999          ,9,-999          ,9,-999          ,9
325020240221  ,I08        ,7       ,  2,34         ,34         ,2,20240305,0404, -66.3038,  76.7320,     2805,     23.9,  -0.4067,  33.8775,2,  34.1448,3,    302.4,3,    309.8,2,    56.15,2,     1.34,2,    27.57,2,     0.15,2,     2.00,2,    4.451,2,    2.404,2,    0.373,2,   3.7840,2,   2211.3,3,   2313.3,2,   7.6279,2,    25.05,     -999,9,  -0.3625,2,     -999,9,     -999,     -999,9,     -999,9,     -999,9,     -999,9,     -999,9,     -999,9,   0.0333,1,   4.5562,1,     13.1,2,     -999,9,20240305,0538, -66.3038,  76.7319,     -999,9,     -999,9,-999          ,9,-999          ,9,-999          ,9
325020240221  ,I08        ,7       ,  2,33         ,33         ,2,20240305,0404, -66.3038,  76.7320,     2805,     50.3,  -1.6482,  34.3303,2,  34.3323,2,    296.2,2,    294.9,2,    63.84,2,     0.41,2,    30.17,2,     0.24,2,     2.14,2,    4.671,2,    2.302,2,    0.345,2,   3.1530,2,   2232.0,3,   2322.0,2,   7.5914,6,    25.05,     -999,9,  -1.6482,2,     -999,9,     -999,     -999,9,     -999,9,     -999,9,     -999,9,     -999,9,     -999,9,   0.0492,1,   4.5543,1,     13.5,2,     -999,9,20240305,0536, -66.3038,  76.7319,     -999,9,     -999,9,-999          ,9,-999          ,9,-999          ,9
325020240221  ,I08        ,7       ,  2,32         ,32         ,2,20240305,0404, -66.3038,  76.7320,     2805,     74.6,  -1.5091,  34.3689,2,  34.3700,2,    290.6,2,    291.7,2,    66.87,2,     0.05,2,    30.44,2,     0.19,2,     2.14,2,     -999,9,     -999,9,     -999,9,     -999,9,   2229.7,3,   2327.3,2,   7.5906,2,    24.97,     -999,9,  -1.5092,2,     -999,9,     -999,     -999,9,     -999,9,     -999,9,     -999,9,     -999,9,     -999,9,   0.0269,1,   4.5543,1,     -999,9,     -999,9,20240305,0534, -66.3038,  76.7320,     -999,9,     -999,9,-999          ,9,-999          ,9,-999          ,9
325020240221  ,I08        ,7       ,  2,31         ,31         ,2,20240305,0404, -66.3038,  76.7320,     2805,    100.8,  -1.6753,  34.3823,2,  34.3804,2,    298.6,2,    298.8,2,    65.60,2,     0.04,2,    30.17,2,     0.23,2,     2.11,2,    4.312,2,    2.406,2,    0.356,2,   3.4460,2,   2233.6,3,   2324.7,2,   7.5943,6,    25.00,     -999,9,  -1.6719,2,     -999,9,     -999,     -999,9,     -999,9,     -999,9,     -999,9,     -999,9,     -999,9,   0.0232,1,   4.5560,1,     13.3,2,     -999,9,20240305,0532, -66.3038,  76.7319,     -999,9,     -999,9,-999          ,9,-999          ,9,-999          ,9
325020240221  ,I08        ,7       ,  2,30         ,30         ,2,20240305,0404, -66.3038,  76.7320,     2805,    126.3,  -1.6022,  34.3948,2,  34.3929,2,    298.5,2,    298.7,2,    66.48,2,     0.02,2,    30.17,2,     0.04,2,     2.11,2,     -999,9,     -999,9,     -999,9,     -999,9,     -999,9,     -999,9,     -999,9,     -999,     -999,9,  -1.6024,2,     -999,9,     -999,     -999,9,     -999,9,     -999,9,     -999,9,     -999,9,     -999,9,   0.0195,1,   4.5580,1,     -999,9,     -999,9,20240305,0530, -66.3038,  76.7316,     -999,9,     -999,9,-999          ,9,-999          ,9,-999          ,9
325020240221  ,I08        ,7       ,  2,29         ,29         ,2,20240305,0404, -66.3038,  76.7320,     2805,    150.4,  -1.5249,  34.4053,2,  34.4025,2,    297.1,2,    297.0,2,    66.48,2,     0.03,2,    30.17,2,     0.00,2,     2.12,2,    4.457,2,    2.300,2,    0.353,2,   3.2060,2,   2231.4,3,   2326.9,6,   7.5988,6,    25.04,     -999,9,  -1.5238,2,     -999,9,     -999,     -999,9,     -999,9,     -999,9,     -999,9,     -999,9,     -999,9,   0.0195,1,   4.5611,1,     13.5,2,     -999,9,20240305,0529, -66.3039,  76.7310,     -999,9,     -999,9,-999          ,9,-999          ,9,-999          ,9
325020240221  ,I08        ,7       ,  2,28         ,28         ,2,20240305,0404, -66.3038,  76.7320,     2805,    175.3,  -1.2447,  34.4284,2,  34.4267,2,    287.0,2,    286.7,2,    68.33,2,     0.02,2,    30.52,2,     0.00,2,     2.13,2,     -999,9,     -999,9,     -999,9,     -999,9,     -999,9,     -999,9,     -999,9,     -999,     -999,9,  -1.2376,2,     -999,9,     -999,     -999,9,     -999,9,     -999,9,     -999,9,     -999,9,     -999,9,   0.0188,1,   4.5653,1,     -999,9,     -999,9,20240305,0527, -66.3039,  76.7310,     -999,9,     -999,9,-999          ,9,-999          ,9,-999          ,9
325020240221  ,I08        ,7       ,  2,27         ,27         ,2,20240305,0404, -66.3038,  76.7320,     2805,    202.0,  -0.8997,  34.4561,2,  34.4542,2,    275.5,2,    275.8,2,    70.96,2,     0.03,2,    30.94,2,     0.00,2,     2.15,2,    4.215,2,    2.023,2,    0.298,2,   2.5450,2,   2237.1,3,   2331.9,2,   7.5894,6,    25.05,     -999,9,  -0.9061,2,     -999,9,     -999,     -999,9,     -999,9,     -999,9,     -999,9,     -999,9,     -999,9,   0.0182,1,   4.5690,1,     14.4,2,     -999,9,20240305,0525, -66.3039,  76.7310,     -999,9,     -999,9,-999          ,9,-999          ,9,-999          ,9
325020240221  ,I08        ,7       ,  2,26         ,26         ,2,20240305,0404, -66.3038,  76.7320,     2805,    226.7,  -0.7261,  34.4758,2,  34.4712,2,    268.7,2,    268.0,2,    72.43,2,     0.00,2,    31.15,2,     0.00,2,     2.16,2,     -999,9,     -999,9,     -999,9,     -999,9,     -999,9,     -999,9,     -999,9,     -999,     -999,9,  -0.7249,2,     -999,9,     -999,     -999,9,     -999,9,     -999,9,     -999,9,     -999,9,     -999,9,   0.0182,1,   4.5723,1,     -999,9,     -999,9,20240305,0523, -66.3039,  76.7310,     -999,9,     -999,9,-999          ,9,-999          ,9,-999          ,9
325020240221  ,I08        ,7       ,  2,25         ,25         ,2,20240305,0404, -66.3038,  76.7320,     2805,    250.9,  -0.4682,  34.5017,2,  34.4987,2,    258.1,2,    258.7,2,    74.57,2,     0.00,2,    31.32,2,     0.00,2,     2.16,2,    3.306,2,    1.726,2,    0.256,2,   2.2290,2,   2240.6,3,   2332.3,2,   7.5842,2,    25.04,     -999,9,  -0.4710,2,     -999,9,     -999,     -999,9,     -999,9,     -999,9,     -999,9,     -999,9,     -999,9,   0.0183,1,   4.5757,1,     14.6,2,     -999,9,20240305,0521, -66.3039,  76.7310,     -999,9,     -999,9,-999          ,9,-999          ,9,-999          ,9
325020240221  ,I08        ,7       ,  2,24         ,24         ,2,20240305,0404, -66.3038,  76.7320,     2805,    301.3,  -0.1629,  34.5425,2,  34.5421,2,    247.1,2,    246.3,2,    78.38,2,     0.02,2,    31.42,2,     0.00,2,     2.15,2,     -999,9,     -999,9,     -999,9,     -999,9,     -999,9,     -999,9,     -999,9,     -999,     -999,9,  -0.1628,2,     -999,9,     -999,     -999,9,     -999,9,     -999,9,     -999,9,     -999,9,     -999,9,   0.0185,1,   4.5794,1,     -999,9,     -999,9,20240305,0519, -66.3039,  76.7310,     -999,9,     -999,9,-999          ,9,-999          ,9,-999          ,9
325020240221  ,I08        ,7       ,  2,23         ,23         ,2,20240305,0404, -66.3038,  76.7320,     2805,    353.1,   0.0704,  34.5801,2,  34.5785,2,    235.6,2,    236.1,2,    83.35,2,     0.00,2,    31.48,2,     0.00,2,     2.15,2,    2.354,2,    1.231,2,    0.184,2,   1.4960,2,   2247.7,3,   2338.7,2,   7.5844,6,    25.05,     -999,9,   0.0718,2,     -999,9,     -999,     -999,9,     -999,9,     -999,9,     -999,9,     -999,9,     -999,9,   0.0181,1,   4.5813,1,     14.5,2,     -999,9,20240305,0516, -66.3039,  76.7310,     -999,9,     -999,9,-999          ,9,-999          ,9,-999          ,9
325020240221  ,I08        ,7       ,  2,22         ,22         ,2,20240305,0404, -66.3038,  76.7320,     2805,    403.2,   0.0879,  34.5945,2,  34.5924,2,    236.2,2,    235.8,2,    86.67,2,     0.00,2,    31.33,2,     0.00,2,     2.16,2,     -999,9,     -999,9,     -999,9,     -999,9,     -999,9,     -999,9,     -999,9,     -999,     -999,9,   0.0837,2,     -999,9,     -999,     -999,9,     -999,9,     -999,9,     -999,9,     -999,9,     -999,9,   0.0181,1,   4.5836,1,     -999,9,     -999,9,20240305,0514, -66.3039,  76.7310,     -999,9,     -999,9,-999          ,9,-999          ,9,-999          ,9
325020240221  ,I08        ,7       ,  2,21         ,21         ,2,20240305,0404, -66.3038,  76.7320,     2805,    453.8,   0.3236,  34.6258,2,  34.6240,2,    226.5,2,    226.5,2,    90.77,2,     0.02,2,    31.37,2,     0.00,2,     2.16,2,    1.961,2,    0.945,2,    0.137,2,   1.0270,2,   2246.7,3,   2339.4,2,   7.5881,2,    25.05,     -999,9,   0.3147,2,     -999,9,     -999,     -999,9,     -999,9,     -999,9,     -999,9,     -999,9,     -999,9,   0.0183,1,   4.5861,1,     14.2,2,     -999,9,20240305,0512, -66.3039,  76.7310,     -999,9,     -999,9,-999          ,9,-999          ,9,-999          ,9
325020240221  ,I08        ,7       ,  2,20         ,20         ,2,20240305,0404, -66.3038,  76.7320,     2805,    504.9,   0.4442,  34.6464,2,  34.6449,2,    220.9,2,    221.7,2,    94.48,2,     0.00,2,    31.35,2,     0.00,2,     2.16,2,     -999,9,     -999,9,     -999,9,     -999,9,     -999,9,     -999,9,     -999,9,     -999,     -999,9,   0.4319,2,     -999,9,     -999,     -999,9,     -999,9,     -999,9,     -999,9,     -999,9,     -999,9,   0.0183,1,   4.5884,1,     -999,9,     -999,9,20240305,0510, -66.3039,  76.7310,     -999,9,     -999,9,-999          ,9,-999          ,9,-999          ,9
325020240221  ,I08        ,7       ,  2,19         ,19         ,2,20240305,0404, -66.3038,  76.7320,     2805,    605.1,   0.6181,  34.6746,2,  34.6747,2,    213.7,2,    213.4,2,   100.82,2,     0.02,2,    31.45,2,     0.00,2,     2.17,2,    1.070,2,    0.546,2,    0.076,2,   0.5180,2,     -999,9,     -999,9,     -999,9,     -999,     -999,9,   0.6175,2,     -999,9,     -999,     -999,9,     -999,9,     -999,9,     -999,9,     -999,9,     -999,9,   0.0183,1,   4.5895,1,     14.2,2,     -999,9,20240305,0507, -66.3039,  76.7309,     -999,9,     -999,9,-999          ,9,-999          ,9,-999          ,9
325020240221  ,I08        ,7       ,  2,18         ,18         ,2,20240305,0404, -66.3038,  76.7320,     2805,    706.5,   0.6355,  34.6847,2,  34.6842,2,    210.8,2,    210.6,2,   105.99,2,     0.02,2,    31.61,2,     0.00,2,     2.21,2,     -999,9,     -999,9,     -999,9,     -999,9,   2253.3,3,   2353.7,2,   7.5917,2,    24.99,     -999,9,   0.6349,2,     -999,9,     -999,     -999,9,     -999,9,     -999,9,     -999,9,     -999,9,     -999,9,   0.0183,1,   4.5895,1,     -999,9,     -999,9,20240305,0504, -66.3040,  76.7309,     -999,9,     -999,9,-999          ,9,-999          ,9,-999          ,9
325020240221  ,I08        ,7       ,  2,17         ,17         ,2,20240305,0404, -66.3038,  76.7320,     2805,    807.6,   0.5953,  34.6875,2,  34.6871,2,    210.3,2,    210.4,2,   109.99,2,     0.02,2,    31.87,2,     0.00,2,     2.22,2,    0.816,2,    0.389,2,    0.049,2,   0.2750,2,   2257.3,3,   2355.5,2,   7.5917,2,    24.99,     -999,9,   0.5948,2,     -999,9,     -999,     -999,9,     -999,9,     -999,9,     -999,9,     -999,9,     -999,9,   0.0183,1,   4.5895,1,     14.0,2,     -999,9,20240305,0500, -66.3039,  76.7310,     -999,9,     -999,9,-999          ,9,-999          ,9,-999          ,9
325020240221  ,I08        ,7       ,  2,16         ,16         ,2,20240305,0404, -66.3038,  76.7320,     2805,    909.3,   0.5457,  34.6871,2,  34.6865,2,    210.5,2,    210.2,2,   112.33,2,     0.02,2,    32.16,2,     0.00,2,     2.25,2,     -999,9,     -999,9,     -999,9,     -999,9,     -999,9,     -999,9,     -999,9,     -999,     -999,9,   0.5454,2,     -999,9,     -999,     -999,9,     -999,9,     -999,9,     -999,9,     -999,9,     -999,9,   0.0183,1,   4.5885,1,     -999,9,     -999,9,20240305,0458, -66.3039,  76.7310,     -999,9,     -999,9,-999          ,9,-999          ,9,-999          ,9
325020240221  ,I08        ,7       ,  2,15         ,15         ,2,20240305,0404, -66.3038,  76.7320,     2805,   1010.8,   0.4832,  34.6856,2,  34.6851,2,    211.2,2,    211.3,2,   114.77,2,     0.02,2,    32.30,2,     0.00,2,     2.25,2,    0.771,2,    0.366,2,    0.044,2,   0.3130,2,   2260.0,3,   2355.6,2,   7.5914,6,    25.03,     -999,9,   0.4827,2,     -999,9,     -999,     -999,9,     -999,9,     -999,9,     -999,9,     -999,9,     -999,9,   0.0183,1,   4.5874,1,     14.0,2,     -999,9,20240305,0455, -66.3039,  76.7309,     -999,9,     -999,9,-999          ,9,-999          ,9,-999          ,9
325020240221  ,I08        ,7       ,  2,14         ,14         ,2,20240305,0404, -66.3038,  76.7320,     2805,   1111.2,   0.4381,  34.6851,2,  34.6834,2,    211.8,2,    211.2,2,   117.02,2,     0.00,2,    32.43,2,     0.00,2,     2.23,2,     -999,9,     -999,9,     -999,9,     -999,9,     -999,9,     -999,9,     -999,9,     -999,     -999,9,   0.4375,2,     -999,9,     -999,     -999,9,     -999,9,     -999,9,     -999,9,     -999,9,     -999,9,   0.0183,1,   4.5873,1,     -999,9,     -999,9,20240305,0452, -66.3039,  76.7309,     -999,9,     -999,9,-999          ,9,-999          ,9,-999          ,9
325020240221  ,I08        ,7       ,  2,13         ,13         ,2,20240305,0404, -66.3038,  76.7320,     2805,   1213.9,   0.3819,  34.6831,2,  34.6826,2,    213.0,2,    213.0,2,   118.77,2,     0.02,2,    32.47,2,     0.00,2,     2.23,2,    0.749,2,    0.355,2,    0.044,2,   0.2730,2,   2262.5,3,   2357.7,6,   7.5920,2,    25.01,     -999,9,   0.3814,2,     -999,9,     -999,     -999,9,     -999,9,     -999,9,     -999,9,     -999,9,     -999,9,   0.0181,1,   4.5867,1,     13.9,2,     -999,9,20240305,0449, -66.3039,  76.7309,     -999,9,     -999,9,-999          ,9,-999          ,9,-999          ,9
325020240221  ,I08        ,7       ,  2,11         ,11         ,2,20240305,0404, -66.3038,  76.7320,     2805,   1316.0,   0.3356,  34.6818,2,  34.6808,2,    214.0,2,    213.8,2,   120.34,2,     0.02,2,    32.53,2,     0.00,2,     2.23,2,     -999,9,     -999,9,     -999,9,     -999,9,   2262.7,3,   2355.8,2,   7.5916,6,    24.93,     -999,9,   0.3349,2,     -999,9,     -999,     -999,9,     -999,9,     -999,9,     -999,9,     -999,9,     -999,9,   0.0181,1,   4.5865,1,     -999,9,     -999,9,20240305,0446, -66.3039,  76.7309,     -999,9,     -999,9,-999          ,9,-999          ,9,-999          ,9
325020240221  ,I08        ,7       ,  2,10         ,10         ,2,20240305,0404, -66.3038,  76.7320,     2805,   1417.2,   0.2941,  34.6806,2,  34.6794,2,    215.0,2,    215.0,2,   121.51,2,     0.02,2,    32.51,2,     0.00,2,     2.23,2,    0.781,2,    0.374,2,    0.044,2,   0.2770,2,     -999,9,     -999,9,     -999,9,     -999,     -999,9,   0.2934,2,     -999,9,     -999,     -999,9,     -999,9,     -999,9,     -999,9,     -999,9,     -999,9,   0.0180,1,   4.5861,1,     13.9,2,     -999,9,20240305,0443, -66.3039,  76.7309,     -999,9,     -999,9,-999          ,9,-999          ,9,-999          ,9
325020240221  ,I08        ,7       ,  2,9          ,9          ,2,20240305,0404, -66.3038,  76.7320,     2805,   1520.7,   0.2545,  34.6792,2,  34.6783,2,    216.2,2,    215.9,2,   122.48,2,     0.02,2,    32.46,2,     0.00,2,     2.23,2,     -999,9,     -999,9,     -999,9,     -999,9,   2262.4,3,   2356.9,2,   7.5922,2,    25.04,     -999,9,   0.2554,2,     -999,9,     -999,     -999,9,     -999,9,     -999,9,     -999,9,     -999,9,     -999,9,   0.0177,1,   4.5861,1,     -999,9,     -999,9,20240305,0439, -66.3039,  76.7309,     -999,9,     -999,9,-999          ,9,-999          ,9,-999          ,9
325020240221  ,I08        ,7       ,  2,8          ,8          ,2,20240305,0404, -66.3038,  76.7320,     2805,   1621.1,   0.2223,  34.6780,2,  34.6771,2,    217.1,2,    216.8,2,   123.07,2,     0.02,2,    32.33,2,     0.00,2,     2.23,2,    0.861,2,    0.401,2,    0.044,2,   0.2930,2,     -999,9,     -999,9,     -999,9,     -999,     -999,9,   0.2217,2,     -999,9,     -999,     -999,9,     -999,9,     -999,9,     -999,9,     -999,9,     -999,9,   0.0182,1,   4.5861,1,     13.8,2,     -999,9,20240305,0436, -66.3039,  76.7309,     -999,9,     -999,9,-999          ,9,-999          ,9,-999          ,9
325020240221  ,I08        ,7       ,  2,7          ,7          ,2,20240305,0404, -66.3038,  76.7320,     2805,   1723.4,   0.1825,  34.6763,2,  34.6757,2,    218.5,2,    218.4,2,   124.05,2,     0.00,2,    32.28,2,     0.00,2,     2.23,2,     -999,9,     -999,9,     -999,9,     -999,9,   2259.8,3,   2354.9,2,   7.5926,2,    25.02,     -999,9,   0.1819,2,     -999,9,     -999,     -999,9,     -999,9,     -999,9,     -999,9,     -999,9,     -999,9,   0.0178,1,   4.5861,1,     -999,9,     -999,9,20240305,0433, -66.3039,  76.7309,     -999,9,     -999,9,-999          ,9,-999          ,9,-999          ,9
325020240221  ,I08        ,7       ,  2,6          ,6          ,2,20240305,0404, -66.3038,  76.7320,     2805,   1824.1,   0.1526,  34.6750,2,  34.6739,2,    219.8,2,    219.6,2,   124.05,2,     0.00,2,    32.20,2,     0.00,2,     2.24,2,    1.042,2,    0.464,2,    0.053,2,   0.3600,2,     -999,9,     -999,9,     -999,9,     -999,     -999,9,   0.1516,2,     -999,9,     -999,     -999,9,     -999,9,     -999,9,     -999,9,     -999,9,     -999,9,   0.0177,1,   4.5861,1,     13.7,2,     -999,9,20240305,0429, -66.3039,  76.7309,     -999,9,     -999,9,-999          ,9,-999          ,9,-999          ,9
325020240221  ,I08        ,7       ,  2,5          ,5          ,2,20240305,0404, -66.3038,  76.7320,     2805,   2028.4,   0.1056,  34.6727,2,  34.6718,2,    221.6,2,    221.5,2,   124.83,2,     0.00,2,    32.25,2,     0.00,2,     2.25,2,    1.062,2,    0.522,2,    0.061,2,   0.4280,2,   2261.1,3,   2355.9,6,   7.5927,2,    25.05,     -999,9,   0.1050,2,     -999,9,     -999,     -999,9,     -999,9,     -999,9,     -999,9,     -999,9,     -999,9,   0.0181,1,   4.5861,1,     13.6,2,     -999,9,20240305,0424, -66.3039,  76.7309,     -999,9,     -999,9,-999          ,9,-999          ,9,-999          ,9
325020240221  ,I08        ,7       ,  2,4          ,4          ,2,20240305,0404, -66.3038,  76.7320,     2805,   2233.7,   0.0611,  34.6702,2,  34.6700,2,    223.5,2,    223.8,2,   125.31,2,     0.00,2,    32.29,2,     0.00,2,     2.25,2,    1.267,2,    0.576,2,    0.069,2,   0.4350,2,     -999,9,     -999,9,     -999,9,     -999,     -999,9,   0.0606,2,     -999,9,     -999,     -999,9,     -999,9,     -999,9,     -999,9,     -999,9,     -999,9,   0.0179,1,   4.5861,1,     13.5,2,     -999,9,20240305,0419, -66.3039,  76.7308,     -999,9,     -999,9,-999          ,9,-999          ,9,-999          ,9