BOTTLE,20240417CCHHYDRO
EXPOCODE,SECT_ID,STNNBR,CASTNO,SAMPNO,BTLNBR,BTLNBR_FLAG_W,DATE,TIME,LATITUDE,LONGITUDE,DEPTH,CTDPRS,CTDTMP,CTDSAL,CTDSAL_FLAG_W,SALNTY,SALNTY_FLAG_W,CTDOXY,CTDOXY_FLAG_W,OXYGEN,OXYGEN_FLAG_W,SILCAT,SILCAT_FLAG_W,NH4,NH4_FLAG_W,NITRAT,NITRAT_FLAG_W,NITRIT,NITRIT_FLAG_W,PHSPHT,PHSPHT_FLAG_W,CFC-11,CFC-11_FLAG_W,CFC-12,CFC-12_FLAG_W,CFC113,CFC113_FLAG_W,SF6,SF6_FLAG_W,TCARBN,TCARBN_FLAG_W,ALKALI,ALKALI_FLAG_W,PH_TOT,PH_TOT_FLAG_W,PH_TMP,DOC,DOC_FLAG_W,REFTMP,REFTMP_FLAG_W,DELC14,DELC14_FLAG_W,C14ERR,POC,POC_FLAG_W,PON,PON_FLAG_W,POP,POP_FLAG_W,PCOD,PCOD_FLAG_W,DOP,DOP_FLAG_W,TDN,TDN_FLAG_W,CTDFLUOR,CTDFLUOR_FLAG_W,CTDXMISS,CTDXMISS_FLAG_W,N2O,N2O_FLAG_W,ARGON,ARGON_FLAG_W,BTL_DATE,BTL_TIME,BTL_LAT,BTL_LON,KRYPTON,KRYPTON_FLAG_W,XENON,XENON_FLAG_W,HPLC,HPLC_FLAG_W,DNA,DNA_FLAG_W,FCM,FCM_FLAG_W
,,,,,,,,,,,METERS,DBAR,ITS-90,PSS-78,,PSS-78,,UMOL/KG,,UMOL/KG,,UMOL/KG,,UMOL/KG,,UMOL/KG,,UMOL/KG,,UMOL/KG,,PMOL/KG,,PMOL/KG,,PMOL/KG,,FMOL/KG,,UMOL/KG,,UMOL/KG,,,,DEG C,UMOL/KG,,ITS-90,,/MILLE,,/MILLE,UG/KG,,UG/KG,,UG/L,,UG/L,,UMOL/KG,,UMOL/KG,,VOLTS,,VOLTS,,NMOL/KG,,UMOL/L,,,,,,NMOL/L,,NMOL/L,,,,,,,
325020240221  ,I08        ,42      ,  1,5          ,5          ,2,20240320,1449, -45.2134,  94.8172,     3113,   2367.4,   1.7965,  34.7470,2,  34.7484,2,    197.2,2,    197.4,2,    93.50,2,     0.00,2,    30.46,2,     0.00,2,     2.08,2,    0.125,2,    0.071,2,    0.000,4,   0.0000,2,   2253.4,3,   2357.1,2,   7.6194,2,    24.99,     -999,1,   1.7971,2,     -999,9,     -999,     -999,9,     -999,9,     -999,9,     -999,9,     -999,9,     -999,1,   0.0183,1,   4.6435,1,     16.2,2,     -999,9,20240320,1509, -45.2133,  94.8170,     -999,9,     -999,9,-999          ,9,-999          ,9,-999          ,9
325020240221  ,I08        ,42      ,  1,4          ,4          ,2,20240320,1449, -45.2134,  94.8172,     3113,   2570.9,   1.5465,  34.7380,2,  34.7392,2,    199.3,2,    199.6,2,   101.89,2,     0.00,2,    30.83,2,     0.00,2,     2.11,2,    0.151,2,    0.081,2,    0.000,4,   0.0000,2,     -999,9,     -999,9,     -999,9,     -999,     -999,1,   1.5465,2,     -999,9,     -999,     -999,9,     -999,9,     -999,9,     -999,9,     -999,9,     -999,1,   0.0181,1,   4.6420,1,     15.8,2,     -999,9,20240320,1504, -45.2133,  94.8170,     -999,9,     -999,9,-999          ,9,-999          ,9,-999          ,9
325020240221  ,I08        ,42      ,  1,3          ,3          ,2,20240320,1449, -45.2134,  94.8172,     3113,   2777.2,   1.4594,  34.7342,2,  34.7343,2,    200.5,2,    200.8,2,   104.43,2,     0.00,2,    30.89,2,     0.00,2,     2.11,2,    0.163,2,    0.087,2,    0.000,4,   0.0000,2,   2256.8,3,   2360.2,2,   7.6159,2,    25.00,     -999,1,   1.4601,2,     -999,9,     -999,     -999,9,     -999,9,     -999,9,     -999,9,     -999,9,     -999,1,   0.0182,1,   4.6410,1,     15.5,2,     -999,9,20240320,1459, -45.2132,  94.8170,     -999,9,     -999,9,-999          ,9,-999          ,9,-999          ,9
325020240221  ,I08        ,42      ,  1,2          ,2          ,2,20240320,1449, -45.2134,  94.8172,     3113,   2952.3,   1.3337,  34.7289,2,  34.7300,2,    202.5,2,    202.4,2,   108.24,2,     0.00,2,    31.08,2,     0.00,2,     2.12,2,    0.220,2,    0.110,2,    0.000,4,   0.0000,2,   2256.8,3,   2362.2,2,   7.6135,2,    25.04,     -999,1,   1.3364,2,     -999,9,     -999,     -999,9,     -999,9,     -999,9,     -999,9,     -999,9,     -999,1,   0.0183,1,   4.6410,1,     15.1,2,     -999,9,20240320,1454, -45.2133,  94.8169,     -999,9,     -999,9,-999          ,9,-999          ,9,-999          ,9
325020240221  ,I08        ,42      ,  1,1          ,1          ,2,20240320,1449, -45.2134,  94.8172,     3113,   3153.5,   1.2614,  34.7250,2,  34.7256,2,    203.9,2,    203.7,2,   110.48,2,     0.00,2,    31.23,2,     0.00,2,     2.15,2,    0.262,2,    0.127,2,    0.000,4,   0.0280,2,   2258.6,3,   2363.5,2,   7.6127,2,    25.01,     -999,1,   1.2574,2,     -999,9,     -999,     -999,9,     -999,9,     -999,9,     -999,9,     -999,9,     -999,1,   0.0183,1,   4.6421,1,      8.4,4,     -999,9,20240320,1449, -45.2133,  94.8169,     -999,9,     -999,9,-999          ,9,-999          ,9,-999          ,9