BOTTLE,20240417CCHHYDRO
EXPOCODE,SECT_ID,STNNBR,CASTNO,SAMPNO,BTLNBR,BTLNBR_FLAG_W,DATE,TIME,LATITUDE,LONGITUDE,DEPTH,CTDPRS,CTDTMP,CTDSAL,CTDSAL_FLAG_W,SALNTY,SALNTY_FLAG_W,CTDOXY,CTDOXY_FLAG_W,OXYGEN,OXYGEN_FLAG_W,SILCAT,SILCAT_FLAG_W,NH4,NH4_FLAG_W,NITRAT,NITRAT_FLAG_W,NITRIT,NITRIT_FLAG_W,PHSPHT,PHSPHT_FLAG_W,CFC-11,CFC-11_FLAG_W,CFC-12,CFC-12_FLAG_W,CFC113,CFC113_FLAG_W,SF6,SF6_FLAG_W,TCARBN,TCARBN_FLAG_W,ALKALI,ALKALI_FLAG_W,PH_TOT,PH_TOT_FLAG_W,PH_TMP,DOC,DOC_FLAG_W,REFTMP,REFTMP_FLAG_W,DELC14,DELC14_FLAG_W,C14ERR,POC,POC_FLAG_W,PON,PON_FLAG_W,POP,POP_FLAG_W,PCOD,PCOD_FLAG_W,DOP,DOP_FLAG_W,TDN,TDN_FLAG_W,CTDFLUOR,CTDFLUOR_FLAG_W,CTDXMISS,CTDXMISS_FLAG_W,N2O,N2O_FLAG_W,ARGON,ARGON_FLAG_W,BTL_DATE,BTL_TIME,BTL_LAT,BTL_LON,KRYPTON,KRYPTON_FLAG_W,XENON,XENON_FLAG_W,HPLC,HPLC_FLAG_W,DNA,DNA_FLAG_W,FCM,FCM_FLAG_W
,,,,,,,,,,,METERS,DBAR,ITS-90,PSS-78,,PSS-78,,UMOL/KG,,UMOL/KG,,UMOL/KG,,UMOL/KG,,UMOL/KG,,UMOL/KG,,UMOL/KG,,PMOL/KG,,PMOL/KG,,PMOL/KG,,FMOL/KG,,UMOL/KG,,UMOL/KG,,,,DEG C,UMOL/KG,,ITS-90,,/MILLE,,/MILLE,UG/KG,,UG/KG,,UG/L,,UG/L,,UMOL/KG,,UMOL/KG,,VOLTS,,VOLTS,,NMOL/KG,,UMOL/L,,,,,,NMOL/L,,NMOL/L,,,,,,,
325020240221  ,I08        ,66      ,  1,5          ,5          ,2,20240328,0531, -28.3181,  95.0076,     3067,   1955.1,   2.4234,  34.7101,2,  34.7076,2,    158.4,2,    158.5,2,   104.06,2,     0.00,2,    33.89,2,     0.00,2,     2.40,2,    0.035,2,    0.019,2,    0.004,4,   0.0030,2,   2289.4,3,   2374.5,2,   7.5827,2,    25.01,     -999,1,   2.4239,2,     -999,1,     -999,     -999,9,     -999,9,     -999,9,     -999,9,     -999,9,     -999,1,   0.0183,1,   4.6361,1,     20.0,2,     -999,9,20240328,0600, -28.3182,  95.0077,     -999,9,     -999,9,-999          ,9,-999          ,9,-999          ,9
325020240221  ,I08        ,66      ,  1,4          ,4          ,2,20240328,0531, -28.3181,  95.0076,     3067,   2191.6,   2.1572,  34.7213,2,  34.7195,2,    166.3,2,    166.3,2,   107.96,2,     0.00,2,    33.43,2,     0.00,2,     2.35,2,    0.034,2,    0.017,2,    0.008,4,   0.0000,2,   2284.3,3,   2377.0,2,   7.5924,2,    24.98,     -999,1,   2.1584,2,     -999,1,     -999,     -999,9,     -999,9,     -999,9,     -999,9,     -999,9,     -999,1,   0.0183,1,   4.6325,1,     19.0,2,     -999,9,20240328,0554, -28.3182,  95.0078,     -999,9,     -999,9,-999          ,9,-999          ,9,-999          ,9
325020240221  ,I08        ,66      ,  1,3          ,3          ,2,20240328,0531, -28.3181,  95.0076,     3067,   2443.2,   1.9522,  34.7265,2,  34.7247,2,    173.4,2,    173.6,2,   110.20,2,     0.00,2,    33.01,2,     0.00,2,     2.31,2,    0.036,2,    0.017,2,    0.015,4,   0.0000,2,   2282.3,3,   2377.7,2,   7.6004,2,    24.98,     -999,1,   1.9527,2,     -999,1,     -999,     -999,9,     -999,9,     -999,9,     -999,9,     -999,9,     -999,1,   0.0182,1,   4.6312,1,     18.5,2,     -999,9,20240328,0548, -28.3180,  95.0080,     -999,9,     -999,9,-999          ,9,-999          ,9,-999          ,9
325020240221  ,I08        ,66      ,  1,2          ,2          ,2,20240328,0531, -28.3181,  95.0076,     3067,   2697.0,   1.7541,  34.7285,2,  34.7258,3,    178.8,2,    179.2,2,   113.32,2,     0.00,2,    32.80,2,     0.00,2,     2.28,2,    0.034,2,    0.017,2,    0.024,4,   0.0000,2,   2284.3,3,   2381.1,2,   7.6065,6,    25.04,     -999,1,   1.7558,2,     -999,1,     -999,     -999,9,     -999,9,     -999,9,     -999,9,     -999,9,     -999,1,   0.0183,1,   4.6288,1,     17.7,2,     -999,9,20240328,0541, -28.3181,  95.0079,     -999,9,     -999,9,-999          ,9,-999          ,9,-999          ,9
325020240221  ,I08        ,66      ,  1,1          ,1          ,2,20240328,0531, -28.3181,  95.0076,     3067,   3101.0,   1.4849,  34.7255,2,  34.7235,2,    184.7,2,    184.8,2,   119.27,2,     0.00,2,    32.77,2,     0.00,2,     2.29,2,    0.028,2,    0.014,2,    0.052,4,   0.0000,2,   2287.2,3,   2383.8,2,   7.6119,2,    25.04,     -999,1,   1.4849,2,     -999,1,     -999,     -999,9,     -999,9,     -999,9,     -999,9,     -999,9,     -999,1,   0.0183,1,   4.6290,1,     10.5,2,     -999,9,20240328,0531, -28.3181,  95.0080,     -999,9,     -999,9,-999          ,9,-999          ,9,-999          ,9