BOTTLE,20240417CCHHYDRO
EXPOCODE,SECT_ID,STNNBR,CASTNO,SAMPNO,BTLNBR,BTLNBR_FLAG_W,DATE,TIME,LATITUDE,LONGITUDE,DEPTH,CTDPRS,CTDTMP,CTDSAL,CTDSAL_FLAG_W,SALNTY,SALNTY_FLAG_W,CTDOXY,CTDOXY_FLAG_W,OXYGEN,OXYGEN_FLAG_W,SILCAT,SILCAT_FLAG_W,NH4,NH4_FLAG_W,NITRAT,NITRAT_FLAG_W,NITRIT,NITRIT_FLAG_W,PHSPHT,PHSPHT_FLAG_W,CFC-11,CFC-11_FLAG_W,CFC-12,CFC-12_FLAG_W,CFC113,CFC113_FLAG_W,SF6,SF6_FLAG_W,TCARBN,TCARBN_FLAG_W,ALKALI,ALKALI_FLAG_W,PH_TOT,PH_TOT_FLAG_W,PH_TMP,DOC,DOC_FLAG_W,REFTMP,REFTMP_FLAG_W,DELC14,DELC14_FLAG_W,C14ERR,POC,POC_FLAG_W,PON,PON_FLAG_W,POP,POP_FLAG_W,PCOD,PCOD_FLAG_W,DOP,DOP_FLAG_W,TDN,TDN_FLAG_W,CTDFLUOR,CTDFLUOR_FLAG_W,CTDXMISS,CTDXMISS_FLAG_W,N2O,N2O_FLAG_W,ARGON,ARGON_FLAG_W,BTL_DATE,BTL_TIME,BTL_LAT,BTL_LON,KRYPTON,KRYPTON_FLAG_W,XENON,XENON_FLAG_W,HPLC,HPLC_FLAG_W,DNA,DNA_FLAG_W,FCM,FCM_FLAG_W
,,,,,,,,,,,METERS,DBAR,ITS-90,PSS-78,,PSS-78,,UMOL/KG,,UMOL/KG,,UMOL/KG,,UMOL/KG,,UMOL/KG,,UMOL/KG,,UMOL/KG,,PMOL/KG,,PMOL/KG,,PMOL/KG,,FMOL/KG,,UMOL/KG,,UMOL/KG,,,,DEG C,UMOL/KG,,ITS-90,,/MILLE,,/MILLE,UG/KG,,UG/KG,,UG/L,,UG/L,,UMOL/KG,,UMOL/KG,,VOLTS,,VOLTS,,NMOL/KG,,UMOL/L,,,,,,NMOL/L,,NMOL/L,,,,,,,
325020240221  ,I08        ,56      ,  1,5          ,5          ,2,20240324,0444, -37.9996,  95.0039,     4096,   3144.8,   1.4259,  34.7331,2,  34.7323,2,    200.8,2,    201.0,2,   106.19,2,     0.03,2,    31.19,2,     0.00,2,     2.21,2,    0.127,2,    0.065,2,    0.009,4,   0.0000,2,   2256.2,3,   2361.4,2,   7.6159,6,    24.99,     -999,1,   1.4252,2,     -999,1,     -999,     -999,9,     -999,9,     -999,9,     -999,9,     -999,9,     -999,1,   0.0182,1,   4.6361,1,     16.3,2,     -999,9,20240324,0508, -37.9996,  95.0039,     -999,9,     -999,9,-999          ,9,-999          ,9,-999          ,9
325020240221  ,I08        ,56      ,  1,4          ,4          ,2,20240324,0444, -37.9996,  95.0039,     4096,   3451.3,   1.1872,  34.7217,2,  34.7225,2,    203.9,2,    204.1,2,   114.09,2,     0.00,2,    31.63,2,     0.00,2,     2.25,2,    0.204,2,    0.098,2,    0.013,4,   0.0050,2,     -999,9,     -999,9,     -999,9,     -999,     -999,1,   1.1884,2,     -999,9,     -999,     -999,9,     -999,9,     -999,9,     -999,9,     -999,9,     -999,1,   0.0183,1,   4.6347,1,     16.1,2,     -999,9,20240324,0502, -37.9996,  95.0039,     -999,9,     -999,9,-999          ,9,-999          ,9,-999          ,9
325020240221  ,I08        ,56      ,  1,3          ,3          ,2,20240324,0444, -37.9996,  95.0039,     4096,   3758.1,   1.0504,  34.7147,3,  34.7127,2,    205.4,2,    205.6,2,   119.17,2,     0.01,2,    31.96,2,     0.00,2,     2.26,2,    0.221,2,    0.098,2,    0.019,4,   0.0000,2,   2264.4,3,   2369.6,2,   7.6164,2,    25.02,     -999,1,   1.0509,2,     -999,1,     -999,     -999,9,     -999,9,     -999,9,     -999,9,     -999,9,     -999,1,   0.0191,1,   4.6348,1,     16.1,2,     -999,9,20240324,0454, -37.9996,  95.0039,     -999,9,     -999,9,-999          ,9,-999          ,9,-999          ,9
325020240221  ,I08        ,56      ,  1,2          ,2          ,2,20240324,0444, -37.9996,  95.0039,     4096,   3965.2,   1.0163,  34.7125,2,  34.7117,2,    205.8,2,    206.1,2,   120.73,2,     0.01,2,    32.13,2,     0.00,2,     2.27,2,    0.192,2,    0.094,2,    0.031,4,   0.0120,2,   2267.6,3,   2373.1,2,   7.6185,2,    25.04,     -999,1,   1.0163,2,     -999,1,     -999,     -999,9,     -999,9,     -999,9,     -999,9,     -999,9,     -999,1,   0.0189,1,   4.6360,1,     15.6,2,     -999,9,20240324,0449, -37.9996,  95.0039,     -999,9,     -999,9,-999          ,9,-999          ,9,-999          ,9
325020240221  ,I08        ,56      ,  1,1          ,1          ,2,20240324,0444, -37.9996,  95.0039,     4096,   4158.5,   1.0259,  34.7121,2,  34.7117,2,    205.9,2,    205.8,2,   121.12,2,     0.03,2,    32.22,2,     0.00,2,     2.28,2,    0.165,2,    0.087,2,    0.049,4,   0.0000,2,   2265.9,3,   2374.2,2,   7.6195,2,    25.03,     -999,1,   1.0259,2,     -999,1,     -999,     -999,9,     -999,9,     -999,9,     -999,9,     -999,9,     -999,1,   0.0183,1,   4.6372,1,      9.5,4,     -999,9,20240324,0444, -37.9996,  95.0039,     -999,9,     -999,9,-999          ,9,-999          ,9,-999          ,9