BOTTLE,20240417CCHHYDRO
EXPOCODE,SECT_ID,STNNBR,CASTNO,SAMPNO,BTLNBR,BTLNBR_FLAG_W,DATE,TIME,LATITUDE,LONGITUDE,DEPTH,CTDPRS,CTDTMP,CTDSAL,CTDSAL_FLAG_W,SALNTY,SALNTY_FLAG_W,CTDOXY,CTDOXY_FLAG_W,OXYGEN,OXYGEN_FLAG_W,SILCAT,SILCAT_FLAG_W,NH4,NH4_FLAG_W,NITRAT,NITRAT_FLAG_W,NITRIT,NITRIT_FLAG_W,PHSPHT,PHSPHT_FLAG_W,CFC-11,CFC-11_FLAG_W,CFC-12,CFC-12_FLAG_W,CFC113,CFC113_FLAG_W,SF6,SF6_FLAG_W,TCARBN,TCARBN_FLAG_W,ALKALI,ALKALI_FLAG_W,PH_TOT,PH_TOT_FLAG_W,PH_TMP,DOC,DOC_FLAG_W,REFTMP,REFTMP_FLAG_W,DELC14,DELC14_FLAG_W,C14ERR,POC,POC_FLAG_W,PON,PON_FLAG_W,POP,POP_FLAG_W,PCOD,PCOD_FLAG_W,DOP,DOP_FLAG_W,TDN,TDN_FLAG_W,CTDFLUOR,CTDFLUOR_FLAG_W,CTDXMISS,CTDXMISS_FLAG_W,N2O,N2O_FLAG_W,ARGON,ARGON_FLAG_W,BTL_DATE,BTL_TIME,BTL_LAT,BTL_LON,KRYPTON,KRYPTON_FLAG_W,XENON,XENON_FLAG_W,HPLC,HPLC_FLAG_W,DNA,DNA_FLAG_W,FCM,FCM_FLAG_W
,,,,,,,,,,,METERS,DBAR,ITS-90,PSS-78,,PSS-78,,UMOL/KG,,UMOL/KG,,UMOL/KG,,UMOL/KG,,UMOL/KG,,UMOL/KG,,UMOL/KG,,PMOL/KG,,PMOL/KG,,PMOL/KG,,FMOL/KG,,UMOL/KG,,UMOL/KG,,,,DEG C,UMOL/KG,,ITS-90,,/MILLE,,/MILLE,UG/KG,,UG/KG,,UG/L,,UG/L,,UMOL/KG,,UMOL/KG,,VOLTS,,VOLTS,,NMOL/KG,,UMOL/L,,,,,,NMOL/L,,NMOL/L,,,,,,,
325020240221  ,I08        ,44      ,  1,35         ,35         ,2,20240321,0315, -44.0080,  95.0120,     3020,      2.6,  13.0639,  34.3663,2,     -999,9,    264.3,2,     -999,9,     -999,9,     -999,9,     -999,9,     -999,9,     -999,9,     -999,9,     -999,9,     -999,9,     -999,9,     -999,9,     -999,9,     -999,9,     -999,     -999,1,     -999,1,     -999,9,     -999,     -999,1,     -999,9,     -999,9,     -999,9,     -999,9,     -999,1,   0.0269,1,   4.5314,1,     -999,9,     -999,9,20240321,0500, -44.0079,  95.0119,     -999,9,     -999,9,-999          ,9,-999          ,9,-999          ,9
325020240221  ,I08        ,44      ,  1,36         ,36         ,2,20240321,0315, -44.0080,  95.0120,     3020,      2.7,  13.0627,  34.3662,2,     -999,9,    264.3,2,     -999,9,     -999,9,     -999,9,     -999,9,     -999,9,     -999,9,     -999,9,     -999,9,     -999,9,     -999,9,     -999,9,     -999,9,     -999,9,     -999,     -999,1,     -999,1,     -999,9,     -999,     -999,9,     -999,1,     -999,1,     -999,1,     -999,1,     -999,1,   0.0269,1,   4.5337,1,     -999,9,     -999,9,20240321,0500, -44.0080,  95.0120,     -999,9,     -999,9,-999          ,9,-999          ,9,-999          ,9
325020240221  ,I08        ,44      ,  1,34         ,34         ,2,20240321,0315, -44.0080,  95.0120,     3020,      2.8,  13.0637,  34.3662,2,     -999,9,    264.4,2,     -999,9,     -999,9,     -999,9,     -999,9,     -999,9,     -999,9,     -999,9,     -999,9,     -999,9,     -999,9,     -999,9,     -999,9,     -999,9,     -999,     -999,1,     -999,1,     -999,9,     -999,     -999,1,     -999,9,     -999,9,     -999,9,     -999,9,     -999,1,   0.0269,1,   4.5326,1,     -999,9,     -999,9,20240321,0500, -44.0079,  95.0119,     -999,9,     -999,9,-999          ,1,-999          ,9,-999          ,1
325020240221  ,I08        ,44      ,  1,32         ,32         ,2,20240321,0315, -44.0080,  95.0120,     3020,      3.0,  13.0647,  34.3662,2,  34.3643,2,    264.4,2,    263.4,2,     0.98,2,     0.25,2,     7.99,2,     0.15,2,     0.68,2,    2.898,2,    1.664,2,    0.373,4,   2.8420,2,   2085.2,3,   2287.6,2,   7.8678,2,    24.99,     -999,1,     -999,1,     -999,1,     -999,     -999,9,     -999,1,     -999,1,     -999,1,     -999,1,     -999,1,   0.0259,1,   4.5312,1,      9.2,2,     -999,9,20240321,0459, -44.0077,  95.0118,     -999,9,     -999,9,-999          ,9,-999          ,9,-999          ,9
325020240221  ,I08        ,44      ,  1,33         ,33         ,2,20240321,0315, -44.0080,  95.0120,     3020,      3.1,  13.0632,  34.3660,2,     -999,9,    264.3,2,     -999,9,     -999,9,     -999,9,     -999,9,     -999,9,     -999,9,     -999,9,     -999,9,     -999,9,     -999,9,     -999,9,     -999,9,     -999,9,     -999,     -999,1,     -999,1,     -999,9,     -999,     -999,9,     -999,9,     -999,9,     -999,9,     -999,9,     -999,1,   0.0269,1,   4.5330,1,     -999,9,     -999,9,20240321,0500, -44.0078,  95.0119,     -999,9,     -999,9,-999          ,1,-999          ,9,-999          ,9
325020240221  ,I08        ,44      ,  1,31         ,31         ,2,20240321,0315, -44.0080,  95.0120,     3020,     34.5,  13.0565,  34.3658,2,  34.3637,2,    264.1,2,    262.6,2,     1.07,2,     0.28,2,     7.99,2,     0.14,2,     0.68,2,     -999,9,     -999,9,     -999,9,     -999,9,   2083.3,3,   2287.7,2,   7.8679,2,    25.00,     -999,1,     -999,1,     -999,9,     -999,     -999,9,     -999,9,     -999,9,     -999,9,     -999,9,     -999,1,   0.0506,1,   4.5331,1,     -999,9,     -999,9,20240321,0456, -44.0070,  95.0116,     -999,9,     -999,9,-999          ,1,-999          ,9,-999          ,1
325020240221  ,I08        ,44      ,  1,30         ,30         ,2,20240321,0315, -44.0080,  95.0120,     3020,     59.4,  13.0505,  34.3670,2,  34.3776,2,    263.6,2,    262.3,2,     1.07,2,     0.23,2,     7.94,2,     0.16,2,     0.67,2,    3.037,2,    1.645,2,    0.329,4,   2.8970,2,   2087.9,3,   2287.1,2,   7.8663,2,    24.99,     -999,1,     -999,1,     -999,1,     -999,     -999,9,     -999,9,     -999,9,     -999,9,     -999,9,     -999,1,   0.0521,1,   4.5501,1,      9.4,2,     -999,9,20240321,0454, -44.0065,  95.0114,     -999,9,     -999,9,-999          ,9,-999          ,9,-999          ,1
325020240221  ,I08        ,44      ,  1,29         ,29         ,2,20240321,0315, -44.0080,  95.0120,     3020,     85.4,  12.1992,  34.9457,2,  34.9359,2,    246.7,2,    247.6,2,     2.93,2,     0.04,2,     8.80,2,     0.19,2,     0.69,2,     -999,9,     -999,9,     -999,9,     -999,9,   2114.1,3,   2304.1,2,   7.8310,2,    25.01,     -999,1,     -999,1,     -999,9,     -999,     -999,9,     -999,9,     -999,9,     -999,9,     -999,9,     -999,1,   0.0360,1,   4.6413,1,     -999,9,     -999,9,20240321,0452, -44.0062,  95.0115,     -999,9,     -999,9,-999          ,9,-999          ,9,-999          ,9
325020240221  ,I08        ,44      ,  1,28         ,28         ,2,20240321,0315, -44.0080,  95.0120,     3020,    108.7,  11.9698,  34.9733,2,  34.9734,2,    244.6,2,    245.8,2,     3.32,2,     0.01,2,     9.51,2,     0.00,2,     0.72,2,    2.969,2,    1.666,2,    0.326,4,   2.6900,2,   2122.5,3,   2305.2,2,   7.8226,6,    24.99,     -999,1,     -999,1,     -999,1,     -999,     -999,9,     -999,9,     -999,9,     -999,9,     -999,9,     -999,1,   0.0244,1,   4.6660,1,     10.1,2,     -999,9,20240321,0450, -44.0061,  95.0115,     -999,9,     -999,9,-999          ,9,-999          ,1,-999          ,1
325020240221  ,I08        ,44      ,  1,27         ,27         ,2,20240321,0315, -44.0080,  95.0120,     3020,    134.4,  11.8128,  34.9616,2,  34.9492,2,    245.2,2,    246.4,2,     3.51,2,     0.03,2,     9.95,2,     0.00,2,     0.73,2,     -999,9,     -999,9,     -999,9,     -999,9,   2115.0,3,   2305.8,2,   7.8196,2,    25.01,     -999,1,     -999,1,     -999,1,     -999,     -999,9,     -999,9,     -999,9,     -999,9,     -999,9,     -999,1,   0.0208,1,   4.6732,1,     -999,9,     -999,9,20240321,0448, -44.0061,  95.0115,     -999,9,     -999,9,-999          ,9,-999          ,9,-999          ,9
325020240221  ,I08        ,44      ,  1,26         ,26         ,2,20240321,0315, -44.0080,  95.0120,     3020,    166.8,  11.6405,  34.9402,2,  34.9347,2,    245.6,2,    245.8,2,     3.71,2,     0.04,2,    10.30,2,     0.00,2,     0.75,2,    2.936,2,    1.705,2,    0.278,4,   2.5030,2,   2125.4,3,   2305.5,6,   7.8163,2,    25.03,     -999,1,     -999,1,     -999,1,     -999,     -999,9,     -999,9,     -999,9,     -999,9,     -999,9,     -999,1,   0.0195,1,   4.6778,1,     10.3,2,     -999,9,20240321,0446, -44.0060,  95.0116,     -999,9,     -999,9,-999          ,9,-999          ,9,-999          ,9
325020240221  ,I08        ,44      ,  1,25         ,25         ,2,20240321,0315, -44.0080,  95.0120,     3020,    217.4,  11.4828,  34.9307,2,  34.9294,2,    245.8,2,    245.8,2,     3.90,2,     0.01,2,    10.70,2,     0.00,2,     0.78,2,     -999,9,     -999,9,     -999,9,     -999,9,   2125.2,3,   2305.1,2,   7.8123,6,    25.02,     -999,1,     -999,1,     -999,1,     -999,     -999,9,     -999,9,     -999,9,     -999,9,     -999,9,     -999,1,   0.0183,1,   4.6807,1,     -999,9,     -999,9,20240321,0443, -44.0060,  95.0116,     -999,9,     -999,9,-999          ,9,-999          ,1,-999          ,1
325020240221  ,I08        ,44      ,  1,24         ,24         ,2,20240321,0315, -44.0080,  95.0120,     3020,    267.9,  11.3138,  34.9136,2,  34.9117,2,    244.7,2,    244.6,2,     4.10,2,     0.00,2,    11.21,2,     0.00,2,     0.82,2,    3.162,2,    1.754,2,    0.246,4,   2.4360,2,     -999,9,     -999,9,     -999,9,     -999,     -999,1,     -999,1,     -999,9,     -999,     -999,9,     -999,9,     -999,9,     -999,9,     -999,9,     -999,1,   0.0171,1,   4.6813,1,     10.7,2,     -999,9,20240321,0440, -44.0060,  95.0116,     -999,9,     -999,9,-999          ,9,-999          ,9,-999          ,9
325020240221  ,I08        ,44      ,  1,23         ,37         ,2,20240321,0315, -44.0080,  95.0120,     3020,    317.0,  11.1706,  34.9059,2,  34.9042,2,    247.7,2,    247.8,2,     4.20,2,     0.00,2,    11.31,2,     0.00,2,     0.85,2,     -999,9,     -999,9,     -999,9,     -999,9,   2131.2,3,   2303.6,2,   7.8079,2,    25.02,     -999,1,     -999,1,     -999,1,     -999,     -999,9,     -999,9,     -999,9,     -999,9,     -999,9,     -999,1,   0.0174,1,   4.6822,1,     -999,9,     -999,9,20240321,0438, -44.0060,  95.0117,     -999,9,     -999,9,-999          ,9,-999          ,9,-999          ,9
325020240221  ,I08        ,44      ,  1,22         ,22         ,2,20240321,0315, -44.0080,  95.0120,     3020,    367.8,  10.8799,  34.8652,2,  34.8642,2,    238.8,2,    238.9,2,     4.78,2,     0.00,2,    12.88,2,     0.00,2,     0.93,2,    3.137,2,    1.763,2,    0.213,4,   2.3140,2,     -999,9,     -999,9,     -999,9,     -999,     -999,1,     -999,1,     -999,9,     -999,     -999,9,     -999,9,     -999,9,     -999,9,     -999,9,     -999,1,   0.0178,1,   4.6824,1,     11.0,2,     -999,9,20240321,0435, -44.0060,  95.0116,     -999,9,     -999,9,-999          ,9,-999          ,9,-999          ,9
325020240221  ,I08        ,44      ,  1,21         ,21         ,2,20240321,0315, -44.0080,  95.0120,     3020,    419.0,  10.2628,  34.7764,2,  34.7765,2,    227.1,2,    227.4,2,     5.95,2,     0.00,2,    15.48,2,     0.00,2,     1.08,2,     -999,9,     -999,9,     -999,9,     -999,9,   2136.9,3,   2297.8,2,   7.7601,2,    24.99,     -999,1,     -999,1,     -999,1,     -999,     -999,9,     -999,9,     -999,9,     -999,9,     -999,9,     -999,1,   0.0183,1,   4.6813,1,     -999,9,     -999,9,20240321,0433, -44.0060,  95.0117,     -999,9,     -999,9,-999          ,9,-999          ,9,-999          ,9
325020240221  ,I08        ,44      ,  1,20         ,20         ,2,20240321,0315, -44.0080,  95.0120,     3020,    469.4,   9.5259,  34.6778,2,  34.6775,2,    222.2,2,    222.7,2,     7.22,2,     0.00,2,    17.72,2,     0.00,2,     1.20,2,    3.366,2,    1.871,2,    0.203,4,   1.8390,2,   2147.0,3,   2293.0,2,   7.7360,2,    25.00,     -999,1,     -999,1,     -999,1,     -999,     -999,9,     -999,9,     -999,9,     -999,9,     -999,9,     -999,1,   0.0183,1,   4.6813,1,     12.5,2,     -999,9,20240321,0430, -44.0059,  95.0118,     -999,9,     -999,9,-999          ,9,-999          ,9,-999          ,1
325020240221  ,I08        ,44      ,  1,19         ,19         ,2,20240321,0315, -44.0080,  95.0120,     3020,    539.3,   8.8901,  34.6241,2,  34.6242,2,    216.6,2,    216.9,2,     9.08,2,     0.00,2,    19.81,2,     0.00,2,     1.33,2,     -999,9,     -999,9,     -999,9,     -999,9,   2159.9,3,   2291.8,2,   7.7142,2,    24.99,     -999,1,     -999,1,     -999,1,     -999,     -999,9,     -999,9,     -999,9,     -999,9,     -999,9,     -999,1,   0.0183,1,   4.6826,1,     -999,9,     -999,9,20240321,0428, -44.0059,  95.0117,     -999,9,     -999,9,-999          ,9,-999          ,9,-999          ,9
325020240221  ,I08        ,44      ,  1,18         ,18         ,2,20240321,0315, -44.0080,  95.0120,     3020,    639.1,   7.5554,  34.4887,2,  34.4891,2,    214.1,2,    213.6,2,    13.08,2,     0.01,2,    23.40,2,     0.00,2,     1.56,2,    3.154,2,    1.785,2,    0.193,4,   1.5770,2,     -999,9,     -999,9,     -999,9,     -999,     -999,1,     -999,1,     -999,9,     -999,     -999,9,     -999,9,     -999,9,     -999,9,     -999,9,     -999,1,   0.0183,1,   4.6851,1,      9.9,2,     -999,9,20240321,0424, -44.0059,  95.0117,     -999,9,     -999,9,-999          ,9,-999          ,9,-999          ,9
325020240221  ,I08        ,44      ,  1,17         ,17         ,2,20240321,0315, -44.0080,  95.0120,     3020,    740.8,   6.2085,  34.3769,2,  34.3766,2,    216.1,2,    215.9,2,    17.77,2,     0.00,2,    26.44,2,     0.00,2,     1.77,2,     -999,9,     -999,9,     -999,9,     -999,9,   2178.6,3,   2286.6,2,   7.6472,2,    25.00,     -999,1,     -999,1,     -999,1,     -999,     -999,9,     -999,9,     -999,9,     -999,9,     -999,9,     -999,1,   0.0183,1,   4.6846,1,     -999,9,     -999,9,20240321,0421, -44.0060,  95.0117,     -999,9,     -999,9,-999          ,9,-999          ,9,-999          ,9
325020240221  ,I08        ,44      ,  1,16         ,16         ,2,20240321,0315, -44.0080,  95.0120,     3020,    842.7,   5.2224,  34.3369,2,  34.3368,2,    211.3,2,    211.0,2,    24.60,2,     0.00,2,    28.89,2,     0.00,2,     1.94,2,    2.659,2,    1.597,2,    0.212,4,   1.0340,2,     -999,9,     -999,9,     -999,9,     -999,     -999,1,     -999,1,     -999,9,     -999,     -999,9,     -999,9,     -999,9,     -999,9,     -999,9,     -999,1,   0.0183,1,   4.6886,1,     16.3,2,     -999,9,20240321,0418, -44.0060,  95.0117,     -999,9,     -999,9,-999          ,9,-999          ,9,-999          ,9
325020240221  ,I08        ,44      ,  1,15         ,15         ,2,20240321,0315, -44.0080,  95.0120,     3020,    943.7,   4.4626,  34.3247,2,  34.3244,2,    207.8,2,    208.4,2,    31.83,2,     0.00,2,    30.56,2,     0.00,2,     2.06,2,     -999,9,     -999,9,     -999,9,     -999,9,   2202.5,3,   2297.5,2,   7.6096,6,    24.99,     -999,1,     -999,1,     -999,1,     -999,     -999,9,     -999,9,     -999,9,     -999,9,     -999,9,     -999,1,   0.0183,1,   4.6782,1,     -999,9,     -999,9,20240321,0414, -44.0060,  95.0116,     -999,9,     -999,9,-999          ,9,-999          ,9,-999          ,9
325020240221  ,I08        ,44      ,  1,14         ,14         ,2,20240321,0315, -44.0080,  95.0120,     3020,   1045.3,   3.9483,  34.3500,2,  34.3492,2,    198.8,2,    197.6,2,    40.22,2,     0.00,2,    32.06,2,     0.00,2,     2.16,2,    2.044,2,    1.106,2,    0.153,4,   0.6240,2,     -999,9,     -999,9,     -999,9,     -999,     -999,1,     -999,1,     -999,9,     -999,     -999,9,     -999,9,     -999,9,     -999,9,     -999,9,     -999,1,   0.0183,1,   4.6715,1,     17.7,2,     -999,9,20240321,0411, -44.0060,  95.0115,     -999,9,     -999,9,-999          ,9,-999          ,1,-999          ,1
325020240221  ,I08        ,44      ,  1,13         ,13         ,2,20240321,0315, -44.0080,  95.0120,     3020,   1146.8,   3.5273,  34.3697,2,  34.3660,2,    194.9,2,    194.9,2,    46.27,2,     0.00,2,    32.82,2,     0.00,2,     2.24,2,     -999,9,     -999,9,     -999,9,     -999,9,   2226.8,3,   2306.8,2,   7.5786,2,    25.00,     -999,1,     -999,1,     -999,1,     -999,     -999,9,     -999,9,     -999,9,     -999,9,     -999,9,     -999,1,   0.0183,1,   4.6667,1,     -999,9,     -999,9,20240321,0407, -44.0060,  95.0116,     -999,9,     -999,9,-999          ,9,-999          ,9,-999          ,9
325020240221  ,I08        ,44      ,  1,12         ,12         ,2,20240321,0315, -44.0080,  95.0120,     3020,   1248.8,   3.3285,  34.4356,2,  34.4343,2,    180.5,2,    180.4,2,    55.55,2,     0.00,2,    33.70,2,     0.00,2,     2.29,2,    1.183,2,    0.680,2,    0.083,4,   0.3920,2,   2239.5,3,   2317.8,2,   7.5688,2,    25.00,     -999,1,     -999,1,     -999,1,     -999,     -999,9,     -999,9,     -999,9,     -999,9,     -999,9,     -999,1,   0.0183,1,   4.6633,1,     18.7,2,     -999,9,20240321,0404, -44.0059,  95.0116,     -999,9,     -999,9,-999          ,9,-999          ,9,-999          ,9
325020240221  ,I08        ,44      ,  1,11         ,11         ,2,20240321,0315, -44.0080,  95.0120,     3020,   1349.4,   3.0841,  34.4796,2,  34.4779,2,    177.0,2,    176.8,2,    60.81,2,     0.01,2,    34.01,2,     0.00,2,     2.33,2,     -999,9,     -999,9,     -999,9,     -999,9,   2245.2,3,   2324.3,2,   7.5628,2,    24.99,     -999,1,     -999,1,     -999,1,     -999,     -999,9,     -999,9,     -999,9,     -999,9,     -999,9,     -999,1,   0.0183,1,   4.6604,1,     -999,9,     -999,9,20240321,0401, -44.0058,  95.0116,     -999,9,     -999,9,-999          ,9,-999          ,9,-999          ,9
325020240221  ,I08        ,44      ,  1,10         ,10         ,2,20240321,0315, -44.0080,  95.0120,     3020,   1450.8,   2.9351,  34.5214,2,  34.5221,2,    171.6,2,    172.0,2,    66.08,2,     0.00,2,    34.22,2,     0.00,2,     2.33,2,    0.675,2,    0.397,2,    0.041,4,   0.1100,2,   2248.3,3,   2328.7,2,   7.5607,2,    25.00,     -999,1,     -999,1,     -999,1,     -999,     -999,9,     -999,9,     -999,9,     -999,9,     -999,9,     -999,1,   0.0183,1,   4.6588,1,     18.8,2,     -999,9,20240321,0358, -44.0058,  95.0117,     -999,9,     -999,9,-999          ,9,-999          ,9,-999          ,9
325020240221  ,I08        ,44      ,  1,9          ,9          ,2,20240321,0315, -44.0080,  95.0120,     3020,   1553.1,   2.8042,  34.5750,2,  34.5734,2,    172.6,2,    173.0,2,    68.91,2,     0.01,2,    33.79,2,     0.00,2,     2.30,2,     -999,9,     -999,9,     -999,9,     -999,9,     -999,9,     -999,9,     -999,9,     -999,     -999,1,     -999,1,     -999,9,     -999,     -999,9,     -999,9,     -999,9,     -999,9,     -999,9,     -999,1,   0.0183,1,   4.6569,1,     -999,9,     -999,9,20240321,0355, -44.0059,  95.0117,     -999,9,     -999,9,-999          ,9,-999          ,9,-999          ,9
325020240221  ,I08        ,44      ,  1,8          ,8          ,2,20240321,0315, -44.0080,  95.0120,     3020,   1685.5,   2.6748,  34.6277,2,  34.6266,2,    174.5,2,    174.6,2,    71.84,2,     0.00,2,    33.13,2,     0.00,2,     2.24,2,    0.369,2,    0.230,2,    0.023,4,   0.1100,2,   2249.5,3,   2336.9,2,   7.5739,2,    25.04,     -999,1,     -999,1,     -999,1,     -999,     -999,9,     -999,9,     -999,9,     -999,9,     -999,9,     -999,1,   0.0183,1,   4.6565,1,     18.1,2,     -999,9,20240321,0351, -44.0060,  95.0117,     -999,9,     -999,9,-999          ,9,-999          ,9,-999          ,9
325020240221  ,I08        ,44      ,  1,7          ,7          ,2,20240321,0315, -44.0080,  95.0120,     3020,   1886.5,   2.5359,  34.6857,2,  34.6853,2,    180.4,2,    180.5,2,    74.27,2,     0.00,2,    32.05,2,     0.00,2,     2.13,2,     -999,9,     -999,9,     -999,9,     -999,9,   2250.3,3,   2340.7,2,   7.5901,6,    25.03,     -999,1,     -999,1,     -999,1,     -999,     -999,9,     -999,9,     -999,9,     -999,9,     -999,9,     -999,1,   0.0183,1,   4.6545,1,     -999,9,     -999,9,20240321,0346, -44.0060,  95.0117,     -999,9,     -999,9,-999          ,9,-999          ,9,-999          ,9
325020240221  ,I08        ,44      ,  1,6          ,6          ,2,20240321,0315, -44.0080,  95.0120,     3020,   2092.1,   2.3983,  34.7257,2,  34.7256,2,    187.8,2,    188.1,2,    76.22,2,     0.00,2,    31.04,2,     0.00,2,     2.08,2,    0.232,2,    0.132,2,    0.017,4,   0.1460,2,     -999,9,     -999,9,     -999,9,     -999,     -999,1,     -999,1,     -999,9,     -999,     -999,9,     -999,9,     -999,9,     -999,9,     -999,9,     -999,1,   0.0182,1,   4.6531,1,     16.8,2,     -999,9,20240321,0341, -44.0059,  95.0118,     -999,9,     -999,9,-999          ,9,-999          ,9,-999          ,9