BOTTLE,20240417CCHHYDRO
EXPOCODE,SECT_ID,STNNBR,CASTNO,SAMPNO,BTLNBR,BTLNBR_FLAG_W,DATE,TIME,LATITUDE,LONGITUDE,DEPTH,CTDPRS,CTDTMP,CTDSAL,CTDSAL_FLAG_W,SALNTY,SALNTY_FLAG_W,CTDOXY,CTDOXY_FLAG_W,OXYGEN,OXYGEN_FLAG_W,SILCAT,SILCAT_FLAG_W,NH4,NH4_FLAG_W,NITRAT,NITRAT_FLAG_W,NITRIT,NITRIT_FLAG_W,PHSPHT,PHSPHT_FLAG_W,CFC-11,CFC-11_FLAG_W,CFC-12,CFC-12_FLAG_W,CFC113,CFC113_FLAG_W,SF6,SF6_FLAG_W,TCARBN,TCARBN_FLAG_W,ALKALI,ALKALI_FLAG_W,PH_TOT,PH_TOT_FLAG_W,PH_TMP,DOC,DOC_FLAG_W,REFTMP,REFTMP_FLAG_W,DELC14,DELC14_FLAG_W,C14ERR,POC,POC_FLAG_W,PON,PON_FLAG_W,POP,POP_FLAG_W,PCOD,PCOD_FLAG_W,DOP,DOP_FLAG_W,TDN,TDN_FLAG_W,CTDFLUOR,CTDFLUOR_FLAG_W,CTDXMISS,CTDXMISS_FLAG_W,N2O,N2O_FLAG_W,ARGON,ARGON_FLAG_W,BTL_DATE,BTL_TIME,BTL_LAT,BTL_LON,KRYPTON,KRYPTON_FLAG_W,XENON,XENON_FLAG_W,HPLC,HPLC_FLAG_W,DNA,DNA_FLAG_W,FCM,FCM_FLAG_W
,,,,,,,,,,,METERS,DBAR,ITS-90,PSS-78,,PSS-78,,UMOL/KG,,UMOL/KG,,UMOL/KG,,UMOL/KG,,UMOL/KG,,UMOL/KG,,UMOL/KG,,PMOL/KG,,PMOL/KG,,PMOL/KG,,FMOL/KG,,UMOL/KG,,UMOL/KG,,,,DEG C,UMOL/KG,,ITS-90,,/MILLE,,/MILLE,UG/KG,,UG/KG,,UG/L,,UG/L,,UMOL/KG,,UMOL/KG,,VOLTS,,VOLTS,,NMOL/KG,,UMOL/L,,,,,,NMOL/L,,NMOL/L,,,,,,,
325020240221  ,I08        ,8       ,  1,5          ,5          ,2,20240305,1004, -65.7768,  76.7419,     3011,   2304.5,   0.0869,  34.6719,2,  34.6720,2,    222.5,2,    222.3,2,   127.18,2,     0.00,2,    32.53,2,     0.00,2,     2.27,2,    0.976,2,    0.472,2,    0.056,2,   0.3130,2,     -999,9,     -999,9,     -999,9,     -999,     -999,1,   0.0861,2,     -999,9,     -999,     -999,9,     -999,9,     -999,9,     -999,9,     -999,9,     -999,1,   0.0179,1,   4.5922,1,     13.3,2,     -999,9,20240305,1026, -65.7769,  76.7418,     -999,9,     -999,9,-999          ,9,-999          ,9,-999          ,9
325020240221  ,I08        ,8       ,  1,4          ,4          ,2,20240305,1004, -65.7768,  76.7419,     3011,   2508.8,   0.0328,  34.6687,2,  34.6684,2,    225.1,2,    224.9,2,   126.69,2,     0.00,2,    32.53,2,     0.00,2,     2.26,2,    1.102,2,    0.569,2,    0.068,2,   0.3750,2,   2258.4,3,   2354.3,2,   7.5934,2,    24.99,     -999,1,   0.0322,2,     -999,9,     -999,     -999,9,     -999,9,     -999,9,     -999,9,     -999,9,     -999,1,   0.0179,1,   4.5922,1,     13.3,2,     -999,9,20240305,1020, -65.7768,  76.7419,     -999,9,     -999,9,-999          ,9,-999          ,9,-999          ,9
325020240221  ,I08        ,8       ,  1,3          ,3          ,2,20240305,1004, -65.7768,  76.7419,     3011,   2712.7,  -0.0118,  34.6663,2,  34.6655,2,    227.2,2,    227.0,2,   126.40,2,     0.00,2,    32.52,2,     0.00,2,     2.25,2,    1.259,2,    0.642,2,    0.081,2,   0.4230,2,   2257.6,3,   2356.5,2,   7.5931,2,    24.94,     -999,1,  -0.0126,2,     -999,9,     -999,     -999,9,     -999,9,     -999,9,     -999,9,     -999,9,     -999,1,   0.0166,1,   4.5922,1,     13.3,2,     -999,9,20240305,1014, -65.7768,  76.7418,     -999,9,     -999,9,-999          ,9,-999          ,9,-999          ,9
325020240221  ,I08        ,8       ,  1,2          ,2          ,2,20240305,1004, -65.7768,  76.7419,     3011,   2916.5,  -0.0688,  34.6632,2,  34.6631,2,    229.8,2,    229.4,2,   126.30,2,     0.00,2,    32.50,2,     0.00,2,     2.25,2,    1.485,2,    0.716,2,    0.090,2,   0.6820,2,   2255.9,3,   2354.3,2,   7.5932,6,    25.03,     -999,1,  -0.0696,2,     -999,9,     -999,     -999,9,     -999,9,     -999,9,     -999,9,     -999,9,     -999,1,   0.0170,1,   4.5922,1,     13.2,2,     -999,9,20240305,1008, -65.7768,  76.7419,     -999,9,     -999,9,-999          ,9,-999          ,9,-999          ,9
325020240221  ,I08        ,8       ,  1,1          ,1          ,2,20240305,1004, -65.7768,  76.7419,     3011,   3055.0,  -0.1528,  34.6594,2,  34.6598,2,    228.8,2,    229.3,2,   137.43,2,     0.00,2,    32.62,2,     0.00,2,     2.24,2,    1.451,2,    0.745,2,    0.097,2,   0.6750,2,   2259.4,3,   2355.9,2,   7.5860,2,    25.06,     -999,1,  -0.1535,2,     -999,9,     -999,     -999,9,     -999,9,     -999,9,     -999,9,     -999,9,     -999,1,   0.0183,1,   4.5928,1,      8.9,4,     -999,9,20240305,1004, -65.7768,  76.7419,     -999,9,     -999,9,-999          ,9,-999          ,9,-999          ,9