BOTTLE,20240417CCHHYDRO
EXPOCODE,SECT_ID,STNNBR,CASTNO,SAMPNO,BTLNBR,BTLNBR_FLAG_W,DATE,TIME,LATITUDE,LONGITUDE,DEPTH,CTDPRS,CTDTMP,CTDSAL,CTDSAL_FLAG_W,SALNTY,SALNTY_FLAG_W,CTDOXY,CTDOXY_FLAG_W,OXYGEN,OXYGEN_FLAG_W,SILCAT,SILCAT_FLAG_W,NH4,NH4_FLAG_W,NITRAT,NITRAT_FLAG_W,NITRIT,NITRIT_FLAG_W,PHSPHT,PHSPHT_FLAG_W,CFC-11,CFC-11_FLAG_W,CFC-12,CFC-12_FLAG_W,CFC113,CFC113_FLAG_W,SF6,SF6_FLAG_W,TCARBN,TCARBN_FLAG_W,ALKALI,ALKALI_FLAG_W,PH_TOT,PH_TOT_FLAG_W,PH_TMP,DOC,DOC_FLAG_W,REFTMP,REFTMP_FLAG_W,DELC14,DELC14_FLAG_W,C14ERR,POC,POC_FLAG_W,PON,PON_FLAG_W,POP,POP_FLAG_W,PCOD,PCOD_FLAG_W,DOP,DOP_FLAG_W,TDN,TDN_FLAG_W,CTDFLUOR,CTDFLUOR_FLAG_W,CTDXMISS,CTDXMISS_FLAG_W,N2O,N2O_FLAG_W,ARGON,ARGON_FLAG_W,BTL_DATE,BTL_TIME,BTL_LAT,BTL_LON,KRYPTON,KRYPTON_FLAG_W,XENON,XENON_FLAG_W,HPLC,HPLC_FLAG_W,DNA,DNA_FLAG_W,FCM,FCM_FLAG_W
,,,,,,,,,,,METERS,DBAR,ITS-90,PSS-78,,PSS-78,,UMOL/KG,,UMOL/KG,,UMOL/KG,,UMOL/KG,,UMOL/KG,,UMOL/KG,,UMOL/KG,,PMOL/KG,,PMOL/KG,,PMOL/KG,,FMOL/KG,,UMOL/KG,,UMOL/KG,,,,DEG C,UMOL/KG,,ITS-90,,/MILLE,,/MILLE,UG/KG,,UG/KG,,UG/L,,UG/L,,UMOL/KG,,UMOL/KG,,VOLTS,,VOLTS,,NMOL/KG,,UMOL/L,,,,,,NMOL/L,,NMOL/L,,,,,,,
325020240221  ,I08        ,38      ,  1,36         ,36         ,2,20240319,0522, -47.7707,  92.5489,     3616,      5.2,   8.1909,  33.7934,2,  33.7932,2,    289.1,2,    288.8,2,     1.86,2,     0.38,2,    16.83,2,     0.26,2,     1.22,2,    3.382,2,    2.057,2,    0.406,4,   3.3170,2,   2105.3,3,   2271.3,2,   7.7833,2,    25.00,     -999,1,   8.1943,2,     -999,1,     -999,     -999,9,     -999,9,     -999,9,     -999,9,     -999,9,     -999,1,   0.0220,1,   4.5759,1,     11.2,2,     -999,9,20240319,0805, -47.7707,  92.5489,     -999,9,     -999,9,-999          ,9,-999          ,1,-999          ,1
325020240221  ,I08        ,38      ,  1,35         ,35         ,2,20240319,0522, -47.7707,  92.5489,     3616,     34.7,   8.1134,  33.8036,2,  33.8026,2,    289.0,2,    289.1,2,     1.76,2,     0.34,2,    16.88,2,     0.26,2,     1.20,2,    3.334,2,    2.051,2,    0.398,4,   3.3710,2,   2106.2,3,   2271.3,2,   7.7830,2,    24.99,     -999,1,   8.1114,2,     -999,1,     -999,     -999,9,     -999,9,     -999,9,     -999,9,     -999,9,     -999,1,   0.0354,1,   4.5659,1,     11.2,2,     -999,9,20240319,0802, -47.7707,  92.5490,     -999,9,     -999,9,-999          ,1,-999          ,9,-999          ,1
325020240221  ,I08        ,38      ,  1,34         ,34         ,2,20240319,0522, -47.7707,  92.5489,     3616,     59.5,   8.0113,  33.8755,2,  33.8752,2,    287.9,2,    288.0,2,     1.95,2,     0.30,2,    16.80,2,     0.26,2,     1.20,2,     -999,9,     -999,9,     -999,9,     -999,9,   2109.8,3,   2275.0,2,   7.7815,2,    25.02,     -999,1,   8.0127,2,     -999,1,     -999,     -999,9,     -999,9,     -999,9,     -999,9,     -999,9,     -999,1,   0.0531,1,   4.5763,1,     -999,9,     -999,9,20240319,0800, -47.7707,  92.5489,     -999,9,     -999,9,-999          ,9,-999          ,9,-999          ,9
325020240221  ,I08        ,38      ,  1,33         ,33         ,2,20240319,0522, -47.7707,  92.5489,     3616,     87.8,   7.8640,  33.9130,2,  33.8909,3,    286.1,2,    286.5,2,     2.15,2,     0.37,2,    17.15,2,     0.27,2,     1.24,2,    3.095,2,    1.927,2,    0.349,4,   3.3020,2,   2113.8,3,   2274.2,2,   7.7741,6,    25.03,     -999,1,   7.8154,2,     -999,9,     -999,     -999,9,     -999,9,     -999,9,     -999,9,     -999,9,     -999,1,   0.0459,1,   4.6082,1,     11.2,2,     -999,9,20240319,0757, -47.7707,  92.5490,     -999,9,     -999,9,-999          ,9,-999          ,9,-999          ,9
325020240221  ,I08        ,38      ,  1,32         ,32         ,2,20240319,0522, -47.7707,  92.5489,     3616,    110.9,   9.8066,  34.5653,2,  34.5627,2,    251.9,3,    248.9,2,     4.20,2,     0.01,2,    14.67,2,     0.02,2,     1.03,2,     -999,9,     -999,9,     -999,9,     -999,9,   2125.7,3,   2288.6,2,   7.7732,2,    25.01,     -999,1,   9.7986,2,     -999,1,     -999,     -999,9,     -999,9,     -999,9,     -999,9,     -999,9,     -999,1,   0.0208,1,   4.6728,1,     -999,9,     -999,9,20240319,0755, -47.7707,  92.5491,     -999,9,     -999,9,-999          ,9,-999          ,1,-999          ,1
325020240221  ,I08        ,38      ,  1,31         ,31         ,2,20240319,0522, -47.7707,  92.5489,     3616,    137.7,   9.9306,  34.6343,2,  34.6311,2,    243.0,2,    242.6,2,     4.78,2,     0.01,2,    14.87,2,     0.00,2,     1.04,2,    2.851,2,    1.765,2,    0.249,4,   2.5950,2,   2130.6,3,   2293.1,6,   7.7689,2,    24.99,     -999,1,   9.9269,2,     -999,9,     -999,     -999,9,     -999,9,     -999,9,     -999,9,     -999,9,     -999,1,   0.0189,1,   4.6776,1,     11.9,2,     -999,9,20240319,0751, -47.7707,  92.5491,     -999,9,     -999,9,-999          ,9,-999          ,9,-999          ,9
325020240221  ,I08        ,38      ,  1,30         ,30         ,2,20240319,0522, -47.7707,  92.5489,     3616,    164.9,   9.6064,  34.6125,2,  34.6097,2,    236.7,2,    236.8,2,     5.56,2,     0.02,2,    16.09,2,     0.00,2,     1.13,2,     -999,9,     -999,9,     -999,9,     -999,9,   2137.0,3,   2290.6,2,   7.7529,2,    25.00,     -999,1,   9.5903,2,     -999,1,     -999,     -999,9,     -999,9,     -999,9,     -999,9,     -999,9,     -999,1,   0.0183,1,   4.6777,1,     -999,9,     -999,9,20240319,0749, -47.7706,  92.5491,     -999,9,     -999,9,-999          ,9,-999          ,9,-999          ,1
325020240221  ,I08        ,38      ,  1,29         ,29         ,2,20240319,0522, -47.7707,  92.5489,     3616,    216.5,   8.6064,  34.5153,2,  34.5152,2,    231.1,2,    231.9,2,     7.52,2,     0.00,2,    18.91,2,     0.00,2,     1.32,2,    2.761,2,    1.821,2,    0.251,4,   2.2390,2,   2147.0,3,   2286.3,2,   7.7201,2,    25.03,     -999,1,   8.5896,2,     -999,1,     -999,     -999,9,     -999,9,     -999,9,     -999,9,     -999,9,     -999,1,   0.0183,1,   4.6773,1,     13.5,2,     -999,9,20240319,0745, -47.7706,  92.5491,     -999,9,     -999,9,-999          ,9,-999          ,1,-999          ,1
325020240221  ,I08        ,38      ,  1,28         ,28         ,2,20240319,0522, -47.7707,  92.5489,     3616,    265.6,   7.8723,  34.4527,2,  34.4526,2,    229.4,2,    229.0,2,     9.28,2,     0.00,2,    20.93,2,     0.00,2,     1.43,2,     -999,9,     -999,9,     -999,9,     -999,9,   2152.3,3,   2285.0,2,   7.6974,2,    25.02,     -999,1,   7.8614,2,     -999,9,     -999,     -999,9,     -999,9,     -999,9,     -999,9,     -999,9,     -999,1,   0.0183,1,   4.6776,1,     -999,9,     -999,9,20240319,0741, -47.7705,  92.5491,     -999,9,     -999,9,-999          ,9,-999          ,9,-999          ,9
325020240221  ,I08        ,38      ,  1,27         ,27         ,2,20240319,0522, -47.7707,  92.5489,     3616,    320.0,   7.2293,  34.4162,2,  34.4129,2,    226.6,2,    225.2,2,    11.81,2,     0.01,2,    22.91,2,     0.00,2,     1.56,2,    3.018,2,    1.842,2,    0.235,4,   1.8870,2,   2161.5,3,   2284.2,2,   7.6768,2,    25.00,     -999,1,   7.2254,2,     -999,1,     -999,     -999,9,     -999,9,     -999,9,     -999,9,     -999,9,     -999,1,   0.0178,1,   4.6799,1,     14.8,2,     -999,9,20240319,0738, -47.7704,  92.5490,     -999,9,     -999,9,-999          ,9,-999          ,9,-999          ,9
325020240221  ,I08        ,38      ,  1,26         ,26         ,2,20240319,0522, -47.7707,  92.5489,     3616,    366.1,   6.7584,  34.3940,2,  34.3939,2,    220.4,2,    221.1,2,    13.87,2,     0.01,2,    24.43,2,     0.00,2,     1.67,2,     -999,9,     -999,9,     -999,9,     -999,9,   2168.1,3,   2284.8,2,   7.6621,2,    24.99,     -999,1,   6.7577,2,     -999,9,     -999,     -999,9,     -999,9,     -999,9,     -999,9,     -999,9,     -999,1,   0.0183,1,   4.6802,1,     -999,9,     -999,9,20240319,0734, -47.7703,  92.5491,     -999,9,     -999,9,-999          ,9,-999          ,9,-999          ,9
325020240221  ,I08        ,38      ,  1,25         ,25         ,2,20240319,0522, -47.7707,  92.5489,     3616,    415.7,   6.1654,  34.3530,2,  34.3537,2,    220.8,2,    221.5,2,    16.21,2,     0.00,2,    25.96,2,     0.00,2,     1.75,2,    2.900,2,    1.741,2,    0.231,4,   1.6660,2,   2172.0,3,   2286.7,2,   7.6475,2,    25.02,     -999,1,   6.1644,2,     -999,1,     -999,     -999,9,     -999,9,     -999,9,     -999,9,     -999,9,     -999,1,   0.0183,1,   4.6815,1,     15.9,2,     -999,9,20240319,0729, -47.7702,  92.5491,     -999,9,     -999,9,-999          ,9,-999          ,9,-999          ,9
325020240221  ,I08        ,38      ,  1,24         ,24         ,2,20240319,0522, -47.7707,  92.5489,     3616,    468.4,   5.6780,  34.3236,2,  34.3235,2,    221.4,2,    222.3,2,    18.36,2,     0.00,2,    27.07,2,     0.00,2,     1.83,2,     -999,9,     -999,9,     -999,9,     -999,9,   2178.3,3,   2284.7,2,   7.6389,2,    25.01,     -999,1,   5.6803,2,     -999,9,     -999,     -999,9,     -999,9,     -999,9,     -999,9,     -999,9,     -999,1,   0.0171,1,   4.6837,1,     -999,9,     -999,9,20240319,0726, -47.7702,  92.5489,     -999,9,     -999,9,-999          ,9,-999          ,9,-999          ,1
325020240221  ,I08        ,38      ,  1,23         ,37         ,2,20240319,0522, -47.7707,  92.5489,     3616,    538.9,   5.0420,  34.2951,2,  34.2956,2,    221.9,2,    222.6,2,    22.07,2,     0.01,2,    28.46,2,     0.00,2,     1.93,2,    2.691,2,    1.652,2,    0.217,4,   1.3930,2,   2182.6,3,   2286.4,2,   7.6278,2,    24.99,     -999,1,   5.0431,2,     -999,9,     -999,     -999,9,     -999,9,     -999,9,     -999,9,     -999,9,     -999,1,   0.0183,1,   4.6849,1,     16.8,2,     -999,9,20240319,0722, -47.7701,  92.5490,     -999,9,     -999,9,-999          ,9,-999          ,9,-999          ,9
325020240221  ,I08        ,38      ,  1,22         ,22         ,2,20240319,0522, -47.7707,  92.5489,     3616,    641.6,   4.1946,  34.2696,2,  34.2693,2,    222.5,2,    221.7,2,    28.51,2,     0.02,2,    30.35,2,     0.00,2,     2.06,2,     -999,9,     -999,9,     -999,9,     -999,9,   2192.5,3,   2289.6,2,   7.6102,2,    25.00,     -999,1,   4.1925,2,     -999,1,     -999,     -999,9,     -999,9,     -999,9,     -999,9,     -999,9,     -999,1,   0.0183,1,   4.6764,1,     -999,9,     -999,9,20240319,0717, -47.7699,  92.5492,     -999,9,     -999,9,-999          ,9,-999          ,9,-999          ,9
325020240221  ,I08        ,38      ,  1,21         ,21         ,2,20240319,0522, -47.7707,  92.5489,     3616,    742.3,   3.8034,  34.3036,2,  34.3021,2,    211.7,2,    211.3,2,    35.84,2,     0.01,2,    31.59,2,     0.00,2,     2.15,2,    2.132,2,    1.335,2,    0.159,4,   1.0290,2,   2203.6,3,   2297.0,2,   7.5963,2,    25.02,     -999,1,   3.8050,2,     -999,9,     -999,     -999,9,     -999,9,     -999,9,     -999,9,     -999,9,     -999,1,   0.0183,1,   4.6691,1,     18.9,2,     -999,9,20240319,0710, -47.7699,  92.5492,     -999,9,     -999,9,-999          ,9,-999          ,9,-999          ,9
325020240221  ,I08        ,38      ,  1,20         ,20         ,2,20240319,0522, -47.7707,  92.5489,     3616,    844.1,   3.2791,  34.3250,2,  34.3244,2,    203.9,2,    205.0,2,    44.23,2,     0.01,2,    32.93,2,     0.00,2,     2.24,2,     -999,9,     -999,9,     -999,9,     -999,9,   2218.2,3,   2304.0,2,   7.5776,2,    25.02,     -999,1,   3.2785,2,     -999,1,     -999,     -999,9,     -999,9,     -999,9,     -999,9,     -999,9,     -999,1,   0.0183,1,   4.6640,1,     -999,9,     -999,9,20240319,0705, -47.7699,  92.5492,     -999,9,     -999,9,-999          ,9,-999          ,9,-999          ,9
325020240221  ,I08        ,38      ,  1,19         ,19         ,2,20240319,0522, -47.7707,  92.5489,     3616,    946.8,   3.1693,  34.3903,2,  34.3917,2,    190.7,2,    190.8,2,    51.65,2,     0.00,2,    33.70,2,     0.00,2,     2.29,2,    1.299,2,    0.887,2,    0.097,4,   0.6580,2,   2227.8,3,   2310.1,2,   7.5667,6,    25.01,     -999,1,   3.1687,2,     -999,9,     -999,     -999,9,     -999,9,     -999,9,     -999,9,     -999,9,     -999,1,   0.0183,1,   4.6618,1,     20.9,2,     -999,9,20240319,0701, -47.7700,  92.5490,     -999,9,     -999,9,-999          ,9,-999          ,9,-999          ,9
325020240221  ,I08        ,38      ,  1,18         ,18         ,2,20240319,0522, -47.7707,  92.5489,     3616,   1045.1,   2.9868,  34.4389,2,  34.4390,2,    183.0,2,    182.9,2,    57.90,2,     0.01,2,    34.23,2,     0.00,2,     2.31,2,     -999,9,     -999,9,     -999,9,     -999,9,   2235.6,3,   2317.8,2,   7.5595,2,    25.02,     -999,1,   2.9869,2,     -999,1,     -999,     -999,9,     -999,9,     -999,9,     -999,9,     -999,9,     -999,1,   0.0180,1,   4.6593,1,     -999,9,     -999,9,20240319,0656, -47.7699,  92.5492,     -999,9,     -999,9,-999          ,9,-999          ,1,-999          ,1
325020240221  ,I08        ,38      ,  1,17         ,17         ,2,20240319,0522, -47.7707,  92.5489,     3616,   1147.0,   2.9031,  34.4980,2,  34.4995,2,    176.5,2,    176.9,2,    62.97,2,     0.00,2,    34.03,2,     0.00,2,     2.28,2,    0.719,2,    0.487,2,    0.053,4,   0.3070,2,   2243.1,3,   2323.4,2,   7.5597,2,    25.00,     -999,1,   2.9001,2,     -999,9,     -999,     -999,9,     -999,9,     -999,9,     -999,9,     -999,9,     -999,1,   0.0183,1,   4.6580,1,     21.3,2,     -999,9,20240319,0652, -47.7698,  92.5492,     -999,9,     -999,9,-999          ,9,-999          ,9,-999          ,9
325020240221  ,I08        ,38      ,  1,16         ,16         ,2,20240319,0522, -47.7707,  92.5489,     3616,   1249.3,   2.7345,  34.5484,2,  34.5476,2,    174.3,2,    174.4,2,    67.76,2,     0.01,2,    33.79,2,     0.00,2,     2.30,2,     -999,9,     -999,9,     -999,9,     -999,9,   2247.1,3,   2328.4,2,   7.5597,2,    25.01,     -999,1,   2.7346,2,     -999,1,     -999,     -999,9,     -999,9,     -999,9,     -999,9,     -999,9,     -999,1,   0.0183,1,   4.6568,1,     -999,9,     -999,9,20240319,0648, -47.7699,  92.5492,     -999,9,     -999,9,-999          ,9,-999          ,9,-999          ,9
325020240221  ,I08        ,38      ,  1,15         ,15         ,2,20240319,0522, -47.7707,  92.5489,     3616,   1349.1,   2.6299,  34.5839,2,  34.5847,2,    173.9,2,    174.4,2,    70.59,2,     0.02,2,    33.37,2,     0.00,2,     2.28,2,    0.437,2,    0.309,2,    0.026,4,   0.0530,2,   2248.6,3,   2331.7,2,   7.5619,2,    25.01,     -999,1,   2.6326,2,     -999,9,     -999,     -999,9,     -999,9,     -999,9,     -999,9,     -999,9,     -999,1,   0.0183,1,   4.6564,1,     20.9,2,     -999,9,20240319,0644, -47.7698,  92.5492,     -999,9,     -999,9,-999          ,9,-999          ,9,-999          ,9
325020240221  ,I08        ,38      ,  1,14         ,14         ,2,20240319,0522, -47.7707,  92.5489,     3616,   1451.7,   2.6136,  34.6240,2,  34.6242,2,    175.1,2,    175.1,2,    71.95,2,     0.01,2,    32.72,2,     0.00,2,     2.25,2,     -999,9,     -999,9,     -999,9,     -999,9,   2247.4,3,   2335.8,2,   7.5715,6,    25.02,     -999,1,   2.6136,2,     -999,1,     -999,     -999,9,     -999,9,     -999,9,     -999,9,     -999,9,     -999,1,   0.0183,1,   4.6556,1,     -999,9,     -999,9,20240319,0640, -47.7697,  92.5494,     -999,9,     -999,9,-999          ,9,-999          ,9,-999          ,9
325020240221  ,I08        ,38      ,  1,13         ,13         ,2,20240319,0522, -47.7707,  92.5489,     3616,   1551.9,   2.5628,  34.6603,2,  34.6594,2,    177.7,2,    177.7,2,    73.02,2,     0.01,2,    32.13,2,     0.00,2,     2.23,2,    0.245,2,    0.183,2,    0.017,4,   0.0000,2,   2247.5,3,   2337.8,6,   7.5806,2,    24.99,     -999,1,   2.5640,2,     -999,9,     -999,     -999,9,     -999,9,     -999,9,     -999,9,     -999,9,     -999,1,   0.0183,1,   4.6553,1,     20.0,2,     -999,9,20240319,0636, -47.7697,  92.5494,     -999,9,     -999,9,-999          ,9,-999          ,9,-999          ,9
325020240221  ,I08        ,38      ,  1,12         ,12         ,2,20240319,0522, -47.7707,  92.5489,     3616,   1655.5,   2.5043,  34.6858,2,  34.6863,2,    180.9,2,    180.7,2,    74.29,2,     0.01,2,    31.65,2,     0.00,2,     2.17,2,     -999,9,     -999,9,     -999,9,     -999,9,   2248.2,3,   2340.9,2,   7.5893,6,    25.01,     -999,1,   2.5035,2,     -999,1,     -999,     -999,9,     -999,9,     -999,9,     -999,9,     -999,9,     -999,1,   0.0183,1,   4.6544,1,     -999,9,     -999,9,20240319,0632, -47.7696,  92.5492,     -999,9,     -999,9,-999          ,9,-999          ,9,-999          ,9
325020240221  ,I08        ,38      ,  1,11         ,11         ,2,20240319,0522, -47.7707,  92.5489,     3616,   1755.4,   2.4293,  34.7095,2,  34.7099,2,    184.5,2,    184.5,2,    75.46,2,     0.01,2,    31.22,2,     0.00,2,     2.14,2,    0.160,2,    0.121,2,    0.014,4,   0.0000,2,   2243.3,3,   2342.0,2,   7.5964,2,    25.02,     -999,1,   2.4294,2,     -999,9,     -999,     -999,9,     -999,9,     -999,9,     -999,9,     -999,9,     -999,1,   0.0183,1,   4.6539,1,     19.2,2,     -999,9,20240319,0627, -47.7696,  92.5492,     -999,9,     -999,9,-999          ,9,-999          ,9,-999          ,9
325020240221  ,I08        ,38      ,  1,10         ,10         ,2,20240319,0522, -47.7707,  92.5489,     3616,   1888.9,   2.3382,  34.7320,2,  34.7321,2,    189.1,2,    189.7,2,    76.92,2,     0.03,2,    30.64,2,     0.00,2,     2.12,2,     -999,9,     -999,9,     -999,9,     -999,9,   2242.5,3,   2345.1,2,   7.6076,2,    24.99,     -999,1,   2.3383,2,     -999,1,     -999,     -999,9,     -999,9,     -999,9,     -999,9,     -999,9,     -999,1,   0.0179,1,   4.6520,1,     -999,9,     -999,9,20240319,0622, -47.7696,  92.5491,     -999,9,     -999,9,-999          ,9,-999          ,9,-999          ,9
325020240221  ,I08        ,38      ,  1,9          ,9          ,2,20240319,0522, -47.7707,  92.5489,     3616,   2092.4,   2.1944,  34.7481,2,  34.7484,2,    193.6,2,    193.2,2,    80.34,2,     0.03,2,    30.25,2,     0.00,2,     2.08,2,    0.098,4,    0.081,2,   -0.003,4,   0.0000,2,   2242.4,3,   2348.2,2,   7.6162,2,    24.99,     -999,1,   2.1946,2,     -999,1,     -999,     -999,9,     -999,9,     -999,9,     -999,9,     -999,9,     -999,1,   0.0186,1,   4.6508,1,     18.2,2,     -999,9,20240319,0614, -47.7693,  92.5492,     -999,9,     -999,9,-999          ,9,-999          ,9,-999          ,9
325020240221  ,I08        ,38      ,  1,8          ,8          ,2,20240319,0522, -47.7707,  92.5489,     3616,   2298.3,   2.0303,  34.7541,2,  34.7545,2,    196.7,2,    196.5,2,    84.93,2,     0.02,2,    30.22,2,     0.00,2,     2.08,2,     -999,9,     -999,9,     -999,9,     -999,9,   2245.0,3,   2350.7,2,   7.6207,6,    25.02,     -999,1,   2.0302,2,     -999,9,     -999,     -999,9,     -999,9,     -999,9,     -999,9,     -999,9,     -999,1,   0.0183,1,   4.6483,1,     -999,9,     -999,9,20240319,0607, -47.7693,  92.5492,     -999,9,     -999,9,-999          ,9,-999          ,9,-999          ,9
325020240221  ,I08        ,38      ,  1,7          ,7          ,2,20240319,0522, -47.7707,  92.5489,     3616,   2501.4,   1.8211,  34.7510,2,  34.7510,2,    198.7,2,    198.9,2,    91.17,2,     0.02,2,    30.48,2,     0.00,2,     2.09,2,    0.090,4,    0.073,2,    0.017,4,   0.0000,2,   2248.8,3,   2353.7,2,   7.6208,2,    25.01,     -999,1,   1.8222,2,     -999,1,     -999,     -999,9,     -999,9,     -999,9,     -999,9,     -999,9,     -999,1,   0.0183,1,   4.6452,1,     17.9,2,     -999,9,20240319,0601, -47.7692,  92.5495,     -999,9,     -999,9,-999          ,9,-999          ,9,-999          ,9
325020240221  ,I08        ,38      ,  1,6          ,6          ,2,20240319,0522, -47.7707,  92.5489,     3616,   2705.3,   1.6058,  34.7427,2,  34.7425,2,    200.5,2,    200.5,2,    98.30,2,     0.00,2,    30.89,2,     0.00,2,     2.14,2,     -999,9,     -999,9,     -999,9,     -999,9,   2252.2,3,   2357.8,2,   7.6189,2,    25.00,     -999,1,   1.6067,2,     -999,9,     -999,     -999,9,     -999,9,     -999,9,     -999,9,     -999,9,     -999,1,   0.0199,1,   4.6421,1,     -999,9,     -999,9,20240319,0555, -47.7692,  92.5493,     -999,9,     -999,9,-999          ,9,-999          ,9,-999          ,9