BOTTLE,20240417CCHHYDRO
EXPOCODE,SECT_ID,STNNBR,CASTNO,SAMPNO,BTLNBR,BTLNBR_FLAG_W,DATE,TIME,LATITUDE,LONGITUDE,DEPTH,CTDPRS,CTDTMP,CTDSAL,CTDSAL_FLAG_W,SALNTY,SALNTY_FLAG_W,CTDOXY,CTDOXY_FLAG_W,OXYGEN,OXYGEN_FLAG_W,SILCAT,SILCAT_FLAG_W,NH4,NH4_FLAG_W,NITRAT,NITRAT_FLAG_W,NITRIT,NITRIT_FLAG_W,PHSPHT,PHSPHT_FLAG_W,CFC-11,CFC-11_FLAG_W,CFC-12,CFC-12_FLAG_W,CFC113,CFC113_FLAG_W,SF6,SF6_FLAG_W,TCARBN,TCARBN_FLAG_W,ALKALI,ALKALI_FLAG_W,PH_TOT,PH_TOT_FLAG_W,PH_TMP,DOC,DOC_FLAG_W,REFTMP,REFTMP_FLAG_W,DELC14,DELC14_FLAG_W,C14ERR,POC,POC_FLAG_W,PON,PON_FLAG_W,POP,POP_FLAG_W,PCOD,PCOD_FLAG_W,DOP,DOP_FLAG_W,TDN,TDN_FLAG_W,CTDFLUOR,CTDFLUOR_FLAG_W,CTDXMISS,CTDXMISS_FLAG_W,N2O,N2O_FLAG_W,ARGON,ARGON_FLAG_W,BTL_DATE,BTL_TIME,BTL_LAT,BTL_LON,KRYPTON,KRYPTON_FLAG_W,XENON,XENON_FLAG_W,HPLC,HPLC_FLAG_W,DNA,DNA_FLAG_W,FCM,FCM_FLAG_W
,,,,,,,,,,,METERS,DBAR,ITS-90,PSS-78,,PSS-78,,UMOL/KG,,UMOL/KG,,UMOL/KG,,UMOL/KG,,UMOL/KG,,UMOL/KG,,UMOL/KG,,PMOL/KG,,PMOL/KG,,PMOL/KG,,FMOL/KG,,UMOL/KG,,UMOL/KG,,,,DEG C,UMOL/KG,,ITS-90,,/MILLE,,/MILLE,UG/KG,,UG/KG,,UG/L,,UG/L,,UMOL/KG,,UMOL/KG,,VOLTS,,VOLTS,,NMOL/KG,,UMOL/L,,,,,,NMOL/L,,NMOL/L,,,,,,,
325020240221  ,I08        ,4       ,  1,28         ,28         ,2,20240304,1335, -66.8212,  76.6914,     1507,      2.3,  -0.7994,  33.8919,2,  33.8907,2,    336.7,2,    337.2,2,    47.54,2,     1.26,2,    23.82,2,     0.16,2,     1.68,2,    5.346,2,    2.835,2,    0.447,2,   4.8630,2,   2176.2,3,   2299.5,2,   7.6768,2,    24.99,     -999,1,  -0.8018,2,     -999,9,     -999,     -999,9,     -999,9,     -999,9,     -999,9,     -999,9,     -999,1,   0.0558,1,   4.4527,1,     12.3,2,     -999,9,20240304,1442, -66.8212,  76.6914,     -999,9,     -999,9,-999          ,9,-999          ,9,-999          ,9
325020240221  ,I08        ,4       ,  1,27         ,27         ,2,20240304,1335, -66.8212,  76.6914,     1507,     24.9,  -0.7976,  33.8940,2,  33.8993,2,    336.0,2,    336.5,2,    47.84,2,     1.22,2,    23.94,2,     0.16,2,     1.72,2,     -999,9,     -999,9,     -999,9,     -999,9,   2177.7,3,   2299.8,2,   7.6757,2,    25.05,     -999,1,  -0.7988,2,     -999,9,     -999,     -999,9,     -999,9,     -999,9,     -999,9,     -999,9,     -999,1,   0.0580,1,   4.4554,1,     -999,9,     -999,9,20240304,1440, -66.8212,  76.6914,     -999,9,     -999,9,-999          ,9,-999          ,9,-999          ,9
325020240221  ,I08        ,4       ,  1,26         ,26         ,2,20240304,1335, -66.8212,  76.6914,     1507,     50.1,  -1.6013,  34.3204,2,  34.3125,2,    302.6,2,    303.6,2,    63.24,2,     0.46,2,    29.41,2,     0.20,2,     2.09,2,    4.814,2,    2.355,2,    0.366,2,   3.1990,2,   2221.2,3,   2320.3,2,   7.6043,2,    25.01,     -999,1,  -1.5955,2,     -999,9,     -999,     -999,9,     -999,9,     -999,9,     -999,9,     -999,9,     -999,1,   0.0634,1,   4.5323,1,     13.4,2,     -999,9,20240304,1438, -66.8212,  76.6914,     -999,9,     -999,9,-999          ,9,-999          ,9,-999          ,9
325020240221  ,I08        ,4       ,  1,25         ,25         ,2,20240304,1335, -66.8212,  76.6914,     1507,     75.4,  -1.6815,  34.3677,2,  34.3686,2,    299.6,2,    300.4,2,    65.97,2,     0.14,2,    29.93,2,     0.21,2,     2.12,2,     -999,9,     -999,9,     -999,9,     -999,9,   2228.1,3,   2325.8,2,   7.5974,6,    25.04,     -999,1,  -1.6826,2,     -999,9,     -999,     -999,9,     -999,9,     -999,9,     -999,9,     -999,9,     -999,1,   0.0366,1,   4.5299,1,     -999,9,     -999,9,20240304,1436, -66.8212,  76.6914,     -999,9,     -999,9,-999          ,9,-999          ,9,-999          ,9
325020240221  ,I08        ,4       ,  1,24         ,24         ,2,20240304,1335, -66.8212,  76.6914,     1507,     99.8,  -1.6903,  34.3825,2,  34.3800,2,    300.7,2,    301.3,2,    65.97,2,     0.03,2,    29.93,2,     0.15,2,     2.09,2,    4.663,2,    2.430,2,    0.368,2,   3.0610,2,   2228.8,3,   2324.6,2,   7.5973,2,    25.05,     -999,1,  -1.6904,2,     -999,9,     -999,     -999,9,     -999,9,     -999,9,     -999,9,     -999,9,     -999,1,   0.0263,1,   4.5298,1,     13.4,2,     -999,9,20240304,1434, -66.8212,  76.6914,     -999,9,     -999,9,-999          ,9,-999          ,9,-999          ,9
325020240221  ,I08        ,4       ,  1,23         ,23         ,2,20240304,1335, -66.8212,  76.6914,     1507,    125.4,  -1.6787,  34.3888,2,  34.3859,2,    301.2,2,    301.4,2,    65.87,2,     0.02,2,    29.90,2,     0.07,2,     2.10,2,     -999,9,     -999,9,     -999,9,     -999,9,   2228.8,3,   2325.7,2,   7.5993,2,    25.05,     -999,1,  -1.6815,2,     -999,9,     -999,     -999,9,     -999,9,     -999,9,     -999,9,     -999,9,     -999,1,   0.0220,1,   4.5299,1,     -999,9,     -999,9,20240304,1432, -66.8212,  76.6914,     -999,9,     -999,9,-999          ,9,-999          ,9,-999          ,9
325020240221  ,I08        ,4       ,  1,22         ,22         ,2,20240304,1335, -66.8212,  76.6914,     1507,    151.2,  -1.6503,  34.3987,2,  34.3982,2,    302.2,2,    302.8,2,    66.65,2,     0.02,2,    29.82,2,     0.02,2,     2.11,2,    4.494,2,    2.424,2,    0.368,2,   3.1910,2,   2230.1,3,   2326.3,2,   7.6010,2,    25.03,     -999,1,  -1.6509,2,     -999,9,     -999,     -999,9,     -999,9,     -999,9,     -999,9,     -999,9,     -999,1,   0.0195,1,   4.5323,1,     13.2,2,     -999,9,20240304,1429, -66.8212,  76.6913,     -999,9,     -999,9,-999          ,9,-999          ,9,-999          ,9
325020240221  ,I08        ,4       ,  1,21         ,21         ,2,20240304,1335, -66.8212,  76.6914,     1507,    175.1,  -1.6129,  34.4060,2,  34.4037,2,    301.9,2,    302.0,2,    66.36,2,     0.00,2,    29.89,2,     0.00,2,     2.11,2,     -999,9,     -999,9,     -999,9,     -999,9,   2230.3,3,   2327.5,2,   7.6021,2,    25.03,     -999,1,  -1.6129,2,     -999,9,     -999,     -999,9,     -999,9,     -999,9,     -999,9,     -999,9,     -999,1,   0.0187,1,   4.5324,1,     -999,9,     -999,9,20240304,1428, -66.8212,  76.6914,     -999,9,     -999,9,-999          ,9,-999          ,9,-999          ,9
325020240221  ,I08        ,4       ,  1,20         ,20         ,2,20240304,1335, -66.8212,  76.6914,     1507,    201.5,  -1.6074,  34.4118,2,  34.4112,2,    302.6,2,    302.6,2,    66.26,2,     0.00,2,    29.92,2,     0.00,2,     2.10,2,    4.747,2,    2.468,2,    0.369,2,   3.5340,2,   2228.8,3,   2327.5,2,   7.6028,6,    25.07,     -999,1,  -1.6063,2,     -999,9,     -999,     -999,9,     -999,9,     -999,9,     -999,9,     -999,9,     -999,1,   0.0179,1,   4.5347,1,     13.4,2,     -999,9,20240304,1426, -66.8212,  76.6913,     -999,9,     -999,9,-999          ,9,-999          ,9,-999          ,9
325020240221  ,I08        ,4       ,  1,19         ,19         ,2,20240304,1335, -66.8212,  76.6914,     1507,    226.8,  -1.5452,  34.4208,2,  34.4196,2,    301.1,2,    300.8,2,    66.75,2,     0.00,2,    29.97,2,     0.00,2,     2.12,2,     -999,9,     -999,9,     -999,9,     -999,9,   2230.3,3,   2329.6,6,   7.6027,2,    25.03,     -999,1,  -1.5447,2,     -999,9,     -999,     -999,9,     -999,9,     -999,9,     -999,9,     -999,9,     -999,1,   0.0181,1,   4.5361,1,     -999,9,     -999,9,20240304,1424, -66.8212,  76.6914,     -999,9,     -999,9,-999          ,9,-999          ,9,-999          ,9
325020240221  ,I08        ,4       ,  1,18         ,18         ,2,20240304,1335, -66.8212,  76.6914,     1507,    256.9,  -1.3833,  34.4380,2,  34.4369,2,    295.1,2,    295.2,2,    68.60,2,     0.00,2,    30.18,2,     0.00,2,     2.13,2,    4.330,2,    2.306,2,    0.347,2,   3.0250,2,   2231.0,3,   2330.7,2,   7.6005,2,    25.02,     -999,1,  -1.3860,2,     -999,9,     -999,     -999,9,     -999,9,     -999,9,     -999,9,     -999,9,     -999,1,   0.0181,1,   4.5397,1,     13.4,2,     -999,9,20240304,1422, -66.8212,  76.6914,     -999,9,     -999,9,-999          ,9,-999          ,9,-999          ,9
325020240221  ,I08        ,4       ,  1,17         ,17         ,2,20240304,1335, -66.8212,  76.6914,     1507,    302.3,  -1.0715,  34.4707,2,  34.4679,2,    282.9,2,    283.3,2,    72.12,2,     0.00,2,    30.57,2,     0.00,2,     2.14,2,     -999,9,     -999,9,     -999,9,     -999,9,   2235.7,3,   2334.3,2,   7.5982,2,    25.02,     -999,1,  -1.0769,2,     -999,9,     -999,     -999,9,     -999,9,     -999,9,     -999,9,     -999,9,     -999,1,   0.0181,1,   4.5446,1,     -999,9,     -999,9,20240304,1419, -66.8212,  76.6914,     -999,9,     -999,9,-999          ,9,-999          ,9,-999          ,9
325020240221  ,I08        ,4       ,  1,16         ,16         ,2,20240304,1335, -66.8212,  76.6914,     1507,    353.1,  -0.8732,  34.5004,2,  34.4991,2,    273.6,2,    274.0,2,    75.63,2,     0.00,2,    30.78,2,     0.00,2,     2.16,2,    3.754,2,    1.885,2,    0.287,2,   2.3260,2,   2238.1,3,   2335.6,2,   7.5938,2,    25.01,     -999,1,  -0.8734,2,     -999,9,     -999,     -999,9,     -999,9,     -999,9,     -999,9,     -999,9,     -999,1,   0.0178,1,   4.5481,1,     13.5,2,     -999,9,20240304,1417, -66.8212,  76.6913,     -999,9,     -999,9,-999          ,9,-999          ,9,-999          ,9
325020240221  ,I08        ,4       ,  1,15         ,15         ,2,20240304,1335, -66.8212,  76.6914,     1507,    404.1,  -0.5523,  34.5333,2,  34.5333,2,    260.7,2,    261.1,2,    80.80,2,     0.00,2,    30.98,2,     0.00,2,     2.16,2,     -999,9,     -999,9,     -999,9,     -999,9,   2240.8,3,   2338.0,2,   7.5940,2,    25.02,     -999,1,  -0.5527,2,     -999,9,     -999,     -999,9,     -999,9,     -999,9,     -999,9,     -999,9,     -999,1,   0.0176,1,   4.5515,1,     -999,9,     -999,9,20240304,1414, -66.8212,  76.6913,     -999,9,     -999,9,-999          ,9,-999          ,9,-999          ,9
325020240221  ,I08        ,4       ,  1,14         ,14         ,2,20240304,1335, -66.8212,  76.6914,     1507,    449.4,  -0.4388,  34.5484,2,  34.5461,2,    256.2,2,    256.5,2,    83.04,2,     0.00,2,    31.11,2,     0.00,2,     2.19,2,    3.001,2,    1.501,2,    0.234,2,   1.9380,2,   2242.8,3,   2338.1,2,   7.5935,2,    25.00,     -999,1,  -0.4412,2,     -999,9,     -999,     -999,9,     -999,9,     -999,9,     -999,9,     -999,9,     -999,1,   0.0179,1,   4.5548,1,     13.7,2,     -999,9,20240304,1411, -66.8212,  76.6913,     -999,9,     -999,9,-999          ,9,-999          ,9,-999          ,9
325020240221  ,I08        ,4       ,  1,13         ,13         ,2,20240304,1335, -66.8212,  76.6914,     1507,    499.4,  -0.1913,  34.5783,2,  34.5785,2,    245.7,2,    245.7,2,    85.67,2,     0.00,2,    31.42,2,     0.00,2,     2.21,2,     -999,9,     -999,9,     -999,9,     -999,9,   2245.3,3,   2342.2,2,   7.5914,6,    25.01,     -999,1,  -0.1904,2,     -999,9,     -999,     -999,9,     -999,9,     -999,9,     -999,9,     -999,9,     -999,1,   0.0180,1,   4.5580,1,     -999,9,     -999,9,20240304,1409, -66.8212,  76.6912,     -999,9,     -999,9,-999          ,9,-999          ,9,-999          ,9
325020240221  ,I08        ,4       ,  1,11         ,11         ,2,20240304,1335, -66.8212,  76.6914,     1507,    554.9,   0.0028,  34.6026,2,  34.6032,2,    238.1,2,    237.8,2,    89.57,2,     0.00,2,    31.55,2,     0.00,2,     2.21,2,    2.239,2,    1.101,2,    0.173,2,   1.3990,2,   2248.6,3,   2343.3,2,   7.5907,2,    25.02,     -999,1,   0.0014,2,     -999,9,     -999,     -999,9,     -999,9,     -999,9,     -999,9,     -999,9,     -999,1,   0.0177,1,   4.5616,1,     13.6,2,     -999,9,20240304,1406, -66.8212,  76.6911,     -999,9,     -999,9,-999          ,9,-999          ,9,-999          ,9
325020240221  ,I08        ,4       ,  1,10         ,10         ,2,20240304,1335, -66.8212,  76.6914,     1507,    616.4,   0.2892,  34.6414,2,  34.6378,2,    225.4,2,    226.5,2,    96.40,2,     0.00,2,    31.81,2,     0.00,2,     2.20,2,     -999,9,     -999,9,     -999,9,     -999,9,   2251.4,3,   2346.6,2,   7.5897,2,    25.02,     -999,1,   0.2785,2,     -999,9,     -999,     -999,9,     -999,9,     -999,9,     -999,9,     -999,9,     -999,1,   0.0177,1,   4.5652,1,     -999,9,     -999,9,20240304,1404, -66.8213,  76.6911,     -999,9,     -999,9,-999          ,9,-999          ,9,-999          ,9
325020240221  ,I08        ,4       ,  1,9          ,9          ,2,20240304,1335, -66.8212,  76.6914,     1507,    706.9,   0.5159,  34.6731,2,  34.6736,2,    214.3,2,    214.2,2,   105.28,2,     0.00,2,    32.09,2,     0.00,2,     2.21,2,    1.093,2,    0.538,2,    0.076,2,   0.6420,2,   2255.8,3,   2352.2,2,   7.5908,2,    25.01,     -999,1,   0.5122,2,     -999,9,     -999,     -999,9,     -999,9,     -999,9,     -999,9,     -999,9,     -999,1,   0.0182,1,   4.5658,1,     13.5,2,     -999,9,20240304,1401, -66.8213,  76.6911,     -999,9,     -999,9,-999          ,9,-999          ,9,-999          ,9
325020240221  ,I08        ,4       ,  1,8          ,8          ,2,20240304,1335, -66.8212,  76.6914,     1507,    808.8,   0.5022,  34.6770,2,  34.6769,2,    213.4,2,    213.5,2,   108.21,2,     0.00,2,    32.29,2,     0.00,2,     2.21,2,     -999,9,     -999,9,     -999,9,     -999,9,   2257.3,3,   2355.4,2,   7.5909,2,    25.01,     -999,1,   0.5009,2,     -999,9,     -999,     -999,9,     -999,9,     -999,9,     -999,9,     -999,9,     -999,1,   0.0182,1,   4.5660,1,     -999,9,     -999,9,20240304,1358, -66.8213,  76.6910,     -999,9,     -999,9,-999          ,9,-999          ,9,-999          ,9
325020240221  ,I08        ,4       ,  1,7          ,7          ,2,20240304,1335, -66.8212,  76.6914,     1507,    910.2,   0.4714,  34.6804,2,  34.6806,2,    212.9,2,    212.9,2,   111.72,2,     0.00,2,    32.32,2,     0.00,2,     2.23,2,    0.911,2,    0.445,2,    0.060,2,   0.4600,2,   2259.2,3,   2355.6,2,   7.5911,2,    25.02,     -999,1,   0.4707,2,     -999,9,     -999,     -999,9,     -999,9,     -999,9,     -999,9,     -999,9,     -999,1,   0.0173,1,   4.5657,1,     13.7,2,     -999,9,20240304,1354, -66.8213,  76.6910,     -999,9,     -999,9,-999          ,9,-999          ,9,-999          ,9
325020240221  ,I08        ,4       ,  1,6          ,6          ,2,20240304,1335, -66.8212,  76.6914,     1507,   1011.8,   0.4349,  34.6822,2,  34.6822,2,    212.7,2,    212.7,2,   115.42,2,     0.00,2,    32.41,2,     0.00,2,     2.24,2,     -999,9,     -999,9,     -999,9,     -999,9,   2259.3,3,   2357.7,2,   7.5909,2,    25.06,     -999,1,   0.4339,2,     -999,9,     -999,     -999,9,     -999,9,     -999,9,     -999,9,     -999,9,     -999,1,   0.0172,1,   4.5659,1,     -999,9,     -999,9,20240304,1351, -66.8213,  76.6910,     -999,9,     -999,9,-999          ,9,-999          ,9,-999          ,9
325020240221  ,I08        ,4       ,  1,5          ,5          ,2,20240304,1335, -66.8212,  76.6914,     1507,   1113.1,   0.3753,  34.6809,2,  34.6818,2,    213.4,2,    213.9,2,   117.28,2,     0.00,2,    32.33,2,     0.00,2,     2.23,2,    0.843,2,    0.397,2,    0.051,2,   0.4130,2,   2260.0,3,   2356.3,2,   7.5918,6,    25.04,     -999,1,   0.3724,2,     -999,9,     -999,     -999,9,     -999,9,     -999,9,     -999,9,     -999,9,     -999,1,   0.0178,1,   4.5647,1,     13.4,2,     -999,9,20240304,1348, -66.8213,  76.6910,     -999,9,     -999,9,-999          ,9,-999          ,9,-999          ,9
325020240221  ,I08        ,4       ,  1,4          ,4          ,2,20240304,1335, -66.8212,  76.6914,     1507,   1214.9,   0.3212,  34.6800,2,  34.6800,2,    214.3,2,    214.6,2,   119.23,2,     0.00,2,    32.36,2,     0.00,2,     2.24,2,     -999,9,     -999,9,     -999,9,     -999,9,   2260.8,3,   2356.9,6,   7.5913,2,    25.03,     -999,1,   0.3210,2,     -999,9,     -999,     -999,9,     -999,9,     -999,9,     -999,9,     -999,9,     -999,1,   0.0174,1,   4.5641,1,     -999,9,     -999,9,20240304,1345, -66.8213,  76.6910,     -999,9,     -999,9,-999          ,9,-999          ,9,-999          ,9
325020240221  ,I08        ,4       ,  1,3          ,3          ,2,20240304,1335, -66.8212,  76.6914,     1507,   1316.3,   0.2642,  34.6783,2,  34.6791,2,    215.8,2,    216.2,2,   121.08,2,     0.00,2,    32.32,2,     0.00,2,     2.23,2,    0.936,2,    0.426,2,    0.055,2,   0.3550,2,   2261.1,3,   2353.8,2,   7.5909,2,    25.05,     -999,1,   0.2633,2,     -999,9,     -999,     -999,9,     -999,9,     -999,9,     -999,9,     -999,9,     -999,1,   0.0169,1,   4.5641,1,     13.2,2,     -999,9,20240304,1342, -66.8213,  76.6910,     -999,9,     -999,9,-999          ,9,-999          ,9,-999          ,9
325020240221  ,I08        ,4       ,  1,2          ,2          ,2,20240304,1335, -66.8212,  76.6914,     1507,   1418.5,   0.2480,  34.6778,2,  34.6787,2,    216.4,2,    216.8,2,   122.06,2,     0.00,2,    32.41,2,     0.00,2,     2.26,2,     -999,9,     -999,9,     -999,9,     -999,9,   2259.0,3,   2356.8,2,   7.5912,2,    25.01,     -999,1,   0.2473,2,     -999,9,     -999,     -999,9,     -999,9,     -999,9,     -999,9,     -999,9,     -999,1,   0.0177,1,   4.5648,1,     -999,9,     -999,9,20240304,1339, -66.8213,  76.6910,     -999,9,     -999,9,-999          ,9,-999          ,9,-999          ,9
325020240221  ,I08        ,4       ,  1,1          ,1          ,2,20240304,1335, -66.8212,  76.6914,     1507,   1518.5,   0.2453,  34.6775,2,  34.6781,2,    216.7,2,    216.7,2,   121.77,2,     0.00,2,    32.27,2,     0.00,2,     2.26,2,    0.961,2,    0.432,2,    0.056,2,   0.3740,2,   2259.7,3,   2354.5,2,   7.5911,2,    24.99,     -999,1,   0.2443,2,     -999,9,     -999,     -999,9,     -999,9,     -999,9,     -999,9,     -999,9,     -999,1,   0.0195,1,   4.5652,1,      8.9,4,     -999,9,20240304,1335, -66.8213,  76.6910,     -999,9,     -999,9,-999          ,9,-999          ,9,-999          ,9