BOTTLE,20240417CCHHYDRO
EXPOCODE,SECT_ID,STNNBR,CASTNO,SAMPNO,BTLNBR,BTLNBR_FLAG_W,DATE,TIME,LATITUDE,LONGITUDE,DEPTH,CTDPRS,CTDTMP,CTDSAL,CTDSAL_FLAG_W,SALNTY,SALNTY_FLAG_W,CTDOXY,CTDOXY_FLAG_W,OXYGEN,OXYGEN_FLAG_W,SILCAT,SILCAT_FLAG_W,NH4,NH4_FLAG_W,NITRAT,NITRAT_FLAG_W,NITRIT,NITRIT_FLAG_W,PHSPHT,PHSPHT_FLAG_W,CFC-11,CFC-11_FLAG_W,CFC-12,CFC-12_FLAG_W,CFC113,CFC113_FLAG_W,SF6,SF6_FLAG_W,TCARBN,TCARBN_FLAG_W,ALKALI,ALKALI_FLAG_W,PH_TOT,PH_TOT_FLAG_W,PH_TMP,DOC,DOC_FLAG_W,REFTMP,REFTMP_FLAG_W,DELC14,DELC14_FLAG_W,C14ERR,POC,POC_FLAG_W,PON,PON_FLAG_W,POP,POP_FLAG_W,PCOD,PCOD_FLAG_W,DOP,DOP_FLAG_W,TDN,TDN_FLAG_W,CTDFLUOR,CTDFLUOR_FLAG_W,CTDXMISS,CTDXMISS_FLAG_W,N2O,N2O_FLAG_W,ARGON,ARGON_FLAG_W,BTL_DATE,BTL_TIME,BTL_LAT,BTL_LON,KRYPTON,KRYPTON_FLAG_W,XENON,XENON_FLAG_W,HPLC,HPLC_FLAG_W,DNA,DNA_FLAG_W,FCM,FCM_FLAG_W
,,,,,,,,,,,METERS,DBAR,ITS-90,PSS-78,,PSS-78,,UMOL/KG,,UMOL/KG,,UMOL/KG,,UMOL/KG,,UMOL/KG,,UMOL/KG,,UMOL/KG,,PMOL/KG,,PMOL/KG,,PMOL/KG,,FMOL/KG,,UMOL/KG,,UMOL/KG,,,,DEG C,UMOL/KG,,ITS-90,,/MILLE,,/MILLE,UG/KG,,UG/KG,,UG/L,,UG/L,,UMOL/KG,,UMOL/KG,,VOLTS,,VOLTS,,NMOL/KG,,UMOL/L,,,,,,NMOL/L,,NMOL/L,,,,,,,
325020240221  ,I08        ,11      ,  2,36         ,36         ,2,20240306,0823, -64.4868,  80.0002,     3609,      3.9,   0.7237,  33.8301,2,  33.8302,2,    330.5,2,    330.9,2,    36.82,2,     0.10,2,    24.44,2,     0.23,2,     1.62,2,    5.412,6,    2.737,6,    0.376,6,   4.5220,6,   2159.8,3,   2294.0,2,   7.7016,6,    25.04,     -999,1,   0.7236,2,     -999,9,     -999,     -999,9,     -999,9,     -999,9,     -999,9,     -999,9,     -999,1,   0.1838,1,   4.2098,1,     11.3,6,     -999,9,20240306,1030, -64.4868,  80.0002,     -999,9,     -999,9,-999          ,9,-999          ,9,-999          ,9
325020240221  ,I08        ,11      ,  2,35         ,35         ,2,20240306,0823, -64.4868,  80.0002,     3609,     35.6,   0.7302,  33.8567,2,  33.8576,2,    328.3,2,    328.0,2,    37.80,2,     0.06,2,    25.07,2,     0.24,2,     1.71,2,    5.036,2,    2.785,2,    0.365,2,   4.4880,2,   2165.8,3,   2294.0,2,   7.6932,2,    25.04,     -999,9,   0.7298,2,     -999,9,     -999,     -999,9,     -999,9,     -999,9,     -999,9,     -999,9,     -999,9,   0.2300,1,   4.2099,1,     11.6,2,     -999,9,20240306,1026, -64.4868,  80.0003,     -999,9,     -999,9,-999          ,9,-999          ,9,-999          ,9
325020240221  ,I08        ,11      ,  2,34         ,34         ,2,20240306,0823, -64.4868,  80.0002,     3609,     60.6,  -1.4124,  34.2017,2,  34.1975,2,    294.2,2,    293.8,2,    60.05,2,     0.63,2,    29.70,2,     0.13,2,     2.15,2,    4.214,2,    2.132,2,    0.301,2,   2.9150,2,   2217.4,3,   2314.5,2,   7.6032,2,    25.03,     -999,9,  -1.4138,2,     -999,9,     -999,     -999,9,     -999,9,     -999,9,     -999,9,     -999,9,     -999,9,   0.0452,1,   4.5790,1,     13.6,2,     -999,9,20240306,1024, -64.4868,  80.0002,     -999,9,     -999,9,-999          ,9,-999          ,9,-999          ,9
325020240221  ,I08        ,11      ,  2,33         ,33         ,2,20240306,0823, -64.4868,  80.0002,     3609,     84.9,  -1.2608,  34.2884,2,  34.2852,2,    279.5,2,    277.9,2,    65.13,2,     0.31,2,    30.81,2,     0.17,2,     2.20,2,    4.382,2,    2.013,2,    0.279,2,   2.6680,2,   2223.6,3,   2318.6,2,   7.5861,6,    25.01,     -999,9,  -1.2654,2,     -999,9,     -999,     -999,9,     -999,9,     -999,9,     -999,9,     -999,9,     -999,9,   0.0301,1,   4.5860,1,     14.4,2,     -999,9,20240306,1021, -64.4868,  80.0002,     -999,9,     -999,9,-999          ,9,-999          ,9,-999          ,9
325020240221  ,I08        ,11      ,  2,32         ,32         ,2,20240306,0823, -64.4868,  80.0002,     3609,    109.7,  -0.6970,  34.3816,2,  34.3780,2,    257.7,2,    258.4,2,    70.30,2,     0.00,2,    31.86,2,     0.07,2,     2.20,2,    8.021,4,    1.791,2,    0.251,2,   2.4150,2,   2233.0,3,   2322.9,2,   7.5727,2,    24.97,     -999,9,  -0.6964,2,     -999,9,     -999,     -999,9,     -999,9,     -999,9,     -999,9,     -999,9,     -999,9,   0.0237,1,   4.5925,1,     25.2,4,     -999,9,20240306,1019, -64.4868,  80.0002,     -999,9,     -999,9,-999          ,9,-999          ,9,-999          ,9
325020240221  ,I08        ,11      ,  2,31         ,31         ,2,20240306,0823, -64.4868,  80.0002,     3609,    140.0,   0.0722,  34.4710,2,  34.4697,2,    232.0,2,    233.0,2,    76.15,2,     0.00,2,    32.49,2,     0.02,2,     2.23,2,    3.911,2,    1.547,2,    0.184,2,   1.8110,2,   2244.8,3,   2329.3,2,   7.5644,2,    24.98,     -999,9,   0.0699,2,     -999,9,     -999,     -999,9,     -999,9,     -999,9,     -999,9,     -999,9,     -999,9,   0.0214,1,   4.6007,1,     -0.6,4,     -999,9,20240306,1016, -64.4868,  80.0003,     -999,9,     -999,9,-999          ,9,-999          ,9,-999          ,9
325020240221  ,I08        ,11      ,  2,30         ,30         ,2,20240306,0823, -64.4868,  80.0002,     3609,    177.2,   0.1907,  34.5081,2,  34.5036,2,    230.3,2,    230.0,2,    77.71,2,     0.00,2,    32.32,2,     0.02,2,     2.22,2,    2.588,2,    1.326,2,    0.186,2,   1.7350,2,   2245.9,3,   2336.8,2,   7.5662,2,    24.98,     -999,9,   0.1706,2,     -999,9,     -999,     -999,9,     -999,9,     -999,9,     -999,9,     -999,9,     -999,9,   0.0202,1,   4.6056,1,     14.9,2,     -999,9,20240306,1014, -64.4868,  80.0002,     -999,9,     -999,9,-999          ,9,-999          ,9,-999          ,9
325020240221  ,I08        ,11      ,  2,29         ,29         ,2,20240306,0823, -64.4868,  80.0002,     3609,    221.2,   0.9430,  34.5919,2,  34.5867,2,    203.3,2,    204.7,2,    82.49,2,     0.00,2,    32.63,2,     0.00,2,     2.23,2,    1.650,2,    0.865,2,    0.119,2,   0.9510,2,   2251.6,3,   2338.4,2,   7.5614,2,    24.98,     -999,9,   0.9617,2,     -999,9,     -999,     -999,9,     -999,9,     -999,9,     -999,9,     -999,9,     -999,9,   0.0191,1,   4.6146,1,     15.5,2,     -999,9,20240306,1011, -64.4868,  80.0002,     -999,9,     -999,9,-999          ,9,-999          ,9,-999          ,9
325020240221  ,I08        ,11      ,  2,28         ,28         ,2,20240306,0823, -64.4868,  80.0002,     3609,    268.0,   1.3465,  34.6439,2,  34.6433,2,    192.4,2,    191.4,2,    86.49,2,     0.02,2,    32.40,2,     0.00,2,     2.22,2,    1.112,2,    0.555,2,    0.071,2,   0.6090,2,   2255.7,3,   2340.7,2,   7.5643,2,    24.98,     -999,9,   1.3451,2,     -999,9,     -999,     -999,9,     -999,9,     -999,9,     -999,9,     -999,9,     -999,9,   0.0190,1,   4.6176,1,     15.3,2,     -999,9,20240306,1008, -64.4868,  80.0002,     -999,9,     -999,9,-999          ,9,-999          ,9,-999          ,9
325020240221  ,I08        ,11      ,  2,27         ,27         ,2,20240306,0823, -64.4868,  80.0002,     3609,    317.2,   1.4116,  34.6655,2,  34.6651,2,    190.9,2,    190.9,2,    87.66,2,     0.00,2,    32.01,2,     0.00,2,     2.19,2,    0.949,2,    0.479,2,    0.058,2,   0.6110,2,   2254.7,3,   2345.8,2,   7.5692,2,    24.98,     -999,9,   1.4121,2,     -999,9,     -999,     -999,9,     -999,9,     -999,9,     -999,9,     -999,9,     -999,9,   0.0188,1,   4.6188,1,     15.0,2,     -999,9,20240306,1005, -64.4867,  80.0002,     -999,9,     -999,9,-999          ,9,-999          ,9,-999          ,9
325020240221  ,I08        ,11      ,  2,26         ,26         ,2,20240306,0823, -64.4868,  80.0002,     3609,    367.5,   1.4633,  34.6832,2,  34.6818,2,    190.4,2,    190.5,2,    88.83,2,     0.00,2,    31.65,2,     0.00,2,     2.17,2,    0.864,2,    0.429,2,    0.055,2,   0.6580,2,   2253.3,3,   2348.0,2,   7.5748,2,    25.05,     -999,9,   1.4615,2,     -999,9,     -999,     -999,9,     -999,9,     -999,9,     -999,9,     -999,9,     -999,9,   0.0189,1,   4.6190,1,     14.6,2,     -999,9,20240306,1002, -64.4868,  80.0002,     -999,9,     -999,9,-999          ,9,-999          ,9,-999          ,9
325020240221  ,I08        ,11      ,  2,25         ,25         ,2,20240306,0823, -64.4868,  80.0002,     3609,    418.8,   1.4778,  34.6956,2,  34.6950,2,    191.0,2,    190.9,2,    89.90,2,     0.00,2,    31.40,2,     0.00,2,     2.17,2,    0.716,2,    0.360,2,    0.045,2,   0.3640,2,   2256.0,3,   2348.1,2,   7.5796,6,    25.04,     -999,9,   1.4762,2,     -999,9,     -999,     -999,9,     -999,9,     -999,9,     -999,9,     -999,9,     -999,9,   0.0183,1,   4.6189,1,     14.4,2,     -999,9,20240306,0959, -64.4867,  80.0002,     -999,9,     -999,9,-999          ,9,-999          ,9,-999          ,9
325020240221  ,I08        ,11      ,  2,24         ,24         ,2,20240306,0823, -64.4868,  80.0002,     3609,    469.5,   1.4625,  34.7038,2,  34.7040,2,    191.8,2,    192.4,2,    91.17,2,     0.00,2,    31.29,2,     0.00,2,     2.17,2,    0.668,2,    0.339,2,    0.045,2,   0.3280,2,   2252.6,3,   2349.9,6,   7.5829,2,    25.03,     -999,9,   1.4618,2,     -999,9,     -999,     -999,9,     -999,9,     -999,9,     -999,9,     -999,9,     -999,9,   0.0189,1,   4.6189,1,     14.2,2,     -999,9,20240306,0956, -64.4867,  80.0002,     -999,9,     -999,9,-999          ,9,-999          ,9,-999          ,9
325020240221  ,I08        ,11      ,  2,23         ,37         ,2,20240306,0823, -64.4868,  80.0002,     3609,    540.2,   1.4450,  34.7140,2,  34.7150,2,    193.6,2,    193.7,2,    92.83,2,     0.00,2,    31.18,2,     0.00,2,     2.17,2,    0.588,2,    0.293,2,    0.030,2,   0.1760,2,   2253.4,3,   2348.9,2,   7.5879,2,    25.02,     -999,9,   1.4430,2,     -999,9,     -999,     -999,9,     -999,9,     -999,9,     -999,9,     -999,9,     -999,9,   0.0182,1,   4.6178,1,     13.9,2,     -999,9,20240306,0953, -64.4868,  80.0002,     -999,9,     -999,9,-999          ,9,-999          ,9,-999          ,9
325020240221  ,I08        ,11      ,  2,22         ,22         ,2,20240306,0823, -64.4868,  80.0002,     3609,    641.6,   1.3766,  34.7192,2,  34.7207,2,    196.0,2,    196.3,2,    94.88,2,     0.00,2,    31.01,2,     0.00,2,     2.15,2,    0.527,2,    0.268,2,    0.032,2,   0.2800,2,   2255.8,3,   2353.7,2,   7.5937,2,    25.04,     -999,9,   1.3748,2,     -999,9,     -999,     -999,9,     -999,9,     -999,9,     -999,9,     -999,9,     -999,9,   0.0195,1,   4.6167,1,     13.9,2,     -999,9,20240306,0950, -64.4868,  80.0002,     -999,9,     -999,9,-999          ,9,-999          ,9,-999          ,9
325020240221  ,I08        ,11      ,  2,21         ,21         ,2,20240306,0823, -64.4868,  80.0002,     3609,    743.7,   1.2991,  34.7212,2,  34.7215,2,    198.1,2,    198.2,2,    96.73,2,     0.00,2,    31.03,2,     0.00,2,     2.15,2,    0.563,2,    0.288,2,    0.032,2,   0.1610,2,   2255.6,3,   2351.0,2,   7.5971,6,    24.97,     -999,9,   1.2984,2,     -999,9,     -999,     -999,9,     -999,9,     -999,9,     -999,9,     -999,9,     -999,9,   0.0186,1,   4.6165,1,     13.5,2,     -999,9,20240306,0946, -64.4868,  80.0002,     -999,9,     -999,9,-999          ,9,-999          ,9,-999          ,9
325020240221  ,I08        ,11      ,  2,20         ,20         ,2,20240306,0823, -64.4868,  80.0002,     3609,    843.7,   1.2248,  34.7216,2,  34.7223,2,    200.2,2,    199.9,2,    98.88,2,     0.00,2,    31.02,2,     0.00,2,     2.17,2,    0.485,2,    0.243,2,    0.022,2,   0.1810,2,   2250.2,3,   2353.7,2,   7.5998,2,    24.98,     -999,9,   1.2244,2,     -999,9,     -999,     -999,9,     -999,9,     -999,9,     -999,9,     -999,9,     -999,9,   0.0182,1,   4.6153,1,     13.4,2,     -999,9,20240306,0942, -64.4868,  80.0002,     -999,9,     -999,9,-999          ,9,-999          ,9,-999          ,9
325020240221  ,I08        ,11      ,  2,19         ,19         ,2,20240306,0823, -64.4868,  80.0002,     3609,    944.8,   1.1466,  34.7207,2,  34.7213,2,    201.5,2,    201.4,2,   101.81,2,     0.00,2,    31.11,2,     0.00,2,     2.15,2,    0.459,2,    0.223,2,    0.019,2,   0.2360,2,   2255.0,3,   2356.0,2,   7.6010,2,    24.98,     -999,9,   1.1460,2,     -999,9,     -999,     -999,9,     -999,9,     -999,9,     -999,9,     -999,9,     -999,9,   0.0183,1,   4.6141,1,     10.0,2,     -999,9,20240306,0939, -64.4868,  80.0002,     -999,9,     -999,9,-999          ,9,-999          ,9,-999          ,9
325020240221  ,I08        ,11      ,  2,18         ,18         ,2,20240306,0823, -64.4868,  80.0002,     3609,   1047.7,   1.0720,  34.7184,2,  34.7182,2,    202.5,2,    202.1,2,   104.15,2,     0.00,2,    31.30,2,     0.00,2,     2.14,2,    0.446,2,    0.219,2,    0.023,2,   0.1780,2,   2254.3,3,   2356.5,2,   7.6016,6,    24.96,     -999,9,   1.0712,2,     -999,9,     -999,     -999,9,     -999,9,     -999,9,     -999,9,     -999,9,     -999,9,   0.0183,1,   4.6129,1,     13.6,2,     -999,9,20240306,0936, -64.4868,  80.0002,     -999,9,     -999,9,-999          ,9,-999          ,9,-999          ,9
325020240221  ,I08        ,11      ,  2,17         ,17         ,2,20240306,0823, -64.4868,  80.0002,     3609,   1148.7,   0.9930,  34.7148,2,  34.7158,2,    203.4,2,    203.5,2,   106.20,2,     0.02,2,    31.33,2,     0.00,2,     2.15,2,    0.433,2,    0.219,2,    0.019,2,   0.1150,2,   2256.6,3,   2358.8,2,   7.6003,6,    25.05,     -999,9,   0.9919,2,     -999,9,     -999,     -999,9,     -999,9,     -999,9,     -999,9,     -999,9,     -999,9,   0.0183,1,   4.6117,1,     13.6,2,     -999,9,20240306,0933, -64.4868,  80.0003,     -999,9,     -999,9,-999          ,9,-999          ,9,-999          ,9
325020240221  ,I08        ,11      ,  2,16         ,16         ,2,20240306,0823, -64.4868,  80.0002,     3609,   1250.6,   0.9035,  34.7104,2,  34.7105,2,    204.2,2,    204.6,2,   108.93,2,     0.00,2,    31.41,2,     0.00,2,     2.16,2,    0.446,2,    0.219,2,    0.019,2,   0.1940,2,   2262.2,3,   2354.7,2,   7.5986,2,    25.05,     -999,9,   0.9062,2,     -999,9,     -999,     -999,9,     -999,9,     -999,9,     -999,9,     -999,9,     -999,9,   0.0183,1,   4.6116,1,     13.4,2,     -999,9,20240306,0930, -64.4868,  80.0003,     -999,9,     -999,9,-999          ,9,-999          ,9,-999          ,9
325020240221  ,I08        ,11      ,  2,15         ,15         ,2,20240306,0823, -64.4868,  80.0002,     3609,   1353.0,   0.8205,  34.7059,2,  34.7066,2,    205.1,2,    204.7,2,   111.28,2,     0.00,2,    31.55,2,     0.00,2,     2.18,2,    0.470,2,    0.226,2,    0.023,2,   0.2650,2,   2258.3,3,   2355.3,2,   7.5969,2,    25.03,     -999,9,   0.8200,2,     -999,9,     -999,     -999,9,     -999,9,     -999,9,     -999,9,     -999,9,     -999,9,   0.0182,1,   4.6105,1,     13.7,2,     -999,9,20240306,0926, -64.4868,  80.0003,     -999,9,     -999,9,-999          ,9,-999          ,9,-999          ,9
325020240221  ,I08        ,11      ,  2,14         ,14         ,2,20240306,0823, -64.4868,  80.0002,     3609,   1454.0,   0.7502,  34.7023,2,  34.7026,2,    205.6,2,    205.7,2,   113.81,2,     0.00,2,    31.60,2,     0.00,2,     2.19,2,    0.474,2,    0.233,2,    0.019,2,   0.1570,2,   2257.8,3,   2355.3,2,   7.5951,2,    25.00,     -999,9,   0.7489,2,     -999,9,     -999,     -999,9,     -999,9,     -999,9,     -999,9,     -999,9,     -999,9,   0.0183,1,   4.6100,1,     13.6,2,     -999,9,20240306,0923, -64.4868,  80.0002,     -999,9,     -999,9,-999          ,9,-999          ,9,-999          ,9
325020240221  ,I08        ,11      ,  2,13         ,13         ,2,20240306,0823, -64.4868,  80.0002,     3609,   1555.9,   0.6787,  34.6987,2,  34.7003,2,    206.3,2,    206.2,2,   116.25,2,     0.00,2,    31.72,2,     0.00,2,     2.22,2,    0.504,2,    0.230,2,    0.018,2,   0.2830,2,   2260.7,3,   2356.0,2,   7.5942,2,    25.00,     -999,9,   0.6789,2,     -999,9,     -999,     -999,9,     -999,9,     -999,9,     -999,9,     -999,9,     -999,9,   0.0174,1,   4.6086,1,     13.6,2,     -999,9,20240306,0919, -64.4868,  80.0002,     -999,9,     -999,9,-999          ,9,-999          ,9,-999          ,9
325020240221  ,I08        ,11      ,  2,12         ,12         ,2,20240306,0823, -64.4868,  80.0002,     3609,   1658.6,   0.6074,  34.6941,2,  34.6942,2,    207.4,2,    207.5,2,   117.62,2,     0.00,2,    31.82,2,     0.00,2,     2.22,2,    0.521,2,    0.255,2,    0.024,2,   0.2490,2,   2261.1,3,   2357.0,2,   7.5924,2,    25.00,     -999,9,   0.6067,2,     -999,9,     -999,     -999,9,     -999,9,     -999,9,     -999,9,     -999,9,     -999,9,   0.0180,1,   4.6080,1,     13.8,2,     -999,9,20240306,0916, -64.4868,  80.0002,     -999,9,     -999,9,-999          ,9,-999          ,9,-999          ,9
325020240221  ,I08        ,11      ,  2,11         ,11         ,2,20240306,0823, -64.4868,  80.0002,     3609,   1758.3,   0.5538,  34.6921,2,  34.6930,2,    208.1,2,    208.5,2,   119.57,2,     0.02,2,    31.94,2,     0.00,2,     2.23,2,    0.517,2,    0.245,2,    0.025,2,   0.1970,2,   2261.6,3,   2356.2,2,   7.5917,2,    25.00,     -999,9,   0.5527,2,     -999,9,     -999,     -999,9,     -999,9,     -999,9,     -999,9,     -999,9,     -999,9,   0.0182,1,   4.6076,1,     13.7,2,     -999,9,20240306,0912, -64.4868,  80.0003,     -999,9,     -999,9,-999          ,9,-999          ,9,-999          ,9
325020240221  ,I08        ,11      ,  2,10         ,10         ,2,20240306,0823, -64.4868,  80.0002,     3609,   1891.8,   0.4794,  34.6883,2,  34.6893,2,    209.6,2,    209.9,2,   122.11,2,     0.00,2,    32.15,2,     0.00,2,     2.25,2,    0.543,2,    0.251,2,    0.024,2,   0.0860,2,   2263.4,3,   2355.3,2,   7.5913,2,    25.02,     -999,9,   0.4785,2,     -999,9,     -999,     -999,9,     -999,9,     -999,9,     -999,9,     -999,9,     -999,9,   0.0183,1,   4.6068,1,     13.7,2,     -999,9,20240306,0908, -64.4868,  80.0002,     -999,9,     -999,9,-999          ,9,-999          ,9,-999          ,9
325020240221  ,I08        ,11      ,  2,9          ,9          ,2,20240306,0823, -64.4868,  80.0002,     3609,   2095.4,   0.3900,  34.6845,2,  34.6855,2,    211.4,2,    211.4,2,   125.04,2,     0.00,2,    32.40,2,     0.00,2,     2.28,2,    0.497,2,    0.232,2,    0.019,2,   0.0050,2,   2258.8,3,   2356.0,2,   7.5904,2,    25.02,     -999,9,   0.3892,2,     -999,9,     -999,     -999,9,     -999,9,     -999,9,     -999,9,     -999,9,     -999,9,   0.0183,1,   4.6067,1,     13.5,2,     -999,9,20240306,0903, -64.4868,  80.0003,     -999,9,     -999,9,-999          ,9,-999          ,9,-999          ,9
325020240221  ,I08        ,11      ,  2,8          ,8          ,2,20240306,0823, -64.4868,  80.0002,     3609,   2300.0,   0.3037,  34.6800,2,  34.6812,2,    215.0,2,    215.0,2,   126.02,2,     0.00,2,    32.46,2,     0.00,2,     2.25,2,    0.622,2,    0.290,2,    0.026,2,   0.0600,2,   2257.1,3,   2356.2,2,   7.5904,6,    25.00,     -999,9,   0.3028,2,     -999,9,     -999,     -999,9,     -999,9,     -999,9,     -999,9,     -999,9,     -999,9,   0.0183,1,   4.6056,1,     13.6,2,     -999,9,20240306,0858, -64.4868,  80.0002,     -999,9,     -999,9,-999          ,9,-999          ,9,-999          ,9
325020240221  ,I08        ,11      ,  2,7          ,7          ,2,20240306,0823, -64.4868,  80.0002,     3609,   2505.1,   0.2233,  34.6764,2,  34.6759,2,    217.8,2,    217.7,2,   127.97,2,     0.00,2,    32.65,2,     0.00,2,     2.23,2,    0.643,2,    0.319,2,    0.027,2,   0.0380,2,   2258.8,3,   2355.7,2,   7.5914,2,    25.00,     -999,9,   0.2225,2,     -999,9,     -999,     -999,9,     -999,9,     -999,9,     -999,9,     -999,9,     -999,9,   0.0183,1,   4.6055,1,     13.5,2,     -999,9,20240306,0853, -64.4868,  80.0002,     -999,9,     -999,9,-999          ,9,-999          ,9,-999          ,9
325020240221  ,I08        ,11      ,  2,6          ,6          ,2,20240306,0823, -64.4868,  80.0002,     3609,   2708.0,   0.1471,  34.6729,2,  34.6730,2,    220.7,2,    220.7,2,   128.16,2,     0.00,2,    32.58,2,     0.00,2,     2.23,2,    0.776,2,    0.363,2,    0.039,2,   0.1820,2,   2256.6,3,   2356.1,2,   7.5927,2,    25.00,     -999,9,   0.1465,2,     -999,9,     -999,     -999,9,     -999,9,     -999,9,     -999,9,     -999,9,     -999,9,   0.0183,1,   4.6054,1,     13.5,2,     -999,9,20240306,0848, -64.4868,  80.0002,     -999,9,     -999,9,-999          ,9,-999          ,9,-999          ,9