BOTTLE,20240417CCHHYDRO
EXPOCODE,SECT_ID,STNNBR,CASTNO,SAMPNO,BTLNBR,BTLNBR_FLAG_W,DATE,TIME,LATITUDE,LONGITUDE,DEPTH,CTDPRS,CTDTMP,CTDSAL,CTDSAL_FLAG_W,SALNTY,SALNTY_FLAG_W,CTDOXY,CTDOXY_FLAG_W,OXYGEN,OXYGEN_FLAG_W,SILCAT,SILCAT_FLAG_W,NH4,NH4_FLAG_W,NITRAT,NITRAT_FLAG_W,NITRIT,NITRIT_FLAG_W,PHSPHT,PHSPHT_FLAG_W,CFC-11,CFC-11_FLAG_W,CFC-12,CFC-12_FLAG_W,CFC113,CFC113_FLAG_W,SF6,SF6_FLAG_W,TCARBN,TCARBN_FLAG_W,ALKALI,ALKALI_FLAG_W,PH_TOT,PH_TOT_FLAG_W,PH_TMP,DOC,DOC_FLAG_W,REFTMP,REFTMP_FLAG_W,DELC14,DELC14_FLAG_W,C14ERR,POC,POC_FLAG_W,PON,PON_FLAG_W,POP,POP_FLAG_W,PCOD,PCOD_FLAG_W,DOP,DOP_FLAG_W,TDN,TDN_FLAG_W,CTDFLUOR,CTDFLUOR_FLAG_W,CTDXMISS,CTDXMISS_FLAG_W,N2O,N2O_FLAG_W,ARGON,ARGON_FLAG_W,BTL_DATE,BTL_TIME,BTL_LAT,BTL_LON,KRYPTON,KRYPTON_FLAG_W,XENON,XENON_FLAG_W,HPLC,HPLC_FLAG_W,DNA,DNA_FLAG_W,FCM,FCM_FLAG_W
,,,,,,,,,,,METERS,DBAR,ITS-90,PSS-78,,PSS-78,,UMOL/KG,,UMOL/KG,,UMOL/KG,,UMOL/KG,,UMOL/KG,,UMOL/KG,,UMOL/KG,,PMOL/KG,,PMOL/KG,,PMOL/KG,,FMOL/KG,,UMOL/KG,,UMOL/KG,,,,DEG C,UMOL/KG,,ITS-90,,/MILLE,,/MILLE,UG/KG,,UG/KG,,UG/L,,UG/L,,UMOL/KG,,UMOL/KG,,VOLTS,,VOLTS,,NMOL/KG,,UMOL/L,,,,,,NMOL/L,,NMOL/L,,,,,,,
325020240221  ,I08        ,47      ,  1,5          ,5          ,2,20240321,2207, -42.5114,  95.0102,     3398,   2702.1,   1.9344,  34.7495,2,  34.7496,2,    196.5,2,    196.5,2,    90.00,2,     0.00,2,    30.21,2,     0.00,2,     2.13,2,     -999,9,     -999,9,     -999,9,     -999,9,     -999,9,     -999,9,     -999,9,     -999,     -999,9,   1.9343,2,     -999,9,     -999,     -999,9,     -999,9,     -999,9,     -999,9,     -999,9,     -999,9,   0.0183,1,   4.6456,1,     -999,9,     -999,9,20240321,2226, -42.5113,  95.0102,     -999,9,     -999,9,-999          ,9,-999          ,9,-999          ,9
325020240221  ,I08        ,47      ,  1,4          ,4          ,2,20240321,2207, -42.5114,  95.0102,     3398,   2906.1,   1.6910,  34.7423,2,  34.7427,2,    198.6,2,    198.9,2,    98.69,2,     0.00,2,    30.69,2,     0.00,2,     2.14,2,    0.121,2,    0.072,2,    0.026,4,   0.0000,2,     -999,1,   2359.5,2,   7.6170,2,    25.00,     -999,9,   1.6909,2,     -999,9,     -999,     -999,9,     -999,9,     -999,9,     -999,9,     -999,9,     -999,9,   0.0183,1,   4.6435,1,     22.4,2,     -999,9,20240321,2221, -42.5114,  95.0101,     -999,9,     -999,9,-999          ,9,-999          ,9,-999          ,9
325020240221  ,I08        ,47      ,  1,3          ,3          ,2,20240321,2207, -42.5114,  95.0102,     3398,   3111.7,   1.5872,  34.7382,2,  34.7378,2,    199.6,2,    199.9,2,   102.59,2,     0.00,2,    30.93,2,     0.00,2,     2.18,2,     -999,9,     -999,9,     -999,9,     -999,9,     -999,9,     -999,9,     -999,9,     -999,     -999,9,   1.5874,2,     -999,9,     -999,     -999,9,     -999,9,     -999,9,     -999,9,     -999,9,     -999,9,   0.0183,1,   4.6431,1,     -999,9,     -999,9,20240321,2216, -42.5114,  95.0101,     -999,9,     -999,9,-999          ,9,-999          ,9,-999          ,9
325020240221  ,I08        ,47      ,  1,2          ,2          ,2,20240321,2207, -42.5114,  95.0102,     3398,   3285.2,   1.4685,  34.7332,2,  34.7335,2,    201.0,2,    200.8,2,   106.30,2,     0.00,2,    31.08,2,     0.00,2,     2.17,2,    0.167,2,    0.093,2,    0.053,4,   0.0000,2,   2255.6,3,   2361.1,2,   7.6154,2,    24.98,     -999,9,   1.4706,2,     -999,9,     -999,     -999,9,     -999,9,     -999,9,     -999,9,     -999,9,     -999,9,   0.0183,1,   4.6430,1,     22.3,2,     -999,9,20240321,2211, -42.5113,  95.0101,     -999,9,     -999,9,-999          ,9,-999          ,9,-999          ,9
325020240221  ,I08        ,47      ,  1,1          ,1          ,2,20240321,2207, -42.5114,  95.0102,     3398,   3444.2,   1.4556,  34.7320,2,  34.7337,2,    201.3,2,    201.1,2,   107.67,2,     0.00,2,    31.18,2,     0.00,2,     2.20,2,    0.168,2,    0.090,2,    0.096,4,   0.0000,2,   2257.7,3,   2362.4,2,   7.6151,2,    24.98,     -999,9,   1.4556,2,     -999,9,     -999,     -999,9,     -999,9,     -999,9,     -999,9,     -999,9,     -999,9,   0.0183,1,   4.6446,1,     11.5,4,     -999,9,20240321,2207, -42.5114,  95.0101,     -999,9,     -999,9,-999          ,9,-999          ,9,-999          ,9