BOTTLE,20240417CCHHYDRO
EXPOCODE,SECT_ID,STNNBR,CASTNO,SAMPNO,BTLNBR,BTLNBR_FLAG_W,DATE,TIME,LATITUDE,LONGITUDE,DEPTH,CTDPRS,CTDTMP,CTDSAL,CTDSAL_FLAG_W,SALNTY,SALNTY_FLAG_W,CTDOXY,CTDOXY_FLAG_W,OXYGEN,OXYGEN_FLAG_W,SILCAT,SILCAT_FLAG_W,NH4,NH4_FLAG_W,NITRAT,NITRAT_FLAG_W,NITRIT,NITRIT_FLAG_W,PHSPHT,PHSPHT_FLAG_W,CFC-11,CFC-11_FLAG_W,CFC-12,CFC-12_FLAG_W,CFC113,CFC113_FLAG_W,SF6,SF6_FLAG_W,TCARBN,TCARBN_FLAG_W,ALKALI,ALKALI_FLAG_W,PH_TOT,PH_TOT_FLAG_W,PH_TMP,DOC,DOC_FLAG_W,REFTMP,REFTMP_FLAG_W,DELC14,DELC14_FLAG_W,C14ERR,POC,POC_FLAG_W,PON,PON_FLAG_W,POP,POP_FLAG_W,PCOD,PCOD_FLAG_W,DOP,DOP_FLAG_W,TDN,TDN_FLAG_W,CTDFLUOR,CTDFLUOR_FLAG_W,CTDXMISS,CTDXMISS_FLAG_W,N2O,N2O_FLAG_W,ARGON,ARGON_FLAG_W,BTL_DATE,BTL_TIME,BTL_LAT,BTL_LON,KRYPTON,KRYPTON_FLAG_W,XENON,XENON_FLAG_W,HPLC,HPLC_FLAG_W,DNA,DNA_FLAG_W,FCM,FCM_FLAG_W
,,,,,,,,,,,METERS,DBAR,ITS-90,PSS-78,,PSS-78,,UMOL/KG,,UMOL/KG,,UMOL/KG,,UMOL/KG,,UMOL/KG,,UMOL/KG,,UMOL/KG,,PMOL/KG,,PMOL/KG,,PMOL/KG,,FMOL/KG,,UMOL/KG,,UMOL/KG,,,,DEG C,UMOL/KG,,ITS-90,,/MILLE,,/MILLE,UG/KG,,UG/KG,,UG/L,,UG/L,,UMOL/KG,,UMOL/KG,,VOLTS,,VOLTS,,NMOL/KG,,UMOL/L,,,,,,NMOL/L,,NMOL/L,,,,,,,
325020240221  ,I08        ,54      ,  1,5          ,5          ,2,20240323,1641, -38.9914,  94.9924,     3648,   2772.1,   1.7762,  34.7454,2,  34.7445,2,    196.7,2,    196.7,2,    95.06,2,     0.00,2,    30.58,2,     0.00,2,     2.10,2,     -999,9,     -999,9,     -999,9,     -999,9,   2251.4,3,   2356.7,6,   7.6169,2,    24.97,     -999,1,   1.7770,2,     -999,9,     -999,     -999,9,     -999,9,     -999,9,     -999,9,     -999,9,     -999,1,   0.0183,1,   4.6406,1,     -999,9,     -999,9,20240323,1701, -38.9914,  94.9923,     -999,9,     -999,9,-999          ,9,-999          ,9,-999          ,9
325020240221  ,I08        ,54      ,  1,4          ,4          ,2,20240323,1641, -38.9914,  94.9924,     3648,   2976.9,   1.5201,  34.7371,2,  34.7370,2,    200.3,2,    200.6,2,   102.77,2,     0.00,2,    30.89,2,     0.00,2,     2.13,2,    0.143,2,    0.073,2,    0.015,4,   0.0000,2,   2258.4,3,   2359.5,2,   7.6158,2,    24.98,     -999,1,   1.5221,2,     -999,9,     -999,     -999,9,     -999,9,     -999,9,     -999,9,     -999,9,     -999,1,   0.0183,1,   4.6374,1,     13.4,2,     -999,9,20240323,1657, -38.9914,  94.9923,     -999,9,     -999,9,-999          ,9,-999          ,9,-999          ,9
325020240221  ,I08        ,54      ,  1,3          ,3          ,2,20240323,1641, -38.9914,  94.9924,     3648,   3248.3,   1.2846,  34.7267,2,  34.7284,2,    203.1,2,    203.6,2,   110.19,2,     0.00,2,    31.29,2,     0.00,2,     2.17,2,     -999,9,     -999,9,     -999,9,     -999,9,   2258.9,3,   2362.0,2,   7.6133,2,    24.99,     -999,1,   1.2845,2,     -999,9,     -999,     -999,9,     -999,9,     -999,9,     -999,9,     -999,9,     -999,1,   0.0183,1,   4.6359,1,     -999,9,     -999,9,20240323,1651, -38.9914,  94.9923,     -999,9,     -999,9,-999          ,9,-999          ,9,-999          ,9
325020240221  ,I08        ,54      ,  1,2          ,2          ,2,20240323,1641, -38.9914,  94.9924,     3648,   3475.9,   1.1639,  34.7203,2,  34.7195,2,    204.4,2,    204.4,2,   114.68,2,     0.00,2,    31.57,2,     0.00,2,     2.19,2,    0.237,2,    0.120,2,    0.025,4,   0.0790,2,   2262.1,3,   2364.5,2,   7.6141,6,    25.02,     -999,1,   1.1651,2,     -999,9,     -999,     -999,9,     -999,9,     -999,9,     -999,9,     -999,9,     -999,1,   0.0182,1,   4.6360,1,     13.1,2,     -999,9,20240323,1646, -38.9914,  94.9923,     -999,9,     -999,9,-999          ,9,-999          ,9,-999          ,9
325020240221  ,I08        ,54      ,  1,1          ,1          ,2,20240323,1641, -38.9914,  94.9924,     3648,   3699.0,   1.1233,  34.7177,2,  34.7166,2,    204.9,2,    204.7,2,   116.34,2,     0.00,2,    31.68,2,     0.00,2,     2.21,2,    0.232,2,    0.118,2,    0.046,4,   0.0850,2,   2265.1,3,   2367.4,2,   7.6144,2,    24.97,     -999,1,   1.1234,2,     -999,9,     -999,     -999,9,     -999,9,     -999,9,     -999,9,     -999,9,     -999,1,   0.0183,1,   4.6374,1,      8.9,4,     -999,9,20240323,1641, -38.9914,  94.9923,     -999,9,     -999,9,-999          ,9,-999          ,9,-999          ,9