BOTTLE,20240417CCHHYDRO
EXPOCODE,SECT_ID,STNNBR,CASTNO,SAMPNO,BTLNBR,BTLNBR_FLAG_W,DATE,TIME,LATITUDE,LONGITUDE,DEPTH,CTDPRS,CTDTMP,CTDSAL,CTDSAL_FLAG_W,SALNTY,SALNTY_FLAG_W,CTDOXY,CTDOXY_FLAG_W,OXYGEN,OXYGEN_FLAG_W,SILCAT,SILCAT_FLAG_W,NH4,NH4_FLAG_W,NITRAT,NITRAT_FLAG_W,NITRIT,NITRIT_FLAG_W,PHSPHT,PHSPHT_FLAG_W,CFC-11,CFC-11_FLAG_W,CFC-12,CFC-12_FLAG_W,CFC113,CFC113_FLAG_W,SF6,SF6_FLAG_W,TCARBN,TCARBN_FLAG_W,ALKALI,ALKALI_FLAG_W,PH_TOT,PH_TOT_FLAG_W,PH_TMP,DOC,DOC_FLAG_W,REFTMP,REFTMP_FLAG_W,DELC14,DELC14_FLAG_W,C14ERR,POC,POC_FLAG_W,PON,PON_FLAG_W,POP,POP_FLAG_W,PCOD,PCOD_FLAG_W,DOP,DOP_FLAG_W,TDN,TDN_FLAG_W,CTDFLUOR,CTDFLUOR_FLAG_W,CTDXMISS,CTDXMISS_FLAG_W,N2O,N2O_FLAG_W,ARGON,ARGON_FLAG_W,BTL_DATE,BTL_TIME,BTL_LAT,BTL_LON,KRYPTON,KRYPTON_FLAG_W,XENON,XENON_FLAG_W,HPLC,HPLC_FLAG_W,DNA,DNA_FLAG_W,FCM,FCM_FLAG_W
,,,,,,,,,,,METERS,DBAR,ITS-90,PSS-78,,PSS-78,,UMOL/KG,,UMOL/KG,,UMOL/KG,,UMOL/KG,,UMOL/KG,,UMOL/KG,,UMOL/KG,,PMOL/KG,,PMOL/KG,,PMOL/KG,,FMOL/KG,,UMOL/KG,,UMOL/KG,,,,DEG C,UMOL/KG,,ITS-90,,/MILLE,,/MILLE,UG/KG,,UG/KG,,UG/L,,UG/L,,UMOL/KG,,UMOL/KG,,VOLTS,,VOLTS,,NMOL/KG,,UMOL/L,,,,,,NMOL/L,,NMOL/L,,,,,,,
325020240221  ,I08        ,34      ,  1,5          ,5          ,2,20240317,0823, -52.1042,  88.4664,     4248,   3358.4,   0.4930,  34.6865,2,  34.6867,2,    215.8,2,    216.2,2,   126.40,2,     0.00,2,    32.63,2,     0.00,2,     2.29,2,    0.660,2,    0.340,2,    0.002,4,   0.1370,2,   2260.4,3,   2356.2,2,   7.5965,2,    25.05,     -999,1,   0.4929,2,     -999,1,     -999,     -999,9,     -999,9,     -999,9,     -999,9,     -999,9,     -999,1,   0.0183,1,   4.6287,1,     31.3,2,     -999,9,20240317,0848, -52.1042,  88.4664,     -999,9,     -999,9,-999          ,9,-999          ,9,-999          ,9
325020240221  ,I08        ,34      ,  1,4          ,4          ,2,20240317,0823, -52.1042,  88.4664,     4248,   3663.1,   0.3757,  34.6800,2,  34.6802,2,    219.1,2,    219.2,2,   129.04,2,     0.00,2,    32.77,2,     0.00,2,     2.29,2,    0.893,2,    0.423,2,    0.048,4,   0.1730,2,   2260.0,3,   2359.8,2,   7.5956,2,    25.03,     -999,1,   0.3756,2,     -999,1,     -999,     -999,9,     -999,9,     -999,9,     -999,9,     -999,9,     -999,1,   0.0183,1,   4.6287,1,     31.9,2,     -999,9,20240317,0839, -52.1042,  88.4664,     -999,9,     -999,9,-999          ,9,-999          ,9,-999          ,9
325020240221  ,I08        ,34      ,  1,3          ,3          ,2,20240317,0823, -52.1042,  88.4664,     4248,   3967.3,   0.3409,  34.6767,2,  34.6769,2,    220.6,2,    220.4,2,   130.02,2,     0.02,2,    32.85,2,     0.00,2,     2.28,2,    1.081,2,    0.461,2,    0.053,4,   0.2020,2,   2260.0,3,   2355.6,2,   7.5954,2,    25.03,     -999,1,   0.3405,2,     -999,1,     -999,     -999,9,     -999,9,     -999,9,     -999,9,     -999,9,     -999,1,   0.0183,1,   4.6273,1,     32.5,2,     -999,9,20240317,0832, -52.1042,  88.4664,     -999,9,     -999,9,-999          ,9,-999          ,9,-999          ,9
325020240221  ,I08        ,34      ,  1,2          ,2          ,2,20240317,0823, -52.1042,  88.4664,     4248,   4122.4,   0.3178,  34.6749,2,  34.6751,2,    221.3,2,    222.2,2,   130.31,2,     0.03,2,    32.87,2,     0.00,2,     2.28,2,    1.188,2,    0.487,2,    0.058,4,   0.2460,2,   2259.2,3,   2356.8,2,   7.5950,2,    25.02,     -999,1,   0.3173,2,     -999,1,     -999,     -999,9,     -999,9,     -999,9,     -999,9,     -999,9,     -999,1,   0.0183,1,   4.6219,1,     33.0,2,     -999,9,20240317,0828, -52.1042,  88.4664,     -999,9,     -999,9,-999          ,9,-999          ,9,-999          ,9
325020240221  ,I08        ,34      ,  1,1          ,1          ,2,20240317,0823, -52.1042,  88.4664,     4248,   4321.1,   0.2353,  34.6702,3,  34.6722,2,    224.5,2,    224.3,2,   131.48,2,     0.02,2,    32.79,2,     0.00,2,     2.27,2,    1.237,2,    0.559,2,    0.061,4,   0.3070,2,   2259.9,3,   2359.0,2,   7.5954,6,    25.02,     -999,1,   0.2351,2,     -999,1,     -999,     -999,9,     -999,9,     -999,9,     -999,9,     -999,9,     -999,1,   0.0183,1,   4.5874,1,     22.5,2,     -999,9,20240317,0823, -52.1041,  88.4663,     -999,9,     -999,9,-999          ,9,-999          ,9,-999          ,9