BOTTLE,20240417CCHHYDRO
EXPOCODE,SECT_ID,STNNBR,CASTNO,SAMPNO,BTLNBR,BTLNBR_FLAG_W,DATE,TIME,LATITUDE,LONGITUDE,DEPTH,CTDPRS,CTDTMP,CTDSAL,CTDSAL_FLAG_W,SALNTY,SALNTY_FLAG_W,CTDOXY,CTDOXY_FLAG_W,OXYGEN,OXYGEN_FLAG_W,SILCAT,SILCAT_FLAG_W,NH4,NH4_FLAG_W,NITRAT,NITRAT_FLAG_W,NITRIT,NITRIT_FLAG_W,PHSPHT,PHSPHT_FLAG_W,CFC-11,CFC-11_FLAG_W,CFC-12,CFC-12_FLAG_W,CFC113,CFC113_FLAG_W,SF6,SF6_FLAG_W,TCARBN,TCARBN_FLAG_W,ALKALI,ALKALI_FLAG_W,PH_TOT,PH_TOT_FLAG_W,PH_TMP,DOC,DOC_FLAG_W,REFTMP,REFTMP_FLAG_W,DELC14,DELC14_FLAG_W,C14ERR,POC,POC_FLAG_W,PON,PON_FLAG_W,POP,POP_FLAG_W,PCOD,PCOD_FLAG_W,DOP,DOP_FLAG_W,TDN,TDN_FLAG_W,CTDFLUOR,CTDFLUOR_FLAG_W,CTDXMISS,CTDXMISS_FLAG_W,N2O,N2O_FLAG_W,ARGON,ARGON_FLAG_W,BTL_DATE,BTL_TIME,BTL_LAT,BTL_LON,KRYPTON,KRYPTON_FLAG_W,XENON,XENON_FLAG_W,HPLC,HPLC_FLAG_W,DNA,DNA_FLAG_W,FCM,FCM_FLAG_W
,,,,,,,,,,,METERS,DBAR,ITS-90,PSS-78,,PSS-78,,UMOL/KG,,UMOL/KG,,UMOL/KG,,UMOL/KG,,UMOL/KG,,UMOL/KG,,UMOL/KG,,PMOL/KG,,PMOL/KG,,PMOL/KG,,FMOL/KG,,UMOL/KG,,UMOL/KG,,,,DEG C,UMOL/KG,,ITS-90,,/MILLE,,/MILLE,UG/KG,,UG/KG,,UG/L,,UG/L,,UMOL/KG,,UMOL/KG,,VOLTS,,VOLTS,,NMOL/KG,,UMOL/L,,,,,,NMOL/L,,NMOL/L,,,,,,,
325020240221  ,I08        ,24      ,  1,36         ,36         ,2,20240311,1757, -57.6136,  82.3842,     3037,      3.3,   1.6014,  33.9800,2,  33.9759,2,    320.1,2,    320.2,2,    39.26,2,     0.63,2,    27.55,2,     0.28,2,     1.88,2,    4.985,2,    2.783,2,    0.363,2,   4.6570,2,   2184.6,3,   2299.7,6,   7.6617,2,    24.98,     -999,1,   1.6032,2,     -999,9,     -999,     -999,9,     -999,9,     -999,9,     -999,9,     -999,9,     -999,1,   0.0537,1,   4.5064,1,     11.0,2,     -999,9,20240311,1937, -57.6136,  82.3842,     -999,9,     -999,9,-999          ,9,-999          ,9,-999          ,9
325020240221  ,I08        ,24      ,  1,35         ,35         ,2,20240311,1757, -57.6136,  82.3842,     3037,     19.4,   1.6036,  33.9772,2,  33.9841,2,    320.4,2,    320.3,2,    39.36,2,     0.63,2,    27.73,2,     0.28,2,     1.88,2,    5.619,2,    2.845,2,    0.355,2,   4.6160,2,   2183.6,3,   2299.1,2,   7.6620,2,    24.99,     -999,1,   1.6007,2,     -999,9,     -999,     -999,9,     -999,9,     -999,9,     -999,9,     -999,9,     -999,1,   0.0523,1,   4.5062,1,     11.1,2,     -999,9,20240311,1936, -57.6136,  82.3842,     -999,9,     -999,9,-999          ,9,-999          ,9,-999          ,9
325020240221  ,I08        ,24      ,  1,34         ,34         ,2,20240311,1757, -57.6136,  82.3842,     3037,     40.3,   1.5941,  33.9837,2,  33.9825,2,    319.8,2,    320.7,2,    39.94,2,     0.79,2,    27.80,2,     0.28,2,     1.90,2,    5.230,2,    2.752,2,    0.361,2,   3.8880,2,   2182.5,3,   2298.4,2,   7.6610,6,    24.99,     -999,1,   1.5934,2,     -999,9,     -999,     -999,9,     -999,9,     -999,9,     -999,9,     -999,9,     -999,1,   0.0509,1,   4.5055,1,     11.2,2,     -999,9,20240311,1934, -57.6136,  82.3842,     -999,9,     -999,9,-999          ,9,-999          ,9,-999          ,9
325020240221  ,I08        ,24      ,  1,33         ,33         ,2,20240311,1757, -57.6136,  82.3842,     3037,     65.2,   1.5800,  33.9904,2,  33.9876,2,    319.2,2,    319.0,2,    40.33,2,     0.62,2,    27.80,2,     0.28,2,     1.88,2,    4.923,2,    2.624,2,    0.367,2,   3.8940,2,   2183.5,3,   2301.4,2,   7.6600,2,    24.96,     -999,1,   1.5785,2,     -999,9,     -999,     -999,9,     -999,9,     -999,9,     -999,9,     -999,9,     -999,1,   0.0528,1,   4.5048,1,     11.4,2,     -999,9,20240311,1932, -57.6136,  82.3842,     -999,9,     -999,9,-999          ,9,-999          ,9,-999          ,9
325020240221  ,I08        ,24      ,  1,32         ,32         ,2,20240311,1757, -57.6136,  82.3842,     3037,     90.7,   1.5604,  33.9933,2,  33.9921,2,    318.3,2,    318.1,2,    40.92,2,     0.63,2,    27.85,2,     0.28,2,     1.89,2,    5.160,2,    2.786,2,    0.367,2,   3.7340,2,     -999,9,     -999,9,     -999,9,     -999,     -999,1,   1.5602,2,     -999,9,     -999,     -999,9,     -999,9,     -999,9,     -999,9,     -999,9,     -999,1,   0.0524,1,   4.5065,1,     11.5,2,     -999,9,20240311,1930, -57.6136,  82.3842,     -999,9,     -999,9,-999          ,9,-999          ,9,-999          ,9
325020240221  ,I08        ,24      ,  1,31         ,31         ,2,20240311,1757, -57.6136,  82.3842,     3037,    116.2,   1.0708,  34.3427,2,  34.2860,3,    237.3,3,    241.5,2,    63.07,2,     0.34,2,    32.47,2,     0.26,2,     2.22,2,    3.279,2,    1.627,2,    0.234,2,   2.1510,2,   2229.9,3,   2315.8,2,   7.5738,2,    24.97,     -999,1,   1.0820,2,     -999,9,     -999,     -999,9,     -999,9,     -999,9,     -999,9,     -999,9,     -999,1,   0.0287,1,   4.5824,1,     14.3,2,     -999,9,20240311,1928, -57.6136,  82.3842,     -999,9,     -999,9,-999          ,9,-999          ,9,-999          ,9
325020240221  ,I08        ,24      ,  1,30         ,30         ,2,20240311,1757, -57.6136,  82.3842,     3037,    140.6,   1.5638,  34.4971,2,  34.4993,2,    185.1,2,    184.0,2,    76.15,2,     0.00,2,    35.36,2,     0.07,2,     2.34,2,    1.759,2,    0.816,2,    0.122,2,   0.8850,2,     -999,9,     -999,9,     -999,9,     -999,     -999,1,   1.5621,2,     -999,9,     -999,     -999,9,     -999,9,     -999,9,     -999,9,     -999,9,     -999,1,   0.0232,1,   4.6073,1,     15.9,2,     -999,9,20240311,1926, -57.6136,  82.3842,     -999,9,     -999,9,-999          ,9,-999          ,9,-999          ,9
325020240221  ,I08        ,24      ,  1,29         ,29         ,2,20240311,1757, -57.6136,  82.3842,     3037,    166.4,   1.7439,  34.5375,2,  34.5364,2,    176.2,2,    176.6,2,    78.58,2,     0.02,2,    35.41,2,     0.03,2,     2.35,2,    1.481,2,    0.697,2,    0.101,2,   0.6760,2,   2259.8,3,   2329.7,2,   7.5246,6,    24.96,     -999,1,   1.7438,2,     -999,9,     -999,     -999,9,     -999,9,     -999,9,     -999,9,     -999,9,     -999,1,   0.0201,1,   4.6184,1,     16.4,2,     -999,9,20240311,1924, -57.6136,  82.3842,     -999,9,     -999,9,-999          ,9,-999          ,9,-999          ,9
325020240221  ,I08        ,24      ,  1,28         ,28         ,2,20240311,1757, -57.6136,  82.3842,     3037,    191.9,   1.8494,  34.5657,2,  34.5655,2,    171.8,2,    171.8,2,    80.63,2,     0.00,2,    35.28,2,     0.00,2,     2.37,2,    1.266,2,    0.593,2,    0.085,2,   0.6210,2,   2262.2,3,   2332.6,2,   7.5248,2,    24.97,     -999,1,   1.8495,2,     -999,9,     -999,     -999,9,     -999,9,     -999,9,     -999,9,     -999,9,     -999,1,   0.0195,1,   4.6218,1,     16.4,2,     -999,9,20240311,1922, -57.6136,  82.3842,     -999,9,     -999,9,-999          ,9,-999          ,9,-999          ,9
325020240221  ,I08        ,24      ,  1,27         ,27         ,2,20240311,1757, -57.6136,  82.3842,     3037,    216.2,   1.9068,  34.5835,2,  34.5820,2,    170.9,2,    171.1,2,    81.51,2,     0.00,2,    34.93,2,     0.00,2,     2.34,2,    1.079,2,    0.524,2,    0.074,2,   0.4980,2,   2262.2,3,   2334.9,2,   7.6654,4,    25.00,     -999,1,   1.8955,2,     -999,9,     -999,     -999,9,     -999,9,     -999,9,     -999,9,     -999,9,     -999,1,   0.0195,1,   4.6205,1,     16.6,2,     -999,9,20240311,1921, -57.6136,  82.3841,     -999,9,     -999,9,-999          ,9,-999          ,9,-999          ,9
325020240221  ,I08        ,24      ,  1,26         ,26         ,2,20240311,1757, -57.6136,  82.3842,     3037,    240.8,   1.6450,  34.5763,2,  34.5755,2,    180.6,2,    181.7,2,    80.34,2,     0.00,2,    34.17,2,     0.00,2,     2.30,2,    1.235,2,    0.617,2,    0.094,2,   0.7240,2,   2255.9,3,   2335.2,2,   7.5407,2,    24.98,     -999,1,   1.6454,2,     -999,9,     -999,     -999,9,     -999,9,     -999,9,     -999,9,     -999,9,     -999,1,   0.0195,1,   4.6231,1,     15.7,2,     -999,9,20240311,1919, -57.6136,  82.3842,     -999,9,     -999,9,-999          ,9,-999          ,9,-999          ,9
325020240221  ,I08        ,24      ,  1,25         ,25         ,2,20240311,1757, -57.6136,  82.3842,     3037,    285.0,   1.4881,  34.5863,2,  34.5822,2,    186.2,2,    187.4,2,    80.92,2,     0.00,2,    33.75,2,     0.00,2,     2.26,2,    1.288,2,    0.655,2,    0.097,2,   0.7810,2,   2255.3,3,   2338.2,2,   7.5486,2,    24.96,     -999,1,   1.4804,2,     -999,9,     -999,     -999,9,     -999,9,     -999,9,     -999,9,     -999,9,     -999,1,   0.0187,1,   4.6260,1,     15.6,2,     -999,9,20240311,1917, -57.6136,  82.3842,     -999,9,     -999,9,-999          ,9,-999          ,9,-999          ,9
325020240221  ,I08        ,24      ,  1,24         ,24         ,2,20240311,1757, -57.6136,  82.3842,     3037,    337.1,   1.8513,  34.6588,2,  34.6580,2,    176.8,2,    176.6,2,    84.14,2,     0.00,2,    33.45,2,     0.00,2,     2.25,2,    0.790,2,    0.374,2,    0.056,2,   0.3200,2,     -999,9,     -999,9,     -999,9,     -999,     -999,1,   1.8553,2,     -999,9,     -999,     -999,9,     -999,9,     -999,9,     -999,9,     -999,9,     -999,1,   0.0189,1,   4.6310,1,     15.5,2,     -999,9,20240311,1915, -57.6136,  82.3842,     -999,9,     -999,9,-999          ,9,-999          ,9,-999          ,9
325020240221  ,I08        ,24      ,  1,23         ,37         ,2,20240311,1757, -57.6136,  82.3842,     3037,    387.2,   1.9784,  34.6926,2,  34.6906,2,    180.4,2,    179.6,2,    83.36,2,     0.00,2,    32.50,2,     0.00,2,     2.17,2,    0.539,2,    0.251,2,    0.028,2,   0.0860,2,   2255.1,3,   2346.1,2,   7.5731,2,    24.98,     -999,1,   1.9782,2,     -999,9,     -999,     -999,9,     -999,9,     -999,9,     -999,9,     -999,9,     -999,1,   0.0183,1,   4.6353,1,     14.6,2,     -999,9,20240311,1914, -57.6136,  82.3842,     -999,9,     -999,9,-999          ,9,-999          ,9,-999          ,9
325020240221  ,I08        ,24      ,  1,22         ,22         ,2,20240311,1757, -57.6136,  82.3842,     3037,    437.7,   1.9114,  34.7004,2,  34.6989,2,    179.7,2,    179.9,2,    85.80,2,     0.00,2,    32.50,2,     0.00,2,     2.17,2,    0.531,2,    0.246,2,    0.033,2,   0.0950,2,     -999,9,     -999,9,     -999,9,     -999,     -999,1,   1.9107,2,     -999,9,     -999,     -999,9,     -999,9,     -999,9,     -999,9,     -999,9,     -999,1,   0.0182,1,   4.6352,1,     10.3,2,     -999,9,20240311,1911, -57.6136,  82.3843,     -999,9,     -999,9,-999          ,9,-999          ,9,-999          ,9
325020240221  ,I08        ,24      ,  1,21         ,21         ,2,20240311,1757, -57.6136,  82.3842,     3037,    488.8,   1.8739,  34.7069,2,  34.7050,2,    181.9,2,    181.7,2,    86.19,2,     0.00,2,    32.24,2,     0.00,2,     2.16,2,    0.526,2,    0.244,2,    0.031,2,   0.0270,2,   2256.2,3,   2344.2,6,   7.5770,2,    24.98,     -999,1,   1.8698,2,     -999,9,     -999,     -999,9,     -999,9,     -999,9,     -999,9,     -999,9,     -999,1,   0.0187,1,   4.6360,1,     14.6,2,     -999,9,20240311,1909, -57.6136,  82.3842,     -999,9,     -999,9,-999          ,9,-999          ,9,-999          ,9
325020240221  ,I08        ,24      ,  1,20         ,20         ,2,20240311,1757, -57.6136,  82.3842,     3037,    569.6,   1.8957,  34.7243,2,  34.7225,2,    185.8,2,    185.9,2,    85.99,2,     0.00,2,    31.49,2,     0.00,2,     2.14,2,    0.411,2,    0.188,2,    0.020,2,   0.0240,2,     -999,9,     -999,9,     -999,9,     -999,     -999,1,   1.8965,2,     -999,9,     -999,     -999,9,     -999,9,     -999,9,     -999,9,     -999,9,     -999,1,   0.0183,1,   4.6349,1,     14.5,2,     -999,9,20240311,1907, -57.6136,  82.3842,     -999,9,     -999,9,-999          ,9,-999          ,9,-999          ,9
325020240221  ,I08        ,24      ,  1,19         ,19         ,2,20240311,1757, -57.6136,  82.3842,     3037,    670.6,   1.8003,  34.7323,2,  34.7313,2,    187.0,2,    186.9,2,    88.63,2,     0.00,2,    31.37,2,     0.00,2,     2.11,2,    0.378,2,    0.174,2,    0.017,2,   0.0280,2,   2254.9,3,   2350.5,2,   7.5897,2,    24.98,     -999,1,   1.8005,2,     -999,9,     -999,     -999,9,     -999,9,     -999,9,     -999,9,     -999,9,     -999,1,   0.0183,1,   4.6337,1,     14.5,2,     -999,9,20240311,1904, -57.6136,  82.3842,     -999,9,     -999,9,-999          ,9,-999          ,9,-999          ,9
325020240221  ,I08        ,24      ,  1,18         ,18         ,2,20240311,1757, -57.6136,  82.3842,     3037,    770.4,   1.7381,  34.7368,2,  34.7349,2,    188.0,2,    187.9,2,    90.38,2,     0.00,2,    31.34,2,     0.00,2,     2.10,2,    0.362,2,    0.166,2,    0.017,2,   0.0680,2,     -999,9,     -999,9,     -999,9,     -999,     -999,1,   1.7372,2,     -999,9,     -999,     -999,9,     -999,9,     -999,9,     -999,9,     -999,9,     -999,1,   0.0188,1,   4.6325,1,     14.2,2,     -999,9,20240311,1901, -57.6136,  82.3842,     -999,9,     -999,9,-999          ,9,-999          ,9,-999          ,9
325020240221  ,I08        ,24      ,  1,17         ,17         ,2,20240311,1757, -57.6136,  82.3842,     3037,    874.0,   1.6368,  34.7391,2,  34.7376,2,    192.5,2,    193.0,2,    92.04,2,     0.00,2,    31.04,2,     0.00,2,     2.09,2,    0.348,2,    0.159,2,    0.016,2,   0.0780,2,   2250.8,3,   2347.4,2,   7.5990,6,    25.00,     -999,1,   1.6365,2,     -999,9,     -999,     -999,9,     -999,9,     -999,9,     -999,9,     -999,9,     -999,1,   0.0183,1,   4.6313,1,     13.9,2,     -999,9,20240311,1859, -57.6136,  82.3842,     -999,9,     -999,9,-999          ,9,-999          ,9,-999          ,9
325020240221  ,I08        ,24      ,  1,16         ,16         ,2,20240311,1757, -57.6136,  82.3842,     3037,    975.6,   1.5270,  34.7368,2,  34.7368,2,    196.3,2,    196.5,2,    93.70,2,     0.00,2,    30.89,2,     0.00,2,     2.10,2,    0.360,2,    0.169,2,    0.016,2,   0.0040,2,     -999,9,     -999,9,     -999,9,     -999,     -999,1,   1.5264,2,     -999,9,     -999,     -999,9,     -999,9,     -999,9,     -999,9,     -999,9,     -999,1,   0.0185,1,   4.6300,1,     13.9,2,     -999,9,20240311,1856, -57.6136,  82.3842,     -999,9,     -999,9,-999          ,9,-999          ,9,-999          ,9
325020240221  ,I08        ,24      ,  1,15         ,15         ,2,20240311,1757, -57.6136,  82.3842,     3037,   1076.3,   1.3997,  34.7350,2,  34.7337,2,    199.1,2,    199.6,2,    97.02,2,     0.00,2,    30.91,2,     0.00,2,     2.09,2,    0.352,2,    0.169,2,    0.016,2,   0.0000,2,   2251.6,3,   2349.6,2,   7.6057,2,    25.01,     -999,1,   1.3999,2,     -999,9,     -999,     -999,9,     -999,9,     -999,9,     -999,9,     -999,9,     -999,1,   0.0186,1,   4.6276,1,     13.9,2,     -999,9,20240311,1853, -57.6136,  82.3842,     -999,9,     -999,9,-999          ,9,-999          ,9,-999          ,9
325020240221  ,I08        ,24      ,  1,14         ,14         ,2,20240311,1757, -57.6136,  82.3842,     3037,   1177.1,   1.2708,  34.7248,2,  34.7239,2,    199.8,2,    199.8,2,    98.87,2,     0.00,2,    31.11,2,     0.00,2,     2.10,2,    0.474,2,    0.222,2,    0.023,2,   0.0320,2,     -999,9,     -999,9,     -999,9,     -999,     -999,1,   1.2706,2,     -999,9,     -999,     -999,9,     -999,9,     -999,9,     -999,9,     -999,9,     -999,1,   0.0182,1,   4.6263,1,     13.9,2,     -999,9,20240311,1851, -57.6135,  82.3842,     -999,9,     -999,9,-999          ,9,-999          ,9,-999          ,9
325020240221  ,I08        ,24      ,  1,13         ,13         ,2,20240311,1757, -57.6136,  82.3842,     3037,   1279.5,   1.1644,  34.7224,2,  34.7213,2,    201.7,2,    201.6,2,   101.80,2,     0.00,2,    31.16,2,     0.00,2,     2.10,2,    0.471,2,    0.216,2,    0.021,2,   0.0220,2,   2253.4,3,   2353.7,2,   7.6020,2,    25.02,     -999,1,   1.1660,2,     -999,9,     -999,     -999,9,     -999,9,     -999,9,     -999,9,     -999,9,     -999,1,   0.0181,1,   4.6253,1,     13.7,2,     -999,9,20240311,1848, -57.6135,  82.3842,     -999,9,     -999,9,-999          ,9,-999          ,9,-999          ,9
325020240221  ,I08        ,24      ,  1,12         ,12         ,2,20240311,1757, -57.6136,  82.3842,     3037,   1380.6,   1.0450,  34.7185,2,  34.7178,2,    203.1,2,    203.1,2,   105.90,2,     0.00,2,    31.45,2,     0.00,2,     2.14,2,    0.454,2,    0.204,2,    0.019,2,   0.1680,2,     -999,9,     -999,9,     -999,9,     -999,     -999,1,   1.0437,2,     -999,9,     -999,     -999,9,     -999,9,     -999,9,     -999,9,     -999,9,     -999,1,   0.0183,1,   4.6239,1,     13.6,2,     -999,9,20240311,1845, -57.6136,  82.3842,     -999,9,     -999,9,-999          ,9,-999          ,9,-999          ,9
325020240221  ,I08        ,24      ,  1,11         ,11         ,2,20240311,1757, -57.6136,  82.3842,     3037,   1481.5,   1.0014,  34.7165,2,  34.7152,2,    203.7,2,    203.5,2,   107.27,2,     0.02,2,    31.52,2,     0.00,2,     2.13,2,    0.459,2,    0.204,2,    0.019,2,   0.0650,2,   2256.0,3,   2354.8,2,   7.6013,2,    24.99,     -999,1,   1.0016,2,     -999,9,     -999,     -999,9,     -999,9,     -999,9,     -999,9,     -999,9,     -999,1,   0.0180,1,   4.6235,1,     13.6,2,     -999,9,20240311,1842, -57.6136,  82.3842,     -999,9,     -999,9,-999          ,9,-999          ,9,-999          ,9
325020240221  ,I08        ,24      ,  1,10         ,10         ,2,20240311,1757, -57.6136,  82.3842,     3037,   1583.4,   0.9454,  34.7134,2,  34.7123,2,    204.3,2,    204.3,2,   108.93,2,     0.00,2,    31.66,2,     0.00,2,     2.15,2,    0.447,2,    0.204,2,    0.018,2,   0.0170,2,     -999,9,     -999,9,     -999,9,     -999,     -999,1,   0.9452,2,     -999,9,     -999,     -999,9,     -999,9,     -999,9,     -999,9,     -999,9,     -999,1,   0.0183,1,   4.6227,1,     13.6,2,     -999,9,20240311,1839, -57.6136,  82.3842,     -999,9,     -999,9,-999          ,9,-999          ,9,-999          ,9
325020240221  ,I08        ,24      ,  1,9          ,9          ,2,20240311,1757, -57.6136,  82.3842,     3037,   1686.5,   0.8889,  34.7119,2,  34.7115,2,    205.3,2,    205.0,2,   112.44,2,     0.02,2,    31.78,2,     0.00,2,     2.14,2,    0.444,2,    0.194,2,    0.016,2,   0.0360,2,   2257.5,3,   2356.7,2,   7.6001,2,    25.01,     -999,1,   0.8895,2,     -999,9,     -999,     -999,9,     -999,9,     -999,9,     -999,9,     -999,9,     -999,1,   0.0183,1,   4.6226,1,     13.7,2,     -999,9,20240311,1836, -57.6135,  82.3842,     -999,9,     -999,9,-999          ,9,-999          ,9,-999          ,9
325020240221  ,I08        ,24      ,  1,8          ,8          ,2,20240311,1757, -57.6136,  82.3842,     3037,   1788.2,   0.8058,  34.7072,2,  34.7062,2,    205.6,2,    205.7,2,   114.88,2,     0.00,2,    32.00,2,     0.00,2,     2.16,2,    0.463,2,    0.199,2,    0.017,2,   0.0120,2,     -999,9,     -999,9,     -999,9,     -999,     -999,1,   0.8057,2,     -999,9,     -999,     -999,9,     -999,9,     -999,9,     -999,9,     -999,9,     -999,1,   0.0183,1,   4.6215,1,     13.9,2,     -999,9,20240311,1833, -57.6135,  82.3842,     -999,9,     -999,9,-999          ,9,-999          ,9,-999          ,9
325020240221  ,I08        ,24      ,  1,7          ,7          ,2,20240311,1757, -57.6136,  82.3842,     3037,   1960.4,   0.6966,  34.7010,2,  34.6999,2,    207.2,2,    207.0,2,   117.71,2,     0.00,2,    32.23,2,     0.00,2,     2.18,2,    0.475,2,    0.207,2,    0.017,2,   0.0000,2,   2259.2,3,   2357.8,2,   7.5971,6,    24.97,     -999,1,   0.6970,2,     -999,9,     -999,     -999,9,     -999,9,     -999,9,     -999,9,     -999,9,     -999,1,   0.0183,1,   4.6203,1,     13.7,2,     -999,9,20240311,1829, -57.6135,  82.3842,     -999,9,     -999,9,-999          ,9,-999          ,9,-999          ,9
325020240221  ,I08        ,24      ,  1,6          ,6          ,2,20240311,1757, -57.6136,  82.3842,     3037,   2166.0,   0.6086,  34.6967,2,  34.6950,2,    207.7,2,    207.8,2,   123.57,2,     0.00,2,    32.53,2,     0.00,2,     2.22,2,    0.448,6,    0.197,6,    0.016,6,   0.0150,6,     -999,9,     -999,9,     -999,9,     -999,     -999,1,   0.6090,2,     -999,9,     -999,     -999,9,     -999,9,     -999,9,     -999,9,     -999,9,     -999,1,   0.0183,1,   4.6203,1,     13.7,6,     -999,9,20240311,1825, -57.6135,  82.3843,     -999,9,     -999,9,-999          ,9,-999          ,9,-999          ,9