BOTTLE,20240417CCHHYDRO
EXPOCODE,SECT_ID,STNNBR,CASTNO,SAMPNO,BTLNBR,BTLNBR_FLAG_W,DATE,TIME,LATITUDE,LONGITUDE,DEPTH,CTDPRS,CTDTMP,CTDSAL,CTDSAL_FLAG_W,SALNTY,SALNTY_FLAG_W,CTDOXY,CTDOXY_FLAG_W,OXYGEN,OXYGEN_FLAG_W,SILCAT,SILCAT_FLAG_W,NH4,NH4_FLAG_W,NITRAT,NITRAT_FLAG_W,NITRIT,NITRIT_FLAG_W,PHSPHT,PHSPHT_FLAG_W,CFC-11,CFC-11_FLAG_W,CFC-12,CFC-12_FLAG_W,CFC113,CFC113_FLAG_W,SF6,SF6_FLAG_W,TCARBN,TCARBN_FLAG_W,ALKALI,ALKALI_FLAG_W,PH_TOT,PH_TOT_FLAG_W,PH_TMP,DOC,DOC_FLAG_W,REFTMP,REFTMP_FLAG_W,DELC14,DELC14_FLAG_W,C14ERR,POC,POC_FLAG_W,PON,PON_FLAG_W,POP,POP_FLAG_W,PCOD,PCOD_FLAG_W,DOP,DOP_FLAG_W,TDN,TDN_FLAG_W,CTDFLUOR,CTDFLUOR_FLAG_W,CTDXMISS,CTDXMISS_FLAG_W,N2O,N2O_FLAG_W,ARGON,ARGON_FLAG_W,BTL_DATE,BTL_TIME,BTL_LAT,BTL_LON,KRYPTON,KRYPTON_FLAG_W,XENON,XENON_FLAG_W,HPLC,HPLC_FLAG_W,DNA,DNA_FLAG_W,FCM,FCM_FLAG_W
,,,,,,,,,,,METERS,DBAR,ITS-90,PSS-78,,PSS-78,,UMOL/KG,,UMOL/KG,,UMOL/KG,,UMOL/KG,,UMOL/KG,,UMOL/KG,,UMOL/KG,,PMOL/KG,,PMOL/KG,,PMOL/KG,,FMOL/KG,,UMOL/KG,,UMOL/KG,,,,DEG C,UMOL/KG,,ITS-90,,/MILLE,,/MILLE,UG/KG,,UG/KG,,UG/L,,UG/L,,UMOL/KG,,UMOL/KG,,VOLTS,,VOLTS,,NMOL/KG,,UMOL/L,,,,,,NMOL/L,,NMOL/L,,,,,,,
325020240221  ,I08        ,9       ,  1,5          ,5          ,2,20240305,1650, -65.3668,  77.8595,     3270,   2575.4,  -0.0023,  34.6671,2,  34.6671,2,    226.6,2,    226.5,2,   126.11,2,     0.00,2,    32.57,2,     0.00,2,     2.25,2,    1.253,2,    0.618,2,    0.078,2,   0.5540,2,   2258.0,3,   2352.7,2,   7.5941,2,    25.05,     -999,9,  -0.0030,2,     -999,9,     -999,     -999,9,     -999,9,     -999,9,     -999,9,     -999,9,     -999,9,   0.0183,1,   4.5957,1,     13.6,2,     -999,9,20240305,1709, -65.3668,  77.8595,     -999,9,     -999,9,-999          ,9,-999          ,9,-999          ,9
325020240221  ,I08        ,9       ,  1,4          ,4          ,4,20240305,1650, -65.3668,  77.8595,     3270,   2778.8,  -0.0458,  34.6647,3,  34.6572,3,    228.5,3,    226.0,3,   119.27,3,     0.00,3,    32.48,3,     0.00,3,     2.24,3,    1.323,3,    0.618,3,    0.074,3,   0.4590,3,   2257.0,3,   2353.7,3,   7.5924,3,    25.02,     -999,9,  -0.0466,3,     -999,9,     -999,     -999,9,     -999,9,     -999,9,     -999,9,     -999,9,     -999,9,   0.0181,1,   4.5958,1,     13.6,3,     -999,9,20240305,1704, -65.3668,  77.8595,     -999,9,     -999,9,-999          ,9,-999          ,9,-999          ,9
325020240221  ,I08        ,9       ,  1,3          ,3          ,2,20240305,1650, -65.3668,  77.8595,     3270,   2983.2,  -0.0854,  34.6622,2,  34.6627,2,    230.3,2,    230.9,2,   126.79,2,     0.00,2,    32.66,2,     0.00,2,     2.23,2,    1.401,2,    0.724,2,    0.094,2,   0.7180,2,     -999,9,     -999,9,     -999,9,     -999,     -999,9,  -0.0862,2,     -999,9,     -999,     -999,9,     -999,9,     -999,9,     -999,9,     -999,9,     -999,9,   0.0183,1,   4.5963,1,     13.4,2,     -999,9,20240305,1659, -65.3668,  77.8595,     -999,9,     -999,9,-999          ,9,-999          ,9,-999          ,9
325020240221  ,I08        ,9       ,  1,2          ,2          ,2,20240305,1650, -65.3668,  77.8595,     3270,   3151.3,  -0.1314,  34.6593,2,  34.6600,2,    232.2,2,    232.1,2,   128.16,2,     0.00,2,    32.71,2,     0.00,2,     2.23,2,    1.602,2,    0.801,2,    0.108,2,   0.8170,2,   2257.5,3,   2359.3,2,   7.5916,2,    25.05,     -999,9,  -0.1324,2,     -999,9,     -999,     -999,9,     -999,9,     -999,9,     -999,9,     -999,9,     -999,9,   0.0183,1,   4.5970,1,     13.2,2,     -999,9,20240305,1655, -65.3669,  77.8596,     -999,9,     -999,9,-999          ,9,-999          ,9,-999          ,9
325020240221  ,I08        ,9       ,  1,1          ,1          ,2,20240305,1650, -65.3668,  77.8595,     3270,   3319.3,  -0.1490,  34.6587,2,  34.6590,2,    231.2,2,    231.0,2,   139.19,2,     0.00,2,    33.04,2,     0.00,2,     2.25,2,    1.281,2,    0.632,2,    0.084,2,   0.4660,2,   2260.1,3,   2353.4,2,   7.5913,2,    25.04,     -999,9,  -0.1500,2,     -999,9,     -999,     -999,9,     -999,9,     -999,9,     -999,9,     -999,9,     -999,9,   0.0179,1,   4.5983,1,      8.9,4,     -999,9,20240305,1650, -65.3668,  77.8596,     -999,9,     -999,9,-999          ,9,-999          ,9,-999          ,9