BOTTLE,20240417CCHHYDRO
EXPOCODE,SECT_ID,STNNBR,CASTNO,SAMPNO,BTLNBR,BTLNBR_FLAG_W,DATE,TIME,LATITUDE,LONGITUDE,DEPTH,CTDPRS,CTDTMP,CTDSAL,CTDSAL_FLAG_W,SALNTY,SALNTY_FLAG_W,CTDOXY,CTDOXY_FLAG_W,OXYGEN,OXYGEN_FLAG_W,SILCAT,SILCAT_FLAG_W,NH4,NH4_FLAG_W,NITRAT,NITRAT_FLAG_W,NITRIT,NITRIT_FLAG_W,PHSPHT,PHSPHT_FLAG_W,CFC-11,CFC-11_FLAG_W,CFC-12,CFC-12_FLAG_W,CFC113,CFC113_FLAG_W,SF6,SF6_FLAG_W,TCARBN,TCARBN_FLAG_W,ALKALI,ALKALI_FLAG_W,PH_TOT,PH_TOT_FLAG_W,PH_TMP,DOC,DOC_FLAG_W,REFTMP,REFTMP_FLAG_W,DELC14,DELC14_FLAG_W,C14ERR,POC,POC_FLAG_W,PON,PON_FLAG_W,POP,POP_FLAG_W,PCOD,PCOD_FLAG_W,DOP,DOP_FLAG_W,TDN,TDN_FLAG_W,CTDFLUOR,CTDFLUOR_FLAG_W,CTDXMISS,CTDXMISS_FLAG_W,N2O,N2O_FLAG_W,ARGON,ARGON_FLAG_W,BTL_DATE,BTL_TIME,BTL_LAT,BTL_LON,KRYPTON,KRYPTON_FLAG_W,XENON,XENON_FLAG_W,HPLC,HPLC_FLAG_W,DNA,DNA_FLAG_W,FCM,FCM_FLAG_W
,,,,,,,,,,,METERS,DBAR,ITS-90,PSS-78,,PSS-78,,UMOL/KG,,UMOL/KG,,UMOL/KG,,UMOL/KG,,UMOL/KG,,UMOL/KG,,UMOL/KG,,PMOL/KG,,PMOL/KG,,PMOL/KG,,FMOL/KG,,UMOL/KG,,UMOL/KG,,,,DEG C,UMOL/KG,,ITS-90,,/MILLE,,/MILLE,UG/KG,,UG/KG,,UG/L,,UG/L,,UMOL/KG,,UMOL/KG,,VOLTS,,VOLTS,,NMOL/KG,,UMOL/L,,,,,,NMOL/L,,NMOL/L,,,,,,,
325020240221  ,I08        ,53      ,  1,36         ,36         ,2,20240323,1040, -39.5072,  95.0021,     3731,      3.1,  15.7051,  34.7803,2,  34.7760,2,    257.1,2,    257.1,2,     0.68,2,     0.07,2,     3.29,2,     0.07,2,     0.37,2,    2.472,2,    1.458,2,    0.283,4,   2.6310,2,   2071.7,3,   2305.1,2,   7.9225,2,    24.99,     -999,1,  15.7077,2,     -999,9,     -999,     -999,9,     -999,9,     -999,9,     -999,9,     -999,9,     -999,1,   0.0896,1,   4.3886,1,      8.1,2,     -999,9,20240323,1239, -39.5072,  95.0021,     -999,9,     -999,9,-999          ,9,-999          ,9,-999          ,9
325020240221  ,I08        ,53      ,  1,35         ,35         ,2,20240323,1040, -39.5072,  95.0021,     3731,     35.0,  15.1481,  34.7473,2,  34.7445,2,    257.2,2,    257.2,2,     0.59,2,     0.09,2,     3.64,2,     0.08,2,     0.38,2,    2.507,2,    1.510,2,    0.333,4,   2.6350,2,   2073.3,3,   2303.8,2,   7.9139,6,    25.01,     -999,9,  15.1525,2,     -999,9,     -999,     -999,9,     -999,9,     -999,9,     -999,9,     -999,9,     -999,9,   0.1182,1,   4.4259,1,      8.5,2,     -999,9,20240323,1237, -39.5072,  95.0021,     -999,9,     -999,9,-999          ,9,-999          ,9,-999          ,9
325020240221  ,I08        ,53      ,  1,34         ,34         ,2,20240323,1040, -39.5072,  95.0021,     3731,     59.7,  14.7366,  34.7527,2,  34.7482,2,    253.1,2,    252.1,2,     0.68,2,     0.48,2,     4.20,2,     0.09,2,     0.45,2,    2.712,2,    1.511,2,    0.350,4,   2.6190,2,   2084.1,3,   2300.6,2,   7.8960,6,    24.97,     -999,9,  14.8295,2,     -999,9,     -999,     -999,9,     -999,9,     -999,9,     -999,9,     -999,9,     -999,9,   0.0779,1,   4.5555,1,      8.7,2,     -999,9,20240323,1235, -39.5072,  95.0021,     -999,9,     -999,9,-999          ,9,-999          ,9,-999          ,9
325020240221  ,I08        ,53      ,  1,33         ,33         ,2,20240323,1040, -39.5072,  95.0021,     3731,     85.0,  11.6141,  34.8543,2,  34.8499,2,    263.1,2,    261.3,2,     2.93,2,     0.56,2,     7.57,2,     0.77,2,     0.69,2,    3.199,2,    1.758,2,    0.338,4,   2.6440,2,   2116.3,3,   2303.1,6,   7.8261,2,    24.98,     -999,9,  11.6429,2,     -999,9,     -999,     -999,9,     -999,9,     -999,9,     -999,9,     -999,9,     -999,9,   0.0507,1,   4.6280,1,      9.9,2,     -999,9,20240323,1233, -39.5072,  95.0021,     -999,9,     -999,9,-999          ,9,-999          ,9,-999          ,9
325020240221  ,I08        ,53      ,  1,32         ,32         ,2,20240323,1040, -39.5072,  95.0021,     3731,    110.5,  11.4314,  34.8863,2,  34.8861,2,    255.0,2,    254.6,2,     2.93,2,     0.03,2,     9.48,2,     0.00,2,     0.72,2,    3.183,2,    1.761,2,    0.324,4,   2.6470,2,   2120.4,3,   2302.1,2,   7.8167,2,    24.99,     -999,9,  11.4353,2,     -999,9,     -999,     -999,9,     -999,9,     -999,9,     -999,9,     -999,9,     -999,9,   0.0226,1,   4.6701,1,      9.6,2,     -999,9,20240323,1231, -39.5072,  95.0021,     -999,9,     -999,9,-999          ,9,-999          ,9,-999          ,9
325020240221  ,I08        ,53      ,  1,31         ,31         ,2,20240323,1040, -39.5072,  95.0021,     3731,    135.2,  11.3267,  34.8879,2,  34.8877,2,    254.7,2,    255.0,2,     3.03,2,     0.02,2,     9.65,2,     0.00,2,     0.71,2,    3.297,2,    1.776,2,    0.288,4,   2.6250,2,   2121.9,3,   2303.0,2,   7.8158,2,    25.03,     -999,9,  11.3229,2,     -999,9,     -999,     -999,9,     -999,9,     -999,9,     -999,9,     -999,9,     -999,9,   0.0195,1,   4.6752,1,      9.7,2,     -999,9,20240323,1229, -39.5072,  95.0021,     -999,9,     -999,9,-999          ,9,-999          ,9,-999          ,9
325020240221  ,I08        ,53      ,  1,30         ,30         ,2,20240323,1040, -39.5072,  95.0021,     3731,    165.9,  11.2017,  34.8864,2,  34.8810,2,    255.3,2,    255.1,2,     2.93,2,     0.00,2,     9.83,2,     0.00,2,     0.74,2,     -999,9,     -999,9,     -999,9,     -999,9,     -999,9,     -999,9,     -999,9,     -999,     -999,9,  11.2020,2,     -999,9,     -999,     -999,9,     -999,9,     -999,9,     -999,9,     -999,9,     -999,9,   0.0180,1,   4.6777,1,     -999,9,     -999,9,20240323,1227, -39.5072,  95.0021,     -999,9,     -999,9,-999          ,9,-999          ,9,-999          ,9
325020240221  ,I08        ,53      ,  1,29         ,29         ,2,20240323,1040, -39.5072,  95.0021,     3731,    216.6,  11.0957,  34.8904,2,  34.8892,2,    253.5,2,    253.3,2,     3.03,2,     0.03,2,    10.24,2,     0.00,2,     0.75,2,    3.290,2,    1.798,2,    0.266,4,   2.5810,2,   2124.9,3,   2303.1,2,   7.8105,2,    25.01,     -999,9,  11.0957,2,     -999,9,     -999,     -999,9,     -999,9,     -999,9,     -999,9,     -999,9,     -999,9,   0.0178,1,   4.6801,1,     10.0,2,     -999,9,20240323,1224, -39.5072,  95.0021,     -999,9,     -999,9,-999          ,9,-999          ,9,-999          ,9
325020240221  ,I08        ,53      ,  1,28         ,28         ,2,20240323,1040, -39.5072,  95.0021,     3731,    266.3,  11.0431,  34.8912,2,  34.8896,2,    252.8,2,    253.0,2,     3.12,2,     0.00,2,    10.44,2,     0.00,2,     0.78,2,     -999,9,     -999,9,     -999,9,     -999,9,     -999,9,     -999,9,     -999,9,     -999,     -999,9,  11.0432,2,     -999,9,     -999,     -999,9,     -999,9,     -999,9,     -999,9,     -999,9,     -999,9,   0.0176,1,   4.6812,1,     -999,9,     -999,9,20240323,1222, -39.5072,  95.0021,     -999,9,     -999,9,-999          ,9,-999          ,9,-999          ,9
325020240221  ,I08        ,53      ,  1,27         ,27         ,2,20240323,1040, -39.5072,  95.0021,     3731,    317.1,  10.9280,  34.8758,2,  34.8739,2,    253.3,2,    253.4,2,     3.03,2,     0.00,2,    10.64,2,     0.00,2,     0.77,2,    3.273,2,    1.825,2,    0.228,4,   2.6400,2,   2124.9,3,   2301.8,2,   7.8073,2,    24.97,     -999,9,  10.9294,2,     -999,9,     -999,     -999,9,     -999,9,     -999,9,     -999,9,     -999,9,     -999,9,   0.0182,1,   4.6809,1,     10.0,2,     -999,9,20240323,1220, -39.5072,  95.0021,     -999,9,     -999,9,-999          ,9,-999          ,9,-999          ,9
325020240221  ,I08        ,53      ,  1,26         ,26         ,2,20240323,1040, -39.5072,  95.0021,     3731,    367.7,  10.8344,  34.8644,2,  34.8633,2,    252.1,2,    252.2,2,     3.22,2,     0.00,2,    11.11,2,     0.00,2,     0.80,2,    3.339,2,    1.811,2,    0.219,4,   2.4780,2,   2125.9,3,   2301.0,2,   7.8021,6,    24.99,     -999,9,  10.8356,2,     -999,9,     -999,     -999,9,     -999,9,     -999,9,     -999,9,     -999,9,     -999,9,   0.0173,1,   4.6813,1,     10.2,2,     -999,9,20240323,1217, -39.5072,  95.0021,     -999,9,     -999,9,-999          ,9,-999          ,9,-999          ,9
325020240221  ,I08        ,53      ,  1,25         ,25         ,2,20240323,1040, -39.5072,  95.0021,     3731,    418.9,  10.6824,  34.8425,2,  34.8424,2,    249.1,2,    250.1,2,     3.42,2,     0.00,2,    11.77,2,     0.00,2,     0.85,2,    3.289,2,    1.818,2,    0.184,4,   2.4570,2,   2128.7,3,   2300.8,2,   7.7944,2,    25.02,     -999,9,  10.6839,2,     -999,9,     -999,     -999,9,     -999,9,     -999,9,     -999,9,     -999,9,     -999,9,   0.0174,1,   4.6812,1,     10.2,2,     -999,9,20240323,1214, -39.5072,  95.0021,     -999,9,     -999,9,-999          ,9,-999          ,9,-999          ,9
325020240221  ,I08        ,53      ,  1,24         ,24         ,2,20240323,1040, -39.5072,  95.0021,     3731,    467.9,  10.3803,  34.7943,2,  34.7903,2,    247.8,2,    247.6,2,     3.71,2,     0.00,2,    12.82,2,     0.00,2,     0.92,2,     -999,9,     -999,9,     -999,9,     -999,9,     -999,9,     -999,9,     -999,9,     -999,     -999,9,  10.3897,2,     -999,9,     -999,     -999,9,     -999,9,     -999,9,     -999,9,     -999,9,     -999,9,   0.0183,1,   4.6820,1,     -999,9,     -999,9,20240323,1212, -39.5072,  95.0021,     -999,9,     -999,9,-999          ,9,-999          ,9,-999          ,9
325020240221  ,I08        ,53      ,  1,23         ,37         ,2,20240323,1040, -39.5072,  95.0021,     3731,    539.1,   9.9688,  34.7339,2,  34.7357,2,    240.5,2,    240.4,2,     4.49,2,     0.00,2,    14.62,2,     0.00,2,     1.02,2,    3.577,2,    1.956,2,    0.159,4,   2.1800,2,   2136.2,3,   2294.5,2,   7.7645,2,    25.01,     -999,9,   9.9698,2,     -999,9,     -999,     -999,9,     -999,9,     -999,9,     -999,9,     -999,9,     -999,9,   0.0176,1,   4.6821,1,     11.1,2,     -999,9,20240323,1209, -39.5072,  95.0021,     -999,9,     -999,9,-999          ,9,-999          ,9,-999          ,9
325020240221  ,I08        ,53      ,  1,22         ,22         ,2,20240323,1040, -39.5072,  95.0021,     3731,    639.8,   9.3033,  34.6613,2,  34.6624,2,    228.2,2,    229.3,2,     6.05,2,     0.03,2,    17.40,2,     0.00,2,     1.20,2,     -999,9,     -999,9,     -999,9,     -999,9,     -999,9,     -999,9,     -999,9,     -999,     -999,9,   9.3017,2,     -999,9,     -999,     -999,9,     -999,9,     -999,9,     -999,9,     -999,9,     -999,9,   0.0183,1,   4.6837,1,     -999,9,     -999,9,20240323,1206, -39.5072,  95.0021,     -999,9,     -999,9,-999          ,9,-999          ,9,-999          ,9
325020240221  ,I08        ,53      ,  1,21         ,21         ,2,20240323,1040, -39.5072,  95.0021,     3731,    741.1,   8.2750,  34.5552,2,  34.5521,2,    215.1,2,    215.1,2,    10.25,2,     0.00,2,    21.34,2,     0.00,2,     1.44,2,    3.488,2,    1.812,2,    0.151,4,   1.4690,2,   2158.4,3,   2289.6,2,   7.6977,2,    24.98,     -999,9,   8.2739,2,     -999,9,     -999,     -999,9,     -999,9,     -999,9,     -999,9,     -999,9,     -999,9,   0.0176,1,   4.6854,1,      9.2,4,     -999,9,20240323,1202, -39.5072,  95.0021,     -999,9,     -999,9,-999          ,9,-999          ,9,-999          ,9
325020240221  ,I08        ,53      ,  1,20         ,20         ,2,20240323,1040, -39.5072,  95.0021,     3731,    843.3,   6.9994,  34.4491,2,  34.4526,2,    206.6,2,    207.4,2,    15.42,2,     0.00,2,    24.87,2,     0.00,2,     1.66,2,     -999,9,     -999,9,     -999,9,     -999,9,     -999,9,     -999,9,     -999,9,     -999,     -999,9,   7.0127,2,     -999,9,     -999,     -999,9,     -999,9,     -999,9,     -999,9,     -999,9,     -999,9,   0.0183,1,   4.6861,1,     -999,9,     -999,9,20240323,1159, -39.5072,  95.0021,     -999,9,     -999,9,-999          ,9,-999          ,9,-999          ,9
325020240221  ,I08        ,53      ,  1,19         ,19         ,2,20240323,1040, -39.5072,  95.0021,     3731,    943.9,   5.7834,  34.3649,2,  34.3656,2,    208.5,2,    208.5,2,    21.19,2,     0.00,2,    27.64,2,     0.00,2,     1.85,2,    3.245,2,    1.625,2,    0.166,4,   1.1380,2,   2181.9,3,   2289.5,2,   7.6344,2,    24.98,     -999,9,   5.7941,2,     -999,9,     -999,     -999,9,     -999,9,     -999,9,     -999,9,     -999,9,     -999,9,   0.0183,1,   4.6872,1,     15.3,2,     -999,9,20240323,1156, -39.5072,  95.0021,     -999,9,     -999,9,-999          ,9,-999          ,9,-999          ,9
325020240221  ,I08        ,53      ,  1,18         ,18         ,2,20240323,1040, -39.5072,  95.0021,     3731,   1045.3,   4.7731,  34.3255,2,  34.3276,2,    209.0,2,    208.4,2,    28.61,2,     0.00,2,    29.70,2,     0.00,2,     2.01,2,     -999,9,     -999,9,     -999,9,     -999,9,     -999,9,     -999,9,     -999,9,     -999,     -999,9,   4.7845,2,     -999,9,     -999,     -999,9,     -999,9,     -999,9,     -999,9,     -999,9,     -999,9,   0.0176,1,   4.6791,1,     -999,9,     -999,9,20240323,1153, -39.5072,  95.0021,     -999,9,     -999,9,-999          ,9,-999          ,9,-999          ,9
325020240221  ,I08        ,53      ,  1,17         ,17         ,2,20240323,1040, -39.5072,  95.0021,     3731,   1146.3,   4.1235,  34.3352,2,  34.3368,2,    203.6,2,    202.6,2,    37.10,2,     0.00,2,    31.29,2,     0.00,2,     2.12,2,    2.576,2,    1.265,2,    0.141,4,   0.8010,2,   2206.5,3,   2301.7,2,   7.5983,2,    24.99,     -999,9,   4.1212,2,     -999,9,     -999,     -999,9,     -999,9,     -999,9,     -999,9,     -999,9,     -999,9,   0.0183,1,   4.6717,1,     16.7,2,     -999,9,20240323,1150, -39.5072,  95.0021,     -999,9,     -999,9,-999          ,9,-999          ,9,-999          ,9
325020240221  ,I08        ,53      ,  1,16         ,16         ,2,20240323,1040, -39.5072,  95.0021,     3731,   1248.6,   3.6759,  34.3765,2,  34.3743,2,    192.6,2,    191.8,2,    45.59,2,     0.03,2,    32.58,2,     0.00,2,     2.22,2,     -999,9,     -999,9,     -999,9,     -999,9,     -999,9,     -999,9,     -999,9,     -999,     -999,9,   3.6835,2,     -999,9,     -999,     -999,9,     -999,9,     -999,9,     -999,9,     -999,9,     -999,9,   0.0183,1,   4.6657,1,     -999,9,     -999,9,20240323,1146, -39.5072,  95.0021,     -999,9,     -999,9,-999          ,9,-999          ,9,-999          ,9
325020240221  ,I08        ,53      ,  1,15         ,15         ,2,20240323,1040, -39.5072,  95.0021,     3731,   1348.5,   3.3727,  34.4182,2,  34.4214,2,    182.6,2,    182.3,2,    53.69,2,     0.00,2,    33.50,2,     0.00,2,     2.27,2,    1.455,2,    0.719,2,    0.066,4,   0.4000,2,   2231.3,3,   2316.7,2,   7.5705,2,    25.02,     -999,9,   3.3729,2,     -999,9,     -999,     -999,9,     -999,9,     -999,9,     -999,9,     -999,9,     -999,9,   0.0183,1,   4.6618,1,     17.9,2,     -999,9,20240323,1143, -39.5072,  95.0020,     -999,9,     -999,9,-999          ,9,-999          ,9,-999          ,9
325020240221  ,I08        ,53      ,  1,14         ,14         ,2,20240323,1040, -39.5072,  95.0021,     3731,   1451.5,   3.1734,  34.4643,2,  34.4657,2,    175.6,2,    175.5,2,    60.14,2,     0.00,2,    33.87,2,     0.00,2,     2.31,2,     -999,9,     -999,9,     -999,9,     -999,9,     -999,9,     -999,9,     -999,9,     -999,     -999,9,   3.1764,2,     -999,9,     -999,     -999,9,     -999,9,     -999,9,     -999,9,     -999,9,     -999,9,   0.0183,1,   4.6588,1,     -999,9,     -999,9,20240323,1140, -39.5072,  95.0021,     -999,9,     -999,9,-999          ,9,-999          ,9,-999          ,9
325020240221  ,I08        ,53      ,  1,13         ,13         ,2,20240323,1040, -39.5072,  95.0021,     3731,   1552.2,   2.9559,  34.5170,2,  34.5152,2,    170.8,2,    170.8,2,    65.60,2,     0.00,2,    34.11,2,     0.00,2,     2.31,2,    0.797,2,    0.380,2,    0.041,4,   0.2230,2,   2247.2,3,   2327.1,2,   7.5596,2,    25.02,     -999,9,   2.9556,2,     -999,9,     -999,     -999,9,     -999,9,     -999,9,     -999,9,     -999,9,     -999,9,   0.0183,1,   4.6568,1,     18.2,2,     -999,9,20240323,1137, -39.5072,  95.0021,     -999,9,     -999,9,-999          ,9,-999          ,9,-999          ,9
325020240221  ,I08        ,53      ,  1,12         ,12         ,2,20240323,1040, -39.5072,  95.0021,     3731,   1653.6,   2.8145,  34.5584,2,  34.5610,2,    170.2,2,    170.3,2,    69.31,2,     0.00,2,    33.84,2,     0.00,2,     2.30,2,    0.613,2,    0.304,2,    0.026,4,   0.2200,2,   2250.9,3,   2332.6,2,   7.5612,6,    24.98,     -999,9,   2.8147,2,     -999,9,     -999,     -999,9,     -999,9,     -999,9,     -999,9,     -999,9,     -999,9,   0.0183,1,   4.6544,1,     17.8,2,     -999,9,20240323,1134, -39.5072,  95.0021,     -999,9,     -999,9,-999          ,9,-999          ,9,-999          ,9
325020240221  ,I08        ,53      ,  1,11         ,11         ,2,20240323,1040, -39.5072,  95.0021,     3731,   1755.3,   2.7060,  34.6035,2,  34.6077,2,    170.2,2,    171.3,2,    73.01,2,     0.00,2,    33.40,2,     0.00,2,     2.27,2,    0.443,2,    0.219,2,    0.018,4,   0.1420,2,   2252.2,3,   2336.9,2,   7.5671,6,    24.99,     -999,9,   2.7059,2,     -999,9,     -999,     -999,9,     -999,9,     -999,9,     -999,9,     -999,9,     -999,9,   0.0183,1,   4.6533,1,     17.7,2,     -999,9,20240323,1131, -39.5072,  95.0021,     -999,9,     -999,9,-999          ,9,-999          ,9,-999          ,9
325020240221  ,I08        ,53      ,  1,10         ,10         ,2,20240323,1040, -39.5072,  95.0021,     3731,   1887.8,   2.5898,  34.6519,2,  34.6545,2,    172.4,2,    173.0,2,    76.62,2,     0.00,2,    32.78,2,     0.00,2,     2.23,2,     -999,9,     -999,9,     -999,9,     -999,9,     -999,9,     -999,9,     -999,9,     -999,     -999,9,   2.5895,2,     -999,9,     -999,     -999,9,     -999,9,     -999,9,     -999,9,     -999,9,     -999,9,   0.0183,1,   4.6518,1,     -999,9,     -999,9,20240323,1127, -39.5072,  95.0021,     -999,9,     -999,9,-999          ,9,-999          ,9,-999          ,9
325020240221  ,I08        ,53      ,  1,9          ,9          ,2,20240323,1040, -39.5072,  95.0021,     3731,   2089.7,   2.4355,  34.7023,2,  34.7015,2,    180.9,2,    180.9,2,    77.69,2,     0.02,2,    31.58,2,     0.00,2,     2.14,2,    0.227,2,    0.122,2,    0.010,4,   0.0760,2,   2250.1,3,   2343.8,6,   7.5914,2,    25.03,     -999,9,   2.4358,2,     -999,9,     -999,     -999,9,     -999,9,     -999,9,     -999,9,     -999,9,     -999,9,   0.0183,1,   4.6506,1,     16.7,2,     -999,9,20240323,1122, -39.5072,  95.0021,     -999,9,     -999,9,-999          ,9,-999          ,9,-999          ,9
325020240221  ,I08        ,53      ,  1,8          ,8          ,2,20240323,1040, -39.5072,  95.0021,     3731,   2294.0,   2.2596,  34.7343,2,  34.7339,2,    187.8,2,    187.8,2,    81.60,2,     0.00,2,    30.77,2,     0.00,2,     2.09,2,    0.154,2,    0.084,2,    0.007,4,   0.0000,2,   2248.6,3,   2348.3,2,   7.6059,2,    25.04,     -999,9,   2.2609,2,     -999,9,     -999,     -999,9,     -999,9,     -999,9,     -999,9,     -999,9,     -999,9,   0.0183,1,   4.6481,1,     16.3,2,     -999,9,20240323,1117, -39.5072,  95.0021,     -999,9,     -999,9,-999          ,9,-999          ,9,-999          ,9
325020240221  ,I08        ,53      ,  1,7          ,7          ,2,20240323,1040, -39.5072,  95.0021,     3731,   2497.2,   2.0800,  34.7480,2,  34.7490,2,    193.8,2,    194.6,2,    85.40,2,     0.00,2,    30.30,2,     0.00,2,     2.06,2,    0.136,2,    0.074,2,    0.010,4,   0.0050,2,   2247.5,3,   2350.3,2,   7.6153,2,    24.97,     -999,9,   2.0794,2,     -999,9,     -999,     -999,9,     -999,9,     -999,9,     -999,9,     -999,9,     -999,9,   0.0180,1,   4.6447,1,     15.8,2,     -999,9,20240323,1112, -39.5072,  95.0021,     -999,9,     -999,9,-999          ,9,-999          ,9,-999          ,9
325020240221  ,I08        ,53      ,  1,6          ,6          ,2,20240323,1040, -39.5072,  95.0021,     3731,   2701.9,   1.8320,  34.7476,2,  34.7475,2,    197.3,2,    197.4,2,    92.14,2,     0.02,2,    30.46,2,     0.00,2,     2.06,2,     -999,9,     -999,9,     -999,9,     -999,9,     -999,9,     -999,9,     -999,9,     -999,     -999,9,   1.8316,2,     -999,9,     -999,     -999,9,     -999,9,     -999,9,     -999,9,     -999,9,     -999,9,   0.0195,1,   4.6411,1,     -999,9,     -999,9,20240323,1107, -39.5072,  95.0021,     -999,9,     -999,9,-999          ,9,-999          ,9,-999          ,9