BOTTLE,20240417CCHHYDRO
EXPOCODE,SECT_ID,STNNBR,CASTNO,SAMPNO,BTLNBR,BTLNBR_FLAG_W,DATE,TIME,LATITUDE,LONGITUDE,DEPTH,CTDPRS,CTDTMP,CTDSAL,CTDSAL_FLAG_W,SALNTY,SALNTY_FLAG_W,CTDOXY,CTDOXY_FLAG_W,OXYGEN,OXYGEN_FLAG_W,SILCAT,SILCAT_FLAG_W,NH4,NH4_FLAG_W,NITRAT,NITRAT_FLAG_W,NITRIT,NITRIT_FLAG_W,PHSPHT,PHSPHT_FLAG_W,CFC-11,CFC-11_FLAG_W,CFC-12,CFC-12_FLAG_W,CFC113,CFC113_FLAG_W,SF6,SF6_FLAG_W,TCARBN,TCARBN_FLAG_W,ALKALI,ALKALI_FLAG_W,PH_TOT,PH_TOT_FLAG_W,PH_TMP,DOC,DOC_FLAG_W,REFTMP,REFTMP_FLAG_W,DELC14,DELC14_FLAG_W,C14ERR,POC,POC_FLAG_W,PON,PON_FLAG_W,POP,POP_FLAG_W,PCOD,PCOD_FLAG_W,DOP,DOP_FLAG_W,TDN,TDN_FLAG_W,CTDFLUOR,CTDFLUOR_FLAG_W,CTDXMISS,CTDXMISS_FLAG_W,N2O,N2O_FLAG_W,ARGON,ARGON_FLAG_W,BTL_DATE,BTL_TIME,BTL_LAT,BTL_LON,KRYPTON,KRYPTON_FLAG_W,XENON,XENON_FLAG_W,HPLC,HPLC_FLAG_W,DNA,DNA_FLAG_W,FCM,FCM_FLAG_W
,,,,,,,,,,,METERS,DBAR,ITS-90,PSS-78,,PSS-78,,UMOL/KG,,UMOL/KG,,UMOL/KG,,UMOL/KG,,UMOL/KG,,UMOL/KG,,UMOL/KG,,PMOL/KG,,PMOL/KG,,PMOL/KG,,FMOL/KG,,UMOL/KG,,UMOL/KG,,,,DEG C,UMOL/KG,,ITS-90,,/MILLE,,/MILLE,UG/KG,,UG/KG,,UG/L,,UG/L,,UMOL/KG,,UMOL/KG,,VOLTS,,VOLTS,,NMOL/KG,,UMOL/L,,,,,,NMOL/L,,NMOL/L,,,,,,,
325020240221  ,I08        ,37      ,  1,36         ,36         ,2,20240318,2018, -48.5239,  91.9011,     3621,      4.2,   8.0495,  33.8008,2,  33.8005,2,    288.4,2,    288.1,2,     1.76,2,     0.39,2,    16.81,2,     0.27,2,     1.23,2,    3.368,2,    2.142,2,    0.739,4,   3.4490,2,   2099.5,3,   2268.4,2,   7.7810,2,    24.97,     -999,1,   8.0490,2,     -999,9,     -999,     -999,9,     -999,9,     -999,9,     -999,9,     -999,9,     -999,1,   0.0432,1,   0.0085,1,      9.2,2,     -999,9,20240318,2232, -48.5239,  91.9011,     -999,9,     -999,9,-999          ,9,-999          ,9,-999          ,9
325020240221  ,I08        ,37      ,  1,35         ,35         ,2,20240318,2018, -48.5239,  91.9011,     3621,     24.1,   8.0340,  33.8015,2,  33.8014,2,    288.5,2,    288.3,2,     1.66,2,     0.43,2,    16.82,2,     0.27,2,     1.23,2,    3.767,2,    2.177,2,    0.764,4,   3.4320,2,   2106.2,3,   2269.5,2,   7.7807,6,    24.98,     -999,9,   8.0304,2,     -999,9,     -999,     -999,9,     -999,9,     -999,9,     -999,9,     -999,9,     -999,9,   0.0434,1,   0.0085,1,      9.4,2,     -999,9,20240318,2229, -48.5239,  91.9011,     -999,9,     -999,9,-999          ,9,-999          ,9,-999          ,9
325020240221  ,I08        ,37      ,  1,34         ,34         ,2,20240318,2018, -48.5239,  91.9011,     3621,     48.1,   7.9256,  33.8018,2,  33.8014,2,    288.3,2,    288.9,2,     1.76,2,     0.40,2,    16.99,2,     0.27,2,     1.25,2,    4.604,2,    2.140,2,    0.739,4,   3.4460,2,   2106.1,3,   2270.2,2,   7.7785,2,    25.00,     -999,9,   7.9277,2,     -999,9,     -999,     -999,9,     -999,9,     -999,9,     -999,9,     -999,9,     -999,9,   0.0463,1,   0.0085,1,      9.6,2,     -999,9,20240318,2228, -48.5239,  91.9012,     -999,9,     -999,9,-999          ,9,-999          ,9,-999          ,9
325020240221  ,I08        ,37      ,  1,33         ,33         ,2,20240318,2018, -48.5239,  91.9011,     3621,     72.8,   7.8893,  33.8021,2,  33.8018,2,    289.1,2,    288.8,2,     1.76,2,     0.41,2,    16.99,2,     0.27,2,     1.25,2,    4.402,2,    2.189,2,    0.809,4,   3.5030,2,   2100.3,3,   2270.5,2,   7.7773,6,    24.99,     -999,9,   7.8901,2,     -999,9,     -999,     -999,9,     -999,9,     -999,9,     -999,9,     -999,9,     -999,9,   0.0461,1,   0.0085,1,      9.6,2,     -999,9,20240318,2226, -48.5240,  91.9012,     -999,9,     -999,9,-999          ,9,-999          ,9,-999          ,9
325020240221  ,I08        ,37      ,  1,32         ,32         ,2,20240318,2018, -48.5239,  91.9011,     3621,    100.8,   7.8803,  33.8023,2,  33.8028,2,    289.0,2,    288.7,2,     1.86,2,     0.46,2,    17.01,2,     0.27,2,     1.25,2,    4.515,2,    2.181,2,    0.748,4,   3.4740,2,   2104.0,3,   2270.3,6,   7.7772,2,    24.99,     -999,9,   7.8800,2,     -999,9,     -999,     -999,9,     -999,9,     -999,9,     -999,9,     -999,9,     -999,9,   0.0455,1,   0.0085,1,      9.9,2,     -999,9,20240318,2223, -48.5239,  91.9011,     -999,9,     -999,9,-999          ,9,-999          ,9,-999          ,9
325020240221  ,I08        ,37      ,  1,31         ,31         ,2,20240318,2018, -48.5239,  91.9011,     3621,    124.6,   6.8955,  33.8995,2,  33.9032,2,    282.5,2,    283.0,2,     3.32,2,     0.13,2,    19.31,2,     0.42,2,     1.40,2,    4.722,2,    2.243,2,    0.751,4,   3.4830,2,   2122.4,3,   2274.5,2,   7.7423,2,    24.98,     -999,9,   6.8889,2,     -999,9,     -999,     -999,9,     -999,9,     -999,9,     -999,9,     -999,9,     -999,9,   0.0263,1,   0.0085,1,     10.9,2,     -999,9,20240318,2221, -48.5239,  91.9011,     -999,9,     -999,9,-999          ,9,-999          ,9,-999          ,9
325020240221  ,I08        ,37      ,  1,30         ,30         ,2,20240318,2018, -48.5239,  91.9011,     3621,    150.6,   6.7526,  34.0060,2,  34.0098,2,    273.5,2,    276.2,2,     4.98,2,     0.02,2,    20.36,2,     0.00,2,     1.45,2,    4.848,2,    2.330,2,    0.660,4,   3.2910,2,   2134.1,3,   2275.5,2,   7.7229,2,    24.98,     -999,9,   6.7622,2,     -999,9,     -999,     -999,9,     -999,9,     -999,9,     -999,9,     -999,9,     -999,9,   0.0203,1,   0.0085,1,     11.1,2,     -999,9,20240318,2219, -48.5239,  91.9011,     -999,9,     -999,9,-999          ,9,-999          ,9,-999          ,9
325020240221  ,I08        ,37      ,  1,29         ,29         ,2,20240318,2018, -48.5239,  91.9011,     3621,    200.8,   7.3053,  34.2334,2,  34.2393,2,    259.8,3,    256.7,2,     7.03,2,     0.02,2,    20.16,2,     0.00,2,     1.41,2,    4.284,2,    2.213,2,    0.494,4,   2.7300,2,   2136.8,3,   2278.6,2,   7.7117,2,    25.01,     -999,9,   7.3002,2,     -999,9,     -999,     -999,9,     -999,9,     -999,9,     -999,9,     -999,9,     -999,9,   0.0183,1,   0.0085,1,     11.9,2,     -999,9,20240318,2216, -48.5239,  91.9011,     -999,9,     -999,9,-999          ,9,-999          ,9,-999          ,9
325020240221  ,I08        ,37      ,  1,28         ,28         ,2,20240318,2018, -48.5239,  91.9011,     3621,    251.3,   7.1938,  34.3113,2,  34.3111,2,    242.3,2,    244.0,2,     8.98,2,     0.00,2,    21.48,2,     0.00,2,     1.48,2,    4.101,2,    2.092,2,    0.407,4,   2.6040,2,   2151.7,3,   2281.0,2,   7.6930,2,    25.00,     -999,9,   7.1937,2,     -999,9,     -999,     -999,9,     -999,9,     -999,9,     -999,9,     -999,9,     -999,9,   0.0183,1,   0.0086,1,     13.1,2,     -999,9,20240318,2213, -48.5239,  91.9011,     -999,9,     -999,9,-999          ,9,-999          ,9,-999          ,9
325020240221  ,I08        ,37      ,  1,27         ,27         ,2,20240318,2018, -48.5239,  91.9011,     3621,    302.8,   6.3785,  34.2519,2,  34.2593,2,    244.4,2,    244.7,2,    11.52,2,     0.00,2,    23.38,2,     0.00,2,     1.61,2,    4.375,2,    2.107,2,    0.439,4,   2.4300,2,   2170.0,3,   2279.7,2,   7.6745,6,    25.01,     -999,9,   6.3749,2,     -999,9,     -999,     -999,9,     -999,9,     -999,9,     -999,9,     -999,9,     -999,9,   0.0183,1,   0.0087,1,     13.5,2,     -999,9,20240318,2210, -48.5239,  91.9011,     -999,9,     -999,9,-999          ,9,-999          ,9,-999          ,9
325020240221  ,I08        ,37      ,  1,26         ,26         ,2,20240318,2018, -48.5239,  91.9011,     3621,    352.9,   6.0526,  34.2870,2,  34.2876,2,    233.7,2,    233.9,2,    13.86,2,     0.02,2,    25.02,2,     0.00,2,     1.73,2,    4.461,2,    2.187,2,    0.439,4,   2.0920,2,   2172.2,3,   2281.1,2,   7.6535,2,    25.00,     -999,9,   6.0524,2,     -999,9,     -999,     -999,9,     -999,9,     -999,9,     -999,9,     -999,9,     -999,9,   0.0183,1,   0.0086,1,     14.3,2,     -999,9,20240318,2208, -48.5239,  91.9011,     -999,9,     -999,9,-999          ,9,-999          ,9,-999          ,9
325020240221  ,I08        ,37      ,  1,25         ,25         ,2,20240318,2018, -48.5239,  91.9011,     3621,    403.2,   5.2539,  34.2210,2,  34.2230,2,    240.6,2,    240.8,2,    16.50,2,     0.00,2,    26.48,2,     0.00,2,     1.83,2,    4.563,2,    2.149,2,    0.426,4,   2.0980,2,   2180.8,3,   2281.1,2,   7.6418,2,    25.00,     -999,9,   5.2536,2,     -999,9,     -999,     -999,9,     -999,9,     -999,9,     -999,9,     -999,9,     -999,9,   0.0183,1,   0.0086,1,     15.1,2,     -999,9,20240318,2206, -48.5239,  91.9012,     -999,9,     -999,9,-999          ,9,-999          ,9,-999          ,9
325020240221  ,I08        ,37      ,  1,24         ,24         ,2,20240318,2018, -48.5239,  91.9011,     3621,    452.9,   4.5274,  34.1601,2,  34.1605,2,    249.1,2,    248.8,2,    18.55,2,     0.00,2,    27.59,2,     0.00,2,     1.88,2,    4.676,2,    2.358,2,    0.437,4,   2.2230,2,   2183.2,3,   2284.5,2,   7.6322,2,    25.00,     -999,9,   4.5335,2,     -999,9,     -999,     -999,9,     -999,9,     -999,9,     -999,9,     -999,9,     -999,9,   0.0183,1,   0.0087,1,     15.3,2,     -999,9,20240318,2203, -48.5239,  91.9012,     -999,9,     -999,9,-999          ,9,-999          ,9,-999          ,9
325020240221  ,I08        ,37      ,  1,23         ,37         ,2,20240318,2018, -48.5239,  91.9011,     3621,    504.2,   4.3897,  34.2037,2,  34.2044,2,    238.8,2,    239.3,2,    21.77,2,     0.00,2,    28.55,2,     0.00,2,     1.94,2,    4.388,2,    2.107,2,    0.381,4,   1.7520,2,   2183.4,3,   2288.5,6,   7.6240,2,    24.99,     -999,9,   4.3964,2,     -999,9,     -999,     -999,9,     -999,9,     -999,9,     -999,9,     -999,9,     -999,9,   0.0183,1,   0.0087,1,     16.4,2,     -999,9,20240318,2200, -48.5239,  91.9012,     -999,9,     -999,9,-999          ,9,-999          ,9,-999          ,9
325020240221  ,I08        ,37      ,  1,22         ,22         ,2,20240318,2018, -48.5239,  91.9011,     3621,    605.2,   4.1818,  34.2700,2,  34.2727,2,    221.8,2,    222.1,2,    28.90,2,     0.00,2,    29.97,2,     0.00,2,     2.05,2,    3.811,2,    1.750,2,    0.294,4,   1.3960,2,   2203.8,3,   2291.7,2,   7.6096,2,    25.04,     -999,9,   4.1822,2,     -999,9,     -999,     -999,9,     -999,9,     -999,9,     -999,9,     -999,9,     -999,9,   0.0183,1,   0.0087,1,     18.1,2,     -999,9,20240318,2157, -48.5238,  91.9013,     -999,9,     -999,9,-999          ,9,-999          ,9,-999          ,9
325020240221  ,I08        ,37      ,  1,21         ,21         ,2,20240318,2018, -48.5239,  91.9011,     3621,    707.1,   3.6572,  34.2862,2,  34.2866,2,    214.9,2,    214.6,2,    36.03,2,     0.02,2,    31.28,2,     0.00,2,     2.12,2,    3.267,2,    1.596,2,    0.267,4,   1.1040,2,   2211.2,3,   2297.3,2,   7.5938,2,    25.02,     -999,9,   3.6571,2,     -999,9,     -999,     -999,9,     -999,9,     -999,9,     -999,9,     -999,9,     -999,9,   0.0183,1,   0.0089,1,     19.0,2,     -999,9,20240318,2153, -48.5239,  91.9013,     -999,9,     -999,9,-999          ,9,-999          ,9,-999          ,9
325020240221  ,I08        ,37      ,  1,20         ,20         ,2,20240318,2018, -48.5239,  91.9011,     3621,    807.8,   3.5577,  34.3381,2,  34.3390,2,    201.4,2,    201.7,2,    42.18,2,     0.00,2,    32.05,2,     0.00,2,     2.20,2,    2.478,2,    1.219,2,    0.225,4,   0.8890,2,   2222.1,3,   2304.9,2,   7.5835,6,    25.03,     -999,9,   3.5576,2,     -999,9,     -999,     -999,9,     -999,9,     -999,9,     -999,9,     -999,9,     -999,9,   0.0177,1,   0.0091,1,     19.8,2,     -999,9,20240318,2149, -48.5238,  91.9014,     -999,9,     -999,9,-999          ,9,-999          ,9,-999          ,9
325020240221  ,I08        ,37      ,  1,19         ,19         ,2,20240318,2018, -48.5239,  91.9011,     3621,    908.7,   3.3714,  34.3977,2,  34.3980,2,    189.2,2,    189.1,2,    50.18,2,     0.00,2,    32.83,2,     0.00,2,     2.26,2,    1.648,2,    0.959,2,    0.226,4,   0.6100,2,   2231.9,3,   2312.5,2,   7.5726,2,    25.01,     -999,9,   3.3731,2,     -999,9,     -999,     -999,9,     -999,9,     -999,9,     -999,9,     -999,9,     -999,9,   0.0183,1,   0.0089,1,     10.1,2,     -999,9,20240318,2146, -48.5239,  91.9012,     -999,9,     -999,9,-999          ,9,-999          ,9,-999          ,9
325020240221  ,I08        ,37      ,  1,18         ,18         ,2,20240318,2018, -48.5239,  91.9011,     3621,   1010.1,   2.9008,  34.4096,2,  34.4092,2,    187.0,2,    187.1,2,    56.23,2,     0.00,2,    33.56,2,     0.00,2,     2.31,2,    1.477,2,    0.918,2,    0.159,4,   0.5850,2,   2242.8,3,   2315.0,2,   7.5568,2,    25.00,     -999,9,   2.9024,2,     -999,9,     -999,     -999,9,     -999,9,     -999,9,     -999,9,     -999,9,     -999,9,   0.0183,1,   0.0088,1,     21.0,2,     -999,9,20240318,2143, -48.5239,  91.9010,     -999,9,     -999,9,-999          ,9,-999          ,9,-999          ,9
325020240221  ,I08        ,37      ,  1,17         ,17         ,2,20240318,2018, -48.5239,  91.9011,     3621,   1111.2,   2.8257,  34.4788,2,  34.4836,2,    177.9,2,    177.5,2,    62.87,2,     0.02,2,    33.71,2,     0.00,2,     2.35,2,    1.015,6,    0.604,6,    0.108,4,   0.3905,6,   2253.2,3,   2323.3,2,   7.5559,2,    25.02,     -999,9,   2.8363,2,     -999,9,     -999,     -999,9,     -999,9,     -999,9,     -999,9,     -999,9,     -999,9,   0.0183,1,   0.0089,1,     21.0,6,     -999,9,20240318,2139, -48.5241,  91.9010,     -999,9,     -999,9,-999          ,9,-999          ,9,-999          ,9
325020240221  ,I08        ,37      ,  1,16         ,16         ,2,20240318,2018, -48.5239,  91.9011,     3621,   1213.0,   2.7446,  34.5259,2,  34.5268,2,    174.5,2,    175.2,2,    66.38,2,     0.00,2,    33.64,2,     0.00,2,     2.35,2,    0.740,2,    0.487,2,    0.081,4,   0.3390,2,   2254.1,3,   2327.4,2,   7.5562,2,    25.03,     -999,9,   2.7468,2,     -999,9,     -999,     -999,9,     -999,9,     -999,9,     -999,9,     -999,9,     -999,9,   0.0183,1,   0.0090,1,     20.7,2,     -999,9,20240318,2136, -48.5242,  91.9010,     -999,9,     -999,9,-999          ,9,-999          ,9,-999          ,9
325020240221  ,I08        ,37      ,  1,15         ,15         ,2,20240318,2018, -48.5239,  91.9011,     3621,   1314.7,   2.6047,  34.5599,2,  34.5592,2,    173.6,2,    173.9,2,    70.19,2,     0.02,2,    33.63,2,     0.00,2,     2.33,2,    0.601,2,    0.428,2,    0.068,4,   0.2670,2,   2258.7,3,   2329.6,2,   7.5558,6,    25.02,     -999,9,   2.6043,2,     -999,9,     -999,     -999,9,     -999,9,     -999,9,     -999,9,     -999,9,     -999,9,   0.0183,1,   0.0090,1,     20.6,2,     -999,9,20240318,2132, -48.5241,  91.9011,     -999,9,     -999,9,-999          ,9,-999          ,9,-999          ,9
325020240221  ,I08        ,37      ,  1,14         ,14         ,2,20240318,2018, -48.5239,  91.9011,     3621,   1414.6,   2.5480,  34.6056,2,  34.6060,2,    173.7,2,    173.7,2,    72.62,2,     0.02,2,    33.15,2,     0.00,2,     2.29,2,    0.470,2,    0.316,2,    0.051,4,   0.1050,2,   2256.4,3,   2334.0,2,   7.5629,2,    25.00,     -999,9,   2.5476,2,     -999,9,     -999,     -999,9,     -999,9,     -999,9,     -999,9,     -999,9,     -999,9,   0.0183,1,   0.0088,1,     20.1,2,     -999,9,20240318,2128, -48.5241,  91.9010,     -999,9,     -999,9,-999          ,9,-999          ,9,-999          ,9
325020240221  ,I08        ,37      ,  1,13         ,13         ,2,20240318,2018, -48.5239,  91.9011,     3621,   1517.3,   2.4995,  34.6423,2,  34.6447,2,    175.4,3,    180.0,2,    74.48,2,     0.02,2,    32.62,2,     0.00,2,     2.25,2,    0.277,4,    0.235,2,    0.032,4,   0.0980,2,   2254.8,3,   2336.4,2,   7.5707,2,    25.02,     -999,9,   2.4991,2,     -999,9,     -999,     -999,9,     -999,9,     -999,9,     -999,9,     -999,9,     -999,9,   0.0183,1,   0.0091,1,     15.6,2,     -999,9,20240318,2125, -48.5241,  91.9011,     -999,9,     -999,9,-999          ,9,-999          ,9,-999          ,9
325020240221  ,I08        ,37      ,  1,12         ,12         ,2,20240318,2018, -48.5239,  91.9011,     3621,   1619.2,   2.4763,  34.6734,2,  34.6734,2,    178.5,2,    178.6,2,    74.96,2,     0.00,2,    32.01,2,     0.00,2,     2.19,2,    0.238,4,    0.198,2,    0.027,4,   0.0830,2,   2254.3,3,   2338.8,2,   7.5791,6,    25.00,     -999,9,   2.4760,2,     -999,9,     -999,     -999,9,     -999,9,     -999,9,     -999,9,     -999,9,     -999,9,   0.0183,1,   0.0091,1,     19.0,2,     -999,9,20240318,2122, -48.5242,  91.9011,     -999,9,     -999,9,-999          ,9,-999          ,9,-999          ,9
325020240221  ,I08        ,37      ,  1,11         ,11         ,2,20240318,2018, -48.5239,  91.9011,     3621,   1721.2,   2.4343,  34.6988,2,  34.7015,2,    182.4,2,    182.2,2,    75.45,2,     0.02,2,    31.36,2,     0.00,2,     2.14,2,    0.165,4,    0.158,2,    0.021,4,   0.0200,2,   2253.9,3,   2341.9,6,   7.5910,2,    25.04,     -999,9,   2.4342,2,     -999,9,     -999,     -999,9,     -999,9,     -999,9,     -999,9,     -999,9,     -999,9,   0.0183,1,   0.0092,1,     18.1,2,     -999,9,20240318,2118, -48.5242,  91.9012,     -999,9,     -999,9,-999          ,9,-999          ,9,-999          ,9
325020240221  ,I08        ,37      ,  1,10         ,10         ,2,20240318,2018, -48.5239,  91.9011,     3621,   1822.8,   2.3794,  34.7180,2,  34.7199,2,    185.9,2,    186.1,2,    76.33,2,     0.00,2,    30.78,2,     0.00,2,     2.11,2,    0.127,4,    0.134,2,    0.017,4,   0.0340,2,   2242.5,3,   2343.4,2,   7.6001,2,    25.01,     -999,9,   2.3791,2,     -999,9,     -999,     -999,9,     -999,9,     -999,9,     -999,9,     -999,9,     -999,9,   0.0183,1,   0.0091,1,     17.6,2,     -999,9,20240318,2114, -48.5241,  91.9010,     -999,9,     -999,9,-999          ,9,-999          ,9,-999          ,9
325020240221  ,I08        ,37      ,  1,9          ,9          ,2,20240318,2018, -48.5239,  91.9011,     3621,   2026.1,   2.2216,  34.7424,2,  34.7433,2,    191.8,2,    191.6,2,    79.45,2,     0.00,2,    30.08,2,     0.00,2,     2.06,2,    0.057,4,    0.099,2,    0.019,4,   0.0000,2,   2243.6,3,   2345.5,2,   7.6116,2,    25.01,     -999,9,   2.2232,2,     -999,9,     -999,     -999,9,     -999,9,     -999,9,     -999,9,     -999,9,     -999,9,   0.0183,1,   0.0093,1,     16.2,2,     -999,9,20240318,2109, -48.5242,  91.9011,     -999,9,     -999,9,-999          ,9,-999          ,9,-999          ,9
325020240221  ,I08        ,37      ,  1,8          ,8          ,4,20240318,2018, -48.5239,  91.9011,     3621,   2230.1,   2.0485,  34.7487,3,     -999,9,    194.5,3,     -999,9,     -999,9,     -999,9,     -999,9,     -999,9,     -999,9,     -999,9,     -999,9,     -999,9,     -999,9,     -999,9,     -999,9,     -999,9,     -999,     -999,9,   2.0488,3,     -999,9,     -999,     -999,9,     -999,9,     -999,9,     -999,9,     -999,9,     -999,9,   0.0187,1,   0.0092,1,     -999,9,     -999,9,20240318,2103, -48.5242,  91.9012,     -999,9,     -999,9,-999          ,9,-999          ,9,-999          ,9
325020240221  ,I08        ,37      ,  1,7          ,7          ,2,20240318,2018, -48.5239,  91.9011,     3621,   2434.0,   1.8751,  34.7524,2,  34.7530,2,    198.6,2,    198.5,2,    89.31,2,     0.02,2,    29.83,2,     0.00,2,     2.06,2,    0.050,4,    0.082,2,    0.042,4,   0.0000,2,   2252.3,3,   2353.7,2,   7.6198,2,    25.00,     -999,9,   1.8746,2,     -999,9,     -999,     -999,9,     -999,9,     -999,9,     -999,9,     -999,9,     -999,9,   0.0183,1,   0.0092,1,     15.6,2,     -999,9,20240318,2057, -48.5242,  91.9012,     -999,9,     -999,9,-999          ,9,-999          ,9,-999          ,9
325020240221  ,I08        ,37      ,  1,6          ,6          ,2,20240318,2018, -48.5239,  91.9011,     3621,   2638.6,   1.6333,  34.7448,2,  34.7445,2,    200.5,2,    200.2,2,    96.92,2,     0.02,2,    30.09,2,     0.00,2,     2.09,2,    0.071,4,    0.084,2,    0.065,4,   0.0000,2,   2253.6,3,   2358.1,2,   7.6183,2,    25.00,     -999,9,   1.6350,2,     -999,9,     -999,     -999,9,     -999,9,     -999,9,     -999,9,     -999,9,     -999,9,   0.0183,1,   0.0093,1,     15.6,2,     -999,9,20240318,2052, -48.5242,  91.9011,     -999,9,     -999,9,-999          ,9,-999          ,9,-999          ,9