BOTTLE,20240417CCHHYDRO
EXPOCODE,SECT_ID,STNNBR,CASTNO,SAMPNO,BTLNBR,BTLNBR_FLAG_W,DATE,TIME,LATITUDE,LONGITUDE,DEPTH,CTDPRS,CTDTMP,CTDSAL,CTDSAL_FLAG_W,SALNTY,SALNTY_FLAG_W,CTDOXY,CTDOXY_FLAG_W,OXYGEN,OXYGEN_FLAG_W,SILCAT,SILCAT_FLAG_W,NH4,NH4_FLAG_W,NITRAT,NITRAT_FLAG_W,NITRIT,NITRIT_FLAG_W,PHSPHT,PHSPHT_FLAG_W,CFC-11,CFC-11_FLAG_W,CFC-12,CFC-12_FLAG_W,CFC113,CFC113_FLAG_W,SF6,SF6_FLAG_W,TCARBN,TCARBN_FLAG_W,ALKALI,ALKALI_FLAG_W,PH_TOT,PH_TOT_FLAG_W,PH_TMP,DOC,DOC_FLAG_W,REFTMP,REFTMP_FLAG_W,DELC14,DELC14_FLAG_W,C14ERR,POC,POC_FLAG_W,PON,PON_FLAG_W,POP,POP_FLAG_W,PCOD,PCOD_FLAG_W,DOP,DOP_FLAG_W,TDN,TDN_FLAG_W,CTDFLUOR,CTDFLUOR_FLAG_W,CTDXMISS,CTDXMISS_FLAG_W,N2O,N2O_FLAG_W,ARGON,ARGON_FLAG_W,BTL_DATE,BTL_TIME,BTL_LAT,BTL_LON,KRYPTON,KRYPTON_FLAG_W,XENON,XENON_FLAG_W,HPLC,HPLC_FLAG_W,DNA,DNA_FLAG_W,FCM,FCM_FLAG_W
,,,,,,,,,,,METERS,DBAR,ITS-90,PSS-78,,PSS-78,,UMOL/KG,,UMOL/KG,,UMOL/KG,,UMOL/KG,,UMOL/KG,,UMOL/KG,,UMOL/KG,,PMOL/KG,,PMOL/KG,,PMOL/KG,,FMOL/KG,,UMOL/KG,,UMOL/KG,,,,DEG C,UMOL/KG,,ITS-90,,/MILLE,,/MILLE,UG/KG,,UG/KG,,UG/L,,UG/L,,UMOL/KG,,UMOL/KG,,VOLTS,,VOLTS,,NMOL/KG,,UMOL/L,,,,,,NMOL/L,,NMOL/L,,,,,,,
325020240221  ,I08        ,19      ,  1,4          ,4          ,2,20240308,0800, -60.9919,  81.9986,     1845,   1418.4,   0.9936,  34.7198,2,  34.7195,2,    203.3,2,    203.5,2,   110.98,2,     0.00,2,    31.68,2,     0.00,2,     2.16,2,    0.386,2,    0.165,2,    0.017,2,   0.0290,2,   2254.3,3,   2357.9,2,   7.6041,6,    24.97,     -999,9,   0.9935,2,     -999,9,     -999,     -999,9,     -999,9,     -999,9,     -999,9,     -999,9,     -999,9,   0.0184,1,   4.6227,1,     13.3,2,     -999,9,20240308,0811, -60.9919,  81.9986,     -999,9,     -999,9,-999          ,9,-999          ,9,-999          ,9
325020240221  ,I08        ,19      ,  1,3          ,3          ,2,20240308,0800, -60.9919,  81.9986,     1845,   1520.1,   0.9183,  34.7155,2,  34.7152,2,    203.6,2,    203.8,2,   113.81,2,     0.00,2,    31.78,2,     0.00,2,     2.17,2,    0.400,2,    0.171,2,    0.013,2,   0.0020,2,   2257.2,3,   2356.9,2,   7.6013,2,    24.98,     -999,9,   0.9187,2,     -999,9,     -999,     -999,9,     -999,9,     -999,9,     -999,9,     -999,9,     -999,9,   0.0185,1,   4.6226,1,     13.3,2,     -999,9,20240308,0808, -60.9919,  81.9986,     -999,9,     -999,9,-999          ,9,-999          ,9,-999          ,9
325020240221  ,I08        ,19      ,  1,2          ,2          ,2,20240308,0800, -60.9919,  81.9986,     1845,   1672.4,   0.7928,  34.7083,2,  34.7087,2,    205.3,2,    205.4,2,   116.94,2,     0.00,2,    31.88,2,     0.00,2,     2.19,2,    0.414,2,    0.175,2,    0.014,2,   0.0140,2,   2257.0,3,   2363.0,2,   7.5994,2,    25.01,     -999,9,   0.7927,2,     -999,9,     -999,     -999,9,     -999,9,     -999,9,     -999,9,     -999,9,     -999,9,   0.0175,1,   4.6215,1,      8.1,4,     -999,9,20240308,0805, -60.9919,  81.9986,     -999,9,     -999,9,-999          ,9,-999          ,9,-999          ,9
325020240221  ,I08        ,19      ,  1,1          ,1          ,2,20240308,0800, -60.9919,  81.9986,     1845,   1859.9,   0.6664,  34.7016,2,  34.7022,2,    205.6,2,    205.5,2,   128.55,2,     0.00,2,    32.40,2,     0.00,2,     2.23,2,    0.431,2,    0.182,2,    0.014,2,   0.0100,2,   2260.0,3,   2359.2,2,   7.5940,2,    24.97,     -999,9,   0.6663,2,     -999,9,     -999,     -999,9,     -999,9,     -999,9,     -999,9,     -999,9,     -999,9,   0.0185,1,   4.6204,1,     13.4,2,     -999,9,20240308,0800, -60.9919,  81.9986,     -999,9,     -999,9,-999          ,9,-999          ,9,-999          ,9