BOTTLE,20240417CCHHYDRO
EXPOCODE,SECT_ID,STNNBR,CASTNO,SAMPNO,BTLNBR,BTLNBR_FLAG_W,DATE,TIME,LATITUDE,LONGITUDE,DEPTH,CTDPRS,CTDTMP,CTDSAL,CTDSAL_FLAG_W,SALNTY,SALNTY_FLAG_W,CTDOXY,CTDOXY_FLAG_W,OXYGEN,OXYGEN_FLAG_W,SILCAT,SILCAT_FLAG_W,NH4,NH4_FLAG_W,NITRAT,NITRAT_FLAG_W,NITRIT,NITRIT_FLAG_W,PHSPHT,PHSPHT_FLAG_W,CFC-11,CFC-11_FLAG_W,CFC-12,CFC-12_FLAG_W,CFC113,CFC113_FLAG_W,SF6,SF6_FLAG_W,TCARBN,TCARBN_FLAG_W,ALKALI,ALKALI_FLAG_W,PH_TOT,PH_TOT_FLAG_W,PH_TMP,DOC,DOC_FLAG_W,REFTMP,REFTMP_FLAG_W,DELC14,DELC14_FLAG_W,C14ERR,POC,POC_FLAG_W,PON,PON_FLAG_W,POP,POP_FLAG_W,PCOD,PCOD_FLAG_W,DOP,DOP_FLAG_W,TDN,TDN_FLAG_W,CTDFLUOR,CTDFLUOR_FLAG_W,CTDXMISS,CTDXMISS_FLAG_W,N2O,N2O_FLAG_W,ARGON,ARGON_FLAG_W,BTL_DATE,BTL_TIME,BTL_LAT,BTL_LON,KRYPTON,KRYPTON_FLAG_W,XENON,XENON_FLAG_W,HPLC,HPLC_FLAG_W,DNA,DNA_FLAG_W,FCM,FCM_FLAG_W
,,,,,,,,,,,METERS,DBAR,ITS-90,PSS-78,,PSS-78,,UMOL/KG,,UMOL/KG,,UMOL/KG,,UMOL/KG,,UMOL/KG,,UMOL/KG,,UMOL/KG,,PMOL/KG,,PMOL/KG,,PMOL/KG,,FMOL/KG,,UMOL/KG,,UMOL/KG,,,,DEG C,UMOL/KG,,ITS-90,,/MILLE,,/MILLE,UG/KG,,UG/KG,,UG/L,,UG/L,,UMOL/KG,,UMOL/KG,,VOLTS,,VOLTS,,NMOL/KG,,UMOL/L,,,,,,NMOL/L,,NMOL/L,,,,,,,
325020240221  ,I08        ,45      ,  1,36         ,36         ,2,20240321,0943, -43.5086,  95.0055,     3180,      4.1,  12.8382,  34.2612,2,  34.2575,2,    267.7,2,    266.8,2,     1.07,2,     0.20,2,     9.15,2,     0.15,2,     0.74,2,    2.779,2,    1.674,2,    0.360,4,   2.9030,2,   2084.8,3,   2285.1,2,   7.8608,6,    25.02,     -999,1,  12.8383,2,     -999,9,     -999,     -999,9,     -999,9,     -999,9,     -999,9,     -999,9,     -999,1,   0.0516,1,   4.5208,1,      9.4,2,     -999,9,20240321,1137, -43.5086,  95.0055,     -999,9,     -999,9,-999          ,9,-999          ,9,-999          ,9
325020240221  ,I08        ,45      ,  1,35         ,35         ,2,20240321,0943, -43.5086,  95.0055,     3180,     20.0,  12.8414,  34.2614,2,  34.2577,2,    267.7,2,    267.5,2,     1.07,2,     0.21,2,     9.13,2,     0.14,2,     0.78,2,    2.775,2,    1.664,2,    0.363,4,   2.8260,2,   2085.4,3,   2285.8,2,   7.8608,2,    24.97,     -999,9,  12.8409,2,     -999,9,     -999,     -999,9,     -999,9,     -999,9,     -999,9,     -999,9,     -999,9,   0.0513,1,   4.5189,1,      9.6,2,     -999,9,20240321,1135, -43.5086,  95.0056,     -999,9,     -999,9,-999          ,9,-999          ,9,-999          ,9
325020240221  ,I08        ,45      ,  1,34         ,34         ,2,20240321,0943, -43.5086,  95.0055,     3180,     39.3,  12.8171,  34.2595,2,  34.2552,2,    267.2,2,    266.9,2,     3.03,2,     0.21,2,     9.12,2,     0.14,2,     0.76,2,    2.721,2,    1.730,2,    0.375,4,   2.7820,2,   2083.7,3,   2285.3,2,   7.8600,2,    24.99,     -999,9,  12.8200,2,     -999,9,     -999,     -999,9,     -999,9,     -999,9,     -999,9,     -999,9,     -999,9,   0.0553,1,   4.5273,1,      9.6,2,     -999,9,20240321,1133, -43.5086,  95.0055,     -999,9,     -999,9,-999          ,9,-999          ,9,-999          ,9
325020240221  ,I08        ,45      ,  1,33         ,33         ,2,20240321,0943, -43.5086,  95.0055,     3180,     65.1,  12.7818,  34.2669,2,  34.2630,2,    265.5,2,    265.2,2,     3.12,2,     0.29,2,     9.06,2,     0.14,2,     0.76,2,     -999,9,     -999,9,     -999,9,     -999,9,     -999,9,     -999,9,     -999,9,     -999,     -999,9,  12.7804,2,     -999,9,     -999,     -999,9,     -999,9,     -999,9,     -999,9,     -999,9,     -999,9,   0.0522,1,   4.5757,1,     -999,9,     -999,9,20240321,1131, -43.5086,  95.0055,     -999,9,     -999,9,-999          ,9,-999          ,9,-999          ,9
325020240221  ,I08        ,45      ,  1,32         ,32         ,2,20240321,0943, -43.5086,  95.0055,     3180,     90.6,  11.9328,  34.7685,2,  34.7596,2,    254.5,3,    257.1,2,     4.39,2,     0.20,2,     8.33,2,     0.65,2,     0.73,2,    2.882,2,    1.733,2,    0.350,4,   2.8330,2,   2108.1,3,   2299.1,2,   7.8333,2,    24.99,     -999,9,  11.9244,2,     -999,9,     -999,     -999,9,     -999,9,     -999,9,     -999,9,     -999,9,     -999,9,   0.0533,1,   4.5973,1,     10.3,2,     -999,9,20240321,1129, -43.5086,  95.0055,     -999,9,     -999,9,-999          ,9,-999          ,9,-999          ,9
325020240221  ,I08        ,45      ,  1,31         ,31         ,2,20240321,0943, -43.5086,  95.0055,     3180,    114.8,  11.8945,  34.9198,2,  34.9179,2,    247.4,2,    247.5,2,     5.07,2,     0.04,2,     9.47,2,     0.04,2,     0.73,2,    2.885,2,    1.712,2,    0.298,4,   2.6240,2,   2116.2,3,   2303.6,2,   7.8226,2,    25.03,     -999,9,  11.8862,2,     -999,9,     -999,     -999,9,     -999,9,     -999,9,     -999,9,     -999,9,     -999,9,   0.0285,1,   4.6576,1,     10.0,2,     -999,9,20240321,1126, -43.5086,  95.0055,     -999,9,     -999,9,-999          ,9,-999          ,9,-999          ,9
325020240221  ,I08        ,45      ,  1,30         ,30         ,2,20240321,0943, -43.5086,  95.0055,     3180,    140.2,  12.0280,  35.0055,2,  35.0063,2,    245.5,2,    245.0,2,     5.37,2,     0.02,2,     9.31,2,     0.00,2,     0.72,2,    2.732,2,    1.706,2,    0.242,4,   2.6170,2,   2119.9,3,   2305.8,2,   7.8249,2,    25.03,     -999,9,  12.0346,2,     -999,9,     -999,     -999,9,     -999,9,     -999,9,     -999,9,     -999,9,     -999,9,   0.0201,1,   4.6746,1,     10.3,2,     -999,9,20240321,1124, -43.5086,  95.0055,     -999,9,     -999,9,-999          ,9,-999          ,9,-999          ,9
325020240221  ,I08        ,45      ,  1,29         ,29         ,2,20240321,0943, -43.5086,  95.0055,     3180,    166.1,  11.8512,  34.9804,2,  34.9768,2,    246.6,2,    246.9,2,     5.37,2,     0.01,2,     9.66,2,     0.00,2,     0.73,2,     -999,9,     -999,9,     -999,9,     -999,9,     -999,9,     -999,9,     -999,9,     -999,     -999,9,  11.8508,2,     -999,9,     -999,     -999,9,     -999,9,     -999,9,     -999,9,     -999,9,     -999,9,   0.0195,1,   4.6779,1,     -999,9,     -999,9,20240321,1122, -43.5086,  95.0056,     -999,9,     -999,9,-999          ,9,-999          ,9,-999          ,9
325020240221  ,I08        ,45      ,  1,28         ,28         ,2,20240321,0943, -43.5086,  95.0055,     3180,    190.2,  11.7201,  34.9593,2,  34.9557,2,    245.9,2,    246.1,2,     5.46,2,     0.00,2,    10.04,2,     0.00,2,     0.76,2,    2.751,2,    1.740,2,    0.243,4,   2.5560,2,   2119.7,3,   2305.3,2,   7.8187,2,    25.01,     -999,9,  11.7211,2,     -999,9,     -999,     -999,9,     -999,9,     -999,9,     -999,9,     -999,9,     -999,9,   0.0182,1,   4.6780,1,     10.5,2,     -999,9,20240321,1120, -43.5086,  95.0055,     -999,9,     -999,9,-999          ,9,-999          ,9,-999          ,9
325020240221  ,I08        ,45      ,  1,27         ,27         ,2,20240321,0943, -43.5086,  95.0055,     3180,    215.2,  11.6218,  34.9496,2,  34.9459,2,    246.2,2,    246.5,2,     5.37,2,     0.02,2,    10.28,2,     0.00,2,     0.78,2,     -999,9,     -999,9,     -999,9,     -999,9,     -999,9,     -999,9,     -999,9,     -999,     -999,9,  11.6227,2,     -999,9,     -999,     -999,9,     -999,9,     -999,9,     -999,9,     -999,9,     -999,9,   0.0182,1,   4.6806,1,     -999,9,     -999,9,20240321,1118, -43.5086,  95.0055,     -999,9,     -999,9,-999          ,9,-999          ,9,-999          ,9
325020240221  ,I08        ,45      ,  1,26         ,26         ,2,20240321,0943, -43.5086,  95.0055,     3180,    242.1,  11.5279,  34.9404,2,  34.9370,2,    246.2,2,    246.1,2,     5.46,2,     0.01,2,    10.53,2,     0.00,2,     0.80,2,    2.746,2,    1.751,2,    0.211,4,   2.5020,2,   2128.7,3,   2303.8,2,   7.8143,6,    24.98,     -999,9,  11.5293,2,     -999,9,     -999,     -999,9,     -999,9,     -999,9,     -999,9,     -999,9,     -999,9,   0.0177,1,   4.6808,1,     10.6,2,     -999,9,20240321,1116, -43.5086,  95.0055,     -999,9,     -999,9,-999          ,9,-999          ,9,-999          ,9
325020240221  ,I08        ,45      ,  1,25         ,25         ,2,20240321,0943, -43.5086,  95.0055,     3180,    287.7,  11.4110,  34.9370,2,  34.9347,2,    244.4,2,    244.5,2,     5.56,2,     0.01,2,    11.03,2,     0.00,2,     0.83,2,     -999,9,     -999,9,     -999,9,     -999,9,   2124.3,3,   2305.3,6,   7.8088,2,    24.98,     -999,9,  11.4099,2,     -999,9,     -999,     -999,9,     -999,9,     -999,9,     -999,9,     -999,9,     -999,9,   0.0183,1,   4.6812,1,     -999,9,     -999,9,20240321,1113, -43.5086,  95.0055,     -999,9,     -999,9,-999          ,9,-999          ,9,-999          ,9
325020240221  ,I08        ,45      ,  1,24         ,24         ,2,20240321,0943, -43.5086,  95.0055,     3180,    337.5,  11.3726,  34.9469,2,  34.9449,2,    245.5,2,    245.7,2,     5.46,2,     0.01,2,    11.08,2,     0.00,2,     0.82,2,    2.658,2,    1.650,2,    0.160,4,   2.2910,2,   2124.0,3,   2305.8,2,   7.8101,2,    25.01,     -999,9,  11.3726,2,     -999,9,     -999,     -999,9,     -999,9,     -999,9,     -999,9,     -999,9,     -999,9,   0.0171,1,   4.6823,1,     10.1,2,     -999,9,20240321,1110, -43.5086,  95.0055,     -999,9,     -999,9,-999          ,9,-999          ,9,-999          ,9
325020240221  ,I08        ,45      ,  1,23         ,37         ,2,20240321,0943, -43.5086,  95.0055,     3180,    388.5,  11.1033,  34.9044,2,  34.9026,2,    240.2,2,    240.7,2,     5.76,2,     0.00,2,    12.14,2,     0.00,2,     0.89,2,     -999,9,     -999,9,     -999,9,     -999,9,     -999,9,     -999,9,     -999,9,     -999,     -999,9,  11.1015,2,     -999,9,     -999,     -999,9,     -999,9,     -999,9,     -999,9,     -999,9,     -999,9,   0.0180,1,   4.6813,1,     -999,9,     -999,9,20240321,1108, -43.5086,  95.0056,     -999,9,     -999,9,-999          ,9,-999          ,9,-999          ,9
325020240221  ,I08        ,45      ,  1,22         ,22         ,2,20240321,0943, -43.5086,  95.0055,     3180,    439.4,  10.5214,  34.8180,2,  34.8169,2,    227.9,2,    227.8,2,     7.12,2,     0.02,2,    14.69,2,     0.00,2,     1.02,2,    3.104,2,    1.852,2,    0.130,4,   2.0460,2,   2138.9,3,   2300.4,2,   7.7677,2,    25.02,     -999,9,  10.5252,2,     -999,9,     -999,     -999,9,     -999,9,     -999,9,     -999,9,     -999,9,     -999,9,   0.0175,1,   4.6812,1,     11.6,2,     -999,9,20240321,1106, -43.5086,  95.0055,     -999,9,     -999,9,-999          ,9,-999          ,9,-999          ,9
325020240221  ,I08        ,45      ,  1,21         ,21         ,2,20240321,0943, -43.5086,  95.0055,     3180,    490.0,   9.8768,  34.7308,2,  34.7288,2,    223.3,2,    223.2,2,     8.10,2,     0.00,2,    16.57,2,     0.00,2,     1.14,2,    2.978,2,    1.845,2,    0.134,4,   1.8830,2,   2143.6,3,   2294.6,2,   7.7460,2,    25.02,     -999,9,   9.8773,2,     -999,9,     -999,     -999,9,     -999,9,     -999,9,     -999,9,     -999,9,     -999,9,   0.0183,1,   4.6812,1,     12.2,2,     -999,9,20240321,1103, -43.5086,  95.0055,     -999,9,     -999,9,-999          ,9,-999          ,9,-999          ,9
325020240221  ,I08        ,45      ,  1,20         ,20         ,2,20240321,0943, -43.5086,  95.0055,     3180,    569.4,   9.1328,  34.6528,2,  34.6515,2,    217.8,2,    217.9,2,     9.66,2,     0.01,2,    18.81,2,     0.00,2,     1.29,2,    2.967,2,    1.856,2,    0.139,4,   1.7770,2,   2151.9,3,   2292.9,2,   7.7218,2,    24.98,     -999,9,   9.1263,2,     -999,9,     -999,     -999,9,     -999,9,     -999,9,     -999,9,     -999,9,     -999,9,   0.0183,1,   4.6826,1,      9.2,4,     -999,9,20240321,1100, -43.5086,  95.0055,     -999,9,     -999,9,-999          ,9,-999          ,9,-999          ,9
325020240221  ,I08        ,45      ,  1,19         ,19         ,2,20240321,0943, -43.5086,  95.0055,     3180,    671.5,   7.9457,  34.5331,2,  34.5319,2,    212.3,2,    212.3,2,    13.57,2,     0.01,2,    22.16,2,     0.00,2,     1.51,2,     -999,9,     -999,9,     -999,9,     -999,9,     -999,9,     -999,9,     -999,9,     -999,     -999,9,   7.9449,2,     -999,9,     -999,     -999,9,     -999,9,     -999,9,     -999,9,     -999,9,     -999,9,   0.0183,1,   4.6848,1,     -999,9,     -999,9,20240321,1057, -43.5086,  95.0056,     -999,9,     -999,9,-999          ,9,-999          ,9,-999          ,9
325020240221  ,I08        ,45      ,  1,18         ,18         ,2,20240321,0943, -43.5086,  95.0055,     3180,    771.6,   6.7582,  34.4299,2,  34.4290,2,    212.1,2,    212.2,2,    17.67,2,     0.00,2,    25.03,2,     0.00,2,     1.71,2,    2.673,2,    1.776,2,    0.201,4,   1.5960,2,   2172.2,3,   2288.5,2,   7.6572,2,    24.97,     -999,9,   6.7596,2,     -999,9,     -999,     -999,9,     -999,9,     -999,9,     -999,9,     -999,9,     -999,9,   0.0183,1,   4.6850,1,     15.3,2,     -999,9,20240321,1054, -43.5086,  95.0056,     -999,9,     -999,9,-999          ,9,-999          ,9,-999          ,9
325020240221  ,I08        ,45      ,  1,17         ,17         ,2,20240321,0943, -43.5086,  95.0055,     3180,    873.7,   5.5344,  34.3443,2,  34.3433,2,    214.6,2,    214.6,2,    22.85,2,     0.01,2,    27.65,2,     0.00,2,     1.87,2,     -999,9,     -999,9,     -999,9,     -999,9,     -999,9,     -999,9,     -999,9,     -999,     -999,9,   5.5334,2,     -999,9,     -999,     -999,9,     -999,9,     -999,9,     -999,9,     -999,9,     -999,9,   0.0183,1,   4.6864,1,     -999,9,     -999,9,20240321,1051, -43.5086,  95.0055,     -999,9,     -999,9,-999          ,9,-999          ,9,-999          ,9
325020240221  ,I08        ,45      ,  1,16         ,16         ,2,20240321,0943, -43.5086,  95.0055,     3180,    973.7,   4.7586,  34.3255,2,  34.3239,2,    210.3,2,    210.5,2,    29.48,2,     0.00,2,    29.62,2,     0.00,2,     2.00,2,    2.640,2,    1.477,2,    0.206,4,   1.0640,2,   2192.5,3,   2291.2,2,   7.6167,6,    25.02,     -999,9,   4.7559,2,     -999,9,     -999,     -999,9,     -999,9,     -999,9,     -999,9,     -999,9,     -999,9,   0.0183,1,   4.6814,1,     17.1,2,     -999,9,20240321,1048, -43.5086,  95.0055,     -999,9,     -999,9,-999          ,9,-999          ,9,-999          ,9
325020240221  ,I08        ,45      ,  1,15         ,15         ,2,20240321,0943, -43.5086,  95.0055,     3180,   1076.8,   3.9966,  34.3068,2,  34.3048,2,    211.5,2,    211.4,2,    35.64,2,     0.03,2,    31.11,2,     0.00,2,     2.13,2,    2.574,2,    1.466,2,    0.183,4,   1.0250,2,   2203.0,3,   2297.3,2,   7.6003,6,    25.02,     -999,9,   3.9963,2,     -999,9,     -999,     -999,9,     -999,9,     -999,9,     -999,9,     -999,9,     -999,9,   0.0183,1,   4.6729,1,     17.4,2,     -999,9,20240321,1044, -43.5086,  95.0055,     -999,9,     -999,9,-999          ,9,-999          ,9,-999          ,9
325020240221  ,I08        ,45      ,  1,14         ,14         ,2,20240321,0943, -43.5086,  95.0055,     3180,   1177.1,   3.6415,  34.3462,2,  34.3431,2,    200.5,2,    200.6,2,    43.15,2,     0.01,2,    32.36,2,     0.00,2,     2.19,2,    2.029,2,    1.194,2,    0.146,4,   0.7970,2,   2212.6,3,   2303.3,2,   7.5843,2,    24.98,     -999,9,   3.6407,2,     -999,9,     -999,     -999,9,     -999,9,     -999,9,     -999,9,     -999,9,     -999,9,   0.0183,1,   4.6690,1,     18.5,2,     -999,9,20240321,1041, -43.5086,  95.0055,     -999,9,     -999,9,-999          ,9,-999          ,9,-999          ,9
325020240221  ,I08        ,45      ,  1,13         ,13         ,2,20240321,0943, -43.5086,  95.0055,     3180,   1278.6,   3.3853,  34.4001,2,  34.3992,2,    188.6,2,    188.4,2,    51.35,2,     0.00,2,    33.40,2,     0.00,2,     2.29,2,     -999,9,     -999,9,     -999,9,     -999,9,     -999,9,     -999,9,     -999,9,     -999,     -999,9,   3.3866,2,     -999,9,     -999,     -999,9,     -999,9,     -999,9,     -999,9,     -999,9,     -999,9,   0.0183,1,   4.6658,1,     -999,9,     -999,9,20240321,1038, -43.5086,  95.0055,     -999,9,     -999,9,-999          ,9,-999          ,9,-999          ,9
325020240221  ,I08        ,45      ,  1,12         ,12         ,2,20240321,0943, -43.5086,  95.0055,     3180,   1379.9,   3.2270,  34.4559,2,  34.4546,2,    176.4,2,    176.5,2,    59.45,2,     0.02,2,    34.08,2,     0.00,2,     2.34,2,    0.964,2,    0.556,2,    0.054,4,   0.3640,2,   2236.8,3,   2320.8,2,   7.5648,2,    25.00,     -999,9,   3.2287,2,     -999,9,     -999,     -999,9,     -999,9,     -999,9,     -999,9,     -999,9,     -999,9,   0.0183,1,   4.6625,1,     19.2,2,     -999,9,20240321,1034, -43.5086,  95.0055,     -999,9,     -999,9,-999          ,9,-999          ,9,-999          ,9
325020240221  ,I08        ,45      ,  1,11         ,11         ,2,20240321,0943, -43.5086,  95.0055,     3180,   1480.5,   3.0150,  34.5018,2,  34.5011,2,    172.5,2,    172.5,2,    64.62,2,     0.02,2,    34.24,2,     0.00,2,     2.33,2,     -999,9,     -999,9,     -999,9,     -999,9,     -999,9,     -999,9,     -999,9,     -999,     -999,9,   3.0154,2,     -999,9,     -999,     -999,9,     -999,9,     -999,9,     -999,9,     -999,9,     -999,9,   0.0183,1,   4.6601,1,     -999,9,     -999,9,20240321,1030, -43.5086,  95.0055,     -999,9,     -999,9,-999          ,9,-999          ,9,-999          ,9
325020240221  ,I08        ,45      ,  1,10         ,10         ,2,20240321,0943, -43.5086,  95.0055,     3180,   1583.3,   2.8857,  34.5356,2,  34.5353,2,    171.4,2,    171.4,2,    67.45,2,     0.01,2,    33.98,2,     0.00,2,     2.34,2,    0.616,2,    0.365,2,    0.039,4,   0.1400,2,   2246.3,3,   2329.8,6,   7.5609,2,    24.99,     -999,9,   2.8853,2,     -999,9,     -999,     -999,9,     -999,9,     -999,9,     -999,9,     -999,9,     -999,9,   0.0183,1,   4.6581,1,     19.3,2,     -999,9,20240321,1027, -43.5086,  95.0055,     -999,9,     -999,9,-999          ,9,-999          ,9,-999          ,9
325020240221  ,I08        ,45      ,  1,9          ,9          ,2,20240321,0943, -43.5086,  95.0055,     3180,   1685.1,   2.7629,  34.5799,2,  34.5775,2,    170.6,2,    170.8,2,    70.97,2,     0.01,2,    33.61,2,     0.00,2,     2.29,2,    0.443,2,    0.280,2,    0.029,4,   0.0710,2,   2250.7,3,   2333.8,2,   7.5633,2,    24.98,     -999,9,   2.7628,2,     -999,9,     -999,     -999,9,     -999,9,     -999,9,     -999,9,     -999,9,     -999,9,   0.0183,1,   4.6569,1,     19.1,2,     -999,9,20240321,1023, -43.5086,  95.0055,     -999,9,     -999,9,-999          ,9,-999          ,9,-999          ,9
325020240221  ,I08        ,45      ,  1,8          ,8          ,2,20240321,0943, -43.5086,  95.0055,     3180,   1785.4,   2.6818,  34.6252,2,  34.6254,2,    174.7,2,    174.8,2,    71.55,2,     0.01,2,    32.71,2,     0.00,2,     2.23,2,    0.393,2,    0.241,2,    0.022,4,   0.1310,2,   2247.6,3,   2335.0,2,   7.5736,6,    25.02,     -999,9,   2.6826,2,     -999,9,     -999,     -999,9,     -999,9,     -999,9,     -999,9,     -999,9,     -999,9,   0.0183,1,   4.6566,1,     18.5,2,     -999,9,20240321,1020, -43.5086,  95.0055,     -999,9,     -999,9,-999          ,9,-999          ,9,-999          ,9
325020240221  ,I08        ,45      ,  1,7          ,7          ,2,20240321,0943, -43.5086,  95.0055,     3180,   1960.0,   2.5461,  34.6830,2,  34.6800,2,    179.7,2,    179.6,2,    74.38,2,     0.01,2,    31.59,2,     0.00,2,     2.16,2,     -999,9,     -999,9,     -999,9,     -999,9,     -999,9,     -999,9,     -999,9,     -999,     -999,9,   2.5464,2,     -999,9,     -999,     -999,9,     -999,9,     -999,9,     -999,9,     -999,9,     -999,9,   0.0183,1,   4.6544,1,     -999,9,     -999,9,20240321,1015, -43.5086,  95.0055,     -999,9,     -999,9,-999          ,9,-999          ,9,-999          ,9
325020240221  ,I08        ,45      ,  1,6          ,6          ,2,20240321,0943, -43.5086,  95.0055,     3180,   2162.7,   2.4141,  34.7226,2,  34.7215,2,    187.1,2,    187.3,2,    75.94,2,     0.00,2,    30.48,2,     0.00,2,     2.06,2,    0.164,2,    0.112,2,    0.013,4,   0.0000,2,   2242.2,3,   2343.4,6,   7.6053,6,    25.03,     -999,9,   2.4140,2,     -999,9,     -999,     -999,9,     -999,9,     -999,9,     -999,9,     -999,9,     -999,9,   0.0183,1,   4.6532,1,     17.1,2,     -999,9,20240321,1010, -43.5086,  95.0056,     -999,9,     -999,9,-999          ,9,-999          ,9,-999          ,9