BOTTLE,20240417CCHHYDRO
EXPOCODE,SECT_ID,STNNBR,CASTNO,SAMPNO,BTLNBR,BTLNBR_FLAG_W,DATE,TIME,LATITUDE,LONGITUDE,DEPTH,CTDPRS,CTDTMP,CTDSAL,CTDSAL_FLAG_W,SALNTY,SALNTY_FLAG_W,CTDOXY,CTDOXY_FLAG_W,OXYGEN,OXYGEN_FLAG_W,SILCAT,SILCAT_FLAG_W,NH4,NH4_FLAG_W,NITRAT,NITRAT_FLAG_W,NITRIT,NITRIT_FLAG_W,PHSPHT,PHSPHT_FLAG_W,CFC-11,CFC-11_FLAG_W,CFC-12,CFC-12_FLAG_W,CFC113,CFC113_FLAG_W,SF6,SF6_FLAG_W,TCARBN,TCARBN_FLAG_W,ALKALI,ALKALI_FLAG_W,PH_TOT,PH_TOT_FLAG_W,PH_TMP,DOC,DOC_FLAG_W,REFTMP,REFTMP_FLAG_W,DELC14,DELC14_FLAG_W,C14ERR,POC,POC_FLAG_W,PON,PON_FLAG_W,POP,POP_FLAG_W,PCOD,PCOD_FLAG_W,DOP,DOP_FLAG_W,TDN,TDN_FLAG_W,CTDFLUOR,CTDFLUOR_FLAG_W,CTDXMISS,CTDXMISS_FLAG_W,N2O,N2O_FLAG_W,ARGON,ARGON_FLAG_W,BTL_DATE,BTL_TIME,BTL_LAT,BTL_LON,KRYPTON,KRYPTON_FLAG_W,XENON,XENON_FLAG_W,HPLC,HPLC_FLAG_W,DNA,DNA_FLAG_W,FCM,FCM_FLAG_W
,,,,,,,,,,,METERS,DBAR,ITS-90,PSS-78,,PSS-78,,UMOL/KG,,UMOL/KG,,UMOL/KG,,UMOL/KG,,UMOL/KG,,UMOL/KG,,UMOL/KG,,PMOL/KG,,PMOL/KG,,PMOL/KG,,FMOL/KG,,UMOL/KG,,UMOL/KG,,,,DEG C,UMOL/KG,,ITS-90,,/MILLE,,/MILLE,UG/KG,,UG/KG,,UG/L,,UG/L,,UMOL/KG,,UMOL/KG,,VOLTS,,VOLTS,,NMOL/KG,,UMOL/L,,,,,,NMOL/L,,NMOL/L,,,,,,,
325020240221  ,I08        ,58      ,  1,36         ,36         ,2,20240324,1655, -37.0028,  95.0051,     4125,      2.6,  18.7243,  34.9996,2,  34.9925,2,    241.6,2,    241.6,2,     0.49,2,     0.07,2,     0.28,2,     0.02,2,     0.16,2,    2.097,2,    1.330,2,    0.271,4,   2.3280,2,   2060.1,3,   2312.7,2,   7.9624,2,    24.96,     -999,1,  18.7309,2,     -999,9,     -999,     -999,9,     -999,9,     -999,9,     -999,9,     -999,9,     -999,1,   0.0652,1,   4.5174,1,      8.2,2,     -999,9,20240324,1847, -37.0028,  95.0051,     -999,9,     -999,9,-999          ,9,-999          ,9,-999          ,9
325020240221  ,I08        ,58      ,  1,35         ,35         ,2,20240324,1655, -37.0028,  95.0051,     4125,     24.1,  18.4069,  35.0023,2,  35.0028,2,    243.4,2,    242.9,2,     0.49,2,     0.06,2,     0.23,2,     0.02,2,     0.16,2,    2.296,6,    1.328,6,    0.267,4,   2.3150,6,   2054.5,3,   2313.8,2,   7.9631,2,    24.96,     -999,1,  18.4709,2,     -999,9,     -999,     -999,9,     -999,9,     -999,9,     -999,9,     -999,9,     -999,1,   0.0813,1,   4.4922,1,      8.3,6,     -999,9,20240324,1845, -37.0028,  95.0051,     -999,9,     -999,9,-999          ,9,-999          ,9,-999          ,9
325020240221  ,I08        ,58      ,  1,34         ,34         ,2,20240324,1655, -37.0028,  95.0051,     4125,     49.9,  16.0821,  34.9558,2,  34.9827,3,    243.3,3,    253.4,2,     1.37,2,     0.86,2,     3.12,2,     0.11,2,     0.40,2,    2.763,2,    1.535,2,    0.333,4,   2.6100,2,   2096.0,3,   2306.9,2,   7.8874,2,    24.97,     -999,1,  15.9468,3,     -999,9,     -999,     -999,9,     -999,9,     -999,9,     -999,9,     -999,9,     -999,1,   0.0391,1,   4.6482,1,     10.2,2,     -999,9,20240324,1843, -37.0028,  95.0052,     -999,9,     -999,9,-999          ,9,-999          ,9,-999          ,9
325020240221  ,I08        ,58      ,  1,33         ,33         ,2,20240324,1655, -37.0028,  95.0051,     4125,     75.8,  12.7536,  35.0094,2,  35.0061,2,    253.3,2,    252.7,2,     2.05,2,     0.48,2,     5.41,2,     0.94,2,     0.55,2,    2.919,2,    1.681,2,    0.338,4,   2.5790,2,   2117.6,3,   2310.0,2,   7.8415,2,    24.98,     -999,1,  12.7515,2,     -999,9,     -999,     -999,9,     -999,9,     -999,9,     -999,9,     -999,9,     -999,1,   0.0457,1,   4.6421,1,     10.5,2,     -999,9,20240324,1841, -37.0028,  95.0051,     -999,9,     -999,9,-999          ,9,-999          ,9,-999          ,9
325020240221  ,I08        ,58      ,  1,32         ,32         ,2,20240324,1655, -37.0028,  95.0051,     4125,    101.3,  12.3452,  34.9985,2,  34.9963,2,    248.2,2,    248.2,2,     2.15,2,     0.00,2,     7.56,2,     0.12,2,     0.61,2,    2.918,2,    1.701,2,    0.337,4,   2.5790,2,     -999,9,     -999,9,     -999,9,     -999,     -999,1,  12.3464,2,     -999,9,     -999,     -999,9,     -999,9,     -999,9,     -999,9,     -999,9,     -999,1,   0.0247,1,   4.6694,1,     10.2,2,     -999,9,20240324,1839, -37.0028,  95.0051,     -999,9,     -999,9,-999          ,9,-999          ,9,-999          ,9
325020240221  ,I08        ,58      ,  1,31         ,31         ,2,20240324,1655, -37.0028,  95.0051,     4125,    124.3,  12.1035,  34.9683,2,  34.9662,2,    249.8,2,    250.2,2,     2.15,2,     0.02,2,     8.04,2,     0.02,2,     0.61,2,    3.062,2,    1.720,2,    0.318,4,   2.6010,2,   2121.5,3,   2304.9,2,   7.8273,6,    24.99,     -999,1,  12.0959,2,     -999,9,     -999,     -999,9,     -999,9,     -999,9,     -999,9,     -999,9,     -999,1,   0.0208,1,   4.6763,1,     10.2,2,     -999,9,20240324,1837, -37.0028,  95.0051,     -999,9,     -999,9,-999          ,9,-999          ,9,-999          ,9
325020240221  ,I08        ,58      ,  1,30         ,30         ,2,20240324,1655, -37.0028,  95.0051,     4125,    151.6,  11.7867,  34.9220,2,  34.9191,2,    252.9,2,    253.3,2,     2.24,2,     0.00,2,     8.43,2,     0.00,2,     0.63,2,    3.229,2,    1.698,2,    0.319,4,   2.5420,2,     -999,9,     -999,9,     -999,9,     -999,     -999,1,  11.7855,2,     -999,9,     -999,     -999,9,     -999,9,     -999,9,     -999,9,     -999,9,     -999,1,   0.0189,1,   4.6791,1,     10.3,2,     -999,9,20240324,1836, -37.0028,  95.0052,     -999,9,     -999,9,-999          ,9,-999          ,9,-999          ,9
325020240221  ,I08        ,58      ,  1,29         ,29         ,2,20240324,1655, -37.0028,  95.0051,     4125,    200.2,  11.6969,  34.9337,2,  34.9339,2,    253.1,2,    253.0,2,     2.34,2,     0.00,2,     8.64,2,     0.00,2,     0.64,2,    3.254,2,    1.739,2,    0.273,4,   2.5920,2,   2121.9,3,   2303.3,2,   7.8242,2,    24.96,     -999,1,  11.6978,2,     -999,9,     -999,     -999,9,     -999,9,     -999,9,     -999,9,     -999,9,     -999,1,   0.0183,1,   4.6807,1,     10.5,2,     -999,9,20240324,1834, -37.0028,  95.0051,     -999,9,     -999,9,-999          ,9,-999          ,9,-999          ,9
325020240221  ,I08        ,58      ,  1,28         ,28         ,2,20240324,1655, -37.0028,  95.0051,     4125,    251.2,  11.6881,  34.9956,2,  34.9945,2,    241.2,2,    241.3,2,     3.03,2,     0.00,2,    10.14,2,     0.00,2,     0.72,2,    3.344,2,    1.725,2,    0.189,4,   2.5010,2,   2130.9,3,   2304.6,2,   7.8064,6,    24.97,     -999,1,  11.6888,2,     -999,9,     -999,     -999,9,     -999,9,     -999,9,     -999,9,     -999,9,     -999,1,   0.0172,1,   4.6802,1,     11.6,2,     -999,9,20240324,1832, -37.0028,  95.0051,     -999,9,     -999,9,-999          ,9,-999          ,9,-999          ,9
325020240221  ,I08        ,58      ,  1,27         ,27         ,2,20240324,1655, -37.0028,  95.0051,     4125,    302.1,  11.3402,  34.9458,2,  34.9435,2,    244.4,2,    245.3,2,     3.32,2,     0.00,2,    10.78,2,     0.00,2,     0.76,2,    3.380,2,    1.770,2,    0.195,4,   2.6040,2,   2129.6,3,   2303.2,6,   7.8032,2,    24.97,     -999,1,  11.3410,2,     -999,9,     -999,     -999,9,     -999,9,     -999,9,     -999,9,     -999,9,     -999,1,   0.0171,1,   4.6802,1,     11.2,2,     -999,9,20240324,1830, -37.0028,  95.0051,     -999,9,     -999,9,-999          ,9,-999          ,9,-999          ,9
325020240221  ,I08        ,58      ,  1,26         ,26         ,2,20240324,1655, -37.0028,  95.0051,     4125,    352.0,  11.1553,  34.9223,2,  34.9203,2,    247.8,2,    247.8,2,     3.22,2,     0.00,2,    10.93,2,     0.00,2,     0.78,2,    3.441,2,    1.843,2,    0.206,4,   2.6010,2,     -999,9,     -999,9,     -999,9,     -999,     -999,1,  11.1589,2,     -999,9,     -999,     -999,9,     -999,9,     -999,9,     -999,9,     -999,9,     -999,1,   0.0177,1,   4.6813,1,     10.9,2,     -999,9,20240324,1828, -37.0028,  95.0051,     -999,9,     -999,9,-999          ,9,-999          ,9,-999          ,9
325020240221  ,I08        ,58      ,  1,25         ,25         ,2,20240324,1655, -37.0028,  95.0051,     4125,    402.2,  10.9965,  34.8974,2,  34.8977,2,    246.1,2,    246.9,2,     3.51,2,     0.00,2,    11.59,2,     0.00,2,     0.81,2,    3.340,2,    1.835,2,    0.195,4,   2.7280,2,   2132.6,3,   2300.5,2,   7.7965,2,    25.00,     -999,1,  10.9970,2,     -999,9,     -999,     -999,9,     -999,9,     -999,9,     -999,9,     -999,9,     -999,1,   0.0181,1,   4.6808,1,     11.0,2,     -999,9,20240324,1827, -37.0028,  95.0051,     -999,9,     -999,9,-999          ,9,-999          ,9,-999          ,9
325020240221  ,I08        ,58      ,  1,24         ,24         ,2,20240324,1655, -37.0028,  95.0051,     4125,    452.3,  10.7299,  34.8540,2,  34.8544,2,    242.1,2,    242.8,2,     3.81,2,     0.00,2,    12.62,2,     0.00,2,     0.88,2,    3.607,2,    1.890,2,    0.176,4,   2.6680,2,     -999,9,     -999,9,     -999,9,     -999,     -999,1,  10.7249,2,     -999,9,     -999,     -999,9,     -999,9,     -999,9,     -999,9,     -999,9,     -999,1,   0.0181,1,   4.6817,1,     11.2,2,     -999,9,20240324,1825, -37.0028,  95.0051,     -999,9,     -999,9,-999          ,9,-999          ,9,-999          ,9
325020240221  ,I08        ,58      ,  1,23         ,37         ,2,20240324,1655, -37.0028,  95.0051,     4125,    504.9,  10.3857,  34.7983,2,  34.7984,2,    242.6,2,    242.9,2,     4.00,2,     0.00,2,    13.50,2,     0.00,2,     0.93,2,    3.607,2,    1.869,2,    0.186,4,   2.3860,2,   2132.9,3,   2296.4,2,   7.7784,2,    24.99,     -999,1,  10.3953,2,     -999,9,     -999,     -999,9,     -999,9,     -999,9,     -999,9,     -999,9,     -999,1,   0.0181,1,   4.6826,1,     11.5,2,     -999,9,20240324,1823, -37.0028,  95.0051,     -999,9,     -999,9,-999          ,9,-999          ,9,-999          ,9
325020240221  ,I08        ,58      ,  1,22         ,22         ,2,20240324,1655, -37.0028,  95.0051,     4125,    604.4,   9.8601,  34.7324,2,  34.7331,2,    230.9,2,    230.4,2,     5.27,2,     0.00,2,    16.04,2,     0.00,2,     1.09,2,    3.824,2,    1.981,2,    0.165,4,   1.9990,2,     -999,9,     -999,9,     -999,9,     -999,     -999,1,   9.8681,2,     -999,9,     -999,     -999,9,     -999,9,     -999,9,     -999,9,     -999,9,     -999,1,   0.0182,1,   4.6841,1,     12.2,2,     -999,9,20240324,1820, -37.0028,  95.0052,     -999,9,     -999,9,-999          ,9,-999          ,9,-999          ,9
325020240221  ,I08        ,58      ,  1,21         ,21         ,2,20240324,1655, -37.0028,  95.0051,     4125,    705.3,   9.0080,  34.6349,2,  34.6360,2,    221.4,2,    221.1,2,     7.32,2,     0.00,2,    19.09,2,     0.00,2,     1.27,2,    3.930,2,    1.958,2,    0.173,4,   1.6570,2,   2152.7,3,   2290.5,2,   7.7230,2,    24.96,     -999,1,   9.0126,2,     -999,9,     -999,     -999,9,     -999,9,     -999,9,     -999,9,     -999,9,     -999,1,   0.0183,1,   4.6850,1,     12.9,2,     -999,9,20240324,1817, -37.0028,  95.0051,     -999,9,     -999,9,-999          ,9,-999          ,9,-999          ,9
325020240221  ,I08        ,58      ,  1,20         ,20         ,2,20240324,1655, -37.0028,  95.0051,     4125,    805.1,   7.7377,  34.5124,2,  34.5140,2,    206.6,2,    207.8,2,    12.69,2,     0.00,2,    23.44,2,     0.00,2,     1.54,2,    3.416,2,    1.777,2,    0.196,4,   1.3180,2,   2166.8,3,   2286.0,2,   7.6798,6,    24.96,     -999,1,   7.7005,2,     -999,9,     -999,     -999,9,     -999,9,     -999,9,     -999,9,     -999,9,     -999,1,   0.0183,1,   4.6862,1,     10.2,4,     -999,9,20240324,1815, -37.0028,  95.0051,     -999,9,     -999,9,-999          ,9,-999          ,9,-999          ,9
325020240221  ,I08        ,58      ,  1,19         ,19         ,2,20240324,1655, -37.0028,  95.0051,     4125,    908.0,   6.2176,  34.4022,2,  34.4043,2,    204.2,2,    203.9,2,    19.72,2,     0.02,2,    27.33,2,     0.00,2,     1.83,2,    3.370,2,    1.513,2,    0.164,4,   1.0950,2,   2182.1,3,   2288.9,2,   7.6421,2,    24.99,     -999,1,   6.2454,2,     -999,9,     -999,     -999,9,     -999,9,     -999,9,     -999,9,     -999,9,     -999,1,   0.0183,1,   4.6881,1,     15.7,2,     -999,9,20240324,1812, -37.0028,  95.0051,     -999,9,     -999,9,-999          ,9,-999          ,9,-999          ,9
325020240221  ,I08        ,58      ,  1,18         ,18         ,2,20240324,1655, -37.0028,  95.0051,     4125,   1008.3,   5.0917,  34.3508,2,  34.3519,2,    202.4,2,    202.4,2,    27.53,2,     0.00,2,    29.83,2,     0.00,2,     1.99,2,    3.054,2,    1.361,2,    0.156,4,   0.7980,2,     -999,9,     -999,9,     -999,9,     -999,     -999,1,   5.0921,2,     -999,9,     -999,     -999,9,     -999,9,     -999,9,     -999,9,     -999,9,     -999,1,   0.0176,1,   4.6824,1,     16.6,2,     -999,9,20240324,1809, -37.0028,  95.0051,     -999,9,     -999,9,-999          ,9,-999          ,9,-999          ,9
325020240221  ,I08        ,58      ,  1,17         ,17         ,2,20240324,1655, -37.0028,  95.0051,     4125,   1109.5,   4.3823,  34.3530,2,  34.3517,2,    196.8,2,    196.9,2,    36.02,2,     0.00,2,    31.53,2,     0.00,2,     2.14,2,    2.591,2,    1.106,2,    0.131,4,   0.7270,2,   2208.6,3,   2300.3,2,   7.6025,2,    24.98,     -999,1,   4.3892,2,     -999,9,     -999,     -999,9,     -999,9,     -999,9,     -999,9,     -999,9,     -999,1,   0.0183,1,   4.6728,1,     17.5,2,     -999,9,20240324,1806, -37.0028,  95.0051,     -999,9,     -999,9,-999          ,9,-999          ,9,-999          ,9
325020240221  ,I08        ,58      ,  1,16         ,16         ,2,20240324,1655, -37.0028,  95.0051,     4125,   1212.6,   3.8787,  34.3861,2,  34.3855,2,    186.3,2,    186.4,2,    45.98,2,     0.00,2,    32.97,2,     0.00,2,     2.25,2,    2.000,2,    0.814,2,    0.099,4,   0.4440,2,     -999,9,     -999,9,     -999,9,     -999,     -999,1,   3.8793,2,     -999,9,     -999,     -999,9,     -999,9,     -999,9,     -999,9,     -999,9,     -999,1,   0.0183,1,   4.6666,1,     18.5,2,     -999,9,20240324,1804, -37.0028,  95.0051,     -999,9,     -999,9,-999          ,9,-999          ,9,-999          ,9
325020240221  ,I08        ,58      ,  1,15         ,15         ,2,20240324,1655, -37.0028,  95.0051,     4125,   1313.0,   3.5726,  34.4247,2,  34.4273,2,    177.0,2,    177.5,2,    54.47,2,     0.00,2,    33.88,2,     0.00,2,     2.31,2,    1.432,2,    0.603,2,    0.066,4,   0.2720,2,   2233.1,3,   2319.0,2,   7.5730,6,    24.98,     -999,1,   3.5683,2,     -999,9,     -999,     -999,9,     -999,9,     -999,9,     -999,9,     -999,9,     -999,1,   0.0189,1,   4.6630,1,     18.7,2,     -999,9,20240324,1801, -37.0028,  95.0051,     -999,9,     -999,9,-999          ,9,-999          ,9,-999          ,9
325020240221  ,I08        ,58      ,  1,14         ,14         ,2,20240324,1655, -37.0028,  95.0051,     4125,   1413.4,   3.3049,  34.4773,2,  34.4783,2,    169.1,2,    168.6,2,    62.57,2,     0.00,2,    34.47,2,     0.00,2,     2.33,2,    0.963,2,    0.407,2,    0.039,4,   0.2330,2,     -999,9,     -999,9,     -999,9,     -999,     -999,1,   3.3056,2,     -999,9,     -999,     -999,9,     -999,9,     -999,9,     -999,9,     -999,9,     -999,1,   0.0183,1,   4.6601,1,     19.2,2,     -999,9,20240324,1758, -37.0028,  95.0051,     -999,9,     -999,9,-999          ,9,-999          ,9,-999          ,9
325020240221  ,I08        ,58      ,  1,13         ,13         ,2,20240324,1655, -37.0028,  95.0051,     4125,   1516.1,   3.1549,  34.5330,2,  34.5329,2,    160.6,2,    160.6,2,    70.48,2,     0.00,2,    34.58,2,     0.00,2,     2.37,2,    0.510,2,    0.226,2,    0.016,4,   0.0090,2,   2255.4,3,   2335.7,6,   7.5597,2,    24.96,     -999,1,   3.1548,2,     -999,9,     -999,     -999,9,     -999,9,     -999,9,     -999,9,     -999,9,     -999,1,   0.0183,1,   4.6580,1,     19.4,2,     -999,9,20240324,1756, -37.0028,  95.0051,     -999,9,     -999,9,-999          ,9,-999          ,9,-999          ,9
325020240221  ,I08        ,58      ,  1,12         ,12         ,2,20240324,1655, -37.0028,  95.0051,     4125,   1617.8,   3.0389,  34.5684,2,  34.5686,2,    158.0,2,    158.2,2,    75.45,2,     0.00,2,    34.39,2,     0.00,2,     2.36,2,    0.368,2,    0.151,2,    0.012,4,   0.0000,2,     -999,9,     -999,9,     -999,9,     -999,     -999,1,   3.0407,2,     -999,9,     -999,     -999,9,     -999,9,     -999,9,     -999,9,     -999,9,     -999,1,   0.0183,1,   4.6568,1,     19.4,2,     -999,9,20240324,1753, -37.0028,  95.0051,     -999,9,     -999,9,-999          ,9,-999          ,9,-999          ,9
325020240221  ,I08        ,58      ,  1,11         ,11         ,2,20240324,1655, -37.0028,  95.0051,     4125,   1717.9,   2.8847,  34.6033,2,  34.6042,2,    159.6,2,    159.8,2,    78.09,2,     0.00,2,    34.02,2,     0.00,2,     2.34,2,    0.254,2,    0.114,2,    0.008,4,   0.0070,2,   2265.9,3,   2344.9,2,   7.5641,2,    24.97,     -999,1,   2.8847,2,     -999,9,     -999,     -999,9,     -999,9,     -999,9,     -999,9,     -999,9,     -999,1,   0.0183,1,   4.6543,1,     19.0,2,     -999,9,20240324,1750, -37.0028,  95.0051,     -999,9,     -999,9,-999          ,9,-999          ,9,-999          ,9
325020240221  ,I08        ,58      ,  1,10         ,10         ,2,20240324,1655, -37.0028,  95.0051,     4125,   1819.7,   2.7385,  34.6430,2,  34.6425,2,    160.9,2,    160.9,2,    82.77,2,     0.00,2,    33.54,2,     0.00,2,     2.30,2,    0.158,2,    0.076,2,    0.005,4,   0.0000,2,   2254.1,3,   2352.2,2,   7.5703,6,    24.99,     -999,1,   2.7402,2,     -999,9,     -999,     -999,9,     -999,9,     -999,9,     -999,9,     -999,9,     -999,1,   0.0183,1,   4.6519,1,     18.8,2,     -999,9,20240324,1747, -37.0028,  95.0051,     -999,9,     -999,9,-999          ,9,-999          ,9,-999          ,9
325020240221  ,I08        ,58      ,  1,9          ,9          ,2,20240324,1655, -37.0028,  95.0051,     4125,   2023.7,   2.4984,  34.6899,2,  34.6895,2,    169.8,2,    169.8,2,    85.79,2,     0.00,2,    32.42,2,     0.00,2,     2.24,2,    0.119,2,    0.057,2,    0.003,4,   0.0000,2,   2262.3,3,   2353.4,2,   7.5852,2,    24.96,     -999,1,   2.4987,2,     -999,9,     -999,     -999,9,     -999,9,     -999,9,     -999,9,     -999,9,     -999,1,   0.0183,1,   4.6484,1,     17.9,2,     -999,9,20240324,1742, -37.0028,  95.0051,     -999,9,     -999,9,-999          ,9,-999          ,9,-999          ,9
325020240221  ,I08        ,58      ,  1,8          ,8          ,2,20240324,1655, -37.0028,  95.0051,     4125,   2276.9,   2.2415,  34.7289,2,  34.7290,2,    184.2,2,    184.5,2,    85.30,2,     0.00,2,    30.90,2,     0.00,2,     2.13,2,    0.120,2,    0.057,2,    0.004,4,   0.0010,2,     -999,9,     -999,9,     -999,9,     -999,     -999,1,   2.2419,2,     -999,9,     -999,     -999,9,     -999,9,     -999,9,     -999,9,     -999,9,     -999,1,   0.0192,1,   4.6459,1,     16.9,2,     -999,9,20240324,1737, -37.0028,  95.0051,     -999,9,     -999,9,-999          ,9,-999          ,9,-999          ,9
325020240221  ,I08        ,58      ,  1,7          ,7          ,2,20240324,1655, -37.0028,  95.0051,     4125,   2533.1,   2.0943,  34.7393,2,  34.7386,2,    188.5,2,    188.4,2,    88.82,2,     0.00,2,    30.67,2,     0.00,2,     2.12,2,    0.078,2,    0.042,2,    0.004,4,   0.0030,2,   2252.8,3,   2352.5,2,   7.6109,2,    24.96,     -999,1,   2.0943,2,     -999,9,     -999,     -999,9,     -999,9,     -999,9,     -999,9,     -999,9,     -999,1,   0.0180,1,   4.6435,1,     16.3,2,     -999,9,20240324,1731, -37.0028,  95.0051,     -999,9,     -999,9,-999          ,9,-999          ,9,-999          ,9
325020240221  ,I08        ,58      ,  1,6          ,6          ,2,20240324,1655, -37.0028,  95.0051,     4125,   2787.6,   1.8188,  34.7446,2,  34.7455,2,    195.2,2,    195.5,2,    94.77,2,     0.00,2,    30.47,2,     0.00,2,     2.10,2,    0.082,2,    0.044,2,    0.004,4,   0.0720,2,   2253.2,3,   2355.6,2,   7.6168,2,    24.97,     -999,1,   1.8203,2,     -999,9,     -999,     -999,9,     -999,9,     -999,9,     -999,9,     -999,9,     -999,1,   0.0189,1,   4.6397,1,     16.0,2,     -999,9,20240324,1726, -37.0028,  95.0051,     -999,9,     -999,9,-999          ,9,-999          ,9,-999          ,9