BOTTLE,20240417CCHHYDRO
EXPOCODE,SECT_ID,STNNBR,CASTNO,SAMPNO,BTLNBR,BTLNBR_FLAG_W,DATE,TIME,LATITUDE,LONGITUDE,DEPTH,CTDPRS,CTDTMP,CTDSAL,CTDSAL_FLAG_W,SALNTY,SALNTY_FLAG_W,CTDOXY,CTDOXY_FLAG_W,OXYGEN,OXYGEN_FLAG_W,SILCAT,SILCAT_FLAG_W,NH4,NH4_FLAG_W,NITRAT,NITRAT_FLAG_W,NITRIT,NITRIT_FLAG_W,PHSPHT,PHSPHT_FLAG_W,CFC-11,CFC-11_FLAG_W,CFC-12,CFC-12_FLAG_W,CFC113,CFC113_FLAG_W,SF6,SF6_FLAG_W,TCARBN,TCARBN_FLAG_W,ALKALI,ALKALI_FLAG_W,PH_TOT,PH_TOT_FLAG_W,PH_TMP,DOC,DOC_FLAG_W,REFTMP,REFTMP_FLAG_W,DELC14,DELC14_FLAG_W,C14ERR,POC,POC_FLAG_W,PON,PON_FLAG_W,POP,POP_FLAG_W,PCOD,PCOD_FLAG_W,DOP,DOP_FLAG_W,TDN,TDN_FLAG_W,CTDFLUOR,CTDFLUOR_FLAG_W,CTDXMISS,CTDXMISS_FLAG_W,N2O,N2O_FLAG_W,ARGON,ARGON_FLAG_W,BTL_DATE,BTL_TIME,BTL_LAT,BTL_LON,KRYPTON,KRYPTON_FLAG_W,XENON,XENON_FLAG_W,HPLC,HPLC_FLAG_W,DNA,DNA_FLAG_W,FCM,FCM_FLAG_W
,,,,,,,,,,,METERS,DBAR,ITS-90,PSS-78,,PSS-78,,UMOL/KG,,UMOL/KG,,UMOL/KG,,UMOL/KG,,UMOL/KG,,UMOL/KG,,UMOL/KG,,PMOL/KG,,PMOL/KG,,PMOL/KG,,FMOL/KG,,UMOL/KG,,UMOL/KG,,,,DEG C,UMOL/KG,,ITS-90,,/MILLE,,/MILLE,UG/KG,,UG/KG,,UG/L,,UG/L,,UMOL/KG,,UMOL/KG,,VOLTS,,VOLTS,,NMOL/KG,,UMOL/L,,,,,,NMOL/L,,NMOL/L,,,,,,,
325020240221  ,I08        ,33      ,  2,5          ,5          ,2,20240316,0936, -53.5277,  87.0234,     4582,   3561.2,   0.4492,  34.6834,2,  34.6838,2,    216.8,2,    217.0,2,   126.62,2,     0.00,2,    32.29,2,     0.00,2,     2.27,2,   -0.002,4,    0.001,4,    0.001,4,   0.0000,4,   2258.3,3,   2358.4,2,   7.5950,2,    25.04,     -999,9,   0.4492,2,     -999,9,     -999,     -999,9,     -999,9,     -999,9,     -999,9,     -999,9,     -999,9,   0.0183,1,   4.6302,1,      0.5,4,     -999,9,20240316,1008, -53.5276,  87.0233,     -999,9,     -999,9,-999          ,9,-999          ,9,-999          ,9
325020240221  ,I08        ,33      ,  2,4          ,4          ,2,20240316,0936, -53.5277,  87.0234,     4582,   3869.1,   0.3449,  34.6772,2,  34.6771,2,    220.4,2,    220.2,2,   129.06,2,     0.00,2,    32.44,2,     0.00,2,     2.26,2,    0.861,2,    0.456,2,    0.066,2,   0.0620,2,   2257.6,3,   2357.8,2,   7.5945,2,    25.01,     -999,9,   0.3445,2,     -999,1,     -999,     -999,9,     -999,9,     -999,9,     -999,9,     -999,9,     -999,9,   0.0176,1,   4.6297,1,     20.3,2,     -999,9,20240316,0959, -53.5276,  87.0233,     -999,9,     -999,9,-999          ,9,-999          ,9,-999          ,9
325020240221  ,I08        ,33      ,  2,3          ,3          ,2,20240316,0936, -53.5277,  87.0234,     4582,   4177.4,   0.2723,  34.6724,2,  34.6728,2,    223.6,2,    223.5,2,   130.23,2,     0.00,2,    32.47,2,     0.00,2,     2.26,2,    1.019,2,    0.534,2,    0.077,2,   0.4460,2,   2256.9,3,   2356.2,2,   7.5941,2,    25.00,     -999,9,   0.2719,2,     -999,9,     -999,     -999,9,     -999,9,     -999,9,     -999,9,     -999,9,     -999,9,   0.0183,1,   4.6275,1,     20.3,2,     -999,9,20240316,0952, -53.5276,  87.0233,     -999,9,     -999,9,-999          ,9,-999          ,9,-999          ,9
325020240221  ,I08        ,33      ,  2,2          ,2          ,2,20240316,0936, -53.5277,  87.0234,     4582,   4484.1,   0.2419,  34.6694,2,  34.6702,2,    225.5,2,    225.6,2,   130.82,2,     0.00,2,    32.47,2,     0.00,2,     2.25,2,    1.159,2,    0.588,2,    0.089,2,   0.2580,2,   2256.7,3,   2357.9,2,   7.5927,2,    24.99,     -999,9,   0.2414,2,     -999,1,     -999,     -999,9,     -999,9,     -999,9,     -999,9,     -999,9,     -999,9,   0.0183,1,   4.6229,1,     20.2,2,     -999,9,20240316,0942, -53.5276,  87.0233,     -999,9,     -999,9,-999          ,9,-999          ,9,-999          ,9
325020240221  ,I08        ,33      ,  2,1          ,1          ,2,20240316,0936, -53.5277,  87.0234,     4582,   4665.8,   0.2450,  34.6685,2,  34.6688,2,    226.1,2,    226.1,2,   131.31,2,     0.00,2,    32.57,2,     0.00,2,     2.24,2,    1.153,2,    0.599,2,    0.116,2,   0.3540,2,   2258.0,3,   2357.9,2,   7.5923,2,    25.05,     -999,9,   0.2446,2,     -999,1,     -999,     -999,9,     -999,9,     -999,9,     -999,9,     -999,9,     -999,9,   0.0183,1,   4.6111,1,      9.6,2,     -999,9,20240316,0936, -53.5276,  87.0233,     -999,9,     -999,9,-999          ,9,-999          ,9,-999          ,9