BOTTLE,20240417CCHHYDRO
EXPOCODE,SECT_ID,STNNBR,CASTNO,SAMPNO,BTLNBR,BTLNBR_FLAG_W,DATE,TIME,LATITUDE,LONGITUDE,DEPTH,CTDPRS,CTDTMP,CTDSAL,CTDSAL_FLAG_W,SALNTY,SALNTY_FLAG_W,CTDOXY,CTDOXY_FLAG_W,OXYGEN,OXYGEN_FLAG_W,SILCAT,SILCAT_FLAG_W,NH4,NH4_FLAG_W,NITRAT,NITRAT_FLAG_W,NITRIT,NITRIT_FLAG_W,PHSPHT,PHSPHT_FLAG_W,CFC-11,CFC-11_FLAG_W,CFC-12,CFC-12_FLAG_W,CFC113,CFC113_FLAG_W,SF6,SF6_FLAG_W,TCARBN,TCARBN_FLAG_W,ALKALI,ALKALI_FLAG_W,PH_TOT,PH_TOT_FLAG_W,PH_TMP,DOC,DOC_FLAG_W,REFTMP,REFTMP_FLAG_W,DELC14,DELC14_FLAG_W,C14ERR,POC,POC_FLAG_W,PON,PON_FLAG_W,POP,POP_FLAG_W,PCOD,PCOD_FLAG_W,DOP,DOP_FLAG_W,TDN,TDN_FLAG_W,CTDFLUOR,CTDFLUOR_FLAG_W,CTDXMISS,CTDXMISS_FLAG_W,N2O,N2O_FLAG_W,ARGON,ARGON_FLAG_W,BTL_DATE,BTL_TIME,BTL_LAT,BTL_LON,KRYPTON,KRYPTON_FLAG_W,XENON,XENON_FLAG_W,HPLC,HPLC_FLAG_W,DNA,DNA_FLAG_W,FCM,FCM_FLAG_W
,,,,,,,,,,,METERS,DBAR,ITS-90,PSS-78,,PSS-78,,UMOL/KG,,UMOL/KG,,UMOL/KG,,UMOL/KG,,UMOL/KG,,UMOL/KG,,UMOL/KG,,PMOL/KG,,PMOL/KG,,PMOL/KG,,FMOL/KG,,UMOL/KG,,UMOL/KG,,,,DEG C,UMOL/KG,,ITS-90,,/MILLE,,/MILLE,UG/KG,,UG/KG,,UG/L,,UG/L,,UMOL/KG,,UMOL/KG,,VOLTS,,VOLTS,,NMOL/KG,,UMOL/L,,,,,,NMOL/L,,NMOL/L,,,,,,,
325020240221  ,I08        ,27      ,  1,36         ,36         ,2,20240313,0022, -57.3217,  82.7808,     4225,      5.2,   2.1184,  33.9240,2,  33.9230,2,    323.0,2,    323.0,2,    27.74,2,     0.74,2,    25.76,2,     0.28,2,     1.75,2,    5.494,4,    2.800,2,    0.386,2,   4.3000,2,   2172.6,3,   2290.5,2,   7.6793,2,    25.02,     -999,1,     -999,1,     -999,9,     -999,     -999,9,     -999,9,     -999,9,     -999,9,     -999,9,     -999,1,   0.0393,1,   4.5226,1,      9.5,2,     -999,9,20240313,0245, -57.3217,  82.7808,     -999,9,     -999,9,-999          ,9,-999          ,9,-999          ,9
325020240221  ,I08        ,27      ,  1,35         ,35         ,2,20240313,0022, -57.3217,  82.7808,     4225,     34.4,   2.1195,  33.9238,2,  33.9224,2,    322.9,2,    322.9,2,    27.74,2,     0.75,2,    25.77,2,     0.27,2,     1.75,2,    5.406,2,    2.699,2,    0.390,2,   4.0720,2,   2171.9,3,   2294.7,2,   7.6788,2,    25.00,     -999,1,     -999,1,     -999,9,     -999,     -999,9,     -999,9,     -999,9,     -999,9,     -999,9,     -999,1,   0.0431,1,   4.5232,1,      9.6,2,     -999,9,20240313,0242, -57.3217,  82.7808,     -999,9,     -999,9,-999          ,9,-999          ,9,-999          ,9
325020240221  ,I08        ,27      ,  1,34         ,34         ,2,20240313,0022, -57.3217,  82.7808,     4225,     59.8,   2.1178,  33.9238,2,  33.9230,2,    322.8,2,    323.2,2,    27.83,2,     0.76,2,    25.74,2,     0.27,2,     1.77,2,    5.415,2,    2.764,2,    0.391,2,   4.0610,2,   2169.3,3,   2292.0,2,   7.6788,2,    25.04,     -999,1,     -999,1,     -999,9,     -999,     -999,9,     -999,9,     -999,9,     -999,9,     -999,9,     -999,1,   0.0446,1,   4.5252,1,      9.6,2,     -999,9,20240313,0240, -57.3217,  82.7809,     -999,9,     -999,9,-999          ,9,-999          ,9,-999          ,9
325020240221  ,I08        ,27      ,  1,33         ,33         ,2,20240313,0022, -57.3217,  82.7808,     4225,     85.3,   2.0796,  33.9249,2,  33.9242,2,    322.1,2,    322.5,2,    27.93,2,     0.75,2,    25.80,2,     0.27,2,     1.78,2,    5.209,2,    2.754,2,    0.391,2,   4.1220,2,     -999,9,     -999,9,     -999,9,     -999,     -999,1,     -999,1,     -999,9,     -999,     -999,9,     -999,9,     -999,9,     -999,9,     -999,9,     -999,1,   0.0495,1,   4.5260,1,      9.7,2,     -999,9,20240313,0238, -57.3217,  82.7807,     -999,9,     -999,9,-999          ,9,-999          ,9,-999          ,9
325020240221  ,I08        ,27      ,  1,32         ,32         ,2,20240313,0022, -57.3217,  82.7808,     4225,    110.1,   1.6615,  33.9680,2,  33.9769,2,    311.4,2,    314.5,2,    34.47,2,     0.84,2,    26.97,2,     0.28,2,     1.91,2,    5.266,2,    2.717,2,    0.428,2,   4.3920,2,   2184.8,3,   2292.7,2,   7.6553,6,    25.05,     -999,1,     -999,1,     -999,9,     -999,     -999,9,     -999,9,     -999,9,     -999,9,     -999,9,     -999,1,   0.0379,1,   4.5580,1,     10.4,2,     -999,9,20240313,0236, -57.3217,  82.7808,     -999,9,     -999,9,-999          ,9,-999          ,9,-999          ,9
325020240221  ,I08        ,27      ,  1,31         ,31         ,2,20240313,0022, -57.3217,  82.7808,     4225,    136.0,   1.0321,  34.2206,2,  34.2301,2,    253.7,2,    252.3,2,    56.05,2,     0.05,2,    32.48,2,     0.10,2,     2.27,2,    3.872,2,    1.935,2,    0.270,2,   2.2820,2,     -999,9,     -999,9,     -999,9,     -999,     -999,1,     -999,1,     -999,9,     -999,     -999,9,     -999,9,     -999,9,     -999,9,     -999,9,     -999,1,   0.0199,1,   4.6152,1,     12.7,2,     -999,9,20240313,0234, -57.3217,  82.7808,     -999,9,     -999,9,-999          ,9,-999          ,9,-999          ,9
325020240221  ,I08        ,27      ,  1,30         ,30         ,2,20240313,0022, -57.3217,  82.7808,     4225,    166.5,   1.3161,  34.3769,2,  34.3725,2,    222.0,3,    218.4,2,    66.19,2,     0.06,2,    33.85,2,     0.02,2,     2.30,2,    2.875,2,    1.353,2,    0.196,2,   1.7340,2,   2242.5,3,   2316.3,2,   7.5504,2,    25.02,     -999,1,     -999,1,     -999,9,     -999,     -999,9,     -999,9,     -999,9,     -999,9,     -999,9,     -999,1,   0.0192,1,   4.6203,1,     13.6,2,     -999,9,20240313,0231, -57.3217,  82.7808,     -999,9,     -999,9,-999          ,9,-999          ,9,-999          ,9
325020240221  ,I08        ,27      ,  1,29         ,29         ,2,20240313,0022, -57.3217,  82.7808,     4225,    217.7,   2.0161,  34.5581,2,  34.5543,2,    180.9,2,    180.1,2,    75.07,2,     0.04,2,    34.27,2,     0.00,2,     2.32,2,    1.318,2,    0.608,2,    0.082,2,   0.6010,2,   2256.7,3,   2328.3,2,   7.5444,6,    25.04,     -999,1,     -999,1,     -999,9,     -999,     -999,9,     -999,9,     -999,9,     -999,9,     -999,9,     -999,1,   0.0189,1,   4.6244,1,     14.1,2,     -999,9,20240313,0229, -57.3217,  82.7807,     -999,9,     -999,9,-999          ,9,-999          ,9,-999          ,9
325020240221  ,I08        ,27      ,  1,28         ,28         ,2,20240313,0022, -57.3217,  82.7808,     4225,    268.1,   2.0866,  34.6042,2,  34.6022,2,    176.2,2,    176.6,2,    77.60,2,     0.05,2,    33.96,2,     0.00,2,     2.28,2,    0.959,2,    0.451,2,    0.056,2,   0.4910,2,   2256.0,3,   2331.8,2,   7.5493,2,    25.04,     -999,1,     -999,1,     -999,9,     -999,     -999,9,     -999,9,     -999,9,     -999,9,     -999,9,     -999,1,   0.0183,1,   4.6279,1,     14.0,2,     -999,9,20240313,0226, -57.3217,  82.7808,     -999,9,     -999,9,-999          ,9,-999          ,9,-999          ,9
325020240221  ,I08        ,27      ,  1,27         ,27         ,2,20240313,0022, -57.3217,  82.7808,     4225,    318.0,   2.2377,  34.6581,2,  34.6572,2,    176.7,2,    176.2,2,    77.60,2,     0.05,2,    33.05,2,     0.00,2,     2.22,2,    0.621,6,    0.280,6,    0.029,6,   0.2130,6,   2253.2,3,   2337.7,6,   7.5666,2,    25.00,     -999,1,     -999,1,     -999,9,     -999,     -999,9,     -999,9,     -999,9,     -999,9,     -999,9,     -999,1,   0.0183,1,   4.6348,1,     13.5,6,     -999,9,20240313,0224, -57.3217,  82.7808,     -999,9,     -999,9,-999          ,9,-999          ,9,-999          ,9
325020240221  ,I08        ,27      ,  1,26         ,26         ,2,20240313,0022, -57.3217,  82.7808,     4225,    368.9,   2.1557,  34.6708,2,  34.6700,2,    177.0,2,    177.2,2,    79.06,2,     0.02,2,    32.82,2,     0.00,2,     2.21,2,    0.604,2,    0.275,2,    0.025,2,   0.3000,2,     -999,9,     -999,9,     -999,9,     -999,     -999,1,     -999,1,     -999,9,     -999,     -999,9,     -999,9,     -999,9,     -999,9,     -999,9,     -999,1,   0.0183,1,   4.6362,1,     13.4,2,     -999,9,20240313,0221, -57.3217,  82.7807,     -999,9,     -999,9,-999          ,9,-999          ,9,-999          ,9
325020240221  ,I08        ,27      ,  1,25         ,25         ,2,20240313,0022, -57.3217,  82.7808,     4225,    419.5,   2.1114,  34.6846,2,  34.6844,2,    178.6,2,    178.7,2,    80.53,2,     0.00,2,    32.47,2,     0.00,2,     2.19,2,    0.555,2,    0.243,2,    0.022,2,   0.1320,2,   2255.3,3,   2339.8,2,   7.5733,6,    25.01,     -999,1,     -999,1,     -999,9,     -999,     -999,9,     -999,9,     -999,9,     -999,9,     -999,9,     -999,1,   0.0177,1,   4.6358,1,     13.2,2,     -999,9,20240313,0219, -57.3217,  82.7808,     -999,9,     -999,9,-999          ,9,-999          ,9,-999          ,9
325020240221  ,I08        ,27      ,  1,24         ,24         ,2,20240313,0022, -57.3217,  82.7808,     4225,    469.7,   2.0728,  34.6954,2,  34.6962,2,    180.1,2,    180.3,2,    81.70,2,     0.00,2,    32.12,2,     0.00,2,     2.16,2,    0.523,2,    0.234,2,    0.021,2,   0.0510,2,     -999,9,     -999,9,     -999,9,     -999,     -999,1,     -999,1,     -999,9,     -999,     -999,9,     -999,9,     -999,9,     -999,9,     -999,9,     -999,1,   0.0183,1,   4.6358,1,     13.0,2,     -999,9,20240313,0216, -57.3217,  82.7808,     -999,9,     -999,9,-999          ,9,-999          ,9,-999          ,9
325020240221  ,I08        ,27      ,  1,23         ,37         ,2,20240313,0022, -57.3217,  82.7808,     4225,    540.3,   1.9772,  34.7052,2,  34.7046,2,    181.2,2,    182.1,2,    83.94,2,     0.06,2,    31.99,2,     0.00,2,     2.16,2,    0.513,2,    0.230,2,    0.021,2,   0.0560,2,   2254.5,3,   2343.6,2,   7.5789,2,    25.02,     -999,1,     -999,1,     -999,9,     -999,     -999,9,     -999,9,     -999,9,     -999,9,     -999,9,     -999,1,   0.0183,1,   4.6360,1,     13.0,2,     -999,9,20240313,0213, -57.3217,  82.7808,     -999,9,     -999,9,-999          ,9,-999          ,9,-999          ,9
325020240221  ,I08        ,27      ,  1,22         ,22         ,2,20240313,0022, -57.3217,  82.7808,     4225,    640.9,   1.9109,  34.7221,2,  34.7215,2,    185.6,2,    185.9,2,    85.31,2,     0.00,2,    31.39,2,     0.00,2,     2.11,2,    0.512,2,    0.206,2,    0.018,2,   0.0720,2,     -999,9,     -999,9,     -999,9,     -999,     -999,1,     -999,1,     -999,9,     -999,     -999,9,     -999,9,     -999,9,     -999,9,     -999,9,     -999,1,   0.0182,1,   4.6388,1,     12.6,2,     -999,9,20240313,0210, -57.3217,  82.7808,     -999,9,     -999,9,-999          ,9,-999          ,9,-999          ,9
325020240221  ,I08        ,27      ,  1,21         ,21         ,2,20240313,0022, -57.3217,  82.7808,     4225,    741.8,   1.8386,  34.7343,2,  34.7339,2,    189.7,2,    189.5,2,    86.96,2,     0.02,2,    30.91,2,     0.00,2,     2.08,2,    0.382,2,    0.177,2,    0.017,2,   0.0810,2,   2251.4,3,   2346.2,2,   7.5966,2,    25.00,     -999,1,     -999,1,     -999,9,     -999,     -999,9,     -999,9,     -999,9,     -999,9,     -999,9,     -999,1,   0.0179,1,   4.6377,1,     12.1,2,     -999,9,20240313,0207, -57.3217,  82.7808,     -999,9,     -999,9,-999          ,9,-999          ,9,-999          ,9
325020240221  ,I08        ,27      ,  1,20         ,20         ,2,20240313,0022, -57.3217,  82.7808,     4225,    843.7,   1.7787,  34.7417,2,  34.7418,2,    193.4,2,    193.4,2,    88.62,2,     0.00,2,    30.51,2,     0.00,2,     2.09,2,    0.327,2,    0.147,2,    0.030,2,   0.0530,2,   2251.6,3,   2346.9,2,   7.6043,2,    25.04,     -999,1,     -999,1,     -999,9,     -999,     -999,9,     -999,9,     -999,9,     -999,9,     -999,9,     -999,1,   0.0177,1,   4.6374,1,      8.4,4,     -999,9,20240313,0203, -57.3217,  82.7808,     -999,9,     -999,9,-999          ,9,-999          ,9,-999          ,9
325020240221  ,I08        ,27      ,  1,19         ,19         ,2,20240313,0022, -57.3217,  82.7808,     4225,    944.0,   1.6615,  34.7414,2,  34.7414,2,    195.3,2,    195.3,2,    91.26,2,     0.03,2,    30.47,2,     0.00,2,     2.09,2,    0.359,2,    0.159,2,    0.012,2,   0.0090,2,     -999,9,     -999,9,     -999,9,     -999,     -999,1,     -999,1,     -999,9,     -999,     -999,9,     -999,9,     -999,9,     -999,9,     -999,9,     -999,1,   0.0190,1,   4.6361,1,     12.2,2,     -999,9,20240313,0200, -57.3217,  82.7808,     -999,9,     -999,9,-999          ,9,-999          ,9,-999          ,9
325020240221  ,I08        ,27      ,  1,18         ,18         ,2,20240313,0022, -57.3217,  82.7808,     4225,   1047.4,   1.5312,  34.7382,2,  34.7386,2,    197.2,2,    197.0,2,    94.58,2,     0.04,2,    30.56,2,     0.00,2,     2.11,2,    0.378,2,    0.167,2,    0.013,2,   0.0290,2,   2252.6,3,   2348.7,2,   7.6058,2,    25.05,     -999,1,     -999,1,     -999,9,     -999,     -999,9,     -999,9,     -999,9,     -999,9,     -999,9,     -999,1,   0.0176,1,   4.6348,1,     12.2,2,     -999,9,20240313,0157, -57.3217,  82.7808,     -999,9,     -999,9,-999          ,9,-999          ,9,-999          ,9
325020240221  ,I08        ,27      ,  1,17         ,17         ,2,20240313,0022, -57.3217,  82.7808,     4225,   1149.2,   1.4165,  34.7353,2,  34.7347,2,    199.0,2,    198.8,2,    96.92,2,     0.03,2,    30.63,2,     0.00,2,     2.11,2,    0.406,2,    0.174,2,    0.015,2,   0.0080,2,     -999,9,     -999,9,     -999,9,     -999,     -999,1,     -999,1,     -999,9,     -999,     -999,9,     -999,9,     -999,9,     -999,9,     -999,9,     -999,1,   0.0183,1,   4.6335,1,     12.2,2,     -999,9,20240313,0153, -57.3217,  82.7808,     -999,9,     -999,9,-999          ,9,-999          ,9,-999          ,9
325020240221  ,I08        ,27      ,  1,16         ,16         ,2,20240313,0022, -57.3217,  82.7808,     4225,   1249.7,   1.3508,  34.7341,2,  34.7337,2,    200.5,2,    200.2,2,    98.87,2,     0.04,2,    30.78,2,     0.00,2,     2.11,2,    0.420,2,    0.175,2,    0.012,2,   0.0200,2,   2253.8,3,   2350.5,2,   7.6058,2,    25.05,     -999,1,     -999,1,     -999,9,     -999,     -999,9,     -999,9,     -999,9,     -999,9,     -999,9,     -999,1,   0.0179,1,   4.6325,1,     11.9,2,     -999,9,20240313,0150, -57.3217,  82.7808,     -999,9,     -999,9,-999          ,9,-999          ,9,-999          ,9
325020240221  ,I08        ,27      ,  1,15         ,15         ,2,20240313,0022, -57.3217,  82.7808,     4225,   1349.2,   1.2581,  34.7311,2,  34.7304,2,    201.7,2,    201.8,2,   101.70,2,     0.02,2,    31.00,2,     0.00,2,     2.14,2,    0.384,2,    0.170,2,    0.012,2,  -0.0030,2,     -999,9,     -999,9,     -999,9,     -999,     -999,1,     -999,1,     -999,9,     -999,     -999,9,     -999,9,     -999,9,     -999,9,     -999,9,     -999,1,   0.0182,1,   4.6315,1,     11.9,2,     -999,9,20240313,0146, -57.3217,  82.7808,     -999,9,     -999,9,-999          ,9,-999          ,9,-999          ,9
325020240221  ,I08        ,27      ,  1,14         ,14         ,2,20240313,0022, -57.3217,  82.7808,     4225,   1452.1,   1.1907,  34.7286,2,  34.7278,2,    202.8,2,    202.8,2,   104.14,2,     0.03,2,    31.15,2,     0.00,2,     2.12,2,    0.372,2,    0.162,2,    0.012,2,   0.0430,2,   2254.5,3,   2353.9,2,   7.6073,2,    25.04,     -999,1,     -999,1,     -999,9,     -999,     -999,9,     -999,9,     -999,9,     -999,9,     -999,9,     -999,1,   0.0181,1,   4.6300,1,     12.0,2,     -999,9,20240313,0143, -57.3217,  82.7808,     -999,9,     -999,9,-999          ,9,-999          ,9,-999          ,9
325020240221  ,I08        ,27      ,  1,13         ,13         ,2,20240313,0022, -57.3217,  82.7808,     4225,   1556.8,   1.0943,  34.7231,2,  34.7227,2,    203.6,2,    203.5,2,   106.88,2,     0.02,2,    31.44,2,     0.00,2,     2.16,2,    0.388,2,    0.169,2,    0.013,2,   0.0180,2,     -999,9,     -999,9,     -999,9,     -999,     -999,1,     -999,1,     -999,9,     -999,     -999,9,     -999,9,     -999,9,     -999,9,     -999,9,     -999,1,   0.0183,1,   4.6288,1,     12.0,2,     -999,9,20240313,0140, -57.3217,  82.7808,     -999,9,     -999,9,-999          ,9,-999          ,9,-999          ,9
325020240221  ,I08        ,27      ,  1,12         ,12         ,2,20240313,0022, -57.3217,  82.7808,     4225,   1686.1,   0.9711,  34.7168,2,  34.7160,2,    204.8,2,    204.8,2,   110.29,2,     0.03,2,    31.74,2,     0.00,2,     2.18,2,    0.405,2,    0.177,2,    0.014,2,   0.0370,2,   2256.4,3,   2355.5,2,   7.6031,2,    25.01,     -999,1,     -999,1,     -999,9,     -999,     -999,9,     -999,9,     -999,9,     -999,9,     -999,9,     -999,1,   0.0176,1,   4.6275,1,     11.9,2,     -999,9,20240313,0136, -57.3217,  82.7808,     -999,9,     -999,9,-999          ,9,-999          ,9,-999          ,9
325020240221  ,I08        ,27      ,  1,11         ,11         ,2,20240313,0022, -57.3217,  82.7808,     4225,   1889.5,   0.8146,  34.7079,2,  34.7074,2,    206.5,2,    206.8,2,   114.88,2,     0.02,2,    32.09,2,     0.00,2,     2.20,2,    0.478,2,    0.203,2,    0.014,2,   0.0060,2,   2261.0,3,   2356.2,2,   7.6006,6,    25.00,     -999,1,     -999,1,     -999,9,     -999,     -999,9,     -999,9,     -999,9,     -999,9,     -999,9,     -999,1,   0.0180,1,   4.6262,1,     11.9,2,     -999,9,20240313,0130, -57.3217,  82.7807,     -999,9,     -999,9,-999          ,9,-999          ,9,-999          ,9
325020240221  ,I08        ,27      ,  1,10         ,10         ,2,20240313,0022, -57.3217,  82.7808,     4225,   2115.7,   0.6470,  34.6985,2,  34.6981,2,    208.9,2,    209.0,2,   119.86,2,     0.03,2,    32.39,2,     0.00,2,     2.19,2,    0.550,2,    0.233,2,    0.017,2,   0.0470,2,   2260.5,3,   2357.2,2,   7.5954,6,    25.02,     -999,1,     -999,1,     -999,9,     -999,     -999,9,     -999,9,     -999,9,     -999,9,     -999,9,     -999,1,   0.0176,1,   4.6239,1,     12.0,2,     -999,9,20240313,0125, -57.3217,  82.7808,     -999,9,     -999,9,-999          ,9,-999          ,9,-999          ,9
325020240221  ,I08        ,27      ,  1,9          ,9          ,2,20240313,0022, -57.3217,  82.7808,     4225,   2369.4,   0.4972,  34.6905,2,  34.6895,2,    211.7,2,    211.9,2,   123.47,2,     0.00,2,    32.57,2,     0.00,2,     2.21,2,    0.604,2,    0.270,2,    0.020,2,   0.1530,2,   2261.0,3,   2355.8,6,   7.5946,2,    24.99,     -999,1,     -999,1,     -999,9,     -999,     -999,9,     -999,9,     -999,9,     -999,9,     -999,9,     -999,1,   0.0183,1,   4.6227,1,     11.8,2,     -999,9,20240313,0118, -57.3217,  82.7808,     -999,9,     -999,9,-999          ,9,-999          ,9,-999          ,9
325020240221  ,I08        ,27      ,  1,8          ,8          ,2,20240313,0022, -57.3217,  82.7808,     4225,   2626.4,   0.3685,  34.6841,2,  34.6824,2,    215.5,2,    215.5,2,   126.50,2,     0.00,2,    32.51,2,     0.00,2,     2.21,2,    0.700,2,    0.323,2,    0.034,2,   0.1810,2,     -999,9,     -999,9,     -999,9,     -999,     -999,1,     -999,1,     -999,9,     -999,     -999,9,     -999,9,     -999,9,     -999,9,     -999,9,     -999,1,   0.0179,1,   4.6224,1,     11.6,2,     -999,9,20240313,0111, -57.3217,  82.7808,     -999,9,     -999,9,-999          ,9,-999          ,9,-999          ,9
325020240221  ,I08        ,27      ,  1,7          ,7          ,2,20240313,0022, -57.3217,  82.7808,     4225,   2880.9,   0.2666,  34.6786,2,  34.6769,2,    219.0,2,    219.0,2,   128.06,2,     0.00,2,    32.42,2,     0.00,2,     2.21,2,    0.872,2,    0.398,2,    0.043,2,   0.2620,2,   2261.7,3,   2354.3,2,   7.5934,2,    25.04,     -999,1,     -999,1,     -999,9,     -999,     -999,9,     -999,9,     -999,9,     -999,9,     -999,9,     -999,1,   0.0182,1,   4.6217,1,     11.8,2,     -999,9,20240313,0104, -57.3217,  82.7808,     -999,9,     -999,9,-999          ,9,-999          ,9,-999          ,9
325020240221  ,I08        ,27      ,  1,6          ,6          ,2,20240313,0022, -57.3217,  82.7808,     4225,   3151.1,   0.1983,  34.6747,2,  34.6734,2,    221.6,2,    221.7,2,   128.94,2,     0.00,2,    32.34,2,     0.00,2,     2.22,2,    1.040,2,    0.476,2,    0.056,2,   0.3470,2,     -999,9,     -999,9,     -999,9,     -999,     -999,1,     -999,1,     -999,9,     -999,     -999,9,     -999,9,     -999,9,     -999,9,     -999,9,     -999,1,   0.0181,1,   4.6225,1,     11.6,2,     -999,9,20240313,0056, -57.3217,  82.7808,     -999,9,     -999,9,-999          ,9,-999          ,9,-999          ,9