BOTTLE,20240417CCHHYDRO
EXPOCODE,SECT_ID,STNNBR,CASTNO,SAMPNO,BTLNBR,BTLNBR_FLAG_W,DATE,TIME,LATITUDE,LONGITUDE,DEPTH,CTDPRS,CTDTMP,CTDSAL,CTDSAL_FLAG_W,SALNTY,SALNTY_FLAG_W,CTDOXY,CTDOXY_FLAG_W,OXYGEN,OXYGEN_FLAG_W,SILCAT,SILCAT_FLAG_W,NH4,NH4_FLAG_W,NITRAT,NITRAT_FLAG_W,NITRIT,NITRIT_FLAG_W,PHSPHT,PHSPHT_FLAG_W,CFC-11,CFC-11_FLAG_W,CFC-12,CFC-12_FLAG_W,CFC113,CFC113_FLAG_W,SF6,SF6_FLAG_W,TCARBN,TCARBN_FLAG_W,ALKALI,ALKALI_FLAG_W,PH_TOT,PH_TOT_FLAG_W,PH_TMP,DOC,DOC_FLAG_W,REFTMP,REFTMP_FLAG_W,DELC14,DELC14_FLAG_W,C14ERR,POC,POC_FLAG_W,PON,PON_FLAG_W,POP,POP_FLAG_W,PCOD,PCOD_FLAG_W,DOP,DOP_FLAG_W,TDN,TDN_FLAG_W,CTDFLUOR,CTDFLUOR_FLAG_W,CTDXMISS,CTDXMISS_FLAG_W,N2O,N2O_FLAG_W,ARGON,ARGON_FLAG_W,BTL_DATE,BTL_TIME,BTL_LAT,BTL_LON,KRYPTON,KRYPTON_FLAG_W,XENON,XENON_FLAG_W,HPLC,HPLC_FLAG_W,DNA,DNA_FLAG_W,FCM,FCM_FLAG_W
,,,,,,,,,,,METERS,DBAR,ITS-90,PSS-78,,PSS-78,,UMOL/KG,,UMOL/KG,,UMOL/KG,,UMOL/KG,,UMOL/KG,,UMOL/KG,,UMOL/KG,,PMOL/KG,,PMOL/KG,,PMOL/KG,,FMOL/KG,,UMOL/KG,,UMOL/KG,,,,DEG C,UMOL/KG,,ITS-90,,/MILLE,,/MILLE,UG/KG,,UG/KG,,UG/L,,UG/L,,UMOL/KG,,UMOL/KG,,VOLTS,,VOLTS,,NMOL/KG,,UMOL/L,,,,,,NMOL/L,,NMOL/L,,,,,,,
325020240221  ,I08        ,53      ,  1,5          ,5          ,2,20240323,1040, -39.5072,  95.0021,     3731,   2906.0,   1.5601,  34.7388,2,  34.7396,2,    200.5,2,    200.8,2,   101.02,2,     0.00,2,    30.86,2,     0.00,2,     2.08,2,    0.154,2,    0.079,2,    0.009,4,   0.0050,2,   2254.2,3,   2358.1,2,   7.6161,2,    24.97,     -999,9,   1.5600,2,     -999,9,     -999,     -999,9,     -999,9,     -999,9,     -999,9,     -999,9,     -999,9,   0.0188,1,   4.6385,1,     15.5,2,     -999,9,20240323,1102, -39.5072,  95.0021,     -999,9,     -999,9,-999          ,9,-999          ,9,-999          ,9
325020240221  ,I08        ,53      ,  1,4          ,4          ,2,20240323,1040, -39.5072,  95.0021,     3731,   3146.3,   1.3469,  34.7294,2,  34.7319,3,    202.9,2,    202.4,2,   108.44,2,     0.00,2,    31.25,2,     0.00,2,     2.13,2,     -999,9,     -999,9,     -999,9,     -999,9,     -999,9,     -999,9,     -999,9,     -999,     -999,9,   1.3469,2,     -999,9,     -999,     -999,9,     -999,9,     -999,9,     -999,9,     -999,9,     -999,9,   0.0176,1,   4.6361,1,     -999,9,     -999,9,20240323,1057, -39.5072,  95.0021,     -999,9,     -999,9,-999          ,9,-999          ,9,-999          ,9
325020240221  ,I08        ,53      ,  1,3          ,3          ,2,20240323,1040, -39.5072,  95.0021,     3731,   3427.9,   1.2156,  34.7225,2,  34.7227,2,    204.4,2,    204.9,2,   113.32,2,     0.00,2,    31.56,2,     0.00,2,     2.14,2,    0.249,2,    0.119,2,    0.017,4,   0.0450,2,   2258.3,3,   2363.1,2,   7.6129,2,    24.99,     -999,9,   1.2159,2,     -999,9,     -999,     -999,9,     -999,9,     -999,9,     -999,9,     -999,9,     -999,9,   0.0183,1,   4.6361,1,     15.2,2,     -999,9,20240323,1051, -39.5072,  95.0021,     -999,9,     -999,9,-999          ,9,-999          ,9,-999          ,9
325020240221  ,I08        ,53      ,  1,2          ,2          ,2,20240323,1040, -39.5072,  95.0021,     3731,   3608.4,   1.1663,  34.7196,2,  34.7211,2,    204.9,2,    204.7,2,   115.27,2,     0.02,2,    31.68,2,     0.00,2,     2.14,2,     -999,9,     -999,9,     -999,9,     -999,9,     -999,9,     -999,9,     -999,9,     -999,     -999,9,   1.1662,2,     -999,9,     -999,     -999,9,     -999,9,     -999,9,     -999,9,     -999,9,     -999,9,   0.0183,1,   4.6373,1,     -999,9,     -999,9,20240323,1046, -39.5072,  95.0021,     -999,9,     -999,9,-999          ,9,-999          ,9,-999          ,9
325020240221  ,I08        ,53      ,  1,1          ,1          ,2,20240323,1040, -39.5072,  95.0021,     3731,   3783.6,   1.1567,  34.7183,2,  34.7182,2,    204.8,2,    205.0,2,   115.47,2,     0.02,2,    31.77,2,     0.00,2,     2.16,2,    0.258,2,    0.124,2,    0.018,4,   0.0710,2,   2261.5,3,   2368.7,2,   7.6135,2,    25.01,     -999,9,   1.1566,2,     -999,9,     -999,     -999,9,     -999,9,     -999,9,     -999,9,     -999,9,     -999,9,   0.0183,1,   4.6386,1,      9.2,4,     -999,9,20240323,1040, -39.5072,  95.0021,     -999,9,     -999,9,-999          ,9,-999          ,9,-999          ,9