BOTTLE,20240417CCHHYDRO
EXPOCODE,SECT_ID,STNNBR,CASTNO,SAMPNO,BTLNBR,BTLNBR_FLAG_W,DATE,TIME,LATITUDE,LONGITUDE,DEPTH,CTDPRS,CTDTMP,CTDSAL,CTDSAL_FLAG_W,SALNTY,SALNTY_FLAG_W,CTDOXY,CTDOXY_FLAG_W,OXYGEN,OXYGEN_FLAG_W,SILCAT,SILCAT_FLAG_W,NH4,NH4_FLAG_W,NITRAT,NITRAT_FLAG_W,NITRIT,NITRIT_FLAG_W,PHSPHT,PHSPHT_FLAG_W,CFC-11,CFC-11_FLAG_W,CFC-12,CFC-12_FLAG_W,CFC113,CFC113_FLAG_W,SF6,SF6_FLAG_W,TCARBN,TCARBN_FLAG_W,ALKALI,ALKALI_FLAG_W,PH_TOT,PH_TOT_FLAG_W,PH_TMP,DOC,DOC_FLAG_W,REFTMP,REFTMP_FLAG_W,DELC14,DELC14_FLAG_W,C14ERR,POC,POC_FLAG_W,PON,PON_FLAG_W,POP,POP_FLAG_W,PCOD,PCOD_FLAG_W,DOP,DOP_FLAG_W,TDN,TDN_FLAG_W,CTDFLUOR,CTDFLUOR_FLAG_W,CTDXMISS,CTDXMISS_FLAG_W,N2O,N2O_FLAG_W,ARGON,ARGON_FLAG_W,BTL_DATE,BTL_TIME,BTL_LAT,BTL_LON,KRYPTON,KRYPTON_FLAG_W,XENON,XENON_FLAG_W,HPLC,HPLC_FLAG_W,DNA,DNA_FLAG_W,FCM,FCM_FLAG_W
,,,,,,,,,,,METERS,DBAR,ITS-90,PSS-78,,PSS-78,,UMOL/KG,,UMOL/KG,,UMOL/KG,,UMOL/KG,,UMOL/KG,,UMOL/KG,,UMOL/KG,,PMOL/KG,,PMOL/KG,,PMOL/KG,,FMOL/KG,,UMOL/KG,,UMOL/KG,,,,DEG C,UMOL/KG,,ITS-90,,/MILLE,,/MILLE,UG/KG,,UG/KG,,UG/L,,UG/L,,UMOL/KG,,UMOL/KG,,VOLTS,,VOLTS,,NMOL/KG,,UMOL/L,,,,,,NMOL/L,,NMOL/L,,,,,,,
325020240221  ,I08        ,15      ,  2,34         ,34         ,2,20240307,1010, -62.9680,  81.9656,     2715,      4.0,   0.7421,  33.7657,2,  33.7656,2,    332.1,2,    332.1,2,    19.25,2,     0.14,2,    23.25,2,     0.23,2,     1.54,2,    5.626,2,    2.947,2,    0.430,2,   4.8770,2,   2153.4,3,   2285.9,2,   7.7058,6,    24.99,     -999,1,   0.7422,2,     -999,9,     -999,     -999,9,     -999,9,     -999,9,     -999,9,     -999,9,     -999,1,   0.1549,1,   4.2395,1,     11.6,2,     -999,9,20240307,1154, -62.9680,  81.9656,     -999,9,     -999,9,-999          ,9,-999          ,9,-999          ,9
325020240221  ,I08        ,15      ,  2,33         ,33         ,2,20240307,1010, -62.9680,  81.9656,     2715,     19.6,   0.7313,  33.7656,2,  33.7660,2,    332.3,2,    332.1,2,    19.34,2,     0.14,2,    23.15,2,     0.22,2,     1.52,2,    5.014,2,    2.911,2,    0.431,2,   4.7350,2,   2154.3,3,   2285.7,2,   7.7020,6,    25.05,     -999,9,   0.7334,2,     -999,9,     -999,     -999,9,     -999,9,     -999,9,     -999,9,     -999,9,     -999,9,   0.1942,1,   4.2400,1,     11.6,2,     -999,9,20240307,1151, -62.9681,  81.9656,     -999,9,     -999,9,-999          ,9,-999          ,9,-999          ,9
325020240221  ,I08        ,15      ,  2,32         ,32         ,2,20240307,1010, -62.9680,  81.9656,     2715,     39.6,   0.6937,  33.7659,2,  33.7642,2,    332.1,2,    331.9,2,    19.44,2,     0.15,2,    23.07,2,     0.22,2,     1.51,2,    5.097,2,    2.785,2,    0.441,2,   4.8550,2,   2152.6,3,   2290.4,6,   7.7041,2,    24.16,     -999,9,   0.6934,2,     -999,9,     -999,     -999,9,     -999,9,     -999,9,     -999,9,     -999,9,     -999,9,   0.2092,1,   4.2308,1,     11.8,2,     -999,9,20240307,1149, -62.9681,  81.9656,     -999,9,     -999,9,-999          ,9,-999          ,9,-999          ,9
325020240221  ,I08        ,15      ,  2,31         ,31         ,2,20240307,1010, -62.9680,  81.9656,     2715,     65.6,  -0.4720,  33.9719,2,  33.9461,3,    306.6,2,    307.0,2,    38.78,2,     0.77,2,    27.48,2,     0.20,2,     2.00,2,    5.253,2,    2.613,2,    0.398,2,   3.7140,2,     -999,9,     -999,9,     -999,9,     -999,     -999,9,  -0.4260,3,     -999,9,     -999,     -999,9,     -999,9,     -999,9,     -999,9,     -999,9,     -999,9,   0.0667,1,   4.4749,1,     13.2,2,     -999,9,20240307,1147, -62.9681,  81.9656,     -999,9,     -999,9,-999          ,9,-999          ,9,-999          ,9
325020240221  ,I08        ,15      ,  2,30         ,30         ,2,20240307,1010, -62.9680,  81.9656,     2715,     89.3,   0.7846,  34.2832,2,  34.2852,2,    226.9,2,    227.3,2,    62.70,2,     0.02,2,    33.19,2,     0.04,2,     2.29,2,    3.115,2,    1.584,2,    0.232,2,   1.8640,2,     -999,9,     -999,9,     -999,9,     -999,     -999,9,   0.7936,2,     -999,9,     -999,     -999,9,     -999,9,     -999,9,     -999,9,     -999,9,     -999,9,   0.0220,1,   4.6136,1,     15.5,2,     -999,9,20240307,1144, -62.9681,  81.9656,     -999,9,     -999,9,-999          ,9,-999          ,9,-999          ,9
325020240221  ,I08        ,15      ,  2,29         ,29         ,2,20240307,1010, -62.9680,  81.9656,     2715,    114.8,   1.4933,  34.4090,2,  34.4159,2,    195.8,2,    195.6,2,    71.19,2,     0.02,2,    34.50,2,     0.02,2,     2.35,2,    2.162,2,    1.091,2,    0.155,2,   1.1790,2,   2249.1,3,   2321.0,2,   7.5236,2,    25.06,     -999,9,   1.4941,2,     -999,9,     -999,     -999,9,     -999,9,     -999,9,     -999,9,     -999,9,     -999,9,   0.0198,1,   4.6252,1,     16.0,2,     -999,9,20240307,1142, -62.9681,  81.9656,     -999,9,     -999,9,-999          ,9,-999          ,9,-999          ,9
325020240221  ,I08        ,15      ,  2,28         ,28         ,2,20240307,1010, -62.9680,  81.9656,     2715,    140.9,   1.7898,  34.4765,2,  34.4748,2,    182.1,2,    182.3,2,    74.89,2,     0.03,2,    34.95,2,     0.00,2,     2.39,2,    1.742,2,    0.878,2,    0.121,2,   0.9700,2,     -999,9,     -999,9,     -999,9,     -999,     -999,9,   1.7885,2,     -999,9,     -999,     -999,9,     -999,9,     -999,9,     -999,9,     -999,9,     -999,9,   0.0195,1,   4.6288,1,     16.4,2,     -999,9,20240307,1140, -62.9681,  81.9656,     -999,9,     -999,9,-999          ,9,-999          ,9,-999          ,9
325020240221  ,I08        ,15      ,  2,27         ,27         ,2,20240307,1010, -62.9680,  81.9656,     2715,    166.7,   1.9748,  34.5351,2,  34.5339,2,    173.0,2,    172.6,2,    78.01,2,     0.00,2,    34.92,2,     0.00,2,     2.38,2,    1.317,2,    0.653,2,    0.088,2,   0.5890,2,   2257.2,3,   2329.4,2,   7.5225,2,    25.02,     -999,9,   1.9741,2,     -999,9,     -999,     -999,9,     -999,9,     -999,9,     -999,9,     -999,9,     -999,9,   0.0195,1,   4.6310,1,     16.8,2,     -999,9,20240307,1137, -62.9681,  81.9656,     -999,9,     -999,9,-999          ,9,-999          ,9,-999          ,9
325020240221  ,I08        ,15      ,  2,26         ,26         ,2,20240307,1010, -62.9680,  81.9656,     2715,    192.1,   2.0151,  34.5592,2,  34.5586,2,    170.7,2,    170.6,2,    79.67,2,     0.00,2,    34.87,2,     0.00,2,     2.38,2,    1.154,2,    0.562,2,    0.078,2,   0.4960,2,     -999,9,     -999,9,     -999,9,     -999,     -999,9,   2.0141,2,     -999,9,     -999,     -999,9,     -999,9,     -999,9,     -999,9,     -999,9,     -999,9,   0.0177,1,   4.6300,1,     16.7,2,     -999,9,20240307,1135, -62.9681,  81.9656,     -999,9,     -999,9,-999          ,9,-999          ,9,-999          ,9
325020240221  ,I08        ,15      ,  2,25         ,25         ,2,20240307,1010, -62.9680,  81.9656,     2715,    217.5,   2.0504,  34.5851,2,  34.5840,2,    168.7,2,    168.2,2,    80.84,2,     0.00,2,    34.78,2,     0.00,2,     2.36,2,    0.996,2,    0.481,2,    0.064,2,   0.4350,2,   2259.6,3,   2331.2,2,   7.5292,2,    25.03,     -999,9,   2.0500,2,     -999,9,     -999,     -999,9,     -999,9,     -999,9,     -999,9,     -999,9,     -999,9,   0.0176,1,   4.6295,1,     16.6,2,     -999,9,20240307,1133, -62.9681,  81.9656,     -999,9,     -999,9,-999          ,9,-999          ,9,-999          ,9
325020240221  ,I08        ,15      ,  2,24         ,24         ,2,20240307,1010, -62.9680,  81.9656,     2715,    243.4,   2.0838,  34.6017,2,  34.6009,2,    168.4,2,    168.1,2,    81.23,2,     0.00,2,    34.61,2,     0.00,2,     2.36,2,    0.917,2,    0.434,2,    0.057,2,   0.1450,2,   2260.3,3,   2335.3,2,   7.5323,2,    25.04,     -999,9,   2.0824,2,     -999,9,     -999,     -999,9,     -999,9,     -999,9,     -999,9,     -999,9,     -999,9,   0.0182,1,   4.6346,1,     16.4,2,     -999,9,20240307,1131, -62.9681,  81.9656,     -999,9,     -999,9,-999          ,9,-999          ,9,-999          ,9
325020240221  ,I08        ,15      ,  2,23         ,37         ,2,20240307,1010, -62.9680,  81.9656,     2715,    287.7,   2.0460,  34.6259,2,  34.6250,2,    167.3,2,    167.3,2,    83.48,2,     0.00,2,    34.49,2,     0.00,2,     2.33,2,    0.804,2,    0.382,2,    0.051,2,   0.2690,2,   2260.5,3,   2338.3,2,   7.5351,2,    25.04,     -999,9,   2.0443,2,     -999,9,     -999,     -999,9,     -999,9,     -999,9,     -999,9,     -999,9,     -999,9,   0.0176,1,   4.6335,1,     16.7,2,     -999,9,20240307,1128, -62.9680,  81.9656,     -999,9,     -999,9,-999          ,9,-999          ,9,-999          ,9
325020240221  ,I08        ,15      ,  2,22         ,22         ,2,20240307,1010, -62.9680,  81.9656,     2715,    338.2,   2.1005,  34.6610,2,  34.6618,2,    171.4,2,    171.6,2,    82.99,2,     0.00,2,    33.64,2,     0.00,2,     2.25,2,    0.623,2,    0.300,2,    0.035,2,   0.2460,2,     -999,9,     -999,9,     -999,9,     -999,     -999,9,   2.1002,2,     -999,9,     -999,     -999,9,     -999,9,     -999,9,     -999,9,     -999,9,     -999,9,   0.0178,1,   4.6360,1,     15.2,2,     -999,9,20240307,1126, -62.9680,  81.9656,     -999,9,     -999,9,-999          ,9,-999          ,9,-999          ,9
325020240221  ,I08        ,15      ,  2,21         ,21         ,2,20240307,1010, -62.9680,  81.9656,     2715,    391.1,   2.0435,  34.6687,2,  34.6680,2,    170.5,2,    170.4,2,    84.74,2,     0.02,2,    33.56,2,     0.00,2,     2.27,2,    0.598,2,    0.289,2,    0.038,2,   0.2770,2,   2259.9,3,   2342.7,2,   7.5498,2,    25.02,     -999,9,   2.0454,2,     -999,9,     -999,     -999,9,     -999,9,     -999,9,     -999,9,     -999,9,     -999,9,   0.0184,1,   4.6349,1,     15.1,2,     -999,9,20240307,1121, -62.9680,  81.9656,     -999,9,     -999,9,-999          ,9,-999          ,9,-999          ,9
325020240221  ,I08        ,15      ,  2,20         ,20         ,2,20240307,1010, -62.9680,  81.9656,     2715,    439.4,   2.0553,  34.6909,2,  34.6914,2,    175.7,2,    175.3,2,    83.96,2,     0.02,2,    32.71,2,     0.00,2,     2.22,2,    0.523,2,    0.239,2,    0.023,2,   0.1130,2,     -999,9,     -999,9,     -999,9,     -999,     -999,9,   2.0554,2,     -999,9,     -999,     -999,9,     -999,9,     -999,9,     -999,9,     -999,9,     -999,9,   0.0179,1,   4.6349,1,     11.0,2,     -999,9,20240307,1118, -62.9680,  81.9656,     -999,9,     -999,9,-999          ,9,-999          ,9,-999          ,9
325020240221  ,I08        ,15      ,  2,19         ,19         ,2,20240307,1010, -62.9680,  81.9656,     2715,    490.1,   2.0089,  34.6970,2,  34.6971,2,    174.6,2,    174.3,2,    86.11,2,     0.00,2,    32.63,2,     0.00,2,     2.21,2,    0.521,6,    0.236,6,    0.026,6,   0.0395,6,   2257.2,3,   2342.5,2,   7.5633,6,    25.04,     -999,9,   2.0068,2,     -999,9,     -999,     -999,9,     -999,9,     -999,9,     -999,9,     -999,9,     -999,9,   0.0178,1,   4.6347,1,     14.9,6,     -999,9,20240307,1116, -62.9681,  81.9656,     -999,9,     -999,9,-999          ,9,-999          ,9,-999          ,9
325020240221  ,I08        ,15      ,  2,18         ,18         ,2,20240307,1010, -62.9680,  81.9656,     2715,    570.9,   1.9440,  34.7115,2,  34.7107,2,    179.6,2,    179.8,2,    86.69,2,     0.00,2,    31.94,2,     0.00,2,     2.16,2,    0.449,2,    0.213,2,    0.026,2,   0.0210,2,   2253.4,3,   2344.6,2,   7.5748,2,    24.99,     -999,9,   1.9433,2,     -999,9,     -999,     -999,9,     -999,9,     -999,9,     -999,9,     -999,9,     -999,9,   0.0178,1,   4.6334,1,     14.4,2,     -999,9,20240307,1113, -62.9681,  81.9656,     -999,9,     -999,9,-999          ,9,-999          ,9,-999          ,9
325020240221  ,I08        ,15      ,  2,17         ,17         ,2,20240307,1010, -62.9680,  81.9656,     2715,    671.8,   1.9015,  34.7272,2,  34.7274,2,    183.2,2,    183.3,2,    87.67,2,     0.00,2,    31.39,2,     0.00,2,     2.13,2,    0.377,2,    0.179,2,    0.016,2,   0.0000,2,     -999,9,     -999,9,     -999,9,     -999,     -999,9,   1.9011,2,     -999,9,     -999,     -999,9,     -999,9,     -999,9,     -999,9,     -999,9,     -999,9,   0.0178,1,   4.6325,1,     14.4,2,     -999,9,20240307,1110, -62.9681,  81.9656,     -999,9,     -999,9,-999          ,9,-999          ,9,-999          ,9
325020240221  ,I08        ,15      ,  2,16         ,16         ,2,20240307,1010, -62.9680,  81.9656,     2715,    772.7,   1.8336,  34.7366,2,  34.7368,2,    187.7,2,    187.9,2,    88.35,2,     0.00,2,    30.68,2,     0.00,2,     2.10,2,    0.361,2,    0.168,2,    0.016,2,   0.0090,2,     -999,9,     -999,9,     -999,9,     -999,     -999,9,   1.8332,2,     -999,9,     -999,     -999,9,     -999,9,     -999,9,     -999,9,     -999,9,     -999,9,   0.0178,1,   4.6324,1,     14.2,2,     -999,9,20240307,1107, -62.9681,  81.9656,     -999,9,     -999,9,-999          ,9,-999          ,9,-999          ,9
325020240221  ,I08        ,15      ,  2,15         ,15         ,2,20240307,1010, -62.9680,  81.9656,     2715,    874.4,   1.7687,  34.7404,2,  34.7412,2,    190.3,2,    190.6,2,    89.42,2,     0.00,2,    30.52,2,     0.00,2,     2.12,2,    0.344,2,    0.155,2,    0.013,2,   0.0870,2,   2248.8,3,   2350.0,2,   7.5979,2,    25.00,     -999,9,   1.7682,2,     -999,9,     -999,     -999,9,     -999,9,     -999,9,     -999,9,     -999,9,     -999,9,   0.0185,1,   4.6314,1,     14.0,2,     -999,9,20240307,1104, -62.9681,  81.9656,     -999,9,     -999,9,-999          ,9,-999          ,9,-999          ,9
325020240221  ,I08        ,15      ,  2,14         ,14         ,2,20240307,1010, -62.9680,  81.9656,     2715,    975.6,   1.7034,  34.7460,2,  34.7463,2,    195.5,2,    195.7,2,    89.72,2,     0.02,2,    30.11,2,     0.00,2,     2.10,2,    0.305,2,    0.143,2,    0.011,2,   0.0550,2,     -999,9,     -999,9,     -999,9,     -999,     -999,9,   1.7042,2,     -999,9,     -999,     -999,9,     -999,9,     -999,9,     -999,9,     -999,9,     -999,9,   0.0195,1,   4.6300,1,     13.8,2,     -999,9,20240307,1100, -62.9681,  81.9656,     -999,9,     -999,9,-999          ,9,-999          ,9,-999          ,9
325020240221  ,I08        ,15      ,  2,13         ,13         ,2,20240307,1010, -62.9680,  81.9656,     2715,   1077.7,   1.6134,  34.7462,2,  34.7471,2,    197.9,2,    198.0,2,    91.86,2,     0.00,2,    30.24,2,     0.00,2,     2.11,2,    0.291,2,    0.138,2,    0.010,2,   0.0280,2,   2248.0,3,   2350.4,2,   7.6100,2,    24.99,     -999,9,   1.6121,2,     -999,9,     -999,     -999,9,     -999,9,     -999,9,     -999,9,     -999,9,     -999,9,   0.0179,1,   4.6291,1,     13.6,2,     -999,9,20240307,1057, -62.9681,  81.9656,     -999,9,     -999,9,-999          ,9,-999          ,9,-999          ,9
325020240221  ,I08        ,15      ,  2,12         ,12         ,2,20240307,1010, -62.9680,  81.9656,     2715,   1179.4,   1.5011,  34.7417,2,  34.7418,2,    198.2,2,    198.3,2,    94.99,2,     0.00,2,    30.56,2,     0.00,2,     2.11,2,    0.332,2,    0.152,2,    0.013,2,   0.0080,2,     -999,9,     -999,9,     -999,9,     -999,     -999,9,   1.5007,2,     -999,9,     -999,     -999,9,     -999,9,     -999,9,     -999,9,     -999,9,     -999,9,   0.0175,1,   4.6276,1,     13.9,2,     -999,9,20240307,1054, -62.9680,  81.9656,     -999,9,     -999,9,-999          ,9,-999          ,9,-999          ,9
325020240221  ,I08        ,15      ,  2,11         ,11         ,2,20240307,1010, -62.9680,  81.9656,     2715,   1282.4,   1.4133,  34.7390,2,  34.7408,2,    199.8,2,    199.7,2,    97.04,2,     0.00,2,    30.72,2,     0.00,2,     2.13,2,    0.336,2,    0.150,2,    0.012,2,   0.0430,2,   2247.8,3,   2352.7,2,   7.6080,6,    24.99,     -999,9,   1.4137,2,     -999,9,     -999,     -999,9,     -999,9,     -999,9,     -999,9,     -999,9,     -999,9,   0.0180,1,   4.6263,1,     13.7,2,     -999,9,20240307,1051, -62.9680,  81.9656,     -999,9,     -999,9,-999          ,9,-999          ,9,-999          ,9
325020240221  ,I08        ,15      ,  2,10         ,10         ,2,20240307,1010, -62.9680,  81.9656,     2715,   1381.8,   1.2790,  34.7334,2,  34.7339,2,    201.6,2,    201.7,2,   100.46,2,     0.00,2,    30.92,2,     0.00,2,     2.14,2,    0.341,2,    0.151,2,    0.012,2,   0.0190,2,     -999,9,     -999,9,     -999,9,     -999,     -999,9,   1.2781,2,     -999,9,     -999,     -999,9,     -999,9,     -999,9,     -999,9,     -999,9,     -999,9,   0.0182,1,   4.6251,1,     13.5,2,     -999,9,20240307,1047, -62.9680,  81.9656,     -999,9,     -999,9,-999          ,9,-999          ,9,-999          ,9
325020240221  ,I08        ,15      ,  2,9          ,9          ,2,20240307,1010, -62.9680,  81.9656,     2715,   1483.0,   1.1841,  34.7286,2,  34.7296,2,    202.9,2,    203.0,2,   103.29,2,     0.00,2,    31.12,2,     0.00,2,     2.14,2,    0.355,2,    0.161,2,    0.012,2,   0.0310,2,   2249.6,3,   2354.7,6,   7.6075,2,    24.98,     -999,9,   1.1833,2,     -999,9,     -999,     -999,9,     -999,9,     -999,9,     -999,9,     -999,9,     -999,9,   0.0181,1,   4.6237,1,     13.3,2,     -999,9,20240307,1044, -62.9680,  81.9656,     -999,9,     -999,9,-999          ,9,-999          ,9,-999          ,9
325020240221  ,I08        ,15      ,  2,8          ,8          ,2,20240307,1010, -62.9680,  81.9656,     2715,   1585.9,   1.0987,  34.7241,2,  34.7248,2,    203.6,2,    203.3,2,   106.22,2,     0.02,2,    31.43,2,     0.00,2,     2.14,2,    0.372,2,    0.163,2,    0.013,2,   0.0220,2,     -999,9,     -999,9,     -999,9,     -999,     -999,9,   1.0984,2,     -999,9,     -999,     -999,9,     -999,9,     -999,9,     -999,9,     -999,9,     -999,9,   0.0181,1,   4.6227,1,     13.5,2,     -999,9,20240307,1041, -62.9680,  81.9656,     -999,9,     -999,9,-999          ,9,-999          ,9,-999          ,9
325020240221  ,I08        ,15      ,  2,7          ,7          ,2,20240307,1010, -62.9680,  81.9656,     2715,   1687.9,   1.0194,  34.7197,2,  34.7188,2,    204.4,2,    205.0,2,   108.56,2,     0.00,2,    31.55,2,     0.00,2,     2.15,2,    0.371,2,    0.168,2,    0.013,2,   0.0200,2,   2253.7,3,   2357.1,2,   7.6044,6,    24.96,     -999,9,   1.0190,2,     -999,9,     -999,     -999,9,     -999,9,     -999,9,     -999,9,     -999,9,     -999,9,   0.0187,1,   4.6226,1,     13.4,2,     -999,9,20240307,1038, -62.9680,  81.9656,     -999,9,     -999,9,-999          ,9,-999          ,9,-999          ,9
325020240221  ,I08        ,15      ,  2,6          ,6          ,2,20240307,1010, -62.9680,  81.9656,     2715,   1791.1,   0.9415,  34.7153,2,  34.7146,2,    204.9,2,    204.6,2,   111.69,2,     0.02,2,    31.59,2,     0.00,2,     2.16,2,    0.407,2,    0.175,2,    0.013,2,   0.0170,2,     -999,9,     -999,9,     -999,9,     -999,     -999,9,   0.9421,2,     -999,9,     -999,     -999,9,     -999,9,     -999,9,     -999,9,     -999,9,     -999,9,   0.0183,1,   4.6206,1,     13.5,2,     -999,9,20240307,1034, -62.9680,  81.9656,     -999,9,     -999,9,-999          ,9,-999          ,9,-999          ,9
325020240221  ,I08        ,15      ,  2,5          ,5          ,2,20240307,1010, -62.9680,  81.9656,     2715,   1963.0,   0.8134,  34.7077,2,  34.7079,2,    206.2,2,    205.8,2,   115.69,2,     0.00,2,    31.72,2,     0.00,2,     2.16,2,    0.408,2,    0.179,2,    0.013,2,   0.0000,2,   2257.1,3,   2362.1,2,   7.5994,2,    24.96,     -999,9,   0.8140,2,     -999,9,     -999,     -999,9,     -999,9,     -999,9,     -999,9,     -999,9,     -999,9,   0.0182,1,   4.6201,1,     13.3,2,     -999,9,20240307,1029, -62.9680,  81.9656,     -999,9,     -999,9,-999          ,9,-999          ,9,-999          ,9
325020240221  ,I08        ,15      ,  2,4          ,4          ,2,20240307,1010, -62.9680,  81.9656,     2715,   2168.7,   0.7101,  34.7013,3,  34.7036,2,    207.3,2,    207.4,2,   120.18,2,     0.00,2,    31.77,2,     0.00,2,     2.19,2,    0.449,2,    0.207,2,    0.016,2,   0.0210,2,     -999,9,     -999,9,     -999,9,     -999,     -999,9,   0.7118,2,     -999,9,     -999,     -999,9,     -999,9,     -999,9,     -999,9,     -999,9,     -999,9,   0.0178,1,   4.6190,1,     13.4,2,     -999,9,20240307,1024, -62.9680,  81.9656,     -999,9,     -999,9,-999          ,9,-999          ,9,-999          ,9