BOTTLE,20240417CCHHYDRO
EXPOCODE,SECT_ID,STNNBR,CASTNO,SAMPNO,BTLNBR,BTLNBR_FLAG_W,DATE,TIME,LATITUDE,LONGITUDE,DEPTH,CTDPRS,CTDTMP,CTDSAL,CTDSAL_FLAG_W,SALNTY,SALNTY_FLAG_W,CTDOXY,CTDOXY_FLAG_W,OXYGEN,OXYGEN_FLAG_W,SILCAT,SILCAT_FLAG_W,NH4,NH4_FLAG_W,NITRAT,NITRAT_FLAG_W,NITRIT,NITRIT_FLAG_W,PHSPHT,PHSPHT_FLAG_W,CFC-11,CFC-11_FLAG_W,CFC-12,CFC-12_FLAG_W,CFC113,CFC113_FLAG_W,SF6,SF6_FLAG_W,TCARBN,TCARBN_FLAG_W,ALKALI,ALKALI_FLAG_W,PH_TOT,PH_TOT_FLAG_W,PH_TMP,DOC,DOC_FLAG_W,REFTMP,REFTMP_FLAG_W,DELC14,DELC14_FLAG_W,C14ERR,POC,POC_FLAG_W,PON,PON_FLAG_W,POP,POP_FLAG_W,PCOD,PCOD_FLAG_W,DOP,DOP_FLAG_W,TDN,TDN_FLAG_W,CTDFLUOR,CTDFLUOR_FLAG_W,CTDXMISS,CTDXMISS_FLAG_W,N2O,N2O_FLAG_W,ARGON,ARGON_FLAG_W,BTL_DATE,BTL_TIME,BTL_LAT,BTL_LON,KRYPTON,KRYPTON_FLAG_W,XENON,XENON_FLAG_W,HPLC,HPLC_FLAG_W,DNA,DNA_FLAG_W,FCM,FCM_FLAG_W
,,,,,,,,,,,METERS,DBAR,ITS-90,PSS-78,,PSS-78,,UMOL/KG,,UMOL/KG,,UMOL/KG,,UMOL/KG,,UMOL/KG,,UMOL/KG,,UMOL/KG,,PMOL/KG,,PMOL/KG,,PMOL/KG,,FMOL/KG,,UMOL/KG,,UMOL/KG,,,,DEG C,UMOL/KG,,ITS-90,,/MILLE,,/MILLE,UG/KG,,UG/KG,,UG/L,,UG/L,,UMOL/KG,,UMOL/KG,,VOLTS,,VOLTS,,NMOL/KG,,UMOL/L,,,,,,NMOL/L,,NMOL/L,,,,,,,
325020240221  ,I08        ,57      ,  1,5          ,5          ,2,20240324,1053, -37.4945,  94.9878,     4241,   3247.7,   1.3155,  34.7284,2,  34.7286,2,    202.7,2,    202.7,2,   109.80,2,     0.02,2,    31.39,2,     0.00,2,     2.18,2,    0.161,2,    0.077,2,    0.009,4,   0.0290,2,   2261.0,3,   2361.5,6,   7.6144,2,    25.01,     -999,9,   1.3157,2,     -999,9,     -999,     -999,9,     -999,9,     -999,9,     -999,9,     -999,9,     -999,9,   0.0182,1,   4.6348,1,     15.8,2,     -999,9,20240324,1117, -37.4945,  94.9881,     -999,9,     -999,9,-999          ,9,-999          ,9,-999          ,9
325020240221  ,I08        ,57      ,  1,4          ,4          ,2,20240324,1053, -37.4945,  94.9878,     4241,   3556.5,   1.1306,  34.7191,2,  34.7191,2,    204.7,2,    204.7,2,   115.36,2,     0.02,2,    31.74,2,     0.00,2,     2.20,2,    0.205,2,    0.092,2,    0.013,4,   0.0010,2,   2259.3,3,   2365.2,2,   7.6136,2,    24.97,     -999,9,   1.1318,2,     -999,9,     -999,     -999,9,     -999,9,     -999,9,     -999,9,     -999,9,     -999,9,   0.0179,1,   4.6336,1,     15.9,2,     -999,9,20240324,1110, -37.4945,  94.9880,     -999,9,     -999,9,-999          ,9,-999          ,9,-999          ,9
325020240221  ,I08        ,57      ,  1,3          ,3          ,2,20240324,1053, -37.4945,  94.9878,     4241,   3861.6,   1.0259,  34.7133,2,  34.7138,2,    205.2,2,    206.1,2,   119.85,2,     0.00,2,    32.00,2,     0.00,2,     2.22,2,     -999,9,     -999,9,     -999,9,     -999,9,     -999,9,     -999,9,     -999,9,     -999,     -999,9,   1.0259,2,     -999,9,     -999,     -999,9,     -999,9,     -999,9,     -999,9,     -999,9,     -999,9,   0.0189,1,   4.6344,1,     -999,9,     -999,9,20240324,1104, -37.4944,  94.9882,     -999,9,     -999,9,-999          ,9,-999          ,9,-999          ,9
325020240221  ,I08        ,57      ,  1,2          ,2          ,2,20240324,1053, -37.4945,  94.9878,     4241,   4067.8,   1.0137,  34.7118,2,  34.7115,2,    205.2,2,    205.5,2,   120.25,2,     0.02,2,    32.08,2,     0.00,2,     2.21,2,    0.190,2,    0.085,2,    0.021,4,   0.0000,2,   2272.0,3,   2375.9,2,   7.6192,2,    24.98,     -999,9,   1.0137,2,     -999,9,     -999,     -999,9,     -999,9,     -999,9,     -999,9,     -999,9,     -999,9,   0.0201,1,   4.6349,1,     15.5,2,     -999,9,20240324,1059, -37.4944,  94.9881,     -999,9,     -999,9,-999          ,9,-999          ,9,-999          ,9
325020240221  ,I08        ,57      ,  1,1          ,1          ,2,20240324,1053, -37.4945,  94.9878,     4241,   4304.9,   1.0309,  34.7115,2,  34.7111,2,    205.1,2,    205.6,2,   120.93,2,     0.02,2,    32.11,2,     0.00,2,     2.20,2,    0.163,2,    0.082,2,    0.047,4,   0.0010,2,   2271.5,3,   2374.3,2,   7.6206,2,    24.97,     -999,9,   1.0308,2,     -999,9,     -999,     -999,9,     -999,9,     -999,9,     -999,9,     -999,9,     -999,9,   0.0182,1,   4.6373,1,      9.7,4,     -999,9,20240324,1053, -37.4945,  94.9881,     -999,9,     -999,9,-999          ,9,-999          ,9,-999          ,9