BOTTLE,20240417CCHHYDRO
EXPOCODE,SECT_ID,STNNBR,CASTNO,SAMPNO,BTLNBR,BTLNBR_FLAG_W,DATE,TIME,LATITUDE,LONGITUDE,DEPTH,CTDPRS,CTDTMP,CTDSAL,CTDSAL_FLAG_W,SALNTY,SALNTY_FLAG_W,CTDOXY,CTDOXY_FLAG_W,OXYGEN,OXYGEN_FLAG_W,SILCAT,SILCAT_FLAG_W,NH4,NH4_FLAG_W,NITRAT,NITRAT_FLAG_W,NITRIT,NITRIT_FLAG_W,PHSPHT,PHSPHT_FLAG_W,CFC-11,CFC-11_FLAG_W,CFC-12,CFC-12_FLAG_W,CFC113,CFC113_FLAG_W,SF6,SF6_FLAG_W,TCARBN,TCARBN_FLAG_W,ALKALI,ALKALI_FLAG_W,PH_TOT,PH_TOT_FLAG_W,PH_TMP,DOC,DOC_FLAG_W,REFTMP,REFTMP_FLAG_W,DELC14,DELC14_FLAG_W,C14ERR,POC,POC_FLAG_W,PON,PON_FLAG_W,POP,POP_FLAG_W,PCOD,PCOD_FLAG_W,DOP,DOP_FLAG_W,TDN,TDN_FLAG_W,CTDFLUOR,CTDFLUOR_FLAG_W,CTDXMISS,CTDXMISS_FLAG_W,N2O,N2O_FLAG_W,ARGON,ARGON_FLAG_W,BTL_DATE,BTL_TIME,BTL_LAT,BTL_LON,KRYPTON,KRYPTON_FLAG_W,XENON,XENON_FLAG_W,HPLC,HPLC_FLAG_W,DNA,DNA_FLAG_W,FCM,FCM_FLAG_W
,,,,,,,,,,,METERS,DBAR,ITS-90,PSS-78,,PSS-78,,UMOL/KG,,UMOL/KG,,UMOL/KG,,UMOL/KG,,UMOL/KG,,UMOL/KG,,UMOL/KG,,PMOL/KG,,PMOL/KG,,PMOL/KG,,FMOL/KG,,UMOL/KG,,UMOL/KG,,,,DEG C,UMOL/KG,,ITS-90,,/MILLE,,/MILLE,UG/KG,,UG/KG,,UG/L,,UG/L,,UMOL/KG,,UMOL/KG,,VOLTS,,VOLTS,,NMOL/KG,,UMOL/L,,,,,,NMOL/L,,NMOL/L,,,,,,,
325020240221  ,I08        ,11      ,  2,5          ,5          ,2,20240306,0823, -64.4868,  80.0002,     3609,   2912.5,   0.0837,  34.6699,2,  34.6714,2,    223.6,2,    224.0,2,   128.65,2,     0.00,2,    32.50,2,     0.00,2,     2.23,2,    0.921,2,    0.432,2,    0.049,2,   0.3410,2,   2257.7,3,   2355.6,2,   7.5936,2,    24.97,     -999,9,   0.0828,2,     -999,9,     -999,     -999,9,     -999,9,     -999,9,     -999,9,     -999,9,     -999,9,   0.0177,1,   4.6054,1,     13.5,2,     -999,9,20240306,0843, -64.4868,  80.0002,     -999,9,     -999,9,-999          ,9,-999          ,9,-999          ,9
325020240221  ,I08        ,11      ,  2,4          ,4          ,2,20240306,0823, -64.4868,  80.0002,     3609,   3117.8,   0.0309,  34.6666,2,  34.6653,2,    226.5,2,    226.4,2,   128.07,2,     0.00,2,    32.24,2,     0.00,2,     2.20,2,    1.187,2,    0.575,2,    0.062,2,   0.4820,2,   2254.1,3,   2355.3,2,   7.5939,6,    25.02,     -999,9,   0.0298,2,     -999,9,     -999,     -999,9,     -999,9,     -999,9,     -999,9,     -999,9,     -999,9,   0.0178,1,   4.6054,1,     13.4,2,     -999,9,20240306,0838, -64.4868,  80.0002,     -999,9,     -999,9,-999          ,9,-999          ,9,-999          ,9
325020240221  ,I08        ,11      ,  2,3          ,3          ,2,20240306,0823, -64.4868,  80.0002,     3609,   3322.0,  -0.0299,  34.6631,2,  34.6625,2,    229.6,2,    229.5,2,   126.80,2,     0.00,2,    32.04,2,     0.00,2,     2.18,2,    1.405,2,    0.697,2,    0.083,2,   0.5870,2,     -999,1,   2355.7,6,   7.5934,2,    24.98,     -999,9,  -0.0307,2,     -999,9,     -999,     -999,9,     -999,9,     -999,9,     -999,9,     -999,9,     -999,9,   0.0183,1,   4.6055,1,     13.3,2,     -999,9,20240306,0832, -64.4868,  80.0002,     -999,9,     -999,9,-999          ,9,-999          ,9,-999          ,9
325020240221  ,I08        ,11      ,  2,2          ,2          ,2,20240306,0823, -64.4868,  80.0002,     3609,   3490.9,  -0.0747,  34.6605,2,  34.6590,2,    231.4,2,    231.6,2,   127.87,2,     0.00,2,    31.98,2,     0.00,2,     2.20,2,    1.497,2,    0.781,2,    0.100,2,   0.6450,2,     -999,1,   2353.8,2,   7.5922,2,    24.99,     -999,9,  -0.0758,2,     -999,9,     -999,     -999,9,     -999,9,     -999,9,     -999,9,     -999,9,     -999,9,   0.0183,1,   4.6055,1,     13.0,2,     -999,9,20240306,0828, -64.4868,  80.0003,     -999,9,     -999,9,-999          ,9,-999          ,9,-999          ,9
325020240221  ,I08        ,11      ,  2,1          ,1          ,2,20240306,0823, -64.4868,  80.0002,     3609,   3667.9,  -0.1459,  34.6587,2,  34.6568,2,    231.0,2,    231.0,2,   149.25,2,     0.00,2,    32.37,2,     0.00,2,     2.26,2,    0.857,2,    0.393,2,    0.033,2,   0.0670,2,   2260.3,3,   2358.1,6,   7.5959,6,    24.96,     -999,9,  -0.1468,2,     -999,9,     -999,     -999,9,     -999,9,     -999,9,     -999,9,     -999,9,     -999,9,   0.0183,1,   4.6068,1,      8.6,4,     -999,9,20240306,0823, -64.4868,  80.0003,     -999,9,     -999,9,-999          ,9,-999          ,9,-999          ,9