BOTTLE,20240417CCHHYDRO
EXPOCODE,SECT_ID,STNNBR,CASTNO,SAMPNO,BTLNBR,BTLNBR_FLAG_W,DATE,TIME,LATITUDE,LONGITUDE,DEPTH,CTDPRS,CTDTMP,CTDSAL,CTDSAL_FLAG_W,SALNTY,SALNTY_FLAG_W,CTDOXY,CTDOXY_FLAG_W,OXYGEN,OXYGEN_FLAG_W,SILCAT,SILCAT_FLAG_W,NH4,NH4_FLAG_W,NITRAT,NITRAT_FLAG_W,NITRIT,NITRIT_FLAG_W,PHSPHT,PHSPHT_FLAG_W,CFC-11,CFC-11_FLAG_W,CFC-12,CFC-12_FLAG_W,CFC113,CFC113_FLAG_W,SF6,SF6_FLAG_W,TCARBN,TCARBN_FLAG_W,ALKALI,ALKALI_FLAG_W,PH_TOT,PH_TOT_FLAG_W,PH_TMP,DOC,DOC_FLAG_W,REFTMP,REFTMP_FLAG_W,DELC14,DELC14_FLAG_W,C14ERR,POC,POC_FLAG_W,PON,PON_FLAG_W,POP,POP_FLAG_W,PCOD,PCOD_FLAG_W,DOP,DOP_FLAG_W,TDN,TDN_FLAG_W,CTDFLUOR,CTDFLUOR_FLAG_W,CTDXMISS,CTDXMISS_FLAG_W,N2O,N2O_FLAG_W,ARGON,ARGON_FLAG_W,BTL_DATE,BTL_TIME,BTL_LAT,BTL_LON,KRYPTON,KRYPTON_FLAG_W,XENON,XENON_FLAG_W,HPLC,HPLC_FLAG_W,DNA,DNA_FLAG_W,FCM,FCM_FLAG_W
,,,,,,,,,,,METERS,DBAR,ITS-90,PSS-78,,PSS-78,,UMOL/KG,,UMOL/KG,,UMOL/KG,,UMOL/KG,,UMOL/KG,,UMOL/KG,,UMOL/KG,,PMOL/KG,,PMOL/KG,,PMOL/KG,,FMOL/KG,,UMOL/KG,,UMOL/KG,,,,DEG C,UMOL/KG,,ITS-90,,/MILLE,,/MILLE,UG/KG,,UG/KG,,UG/L,,UG/L,,UMOL/KG,,UMOL/KG,,VOLTS,,VOLTS,,NMOL/KG,,UMOL/L,,,,,,NMOL/L,,NMOL/L,,,,,,,
325020240221  ,I08        ,31      ,  1,5          ,5          ,2,20240315,1623, -54.7652,  85.6674,     4645,   3662.2,   0.2854,  34.6756,2,  34.6763,2,    220.2,2,    220.3,2,   128.43,2,     0.00,2,    32.80,2,     0.00,2,     2.24,2,    0.823,2,    0.439,2,    0.053,2,   0.1750,2,   2259.0,3,   2355.5,6,   7.5944,6,    24.98,     -999,9,   0.2855,2,     -999,9,     -999,     -999,9,     -999,9,     -999,9,     -999,9,     -999,9,     -999,9,   0.0180,1,   4.6263,1,     13.1,2,     -999,9,20240315,1648, -54.7775,  85.6590,     -999,9,     -999,9,-999          ,9,-999          ,9,-999          ,9
325020240221  ,I08        ,31      ,  1,4          ,4          ,2,20240315,1623, -54.7652,  85.6674,     4645,   3972.2,   0.1984,  34.6703,2,  34.6706,2,    223.9,2,    224.0,2,   129.80,2,     0.00,2,    32.82,2,     0.00,2,     2.23,2,    1.087,2,    0.548,2,    0.071,2,   0.4250,2,   2256.3,3,   2355.8,6,   7.5941,2,    24.99,     -999,9,   0.1983,2,     -999,9,     -999,     -999,9,     -999,9,     -999,9,     -999,9,     -999,9,     -999,9,   0.0182,1,   4.6263,1,     13.2,2,     -999,9,20240315,1642, -54.7782,  85.6585,     -999,9,     -999,9,-999          ,9,-999          ,9,-999          ,9
325020240221  ,I08        ,31      ,  1,3          ,3          ,2,20240315,1623, -54.7652,  85.6674,     4645,   4279.4,   0.1334,  34.6661,2,  34.6663,2,    226.9,2,    226.9,2,   131.07,2,     0.00,2,    32.72,2,     0.00,2,     2.23,2,    1.297,2,    0.670,2,    0.096,2,   0.4870,2,   2256.8,3,   2349.6,2,   7.5936,2,    24.97,     -999,9,   0.1333,2,     -999,9,     -999,     -999,9,     -999,9,     -999,9,     -999,9,     -999,9,     -999,9,   0.0181,1,   4.6274,1,     13.0,2,     -999,9,20240315,1635, -54.7790,  85.6579,     -999,9,     -999,9,-999          ,9,-999          ,9,-999          ,9
325020240221  ,I08        ,31      ,  1,2          ,2          ,2,20240315,1623, -54.7652,  85.6674,     4645,   4508.0,   0.0695,  34.6621,2,  34.6625,2,    229.6,2,    229.8,2,   130.78,2,     0.00,2,    32.60,2,     0.00,2,     2.23,2,    1.574,2,    0.786,2,    0.118,2,   0.6200,2,   2257.6,3,   2357.5,6,   7.5924,2,    24.98,     -999,9,   0.0693,2,     -999,9,     -999,     -999,9,     -999,9,     -999,9,     -999,9,     -999,9,     -999,9,   0.0182,1,   4.5905,1,     12.5,2,     -999,9,20240315,1629, -54.7797,  85.6575,     -999,9,     -999,9,-999          ,9,-999          ,9,-999          ,9
325020240221  ,I08        ,31      ,  1,1          ,1          ,2,20240315,1623, -54.7652,  85.6674,     4645,   4728.5,   0.0927,  34.6617,2,  34.6624,2,    229.8,2,    229.8,2,   131.07,2,     0.00,2,    32.57,2,     0.00,2,     2.23,2,    1.486,2,    0.775,2,    0.111,2,   0.6570,2,   2258.3,3,   2355.5,6,   7.5918,2,    24.99,     -999,9,   0.0923,2,     -999,9,     -999,     -999,9,     -999,9,     -999,9,     -999,9,     -999,9,     -999,9,   0.0182,1,   4.5800,1,      6.2,4,     -999,9,20240315,1623, -54.7805,  85.6571,     -999,9,     -999,9,-999          ,9,-999          ,9,-999          ,9