BOTTLE,20240417CCHHYDRO
EXPOCODE,SECT_ID,STNNBR,CASTNO,SAMPNO,BTLNBR,BTLNBR_FLAG_W,DATE,TIME,LATITUDE,LONGITUDE,DEPTH,CTDPRS,CTDTMP,CTDSAL,CTDSAL_FLAG_W,SALNTY,SALNTY_FLAG_W,CTDOXY,CTDOXY_FLAG_W,OXYGEN,OXYGEN_FLAG_W,SILCAT,SILCAT_FLAG_W,NH4,NH4_FLAG_W,NITRAT,NITRAT_FLAG_W,NITRIT,NITRIT_FLAG_W,PHSPHT,PHSPHT_FLAG_W,CFC-11,CFC-11_FLAG_W,CFC-12,CFC-12_FLAG_W,CFC113,CFC113_FLAG_W,SF6,SF6_FLAG_W,TCARBN,TCARBN_FLAG_W,ALKALI,ALKALI_FLAG_W,PH_TOT,PH_TOT_FLAG_W,PH_TMP,DOC,DOC_FLAG_W,REFTMP,REFTMP_FLAG_W,DELC14,DELC14_FLAG_W,C14ERR,POC,POC_FLAG_W,PON,PON_FLAG_W,POP,POP_FLAG_W,PCOD,PCOD_FLAG_W,DOP,DOP_FLAG_W,TDN,TDN_FLAG_W,CTDFLUOR,CTDFLUOR_FLAG_W,CTDXMISS,CTDXMISS_FLAG_W,N2O,N2O_FLAG_W,ARGON,ARGON_FLAG_W,BTL_DATE,BTL_TIME,BTL_LAT,BTL_LON,KRYPTON,KRYPTON_FLAG_W,XENON,XENON_FLAG_W,HPLC,HPLC_FLAG_W,DNA,DNA_FLAG_W,FCM,FCM_FLAG_W
,,,,,,,,,,,METERS,DBAR,ITS-90,PSS-78,,PSS-78,,UMOL/KG,,UMOL/KG,,UMOL/KG,,UMOL/KG,,UMOL/KG,,UMOL/KG,,UMOL/KG,,PMOL/KG,,PMOL/KG,,PMOL/KG,,FMOL/KG,,UMOL/KG,,UMOL/KG,,,,DEG C,UMOL/KG,,ITS-90,,/MILLE,,/MILLE,UG/KG,,UG/KG,,UG/L,,UG/L,,UMOL/KG,,UMOL/KG,,VOLTS,,VOLTS,,NMOL/KG,,UMOL/L,,,,,,NMOL/L,,NMOL/L,,,,,,,
325020240221  ,I08        ,15      ,  2,3          ,3          ,2,20240307,1010, -62.9680,  81.9656,     2715,   2369.1,   0.5783,  34.6929,2,  34.6928,2,    208.3,2,    208.5,2,   121.94,2,     0.00,2,    31.92,2,     0.00,2,     2.21,2,    0.467,2,    0.213,2,    0.016,2,   0.0390,2,   2259.7,3,   2355.8,2,   7.5924,2,    24.97,     -999,9,   0.5778,2,     -999,9,     -999,     -999,9,     -999,9,     -999,9,     -999,9,     -999,9,     -999,9,   0.0183,1,   4.6188,1,     13.5,2,     -999,9,20240307,1019, -62.9681,  81.9656,     -999,9,     -999,9,-999          ,9,-999          ,9,-999          ,9
325020240221  ,I08        ,15      ,  2,2          ,2          ,2,20240307,1010, -62.9680,  81.9656,     2715,   2575.1,   0.5056,  34.6899,2,  34.6910,2,    210.5,2,    210.4,2,   127.21,2,     0.00,2,    32.08,2,     0.00,2,     2.24,2,    0.438,2,    0.197,2,    0.014,2,   0.0200,2,   2259.5,3,   2358.9,2,   7.5933,2,    25.01,     -999,9,   0.5050,2,     -999,9,     -999,     -999,9,     -999,9,     -999,9,     -999,9,     -999,9,     -999,9,   0.0182,1,   4.6189,1,     13.1,2,     -999,9,20240307,1014, -62.9680,  81.9656,     -999,9,     -999,9,-999          ,9,-999          ,9,-999          ,9
325020240221  ,I08        ,15      ,  2,1          ,1          ,2,20240307,1010, -62.9680,  81.9656,     2715,   2750.0,   0.3847,  34.6839,2,  34.6851,2,    212.8,2,    212.7,2,   133.56,2,     0.00,2,    32.35,2,     0.00,2,     2.26,2,    0.480,2,    0.202,2,    0.013,2,   0.0000,2,   2260.9,3,   2357.6,2,   7.5923,2,    25.01,     -999,9,   0.3841,2,     -999,9,     -999,     -999,9,     -999,9,     -999,9,     -999,9,     -999,9,     -999,9,   0.0182,1,   4.6195,1,      8.7,4,     -999,9,20240307,1010, -62.9681,  81.9656,     -999,9,     -999,9,-999          ,9,-999          ,9,-999          ,9