BOTTLE,20240417CCHHYDRO
EXPOCODE,SECT_ID,STNNBR,CASTNO,SAMPNO,BTLNBR,BTLNBR_FLAG_W,DATE,TIME,LATITUDE,LONGITUDE,DEPTH,CTDPRS,CTDTMP,CTDSAL,CTDSAL_FLAG_W,SALNTY,SALNTY_FLAG_W,CTDOXY,CTDOXY_FLAG_W,OXYGEN,OXYGEN_FLAG_W,SILCAT,SILCAT_FLAG_W,NH4,NH4_FLAG_W,NITRAT,NITRAT_FLAG_W,NITRIT,NITRIT_FLAG_W,PHSPHT,PHSPHT_FLAG_W,CFC-11,CFC-11_FLAG_W,CFC-12,CFC-12_FLAG_W,CFC113,CFC113_FLAG_W,SF6,SF6_FLAG_W,TCARBN,TCARBN_FLAG_W,ALKALI,ALKALI_FLAG_W,PH_TOT,PH_TOT_FLAG_W,PH_TMP,DOC,DOC_FLAG_W,REFTMP,REFTMP_FLAG_W,DELC14,DELC14_FLAG_W,C14ERR,POC,POC_FLAG_W,PON,PON_FLAG_W,POP,POP_FLAG_W,PCOD,PCOD_FLAG_W,DOP,DOP_FLAG_W,TDN,TDN_FLAG_W,CTDFLUOR,CTDFLUOR_FLAG_W,CTDXMISS,CTDXMISS_FLAG_W,N2O,N2O_FLAG_W,ARGON,ARGON_FLAG_W,BTL_DATE,BTL_TIME,BTL_LAT,BTL_LON,KRYPTON,KRYPTON_FLAG_W,XENON,XENON_FLAG_W,HPLC,HPLC_FLAG_W,DNA,DNA_FLAG_W,FCM,FCM_FLAG_W
,,,,,,,,,,,METERS,DBAR,ITS-90,PSS-78,,PSS-78,,UMOL/KG,,UMOL/KG,,UMOL/KG,,UMOL/KG,,UMOL/KG,,UMOL/KG,,UMOL/KG,,PMOL/KG,,PMOL/KG,,PMOL/KG,,FMOL/KG,,UMOL/KG,,UMOL/KG,,,,DEG C,UMOL/KG,,ITS-90,,/MILLE,,/MILLE,UG/KG,,UG/KG,,UG/L,,UG/L,,UMOL/KG,,UMOL/KG,,VOLTS,,VOLTS,,NMOL/KG,,UMOL/L,,,,,,NMOL/L,,NMOL/L,,,,,,,
325020240221  ,I08        ,49      ,  1,5          ,5          ,2,20240322,0931, -41.5048,  94.9858,     3379,   2636.5,   1.9670,  34.7502,2,  34.7496,2,    196.4,2,    196.4,2,    88.91,2,     0.04,2,    30.25,2,     0.00,2,     2.10,2,    0.111,2,    0.070,2,    0.009,4,   0.0030,2,   2249.7,3,   2352.8,2,   7.6187,2,    25.00,     -999,9,   1.9679,2,     -999,9,     -999,     -999,9,     -999,9,     -999,9,     -999,9,     -999,9,     -999,9,   0.0183,1,   4.6446,1,     16.7,2,     -999,9,20240322,0951, -41.5048,  94.9858,     -999,9,     -999,9,-999          ,9,-999          ,9,-999          ,9
325020240221  ,I08        ,49      ,  1,4          ,4          ,2,20240322,0931, -41.5048,  94.9858,     3379,   2839.6,   1.6988,  34.7435,2,  34.7425,2,    198.8,2,    199.3,2,    97.79,2,     0.03,2,    30.71,2,     0.00,2,     2.13,2,    0.131,2,    0.072,2,    0.012,4,   0.0000,2,     -999,9,     -999,9,     -999,9,     -999,     -999,9,   1.6987,2,     -999,9,     -999,     -999,9,     -999,9,     -999,9,     -999,9,     -999,9,     -999,9,   0.0182,1,   4.6419,1,     16.3,2,     -999,9,20240322,0946, -41.5048,  94.9858,     -999,9,     -999,9,-999          ,9,-999          ,9,-999          ,9
325020240221  ,I08        ,49      ,  1,3          ,3          ,2,20240322,0931, -41.5048,  94.9858,     3379,   3044.2,   1.5030,  34.7359,2,  34.7351,2,    200.6,2,    200.9,2,   104.62,2,     0.01,2,    31.13,2,     0.00,2,     2.17,2,     -999,9,     -999,9,     -999,9,     -999,9,     -999,9,     -999,9,     -999,9,     -999,     -999,9,   1.5024,2,     -999,9,     -999,     -999,9,     -999,9,     -999,9,     -999,9,     -999,9,     -999,9,   0.0183,1,   4.6394,1,     -999,9,     -999,9,20240322,0940, -41.5048,  94.9858,     -999,9,     -999,9,-999          ,9,-999          ,9,-999          ,9
325020240221  ,I08        ,49      ,  1,2          ,2          ,2,20240322,0931, -41.5048,  94.9858,     3379,   3224.7,   1.3415,  34.7285,2,  34.7278,2,    202.3,2,    202.1,2,   109.89,2,     0.02,2,    31.46,2,     0.00,2,     2.19,2,    0.192,2,    0.100,2,    0.022,4,   0.0140,2,     -999,9,   2364.9,2,   7.6143,2,    25.00,     -999,9,   1.3413,2,     -999,9,     -999,     -999,9,     -999,9,     -999,9,     -999,9,     -999,9,     -999,9,   0.0183,1,   4.6390,1,     15.9,2,     -999,9,20240322,0936, -41.5048,  94.9858,     -999,9,     -999,9,-999          ,9,-999          ,9,-999          ,9
325020240221  ,I08        ,49      ,  1,1          ,1          ,2,20240322,0931, -41.5048,  94.9858,     3379,   3423.1,   1.2932,  34.7259,2,  34.7245,2,    202.9,2,    202.9,2,   111.74,2,     0.02,2,    31.58,2,     0.00,2,     2.19,2,    0.200,2,    0.103,2,    0.034,4,   0.0000,2,     -999,1,   2362.3,2,   7.6141,6,    25.00,     -999,9,   1.2929,2,     -999,9,     -999,     -999,9,     -999,9,     -999,9,     -999,9,     -999,9,     -999,9,   0.0183,1,   4.6410,1,      9.7,4,     -999,9,20240322,0931, -41.5048,  94.9858,     -999,9,     -999,9,-999          ,9,-999          ,9,-999          ,9