BOTTLE,20240417CCHHYDRO
EXPOCODE,SECT_ID,STNNBR,CASTNO,SAMPNO,BTLNBR,BTLNBR_FLAG_W,DATE,TIME,LATITUDE,LONGITUDE,DEPTH,CTDPRS,CTDTMP,CTDSAL,CTDSAL_FLAG_W,SALNTY,SALNTY_FLAG_W,CTDOXY,CTDOXY_FLAG_W,OXYGEN,OXYGEN_FLAG_W,SILCAT,SILCAT_FLAG_W,NH4,NH4_FLAG_W,NITRAT,NITRAT_FLAG_W,NITRIT,NITRIT_FLAG_W,PHSPHT,PHSPHT_FLAG_W,CFC-11,CFC-11_FLAG_W,CFC-12,CFC-12_FLAG_W,CFC113,CFC113_FLAG_W,SF6,SF6_FLAG_W,TCARBN,TCARBN_FLAG_W,ALKALI,ALKALI_FLAG_W,PH_TOT,PH_TOT_FLAG_W,PH_TMP,DOC,DOC_FLAG_W,REFTMP,REFTMP_FLAG_W,DELC14,DELC14_FLAG_W,C14ERR,POC,POC_FLAG_W,PON,PON_FLAG_W,POP,POP_FLAG_W,PCOD,PCOD_FLAG_W,DOP,DOP_FLAG_W,TDN,TDN_FLAG_W,CTDFLUOR,CTDFLUOR_FLAG_W,CTDXMISS,CTDXMISS_FLAG_W,N2O,N2O_FLAG_W,ARGON,ARGON_FLAG_W,BTL_DATE,BTL_TIME,BTL_LAT,BTL_LON,KRYPTON,KRYPTON_FLAG_W,XENON,XENON_FLAG_W,HPLC,HPLC_FLAG_W,DNA,DNA_FLAG_W,FCM,FCM_FLAG_W
,,,,,,,,,,,METERS,DBAR,ITS-90,PSS-78,,PSS-78,,UMOL/KG,,UMOL/KG,,UMOL/KG,,UMOL/KG,,UMOL/KG,,UMOL/KG,,UMOL/KG,,PMOL/KG,,PMOL/KG,,PMOL/KG,,FMOL/KG,,UMOL/KG,,UMOL/KG,,,,DEG C,UMOL/KG,,ITS-90,,/MILLE,,/MILLE,UG/KG,,UG/KG,,UG/L,,UG/L,,UMOL/KG,,UMOL/KG,,VOLTS,,VOLTS,,NMOL/KG,,UMOL/L,,,,,,NMOL/L,,NMOL/L,,,,,,,
325020240221  ,I08        ,65      ,  1,34         ,34         ,2,20240327,2307, -28.9104,  95.0005,     2591,      5.9,  23.4937,  35.8099,2,  35.7963,2,    213.6,2,    213.2,2,     2.05,2,     0.00,2,     0.05,2,     0.00,2,     0.07,2,    1.616,2,    1.041,2,    0.173,4,   1.8820,2,   2049.4,3,   2348.2,2,   8.0212,2,    25.00,     -999,1,  23.4916,2,     -999,9,     -999,     -999,9,     -999,9,     -999,9,     -999,9,     -999,9,     -999,1,   0.0192,1,   4.6494,1,      7.4,2,     -999,9,20240328,0052, -28.9104,  95.0005,     -999,9,     -999,9,-999          ,9,-999          ,9,-999          ,9
325020240221  ,I08        ,65      ,  1,33         ,33         ,2,20240327,2307, -28.9104,  95.0005,     2591,     34.3,  23.5080,  35.8138,2,  35.8042,2,    213.1,2,    213.1,2,     2.05,2,     0.00,2,     0.02,2,     0.00,2,     0.06,2,    1.565,2,    1.041,2,    0.182,4,   1.9030,2,   2051.1,3,   2348.0,2,   8.0211,2,    25.00,     -999,9,  23.5089,2,     -999,9,     -999,     -999,9,     -999,9,     -999,9,     -999,9,     -999,9,     -999,9,   0.0195,1,   4.6504,1,      7.3,2,     -999,9,20240328,0050, -28.9104,  95.0004,     -999,9,     -999,9,-999          ,9,-999          ,9,-999          ,9
325020240221  ,I08        ,65      ,  1,32         ,32         ,2,20240327,2307, -28.9104,  95.0005,     2591,     59.5,  23.4898,  35.9055,2,  35.8925,2,    213.5,2,    213.8,2,     1.95,2,     0.00,2,     0.01,2,     0.00,2,     0.05,2,    1.645,2,    1.030,2,    0.158,4,   1.8340,2,   2056.4,3,   2354.4,2,   8.0168,6,    24.99,     -999,9,  23.4872,2,     -999,9,     -999,     -999,9,     -999,9,     -999,9,     -999,9,     -999,9,     -999,9,   0.0196,1,   4.6499,1,      7.3,2,     -999,9,20240328,0048, -28.9104,  95.0005,     -999,9,     -999,9,-999          ,9,-999          ,9,-999          ,9
325020240221  ,I08        ,65      ,  1,31         ,31         ,2,20240327,2307, -28.9104,  95.0005,     2591,     85.6,  21.2358,  35.6204,2,  35.6380,2,    228.4,2,    228.3,2,     2.24,2,     0.00,2,     0.00,2,     0.00,2,     0.04,2,    1.847,2,    1.196,2,    0.146,4,   2.1010,2,   2052.8,3,   2337.7,6,   8.0010,2,    25.04,     -999,9,  21.2389,2,     -999,9,     -999,     -999,9,     -999,9,     -999,9,     -999,9,     -999,9,     -999,9,   0.0250,1,   4.6384,1,      8.1,2,     -999,9,20240328,0046, -28.9103,  95.0004,     -999,9,     -999,9,-999          ,9,-999          ,9,-999          ,9
325020240221  ,I08        ,65      ,  1,30         ,30         ,2,20240327,2307, -28.9104,  95.0005,     2591,    111.9,  19.4775,  35.7859,2,  35.8030,2,    224.0,3,    229.7,2,     1.95,2,     0.00,2,     0.12,2,     0.01,2,     0.09,2,    2.010,2,    1.280,2,    0.167,4,   2.1660,2,   2080.6,3,   2350.9,2,   7.9712,2,    25.04,     -999,9,  19.4647,2,     -999,9,     -999,     -999,9,     -999,9,     -999,9,     -999,9,     -999,9,     -999,9,   0.0415,1,   4.6281,1,      8.6,2,     -999,9,20240328,0044, -28.9104,  95.0004,     -999,9,     -999,9,-999          ,9,-999          ,9,-999          ,9
325020240221  ,I08        ,65      ,  1,29         ,29         ,2,20240327,2307, -28.9104,  95.0005,     2591,    135.7,  18.0563,  35.7958,2,  35.7855,2,    222.0,2,    223.0,2,     1.95,2,     0.00,2,     0.85,2,     0.06,2,     0.17,2,    2.131,2,    1.351,2,    0.154,4,   2.0380,2,   2096.2,3,   2349.7,2,   7.9439,2,    25.01,     -999,9,  18.0541,2,     -999,9,     -999,     -999,9,     -999,9,     -999,9,     -999,9,     -999,9,     -999,9,   0.0350,1,   4.6474,1,      9.0,2,     -999,9,20240328,0042, -28.9104,  95.0004,     -999,9,     -999,9,-999          ,9,-999          ,9,-999          ,9
325020240221  ,I08        ,65      ,  1,28         ,28         ,2,20240327,2307, -28.9104,  95.0005,     2591,    161.2,  17.2824,  35.7630,2,  35.7541,2,    216.4,2,    216.8,2,     2.05,2,     0.00,2,     1.77,2,     0.03,2,     0.23,2,    2.306,2,    1.402,2,    0.120,4,   2.0410,2,   2104.7,3,   2347.3,2,   7.9249,2,    24.99,     -999,9,  17.2772,2,     -999,9,     -999,     -999,9,     -999,9,     -999,9,     -999,9,     -999,9,     -999,9,   0.0244,1,   4.6642,1,      9.2,2,     -999,9,20240328,0040, -28.9104,  95.0004,     -999,9,     -999,9,-999          ,9,-999          ,9,-999          ,9
325020240221  ,I08        ,65      ,  1,27         ,27         ,2,20240327,2307, -28.9104,  95.0005,     2591,    186.4,  16.5681,  35.7159,2,  35.7086,2,    226.2,2,    226.4,2,     1.66,2,     0.00,2,     1.29,2,     0.07,2,     0.21,2,    2.286,2,    1.427,2,    0.145,4,   2.0240,2,   2106.4,3,   2348.5,2,   7.9208,2,    24.98,     -999,9,  16.5709,2,     -999,9,     -999,     -999,9,     -999,9,     -999,9,     -999,9,     -999,9,     -999,9,   0.0208,1,   4.6716,1,      9.4,2,     -999,9,20240328,0038, -28.9104,  95.0004,     -999,9,     -999,9,-999          ,9,-999          ,9,-999          ,9
325020240221  ,I08        ,65      ,  1,26         ,26         ,2,20240327,2307, -28.9104,  95.0005,     2591,    211.1,  15.3826,  35.5768,2,  35.5738,2,    219.4,2,    219.2,2,     1.85,2,     0.00,2,     3.64,2,     0.01,2,     0.34,2,    2.593,2,    1.473,2,    0.107,4,   2.1710,2,   2115.3,3,   2339.5,2,   7.8889,6,    24.99,     -999,9,  15.3893,2,     -999,9,     -999,     -999,9,     -999,9,     -999,9,     -999,9,     -999,9,     -999,9,   0.0183,1,   4.6777,1,      9.9,2,     -999,9,20240328,0036, -28.9103,  95.0004,     -999,9,     -999,9,-999          ,9,-999          ,9,-999          ,9
325020240221  ,I08        ,65      ,  1,25         ,38         ,2,20240327,2307, -28.9104,  95.0005,     2591,    236.7,  14.5246,  35.4690,2,  35.4663,2,    224.5,2,    224.6,2,     1.85,2,     0.00,2,     4.50,2,     0.01,2,     0.40,2,    2.742,2,    1.545,2,    0.120,4,   2.0130,2,   2120.5,3,   2334.6,2,   7.8728,2,    24.99,     -999,9,  14.5241,2,     -999,9,     -999,     -999,9,     -999,9,     -999,9,     -999,9,     -999,9,     -999,9,   0.0183,1,   4.6799,1,     10.3,2,     -999,9,20240328,0034, -28.9103,  95.0004,     -999,9,     -999,9,-999          ,9,-999          ,9,-999          ,9
325020240221  ,I08        ,65      ,  1,24         ,24         ,2,20240327,2307, -28.9104,  95.0005,     2591,    266.9,  13.6349,  35.3249,2,  35.3220,2,    227.5,2,    227.6,2,     1.85,2,     0.00,2,     5.89,2,     0.00,2,     0.49,2,    2.937,2,    1.659,2,    0.141,4,   2.1810,2,   2124.4,3,   2326.7,2,   7.8539,2,    24.98,     -999,9,  13.6289,2,     -999,9,     -999,     -999,9,     -999,9,     -999,9,     -999,9,     -999,9,     -999,9,   0.0173,1,   4.6796,1,     11.0,2,     -999,9,20240328,0032, -28.9104,  95.0003,     -999,9,     -999,9,-999          ,9,-999          ,9,-999          ,9
325020240221  ,I08        ,65      ,  1,23         ,37         ,2,20240327,2307, -28.9104,  95.0005,     2591,    316.6,  12.3746,  35.1243,2,  35.1246,2,    233.3,2,    233.3,2,     2.15,2,     0.00,2,     8.18,2,     0.00,2,     0.63,2,    3.298,2,    1.740,2,    0.162,4,   2.1380,2,   2127.3,3,   2312.8,2,   7.8248,6,    25.00,     -999,9,  12.3754,2,     -999,9,     -999,     -999,9,     -999,9,     -999,9,     -999,9,     -999,9,     -999,9,   0.0183,1,   4.6813,1,     11.8,2,     -999,9,20240328,0030, -28.9104,  95.0003,     -999,9,     -999,9,-999          ,9,-999          ,9,-999          ,9
325020240221  ,I08        ,65      ,  1,22         ,22         ,2,20240327,2307, -28.9104,  95.0005,     2591,    367.6,  11.2442,  34.9411,2,  34.9416,2,    237.3,2,    237.5,2,     2.93,2,     0.00,2,    10.81,2,     0.00,2,     0.79,2,    3.571,2,    1.825,2,    0.175,4,   2.0300,2,   2130.6,3,   2305.9,6,   7.7979,2,    25.04,     -999,9,  11.2431,2,     -999,9,     -999,     -999,9,     -999,9,     -999,9,     -999,9,     -999,9,     -999,9,   0.0179,1,   4.6813,1,     12.2,2,     -999,9,20240328,0028, -28.9104,  95.0003,     -999,9,     -999,9,-999          ,9,-999          ,9,-999          ,9
325020240221  ,I08        ,65      ,  1,21         ,21         ,2,20240327,2307, -28.9104,  95.0005,     2591,    418.2,  10.5199,  34.8297,2,  34.8302,2,    238.9,2,    239.4,2,     3.32,2,     0.00,2,    12.79,2,     0.00,2,     0.93,2,    3.935,2,    1.949,2,    0.172,4,   2.1630,2,   2133.2,3,   2301.1,2,   7.7804,2,    25.03,     -999,9,  10.5202,2,     -999,9,     -999,     -999,9,     -999,9,     -999,9,     -999,9,     -999,9,     -999,9,   0.0183,1,   4.6824,1,     12.5,2,     -999,9,20240328,0025, -28.9104,  95.0002,     -999,9,     -999,9,-999          ,9,-999          ,9,-999          ,9
325020240221  ,I08        ,65      ,  1,20         ,20         ,2,20240327,2307, -28.9104,  95.0005,     2591,    468.1,  10.0937,  34.7736,2,  34.7728,2,    235.9,2,    236.0,2,     3.90,2,     0.00,2,    14.34,2,     0.00,2,     1.04,2,    3.875,2,    1.964,2,    0.180,4,   2.0040,2,   2137.2,3,   2295.6,2,   7.7647,2,    24.98,     -999,9,  10.0939,2,     -999,9,     -999,     -999,9,     -999,9,     -999,9,     -999,9,     -999,9,     -999,9,   0.0177,1,   4.6821,1,     12.7,2,     -999,9,20240328,0023, -28.9104,  95.0003,     -999,9,     -999,9,-999          ,9,-999          ,9,-999          ,9
325020240221  ,I08        ,65      ,  1,19         ,19         ,2,20240327,2307, -28.9104,  95.0005,     2591,    538.9,   9.5184,  34.7015,2,  34.7013,2,    232.4,2,    232.6,2,     4.68,2,     0.00,2,    16.37,2,     0.00,2,     1.15,2,    3.503,2,    2.039,2,    0.206,4,   1.8450,2,   2142.4,3,   2293.8,2,   7.7483,2,    24.97,     -999,9,   9.5186,2,     -999,9,     -999,     -999,9,     -999,9,     -999,9,     -999,9,     -999,9,     -999,9,   0.0183,1,   4.6837,1,      9.1,2,     -999,9,20240328,0020, -28.9105,  95.0002,     -999,9,     -999,9,-999          ,9,-999          ,9,-999          ,9
325020240221  ,I08        ,65      ,  1,18         ,18         ,2,20240327,2307, -28.9104,  95.0005,     2591,    640.4,   8.7262,  34.6093,2,  34.6113,2,    224.4,2,    224.7,2,     7.22,2,     0.00,2,    19.22,2,     0.00,2,     1.33,2,    3.373,2,    1.908,2,    0.137,4,   1.6070,2,   2149.8,3,   2289.7,2,   7.7214,6,    25.02,     -999,9,   8.7244,2,     -999,9,     -999,     -999,9,     -999,9,     -999,9,     -999,9,     -999,9,     -999,9,   0.0177,1,   4.6827,1,     14.4,2,     -999,9,20240328,0017, -28.9105,  95.0003,     -999,9,     -999,9,-999          ,9,-999          ,9,-999          ,9
325020240221  ,I08        ,65      ,  1,17         ,17         ,2,20240327,2307, -28.9104,  95.0005,     2591,    740.4,   6.9451,  34.4744,2,  34.4724,2,    196.5,2,    196.0,2,    19.71,2,     0.00,2,    26.03,2,     0.00,2,     1.79,2,    2.908,2,    1.402,2,    0.073,4,   0.8040,2,   2178.8,3,   2293.0,2,   7.6534,2,    25.02,     -999,9,   6.9440,2,     -999,9,     -999,     -999,9,     -999,9,     -999,9,     -999,9,     -999,9,     -999,9,   0.0183,1,   4.6816,1,     16.3,2,     -999,9,20240328,0012, -28.9104,  95.0003,     -999,9,     -999,9,-999          ,9,-999          ,9,-999          ,9
325020240221  ,I08        ,65      ,  1,16         ,16         ,2,20240327,2307, -28.9104,  95.0005,     2591,    840.8,   5.4689,  34.4164,2,  34.4178,2,    183.9,2,    182.4,2,    33.57,2,     0.00,2,    30.14,2,     0.00,2,     2.08,2,    2.245,2,    0.983,2,    0.082,4,   0.4750,2,   2202.6,3,   2301.4,2,   7.6120,2,    24.97,     -999,9,   5.4690,2,     -999,9,     -999,     -999,9,     -999,9,     -999,9,     -999,9,     -999,9,     -999,9,   0.0183,1,   4.6792,1,     19.1,2,     -999,9,20240328,0009, -28.9104,  95.0004,     -999,9,     -999,9,-999          ,9,-999          ,9,-999          ,9
325020240221  ,I08        ,65      ,  1,15         ,15         ,2,20240327,2307, -28.9104,  95.0005,     2591,    942.3,   4.8613,  34.4892,2,  34.4875,2,    148.2,2,    148.4,2,    56.60,2,     0.00,2,    33.51,2,     0.00,2,     2.36,2,    1.036,2,    0.441,2,    0.038,4,   0.1810,2,   2240.4,3,   2324.5,2,   7.5679,2,    24.96,     -999,9,   4.8612,2,     -999,9,     -999,     -999,9,     -999,9,     -999,9,     -999,9,     -999,9,     -999,9,   0.0183,1,   4.6716,1,     21.8,2,     -999,9,20240328,0006, -28.9104,  95.0003,     -999,9,     -999,9,-999          ,9,-999          ,9,-999          ,9
325020240221  ,I08        ,65      ,  1,14         ,14         ,2,20240327,2307, -28.9104,  95.0005,     2591,   1043.7,   4.1936,  34.4808,2,  34.4793,2,    155.2,2,    154.9,2,    60.70,2,     0.00,2,    33.89,2,     0.00,2,     2.40,2,    0.873,2,    0.363,2,    0.031,4,   0.2090,2,   2242.5,3,   2327.7,2,   7.5669,2,    25.00,     -999,9,   4.2036,2,     -999,9,     -999,     -999,9,     -999,9,     -999,9,     -999,9,     -999,9,     -999,9,   0.0183,1,   4.6605,1,     21.5,2,     -999,9,20240328,0001, -28.9104,  95.0004,     -999,9,     -999,9,-999          ,9,-999          ,9,-999          ,9
325020240221  ,I08        ,65      ,  1,13         ,13         ,2,20240327,2307, -28.9104,  95.0005,     2591,   1144.9,   3.8372,  34.5251,2,  34.5219,2,    147.0,2,    147.1,2,    70.46,2,     0.00,2,    34.65,2,     0.00,2,     2.46,2,    0.460,2,    0.200,2,    0.015,4,   0.0090,2,   2256.4,3,   2337.3,2,   7.5578,6,    24.96,     -999,9,   3.8442,2,     -999,9,     -999,     -999,9,     -999,9,     -999,9,     -999,9,     -999,9,     -999,9,   0.0187,1,   4.6561,1,     22.1,2,     -999,9,20240327,2357, -28.9104,  95.0003,     -999,9,     -999,9,-999          ,9,-999          ,9,-999          ,9
325020240221  ,I08        ,65      ,  1,12         ,12         ,2,20240327,2307, -28.9104,  95.0005,     2591,   1246.6,   3.5629,  34.5602,2,  34.5602,2,    143.5,2,    143.8,2,    77.68,2,     0.00,2,    34.92,2,     0.00,2,     2.49,2,    0.236,2,    0.112,2,    0.007,4,   0.0000,2,   2265.9,3,   2346.9,2,   7.5542,2,    24.97,     -999,9,   3.5576,2,     -999,9,     -999,     -999,9,     -999,9,     -999,9,     -999,9,     -999,9,     -999,9,   0.0183,1,   4.6520,1,     22.2,2,     -999,9,20240327,2354, -28.9104,  95.0003,     -999,9,     -999,9,-999          ,9,-999          ,9,-999          ,9
325020240221  ,I08        ,65      ,  1,11         ,11         ,2,20240327,2307, -28.9104,  95.0005,     2591,   1348.7,   3.3456,  34.5896,2,  34.5891,2,    143.6,2,    144.1,2,    81.29,2,     0.00,2,    34.94,2,     0.00,2,     2.49,2,    0.140,2,    0.072,2,   -0.002,4,   0.0140,2,   2269.8,3,   2350.7,2,   7.5548,2,    24.97,     -999,9,   3.3472,2,     -999,9,     -999,     -999,9,     -999,9,     -999,9,     -999,9,     -999,9,     -999,9,   0.0183,1,   4.6496,1,     22.1,2,     -999,9,20240327,2351, -28.9104,  95.0004,     -999,9,     -999,9,-999          ,9,-999          ,9,-999          ,9
325020240221  ,I08        ,65      ,  1,10         ,10         ,2,20240327,2307, -28.9104,  95.0005,     2591,   1450.1,   3.1629,  34.6186,2,  34.6193,2,    144.8,2,    145.2,2,    86.17,2,     0.00,2,    34.75,2,     0.00,2,     2.48,2,    0.087,2,    0.047,2,   -0.002,4,   0.0000,2,   2273.3,3,   2357.0,2,   7.5583,2,    24.98,     -999,9,   3.1639,2,     -999,9,     -999,     -999,9,     -999,9,     -999,9,     -999,9,     -999,9,     -999,9,   0.0182,1,   4.6470,1,     21.8,2,     -999,9,20240327,2347, -28.9103,  95.0005,     -999,9,     -999,9,-999          ,9,-999          ,9,-999          ,9
325020240221  ,I08        ,65      ,  1,9          ,9          ,2,20240327,2307, -28.9104,  95.0005,     2591,   1551.5,   3.0366,  34.6346,2,  34.6341,2,    146.8,2,    147.1,2,    88.80,2,     0.00,2,    34.62,2,     0.00,2,     2.47,2,    0.068,2,    0.040,2,    0.003,4,   0.0000,2,   2273.6,3,   2357.7,2,   7.5614,2,    24.96,     -999,9,   3.0369,2,     -999,9,     -999,     -999,9,     -999,9,     -999,9,     -999,9,     -999,9,     -999,9,   0.0183,1,   4.6446,1,     21.3,2,     -999,9,20240327,2344, -28.9105,  95.0004,     -999,9,     -999,9,-999          ,9,-999          ,9,-999          ,9
325020240221  ,I08        ,65      ,  1,8          ,8          ,2,20240327,2307, -28.9104,  95.0005,     2591,   1652.6,   2.8681,  34.6568,2,  34.6578,2,    149.8,2,    149.8,2,    91.24,2,     0.00,2,    34.35,2,     0.00,2,     2.43,2,    0.071,2,    0.035,2,    0.004,4,   0.0000,2,   2276.7,3,   2361.8,2,   7.5664,6,    24.98,     -999,9,   2.8681,2,     -999,9,     -999,     -999,9,     -999,9,     -999,9,     -999,9,     -999,9,     -999,9,   0.0184,1,   4.6422,1,     21.0,2,     -999,9,20240327,2340, -28.9105,  95.0004,     -999,9,     -999,9,-999          ,9,-999          ,9,-999          ,9
325020240221  ,I08        ,65      ,  1,7          ,7          ,2,20240327,2307, -28.9104,  95.0005,     2591,   1753.9,   2.7302,  34.6781,2,  34.6777,2,    152.4,2,    152.2,2,    95.63,2,     0.00,2,    34.07,2,     0.00,2,     2.43,2,    0.036,2,    0.023,2,    0.005,4,   0.0190,2,   2276.2,3,   2365.9,6,   7.5708,2,    24.97,     -999,9,   2.7282,2,     -999,9,     -999,     -999,9,     -999,9,     -999,9,     -999,9,     -999,9,     -999,9,   0.0183,1,   4.6410,1,     20.5,2,     -999,9,20240327,2337, -28.9105,  95.0003,     -999,9,     -999,9,-999          ,9,-999          ,9,-999          ,9
325020240221  ,I08        ,65      ,  1,6          ,6          ,2,20240327,2307, -28.9104,  95.0005,     2591,   1854.2,   2.5875,  34.6948,2,  34.6948,2,    155.4,2,    155.5,2,    99.33,2,     0.00,2,    33.82,2,     0.00,2,     2.43,2,    0.035,2,    0.020,2,    0.004,4,   0.0150,2,   2279.2,3,   2369.3,2,   7.5766,2,    24.97,     -999,9,   2.5883,2,     -999,9,     -999,     -999,9,     -999,9,     -999,9,     -999,9,     -999,9,     -999,9,   0.0183,1,   4.6386,1,     20.4,2,     -999,9,20240327,2332, -28.9103,  95.0005,     -999,9,     -999,9,-999          ,9,-999          ,9,-999          ,9
325020240221  ,I08        ,65      ,  1,5          ,5          ,2,20240327,2307, -28.9104,  95.0005,     2591,   1956.2,   2.4319,  34.7077,2,  34.7068,2,    159.2,2,    159.0,2,   102.26,2,     0.00,2,    33.63,2,     0.00,2,     2.39,2,    0.046,2,    0.023,2,    0.007,4,   0.0030,2,   2281.0,3,   2371.9,2,   7.5825,2,    24.97,     -999,9,   2.4331,2,     -999,9,     -999,     -999,9,     -999,9,     -999,9,     -999,9,     -999,9,     -999,9,   0.0183,1,   4.6360,1,     19.8,2,     -999,9,20240327,2327, -28.9104,  95.0003,     -999,9,     -999,9,-999          ,9,-999          ,9,-999          ,9
325020240221  ,I08        ,65      ,  1,4          ,4          ,2,20240327,2307, -28.9104,  95.0005,     2591,   2088.9,   2.2806,  34.7166,2,  34.7156,2,    163.1,2,    163.2,2,   105.38,2,     0.00,2,    33.46,2,     0.00,2,     2.38,2,    0.030,2,    0.017,2,    0.014,4,   0.0000,2,   2280.7,3,   2374.6,2,   7.5873,2,    24.98,     -999,9,   2.2813,2,     -999,9,     -999,     -999,9,     -999,9,     -999,9,     -999,9,     -999,9,     -999,9,   0.0181,1,   4.6346,1,     19.2,2,     -999,9,20240327,2323, -28.9104,  95.0003,     -999,9,     -999,9,-999          ,9,-999          ,9,-999          ,9