BOTTLE,20240417CCHHYDRO
EXPOCODE,SECT_ID,STNNBR,CASTNO,SAMPNO,BTLNBR,BTLNBR_FLAG_W,DATE,TIME,LATITUDE,LONGITUDE,DEPTH,CTDPRS,CTDTMP,CTDSAL,CTDSAL_FLAG_W,SALNTY,SALNTY_FLAG_W,CTDOXY,CTDOXY_FLAG_W,OXYGEN,OXYGEN_FLAG_W,SILCAT,SILCAT_FLAG_W,NH4,NH4_FLAG_W,NITRAT,NITRAT_FLAG_W,NITRIT,NITRIT_FLAG_W,PHSPHT,PHSPHT_FLAG_W,CFC-11,CFC-11_FLAG_W,CFC-12,CFC-12_FLAG_W,CFC113,CFC113_FLAG_W,SF6,SF6_FLAG_W,TCARBN,TCARBN_FLAG_W,ALKALI,ALKALI_FLAG_W,PH_TOT,PH_TOT_FLAG_W,PH_TMP,DOC,DOC_FLAG_W,REFTMP,REFTMP_FLAG_W,DELC14,DELC14_FLAG_W,C14ERR,POC,POC_FLAG_W,PON,PON_FLAG_W,POP,POP_FLAG_W,PCOD,PCOD_FLAG_W,DOP,DOP_FLAG_W,TDN,TDN_FLAG_W,CTDFLUOR,CTDFLUOR_FLAG_W,CTDXMISS,CTDXMISS_FLAG_W,N2O,N2O_FLAG_W,ARGON,ARGON_FLAG_W,BTL_DATE,BTL_TIME,BTL_LAT,BTL_LON,KRYPTON,KRYPTON_FLAG_W,XENON,XENON_FLAG_W,HPLC,HPLC_FLAG_W,DNA,DNA_FLAG_W,FCM,FCM_FLAG_W
,,,,,,,,,,,METERS,DBAR,ITS-90,PSS-78,,PSS-78,,UMOL/KG,,UMOL/KG,,UMOL/KG,,UMOL/KG,,UMOL/KG,,UMOL/KG,,UMOL/KG,,PMOL/KG,,PMOL/KG,,PMOL/KG,,FMOL/KG,,UMOL/KG,,UMOL/KG,,,,DEG C,UMOL/KG,,ITS-90,,/MILLE,,/MILLE,UG/KG,,UG/KG,,UG/L,,UG/L,,UMOL/KG,,UMOL/KG,,VOLTS,,VOLTS,,NMOL/KG,,UMOL/L,,,,,,NMOL/L,,NMOL/L,,,,,,,
325020240221  ,I08        ,13      ,  1,5          ,5          ,2,20240306,2222, -63.5301,  81.9986,     3368,   2845.6,   0.3106,  34.6792,3,  34.6820,2,    215.3,2,    215.6,2,   127.11,2,     0.02,2,    33.24,2,     0.00,2,     2.27,2,    0.529,2,    0.245,2,    0.018,2,   0.0890,2,   2259.3,3,   2355.9,6,   7.5919,2,    24.98,     -999,9,   0.3099,2,     -999,9,     -999,     -999,9,     -999,9,     -999,9,     -999,9,     -999,9,     -999,9,   0.0176,1,   4.6128,1,     12.8,2,     -999,9,20240306,2238, -63.5301,  81.9986,     -999,9,     -999,9,-999          ,9,-999          ,9,-999          ,9
325020240221  ,I08        ,13      ,  1,4          ,4          ,2,20240306,2222, -63.5301,  81.9986,     3368,   3051.9,   0.2208,  34.6754,2,  34.6757,2,    218.3,2,    218.3,2,   129.46,2,     0.00,2,    33.10,2,     0.00,2,     2.24,2,    0.591,2,    0.267,2,    0.021,2,   0.1040,2,   2259.7,3,   2356.8,2,   7.5928,2,    24.99,     -999,9,   0.2204,2,     -999,9,     -999,     -999,9,     -999,9,     -999,9,     -999,9,     -999,9,     -999,9,   0.0182,1,   4.6128,1,     12.6,2,     -999,9,20240306,2233, -63.5301,  81.9986,     -999,9,     -999,9,-999          ,9,-999          ,9,-999          ,9
325020240221  ,I08        ,13      ,  1,3          ,3          ,2,20240306,2222, -63.5301,  81.9986,     3368,   3254.8,   0.1328,  34.6710,2,  34.6710,2,    222.2,2,    222.3,2,   129.75,2,     0.00,2,    32.98,2,     0.00,2,     2.23,2,    0.713,2,    0.342,2,    0.034,2,   0.3080,2,     -999,9,     -999,9,     -999,9,     -999,     -999,9,   0.1325,2,     -999,9,     -999,     -999,9,     -999,9,     -999,9,     -999,9,     -999,9,     -999,9,   0.0175,1,   4.6128,1,     12.5,2,     -999,9,20240306,2228, -63.5301,  81.9986,     -999,9,     -999,9,-999          ,9,-999          ,9,-999          ,9
325020240221  ,I08        ,13      ,  1,2          ,2          ,2,20240306,2222, -63.5301,  81.9986,     3368,   3329.7,   0.1043,  34.6697,2,  34.6716,2,    223.7,2,    223.6,2,   129.95,2,     0.00,2,    32.82,2,     0.00,2,     2.23,2,    0.809,2,    0.377,2,    0.030,2,   0.2090,2,   2256.7,3,   2356.1,2,   7.5937,6,    24.99,     -999,9,   0.1044,2,     -999,9,     -999,     -999,9,     -999,9,     -999,9,     -999,9,     -999,9,     -999,9,   0.0178,1,   4.6128,1,     12.4,2,     -999,9,20240306,2225, -63.5301,  81.9986,     -999,9,     -999,9,-999          ,9,-999          ,9,-999          ,9
325020240221  ,I08        ,13      ,  1,1          ,1          ,2,20240306,2222, -63.5301,  81.9986,     3368,   3409.7,   0.0230,  34.6665,2,  34.6680,2,    225.3,2,    225.2,2,   139.03,2,     0.00,2,    32.93,2,     0.00,2,     2.23,2,    0.722,2,    0.337,2,    0.025,2,   0.2410,2,   2257.2,3,   2357.7,2,   7.5944,2,    24.98,     -999,9,   0.0220,2,     -999,9,     -999,     -999,9,     -999,9,     -999,9,     -999,9,     -999,9,     -999,9,   0.0182,1,   4.6129,1,      8.3,4,     -999,9,20240306,2222, -63.5301,  81.9986,     -999,9,     -999,9,-999          ,9,-999          ,9,-999          ,9