BOTTLE,20240417CCHHYDRO
EXPOCODE,SECT_ID,STNNBR,CASTNO,SAMPNO,BTLNBR,BTLNBR_FLAG_W,DATE,TIME,LATITUDE,LONGITUDE,DEPTH,CTDPRS,CTDTMP,CTDSAL,CTDSAL_FLAG_W,SALNTY,SALNTY_FLAG_W,CTDOXY,CTDOXY_FLAG_W,OXYGEN,OXYGEN_FLAG_W,SILCAT,SILCAT_FLAG_W,NH4,NH4_FLAG_W,NITRAT,NITRAT_FLAG_W,NITRIT,NITRIT_FLAG_W,PHSPHT,PHSPHT_FLAG_W,CFC-11,CFC-11_FLAG_W,CFC-12,CFC-12_FLAG_W,CFC113,CFC113_FLAG_W,SF6,SF6_FLAG_W,TCARBN,TCARBN_FLAG_W,ALKALI,ALKALI_FLAG_W,PH_TOT,PH_TOT_FLAG_W,PH_TMP,DOC,DOC_FLAG_W,REFTMP,REFTMP_FLAG_W,DELC14,DELC14_FLAG_W,C14ERR,POC,POC_FLAG_W,PON,PON_FLAG_W,POP,POP_FLAG_W,PCOD,PCOD_FLAG_W,DOP,DOP_FLAG_W,TDN,TDN_FLAG_W,CTDFLUOR,CTDFLUOR_FLAG_W,CTDXMISS,CTDXMISS_FLAG_W,N2O,N2O_FLAG_W,ARGON,ARGON_FLAG_W,BTL_DATE,BTL_TIME,BTL_LAT,BTL_LON,KRYPTON,KRYPTON_FLAG_W,XENON,XENON_FLAG_W,HPLC,HPLC_FLAG_W,DNA,DNA_FLAG_W,FCM,FCM_FLAG_W
,,,,,,,,,,,METERS,DBAR,ITS-90,PSS-78,,PSS-78,,UMOL/KG,,UMOL/KG,,UMOL/KG,,UMOL/KG,,UMOL/KG,,UMOL/KG,,UMOL/KG,,PMOL/KG,,PMOL/KG,,PMOL/KG,,FMOL/KG,,UMOL/KG,,UMOL/KG,,,,DEG C,UMOL/KG,,ITS-90,,/MILLE,,/MILLE,UG/KG,,UG/KG,,UG/L,,UG/L,,UMOL/KG,,UMOL/KG,,VOLTS,,VOLTS,,NMOL/KG,,UMOL/L,,,,,,NMOL/L,,NMOL/L,,,,,,,
325020240221  ,I08        ,36      ,  2,5          ,5          ,2,20240318,1116, -49.2829,  91.2569,     3702,   2775.9,   1.6852,  34.7456,2,  34.7471,2,    199.9,2,    200.4,2,    96.53,2,     0.00,2,    30.08,2,     0.00,2,     2.09,2,    0.206,2,    0.081,2,    0.011,4,   0.0000,2,   2251.4,3,   2357.6,2,   7.6197,6,    25.00,     -999,1,   1.6891,2,     -999,1,     -999,     -999,9,     -999,9,     -999,9,     -999,9,     -999,9,     -999,1,   0.0183,1,   4.6447,1,     18.4,2,     -999,9,20240318,1144, -49.2828,  91.2569,     -999,9,     -999,9,-999          ,9,-999          ,9,-999          ,9
325020240221  ,I08        ,36      ,  2,4          ,4          ,2,20240318,1116, -49.2829,  91.2569,     3702,   2979.3,   1.4708,  34.7362,2,  34.8595,3,    202.0,2,    202.1,2,   103.36,2,     0.00,2,    30.57,2,     0.00,2,     2.13,2,    0.243,2,    0.092,2,    0.020,4,   0.0000,2,   2255.5,3,   2357.7,2,   7.6175,2,    24.99,     -999,1,   1.4699,2,     -999,1,     -999,     -999,9,     -999,9,     -999,9,     -999,9,     -999,9,     -999,1,   0.0183,1,   4.6421,1,     18.5,2,     -999,9,20240318,1138, -49.2827,  91.2568,     -999,9,     -999,9,-999          ,9,-999          ,9,-999          ,9
325020240221  ,I08        ,36      ,  2,3          ,3          ,2,20240318,1116, -49.2829,  91.2569,     3702,   3250.9,   1.2367,  34.7243,2,  34.7243,2,    204.6,2,    204.5,2,   111.08,2,     0.00,2,    31.15,2,     0.00,2,     2.18,2,    0.363,2,    0.129,2,    0.026,4,   0.0000,2,   2256.7,3,   2359.0,2,   7.6126,2,    25.01,     -999,1,   1.2363,2,     -999,9,     -999,     -999,9,     -999,9,     -999,9,     -999,9,     -999,9,     -999,1,   0.0183,1,   4.6396,1,     18.5,2,     -999,9,20240318,1131, -49.2827,  91.2569,     -999,9,     -999,9,-999          ,9,-999          ,9,-999          ,9
325020240221  ,I08        ,36      ,  2,2          ,2          ,2,20240318,1116, -49.2829,  91.2569,     3702,   3455.7,   1.0424,  34.7138,2,  34.7142,2,    207.3,2,    207.4,2,   116.54,2,     0.00,2,    31.54,2,     0.00,2,     2.21,2,    0.533,2,    0.179,2,    0.038,4,   0.0000,2,   2258.1,3,   2359.8,2,   7.6094,2,    25.00,     -999,1,   1.0432,2,     -999,1,     -999,     -999,9,     -999,9,     -999,9,     -999,9,     -999,9,     -999,1,   0.0170,1,   4.6385,1,     18.0,2,     -999,9,20240318,1125, -49.2828,  91.2569,     -999,9,     -999,9,-999          ,9,-999          ,9,-999          ,9
325020240221  ,I08        ,36      ,  2,1          ,1          ,2,20240318,1116, -49.2829,  91.2569,     3702,   3755.5,   0.7908,  34.7002,2,  34.7005,2,    211.4,2,    211.4,2,   123.08,2,     0.00,2,    31.87,2,     0.00,2,     2.20,2,    0.716,2,    0.261,2,    0.035,4,   0.0410,2,   2261.7,3,   2357.5,2,   7.6031,6,    24.96,     -999,1,   0.7908,2,     -999,1,     -999,     -999,9,     -999,9,     -999,9,     -999,9,     -999,9,     -999,1,   0.0183,1,   4.6063,1,      7.3,4,     -999,9,20240318,1116, -49.2828,  91.2568,     -999,9,     -999,9,-999          ,9,-999          ,9,-999          ,9