BOTTLE,20240417CCHHYDRO
EXPOCODE,SECT_ID,STNNBR,CASTNO,SAMPNO,BTLNBR,BTLNBR_FLAG_W,DATE,TIME,LATITUDE,LONGITUDE,DEPTH,CTDPRS,CTDTMP,CTDSAL,CTDSAL_FLAG_W,SALNTY,SALNTY_FLAG_W,CTDOXY,CTDOXY_FLAG_W,OXYGEN,OXYGEN_FLAG_W,SILCAT,SILCAT_FLAG_W,NH4,NH4_FLAG_W,NITRAT,NITRAT_FLAG_W,NITRIT,NITRIT_FLAG_W,PHSPHT,PHSPHT_FLAG_W,CFC-11,CFC-11_FLAG_W,CFC-12,CFC-12_FLAG_W,CFC113,CFC113_FLAG_W,SF6,SF6_FLAG_W,TCARBN,TCARBN_FLAG_W,ALKALI,ALKALI_FLAG_W,PH_TOT,PH_TOT_FLAG_W,PH_TMP,DOC,DOC_FLAG_W,REFTMP,REFTMP_FLAG_W,DELC14,DELC14_FLAG_W,C14ERR,POC,POC_FLAG_W,PON,PON_FLAG_W,POP,POP_FLAG_W,PCOD,PCOD_FLAG_W,DOP,DOP_FLAG_W,TDN,TDN_FLAG_W,CTDFLUOR,CTDFLUOR_FLAG_W,CTDXMISS,CTDXMISS_FLAG_W,N2O,N2O_FLAG_W,ARGON,ARGON_FLAG_W,BTL_DATE,BTL_TIME,BTL_LAT,BTL_LON,KRYPTON,KRYPTON_FLAG_W,XENON,XENON_FLAG_W,HPLC,HPLC_FLAG_W,DNA,DNA_FLAG_W,FCM,FCM_FLAG_W
,,,,,,,,,,,METERS,DBAR,ITS-90,PSS-78,,PSS-78,,UMOL/KG,,UMOL/KG,,UMOL/KG,,UMOL/KG,,UMOL/KG,,UMOL/KG,,UMOL/KG,,PMOL/KG,,PMOL/KG,,PMOL/KG,,FMOL/KG,,UMOL/KG,,UMOL/KG,,,,DEG C,UMOL/KG,,ITS-90,,/MILLE,,/MILLE,UG/KG,,UG/KG,,UG/L,,UG/L,,UMOL/KG,,UMOL/KG,,VOLTS,,VOLTS,,NMOL/KG,,UMOL/L,,,,,,NMOL/L,,NMOL/L,,,,,,,
325020240221  ,I08        ,51      ,  1,36         ,36         ,2,20240322,2151, -40.4970,  95.0051,     3501,      3.9,  14.9090,  34.7743,2,  34.7701,2,    256.6,2,    256.4,2,     0.78,2,     0.06,2,     3.50,2,     0.08,2,     0.37,2,    2.664,2,    1.496,2,    0.310,4,   2.5020,2,   2073.2,3,   2303.8,2,   7.9106,2,    25.01,     -999,1,  14.9098,2,     -999,9,     -999,     -999,9,     -999,9,     -999,9,     -999,9,     -999,9,     -999,1,   0.0942,1,   4.4259,1,      7.9,2,     -999,9,20240322,2337, -40.4970,  95.0051,     -999,9,     -999,9,-999          ,9,-999          ,9,-999          ,9
325020240221  ,I08        ,51      ,  1,35         ,35         ,2,20240322,2151, -40.4970,  95.0051,     3501,     18.9,  14.9152,  34.7744,2,  34.7699,2,    256.7,2,    256.3,2,     0.88,2,     0.04,2,     3.49,2,     0.08,2,     0.37,2,    2.693,2,    1.558,2,    0.302,4,   2.5000,2,   2074.4,3,   2304.1,2,   7.9107,2,    25.01,     -999,9,  14.9152,2,     -999,9,     -999,     -999,9,     -999,9,     -999,9,     -999,9,     -999,9,     -999,9,   0.0980,1,   4.4256,1,      7.7,2,     -999,9,20240322,2335, -40.4970,  95.0051,     -999,9,     -999,9,-999          ,9,-999          ,9,-999          ,9
325020240221  ,I08        ,51      ,  1,34         ,34         ,2,20240322,2151, -40.4970,  95.0051,     3501,     39.5,  14.9004,  34.7735,2,  34.7695,2,    255.8,2,    256.0,2,     0.88,2,     0.07,2,     3.51,2,     0.08,2,     0.37,2,    2.705,2,    1.488,2,    0.322,4,   2.5290,2,   2075.4,3,   2303.0,2,   7.9097,6,    24.98,     -999,9,  14.9017,2,     -999,9,     -999,     -999,9,     -999,9,     -999,9,     -999,9,     -999,9,     -999,9,   0.1035,1,   4.4395,1,      7.4,2,     -999,9,20240322,2333, -40.4970,  95.0051,     -999,9,     -999,9,-999          ,9,-999          ,9,-999          ,9
325020240221  ,I08        ,51      ,  1,33         ,33         ,2,20240322,2151, -40.4970,  95.0051,     3501,     64.5,  14.3829,  34.7602,2,  34.7524,2,    251.4,2,    250.9,2,     1.07,2,     0.49,2,     4.02,2,     0.09,2,     0.42,2,    2.662,2,    1.537,2,    0.345,4,   2.5450,2,   2083.0,3,   2302.2,2,   7.8927,2,    24.98,     -999,9,  14.4438,2,     -999,9,     -999,     -999,9,     -999,9,     -999,9,     -999,9,     -999,9,     -999,9,   0.0609,1,   4.5873,1,      7.4,2,     -999,9,20240322,2331, -40.4970,  95.0051,     -999,9,     -999,9,-999          ,9,-999          ,9,-999          ,9
325020240221  ,I08        ,51      ,  1,32         ,32         ,2,20240322,2151, -40.4970,  95.0051,     3501,     89.8,  11.5140,  34.8430,2,  34.8424,2,    257.7,2,    257.8,2,     3.32,2,     0.02,2,     8.70,2,     0.71,2,     0.72,2,    3.150,2,    1.778,2,    0.358,4,   2.6660,2,   2116.1,3,   2300.5,2,   7.8189,2,    25.00,     -999,9,  11.5105,2,     -999,9,     -999,     -999,9,     -999,9,     -999,9,     -999,9,     -999,9,     -999,9,   0.0391,1,   4.6374,1,      7.9,2,     -999,9,20240322,2330, -40.4970,  95.0051,     -999,9,     -999,9,-999          ,9,-999          ,9,-999          ,9
325020240221  ,I08        ,51      ,  1,31         ,31         ,2,20240322,2151, -40.4970,  95.0051,     3501,    110.6,  11.3077,  34.8539,2,  34.8526,2,    255.6,2,    255.1,2,     3.51,2,     0.03,2,     9.84,2,     0.04,2,     0.75,2,    3.122,2,    1.754,2,    0.343,4,   2.7280,2,   2118.0,3,   2301.0,2,   7.8145,2,    24.99,     -999,9,  11.3114,2,     -999,9,     -999,     -999,9,     -999,9,     -999,9,     -999,9,     -999,9,     -999,9,   0.0304,1,   4.6543,1,      7.4,2,     -999,9,20240322,2328, -40.4970,  95.0051,     -999,9,     -999,9,-999          ,9,-999          ,9,-999          ,9
325020240221  ,I08        ,51      ,  1,30         ,30         ,2,20240322,2151, -40.4970,  95.0051,     3501,    139.8,  11.1769,  34.8492,2,  34.8446,2,    255.2,2,    255.8,2,     3.51,2,     0.00,2,    10.11,2,     0.02,2,     0.76,2,     -999,9,     -999,9,     -999,9,     -999,9,     -999,9,     -999,9,     -999,9,     -999,     -999,9,  11.1818,2,     -999,9,     -999,     -999,9,     -999,9,     -999,9,     -999,9,     -999,9,     -999,9,   0.0219,1,   4.6691,1,     -999,9,     -999,9,20240322,2326, -40.4970,  95.0051,     -999,9,     -999,9,-999          ,9,-999          ,9,-999          ,9
325020240221  ,I08        ,51      ,  1,29         ,29         ,2,20240322,2151, -40.4970,  95.0051,     3501,    186.1,  10.9542,  34.8272,2,  34.8243,2,    258.3,2,    258.4,2,     3.42,2,     0.02,2,    10.31,2,     0.00,2,     0.77,2,    3.158,2,    1.784,2,    0.340,4,   2.6440,2,   2119.9,3,   2298.8,2,   7.8119,2,    24.97,     -999,9,  10.9572,2,     -999,9,     -999,     -999,9,     -999,9,     -999,9,     -999,9,     -999,9,     -999,9,   0.0179,1,   4.6794,1,      7.3,2,     -999,9,20240322,2324, -40.4970,  95.0051,     -999,9,     -999,9,-999          ,9,-999          ,9,-999          ,9
325020240221  ,I08        ,51      ,  1,28         ,28         ,2,20240322,2151, -40.4970,  95.0051,     3501,    236.3,  10.9019,  34.8364,2,  34.8336,2,    257.1,2,    257.4,2,     3.32,2,     0.00,2,    10.36,2,     0.00,2,     0.77,2,     -999,9,     -999,9,     -999,9,     -999,9,     -999,9,     -999,9,     -999,9,     -999,     -999,9,  10.9008,2,     -999,9,     -999,     -999,9,     -999,9,     -999,9,     -999,9,     -999,9,     -999,9,   0.0172,1,   4.6808,1,     -999,9,     -999,9,20240322,2322, -40.4970,  95.0051,     -999,9,     -999,9,-999          ,9,-999          ,9,-999          ,9
325020240221  ,I08        ,51      ,  1,27         ,27         ,2,20240322,2151, -40.4970,  95.0051,     3501,    286.8,  10.9042,  34.8552,2,  34.8532,2,    255.7,2,    255.9,2,     3.42,2,     0.00,2,    10.46,2,     0.00,2,     0.78,2,    3.122,2,    1.811,2,    0.287,4,   2.5390,2,   2121.8,3,   2301.9,2,   7.8097,2,    24.97,     -999,9,  10.9049,2,     -999,9,     -999,     -999,9,     -999,9,     -999,9,     -999,9,     -999,9,     -999,9,   0.0177,1,   4.6808,1,      7.2,2,     -999,9,20240322,2319, -40.4970,  95.0051,     -999,9,     -999,9,-999          ,9,-999          ,9,-999          ,9
325020240221  ,I08        ,51      ,  1,26         ,26         ,2,20240322,2151, -40.4970,  95.0051,     3501,    336.8,  10.8882,  34.8662,2,  34.8625,2,    255.4,2,    256.0,2,     3.42,2,     0.00,2,    10.50,2,     0.00,2,     0.78,2,     -999,9,     -999,9,     -999,9,     -999,9,     -999,9,     -999,9,     -999,9,     -999,     -999,9,  10.8882,2,     -999,9,     -999,     -999,9,     -999,9,     -999,9,     -999,9,     -999,9,     -999,9,   0.0175,1,   4.6813,1,     -999,9,     -999,9,20240322,2317, -40.4970,  95.0051,     -999,9,     -999,9,-999          ,9,-999          ,9,-999          ,9
325020240221  ,I08        ,51      ,  1,25         ,25         ,2,20240322,2151, -40.4970,  95.0051,     3501,    387.9,  10.7808,  34.8504,2,  34.8481,2,    254.6,2,    255.3,2,     3.61,2,     0.00,2,    10.91,2,     0.00,2,     0.79,2,    3.318,2,    1.777,2,    0.284,4,   2.6180,2,   2123.8,3,   2302.8,2,   7.8052,6,    24.99,     -999,9,  10.7819,2,     -999,9,     -999,     -999,9,     -999,9,     -999,9,     -999,9,     -999,9,     -999,9,   0.0171,1,   4.6807,1,      7.1,2,     -999,9,20240322,2315, -40.4970,  95.0051,     -999,9,     -999,9,-999          ,9,-999          ,9,-999          ,9
325020240221  ,I08        ,51      ,  1,24         ,24         ,2,20240322,2151, -40.4970,  95.0051,     3501,    438.6,  10.6837,  34.8421,2,  34.8379,2,    249.9,2,    250.4,2,     3.90,2,     0.00,2,    11.86,2,     0.00,2,     0.86,2,     -999,9,     -999,9,     -999,9,     -999,9,     -999,9,     -999,9,     -999,9,     -999,     -999,9,  10.6880,2,     -999,9,     -999,     -999,9,     -999,9,     -999,9,     -999,9,     -999,9,     -999,9,   0.0172,1,   4.6812,1,     -999,9,     -999,9,20240322,2313, -40.4970,  95.0051,     -999,9,     -999,9,-999          ,9,-999          ,9,-999          ,9
325020240221  ,I08        ,51      ,  1,23         ,37         ,2,20240322,2151, -40.4970,  95.0051,     3501,    488.6,  10.4151,  34.7980,2,  34.7938,2,    249.3,2,    250.0,2,     4.10,2,     0.00,2,    12.62,2,     0.00,2,     0.90,2,    3.333,2,    1.834,2,    0.232,4,   2.4770,2,   2128.1,3,   2298.6,6,   7.7857,2,    24.97,     -999,9,  10.4186,2,     -999,9,     -999,     -999,9,     -999,9,     -999,9,     -999,9,     -999,9,     -999,9,   0.0177,1,   4.6813,1,      7.1,2,     -999,9,20240322,2311, -40.4970,  95.0051,     -999,9,     -999,9,-999          ,9,-999          ,9,-999          ,9
325020240221  ,I08        ,51      ,  1,22         ,22         ,2,20240322,2151, -40.4970,  95.0051,     3501,    569.7,  10.0883,  34.7476,2,  34.7459,2,    244.4,2,    244.0,2,     4.69,2,     0.00,2,    14.13,2,     0.00,2,     1.00,2,     -999,9,     -999,9,     -999,9,     -999,9,     -999,9,     -999,9,     -999,9,     -999,     -999,9,  10.0916,2,     -999,9,     -999,     -999,9,     -999,9,     -999,9,     -999,9,     -999,9,     -999,9,   0.0176,1,   4.6823,1,     -999,9,     -999,9,20240322,2308, -40.4970,  95.0051,     -999,9,     -999,9,-999          ,9,-999          ,9,-999          ,9
325020240221  ,I08        ,51      ,  1,21         ,21         ,2,20240322,2151, -40.4970,  95.0051,     3501,    670.7,   9.5010,  34.6834,2,  34.6789,2,    231.0,2,    230.9,2,     6.15,2,     0.00,2,    16.96,2,     0.00,2,     1.16,2,    3.476,2,    1.989,2,    0.224,4,   1.9500,2,   2143.5,3,   2292.3,2,   7.7412,2,    25.00,     -999,9,   9.5079,2,     -999,9,     -999,     -999,9,     -999,9,     -999,9,     -999,9,     -999,9,     -999,9,   0.0171,1,   4.6836,1,      5.7,4,     -999,9,20240322,2305, -40.4970,  95.0051,     -999,9,     -999,9,-999          ,9,-999          ,9,-999          ,9
325020240221  ,I08        ,51      ,  1,20         ,20         ,2,20240322,2151, -40.4970,  95.0051,     3501,    772.7,   8.4668,  34.5684,2,  34.5684,2,    219.3,2,    219.6,2,     9.47,2,     0.00,2,    20.45,2,     0.00,2,     1.38,2,     -999,9,     -999,9,     -999,9,     -999,9,     -999,9,     -999,9,     -999,9,     -999,     -999,9,   8.4782,2,     -999,9,     -999,     -999,9,     -999,9,     -999,9,     -999,9,     -999,9,     -999,9,   0.0171,1,   4.6833,1,     -999,9,     -999,9,20240322,2303, -40.4970,  95.0051,     -999,9,     -999,9,-999          ,9,-999          ,9,-999          ,9
325020240221  ,I08        ,51      ,  1,19         ,19         ,2,20240322,2151, -40.4970,  95.0051,     3501,    873.2,   7.2740,  34.4679,2,  34.4722,2,    209.8,2,    209.5,2,    14.55,2,     0.00,2,    24.10,2,     0.00,2,     1.62,2,    3.479,2,    1.748,2,    0.173,4,   1.2970,2,   2169.3,3,   2287.0,2,   7.6696,2,    25.03,     -999,9,   7.3024,2,     -999,9,     -999,     -999,9,     -999,9,     -999,9,     -999,9,     -999,9,     -999,9,   0.0183,1,   4.6849,1,      9.0,2,     -999,9,20240322,2300, -40.4970,  95.0051,     -999,9,     -999,9,-999          ,9,-999          ,9,-999          ,9
325020240221  ,I08        ,51      ,  1,18         ,18         ,2,20240322,2151, -40.4970,  95.0051,     3501,    974.6,   6.0710,  34.3771,2,  34.3757,2,    209.9,2,    210.4,2,    19.92,2,     0.00,2,    27.00,2,     0.00,2,     1.84,2,     -999,9,     -999,9,     -999,9,     -999,9,     -999,9,     -999,9,     -999,9,     -999,     -999,9,   6.0668,2,     -999,9,     -999,     -999,9,     -999,9,     -999,9,     -999,9,     -999,9,     -999,9,   0.0181,1,   4.6857,1,     -999,9,     -999,9,20240322,2257, -40.4970,  95.0051,     -999,9,     -999,9,-999          ,9,-999          ,9,-999          ,9
325020240221  ,I08        ,51      ,  1,17         ,17         ,2,20240322,2151, -40.4970,  95.0051,     3501,   1076.4,   5.0014,  34.3275,2,  34.3760,3,    210.8,2,    210.8,2,    26.65,2,     0.00,2,    29.21,2,     0.00,2,     1.99,2,    2.956,2,    1.541,2,    0.192,4,   1.0420,2,   2190.7,3,   2292.2,2,   7.6208,2,    25.00,     -999,9,   5.0017,2,     -999,9,     -999,     -999,9,     -999,9,     -999,9,     -999,9,     -999,9,     -999,9,   0.0175,1,   4.6849,1,     10.1,2,     -999,9,20240322,2254, -40.4970,  95.0051,     -999,9,     -999,9,-999          ,9,-999          ,9,-999          ,9
325020240221  ,I08        ,51      ,  1,16         ,16         ,2,20240322,2151, -40.4970,  95.0051,     3501,   1176.3,   4.2179,  34.3212,2,  34.3191,2,    207.8,2,    207.4,2,    34.47,2,     0.00,2,    30.90,2,     0.00,2,     2.10,2,     -999,9,     -999,9,     -999,9,     -999,9,     -999,9,     -999,9,     -999,9,     -999,     -999,9,   4.2228,2,     -999,9,     -999,     -999,9,     -999,9,     -999,9,     -999,9,     -999,9,     -999,9,   0.0183,1,   4.6739,1,     -999,9,     -999,9,20240322,2251, -40.4970,  95.0051,     -999,9,     -999,9,-999          ,9,-999          ,9,-999          ,9
325020240221  ,I08        ,51      ,  1,15         ,15         ,2,20240322,2151, -40.4970,  95.0051,     3501,   1278.4,   3.7499,  34.3597,2,  34.3588,2,    196.3,2,    195.8,2,    43.84,2,     0.00,2,    32.37,2,     0.00,2,     2.24,2,    2.125,2,    1.077,2,    0.142,4,   0.6370,2,   2216.2,3,   2305.1,2,   7.5855,2,    25.02,     -999,9,   3.7508,2,     -999,9,     -999,     -999,9,     -999,9,     -999,9,     -999,9,     -999,9,     -999,9,   0.0183,1,   4.6667,1,     11.3,2,     -999,9,20240322,2248, -40.4970,  95.0051,     -999,9,     -999,9,-999          ,9,-999          ,9,-999          ,9
325020240221  ,I08        ,51      ,  1,14         ,14         ,2,20240322,2151, -40.4970,  95.0051,     3501,   1379.2,   3.4145,  34.4121,2,  34.4110,2,    184.8,2,    184.5,2,    52.62,2,     0.00,2,    33.38,2,     0.00,2,     2.31,2,     -999,9,     -999,9,     -999,9,     -999,9,     -999,9,     -999,9,     -999,9,     -999,     -999,9,   3.4174,2,     -999,9,     -999,     -999,9,     -999,9,     -999,9,     -999,9,     -999,9,     -999,9,   0.0183,1,   4.6630,1,     -999,9,     -999,9,20240322,2245, -40.4970,  95.0051,     -999,9,     -999,9,-999          ,9,-999          ,9,-999          ,9
325020240221  ,I08        ,51      ,  1,13         ,13         ,2,20240322,2151, -40.4970,  95.0051,     3501,   1480.4,   3.1710,  34.4580,2,  34.4573,2,    177.0,2,    176.9,2,    59.55,2,     0.00,2,    33.92,2,     0.00,2,     2.34,2,    1.184,6,    0.590,6,    0.072,4,   0.3240,6,   2238.0,3,   2320.7,2,   7.5633,2,    24.98,     -999,9,   3.1699,2,     -999,9,     -999,     -999,9,     -999,9,     -999,9,     -999,9,     -999,9,     -999,9,   0.0177,1,   4.6596,1,     12.3,6,     -999,9,20240322,2242, -40.4970,  95.0051,     -999,9,     -999,9,-999          ,9,-999          ,9,-999          ,9
325020240221  ,I08        ,51      ,  1,12         ,12         ,2,20240322,2151, -40.4970,  95.0051,     3501,   1581.7,   2.9993,  34.5077,2,  34.5054,2,    171.2,2,    171.3,2,    65.41,2,     0.00,2,    34.12,2,     0.00,2,     2.35,2,     -999,9,     -999,9,     -999,9,     -999,9,     -999,9,     -999,9,     -999,9,     -999,     -999,9,   2.9993,2,     -999,9,     -999,     -999,9,     -999,9,     -999,9,     -999,9,     -999,9,     -999,9,   0.0183,1,   4.6570,1,     -999,9,     -999,9,20240322,2239, -40.4970,  95.0051,     -999,9,     -999,9,-999          ,9,-999          ,9,-999          ,9
325020240221  ,I08        ,51      ,  1,11         ,11         ,2,20240322,2151, -40.4970,  95.0051,     3501,   1685.0,   2.8354,  34.5532,2,  34.5525,2,    171.4,2,    171.5,2,    68.53,2,     0.00,2,    33.81,2,     0.00,2,     2.32,2,    0.703,2,    0.351,2,    0.037,4,   0.1890,2,   2246.6,3,   2330.6,2,   7.5619,6,    24.97,     -999,9,   2.8371,2,     -999,9,     -999,     -999,9,     -999,9,     -999,9,     -999,9,     -999,9,     -999,9,   0.0183,1,   4.6562,1,     12.9,2,     -999,9,20240322,2236, -40.4970,  95.0051,     -999,9,     -999,9,-999          ,9,-999          ,9,-999          ,9
325020240221  ,I08        ,51      ,  1,10         ,10         ,2,20240322,2151, -40.4970,  95.0051,     3501,   1785.9,   2.7194,  34.5993,2,  34.5979,2,    171.8,2,    172.1,2,    71.85,2,     0.00,2,    33.26,2,     0.00,2,     2.28,2,     -999,9,     -999,9,     -999,9,     -999,9,   2249.9,3,   2335.2,2,   7.5672,6,    24.98,     -999,9,   2.7187,2,     -999,9,     -999,     -999,9,     -999,9,     -999,9,     -999,9,     -999,9,     -999,9,   0.0183,1,   4.6544,1,     -999,9,     -999,9,20240322,2233, -40.4970,  95.0051,     -999,9,     -999,9,-999          ,9,-999          ,9,-999          ,9
325020240221  ,I08        ,51      ,  1,9          ,9          ,2,20240322,2151, -40.4970,  95.0051,     3501,   1958.3,   2.5704,  34.6600,2,  34.6576,2,    175.9,2,    176.2,2,    74.48,2,     0.00,2,    32.29,2,     0.00,2,     2.23,2,    0.344,2,    0.185,2,    0.014,4,   0.0760,2,   2249.6,3,   2339.4,2,   7.5781,6,    25.01,     -999,9,   2.5722,2,     -999,9,     -999,     -999,9,     -999,9,     -999,9,     -999,9,     -999,9,     -999,9,   0.0183,1,   4.6528,1,     12.9,2,     -999,9,20240322,2229, -40.4970,  95.0051,     -999,9,     -999,9,-999          ,9,-999          ,9,-999          ,9
325020240221  ,I08        ,51      ,  1,8          ,8          ,2,20240322,2151, -40.4970,  95.0051,     3501,   2161.9,   2.4161,  34.7114,2,  34.7121,2,    183.7,2,    184.1,2,    77.21,2,     0.00,2,    31.07,2,     0.00,2,     2.14,2,     -999,9,     -999,9,     -999,9,     -999,9,     -999,9,     -999,9,     -999,9,     -999,     -999,9,   2.4161,2,     -999,9,     -999,     -999,9,     -999,9,     -999,9,     -999,9,     -999,9,     -999,9,   0.0183,1,   4.6508,1,     -999,9,     -999,9,20240322,2224, -40.4970,  95.0051,     -999,9,     -999,9,-999          ,9,-999          ,9,-999          ,9
325020240221  ,I08        ,51      ,  1,7          ,7          ,2,20240322,2151, -40.4970,  95.0051,     3501,   2366.2,   2.2337,  34.7406,2,  34.7400,2,    190.6,2,    190.9,2,    80.43,2,     0.00,2,    30.38,2,     0.00,2,     2.08,2,     -999,9,     -999,9,     -999,9,     -999,9,   2243.5,3,   2346.7,6,   7.6098,2,    25.01,     -999,9,   2.2338,2,     -999,9,     -999,     -999,9,     -999,9,     -999,9,     -999,9,     -999,9,     -999,9,   0.0183,1,   4.6483,1,     -999,9,     -999,9,20240322,2219, -40.4970,  95.0051,     -999,9,     -999,9,-999          ,9,-999          ,9,-999          ,9
325020240221  ,I08        ,51      ,  1,6          ,6          ,2,20240322,2151, -40.4970,  95.0051,     3501,   2569.0,   2.0137,  34.7498,2,  34.7484,2,    195.1,2,    195.3,2,    86.48,2,     0.00,2,    30.05,2,     0.00,2,     2.06,2,     -999,9,     -999,9,     -999,9,     -999,9,     -999,9,     -999,9,     -999,9,     -999,     -999,9,   2.0136,2,     -999,9,     -999,     -999,9,     -999,9,     -999,9,     -999,9,     -999,9,     -999,9,   0.0183,1,   4.6446,1,     -999,9,     -999,9,20240322,2215, -40.4970,  95.0051,     -999,9,     -999,9,-999          ,9,-999          ,9,-999          ,9