BOTTLE,20240417CCHHYDRO
EXPOCODE,SECT_ID,STNNBR,CASTNO,SAMPNO,BTLNBR,BTLNBR_FLAG_W,DATE,TIME,LATITUDE,LONGITUDE,DEPTH,CTDPRS,CTDTMP,CTDSAL,CTDSAL_FLAG_W,SALNTY,SALNTY_FLAG_W,CTDOXY,CTDOXY_FLAG_W,OXYGEN,OXYGEN_FLAG_W,SILCAT,SILCAT_FLAG_W,NH4,NH4_FLAG_W,NITRAT,NITRAT_FLAG_W,NITRIT,NITRIT_FLAG_W,PHSPHT,PHSPHT_FLAG_W,CFC-11,CFC-11_FLAG_W,CFC-12,CFC-12_FLAG_W,CFC113,CFC113_FLAG_W,SF6,SF6_FLAG_W,TCARBN,TCARBN_FLAG_W,ALKALI,ALKALI_FLAG_W,PH_TOT,PH_TOT_FLAG_W,PH_TMP,DOC,DOC_FLAG_W,REFTMP,REFTMP_FLAG_W,DELC14,DELC14_FLAG_W,C14ERR,POC,POC_FLAG_W,PON,PON_FLAG_W,POP,POP_FLAG_W,PCOD,PCOD_FLAG_W,DOP,DOP_FLAG_W,TDN,TDN_FLAG_W,CTDFLUOR,CTDFLUOR_FLAG_W,CTDXMISS,CTDXMISS_FLAG_W,N2O,N2O_FLAG_W,ARGON,ARGON_FLAG_W,BTL_DATE,BTL_TIME,BTL_LAT,BTL_LON,KRYPTON,KRYPTON_FLAG_W,XENON,XENON_FLAG_W,HPLC,HPLC_FLAG_W,DNA,DNA_FLAG_W,FCM,FCM_FLAG_W
,,,,,,,,,,,METERS,DBAR,ITS-90,PSS-78,,PSS-78,,UMOL/KG,,UMOL/KG,,UMOL/KG,,UMOL/KG,,UMOL/KG,,UMOL/KG,,UMOL/KG,,PMOL/KG,,PMOL/KG,,PMOL/KG,,FMOL/KG,,UMOL/KG,,UMOL/KG,,,,DEG C,UMOL/KG,,ITS-90,,/MILLE,,/MILLE,UG/KG,,UG/KG,,UG/L,,UG/L,,UMOL/KG,,UMOL/KG,,VOLTS,,VOLTS,,NMOL/KG,,UMOL/L,,,,,,NMOL/L,,NMOL/L,,,,,,,
325020240221  ,I08        ,65      ,  1,3          ,3          ,2,20240327,2307, -28.9104,  95.0005,     2591,   2292.6,   2.0502,  34.7243,2,  34.7248,2,    169.4,2,    169.5,2,   108.80,2,     0.00,2,    33.18,2,     0.00,2,     2.34,2,    0.027,2,    0.015,2,    0.028,4,   0.0130,2,   2281.4,3,   2378.2,2,   7.5961,2,    25.00,     -999,9,   2.0508,2,     -999,9,     -999,     -999,9,     -999,9,     -999,9,     -999,9,     -999,9,     -999,9,   0.0181,1,   4.6314,1,     18.4,2,     -999,9,20240327,2317, -28.9104,  95.0003,     -999,9,     -999,9,-999          ,9,-999          ,9,-999          ,9
325020240221  ,I08        ,65      ,  1,2          ,2          ,2,20240327,2307, -28.9104,  95.0005,     2591,   2495.6,   1.8194,  34.7280,2,  34.7280,2,    175.9,2,    176.2,2,   112.11,2,     0.00,2,    32.88,2,     0.00,2,     2.32,2,    0.029,2,    0.015,2,    0.041,4,   0.0010,2,   2280.5,3,   2382.3,2,   7.6034,2,    24.96,     -999,9,   1.8203,2,     -999,9,     -999,     -999,9,     -999,9,     -999,9,     -999,9,     -999,9,     -999,9,   0.0181,1,   4.6291,1,     17.2,2,     -999,9,20240327,2311, -28.9105,  95.0004,     -999,9,     -999,9,-999          ,9,-999          ,9,-999          ,9
325020240221  ,I08        ,65      ,  1,1          ,1          ,2,20240327,2307, -28.9104,  95.0005,     2591,   2614.0,   1.6962,  34.7281,2,  34.7298,2,    179.3,2,    179.5,2,   114.07,2,     0.02,2,    32.79,2,     0.00,2,     2.31,2,    0.042,2,    0.014,2,    0.100,4,   0.0010,2,   2280.5,3,   2380.1,2,   7.6068,2,    24.97,     -999,9,   1.6979,2,     -999,9,     -999,     -999,9,     -999,9,     -999,9,     -999,9,     -999,9,     -999,9,   0.0183,1,   4.6302,1,      8.7,2,     -999,9,20240327,2307, -28.9104,  95.0005,     -999,9,     -999,9,-999          ,9,-999          ,9,-999          ,9