BOTTLE,20240417CCHHYDRO
EXPOCODE,SECT_ID,STNNBR,CASTNO,SAMPNO,BTLNBR,BTLNBR_FLAG_W,DATE,TIME,LATITUDE,LONGITUDE,DEPTH,CTDPRS,CTDTMP,CTDSAL,CTDSAL_FLAG_W,SALNTY,SALNTY_FLAG_W,CTDOXY,CTDOXY_FLAG_W,OXYGEN,OXYGEN_FLAG_W,SILCAT,SILCAT_FLAG_W,NH4,NH4_FLAG_W,NITRAT,NITRAT_FLAG_W,NITRIT,NITRIT_FLAG_W,PHSPHT,PHSPHT_FLAG_W,CFC-11,CFC-11_FLAG_W,CFC-12,CFC-12_FLAG_W,CFC113,CFC113_FLAG_W,SF6,SF6_FLAG_W,TCARBN,TCARBN_FLAG_W,ALKALI,ALKALI_FLAG_W,PH_TOT,PH_TOT_FLAG_W,PH_TMP,DOC,DOC_FLAG_W,REFTMP,REFTMP_FLAG_W,DELC14,DELC14_FLAG_W,C14ERR,POC,POC_FLAG_W,PON,PON_FLAG_W,POP,POP_FLAG_W,PCOD,PCOD_FLAG_W,DOP,DOP_FLAG_W,TDN,TDN_FLAG_W,CTDFLUOR,CTDFLUOR_FLAG_W,CTDXMISS,CTDXMISS_FLAG_W,N2O,N2O_FLAG_W,ARGON,ARGON_FLAG_W,BTL_DATE,BTL_TIME,BTL_LAT,BTL_LON,KRYPTON,KRYPTON_FLAG_W,XENON,XENON_FLAG_W,HPLC,HPLC_FLAG_W,DNA,DNA_FLAG_W,FCM,FCM_FLAG_W
,,,,,,,,,,,METERS,DBAR,ITS-90,PSS-78,,PSS-78,,UMOL/KG,,UMOL/KG,,UMOL/KG,,UMOL/KG,,UMOL/KG,,UMOL/KG,,UMOL/KG,,PMOL/KG,,PMOL/KG,,PMOL/KG,,FMOL/KG,,UMOL/KG,,UMOL/KG,,,,DEG C,UMOL/KG,,ITS-90,,/MILLE,,/MILLE,UG/KG,,UG/KG,,UG/L,,UG/L,,UMOL/KG,,UMOL/KG,,VOLTS,,VOLTS,,NMOL/KG,,UMOL/L,,,,,,NMOL/L,,NMOL/L,,,,,,,
325020240221  ,I08        ,35      ,  1,36         ,36         ,2,20240317,2102, -50.6957,  89.8870,     3999,      5.4,   5.0274,  33.8020,2,  33.8020,2,    308.0,2,    307.5,2,     7.33,2,     0.52,2,    22.20,2,     0.24,2,     1.58,2,    4.574,2,    2.488,2,    0.284,4,   3.8628,2,   2128.3,3,   2276.5,2,   7.7285,2,    25.00,     -999,1,   5.0259,2,     -999,9,     -999,     -999,9,     -999,9,     -999,9,     -999,9,     -999,9,     -999,1,   0.0475,1,   4.5275,1,     15.5,2,     -999,9,20240317,2304, -50.6957,  89.8870,     -999,9,     -999,9,-999          ,9,-999          ,9,-999          ,9
325020240221  ,I08        ,35      ,  1,35         ,35         ,2,20240317,2102, -50.6957,  89.8870,     3999,     34.1,   5.0231,  33.8018,2,  33.8022,2,    308.1,2,    307.2,2,     7.33,2,     0.50,2,    22.30,2,     0.24,2,     1.57,2,    4.939,2,    2.616,2,    0.251,4,   3.9422,2,   2135.0,3,   2276.6,2,   7.7284,2,    24.99,     -999,9,   5.0223,2,     -999,9,     -999,     -999,9,     -999,9,     -999,9,     -999,9,     -999,9,     -999,9,   0.0476,1,   4.5256,1,     16.0,2,     -999,9,20240317,2302, -50.6957,  89.8870,     -999,9,     -999,9,-999          ,9,-999          ,9,-999          ,9
325020240221  ,I08        ,35      ,  1,34         ,34         ,2,20240317,2102, -50.6957,  89.8870,     3999,     59.4,   4.9934,  33.8016,2,  33.8022,2,    307.3,2,    307.2,2,     7.33,2,     0.52,2,    22.34,2,     0.24,2,     1.55,2,    4.841,2,    2.509,2,    0.282,4,   3.7237,2,   2131.0,3,   2275.4,2,   7.7282,6,    25.02,     -999,9,   4.9930,2,     -999,9,     -999,     -999,9,     -999,9,     -999,9,     -999,9,     -999,9,     -999,9,   0.0507,1,   4.5318,1,     16.3,2,     -999,9,20240317,2300, -50.6957,  89.8870,     -999,9,     -999,9,-999          ,9,-999          ,9,-999          ,9
325020240221  ,I08        ,35      ,  1,33         ,33         ,2,20240317,2102, -50.6957,  89.8870,     3999,     83.6,   4.9905,  33.8015,2,  33.8030,2,    306.9,2,    307.0,2,     7.33,2,     0.51,2,    22.35,2,     0.24,2,     1.57,2,    5.086,2,    2.545,2,    0.348,4,   4.1550,2,   2136.8,3,   2273.4,2,   7.7280,2,    24.99,     -999,9,   4.9905,2,     -999,9,     -999,     -999,9,     -999,9,     -999,9,     -999,9,     -999,9,     -999,9,   0.0495,1,   4.5299,1,     16.7,2,     -999,9,20240317,2257, -50.6957,  89.8870,     -999,9,     -999,9,-999          ,9,-999          ,9,-999          ,9
325020240221  ,I08        ,35      ,  1,32         ,32         ,2,20240317,2102, -50.6957,  89.8870,     3999,    108.3,   4.9848,  33.8029,2,  33.8032,2,    306.4,2,    306.6,2,     7.42,2,     0.57,2,    22.30,2,     0.24,2,     1.60,2,    5.572,2,    2.527,2,    0.379,4,   3.8399,2,   2128.6,3,   2277.2,2,   7.7270,2,    24.98,     -999,9,   4.9845,2,     -999,9,     -999,     -999,9,     -999,9,     -999,9,     -999,9,     -999,9,     -999,9,   0.0463,1,   4.5405,1,     17.1,2,     -999,9,20240317,2255, -50.6957,  89.8870,     -999,9,     -999,9,-999          ,9,-999          ,9,-999          ,9
325020240221  ,I08        ,35      ,  1,31         ,31         ,2,20240317,2102, -50.6957,  89.8870,     3999,    134.4,   4.5131,  33.8122,2,  33.8138,2,    307.1,2,    309.2,2,     9.28,2,     0.63,2,    23.09,2,     0.25,2,     1.62,2,    5.283,2,    2.608,2,    0.402,4,   3.9112,2,   2135.1,3,   2280.8,2,   7.7159,2,    24.99,     -999,9,   4.4893,2,     -999,9,     -999,     -999,9,     -999,9,     -999,9,     -999,9,     -999,9,     -999,9,   0.0403,1,   4.5621,1,     17.9,2,     -999,9,20240317,2253, -50.6957,  89.8870,     -999,9,     -999,9,-999          ,9,-999          ,9,-999          ,9
325020240221  ,I08        ,35      ,  1,30         ,30         ,2,20240317,2102, -50.6957,  89.8870,     3999,    166.0,   4.0170,  33.9144,2,  33.9130,2,    292.9,2,    295.2,2,    13.38,2,     0.17,2,    25.42,2,     0.23,2,     1.78,2,    6.204,6,    2.713,6,    0.358,4,   3.6087,6,   2153.0,3,   2281.5,2,   7.6750,6,    25.03,     -999,9,   4.0203,2,     -999,9,     -999,     -999,9,     -999,9,     -999,9,     -999,9,     -999,9,     -999,9,   0.0213,1,   4.6116,1,     20.3,6,     -999,9,20240317,2251, -50.6957,  89.8870,     -999,9,     -999,9,-999          ,9,-999          ,9,-999          ,9
325020240221  ,I08        ,35      ,  1,29         ,29         ,2,20240317,2102, -50.6957,  89.8870,     3999,    216.0,   3.3051,  33.9568,2,  33.9543,2,    288.1,2,    290.1,2,    18.75,2,     0.03,2,    27.56,2,     0.00,2,     1.91,2,    6.044,2,    2.630,2,    0.352,4,   3.1614,2,   2165.0,3,   2278.5,6,   7.6479,2,    25.01,     -999,9,   3.3052,2,     -999,9,     -999,     -999,9,     -999,9,     -999,9,     -999,9,     -999,9,     -999,9,   0.0184,1,   4.6189,1,     22.1,2,     -999,9,20240317,2248, -50.6957,  89.8870,     -999,9,     -999,9,-999          ,9,-999          ,9,-999          ,9
325020240221  ,I08        ,35      ,  1,28         ,28         ,2,20240317,2102, -50.6957,  89.8870,     3999,    267.0,   3.5919,  34.1002,2,  34.0987,2,    261.2,2,    258.9,2,    22.66,2,     0.00,2,    28.98,2,     0.00,2,     1.97,2,    5.968,2,    2.411,2,    0.303,4,   2.6071,2,   2183.9,3,   2282.5,2,   7.6201,2,    24.99,     -999,9,   3.5789,2,     -999,9,     -999,     -999,9,     -999,9,     -999,9,     -999,9,     -999,9,     -999,9,   0.0183,1,   4.6326,1,     23.1,2,     -999,9,20240317,2246, -50.6957,  89.8870,     -999,9,     -999,9,-999          ,9,-999          ,9,-999          ,9
325020240221  ,I08        ,35      ,  1,27         ,27         ,2,20240317,2102, -50.6957,  89.8870,     3999,    317.7,   3.2001,  34.1363,2,  34.1358,2,    252.0,3,    249.3,2,    28.03,2,     0.03,2,    30.19,2,     0.00,2,     2.09,2,    5.093,2,    2.259,2,    0.285,4,   2.3391,2,   2187.8,3,   2284.9,2,   7.6075,2,    24.99,     -999,9,   3.2073,2,     -999,9,     -999,     -999,9,     -999,9,     -999,9,     -999,9,     -999,9,     -999,9,   0.0183,1,   4.6374,1,     23.8,2,     -999,9,20240317,2244, -50.6957,  89.8870,     -999,9,     -999,9,-999          ,9,-999          ,9,-999          ,9
325020240221  ,I08        ,35      ,  1,26         ,26         ,2,20240317,2102, -50.6957,  89.8870,     3999,    368.2,   2.6097,  34.1239,2,  34.1252,2,    250.1,2,    252.3,2,    33.01,2,     0.00,2,    30.83,2,     0.00,2,     2.16,2,    5.676,2,    2.134,2,    0.272,4,   2.3035,2,   2197.0,3,   2290.3,2,   7.5984,2,    25.04,     -999,9,   2.6077,2,     -999,9,     -999,     -999,9,     -999,9,     -999,9,     -999,9,     -999,9,     -999,9,   0.0183,1,   4.6308,1,     24.1,2,     -999,9,20240317,2242, -50.6957,  89.8870,     -999,9,     -999,9,-999          ,9,-999          ,9,-999          ,9
325020240221  ,I08        ,35      ,  1,25         ,25         ,2,20240317,2102, -50.6957,  89.8870,     3999,    417.4,   3.0718,  34.2381,2,  34.2381,2,    224.7,2,    223.6,2,    37.98,2,     0.00,2,    31.75,2,     0.00,2,     2.22,2,    4.293,2,    1.680,2,    0.216,4,   1.5341,2,   2211.0,3,   2294.3,2,   7.5855,2,    25.05,     -999,9,   3.0714,2,     -999,9,     -999,     -999,9,     -999,9,     -999,9,     -999,9,     -999,9,     -999,9,   0.0183,1,   4.6403,1,     25.1,2,     -999,9,20240317,2239, -50.6957,  89.8870,     -999,9,     -999,9,-999          ,9,-999          ,9,-999          ,9
325020240221  ,I08        ,35      ,  1,24         ,24         ,2,20240317,2102, -50.6957,  89.8870,     3999,    470.5,   3.0185,  34.2759,2,  34.2754,2,    214.9,2,    214.4,2,    42.28,2,     0.03,2,    32.47,2,     0.00,2,     2.28,2,    3.902,2,    1.564,2,    0.175,4,   1.2972,2,   2215.0,3,   2300.8,2,   7.5761,2,    25.01,     -999,9,   3.0166,2,     -999,9,     -999,     -999,9,     -999,9,     -999,9,     -999,9,     -999,9,     -999,9,   0.0183,1,   4.6406,1,     25.6,2,     -999,9,20240317,2237, -50.6957,  89.8870,     -999,9,     -999,9,-999          ,9,-999          ,9,-999          ,9
325020240221  ,I08        ,35      ,  1,23         ,37         ,2,20240317,2102, -50.6957,  89.8870,     3999,    541.5,   2.8252,  34.3184,2,  34.3170,2,    205.8,2,    205.0,2,    48.53,2,     0.00,2,    33.34,2,     0.00,2,     2.33,2,    3.383,2,    1.307,2,    0.190,4,   0.9787,2,   2226.6,3,   2305.0,2,   7.5659,6,    25.03,     -999,9,   2.8277,2,     -999,9,     -999,     -999,9,     -999,9,     -999,9,     -999,9,     -999,9,     -999,9,   0.0176,1,   4.6415,1,     25.9,2,     -999,9,20240317,2234, -50.6957,  89.8870,     -999,9,     -999,9,-999          ,9,-999          ,9,-999          ,9
325020240221  ,I08        ,35      ,  1,22         ,22         ,2,20240317,2102, -50.6957,  89.8870,     3999,    640.5,   2.6456,  34.3948,2,  34.3937,2,    190.3,2,    190.6,2,    58.19,2,     0.00,2,    34.28,2,     0.00,2,     2.39,2,    2.272,2,    1.015,2,    0.144,4,   0.8384,2,   2240.8,3,   2315.0,2,   7.5510,2,    25.04,     -999,9,   2.6471,2,     -999,9,     -999,     -999,9,     -999,9,     -999,9,     -999,9,     -999,9,     -999,9,   0.0183,1,   4.6401,1,     20.2,2,     -999,9,20240317,2231, -50.6957,  89.8870,     -999,9,     -999,9,-999          ,9,-999          ,9,-999          ,9
325020240221  ,I08        ,35      ,  1,21         ,21         ,2,20240317,2102, -50.6957,  89.8870,     3999,    741.7,   2.7125,  34.4696,2,  34.4695,2,    179.9,2,    179.9,2,    63.36,2,     0.02,2,    34.37,2,     0.00,2,     2.42,2,    1.689,2,    0.709,2,    0.113,4,   0.5543,2,   2244.1,3,   2322.5,2,   7.5518,2,    25.01,     -999,9,   2.7129,2,     -999,9,     -999,     -999,9,     -999,9,     -999,9,     -999,9,     -999,9,     -999,9,   0.0183,1,   4.6428,1,     16.2,4,     -999,9,20240317,2228, -50.6957,  89.8870,     -999,9,     -999,9,-999          ,9,-999          ,9,-999          ,9
325020240221  ,I08        ,35      ,  1,20         ,20         ,2,20240317,2102, -50.6957,  89.8870,     3999,    843.8,   2.5888,  34.5242,2,  34.5250,2,    175.2,2,    175.4,2,    68.14,2,     0.00,2,    34.22,2,     0.00,2,     2.40,2,    1.160,2,    0.535,2,   -0.001,4,   0.6026,2,   2248.8,3,   2327.5,2,   7.5521,2,    25.00,     -999,9,   2.5884,2,     -999,9,     -999,     -999,9,     -999,9,     -999,9,     -999,9,     -999,9,     -999,9,   0.0183,1,   4.6435,1,     26.3,2,     -999,9,20240317,2225, -50.6957,  89.8870,     -999,9,     -999,9,-999          ,9,-999          ,9,-999          ,9
325020240221  ,I08        ,35      ,  1,19         ,19         ,2,20240317,2102, -50.6957,  89.8870,     3999,    944.0,   2.5253,  34.5710,2,  34.5706,2,    173.5,2,    173.7,2,    71.46,2,     0.00,2,    33.94,2,     0.00,2,     2.36,2,    1.076,2,    0.411,2,    0.003,4,   0.3898,2,   2251.7,3,   2331.7,2,   7.5557,2,    25.05,     -999,9,   2.5252,2,     -999,9,     -999,     -999,9,     -999,9,     -999,9,     -999,9,     -999,9,     -999,9,   0.0183,1,   4.6435,1,     26.5,2,     -999,9,20240317,2222, -50.6957,  89.8870,     -999,9,     -999,9,-999          ,9,-999          ,9,-999          ,9
325020240221  ,I08        ,35      ,  1,18         ,18         ,2,20240317,2102, -50.6957,  89.8870,     3999,   1045.0,   2.4458,  34.6023,2,  34.6018,2,    173.3,2,    174.1,2,    73.80,2,     0.00,2,    33.68,2,     0.00,2,     2.35,2,    0.898,2,    0.362,2,   -0.002,4,   0.2726,2,   2242.9,3,   2334.6,2,   7.5585,2,    25.05,     -999,9,   2.4449,2,     -999,9,     -999,     -999,9,     -999,9,     -999,9,     -999,9,     -999,9,     -999,9,   0.0183,1,   4.6424,1,     26.7,2,     -999,9,20240317,2218, -50.6957,  89.8870,     -999,9,     -999,9,-999          ,9,-999          ,9,-999          ,9
325020240221  ,I08        ,35      ,  1,17         ,17         ,2,20240317,2102, -50.6957,  89.8870,     3999,   1145.6,   2.4042,  34.6430,2,  34.6433,2,    175.0,2,    175.3,2,    75.65,2,     0.00,2,    33.11,2,     0.00,2,     2.30,2,    0.669,2,    0.268,2,   -0.009,4,   0.2427,2,   2253.6,3,   2338.3,2,   7.5685,2,    25.04,     -999,9,   2.4039,2,     -999,9,     -999,     -999,9,     -999,9,     -999,9,     -999,9,     -999,9,     -999,9,   0.0183,1,   4.6425,1,     26.9,2,     -999,9,20240317,2215, -50.6957,  89.8870,     -999,9,     -999,9,-999          ,9,-999          ,9,-999          ,9
325020240221  ,I08        ,35      ,  1,16         ,16         ,2,20240317,2102, -50.6957,  89.8870,     3999,   1248.3,   2.3264,  34.6747,2,  34.6745,2,    177.8,2,    177.9,2,    77.41,2,     0.00,2,    32.53,2,     0.00,2,     2.25,2,    0.550,2,    0.220,2,   -0.015,4,   0.1920,2,   2249.1,3,   2339.5,2,   7.5749,2,    25.03,     -999,9,   2.3269,2,     -999,9,     -999,     -999,9,     -999,9,     -999,9,     -999,9,     -999,9,     -999,9,   0.0183,1,   4.6444,1,     26.9,2,     -999,9,20240317,2212, -50.6957,  89.8870,     -999,9,     -999,9,-999          ,9,-999          ,9,-999          ,9
325020240221  ,I08        ,35      ,  1,15         ,15         ,4,20240317,2102, -50.6957,  89.8870,     3999,   1351.4,   2.2537,  34.6981,3,     -999,9,    180.9,3,     -999,9,     -999,9,     -999,9,     -999,9,     -999,9,     -999,9,     -999,9,     -999,9,     -999,9,     -999,9,     -999,9,     -999,9,     -999,9,     -999,     -999,9,   2.2537,3,     -999,9,     -999,     -999,9,     -999,9,     -999,9,     -999,9,     -999,9,     -999,9,   0.0183,1,   4.6443,1,     -999,9,     -999,9,20240317,2208, -50.6957,  89.8870,     -999,9,     -999,9,-999          ,9,-999          ,9,-999          ,9
325020240221  ,I08        ,35      ,  1,14         ,14         ,2,20240317,2102, -50.6957,  89.8870,     3999,   1452.5,   2.1968,  34.7144,2,  34.7152,2,    183.8,2,    184.0,2,    80.43,2,     0.00,2,    31.52,2,     0.00,2,     2.18,2,    0.395,2,    0.161,2,   -0.020,4,   0.1092,2,   2241.8,3,   2343.2,2,   7.5896,2,    25.02,     -999,9,   2.1964,2,     -999,9,     -999,     -999,9,     -999,9,     -999,9,     -999,9,     -999,9,     -999,9,   0.0183,1,   4.6447,1,     26.9,2,     -999,9,20240317,2205, -50.6957,  89.8870,     -999,9,     -999,9,-999          ,9,-999          ,9,-999          ,9
325020240221  ,I08        ,35      ,  1,13         ,13         ,2,20240317,2102, -50.6957,  89.8870,     3999,   1555.1,   2.1335,  34.7260,2,  34.7260,2,    186.5,2,    186.8,2,    81.99,2,     0.03,2,    31.07,2,     0.00,2,     2.15,2,    0.359,2,    0.153,2,   -0.017,4,   0.1104,2,   2245.7,3,   2344.8,2,   7.5974,6,    25.00,     -999,9,   2.1335,2,     -999,9,     -999,     -999,9,     -999,9,     -999,9,     -999,9,     -999,9,     -999,9,   0.0183,1,   4.6446,1,     27.0,2,     -999,9,20240317,2202, -50.6957,  89.8870,     -999,9,     -999,9,-999          ,9,-999          ,9,-999          ,9
325020240221  ,I08        ,35      ,  1,12         ,12         ,2,20240317,2102, -50.6957,  89.8870,     3999,   1654.0,   2.0408,  34.7347,2,  34.7357,2,    189.5,2,    189.5,2,    83.55,2,     0.00,2,    30.69,2,     0.00,2,     2.11,2,    0.334,2,    0.136,2,   -0.015,4,   0.0161,2,   2243.8,3,   2347.4,2,   7.6008,2,    25.01,     -999,9,   2.0406,2,     -999,9,     -999,     -999,9,     -999,9,     -999,9,     -999,9,     -999,9,     -999,9,   0.0183,1,   4.6458,1,     27.2,2,     -999,9,20240317,2159, -50.6957,  89.8870,     -999,9,     -999,9,-999          ,9,-999          ,9,-999          ,9
325020240221  ,I08        ,35      ,  1,11         ,11         ,2,20240317,2102, -50.6957,  89.8870,     3999,   1758.8,   1.9826,  34.7449,2,  34.7447,2,    193.0,2,    193.5,2,    85.21,2,     0.00,2,    30.19,2,     0.00,2,     2.09,2,    0.296,2,    0.121,2,   -0.013,4,   0.0173,2,   2245.5,3,   2347.9,2,   7.6101,2,    25.03,     -999,9,   1.9829,2,     -999,9,     -999,     -999,9,     -999,9,     -999,9,     -999,9,     -999,9,     -999,9,   0.0183,1,   4.6461,1,     27.3,2,     -999,9,20240317,2156, -50.6957,  89.8870,     -999,9,     -999,9,-999          ,9,-999          ,9,-999          ,9
325020240221  ,I08        ,35      ,  1,10         ,10         ,2,20240317,2102, -50.6957,  89.8870,     3999,   1890.9,   1.8670,  34.7466,2,  34.7471,2,    195.4,2,    195.4,2,    88.34,2,     0.00,2,    30.09,2,     0.00,2,     2.11,2,    0.263,2,    0.114,2,   -0.015,4,   0.0011,2,   2241.4,3,   2350.7,2,   7.6116,6,    25.01,     -999,9,   1.8673,2,     -999,9,     -999,     -999,9,     -999,9,     -999,9,     -999,9,     -999,9,     -999,9,   0.0180,1,   4.6446,1,     27.4,2,     -999,9,20240317,2152, -50.6957,  89.8870,     -999,9,     -999,9,-999          ,9,-999          ,9,-999          ,9
325020240221  ,I08        ,35      ,  1,9          ,9          ,2,20240317,2102, -50.6957,  89.8870,     3999,   2114.0,   1.7227,  34.7449,2,  34.7455,2,    197.6,2,    197.6,2,    92.53,2,     0.02,2,    30.16,2,     0.00,2,     2.14,2,    0.288,2,    0.116,2,   -0.010,4,   0.0000,2,   2242.6,3,   2352.0,6,   7.6122,2,    25.00,     -999,9,   1.7223,2,     -999,9,     -999,     -999,9,     -999,9,     -999,9,     -999,9,     -999,9,     -999,9,   0.0183,1,   4.6422,1,     27.7,2,     -999,9,20240317,2147, -50.6957,  89.8870,     -999,9,     -999,9,-999          ,9,-999          ,9,-999          ,9
325020240221  ,I08        ,35      ,  1,8          ,8          ,2,20240317,2102, -50.6957,  89.8870,     3999,   2368.3,   1.4621,  34.7373,2,  34.7376,2,    201.6,2,    201.5,2,   100.34,2,     0.00,2,    30.52,2,     0.00,2,     2.16,2,    0.290,2,    0.120,2,   -0.005,4,   0.0000,2,   2248.2,3,   2354.5,2,   7.6129,2,    25.01,     -999,9,   1.4621,2,     -999,9,     -999,     -999,9,     -999,9,     -999,9,     -999,9,     -999,9,     -999,9,   0.0183,1,   4.6398,1,     27.9,2,     -999,9,20240317,2141, -50.6957,  89.8870,     -999,9,     -999,9,-999          ,9,-999          ,9,-999          ,9
325020240221  ,I08        ,35      ,  1,7          ,7          ,2,20240317,2102, -50.6957,  89.8870,     3999,   2621.4,   1.2983,  34.7298,2,  34.7298,2,    203.2,2,    203.3,2,   106.10,2,     0.02,2,    30.89,2,     0.00,2,     2.18,2,    0.292,2,    0.119,2,   -0.001,4,   0.0000,2,   2252.8,3,   2359.7,2,   7.6134,2,    25.01,     -999,9,   1.2985,2,     -999,9,     -999,     -999,9,     -999,9,     -999,9,     -999,9,     -999,9,     -999,9,   0.0171,1,   4.6385,1,     28.1,2,     -999,9,20240317,2135, -50.6957,  89.8870,     -999,9,     -999,9,-999          ,9,-999          ,9,-999          ,9
325020240221  ,I08        ,35      ,  1,6          ,6          ,2,20240317,2102, -50.6957,  89.8870,     3999,   2879.2,   1.1148,  34.7194,2,  34.7195,2,    205.3,2,    205.4,2,   111.28,2,     0.00,2,    31.34,2,     0.00,2,     2.22,2,    0.403,2,    0.157,2,    0.008,4,   0.0000,2,   2246.0,3,   2358.1,2,   7.6081,2,    25.00,     -999,9,   1.1147,2,     -999,9,     -999,     -999,9,     -999,9,     -999,9,     -999,9,     -999,9,     -999,9,   0.0178,1,   4.6360,1,     28.4,2,     -999,9,20240317,2129, -50.6957,  89.8870,     -999,9,     -999,9,-999          ,9,-999          ,9,-999          ,9