BOTTLE,20240417CCHHYDRO
EXPOCODE,SECT_ID,STNNBR,CASTNO,SAMPNO,BTLNBR,BTLNBR_FLAG_W,DATE,TIME,LATITUDE,LONGITUDE,DEPTH,CTDPRS,CTDTMP,CTDSAL,CTDSAL_FLAG_W,SALNTY,SALNTY_FLAG_W,CTDOXY,CTDOXY_FLAG_W,OXYGEN,OXYGEN_FLAG_W,SILCAT,SILCAT_FLAG_W,NH4,NH4_FLAG_W,NITRAT,NITRAT_FLAG_W,NITRIT,NITRIT_FLAG_W,PHSPHT,PHSPHT_FLAG_W,CFC-11,CFC-11_FLAG_W,CFC-12,CFC-12_FLAG_W,CFC113,CFC113_FLAG_W,SF6,SF6_FLAG_W,TCARBN,TCARBN_FLAG_W,ALKALI,ALKALI_FLAG_W,PH_TOT,PH_TOT_FLAG_W,PH_TMP,DOC,DOC_FLAG_W,REFTMP,REFTMP_FLAG_W,DELC14,DELC14_FLAG_W,C14ERR,POC,POC_FLAG_W,PON,PON_FLAG_W,POP,POP_FLAG_W,PCOD,PCOD_FLAG_W,DOP,DOP_FLAG_W,TDN,TDN_FLAG_W,CTDFLUOR,CTDFLUOR_FLAG_W,CTDXMISS,CTDXMISS_FLAG_W,N2O,N2O_FLAG_W,ARGON,ARGON_FLAG_W,BTL_DATE,BTL_TIME,BTL_LAT,BTL_LON,KRYPTON,KRYPTON_FLAG_W,XENON,XENON_FLAG_W,HPLC,HPLC_FLAG_W,DNA,DNA_FLAG_W,FCM,FCM_FLAG_W
,,,,,,,,,,,METERS,DBAR,ITS-90,PSS-78,,PSS-78,,UMOL/KG,,UMOL/KG,,UMOL/KG,,UMOL/KG,,UMOL/KG,,UMOL/KG,,UMOL/KG,,PMOL/KG,,PMOL/KG,,PMOL/KG,,FMOL/KG,,UMOL/KG,,UMOL/KG,,,,DEG C,UMOL/KG,,ITS-90,,/MILLE,,/MILLE,UG/KG,,UG/KG,,UG/L,,UG/L,,UMOL/KG,,UMOL/KG,,VOLTS,,VOLTS,,NMOL/KG,,UMOL/L,,,,,,NMOL/L,,NMOL/L,,,,,,,
325020240221  ,I08        ,20      ,  1,28         ,28         ,2,20240309,2253, -60.2491,  81.9974,     1748,      4.1,   1.2388,  33.9261,2,  33.9238,2,    324.4,2,    324.6,2,    34.67,2,     0.43,2,    25.98,2,     0.30,2,     1.75,2,    5.140,6,    2.779,6,    0.393,6,   4.5070,6,   2171.8,3,   2294.7,2,   7.6761,6,    25.00,     -999,1,   1.2409,2,     -999,9,     -999,     -999,9,     -999,9,     -999,9,     -999,9,     -999,9,     -999,1,   0.1137,1,   4.3709,1,     12.8,6,     -999,9,20240310,0015, -60.2491,  81.9974,     -999,9,     -999,9,-999          ,9,-999          ,9,-999          ,9
325020240221  ,I08        ,20      ,  1,27         ,27         ,2,20240309,2253, -60.2491,  81.9974,     1748,     34.5,   1.2343,  33.9265,2,  33.9236,2,    324.3,2,    324.4,2,    34.87,2,     0.43,2,    25.89,2,     0.30,2,     1.77,2,    5.421,2,    2.753,2,    0.389,2,   4.6470,2,   2172.2,3,   2293.6,2,   7.6760,2,    24.99,     -999,1,   1.2339,2,     -999,9,     -999,     -999,9,     -999,9,     -999,9,     -999,9,     -999,9,     -999,1,   0.1195,1,   4.3730,1,     13.4,2,     -999,9,20240310,0012, -60.2491,  81.9981,     -999,9,     -999,9,-999          ,9,-999          ,9,-999          ,9
325020240221  ,I08        ,20      ,  1,26         ,26         ,2,20240309,2253, -60.2491,  81.9974,     1748,     60.9,   1.2388,  33.9276,2,  33.9244,2,    324.0,2,    323.8,2,    34.77,2,     0.43,2,    25.84,2,     0.29,2,     1.77,2,    5.440,2,    2.742,2,    0.384,2,   4.6810,2,   2176.5,3,   2294.6,2,   7.6761,2,    24.99,     -999,1,   1.2389,2,     -999,9,     -999,     -999,9,     -999,9,     -999,9,     -999,9,     -999,9,     -999,1,   0.1183,1,   4.3663,1,     14.2,2,     -999,9,20240310,0010, -60.2491,  81.9982,     -999,9,     -999,9,-999          ,9,-999          ,9,-999          ,9
325020240221  ,I08        ,20      ,  1,25         ,25         ,2,20240309,2253, -60.2491,  81.9974,     1748,     84.1,   0.7215,  34.2055,2,  34.1991,2,    262.7,2,    262.9,2,    59.56,2,     0.84,2,    30.33,2,     0.31,2,     2.18,2,    3.527,2,    1.906,2,    0.320,2,   2.8960,2,   2217.3,3,   2308.1,2,   7.5847,2,    25.01,     -999,1,   0.7198,2,     -999,9,     -999,     -999,9,     -999,9,     -999,9,     -999,9,     -999,9,     -999,1,   0.0799,1,   4.4724,1,     18.6,2,     -999,9,20240310,0008, -60.2490,  81.9982,     -999,9,     -999,9,-999          ,9,-999          ,9,-999          ,9
325020240221  ,I08        ,20      ,  1,24         ,24         ,2,20240309,2253, -60.2491,  81.9974,     1748,    109.7,   1.2961,  34.5074,2,  34.5080,2,    189.5,2,    188.9,2,    78.68,2,     0.02,2,    34.02,2,     0.04,2,     2.29,2,    1.761,2,    0.850,2,    0.132,2,   0.9650,2,   2253.9,3,   2326.5,2,   7.5280,2,    24.97,     -999,1,   1.3036,2,     -999,9,     -999,     -999,9,     -999,9,     -999,9,     -999,9,     -999,9,     -999,1,   0.0224,1,   4.6016,1,     22.6,2,     -999,9,20240310,0005, -60.2490,  81.9983,     -999,9,     -999,9,-999          ,9,-999          ,9,-999          ,9
325020240221  ,I08        ,20      ,  1,23         ,37         ,2,20240309,2253, -60.2491,  81.9974,     1748,    137.6,   1.6811,  34.5890,2,  34.5830,2,    174.6,2,    175.5,2,    82.48,2,     0.00,2,    33.99,2,     0.02,2,     2.34,2,    1.219,2,    0.571,2,    0.082,2,   0.6760,2,   2260.4,3,   2333.0,2,   7.5280,2,    24.98,     -999,1,   1.6817,2,     -999,9,     -999,     -999,9,     -999,9,     -999,9,     -999,9,     -999,9,     -999,1,   0.0208,1,   4.6092,1,     23.2,2,     -999,9,20240310,0002, -60.2490,  81.9983,     -999,9,     -999,9,-999          ,9,-999          ,9,-999          ,9
325020240221  ,I08        ,20      ,  1,22         ,22         ,2,20240309,2253, -60.2491,  81.9974,     1748,    159.5,   1.8173,  34.6138,2,  34.6099,2,    170.9,2,    171.0,2,    83.75,2,     0.02,2,    33.94,2,     0.02,2,     2.32,2,    0.941,2,    0.468,2,    0.068,2,   0.5180,2,   2259.4,3,   2335.7,2,   7.5312,2,    24.97,     -999,1,   1.8167,2,     -999,9,     -999,     -999,9,     -999,9,     -999,9,     -999,9,     -999,9,     -999,1,   0.0201,1,   4.6081,1,     23.6,2,     -999,9,20240309,2359, -60.2490,  81.9982,     -999,9,     -999,9,-999          ,9,-999          ,9,-999          ,9
325020240221  ,I08        ,20      ,  1,21         ,21         ,2,20240309,2253, -60.2491,  81.9974,     1748,    185.1,   1.8490,  34.6338,2,  34.6325,2,    171.2,2,    171.3,2,    84.73,2,     0.02,2,    33.76,2,     0.02,2,     2.30,2,    0.842,2,    0.411,2,    0.056,2,   0.4330,2,   2262.0,3,   2336.1,2,   7.5384,2,    24.98,     -999,1,   1.8485,2,     -999,9,     -999,     -999,9,     -999,9,     -999,9,     -999,9,     -999,9,     -999,1,   0.0202,1,   4.6109,1,     23.7,2,     -999,9,20240309,2357, -60.2491,  81.9983,     -999,9,     -999,9,-999          ,9,-999          ,9,-999          ,9
325020240221  ,I08        ,20      ,  1,20         ,20         ,2,20240309,2253, -60.2491,  81.9974,     1748,    211.7,   1.8696,  34.6522,2,  34.6498,2,    171.5,2,    171.4,2,    85.41,2,     0.00,2,    33.51,2,     0.00,2,     2.29,2,    0.751,2,    0.372,2,    0.047,2,   0.3010,2,   2253.1,3,   2340.7,2,   7.5417,6,    25.02,     -999,1,   1.8692,2,     -999,9,     -999,     -999,9,     -999,9,     -999,9,     -999,9,     -999,9,     -999,1,   0.0195,1,   4.6127,1,     24.1,2,     -999,9,20240309,2353, -60.2491,  81.9983,     -999,9,     -999,9,-999          ,9,-999          ,9,-999          ,9
325020240221  ,I08        ,20      ,  1,19         ,19         ,2,20240309,2253, -60.2491,  81.9974,     1748,    238.5,   1.9077,  34.6696,2,     -999,9,    171.4,2,     -999,9,     -999,9,     -999,9,     -999,9,     -999,9,     -999,9,     -999,9,     -999,9,     -999,9,     -999,9,     -999,9,     -999,9,     -999,9,     -999,     -999,9,   1.9075,2,     -999,9,     -999,     -999,9,     -999,9,     -999,9,     -999,9,     -999,9,     -999,9,   0.0195,1,   4.6074,1,     -999,9,     -999,9,20240309,2351, -60.2491,  81.9983,     -999,9,     -999,9,-999          ,9,-999          ,9,-999          ,9
325020240221  ,I08        ,20      ,  1,18         ,18         ,2,20240309,2253, -60.2491,  81.9974,     1748,    272.1,   1.9433,  34.6877,2,  34.6848,2,    172.2,2,    171.7,2,    86.58,2,     0.00,2,    32.98,2,     0.00,2,     2.24,2,    0.571,2,    0.265,2,    0.030,2,   0.3220,2,   2261.6,3,   2341.3,6,   7.5545,2,    24.98,     -999,1,   1.9432,2,     -999,9,     -999,     -999,9,     -999,9,     -999,9,     -999,9,     -999,9,     -999,1,   0.0195,1,   4.6122,1,     24.2,2,     -999,9,20240309,2348, -60.2490,  81.9983,     -999,9,     -999,9,-999          ,9,-999          ,9,-999          ,9
325020240221  ,I08        ,20      ,  1,17         ,17         ,2,20240309,2253, -60.2491,  81.9974,     1748,    323.4,   1.9029,  34.7021,2,  34.6999,2,    172.9,2,    172.7,2,    88.23,2,     0.02,2,    32.73,2,     0.00,2,     2.24,2,    0.488,2,    0.230,2,    0.027,2,   0.0140,2,   2261.8,3,   2344.4,2,   7.5576,2,    24.99,     -999,1,   1.9025,2,     -999,9,     -999,     -999,9,     -999,9,     -999,9,     -999,9,     -999,9,     -999,1,   0.0192,1,   4.6263,1,     24.2,2,     -999,9,20240309,2345, -60.2490,  81.9983,     -999,9,     -999,9,-999          ,9,-999          ,9,-999          ,9
325020240221  ,I08        ,20      ,  1,16         ,16         ,2,20240309,2253, -60.2491,  81.9974,     1748,    373.6,   1.9016,  34.7170,2,  34.7144,2,    177.8,2,    177.8,2,    87.84,2,     0.00,2,    32.15,2,     0.00,2,     2.19,2,    0.422,2,    0.198,2,    0.016,2,   0.0680,2,   2258.4,3,   2342.1,2,   7.5705,2,    25.01,     -999,1,   1.9020,2,     -999,9,     -999,     -999,9,     -999,9,     -999,9,     -999,9,     -999,9,     -999,1,   0.0189,1,   4.6318,1,     18.3,4,     -999,9,20240309,2343, -60.2491,  81.9983,     -999,9,     -999,9,-999          ,9,-999          ,9,-999          ,9
325020240221  ,I08        ,20      ,  1,15         ,15         ,2,20240309,2253, -60.2491,  81.9974,     1748,    424.3,   1.8664,  34.7242,2,  34.7219,2,    179.8,2,    179.9,2,    88.53,2,     0.00,2,    31.93,2,     0.00,2,     2.18,2,    0.403,2,    0.188,2,    0.018,2,   0.1030,2,   2251.7,3,   2350.2,2,   7.5757,2,    24.99,     -999,1,   1.8657,2,     -999,9,     -999,     -999,9,     -999,9,     -999,9,     -999,9,     -999,9,     -999,1,   0.0182,1,   4.6313,1,     25.2,2,     -999,9,20240309,2340, -60.2490,  81.9982,     -999,9,     -999,9,-999          ,9,-999          ,9,-999          ,9
325020240221  ,I08        ,20      ,  1,14         ,14         ,2,20240309,2253, -60.2491,  81.9974,     1748,    474.1,   1.8415,  34.7284,2,  34.7272,2,    181.7,2,    181.8,2,    89.01,2,     0.00,2,    31.88,2,     0.00,2,     2.16,2,    0.388,2,    0.179,2,    0.016,2,   0.0920,2,   2252.9,3,   2347.7,2,   7.5799,2,    24.97,     -999,1,   1.8412,2,     -999,9,     -999,     -999,9,     -999,9,     -999,9,     -999,9,     -999,9,     -999,1,   0.0189,1,   4.6312,1,     25.5,2,     -999,9,20240309,2338, -60.2490,  81.9982,     -999,9,     -999,9,-999          ,9,-999          ,9,-999          ,9
325020240221  ,I08        ,20      ,  1,31         ,31         ,2,20240309,2253, -60.2491,  81.9974,     1748,    541.7,   1.8011,  34.7360,2,  34.7343,2,    186.0,2,    186.3,2,    88.82,2,     0.00,2,    31.33,2,     0.00,2,     2.12,2,    0.347,2,    0.164,2,    0.015,2,   0.0180,2,   2254.9,3,   2347.1,2,   7.5900,2,    24.99,     -999,1,   1.8013,2,     -999,9,     -999,     -999,9,     -999,9,     -999,9,     -999,9,     -999,9,     -999,1,   0.0183,1,   4.6300,1,     25.8,2,     -999,9,20240309,2333, -60.2490,  81.9982,     -999,9,     -999,9,-999          ,9,-999          ,9,-999          ,9
325020240221  ,I08        ,20      ,  1,13         ,13         ,2,20240309,2253, -60.2491,  81.9974,     1748,    634.1,   1.7143,  34.7407,2,     -999,9,    189.8,2,     -999,9,     -999,9,     -999,9,     -999,9,     -999,9,     -999,9,     -999,9,     -999,9,     -999,9,     -999,9,     -999,9,     -999,9,     -999,9,     -999,     -999,9,   1.7168,2,     -999,9,     -999,     -999,9,     -999,9,     -999,9,     -999,9,     -999,9,     -999,9,   0.0183,1,   4.6288,1,     -999,9,     -999,9,20240309,2330, -60.2491,  81.9982,     -999,9,     -999,9,-999          ,9,-999          ,9,-999          ,9
325020240221  ,I08        ,20      ,  1,12         ,12         ,2,20240309,2253, -60.2491,  81.9974,     1748,    643.1,   1.7101,  34.7408,2,  34.7404,2,    190.0,2,    190.2,2,    90.48,2,     0.00,2,    30.95,2,     0.00,2,     2.11,2,    0.328,2,    0.155,2,    0.014,2,   0.0210,2,     -999,9,     -999,9,     -999,9,     -999,     -999,1,   1.7102,2,     -999,9,     -999,     -999,9,     -999,9,     -999,9,     -999,9,     -999,9,     -999,1,   0.0183,1,   4.6287,1,     26.1,2,     -999,9,20240309,2329, -60.2490,  81.9982,     -999,9,     -999,9,-999          ,9,-999          ,9,-999          ,9
325020240221  ,I08        ,20      ,  1,11         ,11         ,2,20240309,2253, -60.2491,  81.9974,     1748,    741.6,   1.6202,  34.7434,2,  34.7423,2,    193.9,2,    193.8,2,    91.84,2,     0.00,2,    30.68,2,     0.00,2,     2.07,2,    0.314,2,    0.151,2,    0.013,2,   0.0210,2,   2249.5,3,   2348.6,2,   7.6019,2,    25.00,     -999,1,   1.6218,2,     -999,9,     -999,     -999,9,     -999,9,     -999,9,     -999,9,     -999,9,     -999,1,   0.0183,1,   4.6276,1,     26.5,2,     -999,9,20240309,2326, -60.2490,  81.9981,     -999,9,     -999,9,-999          ,9,-999          ,9,-999          ,9
325020240221  ,I08        ,20      ,  1,10         ,10         ,2,20240309,2253, -60.2491,  81.9974,     1748,    843.8,   1.5330,  34.7427,2,  34.7419,2,    196.3,2,    196.2,2,    93.80,2,     0.00,2,    30.51,2,     0.00,2,     2.07,2,    0.313,2,    0.146,2,    0.013,2,   0.0210,2,     -999,9,     -999,9,     -999,9,     -999,     -999,1,   1.5329,2,     -999,9,     -999,     -999,9,     -999,9,     -999,9,     -999,9,     -999,9,     -999,1,   0.0182,1,   4.6263,1,     27.0,2,     -999,9,20240309,2323, -60.2490,  81.9981,     -999,9,     -999,9,-999          ,9,-999          ,9,-999          ,9
325020240221  ,I08        ,20      ,  1,9          ,9          ,2,20240309,2253, -60.2491,  81.9974,     1748,    945.6,   1.4261,  34.7417,2,  34.7423,2,    199.3,2,    199.2,2,    96.24,2,     0.00,2,    30.32,2,     0.00,2,     2.07,2,    0.309,2,    0.138,2,    0.013,2,   0.0480,2,   2249.2,3,   2351.6,2,   7.6092,6,    24.99,     -999,1,   1.4280,2,     -999,9,     -999,     -999,9,     -999,9,     -999,9,     -999,9,     -999,9,     -999,1,   0.0188,1,   4.6251,1,     27.5,2,     -999,9,20240309,2320, -60.2491,  81.9982,     -999,9,     -999,9,-999          ,9,-999          ,9,-999          ,9
325020240221  ,I08        ,20      ,  1,8          ,8          ,2,20240309,2253, -60.2491,  81.9974,     1748,   1048.1,   1.3340,  34.7380,2,  34.7368,2,    200.6,2,    200.9,2,    99.16,2,     0.03,2,    30.36,2,     0.00,2,     2.08,2,    0.315,2,    0.142,2,    0.011,2,   0.0160,2,     -999,9,     -999,9,     -999,9,     -999,     -999,1,   1.3338,2,     -999,9,     -999,     -999,9,     -999,9,     -999,9,     -999,9,     -999,9,     -999,1,   0.0183,1,   4.6237,1,     27.6,2,     -999,9,20240309,2317, -60.2491,  81.9983,     -999,9,     -999,9,-999          ,9,-999          ,9,-999          ,9
325020240221  ,I08        ,20      ,  1,7          ,7          ,2,20240309,2253, -60.2491,  81.9974,     1748,   1148.5,   1.2298,  34.7321,2,  34.7305,2,    200.7,2,    200.5,2,   103.75,2,     0.02,2,    30.59,2,     0.00,2,     2.11,2,    0.322,2,    0.145,2,    0.012,2,   0.0080,2,   2250.1,3,   2353.2,2,   7.6054,2,    24.97,     -999,1,   1.2297,2,     -999,9,     -999,     -999,9,     -999,9,     -999,9,     -999,9,     -999,9,     -999,1,   0.0176,1,   4.6227,1,     27.9,2,     -999,9,20240309,2314, -60.2491,  81.9982,     -999,9,     -999,9,-999          ,9,-999          ,9,-999          ,9
325020240221  ,I08        ,20      ,  1,6          ,6          ,2,20240309,2253, -60.2491,  81.9974,     1748,   1250.2,   1.1484,  34.7281,2,  34.7264,2,    201.8,2,    201.7,2,   106.48,2,     0.00,2,    30.65,2,     0.00,2,     2.13,2,    0.340,2,    0.152,2,    0.014,2,   0.0440,2,     -999,9,     -999,9,     -999,9,     -999,     -999,1,   1.1477,2,     -999,9,     -999,     -999,9,     -999,9,     -999,9,     -999,9,     -999,9,     -999,1,   0.0183,1,   4.6217,1,     28.4,2,     -999,9,20240309,2311, -60.2490,  81.9982,     -999,9,     -999,9,-999          ,9,-999          ,9,-999          ,9
325020240221  ,I08        ,20      ,  1,5          ,5          ,2,20240309,2253, -60.2491,  81.9974,     1748,   1349.1,   1.0678,  34.7239,2,  34.7225,2,    202.4,2,    202.5,2,   109.41,2,     0.00,2,    30.82,2,     0.00,2,     2.14,2,    0.344,2,    0.152,2,    0.013,2,   0.0020,2,   2255.7,3,   2354.4,2,   7.6029,2,    24.99,     -999,1,   1.0682,2,     -999,9,     -999,     -999,9,     -999,9,     -999,9,     -999,9,     -999,9,     -999,1,   0.0183,1,   4.6214,1,     28.8,2,     -999,9,20240309,2308, -60.2490,  81.9982,     -999,9,     -999,9,-999          ,9,-999          ,9,-999          ,9
325020240221  ,I08        ,20      ,  1,4          ,4          ,2,20240309,2253, -60.2491,  81.9974,     1748,   1453.2,   1.0170,  34.7208,2,  34.7199,2,    201.9,2,    201.8,2,   114.00,2,     0.00,2,    31.15,2,     0.00,2,     2.16,2,    0.355,2,    0.154,2,    0.013,2,  -0.0050,2,   2258.0,3,   2355.5,2,   7.6000,2,    24.99,     -999,1,   1.0172,2,     -999,9,     -999,     -999,9,     -999,9,     -999,9,     -999,9,     -999,9,     -999,1,   0.0183,1,   4.6203,1,     29.3,2,     -999,9,20240309,2305, -60.2490,  81.9982,     -999,9,     -999,9,-999          ,9,-999          ,9,-999          ,9
325020240221  ,I08        ,20      ,  1,3          ,3          ,2,20240309,2253, -60.2491,  81.9974,     1748,   1556.9,   0.9507,  34.7173,2,  34.7154,2,    201.8,2,    202.2,2,   118.98,2,     0.00,2,    31.46,2,     0.00,2,     2.18,2,    0.365,2,    0.160,2,    0.013,2,   0.0320,2,   2258.4,3,   2355.2,2,   7.5981,6,    24.97,     -999,1,   0.9513,2,     -999,9,     -999,     -999,9,     -999,9,     -999,9,     -999,9,     -999,9,     -999,1,   0.0183,1,   4.6202,1,     29.9,2,     -999,9,20240309,2302, -60.2490,  81.9982,     -999,9,     -999,9,-999          ,9,-999          ,9,-999          ,9
325020240221  ,I08        ,20      ,  1,2          ,2          ,2,20240309,2253, -60.2491,  81.9974,     1748,   1656.1,   0.8945,  34.7137,2,  34.7127,2,    202.3,2,    202.1,2,   121.52,2,     0.00,2,    31.70,2,     0.00,2,     2.20,2,    0.366,2,    0.161,2,    0.013,2,   0.0550,2,   2262.6,3,   2357.0,6,   7.5972,6,    24.97,     -999,1,   0.8951,2,     -999,9,     -999,     -999,9,     -999,9,     -999,9,     -999,9,     -999,9,     -999,1,   0.0183,1,   4.6202,1,     30.4,2,     -999,9,20240309,2257, -60.2491,  81.9983,     -999,9,     -999,9,-999          ,9,-999          ,9,-999          ,9
325020240221  ,I08        ,20      ,  1,1          ,1          ,2,20240309,2253, -60.2491,  81.9974,     1748,   1763.5,   0.8283,  34.7102,2,  34.7091,2,    202.4,2,    202.4,2,   128.45,2,     0.00,2,    32.00,2,     0.00,2,     2.22,2,    0.357,2,    0.162,2,    0.012,2,   0.0320,2,   2260.5,3,   2357.9,2,   7.5949,2,    24.99,     -999,1,   0.8279,2,     -999,9,     -999,     -999,9,     -999,9,     -999,9,     -999,9,     -999,9,     -999,1,   0.0183,1,   4.6216,1,     16.9,2,     -999,9,20240309,2253, -60.2490,  81.9982,     -999,9,     -999,9,-999          ,9,-999          ,9,-999          ,9