BOTTLE,20240417CCHHYDRO
EXPOCODE,SECT_ID,STNNBR,CASTNO,SAMPNO,BTLNBR,BTLNBR_FLAG_W,DATE,TIME,LATITUDE,LONGITUDE,DEPTH,CTDPRS,CTDTMP,CTDSAL,CTDSAL_FLAG_W,SALNTY,SALNTY_FLAG_W,CTDOXY,CTDOXY_FLAG_W,OXYGEN,OXYGEN_FLAG_W,SILCAT,SILCAT_FLAG_W,NH4,NH4_FLAG_W,NITRAT,NITRAT_FLAG_W,NITRIT,NITRIT_FLAG_W,PHSPHT,PHSPHT_FLAG_W,CFC-11,CFC-11_FLAG_W,CFC-12,CFC-12_FLAG_W,CFC113,CFC113_FLAG_W,SF6,SF6_FLAG_W,TCARBN,TCARBN_FLAG_W,ALKALI,ALKALI_FLAG_W,PH_TOT,PH_TOT_FLAG_W,PH_TMP,DOC,DOC_FLAG_W,REFTMP,REFTMP_FLAG_W,DELC14,DELC14_FLAG_W,C14ERR,POC,POC_FLAG_W,PON,PON_FLAG_W,POP,POP_FLAG_W,PCOD,PCOD_FLAG_W,DOP,DOP_FLAG_W,TDN,TDN_FLAG_W,CTDFLUOR,CTDFLUOR_FLAG_W,CTDXMISS,CTDXMISS_FLAG_W,N2O,N2O_FLAG_W,ARGON,ARGON_FLAG_W,BTL_DATE,BTL_TIME,BTL_LAT,BTL_LON,KRYPTON,KRYPTON_FLAG_W,XENON,XENON_FLAG_W,HPLC,HPLC_FLAG_W,DNA,DNA_FLAG_W,FCM,FCM_FLAG_W
,,,,,,,,,,,METERS,DBAR,ITS-90,PSS-78,,PSS-78,,UMOL/KG,,UMOL/KG,,UMOL/KG,,UMOL/KG,,UMOL/KG,,UMOL/KG,,UMOL/KG,,PMOL/KG,,PMOL/KG,,PMOL/KG,,FMOL/KG,,UMOL/KG,,UMOL/KG,,,,DEG C,UMOL/KG,,ITS-90,,/MILLE,,/MILLE,UG/KG,,UG/KG,,UG/L,,UG/L,,UMOL/KG,,UMOL/KG,,VOLTS,,VOLTS,,NMOL/KG,,UMOL/L,,,,,,NMOL/L,,NMOL/L,,,,,,,
325020240221  ,I08        ,12      ,  1,5          ,5          ,2,20240306,1525, -64.0457,  81.0745,     3652,   2780.7,   0.2221,  34.6761,2,  34.6777,2,    219.3,2,    219.4,2,   127.01,2,     0.00,2,    32.28,2,     0.00,2,     2.24,2,    0.770,2,    0.362,2,    0.028,2,   0.2090,2,     -999,9,     -999,9,     -999,9,     -999,     -999,1,   0.2215,2,     -999,1,     -999,     -999,9,     -999,9,     -999,9,     -999,9,     -999,9,     -999,1,   0.0183,1,   4.6093,1,     12.9,2,     -999,9,20240306,1548, -64.0457,  81.0745,     -999,9,     -999,9,-999          ,9,-999          ,9,-999          ,9
325020240221  ,I08        ,12      ,  1,4          ,4          ,2,20240306,1525, -64.0457,  81.0745,     3652,   2984.7,   0.1490,  34.6724,2,  34.6737,2,    221.4,2,    221.4,2,   128.76,2,     0.00,2,    32.14,2,     0.00,2,     2.25,2,    0.758,2,    0.345,2,    0.031,2,   0.2050,2,   2256.7,3,   2354.8,2,   7.5940,2,    24.98,     -999,1,   0.1484,2,     -999,1,     -999,     -999,9,     -999,9,     -999,9,     -999,9,     -999,9,     -999,1,   0.0183,1,   4.6085,1,     12.6,2,     -999,9,20240306,1543, -64.0458,  81.0745,     -999,9,     -999,9,-999          ,9,-999          ,9,-999          ,9
325020240221  ,I08        ,12      ,  1,3          ,3          ,2,20240306,1525, -64.0457,  81.0745,     3652,   3256.0,   0.0604,  34.6683,2,  34.6692,2,    225.0,2,    225.3,2,   131.40,2,     0.00,2,    32.02,2,     0.00,2,     2.26,2,    0.767,2,    0.369,2,    0.030,2,   0.2030,2,   2257.1,3,   2355.7,2,   7.5947,6,    25.10,     -999,1,   0.0599,2,     -999,1,     -999,     -999,9,     -999,9,     -999,9,     -999,9,     -999,9,     -999,1,   0.0183,1,   4.6088,1,     12.6,2,     -999,9,20240306,1536, -64.0458,  81.0745,     -999,9,     -999,9,-999          ,9,-999          ,9,-999          ,9
325020240221  ,I08        ,12      ,  1,2          ,2          ,2,20240306,1525, -64.0457,  81.0745,     3652,   3486.4,  -0.0112,  34.6643,3,  34.6675,2,    228.4,2,    228.1,2,   131.99,2,     0.00,2,    31.92,2,     0.00,2,     2.26,2,    1.052,2,    0.461,2,    0.048,2,   0.2010,2,   2258.2,3,   2356.4,6,   7.5954,6,    25.08,     -999,1,  -0.0120,2,     -999,1,     -999,     -999,9,     -999,9,     -999,9,     -999,9,     -999,9,     -999,1,   0.0179,1,   4.6088,1,     12.4,2,     -999,9,20240306,1531, -64.0457,  81.0745,     -999,9,     -999,9,-999          ,9,-999          ,9,-999          ,9
325020240221  ,I08        ,12      ,  1,1          ,1          ,2,20240306,1525, -64.0457,  81.0745,     3652,   3712.0,  -0.1215,  34.6596,2,  34.6602,2,    230.5,2,    230.7,2,   146.83,2,     0.00,2,    32.30,2,     0.00,2,     2.28,2,    0.873,2,    0.399,2,    0.042,2,   0.2350,2,   2258.4,3,   2356.9,2,   7.5946,2,    25.05,     -999,1,  -0.1221,2,     -999,1,     -999,     -999,9,     -999,9,     -999,9,     -999,9,     -999,9,     -999,1,   0.0182,1,   4.6104,1,      8.3,4,     -999,9,20240306,1525, -64.0458,  81.0745,     -999,9,     -999,9,-999          ,9,-999          ,9,-999          ,9