BOTTLE,20240417CCHHYDRO
EXPOCODE,SECT_ID,STNNBR,CASTNO,SAMPNO,BTLNBR,BTLNBR_FLAG_W,DATE,TIME,LATITUDE,LONGITUDE,DEPTH,CTDPRS,CTDTMP,CTDSAL,CTDSAL_FLAG_W,SALNTY,SALNTY_FLAG_W,CTDOXY,CTDOXY_FLAG_W,OXYGEN,OXYGEN_FLAG_W,SILCAT,SILCAT_FLAG_W,NH4,NH4_FLAG_W,NITRAT,NITRAT_FLAG_W,NITRIT,NITRIT_FLAG_W,PHSPHT,PHSPHT_FLAG_W,CFC-11,CFC-11_FLAG_W,CFC-12,CFC-12_FLAG_W,CFC113,CFC113_FLAG_W,SF6,SF6_FLAG_W,TCARBN,TCARBN_FLAG_W,ALKALI,ALKALI_FLAG_W,PH_TOT,PH_TOT_FLAG_W,PH_TMP,DOC,DOC_FLAG_W,REFTMP,REFTMP_FLAG_W,DELC14,DELC14_FLAG_W,C14ERR,POC,POC_FLAG_W,PON,PON_FLAG_W,POP,POP_FLAG_W,PCOD,PCOD_FLAG_W,DOP,DOP_FLAG_W,TDN,TDN_FLAG_W,CTDFLUOR,CTDFLUOR_FLAG_W,CTDXMISS,CTDXMISS_FLAG_W,N2O,N2O_FLAG_W,ARGON,ARGON_FLAG_W,BTL_DATE,BTL_TIME,BTL_LAT,BTL_LON,KRYPTON,KRYPTON_FLAG_W,XENON,XENON_FLAG_W,HPLC,HPLC_FLAG_W,DNA,DNA_FLAG_W,FCM,FCM_FLAG_W
,,,,,,,,,,,METERS,DBAR,ITS-90,PSS-78,,PSS-78,,UMOL/KG,,UMOL/KG,,UMOL/KG,,UMOL/KG,,UMOL/KG,,UMOL/KG,,UMOL/KG,,PMOL/KG,,PMOL/KG,,PMOL/KG,,FMOL/KG,,UMOL/KG,,UMOL/KG,,,,DEG C,UMOL/KG,,ITS-90,,/MILLE,,/MILLE,UG/KG,,UG/KG,,UG/L,,UG/L,,UMOL/KG,,UMOL/KG,,VOLTS,,VOLTS,,NMOL/KG,,UMOL/L,,,,,,NMOL/L,,NMOL/L,,,,,,,
325020240221  ,I08        ,39      ,  1,5          ,5          ,2,20240319,1403, -47.1446,  93.1625,     3296,   2571.5,   1.7092,  34.7463,2,  34.7463,2,    199.3,2,    199.2,2,    94.58,2,     0.00,2,    29.94,2,     0.00,2,     2.10,2,    0.055,4,    0.071,2,    0.020,4,   0.0000,2,   2251.3,3,   2355.3,2,   7.6198,2,    25.02,     -999,9,   1.7096,2,     -999,9,     -999,     -999,9,     -999,9,     -999,9,     -999,9,     -999,9,     -999,9,   0.0202,1,   4.6442,1,     16.9,2,     -999,9,20240319,1430, -47.1445,  93.1624,     -999,9,     -999,9,-999          ,9,-999          ,9,-999          ,9
325020240221  ,I08        ,39      ,  1,4          ,4          ,2,20240319,1403, -47.1446,  93.1625,     3296,   2776.1,   1.4962,  34.7376,2,  34.7374,2,    201.2,2,    201.6,2,   102.00,2,     0.00,2,    30.37,2,     0.00,2,     2.15,2,    0.082,4,    0.086,2,    0.030,4,   0.0000,2,   2255.9,3,   2358.6,2,   7.6159,2,    25.00,     -999,9,   1.4958,2,     -999,9,     -999,     -999,9,     -999,9,     -999,9,     -999,9,     -999,9,     -999,9,   0.0184,1,   4.6411,1,     17.1,2,     -999,9,20240319,1422, -47.1444,  93.1626,     -999,9,     -999,9,-999          ,9,-999          ,9,-999          ,9
325020240221  ,I08        ,39      ,  1,3          ,3          ,2,20240319,1403, -47.1446,  93.1625,     3296,   2980.3,   1.2707,  34.7270,2,  34.7272,2,    203.9,2,    204.4,2,   109.03,2,     0.02,2,    30.84,2,     0.00,2,     2.17,2,    0.115,4,    0.104,2,    0.046,4,   0.0000,2,     -999,9,     -999,9,     -999,9,     -999,     -999,9,   1.2708,2,     -999,9,     -999,     -999,9,     -999,9,     -999,9,     -999,9,     -999,9,     -999,9,   0.0188,1,   4.6386,1,     16.5,2,     -999,9,20240319,1415, -47.1446,  93.1625,     -999,9,     -999,9,-999          ,9,-999          ,9,-999          ,9
325020240221  ,I08        ,39      ,  1,2          ,2          ,2,20240319,1403, -47.1446,  93.1625,     3296,   3200.8,   1.0708,  34.7165,2,  34.7164,2,    206.5,2,    206.3,2,   115.08,2,     0.00,2,    31.25,2,     0.00,2,     2.20,2,    0.201,2,    0.152,2,    0.094,4,   0.0000,2,   2252.3,3,   2361.1,2,   7.6093,2,    25.01,     -999,9,   1.0713,2,     -999,9,     -999,     -999,9,     -999,9,     -999,9,     -999,9,     -999,9,     -999,9,   0.0178,1,   4.6386,1,     16.1,2,     -999,9,20240319,1408, -47.1446,  93.1627,     -999,9,     -999,9,-999          ,9,-999          ,9,-999          ,9
325020240221  ,I08        ,39      ,  1,1          ,1          ,2,20240319,1403, -47.1446,  93.1625,     3296,   3340.3,   1.0473,  34.7146,2,  34.7152,2,    207.1,2,    206.9,2,   116.55,2,     0.00,2,    31.42,2,     0.00,2,     2.21,2,    0.224,2,    0.163,2,    0.149,4,   0.0000,2,   2261.9,3,   2360.6,2,   7.6081,2,    25.02,     -999,9,   1.0474,2,     -999,9,     -999,     -999,9,     -999,9,     -999,9,     -999,9,     -999,9,     -999,9,   0.0183,1,   4.6392,1,      8.5,2,     -999,9,20240319,1403, -47.1446,  93.1626,     -999,9,     -999,9,-999          ,9,-999          ,9,-999          ,9