BOTTLE,20240417CCHHYDRO
EXPOCODE,SECT_ID,STNNBR,CASTNO,SAMPNO,BTLNBR,BTLNBR_FLAG_W,DATE,TIME,LATITUDE,LONGITUDE,DEPTH,CTDPRS,CTDTMP,CTDSAL,CTDSAL_FLAG_W,SALNTY,SALNTY_FLAG_W,CTDOXY,CTDOXY_FLAG_W,OXYGEN,OXYGEN_FLAG_W,SILCAT,SILCAT_FLAG_W,NH4,NH4_FLAG_W,NITRAT,NITRAT_FLAG_W,NITRIT,NITRIT_FLAG_W,PHSPHT,PHSPHT_FLAG_W,CFC-11,CFC-11_FLAG_W,CFC-12,CFC-12_FLAG_W,CFC113,CFC113_FLAG_W,SF6,SF6_FLAG_W,TCARBN,TCARBN_FLAG_W,ALKALI,ALKALI_FLAG_W,PH_TOT,PH_TOT_FLAG_W,PH_TMP,DOC,DOC_FLAG_W,REFTMP,REFTMP_FLAG_W,DELC14,DELC14_FLAG_W,C14ERR,POC,POC_FLAG_W,PON,PON_FLAG_W,POP,POP_FLAG_W,PCOD,PCOD_FLAG_W,DOP,DOP_FLAG_W,TDN,TDN_FLAG_W,CTDFLUOR,CTDFLUOR_FLAG_W,CTDXMISS,CTDXMISS_FLAG_W,N2O,N2O_FLAG_W,ARGON,ARGON_FLAG_W,BTL_DATE,BTL_TIME,BTL_LAT,BTL_LON,KRYPTON,KRYPTON_FLAG_W,XENON,XENON_FLAG_W,HPLC,HPLC_FLAG_W,DNA,DNA_FLAG_W,FCM,FCM_FLAG_W
,,,,,,,,,,,METERS,DBAR,ITS-90,PSS-78,,PSS-78,,UMOL/KG,,UMOL/KG,,UMOL/KG,,UMOL/KG,,UMOL/KG,,UMOL/KG,,UMOL/KG,,PMOL/KG,,PMOL/KG,,PMOL/KG,,FMOL/KG,,UMOL/KG,,UMOL/KG,,,,DEG C,UMOL/KG,,ITS-90,,/MILLE,,/MILLE,UG/KG,,UG/KG,,UG/L,,UG/L,,UMOL/KG,,UMOL/KG,,VOLTS,,VOLTS,,NMOL/KG,,UMOL/L,,,,,,NMOL/L,,NMOL/L,,,,,,,
325020240221  ,I08        ,14      ,  1,36         ,36         ,2,20240307,0320, -63.2618,  82.0144,     2943,      3.6,   0.7387,  33.7529,2,  33.7521,2,    325.3,3,    331.8,2,    17.78,2,     0.14,2,    23.02,2,     0.23,2,     1.56,2,     -999,9,     -999,9,     -999,9,     -999,9,   2153.8,3,   2285.6,2,   7.7084,2,    24.97,     -999,1,   0.7397,2,     -999,9,     -999,     -999,9,     -999,9,     -999,9,     -999,9,     -999,9,     -999,1,   0.0446,1,   4.2468,1,     -999,9,     -999,9,20240307,0506, -63.2618,  82.0144,     -999,9,     -999,9,-999          ,9,-999          ,9,-999          ,9
325020240221  ,I08        ,14      ,  1,35         ,35         ,2,20240307,0320, -63.2618,  82.0144,     2943,     35.2,   0.7263,  33.7539,2,  33.7552,2,    325.1,3,    329.8,2,    17.98,2,     0.16,2,    23.11,2,     0.23,2,     1.56,2,     -999,9,     -999,9,     -999,9,     -999,9,   2160.0,3,   2287.9,2,   7.7080,2,    24.98,     -999,1,   0.7257,2,     -999,9,     -999,     -999,9,     -999,9,     -999,9,     -999,9,     -999,9,     -999,1,   0.2053,1,   4.2291,1,     -999,9,     -999,9,20240307,0502, -63.2618,  82.0144,     -999,9,     -999,9,-999          ,9,-999          ,9,-999          ,9
325020240221  ,I08        ,14      ,  1,34         ,34         ,2,20240307,0320, -63.2618,  82.0144,     2943,     60.7,   0.6799,  33.7602,2,  33.8008,3,    323.8,2,    325.0,2,    23.06,2,     0.35,2,    24.20,2,     0.22,2,     1.69,2,     -999,9,     -999,9,     -999,9,     -999,9,   2166.2,3,   2287.4,2,   7.6871,2,    24.98,     -999,1,   0.6887,2,     -999,9,     -999,     -999,9,     -999,9,     -999,9,     -999,9,     -999,9,     -999,1,   0.2185,1,   4.2131,1,     -999,9,     -999,9,20240307,0500, -63.2618,  82.0143,     -999,9,     -999,9,-999          ,9,-999          ,9,-999          ,9
325020240221  ,I08        ,14      ,  1,33         ,33         ,2,20240307,0320, -63.2618,  82.0144,     2943,     84.9,   0.0862,  34.1635,2,  34.1615,2,    260.0,2,    260.4,2,    53.82,2,     0.11,2,    31.99,2,     0.11,2,     2.25,2,     -999,9,     -999,9,     -999,9,     -999,9,   2223.6,3,   2302.5,2,   7.5662,2,    24.98,     -999,1,   0.0735,2,     -999,9,     -999,     -999,9,     -999,9,     -999,9,     -999,9,     -999,9,     -999,1,   0.0239,1,   4.6039,1,     -999,9,     -999,9,20240307,0458, -63.2618,  82.0144,     -999,9,     -999,9,-999          ,9,-999          ,9,-999          ,9
325020240221  ,I08        ,14      ,  1,32         ,32         ,2,20240307,0320, -63.2618,  82.0144,     2943,    110.1,   1.2596,  34.3643,2,  34.3684,2,    207.4,2,    206.7,2,    67.09,2,     0.00,2,    34.78,2,     0.03,2,     2.37,2,     -999,9,     -999,9,     -999,9,     -999,9,   2248.8,3,   2318.1,2,   7.5300,2,    24.99,     -999,1,   1.2819,2,     -999,9,     -999,     -999,9,     -999,9,     -999,9,     -999,9,     -999,9,     -999,1,   0.0198,1,   4.6261,1,     -999,9,     -999,9,20240307,0456, -63.2618,  82.0144,     -999,9,     -999,9,-999          ,9,-999          ,9,-999          ,9
325020240221  ,I08        ,14      ,  1,31         ,31         ,2,20240307,0320, -63.2618,  82.0144,     2943,    135.7,   1.6920,  34.4534,2,  34.4536,2,    187.3,2,    186.9,2,    72.46,2,     0.00,2,    36.47,2,     0.02,2,     2.38,2,     -999,9,     -999,9,     -999,9,     -999,9,   2257.1,3,   2318.8,2,   7.5221,2,    24.97,     -999,1,   1.6905,2,     -999,9,     -999,     -999,9,     -999,9,     -999,9,     -999,9,     -999,9,     -999,1,   0.0185,1,   4.6285,1,     -999,9,     -999,9,20240307,0454, -63.2618,  82.0144,     -999,9,     -999,9,-999          ,9,-999          ,9,-999          ,9
325020240221  ,I08        ,14      ,  1,30         ,30         ,2,20240307,0320, -63.2618,  82.0144,     2943,    161.6,   1.8692,  34.5001,2,  34.5011,2,    178.3,2,    177.5,2,    75.48,2,     0.02,2,    35.33,2,     0.00,2,     2.39,2,     -999,9,     -999,9,     -999,9,     -999,9,   2254.7,3,   2327.1,2,   7.5214,2,    25.01,     -999,1,   1.8682,2,     -999,9,     -999,     -999,9,     -999,9,     -999,9,     -999,9,     -999,9,     -999,1,   0.0195,1,   4.6325,1,     -999,9,     -999,9,20240307,0452, -63.2618,  82.0144,     -999,9,     -999,9,-999          ,9,-999          ,9,-999          ,9
325020240221  ,I08        ,14      ,  1,29         ,29         ,2,20240307,0320, -63.2618,  82.0144,     2943,    187.1,   1.9764,  34.5381,2,  34.5429,2,    172.7,2,    172.7,2,    77.53,2,     0.00,2,    35.03,2,     0.00,2,     2.37,2,     -999,9,     -999,9,     -999,9,     -999,9,   2261.8,3,   2332.3,2,   7.5255,6,    25.01,     -999,1,   1.9735,2,     -999,9,     -999,     -999,9,     -999,9,     -999,9,     -999,9,     -999,9,     -999,1,   0.0178,1,   4.6314,1,     -999,9,     -999,9,20240307,0451, -63.2618,  82.0143,     -999,9,     -999,9,-999          ,9,-999          ,9,-999          ,9
325020240221  ,I08        ,14      ,  1,28         ,28         ,2,20240307,0320, -63.2618,  82.0144,     2943,    210.2,   2.0583,  34.5681,2,  34.5669,2,    169.7,2,    169.2,2,    79.09,2,     0.00,2,    34.66,2,     0.00,2,     2.34,2,     -999,9,     -999,9,     -999,9,     -999,9,   2263.4,3,   2331.9,2,   7.5295,6,    25.06,     -999,1,   2.0578,2,     -999,9,     -999,     -999,9,     -999,9,     -999,9,     -999,9,     -999,9,     -999,1,   0.0178,1,   4.6346,1,     -999,9,     -999,9,20240307,0449, -63.2618,  82.0144,     -999,9,     -999,9,-999          ,9,-999          ,9,-999          ,9
325020240221  ,I08        ,14      ,  1,27         ,27         ,2,20240307,0320, -63.2618,  82.0144,     2943,    239.2,   2.0940,  34.5917,2,  34.5908,2,    168.2,2,    168.4,2,    80.06,2,     0.00,2,    34.34,2,     0.00,2,     2.36,2,     -999,9,     -999,9,     -999,9,     -999,9,   2258.2,3,   2334.0,2,   7.5323,6,    25.07,     -999,1,   2.0936,2,     -999,9,     -999,     -999,9,     -999,9,     -999,9,     -999,9,     -999,9,     -999,1,   0.0180,1,   4.6349,1,     -999,9,     -999,9,20240307,0446, -63.2618,  82.0144,     -999,9,     -999,9,-999          ,9,-999          ,9,-999          ,9
325020240221  ,I08        ,14      ,  1,26         ,26         ,2,20240307,0320, -63.2618,  82.0144,     2943,    265.9,   2.1025,  34.6077,2,  34.6069,2,    168.1,2,    168.1,2,    80.65,2,     0.00,2,    33.98,2,     0.00,2,     2.31,2,     -999,9,     -999,9,     -999,9,     -999,9,   2262.1,3,   2335.2,2,   7.5364,2,    25.02,     -999,1,   2.1023,2,     -999,9,     -999,     -999,9,     -999,9,     -999,9,     -999,9,     -999,9,     -999,1,   0.0182,1,   4.6349,1,     -999,9,     -999,9,20240307,0444, -63.2618,  82.0143,     -999,9,     -999,9,-999          ,9,-999          ,9,-999          ,9
325020240221  ,I08        ,14      ,  1,25         ,25         ,2,20240307,0320, -63.2618,  82.0144,     2943,    318.0,   2.1091,  34.6352,2,  34.6335,2,    168.7,2,    168.6,2,    81.62,2,     0.00,2,    33.52,2,     0.00,2,     2.30,2,     -999,9,     -999,9,     -999,9,     -999,9,   2263.3,3,   2338.4,2,   7.5425,2,    25.02,     -999,1,   2.1098,2,     -999,9,     -999,     -999,9,     -999,9,     -999,9,     -999,9,     -999,9,     -999,1,   0.0178,1,   4.6349,1,     -999,9,     -999,9,20240307,0442, -63.2618,  82.0144,     -999,9,     -999,9,-999          ,9,-999          ,9,-999          ,9
325020240221  ,I08        ,14      ,  1,24         ,24         ,2,20240307,0320, -63.2618,  82.0144,     2943,    367.9,   2.1077,  34.6578,2,  34.6584,2,    170.4,2,    170.2,2,    82.40,2,     0.02,2,    33.00,2,     0.00,2,     2.27,2,     -999,9,     -999,9,     -999,9,     -999,9,   2255.0,3,   2341.3,2,   7.5514,2,    24.99,     -999,1,   2.1072,2,     -999,9,     -999,     -999,9,     -999,9,     -999,9,     -999,9,     -999,9,     -999,1,   0.0180,1,   4.6349,1,     -999,9,     -999,9,20240307,0440, -63.2618,  82.0143,     -999,9,     -999,9,-999          ,9,-999          ,9,-999          ,9
325020240221  ,I08        ,14      ,  1,23         ,37         ,2,20240307,0320, -63.2618,  82.0144,     2943,    419.1,   2.0910,  34.6764,2,  34.6861,2,    172.7,2,    173.1,2,    82.79,2,     0.03,2,    32.66,2,     0.00,2,     2.26,2,     -999,9,     -999,9,     -999,9,     -999,9,   2251.7,3,   2339.5,2,   7.5592,6,    24.99,     -999,1,   2.0907,2,     -999,9,     -999,     -999,9,     -999,9,     -999,9,     -999,9,     -999,9,     -999,1,   0.0177,1,   4.6349,1,     -999,9,     -999,9,20240307,0437, -63.2618,  82.0144,     -999,9,     -999,9,-999          ,9,-999          ,9,-999          ,9
325020240221  ,I08        ,14      ,  1,22         ,22         ,2,20240307,0320, -63.2618,  82.0144,     2943,    470.3,   2.0667,  34.6913,2,  34.6908,2,    175.4,2,    175.5,2,    83.57,2,     0.02,2,    32.36,2,     0.00,2,     2.25,2,     -999,9,     -999,9,     -999,9,     -999,9,   2257.5,3,   2342.2,6,   7.5691,6,    24.93,     -999,1,   2.0664,2,     -999,9,     -999,     -999,9,     -999,9,     -999,9,     -999,9,     -999,9,     -999,1,   0.0186,1,   4.6348,1,     -999,9,     -999,9,20240307,0435, -63.2618,  82.0144,     -999,9,     -999,9,-999          ,9,-999          ,9,-999          ,9
325020240221  ,I08        ,14      ,  1,21         ,21         ,2,20240307,0320, -63.2618,  82.0144,     2943,    538.6,   2.0425,  34.7088,2,  34.7081,2,    178.7,2,    178.9,2,    84.16,2,     0.00,2,    31.74,2,     0.00,2,     2.22,2,     -999,9,     -999,9,     -999,9,     -999,9,   2255.7,3,   2346.7,2,   7.5765,2,    25.00,     -999,1,   2.0419,2,     -999,9,     -999,     -999,9,     -999,9,     -999,9,     -999,9,     -999,9,     -999,1,   0.0180,1,   4.6336,1,     -999,9,     -999,9,20240307,0431, -63.2618,  82.0144,     -999,9,     -999,9,-999          ,9,-999          ,9,-999          ,9
325020240221  ,I08        ,14      ,  1,20         ,20         ,2,20240307,0320, -63.2618,  82.0144,     2943,    642.8,   1.9797,  34.7244,2,  34.7239,2,    183.3,2,    183.4,2,    84.94,2,     0.00,2,    31.37,2,     0.00,2,     2.18,2,     -999,9,     -999,9,     -999,9,     -999,9,   2251.2,3,   2345.4,2,   7.5869,6,    24.81,     -999,1,   1.9796,2,     -999,9,     -999,     -999,9,     -999,9,     -999,9,     -999,9,     -999,9,     -999,1,   0.0180,1,   4.6325,1,     -999,9,     -999,9,20240307,0428, -63.2618,  82.0144,     -999,9,     -999,9,-999          ,9,-999          ,9,-999          ,9
325020240221  ,I08        ,14      ,  1,19         ,19         ,2,20240307,0320, -63.2618,  82.0144,     2943,    741.5,   1.9148,  34.7350,2,  34.7353,2,    187.5,2,    187.7,2,    85.33,2,     0.00,2,    30.96,2,     0.00,2,     2.16,2,     -999,9,     -999,9,     -999,9,     -999,9,   2252.6,3,   2347.9,2,   7.5954,2,    25.00,     -999,1,   1.9145,2,     -999,9,     -999,     -999,9,     -999,9,     -999,9,     -999,9,     -999,9,     -999,1,   0.0183,1,   4.6322,1,     -999,9,     -999,9,20240307,0425, -63.2618,  82.0144,     -999,9,     -999,9,-999          ,9,-999          ,9,-999          ,9
325020240221  ,I08        ,14      ,  1,18         ,18         ,2,20240307,0320, -63.2618,  82.0144,     2943,    842.1,   1.8316,  34.7395,2,  34.7396,2,    190.1,2,    190.1,2,    87.57,2,     0.00,2,    30.81,2,     0.00,2,     2.16,2,     -999,9,     -999,9,     -999,9,     -999,9,   2250.6,3,   2348.0,2,   7.6004,2,    25.02,     -999,1,   1.8301,2,     -999,9,     -999,     -999,9,     -999,9,     -999,9,     -999,9,     -999,9,     -999,1,   0.0189,1,   4.6302,1,     -999,9,     -999,9,20240307,0421, -63.2618,  82.0144,     -999,9,     -999,9,-999          ,9,-999          ,9,-999          ,9
325020240221  ,I08        ,14      ,  1,17         ,17         ,2,20240307,0320, -63.2618,  82.0144,     2943,    945.2,   1.7376,  34.7431,2,  34.7425,2,    193.3,2,    193.5,2,    89.04,2,     0.00,2,    30.70,2,     0.00,2,     2.12,2,     -999,9,     -999,9,     -999,9,     -999,9,   2250.3,3,   2348.3,2,   7.6034,2,    25.00,     -999,1,   1.7347,2,     -999,9,     -999,     -999,9,     -999,9,     -999,9,     -999,9,     -999,9,     -999,1,   0.0183,1,   4.6289,1,     -999,9,     -999,9,20240307,0418, -63.2618,  82.0144,     -999,9,     -999,9,-999          ,9,-999          ,9,-999          ,9
325020240221  ,I08        ,14      ,  1,16         ,16         ,2,20240307,0320, -63.2618,  82.0144,     2943,   1049.0,   1.6441,  34.7443,2,  34.7431,2,    196.4,2,    196.4,2,    90.50,2,     0.00,2,    30.62,2,     0.00,2,     2.10,2,     -999,9,     -999,9,     -999,9,     -999,9,   2250.7,3,   2350.9,2,   7.6082,2,    25.02,     -999,1,   1.6435,2,     -999,9,     -999,     -999,9,     -999,9,     -999,9,     -999,9,     -999,9,     -999,1,   0.0177,1,   4.6287,1,     -999,9,     -999,9,20240307,0415, -63.2618,  82.0144,     -999,9,     -999,9,-999          ,9,-999          ,9,-999          ,9
325020240221  ,I08        ,14      ,  1,15         ,15         ,2,20240307,0320, -63.2618,  82.0144,     2943,   1149.7,   1.5614,  34.7448,2,  34.7443,2,    198.8,2,    198.7,2,    92.26,2,     0.00,2,    30.50,2,     0.00,2,     2.10,2,     -999,9,     -999,9,     -999,9,     -999,9,   2248.0,3,   2350.6,2,   7.6118,2,    24.98,     -999,1,   1.5645,2,     -999,9,     -999,     -999,9,     -999,9,     -999,9,     -999,9,     -999,9,     -999,1,   0.0183,1,   4.6272,1,     -999,9,     -999,9,20240307,0412, -63.2618,  82.0144,     -999,9,     -999,9,-999          ,9,-999          ,9,-999          ,9
325020240221  ,I08        ,14      ,  1,14         ,14         ,2,20240307,0320, -63.2618,  82.0144,     2943,   1250.4,   1.4640,  34.7418,2,  34.7423,2,    200.3,2,    200.3,2,    94.70,2,     0.00,2,    30.51,2,     0.00,2,     2.09,2,     -999,9,     -999,9,     -999,9,     -999,9,   2251.1,3,   2351.5,2,   7.6115,2,    24.99,     -999,1,   1.4628,2,     -999,9,     -999,     -999,9,     -999,9,     -999,9,     -999,9,     -999,9,     -999,1,   0.0182,1,   4.6263,1,     -999,9,     -999,9,20240307,0408, -63.2618,  82.0144,     -999,9,     -999,9,-999          ,9,-999          ,9,-999          ,9
325020240221  ,I08        ,14      ,  1,13         ,13         ,2,20240307,0320, -63.2618,  82.0144,     2943,   1354.7,   1.3669,  34.7377,2,  34.7378,2,    201.5,2,    201.3,2,    97.24,2,     0.00,2,    30.52,2,     0.00,2,     2.09,2,     -999,9,     -999,9,     -999,9,     -999,9,   2251.5,3,   2352.8,2,   7.6113,2,    25.00,     -999,1,   1.3672,2,     -999,9,     -999,     -999,9,     -999,9,     -999,9,     -999,9,     -999,9,     -999,1,   0.0176,1,   4.6246,1,     -999,9,     -999,9,20240307,0405, -63.2618,  82.0144,     -999,9,     -999,9,-999          ,9,-999          ,9,-999          ,9
325020240221  ,I08        ,14      ,  1,12         ,12         ,2,20240307,0320, -63.2618,  82.0144,     2943,   1453.5,   1.2616,  34.7323,2,  34.7327,2,    202.4,2,    202.4,2,   100.65,2,     0.00,2,    30.64,2,     0.00,2,     2.08,2,     -999,9,     -999,9,     -999,9,     -999,9,   2249.7,3,   2353.0,2,   7.6096,2,    24.96,     -999,1,   1.2616,2,     -999,9,     -999,     -999,9,     -999,9,     -999,9,     -999,9,     -999,9,     -999,1,   0.0176,1,   4.6227,1,     -999,9,     -999,9,20240307,0402, -63.2618,  82.0144,     -999,9,     -999,9,-999          ,9,-999          ,9,-999          ,9
325020240221  ,I08        ,14      ,  1,11         ,11         ,2,20240307,0320, -63.2618,  82.0144,     2943,   1553.8,   1.1443,  34.7235,2,  34.7233,2,    202.5,2,    203.1,2,   103.88,2,     0.00,2,    30.86,2,     0.00,2,     2.10,2,     -999,9,     -999,9,     -999,9,     -999,9,   2255.2,3,   2356.3,2,   7.6053,2,    24.98,     -999,1,   1.1439,2,     -999,9,     -999,     -999,9,     -999,9,     -999,9,     -999,9,     -999,9,     -999,1,   0.0180,1,   4.6216,1,     -999,9,     -999,9,20240307,0359, -63.2618,  82.0144,     -999,9,     -999,9,-999          ,9,-999          ,9,-999          ,9
325020240221  ,I08        ,14      ,  1,10         ,10         ,2,20240307,0320, -63.2618,  82.0144,     2943,   1659.2,   1.0638,  34.7200,2,  34.7213,2,    203.6,2,    203.6,2,   106.42,2,     0.00,2,    30.94,2,     0.00,2,     2.14,2,     -999,9,     -999,9,     -999,9,     -999,9,   2257.1,3,   2356.5,2,   7.6041,2,    24.98,     -999,1,   1.0635,2,     -999,9,     -999,     -999,9,     -999,9,     -999,9,     -999,9,     -999,9,     -999,1,   0.0183,1,   4.6202,1,     -999,9,     -999,9,20240307,0356, -63.2618,  82.0143,     -999,9,     -999,9,-999          ,9,-999          ,9,-999          ,9
325020240221  ,I08        ,14      ,  1,9          ,9          ,2,20240307,0320, -63.2618,  82.0144,     2943,   1759.8,   0.9644,  34.7142,2,  34.7142,2,    204.2,2,    203.7,2,   109.15,2,     0.00,2,    31.09,2,     0.00,2,     2.16,2,     -999,9,     -999,9,     -999,9,     -999,9,   2256.9,3,   2355.4,2,   7.6016,6,    24.98,     -999,1,   0.9636,2,     -999,9,     -999,     -999,9,     -999,9,     -999,9,     -999,9,     -999,9,     -999,1,   0.0183,1,   4.6199,1,     -999,9,     -999,9,20240307,0352, -63.2618,  82.0144,     -999,9,     -999,9,-999          ,9,-999          ,9,-999          ,9
325020240221  ,I08        ,14      ,  1,8          ,8          ,2,20240307,0320, -63.2618,  82.0144,     2943,   1893.5,   0.8692,  34.7098,2,  34.7097,2,    205.6,2,    206.0,2,   112.18,2,     0.00,2,    31.17,2,     0.00,2,     2.15,2,     -999,9,     -999,9,     -999,9,     -999,9,   2257.6,3,   2356.6,2,   7.6010,2,    25.02,     -999,1,   0.8701,2,     -999,9,     -999,     -999,9,     -999,9,     -999,9,     -999,9,     -999,9,     -999,1,   0.0183,1,   4.6190,1,     -999,9,     -999,9,20240307,0349, -63.2618,  82.0143,     -999,9,     -999,9,-999          ,9,-999          ,9,-999          ,9
325020240221  ,I08        ,14      ,  1,7          ,7          ,2,20240307,0320, -63.2618,  82.0144,     2943,   2093.7,   0.7497,  34.7036,2,  34.7042,2,    206.8,2,    206.6,2,   118.04,2,     0.00,2,    31.46,2,     0.00,2,     2.17,2,     -999,9,     -999,9,     -999,9,     -999,9,   2257.8,3,   2360.2,2,   7.5985,2,    25.01,     -999,1,   0.7490,2,     -999,9,     -999,     -999,9,     -999,9,     -999,9,     -999,9,     -999,9,     -999,1,   0.0183,1,   4.6177,1,     -999,9,     -999,9,20240307,0344, -63.2618,  82.0143,     -999,9,     -999,9,-999          ,9,-999          ,9,-999          ,9
325020240221  ,I08        ,14      ,  1,6          ,6          ,2,20240307,0320, -63.2618,  82.0144,     2943,   2297.9,   0.6198,  34.6960,2,  34.6969,2,    208.7,2,    209.3,2,   121.26,2,     0.00,2,    31.57,2,     0.00,2,     2.19,2,     -999,9,     -999,9,     -999,9,     -999,9,   2259.9,3,   2358.0,2,   7.5960,2,    24.98,     -999,1,   0.6191,2,     -999,9,     -999,     -999,9,     -999,9,     -999,9,     -999,9,     -999,9,     -999,1,   0.0183,1,   4.6166,1,     -999,9,     -999,9,20240307,0339, -63.2618,  82.0144,     -999,9,     -999,9,-999          ,9,-999          ,9,-999          ,9