BOTTLE,20240417CCHHYDRO
EXPOCODE,SECT_ID,STNNBR,CASTNO,SAMPNO,BTLNBR,BTLNBR_FLAG_W,DATE,TIME,LATITUDE,LONGITUDE,DEPTH,CTDPRS,CTDTMP,CTDSAL,CTDSAL_FLAG_W,SALNTY,SALNTY_FLAG_W,CTDOXY,CTDOXY_FLAG_W,OXYGEN,OXYGEN_FLAG_W,SILCAT,SILCAT_FLAG_W,NH4,NH4_FLAG_W,NITRAT,NITRAT_FLAG_W,NITRIT,NITRIT_FLAG_W,PHSPHT,PHSPHT_FLAG_W,CFC-11,CFC-11_FLAG_W,CFC-12,CFC-12_FLAG_W,CFC113,CFC113_FLAG_W,SF6,SF6_FLAG_W,TCARBN,TCARBN_FLAG_W,ALKALI,ALKALI_FLAG_W,PH_TOT,PH_TOT_FLAG_W,PH_TMP,DOC,DOC_FLAG_W,REFTMP,REFTMP_FLAG_W,DELC14,DELC14_FLAG_W,C14ERR,POC,POC_FLAG_W,PON,PON_FLAG_W,POP,POP_FLAG_W,PCOD,PCOD_FLAG_W,DOP,DOP_FLAG_W,TDN,TDN_FLAG_W,CTDFLUOR,CTDFLUOR_FLAG_W,CTDXMISS,CTDXMISS_FLAG_W,N2O,N2O_FLAG_W,ARGON,ARGON_FLAG_W,BTL_DATE,BTL_TIME,BTL_LAT,BTL_LON,KRYPTON,KRYPTON_FLAG_W,XENON,XENON_FLAG_W,HPLC,HPLC_FLAG_W,DNA,DNA_FLAG_W,FCM,FCM_FLAG_W
,,,,,,,,,,,METERS,DBAR,ITS-90,PSS-78,,PSS-78,,UMOL/KG,,UMOL/KG,,UMOL/KG,,UMOL/KG,,UMOL/KG,,UMOL/KG,,UMOL/KG,,PMOL/KG,,PMOL/KG,,PMOL/KG,,FMOL/KG,,UMOL/KG,,UMOL/KG,,,,DEG C,UMOL/KG,,ITS-90,,/MILLE,,/MILLE,UG/KG,,UG/KG,,UG/L,,UG/L,,UMOL/KG,,UMOL/KG,,VOLTS,,VOLTS,,NMOL/KG,,UMOL/L,,,,,,NMOL/L,,NMOL/L,,,,,,,
325020240221  ,I08        ,41      ,  2,36         ,36         ,2,20240320,0751, -45.8611,  94.2748,     3071,      4.7,   9.2472,  33.9321,2,  33.9322,2,    285.3,2,    284.1,2,     1.56,2,     0.21,2,    14.64,2,     0.27,2,     1.16,2,    5.143,4,    2.026,2,    0.000,4,   3.3490,2,   2103.5,3,   2274.2,2,   7.7989,2,    25.00,     -999,1,   9.2472,2,     -999,9,     -999,     -999,9,     -999,9,     -999,9,     -999,9,     -999,9,     -999,1,   0.0244,1,   4.5598,1,     10.2,2,     -999,9,20240320,0942, -45.8611,  94.2748,     -999,9,     -999,9,-999          ,9,-999          ,9,-999          ,9
325020240221  ,I08        ,41      ,  2,35         ,35         ,2,20240320,0751, -45.8611,  94.2748,     3071,     34.2,   9.0438,  33.9189,2,  33.9173,2,    284.7,2,    285.2,2,     1.56,2,     0.23,2,    14.96,2,     0.27,2,     1.17,2,    5.224,4,    1.971,2,    0.000,4,   3.3360,2,   2104.6,3,   2273.4,2,   7.7968,2,    25.01,     -999,9,   9.0401,2,     -999,9,     -999,     -999,9,     -999,9,     -999,9,     -999,9,     -999,9,     -999,9,   0.0464,1,   4.5531,1,     10.4,2,     -999,9,20240320,0939, -45.8611,  94.2748,     -999,9,     -999,9,-999          ,9,-999          ,9,-999          ,9
325020240221  ,I08        ,41      ,  2,34         ,34         ,2,20240320,0751, -45.8611,  94.2748,     3071,     60.1,   8.7227,  33.8867,2,  33.8868,2,    284.6,2,    285.8,2,     1.66,2,     0.23,2,    15.65,2,     0.27,2,     1.20,2,    5.131,4,    2.052,2,    0.000,4,   3.4470,2,   2106.6,3,   2271.7,2,   7.7908,6,    25.03,     -999,9,   8.7235,2,     -999,9,     -999,     -999,9,     -999,9,     -999,9,     -999,9,     -999,9,     -999,9,   0.0532,1,   4.5737,1,     10.5,2,     -999,9,20240320,0937, -45.8611,  94.2749,     -999,9,     -999,9,-999          ,9,-999          ,9,-999          ,9
325020240221  ,I08        ,41      ,  2,33         ,33         ,2,20240320,0751, -45.8611,  94.2748,     3071,     85.7,   8.6932,  33.9041,2,  33.9064,2,    283.3,2,    283.5,2,     1.66,2,     0.27,2,    15.63,2,     0.29,2,     1.21,2,    5.163,4,    2.006,2,    0.000,4,   3.4620,2,   2107.1,3,   2271.9,2,   7.7883,2,    25.00,     -999,9,   8.6935,2,     -999,9,     -999,     -999,9,     -999,9,     -999,9,     -999,9,     -999,9,     -999,9,   0.0501,1,   4.6069,1,     10.6,2,     -999,9,20240320,0934, -45.8611,  94.2748,     -999,9,     -999,9,-999          ,9,-999          ,9,-999          ,9
325020240221  ,I08        ,41      ,  2,32         ,32         ,2,20240320,0751, -45.8611,  94.2748,     3071,    110.2,   9.5081,  34.4214,2,  34.4180,2,    257.4,2,    257.3,2,     3.51,2,     0.02,2,    14.91,2,     0.03,2,     1.13,2,    4.782,4,    1.957,2,    0.000,4,   3.1400,2,   2123.5,3,   2286.3,2,   7.7733,2,    25.00,     -999,9,   9.5061,2,     -999,9,     -999,     -999,9,     -999,9,     -999,9,     -999,9,     -999,9,     -999,9,   0.0285,1,   4.6636,1,     11.1,2,     -999,9,20240320,0932, -45.8611,  94.2748,     -999,9,     -999,9,-999          ,9,-999          ,9,-999          ,9
325020240221  ,I08        ,41      ,  2,31         ,31         ,2,20240320,0751, -45.8611,  94.2748,     3071,    135.6,  10.0150,  34.6185,2,  34.6195,2,    247.9,2,    245.6,2,     4.30,2,     0.02,2,    14.20,2,     0.00,2,     1.06,2,    4.925,4,    1.830,2,    0.000,4,   2.9810,2,   2128.9,3,   2293.0,2,   7.7758,2,    25.02,     -999,9,  10.0197,2,     -999,9,     -999,     -999,9,     -999,9,     -999,9,     -999,9,     -999,9,     -999,9,   0.0195,1,   4.6767,1,     11.3,2,     -999,9,20240320,0931, -45.8611,  94.2748,     -999,9,     -999,9,-999          ,9,-999          ,9,-999          ,9
325020240221  ,I08        ,41      ,  2,30         ,30         ,2,20240320,0751, -45.8611,  94.2748,     3071,    162.0,   9.5689,  34.5844,2,  34.5826,2,    242.8,2,    242.4,2,     5.17,2,     0.01,2,    15.73,2,     0.00,2,     1.15,2,    4.807,4,    1.931,2,    0.000,4,   2.5470,2,   2134.1,3,   2292.0,2,   7.7582,2,    25.03,     -999,9,   9.5646,2,     -999,9,     -999,     -999,9,     -999,9,     -999,9,     -999,9,     -999,9,     -999,9,   0.0183,1,   4.6777,1,     11.9,2,     -999,9,20240320,0929, -45.8611,  94.2748,     -999,9,     -999,9,-999          ,9,-999          ,9,-999          ,9
325020240221  ,I08        ,41      ,  2,29         ,29         ,2,20240320,0751, -45.8611,  94.2748,     3071,    186.3,   9.0831,  34.5259,2,  34.5274,2,    243.0,2,    242.7,2,     5.86,2,     0.01,2,    16.85,2,     0.00,2,     1.21,2,    5.201,4,    2.012,2,    0.000,4,   2.5400,2,   2139.0,3,   2290.9,2,   7.7464,2,    25.01,     -999,9,   9.0835,2,     -999,9,     -999,     -999,9,     -999,9,     -999,9,     -999,9,     -999,9,     -999,9,   0.0183,1,   4.6777,1,     12.4,2,     -999,9,20240320,0927, -45.8611,  94.2747,     -999,9,     -999,9,-999          ,9,-999          ,9,-999          ,9
325020240221  ,I08        ,41      ,  2,28         ,28         ,2,20240320,0751, -45.8611,  94.2748,     3071,    210.8,   8.8588,  34.5178,2,  34.5180,2,    239.1,2,    239.2,2,     6.44,2,     0.00,2,    17.65,2,     0.00,2,     1.25,2,    5.211,4,    1.996,2,    0.000,4,   2.4800,2,   2144.2,3,   2289.6,2,   7.7367,6,    25.00,     -999,9,   8.8492,2,     -999,9,     -999,     -999,9,     -999,9,     -999,9,     -999,9,     -999,9,     -999,9,   0.0183,1,   4.6776,1,     12.9,2,     -999,9,20240320,0925, -45.8611,  94.2748,     -999,9,     -999,9,-999          ,9,-999          ,9,-999          ,9
325020240221  ,I08        ,41      ,  2,27         ,27         ,2,20240320,0751, -45.8611,  94.2748,     3071,    238.4,   8.8377,  34.5588,2,  34.5596,2,    229.9,2,    231.0,2,     7.42,2,     0.00,2,    18.35,2,     0.00,2,     1.29,2,    5.192,4,    1.993,2,    0.000,4,   2.2000,2,   2147.6,3,   2291.6,2,   7.7268,2,    25.02,     -999,9,   8.8409,2,     -999,9,     -999,     -999,9,     -999,9,     -999,9,     -999,9,     -999,9,     -999,9,   0.0183,1,   4.6777,1,     13.3,2,     -999,9,20240320,0923, -45.8611,  94.2748,     -999,9,     -999,9,-999          ,9,-999          ,9,-999          ,9
325020240221  ,I08        ,41      ,  2,26         ,26         ,2,20240320,0751, -45.8611,  94.2748,     3071,    266.9,   8.3911,  34.5104,2,  34.5140,2,    228.8,2,    228.7,2,     8.30,2,     0.00,2,    19.57,2,     0.00,2,     1.37,2,    4.990,4,    1.949,2,    0.000,4,   2.1020,2,   2151.3,3,   2288.6,2,   7.7116,2,    25.02,     -999,9,   8.4038,2,     -999,9,     -999,     -999,9,     -999,9,     -999,9,     -999,9,     -999,9,     -999,9,   0.0183,1,   4.6779,1,     13.7,2,     -999,9,20240320,0921, -45.8611,  94.2747,     -999,9,     -999,9,-999          ,9,-999          ,9,-999          ,9
325020240221  ,I08        ,41      ,  2,25         ,25         ,2,20240320,0751, -45.8611,  94.2748,     3071,    316.5,   7.6374,  34.4400,2,  34.4447,2,    227.7,2,    227.4,2,    10.45,2,     0.00,2,    21.64,2,     0.00,2,     1.52,2,    5.102,4,    2.023,2,    0.000,4,   1.9370,2,   2158.1,3,   2289.2,2,   7.6905,2,    25.02,     -999,9,   7.6275,2,     -999,9,     -999,     -999,9,     -999,9,     -999,9,     -999,9,     -999,9,     -999,9,   0.0183,1,   4.6798,1,     14.5,2,     -999,9,20240320,0919, -45.8611,  94.2748,     -999,9,     -999,9,-999          ,9,-999          ,9,-999          ,9
325020240221  ,I08        ,41      ,  2,24         ,24         ,2,20240320,0751, -45.8611,  94.2748,     3071,    367.0,   7.0980,  34.4191,2,  34.4196,2,    221.9,2,    221.9,2,    12.99,2,     0.01,2,    23.52,2,     0.00,2,     1.64,2,    5.139,4,    1.963,2,    0.000,4,   1.7610,2,   2165.0,3,   2287.9,2,   7.6714,2,    25.00,     -999,9,   7.0965,2,     -999,9,     -999,     -999,9,     -999,9,     -999,9,     -999,9,     -999,9,     -999,9,   0.0171,1,   4.6813,1,     15.2,2,     -999,9,20240320,0917, -45.8611,  94.2748,     -999,9,     -999,9,-999          ,9,-999          ,9,-999          ,9
325020240221  ,I08        ,41      ,  2,23         ,37         ,2,20240320,0751, -45.8611,  94.2748,     3071,    420.2,   6.5052,  34.3737,2,  34.3751,2,    220.7,2,    220.9,2,    14.94,2,     0.01,2,    25.22,2,     0.00,2,     1.75,2,    5.381,4,    1.995,2,    0.000,4,   1.7130,2,   2170.2,3,   2285.5,2,   7.6536,2,    25.01,     -999,9,   6.5000,2,     -999,9,     -999,     -999,9,     -999,9,     -999,9,     -999,9,     -999,9,     -999,9,   0.0183,1,   4.6813,1,     15.7,2,     -999,9,20240320,0914, -45.8611,  94.2748,     -999,9,     -999,9,-999          ,9,-999          ,9,-999          ,9
325020240221  ,I08        ,41      ,  2,22         ,22         ,2,20240320,0751, -45.8611,  94.2748,     3071,    468.3,   5.6157,  34.2972,2,  34.2978,2,    227.0,2,    227.3,2,    16.99,2,     0.01,2,    26.99,2,     0.00,2,     1.85,2,    5.537,4,    2.067,2,    0.000,4,   1.6850,2,   2176.3,3,   2284.1,2,   7.6376,6,    25.03,     -999,9,   5.6128,2,     -999,9,     -999,     -999,9,     -999,9,     -999,9,     -999,9,     -999,9,     -999,9,   0.0183,1,   4.6825,1,     15.9,2,     -999,9,20240320,0912, -45.8611,  94.2748,     -999,9,     -999,9,-999          ,9,-999          ,9,-999          ,1
325020240221  ,I08        ,41      ,  2,21         ,21         ,2,20240320,0751, -45.8611,  94.2748,     3071,    539.0,   5.1549,  34.3057,2,  34.3044,2,    221.8,2,    222.1,2,    21.77,2,     0.01,2,    28.35,2,     0.00,2,     1.96,2,    4.996,4,    1.899,2,    0.000,4,   1.4300,2,   2182.4,3,   2287.7,6,   7.6293,2,    25.03,     -999,9,   5.1611,2,     -999,9,     -999,     -999,9,     -999,9,     -999,9,     -999,9,     -999,9,     -999,9,   0.0182,1,   4.6850,1,     16.5,2,     -999,9,20240320,0909, -45.8610,  94.2749,     -999,9,     -999,9,-999          ,9,-999          ,9,-999          ,9
325020240221  ,I08        ,41      ,  2,20         ,20         ,2,20240320,0751, -45.8611,  94.2748,     3071,    640.5,   4.5527,  34.3030,2,  34.3044,2,    216.8,2,    216.6,2,    28.02,2,     0.01,2,    29.92,2,     0.00,2,     2.06,2,    4.442,4,    1.670,2,    0.000,4,   1.1970,2,   2190.2,3,   2292.1,2,   7.6162,2,    25.00,     -999,9,   4.5547,2,     -999,9,     -999,     -999,9,     -999,9,     -999,9,     -999,9,     -999,9,     -999,9,   0.0183,1,   4.6762,1,     17.1,2,     -999,9,20240320,0906, -45.8610,  94.2748,     -999,9,     -999,9,-999          ,9,-999          ,9,-999          ,9
325020240221  ,I08        ,41      ,  2,19         ,19         ,2,20240320,0751, -45.8611,  94.2748,     3071,    742.8,   3.6243,  34.2662,2,  34.2681,2,    219.5,2,    219.5,2,    34.66,2,     0.00,2,    31.57,2,     0.00,2,     2.17,2,    4.017,4,    1.630,2,    0.000,4,   1.3210,2,   2203.2,3,   2296.1,2,   7.5960,2,    25.00,     -999,9,   3.6274,2,     -999,9,     -999,     -999,9,     -999,9,     -999,9,     -999,9,     -999,9,     -999,9,   0.0183,1,   4.6667,1,     10.7,2,     -999,9,20240320,0903, -45.8611,  94.2748,     -999,9,     -999,9,-999          ,9,-999          ,9,-999          ,9
325020240221  ,I08        ,41      ,  2,18         ,18         ,2,20240320,0751, -45.8611,  94.2748,     3071,    842.7,   3.4186,  34.3432,2,  34.3431,2,    200.6,2,    200.8,2,    44.23,2,     0.00,2,    32.87,2,     0.00,2,     2.23,2,    2.716,4,    1.237,2,    0.000,4,   0.8610,2,   2217.4,3,   2306.6,2,   7.5803,6,    25.03,     -999,9,   3.4146,2,     -999,9,     -999,     -999,9,     -999,9,     -999,9,     -999,9,     -999,9,     -999,9,   0.0183,1,   4.6642,1,     19.8,2,     -999,9,20240320,0900, -45.8611,  94.2748,     -999,9,     -999,9,-999          ,9,-999          ,9,-999          ,9
325020240221  ,I08        ,41      ,  2,17         ,17         ,2,20240320,0751, -45.8611,  94.2748,     3071,    944.1,   3.2926,  34.4049,2,  34.4047,2,    188.4,2,    188.0,2,    51.65,2,     0.00,2,    33.58,2,     0.00,2,     2.29,2,    1.957,4,    0.909,6,    0.000,4,   0.6030,6,   2227.9,3,   2311.1,2,   7.5711,2,    25.02,     -999,9,   3.2925,2,     -999,9,     -999,     -999,9,     -999,9,     -999,9,     -999,9,     -999,9,     -999,9,   0.0183,1,   4.6629,1,     20.1,6,     -999,9,20240320,0856, -45.8611,  94.2748,     -999,9,     -999,9,-999          ,9,-999          ,9,-999          ,9
325020240221  ,I08        ,41      ,  2,16         ,16         ,2,20240320,0751, -45.8611,  94.2748,     3071,   1045.5,   3.0449,  34.4462,2,     -999,9,    182.2,2,     -999,9,     -999,9,     -999,9,     -999,9,     -999,9,     -999,9,     -999,9,     -999,9,     -999,9,     -999,9,     -999,9,     -999,9,     -999,9,     -999,     -999,9,   3.0449,2,     -999,9,     -999,     -999,9,     -999,9,     -999,9,     -999,9,     -999,9,     -999,9,   0.0183,1,   4.6599,1,     -999,9,     -999,9,20240320,0853, -45.8611,  94.2748,     -999,9,     -999,9,-999          ,9,-999          ,1,-999          ,1
325020240221  ,I08        ,41      ,  2,15         ,15         ,2,20240320,0751, -45.8611,  94.2748,     3071,   1046.1,   3.0412,  34.4469,2,  34.4459,2,    182.3,2,    182.0,2,    57.60,2,     0.00,2,    33.97,2,     0.00,2,     2.32,2,    1.514,4,    0.735,2,    0.000,4,   0.4000,2,   2236.6,3,   2322.4,6,   7.5626,2,    25.00,     -999,9,   3.0426,2,     -999,9,     -999,     -999,9,     -999,9,     -999,9,     -999,9,     -999,9,     -999,9,   0.0183,1,   4.6600,1,     20.4,2,     -999,9,20240320,0853, -45.8611,  94.2748,     -999,9,     -999,9,-999          ,9,-999          ,9,-999          ,9
325020240221  ,I08        ,41      ,  2,14         ,14         ,2,20240320,0751, -45.8611,  94.2748,     3071,   1146.7,   2.8892,  34.4931,2,  34.4926,2,    177.4,2,    177.6,2,    62.97,2,     0.01,2,    34.06,2,     0.00,2,     2.34,2,    1.207,4,    0.580,2,    0.000,4,   0.3770,2,   2241.1,3,   2322.6,6,   7.5585,2,    25.03,     -999,9,   2.8893,2,     -999,9,     -999,     -999,9,     -999,9,     -999,9,     -999,9,     -999,9,     -999,9,   0.0183,1,   4.6580,1,     20.2,2,     -999,9,20240320,0850, -45.8612,  94.2748,     -999,9,     -999,9,-999          ,9,-999          ,9,-999          ,9
325020240221  ,I08        ,41      ,  2,13         ,13         ,2,20240320,0751, -45.8611,  94.2748,     3071,   1247.9,   2.7865,  34.5474,2,  34.5461,2,    174.1,2,    174.0,2,    66.97,2,     0.00,2,    33.82,2,     0.00,2,     2.33,2,    0.851,4,    0.424,2,    0.000,4,   0.1820,2,   2247.3,3,   2328.9,2,   7.5615,2,    25.02,     -999,9,   2.7876,2,     -999,9,     -999,     -999,9,     -999,9,     -999,9,     -999,9,     -999,9,     -999,9,   0.0183,1,   4.6568,1,     20.0,2,     -999,9,20240320,0847, -45.8611,  94.2748,     -999,9,     -999,9,-999          ,9,-999          ,9,-999          ,9
325020240221  ,I08        ,41      ,  2,12         ,12         ,2,20240320,0751, -45.8611,  94.2748,     3071,   1351.8,   2.7073,  34.5957,2,  34.5940,2,    174.2,2,    174.1,2,    69.70,2,     0.04,2,    33.26,2,     0.00,2,     2.27,2,    0.590,2,    0.312,2,    0.000,4,   0.1560,2,   2246.8,3,   2332.3,2,   7.5688,2,    25.02,     -999,9,   2.7110,2,     -999,9,     -999,     -999,9,     -999,9,     -999,9,     -999,9,     -999,9,     -999,9,   0.0183,1,   4.6565,1,     19.7,2,     -999,9,20240320,0843, -45.8611,  94.2749,     -999,9,     -999,9,-999          ,9,-999          ,9,-999          ,9
325020240221  ,I08        ,41      ,  2,11         ,11         ,2,20240320,0751, -45.8611,  94.2748,     3071,   1449.3,   2.6257,  34.6293,2,  34.6303,2,    175.7,2,    176.8,2,    71.75,2,     0.00,2,    32.75,2,     0.00,2,     2.25,2,    0.469,2,    0.251,2,    0.000,4,   0.0370,2,   2247.0,3,   2335.9,2,   7.5744,6,    25.00,     -999,9,   2.6251,2,     -999,9,     -999,     -999,9,     -999,9,     -999,9,     -999,9,     -999,9,     -999,9,   0.0183,1,   4.6556,1,     19.2,2,     -999,9,20240320,0840, -45.8611,  94.2749,     -999,9,     -999,9,-999          ,9,-999          ,9,-999          ,9
325020240221  ,I08        ,41      ,  2,10         ,10         ,2,20240320,0751, -45.8611,  94.2748,     3071,   1553.0,   2.5551,  34.6611,2,  34.6604,2,    178.3,2,    178.2,2,    73.21,2,     0.01,2,    32.18,2,     0.00,2,     2.22,2,    0.381,2,    0.206,2,    0.000,4,   0.0360,2,   2246.5,3,   2337.8,6,   7.5813,2,    25.00,     -999,9,   2.5554,2,     -999,9,     -999,     -999,9,     -999,9,     -999,9,     -999,9,     -999,9,     -999,9,   0.0183,1,   4.6544,1,     18.9,2,     -999,9,20240320,0837, -45.8611,  94.2747,     -999,9,     -999,9,-999          ,9,-999          ,9,-999          ,9
325020240221  ,I08        ,41      ,  2,9          ,9          ,2,20240320,0751, -45.8611,  94.2748,     3071,   1655.2,   2.5077,  34.6921,2,  34.6914,2,    182.1,2,    182.0,2,    73.89,2,     0.01,2,    31.43,2,     0.00,2,     2.16,2,    0.273,2,    0.152,2,    0.000,4,   0.0000,2,   2247.3,3,   2339.9,2,   7.5927,2,    25.03,     -999,9,   2.5088,2,     -999,9,     -999,     -999,9,     -999,9,     -999,9,     -999,9,     -999,9,     -999,9,   0.0183,1,   4.6542,1,     18.4,2,     -999,9,20240320,0833, -45.8610,  94.2748,     -999,9,     -999,9,-999          ,9,-999          ,9,-999          ,9
325020240221  ,I08        ,41      ,  2,8          ,8          ,2,20240320,0751, -45.8611,  94.2748,     3071,   1757.5,   2.4294,  34.7107,2,  34.7105,2,    184.8,2,    184.8,2,    75.45,2,     0.01,2,    31.03,2,     0.00,2,     2.15,2,    0.243,2,    0.135,2,    0.000,4,   0.0000,2,   2246.0,3,   2342.9,2,   7.5988,6,    25.02,     -999,9,   2.4301,2,     -999,9,     -999,     -999,9,     -999,9,     -999,9,     -999,9,     -999,9,     -999,9,   0.0182,1,   4.6531,1,     17.7,2,     -999,9,20240320,0829, -45.8610,  94.2748,     -999,9,     -999,9,-999          ,9,-999          ,9,-999          ,9
325020240221  ,I08        ,41      ,  2,7          ,7          ,2,20240320,0751, -45.8611,  94.2748,     3071,   1962.1,   2.2668,  34.7392,2,  34.7386,2,    190.8,2,    190.9,2,    78.77,2,     0.02,2,    30.31,2,     0.00,2,     2.08,2,    0.177,2,    0.103,2,    0.000,4,   0.0080,2,   2243.5,3,   2346.1,2,   7.6105,2,    25.01,     -999,9,   2.2679,2,     -999,9,     -999,     -999,9,     -999,9,     -999,9,     -999,9,     -999,9,     -999,9,   0.0186,1,   4.6508,1,     17.2,2,     -999,9,20240320,0824, -45.8610,  94.2749,     -999,9,     -999,9,-999          ,9,-999          ,9,-999          ,9
325020240221  ,I08        ,41      ,  2,6          ,6          ,2,20240320,0751, -45.8611,  94.2748,     3071,   2091.8,   2.1425,  34.7488,2,  34.7488,2,    194.1,2,    194.0,2,    81.80,2,     0.01,2,    30.12,2,     0.00,2,     2.06,2,    0.156,2,    0.091,2,    0.000,4,   0.0000,2,   2241.6,3,   2347.8,2,   7.6164,2,    25.00,     -999,9,   2.1426,2,     -999,9,     -999,     -999,9,     -999,9,     -999,9,     -999,9,     -999,9,     -999,9,   0.0183,1,   4.6484,1,     16.9,2,     -999,9,20240320,0819, -45.8610,  94.2749,     -999,9,     -999,9,-999          ,9,-999          ,9,-999          ,9