BOTTLE,20240417CCHHYDRO
EXPOCODE,SECT_ID,STNNBR,CASTNO,SAMPNO,BTLNBR,BTLNBR_FLAG_W,DATE,TIME,LATITUDE,LONGITUDE,DEPTH,CTDPRS,CTDTMP,CTDSAL,CTDSAL_FLAG_W,SALNTY,SALNTY_FLAG_W,CTDOXY,CTDOXY_FLAG_W,OXYGEN,OXYGEN_FLAG_W,SILCAT,SILCAT_FLAG_W,NH4,NH4_FLAG_W,NITRAT,NITRAT_FLAG_W,NITRIT,NITRIT_FLAG_W,PHSPHT,PHSPHT_FLAG_W,CFC-11,CFC-11_FLAG_W,CFC-12,CFC-12_FLAG_W,CFC113,CFC113_FLAG_W,SF6,SF6_FLAG_W,TCARBN,TCARBN_FLAG_W,ALKALI,ALKALI_FLAG_W,PH_TOT,PH_TOT_FLAG_W,PH_TMP,DOC,DOC_FLAG_W,REFTMP,REFTMP_FLAG_W,DELC14,DELC14_FLAG_W,C14ERR,POC,POC_FLAG_W,PON,PON_FLAG_W,POP,POP_FLAG_W,PCOD,PCOD_FLAG_W,DOP,DOP_FLAG_W,TDN,TDN_FLAG_W,CTDFLUOR,CTDFLUOR_FLAG_W,CTDXMISS,CTDXMISS_FLAG_W,N2O,N2O_FLAG_W,ARGON,ARGON_FLAG_W,BTL_DATE,BTL_TIME,BTL_LAT,BTL_LON,KRYPTON,KRYPTON_FLAG_W,XENON,XENON_FLAG_W,HPLC,HPLC_FLAG_W,DNA,DNA_FLAG_W,FCM,FCM_FLAG_W
,,,,,,,,,,,METERS,DBAR,ITS-90,PSS-78,,PSS-78,,UMOL/KG,,UMOL/KG,,UMOL/KG,,UMOL/KG,,UMOL/KG,,UMOL/KG,,UMOL/KG,,PMOL/KG,,PMOL/KG,,PMOL/KG,,FMOL/KG,,UMOL/KG,,UMOL/KG,,,,DEG C,UMOL/KG,,ITS-90,,/MILLE,,/MILLE,UG/KG,,UG/KG,,UG/L,,UG/L,,UMOL/KG,,UMOL/KG,,VOLTS,,VOLTS,,NMOL/KG,,UMOL/L,,,,,,NMOL/L,,NMOL/L,,,,,,,
325020240221  ,I08        ,37      ,  1,5          ,5          ,2,20240318,2018, -48.5239,  91.9011,     3621,   2841.9,   1.4208,  34.7348,2,  34.7272,3,    202.2,2,    202.0,2,   103.56,2,     0.00,2,    30.37,2,     0.00,2,     2.11,2,    0.087,4,    0.097,2,    0.094,4,   0.0000,2,   2252.6,3,   2360.2,2,   7.6149,2,    25.00,     -999,9,   1.4212,2,     -999,9,     -999,     -999,9,     -999,9,     -999,9,     -999,9,     -999,9,     -999,9,   0.0184,1,   0.0093,1,     15.2,2,     -999,9,20240318,2046, -48.5242,  91.9011,     -999,9,     -999,9,-999          ,9,-999          ,9,-999          ,9
325020240221  ,I08        ,37      ,  1,4          ,4          ,2,20240318,2018, -48.5239,  91.9011,     3621,   3049.1,   1.2525,  34.7262,2,  34.7264,2,    204.1,2,    204.2,2,   109.12,2,     0.00,2,    30.64,2,     0.00,2,     2.16,2,    0.149,4,    0.115,2,    0.120,4,   0.0390,2,   2258.0,3,   2360.2,2,   7.6132,2,    24.99,     -999,9,   1.2527,2,     -999,9,     -999,     -999,9,     -999,9,     -999,9,     -999,9,     -999,9,     -999,9,   0.0171,1,   0.0092,1,     15.0,2,     -999,9,20240318,2040, -48.5241,  91.9010,     -999,9,     -999,9,-999          ,9,-999          ,9,-999          ,9
325020240221  ,I08        ,37      ,  1,3          ,3          ,2,20240318,2018, -48.5239,  91.9011,     3621,   3354.6,   0.9948,  34.7121,2,  34.7123,2,    207.4,2,    207.6,2,   116.64,2,     0.00,2,    31.12,2,     0.00,2,     2.17,2,    0.295,2,    0.182,2,    0.172,4,   0.0110,2,   2258.0,3,   2359.4,2,   7.6074,2,    24.97,     -999,9,   0.9962,2,     -999,9,     -999,     -999,9,     -999,9,     -999,9,     -999,9,     -999,9,     -999,9,   0.0164,1,   0.0089,1,      7.8,2,     -999,9,20240318,2029, -48.5241,  91.9012,     -999,9,     -999,9,-999          ,9,-999          ,9,-999          ,9
325020240221  ,I08        ,37      ,  1,2          ,2          ,2,20240318,2018, -48.5239,  91.9011,     3621,   3506.4,   0.8832,  34.7060,2,  34.7054,2,    209.0,2,    209.4,2,   120.25,2,     0.00,2,    31.45,2,     0.00,2,     2.19,2,     -999,5,     -999,5,     -999,5,     -999,5,   2258.3,3,   2359.8,2,   7.6036,2,    24.99,     -999,9,   0.8835,2,     -999,9,     -999,     -999,9,     -999,9,     -999,9,     -999,9,     -999,9,     -999,9,   0.0182,1,   0.0088,1,     -999,5,     -999,9,20240318,2024, -48.5240,  91.9013,     -999,9,     -999,9,-999          ,9,-999          ,9,-999          ,9
325020240221  ,I08        ,37      ,  1,1          ,1          ,2,20240318,2018, -48.5239,  91.9011,     3621,   3663.7,   0.8312,  34.7027,2,  34.7028,2,    210.0,2,    210.2,2,   122.20,2,     0.00,2,    31.63,2,     0.00,2,     2.20,2,    0.471,2,    0.255,2,    0.265,4,   1.4440,2,   2264.9,3,   2359.3,2,   7.6029,2,    25.01,     -999,9,   0.8313,2,     -999,9,     -999,     -999,9,     -999,9,     -999,9,     -999,9,     -999,9,     -999,9,   0.0183,1,   0.0089,1,      6.0,2,     -999,9,20240318,2018, -48.5240,  91.9013,     -999,9,     -999,9,-999          ,9,-999          ,9,-999          ,9