BOTTLE,20240417CCHHYDRO
EXPOCODE,SECT_ID,STNNBR,CASTNO,SAMPNO,BTLNBR,BTLNBR_FLAG_W,DATE,TIME,LATITUDE,LONGITUDE,DEPTH,CTDPRS,CTDTMP,CTDSAL,CTDSAL_FLAG_W,SALNTY,SALNTY_FLAG_W,CTDOXY,CTDOXY_FLAG_W,OXYGEN,OXYGEN_FLAG_W,SILCAT,SILCAT_FLAG_W,NH4,NH4_FLAG_W,NITRAT,NITRAT_FLAG_W,NITRIT,NITRIT_FLAG_W,PHSPHT,PHSPHT_FLAG_W,CFC-11,CFC-11_FLAG_W,CFC-12,CFC-12_FLAG_W,CFC113,CFC113_FLAG_W,SF6,SF6_FLAG_W,TCARBN,TCARBN_FLAG_W,ALKALI,ALKALI_FLAG_W,PH_TOT,PH_TOT_FLAG_W,PH_TMP,DOC,DOC_FLAG_W,REFTMP,REFTMP_FLAG_W,DELC14,DELC14_FLAG_W,C14ERR,POC,POC_FLAG_W,PON,PON_FLAG_W,POP,POP_FLAG_W,PCOD,PCOD_FLAG_W,DOP,DOP_FLAG_W,TDN,TDN_FLAG_W,CTDFLUOR,CTDFLUOR_FLAG_W,CTDXMISS,CTDXMISS_FLAG_W,N2O,N2O_FLAG_W,ARGON,ARGON_FLAG_W,BTL_DATE,BTL_TIME,BTL_LAT,BTL_LON,KRYPTON,KRYPTON_FLAG_W,XENON,XENON_FLAG_W,HPLC,HPLC_FLAG_W,DNA,DNA_FLAG_W,FCM,FCM_FLAG_W
,,,,,,,,,,,METERS,DBAR,ITS-90,PSS-78,,PSS-78,,UMOL/KG,,UMOL/KG,,UMOL/KG,,UMOL/KG,,UMOL/KG,,UMOL/KG,,UMOL/KG,,PMOL/KG,,PMOL/KG,,PMOL/KG,,FMOL/KG,,UMOL/KG,,UMOL/KG,,,,DEG C,UMOL/KG,,ITS-90,,/MILLE,,/MILLE,UG/KG,,UG/KG,,UG/L,,UG/L,,UMOL/KG,,UMOL/KG,,VOLTS,,VOLTS,,NMOL/KG,,UMOL/L,,,,,,NMOL/L,,NMOL/L,,,,,,,
325020240221  ,I08        ,34      ,  1,36         ,36         ,2,20240317,0823, -52.1042,  88.4664,     4248,      5.0,   4.7492,  33.7614,2,  33.7627,2,    311.5,2,    311.2,2,     9.67,2,     0.52,2,    22.80,2,     0.26,2,     1.58,2,    4.325,2,    2.451,2,    0.509,4,   4.1490,2,   2143.8,3,   2279.3,2,   7.7246,2,    24.98,     -999,1,   4.7493,2,     -999,1,     -999,     -999,9,     -999,9,     -999,9,     -999,9,     -999,9,     -999,1,   0.0421,1,   4.4999,1,     11.4,2,     -999,9,20240317,1101, -52.1042,  88.4664,     -999,9,     -999,9,-999          ,9,-999          ,1,-999          ,9
325020240221  ,I08        ,34      ,  1,35         ,35         ,2,20240317,0823, -52.1042,  88.4664,     4248,     25.5,   4.6473,  33.7617,2,  33.7637,2,    311.3,2,    312.2,2,     9.96,2,     0.55,2,    23.01,2,     0.26,2,     1.58,2,    4.440,2,    2.521,2,    0.684,4,   4.1860,2,   2144.2,3,   2278.4,2,   7.7225,2,    25.00,     -999,1,   4.6486,2,     -999,9,     -999,     -999,9,     -999,9,     -999,9,     -999,9,     -999,9,     -999,1,   0.0488,1,   4.4994,1,     11.9,2,     -999,9,20240317,1059, -52.1042,  88.4664,     -999,9,     -999,9,-999          ,9,-999          ,9,-999          ,9
325020240221  ,I08        ,34      ,  1,34         ,34         ,2,20240317,0823, -52.1042,  88.4664,     4248,     49.9,   3.6586,  33.7834,2,  33.7842,2,    319.4,2,    319.7,2,    13.28,2,     0.73,2,    24.49,2,     0.27,2,     1.73,2,    4.580,2,    2.612,2,    0.559,4,   4.1480,2,   2156.0,3,   2281.9,2,   7.6990,2,    25.00,     -999,1,   3.6523,2,     -999,1,     -999,     -999,9,     -999,9,     -999,9,     -999,9,     -999,9,     -999,1,   0.0450,1,   4.5388,1,     12.8,2,     -999,9,20240317,1057, -52.1042,  88.4664,     -999,9,     -999,9,-999          ,1,-999          ,9,-999          ,1
325020240221  ,I08        ,34      ,  1,33         ,33         ,2,20240317,0823, -52.1042,  88.4664,     4248,     76.7,   3.1351,  33.7976,2,  33.7973,2,    325.2,3,    320.8,2,    15.14,2,     0.84,2,    24.98,2,     0.29,2,     1.77,2,    4.972,2,    2.785,2,    0.577,4,   4.1500,2,   2159.5,3,   2282.3,2,   7.6890,2,    24.99,     -999,1,   3.2486,3,     -999,9,     -999,     -999,9,     -999,9,     -999,9,     -999,9,     -999,9,     -999,1,   0.0391,1,   4.5560,1,     13.8,2,     -999,9,20240317,1054, -52.1042,  88.4664,     -999,9,     -999,9,-999          ,9,-999          ,9,-999          ,1
325020240221  ,I08        ,34      ,  1,32         ,32         ,2,20240317,0823, -52.1042,  88.4664,     4248,    101.1,   2.5094,  33.8530,2,  33.8523,2,    320.7,2,    320.7,2,    20.32,2,     0.73,2,    26.53,2,     0.35,2,     1.90,2,    4.643,2,    2.845,2,    0.604,4,   4.1860,2,   2169.7,3,   2283.4,2,   7.6693,2,    24.98,     -999,1,   2.5104,2,     -999,1,     -999,     -999,9,     -999,9,     -999,9,     -999,9,     -999,9,     -999,1,   0.0257,1,   4.5892,1,     14.7,2,     -999,9,20240317,1052, -52.1042,  88.4663,     -999,9,     -999,9,-999          ,9,-999          ,1,-999          ,1
325020240221  ,I08        ,34      ,  1,31         ,31         ,2,20240317,0823, -52.1042,  88.4664,     4248,    127.3,   2.0007,  33.9146,2,  33.9136,2,    309.9,2,    309.2,2,    25.69,2,     0.02,2,    28.97,2,     0.07,2,     2.02,2,    4.629,2,    2.815,2,    0.481,4,   3.5530,2,   2179.0,3,   2285.1,2,   7.6430,2,    24.98,     -999,1,   2.0044,2,     -999,9,     -999,     -999,9,     -999,9,     -999,9,     -999,9,     -999,9,     -999,1,   0.0195,1,   4.6076,1,     16.3,2,     -999,9,20240317,1049, -52.1043,  88.4664,     -999,9,     -999,9,-999          ,9,-999          ,9,-999          ,9
325020240221  ,I08        ,34      ,  1,30         ,30         ,2,20240317,0823, -52.1042,  88.4664,     4248,    150.5,   1.7144,  33.9475,2,  33.9473,2,    303.0,2,    303.4,2,    29.01,2,     0.03,2,    29.53,2,     0.02,2,     2.03,2,    3.958,2,    2.652,2,    0.300,4,   3.6510,2,   2186.3,3,   2284.8,2,   7.6324,6,    24.97,     -999,1,   1.7146,2,     -999,1,     -999,     -999,9,     -999,9,     -999,9,     -999,9,     -999,9,     -999,1,   0.0195,1,   4.6130,1,     17.5,2,     -999,9,20240317,1047, -52.1042,  88.4664,     -999,9,     -999,9,-999          ,9,-999          ,9,-999          ,1
325020240221  ,I08        ,34      ,  1,29         ,29         ,2,20240317,0823, -52.1042,  88.4664,     4248,    200.9,   2.7689,  34.1279,2,  34.1283,2,    258.3,3,    252.8,2,    31.93,2,     0.02,2,    31.12,2,     0.00,2,     2.12,2,    3.983,2,    2.087,2,    0.317,4,   2.6850,2,   2199.6,3,   2290.2,2,   7.6007,2,    24.95,     -999,1,   2.7687,2,     -999,1,     -999,     -999,9,     -999,9,     -999,9,     -999,9,     -999,9,     -999,1,   0.0183,1,   4.6271,1,     20.6,2,     -999,9,20240317,1044, -52.1042,  88.4664,     -999,9,     -999,9,-999          ,9,-999          ,1,-999          ,1
325020240221  ,I08        ,34      ,  1,28         ,28         ,2,20240317,0823, -52.1042,  88.4664,     4248,    251.3,   1.7639,  34.0738,2,  34.0750,2,    269.3,2,    270.6,2,    37.89,2,     0.03,2,    31.36,2,     0.00,2,     2.16,2,    3.967,6,    2.296,6,    0.288,4,   2.6265,6,   2201.1,3,   2293.3,2,   7.5986,2,    24.99,     -999,1,   1.7620,2,     -999,1,     -999,     -999,9,     -999,9,     -999,9,     -999,9,     -999,9,     -999,1,   0.0188,1,   4.6193,1,     21.1,6,     -999,9,20240317,1041, -52.1042,  88.4664,     -999,9,     -999,9,-999          ,9,-999          ,9,-999          ,9
325020240221  ,I08        ,34      ,  1,27         ,27         ,2,20240317,0823, -52.1042,  88.4664,     4248,    302.5,   2.0034,  34.2011,2,  34.1991,2,    237.2,2,    237.2,2,    47.45,2,     0.00,2,    33.03,2,     0.00,2,     2.29,2,    3.418,2,    1.894,2,    0.146,4,   1.9660,2,   2219.9,3,   2300.8,2,   7.5688,2,    25.00,     -999,1,   2.0073,2,     -999,9,     -999,     -999,9,     -999,9,     -999,9,     -999,9,     -999,9,     -999,1,   0.0183,1,   4.6210,1,     22.6,2,     -999,9,20240317,1039, -52.1042,  88.4664,     -999,9,     -999,9,-999          ,9,-999          ,9,-999          ,9
325020240221  ,I08        ,34      ,  1,26         ,26         ,2,20240317,0823, -52.1042,  88.4664,     4248,    352.5,   2.2584,  34.2888,2,  34.2905,2,    213.2,2,    212.9,2,    53.41,2,     0.00,2,    33.84,2,     0.00,2,     2.34,2,    2.593,2,    1.412,2,    0.096,4,   1.3290,2,   2231.7,3,   2305.3,2,   7.5545,2,    25.00,     -999,1,   2.2589,2,     -999,9,     -999,     -999,9,     -999,9,     -999,9,     -999,9,     -999,9,     -999,1,   0.0183,1,   4.6231,1,     23.2,2,     -999,9,20240317,1036, -52.1042,  88.4664,     -999,9,     -999,9,-999          ,9,-999          ,9,-999          ,9
325020240221  ,I08        ,34      ,  1,25         ,25         ,2,20240317,0823, -52.1042,  88.4664,     4248,    403.0,   2.4047,  34.3523,2,  34.3529,2,    198.3,2,    199.1,2,    57.80,2,     0.00,2,    34.31,2,     0.00,2,     2.38,2,    2.220,2,    1.139,2,    0.045,4,   0.9730,2,   2238.6,3,   2311.1,2,   7.5470,2,    24.99,     -999,1,   2.4042,2,     -999,9,     -999,     -999,9,     -999,9,     -999,9,     -999,9,     -999,9,     -999,1,   0.0183,1,   4.6320,1,     23.7,2,     -999,9,20240317,1033, -52.1042,  88.4664,     -999,9,     -999,9,-999          ,9,-999          ,9,-999          ,9
325020240221  ,I08        ,34      ,  1,24         ,24         ,2,20240317,0823, -52.1042,  88.4664,     4248,    453.4,   2.6621,  34.4407,2,  34.4416,2,    184.3,2,    183.3,2,    61.50,2,     0.00,2,    34.39,2,     0.00,2,     2.42,2,    1.509,2,    0.773,2,   -0.021,4,   0.6110,2,   2244.2,3,   2319.6,2,   7.5496,2,    24.98,     -999,1,   2.6573,2,     -999,1,     -999,     -999,9,     -999,9,     -999,9,     -999,9,     -999,9,     -999,1,   0.0183,1,   4.6386,1,     24.3,2,     -999,9,20240317,1031, -52.1042,  88.4664,     -999,9,     -999,9,-999          ,9,-999          ,9,-999          ,9
325020240221  ,I08        ,34      ,  1,23         ,37         ,2,20240317,0823, -52.1042,  88.4664,     4248,    504.5,   2.6462,  34.4750,2,  34.4752,2,    180.5,2,    179.4,2,    64.33,2,     0.00,2,    34.48,2,     0.00,2,     2.41,2,    1.168,2,    0.653,2,   -0.026,4,   0.5460,2,   2248.3,3,   2322.3,2,   7.5507,6,    25.00,     -999,1,   2.6449,2,     -999,9,     -999,     -999,9,     -999,9,     -999,9,     -999,9,     -999,9,     -999,1,   0.0183,1,   4.6396,1,     24.5,2,     -999,9,20240317,1028, -52.1042,  88.4664,     -999,9,     -999,9,-999          ,9,-999          ,9,-999          ,1
325020240221  ,I08        ,34      ,  1,22         ,22         ,2,20240317,0823, -52.1042,  88.4664,     4248,    606.4,   2.5180,  34.5230,2,  34.5235,2,    176.0,2,    176.1,2,    69.02,2,     0.00,2,    34.47,2,     0.00,2,     2.40,2,    0.926,2,    0.542,2,   -0.040,4,   0.4790,2,   2251.4,3,   2327.8,2,   7.5488,2,    24.99,     -999,1,   2.5178,2,     -999,1,     -999,     -999,9,     -999,9,     -999,9,     -999,9,     -999,9,     -999,1,   0.0183,1,   4.6401,1,     24.9,2,     -999,9,20240317,1024, -52.1042,  88.4664,     -999,9,     -999,9,-999          ,9,-999          ,9,-999          ,9
325020240221  ,I08        ,34      ,  1,21         ,21         ,2,20240317,0823, -52.1042,  88.4664,     4248,    707.0,   2.4279,  34.5652,2,  34.5653,2,    173.7,2,    174.2,2,    72.63,2,     0.00,2,    34.29,2,     0.00,2,     2.37,2,    0.794,2,    0.436,2,   -0.033,4,   0.2610,2,   2253.1,3,   2330.5,2,   7.5511,2,    24.98,     -999,1,   2.4274,2,     -999,9,     -999,     -999,9,     -999,9,     -999,9,     -999,9,     -999,9,     -999,1,   0.0183,1,   4.6387,1,     25.3,2,     -999,9,20240317,1020, -52.1042,  88.4664,     -999,9,     -999,9,-999          ,9,-999          ,9,-999          ,9
325020240221  ,I08        ,34      ,  1,20         ,20         ,2,20240317,0823, -52.1042,  88.4664,     4248,    808.4,   2.4081,  34.6250,2,  34.6252,2,    174.5,2,    174.4,2,    75.06,2,     0.00,2,    33.51,2,     0.00,2,     2.32,2,    0.522,2,    0.299,2,   -0.026,4,   0.2370,2,   2254.4,3,   2336.2,6,   7.5634,2,    25.00,     -999,1,   2.4078,2,     -999,1,     -999,     -999,9,     -999,9,     -999,9,     -999,9,     -999,9,     -999,1,   0.0183,1,   4.6414,1,     25.4,2,     -999,9,20240317,1016, -52.1042,  88.4664,     -999,9,     -999,9,-999          ,9,-999          ,9,-999          ,9
325020240221  ,I08        ,34      ,  1,19         ,19         ,2,20240317,0823, -52.1042,  88.4664,     4248,    909.1,   2.3207,  34.6585,2,  34.6592,2,    175.7,2,    176.1,2,    77.50,2,     0.00,2,    33.13,2,     0.00,2,     2.28,2,    0.422,2,    0.248,2,   -0.018,4,   0.2200,2,   2256.5,3,   2339.8,2,   7.5693,6,    25.01,     -999,1,   2.3199,2,     -999,9,     -999,     -999,9,     -999,9,     -999,9,     -999,9,     -999,9,     -999,1,   0.0183,1,   4.6396,1,     21.3,2,     -999,9,20240317,1012, -52.1042,  88.4664,     -999,9,     -999,9,-999          ,9,-999          ,9,-999          ,9
325020240221  ,I08        ,34      ,  1,18         ,18         ,2,20240317,0823, -52.1042,  88.4664,     4248,   1011.9,   2.3119,  34.6955,2,  34.6967,2,    181.4,2,    181.7,2,    77.31,2,     0.00,2,    32.08,2,     0.00,2,     2.21,2,    0.242,2,    0.169,2,   -0.100,4,   0.0780,2,   2253.0,3,   2343.0,6,   7.5867,2,    25.02,     -999,1,   2.3116,2,     -999,1,     -999,     -999,9,     -999,9,     -999,9,     -999,9,     -999,9,     -999,1,   0.0183,1,   4.6444,1,     26.1,2,     -999,9,20240317,1008, -52.1042,  88.4664,     -999,9,     -999,9,-999          ,9,-999          ,1,-999          ,1
325020240221  ,I08        ,34      ,  1,17         ,17         ,2,20240317,0823, -52.1042,  88.4664,     4248,   1111.9,   2.2410,  34.7156,2,  34.7160,2,    184.8,2,    185.2,2,    78.77,2,     0.00,2,    31.54,2,     0.00,2,     2.17,2,    0.268,2,    0.149,2,   -0.091,4,   0.1880,2,   2248.8,3,   2343.2,2,   7.5946,2,    25.02,     -999,1,   2.2408,2,     -999,9,     -999,     -999,9,     -999,9,     -999,9,     -999,9,     -999,9,     -999,1,   0.0183,1,   4.6431,1,     26.5,2,     -999,9,20240317,1004, -52.1042,  88.4664,     -999,9,     -999,9,-999          ,9,-999          ,9,-999          ,9
325020240221  ,I08        ,34      ,  1,16         ,16         ,2,20240317,0823, -52.1042,  88.4664,     4248,   1214.0,   2.1551,  34.7285,2,  34.7296,2,    187.5,2,    188.0,2,    80.72,2,     0.00,2,    31.15,2,     0.00,2,     2.15,2,    0.249,2,    0.138,2,   -0.085,4,   0.0110,2,   2247.9,3,   2345.2,2,   7.6003,2,    25.01,     -999,1,   2.1552,2,     -999,1,     -999,     -999,9,     -999,9,     -999,9,     -999,9,     -999,9,     -999,1,   0.0183,1,   4.6452,1,     26.7,2,     -999,9,20240317,1000, -52.1042,  88.4664,     -999,9,     -999,9,-999          ,9,-999          ,9,-999          ,9
325020240221  ,I08        ,34      ,  1,15         ,15         ,2,20240317,0823, -52.1042,  88.4664,     4248,   1315.8,   2.0677,  34.7383,2,  34.7398,2,    190.6,2,    191.0,2,    82.87,2,     0.00,2,    30.80,2,     0.00,2,     2.13,2,    0.221,2,    0.125,2,   -0.084,4,   0.0470,2,   2250.6,3,   2347.3,2,   7.6058,2,    25.02,     -999,1,   2.0676,2,     -999,9,     -999,     -999,9,     -999,9,     -999,9,     -999,9,     -999,9,     -999,1,   0.0183,1,   4.6444,1,     26.9,2,     -999,9,20240317,0956, -52.1042,  88.4664,     -999,9,     -999,9,-999          ,9,-999          ,9,-999          ,9
325020240221  ,I08        ,34      ,  1,14         ,14         ,2,20240317,0823, -52.1042,  88.4664,     4248,   1417.8,   1.9755,  34.7446,2,  34.7449,2,    193.2,2,    193.3,2,    84.82,2,     0.00,2,    30.42,2,     0.00,2,     2.10,2,    0.223,2,    0.118,2,   -0.077,4,   0.0020,2,   2247.2,3,   2348.8,2,   7.6097,2,    25.02,     -999,1,   1.9760,2,     -999,1,     -999,     -999,9,     -999,9,     -999,9,     -999,9,     -999,9,     -999,1,   0.0183,1,   4.6439,1,     27.3,2,     -999,9,20240317,0952, -52.1042,  88.4664,     -999,9,     -999,9,-999          ,9,-999          ,9,-999          ,9
325020240221  ,I08        ,34      ,  1,13         ,13         ,2,20240317,0823, -52.1042,  88.4664,     4248,   1518.6,   1.9314,  34.7462,2,  34.7475,2,    194.3,2,    194.0,2,    85.89,2,     0.00,2,    30.25,2,     0.00,2,     2.10,2,    0.223,2,    0.114,2,   -0.068,4,   0.0000,2,   2246.8,3,   2350.1,2,   7.6113,2,    25.02,     -999,1,   1.9296,2,     -999,9,     -999,     -999,9,     -999,9,     -999,9,     -999,9,     -999,9,     -999,1,   0.0183,1,   4.6447,1,     27.7,2,     -999,9,20240317,0948, -52.1042,  88.4664,     -999,9,     -999,9,-999          ,9,-999          ,9,-999          ,9
325020240221  ,I08        ,34      ,  1,12         ,12         ,2,20240317,0823, -52.1042,  88.4664,     4248,   1619.7,   1.8656,  34.7497,2,  34.7508,2,    196.5,2,    196.6,2,    87.84,2,     0.00,2,    30.11,2,     0.00,2,     2.10,2,    0.196,2,    0.105,2,   -0.065,4,   0.0000,2,   2250.3,3,   2350.2,2,   7.6148,2,    25.00,     -999,1,   1.8654,2,     -999,1,     -999,     -999,9,     -999,9,     -999,9,     -999,9,     -999,9,     -999,1,   0.0183,1,   4.6442,1,     28.0,2,     -999,9,20240317,0944, -52.1042,  88.4664,     -999,9,     -999,9,-999          ,9,-999          ,9,-999          ,9
325020240221  ,I08        ,34      ,  1,11         ,11         ,2,20240317,0823, -52.1042,  88.4664,     4248,   1768.0,   1.7368,  34.7482,2,  34.7494,2,    198.5,2,    198.6,2,    91.06,2,     0.03,2,    30.14,2,     0.00,2,     2.12,2,    0.209,2,    0.107,2,   -0.061,4,   0.0070,2,   2248.0,3,   2353.4,2,   7.6163,2,    25.01,     -999,1,   1.7366,2,     -999,1,     -999,     -999,9,     -999,9,     -999,9,     -999,9,     -999,9,     -999,1,   0.0182,1,   4.6422,1,     28.4,2,     -999,9,20240317,0939, -52.1042,  88.4664,     -999,9,     -999,9,-999          ,9,-999          ,9,-999          ,9
325020240221  ,I08        ,34      ,  1,10         ,10         ,2,20240317,0823, -52.1042,  88.4664,     4248,   2027.1,   1.5060,  34.7406,2,  34.7412,2,    201.1,2,    201.3,2,    97.80,2,     0.00,2,    30.55,2,     0.00,2,     2.15,2,    0.214,2,    0.118,2,   -0.053,4,   0.0690,2,   2251.3,3,   2354.5,2,   7.6146,6,    25.01,     -999,1,   1.5056,2,     -999,1,     -999,     -999,9,     -999,9,     -999,9,     -999,9,     -999,9,     -999,1,   0.0176,1,   4.6386,1,     28.6,2,     -999,9,20240317,0929, -52.1042,  88.4664,     -999,9,     -999,9,-999          ,9,-999          ,9,-999          ,9
325020240221  ,I08        ,34      ,  1,9          ,9          ,2,20240317,0823, -52.1042,  88.4664,     4248,   2282.9,   1.2779,  34.7300,2,  34.7305,2,    203.5,2,    203.8,2,   105.12,2,     0.00,2,    31.07,2,     0.00,2,     2.18,2,    0.259,2,    0.133,2,   -0.045,4,   0.0000,2,   2255.6,3,   2356.1,2,   7.6100,2,    25.01,     -999,1,   1.2769,2,     -999,9,     -999,     -999,9,     -999,9,     -999,9,     -999,9,     -999,9,     -999,1,   0.0183,1,   4.6361,1,     29.3,2,     -999,9,20240317,0921, -52.1042,  88.4664,     -999,9,     -999,9,-999          ,9,-999          ,9,-999          ,9
325020240221  ,I08        ,34      ,  1,8          ,8          ,2,20240317,0823, -52.1042,  88.4664,     4248,   2536.9,   1.1006,  34.7201,2,  34.7205,2,    205.2,2,    205.2,2,   110.39,2,     0.02,2,    31.57,2,     0.00,2,     2.21,2,    0.320,2,    0.153,2,   -0.031,4,   0.0390,2,   2256.0,3,   2356.1,2,   7.6073,2,    25.00,     -999,1,   1.1000,2,     -999,1,     -999,     -999,9,     -999,9,     -999,9,     -999,9,     -999,9,     -999,1,   0.0183,1,   4.6346,1,     29.7,2,     -999,9,20240317,0914, -52.1042,  88.4664,     -999,9,     -999,9,-999          ,9,-999          ,9,-999          ,9
325020240221  ,I08        ,34      ,  1,7          ,7          ,2,20240317,0823, -52.1042,  88.4664,     4248,   2792.4,   0.9013,  34.7090,2,  34.7095,2,    207.6,2,    207.5,2,   116.25,2,     0.02,2,    32.02,2,     0.00,2,     2.23,2,    0.404,2,    0.192,2,   -0.020,4,   0.0400,2,   2260.2,3,   2356.4,2,   7.6026,6,    24.99,     -999,1,   0.9007,2,     -999,9,     -999,     -999,9,     -999,9,     -999,9,     -999,9,     -999,9,     -999,1,   0.0183,1,   4.6325,1,     30.4,2,     -999,9,20240317,0906, -52.1042,  88.4664,     -999,9,     -999,9,-999          ,9,-999          ,9,-999          ,9
325020240221  ,I08        ,34      ,  1,6          ,6          ,2,20240317,0823, -52.1042,  88.4664,     4248,   3047.1,   0.6810,  34.6969,2,  34.6969,2,    211.3,2,    211.1,2,   121.91,2,     0.03,2,    32.41,2,     0.00,2,     2.27,2,    0.527,2,    0.249,2,   -0.008,4,   0.0900,2,   2259.4,3,   2357.1,6,   7.5979,2,    25.04,     -999,1,   0.6808,2,     -999,1,     -999,     -999,9,     -999,9,     -999,9,     -999,9,     -999,9,     -999,1,   0.0183,1,   4.6299,1,     30.8,2,     -999,9,20240317,0857, -52.1042,  88.4664,     -999,9,     -999,9,-999          ,9,-999          ,9,-999          ,9