BOTTLE,20240417CCHHYDRO
EXPOCODE,SECT_ID,STNNBR,CASTNO,SAMPNO,BTLNBR,BTLNBR_FLAG_W,DATE,TIME,LATITUDE,LONGITUDE,DEPTH,CTDPRS,CTDTMP,CTDSAL,CTDSAL_FLAG_W,SALNTY,SALNTY_FLAG_W,CTDOXY,CTDOXY_FLAG_W,OXYGEN,OXYGEN_FLAG_W,SILCAT,SILCAT_FLAG_W,NH4,NH4_FLAG_W,NITRAT,NITRAT_FLAG_W,NITRIT,NITRIT_FLAG_W,PHSPHT,PHSPHT_FLAG_W,CFC-11,CFC-11_FLAG_W,CFC-12,CFC-12_FLAG_W,CFC113,CFC113_FLAG_W,SF6,SF6_FLAG_W,TCARBN,TCARBN_FLAG_W,ALKALI,ALKALI_FLAG_W,PH_TOT,PH_TOT_FLAG_W,PH_TMP,DOC,DOC_FLAG_W,REFTMP,REFTMP_FLAG_W,DELC14,DELC14_FLAG_W,C14ERR,POC,POC_FLAG_W,PON,PON_FLAG_W,POP,POP_FLAG_W,PCOD,PCOD_FLAG_W,DOP,DOP_FLAG_W,TDN,TDN_FLAG_W,CTDFLUOR,CTDFLUOR_FLAG_W,CTDXMISS,CTDXMISS_FLAG_W,N2O,N2O_FLAG_W,ARGON,ARGON_FLAG_W,BTL_DATE,BTL_TIME,BTL_LAT,BTL_LON,KRYPTON,KRYPTON_FLAG_W,XENON,XENON_FLAG_W,HPLC,HPLC_FLAG_W,DNA,DNA_FLAG_W,FCM,FCM_FLAG_W
,,,,,,,,,,,METERS,DBAR,ITS-90,PSS-78,,PSS-78,,UMOL/KG,,UMOL/KG,,UMOL/KG,,UMOL/KG,,UMOL/KG,,UMOL/KG,,UMOL/KG,,PMOL/KG,,PMOL/KG,,PMOL/KG,,FMOL/KG,,UMOL/KG,,UMOL/KG,,,,DEG C,UMOL/KG,,ITS-90,,/MILLE,,/MILLE,UG/KG,,UG/KG,,UG/L,,UG/L,,UMOL/KG,,UMOL/KG,,VOLTS,,VOLTS,,NMOL/KG,,UMOL/L,,,,,,NMOL/L,,NMOL/L,,,,,,,
325020240221  ,I08        ,54      ,  1,36         ,36         ,2,20240323,1641, -38.9914,  94.9924,     3648,      2.8,  17.6514,  34.9629,2,  34.9567,2,    245.2,2,    244.6,2,     0.68,2,     0.04,2,     1.35,2,     0.04,2,     0.22,2,    2.176,6,    1.333,6,    0.265,4,   2.3620,6,   2068.6,3,   2314.3,2,   7.9489,6,    24.98,     -999,1,  17.6514,2,     -999,9,     -999,     -999,9,     -999,9,     -999,9,     -999,9,     -999,9,     -999,1,   0.0782,1,   4.4710,1,      7.7,6,     -999,9,20240323,1830, -38.9914,  94.9924,     -999,9,     -999,9,-999          ,9,-999          ,9,-999          ,9
325020240221  ,I08        ,54      ,  1,35         ,35         ,2,20240323,1641, -38.9914,  94.9924,     3648,     19.7,  17.6300,  34.9638,2,  34.9581,2,    245.1,2,    245.3,2,     0.68,2,     0.04,2,     1.34,2,     0.04,2,     0.21,2,    2.177,2,    1.378,2,    0.243,4,   2.3520,2,   2065.2,3,   2312.1,2,   7.9485,2,    24.99,     -999,1,  17.6146,2,     -999,9,     -999,     -999,9,     -999,9,     -999,9,     -999,9,     -999,9,     -999,1,   0.0792,1,   4.4696,1,      7.2,2,     -999,9,20240323,1828, -38.9914,  94.9924,     -999,9,     -999,9,-999          ,9,-999          ,9,-999          ,9
325020240221  ,I08        ,54      ,  1,34         ,34         ,2,20240323,1641, -38.9914,  94.9924,     3648,     39.1,  17.1641,  35.0091,2,  35.0116,2,    246.8,2,    246.4,2,     0.68,2,     0.10,2,     1.49,2,     0.05,2,     0.24,2,    2.462,2,    1.376,2,    0.254,4,   2.3880,2,   2073.2,3,   2316.4,2,   7.9428,2,    25.00,     -999,1,  17.1654,2,     -999,9,     -999,     -999,9,     -999,9,     -999,9,     -999,9,     -999,9,     -999,1,   0.0922,1,   4.4909,1,      7.2,2,     -999,9,20240323,1827, -38.9914,  94.9924,     -999,9,     -999,9,-999          ,9,-999          ,9,-999          ,9
325020240221  ,I08        ,54      ,  1,33         ,33         ,2,20240323,1641, -38.9914,  94.9924,     3648,     66.1,  14.9720,  34.9218,2,  34.9233,2,    253.9,2,    254.3,2,     1.37,2,     0.54,2,     3.65,2,     0.10,2,     0.42,2,    2.599,2,    1.560,2,    0.296,4,   2.4250,2,   2090.8,3,   2309.8,2,   7.8944,2,    25.03,     -999,1,  15.1072,2,     -999,9,     -999,     -999,9,     -999,9,     -999,9,     -999,9,     -999,9,     -999,1,   0.0594,1,   4.6014,1,      8.0,2,     -999,9,20240323,1825, -38.9914,  94.9924,     -999,9,     -999,9,-999          ,9,-999          ,9,-999          ,9
325020240221  ,I08        ,54      ,  1,32         ,32         ,2,20240323,1641, -38.9914,  94.9924,     3648,     90.3,  12.3335,  34.9444,2,  34.9490,2,    258.1,2,    257.3,2,     2.24,2,     0.42,2,     6.45,2,     0.60,2,     0.61,2,    3.191,2,    1.693,2,    0.289,4,   2.5680,2,   2110.0,3,   2306.8,2,   7.8361,2,    24.98,     -999,1,  12.3395,2,     -999,9,     -999,     -999,9,     -999,9,     -999,9,     -999,9,     -999,9,     -999,1,   0.0432,1,   4.6424,1,      8.1,2,     -999,9,20240323,1823, -38.9914,  94.9924,     -999,9,     -999,9,-999          ,9,-999          ,9,-999          ,9
325020240221  ,I08        ,54      ,  1,31         ,31         ,2,20240323,1641, -38.9914,  94.9924,     3648,    114.9,  12.1487,  34.9770,2,  34.9713,2,    250.4,2,    250.8,2,     2.15,2,     0.00,2,     7.86,2,     0.06,2,     0.63,2,     -999,9,     -999,9,     -999,9,     -999,9,   2119.1,3,   2307.8,2,   7.8282,2,    24.98,     -999,1,  12.1610,2,     -999,9,     -999,     -999,9,     -999,9,     -999,9,     -999,9,     -999,9,     -999,1,   0.0257,1,   4.6684,1,     -999,9,     -999,9,20240323,1822, -38.9914,  94.9923,     -999,9,     -999,9,-999          ,9,-999          ,9,-999          ,9
325020240221  ,I08        ,54      ,  1,30         ,30         ,2,20240323,1641, -38.9914,  94.9924,     3648,    140.6,  11.9897,  34.9932,2,  34.9917,2,    251.4,2,    251.1,2,     2.24,2,     0.02,2,     8.13,2,     0.00,2,     0.63,2,    3.257,2,    1.759,2,    0.256,4,   2.6340,2,   2125.0,3,   2310.9,2,   7.8278,2,    25.00,     -999,1,  11.9812,2,     -999,9,     -999,     -999,9,     -999,9,     -999,9,     -999,9,     -999,9,     -999,1,   0.0195,1,   4.6793,1,      7.9,2,     -999,9,20240323,1820, -38.9914,  94.9924,     -999,9,     -999,9,-999          ,9,-999          ,9,-999          ,9
325020240221  ,I08        ,54      ,  1,29         ,29         ,2,20240323,1641, -38.9914,  94.9924,     3648,    184.4,  11.8569,  35.0134,2,  35.0120,2,    247.0,2,    247.8,2,     2.44,2,     0.00,2,     8.63,2,     0.00,2,     0.67,2,     -999,9,     -999,9,     -999,9,     -999,9,   2129.2,3,   2311.7,2,   7.8219,6,    25.00,     -999,1,  11.8593,2,     -999,9,     -999,     -999,9,     -999,9,     -999,9,     -999,9,     -999,9,     -999,1,   0.0183,1,   4.6813,1,     -999,9,     -999,9,20240323,1818, -38.9914,  94.9923,     -999,9,     -999,9,-999          ,9,-999          ,9,-999          ,9
325020240221  ,I08        ,54      ,  1,28         ,28         ,2,20240323,1641, -38.9914,  94.9924,     3648,    236.2,  11.4890,  34.9761,2,  34.9721,2,    245.6,2,    246.0,2,     2.93,2,     0.00,2,     9.91,2,     0.00,2,     0.74,2,    3.197,2,    1.735,2,    0.205,4,   2.5210,2,   2129.5,3,   2307.4,6,   7.8100,2,    24.98,     -999,1,  11.4894,2,     -999,9,     -999,     -999,9,     -999,9,     -999,9,     -999,9,     -999,9,     -999,1,   0.0171,1,   4.6816,1,      8.3,2,     -999,9,20240323,1816, -38.9914,  94.9923,     -999,9,     -999,9,-999          ,9,-999          ,9,-999          ,9
325020240221  ,I08        ,54      ,  1,27         ,27         ,2,20240323,1641, -38.9914,  94.9924,     3648,    286.6,  11.2601,  34.9435,2,  34.9418,2,    245.2,2,    245.7,2,     3.22,2,     0.00,2,    10.75,2,     0.00,2,     0.79,2,     -999,9,     -999,9,     -999,9,     -999,9,   2127.0,3,   2305.7,2,   7.8025,6,    25.00,     -999,1,  11.2644,2,     -999,9,     -999,     -999,9,     -999,9,     -999,9,     -999,9,     -999,9,     -999,1,   0.0179,1,   4.6802,1,     -999,9,     -999,9,20240323,1813, -38.9914,  94.9923,     -999,9,     -999,9,-999          ,9,-999          ,9,-999          ,9
325020240221  ,I08        ,54      ,  1,26         ,26         ,2,20240323,1641, -38.9914,  94.9924,     3648,    338.4,  11.0564,  34.9089,2,  34.9056,2,    247.1,2,    247.7,2,     3.32,2,     0.00,2,    11.18,2,     0.00,2,     0.83,2,    3.518,2,    1.791,2,    0.201,4,   2.4200,2,   2128.6,3,   2302.6,2,   7.8000,2,    25.00,     -999,1,  11.0564,2,     -999,9,     -999,     -999,9,     -999,9,     -999,9,     -999,9,     -999,9,     -999,1,   0.0183,1,   4.6827,1,      7.8,2,     -999,9,20240323,1811, -38.9914,  94.9924,     -999,9,     -999,9,-999          ,9,-999          ,9,-999          ,9
325020240221  ,I08        ,54      ,  1,25         ,25         ,2,20240323,1641, -38.9914,  94.9924,     3648,    388.2,  10.8212,  34.8687,2,  34.8656,2,    245.4,2,    246.1,2,     3.51,2,     0.00,2,    11.98,2,     0.00,2,     0.88,2,     -999,9,     -999,9,     -999,9,     -999,9,   2130.2,3,   2303.3,2,   7.7921,2,    24.99,     -999,1,  10.8156,2,     -999,9,     -999,     -999,9,     -999,9,     -999,9,     -999,9,     -999,9,     -999,1,   0.0171,1,   4.6825,1,     -999,9,     -999,9,20240323,1809, -38.9914,  94.9923,     -999,9,     -999,9,-999          ,9,-999          ,9,-999          ,9
325020240221  ,I08        ,54      ,  1,24         ,24         ,2,20240323,1641, -38.9914,  94.9924,     3648,    438.0,  10.5239,  34.8190,2,  34.8190,2,    245.5,2,    246.2,2,     3.71,2,     0.00,2,    12.61,2,     0.00,2,     0.91,2,    3.533,2,    1.888,2,    0.201,4,   2.4130,2,   2130.3,3,   2298.7,2,   7.7849,2,    24.99,     -999,1,  10.5288,2,     -999,9,     -999,     -999,9,     -999,9,     -999,9,     -999,9,     -999,9,     -999,1,   0.0176,1,   4.6825,1,      7.8,2,     -999,9,20240323,1807, -38.9914,  94.9924,     -999,9,     -999,9,-999          ,9,-999          ,9,-999          ,9
325020240221  ,I08        ,54      ,  1,23         ,37         ,2,20240323,1641, -38.9914,  94.9924,     3648,    489.1,  10.2913,  34.7813,2,  34.7791,2,    244.8,2,    244.9,2,     4.00,2,     0.02,2,    13.39,2,     0.00,2,     0.97,2,    3.471,2,    1.856,2,    0.213,4,   2.3380,2,   2136.2,3,   2297.5,2,   7.7772,2,    25.00,     -999,1,  10.2969,2,     -999,9,     -999,     -999,9,     -999,9,     -999,9,     -999,9,     -999,9,     -999,1,   0.0177,1,   4.6831,1,      7.5,2,     -999,9,20240323,1805, -38.9914,  94.9923,     -999,9,     -999,9,-999          ,9,-999          ,9,-999          ,9
325020240221  ,I08        ,54      ,  1,22         ,22         ,2,20240323,1641, -38.9914,  94.9924,     3648,    570.3,   9.8481,  34.7267,2,  34.7264,2,    234.5,2,    233.7,2,     4.98,2,     0.00,2,    15.69,2,     0.00,2,     1.09,2,    3.563,2,    1.892,2,    0.220,4,   1.9910,2,   2139.5,3,   2296.1,2,   7.7544,2,    25.00,     -999,1,   9.8480,2,     -999,9,     -999,     -999,9,     -999,9,     -999,9,     -999,9,     -999,9,     -999,1,   0.0176,1,   4.6846,1,      5.9,2,     -999,9,20240323,1802, -38.9914,  94.9924,     -999,9,     -999,9,-999          ,9,-999          ,9,-999          ,9
325020240221  ,I08        ,54      ,  1,21         ,21         ,2,20240323,1641, -38.9914,  94.9924,     3648,    671.1,   9.1109,  34.6459,2,  34.6445,2,    225.8,2,    225.4,2,     6.64,2,     0.00,2,    18.32,2,     0.00,2,     1.26,2,    3.452,2,    1.924,2,    0.155,4,   1.7740,2,   2146.6,3,   2292.9,2,   7.7286,2,    24.98,     -999,1,   9.1125,2,     -999,9,     -999,     -999,9,     -999,9,     -999,9,     -999,9,     -999,9,     -999,1,   0.0176,1,   4.6861,1,      8.3,2,     -999,9,20240323,1800, -38.9914,  94.9923,     -999,9,     -999,9,-999          ,9,-999          ,9,-999          ,9
325020240221  ,I08        ,54      ,  1,20         ,20         ,2,20240323,1641, -38.9914,  94.9924,     3648,    771.4,   8.1684,  34.5508,2,  34.5498,2,    211.7,2,    212.1,2,    10.64,2,     0.00,2,    21.86,2,     0.00,2,     1.48,2,    3.533,2,    1.818,2,    0.150,4,   1.3410,2,   2161.0,3,   2289.5,2,   7.6936,2,    24.98,     -999,1,   8.1684,2,     -999,9,     -999,     -999,9,     -999,9,     -999,9,     -999,9,     -999,9,     -999,1,   0.0183,1,   4.6874,1,      9.3,2,     -999,9,20240323,1756, -38.9914,  94.9923,     -999,9,     -999,9,-999          ,9,-999          ,9,-999          ,9
325020240221  ,I08        ,54      ,  1,19         ,19         ,2,20240323,1641, -38.9914,  94.9924,     3648,    873.0,   6.7982,  34.4436,2,  34.4428,2,    202.1,2,    203.3,2,    17.28,2,     0.00,2,    25.92,2,     0.00,2,     1.74,2,     -999,9,     -999,9,     -999,9,     -999,9,   2171.3,3,   2291.1,2,   7.6532,2,    25.00,     -999,1,   6.7987,2,     -999,9,     -999,     -999,9,     -999,9,     -999,9,     -999,9,     -999,9,     -999,1,   0.0183,1,   4.6894,1,     -999,9,     -999,9,20240323,1753, -38.9914,  94.9923,     -999,9,     -999,9,-999          ,9,-999          ,9,-999          ,9
325020240221  ,I08        ,54      ,  1,18         ,18         ,2,20240323,1641, -38.9914,  94.9924,     3648,    973.9,   5.5902,  34.3681,2,  34.3654,2,    204.0,2,    203.9,2,    24.21,2,     0.00,2,    28.63,2,     0.00,2,     1.96,2,    2.873,2,    1.453,2,    0.147,4,   0.8670,2,   2186.8,3,   2291.9,2,   7.6279,2,    25.01,     -999,1,   5.5876,2,     -999,9,     -999,     -999,9,     -999,9,     -999,9,     -999,9,     -999,9,     -999,1,   0.0178,1,   4.6898,1,     10.6,2,     -999,9,20240323,1750, -38.9914,  94.9923,     -999,9,     -999,9,-999          ,9,-999          ,9,-999          ,9
325020240221  ,I08        ,54      ,  1,17         ,17         ,2,20240323,1641, -38.9914,  94.9924,     3648,   1075.1,   4.6454,  34.3436,2,  34.3443,2,    202.1,2,    201.9,2,    31.83,2,     0.00,2,    30.54,2,     0.00,2,     2.09,2,     -999,9,     -999,9,     -999,9,     -999,9,   2200.9,3,   2296.9,2,   7.6107,2,    24.99,     -999,1,   4.6565,2,     -999,9,     -999,     -999,9,     -999,9,     -999,9,     -999,9,     -999,9,     -999,1,   0.0183,1,   4.6777,1,     -999,9,     -999,9,20240323,1747, -38.9914,  94.9923,     -999,9,     -999,9,-999          ,9,-999          ,9,-999          ,9
325020240221  ,I08        ,54      ,  1,16         ,16         ,2,20240323,1641, -38.9914,  94.9924,     3648,   1175.5,   4.0280,  34.3572,2,  34.3578,2,    195.2,2,    194.9,2,    40.81,2,     0.00,2,    32.09,2,     0.00,2,     2.20,2,    1.562,2,    0.772,2,    0.097,4,   0.4190,2,   2211.9,3,   2305.5,2,   7.5928,6,    24.98,     -999,1,   4.0171,2,     -999,9,     -999,     -999,9,     -999,9,     -999,9,     -999,9,     -999,9,     -999,1,   0.0183,1,   4.6691,1,      9.7,4,     -999,9,20240323,1744, -38.9914,  94.9923,     -999,9,     -999,9,-999          ,9,-999          ,9,-999          ,9
325020240221  ,I08        ,54      ,  1,15         ,15         ,2,20240323,1641, -38.9914,  94.9924,     3648,   1277.6,   3.5918,  34.3978,2,  34.3988,2,    185.9,2,    185.1,2,    50.37,2,     0.00,2,    33.30,2,     0.00,2,     2.29,2,     -999,9,     -999,9,     -999,9,     -999,9,   2224.9,3,   2313.6,2,   7.5766,2,    25.00,     -999,1,   3.5927,2,     -999,9,     -999,     -999,9,     -999,9,     -999,9,     -999,9,     -999,9,     -999,1,   0.0183,1,   4.6640,1,     -999,9,     -999,9,20240323,1741, -38.9914,  94.9923,     -999,9,     -999,9,-999          ,9,-999          ,9,-999          ,9
325020240221  ,I08        ,54      ,  1,14         ,14         ,2,20240323,1641, -38.9914,  94.9924,     3648,   1379.8,   3.3267,  34.4439,2,  34.4418,2,    177.6,2,    177.5,2,    57.01,2,     0.00,2,    33.91,2,     0.00,2,     2.32,2,    1.201,2,    0.599,2,    0.068,4,   0.2540,2,   2241.7,3,   2319.1,2,   7.5670,2,    25.01,     -999,1,   3.3330,2,     -999,9,     -999,     -999,9,     -999,9,     -999,9,     -999,9,     -999,9,     -999,1,   0.0183,1,   4.6604,1,     12.8,2,     -999,9,20240323,1738, -38.9914,  94.9923,     -999,9,     -999,9,-999          ,9,-999          ,9,-999          ,9
325020240221  ,I08        ,54      ,  1,12         ,12         ,4,20240323,1641, -38.9914,  94.9924,     3648,   1478.5,   3.1121,  34.4881,3,     -999,9,    172.7,3,     -999,9,     -999,9,     -999,9,     -999,9,     -999,9,     -999,9,     -999,9,     -999,9,     -999,9,     -999,9,     -999,9,     -999,9,     -999,9,     -999,     -999,9,   3.1141,3,     -999,9,     -999,     -999,9,     -999,9,     -999,9,     -999,9,     -999,9,     -999,9,   0.0183,1,   4.6580,1,     -999,9,     -999,9,20240323,1735, -38.9914,  94.9923,     -999,9,     -999,9,-999          ,9,-999          ,9,-999          ,9
325020240221  ,I08        ,54      ,  1,13         ,13         ,2,20240323,1641, -38.9914,  94.9924,     3648,   1478.7,   3.1149,  34.4872,2,  34.4885,2,    172.7,2,    172.8,2,    62.96,2,     0.00,2,    34.20,2,     0.00,2,     2.34,2,    0.942,2,    0.456,2,    0.053,4,   0.1370,2,   2241.7,3,   2325.8,2,   7.5619,2,    24.99,     -999,1,   3.1150,2,     -999,9,     -999,     -999,9,     -999,9,     -999,9,     -999,9,     -999,9,     -999,1,   0.0183,1,   4.6580,1,     13.4,2,     -999,9,20240323,1735, -38.9914,  94.9923,     -999,9,     -999,9,-999          ,9,-999          ,9,-999          ,9
325020240221  ,I08        ,54      ,  1,11         ,11         ,2,20240323,1641, -38.9914,  94.9924,     3648,   1581.0,   2.9318,  34.5415,2,  34.5415,2,    168.9,2,    168.9,2,    67.94,2,     0.00,2,    34.20,2,     0.00,2,     2.35,2,    0.628,2,    0.315,2,    0.027,4,   0.1560,2,   2245.6,3,   2330.6,2,   7.5611,2,    24.98,     -999,1,   2.9322,2,     -999,9,     -999,     -999,9,     -999,9,     -999,9,     -999,9,     -999,9,     -999,1,   0.0183,1,   4.6568,1,     13.7,2,     -999,9,20240323,1732, -38.9914,  94.9923,     -999,9,     -999,9,-999          ,9,-999          ,9,-999          ,9
325020240221  ,I08        ,54      ,  1,10         ,10         ,2,20240323,1641, -38.9914,  94.9924,     3648,   1783.4,   2.7059,  34.6229,2,  34.6238,2,    166.6,2,    167.3,2,    76.91,2,     0.00,2,    33.67,2,     0.00,2,     2.32,2,    0.282,2,    0.149,2,    0.013,4,   0.0780,2,   2254.1,3,   2342.4,2,   7.5688,2,    24.97,     -999,1,   2.7062,2,     -999,9,     -999,     -999,9,     -999,9,     -999,9,     -999,9,     -999,9,     -999,1,   0.0183,1,   4.6531,1,     13.8,2,     -999,9,20240323,1723, -38.9914,  94.9923,     -999,9,     -999,9,-999          ,9,-999          ,9,-999          ,9
325020240221  ,I08        ,54      ,  1,9          ,9          ,2,20240323,1641, -38.9914,  94.9924,     3648,   1955.4,   2.5605,  34.6726,2,  34.6716,2,    169.9,2,    170.1,2,    81.60,2,     0.00,2,    32.85,2,     0.00,2,     2.24,2,     -999,9,     -999,9,     -999,9,     -999,9,   2255.9,3,   2349.0,2,   7.5800,2,    24.99,     -999,1,   2.5601,2,     -999,9,     -999,     -999,9,     -999,9,     -999,9,     -999,9,     -999,9,     -999,1,   0.0183,1,   4.6508,1,     -999,9,     -999,9,20240323,1719, -38.9914,  94.9923,     -999,9,     -999,9,-999          ,9,-999          ,9,-999          ,9
325020240221  ,I08        ,54      ,  1,8          ,8          ,2,20240323,1641, -38.9914,  94.9924,     3648,   2160.2,   2.3930,  34.7100,2,  34.7105,2,    178.9,2,    179.1,2,    82.57,2,     0.00,2,    31.75,2,     0.00,2,     2.17,2,    0.138,2,    0.077,2,    0.008,4,   0.0040,2,   2254.6,3,   2350.4,2,   7.5940,2,    25.03,     -999,1,   2.3932,2,     -999,9,     -999,     -999,9,     -999,9,     -999,9,     -999,9,     -999,9,     -999,1,   0.0183,1,   4.6483,1,     13.6,2,     -999,9,20240323,1715, -38.9914,  94.9923,     -999,9,     -999,9,-999          ,9,-999          ,9,-999          ,9
325020240221  ,I08        ,54      ,  1,7          ,7          ,2,20240323,1641, -38.9914,  94.9924,     3648,   2365.3,   2.1950,  34.7357,2,  34.7347,2,    186.3,2,    186.4,2,    85.98,2,     0.02,2,    31.02,2,     0.00,2,     2.12,2,     -999,9,     -999,9,     -999,9,     -999,9,   2253.4,3,   2352.6,2,   7.6074,2,    25.00,     -999,1,   2.1947,2,     -999,9,     -999,     -999,9,     -999,9,     -999,9,     -999,9,     -999,9,     -999,1,   0.0183,1,   4.6459,1,     -999,9,     -999,9,20240323,1710, -38.9914,  94.9923,     -999,9,     -999,9,-999          ,9,-999          ,9,-999          ,9
325020240221  ,I08        ,54      ,  1,6          ,6          ,2,20240323,1641, -38.9914,  94.9924,     3648,   2567.8,   1.9964,  34.7465,2,  34.7467,2,    192.8,2,    192.9,2,    88.62,2,     0.00,2,    30.53,2,     0.00,2,     2.08,2,    0.095,2,    0.054,2,    0.008,4,   0.0000,2,   2253.6,3,   2354.4,2,   7.6152,6,    25.00,     -999,1,   1.9991,2,     -999,9,     -999,     -999,9,     -999,9,     -999,9,     -999,9,     -999,9,     -999,1,   0.0183,1,   4.6435,1,     13.2,2,     -999,9,20240323,1706, -38.9914,  94.9923,     -999,9,     -999,9,-999          ,9,-999          ,9,-999          ,9