BOTTLE,20240417CCHHYDRO
EXPOCODE,SECT_ID,STNNBR,CASTNO,SAMPNO,BTLNBR,BTLNBR_FLAG_W,DATE,TIME,LATITUDE,LONGITUDE,DEPTH,CTDPRS,CTDTMP,CTDSAL,CTDSAL_FLAG_W,SALNTY,SALNTY_FLAG_W,CTDOXY,CTDOXY_FLAG_W,OXYGEN,OXYGEN_FLAG_W,SILCAT,SILCAT_FLAG_W,NH4,NH4_FLAG_W,NITRAT,NITRAT_FLAG_W,NITRIT,NITRIT_FLAG_W,PHSPHT,PHSPHT_FLAG_W,CFC-11,CFC-11_FLAG_W,CFC-12,CFC-12_FLAG_W,CFC113,CFC113_FLAG_W,SF6,SF6_FLAG_W,TCARBN,TCARBN_FLAG_W,ALKALI,ALKALI_FLAG_W,PH_TOT,PH_TOT_FLAG_W,PH_TMP,DOC,DOC_FLAG_W,REFTMP,REFTMP_FLAG_W,DELC14,DELC14_FLAG_W,C14ERR,POC,POC_FLAG_W,PON,PON_FLAG_W,POP,POP_FLAG_W,PCOD,PCOD_FLAG_W,DOP,DOP_FLAG_W,TDN,TDN_FLAG_W,CTDFLUOR,CTDFLUOR_FLAG_W,CTDXMISS,CTDXMISS_FLAG_W,N2O,N2O_FLAG_W,ARGON,ARGON_FLAG_W,BTL_DATE,BTL_TIME,BTL_LAT,BTL_LON,KRYPTON,KRYPTON_FLAG_W,XENON,XENON_FLAG_W,HPLC,HPLC_FLAG_W,DNA,DNA_FLAG_W,FCM,FCM_FLAG_W
,,,,,,,,,,,METERS,DBAR,ITS-90,PSS-78,,PSS-78,,UMOL/KG,,UMOL/KG,,UMOL/KG,,UMOL/KG,,UMOL/KG,,UMOL/KG,,UMOL/KG,,PMOL/KG,,PMOL/KG,,PMOL/KG,,FMOL/KG,,UMOL/KG,,UMOL/KG,,,,DEG C,UMOL/KG,,ITS-90,,/MILLE,,/MILLE,UG/KG,,UG/KG,,UG/L,,UG/L,,UMOL/KG,,UMOL/KG,,VOLTS,,VOLTS,,NMOL/KG,,UMOL/L,,,,,,NMOL/L,,NMOL/L,,,,,,,
325020240221  ,I08        ,18      ,  1,31         ,31         ,2,20240308,0227, -61.4905,  82.0022,     2161,      3.8,   1.2492,  33.9309,2,  33.9346,2,    322.9,2,    323.0,2,    34.08,2,     0.11,2,    25.89,2,     0.28,2,     1.74,2,    4.923,2,    2.608,2,    0.426,2,   4.4490,2,   2165.9,3,   2296.9,2,   7.6824,6,    24.99,     -999,1,   1.2491,2,     -999,9,     -999,     -999,9,     -999,9,     -999,9,     -999,9,     -999,9,     -999,1,   0.1841,1,   4.2257,1,     11.5,2,     -999,9,20240308,0352, -61.4905,  82.0022,     -999,9,     -999,9,-999          ,9,-999          ,9,-999          ,9
325020240221  ,I08        ,18      ,  1,30         ,30         ,2,20240308,0227, -61.4905,  82.0022,     2161,     19.8,   1.2521,  33.9319,2,  33.9303,2,    323.1,2,    323.1,2,    34.08,2,     0.16,2,    25.92,2,     0.28,2,     1.73,2,     -999,9,     -999,9,     -999,9,     -999,9,   2170.7,3,   2294.9,2,   7.6822,2,    25.03,     -999,1,   1.2516,2,     -999,9,     -999,     -999,9,     -999,9,     -999,9,     -999,9,     -999,9,     -999,1,   0.1861,1,   4.2247,1,     -999,9,     -999,9,20240308,0351, -61.4905,  82.0022,     -999,9,     -999,9,-999          ,9,-999          ,9,-999          ,9
325020240221  ,I08        ,18      ,  1,29         ,29         ,2,20240308,0227, -61.4905,  82.0022,     2161,     38.9,   1.2611,  33.9353,2,  33.9385,2,    322.6,2,    322.7,2,    34.08,2,     0.13,2,    25.89,2,     0.28,2,     1.74,2,    4.845,2,    2.655,2,    0.427,2,   4.5710,2,   2172.4,3,   2291.8,2,   7.6809,6,    25.00,     -999,1,   1.2601,2,     -999,9,     -999,     -999,9,     -999,9,     -999,9,     -999,9,     -999,9,     -999,1,   0.2087,1,   4.2262,1,     11.7,2,     -999,9,20240308,0349, -61.4905,  82.0021,     -999,9,     -999,9,-999          ,9,-999          ,9,-999          ,9
325020240221  ,I08        ,18      ,  1,28         ,28         ,2,20240308,0227, -61.4905,  82.0022,     2161,     64.5,   1.0271,  34.3033,2,  34.3154,2,    224.7,2,    223.0,2,    65.02,2,     0.32,2,    32.73,2,     0.34,2,     2.29,2,     -999,9,     -999,9,     -999,9,     -999,9,   2230.2,3,   2317.1,6,   7.5493,2,    25.00,     -999,1,   0.9930,2,     -999,9,     -999,     -999,9,     -999,9,     -999,9,     -999,9,     -999,9,     -999,1,   0.0760,1,   4.4394,1,     -999,9,     -999,9,20240308,0347, -61.4905,  82.0021,     -999,9,     -999,9,-999          ,9,-999          ,9,-999          ,9
325020240221  ,I08        ,18      ,  1,27         ,27         ,2,20240308,0227, -61.4905,  82.0022,     2161,     90.5,   1.4563,  34.4756,2,  34.4726,2,    183.4,3,    185.9,2,    74.39,2,     0.00,2,    34.67,2,     0.05,2,     2.37,2,    1.736,2,    0.871,2,    0.135,2,   0.9860,2,   2256.4,3,   2326.8,2,   7.5204,2,    24.99,     -999,1,   1.4636,2,     -999,9,     -999,     -999,9,     -999,9,     -999,9,     -999,9,     -999,9,     -999,1,   0.0220,1,   4.6138,1,     16.7,2,     -999,9,20240308,0345, -61.4905,  82.0021,     -999,9,     -999,9,-999          ,9,-999          ,9,-999          ,9
325020240221  ,I08        ,18      ,  1,26         ,26         ,2,20240308,0227, -61.4905,  82.0022,     2161,    115.5,   1.8371,  34.5486,2,  34.5482,2,    170.6,2,    171.2,2,    78.68,2,     0.00,2,    34.87,2,     0.00,2,     2.36,2,     -999,9,     -999,9,     -999,9,     -999,9,   2258.9,3,   2331.3,2,   7.5200,2,    25.01,     -999,1,   1.8437,2,     -999,9,     -999,     -999,9,     -999,9,     -999,9,     -999,9,     -999,9,     -999,1,   0.0193,1,   4.6253,1,     -999,9,     -999,9,20240308,0343, -61.4904,  82.0021,     -999,9,     -999,9,-999          ,9,-999          ,9,-999          ,9
325020240221  ,I08        ,18      ,  1,25         ,25         ,2,20240308,0227, -61.4905,  82.0022,     2161,    140.4,   1.9177,  34.5830,2,  34.5816,2,    168.2,2,    168.2,2,    80.92,2,     0.00,2,    34.71,2,     0.00,2,     2.34,2,    1.012,2,    0.510,2,    0.073,2,   0.5730,2,     -999,9,     -999,9,     -999,9,     -999,     -999,1,   1.9155,2,     -999,9,     -999,     -999,9,     -999,9,     -999,9,     -999,9,     -999,9,     -999,1,   0.0195,1,   4.6255,1,     17.3,2,     -999,9,20240308,0341, -61.4904,  82.0021,     -999,9,     -999,9,-999          ,9,-999          ,9,-999          ,9
325020240221  ,I08        ,18      ,  1,24         ,24         ,2,20240308,0227, -61.4905,  82.0022,     2161,    166.0,   1.9953,  34.6075,2,  34.6054,2,    167.0,2,    167.0,2,    82.19,2,     0.00,2,    34.50,2,     0.00,2,     2.34,2,     -999,9,     -999,9,     -999,9,     -999,9,   2261.4,3,   2336.4,2,   7.5287,2,    25.02,     -999,1,   1.9947,2,     -999,9,     -999,     -999,9,     -999,9,     -999,9,     -999,9,     -999,9,     -999,1,   0.0184,1,   4.6254,1,     -999,9,     -999,9,20240308,0339, -61.4905,  82.0021,     -999,9,     -999,9,-999          ,9,-999          ,9,-999          ,9
325020240221  ,I08        ,18      ,  1,23         ,37         ,2,20240308,0227, -61.4905,  82.0022,     2161,    190.9,   2.0185,  34.6229,2,  34.6209,2,    167.0,2,    166.7,2,    82.77,2,     0.00,2,    34.25,2,     0.00,2,     2.31,2,    0.848,2,    0.392,2,    0.050,2,   0.4040,2,   2260.6,3,   2340.4,2,   7.5332,2,    25.00,     -999,1,   2.0192,2,     -999,9,     -999,     -999,9,     -999,9,     -999,9,     -999,9,     -999,9,     -999,1,   0.0194,1,   4.6264,1,     16.9,2,     -999,9,20240308,0338, -61.4905,  82.0021,     -999,9,     -999,9,-999          ,9,-999          ,9,-999          ,9
325020240221  ,I08        ,18      ,  1,22         ,22         ,2,20240308,0227, -61.4905,  82.0022,     2161,    216.7,   2.0468,  34.6426,2,  34.6400,2,    167.9,2,    167.7,2,    83.06,2,     0.00,2,    33.86,2,     0.00,2,     2.30,2,     -999,9,     -999,9,     -999,9,     -999,9,     -999,9,     -999,9,     -999,9,     -999,     -999,1,   2.0461,2,     -999,9,     -999,     -999,9,     -999,9,     -999,9,     -999,9,     -999,9,     -999,1,   0.0186,1,   4.6312,1,     -999,9,     -999,9,20240308,0336, -61.4905,  82.0021,     -999,9,     -999,9,-999          ,9,-999          ,9,-999          ,9
325020240221  ,I08        ,18      ,  1,21         ,21         ,2,20240308,0227, -61.4905,  82.0022,     2161,    242.7,   2.0464,  34.6540,2,  34.6519,2,    168.8,2,    168.9,2,    83.06,2,     0.00,2,    33.53,2,     0.00,2,     2.28,2,    0.665,2,    0.312,2,    0.033,2,   0.3080,2,   2258.4,3,   2339.4,2,   7.5449,2,    24.99,     -999,1,   2.0461,2,     -999,9,     -999,     -999,9,     -999,9,     -999,9,     -999,9,     -999,9,     -999,1,   0.0174,1,   4.6343,1,     10.8,2,     -999,9,20240308,0334, -61.4905,  82.0022,     -999,9,     -999,9,-999          ,9,-999          ,9,-999          ,9
325020240221  ,I08        ,18      ,  1,20         ,20         ,2,20240308,0227, -61.4905,  82.0022,     2161,    287.3,   2.0315,  34.6714,2,  34.6682,2,    170.4,2,    170.1,2,    84.04,2,     0.00,2,    33.12,2,     0.00,2,     2.26,2,     -999,9,     -999,9,     -999,9,     -999,9,     -999,9,     -999,9,     -999,9,     -999,     -999,1,   2.0310,2,     -999,9,     -999,     -999,9,     -999,9,     -999,9,     -999,9,     -999,9,     -999,1,   0.0177,1,   4.6360,1,     -999,9,     -999,9,20240308,0332, -61.4905,  82.0021,     -999,9,     -999,9,-999          ,9,-999          ,9,-999          ,9
325020240221  ,I08        ,18      ,  1,19         ,19         ,2,20240308,0227, -61.4905,  82.0022,     2161,    343.4,   2.0241,  34.6901,2,  34.6887,2,    174.1,2,    173.9,2,    83.84,2,     0.00,2,    32.49,2,     0.00,2,     2.22,2,    0.487,2,    0.240,2,    0.026,2,   0.1480,2,   2256.4,3,   2343.6,2,   7.5621,2,    25.00,     -999,1,   2.0242,2,     -999,9,     -999,     -999,9,     -999,9,     -999,9,     -999,9,     -999,9,     -999,1,   0.0184,1,   4.6360,1,     15.2,2,     -999,9,20240308,0329, -61.4905,  82.0021,     -999,9,     -999,9,-999          ,9,-999          ,9,-999          ,9
325020240221  ,I08        ,18      ,  1,18         ,18         ,2,20240308,0227, -61.4905,  82.0022,     2161,    388.4,   2.0064,  34.6999,2,  34.6983,2,    176.1,2,    175.8,2,    84.43,2,     0.02,2,    32.18,2,     0.00,2,     2.19,2,     -999,9,     -999,9,     -999,9,     -999,9,     -999,9,     -999,9,     -999,9,     -999,     -999,1,   2.0063,2,     -999,9,     -999,     -999,9,     -999,9,     -999,9,     -999,9,     -999,9,     -999,1,   0.0176,1,   4.6360,1,     -999,9,     -999,9,20240308,0327, -61.4905,  82.0021,     -999,9,     -999,9,-999          ,9,-999          ,9,-999          ,9
325020240221  ,I08        ,18      ,  1,17         ,17         ,2,20240308,0227, -61.4905,  82.0022,     2161,    438.6,   1.9771,  34.7088,2,  34.7072,2,    178.0,2,    178.1,2,    85.11,2,     0.00,2,    31.95,2,     0.00,2,     2.17,2,    0.430,2,    0.201,2,    0.021,2,   0.0340,2,   2252.6,3,   2345.8,2,   7.5726,2,    25.00,     -999,1,   1.9766,2,     -999,9,     -999,     -999,9,     -999,9,     -999,9,     -999,9,     -999,9,     -999,1,   0.0178,1,   4.6359,1,     14.6,2,     -999,9,20240308,0325, -61.4904,  82.0021,     -999,9,     -999,9,-999          ,9,-999          ,9,-999          ,9
325020240221  ,I08        ,18      ,  1,16         ,16         ,2,20240308,0227, -61.4905,  82.0022,     2161,    489.9,   1.9412,  34.7186,2,  34.7176,2,    180.6,2,    181.1,2,    85.40,2,     0.00,2,    31.58,2,     0.00,2,     2.16,2,     -999,9,     -999,9,     -999,9,     -999,9,     -999,9,     -999,9,     -999,9,     -999,     -999,1,   1.9421,2,     -999,9,     -999,     -999,9,     -999,9,     -999,9,     -999,9,     -999,9,     -999,1,   0.0177,1,   4.6349,1,     -999,9,     -999,9,20240308,0322, -61.4905,  82.0021,     -999,9,     -999,9,-999          ,9,-999          ,9,-999          ,9
325020240221  ,I08        ,18      ,  1,15         ,15         ,2,20240308,0227, -61.4905,  82.0022,     2161,    570.4,   1.8809,  34.7285,2,  34.7264,2,    184.0,2,    183.8,2,    86.47,2,     0.02,2,    31.12,2,     0.00,2,     2.12,2,    0.364,2,    0.172,2,    0.017,2,   0.0410,2,   2248.3,3,   2348.8,2,   7.5860,6,    25.02,     -999,1,   1.8811,2,     -999,9,     -999,     -999,9,     -999,9,     -999,9,     -999,9,     -999,9,     -999,1,   0.0178,1,   4.6348,1,     14.2,2,     -999,9,20240308,0320, -61.4904,  82.0021,     -999,9,     -999,9,-999          ,9,-999          ,9,-999          ,9
325020240221  ,I08        ,18      ,  1,14         ,14         ,2,20240308,0227, -61.4905,  82.0022,     2161,    672.3,   1.8246,  34.7356,2,  34.7343,2,    187.4,2,    187.8,2,    87.35,2,     0.00,2,    30.79,2,     0.00,2,     2.10,2,     -999,9,     -999,9,     -999,9,     -999,9,     -999,9,     -999,9,     -999,9,     -999,     -999,1,   1.8241,2,     -999,9,     -999,     -999,9,     -999,9,     -999,9,     -999,9,     -999,9,     -999,1,   0.0177,1,   4.6327,1,     -999,9,     -999,9,20240308,0316, -61.4905,  82.0021,     -999,9,     -999,9,-999          ,9,-999          ,9,-999          ,9
325020240221  ,I08        ,18      ,  1,13         ,13         ,2,20240308,0227, -61.4905,  82.0022,     2161,    774.1,   1.7517,  34.7412,2,  34.7390,2,    190.8,2,    190.7,2,    88.33,2,     0.00,2,    30.59,2,     0.00,2,     2.09,2,    0.319,2,    0.146,2,    0.014,2,   0.0300,2,   2247.9,3,   2348.0,2,   7.5989,2,    25.05,     -999,1,   1.7515,2,     -999,9,     -999,     -999,9,     -999,9,     -999,9,     -999,9,     -999,9,     -999,1,   0.0177,1,   4.6325,1,     13.8,2,     -999,9,20240308,0313, -61.4905,  82.0020,     -999,9,     -999,9,-999          ,9,-999          ,9,-999          ,9
325020240221  ,I08        ,18      ,  1,12         ,12         ,2,20240308,0227, -61.4905,  82.0022,     2161,    873.6,   1.6431,  34.7433,2,  34.7421,2,    193.9,2,    193.8,2,    90.57,2,     0.03,2,    30.46,2,     0.00,2,     2.09,2,     -999,9,     -999,9,     -999,9,     -999,9,     -999,9,     -999,9,     -999,9,     -999,     -999,1,   1.6428,2,     -999,9,     -999,     -999,9,     -999,9,     -999,9,     -999,9,     -999,9,     -999,1,   0.0188,1,   4.6313,1,     -999,9,     -999,9,20240308,0310, -61.4905,  82.0021,     -999,9,     -999,9,-999          ,9,-999          ,9,-999          ,9
325020240221  ,I08        ,18      ,  1,11         ,11         ,2,20240308,0227, -61.4905,  82.0022,     2161,    976.9,   1.5693,  34.7443,2,  34.7433,2,    197.5,2,    198.0,2,    91.65,2,     0.00,2,    30.34,2,     0.00,2,     2.08,2,    0.306,2,    0.141,2,    0.012,2,   0.0050,2,   2245.1,3,   2350.2,2,   7.6088,6,    25.01,     -999,1,   1.5693,2,     -999,9,     -999,     -999,9,     -999,9,     -999,9,     -999,9,     -999,9,     -999,1,   0.0188,1,   4.6299,1,     13.4,2,     -999,9,20240308,0307, -61.4904,  82.0021,     -999,9,     -999,9,-999          ,9,-999          ,9,-999          ,9
325020240221  ,I08        ,18      ,  1,10         ,10         ,2,20240308,0227, -61.4905,  82.0022,     2161,   1077.1,   1.4809,  34.7424,2,  34.7414,2,    198.8,2,    198.7,2,    94.48,2,     0.00,2,    30.49,2,     0.00,2,     2.09,2,     -999,9,     -999,9,     -999,9,     -999,9,     -999,9,     -999,9,     -999,9,     -999,     -999,1,   1.4803,2,     -999,9,     -999,     -999,9,     -999,9,     -999,9,     -999,9,     -999,9,     -999,1,   0.0178,1,   4.6288,1,     -999,9,     -999,9,20240308,0303, -61.4905,  82.0021,     -999,9,     -999,9,-999          ,9,-999          ,9,-999          ,9
325020240221  ,I08        ,18      ,  1,9          ,9          ,2,20240308,0227, -61.4905,  82.0022,     2161,   1178.7,   1.3639,  34.7377,2,  34.7370,2,    200.3,2,    200.0,2,    97.01,2,     0.00,2,    30.46,2,     0.00,2,     2.09,2,    0.320,2,    0.148,2,    0.012,2,   0.0220,2,   2243.3,3,   2355.3,6,   7.6086,2,    25.04,     -999,1,   1.3642,2,     -999,9,     -999,     -999,9,     -999,9,     -999,9,     -999,9,     -999,9,     -999,1,   0.0176,1,   4.6275,1,     13.3,2,     -999,9,20240308,0300, -61.4905,  82.0021,     -999,9,     -999,9,-999          ,9,-999          ,9,-999          ,9
325020240221  ,I08        ,18      ,  1,8          ,8          ,2,20240308,0227, -61.4905,  82.0022,     2161,   1280.9,   1.2683,  34.7334,2,  34.7327,2,    201.5,2,    201.5,2,    99.36,2,     0.00,2,    30.59,2,     0.00,2,     2.11,2,     -999,9,     -999,9,     -999,9,     -999,9,     -999,9,     -999,9,     -999,9,     -999,     -999,1,   1.2681,2,     -999,9,     -999,     -999,9,     -999,9,     -999,9,     -999,9,     -999,9,     -999,1,   0.0181,1,   4.6263,1,     -999,9,     -999,9,20240308,0257, -61.4905,  82.0021,     -999,9,     -999,9,-999          ,9,-999          ,9,-999          ,9
325020240221  ,I08        ,18      ,  1,7          ,7          ,2,20240308,0227, -61.4905,  82.0022,     2161,   1382.5,   1.1723,  34.7287,2,  34.7282,2,    202.7,2,    202.9,2,   102.48,2,     0.00,2,    30.75,2,     0.00,2,     2.11,2,    0.342,2,    0.152,2,    0.011,2,   0.1980,2,   2240.3,3,   2355.2,2,   7.6075,2,    25.03,     -999,1,   1.1719,2,     -999,9,     -999,     -999,9,     -999,9,     -999,9,     -999,9,     -999,9,     -999,1,   0.0179,1,   4.6263,1,     13.2,2,     -999,9,20240308,0253, -61.4905,  82.0021,     -999,9,     -999,9,-999          ,9,-999          ,9,-999          ,9
325020240221  ,I08        ,18      ,  1,6          ,6          ,2,20240308,0227, -61.4905,  82.0022,     2161,   1483.9,   1.0797,  34.7240,2,  34.7231,2,    203.4,2,    203.4,2,   106.09,2,     0.00,2,    31.02,2,     0.00,2,     2.14,2,     -999,9,     -999,9,     -999,9,     -999,9,     -999,9,     -999,9,     -999,9,     -999,     -999,1,   1.0799,2,     -999,9,     -999,     -999,9,     -999,9,     -999,9,     -999,9,     -999,9,     -999,1,   0.0182,1,   4.6240,1,     -999,9,     -999,9,20240308,0247, -61.4905,  82.0022,     -999,9,     -999,9,-999          ,9,-999          ,9,-999          ,9
325020240221  ,I08        ,18      ,  1,5          ,5          ,2,20240308,0227, -61.4905,  82.0022,     2161,   1585.6,   0.9955,  34.7190,2,  34.7186,2,    203.8,2,    204.3,2,   109.61,2,     0.00,2,    31.25,2,     0.00,2,     2.14,2,    0.426,2,    0.179,2,    0.015,2,   0.0200,2,   2250.5,3,   2360.7,2,   7.6028,2,    25.00,     -999,1,   0.9951,2,     -999,9,     -999,     -999,9,     -999,9,     -999,9,     -999,9,     -999,9,     -999,1,   0.0182,1,   4.6227,1,     12.8,2,     -999,9,20240308,0244, -61.4905,  82.0022,     -999,9,     -999,9,-999          ,9,-999          ,9,-999          ,9
325020240221  ,I08        ,18      ,  1,4          ,4          ,2,20240308,0227, -61.4905,  82.0022,     2161,   1687.8,   0.9176,  34.7147,2,  34.7142,2,    204.3,2,    204.1,2,   115.95,2,     0.00,2,    31.73,2,     0.00,2,     2.19,2,     -999,9,     -999,9,     -999,9,     -999,9,     -999,9,     -999,9,     -999,9,     -999,     -999,1,   0.9175,2,     -999,9,     -999,     -999,9,     -999,9,     -999,9,     -999,9,     -999,9,     -999,1,   0.0182,1,   4.6227,1,     -999,9,     -999,9,20240308,0240, -61.4905,  82.0022,     -999,9,     -999,9,-999          ,9,-999          ,9,-999          ,9
325020240221  ,I08        ,18      ,  1,3          ,3          ,2,20240308,0227, -61.4905,  82.0022,     2161,   1860.3,   0.7839,  34.7069,2,  34.7060,2,    205.9,2,    205.7,2,   123.95,2,     0.00,2,    32.11,2,     0.00,2,     2.19,2,    0.380,2,    0.171,2,    0.014,2,   0.0100,2,   2246.4,3,   2359.6,2,   7.5993,6,    25.00,     -999,1,   0.7840,2,     -999,9,     -999,     -999,9,     -999,9,     -999,9,     -999,9,     -999,9,     -999,1,   0.0182,1,   4.6214,1,     12.8,2,     -999,9,20240308,0236, -61.4905,  82.0022,     -999,9,     -999,9,-999          ,9,-999          ,9,-999          ,9
325020240221  ,I08        ,18      ,  1,2          ,2          ,2,20240308,0227, -61.4905,  82.0022,     2161,   2073.0,   0.6404,  34.6991,2,  34.6999,2,    207.1,2,    207.0,2,   124.25,2,     0.00,2,    32.06,2,     0.00,2,     2.23,2,     -999,9,     -999,9,     -999,9,     -999,9,   2252.0,3,   2355.8,6,   7.5944,2,    25.03,     -999,1,   0.6399,2,     -999,9,     -999,     -999,9,     -999,9,     -999,9,     -999,9,     -999,9,     -999,1,   0.0181,1,   4.6202,1,     -999,9,     -999,9,20240308,0231, -61.4905,  82.0022,     -999,9,     -999,9,-999          ,9,-999          ,9,-999          ,9
325020240221  ,I08        ,18      ,  1,1          ,1          ,2,20240308,0227, -61.4905,  82.0022,     2161,   2185.4,   0.5419,  34.6940,2,  34.6926,2,    206.6,2,    206.7,2,   134.79,2,     0.00,2,    32.41,2,     0.00,2,     2.24,2,    0.405,2,    0.172,2,    0.011,2,   0.0300,2,   2260.0,3,   2358.2,6,   7.5908,2,    25.03,     -999,1,   0.5413,2,     -999,9,     -999,     -999,9,     -999,9,     -999,9,     -999,9,     -999,9,     -999,1,   0.0200,1,   4.6226,1,      8.0,4,     -999,9,20240308,0227, -61.4905,  82.0021,     -999,9,     -999,9,-999          ,9,-999          ,9,-999          ,9