BOTTLE,20240417CCHHYDRO
EXPOCODE,SECT_ID,STNNBR,CASTNO,SAMPNO,BTLNBR,BTLNBR_FLAG_W,DATE,TIME,LATITUDE,LONGITUDE,DEPTH,CTDPRS,CTDTMP,CTDSAL,CTDSAL_FLAG_W,SALNTY,SALNTY_FLAG_W,CTDOXY,CTDOXY_FLAG_W,OXYGEN,OXYGEN_FLAG_W,SILCAT,SILCAT_FLAG_W,NH4,NH4_FLAG_W,NITRAT,NITRAT_FLAG_W,NITRIT,NITRIT_FLAG_W,PHSPHT,PHSPHT_FLAG_W,CFC-11,CFC-11_FLAG_W,CFC-12,CFC-12_FLAG_W,CFC113,CFC113_FLAG_W,SF6,SF6_FLAG_W,TCARBN,TCARBN_FLAG_W,ALKALI,ALKALI_FLAG_W,PH_TOT,PH_TOT_FLAG_W,PH_TMP,DOC,DOC_FLAG_W,REFTMP,REFTMP_FLAG_W,DELC14,DELC14_FLAG_W,C14ERR,POC,POC_FLAG_W,PON,PON_FLAG_W,POP,POP_FLAG_W,PCOD,PCOD_FLAG_W,DOP,DOP_FLAG_W,TDN,TDN_FLAG_W,CTDFLUOR,CTDFLUOR_FLAG_W,CTDXMISS,CTDXMISS_FLAG_W,N2O,N2O_FLAG_W,ARGON,ARGON_FLAG_W,BTL_DATE,BTL_TIME,BTL_LAT,BTL_LON,KRYPTON,KRYPTON_FLAG_W,XENON,XENON_FLAG_W,HPLC,HPLC_FLAG_W,DNA,DNA_FLAG_W,FCM,FCM_FLAG_W
,,,,,,,,,,,METERS,DBAR,ITS-90,PSS-78,,PSS-78,,UMOL/KG,,UMOL/KG,,UMOL/KG,,UMOL/KG,,UMOL/KG,,UMOL/KG,,UMOL/KG,,PMOL/KG,,PMOL/KG,,PMOL/KG,,FMOL/KG,,UMOL/KG,,UMOL/KG,,,,DEG C,UMOL/KG,,ITS-90,,/MILLE,,/MILLE,UG/KG,,UG/KG,,UG/L,,UG/L,,UMOL/KG,,UMOL/KG,,VOLTS,,VOLTS,,NMOL/KG,,UMOL/L,,,,,,NMOL/L,,NMOL/L,,,,,,,
325020240221  ,I08        ,61      ,  1,36         ,36         ,2,20240325,1516, -34.7501,  95.0001,     4478,      3.4,  21.5335,  35.8817,2,  35.8722,2,    223.8,2,    223.5,2,     1.27,2,     0.04,2,     0.08,2,     0.00,2,     0.09,2,    1.820,2,    1.149,2,    0.232,4,   2.0680,2,   2088.8,3,   2360.4,2,   7.9750,6,    24.98,     -999,1,  21.5315,2,     -999,1,     -999,     -999,9,     -999,9,     -999,9,     -999,9,     -999,9,     -999,1,   0.0197,1,   4.6340,1,      7.5,2,     -999,9,20240325,1727, -34.7501,  95.0001,     -999,9,     -999,9,-999          ,9,-999          ,9,-999          ,9
325020240221  ,I08        ,61      ,  1,35         ,35         ,2,20240325,1516, -34.7501,  95.0001,     4478,     24.6,  21.4460,  35.8908,2,  35.8821,2,    224.2,2,    224.0,2,     1.36,2,     0.04,2,     0.03,2,     0.00,2,     0.09,2,    1.764,2,    1.161,2,    0.229,4,   2.1240,2,   2086.9,3,   2363.2,2,   7.9751,2,    24.96,     -999,9,  21.4460,2,     -999,1,     -999,     -999,9,     -999,9,     -999,9,     -999,9,     -999,9,     -999,9,   0.0203,1,   4.6305,1,      7.7,2,     -999,9,20240325,1724, -34.7501,  95.0001,     -999,9,     -999,9,-999          ,9,-999          ,9,-999          ,9
325020240221  ,I08        ,61      ,  1,34         ,34         ,2,20240325,1516, -34.7501,  95.0001,     4478,     49.8,  21.4241,  35.8910,2,  35.8825,2,    223.9,2,    224.3,2,     1.27,2,     0.03,2,     0.00,2,     0.00,2,     0.07,2,    1.860,2,    1.202,2,    0.237,4,   2.2060,2,   2087.9,3,   2361.6,2,   7.9750,2,    24.96,     -999,9,  21.4203,2,     -999,1,     -999,     -999,9,     -999,9,     -999,9,     -999,9,     -999,9,     -999,9,   0.0225,1,   4.6288,1,      7.5,2,     -999,9,20240325,1722, -34.7501,  95.0001,     -999,9,     -999,9,-999          ,9,-999          ,9,-999          ,9
325020240221  ,I08        ,61      ,  1,33         ,33         ,2,20240325,1516, -34.7501,  95.0001,     4478,     75.9,  19.8842,  35.7955,2,  35.7910,2,    243.2,2,    241.6,2,     1.27,2,     0.00,2,     0.00,2,     0.00,2,     0.08,2,    2.056,2,    1.265,2,    0.259,4,   2.2510,2,   2086.7,3,   2355.3,2,   7.9712,2,    24.96,     -999,9,  19.9338,2,     -999,9,     -999,     -999,9,     -999,9,     -999,9,     -999,9,     -999,9,     -999,9,   0.0269,1,   4.6193,1,      8.1,2,     -999,9,20240325,1720, -34.7501,  95.0001,     -999,9,     -999,9,-999          ,9,-999          ,9,-999          ,9
325020240221  ,I08        ,61      ,  1,32         ,32         ,2,20240325,1516, -34.7501,  95.0001,     4478,     99.5,  17.1251,  35.6760,2,  35.6771,2,    255.7,2,    255.4,2,     1.27,2,     0.03,2,     0.00,2,     0.00,2,     0.10,2,    2.391,2,    1.447,2,    0.259,4,   2.2890,2,   2087.4,3,   2348.4,2,   7.9517,2,    24.96,     -999,9,  17.1246,2,     -999,1,     -999,     -999,9,     -999,9,     -999,9,     -999,9,     -999,9,     -999,9,   0.0446,1,   4.6203,1,      9.0,2,     -999,9,20240325,1718, -34.7501,  95.0001,     -999,9,     -999,9,-999          ,9,-999          ,9,-999          ,9
325020240221  ,I08        ,61      ,  1,31         ,31         ,2,20240325,1516, -34.7501,  95.0001,     4478,    151.1,  16.3313,  35.7493,2,  35.7497,2,    233.7,2,    233.4,2,     1.46,2,     0.02,2,     0.37,2,     0.20,2,     0.17,2,    2.554,2,    1.418,2,    0.234,4,   2.3730,2,   2106.6,3,   2349.4,2,   7.9275,2,    24.98,     -999,9,  16.3440,2,     -999,1,     -999,     -999,9,     -999,9,     -999,9,     -999,9,     -999,9,     -999,9,   0.0297,1,   4.6572,1,      8.9,2,     -999,9,20240325,1716, -34.7501,  95.0001,     -999,9,     -999,9,-999          ,9,-999          ,9,-999          ,9
325020240221  ,I08        ,61      ,  1,30         ,30         ,2,20240325,1516, -34.7501,  95.0001,     4478,    200.5,  14.5540,  35.4731,2,  35.4705,2,    227.4,2,    228.2,2,     1.76,2,     0.02,2,     4.26,2,     0.00,2,     0.39,2,    2.904,2,    1.546,2,    0.190,4,   2.2960,2,   2119.9,3,   2334.5,2,   7.8754,2,    24.98,     -999,9,  14.5531,2,     -999,1,     -999,     -999,9,     -999,9,     -999,9,     -999,9,     -999,9,     -999,9,   0.0183,1,   4.6780,1,     10.1,2,     -999,9,20240325,1713, -34.7501,  95.0001,     -999,9,     -999,9,-999          ,9,-999          ,9,-999          ,9
325020240221  ,I08        ,61      ,  1,29         ,29         ,2,20240325,1516, -34.7501,  95.0001,     4478,    252.1,  13.0276,  35.2451,2,  35.2450,2,    229.4,2,    230.0,2,     2.24,2,     0.00,2,     7.12,2,     0.00,2,     0.57,2,    3.435,2,    1.709,2,    0.183,4,   2.1610,2,   2125.8,3,   2323.0,2,   7.8409,2,    25.00,     -999,9,  13.0137,2,     -999,1,     -999,     -999,9,     -999,9,     -999,9,     -999,9,     -999,9,     -999,9,   0.0177,1,   4.6809,1,     11.2,2,     -999,9,20240325,1711, -34.7501,  95.0001,     -999,9,     -999,9,-999          ,9,-999          ,9,-999          ,9
325020240221  ,I08        ,61      ,  1,28         ,28         ,2,20240325,1516, -34.7501,  95.0001,     4478,    301.4,  10.9816,  34.9147,2,  34.9164,2,    229.8,2,    230.5,2,     3.61,2,     0.02,2,    12.18,2,     0.00,2,     0.89,2,    3.808,2,    1.931,2,    0.171,4,   2.0460,2,   2137.6,3,   2305.7,2,   7.7850,2,    24.96,     -999,9,  10.9825,2,     -999,9,     -999,     -999,9,     -999,9,     -999,9,     -999,9,     -999,9,     -999,9,   0.0183,1,   4.6807,1,     12.3,2,     -999,9,20240325,1708, -34.7501,  95.0001,     -999,9,     -999,9,-999          ,9,-999          ,9,-999          ,9
325020240221  ,I08        ,61      ,  1,27         ,27         ,2,20240325,1516, -34.7501,  95.0001,     4478,    351.4,   9.6042,  34.7286,2,  34.7294,2,    230.3,2,    230.9,2,     5.27,2,     0.02,2,    16.07,2,     0.00,2,     1.13,2,    3.873,2,    1.973,2,    0.201,4,   1.8750,2,   2139.2,3,   2295.3,2,   7.7475,2,    24.97,     -999,9,   9.6084,2,     -999,1,     -999,     -999,9,     -999,9,     -999,9,     -999,9,     -999,9,     -999,9,   0.0176,1,   4.6813,1,     12.9,2,     -999,9,20240325,1706, -34.7501,  95.0001,     -999,9,     -999,9,-999          ,9,-999          ,9,-999          ,9
325020240221  ,I08        ,61      ,  1,26         ,26         ,2,20240325,1516, -34.7501,  95.0001,     4478,    403.0,   8.7637,  34.6240,2,  34.6256,2,    225.0,2,    225.1,2,     7.42,2,     0.03,2,    18.93,2,     0.00,2,     1.32,2,    3.908,2,    1.924,2,    0.203,4,   1.6790,2,   2148.2,3,   2291.5,2,   7.7222,6,    24.97,     -999,9,   8.7730,2,     -999,1,     -999,     -999,9,     -999,9,     -999,9,     -999,9,     -999,9,     -999,9,   0.0183,1,   4.6825,1,     13.4,2,     -999,9,20240325,1704, -34.7501,  95.0001,     -999,9,     -999,9,-999          ,9,-999          ,9,-999          ,9
325020240221  ,I08        ,61      ,  1,25         ,25         ,2,20240325,1516, -34.7501,  95.0001,     4478,    502.3,   7.6353,  34.5123,2,  34.5138,2,    208.6,2,    208.7,2,    12.88,2,     0.00,2,    23.24,2,     0.00,2,     1.60,2,    3.446,2,    1.637,2,    0.200,4,   1.2250,2,   2165.0,3,   2288.8,2,   7.6806,2,    24.99,     -999,9,   7.6302,2,     -999,9,     -999,     -999,9,     -999,9,     -999,9,     -999,9,     -999,9,     -999,9,   0.0176,1,   4.6839,1,     14.3,2,     -999,9,20240325,1700, -34.7501,  95.0001,     -999,9,     -999,9,-999          ,9,-999          ,9,-999          ,9
325020240221  ,I08        ,61      ,  1,24         ,24         ,2,20240325,1516, -34.7501,  95.0001,     4478,    605.0,   6.5072,  34.4349,2,  34.4383,2,    198.4,2,    198.5,2,    19.71,2,     0.00,2,    26.79,2,     0.00,2,     1.85,2,    2.864,2,    1.369,2,    0.217,4,   0.8930,2,   2178.4,3,   2291.4,2,   7.6470,2,    24.98,     -999,9,   6.5116,2,     -999,1,     -999,     -999,9,     -999,9,     -999,9,     -999,9,     -999,9,     -999,9,   0.0183,1,   4.6850,1,     11.0,2,     -999,9,20240325,1657, -34.7501,  95.0001,     -999,9,     -999,9,-999          ,9,-999          ,9,-999          ,9
325020240221  ,I08        ,61      ,  1,23         ,37         ,2,20240325,1516, -34.7501,  95.0001,     4478,    705.6,   5.5059,  34.3875,2,  34.3900,2,    195.4,2,    195.1,2,    27.13,2,     0.00,2,    29.18,2,     0.00,2,     2.02,2,    2.788,2,    1.187,2,    0.165,4,   0.6230,2,   2193.4,3,   2294.5,2,   7.6243,6,    24.96,     -999,9,   5.5065,2,     -999,9,     -999,     -999,9,     -999,9,     -999,9,     -999,9,     -999,9,     -999,9,   0.0183,1,   4.6850,1,     16.7,2,     -999,9,20240325,1654, -34.7501,  95.0001,     -999,9,     -999,9,-999          ,9,-999          ,9,-999          ,9
325020240221  ,I08        ,61      ,  1,22         ,22         ,2,20240325,1516, -34.7501,  95.0001,     4478,    806.8,   4.6435,  34.3774,2,  34.3800,2,    190.2,2,    190.0,2,    36.41,2,     0.00,2,    31.23,2,     0.00,2,     2.16,2,    2.175,2,    0.966,2,    0.164,4,   0.4910,2,   2206.1,3,   2302.8,6,   7.6034,2,    24.96,     -999,9,   4.6435,2,     -999,1,     -999,     -999,9,     -999,9,     -999,9,     -999,9,     -999,9,     -999,9,   0.0183,1,   4.6751,1,     17.3,2,     -999,9,20240325,1651, -34.7501,  95.0001,     -999,9,     -999,9,-999          ,9,-999          ,9,-999          ,9
325020240221  ,I08        ,61      ,  1,21         ,21         ,2,20240325,1516, -34.7501,  95.0001,     4478,    905.6,   4.1326,  34.4045,2,  34.4071,2,    180.4,2,    179.9,2,    46.85,2,     0.00,2,    32.73,2,     0.00,2,     2.29,2,    1.460,2,    0.699,2,    0.175,4,   0.2320,2,   2222.1,3,   2313.0,2,   7.5874,2,    24.97,     -999,9,   4.1327,2,     -999,9,     -999,     -999,9,     -999,9,     -999,9,     -999,9,     -999,9,     -999,9,   0.0183,1,   4.6684,1,     12.6,4,     -999,9,20240325,1648, -34.7501,  95.0001,     -999,9,     -999,9,-999          ,9,-999          ,9,-999          ,9
325020240221  ,I08        ,61      ,  1,20         ,20         ,2,20240325,1516, -34.7501,  95.0001,     4478,   1009.0,   3.7896,  34.4457,2,  34.4491,2,    169.5,2,    169.8,2,    57.00,2,     0.00,2,    33.86,2,     0.00,2,     2.39,2,    1.093,2,    0.473,2,    0.048,4,   0.2090,2,   2234.6,3,   2321.8,2,   7.5726,2,    24.98,     -999,9,   3.7913,2,     -999,1,     -999,     -999,9,     -999,9,     -999,9,     -999,9,     -999,9,     -999,9,   0.0183,1,   4.6641,1,     19.2,2,     -999,9,20240325,1645, -34.7501,  95.0001,     -999,9,     -999,9,-999          ,9,-999          ,9,-999          ,9
325020240221  ,I08        ,61      ,  1,19         ,19         ,2,20240325,1516, -34.7501,  95.0001,     4478,   1110.1,   3.5837,  34.4827,2,  34.4871,2,    161.5,2,    161.6,2,    64.51,2,     0.00,2,    34.48,2,     0.00,2,     2.43,2,    0.744,2,    0.317,2,    0.027,4,   0.0010,2,   2249.4,3,   2331.3,2,   7.5642,2,    25.00,     -999,9,   3.5831,2,     -999,9,     -999,     -999,9,     -999,9,     -999,9,     -999,9,     -999,9,     -999,9,   0.0183,1,   4.6605,1,     19.8,2,     -999,9,20240325,1642, -34.7501,  95.0001,     -999,9,     -999,9,-999          ,9,-999          ,9,-999          ,9
325020240221  ,I08        ,61      ,  1,18         ,18         ,2,20240325,1516, -34.7501,  95.0001,     4478,   1211.6,   3.3210,  34.5233,2,  34.5246,2,    156.9,2,    157.0,2,    71.24,2,     0.00,2,    34.86,2,     0.00,2,     2.47,2,    0.469,2,    0.201,2,    0.013,4,   0.0000,2,   2250.4,3,   2337.6,2,   7.5589,2,    24.99,     -999,9,   3.3229,2,     -999,1,     -999,     -999,9,     -999,9,     -999,9,     -999,9,     -999,9,     -999,9,   0.0183,1,   4.6580,1,     20.0,2,     -999,9,20240325,1639, -34.7501,  95.0002,     -999,9,     -999,9,-999          ,9,-999          ,9,-999          ,9
325020240221  ,I08        ,61      ,  1,17         ,17         ,2,20240325,1516, -34.7501,  95.0001,     4478,   1311.8,   3.1500,  34.5562,2,  34.5567,2,    154.5,2,    155.3,2,    75.83,2,     0.00,2,    34.90,2,     0.00,2,     2.47,2,    0.299,2,    0.133,2,    0.010,4,   0.0000,2,   2259.4,3,   2343.8,2,   7.5577,2,    24.96,     -999,9,   3.1477,2,     -999,9,     -999,     -999,9,     -999,9,     -999,9,     -999,9,     -999,9,     -999,9,   0.0183,1,   4.6557,1,     20.1,2,     -999,9,20240325,1635, -34.7501,  95.0002,     -999,9,     -999,9,-999          ,9,-999          ,9,-999          ,9
325020240221  ,I08        ,61      ,  1,16         ,16         ,2,20240325,1516, -34.7501,  95.0001,     4478,   1413.3,   3.0314,  34.5873,3,  34.5924,2,    154.0,2,    154.3,2,    80.12,2,     0.00,2,    34.82,2,     0.00,2,     2.46,2,    0.193,2,    0.091,2,    0.003,4,   0.0460,2,   2262.5,3,   2348.0,2,   7.5603,6,    24.97,     -999,9,   3.0314,2,     -999,1,     -999,     -999,9,     -999,9,     -999,9,     -999,9,     -999,9,     -999,9,   0.0189,1,   4.6542,1,     19.8,2,     -999,9,20240325,1632, -34.7502,  95.0002,     -999,9,     -999,9,-999          ,9,-999          ,9,-999          ,9
325020240221  ,I08        ,61      ,  1,15         ,15         ,2,20240325,1516, -34.7501,  95.0001,     4478,   1516.0,   2.8989,  34.6147,2,  34.6150,2,    155.3,2,    155.9,2,    82.75,2,     0.00,2,    34.62,2,     0.00,2,     2.46,2,    0.147,2,    0.072,2,    0.003,4,   0.0430,2,   2265.1,3,   2351.1,2,   7.5630,2,    24.97,     -999,9,   2.9006,2,     -999,9,     -999,     -999,9,     -999,9,     -999,9,     -999,9,     -999,9,     -999,9,   0.0183,1,   4.6519,1,     19.6,2,     -999,9,20240325,1629, -34.7503,  95.0000,     -999,9,     -999,9,-999          ,9,-999          ,9,-999          ,9
325020240221  ,I08        ,61      ,  1,14         ,14         ,2,20240325,1516, -34.7501,  95.0001,     4478,   1617.2,   2.7832,  34.6389,2,  34.6413,2,    158.1,2,    157.8,2,    84.02,2,     0.00,2,    34.18,2,     0.00,2,     2.42,2,    0.115,2,    0.062,2,    0.002,4,   0.0000,2,   2265.2,3,   2352.9,2,   7.5679,2,    24.98,     -999,9,   2.7830,2,     -999,1,     -999,     -999,9,     -999,9,     -999,9,     -999,9,     -999,9,     -999,9,   0.0183,1,   4.6507,1,     19.2,2,     -999,9,20240325,1625, -34.7503,  94.9999,     -999,9,     -999,9,-999          ,9,-999          ,9,-999          ,9
325020240221  ,I08        ,61      ,  1,13         ,13         ,2,20240325,1516, -34.7501,  95.0001,     4478,   1820.0,   2.5396,  34.6827,2,  34.6840,2,    167.1,2,    167.0,2,    87.24,2,     0.00,2,    33.15,2,     0.00,2,     2.34,2,    0.096,2,    0.052,2,    0.004,4,   0.0000,2,   2262.1,3,   2356.3,2,   7.5817,2,    25.02,     -999,9,   2.5396,2,     -999,1,     -999,     -999,9,     -999,9,     -999,9,     -999,9,     -999,9,     -999,9,   0.0189,1,   4.6471,1,     18.5,2,     -999,9,20240325,1620, -34.7503,  94.9999,     -999,9,     -999,9,-999          ,9,-999          ,9,-999          ,9
325020240221  ,I08        ,61      ,  1,12         ,12         ,2,20240325,1516, -34.7501,  95.0001,     4478,   2023.9,   2.3521,  34.7105,2,  34.7125,2,    175.4,2,    175.3,2,    88.60,2,     0.00,2,    32.26,2,     0.00,2,     2.28,2,    0.083,2,    0.043,2,    0.002,4,   0.0000,2,   2256.0,3,   2358.4,2,   7.5938,2,    25.02,     -999,9,   2.3516,2,     -999,1,     -999,     -999,9,     -999,9,     -999,9,     -999,9,     -999,9,     -999,9,   0.0183,1,   4.6446,1,     18.0,2,     -999,9,20240325,1615, -34.7502,  95.0000,     -999,9,     -999,9,-999          ,9,-999          ,9,-999          ,9
325020240221  ,I08        ,61      ,  1,11         ,11         ,2,20240325,1516, -34.7501,  95.0001,     4478,   2278.0,   2.1102,  34.7340,2,  34.7368,3,    185.5,2,    185.5,2,    90.55,2,     0.03,2,    31.38,2,     0.00,2,     2.21,2,    0.059,2,    0.035,2,    0.002,4,   0.0000,2,   2255.4,3,   2359.2,2,   7.6077,2,    24.98,     -999,9,   2.1106,2,     -999,9,     -999,     -999,9,     -999,9,     -999,9,     -999,9,     -999,9,     -999,9,   0.0195,1,   4.6411,1,     16.8,2,     -999,9,20240325,1609, -34.7502,  95.0001,     -999,9,     -999,9,-999          ,9,-999          ,9,-999          ,9
325020240221  ,I08        ,61      ,  1,10         ,10         ,2,20240325,1516, -34.7501,  95.0001,     4478,   2532.4,   1.8912,  34.7428,2,  34.7439,2,    192.8,2,    193.3,2,    94.16,2,     0.00,2,    30.99,2,     0.00,2,     2.18,2,    0.077,2,    0.039,2,    0.002,4,   0.0000,2,   2249.9,3,   2352.3,4,   7.6156,6,    24.97,     -999,9,   1.8910,2,     -999,1,     -999,     -999,9,     -999,9,     -999,9,     -999,9,     -999,9,     -999,9,   0.0183,1,   4.6385,1,     16.8,2,     -999,9,20240325,1603, -34.7503,  95.0001,     -999,9,     -999,9,-999          ,9,-999          ,9,-999          ,9
325020240221  ,I08        ,61      ,  1,9          ,9          ,2,20240325,1516, -34.7501,  95.0001,     4478,   2787.5,   1.6208,  34.7392,2,  34.7404,2,    197.1,2,    197.2,2,   101.28,2,     0.00,2,    31.16,2,     0.00,2,     2.19,2,    0.081,2,    0.041,2,    0.004,4,   0.0000,2,   2253.7,3,   2361.9,6,   7.6169,2,    24.97,     -999,9,   1.6212,2,     -999,9,     -999,     -999,9,     -999,9,     -999,9,     -999,9,     -999,9,     -999,9,   0.0183,1,   4.6349,1,     16.3,2,     -999,9,20240325,1557, -34.7502,  95.0000,     -999,9,     -999,9,-999          ,9,-999          ,9,-999          ,9
325020240221  ,I08        ,61      ,  1,8          ,8          ,2,20240325,1516, -34.7501,  95.0001,     4478,   3042.2,   1.3815,  34.7313,2,  34.7327,2,    200.2,2,    200.2,2,   107.92,2,     0.00,2,    31.62,2,     0.00,2,     2.21,2,    0.104,2,    0.048,2,    0.003,4,   0.0000,2,   2260.5,3,   2365.2,2,   7.6161,2,    25.00,     -999,9,   1.3817,2,     -999,1,     -999,     -999,9,     -999,9,     -999,9,     -999,9,     -999,9,     -999,9,   0.0183,1,   4.6325,1,     16.4,2,     -999,9,20240325,1551, -34.7503,  95.0001,     -999,9,     -999,9,-999          ,9,-999          ,9,-999          ,9
325020240221  ,I08        ,61      ,  1,7          ,7          ,2,20240325,1516, -34.7501,  95.0001,     4478,   3350.2,   1.2210,  34.7242,2,  34.7260,2,    201.9,2,    202.1,2,   113.19,2,     0.00,2,    31.88,2,     0.00,2,     2.23,2,    0.104,2,    0.051,2,    0.007,4,   0.0000,2,   2259.0,3,   2371.3,2,   7.6173,2,    25.02,     -999,9,   1.2211,2,     -999,9,     -999,     -999,9,     -999,9,     -999,9,     -999,9,     -999,9,     -999,9,   0.0183,1,   4.6317,1,     16.3,2,     -999,9,20240325,1544, -34.7503,  95.0001,     -999,9,     -999,9,-999          ,9,-999          ,9,-999          ,9
325020240221  ,I08        ,61      ,  1,6          ,6          ,2,20240325,1516, -34.7501,  95.0001,     4478,   3655.4,   1.1376,  34.7196,2,  34.7215,2,    203.1,2,    203.5,2,   117.19,2,     0.00,2,    32.00,2,     0.00,2,     2.23,2,    0.110,2,    0.055,2,    0.007,4,   0.0060,2,   2261.0,3,   2372.8,2,   7.6200,6,    25.01,     -999,9,   1.1378,2,     -999,1,     -999,     -999,9,     -999,9,     -999,9,     -999,9,     -999,9,     -999,9,   0.0176,1,   4.6323,1,     16.1,2,     -999,9,20240325,1537, -34.7503,  95.0000,     -999,9,     -999,9,-999          ,9,-999          ,9,-999          ,9