BOTTLE,20240417CCHHYDRO
EXPOCODE,SECT_ID,STNNBR,CASTNO,SAMPNO,BTLNBR,BTLNBR_FLAG_W,DATE,TIME,LATITUDE,LONGITUDE,DEPTH,CTDPRS,CTDTMP,CTDSAL,CTDSAL_FLAG_W,SALNTY,SALNTY_FLAG_W,CTDOXY,CTDOXY_FLAG_W,OXYGEN,OXYGEN_FLAG_W,SILCAT,SILCAT_FLAG_W,NH4,NH4_FLAG_W,NITRAT,NITRAT_FLAG_W,NITRIT,NITRIT_FLAG_W,PHSPHT,PHSPHT_FLAG_W,CFC-11,CFC-11_FLAG_W,CFC-12,CFC-12_FLAG_W,CFC113,CFC113_FLAG_W,SF6,SF6_FLAG_W,TCARBN,TCARBN_FLAG_W,ALKALI,ALKALI_FLAG_W,PH_TOT,PH_TOT_FLAG_W,PH_TMP,DOC,DOC_FLAG_W,REFTMP,REFTMP_FLAG_W,DELC14,DELC14_FLAG_W,C14ERR,POC,POC_FLAG_W,PON,PON_FLAG_W,POP,POP_FLAG_W,PCOD,PCOD_FLAG_W,DOP,DOP_FLAG_W,TDN,TDN_FLAG_W,CTDFLUOR,CTDFLUOR_FLAG_W,CTDXMISS,CTDXMISS_FLAG_W,N2O,N2O_FLAG_W,ARGON,ARGON_FLAG_W,BTL_DATE,BTL_TIME,BTL_LAT,BTL_LON,KRYPTON,KRYPTON_FLAG_W,XENON,XENON_FLAG_W,HPLC,HPLC_FLAG_W,DNA,DNA_FLAG_W,FCM,FCM_FLAG_W
,,,,,,,,,,,METERS,DBAR,ITS-90,PSS-78,,PSS-78,,UMOL/KG,,UMOL/KG,,UMOL/KG,,UMOL/KG,,UMOL/KG,,UMOL/KG,,UMOL/KG,,PMOL/KG,,PMOL/KG,,PMOL/KG,,FMOL/KG,,UMOL/KG,,UMOL/KG,,,,DEG C,UMOL/KG,,ITS-90,,/MILLE,,/MILLE,UG/KG,,UG/KG,,UG/L,,UG/L,,UMOL/KG,,UMOL/KG,,VOLTS,,VOLTS,,NMOL/KG,,UMOL/L,,,,,,NMOL/L,,NMOL/L,,,,,,,
325020240221  ,I08        ,56      ,  1,35         ,35         ,2,20240324,0444, -37.9996,  95.0039,     4096,      3.6,  18.0760,  35.0309,2,     -999,9,    245.0,2,     -999,9,     -999,9,     -999,9,     -999,9,     -999,9,     -999,9,     -999,9,     -999,9,     -999,9,     -999,9,     -999,9,     -999,9,     -999,9,     -999,     -999,9,  18.0918,2,     -999,9,     -999,     -999,9,     -999,9,     -999,9,     -999,9,     -999,9,     -999,9,   0.0293,1,   4.5131,1,     -999,9,     -999,9,20240324,0639, -37.9996,  95.0039,     -999,9,     -999,9,-999          ,1,-999          ,9,-999          ,9
325020240221  ,I08        ,56      ,  1,34         ,34         ,2,20240324,0444, -37.9996,  95.0039,     4096,      3.8,  18.0734,  35.0309,2,     -999,9,    244.7,2,     -999,9,     -999,9,     -999,9,     -999,9,     -999,9,     -999,9,     -999,9,     -999,9,     -999,9,     -999,9,     -999,9,     -999,9,     -999,9,     -999,     -999,9,  18.0810,2,     -999,9,     -999,     -999,9,     -999,9,     -999,9,     -999,9,     -999,9,     -999,9,   0.0298,1,   4.5108,1,     -999,9,     -999,9,20240324,0638, -37.9996,  95.0039,     -999,9,     -999,9,-999          ,1,-999          ,1,-999          ,9
325020240221  ,I08        ,56      ,  1,33         ,33         ,2,20240324,0444, -37.9996,  95.0039,     4096,      3.9,  18.0070,  35.0303,2,  35.0260,2,    244.9,2,    243.4,2,     0.68,2,     0.04,2,     1.17,2,     0.04,2,     0.23,2,    2.202,2,    1.348,2,    0.291,4,   2.3710,2,   2070.9,3,   2316.8,2,   7.9509,2,    25.01,     -999,1,  18.0190,2,     -999,1,     -999,     -999,9,     -999,9,     -999,9,     -999,9,     -999,9,     -999,1,   0.0301,1,   4.5067,1,      8.2,2,     -999,9,20240324,0638, -37.9996,  95.0039,     -999,9,     -999,9,-999          ,9,-999          ,9,-999          ,9
325020240221  ,I08        ,56      ,  1,36         ,36         ,2,20240324,0444, -37.9996,  95.0039,     4096,      4.1,  18.0934,  35.0323,2,     -999,9,    244.6,2,     -999,9,     -999,9,     -999,9,     -999,9,     -999,9,     -999,9,     -999,9,     -999,9,     -999,9,     -999,9,     -999,9,     -999,9,     -999,9,     -999,     -999,9,  18.0881,2,     -999,9,     -999,     -999,9,     -999,9,     -999,9,     -999,9,     -999,9,     -999,9,   0.0317,1,   4.5067,1,     -999,9,     -999,9,20240324,0639, -37.9996,  95.0039,     -999,9,     -999,9,-999          ,1,-999          ,9,-999          ,9
325020240221  ,I08        ,56      ,  1,32         ,32         ,2,20240324,0444, -37.9996,  95.0039,     4096,     34.4,  17.4190,  35.0059,2,  35.0041,2,    245.2,2,    246.5,2,     0.68,2,     0.04,2,     1.33,2,     0.04,2,     0.23,2,    2.205,2,    1.316,2,    0.292,4,   2.3720,2,   2072.2,3,   2315.9,2,   7.9478,2,    24.98,     -999,1,  17.4234,2,     -999,1,     -999,     -999,9,     -999,9,     -999,9,     -999,9,     -999,9,     -999,1,   0.0577,1,   4.4856,1,      8.6,2,     -999,9,20240324,0636, -37.9996,  95.0039,     -999,9,     -999,9,-999          ,1,-999          ,9,-999          ,9
325020240221  ,I08        ,56      ,  1,31         ,31         ,2,20240324,0444, -37.9996,  95.0039,     4096,     60.5,  16.5753,  34.9306,2,  34.9183,2,    248.2,2,    248.8,2,     0.68,2,     0.14,2,     1.91,2,     0.05,2,     0.26,2,    2.021,4,    1.125,4,    0.246,4,   1.9800,4,   2074.9,3,   2311.9,2,   7.9348,2,    24.98,     -999,1,  16.5818,2,     -999,9,     -999,     -999,9,     -999,9,     -999,9,     -999,9,     -999,9,     -999,1,   0.0743,1,   4.5324,1,      7.4,4,     -999,9,20240324,0634, -37.9996,  95.0039,     -999,9,     -999,9,-999          ,9,-999          ,9,-999          ,9
325020240221  ,I08        ,56      ,  1,30         ,30         ,2,20240324,0444, -37.9996,  95.0039,     4096,     85.3,  12.7441,  34.9378,2,  34.9341,2,    263.6,2,    263.0,2,     2.15,2,     0.64,2,     5.58,2,     0.22,2,     0.54,2,    3.011,2,    1.705,2,    0.277,4,   2.4480,2,   2118.0,3,   2308.1,2,   7.8517,2,    24.98,     -999,1,  12.7757,2,     -999,1,     -999,     -999,9,     -999,9,     -999,9,     -999,9,     -999,9,     -999,1,   0.0494,1,   4.6321,1,      9.6,2,     -999,9,20240324,0632, -37.9996,  95.0039,     -999,9,     -999,9,-999          ,9,-999          ,1,-999          ,1
325020240221  ,I08        ,56      ,  1,29         ,29         ,2,20240324,0444, -37.9996,  95.0039,     4096,    115.5,  12.0123,  34.9559,2,  34.9551,2,    253.1,2,    252.5,2,     2.34,2,     0.01,2,     7.89,2,     0.18,2,     0.62,2,    3.178,2,    1.672,2,    0.286,4,   2.4780,2,   2120.6,3,   2306.4,2,   7.8266,6,    25.00,     -999,1,  12.0141,2,     -999,1,     -999,     -999,9,     -999,9,     -999,9,     -999,9,     -999,9,     -999,1,   0.0318,1,   4.6606,1,      9.9,2,     -999,9,20240324,0630, -37.9996,  95.0039,     -999,9,     -999,9,-999          ,9,-999          ,9,-999          ,9
325020240221  ,I08        ,56      ,  1,28         ,28         ,2,20240324,0444, -37.9996,  95.0039,     4096,    166.8,  12.0181,  35.0270,2,  35.0278,2,    250.5,2,    249.5,2,     2.24,2,     0.01,2,     7.88,2,     0.00,2,     0.61,2,    3.014,2,    1.727,2,    0.279,4,   2.4510,2,     -999,9,     -999,9,     -999,9,     -999,     -999,1,  12.0096,2,     -999,1,     -999,     -999,9,     -999,9,     -999,9,     -999,9,     -999,9,     -999,1,   0.0188,1,   4.6797,1,     10.3,2,     -999,9,20240324,0627, -37.9996,  95.0039,     -999,9,     -999,9,-999          ,9,-999          ,9,-999          ,1
325020240221  ,I08        ,56      ,  1,27         ,27         ,2,20240324,0444, -37.9996,  95.0039,     4096,    217.4,  11.7253,  35.0177,2,  35.0171,2,    243.9,2,    245.1,2,     2.73,2,     0.00,2,     9.17,2,     0.00,2,     0.69,2,    3.321,2,    1.795,2,    0.222,4,   2.4320,2,   2127.3,3,   2308.5,2,   7.8146,2,    25.01,     -999,1,  11.7268,2,     -999,1,     -999,     -999,9,     -999,9,     -999,9,     -999,9,     -999,9,     -999,1,   0.0181,1,   4.6821,1,     11.4,2,     -999,9,20240324,0625, -37.9996,  95.0039,     -999,9,     -999,9,-999          ,9,-999          ,1,-999          ,1
325020240221  ,I08        ,56      ,  1,26         ,26         ,2,20240324,0444, -37.9996,  95.0039,     4096,    264.6,  11.3797,  34.9611,2,  34.9583,2,    243.8,2,    244.5,2,     3.22,2,     0.02,2,    10.40,2,     0.00,2,     0.77,2,    3.503,2,    1.704,2,    0.201,4,   2.3170,2,     -999,9,     -999,9,     -999,9,     -999,     -999,1,  11.3836,2,     -999,9,     -999,     -999,9,     -999,9,     -999,9,     -999,9,     -999,9,     -999,1,   0.0183,1,   4.6812,1,     11.3,2,     -999,9,20240324,0623, -37.9996,  95.0039,     -999,9,     -999,9,-999          ,9,-999          ,9,-999          ,9
325020240221  ,I08        ,56      ,  1,25         ,25         ,2,20240324,0444, -37.9996,  95.0039,     4096,    317.4,  11.1877,  34.9305,2,  34.9284,2,    244.3,2,    245.4,2,     3.51,2,     0.03,2,    11.03,2,     0.00,2,     0.81,2,    3.595,2,    1.807,2,    0.182,4,   2.3520,2,   2130.4,3,   2305.1,6,   7.7983,2,    25.02,     -999,1,  11.1871,2,     -999,1,     -999,     -999,9,     -999,9,     -999,9,     -999,9,     -999,9,     -999,1,   0.0180,1,   4.6813,1,     11.1,2,     -999,9,20240324,0621, -37.9996,  95.0039,     -999,9,     -999,9,-999          ,9,-999          ,9,-999          ,9
325020240221  ,I08        ,56      ,  1,24         ,24         ,2,20240324,0444, -37.9996,  95.0039,     4096,    366.3,  10.9521,  34.8904,2,  34.8879,2,    243.1,2,    243.3,2,     3.61,2,     0.00,2,    11.77,2,     0.00,2,     0.86,2,    3.672,2,    1.847,2,    0.186,4,   2.2970,2,   2130.3,3,   2302.7,2,   7.7915,6,    24.98,     -999,1,  10.9576,2,     -999,9,     -999,     -999,9,     -999,9,     -999,9,     -999,9,     -999,9,     -999,1,   0.0176,1,   4.6813,1,     11.2,2,     -999,9,20240324,0619, -37.9996,  95.0039,     -999,9,     -999,9,-999          ,9,-999          ,9,-999          ,9
325020240221  ,I08        ,56      ,  1,23         ,37         ,2,20240324,0444, -37.9996,  95.0039,     4096,    436.3,  10.5154,  34.8205,2,  34.8190,2,    242.1,2,    241.9,2,     3.90,2,     0.04,2,    12.87,2,     0.00,2,     0.94,2,    3.500,2,    1.788,2,    0.187,4,   2.2900,2,   2129.2,3,   2298.8,2,   7.7803,2,    25.00,     -999,1,  10.5223,2,     -999,1,     -999,     -999,9,     -999,9,     -999,9,     -999,9,     -999,9,     -999,1,   0.0180,1,   4.6824,1,     11.2,2,     -999,9,20240324,0617, -37.9996,  95.0039,     -999,9,     -999,9,-999          ,9,-999          ,9,-999          ,9
325020240221  ,I08        ,56      ,  1,22         ,22         ,2,20240324,0444, -37.9996,  95.0039,     4096,    539.5,   9.9519,  34.7423,2,  34.7421,2,    234.7,2,    234.7,2,     4.78,2,     0.01,2,    15.11,2,     0.00,2,     1.08,2,    3.847,2,    1.915,2,    0.190,4,   2.0390,2,     -999,9,     -999,9,     -999,9,     -999,     -999,1,   9.9488,2,     -999,9,     -999,     -999,9,     -999,9,     -999,9,     -999,9,     -999,9,     -999,1,   0.0183,1,   4.6854,1,     11.9,2,     -999,9,20240324,0614, -37.9996,  95.0039,     -999,9,     -999,9,-999          ,9,-999          ,9,-999          ,1
325020240221  ,I08        ,56      ,  1,21         ,21         ,2,20240324,0444, -37.9996,  95.0039,     4096,    639.1,   9.3733,  34.6760,2,  34.6777,2,    229.0,2,    229.2,2,     5.76,2,     0.01,2,    17.05,2,     0.00,2,     1.21,2,    3.963,2,    1.993,2,    0.204,4,   1.8960,2,   2139.2,3,   2291.7,2,   7.7387,2,    25.04,     -999,1,   9.3659,2,     -999,1,     -999,     -999,9,     -999,9,     -999,9,     -999,9,     -999,9,     -999,1,   0.0183,1,   4.6861,1,     12.4,2,     -999,9,20240324,0611, -37.9996,  95.0039,     -999,9,     -999,9,-999          ,9,-999          ,9,-999          ,9
325020240221  ,I08        ,56      ,  1,20         ,20         ,2,20240324,0444, -37.9996,  95.0039,     4096,    740.6,   8.4851,  34.5807,2,  34.5787,2,    215.2,2,    215.3,2,     9.37,2,     0.01,2,    20.58,2,     0.00,2,     1.43,2,    3.808,2,    1.834,2,    0.228,4,   1.7400,2,   2147.1,3,   2290.3,2,   7.7048,6,    25.03,     -999,1,   8.5102,2,     -999,9,     -999,     -999,9,     -999,9,     -999,9,     -999,9,     -999,9,     -999,1,   0.0183,1,   4.6883,1,      8.7,2,     -999,9,20240324,0608, -37.9996,  95.0039,     -999,9,     -999,9,-999          ,9,-999          ,9,-999          ,9
325020240221  ,I08        ,56      ,  1,19         ,19         ,2,20240324,0444, -37.9996,  95.0039,     4096,    841.7,   7.0577,  34.4609,2,  34.4636,2,    203.4,2,    203.3,2,    16.11,2,     0.06,2,    24.99,2,     0.00,2,     1.73,2,    3.258,2,    1.574,2,    0.166,4,   1.2340,2,   2173.7,3,   2288.5,2,   7.6598,2,    25.02,     -999,1,   7.0640,2,     -999,1,     -999,     -999,9,     -999,9,     -999,9,     -999,9,     -999,9,     -999,1,   0.0183,1,   4.6886,1,     15.3,2,     -999,9,20240324,0605, -37.9996,  95.0039,     -999,9,     -999,9,-999          ,9,-999          ,9,-999          ,9
325020240221  ,I08        ,56      ,  1,18         ,18         ,2,20240324,0444, -37.9996,  95.0039,     4096,    941.7,   5.7358,  34.3753,2,  34.3757,2,    202.6,2,    203.3,2,    22.84,2,     0.01,2,    27.96,2,     0.00,2,     1.94,2,    3.085,6,    1.453,6,    0.177,4,   0.9000,6,     -999,9,     -999,9,     -999,9,     -999,     -999,1,   5.7308,2,     -999,9,     -999,     -999,9,     -999,9,     -999,9,     -999,9,     -999,9,     -999,1,   0.0177,1,   4.6897,1,     16.1,6,     -999,9,20240324,0602, -37.9996,  95.0039,     -999,9,     -999,9,-999          ,9,-999          ,9,-999          ,9
325020240221  ,I08        ,56      ,  1,17         ,17         ,2,20240324,0444, -37.9996,  95.0039,     4096,   1043.0,   4.7388,  34.3444,2,  34.3433,2,    200.8,2,    201.3,2,    31.44,2,     0.01,2,    30.13,2,     0.00,2,     2.10,2,    2.566,2,    1.264,2,    0.173,4,   0.7310,2,   2194.7,3,   2296.0,2,   7.6112,2,    24.99,     -999,1,   4.7442,2,     -999,1,     -999,     -999,9,     -999,9,     -999,9,     -999,9,     -999,9,     -999,1,   0.0179,1,   4.6777,1,     17.1,2,     -999,9,20240324,0559, -37.9996,  95.0039,     -999,9,     -999,9,-999          ,9,-999          ,1,-999          ,1
325020240221  ,I08        ,56      ,  1,16         ,16         ,2,20240324,0444, -37.9996,  95.0039,     4096,   1145.5,   4.0788,  34.3601,2,  34.3596,2,    193.5,2,    193.8,2,    40.71,2,     0.00,2,    31.70,2,     0.00,2,     2.23,2,    2.168,2,    1.010,2,    0.145,4,   0.5970,2,   2210.8,3,   2304.1,2,   7.5933,2,    24.99,     -999,1,   4.0747,2,     -999,9,     -999,     -999,9,     -999,9,     -999,9,     -999,9,     -999,9,     -999,1,   0.0183,1,   4.6703,1,     17.8,2,     -999,9,20240324,0556, -37.9996,  95.0039,     -999,9,     -999,9,-999          ,9,-999          ,9,-999          ,9
325020240221  ,I08        ,56      ,  1,15         ,15         ,2,20240324,0444, -37.9996,  95.0039,     4096,   1246.6,   3.7226,  34.3990,2,  34.3984,2,    183.9,2,    183.7,2,    48.62,2,     0.00,2,    32.82,2,     0.00,2,     2.31,2,    1.700,2,    0.743,2,    0.096,4,   0.3800,2,   2226.6,3,   2312.2,2,   7.5793,2,    24.98,     -999,1,   3.7228,2,     -999,1,     -999,     -999,9,     -999,9,     -999,9,     -999,9,     -999,9,     -999,1,   0.0183,1,   4.6656,1,     18.4,2,     -999,9,20240324,0553, -37.9996,  95.0039,     -999,9,     -999,9,-999          ,9,-999          ,9,-999          ,9
325020240221  ,I08        ,56      ,  1,14         ,14         ,2,20240324,0444, -37.9996,  95.0039,     4096,   1346.7,   3.4343,  34.4497,2,  34.4496,2,    173.4,2,    173.2,2,    57.79,2,     0.00,2,    33.72,2,     0.00,2,     2.39,2,    1.105,2,    0.512,2,    0.057,4,   0.2950,2,     -999,9,     -999,9,     -999,9,     -999,     -999,1,   3.4359,2,     -999,9,     -999,     -999,9,     -999,9,     -999,9,     -999,9,     -999,9,     -999,1,   0.0176,1,   4.6620,1,     18.9,2,     -999,9,20240324,0550, -37.9996,  95.0039,     -999,9,     -999,9,-999          ,9,-999          ,9,-999          ,9
325020240221  ,I08        ,56      ,  1,13         ,13         ,2,20240324,0444, -37.9996,  95.0039,     4096,   1450.6,   3.2288,  34.4983,2,  34.4948,2,    166.5,2,    166.6,2,    64.72,2,     0.00,2,    34.14,2,     0.00,2,     2.43,2,    0.774,2,    0.355,2,    0.032,4,   0.1650,2,   2249.5,3,   2329.4,6,   7.5618,2,    25.00,     -999,1,   3.2373,2,     -999,1,     -999,     -999,9,     -999,9,     -999,9,     -999,9,     -999,9,     -999,1,   0.0183,1,   4.6600,1,     19.3,2,     -999,9,20240324,0547, -37.9996,  95.0039,     -999,9,     -999,9,-999          ,9,-999          ,9,-999          ,9
325020240221  ,I08        ,56      ,  1,12         ,12         ,2,20240324,0444, -37.9996,  95.0039,     4096,   1551.7,   3.0950,  34.5447,2,  34.5449,2,    160.7,2,    160.7,2,    71.65,2,     0.03,2,    34.33,2,     0.00,2,     2.45,2,    0.439,2,    0.204,2,    0.016,4,   0.0150,2,   2260.4,3,   2337.7,2,   7.5599,6,    25.03,     -999,1,   3.0950,2,     -999,1,     -999,     -999,9,     -999,9,     -999,9,     -999,9,     -999,9,     -999,1,   0.0187,1,   4.6569,1,     19.6,2,     -999,9,20240324,0544, -37.9996,  95.0039,     -999,9,     -999,9,-999          ,9,-999          ,9,-999          ,9
325020240221  ,I08        ,56      ,  1,11         ,11         ,2,20240324,0444, -37.9996,  95.0039,     4096,   1681.7,   2.8883,  34.5920,2,  34.5914,2,    161.1,2,    161.4,2,    76.62,2,     0.00,2,    34.07,2,     0.00,2,     2.42,2,    0.301,2,    0.144,2,    0.012,4,   0.0120,2,   2255.8,3,   2343.5,2,   7.5631,2,    25.04,     -999,1,   2.8886,2,     -999,1,     -999,     -999,9,     -999,9,     -999,9,     -999,9,     -999,9,     -999,1,   0.0182,1,   4.6544,1,     19.1,2,     -999,9,20240324,0540, -37.9996,  95.0039,     -999,9,     -999,9,-999          ,9,-999          ,9,-999          ,9
325020240221  ,I08        ,56      ,  1,10         ,10         ,2,20240324,0444, -37.9996,  95.0039,     4096,   1886.2,   2.6421,  34.6513,2,  34.6508,2,    167.8,2,    167.8,2,    79.84,2,     0.02,2,    33.09,2,     0.00,2,     2.35,2,    0.220,2,    0.109,2,    0.009,4,   0.0850,2,     -999,9,     -999,9,     -999,9,     -999,     -999,1,   2.6411,2,     -999,9,     -999,     -999,9,     -999,9,     -999,9,     -999,9,     -999,9,     -999,1,   0.0183,1,   4.6515,1,     18.5,2,     -999,9,20240324,0536, -37.9996,  95.0039,     -999,9,     -999,9,-999          ,9,-999          ,9,-999          ,9
325020240221  ,I08        ,56      ,  1,9          ,9          ,2,20240324,0444, -37.9996,  95.0039,     4096,   2111.2,   2.4400,  34.6998,2,  34.6979,2,    172.2,2,    172.6,2,    86.18,2,     0.02,2,    32.37,2,     0.00,2,     2.29,2,    0.102,2,    0.055,2,    0.003,4,   0.0130,2,   2263.9,3,   2355.4,2,   7.5886,2,    25.04,     -999,1,   2.4404,2,     -999,1,     -999,     -999,9,     -999,9,     -999,9,     -999,9,     -999,9,     -999,1,   0.0183,1,   4.6493,1,     17.9,2,     -999,9,20240324,0531, -37.9996,  95.0039,     -999,9,     -999,9,-999          ,9,-999          ,9,-999          ,9
325020240221  ,I08        ,56      ,  1,8          ,8          ,2,20240324,0444, -37.9996,  95.0039,     4096,   2363.7,   2.2367,  34.7273,2,  34.7266,2,    182.4,2,    182.3,2,    87.84,2,     0.01,2,    31.44,2,     0.00,2,     2.23,2,    0.082,2,    0.046,2,    0.002,4,   0.0000,2,   2256.1,3,   2355.9,2,   7.6034,2,    25.01,     -999,1,   2.2337,2,     -999,1,     -999,     -999,9,     -999,9,     -999,9,     -999,9,     -999,9,     -999,1,   0.0179,1,   4.6468,1,     17.2,2,     -999,9,20240324,0525, -37.9996,  95.0039,     -999,9,     -999,9,-999          ,9,-999          ,9,-999          ,9
325020240221  ,I08        ,56      ,  1,7          ,7          ,2,20240324,0444, -37.9996,  95.0039,     4096,   2617.9,   2.0039,  34.7434,2,  34.7425,2,    191.3,2,    191.3,2,    90.28,2,     0.03,2,    30.72,2,     0.00,2,     2.19,2,    0.074,2,    0.041,2,    0.004,4,   0.0110,2,   2252.9,3,   2356.7,2,   7.6141,2,    24.99,     -999,1,   2.0043,2,     -999,1,     -999,     -999,9,     -999,9,     -999,9,     -999,9,     -999,9,     -999,1,   0.0179,1,   4.6431,1,     16.6,2,     -999,9,20240324,0520, -37.9996,  95.0039,     -999,9,     -999,9,-999          ,9,-999          ,9,-999          ,9
325020240221  ,I08        ,56      ,  1,6          ,6          ,2,20240324,0444, -37.9996,  95.0039,     4096,   2872.9,   1.7073,  34.7433,2,  34.7429,2,    197.3,2,    197.5,2,    97.50,2,     0.01,2,    30.76,2,     0.00,2,     2.18,2,    0.105,2,    0.055,2,    0.006,4,   0.0100,2,     -999,9,     -999,9,     -999,9,     -999,     -999,1,   1.7072,2,     -999,9,     -999,     -999,9,     -999,9,     -999,9,     -999,9,     -999,9,     -999,1,   0.0179,1,   4.6387,1,     16.2,2,     -999,9,20240324,0514, -37.9996,  95.0039,     -999,9,     -999,9,-999          ,9,-999          ,9,-999          ,9