BOTTLE,20240417CCHHYDRO
EXPOCODE,SECT_ID,STNNBR,CASTNO,SAMPNO,BTLNBR,BTLNBR_FLAG_W,DATE,TIME,LATITUDE,LONGITUDE,DEPTH,CTDPRS,CTDTMP,CTDSAL,CTDSAL_FLAG_W,SALNTY,SALNTY_FLAG_W,CTDOXY,CTDOXY_FLAG_W,OXYGEN,OXYGEN_FLAG_W,SILCAT,SILCAT_FLAG_W,NH4,NH4_FLAG_W,NITRAT,NITRAT_FLAG_W,NITRIT,NITRIT_FLAG_W,PHSPHT,PHSPHT_FLAG_W,CFC-11,CFC-11_FLAG_W,CFC-12,CFC-12_FLAG_W,CFC113,CFC113_FLAG_W,SF6,SF6_FLAG_W,TCARBN,TCARBN_FLAG_W,ALKALI,ALKALI_FLAG_W,PH_TOT,PH_TOT_FLAG_W,PH_TMP,DOC,DOC_FLAG_W,REFTMP,REFTMP_FLAG_W,DELC14,DELC14_FLAG_W,C14ERR,POC,POC_FLAG_W,PON,PON_FLAG_W,POP,POP_FLAG_W,PCOD,PCOD_FLAG_W,DOP,DOP_FLAG_W,TDN,TDN_FLAG_W,CTDFLUOR,CTDFLUOR_FLAG_W,CTDXMISS,CTDXMISS_FLAG_W,N2O,N2O_FLAG_W,ARGON,ARGON_FLAG_W,BTL_DATE,BTL_TIME,BTL_LAT,BTL_LON,KRYPTON,KRYPTON_FLAG_W,XENON,XENON_FLAG_W,HPLC,HPLC_FLAG_W,DNA,DNA_FLAG_W,FCM,FCM_FLAG_W
,,,,,,,,,,,METERS,DBAR,ITS-90,PSS-78,,PSS-78,,UMOL/KG,,UMOL/KG,,UMOL/KG,,UMOL/KG,,UMOL/KG,,UMOL/KG,,UMOL/KG,,PMOL/KG,,PMOL/KG,,PMOL/KG,,FMOL/KG,,UMOL/KG,,UMOL/KG,,,,DEG C,UMOL/KG,,ITS-90,,/MILLE,,/MILLE,UG/KG,,UG/KG,,UG/L,,UG/L,,UMOL/KG,,UMOL/KG,,VOLTS,,VOLTS,,NMOL/KG,,UMOL/L,,,,,,NMOL/L,,NMOL/L,,,,,,,
325020240221  ,I08        ,23      ,  1,4          ,4          ,2,20240311,1215, -58.0012,  82.1374,     1949,   1655.4,   0.6856,  34.7035,2,  34.7022,2,    206.4,2,    206.7,2,   120.83,2,     0.00,2,    32.53,2,     0.00,2,     2.24,2,     -999,9,     -999,9,     -999,9,     -999,9,   2260.3,3,   2357.2,2,   7.5980,6,    25.02,     -999,9,   0.6855,2,     -999,1,     -999,     -999,9,     -999,9,     -999,9,     -999,9,     -999,9,     -999,9,   0.0177,1,   4.6166,1,     -999,9,     -999,9,20240311,1226, -58.0012,  82.1373,     -999,9,     -999,9,-999          ,9,-999          ,9,-999          ,9
325020240221  ,I08        ,23      ,  1,3          ,3          ,2,20240311,1215, -58.0012,  82.1374,     1949,   1757.5,   0.6326,  34.7000,2,  34.7001,2,    207.2,2,    207.3,2,   122.30,2,     0.00,2,    32.52,2,     0.00,2,     2.24,2,    0.425,2,    0.191,2,    0.014,2,   0.0580,2,   2260.5,3,   2358.4,2,   7.5955,2,    25.00,     -999,9,   0.6327,2,     -999,1,     -999,     -999,9,     -999,9,     -999,9,     -999,9,     -999,9,     -999,9,   0.0183,1,   4.6166,1,     27.2,2,     -999,9,20240311,1222, -58.0012,  82.1373,     -999,9,     -999,9,-999          ,9,-999          ,9,-999          ,9
325020240221  ,I08        ,23      ,  1,2          ,2          ,2,20240311,1215, -58.0012,  82.1374,     1949,   1890.1,   0.5740,  34.6962,2,  34.6960,2,    208.4,2,    208.4,2,   123.76,2,     0.00,2,    32.55,2,     0.00,2,     2.23,2,     -999,9,     -999,9,     -999,9,     -999,9,   2260.6,3,   2358.5,2,   7.5949,2,    24.99,     -999,9,   0.5743,2,     -999,1,     -999,     -999,9,     -999,9,     -999,9,     -999,9,     -999,9,     -999,9,   0.0183,1,   4.6167,1,     -999,9,     -999,9,20240311,1218, -58.0012,  82.1373,     -999,9,     -999,9,-999          ,9,-999          ,9,-999          ,9
325020240221  ,I08        ,23      ,  1,1          ,1          ,2,20240311,1215, -58.0012,  82.1374,     1949,   1966.7,   0.4957,  34.6920,2,  34.6912,2,    209.9,2,    209.9,2,   125.71,2,     0.00,2,    32.64,2,     0.00,2,     2.24,2,    0.481,2,    0.218,2,    0.024,2,   0.0470,2,   2267.2,3,   2357.4,2,   7.5944,2,    25.01,     -999,9,   0.4952,2,     -999,1,     -999,     -999,9,     -999,9,     -999,9,     -999,9,     -999,9,     -999,9,   0.0191,1,   4.6018,1,     15.6,2,     -999,9,20240311,1215, -58.0012,  82.1374,     -999,9,     -999,9,-999          ,9,-999          ,9,-999          ,9