BOTTLE,20240417CCHHYDRO
EXPOCODE,SECT_ID,STNNBR,CASTNO,SAMPNO,BTLNBR,BTLNBR_FLAG_W,DATE,TIME,LATITUDE,LONGITUDE,DEPTH,CTDPRS,CTDTMP,CTDSAL,CTDSAL_FLAG_W,SALNTY,SALNTY_FLAG_W,CTDOXY,CTDOXY_FLAG_W,OXYGEN,OXYGEN_FLAG_W,SILCAT,SILCAT_FLAG_W,NH4,NH4_FLAG_W,NITRAT,NITRAT_FLAG_W,NITRIT,NITRIT_FLAG_W,PHSPHT,PHSPHT_FLAG_W,CFC-11,CFC-11_FLAG_W,CFC-12,CFC-12_FLAG_W,CFC113,CFC113_FLAG_W,SF6,SF6_FLAG_W,TCARBN,TCARBN_FLAG_W,ALKALI,ALKALI_FLAG_W,PH_TOT,PH_TOT_FLAG_W,PH_TMP,DOC,DOC_FLAG_W,REFTMP,REFTMP_FLAG_W,DELC14,DELC14_FLAG_W,C14ERR,POC,POC_FLAG_W,PON,PON_FLAG_W,POP,POP_FLAG_W,PCOD,PCOD_FLAG_W,DOP,DOP_FLAG_W,TDN,TDN_FLAG_W,CTDFLUOR,CTDFLUOR_FLAG_W,CTDXMISS,CTDXMISS_FLAG_W,N2O,N2O_FLAG_W,ARGON,ARGON_FLAG_W,BTL_DATE,BTL_TIME,BTL_LAT,BTL_LON,KRYPTON,KRYPTON_FLAG_W,XENON,XENON_FLAG_W,HPLC,HPLC_FLAG_W,DNA,DNA_FLAG_W,FCM,FCM_FLAG_W
,,,,,,,,,,,METERS,DBAR,ITS-90,PSS-78,,PSS-78,,UMOL/KG,,UMOL/KG,,UMOL/KG,,UMOL/KG,,UMOL/KG,,UMOL/KG,,UMOL/KG,,PMOL/KG,,PMOL/KG,,PMOL/KG,,FMOL/KG,,UMOL/KG,,UMOL/KG,,,,DEG C,UMOL/KG,,ITS-90,,/MILLE,,/MILLE,UG/KG,,UG/KG,,UG/L,,UG/L,,UMOL/KG,,UMOL/KG,,VOLTS,,VOLTS,,NMOL/KG,,UMOL/L,,,,,,NMOL/L,,NMOL/L,,,,,,,
325020240221  ,I08        ,25      ,  2,36         ,36         ,2,20240312,0948, -56.4837,  83.7698,     4736,      7.1,   3.1036,  33.8834,2,  33.8840,2,    317.1,2,    317.4,2,    10.55,2,     0.68,2,    24.23,2,     0.24,2,     1.68,2,    4.718,4,    2.613,2,    0.371,2,   4.3530,2,   2154.2,3,   2282.7,2,   7.6997,2,    24.99,     -999,1,   3.1035,2,     -999,1,     -999,     -999,9,     -999,9,     -999,9,     -999,9,     -999,9,     -999,1,   0.0408,1,   4.5325,1,     10.1,2,     -999,9,20240312,1223, -56.4837,  83.7698,     -999,9,     -999,9,-999          ,9,-999          ,9,-999          ,9
325020240221  ,I08        ,25      ,  2,35         ,35         ,2,20240312,0948, -56.4837,  83.7698,     4736,     25.1,   3.1085,  33.8832,2,  33.8833,2,    317.1,2,    316.8,2,    10.45,2,     0.63,2,    24.27,2,     0.24,2,     1.68,2,    4.688,2,    2.645,2,    0.367,2,   4.4450,2,   2162.1,3,   2282.6,2,   7.6995,2,    25.00,     -999,1,   3.1079,2,     -999,9,     -999,     -999,9,     -999,9,     -999,9,     -999,9,     -999,9,     -999,1,   0.0427,1,   4.5335,1,     10.8,2,     -999,9,20240312,1221, -56.4837,  83.7697,     -999,9,     -999,9,-999          ,9,-999          ,9,-999          ,9
325020240221  ,I08        ,25      ,  2,34         ,34         ,2,20240312,0948, -56.4837,  83.7698,     4736,     51.2,   3.0805,  33.8836,2,  33.8831,2,    317.0,2,    317.1,2,    10.55,2,     0.65,2,    24.18,2,     0.24,2,     1.68,2,    4.942,2,    2.637,2,    0.376,2,   4.3720,2,   2161.5,3,   2283.4,2,   7.6995,2,    25.00,     -999,1,   3.0817,2,     -999,1,     -999,     -999,9,     -999,9,     -999,9,     -999,9,     -999,9,     -999,1,   0.0421,1,   4.5341,1,     11.0,2,     -999,9,20240312,1219, -56.4837,  83.7697,     -999,9,     -999,9,-999          ,9,-999          ,9,-999          ,9
325020240221  ,I08        ,25      ,  2,33         ,33         ,2,20240312,0948, -56.4837,  83.7698,     4736,     74.8,   3.0607,  33.8822,2,  33.8819,2,    316.7,2,    316.7,2,    10.65,2,     0.62,2,    24.15,2,     0.23,2,     1.65,2,    5.031,2,    2.625,2,    0.377,2,   4.2590,2,   2157.9,3,   2282.3,2,   7.6985,2,    24.99,     -999,1,   3.0604,2,     -999,9,     -999,     -999,9,     -999,9,     -999,9,     -999,9,     -999,9,     -999,1,   0.0428,1,   4.5394,1,     11.4,2,     -999,9,20240312,1216, -56.4837,  83.7697,     -999,9,     -999,9,-999          ,9,-999          ,9,-999          ,9
325020240221  ,I08        ,25      ,  2,32         ,32         ,2,20240312,0948, -56.4837,  83.7698,     4736,    100.2,   3.0526,  33.8819,2,  33.8815,2,    316.4,2,    316.8,2,    10.84,2,     0.63,2,    24.14,2,     0.23,2,     1.67,2,    5.069,2,    2.570,2,    0.376,2,   4.3540,2,   2153.7,3,   2284.3,2,   7.6976,2,    24.98,     -999,1,   3.0529,2,     -999,1,     -999,     -999,9,     -999,9,     -999,9,     -999,9,     -999,9,     -999,1,   0.0422,1,   4.5422,1,     12.3,2,     -999,9,20240312,1214, -56.4837,  83.7697,     -999,9,     -999,9,-999          ,9,-999          ,9,-999          ,9
325020240221  ,I08        ,25      ,  2,31         ,31         ,2,20240312,0948, -56.4837,  83.7698,     4736,    150.5,   1.8176,  33.9984,2,  33.9978,2,    293.6,2,    293.9,2,    29.59,2,     0.13,2,    28.94,2,     0.17,2,     1.99,2,    5.000,2,    2.703,2,    0.387,2,   3.2570,2,   2181.9,3,   2288.0,2,   7.6265,2,    25.01,     -999,1,   1.8370,2,     -999,1,     -999,     -999,9,     -999,9,     -999,9,     -999,9,     -999,9,     -999,1,   0.0208,1,   4.6065,1,     14.7,2,     -999,9,20240312,1212, -56.4837,  83.7697,     -999,9,     -999,9,-999          ,9,-999          ,9,-999          ,9
325020240221  ,I08        ,25      ,  2,30         ,30         ,2,20240312,0948, -56.4837,  83.7698,     4736,    201.8,   1.5722,  34.1205,2,  34.1211,2,    263.2,2,    264.2,2,    41.30,2,     0.04,2,    31.37,2,     0.00,2,     2.15,2,    4.717,2,    2.114,2,    0.316,2,   2.5760,2,   2208.0,3,   2296.8,2,   7.5915,2,    25.00,     -999,1,   1.5690,2,     -999,1,     -999,     -999,9,     -999,9,     -999,9,     -999,9,     -999,9,     -999,1,   0.0183,1,   4.6195,1,     16.9,2,     -999,9,20240312,1209, -56.4837,  83.7697,     -999,9,     -999,9,-999          ,9,-999          ,9,-999          ,9
325020240221  ,I08        ,25      ,  2,29         ,29         ,2,20240312,0948, -56.4837,  83.7698,     4736,    253.1,   1.9453,  34.2515,2,  34.2485,2,    229.7,2,    229.0,2,    50.77,2,     0.02,2,    33.10,2,     0.00,2,     2.25,2,    2.783,2,    1.668,2,    0.243,2,   1.8780,2,   2219.4,3,   2307.4,2,   7.5654,2,    24.98,     -999,1,   1.9444,2,     -999,9,     -999,     -999,9,     -999,9,     -999,9,     -999,9,     -999,9,     -999,1,   0.0183,1,   4.6206,1,     18.9,2,     -999,9,20240312,1207, -56.4837,  83.7697,     -999,9,     -999,9,-999          ,9,-999          ,9,-999          ,9
325020240221  ,I08        ,25      ,  2,28         ,28         ,2,20240312,0948, -56.4837,  83.7698,     4736,    301.9,   2.0656,  34.3280,2,  34.3258,2,    211.3,2,    209.9,2,    57.31,2,     0.00,2,    33.97,2,     0.00,2,     2.29,2,    2.490,2,    1.356,2,    0.190,2,   1.2940,2,   2235.4,3,   2312.9,2,   7.5505,2,    24.99,     -999,1,   2.0653,2,     -999,9,     -999,     -999,9,     -999,9,     -999,9,     -999,9,     -999,9,     -999,1,   0.0183,1,   4.6213,1,     20.3,2,     -999,9,20240312,1205, -56.4837,  83.7698,     -999,9,     -999,9,-999          ,9,-999          ,9,-999          ,9
325020240221  ,I08        ,25      ,  2,27         ,27         ,2,20240312,0948, -56.4837,  83.7698,     4736,    350.8,   2.1917,  34.3953,2,  34.3943,2,    196.5,2,    196.3,2,    62.19,2,     0.00,2,    34.41,2,     0.00,2,     2.33,2,    2.141,2,    1.040,2,    0.148,2,   1.0150,2,   2240.8,3,   2318.3,2,   7.5443,2,    25.01,     -999,1,   2.1792,2,     -999,9,     -999,     -999,9,     -999,9,     -999,9,     -999,9,     -999,9,     -999,1,   0.0183,1,   4.6247,1,     21.2,2,     -999,9,20240312,1202, -56.4837,  83.7697,     -999,9,     -999,9,-999          ,9,-999          ,9,-999          ,9
325020240221  ,I08        ,25      ,  2,26         ,26         ,2,20240312,0948, -56.4837,  83.7698,     4736,    404.1,   2.2839,  34.4559,2,  34.4546,2,    185.8,2,    185.1,2,    66.38,2,     0.00,2,    34.57,2,     0.00,2,     2.34,2,    1.692,2,    0.830,2,    0.110,2,   0.8450,2,   2248.2,3,   2320.7,2,   7.5423,2,    25.00,     -999,1,   2.2826,2,     -999,1,     -999,     -999,9,     -999,9,     -999,9,     -999,9,     -999,9,     -999,1,   0.0182,1,   4.6274,1,     21.6,2,     -999,9,20240312,1159, -56.4837,  83.7697,     -999,9,     -999,9,-999          ,9,-999          ,9,-999          ,9
325020240221  ,I08        ,25      ,  2,25         ,25         ,2,20240312,0948, -56.4837,  83.7698,     4736,    504.3,   2.3678,  34.5493,2,  34.5486,2,    174.5,2,    174.6,2,    72.23,2,     0.00,2,    34.28,2,     0.00,2,     2.32,2,    1.059,2,    0.511,2,    0.062,2,   0.3850,2,   2254.8,3,   2329.7,2,   7.5469,2,    24.98,     -999,1,   2.3681,2,     -999,9,     -999,     -999,9,     -999,9,     -999,9,     -999,9,     -999,9,     -999,1,   0.0183,1,   4.6310,1,     21.8,2,     -999,9,20240312,1156, -56.4837,  83.7697,     -999,9,     -999,9,-999          ,9,-999          ,9,-999          ,9
325020240221  ,I08        ,25      ,  2,24         ,24         ,2,20240312,0948, -56.4837,  83.7698,     4736,    606.3,   2.3227,  34.6019,2,  34.6042,2,    174.0,2,    174.0,2,    75.06,2,     0.00,2,    33.66,2,     0.00,2,     2.26,2,    0.830,2,    0.376,2,    0.045,2,   0.3680,2,   2256.4,3,   2331.3,2,   7.5552,6,    25.00,     -999,1,   2.3223,2,     -999,1,     -999,     -999,9,     -999,9,     -999,9,     -999,9,     -999,9,     -999,1,   0.0183,1,   4.6347,1,     21.8,2,     -999,9,20240312,1153, -56.4837,  83.7697,     -999,9,     -999,9,-999          ,9,-999          ,9,-999          ,9
325020240221  ,I08        ,25      ,  2,23         ,37         ,2,20240312,0948, -56.4837,  83.7698,     4736,    705.3,   2.2632,  34.6481,2,  34.6466,2,    175.7,2,    175.9,2,    77.50,2,     0.00,2,    33.03,2,     0.00,2,     2.22,2,    0.669,2,    0.298,2,    0.034,2,   0.2530,2,   2254.3,3,   2340.1,6,   7.5647,6,    25.00,     -999,1,   2.2629,2,     -999,9,     -999,     -999,9,     -999,9,     -999,9,     -999,9,     -999,9,     -999,1,   0.0183,1,   4.6360,1,     21.9,2,     -999,9,20240312,1150, -56.4837,  83.7698,     -999,9,     -999,9,-999          ,9,-999          ,9,-999          ,9
325020240221  ,I08        ,25      ,  2,22         ,22         ,2,20240312,0948, -56.4837,  83.7698,     4736,    810.0,   2.1590,  34.6739,2,  34.6730,2,    177.6,2,    177.8,2,    80.13,2,     0.02,2,    32.72,2,     0.00,2,     2.20,2,    0.596,2,    0.272,2,    0.029,2,   0.2310,2,   2251.6,3,   2341.0,6,   7.5696,2,    25.02,     -999,1,   2.1591,2,     -999,1,     -999,     -999,9,     -999,9,     -999,9,     -999,9,     -999,9,     -999,1,   0.0183,1,   4.6354,1,     22.3,2,     -999,9,20240312,1147, -56.4837,  83.7696,     -999,9,     -999,9,-999          ,9,-999          ,9,-999          ,9
325020240221  ,I08        ,25      ,  2,21         ,21         ,2,20240312,0948, -56.4837,  83.7698,     4736,    910.0,   2.0869,  34.6993,2,  34.6989,2,    180.9,2,    180.9,2,    82.38,2,     0.00,2,    32.14,2,     0.00,2,     2.14,2,    0.496,2,    0.226,2,    0.025,2,   0.1200,2,   2253.4,3,   2343.0,2,   7.5791,2,    25.01,     -999,1,   2.0863,2,     -999,9,     -999,     -999,9,     -999,9,     -999,9,     -999,9,     -999,9,     -999,1,   0.0183,1,   4.6364,1,     22.6,2,     -999,9,20240312,1143, -56.4836,  83.7697,     -999,9,     -999,9,-999          ,9,-999          ,9,-999          ,9
325020240221  ,I08        ,25      ,  2,20         ,20         ,2,20240312,0948, -56.4837,  83.7698,     4736,   1012.1,   2.0044,  34.7158,2,  34.7156,2,    183.9,2,    183.6,2,    84.33,2,     0.02,2,    31.68,2,     0.00,2,     2.11,2,    0.452,2,    0.201,2,    0.021,2,   0.0350,2,   2254.5,3,   2344.8,2,   7.5840,2,    24.99,     -999,1,   2.0043,2,     -999,1,     -999,     -999,9,     -999,9,     -999,9,     -999,9,     -999,9,     -999,1,   0.0187,1,   4.6374,1,     22.7,2,     -999,9,20240312,1140, -56.4837,  83.7697,     -999,9,     -999,9,-999          ,9,-999          ,9,-999          ,9
325020240221  ,I08        ,25      ,  2,19         ,19         ,2,20240312,0948, -56.4837,  83.7698,     4736,   1113.3,   1.8891,  34.7213,2,  34.7213,2,    186.0,2,    186.8,2,    86.77,2,     0.00,2,    31.52,2,     0.00,2,     2.11,2,    0.478,2,    0.206,2,    0.023,2,   0.2060,2,   2250.4,3,   2346.9,2,   7.5856,2,    25.00,     -999,1,   1.8889,2,     -999,9,     -999,     -999,9,     -999,9,     -999,9,     -999,9,     -999,9,     -999,1,   0.0183,1,   4.6376,1,     15.0,2,     -999,9,20240312,1136, -56.4837,  83.7697,     -999,9,     -999,9,-999          ,9,-999          ,9,-999          ,9
325020240221  ,I08        ,25      ,  2,18         ,18         ,2,20240312,0948, -56.4837,  83.7698,     4736,   1216.1,   1.8278,  34.7323,2,  34.7325,2,    189.8,2,    190.3,2,    88.23,2,     0.00,2,    30.99,2,     0.00,2,     2.10,2,    0.394,2,    0.184,2,    0.016,2,   0.0380,2,   2247.0,3,   2348.2,2,   7.5956,2,    25.02,     -999,1,   1.8282,2,     -999,1,     -999,     -999,9,     -999,9,     -999,9,     -999,9,     -999,9,     -999,1,   0.0183,1,   4.6370,1,     23.2,2,     -999,9,20240312,1133, -56.4837,  83.7697,     -999,9,     -999,9,-999          ,9,-999          ,9,-999          ,9
325020240221  ,I08        ,25      ,  2,17         ,17         ,2,20240312,0948, -56.4837,  83.7698,     4736,   1315.4,   1.7777,  34.7392,2,  34.7390,2,    193.0,2,    193.1,2,    89.89,2,     0.00,2,    30.61,2,     0.00,2,     2.07,2,    0.352,2,    0.162,2,    0.014,2,   0.0630,2,   2244.6,3,   2346.6,2,   7.6020,2,    25.02,     -999,1,   1.7781,2,     -999,9,     -999,     -999,9,     -999,9,     -999,9,     -999,9,     -999,9,     -999,1,   0.0183,1,   4.6380,1,     23.3,2,     -999,9,20240312,1130, -56.4837,  83.7697,     -999,9,     -999,9,-999          ,9,-999          ,9,-999          ,9
325020240221  ,I08        ,25      ,  2,16         ,16         ,2,20240312,0948, -56.4837,  83.7698,     4736,   1417.5,   1.6958,  34.7413,2,  34.7412,2,    195.7,2,    195.6,2,    91.45,2,     0.00,2,    30.51,2,     0.00,2,     2.05,2,    0.282,2,    0.150,2,    0.012,2,   0.0510,2,   2249.1,3,   2349.3,2,   7.6056,2,    24.99,     -999,1,   1.6953,2,     -999,1,     -999,     -999,9,     -999,9,     -999,9,     -999,9,     -999,9,     -999,1,   0.0183,1,   4.6373,1,     23.7,2,     -999,9,20240312,1127, -56.4837,  83.7697,     -999,9,     -999,9,-999          ,9,-999          ,9,-999          ,9
325020240221  ,I08        ,25      ,  2,15         ,15         ,2,20240312,0948, -56.4837,  83.7698,     4736,   1518.7,   1.6095,  34.7413,2,  34.7408,2,    197.6,2,    197.6,2,    93.70,2,     0.00,2,    30.49,2,     0.00,2,     2.04,2,    0.331,2,    0.149,2,    0.013,2,   0.0320,2,   2245.0,3,   2350.9,2,   7.6074,2,    25.00,     -999,1,   1.6093,2,     -999,9,     -999,     -999,9,     -999,9,     -999,9,     -999,9,     -999,9,     -999,1,   0.0183,1,   4.6360,1,     23.9,2,     -999,9,20240312,1123, -56.4837,  83.7697,     -999,9,     -999,9,-999          ,9,-999          ,9,-999          ,9
325020240221  ,I08        ,25      ,  2,14         ,14         ,2,20240312,0948, -56.4837,  83.7698,     4736,   1622.3,   1.5264,  34.7394,2,  34.7392,2,    199.0,2,    198.8,2,    95.75,2,     0.00,2,    30.60,2,     0.00,2,     2.07,2,    0.294,2,    0.150,2,    0.013,2,  -0.0050,2,   2243.8,3,   2351.1,2,   7.6076,2,    25.00,     -999,1,   1.5262,2,     -999,1,     -999,     -999,9,     -999,9,     -999,9,     -999,9,     -999,9,     -999,1,   0.0164,1,   4.6348,1,     24.1,2,     -999,9,20240312,1120, -56.4837,  83.7697,     -999,9,     -999,9,-999          ,9,-999          ,9,-999          ,9
325020240221  ,I08        ,25      ,  2,13         ,13         ,2,20240312,0948, -56.4837,  83.7698,     4736,   1824.8,   1.3330,  34.7319,2,  34.7315,2,    201.6,2,    201.2,2,   100.63,2,     0.00,2,    30.88,2,     0.00,2,     2.09,2,    0.364,2,    0.168,2,    0.015,2,   0.0230,2,   2251.5,3,   2353.3,2,   7.6070,2,    25.03,     -999,1,   1.3328,2,     -999,1,     -999,     -999,9,     -999,9,     -999,9,     -999,9,     -999,9,     -999,1,   0.0179,1,   4.6325,1,     24.4,2,     -999,9,20240312,1115, -56.4837,  83.7697,     -999,9,     -999,9,-999          ,9,-999          ,9,-999          ,9
325020240221  ,I08        ,25      ,  2,12         ,12         ,2,20240312,0948, -56.4837,  83.7698,     4736,   2029.6,   1.1828,  34.7257,2,  34.7248,2,    203.3,2,    203.1,2,   105.60,2,     0.00,2,    31.19,2,     0.00,2,     2.13,2,    0.362,2,    0.163,2,    0.013,2,   0.0400,2,   2252.3,3,   2354.6,2,   7.6073,6,    25.00,     -999,1,   1.1826,2,     -999,1,     -999,     -999,9,     -999,9,     -999,9,     -999,9,     -999,9,     -999,1,   0.0175,1,   4.6312,1,     24.6,2,     -999,9,20240312,1109, -56.4837,  83.7697,     -999,9,     -999,9,-999          ,9,-999          ,9,-999          ,9
325020240221  ,I08        ,25      ,  2,11         ,11         ,2,20240312,0948, -56.4837,  83.7698,     4736,   2283.0,   0.9853,  34.7154,2,  34.7138,2,    205.4,2,    205.5,2,   111.95,2,     0.00,2,    31.65,2,     0.00,2,     2.17,2,    0.403,2,    0.180,2,    0.016,2,   0.0530,2,   2259.8,3,   2355.2,2,   7.6025,6,    25.00,     -999,1,   0.9853,2,     -999,9,     -999,     -999,9,     -999,9,     -999,9,     -999,9,     -999,9,     -999,1,   0.0181,1,   4.6287,1,     24.9,2,     -999,9,20240312,1102, -56.4837,  83.7698,     -999,9,     -999,9,-999          ,9,-999          ,9,-999          ,9
325020240221  ,I08        ,25      ,  2,10         ,10         ,2,20240312,0948, -56.4837,  83.7698,     4736,   2537.8,   0.8106,  34.7051,2,  34.7046,2,    207.2,2,    207.5,2,   116.73,2,     0.00,2,    32.07,2,     0.00,2,     2.22,2,    0.457,2,    0.207,2,    0.017,2,   0.1680,2,   2258.1,3,   2357.7,6,   7.5989,2,    25.01,     -999,1,   0.8095,2,     -999,1,     -999,     -999,9,     -999,9,     -999,9,     -999,9,     -999,9,     -999,1,   0.0182,1,   4.6263,1,     25.4,2,     -999,9,20240312,1056, -56.4837,  83.7698,     -999,9,     -999,9,-999          ,9,-999          ,9,-999          ,9
325020240221  ,I08        ,25      ,  2,9          ,9          ,2,20240312,0948, -56.4837,  83.7698,     4736,   2793.5,   0.6568,  34.6966,2,  34.6971,2,    209.7,2,    209.9,2,   121.22,2,     0.00,2,    32.37,2,     0.00,2,     2.23,2,    0.521,2,    0.236,2,    0.020,2,   0.0170,2,   2257.5,3,   2356.1,2,   7.5955,2,    25.01,     -999,1,   0.6565,2,     -999,9,     -999,     -999,9,     -999,9,     -999,9,     -999,9,     -999,9,     -999,1,   0.0182,1,   4.6253,1,     25.5,2,     -999,9,20240312,1049, -56.4837,  83.7697,     -999,9,     -999,9,-999          ,9,-999          ,9,-999          ,9
325020240221  ,I08        ,25      ,  2,8          ,8          ,2,20240312,0948, -56.4837,  83.7698,     4736,   3049.0,   0.5373,  34.6896,2,  34.6887,2,    212.3,2,    212.6,2,   124.44,2,     0.00,2,    32.56,2,     0.00,2,     2.23,2,    0.584,2,    0.266,2,    0.025,2,   0.0710,2,   2259.6,3,   2355.3,2,   7.5949,2,    24.98,     -999,1,   0.5369,2,     -999,1,     -999,     -999,9,     -999,9,     -999,9,     -999,9,     -999,9,     -999,1,   0.0177,1,   4.6239,1,     25.7,2,     -999,9,20240312,1042, -56.4837,  83.7697,     -999,9,     -999,9,-999          ,9,-999          ,9,-999          ,9
325020240221  ,I08        ,25      ,  2,7          ,7          ,2,20240312,0948, -56.4837,  83.7698,     4736,   3357.4,   0.3949,  34.6821,2,  34.6806,2,    216.7,2,    216.5,2,   127.76,2,     0.00,2,    32.68,2,     0.00,2,     2.22,2,    0.753,2,    0.345,2,    0.034,2,   0.0310,2,   2263.1,3,   2357.1,2,   7.5935,2,    25.03,     -999,1,   0.3943,2,     -999,9,     -999,     -999,9,     -999,9,     -999,9,     -999,9,     -999,9,     -999,1,   0.0178,1,   4.6236,1,     25.9,2,     -999,9,20240312,1033, -56.4837,  83.7698,     -999,9,     -999,9,-999          ,9,-999          ,9,-999          ,9
325020240221  ,I08        ,25      ,  2,6          ,6          ,2,20240312,0948, -56.4837,  83.7698,     4736,   3664.9,   0.3052,  34.6771,2,  34.6767,2,    220.0,2,    220.0,2,   129.03,2,     0.00,2,    32.68,2,     0.00,2,     2.23,2,    0.901,2,    0.442,2,    0.059,2,   0.2800,2,   2242.2,3,   2354.2,2,   7.5946,6,    25.03,     -999,1,   0.3047,2,     -999,1,     -999,     -999,9,     -999,9,     -999,9,     -999,9,     -999,9,     -999,1,   0.0180,1,   4.6237,1,     26.7,2,     -999,9,20240312,1024, -56.4836,  83.7697,     -999,9,     -999,9,-999          ,9,-999          ,9,-999          ,9