BOTTLE,20240417CCHHYDRO
EXPOCODE,SECT_ID,STNNBR,CASTNO,SAMPNO,BTLNBR,BTLNBR_FLAG_W,DATE,TIME,LATITUDE,LONGITUDE,DEPTH,CTDPRS,CTDTMP,CTDSAL,CTDSAL_FLAG_W,SALNTY,SALNTY_FLAG_W,CTDOXY,CTDOXY_FLAG_W,OXYGEN,OXYGEN_FLAG_W,SILCAT,SILCAT_FLAG_W,NH4,NH4_FLAG_W,NITRAT,NITRAT_FLAG_W,NITRIT,NITRIT_FLAG_W,PHSPHT,PHSPHT_FLAG_W,CFC-11,CFC-11_FLAG_W,CFC-12,CFC-12_FLAG_W,CFC113,CFC113_FLAG_W,SF6,SF6_FLAG_W,TCARBN,TCARBN_FLAG_W,ALKALI,ALKALI_FLAG_W,PH_TOT,PH_TOT_FLAG_W,PH_TMP,DOC,DOC_FLAG_W,REFTMP,REFTMP_FLAG_W,DELC14,DELC14_FLAG_W,C14ERR,POC,POC_FLAG_W,PON,PON_FLAG_W,POP,POP_FLAG_W,PCOD,PCOD_FLAG_W,DOP,DOP_FLAG_W,TDN,TDN_FLAG_W,CTDFLUOR,CTDFLUOR_FLAG_W,CTDXMISS,CTDXMISS_FLAG_W,N2O,N2O_FLAG_W,ARGON,ARGON_FLAG_W,BTL_DATE,BTL_TIME,BTL_LAT,BTL_LON,KRYPTON,KRYPTON_FLAG_W,XENON,XENON_FLAG_W,HPLC,HPLC_FLAG_W,DNA,DNA_FLAG_W,FCM,FCM_FLAG_W
,,,,,,,,,,,METERS,DBAR,ITS-90,PSS-78,,PSS-78,,UMOL/KG,,UMOL/KG,,UMOL/KG,,UMOL/KG,,UMOL/KG,,UMOL/KG,,UMOL/KG,,PMOL/KG,,PMOL/KG,,PMOL/KG,,FMOL/KG,,UMOL/KG,,UMOL/KG,,,,DEG C,UMOL/KG,,ITS-90,,/MILLE,,/MILLE,UG/KG,,UG/KG,,UG/L,,UG/L,,UMOL/KG,,UMOL/KG,,VOLTS,,VOLTS,,NMOL/KG,,UMOL/L,,,,,,NMOL/L,,NMOL/L,,,,,,,
325020240221  ,I08        ,52      ,  2,5          ,5          ,2,20240323,0445, -39.9973,  94.9950,     3637,   2789.4,   1.6993,  34.7440,2,  34.7435,2,    198.9,2,    198.4,2,    96.35,2,     0.02,2,    30.58,2,     0.00,2,     2.15,2,    0.125,2,    0.070,2,    0.007,4,   0.0070,2,   2250.1,3,   2356.5,2,   7.6170,2,    25.04,     -999,1,   1.6998,2,     -999,9,     -999,     -999,9,     -999,9,     -999,9,     -999,9,     -999,9,     -999,1,   0.0183,1,   4.6395,1,     16.2,2,     -999,9,20240323,0506, -39.9973,  94.9950,     -999,9,     -999,9,-999          ,9,-999          ,9,-999          ,9
325020240221  ,I08        ,52      ,  2,4          ,4          ,2,20240323,0445, -39.9973,  94.9950,     3637,   3042.9,   1.4198,  34.7330,2,  34.7305,3,    202.2,2,    202.1,2,   105.91,2,     0.02,2,    31.08,2,     0.00,2,     2.17,2,    0.182,2,    0.091,2,    0.013,4,   0.0060,2,   2257.4,3,   2360.6,2,   7.6148,2,    25.01,     -999,1,   1.4199,2,     -999,9,     -999,     -999,9,     -999,9,     -999,9,     -999,9,     -999,9,     -999,1,   0.0183,1,   4.6374,1,     16.1,2,     -999,9,20240323,0500, -39.9973,  94.9950,     -999,9,     -999,9,-999          ,9,-999          ,9,-999          ,9
325020240221  ,I08        ,52      ,  2,3          ,3          ,2,20240323,0445, -39.9973,  94.9950,     3637,   3273.7,   1.2823,  34.7262,2,  34.7258,2,    203.9,2,    205.2,2,   110.99,2,     0.02,2,    31.36,2,     0.00,2,     2.20,2,    0.214,2,    0.107,2,    0.016,4,   0.0180,2,   2259.9,3,   2360.6,2,   7.6133,2,    25.02,     -999,1,   1.2826,2,     -999,1,     -999,     -999,9,     -999,9,     -999,9,     -999,9,     -999,9,     -999,1,   0.0176,1,   4.6361,1,     15.9,2,     -999,9,20240323,0455, -39.9973,  94.9950,     -999,9,     -999,9,-999          ,9,-999          ,9,-999          ,9
325020240221  ,I08        ,52      ,  2,2          ,2          ,2,20240323,0445, -39.9973,  94.9950,     3637,   3459.2,   1.1959,  34.7216,2,  34.7211,2,    204.7,2,    204.2,2,   114.11,2,     0.05,2,    31.56,2,     0.00,2,     2.20,2,    0.247,2,    0.121,2,    0.027,4,   0.0420,2,   2261.1,3,   2365.1,2,   7.6135,2,    25.00,     -999,1,   1.1957,2,     -999,1,     -999,     -999,9,     -999,9,     -999,9,     -999,9,     -999,9,     -999,1,   0.0183,1,   4.6371,1,     15.6,2,     -999,9,20240323,0450, -39.9973,  94.9950,     -999,9,     -999,9,-999          ,9,-999          ,9,-999          ,9
325020240221  ,I08        ,52      ,  2,1          ,1          ,2,20240323,0445, -39.9973,  94.9950,     3637,   3687.3,   1.1631,  34.7191,2,  34.7184,2,    205.3,2,    205.8,2,   115.87,2,     0.03,2,    31.66,2,     0.00,2,     2.22,2,    0.247,2,    0.122,2,    0.046,4,   0.0400,2,   2259.3,3,   2364.8,2,   7.6139,2,    24.99,     -999,1,   1.1631,2,     -999,1,     -999,     -999,9,     -999,9,     -999,9,     -999,9,     -999,9,     -999,1,   0.0183,1,   4.6385,1,      9.8,2,     -999,9,20240323,0445, -39.9973,  94.9950,     -999,9,     -999,9,-999          ,9,-999          ,9,-999          ,9