BOTTLE,20240417CCHHYDRO
EXPOCODE,SECT_ID,STNNBR,CASTNO,SAMPNO,BTLNBR,BTLNBR_FLAG_W,DATE,TIME,LATITUDE,LONGITUDE,DEPTH,CTDPRS,CTDTMP,CTDSAL,CTDSAL_FLAG_W,SALNTY,SALNTY_FLAG_W,CTDOXY,CTDOXY_FLAG_W,OXYGEN,OXYGEN_FLAG_W,SILCAT,SILCAT_FLAG_W,NH4,NH4_FLAG_W,NITRAT,NITRAT_FLAG_W,NITRIT,NITRIT_FLAG_W,PHSPHT,PHSPHT_FLAG_W,CFC-11,CFC-11_FLAG_W,CFC-12,CFC-12_FLAG_W,CFC113,CFC113_FLAG_W,SF6,SF6_FLAG_W,TCARBN,TCARBN_FLAG_W,ALKALI,ALKALI_FLAG_W,PH_TOT,PH_TOT_FLAG_W,PH_TMP,DOC,DOC_FLAG_W,REFTMP,REFTMP_FLAG_W,DELC14,DELC14_FLAG_W,C14ERR,POC,POC_FLAG_W,PON,PON_FLAG_W,POP,POP_FLAG_W,PCOD,PCOD_FLAG_W,DOP,DOP_FLAG_W,TDN,TDN_FLAG_W,CTDFLUOR,CTDFLUOR_FLAG_W,CTDXMISS,CTDXMISS_FLAG_W,N2O,N2O_FLAG_W,ARGON,ARGON_FLAG_W,BTL_DATE,BTL_TIME,BTL_LAT,BTL_LON,KRYPTON,KRYPTON_FLAG_W,XENON,XENON_FLAG_W,HPLC,HPLC_FLAG_W,DNA,DNA_FLAG_W,FCM,FCM_FLAG_W
,,,,,,,,,,,METERS,DBAR,ITS-90,PSS-78,,PSS-78,,UMOL/KG,,UMOL/KG,,UMOL/KG,,UMOL/KG,,UMOL/KG,,UMOL/KG,,UMOL/KG,,PMOL/KG,,PMOL/KG,,PMOL/KG,,FMOL/KG,,UMOL/KG,,UMOL/KG,,,,DEG C,UMOL/KG,,ITS-90,,/MILLE,,/MILLE,UG/KG,,UG/KG,,UG/L,,UG/L,,UMOL/KG,,UMOL/KG,,VOLTS,,VOLTS,,NMOL/KG,,UMOL/L,,,,,,NMOL/L,,NMOL/L,,,,,,,
325020240221  ,I08        ,28      ,  1,5          ,5          ,2,20240313,0610, -57.5139,  82.5237,     4425,   3352.8,   0.1021,  34.6695,2,  34.6698,2,    225.5,2,    225.9,2,   129.64,2,     0.00,2,    32.79,2,     0.00,2,     2.24,2,    1.261,2,    0.568,2,    0.067,2,   0.4530,2,   2265.0,3,   2354.0,2,   7.5924,2,    25.04,     -999,1,   0.1016,2,     -999,9,     -999,     -999,9,     -999,9,     -999,9,     -999,9,     -999,9,     -999,1,   0.0176,1,   4.6226,1,     13.0,2,     -999,9,20240313,0636, -57.5139,  82.5236,     -999,9,     -999,9,-999          ,9,-999          ,9,-999          ,9
325020240221  ,I08        ,28      ,  1,4          ,4          ,2,20240313,0610, -57.5139,  82.5237,     4425,   3661.6,   0.0712,  34.6672,2,  34.6669,2,    227.4,2,    227.3,2,   128.47,2,     0.00,2,    32.65,2,     0.00,2,     2.22,2,    1.392,2,    0.625,2,    0.079,2,   0.4390,2,   2262.5,3,   2353.9,2,   7.5928,2,    25.02,     -999,1,   0.0709,2,     -999,9,     -999,     -999,9,     -999,9,     -999,9,     -999,9,     -999,9,     -999,1,   0.0182,1,   4.6238,1,     12.8,2,     -999,9,20240313,0629, -57.5139,  82.5236,     -999,9,     -999,9,-999          ,9,-999          ,9,-999          ,9
325020240221  ,I08        ,28      ,  1,3          ,3          ,2,20240313,0610, -57.5139,  82.5237,     4425,   3968.9,   0.0630,  34.6650,2,  34.6653,2,    228.7,2,    228.9,2,   128.08,2,     0.00,2,    32.50,2,     0.00,2,     2.21,2,    1.483,2,    0.694,2,    0.085,2,   0.4430,2,   2263.5,3,   2352.3,2,   7.5928,2,    25.00,     -999,1,   0.0628,2,     -999,9,     -999,     -999,9,     -999,9,     -999,9,     -999,9,     -999,9,     -999,1,   0.0183,1,   4.6254,1,     13.0,2,     -999,9,20240313,0622, -57.5139,  82.5236,     -999,9,     -999,9,-999          ,9,-999          ,9,-999          ,9
325020240221  ,I08        ,28      ,  1,2          ,2          ,2,20240313,0610, -57.5139,  82.5237,     4425,   4176.5,   0.0788,  34.6649,2,  34.6645,2,    228.8,2,    229.0,2,   128.18,2,     0.00,2,    32.48,2,     0.00,2,     2.18,2,    1.566,2,    0.687,2,    0.083,2,   0.3340,2,   2260.8,3,   2353.7,2,   7.5925,2,    25.02,     -999,1,   0.0787,2,     -999,9,     -999,     -999,9,     -999,9,     -999,9,     -999,9,     -999,9,     -999,1,   0.0181,1,   4.6264,1,     12.8,2,     -999,9,20240313,0618, -57.5139,  82.5236,     -999,9,     -999,9,-999          ,9,-999          ,9,-999          ,9
325020240221  ,I08        ,28      ,  1,1          ,1          ,2,20240313,0610, -57.5139,  82.5237,     4425,   4503.9,   0.1156,  34.6644,2,  34.6661,2,    229.2,2,    229.0,2,   127.98,2,     0.00,2,    32.50,2,     0.00,2,     2.19,2,    1.494,2,    0.689,2,    0.088,2,   0.5630,2,   2260.1,3,   2353.0,2,   7.5919,2,    25.00,     -999,1,   0.1150,2,     -999,9,     -999,     -999,9,     -999,9,     -999,9,     -999,9,     -999,9,     -999,1,   0.0183,1,   4.6287,1,      7.6,4,     -999,9,20240313,0610, -57.5139,  82.5235,     -999,9,     -999,9,-999          ,9,-999          ,9,-999          ,9