BOTTLE,20240417CCHHYDRO
EXPOCODE,SECT_ID,STNNBR,CASTNO,SAMPNO,BTLNBR,BTLNBR_FLAG_W,DATE,TIME,LATITUDE,LONGITUDE,DEPTH,CTDPRS,CTDTMP,CTDSAL,CTDSAL_FLAG_W,SALNTY,SALNTY_FLAG_W,CTDOXY,CTDOXY_FLAG_W,OXYGEN,OXYGEN_FLAG_W,SILCAT,SILCAT_FLAG_W,NH4,NH4_FLAG_W,NITRAT,NITRAT_FLAG_W,NITRIT,NITRIT_FLAG_W,PHSPHT,PHSPHT_FLAG_W,CFC-11,CFC-11_FLAG_W,CFC-12,CFC-12_FLAG_W,CFC113,CFC113_FLAG_W,SF6,SF6_FLAG_W,TCARBN,TCARBN_FLAG_W,ALKALI,ALKALI_FLAG_W,PH_TOT,PH_TOT_FLAG_W,PH_TMP,DOC,DOC_FLAG_W,REFTMP,REFTMP_FLAG_W,DELC14,DELC14_FLAG_W,C14ERR,POC,POC_FLAG_W,PON,PON_FLAG_W,POP,POP_FLAG_W,PCOD,PCOD_FLAG_W,DOP,DOP_FLAG_W,TDN,TDN_FLAG_W,CTDFLUOR,CTDFLUOR_FLAG_W,CTDXMISS,CTDXMISS_FLAG_W,N2O,N2O_FLAG_W,ARGON,ARGON_FLAG_W,BTL_DATE,BTL_TIME,BTL_LAT,BTL_LON,KRYPTON,KRYPTON_FLAG_W,XENON,XENON_FLAG_W,HPLC,HPLC_FLAG_W,DNA,DNA_FLAG_W,FCM,FCM_FLAG_W
,,,,,,,,,,,METERS,DBAR,ITS-90,PSS-78,,PSS-78,,UMOL/KG,,UMOL/KG,,UMOL/KG,,UMOL/KG,,UMOL/KG,,UMOL/KG,,UMOL/KG,,PMOL/KG,,PMOL/KG,,PMOL/KG,,FMOL/KG,,UMOL/KG,,UMOL/KG,,,,DEG C,UMOL/KG,,ITS-90,,/MILLE,,/MILLE,UG/KG,,UG/KG,,UG/L,,UG/L,,UMOL/KG,,UMOL/KG,,VOLTS,,VOLTS,,NMOL/KG,,UMOL/L,,,,,,NMOL/L,,NMOL/L,,,,,,,
325020240221  ,I08        ,42      ,  1,36         ,36         ,2,20240320,1449, -45.2134,  94.8172,     3113,      4.8,  10.0659,  33.9177,2,  33.9185,2,    280.7,2,    280.5,2,     1.07,2,     0.31,2,    14.77,2,     0.21,2,     1.11,2,    3.210,2,    1.887,2,    0.000,4,   3.2000,2,   2102.7,3,   2272.7,2,   7.8094,2,    25.00,     -999,1,  10.0655,2,     -999,9,     -999,     -999,9,     -999,9,     -999,9,     -999,9,     -999,9,     -999,1,   0.0576,1,   4.5702,1,     10.0,2,     -999,9,20240320,1638, -45.2134,  94.8172,     -999,9,     -999,9,-999          ,9,-999          ,9,-999          ,9
325020240221  ,I08        ,42      ,  1,35         ,35         ,2,20240320,1449, -45.2134,  94.8172,     3113,     19.8,  10.0389,  33.9164,2,  33.9179,2,    280.4,2,    280.2,2,     1.17,2,     0.25,2,    14.76,2,     0.21,2,     1.11,2,    3.332,2,    1.923,2,    0.000,4,   3.2030,2,   2099.6,3,   2274.0,2,   7.8092,2,    24.99,     -999,1,  10.0384,2,     -999,9,     -999,     -999,9,     -999,9,     -999,9,     -999,9,     -999,9,     -999,1,   0.0606,1,   4.5661,1,     10.1,2,     -999,9,20240320,1636, -45.2134,  94.8172,     -999,9,     -999,9,-999          ,9,-999          ,9,-999          ,9
325020240221  ,I08        ,42      ,  1,34         ,34         ,2,20240320,1449, -45.2134,  94.8172,     3113,     39.1,   9.9755,  33.9129,2,  33.9136,2,    280.0,2,    280.4,2,     1.07,2,     0.25,2,    14.74,2,     0.21,2,     1.11,2,    3.267,2,    1.850,2,    0.000,4,   2.9420,2,   2110.7,3,   2274.0,2,   7.8082,6,    25.03,     -999,1,   9.9737,2,     -999,9,     -999,     -999,9,     -999,9,     -999,9,     -999,9,     -999,9,     -999,1,   0.0647,1,   4.5685,1,     10.2,2,     -999,9,20240320,1634, -45.2134,  94.8172,     -999,9,     -999,9,-999          ,9,-999          ,9,-999          ,9
325020240221  ,I08        ,42      ,  1,33         ,33         ,2,20240320,1449, -45.2134,  94.8172,     3113,     64.1,   9.8816,  33.9089,2,  33.9107,2,    279.7,2,    280.0,2,     1.07,2,     0.30,2,    14.76,2,     0.21,2,     1.10,2,    3.127,2,    1.838,2,    0.000,4,   3.3440,2,   2106.4,3,   2274.5,6,   7.8067,2,    25.03,     -999,1,   9.8940,2,     -999,9,     -999,     -999,9,     -999,9,     -999,9,     -999,9,     -999,9,     -999,1,   0.0587,1,   4.5908,1,     10.4,2,     -999,9,20240320,1632, -45.2134,  94.8172,     -999,9,     -999,9,-999          ,9,-999          ,9,-999          ,9
325020240221  ,I08        ,42      ,  1,32         ,32         ,2,20240320,1449, -45.2134,  94.8172,     3113,     91.2,   8.9450,  33.9485,2,  33.9477,2,    282.2,2,    282.9,2,     1.37,2,     0.90,2,    15.39,2,     0.25,2,     1.21,2,    3.509,2,    1.895,2,    0.000,4,   3.2410,2,   2117.2,3,   2275.2,2,   7.7896,2,    25.03,     -999,1,   8.9563,2,     -999,9,     -999,     -999,9,     -999,9,     -999,9,     -999,9,     -999,9,     -999,1,   0.0536,1,   4.6226,1,     10.7,2,     -999,9,20240320,1630, -45.2134,  94.8172,     -999,9,     -999,9,-999          ,9,-999          ,9,-999          ,9
325020240221  ,I08        ,42      ,  1,31         ,31         ,2,20240320,1449, -45.2134,  94.8172,     3113,    114.8,   7.3633,  34.0293,2,  34.0307,2,    286.3,2,    287.4,2,     3.71,2,     1.95,2,    17.25,2,     0.31,2,     1.41,2,    2.146,2,    2.090,2,    0.000,4,   1.8210,2,   2131.6,3,   2277.7,2,   7.7481,2,    25.02,     -999,1,   7.3463,2,     -999,9,     -999,     -999,9,     -999,9,     -999,9,     -999,9,     -999,9,     -999,1,   0.0420,1,   4.6422,1,     11.2,2,     -999,9,20240320,1629, -45.2134,  94.8172,     -999,9,     -999,9,-999          ,9,-999          ,9,-999          ,9
325020240221  ,I08        ,42      ,  1,30         ,30         ,2,20240320,1449, -45.2134,  94.8172,     3113,    141.8,   6.8953,  34.0946,2,  34.0917,2,    278.8,2,    278.8,2,     6.15,2,     0.17,2,    19.53,2,     0.84,2,     1.47,2,    4.057,2,    2.242,2,    0.000,4,   2.8130,2,     -999,9,     -999,9,     -999,9,     -999,     -999,1,   6.8975,2,     -999,9,     -999,     -999,9,     -999,9,     -999,9,     -999,9,     -999,9,     -999,1,   0.0256,1,   4.6602,1,     12.1,2,     -999,9,20240320,1627, -45.2134,  94.8172,     -999,9,     -999,9,-999          ,9,-999          ,9,-999          ,9
325020240221  ,I08        ,42      ,  1,29         ,29         ,2,20240320,1449, -45.2134,  94.8172,     3113,    165.7,   6.4030,  34.0648,2,  34.0660,2,    279.8,2,    281.7,2,     7.03,2,     0.03,2,    20.31,2,     0.85,2,     1.49,2,    5.729,4,    2.359,2,    0.000,4,   2.8680,2,   2142.3,3,   2274.9,2,   7.7109,6,    24.99,     -999,1,   6.4084,2,     -999,9,     -999,     -999,9,     -999,9,     -999,9,     -999,9,     -999,9,     -999,1,   0.0202,1,   4.6694,1,     11.9,2,     -999,9,20240320,1625, -45.2134,  94.8172,     -999,9,     -999,9,-999          ,9,-999          ,9,-999          ,9
325020240221  ,I08        ,42      ,  1,28         ,28         ,2,20240320,1449, -45.2134,  94.8172,     3113,    193.5,   6.2199,  34.0797,2,  34.0819,2,    281.3,2,    281.0,2,     7.52,2,     0.00,2,    21.27,2,     0.00,2,     1.50,2,    5.429,4,    2.364,2,    0.000,4,   3.0980,2,     -999,9,     -999,9,     -999,9,     -999,     -999,1,   6.2360,2,     -999,9,     -999,     -999,9,     -999,9,     -999,9,     -999,9,     -999,9,     -999,1,   0.0195,1,   4.6703,1,     12.0,2,     -999,9,20240320,1623, -45.2134,  94.8172,     -999,9,     -999,9,-999          ,9,-999          ,9,-999          ,9
325020240221  ,I08        ,42      ,  1,27         ,27         ,2,20240320,1449, -45.2134,  94.8172,     3113,    216.8,   5.8875,  34.0710,2,  34.0723,2,    281.1,2,    281.4,2,     8.01,2,     0.00,2,    21.76,2,     0.00,2,     1.52,2,    5.969,4,    2.399,2,    0.000,4,   3.0930,2,   2150.4,3,   2273.9,2,   7.7067,2,    24.99,     -999,1,   5.8866,2,     -999,9,     -999,     -999,9,     -999,9,     -999,9,     -999,9,     -999,9,     -999,1,   0.0183,1,   4.6743,1,     12.5,2,     -999,9,20240320,1621, -45.2133,  94.8172,     -999,9,     -999,9,-999          ,9,-999          ,9,-999          ,9
325020240221  ,I08        ,42      ,  1,26         ,26         ,2,20240320,1449, -45.2134,  94.8172,     3113,    243.3,   5.6808,  34.0856,2,  34.0866,2,    275.8,2,    276.1,2,     9.18,2,     0.00,2,    22.66,2,     0.00,2,     1.58,2,    5.533,4,    2.342,2,    0.000,4,   2.9390,2,     -999,9,     -999,9,     -999,9,     -999,     -999,1,   5.6908,2,     -999,9,     -999,     -999,9,     -999,9,     -999,9,     -999,9,     -999,9,     -999,1,   0.0183,1,   4.6761,1,     12.8,2,     -999,9,20240320,1619, -45.2133,  94.8171,     -999,9,     -999,9,-999          ,9,-999          ,9,-999          ,9
325020240221  ,I08        ,42      ,  1,25         ,25         ,2,20240320,1449, -45.2134,  94.8172,     3113,    287.1,   5.5001,  34.1457,2,  34.1462,2,    259.9,2,    259.3,2,    12.50,2,     0.00,2,    24.71,2,     0.00,2,     1.71,2,    6.021,4,    2.368,2,    0.000,4,   2.5220,2,   2169.7,3,   2279.1,2,   7.6675,2,    25.00,     -999,1,   5.4960,2,     -999,9,     -999,     -999,9,     -999,9,     -999,9,     -999,9,     -999,9,     -999,1,   0.0183,1,   4.6763,1,     13.9,2,     -999,9,20240320,1617, -45.2133,  94.8171,     -999,9,     -999,9,-999          ,9,-999          ,9,-999          ,9
325020240221  ,I08        ,42      ,  1,24         ,24         ,2,20240320,1449, -45.2134,  94.8172,     3113,    337.5,   5.2349,  34.1800,2,  34.1844,2,    249.2,2,    249.2,2,    15.33,2,     0.00,2,    26.14,2,     0.00,2,     1.79,2,    6.305,4,    2.323,2,    0.000,4,   2.3380,2,   2176.4,3,   2280.0,2,   7.6494,2,    24.98,     -999,1,   5.2139,2,     -999,9,     -999,     -999,9,     -999,9,     -999,9,     -999,9,     -999,9,     -999,1,   0.0183,1,   4.6775,1,     14.5,2,     -999,9,20240320,1615, -45.2133,  94.8170,     -999,9,     -999,9,-999          ,9,-999          ,9,-999          ,9
325020240221  ,I08        ,42      ,  1,23         ,37         ,2,20240320,1449, -45.2134,  94.8172,     3113,    387.8,   4.6789,  34.1840,2,  34.1856,2,    244.6,2,    244.9,2,    18.94,2,     0.02,2,    27.78,2,     0.00,2,     1.89,2,    5.988,4,    2.194,2,    0.000,4,   2.1920,2,   2173.1,3,   2282.5,2,   7.6327,2,    25.02,     -999,1,   4.6801,2,     -999,9,     -999,     -999,9,     -999,9,     -999,9,     -999,9,     -999,9,     -999,1,   0.0183,1,   4.6813,1,      9.2,4,     -999,9,20240320,1612, -45.2132,  94.8170,     -999,9,     -999,9,-999          ,9,-999          ,9,-999          ,9
325020240221  ,I08        ,42      ,  1,22         ,22         ,2,20240320,1449, -45.2134,  94.8172,     3113,    438.6,   4.3497,  34.1908,2,  34.1913,2,    241.4,2,    241.7,2,    21.58,2,     0.02,2,    28.71,2,     0.00,2,     1.95,2,    4.481,2,    2.135,6,    0.000,4,   2.0100,6,     -999,9,     -999,9,     -999,9,     -999,     -999,1,   4.3444,2,     -999,9,     -999,     -999,9,     -999,9,     -999,9,     -999,9,     -999,9,     -999,1,   0.0183,1,   4.6762,1,     16.4,6,     -999,9,20240320,1610, -45.2132,  94.8170,     -999,9,     -999,9,-999          ,9,-999          ,9,-999          ,9
325020240221  ,I08        ,42      ,  1,21         ,21         ,2,20240320,1449, -45.2134,  94.8172,     3113,    489.7,   4.0656,  34.2116,2,  34.2124,2,    235.0,2,    235.2,2,    25.48,2,     0.00,2,    29.69,2,     0.00,2,     2.02,2,    4.383,2,    1.983,2,    0.000,4,   1.8270,2,   2187.1,3,   2287.1,2,   7.6141,2,    25.02,     -999,1,   4.0665,2,     -999,9,     -999,     -999,9,     -999,9,     -999,9,     -999,9,     -999,9,     -999,1,   0.0183,1,   4.6716,1,     16.9,2,     -999,9,20240320,1608, -45.2132,  94.8170,     -999,9,     -999,9,-999          ,9,-999          ,9,-999          ,9
325020240221  ,I08        ,42      ,  1,20         ,20         ,2,20240320,1449, -45.2134,  94.8172,     3113,    568.8,   3.6838,  34.2359,2,  34.2360,2,    227.3,2,    227.3,2,    31.34,2,     0.00,2,    30.83,2,     0.00,2,     2.10,2,    3.862,2,    1.797,2,    0.000,4,   1.6550,2,   2197.9,3,   2292.3,2,   7.6009,2,    25.02,     -999,1,   3.6841,2,     -999,9,     -999,     -999,9,     -999,9,     -999,9,     -999,9,     -999,9,     -999,1,   0.0183,1,   4.6666,1,     17.6,2,     -999,9,20240320,1605, -45.2132,  94.8170,     -999,9,     -999,9,-999          ,9,-999          ,9,-999          ,9
325020240221  ,I08        ,42      ,  1,19         ,19         ,2,20240320,1449, -45.2134,  94.8172,     3113,    670.4,   3.3064,  34.2873,2,  34.2874,2,    213.3,2,    213.2,2,    40.13,2,     0.00,2,    32.14,2,     0.00,2,     2.19,2,    3.093,2,    1.454,2,    0.000,4,   1.1480,2,   2208.4,3,   2299.9,2,   7.5839,2,    25.01,     -999,1,   3.3087,2,     -999,9,     -999,     -999,9,     -999,9,     -999,9,     -999,9,     -999,9,     -999,1,   0.0183,1,   4.6620,1,     18.7,2,     -999,9,20240320,1601, -45.2132,  94.8170,     -999,9,     -999,9,-999          ,9,-999          ,9,-999          ,9
325020240221  ,I08        ,42      ,  1,18         ,18         ,2,20240320,1449, -45.2134,  94.8172,     3113,    770.8,   3.1352,  34.3525,2,  34.3523,2,    198.1,2,    198.0,2,    48.52,2,     0.00,2,    33.13,2,     0.00,2,     2.25,2,    2.281,2,    1.166,2,    0.000,4,   0.8690,2,     -999,9,     -999,9,     -999,9,     -999,     -999,1,   3.1352,2,     -999,9,     -999,     -999,9,     -999,9,     -999,9,     -999,9,     -999,9,     -999,1,   0.0183,1,   4.6601,1,     19.3,2,     -999,9,20240320,1558, -45.2133,  94.8171,     -999,9,     -999,9,-999          ,9,-999          ,9,-999          ,9
325020240221  ,I08        ,42      ,  1,17         ,17         ,2,20240320,1449, -45.2134,  94.8172,     3113,    873.7,   3.0068,  34.4074,2,  34.4067,2,    187.7,2,    187.5,2,    55.06,2,     0.00,2,    33.62,2,     0.00,2,     2.30,2,    1.813,2,    0.917,2,    0.000,4,   0.6230,2,   2226.7,3,   2315.6,2,   7.5618,2,    25.01,     -999,1,   3.0062,2,     -999,9,     -999,     -999,9,     -999,9,     -999,9,     -999,9,     -999,9,     -999,1,   0.0183,1,   4.6586,1,     19.8,2,     -999,9,20240320,1555, -45.2133,  94.8171,     -999,9,     -999,9,-999          ,9,-999          ,9,-999          ,9
325020240221  ,I08        ,42      ,  1,16         ,16         ,2,20240320,1449, -45.2134,  94.8172,     3113,    975.4,   2.9616,  34.4674,2,  34.4695,2,    179.1,2,    178.8,2,    60.62,2,     0.02,2,    33.85,2,     0.00,2,     2.32,2,    1.349,2,    0.655,2,    0.000,4,   0.4730,2,     -999,9,     -999,9,     -999,9,     -999,     -999,1,   2.9617,2,     -999,9,     -999,     -999,9,     -999,9,     -999,9,     -999,9,     -999,9,     -999,1,   0.0183,1,   4.6579,1,     19.8,2,     -999,9,20240320,1551, -45.2133,  94.8170,     -999,9,     -999,9,-999          ,9,-999          ,9,-999          ,9
325020240221  ,I08        ,42      ,  1,15         ,15         ,2,20240320,1449, -45.2134,  94.8172,     3113,   1075.9,   2.8345,  34.5218,2,  34.5237,2,    174.6,2,    174.9,2,    65.50,2,     0.02,2,    33.87,2,     0.00,2,     2.31,2,    0.966,2,    0.489,2,    0.000,4,   0.2780,2,   2244.9,3,   2327.7,2,   7.5602,2,    24.98,     -999,1,   2.8325,2,     -999,9,     -999,     -999,9,     -999,9,     -999,9,     -999,9,     -999,9,     -999,1,   0.0183,1,   4.6566,1,     19.7,2,     -999,9,20240320,1548, -45.2133,  94.8171,     -999,9,     -999,9,-999          ,9,-999          ,9,-999          ,9
325020240221  ,I08        ,42      ,  1,14         ,14         ,2,20240320,1449, -45.2134,  94.8172,     3113,   1177.5,   2.7282,  34.5695,2,  34.5714,2,    173.4,2,    173.4,2,    68.82,2,     0.00,2,    33.51,2,     0.00,2,     2.30,2,    0.710,2,    0.366,2,    0.000,4,   0.1340,2,   2249.3,3,   2332.3,2,   7.5634,6,    24.99,     -999,1,   2.7276,2,     -999,9,     -999,     -999,9,     -999,9,     -999,9,     -999,9,     -999,9,     -999,1,   0.0183,1,   4.6545,1,     19.2,2,     -999,9,20240320,1544, -45.2133,  94.8171,     -999,9,     -999,9,-999          ,9,-999          ,9,-999          ,9
325020240221  ,I08        ,42      ,  1,13         ,13         ,2,20240320,1449, -45.2134,  94.8172,     3113,   1278.4,   2.6068,  34.6063,2,  34.6064,2,    174.0,2,    174.0,2,    71.55,2,     0.00,2,    33.20,2,     0.00,2,     2.27,2,    0.564,2,    0.304,2,    0.000,4,   0.1800,2,     -999,9,     -999,9,     -999,9,     -999,     -999,1,   2.6069,2,     -999,9,     -999,     -999,9,     -999,9,     -999,9,     -999,9,     -999,9,     -999,1,   0.0183,1,   4.6543,1,     14.3,2,     -999,9,20240320,1541, -45.2133,  94.8170,     -999,9,     -999,9,-999          ,9,-999          ,9,-999          ,9
325020240221  ,I08        ,42      ,  1,12         ,12         ,2,20240320,1449, -45.2134,  94.8172,     3113,   1379.9,   2.5598,  34.6433,2,  34.6435,2,    176.1,2,    176.1,2,    72.72,2,     0.00,2,    32.63,2,     0.00,2,     2.22,2,    0.443,2,    0.232,2,    0.000,4,   0.1310,2,   2247.7,3,   2336.2,2,   7.5751,6,    25.01,     -999,1,   2.5602,2,     -999,9,     -999,     -999,9,     -999,9,     -999,9,     -999,9,     -999,9,     -999,1,   0.0183,1,   4.6543,1,     17.8,2,     -999,9,20240320,1538, -45.2133,  94.8170,     -999,9,     -999,9,-999          ,9,-999          ,9,-999          ,9
325020240221  ,I08        ,42      ,  1,11         ,11         ,2,20240320,1449, -45.2134,  94.8172,     3113,   1482.1,   2.4915,  34.6747,2,  34.6753,2,    179.0,2,    179.2,2,    73.98,2,     0.00,2,    32.04,2,     0.00,2,     2.19,2,    0.340,2,    0.185,2,    0.000,4,   0.0160,2,     -999,9,     -999,9,     -999,9,     -999,     -999,1,   2.4917,2,     -999,9,     -999,     -999,9,     -999,9,     -999,9,     -999,9,     -999,9,     -999,1,   0.0183,1,   4.6531,1,     17.9,2,     -999,9,20240320,1534, -45.2133,  94.8170,     -999,9,     -999,9,-999          ,9,-999          ,9,-999          ,9
325020240221  ,I08        ,42      ,  1,10         ,10         ,2,20240320,1449, -45.2134,  94.8172,     3113,   1581.6,   2.4413,  34.6954,2,  34.6962,2,    181.9,2,    182.0,2,    74.96,2,     0.02,2,    31.60,2,     0.00,2,     2.17,2,    0.249,2,    0.131,2,    0.000,4,   0.0670,2,   2245.8,3,   2340.9,6,   7.5912,2,    25.00,     -999,1,   2.4410,2,     -999,9,     -999,     -999,9,     -999,9,     -999,9,     -999,9,     -999,9,     -999,1,   0.0178,1,   4.6525,1,     15.4,2,     -999,9,20240320,1531, -45.2132,  94.8172,     -999,9,     -999,9,-999          ,9,-999          ,9,-999          ,9
325020240221  ,I08        ,42      ,  1,9          ,9          ,2,20240320,1449, -45.2134,  94.8172,     3113,   1686.1,   2.3881,  34.7138,2,  34.7142,2,    184.9,2,    185.0,2,    76.13,2,     0.03,2,    31.16,2,     0.00,2,     2.11,2,    0.238,2,    0.130,2,    0.000,4,   0.0500,2,     -999,9,     -999,9,     -999,9,     -999,     -999,1,   2.3885,2,     -999,9,     -999,     -999,9,     -999,9,     -999,9,     -999,9,     -999,9,     -999,1,   0.0183,1,   4.6519,1,     17.2,2,     -999,9,20240320,1528, -45.2132,  94.8171,     -999,9,     -999,9,-999          ,9,-999          ,9,-999          ,9
325020240221  ,I08        ,42      ,  1,8          ,8          ,2,20240320,1449, -45.2134,  94.8172,     3113,   1786.5,   2.3371,  34.7309,2,  34.7321,2,    188.8,2,    188.9,2,    76.71,2,     0.00,2,    30.66,2,     0.00,2,     2.06,2,    0.190,2,    0.106,2,    0.000,4,   0.0720,2,   2245.1,3,   2348.0,2,   7.6079,6,    24.99,     -999,1,   2.3371,2,     -999,9,     -999,     -999,9,     -999,9,     -999,9,     -999,9,     -999,9,     -999,1,   0.0183,1,   4.6508,1,     16.9,2,     -999,9,20240320,1524, -45.2133,  94.8171,     -999,9,     -999,9,-999          ,9,-999          ,9,-999          ,9
325020240221  ,I08        ,42      ,  1,7          ,7          ,2,20240320,1449, -45.2134,  94.8172,     3113,   1990.3,   2.1603,  34.7483,2,  34.7488,2,    193.7,2,    193.7,2,    80.81,2,     0.02,2,    30.21,2,     0.00,2,     2.05,2,    0.151,2,    0.086,2,    0.000,4,   0.0070,2,     -999,9,     -999,9,     -999,9,     -999,     -999,1,   2.1606,2,     -999,9,     -999,     -999,9,     -999,9,     -999,9,     -999,9,     -999,9,     -999,1,   0.0183,1,   4.6484,1,     16.4,2,     -999,9,20240320,1519, -45.2133,  94.8171,     -999,9,     -999,9,-999          ,9,-999          ,9,-999          ,9
325020240221  ,I08        ,42      ,  1,6          ,6          ,2,20240320,1449, -45.2134,  94.8172,     3113,   2162.0,   2.0062,  34.7512,2,  34.7526,2,    195.6,2,    195.8,2,    85.89,2,     0.00,2,    30.15,2,     0.00,2,     2.04,2,    0.117,2,    0.068,2,    0.000,4,   0.0000,2,   2253.3,3,   2351.2,2,   7.6189,2,    25.00,     -999,1,   2.0064,2,     -999,9,     -999,     -999,9,     -999,9,     -999,9,     -999,9,     -999,9,     -999,1,   0.0187,1,   4.6468,1,     15.7,2,     -999,9,20240320,1514, -45.2133,  94.8170,     -999,9,     -999,9,-999          ,9,-999          ,9,-999          ,9