BOTTLE,20240417CCHHYDRO
EXPOCODE,SECT_ID,STNNBR,CASTNO,SAMPNO,BTLNBR,BTLNBR_FLAG_W,DATE,TIME,LATITUDE,LONGITUDE,DEPTH,CTDPRS,CTDTMP,CTDSAL,CTDSAL_FLAG_W,SALNTY,SALNTY_FLAG_W,CTDOXY,CTDOXY_FLAG_W,OXYGEN,OXYGEN_FLAG_W,SILCAT,SILCAT_FLAG_W,NH4,NH4_FLAG_W,NITRAT,NITRAT_FLAG_W,NITRIT,NITRIT_FLAG_W,PHSPHT,PHSPHT_FLAG_W,CFC-11,CFC-11_FLAG_W,CFC-12,CFC-12_FLAG_W,CFC113,CFC113_FLAG_W,SF6,SF6_FLAG_W,TCARBN,TCARBN_FLAG_W,ALKALI,ALKALI_FLAG_W,PH_TOT,PH_TOT_FLAG_W,PH_TMP,DOC,DOC_FLAG_W,REFTMP,REFTMP_FLAG_W,DELC14,DELC14_FLAG_W,C14ERR,POC,POC_FLAG_W,PON,PON_FLAG_W,POP,POP_FLAG_W,PCOD,PCOD_FLAG_W,DOP,DOP_FLAG_W,TDN,TDN_FLAG_W,CTDFLUOR,CTDFLUOR_FLAG_W,CTDXMISS,CTDXMISS_FLAG_W,N2O,N2O_FLAG_W,ARGON,ARGON_FLAG_W,BTL_DATE,BTL_TIME,BTL_LAT,BTL_LON,KRYPTON,KRYPTON_FLAG_W,XENON,XENON_FLAG_W,HPLC,HPLC_FLAG_W,DNA,DNA_FLAG_W,FCM,FCM_FLAG_W
,,,,,,,,,,,METERS,DBAR,ITS-90,PSS-78,,PSS-78,,UMOL/KG,,UMOL/KG,,UMOL/KG,,UMOL/KG,,UMOL/KG,,UMOL/KG,,UMOL/KG,,PMOL/KG,,PMOL/KG,,PMOL/KG,,FMOL/KG,,UMOL/KG,,UMOL/KG,,,,DEG C,UMOL/KG,,ITS-90,,/MILLE,,/MILLE,UG/KG,,UG/KG,,UG/L,,UG/L,,UMOL/KG,,UMOL/KG,,VOLTS,,VOLTS,,NMOL/KG,,UMOL/L,,,,,,NMOL/L,,NMOL/L,,,,,,,
325020240221  ,I08        ,66      ,  1,33         ,33         ,2,20240328,0531, -28.3181,  95.0076,     3067,      2.7,  23.6493,  35.7731,2,     -999,9,    213.4,2,     -999,9,     -999,9,     -999,9,     -999,9,     -999,9,     -999,9,     -999,9,     -999,9,     -999,9,     -999,9,     -999,9,     -999,9,     -999,9,     -999,     -999,9,     -999,1,     -999,9,     -999,     -999,9,     -999,9,     -999,9,     -999,9,     -999,9,     -999,9,   0.0172,1,   4.6442,1,     -999,9,     -999,9,20240328,0713, -28.3181,  95.0076,     -999,9,     -999,9,-999          ,9,-999          ,9,-999          ,9
325020240221  ,I08        ,66      ,  1,31         ,31         ,2,20240328,0531, -28.3181,  95.0076,     3067,      2.9,  23.6462,  35.7731,2,     -999,9,    213.4,2,     -999,9,     -999,9,     -999,9,     -999,9,     -999,9,     -999,9,     -999,9,     -999,9,     -999,9,     -999,9,     -999,9,     -999,9,     -999,9,     -999,     -999,9,  23.6548,2,     -999,9,     -999,     -999,9,     -999,9,     -999,9,     -999,9,     -999,9,     -999,9,   0.0171,1,   4.6435,1,     -999,9,     -999,9,20240328,0713, -28.3181,  95.0076,     -999,9,     -999,9,-999          ,9,-999          ,9,-999          ,9
325020240221  ,I08        ,66      ,  1,29         ,29         ,2,20240328,0531, -28.3181,  95.0076,     3067,      2.9,  23.6530,  35.7757,2,  35.7602,2,    213.3,2,    213.2,2,     2.05,2,     0.00,2,     0.05,2,     0.00,2,     0.07,2,    1.622,2,    1.042,2,    0.156,4,   1.8490,2,   2048.5,3,   2346.9,2,   8.0236,2,    25.01,     -999,1,  23.6623,2,     -999,1,     -999,     -999,9,     -999,9,     -999,9,     -999,9,     -999,9,     -999,1,   0.0171,1,   4.6442,1,      7.1,2,     -999,9,20240328,0712, -28.3181,  95.0076,     -999,9,     -999,9,-999          ,9,-999          ,9,-999          ,9
325020240221  ,I08        ,66      ,  1,34         ,34         ,2,20240328,0531, -28.3181,  95.0076,     3067,      3.0,  23.6501,  35.7734,2,     -999,9,    213.4,2,     -999,9,     -999,9,     -999,9,     -999,9,     -999,9,     -999,9,     -999,9,     -999,9,     -999,9,     -999,9,     -999,9,     -999,9,     -999,9,     -999,     -999,9,     -999,1,     -999,9,     -999,     -999,9,     -999,9,     -999,9,     -999,9,     -999,9,     -999,9,   0.0172,1,   4.6448,1,     -999,9,     -999,9,20240328,0713, -28.3181,  95.0076,     -999,9,     -999,9,-999          ,9,-999          ,9,-999          ,9
325020240221  ,I08        ,66      ,  1,36         ,36         ,2,20240328,0531, -28.3181,  95.0076,     3067,      3.1,  23.6512,  35.7729,2,     -999,9,    213.3,2,     -999,9,     -999,9,     -999,9,     -999,9,     -999,9,     -999,9,     -999,9,     -999,9,     -999,9,     -999,9,     -999,9,     -999,9,     -999,9,     -999,     -999,9,     -999,1,     -999,9,     -999,     -999,9,     -999,9,     -999,9,     -999,9,     -999,9,     -999,9,   0.0172,1,   4.6449,1,     -999,9,     -999,9,20240328,0713, -28.3181,  95.0076,     -999,9,     -999,9,-999          ,9,-999          ,9,-999          ,9
325020240221  ,I08        ,66      ,  1,35         ,35         ,2,20240328,0531, -28.3181,  95.0076,     3067,      3.1,  23.6493,  35.7732,2,     -999,9,    213.3,2,     -999,9,     -999,9,     -999,9,     -999,9,     -999,9,     -999,9,     -999,9,     -999,9,     -999,9,     -999,9,     -999,9,     -999,9,     -999,9,     -999,     -999,9,  23.6522,2,     -999,9,     -999,     -999,9,     -999,9,     -999,9,     -999,9,     -999,9,     -999,9,   0.0172,1,   4.6450,1,     -999,9,     -999,9,20240328,0713, -28.3181,  95.0076,     -999,9,     -999,9,-999          ,9,-999          ,9,-999          ,9
325020240221  ,I08        ,66      ,  1,30         ,30         ,2,20240328,0531, -28.3181,  95.0076,     3067,      3.4,  23.6564,  35.7735,2,     -999,9,    213.3,2,     -999,9,     -999,9,     -999,9,     -999,9,     -999,9,     -999,9,     -999,9,     -999,9,     -999,9,     -999,9,     -999,9,     -999,9,     -999,9,     -999,     -999,9,  23.6497,2,     -999,9,     -999,     -999,9,     -999,9,     -999,9,     -999,9,     -999,9,     -999,9,   0.0172,1,   4.6447,1,     -999,9,     -999,9,20240328,0713, -28.3181,  95.0076,     -999,9,     -999,9,-999          ,9,-999          ,9,-999          ,9
325020240221  ,I08        ,66      ,  1,32         ,32         ,2,20240328,0531, -28.3181,  95.0076,     3067,      3.6,  23.6584,  35.7730,2,     -999,9,    213.3,2,     -999,9,     -999,9,     -999,9,     -999,9,     -999,9,     -999,9,     -999,9,     -999,9,     -999,9,     -999,9,     -999,9,     -999,9,     -999,9,     -999,     -999,9,     -999,1,     -999,9,     -999,     -999,9,     -999,9,     -999,9,     -999,9,     -999,9,     -999,9,   0.0172,1,   4.6448,1,     -999,9,     -999,9,20240328,0713, -28.3181,  95.0076,     -999,9,     -999,9,-999          ,9,-999          ,9,-999          ,9
325020240221  ,I08        ,66      ,  1,28         ,28         ,2,20240328,0531, -28.3181,  95.0076,     3067,     20.1,  23.6209,  35.7752,2,  35.7606,2,    213.3,2,    213.2,2,     2.05,2,     0.00,2,     0.01,2,     0.00,2,     0.06,2,    1.640,2,    1.047,2,    0.183,4,   1.9510,2,   2050.2,3,   2356.8,2,   8.0244,2,    24.99,     -999,1,  23.6212,2,     -999,9,     -999,     -999,9,     -999,9,     -999,9,     -999,9,     -999,9,     -999,1,   0.0172,1,   4.6432,1,      7.2,2,     -999,9,20240328,0710, -28.3181,  95.0077,     -999,9,     -999,9,-999          ,9,-999          ,9,-999          ,9
325020240221  ,I08        ,66      ,  1,27         ,27         ,2,20240328,0531, -28.3181,  95.0076,     3067,     39.4,  23.3960,  35.8931,2,  35.8690,3,    214.5,2,    214.7,2,     1.95,2,     0.00,2,     0.00,2,     0.00,2,     0.07,2,    1.667,2,    1.087,2,    0.183,4,   1.9480,2,   2059.9,3,   2352.2,2,   8.0181,2,    24.96,     -999,1,  23.3795,2,     -999,9,     -999,     -999,9,     -999,9,     -999,9,     -999,9,     -999,9,     -999,1,   0.0195,1,   4.6414,1,      7.4,2,     -999,9,20240328,0707, -28.3181,  95.0076,     -999,9,     -999,9,-999          ,9,-999          ,9,-999          ,9
325020240221  ,I08        ,66      ,  1,26         ,26         ,2,20240328,0531, -28.3181,  95.0076,     3067,     64.3,  20.9868,  35.6553,2,  35.6400,2,    226.6,2,    225.0,2,     2.24,2,     0.00,2,     0.00,2,     0.00,2,     0.10,2,    1.857,2,    1.190,2,    0.170,4,   2.1290,2,   2062.4,3,   2337.8,2,   7.9980,6,    24.97,     -999,1,  21.0357,2,     -999,1,     -999,     -999,9,     -999,9,     -999,9,     -999,9,     -999,9,     -999,1,   0.0220,1,   4.6363,1,      8.2,2,     -999,9,20240328,0705, -28.3181,  95.0076,     -999,9,     -999,9,-999          ,9,-999          ,9,-999          ,9
325020240221  ,I08        ,66      ,  1,25         ,38         ,2,20240328,0531, -28.3181,  95.0076,     3067,     94.2,  19.2187,  35.7528,2,  35.7426,2,    208.7,2,    209.7,2,     2.34,2,     0.00,2,     1.16,2,     0.05,2,     0.21,2,    2.013,2,    1.267,2,    0.128,4,   2.1090,2,   2090.4,3,   2344.7,2,   7.9549,2,    24.97,     -999,1,  19.1810,2,     -999,1,     -999,     -999,9,     -999,9,     -999,9,     -999,9,     -999,9,     -999,1,   0.0414,1,   4.6386,1,      8.8,2,     -999,9,20240328,0703, -28.3181,  95.0076,     -999,9,     -999,9,-999          ,9,-999          ,9,-999          ,9
325020240221  ,I08        ,66      ,  1,24         ,24         ,2,20240328,0531, -28.3181,  95.0076,     3067,     96.3,  19.1839,  35.7536,2,     -999,9,    207.0,2,     -999,9,     -999,9,     -999,9,     -999,9,     -999,9,     -999,9,     -999,9,     -999,9,     -999,9,     -999,9,     -999,9,     -999,9,     -999,9,     -999,     -999,9,  19.1851,2,     -999,9,     -999,     -999,9,     -999,9,     -999,9,     -999,9,     -999,9,     -999,9,   0.0390,1,   4.6398,1,     -999,9,     -999,9,20240328,0702, -28.3181,  95.0076,     -999,9,     -999,9,-999          ,9,-999          ,9,-999          ,9
325020240221  ,I08        ,66      ,  1,23         ,37         ,2,20240328,0531, -28.3181,  95.0076,     3067,    138.9,  17.4392,  35.7710,2,  35.7685,2,    208.1,2,    208.0,2,     2.34,2,     0.00,2,     2.26,2,     0.00,2,     0.29,2,    2.298,2,    1.346,2,    0.083,4,   2.0500,2,   2112.4,3,   2347.6,6,   7.9204,6,    24.98,     -999,1,  17.4403,2,     -999,1,     -999,     -999,9,     -999,9,     -999,9,     -999,9,     -999,9,     -999,1,   0.0208,1,   4.6720,1,      9.1,2,     -999,9,20240328,0700, -28.3181,  95.0076,     -999,9,     -999,9,-999          ,9,-999          ,9,-999          ,9
325020240221  ,I08        ,66      ,  1,21         ,21         ,2,20240328,0531, -28.3181,  95.0076,     3067,    185.1,  16.0200,  35.6568,2,  35.6548,2,    216.7,2,    215.9,2,     1.85,2,     0.00,2,     3.03,2,     0.00,2,     0.34,2,    2.532,2,    1.477,2,    0.112,4,   2.1930,2,   2117.4,3,   2342.9,2,   7.9010,2,    24.97,     -999,1,  16.0489,2,     -999,1,     -999,     -999,9,     -999,9,     -999,9,     -999,9,     -999,9,     -999,1,   0.0183,1,   4.6778,1,      9.6,2,     -999,9,20240328,0657, -28.3181,  95.0076,     -999,9,     -999,9,-999          ,9,-999          ,9,-999          ,9
325020240221  ,I08        ,66      ,  1,22         ,22         ,2,20240328,0531, -28.3181,  95.0076,     3067,    185.9,  16.0513,  35.6603,2,     -999,9,    216.1,2,     -999,9,     -999,9,     -999,9,     -999,9,     -999,9,     -999,9,     -999,9,     -999,9,     -999,9,     -999,9,     -999,9,     -999,9,     -999,9,     -999,     -999,9,  16.0772,2,     -999,9,     -999,     -999,9,     -999,9,     -999,9,     -999,9,     -999,9,     -999,9,   0.0183,1,   4.6777,1,     -999,9,     -999,9,20240328,0657, -28.3181,  95.0076,     -999,9,     -999,9,-999          ,9,-999          ,9,-999          ,9
325020240221  ,I08        ,66      ,  1,20         ,20         ,2,20240328,0531, -28.3181,  95.0076,     3067,    246.9,  13.9902,  35.3898,2,  35.3912,2,    225.7,2,    225.8,2,     1.85,2,     0.00,2,     5.33,2,     0.00,2,     0.51,2,    2.996,2,    1.658,2,    0.135,4,   2.2710,2,   2125.1,3,   2330.0,2,   7.8618,2,    24.97,     -999,1,  14.0149,2,     -999,1,     -999,     -999,9,     -999,9,     -999,9,     -999,9,     -999,9,     -999,1,   0.0173,1,   4.6800,1,     10.6,2,     -999,9,20240328,0654, -28.3181,  95.0076,     -999,9,     -999,9,-999          ,9,-999          ,9,-999          ,9
325020240221  ,I08        ,66      ,  1,19         ,19         ,2,20240328,0531, -28.3181,  95.0076,     3067,    304.1,  12.2504,  35.1056,2,  35.1012,2,    232.6,2,    233.1,2,     2.34,2,     0.00,2,     8.54,2,     0.00,2,     0.71,2,    3.285,2,    1.733,2,    0.170,4,   2.1850,2,   2125.3,3,   2315.0,2,   7.8216,2,    24.98,     -999,1,  12.2407,2,     -999,9,     -999,     -999,9,     -999,9,     -999,9,     -999,9,     -999,9,     -999,1,   0.0177,1,   4.6813,1,     11.8,2,     -999,9,20240328,0652, -28.3182,  95.0076,     -999,9,     -999,9,-999          ,9,-999          ,9,-999          ,9
325020240221  ,I08        ,66      ,  1,18         ,18         ,2,20240328,0531, -28.3181,  95.0076,     3067,    377.1,  10.9689,  34.8991,2,  34.8963,2,    237.5,2,    238.3,2,     3.02,2,     0.00,2,    11.48,2,     0.00,2,     0.91,2,    3.563,2,    1.845,2,    0.193,4,   2.3010,2,   2135.3,3,   2303.1,2,   7.7923,2,    24.98,     -999,1,  10.9717,2,     -999,9,     -999,     -999,9,     -999,9,     -999,9,     -999,9,     -999,9,     -999,1,   0.0183,1,   4.6824,1,     12.3,2,     -999,9,20240328,0649, -28.3182,  95.0075,     -999,9,     -999,9,-999          ,9,-999          ,9,-999          ,9
325020240221  ,I08        ,66      ,  1,17         ,17         ,2,20240328,0531, -28.3181,  95.0076,     3067,    469.6,  10.0134,  34.7631,2,  34.7614,2,    235.3,2,    235.7,2,     3.90,2,     0.00,2,    14.63,2,     0.00,2,     1.07,2,    3.677,2,    2.006,2,    0.199,4,   2.1580,2,   2141.1,3,   2293.5,2,   7.7617,2,    25.02,     -999,1,  10.0127,2,     -999,1,     -999,     -999,9,     -999,9,     -999,9,     -999,9,     -999,9,     -999,1,   0.0176,1,   4.6824,1,     12.9,2,     -999,9,20240328,0646, -28.3182,  95.0075,     -999,9,     -999,9,-999          ,9,-999          ,9,-999          ,9
325020240221  ,I08        ,66      ,  1,16         ,16         ,2,20240328,0531, -28.3181,  95.0076,     3067,    567.7,   9.3108,  34.6771,2,  34.6753,2,    232.4,2,    232.9,2,     5.07,2,     0.00,2,    17.08,2,     0.00,2,     1.24,2,    3.593,2,    2.084,2,    0.203,4,   1.9130,2,   2147.8,3,   2292.3,2,   7.7414,2,    25.04,     -999,1,   9.3091,2,     -999,1,     -999,     -999,9,     -999,9,     -999,9,     -999,9,     -999,9,     -999,1,   0.0182,1,   4.6825,1,      9.3,2,     -999,9,20240328,0643, -28.3182,  95.0075,     -999,9,     -999,9,-999          ,9,-999          ,9,-999          ,9
325020240221  ,I08        ,66      ,  1,15         ,15         ,2,20240328,0531, -28.3181,  95.0076,     3067,    669.2,   8.2112,  34.5612,2,  34.5616,2,    213.4,2,    213.5,2,    10.05,2,     0.00,2,    21.62,2,     0.00,2,     1.52,2,    3.576,2,    1.852,2,    0.121,4,   1.3520,2,   2161.6,3,   2288.3,2,   7.7016,6,    25.01,     -999,1,   8.2013,2,     -999,1,     -999,     -999,9,     -999,9,     -999,9,     -999,9,     -999,9,     -999,1,   0.0183,1,   4.6855,1,     15.1,2,     -999,9,20240328,0640, -28.3182,  95.0075,     -999,9,     -999,9,-999          ,9,-999          ,9,-999          ,9
325020240221  ,I08        ,66      ,  1,14         ,14         ,2,20240328,0531, -28.3181,  95.0076,     3067,    817.9,   5.6148,  34.4053,2,  34.4041,2,    192.0,2,    191.4,2,    27.31,2,     0.00,2,    29.36,2,     0.00,2,     2.04,2,    2.686,2,    1.183,2,    0.091,4,   0.5260,2,   2195.4,3,   2296.0,2,   7.6247,2,    24.99,     -999,1,   5.6389,2,     -999,1,     -999,     -999,9,     -999,9,     -999,9,     -999,9,     -999,9,     -999,1,   0.0183,1,   4.6760,1,     18.2,2,     -999,9,20240328,0636, -28.3182,  95.0075,     -999,9,     -999,9,-999          ,9,-999          ,9,-999          ,9
325020240221  ,I08        ,66      ,  1,13         ,13         ,2,20240328,0531, -28.3181,  95.0076,     3067,    971.0,   4.3083,  34.4355,2,  34.4353,2,    168.9,2,    168.3,2,    51.31,2,     0.00,2,    33.49,2,     0.00,2,     2.35,2,    1.360,2,    0.576,2,    0.043,4,   0.2120,2,   2234.4,3,   2317.2,2,   7.5794,2,    24.99,     -999,1,   4.3058,2,     -999,1,     -999,     -999,9,     -999,9,     -999,9,     -999,9,     -999,9,     -999,1,   0.0183,1,   4.6631,1,     20.6,2,     -999,9,20240328,0632, -28.3181,  95.0076,     -999,9,     -999,9,-999          ,9,-999          ,9,-999          ,9
325020240221  ,I08        ,66      ,  1,11         ,11         ,2,20240328,0531, -28.3181,  95.0076,     3067,   1072.7,   4.0191,  34.5030,2,  34.5007,2,    149.8,2,    149.9,2,    65.64,2,     0.00,2,    34.90,2,     0.00,2,     2.45,2,    0.644,2,    0.277,2,    0.018,4,   0.0810,2,   2253.9,3,   2332.6,2,   7.5612,6,    24.98,     -999,1,   4.0177,2,     -999,1,     -999,     -999,9,     -999,9,     -999,9,     -999,9,     -999,9,     -999,1,   0.0183,1,   4.6591,1,     21.8,2,     -999,9,20240328,0627, -28.3182,  95.0075,     -999,9,     -999,9,-999          ,9,-999          ,9,-999          ,9
325020240221  ,I08        ,66      ,  1,12         ,12         ,2,20240328,0531, -28.3181,  95.0076,     3067,   1073.2,   4.0262,  34.5024,2,     -999,9,    149.9,2,     -999,9,     -999,9,     -999,9,     -999,9,     -999,9,     -999,9,     -999,9,     -999,9,     -999,9,     -999,9,     -999,9,     -999,9,     -999,9,     -999,     -999,9,   4.0267,2,     -999,9,     -999,     -999,9,     -999,9,     -999,9,     -999,9,     -999,9,     -999,9,   0.0183,1,   4.6604,1,     -999,9,     -999,9,20240328,0628, -28.3182,  95.0076,     -999,9,     -999,9,-999          ,9,-999          ,9,-999          ,9
325020240221  ,I08        ,66      ,  1,10         ,10         ,2,20240328,0531, -28.3181,  95.0076,     3067,   1171.8,   3.7700,  34.5369,2,  34.5358,2,    144.0,2,    144.6,2,    73.35,2,     0.00,2,    35.37,2,     0.00,2,     2.50,2,    0.343,2,    0.165,2,   -0.003,4,   0.0340,2,   2266.1,3,   2340.9,2,   7.5552,2,    24.98,     -999,1,   3.7708,2,     -999,1,     -999,     -999,9,     -999,9,     -999,9,     -999,9,     -999,9,     -999,1,   0.0183,1,   4.6557,1,     22.1,2,     -999,9,20240328,0623, -28.3182,  95.0076,     -999,9,     -999,9,-999          ,9,-999          ,9,-999          ,9
325020240221  ,I08        ,66      ,  1,9          ,9          ,2,20240328,0531, -28.3181,  95.0076,     3067,   1274.8,   3.4885,  34.5689,2,  34.5663,2,    143.5,2,    144.0,2,    78.42,2,     0.00,2,    35.40,2,     0.00,2,     2.50,2,    0.212,2,    0.102,2,    0.006,4,   0.0030,2,   2273.3,3,   2346.3,2,   7.5545,6,    24.98,     -999,1,   3.4898,2,     -999,1,     -999,     -999,9,     -999,9,     -999,9,     -999,9,     -999,9,     -999,1,   0.0183,1,   4.6518,1,     21.9,2,     -999,9,20240328,0620, -28.3182,  95.0076,     -999,9,     -999,9,-999          ,9,-999          ,9,-999          ,9
325020240221  ,I08        ,66      ,  1,8          ,8          ,2,20240328,0531, -28.3181,  95.0076,     3067,   1373.5,   3.2501,  34.6034,2,  34.6016,2,    144.0,2,    144.4,2,    83.58,2,     0.00,2,    35.21,2,     0.00,2,     2.48,2,    0.115,2,    0.059,2,    0.001,4,   0.0020,2,   2274.5,3,   2353.0,6,   7.5556,2,    25.00,     -999,1,   3.2462,2,     -999,1,     -999,     -999,9,     -999,9,     -999,9,     -999,9,     -999,9,     -999,1,   0.0183,1,   4.6482,1,     21.6,2,     -999,9,20240328,0615, -28.3182,  95.0076,     -999,9,     -999,9,-999          ,9,-999          ,9,-999          ,9
325020240221  ,I08        ,66      ,  1,7          ,7          ,2,20240328,0531, -28.3181,  95.0076,     3067,   1549.3,   2.9462,  34.6473,2,  34.6462,2,    147.5,2,    147.9,2,    91.29,2,     0.00,2,    34.83,2,     0.00,2,     2.47,2,    0.061,2,    0.033,2,    0.002,4,   0.0000,2,   2280.6,3,   2362.5,2,   7.5628,2,    25.03,     -999,1,   2.9460,2,     -999,1,     -999,     -999,9,     -999,9,     -999,9,     -999,9,     -999,9,     -999,1,   0.0183,1,   4.6435,1,     21.4,2,     -999,9,20240328,0611, -28.3182,  95.0076,     -999,9,     -999,9,-999          ,9,-999          ,9,-999          ,9
325020240221  ,I08        ,66      ,  1,6          ,6          ,2,20240328,0531, -28.3181,  95.0076,     3067,   1755.8,   2.6427,  34.6915,2,  34.6901,2,    153.3,2,    153.4,2,    99.09,2,     0.00,2,    34.22,2,     0.00,2,     2.43,2,    0.040,2,    0.022,2,    0.006,4,   0.0000,2,   2284.8,3,   2367.5,2,   7.5743,2,    25.03,     -999,1,   2.6432,2,     -999,1,     -999,     -999,9,     -999,9,     -999,9,     -999,9,     -999,9,     -999,1,   0.0184,1,   4.6386,1,     20.5,2,     -999,9,20240328,0605, -28.3181,  95.0077,     -999,9,     -999,9,-999          ,9,-999          ,9,-999          ,9