BOTTLE,20240417CCHHYDRO
EXPOCODE,SECT_ID,STNNBR,CASTNO,SAMPNO,BTLNBR,BTLNBR_FLAG_W,DATE,TIME,LATITUDE,LONGITUDE,DEPTH,CTDPRS,CTDTMP,CTDSAL,CTDSAL_FLAG_W,SALNTY,SALNTY_FLAG_W,CTDOXY,CTDOXY_FLAG_W,OXYGEN,OXYGEN_FLAG_W,SILCAT,SILCAT_FLAG_W,NH4,NH4_FLAG_W,NITRAT,NITRAT_FLAG_W,NITRIT,NITRIT_FLAG_W,PHSPHT,PHSPHT_FLAG_W,CFC-11,CFC-11_FLAG_W,CFC-12,CFC-12_FLAG_W,CFC113,CFC113_FLAG_W,SF6,SF6_FLAG_W,TCARBN,TCARBN_FLAG_W,ALKALI,ALKALI_FLAG_W,PH_TOT,PH_TOT_FLAG_W,PH_TMP,DOC,DOC_FLAG_W,REFTMP,REFTMP_FLAG_W,DELC14,DELC14_FLAG_W,C14ERR,POC,POC_FLAG_W,PON,PON_FLAG_W,POP,POP_FLAG_W,PCOD,PCOD_FLAG_W,DOP,DOP_FLAG_W,TDN,TDN_FLAG_W,CTDFLUOR,CTDFLUOR_FLAG_W,CTDXMISS,CTDXMISS_FLAG_W,N2O,N2O_FLAG_W,ARGON,ARGON_FLAG_W,BTL_DATE,BTL_TIME,BTL_LAT,BTL_LON,KRYPTON,KRYPTON_FLAG_W,XENON,XENON_FLAG_W,HPLC,HPLC_FLAG_W,DNA,DNA_FLAG_W,FCM,FCM_FLAG_W
,,,,,,,,,,,METERS,DBAR,ITS-90,PSS-78,,PSS-78,,UMOL/KG,,UMOL/KG,,UMOL/KG,,UMOL/KG,,UMOL/KG,,UMOL/KG,,UMOL/KG,,PMOL/KG,,PMOL/KG,,PMOL/KG,,FMOL/KG,,UMOL/KG,,UMOL/KG,,,,DEG C,UMOL/KG,,ITS-90,,/MILLE,,/MILLE,UG/KG,,UG/KG,,UG/L,,UG/L,,UMOL/KG,,UMOL/KG,,VOLTS,,VOLTS,,NMOL/KG,,UMOL/L,,,,,,NMOL/L,,NMOL/L,,,,,,,
325020240221  ,I08        ,28      ,  1,36         ,36         ,2,20240313,0610, -57.5139,  82.5237,     4425,      3.7,   1.6957,  33.9834,2,  33.9829,2,    320.4,2,    320.5,2,    39.26,2,     0.70,2,    27.25,2,     0.27,2,     1.85,2,    5.324,2,    2.723,2,    0.378,2,   4.3880,2,   2186.6,3,   2303.2,6,   7.6635,2,    24.99,     -999,1,   1.6967,2,     -999,9,     -999,     -999,9,     -999,9,     -999,9,     -999,9,     -999,9,     -999,1,   0.0293,1,   4.4916,1,     10.6,2,     -999,9,20240313,0815, -57.5139,  82.5237,     -999,9,     -999,9,-999          ,9,-999          ,9,-999          ,9
325020240221  ,I08        ,28      ,  1,35         ,35         ,2,20240313,0610, -57.5139,  82.5237,     4425,     24.8,   1.6970,  33.9832,2,  33.9827,2,    320.2,2,    319.9,2,    39.17,2,     0.55,2,    27.25,2,     0.27,2,     1.85,2,    5.743,2,    2.732,2,    0.379,2,   4.4780,2,   2186.9,3,   2305.4,2,   7.6633,2,    25.00,     -999,1,   1.6965,2,     -999,9,     -999,     -999,9,     -999,9,     -999,9,     -999,9,     -999,9,     -999,1,   0.0372,1,   4.4920,1,     10.7,2,     -999,9,20240313,0812, -57.5139,  82.5237,     -999,9,     -999,9,-999          ,9,-999          ,9,-999          ,9
325020240221  ,I08        ,28      ,  1,34         ,34         ,2,20240313,0610, -57.5139,  82.5237,     4425,     43.9,   1.6765,  33.9831,2,  33.9829,2,    319.5,2,    320.7,2,    39.07,2,     0.54,2,    27.12,2,     0.27,2,     1.85,2,    4.975,2,    2.619,2,    0.386,2,   3.9130,2,   2188.7,3,   2303.1,6,   7.6636,6,    25.01,     -999,1,   1.6755,2,     -999,9,     -999,     -999,9,     -999,9,     -999,9,     -999,9,     -999,9,     -999,1,   0.0481,1,   4.4914,1,     10.9,2,     -999,9,20240313,0810, -57.5139,  82.5236,     -999,9,     -999,9,-999          ,1,-999          ,9,-999          ,1
325020240221  ,I08        ,28      ,  1,33         ,33         ,2,20240313,0610, -57.5139,  82.5237,     4425,     74.7,   1.5592,  33.9969,2,  33.9965,2,    313.6,3,    317.2,2,    40.73,2,     0.58,2,    27.26,2,     0.25,2,     1.87,2,    5.759,2,    2.723,2,    0.375,2,   4.2290,2,   2190.5,3,   2297.2,2,   7.6584,2,    24.98,     -999,1,   1.5591,2,     -999,9,     -999,     -999,9,     -999,9,     -999,9,     -999,9,     -999,9,     -999,1,   0.0544,1,   4.5049,1,     11.2,2,     -999,9,20240313,0808, -57.5139,  82.5237,     -999,9,     -999,9,-999          ,9,-999          ,9,-999          ,1
325020240221  ,I08        ,28      ,  1,32         ,32         ,2,20240313,0610, -57.5139,  82.5237,     4425,     99.9,   1.4906,  34.0352,2,     -999,9,    301.8,2,     -999,9,     -999,9,     -999,9,     -999,9,     -999,9,     -999,9,     -999,9,     -999,9,     -999,9,     -999,9,     -999,9,     -999,9,     -999,9,     -999,     -999,9,   1.4909,2,     -999,9,     -999,     -999,9,     -999,9,     -999,9,     -999,9,     -999,9,     -999,9,   0.0492,1,   4.5165,1,     -999,9,     -999,9,20240313,0806, -57.5139,  82.5237,     -999,9,     -999,9,-999          ,9,-999          ,1,-999          ,1
325020240221  ,I08        ,28      ,  1,31         ,31         ,2,20240313,0610, -57.5139,  82.5237,     4425,    100.7,   1.4877,  34.0371,2,  34.0635,3,    301.6,3,    298.3,2,    45.32,2,     0.56,2,    28.27,2,     0.23,2,     1.96,2,    5.230,2,    2.502,2,    0.321,2,   3.3000,2,   2209.6,3,   2300.0,2,   7.6374,2,    24.96,     -999,1,   1.4776,2,     -999,9,     -999,     -999,9,     -999,9,     -999,9,     -999,9,     -999,9,     -999,1,   0.0476,1,   4.5148,1,     11.8,2,     -999,9,20240313,0805, -57.5139,  82.5237,     -999,9,     -999,9,-999          ,1,-999          ,9,-999          ,9
325020240221  ,I08        ,28      ,  1,30         ,30         ,2,20240313,0610, -57.5139,  82.5237,     4425,    124.7,   1.1608,  34.3361,2,  34.3388,2,    227.8,2,    226.8,2,    64.45,2,     0.00,2,    33.34,2,     0.02,2,     2.28,2,    2.905,2,    1.544,2,    0.213,2,   1.8210,2,   2245.4,3,   2312.4,2,   7.5532,2,    24.97,     -999,1,   1.1653,2,     -999,9,     -999,     -999,9,     -999,9,     -999,9,     -999,9,     -999,9,     -999,1,   0.0195,1,   4.6092,1,     14.6,2,     -999,9,20240313,0804, -57.5139,  82.5237,     -999,9,     -999,9,-999          ,9,-999          ,9,-999          ,9
325020240221  ,I08        ,28      ,  1,29         ,29         ,2,20240313,0610, -57.5139,  82.5237,     4425,    148.7,   1.4710,  34.4566,2,  34.4561,2,    199.5,2,    198.4,2,    72.25,2,     0.06,2,    33.95,2,     0.05,2,     2.33,2,    2.060,2,    0.995,2,    0.133,2,   1.2250,2,   2255.6,3,   2324.8,2,   7.5392,2,    24.99,     -999,1,   1.4818,2,     -999,9,     -999,     -999,9,     -999,9,     -999,9,     -999,9,     -999,9,     -999,1,   0.0202,1,   4.6107,1,     15.6,2,     -999,9,20240313,0802, -57.5139,  82.5237,     -999,9,     -999,9,-999          ,9,-999          ,9,-999          ,1
325020240221  ,I08        ,28      ,  1,28         ,28         ,2,20240313,0610, -57.5139,  82.5237,     4425,    200.1,   1.8649,  34.5647,2,     -999,9,    172.3,2,     -999,9,     -999,9,     -999,9,     -999,9,     -999,9,     -999,9,     -999,9,     -999,9,     -999,9,     -999,9,     -999,9,     -999,9,     -999,9,     -999,     -999,9,   1.8667,2,     -999,9,     -999,     -999,9,     -999,9,     -999,9,     -999,9,     -999,9,     -999,9,   0.0189,1,   4.6187,1,     -999,9,     -999,9,20240313,0800, -57.5139,  82.5237,     -999,9,     -999,9,-999          ,9,-999          ,1,-999          ,1
325020240221  ,I08        ,28      ,  1,27         ,27         ,2,20240313,0610, -57.5139,  82.5237,     4425,    200.4,   1.8727,  34.5656,2,  34.5649,2,    171.9,2,    172.2,2,    80.54,2,     0.03,2,    34.70,2,     0.00,2,     2.38,2,    1.245,2,    0.597,2,    0.072,2,   0.5940,2,   2270.1,3,   2329.7,2,   7.5265,2,    24.99,     -999,1,   1.8670,2,     -999,9,     -999,     -999,9,     -999,9,     -999,9,     -999,9,     -999,9,     -999,1,   0.0195,1,   4.6201,1,     16.5,2,     -999,9,20240313,0759, -57.5139,  82.5237,     -999,9,     -999,9,-999          ,9,-999          ,9,-999          ,9
325020240221  ,I08        ,28      ,  1,26         ,26         ,2,20240313,0610, -57.5139,  82.5237,     4425,    251.3,   1.9723,  34.6156,2,  34.6158,2,    167.5,2,    168.2,2,    83.37,2,     0.00,2,    34.35,2,     0.00,2,     2.35,2,    0.943,6,    0.427,6,    0.057,6,   0.4400,6,   2273.0,3,   2334.7,2,   7.5331,2,    24.99,     -999,1,   1.9695,2,     -999,9,     -999,     -999,9,     -999,9,     -999,9,     -999,9,     -999,9,     -999,1,   0.0193,1,   4.6228,1,     16.5,6,     -999,9,20240313,0757, -57.5139,  82.5237,     -999,9,     -999,9,-999          ,9,-999          ,9,-999          ,9
325020240221  ,I08        ,28      ,  1,25         ,25         ,2,20240313,0610, -57.5139,  82.5237,     4425,    303.7,   1.9572,  34.6419,2,  34.6409,2,    173.3,2,    173.7,2,    83.17,2,     0.00,2,    33.49,2,     0.00,2,     2.32,2,    0.862,2,    0.382,2,    0.048,2,   0.3950,2,   2267.9,3,   2336.1,2,   7.5478,6,    24.99,     -999,1,   1.9499,2,     -999,9,     -999,     -999,9,     -999,9,     -999,9,     -999,9,     -999,9,     -999,1,   0.0183,1,   4.6280,1,     15.6,2,     -999,9,20240313,0755, -57.5139,  82.5237,     -999,9,     -999,9,-999          ,9,-999          ,9,-999          ,9
325020240221  ,I08        ,28      ,  1,24         ,24         ,2,20240313,0610, -57.5139,  82.5237,     4425,    352.4,   1.6186,  34.6353,2,  34.6350,2,    184.0,2,    184.0,2,    83.76,2,     0.03,2,    33.10,2,     0.00,2,     2.29,2,    1.083,2,    0.497,2,    0.071,2,   0.5410,2,   2268.4,3,   2336.0,2,   7.5571,6,    24.98,     -999,1,   1.6213,2,     -999,9,     -999,     -999,9,     -999,9,     -999,9,     -999,9,     -999,9,     -999,1,   0.0189,1,   4.6295,1,     15.4,2,     -999,9,20240313,0753, -57.5139,  82.5237,     -999,9,     -999,9,-999          ,9,-999          ,9,-999          ,9
325020240221  ,I08        ,28      ,  1,23         ,37         ,2,20240313,0610, -57.5139,  82.5237,     4425,    402.8,   1.9075,  34.6856,2,  34.6844,2,    177.5,2,    177.6,2,    85.22,2,     0.02,2,    32.77,2,     0.00,2,     2.26,2,    0.662,2,    0.295,2,    0.034,2,   0.2910,2,   2266.1,3,   2340.0,2,   7.5639,2,    25.00,     -999,1,   1.9065,2,     -999,9,     -999,     -999,9,     -999,9,     -999,9,     -999,9,     -999,9,     -999,1,   0.0189,1,   4.6344,1,     14.9,2,     -999,9,20240313,0751, -57.5139,  82.5237,     -999,9,     -999,9,-999          ,9,-999          ,9,-999          ,9
325020240221  ,I08        ,28      ,  1,22         ,22         ,2,20240313,0610, -57.5139,  82.5237,     4425,    454.5,   1.9499,  34.7041,2,  34.7026,2,    178.5,2,    178.9,2,    86.00,2,     0.03,2,    32.49,2,     0.00,2,     2.25,2,    0.527,2,    0.232,2,    0.027,2,   0.2670,2,   2264.3,3,   2342.7,2,   7.5717,2,    24.97,     -999,1,   1.9497,2,     -999,9,     -999,     -999,9,     -999,9,     -999,9,     -999,9,     -999,9,     -999,1,   0.0183,1,   4.6342,1,     14.6,2,     -999,9,20240313,0748, -57.5139,  82.5237,     -999,9,     -999,9,-999          ,9,-999          ,9,-999          ,9
325020240221  ,I08        ,28      ,  1,21         ,21         ,2,20240313,0610, -57.5139,  82.5237,     4425,    505.4,   1.8790,  34.7088,2,  34.7072,2,    184.5,2,    184.5,2,    85.02,2,     0.00,2,    32.01,2,     0.00,2,     2.18,2,    0.533,2,    0.243,2,    0.029,2,   0.2720,2,   2254.0,3,   2342.5,2,   7.5812,2,    24.98,     -999,1,   1.8814,2,     -999,9,     -999,     -999,9,     -999,9,     -999,9,     -999,9,     -999,9,     -999,1,   0.0188,1,   4.6357,1,     14.2,2,     -999,9,20240313,0746, -57.5139,  82.5237,     -999,9,     -999,9,-999          ,9,-999          ,9,-999          ,1
325020240221  ,I08        ,28      ,  1,20         ,20         ,2,20240313,0610, -57.5139,  82.5237,     4425,    607.6,   1.7799,  34.7192,2,  34.7189,2,    188.2,2,    187.6,2,    87.66,2,     0.03,2,    31.74,2,     0.00,2,     2.16,2,    0.509,2,    0.232,2,    0.025,2,   0.2510,2,   2259.3,3,   2345.4,2,   7.5880,2,    24.99,     -999,1,   1.7808,2,     -999,9,     -999,     -999,9,     -999,9,     -999,9,     -999,9,     -999,9,     -999,1,   0.0182,1,   4.6345,1,     13.8,2,     -999,9,20240313,0743, -57.5139,  82.5237,     -999,9,     -999,9,-999          ,9,-999          ,9,-999          ,9
325020240221  ,I08        ,28      ,  1,19         ,19         ,2,20240313,0610, -57.5139,  82.5237,     4425,    705.1,   1.7753,  34.7343,2,  34.7357,2,    191.3,2,    190.6,2,    88.24,2,     0.00,2,    31.12,2,     0.00,2,     2.12,2,    0.383,2,    0.180,2,    0.027,2,   0.1530,2,   2256.0,3,   2347.0,2,   7.5960,2,    25.00,     -999,1,   1.7749,2,     -999,9,     -999,     -999,9,     -999,9,     -999,9,     -999,9,     -999,9,     -999,1,   0.0185,1,   4.6356,1,      9.2,4,     -999,9,20240313,0740, -57.5139,  82.5237,     -999,9,     -999,9,-999          ,9,-999          ,9,-999          ,9
325020240221  ,I08        ,28      ,  1,18         ,18         ,2,20240313,0610, -57.5139,  82.5237,     4425,    808.4,   1.6877,  34.7384,2,  34.7386,2,    193.9,2,    194.3,2,    90.49,2,     0.00,2,    30.91,2,     0.00,2,     2.09,2,    0.363,2,    0.168,2,    0.013,2,   0.0440,2,   2259.0,3,   2346.9,2,   7.6022,6,    25.00,     -999,1,   1.6873,2,     -999,9,     -999,     -999,9,     -999,9,     -999,9,     -999,9,     -999,9,     -999,1,   0.0184,1,   4.6373,1,     13.6,2,     -999,9,20240313,0736, -57.5139,  82.5237,     -999,9,     -999,9,-999          ,9,-999          ,9,-999          ,9
325020240221  ,I08        ,28      ,  1,17         ,17         ,2,20240313,0610, -57.5139,  82.5237,     4425,    906.5,   1.6022,  34.7416,2,  34.7416,2,    196.8,2,    196.6,2,    92.34,2,     0.00,2,    30.63,2,     0.00,2,     2.08,2,    0.371,2,    0.158,2,    0.012,2,   0.0300,2,   2253.5,3,   2350.9,2,   7.6048,2,    24.99,     -999,1,   1.6017,2,     -999,9,     -999,     -999,9,     -999,9,     -999,9,     -999,9,     -999,9,     -999,1,   0.0183,1,   4.6361,1,     13.4,2,     -999,9,20240313,0732, -57.5139,  82.5237,     -999,9,     -999,9,-999          ,9,-999          ,9,-999          ,9
325020240221  ,I08        ,28      ,  1,15         ,15         ,2,20240313,0610, -57.5139,  82.5237,     4425,   1011.6,   1.4989,  34.7392,2,  34.7396,2,    198.3,2,    198.2,2,    95.27,2,     0.00,2,    30.49,2,     0.00,2,     2.08,2,    0.344,2,    0.154,2,    0.011,2,   0.0100,2,   2258.9,3,   2353.3,2,   7.6078,2,    25.01,     -999,1,   1.4985,2,     -999,9,     -999,     -999,9,     -999,9,     -999,9,     -999,9,     -999,9,     -999,1,   0.0182,1,   4.6348,1,     13.4,2,     -999,9,20240313,0729, -57.5139,  82.5237,     -999,9,     -999,9,-999          ,9,-999          ,9,-999          ,9
325020240221  ,I08        ,28      ,  1,16         ,16         ,2,20240313,0610, -57.5139,  82.5237,     4425,   1012.0,   1.5020,  34.7397,2,     -999,9,    198.3,2,     -999,9,     -999,9,     -999,9,     -999,9,     -999,9,     -999,9,     -999,9,     -999,9,     -999,9,     -999,9,     -999,9,     -999,9,     -999,9,     -999,     -999,9,   1.5035,2,     -999,9,     -999,     -999,9,     -999,9,     -999,9,     -999,9,     -999,9,     -999,9,   0.0185,1,   4.6348,1,     -999,9,     -999,9,20240313,0729, -57.5139,  82.5237,     -999,9,     -999,9,-999          ,9,-999          ,1,-999          ,1
325020240221  ,I08        ,28      ,  1,14         ,14         ,2,20240313,0610, -57.5139,  82.5237,     4425,   1214.4,   1.3076,  34.7329,2,  34.7327,2,    200.7,2,    201.1,2,   100.35,2,     0.00,2,    30.73,2,     0.00,2,     2.10,2,    0.367,2,    0.167,2,    0.012,2,   0.0860,2,   2257.4,3,   2351.9,2,   7.6066,2,    25.04,     -999,1,   1.3086,2,     -999,9,     -999,     -999,9,     -999,9,     -999,9,     -999,9,     -999,9,     -999,1,   0.0183,1,   4.6324,1,     13.4,2,     -999,9,20240313,0724, -57.5139,  82.5236,     -999,9,     -999,9,-999          ,9,-999          ,9,-999          ,9
325020240221  ,I08        ,28      ,  1,13         ,13         ,2,20240313,0610, -57.5139,  82.5237,     4425,   1414.6,   1.1347,  34.7253,2,  34.7252,2,    202.8,2,    203.0,2,   105.72,2,     0.00,2,    31.05,2,     0.00,2,     2.16,2,    0.413,2,    0.169,2,    0.012,2,   0.0060,2,   2257.5,3,   2353.1,2,   7.6056,2,    25.01,     -999,1,   1.1334,2,     -999,9,     -999,     -999,9,     -999,9,     -999,9,     -999,9,     -999,9,     -999,1,   0.0183,1,   4.6299,1,     13.3,2,     -999,9,20240313,0719, -57.5139,  82.5237,     -999,9,     -999,9,-999          ,9,-999          ,9,-999          ,9
325020240221  ,I08        ,28      ,  1,12         ,12         ,2,20240313,0610, -57.5139,  82.5237,     4425,   1620.1,   0.9860,  34.7175,2,  34.7178,2,    204.4,2,    204.6,2,   109.62,2,     0.04,2,    31.35,2,     0.00,2,     2.20,2,    0.421,2,    0.181,2,    0.013,2,   0.0370,2,   2262.6,3,   2356.3,2,   7.6035,2,    24.98,     -999,1,   0.9862,2,     -999,9,     -999,     -999,9,     -999,9,     -999,9,     -999,9,     -999,9,     -999,1,   0.0182,1,   4.6283,1,     13.4,2,     -999,9,20240313,0714, -57.5139,  82.5236,     -999,9,     -999,9,-999          ,9,-999          ,9,-999          ,9
325020240221  ,I08        ,28      ,  1,11         ,11         ,2,20240313,0610, -57.5139,  82.5237,     4425,   1821.8,   0.8102,  34.7078,2,  34.7074,2,    206.3,2,    206.8,2,   114.60,2,     0.03,2,    31.79,2,     0.00,2,     2.21,2,    0.449,2,    0.198,2,    0.014,2,   0.0800,2,   2263.4,3,   2355.2,2,   7.5989,6,    24.99,     -999,1,   0.8108,2,     -999,9,     -999,     -999,9,     -999,9,     -999,9,     -999,9,     -999,9,     -999,1,   0.0182,1,   4.6263,1,     13.2,2,     -999,9,20240313,0709, -57.5139,  82.5236,     -999,9,     -999,9,-999          ,9,-999          ,9,-999          ,9
325020240221  ,I08        ,28      ,  1,10         ,10         ,2,20240313,0610, -57.5139,  82.5237,     4425,   2026.0,   0.6688,  34.7000,2,  34.7001,2,    208.5,2,    208.6,2,   118.90,2,     0.00,2,    32.16,2,     0.00,2,     2.23,2,    0.498,2,    0.226,2,    0.016,2,   0.1810,2,   2262.1,3,   2355.9,2,   7.5974,6,    25.05,     -999,1,   0.6682,2,     -999,9,     -999,     -999,9,     -999,9,     -999,9,     -999,9,     -999,9,     -999,1,   0.0182,1,   4.6251,1,     13.3,2,     -999,9,20240313,0705, -57.5139,  82.5236,     -999,9,     -999,9,-999          ,9,-999          ,9,-999          ,9
325020240221  ,I08        ,28      ,  1,9          ,9          ,2,20240313,0610, -57.5139,  82.5237,     4425,   2281.8,   0.5335,  34.6923,2,  34.6920,2,    211.3,2,    211.1,2,   122.71,2,     0.00,2,    32.32,2,     0.00,2,     2.25,2,    0.579,2,    0.252,2,    0.019,2,   0.1140,2,   2271.9,3,   2355.9,2,   7.5946,2,    25.03,     -999,1,   0.5333,2,     -999,9,     -999,     -999,9,     -999,9,     -999,9,     -999,9,     -999,9,     -999,1,   0.0183,1,   4.6235,1,     13.3,2,     -999,9,20240313,0659, -57.5139,  82.5236,     -999,9,     -999,9,-999          ,9,-999          ,9,-999          ,9
325020240221  ,I08        ,28      ,  1,8          ,8          ,2,20240313,0610, -57.5139,  82.5237,     4425,   2537.0,   0.4024,  34.6856,2,  34.6857,2,    214.8,2,    214.9,2,   125.34,2,     0.00,2,    32.54,2,     0.00,2,     2.26,2,    0.724,2,    0.298,2,    0.028,2,   0.1400,2,   2256.0,3,   2357.4,2,   7.5942,2,    25.02,     -999,1,   0.4032,2,     -999,9,     -999,     -999,9,     -999,9,     -999,9,     -999,9,     -999,9,     -999,1,   0.0182,1,   4.6227,1,     13.1,2,     -999,9,20240313,0654, -57.5139,  82.5236,     -999,9,     -999,9,-999          ,9,-999          ,9,-999          ,9
325020240221  ,I08        ,28      ,  1,7          ,7          ,2,20240313,0610, -57.5139,  82.5237,     4425,   2790.9,   0.3442,  34.6821,2,  34.6812,2,    216.8,2,    216.6,2,   126.61,2,     0.00,2,    32.60,2,     0.00,2,     2.26,2,    0.778,2,    0.345,2,    0.034,2,   0.2260,2,   2265.6,3,   2354.4,2,   7.5924,2,    25.04,     -999,1,   0.3442,2,     -999,9,     -999,     -999,9,     -999,9,     -999,9,     -999,9,     -999,9,     -999,1,   0.0183,1,   4.6227,1,     13.0,2,     -999,9,20240313,0648, -57.5139,  82.5236,     -999,9,     -999,9,-999          ,9,-999          ,9,-999          ,9
325020240221  ,I08        ,28      ,  1,6          ,6          ,2,20240313,0610, -57.5139,  82.5237,     4425,   3048.7,   0.2459,  34.6767,2,  34.6769,2,    220.3,2,    220.0,2,   128.27,2,     0.00,2,    32.70,2,     0.00,2,     2.26,2,    0.986,2,    0.426,2,    0.047,2,   0.2540,2,   2257.3,3,   2354.8,2,   7.5935,2,    25.05,     -999,1,   0.2450,2,     -999,9,     -999,     -999,9,     -999,9,     -999,9,     -999,9,     -999,9,     -999,1,   0.0183,1,   4.6227,1,     13.1,2,     -999,9,20240313,0642, -57.5139,  82.5236,     -999,9,     -999,9,-999          ,9,-999          ,9,-999          ,9