BOTTLE,20240417CCHHYDRO
EXPOCODE,SECT_ID,STNNBR,CASTNO,SAMPNO,BTLNBR,BTLNBR_FLAG_W,DATE,TIME,LATITUDE,LONGITUDE,DEPTH,CTDPRS,CTDTMP,CTDSAL,CTDSAL_FLAG_W,SALNTY,SALNTY_FLAG_W,CTDOXY,CTDOXY_FLAG_W,OXYGEN,OXYGEN_FLAG_W,SILCAT,SILCAT_FLAG_W,NH4,NH4_FLAG_W,NITRAT,NITRAT_FLAG_W,NITRIT,NITRIT_FLAG_W,PHSPHT,PHSPHT_FLAG_W,CFC-11,CFC-11_FLAG_W,CFC-12,CFC-12_FLAG_W,CFC113,CFC113_FLAG_W,SF6,SF6_FLAG_W,TCARBN,TCARBN_FLAG_W,ALKALI,ALKALI_FLAG_W,PH_TOT,PH_TOT_FLAG_W,PH_TMP,DOC,DOC_FLAG_W,REFTMP,REFTMP_FLAG_W,DELC14,DELC14_FLAG_W,C14ERR,POC,POC_FLAG_W,PON,PON_FLAG_W,POP,POP_FLAG_W,PCOD,PCOD_FLAG_W,DOP,DOP_FLAG_W,TDN,TDN_FLAG_W,CTDFLUOR,CTDFLUOR_FLAG_W,CTDXMISS,CTDXMISS_FLAG_W,N2O,N2O_FLAG_W,ARGON,ARGON_FLAG_W,BTL_DATE,BTL_TIME,BTL_LAT,BTL_LON,KRYPTON,KRYPTON_FLAG_W,XENON,XENON_FLAG_W,HPLC,HPLC_FLAG_W,DNA,DNA_FLAG_W,FCM,FCM_FLAG_W
,,,,,,,,,,,METERS,DBAR,ITS-90,PSS-78,,PSS-78,,UMOL/KG,,UMOL/KG,,UMOL/KG,,UMOL/KG,,UMOL/KG,,UMOL/KG,,UMOL/KG,,PMOL/KG,,PMOL/KG,,PMOL/KG,,FMOL/KG,,UMOL/KG,,UMOL/KG,,,,DEG C,UMOL/KG,,ITS-90,,/MILLE,,/MILLE,UG/KG,,UG/KG,,UG/L,,UG/L,,UMOL/KG,,UMOL/KG,,VOLTS,,VOLTS,,NMOL/KG,,UMOL/L,,,,,,NMOL/L,,NMOL/L,,,,,,,
325020240221  ,I08        ,58      ,  1,5          ,5          ,2,20240324,1655, -37.0028,  95.0051,     4125,   3043.0,   1.5121,  34.7364,2,  34.7355,2,    199.4,2,    199.3,2,   103.94,2,     0.00,2,    31.01,2,     0.00,2,     2.14,2,    0.109,2,    0.050,2,    0.007,4,   0.0010,2,   2256.4,3,   2360.2,2,   7.6167,2,    25.00,     -999,1,   1.5133,2,     -999,9,     -999,     -999,9,     -999,9,     -999,9,     -999,9,     -999,9,     -999,1,   0.0183,1,   4.6360,1,     16.0,2,     -999,9,20240324,1720, -37.0028,  95.0051,     -999,9,     -999,9,-999          ,9,-999          ,9,-999          ,9
325020240221  ,I08        ,58      ,  1,4          ,4          ,2,20240324,1655, -37.0028,  95.0051,     4125,   3347.5,   1.2492,  34.7251,2,  34.7252,2,    203.1,2,    203.3,2,   112.24,2,     0.00,2,    31.46,2,     0.00,2,     2.15,2,    0.203,2,    0.088,2,    0.012,4,   0.0000,2,     -999,9,     -999,9,     -999,9,     -999,     -999,1,   1.2503,2,     -999,9,     -999,     -999,9,     -999,9,     -999,9,     -999,9,     -999,9,     -999,1,   0.0183,1,   4.6339,1,     15.8,2,     -999,9,20240324,1714, -37.0028,  95.0051,     -999,9,     -999,9,-999          ,9,-999          ,9,-999          ,9
325020240221  ,I08        ,58      ,  1,3          ,3          ,2,20240324,1655, -37.0028,  95.0051,     4125,   3658.3,   1.0840,  34.7164,2,  34.7158,2,    205.1,2,    205.8,2,   117.80,2,     0.02,2,    31.83,2,     0.00,2,     2.18,2,    0.232,2,    0.105,2,    0.017,4,   0.0410,2,   2262.8,3,   2365.7,2,   7.6145,2,    24.98,     -999,1,   1.0841,2,     -999,9,     -999,     -999,9,     -999,9,     -999,9,     -999,9,     -999,9,     -999,1,   0.0183,1,   4.6336,1,     15.7,2,     -999,9,20240324,1707, -37.0028,  95.0051,     -999,9,     -999,9,-999          ,9,-999          ,9,-999          ,9
325020240221  ,I08        ,58      ,  1,2          ,2          ,2,20240324,1655, -37.0028,  95.0051,     4125,   3913.5,   1.0219,  34.7133,2,  34.7133,2,    205.4,2,    205.5,2,   119.76,2,     0.00,2,    32.07,2,     0.00,2,     2.20,2,    0.203,2,    0.088,2,    0.024,4,   0.0000,2,   2268.0,3,   2372.8,2,   7.6182,2,    24.95,     -999,1,   1.0222,2,     -999,9,     -999,     -999,9,     -999,9,     -999,9,     -999,9,     -999,9,     -999,1,   0.0171,1,   4.6348,1,     15.3,2,     -999,9,20240324,1701, -37.0028,  95.0051,     -999,9,     -999,9,-999          ,9,-999          ,9,-999          ,9
325020240221  ,I08        ,58      ,  1,1          ,1          ,2,20240324,1655, -37.0028,  95.0051,     4125,   4187.0,   1.0167,  34.7115,2,  34.7121,2,    205.8,2,    205.7,2,   120.73,2,     0.00,2,    32.22,2,     0.00,2,     2.21,2,    0.166,2,    0.085,2,    0.039,4,   0.0000,2,   2270.6,3,   2319.9,4,   7.6202,2,    24.96,     -999,1,   1.0167,2,     -999,9,     -999,     -999,9,     -999,9,     -999,9,     -999,9,     -999,9,     -999,1,   0.0183,1,   4.6361,1,      9.7,4,     -999,9,20240324,1655, -37.0028,  95.0051,     -999,9,     -999,9,-999          ,9,-999          ,9,-999          ,9