BOTTLE,20240417CCHHYDRO
EXPOCODE,SECT_ID,STNNBR,CASTNO,SAMPNO,BTLNBR,BTLNBR_FLAG_W,DATE,TIME,LATITUDE,LONGITUDE,DEPTH,CTDPRS,CTDTMP,CTDSAL,CTDSAL_FLAG_W,SALNTY,SALNTY_FLAG_W,CTDOXY,CTDOXY_FLAG_W,OXYGEN,OXYGEN_FLAG_W,SILCAT,SILCAT_FLAG_W,NH4,NH4_FLAG_W,NITRAT,NITRAT_FLAG_W,NITRIT,NITRIT_FLAG_W,PHSPHT,PHSPHT_FLAG_W,CFC-11,CFC-11_FLAG_W,CFC-12,CFC-12_FLAG_W,CFC113,CFC113_FLAG_W,SF6,SF6_FLAG_W,TCARBN,TCARBN_FLAG_W,ALKALI,ALKALI_FLAG_W,PH_TOT,PH_TOT_FLAG_W,PH_TMP,DOC,DOC_FLAG_W,REFTMP,REFTMP_FLAG_W,DELC14,DELC14_FLAG_W,C14ERR,POC,POC_FLAG_W,PON,PON_FLAG_W,POP,POP_FLAG_W,PCOD,PCOD_FLAG_W,DOP,DOP_FLAG_W,TDN,TDN_FLAG_W,CTDFLUOR,CTDFLUOR_FLAG_W,CTDXMISS,CTDXMISS_FLAG_W,N2O,N2O_FLAG_W,ARGON,ARGON_FLAG_W,BTL_DATE,BTL_TIME,BTL_LAT,BTL_LON,KRYPTON,KRYPTON_FLAG_W,XENON,XENON_FLAG_W,HPLC,HPLC_FLAG_W,DNA,DNA_FLAG_W,FCM,FCM_FLAG_W
,,,,,,,,,,,METERS,DBAR,ITS-90,PSS-78,,PSS-78,,UMOL/KG,,UMOL/KG,,UMOL/KG,,UMOL/KG,,UMOL/KG,,UMOL/KG,,UMOL/KG,,PMOL/KG,,PMOL/KG,,PMOL/KG,,FMOL/KG,,UMOL/KG,,UMOL/KG,,,,DEG C,UMOL/KG,,ITS-90,,/MILLE,,/MILLE,UG/KG,,UG/KG,,UG/L,,UG/L,,UMOL/KG,,UMOL/KG,,VOLTS,,VOLTS,,NMOL/KG,,UMOL/L,,,,,,NMOL/L,,NMOL/L,,,,,,,
325020240221  ,I08        ,23      ,  1,35         ,35         ,2,20240311,1215, -58.0012,  82.1374,     1949,      3.1,   1.3376,  33.9394,2,  33.9367,2,    325.3,2,    325.6,2,    39.06,2,     0.43,2,    26.41,2,     0.26,2,     1.81,2,    4.976,2,    2.895,2,    0.417,2,   4.3960,2,   2178.4,3,   2295.6,2,   7.6712,2,    24.97,     -999,1,   1.3377,2,     -999,1,     -999,     -999,9,     -999,9,     -999,9,     -999,9,     -999,9,     -999,1,   0.0988,1,   4.4161,1,     14.2,2,     -999,9,20240311,1355, -58.0012,  82.1374,     -999,9,     -999,9,-999          ,1,-999          ,9,-999          ,9
325020240221  ,I08        ,23      ,  1,33         ,33         ,2,20240311,1215, -58.0012,  82.1374,     1949,     33.9,   1.3339,  33.9407,2,  33.9385,2,    325.1,2,    325.1,2,    39.16,2,     0.42,2,    26.48,2,     0.26,2,     1.83,2,    4.900,2,    2.893,2,    0.409,2,   4.2960,2,   2183.1,3,   2295.4,2,   7.6709,2,    24.99,     -999,9,   1.3334,2,     -999,1,     -999,     -999,9,     -999,9,     -999,9,     -999,9,     -999,9,     -999,9,   0.1020,1,   4.4179,1,     14.9,2,     -999,9,20240311,1352, -58.0011,  82.1374,     -999,9,     -999,9,-999          ,9,-999          ,9,-999          ,9
325020240221  ,I08        ,23      ,  1,34         ,34         ,2,20240311,1215, -58.0012,  82.1374,     1949,     34.1,   1.3337,  33.9407,2,     -999,9,    325.4,2,     -999,9,     -999,9,     -999,9,     -999,9,     -999,9,     -999,9,     -999,9,     -999,9,     -999,9,     -999,9,     -999,9,     -999,9,     -999,9,     -999,     -999,9,   1.3336,2,     -999,9,     -999,     -999,9,     -999,9,     -999,9,     -999,9,     -999,9,     -999,9,   0.1048,1,   4.4224,1,     -999,9,     -999,9,20240311,1352, -58.0011,  82.1373,     -999,9,     -999,9,-999          ,9,-999          ,9,-999          ,1
325020240221  ,I08        ,23      ,  1,32         ,32         ,2,20240311,1215, -58.0012,  82.1374,     1949,     59.0,   1.3302,  33.9430,2,  33.9412,2,    325.1,2,    325.6,2,    39.36,2,     0.42,2,    26.48,2,     0.26,2,     1.87,2,     -999,9,     -999,9,     -999,9,     -999,9,   2175.7,3,   2294.6,2,   7.6699,6,    24.99,     -999,9,   1.3298,2,     -999,1,     -999,     -999,9,     -999,9,     -999,9,     -999,9,     -999,9,     -999,9,   0.1007,1,   4.4231,1,     -999,9,     -999,9,20240311,1350, -58.0012,  82.1373,     -999,9,     -999,9,-999          ,9,-999          ,9,-999          ,9
325020240221  ,I08        ,23      ,  1,31         ,31         ,2,20240311,1215, -58.0012,  82.1374,     1949,     80.4,   1.3244,  33.9440,2,  33.9420,2,    324.7,2,    324.6,2,    39.36,2,     0.47,2,    26.55,2,     0.26,2,     1.89,2,    5.548,2,    2.866,2,    0.397,2,   4.2260,2,   2180.1,3,   2296.3,2,   7.6695,2,    24.99,     -999,9,   1.3244,2,     -999,1,     -999,     -999,9,     -999,9,     -999,9,     -999,9,     -999,9,     -999,9,   0.1001,1,   4.4273,1,     16.5,2,     -999,9,20240311,1348, -58.0011,  82.1374,     -999,9,     -999,9,-999          ,9,-999          ,9,-999          ,9
325020240221  ,I08        ,23      ,  1,29         ,29         ,2,20240311,1215, -58.0012,  82.1374,     1949,    100.5,   1.2717,  33.9517,2,     -999,9,    322.6,2,     -999,9,     -999,9,     -999,9,     -999,9,     -999,9,     -999,9,     -999,9,     -999,9,     -999,9,     -999,9,     -999,9,     -999,9,     -999,9,     -999,     -999,9,   1.2701,2,     -999,9,     -999,     -999,9,     -999,9,     -999,9,     -999,9,     -999,9,     -999,9,   0.0972,1,   4.4375,1,     -999,9,     -999,9,20240311,1345, -58.0012,  82.1373,     -999,9,     -999,9,-999          ,1,-999          ,9,-999          ,9
325020240221  ,I08        ,23      ,  1,30         ,30         ,2,20240311,1215, -58.0012,  82.1374,     1949,    100.7,   1.2688,  33.9533,2,     -999,9,    321.9,2,     -999,9,     -999,9,     -999,9,     -999,9,     -999,9,     -999,9,     -999,9,     -999,9,     -999,9,     -999,9,     -999,9,     -999,9,     -999,9,     -999,     -999,9,   1.2664,2,     -999,9,     -999,     -999,9,     -999,9,     -999,9,     -999,9,     -999,9,     -999,9,   0.1013,1,   4.4308,1,     -999,9,     -999,9,20240311,1345, -58.0012,  82.1373,     -999,9,     -999,9,-999          ,9,-999          ,1,-999          ,1
325020240221  ,I08        ,23      ,  1,28         ,28         ,2,20240311,1215, -58.0012,  82.1374,     1949,    110.7,   0.9025,  34.0363,2,  34.0360,2,    305.3,2,    305.1,2,    47.36,2,     0.57,2,    28.06,2,     0.27,2,     2.01,2,     -999,9,     -999,9,     -999,9,     -999,9,   2197.3,3,   2301.9,2,   7.6384,2,    25.00,     -999,9,   0.8993,2,     -999,9,     -999,     -999,9,     -999,9,     -999,9,     -999,9,     -999,9,     -999,9,   0.0813,1,   4.4600,1,     -999,9,     -999,9,20240311,1343, -58.0012,  82.1373,     -999,9,     -999,9,-999          ,9,-999          ,9,-999          ,9
325020240221  ,I08        ,23      ,  1,27         ,27         ,2,20240311,1215, -58.0012,  82.1374,     1949,    135.8,   0.5167,  34.4380,2,  34.4345,2,    223.7,2,    223.8,2,    75.56,2,     0.00,2,    33.50,2,     0.10,2,     2.33,2,    2.397,2,    1.315,2,    0.197,2,   1.6710,2,   2248.6,3,   2325.8,2,   7.5474,6,    25.00,     -999,9,   0.5139,2,     -999,1,     -999,     -999,9,     -999,9,     -999,9,     -999,9,     -999,9,     -999,9,   0.0239,1,   4.6010,1,     22.5,2,     -999,9,20240311,1340, -58.0011,  82.1373,     -999,9,     -999,9,-999          ,9,-999          ,9,-999          ,1
325020240221  ,I08        ,23      ,  1,26         ,26         ,2,20240311,1215, -58.0012,  82.1374,     1949,    166.2,   1.4587,  34.6155,2,  34.6166,2,    181.7,2,    181.3,2,    84.72,2,     0.02,2,    34.03,2,     0.02,2,     2.32,2,     -999,9,     -999,9,     -999,9,     -999,9,   2264.2,3,   2337.0,6,   7.5387,2,    24.97,     -999,9,   1.4580,2,     -999,1,     -999,     -999,9,     -999,9,     -999,9,     -999,9,     -999,9,     -999,9,   0.0211,1,   4.6195,1,     -999,9,     -999,9,20240311,1338, -58.0012,  82.1373,     -999,9,     -999,9,-999          ,9,-999          ,9,-999          ,9
325020240221  ,I08        ,23      ,  1,25         ,25         ,2,20240311,1215, -58.0012,  82.1374,     1949,    201.3,   1.8414,  34.6868,2,     -999,9,    170.5,2,     -999,9,     -999,9,     -999,9,     -999,9,     -999,9,     -999,9,     -999,9,     -999,9,     -999,9,     -999,9,     -999,9,     -999,9,     -999,9,     -999,     -999,9,   1.8407,2,     -999,9,     -999,     -999,9,     -999,9,     -999,9,     -999,9,     -999,9,     -999,9,   0.0195,1,   4.6224,1,     -999,9,     -999,9,20240311,1335, -58.0011,  82.1373,     -999,9,     -999,9,-999          ,9,-999          ,1,-999          ,1
325020240221  ,I08        ,23      ,  1,24         ,24         ,2,20240311,1215, -58.0012,  82.1374,     1949,    201.5,   1.8417,  34.6867,2,     -999,9,    170.6,2,     -999,9,     -999,9,     -999,9,     -999,9,     -999,9,     -999,9,     -999,9,     -999,9,     -999,9,     -999,9,     -999,9,     -999,9,     -999,9,     -999,     -999,9,   1.8414,2,     -999,9,     -999,     -999,9,     -999,9,     -999,9,     -999,9,     -999,9,     -999,9,   0.0195,1,   4.6247,1,     -999,9,     -999,9,20240311,1335, -58.0012,  82.1373,     -999,9,     -999,9,-999          ,9,-999          ,9,-999          ,9
325020240221  ,I08        ,23      ,  1,23         ,37         ,2,20240311,1215, -58.0012,  82.1374,     1949,    216.5,   1.8673,  34.6971,2,  34.6950,2,    173.2,2,    173.5,2,    88.14,2,     0.00,2,    33.32,2,     0.00,2,     2.30,2,    0.546,2,    0.265,2,    0.028,2,   0.1170,2,   2266.8,3,   2345.3,2,   7.5559,2,    24.98,     -999,9,   1.8672,2,     -999,1,     -999,     -999,9,     -999,9,     -999,9,     -999,9,     -999,9,     -999,9,   0.0189,1,   4.6280,1,     23.4,2,     -999,9,20240311,1333, -58.0012,  82.1373,     -999,9,     -999,9,-999          ,9,-999          ,9,-999          ,9
325020240221  ,I08        ,23      ,  1,22         ,22         ,2,20240311,1215, -58.0012,  82.1374,     1949,    267.1,   1.8655,  34.7086,2,  34.7062,2,    180.3,2,    180.7,2,    87.16,2,     0.03,2,    32.54,2,     0.00,2,     2.24,2,     -999,9,     -999,9,     -999,9,     -999,9,   2263.7,3,   2342.8,2,   7.5733,2,    25.01,     -999,9,   1.8653,2,     -999,1,     -999,     -999,9,     -999,9,     -999,9,     -999,9,     -999,9,     -999,9,   0.0189,1,   4.6324,1,     -999,9,     -999,9,20240311,1330, -58.0011,  82.1373,     -999,9,     -999,9,-999          ,9,-999          ,9,-999          ,9
325020240221  ,I08        ,23      ,  1,21         ,21         ,2,20240311,1215, -58.0012,  82.1374,     1949,    317.7,   1.8634,  34.7206,2,  34.7184,2,    185.8,2,    186.1,2,    85.60,2,     0.00,2,    31.91,2,     0.00,2,     2.19,2,    0.443,2,    0.211,2,    0.022,2,   0.0540,2,     -999,9,     -999,9,     -999,9,     -999,     -999,9,   1.8628,2,     -999,9,     -999,     -999,9,     -999,9,     -999,9,     -999,9,     -999,9,     -999,9,   0.0183,1,   4.6324,1,     23.3,2,     -999,9,20240311,1327, -58.0012,  82.1373,     -999,9,     -999,9,-999          ,9,-999          ,9,-999          ,9
325020240221  ,I08        ,23      ,  1,20         ,20         ,2,20240311,1215, -58.0012,  82.1374,     1949,    368.3,   1.8222,  34.7253,2,  34.7241,2,    184.7,2,    184.7,2,    87.65,2,     0.00,2,    32.00,2,     0.00,2,     2.19,2,     -999,9,     -999,9,     -999,9,     -999,9,   2254.3,3,   2349.1,2,   7.5855,6,    24.99,     -999,9,   1.8219,2,     -999,1,     -999,     -999,9,     -999,9,     -999,9,     -999,9,     -999,9,     -999,9,   0.0189,1,   4.6313,1,     -999,9,     -999,9,20240311,1323, -58.0012,  82.1373,     -999,9,     -999,9,-999          ,9,-999          ,9,-999          ,9
325020240221  ,I08        ,23      ,  1,19         ,19         ,2,20240311,1215, -58.0012,  82.1374,     1949,    418.1,   1.7957,  34.7314,2,  34.7294,2,    184.0,2,    184.2,2,    89.21,2,     0.00,2,    31.96,2,     0.00,2,     2.20,2,    0.397,2,    0.188,2,    0.018,2,   0.1100,2,   2255.9,3,   2346.3,2,   7.5833,2,    24.99,     -999,9,   1.7960,2,     -999,9,     -999,     -999,9,     -999,9,     -999,9,     -999,9,     -999,9,     -999,9,   0.0183,1,   4.6311,1,     24.0,2,     -999,9,20240311,1320, -58.0012,  82.1373,     -999,9,     -999,9,-999          ,9,-999          ,9,-999          ,9
325020240221  ,I08        ,23      ,  1,18         ,18         ,2,20240311,1215, -58.0012,  82.1374,     1949,    468.9,   1.7467,  34.7359,2,  34.7349,2,    186.3,2,    186.7,2,    90.48,2,     0.00,2,    31.55,2,     0.00,2,     2.15,2,     -999,9,     -999,9,     -999,9,     -999,9,   2255.1,3,   2349.3,2,   7.5877,2,    25.01,     -999,9,   1.7465,2,     -999,1,     -999,     -999,9,     -999,9,     -999,9,     -999,9,     -999,9,     -999,9,   0.0183,1,   4.6300,1,     -999,9,     -999,9,20240311,1317, -58.0012,  82.1373,     -999,9,     -999,9,-999          ,9,-999          ,9,-999          ,9
325020240221  ,I08        ,23      ,  1,17         ,17         ,2,20240311,1215, -58.0012,  82.1374,     1949,    505.2,   1.7034,  34.7383,2,     -999,9,    188.7,2,     -999,9,     -999,9,     -999,9,     -999,9,     -999,9,     -999,9,     -999,9,     -999,9,     -999,9,     -999,9,     -999,9,     -999,9,     -999,9,     -999,     -999,9,   1.7034,2,     -999,9,     -999,     -999,9,     -999,9,     -999,9,     -999,9,     -999,9,     -999,9,   0.0183,1,   4.6289,1,     -999,9,     -999,9,20240311,1314, -58.0012,  82.1373,     -999,9,     -999,9,-999          ,9,-999          ,9,-999          ,1
325020240221  ,I08        ,23      ,  1,16         ,16         ,2,20240311,1215, -58.0012,  82.1374,     1949,    540.0,   1.6644,  34.7388,2,  34.7364,2,    191.9,2,    191.7,2,    91.06,2,     0.02,2,    31.06,2,     0.00,2,     2.12,2,    0.367,2,    0.171,2,    0.017,2,   0.0050,2,   2251.2,3,   2349.2,2,   7.5977,2,    25.00,     -999,9,   1.6645,2,     -999,9,     -999,     -999,9,     -999,9,     -999,9,     -999,9,     -999,9,     -999,9,   0.0183,1,   4.6287,1,     24.2,2,     -999,9,20240311,1311, -58.0012,  82.1373,     -999,9,     -999,9,-999          ,9,-999          ,9,-999          ,9
325020240221  ,I08        ,23      ,  1,15         ,15         ,2,20240311,1215, -58.0012,  82.1374,     1949,    641.2,   1.5907,  34.7402,2,  34.7392,2,    194.5,2,    194.3,2,    92.23,2,     0.02,2,    30.84,2,     0.00,2,     2.13,2,     -999,9,     -999,9,     -999,9,     -999,9,   2253.6,3,   2349.7,2,   7.6021,2,    24.99,     -999,9,   1.5912,2,     -999,1,     -999,     -999,9,     -999,9,     -999,9,     -999,9,     -999,9,     -999,9,   0.0183,1,   4.6264,1,     -999,9,     -999,9,20240311,1308, -58.0012,  82.1373,     -999,9,     -999,9,-999          ,9,-999          ,9,-999          ,9
325020240221  ,I08        ,23      ,  1,14         ,14         ,2,20240311,1215, -58.0012,  82.1374,     1949,    742.4,   1.4457,  34.7372,2,  34.7355,2,    197.8,2,    197.5,2,    95.55,2,     0.00,2,    30.74,2,     0.00,2,     2.10,2,    0.354,2,    0.168,2,    0.015,2,   0.0450,2,     -999,9,     -999,9,     -999,9,     -999,     -999,9,   1.4460,2,     -999,1,     -999,     -999,9,     -999,9,     -999,9,     -999,9,     -999,9,     -999,9,   0.0183,1,   4.6252,1,     24.8,2,     -999,9,20240311,1304, -58.0012,  82.1373,     -999,9,     -999,9,-999          ,9,-999          ,9,-999          ,9
325020240221  ,I08        ,23      ,  1,13         ,13         ,2,20240311,1215, -58.0012,  82.1374,     1949,    843.7,   1.2982,  34.7293,2,  34.7286,2,    199.6,2,    199.8,2,    98.28,2,     0.00,2,    30.91,2,     0.00,2,     2.15,2,     -999,9,     -999,9,     -999,9,     -999,9,   2253.0,3,   2352.1,2,   7.6037,2,    25.00,     -999,9,   1.2978,2,     -999,1,     -999,     -999,9,     -999,9,     -999,9,     -999,9,     -999,9,     -999,9,   0.0183,1,   4.6233,1,     -999,9,     -999,9,20240311,1300, -58.0011,  82.1373,     -999,9,     -999,9,-999          ,9,-999          ,9,-999          ,9
325020240221  ,I08        ,23      ,  1,12         ,12         ,2,20240311,1215, -58.0012,  82.1374,     1949,    945.1,   1.2399,  34.7298,2,  34.7294,2,    201.1,2,    200.9,2,   100.53,2,     0.00,2,    30.81,2,     0.00,2,     2.15,2,    0.386,2,    0.182,2,    0.016,2,   0.0080,2,   2258.0,3,   2352.6,2,   7.6042,2,    25.00,     -999,9,   1.2397,2,     -999,9,     -999,     -999,9,     -999,9,     -999,9,     -999,9,     -999,9,     -999,9,   0.0185,1,   4.6229,1,     25.1,2,     -999,9,20240311,1256, -58.0012,  82.1373,     -999,9,     -999,9,-999          ,9,-999          ,9,-999          ,9
325020240221  ,I08        ,23      ,  1,11         ,11         ,2,20240311,1215, -58.0012,  82.1374,     1949,   1011.7,   1.2002,  34.7297,2,     -999,9,    201.9,2,     -999,9,     -999,9,     -999,9,     -999,9,     -999,9,     -999,9,     -999,9,     -999,9,     -999,9,     -999,9,     -999,9,     -999,9,     -999,9,     -999,     -999,9,   1.2003,2,     -999,9,     -999,     -999,9,     -999,9,     -999,9,     -999,9,     -999,9,     -999,9,   0.0189,1,   4.6227,1,     -999,9,     -999,9,20240311,1252, -58.0012,  82.1373,     -999,9,     -999,9,-999          ,9,-999          ,1,-999          ,1
325020240221  ,I08        ,23      ,  1,10         ,10         ,2,20240311,1215, -58.0012,  82.1374,     1949,   1046.5,   1.1791,  34.7292,2,  34.7290,2,    202.2,2,    202.4,2,   102.38,2,     0.00,2,    30.87,2,     0.00,2,     2.17,2,     -999,9,     -999,9,     -999,9,     -999,9,   2253.1,3,   2355.7,2,   7.6067,2,    25.01,     -999,9,   1.1748,2,     -999,1,     -999,     -999,9,     -999,9,     -999,9,     -999,9,     -999,9,     -999,9,   0.0183,1,   4.6226,1,     -999,9,     -999,9,20240311,1249, -58.0012,  82.1373,     -999,9,     -999,9,-999          ,9,-999          ,9,-999          ,9
325020240221  ,I08        ,23      ,  1,9          ,9          ,2,20240311,1215, -58.0012,  82.1374,     1949,   1148.5,   1.0871,  34.7255,2,  34.7243,2,    203.3,2,    203.2,2,   104.82,2,     0.00,2,    31.12,2,     0.00,2,     2.18,2,    0.367,2,    0.169,2,    0.013,2,   0.0260,2,   2260.8,3,   2354.0,2,   7.6058,2,    25.00,     -999,9,   1.0874,2,     -999,1,     -999,     -999,9,     -999,9,     -999,9,     -999,9,     -999,9,     -999,9,   0.0177,1,   4.6203,1,     25.4,2,     -999,9,20240311,1245, -58.0011,  82.1373,     -999,9,     -999,9,-999          ,9,-999          ,9,-999          ,9
325020240221  ,I08        ,23      ,  1,8          ,8          ,2,20240311,1215, -58.0012,  82.1374,     1949,   1249.5,   0.9705,  34.7187,2,  34.7170,2,    204.1,2,    204.5,2,   108.24,2,     0.03,2,    31.53,2,     0.00,2,     2.22,2,     -999,9,     -999,9,     -999,9,     -999,9,   2258.5,3,   2356.1,2,   7.6031,2,    24.98,     -999,9,   0.9719,2,     -999,1,     -999,     -999,9,     -999,9,     -999,9,     -999,9,     -999,9,     -999,9,   0.0183,1,   4.6202,1,     -999,9,     -999,9,20240311,1241, -58.0012,  82.1373,     -999,9,     -999,9,-999          ,9,-999          ,9,-999          ,9
325020240221  ,I08        ,23      ,  1,7          ,7          ,2,20240311,1215, -58.0012,  82.1374,     1949,   1353.1,   0.8634,  34.7119,2,  34.7105,2,    204.8,2,    205.0,2,   111.46,2,     0.00,2,    31.95,2,     0.00,2,     2.21,2,    0.441,2,    0.200,2,    0.018,2,   0.0720,2,   2254.5,3,   2359.1,2,   7.6005,6,    24.98,     -999,9,   0.8642,2,     -999,9,     -999,     -999,9,     -999,9,     -999,9,     -999,9,     -999,9,     -999,9,   0.0161,1,   4.6187,1,     26.2,2,     -999,9,20240311,1237, -58.0011,  82.1373,     -999,9,     -999,9,-999          ,9,-999          ,9,-999          ,9
325020240221  ,I08        ,23      ,  1,6          ,6          ,2,20240311,1215, -58.0012,  82.1374,     1949,   1452.6,   0.7936,  34.7081,2,  34.7081,2,    205.6,2,    205.4,2,   113.02,2,     0.00,2,    32.23,2,     0.00,2,     2.24,2,     -999,9,     -999,9,     -999,9,     -999,9,     -999,9,     -999,9,     -999,9,     -999,     -999,9,   0.7936,2,     -999,1,     -999,     -999,9,     -999,9,     -999,9,     -999,9,     -999,9,     -999,9,   0.0184,1,   4.6177,1,     -999,9,     -999,9,20240311,1232, -58.0012,  82.1373,     -999,9,     -999,9,-999          ,9,-999          ,9,-999          ,9
325020240221  ,I08        ,23      ,  1,5          ,5          ,2,20240311,1215, -58.0012,  82.1374,     1949,   1554.1,   0.7341,  34.7063,2,  34.7060,2,    205.7,2,    205.7,2,   120.15,2,     0.00,2,    32.44,2,     0.00,2,     2.23,2,    0.413,2,    0.180,2,    0.015,2,   0.0230,2,   2258.1,3,   2357.1,6,   7.5976,2,    24.98,     -999,9,   0.7345,2,     -999,1,     -999,     -999,9,     -999,9,     -999,9,     -999,9,     -999,9,     -999,9,   0.0183,1,   4.6172,1,     26.7,2,     -999,9,20240311,1229, -58.0012,  82.1373,     -999,9,     -999,9,-999          ,9,-999          ,9,-999          ,9