BOTTLE,20240417CCHHYDRO
EXPOCODE,SECT_ID,STNNBR,CASTNO,SAMPNO,BTLNBR,BTLNBR_FLAG_W,DATE,TIME,LATITUDE,LONGITUDE,DEPTH,CTDPRS,CTDTMP,CTDSAL,CTDSAL_FLAG_W,SALNTY,SALNTY_FLAG_W,CTDOXY,CTDOXY_FLAG_W,OXYGEN,OXYGEN_FLAG_W,SILCAT,SILCAT_FLAG_W,NH4,NH4_FLAG_W,NITRAT,NITRAT_FLAG_W,NITRIT,NITRIT_FLAG_W,PHSPHT,PHSPHT_FLAG_W,CFC-11,CFC-11_FLAG_W,CFC-12,CFC-12_FLAG_W,CFC113,CFC113_FLAG_W,SF6,SF6_FLAG_W,TCARBN,TCARBN_FLAG_W,ALKALI,ALKALI_FLAG_W,PH_TOT,PH_TOT_FLAG_W,PH_TMP,DOC,DOC_FLAG_W,REFTMP,REFTMP_FLAG_W,DELC14,DELC14_FLAG_W,C14ERR,POC,POC_FLAG_W,PON,PON_FLAG_W,POP,POP_FLAG_W,PCOD,PCOD_FLAG_W,DOP,DOP_FLAG_W,TDN,TDN_FLAG_W,CTDFLUOR,CTDFLUOR_FLAG_W,CTDXMISS,CTDXMISS_FLAG_W,N2O,N2O_FLAG_W,ARGON,ARGON_FLAG_W,BTL_DATE,BTL_TIME,BTL_LAT,BTL_LON,KRYPTON,KRYPTON_FLAG_W,XENON,XENON_FLAG_W,HPLC,HPLC_FLAG_W,DNA,DNA_FLAG_W,FCM,FCM_FLAG_W
,,,,,,,,,,,METERS,DBAR,ITS-90,PSS-78,,PSS-78,,UMOL/KG,,UMOL/KG,,UMOL/KG,,UMOL/KG,,UMOL/KG,,UMOL/KG,,UMOL/KG,,PMOL/KG,,PMOL/KG,,PMOL/KG,,FMOL/KG,,UMOL/KG,,UMOL/KG,,,,DEG C,UMOL/KG,,ITS-90,,/MILLE,,/MILLE,UG/KG,,UG/KG,,UG/L,,UG/L,,UMOL/KG,,UMOL/KG,,VOLTS,,VOLTS,,NMOL/KG,,UMOL/L,,,,,,NMOL/L,,NMOL/L,,,,,,,
325020240221  ,I08        ,6       ,  1,34         ,34         ,2,20240304,2142, -66.6133,  76.6563,     2386,      1.5,  -0.3301,  33.8981,2,  33.8983,2,    331.9,2,    333.0,2,    44.15,2,     1.61,2,    23.34,2,     0.17,2,     1.64,2,    5.061,2,    2.841,2,    0.433,2,   4.6090,2,   2174.8,3,   2299.5,2,   7.6853,2,    24.98,     -999,1,  -0.3305,2,     -999,9,     -999,     -999,9,     -999,9,     -999,9,     -999,9,     -999,9,     -999,1,   0.0310,1,   4.5561,1,     11.7,2,     -999,9,20240304,2316, -66.6133,  76.6563,     -999,9,     -999,9,-999          ,9,-999          ,9,-999          ,9
325020240221  ,I08        ,6       ,  1,35         ,35         ,2,20240304,2142, -66.6133,  76.6563,     2386,      1.7,  -0.3294,  33.8981,2,     -999,9,    332.0,2,     -999,9,     -999,9,     -999,9,     -999,9,     -999,9,     -999,9,     -999,9,     -999,9,     -999,9,     -999,9,     -999,9,     -999,9,     -999,9,     -999,     -999,9,     -999,1,     -999,9,     -999,     -999,9,     -999,9,     -999,9,     -999,9,     -999,9,     -999,9,   0.0315,1,   4.5567,1,     -999,9,     -999,9,20240304,2317, -66.6133,  76.6563,     -999,9,     -999,9,-999          ,9,-999          ,9,-999          ,9
325020240221  ,I08        ,6       ,  1,32         ,32         ,2,20240304,2142, -66.6133,  76.6563,     2386,     40.3,  -1.5506,  34.3381,2,  34.3505,2,    307.2,2,    306.6,2,    63.18,2,     0.84,2,    29.63,2,     0.20,2,     2.07,2,    4.676,2,    2.366,2,    0.377,2,   3.3390,2,   2226.8,3,   2323.2,2,   7.6031,6,    24.96,     -999,1,  -1.5544,2,     -999,9,     -999,     -999,9,     -999,9,     -999,9,     -999,9,     -999,9,     -999,1,   0.0520,1,   4.5453,1,     12.8,2,     -999,9,20240304,2313, -66.6133,  76.6563,     -999,9,     -999,9,-999          ,9,-999          ,9,-999          ,9
325020240221  ,I08        ,6       ,  1,31         ,31         ,2,20240304,2142, -66.6133,  76.6563,     2386,     64.8,  -1.6596,  34.3768,2,  34.3739,2,    303.7,3,    300.6,2,    65.03,2,     0.19,2,    30.41,2,     0.30,2,     2.09,2,    4.473,2,    2.368,2,    0.366,2,   3.1130,2,   2231.3,3,   2325.4,2,   7.5953,2,    24.97,     -999,1,  -1.6602,2,     -999,9,     -999,     -999,9,     -999,9,     -999,9,     -999,9,     -999,9,     -999,1,   0.0851,1,   4.5342,1,     13.0,2,     -999,9,20240304,2311, -66.6133,  76.6563,     -999,9,     -999,9,-999          ,9,-999          ,9,-999          ,9
325020240221  ,I08        ,6       ,  1,30         ,30         ,2,20240304,2142, -66.6133,  76.6563,     2386,     90.0,  -1.6655,  34.3855,2,  34.3861,2,    299.4,2,    299.4,2,    65.22,2,     0.00,2,    30.58,2,     0.18,2,     2.07,2,     -999,5,     -999,5,     -999,5,     -999,5,     -999,9,     -999,9,     -999,9,     -999,     -999,9,  -1.6661,2,     -999,9,     -999,     -999,9,     -999,9,     -999,9,     -999,9,     -999,9,     -999,9,   0.0275,1,   4.5445,1,     -999,5,     -999,9,20240304,2309, -66.6133,  76.6563,     -999,9,     -999,9,-999          ,9,-999          ,9,-999          ,9
325020240221  ,I08        ,6       ,  1,29         ,29         ,2,20240304,2142, -66.6133,  76.6563,     2386,    115.6,  -1.6515,  34.3950,2,  34.3931,2,    300.4,2,    300.4,2,    65.32,2,     0.00,2,    30.43,2,     0.05,2,     2.08,2,    4.415,2,    2.392,2,    0.358,2,   2.8200,2,   2229.7,3,   2326.4,2,   7.5969,2,    25.03,     -999,1,  -1.6483,2,     -999,9,     -999,     -999,9,     -999,9,     -999,9,     -999,9,     -999,9,     -999,1,   0.0207,1,   4.5446,1,     12.9,2,     -999,9,20240304,2307, -66.6133,  76.6563,     -999,9,     -999,9,-999          ,9,-999          ,9,-999          ,9
325020240221  ,I08        ,6       ,  1,28         ,28         ,2,20240304,2142, -66.6133,  76.6563,     2386,    141.3,  -1.6589,  34.4001,2,  34.3978,2,    300.5,2,    300.7,2,    65.03,2,     0.00,2,    30.40,2,     0.05,2,     2.06,2,    4.682,2,    2.384,2,    0.361,2,   3.0240,2,     -999,9,     -999,9,     -999,9,     -999,     -999,1,  -1.6625,2,     -999,9,     -999,     -999,9,     -999,9,     -999,9,     -999,9,     -999,9,     -999,1,   0.0208,1,   4.5464,1,     12.9,2,     -999,9,20240304,2304, -66.6133,  76.6563,     -999,9,     -999,9,-999          ,9,-999          ,9,-999          ,9
325020240221  ,I08        ,6       ,  1,27         ,27         ,2,20240304,2142, -66.6133,  76.6563,     2386,    166.0,  -1.6133,  34.4105,2,  34.4088,2,    300.3,2,    300.4,2,    65.52,2,     0.00,2,    30.36,2,     0.00,2,     2.06,2,    4.722,2,    2.435,2,    0.369,2,   3.1130,2,   2228.6,3,   2326.6,2,   7.5986,6,    25.04,     -999,1,  -1.6132,2,     -999,9,     -999,     -999,9,     -999,9,     -999,9,     -999,9,     -999,9,     -999,1,   0.0195,1,   4.5475,1,     12.8,2,     -999,9,20240304,2302, -66.6133,  76.6563,     -999,9,     -999,9,-999          ,9,-999          ,9,-999          ,9
325020240221  ,I08        ,6       ,  1,26         ,26         ,2,20240304,2142, -66.6133,  76.6563,     2386,    191.0,  -1.6247,  34.4148,2,  34.4127,2,    300.6,2,    300.8,2,    65.61,2,     0.00,2,    30.30,2,     0.00,2,     2.06,2,    5.011,2,    2.455,2,    0.359,2,   3.2670,2,     -999,9,     -999,9,     -999,9,     -999,     -999,1,  -1.6291,2,     -999,9,     -999,     -999,9,     -999,9,     -999,9,     -999,9,     -999,9,     -999,1,   0.0195,1,   4.5506,1,     12.9,2,     -999,9,20240304,2300, -66.6133,  76.6563,     -999,9,     -999,9,-999          ,9,-999          ,9,-999          ,9
325020240221  ,I08        ,6       ,  1,25         ,25         ,2,20240304,2142, -66.6133,  76.6563,     2386,    216.7,  -1.4573,  34.4258,2,  34.4239,2,    295.3,2,    295.2,2,    66.69,2,     0.00,2,    30.34,2,     0.00,2,     2.09,2,    4.483,2,    2.435,2,    0.351,2,   3.1990,2,   2230.8,3,   2327.3,2,   7.5975,2,    25.00,     -999,1,  -1.4678,2,     -999,9,     -999,     -999,9,     -999,9,     -999,9,     -999,9,     -999,9,     -999,1,   0.0195,1,   4.5545,1,     13.0,2,     -999,9,20240304,2258, -66.6133,  76.6563,     -999,9,     -999,9,-999          ,9,-999          ,9,-999          ,9
325020240221  ,I08        ,6       ,  1,24         ,24         ,2,20240304,2142, -66.6133,  76.6563,     2386,    241.9,  -1.2299,  34.4429,2,  34.4459,2,    285.7,2,    285.2,2,    69.22,2,     0.00,2,    30.60,2,     0.00,2,     2.10,2,    4.484,2,    2.169,2,    0.315,2,   2.7870,2,     -999,9,     -999,9,     -999,9,     -999,     -999,1,  -1.2273,2,     -999,9,     -999,     -999,9,     -999,9,     -999,9,     -999,9,     -999,9,     -999,1,   0.0194,1,   4.5592,1,     13.3,2,     -999,9,20240304,2256, -66.6133,  76.6563,     -999,9,     -999,9,-999          ,9,-999          ,9,-999          ,9
325020240221  ,I08        ,6       ,  1,23         ,23         ,2,20240304,2142, -66.6133,  76.6563,     2386,    287.7,  -0.7869,  34.4871,2,  34.4879,2,    269.8,2,    269.0,2,    73.62,2,     0.00,2,    31.13,2,     0.00,2,     2.13,2,    3.884,2,    1.849,2,    0.274,2,   2.2090,2,   2238.9,3,   2332.7,2,   7.5883,2,    24.94,     -999,1,  -0.7863,2,     -999,9,     -999,     -999,9,     -999,9,     -999,9,     -999,9,     -999,9,     -999,1,   0.0179,1,   4.5658,1,     13.4,2,     -999,9,20240304,2253, -66.6133,  76.6563,     -999,9,     -999,9,-999          ,9,-999          ,9,-999          ,9
325020240221  ,I08        ,6       ,  1,22         ,22         ,2,20240304,2142, -66.6133,  76.6563,     2386,    338.3,  -0.2981,  34.5369,2,  34.5378,2,    250.9,2,    250.2,2,    78.88,2,     0.00,2,    31.59,2,     0.00,2,     2.16,2,    2.865,2,    1.531,2,    0.222,2,   2.1560,2,     -999,9,     -999,9,     -999,9,     -999,     -999,1,  -0.2954,2,     -999,9,     -999,     -999,9,     -999,9,     -999,9,     -999,9,     -999,9,     -999,1,   0.0181,1,   4.5711,1,     13.8,2,     -999,9,20240304,2251, -66.6133,  76.6563,     -999,9,     -999,9,-999          ,9,-999          ,9,-999          ,9
325020240221  ,I08        ,6       ,  1,21         ,21         ,2,20240304,2142, -66.6133,  76.6563,     2386,    388.2,  -0.0421,  34.5698,2,  34.5704,2,    241.3,2,    240.9,2,    82.79,2,     0.00,2,    31.81,2,     0.00,2,     2.18,2,    2.376,2,    1.313,2,    0.196,2,   1.8960,2,   2245.0,3,   2339.8,2,   7.5852,2,    24.99,     -999,1,  -0.0438,2,     -999,9,     -999,     -999,9,     -999,9,     -999,9,     -999,9,     -999,9,     -999,1,   0.0182,1,   4.5735,1,     13.9,2,     -999,9,20240304,2249, -66.6133,  76.6563,     -999,9,     -999,9,-999          ,9,-999          ,9,-999          ,9
325020240221  ,I08        ,6       ,  1,20         ,20         ,2,20240304,2142, -66.6133,  76.6563,     2386,    439.6,   0.0134,  34.5910,2,  34.5904,2,    238.7,2,    238.2,2,    86.30,2,     0.00,2,    31.78,2,     0.00,2,     2.18,2,    2.309,6,    1.200,6,    0.177,6,   1.4645,6,     -999,9,     -999,9,     -999,9,     -999,     -999,1,   0.0151,2,     -999,9,     -999,     -999,9,     -999,9,     -999,9,     -999,9,     -999,9,     -999,1,   0.0183,1,   4.5763,1,     13.5,6,     -999,9,20240304,2246, -66.6133,  76.6563,     -999,9,     -999,9,-999          ,9,-999          ,9,-999          ,9
325020240221  ,I08        ,6       ,  1,19         ,19         ,2,20240304,2142, -66.6133,  76.6563,     2386,    489.7,   0.3528,  34.6306,2,  34.6309,2,    224.0,2,    224.5,2,    91.37,2,     0.00,2,    32.03,2,     0.00,2,     2.20,2,    1.749,2,    0.888,2,    0.127,2,   1.0550,2,   2251.5,3,   2346.1,2,   7.5884,2,    24.98,     -999,1,   0.3511,2,     -999,9,     -999,     -999,9,     -999,9,     -999,9,     -999,9,     -999,9,     -999,1,   0.0180,1,   4.5800,1,     13.4,2,     -999,9,20240304,2244, -66.6133,  76.6563,     -999,9,     -999,9,-999          ,9,-999          ,9,-999          ,9
325020240221  ,I08        ,6       ,  1,18         ,18         ,2,20240304,2142, -66.6133,  76.6563,     2386,    570.8,   0.5926,  34.6673,2,  34.6667,2,    215.0,2,    214.2,2,    98.01,2,     0.00,2,    32.23,2,     0.00,2,     2.19,2,    1.179,2,    0.612,2,    0.092,2,   0.6800,2,   2255.1,3,   2350.9,2,   7.5895,2,    24.99,     -999,1,   0.5917,2,     -999,9,     -999,     -999,9,     -999,9,     -999,9,     -999,9,     -999,9,     -999,1,   0.0182,1,   4.5810,1,     10.0,2,     -999,9,20240304,2241, -66.6133,  76.6563,     -999,9,     -999,9,-999          ,9,-999          ,9,-999          ,9
325020240221  ,I08        ,6       ,  1,17         ,17         ,2,20240304,2142, -66.6133,  76.6563,     2386,    672.3,   0.6274,  34.6800,2,  34.6789,2,    211.7,2,    211.2,2,   102.89,2,     0.00,2,    32.37,2,     0.00,2,     2.17,2,    0.934,2,    0.493,2,    0.068,2,   0.6040,2,   2257.0,3,   2352.8,6,   7.5905,6,    25.01,     -999,1,   0.6267,2,     -999,9,     -999,     -999,9,     -999,9,     -999,9,     -999,9,     -999,9,     -999,1,   0.0182,1,   4.5817,1,     13.8,2,     -999,9,20240304,2237, -66.6133,  76.6563,     -999,9,     -999,9,-999          ,9,-999          ,9,-999          ,9
325020240221  ,I08        ,6       ,  1,16         ,16         ,2,20240304,2142, -66.6133,  76.6563,     2386,    773.6,   0.5930,  34.6849,2,  34.6846,2,    210.6,2,    210.2,2,   107.87,2,     0.00,2,    32.45,2,     0.00,2,     2.19,2,    0.839,2,    0.432,2,    0.056,2,   0.4750,2,     -999,9,     -999,9,     -999,9,     -999,     -999,1,   0.5924,2,     -999,9,     -999,     -999,9,     -999,9,     -999,9,     -999,9,     -999,9,     -999,1,   0.0177,1,   4.5811,1,     13.8,2,     -999,9,20240304,2234, -66.6133,  76.6563,     -999,9,     -999,9,-999          ,9,-999          ,9,-999          ,9
325020240221  ,I08        ,6       ,  1,15         ,15         ,2,20240304,2142, -66.6133,  76.6563,     2386,    875.1,   0.5491,  34.6871,2,  34.6857,2,    210.3,2,    209.9,2,   111.58,2,     0.00,2,    32.36,2,     0.00,2,     2.21,2,    0.762,2,    0.380,2,    0.047,2,   0.3540,2,   2258.6,3,   2355.9,2,   7.5915,2,    25.05,     -999,1,   0.5497,2,     -999,9,     -999,     -999,9,     -999,9,     -999,9,     -999,9,     -999,9,     -999,1,   0.0179,1,   4.5804,1,     13.8,2,     -999,9,20240304,2231, -66.6133,  76.6563,     -999,9,     -999,9,-999          ,9,-999          ,9,-999          ,9
325020240221  ,I08        ,6       ,  1,14         ,14         ,2,20240304,2142, -66.6133,  76.6563,     2386,    976.3,   0.4827,  34.6850,2,  34.6848,2,    211.2,2,    211.1,2,   113.92,2,     0.00,2,    32.43,2,     0.00,2,     2.22,2,    0.770,2,    0.375,2,    0.045,2,   0.3560,2,     -999,9,     -999,9,     -999,9,     -999,     -999,1,   0.4826,2,     -999,9,     -999,     -999,9,     -999,9,     -999,9,     -999,9,     -999,9,     -999,1,   0.0175,1,   4.5800,1,     13.6,2,     -999,9,20240304,2227, -66.6133,  76.6563,     -999,9,     -999,9,-999          ,9,-999          ,9,-999          ,9
325020240221  ,I08        ,6       ,  1,13         ,13         ,2,20240304,2142, -66.6133,  76.6563,     2386,   1077.5,   0.4252,  34.6838,2,  34.6840,2,    211.9,2,    211.7,2,   116.36,2,     0.02,2,    32.50,2,     0.00,2,     2.22,2,    0.719,2,    0.348,2,    0.043,2,   0.2750,2,     -999,9,     -999,9,     -999,9,     -999,     -999,1,   0.4248,2,     -999,9,     -999,     -999,9,     -999,9,     -999,9,     -999,9,     -999,9,     -999,1,   0.0178,1,   4.5800,1,     13.8,2,     -999,9,20240304,2224, -66.6133,  76.6563,     -999,9,     -999,9,-999          ,9,-999          ,9,-999          ,9
325020240221  ,I08        ,6       ,  1,11         ,11         ,2,20240304,2142, -66.6133,  76.6563,     2386,   1179.1,   0.3646,  34.6821,2,  34.6816,2,    213.4,2,    213.2,2,   118.90,2,     0.00,2,    32.54,2,     0.00,2,     2.25,2,    0.758,2,    0.370,2,    0.044,2,   0.3420,2,   2260.2,3,   2358.8,2,   7.5909,2,    25.07,     -999,1,   0.3638,2,     -999,9,     -999,     -999,9,     -999,9,     -999,9,     -999,9,     -999,9,     -999,1,   0.0173,1,   4.5787,1,     13.6,2,     -999,9,20240304,2220, -66.6133,  76.6563,     -999,9,     -999,9,-999          ,9,-999          ,9,-999          ,9
325020240221  ,I08        ,6       ,  1,10         ,10         ,2,20240304,2142, -66.6133,  76.6563,     2386,   1280.6,   0.3100,  34.6802,2,  34.6793,2,    214.6,2,    215.6,2,   120.66,2,     0.00,2,    32.50,2,     0.00,2,     2.24,2,    0.813,2,    0.396,2,    0.046,2,   0.3600,2,     -999,9,     -999,9,     -999,9,     -999,     -999,1,   0.3092,2,     -999,9,     -999,     -999,9,     -999,9,     -999,9,     -999,9,     -999,9,     -999,1,   0.0174,1,   4.5786,1,     13.6,2,     -999,9,20240304,2216, -66.6133,  76.6563,     -999,9,     -999,9,-999          ,9,-999          ,9,-999          ,9
325020240221  ,I08        ,6       ,  1,9          ,9          ,2,20240304,2142, -66.6133,  76.6563,     2386,   1382.0,   0.2760,  34.6789,2,  34.6785,2,    215.5,2,    215.3,2,   120.66,2,     0.00,2,    32.41,2,     0.00,2,     2.24,2,    0.844,2,    0.396,2,    0.045,2,   0.3650,2,   2261.3,3,   2356.5,2,   7.5917,6,    25.00,     -999,1,   0.2753,2,     -999,9,     -999,     -999,9,     -999,9,     -999,9,     -999,9,     -999,9,     -999,1,   0.0180,1,   4.5783,1,     13.7,2,     -999,9,20240304,2213, -66.6133,  76.6563,     -999,9,     -999,9,-999          ,9,-999          ,9,-999          ,9
325020240221  ,I08        ,6       ,  1,8          ,8          ,2,20240304,2142, -66.6133,  76.6563,     2386,   1483.4,   0.2323,  34.6775,2,  34.6767,2,    216.7,2,    216.8,2,   122.12,2,     0.00,2,    32.55,2,     0.00,2,     2.24,2,    0.834,2,    0.418,2,    0.047,2,   0.3670,2,     -999,9,     -999,9,     -999,9,     -999,     -999,1,   0.2317,2,     -999,9,     -999,     -999,9,     -999,9,     -999,9,     -999,9,     -999,9,     -999,1,   0.0182,1,   4.5775,1,     13.6,2,     -999,9,20240304,2210, -66.6133,  76.6563,     -999,9,     -999,9,-999          ,9,-999          ,9,-999          ,9
325020240221  ,I08        ,6       ,  1,7          ,7          ,2,20240304,2142, -66.6133,  76.6563,     2386,   1584.7,   0.1918,  34.6762,2,  34.6759,2,    217.9,2,    217.9,2,   122.81,2,     0.00,2,    32.69,2,     0.00,2,     2.25,2,    0.936,2,    0.436,2,    0.050,2,   0.3720,2,   2258.6,3,   2357.7,2,   7.5913,2,    25.00,     -999,1,   0.1929,2,     -999,9,     -999,     -999,9,     -999,9,     -999,9,     -999,9,     -999,9,     -999,1,   0.0181,1,   4.5775,1,     13.6,2,     -999,9,20240304,2207, -66.6133,  76.6563,     -999,9,     -999,9,-999          ,9,-999          ,9,-999          ,9
325020240221  ,I08        ,6       ,  1,6          ,6          ,2,20240304,2142, -66.6133,  76.6563,     2386,   1687.7,   0.1683,  34.6750,2,  34.6747,2,    219.1,2,    219.2,2,   123.29,2,     0.00,2,    32.74,2,     0.00,2,     2.26,2,    0.989,2,    0.457,2,    0.051,2,   0.3940,2,     -999,9,     -999,9,     -999,9,     -999,     -999,1,   0.1673,2,     -999,9,     -999,     -999,9,     -999,9,     -999,9,     -999,9,     -999,9,     -999,1,   0.0180,1,   4.5775,1,     13.6,2,     -999,9,20240304,2204, -66.6133,  76.6563,     -999,9,     -999,9,-999          ,9,-999          ,9,-999          ,9
325020240221  ,I08        ,6       ,  1,5          ,5          ,2,20240304,2142, -66.6133,  76.6563,     2386,   1790.3,   0.1330,  34.6736,2,  34.6728,2,    220.1,2,    220.5,2,   123.98,2,     0.00,2,    32.73,2,     0.00,2,     2.25,2,    0.999,2,    0.468,2,    0.057,2,   0.4530,2,   2259.2,3,   2355.6,2,   7.5918,2,    25.00,     -999,1,   0.1323,2,     -999,9,     -999,     -999,9,     -999,9,     -999,9,     -999,9,     -999,9,     -999,1,   0.0181,1,   4.5775,1,     13.6,2,     -999,9,20240304,2200, -66.6133,  76.6563,     -999,9,     -999,9,-999          ,9,-999          ,9,-999          ,9
325020240221  ,I08        ,6       ,  1,4          ,4          ,2,20240304,2142, -66.6133,  76.6563,     2386,   1892.4,   0.1035,  34.6724,2,  34.6714,2,    221.2,2,    221.3,2,   124.66,2,     0.02,2,    32.82,2,     0.00,2,     2.25,2,    1.028,2,    0.514,2,    0.059,2,   0.4870,2,   2260.7,3,   2356.9,2,   7.5917,2,    25.05,     -999,1,   0.1028,2,     -999,9,     -999,     -999,9,     -999,9,     -999,9,     -999,9,     -999,9,     -999,1,   0.0181,1,   4.5775,1,     13.4,2,     -999,9,20240304,2157, -66.6133,  76.6563,     -999,9,     -999,9,-999          ,9,-999          ,9,-999          ,9
325020240221  ,I08        ,6       ,  1,3          ,3          ,2,20240304,2142, -66.6133,  76.6563,     2386,   1994.5,   0.0809,  34.6713,2,  34.6708,2,    222.0,2,    222.4,2,   124.95,2,     0.00,2,    32.87,2,     0.00,2,     2.26,2,    1.056,2,    0.518,2,    0.058,2,   0.4280,2,   2258.7,3,   2355.1,6,   7.5914,6,    25.04,     -999,1,   0.0798,2,     -999,9,     -999,     -999,9,     -999,9,     -999,9,     -999,9,     -999,9,     -999,1,   0.0182,1,   4.5775,1,     13.4,2,     -999,9,20240304,2153, -66.6133,  76.6563,     -999,9,     -999,9,-999          ,9,-999          ,9,-999          ,9