BOTTLE,20240417CCHHYDRO
EXPOCODE,SECT_ID,STNNBR,CASTNO,SAMPNO,BTLNBR,BTLNBR_FLAG_W,DATE,TIME,LATITUDE,LONGITUDE,DEPTH,CTDPRS,CTDTMP,CTDSAL,CTDSAL_FLAG_W,SALNTY,SALNTY_FLAG_W,CTDOXY,CTDOXY_FLAG_W,OXYGEN,OXYGEN_FLAG_W,SILCAT,SILCAT_FLAG_W,NH4,NH4_FLAG_W,NITRAT,NITRAT_FLAG_W,NITRIT,NITRIT_FLAG_W,PHSPHT,PHSPHT_FLAG_W,CFC-11,CFC-11_FLAG_W,CFC-12,CFC-12_FLAG_W,CFC113,CFC113_FLAG_W,SF6,SF6_FLAG_W,TCARBN,TCARBN_FLAG_W,ALKALI,ALKALI_FLAG_W,PH_TOT,PH_TOT_FLAG_W,PH_TMP,DOC,DOC_FLAG_W,REFTMP,REFTMP_FLAG_W,DELC14,DELC14_FLAG_W,C14ERR,POC,POC_FLAG_W,PON,PON_FLAG_W,POP,POP_FLAG_W,PCOD,PCOD_FLAG_W,DOP,DOP_FLAG_W,TDN,TDN_FLAG_W,CTDFLUOR,CTDFLUOR_FLAG_W,CTDXMISS,CTDXMISS_FLAG_W,N2O,N2O_FLAG_W,ARGON,ARGON_FLAG_W,BTL_DATE,BTL_TIME,BTL_LAT,BTL_LON,KRYPTON,KRYPTON_FLAG_W,XENON,XENON_FLAG_W,HPLC,HPLC_FLAG_W,DNA,DNA_FLAG_W,FCM,FCM_FLAG_W
,,,,,,,,,,,METERS,DBAR,ITS-90,PSS-78,,PSS-78,,UMOL/KG,,UMOL/KG,,UMOL/KG,,UMOL/KG,,UMOL/KG,,UMOL/KG,,UMOL/KG,,PMOL/KG,,PMOL/KG,,PMOL/KG,,FMOL/KG,,UMOL/KG,,UMOL/KG,,,,DEG C,UMOL/KG,,ITS-90,,/MILLE,,/MILLE,UG/KG,,UG/KG,,UG/L,,UG/L,,UMOL/KG,,UMOL/KG,,VOLTS,,VOLTS,,NMOL/KG,,UMOL/L,,,,,,NMOL/L,,NMOL/L,,,,,,,
325020240221  ,I08        ,63      ,  1,5          ,5          ,2,20240327,1058, -30.1193,  95.0036,     2051,   1478.3,   3.1338,  34.6205,2,  34.6209,2,    145.1,2,    146.3,2,    86.97,2,     0.00,2,    34.70,2,     0.00,2,     2.44,2,    0.113,2,    0.053,2,    0.003,4,   0.0120,2,   2274.8,3,   2356.8,6,   7.5578,2,    24.98,     -999,9,   3.1341,2,     -999,9,     -999,     -999,9,     -999,9,     -999,9,     -999,9,     -999,9,     -999,9,   0.0187,1,   4.6393,1,     33.1,2,     -999,9,20240327,1117, -30.1160,  95.0016,     -999,9,     -999,9,-999          ,9,-999          ,9,-999          ,9
325020240221  ,I08        ,63      ,  1,4          ,4          ,2,20240327,1058, -30.1193,  95.0036,     2051,   1580.8,   2.9324,  34.6497,2,  34.6512,2,    148.1,2,    148.3,2,    91.06,2,     0.02,2,    34.47,2,     0.00,2,     2.42,2,    0.070,2,    0.032,2,    0.004,4,   0.0000,2,   2278.0,3,   2362.3,2,   7.5647,2,    24.98,     -999,9,   2.9309,2,     -999,9,     -999,     -999,9,     -999,9,     -999,9,     -999,9,     -999,9,     -999,9,   0.0186,1,   4.6373,1,     33.2,2,     -999,9,20240327,1113, -30.1160,  95.0016,     -999,9,     -999,9,-999          ,9,-999          ,9,-999          ,9
325020240221  ,I08        ,63      ,  1,3          ,3          ,2,20240327,1058, -30.1193,  95.0036,     2051,   1681.7,   2.7663,  34.6711,2,  34.6710,2,    151.4,2,    151.7,2,    94.09,2,     0.00,2,    34.22,2,     0.00,2,     2.41,2,    0.051,2,    0.026,2,    0.006,4,   0.0000,2,   2278.5,3,   2365.1,2,   7.5701,2,    24.98,     -999,9,   2.7669,2,     -999,9,     -999,     -999,9,     -999,9,     -999,9,     -999,9,     -999,9,     -999,9,   0.0184,1,   4.6349,1,     33.4,2,     -999,9,20240327,1110, -30.1159,  95.0016,     -999,9,     -999,9,-999          ,9,-999          ,9,-999          ,9
325020240221  ,I08        ,63      ,  1,2          ,2          ,2,20240327,1058, -30.1193,  95.0036,     2051,   1846.3,   2.5488,  34.6961,2,  34.6987,2,    156.0,2,    156.0,2,    98.77,2,     0.00,2,    33.87,2,     0.00,2,     2.37,2,    0.038,2,    0.020,2,    0.008,4,   0.0000,2,   2278.7,3,   2370.8,2,   7.5776,2,    24.97,     -999,9,   2.5560,2,     -999,9,     -999,     -999,9,     -999,9,     -999,9,     -999,9,     -999,9,     -999,9,   0.0183,1,   4.6325,1,     33.3,2,     -999,9,20240327,1105, -30.1159,  95.0016,     -999,9,     -999,9,-999          ,9,-999          ,9,-999          ,9
325020240221  ,I08        ,63      ,  1,1          ,1          ,2,20240327,1058, -30.1193,  95.0036,     2051,   2066.3,   2.3666,  34.7110,2,  34.7097,2,    160.7,2,    160.7,2,   102.58,2,     0.02,2,    33.58,2,     0.00,2,     2.33,2,    0.028,2,    0.016,2,    0.013,4,   0.0000,2,   2281.8,3,   2376.9,2,   7.5845,2,    24.98,     -999,9,   2.3662,2,     -999,9,     -999,     -999,9,     -999,9,     -999,9,     -999,9,     -999,9,     -999,9,   0.0183,1,   4.6334,1,     23.0,2,     -999,9,20240327,1058, -30.1160,  95.0017,     -999,9,     -999,9,-999          ,9,-999          ,9,-999          ,9