BOTTLE,20240417CCHHYDRO
EXPOCODE,SECT_ID,STNNBR,CASTNO,SAMPNO,BTLNBR,BTLNBR_FLAG_W,DATE,TIME,LATITUDE,LONGITUDE,DEPTH,CTDPRS,CTDTMP,CTDSAL,CTDSAL_FLAG_W,SALNTY,SALNTY_FLAG_W,CTDOXY,CTDOXY_FLAG_W,OXYGEN,OXYGEN_FLAG_W,SILCAT,SILCAT_FLAG_W,NH4,NH4_FLAG_W,NITRAT,NITRAT_FLAG_W,NITRIT,NITRIT_FLAG_W,PHSPHT,PHSPHT_FLAG_W,CFC-11,CFC-11_FLAG_W,CFC-12,CFC-12_FLAG_W,CFC113,CFC113_FLAG_W,SF6,SF6_FLAG_W,TCARBN,TCARBN_FLAG_W,ALKALI,ALKALI_FLAG_W,PH_TOT,PH_TOT_FLAG_W,PH_TMP,DOC,DOC_FLAG_W,REFTMP,REFTMP_FLAG_W,DELC14,DELC14_FLAG_W,C14ERR,POC,POC_FLAG_W,PON,PON_FLAG_W,POP,POP_FLAG_W,PCOD,PCOD_FLAG_W,DOP,DOP_FLAG_W,TDN,TDN_FLAG_W,CTDFLUOR,CTDFLUOR_FLAG_W,CTDXMISS,CTDXMISS_FLAG_W,N2O,N2O_FLAG_W,ARGON,ARGON_FLAG_W,BTL_DATE,BTL_TIME,BTL_LAT,BTL_LON,KRYPTON,KRYPTON_FLAG_W,XENON,XENON_FLAG_W,HPLC,HPLC_FLAG_W,DNA,DNA_FLAG_W,FCM,FCM_FLAG_W
,,,,,,,,,,,METERS,DBAR,ITS-90,PSS-78,,PSS-78,,UMOL/KG,,UMOL/KG,,UMOL/KG,,UMOL/KG,,UMOL/KG,,UMOL/KG,,UMOL/KG,,PMOL/KG,,PMOL/KG,,PMOL/KG,,FMOL/KG,,UMOL/KG,,UMOL/KG,,,,DEG C,UMOL/KG,,ITS-90,,/MILLE,,/MILLE,UG/KG,,UG/KG,,UG/L,,UG/L,,UMOL/KG,,UMOL/KG,,VOLTS,,VOLTS,,NMOL/KG,,UMOL/L,,,,,,NMOL/L,,NMOL/L,,,,,,,
325020240221  ,I08        ,47      ,  1,36         ,36         ,2,20240321,2207, -42.5114,  95.0102,     3398,      5.0,  13.7343,  34.4042,2,  34.4016,2,    262.6,2,    261.9,2,     0.98,2,     0.12,2,     7.16,2,     0.13,2,     0.66,2,    2.775,2,    1.556,2,    0.313,4,   2.7040,2,   2086.5,3,   2289.3,2,   7.8788,2,    25.00,     -999,1,  13.7346,2,     -999,9,     -999,     -999,9,     -999,9,     -999,9,     -999,9,     -999,9,     -999,1,   0.0647,1,   4.4771,1,      9.1,2,     -999,9,20240321,2355, -42.5114,  95.0102,     -999,9,     -999,9,-999          ,9,-999          ,9,-999          ,9
325020240221  ,I08        ,47      ,  1,35         ,35         ,2,20240321,2207, -42.5114,  95.0102,     3398,     34.1,  13.7376,  34.4037,2,  34.4016,2,    262.7,2,    262.0,2,     0.98,2,     0.12,2,     7.16,2,     0.13,2,     0.63,2,    2.943,2,    1.601,2,    0.314,4,   2.6960,2,   2086.0,3,   2288.9,2,   7.8785,6,    25.00,     -999,9,  13.7368,2,     -999,9,     -999,     -999,9,     -999,9,     -999,9,     -999,9,     -999,9,     -999,9,   0.0699,1,   4.4806,1,      9.2,2,     -999,9,20240321,2352, -42.5114,  95.0101,     -999,9,     -999,9,-999          ,9,-999          ,9,-999          ,9
325020240221  ,I08        ,47      ,  1,34         ,34         ,2,20240321,2207, -42.5114,  95.0102,     3398,     59.4,  13.4939,  34.4761,2,  34.5252,3,    260.3,2,    259.1,2,     1.27,2,     0.32,2,     6.73,2,     0.21,2,     0.65,2,    2.885,2,    1.621,2,    0.314,4,   2.6760,2,   2090.7,3,   2293.5,2,   7.8718,2,    25.00,     -999,9,  13.4727,2,     -999,9,     -999,     -999,9,     -999,9,     -999,9,     -999,9,     -999,9,     -999,9,   0.0637,1,   4.5510,1,      9.7,2,     -999,9,20240321,2350, -42.5114,  95.0102,     -999,9,     -999,9,-999          ,9,-999          ,9,-999          ,9
325020240221  ,I08        ,47      ,  1,33         ,33         ,2,20240321,2207, -42.5114,  95.0102,     3398,     84.6,  12.6005,  35.0132,2,  34.9984,2,    248.9,2,    250.0,2,     2.73,2,     0.04,2,     6.91,2,     0.45,2,     0.63,2,     -999,9,     -999,9,     -999,9,     -999,9,   2116.0,3,   2309.0,2,   7.8380,2,    25.00,     -999,9,  12.6041,2,     -999,9,     -999,     -999,9,     -999,9,     -999,9,     -999,9,     -999,9,     -999,9,   0.0466,1,   4.6141,1,     -999,9,     -999,9,20240321,2348, -42.5113,  95.0102,     -999,9,     -999,9,-999          ,9,-999          ,9,-999          ,9
325020240221  ,I08        ,47      ,  1,32         ,32         ,2,20240321,2207, -42.5114,  95.0102,     3398,    110.0,  12.0655,  34.9789,2,  34.9762,2,    248.6,2,    249.2,2,     2.93,2,     0.02,2,     8.50,2,     0.04,2,     0.68,2,    3.006,2,    1.693,2,    0.318,4,   2.5480,2,   2113.3,3,   2306.2,2,   7.8256,6,    25.00,     -999,9,  12.0691,2,     -999,9,     -999,     -999,9,     -999,9,     -999,9,     -999,9,     -999,9,     -999,9,   0.0290,1,   4.6603,1,     10.2,2,     -999,9,20240321,2347, -42.5113,  95.0102,     -999,9,     -999,9,-999          ,9,-999          ,9,-999          ,9
325020240221  ,I08        ,47      ,  1,31         ,31         ,2,20240321,2207, -42.5114,  95.0102,     3398,    136.1,  11.8524,  34.9736,2,  34.9717,2,    249.0,2,    249.2,2,     3.03,2,     0.02,2,     8.58,2,     0.03,2,     0.69,2,    3.131,2,    1.717,2,    0.273,4,   2.5440,2,   2119.8,3,   2307.4,6,   7.8223,2,    24.99,     -999,9,  11.8536,2,     -999,9,     -999,     -999,9,     -999,9,     -999,9,     -999,9,     -999,9,     -999,9,   0.0195,1,   4.6757,1,     10.5,2,     -999,9,20240321,2345, -42.5113,  95.0102,     -999,9,     -999,9,-999          ,9,-999          ,9,-999          ,9
325020240221  ,I08        ,47      ,  1,30         ,30         ,2,20240321,2207, -42.5114,  95.0102,     3398,    160.7,  11.8055,  34.9772,2,  34.9750,2,    248.1,2,    248.3,2,     3.32,2,     0.00,2,     9.17,2,     0.00,2,     0.70,2,    2.958,2,    1.665,2,    0.269,4,   2.5320,2,     -999,9,     -999,9,     -999,9,     -999,     -999,9,  11.8060,2,     -999,9,     -999,     -999,9,     -999,9,     -999,9,     -999,9,     -999,9,     -999,9,   0.0188,1,   4.6782,1,     10.7,2,     -999,9,20240321,2343, -42.5113,  95.0102,     -999,9,     -999,9,-999          ,9,-999          ,9,-999          ,9
325020240221  ,I08        ,47      ,  1,29         ,29         ,2,20240321,2207, -42.5114,  95.0102,     3398,    187.0,  11.7129,  34.9661,2,  34.9644,2,    248.6,2,    249.0,2,     3.51,2,     0.02,2,     9.63,2,     0.00,2,     0.75,2,     -999,9,     -999,9,     -999,9,     -999,9,   2118.1,3,   2305.5,2,   7.8201,2,    25.00,     -999,9,  11.7143,2,     -999,9,     -999,     -999,9,     -999,9,     -999,9,     -999,9,     -999,9,     -999,9,   0.0176,1,   4.6800,1,     -999,9,     -999,9,20240321,2341, -42.5113,  95.0102,     -999,9,     -999,9,-999          ,9,-999          ,9,-999          ,9
325020240221  ,I08        ,47      ,  1,28         ,28         ,2,20240321,2207, -42.5114,  95.0102,     3398,    215.6,  11.5185,  34.9318,2,  34.9298,2,    251.9,2,    253.0,2,     3.51,2,     0.00,2,     9.66,2,     0.00,2,     0.75,2,    2.999,2,    1.699,2,    0.262,4,   2.4800,2,   2116.9,3,   2304.2,2,   7.8204,2,    25.02,     -999,9,  11.5201,2,     -999,9,     -999,     -999,9,     -999,9,     -999,9,     -999,9,     -999,9,     -999,9,   0.0171,1,   4.6807,1,     10.7,2,     -999,9,20240321,2340, -42.5113,  95.0102,     -999,9,     -999,9,-999          ,9,-999          ,9,-999          ,9
325020240221  ,I08        ,47      ,  1,27         ,27         ,2,20240321,2207, -42.5114,  95.0102,     3398,    265.9,  11.4606,  34.9441,2,  34.9420,2,    248.5,2,    249.3,2,     3.51,2,     0.00,2,    10.04,2,     0.00,2,     0.76,2,     -999,9,     -999,9,     -999,9,     -999,9,   2121.0,3,   2305.7,2,   7.8138,2,    25.05,     -999,9,  11.4601,2,     -999,9,     -999,     -999,9,     -999,9,     -999,9,     -999,9,     -999,9,     -999,9,   0.0171,1,   4.6814,1,     -999,9,     -999,9,20240321,2338, -42.5113,  95.0102,     -999,9,     -999,9,-999          ,9,-999          ,9,-999          ,9
325020240221  ,I08        ,47      ,  1,26         ,26         ,2,20240321,2207, -42.5114,  95.0102,     3398,    317.1,  11.4134,  34.9593,2,  34.9575,2,    245.5,2,    245.4,2,     4.00,2,     0.00,2,    10.80,2,     0.00,2,     0.81,2,    3.121,2,    1.746,2,    0.213,4,   2.3420,2,     -999,9,     -999,9,     -999,9,     -999,     -999,9,  11.4143,2,     -999,9,     -999,     -999,9,     -999,9,     -999,9,     -999,9,     -999,9,     -999,9,   0.0173,1,   4.6813,1,     11.0,2,     -999,9,20240321,2335, -42.5113,  95.0102,     -999,9,     -999,9,-999          ,9,-999          ,9,-999          ,9
325020240221  ,I08        ,47      ,  1,25         ,25         ,2,20240321,2207, -42.5114,  95.0102,     3398,    368.1,  11.2055,  34.9277,2,  34.9266,2,    244.1,2,    243.5,2,     4.10,2,     0.00,2,    11.41,2,     0.00,2,     0.86,2,     -999,9,     -999,9,     -999,9,     -999,9,   2128.2,3,   2303.4,2,   7.8001,2,    25.05,     -999,9,  11.2054,2,     -999,9,     -999,     -999,9,     -999,9,     -999,9,     -999,9,     -999,9,     -999,9,   0.0179,1,   4.6815,1,     -999,9,     -999,9,20240321,2333, -42.5114,  95.0102,     -999,9,     -999,9,-999          ,9,-999          ,9,-999          ,9
325020240221  ,I08        ,47      ,  1,24         ,24         ,2,20240321,2207, -42.5114,  95.0102,     3398,    418.4,  11.0155,  34.8984,2,  34.8963,2,    245.8,2,    246.2,2,     4.00,2,     0.00,2,    11.57,2,     0.00,2,     0.88,2,    3.053,6,    1.743,6,    0.216,4,   2.2735,6,     -999,9,     -999,9,     -999,9,     -999,     -999,9,  11.0157,2,     -999,9,     -999,     -999,9,     -999,9,     -999,9,     -999,9,     -999,9,     -999,9,   0.0176,1,   4.6824,1,     11.2,6,     -999,9,20240321,2330, -42.5113,  95.0102,     -999,9,     -999,9,-999          ,9,-999          ,9,-999          ,9
325020240221  ,I08        ,47      ,  1,23         ,37         ,2,20240321,2207, -42.5114,  95.0102,     3398,    469.3,  10.6857,  34.8442,2,  34.8991,3,    243.4,2,    245.3,2,     4.29,2,     0.00,2,    12.49,2,     0.00,2,     0.94,2,     -999,9,     -999,9,     -999,9,     -999,9,   2128.9,3,   2299.4,2,   7.7873,6,    25.03,     -999,9,  10.6889,2,     -999,9,     -999,     -999,9,     -999,9,     -999,9,     -999,9,     -999,9,     -999,9,   0.0180,1,   4.6825,1,     -999,9,     -999,9,20240321,2328, -42.5113,  95.0102,     -999,9,     -999,9,-999          ,9,-999          ,9,-999          ,9
325020240221  ,I08        ,47      ,  1,22         ,22         ,2,20240321,2207, -42.5114,  95.0102,     3398,    540.8,  10.1377,  34.7637,2,  34.7642,2,    236.8,2,    236.7,2,     5.17,2,     0.02,2,    14.59,2,     0.00,2,     1.06,2,    3.116,2,    1.841,2,    0.230,4,   2.1450,2,     -999,9,     -999,9,     -999,9,     -999,     -999,9,  10.1401,2,     -999,9,     -999,     -999,9,     -999,9,     -999,9,     -999,9,     -999,9,     -999,9,   0.0183,1,   4.6838,1,      7.4,4,     -999,9,20240321,2325, -42.5113,  95.0102,     -999,9,     -999,9,-999          ,9,-999          ,9,-999          ,9
325020240221  ,I08        ,47      ,  1,21         ,21         ,2,20240321,2207, -42.5114,  95.0102,     3398,    639.7,   9.2828,  34.6656,2,  34.6651,2,    224.1,2,    223.9,2,     7.32,2,     0.02,2,    17.98,2,     0.00,2,     1.27,2,    2.991,2,    1.881,2,    0.188,4,   1.7080,2,   2149.0,3,   2295.5,2,   7.7315,2,    25.02,     -999,9,   9.2827,2,     -999,9,     -999,     -999,9,     -999,9,     -999,9,     -999,9,     -999,9,     -999,9,   0.0176,1,   4.6850,1,     14.7,2,     -999,9,20240321,2322, -42.5114,  95.0102,     -999,9,     -999,9,-999          ,9,-999          ,9,-999          ,9
325020240221  ,I08        ,47      ,  1,20         ,20         ,2,20240321,2207, -42.5114,  95.0102,     3398,    742.2,   8.1480,  34.5485,2,  34.5482,2,    212.9,2,    212.9,2,    11.52,2,     0.00,2,    21.77,2,     0.00,2,     1.52,2,    3.066,2,    1.772,2,    0.205,4,   1.3880,2,     -999,9,     -999,9,     -999,9,     -999,     -999,9,   8.1508,2,     -999,9,     -999,     -999,9,     -999,9,     -999,9,     -999,9,     -999,9,     -999,9,   0.0176,1,   4.6861,1,     16.6,2,     -999,9,20240321,2319, -42.5114,  95.0102,     -999,9,     -999,9,-999          ,9,-999          ,9,-999          ,9
325020240221  ,I08        ,47      ,  1,19         ,19         ,2,20240321,2207, -42.5114,  95.0102,     3398,    842.6,   6.6781,  34.4141,2,  34.4153,2,    214.9,2,    215.5,2,    16.60,2,     0.00,2,    25.14,2,     0.00,2,     1.75,2,     -999,9,     -999,9,     -999,9,     -999,9,   2176.9,3,   2288.0,2,   7.6573,2,    25.02,     -999,9,   6.6811,2,     -999,9,     -999,     -999,9,     -999,9,     -999,9,     -999,9,     -999,9,     -999,9,   0.0183,1,   4.6826,1,     -999,9,     -999,9,20240321,2316, -42.5113,  95.0101,     -999,9,     -999,9,-999          ,9,-999          ,9,-999          ,9
325020240221  ,I08        ,47      ,  1,18         ,18         ,2,20240321,2207, -42.5114,  95.0102,     3398,    944.7,   5.5146,  34.3401,2,  34.3399,2,    215.6,2,    215.6,2,    21.97,2,     0.00,2,    27.79,2,     0.00,2,     1.91,2,    3.044,2,    1.692,2,    0.237,4,   1.1770,2,   2185.4,3,   2288.7,2,   7.6334,2,    25.02,     -999,9,   5.5167,2,     -999,9,     -999,     -999,9,     -999,9,     -999,9,     -999,9,     -999,9,     -999,9,   0.0183,1,   4.6859,1,     18.8,2,     -999,9,20240321,2313, -42.5114,  95.0102,     -999,9,     -999,9,-999          ,9,-999          ,9,-999          ,9
325020240221  ,I08        ,47      ,  1,17         ,17         ,4,20240321,2207, -42.5114,  95.0102,     3398,   1045.1,   4.7063,  34.3098,3,     -999,9,    215.9,3,     -999,9,     -999,9,     -999,9,     -999,9,     -999,9,     -999,9,     -999,9,     -999,9,     -999,9,     -999,9,     -999,9,     -999,9,     -999,9,     -999,     -999,9,   4.7034,3,     -999,9,     -999,     -999,9,     -999,9,     -999,9,     -999,9,     -999,9,     -999,9,   0.0183,1,   4.6825,1,     -999,9,     -999,9,20240321,2310, -42.5113,  95.0102,     -999,9,     -999,9,-999          ,9,-999          ,9,-999          ,9
325020240221  ,I08        ,47      ,  1,16         ,16         ,2,20240321,2207, -42.5114,  95.0102,     3398,   1146.7,   4.1968,  34.3290,2,  34.3301,2,    205.8,2,    205.5,2,    35.45,2,     0.00,2,    31.06,2,     0.00,2,     2.15,2,    2.257,2,    1.325,2,    0.196,4,   0.7950,2,     -999,9,     -999,9,     -999,9,     -999,     -999,9,   4.1986,2,     -999,9,     -999,     -999,9,     -999,9,     -999,9,     -999,9,     -999,9,     -999,9,   0.0183,1,   4.6742,1,     21.7,2,     -999,9,20240321,2306, -42.5114,  95.0102,     -999,9,     -999,9,-999          ,9,-999          ,9,-999          ,9
325020240221  ,I08        ,47      ,  1,15         ,15         ,2,20240321,2207, -42.5114,  95.0102,     3398,   1247.9,   3.7622,  34.3666,2,  34.3668,2,    194.6,2,    194.4,2,    44.13,2,     0.00,2,    32.32,2,     0.00,2,     2.24,2,    1.835,2,    1.013,2,    0.142,4,   0.6270,2,   2216.5,3,   2307.5,2,   7.5854,2,    25.02,     -999,9,   3.7603,2,     -999,9,     -999,     -999,9,     -999,9,     -999,9,     -999,9,     -999,9,     -999,9,   0.0183,1,   4.6690,1,     22.3,2,     -999,9,20240321,2304, -42.5113,  95.0102,     -999,9,     -999,9,-999          ,9,-999          ,9,-999          ,9
325020240221  ,I08        ,47      ,  1,14         ,14         ,2,20240321,2207, -42.5114,  95.0102,     3398,   1348.5,   3.4313,  34.4121,2,  34.4124,2,    185.0,2,    184.6,2,    52.24,2,     0.00,2,    33.22,2,     0.00,2,     2.29,2,    1.435,2,    0.796,2,    0.102,4,   0.4290,2,     -999,9,     -999,9,     -999,9,     -999,     -999,9,   3.4311,2,     -999,9,     -999,     -999,9,     -999,9,     -999,9,     -999,9,     -999,9,     -999,9,   0.0183,1,   4.6642,1,     22.7,2,     -999,9,20240321,2301, -42.5113,  95.0101,     -999,9,     -999,9,-999          ,9,-999          ,9,-999          ,9
325020240221  ,I08        ,47      ,  1,13         ,13         ,2,20240321,2207, -42.5114,  95.0102,     3398,   1449.3,   3.1846,  34.4652,2,  34.4655,2,    177.1,2,    176.9,2,    59.07,2,     0.00,2,    33.57,2,     0.00,2,     2.33,2,     -999,9,     -999,9,     -999,9,     -999,9,   2243.0,3,   2320.9,2,   7.5644,2,    25.00,     -999,9,   3.1859,2,     -999,9,     -999,     -999,9,     -999,9,     -999,9,     -999,9,     -999,9,     -999,9,   0.0183,1,   4.6607,1,     -999,9,     -999,9,20240321,2257, -42.5113,  95.0102,     -999,9,     -999,9,-999          ,9,-999          ,9,-999          ,9
325020240221  ,I08        ,47      ,  1,12         ,12         ,2,20240321,2207, -42.5114,  95.0102,     3398,   1551.2,   2.9823,  34.5063,2,  34.5046,2,    174.9,2,    174.6,2,    63.56,2,     0.00,2,    33.58,2,     0.00,2,     2.34,2,    0.849,2,    0.488,2,    0.051,4,   0.2550,2,     -999,9,     -999,9,     -999,9,     -999,     -999,9,   2.9821,2,     -999,9,     -999,     -999,9,     -999,9,     -999,9,     -999,9,     -999,9,     -999,9,   0.0183,1,   4.6590,1,     23.1,2,     -999,9,20240321,2254, -42.5114,  95.0102,     -999,9,     -999,9,-999          ,9,-999          ,9,-999          ,9
325020240221  ,I08        ,47      ,  1,11         ,11         ,2,20240321,2207, -42.5114,  95.0102,     3398,   1653.1,   2.8560,  34.5579,2,  34.5569,2,    172.6,2,    173.0,2,    67.85,2,     0.00,2,    33.29,2,     0.00,2,     2.34,2,     -999,9,     -999,9,     -999,9,     -999,9,   2250.2,3,   2330.6,2,   7.5643,2,    25.00,     -999,9,   2.8575,2,     -999,9,     -999,     -999,9,     -999,9,     -999,9,     -999,9,     -999,9,     -999,9,   0.0183,1,   4.6569,1,     -999,9,     -999,9,20240321,2251, -42.5114,  95.0102,     -999,9,     -999,9,-999          ,9,-999          ,9,-999          ,9
325020240221  ,I08        ,47      ,  1,10         ,10         ,2,20240321,2207, -42.5114,  95.0102,     3398,   1755.2,   2.7583,  34.5951,2,  34.5961,2,    172.6,2,    172.8,2,    70.88,2,     0.02,2,    32.96,2,     0.00,2,     2.30,2,    0.481,2,    0.268,2,    0.022,4,   0.1600,2,   2252.1,3,   2334.7,2,   7.5678,6,    24.99,     -999,9,   2.7581,2,     -999,9,     -999,     -999,9,     -999,9,     -999,9,     -999,9,     -999,9,     -999,9,   0.0183,1,   4.6568,1,     23.2,2,     -999,9,20240321,2248, -42.5114,  95.0101,     -999,9,     -999,9,-999          ,9,-999          ,9,-999          ,9
325020240221  ,I08        ,47      ,  1,9          ,9          ,2,20240321,2207, -42.5114,  95.0102,     3398,   1886.8,   2.6295,  34.6387,2,  34.6382,2,    173.6,2,    173.8,2,    74.10,2,     0.02,2,    32.51,2,     0.00,2,     2.28,2,     -999,9,     -999,9,     -999,9,     -999,9,   2251.5,3,   2337.3,2,   7.5744,6,    25.00,     -999,9,   2.6293,2,     -999,9,     -999,     -999,9,     -999,9,     -999,9,     -999,9,     -999,9,     -999,9,   0.0183,1,   4.6545,1,     -999,9,     -999,9,20240321,2244, -42.5114,  95.0101,     -999,9,     -999,9,-999          ,9,-999          ,9,-999          ,9
325020240221  ,I08        ,47      ,  1,8          ,8          ,2,20240321,2207, -42.5114,  95.0102,     3398,   2090.5,   2.4708,  34.6960,2,  34.6960,2,    179.0,2,    179.3,2,    78.19,2,     0.02,2,    31.55,2,     0.00,2,     2.22,2,    0.197,2,    0.113,2,    0.013,4,   0.0500,2,     -999,9,     -999,9,     -999,9,     -999,     -999,9,   2.4713,2,     -999,9,     -999,     -999,9,     -999,9,     -999,9,     -999,9,     -999,9,     -999,9,   0.0183,1,   4.6530,1,     22.7,2,     -999,9,20240321,2240, -42.5113,  95.0102,     -999,9,     -999,9,-999          ,9,-999          ,9,-999          ,9
325020240221  ,I08        ,47      ,  1,7          ,7          ,2,20240321,2207, -42.5114,  95.0102,     3398,   2294.9,   2.3150,  34.7288,2,  34.7282,2,    187.3,2,    187.0,2,    79.46,2,     0.00,2,    30.64,2,     0.00,2,     2.17,2,     -999,9,     -999,9,     -999,9,     -999,9,   2241.1,3,   2344.1,6,   7.6037,2,    25.00,     -999,9,   2.3151,2,     -999,9,     -999,     -999,9,     -999,9,     -999,9,     -999,9,     -999,9,     -999,9,   0.0183,1,   4.6508,1,     -999,9,     -999,9,20240321,2235, -42.5113,  95.0102,     -999,9,     -999,9,-999          ,9,-999          ,9,-999          ,9
325020240221  ,I08        ,47      ,  1,6          ,6          ,2,20240321,2207, -42.5114,  95.0102,     3398,   2498.4,   2.1355,  34.7475,2,  34.7473,2,    193.1,2,    193.5,2,    83.75,2,     0.03,2,    30.16,2,     0.00,2,     2.12,2,    0.127,2,    0.076,2,    0.016,4,   0.0000,2,   2241.0,3,   2348.8,2,   7.6152,2,    25.00,     -999,9,   2.1360,2,     -999,9,     -999,     -999,9,     -999,9,     -999,9,     -999,9,     -999,9,     -999,9,   0.0181,1,   4.6483,1,     22.5,2,     -999,9,20240321,2230, -42.5114,  95.0101,     -999,9,     -999,9,-999          ,9,-999          ,9,-999          ,9