BOTTLE,20240417CCHHYDRO
EXPOCODE,SECT_ID,STNNBR,CASTNO,SAMPNO,BTLNBR,BTLNBR_FLAG_W,DATE,TIME,LATITUDE,LONGITUDE,DEPTH,CTDPRS,CTDTMP,CTDSAL,CTDSAL_FLAG_W,SALNTY,SALNTY_FLAG_W,CTDOXY,CTDOXY_FLAG_W,OXYGEN,OXYGEN_FLAG_W,SILCAT,SILCAT_FLAG_W,NH4,NH4_FLAG_W,NITRAT,NITRAT_FLAG_W,NITRIT,NITRIT_FLAG_W,PHSPHT,PHSPHT_FLAG_W,CFC-11,CFC-11_FLAG_W,CFC-12,CFC-12_FLAG_W,CFC113,CFC113_FLAG_W,SF6,SF6_FLAG_W,TCARBN,TCARBN_FLAG_W,ALKALI,ALKALI_FLAG_W,PH_TOT,PH_TOT_FLAG_W,PH_TMP,DOC,DOC_FLAG_W,REFTMP,REFTMP_FLAG_W,DELC14,DELC14_FLAG_W,C14ERR,POC,POC_FLAG_W,PON,PON_FLAG_W,POP,POP_FLAG_W,PCOD,PCOD_FLAG_W,DOP,DOP_FLAG_W,TDN,TDN_FLAG_W,CTDFLUOR,CTDFLUOR_FLAG_W,CTDXMISS,CTDXMISS_FLAG_W,N2O,N2O_FLAG_W,ARGON,ARGON_FLAG_W,BTL_DATE,BTL_TIME,BTL_LAT,BTL_LON,KRYPTON,KRYPTON_FLAG_W,XENON,XENON_FLAG_W,HPLC,HPLC_FLAG_W,DNA,DNA_FLAG_W,FCM,FCM_FLAG_W
,,,,,,,,,,,METERS,DBAR,ITS-90,PSS-78,,PSS-78,,UMOL/KG,,UMOL/KG,,UMOL/KG,,UMOL/KG,,UMOL/KG,,UMOL/KG,,UMOL/KG,,PMOL/KG,,PMOL/KG,,PMOL/KG,,FMOL/KG,,UMOL/KG,,UMOL/KG,,,,DEG C,UMOL/KG,,ITS-90,,/MILLE,,/MILLE,UG/KG,,UG/KG,,UG/L,,UG/L,,UMOL/KG,,UMOL/KG,,VOLTS,,VOLTS,,NMOL/KG,,UMOL/L,,,,,,NMOL/L,,NMOL/L,,,,,,,
325020240221  ,I08        ,45      ,  1,5          ,5          ,2,20240321,0943, -43.5086,  95.0055,     3180,   2365.2,   2.2524,  34.7440,2,  34.7421,2,    192.2,2,    192.2,2,    79.35,2,     0.01,2,    29.97,2,     0.00,2,     2.07,2,     -999,9,     -999,9,     -999,9,     -999,9,     -999,9,     -999,9,     -999,9,     -999,     -999,9,   2.2549,2,     -999,9,     -999,     -999,9,     -999,9,     -999,9,     -999,9,     -999,9,     -999,9,   0.0183,1,   4.6508,1,     -999,9,     -999,9,20240321,1005, -43.5086,  95.0056,     -999,9,     -999,9,-999          ,9,-999          ,9,-999          ,9
325020240221  ,I08        ,45      ,  1,4          ,4          ,2,20240321,0943, -43.5086,  95.0055,     3180,   2568.4,   2.0024,  34.7488,2,  34.7478,2,    195.5,2,    195.8,2,    87.74,2,     0.00,2,    30.04,2,     0.00,2,     2.08,2,    0.104,2,    0.074,2,    0.011,4,   0.0040,2,   2247.3,3,   2353.1,2,   7.6185,2,    25.01,     -999,9,   2.0021,2,     -999,9,     -999,     -999,9,     -999,9,     -999,9,     -999,9,     -999,9,     -999,9,   0.0183,1,   4.6471,1,     16.4,2,     -999,9,20240321,1000, -43.5086,  95.0055,     -999,9,     -999,9,-999          ,9,-999          ,9,-999          ,9
325020240221  ,I08        ,45      ,  1,3          ,3          ,2,20240321,0943, -43.5086,  95.0055,     3180,   2773.1,   1.7760,  34.7454,2,  34.7441,2,    197.8,2,    197.8,2,    94.77,2,     0.01,2,    30.47,2,     0.00,2,     2.10,2,     -999,9,     -999,9,     -999,9,     -999,9,     -999,9,     -999,9,     -999,9,     -999,     -999,9,   1.7773,2,     -999,9,     -999,     -999,9,     -999,9,     -999,9,     -999,9,     -999,9,     -999,9,   0.0183,1,   4.6457,1,     -999,9,     -999,9,20240321,0955, -43.5086,  95.0055,     -999,9,     -999,9,-999          ,9,-999          ,9,-999          ,9
325020240221  ,I08        ,45      ,  1,2          ,2          ,2,20240321,0943, -43.5086,  95.0055,     3180,   2973.3,   1.6667,  34.7412,2,  34.7398,2,    198.7,2,    198.7,2,    98.77,2,     0.05,2,    30.75,2,     0.00,2,     2.11,2,    0.117,2,    0.079,2,    0.017,4,   0.0000,2,   2253.1,3,   2359.0,2,   7.6175,2,    25.01,     -999,9,   1.6666,2,     -999,9,     -999,     -999,9,     -999,9,     -999,9,     -999,9,     -999,9,     -999,9,   0.0183,1,   4.6456,1,     15.8,2,     -999,9,20240321,0950, -43.5086,  95.0055,     -999,9,     -999,9,-999          ,9,-999          ,9,-999          ,9
325020240221  ,I08        ,45      ,  1,1          ,1          ,2,20240321,0943, -43.5086,  95.0055,     3180,   3220.7,   1.6149,  34.7389,2,  34.7382,2,    199.6,2,    199.6,2,   101.21,2,     0.00,2,    30.95,2,     0.00,2,     2.14,2,    0.122,2,    0.081,2,    0.024,4,   0.0000,2,   2255.0,3,   2359.1,2,   7.6169,2,    24.98,     -999,9,   1.6151,2,     -999,9,     -999,     -999,9,     -999,9,     -999,9,     -999,9,     -999,9,     -999,9,   0.0183,1,   4.6471,1,      9.8,2,     -999,9,20240321,0943, -43.5086,  95.0055,     -999,9,     -999,9,-999          ,9,-999          ,9,-999          ,9