BOTTLE,20240417CCHHYDRO
EXPOCODE,SECT_ID,STNNBR,CASTNO,SAMPNO,BTLNBR,BTLNBR_FLAG_W,DATE,TIME,LATITUDE,LONGITUDE,DEPTH,CTDPRS,CTDTMP,CTDSAL,CTDSAL_FLAG_W,SALNTY,SALNTY_FLAG_W,CTDOXY,CTDOXY_FLAG_W,OXYGEN,OXYGEN_FLAG_W,SILCAT,SILCAT_FLAG_W,NH4,NH4_FLAG_W,NITRAT,NITRAT_FLAG_W,NITRIT,NITRIT_FLAG_W,PHSPHT,PHSPHT_FLAG_W,CFC-11,CFC-11_FLAG_W,CFC-12,CFC-12_FLAG_W,CFC113,CFC113_FLAG_W,SF6,SF6_FLAG_W,TCARBN,TCARBN_FLAG_W,ALKALI,ALKALI_FLAG_W,PH_TOT,PH_TOT_FLAG_W,PH_TMP,DOC,DOC_FLAG_W,REFTMP,REFTMP_FLAG_W,DELC14,DELC14_FLAG_W,C14ERR,POC,POC_FLAG_W,PON,PON_FLAG_W,POP,POP_FLAG_W,PCOD,PCOD_FLAG_W,DOP,DOP_FLAG_W,TDN,TDN_FLAG_W,CTDFLUOR,CTDFLUOR_FLAG_W,CTDXMISS,CTDXMISS_FLAG_W,N2O,N2O_FLAG_W,ARGON,ARGON_FLAG_W,BTL_DATE,BTL_TIME,BTL_LAT,BTL_LON,KRYPTON,KRYPTON_FLAG_W,XENON,XENON_FLAG_W,HPLC,HPLC_FLAG_W,DNA,DNA_FLAG_W,FCM,FCM_FLAG_W
,,,,,,,,,,,METERS,DBAR,ITS-90,PSS-78,,PSS-78,,UMOL/KG,,UMOL/KG,,UMOL/KG,,UMOL/KG,,UMOL/KG,,UMOL/KG,,UMOL/KG,,PMOL/KG,,PMOL/KG,,PMOL/KG,,FMOL/KG,,UMOL/KG,,UMOL/KG,,,,DEG C,UMOL/KG,,ITS-90,,/MILLE,,/MILLE,UG/KG,,UG/KG,,UG/L,,UG/L,,UMOL/KG,,UMOL/KG,,VOLTS,,VOLTS,,NMOL/KG,,UMOL/L,,,,,,NMOL/L,,NMOL/L,,,,,,,
325020240221  ,I08        ,64      ,  1,3          ,3          ,2,20240327,1701, -29.5162,  95.0057,     2632,   2224.3,   2.1060,  34.7227,2,  34.7227,2,    168.1,2,    168.1,2,   107.74,2,     0.00,2,    33.49,2,     0.00,2,     2.36,2,    0.025,2,    0.013,2,    0.009,4,   0.0000,2,   2281.2,3,   2377.0,6,   7.5945,2,    24.96,     -999,1,   2.1077,2,     -999,9,     -999,     -999,9,     -999,9,     -999,9,     -999,9,     -999,9,     -999,1,   0.0189,1,   4.6299,1,     20.3,2,     -999,9,20240327,1710, -29.5162,  95.0057,     -999,9,     -999,9,-999          ,9,-999          ,9,-999          ,9
325020240221  ,I08        ,64      ,  1,2          ,2          ,2,20240327,1701, -29.5162,  95.0057,     2632,   2437.9,   1.9021,  34.7274,2,  34.7266,2,    174.1,2,    174.2,2,   110.37,2,     0.00,2,    33.18,2,     0.00,2,     2.33,2,    0.036,2,    0.017,2,    0.016,4,   0.0000,2,   2275.5,3,   2379.2,2,   7.6010,2,    24.96,     -999,1,   1.9026,2,     -999,9,     -999,     -999,9,     -999,9,     -999,9,     -999,9,     -999,9,     -999,1,   0.0183,1,   4.6282,1,     19.5,2,     -999,9,20240327,1706, -29.5162,  95.0057,     -999,9,     -999,9,-999          ,9,-999          ,9,-999          ,9
325020240221  ,I08        ,64      ,  1,1          ,1          ,2,20240327,1701, -29.5162,  95.0057,     2632,   2658.2,   1.5521,  34.7277,2,  34.7266,2,    182.8,2,    183.2,2,   116.62,2,     0.00,2,    32.92,2,     0.00,2,     2.32,2,    0.027,2,    0.015,2,    0.031,4,   0.0000,2,   2279.7,3,   2382.8,2,   7.6093,2,    24.97,     -999,1,   1.5519,2,     -999,9,     -999,     -999,9,     -999,9,     -999,9,     -999,9,     -999,9,     -999,1,   0.0176,1,   4.6288,1,     10.7,2,     -999,9,20240327,1701, -29.5161,  95.0057,     -999,9,     -999,9,-999          ,9,-999          ,9,-999          ,9