BOTTLE,20240417CCHHYDRO
EXPOCODE,SECT_ID,STNNBR,CASTNO,SAMPNO,BTLNBR,BTLNBR_FLAG_W,DATE,TIME,LATITUDE,LONGITUDE,DEPTH,CTDPRS,CTDTMP,CTDSAL,CTDSAL_FLAG_W,SALNTY,SALNTY_FLAG_W,CTDOXY,CTDOXY_FLAG_W,OXYGEN,OXYGEN_FLAG_W,SILCAT,SILCAT_FLAG_W,NH4,NH4_FLAG_W,NITRAT,NITRAT_FLAG_W,NITRIT,NITRIT_FLAG_W,PHSPHT,PHSPHT_FLAG_W,CFC-11,CFC-11_FLAG_W,CFC-12,CFC-12_FLAG_W,CFC113,CFC113_FLAG_W,SF6,SF6_FLAG_W,TCARBN,TCARBN_FLAG_W,ALKALI,ALKALI_FLAG_W,PH_TOT,PH_TOT_FLAG_W,PH_TMP,DOC,DOC_FLAG_W,REFTMP,REFTMP_FLAG_W,DELC14,DELC14_FLAG_W,C14ERR,POC,POC_FLAG_W,PON,PON_FLAG_W,POP,POP_FLAG_W,PCOD,PCOD_FLAG_W,DOP,DOP_FLAG_W,TDN,TDN_FLAG_W,CTDFLUOR,CTDFLUOR_FLAG_W,CTDXMISS,CTDXMISS_FLAG_W,N2O,N2O_FLAG_W,ARGON,ARGON_FLAG_W,BTL_DATE,BTL_TIME,BTL_LAT,BTL_LON,KRYPTON,KRYPTON_FLAG_W,XENON,XENON_FLAG_W,HPLC,HPLC_FLAG_W,DNA,DNA_FLAG_W,FCM,FCM_FLAG_W
,,,,,,,,,,,METERS,DBAR,ITS-90,PSS-78,,PSS-78,,UMOL/KG,,UMOL/KG,,UMOL/KG,,UMOL/KG,,UMOL/KG,,UMOL/KG,,UMOL/KG,,PMOL/KG,,PMOL/KG,,PMOL/KG,,FMOL/KG,,UMOL/KG,,UMOL/KG,,,,DEG C,UMOL/KG,,ITS-90,,/MILLE,,/MILLE,UG/KG,,UG/KG,,UG/L,,UG/L,,UMOL/KG,,UMOL/KG,,VOLTS,,VOLTS,,NMOL/KG,,UMOL/L,,,,,,NMOL/L,,NMOL/L,,,,,,,
325020240221  ,I08        ,46      ,  1,36         ,36         ,2,20240321,1548, -43.0111,  95.0069,     3272,      2.6,  13.7655,  34.4218,2,  34.4177,2,    262.8,2,    261.6,2,     0.98,2,     0.13,2,     6.97,2,     0.12,2,     0.63,2,    2.632,6,    1.584,6,    0.372,4,   2.7415,6,   2087.9,3,   2289.9,2,   7.8804,2,    24.99,     -999,1,  13.7643,2,     -999,9,     -999,     -999,9,     -999,9,     -999,9,     -999,9,     -999,9,     -999,1,   0.0810,1,   4.4805,1,      8.7,6,     -999,9,20240321,1751, -43.0111,  95.0069,     -999,9,     -999,9,-999          ,9,-999          ,9,-999          ,9
325020240221  ,I08        ,46      ,  1,35         ,35         ,2,20240321,1548, -43.0111,  95.0069,     3272,     24.9,  13.7705,  34.4216,2,  34.4167,2,    262.7,2,    261.3,2,     0.98,2,     0.14,2,     6.96,2,     0.12,2,     0.63,2,    2.517,2,    1.575,2,    0.323,4,   2.5830,2,   2089.0,3,   2290.3,2,   7.8803,2,    24.99,     -999,1,  13.7702,2,     -999,9,     -999,     -999,9,     -999,9,     -999,9,     -999,9,     -999,9,     -999,1,   0.0770,1,   4.4804,1,      8.8,2,     -999,9,20240321,1748, -43.0111,  95.0069,     -999,9,     -999,9,-999          ,9,-999          ,9,-999          ,9
325020240221  ,I08        ,46      ,  1,34         ,34         ,2,20240321,1548, -43.0111,  95.0069,     3272,     49.4,  13.7138,  34.4096,2,  34.4061,2,    262.3,2,    261.5,2,     0.98,2,     0.15,2,     7.07,2,     0.12,2,     0.64,2,    2.719,2,    1.616,2,    0.307,4,   2.5820,2,   2095.9,3,   2286.5,2,   7.8786,2,    24.99,     -999,1,  13.7139,2,     -999,9,     -999,     -999,9,     -999,9,     -999,9,     -999,9,     -999,9,     -999,1,   0.0777,1,   4.4986,1,      9.3,2,     -999,9,20240321,1746, -43.0111,  95.0069,     -999,9,     -999,9,-999          ,9,-999          ,9,-999          ,9
325020240221  ,I08        ,46      ,  1,33         ,33         ,2,20240321,1548, -43.0111,  95.0069,     3272,     74.8,  12.5373,  34.8231,2,  34.8251,2,    254.4,2,    255.2,2,     2.44,2,     0.36,2,     6.80,2,     0.61,2,     0.67,2,     -999,9,     -999,9,     -999,9,     -999,9,   2116.5,3,   2303.1,2,   7.8485,6,    24.99,     -999,1,  12.5595,2,     -999,9,     -999,     -999,9,     -999,9,     -999,9,     -999,9,     -999,9,     -999,1,   0.0614,1,   4.5882,1,     -999,9,     -999,9,20240321,1744, -43.0111,  95.0068,     -999,9,     -999,9,-999          ,9,-999          ,9,-999          ,9
325020240221  ,I08        ,46      ,  1,32         ,32         ,2,20240321,1548, -43.0111,  95.0069,     3272,    100.6,  12.4100,  35.0263,2,  35.0193,2,    246.7,2,    246.1,2,     3.32,2,     0.00,2,     8.36,2,     0.03,2,     0.68,2,    3.916,4,    1.684,2,    0.329,4,   2.4240,2,   2125.1,3,   2308.6,6,   7.8330,2,    25.04,     -999,1,  12.4096,2,     -999,9,     -999,     -999,9,     -999,9,     -999,9,     -999,9,     -999,9,     -999,1,   0.0289,1,   4.6581,1,     19.1,4,     -999,9,20240321,1742, -43.0111,  95.0068,     -999,9,     -999,9,-999          ,9,-999          ,9,-999          ,9
325020240221  ,I08        ,46      ,  1,31         ,31         ,2,20240321,1548, -43.0111,  95.0069,     3272,    125.6,  12.3626,  35.0711,2,  35.0661,2,    245.5,2,    245.0,2,     3.61,2,     0.02,2,     8.63,2,     0.02,2,     0.70,2,    3.567,4,    1.812,4,   -0.003,4,   2.5270,4,     -999,9,     -999,9,     -999,9,     -999,     -999,1,  12.3633,2,     -999,9,     -999,     -999,9,     -999,9,     -999,9,     -999,9,     -999,9,     -999,1,   0.0205,1,   4.6739,1,     -0.3,4,     -999,9,20240321,1740, -43.0111,  95.0068,     -999,9,     -999,9,-999          ,9,-999          ,9,-999          ,9
325020240221  ,I08        ,46      ,  1,30         ,30         ,2,20240321,1548, -43.0111,  95.0069,     3272,    152.1,  12.2742,  35.0640,2,  35.0600,2,    245.8,2,    245.3,2,     3.71,2,     0.03,2,     8.87,2,     0.00,2,     0.71,2,    2.643,2,    1.613,2,    0.276,4,   2.5570,2,   2119.3,3,   2310.4,2,   7.8312,2,    25.03,     -999,1,  12.2751,2,     -999,9,     -999,     -999,9,     -999,9,     -999,9,     -999,9,     -999,9,     -999,1,   0.0195,1,   4.6785,1,      9.6,2,     -999,9,20240321,1738, -43.0111,  95.0068,     -999,9,     -999,9,-999          ,9,-999          ,9,-999          ,9
325020240221  ,I08        ,46      ,  1,29         ,29         ,2,20240321,1548, -43.0111,  95.0069,     3272,    175.3,  12.0595,  35.0275,2,  35.0240,2,    246.4,2,    246.0,2,     3.81,2,     0.02,2,     9.35,2,     0.00,2,     0.73,2,     -999,9,     -999,9,     -999,9,     -999,9,   2124.7,3,   2310.6,2,   7.8271,6,    24.99,     -999,1,  12.0609,2,     -999,9,     -999,     -999,9,     -999,9,     -999,9,     -999,9,     -999,9,     -999,1,   0.0181,1,   4.6800,1,     -999,9,     -999,9,20240321,1737, -43.0112,  95.0069,     -999,9,     -999,9,-999          ,9,-999          ,9,-999          ,9
325020240221  ,I08        ,46      ,  1,28         ,28         ,2,20240321,1548, -43.0111,  95.0069,     3272,    201.3,  11.9164,  35.0020,2,  34.9974,2,    246.2,2,    246.1,2,     3.81,2,     0.00,2,     9.70,2,     0.00,2,     0.75,2,    2.821,2,    1.754,2,    0.255,4,   2.3490,2,     -999,9,     -999,9,     -999,9,     -999,     -999,1,  11.9155,2,     -999,9,     -999,     -999,9,     -999,9,     -999,9,     -999,9,     -999,9,     -999,1,   0.0182,1,   4.6799,1,      9.9,2,     -999,9,20240321,1735, -43.0112,  95.0069,     -999,9,     -999,9,-999          ,9,-999          ,9,-999          ,9
325020240221  ,I08        ,46      ,  1,27         ,27         ,2,20240321,1548, -43.0111,  95.0069,     3272,    225.3,  11.7803,  34.9776,2,  34.9736,2,    246.3,2,    246.0,2,     3.90,2,     0.00,2,    10.04,2,     0.00,2,     0.77,2,     -999,9,     -999,9,     -999,9,     -999,9,   2127.4,3,   2307.2,2,   7.8206,2,    24.98,     -999,1,  11.7793,2,     -999,9,     -999,     -999,9,     -999,9,     -999,9,     -999,9,     -999,9,     -999,1,   0.0183,1,   4.6801,1,     -999,9,     -999,9,20240321,1733, -43.0111,  95.0069,     -999,9,     -999,9,-999          ,9,-999          ,9,-999          ,9
325020240221  ,I08        ,46      ,  1,26         ,26         ,2,20240321,1548, -43.0111,  95.0069,     3272,    251.9,  11.5552,  34.9386,2,  34.9351,2,    247.0,2,    247.1,2,     4.00,2,     0.00,2,    10.49,2,     0.00,2,     0.79,2,    2.770,2,    1.734,2,    0.241,4,   2.4500,2,   2131.8,3,   2306.1,2,   7.8159,2,    25.03,     -999,1,  11.5548,2,     -999,9,     -999,     -999,9,     -999,9,     -999,9,     -999,9,     -999,9,     -999,1,   0.0183,1,   4.6813,1,     10.2,2,     -999,9,20240321,1732, -43.0112,  95.0069,     -999,9,     -999,9,-999          ,9,-999          ,9,-999          ,9
325020240221  ,I08        ,46      ,  1,25         ,25         ,2,20240321,1548, -43.0111,  95.0069,     3272,    300.9,  11.4262,  34.9350,2,  34.9303,2,    244.6,2,    244.5,2,     4.20,2,     0.00,2,    11.05,2,     0.00,2,     0.81,2,     -999,9,     -999,9,     -999,9,     -999,9,   2129.3,3,   2303.7,2,   7.8098,2,    25.03,     -999,1,  11.4250,2,     -999,9,     -999,     -999,9,     -999,9,     -999,9,     -999,9,     -999,9,     -999,1,   0.0180,1,   4.6824,1,     -999,9,     -999,9,20240321,1728, -43.0111,  95.0069,     -999,9,     -999,9,-999          ,9,-999          ,9,-999          ,9
325020240221  ,I08        ,46      ,  1,24         ,24         ,2,20240321,1548, -43.0111,  95.0069,     3272,    352.6,  11.3769,  34.9438,2,  34.9394,2,    244.7,2,    244.8,2,     4.29,2,     0.00,2,    11.17,2,     0.00,2,     0.83,2,    2.966,2,    1.752,2,    0.212,4,   2.6110,2,     -999,9,     -999,9,     -999,9,     -999,     -999,1,  11.3768,2,     -999,9,     -999,     -999,9,     -999,9,     -999,9,     -999,9,     -999,9,     -999,1,   0.0183,1,   4.6811,1,     10.2,2,     -999,9,20240321,1726, -43.0112,  95.0069,     -999,9,     -999,9,-999          ,9,-999          ,9,-999          ,9
325020240221  ,I08        ,46      ,  1,23         ,37         ,2,20240321,1548, -43.0111,  95.0069,     3272,    403.3,  11.2231,  34.9211,2,  34.9199,2,    242.4,2,    243.2,2,     4.49,2,     0.00,2,    11.63,2,     0.00,2,     0.84,2,     -999,9,     -999,9,     -999,9,     -999,9,   2130.8,3,   2306.1,2,   7.8040,2,    25.02,     -999,1,  11.2273,2,     -999,9,     -999,     -999,9,     -999,9,     -999,9,     -999,9,     -999,9,     -999,1,   0.0181,1,   4.6813,1,     -999,9,     -999,9,20240321,1723, -43.0112,  95.0069,     -999,9,     -999,9,-999          ,9,-999          ,9,-999          ,9
325020240221  ,I08        ,46      ,  1,22         ,22         ,2,20240321,1548, -43.0111,  95.0069,     3272,    428.8,  11.0486,  34.8936,2,  34.8914,2,    238.3,2,    239.1,2,     4.78,2,     0.00,2,    12.41,2,     0.00,2,     0.91,2,    2.833,2,    1.824,2,    0.187,4,   2.3030,2,     -999,9,     -999,9,     -999,9,     -999,     -999,1,  11.0554,2,     -999,9,     -999,     -999,9,     -999,9,     -999,9,     -999,9,     -999,9,     -999,1,   0.0183,1,   4.6813,1,     10.7,2,     -999,9,20240321,1722, -43.0112,  95.0069,     -999,9,     -999,9,-999          ,9,-999          ,9,-999          ,9
325020240221  ,I08        ,46      ,  1,21         ,21         ,2,20240321,1548, -43.0111,  95.0069,     3272,    503.8,  10.1807,  34.7670,2,  34.7642,2,    224.6,2,    225.3,2,     6.34,2,     0.00,2,    15.70,2,     0.00,2,     1.13,2,    2.780,2,    1.841,2,    0.131,4,   1.9090,2,   2141.1,3,   2297.2,2,   7.7563,2,    24.99,     -999,1,  10.1787,2,     -999,9,     -999,     -999,9,     -999,9,     -999,9,     -999,9,     -999,9,     -999,1,   0.0183,1,   4.6807,1,      8.3,4,     -999,9,20240321,1719, -43.0112,  95.0068,     -999,9,     -999,9,-999          ,9,-999          ,9,-999          ,9
325020240221  ,I08        ,46      ,  1,20         ,20         ,2,20240321,1548, -43.0111,  95.0069,     3272,    605.3,   9.2825,  34.6667,2,  34.6647,2,    223.7,2,    224.8,2,     7.22,2,     0.00,2,    18.00,2,     0.00,2,     1.27,2,    3.214,2,    1.988,2,    0.182,4,   1.8710,2,     -999,9,     -999,9,     -999,9,     -999,     -999,1,   9.2821,2,     -999,9,     -999,     -999,9,     -999,9,     -999,9,     -999,9,     -999,9,     -999,1,   0.0172,1,   4.6857,1,     12.9,2,     -999,9,20240321,1715, -43.0112,  95.0068,     -999,9,     -999,9,-999          ,9,-999          ,9,-999          ,9
325020240221  ,I08        ,46      ,  1,19         ,19         ,2,20240321,1548, -43.0111,  95.0069,     3272,    705.6,   8.1697,  34.5589,2,  34.5576,2,    211.9,2,    212.4,2,    12.40,2,     0.00,2,    21.84,2,     0.00,2,     1.52,2,     -999,9,     -999,9,     -999,9,     -999,9,   2173.8,3,   2290.6,2,   7.6922,6,    24.98,     -999,1,   8.1690,2,     -999,9,     -999,     -999,9,     -999,9,     -999,9,     -999,9,     -999,9,     -999,1,   0.0178,1,   4.6838,1,     -999,9,     -999,9,20240321,1711, -43.0112,  95.0069,     -999,9,     -999,9,-999          ,9,-999          ,9,-999          ,9
325020240221  ,I08        ,46      ,  1,18         ,18         ,2,20240321,1548, -43.0111,  95.0069,     3272,    806.2,   6.7291,  34.4294,2,  34.4298,2,    209.4,2,    209.6,2,    17.38,2,     0.00,2,    25.63,2,     0.00,2,     1.77,2,    3.041,2,    1.703,2,    0.187,4,   1.3130,2,     -999,9,     -999,9,     -999,9,     -999,     -999,1,   6.7404,2,     -999,9,     -999,     -999,9,     -999,9,     -999,9,     -999,9,     -999,9,     -999,1,   0.0176,1,   4.6867,1,     14.7,2,     -999,9,20240321,1708, -43.0112,  95.0070,     -999,9,     -999,9,-999          ,9,-999          ,9,-999          ,9
325020240221  ,I08        ,46      ,  1,17         ,17         ,2,20240321,1548, -43.0111,  95.0069,     3272,    908.9,   5.4378,  34.3403,2,  34.3384,2,    215.2,2,    215.3,2,    23.04,2,     0.00,2,    28.24,2,     0.00,2,     1.94,2,     -999,9,     -999,9,     -999,9,     -999,9,   2190.3,3,   2289.6,2,   7.6314,2,    24.99,     -999,1,   5.4372,2,     -999,9,     -999,     -999,9,     -999,9,     -999,9,     -999,9,     -999,9,     -999,1,   0.0181,1,   4.6857,1,     -999,9,     -999,9,20240321,1704, -43.0111,  95.0069,     -999,9,     -999,9,-999          ,9,-999          ,9,-999          ,9
325020240221  ,I08        ,46      ,  1,16         ,16         ,2,20240321,1548, -43.0111,  95.0069,     3272,   1008.5,   4.6597,  34.3205,2,  34.3191,2,    213.5,2,    212.7,2,    29.49,2,     0.00,2,    29.99,2,     0.00,2,     2.06,2,    2.656,2,    1.522,2,    0.241,4,   1.1480,2,   2198.8,3,   2293.6,2,   7.6155,2,    25.04,     -999,1,   4.6596,2,     -999,9,     -999,     -999,9,     -999,9,     -999,9,     -999,9,     -999,9,     -999,1,   0.0183,1,   4.6824,1,     16.7,2,     -999,9,20240321,1701, -43.0112,  95.0069,     -999,9,     -999,9,-999          ,9,-999          ,9,-999          ,9
325020240221  ,I08        ,46      ,  1,15         ,15         ,2,20240321,1548, -43.0111,  95.0069,     3272,   1110.6,   4.0897,  34.3147,2,  34.3129,2,    210.7,2,    209.9,2,    35.25,2,     0.00,2,    31.34,2,     0.00,2,     2.15,2,    2.452,2,    1.391,2,    0.213,4,   1.0110,2,   2205.6,3,   2297.6,2,   7.6015,2,    25.03,     -999,1,   4.0902,2,     -999,9,     -999,     -999,9,     -999,9,     -999,9,     -999,9,     -999,9,     -999,1,   0.0179,1,   4.6752,1,     17.3,2,     -999,9,20240321,1657, -43.0111,  95.0069,     -999,9,     -999,9,-999          ,9,-999          ,9,-999          ,9
325020240221  ,I08        ,46      ,  1,14         ,14         ,2,20240321,1548, -43.0111,  95.0069,     3272,   1213.4,   3.7555,  34.3527,2,  34.3501,2,    200.1,2,    198.9,2,    42.57,2,     0.00,2,    32.51,2,     0.00,2,     2.22,2,    1.957,2,    1.145,2,    0.163,4,   0.7020,2,     -999,9,     -999,9,     -999,9,     -999,     -999,1,   3.7554,2,     -999,9,     -999,     -999,9,     -999,9,     -999,9,     -999,9,     -999,9,     -999,1,   0.0183,1,   4.6702,1,     18.1,2,     -999,9,20240321,1653, -43.0111,  95.0069,     -999,9,     -999,9,-999          ,9,-999          ,9,-999          ,9
325020240221  ,I08        ,46      ,  1,13         ,13         ,2,20240321,1548, -43.0111,  95.0069,     3272,   1313.7,   3.4863,  34.4044,2,  34.4018,2,    186.9,2,    186.4,2,    50.97,2,     0.00,2,    33.49,2,     0.00,2,     2.30,2,     -999,9,     -999,9,     -999,9,     -999,9,   2229.0,3,   2313.4,2,   7.5754,2,    24.98,     -999,1,   3.4864,2,     -999,9,     -999,     -999,9,     -999,9,     -999,9,     -999,9,     -999,9,     -999,1,   0.0183,1,   4.6657,1,     -999,9,     -999,9,20240321,1650, -43.0112,  95.0068,     -999,9,     -999,9,-999          ,9,-999          ,9,-999          ,9
325020240221  ,I08        ,46      ,  1,12         ,12         ,2,20240321,1548, -43.0111,  95.0069,     3272,   1414.8,   3.2175,  34.4520,2,  34.4514,2,    179.5,2,    179.6,2,    57.70,2,     0.00,2,    34.05,2,     0.00,2,     2.34,2,    1.083,2,    0.661,2,    0.071,4,   0.3830,2,   2237.7,3,   2319.1,2,   7.5656,2,    24.99,     -999,1,   3.2153,2,     -999,9,     -999,     -999,9,     -999,9,     -999,9,     -999,9,     -999,9,     -999,1,   0.0183,1,   4.6620,1,     19.1,2,     -999,9,20240321,1646, -43.0112,  95.0069,     -999,9,     -999,9,-999          ,9,-999          ,9,-999          ,9
325020240221  ,I08        ,46      ,  1,11         ,11         ,2,20240321,1548, -43.0111,  95.0069,     3272,   1515.6,   3.0385,  34.4994,2,  34.4970,2,    175.2,2,    174.9,2,    62.48,2,     0.02,2,    34.08,2,     0.00,2,     2.36,2,     -999,9,     -999,9,     -999,9,     -999,9,   2244.3,3,   2325.2,2,   7.5619,2,    25.01,     -999,1,   3.0382,2,     -999,9,     -999,     -999,9,     -999,9,     -999,9,     -999,9,     -999,9,     -999,1,   0.0183,1,   4.6595,1,     -999,9,     -999,9,20240321,1642, -43.0112,  95.0069,     -999,9,     -999,9,-999          ,9,-999          ,9,-999          ,9
325020240221  ,I08        ,46      ,  1,10         ,10         ,2,20240321,1548, -43.0111,  95.0069,     3272,   1619.2,   2.8505,  34.5511,2,  34.5480,2,    172.5,2,    172.4,2,    67.85,2,     0.03,2,    33.97,2,     0.00,2,     2.33,2,    0.608,2,    0.361,2,    0.041,4,   0.1030,2,     -999,9,     -999,9,     -999,9,     -999,     -999,1,   2.8525,2,     -999,9,     -999,     -999,9,     -999,9,     -999,9,     -999,9,     -999,9,     -999,1,   0.0183,1,   4.6580,1,     19.2,2,     -999,9,20240321,1639, -43.0112,  95.0070,     -999,9,     -999,9,-999          ,9,-999          ,9,-999          ,9
325020240221  ,I08        ,46      ,  1,9          ,9          ,2,20240321,1548, -43.0111,  95.0069,     3272,   1720.4,   2.7484,  34.5889,2,  34.5875,2,    169.4,2,    169.4,2,    71.85,2,     0.02,2,    33.80,2,     0.00,2,     2.33,2,     -999,9,     -999,9,     -999,9,     -999,9,   2255.7,3,   2335.5,2,   7.5646,6,    24.98,     -999,1,   2.7485,2,     -999,9,     -999,     -999,9,     -999,9,     -999,9,     -999,9,     -999,9,     -999,1,   0.0183,1,   4.6569,1,     -999,9,     -999,9,20240321,1635, -43.0112,  95.0070,     -999,9,     -999,9,-999          ,9,-999          ,9,-999          ,9
325020240221  ,I08        ,46      ,  1,8          ,8          ,2,20240321,1548, -43.0111,  95.0069,     3272,   1821.3,   2.6615,  34.6240,2,  34.6211,2,    170.7,2,    171.2,2,    74.78,2,     0.00,2,    33.36,2,     0.00,2,     2.32,2,    0.300,2,    0.191,2,    0.019,4,   0.1470,2,     -999,9,     -999,9,     -999,9,     -999,     -999,1,   2.6616,2,     -999,9,     -999,     -999,9,     -999,9,     -999,9,     -999,9,     -999,9,     -999,1,   0.0183,1,   4.6557,1,     18.5,2,     -999,9,20240321,1631, -43.0112,  95.0070,     -999,9,     -999,9,-999          ,9,-999          ,9,-999          ,9
325020240221  ,I08        ,46      ,  1,7          ,7          ,2,20240321,1548, -43.0111,  95.0069,     3272,   2025.5,   2.5117,  34.6832,2,  34.6796,3,    176.6,2,    176.8,2,    77.80,2,     0.00,2,    32.27,2,     0.00,2,     2.25,2,     -999,9,     -999,9,     -999,9,     -999,9,   2254.0,3,   2344.4,2,   7.5856,2,    24.99,     -999,1,   2.5123,2,     -999,9,     -999,     -999,9,     -999,9,     -999,9,     -999,9,     -999,9,     -999,1,   0.0183,1,   4.6542,1,     -999,9,     -999,9,20240321,1625, -43.0112,  95.0069,     -999,9,     -999,9,-999          ,9,-999          ,9,-999          ,9
325020240221  ,I08        ,46      ,  1,6          ,6          ,2,20240321,1548, -43.0111,  95.0069,     3272,   2229.3,   2.3523,  34.7241,2,  34.7229,2,    186.0,2,    186.3,2,    79.07,2,     0.00,2,    31.04,2,     0.00,2,     2.16,2,    0.151,2,    0.100,2,    0.013,4,   0.0010,2,   2248.6,3,   2346.0,2,   7.6026,6,    25.00,     -999,1,   2.3523,2,     -999,9,     -999,     -999,9,     -999,9,     -999,9,     -999,9,     -999,9,     -999,1,   0.0183,1,   4.6520,1,     17.1,2,     -999,9,20240321,1619, -43.0112,  95.0069,     -999,9,     -999,9,-999          ,9,-999          ,9,-999          ,9