BOTTLE,20240417CCHHYDRO
EXPOCODE,SECT_ID,STNNBR,CASTNO,SAMPNO,BTLNBR,BTLNBR_FLAG_W,DATE,TIME,LATITUDE,LONGITUDE,DEPTH,CTDPRS,CTDTMP,CTDSAL,CTDSAL_FLAG_W,SALNTY,SALNTY_FLAG_W,CTDOXY,CTDOXY_FLAG_W,OXYGEN,OXYGEN_FLAG_W,SILCAT,SILCAT_FLAG_W,NH4,NH4_FLAG_W,NITRAT,NITRAT_FLAG_W,NITRIT,NITRIT_FLAG_W,PHSPHT,PHSPHT_FLAG_W,CFC-11,CFC-11_FLAG_W,CFC-12,CFC-12_FLAG_W,CFC113,CFC113_FLAG_W,SF6,SF6_FLAG_W,TCARBN,TCARBN_FLAG_W,ALKALI,ALKALI_FLAG_W,PH_TOT,PH_TOT_FLAG_W,PH_TMP,DOC,DOC_FLAG_W,REFTMP,REFTMP_FLAG_W,DELC14,DELC14_FLAG_W,C14ERR,POC,POC_FLAG_W,PON,PON_FLAG_W,POP,POP_FLAG_W,PCOD,PCOD_FLAG_W,DOP,DOP_FLAG_W,TDN,TDN_FLAG_W,CTDFLUOR,CTDFLUOR_FLAG_W,CTDXMISS,CTDXMISS_FLAG_W,N2O,N2O_FLAG_W,ARGON,ARGON_FLAG_W,BTL_DATE,BTL_TIME,BTL_LAT,BTL_LON,KRYPTON,KRYPTON_FLAG_W,XENON,XENON_FLAG_W,HPLC,HPLC_FLAG_W,DNA,DNA_FLAG_W,FCM,FCM_FLAG_W
,,,,,,,,,,,METERS,DBAR,ITS-90,PSS-78,,PSS-78,,UMOL/KG,,UMOL/KG,,UMOL/KG,,UMOL/KG,,UMOL/KG,,UMOL/KG,,UMOL/KG,,PMOL/KG,,PMOL/KG,,PMOL/KG,,FMOL/KG,,UMOL/KG,,UMOL/KG,,,,DEG C,UMOL/KG,,ITS-90,,/MILLE,,/MILLE,UG/KG,,UG/KG,,UG/L,,UG/L,,UMOL/KG,,UMOL/KG,,VOLTS,,VOLTS,,NMOL/KG,,UMOL/L,,,,,,NMOL/L,,NMOL/L,,,,,,,
325020240221  ,I08        ,24      ,  1,5          ,5          ,2,20240311,1757, -57.6136,  82.3842,     3037,   2370.9,   0.5249,  34.6912,2,  34.6903,2,    209.5,2,    209.8,2,   123.38,2,     0.00,2,    32.41,2,     0.00,2,     2.21,2,    0.495,2,    0.223,2,    0.019,2,   0.0000,2,   2259.1,3,   2358.0,2,   7.5931,2,    24.98,     -999,1,   0.5252,2,     -999,9,     -999,     -999,9,     -999,9,     -999,9,     -999,9,     -999,9,     -999,1,   0.0178,1,   4.6202,1,     13.7,2,     -999,9,20240311,1818, -57.6135,  82.3843,     -999,9,     -999,9,-999          ,9,-999          ,9,-999          ,9
325020240221  ,I08        ,24      ,  1,4          ,4          ,2,20240311,1757, -57.6136,  82.3842,     3037,   2574.0,   0.4412,  34.6868,2,  34.6857,2,    211.6,2,    211.9,2,   125.82,2,     0.00,2,    32.60,2,     0.00,2,     2.22,2,    0.523,2,    0.240,2,    0.020,2,   0.0100,2,   2259.0,3,   2357.2,2,   7.5923,6,    24.98,     -999,1,   0.4411,2,     -999,9,     -999,     -999,9,     -999,9,     -999,9,     -999,9,     -999,9,     -999,1,   0.0172,1,   4.6202,1,     13.7,2,     -999,9,20240311,1812, -57.6134,  82.3843,     -999,9,     -999,9,-999          ,9,-999          ,9,-999          ,9
325020240221  ,I08        ,24      ,  1,3          ,3          ,2,20240311,1757, -57.6136,  82.3842,     3037,   2776.2,   0.3647,  34.6831,3,  34.6810,2,    214.5,2,    214.5,2,   127.18,2,     0.00,2,    32.62,2,     0.00,2,     2.24,2,    0.629,2,    0.280,2,    0.023,2,   0.0040,2,     -999,9,     -999,9,     -999,9,     -999,     -999,1,   0.3635,2,     -999,9,     -999,     -999,9,     -999,9,     -999,9,     -999,9,     -999,9,     -999,1,   0.0171,1,   4.6201,1,     13.3,2,     -999,9,20240311,1806, -57.6135,  82.3843,     -999,9,     -999,9,-999          ,9,-999          ,9,-999          ,9
325020240221  ,I08        ,24      ,  1,2          ,2          ,2,20240311,1757, -57.6136,  82.3842,     3037,   2931.1,   0.2987,  34.6798,2,  34.6781,2,    216.8,2,    216.6,2,   128.26,2,     0.00,2,    32.66,2,     0.00,2,     2.24,2,    0.723,2,    0.319,2,    0.030,2,   0.1940,2,   2257.9,3,   2358.5,6,   7.5932,2,    24.99,     -999,1,   0.2986,2,     -999,9,     -999,     -999,9,     -999,9,     -999,9,     -999,9,     -999,9,     -999,1,   0.0172,1,   4.6201,1,     12.9,2,     -999,9,20240311,1802, -57.6134,  82.3843,     -999,9,     -999,9,-999          ,9,-999          ,9,-999          ,9
325020240221  ,I08        ,24      ,  1,1          ,1          ,2,20240311,1757, -57.6136,  82.3842,     3037,   3080.0,   0.2568,  34.6775,2,  34.6777,2,    219.1,2,    219.2,2,   128.45,2,     0.00,2,    32.46,2,     0.00,2,     2.21,2,    0.911,2,    0.394,2,    0.034,2,   0.3950,2,   2259.7,3,   2355.4,2,   7.5935,2,    24.97,     -999,1,   0.2565,2,     -999,9,     -999,     -999,9,     -999,9,     -999,9,     -999,9,     -999,9,     -999,1,   0.0179,1,   4.6203,1,      7.0,2,     -999,9,20240311,1757, -57.6134,  82.3843,     -999,9,     -999,9,-999          ,9,-999          ,9,-999          ,9
325020240221  ,I08        ,25      ,  1,36         ,36         ,2,20240312,0645, -56.4836,  83.7699,     -999,      3.0,   3.1151,  33.8876,2,     -999,9,    317.1,2,     -999,9,     -999,9,     -999,9,     -999,9,     -999,9,     -999,9,     -999,9,     -999,9,     -999,9,     -999,9,     -999,9,     -999,9,     -999,9,     -999,     -999,9,     -999,1,     -999,9,     -999,     -999,9,     -999,1,     -999,1,     -999,1,     -999,1,     -999,9,   0.0226,1,   4.5433,1,     -999,9,     -999,9,20240312,0721, -56.4836,  83.7699,     -999,9,     -999,9,-999          ,9,-999          ,9,-999          ,9
325020240221  ,I08        ,25      ,  1,18         ,18         ,2,20240312,0645, -56.4836,  83.7699,     -999,      3.3,   3.1174,  33.8876,2,     -999,9,    317.3,2,     -999,9,     -999,9,     -999,9,     -999,9,     -999,9,     -999,9,     -999,9,     -999,9,     -999,9,     -999,9,     -999,9,     -999,9,     -999,9,     -999,     -999,9,   3.1174,2,     -999,9,     -999,     -999,9,     -999,1,     -999,1,     -999,1,     -999,1,     -999,9,   0.0232,1,   4.5457,1,     -999,9,     -999,9,20240312,0720, -56.4836,  83.7699,     -999,9,     -999,9,-999          ,9,-999          ,9,-999          ,9
325020240221  ,I08        ,25      ,  1,22         ,22         ,2,20240312,0645, -56.4836,  83.7699,     -999,      3.5,   3.1175,  33.8876,2,     -999,9,    317.2,2,     -999,9,     -999,9,     -999,9,     -999,9,     -999,9,     -999,9,     -999,9,     -999,9,     -999,9,     -999,9,     -999,9,     -999,9,     -999,9,     -999,     -999,9,     -999,1,     -999,9,     -999,     -999,9,     -999,9,     -999,9,     -999,9,     -999,9,     -999,9,   0.0220,1,   4.5447,1,     -999,9,     -999,9,20240312,0720, -56.4835,  83.7699,     -999,9,     -999,9,-999          ,9,-999          ,9,-999          ,9
325020240221  ,I08        ,25      ,  1,12         ,12         ,2,20240312,0645, -56.4836,  83.7699,     -999,      3.5,   3.1219,  33.8874,2,     -999,9,    317.2,2,     -999,9,     -999,9,     -999,9,     -999,9,     -999,9,     -999,9,     -999,9,     -999,9,     -999,9,     -999,9,     -999,9,     -999,9,     -999,9,     -999,     -999,9,   3.1209,2,     -999,9,     -999,     -999,9,     -999,9,     -999,9,     -999,9,     -999,9,     -999,9,   0.0232,1,   4.5451,1,     -999,9,     -999,9,20240312,0719, -56.4836,  83.7700,     -999,9,     -999,9,-999          ,1,-999          ,9,-999          ,1
325020240221  ,I08        ,25      ,  1,19         ,19         ,2,20240312,0645, -56.4836,  83.7699,     -999,      3.6,   3.1173,  33.8874,2,     -999,9,    316.9,2,     -999,9,     -999,9,     -999,9,     -999,9,     -999,9,     -999,9,     -999,9,     -999,9,     -999,9,     -999,9,     -999,9,     -999,9,     -999,9,     -999,     -999,9,     -999,1,     -999,9,     -999,     -999,9,     -999,9,     -999,9,     -999,9,     -999,9,     -999,9,   0.0232,1,   4.5459,1,     -999,9,     -999,9,20240312,0720, -56.4836,  83.7699,     -999,9,     -999,9,-999          ,1,-999          ,9,-999          ,9
325020240221  ,I08        ,25      ,  1,20         ,20         ,2,20240312,0645, -56.4836,  83.7699,     -999,      3.6,   3.1167,  33.8876,2,     -999,9,    317.1,2,     -999,9,     -999,9,     -999,9,     -999,9,     -999,9,     -999,9,     -999,9,     -999,9,     -999,9,     -999,9,     -999,9,     -999,9,     -999,9,     -999,     -999,9,     -999,1,     -999,9,     -999,     -999,9,     -999,1,     -999,1,     -999,1,     -999,1,     -999,9,   0.0232,1,   4.5448,1,     -999,9,     -999,9,20240312,0720, -56.4835,  83.7699,     -999,9,     -999,9,-999          ,9,-999          ,9,-999          ,9
325020240221  ,I08        ,25      ,  1,13         ,13         ,2,20240312,0645, -56.4836,  83.7699,     -999,      3.7,   3.1191,  33.8875,2,     -999,9,    317.1,2,     -999,9,     -999,9,     -999,9,     -999,9,     -999,9,     -999,9,     -999,9,     -999,9,     -999,9,     -999,9,     -999,9,     -999,9,     -999,9,     -999,     -999,9,   3.1178,2,     -999,9,     -999,     -999,9,     -999,9,     -999,9,     -999,9,     -999,9,     -999,9,   0.0225,1,   4.5454,1,     -999,9,     -999,9,20240312,0720, -56.4835,  83.7700,     -999,9,     -999,9,-999          ,1,-999          ,9,-999          ,9
325020240221  ,I08        ,25      ,  1,24         ,24         ,2,20240312,0645, -56.4836,  83.7699,     -999,      3.7,   3.1153,  33.8876,2,     -999,9,    317.3,2,     -999,9,     -999,9,     -999,9,     -999,9,     -999,9,     -999,9,     -999,9,     -999,9,     -999,9,     -999,9,     -999,9,     -999,9,     -999,9,     -999,     -999,9,   3.1156,2,     -999,9,     -999,     -999,9,     -999,1,     -999,1,     -999,1,     -999,1,     -999,9,   0.0220,1,   4.5435,1,     -999,9,     -999,9,20240312,0720, -56.4835,  83.7699,     -999,9,     -999,9,-999          ,9,-999          ,9,-999          ,9
325020240221  ,I08        ,25      ,  1,30         ,30         ,2,20240312,0645, -56.4836,  83.7699,     -999,      3.7,   3.1149,  33.8874,2,     -999,9,    317.1,2,     -999,9,     -999,9,     -999,9,     -999,9,     -999,9,     -999,9,     -999,9,     -999,9,     -999,9,     -999,9,     -999,9,     -999,9,     -999,9,     -999,     -999,9,     -999,1,     -999,9,     -999,     -999,9,     -999,1,     -999,1,     -999,1,     -999,1,     -999,9,   0.0220,1,   4.5458,1,     -999,9,     -999,9,20240312,0720, -56.4836,  83.7699,     -999,9,     -999,9,-999          ,9,-999          ,9,-999          ,9
325020240221  ,I08        ,25      ,  1,32         ,32         ,2,20240312,0645, -56.4836,  83.7699,     -999,      3.7,   3.1147,  33.8873,2,     -999,9,    317.1,2,     -999,9,     -999,9,     -999,9,     -999,9,     -999,9,     -999,9,     -999,9,     -999,9,     -999,9,     -999,9,     -999,9,     -999,9,     -999,9,     -999,     -999,9,     -999,1,     -999,9,     -999,     -999,9,     -999,1,     -999,1,     -999,1,     -999,1,     -999,9,   0.0221,1,   4.5451,1,     -999,9,     -999,9,20240312,0720, -56.4835,  83.7699,     -999,9,     -999,9,-999          ,9,-999          ,9,-999          ,9
325020240221  ,I08        ,25      ,  1,34         ,34         ,2,20240312,0645, -56.4836,  83.7699,     -999,      4.0,   3.1147,  33.8874,2,     -999,9,    317.2,2,     -999,9,     -999,9,     -999,9,     -999,9,     -999,9,     -999,9,     -999,9,     -999,9,     -999,9,     -999,9,     -999,9,     -999,9,     -999,9,     -999,     -999,9,   3.1154,2,     -999,9,     -999,     -999,9,     -999,1,     -999,1,     -999,1,     -999,1,     -999,9,   0.0220,1,   4.5463,1,     -999,9,     -999,9,20240312,0720, -56.4836,  83.7699,     -999,9,     -999,9,-999          ,9,-999          ,9,-999          ,9
325020240221  ,I08        ,25      ,  1,16         ,16         ,2,20240312,0645, -56.4836,  83.7699,     -999,      4.1,   3.1156,  33.8874,2,     -999,9,    317.1,2,     -999,9,     -999,9,     -999,9,     -999,9,     -999,9,     -999,9,     -999,9,     -999,9,     -999,9,     -999,9,     -999,9,     -999,9,     -999,9,     -999,     -999,9,     -999,1,     -999,9,     -999,     -999,9,     -999,1,     -999,1,     -999,1,     -999,1,     -999,9,   0.0225,1,   4.5421,1,     -999,9,     -999,9,20240312,0720, -56.4835,  83.7699,     -999,9,     -999,9,-999          ,9,-999          ,9,-999          ,9
325020240221  ,I08        ,25      ,  1,14         ,14         ,2,20240312,0645, -56.4836,  83.7699,     -999,      4.6,   3.1178,  33.8875,2,     -999,9,    317.2,2,     -999,9,     -999,9,     -999,9,     -999,9,     -999,9,     -999,9,     -999,9,     -999,9,     -999,9,     -999,9,     -999,9,     -999,9,     -999,9,     -999,     -999,9,     -999,1,     -999,9,     -999,     -999,9,     -999,9,     -999,9,     -999,9,     -999,9,     -999,9,   0.0221,1,   4.5451,1,     -999,9,     -999,9,20240312,0720, -56.4835,  83.7700,     -999,9,     -999,9,-999          ,9,-999          ,1,-999          ,9
325020240221  ,I08        ,25      ,  1,10         ,10         ,2,20240312,0645, -56.4836,  83.7699,     -999,     39.9,   3.1116,  33.8877,2,     -999,9,    316.9,2,     -999,9,     -999,9,     -999,9,     -999,9,     -999,9,     -999,9,     -999,9,     -999,9,     -999,9,     -999,9,     -999,9,     -999,9,     -999,9,     -999,     -999,9,   3.1111,2,     -999,9,     -999,     -999,9,     -999,9,     -999,9,     -999,9,     -999,9,     -999,9,   0.0409,1,   4.5460,1,     -999,9,     -999,9,20240312,0717, -56.4835,  83.7699,     -999,9,     -999,9,-999          ,1,-999          ,9,-999          ,1
325020240221  ,I08        ,25      ,  1,26         ,26         ,2,20240312,0645, -56.4836,  83.7699,     -999,     73.6,   3.1087,  33.8878,2,     -999,9,    317.0,2,     -999,9,     -999,9,     -999,9,     -999,9,     -999,9,     -999,9,     -999,9,     -999,9,     -999,9,     -999,9,     -999,9,     -999,9,     -999,9,     -999,     -999,9,   3.1088,2,     -999,9,     -999,     -999,1,     -999,9,     -999,9,     -999,9,     -999,9,     -999,9,   0.0421,1,   4.5466,1,     -999,9,     -999,9,20240312,0714, -56.4835,  83.7699,     -999,9,     -999,9,-999          ,1,-999          ,9,-999          ,9
325020240221  ,I08        ,25      ,  1,9          ,9          ,2,20240312,0645, -56.4836,  83.7699,     -999,     74.2,   3.1097,  33.8876,2,     -999,9,    317.1,2,     -999,9,     -999,9,     -999,9,     -999,9,     -999,9,     -999,9,     -999,9,     -999,9,     -999,9,     -999,9,     -999,9,     -999,9,     -999,9,     -999,     -999,9,   3.1086,2,     -999,9,     -999,     -999,9,     -999,9,     -999,9,     -999,9,     -999,9,     -999,9,   0.0420,1,   4.5482,1,     -999,9,     -999,9,20240312,0714, -56.4835,  83.7699,     -999,9,     -999,9,-999          ,9,-999          ,9,-999          ,1
325020240221  ,I08        ,25      ,  1,8          ,8          ,2,20240312,0645, -56.4836,  83.7699,     -999,    100.4,   3.0946,  33.8871,2,     -999,9,    316.9,2,     -999,9,     -999,9,     -999,9,     -999,9,     -999,9,     -999,9,     -999,9,     -999,9,     -999,9,     -999,9,     -999,9,     -999,9,     -999,9,     -999,     -999,9,   3.0959,2,     -999,9,     -999,     -999,9,     -999,9,     -999,9,     -999,9,     -999,9,     -999,9,   0.0421,1,   4.5492,1,     -999,9,     -999,9,20240312,0711, -56.4835,  83.7699,     -999,9,     -999,9,-999          ,9,-999          ,1,-999          ,9
325020240221  ,I08        ,25      ,  1,17         ,17         ,2,20240312,0645, -56.4836,  83.7699,     -999,    100.6,   3.0989,  33.8872,2,     -999,9,    317.9,2,     -999,9,     -999,9,     -999,9,     -999,9,     -999,9,     -999,9,     -999,9,     -999,9,     -999,9,     -999,9,     -999,9,     -999,9,     -999,9,     -999,     -999,9,   3.0992,2,     -999,9,     -999,     -999,1,     -999,9,     -999,9,     -999,9,     -999,9,     -999,9,   0.0418,1,   4.5501,1,     -999,9,     -999,9,20240312,0711, -56.4835,  83.7699,     -999,9,     -999,9,-999          ,9,-999          ,9,-999          ,9
325020240221  ,I08        ,25      ,  1,7          ,7          ,2,20240312,0645, -56.4836,  83.7699,     -999,    101.1,   3.0947,  33.8869,2,     -999,9,    316.6,2,     -999,9,     -999,9,     -999,9,     -999,9,     -999,9,     -999,9,     -999,9,     -999,9,     -999,9,     -999,9,     -999,9,     -999,9,     -999,9,     -999,     -999,9,   3.0946,2,     -999,9,     -999,     -999,9,     -999,9,     -999,9,     -999,9,     -999,9,     -999,9,   0.0424,1,   4.5492,1,     -999,9,     -999,9,20240312,0710, -56.4835,  83.7699,     -999,9,     -999,9,-999          ,1,-999          ,9,-999          ,1
325020240221  ,I08        ,25      ,  1,27         ,27         ,2,20240312,0645, -56.4836,  83.7699,     -999,    121.3,   2.3895,  33.9289,2,     -999,9,    309.6,2,     -999,9,     -999,9,     -999,9,     -999,9,     -999,9,     -999,9,     -999,9,     -999,9,     -999,9,     -999,9,     -999,9,     -999,9,     -999,9,     -999,     -999,9,   2.4444,3,     -999,9,     -999,     -999,1,     -999,1,     -999,1,     -999,1,     -999,1,     -999,9,   0.0289,1,   4.5888,1,     -999,9,     -999,9,20240312,0708, -56.4835,  83.7699,     -999,9,     -999,9,-999          ,1,-999          ,9,-999          ,9
325020240221  ,I08        ,25      ,  1,6          ,6          ,2,20240312,0645, -56.4836,  83.7699,     -999,    150.2,   1.5066,  34.0182,2,     -999,9,    290.4,2,     -999,9,     -999,9,     -999,9,     -999,9,     -999,9,     -999,9,     -999,9,     -999,9,     -999,9,     -999,9,     -999,9,     -999,9,     -999,9,     -999,     -999,9,   1.5086,2,     -999,9,     -999,     -999,9,     -999,9,     -999,9,     -999,9,     -999,9,     -999,9,   0.0195,1,   4.6170,1,     -999,9,     -999,9,20240312,0706, -56.4835,  83.7699,     -999,9,     -999,9,-999          ,9,-999          ,9,-999          ,1
325020240221  ,I08        ,25      ,  1,5          ,5          ,2,20240312,0645, -56.4836,  83.7699,     -999,    200.4,   1.8563,  34.1545,2,     -999,9,    253.6,2,     -999,9,     -999,9,     -999,9,     -999,9,     -999,9,     -999,9,     -999,9,     -999,9,     -999,9,     -999,9,     -999,9,     -999,9,     -999,9,     -999,     -999,9,   1.8531,2,     -999,9,     -999,     -999,9,     -999,9,     -999,9,     -999,9,     -999,9,     -999,9,   0.0181,1,   4.6249,1,     -999,9,     -999,9,20240312,0704, -56.4835,  83.7699,     -999,9,     -999,9,-999          ,9,-999          ,9,-999          ,1
325020240221  ,I08        ,25      ,  1,4          ,4          ,2,20240312,0645, -56.4836,  83.7699,     -999,    201.9,   1.8365,  34.1532,2,     -999,9,    253.9,2,     -999,9,     -999,9,     -999,9,     -999,9,     -999,9,     -999,9,     -999,9,     -999,9,     -999,9,     -999,9,     -999,9,     -999,9,     -999,9,     -999,     -999,9,   1.8439,2,     -999,9,     -999,     -999,9,     -999,9,     -999,9,     -999,9,     -999,9,     -999,9,   0.0180,1,   4.6233,1,     -999,9,     -999,9,20240312,0703, -56.4835,  83.7699,     -999,9,     -999,9,-999          ,9,-999          ,1,-999          ,9
325020240221  ,I08        ,25      ,  1,3          ,3          ,2,20240312,0645, -56.4836,  83.7699,     -999,    504.4,   2.3343,  34.5478,2,     -999,9,    175.8,2,     -999,9,     -999,9,     -999,9,     -999,9,     -999,9,     -999,9,     -999,9,     -999,9,     -999,9,     -999,9,     -999,9,     -999,9,     -999,9,     -999,     -999,9,   2.3351,2,     -999,9,     -999,     -999,9,     -999,9,     -999,9,     -999,9,     -999,9,     -999,9,   0.0182,1,   4.6277,1,     -999,9,     -999,9,20240312,0657, -56.4835,  83.7699,     -999,9,     -999,9,-999          ,9,-999          ,9,-999          ,1
325020240221  ,I08        ,25      ,  1,1          ,1          ,2,20240312,0645, -56.4836,  83.7699,     -999,   1012.2,   2.0000,  34.7141,2,     -999,9,    184.0,2,     -999,9,     -999,9,     -999,9,     -999,9,     -999,9,     -999,9,     -999,9,     -999,9,     -999,9,     -999,9,     -999,9,     -999,9,     -999,9,     -999,     -999,9,   1.9993,2,     -999,9,     -999,     -999,9,     -999,9,     -999,9,     -999,9,     -999,9,     -999,9,   0.0182,1,   4.6399,1,     -999,9,     -999,9,20240312,0645, -56.4835,  83.7700,     -999,9,     -999,9,-999          ,9,-999          ,9,-999          ,1
325020240221  ,I08        ,25      ,  1,2          ,2          ,2,20240312,0645, -56.4836,  83.7699,     -999,   1013.1,   1.9995,  34.7144,2,     -999,9,    183.8,2,     -999,9,     -999,9,     -999,9,     -999,9,     -999,9,     -999,9,     -999,9,     -999,9,     -999,9,     -999,9,     -999,9,     -999,9,     -999,9,     -999,     -999,9,   2.0000,2,     -999,9,     -999,     -999,9,     -999,9,     -999,9,     -999,9,     -999,9,     -999,9,   0.0182,1,   4.6406,1,     -999,9,     -999,9,20240312,0646, -56.4835,  83.7700,     -999,9,     -999,9,-999          ,9,-999          ,1,-999          ,9