BOTTLE,20240417CCHHYDRO
EXPOCODE,SECT_ID,STNNBR,CASTNO,SAMPNO,BTLNBR,BTLNBR_FLAG_W,DATE,TIME,LATITUDE,LONGITUDE,DEPTH,CTDPRS,CTDTMP,CTDSAL,CTDSAL_FLAG_W,SALNTY,SALNTY_FLAG_W,CTDOXY,CTDOXY_FLAG_W,OXYGEN,OXYGEN_FLAG_W,SILCAT,SILCAT_FLAG_W,NH4,NH4_FLAG_W,NITRAT,NITRAT_FLAG_W,NITRIT,NITRIT_FLAG_W,PHSPHT,PHSPHT_FLAG_W,CFC-11,CFC-11_FLAG_W,CFC-12,CFC-12_FLAG_W,CFC113,CFC113_FLAG_W,SF6,SF6_FLAG_W,TCARBN,TCARBN_FLAG_W,ALKALI,ALKALI_FLAG_W,PH_TOT,PH_TOT_FLAG_W,PH_TMP,DOC,DOC_FLAG_W,REFTMP,REFTMP_FLAG_W,DELC14,DELC14_FLAG_W,C14ERR,POC,POC_FLAG_W,PON,PON_FLAG_W,POP,POP_FLAG_W,PCOD,PCOD_FLAG_W,DOP,DOP_FLAG_W,TDN,TDN_FLAG_W,CTDFLUOR,CTDFLUOR_FLAG_W,CTDXMISS,CTDXMISS_FLAG_W,N2O,N2O_FLAG_W,ARGON,ARGON_FLAG_W,BTL_DATE,BTL_TIME,BTL_LAT,BTL_LON,KRYPTON,KRYPTON_FLAG_W,XENON,XENON_FLAG_W,HPLC,HPLC_FLAG_W,DNA,DNA_FLAG_W,FCM,FCM_FLAG_W
,,,,,,,,,,,METERS,DBAR,ITS-90,PSS-78,,PSS-78,,UMOL/KG,,UMOL/KG,,UMOL/KG,,UMOL/KG,,UMOL/KG,,UMOL/KG,,UMOL/KG,,PMOL/KG,,PMOL/KG,,PMOL/KG,,FMOL/KG,,UMOL/KG,,UMOL/KG,,,,DEG C,UMOL/KG,,ITS-90,,/MILLE,,/MILLE,UG/KG,,UG/KG,,UG/L,,UG/L,,UMOL/KG,,UMOL/KG,,VOLTS,,VOLTS,,NMOL/KG,,UMOL/L,,,,,,NMOL/L,,NMOL/L,,,,,,,
325020240221  ,I08        ,31      ,  1,36         ,36         ,2,20240315,1623, -54.7652,  85.6674,     4645,      2.8,   3.8990,  33.8486,2,  33.8517,2,    312.5,2,    312.4,2,    12.60,2,     0.15,2,    24.06,2,     0.21,2,     1.65,2,    4.868,2,    2.564,2,    0.431,2,   4.2320,2,   2146.6,3,   2281.9,2,   7.7051,2,    24.99,     -999,1,   3.8966,2,     -999,9,     -999,     -999,9,     -999,9,     -999,9,     -999,9,     -999,9,     -999,1,   0.0550,1,   4.5124,1,      9.8,2,     -999,9,20240315,1827, -54.7652,  85.6674,     -999,9,     -999,9,-999          ,9,-999          ,9,-999          ,9
325020240221  ,I08        ,31      ,  1,35         ,35         ,2,20240315,1623, -54.7652,  85.6674,     4645,     24.6,   3.8977,  33.8485,2,  33.8492,2,    312.7,2,    312.0,2,    12.50,2,     0.15,2,    24.13,2,     0.21,2,     1.64,2,    4.721,2,    2.679,2,    0.415,2,   4.0410,2,   2146.7,3,   2281.2,6,   7.7037,6,    24.97,     -999,9,   3.8973,2,     -999,9,     -999,     -999,9,     -999,9,     -999,9,     -999,9,     -999,9,     -999,9,   0.0494,1,   4.5124,1,      9.7,2,     -999,9,20240315,1826, -54.7654,  85.6673,     -999,9,     -999,9,-999          ,9,-999          ,9,-999          ,9
325020240221  ,I08        ,31      ,  1,34         ,34         ,2,20240315,1623, -54.7652,  85.6674,     4645,     51.3,   3.8635,  33.8460,2,  33.8466,2,    312.8,2,    313.1,2,    12.60,2,     0.17,2,    24.15,2,     0.21,2,     1.64,2,    4.915,2,    2.602,2,    0.412,2,   4.0000,2,   2146.4,3,   2281.2,6,   7.7041,2,    24.98,     -999,9,   3.8621,2,     -999,9,     -999,     -999,9,     -999,9,     -999,9,     -999,9,     -999,9,     -999,9,   0.0537,1,   4.5079,1,      9.7,2,     -999,9,20240315,1824, -54.7657,  85.6671,     -999,9,     -999,9,-999          ,9,-999          ,9,-999          ,9
325020240221  ,I08        ,31      ,  1,33         ,33         ,2,20240315,1623, -54.7652,  85.6674,     4645,     74.9,   3.8046,  33.8410,2,  33.8414,2,    312.4,2,    313.2,2,    12.60,2,     0.16,2,    24.21,2,     0.21,2,     1.66,2,    4.581,2,    2.523,2,    0.431,2,   4.0250,2,   2148.0,3,   2282.6,2,   7.7041,2,    25.01,     -999,9,   3.8048,2,     -999,9,     -999,     -999,9,     -999,9,     -999,9,     -999,9,     -999,9,     -999,9,   0.0572,1,   4.5117,1,      9.7,2,     -999,9,20240315,1822, -54.7659,  85.6670,     -999,9,     -999,9,-999          ,9,-999          ,9,-999          ,9
325020240221  ,I08        ,31      ,  1,32         ,32         ,2,20240315,1623, -54.7652,  85.6674,     4645,     99.6,   3.0088,  33.8036,2,  33.8051,2,    315.6,2,    317.9,2,    15.72,2,     0.37,2,    24.81,2,     0.25,2,     1.67,2,    5.305,2,    2.841,2,    0.458,2,   4.3090,2,   2154.3,3,   2282.9,2,   7.6905,6,    24.98,     -999,9,   2.9876,2,     -999,9,     -999,     -999,9,     -999,9,     -999,9,     -999,9,     -999,9,     -999,9,   0.0526,1,   4.5247,1,     10.2,2,     -999,9,20240315,1821, -54.7662,  85.6668,     -999,9,     -999,9,-999          ,9,-999          ,9,-999          ,9
325020240221  ,I08        ,31      ,  1,31         ,31         ,2,20240315,1623, -54.7652,  85.6674,     4645,    150.3,   2.1327,  33.7998,2,  33.8055,2,    323.2,2,    323.7,2,    21.29,2,     0.65,2,    25.41,2,     0.28,2,     1.76,2,    4.967,2,    2.786,2,    0.486,2,   4.1100,2,   2162.8,3,   2289.5,6,   7.6777,2,    25.00,     -999,9,   2.1575,2,     -999,9,     -999,     -999,9,     -999,9,     -999,9,     -999,9,     -999,9,     -999,9,   0.0468,1,   4.5293,1,     10.6,2,     -999,9,20240315,1819, -54.7663,  85.6667,     -999,9,     -999,9,-999          ,9,-999          ,9,-999          ,9
325020240221  ,I08        ,31      ,  1,30         ,30         ,2,20240315,1623, -54.7652,  85.6674,     4645,    202.3,   1.8315,  34.0394,2,  34.0405,2,    280.7,2,    280.3,2,    33.49,2,     0.00,2,    30.25,2,     0.09,2,     2.09,2,    4.467,2,    2.449,2,    0.400,2,   2.9880,2,   2191.5,3,   2291.3,2,   7.6118,2,    24.97,     -999,9,   1.8448,2,     -999,9,     -999,     -999,9,     -999,9,     -999,9,     -999,9,     -999,9,     -999,9,   0.0195,1,   4.6096,1,     12.4,2,     -999,9,20240315,1817, -54.7666,  85.6665,     -999,9,     -999,9,-999          ,9,-999          ,9,-999          ,9
325020240221  ,I08        ,31      ,  1,29         ,29         ,2,20240315,1623, -54.7652,  85.6674,     4645,    251.6,   1.9582,  34.1656,2,  34.1646,2,    246.2,2,    244.6,2,    44.52,2,     0.03,2,    32.54,2,     0.00,2,     2.22,2,    3.593,2,    1.968,2,    0.327,2,   2.3080,2,   2210.8,3,   2303.8,2,   7.5755,2,    24.97,     -999,9,   1.9578,2,     -999,9,     -999,     -999,9,     -999,9,     -999,9,     -999,9,     -999,9,     -999,9,   0.0183,1,   4.6207,1,     14.1,2,     -999,9,20240315,1815, -54.7668,  85.6663,     -999,9,     -999,9,-999          ,9,-999          ,9,-999          ,9
325020240221  ,I08        ,31      ,  1,28         ,28         ,2,20240315,1623, -54.7652,  85.6674,     4645,    302.0,   2.3881,  34.2976,2,  34.2950,2,    211.6,2,    210.7,2,    51.84,2,     0.00,2,    33.70,2,     0.00,2,     2.31,2,    2.464,2,    1.402,2,    0.227,2,   1.2110,2,   2226.3,3,   2308.2,2,   7.5556,2,    25.00,     -999,9,   2.3864,2,     -999,9,     -999,     -999,9,     -999,9,     -999,9,     -999,9,     -999,9,     -999,9,   0.0189,1,   4.6260,1,     15.0,2,     -999,9,20240315,1813, -54.7670,  85.6662,     -999,9,     -999,9,-999          ,9,-999          ,9,-999          ,9
325020240221  ,I08        ,31      ,  1,27         ,27         ,2,20240315,1623, -54.7652,  85.6674,     4645,    354.0,   2.3962,  34.3656,2,  34.3647,2,    197.0,2,    195.5,2,    58.47,2,     0.00,2,    34.22,2,     0.00,2,     2.37,2,    2.143,2,    1.136,2,    0.170,2,   0.9010,2,   2234.5,3,   2316.8,2,   7.5452,2,    24.98,     -999,9,   2.3980,2,     -999,9,     -999,     -999,9,     -999,9,     -999,9,     -999,9,     -999,9,     -999,9,   0.0183,1,   4.6295,1,     15.4,2,     -999,9,20240315,1811, -54.7673,  85.6660,     -999,9,     -999,9,-999          ,9,-999          ,9,-999          ,9
325020240221  ,I08        ,31      ,  1,26         ,26         ,2,20240315,1623, -54.7652,  85.6674,     4645,    403.3,   2.5578,  34.4438,2,  34.4432,2,    183.7,2,    183.3,2,    62.76,2,     0.02,2,    34.22,2,     0.00,2,     2.35,2,    1.482,2,    0.820,2,    0.110,2,   0.5710,2,   2241.3,3,   2320.3,2,   7.5473,2,    24.97,     -999,9,   2.5591,2,     -999,9,     -999,     -999,9,     -999,9,     -999,9,     -999,9,     -999,9,     -999,9,   0.0183,1,   4.6358,1,     15.4,2,     -999,9,20240315,1809, -54.7676,  85.6658,     -999,9,     -999,9,-999          ,9,-999          ,9,-999          ,9
325020240221  ,I08        ,31      ,  1,25         ,25         ,2,20240315,1623, -54.7652,  85.6674,     4645,    452.5,   2.5785,  34.4802,2,  34.4799,2,    178.3,2,    178.1,2,    65.50,2,     0.02,2,    34.35,2,     0.00,2,     2.35,2,    1.313,2,    0.681,2,    0.096,2,   0.5620,2,   2245.0,3,   2325.9,2,   7.5477,2,    24.97,     -999,9,   2.5783,2,     -999,9,     -999,     -999,9,     -999,9,     -999,9,     -999,9,     -999,9,     -999,9,   0.0183,1,   4.6383,1,     15.9,2,     -999,9,20240315,1807, -54.7679,  85.6656,     -999,9,     -999,9,-999          ,9,-999          ,9,-999          ,9
325020240221  ,I08        ,31      ,  1,24         ,24         ,2,20240315,1623, -54.7652,  85.6674,     4645,    504.4,   2.4642,  34.5026,2,  34.5021,2,    176.5,2,    176.8,2,    68.72,2,     0.00,2,    34.52,2,     0.00,2,     2.37,2,    1.247,2,    0.639,2,    0.091,2,   0.4750,2,   2247.0,3,   2326.0,2,   7.5457,2,    24.99,     -999,9,   2.4631,2,     -999,9,     -999,     -999,9,     -999,9,     -999,9,     -999,9,     -999,9,     -999,9,   0.0183,1,   4.6335,1,     15.6,2,     -999,9,20240315,1805, -54.7681,  85.6655,     -999,9,     -999,9,-999          ,9,-999          ,9,-999          ,9
325020240221  ,I08        ,31      ,  1,23         ,37         ,2,20240315,1623, -54.7652,  85.6674,     4645,    605.1,   2.5256,  34.5747,2,  34.5747,2,    173.0,2,    173.1,2,    71.25,2,     0.00,2,    33.82,2,     0.00,2,     2.34,2,    0.769,2,    0.412,2,    0.050,2,   0.3700,2,   2248.4,3,   2338.8,6,   7.5573,2,    25.00,     -999,9,   2.5252,2,     -999,9,     -999,     -999,9,     -999,9,     -999,9,     -999,9,     -999,9,     -999,9,   0.0183,1,   4.6407,1,     15.6,2,     -999,9,20240315,1803, -54.7684,  85.6653,     -999,9,     -999,9,-999          ,9,-999          ,9,-999          ,9
325020240221  ,I08        ,31      ,  1,22         ,22         ,2,20240315,1623, -54.7652,  85.6674,     4645,    706.7,   2.3673,  34.6166,2,  34.6170,2,    172.6,2,    172.8,2,    75.64,2,     0.02,2,    33.55,2,     0.00,2,     2.29,2,    0.616,2,    0.345,2,    0.040,2,   0.1540,2,   2252.0,3,   2335.0,2,   7.5579,2,    24.97,     -999,9,   2.3665,2,     -999,9,     -999,     -999,9,     -999,9,     -999,9,     -999,9,     -999,9,     -999,9,   0.0183,1,   4.6387,1,     15.1,2,     -999,9,20240315,1757, -54.7690,  85.6648,     -999,9,     -999,9,-999          ,9,-999          ,9,-999          ,9
325020240221  ,I08        ,31      ,  1,21         ,21         ,2,20240315,1623, -54.7652,  85.6674,     4645,    807.7,   2.2874,  34.6540,2,  34.6539,2,    174.4,2,    174.9,2,    78.17,2,     0.00,2,    33.07,2,     0.00,2,     2.28,2,    0.495,2,    0.271,2,    0.034,2,   0.1720,2,   2253.6,3,   2338.9,2,   7.5639,2,    24.97,     -999,9,   2.2870,2,     -999,9,     -999,     -999,9,     -999,9,     -999,9,     -999,9,     -999,9,     -999,9,   0.0183,1,   4.6399,1,     14.9,2,     -999,9,20240315,1755, -54.7694,  85.6646,     -999,9,     -999,9,-999          ,9,-999          ,9,-999          ,9
325020240221  ,I08        ,31      ,  1,20         ,20         ,2,20240315,1623, -54.7652,  85.6674,     4645,    909.1,   2.2583,  34.6934,2,  34.6985,2,    179.7,2,    179.8,2,    78.66,2,     0.02,2,    32.10,2,     0.00,2,     2.21,2,    0.377,2,    0.197,2,    0.021,2,   0.1560,2,   2249.3,3,   2341.6,2,   7.5819,2,    24.98,     -999,9,   2.2573,2,     -999,9,     -999,     -999,9,     -999,9,     -999,9,     -999,9,     -999,9,     -999,9,   0.0183,1,   4.6441,1,     14.2,2,     -999,9,20240315,1751, -54.7697,  85.6643,     -999,9,     -999,9,-999          ,9,-999          ,9,-999          ,9
325020240221  ,I08        ,31      ,  1,19         ,19         ,2,20240315,1623, -54.7652,  85.6674,     4645,   1009.7,   2.2250,  34.7144,2,  34.7160,2,    183.8,2,    183.7,2,    79.54,2,     0.00,2,    31.49,2,     0.00,2,     2.15,2,    0.296,2,    0.159,2,    0.031,2,   0.0190,2,   2247.3,3,   2343.0,2,   7.5929,2,    25.00,     -999,9,   2.2251,2,     -999,9,     -999,     -999,9,     -999,9,     -999,9,     -999,9,     -999,9,     -999,9,   0.0183,1,   4.6446,1,      9.2,4,     -999,9,20240315,1748, -54.7700,  85.6641,     -999,9,     -999,9,-999          ,9,-999          ,9,-999          ,9
325020240221  ,I08        ,31      ,  1,18         ,18         ,2,20240315,1623, -54.7652,  85.6674,     4645,   1111.8,   2.1386,  34.7324,2,  34.7333,2,    188.2,2,    188.0,2,    80.12,2,     0.00,2,    30.94,2,     0.00,2,     2.12,2,    0.272,2,    0.135,2,    0.014,2,   0.0340,2,   2245.0,3,   2345.0,2,   7.6029,6,    24.98,     -999,9,   2.1384,2,     -999,9,     -999,     -999,9,     -999,9,     -999,9,     -999,9,     -999,9,     -999,9,   0.0183,1,   4.6457,1,     14.0,2,     -999,9,20240315,1745, -54.7704,  85.6638,     -999,9,     -999,9,-999          ,9,-999          ,9,-999          ,9
325020240221  ,I08        ,31      ,  1,17         ,17         ,2,20240315,1623, -54.7652,  85.6674,     4645,   1211.8,   2.0742,  34.7408,2,  34.7408,2,    191.0,2,    191.0,2,    82.56,2,     0.00,2,    30.82,2,     0.00,2,     2.10,2,    0.240,2,    0.121,2,    0.012,2,   0.0150,2,   2245.6,3,   2348.9,2,   7.6077,2,    24.98,     -999,9,   2.0739,2,     -999,9,     -999,     -999,9,     -999,9,     -999,9,     -999,9,     -999,9,     -999,9,   0.0183,1,   4.6447,1,     13.8,2,     -999,9,20240315,1743, -54.7707,  85.6636,     -999,9,     -999,9,-999          ,9,-999          ,9,-999          ,9
325020240221  ,I08        ,31      ,  1,16         ,16         ,2,20240315,1623, -54.7652,  85.6674,     4645,   1315.3,   1.9986,  34.7463,2,  34.7469,2,    193.2,2,    193.3,2,    83.93,2,     0.02,2,    30.45,2,     0.00,2,     2.09,2,    0.225,2,    0.112,2,    0.010,2,  -0.0100,2,   2245.2,3,   2348.1,6,   7.6120,6,    25.00,     -999,9,   1.9984,2,     -999,9,     -999,     -999,9,     -999,9,     -999,9,     -999,9,     -999,9,     -999,9,   0.0183,1,   4.6446,1,     13.6,2,     -999,9,20240315,1740, -54.7710,  85.6634,     -999,9,     -999,9,-999          ,9,-999          ,9,-999          ,9
325020240221  ,I08        ,31      ,  1,15         ,15         ,2,20240315,1623, -54.7652,  85.6674,     4645,   1414.2,   1.9001,  34.7489,2,  34.7492,2,    195.3,2,    195.1,2,    86.37,2,     0.02,2,    30.32,2,     0.00,2,     2.07,2,    0.210,2,    0.109,2,    0.011,2,   0.0120,2,   2245.2,3,   2349.4,2,   7.6140,2,    24.99,     -999,9,   1.8999,2,     -999,9,     -999,     -999,9,     -999,9,     -999,9,     -999,9,     -999,9,     -999,9,   0.0186,1,   4.6430,1,     13.6,2,     -999,9,20240315,1737, -54.7715,  85.6631,     -999,9,     -999,9,-999          ,9,-999          ,9,-999          ,9
325020240221  ,I08        ,31      ,  1,14         ,14         ,2,20240315,1623, -54.7652,  85.6674,     4645,   1519.0,   1.8098,  34.7470,2,  34.7482,2,    195.9,2,    195.9,2,    88.71,2,     0.02,2,    30.41,2,     0.00,2,     2.09,2,    0.238,2,    0.126,2,    0.012,2,  -0.0020,2,   2246.5,3,   2350.2,6,   7.6116,2,    24.97,     -999,9,   1.8097,2,     -999,9,     -999,     -999,9,     -999,9,     -999,9,     -999,9,     -999,9,     -999,9,   0.0188,1,   4.6420,1,     13.4,2,     -999,9,20240315,1734, -54.7718,  85.6628,     -999,9,     -999,9,-999          ,9,-999          ,9,-999          ,9
325020240221  ,I08        ,31      ,  1,13         ,13         ,2,20240315,1623, -54.7652,  85.6674,     4645,   1619.0,   1.6800,  34.7448,2,  34.7459,2,    197.7,2,    197.6,2,    91.83,2,     0.03,2,    30.42,2,     0.00,2,     2.08,2,    0.251,6,    0.131,6,    0.013,6,  -0.0045,6,   2246.8,3,   2352.3,6,   7.6117,2,    24.97,     -999,9,   1.6797,2,     -999,9,     -999,     -999,9,     -999,9,     -999,9,     -999,9,     -999,9,     -999,9,   0.0178,1,   4.6398,1,     13.4,6,     -999,9,20240315,1731, -54.7721,  85.6626,     -999,9,     -999,9,-999          ,9,-999          ,9,-999          ,9
325020240221  ,I08        ,31      ,  1,12         ,12         ,2,20240315,1623, -54.7652,  85.6674,     4645,   1823.3,   1.5044,  34.7404,2,  34.7406,2,    200.3,2,    200.4,2,    96.71,2,     0.02,2,    30.59,2,     0.00,2,     2.10,2,    0.242,2,    0.132,2,    0.012,2,   0.0100,2,   2250.3,3,   2353.4,2,   7.6127,2,    24.98,     -999,9,   1.5039,2,     -999,9,     -999,     -999,9,     -999,9,     -999,9,     -999,9,     -999,9,     -999,9,   0.0182,1,   4.6383,1,     13.3,2,     -999,9,20240315,1727, -54.7727,  85.6623,     -999,9,     -999,9,-999          ,9,-999          ,9,-999          ,9
325020240221  ,I08        ,31      ,  1,11         ,11         ,2,20240315,1623, -54.7652,  85.6674,     4645,   2027.6,   1.3523,  34.7346,2,  34.7361,2,    202.5,2,    202.6,2,   100.42,2,     0.04,2,    30.81,2,     0.00,2,     2.12,2,    0.285,2,    0.138,2,    0.011,2,   0.0040,2,   2252.0,3,   2353.3,6,   7.6131,2,    24.99,     -999,9,   1.3522,2,     -999,9,     -999,     -999,9,     -999,9,     -999,9,     -999,9,     -999,9,     -999,9,   0.0180,1,   4.6359,1,     13.5,2,     -999,9,20240315,1722, -54.7732,  85.6619,     -999,9,     -999,9,-999          ,9,-999          ,9,-999          ,9
325020240221  ,I08        ,31      ,  1,10         ,10         ,2,20240315,1623, -54.7652,  85.6674,     4645,   2280.3,   1.0964,  34.7190,2,  34.7195,2,    203.8,2,    204.0,2,   107.06,2,     0.02,2,    31.52,2,     0.00,2,     2.17,2,    0.337,2,    0.179,2,    0.016,2,   0.1440,2,   2253.0,3,   2357.2,2,   7.6049,2,    24.96,     -999,9,   1.0957,2,     -999,9,     -999,     -999,9,     -999,9,     -999,9,     -999,9,     -999,9,     -999,9,   0.0177,1,   4.6325,1,     13.4,2,     -999,9,20240315,1716, -54.7739,  85.6614,     -999,9,     -999,9,-999          ,9,-999          ,9,-999          ,9
325020240221  ,I08        ,31      ,  1,9          ,9          ,2,20240315,1623, -54.7652,  85.6674,     4645,   2537.6,   0.8696,  34.7068,2,  34.7077,2,    206.3,2,    206.1,2,   114.77,2,     0.03,2,    32.04,2,     0.00,2,     2.20,2,    0.400,2,    0.202,2,    0.018,2,  -0.0120,2,   2256.9,3,   2355.4,2,   7.6002,2,    24.96,     -999,9,   0.8701,2,     -999,9,     -999,     -999,9,     -999,9,     -999,9,     -999,9,     -999,9,     -999,9,   0.0182,1,   4.6293,1,     13.4,2,     -999,9,20240315,1711, -54.7746,  85.6610,     -999,9,     -999,9,-999          ,9,-999          ,9,-999          ,9
325020240221  ,I08        ,31      ,  1,8          ,8          ,2,20240315,1623, -54.7652,  85.6674,     4645,   2790.6,   0.6265,  34.6942,2,  34.6946,2,    209.8,2,    210.0,2,   121.99,2,     0.03,2,    32.52,2,     0.00,2,     2.23,2,    0.477,2,    0.236,2,    0.023,2,  -0.0070,2,   2259.7,3,   2354.1,2,   7.5956,2,    24.98,     -999,9,   0.6267,2,     -999,9,     -999,     -999,9,     -999,9,     -999,9,     -999,9,     -999,9,     -999,9,   0.0180,1,   4.6275,1,     13.2,2,     -999,9,20240315,1706, -54.7752,  85.6605,     -999,9,     -999,9,-999          ,9,-999          ,9,-999          ,9
325020240221  ,I08        ,31      ,  1,7          ,7          ,2,20240315,1623, -54.7652,  85.6674,     4645,   3045.7,   0.4956,  34.6873,2,  34.6871,2,    213.1,2,    213.0,2,   125.21,2,     0.00,2,    32.71,2,     0.00,2,     2.24,2,    0.568,2,    0.282,2,    0.027,2,   0.1320,2,   2258.6,3,   2353.4,2,   7.5943,2,    24.99,     -999,9,   0.4957,2,     -999,9,     -999,     -999,9,     -999,9,     -999,9,     -999,9,     -999,9,     -999,9,   0.0180,1,   4.6264,1,     13.4,2,     -999,9,20240315,1701, -54.7758,  85.6600,     -999,9,     -999,9,-999          ,9,-999          ,9,-999          ,9
325020240221  ,I08        ,31      ,  1,6          ,6          ,2,20240315,1623, -54.7652,  85.6674,     4645,   3354.1,   0.3750,  34.6808,2,  34.6812,2,    216.9,2,    217.0,2,   127.26,2,     0.00,2,    32.77,2,     0.00,2,     2.26,2,    0.723,2,    0.354,2,    0.040,2,   0.1130,2,   2258.7,3,   2356.2,6,   7.5938,2,    24.97,     -999,9,   0.3744,2,     -999,9,     -999,     -999,9,     -999,9,     -999,9,     -999,9,     -999,9,     -999,9,   0.0180,1,   4.6263,1,     13.3,2,     -999,9,20240315,1654, -54.7767,  85.6595,     -999,9,     -999,9,-999          ,9,-999          ,9,-999          ,9