BOTTLE,20240417CCHHYDRO
EXPOCODE,SECT_ID,STNNBR,CASTNO,SAMPNO,BTLNBR,BTLNBR_FLAG_W,DATE,TIME,LATITUDE,LONGITUDE,DEPTH,CTDPRS,CTDTMP,CTDSAL,CTDSAL_FLAG_W,SALNTY,SALNTY_FLAG_W,CTDOXY,CTDOXY_FLAG_W,OXYGEN,OXYGEN_FLAG_W,SILCAT,SILCAT_FLAG_W,NH4,NH4_FLAG_W,NITRAT,NITRAT_FLAG_W,NITRIT,NITRIT_FLAG_W,PHSPHT,PHSPHT_FLAG_W,CFC-11,CFC-11_FLAG_W,CFC-12,CFC-12_FLAG_W,CFC113,CFC113_FLAG_W,SF6,SF6_FLAG_W,TCARBN,TCARBN_FLAG_W,ALKALI,ALKALI_FLAG_W,PH_TOT,PH_TOT_FLAG_W,PH_TMP,DOC,DOC_FLAG_W,REFTMP,REFTMP_FLAG_W,DELC14,DELC14_FLAG_W,C14ERR,POC,POC_FLAG_W,PON,PON_FLAG_W,POP,POP_FLAG_W,PCOD,PCOD_FLAG_W,DOP,DOP_FLAG_W,TDN,TDN_FLAG_W,CTDFLUOR,CTDFLUOR_FLAG_W,CTDXMISS,CTDXMISS_FLAG_W,N2O,N2O_FLAG_W,ARGON,ARGON_FLAG_W,BTL_DATE,BTL_TIME,BTL_LAT,BTL_LON,KRYPTON,KRYPTON_FLAG_W,XENON,XENON_FLAG_W,HPLC,HPLC_FLAG_W,DNA,DNA_FLAG_W,FCM,FCM_FLAG_W
,,,,,,,,,,,METERS,DBAR,ITS-90,PSS-78,,PSS-78,,UMOL/KG,,UMOL/KG,,UMOL/KG,,UMOL/KG,,UMOL/KG,,UMOL/KG,,UMOL/KG,,PMOL/KG,,PMOL/KG,,PMOL/KG,,FMOL/KG,,UMOL/KG,,UMOL/KG,,,,DEG C,UMOL/KG,,ITS-90,,/MILLE,,/MILLE,UG/KG,,UG/KG,,UG/L,,UG/L,,UMOL/KG,,UMOL/KG,,VOLTS,,VOLTS,,NMOL/KG,,UMOL/L,,,,,,NMOL/L,,NMOL/L,,,,,,,
325020240221  ,I08        ,61      ,  1,5          ,5          ,2,20240325,1516, -34.7501,  95.0001,     4478,   3964.6,   1.0952,  34.7162,2,  34.7180,2,    204.1,2,    204.3,2,   119.24,2,     0.00,2,    32.21,2,     0.00,2,     2.24,2,    0.127,6,    0.058,6,    0.013,4,   0.0000,6,   2260.2,3,   2353.8,4,   7.6204,2,    24.99,     -999,9,   1.0952,2,     -999,9,     -999,     -999,9,     -999,9,     -999,9,     -999,9,     -999,9,     -999,9,   0.0181,1,   4.6325,1,     16.3,6,     -999,9,20240325,1530, -34.7503,  95.0000,     -999,9,     -999,9,-999          ,9,-999          ,9,-999          ,9
325020240221  ,I08        ,61      ,  1,3          ,3          ,2,20240325,1516, -34.7501,  95.0001,     4478,   4272.0,   1.0591,  34.7128,2,     -999,9,    204.9,2,     -999,9,     -999,9,     -999,9,     -999,9,     -999,9,     -999,9,     -999,9,     -999,9,     -999,9,     -999,9,     -999,9,     -999,9,     -999,9,     -999,     -999,9,   1.0590,2,     -999,9,     -999,     -999,9,     -999,9,     -999,9,     -999,9,     -999,9,     -999,9,   0.0180,1,   4.6338,1,     -999,9,     -999,9,20240325,1523, -34.7502,  95.0001,     -999,9,     -999,9,-999          ,9,-999          ,9,-999          ,9
325020240221  ,I08        ,61      ,  1,2          ,2          ,2,20240325,1516, -34.7501,  95.0001,     4478,   4272.5,   1.0593,  34.7131,2,  34.7140,2,    205.0,2,    205.1,2,   120.80,2,     0.03,2,    32.34,2,     0.00,2,     2.24,2,    0.153,2,    0.067,2,    0.022,4,   0.0000,2,   2263.8,3,   2375.2,2,   7.6229,2,    24.99,     -999,9,   1.0592,2,     -999,1,     -999,     -999,9,     -999,9,     -999,9,     -999,9,     -999,9,     -999,9,   0.0177,1,   4.6344,1,     16.0,2,     -999,9,20240325,1522, -34.7502,  95.0001,     -999,9,     -999,9,-999          ,9,-999          ,9,-999          ,9
325020240221  ,I08        ,61      ,  1,4          ,4          ,2,20240325,1516, -34.7501,  95.0001,     4478,   4272.5,   1.0590,  34.7128,2,     -999,9,    204.9,2,     -999,9,     -999,9,     -999,9,     -999,9,     -999,9,     -999,9,     -999,9,     -999,9,     -999,9,     -999,9,     -999,9,     -999,9,     -999,9,     -999,     -999,9,   1.0590,2,     -999,9,     -999,     -999,9,     -999,9,     -999,9,     -999,9,     -999,9,     -999,9,   0.0183,1,   4.6339,1,     -999,9,     -999,9,20240325,1523, -34.7502,  95.0001,     -999,9,     -999,9,-999          ,9,-999          ,9,-999          ,9
325020240221  ,I08        ,61      ,  1,1          ,1          ,2,20240325,1516, -34.7501,  95.0001,     4478,   4547.8,   1.0704,  34.7118,2,  34.7133,2,    205.3,2,    205.1,2,   121.48,2,     0.00,2,    32.37,2,     0.00,2,     2.25,2,    0.121,2,    0.070,2,    0.046,4,   0.0090,2,   2270.7,3,   2378.6,2,   7.6218,2,    24.98,     -999,9,   1.0700,2,     -999,1,     -999,     -999,9,     -999,9,     -999,9,     -999,9,     -999,9,     -999,9,   0.0182,1,   4.6359,1,      9.8,4,     -999,9,20240325,1516, -34.7501,  95.0001,     -999,9,     -999,9,-999          ,9,-999          ,9,-999          ,9