BOTTLE,20240417CCHHYDRO
EXPOCODE,SECT_ID,STNNBR,CASTNO,SAMPNO,BTLNBR,BTLNBR_FLAG_W,DATE,TIME,LATITUDE,LONGITUDE,DEPTH,CTDPRS,CTDTMP,CTDSAL,CTDSAL_FLAG_W,SALNTY,SALNTY_FLAG_W,CTDOXY,CTDOXY_FLAG_W,OXYGEN,OXYGEN_FLAG_W,SILCAT,SILCAT_FLAG_W,NH4,NH4_FLAG_W,NITRAT,NITRAT_FLAG_W,NITRIT,NITRIT_FLAG_W,PHSPHT,PHSPHT_FLAG_W,CFC-11,CFC-11_FLAG_W,CFC-12,CFC-12_FLAG_W,CFC113,CFC113_FLAG_W,SF6,SF6_FLAG_W,TCARBN,TCARBN_FLAG_W,ALKALI,ALKALI_FLAG_W,PH_TOT,PH_TOT_FLAG_W,PH_TMP,DOC,DOC_FLAG_W,REFTMP,REFTMP_FLAG_W,DELC14,DELC14_FLAG_W,C14ERR,POC,POC_FLAG_W,PON,PON_FLAG_W,POP,POP_FLAG_W,PCOD,PCOD_FLAG_W,DOP,DOP_FLAG_W,TDN,TDN_FLAG_W,CTDFLUOR,CTDFLUOR_FLAG_W,CTDXMISS,CTDXMISS_FLAG_W,N2O,N2O_FLAG_W,ARGON,ARGON_FLAG_W,BTL_DATE,BTL_TIME,BTL_LAT,BTL_LON,KRYPTON,KRYPTON_FLAG_W,XENON,XENON_FLAG_W,HPLC,HPLC_FLAG_W,DNA,DNA_FLAG_W,FCM,FCM_FLAG_W
,,,,,,,,,,,METERS,DBAR,ITS-90,PSS-78,,PSS-78,,UMOL/KG,,UMOL/KG,,UMOL/KG,,UMOL/KG,,UMOL/KG,,UMOL/KG,,UMOL/KG,,PMOL/KG,,PMOL/KG,,PMOL/KG,,FMOL/KG,,UMOL/KG,,UMOL/KG,,,,DEG C,UMOL/KG,,ITS-90,,/MILLE,,/MILLE,UG/KG,,UG/KG,,UG/L,,UG/L,,UMOL/KG,,UMOL/KG,,VOLTS,,VOLTS,,NMOL/KG,,UMOL/L,,,,,,NMOL/L,,NMOL/L,,,,,,,
325020240221  ,I08        ,46      ,  1,5          ,5          ,2,20240321,1548, -43.0111,  95.0069,     3272,   2432.6,   2.1990,  34.7441,2,  34.7421,2,    191.6,2,    191.9,2,    82.68,2,     0.00,2,    30.51,2,     0.00,2,     2.11,2,     -999,9,     -999,9,     -999,9,     -999,9,     -999,9,     -999,9,     -999,9,     -999,     -999,1,   2.1983,2,     -999,9,     -999,     -999,9,     -999,9,     -999,9,     -999,9,     -999,9,     -999,1,   0.0183,1,   4.6507,1,     -999,9,     -999,9,20240321,1613, -43.0112,  95.0069,     -999,9,     -999,9,-999          ,9,-999          ,9,-999          ,9
325020240221  ,I08        ,46      ,  1,4          ,4          ,2,20240321,1548, -43.0111,  95.0069,     3272,   2637.1,   2.0122,  34.7509,2,  34.7494,2,    195.9,2,    196.2,2,    88.05,2,     0.00,2,    30.44,2,     0.00,2,     2.11,2,    0.111,2,    0.075,2,    0.018,4,   0.0000,2,   2248.8,3,   2355.0,2,   7.6189,2,    24.97,     -999,1,   2.0122,2,     -999,9,     -999,     -999,9,     -999,9,     -999,9,     -999,9,     -999,9,     -999,1,   0.0183,1,   4.6470,1,     16.2,2,     -999,9,20240321,1607, -43.0113,  95.0069,     -999,9,     -999,9,-999          ,9,-999          ,9,-999          ,9
325020240221  ,I08        ,46      ,  1,3          ,3          ,2,20240321,1548, -43.0111,  95.0069,     3272,   2841.5,   1.6794,  34.7420,3,  34.7398,2,    198.5,2,    199.0,2,    99.17,2,     0.00,2,    31.04,2,     0.00,2,     2.15,2,     -999,9,     -999,9,     -999,9,     -999,9,     -999,9,     -999,9,     -999,9,     -999,     -999,1,   1.6797,2,     -999,9,     -999,     -999,9,     -999,9,     -999,9,     -999,9,     -999,9,     -999,1,   0.0183,1,   4.6446,1,     -999,9,     -999,9,20240321,1601, -43.0113,  95.0068,     -999,9,     -999,9,-999          ,9,-999          ,9,-999          ,9
325020240221  ,I08        ,46      ,  1,2          ,2          ,2,20240321,1548, -43.0111,  95.0069,     3272,   3045.7,   1.6002,  34.7391,2,  34.7374,2,    199.2,2,    199.0,2,   102.59,2,     0.00,2,    31.26,2,     0.00,2,     2.15,2,    0.122,2,    0.080,2,    0.028,4,   0.0680,2,   2271.4,3,   2361.3,2,   7.6168,2,    25.01,     -999,1,   1.6012,2,     -999,9,     -999,     -999,9,     -999,9,     -999,9,     -999,9,     -999,9,     -999,1,   0.0176,1,   4.6446,1,     15.8,2,     -999,9,20240321,1555, -43.0111,  95.0070,     -999,9,     -999,9,-999          ,9,-999          ,9,-999          ,9
325020240221  ,I08        ,46      ,  1,1          ,1          ,2,20240321,1548, -43.0111,  95.0069,     3272,   3313.3,   1.5055,  34.7344,2,  34.7331,2,    200.3,2,    200.2,2,   105.71,2,     0.00,2,    31.43,2,     0.00,2,     2.17,2,    0.130,2,    0.086,2,    0.053,4,   0.0820,2,   2262.6,3,   2361.9,2,   7.6159,2,    25.03,     -999,1,   1.5047,2,     -999,9,     -999,     -999,9,     -999,9,     -999,9,     -999,9,     -999,9,     -999,1,   0.0183,1,   4.6456,1,     10.0,4,     -999,9,20240321,1548, -43.0110,  95.0070,     -999,9,     -999,9,-999          ,9,-999          ,9,-999          ,9