BOTTLE,20240417CCHHYDRO
EXPOCODE,SECT_ID,STNNBR,CASTNO,SAMPNO,BTLNBR,BTLNBR_FLAG_W,DATE,TIME,LATITUDE,LONGITUDE,DEPTH,CTDPRS,CTDTMP,CTDSAL,CTDSAL_FLAG_W,SALNTY,SALNTY_FLAG_W,CTDOXY,CTDOXY_FLAG_W,OXYGEN,OXYGEN_FLAG_W,SILCAT,SILCAT_FLAG_W,NH4,NH4_FLAG_W,NITRAT,NITRAT_FLAG_W,NITRIT,NITRIT_FLAG_W,PHSPHT,PHSPHT_FLAG_W,CFC-11,CFC-11_FLAG_W,CFC-12,CFC-12_FLAG_W,CFC113,CFC113_FLAG_W,SF6,SF6_FLAG_W,TCARBN,TCARBN_FLAG_W,ALKALI,ALKALI_FLAG_W,PH_TOT,PH_TOT_FLAG_W,PH_TMP,DOC,DOC_FLAG_W,REFTMP,REFTMP_FLAG_W,DELC14,DELC14_FLAG_W,C14ERR,POC,POC_FLAG_W,PON,PON_FLAG_W,POP,POP_FLAG_W,PCOD,PCOD_FLAG_W,DOP,DOP_FLAG_W,TDN,TDN_FLAG_W,CTDFLUOR,CTDFLUOR_FLAG_W,CTDXMISS,CTDXMISS_FLAG_W,N2O,N2O_FLAG_W,ARGON,ARGON_FLAG_W,BTL_DATE,BTL_TIME,BTL_LAT,BTL_LON,KRYPTON,KRYPTON_FLAG_W,XENON,XENON_FLAG_W,HPLC,HPLC_FLAG_W,DNA,DNA_FLAG_W,FCM,FCM_FLAG_W
,,,,,,,,,,,METERS,DBAR,ITS-90,PSS-78,,PSS-78,,UMOL/KG,,UMOL/KG,,UMOL/KG,,UMOL/KG,,UMOL/KG,,UMOL/KG,,UMOL/KG,,PMOL/KG,,PMOL/KG,,PMOL/KG,,FMOL/KG,,UMOL/KG,,UMOL/KG,,,,DEG C,UMOL/KG,,ITS-90,,/MILLE,,/MILLE,UG/KG,,UG/KG,,UG/L,,UG/L,,UMOL/KG,,UMOL/KG,,VOLTS,,VOLTS,,NMOL/KG,,UMOL/L,,,,,,NMOL/L,,NMOL/L,,,,,,,
325020240221  ,I08        ,44      ,  1,5          ,5          ,2,20240321,0315, -44.0080,  95.0120,     3020,   2294.0,   2.2192,  34.7458,2,  34.7453,2,    193.0,2,    192.8,2,    80.42,2,     0.03,2,    30.53,2,     0.00,2,     2.06,2,     -999,9,     -999,9,     -999,9,     -999,9,   2242.0,3,   2347.6,2,   7.6142,2,    25.02,     -999,1,     -999,1,     -999,1,     -999,     -999,9,     -999,9,     -999,9,     -999,9,     -999,9,     -999,1,   0.0182,1,   4.6508,1,     -999,9,     -999,9,20240321,0336, -44.0059,  95.0118,     -999,9,     -999,9,-999          ,9,-999          ,9,-999          ,9
325020240221  ,I08        ,44      ,  1,4          ,4          ,2,20240321,0315, -44.0080,  95.0120,     3020,   2499.7,   2.0292,  34.7532,2,  34.7539,2,    196.7,2,    196.6,2,    86.08,2,     0.01,2,    30.36,2,     0.00,2,     2.07,2,    0.113,2,    0.080,2,    0.020,4,   0.0000,2,   2249.0,3,   2351.6,2,   7.6201,6,    25.00,     -999,1,     -999,1,     -999,1,     -999,     -999,9,     -999,9,     -999,9,     -999,9,     -999,9,     -999,1,   0.0182,1,   4.6484,1,     16.0,2,     -999,9,20240321,0331, -44.0060,  95.0116,     -999,9,     -999,9,-999          ,9,-999          ,9,-999          ,9
325020240221  ,I08        ,44      ,  1,3          ,3          ,2,20240321,0315, -44.0080,  95.0120,     3020,   2703.3,   1.7972,  34.7455,2,  34.7455,2,    197.4,2,    198.4,2,    95.35,2,     0.00,2,    30.85,2,     0.00,2,     2.09,2,     -999,9,     -999,9,     -999,9,     -999,9,     -999,9,     -999,9,     -999,9,     -999,     -999,1,     -999,1,     -999,9,     -999,     -999,9,     -999,9,     -999,9,     -999,9,     -999,9,     -999,1,   0.0182,1,   4.6458,1,     -999,9,     -999,9,20240321,0325, -44.0060,  95.0115,     -999,9,     -999,9,-999          ,9,-999          ,9,-999          ,9
325020240221  ,I08        ,44      ,  1,2          ,2          ,2,20240321,0315, -44.0080,  95.0120,     3020,   2907.9,   1.6419,  34.7403,2,  34.7390,2,    199.0,2,    199.0,2,   100.53,2,     0.01,2,    31.03,2,     0.00,2,     2.09,2,    0.111,2,    0.084,2,    0.042,4,   0.0080,2,   2255.6,3,   2359.6,6,   7.6171,2,    25.00,     -999,1,     -999,1,     -999,1,     -999,     -999,9,     -999,9,     -999,9,     -999,9,     -999,9,     -999,1,   0.0183,1,   4.6458,1,      9.8,2,     -999,9,20240321,0320, -44.0060,  95.0115,     -999,9,     -999,9,-999          ,9,-999          ,9,-999          ,9
325020240221  ,I08        ,44      ,  1,1          ,1          ,2,20240321,0315, -44.0080,  95.0120,     3020,   3057.1,   1.5851,  34.7382,2,  34.7406,3,    200.0,2,    199.5,2,   102.18,2,     0.01,2,    31.03,2,     0.00,2,     2.09,2,    0.123,2,    0.079,2,    0.027,4,   0.0050,2,   2257.1,3,   2359.9,2,   7.6166,2,    24.99,     -999,1,     -999,1,     -999,1,     -999,     -999,9,     -999,9,     -999,9,     -999,9,     -999,9,     -999,1,   0.0183,1,   4.6471,1,     15.5,2,     -999,9,20240321,0315, -44.0060,  95.0116,     -999,9,     -999,9,-999          ,9,-999          ,9,-999          ,9