BOTTLE,20240417CCHHYDRO
EXPOCODE,SECT_ID,STNNBR,CASTNO,SAMPNO,BTLNBR,BTLNBR_FLAG_W,DATE,TIME,LATITUDE,LONGITUDE,DEPTH,CTDPRS,CTDTMP,CTDSAL,CTDSAL_FLAG_W,SALNTY,SALNTY_FLAG_W,CTDOXY,CTDOXY_FLAG_W,OXYGEN,OXYGEN_FLAG_W,SILCAT,SILCAT_FLAG_W,NH4,NH4_FLAG_W,NITRAT,NITRAT_FLAG_W,NITRIT,NITRIT_FLAG_W,PHSPHT,PHSPHT_FLAG_W,CFC-11,CFC-11_FLAG_W,CFC-12,CFC-12_FLAG_W,CFC113,CFC113_FLAG_W,SF6,SF6_FLAG_W,TCARBN,TCARBN_FLAG_W,ALKALI,ALKALI_FLAG_W,PH_TOT,PH_TOT_FLAG_W,PH_TMP,DOC,DOC_FLAG_W,REFTMP,REFTMP_FLAG_W,DELC14,DELC14_FLAG_W,C14ERR,POC,POC_FLAG_W,PON,PON_FLAG_W,POP,POP_FLAG_W,PCOD,PCOD_FLAG_W,DOP,DOP_FLAG_W,TDN,TDN_FLAG_W,CTDFLUOR,CTDFLUOR_FLAG_W,CTDXMISS,CTDXMISS_FLAG_W,N2O,N2O_FLAG_W,ARGON,ARGON_FLAG_W,BTL_DATE,BTL_TIME,BTL_LAT,BTL_LON,KRYPTON,KRYPTON_FLAG_W,XENON,XENON_FLAG_W,HPLC,HPLC_FLAG_W,DNA,DNA_FLAG_W,FCM,FCM_FLAG_W
,,,,,,,,,,,METERS,DBAR,ITS-90,PSS-78,,PSS-78,,UMOL/KG,,UMOL/KG,,UMOL/KG,,UMOL/KG,,UMOL/KG,,UMOL/KG,,UMOL/KG,,PMOL/KG,,PMOL/KG,,PMOL/KG,,FMOL/KG,,UMOL/KG,,UMOL/KG,,,,DEG C,UMOL/KG,,ITS-90,,/MILLE,,/MILLE,UG/KG,,UG/KG,,UG/L,,UG/L,,UMOL/KG,,UMOL/KG,,VOLTS,,VOLTS,,NMOL/KG,,UMOL/L,,,,,,NMOL/L,,NMOL/L,,,,,,,
325020240221  ,I08        ,29      ,  1,36         ,36         ,2,20240315,0001, -56.0570,  84.2606,     4762,      4.0,   2.7813,  33.8147,2,  33.8151,2,    321.9,2,    321.4,2,    17.88,2,     0.36,2,    25.35,2,     0.27,2,     1.70,2,    4.986,2,    2.786,2,    0.451,2,   4.3310,2,   2159.7,3,   2280.9,2,   7.6861,2,    25.02,     -999,1,   2.7813,2,     -999,9,     -999,     -999,9,     -999,9,     -999,9,     -999,9,     -999,9,     -999,1,   0.0293,1,   4.4978,1,     11.6,2,     -999,9,20240315,0248, -56.0570,  84.2606,     -999,9,     -999,9,-999          ,9,-999          ,9,-999          ,9
325020240221  ,I08        ,29      ,  1,35         ,35         ,2,20240315,0001, -56.0570,  84.2606,     4762,     34.9,   2.7759,  33.8141,2,  33.8151,2,    321.8,2,    321.1,2,    17.78,2,     0.39,2,    25.42,2,     0.27,2,     1.67,2,    4.951,2,    2.748,2,    0.448,2,   4.3250,2,   2159.6,3,   2281.8,2,   7.6861,2,    25.05,     -999,9,   2.7751,2,     -999,9,     -999,     -999,9,     -999,9,     -999,9,     -999,9,     -999,9,     -999,9,   0.0508,1,   4.4988,1,     12.1,2,     -999,9,20240315,0246, -56.0571,  84.2606,     -999,9,     -999,9,-999          ,9,-999          ,9,-999          ,9
325020240221  ,I08        ,29      ,  1,34         ,34         ,2,20240315,0001, -56.0570,  84.2606,     4762,     59.5,   2.7595,  33.8130,2,  33.8145,2,    321.9,2,    322.0,2,    17.97,2,     0.37,2,    25.43,2,     0.27,2,     1.67,2,    5.255,2,    2.835,2,    0.453,2,   4.2230,2,   2158.6,3,   2282.3,2,   7.6860,2,    25.02,     -999,9,   2.7559,2,     -999,9,     -999,     -999,9,     -999,9,     -999,9,     -999,9,     -999,9,     -999,9,   0.0537,1,   4.4986,1,     12.6,2,     -999,9,20240315,0244, -56.0571,  84.2606,     -999,9,     -999,9,-999          ,9,-999          ,9,-999          ,9
325020240221  ,I08        ,29      ,  1,33         ,33         ,2,20240315,0001, -56.0570,  84.2606,     4762,     85.6,   2.6853,  33.8100,2,  33.8104,2,    322.5,2,    322.3,2,    18.27,2,     0.40,2,    25.44,2,     0.27,2,     1.66,2,    5.055,2,    2.847,2,    0.465,2,   4.2240,2,   2158.1,3,   2283.7,2,   7.6857,2,    25.04,     -999,9,   2.6866,2,     -999,9,     -999,     -999,9,     -999,9,     -999,9,     -999,9,     -999,9,     -999,9,   0.0549,1,   4.5032,1,     13.3,2,     -999,9,20240315,0241, -56.0571,  84.2606,     -999,9,     -999,9,-999          ,9,-999          ,9,-999          ,9
325020240221  ,I08        ,29      ,  1,32         ,32         ,2,20240315,0001, -56.0570,  84.2606,     4762,    116.1,   2.5541,  33.8261,2,  33.8275,2,    322.3,2,    323.4,2,    20.42,2,     0.57,2,    25.46,2,     0.29,2,     1.71,2,    4.969,2,    2.797,2,    0.476,2,   4.2230,2,   2162.5,3,   2284.4,2,   7.6844,2,    25.04,     -999,9,   2.5548,2,     -999,9,     -999,     -999,9,     -999,9,     -999,9,     -999,9,     -999,9,     -999,9,   0.0524,1,   4.5207,1,     13.9,2,     -999,9,20240315,0239, -56.0571,  84.2605,     -999,9,     -999,9,-999          ,9,-999          ,9,-999          ,9
325020240221  ,I08        ,29      ,  1,31         ,31         ,2,20240315,0001, -56.0570,  84.2606,     4762,    165.8,   0.6541,  33.9969,2,  33.9976,2,    298.9,2,    299.7,2,    39.36,2,     0.23,2,    29.73,2,     0.20,2,     2.05,2,    4.655,2,    2.692,2,    0.437,2,   3.3820,2,   2196.1,3,   2293.0,2,   7.6132,2,    25.00,     -999,9,   0.6572,2,     -999,9,     -999,     -999,9,     -999,9,     -999,9,     -999,9,     -999,9,     -999,9,   0.0232,1,   4.6024,1,     17.9,2,     -999,9,20240315,0236, -56.0571,  84.2605,     -999,9,     -999,9,-999          ,9,-999          ,9,-999          ,9
325020240221  ,I08        ,29      ,  1,30         ,30         ,2,20240315,0001, -56.0570,  84.2606,     4762,    216.3,   1.3823,  34.2230,2,  34.2268,2,    239.6,2,    237.6,2,    53.42,2,     0.03,2,    33.21,2,     0.00,2,     2.29,2,    3.283,2,    1.794,2,    0.305,2,   2.2570,2,   2225.6,3,   2305.3,2,   7.5628,6,    25.02,     -999,9,   1.3833,2,     -999,9,     -999,     -999,9,     -999,9,     -999,9,     -999,9,     -999,9,     -999,9,   0.0195,1,   4.6155,1,     21.0,2,     -999,9,20240315,0233, -56.0571,  84.2606,     -999,9,     -999,9,-999          ,9,-999          ,9,-999          ,9
325020240221  ,I08        ,29      ,  1,29         ,29         ,2,20240315,0001, -56.0570,  84.2606,     4762,    267.5,   1.6632,  34.3389,2,  34.3386,2,    212.7,2,    211.4,2,    62.30,2,     0.02,2,    34.12,2,     0.00,2,     2.31,2,    2.476,2,    1.387,2,    0.227,2,   1.4420,2,   2236.5,3,   2312.1,2,   7.5428,2,    25.04,     -999,9,   1.6631,2,     -999,9,     -999,     -999,9,     -999,9,     -999,9,     -999,9,     -999,9,     -999,9,   0.0183,1,   4.6183,1,     21.7,2,     -999,9,20240315,0231, -56.0571,  84.2606,     -999,9,     -999,9,-999          ,9,-999          ,9,-999          ,9
325020240221  ,I08        ,29      ,  1,28         ,28         ,2,20240315,0001, -56.0570,  84.2606,     4762,    317.8,   1.9562,  34.4358,2,  34.4375,2,    189.8,2,    189.0,2,    69.52,2,     0.02,2,    34.88,2,     0.00,2,     2.34,2,    1.826,2,    1.001,2,    0.157,2,   1.0510,2,   2250.1,3,   2321.3,2,   7.5325,2,    25.02,     -999,9,   1.9558,2,     -999,9,     -999,     -999,9,     -999,9,     -999,9,     -999,9,     -999,9,     -999,9,   0.0183,1,   4.6185,1,     22.5,2,     -999,9,20240315,0227, -56.0571,  84.2606,     -999,9,     -999,9,-999          ,9,-999          ,9,-999          ,9
325020240221  ,I08        ,29      ,  1,27         ,27         ,2,20240315,0001, -56.0570,  84.2606,     4762,    368.2,   2.4453,  34.5279,2,  34.5288,2,    176.6,2,    175.6,2,    70.00,2,     0.00,2,    34.17,2,     0.00,2,     2.30,2,    1.000,2,    0.555,2,    0.082,2,   0.4400,2,   2248.7,3,   2326.6,2,   7.5486,2,    24.99,     -999,9,   2.4446,2,     -999,9,     -999,     -999,9,     -999,9,     -999,9,     -999,9,     -999,9,     -999,9,   0.0183,1,   4.6350,1,     22.5,2,     -999,9,20240315,0225, -56.0571,  84.2606,     -999,9,     -999,9,-999          ,9,-999          ,9,-999          ,9
325020240221  ,I08        ,29      ,  1,26         ,26         ,2,20240315,0001, -56.0570,  84.2606,     4762,    438.2,   2.3637,  34.5536,2,  34.5535,2,    174.3,2,    174.7,2,    72.44,2,     0.00,2,    34.19,2,     0.00,2,     2.33,2,    0.953,6,    0.506,6,    0.068,6,   0.3940,6,   2251.6,3,   2329.6,2,   7.5485,6,    25.03,     -999,9,   2.3633,2,     -999,9,     -999,     -999,9,     -999,9,     -999,9,     -999,9,     -999,9,     -999,9,   0.0183,1,   4.6349,1,     23.0,6,     -999,9,20240315,0221, -56.0571,  84.2606,     -999,9,     -999,9,-999          ,9,-999          ,9,-999          ,9
325020240221  ,I08        ,29      ,  1,25         ,25         ,2,20240315,0001, -56.0570,  84.2606,     4762,    540.7,   2.3477,  34.6039,2,  34.6044,2,    173.2,2,    173.7,2,    74.59,2,     0.00,2,    33.75,2,     0.00,2,     2.26,2,    0.696,2,    0.362,2,    0.047,2,   0.2540,2,   2251.4,3,   2329.0,2,   7.5569,2,    25.04,     -999,9,   2.3479,2,     -999,9,     -999,     -999,9,     -999,9,     -999,9,     -999,9,     -999,9,     -999,9,   0.0183,1,   4.6372,1,     23.5,2,     -999,9,20240315,0217, -56.0571,  84.2606,     -999,9,     -999,9,-999          ,9,-999          ,9,-999          ,9
325020240221  ,I08        ,29      ,  1,24         ,24         ,2,20240315,0001, -56.0570,  84.2606,     4762,    640.7,   2.2784,  34.6445,2,  34.6474,2,    174.5,2,    174.7,2,    77.80,2,     0.04,2,    33.29,2,     0.00,2,     2.24,2,    0.576,2,    0.296,2,    0.032,2,   0.1910,2,   2252.9,3,   2335.6,2,   7.5640,6,    25.02,     -999,9,   2.2794,2,     -999,9,     -999,     -999,9,     -999,9,     -999,9,     -999,9,     -999,9,     -999,9,   0.0183,1,   4.6395,1,     23.7,2,     -999,9,20240315,0213, -56.0571,  84.2606,     -999,9,     -999,9,-999          ,9,-999          ,9,-999          ,9
325020240221  ,I08        ,29      ,  1,23         ,37         ,2,20240315,0001, -56.0570,  84.2606,     4762,    742.2,   2.2774,  34.6790,2,  34.6796,2,    178.6,2,    178.3,2,    77.70,2,     0.00,2,    32.51,2,     0.00,2,     2.17,2,    0.429,2,    0.218,2,    0.022,2,   0.1450,2,   2250.8,3,   2338.5,6,   7.5776,2,    25.03,     -999,9,   2.2772,2,     -999,9,     -999,     -999,9,     -999,9,     -999,9,     -999,9,     -999,9,     -999,9,   0.0183,1,   4.6437,1,     23.8,2,     -999,9,20240315,0210, -56.0571,  84.2606,     -999,9,     -999,9,-999          ,9,-999          ,9,-999          ,9
325020240221  ,I08        ,29      ,  1,22         ,22         ,2,20240315,0001, -56.0570,  84.2606,     4762,    843.3,   2.1274,  34.6887,2,  34.6897,2,    179.1,2,    179.5,2,    80.93,2,     0.00,2,    32.62,2,     0.00,2,     2.17,2,    0.494,2,    0.249,2,    0.028,2,   0.2070,2,   2249.9,3,   2341.1,2,   7.5759,2,    25.03,     -999,9,   2.1273,2,     -999,9,     -999,     -999,9,     -999,9,     -999,9,     -999,9,     -999,9,     -999,9,   0.0183,1,   4.6422,1,     24.0,2,     -999,9,20240315,0206, -56.0571,  84.2605,     -999,9,     -999,9,-999          ,9,-999          ,9,-999          ,9
325020240221  ,I08        ,29      ,  1,21         ,21         ,2,20240315,0001, -56.0570,  84.2606,     4762,    944.7,   2.1321,  34.7158,2,  34.7172,2,    183.8,2,    184.1,2,    81.22,2,     0.00,2,    31.80,2,     0.00,2,     2.14,2,    0.339,2,    0.172,2,    0.037,2,   0.0490,2,   2247.2,3,   2342.2,2,   7.5908,2,    24.99,     -999,9,   2.1319,2,     -999,9,     -999,     -999,9,     -999,9,     -999,9,     -999,9,     -999,9,     -999,9,   0.0183,1,   4.6400,1,     19.4,2,     -999,9,20240315,0202, -56.0571,  84.2606,     -999,9,     -999,9,-999          ,9,-999          ,9,-999          ,9
325020240221  ,I08        ,29      ,  1,20         ,20         ,2,20240315,0001, -56.0570,  84.2606,     4762,   1046.4,   2.0299,  34.7258,2,  34.7266,2,    186.1,2,    186.2,2,    83.75,2,     0.00,2,    31.58,2,     0.00,2,     2.10,2,    0.327,2,    0.164,2,    0.014,2,   0.0430,2,   2248.9,3,   2344.7,2,   7.5942,6,    25.00,     -999,9,   2.0296,2,     -999,9,     -999,     -999,9,     -999,9,     -999,9,     -999,9,     -999,9,     -999,9,   0.0183,1,   4.6410,1,     25.2,2,     -999,9,20240315,0157, -56.0571,  84.2606,     -999,9,     -999,9,-999          ,9,-999          ,9,-999          ,9
325020240221  ,I08        ,29      ,  1,19         ,19         ,2,20240315,0001, -56.0570,  84.2606,     4762,   1147.7,   1.9581,  34.7341,2,  34.7388,2,    189.0,2,    190.2,2,    84.83,2,     0.00,2,    31.13,2,     0.00,2,     2.06,2,    0.296,2,    0.152,2,    0.014,2,   0.0000,2,   2249.2,3,   2344.5,2,   7.5991,2,    25.04,     -999,9,   1.9582,2,     -999,9,     -999,     -999,9,     -999,9,     -999,9,     -999,9,     -999,9,     -999,9,   0.0183,1,   4.6398,1,     25.4,2,     -999,9,20240315,0153, -56.0571,  84.2606,     -999,9,     -999,9,-999          ,9,-999          ,9,-999          ,9
325020240221  ,I08        ,29      ,  1,18         ,18         ,2,20240315,0001, -56.0570,  84.2606,     4762,   1249.7,   1.8724,  34.7402,2,  34.7406,2,    192.0,2,    191.7,2,    86.68,2,     0.00,2,    30.83,2,     0.00,2,     2.05,2,    0.270,2,    0.142,2,    0.012,2,   0.0000,2,   2249.7,3,   2345.8,2,   7.6041,2,    25.02,     -999,9,   1.8751,2,     -999,9,     -999,     -999,9,     -999,9,     -999,9,     -999,9,     -999,9,     -999,9,   0.0183,1,   4.6386,1,     25.6,2,     -999,9,20240315,0150, -56.0571,  84.2606,     -999,9,     -999,9,-999          ,9,-999          ,9,-999          ,9
325020240221  ,I08        ,29      ,  1,17         ,17         ,2,20240315,0001, -56.0570,  84.2606,     4762,   1351.1,   1.7660,  34.7424,2,  34.7429,2,    194.3,2,     -999,9,    89.02,2,     0.00,2,    30.59,2,     0.00,2,     2.04,2,     -999,9,     -999,9,     -999,9,     -999,9,     -999,9,     -999,9,     -999,9,     -999,     -999,9,   1.7653,2,     -999,9,     -999,     -999,9,     -999,9,     -999,9,     -999,9,     -999,9,     -999,9,   0.0183,1,   4.6374,1,     -999,9,     -999,9,20240315,0146, -56.0571,  84.2606,     -999,9,     -999,9,-999          ,9,-999          ,9,-999          ,9
325020240221  ,I08        ,29      ,  1,16         ,16         ,2,20240315,0001, -56.0570,  84.2606,     4762,   1452.3,   1.6967,  34.7456,2,  34.7465,2,    197.2,2,    197.3,2,    91.37,2,     0.00,2,    30.33,2,     0.00,2,     2.03,2,    0.248,2,    0.126,2,    0.011,2,   0.0000,2,   2249.1,3,   2349.4,2,   7.6126,6,    25.03,     -999,9,   1.6962,2,     -999,9,     -999,     -999,9,     -999,9,     -999,9,     -999,9,     -999,9,     -999,9,   0.0183,1,   4.6360,1,     26.1,2,     -999,9,20240315,0142, -56.0571,  84.2606,     -999,9,     -999,9,-999          ,9,-999          ,9,-999          ,9
325020240221  ,I08        ,29      ,  1,15         ,15         ,2,20240315,0001, -56.0570,  84.2606,     4762,   1553.8,   1.5904,  34.7427,2,  34.7429,2,    198.6,2,    198.4,2,    94.39,2,     0.00,2,    30.37,2,     0.00,2,     2.05,2,    0.255,2,    0.131,2,    0.010,2,   0.0190,2,   2249.3,3,   2350.1,2,   7.6112,2,    25.02,     -999,9,   1.5892,2,     -999,9,     -999,     -999,9,     -999,9,     -999,9,     -999,9,     -999,9,     -999,9,   0.0189,1,   4.6349,1,     26.5,2,     -999,9,20240315,0139, -56.0571,  84.2606,     -999,9,     -999,9,-999          ,9,-999          ,9,-999          ,9
325020240221  ,I08        ,29      ,  1,14         ,14         ,2,20240315,0001, -56.0570,  84.2606,     4762,   1687.2,   1.4707,  34.7384,2,  34.7392,2,    200.0,2,    199.8,2,    97.22,2,     0.00,2,    30.52,2,     0.00,2,     2.06,2,    0.294,2,    0.146,2,    0.012,2,   0.0000,2,   2251.5,3,   2349.9,2,   7.6110,2,    25.01,     -999,9,   1.4712,2,     -999,9,     -999,     -999,9,     -999,9,     -999,9,     -999,9,     -999,9,     -999,9,   0.0189,1,   4.6325,1,     26.8,2,     -999,9,20240315,0134, -56.0571,  84.2606,     -999,9,     -999,9,-999          ,9,-999          ,9,-999          ,9
325020240221  ,I08        ,29      ,  1,13         ,13         ,2,20240315,0001, -56.0570,  84.2606,     4762,   1890.3,   1.3026,  34.7320,2,  34.7329,2,    202.3,2,    202.0,2,   102.50,2,     0.00,2,    30.82,2,     0.00,2,     2.09,2,    0.301,2,    0.144,2,    0.011,2,   0.0010,2,   2251.5,3,   2352.7,2,   7.6100,2,    24.98,     -999,9,   1.3026,2,     -999,9,     -999,     -999,9,     -999,9,     -999,9,     -999,9,     -999,9,     -999,9,   0.0183,1,   4.6314,1,     27.4,2,     -999,9,20240315,0128, -56.0571,  84.2606,     -999,9,     -999,9,-999          ,9,-999          ,9,-999          ,9
325020240221  ,I08        ,29      ,  1,12         ,12         ,2,20240315,0001, -56.0570,  84.2606,     4762,   2115.2,   1.1287,  34.7227,2,  34.7239,2,    203.8,2,    203.8,2,   107.77,2,     0.00,2,    31.22,2,     0.00,2,     2.13,2,    0.309,2,    0.156,2,    0.013,2,   0.1130,2,   2255.2,3,   2354.6,2,   7.6073,2,    24.99,     -999,9,   1.1284,2,     -999,9,     -999,     -999,9,     -999,9,     -999,9,     -999,9,     -999,9,     -999,9,   0.0183,1,   4.6290,1,     27.8,2,     -999,9,20240315,0121, -56.0571,  84.2606,     -999,9,     -999,9,-999          ,9,-999          ,9,-999          ,9
325020240221  ,I08        ,29      ,  1,11         ,11         ,2,20240315,0001, -56.0570,  84.2606,     4762,   2369.2,   0.9358,  34.7119,2,  34.7125,2,    205.8,2,    205.7,2,   113.63,2,     0.00,2,    31.71,2,     0.00,2,     2.19,2,    0.356,2,    0.183,2,    0.014,2,   0.0460,2,   2257.6,3,   2355.9,2,   7.6024,2,    24.98,     -999,9,   0.9359,2,     -999,9,     -999,     -999,9,     -999,9,     -999,9,     -999,9,     -999,9,     -999,9,   0.0183,1,   4.6264,1,     28.4,2,     -999,9,20240315,0114, -56.0570,  84.2606,     -999,9,     -999,9,-999          ,9,-999          ,9,-999          ,9
325020240221  ,I08        ,29      ,  1,10         ,10         ,2,20240315,0001, -56.0570,  84.2606,     4762,   2625.0,   0.7432,  34.7009,2,  34.7013,2,    208.3,2,    208.5,2,   118.90,2,     0.00,2,    32.15,2,     0.00,2,     2.19,2,    0.428,2,    0.210,2,    0.020,2,   0.0250,2,   2259.0,3,   2354.7,2,   7.5987,6,    24.99,     -999,9,   0.7428,2,     -999,9,     -999,     -999,9,     -999,9,     -999,9,     -999,9,     -999,9,     -999,9,   0.0180,1,   4.6249,1,     28.7,2,     -999,9,20240315,0106, -56.0571,  84.2606,     -999,9,     -999,9,-999          ,9,-999          ,9,-999          ,9
325020240221  ,I08        ,29      ,  1,9          ,9          ,2,20240315,0001, -56.0570,  84.2606,     4762,   2881.2,   0.5931,  34.6924,2,  34.6926,2,    210.6,2,    210.6,2,   122.51,2,     0.00,2,    32.46,2,     0.00,2,     2.23,2,    0.501,2,    0.240,2,    0.020,2,   0.1210,2,   2258.8,3,   2355.8,6,   7.5951,2,    24.99,     -999,9,   0.5930,2,     -999,9,     -999,     -999,9,     -999,9,     -999,9,     -999,9,     -999,9,     -999,9,   0.0182,1,   4.6227,1,     29.4,2,     -999,9,20240315,0059, -56.0571,  84.2606,     -999,9,     -999,9,-999          ,9,-999          ,9,-999          ,9
325020240221  ,I08        ,29      ,  1,8          ,8          ,2,20240315,0001, -56.0570,  84.2606,     4762,   3151.2,   0.4559,  34.6855,2,  34.6853,2,    214.6,2,    214.6,2,   126.90,2,     0.00,2,    32.59,2,     0.00,2,     2.22,2,    0.638,2,    0.321,2,    0.033,2,   0.1940,2,   2259.1,3,   2353.9,2,   7.5951,2,    25.00,     -999,9,   0.4561,2,     -999,9,     -999,     -999,9,     -999,9,     -999,9,     -999,9,     -999,9,     -999,9,   0.0183,1,   4.6226,1,     30.0,2,     -999,9,20240315,0051, -56.0570,  84.2606,     -999,9,     -999,9,-999          ,9,-999          ,9,-999          ,9
325020240221  ,I08        ,29      ,  1,7          ,7          ,2,20240315,0001, -56.0570,  84.2606,     4762,   3458.7,   0.3398,  34.6790,2,  34.6787,2,    218.6,2,    218.7,2,   128.08,2,     0.00,2,    32.58,2,     0.00,2,     2.23,2,    0.811,2,    0.398,2,    0.046,2,   0.2430,2,   2257.9,3,   2354.8,2,   7.5942,2,    24.98,     -999,9,   0.3400,2,     -999,9,     -999,     -999,9,     -999,9,     -999,9,     -999,9,     -999,9,     -999,9,   0.0183,1,   4.6218,1,     30.6,2,     -999,9,20240315,0042, -56.0571,  84.2605,     -999,9,     -999,9,-999          ,9,-999          ,9,-999          ,9
325020240221  ,I08        ,29      ,  1,6          ,6          ,2,20240315,0001, -56.0570,  84.2606,     4762,   3767.0,   0.2562,  34.6738,2,  34.6737,2,    221.6,2,    221.7,2,   129.54,2,     0.00,2,    32.59,2,     0.00,2,     2.23,2,    0.987,2,    0.482,2,    0.056,2,   0.2650,2,   2259.5,3,   2352.7,2,   7.5938,2,    25.03,     -999,9,   0.2561,2,     -999,9,     -999,     -999,9,     -999,9,     -999,9,     -999,9,     -999,9,     -999,9,   0.0183,1,   4.6217,1,     31.0,2,     -999,9,20240315,0033, -56.0571,  84.2606,     -999,9,     -999,9,-999          ,9,-999          ,9,-999          ,9