BOTTLE,20240417CCHHYDRO
EXPOCODE,SECT_ID,STNNBR,CASTNO,SAMPNO,BTLNBR,BTLNBR_FLAG_W,DATE,TIME,LATITUDE,LONGITUDE,DEPTH,CTDPRS,CTDTMP,CTDSAL,CTDSAL_FLAG_W,SALNTY,SALNTY_FLAG_W,CTDOXY,CTDOXY_FLAG_W,OXYGEN,OXYGEN_FLAG_W,SILCAT,SILCAT_FLAG_W,NH4,NH4_FLAG_W,NITRAT,NITRAT_FLAG_W,NITRIT,NITRIT_FLAG_W,PHSPHT,PHSPHT_FLAG_W,CFC-11,CFC-11_FLAG_W,CFC-12,CFC-12_FLAG_W,CFC113,CFC113_FLAG_W,SF6,SF6_FLAG_W,TCARBN,TCARBN_FLAG_W,ALKALI,ALKALI_FLAG_W,PH_TOT,PH_TOT_FLAG_W,PH_TMP,DOC,DOC_FLAG_W,REFTMP,REFTMP_FLAG_W,DELC14,DELC14_FLAG_W,C14ERR,POC,POC_FLAG_W,PON,PON_FLAG_W,POP,POP_FLAG_W,PCOD,PCOD_FLAG_W,DOP,DOP_FLAG_W,TDN,TDN_FLAG_W,CTDFLUOR,CTDFLUOR_FLAG_W,CTDXMISS,CTDXMISS_FLAG_W,N2O,N2O_FLAG_W,ARGON,ARGON_FLAG_W,BTL_DATE,BTL_TIME,BTL_LAT,BTL_LON,KRYPTON,KRYPTON_FLAG_W,XENON,XENON_FLAG_W,HPLC,HPLC_FLAG_W,DNA,DNA_FLAG_W,FCM,FCM_FLAG_W
,,,,,,,,,,,METERS,DBAR,ITS-90,PSS-78,,PSS-78,,UMOL/KG,,UMOL/KG,,UMOL/KG,,UMOL/KG,,UMOL/KG,,UMOL/KG,,UMOL/KG,,PMOL/KG,,PMOL/KG,,PMOL/KG,,FMOL/KG,,UMOL/KG,,UMOL/KG,,,,DEG C,UMOL/KG,,ITS-90,,/MILLE,,/MILLE,UG/KG,,UG/KG,,UG/L,,UG/L,,UMOL/KG,,UMOL/KG,,VOLTS,,VOLTS,,NMOL/KG,,UMOL/L,,,,,,NMOL/L,,NMOL/L,,,,,,,
325020240221  ,I08        ,26      ,  1,5          ,5          ,2,20240312,1715, -56.8970,  83.3091,     4528,   3561.2,   0.1801,  34.6719,2,  34.6734,2,    223.5,2,    223.6,2,   130.01,2,     0.00,2,    32.32,2,     0.00,2,     2.27,2,    1.117,2,    0.518,2,    0.063,2,   0.4190,2,   2257.5,3,   2357.2,2,   7.5941,6,    25.00,     -999,9,   0.1798,2,     -999,9,     -999,     -999,9,     -999,9,     -999,9,     -999,9,     -999,9,     -999,9,   0.0180,1,   4.6227,1,     13.3,2,     -999,9,20240312,1739, -56.8969,  83.3092,     -999,9,     -999,9,-999          ,9,-999          ,9,-999          ,9
325020240221  ,I08        ,26      ,  1,4          ,4          ,2,20240312,1715, -56.8970,  83.3091,     4528,   3866.4,   0.1278,  34.6685,2,  34.6692,2,    226.0,2,    225.9,2,   130.50,2,     0.00,2,    32.32,2,     0.00,2,     2.28,2,    1.274,2,    0.606,2,    0.073,2,   0.4960,2,     -999,9,     -999,9,     -999,9,     -999,     -999,9,   0.1277,2,     -999,9,     -999,     -999,9,     -999,9,     -999,9,     -999,9,     -999,9,     -999,9,   0.0183,1,   4.6237,1,     13.3,2,     -999,9,20240312,1733, -56.8969,  83.3093,     -999,9,     -999,9,-999          ,9,-999          ,9,-999          ,9
325020240221  ,I08        ,26      ,  1,3          ,3          ,2,20240312,1715, -56.8970,  83.3091,     4528,   4176.9,   0.0825,  34.6650,2,  34.6645,2,    228.3,2,    228.6,2,   131.18,2,     0.00,2,    32.34,2,     0.00,2,     2.27,2,    1.578,2,    0.687,2,    0.083,2,   0.5580,2,   2257.7,3,   2354.4,6,   7.5928,2,    25.00,     -999,9,   0.0821,2,     -999,9,     -999,     -999,9,     -999,9,     -999,9,     -999,9,     -999,9,     -999,9,   0.0182,1,   4.6250,1,     13.2,2,     -999,9,20240312,1727, -56.8969,  83.3092,     -999,9,     -999,9,-999          ,9,-999          ,9,-999          ,9
325020240221  ,I08        ,26      ,  1,2          ,2          ,2,20240312,1715, -56.8970,  83.3091,     4528,   4389.2,   0.0401,  34.6617,2,  34.6614,2,    230.4,2,    230.4,2,   131.47,2,     0.00,2,    32.35,2,     0.00,2,     2.26,2,    1.695,2,    0.780,2,    0.104,2,   0.7150,2,   2258.0,3,   2353.7,2,   7.5915,2,    24.99,     -999,9,   0.0397,2,     -999,9,     -999,     -999,9,     -999,9,     -999,9,     -999,9,     -999,9,     -999,9,   0.0183,1,   4.6011,1,     12.9,2,     -999,9,20240312,1721, -56.8969,  83.3092,     -999,9,     -999,9,-999          ,9,-999          ,9,-999          ,9
325020240221  ,I08        ,26      ,  1,1          ,1          ,2,20240312,1715, -56.8970,  83.3091,     4528,   4607.9,   0.0210,  34.6597,2,  34.6596,2,    232.1,2,    232.0,2,   132.16,2,     0.00,2,    32.31,2,     0.00,2,     2.25,2,    1.852,2,    0.885,2,    0.124,2,   0.7940,2,   2259.9,3,   2356.9,2,   7.5909,2,    24.98,     -999,9,   0.0208,2,     -999,9,     -999,     -999,9,     -999,9,     -999,9,     -999,9,     -999,9,     -999,9,   0.0181,1,   4.4827,1,      8.0,2,     -999,9,20240312,1715, -56.8969,  83.3092,     -999,9,     -999,9,-999          ,9,-999          ,9,-999          ,9