BOTTLE,20240417CCHHYDRO
EXPOCODE,SECT_ID,STNNBR,CASTNO,SAMPNO,BTLNBR,BTLNBR_FLAG_W,DATE,TIME,LATITUDE,LONGITUDE,DEPTH,CTDPRS,CTDTMP,CTDSAL,CTDSAL_FLAG_W,SALNTY,SALNTY_FLAG_W,CTDOXY,CTDOXY_FLAG_W,OXYGEN,OXYGEN_FLAG_W,SILCAT,SILCAT_FLAG_W,NH4,NH4_FLAG_W,NITRAT,NITRAT_FLAG_W,NITRIT,NITRIT_FLAG_W,PHSPHT,PHSPHT_FLAG_W,CFC-11,CFC-11_FLAG_W,CFC-12,CFC-12_FLAG_W,CFC113,CFC113_FLAG_W,SF6,SF6_FLAG_W,TCARBN,TCARBN_FLAG_W,ALKALI,ALKALI_FLAG_W,PH_TOT,PH_TOT_FLAG_W,PH_TMP,DOC,DOC_FLAG_W,REFTMP,REFTMP_FLAG_W,DELC14,DELC14_FLAG_W,C14ERR,POC,POC_FLAG_W,PON,PON_FLAG_W,POP,POP_FLAG_W,PCOD,PCOD_FLAG_W,DOP,DOP_FLAG_W,TDN,TDN_FLAG_W,CTDFLUOR,CTDFLUOR_FLAG_W,CTDXMISS,CTDXMISS_FLAG_W,N2O,N2O_FLAG_W,ARGON,ARGON_FLAG_W,BTL_DATE,BTL_TIME,BTL_LAT,BTL_LON,KRYPTON,KRYPTON_FLAG_W,XENON,XENON_FLAG_W,HPLC,HPLC_FLAG_W,DNA,DNA_FLAG_W,FCM,FCM_FLAG_W
,,,,,,,,,,,METERS,DBAR,ITS-90,PSS-78,,PSS-78,,UMOL/KG,,UMOL/KG,,UMOL/KG,,UMOL/KG,,UMOL/KG,,UMOL/KG,,UMOL/KG,,PMOL/KG,,PMOL/KG,,PMOL/KG,,FMOL/KG,,UMOL/KG,,UMOL/KG,,,,DEG C,UMOL/KG,,ITS-90,,/MILLE,,/MILLE,UG/KG,,UG/KG,,UG/L,,UG/L,,UMOL/KG,,UMOL/KG,,VOLTS,,VOLTS,,NMOL/KG,,UMOL/L,,,,,,NMOL/L,,NMOL/L,,,,,,,
325020240221  ,I08        ,48      ,  1,36         ,36         ,2,20240322,0356, -42.0084,  95.0074,     3270,      3.3,  14.1322,  34.6344,2,     -999,9,    260.5,2,     -999,9,     -999,9,     -999,9,     -999,9,     -999,9,     -999,9,     -999,9,     -999,9,     -999,9,     -999,9,     -999,9,     -999,9,     -999,9,     -999,     -999,9,  14.1350,2,     -999,9,     -999,     -999,9,     -999,9,     -999,9,     -999,9,     -999,9,     -999,9,   0.0293,1,   4.4745,1,     -999,9,     -999,9,20240322,0540, -42.0084,  95.0074,     -999,9,     -999,9,-999          ,1,-999          ,9,-999          ,9
325020240221  ,I08        ,48      ,  1,33         ,33         ,2,20240322,0356, -42.0084,  95.0074,     3270,      3.4,  14.1223,  34.6335,2,  34.6325,2,    260.5,2,    258.8,2,     0.98,2,     0.11,2,     5.04,2,     0.11,2,     0.51,2,    2.750,2,    1.585,2,    0.305,4,   2.6000,2,   2080.6,3,   2297.2,2,   7.8932,2,    24.99,     -999,1,  14.1275,2,     -999,1,     -999,     -999,9,     -999,9,     -999,9,     -999,9,     -999,9,     -999,1,   0.0299,1,   4.4747,1,      8.5,2,     -999,9,20240322,0538, -42.0084,  95.0074,     -999,9,     -999,9,-999          ,9,-999          ,9,-999          ,9
325020240221  ,I08        ,48      ,  1,35         ,35         ,2,20240322,0356, -42.0084,  95.0074,     3270,      3.4,  14.1291,  34.6344,2,     -999,9,    260.6,2,     -999,9,     -999,9,     -999,9,     -999,9,     -999,9,     -999,9,     -999,9,     -999,9,     -999,9,     -999,9,     -999,9,     -999,9,     -999,9,     -999,     -999,9,  14.1304,2,     -999,9,     -999,     -999,9,     -999,9,     -999,9,     -999,9,     -999,9,     -999,9,   0.0293,1,   4.4749,1,     -999,9,     -999,9,20240322,0539, -42.0084,  95.0074,     -999,9,     -999,9,-999          ,1,-999          ,9,-999          ,9
325020240221  ,I08        ,48      ,  1,34         ,34         ,2,20240322,0356, -42.0084,  95.0074,     3270,      3.8,  14.1247,  34.6338,2,     -999,9,    260.5,2,     -999,9,     -999,9,     -999,9,     -999,9,     -999,9,     -999,9,     -999,9,     -999,9,     -999,9,     -999,9,     -999,9,     -999,9,     -999,9,     -999,     -999,9,  14.1282,2,     -999,9,     -999,     -999,9,     -999,9,     -999,9,     -999,9,     -999,9,     -999,9,   0.0282,1,   4.4734,1,     -999,9,     -999,9,20240322,0539, -42.0084,  95.0074,     -999,9,     -999,9,-999          ,1,-999          ,9,-999          ,1
325020240221  ,I08        ,48      ,  1,32         ,32         ,2,20240322,0356, -42.0084,  95.0074,     3270,     20.0,  14.0874,  34.6302,2,  34.6276,2,    259.9,2,    258.8,2,     0.98,2,     0.12,2,     5.09,2,     0.11,2,     0.51,2,    2.681,2,    1.581,2,    0.294,4,   2.6120,2,   2081.7,3,   2297.2,2,   7.8928,2,    24.99,     -999,1,  14.0880,2,     -999,1,     -999,     -999,9,     -999,9,     -999,9,     -999,9,     -999,9,     -999,1,   0.0488,1,   4.4738,1,      8.7,2,     -999,9,20240322,0536, -42.0084,  95.0074,     -999,9,     -999,9,-999          ,9,-999          ,9,-999          ,9
325020240221  ,I08        ,48      ,  1,31         ,31         ,2,20240322,0356, -42.0084,  95.0074,     3270,     39.2,  14.0641,  34.6248,2,  34.6217,2,    259.3,2,    259.0,2,     0.98,2,     0.12,2,     5.19,2,     0.11,2,     0.52,2,    2.718,2,    1.556,2,    0.345,4,   2.4770,2,   2080.5,3,   2303.2,2,   7.8915,2,    24.99,     -999,1,  14.0639,2,     -999,1,     -999,     -999,9,     -999,9,     -999,9,     -999,9,     -999,9,     -999,1,   0.0634,1,   4.4847,1,      8.9,2,     -999,9,20240322,0534, -42.0084,  95.0074,     -999,9,     -999,9,-999          ,1,-999          ,9,-999          ,9
325020240221  ,I08        ,48      ,  1,30         ,30         ,2,20240322,0356, -42.0084,  95.0074,     3270,     65.1,  13.6956,  34.5961,2,  34.6246,3,    257.0,2,    256.5,2,     1.37,2,     0.44,2,     5.90,2,     0.16,2,     0.60,2,    2.810,2,    1.601,2,    0.330,4,   2.5720,2,   2089.2,3,   2299.2,6,   7.8754,6,    24.99,     -999,1,  13.6980,2,     -999,1,     -999,     -999,9,     -999,9,     -999,9,     -999,9,     -999,9,     -999,1,   0.0531,1,   4.5831,1,      9.3,2,     -999,9,20240322,0532, -42.0084,  95.0074,     -999,9,     -999,9,-999          ,9,-999          ,9,-999          ,1
325020240221  ,I08        ,48      ,  1,29         ,29         ,2,20240322,0356, -42.0084,  95.0074,     3270,     89.9,  11.6931,  34.8617,2,  34.8629,2,    261.9,2,    260.7,2,     3.02,2,     0.30,2,     7.81,2,     0.93,2,     0.73,2,    3.180,2,    1.732,2,    0.332,4,   2.6310,2,   2118.1,3,   2301.6,2,   7.8254,2,    24.99,     -999,1,  11.6839,2,     -999,1,     -999,     -999,9,     -999,9,     -999,9,     -999,9,     -999,9,     -999,1,   0.0434,1,   4.6373,1,     10.0,2,     -999,9,20240322,0530, -42.0084,  95.0074,     -999,9,     -999,9,-999          ,9,-999          ,1,-999          ,9
325020240221  ,I08        ,48      ,  1,28         ,28         ,2,20240322,0356, -42.0084,  95.0074,     3270,    115.0,  11.3051,  34.8468,2,  34.8416,2,    256.5,2,    257.3,2,     3.22,2,     0.01,2,     9.96,2,     0.05,2,     0.79,2,     -999,9,     -999,9,     -999,9,     -999,9,     -999,9,     -999,9,     -999,9,     -999,     -999,1,  11.3137,2,     -999,9,     -999,     -999,9,     -999,9,     -999,9,     -999,9,     -999,9,     -999,1,   0.0237,1,   4.6671,1,     -999,9,     -999,9,20240322,0529, -42.0084,  95.0074,     -999,9,     -999,9,-999          ,9,-999          ,9,-999          ,9
325020240221  ,I08        ,48      ,  1,27         ,27         ,2,20240322,0356, -42.0084,  95.0074,     3270,    140.0,  11.2970,  34.8714,2,  34.8701,2,    254.7,2,    255.4,2,     3.22,2,     0.01,2,     9.89,2,     0.02,2,     0.76,2,    3.301,2,    1.772,2,    0.293,4,   2.5880,2,   2122.3,3,   2302.6,2,   7.8159,6,    24.98,     -999,1,  11.2971,2,     -999,1,     -999,     -999,9,     -999,9,     -999,9,     -999,9,     -999,9,     -999,1,   0.0195,1,   4.6756,1,     10.1,2,     -999,9,20240322,0527, -42.0084,  95.0074,     -999,9,     -999,9,-999          ,9,-999          ,9,-999          ,1
325020240221  ,I08        ,48      ,  1,26         ,26         ,2,20240322,0356, -42.0084,  95.0074,     3270,    186.0,  11.0613,  34.8485,2,  34.8493,2,    255.9,2,    256.3,2,     3.22,2,     0.00,2,    10.27,2,     0.00,2,     0.78,2,     -999,9,     -999,9,     -999,9,     -999,9,     -999,9,     -999,9,     -999,9,     -999,     -999,1,  11.0618,2,     -999,9,     -999,     -999,9,     -999,9,     -999,9,     -999,9,     -999,9,     -999,1,   0.0183,1,   4.6789,1,     -999,9,     -999,9,20240322,0525, -42.0084,  95.0074,     -999,9,     -999,9,-999          ,9,-999          ,1,-999          ,1
325020240221  ,I08        ,48      ,  1,25         ,25         ,2,20240322,0356, -42.0084,  95.0074,     3270,    235.8,  10.9405,  34.8473,2,  34.8475,2,    255.5,2,    255.9,2,     3.32,2,     0.00,2,    10.62,2,     0.00,2,     0.79,2,    3.439,2,    1.784,2,    0.277,4,   2.6030,2,   2124.3,3,   2302.0,2,   7.8094,2,    24.99,     -999,1,  10.9401,2,     -999,1,     -999,     -999,9,     -999,9,     -999,9,     -999,9,     -999,9,     -999,1,   0.0172,1,   4.6812,1,     10.4,2,     -999,9,20240322,0522, -42.0084,  95.0074,     -999,9,     -999,9,-999          ,9,-999          ,9,-999          ,9
325020240221  ,I08        ,48      ,  1,24         ,24         ,2,20240322,0356, -42.0084,  95.0074,     3270,    286.8,  10.9664,  34.8721,2,  34.8723,2,    253.8,2,    254.0,2,     3.22,2,     0.03,2,    10.67,2,     0.00,2,     0.80,2,     -999,9,     -999,9,     -999,9,     -999,9,     -999,9,     -999,9,     -999,9,     -999,     -999,1,  10.9670,2,     -999,1,     -999,     -999,9,     -999,9,     -999,9,     -999,9,     -999,9,     -999,1,   0.0182,1,   4.6813,1,     -999,9,     -999,9,20240322,0520, -42.0084,  95.0074,     -999,9,     -999,9,-999          ,9,-999          ,9,-999          ,9
325020240221  ,I08        ,48      ,  1,23         ,37         ,2,20240322,0356, -42.0084,  95.0074,     3270,    336.4,  10.9248,  34.8745,2,  34.8719,2,    253.5,2,    254.6,2,     3.32,2,     0.00,2,    10.79,2,     0.00,2,     0.81,2,    3.311,2,    1.768,2,    0.240,4,   2.5580,2,   2128.3,3,   2302.7,2,   7.8068,2,    24.99,     -999,1,  10.9264,2,     -999,1,     -999,     -999,9,     -999,9,     -999,9,     -999,9,     -999,9,     -999,1,   0.0177,1,   4.6816,1,     10.6,2,     -999,9,20240322,0518, -42.0084,  95.0074,     -999,9,     -999,9,-999          ,9,-999          ,9,-999          ,9
325020240221  ,I08        ,48      ,  1,22         ,22         ,2,20240322,0356, -42.0084,  95.0074,     3270,    387.4,  10.7947,  34.8577,2,  34.8572,2,    252.5,2,    252.7,2,     3.51,2,     0.01,2,    11.30,2,     0.00,2,     0.84,2,     -999,9,     -999,9,     -999,9,     -999,9,     -999,9,     -999,9,     -999,9,     -999,     -999,1,  10.7943,2,     -999,9,     -999,     -999,9,     -999,9,     -999,9,     -999,9,     -999,9,     -999,1,   0.0171,1,   4.6817,1,     -999,9,     -999,9,20240322,0516, -42.0084,  95.0074,     -999,9,     -999,9,-999          ,9,-999          ,9,-999          ,9
325020240221  ,I08        ,48      ,  1,21         ,21         ,2,20240322,0356, -42.0084,  95.0074,     3270,    437.6,  10.6204,  34.8323,2,  34.8334,2,    248.6,2,    248.8,2,     3.71,2,     0.00,2,    12.25,2,     0.00,2,     0.87,2,    3.458,2,    1.880,2,    0.202,4,   2.3000,2,   2130.3,3,   2301.8,2,   7.7908,6,    25.00,     -999,1,  10.6241,2,     -999,1,     -999,     -999,9,     -999,9,     -999,9,     -999,9,     -999,9,     -999,1,   0.0180,1,   4.6813,1,     10.8,2,     -999,9,20240322,0514, -42.0084,  95.0074,     -999,9,     -999,9,-999          ,9,-999          ,9,-999          ,9
325020240221  ,I08        ,48      ,  1,20         ,20         ,2,20240322,0356, -42.0084,  95.0074,     3270,    487.3,  10.3238,  34.7845,2,  34.7848,2,    247.4,2,    247.8,2,     3.81,2,     0.02,2,    13.11,2,     0.00,2,     0.92,2,     -999,9,     -999,9,     -999,9,     -999,9,     -999,9,     -999,9,     -999,9,     -999,     -999,1,  10.3325,2,     -999,9,     -999,     -999,9,     -999,9,     -999,9,     -999,9,     -999,9,     -999,1,   0.0171,1,   4.6823,1,     -999,9,     -999,9,20240322,0512, -42.0084,  95.0074,     -999,9,     -999,9,-999          ,9,-999          ,9,-999          ,1
325020240221  ,I08        ,48      ,  1,19         ,19         ,2,20240322,0356, -42.0084,  95.0074,     3270,    568.8,   9.9505,  34.7312,2,  34.7323,2,    238.7,2,    239.5,2,     4.78,2,     0.00,2,    14.99,2,     0.00,2,     1.06,2,    3.392,2,    1.865,2,    0.202,4,   2.1210,2,   2139.5,3,   2294.4,2,   7.7629,2,    25.01,     -999,1,   9.9607,2,     -999,1,     -999,     -999,9,     -999,9,     -999,9,     -999,9,     -999,9,     -999,1,   0.0182,1,   4.6830,1,     11.8,2,     -999,9,20240322,0509, -42.0084,  95.0074,     -999,9,     -999,9,-999          ,9,-999          ,9,-999          ,9
325020240221  ,I08        ,48      ,  1,18         ,18         ,2,20240322,0356, -42.0084,  95.0074,     3270,    669.2,   9.2402,  34.6547,2,  34.6535,2,    227.2,2,    227.5,2,     6.54,2,     0.00,2,    17.92,2,     0.00,2,     1.25,2,     -999,9,     -999,9,     -999,9,     -999,9,     -999,9,     -999,9,     -999,9,     -999,     -999,1,   9.2304,2,     -999,9,     -999,     -999,9,     -999,9,     -999,9,     -999,9,     -999,9,     -999,1,   0.0183,1,   4.6838,1,     -999,9,     -999,9,20240322,0506, -42.0084,  95.0074,     -999,9,     -999,9,-999          ,9,-999          ,9,-999          ,9
325020240221  ,I08        ,48      ,  1,17         ,17         ,2,20240322,0356, -42.0084,  95.0074,     3270,    770.8,   7.9969,  34.5327,2,  34.5343,2,    213.3,2,    212.5,2,    11.71,2,     0.00,2,    22.23,2,     0.00,2,     1.51,2,    3.393,2,    1.780,2,    0.205,4,   1.3930,2,   2164.5,3,   2288.3,2,   7.6893,2,    24.99,     -999,1,   8.0210,2,     -999,1,     -999,     -999,9,     -999,9,     -999,9,     -999,9,     -999,9,     -999,1,   0.0181,1,   4.6839,1,      8.5,4,     -999,9,20240322,0503, -42.0084,  95.0074,     -999,9,     -999,9,-999          ,9,-999          ,9,-999          ,9
325020240221  ,I08        ,48      ,  1,16         ,16         ,2,20240322,0356, -42.0084,  95.0074,     3270,    872.6,   6.6889,  34.4256,2,  34.4255,2,    209.0,2,    209.8,2,    17.28,2,     0.00,2,    25.73,2,     0.00,2,     1.75,2,     -999,9,     -999,9,     -999,9,     -999,9,     -999,9,     -999,9,     -999,9,     -999,     -999,1,   6.6726,2,     -999,9,     -999,     -999,9,     -999,9,     -999,9,     -999,9,     -999,9,     -999,1,   0.0183,1,   4.6862,1,     -999,9,     -999,9,20240322,0500, -42.0084,  95.0074,     -999,9,     -999,9,-999          ,9,-999          ,9,-999          ,9
325020240221  ,I08        ,48      ,  1,15         ,15         ,2,20240322,0356, -42.0084,  95.0074,     3270,    973.0,   5.6461,  34.3525,2,  34.3535,2,    212.5,2,    212.4,2,    21.67,2,     0.00,2,    27.92,2,     0.00,2,     1.90,2,    3.406,2,    1.651,2,    0.218,4,   1.2630,2,   2184.6,3,   2288.3,2,   7.6344,2,    24.99,     -999,1,   5.6509,2,     -999,1,     -999,     -999,9,     -999,9,     -999,9,     -999,9,     -999,9,     -999,1,   0.0176,1,   4.6861,1,     16.6,2,     -999,9,20240322,0457, -42.0084,  95.0074,     -999,9,     -999,9,-999          ,9,-999          ,1,-999          ,1
325020240221  ,I08        ,48      ,  1,14         ,14         ,2,20240322,0356, -42.0084,  95.0074,     3270,   1075.7,   4.7196,  34.3205,2,  34.3205,2,    211.2,2,    211.2,2,    29.18,2,     0.00,2,    29.98,2,     0.00,2,     2.05,2,    3.196,2,    1.512,2,    0.198,4,   0.9840,2,   2195.2,3,   2292.8,2,   7.6135,2,    25.00,     -999,1,   4.7231,2,     -999,1,     -999,     -999,9,     -999,9,     -999,9,     -999,9,     -999,9,     -999,1,   0.0183,1,   4.6811,1,     17.4,2,     -999,9,20240322,0454, -42.0084,  95.0074,     -999,9,     -999,9,-999          ,9,-999          ,9,-999          ,9
325020240221  ,I08        ,48      ,  1,13         ,13         ,2,20240322,0356, -42.0084,  95.0074,     3270,   1176.9,   4.0803,  34.3341,2,  34.3342,2,    205.3,2,    204.2,2,    36.80,2,     0.00,2,    31.49,2,     0.00,2,     2.17,2,    2.576,2,    1.314,2,    0.166,4,   0.6740,2,   2208.9,3,   2299.1,2,   7.5978,6,    25.01,     -999,1,   4.0770,2,     -999,1,     -999,     -999,9,     -999,9,     -999,9,     -999,9,     -999,9,     -999,1,   0.0183,1,   4.6728,1,     18.3,2,     -999,9,20240322,0451, -42.0084,  95.0074,     -999,9,     -999,9,-999          ,9,-999          ,9,-999          ,9
325020240221  ,I08        ,48      ,  1,12         ,12         ,2,20240322,0356, -42.0084,  95.0074,     3270,   1278.7,   3.6728,  34.3707,2,  34.3719,2,    193.5,2,    192.5,2,    45.68,2,     0.03,2,    32.88,2,     0.00,2,     2.26,2,     -999,9,     -999,9,     -999,9,     -999,9,     -999,9,     -999,9,     -999,9,     -999,     -999,1,   3.6725,2,     -999,9,     -999,     -999,9,     -999,9,     -999,9,     -999,9,     -999,9,     -999,1,   0.0183,1,   4.6679,1,     -999,9,     -999,9,20240322,0448, -42.0084,  95.0074,     -999,9,     -999,9,-999          ,9,-999          ,9,-999          ,9
325020240221  ,I08        ,48      ,  1,11         ,11         ,2,20240322,0356, -42.0084,  95.0074,     3270,   1379.4,   3.3559,  34.4133,2,  34.4141,2,    186.0,2,    185.8,2,    52.41,2,     0.01,2,    33.66,2,     0.00,2,     2.30,2,    1.683,2,    0.838,2,    0.097,4,   0.5620,2,   2230.3,3,   2314.0,2,   7.5703,2,    25.04,     -999,1,   3.3584,2,     -999,1,     -999,     -999,9,     -999,9,     -999,9,     -999,9,     -999,9,     -999,1,   0.0183,1,   4.6633,1,     19.4,2,     -999,9,20240322,0444, -42.0084,  95.0074,     -999,9,     -999,9,-999          ,9,-999          ,9,-999          ,9
325020240221  ,I08        ,48      ,  1,10         ,10         ,2,20240322,0356, -42.0084,  95.0074,     3270,   1481.2,   3.1408,  34.4712,2,  34.4712,2,    174.7,2,    174.8,2,    60.71,2,     0.00,2,    34.35,2,     0.00,2,     2.37,2,     -999,9,     -999,9,     -999,9,     -999,9,     -999,9,     -999,9,     -999,9,     -999,     -999,1,   3.1410,2,     -999,9,     -999,     -999,9,     -999,9,     -999,9,     -999,9,     -999,9,     -999,1,   0.0183,1,   4.6605,1,     -999,9,     -999,9,20240322,0441, -42.0084,  95.0074,     -999,9,     -999,9,-999          ,9,-999          ,9,-999          ,9
325020240221  ,I08        ,48      ,  1,9          ,9          ,2,20240322,0356, -42.0084,  95.0074,     3270,   1582.7,   2.9763,  34.5166,2,  34.5158,2,    170.4,2,    170.7,2,    65.78,2,     0.02,2,    34.49,2,     0.00,2,     2.38,2,    0.744,6,    0.369,6,    0.035,4,   0.0995,6,   2246.5,3,   2327.3,2,   7.5601,2,    25.02,     -999,1,   2.9761,2,     -999,1,     -999,     -999,9,     -999,9,     -999,9,     -999,9,     -999,9,     -999,1,   0.0189,1,   4.6581,1,     19.7,6,     -999,9,20240322,0437, -42.0084,  95.0074,     -999,9,     -999,9,-999          ,9,-999          ,9,-999          ,9
325020240221  ,I08        ,48      ,  1,8          ,8          ,2,20240322,0356, -42.0084,  95.0074,     3270,   1755.0,   2.7495,  34.5891,2,  34.5895,2,    169.6,2,    170.0,2,    71.63,2,     0.03,2,    34.03,2,     0.00,2,     2.32,2,     -999,9,     -999,9,     -999,9,     -999,9,     -999,9,     -999,9,     -999,9,     -999,     -999,1,   2.7513,2,     -999,9,     -999,     -999,9,     -999,9,     -999,9,     -999,9,     -999,9,     -999,1,   0.0182,1,   4.6566,1,     -999,9,     -999,9,20240322,0433, -42.0084,  95.0074,     -999,9,     -999,9,-999          ,9,-999          ,9,-999          ,9
325020240221  ,I08        ,48      ,  1,7          ,7          ,2,20240322,0356, -42.0084,  95.0074,     3270,   1959.2,   2.5695,  34.6603,2,  34.6606,2,    174.4,2,    174.6,2,    75.63,2,     0.00,2,    32.88,2,     0.00,2,     2.26,2,    0.292,2,    0.154,2,    0.012,4,   0.0750,2,   2254.5,3,   2342.7,2,   7.5785,2,    25.02,     -999,1,   2.5710,2,     -999,1,     -999,     -999,9,     -999,9,     -999,9,     -999,9,     -999,9,     -999,1,   0.0182,1,   4.6543,1,     18.3,2,     -999,9,20240322,0428, -42.0084,  95.0074,     -999,9,     -999,9,-999          ,9,-999          ,9,-999          ,9
325020240221  ,I08        ,48      ,  1,6          ,6          ,2,20240322,0356, -42.0084,  95.0074,     3270,   2192.7,   2.4057,  34.7126,2,  34.7133,2,    183.3,2,    183.6,2,    77.48,2,     0.01,2,    31.52,2,     0.00,2,     2.16,2,     -999,9,     -999,9,     -999,9,     -999,9,     -999,9,     -999,9,     -999,9,     -999,     -999,1,   2.4059,2,     -999,9,     -999,     -999,9,     -999,9,     -999,9,     -999,9,     -999,9,     -999,1,   0.0183,1,   4.6518,1,     -999,9,     -999,9,20240322,0422, -42.0084,  95.0074,     -999,9,     -999,9,-999          ,9,-999          ,9,-999          ,9