BOTTLE,20240417CCHHYDRO
EXPOCODE,SECT_ID,STNNBR,CASTNO,SAMPNO,BTLNBR,BTLNBR_FLAG_W,DATE,TIME,LATITUDE,LONGITUDE,DEPTH,CTDPRS,CTDTMP,CTDSAL,CTDSAL_FLAG_W,SALNTY,SALNTY_FLAG_W,CTDOXY,CTDOXY_FLAG_W,OXYGEN,OXYGEN_FLAG_W,SILCAT,SILCAT_FLAG_W,NH4,NH4_FLAG_W,NITRAT,NITRAT_FLAG_W,NITRIT,NITRIT_FLAG_W,PHSPHT,PHSPHT_FLAG_W,CFC-11,CFC-11_FLAG_W,CFC-12,CFC-12_FLAG_W,CFC113,CFC113_FLAG_W,SF6,SF6_FLAG_W,TCARBN,TCARBN_FLAG_W,ALKALI,ALKALI_FLAG_W,PH_TOT,PH_TOT_FLAG_W,PH_TMP,DOC,DOC_FLAG_W,REFTMP,REFTMP_FLAG_W,DELC14,DELC14_FLAG_W,C14ERR,POC,POC_FLAG_W,PON,PON_FLAG_W,POP,POP_FLAG_W,PCOD,PCOD_FLAG_W,DOP,DOP_FLAG_W,TDN,TDN_FLAG_W,CTDFLUOR,CTDFLUOR_FLAG_W,CTDXMISS,CTDXMISS_FLAG_W,N2O,N2O_FLAG_W,ARGON,ARGON_FLAG_W,BTL_DATE,BTL_TIME,BTL_LAT,BTL_LON,KRYPTON,KRYPTON_FLAG_W,XENON,XENON_FLAG_W,HPLC,HPLC_FLAG_W,DNA,DNA_FLAG_W,FCM,FCM_FLAG_W
,,,,,,,,,,,METERS,DBAR,ITS-90,PSS-78,,PSS-78,,UMOL/KG,,UMOL/KG,,UMOL/KG,,UMOL/KG,,UMOL/KG,,UMOL/KG,,UMOL/KG,,PMOL/KG,,PMOL/KG,,PMOL/KG,,FMOL/KG,,UMOL/KG,,UMOL/KG,,,,DEG C,UMOL/KG,,ITS-90,,/MILLE,,/MILLE,UG/KG,,UG/KG,,UG/L,,UG/L,,UMOL/KG,,UMOL/KG,,VOLTS,,VOLTS,,NMOL/KG,,UMOL/L,,,,,,NMOL/L,,NMOL/L,,,,,,,
325020240221  ,I08        ,26      ,  1,36         ,36         ,2,20240312,1715, -56.8970,  83.3091,     4528,      3.4,   3.0861,  33.8379,2,  33.8373,2,    318.9,2,    318.7,2,    13.67,2,     0.46,2,    24.61,2,     0.25,2,     1.70,2,    4.916,2,    2.646,2,    0.359,2,   4.3110,2,   2026.4,4,   2284.5,2,   7.6970,2,    24.99,     -999,1,     -999,1,     -999,9,     -999,     -999,9,     -999,9,     -999,9,     -999,9,     -999,9,     -999,1,   0.0513,1,   4.4971,1,     10.8,2,     -999,9,20240312,1921, -56.8970,  83.3091,     -999,9,     -999,9,-999          ,9,-999          ,9,-999          ,9
325020240221  ,I08        ,26      ,  1,35         ,35         ,2,20240312,1715, -56.8970,  83.3091,     4528,     20.0,   3.0867,  33.8379,2,  33.8378,2,    318.7,2,    318.7,2,    13.67,2,     0.47,2,    24.65,2,     0.25,2,     1.69,2,    5.119,6,    2.726,6,    0.385,6,   4.0815,6,   2155.5,3,   2284.1,2,   7.6949,6,    25.00,     -999,9,     -999,1,     -999,9,     -999,     -999,9,     -999,9,     -999,9,     -999,9,     -999,9,     -999,9,   0.0500,1,   4.4957,1,     10.9,6,     -999,9,20240312,1919, -56.8970,  83.3091,     -999,9,     -999,9,-999          ,9,-999          ,9,-999          ,9
325020240221  ,I08        ,26      ,  1,34         ,34         ,2,20240312,1715, -56.8970,  83.3091,     4528,     40.0,   3.0846,  33.8420,2,  33.8414,2,    318.5,2,    318.4,2,    13.38,2,     0.45,2,    24.68,2,     0.25,2,     1.72,2,    5.332,2,    2.694,2,    0.347,2,   3.9880,2,   2059.8,4,   2281.7,2,   7.6954,2,    25.00,     -999,9,     -999,1,     -999,9,     -999,     -999,9,     -999,9,     -999,9,     -999,9,     -999,9,     -999,9,   0.0574,1,   4.4989,1,     10.9,2,     -999,9,20240312,1917, -56.8970,  83.3091,     -999,9,     -999,9,-999          ,9,-999          ,9,-999          ,9
325020240221  ,I08        ,26      ,  1,33         ,33         ,2,20240312,1715, -56.8970,  83.3091,     4528,     64.7,   3.0794,  33.8577,2,  33.8574,2,    317.3,2,    317.2,2,    12.70,2,     0.47,2,    24.75,2,     0.25,2,     1.76,2,    4.973,2,    2.585,2,    0.370,2,   4.0930,2,   2055.7,4,   2283.1,2,   7.6953,2,    24.98,     -999,9,     -999,1,     -999,9,     -999,     -999,9,     -999,9,     -999,9,     -999,9,     -999,9,     -999,9,   0.0536,1,   4.5068,1,     11.1,2,     -999,9,20240312,1915, -56.8970,  83.3090,     -999,9,     -999,9,-999          ,9,-999          ,9,-999          ,9
325020240221  ,I08        ,26      ,  1,32         ,32         ,2,20240312,1715, -56.8970,  83.3091,     4528,     90.1,   2.9928,  33.8818,2,  33.8829,2,    314.5,2,    315.1,2,    13.18,2,     0.53,2,    24.96,2,     0.24,2,     1.76,2,    5.512,2,    2.706,2,    0.353,2,   4.2710,2,   2065.6,4,   2287.1,2,   7.6900,2,    24.98,     -999,9,     -999,1,     -999,9,     -999,     -999,9,     -999,9,     -999,9,     -999,9,     -999,9,     -999,9,   0.0393,1,   4.5425,1,     11.3,2,     -999,9,20240312,1912, -56.8970,  83.3091,     -999,9,     -999,9,-999          ,9,-999          ,9,-999          ,9
325020240221  ,I08        ,26      ,  1,31         ,31         ,2,20240312,1715, -56.8970,  83.3091,     4528,    135.5,   0.8121,  33.9899,2,  33.9857,2,    300.9,2,    301.2,2,    36.82,2,     0.15,2,    29.70,2,     0.22,2,     2.06,2,    5.128,2,    2.560,2,    0.400,2,   3.6420,2,   2131.8,3,   2292.9,2,   7.6160,6,    25.00,     -999,9,     -999,1,     -999,9,     -999,     -999,9,     -999,9,     -999,9,     -999,9,     -999,9,     -999,9,   0.0220,1,   4.6090,1,     13.6,2,     -999,9,20240312,1910, -56.8969,  83.3091,     -999,9,     -999,9,-999          ,9,-999          ,9,-999          ,9
325020240221  ,I08        ,26      ,  1,30         ,30         ,2,20240312,1715, -56.8970,  83.3091,     4528,    185.8,   1.3584,  34.1814,2,  34.1807,2,    249.7,2,    249.3,2,    49.02,2,     0.00,2,    32.59,2,     0.00,2,     2.24,2,    3.832,2,    1.964,2,    0.278,2,   2.3040,2,     -999,9,     -999,9,     -999,9,     -999,     -999,9,     -999,1,     -999,9,     -999,     -999,9,     -999,9,     -999,9,     -999,9,     -999,9,     -999,9,   0.0189,1,   4.6208,1,     15.4,2,     -999,9,20240312,1908, -56.8970,  83.3091,     -999,9,     -999,9,-999          ,9,-999          ,9,-999          ,9
325020240221  ,I08        ,26      ,  1,29         ,29         ,2,20240312,1715, -56.8970,  83.3091,     4528,    236.8,   1.9478,  34.3377,2,  34.3346,2,    207.9,2,    207.9,2,    59.26,2,     0.00,2,    34.25,2,     0.00,2,     2.33,2,    2.665,2,    1.321,2,    0.184,2,   1.3970,2,   2183.4,3,   2310.1,6,   7.5444,2,    25.02,     -999,9,   1.9474,2,     -999,9,     -999,     -999,9,     -999,9,     -999,9,     -999,9,     -999,9,     -999,9,   0.0183,1,   4.6228,1,     16.8,2,     -999,9,20240312,1906, -56.8970,  83.3091,     -999,9,     -999,9,-999          ,9,-999          ,9,-999          ,9
325020240221  ,I08        ,26      ,  1,28         ,28         ,2,20240312,1715, -56.8970,  83.3091,     4528,    287.4,   2.1771,  34.4329,2,  34.4296,2,    188.2,2,    188.2,2,    66.19,2,     0.00,2,    34.66,2,     0.00,2,     2.37,2,    1.942,2,    0.931,2,    0.123,2,   0.8160,2,     -999,9,     -999,9,     -999,9,     -999,     -999,9,   2.1651,2,     -999,9,     -999,     -999,9,     -999,9,     -999,9,     -999,9,     -999,9,     -999,9,   0.0183,1,   4.6240,1,     17.0,2,     -999,9,20240312,1904, -56.8970,  83.3091,     -999,9,     -999,9,-999          ,9,-999          ,9,-999          ,9
325020240221  ,I08        ,26      ,  1,27         ,27         ,2,20240312,1715, -56.8970,  83.3091,     4528,    336.6,   2.3161,  34.5084,2,  34.5074,2,    177.9,2,    178.5,2,    69.70,2,     0.00,2,    34.25,2,     0.00,2,     2.36,2,    1.406,2,    0.648,2,    0.082,2,   0.5590,2,   2235.6,3,   2329.2,2,   7.5426,2,    24.99,     -999,9,   2.3170,2,     -999,9,     -999,     -999,9,     -999,9,     -999,9,     -999,9,     -999,9,     -999,9,   0.0183,1,   4.6294,1,     16.8,2,     -999,9,20240312,1901, -56.8970,  83.3091,     -999,9,     -999,9,-999          ,9,-999          ,9,-999          ,9
325020240221  ,I08        ,26      ,  1,26         ,26         ,2,20240312,1715, -56.8970,  83.3091,     4528,    387.1,   2.1875,  34.5232,2,  34.5223,2,    178.0,2,    178.0,2,    72.33,2,     0.00,2,    34.21,2,     0.00,2,     2.37,2,    1.369,2,    0.647,2,    0.080,2,   0.5680,2,   2242.3,3,   2333.4,2,   7.5385,2,    24.98,     -999,9,   2.1865,2,     -999,9,     -999,     -999,9,     -999,9,     -999,9,     -999,9,     -999,9,     -999,9,   0.0183,1,   4.6291,1,     16.9,2,     -999,9,20240312,1859, -56.8970,  83.3091,     -999,9,     -999,9,-999          ,9,-999          ,9,-999          ,9
325020240221  ,I08        ,26      ,  1,25         ,25         ,2,20240312,1715, -56.8970,  83.3091,     4528,    439.9,   2.2759,  34.5667,2,  34.5655,2,    175.3,2,    175.3,2,    73.79,2,     0.00,2,    33.82,2,     0.00,2,     2.34,2,    1.073,2,    0.490,2,    0.061,2,   0.5190,2,     -999,9,     -999,9,     -999,9,     -999,     -999,9,   2.2761,2,     -999,9,     -999,     -999,9,     -999,9,     -999,9,     -999,9,     -999,9,     -999,9,   0.0183,1,   4.6329,1,     16.4,2,     -999,9,20240312,1857, -56.8969,  83.3091,     -999,9,     -999,9,-999          ,9,-999          ,9,-999          ,9
325020240221  ,I08        ,26      ,  1,24         ,24         ,2,20240312,1715, -56.8970,  83.3091,     4528,    489.5,   2.2802,  34.6001,2,  34.5987,2,    175.0,2,    174.5,2,    75.16,2,     0.00,2,    33.49,2,     0.00,2,     2.30,2,    0.910,2,    0.413,2,    0.050,2,   0.3860,2,   2254.1,3,   2334.0,2,   7.5534,2,    24.98,     -999,9,   2.2826,2,     -999,9,     -999,     -999,9,     -999,9,     -999,9,     -999,9,     -999,9,     -999,9,   0.0183,1,   4.6336,1,     16.4,2,     -999,9,20240312,1855, -56.8970,  83.3091,     -999,9,     -999,9,-999          ,9,-999          ,9,-999          ,9
325020240221  ,I08        ,26      ,  1,23         ,37         ,2,20240312,1715, -56.8970,  83.3091,     4528,    570.2,   2.2442,  34.6405,2,  34.6394,2,    175.6,2,    175.1,2,    77.60,2,     0.00,2,    33.02,2,     0.00,2,     2.29,2,    0.671,2,    0.313,2,    0.035,2,   0.2270,2,   2253.4,3,   2338.9,2,   7.5611,2,    25.01,     -999,9,   2.2444,2,     -999,9,     -999,     -999,9,     -999,9,     -999,9,     -999,9,     -999,9,     -999,9,   0.0183,1,   4.6378,1,     16.0,2,     -999,9,20240312,1852, -56.8970,  83.3091,     -999,9,     -999,9,-999          ,9,-999          ,9,-999          ,9
325020240221  ,I08        ,26      ,  1,22         ,22         ,2,20240312,1715, -56.8970,  83.3091,     4528,    671.4,   2.1658,  34.6771,2,  34.6767,2,    178.3,2,    178.3,2,    79.94,2,     0.00,2,    32.39,2,     0.00,2,     2.24,2,    0.546,2,    0.255,2,    0.029,2,   0.2520,2,   2254.0,3,   2339.7,2,   7.5708,2,    25.01,     -999,9,   2.1656,2,     -999,9,     -999,     -999,9,     -999,9,     -999,9,     -999,9,     -999,9,     -999,9,   0.0183,1,   4.6403,1,     15.5,2,     -999,9,20240312,1849, -56.8970,  83.3091,     -999,9,     -999,9,-999          ,9,-999          ,9,-999          ,9
325020240221  ,I08        ,26      ,  1,21         ,21         ,2,20240312,1715, -56.8970,  83.3091,     4528,    769.2,   2.1097,  34.7047,2,  34.7042,2,    181.8,2,    181.7,2,    81.40,2,     0.00,2,    31.76,2,     0.00,2,     2.21,2,    0.448,2,    0.208,2,    0.017,2,   0.1600,2,   2252.5,3,   2344.6,2,   7.5796,6,    24.99,     -999,9,   2.1098,2,     -999,9,     -999,     -999,9,     -999,9,     -999,9,     -999,9,     -999,9,     -999,9,   0.0183,1,   4.6401,1,     15.2,2,     -999,9,20240312,1846, -56.8970,  83.3091,     -999,9,     -999,9,-999          ,9,-999          ,9,-999          ,9
325020240221  ,I08        ,26      ,  1,20         ,20         ,2,20240312,1715, -56.8970,  83.3091,     4528,    873.4,   2.0211,  34.7218,2,  34.7221,2,    185.1,2,    185.5,2,    83.35,2,     0.00,2,    31.36,2,     0.00,2,     2.18,2,    0.381,2,    0.177,2,    0.015,2,   0.0180,2,     -999,9,     -999,9,     -999,9,     -999,     -999,9,   2.0193,2,     -999,9,     -999,     -999,9,     -999,9,     -999,9,     -999,9,     -999,9,     -999,9,   0.0183,1,   4.6414,1,     14.7,2,     -999,9,20240312,1842, -56.8970,  83.3091,     -999,9,     -999,9,-999          ,9,-999          ,9,-999          ,9
325020240221  ,I08        ,26      ,  1,19         ,19         ,2,20240312,1715, -56.8970,  83.3091,     4528,    975.4,   1.9395,  34.7325,2,  34.7325,2,    188.3,2,    188.6,2,    85.01,2,     0.00,2,    31.05,2,     0.00,2,     2.16,2,    0.362,2,    0.162,2,    0.027,2,   0.0350,2,   2249.0,3,   2347.3,2,   7.5932,2,    25.01,     -999,9,   1.9391,2,     -999,9,     -999,     -999,9,     -999,9,     -999,9,     -999,9,     -999,9,     -999,9,   0.0183,1,   4.6398,1,     10.0,2,     -999,9,20240312,1839, -56.8970,  83.3091,     -999,9,     -999,9,-999          ,9,-999          ,9,-999          ,9
325020240221  ,I08        ,26      ,  1,18         ,18         ,2,20240312,1715, -56.8970,  83.3091,     4528,   1076.1,   1.8157,  34.7333,2,  34.7327,2,    189.6,2,    189.7,2,    88.13,2,     0.00,2,    31.16,2,     0.00,2,     2.16,2,    0.382,2,    0.177,2,    0.015,2,   0.0290,2,     -999,9,     -999,9,     -999,9,     -999,     -999,9,   1.8152,2,     -999,9,     -999,     -999,9,     -999,9,     -999,9,     -999,9,     -999,9,     -999,9,   0.0183,1,   4.6384,1,     14.8,2,     -999,9,20240312,1836, -56.8970,  83.3091,     -999,9,     -999,9,-999          ,9,-999          ,9,-999          ,9
325020240221  ,I08        ,26      ,  1,17         ,17         ,2,20240312,1715, -56.8970,  83.3091,     4528,   1176.9,   1.6760,  34.7346,2,  34.7343,2,    192.8,2,    193.4,2,    91.06,2,     0.00,2,    31.12,2,     0.00,2,     2.14,2,    0.384,2,    0.178,2,    0.016,2,   0.0360,2,   2252.7,3,   2348.9,2,   7.5987,2,    25.00,     -999,9,   1.6758,2,     -999,9,     -999,     -999,9,     -999,9,     -999,9,     -999,9,     -999,9,     -999,9,   0.0185,1,   4.6373,1,     14.7,2,     -999,9,20240312,1833, -56.8969,  83.3091,     -999,9,     -999,9,-999          ,9,-999          ,9,-999          ,9
325020240221  ,I08        ,26      ,  1,16         ,16         ,2,20240312,1715, -56.8970,  83.3091,     4528,   1276.5,   1.5813,  34.7339,2,  34.7337,2,    195.2,2,    195.2,2,    92.92,2,     0.00,2,    30.98,2,     0.00,2,     2.15,2,    0.410,2,    0.186,2,    0.015,2,   0.0190,2,     -999,9,     -999,9,     -999,9,     -999,     -999,9,   1.5813,2,     -999,9,     -999,     -999,9,     -999,9,     -999,9,     -999,9,     -999,9,     -999,9,   0.0183,1,   4.6360,1,     14.6,2,     -999,9,20240312,1830, -56.8970,  83.3091,     -999,9,     -999,9,-999          ,9,-999          ,9,-999          ,9
325020240221  ,I08        ,26      ,  1,15         ,15         ,2,20240312,1715, -56.8970,  83.3091,     4528,   1380.7,   1.5010,  34.7370,2,  34.7364,2,    197.8,2,    198.2,2,    95.16,2,     0.00,2,    30.85,2,     0.00,2,     2.14,2,    0.358,2,    0.163,2,    0.011,2,   0.0640,2,   2250.9,3,   2351.6,2,   7.6056,2,    24.99,     -999,9,   1.5007,2,     -999,9,     -999,     -999,9,     -999,9,     -999,9,     -999,9,     -999,9,     -999,9,   0.0188,1,   4.6348,1,     14.4,2,     -999,9,20240312,1827, -56.8970,  83.3091,     -999,9,     -999,9,-999          ,9,-999          ,9,-999          ,9
325020240221  ,I08        ,26      ,  1,14         ,14         ,2,20240312,1715, -56.8970,  83.3091,     4528,   1481.6,   1.4154,  34.7354,2,  34.7361,2,    199.5,2,    199.2,2,    97.60,2,     0.00,2,    30.85,2,     0.00,2,     2.13,2,    0.358,2,    0.164,2,    0.012,2,   0.0030,2,     -999,9,     -999,9,     -999,9,     -999,     -999,9,   1.4153,2,     -999,9,     -999,     -999,9,     -999,9,     -999,9,     -999,9,     -999,9,     -999,9,   0.0192,1,   4.6336,1,     14.3,2,     -999,9,20240312,1824, -56.8970,  83.3091,     -999,9,     -999,9,-999          ,9,-999          ,9,-999          ,9
325020240221  ,I08        ,26      ,  1,13         ,13         ,2,20240312,1715, -56.8970,  83.3091,     4528,   1582.7,   1.2986,  34.7303,2,  34.7309,2,    201.2,2,    201.1,2,   100.24,2,     0.00,2,    30.94,2,     0.00,2,     2.12,2,    0.386,2,    0.177,2,    0.014,2,   0.0310,2,   2253.0,3,   2356.7,2,   7.6062,2,    24.98,     -999,9,   1.2993,2,     -999,9,     -999,     -999,9,     -999,9,     -999,9,     -999,9,     -999,9,     -999,9,   0.0183,1,   4.6323,1,     14.1,2,     -999,9,20240312,1821, -56.8969,  83.3091,     -999,9,     -999,9,-999          ,9,-999          ,9,-999          ,9
325020240221  ,I08        ,26      ,  1,12         ,12         ,2,20240312,1715, -56.8970,  83.3091,     4528,   1757.6,   1.1492,  34.7241,2,  34.7239,2,    203.1,2,    203.0,2,   105.12,2,     0.00,2,    31.08,2,     0.00,2,     2.14,2,    0.385,2,    0.176,2,    0.012,2,   0.0110,2,     -999,9,     -999,9,     -999,9,     -999,     -999,9,   1.1491,2,     -999,9,     -999,     -999,9,     -999,9,     -999,9,     -999,9,     -999,9,     -999,9,   0.0182,1,   4.6300,1,     13.9,2,     -999,9,20240312,1817, -56.8970,  83.3091,     -999,9,     -999,9,-999          ,9,-999          ,9,-999          ,9
325020240221  ,I08        ,26      ,  1,11         ,11         ,2,20240312,1715, -56.8970,  83.3091,     4528,   1959.7,   0.9748,  34.7148,2,  34.7156,2,    205.0,2,    204.7,2,   110.19,2,     0.00,2,    31.40,2,     0.00,2,     2.21,2,    0.427,2,    0.192,2,    0.014,2,   0.0480,2,   2254.6,3,   2356.7,2,   7.6025,2,    25.00,     -999,9,   0.9747,2,     -999,9,     -999,     -999,9,     -999,9,     -999,9,     -999,9,     -999,9,     -999,9,   0.0180,1,   4.6287,1,     13.8,2,     -999,9,20240312,1812, -56.8970,  83.3092,     -999,9,     -999,9,-999          ,9,-999          ,9,-999          ,9
325020240221  ,I08        ,26      ,  1,10         ,10         ,2,20240312,1715, -56.8970,  83.3091,     4528,   2194.8,   0.8291,  34.7074,2,  34.7070,2,    206.8,2,    207.0,2,   114.88,2,     0.00,2,    31.64,2,     0.00,2,     2.21,2,    0.438,2,    0.205,2,    0.014,2,   0.0670,2,     -999,9,     -999,9,     -999,9,     -999,     -999,9,   0.8290,2,     -999,9,     -999,     -999,9,     -999,9,     -999,9,     -999,9,     -999,9,     -999,9,   0.0183,1,   4.6264,1,     13.8,2,     -999,9,20240312,1807, -56.8969,  83.3091,     -999,9,     -999,9,-999          ,9,-999          ,9,-999          ,9
325020240221  ,I08        ,26      ,  1,9          ,9          ,2,20240312,1715, -56.8970,  83.3091,     4528,   2447.9,   0.6356,  34.6967,2,  34.6960,2,    209.3,2,    209.3,2,   120.44,2,     0.00,2,    32.00,2,     0.00,2,     2.24,2,    0.509,2,    0.227,2,    0.015,2,   0.1300,2,   2260.0,3,   2358.4,2,   7.5951,2,    25.00,     -999,9,   0.6354,2,     -999,9,     -999,     -999,9,     -999,9,     -999,9,     -999,9,     -999,9,     -999,9,   0.0182,1,   4.6251,1,     13.8,2,     -999,9,20240312,1802, -56.8970,  83.3092,     -999,9,     -999,9,-999          ,9,-999          ,9,-999          ,9
325020240221  ,I08        ,26      ,  1,8          ,8          ,2,20240312,1715, -56.8970,  83.3091,     4528,   2706.3,   0.4826,  34.6884,2,  34.6889,2,    212.6,2,    212.4,2,   124.35,2,     0.00,2,    32.24,2,     0.00,2,     2.26,2,    0.603,2,    0.270,2,    0.024,2,   0.2690,2,     -999,9,     -999,9,     -999,9,     -999,     -999,9,   0.4835,2,     -999,9,     -999,     -999,9,     -999,9,     -999,9,     -999,9,     -999,9,     -999,9,   0.0176,1,   4.6237,1,     13.8,2,     -999,9,20240312,1757, -56.8969,  83.3092,     -999,9,     -999,9,-999          ,9,-999          ,9,-999          ,9
325020240221  ,I08        ,26      ,  1,7          ,7          ,2,20240312,1715, -56.8970,  83.3091,     4528,   2961.4,   0.4070,  34.6842,2,  34.6840,2,    215.1,2,    215.4,2,   125.91,2,     0.00,2,    32.30,2,     0.00,2,     2.24,2,    0.687,2,    0.314,2,    0.030,2,   0.1570,2,   2258.9,3,   2358.6,2,   7.5948,6,    24.99,     -999,9,   0.4069,2,     -999,9,     -999,     -999,9,     -999,9,     -999,9,     -999,9,     -999,9,     -999,9,   0.0179,1,   4.6227,1,     13.7,2,     -999,9,20240312,1751, -56.8969,  83.3092,     -999,9,     -999,9,-999          ,9,-999          ,9,-999          ,9
325020240221  ,I08        ,26      ,  1,6          ,6          ,2,20240312,1715, -56.8970,  83.3091,     4528,   3251.6,   0.2861,  34.6780,2,  34.6777,2,    219.3,2,    219.4,2,   128.84,2,     0.00,2,    32.33,2,     0.00,2,     2.26,2,    0.912,2,    0.415,2,    0.044,2,   0.3730,2,     -999,9,     -999,9,     -999,9,     -999,     -999,9,   0.2858,2,     -999,9,     -999,     -999,9,     -999,9,     -999,9,     -999,9,     -999,9,     -999,9,   0.0182,1,   4.6227,1,     13.6,2,     -999,9,20240312,1745, -56.8969,  83.3092,     -999,9,     -999,9,-999          ,9,-999          ,9,-999          ,9