BOTTLE,20240417CCHHYDRO
EXPOCODE,SECT_ID,STNNBR,CASTNO,SAMPNO,BTLNBR,BTLNBR_FLAG_W,DATE,TIME,LATITUDE,LONGITUDE,DEPTH,CTDPRS,CTDTMP,CTDSAL,CTDSAL_FLAG_W,SALNTY,SALNTY_FLAG_W,CTDOXY,CTDOXY_FLAG_W,OXYGEN,OXYGEN_FLAG_W,SILCAT,SILCAT_FLAG_W,NH4,NH4_FLAG_W,NITRAT,NITRAT_FLAG_W,NITRIT,NITRIT_FLAG_W,PHSPHT,PHSPHT_FLAG_W,CFC-11,CFC-11_FLAG_W,CFC-12,CFC-12_FLAG_W,CFC113,CFC113_FLAG_W,SF6,SF6_FLAG_W,TCARBN,TCARBN_FLAG_W,ALKALI,ALKALI_FLAG_W,PH_TOT,PH_TOT_FLAG_W,PH_TMP,DOC,DOC_FLAG_W,REFTMP,REFTMP_FLAG_W,DELC14,DELC14_FLAG_W,C14ERR,POC,POC_FLAG_W,PON,PON_FLAG_W,POP,POP_FLAG_W,PCOD,PCOD_FLAG_W,DOP,DOP_FLAG_W,TDN,TDN_FLAG_W,CTDFLUOR,CTDFLUOR_FLAG_W,CTDXMISS,CTDXMISS_FLAG_W,N2O,N2O_FLAG_W,ARGON,ARGON_FLAG_W,BTL_DATE,BTL_TIME,BTL_LAT,BTL_LON,KRYPTON,KRYPTON_FLAG_W,XENON,XENON_FLAG_W,HPLC,HPLC_FLAG_W,DNA,DNA_FLAG_W,FCM,FCM_FLAG_W
,,,,,,,,,,,METERS,DBAR,ITS-90,PSS-78,,PSS-78,,UMOL/KG,,UMOL/KG,,UMOL/KG,,UMOL/KG,,UMOL/KG,,UMOL/KG,,UMOL/KG,,PMOL/KG,,PMOL/KG,,PMOL/KG,,FMOL/KG,,UMOL/KG,,UMOL/KG,,,,DEG C,UMOL/KG,,ITS-90,,/MILLE,,/MILLE,UG/KG,,UG/KG,,UG/L,,UG/L,,UMOL/KG,,UMOL/KG,,VOLTS,,VOLTS,,NMOL/KG,,UMOL/L,,,,,,NMOL/L,,NMOL/L,,,,,,,
325020240221  ,I08        ,32      ,  1,36         ,36         ,2,20240316,0000, -54.1634,  86.3587,     4726,      4.6,   3.2605,  33.8167,2,  33.8165,2,    318.6,2,    318.4,2,    14.07,2,     0.69,2,    23.75,2,     0.26,2,     1.67,2,    5.061,6,    2.701,6,    0.455,6,   4.1915,6,   2153.0,3,   2281.9,2,   7.7019,2,    25.02,     -999,1,   3.2603,2,     -999,9,     -999,     -999,9,     -999,9,     -999,9,     -999,9,     -999,9,     -999,1,   0.0337,1,   4.5289,1,      9.5,6,     -999,9,20240316,0211, -54.1634,  86.3587,     -999,9,     -999,9,-999          ,9,-999          ,9,-999          ,9
325020240221  ,I08        ,32      ,  1,35         ,35         ,2,20240316,0000, -54.1634,  86.3587,     4726,     34.8,   3.2796,  33.8175,2,  33.8181,2,    318.9,2,    318.3,2,    13.87,2,     0.64,2,    23.73,2,     0.26,2,     1.68,2,    5.279,2,    2.709,2,    0.461,2,   4.2960,2,   2154.7,3,   2284.0,2,   7.7018,2,    25.01,     -999,1,   3.2798,2,     -999,9,     -999,     -999,9,     -999,9,     -999,9,     -999,9,     -999,9,     -999,1,   0.0458,1,   4.5286,1,      9.5,2,     -999,9,20240316,0208, -54.1634,  86.3587,     -999,9,     -999,9,-999          ,9,-999          ,9,-999          ,9
325020240221  ,I08        ,32      ,  1,34         ,34         ,2,20240316,0000, -54.1634,  86.3587,     4726,     60.0,   3.2873,  33.8192,2,  33.8198,2,    318.8,2,    318.6,2,    13.87,2,     0.68,2,    23.72,2,     0.26,2,     1.68,2,    5.346,2,    2.721,2,    0.446,2,   4.2210,2,   2158.1,3,   2282.7,2,   7.7017,6,    25.02,     -999,1,   3.2867,2,     -999,9,     -999,     -999,9,     -999,9,     -999,9,     -999,9,     -999,9,     -999,1,   0.0483,1,   4.5298,1,      9.4,2,     -999,9,20240316,0206, -54.1634,  86.3587,     -999,9,     -999,9,-999          ,9,-999          ,9,-999          ,9
325020240221  ,I08        ,32      ,  1,33         ,33         ,2,20240316,0000, -54.1634,  86.3587,     4726,     84.5,   3.2916,  33.8200,2,  33.8189,2,    318.6,2,    318.2,2,    13.97,2,     0.63,2,    23.78,2,     0.26,2,     1.69,2,    5.197,2,    2.712,2,    0.456,2,   4.2990,2,   2157.1,3,   2281.6,2,   7.7019,2,    25.02,     -999,1,   3.2963,2,     -999,9,     -999,     -999,9,     -999,9,     -999,9,     -999,9,     -999,9,     -999,1,   0.0495,1,   4.5329,1,      9.4,2,     -999,9,20240316,0204, -54.1634,  86.3587,     -999,9,     -999,9,-999          ,9,-999          ,9,-999          ,9
325020240221  ,I08        ,32      ,  1,32         ,32         ,2,20240316,0000, -54.1634,  86.3587,     4726,    115.0,   3.2104,  33.8218,2,  33.8257,2,    317.7,2,    318.7,2,    14.95,2,     0.68,2,    24.04,2,     0.26,2,     1.72,2,    5.444,2,    2.796,2,    0.460,2,   4.3840,2,   2161.0,3,   2285.4,2,   7.6972,2,    25.02,     -999,1,   3.2107,2,     -999,9,     -999,     -999,9,     -999,9,     -999,9,     -999,9,     -999,9,     -999,1,   0.0461,1,   4.5392,1,     10.0,2,     -999,9,20240316,0202, -54.1634,  86.3587,     -999,9,     -999,9,-999          ,9,-999          ,9,-999          ,9
325020240221  ,I08        ,32      ,  1,31         ,31         ,2,20240316,0000, -54.1634,  86.3587,     4726,    165.6,   0.9036,  33.9794,2,  33.9824,2,    304.9,2,    305.3,2,    37.90,2,     0.57,2,    28.51,2,     0.22,2,     2.06,2,    5.676,2,    2.805,2,    0.504,2,   3.5150,2,   2198.7,3,   2295.6,2,   7.6243,2,    25.01,     -999,1,   0.9050,2,     -999,9,     -999,     -999,9,     -999,9,     -999,9,     -999,9,     -999,9,     -999,1,   0.0249,1,   4.6029,1,     12.1,2,     -999,9,20240316,0200, -54.1634,  86.3587,     -999,9,     -999,9,-999          ,9,-999          ,9,-999          ,9
325020240221  ,I08        ,32      ,  1,30         ,30         ,2,20240316,0000, -54.1634,  86.3587,     4726,    216.8,   0.8104,  34.1119,2,  34.1117,2,    277.6,2,    277.8,2,    48.44,2,     0.38,2,    30.69,2,     0.18,2,     2.20,2,    4.966,2,    2.310,2,    0.421,2,   2.9060,2,     -999,9,     -999,9,     -999,9,     -999,     -999,1,   0.8096,2,     -999,9,     -999,     -999,9,     -999,9,     -999,9,     -999,9,     -999,9,     -999,1,   0.0208,1,   4.6142,1,     13.2,2,     -999,9,20240316,0157, -54.1634,  86.3587,     -999,9,     -999,9,-999          ,9,-999          ,9,-999          ,9
325020240221  ,I08        ,32      ,  1,29         ,29         ,2,20240316,0000, -54.1634,  86.3587,     4726,    317.2,   1.8715,  34.4367,2,  34.4367,2,    193.0,2,    192.4,2,    68.84,2,     0.03,2,    34.48,2,     0.00,2,     2.41,2,    2.435,2,    1.005,2,    0.154,2,   1.2150,2,   2253.6,3,   2321.9,2,   7.5362,2,    25.04,     -999,1,   1.8718,2,     -999,9,     -999,     -999,9,     -999,9,     -999,9,     -999,9,     -999,9,     -999,1,   0.0189,1,   4.6230,1,     15.6,2,     -999,9,20240316,0154, -54.1634,  86.3587,     -999,9,     -999,9,-999          ,9,-999          ,9,-999          ,9
325020240221  ,I08        ,32      ,  1,28         ,28         ,2,20240316,0000, -54.1634,  86.3587,     4726,    368.5,   1.9973,  34.5062,2,  34.5064,2,    181.0,2,    181.1,2,    73.42,2,     0.02,2,    34.54,2,     0.00,2,     2.40,2,    1.714,2,    0.751,2,    0.114,2,   0.7830,2,   2257.5,3,   2329.8,2,   7.5331,2,    25.04,     -999,1,   1.9966,2,     -999,9,     -999,     -999,9,     -999,9,     -999,9,     -999,9,     -999,9,     -999,1,   0.0183,1,   4.6237,1,     15.4,2,     -999,9,20240316,0152, -54.1634,  86.3586,     -999,9,     -999,9,-999          ,9,-999          ,9,-999          ,9
325020240221  ,I08        ,32      ,  1,27         ,27         ,2,20240316,0000, -54.1634,  86.3587,     4726,    417.7,   2.0786,  34.5489,2,  34.5476,2,    176.4,2,    176.8,2,    75.57,2,     0.07,2,    34.35,2,     0.00,2,     2.37,2,    1.402,2,    0.587,2,    0.085,2,   0.5200,2,   2261.0,3,   2335.8,2,   7.5391,2,    25.03,     -999,1,   2.0781,2,     -999,9,     -999,     -999,9,     -999,9,     -999,9,     -999,9,     -999,9,     -999,1,   0.0184,1,   4.6248,1,     15.4,2,     -999,9,20240316,0149, -54.1634,  86.3586,     -999,9,     -999,9,-999          ,9,-999          ,9,-999          ,9
325020240221  ,I08        ,32      ,  1,26         ,26         ,2,20240316,0000, -54.1634,  86.3587,     4726,    469.1,   2.1035,  34.5766,2,  34.5773,2,    174.0,2,    174.3,2,    77.13,2,     0.02,2,    34.10,2,     0.00,2,     2.32,2,    1.142,2,    0.493,2,    0.080,2,   0.4150,2,     -999,9,     -999,9,     -999,9,     -999,     -999,1,   2.1032,2,     -999,9,     -999,     -999,9,     -999,9,     -999,9,     -999,9,     -999,9,     -999,1,   0.0183,1,   4.6287,1,     15.5,2,     -999,9,20240316,0147, -54.1634,  86.3587,     -999,9,     -999,9,-999          ,9,-999          ,9,-999          ,9
325020240221  ,I08        ,32      ,  1,25         ,25         ,2,20240316,0000, -54.1634,  86.3587,     4726,    539.8,   2.1537,  34.6194,2,  34.6191,2,    174.0,2,    173.9,2,    78.10,2,     0.02,2,    33.43,2,     0.00,2,     2.28,2,    0.936,2,    0.392,2,    0.048,2,   0.2340,2,   2261.2,3,   2337.1,2,   7.5525,2,    25.00,     -999,1,   2.1527,2,     -999,9,     -999,     -999,9,     -999,9,     -999,9,     -999,9,     -999,9,     -999,1,   0.0183,1,   4.6304,1,     15.2,2,     -999,9,20240316,0144, -54.1634,  86.3587,     -999,9,     -999,9,-999          ,9,-999          ,9,-999          ,9
325020240221  ,I08        ,32      ,  1,24         ,24         ,2,20240316,0000, -54.1634,  86.3587,     4726,    640.6,   2.1499,  34.6687,2,  34.6682,2,    177.5,2,    177.4,2,    79.56,2,     0.00,2,    32.31,2,     0.00,2,     2.25,2,    0.675,2,    0.274,2,    0.034,2,   0.0000,2,   2253.7,3,   2340.3,2,   7.5688,2,    25.02,     -999,1,   2.1588,2,     -999,9,     -999,     -999,9,     -999,9,     -999,9,     -999,9,     -999,9,     -999,1,   0.0183,1,   4.6374,1,     14.4,2,     -999,9,20240316,0141, -54.1634,  86.3586,     -999,9,     -999,9,-999          ,9,-999          ,9,-999          ,9
325020240221  ,I08        ,32      ,  1,23         ,37         ,2,20240316,0000, -54.1634,  86.3587,     4726,    742.7,   2.1431,  34.6996,2,  34.6999,2,    181.3,2,    180.8,2,    80.34,2,     0.07,2,    31.45,2,     0.00,2,     2.17,2,    0.506,2,    0.205,2,    0.023,2,   0.0000,2,   2254.9,3,   2344.3,2,   7.5810,6,    25.00,     -999,1,   2.1439,2,     -999,9,     -999,     -999,9,     -999,9,     -999,9,     -999,9,     -999,9,     -999,1,   0.0183,1,   4.6417,1,     13.9,2,     -999,9,20240316,0138, -54.1634,  86.3587,     -999,9,     -999,9,-999          ,9,-999          ,9,-999          ,9
325020240221  ,I08        ,32      ,  1,22         ,22         ,2,20240316,0000, -54.1634,  86.3587,     4726,    842.7,   2.1144,  34.7194,2,  34.7195,2,    185.0,2,    184.8,2,    80.93,2,     0.00,2,    30.87,2,     0.00,2,     2.15,2,    0.432,2,    0.164,2,    0.017,2,   0.0000,2,     -999,9,     -999,9,     -999,9,     -999,     -999,1,   2.1145,2,     -999,9,     -999,     -999,9,     -999,9,     -999,9,     -999,9,     -999,9,     -999,1,   0.0183,1,   4.6430,1,     13.8,2,     -999,9,20240316,0135, -54.1634,  86.3586,     -999,9,     -999,9,-999          ,9,-999          ,9,-999          ,9
325020240221  ,I08        ,32      ,  1,21         ,21         ,2,20240316,0000, -54.1634,  86.3587,     4726,    945.0,   2.0263,  34.7295,2,  34.7298,2,    187.4,2,    187.5,2,    83.27,2,     0.00,2,    30.57,2,     0.00,2,     2.13,2,    0.357,2,    0.158,2,    0.016,2,   0.0000,2,   2253.8,3,   2347.1,6,   7.5971,2,    24.98,     -999,1,   2.0261,2,     -999,9,     -999,     -999,9,     -999,9,     -999,9,     -999,9,     -999,9,     -999,1,   0.0183,1,   4.6446,1,     13.3,2,     -999,9,20240316,0132, -54.1634,  86.3587,     -999,9,     -999,9,-999          ,9,-999          ,9,-999          ,9
325020240221  ,I08        ,32      ,  1,20         ,20         ,2,20240316,0000, -54.1634,  86.3587,     4726,   1045.9,   1.9594,  34.7361,2,  34.7359,2,    189.5,2,    190.1,2,    84.93,2,     0.00,2,    30.33,2,     0.00,2,     2.13,2,    0.356,2,    0.146,2,    0.015,2,   0.0270,2,     -999,9,     -999,9,     -999,9,     -999,     -999,1,   1.9594,2,     -999,9,     -999,     -999,9,     -999,9,     -999,9,     -999,9,     -999,9,     -999,1,   0.0183,1,   4.6442,1,     13.3,2,     -999,9,20240316,0129, -54.1634,  86.3586,     -999,9,     -999,9,-999          ,9,-999          ,9,-999          ,9
325020240221  ,I08        ,32      ,  1,19         ,19         ,2,20240316,0000, -54.1634,  86.3587,     4726,   1147.8,   1.8897,  34.7397,2,  34.7404,2,    191.5,2,    191.5,2,    86.29,2,     0.00,2,    30.25,2,     0.00,2,     2.11,2,    0.338,2,    0.143,2,    0.014,2,   0.0000,2,   2251.2,3,   2348.2,2,   7.6039,2,    24.99,     -999,1,   1.8896,2,     -999,9,     -999,     -999,9,     -999,9,     -999,9,     -999,9,     -999,9,     -999,1,   0.0179,1,   4.6425,1,     13.3,2,     -999,9,20240316,0126, -54.1634,  86.3586,     -999,9,     -999,9,-999          ,9,-999          ,9,-999          ,9
325020240221  ,I08        ,32      ,  1,18         ,18         ,2,20240316,0000, -54.1634,  86.3587,     4726,   1249.9,   1.8143,  34.7428,2,  34.7433,2,    193.6,2,    194.0,2,    88.25,2,     0.02,2,    30.22,2,     0.00,2,     2.11,2,    0.350,2,    0.140,2,    0.015,2,   0.0270,2,     -999,9,     -999,9,     -999,9,     -999,     -999,1,   1.8156,2,     -999,9,     -999,     -999,9,     -999,9,     -999,9,     -999,9,     -999,9,     -999,1,   0.0171,1,   4.6420,1,     13.1,2,     -999,9,20240316,0123, -54.1634,  86.3587,     -999,9,     -999,9,-999          ,9,-999          ,9,-999          ,9
325020240221  ,I08        ,32      ,  1,17         ,17         ,2,20240316,0000, -54.1634,  86.3587,     4726,   1350.9,   1.7370,  34.7437,2,  34.7439,2,    195.6,2,    196.1,2,    90.10,2,     0.00,2,    30.26,2,     0.00,2,     2.12,2,    0.316,2,    0.131,2,    0.013,2,   0.0000,2,   2246.7,3,   2350.3,2,   7.6093,6,    25.00,     -999,1,   1.7371,2,     -999,9,     -999,     -999,9,     -999,9,     -999,9,     -999,9,     -999,9,     -999,1,   0.0177,1,   4.6410,1,     13.0,2,     -999,9,20240316,0120, -54.1634,  86.3587,     -999,9,     -999,9,-999          ,9,-999          ,9,-999          ,9
325020240221  ,I08        ,32      ,  1,16         ,16         ,2,20240316,0000, -54.1634,  86.3587,     4726,   1452.6,   1.6935,  34.7438,2,  34.7445,2,    196.7,2,    196.5,2,    91.08,2,     0.00,2,    30.29,2,     0.00,2,     2.11,2,    0.328,2,    0.138,2,    0.016,2,   0.0000,2,     -999,9,     -999,9,     -999,9,     -999,     -999,1,   1.6945,2,     -999,9,     -999,     -999,9,     -999,9,     -999,9,     -999,9,     -999,9,     -999,1,   0.0182,1,   4.6398,1,     13.0,2,     -999,9,20240316,0117, -54.1634,  86.3586,     -999,9,     -999,9,-999          ,9,-999          ,9,-999          ,9
325020240221  ,I08        ,32      ,  1,15         ,15         ,2,20240316,0000, -54.1634,  86.3587,     4726,   1686.4,   1.4580,  34.7378,2,  34.7382,2,    200.3,2,    200.3,2,    97.42,2,     0.00,2,    30.55,2,     0.00,2,     2.14,2,    0.318,2,    0.140,2,    0.014,2,   0.0270,2,   2251.7,3,   2352.9,2,   7.6098,2,    24.98,     -999,1,   1.4584,2,     -999,9,     -999,     -999,9,     -999,9,     -999,9,     -999,9,     -999,9,     -999,1,   0.0183,1,   4.6380,1,     12.9,2,     -999,9,20240316,0112, -54.1634,  86.3586,     -999,9,     -999,9,-999          ,9,-999          ,9,-999          ,9
325020240221  ,I08        ,32      ,  1,14         ,14         ,2,20240316,0000, -54.1634,  86.3587,     4726,   1888.0,   1.3171,  34.7317,2,  34.7319,2,    201.7,2,    201.6,2,   101.33,2,     0.03,2,    30.78,2,     0.00,2,     2.12,2,    0.342,2,    0.154,2,    0.015,2,   0.0000,2,   2257.7,3,   2355.7,2,   7.6092,2,    24.97,     -999,1,   1.3176,2,     -999,9,     -999,     -999,9,     -999,9,     -999,9,     -999,9,     -999,9,     -999,1,   0.0183,1,   4.6359,1,     12.8,2,     -999,9,20240316,0106, -54.1634,  86.3586,     -999,9,     -999,9,-999          ,9,-999          ,9,-999          ,9
325020240221  ,I08        ,32      ,  1,13         ,13         ,2,20240316,0000, -54.1634,  86.3587,     4726,   2115.1,   1.1502,  34.7233,2,  34.7235,2,    203.5,2,    203.4,2,   106.31,2,     0.00,2,    31.06,2,     0.00,2,     2.16,2,    0.398,2,    0.163,2,    0.016,2,   0.0320,2,   2261.5,3,   2355.9,2,   7.6052,6,    25.00,     -999,1,   1.1488,2,     -999,9,     -999,     -999,9,     -999,9,     -999,9,     -999,9,     -999,9,     -999,1,   0.0183,1,   4.6337,1,     12.7,2,     -999,9,20240316,0101, -54.1634,  86.3586,     -999,9,     -999,9,-999          ,9,-999          ,9,-999          ,9
325020240221  ,I08        ,32      ,  1,12         ,12         ,2,20240316,0000, -54.1634,  86.3587,     4726,   2368.3,   0.9536,  34.7131,2,  34.7131,2,    206.1,2,    206.2,2,   113.14,2,     0.00,2,    31.41,2,     0.00,2,     2.19,2,    0.452,2,    0.182,2,    0.019,2,   0.0680,2,     -999,9,     -999,9,     -999,9,     -999,     -999,1,   0.9537,2,     -999,9,     -999,     -999,9,     -999,9,     -999,9,     -999,9,     -999,9,     -999,1,   0.0183,1,   4.6323,1,     12.8,2,     -999,9,20240316,0055, -54.1634,  86.3586,     -999,9,     -999,9,-999          ,9,-999          ,9,-999          ,9
325020240221  ,I08        ,32      ,  1,11         ,11         ,2,20240316,0000, -54.1634,  86.3587,     4726,   2625.1,   0.7663,  34.7022,2,  34.7024,2,    208.2,2,    208.1,2,   118.22,2,     0.03,2,    31.75,2,     0.00,2,     2.20,2,    0.505,2,    0.209,2,    0.021,2,   0.0000,2,   2261.3,3,   2358.7,6,   7.5995,2,    25.00,     -999,1,   0.7654,2,     -999,9,     -999,     -999,9,     -999,9,     -999,9,     -999,9,     -999,9,     -999,1,   0.0182,1,   4.6299,1,     12.6,2,     -999,9,20240316,0049, -54.1635,  86.3586,     -999,9,     -999,9,-999          ,9,-999          ,9,-999          ,9
325020240221  ,I08        ,32      ,  1,9          ,9          ,2,20240316,0000, -54.1634,  86.3587,     4726,   2879.2,   0.6467,  34.6954,2,  34.6960,2,    210.5,2,     -999,9,   122.12,2,     0.03,2,    31.83,2,     0.00,2,     2.21,2,     -999,9,     -999,9,     -999,9,     -999,9,     -999,9,     -999,9,     -999,9,     -999,     -999,9,   0.6464,2,     -999,9,     -999,     -999,9,     -999,9,     -999,9,     -999,9,     -999,9,     -999,9,   0.0183,1,   4.6294,1,     -999,9,     -999,1,20240316,0043, -54.1634,  86.3586,     -999,1,     -999,1,-999          ,9,-999          ,9,-999          ,9
325020240221  ,I08        ,32      ,  1,8          ,8          ,2,20240316,0000, -54.1634,  86.3587,     4726,   2879.9,   0.6468,  34.6954,2,  34.6958,2,    210.5,2,    210.5,2,   122.22,2,     0.03,2,    31.82,2,     0.00,2,     2.24,2,    0.580,2,    0.250,2,    0.027,2,   0.0000,2,   2261.8,3,   2358.8,2,   7.5964,2,    24.99,     -999,1,   0.6465,2,     -999,9,     -999,     -999,9,     -999,9,     -999,9,     -999,9,     -999,9,     -999,1,   0.0183,1,   4.6288,1,     12.5,2,     -999,9,20240316,0043, -54.1634,  86.3586,     -999,9,     -999,9,-999          ,9,-999          ,9,-999          ,9
325020240221  ,I08        ,32      ,  1,10         ,10         ,2,20240316,0000, -54.1634,  86.3587,     4726,   2880.8,   0.6467,  34.6954,2,  34.6958,2,    210.6,2,     -999,9,   122.22,2,     0.03,2,    31.88,2,     0.00,2,     2.20,2,     -999,9,     -999,9,     -999,9,     -999,9,     -999,9,     -999,9,     -999,9,     -999,     -999,9,     -999,1,     -999,9,     -999,     -999,9,     -999,9,     -999,9,     -999,9,     -999,9,     -999,9,   0.0183,1,   4.6293,1,     -999,9,     -999,1,20240316,0044, -54.1634,  86.3586,     -999,1,     -999,1,-999          ,9,-999          ,9,-999          ,9
325020240221  ,I08        ,32      ,  1,7          ,7          ,2,20240316,0000, -54.1634,  86.3587,     4726,   3150.0,   0.5098,  34.6879,2,  34.6881,2,    213.8,2,    213.6,2,   124.96,2,     0.00,2,    31.93,2,     0.00,2,     2.24,2,    0.694,2,    0.306,2,    0.035,2,   0.2880,2,   2260.1,3,   2359.8,2,   7.5961,2,    24.96,     -999,1,   0.5104,2,     -999,9,     -999,     -999,9,     -999,9,     -999,9,     -999,9,     -999,9,     -999,1,   0.0183,1,   4.6276,1,     12.5,2,     -999,9,20240316,0037, -54.1635,  86.3586,     -999,9,     -999,9,-999          ,9,-999          ,9,-999          ,9
325020240221  ,I08        ,32      ,  1,6          ,6          ,2,20240316,0000, -54.1634,  86.3587,     4726,   3459.4,   0.3758,  34.6808,2,  34.6806,2,    218.0,2,    218.1,2,   128.57,2,     0.00,2,    32.04,2,     0.00,2,     2.25,2,    0.993,2,    0.420,2,    0.054,2,   0.3970,2,     -999,9,     -999,9,     -999,9,     -999,     -999,1,   0.3756,2,     -999,9,     -999,     -999,9,     -999,9,     -999,9,     -999,9,     -999,9,     -999,1,   0.0182,1,   4.6276,1,     12.4,2,     -999,9,20240316,0031, -54.1634,  86.3586,     -999,9,     -999,9,-999          ,9,-999          ,9,-999          ,9