BOTTLE,20240417CCHHYDRO
EXPOCODE,SECT_ID,STNNBR,CASTNO,SAMPNO,BTLNBR,BTLNBR_FLAG_W,DATE,TIME,LATITUDE,LONGITUDE,DEPTH,CTDPRS,CTDTMP,CTDSAL,CTDSAL_FLAG_W,SALNTY,SALNTY_FLAG_W,CTDOXY,CTDOXY_FLAG_W,OXYGEN,OXYGEN_FLAG_W,SILCAT,SILCAT_FLAG_W,NH4,NH4_FLAG_W,NITRAT,NITRAT_FLAG_W,NITRIT,NITRIT_FLAG_W,PHSPHT,PHSPHT_FLAG_W,CFC-11,CFC-11_FLAG_W,CFC-12,CFC-12_FLAG_W,CFC113,CFC113_FLAG_W,SF6,SF6_FLAG_W,TCARBN,TCARBN_FLAG_W,ALKALI,ALKALI_FLAG_W,PH_TOT,PH_TOT_FLAG_W,PH_TMP,DOC,DOC_FLAG_W,REFTMP,REFTMP_FLAG_W,DELC14,DELC14_FLAG_W,C14ERR,POC,POC_FLAG_W,PON,PON_FLAG_W,POP,POP_FLAG_W,PCOD,PCOD_FLAG_W,DOP,DOP_FLAG_W,TDN,TDN_FLAG_W,CTDFLUOR,CTDFLUOR_FLAG_W,CTDXMISS,CTDXMISS_FLAG_W,N2O,N2O_FLAG_W,ARGON,ARGON_FLAG_W,BTL_DATE,BTL_TIME,BTL_LAT,BTL_LON,KRYPTON,KRYPTON_FLAG_W,XENON,XENON_FLAG_W,HPLC,HPLC_FLAG_W,DNA,DNA_FLAG_W,FCM,FCM_FLAG_W
,,,,,,,,,,,METERS,DBAR,ITS-90,PSS-78,,PSS-78,,UMOL/KG,,UMOL/KG,,UMOL/KG,,UMOL/KG,,UMOL/KG,,UMOL/KG,,UMOL/KG,,PMOL/KG,,PMOL/KG,,PMOL/KG,,FMOL/KG,,UMOL/KG,,UMOL/KG,,,,DEG C,UMOL/KG,,ITS-90,,/MILLE,,/MILLE,UG/KG,,UG/KG,,UG/L,,UG/L,,UMOL/KG,,UMOL/KG,,VOLTS,,VOLTS,,NMOL/KG,,UMOL/L,,,,,,NMOL/L,,NMOL/L,,,,,,,
325020240221  ,I08        ,21      ,  1,5          ,5          ,2,20240310,0528, -59.5012,  82.0017,     -999,   1280.4,   1.0064,  34.7208,2,  34.7221,2,    202.0,2,    201.9,2,   112.83,2,     0.00,2,    32.16,2,     0.00,2,     2.20,2,    0.384,2,    0.168,2,    0.013,2,   0.0130,2,   2256.0,3,   2352.8,2,   7.6006,2,    24.99,     -999,9,   1.0074,2,     -999,1,     -999,     -999,9,     -999,9,     -999,9,     -999,9,     -999,9,     -999,9,   0.0165,1,   4.6216,1,     12.9,2,     -999,9,20240310,0545, -59.5012,  82.0019,     -999,9,     -999,9,-999          ,9,-999          ,9,-999          ,9
325020240221  ,I08        ,21      ,  1,4          ,4          ,2,20240310,0528, -59.5012,  82.0017,     -999,   1383.7,   0.9470,  34.7176,2,  34.7186,2,    200.7,2,    200.8,2,   121.03,2,     0.00,2,    32.45,2,     0.00,2,     2.21,2,    0.374,2,    0.170,2,    0.013,2,   0.0010,2,     -999,5,   2355.2,2,   7.5959,2,    25.00,     -999,9,   0.9473,2,     -999,1,     -999,     -999,9,     -999,9,     -999,9,     -999,9,     -999,9,     -999,9,   0.0187,1,   4.6226,1,     13.4,2,     -999,9,20240310,0541, -59.5012,  82.0019,     -999,9,     -999,9,-999          ,9,-999          ,9,-999          ,9
325020240221  ,I08        ,21      ,  1,3          ,3          ,2,20240310,0528, -59.5012,  82.0017,     -999,   1480.9,   0.9412,  34.7170,2,  34.7170,2,    200.5,2,    200.6,2,   122.69,2,     0.00,2,    32.45,2,     0.00,2,     2.22,2,    0.376,2,    0.163,2,    0.013,2,   0.0030,2,   2257.6,3,   2354.5,6,   7.5958,2,    25.01,     -999,9,   0.9413,2,     -999,1,     -999,     -999,9,     -999,9,     -999,9,     -999,9,     -999,9,     -999,9,   0.0182,1,   4.6227,1,     13.5,2,     -999,9,20240310,0536, -59.5012,  82.0019,     -999,9,     -999,9,-999          ,9,-999          ,9,-999          ,9
325020240221  ,I08        ,21      ,  1,2          ,2          ,2,20240310,0528, -59.5012,  82.0017,     -999,   1584.2,   0.9448,  34.7165,2,  34.7174,2,    200.6,2,    200.5,2,   122.98,2,     0.00,2,    32.31,2,     0.00,2,     2.21,2,    0.393,2,    0.171,2,    0.016,2,   0.0420,2,   2259.5,3,   2355.9,2,   7.5954,6,    25.01,     -999,9,   0.9447,2,     -999,1,     -999,     -999,9,     -999,9,     -999,9,     -999,9,     -999,9,     -999,9,   0.0182,1,   4.6227,1,     13.3,2,     -999,9,20240310,0532, -59.5012,  82.0020,     -999,9,     -999,9,-999          ,9,-999          ,9,-999          ,9
325020240221  ,I08        ,21      ,  1,1          ,1          ,2,20240310,0528, -59.5012,  82.0017,     -999,   1712.2,   0.9200,  34.7150,2,  34.7133,2,    201.1,2,    201.1,2,   123.96,2,     0.00,2,    32.19,2,     0.00,2,     2.18,2,    0.371,2,    0.165,2,    0.013,2,   0.0110,2,   2259.4,3,   2354.2,2,   7.5952,6,    25.01,     -999,9,   0.9195,2,     -999,1,     -999,     -999,9,     -999,9,     -999,9,     -999,9,     -999,9,     -999,9,   0.0182,1,   4.6203,1,      8.1,4,     -999,9,20240310,0528, -59.5012,  82.0020,     -999,9,     -999,9,-999          ,9,-999          ,9,-999          ,9
325020240221  ,I08        ,22      ,  1,25         ,25         ,2,20240310,1234, -58.7524,  82.0004,     1398,      3.5,   1.2852,  33.9310,2,  33.9312,2,    325.0,2,    325.4,2,    36.53,2,     0.64,2,    26.28,2,     0.29,2,     1.82,2,    4.987,2,    2.780,2,    0.411,2,   4.4470,2,   2185.4,3,   2296.4,2,   7.6710,2,    25.01,     -999,1,   1.2844,2,     -999,9,     -999,     -999,9,     -999,9,     -999,9,     -999,9,     -999,9,     -999,1,   0.0584,1,   4.4846,1,     11.6,2,     -999,9,20240310,1355, -58.7524,  82.0004,     -999,9,     -999,9,-999          ,9,-999          ,9,-999          ,9
325020240221  ,I08        ,22      ,  1,24         ,24         ,2,20240310,1234, -58.7524,  82.0004,     1398,     24.7,   1.2734,  33.9296,2,  33.9289,2,    325.1,2,    324.9,2,    36.53,2,     0.63,2,    26.24,2,     0.29,2,     1.81,2,    4.793,2,    2.742,2,    0.405,2,   4.3610,2,   2181.9,3,   2294.2,2,   7.6710,6,    25.00,     -999,1,   1.2724,2,     -999,9,     -999,     -999,9,     -999,9,     -999,9,     -999,9,     -999,9,     -999,1,   0.0616,1,   4.4780,1,     11.2,2,     -999,9,20240310,1352, -58.7524,  82.0004,     -999,9,     -999,9,-999          ,9,-999          ,9,-999          ,9
325020240221  ,I08        ,22      ,  1,23         ,37         ,2,20240310,1234, -58.7524,  82.0004,     1398,     49.4,   1.2715,  33.9293,2,  33.9299,2,    325.1,2,    325.1,2,    36.43,2,     0.63,2,    26.14,2,     0.29,2,     1.81,2,    5.509,2,    2.793,2,    0.406,2,   4.2590,2,   2182.4,3,   2296.6,2,   7.6709,2,    25.02,     -999,1,   1.2714,2,     -999,9,     -999,     -999,9,     -999,9,     -999,9,     -999,9,     -999,9,     -999,1,   0.0591,1,   4.4870,1,     11.1,2,     -999,9,20240310,1350, -58.7523,  82.0004,     -999,9,     -999,9,-999          ,9,-999          ,9,-999          ,9
325020240221  ,I08        ,22      ,  1,22         ,22         ,2,20240310,1234, -58.7524,  82.0004,     1398,     74.2,   1.2068,  33.9305,2,  33.9289,2,    324.1,2,    324.4,2,    36.62,2,     0.67,2,    26.14,2,     0.29,2,     1.82,2,    4.887,2,    2.805,2,    0.412,2,   4.2460,2,   2181.0,3,   2298.4,2,   7.6690,2,    25.02,     -999,1,   1.2069,2,     -999,9,     -999,     -999,9,     -999,9,     -999,9,     -999,9,     -999,9,     -999,1,   0.0650,1,   4.4761,1,     11.6,2,     -999,9,20240310,1348, -58.7523,  82.0004,     -999,9,     -999,9,-999          ,9,-999          ,9,-999          ,9
325020240221  ,I08        ,22      ,  1,21         ,21         ,2,20240310,1234, -58.7524,  82.0004,     1398,    100.0,   0.7515,  34.3553,2,  34.3378,2,    234.7,2,    234.6,2,    68.34,2,     0.21,2,    32.23,2,     0.21,2,     2.24,2,    3.184,2,    1.599,2,    0.231,2,   2.1160,2,   2238.3,3,   2316.1,2,   7.5584,2,    25.00,     -999,1,   0.7545,2,     -999,9,     -999,     -999,9,     -999,9,     -999,9,     -999,9,     -999,9,     -999,1,   0.0315,1,   4.5806,1,     15.3,2,     -999,9,20240310,1344, -58.7524,  82.0004,     -999,9,     -999,9,-999          ,9,-999          ,9,-999          ,9
325020240221  ,I08        ,22      ,  1,20         ,20         ,2,20240310,1234, -58.7524,  82.0004,     1398,    125.0,   1.0637,  34.5059,2,  34.5125,2,    198.5,2,    199.0,2,    78.88,2,     0.02,2,    33.55,2,     0.04,2,     2.29,2,    1.828,2,    0.913,2,    0.149,2,   1.0460,2,   2257.2,3,   2328.0,2,   7.5396,2,    25.00,     -999,1,   1.0755,2,     -999,9,     -999,     -999,9,     -999,9,     -999,9,     -999,9,     -999,9,     -999,1,   0.0216,1,   4.6108,1,     16.5,2,     -999,9,20240310,1342, -58.7523,  82.0005,     -999,9,     -999,9,-999          ,9,-999          ,9,-999          ,9
325020240221  ,I08        ,22      ,  1,19         ,19         ,2,20240310,1234, -58.7524,  82.0004,     1398,    150.8,   1.6802,  34.5968,2,  34.5957,2,    177.5,2,    177.2,2,    82.68,2,     0.02,2,    33.95,2,     0.02,2,     2.31,2,    1.229,2,    0.573,2,    0.078,2,   0.5920,2,   2265.6,3,   2333.7,2,   7.5346,2,    25.01,     -999,1,   1.6728,2,     -999,9,     -999,     -999,9,     -999,9,     -999,9,     -999,9,     -999,9,     -999,1,   0.0208,1,   4.6169,1,     15.7,2,     -999,9,20240310,1340, -58.7524,  82.0004,     -999,9,     -999,9,-999          ,9,-999          ,9,-999          ,9
325020240221  ,I08        ,22      ,  1,18         ,18         ,2,20240310,1234, -58.7524,  82.0004,     1398,    175.8,   1.7245,  34.6177,2,  34.6191,2,    178.1,2,    178.2,2,    83.56,2,     0.00,2,    33.60,2,     0.00,2,     2.29,2,    1.073,2,    0.514,2,    0.076,2,   0.6250,2,   2265.9,3,   2337.6,2,   7.5413,6,    25.04,     -999,1,   1.7218,2,     -999,9,     -999,     -999,9,     -999,9,     -999,9,     -999,9,     -999,9,     -999,1,   0.0195,1,   4.6194,1,     16.4,2,     -999,9,20240310,1337, -58.7524,  82.0004,     -999,9,     -999,9,-999          ,9,-999          ,9,-999          ,9
325020240221  ,I08        ,22      ,  1,17         ,17         ,2,20240310,1234, -58.7524,  82.0004,     1398,    201.6,   1.4865,  34.6160,2,  34.6162,2,    185.2,2,    185.5,2,    83.56,2,     0.00,2,    33.28,2,     0.00,2,     2.27,2,    1.279,2,    0.590,2,    0.086,2,   0.6900,2,   2262.4,3,   2337.2,6,   7.5490,2,    24.99,     -999,1,   1.4906,2,     -999,9,     -999,     -999,9,     -999,9,     -999,9,     -999,9,     -999,9,     -999,1,   0.0195,1,   4.6241,1,     15.9,2,     -999,9,20240310,1334, -58.7524,  82.0004,     -999,9,     -999,9,-999          ,9,-999          ,9,-999          ,9
325020240221  ,I08        ,22      ,  1,16         ,16         ,2,20240310,1234, -58.7524,  82.0004,     1398,    227.2,   1.6466,  34.6424,2,  34.6435,2,    181.6,2,    181.0,2,    84.73,2,     0.00,2,    33.20,2,     0.00,2,     2.25,2,    0.932,2,    0.455,2,    0.072,2,   0.5180,2,   2262.1,3,   2340.2,2,   7.5528,6,    25.00,     -999,1,   1.6511,2,     -999,9,     -999,     -999,9,     -999,9,     -999,9,     -999,9,     -999,9,     -999,1,   0.0195,1,   4.6241,1,     15.9,2,     -999,9,20240310,1332, -58.7524,  82.0004,     -999,9,     -999,9,-999          ,9,-999          ,9,-999          ,9
325020240221  ,I08        ,22      ,  1,15         ,15         ,2,20240310,1234, -58.7524,  82.0004,     1398,    257.3,   1.6059,  34.6558,2,  34.6519,2,    184.1,2,    185.7,2,    85.80,2,     0.03,2,    32.86,2,     0.00,2,     2.24,2,    1.016,2,    0.466,2,    0.069,2,   0.6030,2,   2254.1,3,   2340.5,2,   7.5600,2,    25.02,     -999,1,   1.6112,2,     -999,9,     -999,     -999,9,     -999,9,     -999,9,     -999,9,     -999,9,     -999,1,   0.0194,1,   4.6272,1,     15.5,2,     -999,9,20240310,1330, -58.7523,  82.0004,     -999,9,     -999,9,-999          ,9,-999          ,9,-999          ,9
325020240221  ,I08        ,22      ,  1,14         ,14         ,2,20240310,1234, -58.7524,  82.0004,     1398,    302.9,   1.8833,  34.7033,2,  34.7036,2,    178.8,2,    178.8,2,    86.87,2,     0.00,2,    32.41,2,     0.00,2,     2.23,2,    0.527,2,    0.250,2,    0.024,2,   0.3510,2,   2260.3,3,   2344.7,2,   7.5692,2,    25.02,     -999,1,   1.8838,2,     -999,9,     -999,     -999,9,     -999,9,     -999,9,     -999,9,     -999,9,     -999,1,   0.0182,1,   4.6336,1,     10.3,4,     -999,9,20240310,1327, -58.7523,  82.0004,     -999,9,     -999,9,-999          ,9,-999          ,9,-999          ,9
325020240221  ,I08        ,22      ,  1,13         ,13         ,2,20240310,1234, -58.7524,  82.0004,     1398,    353.0,   1.8467,  34.7097,2,  34.7103,2,    181.9,2,    182.0,2,    87.26,2,     0.00,2,    32.12,2,     0.00,2,     2.21,2,    0.531,2,    0.237,2,    0.029,2,   0.0490,2,   2265.1,3,   2345.5,2,   7.5734,2,    25.01,     -999,1,   1.8490,2,     -999,9,     -999,     -999,9,     -999,9,     -999,9,     -999,9,     -999,9,     -999,1,   0.0189,1,   4.6325,1,     15.2,2,     -999,9,20240310,1324, -58.7523,  82.0004,     -999,9,     -999,9,-999          ,9,-999          ,9,-999          ,9
325020240221  ,I08        ,22      ,  1,12         ,12         ,2,20240310,1234, -58.7524,  82.0004,     1398,    403.8,   1.8438,  34.7214,2,  34.7207,2,    182.3,2,    182.5,2,    88.04,2,     0.03,2,    31.87,2,     0.00,2,     2.19,2,    0.439,2,    0.202,2,    0.023,2,   0.0380,2,   2258.2,3,   2347.9,2,   7.5791,2,    25.00,     -999,1,   1.8430,2,     -999,9,     -999,     -999,9,     -999,9,     -999,9,     -999,9,     -999,9,     -999,1,   0.0188,1,   4.6325,1,     14.8,2,     -999,9,20240310,1320, -58.7524,  82.0004,     -999,9,     -999,9,-999          ,9,-999          ,9,-999          ,9
325020240221  ,I08        ,22      ,  1,11         ,11         ,2,20240310,1234, -58.7524,  82.0004,     1398,    454.6,   1.7705,  34.7224,2,  34.7243,2,    185.5,2,    185.7,2,    88.53,2,     0.00,2,    31.60,2,     0.00,2,     2.15,2,    0.463,2,    0.211,2,    0.023,2,   0.2620,2,   2257.4,3,   2346.2,2,   7.5833,2,    25.03,     -999,1,   1.7726,2,     -999,9,     -999,     -999,9,     -999,9,     -999,9,     -999,9,     -999,9,     -999,1,   0.0189,1,   4.6324,1,     14.8,2,     -999,9,20240310,1317, -58.7524,  82.0004,     -999,9,     -999,9,-999          ,9,-999          ,9,-999          ,9
325020240221  ,I08        ,22      ,  1,10         ,10         ,2,20240310,1234, -58.7524,  82.0004,     1398,    516.1,   1.6776,  34.7248,2,  34.7231,2,    189.2,2,    189.5,2,    89.80,2,     0.00,2,    31.35,2,     0.00,2,     2.12,2,    0.511,2,    0.232,2,    0.025,2,   0.2330,2,   2258.8,3,   2347.8,2,   7.5872,2,    25.06,     -999,1,   1.6789,2,     -999,9,     -999,     -999,9,     -999,9,     -999,9,     -999,9,     -999,9,     -999,1,   0.0181,1,   4.6314,1,     14.7,2,     -999,9,20240310,1313, -58.7524,  82.0004,     -999,9,     -999,9,-999          ,9,-999          ,9,-999          ,9
325020240221  ,I08        ,22      ,  1,9          ,9          ,2,20240310,1234, -58.7524,  82.0004,     1398,    606.4,   1.6875,  34.7400,2,  34.7416,2,    190.2,2,    189.9,2,    91.36,2,     0.00,2,    30.92,2,     0.00,2,     2.09,2,    0.359,2,    0.160,2,    0.015,2,   0.0040,2,   2254.0,3,   2347.3,2,   7.5937,2,    25.05,     -999,1,   1.6867,2,     -999,9,     -999,     -999,9,     -999,9,     -999,9,     -999,9,     -999,9,     -999,1,   0.0188,1,   4.6311,1,     14.4,2,     -999,9,20240310,1309, -58.7524,  82.0004,     -999,9,     -999,9,-999          ,9,-999          ,9,-999          ,9
325020240221  ,I08        ,22      ,  1,8          ,8          ,2,20240310,1234, -58.7524,  82.0004,     1398,    706.4,   1.5952,  34.7417,2,  34.7429,2,    193.9,2,    194.1,2,    93.02,2,     0.02,2,    30.58,2,     0.00,2,     2.08,2,    0.349,2,    0.153,2,    0.015,2,   0.0360,2,   2257.3,3,   2350.5,2,   7.6000,2,    25.03,     -999,1,   1.5966,2,     -999,9,     -999,     -999,9,     -999,9,     -999,9,     -999,9,     -999,9,     -999,1,   0.0183,1,   4.6299,1,     13.9,2,     -999,9,20240310,1305, -58.7524,  82.0004,     -999,9,     -999,9,-999          ,9,-999          ,9,-999          ,9
325020240221  ,I08        ,22      ,  1,7          ,7          ,2,20240310,1234, -58.7524,  82.0004,     1398,    808.9,   1.5096,  34.7408,2,  34.7418,2,    196.2,2,    196.3,2,    94.87,2,     0.00,2,    30.47,2,     0.00,2,     2.09,2,    0.340,2,    0.154,2,    0.015,2,   0.0870,2,   2259.2,3,   2351.2,2,   7.6015,2,    25.05,     -999,1,   1.5088,2,     -999,9,     -999,     -999,9,     -999,9,     -999,9,     -999,9,     -999,9,     -999,1,   0.0182,1,   4.6288,1,     13.9,2,     -999,9,20240310,1301, -58.7524,  82.0004,     -999,9,     -999,9,-999          ,9,-999          ,9,-999          ,9
325020240221  ,I08        ,22      ,  1,6          ,6          ,2,20240310,1234, -58.7524,  82.0004,     1398,    911.3,   1.4139,  34.7395,2,  34.7406,2,    197.5,2,    197.4,2,    98.09,2,     0.00,2,    30.53,2,     0.00,2,     2.10,2,    0.340,2,    0.152,2,    0.013,2,   0.0390,2,   2261.4,3,   2348.2,2,   7.6028,2,    25.03,     -999,1,   1.4138,2,     -999,9,     -999,     -999,9,     -999,9,     -999,9,     -999,9,     -999,9,     -999,1,   0.0182,1,   4.6275,1,     13.8,2,     -999,9,20240310,1256, -58.7524,  82.0003,     -999,9,     -999,9,-999          ,9,-999          ,9,-999          ,9
325020240221  ,I08        ,22      ,  1,5          ,5          ,2,20240310,1234, -58.7524,  82.0004,     1398,   1011.5,   1.3096,  34.7358,2,  34.7376,2,    199.3,2,    199.4,2,   100.83,2,     0.00,2,    30.60,2,     0.00,2,     2.13,2,    0.349,2,    0.156,2,    0.014,2,   0.0510,2,   2260.2,3,   2351.1,2,   7.6040,2,    25.02,     -999,1,   1.3091,2,     -999,9,     -999,     -999,9,     -999,9,     -999,9,     -999,9,     -999,9,     -999,1,   0.0183,1,   4.6264,1,     13.6,2,     -999,9,20240310,1252, -58.7524,  82.0003,     -999,9,     -999,9,-999          ,9,-999          ,9,-999          ,9
325020240221  ,I08        ,22      ,  1,4          ,4          ,2,20240310,1234, -58.7524,  82.0004,     1398,   1112.0,   1.1944,  34.7307,2,  34.7323,2,    200.3,2,    200.2,2,   104.44,2,     0.00,2,    30.93,2,     0.00,2,     2.14,2,    0.351,2,    0.158,2,    0.014,2,   0.0390,2,   2254.8,3,   2351.5,2,   7.6034,6,    25.02,     -999,1,   1.1943,2,     -999,9,     -999,     -999,9,     -999,9,     -999,9,     -999,9,     -999,9,     -999,1,   0.0182,1,   4.6251,1,     13.5,2,     -999,9,20240310,1247, -58.7524,  82.0003,     -999,9,     -999,9,-999          ,9,-999          ,9,-999          ,9
325020240221  ,I08        ,22      ,  1,3          ,3          ,2,20240310,1234, -58.7524,  82.0004,     1398,   1216.1,   1.0723,  34.7244,2,  34.7256,2,    200.7,2,    200.9,2,   111.27,2,     0.00,2,    31.41,2,     0.00,2,     2.18,2,    0.367,2,    0.158,2,    0.013,2,   0.0450,2,   2262.1,3,   2354.9,6,   7.5997,2,    25.00,     -999,1,   1.0726,2,     -999,9,     -999,     -999,9,     -999,9,     -999,9,     -999,9,     -999,9,     -999,1,   0.0187,1,   4.6237,1,     13.4,2,     -999,9,20240310,1242, -58.7524,  82.0003,     -999,9,     -999,9,-999          ,9,-999          ,9,-999          ,9
325020240221  ,I08        ,22      ,  1,2          ,2          ,2,20240310,1234, -58.7524,  82.0004,     1398,   1317.4,   0.9661,  34.7189,2,  34.7191,2,    198.3,2,    198.0,2,   127.77,2,     0.00,2,    32.03,2,     0.00,2,     2.21,2,    0.369,2,    0.157,2,    0.012,2,   0.0410,2,   2263.4,3,   2354.5,2,   7.5921,6,    25.02,     -999,1,   0.9665,2,     -999,9,     -999,     -999,9,     -999,9,     -999,9,     -999,9,     -999,9,     -999,1,   0.0182,1,   4.6236,1,     13.2,2,     -999,9,20240310,1237, -58.7524,  82.0003,     -999,9,     -999,9,-999          ,9,-999          ,9,-999          ,9
325020240221  ,I08        ,22      ,  1,1          ,1          ,2,20240310,1234, -58.7524,  82.0004,     1398,   1402.1,   0.9548,  34.7182,2,  34.7189,2,    196.7,2,    197.0,2,   135.09,2,     0.00,2,    32.36,2,     0.00,2,     2.22,2,    0.333,2,    0.143,2,    0.010,2,   0.0040,2,   2269.9,3,   2357.8,2,   7.5876,2,    25.02,     -999,1,   0.9547,2,     -999,9,     -999,     -999,9,     -999,9,     -999,9,     -999,9,     -999,9,     -999,1,   0.0188,1,   4.6251,1,      6.6,4,     -999,9,20240310,1234, -58.7524,  82.0004,     -999,9,     -999,9,-999          ,9,-999          ,9,-999          ,9