BOTTLE,20240417CCHHYDRO
EXPOCODE,SECT_ID,STNNBR,CASTNO,SAMPNO,BTLNBR,BTLNBR_FLAG_W,DATE,TIME,LATITUDE,LONGITUDE,DEPTH,CTDPRS,CTDTMP,CTDSAL,CTDSAL_FLAG_W,SALNTY,SALNTY_FLAG_W,CTDOXY,CTDOXY_FLAG_W,OXYGEN,OXYGEN_FLAG_W,SILCAT,SILCAT_FLAG_W,NH4,NH4_FLAG_W,NITRAT,NITRAT_FLAG_W,NITRIT,NITRIT_FLAG_W,PHSPHT,PHSPHT_FLAG_W,CFC-11,CFC-11_FLAG_W,CFC-12,CFC-12_FLAG_W,CFC113,CFC113_FLAG_W,SF6,SF6_FLAG_W,TCARBN,TCARBN_FLAG_W,ALKALI,ALKALI_FLAG_W,PH_TOT,PH_TOT_FLAG_W,PH_TMP,DOC,DOC_FLAG_W,REFTMP,REFTMP_FLAG_W,DELC14,DELC14_FLAG_W,C14ERR,POC,POC_FLAG_W,PON,PON_FLAG_W,POP,POP_FLAG_W,PCOD,PCOD_FLAG_W,DOP,DOP_FLAG_W,TDN,TDN_FLAG_W,CTDFLUOR,CTDFLUOR_FLAG_W,CTDXMISS,CTDXMISS_FLAG_W,N2O,N2O_FLAG_W,ARGON,ARGON_FLAG_W,BTL_DATE,BTL_TIME,BTL_LAT,BTL_LON,KRYPTON,KRYPTON_FLAG_W,XENON,XENON_FLAG_W,HPLC,HPLC_FLAG_W,DNA,DNA_FLAG_W,FCM,FCM_FLAG_W
,,,,,,,,,,,METERS,DBAR,ITS-90,PSS-78,,PSS-78,,UMOL/KG,,UMOL/KG,,UMOL/KG,,UMOL/KG,,UMOL/KG,,UMOL/KG,,UMOL/KG,,PMOL/KG,,PMOL/KG,,PMOL/KG,,FMOL/KG,,UMOL/KG,,UMOL/KG,,,,DEG C,UMOL/KG,,ITS-90,,/MILLE,,/MILLE,UG/KG,,UG/KG,,UG/L,,UG/L,,UMOL/KG,,UMOL/KG,,VOLTS,,VOLTS,,NMOL/KG,,UMOL/L,,,,,,NMOL/L,,NMOL/L,,,,,,,
325020240221  ,I08        ,9       ,  1,36         ,36         ,2,20240305,1650, -65.3668,  77.8595,     3270,      1.3,  -0.3375,  33.7513,2,  33.7486,2,    332.8,2,    333.5,2,    43.76,2,     1.02,2,    24.98,2,     0.19,2,     1.68,2,    5.642,2,    2.878,2,    0.414,2,   4.7790,2,   2166.8,3,   2286.2,2,   7.6785,2,    25.00,     -999,1,  -0.3384,2,     -999,9,     -999,     -999,9,     -999,9,     -999,9,     -999,9,     -999,9,     -999,1,   0.0495,1,   4.5043,1,     11.7,2,     -999,9,20240305,1833, -65.3668,  77.8595,     -999,9,     -999,9,-999          ,9,-999          ,9,-999          ,9
325020240221  ,I08        ,9       ,  1,35         ,35         ,2,20240305,1650, -65.3668,  77.8595,     3270,     18.6,  -0.1936,  33.8151,2,  33.8085,2,    331.6,2,    331.5,2,    43.75,2,     1.07,2,    25.04,2,     0.20,2,     1.72,2,    5.052,2,    2.733,2,    0.420,2,   4.3800,2,   2168.2,3,   2288.9,2,   7.6773,2,    25.01,     -999,9,  -0.1911,2,     -999,9,     -999,     -999,9,     -999,9,     -999,9,     -999,9,     -999,9,     -999,9,   0.0493,1,   4.5116,1,     12.0,2,     -999,9,20240305,1831, -65.3668,  77.8595,     -999,9,     -999,9,-999          ,9,-999          ,9,-999          ,9
325020240221  ,I08        ,9       ,  1,34         ,34         ,2,20240305,1650, -65.3668,  77.8595,     3270,     39.9,  -1.5186,  34.2062,2,  34.2091,2,    300.3,2,    300.3,2,    60.15,2,     0.51,2,    29.55,2,     0.15,2,     2.05,2,    4.340,2,    2.278,2,    0.340,2,   3.2360,2,   2212.5,3,   2317.2,6,   7.6114,6,    25.02,     -999,9,  -1.4979,3,     -999,9,     -999,     -999,9,     -999,9,     -999,9,     -999,9,     -999,9,     -999,9,   0.0588,1,   4.5326,1,     13.4,2,     -999,9,20240305,1829, -65.3668,  77.8596,     -999,9,     -999,9,-999          ,9,-999          ,9,-999          ,9
325020240221  ,I08        ,9       ,  1,33         ,33         ,2,20240305,1650, -65.3668,  77.8595,     3270,     64.1,  -1.5755,  34.3137,2,  34.3054,2,    289.5,2,    289.6,2,    65.80,2,     0.08,2,    30.50,2,     0.17,2,     2.10,2,    4.258,2,    2.155,2,    0.326,2,   3.1980,2,   2226.0,3,   2316.6,2,   7.5946,6,    24.96,     -999,9,  -1.5714,2,     -999,9,     -999,     -999,9,     -999,9,     -999,9,     -999,9,     -999,9,     -999,9,   0.0322,1,   4.5620,1,     13.4,2,     -999,9,20240305,1827, -65.3668,  77.8595,     -999,9,     -999,9,-999          ,9,-999          ,9,-999          ,9
325020240221  ,I08        ,9       ,  1,32         ,32         ,2,20240305,1650, -65.3668,  77.8595,     3270,     89.7,  -1.5878,  34.3421,2,  34.3395,2,    290.1,2,    289.8,2,    66.97,2,     0.03,2,    30.54,2,     0.09,2,     2.10,2,    4.239,2,    2.207,2,    0.326,2,   3.3370,2,     -999,9,     -999,9,     -999,9,     -999,     -999,9,  -1.5895,2,     -999,9,     -999,     -999,9,     -999,9,     -999,9,     -999,9,     -999,9,     -999,9,   0.0244,1,   4.5616,1,     13.4,2,     -999,9,20240305,1825, -65.3668,  77.8596,     -999,9,     -999,9,-999          ,9,-999          ,9,-999          ,9
325020240221  ,I08        ,9       ,  1,31         ,31         ,2,20240305,1650, -65.3668,  77.8595,     3270,    115.6,  -1.6401,  34.3555,2,  34.3560,2,    292.8,2,    292.8,2,    67.75,2,     0.04,2,    30.52,2,     0.04,2,     2.10,2,    4.499,2,    2.249,2,    0.329,2,   3.2570,2,   2226.9,3,   2320.6,2,   7.5970,6,    24.95,     -999,9,  -1.6396,2,     -999,9,     -999,     -999,9,     -999,9,     -999,9,     -999,9,     -999,9,     -999,9,   0.0232,1,   4.5627,1,     13.4,2,     -999,9,20240305,1824, -65.3668,  77.8596,     -999,9,     -999,9,-999          ,9,-999          ,9,-999          ,9
325020240221  ,I08        ,9       ,  1,30         ,30         ,2,20240305,1650, -65.3668,  77.8595,     3270,    141.4,  -1.6437,  34.3627,2,  34.3609,2,    293.6,2,    293.7,2,    68.05,2,     0.01,2,    30.48,2,     0.03,2,     2.11,2,    4.641,2,    2.250,2,    0.331,2,   3.2270,2,     -999,9,     -999,9,     -999,9,     -999,     -999,9,  -1.6445,2,     -999,9,     -999,     -999,9,     -999,9,     -999,9,     -999,9,     -999,9,     -999,9,   0.0195,1,   4.5641,1,     13.4,2,     -999,9,20240305,1822, -65.3668,  77.8596,     -999,9,     -999,9,-999          ,9,-999          ,9,-999          ,9
325020240221  ,I08        ,9       ,  1,29         ,29         ,2,20240305,1650, -65.3668,  77.8595,     3270,    164.9,  -1.5922,  34.3741,2,  34.3717,2,    293.8,2,    293.5,2,    68.14,2,     0.02,2,    30.57,2,     0.02,2,     2.09,2,    4.457,2,    2.271,2,    0.334,2,   2.9780,2,   2227.3,3,   2323.4,2,   7.5981,2,    25.04,     -999,9,  -1.5932,2,     -999,9,     -999,     -999,9,     -999,9,     -999,9,     -999,9,     -999,9,     -999,9,   0.0195,1,   4.5665,1,     13.3,2,     -999,9,20240305,1820, -65.3668,  77.8596,     -999,9,     -999,9,-999          ,9,-999          ,9,-999          ,9
325020240221  ,I08        ,9       ,  1,28         ,28         ,2,20240305,1650, -65.3668,  77.8595,     3270,    190.7,  -1.4989,  34.3883,2,  34.3861,2,    292.2,2,    292.6,2,    68.24,2,     0.00,2,    30.58,2,     0.00,2,     2.10,2,    4.801,2,    2.238,2,    0.327,2,   3.2480,2,     -999,9,     -999,9,     -999,9,     -999,     -999,9,  -1.4978,2,     -999,9,     -999,     -999,9,     -999,9,     -999,9,     -999,9,     -999,9,     -999,9,   0.0195,1,   4.5702,1,     13.3,2,     -999,9,20240305,1818, -65.3668,  77.8596,     -999,9,     -999,9,-999          ,9,-999          ,9,-999          ,9
325020240221  ,I08        ,9       ,  1,27         ,27         ,2,20240305,1650, -65.3668,  77.8595,     3270,    238.4,  -1.2865,  34.4206,2,  34.4178,2,    289.3,2,    290.0,2,    68.43,2,     0.04,2,    30.54,2,     0.00,2,     2.09,2,    4.926,2,    2.348,2,    0.318,2,   3.2230,2,   2234.9,3,   2325.8,2,   7.5978,2,    25.01,     -999,9,  -1.2875,2,     -999,9,     -999,     -999,9,     -999,9,     -999,9,     -999,9,     -999,9,     -999,9,   0.0183,1,   4.5753,1,     13.5,2,     -999,9,20240305,1816, -65.3668,  77.8596,     -999,9,     -999,9,-999          ,9,-999          ,9,-999          ,9
325020240221  ,I08        ,9       ,  1,26         ,26         ,2,20240305,1650, -65.3668,  77.8595,     3270,    286.6,  -0.9382,  34.4575,2,  34.4542,2,    279.5,2,    278.6,2,    70.58,2,     0.00,2,    30.86,2,     0.00,2,     2.10,2,    4.056,2,    2.036,2,    0.296,2,   2.9890,2,     -999,9,     -999,9,     -999,9,     -999,     -999,9,  -0.9580,2,     -999,9,     -999,     -999,9,     -999,9,     -999,9,     -999,9,     -999,9,     -999,9,   0.0183,1,   4.5812,1,     13.6,2,     -999,9,20240305,1814, -65.3669,  77.8596,     -999,9,     -999,9,-999          ,9,-999          ,9,-999          ,9
325020240221  ,I08        ,9       ,  1,25         ,25         ,2,20240305,1650, -65.3668,  77.8595,     3270,    336.0,  -0.2243,  34.5251,2,  34.5239,2,    251.0,2,    250.6,2,    76.53,2,     0.00,2,    31.55,2,     0.00,2,     2.13,2,    3.200,2,    1.534,2,    0.232,2,   1.9640,2,   2240.6,3,   2334.1,2,   7.5861,2,    25.01,     -999,9,  -0.2274,2,     -999,9,     -999,     -999,9,     -999,9,     -999,9,     -999,9,     -999,9,     -999,9,   0.0183,1,   4.5872,1,     14.2,2,     -999,9,20240305,1812, -65.3668,  77.8596,     -999,9,     -999,9,-999          ,9,-999          ,9,-999          ,9
325020240221  ,I08        ,9       ,  1,24         ,24         ,2,20240305,1650, -65.3668,  77.8595,     3270,    387.4,   0.0849,  34.5642,2,  34.5639,2,    239.2,2,    238.5,2,    80.14,2,     0.00,2,    31.76,2,     0.00,2,     2.14,2,    2.668,2,    1.330,2,    0.189,2,   1.6060,2,     -999,9,     -999,9,     -999,9,     -999,     -999,9,   0.0761,2,     -999,9,     -999,     -999,9,     -999,9,     -999,9,     -999,9,     -999,9,     -999,9,   0.0183,1,   4.5896,1,     14.3,2,     -999,9,20240305,1810, -65.3668,  77.8596,     -999,9,     -999,9,-999          ,9,-999          ,9,-999          ,9
325020240221  ,I08        ,9       ,  1,23         ,37         ,2,20240305,1650, -65.3668,  77.8595,     3270,    439.3,   0.1757,  34.5841,2,  34.5830,2,    235.7,2,    235.4,2,    82.29,2,     0.00,2,    31.60,2,     0.00,2,     2.14,2,    2.467,2,    1.216,2,    0.173,2,   1.5380,2,   2246.0,3,   2337.3,2,   7.5875,2,    25.01,     -999,9,   0.1762,2,     -999,9,     -999,     -999,9,     -999,9,     -999,9,     -999,9,     -999,9,     -999,9,   0.0183,1,   4.5909,1,     14.0,2,     -999,9,20240305,1808, -65.3668,  77.8596,     -999,9,     -999,9,-999          ,9,-999          ,9,-999          ,9
325020240221  ,I08        ,9       ,  1,22         ,22         ,2,20240305,1650, -65.3668,  77.8595,     3270,    487.6,   0.1143,  34.5926,2,  34.5916,2,    236.7,2,    237.1,2,    84.14,2,     0.00,2,    31.43,2,     0.00,2,     2.13,2,    2.387,2,    1.154,2,    0.172,2,   1.4850,2,     -999,9,     -999,9,     -999,9,     -999,     -999,9,   0.1116,2,     -999,9,     -999,     -999,9,     -999,9,     -999,9,     -999,9,     -999,9,     -999,9,   0.0183,1,   4.5922,1,     13.7,2,     -999,9,20240305,1805, -65.3668,  77.8596,     -999,9,     -999,9,-999          ,9,-999          ,9,-999          ,9
325020240221  ,I08        ,9       ,  1,21         ,21         ,2,20240305,1650, -65.3668,  77.8595,     3270,    571.7,   0.2561,  34.6205,2,  34.6201,2,    230.6,2,    230.8,2,    89.21,2,     0.04,2,    31.37,2,     0.00,2,     2.14,2,    2.029,2,    0.986,2,    0.143,2,   1.2560,2,   2246.8,3,   2341.6,2,   7.5923,6,    24.97,     -999,9,   0.2552,2,     -999,9,     -999,     -999,9,     -999,9,     -999,9,     -999,9,     -999,9,     -999,9,   0.0183,1,   4.5953,1,     13.4,2,     -999,9,20240305,1803, -65.3668,  77.8595,     -999,9,     -999,9,-999          ,9,-999          ,9,-999          ,9
325020240221  ,I08        ,9       ,  1,20         ,20         ,2,20240305,1650, -65.3668,  77.8595,     3270,    671.7,   0.4925,  34.6585,2,  34.6563,2,    220.0,2,    220.7,2,    96.43,2,     0.00,2,    31.56,2,     0.00,2,     2.15,2,    1.529,2,    0.713,2,    0.100,2,   0.7860,4,     -999,9,     -999,9,     -999,9,     -999,     -999,9,   0.4922,2,     -999,9,     -999,     -999,9,     -999,9,     -999,9,     -999,9,     -999,9,     -999,9,   0.0183,1,   4.5972,1,     13.3,2,     -999,9,20240305,1800, -65.3668,  77.8596,     -999,9,     -999,9,-999          ,9,-999          ,9,-999          ,9
325020240221  ,I08        ,9       ,  1,19         ,19         ,2,20240305,1650, -65.3668,  77.8595,     3270,    774.2,   0.5230,  34.6695,2,  34.6680,2,    216.2,2,    217.0,2,   101.70,2,     0.00,2,    31.83,2,     0.00,2,     2.16,2,    1.319,4,    0.589,4,    0.079,4,   0.6750,4,   2254.3,3,   2349.2,2,   7.5923,2,    24.95,     -999,9,   0.5225,2,     -999,9,     -999,     -999,9,     -999,9,     -999,9,     -999,9,     -999,9,     -999,9,   0.0183,1,   4.5983,1,     10.0,4,     -999,9,20240305,1757, -65.3668,  77.8596,     -999,9,     -999,9,-999          ,9,-999          ,9,-999          ,9
325020240221  ,I08        ,9       ,  1,18         ,18         ,2,20240305,1650, -65.3668,  77.8595,     3270,    872.6,   0.6174,  34.6866,2,  34.6873,2,    211.3,2,    210.9,2,   107.56,2,     0.00,2,    32.04,2,     0.00,2,     2.19,2,    0.888,2,    0.413,2,    0.052,2,   0.4660,2,     -999,9,     -999,9,     -999,9,     -999,     -999,9,   0.6169,2,     -999,9,     -999,     -999,9,     -999,9,     -999,9,     -999,9,     -999,9,     -999,9,   0.0183,1,   4.5992,1,     13.5,2,     -999,9,20240305,1754, -65.3668,  77.8596,     -999,9,     -999,9,-999          ,9,-999          ,9,-999          ,9
325020240221  ,I08        ,9       ,  1,17         ,17         ,2,20240305,1650, -65.3668,  77.8595,     3270,    975.4,   0.6230,  34.6926,2,  34.6924,2,    209.1,2,    209.3,2,   111.76,2,     0.00,2,    32.28,2,     0.00,2,     2.23,2,    0.679,2,    0.326,2,    0.038,2,   0.2870,2,   2258.4,3,   2352.8,2,   7.5932,2,    24.99,     -999,9,   0.6223,2,     -999,9,     -999,     -999,9,     -999,9,     -999,9,     -999,9,     -999,9,     -999,9,   0.0183,1,   4.5992,1,     13.6,2,     -999,9,20240305,1751, -65.3668,  77.8596,     -999,9,     -999,9,-999          ,9,-999          ,9,-999          ,9
325020240221  ,I08        ,9       ,  1,16         ,16         ,2,20240305,1650, -65.3668,  77.8595,     3270,   1076.7,   0.5810,  34.6922,2,  34.6918,2,    208.9,2,    208.5,2,   114.10,2,     0.02,2,    32.53,2,     0.00,2,     2.24,2,    0.655,2,    0.298,2,    0.034,2,   0.2550,2,   2260.5,3,   2358.8,2,   7.5928,2,    25.03,     -999,9,   0.5800,2,     -999,9,     -999,     -999,9,     -999,9,     -999,9,     -999,9,     -999,9,     -999,9,   0.0183,1,   4.5983,1,     13.6,2,     -999,9,20240305,1748, -65.3668,  77.8596,     -999,9,     -999,9,-999          ,9,-999          ,9,-999          ,9
325020240221  ,I08        ,9       ,  1,15         ,15         ,2,20240305,1650, -65.3668,  77.8595,     3270,   1178.5,   0.5185,  34.6893,2,  34.6899,2,    209.8,2,    210.0,2,   116.44,2,     0.02,2,    32.75,2,     0.00,2,     2.24,2,    0.640,2,    0.301,2,    0.035,2,   0.2670,2,   2258.2,3,   2354.2,2,   7.5921,2,    25.02,     -999,9,   0.5183,2,     -999,9,     -999,     -999,9,     -999,9,     -999,9,     -999,9,     -999,9,     -999,9,   0.0183,1,   4.5982,1,     13.7,2,     -999,9,20240305,1745, -65.3668,  77.8596,     -999,9,     -999,9,-999          ,9,-999          ,9,-999          ,9
325020240221  ,I08        ,9       ,  1,14         ,14         ,2,20240305,1650, -65.3668,  77.8595,     3270,   1279.9,   0.4632,  34.6872,2,  34.6879,2,    210.9,2,    210.4,2,   118.30,2,     0.02,2,    32.88,2,     0.00,2,     2.23,2,    0.683,2,    0.307,2,    0.033,2,   0.2740,2,     -999,9,     -999,9,     -999,9,     -999,     -999,9,   0.4623,2,     -999,9,     -999,     -999,9,     -999,9,     -999,9,     -999,9,     -999,9,     -999,9,   0.0183,1,   4.5981,1,     13.7,2,     -999,9,20240305,1742, -65.3668,  77.8596,     -999,9,     -999,9,-999          ,9,-999          ,9,-999          ,9
325020240221  ,I08        ,9       ,  1,13         ,13         ,2,20240305,1650, -65.3668,  77.8595,     3270,   1381.2,   0.4175,  34.6860,2,  34.6869,2,    211.4,2,    211.2,2,   120.05,2,     0.00,2,    32.87,2,     0.00,2,     2.24,2,    0.644,2,    0.292,2,    0.030,2,   0.1120,2,   2261.7,3,   2355.3,2,   7.5920,2,    25.01,     -999,9,   0.4156,2,     -999,9,     -999,     -999,9,     -999,9,     -999,9,     -999,9,     -999,9,     -999,9,   0.0189,1,   4.5973,1,     13.8,2,     -999,9,20240305,1739, -65.3668,  77.8595,     -999,9,     -999,9,-999          ,9,-999          ,9,-999          ,9
325020240221  ,I08        ,9       ,  1,12         ,12         ,2,20240305,1650, -65.3668,  77.8595,     3270,   1483.3,   0.3765,  34.6846,2,  34.6863,2,    212.0,2,    211.8,2,   121.71,2,     0.03,2,    32.85,2,     0.00,2,     2.23,2,    0.632,2,    0.286,2,    0.025,2,   0.1200,2,     -999,9,     -999,9,     -999,9,     -999,     -999,9,   0.3762,2,     -999,9,     -999,     -999,9,     -999,9,     -999,9,     -999,9,     -999,9,     -999,9,   0.0183,1,   4.5970,1,     13.7,2,     -999,9,20240305,1736, -65.3668,  77.8596,     -999,9,     -999,9,-999          ,9,-999          ,9,-999          ,9
325020240221  ,I08        ,9       ,  1,11         ,11         ,2,20240305,1650, -65.3668,  77.8595,     3270,   1584.8,   0.3301,  34.6827,2,  34.6824,2,    213.5,2,    213.6,2,   122.69,2,     0.02,2,    32.84,2,     0.00,2,     2.22,2,    0.667,2,    0.301,2,    0.028,2,   0.1840,2,   2257.3,3,   2356.5,2,   7.5918,2,    24.99,     -999,9,   0.3293,2,     -999,9,     -999,     -999,9,     -999,9,     -999,9,     -999,9,     -999,9,     -999,9,   0.0183,1,   4.5970,1,     13.6,2,     -999,9,20240305,1733, -65.3668,  77.8596,     -999,9,     -999,9,-999          ,9,-999          ,9,-999          ,9
325020240221  ,I08        ,9       ,  1,10         ,10         ,2,20240305,1650, -65.3668,  77.8595,     3270,   1687.8,   0.2881,  34.6809,2,  34.6818,2,    214.4,2,    214.8,2,   123.76,2,     0.00,2,    32.82,2,     0.00,2,     2.23,2,    0.676,2,    0.303,2,    0.028,2,   0.0890,2,     -999,9,     -999,9,     -999,9,     -999,     -999,9,   0.2876,2,     -999,9,     -999,     -999,9,     -999,9,     -999,9,     -999,9,     -999,9,     -999,9,   0.0176,1,   4.5962,1,     13.6,2,     -999,9,20240305,1730, -65.3668,  77.8596,     -999,9,     -999,9,-999          ,9,-999          ,9,-999          ,9
325020240221  ,I08        ,9       ,  1,9          ,9          ,2,20240305,1650, -65.3668,  77.8595,     3270,   1788.9,   0.2429,  34.6789,2,  34.6785,2,    215.9,2,    216.0,2,   125.03,2,     0.00,2,    32.74,2,     0.00,2,     2.23,2,    0.707,2,    0.331,2,    0.034,2,   0.1910,2,   2259.5,3,   2355.8,2,   7.5920,2,    24.96,     -999,9,   0.2429,2,     -999,9,     -999,     -999,9,     -999,9,     -999,9,     -999,9,     -999,9,     -999,9,   0.0183,1,   4.5958,1,     13.7,2,     -999,9,20240305,1727, -65.3668,  77.8596,     -999,9,     -999,9,-999          ,9,-999          ,9,-999          ,9
325020240221  ,I08        ,9       ,  1,8          ,8          ,2,20240305,1650, -65.3668,  77.8595,     3270,   1959.2,   0.1772,  34.6759,2,  34.6761,2,    218.8,2,    218.5,2,   125.13,2,     0.03,2,    32.58,2,     0.00,2,     2.24,2,    0.810,2,    0.387,2,    0.045,2,   0.2310,2,     -999,9,     -999,9,     -999,9,     -999,     -999,9,   0.1766,2,     -999,9,     -999,     -999,9,     -999,9,     -999,9,     -999,9,     -999,9,     -999,9,   0.0183,1,   4.5958,1,     13.6,2,     -999,9,20240305,1722, -65.3668,  77.8595,     -999,9,     -999,9,-999          ,9,-999          ,9,-999          ,9
325020240221  ,I08        ,9       ,  1,7          ,7          ,2,20240305,1650, -65.3668,  77.8595,     3270,   2167.9,   0.1083,  34.6733,2,  34.6743,2,    220.5,2,    221.0,2,   127.57,2,     0.03,2,    32.68,2,     0.00,2,     2.25,2,    0.782,2,    0.367,2,    0.042,2,   0.2460,2,   2258.8,3,   2354.6,2,   7.5948,6,    24.96,     -999,9,   0.1081,2,     -999,9,     -999,     -999,9,     -999,9,     -999,9,     -999,9,     -999,9,     -999,9,   0.0183,1,   4.5957,1,     13.6,2,     -999,9,20240305,1718, -65.3668,  77.8596,     -999,9,     -999,9,-999          ,9,-999          ,9,-999          ,9
325020240221  ,I08        ,9       ,  1,6          ,6          ,2,20240305,1650, -65.3668,  77.8595,     3270,   2368.7,   0.0456,  34.6699,2,  34.6710,2,    224.3,2,    224.0,2,   126.50,2,     0.03,2,    32.58,2,     0.00,2,     2.25,2,    1.106,6,    0.535,6,    0.065,6,   0.5535,2,     -999,9,     -999,9,     -999,9,     -999,     -999,9,   0.0443,2,     -999,9,     -999,     -999,9,     -999,9,     -999,9,     -999,9,     -999,9,     -999,9,   0.0183,1,   4.5957,1,     13.5,6,     -999,9,20240305,1713, -65.3668,  77.8595,     -999,9,     -999,9,-999          ,9,-999          ,9,-999          ,9