BOTTLE,20240417CCHHYDRO
EXPOCODE,SECT_ID,STNNBR,CASTNO,SAMPNO,BTLNBR,BTLNBR_FLAG_W,DATE,TIME,LATITUDE,LONGITUDE,DEPTH,CTDPRS,CTDTMP,CTDSAL,CTDSAL_FLAG_W,SALNTY,SALNTY_FLAG_W,CTDOXY,CTDOXY_FLAG_W,OXYGEN,OXYGEN_FLAG_W,SILCAT,SILCAT_FLAG_W,NH4,NH4_FLAG_W,NITRAT,NITRAT_FLAG_W,NITRIT,NITRIT_FLAG_W,PHSPHT,PHSPHT_FLAG_W,CFC-11,CFC-11_FLAG_W,CFC-12,CFC-12_FLAG_W,CFC113,CFC113_FLAG_W,SF6,SF6_FLAG_W,TCARBN,TCARBN_FLAG_W,ALKALI,ALKALI_FLAG_W,PH_TOT,PH_TOT_FLAG_W,PH_TMP,DOC,DOC_FLAG_W,REFTMP,REFTMP_FLAG_W,DELC14,DELC14_FLAG_W,C14ERR,POC,POC_FLAG_W,PON,PON_FLAG_W,POP,POP_FLAG_W,PCOD,PCOD_FLAG_W,DOP,DOP_FLAG_W,TDN,TDN_FLAG_W,CTDFLUOR,CTDFLUOR_FLAG_W,CTDXMISS,CTDXMISS_FLAG_W,N2O,N2O_FLAG_W,ARGON,ARGON_FLAG_W,BTL_DATE,BTL_TIME,BTL_LAT,BTL_LON,KRYPTON,KRYPTON_FLAG_W,XENON,XENON_FLAG_W,HPLC,HPLC_FLAG_W,DNA,DNA_FLAG_W,FCM,FCM_FLAG_W
,,,,,,,,,,,METERS,DBAR,ITS-90,PSS-78,,PSS-78,,UMOL/KG,,UMOL/KG,,UMOL/KG,,UMOL/KG,,UMOL/KG,,UMOL/KG,,UMOL/KG,,PMOL/KG,,PMOL/KG,,PMOL/KG,,FMOL/KG,,UMOL/KG,,UMOL/KG,,,,DEG C,UMOL/KG,,ITS-90,,/MILLE,,/MILLE,UG/KG,,UG/KG,,UG/L,,UG/L,,UMOL/KG,,UMOL/KG,,VOLTS,,VOLTS,,NMOL/KG,,UMOL/L,,,,,,NMOL/L,,NMOL/L,,,,,,,
325020240221  ,I08        ,55      ,  1,5          ,5          ,2,20240323,2245, -38.4903,  95.0042,     3847,   3042.7,   1.4737,  34.7353,2,  34.7347,2,    201.1,2,    201.0,2,   105.42,2,     0.00,2,    31.05,2,     0.00,2,     2.14,2,    0.188,2,    0.096,2,    0.014,4,   0.0810,2,   2254.1,3,   2358.2,2,   7.6152,2,    25.01,     -999,9,   1.4729,2,     -999,9,     -999,     -999,9,     -999,9,     -999,9,     -999,9,     -999,9,     -999,9,   0.0183,1,   4.6373,1,     16.2,2,     -999,9,20240323,2305, -38.4903,  95.0042,     -999,9,     -999,9,-999          ,9,-999          ,9,-999          ,9
325020240221  ,I08        ,55      ,  1,4          ,4          ,2,20240323,2245, -38.4903,  95.0042,     3847,   3299.2,   1.2880,  34.7265,2,  34.7239,3,    203.2,2,    203.4,2,   111.77,2,     0.00,2,    31.41,2,     0.00,2,     2.15,2,     -999,9,     -999,9,     -999,9,     -999,9,     -999,9,     -999,9,     -999,9,     -999,     -999,9,   1.2876,2,     -999,9,     -999,     -999,9,     -999,9,     -999,9,     -999,9,     -999,9,     -999,9,   0.0159,1,   4.6360,1,     -999,9,     -999,9,20240323,2259, -38.4903,  95.0042,     -999,9,     -999,9,-999          ,9,-999          ,9,-999          ,9
325020240221  ,I08        ,55      ,  1,3          ,3          ,2,20240323,2245, -38.4903,  95.0042,     3847,   3555.0,   1.1556,  34.7196,2,  34.7172,3,    204.9,2,    205.4,2,   116.45,2,     0.00,2,    31.73,2,     0.00,2,     2.18,2,    0.261,2,    0.124,2,    0.019,4,   0.0000,2,   2261.7,3,   2364.3,2,   7.6132,2,    24.99,     -999,9,   1.1558,2,     -999,9,     -999,     -999,9,     -999,9,     -999,9,     -999,9,     -999,9,     -999,9,   0.0183,1,   4.6360,1,     15.8,2,     -999,9,20240323,2253, -38.4903,  95.0042,     -999,9,     -999,9,-999          ,9,-999          ,9,-999          ,9
325020240221  ,I08        ,55      ,  1,2          ,2          ,2,20240323,2245, -38.4903,  95.0042,     3847,   3760.2,   1.1134,  34.7170,3,  34.7148,2,    205.5,2,    205.1,2,   118.31,2,     0.01,2,    31.84,2,     0.00,2,     2.17,2,    0.263,2,    0.122,2,    0.025,4,   0.0930,2,   2263.2,3,   2366.6,2,   7.6143,2,    24.98,     -999,9,   1.1137,2,     -999,9,     -999,     -999,9,     -999,9,     -999,9,     -999,9,     -999,9,     -999,9,   0.0183,1,   4.6360,1,     15.2,2,     -999,9,20240323,2249, -38.4903,  95.0042,     -999,9,     -999,9,-999          ,9,-999          ,9,-999          ,9
325020240221  ,I08        ,55      ,  1,1          ,1          ,2,20240323,2245, -38.4903,  95.0042,     3847,   3904.9,   1.0741,  34.7148,2,  34.7148,2,    205.8,2,    205.8,2,   119.58,2,     0.02,2,    31.95,2,     0.00,2,     2.21,2,    0.229,2,    0.113,2,    0.045,4,   0.0500,2,   2265.1,3,   2368.6,2,   7.6163,6,    24.99,     -999,9,   1.0741,2,     -999,9,     -999,     -999,9,     -999,9,     -999,9,     -999,9,     -999,9,     -999,9,   0.0183,1,   4.6373,1,      9.8,4,     -999,9,20240323,2245, -38.4903,  95.0042,     -999,9,     -999,9,-999          ,9,-999          ,9,-999          ,9