BOTTLE,20240417CCHHYDRO
EXPOCODE,SECT_ID,STNNBR,CASTNO,SAMPNO,BTLNBR,BTLNBR_FLAG_W,DATE,TIME,LATITUDE,LONGITUDE,DEPTH,CTDPRS,CTDTMP,CTDSAL,CTDSAL_FLAG_W,SALNTY,SALNTY_FLAG_W,CTDOXY,CTDOXY_FLAG_W,OXYGEN,OXYGEN_FLAG_W,SILCAT,SILCAT_FLAG_W,NH4,NH4_FLAG_W,NITRAT,NITRAT_FLAG_W,NITRIT,NITRIT_FLAG_W,PHSPHT,PHSPHT_FLAG_W,CFC-11,CFC-11_FLAG_W,CFC-12,CFC-12_FLAG_W,CFC113,CFC113_FLAG_W,SF6,SF6_FLAG_W,TCARBN,TCARBN_FLAG_W,ALKALI,ALKALI_FLAG_W,PH_TOT,PH_TOT_FLAG_W,PH_TMP,DOC,DOC_FLAG_W,REFTMP,REFTMP_FLAG_W,DELC14,DELC14_FLAG_W,C14ERR,POC,POC_FLAG_W,PON,PON_FLAG_W,POP,POP_FLAG_W,PCOD,PCOD_FLAG_W,DOP,DOP_FLAG_W,TDN,TDN_FLAG_W,CTDFLUOR,CTDFLUOR_FLAG_W,CTDXMISS,CTDXMISS_FLAG_W,N2O,N2O_FLAG_W,ARGON,ARGON_FLAG_W,BTL_DATE,BTL_TIME,BTL_LAT,BTL_LON,KRYPTON,KRYPTON_FLAG_W,XENON,XENON_FLAG_W,HPLC,HPLC_FLAG_W,DNA,DNA_FLAG_W,FCM,FCM_FLAG_W
,,,,,,,,,,,METERS,DBAR,ITS-90,PSS-78,,PSS-78,,UMOL/KG,,UMOL/KG,,UMOL/KG,,UMOL/KG,,UMOL/KG,,UMOL/KG,,UMOL/KG,,PMOL/KG,,PMOL/KG,,PMOL/KG,,FMOL/KG,,UMOL/KG,,UMOL/KG,,,,DEG C,UMOL/KG,,ITS-90,,/MILLE,,/MILLE,UG/KG,,UG/KG,,UG/L,,UG/L,,UMOL/KG,,UMOL/KG,,VOLTS,,VOLTS,,NMOL/KG,,UMOL/L,,,,,,NMOL/L,,NMOL/L,,,,,,,
325020240221  ,I08        ,8       ,  1,36         ,36         ,2,20240305,1004, -65.7768,  76.7419,     3011,      2.9,  -0.2417,  33.7639,2,  33.7633,2,    332.4,2,    333.1,2,    43.95,2,     1.23,2,    24.13,2,     0.19,2,     1.71,2,    5.272,2,    2.873,2,    0.454,2,   4.8120,2,   2163.8,3,   2294.4,2,   7.6831,2,    24.97,     -999,1,  -0.2490,2,     -999,9,     -999,     -999,9,     -999,9,     -999,9,     -999,9,     -999,9,     -999,1,   0.0355,1,   4.5324,1,     11.7,2,     -999,9,20240305,1204, -65.7768,  76.7419,     -999,9,     -999,9,-999          ,9,-999          ,9,-999          ,9
325020240221  ,I08        ,8       ,  1,35         ,35         ,2,20240305,1004, -65.7768,  76.7419,     3011,     35.4,  -0.0966,  33.8925,2,  33.9146,3,    325.7,2,    325.8,2,    46.49,2,     1.43,2,    24.67,2,     0.17,2,     1.81,2,    4.969,2,    2.670,2,    0.431,2,   4.4870,2,   2175.4,3,   2300.8,2,   7.6774,6,    24.99,     -999,1,  -0.0968,2,     -999,9,     -999,     -999,9,     -999,9,     -999,9,     -999,9,     -999,9,     -999,1,   0.0344,1,   4.5561,1,     12.1,2,     -999,9,20240305,1200, -65.7768,  76.7419,     -999,9,     -999,9,-999          ,9,-999          ,9,-999          ,9
325020240221  ,I08        ,8       ,  1,34         ,34         ,2,20240305,1004, -65.7768,  76.7419,     3011,     59.6,  -1.5758,  34.2849,2,  34.2880,2,    295.3,2,    295.1,2,    62.87,2,     0.94,2,    30.19,2,     0.17,2,     2.22,2,    4.190,2,    2.213,2,    0.361,2,   3.5190,2,   2222.7,3,   2321.8,2,   7.5940,2,    25.00,     -999,1,  -1.5717,2,     -999,9,     -999,     -999,9,     -999,9,     -999,9,     -999,9,     -999,9,     -999,1,   0.0462,1,   4.5607,1,     13.3,2,     -999,9,20240305,1158, -65.7769,  76.7419,     -999,9,     -999,9,-999          ,9,-999          ,9,-999          ,9
325020240221  ,I08        ,8       ,  1,33         ,33         ,2,20240305,1004, -65.7768,  76.7419,     3011,     84.8,  -1.5070,  34.3448,2,  34.3439,2,    287.2,2,    288.0,2,    65.90,2,     0.16,2,    30.97,2,     0.26,2,     2.24,2,    4.005,2,    2.217,2,    0.364,2,   3.1730,2,   2229.8,3,   2322.5,2,   7.5859,2,    24.98,     -999,1,  -1.5046,2,     -999,9,     -999,     -999,9,     -999,9,     -999,9,     -999,9,     -999,9,     -999,1,   0.0295,1,   4.5627,1,     13.5,2,     -999,9,20240305,1155, -65.7768,  76.7419,     -999,9,     -999,9,-999          ,9,-999          ,9,-999          ,9
325020240221  ,I08        ,8       ,  1,32         ,32         ,2,20240305,1004, -65.7768,  76.7419,     3011,    110.1,  -1.3477,  34.3841,2,  34.3823,2,    284.6,2,    284.8,2,    67.95,2,     0.01,2,    31.06,2,     0.08,2,     2.18,2,    4.553,2,    2.201,2,    0.333,2,   3.2720,2,   2233.5,3,   2328.7,2,   7.5886,2,    25.00,     -999,1,  -1.3443,2,     -999,9,     -999,     -999,9,     -999,9,     -999,9,     -999,9,     -999,9,     -999,1,   0.0238,1,   4.5640,1,     13.4,2,     -999,9,20240305,1153, -65.7769,  76.7419,     -999,9,     -999,9,-999          ,9,-999          ,9,-999          ,9
325020240221  ,I08        ,8       ,  1,31         ,31         ,2,20240305,1004, -65.7768,  76.7419,     3011,    135.9,  -1.0037,  34.4237,2,  34.4279,2,    275.7,2,    274.7,2,    70.68,2,     0.02,2,    31.21,2,     0.00,2,     2.18,2,    4.111,2,    2.093,2,    0.308,2,   3.0150,2,     -999,9,     -999,9,     -999,9,     -999,     -999,1,  -0.9970,2,     -999,9,     -999,     -999,9,     -999,9,     -999,9,     -999,9,     -999,9,     -999,1,   0.0200,1,   4.5652,1,     13.6,2,     -999,9,20240305,1150, -65.7768,  76.7419,     -999,9,     -999,9,-999          ,9,-999          ,9,-999          ,9
325020240221  ,I08        ,8       ,  1,30         ,30         ,2,20240305,1004, -65.7768,  76.7419,     3011,    159.7,  -1.3006,  34.4247,2,  34.4247,2,    289.6,2,    288.7,2,    68.63,2,     0.03,2,    30.69,2,     0.00,2,     2.12,2,    4.033,2,    2.255,2,    0.350,2,   3.2050,2,     -999,9,     -999,9,     -999,9,     -999,     -999,1,  -1.2944,2,     -999,9,     -999,     -999,9,     -999,9,     -999,9,     -999,9,     -999,9,     -999,1,   0.0185,1,   4.5650,1,     13.3,2,     -999,9,20240305,1148, -65.7768,  76.7419,     -999,9,     -999,9,-999          ,9,-999          ,9,-999          ,9
325020240221  ,I08        ,8       ,  1,29         ,29         ,2,20240305,1004, -65.7768,  76.7419,     3011,    185.5,  -1.3856,  34.4277,2,  34.4277,2,    292.8,2,    293.3,2,    68.53,2,     0.00,2,    30.46,2,     0.00,2,     2.13,2,    4.212,2,    2.315,2,    0.355,2,   3.2250,2,   2231.2,3,   2328.6,2,   7.5991,6,    25.04,     -999,1,  -1.3893,2,     -999,9,     -999,     -999,9,     -999,9,     -999,9,     -999,9,     -999,9,     -999,1,   0.0178,1,   4.5677,1,     13.2,2,     -999,9,20240305,1146, -65.7768,  76.7419,     -999,9,     -999,9,-999          ,9,-999          ,9,-999          ,9
325020240221  ,I08        ,8       ,  1,28         ,28         ,2,20240305,1004, -65.7768,  76.7419,     3011,    212.3,  -1.2714,  34.4410,2,  34.4412,2,    290.5,2,    289.8,2,    69.21,2,     0.00,2,    30.40,2,     0.00,2,     2.12,2,    4.123,2,    2.257,2,    0.353,2,   3.1080,2,     -999,9,     -999,9,     -999,9,     -999,     -999,1,  -1.2874,2,     -999,9,     -999,     -999,9,     -999,9,     -999,9,     -999,9,     -999,9,     -999,1,   0.0184,1,   4.5739,1,     13.3,2,     -999,9,20240305,1143, -65.7768,  76.7419,     -999,9,     -999,9,-999          ,9,-999          ,9,-999          ,9
325020240221  ,I08        ,8       ,  1,27         ,27         ,2,20240305,1004, -65.7768,  76.7419,     3011,    237.1,  -0.6481,  34.4858,2,  34.4852,2,    268.0,2,    267.7,2,    73.50,2,     0.00,2,    30.93,2,     0.00,2,     2.15,2,    3.496,2,    1.826,2,    0.291,2,   2.6060,2,   2237.0,3,   2335.5,6,   7.5883,2,    25.05,     -999,1,  -0.6723,2,     -999,9,     -999,     -999,9,     -999,9,     -999,9,     -999,9,     -999,9,     -999,1,   0.0186,1,   4.5824,1,     13.7,2,     -999,9,20240305,1140, -65.7768,  76.7418,     -999,9,     -999,9,-999          ,9,-999          ,9,-999          ,9
325020240221  ,I08        ,8       ,  1,26         ,26         ,2,20240305,1004, -65.7768,  76.7419,     3011,    267.8,  -0.1599,  34.5294,2,  34.5284,2,    247.2,2,    246.8,2,    77.60,2,     0.00,2,    31.35,2,     0.00,2,     2.18,2,    2.785,2,    1.508,2,    0.232,2,   1.9770,2,     -999,9,     -999,9,     -999,9,     -999,     -999,1,  -0.1555,2,     -999,9,     -999,     -999,9,     -999,9,     -999,9,     -999,9,     -999,9,     -999,1,   0.0176,1,   4.5896,1,     14.2,2,     -999,9,20240305,1138, -65.7769,  76.7419,     -999,9,     -999,9,-999          ,9,-999          ,9,-999          ,9
325020240221  ,I08        ,8       ,  1,25         ,25         ,2,20240305,1004, -65.7768,  76.7419,     3011,    319.2,   0.6248,  34.6139,2,  34.6140,2,    217.2,2,    217.1,2,    85.31,2,     0.00,2,    31.74,2,     0.00,2,     2.21,2,    1.777,2,    0.935,2,    0.140,2,   1.1340,2,   2251.2,3,   2339.8,2,   7.5757,2,    25.03,     -999,1,   0.6240,2,     -999,9,     -999,     -999,9,     -999,9,     -999,9,     -999,9,     -999,9,     -999,1,   0.0181,1,   4.5963,1,     14.4,2,     -999,9,20240305,1135, -65.7768,  76.7419,     -999,9,     -999,9,-999          ,9,-999          ,9,-999          ,9
325020240221  ,I08        ,8       ,  1,24         ,24         ,2,20240305,1004, -65.7768,  76.7419,     3011,    368.4,   0.8504,  34.6508,2,  34.6498,2,    210.4,2,    210.0,2,    88.92,2,     0.00,2,    31.57,2,     0.00,2,     2.21,2,    1.408,6,    0.708,6,    0.107,6,   0.9105,2,   2252.7,3,   2344.5,2,   7.5823,2,    25.00,     -999,1,   0.8541,2,     -999,9,     -999,     -999,9,     -999,9,     -999,9,     -999,9,     -999,9,     -999,1,   0.0186,1,   4.5981,1,     14.1,6,     -999,9,20240305,1132, -65.7768,  76.7419,     -999,9,     -999,9,-999          ,9,-999          ,9,-999          ,9
325020240221  ,I08        ,8       ,  1,23         ,23         ,4,20240305,1004, -65.7768,  76.7419,     3011,    419.3,   0.8656,  34.6628,3,     -999,9,    211.4,3,     -999,9,     -999,9,     -999,9,     -999,9,     -999,9,     -999,9,     -999,9,     -999,9,     -999,9,     -999,9,     -999,9,     -999,9,     -999,9,     -999,     -999,9,   0.8584,3,     -999,9,     -999,     -999,9,     -999,9,     -999,9,     -999,9,     -999,9,     -999,9,   0.0182,1,   4.5982,1,     -999,9,     -999,9,20240305,1130, -65.7768,  76.7419,     -999,9,     -999,9,-999          ,9,-999          ,9,-999          ,9
325020240221  ,I08        ,8       ,  1,22         ,22         ,2,20240305,1004, -65.7768,  76.7419,     3011,    468.7,   0.8280,  34.6674,2,  34.6677,2,    212.1,2,    212.0,2,    91.45,2,     0.00,2,    31.28,2,     0.00,2,     2.20,2,    1.234,2,    0.619,2,    0.095,2,   0.7800,2,     -999,9,     -999,9,     -999,9,     -999,     -999,1,   0.8276,2,     -999,9,     -999,     -999,9,     -999,9,     -999,9,     -999,9,     -999,9,     -999,1,   0.0184,1,   4.5982,1,     13.8,2,     -999,9,20240305,1127, -65.7768,  76.7419,     -999,9,     -999,9,-999          ,9,-999          ,9,-999          ,9
325020240221  ,I08        ,8       ,  1,21         ,21         ,2,20240305,1004, -65.7768,  76.7419,     3011,    540.4,   0.8266,  34.6790,2,  34.6787,2,    211.3,3,    215.0,2,    95.26,2,     0.03,2,    31.33,2,     0.00,2,     2.21,2,    1.203,2,    0.624,2,    0.092,2,   0.6660,2,   2251.1,3,   2352.9,2,   7.5941,6,    25.01,     -999,1,   0.8251,2,     -999,9,     -999,     -999,9,     -999,9,     -999,9,     -999,9,     -999,9,     -999,1,   0.0179,1,   4.5983,1,     13.5,2,     -999,9,20240305,1124, -65.7768,  76.7418,     -999,9,     -999,9,-999          ,9,-999          ,9,-999          ,9
325020240221  ,I08        ,8       ,  1,20         ,20         ,2,20240305,1004, -65.7768,  76.7419,     3011,    642.5,   0.8812,  34.6935,2,  34.6934,2,    207.5,2,    207.1,2,   100.04,2,     0.00,2,    31.41,2,     0.00,2,     2.21,2,    0.863,2,    0.421,2,    0.060,2,   0.4050,2,     -999,9,     -999,9,     -999,9,     -999,     -999,1,   0.8796,2,     -999,9,     -999,     -999,9,     -999,9,     -999,9,     -999,9,     -999,9,     -999,1,   0.0171,1,   4.5983,1,     13.5,2,     -999,9,20240305,1121, -65.7768,  76.7419,     -999,9,     -999,9,-999          ,9,-999          ,9,-999          ,9
325020240221  ,I08        ,8       ,  1,19         ,19         ,2,20240305,1004, -65.7768,  76.7419,     3011,    742.4,   0.8109,  34.6951,2,  34.6954,2,    207.5,2,    208.2,2,   103.16,2,     0.00,2,    31.64,2,     0.00,2,     2.23,2,    0.846,2,    0.394,2,    0.054,2,   0.4770,2,   2253.7,3,   2354.6,2,   7.5947,2,    25.03,     -999,1,   0.8094,2,     -999,9,     -999,     -999,9,     -999,9,     -999,9,     -999,9,     -999,9,     -999,1,   0.0181,1,   4.5982,1,     10.1,2,     -999,9,20240305,1117, -65.7768,  76.7419,     -999,9,     -999,9,-999          ,9,-999          ,9,-999          ,9
325020240221  ,I08        ,8       ,  1,18         ,18         ,2,20240305,1004, -65.7768,  76.7419,     3011,    843.9,   0.7448,  34.6950,2,  34.6952,2,    208.0,2,    207.6,2,   107.07,2,     0.00,2,    31.93,2,     0.00,2,     2.24,2,    0.765,2,    0.363,2,    0.048,2,   0.4100,2,     -999,9,     -999,9,     -999,9,     -999,     -999,1,   0.7441,2,     -999,9,     -999,     -999,9,     -999,9,     -999,9,     -999,9,     -999,9,     -999,1,   0.0181,1,   4.5963,1,     13.6,2,     -999,9,20240305,1113, -65.7768,  76.7419,     -999,9,     -999,9,-999          ,9,-999          ,9,-999          ,9
325020240221  ,I08        ,8       ,  1,17         ,17         ,2,20240305,1004, -65.7768,  76.7419,     3011,    945.8,   0.6539,  34.6914,2,  34.6905,2,    208.9,2,    208.8,2,   109.80,2,     0.00,2,    32.19,2,     0.00,2,     2.25,2,    0.761,2,    0.367,2,    0.048,2,   0.3830,2,     -999,9,     -999,9,     -999,9,     -999,     -999,1,   0.6532,2,     -999,9,     -999,     -999,9,     -999,9,     -999,9,     -999,9,     -999,9,     -999,1,   0.0180,1,   4.5957,1,     13.8,2,     -999,9,20240305,1110, -65.7768,  76.7419,     -999,9,     -999,9,-999          ,9,-999          ,9,-999          ,9
325020240221  ,I08        ,8       ,  1,16         ,16         ,2,20240305,1004, -65.7768,  76.7419,     3011,   1047.6,   0.5850,  34.6897,2,  34.6887,2,    209.4,2,    209.2,2,   112.53,2,     0.00,2,    32.31,2,     0.00,2,     2.24,2,    0.740,2,    0.350,2,    0.044,2,   0.2850,2,   2256.1,3,   2358.1,2,   7.5924,6,    25.04,     -999,1,   0.5845,2,     -999,9,     -999,     -999,9,     -999,9,     -999,9,     -999,9,     -999,9,     -999,1,   0.0176,1,   4.5953,1,     13.6,2,     -999,9,20240305,1107, -65.7768,  76.7419,     -999,9,     -999,9,-999          ,9,-999          ,9,-999          ,9
325020240221  ,I08        ,8       ,  1,15         ,15         ,2,20240305,1004, -65.7768,  76.7419,     3011,   1148.4,   0.5221,  34.6875,2,  34.6865,2,    210.2,2,    210.3,2,   114.78,2,     0.02,2,    32.25,2,     0.00,2,     2.26,2,    0.730,2,    0.341,2,    0.044,2,   0.3560,2,     -999,9,     -999,9,     -999,9,     -999,     -999,1,   0.5197,2,     -999,9,     -999,     -999,9,     -999,9,     -999,9,     -999,9,     -999,9,     -999,1,   0.0176,1,   4.5944,1,     13.6,2,     -999,9,20240305,1103, -65.7768,  76.7419,     -999,9,     -999,9,-999          ,9,-999          ,9,-999          ,9
325020240221  ,I08        ,8       ,  1,14         ,14         ,2,20240305,1004, -65.7768,  76.7419,     3011,   1250.9,   0.4538,  34.6849,2,  34.6842,2,    211.7,2,    211.1,2,   116.93,2,     0.03,2,    32.18,2,     0.00,2,     2.26,2,    0.713,2,    0.345,2,    0.043,2,   0.2970,2,   2258.9,3,   2357.6,6,   7.5907,2,    25.02,     -999,1,   0.4532,2,     -999,9,     -999,     -999,9,     -999,9,     -999,9,     -999,9,     -999,9,     -999,1,   0.0176,1,   4.5934,1,     13.5,2,     -999,9,20240305,1100, -65.7768,  76.7419,     -999,9,     -999,9,-999          ,9,-999          ,9,-999          ,9
325020240221  ,I08        ,8       ,  1,13         ,13         ,2,20240305,1004, -65.7768,  76.7419,     3011,   1352.3,   0.3934,  34.6828,2,  34.6824,2,    212.9,2,    213.1,2,   118.98,2,     0.00,2,    32.12,2,     0.00,2,     2.24,2,    0.766,2,    0.362,2,    0.042,2,   0.2420,2,     -999,9,     -999,9,     -999,9,     -999,     -999,1,   0.3929,2,     -999,9,     -999,     -999,9,     -999,9,     -999,9,     -999,9,     -999,9,     -999,1,   0.0172,1,   4.5928,1,     13.5,2,     -999,9,20240305,1057, -65.7768,  76.7419,     -999,9,     -999,9,-999          ,9,-999          ,9,-999          ,9
325020240221  ,I08        ,8       ,  1,12         ,12         ,2,20240305,1004, -65.7768,  76.7419,     3011,   1454.4,   0.3600,  34.6830,2,  34.6830,2,    212.8,2,    213.0,2,   122.20,2,     0.00,2,    32.22,2,     0.00,2,     2.25,2,    0.678,2,    0.323,2,    0.041,2,   0.1220,2,   2260.3,3,   2357.2,2,   7.5904,2,    24.98,     -999,1,   0.3589,2,     -999,9,     -999,     -999,9,     -999,9,     -999,9,     -999,9,     -999,9,     -999,1,   0.0176,1,   4.5928,1,     13.4,2,     -999,9,20240305,1053, -65.7768,  76.7418,     -999,9,     -999,9,-999          ,9,-999          ,9,-999          ,9
325020240221  ,I08        ,8       ,  1,11         ,11         ,2,20240305,1004, -65.7768,  76.7419,     3011,   1555.7,   0.3089,  34.6804,2,  34.6806,2,    214.9,2,    214.8,2,   122.49,2,     0.00,2,    32.11,2,     0.00,2,     2.25,2,    0.767,2,    0.375,2,    0.045,2,   0.1660,2,     -999,9,     -999,9,     -999,9,     -999,     -999,1,   0.3087,2,     -999,9,     -999,     -999,9,     -999,9,     -999,9,     -999,9,     -999,9,     -999,1,   0.0178,1,   4.5922,1,     13.5,2,     -999,9,20240305,1050, -65.7768,  76.7418,     -999,9,     -999,9,-999          ,9,-999          ,9,-999          ,9
325020240221  ,I08        ,8       ,  1,10         ,10         ,2,20240305,1004, -65.7768,  76.7419,     3011,   1656.4,   0.2718,  34.6799,2,  34.6794,2,    215.4,2,    216.1,2,   125.13,2,     0.02,2,    32.17,2,     0.00,2,     2.26,2,    0.723,2,    0.334,2,    0.031,2,   0.0600,2,   2259.9,3,   2357.2,2,   7.5906,2,    24.98,     -999,1,   0.2709,2,     -999,9,     -999,     -999,9,     -999,9,     -999,9,     -999,9,     -999,9,     -999,1,   0.0177,1,   4.5922,1,     13.5,2,     -999,9,20240305,1046, -65.7768,  76.7418,     -999,9,     -999,9,-999          ,9,-999          ,9,-999          ,9
325020240221  ,I08        ,8       ,  1,9          ,9          ,2,20240305,1004, -65.7768,  76.7419,     3011,   1760.6,   0.2264,  34.6784,2,  34.6783,2,    216.9,2,    216.9,2,   125.32,2,     0.00,2,    32.19,2,     0.00,2,     2.25,2,    0.748,2,    0.351,2,    0.033,2,   0.0750,2,     -999,9,     -999,9,     -999,9,     -999,     -999,1,   0.2266,2,     -999,9,     -999,     -999,9,     -999,9,     -999,9,     -999,9,     -999,9,     -999,1,   0.0176,1,   4.5921,1,     13.7,2,     -999,9,20240305,1043, -65.7768,  76.7419,     -999,9,     -999,9,-999          ,9,-999          ,9,-999          ,9
325020240221  ,I08        ,8       ,  1,8          ,8          ,2,20240305,1004, -65.7768,  76.7419,     3011,   1861.6,   0.1857,  34.6761,2,  34.6763,2,    218.6,2,    218.4,2,   125.61,2,     0.00,2,    32.35,2,     0.00,2,     2.27,2,    0.981,2,    0.410,2,    0.036,2,   0.2080,2,   2256.2,3,   2357.1,2,   7.5926,6,    24.99,     -999,1,   0.1850,2,     -999,9,     -999,     -999,9,     -999,9,     -999,9,     -999,9,     -999,9,     -999,1,   0.0179,1,   4.5922,1,     11.6,2,     -999,9,20240305,1039, -65.7768,  76.7419,     -999,9,     -999,9,-999          ,9,-999          ,9,-999          ,9
325020240221  ,I08        ,8       ,  1,7          ,7          ,2,20240305,1004, -65.7768,  76.7419,     3011,   1960.9,   0.1510,  34.6742,2,  34.6747,2,    220.4,2,    220.1,2,   124.74,2,     0.02,2,    32.36,2,     0.00,2,     2.25,2,    0.989,2,    0.489,2,    0.058,2,   0.4510,2,     -999,9,     -999,9,     -999,9,     -999,     -999,1,   0.1503,2,     -999,9,     -999,     -999,9,     -999,9,     -999,9,     -999,9,     -999,9,     -999,1,   0.0178,1,   4.5922,1,     13.2,2,     -999,9,20240305,1036, -65.7769,  76.7419,     -999,9,     -999,9,-999          ,9,-999          ,9,-999          ,9
325020240221  ,I08        ,8       ,  1,6          ,6          ,2,20240305,1004, -65.7768,  76.7419,     3011,   2101.9,   0.1287,  34.6731,2,  34.6728,2,    221.3,2,    221.1,2,   124.93,2,     0.02,2,    32.43,2,     0.00,2,     2.26,2,    1.004,2,    0.502,2,    0.062,2,   0.4810,2,   2259.1,3,   2358.0,2,   7.5924,2,    24.99,     -999,1,   0.1278,2,     -999,9,     -999,     -999,9,     -999,9,     -999,9,     -999,9,     -999,9,     -999,1,   0.0177,1,   4.5922,1,     13.2,2,     -999,9,20240305,1031, -65.7768,  76.7419,     -999,9,     -999,9,-999          ,9,-999          ,9,-999          ,9