BOTTLE,20240417CCHHYDRO
EXPOCODE,SECT_ID,STNNBR,CASTNO,SAMPNO,BTLNBR,BTLNBR_FLAG_W,DATE,TIME,LATITUDE,LONGITUDE,DEPTH,CTDPRS,CTDTMP,CTDSAL,CTDSAL_FLAG_W,SALNTY,SALNTY_FLAG_W,CTDOXY,CTDOXY_FLAG_W,OXYGEN,OXYGEN_FLAG_W,SILCAT,SILCAT_FLAG_W,NH4,NH4_FLAG_W,NITRAT,NITRAT_FLAG_W,NITRIT,NITRIT_FLAG_W,PHSPHT,PHSPHT_FLAG_W,CFC-11,CFC-11_FLAG_W,CFC-12,CFC-12_FLAG_W,CFC113,CFC113_FLAG_W,SF6,SF6_FLAG_W,TCARBN,TCARBN_FLAG_W,ALKALI,ALKALI_FLAG_W,PH_TOT,PH_TOT_FLAG_W,PH_TMP,DOC,DOC_FLAG_W,REFTMP,REFTMP_FLAG_W,DELC14,DELC14_FLAG_W,C14ERR,POC,POC_FLAG_W,PON,PON_FLAG_W,POP,POP_FLAG_W,PCOD,PCOD_FLAG_W,DOP,DOP_FLAG_W,TDN,TDN_FLAG_W,CTDFLUOR,CTDFLUOR_FLAG_W,CTDXMISS,CTDXMISS_FLAG_W,N2O,N2O_FLAG_W,ARGON,ARGON_FLAG_W,BTL_DATE,BTL_TIME,BTL_LAT,BTL_LON,KRYPTON,KRYPTON_FLAG_W,XENON,XENON_FLAG_W,HPLC,HPLC_FLAG_W,DNA,DNA_FLAG_W,FCM,FCM_FLAG_W
,,,,,,,,,,,METERS,DBAR,ITS-90,PSS-78,,PSS-78,,UMOL/KG,,UMOL/KG,,UMOL/KG,,UMOL/KG,,UMOL/KG,,UMOL/KG,,UMOL/KG,,PMOL/KG,,PMOL/KG,,PMOL/KG,,FMOL/KG,,UMOL/KG,,UMOL/KG,,,,DEG C,UMOL/KG,,ITS-90,,/MILLE,,/MILLE,UG/KG,,UG/KG,,UG/L,,UG/L,,UMOL/KG,,UMOL/KG,,VOLTS,,VOLTS,,NMOL/KG,,UMOL/L,,,,,,NMOL/L,,NMOL/L,,,,,,,
325020240221  ,I08        ,63      ,  1,34         ,34         ,2,20240327,1058, -30.1193,  95.0036,     2051,      5.0,  22.7246,  36.0659,2,     -999,9,    217.3,2,     -999,9,     -999,9,     -999,9,     -999,9,     -999,9,     -999,9,     -999,9,     -999,9,     -999,9,     -999,9,     -999,9,     -999,9,     -999,9,     -999,     -999,9,  22.7255,2,     -999,9,     -999,     -999,9,     -999,9,     -999,9,     -999,9,     -999,9,     -999,9,   0.0195,1,   4.6412,1,     -999,9,     -999,9,20240327,1228, -30.1193,  95.0036,     -999,9,     -999,9,-999          ,9,-999          ,9,-999          ,9
325020240221  ,I08        ,63      ,  1,33         ,33         ,2,20240327,1058, -30.1193,  95.0036,     2051,      5.1,  22.7251,  36.0658,2,     -999,9,    217.1,2,     -999,9,     -999,9,     -999,9,     -999,9,     -999,9,     -999,9,     -999,9,     -999,9,     -999,9,     -999,9,     -999,9,     -999,9,     -999,9,     -999,     -999,9,     -999,1,     -999,9,     -999,     -999,9,     -999,9,     -999,9,     -999,9,     -999,9,     -999,9,   0.0195,1,   4.6399,1,     -999,9,     -999,9,20240327,1228, -30.1193,  95.0035,     -999,9,     -999,9,-999          ,9,-999          ,9,-999          ,9
325020240221  ,I08        ,63      ,  1,31         ,31         ,2,20240327,1058, -30.1193,  95.0036,     2051,      5.2,  22.7265,  36.0657,2,     -999,9,    217.1,2,     -999,9,     -999,9,     -999,9,     -999,9,     -999,9,     -999,9,     -999,9,     -999,9,     -999,9,     -999,9,     -999,9,     -999,9,     -999,9,     -999,     -999,9,  22.7278,2,     -999,9,     -999,     -999,9,     -999,9,     -999,9,     -999,9,     -999,9,     -999,9,   0.0195,1,   4.6408,1,     -999,9,     -999,9,20240327,1227, -30.1194,  95.0035,     -999,9,     -999,9,-999          ,9,-999          ,9,-999          ,9
325020240221  ,I08        ,63      ,  1,36         ,36         ,2,20240327,1058, -30.1193,  95.0036,     2051,      5.2,  22.7246,  36.0658,2,     -999,9,    217.3,2,     -999,9,     -999,9,     -999,9,     -999,9,     -999,9,     -999,9,     -999,9,     -999,9,     -999,9,     -999,9,     -999,9,     -999,9,     -999,9,     -999,     -999,9,     -999,1,     -999,9,     -999,     -999,9,     -999,9,     -999,9,     -999,9,     -999,9,     -999,9,   0.0195,1,   4.6407,1,     -999,9,     -999,9,20240327,1228, -30.1193,  95.0036,     -999,9,     -999,9,-999          ,9,-999          ,9,-999          ,9
325020240221  ,I08        ,63      ,  1,35         ,35         ,2,20240327,1058, -30.1193,  95.0036,     2051,      5.4,  22.7254,  36.0658,2,     -999,9,    217.2,2,     -999,9,     -999,9,     -999,9,     -999,9,     -999,9,     -999,9,     -999,9,     -999,9,     -999,9,     -999,9,     -999,9,     -999,9,     -999,9,     -999,     -999,9,     -999,1,     -999,9,     -999,     -999,9,     -999,9,     -999,9,     -999,9,     -999,9,     -999,9,   0.0201,1,   4.6405,1,     -999,9,     -999,9,20240327,1228, -30.1193,  95.0036,     -999,9,     -999,9,-999          ,9,-999          ,9,-999          ,9
325020240221  ,I08        ,63      ,  1,32         ,32         ,2,20240327,1058, -30.1193,  95.0036,     2051,      5.7,  22.7260,  36.0656,2,     -999,9,    217.2,2,     -999,9,     -999,9,     -999,9,     -999,9,     -999,9,     -999,9,     -999,9,     -999,9,     -999,9,     -999,9,     -999,9,     -999,9,     -999,9,     -999,     -999,9,  22.7256,2,     -999,9,     -999,     -999,9,     -999,9,     -999,9,     -999,9,     -999,9,     -999,9,   0.0195,1,   4.6390,1,     -999,9,     -999,9,20240327,1227, -30.1194,  95.0035,     -999,9,     -999,9,-999          ,1,-999          ,1,-999          ,9
325020240221  ,I08        ,63      ,  1,30         ,30         ,2,20240327,1058, -30.1193,  95.0036,     2051,      5.8,  22.7267,  36.0656,2,  36.0519,2,    217.1,2,    217.4,2,     1.76,2,     0.02,2,     0.04,2,     0.00,2,     0.08,2,    1.705,2,    1.058,2,    0.187,4,   1.9480,2,   2077.7,3,   2365.6,2,   8.0002,2,    24.98,     -999,1,  22.7262,2,     -999,9,     -999,     -999,9,     -999,9,     -999,9,     -999,9,     -999,9,     -999,1,   0.0195,1,   4.6392,1,      8.0,2,     -999,9,20240327,1226, -30.1196,  95.0036,     -999,9,     -999,9,-999          ,9,-999          ,9,-999          ,9
325020240221  ,I08        ,63      ,  1,29         ,29         ,2,20240327,1058, -30.1193,  95.0036,     2051,     41.3,  22.7070,  36.0761,2,  36.0612,2,    216.7,2,    217.5,2,     1.76,2,     0.00,2,     0.02,2,     0.00,2,     0.05,2,    1.630,2,    1.086,2,    0.121,4,   2.0900,2,   2080.4,3,   2366.5,2,   7.9992,6,    24.96,     -999,9,  22.7080,2,     -999,9,     -999,     -999,9,     -999,9,     -999,9,     -999,9,     -999,9,     -999,9,   0.0195,1,   4.6429,1,      6.0,2,     -999,9,20240327,1222, -30.1197,  95.0035,     -999,9,     -999,9,-999          ,1,-999          ,9,-999          ,1
325020240221  ,I08        ,63      ,  1,28         ,28         ,2,20240327,1058, -30.1193,  95.0036,     2051,     64.1,  20.9755,  35.9144,2,  35.8959,2,    235.0,2,    235.0,2,     1.66,2,     0.02,2,     0.01,2,     0.00,2,     0.06,2,    0.034,4,    0.005,4,    0.030,4,   0.0040,4,   2077.9,3,   2356.5,2,   7.9899,2,    24.97,     -999,9,  21.1068,2,     -999,9,     -999,     -999,9,     -999,9,     -999,9,     -999,9,     -999,9,     -999,9,   0.0220,1,   4.6334,1,     -0.0,4,     -999,9,20240327,1219, -30.1196,  95.0034,     -999,9,     -999,9,-999          ,9,-999          ,9,-999          ,1
325020240221  ,I08        ,63      ,  1,26         ,26         ,2,20240327,1058, -30.1193,  95.0036,     2051,     89.8,  18.4356,  35.7974,2,  35.7936,2,    241.6,2,    240.3,2,     1.46,2,     0.00,2,     0.00,2,     0.00,2,     0.10,2,    2.081,2,    1.321,2,    0.189,4,   2.1860,2,   2083.2,3,   2352.4,2,   7.9704,2,    24.96,     -999,9,  18.4990,2,     -999,9,     -999,     -999,9,     -999,9,     -999,9,     -999,9,     -999,9,     -999,9,   0.0293,1,   4.6332,1,     10.7,2,     -999,9,20240327,1217, -30.1193,  95.0033,     -999,9,     -999,9,-999          ,1,-999          ,9,-999          ,9
325020240221  ,I08        ,63      ,  1,27         ,27         ,2,20240327,1058, -30.1193,  95.0036,     2051,     90.3,  18.5855,  35.8026,2,     -999,9,    240.4,2,     -999,9,     -999,9,     -999,9,     -999,9,     -999,9,     -999,9,     -999,9,     -999,9,     -999,9,     -999,9,     -999,9,     -999,9,     -999,9,     -999,     -999,9,  18.5884,2,     -999,9,     -999,     -999,9,     -999,9,     -999,9,     -999,9,     -999,9,     -999,9,   0.0291,1,   4.6341,1,     -999,9,     -999,9,20240327,1217, -30.1194,  95.0034,     -999,9,     -999,9,-999          ,1,-999          ,1,-999          ,1
325020240221  ,I08        ,63      ,  1,25         ,25         ,2,20240327,1058, -30.1193,  95.0036,     2051,    115.9,  17.2270,  35.7568,2,  35.7501,2,    235.5,2,    235.5,2,     1.37,2,     0.00,2,     0.00,2,     0.00,2,     0.14,2,    2.252,2,    1.414,2,    0.175,4,   2.2420,2,   2096.3,3,   2352.4,2,   7.9458,6,    24.97,     -999,9,  17.2198,2,     -999,9,     -999,     -999,9,     -999,9,     -999,9,     -999,9,     -999,9,     -999,9,   0.0406,1,   4.6362,1,     11.7,2,     -999,9,20240327,1215, -30.1191,  95.0032,     -999,9,     -999,9,-999          ,9,-999          ,9,-999          ,9
325020240221  ,I08        ,63      ,  1,24         ,24         ,2,20240327,1058, -30.1193,  95.0036,     2051,    141.0,  16.6035,  35.7222,2,  35.7179,2,    219.5,2,    218.7,2,     1.56,2,     0.02,2,     1.35,2,     0.08,2,     0.23,2,    2.327,2,    1.431,2,    0.130,4,   2.0500,2,   2111.0,3,   2349.2,6,   7.9148,2,    24.97,     -999,9,  16.6066,2,     -999,9,     -999,     -999,9,     -999,9,     -999,9,     -999,9,     -999,9,     -999,9,   0.0301,1,   4.6603,1,     12.6,2,     -999,9,20240327,1213, -30.1190,  95.0032,     -999,9,     -999,9,-999          ,9,-999          ,9,-999          ,1
325020240221  ,I08        ,63      ,  1,23         ,37         ,2,20240327,1058, -30.1193,  95.0036,     2051,    164.6,  15.7429,  35.6245,2,  35.6188,2,    217.9,2,    217.8,2,     1.76,2,     0.02,2,     3.26,2,     0.00,2,     0.32,2,    2.570,2,    1.522,2,    0.118,4,   2.1500,2,   2116.9,3,   2342.2,2,   7.8927,2,    24.97,     -999,9,  15.7402,2,     -999,9,     -999,     -999,9,     -999,9,     -999,9,     -999,9,     -999,9,     -999,9,   0.0249,1,   4.6675,1,     13.9,2,     -999,9,20240327,1210, -30.1188,  95.0031,     -999,9,     -999,9,-999          ,9,-999          ,9,-999          ,9
325020240221  ,I08        ,63      ,  1,22         ,22         ,2,20240327,1058, -30.1193,  95.0036,     2051,    191.4,  15.0326,  35.5290,2,  35.5218,2,    219.1,2,    219.0,2,     1.76,2,     0.00,2,     4.43,2,     0.00,2,     0.40,2,    2.648,2,    1.547,2,    0.101,4,   2.1150,2,   2123.5,3,   2338.6,2,   7.8760,2,    24.97,     -999,9,  15.0446,2,     -999,9,     -999,     -999,9,     -999,9,     -999,9,     -999,9,     -999,9,     -999,9,   0.0231,1,   4.6723,1,     14.8,2,     -999,9,20240327,1209, -30.1186,  95.0030,     -999,9,     -999,9,-999          ,9,-999          ,1,-999          ,1
325020240221  ,I08        ,63      ,  1,21         ,21         ,2,20240327,1058, -30.1193,  95.0036,     2051,    215.8,  14.1468,  35.4021,2,  35.3841,2,    222.8,2,    222.7,2,     1.85,2,     0.00,2,     5.68,2,     0.00,2,     0.48,2,    2.722,2,    1.644,2,    0.114,4,   2.1600,2,   2124.9,3,   2332.3,2,   7.8575,6,    24.98,     -999,9,  14.1467,2,     -999,9,     -999,     -999,9,     -999,9,     -999,9,     -999,9,     -999,9,     -999,9,   0.0195,1,   4.6749,1,     15.8,2,     -999,9,20240327,1207, -30.1184,  95.0029,     -999,9,     -999,9,-999          ,9,-999          ,9,-999          ,9
325020240221  ,I08        ,63      ,  1,20         ,20         ,2,20240327,1058, -30.1193,  95.0036,     2051,    241.3,  13.3948,  35.2846,2,  35.2714,2,    226.0,2,    226.4,2,     1.95,2,     0.00,2,     6.76,2,     0.00,2,     0.55,2,    2.997,2,    1.699,2,    0.135,4,   2.2410,2,   2127.9,3,   2324.4,2,   7.8430,2,    25.01,     -999,9,  13.3998,2,     -999,9,     -999,     -999,9,     -999,9,     -999,9,     -999,9,     -999,9,     -999,9,   0.0183,1,   4.6764,1,     17.4,2,     -999,9,20240327,1205, -30.1181,  95.0027,     -999,9,     -999,9,-999          ,9,-999          ,9,-999          ,9
325020240221  ,I08        ,63      ,  1,19         ,19         ,2,20240327,1058, -30.1193,  95.0036,     2051,    287.1,  12.0576,  35.0719,2,  35.0821,2,    233.6,2,    233.0,2,     2.15,2,     0.00,2,     8.79,2,     0.00,2,     0.67,2,    3.033,2,    1.787,2,    0.157,4,   2.2340,2,   2129.4,3,   2314.5,2,   7.8185,2,    24.97,     -999,9,  12.1064,2,     -999,9,     -999,     -999,9,     -999,9,     -999,9,     -999,9,     -999,9,     -999,9,   0.0177,1,   4.6786,1,     19.5,2,     -999,9,20240327,1202, -30.1178,  95.0026,     -999,9,     -999,9,-999          ,9,-999          ,9,-999          ,9
325020240221  ,I08        ,63      ,  1,18         ,18         ,2,20240327,1058, -30.1193,  95.0036,     2051,    335.9,  10.9956,  34.9025,2,  34.9042,2,    236.7,2,    236.5,2,     2.73,2,     0.00,2,    11.37,2,     0.00,2,     0.84,2,    3.251,2,    1.939,2,    0.165,4,   2.2500,2,   2132.6,3,   2305.3,2,   7.7920,2,    24.96,     -999,9,  11.0169,2,     -999,9,     -999,     -999,9,     -999,9,     -999,9,     -999,9,     -999,9,     -999,9,   0.0183,1,   4.6789,1,     21.6,2,     -999,9,20240327,1200, -30.1173,  95.0024,     -999,9,     -999,9,-999          ,9,-999          ,9,-999          ,9
325020240221  ,I08        ,63      ,  1,17         ,17         ,2,20240327,1058, -30.1193,  95.0036,     2051,    388.1,  10.3366,  34.8048,2,  34.8049,2,    236.9,2,    237.7,2,     3.32,2,     0.00,2,    13.37,2,     0.00,2,     0.95,2,    3.392,2,    1.936,2,    0.173,4,   2.1460,2,   2137.2,3,   2299.0,2,   7.7726,2,    24.97,     -999,9,  10.3475,2,     -999,9,     -999,     -999,9,     -999,9,     -999,9,     -999,9,     -999,9,     -999,9,   0.0180,1,   4.6801,1,     21.8,2,     -999,9,20240327,1158, -30.1169,  95.0021,     -999,9,     -999,9,-999          ,9,-999          ,9,-999          ,9
325020240221  ,I08        ,63      ,  1,16         ,16         ,2,20240327,1058, -30.1193,  95.0036,     2051,    437.5,   9.9291,  34.7534,2,  34.7526,2,    235.0,2,    235.7,2,     3.90,2,     0.02,2,    15.00,2,     0.00,2,     1.04,2,    3.494,2,    2.029,2,    0.191,4,   2.1080,2,   2139.1,3,   2296.7,2,   7.7582,2,    24.96,     -999,9,   9.9297,2,     -999,9,     -999,     -999,9,     -999,9,     -999,9,     -999,9,     -999,9,     -999,9,   0.0183,1,   4.6800,1,     15.7,2,     -999,9,20240327,1156, -30.1165,  95.0020,     -999,9,     -999,9,-999          ,9,-999          ,9,-999          ,9
325020240221  ,I08        ,63      ,  1,15         ,15         ,2,20240327,1058, -30.1193,  95.0036,     2051,    489.1,   9.5761,  34.7108,2,  34.7107,2,    234.3,2,    234.7,2,     4.29,2,     0.00,2,    16.12,2,     0.00,2,     1.09,2,    3.659,2,    2.021,2,    0.141,4,   1.9770,2,   2143.1,3,   2293.6,2,   7.7489,2,    24.97,     -999,9,   9.5760,2,     -999,9,     -999,     -999,9,     -999,9,     -999,9,     -999,9,     -999,9,     -999,9,   0.0181,1,   4.6802,1,     23.5,2,     -999,9,20240327,1154, -30.1161,  95.0018,     -999,9,     -999,9,-999          ,9,-999          ,9,-999          ,1
325020240221  ,I08        ,63      ,  1,14         ,14         ,2,20240327,1058, -30.1193,  95.0036,     2051,    569.2,   8.9770,  34.6375,2,  34.6378,2,    229.4,2,    230.0,2,     5.95,2,     0.00,2,    18.21,2,     0.00,2,     1.23,2,    3.761,2,    2.035,2,    0.126,4,   1.7250,2,   2148.3,3,   2291.4,2,   7.7313,6,    24.97,     -999,9,   8.9762,2,     -999,9,     -999,     -999,9,     -999,9,     -999,9,     -999,9,     -999,9,     -999,9,   0.0183,1,   4.6813,1,     24.1,2,     -999,9,20240327,1148, -30.1158,  95.0016,     -999,9,     -999,9,-999          ,9,-999          ,9,-999          ,9
325020240221  ,I08        ,63      ,  1,13         ,13         ,2,20240327,1058, -30.1193,  95.0036,     2051,    669.0,   7.7451,  34.5208,2,  34.5207,2,    209.0,2,    208.9,2,    12.20,2,     0.00,2,    22.98,2,     0.00,2,     1.54,2,    3.611,2,    1.722,2,    0.088,4,   1.2310,2,   2165.9,3,   2289.6,2,   7.6841,2,    24.96,     -999,9,   7.7474,2,     -999,9,     -999,     -999,9,     -999,9,     -999,9,     -999,9,     -999,9,     -999,9,   0.0183,1,   4.6822,1,     25.8,2,     -999,9,20240327,1145, -30.1159,  95.0016,     -999,9,     -999,9,-999          ,9,-999          ,9,-999          ,9
325020240221  ,I08        ,63      ,  1,12         ,12         ,2,20240327,1058, -30.1193,  95.0036,     2051,    771.6,   6.3675,  34.4339,2,  34.4347,2,    195.1,2,    195.4,2,    21.67,2,     0.00,2,    27.22,2,     0.00,2,     1.83,2,    2.925,2,    1.328,2,    0.065,4,   0.8040,2,   2184.4,3,   2292.1,2,   7.6419,2,    24.97,     -999,9,   6.3658,2,     -999,9,     -999,     -999,9,     -999,9,     -999,9,     -999,9,     -999,9,     -999,9,   0.0176,1,   4.6812,1,     27.5,2,     -999,9,20240327,1141, -30.1161,  95.0015,     -999,9,     -999,9,-999          ,9,-999          ,9,-999          ,9
325020240221  ,I08        ,63      ,  1,11         ,11         ,2,20240327,1058, -30.1193,  95.0036,     2051,    871.6,   4.9995,  34.4010,2,  34.4012,2,    184.7,2,    184.7,2,    36.32,2,     0.00,2,    30.76,2,     0.00,2,     2.08,2,    2.133,2,    0.933,2,    0.051,4,   0.3620,2,   2209.8,3,   2304.6,2,   7.6054,2,    24.99,     -999,9,   4.9997,2,     -999,9,     -999,     -999,9,     -999,9,     -999,9,     -999,9,     -999,9,     -999,9,   0.0183,1,   4.6666,1,     29.0,2,     -999,9,20240327,1138, -30.1161,  95.0015,     -999,9,     -999,9,-999          ,9,-999          ,9,-999          ,9
325020240221  ,I08        ,63      ,  1,10         ,10         ,2,20240327,1058, -30.1193,  95.0036,     2051,    972.6,   4.3429,  34.4280,2,  34.4294,2,    172.4,2,    171.2,2,    49.30,2,     0.00,2,    32.73,2,     0.00,2,     2.24,2,    1.335,2,    0.609,2,    0.031,4,   0.2840,2,   2230.1,3,   2315.9,2,   7.5817,2,    24.99,     -999,9,   4.3435,2,     -999,9,     -999,     -999,9,     -999,9,     -999,9,     -999,9,     -999,9,     -999,9,   0.0183,1,   4.6580,1,     30.0,2,     -999,9,20240327,1134, -30.1161,  95.0015,     -999,9,     -999,9,-999          ,9,-999          ,1,-999          ,1
325020240221  ,I08        ,63      ,  1,9          ,9          ,2,20240327,1058, -30.1193,  95.0036,     2051,   1074.1,   4.0059,  34.4936,2,  34.4942,2,    152.7,2,    152.5,2,    64.13,2,     0.02,2,    34.04,2,     0.00,2,     2.37,2,    0.748,2,    0.323,2,    0.013,4,   0.1670,2,   2246.9,3,   2332.5,2,   7.5619,2,    25.00,     -999,9,   4.0066,2,     -999,9,     -999,     -999,9,     -999,9,     -999,9,     -999,9,     -999,9,     -999,9,   0.0183,1,   4.6540,1,     31.2,2,     -999,9,20240327,1130, -30.1162,  95.0016,     -999,9,     -999,9,-999          ,9,-999          ,9,-999          ,9
325020240221  ,I08        ,63      ,  1,8          ,8          ,2,20240327,1058, -30.1193,  95.0036,     2051,   1175.8,   3.7500,  34.5321,2,  34.5317,2,    146.5,2,    146.3,2,    72.33,2,     0.00,2,    34.56,2,     0.00,2,     2.43,2,    0.425,2,    0.187,2,    0.006,4,   0.0490,2,   2258.1,3,   2340.8,2,   7.5552,6,    25.00,     -999,9,   3.7472,2,     -999,9,     -999,     -999,9,     -999,9,     -999,9,     -999,9,     -999,9,     -999,9,   0.0185,1,   4.6496,1,     31.9,2,     -999,9,20240327,1127, -30.1161,  95.0016,     -999,9,     -999,9,-999          ,9,-999          ,9,-999          ,9
325020240221  ,I08        ,63      ,  1,7          ,7          ,2,20240327,1058, -30.1193,  95.0036,     2051,   1277.5,   3.5424,  34.5679,2,  34.5684,2,    142.3,2,    142.3,2,    79.06,2,     0.00,2,    34.81,2,     0.00,2,     2.45,2,    0.250,2,    0.109,2,    0.002,4,   0.0000,2,   2269.0,3,   2347.6,2,   7.5528,2,    25.00,     -999,9,   3.5434,2,     -999,9,     -999,     -999,9,     -999,9,     -999,9,     -999,9,     -999,9,     -999,9,   0.0183,1,   4.6464,1,     32.5,2,     -999,9,20240327,1124, -30.1161,  95.0016,     -999,9,     -999,9,-999          ,9,-999          ,9,-999          ,9
325020240221  ,I08        ,63      ,  1,6          ,6          ,2,20240327,1058, -30.1193,  95.0036,     2051,   1376.6,   3.3129,  34.5939,2,  34.5926,2,    143.7,2,    143.7,2,    82.58,2,     0.00,2,    34.83,2,     0.00,2,     2.44,2,    0.163,2,    0.071,2,    0.002,4,   0.0000,2,   2272.4,3,   2351.2,2,   7.5544,6,    25.00,     -999,9,   3.3142,2,     -999,9,     -999,     -999,9,     -999,9,     -999,9,     -999,9,     -999,9,     -999,9,   0.0183,1,   4.6434,1,     32.8,2,     -999,9,20240327,1120, -30.1160,  95.0016,     -999,9,     -999,9,-999          ,9,-999          ,9,-999          ,9