BOTTLE,20240417CCHHYDRO
EXPOCODE,SECT_ID,STNNBR,CASTNO,SAMPNO,BTLNBR,BTLNBR_FLAG_W,DATE,TIME,LATITUDE,LONGITUDE,DEPTH,CTDPRS,CTDTMP,CTDSAL,CTDSAL_FLAG_W,SALNTY,SALNTY_FLAG_W,CTDOXY,CTDOXY_FLAG_W,OXYGEN,OXYGEN_FLAG_W,SILCAT,SILCAT_FLAG_W,NH4,NH4_FLAG_W,NITRAT,NITRAT_FLAG_W,NITRIT,NITRIT_FLAG_W,PHSPHT,PHSPHT_FLAG_W,CFC-11,CFC-11_FLAG_W,CFC-12,CFC-12_FLAG_W,CFC113,CFC113_FLAG_W,SF6,SF6_FLAG_W,TCARBN,TCARBN_FLAG_W,ALKALI,ALKALI_FLAG_W,PH_TOT,PH_TOT_FLAG_W,PH_TMP,DOC,DOC_FLAG_W,REFTMP,REFTMP_FLAG_W,DELC14,DELC14_FLAG_W,C14ERR,POC,POC_FLAG_W,PON,PON_FLAG_W,POP,POP_FLAG_W,PCOD,PCOD_FLAG_W,DOP,DOP_FLAG_W,TDN,TDN_FLAG_W,CTDFLUOR,CTDFLUOR_FLAG_W,CTDXMISS,CTDXMISS_FLAG_W,N2O,N2O_FLAG_W,ARGON,ARGON_FLAG_W,BTL_DATE,BTL_TIME,BTL_LAT,BTL_LON,KRYPTON,KRYPTON_FLAG_W,XENON,XENON_FLAG_W,HPLC,HPLC_FLAG_W,DNA,DNA_FLAG_W,FCM,FCM_FLAG_W
,,,,,,,,,,,METERS,DBAR,ITS-90,PSS-78,,PSS-78,,UMOL/KG,,UMOL/KG,,UMOL/KG,,UMOL/KG,,UMOL/KG,,UMOL/KG,,UMOL/KG,,PMOL/KG,,PMOL/KG,,PMOL/KG,,FMOL/KG,,UMOL/KG,,UMOL/KG,,,,DEG C,UMOL/KG,,ITS-90,,/MILLE,,/MILLE,UG/KG,,UG/KG,,UG/L,,UG/L,,UMOL/KG,,UMOL/KG,,VOLTS,,VOLTS,,NMOL/KG,,UMOL/L,,,,,,NMOL/L,,NMOL/L,,,,,,,
325020240221  ,I08        ,43      ,  1,5          ,5          ,2,20240320,2136, -44.5000,  95.0271,     3184,   2637.9,   1.6546,  34.7439,2,  34.7427,2,    199.6,2,    199.9,2,    96.83,2,     0.00,2,    30.89,2,     0.00,2,     2.08,2,    0.111,4,    0.088,2,    0.063,4,   0.0000,2,   2250.2,3,   2356.9,2,   7.6181,2,    25.00,     -999,9,   1.6554,2,     -999,9,     -999,     -999,9,     -999,9,     -999,9,     -999,9,     -999,9,     -999,9,   0.0183,1,   4.6422,1,     15.8,2,     -999,9,20240320,2151, -44.5000,  95.0271,     -999,9,     -999,9,-999          ,9,-999          ,9,-999          ,9
325020240221  ,I08        ,43      ,  1,4          ,4          ,2,20240320,2136, -44.5000,  95.0271,     3184,   2842.2,   1.4474,  34.7342,3,  34.7321,2,    201.2,2,    201.3,2,   104.45,2,     0.00,2,    31.29,2,     0.00,2,     2.14,2,    0.140,4,    0.097,2,    0.107,4,   0.0430,2,   2254.0,3,   2359.1,2,   7.6156,2,    25.01,     -999,9,   1.4467,2,     -999,9,     -999,     -999,9,     -999,9,     -999,9,     -999,9,     -999,9,     -999,9,   0.0183,1,   4.6419,1,     15.6,2,     -999,9,20240320,2146, -44.5000,  95.0271,     -999,9,     -999,9,-999          ,9,-999          ,9,-999          ,9
325020240221  ,I08        ,43      ,  1,3          ,3          ,2,20240320,2136, -44.5000,  95.0271,     3184,   3045.9,   1.4000,  34.7316,2,  34.7302,2,    201.9,2,    201.8,2,   106.30,2,     0.00,2,    31.36,2,     0.00,2,     2.12,2,    0.153,4,    0.118,2,    0.126,4,   0.0020,2,   2255.5,3,   2360.0,2,   7.6146,6,    25.02,     -999,9,   1.4003,2,     -999,9,     -999,     -999,9,     -999,9,     -999,9,     -999,9,     -999,9,     -999,9,   0.0183,1,   4.6422,1,     15.4,2,     -999,9,20240320,2142, -44.5000,  95.0271,     -999,9,     -999,9,-999          ,9,-999          ,9,-999          ,9
325020240221  ,I08        ,43      ,  1,2          ,2          ,2,20240320,2136, -44.5000,  95.0271,     3184,   3146.5,   1.4070,  34.7314,2,  34.7317,2,    201.9,2,    201.7,2,   106.98,2,     0.00,2,    31.33,2,     0.00,2,     2.13,2,    0.138,4,    0.102,2,    0.154,4,   0.0000,2,   2256.0,3,   2359.9,2,   7.6147,2,    24.99,     -999,9,   1.4071,2,     -999,9,     -999,     -999,9,     -999,9,     -999,9,     -999,9,     -999,9,     -999,9,   0.0183,1,   4.6434,1,     15.1,2,     -999,9,20240320,2139, -44.5000,  95.0271,     -999,9,     -999,9,-999          ,9,-999          ,9,-999          ,9
325020240221  ,I08        ,43      ,  1,1          ,1          ,2,20240320,2136, -44.5000,  95.0271,     3184,   3228.4,   1.4117,  34.7312,2,  34.7305,2,    202.0,2,    201.8,2,   107.08,2,     0.00,2,    31.33,2,     0.00,2,     2.12,2,    0.132,4,    0.107,2,    0.226,4,   0.0240,2,   2256.5,3,   2360.7,2,   7.6148,2,    25.00,     -999,9,   1.4118,2,     -999,9,     -999,     -999,9,     -999,9,     -999,9,     -999,9,     -999,9,     -999,9,   0.0183,1,   4.6442,1,      9.5,4,     -999,9,20240320,2136, -44.5000,  95.0271,     -999,9,     -999,9,-999          ,9,-999          ,9,-999          ,9