BOTTLE,20240417CCHHYDRO
EXPOCODE,SECT_ID,STNNBR,CASTNO,SAMPNO,BTLNBR,BTLNBR_FLAG_W,DATE,TIME,LATITUDE,LONGITUDE,DEPTH,CTDPRS,CTDTMP,CTDSAL,CTDSAL_FLAG_W,SALNTY,SALNTY_FLAG_W,CTDOXY,CTDOXY_FLAG_W,OXYGEN,OXYGEN_FLAG_W,SILCAT,SILCAT_FLAG_W,NH4,NH4_FLAG_W,NITRAT,NITRAT_FLAG_W,NITRIT,NITRIT_FLAG_W,PHSPHT,PHSPHT_FLAG_W,CFC-11,CFC-11_FLAG_W,CFC-12,CFC-12_FLAG_W,CFC113,CFC113_FLAG_W,SF6,SF6_FLAG_W,TCARBN,TCARBN_FLAG_W,ALKALI,ALKALI_FLAG_W,PH_TOT,PH_TOT_FLAG_W,PH_TMP,DOC,DOC_FLAG_W,REFTMP,REFTMP_FLAG_W,DELC14,DELC14_FLAG_W,C14ERR,POC,POC_FLAG_W,PON,PON_FLAG_W,POP,POP_FLAG_W,PCOD,PCOD_FLAG_W,DOP,DOP_FLAG_W,TDN,TDN_FLAG_W,CTDFLUOR,CTDFLUOR_FLAG_W,CTDXMISS,CTDXMISS_FLAG_W,N2O,N2O_FLAG_W,ARGON,ARGON_FLAG_W,BTL_DATE,BTL_TIME,BTL_LAT,BTL_LON,KRYPTON,KRYPTON_FLAG_W,XENON,XENON_FLAG_W,HPLC,HPLC_FLAG_W,DNA,DNA_FLAG_W,FCM,FCM_FLAG_W
,,,,,,,,,,,METERS,DBAR,ITS-90,PSS-78,,PSS-78,,UMOL/KG,,UMOL/KG,,UMOL/KG,,UMOL/KG,,UMOL/KG,,UMOL/KG,,UMOL/KG,,PMOL/KG,,PMOL/KG,,PMOL/KG,,FMOL/KG,,UMOL/KG,,UMOL/KG,,,,DEG C,UMOL/KG,,ITS-90,,/MILLE,,/MILLE,UG/KG,,UG/KG,,UG/L,,UG/L,,UMOL/KG,,UMOL/KG,,VOLTS,,VOLTS,,NMOL/KG,,UMOL/L,,,,,,NMOL/L,,NMOL/L,,,,,,,
325020240221  ,I08        ,21      ,  1,36         ,36         ,2,20240310,0528, -59.5012,  82.0017,     -999,      3.6,   1.2555,  33.9579,2,  33.9590,2,    324.3,2,    324.1,2,    38.09,2,     0.53,2,    26.95,2,     0.30,2,     1.90,2,    4.957,2,    2.749,2,    0.455,2,   4.6200,2,   2177.2,3,   2294.6,2,   7.6694,6,    25.00,     -999,1,   1.2558,2,     -999,1,     -999,     -999,9,     -999,9,     -999,9,     -999,9,     -999,9,     -999,1,   0.0571,1,   4.4561,1,     10.8,2,     -999,9,20240310,0707, -59.5012,  82.0017,     -999,9,     -999,9,-999          ,9,-999          ,9,-999          ,9
325020240221  ,I08        ,21      ,  1,35         ,35         ,2,20240310,0528, -59.5012,  82.0017,     -999,     19.6,   1.2539,  33.9577,2,  33.9583,2,    324.0,2,    324.5,2,    38.09,2,     0.57,2,    27.08,2,     0.30,2,     1.89,2,    4.992,6,    2.807,6,    0.432,6,   4.5285,6,   2179.2,3,   2294.8,2,   7.6690,2,    25.02,     -999,9,   1.2538,2,     -999,1,     -999,     -999,9,     -999,9,     -999,9,     -999,9,     -999,9,     -999,9,   0.0688,1,   4.4587,1,     10.8,6,     -999,9,20240310,0705, -59.5012,  82.0018,     -999,9,     -999,9,-999          ,9,-999          ,9,-999          ,9
325020240221  ,I08        ,21      ,  1,34         ,34         ,2,20240310,0528, -59.5012,  82.0017,     -999,     39.2,   1.2537,  33.9582,2,     -999,9,    324.0,2,     -999,9,     -999,9,     -999,9,     -999,9,     -999,9,     -999,9,     -999,9,     -999,9,     -999,9,     -999,9,     -999,9,     -999,9,     -999,9,     -999,     -999,9,   1.2537,2,     -999,9,     -999,     -999,9,     -999,9,     -999,9,     -999,9,     -999,9,     -999,9,   0.0789,1,   4.4592,1,     -999,9,     -999,9,20240310,0703, -59.5013,  82.0017,     -999,9,     -999,9,-999          ,1,-999          ,9,-999          ,9
325020240221  ,I08        ,21      ,  1,33         ,33         ,2,20240310,0528, -59.5012,  82.0017,     -999,     39.5,   1.2544,  33.9579,2,  33.9581,2,    324.1,2,    323.5,2,    37.79,2,     0.56,2,    27.16,2,     0.30,2,     1.88,2,    5.182,2,    2.826,2,    0.394,2,   4.4800,2,   2178.9,3,   2295.1,2,   7.6691,2,    25.04,     -999,9,   1.2525,2,     -999,9,     -999,     -999,9,     -999,9,     -999,9,     -999,9,     -999,9,     -999,9,   0.0715,1,   4.4622,1,     10.8,2,     -999,9,20240310,0702, -59.5013,  82.0017,     -999,9,     -999,9,-999          ,9,-999          ,9,-999          ,1
325020240221  ,I08        ,21      ,  1,32         ,32         ,2,20240310,0528, -59.5012,  82.0017,     -999,     64.3,   1.2518,  33.9583,2,  33.9579,2,    323.8,2,    324.2,2,    38.09,2,     0.55,2,    27.26,2,     0.30,2,     1.89,2,    4.561,2,    2.729,2,    0.398,2,   4.3750,2,   2176.1,3,   2292.4,2,   7.6688,2,    25.03,     -999,9,   1.2516,2,     -999,1,     -999,     -999,9,     -999,9,     -999,9,     -999,9,     -999,9,     -999,9,   0.0771,1,   4.4606,1,     11.1,2,     -999,9,20240310,0700, -59.5013,  82.0017,     -999,9,     -999,9,-999          ,9,-999          ,9,-999          ,9
325020240221  ,I08        ,21      ,  1,31         ,31         ,2,20240310,0528, -59.5012,  82.0017,     -999,     74.2,   1.2388,  33.9603,2,     -999,9,    323.0,2,     -999,9,     -999,9,     -999,9,     -999,9,     -999,9,     -999,9,     -999,9,     -999,9,     -999,9,     -999,9,     -999,9,     -999,9,     -999,9,     -999,     -999,9,   1.2410,2,     -999,9,     -999,     -999,9,     -999,9,     -999,9,     -999,9,     -999,9,     -999,9,   0.0850,1,   4.4552,1,     -999,9,     -999,9,20240310,0659, -59.5012,  82.0018,     -999,9,     -999,9,-999          ,9,-999          ,9,-999          ,1
325020240221  ,I08        ,21      ,  1,30         ,30         ,2,20240310,0528, -59.5012,  82.0017,     -999,     90.1,   0.5136,  34.2269,2,  34.2287,2,    254.7,2,    255.5,2,    61.22,2,     0.47,2,    32.06,2,     0.29,2,     2.25,2,    3.715,2,    1.925,2,    0.309,2,   2.5200,2,   2222.6,3,   2309.0,2,   7.5755,2,    25.00,     -999,9,   0.4940,3,     -999,1,     -999,     -999,9,     -999,9,     -999,9,     -999,9,     -999,9,     -999,9,   0.0464,1,   4.5296,1,     14.0,2,     -999,9,20240310,0657, -59.5012,  82.0018,     -999,9,     -999,9,-999          ,9,-999          ,9,-999          ,9
325020240221  ,I08        ,21      ,  1,28         ,28         ,2,20240310,0528, -59.5012,  82.0017,     -999,     99.6,   0.3829,  34.3733,2,     -999,9,    230.8,2,     -999,9,     -999,9,     -999,9,     -999,9,     -999,9,     -999,9,     -999,9,     -999,9,     -999,9,     -999,9,     -999,9,     -999,9,     -999,9,     -999,     -999,9,   0.3886,2,     -999,9,     -999,     -999,9,     -999,9,     -999,9,     -999,9,     -999,9,     -999,9,   0.0247,1,   4.6032,1,     -999,9,     -999,9,20240310,0654, -59.5012,  82.0018,     -999,9,     -999,9,-999          ,1,-999          ,9,-999          ,9
325020240221  ,I08        ,21      ,  1,29         ,29         ,2,20240310,0528, -59.5012,  82.0017,     -999,    100.4,   0.4029,  34.3802,2,     -999,9,    231.2,2,     -999,9,     -999,9,     -999,9,     -999,9,     -999,9,     -999,9,     -999,9,     -999,9,     -999,9,     -999,9,     -999,9,     -999,9,     -999,9,     -999,     -999,9,   0.3950,2,     -999,9,     -999,     -999,9,     -999,9,     -999,9,     -999,9,     -999,9,     -999,9,   0.0227,1,   4.6105,1,     -999,9,     -999,9,20240310,0655, -59.5012,  82.0018,     -999,9,     -999,9,-999          ,9,-999          ,1,-999          ,9
325020240221  ,I08        ,21      ,  1,27         ,27         ,2,20240310,0528, -59.5012,  82.0017,     -999,    115.5,   1.4344,  34.5309,2,  34.5284,2,    183.8,2,    182.5,2,    79.85,2,     0.01,2,    35.19,2,     0.03,2,     2.37,2,    1.474,2,    0.751,2,    0.123,2,   1.0750,2,   2259.6,3,   2329.9,6,   7.5264,2,    25.01,     -999,9,   1.4372,2,     -999,1,     -999,     -999,9,     -999,9,     -999,9,     -999,9,     -999,9,     -999,9,   0.0235,1,   4.6151,1,     16.1,2,     -999,9,20240310,0653, -59.5013,  82.0018,     -999,9,     -999,9,-999          ,9,-999          ,9,-999          ,9
325020240221  ,I08        ,21      ,  1,26         ,26         ,2,20240310,0528, -59.5012,  82.0017,     -999,    139.7,   1.6710,  34.5831,2,  34.5812,2,    173.6,2,    175.0,2,    82.68,2,     0.00,2,    34.88,2,     0.02,2,     2.38,2,    1.183,2,    0.595,2,    0.090,2,   0.7820,2,   2259.6,3,   2326.1,2,   7.5287,2,    25.01,     -999,9,   1.6708,2,     -999,9,     -999,     -999,9,     -999,9,     -999,9,     -999,9,     -999,9,     -999,9,   0.0203,1,   4.6207,1,     16.1,2,     -999,9,20240310,0650, -59.5012,  82.0018,     -999,9,     -999,9,-999          ,9,-999          ,9,-999          ,1
325020240221  ,I08        ,21      ,  1,25         ,25         ,2,20240310,0528, -59.5012,  82.0017,     -999,    165.3,   1.9224,  34.6360,2,  34.6345,2,    168.7,2,    168.5,2,    84.92,2,     0.04,2,    34.36,2,     0.00,2,     2.34,2,    0.813,2,    0.394,2,    0.058,2,   0.3130,2,   2261.6,3,   2337.6,2,   7.5361,6,    25.04,     -999,9,   1.9237,2,     -999,1,     -999,     -999,9,     -999,9,     -999,9,     -999,9,     -999,9,     -999,9,   0.0195,1,   4.6252,1,     16.1,2,     -999,9,20240310,0647, -59.5012,  82.0018,     -999,9,     -999,9,-999          ,9,-999          ,9,-999          ,9
325020240221  ,I08        ,21      ,  1,24         ,24         ,2,20240310,0528, -59.5012,  82.0017,     -999,    192.7,   1.9025,  34.6484,2,  34.6466,2,    170.2,2,    169.6,2,    85.80,2,     0.02,2,    33.99,2,     0.00,2,     2.32,2,    0.757,2,    0.372,2,    0.054,2,   0.3230,2,     -999,9,     -999,9,     -999,9,     -999,     -999,9,   1.9091,2,     -999,9,     -999,     -999,9,     -999,9,     -999,9,     -999,9,     -999,9,     -999,9,   0.0195,1,   4.6247,1,     15.9,2,     -999,9,20240310,0645, -59.5012,  82.0018,     -999,9,     -999,9,-999          ,9,-999          ,9,-999          ,9
325020240221  ,I08        ,21      ,  1,22         ,22         ,2,20240310,0528, -59.5012,  82.0017,     -999,    199.6,   1.9269,  34.6645,2,     -999,9,    170.5,2,     -999,9,     -999,9,     -999,9,     -999,9,     -999,9,     -999,9,     -999,9,     -999,9,     -999,9,     -999,9,     -999,9,     -999,9,     -999,9,     -999,     -999,9,   1.9100,2,     -999,9,     -999,     -999,9,     -999,9,     -999,9,     -999,9,     -999,9,     -999,9,   0.0195,1,   4.6305,1,     -999,9,     -999,9,20240310,0642, -59.5012,  82.0018,     -999,9,     -999,9,-999          ,9,-999          ,9,-999          ,1
325020240221  ,I08        ,21      ,  1,23         ,37         ,2,20240310,0528, -59.5012,  82.0017,     -999,    199.7,   1.8850,  34.6584,2,     -999,9,    170.7,2,     -999,9,     -999,9,     -999,9,     -999,9,     -999,9,     -999,9,     -999,9,     -999,9,     -999,9,     -999,9,     -999,9,     -999,9,     -999,9,     -999,     -999,9,   1.8841,2,     -999,9,     -999,     -999,9,     -999,9,     -999,9,     -999,9,     -999,9,     -999,9,   0.0195,1,   4.6295,1,     -999,9,     -999,9,20240310,0642, -59.5012,  82.0018,     -999,9,     -999,9,-999          ,9,-999          ,1,-999          ,9
325020240221  ,I08        ,21      ,  1,21         ,21         ,2,20240310,0528, -59.5012,  82.0017,     -999,    217.7,   2.0067,  34.6798,2,  34.6791,2,    171.4,2,    171.8,2,    85.70,2,     0.00,2,    33.32,2,     0.00,2,     2.28,2,    0.579,2,    0.271,2,    0.035,2,   0.4330,2,   2259.8,3,   2339.7,6,   7.5526,2,    25.03,     -999,9,   2.0064,2,     -999,1,     -999,     -999,9,     -999,9,     -999,9,     -999,9,     -999,9,     -999,9,   0.0195,1,   4.6347,1,     15.2,2,     -999,9,20240310,0640, -59.5012,  82.0018,     -999,9,     -999,9,-999          ,9,-999          ,9,-999          ,9
325020240221  ,I08        ,21      ,  1,20         ,20         ,2,20240310,0528, -59.5012,  82.0017,     -999,    239.9,   1.9107,  34.6799,2,  34.6800,2,    171.3,2,    170.8,2,    86.97,2,     0.00,2,    33.37,2,     0.00,2,     2.28,2,    0.600,2,    0.290,2,    0.038,2,   0.2270,2,     -999,9,     -999,9,     -999,9,     -999,     -999,9,   1.9143,2,     -999,9,     -999,     -999,9,     -999,9,     -999,9,     -999,9,     -999,9,     -999,9,   0.0186,1,   4.6323,1,     15.2,2,     -999,9,20240310,0637, -59.5012,  82.0018,     -999,9,     -999,9,-999          ,9,-999          ,9,-999          ,9
325020240221  ,I08        ,21      ,  1,19         ,19         ,2,20240310,0528, -59.5012,  82.0017,     -999,    288.9,   1.9253,  34.6966,2,  34.6963,2,    171.8,2,    172.5,2,    88.53,2,     0.00,2,    33.15,2,     0.00,2,     2.28,2,    0.562,2,    0.257,2,    0.028,2,   0.1260,2,   2258.6,3,   2342.4,2,   7.5543,2,    25.00,     -999,9,   1.9251,2,     -999,1,     -999,     -999,9,     -999,9,     -999,9,     -999,9,     -999,9,     -999,9,   0.0183,1,   4.6336,1,     14.8,2,     -999,9,20240310,0634, -59.5012,  82.0018,     -999,9,     -999,9,-999          ,9,-999          ,9,-999          ,9
325020240221  ,I08        ,21      ,  1,18         ,18         ,2,20240310,0528, -59.5012,  82.0017,     -999,    337.5,   1.9031,  34.7121,2,  34.7109,2,    175.0,2,    174.7,2,    89.02,2,     0.00,2,    32.56,2,     0.00,2,     2.23,2,    0.460,2,    0.217,2,    0.020,2,   0.1240,2,   2258.3,3,   2345.1,2,   7.5641,2,    25.00,     -999,9,   1.9038,2,     -999,9,     -999,     -999,9,     -999,9,     -999,9,     -999,9,     -999,9,     -999,9,   0.0187,1,   4.6334,1,     10.1,4,     -999,9,20240310,0631, -59.5012,  82.0018,     -999,9,     -999,9,-999          ,9,-999          ,9,-999          ,9
325020240221  ,I08        ,21      ,  1,17         ,17         ,2,20240310,0528, -59.5012,  82.0017,     -999,    388.4,   1.8802,  34.7246,2,  34.7245,2,    180.6,2,    180.5,2,    88.23,2,     0.00,2,    31.80,2,     0.00,2,     2.20,2,    0.408,2,    0.182,2,    0.018,2,   0.0190,2,   2255.6,3,   2342.9,2,   7.5777,2,    25.01,     -999,9,   1.8811,2,     -999,1,     -999,     -999,9,     -999,9,     -999,9,     -999,9,     -999,9,     -999,9,   0.0176,1,   4.6325,1,     14.5,2,     -999,9,20240310,0628, -59.5012,  82.0018,     -999,9,     -999,9,-999          ,9,-999          ,9,-999          ,9
325020240221  ,I08        ,21      ,  1,16         ,16         ,2,20240310,0528, -59.5012,  82.0017,     -999,    438.8,   1.8692,  34.7312,2,  34.7315,2,    184.3,2,    184.3,2,    87.94,2,     0.02,2,    31.35,2,     0.00,2,     2.18,2,    0.383,2,    0.173,2,    0.017,2,   0.0130,2,   2251.0,3,   2345.3,2,   7.5865,2,    25.03,     -999,9,   1.8688,2,     -999,1,     -999,     -999,9,     -999,9,     -999,9,     -999,9,     -999,9,     -999,9,   0.0178,1,   4.6325,1,     14.1,2,     -999,9,20240310,0625, -59.5012,  82.0018,     -999,9,     -999,9,-999          ,9,-999          ,9,-999          ,9
325020240221  ,I08        ,21      ,  1,15         ,15         ,2,20240310,0528, -59.5012,  82.0017,     -999,    489.8,   1.8372,  34.7357,2,  34.7361,2,    186.6,2,    186.5,2,    88.33,2,     0.00,2,    31.28,2,     0.00,2,     2.17,2,    0.362,2,    0.165,2,    0.020,2,   0.0250,2,   2251.1,3,   2344.8,2,   7.5917,2,    25.04,     -999,9,   1.8368,2,     -999,1,     -999,     -999,9,     -999,9,     -999,9,     -999,9,     -999,9,     -999,9,   0.0178,1,   4.6325,1,     14.0,2,     -999,9,20240310,0622, -59.5012,  82.0018,     -999,9,     -999,9,-999          ,9,-999          ,9,-999          ,9
325020240221  ,I08        ,21      ,  1,14         ,14         ,2,20240310,0528, -59.5012,  82.0017,     -999,    504.3,   1.8417,  34.7396,2,     -999,9,    188.8,2,     -999,9,     -999,9,     -999,9,     -999,9,     -999,9,     -999,9,     -999,9,     -999,9,     -999,9,     -999,9,     -999,9,     -999,9,     -999,9,     -999,     -999,9,   1.8412,2,     -999,9,     -999,     -999,9,     -999,9,     -999,9,     -999,9,     -999,9,     -999,9,   0.0178,1,   4.6325,1,     -999,9,     -999,9,20240310,0620, -59.5012,  82.0018,     -999,9,     -999,9,-999          ,9,-999          ,9,-999          ,1
325020240221  ,I08        ,21      ,  1,13         ,13         ,2,20240310,0528, -59.5012,  82.0017,     -999,    570.2,   1.7777,  34.7407,2,  34.7414,2,    189.7,2,    189.9,2,    88.92,2,     0.00,2,    31.10,2,     0.00,2,     2.14,2,    0.340,2,    0.158,2,    0.016,2,   0.1400,2,   2250.7,3,   2347.0,2,   7.5973,2,    25.00,     -999,9,   1.7786,2,     -999,1,     -999,     -999,9,     -999,9,     -999,9,     -999,9,     -999,9,     -999,9,   0.0178,1,   4.6313,1,     13.8,2,     -999,9,20240310,0617, -59.5012,  82.0018,     -999,9,     -999,9,-999          ,9,-999          ,9,-999          ,9
325020240221  ,I08        ,21      ,  1,12         ,12         ,2,20240310,0528, -59.5012,  82.0017,     -999,    673.2,   1.6890,  34.7463,2,  34.7463,2,    194.6,2,    194.5,2,    89.50,2,     0.00,2,    30.78,2,     0.00,2,     2.12,2,    0.325,2,    0.144,2,    0.012,2,   0.0210,2,   2248.5,3,   2346.3,2,   7.6059,6,    25.00,     -999,9,   1.6897,2,     -999,1,     -999,     -999,9,     -999,9,     -999,9,     -999,9,     -999,9,     -999,9,   0.0178,1,   4.6299,1,     13.6,2,     -999,9,20240310,0612, -59.5012,  82.0018,     -999,9,     -999,9,-999          ,9,-999          ,9,-999          ,9
325020240221  ,I08        ,21      ,  1,11         ,11         ,4,20240310,0528, -59.5012,  82.0017,     -999,    771.9,   1.6044,  34.7463,3,     -999,9,    196.3,3,     -999,9,     -999,9,     -999,9,     -999,9,     -999,9,     -999,9,     -999,9,     -999,9,     -999,9,     -999,9,     -999,9,     -999,9,     -999,9,     -999,     -999,9,   1.6040,3,     -999,9,     -999,     -999,9,     -999,9,     -999,9,     -999,9,     -999,9,     -999,9,   0.0183,1,   4.6288,1,     -999,9,     -999,9,20240310,0609, -59.5012,  82.0019,     -999,9,     -999,9,-999          ,9,-999          ,9,-999          ,9
325020240221  ,I08        ,21      ,  1,10         ,10         ,2,20240310,0528, -59.5012,  82.0017,     -999,    874.6,   1.4755,  34.7431,2,  34.7435,2,    198.3,2,    198.8,2,    95.55,2,     0.00,2,    30.99,2,     0.00,2,     2.14,2,    0.320,2,    0.144,2,    0.013,2,   0.0430,2,   2249.0,3,   2347.6,2,   7.6073,2,    25.02,     -999,9,   1.4768,2,     -999,1,     -999,     -999,9,     -999,9,     -999,9,     -999,9,     -999,9,     -999,9,   0.0180,1,   4.6275,1,     13.1,2,     -999,9,20240310,0605, -59.5012,  82.0018,     -999,9,     -999,9,-999          ,9,-999          ,9,-999          ,9
325020240221  ,I08        ,21      ,  1,9          ,9          ,2,20240310,0528, -59.5012,  82.0017,     -999,    976.0,   1.3849,  34.7393,2,  34.7382,2,    199.4,2,    199.8,2,    98.68,2,     0.00,2,    31.11,2,     0.00,2,     2.14,2,    0.341,2,    0.152,2,    0.013,2,   0.0630,2,     -999,9,     -999,9,     -999,9,     -999,     -999,9,   1.3852,2,     -999,1,     -999,     -999,9,     -999,9,     -999,9,     -999,9,     -999,9,     -999,9,   0.0181,1,   4.6264,1,     12.9,2,     -999,9,20240310,0600, -59.5012,  82.0019,     -999,9,     -999,9,-999          ,9,-999          ,9,-999          ,9
325020240221  ,I08        ,21      ,  1,8          ,8          ,2,20240310,0528, -59.5012,  82.0017,     -999,   1010.9,   1.3465,  34.7380,2,     -999,9,    199.8,2,     -999,9,     -999,9,     -999,9,     -999,9,     -999,9,     -999,9,     -999,9,     -999,9,     -999,9,     -999,9,     -999,9,     -999,9,     -999,9,     -999,     -999,9,   1.3461,2,     -999,9,     -999,     -999,9,     -999,9,     -999,9,     -999,9,     -999,9,     -999,9,   0.0182,1,   4.6262,1,     -999,9,     -999,9,20240310,0557, -59.5012,  82.0019,     -999,9,     -999,9,-999          ,9,-999          ,1,-999          ,1
325020240221  ,I08        ,21      ,  1,7          ,7          ,2,20240310,0528, -59.5012,  82.0017,     -999,   1078.1,   1.2587,  34.7337,2,  34.7343,2,    200.5,2,    200.6,2,   102.29,2,     0.00,2,    31.39,2,     0.00,2,     2.17,2,    0.353,2,    0.161,2,    0.013,2,   0.0250,2,   2252.7,3,   2352.0,2,   7.6067,2,    25.04,     -999,9,   1.2584,2,     -999,1,     -999,     -999,9,     -999,9,     -999,9,     -999,9,     -999,9,     -999,9,   0.0176,1,   4.6243,1,     13.1,2,     -999,9,20240310,0554, -59.5012,  82.0019,     -999,9,     -999,9,-999          ,9,-999          ,9,-999          ,9
325020240221  ,I08        ,21      ,  1,6          ,6          ,2,20240310,0528, -59.5012,  82.0017,     -999,   1178.6,   1.1538,  34.7282,2,  34.7290,2,    201.0,2,    201.0,2,   105.70,2,     0.00,2,    31.71,2,     0.00,2,     2.20,2,    0.347,2,    0.160,2,    0.013,2,   0.0520,2,   2253.4,3,   2352.3,2,   7.6033,2,    25.01,     -999,9,   1.1547,2,     -999,1,     -999,     -999,9,     -999,9,     -999,9,     -999,9,     -999,9,     -999,9,   0.0181,1,   4.6227,1,     12.6,2,     -999,9,20240310,0550, -59.5012,  82.0019,     -999,9,     -999,9,-999          ,9,-999          ,9,-999          ,9