BOTTLE,20240417CCHHYDRO
EXPOCODE,SECT_ID,STNNBR,CASTNO,SAMPNO,BTLNBR,BTLNBR_FLAG_W,DATE,TIME,LATITUDE,LONGITUDE,DEPTH,CTDPRS,CTDTMP,CTDSAL,CTDSAL_FLAG_W,SALNTY,SALNTY_FLAG_W,CTDOXY,CTDOXY_FLAG_W,OXYGEN,OXYGEN_FLAG_W,SILCAT,SILCAT_FLAG_W,NH4,NH4_FLAG_W,NITRAT,NITRAT_FLAG_W,NITRIT,NITRIT_FLAG_W,PHSPHT,PHSPHT_FLAG_W,CFC-11,CFC-11_FLAG_W,CFC-12,CFC-12_FLAG_W,CFC113,CFC113_FLAG_W,SF6,SF6_FLAG_W,TCARBN,TCARBN_FLAG_W,ALKALI,ALKALI_FLAG_W,PH_TOT,PH_TOT_FLAG_W,PH_TMP,DOC,DOC_FLAG_W,REFTMP,REFTMP_FLAG_W,DELC14,DELC14_FLAG_W,C14ERR,POC,POC_FLAG_W,PON,PON_FLAG_W,POP,POP_FLAG_W,PCOD,PCOD_FLAG_W,DOP,DOP_FLAG_W,TDN,TDN_FLAG_W,CTDFLUOR,CTDFLUOR_FLAG_W,CTDXMISS,CTDXMISS_FLAG_W,N2O,N2O_FLAG_W,ARGON,ARGON_FLAG_W,BTL_DATE,BTL_TIME,BTL_LAT,BTL_LON,KRYPTON,KRYPTON_FLAG_W,XENON,XENON_FLAG_W,HPLC,HPLC_FLAG_W,DNA,DNA_FLAG_W,FCM,FCM_FLAG_W
,,,,,,,,,,,METERS,DBAR,ITS-90,PSS-78,,PSS-78,,UMOL/KG,,UMOL/KG,,UMOL/KG,,UMOL/KG,,UMOL/KG,,UMOL/KG,,UMOL/KG,,PMOL/KG,,PMOL/KG,,PMOL/KG,,FMOL/KG,,UMOL/KG,,UMOL/KG,,,,DEG C,UMOL/KG,,ITS-90,,/MILLE,,/MILLE,UG/KG,,UG/KG,,UG/L,,UG/L,,UMOL/KG,,UMOL/KG,,VOLTS,,VOLTS,,NMOL/KG,,UMOL/L,,,,,,NMOL/L,,NMOL/L,,,,,,,
325020240221  ,I08        ,13      ,  1,36         ,36         ,2,20240306,2222, -63.5301,  81.9986,     3368,      2.3,   0.8878,  33.8246,2,  33.8232,2,    328.6,2,    329.4,2,    31.85,2,     0.06,2,    25.17,2,     0.25,2,     1.66,2,    5.530,2,    2.851,2,    0.403,2,   4.8450,2,   2163.4,3,   2291.5,2,   7.6906,2,    25.04,     -999,1,   0.8876,2,     -999,9,     -999,     -999,9,     -999,9,     -999,9,     -999,9,     -999,9,     -999,1,   0.1919,1,   4.2515,1,     11.1,2,     -999,9,20240307,0025, -63.5301,  81.9986,     -999,9,     -999,9,-999          ,9,-999          ,9,-999          ,9
325020240221  ,I08        ,13      ,  1,35         ,35         ,2,20240306,2222, -63.5301,  81.9986,     3368,     25.5,   0.8944,  33.8265,2,  33.8253,2,    328.5,2,    328.1,2,    32.14,2,     0.13,2,    25.18,2,     0.25,2,     1.63,2,    5.313,2,    2.822,2,    0.404,2,   4.9950,2,   2161.8,3,   2290.1,2,   7.6902,2,    25.02,     -999,9,   0.8932,2,     -999,9,     -999,     -999,9,     -999,9,     -999,9,     -999,9,     -999,9,     -999,9,   0.2005,1,   4.2571,1,     11.1,2,     -999,9,20240307,0022, -63.5301,  81.9986,     -999,9,     -999,9,-999          ,9,-999          ,9,-999          ,9
325020240221  ,I08        ,13      ,  1,34         ,34         ,2,20240306,2222, -63.5301,  81.9986,     3368,     49.7,   0.9309,  33.8487,2,  33.8474,2,    326.7,2,    327.4,2,    35.56,2,     0.18,2,    25.72,2,     0.25,2,     1.72,2,    5.556,2,    2.787,2,    0.397,2,   4.9150,2,   2164.3,3,   2291.7,2,   7.6799,2,    25.02,     -999,9,   0.9305,2,     -999,9,     -999,     -999,9,     -999,9,     -999,9,     -999,9,     -999,9,     -999,9,   0.1746,1,   4.2957,1,     11.5,2,     -999,9,20240307,0020, -63.5301,  81.9986,     -999,9,     -999,9,-999          ,9,-999          ,9,-999          ,9
325020240221  ,I08        ,13      ,  1,33         ,33         ,2,20240306,2222, -63.5301,  81.9986,     3368,     76.4,   0.6832,  34.3184,2,  34.3080,2,    229.9,2,    229.4,2,    66.11,2,     0.45,2,    32.54,2,     0.36,2,     2.26,2,    2.878,6,    1.509,6,    0.223,6,   1.9035,6,   2237.8,3,   2317.8,2,   7.5483,2,    24.99,     -999,9,   0.6639,2,     -999,9,     -999,     -999,9,     -999,9,     -999,9,     -999,9,     -999,9,     -999,9,   0.0281,1,   4.5901,1,     14.8,6,     -999,9,20240307,0017, -63.5301,  81.9986,     -999,9,     -999,9,-999          ,9,-999          ,9,-999          ,9
325020240221  ,I08        ,13      ,  1,32         ,32         ,2,20240306,2222, -63.5301,  81.9986,     3368,     98.3,   1.3935,  34.4754,2,  34.4765,2,    187.6,2,    186.3,2,    75.97,2,     0.00,2,    34.52,2,     0.03,2,     2.36,2,    1.718,2,    0.909,2,    0.125,2,   1.0750,2,   2254.5,3,   2323.1,2,   7.5214,2,    24.99,     -999,9,   1.3966,2,     -999,9,     -999,     -999,9,     -999,9,     -999,9,     -999,9,     -999,9,     -999,9,   0.0219,1,   4.6227,1,     15.8,2,     -999,9,20240307,0015, -63.5301,  81.9985,     -999,9,     -999,9,-999          ,9,-999          ,9,-999          ,9
325020240221  ,I08        ,13      ,  1,31         ,31         ,2,20240306,2222, -63.5301,  81.9986,     3368,    124.9,   1.6805,  34.5293,2,  34.5325,2,    176.2,2,    175.0,2,    78.80,2,     0.03,2,    34.58,2,     0.00,2,     2.35,2,    1.455,2,    0.699,2,    0.092,2,   0.7540,2,     -999,9,     -999,9,     -999,9,     -999,     -999,9,   1.6847,2,     -999,9,     -999,     -999,9,     -999,9,     -999,9,     -999,9,     -999,9,     -999,9,   0.0197,1,   4.6287,1,     16.0,2,     -999,9,20240307,0013, -63.5301,  81.9986,     -999,9,     -999,9,-999          ,9,-999          ,9,-999          ,9
325020240221  ,I08        ,13      ,  1,30         ,30         ,2,20240306,2222, -63.5301,  81.9986,     3368,    151.4,   1.8370,  34.5649,2,  34.5657,2,    170.7,2,    170.1,2,    80.55,2,     0.04,2,    34.52,2,     0.00,2,     2.38,2,    1.144,2,    0.592,2,    0.079,2,   0.7060,2,   2260.7,3,   2333.4,2,   7.5227,6,    25.02,     -999,9,   1.8371,2,     -999,9,     -999,     -999,9,     -999,9,     -999,9,     -999,9,     -999,9,     -999,9,   0.0195,1,   4.6297,1,     16.1,2,     -999,9,20240307,0011, -63.5301,  81.9986,     -999,9,     -999,9,-999          ,9,-999          ,9,-999          ,9
325020240221  ,I08        ,13      ,  1,29         ,29         ,2,20240306,2222, -63.5301,  81.9986,     3368,    201.5,   2.0274,  34.6190,2,  34.6199,2,    166.7,2,    166.6,2,    82.79,2,     0.03,2,    34.07,2,     0.00,2,     2.33,2,    0.834,2,    0.404,2,    0.052,2,   0.3130,2,   2261.3,3,   2335.9,2,   7.5325,2,    25.02,     -999,9,   2.0222,2,     -999,9,     -999,     -999,9,     -999,9,     -999,9,     -999,9,     -999,9,     -999,9,   0.0183,1,   4.6314,1,     15.9,2,     -999,9,20240307,0008, -63.5301,  81.9986,     -999,9,     -999,9,-999          ,9,-999          ,9,-999          ,9
325020240221  ,I08        ,13      ,  1,28         ,28         ,2,20240306,2222, -63.5301,  81.9986,     3368,    251.7,   2.0133,  34.6484,2,  34.6494,2,    167.2,2,    167.3,2,    84.45,2,     0.00,2,    33.70,2,     0.00,2,     2.30,2,    0.673,2,    0.339,2,    0.039,2,   0.2410,2,     -999,9,     -999,9,     -999,9,     -999,     -999,9,   2.0114,2,     -999,9,     -999,     -999,9,     -999,9,     -999,9,     -999,9,     -999,9,     -999,9,   0.0178,1,   4.6314,1,     15.3,2,     -999,9,20240307,0006, -63.5301,  81.9986,     -999,9,     -999,9,-999          ,9,-999          ,9,-999          ,9
325020240221  ,I08        ,13      ,  1,27         ,27         ,2,20240306,2222, -63.5301,  81.9986,     3368,    303.2,   2.0111,  34.6663,2,  34.6669,2,    170.5,2,    170.8,2,    84.55,2,     0.00,2,    33.30,2,     0.00,2,     2.28,2,    0.595,2,    0.294,2,    0.032,2,   0.1590,2,   2258.6,3,   2343.4,2,   7.5503,6,    25.02,     -999,9,   2.0104,2,     -999,9,     -999,     -999,9,     -999,9,     -999,9,     -999,9,     -999,9,     -999,9,   0.0174,1,   4.6313,1,     15.0,2,     -999,9,20240307,0004, -63.5301,  81.9986,     -999,9,     -999,9,-999          ,9,-999          ,9,-999          ,9
325020240221  ,I08        ,13      ,  1,26         ,26         ,2,20240306,2222, -63.5301,  81.9986,     3368,    352.4,   1.9589,  34.6764,2,  34.6763,2,    172.0,2,    172.2,2,    85.82,2,     0.00,2,    33.10,2,     0.00,2,     2.27,2,    0.610,2,    0.293,2,    0.031,2,   0.0990,2,   2258.5,3,   2343.4,6,   7.5546,2,    24.99,     -999,9,   1.9574,2,     -999,9,     -999,     -999,9,     -999,9,     -999,9,     -999,9,     -999,9,     -999,9,   0.0174,1,   4.6313,1,     15.2,2,     -999,9,20240307,0002, -63.5301,  81.9986,     -999,9,     -999,9,-999          ,9,-999          ,9,-999          ,9
325020240221  ,I08        ,13      ,  1,25         ,25         ,2,20240306,2222, -63.5301,  81.9986,     3368,    403.5,   1.9753,  34.6934,2,  34.6944,2,    174.6,2,    174.9,2,    85.91,2,     0.00,2,    32.59,2,     0.00,2,     2.26,2,    0.517,2,    0.243,2,    0.023,2,   0.1560,2,     -999,9,     -999,9,     -999,9,     -999,     -999,9,   1.9743,2,     -999,9,     -999,     -999,9,     -999,9,     -999,9,     -999,9,     -999,9,     -999,9,   0.0175,1,   4.6313,1,     14.7,2,     -999,9,20240306,2359, -63.5301,  81.9986,     -999,9,     -999,9,-999          ,9,-999          ,9,-999          ,9
325020240221  ,I08        ,13      ,  1,24         ,24         ,2,20240306,2222, -63.5301,  81.9986,     3368,    456.1,   1.9843,  34.7087,2,  34.7101,2,    178.4,2,    178.7,2,    84.94,2,     0.00,2,    32.04,2,     0.00,2,     2.21,2,    0.451,2,    0.213,2,    0.019,2,   0.0450,2,   2256.5,3,   2344.8,2,   7.5748,2,    25.00,     -999,9,   1.9841,2,     -999,9,     -999,     -999,9,     -999,9,     -999,9,     -999,9,     -999,9,     -999,9,   0.0178,1,   4.6311,1,     14.3,2,     -999,9,20240306,2356, -63.5301,  81.9986,     -999,9,     -999,9,-999          ,9,-999          ,9,-999          ,9
325020240221  ,I08        ,13      ,  1,23         ,37         ,2,20240306,2222, -63.5301,  81.9986,     3368,    506.0,   1.9257,  34.7137,2,  34.7138,2,    179.7,2,    180.1,2,    86.30,2,     0.00,2,    32.08,2,     0.00,2,     2.21,2,    0.440,2,    0.203,2,    0.019,2,   0.0800,2,     -999,9,     -999,9,     -999,9,     -999,     -999,9,   1.9255,2,     -999,9,     -999,     -999,9,     -999,9,     -999,9,     -999,9,     -999,9,     -999,9,   0.0177,1,   4.6299,1,     13.6,2,     -999,9,20240306,2353, -63.5301,  81.9986,     -999,9,     -999,9,-999          ,9,-999          ,9,-999          ,9
325020240221  ,I08        ,13      ,  1,22         ,22         ,2,20240306,2222, -63.5301,  81.9986,     3368,    607.3,   1.8657,  34.7278,2,  34.7290,2,    185.0,2,    185.1,2,    87.38,2,     0.00,2,    31.63,2,     0.00,2,     2.15,2,    0.400,2,    0.184,2,    0.017,2,   0.0310,2,   2250.9,3,   2348.2,2,   7.5884,2,    25.04,     -999,9,   1.8653,2,     -999,9,     -999,     -999,9,     -999,9,     -999,9,     -999,9,     -999,9,     -999,9,   0.0176,1,   4.6289,1,     13.5,2,     -999,9,20240306,2349, -63.5301,  81.9986,     -999,9,     -999,9,-999          ,9,-999          ,9,-999          ,9
325020240221  ,I08        ,13      ,  1,21         ,21         ,2,20240306,2222, -63.5301,  81.9986,     3368,    706.9,   1.8121,  34.7383,2,  34.7392,2,    190.0,2,    190.4,2,    87.47,2,     0.00,2,    31.04,2,     0.00,2,     2.12,2,    0.336,2,    0.155,2,    0.014,2,   0.0290,2,     -999,9,     -999,9,     -999,9,     -999,     -999,9,   1.8112,2,     -999,9,     -999,     -999,9,     -999,9,     -999,9,     -999,9,     -999,9,     -999,9,   0.0177,1,   4.6287,1,      9.8,4,     -999,9,20240306,2345, -63.5301,  81.9986,     -999,9,     -999,9,-999          ,9,-999          ,9,-999          ,9
325020240221  ,I08        ,13      ,  1,20         ,20         ,2,20240306,2222, -63.5301,  81.9986,     3368,    808.4,   1.7319,  34.7420,2,  34.7423,2,    193.2,2,    193.1,2,    88.74,2,     0.00,2,    30.81,2,     0.00,2,     2.11,2,    0.320,2,    0.152,2,    0.013,2,  -0.0070,2,   2247.1,3,   2349.4,2,   7.6036,2,    25.05,     -999,9,   1.7317,2,     -999,9,     -999,     -999,9,     -999,9,     -999,9,     -999,9,     -999,9,     -999,9,   0.0177,1,   4.6274,1,     13.4,2,     -999,9,20240306,2341, -63.5301,  81.9986,     -999,9,     -999,9,-999          ,9,-999          ,9,-999          ,9
325020240221  ,I08        ,13      ,  1,19         ,19         ,2,20240306,2222, -63.5301,  81.9986,     3368,    911.9,   1.6505,  34.7442,2,  34.7506,2,    196.2,2,    195.8,2,    90.11,2,     0.03,2,    30.62,2,     0.00,2,     2.08,2,    0.308,2,    0.144,2,    0.015,2,   0.0200,2,     -999,9,     -999,9,     -999,9,     -999,     -999,9,   1.6503,2,     -999,9,     -999,     -999,9,     -999,9,     -999,9,     -999,9,     -999,9,     -999,9,   0.0179,1,   4.6263,1,     13.4,2,     -999,9,20240306,2338, -63.5301,  81.9986,     -999,9,     -999,9,-999          ,9,-999          ,9,-999          ,9
325020240221  ,I08        ,13      ,  1,18         ,18         ,4,20240306,2222, -63.5301,  81.9986,     3368,   1012.4,   1.5330,  34.7400,3,  34.7412,3,    196.7,3,     -999,9,     -999,9,     -999,9,     -999,9,     -999,9,     -999,9,     -999,9,     -999,9,     -999,9,     -999,9,     -999,9,     -999,9,     -999,9,     -999,     -999,9,   1.5323,3,     -999,9,     -999,     -999,9,     -999,9,     -999,9,     -999,9,     -999,9,     -999,9,   0.0181,1,   4.6252,1,     -999,9,     -999,9,20240306,2334, -63.5301,  81.9986,     -999,9,     -999,9,-999          ,9,-999          ,9,-999          ,9
325020240221  ,I08        ,13      ,  1,17         ,17         ,2,20240306,2222, -63.5301,  81.9986,     3368,   1114.4,   1.4296,  34.7378,2,  34.7390,2,    199.0,2,    199.0,2,    95.28,2,     0.03,2,    30.74,2,     0.00,2,     2.09,2,    0.323,2,    0.155,2,    0.012,2,   0.0410,2,     -999,9,     -999,9,     -999,9,     -999,     -999,9,   1.4301,2,     -999,9,     -999,     -999,9,     -999,9,     -999,9,     -999,9,     -999,9,     -999,9,   0.0195,1,   4.6235,1,     13.3,2,     -999,9,20240306,2331, -63.5301,  81.9985,     -999,9,     -999,9,-999          ,9,-999          ,9,-999          ,9
325020240221  ,I08        ,13      ,  1,16         ,16         ,2,20240306,2222, -63.5301,  81.9986,     3368,   1215.4,   1.3453,  34.7352,2,  34.7362,2,    200.5,2,    200.5,2,    97.53,2,     0.00,2,    30.74,2,     0.00,2,     2.10,2,    0.335,2,    0.154,2,    0.013,2,   0.0250,2,   2251.6,3,   2353.7,2,   7.6070,2,    25.05,     -999,9,   1.3459,2,     -999,9,     -999,     -999,9,     -999,9,     -999,9,     -999,9,     -999,9,     -999,9,   0.0176,1,   4.6227,1,     13.1,2,     -999,9,20240306,2328, -63.5301,  81.9986,     -999,9,     -999,9,-999          ,9,-999          ,9,-999          ,9
325020240221  ,I08        ,13      ,  1,15         ,15         ,2,20240306,2222, -63.5301,  81.9986,     3368,   1316.4,   1.2500,  34.7304,2,  34.7337,2,    201.5,2,    201.3,2,   100.55,2,     0.00,2,    30.82,2,     0.00,2,     2.11,2,    0.364,2,    0.164,2,    0.012,2,   0.0240,2,     -999,9,     -999,9,     -999,9,     -999,     -999,9,   1.2500,2,     -999,9,     -999,     -999,9,     -999,9,     -999,9,     -999,9,     -999,9,     -999,9,   0.0171,1,   4.6214,1,     13.1,2,     -999,9,20240306,2323, -63.5301,  81.9986,     -999,9,     -999,9,-999          ,9,-999          ,9,-999          ,9
325020240221  ,I08        ,13      ,  1,14         ,14         ,2,20240306,2222, -63.5301,  81.9986,     3368,   1418.3,   1.1591,  34.7265,2,  34.7284,2,    202.8,2,    202.6,2,   103.00,2,     0.00,2,    30.89,2,     0.00,2,     2.13,2,    0.352,2,    0.162,2,    0.013,2,   0.0190,2,   2251.9,3,   2356.1,2,   7.6083,2,    25.00,     -999,9,   1.1606,2,     -999,9,     -999,     -999,9,     -999,9,     -999,9,     -999,9,     -999,9,     -999,9,   0.0178,1,   4.6201,1,     13.1,2,     -999,9,20240306,2319, -63.5301,  81.9986,     -999,9,     -999,9,-999          ,9,-999          ,9,-999          ,9
325020240221  ,I08        ,13      ,  1,13         ,13         ,2,20240306,2222, -63.5301,  81.9986,     3368,   1519.1,   1.0783,  34.7221,2,  34.7233,2,    203.7,2,    203.3,2,   104.95,2,     0.00,2,    31.05,2,     0.00,2,     2.15,2,    0.368,2,    0.171,2,    0.013,2,   0.0150,2,     -999,9,     -999,9,     -999,9,     -999,     -999,9,   1.0777,2,     -999,9,     -999,     -999,9,     -999,9,     -999,9,     -999,9,     -999,9,     -999,9,   0.0171,1,   4.6193,1,     13.0,2,     -999,9,20240306,2316, -63.5301,  81.9986,     -999,9,     -999,9,-999          ,9,-999          ,9,-999          ,9
325020240221  ,I08        ,13      ,  1,12         ,12         ,2,20240306,2222, -63.5301,  81.9986,     3368,   1622.6,   0.9869,  34.7169,2,  34.7184,2,    204.3,2,    204.3,2,   107.88,2,     0.00,2,    31.34,2,     0.00,2,     2.17,2,    0.397,2,    0.181,2,    0.015,2,   0.0950,2,   2254.5,3,   2357.4,2,   7.6036,6,    24.96,     -999,9,   0.9870,2,     -999,9,     -999,     -999,9,     -999,9,     -999,9,     -999,9,     -999,9,     -999,9,   0.0180,1,   4.6178,1,     13.0,2,     -999,9,20240306,2312, -63.5301,  81.9985,     -999,9,     -999,9,-999          ,9,-999          ,9,-999          ,9
325020240221  ,I08        ,13      ,  1,11         ,11         ,2,20240306,2222, -63.5301,  81.9986,     3368,   1723.3,   0.8996,  34.7111,2,  34.7119,2,    204.9,2,    205.3,2,   110.22,2,     0.02,2,    31.67,2,     0.00,2,     2.19,2,    0.421,2,    0.198,2,    0.016,2,   0.0460,2,     -999,9,     -999,9,     -999,9,     -999,     -999,9,   0.8991,2,     -999,9,     -999,     -999,9,     -999,9,     -999,9,     -999,9,     -999,9,     -999,9,   0.0180,1,   4.6176,1,     12.9,2,     -999,9,20240306,2309, -63.5301,  81.9986,     -999,9,     -999,9,-999          ,9,-999          ,9,-999          ,9
325020240221  ,I08        ,13      ,  1,10         ,10         ,2,20240306,2222, -63.5301,  81.9986,     3368,   1823.7,   0.8374,  34.7075,2,  34.7081,2,    205.3,2,    205.1,2,   112.17,2,     0.00,2,    31.97,2,     0.00,2,     2.22,2,    0.431,2,    0.198,2,    0.015,2,   0.0940,2,   2256.6,3,   2357.9,2,   7.5983,2,    24.95,     -999,9,   0.8370,2,     -999,9,     -999,     -999,9,     -999,9,     -999,9,     -999,9,     -999,9,     -999,9,   0.0181,1,   4.6166,1,     13.3,2,     -999,9,20240306,2305, -63.5301,  81.9986,     -999,9,     -999,9,-999          ,9,-999          ,9,-999          ,9
325020240221  ,I08        ,13      ,  1,9          ,9          ,2,20240306,2222, -63.5301,  81.9986,     3368,   2029.1,   0.7087,  34.7001,2,  34.7011,2,    206.4,2,    206.0,2,   116.47,2,     0.03,2,    32.33,2,     0.00,2,     2.23,2,    0.472,2,    0.214,2,    0.015,2,   0.0140,2,   2259.9,3,   2355.8,2,   7.5949,2,    24.98,     -999,9,   0.7086,2,     -999,9,     -999,     -999,9,     -999,9,     -999,9,     -999,9,     -999,9,     -999,9,   0.0181,1,   4.6154,1,     13.0,2,     -999,9,20240306,2300, -63.5301,  81.9986,     -999,9,     -999,9,-999          ,9,-999          ,9,-999          ,9
325020240221  ,I08        ,13      ,  1,8          ,8          ,2,20240306,2222, -63.5301,  81.9986,     3368,   2233.8,   0.5914,  34.6938,2,  34.6954,2,    207.9,2,    208.8,2,   119.99,2,     0.02,2,    32.66,2,     0.00,2,     2.26,2,    0.470,2,    0.213,2,    0.017,2,   0.0350,2,     -999,9,     -999,9,     -999,9,     -999,     -999,9,   0.5913,2,     -999,9,     -999,     -999,9,     -999,9,     -999,9,     -999,9,     -999,9,     -999,9,   0.0181,1,   4.6147,1,     13.1,2,     -999,9,20240306,2254, -63.5301,  81.9986,     -999,9,     -999,9,-999          ,9,-999          ,9,-999          ,9
325020240221  ,I08        ,13      ,  1,7          ,7          ,2,20240306,2222, -63.5301,  81.9986,     3368,   2437.9,   0.4900,  34.6893,2,  34.6899,2,    210.3,2,    210.4,2,   123.70,2,     0.02,2,    32.89,2,     0.00,2,     2.27,2,    0.444,2,    0.196,2,    0.014,2,   0.0490,2,   2259.3,3,   2357.2,2,   7.5926,6,    24.98,     -999,9,   0.4899,2,     -999,9,     -999,     -999,9,     -999,9,     -999,9,     -999,9,     -999,9,     -999,9,   0.0181,1,   4.6141,1,     13.0,2,     -999,9,20240306,2248, -63.5301,  81.9985,     -999,9,     -999,9,-999          ,9,-999          ,9,-999          ,9
325020240221  ,I08        ,13      ,  1,6          ,6          ,2,20240306,2222, -63.5301,  81.9986,     3368,   2641.3,   0.3926,  34.6834,2,  34.6851,2,    212.5,2,    212.4,2,   125.26,2,     0.02,2,    33.13,2,     0.00,2,     2.29,2,    0.494,2,    0.231,2,    0.018,2,   0.0690,2,     -999,9,     -999,9,     -999,9,     -999,     -999,9,   0.3919,2,     -999,9,     -999,     -999,9,     -999,9,     -999,9,     -999,9,     -999,9,     -999,9,   0.0178,1,   4.6130,1,     12.8,2,     -999,9,20240306,2243, -63.5301,  81.9986,     -999,9,     -999,9,-999          ,9,-999          ,9,-999          ,9