BOTTLE,20240417CCHHYDRO
EXPOCODE,SECT_ID,STNNBR,CASTNO,SAMPNO,BTLNBR,BTLNBR_FLAG_W,DATE,TIME,LATITUDE,LONGITUDE,DEPTH,CTDPRS,CTDTMP,CTDSAL,CTDSAL_FLAG_W,SALNTY,SALNTY_FLAG_W,CTDOXY,CTDOXY_FLAG_W,OXYGEN,OXYGEN_FLAG_W,SILCAT,SILCAT_FLAG_W,NH4,NH4_FLAG_W,NITRAT,NITRAT_FLAG_W,NITRIT,NITRIT_FLAG_W,PHSPHT,PHSPHT_FLAG_W,CFC-11,CFC-11_FLAG_W,CFC-12,CFC-12_FLAG_W,CFC113,CFC113_FLAG_W,SF6,SF6_FLAG_W,TCARBN,TCARBN_FLAG_W,ALKALI,ALKALI_FLAG_W,PH_TOT,PH_TOT_FLAG_W,PH_TMP,DOC,DOC_FLAG_W,REFTMP,REFTMP_FLAG_W,DELC14,DELC14_FLAG_W,C14ERR,POC,POC_FLAG_W,PON,PON_FLAG_W,POP,POP_FLAG_W,PCOD,PCOD_FLAG_W,DOP,DOP_FLAG_W,TDN,TDN_FLAG_W,CTDFLUOR,CTDFLUOR_FLAG_W,CTDXMISS,CTDXMISS_FLAG_W,N2O,N2O_FLAG_W,ARGON,ARGON_FLAG_W,BTL_DATE,BTL_TIME,BTL_LAT,BTL_LON,KRYPTON,KRYPTON_FLAG_W,XENON,XENON_FLAG_W,HPLC,HPLC_FLAG_W,DNA,DNA_FLAG_W,FCM,FCM_FLAG_W
,,,,,,,,,,,METERS,DBAR,ITS-90,PSS-78,,PSS-78,,UMOL/KG,,UMOL/KG,,UMOL/KG,,UMOL/KG,,UMOL/KG,,UMOL/KG,,UMOL/KG,,PMOL/KG,,PMOL/KG,,PMOL/KG,,FMOL/KG,,UMOL/KG,,UMOL/KG,,,,DEG C,UMOL/KG,,ITS-90,,/MILLE,,/MILLE,UG/KG,,UG/KG,,UG/L,,UG/L,,UMOL/KG,,UMOL/KG,,VOLTS,,VOLTS,,NMOL/KG,,UMOL/L,,,,,,NMOL/L,,NMOL/L,,,,,,,
325020240221  ,I08        ,40      ,  1,36         ,36         ,2,20240319,2308, -46.4990,  93.7129,     3319,      5.6,   9.2286,  33.8096,2,  33.8124,2,    282.8,2,    283.1,2,     0.88,2,     0.50,2,    16.06,2,     0.19,2,     1.27,2,    3.416,2,    2.006,2,    0.000,4,   3.3160,2,   2102.1,3,   2270.2,2,   7.7966,6,    25.03,     -999,1,   9.2301,2,     -999,9,     -999,     -999,9,     -999,9,     -999,9,     -999,9,     -999,9,     -999,1,   0.0284,1,   4.5829,1,     10.3,2,     -999,9,20240320,0120, -46.4990,  93.7129,     -999,9,     -999,9,-999          ,9,-999          ,9,-999          ,9
325020240221  ,I08        ,40      ,  1,35         ,35         ,2,20240319,2308, -46.4990,  93.7129,     3319,     24.6,   9.2340,  33.8097,2,  33.8106,2,    282.8,2,    282.0,2,     0.78,2,     0.46,2,    16.12,2,     0.20,2,     1.26,2,    3.203,4,    2.006,2,    0.000,4,   3.4460,2,   2105.3,3,   2269.7,2,   7.7976,2,    25.01,     -999,1,   9.2341,2,     -999,9,     -999,     -999,9,     -999,9,     -999,9,     -999,9,     -999,9,     -999,1,   0.0476,1,   4.5826,1,     10.5,2,     -999,9,20240320,0117, -46.4990,  93.7129,     -999,9,     -999,9,-999          ,9,-999          ,9,-999          ,9
325020240221  ,I08        ,40      ,  1,34         ,34         ,2,20240319,2308, -46.4990,  93.7129,     3319,     49.3,   9.2385,  33.8098,2,  33.8104,2,    282.6,2,    282.9,2,     0.78,2,     0.46,2,    16.14,2,     0.20,2,     1.26,2,     -999,9,     -999,9,     -999,9,     -999,9,   2103.5,3,   2270.3,6,   7.7965,2,    25.04,     -999,1,   9.2383,2,     -999,9,     -999,     -999,9,     -999,9,     -999,9,     -999,9,     -999,9,     -999,1,   0.0520,1,   4.5835,1,     -999,9,     -999,9,20240320,0115, -46.4990,  93.7128,     -999,9,     -999,9,-999          ,9,-999          ,9,-999          ,9
325020240221  ,I08        ,40      ,  1,33         ,33         ,2,20240319,2308, -46.4990,  93.7129,     3319,     75.0,   9.2352,  33.8168,2,  33.8177,2,    281.7,2,    282.0,2,     0.78,2,     0.50,2,    16.09,2,     0.20,2,     1.23,2,    3.474,2,    2.011,2,    0.000,4,   3.3300,2,   2106.5,3,   2270.8,2,   7.7962,6,    25.03,     -999,1,   9.2341,2,     -999,9,     -999,     -999,9,     -999,9,     -999,9,     -999,9,     -999,9,     -999,1,   0.0544,1,   4.5924,1,     10.6,2,     -999,9,20240320,0113, -46.4989,  93.7129,     -999,9,     -999,9,-999          ,9,-999          ,9,-999          ,9
325020240221  ,I08        ,40      ,  1,32         ,32         ,2,20240319,2308, -46.4990,  93.7129,     3319,     99.8,   9.1703,  33.8144,2,  33.8161,2,    281.1,2,    281.9,2,     0.78,2,     0.70,2,    16.22,2,     0.20,2,     1.24,2,     -999,9,     -999,9,     -999,9,     -999,9,   2106.7,3,   2269.9,2,   7.7940,2,    25.02,     -999,1,   9.1738,2,     -999,9,     -999,     -999,9,     -999,9,     -999,9,     -999,9,     -999,9,     -999,1,   0.0458,1,   4.5957,1,     -999,9,     -999,9,20240320,0111, -46.4989,  93.7130,     -999,9,     -999,9,-999          ,9,-999          ,9,-999          ,9
325020240221  ,I08        ,40      ,  1,31         ,31         ,2,20240319,2308, -46.4990,  93.7129,     3319,    125.1,   7.1596,  33.8422,2,  33.8439,2,    287.7,2,    287.2,2,     1.27,2,     1.80,2,    17.48,2,     0.44,2,     1.45,2,    3.938,2,    2.209,2,    0.000,4,   3.4280,2,   2123.4,3,   2273.4,2,   7.7614,2,    25.04,     -999,1,   7.1590,2,     -999,9,     -999,     -999,9,     -999,9,     -999,9,     -999,9,     -999,9,     -999,1,   0.0321,1,   4.5829,1,     11.8,2,     -999,9,20240320,0109, -46.4990,  93.7129,     -999,9,     -999,9,-999          ,9,-999          ,9,-999          ,9
325020240221  ,I08        ,40      ,  1,30         ,30         ,2,20240319,2308, -46.4990,  93.7129,     3319,    151.0,   5.9426,  33.8501,2,  33.8582,2,    286.0,2,    284.9,2,     4.79,2,     0.03,2,    22.01,2,     0.68,2,     1.64,2,     -999,9,     -999,9,     -999,9,     -999,9,     -999,9,     -999,9,     -999,9,     -999,     -999,1,   5.9449,2,     -999,9,     -999,     -999,9,     -999,9,     -999,9,     -999,9,     -999,9,     -999,1,   0.0207,1,   4.4328,1,     -999,9,     -999,9,20240320,0107, -46.4990,  93.7129,     -999,9,     -999,9,-999          ,9,-999          ,9,-999          ,9
325020240221  ,I08        ,40      ,  1,29         ,29         ,2,20240319,2308, -46.4990,  93.7129,     3319,    176.4,   4.9194,  33.8281,2,  33.8331,2,    288.8,2,    289.0,2,     8.99,2,     0.02,2,    24.81,2,     0.00,2,     1.79,2,    4.864,2,    2.659,2,    0.000,4,   3.6750,2,   2148.8,3,   2270.4,2,   7.6836,2,    25.04,     -999,1,   4.9151,2,     -999,9,     -999,     -999,9,     -999,9,     -999,9,     -999,9,     -999,9,     -999,1,   0.0195,1,   4.6724,1,     12.7,2,     -999,9,20240320,0105, -46.4990,  93.7129,     -999,9,     -999,9,-999          ,9,-999          ,9,-999          ,9
325020240221  ,I08        ,40      ,  1,28         ,28         ,2,20240319,2308, -46.4990,  93.7129,     3319,    201.2,   4.5279,  33.8521,2,  33.8549,2,    291.6,2,    291.6,2,    10.74,2,     0.01,2,    25.13,2,     0.00,2,     1.81,2,     -999,9,     -999,9,     -999,9,     -999,9,     -999,9,     -999,9,     -999,9,     -999,     -999,1,   4.5255,2,     -999,9,     -999,     -999,9,     -999,9,     -999,9,     -999,9,     -999,9,     -999,1,   0.0183,1,   4.6740,1,     -999,9,     -999,9,20240320,0103, -46.4990,  93.7129,     -999,9,     -999,9,-999          ,9,-999          ,9,-999          ,9
325020240221  ,I08        ,40      ,  1,27         ,27         ,2,20240319,2308, -46.4990,  93.7129,     3319,    250.7,   3.8412,  33.8451,2,  33.8470,2,    294.5,2,    295.7,2,    12.99,2,     0.01,2,    26.01,2,     0.00,2,     1.87,2,    4.714,2,    2.630,2,    0.000,4,   3.5900,2,   2156.3,3,   2277.2,2,   7.6710,2,    25.04,     -999,1,   3.8304,2,     -999,9,     -999,     -999,9,     -999,9,     -999,9,     -999,9,     -999,9,     -999,1,   0.0183,1,   4.6654,1,     13.2,2,     -999,9,20240320,0101, -46.4990,  93.7130,     -999,9,     -999,9,-999          ,9,-999          ,9,-999          ,9
325020240221  ,I08        ,40      ,  1,26         ,26         ,2,20240319,2308, -46.4990,  93.7129,     3319,    301.8,   3.3573,  33.9051,2,  33.9066,2,    290.1,2,    291.3,2,    17.68,2,     0.00,2,    27.36,2,     0.00,2,     1.95,2,     -999,9,     -999,9,     -999,9,     -999,9,     -999,9,     -999,9,     -999,9,     -999,     -999,1,   3.3577,2,     -999,9,     -999,     -999,9,     -999,9,     -999,9,     -999,9,     -999,9,     -999,1,   0.0183,1,   4.6605,1,     -999,9,     -999,9,20240320,0058, -46.4990,  93.7129,     -999,9,     -999,9,-999          ,9,-999          ,9,-999          ,9
325020240221  ,I08        ,40      ,  1,25         ,25         ,2,20240319,2308, -46.4990,  93.7129,     3319,    353.5,   3.1218,  33.9881,2,  33.9884,2,    279.7,2,    280.8,2,    21.29,2,     0.01,2,    28.44,2,     0.00,2,     2.03,2,    4.601,2,    2.613,2,    0.000,4,   3.0190,2,   2178.9,3,   2279.2,2,   7.6320,2,    25.02,     -999,1,   3.1240,2,     -999,9,     -999,     -999,9,     -999,9,     -999,9,     -999,9,     -999,9,     -999,1,   0.0183,1,   4.6356,1,     15.0,2,     -999,9,20240320,0056, -46.4990,  93.7130,     -999,9,     -999,9,-999          ,9,-999          ,9,-999          ,9
325020240221  ,I08        ,40      ,  1,24         ,24         ,2,20240319,2308, -46.4990,  93.7129,     3319,    404.0,   2.7631,  34.0271,2,  34.0243,2,    273.2,2,    275.3,2,    26.07,2,     0.00,2,    29.47,2,     0.00,2,     2.11,2,     -999,9,     -999,9,     -999,9,     -999,9,     -999,9,     -999,9,     -999,9,     -999,     -999,1,   2.7561,2,     -999,9,     -999,     -999,9,     -999,9,     -999,9,     -999,9,     -999,9,     -999,1,   0.0176,1,   4.6569,1,     -999,9,     -999,9,20240320,0054, -46.4991,  93.7129,     -999,9,     -999,9,-999          ,9,-999          ,9,-999          ,9
325020240221  ,I08        ,40      ,  1,23         ,37         ,2,20240319,2308, -46.4990,  93.7129,     3319,    453.1,   3.2234,  34.1544,2,  34.1546,2,    248.2,3,    245.5,2,    29.58,2,     0.00,2,    30.28,2,     0.00,2,     2.19,2,    3.637,2,    2.186,2,    0.000,4,   2.1640,2,   2196.2,3,   2287.3,2,   7.6037,2,    25.01,     -999,1,   3.2214,2,     -999,9,     -999,     -999,9,     -999,9,     -999,9,     -999,9,     -999,9,     -999,1,   0.0183,1,   4.6594,1,     16.4,2,     -999,9,20240320,0051, -46.4992,  93.7129,     -999,9,     -999,9,-999          ,9,-999          ,9,-999          ,9
325020240221  ,I08        ,40      ,  1,22         ,22         ,2,20240319,2308, -46.4990,  93.7129,     3319,    502.8,   2.8331,  34.1622,2,  34.1622,2,    243.1,2,    242.0,2,    34.56,2,     0.01,2,    31.31,2,     0.00,2,     2.24,2,     -999,9,     -999,9,     -999,9,     -999,9,     -999,9,     -999,9,     -999,9,     -999,     -999,1,   2.8471,2,     -999,9,     -999,     -999,9,     -999,9,     -999,9,     -999,9,     -999,9,     -999,1,   0.0183,1,   4.6583,1,     -999,9,     -999,9,20240320,0048, -46.4992,  93.7129,     -999,9,     -999,9,-999          ,9,-999          ,9,-999          ,9
325020240221  ,I08        ,40      ,  1,21         ,21         ,2,20240319,2308, -46.4990,  93.7129,     3319,    604.9,   3.1363,  34.3089,2,  34.3089,2,    208.3,2,    207.4,2,    43.93,2,     0.00,2,    32.55,2,     0.00,2,     2.33,2,    2.257,2,    1.436,2,    0.000,4,   1.1900,2,   2215.3,3,   2302.9,2,   7.5759,2,    25.02,     -999,1,   3.1381,2,     -999,9,     -999,     -999,9,     -999,9,     -999,9,     -999,9,     -999,9,     -999,1,   0.0183,1,   4.6605,1,     11.0,2,     -999,9,20240320,0045, -46.4993,  93.7128,     -999,9,     -999,9,-999          ,9,-999          ,9,-999          ,9
325020240221  ,I08        ,40      ,  1,20         ,20         ,2,20240319,2308, -46.4990,  93.7129,     3319,    706.2,   3.0712,  34.3752,2,  34.3784,2,    194.1,2,    193.4,2,    50.76,2,     0.00,2,    33.24,2,     0.00,2,     2.40,2,     -999,9,     -999,9,     -999,9,     -999,9,     -999,9,     -999,9,     -999,9,     -999,     -999,1,   3.0711,2,     -999,9,     -999,     -999,9,     -999,9,     -999,9,     -999,9,     -999,9,     -999,1,   0.0183,1,   4.6597,1,     -999,9,     -999,9,20240320,0041, -46.4993,  93.7129,     -999,9,     -999,9,-999          ,9,-999          ,9,-999          ,9
325020240221  ,I08        ,40      ,  1,19         ,19         ,2,20240319,2308, -46.4990,  93.7129,     3319,    806.6,   2.8759,  34.4201,2,  34.4216,2,    186.5,2,    185.8,2,    57.21,2,     0.00,2,    33.81,2,     0.00,2,     2.43,2,    1.282,2,    0.860,2,    0.000,4,   0.6080,2,   2239.1,3,   2315.3,2,   7.5582,6,    25.04,     -999,1,   2.8731,2,     -999,9,     -999,     -999,9,     -999,9,     -999,9,     -999,9,     -999,9,     -999,1,   0.0180,1,   4.6580,1,     20.9,2,     -999,9,20240320,0036, -46.4993,  93.7128,     -999,9,     -999,9,-999          ,9,-999          ,9,-999          ,9
325020240221  ,I08        ,40      ,  1,18         ,18         ,2,20240319,2308, -46.4990,  93.7129,     3319,    908.4,   2.8927,  34.4832,2,  34.4846,2,    178.0,2,    177.7,2,    61.99,2,     0.03,2,    33.90,2,     0.00,2,     2.42,2,     -999,9,     -999,9,     -999,9,     -999,9,   2239.9,3,   2321.6,2,   7.5591,2,    25.03,     -999,1,   2.8931,2,     -999,9,     -999,     -999,9,     -999,9,     -999,9,     -999,9,     -999,9,     -999,1,   0.0183,1,   4.6569,1,     -999,9,     -999,9,20240320,0033, -46.4992,  93.7128,     -999,9,     -999,9,-999          ,9,-999          ,9,-999          ,9
325020240221  ,I08        ,40      ,  1,17         ,17         ,2,20240319,2308, -46.4990,  93.7129,     3319,   1010.9,   2.8178,  34.5374,2,  34.5400,2,    174.0,2,    174.4,2,    65.79,2,     0.00,2,    33.74,2,     0.00,2,     2.41,2,    0.554,4,    0.428,2,    0.000,4,   0.2960,2,   2244.0,3,   2327.6,2,   7.5623,2,    25.00,     -999,1,   2.8180,2,     -999,9,     -999,     -999,9,     -999,9,     -999,9,     -999,9,     -999,9,     -999,1,   0.0183,1,   4.6568,1,     21.0,2,     -999,9,20240320,0029, -46.4991,  93.7126,     -999,9,     -999,9,-999          ,9,-999          ,9,-999          ,9
325020240221  ,I08        ,40      ,  1,16         ,16         ,2,20240319,2308, -46.4990,  93.7129,     3319,   1111.8,   2.7199,  34.5715,2,  34.5714,2,    173.4,2,    173.9,2,    68.23,2,     0.03,2,    33.46,2,     0.00,2,     2.40,2,     -999,9,     -999,9,     -999,9,     -999,9,   2250.1,3,   2331.6,2,   7.5639,2,    25.02,     -999,1,   2.7199,2,     -999,9,     -999,     -999,9,     -999,9,     -999,9,     -999,9,     -999,9,     -999,1,   0.0183,1,   4.6556,1,     -999,9,     -999,9,20240320,0026, -46.4991,  93.7127,     -999,9,     -999,9,-999          ,9,-999          ,9,-999          ,9
325020240221  ,I08        ,40      ,  1,15         ,15         ,2,20240319,2308, -46.4990,  93.7129,     3319,   1212.2,   2.6497,  34.6062,2,  34.6075,2,    174.1,2,    174.2,2,    70.28,2,     0.02,2,    33.07,2,     0.00,2,     2.35,2,    0.283,4,    0.285,2,    0.000,4,   0.1220,2,   2248.5,3,   2332.7,2,   7.5698,2,    25.04,     -999,1,   2.6495,2,     -999,9,     -999,     -999,9,     -999,9,     -999,9,     -999,9,     -999,9,     -999,1,   0.0183,1,   4.6544,1,     20.4,2,     -999,9,20240320,0022, -46.4990,  93.7128,     -999,9,     -999,9,-999          ,9,-999          ,9,-999          ,9
325020240221  ,I08        ,40      ,  1,14         ,14         ,2,20240319,2308, -46.4990,  93.7129,     3319,   1314.3,   2.5805,  34.6422,2,  34.6403,2,    176.1,2,    176.0,2,    71.74,2,     0.01,2,    32.52,2,     0.00,2,     2.30,2,     -999,9,     -999,9,     -999,9,     -999,9,     -999,9,     -999,9,     -999,9,     -999,     -999,1,   2.5815,2,     -999,9,     -999,     -999,9,     -999,9,     -999,9,     -999,9,     -999,9,     -999,1,   0.0183,1,   4.6544,1,     -999,9,     -999,9,20240320,0018, -46.4991,  93.7128,     -999,9,     -999,9,-999          ,9,-999          ,9,-999          ,9
325020240221  ,I08        ,40      ,  1,13         ,13         ,2,20240319,2308, -46.4990,  93.7129,     3319,   1414.6,   2.5365,  34.6705,2,  34.6706,2,    179.0,2,    179.5,2,    72.52,2,     0.00,2,    31.85,2,     0.00,2,     2.25,2,    0.146,4,    0.181,2,    0.000,4,   0.0230,2,   2249.8,3,   2338.0,2,   7.5838,2,    25.03,     -999,1,   2.5365,2,     -999,9,     -999,     -999,9,     -999,9,     -999,9,     -999,9,     -999,9,     -999,1,   0.0183,1,   4.6543,1,     19.5,2,     -999,9,20240320,0014, -46.4992,  93.7129,     -999,9,     -999,9,-999          ,9,-999          ,9,-999          ,9
325020240221  ,I08        ,40      ,  1,12         ,12         ,2,20240319,2308, -46.4990,  93.7129,     3319,   1518.2,   2.4827,  34.6952,2,  34.6962,2,    182.5,2,    182.7,2,    73.10,2,     0.01,2,    31.12,2,     0.00,2,     2.19,2,     -999,9,     -999,9,     -999,9,     -999,9,     -999,9,     -999,9,     -999,9,     -999,     -999,1,   2.4828,2,     -999,9,     -999,     -999,9,     -999,9,     -999,9,     -999,9,     -999,9,     -999,1,   0.0183,1,   4.6540,1,     -999,9,     -999,9,20240320,0010, -46.4992,  93.7130,     -999,9,     -999,9,-999          ,9,-999          ,9,-999          ,9
325020240221  ,I08        ,40      ,  1,11         ,11         ,2,20240319,2308, -46.4990,  93.7129,     3319,   1618.6,   2.4072,  34.7141,2,  34.7156,2,    185.5,2,    185.8,2,    74.57,2,     0.03,2,    30.61,2,     0.00,2,     2.16,2,    0.061,4,    0.132,2,    0.000,4,   0.0800,2,   2245.1,3,   2342.2,2,   7.5999,2,    25.02,     -999,1,   2.4070,2,     -999,9,     -999,     -999,9,     -999,9,     -999,9,     -999,9,     -999,9,     -999,1,   0.0183,1,   4.6531,1,     18.7,2,     -999,9,20240320,0006, -46.4992,  93.7129,     -999,9,     -999,9,-999          ,9,-999          ,9,-999          ,9
325020240221  ,I08        ,40      ,  1,10         ,10         ,2,20240319,2308, -46.4990,  93.7129,     3319,   1720.7,   2.3648,  34.7282,2,  34.7286,2,    188.5,2,    188.6,2,    75.05,2,     0.02,2,    30.09,2,     0.00,2,     2.17,2,     -999,9,     -999,9,     -999,9,     -999,9,     -999,9,     -999,9,     -999,9,     -999,     -999,1,   2.3648,2,     -999,9,     -999,     -999,9,     -999,9,     -999,9,     -999,9,     -999,9,     -999,1,   0.0183,1,   4.6520,1,     -999,9,     -999,9,20240320,0003, -46.4993,  93.7129,     -999,9,     -999,9,-999          ,9,-999          ,9,-999          ,9
325020240221  ,I08        ,40      ,  1,9          ,9          ,2,20240319,2308, -46.4990,  93.7129,     3319,   1822.2,   2.2901,  34.7377,2,  34.7386,2,    190.7,2,    191.0,2,    77.39,2,     0.03,2,    29.81,2,     0.00,2,     2.13,2,    0.034,4,    0.101,2,    0.000,4,   0.0000,2,   2246.2,3,   2345.0,2,   7.6110,2,    25.02,     -999,1,   2.2902,2,     -999,9,     -999,     -999,9,     -999,9,     -999,9,     -999,9,     -999,9,     -999,1,   0.0189,1,   4.6508,1,     18.1,2,     -999,9,20240319,2358, -46.4993,  93.7129,     -999,9,     -999,9,-999          ,9,-999          ,9,-999          ,9
325020240221  ,I08        ,40      ,  1,8          ,8          ,2,20240319,2308, -46.4990,  93.7129,     3319,   2025.4,   2.1364,  34.7520,2,  34.7512,2,    195.2,2,    195.5,2,    81.00,2,     0.01,2,    29.54,2,     0.00,2,     2.13,2,     -999,9,     -999,9,     -999,9,     -999,9,   2237.7,3,   2348.9,2,   7.6190,2,    25.03,     -999,1,   2.1370,2,     -999,9,     -999,     -999,9,     -999,9,     -999,9,     -999,9,     -999,9,     -999,1,   0.0183,1,   4.6495,1,     -999,9,     -999,9,20240319,2352, -46.4992,  93.7129,     -999,9,     -999,9,-999          ,9,-999          ,9,-999          ,9
325020240221  ,I08        ,40      ,  1,7          ,7          ,2,20240319,2308, -46.4990,  93.7129,     3319,   2230.3,   1.9563,  34.7534,2,  34.7532,2,    197.4,2,    197.3,2,    86.76,2,     0.01,2,    29.74,2,     0.00,2,     2.13,2,    0.040,4,    0.085,2,    0.000,4,   0.0010,2,   2242.9,3,   2351.9,2,   7.6218,6,    25.03,     -999,1,   1.9581,2,     -999,9,     -999,     -999,9,     -999,9,     -999,9,     -999,9,     -999,9,     -999,1,   0.0183,1,   4.6470,1,     17.4,2,     -999,9,20240319,2346, -46.4991,  93.7130,     -999,9,     -999,9,-999          ,9,-999          ,9,-999          ,9
325020240221  ,I08        ,40      ,  1,6          ,6          ,2,20240319,2308, -46.4990,  93.7129,     3319,   2433.7,   1.7490,  34.7480,2,  34.7471,2,    199.2,2,    199.1,2,    93.20,2,     0.03,2,    30.17,2,     0.00,2,     2.17,2,     -999,9,     -999,9,     -999,9,     -999,9,     -999,9,     -999,9,     -999,9,     -999,     -999,1,   1.7487,2,     -999,9,     -999,     -999,9,     -999,9,     -999,9,     -999,9,     -999,9,     -999,1,   0.0183,1,   4.6443,1,     -999,9,     -999,9,20240319,2340, -46.4990,  93.7129,     -999,9,     -999,9,-999          ,9,-999          ,9,-999          ,9