BOTTLE,20240417CCHHYDRO
EXPOCODE,SECT_ID,STNNBR,CASTNO,SAMPNO,BTLNBR,BTLNBR_FLAG_W,DATE,TIME,LATITUDE,LONGITUDE,DEPTH,CTDPRS,CTDTMP,CTDSAL,CTDSAL_FLAG_W,SALNTY,SALNTY_FLAG_W,CTDOXY,CTDOXY_FLAG_W,OXYGEN,OXYGEN_FLAG_W,SILCAT,SILCAT_FLAG_W,NH4,NH4_FLAG_W,NITRAT,NITRAT_FLAG_W,NITRIT,NITRIT_FLAG_W,PHSPHT,PHSPHT_FLAG_W,CFC-11,CFC-11_FLAG_W,CFC-12,CFC-12_FLAG_W,CFC113,CFC113_FLAG_W,SF6,SF6_FLAG_W,TCARBN,TCARBN_FLAG_W,ALKALI,ALKALI_FLAG_W,PH_TOT,PH_TOT_FLAG_W,PH_TMP,DOC,DOC_FLAG_W,REFTMP,REFTMP_FLAG_W,DELC14,DELC14_FLAG_W,C14ERR,POC,POC_FLAG_W,PON,PON_FLAG_W,POP,POP_FLAG_W,PCOD,PCOD_FLAG_W,DOP,DOP_FLAG_W,TDN,TDN_FLAG_W,CTDFLUOR,CTDFLUOR_FLAG_W,CTDXMISS,CTDXMISS_FLAG_W,N2O,N2O_FLAG_W,ARGON,ARGON_FLAG_W,BTL_DATE,BTL_TIME,BTL_LAT,BTL_LON,KRYPTON,KRYPTON_FLAG_W,XENON,XENON_FLAG_W,HPLC,HPLC_FLAG_W,DNA,DNA_FLAG_W,FCM,FCM_FLAG_W
,,,,,,,,,,,METERS,DBAR,ITS-90,PSS-78,,PSS-78,,UMOL/KG,,UMOL/KG,,UMOL/KG,,UMOL/KG,,UMOL/KG,,UMOL/KG,,UMOL/KG,,PMOL/KG,,PMOL/KG,,PMOL/KG,,FMOL/KG,,UMOL/KG,,UMOL/KG,,,,DEG C,UMOL/KG,,ITS-90,,/MILLE,,/MILLE,UG/KG,,UG/KG,,UG/L,,UG/L,,UMOL/KG,,UMOL/KG,,VOLTS,,VOLTS,,NMOL/KG,,UMOL/L,,,,,,NMOL/L,,NMOL/L,,,,,,,
325020240221  ,I08        ,14      ,  1,5          ,5          ,2,20240307,0320, -63.2618,  82.0144,     2943,   2502.7,   0.5224,  34.6911,2,  34.6912,2,    210.0,2,    209.8,2,   128.58,2,     0.00,2,    31.85,2,     0.00,2,     2.24,2,     -999,9,     -999,9,     -999,9,     -999,9,   2262.2,3,   2359.7,2,   7.5942,2,    24.98,     -999,1,   0.5219,2,     -999,9,     -999,     -999,9,     -999,9,     -999,9,     -999,9,     -999,9,     -999,1,   0.0181,1,   4.6166,1,     -999,9,     -999,9,20240307,0334, -63.2618,  82.0143,     -999,9,     -999,9,-999          ,9,-999          ,9,-999          ,9
325020240221  ,I08        ,14      ,  1,4          ,4          ,2,20240307,0320, -63.2618,  82.0144,     2943,   2705.6,   0.4069,  34.6850,2,  34.6861,2,    212.8,2,    212.9,2,   128.19,2,     0.00,2,    32.10,2,     0.00,2,     2.27,2,     -999,9,     -999,9,     -999,9,     -999,9,   2259.8,3,   2357.1,2,   7.5937,2,    24.98,     -999,1,   0.4068,2,     -999,9,     -999,     -999,9,     -999,9,     -999,9,     -999,9,     -999,9,     -999,1,   0.0183,1,   4.6159,1,     -999,9,     -999,9,20240307,0329, -63.2618,  82.0143,     -999,9,     -999,9,-999          ,9,-999          ,9,-999          ,9
325020240221  ,I08        ,14      ,  1,3          ,3          ,2,20240307,0320, -63.2618,  82.0144,     2943,   2764.0,   0.3813,  34.6835,2,  34.6851,2,    213.4,2,    213.7,2,   128.29,2,     0.00,2,    32.33,2,     0.00,2,     2.27,2,     -999,9,     -999,9,     -999,9,     -999,9,   2260.9,3,   2357.4,2,   7.5934,6,    24.98,     -999,1,   0.3806,2,     -999,9,     -999,     -999,9,     -999,9,     -999,9,     -999,9,     -999,9,     -999,1,   0.0182,1,   4.6157,1,     -999,9,     -999,9,20240307,0326, -63.2618,  82.0143,     -999,9,     -999,9,-999          ,9,-999          ,9,-999          ,9
325020240221  ,I08        ,14      ,  1,2          ,2          ,2,20240307,0320, -63.2618,  82.0144,     2943,   2875.4,   0.3318,  34.6811,2,  34.6800,2,    214.6,2,    214.3,2,   131.61,2,     0.00,2,    32.57,2,     0.00,2,     2.27,2,     -999,9,     -999,9,     -999,9,     -999,9,   2258.0,3,   2358.9,6,   7.5935,6,    25.00,     -999,1,   0.3306,2,     -999,9,     -999,     -999,9,     -999,9,     -999,9,     -999,9,     -999,9,     -999,1,   0.0183,1,   4.6162,1,     -999,9,     -999,9,20240307,0323, -63.2618,  82.0144,     -999,9,     -999,9,-999          ,9,-999          ,9,-999          ,9
325020240221  ,I08        ,14      ,  1,1          ,1          ,2,20240307,0320, -63.2618,  82.0144,     2943,   2979.0,   0.2634,  34.6781,2,  34.6798,2,    216.2,2,    216.1,2,   137.08,2,     0.00,2,    32.76,2,     0.00,2,     2.29,2,     -999,9,     -999,9,     -999,9,     -999,9,   2260.3,3,   2356.5,2,   7.5926,2,    24.96,     -999,1,   0.2628,2,     -999,9,     -999,     -999,9,     -999,9,     -999,9,     -999,9,     -999,9,     -999,1,   0.0183,1,   4.6167,1,     -999,9,     -999,9,20240307,0320, -63.2618,  82.0144,     -999,9,     -999,9,-999          ,9,-999          ,9,-999          ,9
325020240221  ,I08        ,15      ,  1,32         ,32         ,2,20240307,0756, -62.9681,  81.9656,     -999,      2.6,   0.7285,  33.7656,2,     -999,9,    331.9,2,     -999,9,     -999,9,     -999,9,     -999,9,     -999,9,     -999,9,     -999,9,     -999,9,     -999,9,     -999,9,     -999,9,     -999,9,     -999,9,     -999,     -999,9,     -999,1,     -999,9,     -999,     -999,9,     -999,9,     -999,9,     -999,9,     -999,9,     -999,9,   0.0345,1,   4.2507,1,     -999,9,     -999,9,20240307,0828, -62.9681,  81.9656,     -999,9,     -999,9,-999          ,9,-999          ,9,-999          ,9
325020240221  ,I08        ,15      ,  1,19         ,19         ,2,20240307,0756, -62.9681,  81.9656,     -999,      2.8,   0.7267,  33.7653,2,     -999,9,    332.1,2,     -999,9,     -999,9,     -999,9,     -999,9,     -999,9,     -999,9,     -999,9,     -999,9,     -999,9,     -999,9,     -999,9,     -999,9,     -999,9,     -999,     -999,9,     -999,1,     -999,9,     -999,     -999,9,     -999,9,     -999,9,     -999,9,     -999,9,     -999,9,   0.0392,1,   4.2527,1,     -999,9,     -999,9,20240307,0827, -62.9681,  81.9656,     -999,9,     -999,9,-999          ,9,-999          ,9,-999          ,9
325020240221  ,I08        ,15      ,  1,14         ,14         ,2,20240307,0756, -62.9681,  81.9656,     -999,      3.3,   0.7257,  33.7651,2,     -999,9,    332.0,2,     -999,9,     -999,9,     -999,9,     -999,9,     -999,9,     -999,9,     -999,9,     -999,9,     -999,9,     -999,9,     -999,9,     -999,9,     -999,9,     -999,     -999,9,     -999,1,     -999,9,     -999,     -999,9,     -999,9,     -999,9,     -999,9,     -999,9,     -999,9,   0.0385,1,   4.2572,1,     -999,9,     -999,9,20240307,0826, -62.9681,  81.9656,     -999,9,     -999,9,-999          ,9,-999          ,9,-999          ,9
325020240221  ,I08        ,15      ,  1,36         ,36         ,2,20240307,0756, -62.9681,  81.9656,     -999,      3.3,   0.7301,  33.7655,2,     -999,9,    332.0,2,     -999,9,     -999,9,     -999,9,     -999,9,     -999,9,     -999,9,     -999,9,     -999,9,     -999,9,     -999,9,     -999,9,     -999,9,     -999,9,     -999,     -999,9,     -999,1,     -999,9,     -999,     -999,9,     -999,9,     -999,9,     -999,9,     -999,9,     -999,9,   0.0365,1,   4.2596,1,     -999,9,     -999,9,20240307,0828, -62.9681,  81.9656,     -999,9,     -999,9,-999          ,9,-999          ,9,-999          ,9
325020240221  ,I08        ,15      ,  1,24         ,24         ,2,20240307,0756, -62.9681,  81.9656,     -999,      3.3,   0.7249,  33.7655,2,     -999,9,    332.1,2,     -999,9,     -999,9,     -999,9,     -999,9,     -999,9,     -999,9,     -999,9,     -999,9,     -999,9,     -999,9,     -999,9,     -999,9,     -999,9,     -999,     -999,9,     -999,1,     -999,9,     -999,     -999,9,     -999,9,     -999,9,     -999,9,     -999,9,     -999,9,   0.0365,1,   4.2522,1,     -999,9,     -999,9,20240307,0827, -62.9681,  81.9656,     -999,9,     -999,9,-999          ,9,-999          ,9,-999          ,9
325020240221  ,I08        ,15      ,  1,12         ,12         ,2,20240307,0756, -62.9681,  81.9656,     -999,      3.4,   0.7342,  33.7654,2,     -999,9,    331.7,2,     -999,9,     -999,9,     -999,9,     -999,9,     -999,9,     -999,9,     -999,9,     -999,9,     -999,9,     -999,9,     -999,9,     -999,9,     -999,9,     -999,     -999,9,   0.7332,2,     -999,9,     -999,     -999,9,     -999,9,     -999,9,     -999,9,     -999,9,     -999,9,   0.0364,1,   4.2584,1,     -999,9,     -999,9,20240307,0826, -62.9680,  81.9656,     -999,9,     -999,9,-999          ,9,-999          ,9,-999          ,9
325020240221  ,I08        ,15      ,  1,30         ,30         ,2,20240307,0756, -62.9681,  81.9656,     -999,      3.4,   0.7267,  33.7655,2,     -999,9,    332.1,2,     -999,9,     -999,9,     -999,9,     -999,9,     -999,9,     -999,9,     -999,9,     -999,9,     -999,9,     -999,9,     -999,9,     -999,9,     -999,9,     -999,     -999,9,   0.7282,2,     -999,9,     -999,     -999,9,     -999,9,     -999,9,     -999,9,     -999,9,     -999,9,   0.0365,1,   4.2567,1,     -999,9,     -999,9,20240307,0827, -62.9681,  81.9656,     -999,9,     -999,9,-999          ,9,-999          ,9,-999          ,9
325020240221  ,I08        ,15      ,  1,13         ,13         ,2,20240307,0756, -62.9681,  81.9656,     -999,      3.5,   0.7246,  33.7656,2,     -999,9,    331.7,2,     -999,9,     -999,9,     -999,9,     -999,9,     -999,9,     -999,9,     -999,9,     -999,9,     -999,9,     -999,9,     -999,9,     -999,9,     -999,9,     -999,     -999,9,   0.7256,2,     -999,9,     -999,     -999,9,     -999,9,     -999,9,     -999,9,     -999,9,     -999,9,   0.0359,1,   4.2499,1,     -999,9,     -999,9,20240307,0826, -62.9681,  81.9656,     -999,9,     -999,9,-999          ,9,-999          ,9,-999          ,9
325020240221  ,I08        ,15      ,  1,34         ,34         ,2,20240307,0756, -62.9681,  81.9656,     -999,      3.5,   0.7295,  33.7655,2,     -999,9,    332.1,2,     -999,9,     -999,9,     -999,9,     -999,9,     -999,9,     -999,9,     -999,9,     -999,9,     -999,9,     -999,9,     -999,9,     -999,9,     -999,9,     -999,     -999,9,   0.7308,2,     -999,9,     -999,     -999,9,     -999,9,     -999,9,     -999,9,     -999,9,     -999,9,   0.0345,1,   4.2543,1,     -999,9,     -999,9,20240307,0828, -62.9681,  81.9656,     -999,9,     -999,9,-999          ,9,-999          ,9,-999          ,9
325020240221  ,I08        ,15      ,  1,20         ,20         ,2,20240307,0756, -62.9681,  81.9656,     -999,      3.6,   0.7263,  33.7650,2,     -999,9,    332.1,2,     -999,9,     -999,9,     -999,9,     -999,9,     -999,9,     -999,9,     -999,9,     -999,9,     -999,9,     -999,9,     -999,9,     -999,9,     -999,9,     -999,     -999,9,   0.7257,2,     -999,9,     -999,     -999,9,     -999,9,     -999,9,     -999,9,     -999,9,     -999,9,   0.0354,1,   4.2522,1,     -999,9,     -999,9,20240307,0827, -62.9681,  81.9656,     -999,9,     -999,9,-999          ,9,-999          ,9,-999          ,9
325020240221  ,I08        ,15      ,  1,22         ,22         ,2,20240307,0756, -62.9681,  81.9656,     -999,      3.8,   0.7256,  33.7654,2,     -999,9,    332.0,2,     -999,9,     -999,9,     -999,9,     -999,9,     -999,9,     -999,9,     -999,9,     -999,9,     -999,9,     -999,9,     -999,9,     -999,9,     -999,9,     -999,     -999,9,     -999,1,     -999,9,     -999,     -999,9,     -999,9,     -999,9,     -999,9,     -999,9,     -999,9,   0.0364,1,   4.2513,1,     -999,9,     -999,9,20240307,0827, -62.9681,  81.9656,     -999,9,     -999,9,-999          ,9,-999          ,9,-999          ,9
325020240221  ,I08        ,15      ,  1,16         ,16         ,2,20240307,0756, -62.9681,  81.9656,     -999,      4.0,   0.7260,  33.7654,2,     -999,9,    331.9,2,     -999,9,     -999,9,     -999,9,     -999,9,     -999,9,     -999,9,     -999,9,     -999,9,     -999,9,     -999,9,     -999,9,     -999,9,     -999,9,     -999,     -999,9,   0.7268,2,     -999,9,     -999,     -999,9,     -999,9,     -999,9,     -999,9,     -999,9,     -999,9,   0.0361,1,   4.2554,1,     -999,9,     -999,9,20240307,0827, -62.9681,  81.9656,     -999,9,     -999,9,-999          ,9,-999          ,9,-999          ,9
325020240221  ,I08        ,15      ,  1,18         ,18         ,2,20240307,0756, -62.9681,  81.9656,     -999,      4.0,   0.7260,  33.7657,2,     -999,9,    332.0,2,     -999,9,     -999,9,     -999,9,     -999,9,     -999,9,     -999,9,     -999,9,     -999,9,     -999,9,     -999,9,     -999,9,     -999,9,     -999,9,     -999,     -999,9,     -999,1,     -999,9,     -999,     -999,9,     -999,9,     -999,9,     -999,9,     -999,9,     -999,9,   0.0398,1,   4.2524,1,     -999,9,     -999,9,20240307,0827, -62.9681,  81.9656,     -999,9,     -999,9,-999          ,9,-999          ,9,-999          ,9
325020240221  ,I08        ,15      ,  1,11         ,11         ,2,20240307,0756, -62.9681,  81.9656,     -999,     39.1,   0.6915,  33.7657,2,     -999,9,    332.0,2,     -999,9,     -999,9,     -999,9,     -999,9,     -999,9,     -999,9,     -999,9,     -999,9,     -999,9,     -999,9,     -999,9,     -999,9,     -999,9,     -999,     -999,9,   0.6911,2,     -999,9,     -999,     -999,9,     -999,9,     -999,9,     -999,9,     -999,9,     -999,9,   0.1864,1,   4.2336,1,     -999,9,     -999,9,20240307,0823, -62.9680,  81.9656,     -999,9,     -999,9,-999          ,9,-999          ,9,-999          ,9
325020240221  ,I08        ,15      ,  1,10         ,10         ,2,20240307,0756, -62.9681,  81.9656,     -999,     39.4,   0.6900,  33.7658,2,     -999,9,    332.1,2,     -999,9,     -999,9,     -999,9,     -999,9,     -999,9,     -999,9,     -999,9,     -999,9,     -999,9,     -999,9,     -999,9,     -999,9,     -999,9,     -999,     -999,9,   0.6891,2,     -999,9,     -999,     -999,9,     -999,9,     -999,9,     -999,9,     -999,9,     -999,9,   0.1940,1,   4.2470,1,     -999,9,     -999,9,20240307,0822, -62.9680,  81.9656,     -999,9,     -999,9,-999          ,9,-999          ,9,-999          ,9
325020240221  ,I08        ,15      ,  1,9          ,9          ,2,20240307,0756, -62.9681,  81.9656,     -999,     76.6,   0.3752,  34.2263,2,     -999,9,    251.9,2,     -999,9,     -999,9,     -999,9,     -999,9,     -999,9,     -999,9,     -999,9,     -999,9,     -999,9,     -999,9,     -999,9,     -999,9,     -999,9,     -999,     -999,9,   0.3789,3,     -999,9,     -999,     -999,9,     -999,9,     -999,9,     -999,9,     -999,9,     -999,9,   0.0391,1,   4.6015,1,     -999,9,     -999,9,20240307,0820, -62.9680,  81.9656,     -999,9,     -999,9,-999          ,9,-999          ,9,-999          ,9
325020240221  ,I08        ,15      ,  1,7          ,7          ,2,20240307,0756, -62.9681,  81.9656,     -999,     99.5,   1.4765,  34.4058,2,     -999,9,    197.3,2,     -999,9,     -999,9,     -999,9,     -999,9,     -999,9,     -999,9,     -999,9,     -999,9,     -999,9,     -999,9,     -999,9,     -999,9,     -999,9,     -999,     -999,9,   1.4687,2,     -999,9,     -999,     -999,9,     -999,9,     -999,9,     -999,9,     -999,9,     -999,9,   0.0200,1,   4.6249,1,     -999,9,     -999,9,20240307,0817, -62.9680,  81.9656,     -999,9,     -999,9,-999          ,9,-999          ,9,-999          ,9
325020240221  ,I08        ,15      ,  1,8          ,8          ,2,20240307,0756, -62.9681,  81.9656,     -999,    101.1,   1.4586,  34.4026,2,     -999,9,    197.6,2,     -999,9,     -999,9,     -999,9,     -999,9,     -999,9,     -999,9,     -999,9,     -999,9,     -999,9,     -999,9,     -999,9,     -999,9,     -999,9,     -999,     -999,9,   1.4591,2,     -999,9,     -999,     -999,9,     -999,9,     -999,9,     -999,9,     -999,9,     -999,9,   0.0195,1,   4.6232,1,     -999,9,     -999,9,20240307,0818, -62.9680,  81.9656,     -999,9,     -999,9,-999          ,9,-999          ,9,-999          ,9
325020240221  ,I08        ,15      ,  1,6          ,6          ,2,20240307,0756, -62.9681,  81.9656,     -999,    151.3,   1.9423,  34.5243,2,     -999,9,    174.2,2,     -999,9,     -999,9,     -999,9,     -999,9,     -999,9,     -999,9,     -999,9,     -999,9,     -999,9,     -999,9,     -999,9,     -999,9,     -999,9,     -999,     -999,9,   1.9429,2,     -999,9,     -999,     -999,9,     -999,9,     -999,9,     -999,9,     -999,9,     -999,9,   0.0195,1,   4.6296,1,     -999,9,     -999,9,20240307,0815, -62.9680,  81.9656,     -999,9,     -999,9,-999          ,9,-999          ,9,-999          ,9
325020240221  ,I08        ,15      ,  1,4          ,4          ,2,20240307,0756, -62.9681,  81.9656,     -999,    200.6,   2.0421,  34.5789,2,     -999,9,    168.8,2,     -999,9,     -999,9,     -999,9,     -999,9,     -999,9,     -999,9,     -999,9,     -999,9,     -999,9,     -999,9,     -999,9,     -999,9,     -999,9,     -999,     -999,9,   2.0416,2,     -999,9,     -999,     -999,9,     -999,9,     -999,9,     -999,9,     -999,9,     -999,9,   0.0183,1,   4.6319,1,     -999,9,     -999,9,20240307,0812, -62.9680,  81.9656,     -999,9,     -999,9,-999          ,9,-999          ,9,-999          ,9
325020240221  ,I08        ,15      ,  1,5          ,5          ,2,20240307,0756, -62.9681,  81.9656,     -999,    200.6,   2.0413,  34.5790,2,     -999,9,    168.8,2,     -999,9,     -999,9,     -999,9,     -999,9,     -999,9,     -999,9,     -999,9,     -999,9,     -999,9,     -999,9,     -999,9,     -999,9,     -999,9,     -999,     -999,9,   2.0401,2,     -999,9,     -999,     -999,9,     -999,9,     -999,9,     -999,9,     -999,9,     -999,9,   0.0182,1,   4.6326,1,     -999,9,     -999,9,20240307,0813, -62.9680,  81.9656,     -999,9,     -999,9,-999          ,9,-999          ,9,-999          ,9
325020240221  ,I08        ,15      ,  1,3          ,3          ,2,20240307,0756, -62.9681,  81.9656,     -999,    506.7,   2.0127,  34.7009,2,     -999,9,    176.2,2,     -999,9,     -999,9,     -999,9,     -999,9,     -999,9,     -999,9,     -999,9,     -999,9,     -999,9,     -999,9,     -999,9,     -999,9,     -999,9,     -999,     -999,9,   2.0121,2,     -999,9,     -999,     -999,9,     -999,9,     -999,9,     -999,9,     -999,9,     -999,9,   0.0183,1,   4.6325,1,     -999,9,     -999,9,20240307,0806, -62.9680,  81.9656,     -999,9,     -999,9,-999          ,9,-999          ,9,-999          ,9
325020240221  ,I08        ,15      ,  1,2          ,2          ,2,20240307,0756, -62.9681,  81.9656,     -999,   1012.0,   1.6757,  34.7465,2,     -999,9,    196.7,2,     -999,9,     -999,9,     -999,9,     -999,9,     -999,9,     -999,9,     -999,9,     -999,9,     -999,9,     -999,9,     -999,9,     -999,9,     -999,9,     -999,     -999,9,   1.6751,2,     -999,9,     -999,     -999,9,     -999,9,     -999,9,     -999,9,     -999,9,     -999,9,   0.0183,1,   4.6324,1,     -999,9,     -999,9,20240307,0757, -62.9680,  81.9656,     -999,9,     -999,9,-999          ,9,-999          ,9,-999          ,9
325020240221  ,I08        ,15      ,  1,1          ,1          ,2,20240307,0756, -62.9681,  81.9656,     -999,   1012.3,   1.6753,  34.7465,2,     -999,9,    196.5,2,     -999,9,     -999,9,     -999,9,     -999,9,     -999,9,     -999,9,     -999,9,     -999,9,     -999,9,     -999,9,     -999,9,     -999,9,     -999,9,     -999,     -999,9,   1.6749,2,     -999,9,     -999,     -999,9,     -999,9,     -999,9,     -999,9,     -999,9,     -999,9,   0.0183,1,   4.6325,1,     -999,9,     -999,9,20240307,0756, -62.9680,  81.9656,     -999,9,     -999,9,-999          ,9,-999          ,9,-999          ,9