BOTTLE,20240417CCHHYDRO
EXPOCODE,SECT_ID,STNNBR,CASTNO,SAMPNO,BTLNBR,BTLNBR_FLAG_W,DATE,TIME,LATITUDE,LONGITUDE,DEPTH,CTDPRS,CTDTMP,CTDSAL,CTDSAL_FLAG_W,SALNTY,SALNTY_FLAG_W,CTDOXY,CTDOXY_FLAG_W,OXYGEN,OXYGEN_FLAG_W,SILCAT,SILCAT_FLAG_W,NH4,NH4_FLAG_W,NITRAT,NITRAT_FLAG_W,NITRIT,NITRIT_FLAG_W,PHSPHT,PHSPHT_FLAG_W,CFC-11,CFC-11_FLAG_W,CFC-12,CFC-12_FLAG_W,CFC113,CFC113_FLAG_W,SF6,SF6_FLAG_W,TCARBN,TCARBN_FLAG_W,ALKALI,ALKALI_FLAG_W,PH_TOT,PH_TOT_FLAG_W,PH_TMP,DOC,DOC_FLAG_W,REFTMP,REFTMP_FLAG_W,DELC14,DELC14_FLAG_W,C14ERR,POC,POC_FLAG_W,PON,PON_FLAG_W,POP,POP_FLAG_W,PCOD,PCOD_FLAG_W,DOP,DOP_FLAG_W,TDN,TDN_FLAG_W,CTDFLUOR,CTDFLUOR_FLAG_W,CTDXMISS,CTDXMISS_FLAG_W,N2O,N2O_FLAG_W,ARGON,ARGON_FLAG_W,BTL_DATE,BTL_TIME,BTL_LAT,BTL_LON,KRYPTON,KRYPTON_FLAG_W,XENON,XENON_FLAG_W,HPLC,HPLC_FLAG_W,DNA,DNA_FLAG_W,FCM,FCM_FLAG_W
,,,,,,,,,,,METERS,DBAR,ITS-90,PSS-78,,PSS-78,,UMOL/KG,,UMOL/KG,,UMOL/KG,,UMOL/KG,,UMOL/KG,,UMOL/KG,,UMOL/KG,,PMOL/KG,,PMOL/KG,,PMOL/KG,,FMOL/KG,,UMOL/KG,,UMOL/KG,,,,DEG C,UMOL/KG,,ITS-90,,/MILLE,,/MILLE,UG/KG,,UG/KG,,UG/L,,UG/L,,UMOL/KG,,UMOL/KG,,VOLTS,,VOLTS,,NMOL/KG,,UMOL/L,,,,,,NMOL/L,,NMOL/L,,,,,,,
325020240221  ,I08        ,60      ,  1,5          ,5          ,2,20240325,0738, -35.4984,  94.9904,     4041,   2956.6,   1.5620,  34.7381,2,  34.7380,2,    198.8,2,    198.6,2,   102.15,2,     0.01,2,    31.05,2,     0.00,2,     2.15,2,    0.095,2,    0.045,2,    0.006,4,   0.0000,2,   2255.9,3,   2359.2,2,   7.6171,2,    24.98,     -999,1,   1.5618,2,     -999,1,     -999,     -999,9,     -999,9,     -999,9,     -999,9,     -999,9,     -999,1,   0.0185,1,   4.6349,1,     16.5,2,     -999,9,20240325,0803, -35.4983,  94.9909,     -999,9,     -999,9,-999          ,9,-999          ,9,-999          ,9
325020240221  ,I08        ,60      ,  1,4          ,4          ,2,20240325,0738, -35.4984,  94.9904,     4041,   3246.0,   1.3090,  34.7281,2,  34.7282,2,    201.7,2,    201.8,2,   109.76,2,     0.00,2,    31.50,2,     0.00,2,     2.17,2,    0.135,2,    0.061,2,    0.008,4,   0.0000,2,   2259.3,3,   2363.0,2,   7.6181,6,    24.96,     -999,1,   1.3092,2,     -999,9,     -999,     -999,9,     -999,9,     -999,9,     -999,9,     -999,9,     -999,1,   0.0174,1,   4.6325,1,     16.3,2,     -999,9,20240325,0756, -35.4983,  94.9909,     -999,9,     -999,9,-999          ,9,-999          ,9,-999          ,9
325020240221  ,I08        ,60      ,  1,3          ,3          ,2,20240325,0738, -35.4984,  94.9904,     4041,   3555.5,   1.1608,  34.7207,2,  34.7217,2,    203.2,2,    203.6,2,   115.23,2,     0.01,2,    31.82,2,     0.00,2,     2.18,2,    0.140,2,    0.064,2,    0.013,4,   0.0000,2,   2264.3,3,   2362.0,2,   7.6172,2,    24.96,     -999,1,   1.1612,2,     -999,1,     -999,     -999,9,     -999,9,     -999,9,     -999,9,     -999,9,     -999,1,   0.0183,1,   4.6324,1,     16.1,2,     -999,9,20240325,0750, -35.4983,  94.9909,     -999,9,     -999,9,-999          ,9,-999          ,9,-999          ,9
325020240221  ,I08        ,60      ,  1,2          ,2          ,2,20240325,0738, -35.4984,  94.9904,     4041,   3861.5,   1.0795,  34.7158,2,  34.7166,2,    204.0,2,    204.5,2,   118.45,2,     0.01,2,    32.09,2,     0.00,2,     2.21,2,    0.154,2,    0.071,2,    0.022,4,   0.0000,2,   2266.4,3,   2372.3,2,   7.6193,2,    24.98,     -999,1,   1.0789,2,     -999,1,     -999,     -999,9,     -999,9,     -999,9,     -999,9,     -999,9,     -999,1,   0.0183,1,   4.6325,1,     15.9,2,     -999,9,20240325,0743, -35.4983,  94.9909,     -999,9,     -999,9,-999          ,9,-999          ,9,-999          ,9
325020240221  ,I08        ,60      ,  1,1          ,1          ,2,20240325,0738, -35.4984,  94.9904,     4041,   4100.1,   1.0423,  34.7132,2,  34.7134,2,    204.7,2,    205.5,2,   120.11,2,     0.01,2,    32.27,2,     0.00,2,     2.19,2,    0.135,2,    0.073,2,    0.038,4,   0.0000,2,   2267.0,3,   2372.2,2,   7.6203,2,    24.98,     -999,1,   1.0422,2,     -999,1,     -999,     -999,9,     -999,9,     -999,9,     -999,9,     -999,9,     -999,1,   0.0183,1,   4.6345,1,      9.8,4,     -999,9,20240325,0738, -35.4983,  94.9909,     -999,9,     -999,9,-999          ,9,-999          ,9,-999          ,9