BOTTLE,20240417CCHHYDRO
EXPOCODE,SECT_ID,STNNBR,CASTNO,SAMPNO,BTLNBR,BTLNBR_FLAG_W,DATE,TIME,LATITUDE,LONGITUDE,DEPTH,CTDPRS,CTDTMP,CTDSAL,CTDSAL_FLAG_W,SALNTY,SALNTY_FLAG_W,CTDOXY,CTDOXY_FLAG_W,OXYGEN,OXYGEN_FLAG_W,SILCAT,SILCAT_FLAG_W,NH4,NH4_FLAG_W,NITRAT,NITRAT_FLAG_W,NITRIT,NITRIT_FLAG_W,PHSPHT,PHSPHT_FLAG_W,CFC-11,CFC-11_FLAG_W,CFC-12,CFC-12_FLAG_W,CFC113,CFC113_FLAG_W,SF6,SF6_FLAG_W,TCARBN,TCARBN_FLAG_W,ALKALI,ALKALI_FLAG_W,PH_TOT,PH_TOT_FLAG_W,PH_TMP,DOC,DOC_FLAG_W,REFTMP,REFTMP_FLAG_W,DELC14,DELC14_FLAG_W,C14ERR,POC,POC_FLAG_W,PON,PON_FLAG_W,POP,POP_FLAG_W,PCOD,PCOD_FLAG_W,DOP,DOP_FLAG_W,TDN,TDN_FLAG_W,CTDFLUOR,CTDFLUOR_FLAG_W,CTDXMISS,CTDXMISS_FLAG_W,N2O,N2O_FLAG_W,ARGON,ARGON_FLAG_W,BTL_DATE,BTL_TIME,BTL_LAT,BTL_LON,KRYPTON,KRYPTON_FLAG_W,XENON,XENON_FLAG_W,HPLC,HPLC_FLAG_W,DNA,DNA_FLAG_W,FCM,FCM_FLAG_W
,,,,,,,,,,,METERS,DBAR,ITS-90,PSS-78,,PSS-78,,UMOL/KG,,UMOL/KG,,UMOL/KG,,UMOL/KG,,UMOL/KG,,UMOL/KG,,UMOL/KG,,PMOL/KG,,PMOL/KG,,PMOL/KG,,FMOL/KG,,UMOL/KG,,UMOL/KG,,,,DEG C,UMOL/KG,,ITS-90,,/MILLE,,/MILLE,UG/KG,,UG/KG,,UG/L,,UG/L,,UMOL/KG,,UMOL/KG,,VOLTS,,VOLTS,,NMOL/KG,,UMOL/L,,,,,,NMOL/L,,NMOL/L,,,,,,,
325020240221  ,I08        ,55      ,  1,36         ,36         ,2,20240323,2245, -38.4903,  95.0042,     3847,      3.9,  17.9031,  35.0401,2,  35.0333,2,    242.5,2,    242.4,2,     0.59,2,     0.06,2,     1.09,2,     0.04,2,     0.22,2,    2.225,6,    1.348,6,    0.280,4,   2.2425,6,   2068.2,3,   2319.0,2,   7.9493,2,    25.03,     -999,1,  17.9085,2,     -999,9,     -999,     -999,9,     -999,9,     -999,9,     -999,9,     -999,9,     -999,1,   0.0501,1,   4.5132,1,      8.3,6,     -999,9,20240324,0037, -38.4903,  95.0042,     -999,9,     -999,9,-999          ,9,-999          ,9,-999          ,9
325020240221  ,I08        ,55      ,  1,35         ,35         ,2,20240323,2245, -38.4903,  95.0042,     3847,     23.8,  17.6325,  35.0366,2,  35.0317,2,    243.9,2,    244.0,2,     0.59,2,     0.04,2,     1.10,2,     0.04,2,     0.20,2,    2.179,2,    1.356,2,    0.279,4,   2.2620,2,   2068.6,3,   2317.8,2,   7.9490,2,    25.06,     -999,9,  17.6478,2,     -999,9,     -999,     -999,9,     -999,9,     -999,9,     -999,9,     -999,9,     -999,9,   0.0626,1,   4.4965,1,      8.4,2,     -999,9,20240324,0035, -38.4903,  95.0042,     -999,9,     -999,9,-999          ,9,-999          ,9,-999          ,9
325020240221  ,I08        ,55      ,  1,34         ,34         ,2,20240323,2245, -38.4903,  95.0042,     3847,     50.1,  16.8382,  35.0046,2,  34.9939,2,    246.2,2,    245.8,2,     0.68,2,     0.21,2,     1.89,2,     0.05,2,     0.24,2,    2.426,2,    1.369,2,    0.317,4,   2.2790,2,   2074.1,3,   2314.4,2,   7.9312,6,    25.05,     -999,9,  16.8494,2,     -999,9,     -999,     -999,9,     -999,9,     -999,9,     -999,9,     -999,9,     -999,9,   0.0693,1,   4.5601,1,      9.0,2,     -999,9,20240324,0033, -38.4903,  95.0042,     -999,9,     -999,9,-999          ,9,-999          ,9,-999          ,9
325020240221  ,I08        ,55      ,  1,33         ,33         ,2,20240323,2245, -38.4903,  95.0042,     3847,     74.4,  12.6298,  34.9569,2,  34.9504,2,    262.7,2,    260.6,2,     1.95,2,     0.61,2,     5.86,2,     0.35,2,     0.55,2,     -999,9,     -999,9,     -999,9,     -999,9,   2112.6,3,   2310.0,6,   7.8453,2,    25.02,     -999,9,  12.6784,2,     -999,9,     -999,     -999,9,     -999,9,     -999,9,     -999,9,     -999,9,     -999,9,   0.0642,1,   4.6193,1,     -999,9,     -999,9,20240324,0031, -38.4903,  95.0042,     -999,9,     -999,9,-999          ,9,-999          ,9,-999          ,9
325020240221  ,I08        ,55      ,  1,32         ,32         ,2,20240323,2245, -38.4903,  95.0042,     3847,    101.1,  12.1363,  34.9743,2,  34.9732,2,    251.8,2,    251.9,2,     2.15,2,     0.01,2,     7.76,2,     0.14,2,     0.61,2,    3.036,2,    1.706,2,    0.342,4,   2.4490,2,   2119.7,3,   2309.4,2,   7.8286,2,    25.01,     -999,9,  12.1326,2,     -999,9,     -999,     -999,9,     -999,9,     -999,9,     -999,9,     -999,9,     -999,9,   0.0279,1,   4.6636,1,     10.2,2,     -999,9,20240324,0030, -38.4903,  95.0042,     -999,9,     -999,9,-999          ,9,-999          ,9,-999          ,9
325020240221  ,I08        ,55      ,  1,31         ,31         ,2,20240323,2245, -38.4903,  95.0042,     3847,    125.7,  12.1604,  35.0239,2,  35.0191,2,    250.2,2,    250.4,2,     2.05,2,     0.01,2,     7.72,2,     0.00,2,     0.60,2,    3.026,2,    1.716,2,    0.331,4,   2.4190,2,   2118.9,3,   2311.7,2,   7.8308,2,    25.00,     -999,9,  12.1589,2,     -999,9,     -999,     -999,9,     -999,9,     -999,9,     -999,9,     -999,9,     -999,9,   0.0220,1,   4.6756,1,     10.3,2,     -999,9,20240324,0028, -38.4903,  95.0042,     -999,9,     -999,9,-999          ,9,-999          ,9,-999          ,9
325020240221  ,I08        ,55      ,  1,30         ,30         ,2,20240323,2245, -38.4903,  95.0042,     3847,    151.0,  11.9802,  35.0117,2,  34.9933,2,    250.6,2,    251.4,2,     2.15,2,     0.01,2,     8.13,2,     0.00,2,     0.61,2,     -999,9,     -999,9,     -999,9,     -999,9,     -999,9,     -999,9,     -999,9,     -999,     -999,9,  11.9719,2,     -999,9,     -999,     -999,9,     -999,9,     -999,9,     -999,9,     -999,9,     -999,9,   0.0195,1,   4.6797,1,     -999,9,     -999,9,20240324,0026, -38.4903,  95.0042,     -999,9,     -999,9,-999          ,9,-999          ,9,-999          ,9
325020240221  ,I08        ,55      ,  1,29         ,29         ,2,20240323,2245, -38.4903,  95.0042,     3847,    201.6,  11.3904,  34.9378,2,  34.9087,3,    251.8,2,    252.1,2,     2.64,2,     0.01,2,     9.33,2,     0.00,2,     0.71,2,    3.117,2,    1.760,2,    0.294,4,   2.4990,2,   2124.1,3,   2307.2,2,   7.8163,2,    25.02,     -999,9,  11.3921,2,     -999,9,     -999,     -999,9,     -999,9,     -999,9,     -999,9,     -999,9,     -999,9,   0.0183,1,   4.6808,1,     10.8,2,     -999,9,20240324,0024, -38.4903,  95.0042,     -999,9,     -999,9,-999          ,9,-999          ,9,-999          ,9
325020240221  ,I08        ,55      ,  1,28         ,28         ,2,20240323,2245, -38.4903,  95.0042,     3847,    250.6,  11.1948,  34.9108,2,  34.9089,2,    253.1,2,    253.1,2,     2.73,2,     0.00,2,     9.74,2,     0.00,2,     0.71,2,     -999,9,     -999,9,     -999,9,     -999,9,     -999,9,     -999,9,     -999,9,     -999,     -999,9,  11.1965,2,     -999,9,     -999,     -999,9,     -999,9,     -999,9,     -999,9,     -999,9,     -999,9,   0.0183,1,   4.6830,1,     -999,9,     -999,9,20240324,0022, -38.4903,  95.0042,     -999,9,     -999,9,-999          ,9,-999          ,9,-999          ,9
325020240221  ,I08        ,55      ,  1,27         ,27         ,2,20240323,2245, -38.4903,  95.0042,     3847,    303.3,  11.2138,  34.9331,2,  34.9311,2,    249.2,2,    249.8,2,     3.03,2,     0.00,2,    10.25,2,     0.00,2,     0.74,2,    3.187,2,    1.778,2,    0.244,4,   2.4900,2,   2126.3,3,   2304.2,2,   7.8076,2,    25.04,     -999,9,  11.2154,2,     -999,9,     -999,     -999,9,     -999,9,     -999,9,     -999,9,     -999,9,     -999,9,   0.0182,1,   4.6831,1,     10.9,2,     -999,9,20240324,0020, -38.4903,  95.0042,     -999,9,     -999,9,-999          ,9,-999          ,9,-999          ,9
325020240221  ,I08        ,55      ,  1,26         ,26         ,2,20240323,2245, -38.4903,  95.0042,     3847,    353.2,  11.0511,  34.9072,2,  34.9067,2,    249.1,2,    249.2,2,     3.22,2,     0.00,2,    10.80,2,     0.00,2,     0.80,2,    3.139,2,    1.794,2,    0.222,4,   2.4180,2,     -999,9,     -999,9,     -999,9,     -999,     -999,9,  11.0490,2,     -999,9,     -999,     -999,9,     -999,9,     -999,9,     -999,9,     -999,9,     -999,9,   0.0174,1,   4.6835,1,     10.9,2,     -999,9,20240324,0018, -38.4903,  95.0042,     -999,9,     -999,9,-999          ,9,-999          ,9,-999          ,9
325020240221  ,I08        ,55      ,  1,25         ,25         ,2,20240323,2245, -38.4903,  95.0042,     3847,    403.2,  10.7167,  34.8497,2,  34.8521,2,    247.6,2,    248.3,2,     3.42,2,     0.00,2,    11.80,2,     0.00,2,     0.85,2,    3.310,2,    1.896,2,    0.178,4,   2.5620,2,   2130.1,3,   2300.1,2,   7.7922,2,    25.05,     -999,9,  10.7198,2,     -999,9,     -999,     -999,9,     -999,9,     -999,9,     -999,9,     -999,9,     -999,9,   0.0183,1,   4.6837,1,     10.8,2,     -999,9,20240324,0015, -38.4903,  95.0042,     -999,9,     -999,9,-999          ,9,-999          ,9,-999          ,9
325020240221  ,I08        ,55      ,  1,24         ,24         ,2,20240323,2245, -38.4903,  95.0042,     3847,    453.6,  10.4460,  34.8048,2,  34.8031,2,    248.1,2,    248.3,2,     3.61,2,     0.03,2,    12.52,2,     0.00,2,     0.90,2,     -999,9,     -999,9,     -999,9,     -999,9,     -999,9,     -999,9,     -999,9,     -999,     -999,9,  10.4498,2,     -999,9,     -999,     -999,9,     -999,9,     -999,9,     -999,9,     -999,9,     -999,9,   0.0179,1,   4.6836,1,     -999,9,     -999,9,20240324,0013, -38.4903,  95.0042,     -999,9,     -999,9,-999          ,9,-999          ,9,-999          ,9
325020240221  ,I08        ,55      ,  1,23         ,37         ,2,20240323,2245, -38.4903,  95.0042,     3847,    503.9,  10.1850,  34.7637,2,  34.7634,2,    245.9,2,    245.2,2,     4.00,2,     0.01,2,    13.56,2,     0.00,2,     0.97,2,    3.608,2,    1.953,2,    0.224,4,   2.2980,2,   2133.1,3,   2297.4,2,   7.7745,2,    25.05,     -999,9,  10.1884,2,     -999,9,     -999,     -999,9,     -999,9,     -999,9,     -999,9,     -999,9,     -999,9,   0.0177,1,   4.6843,1,     11.5,2,     -999,9,20240324,0011, -38.4903,  95.0042,     -999,9,     -999,9,-999          ,9,-999          ,9,-999          ,9
325020240221  ,I08        ,55      ,  1,22         ,22         ,2,20240323,2245, -38.4903,  95.0042,     3847,    605.1,   9.6470,  34.7070,2,  34.7026,2,    232.8,2,    231.9,2,     5.08,2,     0.01,2,    16.37,2,     0.00,2,     1.14,2,     -999,9,     -999,9,     -999,9,     -999,9,   2141.5,3,   2292.2,2,   7.7456,6,    25.03,     -999,9,   9.6596,2,     -999,9,     -999,     -999,9,     -999,9,     -999,9,     -999,9,     -999,9,     -999,9,   0.0183,1,   4.6851,1,     -999,9,     -999,9,20240324,0008, -38.4903,  95.0042,     -999,9,     -999,9,-999          ,9,-999          ,9,-999          ,9
325020240221  ,I08        ,55      ,  1,21         ,21         ,2,20240323,2245, -38.4903,  95.0042,     3847,    704.9,   8.9725,  34.6274,2,  34.6262,2,    224.6,2,    225.8,2,     6.93,2,     0.00,2,    18.67,2,     0.00,2,     1.26,2,    3.779,2,    1.990,2,    0.201,4,   1.6240,2,   2146.7,3,   2292.3,2,   7.7253,2,    24.99,     -999,9,   8.9600,2,     -999,9,     -999,     -999,9,     -999,9,     -999,9,     -999,9,     -999,9,     -999,9,   0.0183,1,   4.6856,1,     12.8,2,     -999,9,20240324,0006, -38.4903,  95.0042,     -999,9,     -999,9,-999          ,9,-999          ,9,-999          ,9
325020240221  ,I08        ,55      ,  1,20         ,20         ,2,20240323,2245, -38.4903,  95.0042,     3847,    807.0,   7.6503,  34.5031,2,  34.5074,2,    207.9,2,    207.7,2,    12.98,2,     0.00,2,    23.47,2,     0.00,2,     1.56,2,    3.137,2,    1.720,2,    0.220,4,   1.1800,2,     -999,9,     -999,9,     -999,9,     -999,     -999,9,   7.6436,2,     -999,9,     -999,     -999,9,     -999,9,     -999,9,     -999,9,     -999,9,     -999,9,   0.0177,1,   4.6885,1,     10.3,2,     -999,9,20240324,0001, -38.4903,  95.0042,     -999,9,     -999,9,-999          ,9,-999          ,9,-999          ,9
325020240221  ,I08        ,55      ,  1,19         ,19         ,2,20240323,2245, -38.4903,  95.0042,     3847,    908.7,   6.3585,  34.4180,2,  34.4153,2,    200.2,2,    200.4,2,    20.31,2,     0.00,2,    27.10,2,     0.00,2,     1.81,2,     -999,9,     -999,9,     -999,9,     -999,9,   2181.7,3,   2290.0,2,   7.6418,2,    25.00,     -999,9,   6.3585,2,     -999,9,     -999,     -999,9,     -999,9,     -999,9,     -999,9,     -999,9,     -999,9,   0.0180,1,   4.6882,1,     -999,9,     -999,9,20240323,2358, -38.4903,  95.0042,     -999,9,     -999,9,-999          ,9,-999          ,9,-999          ,9
325020240221  ,I08        ,55      ,  1,18         ,18         ,2,20240323,2245, -38.4903,  95.0042,     3847,   1008.8,   5.1018,  34.3504,2,  34.3492,2,    203.6,2,    203.1,2,    27.73,2,     0.00,2,    29.47,2,     0.00,2,     1.98,2,    2.674,2,    1.345,2,    0.166,4,   0.7650,2,     -999,9,     -999,9,     -999,9,     -999,     -999,9,   5.1247,2,     -999,9,     -999,     -999,9,     -999,9,     -999,9,     -999,9,     -999,9,     -999,9,   0.0183,1,   4.6832,1,     16.6,2,     -999,9,20240323,2355, -38.4903,  95.0042,     -999,9,     -999,9,-999          ,9,-999          ,9,-999          ,9
325020240221  ,I08        ,55      ,  1,17         ,17         ,2,20240323,2245, -38.4903,  95.0042,     3847,   1110.6,   4.3653,  34.3549,2,  34.3550,2,    195.3,2,    196.5,2,    36.91,2,     0.00,2,    31.29,2,     0.00,2,     2.14,2,    2.300,2,    1.127,2,    0.126,4,   0.5890,2,   2206.5,3,   2300.2,2,   7.6015,2,    25.00,     -999,9,   4.3634,2,     -999,9,     -999,     -999,9,     -999,9,     -999,9,     -999,9,     -999,9,     -999,9,   0.0183,1,   4.6740,1,     17.5,2,     -999,9,20240323,2353, -38.4903,  95.0042,     -999,9,     -999,9,-999          ,9,-999          ,9,-999          ,9
325020240221  ,I08        ,55      ,  1,16         ,16         ,2,20240323,2245, -38.4903,  95.0042,     3847,   1212.6,   3.8667,  34.3962,2,  34.3941,2,    184.0,2,    183.9,2,    47.94,2,     0.00,2,    32.75,2,     0.00,2,     2.25,2,    1.559,2,    0.772,2,    0.087,4,   0.4320,2,     -999,9,     -999,9,     -999,9,     -999,     -999,9,   3.8835,2,     -999,9,     -999,     -999,9,     -999,9,     -999,9,     -999,9,     -999,9,     -999,9,   0.0183,1,   4.6678,1,     18.2,2,     -999,9,20240323,2350, -38.4903,  95.0042,     -999,9,     -999,9,-999          ,9,-999          ,9,-999          ,9
325020240221  ,I08        ,55      ,  1,15         ,15         ,2,20240323,2245, -38.4903,  95.0042,     3847,   1313.2,   3.5419,  34.4403,2,  34.4367,2,    175.4,2,    175.0,2,    56.43,2,     0.00,2,    33.67,2,     0.00,2,     2.31,2,    1.118,2,    0.550,2,    0.057,4,   0.2590,2,   2235.5,3,   2319.6,2,   7.5708,2,    25.00,     -999,9,   3.5414,2,     -999,9,     -999,     -999,9,     -999,9,     -999,9,     -999,9,     -999,9,     -999,9,   0.0183,1,   4.6631,1,     19.0,2,     -999,9,20240323,2347, -38.4903,  95.0042,     -999,9,     -999,9,-999          ,9,-999          ,9,-999          ,9
325020240221  ,I08        ,55      ,  1,14         ,14         ,2,20240323,2245, -38.4903,  95.0042,     3847,   1414.4,   3.2853,  34.4840,2,  34.4838,2,    168.0,2,    167.6,2,    63.75,2,     0.00,2,    34.19,2,     0.00,2,     2.36,2,     -999,9,     -999,9,     -999,9,     -999,9,     -999,9,     -999,9,     -999,9,     -999,     -999,9,   3.2851,2,     -999,9,     -999,     -999,9,     -999,9,     -999,9,     -999,9,     -999,9,     -999,9,   0.0183,1,   4.6605,1,     -999,9,     -999,9,20240323,2344, -38.4903,  95.0042,     -999,9,     -999,9,-999          ,9,-999          ,9,-999          ,9
325020240221  ,I08        ,55      ,  1,13         ,13         ,2,20240323,2245, -38.4903,  95.0042,     3847,   1515.5,   3.0987,  34.5208,2,  34.5207,2,    164.9,2,    165.0,2,    68.44,2,     0.00,2,    34.27,2,     0.00,2,     2.37,2,    0.572,2,    0.281,2,    0.023,4,   0.1690,2,   2251.9,3,   2333.5,2,   7.5598,2,    25.00,     -999,9,   3.0976,2,     -999,9,     -999,     -999,9,     -999,9,     -999,9,     -999,9,     -999,9,     -999,9,   0.0183,1,   4.6584,1,     19.4,2,     -999,9,20240323,2341, -38.4903,  95.0042,     -999,9,     -999,9,-999          ,9,-999          ,9,-999          ,9
325020240221  ,I08        ,55      ,  1,12         ,12         ,2,20240323,2245, -38.4903,  95.0042,     3847,   1617.8,   3.0414,  34.5788,2,  34.5769,2,    155.9,2,    156.0,2,    78.39,2,     0.01,2,    34.48,2,     0.00,2,     2.38,2,    0.233,2,    0.119,2,    0.008,4,   0.0930,2,   2263.5,3,   2344.6,2,   7.5602,6,    24.98,     -999,9,   3.0418,2,     -999,9,     -999,     -999,9,     -999,9,     -999,9,     -999,9,     -999,9,     -999,9,   0.0183,1,   4.6569,1,     19.7,2,     -999,9,20240323,2338, -38.4903,  95.0043,     -999,9,     -999,9,-999          ,9,-999          ,9,-999          ,9
325020240221  ,I08        ,55      ,  1,11         ,11         ,2,20240323,2245, -38.4903,  95.0042,     3847,   1719.9,   2.8849,  34.6095,2,  34.6085,2,    157.9,2,    158.2,2,    80.93,2,     0.00,2,    34.25,2,     0.00,2,     2.38,2,    0.194,2,    0.097,2,    0.007,4,   0.0020,2,   2263.3,3,   2347.0,2,   7.5632,2,    24.98,     -999,9,   2.8881,2,     -999,9,     -999,     -999,9,     -999,9,     -999,9,     -999,9,     -999,9,     -999,9,   0.0183,1,   4.6556,1,     19.4,2,     -999,9,20240323,2335, -38.4903,  95.0042,     -999,9,     -999,9,-999          ,9,-999          ,9,-999          ,9
325020240221  ,I08        ,55      ,  1,10         ,10         ,2,20240323,2245, -38.4903,  95.0042,     3847,   1820.9,   2.7575,  34.6382,2,  34.6376,2,    160.7,2,    160.7,2,    83.76,2,     0.00,2,    33.83,2,     0.00,2,     2.33,2,     -999,9,     -999,9,     -999,9,     -999,9,     -999,9,     -999,9,     -999,9,     -999,     -999,9,   2.7570,2,     -999,9,     -999,     -999,9,     -999,9,     -999,9,     -999,9,     -999,9,     -999,9,   0.0183,1,   4.6539,1,     -999,9,     -999,9,20240323,2332, -38.4903,  95.0043,     -999,9,     -999,9,-999          ,9,-999          ,9,-999          ,9
325020240221  ,I08        ,55      ,  1,9          ,9          ,2,20240323,2245, -38.4903,  95.0042,     3847,   2023.7,   2.5244,  34.6840,2,  34.6851,2,    170.4,2,    170.6,2,    85.12,2,     0.01,2,    32.69,2,     0.00,2,     2.25,2,    0.129,2,    0.067,2,    0.006,4,   0.0190,2,   2260.8,3,   2353.0,2,   7.5837,6,    25.01,     -999,9,   2.5248,2,     -999,9,     -999,     -999,9,     -999,9,     -999,9,     -999,9,     -999,9,     -999,9,   0.0183,1,   4.6508,1,     18.2,2,     -999,9,20240323,2327, -38.4903,  95.0042,     -999,9,     -999,9,-999          ,9,-999          ,9,-999          ,9
325020240221  ,I08        ,55      ,  1,8          ,8          ,2,20240323,2245, -38.4903,  95.0042,     3847,   2277.9,   2.2972,  34.7240,2,  34.7225,2,    182.8,2,    182.9,2,    85.22,2,     0.01,2,    31.36,2,     0.00,2,     2.16,2,     -999,9,     -999,9,     -999,9,     -999,9,     -999,9,     -999,9,     -999,9,     -999,     -999,9,   2.2973,2,     -999,9,     -999,     -999,9,     -999,9,     -999,9,     -999,9,     -999,9,     -999,9,   0.0183,1,   4.6471,1,     -999,9,     -999,9,20240323,2322, -38.4903,  95.0042,     -999,9,     -999,9,-999          ,9,-999          ,9,-999          ,9
325020240221  ,I08        ,55      ,  1,7          ,7          ,2,20240323,2245, -38.4903,  95.0042,     3847,   2533.0,   2.0829,  34.7440,2,  34.7435,2,    191.2,2,    191.4,2,    88.05,2,     0.05,2,    30.62,2,     0.00,2,     2.09,2,    0.109,2,    0.055,2,    0.007,4,   0.0020,2,   2250.1,3,   2353.8,6,   7.6130,2,    25.01,     -999,9,   2.0830,2,     -999,9,     -999,     -999,9,     -999,9,     -999,9,     -999,9,     -999,9,     -999,9,   0.0183,1,   4.6446,1,     16.7,2,     -999,9,20240323,2316, -38.4903,  95.0042,     -999,9,     -999,9,-999          ,9,-999          ,9,-999          ,9
325020240221  ,I08        ,55      ,  1,6          ,6          ,2,20240323,2245, -38.4903,  95.0042,     3847,   2788.8,   1.7594,  34.7449,2,  34.7429,2,    196.8,2,    197.1,2,    96.64,2,     0.00,2,    30.70,2,     0.00,2,     2.11,2,     -999,9,     -999,9,     -999,9,     -999,9,     -999,9,     -999,9,     -999,9,     -999,     -999,9,   1.7624,2,     -999,9,     -999,     -999,9,     -999,9,     -999,9,     -999,9,     -999,9,     -999,9,   0.0189,1,   4.6397,1,     -999,9,     -999,9,20240323,2310, -38.4903,  95.0042,     -999,9,     -999,9,-999          ,9,-999          ,9,-999          ,9