BOTTLE,20240417CCHHYDRO
EXPOCODE,SECT_ID,STNNBR,CASTNO,SAMPNO,BTLNBR,BTLNBR_FLAG_W,DATE,TIME,LATITUDE,LONGITUDE,DEPTH,CTDPRS,CTDTMP,CTDSAL,CTDSAL_FLAG_W,SALNTY,SALNTY_FLAG_W,CTDOXY,CTDOXY_FLAG_W,OXYGEN,OXYGEN_FLAG_W,SILCAT,SILCAT_FLAG_W,NH4,NH4_FLAG_W,NITRAT,NITRAT_FLAG_W,NITRIT,NITRIT_FLAG_W,PHSPHT,PHSPHT_FLAG_W,CFC-11,CFC-11_FLAG_W,CFC-12,CFC-12_FLAG_W,CFC113,CFC113_FLAG_W,SF6,SF6_FLAG_W,TCARBN,TCARBN_FLAG_W,ALKALI,ALKALI_FLAG_W,PH_TOT,PH_TOT_FLAG_W,PH_TMP,DOC,DOC_FLAG_W,REFTMP,REFTMP_FLAG_W,DELC14,DELC14_FLAG_W,C14ERR,POC,POC_FLAG_W,PON,PON_FLAG_W,POP,POP_FLAG_W,PCOD,PCOD_FLAG_W,DOP,DOP_FLAG_W,TDN,TDN_FLAG_W,CTDFLUOR,CTDFLUOR_FLAG_W,CTDXMISS,CTDXMISS_FLAG_W,N2O,N2O_FLAG_W,ARGON,ARGON_FLAG_W,BTL_DATE,BTL_TIME,BTL_LAT,BTL_LON,KRYPTON,KRYPTON_FLAG_W,XENON,XENON_FLAG_W,HPLC,HPLC_FLAG_W,DNA,DNA_FLAG_W,FCM,FCM_FLAG_W
,,,,,,,,,,,METERS,DBAR,ITS-90,PSS-78,,PSS-78,,UMOL/KG,,UMOL/KG,,UMOL/KG,,UMOL/KG,,UMOL/KG,,UMOL/KG,,UMOL/KG,,PMOL/KG,,PMOL/KG,,PMOL/KG,,FMOL/KG,,UMOL/KG,,UMOL/KG,,,,DEG C,UMOL/KG,,ITS-90,,/MILLE,,/MILLE,UG/KG,,UG/KG,,UG/L,,UG/L,,UMOL/KG,,UMOL/KG,,VOLTS,,VOLTS,,NMOL/KG,,UMOL/L,,,,,,NMOL/L,,NMOL/L,,,,,,,
325020240221  ,I08        ,30      ,  1,5          ,5          ,2,20240315,0835, -55.4136,  84.9406,     4752,   3866.3,   0.1902,  34.6704,2,  34.6708,2,    224.0,2,    223.9,2,   130.00,2,     0.00,2,    32.62,2,     0.00,2,     2.23,2,    1.061,2,    0.551,2,    0.071,2,   0.3450,2,   2258.6,3,   2353.8,2,   7.5938,2,    25.00,     -999,1,   0.1896,2,     -999,9,     -999,     -999,9,     -999,9,     -999,9,     -999,9,     -999,9,     -999,1,   0.0188,1,   4.6239,1,     13.1,2,     -999,9,20240315,0857, -55.4134,  84.9407,     -999,9,     -999,9,-999          ,9,-999          ,9,-999          ,9
325020240221  ,I08        ,30      ,  1,4          ,4          ,2,20240315,0835, -55.4136,  84.9406,     4752,   4176.3,   0.1683,  34.6680,2,  34.6684,2,    225.7,2,    225.8,2,   130.39,2,     0.00,2,    32.46,2,     0.00,2,     2.22,2,    1.177,2,    0.602,2,    0.085,2,   0.4840,2,     -999,9,     -999,9,     -999,9,     -999,     -999,1,   0.1680,2,     -999,9,     -999,     -999,9,     -999,9,     -999,9,     -999,9,     -999,9,     -999,1,   0.0183,1,   4.6255,1,     13.0,2,     -999,9,20240315,0850, -55.4134,  84.9407,     -999,9,     -999,9,-999          ,9,-999          ,9,-999          ,9
325020240221  ,I08        ,30      ,  1,3          ,3          ,2,20240315,0835, -55.4136,  84.9406,     4752,   4485.9,   0.1234,  34.6644,2,  34.6649,2,    228.0,2,    228.3,2,   130.97,2,     0.00,2,    32.38,2,     0.00,2,     2.23,2,    1.350,6,    0.701,6,    0.101,6,   0.6215,6,   2258.0,3,   2354.5,6,   7.5934,6,    24.97,     -999,1,   0.1233,2,     -999,9,     -999,     -999,9,     -999,9,     -999,9,     -999,9,     -999,9,     -999,1,   0.0182,1,   4.6264,1,     12.8,6,     -999,9,20240315,0844, -55.4134,  84.9407,     -999,9,     -999,9,-999          ,9,-999          ,9,-999          ,9
325020240221  ,I08        ,30      ,  1,2          ,2          ,2,20240315,0835, -55.4136,  84.9406,     4752,   4654.3,   0.1134,  34.6630,2,  34.6633,2,    229.0,2,    229.1,2,   130.88,2,     0.00,2,    32.31,2,     0.00,2,     2.23,2,    1.392,2,    0.734,2,    0.108,2,   0.5820,2,   2254.4,3,   2353.2,2,   7.5921,6,    24.98,     -999,1,   0.1130,2,     -999,9,     -999,     -999,9,     -999,9,     -999,9,     -999,9,     -999,9,     -999,1,   0.0182,1,   4.6176,1,     12.3,2,     -999,9,20240315,0839, -55.4134,  84.9407,     -999,9,     -999,9,-999          ,9,-999          ,9,-999          ,9
325020240221  ,I08        ,30      ,  1,1          ,1          ,2,20240315,0835, -55.4136,  84.9406,     4752,   4840.6,   0.1202,  34.6622,2,  34.6629,2,    229.6,2,    229.4,2,   131.07,2,     0.00,2,    32.27,2,     0.00,2,     2.22,2,    1.385,2,    0.752,2,    0.116,2,   0.7380,2,   2259.4,3,   2353.1,2,   7.5915,2,    24.99,     -999,1,   0.1197,2,     -999,9,     -999,     -999,9,     -999,9,     -999,9,     -999,9,     -999,9,     -999,1,   0.0183,1,   4.5859,1,      7.1,4,     -999,9,20240315,0835, -55.4134,  84.9407,     -999,9,     -999,9,-999          ,9,-999          ,9,-999          ,9