BOTTLE,20240417CCHHYDRO
EXPOCODE,SECT_ID,STNNBR,CASTNO,SAMPNO,BTLNBR,BTLNBR_FLAG_W,DATE,TIME,LATITUDE,LONGITUDE,DEPTH,CTDPRS,CTDTMP,CTDSAL,CTDSAL_FLAG_W,SALNTY,SALNTY_FLAG_W,CTDOXY,CTDOXY_FLAG_W,OXYGEN,OXYGEN_FLAG_W,SILCAT,SILCAT_FLAG_W,NH4,NH4_FLAG_W,NITRAT,NITRAT_FLAG_W,NITRIT,NITRIT_FLAG_W,PHSPHT,PHSPHT_FLAG_W,CFC-11,CFC-11_FLAG_W,CFC-12,CFC-12_FLAG_W,CFC113,CFC113_FLAG_W,SF6,SF6_FLAG_W,TCARBN,TCARBN_FLAG_W,ALKALI,ALKALI_FLAG_W,PH_TOT,PH_TOT_FLAG_W,PH_TMP,DOC,DOC_FLAG_W,REFTMP,REFTMP_FLAG_W,DELC14,DELC14_FLAG_W,C14ERR,POC,POC_FLAG_W,PON,PON_FLAG_W,POP,POP_FLAG_W,PCOD,PCOD_FLAG_W,DOP,DOP_FLAG_W,TDN,TDN_FLAG_W,CTDFLUOR,CTDFLUOR_FLAG_W,CTDXMISS,CTDXMISS_FLAG_W,N2O,N2O_FLAG_W,ARGON,ARGON_FLAG_W,BTL_DATE,BTL_TIME,BTL_LAT,BTL_LON,KRYPTON,KRYPTON_FLAG_W,XENON,XENON_FLAG_W,HPLC,HPLC_FLAG_W,DNA,DNA_FLAG_W,FCM,FCM_FLAG_W
,,,,,,,,,,,METERS,DBAR,ITS-90,PSS-78,,PSS-78,,UMOL/KG,,UMOL/KG,,UMOL/KG,,UMOL/KG,,UMOL/KG,,UMOL/KG,,UMOL/KG,,PMOL/KG,,PMOL/KG,,PMOL/KG,,FMOL/KG,,UMOL/KG,,UMOL/KG,,,,DEG C,UMOL/KG,,ITS-90,,/MILLE,,/MILLE,UG/KG,,UG/KG,,UG/L,,UG/L,,UMOL/KG,,UMOL/KG,,VOLTS,,VOLTS,,NMOL/KG,,UMOL/L,,,,,,NMOL/L,,NMOL/L,,,,,,,
325020240221  ,I08        ,3       ,  1,20         ,20         ,2,20240304,1038, -66.9038,  76.5130,      463,      2.4,  -0.7571,  33.8802,2,  33.8793,2,    336.5,2,    335.8,2,    47.78,2,     1.55,2,    23.65,2,     0.16,2,     1.66,2,    5.219,2,    2.804,2,    0.454,2,   4.7800,2,   2174.3,3,   2300.0,2,   7.6759,2,    25.04,     -999,1,  -0.7606,2,     -999,9,     -999,     -999,9,     -999,9,     -999,9,     -999,9,     -999,9,     -999,1,   0.0486,1,   4.4521,1,     12.5,2,     -999,9,20240304,1124, -66.9038,  76.5130,     -999,9,     -999,9,-999          ,9,-999          ,9,-999          ,9
325020240221  ,I08        ,3       ,  1,19         ,19         ,2,20240304,1038, -66.9038,  76.5130,      463,     19.5,  -0.8200,  33.9032,2,  33.8936,2,    333.0,2,    334.1,2,    47.97,2,     1.55,2,    23.84,2,     0.16,2,     1.70,2,    5.507,2,    2.806,2,    0.444,2,   4.4480,2,   2176.2,3,   2300.3,2,   7.6734,2,    24.93,     -999,9,  -0.8220,2,     -999,9,     -999,     -999,9,     -999,9,     -999,9,     -999,9,     -999,9,     -999,9,   0.0525,1,   4.4542,1,     12.5,2,     -999,9,20240304,1122, -66.9038,  76.5130,     -999,9,     -999,9,-999          ,9,-999          ,9,-999          ,9
325020240221  ,I08        ,3       ,  1,18         ,18         ,2,20240304,1038, -66.9038,  76.5130,      463,     39.7,  -1.5323,  34.3154,2,  34.3280,2,    305.8,2,    304.4,2,    63.58,2,     1.00,2,    29.00,2,     0.23,2,     2.10,2,    4.730,2,    2.435,2,    0.385,2,   3.4220,2,   2226.7,3,   2324.1,2,   7.6027,6,    25.01,     -999,9,  -1.5390,2,     -999,9,     -999,     -999,9,     -999,9,     -999,9,     -999,9,     -999,9,     -999,9,   0.0641,1,   4.5006,1,     13.4,2,     -999,9,20240304,1119, -66.9038,  76.5131,     -999,9,     -999,9,-999          ,9,-999          ,9,-999          ,9
325020240221  ,I08        ,3       ,  1,17         ,17         ,2,20240304,1038, -66.9038,  76.5130,      463,     59.5,  -1.6635,  34.3543,2,  34.3615,2,    302.3,2,    302.3,2,    64.75,2,     0.67,2,    29.54,2,     0.28,2,     2.13,2,    5.186,2,    2.557,2,    0.374,2,   3.3850,2,   2228.7,3,   2325.8,2,   7.5949,2,    24.99,     -999,9,  -1.6632,2,     -999,9,     -999,     -999,9,     -999,9,     -999,9,     -999,9,     -999,9,     -999,9,   0.0519,1,   4.5214,1,     13.5,2,     -999,9,20240304,1117, -66.9038,  76.5130,     -999,9,     -999,9,-999          ,9,-999          ,9,-999          ,9
325020240221  ,I08        ,3       ,  1,16         ,16         ,2,20240304,1038, -66.9038,  76.5130,      463,     85.1,  -1.7104,  34.3864,2,  34.3859,2,    301.9,2,    302.1,2,    65.92,2,     0.13,2,    29.92,2,     0.20,2,     2.12,2,    4.624,2,    2.477,2,    0.385,2,   3.1470,2,   2234.5,3,   2325.5,2,   7.5953,2,    25.01,     -999,9,  -1.7108,2,     -999,9,     -999,     -999,9,     -999,9,     -999,9,     -999,9,     -999,9,     -999,9,   0.0244,1,   4.5213,1,     13.5,2,     -999,9,20240304,1114, -66.9038,  76.5131,     -999,9,     -999,9,-999          ,9,-999          ,9,-999          ,9
325020240221  ,I08        ,3       ,  1,15         ,15         ,2,20240304,1038, -66.9038,  76.5130,      463,    115.6,  -1.6824,  34.3994,2,  34.3978,2,    303.3,2,    303.1,2,    66.12,2,     0.05,2,    29.87,2,     0.11,2,     2.10,2,    4.789,2,    2.418,2,    0.380,2,   3.2570,2,     -999,9,     -999,9,     -999,9,     -999,     -999,9,  -1.6830,2,     -999,9,     -999,     -999,9,     -999,9,     -999,9,     -999,9,     -999,9,     -999,9,   0.0195,1,   4.5213,1,     13.5,2,     -999,9,20240304,1111, -66.9038,  76.5131,     -999,9,     -999,9,-999          ,9,-999          ,9,-999          ,9
325020240221  ,I08        ,3       ,  1,14         ,14         ,2,20240304,1038, -66.9038,  76.5130,      463,    140.9,  -1.6351,  34.4094,2,  34.4072,2,    303.0,2,    303.0,2,    66.41,2,     0.02,2,    29.85,2,     0.04,2,     2.09,2,    4.971,2,    2.420,2,    0.377,2,   3.2160,2,   2233.2,3,   2327.6,2,   7.6010,6,    25.00,     -999,9,  -1.6353,2,     -999,9,     -999,     -999,9,     -999,9,     -999,9,     -999,9,     -999,9,     -999,9,   0.0195,1,   4.5214,1,     13.5,2,     -999,9,20240304,1109, -66.9038,  76.5131,     -999,9,     -999,9,-999          ,9,-999          ,9,-999          ,9
325020240221  ,I08        ,3       ,  1,13         ,13         ,2,20240304,1038, -66.9038,  76.5130,      463,    165.7,  -1.6131,  34.4161,2,  34.4133,2,    302.9,2,    302.7,2,    66.61,2,     0.02,2,    29.92,2,     0.00,2,     2.11,2,    4.795,2,    2.405,2,    0.379,2,   3.2390,2,   2230.9,3,   2326.5,2,   7.6023,2,    25.01,     -999,9,  -1.6148,2,     -999,9,     -999,     -999,9,     -999,9,     -999,9,     -999,9,     -999,9,     -999,9,   0.0191,1,   4.5234,1,     13.6,2,     -999,9,20240304,1106, -66.9038,  76.5131,     -999,9,     -999,9,-999          ,9,-999          ,9,-999          ,9
325020240221  ,I08        ,3       ,  1,11         ,11         ,2,20240304,1038, -66.9038,  76.5130,      463,    191.4,  -1.5962,  34.4210,2,  34.4204,2,    302.7,2,    303.4,2,    66.70,2,     0.03,2,    30.08,2,     0.00,2,     2.09,2,    5.161,2,    2.517,2,    0.365,2,   3.1110,2,     -999,9,     -999,9,     -999,9,     -999,     -999,9,  -1.5935,2,     -999,9,     -999,     -999,9,     -999,9,     -999,9,     -999,9,     -999,9,     -999,9,   0.0185,1,   4.5237,1,     13.7,2,     -999,9,20240304,1104, -66.9038,  76.5130,     -999,9,     -999,9,-999          ,9,-999          ,9,-999          ,9
325020240221  ,I08        ,3       ,  1,10         ,10         ,2,20240304,1038, -66.9038,  76.5130,      463,    216.3,  -1.5092,  34.4330,2,  34.4306,2,    299.8,2,    300.1,2,    67.49,2,     0.00,2,    30.31,2,     0.00,2,     2.09,2,    4.702,2,    2.444,2,    0.363,2,   3.1090,2,   2232.5,3,   2329.8,2,   7.6014,6,    24.97,     -999,9,  -1.5102,2,     -999,9,     -999,     -999,9,     -999,9,     -999,9,     -999,9,     -999,9,     -999,9,   0.0181,1,   4.5262,1,     13.5,2,     -999,9,20240304,1101, -66.9038,  76.5131,     -999,9,     -999,9,-999          ,9,-999          ,9,-999          ,9
325020240221  ,I08        ,3       ,  1,9          ,9          ,2,20240304,1038, -66.9038,  76.5130,      463,    241.8,  -1.3556,  34.4506,2,  34.4481,2,    293.8,2,    294.5,2,    69.05,2,     0.01,2,    30.44,2,     0.00,2,     2.10,2,    4.569,2,    2.248,2,    0.353,2,   3.0080,2,   2230.9,3,   2331.3,6,   7.5977,2,    24.87,     -999,9,  -1.3568,2,     -999,9,     -999,     -999,9,     -999,9,     -999,9,     -999,9,     -999,9,     -999,9,   0.0179,1,   4.5286,1,     13.8,2,     -999,9,20240304,1058, -66.9038,  76.5131,     -999,9,     -999,9,-999          ,9,-999          ,9,-999          ,9
325020240221  ,I08        ,3       ,  1,8          ,8          ,2,20240304,1038, -66.9038,  76.5130,      463,    267.1,  -1.2279,  34.4635,2,  34.4612,2,    288.5,2,    289.4,2,    70.32,2,     0.05,2,    30.12,2,     0.00,2,     2.06,2,    4.154,2,    2.175,2,    0.335,2,   2.9860,2,     -999,9,     -999,9,     -999,9,     -999,     -999,9,  -1.2280,2,     -999,9,     -999,     -999,9,     -999,9,     -999,9,     -999,9,     -999,9,     -999,9,   0.0175,1,   4.5300,1,     13.7,2,     -999,9,20240304,1056, -66.9038,  76.5130,     -999,9,     -999,9,-999          ,9,-999          ,9,-999          ,9
325020240221  ,I08        ,3       ,  1,7          ,7          ,2,20240304,1038, -66.9038,  76.5130,      463,    292.2,  -1.0905,  34.4756,2,  34.4746,2,    284.1,2,    283.4,2,    72.27,2,     0.02,2,    30.34,2,     0.00,2,     2.08,2,    4.145,2,    2.055,2,    0.320,2,   2.7190,2,   2233.7,3,   2332.4,2,   7.5969,2,    24.96,     -999,9,  -1.1021,2,     -999,9,     -999,     -999,9,     -999,9,     -999,9,     -999,9,     -999,9,     -999,9,   0.0180,1,   4.5335,1,     13.7,2,     -999,9,20240304,1054, -66.9038,  76.5130,     -999,9,     -999,9,-999          ,9,-999          ,9,-999          ,9
325020240221  ,I08        ,3       ,  1,6          ,6          ,2,20240304,1038, -66.9038,  76.5130,      463,    317.5,  -0.7724,  34.5154,2,  34.5135,2,    268.7,2,    269.2,2,    79.88,2,     0.04,2,    30.68,2,     0.00,2,     2.11,2,    3.838,2,    1.805,2,    0.267,2,   2.4580,2,   2245.5,3,   2336.0,2,   7.5933,2,    24.98,     -999,9,  -0.7724,2,     -999,9,     -999,     -999,9,     -999,9,     -999,9,     -999,9,     -999,9,     -999,9,   0.0175,1,   4.5346,1,     13.6,2,     -999,9,20240304,1051, -66.9038,  76.5130,     -999,9,     -999,9,-999          ,9,-999          ,9,-999          ,9
325020240221  ,I08        ,3       ,  1,5          ,5          ,2,20240304,1038, -66.9038,  76.5130,      463,    342.7,  -0.8155,  34.5168,2,  34.5154,2,    269.3,3,    276.0,2,    79.49,2,     0.08,2,    30.63,2,     0.03,2,     2.11,2,    3.539,2,    1.861,2,    0.289,2,   2.6580,2,     -999,9,     -999,9,     -999,9,     -999,     -999,9,  -0.8094,2,     -999,9,     -999,     -999,9,     -999,9,     -999,9,     -999,9,     -999,9,     -999,9,   0.0180,1,   4.5335,1,     13.6,2,     -999,9,20240304,1049, -66.9038,  76.5130,     -999,9,     -999,9,-999          ,9,-999          ,9,-999          ,9
325020240221  ,I08        ,3       ,  1,4          ,4          ,2,20240304,1038, -66.9038,  76.5130,      463,    368.2,  -0.8678,  34.5167,2,  34.5140,2,    271.0,2,    271.1,2,    78.91,2,     0.09,2,    30.62,2,     0.04,2,     2.12,2,    3.595,2,    1.862,2,    0.278,2,   2.6430,2,   2241.4,3,   2336.0,2,   7.5900,2,    24.98,     -999,9,  -0.8715,2,     -999,9,     -999,     -999,9,     -999,9,     -999,9,     -999,9,     -999,9,     -999,9,   0.0187,1,   4.5334,1,     13.2,2,     -999,9,20240304,1047, -66.9038,  76.5130,     -999,9,     -999,9,-999          ,9,-999          ,9,-999          ,9
325020240221  ,I08        ,3       ,  1,3          ,3          ,2,20240304,1038, -66.9038,  76.5130,      463,    394.0,  -0.8665,  34.5177,2,  34.5166,2,    271.0,2,    271.1,2,    79.30,2,     0.08,2,    30.68,2,     0.04,2,     2.12,2,    3.797,2,    1.945,2,    0.275,2,   2.5740,2,     -999,9,     -999,9,     -999,9,     -999,     -999,9,  -0.8662,2,     -999,9,     -999,     -999,9,     -999,9,     -999,9,     -999,9,     -999,9,     -999,9,   0.0178,1,   4.5324,1,     13.4,2,     -999,9,20240304,1044, -66.9038,  76.5130,     -999,9,     -999,9,-999          ,9,-999          ,9,-999          ,9
325020240221  ,I08        ,3       ,  1,2          ,2          ,2,20240304,1038, -66.9038,  76.5130,      463,    439.5,  -0.9716,  34.5194,2,  34.5190,2,    273.8,2,    273.5,2,    79.00,2,     0.13,2,    30.71,2,     0.06,2,     2.13,2,    3.794,2,    1.934,2,    0.289,2,   2.7390,2,   2240.4,3,   2336.1,2,   7.5879,6,    25.01,     -999,9,  -0.9722,2,     -999,9,     -999,     -999,9,     -999,9,     -999,9,     -999,9,     -999,9,     -999,9,   0.0187,1,   4.5323,1,     13.0,2,     -999,9,20240304,1041, -66.9038,  76.5130,     -999,9,     -999,9,-999          ,9,-999          ,9,-999          ,9
325020240221  ,I08        ,3       ,  1,1          ,1          ,2,20240304,1038, -66.9038,  76.5130,      463,    457.4,  -0.9496,  34.5216,2,  34.5207,2,    273.4,2,    272.9,2,    79.49,2,     0.14,2,    30.81,2,     0.06,2,     2.15,2,    3.823,2,    1.913,2,    0.289,2,   2.7050,2,   2245.0,3,   2337.8,2,   7.5871,2,    25.01,     -999,9,  -0.9490,2,     -999,9,     -999,     -999,9,     -999,9,     -999,9,     -999,9,     -999,9,     -999,9,   0.0180,1,   4.5323,1,      8.8,4,     -999,9,20240304,1038, -66.9038,  76.5130,     -999,9,     -999,9,-999          ,9,-999          ,9,-999          ,9