BOTTLE,20240417CCHHYDRO
EXPOCODE,SECT_ID,STNNBR,CASTNO,SAMPNO,BTLNBR,BTLNBR_FLAG_W,DATE,TIME,LATITUDE,LONGITUDE,DEPTH,CTDPRS,CTDTMP,CTDSAL,CTDSAL_FLAG_W,SALNTY,SALNTY_FLAG_W,CTDOXY,CTDOXY_FLAG_W,OXYGEN,OXYGEN_FLAG_W,SILCAT,SILCAT_FLAG_W,NH4,NH4_FLAG_W,NITRAT,NITRAT_FLAG_W,NITRIT,NITRIT_FLAG_W,PHSPHT,PHSPHT_FLAG_W,CFC-11,CFC-11_FLAG_W,CFC-12,CFC-12_FLAG_W,CFC113,CFC113_FLAG_W,SF6,SF6_FLAG_W,TCARBN,TCARBN_FLAG_W,ALKALI,ALKALI_FLAG_W,PH_TOT,PH_TOT_FLAG_W,PH_TMP,DOC,DOC_FLAG_W,REFTMP,REFTMP_FLAG_W,DELC14,DELC14_FLAG_W,C14ERR,POC,POC_FLAG_W,PON,PON_FLAG_W,POP,POP_FLAG_W,PCOD,PCOD_FLAG_W,DOP,DOP_FLAG_W,TDN,TDN_FLAG_W,CTDFLUOR,CTDFLUOR_FLAG_W,CTDXMISS,CTDXMISS_FLAG_W,N2O,N2O_FLAG_W,ARGON,ARGON_FLAG_W,BTL_DATE,BTL_TIME,BTL_LAT,BTL_LON,KRYPTON,KRYPTON_FLAG_W,XENON,XENON_FLAG_W,HPLC,HPLC_FLAG_W,DNA,DNA_FLAG_W,FCM,FCM_FLAG_W
,,,,,,,,,,,METERS,DBAR,ITS-90,PSS-78,,PSS-78,,UMOL/KG,,UMOL/KG,,UMOL/KG,,UMOL/KG,,UMOL/KG,,UMOL/KG,,UMOL/KG,,PMOL/KG,,PMOL/KG,,PMOL/KG,,FMOL/KG,,UMOL/KG,,UMOL/KG,,,,DEG C,UMOL/KG,,ITS-90,,/MILLE,,/MILLE,UG/KG,,UG/KG,,UG/L,,UG/L,,UMOL/KG,,UMOL/KG,,VOLTS,,VOLTS,,NMOL/KG,,UMOL/L,,,,,,NMOL/L,,NMOL/L,,,,,,,
325020240221  ,I08        ,64      ,  1,34         ,34         ,2,20240327,1701, -29.5162,  95.0057,     2632,      4.0,  22.8537,  36.0386,2,  36.0254,2,    217.1,2,    216.4,2,     1.66,2,     0.03,2,     0.07,2,     0.00,2,     0.08,2,    1.612,2,    1.072,2,    0.202,4,   1.8540,2,   2080.9,3,   2362.3,2,   8.0020,2,    24.97,     -999,1,  22.8528,2,     -999,9,     -999,     -999,9,     -999,9,     -999,9,     -999,9,     -999,9,     -999,1,   0.0195,1,   4.6431,1,      7.4,2,     -999,9,20240327,1836, -29.5162,  95.0057,     -999,9,     -999,9,-999          ,9,-999          ,9,-999          ,9
325020240221  ,I08        ,64      ,  1,33         ,33         ,2,20240327,1701, -29.5162,  95.0057,     2632,     25.4,  22.8533,  36.0384,2,  36.0256,2,    216.7,2,    216.4,2,     1.66,2,     0.02,2,     0.05,2,     0.00,2,     0.06,2,    1.711,2,    1.103,2,    0.187,4,   1.9440,2,   2079.2,3,   2364.5,2,   8.0022,2,    24.96,     -999,1,  22.8528,2,     -999,9,     -999,     -999,9,     -999,9,     -999,9,     -999,9,     -999,9,     -999,1,   0.0195,1,   4.6439,1,      7.5,2,     -999,9,20240327,1833, -29.5162,  95.0057,     -999,9,     -999,9,-999          ,9,-999          ,9,-999          ,9
325020240221  ,I08        ,64      ,  1,32         ,32         ,2,20240327,1701, -29.5162,  95.0057,     2632,     49.6,  22.7613,  36.0300,2,  36.0153,2,    217.6,2,    218.5,2,     1.66,2,     0.09,2,     0.03,2,     0.00,2,     0.07,2,    1.977,2,    1.124,2,    0.200,4,   2.0150,2,   2079.2,3,   2362.7,2,   7.9995,2,    25.00,     -999,1,  22.7385,2,     -999,9,     -999,     -999,9,     -999,9,     -999,9,     -999,9,     -999,9,     -999,1,   0.0196,1,   4.6425,1,      7.7,2,     -999,9,20240327,1831, -29.5162,  95.0057,     -999,9,     -999,9,-999          ,9,-999          ,9,-999          ,9
325020240221  ,I08        ,64      ,  1,31         ,31         ,2,20240327,1701, -29.5162,  95.0057,     2632,     78.6,  19.0281,  35.8096,2,  35.8026,2,    247.2,2,    247.5,2,     1.27,2,     0.02,2,     0.02,2,     0.00,2,     0.08,2,    1.672,4,    1.366,2,    0.209,4,   1.8970,2,   2085.7,3,   2351.1,2,   7.9739,2,    24.96,     -999,1,  19.0563,2,     -999,9,     -999,     -999,9,     -999,9,     -999,9,     -999,9,     -999,9,     -999,1,   0.0283,1,   4.6294,1,      8.6,2,     -999,9,20240327,1829, -29.5162,  95.0057,     -999,9,     -999,9,-999          ,9,-999          ,9,-999          ,9
325020240221  ,I08        ,64      ,  1,30         ,30         ,2,20240327,1701, -29.5162,  95.0057,     2632,    101.0,  17.5016,  35.7618,2,  35.7560,2,    243.2,2,    242.9,2,     0.98,2,     0.04,2,     0.00,2,     0.00,2,     0.12,2,    2.320,2,    1.395,2,    0.214,4,   2.0630,2,   2095.6,3,   2350.6,2,   7.9574,6,    24.97,     -999,1,  17.5167,2,     -999,9,     -999,     -999,9,     -999,9,     -999,9,     -999,9,     -999,9,     -999,1,   0.0330,1,   4.6400,1,      9.0,2,     -999,9,20240327,1827, -29.5162,  95.0057,     -999,9,     -999,9,-999          ,9,-999          ,9,-999          ,9
325020240221  ,I08        ,64      ,  1,29         ,29         ,2,20240327,1701, -29.5162,  95.0057,     2632,    127.1,  16.7655,  35.6959,2,  35.6899,2,    246.0,2,    246.0,2,     1.17,2,     0.02,2,     0.00,2,     0.00,2,     0.10,2,    2.412,2,    1.415,2,    0.206,4,   2.0790,2,   2099.4,3,   2346.3,2,   7.9436,6,    25.00,     -999,1,  16.7941,2,     -999,9,     -999,     -999,9,     -999,9,     -999,9,     -999,9,     -999,9,     -999,1,   0.0334,1,   4.6462,1,      9.2,2,     -999,9,20240327,1825, -29.5162,  95.0057,     -999,9,     -999,9,-999          ,9,-999          ,9,-999          ,9
325020240221  ,I08        ,64      ,  1,28         ,28         ,2,20240327,1701, -29.5162,  95.0057,     2632,    151.4,  15.7064,  35.6099,2,  35.6078,2,    234.1,2,    233.1,2,     1.27,2,     0.00,2,     2.83,2,     0.11,2,     0.31,2,    2.642,2,    1.501,2,    0.202,4,   1.9920,2,   2112.0,3,   2343.7,6,   7.9089,2,    24.98,     -999,1,  15.7105,2,     -999,9,     -999,     -999,9,     -999,9,     -999,9,     -999,9,     -999,9,     -999,1,   0.0317,1,   4.6565,1,      9.7,2,     -999,9,20240327,1823, -29.5162,  95.0057,     -999,9,     -999,9,-999          ,9,-999          ,9,-999          ,9
325020240221  ,I08        ,64      ,  1,27         ,27         ,2,20240327,1701, -29.5162,  95.0057,     2632,    175.2,  15.0109,  35.5404,2,  35.5379,2,    230.3,2,    230.3,2,     1.17,2,     0.03,2,     3.75,2,     0.11,2,     0.37,2,    2.733,2,    1.515,2,    0.196,4,   1.9420,2,   2115.2,3,   2339.7,2,   7.8899,2,    25.00,     -999,1,  15.0172,2,     -999,9,     -999,     -999,9,     -999,9,     -999,9,     -999,9,     -999,9,     -999,1,   0.0272,1,   4.6639,1,     10.0,2,     -999,9,20240327,1821, -29.5162,  95.0057,     -999,9,     -999,9,-999          ,9,-999          ,9,-999          ,9
325020240221  ,I08        ,64      ,  1,26         ,26         ,2,20240327,1701, -29.5162,  95.0057,     2632,    200.6,  14.2830,  35.4127,2,  35.4093,2,    235.6,2,    236.0,2,     1.17,2,     0.00,2,     3.77,2,     0.10,2,     0.40,2,    2.858,2,    1.547,2,    0.211,4,   2.1100,2,   2115.8,3,   2334.3,2,   7.8741,2,    24.99,     -999,1,  14.2707,2,     -999,9,     -999,     -999,9,     -999,9,     -999,9,     -999,9,     -999,9,     -999,1,   0.0232,1,   4.6701,1,     10.4,2,     -999,9,20240327,1819, -29.5162,  95.0057,     -999,9,     -999,9,-999          ,9,-999          ,9,-999          ,9
325020240221  ,I08        ,64      ,  1,25         ,38         ,2,20240327,1701, -29.5162,  95.0057,     2632,    224.3,  14.0120,  35.4008,2,  35.3983,2,    232.0,2,    232.5,2,     1.37,2,     0.02,2,     4.65,2,     0.00,2,     0.43,2,    2.803,2,    1.534,2,    0.177,4,   2.1990,2,   2120.5,3,   2331.5,2,   7.8679,2,    24.96,     -999,1,  14.0059,2,     -999,9,     -999,     -999,9,     -999,9,     -999,9,     -999,9,     -999,9,     -999,1,   0.0195,1,   4.6757,1,     10.6,2,     -999,9,20240327,1817, -29.5162,  95.0057,     -999,9,     -999,9,-999          ,9,-999          ,9,-999          ,9
325020240221  ,I08        ,64      ,  1,24         ,24         ,2,20240327,1701, -29.5162,  95.0057,     2632,    250.5,  13.3870,  35.2984,2,  35.3007,2,    229.5,2,    229.5,2,     1.66,2,     0.00,2,     6.16,2,     0.00,2,     0.54,2,    3.005,2,    1.616,2,    0.148,4,   2.0930,2,   2114.4,3,   2327.5,2,   7.8487,2,    24.97,     -999,1,  13.4091,2,     -999,9,     -999,     -999,9,     -999,9,     -999,9,     -999,9,     -999,9,     -999,1,   0.0183,1,   4.6769,1,     11.3,2,     -999,9,20240327,1815, -29.5162,  95.0057,     -999,9,     -999,9,-999          ,9,-999          ,9,-999          ,9
325020240221  ,I08        ,64      ,  1,23         ,37         ,2,20240327,1701, -29.5162,  95.0057,     2632,    303.2,  12.3243,  35.1200,2,  35.1199,2,    236.1,2,    235.8,2,     1.95,2,     0.00,2,     7.94,2,     0.00,2,     0.65,2,    3.139,2,    1.774,2,    0.174,4,   2.1190,2,   2125.0,3,   2316.8,2,   7.8270,6,    24.98,     -999,1,  12.3373,2,     -999,9,     -999,     -999,9,     -999,9,     -999,9,     -999,9,     -999,9,     -999,1,   0.0171,1,   4.6792,1,     12.1,2,     -999,9,20240327,1812, -29.5162,  95.0057,     -999,9,     -999,9,-999          ,9,-999          ,9,-999          ,9
325020240221  ,I08        ,64      ,  1,22         ,22         ,2,20240327,1701, -29.5162,  95.0057,     2632,    353.7,  11.4752,  34.9755,2,  34.9793,2,    238.9,2,    239.3,2,     2.34,2,     0.00,2,     9.87,2,     0.00,2,     0.75,2,    3.312,2,    1.736,2,    0.182,4,   2.2130,2,   2124.9,3,   2309.7,2,   7.8050,2,    25.02,     -999,1,  11.4882,2,     -999,9,     -999,     -999,9,     -999,9,     -999,9,     -999,9,     -999,9,     -999,1,   0.0179,1,   4.6800,1,     12.6,2,     -999,9,20240327,1810, -29.5162,  95.0057,     -999,9,     -999,9,-999          ,9,-999          ,9,-999          ,9
325020240221  ,I08        ,64      ,  1,21         ,21         ,2,20240327,1701, -29.5162,  95.0057,     2632,    402.6,  10.6887,  34.8477,2,  34.8499,2,    241.3,2,    241.4,2,     3.02,2,     0.00,2,    11.98,2,     0.00,2,     0.87,2,    3.702,2,    1.884,2,    0.174,4,   2.1290,2,   2136.8,3,   2302.2,2,   7.7867,2,    24.97,     -999,1,  10.6978,2,     -999,9,     -999,     -999,9,     -999,9,     -999,9,     -999,9,     -999,9,     -999,1,   0.0183,1,   4.6801,1,     12.7,2,     -999,9,20240327,1808, -29.5162,  95.0057,     -999,9,     -999,9,-999          ,9,-999          ,9,-999          ,9
325020240221  ,I08        ,64      ,  1,20         ,20         ,2,20240327,1701, -29.5162,  95.0057,     2632,    454.6,  10.2556,  34.7817,2,  34.7830,2,    240.7,2,    241.5,2,     3.42,2,     0.00,2,    13.38,2,     0.00,2,     0.97,2,    3.729,2,    1.937,2,    0.195,4,   1.9600,2,   2124.4,3,   2298.6,2,   7.7737,2,    24.96,     -999,1,  10.2722,2,     -999,9,     -999,     -999,9,     -999,9,     -999,9,     -999,9,     -999,9,     -999,1,   0.0179,1,   4.6811,1,     12.8,2,     -999,9,20240327,1806, -29.5162,  95.0057,     -999,9,     -999,9,-999          ,9,-999          ,9,-999          ,9
325020240221  ,I08        ,64      ,  1,19         ,19         ,2,20240327,1701, -29.5162,  95.0057,     2632,    504.1,   9.9949,  34.7578,2,  34.7579,2,    236.1,2,    236.0,2,     3.90,2,     0.00,2,    14.68,2,     0.00,2,     1.04,2,    3.326,4,    1.953,2,    0.205,4,   1.9750,2,   2138.8,3,   2296.3,2,   7.7596,2,    24.97,     -999,1,   9.9925,2,     -999,9,     -999,     -999,9,     -999,9,     -999,9,     -999,9,     -999,9,     -999,1,   0.0177,1,   4.6809,1,      9.4,2,     -999,9,20240327,1803, -29.5162,  95.0057,     -999,9,     -999,9,-999          ,9,-999          ,9,-999          ,9
325020240221  ,I08        ,64      ,  1,18         ,18         ,2,20240327,1701, -29.5162,  95.0057,     2632,    607.2,   9.2884,  34.6721,2,  34.6706,2,    233.2,2,    233.7,2,     4.98,2,     0.00,2,    17.08,2,     0.00,2,     1.20,2,    3.821,2,    1.999,2,    0.154,4,   1.7700,2,   2134.9,3,   2292.1,2,   7.7413,6,    24.98,     -999,1,   9.2927,2,     -999,9,     -999,     -999,9,     -999,9,     -999,9,     -999,9,     -999,9,     -999,1,   0.0180,1,   4.6819,1,     13.9,2,     -999,9,20240327,1800, -29.5162,  95.0057,     -999,9,     -999,9,-999          ,9,-999          ,9,-999          ,9
325020240221  ,I08        ,64      ,  1,17         ,17         ,2,20240327,1701, -29.5162,  95.0057,     2632,    706.4,   8.2775,  34.5622,2,  34.5643,2,    217.0,2,    217.6,2,     9.17,2,     0.00,2,    21.05,2,     0.00,2,     1.45,2,    3.539,2,    1.831,2,    0.137,4,   1.2590,2,   2153.8,3,   2290.3,2,   7.7045,2,    25.01,     -999,1,   8.2794,2,     -999,9,     -999,     -999,9,     -999,9,     -999,9,     -999,9,     -999,9,     -999,1,   0.0179,1,   4.6827,1,     15.5,2,     -999,9,20240327,1757, -29.5162,  95.0057,     -999,9,     -999,9,-999          ,9,-999          ,9,-999          ,9
325020240221  ,I08        ,64      ,  1,16         ,16         ,2,20240327,1701, -29.5162,  95.0057,     2632,    808.3,   6.4646,  34.4357,2,  34.4373,2,    196.7,2,    196.4,2,    20.60,2,     0.00,2,    27.12,2,     0.00,2,     1.84,2,    2.957,2,    1.365,2,    0.102,4,   0.5850,2,   2177.2,3,   2291.3,2,   7.6441,2,    24.98,     -999,1,   6.4810,2,     -999,9,     -999,     -999,9,     -999,9,     -999,9,     -999,9,     -999,9,     -999,1,   0.0183,1,   4.6826,1,     18.2,2,     -999,9,20240327,1754, -29.5162,  95.0057,     -999,9,     -999,9,-999          ,9,-999          ,9,-999          ,9
325020240221  ,I08        ,64      ,  1,15         ,15         ,2,20240327,1701, -29.5162,  95.0057,     2632,    908.0,   5.1711,  34.4010,2,  34.4006,2,    185.9,2,    185.5,2,    34.16,2,     0.00,2,    30.58,2,     0.00,2,     2.10,2,    2.084,2,    0.947,2,    0.084,4,   0.3200,2,   2199.9,3,   2300.2,2,   7.6097,2,    24.97,     -999,1,   5.1718,2,     -999,9,     -999,     -999,9,     -999,9,     -999,9,     -999,9,     -999,9,     -999,1,   0.0183,1,   4.6717,1,     20.1,2,     -999,9,20240327,1750, -29.5162,  95.0057,     -999,9,     -999,9,-999          ,9,-999          ,9,-999          ,9
325020240221  ,I08        ,64      ,  1,14         ,14         ,2,20240327,1701, -29.5162,  95.0057,     2632,   1011.5,   4.3303,  34.4205,2,  34.4186,2,    175.3,2,    174.8,2,    47.54,2,     0.00,2,    32.73,2,     0.00,2,     2.28,2,    1.398,2,    0.640,2,    0.057,4,   0.1790,2,   2221.0,3,   2314.6,2,   7.5855,2,    24.97,     -999,1,   4.3320,2,     -999,9,     -999,     -999,9,     -999,9,     -999,9,     -999,9,     -999,9,     -999,1,   0.0183,1,   4.6630,1,     21.6,2,     -999,9,20240327,1746, -29.5162,  95.0057,     -999,9,     -999,9,-999          ,9,-999          ,9,-999          ,9
325020240221  ,I08        ,64      ,  1,13         ,13         ,2,20240327,1701, -29.5162,  95.0057,     2632,   1112.8,   4.1209,  34.5017,2,  34.5023,2,    148.8,2,    148.6,2,    65.40,2,     0.00,2,    34.59,2,     0.00,2,     2.44,2,    0.603,2,    0.288,2,    0.018,4,   0.0830,2,   2249.4,3,   2334.4,2,   7.5608,2,    24.98,     -999,1,   4.1225,2,     -999,9,     -999,     -999,9,     -999,9,     -999,9,     -999,9,     -999,9,     -999,1,   0.0183,1,   4.6581,1,     22.6,2,     -999,9,20240327,1742, -29.5162,  95.0057,     -999,9,     -999,9,-999          ,9,-999          ,9,-999          ,9
325020240221  ,I08        ,64      ,  1,12         ,12         ,2,20240327,1701, -29.5162,  95.0057,     2632,   1211.6,   3.7385,  34.5348,2,  34.5347,2,    145.6,2,    146.4,2,    73.10,2,     0.00,2,    35.07,2,     0.00,2,     2.50,2,    0.389,2,    0.174,2,    0.011,4,   0.0000,2,   2253.7,3,   2341.0,2,   7.5552,2,    24.97,     -999,1,   3.7433,2,     -999,9,     -999,     -999,9,     -999,9,     -999,9,     -999,9,     -999,9,     -999,1,   0.0183,1,   4.6528,1,     22.7,2,     -999,9,20240327,1739, -29.5162,  95.0057,     -999,9,     -999,9,-999          ,9,-999          ,9,-999          ,9
325020240221  ,I08        ,64      ,  1,11         ,11         ,2,20240327,1701, -29.5162,  95.0057,     2632,   1312.0,   3.4443,  34.5623,2,  34.5626,2,    146.3,2,    146.6,2,    77.59,2,     0.00,2,    35.20,2,     0.00,2,     2.51,2,    0.244,2,    0.114,2,    0.006,4,   0.0000,2,   2263.3,3,   2347.0,2,   7.5544,2,    24.99,     -999,1,   3.4390,2,     -999,9,     -999,     -999,9,     -999,9,     -999,9,     -999,9,     -999,9,     -999,1,   0.0186,1,   4.6483,1,     22.6,2,     -999,9,20240327,1735, -29.5162,  95.0057,     -999,9,     -999,9,-999          ,9,-999          ,9,-999          ,9
325020240221  ,I08        ,64      ,  1,10         ,10         ,2,20240327,1701, -29.5162,  95.0057,     2632,   1411.8,   3.2726,  34.5939,2,  34.5944,2,    144.9,2,    145.3,2,    83.06,2,     0.02,2,    35.28,2,     0.00,2,     2.51,2,    0.143,2,    0.069,2,    0.005,4,   0.0000,2,   2266.4,3,   2352.4,2,   7.5557,2,    25.01,     -999,1,   3.2732,2,     -999,9,     -999,     -999,9,     -999,9,     -999,9,     -999,9,     -999,9,     -999,1,   0.0183,1,   4.6458,1,     22.5,2,     -999,9,20240327,1732, -29.5162,  95.0057,     -999,9,     -999,9,-999          ,9,-999          ,9,-999          ,9
325020240221  ,I08        ,64      ,  1,9          ,9          ,2,20240327,1701, -29.5162,  95.0057,     2632,   1515.7,   3.0819,  34.6205,2,  34.6207,2,    147.0,2,    147.4,2,    86.76,2,     0.00,2,    35.13,2,     0.00,2,     2.50,2,    0.089,2,    0.045,2,   -0.003,4,   0.0000,2,   2272.3,3,   2355.7,2,   7.5595,2,    24.96,     -999,1,   3.0850,2,     -999,9,     -999,     -999,9,     -999,9,     -999,9,     -999,9,     -999,9,     -999,1,   0.0183,1,   4.6430,1,     22.6,2,     -999,9,20240327,1729, -29.5162,  95.0057,     -999,9,     -999,9,-999          ,9,-999          ,9,-999          ,9
325020240221  ,I08        ,64      ,  1,8          ,8          ,2,20240327,1701, -29.5162,  95.0057,     2632,   1616.1,   2.8881,  34.6417,2,  34.6409,2,    151.3,2,    151.3,2,    88.81,2,     0.00,2,    34.86,2,     0.00,2,     2.49,2,    0.090,2,    0.046,2,    0.002,4,   0.0000,2,   2273.8,3,   2357.2,6,   7.5639,2,    24.96,     -999,1,   2.8919,2,     -999,9,     -999,     -999,9,     -999,9,     -999,9,     -999,9,     -999,9,     -999,1,   0.0189,1,   4.6409,1,     22.2,2,     -999,9,20240327,1726, -29.5162,  95.0057,     -999,9,     -999,9,-999          ,9,-999          ,9,-999          ,9
325020240221  ,I08        ,64      ,  1,7          ,7          ,2,20240327,1701, -29.5162,  95.0057,     2632,   1717.2,   2.7660,  34.6716,2,  34.6720,2,    152.1,2,    152.0,2,    94.37,2,     0.02,2,    34.66,2,     0.00,2,     2.47,2,    0.061,2,    0.030,2,   -0.003,4,   0.0000,2,   2276.5,3,   2365.2,2,   7.5711,6,    24.97,     -999,1,   2.7644,2,     -999,9,     -999,     -999,9,     -999,9,     -999,9,     -999,9,     -999,9,     -999,1,   0.0183,1,   4.6386,1,     22.2,2,     -999,9,20240327,1724, -29.5162,  95.0057,     -999,9,     -999,9,-999          ,9,-999          ,9,-999          ,9
325020240221  ,I08        ,64      ,  1,6          ,6          ,2,20240327,1701, -29.5162,  95.0057,     2632,   1818.8,   2.6240,  34.6894,2,  34.6893,2,    155.0,2,    154.9,2,    97.59,2,     0.00,2,    34.47,2,     0.00,2,     2.43,2,    0.039,2,    0.022,2,    0.001,4,   0.0000,2,   2277.9,3,   2368.2,2,   7.5740,2,    24.98,     -999,1,   2.6250,2,     -999,9,     -999,     -999,9,     -999,9,     -999,9,     -999,9,     -999,9,     -999,1,   0.0183,1,   4.6372,1,     22.0,2,     -999,9,20240327,1721, -29.5162,  95.0057,     -999,9,     -999,9,-999          ,9,-999          ,9,-999          ,9
325020240221  ,I08        ,64      ,  1,5          ,5          ,2,20240327,1701, -29.5162,  95.0057,     2632,   1919.1,   2.4816,  34.7010,2,  34.7011,2,    158.2,2,    158.2,2,   100.32,2,     0.00,2,    34.21,2,     0.00,2,     2.42,2,    0.040,2,    0.023,2,    0.004,4,   0.0000,2,   2279.1,3,   2370.5,2,   7.5784,2,    25.02,     -999,1,   2.4833,2,     -999,9,     -999,     -999,9,     -999,9,     -999,9,     -999,9,     -999,9,     -999,1,   0.0183,1,   4.6349,1,     21.2,2,     -999,9,20240327,1718, -29.5162,  95.0057,     -999,9,     -999,9,-999          ,9,-999          ,9,-999          ,9
325020240221  ,I08        ,64      ,  1,4          ,4          ,2,20240327,1701, -29.5162,  95.0057,     2632,   2021.6,   2.3365,  34.7122,2,  34.7119,2,    161.8,2,    161.6,2,   103.64,2,     0.00,2,    33.91,2,     0.00,2,     2.41,2,    0.029,2,    0.015,2,    0.005,4,   0.0000,2,   2279.0,3,   2375.0,2,   7.5855,6,    24.98,     -999,1,   2.3371,2,     -999,9,     -999,     -999,9,     -999,9,     -999,9,     -999,9,     -999,9,     -999,1,   0.0188,1,   4.6325,1,     21.1,2,     -999,9,20240327,1715, -29.5162,  95.0057,     -999,9,     -999,9,-999          ,9,-999          ,9,-999          ,9