BOTTLE,20240417CCHHYDRO
EXPOCODE,SECT_ID,STNNBR,CASTNO,SAMPNO,BTLNBR,BTLNBR_FLAG_W,DATE,TIME,LATITUDE,LONGITUDE,DEPTH,CTDPRS,CTDTMP,CTDSAL,CTDSAL_FLAG_W,SALNTY,SALNTY_FLAG_W,CTDOXY,CTDOXY_FLAG_W,OXYGEN,OXYGEN_FLAG_W,SILCAT,SILCAT_FLAG_W,NH4,NH4_FLAG_W,NITRAT,NITRAT_FLAG_W,NITRIT,NITRIT_FLAG_W,PHSPHT,PHSPHT_FLAG_W,CFC-11,CFC-11_FLAG_W,CFC-12,CFC-12_FLAG_W,CFC113,CFC113_FLAG_W,SF6,SF6_FLAG_W,TCARBN,TCARBN_FLAG_W,ALKALI,ALKALI_FLAG_W,PH_TOT,PH_TOT_FLAG_W,PH_TMP,DOC,DOC_FLAG_W,REFTMP,REFTMP_FLAG_W,DELC14,DELC14_FLAG_W,C14ERR,POC,POC_FLAG_W,PON,PON_FLAG_W,POP,POP_FLAG_W,PCOD,PCOD_FLAG_W,DOP,DOP_FLAG_W,TDN,TDN_FLAG_W,CTDFLUOR,CTDFLUOR_FLAG_W,CTDXMISS,CTDXMISS_FLAG_W,N2O,N2O_FLAG_W,ARGON,ARGON_FLAG_W,BTL_DATE,BTL_TIME,BTL_LAT,BTL_LON,KRYPTON,KRYPTON_FLAG_W,XENON,XENON_FLAG_W,HPLC,HPLC_FLAG_W,DNA,DNA_FLAG_W,FCM,FCM_FLAG_W
,,,,,,,,,,,METERS,DBAR,ITS-90,PSS-78,,PSS-78,,UMOL/KG,,UMOL/KG,,UMOL/KG,,UMOL/KG,,UMOL/KG,,UMOL/KG,,UMOL/KG,,PMOL/KG,,PMOL/KG,,PMOL/KG,,FMOL/KG,,UMOL/KG,,UMOL/KG,,,,DEG C,UMOL/KG,,ITS-90,,/MILLE,,/MILLE,UG/KG,,UG/KG,,UG/L,,UG/L,,UMOL/KG,,UMOL/KG,,VOLTS,,VOLTS,,NMOL/KG,,UMOL/L,,,,,,NMOL/L,,NMOL/L,,,,,,,
325020240221  ,I08        ,10      ,  1,36         ,36         ,2,20240305,2330, -64.9202,  78.9486,     3481,      4.0,   0.1897,  33.8238,2,  33.8230,2,    330.6,2,    330.9,2,    39.75,2,     0.50,2,    24.97,2,     0.21,2,     1.64,2,    5.066,2,    2.661,2,    0.418,2,   4.5850,2,   2164.9,3,   2289.9,2,   7.6885,6,    24.94,     -999,1,   0.1892,2,     -999,9,     -999,     -999,9,     -999,9,     -999,9,     -999,9,     -999,9,     -999,1,   0.0705,1,   4.4632,1,     11.5,2,     -999,9,20240306,0125, -64.9202,  78.9486,     -999,9,     -999,9,-999          ,9,-999          ,9,-999          ,9
325020240221  ,I08        ,10      ,  1,35         ,35         ,2,20240305,2330, -64.9202,  78.9486,     3481,     24.6,   0.1888,  33.8244,2,  33.8226,2,    330.3,2,    330.2,2,    39.46,2,     0.48,2,    24.85,2,     0.21,2,     1.65,2,    5.125,2,    2.772,2,    0.425,2,   4.4710,2,   2163.2,3,   2289.9,2,   7.6884,2,    25.00,     -999,1,   0.1875,2,     -999,9,     -999,     -999,9,     -999,9,     -999,9,     -999,9,     -999,9,     -999,1,   0.0726,1,   4.4663,1,     11.8,2,     -999,9,20240306,0123, -64.9202,  78.9486,     -999,9,     -999,9,-999          ,9,-999          ,9,-999          ,9
325020240221  ,I08        ,10      ,  1,34         ,34         ,2,20240305,2330, -64.9202,  78.9486,     3481,     49.4,  -1.3061,  34.1892,2,  34.1862,2,    293.3,2,    293.5,2,    59.27,2,     0.78,2,    29.29,2,     0.13,2,     2.07,2,    3.925,2,    2.151,2,    0.328,2,   3.0130,2,   2213.9,3,   2313.7,2,   7.6042,2,    25.00,     -999,1,  -1.3068,2,     -999,9,     -999,     -999,9,     -999,9,     -999,9,     -999,9,     -999,9,     -999,1,   0.0672,1,   4.5480,1,     13.6,2,     -999,9,20240306,0121, -64.9202,  78.9487,     -999,9,     -999,9,-999          ,9,-999          ,9,-999          ,9
325020240221  ,I08        ,10      ,  1,33         ,33         ,2,20240305,2330, -64.9202,  78.9486,     3481,     75.9,  -1.2673,  34.3099,2,  34.3072,2,    277.5,2,    277.3,2,    65.81,2,     0.29,2,    30.62,2,     0.17,2,     2.11,2,    3.663,2,    1.951,2,    0.308,2,   2.5530,2,   2226.9,3,   2316.8,2,   7.5853,2,    24.95,     -999,1,  -1.2734,2,     -999,9,     -999,     -999,9,     -999,9,     -999,9,     -999,9,     -999,9,     -999,1,   0.0323,1,   4.5885,1,     13.9,2,     -999,9,20240306,0119, -64.9202,  78.9486,     -999,9,     -999,9,-999          ,9,-999          ,9,-999          ,9
325020240221  ,I08        ,10      ,  1,32         ,32         ,2,20240305,2330, -64.9202,  78.9486,     3481,    100.0,  -0.1616,  34.4332,2,  34.4273,2,    239.7,2,    238.0,2,    74.20,2,     0.00,2,    32.06,2,     0.03,2,     2.18,2,    2.772,2,    1.487,2,    0.224,2,   1.9610,2,     -999,9,     -999,9,     -999,9,     -999,     -999,1,  -0.1718,2,     -999,9,     -999,     -999,9,     -999,9,     -999,9,     -999,9,     -999,9,     -999,1,   0.0232,1,   4.5970,1,     14.8,2,     -999,9,20240306,0117, -64.9202,  78.9486,     -999,9,     -999,9,-999          ,9,-999          ,9,-999          ,9
325020240221  ,I08        ,10      ,  1,31         ,31         ,2,20240305,2330, -64.9202,  78.9486,     3481,    126.4,   0.4868,  34.5131,2,  34.5066,2,    219.6,2,    219.6,2,    78.78,2,     0.00,2,    32.37,2,     0.01,2,     2.22,2,    2.413,2,    1.164,2,    0.172,2,   1.3650,2,   2245.8,3,   2331.2,2,   7.5590,2,    25.00,     -999,1,   0.4785,2,     -999,9,     -999,     -999,9,     -999,9,     -999,9,     -999,9,     -999,9,     -999,1,   0.0196,1,   4.6020,1,     15.2,2,     -999,9,20240306,0114, -64.9202,  78.9486,     -999,9,     -999,9,-999          ,9,-999          ,9,-999          ,9
325020240221  ,I08        ,10      ,  1,30         ,30         ,2,20240305,2330, -64.9202,  78.9486,     3481,    150.8,   0.7374,  34.5582,2,  34.5696,2,    211.4,3,    207.7,2,    81.02,2,     0.00,2,    32.31,2,     0.02,2,     2.25,2,    1.821,2,    0.927,2,    0.143,2,   0.9850,2,   2251.8,3,   2333.8,2,   7.5585,2,    25.00,     -999,1,   0.7383,2,     -999,9,     -999,     -999,9,     -999,9,     -999,9,     -999,9,     -999,9,     -999,1,   0.0196,1,   4.6056,1,     15.7,2,     -999,9,20240306,0113, -64.9202,  78.9486,     -999,9,     -999,9,-999          ,9,-999          ,9,-999          ,9
325020240221  ,I08        ,10      ,  1,29         ,29         ,2,20240305,2330, -64.9202,  78.9486,     3481,    202.2,   0.6528,  34.5821,2,  34.5826,2,    214.0,2,    214.9,2,    81.51,2,     0.00,2,    31.94,2,     0.01,2,     2.21,2,    1.905,2,    0.968,2,    0.149,2,   0.9910,2,   2247.9,3,   2338.0,2,   7.5689,2,    25.05,     -999,1,   0.6552,2,     -999,9,     -999,     -999,9,     -999,9,     -999,9,     -999,9,     -999,9,     -999,1,   0.0189,1,   4.6085,1,     15.3,2,     -999,9,20240306,0110, -64.9202,  78.9487,     -999,9,     -999,9,-999          ,9,-999          ,9,-999          ,9
325020240221  ,I08        ,10      ,  1,28         ,28         ,2,20240305,2330, -64.9202,  78.9486,     3481,    251.9,   1.1709,  34.6479,2,  34.6474,2,    198.6,2,    198.3,2,    86.39,2,     0.00,2,    32.09,2,     0.01,2,     2.20,2,    1.216,2,    0.598,2,    0.093,2,   0.7110,2,     -999,9,     -999,9,     -999,9,     -999,     -999,1,   1.1670,2,     -999,9,     -999,     -999,9,     -999,9,     -999,9,     -999,9,     -999,9,     -999,1,   0.0182,1,   4.6117,1,     15.4,2,     -999,9,20240306,0108, -64.9202,  78.9486,     -999,9,     -999,9,-999          ,9,-999          ,9,-999          ,9
325020240221  ,I08        ,10      ,  1,27         ,27         ,2,20240305,2330, -64.9202,  78.9486,     3481,    302.9,   1.3331,  34.6748,2,  34.6743,2,    194.2,2,    194.1,2,    88.53,2,     0.00,2,    32.04,2,     0.02,2,     2.21,2,    0.955,2,    0.477,2,    0.071,2,   0.6320,2,   2253.4,3,   2343.7,2,   7.5752,6,    24.99,     -999,1,   1.3351,2,     -999,9,     -999,     -999,9,     -999,9,     -999,9,     -999,9,     -999,9,     -999,1,   0.0182,1,   4.6129,1,     15.3,2,     -999,9,20240306,0106, -64.9202,  78.9487,     -999,9,     -999,9,-999          ,9,-999          ,9,-999          ,9
325020240221  ,I08        ,10      ,  1,26         ,26         ,2,20240305,2330, -64.9202,  78.9486,     3481,    353.0,   1.3311,  34.6870,2,  34.6867,2,    195.0,2,    194.9,2,    89.02,2,     0.00,2,    31.89,2,     0.02,2,     2.20,2,    0.905,2,    0.437,2,    0.059,2,   0.4300,2,   2253.8,3,   2344.2,2,   7.5799,2,    24.95,     -999,1,   1.3312,2,     -999,9,     -999,     -999,9,     -999,9,     -999,9,     -999,9,     -999,9,     -999,1,   0.0179,1,   4.6141,1,     14.5,2,     -999,9,20240306,0103, -64.9202,  78.9486,     -999,9,     -999,9,-999          ,9,-999          ,9,-999          ,9
325020240221  ,I08        ,10      ,  1,25         ,25         ,2,20240305,2330, -64.9202,  78.9486,     3481,    403.1,   1.3899,  34.7020,2,  34.7001,2,    193.5,2,    194.6,2,    90.68,2,     0.00,2,    31.72,2,     0.02,2,     2.18,2,    0.775,2,    0.367,2,    0.053,2,   0.4110,2,   2251.8,3,   2346.1,2,   7.5849,6,    24.99,     -999,1,   1.3851,2,     -999,9,     -999,     -999,9,     -999,9,     -999,9,     -999,9,     -999,9,     -999,1,   0.0176,1,   4.6141,1,     14.4,2,     -999,9,20240306,0101, -64.9202,  78.9486,     -999,9,     -999,9,-999          ,9,-999          ,9,-999          ,9
325020240221  ,I08        ,10      ,  1,24         ,24         ,2,20240305,2330, -64.9202,  78.9486,     3481,    455.7,   1.4438,  34.7154,2,  34.7170,2,    193.6,2,    194.0,2,    92.34,2,     0.02,2,    31.55,2,     0.00,2,     2.15,2,    0.592,2,    0.278,2,    0.035,2,   0.3320,2,     -999,9,     -999,9,     -999,9,     -999,     -999,1,   1.4416,2,     -999,9,     -999,     -999,9,     -999,9,     -999,9,     -999,9,     -999,9,     -999,1,   0.0171,1,   4.6141,1,     14.5,2,     -999,9,20240306,0059, -64.9202,  78.9486,     -999,9,     -999,9,-999          ,9,-999          ,9,-999          ,9
325020240221  ,I08        ,10      ,  1,23         ,37         ,2,20240305,2330, -64.9202,  78.9486,     3481,    504.5,   1.4026,  34.7183,2,  34.7188,2,    195.1,2,    195.4,2,    93.70,2,     0.03,2,    31.45,2,     0.00,2,     2.16,2,    0.571,2,    0.270,2,    0.038,2,   0.2970,2,   2252.6,3,   2349.2,6,   7.5926,2,    25.00,     -999,1,   1.3996,2,     -999,9,     -999,     -999,9,     -999,9,     -999,9,     -999,9,     -999,9,     -999,1,   0.0195,1,   4.6129,1,     14.1,2,     -999,9,20240306,0056, -64.9202,  78.9486,     -999,9,     -999,9,-999          ,9,-999          ,9,-999          ,9
325020240221  ,I08        ,10      ,  1,22         ,22         ,2,20240305,2330, -64.9202,  78.9486,     3481,    604.9,   1.2579,  34.7141,2,  34.7107,2,    199.1,3,    202.6,2,    97.90,2,     0.00,2,    31.38,2,     0.00,2,     2.15,2,    0.661,2,    0.307,2,    0.043,2,   0.3710,2,     -999,9,     -999,9,     -999,9,     -999,     -999,1,   1.2567,2,     -999,9,     -999,     -999,9,     -999,9,     -999,9,     -999,9,     -999,9,     -999,1,   0.0184,1,   4.6110,1,     13.8,2,     -999,9,20240306,0053, -64.9202,  78.9486,     -999,9,     -999,9,-999          ,9,-999          ,9,-999          ,9
325020240221  ,I08        ,10      ,  1,21         ,21         ,2,20240305,2330, -64.9202,  78.9486,     3481,    708.5,   1.0874,  34.7066,2,  34.7085,2,    203.1,2,    203.2,2,    97.61,2,     0.02,2,    31.17,2,     0.00,2,     2.11,2,    0.700,2,    0.350,2,    0.047,2,   0.3940,2,   2253.1,3,   2349.2,2,   7.5976,2,    25.06,     -999,1,   1.0884,2,     -999,9,     -999,     -999,9,     -999,9,     -999,9,     -999,9,     -999,9,     -999,1,   0.0182,1,   4.6092,1,     13.6,2,     -999,9,20240306,0049, -64.9202,  78.9485,     -999,9,     -999,9,-999          ,9,-999          ,9,-999          ,9
325020240221  ,I08        ,10      ,  1,20         ,20         ,2,20240305,2330, -64.9202,  78.9486,     3481,    808.0,   1.0175,  34.7075,2,  34.7076,2,    204.6,2,    204.4,2,   100.05,2,     0.00,2,    31.01,2,     0.00,2,     2.13,2,    0.649,2,    0.320,2,    0.045,2,   0.3850,2,     -999,9,     -999,9,     -999,9,     -999,     -999,1,   1.0173,2,     -999,9,     -999,     -999,9,     -999,9,     -999,9,     -999,9,     -999,9,     -999,1,   0.0182,1,   4.6081,1,     10.0,2,     -999,9,20240306,0046, -64.9202,  78.9486,     -999,9,     -999,9,-999          ,9,-999          ,9,-999          ,9
325020240221  ,I08        ,10      ,  1,19         ,19         ,2,20240305,2330, -64.9202,  78.9486,     3481,    910.4,   0.9651,  34.7083,2,  34.7091,2,    205.0,2,    204.7,2,   103.27,2,     0.00,2,    31.03,2,     0.00,2,     2.16,2,    0.575,6,    0.272,6,    0.033,6,   0.1275,6,   2253.6,3,   2351.8,2,   7.5993,2,    25.02,     -999,1,   0.9644,2,     -999,9,     -999,     -999,9,     -999,9,     -999,9,     -999,9,     -999,9,     -999,1,   0.0180,1,   4.6080,1,     13.3,6,     -999,9,20240306,0042, -64.9202,  78.9486,     -999,9,     -999,9,-999          ,9,-999          ,9,-999          ,9
325020240221  ,I08        ,10      ,  1,18         ,18         ,2,20240305,2330, -64.9202,  78.9486,     3481,   1011.1,   0.9659,  34.7149,2,  34.7144,2,    204.5,2,    203.8,2,   107.07,2,     0.00,2,    31.07,2,     0.00,2,     2.16,2,    0.458,2,    0.215,2,    0.022,2,   0.1000,2,     -999,9,     -999,9,     -999,9,     -999,     -999,1,   0.9611,2,     -999,9,     -999,     -999,9,     -999,9,     -999,9,     -999,9,     -999,9,     -999,1,   0.0180,1,   4.6076,1,     13.7,2,     -999,9,20240306,0039, -64.9202,  78.9486,     -999,9,     -999,9,-999          ,9,-999          ,9,-999          ,9
325020240221  ,I08        ,10      ,  1,17         ,17         ,2,20240305,2330, -64.9202,  78.9486,     3481,   1113.4,   0.8837,  34.7116,2,  34.7131,2,    204.9,2,    204.4,2,   108.73,2,     0.02,2,    31.38,2,     0.00,2,     2.17,2,    0.434,2,    0.199,2,    0.016,2,   0.1550,2,   2254.8,3,   2354.1,2,   7.6007,2,    25.00,     -999,1,   0.8839,2,     -999,9,     -999,     -999,9,     -999,9,     -999,9,     -999,9,     -999,9,     -999,1,   0.0182,1,   4.6068,1,     13.7,2,     -999,9,20240306,0036, -64.9202,  78.9486,     -999,9,     -999,9,-999          ,9,-999          ,9,-999          ,9
325020240221  ,I08        ,10      ,  1,16         ,16         ,2,20240305,2330, -64.9202,  78.9486,     3481,   1214.5,   0.8183,  34.7087,2,  34.7099,2,    204.9,2,    204.8,2,   112.44,2,     0.00,2,    31.58,2,     0.00,2,     2.21,2,    0.422,2,    0.200,2,    0.015,2,   0.0020,2,     -999,9,     -999,9,     -999,9,     -999,     -999,1,   0.8177,2,     -999,9,     -999,     -999,9,     -999,9,     -999,9,     -999,9,     -999,9,     -999,1,   0.0181,1,   4.6056,1,     13.8,2,     -999,9,20240306,0033, -64.9202,  78.9486,     -999,9,     -999,9,-999          ,9,-999          ,9,-999          ,9
325020240221  ,I08        ,10      ,  1,15         ,15         ,2,20240305,2330, -64.9202,  78.9486,     3481,   1316.5,   0.7314,  34.7039,2,  34.7038,2,    205.7,2,    205.6,2,   114.88,2,     0.03,2,    31.87,2,     0.00,2,     2.23,2,    0.441,2,    0.198,2,    0.023,2,   0.0820,2,   2257.1,3,   2359.7,2,   7.5977,6,    25.05,     -999,1,   0.7305,2,     -999,9,     -999,     -999,9,     -999,9,     -999,9,     -999,9,     -999,9,     -999,1,   0.0182,1,   4.6046,1,     13.7,2,     -999,9,20240306,0030, -64.9202,  78.9486,     -999,9,     -999,9,-999          ,9,-999          ,9,-999          ,9
325020240221  ,I08        ,10      ,  1,14         ,14         ,2,20240305,2330, -64.9202,  78.9486,     3481,   1418.4,   0.6315,  34.6967,2,  34.6967,2,    207.0,2,    207.0,2,   116.54,2,     0.00,2,    32.20,2,     0.00,2,     2.23,2,    0.512,2,    0.243,2,    0.021,2,   0.0360,2,     -999,9,     -999,9,     -999,9,     -999,     -999,1,   0.6311,2,     -999,9,     -999,     -999,9,     -999,9,     -999,9,     -999,9,     -999,9,     -999,1,   0.0183,1,   4.6043,1,     13.7,2,     -999,9,20240306,0027, -64.9202,  78.9486,     -999,9,     -999,9,-999          ,9,-999          ,9,-999          ,9
325020240221  ,I08        ,10      ,  1,13         ,13         ,2,20240305,2330, -64.9202,  78.9486,     3481,   1520.1,   0.5820,  34.6954,2,  34.6954,2,    207.2,2,    207.6,2,   118.98,2,     0.00,2,    32.43,2,     0.00,2,     2.24,2,    0.476,2,    0.214,2,    0.023,2,   0.0320,2,   2260.9,3,   2356.3,2,   7.5935,2,    25.04,     -999,1,   0.5807,2,     -999,9,     -999,     -999,9,     -999,9,     -999,9,     -999,9,     -999,9,     -999,1,   0.0181,1,   4.6041,1,     13.8,2,     -999,9,20240306,0024, -64.9202,  78.9486,     -999,9,     -999,9,-999          ,9,-999          ,9,-999          ,9
325020240221  ,I08        ,10      ,  1,12         ,12         ,2,20240305,2330, -64.9202,  78.9486,     3481,   1621.5,   0.5131,  34.6906,2,  34.6905,2,    208.8,2,    208.6,2,   120.35,2,     0.03,2,    32.65,2,     0.00,2,     2.24,2,    0.520,2,    0.233,2,    0.027,2,   0.1790,2,     -999,9,     -999,9,     -999,9,     -999,     -999,1,   0.5125,2,     -999,9,     -999,     -999,9,     -999,9,     -999,9,     -999,9,     -999,9,     -999,1,   0.0180,1,   4.6031,1,     13.7,2,     -999,9,20240306,0021, -64.9202,  78.9486,     -999,9,     -999,9,-999          ,9,-999          ,9,-999          ,9
325020240221  ,I08        ,10      ,  1,11         ,11         ,2,20240305,2330, -64.9202,  78.9486,     3481,   1724.6,   0.4601,  34.6882,2,  34.6883,2,    209.3,2,    209.4,2,   122.21,2,     0.03,2,    32.65,2,     0.00,2,     2.23,2,    0.499,2,    0.234,2,    0.019,2,   0.0550,2,   2260.6,3,   2356.6,2,   7.5914,2,    25.04,     -999,1,   0.4588,2,     -999,9,     -999,     -999,9,     -999,9,     -999,9,     -999,9,     -999,9,     -999,1,   0.0179,1,   4.6020,1,     13.5,2,     -999,9,20240306,0017, -64.9202,  78.9487,     -999,9,     -999,9,-999          ,9,-999          ,9,-999          ,9
325020240221  ,I08        ,10      ,  1,10         ,10         ,2,20240305,2330, -64.9202,  78.9486,     3481,   1827.0,   0.3988,  34.6853,2,  34.6873,2,    211.3,2,    211.2,2,   123.18,2,     0.02,2,    32.56,2,     0.00,2,     2.24,2,    0.569,2,    0.257,2,    0.026,2,   0.0840,2,     -999,9,     -999,9,     -999,9,     -999,     -999,1,   0.4000,2,     -999,9,     -999,     -999,9,     -999,9,     -999,9,     -999,9,     -999,9,     -999,1,   0.0183,1,   4.6018,1,     13.5,2,     -999,9,20240306,0014, -64.9202,  78.9486,     -999,9,     -999,9,-999          ,9,-999          ,9,-999          ,9
325020240221  ,I08        ,10      ,  1,9          ,9          ,2,20240305,2330, -64.9202,  78.9486,     3481,   2027.8,   0.3017,  34.6805,2,  34.6814,2,    215.3,2,    215.4,2,   123.87,2,     0.00,2,    32.40,2,     0.00,2,     2.23,2,    0.668,2,    0.321,2,    0.034,2,   0.2690,2,   2258.8,3,   2355.1,6,   7.5929,6,    25.02,     -999,1,   0.3015,2,     -999,9,     -999,     -999,9,     -999,9,     -999,9,     -999,9,     -999,9,     -999,1,   0.0183,1,   4.6007,1,     13.4,2,     -999,9,20240306,0009, -64.9202,  78.9486,     -999,9,     -999,9,-999          ,9,-999          ,9,-999          ,9
325020240221  ,I08        ,10      ,  1,8          ,8          ,2,20240305,2330, -64.9202,  78.9486,     3481,   2233.1,   0.2229,  34.6769,2,  34.6775,2,    218.5,2,    218.3,2,   124.45,2,     0.00,2,    32.31,2,     0.00,2,     2.22,2,    0.806,2,    0.387,2,    0.044,2,   0.3260,2,   2257.6,3,   2354.2,2,   7.5942,2,    25.03,     -999,1,   0.2220,2,     -999,9,     -999,     -999,9,     -999,9,     -999,9,     -999,9,     -999,9,     -999,1,   0.0181,1,   4.6007,1,     13.3,2,     -999,9,20240306,0004, -64.9202,  78.9486,     -999,9,     -999,9,-999          ,9,-999          ,9,-999          ,9
325020240221  ,I08        ,10      ,  1,7          ,7          ,2,20240305,2330, -64.9202,  78.9486,     3481,   2438.3,   0.1454,  34.6737,2,  34.6730,2,    221.6,2,    221.9,2,   125.14,2,     0.00,2,    32.18,2,     0.00,2,     2.21,2,    0.994,2,    0.481,2,    0.054,2,   0.3340,2,     -999,9,     -999,9,     -999,9,     -999,     -999,1,   0.1450,2,     -999,9,     -999,     -999,9,     -999,9,     -999,9,     -999,9,     -999,9,     -999,1,   0.0182,1,   4.6007,1,     13.3,2,     -999,9,20240306,0000, -64.9202,  78.9486,     -999,9,     -999,9,-999          ,9,-999          ,9,-999          ,9
325020240221  ,I08        ,10      ,  1,6          ,6          ,2,20240305,2330, -64.9202,  78.9486,     3481,   2642.8,   0.0838,  34.6706,2,  34.6704,2,    223.7,2,    223.6,2,   126.80,2,     0.00,2,    32.11,2,     0.00,2,     2.21,2,    1.010,2,    0.516,2,    0.058,2,   0.3480,2,   2257.2,3,   2355.1,2,   7.5938,2,    25.03,     -999,1,   0.0832,2,     -999,9,     -999,     -999,9,     -999,9,     -999,9,     -999,9,     -999,9,     -999,1,   0.0182,1,   4.6006,1,     13.5,2,     -999,9,20240305,2355, -64.9203,  78.9487,     -999,9,     -999,9,-999          ,9,-999          ,9,-999          ,9