BOTTLE,20240417CCHHYDRO
EXPOCODE,SECT_ID,STNNBR,CASTNO,SAMPNO,BTLNBR,BTLNBR_FLAG_W,DATE,TIME,LATITUDE,LONGITUDE,DEPTH,CTDPRS,CTDTMP,CTDSAL,CTDSAL_FLAG_W,SALNTY,SALNTY_FLAG_W,CTDOXY,CTDOXY_FLAG_W,OXYGEN,OXYGEN_FLAG_W,SILCAT,SILCAT_FLAG_W,NH4,NH4_FLAG_W,NITRAT,NITRAT_FLAG_W,NITRIT,NITRIT_FLAG_W,PHSPHT,PHSPHT_FLAG_W,CFC-11,CFC-11_FLAG_W,CFC-12,CFC-12_FLAG_W,CFC113,CFC113_FLAG_W,SF6,SF6_FLAG_W,TCARBN,TCARBN_FLAG_W,ALKALI,ALKALI_FLAG_W,PH_TOT,PH_TOT_FLAG_W,PH_TMP,DOC,DOC_FLAG_W,REFTMP,REFTMP_FLAG_W,DELC14,DELC14_FLAG_W,C14ERR,POC,POC_FLAG_W,PON,PON_FLAG_W,POP,POP_FLAG_W,PCOD,PCOD_FLAG_W,DOP,DOP_FLAG_W,TDN,TDN_FLAG_W,CTDFLUOR,CTDFLUOR_FLAG_W,CTDXMISS,CTDXMISS_FLAG_W,N2O,N2O_FLAG_W,ARGON,ARGON_FLAG_W,BTL_DATE,BTL_TIME,BTL_LAT,BTL_LON,KRYPTON,KRYPTON_FLAG_W,XENON,XENON_FLAG_W,HPLC,HPLC_FLAG_W,DNA,DNA_FLAG_W,FCM,FCM_FLAG_W
,,,,,,,,,,,METERS,DBAR,ITS-90,PSS-78,,PSS-78,,UMOL/KG,,UMOL/KG,,UMOL/KG,,UMOL/KG,,UMOL/KG,,UMOL/KG,,UMOL/KG,,PMOL/KG,,PMOL/KG,,PMOL/KG,,FMOL/KG,,UMOL/KG,,UMOL/KG,,,,DEG C,UMOL/KG,,ITS-90,,/MILLE,,/MILLE,UG/KG,,UG/KG,,UG/L,,UG/L,,UMOL/KG,,UMOL/KG,,VOLTS,,VOLTS,,NMOL/KG,,UMOL/L,,,,,,NMOL/L,,NMOL/L,,,,,,,
325020240221  ,I08        ,27      ,  1,5          ,5          ,2,20240313,0022, -57.3217,  82.7808,     4225,   3459.6,   0.1272,  34.6703,2,  34.6696,2,    224.9,2,    224.8,2,   130.21,2,     0.00,2,    32.28,2,     0.00,2,     2.19,2,    1.197,2,    0.581,2,    0.066,2,   0.4940,2,   2259.2,3,   2353.1,2,   7.5927,2,    25.07,     -999,1,     -999,1,     -999,9,     -999,     -999,9,     -999,9,     -999,9,     -999,9,     -999,9,     -999,1,   0.0183,1,   4.6227,1,     11.6,2,     -999,9,20240313,0047, -57.3217,  82.7808,     -999,9,     -999,9,-999          ,9,-999          ,9,-999          ,9
325020240221  ,I08        ,27      ,  1,4          ,4          ,2,20240313,0022, -57.3217,  82.7808,     4225,   3767.3,   0.0766,  34.6668,2,  34.6655,2,    227.3,2,    227.1,2,   130.79,2,     0.00,2,    32.24,2,     0.00,2,     2.16,2,    1.349,2,    0.648,2,    0.079,2,   0.5150,2,   2259.5,3,   2359.8,2,   7.5929,6,    25.04,     -999,1,     -999,1,     -999,9,     -999,     -999,9,     -999,9,     -999,9,     -999,9,     -999,9,     -999,1,   0.0183,1,   4.6227,1,     11.4,2,     -999,9,20240313,0039, -57.3217,  82.7808,     -999,9,     -999,9,-999          ,9,-999          ,9,-999          ,9
325020240221  ,I08        ,27      ,  1,3          ,3          ,2,20240313,0022, -57.3217,  82.7808,     4225,   4074.8,   0.0482,  34.6639,2,  34.6625,2,    229.3,2,    229.7,2,   131.18,2,     0.00,2,    32.15,2,     0.00,2,     2.20,2,    1.531,2,    0.707,2,    0.093,2,   0.6200,2,     -999,9,     -999,9,     -999,9,     -999,     -999,1,     -999,1,     -999,9,     -999,     -999,9,     -999,9,     -999,9,     -999,9,     -999,9,     -999,1,   0.0181,1,   4.6142,1,     11.4,2,     -999,9,20240313,0030, -57.3217,  82.7808,     -999,9,     -999,9,-999          ,9,-999          ,9,-999          ,9
325020240221  ,I08        ,27      ,  1,2          ,2          ,2,20240313,0022, -57.3217,  82.7808,     4225,   4176.9,   0.0330,  34.6627,2,  34.6616,2,    230.4,2,    230.2,2,   130.40,2,     0.00,2,    32.04,2,     0.00,2,     2.19,2,    1.581,2,    0.743,2,    0.098,2,   0.7670,2,   2259.3,3,   2360.0,2,   7.5916,2,    25.02,     -999,1,     -999,1,     -999,9,     -999,     -999,9,     -999,9,     -999,9,     -999,9,     -999,9,     -999,1,   0.0182,1,   4.6179,1,     11.1,2,     -999,9,20240313,0027, -57.3217,  82.7808,     -999,9,     -999,9,-999          ,9,-999          ,9,-999          ,9
325020240221  ,I08        ,27      ,  1,1          ,1          ,2,20240313,0022, -57.3217,  82.7808,     4225,   4290.1,   0.0047,  34.6607,2,  34.6596,2,    231.7,2,    231.8,2,   130.70,2,     0.00,2,    31.99,2,     0.00,2,     2.19,2,    1.742,2,    0.838,2,    0.121,2,   0.8300,2,   2260.7,3,   2355.4,2,   7.5904,2,    24.99,     -999,1,     -999,1,     -999,9,     -999,     -999,9,     -999,9,     -999,9,     -999,9,     -999,9,     -999,1,   0.0182,1,   4.5972,1,      6.8,4,     -999,9,20240313,0022, -57.3217,  82.7808,     -999,9,     -999,9,-999          ,9,-999          ,9,-999          ,9