BOTTLE,20240417CCHHYDRO
EXPOCODE,SECT_ID,STNNBR,CASTNO,SAMPNO,BTLNBR,BTLNBR_FLAG_W,DATE,TIME,LATITUDE,LONGITUDE,DEPTH,CTDPRS,CTDTMP,CTDSAL,CTDSAL_FLAG_W,SALNTY,SALNTY_FLAG_W,CTDOXY,CTDOXY_FLAG_W,OXYGEN,OXYGEN_FLAG_W,SILCAT,SILCAT_FLAG_W,NH4,NH4_FLAG_W,NITRAT,NITRAT_FLAG_W,NITRIT,NITRIT_FLAG_W,PHSPHT,PHSPHT_FLAG_W,CFC-11,CFC-11_FLAG_W,CFC-12,CFC-12_FLAG_W,CFC113,CFC113_FLAG_W,SF6,SF6_FLAG_W,TCARBN,TCARBN_FLAG_W,ALKALI,ALKALI_FLAG_W,PH_TOT,PH_TOT_FLAG_W,PH_TMP,DOC,DOC_FLAG_W,REFTMP,REFTMP_FLAG_W,DELC14,DELC14_FLAG_W,C14ERR,POC,POC_FLAG_W,PON,PON_FLAG_W,POP,POP_FLAG_W,PCOD,PCOD_FLAG_W,DOP,DOP_FLAG_W,TDN,TDN_FLAG_W,CTDFLUOR,CTDFLUOR_FLAG_W,CTDXMISS,CTDXMISS_FLAG_W,N2O,N2O_FLAG_W,ARGON,ARGON_FLAG_W,BTL_DATE,BTL_TIME,BTL_LAT,BTL_LON,KRYPTON,KRYPTON_FLAG_W,XENON,XENON_FLAG_W,HPLC,HPLC_FLAG_W,DNA,DNA_FLAG_W,FCM,FCM_FLAG_W
,,,,,,,,,,,METERS,DBAR,ITS-90,PSS-78,,PSS-78,,UMOL/KG,,UMOL/KG,,UMOL/KG,,UMOL/KG,,UMOL/KG,,UMOL/KG,,UMOL/KG,,PMOL/KG,,PMOL/KG,,PMOL/KG,,FMOL/KG,,UMOL/KG,,UMOL/KG,,,,DEG C,UMOL/KG,,ITS-90,,/MILLE,,/MILLE,UG/KG,,UG/KG,,UG/L,,UG/L,,UMOL/KG,,UMOL/KG,,VOLTS,,VOLTS,,NMOL/KG,,UMOL/L,,,,,,NMOL/L,,NMOL/L,,,,,,,
325020240221  ,I08        ,60      ,  1,34         ,34         ,2,20240325,0738, -35.4984,  94.9904,     4041,      4.9,  21.2827,  35.7248,2,     -999,9,    227.8,2,     -999,9,     -999,9,     -999,9,     -999,9,     -999,9,     -999,9,     -999,9,     -999,9,     -999,9,     -999,9,     -999,9,     -999,9,     -999,9,     -999,     -999,9,  21.2926,2,     -999,9,     -999,     -999,9,     -999,9,     -999,9,     -999,9,     -999,9,     -999,9,   0.0195,1,   4.6255,1,     -999,9,     -999,9,20240325,0945, -35.4984,  94.9904,     -999,9,     -999,9,-999          ,9,-999          ,1,-999          ,9
325020240221  ,I08        ,60      ,  1,33         ,33         ,2,20240325,0738, -35.4984,  94.9904,     4041,      5.1,  21.2712,  35.7246,2,  35.7162,2,    227.6,2,    226.1,2,     0.88,2,     0.03,2,     0.03,2,     0.00,2,     0.07,2,    1.883,2,    1.160,2,    0.225,4,   2.1710,2,   2084.2,3,   2355.1,2,   7.9731,2,    25.00,     -999,1,  21.2924,2,     -999,1,     -999,     -999,9,     -999,9,     -999,9,     -999,9,     -999,9,     -999,1,   0.0196,1,   4.6245,1,      7.6,2,     -999,9,20240325,0945, -35.4984,  94.9904,     -999,9,     -999,9,-999          ,9,-999          ,9,-999          ,9
325020240221  ,I08        ,60      ,  1,35         ,35         ,2,20240325,0738, -35.4984,  94.9904,     4041,      5.3,  21.2918,  35.7253,2,     -999,9,    228.0,2,     -999,9,     -999,9,     -999,9,     -999,9,     -999,9,     -999,9,     -999,9,     -999,9,     -999,9,     -999,9,     -999,9,     -999,9,     -999,9,     -999,     -999,9,  21.2877,2,     -999,9,     -999,     -999,9,     -999,9,     -999,9,     -999,9,     -999,9,     -999,9,   0.0196,1,   4.6252,1,     -999,9,     -999,9,20240325,0946, -35.4984,  94.9904,     -999,9,     -999,9,-999          ,9,-999          ,9,-999          ,9
325020240221  ,I08        ,60      ,  1,36         ,36         ,2,20240325,0738, -35.4984,  94.9904,     4041,      5.5,  21.2748,  35.7252,2,     -999,9,    228.0,2,     -999,9,     -999,9,     -999,9,     -999,9,     -999,9,     -999,9,     -999,9,     -999,9,     -999,9,     -999,9,     -999,9,     -999,9,     -999,9,     -999,     -999,9,  21.2860,2,     -999,9,     -999,     -999,9,     -999,9,     -999,9,     -999,9,     -999,9,     -999,9,   0.0195,1,   4.6243,1,     -999,9,     -999,9,20240325,0946, -35.4984,  94.9904,     -999,9,     -999,9,-999          ,9,-999          ,9,-999          ,9
325020240221  ,I08        ,60      ,  1,32         ,32         ,2,20240325,0738, -35.4984,  94.9904,     4041,     19.6,  21.0474,  35.7182,2,  35.7088,2,    227.2,2,    226.7,2,     0.88,2,     0.02,2,     0.02,2,     0.00,2,     0.06,2,    1.972,2,    1.207,2,    0.215,4,   2.1800,2,   2084.3,3,   2351.4,2,   7.9734,2,    25.05,     -999,1,  21.0463,2,     -999,1,     -999,     -999,9,     -999,9,     -999,9,     -999,9,     -999,9,     -999,1,   0.0208,1,   4.6148,1,      7.6,2,     -999,9,20240325,0943, -35.4983,  94.9904,     -999,9,     -999,9,-999          ,9,-999          ,9,-999          ,9
325020240221  ,I08        ,60      ,  1,31         ,31         ,2,20240325,0738, -35.4984,  94.9904,     4041,     39.4,  21.0149,  35.7176,2,  35.7071,2,    227.0,2,    227.3,2,     0.88,2,     0.01,2,     0.00,2,     0.00,2,     0.06,2,    1.974,2,    1.210,2,    0.232,4,   2.2380,2,   2085.1,3,   2350.8,2,   7.9737,2,    25.05,     -999,1,  21.0216,2,     -999,9,     -999,     -999,9,     -999,9,     -999,9,     -999,9,     -999,9,     -999,1,   0.0225,1,   4.6143,1,      7.7,2,     -999,9,20240325,0941, -35.4983,  94.9904,     -999,9,     -999,9,-999          ,9,-999          ,9,-999          ,9
325020240221  ,I08        ,60      ,  1,30         ,30         ,2,20240325,0738, -35.4984,  94.9904,     4041,     65.0,  17.0500,  35.4445,3,  35.4233,2,    273.0,2,    274.2,2,     0.98,2,     0.01,2,     0.03,2,     0.00,2,     0.11,2,    2.555,2,    1.460,2,    0.303,4,   2.6180,2,   2080.1,3,   2334.9,2,   7.9540,6,    25.01,     -999,1,  17.0805,2,     -999,1,     -999,     -999,9,     -999,9,     -999,9,     -999,9,     -999,9,     -999,1,   0.0448,1,   4.5515,1,      9.2,2,     -999,9,20240325,0938, -35.4983,  94.9905,     -999,9,     -999,9,-999          ,9,-999          ,9,-999          ,9
325020240221  ,I08        ,60      ,  1,29         ,29         ,2,20240325,0738, -35.4984,  94.9904,     4041,     89.8,  14.4842,  35.3126,2,  35.3114,2,    259.5,2,    261.0,2,     1.27,2,     0.06,2,     1.73,2,     0.11,2,     0.23,2,    2.788,2,    1.591,2,    0.313,4,   2.6460,2,   2099.8,3,   2329.8,2,   7.9020,2,    25.00,     -999,1,  14.4749,2,     -999,1,     -999,     -999,9,     -999,9,     -999,9,     -999,9,     -999,9,     -999,1,   0.0715,1,   4.5788,1,     10.1,2,     -999,9,20240325,0936, -35.4983,  94.9904,     -999,9,     -999,9,-999          ,9,-999          ,1,-999          ,9
325020240221  ,I08        ,60      ,  1,28         ,28         ,2,20240325,0738, -35.4984,  94.9904,     4041,    135.2,  12.6467,  35.0615,2,  35.0573,2,    248.7,2,    249.4,2,     1.85,2,     0.02,2,     6.13,2,     0.64,2,     0.53,2,    3.207,2,    1.672,2,    0.302,4,   2.6660,2,     -999,9,     -999,9,     -999,9,     -999,     -999,1,  12.6428,2,     -999,1,     -999,     -999,9,     -999,9,     -999,9,     -999,9,     -999,9,     -999,1,   0.0345,1,   4.6517,1,     10.2,2,     -999,9,20240325,0934, -35.4983,  94.9904,     -999,9,     -999,9,-999          ,9,-999          ,9,-999          ,9
325020240221  ,I08        ,60      ,  1,27         ,27         ,2,20240325,0738, -35.4984,  94.9904,     4041,    185.1,  12.3240,  35.0558,2,  35.0541,2,    248.6,2,    248.0,2,     2.05,2,     0.00,2,     7.39,2,     0.00,2,     0.56,2,    3.178,2,    1.700,2,    0.274,4,   2.7290,2,   2119.0,3,   2312.5,2,   7.8344,2,    25.04,     -999,1,  12.3348,2,     -999,1,     -999,     -999,9,     -999,9,     -999,9,     -999,9,     -999,9,     -999,1,   0.0202,1,   4.6756,1,     10.5,2,     -999,9,20240325,0931, -35.4983,  94.9904,     -999,9,     -999,9,-999          ,9,-999          ,1,-999          ,9
325020240221  ,I08        ,60      ,  1,26         ,26         ,2,20240325,0738, -35.4984,  94.9904,     4041,    236.7,  12.2715,  35.1139,2,  35.1134,2,    241.8,2,    242.3,2,     2.05,2,     0.01,2,     7.70,2,     0.00,2,     0.58,2,    3.255,2,    1.692,2,    0.229,4,   2.5030,2,     -999,9,     -999,9,     -999,9,     -999,     -999,1,  12.2742,2,     -999,1,     -999,     -999,9,     -999,9,     -999,9,     -999,9,     -999,9,     -999,1,   0.0177,1,   4.6789,1,     11.5,2,     -999,9,20240325,0929, -35.4982,  94.9904,     -999,9,     -999,9,-999          ,9,-999          ,9,-999          ,9
325020240221  ,I08        ,60      ,  1,25         ,25         ,2,20240325,0738, -35.4984,  94.9904,     4041,    286.9,  11.4787,  34.9765,2,  34.9770,2,    242.6,2,    242.5,2,     3.02,2,     0.00,2,    10.28,2,     0.00,2,     0.75,2,    3.333,2,    1.812,2,    0.188,4,   2.4810,2,   2127.5,3,   2305.9,6,   7.8045,6,    24.99,     -999,1,  11.4788,2,     -999,9,     -999,     -999,9,     -999,9,     -999,9,     -999,9,     -999,9,     -999,1,   0.0179,1,   4.6800,1,     11.9,2,     -999,9,20240325,0926, -35.4983,  94.9905,     -999,9,     -999,9,-999          ,9,-999          ,9,-999          ,9
325020240221  ,I08        ,60      ,  1,24         ,24         ,2,20240325,0738, -35.4984,  94.9904,     4041,    337.4,  11.1291,  34.9203,2,  34.9207,2,    245.1,2,    245.6,2,     3.51,2,     0.00,2,    11.25,2,     0.00,2,     0.82,2,    3.393,2,    1.807,2,    0.183,4,   2.5050,2,   2129.8,3,   2301.6,2,   7.7989,2,    24.98,     -999,1,  11.1279,2,     -999,9,     -999,     -999,9,     -999,9,     -999,9,     -999,9,     -999,9,     -999,1,   0.0183,1,   4.6801,1,     11.1,2,     -999,9,20240325,0924, -35.4983,  94.9905,     -999,9,     -999,9,-999          ,9,-999          ,9,-999          ,9
325020240221  ,I08        ,60      ,  1,23         ,37         ,2,20240325,0738, -35.4984,  94.9904,     4041,    387.8,  10.8233,  34.8690,2,  34.8696,2,    243.8,2,    244.2,2,     3.71,2,     0.00,2,    12.13,2,     0.00,2,     0.88,2,    3.570,2,    1.855,2,    0.175,4,   2.5510,2,   2130.5,3,   2299.3,2,   7.7903,2,    24.99,     -999,1,  10.8241,2,     -999,9,     -999,     -999,9,     -999,9,     -999,9,     -999,9,     -999,9,     -999,1,   0.0180,1,   4.6812,1,     10.9,2,     -999,9,20240325,0921, -35.4983,  94.9906,     -999,9,     -999,9,-999          ,9,-999          ,9,-999          ,9
325020240221  ,I08        ,60      ,  1,22         ,22         ,2,20240325,0738, -35.4984,  94.9904,     4041,    468.7,  10.2425,  34.7760,2,  34.7763,2,    242.1,2,    242.6,2,     3.90,2,     0.00,2,    13.67,2,     0.00,2,     0.96,2,    3.729,2,    1.895,2,    0.201,4,   2.3330,2,     -999,9,     -999,9,     -999,9,     -999,     -999,1,  10.2422,2,     -999,1,     -999,     -999,9,     -999,9,     -999,9,     -999,9,     -999,9,     -999,1,   0.0176,1,   4.6822,1,     11.6,2,     -999,9,20240325,0918, -35.4983,  94.9906,     -999,9,     -999,9,-999          ,9,-999          ,9,-999          ,9
325020240221  ,I08        ,60      ,  1,21         ,21         ,2,20240325,0738, -35.4984,  94.9904,     4041,    568.5,   9.6929,  34.7168,2,  34.7170,2,    233.4,2,    233.6,2,     4.59,2,     0.00,2,    16.13,2,     0.00,2,     1.09,2,    4.127,2,    1.964,2,    0.179,4,   2.0260,2,   2139.3,3,   2291.8,2,   7.7492,2,    24.99,     -999,1,   9.6909,2,     -999,9,     -999,     -999,9,     -999,9,     -999,9,     -999,9,     -999,9,     -999,1,   0.0183,1,   4.6837,1,     12.7,2,     -999,9,20240325,0914, -35.4983,  94.9907,     -999,9,     -999,9,-999          ,9,-999          ,9,-999          ,9
325020240221  ,I08        ,60      ,  1,20         ,20         ,2,20240325,0738, -35.4984,  94.9904,     4041,    669.5,   9.0988,  34.6470,2,  34.6484,2,    232.1,2,    232.2,2,     5.66,2,     0.01,2,    17.90,2,     0.00,2,     1.22,2,    4.092,2,    1.992,2,    0.193,4,   1.8580,2,   2142.8,3,   2288.7,2,   7.7347,2,    25.00,     -999,1,   9.0990,2,     -999,1,     -999,     -999,9,     -999,9,     -999,9,     -999,9,     -999,9,     -999,1,   0.0178,1,   4.6837,1,     12.9,2,     -999,9,20240325,0911, -35.4983,  94.9906,     -999,9,     -999,9,-999          ,9,-999          ,9,-999          ,9
325020240221  ,I08        ,60      ,  1,19         ,19         ,2,20240325,0738, -35.4984,  94.9904,     4041,    770.6,   7.8761,  34.5233,2,  34.5250,2,    209.3,2,    209.7,2,    11.61,2,     0.00,2,    22.94,2,     0.00,2,     1.49,2,    3.409,6,    1.704,6,    0.188,4,   1.1685,6,   2159.6,3,   2290.4,2,   7.6856,2,    25.01,     -999,1,   7.8753,2,     -999,9,     -999,     -999,9,     -999,9,     -999,9,     -999,9,     -999,9,     -999,1,   0.0179,1,   4.6857,1,     14.0,6,     -999,9,20240325,0907, -35.4983,  94.9906,     -999,9,     -999,9,-999          ,9,-999          ,9,-999          ,9
325020240221  ,I08        ,60      ,  1,18         ,18         ,2,20240325,0738, -35.4984,  94.9904,     4041,    871.9,   6.4758,  34.4277,2,  34.4271,2,    199.0,2,    199.1,2,    19.62,2,     0.00,2,    27.05,2,     0.00,2,     1.78,2,    3.127,2,    1.419,2,    0.123,4,   1.0050,2,     -999,9,     -999,9,     -999,9,     -999,     -999,1,   6.4870,2,     -999,1,     -999,     -999,9,     -999,9,     -999,9,     -999,9,     -999,9,     -999,1,   0.0183,1,   4.6856,1,     16.1,2,     -999,9,20240325,0904, -35.4984,  94.9906,     -999,9,     -999,9,-999          ,9,-999          ,9,-999          ,9
325020240221  ,I08        ,60      ,  1,17         ,17         ,2,20240325,0738, -35.4984,  94.9904,     4041,    973.5,   5.2206,  34.3682,2,  34.3682,2,    198.7,2,    198.0,2,    28.20,2,     0.00,2,    29.69,2,     0.00,2,     1.98,2,    2.687,2,    1.205,2,    0.117,4,   0.6990,2,   2191.6,3,   2295.7,2,   7.6196,6,    25.00,     -999,1,   5.2249,2,     -999,9,     -999,     -999,9,     -999,9,     -999,9,     -999,9,     -999,9,     -999,1,   0.0176,1,   4.6828,1,     16.7,2,     -999,9,20240325,0900, -35.4984,  94.9907,     -999,9,     -999,9,-999          ,9,-999          ,1,-999          ,9
325020240221  ,I08        ,60      ,  1,16         ,16         ,2,20240325,0738, -35.4984,  94.9904,     4041,   1074.9,   4.4056,  34.3871,2,  34.3872,2,    186.6,2,    185.7,2,    40.89,2,     0.00,2,    31.83,2,     0.00,2,     2.14,2,    1.979,2,    0.845,2,    0.087,4,   0.4150,2,     -999,9,     -999,9,     -999,9,     -999,     -999,1,   4.4050,2,     -999,1,     -999,     -999,9,     -999,9,     -999,9,     -999,9,     -999,9,     -999,1,   0.0183,1,   4.6728,1,     18.1,2,     -999,9,20240325,0857, -35.4983,  94.9909,     -999,9,     -999,9,-999          ,9,-999          ,9,-999          ,9
325020240221  ,I08        ,60      ,  1,15         ,15         ,2,20240325,0738, -35.4984,  94.9904,     4041,   1175.8,   3.9259,  34.4278,2,  34.4283,2,    174.2,2,    173.9,2,    52.11,2,     0.00,2,    33.12,2,     0.00,2,     2.25,2,    1.215,2,    0.555,2,    0.051,4,   0.2640,2,   2230.1,3,   2315.2,2,   7.5784,6,    24.99,     -999,1,   3.9256,2,     -999,9,     -999,     -999,9,     -999,9,     -999,9,     -999,9,     -999,9,     -999,1,   0.0183,1,   4.6677,1,     18.2,2,     -999,9,20240325,0853, -35.4983,  94.9909,     -999,9,     -999,9,-999          ,9,-999          ,9,-999          ,9
325020240221  ,I08        ,60      ,  1,14         ,14         ,2,20240325,0738, -35.4984,  94.9904,     4041,   1276.9,   3.6889,  34.4819,2,  34.4830,2,    160.3,2,    160.9,2,    63.14,2,     0.00,2,    33.99,2,     0.00,2,     2.34,2,    0.771,2,    0.326,2,    0.025,4,   0.1300,2,     -999,9,     -999,9,     -999,9,     -999,     -999,1,   3.6883,2,     -999,1,     -999,     -999,9,     -999,9,     -999,9,     -999,9,     -999,9,     -999,1,   0.0183,1,   4.6631,1,     19.5,2,     -999,9,20240325,0849, -35.4983,  94.9909,     -999,9,     -999,9,-999          ,9,-999          ,9,-999          ,9
325020240221  ,I08        ,60      ,  1,13         ,13         ,2,20240325,0738, -35.4984,  94.9904,     4041,   1379.0,   3.4884,  34.5253,2,  34.5264,2,    153.4,2,    153.7,2,    70.94,2,     0.00,2,    34.40,2,     0.00,2,     2.40,2,    0.398,2,    0.191,2,    0.013,4,   0.0730,2,   2255.1,3,   2337.1,6,   7.5589,2,    24.98,     -999,1,   3.4888,2,     -999,9,     -999,     -999,9,     -999,9,     -999,9,     -999,9,     -999,9,     -999,1,   0.0183,1,   4.6605,1,     19.6,2,     -999,9,20240325,0845, -35.4983,  94.9909,     -999,9,     -999,9,-999          ,9,-999          ,9,-999          ,9
325020240221  ,I08        ,60      ,  1,12         ,12         ,2,20240325,0738, -35.4984,  94.9904,     4041,   1481.3,   3.2184,  34.5543,2,  34.5557,2,    154.1,2,    154.8,2,    74.45,2,     0.01,2,    34.37,2,     0.00,2,     2.40,2,    0.294,2,    0.142,2,    0.011,4,   0.0000,2,   2258.3,3,   2339.0,2,   7.5584,2,    24.98,     -999,1,   3.2187,2,     -999,1,     -999,     -999,9,     -999,9,     -999,9,     -999,9,     -999,9,     -999,1,   0.0183,1,   4.6569,1,     19.4,2,     -999,9,20240325,0842, -35.4983,  94.9909,     -999,9,     -999,9,-999          ,9,-999          ,9,-999          ,9
325020240221  ,I08        ,60      ,  1,11         ,11         ,2,20240325,0738, -35.4984,  94.9904,     4041,   1582.3,   3.0708,  34.5884,2,  34.5879,2,    153.4,2,    154.2,2,    79.14,2,     0.00,2,    34.28,2,     0.00,2,     2.39,2,    0.221,2,    0.099,2,    0.007,4,   0.0000,2,   2262.3,3,   2345.5,2,   7.5605,2,    24.99,     -999,1,   3.0704,2,     -999,1,     -999,     -999,9,     -999,9,     -999,9,     -999,9,     -999,9,     -999,1,   0.0183,1,   4.6552,1,     19.8,2,     -999,9,20240325,0838, -35.4983,  94.9909,     -999,9,     -999,9,-999          ,9,-999          ,9,-999          ,9
325020240221  ,I08        ,60      ,  1,10         ,10         ,2,20240325,0738, -35.4984,  94.9904,     4041,   1755.7,   2.8245,  34.6349,2,  34.6362,2,    155.2,2,    155.9,2,    84.70,2,     0.00,2,    34.00,2,     0.00,2,     2.37,2,    0.102,2,    0.055,2,    0.003,4,   0.0110,2,     -999,9,     -999,9,     -999,9,     -999,     -999,1,   2.8285,2,     -999,1,     -999,     -999,9,     -999,9,     -999,9,     -999,9,     -999,9,     -999,1,   0.0183,1,   4.6518,1,     19.0,2,     -999,9,20240325,0833, -35.4983,  94.9909,     -999,9,     -999,9,-999          ,9,-999          ,9,-999          ,9
325020240221  ,I08        ,60      ,  1,9          ,9          ,2,20240325,0738, -35.4984,  94.9904,     4041,   1959.4,   2.5845,  34.6775,2,  34.6759,2,    164.0,2,    164.2,2,    87.82,2,     0.00,2,    33.15,2,     0.00,2,     2.30,2,    0.089,2,    0.049,2,    0.001,4,   0.0000,2,   2264.7,3,   2354.2,2,   7.5791,2,    24.99,     -999,1,   2.5925,2,     -999,1,     -999,     -999,9,     -999,9,     -999,9,     -999,9,     -999,9,     -999,1,   0.0183,1,   4.6483,1,     18.4,2,     -999,9,20240325,0828, -35.4983,  94.9909,     -999,9,     -999,9,-999          ,9,-999          ,9,-999          ,9
325020240221  ,I08        ,60      ,  1,8          ,8          ,2,20240325,0738, -35.4984,  94.9904,     4041,   2191.3,   2.3523,  34.7125,2,  34.7125,2,    176.2,2,    176.3,2,    87.81,2,     0.01,2,    31.96,2,     0.00,2,     2.21,2,    0.093,2,    0.047,2,    0.003,4,   0.0020,2,   2258.2,3,     -999,5,   7.5952,2,    25.00,     -999,1,   2.3528,2,     -999,1,     -999,     -999,9,     -999,9,     -999,9,     -999,9,     -999,9,     -999,1,   0.0183,1,   4.6456,1,     17.6,2,     -999,9,20240325,0822, -35.4983,  94.9909,     -999,9,     -999,9,-999          ,9,-999          ,9,-999          ,9
325020240221  ,I08        ,60      ,  1,7          ,7          ,2,20240325,0738, -35.4984,  94.9904,     4041,   2446.4,   2.1131,  34.7363,2,  34.7364,2,    187.2,2,    187.0,2,    88.40,2,     0.00,2,    31.03,2,     0.00,2,     2.13,2,    0.066,2,    0.043,2,    0.000,4,   0.0020,2,   2253.7,3,   2354.8,6,   7.6096,6,    25.02,     -999,1,   2.1133,2,     -999,1,     -999,     -999,9,     -999,9,     -999,9,     -999,9,     -999,9,     -999,1,   0.0183,1,   4.6421,1,     16.5,2,     -999,9,20240325,0815, -35.4983,  94.9909,     -999,9,     -999,9,-999          ,9,-999          ,9,-999          ,9
325020240221  ,I08        ,60      ,  1,6          ,6          ,2,20240325,0738, -35.4984,  94.9904,     4041,   2699.8,   1.8546,  34.7434,2,  34.7433,2,    194.0,2,    193.7,2,    94.25,2,     0.01,2,    30.77,2,     0.00,2,     2.10,2,    0.078,2,    0.041,2,    0.004,4,   0.0190,2,     -999,9,     -999,9,     -999,9,     -999,     -999,1,   1.8541,2,     -999,9,     -999,     -999,9,     -999,9,     -999,9,     -999,9,     -999,9,     -999,1,   0.0195,1,   4.6385,1,     16.6,2,     -999,9,20240325,0809, -35.4983,  94.9909,     -999,9,     -999,9,-999          ,9,-999          ,9,-999          ,9