BOTTLE,20240417CCHHYDRO
EXPOCODE,SECT_ID,STNNBR,CASTNO,SAMPNO,BTLNBR,BTLNBR_FLAG_W,DATE,TIME,LATITUDE,LONGITUDE,DEPTH,CTDPRS,CTDTMP,CTDSAL,CTDSAL_FLAG_W,SALNTY,SALNTY_FLAG_W,CTDOXY,CTDOXY_FLAG_W,OXYGEN,OXYGEN_FLAG_W,SILCAT,SILCAT_FLAG_W,NH4,NH4_FLAG_W,NITRAT,NITRAT_FLAG_W,NITRIT,NITRIT_FLAG_W,PHSPHT,PHSPHT_FLAG_W,CFC-11,CFC-11_FLAG_W,CFC-12,CFC-12_FLAG_W,CFC113,CFC113_FLAG_W,SF6,SF6_FLAG_W,TCARBN,TCARBN_FLAG_W,ALKALI,ALKALI_FLAG_W,PH_TOT,PH_TOT_FLAG_W,PH_TMP,DOC,DOC_FLAG_W,REFTMP,REFTMP_FLAG_W,DELC14,DELC14_FLAG_W,C14ERR,POC,POC_FLAG_W,PON,PON_FLAG_W,POP,POP_FLAG_W,PCOD,PCOD_FLAG_W,DOP,DOP_FLAG_W,TDN,TDN_FLAG_W,CTDFLUOR,CTDFLUOR_FLAG_W,CTDXMISS,CTDXMISS_FLAG_W,N2O,N2O_FLAG_W,ARGON,ARGON_FLAG_W,BTL_DATE,BTL_TIME,BTL_LAT,BTL_LON,KRYPTON,KRYPTON_FLAG_W,XENON,XENON_FLAG_W,HPLC,HPLC_FLAG_W,DNA,DNA_FLAG_W,FCM,FCM_FLAG_W
,,,,,,,,,,,METERS,DBAR,ITS-90,PSS-78,,PSS-78,,UMOL/KG,,UMOL/KG,,UMOL/KG,,UMOL/KG,,UMOL/KG,,UMOL/KG,,UMOL/KG,,PMOL/KG,,PMOL/KG,,PMOL/KG,,FMOL/KG,,UMOL/KG,,UMOL/KG,,,,DEG C,UMOL/KG,,ITS-90,,/MILLE,,/MILLE,UG/KG,,UG/KG,,UG/L,,UG/L,,UMOL/KG,,UMOL/KG,,VOLTS,,VOLTS,,NMOL/KG,,UMOL/L,,,,,,NMOL/L,,NMOL/L,,,,,,,
325020240221  ,I08        ,57      ,  1,36         ,36         ,2,20240324,1053, -37.4945,  94.9878,     4241,      4.3,  18.8373,  35.0192,2,  35.0138,2,    241.1,2,    241.1,2,     0.59,2,     0.13,2,     0.30,2,     0.02,2,     0.16,2,    2.267,2,    1.322,2,    0.219,4,   2.1760,2,   2060.3,3,   2316.0,2,   7.9623,2,    25.02,     -999,1,  18.8772,2,     -999,9,     -999,     -999,9,     -999,9,     -999,9,     -999,9,     -999,9,     -999,1,   0.0611,1,   4.5079,1,      8.0,2,     -999,9,20240324,1300, -37.4945,  94.9878,     -999,9,     -999,9,-999          ,9,-999          ,9,-999          ,9
325020240221  ,I08        ,57      ,  1,35         ,35         ,2,20240324,1053, -37.4945,  94.9878,     4241,     19.5,  18.4625,  34.9895,2,  34.9874,2,    244.1,2,    243.3,2,     0.49,2,     0.07,2,     0.31,2,     0.03,2,     0.17,2,    2.127,2,    1.297,2,    0.318,4,   2.1870,2,   2059.9,3,   2317.4,2,   7.9628,2,    25.04,     -999,9,  18.4576,2,     -999,9,     -999,     -999,9,     -999,9,     -999,9,     -999,9,     -999,9,     -999,9,   0.0806,1,   4.4663,1,      8.2,2,     -999,9,20240324,1258, -37.4944,  94.9879,     -999,9,     -999,9,-999          ,9,-999          ,9,-999          ,9
325020240221  ,I08        ,57      ,  1,34         ,34         ,2,20240324,1053, -37.4945,  94.9878,     4241,     39.6,  17.3475,  34.8588,2,  34.8487,2,    247.0,2,    245.6,2,     0.49,2,     0.37,2,     1.10,2,     0.05,2,     0.22,2,    2.396,2,    1.364,2,    0.339,4,   2.2650,2,   2066.4,3,   2308.4,2,   7.9431,2,    25.00,     -999,9,  17.3401,2,     -999,9,     -999,     -999,9,     -999,9,     -999,9,     -999,9,     -999,9,     -999,9,   0.0611,1,   4.5744,1,      8.9,2,     -999,9,20240324,1256, -37.4944,  94.9879,     -999,9,     -999,9,-999          ,9,-999          ,9,-999          ,9
325020240221  ,I08        ,57      ,  1,33         ,33         ,2,20240324,1053, -37.4945,  94.9878,     4241,     65.4,  12.8759,  34.9242,2,  34.9246,2,    260.5,2,    262.2,2,     2.15,2,     0.81,2,     5.68,2,     0.22,2,     0.57,2,     -999,9,     -999,9,     -999,9,     -999,9,     -999,9,     -999,9,     -999,9,     -999,     -999,9,  12.8871,2,     -999,9,     -999,     -999,9,     -999,9,     -999,9,     -999,9,     -999,9,     -999,9,   0.0499,1,   4.6174,1,     -999,9,     -999,9,20240324,1254, -37.4944,  94.9878,     -999,9,     -999,9,-999          ,9,-999          ,9,-999          ,9
325020240221  ,I08        ,57      ,  1,32         ,32         ,2,20240324,1053, -37.4945,  94.9878,     4241,     90.4,  12.1339,  34.9338,2,  34.9325,2,    254.4,2,    254.9,2,     2.44,2,     0.20,2,     6.75,2,     1.09,2,     0.64,2,    3.314,2,    1.724,2,    0.361,4,   2.4330,2,   2119.6,3,   2307.6,2,   7.8293,2,    24.98,     -999,9,  12.1382,2,     -999,9,     -999,     -999,9,     -999,9,     -999,9,     -999,9,     -999,9,     -999,9,   0.0343,1,   4.6593,1,     10.5,2,     -999,9,20240324,1252, -37.4944,  94.9878,     -999,9,     -999,9,-999          ,9,-999          ,9,-999          ,9
325020240221  ,I08        ,57      ,  1,31         ,31         ,2,20240324,1053, -37.4945,  94.9878,     4241,    115.0,  11.8918,  34.9291,2,  34.9292,2,    252.0,2,    252.0,2,     2.44,2,     0.00,2,     8.42,2,     0.11,2,     0.65,2,     -999,9,     -999,9,     -999,9,     -999,9,     -999,9,     -999,9,     -999,9,     -999,     -999,9,  11.8922,2,     -999,9,     -999,     -999,9,     -999,9,     -999,9,     -999,9,     -999,9,     -999,9,   0.0244,1,   4.6693,1,     -999,9,     -999,9,20240324,1251, -37.4944,  94.9879,     -999,9,     -999,9,-999          ,9,-999          ,9,-999          ,9
325020240221  ,I08        ,57      ,  1,30         ,30         ,2,20240324,1053, -37.4945,  94.9878,     4241,    139.9,  11.7412,  34.9267,2,  34.9359,2,    252.0,2,    252.0,2,     2.44,2,     0.02,2,     8.67,2,     0.00,2,     0.67,2,    3.268,2,    1.732,2,    0.352,4,   2.4340,2,   2124.0,3,   2303.9,2,   7.8226,6,    24.98,     -999,9,  11.7399,2,     -999,9,     -999,     -999,9,     -999,9,     -999,9,     -999,9,     -999,9,     -999,9,   0.0200,1,   4.6777,1,     10.2,2,     -999,9,20240324,1249, -37.4944,  94.9879,     -999,9,     -999,9,-999          ,9,-999          ,9,-999          ,9
325020240221  ,I08        ,57      ,  1,29         ,29         ,2,20240324,1053, -37.4945,  94.9878,     4241,    186.3,  11.7133,  34.9723,2,  34.9693,2,    248.6,2,    248.2,2,     2.83,2,     0.02,2,     9.16,2,     0.00,2,     0.70,2,    3.257,2,    1.731,2,    0.261,4,   2.4520,2,   2127.3,3,   2306.6,6,   7.8185,2,    25.02,     -999,9,  11.7152,2,     -999,9,     -999,     -999,9,     -999,9,     -999,9,     -999,9,     -999,9,     -999,9,   0.0173,1,   4.6812,1,     10.8,2,     -999,9,20240324,1246, -37.4943,  94.9880,     -999,9,     -999,9,-999          ,9,-999          ,9,-999          ,9
325020240221  ,I08        ,57      ,  1,28         ,28         ,2,20240324,1053, -37.4945,  94.9878,     4241,    236.4,  11.5701,  34.9821,2,  34.9801,2,    241.4,2,    241.6,2,     3.22,2,     0.00,2,    10.47,2,     0.00,2,     0.78,2,    3.288,2,    1.729,2,    0.207,4,   2.4470,2,   2131.4,3,   2306.6,2,   7.8038,2,    25.04,     -999,9,  11.5746,2,     -999,9,     -999,     -999,9,     -999,9,     -999,9,     -999,9,     -999,9,     -999,9,   0.0179,1,   4.6803,1,     11.6,2,     -999,9,20240324,1244, -37.4943,  94.9879,     -999,9,     -999,9,-999          ,9,-999          ,9,-999          ,9
325020240221  ,I08        ,57      ,  1,27         ,27         ,2,20240324,1053, -37.4945,  94.9878,     4241,    285.6,  11.3488,  34.9513,2,  34.9500,2,    242.9,2,    243.2,2,     3.51,2,     0.00,2,    11.04,2,     0.00,2,     0.80,2,     -999,9,     -999,9,     -999,9,     -999,9,     -999,9,     -999,9,     -999,9,     -999,     -999,9,  11.3494,2,     -999,9,     -999,     -999,9,     -999,9,     -999,9,     -999,9,     -999,9,     -999,9,   0.0183,1,   4.6804,1,     -999,9,     -999,9,20240324,1241, -37.4944,  94.9879,     -999,9,     -999,9,-999          ,9,-999          ,9,-999          ,9
325020240221  ,I08        ,57      ,  1,26         ,26         ,2,20240324,1053, -37.4945,  94.9878,     4241,    339.3,  11.1768,  34.9273,2,  34.9278,2,    246.4,2,    246.2,2,     3.51,2,     0.00,2,    11.12,2,     0.00,2,     0.81,2,    3.440,2,    1.783,2,    0.227,4,   2.3130,2,   2131.6,3,   2306.2,2,   7.8012,2,    25.01,     -999,9,  11.1921,2,     -999,9,     -999,     -999,9,     -999,9,     -999,9,     -999,9,     -999,9,     -999,9,   0.0183,1,   4.6813,1,     11.0,2,     -999,9,20240324,1239, -37.4944,  94.9879,     -999,9,     -999,9,-999          ,9,-999          ,9,-999          ,9
325020240221  ,I08        ,57      ,  1,25         ,25         ,2,20240324,1053, -37.4945,  94.9878,     4241,    388.5,  11.0109,  34.9006,2,  34.8995,2,    246.4,2,    246.6,2,     3.61,2,     0.00,2,    11.57,2,     0.00,2,     0.85,2,    3.385,2,    1.749,2,    0.225,4,   2.3130,2,   2131.6,3,   2303.1,2,   7.7980,2,    24.98,     -999,9,  11.0125,2,     -999,9,     -999,     -999,9,     -999,9,     -999,9,     -999,9,     -999,9,     -999,9,   0.0178,1,   4.6813,1,     11.0,2,     -999,9,20240324,1237, -37.4944,  94.9879,     -999,9,     -999,9,-999          ,9,-999          ,9,-999          ,9
325020240221  ,I08        ,57      ,  1,24         ,24         ,2,20240324,1053, -37.4945,  94.9878,     4241,    440.1,  10.6753,  34.8445,2,  34.8473,2,    244.0,2,    244.1,2,     3.90,2,     0.00,2,    12.64,2,     0.00,2,     0.91,2,    3.550,2,    1.803,2,    0.214,4,   2.2030,2,   2131.2,3,   2299.6,2,   7.7870,6,    24.97,     -999,9,  10.7004,2,     -999,9,     -999,     -999,9,     -999,9,     -999,9,     -999,9,     -999,9,     -999,9,   0.0177,1,   4.6809,1,     11.2,2,     -999,9,20240324,1234, -37.4944,  94.9880,     -999,9,     -999,9,-999          ,9,-999          ,9,-999          ,9
325020240221  ,I08        ,57      ,  1,23         ,37         ,2,20240324,1053, -37.4945,  94.9878,     4241,    488.0,  10.3993,  34.7981,2,  34.7980,2,    244.8,2,    246.2,2,     3.90,2,     0.00,2,    13.12,2,     0.00,2,     0.94,2,     -999,9,     -999,9,     -999,9,     -999,9,     -999,9,     -999,9,     -999,9,     -999,     -999,9,  10.3967,2,     -999,9,     -999,     -999,9,     -999,9,     -999,9,     -999,9,     -999,9,     -999,9,   0.0175,1,   4.6825,1,     -999,9,     -999,9,20240324,1232, -37.4944,  94.9879,     -999,9,     -999,9,-999          ,9,-999          ,9,-999          ,9
325020240221  ,I08        ,57      ,  1,22         ,22         ,2,20240324,1053, -37.4945,  94.9878,     4241,    570.0,   9.9442,  34.7319,2,  34.7304,2,    237.5,2,    237.6,2,     4.88,2,     0.02,2,    15.32,2,     0.00,2,     1.06,2,    3.804,2,    1.891,2,    0.210,4,   2.0660,2,   2139.6,3,   2295.3,6,   7.7605,6,    24.98,     -999,9,   9.9452,2,     -999,9,     -999,     -999,9,     -999,9,     -999,9,     -999,9,     -999,9,     -999,9,   0.0176,1,   4.6836,1,     12.0,2,     -999,9,20240324,1229, -37.4945,  94.9879,     -999,9,     -999,9,-999          ,9,-999          ,9,-999          ,9
325020240221  ,I08        ,57      ,  1,21         ,21         ,2,20240324,1053, -37.4945,  94.9878,     4241,    670.7,   9.2767,  34.6639,2,  34.6657,2,    225.8,2,    226.6,2,     6.44,2,     0.00,2,    17.92,2,     0.00,2,     1.23,2,    3.794,2,    1.935,2,    0.189,4,   1.7310,2,   2141.7,3,   2289.4,2,   7.7344,2,    25.02,     -999,9,   9.2825,2,     -999,9,     -999,     -999,9,     -999,9,     -999,9,     -999,9,     -999,9,     -999,9,   0.0173,1,   4.6857,1,     12.7,2,     -999,9,20240324,1226, -37.4945,  94.9880,     -999,9,     -999,9,-999          ,9,-999          ,9,-999          ,9
325020240221  ,I08        ,57      ,  1,20         ,20         ,2,20240324,1053, -37.4945,  94.9878,     4241,    770.8,   8.1560,  34.5494,2,  34.5516,2,    210.8,2,    211.5,2,    10.93,2,     0.02,2,    22.07,2,     0.00,2,     1.49,2,    3.568,2,    1.751,2,    0.184,4,   1.3780,2,   2158.6,3,   2288.3,2,   7.6932,2,    25.02,     -999,9,   8.1641,2,     -999,9,     -999,     -999,9,     -999,9,     -999,9,     -999,9,     -999,9,     -999,9,   0.0176,1,   4.6870,1,      9.3,4,     -999,9,20240324,1222, -37.4945,  94.9880,     -999,9,     -999,9,-999          ,9,-999          ,9,-999          ,9
325020240221  ,I08        ,57      ,  1,19         ,19         ,2,20240324,1053, -37.4945,  94.9878,     4241,    872.7,   6.8898,  34.4472,2,  34.4477,2,    203.6,2,    203.9,2,    16.69,2,     0.00,2,    25.76,2,     0.00,2,     1.73,2,     -999,9,     -999,9,     -999,9,     -999,9,     -999,9,     -999,9,     -999,9,     -999,     -999,9,   6.8896,2,     -999,9,     -999,     -999,9,     -999,9,     -999,9,     -999,9,     -999,9,     -999,9,   0.0183,1,   4.6873,1,     -999,9,     -999,9,20240324,1219, -37.4944,  94.9880,     -999,9,     -999,9,-999          ,9,-999          ,9,-999          ,9
325020240221  ,I08        ,57      ,  1,18         ,18         ,2,20240324,1053, -37.4945,  94.9878,     4241,    975.4,   5.5730,  34.3615,2,  34.3637,2,    204.9,2,    204.3,2,    24.02,2,     0.00,2,    28.82,2,     0.00,2,     1.95,2,    2.882,2,    1.455,2,    0.136,4,   0.8660,2,   2186.4,3,   2289.5,2,   7.6283,2,    25.03,     -999,9,   5.5533,2,     -999,9,     -999,     -999,9,     -999,9,     -999,9,     -999,9,     -999,9,     -999,9,   0.0183,1,   4.6880,1,     15.8,2,     -999,9,20240324,1216, -37.4944,  94.9880,     -999,9,     -999,9,-999          ,9,-999          ,9,-999          ,9
325020240221  ,I08        ,57      ,  1,17         ,17         ,2,20240324,1053, -37.4945,  94.9878,     4241,   1075.7,   4.6290,  34.3393,2,  34.3395,2,    202.7,2,    202.6,2,    31.83,2,     0.00,2,    30.78,2,     0.00,2,     2.09,2,     -999,9,     -999,9,     -999,9,     -999,9,     -999,9,     -999,9,     -999,9,     -999,     -999,9,   4.6294,2,     -999,9,     -999,     -999,9,     -999,9,     -999,9,     -999,9,     -999,9,     -999,9,   0.0183,1,   4.6773,1,     -999,9,     -999,9,20240324,1213, -37.4944,  94.9880,     -999,9,     -999,9,-999          ,9,-999          ,9,-999          ,9
325020240221  ,I08        ,57      ,  1,16         ,16         ,2,20240324,1053, -37.4945,  94.9878,     4241,   1177.1,   4.0522,  34.3718,2,  34.3743,2,    190.7,2,    189.9,2,    42.96,2,     0.00,2,    32.63,2,     0.00,2,     2.25,2,    1.982,2,    0.889,2,    0.105,4,   0.5190,2,   2209.1,3,   2308.0,2,   7.5906,6,    25.00,     -999,9,   4.0508,2,     -999,9,     -999,     -999,9,     -999,9,     -999,9,     -999,9,     -999,9,     -999,9,   0.0183,1,   4.6702,1,     17.8,2,     -999,9,20240324,1209, -37.4944,  94.9880,     -999,9,     -999,9,-999          ,9,-999          ,9,-999          ,9
325020240221  ,I08        ,57      ,  1,15         ,15         ,2,20240324,1053, -37.4945,  94.9878,     4241,   1278.5,   3.6701,  34.4144,2,  34.4145,2,    180.3,2,    179.5,2,    52.13,2,     0.00,2,    33.78,2,     0.00,2,     2.31,2,     -999,9,     -999,9,     -999,9,     -999,9,     -999,9,     -999,9,     -999,9,     -999,     -999,9,   3.6734,2,     -999,9,     -999,     -999,9,     -999,9,     -999,9,     -999,9,     -999,9,     -999,9,   0.0179,1,   4.6647,1,     -999,9,     -999,9,20240324,1206, -37.4945,  94.9880,     -999,9,     -999,9,-999          ,9,-999          ,9,-999          ,9
325020240221  ,I08        ,57      ,  1,14         ,14         ,2,20240324,1053, -37.4945,  94.9878,     4241,   1379.0,   3.3565,  34.4667,2,  34.4677,2,    170.6,2,    170.3,2,    61.21,2,     0.00,2,    34.58,2,     0.00,2,     2.38,2,    0.959,2,    0.437,2,    0.049,4,   0.2390,2,   2239.2,3,   2324.6,6,   7.5654,2,    24.98,     -999,9,   3.3571,2,     -999,9,     -999,     -999,9,     -999,9,     -999,9,     -999,9,     -999,9,     -999,9,   0.0183,1,   4.6605,1,     19.0,2,     -999,9,20240324,1203, -37.4945,  94.9880,     -999,9,     -999,9,-999          ,9,-999          ,9,-999          ,9
325020240221  ,I08        ,57      ,  1,13         ,13         ,2,20240324,1053, -37.4945,  94.9878,     4241,   1482.0,   3.1659,  34.5135,2,  34.5133,2,    163.8,2,    164.6,2,    67.75,2,     0.00,2,    34.79,2,     0.00,2,     2.40,2,    0.663,2,    0.293,2,    0.025,4,   0.2040,2,   2251.4,3,   2331.8,2,   7.5608,6,    24.97,     -999,9,   3.1663,2,     -999,9,     -999,     -999,9,     -999,9,     -999,9,     -999,9,     -999,9,     -999,9,   0.0183,1,   4.6581,1,     19.3,2,     -999,9,20240324,1159, -37.4944,  94.9881,     -999,9,     -999,9,-999          ,9,-999          ,9,-999          ,9
325020240221  ,I08        ,57      ,  1,12         ,12         ,2,20240324,1053, -37.4945,  94.9878,     4241,   1582.5,   3.0124,  34.5533,2,  34.5535,2,    161.4,2,    162.1,2,    72.92,2,     0.00,2,    34.68,2,     0.00,2,     2.41,2,    0.427,2,    0.197,2,    0.014,4,   0.0230,2,   2250.4,3,   2337.8,2,   7.5598,2,    25.00,     -999,9,   3.0124,2,     -999,9,     -999,     -999,9,     -999,9,     -999,9,     -999,9,     -999,9,     -999,9,   0.0189,1,   4.6564,1,     18.7,2,     -999,9,20240324,1156, -37.4944,  94.9880,     -999,9,     -999,9,-999          ,9,-999          ,9,-999          ,9
325020240221  ,I08        ,57      ,  1,11         ,11         ,2,20240324,1053, -37.4945,  94.9878,     4241,   1754.8,   2.7688,  34.6109,2,  34.6103,2,    164.0,2,    164.5,2,    77.70,2,     0.00,2,    34.09,2,     0.00,2,     2.39,2,     -999,9,     -999,9,     -999,9,     -999,9,     -999,9,     -999,9,     -999,9,     -999,     -999,9,   2.7687,2,     -999,9,     -999,     -999,9,     -999,9,     -999,9,     -999,9,     -999,9,     -999,9,   0.0183,1,   4.6541,1,     -999,9,     -999,9,20240324,1152, -37.4945,  94.9880,     -999,9,     -999,9,-999          ,9,-999          ,9,-999          ,9
325020240221  ,I08        ,57      ,  1,10         ,10         ,2,20240324,1053, -37.4945,  94.9878,     4241,   1958.7,   2.5793,  34.6719,2,  34.6720,2,    168.4,2,    168.7,2,    83.55,2,     0.02,2,    33.12,2,     0.00,2,     2.31,2,    0.152,2,    0.078,2,    0.006,4,   0.0170,2,   2257.6,3,   2349.5,2,   7.5800,2,    25.03,     -999,9,   2.5793,2,     -999,9,     -999,     -999,9,     -999,9,     -999,9,     -999,9,     -999,9,     -999,9,   0.0180,1,   4.6508,1,     17.9,2,     -999,9,20240324,1146, -37.4945,  94.9880,     -999,9,     -999,9,-999          ,9,-999          ,9,-999          ,9
325020240221  ,I08        ,57      ,  1,9          ,9          ,2,20240324,1053, -37.4945,  94.9878,     4241,   2191.1,   2.3593,  34.7135,2,  34.7131,2,    178.0,2,    177.7,2,    85.99,2,     0.00,2,    32.06,2,     0.00,2,     2.23,2,     -999,9,     -999,9,     -999,9,     -999,9,     -999,9,     -999,9,     -999,9,     -999,     -999,9,   2.3579,2,     -999,9,     -999,     -999,9,     -999,9,     -999,9,     -999,9,     -999,9,     -999,9,   0.0183,1,   4.6483,1,     -999,9,     -999,9,20240324,1141, -37.4945,  94.9879,     -999,9,     -999,9,-999          ,9,-999          ,9,-999          ,9
325020240221  ,I08        ,57      ,  1,8          ,8          ,2,20240324,1053, -37.4945,  94.9878,     4241,   2446.2,   2.1336,  34.7354,2,  34.7366,2,    186.0,2,    186.0,2,    89.40,2,     0.00,2,    31.28,2,     0.00,2,     2.18,2,    0.075,2,    0.040,2,    0.004,4,   0.0040,2,   2250.7,3,   2355.0,2,   7.6081,2,    25.00,     -999,9,   2.1332,2,     -999,9,     -999,     -999,9,     -999,9,     -999,9,     -999,9,     -999,9,     -999,9,   0.0182,1,   4.6447,1,     16.5,2,     -999,9,20240324,1135, -37.4945,  94.9880,     -999,9,     -999,9,-999          ,9,-999          ,9,-999          ,9
325020240221  ,I08        ,57      ,  1,7          ,7          ,2,20240324,1053, -37.4945,  94.9878,     4241,   2702.2,   1.9100,  34.7456,2,  34.7459,2,    193.9,2,    193.7,2,    92.33,2,     0.00,2,    30.73,2,     0.00,2,     2.13,2,     -999,9,     -999,9,     -999,9,     -999,9,     -999,9,     -999,9,     -999,9,     -999,     -999,9,   1.9129,2,     -999,9,     -999,     -999,9,     -999,9,     -999,9,     -999,9,     -999,9,     -999,9,   0.0189,1,   4.6419,1,     -999,9,     -999,9,20240324,1129, -37.4945,  94.9880,     -999,9,     -999,9,-999          ,9,-999          ,9,-999          ,9
325020240221  ,I08        ,57      ,  1,6          ,6          ,2,20240324,1053, -37.4945,  94.9878,     4241,   2957.3,   1.6127,  34.7402,2,  34.7394,2,    199.0,2,    198.8,2,   100.63,2,     0.00,2,    30.94,2,     0.00,2,     2.14,2,    0.116,2,    0.056,2,    0.006,4,   0.0250,2,   2258.1,3,   2359.3,2,   7.6165,2,    25.02,     -999,9,   1.6129,2,     -999,9,     -999,     -999,9,     -999,9,     -999,9,     -999,9,     -999,9,     -999,9,   0.0183,1,   4.6374,1,     16.0,2,     -999,9,20240324,1123, -37.4946,  94.9880,     -999,9,     -999,9,-999          ,9,-999          ,9,-999          ,9