BOTTLE,20240417CCHHYDRO
EXPOCODE,SECT_ID,STNNBR,CASTNO,SAMPNO,BTLNBR,BTLNBR_FLAG_W,DATE,TIME,LATITUDE,LONGITUDE,DEPTH,CTDPRS,CTDTMP,CTDSAL,CTDSAL_FLAG_W,SALNTY,SALNTY_FLAG_W,CTDOXY,CTDOXY_FLAG_W,OXYGEN,OXYGEN_FLAG_W,SILCAT,SILCAT_FLAG_W,NH4,NH4_FLAG_W,NITRAT,NITRAT_FLAG_W,NITRIT,NITRIT_FLAG_W,PHSPHT,PHSPHT_FLAG_W,CFC-11,CFC-11_FLAG_W,CFC-12,CFC-12_FLAG_W,CFC113,CFC113_FLAG_W,SF6,SF6_FLAG_W,TCARBN,TCARBN_FLAG_W,ALKALI,ALKALI_FLAG_W,PH_TOT,PH_TOT_FLAG_W,PH_TMP,DOC,DOC_FLAG_W,REFTMP,REFTMP_FLAG_W,DELC14,DELC14_FLAG_W,C14ERR,POC,POC_FLAG_W,PON,PON_FLAG_W,POP,POP_FLAG_W,PCOD,PCOD_FLAG_W,DOP,DOP_FLAG_W,TDN,TDN_FLAG_W,CTDFLUOR,CTDFLUOR_FLAG_W,CTDXMISS,CTDXMISS_FLAG_W,N2O,N2O_FLAG_W,ARGON,ARGON_FLAG_W,BTL_DATE,BTL_TIME,BTL_LAT,BTL_LON,KRYPTON,KRYPTON_FLAG_W,XENON,XENON_FLAG_W,HPLC,HPLC_FLAG_W,DNA,DNA_FLAG_W,FCM,FCM_FLAG_W
,,,,,,,,,,,METERS,DBAR,ITS-90,PSS-78,,PSS-78,,UMOL/KG,,UMOL/KG,,UMOL/KG,,UMOL/KG,,UMOL/KG,,UMOL/KG,,UMOL/KG,,PMOL/KG,,PMOL/KG,,PMOL/KG,,FMOL/KG,,UMOL/KG,,UMOL/KG,,,,DEG C,UMOL/KG,,ITS-90,,/MILLE,,/MILLE,UG/KG,,UG/KG,,UG/L,,UG/L,,UMOL/KG,,UMOL/KG,,VOLTS,,VOLTS,,NMOL/KG,,UMOL/L,,,,,,NMOL/L,,NMOL/L,,,,,,,
325020240221  ,I08        ,29      ,  1,5          ,5          ,2,20240315,0001, -56.0570,  84.2606,     4762,   4075.3,   0.2028,  34.6701,2,  34.6696,2,    224.1,2,    224.0,2,   130.13,2,     0.00,2,    32.60,2,     0.00,2,     2.23,2,    1.103,2,    0.566,2,    0.078,2,   0.3260,2,   2259.1,3,   2352.5,2,   7.5948,6,    25.04,     -999,9,   0.2025,2,     -999,9,     -999,     -999,9,     -999,9,     -999,9,     -999,9,     -999,9,     -999,9,   0.0183,1,   4.6227,1,     31.7,2,     -999,9,20240315,0024, -56.0571,  84.2606,     -999,9,     -999,9,-999          ,9,-999          ,9,-999          ,9
325020240221  ,I08        ,29      ,  1,4          ,4          ,4,20240315,0001, -56.0570,  84.2606,     4762,   4333.0,   0.1739,  34.6674,3,  34.6745,3,    225.9,3,     -999,9,   125.15,3,     0.00,3,    32.37,3,     0.00,3,     2.21,3,     -999,9,     -999,9,     -999,9,     -999,9,     -999,9,     -999,9,     -999,9,     -999,     -999,9,   0.1735,3,     -999,9,     -999,     -999,9,     -999,9,     -999,9,     -999,9,     -999,9,     -999,9,   0.0183,1,   4.6228,1,     -999,9,     -999,9,20240315,0017, -56.0571,  84.2606,     -999,9,     -999,9,-999          ,9,-999          ,9,-999          ,9
325020240221  ,I08        ,29      ,  1,3          ,3          ,2,20240315,0001, -56.0570,  84.2606,     4762,   4537.7,   0.1503,  34.6655,2,  34.6651,2,    227.3,2,    227.4,2,   130.52,2,     0.00,2,    32.38,2,     0.00,2,     2.19,2,    1.281,2,    0.649,2,    0.101,2,   0.4680,2,   2259.4,3,   2351.9,2,   7.5943,2,    25.04,     -999,9,   0.1501,2,     -999,9,     -999,     -999,9,     -999,9,     -999,9,     -999,9,     -999,9,     -999,9,   0.0179,1,   4.6237,1,     31.8,2,     -999,9,20240315,0011, -56.0571,  84.2606,     -999,9,     -999,9,-999          ,9,-999          ,9,-999          ,9
325020240221  ,I08        ,29      ,  1,2          ,2          ,2,20240315,0001, -56.0570,  84.2606,     4762,   4744.0,   0.1180,  34.6628,2,  34.6624,2,    229.1,2,    229.4,2,   131.01,2,     0.00,2,    32.27,2,     0.00,2,     2.22,2,    1.478,2,    0.731,2,    0.120,2,   0.5870,2,   2257.6,3,   2351.7,2,   7.5931,2,    25.02,     -999,9,   0.1176,2,     -999,9,     -999,     -999,9,     -999,9,     -999,9,     -999,9,     -999,9,     -999,9,   0.0183,1,   4.6240,1,     32.1,2,     -999,9,20240315,0005, -56.0571,  84.2605,     -999,9,     -999,9,-999          ,9,-999          ,9,-999          ,9
325020240221  ,I08        ,29      ,  1,1          ,1          ,2,20240315,0001, -56.0570,  84.2606,     4762,   4847.3,   0.0825,  34.6605,2,  34.6610,2,    230.8,2,    230.7,2,   131.49,2,     0.00,2,    32.23,2,     0.00,2,     2.21,2,    1.494,2,    0.814,2,    0.116,2,   0.8430,2,   2257.0,3,   2352.2,2,   7.5930,2,    25.04,     -999,9,   0.0822,2,     -999,9,     -999,     -999,9,     -999,9,     -999,9,     -999,9,     -999,9,     -999,9,   0.0183,1,   4.5748,1,     21.6,2,     -999,9,20240315,0001, -56.0571,  84.2606,     -999,9,     -999,9,-999          ,9,-999          ,9,-999          ,9