BOTTLE,20240417CCHHYDRO
EXPOCODE,SECT_ID,STNNBR,CASTNO,SAMPNO,BTLNBR,BTLNBR_FLAG_W,DATE,TIME,LATITUDE,LONGITUDE,DEPTH,CTDPRS,CTDTMP,CTDSAL,CTDSAL_FLAG_W,SALNTY,SALNTY_FLAG_W,CTDOXY,CTDOXY_FLAG_W,OXYGEN,OXYGEN_FLAG_W,SILCAT,SILCAT_FLAG_W,NH4,NH4_FLAG_W,NITRAT,NITRAT_FLAG_W,NITRIT,NITRIT_FLAG_W,PHSPHT,PHSPHT_FLAG_W,CFC-11,CFC-11_FLAG_W,CFC-12,CFC-12_FLAG_W,CFC113,CFC113_FLAG_W,SF6,SF6_FLAG_W,TCARBN,TCARBN_FLAG_W,ALKALI,ALKALI_FLAG_W,PH_TOT,PH_TOT_FLAG_W,PH_TMP,DOC,DOC_FLAG_W,REFTMP,REFTMP_FLAG_W,DELC14,DELC14_FLAG_W,C14ERR,POC,POC_FLAG_W,PON,PON_FLAG_W,POP,POP_FLAG_W,PCOD,PCOD_FLAG_W,DOP,DOP_FLAG_W,TDN,TDN_FLAG_W,CTDFLUOR,CTDFLUOR_FLAG_W,CTDXMISS,CTDXMISS_FLAG_W,N2O,N2O_FLAG_W,ARGON,ARGON_FLAG_W,BTL_DATE,BTL_TIME,BTL_LAT,BTL_LON,KRYPTON,KRYPTON_FLAG_W,XENON,XENON_FLAG_W,HPLC,HPLC_FLAG_W,DNA,DNA_FLAG_W,FCM,FCM_FLAG_W
,,,,,,,,,,,METERS,DBAR,ITS-90,PSS-78,,PSS-78,,UMOL/KG,,UMOL/KG,,UMOL/KG,,UMOL/KG,,UMOL/KG,,UMOL/KG,,UMOL/KG,,PMOL/KG,,PMOL/KG,,PMOL/KG,,FMOL/KG,,UMOL/KG,,UMOL/KG,,,,DEG C,UMOL/KG,,ITS-90,,/MILLE,,/MILLE,UG/KG,,UG/KG,,UG/L,,UG/L,,UMOL/KG,,UMOL/KG,,VOLTS,,VOLTS,,NMOL/KG,,UMOL/L,,,,,,NMOL/L,,NMOL/L,,,,,,,
325020240221  ,I08        ,32      ,  1,5          ,5          ,2,20240316,0000, -54.1634,  86.3587,     4726,   3766.0,   0.3016,  34.6758,2,  34.6757,2,    220.5,2,    220.6,2,   129.45,2,     0.00,2,    32.21,2,     0.00,2,     2.26,2,    1.080,2,    0.453,2,    0.060,2,   0.3350,2,   2257.0,3,   2355.8,2,   7.5944,2,    24.97,     -999,1,   0.3018,2,     -999,9,     -999,     -999,9,     -999,9,     -999,9,     -999,9,     -999,9,     -999,1,   0.0183,1,   4.6275,1,     12.3,2,     -999,9,20240316,0024, -54.1635,  86.3586,     -999,9,     -999,9,-999          ,9,-999          ,9,-999          ,9
325020240221  ,I08        ,32      ,  1,4          ,4          ,2,20240316,0000, -54.1634,  86.3587,     4726,   4073.7,   0.2095,  34.6703,2,  34.6712,2,    223.8,2,    223.9,2,   130.81,2,     0.00,2,    32.29,2,     0.00,2,     2.26,2,    1.263,2,    0.554,2,    0.077,2,   0.3460,2,     -999,9,     -999,9,     -999,9,     -999,     -999,1,   0.2091,2,     -999,9,     -999,     -999,9,     -999,9,     -999,9,     -999,9,     -999,9,     -999,1,   0.0182,1,   4.6287,1,     12.2,2,     -999,9,20240316,0017, -54.1635,  86.3586,     -999,9,     -999,9,-999          ,9,-999          ,9,-999          ,9
325020240221  ,I08        ,32      ,  1,3          ,3          ,2,20240316,0000, -54.1634,  86.3587,     4726,   4382.9,   0.1829,  34.6678,2,  34.6679,2,    225.7,2,    225.9,2,   131.11,2,     0.00,2,    32.32,2,     0.00,2,     2.26,2,    1.513,2,    0.617,2,    0.087,2,   0.4050,2,   2262.1,3,   2355.9,2,   7.5938,6,    24.99,     -999,1,   0.1827,2,     -999,9,     -999,     -999,9,     -999,9,     -999,9,     -999,9,     -999,9,     -999,1,   0.0182,1,   4.6293,1,     12.3,2,     -999,9,20240316,0011, -54.1635,  86.3586,     -999,9,     -999,9,-999          ,9,-999          ,9,-999          ,9
325020240221  ,I08        ,32      ,  1,2          ,2          ,2,20240316,0000, -54.1634,  86.3587,     4726,   4608.8,   0.1616,  34.6655,2,  34.6661,2,    227.1,2,    227.1,2,   131.50,2,     0.00,2,    32.34,2,     0.00,2,     2.26,2,    1.620,2,    0.656,2,    0.111,2,   0.5460,2,   2258.1,3,   2356.5,2,   7.5926,2,    24.97,     -999,1,   0.1613,2,     -999,9,     -999,     -999,9,     -999,9,     -999,9,     -999,9,     -999,9,     -999,1,   0.0181,1,   4.6194,1,      6.5,4,     -999,9,20240316,0005, -54.1635,  86.3585,     -999,9,     -999,9,-999          ,9,-999          ,9,-999          ,9
325020240221  ,I08        ,32      ,  1,1          ,1          ,2,20240316,0000, -54.1634,  86.3587,     4726,   4810.0,   0.1680,  34.6648,2,  34.6653,2,    227.8,2,    227.8,2,   131.69,2,     0.00,2,    32.40,2,     0.00,2,     2.26,2,    1.418,2,    0.688,2,    0.106,2,   0.4520,2,   2262.4,3,   2357.0,2,   7.5926,2,    24.98,     -999,1,   0.1677,2,     -999,9,     -999,     -999,9,     -999,9,     -999,9,     -999,9,     -999,9,     -999,1,   0.0181,1,   4.6052,1,     11.8,2,     -999,9,20240316,0000, -54.1635,  86.3586,     -999,9,     -999,9,-999          ,9,-999          ,9,-999          ,9