BOTTLE,20240417CCHHYDRO
EXPOCODE,SECT_ID,STNNBR,CASTNO,SAMPNO,BTLNBR,BTLNBR_FLAG_W,DATE,TIME,LATITUDE,LONGITUDE,DEPTH,CTDPRS,CTDTMP,CTDSAL,CTDSAL_FLAG_W,SALNTY,SALNTY_FLAG_W,CTDOXY,CTDOXY_FLAG_W,OXYGEN,OXYGEN_FLAG_W,SILCAT,SILCAT_FLAG_W,NH4,NH4_FLAG_W,NITRAT,NITRAT_FLAG_W,NITRIT,NITRIT_FLAG_W,PHSPHT,PHSPHT_FLAG_W,CFC-11,CFC-11_FLAG_W,CFC-12,CFC-12_FLAG_W,CFC113,CFC113_FLAG_W,SF6,SF6_FLAG_W,TCARBN,TCARBN_FLAG_W,ALKALI,ALKALI_FLAG_W,PH_TOT,PH_TOT_FLAG_W,PH_TMP,DOC,DOC_FLAG_W,REFTMP,REFTMP_FLAG_W,DELC14,DELC14_FLAG_W,C14ERR,POC,POC_FLAG_W,PON,PON_FLAG_W,POP,POP_FLAG_W,PCOD,PCOD_FLAG_W,DOP,DOP_FLAG_W,TDN,TDN_FLAG_W,CTDFLUOR,CTDFLUOR_FLAG_W,CTDXMISS,CTDXMISS_FLAG_W,N2O,N2O_FLAG_W,ARGON,ARGON_FLAG_W,BTL_DATE,BTL_TIME,BTL_LAT,BTL_LON,KRYPTON,KRYPTON_FLAG_W,XENON,XENON_FLAG_W,HPLC,HPLC_FLAG_W,DNA,DNA_FLAG_W,FCM,FCM_FLAG_W
,,,,,,,,,,,METERS,DBAR,ITS-90,PSS-78,,PSS-78,,UMOL/KG,,UMOL/KG,,UMOL/KG,,UMOL/KG,,UMOL/KG,,UMOL/KG,,UMOL/KG,,PMOL/KG,,PMOL/KG,,PMOL/KG,,FMOL/KG,,UMOL/KG,,UMOL/KG,,,,DEG C,UMOL/KG,,ITS-90,,/MILLE,,/MILLE,UG/KG,,UG/KG,,UG/L,,UG/L,,UMOL/KG,,UMOL/KG,,VOLTS,,VOLTS,,NMOL/KG,,UMOL/L,,,,,,NMOL/L,,NMOL/L,,,,,,,
325020240221  ,I08        ,25      ,  2,5          ,5          ,2,20240312,0948, -56.4837,  83.7698,     4736,   3972.7,   0.2324,  34.6724,2,  34.6714,2,    223.0,2,    222.8,2,   130.30,2,     0.00,2,    32.60,2,     0.00,2,     2.22,2,    1.080,2,    0.504,2,    0.067,2,   0.3280,2,     -999,5,   2353.9,2,   7.5934,2,    25.02,     -999,1,   0.2323,2,     -999,1,     -999,     -999,9,     -999,9,     -999,9,     -999,9,     -999,9,     -999,1,   0.0183,1,   4.6239,1,     26.8,2,     -999,9,20240312,1015, -56.4837,  83.7698,     -999,9,     -999,9,-999          ,9,-999          ,9,-999          ,9
325020240221  ,I08        ,25      ,  2,4          ,4          ,2,20240312,0948, -56.4837,  83.7698,     4736,   4280.2,   0.1937,  34.6693,2,  34.6696,2,    225.2,2,    225.3,2,   130.99,2,     0.00,2,    32.45,2,     0.00,2,     2.21,2,    1.219,2,    0.571,2,    0.081,2,   0.3400,2,     -999,5,   2353.1,2,   7.5934,2,    24.99,     -999,1,   0.1933,2,     -999,1,     -999,     -999,9,     -999,9,     -999,9,     -999,9,     -999,9,     -999,1,   0.0180,1,   4.6251,1,     27.1,2,     -999,9,20240312,1006, -56.4836,  83.7697,     -999,9,     -999,9,-999          ,9,-999          ,9,-999          ,9
325020240221  ,I08        ,25      ,  2,3          ,3          ,2,20240312,0948, -56.4837,  83.7698,     4736,   4591.1,   0.1590,  34.6662,2,  34.6663,2,    227.4,2,    227.6,2,   131.38,2,     0.00,2,    32.40,2,     0.00,2,     2.21,2,    1.431,6,    0.656,6,    0.096,6,   0.4730,6,     -999,5,   2352.5,2,   7.5936,2,    25.00,     -999,1,   0.1587,2,     -999,1,     -999,     -999,9,     -999,9,     -999,9,     -999,9,     -999,9,     -999,1,   0.0183,1,   4.6263,1,     27.0,6,     -999,9,20240312,0956, -56.4837,  83.7698,     -999,9,     -999,9,-999          ,9,-999          ,9,-999          ,9
325020240221  ,I08        ,25      ,  2,2          ,2          ,2,20240312,0948, -56.4837,  83.7698,     4736,   4702.5,   0.1380,  34.6645,2,  34.6647,2,    228.7,2,    228.7,2,   131.47,2,     0.00,2,    32.30,2,     0.00,2,     2.21,2,    1.541,2,    0.696,2,    0.104,2,   0.5330,2,     -999,5,   2353.3,2,   7.5923,2,    25.02,     -999,1,   0.1376,2,     -999,1,     -999,     -999,9,     -999,9,     -999,9,     -999,9,     -999,9,     -999,1,   0.0171,1,   4.6223,1,     26.9,2,     -999,9,20240312,0952, -56.4837,  83.7697,     -999,9,     -999,9,-999          ,9,-999          ,9,-999          ,9
325020240221  ,I08        ,25      ,  2,1          ,1          ,2,20240312,0948, -56.4837,  83.7698,     4736,   4822.0,   0.1058,  34.6624,2,  34.6622,2,    230.1,2,    230.2,2,   132.65,2,     0.00,2,    32.36,2,     0.00,2,     2.20,2,    1.179,2,    0.753,2,    0.106,2,   0.7790,2,   2259.1,3,   2355.8,2,   7.5928,2,    25.01,     -999,1,   0.1055,2,     -999,1,     -999,     -999,9,     -999,9,     -999,9,     -999,9,     -999,9,     -999,1,   0.0183,1,   4.5808,1,     17.2,2,     -999,9,20240312,0948, -56.4837,  83.7697,     -999,9,     -999,9,-999          ,9,-999          ,9,-999          ,9