BOTTLE,20240417CCHHYDRO
EXPOCODE,SECT_ID,STNNBR,CASTNO,SAMPNO,BTLNBR,BTLNBR_FLAG_W,DATE,TIME,LATITUDE,LONGITUDE,DEPTH,CTDPRS,CTDTMP,CTDSAL,CTDSAL_FLAG_W,SALNTY,SALNTY_FLAG_W,CTDOXY,CTDOXY_FLAG_W,OXYGEN,OXYGEN_FLAG_W,SILCAT,SILCAT_FLAG_W,NH4,NH4_FLAG_W,NITRAT,NITRAT_FLAG_W,NITRIT,NITRIT_FLAG_W,PHSPHT,PHSPHT_FLAG_W,CFC-11,CFC-11_FLAG_W,CFC-12,CFC-12_FLAG_W,CFC113,CFC113_FLAG_W,SF6,SF6_FLAG_W,TCARBN,TCARBN_FLAG_W,ALKALI,ALKALI_FLAG_W,PH_TOT,PH_TOT_FLAG_W,PH_TMP,DOC,DOC_FLAG_W,REFTMP,REFTMP_FLAG_W,DELC14,DELC14_FLAG_W,C14ERR,POC,POC_FLAG_W,PON,PON_FLAG_W,POP,POP_FLAG_W,PCOD,PCOD_FLAG_W,DOP,DOP_FLAG_W,TDN,TDN_FLAG_W,CTDFLUOR,CTDFLUOR_FLAG_W,CTDXMISS,CTDXMISS_FLAG_W,N2O,N2O_FLAG_W,ARGON,ARGON_FLAG_W,BTL_DATE,BTL_TIME,BTL_LAT,BTL_LON,KRYPTON,KRYPTON_FLAG_W,XENON,XENON_FLAG_W,HPLC,HPLC_FLAG_W,DNA,DNA_FLAG_W,FCM,FCM_FLAG_W
,,,,,,,,,,,METERS,DBAR,ITS-90,PSS-78,,PSS-78,,UMOL/KG,,UMOL/KG,,UMOL/KG,,UMOL/KG,,UMOL/KG,,UMOL/KG,,UMOL/KG,,PMOL/KG,,PMOL/KG,,PMOL/KG,,FMOL/KG,,UMOL/KG,,UMOL/KG,,,,DEG C,UMOL/KG,,ITS-90,,/MILLE,,/MILLE,UG/KG,,UG/KG,,UG/L,,UG/L,,UMOL/KG,,UMOL/KG,,VOLTS,,VOLTS,,NMOL/KG,,UMOL/L,,,,,,NMOL/L,,NMOL/L,,,,,,,
325020240221  ,I08        ,62      ,  1,5          ,5          ,2,20240325,2308, -33.9967,  94.9994,     4501,   3757.7,   1.0766,  34.7164,2,  34.7174,2,    204.5,2,    204.2,2,   119.33,2,     0.01,2,    31.97,2,     0.00,2,     2.21,2,    0.132,2,    0.067,2,    0.008,4,   0.0000,2,   2266.0,3,   2371.9,2,   7.6193,2,    25.03,     -999,1,   1.0770,2,     -999,1,     -999,     -999,9,     -999,9,     -999,9,     -999,9,     -999,9,     -999,1,   0.0176,1,   4.6313,1,     17.4,2,     -999,9,20240325,2326, -33.9968,  94.9995,     -999,9,     -999,9,-999          ,9,-999          ,9,-999          ,9
325020240221  ,I08        ,62      ,  1,4          ,4          ,2,20240325,2308, -33.9967,  94.9994,     4501,   4067.1,   1.0463,  34.7135,2,  34.7146,2,    205.1,2,    205.1,2,   121.08,2,     0.01,2,    32.11,2,     0.00,2,     2.23,2,    0.157,2,    0.074,2,    0.014,4,   0.0220,2,   2267.4,3,   2375.0,2,   7.6199,2,    25.00,     -999,1,   1.0465,2,     -999,1,     -999,     -999,9,     -999,9,     -999,9,     -999,9,     -999,9,     -999,1,   0.0183,1,   4.6325,1,     16.5,2,     -999,9,20240325,2320, -33.9968,  94.9995,     -999,9,     -999,9,-999          ,9,-999          ,9,-999          ,9
325020240221  ,I08        ,62      ,  1,3          ,3          ,2,20240325,2308, -33.9967,  94.9994,     4501,   4323.1,   1.0381,  34.7117,2,  34.7117,2,    205.4,2,    206.1,2,   121.57,2,     0.02,2,    32.21,2,     0.00,2,     2.24,2,    0.164,2,    0.075,2,    0.017,4,   0.0000,2,   2267.7,3,   2376.6,2,   7.6212,2,    25.00,     -999,1,   1.0381,2,     -999,9,     -999,     -999,9,     -999,9,     -999,9,     -999,9,     -999,9,     -999,1,   0.0183,1,   4.6338,1,     16.6,2,     -999,9,20240325,2314, -33.9968,  94.9995,     -999,9,     -999,9,-999          ,9,-999          ,9,-999          ,9
325020240221  ,I08        ,62      ,  1,2          ,2          ,2,20240325,2308, -33.9967,  94.9994,     4501,   4478.5,   1.0487,  34.7114,3,  34.7091,2,    205.5,2,    205.6,2,   122.16,2,     0.02,2,    32.27,2,     0.00,2,     2.22,2,    0.174,2,    0.076,2,    0.028,4,   0.0000,2,   2266.9,3,   2378.2,2,   7.6211,2,    24.99,     -999,1,   1.0488,2,     -999,1,     -999,     -999,9,     -999,9,     -999,9,     -999,9,     -999,9,     -999,1,   0.0177,1,   4.6349,1,     16.1,2,     -999,9,20240325,2311, -33.9968,  94.9995,     -999,9,     -999,9,-999          ,9,-999          ,9,-999          ,9
325020240221  ,I08        ,62      ,  1,1          ,1          ,2,20240325,2308, -33.9967,  94.9994,     4501,   4571.0,   1.0533,  34.7110,2,  34.7097,2,    205.7,2,    205.8,2,   121.86,2,     0.02,2,    32.32,2,     0.00,2,     2.22,2,    0.136,2,    0.077,2,    0.048,4,   0.0000,2,   2267.6,3,   2377.9,2,   7.6212,2,    24.96,     -999,1,   1.0533,2,     -999,1,     -999,     -999,9,     -999,9,     -999,9,     -999,9,     -999,9,     -999,1,   0.0189,1,   4.6360,1,      9.9,4,     -999,9,20240325,2308, -33.9968,  94.9995,     -999,9,     -999,9,-999          ,9,-999          ,9,-999          ,9