BOTTLE,20240417CCHHYDRO
EXPOCODE,SECT_ID,STNNBR,CASTNO,SAMPNO,BTLNBR,BTLNBR_FLAG_W,DATE,TIME,LATITUDE,LONGITUDE,DEPTH,CTDPRS,CTDTMP,CTDSAL,CTDSAL_FLAG_W,SALNTY,SALNTY_FLAG_W,CTDOXY,CTDOXY_FLAG_W,OXYGEN,OXYGEN_FLAG_W,SILCAT,SILCAT_FLAG_W,NH4,NH4_FLAG_W,NITRAT,NITRAT_FLAG_W,NITRIT,NITRIT_FLAG_W,PHSPHT,PHSPHT_FLAG_W,CFC-11,CFC-11_FLAG_W,CFC-12,CFC-12_FLAG_W,CFC113,CFC113_FLAG_W,SF6,SF6_FLAG_W,TCARBN,TCARBN_FLAG_W,ALKALI,ALKALI_FLAG_W,PH_TOT,PH_TOT_FLAG_W,PH_TMP,DOC,DOC_FLAG_W,REFTMP,REFTMP_FLAG_W,DELC14,DELC14_FLAG_W,C14ERR,POC,POC_FLAG_W,PON,PON_FLAG_W,POP,POP_FLAG_W,PCOD,PCOD_FLAG_W,DOP,DOP_FLAG_W,TDN,TDN_FLAG_W,CTDFLUOR,CTDFLUOR_FLAG_W,CTDXMISS,CTDXMISS_FLAG_W,N2O,N2O_FLAG_W,ARGON,ARGON_FLAG_W,BTL_DATE,BTL_TIME,BTL_LAT,BTL_LON,KRYPTON,KRYPTON_FLAG_W,XENON,XENON_FLAG_W,HPLC,HPLC_FLAG_W,DNA,DNA_FLAG_W,FCM,FCM_FLAG_W
,,,,,,,,,,,METERS,DBAR,ITS-90,PSS-78,,PSS-78,,UMOL/KG,,UMOL/KG,,UMOL/KG,,UMOL/KG,,UMOL/KG,,UMOL/KG,,UMOL/KG,,PMOL/KG,,PMOL/KG,,PMOL/KG,,FMOL/KG,,UMOL/KG,,UMOL/KG,,,,DEG C,UMOL/KG,,ITS-90,,/MILLE,,/MILLE,UG/KG,,UG/KG,,UG/L,,UG/L,,UMOL/KG,,UMOL/KG,,VOLTS,,VOLTS,,NMOL/KG,,UMOL/L,,,,,,NMOL/L,,NMOL/L,,,,,,,
325020240221  ,I08        ,5       ,  1,30         ,30         ,2,20240304,1727, -66.7390,  76.6649,     1815,      1.4,  -0.4146,  33.9102,2,  33.9093,2,    332.3,2,    333.2,2,    44.84,2,     1.64,2,    23.39,2,     0.16,2,     1.69,2,    5.305,2,    2.779,2,    0.416,2,   4.4420,2,   2166.7,3,   2282.7,2,   7.6846,2,    25.01,     -999,1,  -0.4156,2,     -999,9,     -999,     -999,9,     -999,9,     -999,9,     -999,9,     -999,9,     -999,1,   0.0330,1,   4.5490,1,     12.2,2,     -999,9,20240304,1838, -66.7390,  76.6649,     -999,9,     -999,9,-999          ,9,-999          ,9,-999          ,9
325020240221  ,I08        ,5       ,  1,31         ,31         ,2,20240304,1727, -66.7390,  76.6649,     1815,      1.5,  -0.4152,  33.9102,2,     -999,9,    332.2,2,     -999,9,     -999,9,     -999,9,     -999,9,     -999,9,     -999,9,     -999,9,     -999,9,     -999,9,     -999,9,     -999,9,     -999,9,     -999,9,     -999,     -999,9,     -999,1,     -999,9,     -999,     -999,9,     -999,9,     -999,9,     -999,9,     -999,9,     -999,9,   0.0330,1,   4.5496,1,     -999,9,     -999,9,20240304,1838, -66.7390,  76.6649,     -999,9,     -999,9,-999          ,9,-999          ,9,-999          ,9
325020240221  ,I08        ,5       ,  1,29         ,29         ,2,20240304,1727, -66.7390,  76.6649,     1815,     34.3,  -1.2063,  34.2220,2,  34.2075,2,    323.5,3,    314.7,2,    57.52,2,     1.12,2,    27.73,2,     0.17,2,     1.98,2,    4.830,2,    2.454,2,    0.367,2,   3.0020,2,   2210.1,3,   2316.2,2,   7.6305,2,    25.04,     -999,9,  -1.1745,3,     -999,9,     -999,     -999,9,     -999,9,     -999,9,     -999,9,     -999,9,     -999,9,   0.0477,1,   4.5159,1,     13.2,2,     -999,9,20240304,1836, -66.7390,  76.6649,     -999,9,     -999,9,-999          ,9,-999          ,9,-999          ,9
325020240221  ,I08        ,5       ,  1,28         ,28         ,2,20240304,1727, -66.7390,  76.6649,     1815,     60.0,  -1.6725,  34.3666,2,  34.3633,2,    303.3,2,    302.6,2,    64.55,2,     0.41,2,    30.22,2,     0.31,2,     2.10,2,    4.573,2,    2.359,2,    0.351,2,   2.7180,2,   2229.4,3,   2323.1,2,   7.5970,2,    25.05,     -999,9,  -1.6761,2,     -999,9,     -999,     -999,9,     -999,9,     -999,9,     -999,9,     -999,9,     -999,9,   0.0642,1,   4.5385,1,     13.5,2,     -999,9,20240304,1834, -66.7390,  76.6649,     -999,9,     -999,9,-999          ,9,-999          ,9,-999          ,9
325020240221  ,I08        ,5       ,  1,27         ,27         ,2,20240304,1727, -66.7390,  76.6649,     1815,     85.2,  -1.7030,  34.3837,2,  34.3815,2,    301.2,2,    301.1,2,    65.13,2,     0.03,2,    30.48,2,     0.21,2,     2.09,2,    4.389,2,    2.457,2,    0.356,2,   3.0540,2,   2224.6,3,   2327.2,2,   7.5948,2,    24.98,     -999,9,  -1.7021,2,     -999,9,     -999,     -999,9,     -999,9,     -999,9,     -999,9,     -999,9,     -999,9,   0.0281,1,   4.5382,1,     13.5,2,     -999,9,20240304,1832, -66.7390,  76.6648,     -999,9,     -999,9,-999          ,9,-999          ,9,-999          ,9
325020240221  ,I08        ,5       ,  1,26         ,26         ,2,20240304,1727, -66.7390,  76.6649,     1815,    110.0,  -1.6705,  34.3916,2,  34.3890,2,    300.6,2,    300.5,2,    65.62,2,     0.02,2,    30.40,2,     0.06,2,     2.07,2,    4.657,2,    2.413,2,    0.360,2,   3.2550,2,   2230.8,3,   2324.7,2,   7.5973,6,    24.99,     -999,9,  -1.6667,2,     -999,9,     -999,     -999,9,     -999,9,     -999,9,     -999,9,     -999,9,     -999,9,   0.0229,1,   4.5384,1,     13.5,2,     -999,9,20240304,1830, -66.7390,  76.6649,     -999,9,     -999,9,-999          ,9,-999          ,9,-999          ,9
325020240221  ,I08        ,5       ,  1,25         ,25         ,2,20240304,1727, -66.7390,  76.6649,     1815,    134.3,  -1.6511,  34.3979,2,  34.3955,2,    301.1,2,    301.4,2,    65.33,2,     0.00,2,    30.29,2,     0.03,2,     2.07,2,    4.895,2,    2.406,2,    0.354,2,   3.1370,2,   2230.3,3,   2326.2,2,   7.5983,2,    25.04,     -999,9,  -1.6536,2,     -999,9,     -999,     -999,9,     -999,9,     -999,9,     -999,9,     -999,9,     -999,9,   0.0207,1,   4.5385,1,     13.5,2,     -999,9,20240304,1828, -66.7390,  76.6649,     -999,9,     -999,9,-999          ,9,-999          ,9,-999          ,9
325020240221  ,I08        ,5       ,  1,24         ,24         ,2,20240304,1727, -66.7390,  76.6649,     1815,    161.5,  -1.6383,  34.4055,2,  34.4031,2,    301.1,2,    301.3,2,    65.52,2,     0.00,2,    30.23,2,     0.00,2,     2.07,2,    4.684,2,    2.434,2,    0.360,2,   3.1760,2,     -999,9,     -999,9,     -999,9,     -999,     -999,9,  -1.6361,2,     -999,9,     -999,     -999,9,     -999,9,     -999,9,     -999,9,     -999,9,     -999,9,   0.0195,1,   4.5385,1,     13.3,2,     -999,9,20240304,1826, -66.7390,  76.6649,     -999,9,     -999,9,-999          ,9,-999          ,9,-999          ,9
325020240221  ,I08        ,5       ,  1,23         ,23         ,2,20240304,1727, -66.7390,  76.6649,     1815,    185.7,  -1.6370,  34.4093,2,  34.4076,2,    302.0,2,    301.9,2,    65.91,2,     0.00,2,    30.19,2,     0.00,2,     2.08,2,    4.981,2,    2.517,2,    0.358,2,   3.2400,2,   2229.5,3,   2325.8,2,   7.5992,2,    25.05,     -999,9,  -1.6375,2,     -999,9,     -999,     -999,9,     -999,9,     -999,9,     -999,9,     -999,9,     -999,9,   0.0195,1,   4.5397,1,     13.4,2,     -999,9,20240304,1825, -66.7391,  76.6649,     -999,9,     -999,9,-999          ,9,-999          ,9,-999          ,9
325020240221  ,I08        ,5       ,  1,22         ,22         ,2,20240304,1727, -66.7390,  76.6649,     1815,    211.4,  -1.5974,  34.4153,2,  34.4151,2,    301.2,2,    300.6,2,    66.01,2,     0.00,2,    30.10,2,     0.00,2,     2.08,2,    4.646,2,    2.422,2,    0.360,2,   2.9910,2,     -999,9,     -999,9,     -999,9,     -999,     -999,9,  -1.6078,2,     -999,9,     -999,     -999,9,     -999,9,     -999,9,     -999,9,     -999,9,     -999,9,   0.0195,1,   4.5410,1,     13.4,2,     -999,9,20240304,1823, -66.7390,  76.6648,     -999,9,     -999,9,-999          ,9,-999          ,9,-999          ,9
325020240221  ,I08        ,5       ,  1,21         ,21         ,2,20240304,1727, -66.7390,  76.6649,     1815,    236.1,  -1.4804,  34.4265,2,  34.4239,2,    297.0,2,    296.9,2,    66.79,2,     0.00,2,    30.12,2,     0.00,2,     2.09,2,    4.440,2,    2.363,2,    0.350,2,   3.1050,2,   2234.6,3,   2328.1,2,   7.5991,2,    24.98,     -999,9,  -1.4901,2,     -999,9,     -999,     -999,9,     -999,9,     -999,9,     -999,9,     -999,9,     -999,9,   0.0195,1,   4.5443,1,     13.5,2,     -999,9,20240304,1821, -66.7391,  76.6648,     -999,9,     -999,9,-999          ,9,-999          ,9,-999          ,9
325020240221  ,I08        ,5       ,  1,20         ,20         ,2,20240304,1727, -66.7390,  76.6649,     1815,    272.1,  -1.4244,  34.4366,2,  34.4357,2,    297.4,2,    295.5,2,    67.86,2,     0.00,2,    30.09,2,     0.00,2,     2.08,2,    4.467,2,    2.314,2,    0.346,2,   3.2940,2,     -999,9,     -999,9,     -999,9,     -999,     -999,9,  -1.4423,2,     -999,9,     -999,     -999,9,     -999,9,     -999,9,     -999,9,     -999,9,     -999,9,   0.0178,1,   4.5470,1,     13.5,2,     -999,9,20240304,1819, -66.7391,  76.6648,     -999,9,     -999,9,-999          ,9,-999          ,9,-999          ,9
325020240221  ,I08        ,5       ,  1,19         ,19         ,2,20240304,1727, -66.7390,  76.6649,     1815,    321.8,  -1.1748,  34.4625,2,  34.4606,2,    285.9,2,    285.9,2,    70.60,2,     0.00,2,    30.43,2,     0.00,2,     2.11,2,    4.039,2,    2.182,2,    0.319,2,   2.7260,2,   2234.6,3,   2329.2,6,   7.5964,6,    24.99,     -999,9,  -1.1781,2,     -999,9,     -999,     -999,9,     -999,9,     -999,9,     -999,9,     -999,9,     -999,9,   0.0177,1,   4.5517,1,     13.5,2,     -999,9,20240304,1817, -66.7391,  76.6648,     -999,9,     -999,9,-999          ,9,-999          ,9,-999          ,9
325020240221  ,I08        ,5       ,  1,18         ,18         ,2,20240304,1727, -66.7390,  76.6649,     1815,    372.3,  -0.8581,  34.4945,2,  34.4960,2,    272.6,2,    272.5,2,    74.31,2,     0.00,2,    30.79,2,     0.00,2,     2.11,2,    3.597,2,    1.909,2,    0.287,2,   2.4500,2,     -999,9,     -999,9,     -999,9,     -999,     -999,9,  -0.8398,2,     -999,9,     -999,     -999,9,     -999,9,     -999,9,     -999,9,     -999,9,     -999,9,   0.0179,1,   4.5566,1,     13.5,2,     -999,9,20240304,1814, -66.7390,  76.6649,     -999,9,     -999,9,-999          ,9,-999          ,9,-999          ,9
325020240221  ,I08        ,5       ,  1,17         ,17         ,2,20240304,1727, -66.7390,  76.6649,     1815,    423.6,  -0.5773,  34.5298,2,  34.5294,2,    262.5,2,    261.9,2,    78.60,2,     0.00,2,    30.99,2,     0.00,2,     2.15,2,    3.269,2,    1.690,2,    0.250,2,   2.2150,2,   2241.9,3,   2337.4,2,   7.5910,2,    25.00,     -999,9,  -0.5766,2,     -999,9,     -999,     -999,9,     -999,9,     -999,9,     -999,9,     -999,9,     -999,9,   0.0181,1,   4.5592,1,     13.4,2,     -999,9,20240304,1812, -66.7391,  76.6648,     -999,9,     -999,9,-999          ,9,-999          ,9,-999          ,9
325020240221  ,I08        ,5       ,  1,16         ,16         ,2,20240304,1727, -66.7390,  76.6649,     1815,    474.0,  -0.5339,  34.5453,2,  34.5447,2,    259.6,2,    260.1,2,    80.94,2,     0.00,2,    31.04,2,     0.00,2,     2.15,2,    3.354,2,    1.620,2,    0.242,2,   2.0400,2,   2243.1,3,   2338.1,6,   7.5907,2,    25.02,     -999,9,  -0.5450,2,     -999,9,     -999,     -999,9,     -999,9,     -999,9,     -999,9,     -999,9,     -999,9,   0.0183,1,   4.5628,1,      9.9,4,     -999,9,20240304,1810, -66.7391,  76.6648,     -999,9,     -999,9,-999          ,9,-999          ,9,-999          ,9
325020240221  ,I08        ,5       ,  1,15         ,15         ,2,20240304,1727, -66.7390,  76.6649,     1815,    540.0,  -0.0501,  34.5976,2,  34.6030,2,    239.1,2,    237.1,2,    89.92,2,     0.00,2,    31.39,2,     0.00,2,     2.18,2,    2.245,6,    1.131,6,    0.167,6,   1.4470,6,   2241.3,3,   2345.5,2,   7.5892,2,    25.06,     -999,9,  -0.0552,2,     -999,9,     -999,     -999,9,     -999,9,     -999,9,     -999,9,     -999,9,     -999,9,   0.0181,1,   4.5688,1,     13.9,6,     -999,9,20240304,1807, -66.7391,  76.6648,     -999,9,     -999,9,-999          ,9,-999          ,9,-999          ,9
325020240221  ,I08        ,5       ,  1,14         ,14         ,2,20240304,1727, -66.7390,  76.6649,     1815,    640.7,   0.2912,  34.6452,2,  34.6456,2,    223.4,2,    223.0,2,   100.07,2,     0.00,2,    31.82,2,     0.00,2,     2.18,2,    1.453,2,    0.765,2,    0.112,2,   0.8730,2,     -999,9,     -999,9,     -999,9,     -999,     -999,9,   0.2874,2,     -999,9,     -999,     -999,9,     -999,9,     -999,9,     -999,9,     -999,9,     -999,9,   0.0181,1,   4.5725,1,     13.9,2,     -999,9,20240304,1804, -66.7391,  76.6648,     -999,9,     -999,9,-999          ,9,-999          ,9,-999          ,9
325020240221  ,I08        ,5       ,  1,13         ,13         ,2,20240304,1727, -66.7390,  76.6649,     1815,    742.1,   0.4587,  34.6689,2,  34.6679,2,    216.4,2,    215.9,2,   105.15,2,     0.00,2,    31.93,2,     0.00,2,     2.18,2,    1.142,2,    0.570,2,    0.080,2,   0.6440,2,   2256.4,3,   2352.0,2,   7.5908,2,    24.98,     -999,9,   0.4578,2,     -999,9,     -999,     -999,9,     -999,9,     -999,9,     -999,9,     -999,9,     -999,9,   0.0183,1,   4.5731,1,     13.9,2,     -999,9,20240304,1801, -66.7391,  76.6648,     -999,9,     -999,9,-999          ,9,-999          ,9,-999          ,9
325020240221  ,I08        ,5       ,  1,12         ,12         ,2,20240304,1727, -66.7390,  76.6649,     1815,    742.2,   0.4593,  34.6692,2,     -999,9,    216.4,2,     -999,9,     -999,9,     -999,9,     -999,9,     -999,9,     -999,9,     -999,9,     -999,9,     -999,9,     -999,9,     -999,9,     -999,9,     -999,9,     -999,     -999,9,   0.4577,2,     -999,9,     -999,     -999,9,     -999,9,     -999,9,     -999,9,     -999,9,     -999,9,   0.0182,1,   4.5730,1,     -999,9,     -999,9,20240304,1801, -66.7391,  76.6648,     -999,9,     -999,9,-999          ,9,-999          ,9,-999          ,9
325020240221  ,I08        ,5       ,  1,11         ,11         ,2,20240304,1727, -66.7390,  76.6649,     1815,    843.6,   0.4556,  34.6752,2,  34.6747,2,    214.8,2,    215.0,2,   109.44,2,     0.00,2,    32.05,2,     0.00,2,     2.18,2,    0.982,2,    0.499,2,    0.069,2,   0.5650,2,   2260.6,3,   2354.3,2,   7.5904,2,    25.00,     -999,9,   0.4534,2,     -999,9,     -999,     -999,9,     -999,9,     -999,9,     -999,9,     -999,9,     -999,9,   0.0179,1,   4.5726,1,     13.9,2,     -999,9,20240304,1758, -66.7391,  76.6648,     -999,9,     -999,9,-999          ,9,-999          ,9,-999          ,9
325020240221  ,I08        ,5       ,  1,10         ,10         ,2,20240304,1727, -66.7390,  76.6649,     1815,    945.2,   0.4137,  34.6774,2,  34.6765,2,    214.3,2,    214.7,2,   112.86,2,     0.00,2,    32.03,2,     0.00,2,     2.19,2,    0.908,2,    0.467,2,    0.063,2,   0.4410,2,     -999,9,     -999,9,     -999,9,     -999,     -999,9,   0.4124,2,     -999,9,     -999,     -999,9,     -999,9,     -999,9,     -999,9,     -999,9,     -999,9,   0.0179,1,   4.5725,1,     13.7,2,     -999,9,20240304,1755, -66.7391,  76.6648,     -999,9,     -999,9,-999          ,9,-999          ,9,-999          ,9
325020240221  ,I08        ,5       ,  1,9          ,9          ,2,20240304,1727, -66.7390,  76.6649,     1815,   1047.1,   0.3565,  34.6771,2,  34.6761,2,    215.1,2,    214.8,2,   115.20,2,     0.00,2,    32.06,2,     0.00,2,     2.21,2,    0.883,2,    0.452,2,    0.061,2,   0.3900,2,   2257.3,3,   2356.1,2,   7.5935,2,    24.98,     -999,9,   0.3568,2,     -999,9,     -999,     -999,9,     -999,9,     -999,9,     -999,9,     -999,9,     -999,9,   0.0177,1,   4.5725,1,     13.7,2,     -999,9,20240304,1752, -66.7390,  76.6649,     -999,9,     -999,9,-999          ,9,-999          ,9,-999          ,9
325020240221  ,I08        ,5       ,  1,8          ,8          ,2,20240304,1727, -66.7390,  76.6649,     1815,   1147.1,   0.3478,  34.6804,2,  34.6789,2,    214.4,2,    214.4,2,   118.82,2,     0.00,2,    32.10,2,     0.00,2,     2.19,2,    0.821,2,    0.402,2,    0.048,2,   0.3740,2,     -999,9,     -999,9,     -999,9,     -999,     -999,9,   0.3431,2,     -999,9,     -999,     -999,9,     -999,9,     -999,9,     -999,9,     -999,9,     -999,9,   0.0173,1,   4.5715,1,     13.6,2,     -999,9,20240304,1749, -66.7391,  76.6648,     -999,9,     -999,9,-999          ,9,-999          ,9,-999          ,9
325020240221  ,I08        ,5       ,  1,7          ,7          ,2,20240304,1727, -66.7390,  76.6649,     1815,   1249.4,   0.2937,  34.6800,2,  34.6791,2,    214.9,2,    214.7,2,   121.35,2,     0.00,2,    31.97,2,     0.00,2,     2.21,2,    0.807,2,    0.380,2,    0.046,2,   0.3370,2,   2259.4,3,   2357.0,2,   7.5948,6,    25.03,     -999,9,   0.2932,2,     -999,9,     -999,     -999,9,     -999,9,     -999,9,     -999,9,     -999,9,     -999,9,   0.0179,1,   4.5715,1,     13.6,2,     -999,9,20240304,1746, -66.7390,  76.6648,     -999,9,     -999,9,-999          ,9,-999          ,9,-999          ,9
325020240221  ,I08        ,5       ,  1,6          ,6          ,2,20240304,1727, -66.7390,  76.6649,     1815,   1350.3,   0.2450,  34.6783,2,  34.6771,2,    216.4,2,    216.1,2,   121.74,2,     0.00,2,    31.96,2,     0.00,2,     2.21,2,    0.841,2,    0.423,2,    0.047,2,   0.3300,2,     -999,9,     -999,9,     -999,9,     -999,     -999,9,   0.2447,2,     -999,9,     -999,     -999,9,     -999,9,     -999,9,     -999,9,     -999,9,     -999,9,   0.0178,1,   4.5713,1,     13.7,2,     -999,9,20240304,1743, -66.7391,  76.6648,     -999,9,     -999,9,-999          ,9,-999          ,9,-999          ,9
325020240221  ,I08        ,5       ,  1,5          ,5          ,2,20240304,1727, -66.7390,  76.6649,     1815,   1453.3,   0.1900,  34.6760,2,  34.6757,2,    217.9,2,    217.9,2,   123.21,2,     0.00,2,    32.01,2,     0.00,2,     2.22,2,    0.884,2,    0.444,2,    0.053,2,   0.3770,2,   2261.8,3,   2360.5,2,   7.5913,2,    24.98,     -999,9,   0.1894,2,     -999,9,     -999,     -999,9,     -999,9,     -999,9,     -999,9,     -999,9,     -999,9,   0.0175,1,   4.5713,1,     13.5,2,     -999,9,20240304,1740, -66.7391,  76.6648,     -999,9,     -999,9,-999          ,9,-999          ,9,-999          ,9
325020240221  ,I08        ,5       ,  1,4          ,4          ,2,20240304,1727, -66.7390,  76.6649,     1815,   1553.9,   0.1570,  34.6753,2,  34.6739,2,    219.1,2,    219.0,2,   124.58,2,     0.00,2,    32.17,2,     0.00,2,     2.25,2,    0.929,2,    0.460,2,    0.054,2,   0.3200,2,   2259.4,3,   2357.3,6,   7.5917,6,    25.01,     -999,9,   0.1565,2,     -999,9,     -999,     -999,9,     -999,9,     -999,9,     -999,9,     -999,9,     -999,9,   0.0176,1,   4.5714,1,     13.4,2,     -999,9,20240304,1737, -66.7391,  76.6648,     -999,9,     -999,9,-999          ,9,-999          ,9,-999          ,9
325020240221  ,I08        ,5       ,  1,3          ,3          ,2,20240304,1727, -66.7390,  76.6649,     1815,   1655.7,   0.1468,  34.6746,2,  34.6743,2,    219.6,2,    219.4,2,   123.60,2,     0.00,2,    32.18,2,     0.00,2,     2.24,2,    0.976,2,    0.480,2,    0.057,2,   0.2940,2,   2256.2,3,   2357.0,2,   7.5914,2,    25.05,     -999,9,   0.1461,2,     -999,9,     -999,     -999,9,     -999,9,     -999,9,     -999,9,     -999,9,     -999,9,   0.0178,1,   4.5714,1,     13.3,2,     -999,9,20240304,1734, -66.7391,  76.6648,     -999,9,     -999,9,-999          ,9,-999          ,9,-999          ,9
325020240221  ,I08        ,5       ,  1,2          ,2          ,2,20240304,1727, -66.7390,  76.6649,     1815,   1757.5,   0.1228,  34.6736,2,  34.6724,2,    220.5,2,    220.2,2,   124.77,2,     0.00,2,    32.29,2,     0.00,2,     2.26,2,    1.041,2,    0.500,2,    0.060,2,   0.2730,2,   2257.0,3,   2356.6,2,   7.5913,2,    25.01,     -999,9,   0.1217,2,     -999,9,     -999,     -999,9,     -999,9,     -999,9,     -999,9,     -999,9,     -999,9,   0.0185,1,   4.5717,1,     13.2,2,     -999,9,20240304,1730, -66.7391,  76.6648,     -999,9,     -999,9,-999          ,9,-999          ,9,-999          ,9
325020240221  ,I08        ,5       ,  1,1          ,1          ,2,20240304,1727, -66.7390,  76.6649,     1815,   1825.8,   0.1217,  34.6731,2,  34.6724,2,    220.7,2,    220.4,2,   125.26,2,     0.00,2,    32.34,2,     0.00,2,     2.24,2,    1.094,2,    0.505,2,    0.064,2,   0.5490,2,   2260.1,3,   2360.3,2,   7.5911,2,    24.94,     -999,9,   0.1206,2,     -999,9,     -999,     -999,9,     -999,9,     -999,9,     -999,9,     -999,9,     -999,9,   0.0176,1,   4.5720,1,      8.9,2,     -999,9,20240304,1727, -66.7391,  76.6648,     -999,9,     -999,9,-999          ,9,-999          ,9,-999          ,9