BOTTLE,20240417CCHHYDRO
EXPOCODE,SECT_ID,STNNBR,CASTNO,SAMPNO,BTLNBR,BTLNBR_FLAG_W,DATE,TIME,LATITUDE,LONGITUDE,DEPTH,CTDPRS,CTDTMP,CTDSAL,CTDSAL_FLAG_W,SALNTY,SALNTY_FLAG_W,CTDOXY,CTDOXY_FLAG_W,OXYGEN,OXYGEN_FLAG_W,SILCAT,SILCAT_FLAG_W,NH4,NH4_FLAG_W,NITRAT,NITRAT_FLAG_W,NITRIT,NITRIT_FLAG_W,PHSPHT,PHSPHT_FLAG_W,CFC-11,CFC-11_FLAG_W,CFC-12,CFC-12_FLAG_W,CFC113,CFC113_FLAG_W,SF6,SF6_FLAG_W,TCARBN,TCARBN_FLAG_W,ALKALI,ALKALI_FLAG_W,PH_TOT,PH_TOT_FLAG_W,PH_TMP,DOC,DOC_FLAG_W,REFTMP,REFTMP_FLAG_W,DELC14,DELC14_FLAG_W,C14ERR,POC,POC_FLAG_W,PON,PON_FLAG_W,POP,POP_FLAG_W,PCOD,PCOD_FLAG_W,DOP,DOP_FLAG_W,TDN,TDN_FLAG_W,CTDFLUOR,CTDFLUOR_FLAG_W,CTDXMISS,CTDXMISS_FLAG_W,N2O,N2O_FLAG_W,ARGON,ARGON_FLAG_W,BTL_DATE,BTL_TIME,BTL_LAT,BTL_LON,KRYPTON,KRYPTON_FLAG_W,XENON,XENON_FLAG_W,HPLC,HPLC_FLAG_W,DNA,DNA_FLAG_W,FCM,FCM_FLAG_W
,,,,,,,,,,,METERS,DBAR,ITS-90,PSS-78,,PSS-78,,UMOL/KG,,UMOL/KG,,UMOL/KG,,UMOL/KG,,UMOL/KG,,UMOL/KG,,UMOL/KG,,PMOL/KG,,PMOL/KG,,PMOL/KG,,FMOL/KG,,UMOL/KG,,UMOL/KG,,,,DEG C,UMOL/KG,,ITS-90,,/MILLE,,/MILLE,UG/KG,,UG/KG,,UG/L,,UG/L,,UMOL/KG,,UMOL/KG,,VOLTS,,VOLTS,,NMOL/KG,,UMOL/L,,,,,,NMOL/L,,NMOL/L,,,,,,,
325020240221  ,I08        ,59      ,  1,36         ,36         ,2,20240325,0022, -36.2495,  95.0054,     4332,      4.7,  19.8690,  35.4268,2,  35.4214,2,    233.1,2,    232.5,2,     0.68,2,     0.02,2,     0.04,2,     0.00,2,     0.13,2,    1.996,2,    1.250,2,    0.270,4,   2.1850,2,   2071.9,3,   2338.4,2,   7.9697,2,    25.01,     -999,1,  19.8707,2,     -999,9,     -999,     -999,9,     -999,9,     -999,9,     -999,9,     -999,9,     -999,1,   0.0244,1,   4.5799,1,      7.9,2,     -999,9,20240325,0224, -36.2495,  95.0054,     -999,9,     -999,9,-999          ,9,-999          ,9,-999          ,9
325020240221  ,I08        ,59      ,  1,35         ,35         ,2,20240325,0022, -36.2495,  95.0054,     4332,     34.7,  19.7900,  35.4746,2,  35.4760,2,    232.1,2,    232.3,2,     0.78,2,     0.03,2,     0.01,2,     0.00,2,     0.12,2,    2.096,2,    1.271,2,    0.245,4,   2.1760,2,   2073.4,3,   2338.4,2,   7.9687,2,    25.00,     -999,9,  19.7903,2,     -999,9,     -999,     -999,9,     -999,9,     -999,9,     -999,9,     -999,9,     -999,9,   0.0285,1,   4.5917,1,      7.8,2,     -999,9,20240325,0222, -36.2495,  95.0055,     -999,9,     -999,9,-999          ,9,-999          ,9,-999          ,9
325020240221  ,I08        ,59      ,  1,34         ,34         ,2,20240325,0022, -36.2495,  95.0054,     4332,     59.5,  17.9427,  35.4173,3,  35.3867,2,    254.6,3,    251.7,2,     0.88,2,     0.03,2,     0.20,2,     0.02,2,     0.14,2,    2.286,2,    1.351,2,    0.323,4,   2.1870,2,   2076.8,3,   2334.8,2,   7.9572,6,    25.02,     -999,9,  17.8817,3,     -999,9,     -999,     -999,9,     -999,9,     -999,9,     -999,9,     -999,9,     -999,9,   0.0589,1,   4.5668,1,      8.9,2,     -999,9,20240325,0221, -36.2495,  95.0054,     -999,9,     -999,9,-999          ,9,-999          ,9,-999          ,9
325020240221  ,I08        ,59      ,  1,33         ,33         ,4,20240325,0022, -36.2495,  95.0054,     4332,    115.1,  13.2845,  35.2258,3,     -999,9,    243.4,3,     -999,9,     -999,9,     -999,9,     -999,9,     -999,9,     -999,9,     -999,9,     -999,9,     -999,9,     -999,9,     -999,9,     -999,9,     -999,9,     -999,     -999,9,  13.2912,3,     -999,9,     -999,     -999,9,     -999,9,     -999,9,     -999,9,     -999,9,     -999,9,   0.0303,1,   4.6570,1,     -999,9,     -999,9,20240325,0217, -36.2495,  95.0055,     -999,9,     -999,9,-999          ,9,-999          ,9,-999          ,9
325020240221  ,I08        ,59      ,  1,32         ,32         ,2,20240325,0022, -36.2495,  95.0054,     4332,    116.1,  13.2694,  35.2256,2,  34.9538,3,    243.6,2,    242.8,2,     1.66,2,     0.01,2,     5.63,2,     0.13,2,     0.47,2,    2.981,2,    1.598,2,    0.319,4,   2.3270,2,   2118.4,3,   2321.2,6,   7.8517,6,    24.99,     -999,9,  13.2820,2,     -999,9,     -999,     -999,9,     -999,9,     -999,9,     -999,9,     -999,9,     -999,9,   0.0294,1,   4.6582,1,     10.1,2,     -999,9,20240325,0217, -36.2495,  95.0055,     -999,9,     -999,9,-999          ,9,-999          ,9,-999          ,9
325020240221  ,I08        ,59      ,  1,31         ,31         ,2,20240325,0022, -36.2495,  95.0054,     4332,    166.3,  12.9956,  35.2302,2,  35.2308,2,    242.6,2,    242.7,2,     1.66,2,     0.01,2,     6.03,2,     0.00,2,     0.47,2,    3.124,2,    1.643,2,    0.291,4,   2.3850,2,   2120.0,3,   2323.3,2,   7.8488,2,    25.03,     -999,9,  13.0075,2,     -999,9,     -999,     -999,9,     -999,9,     -999,9,     -999,9,     -999,9,     -999,9,   0.0195,1,   4.6748,1,     10.5,2,     -999,9,20240325,0215, -36.2495,  95.0055,     -999,9,     -999,9,-999          ,9,-999          ,9,-999          ,9
325020240221  ,I08        ,59      ,  1,30         ,30         ,2,20240325,0022, -36.2495,  95.0054,     4332,    216.7,  12.4461,  35.1374,2,  35.1343,2,    243.5,2,    245.0,2,     1.85,2,     0.00,2,     7.10,2,     0.00,2,     0.54,2,    3.140,2,    1.663,2,    0.268,4,   2.4330,2,     -999,9,     -999,9,     -999,9,     -999,     -999,9,  12.4544,2,     -999,9,     -999,     -999,9,     -999,9,     -999,9,     -999,9,     -999,9,     -999,9,   0.0182,1,   4.6800,1,     10.9,2,     -999,9,20240325,0213, -36.2495,  95.0055,     -999,9,     -999,9,-999          ,9,-999          ,9,-999          ,9
325020240221  ,I08        ,59      ,  1,29         ,29         ,2,20240325,0022, -36.2495,  95.0054,     4332,    267.0,  11.7339,  35.0122,2,  35.0181,2,    240.8,2,    241.5,2,     2.63,2,     0.00,2,     9.59,2,     0.00,2,     0.69,2,    3.504,2,    1.801,2,    0.206,4,   2.4490,2,   2122.1,3,   2309.1,2,   7.8111,2,    25.04,     -999,9,  11.7382,2,     -999,9,     -999,     -999,9,     -999,9,     -999,9,     -999,9,     -999,9,     -999,9,   0.0176,1,   4.6806,1,     11.9,2,     -999,9,20240325,0210, -36.2495,  95.0055,     -999,9,     -999,9,-999          ,9,-999          ,9,-999          ,9
325020240221  ,I08        ,59      ,  1,28         ,28         ,2,20240325,0022, -36.2495,  95.0054,     4332,    317.1,  11.4081,  34.9659,2,  34.9644,2,    242.4,2,    244.4,2,     3.32,2,     0.00,2,    12.32,2,     0.00,2,     0.85,2,    3.529,2,    1.773,2,    0.205,4,   2.3460,2,     -999,9,     -999,9,     -999,9,     -999,     -999,9,  11.4137,2,     -999,9,     -999,     -999,9,     -999,9,     -999,9,     -999,9,     -999,9,     -999,9,   0.0177,1,   4.6813,1,     11.7,2,     -999,9,20240325,0208, -36.2495,  95.0055,     -999,9,     -999,9,-999          ,9,-999          ,9,-999          ,9
325020240221  ,I08        ,59      ,  1,27         ,27         ,2,20240325,0022, -36.2495,  95.0054,     4332,    368.0,  11.1207,  34.9173,2,  34.9154,2,    243.7,2,    244.5,2,     3.90,2,     0.00,2,    14.12,2,     0.00,2,     0.96,2,    3.502,2,    1.798,2,    0.203,4,   2.2150,2,   2125.7,3,   2305.1,2,   7.7980,2,    25.02,     -999,9,  11.1206,2,     -999,9,     -999,     -999,9,     -999,9,     -999,9,     -999,9,     -999,9,     -999,9,   0.0183,1,   4.6822,1,     11.6,2,     -999,9,20240325,0206, -36.2495,  95.0054,     -999,9,     -999,9,-999          ,9,-999          ,9,-999          ,9
325020240221  ,I08        ,59      ,  1,26         ,26         ,2,20240325,0022, -36.2495,  95.0054,     4332,    438.8,  10.6274,  34.8350,2,  34.8326,2,    243.7,2,    244.5,2,     3.32,2,     0.00,2,    12.28,2,     0.00,2,     0.85,2,    3.563,2,    1.872,2,    0.188,4,   2.2050,2,   2131.5,3,   2300.0,2,   7.7864,2,    25.00,     -999,9,  10.6317,2,     -999,9,     -999,     -999,9,     -999,9,     -999,9,     -999,9,     -999,9,     -999,9,   0.0176,1,   4.6820,1,     11.5,2,     -999,9,20240325,0204, -36.2496,  95.0054,     -999,9,     -999,9,-999          ,9,-999          ,9,-999          ,9
325020240221  ,I08        ,59      ,  1,25         ,25         ,2,20240325,0022, -36.2495,  95.0054,     4332,    538.8,  10.1301,  34.7612,2,  34.7600,2,    239.8,2,    239.7,2,     3.90,2,     0.00,2,    14.08,2,     0.00,2,     0.97,2,    3.839,2,    1.921,2,    0.184,4,   2.0660,2,     -999,9,     -999,9,     -999,9,     -999,     -999,9,  10.1277,2,     -999,9,     -999,     -999,9,     -999,9,     -999,9,     -999,9,     -999,9,     -999,9,   0.0173,1,   4.6841,1,     12.1,2,     -999,9,20240325,0201, -36.2495,  95.0054,     -999,9,     -999,9,-999          ,9,-999          ,9,-999          ,9
325020240221  ,I08        ,59      ,  1,24         ,24         ,2,20240325,0022, -36.2495,  95.0054,     4332,    640.5,   9.6114,  34.7068,2,  34.7121,2,    233.5,2,    234.4,2,     4.49,2,     0.01,2,    16.04,2,     0.00,2,     1.10,2,    3.972,2,    1.991,2,    0.185,4,   1.9940,2,   2139.3,3,   2294.4,2,   7.7475,6,    24.99,     -999,9,   9.6229,2,     -999,9,     -999,     -999,9,     -999,9,     -999,9,     -999,9,     -999,9,     -999,9,   0.0183,1,   4.6850,1,     13.0,2,     -999,9,20240325,0158, -36.2495,  95.0054,     -999,9,     -999,9,-999          ,9,-999          ,9,-999          ,9
325020240221  ,I08        ,59      ,  1,23         ,37         ,2,20240325,0022, -36.2495,  95.0054,     4332,    741.6,   8.9364,  34.6264,2,  34.6246,2,    223.3,2,    222.9,2,     7.13,2,     0.00,2,    18.95,2,     0.00,2,     1.29,2,    3.827,2,    1.920,2,    0.179,4,   1.5910,2,   2146.2,3,   2290.0,2,   7.7229,2,    25.04,     -999,9,   8.9292,2,     -999,9,     -999,     -999,9,     -999,9,     -999,9,     -999,9,     -999,9,     -999,9,   0.0182,1,   4.6861,1,     13.4,2,     -999,9,20240325,0155, -36.2495,  95.0054,     -999,9,     -999,9,-999          ,9,-999          ,9,-999          ,9
325020240221  ,I08        ,59      ,  1,22         ,22         ,2,20240325,0022, -36.2495,  95.0054,     4332,    841.5,   7.7002,  34.5090,2,  34.5091,2,    207.6,2,    206.8,2,    12.69,2,     0.00,2,    23.37,2,     0.00,2,     1.58,2,    3.715,2,    1.663,2,    0.178,4,   1.1370,2,     -999,9,     -999,9,     -999,9,     -999,     -999,9,   7.7162,2,     -999,9,     -999,     -999,9,     -999,9,     -999,9,     -999,9,     -999,9,     -999,9,   0.0181,1,   4.6867,1,     14.7,2,     -999,9,20240325,0152, -36.2494,  95.0054,     -999,9,     -999,9,-999          ,9,-999          ,9,-999          ,9
325020240221  ,I08        ,59      ,  1,21         ,21         ,2,20240325,0022, -36.2495,  95.0054,     4332,    943.2,   6.1616,  34.4050,2,  34.4078,2,    200.7,2,    200.5,2,    20.79,2,     0.01,2,    27.39,2,     0.00,2,     1.86,2,    3.069,2,    1.407,2,    0.199,4,   0.8800,2,   2177.7,3,   2291.3,2,   7.6405,2,    25.05,     -999,9,   6.1839,2,     -999,9,     -999,     -999,9,     -999,9,     -999,9,     -999,9,     -999,9,     -999,9,   0.0183,1,   4.6880,1,     11.2,4,     -999,9,20240325,0149, -36.2495,  95.0054,     -999,9,     -999,9,-999          ,9,-999          ,9,-999          ,9
325020240221  ,I08        ,59      ,  1,20         ,20         ,2,20240325,0022, -36.2495,  95.0054,     4332,   1044.8,   4.9630,  34.3599,2,  34.3601,2,    198.0,2,    197.9,2,    30.56,2,     0.00,2,    30.23,2,     0.00,2,     2.06,2,    2.810,2,    1.163,2,    0.133,4,   0.6270,2,   2196.1,3,   2302.0,2,   7.6143,2,    25.02,     -999,9,   4.9635,2,     -999,9,     -999,     -999,9,     -999,9,     -999,9,     -999,9,     -999,9,     -999,9,   0.0183,1,   4.6821,1,     17.2,2,     -999,9,20240325,0146, -36.2495,  95.0054,     -999,9,     -999,9,-999          ,9,-999          ,9,-999          ,9
325020240221  ,I08        ,59      ,  1,19         ,19         ,2,20240325,0022, -36.2495,  95.0054,     4332,   1145.8,   4.3142,  34.3830,2,  34.3829,2,    187.0,2,    186.5,2,    41.59,2,     0.00,2,    32.09,2,     0.00,2,     2.20,2,    1.955,2,    0.833,2,    0.094,4,   0.3590,2,     -999,9,     -999,9,     -999,9,     -999,     -999,9,   4.3177,2,     -999,9,     -999,     -999,9,     -999,9,     -999,9,     -999,9,     -999,9,     -999,9,   0.0183,1,   4.6728,1,     18.1,2,     -999,9,20240325,0143, -36.2495,  95.0054,     -999,9,     -999,9,-999          ,9,-999          ,9,-999          ,9
325020240221  ,I08        ,59      ,  1,18         ,18         ,2,20240325,0022, -36.2495,  95.0054,     4332,   1248.0,   3.8910,  34.4226,2,  34.4231,2,    175.5,2,    175.1,2,    52.52,2,     0.00,2,    33.50,2,     0.00,2,     2.30,2,    1.413,2,    0.589,2,    0.060,4,   0.2350,2,   2229.7,3,   2317.3,2,   7.5789,2,    24.99,     -999,9,   3.8920,2,     -999,9,     -999,     -999,9,     -999,9,     -999,9,     -999,9,     -999,9,     -999,9,   0.0183,1,   4.6669,1,     19.1,2,     -999,9,20240325,0140, -36.2495,  95.0054,     -999,9,     -999,9,-999          ,9,-999          ,9,-999          ,9
325020240221  ,I08        ,59      ,  1,17         ,17         ,2,20240325,0022, -36.2495,  95.0054,     4332,   1348.1,   3.5793,  34.4686,2,  34.4671,2,    165.4,2,    165.8,2,    61.70,2,     0.00,2,    34.38,2,     0.00,2,     2.42,2,    0.894,2,    0.378,2,    0.029,4,   0.1440,2,     -999,9,     -999,9,     -999,9,     -999,     -999,9,   3.5779,2,     -999,9,     -999,     -999,9,     -999,9,     -999,9,     -999,9,     -999,9,     -999,9,   0.0183,1,   4.6633,1,     19.7,2,     -999,9,20240325,0137, -36.2495,  95.0054,     -999,9,     -999,9,-999          ,9,-999          ,9,-999          ,9
325020240221  ,I08        ,59      ,  1,16         ,16         ,2,20240325,0022, -36.2495,  95.0054,     4332,   1451.6,   3.3392,  34.5115,2,  34.5123,2,    159.6,2,    160.0,2,    68.82,2,     0.00,2,    34.79,2,     0.00,2,     2.44,2,    0.563,2,    0.244,2,    0.019,4,   0.1110,2,   2247.9,3,   2332.1,2,   7.5606,2,    24.98,     -999,9,   3.3413,2,     -999,9,     -999,     -999,9,     -999,9,     -999,9,     -999,9,     -999,9,     -999,9,   0.0183,1,   4.6604,1,     19.9,2,     -999,9,20240325,0134, -36.2495,  95.0054,     -999,9,     -999,9,-999          ,9,-999          ,9,-999          ,9
325020240221  ,I08        ,59      ,  1,15         ,15         ,2,20240325,0022, -36.2495,  95.0054,     4332,   1552.5,   3.2211,  34.5470,2,  34.5472,2,    155.1,2,    155.5,2,    74.19,2,     0.00,2,    35.00,2,     0.00,2,     2.45,2,    0.352,2,    0.157,2,    0.010,4,   0.0970,2,     -999,9,     -999,9,     -999,9,     -999,     -999,9,   3.2212,2,     -999,9,     -999,     -999,9,     -999,9,     -999,9,     -999,9,     -999,9,     -999,9,   0.0183,1,   4.6581,1,     20.0,2,     -999,9,20240325,0131, -36.2495,  95.0054,     -999,9,     -999,9,-999          ,9,-999          ,9,-999          ,9
325020240221  ,I08        ,59      ,  1,14         ,14         ,2,20240325,0022, -36.2495,  95.0054,     4332,   1682.7,   3.0325,  34.5957,2,  34.5985,2,    153.4,2,    154.3,2,    80.53,2,     0.00,2,    34.86,2,     0.00,2,     2.43,2,    0.188,2,    0.089,2,    0.005,4,   0.0010,2,   2262.2,3,   2346.1,2,   7.5612,6,    25.01,     -999,9,   3.0322,2,     -999,9,     -999,     -999,9,     -999,9,     -999,9,     -999,9,     -999,9,     -999,9,   0.0183,1,   4.6566,1,     19.9,2,     -999,9,20240325,0127, -36.2495,  95.0054,     -999,9,     -999,9,-999          ,9,-999          ,9,-999          ,9
325020240221  ,I08        ,59      ,  1,13         ,13         ,2,20240325,0022, -36.2495,  95.0054,     4332,   1887.4,   2.7493,  34.6500,2,  34.6498,2,    159.3,2,    159.8,2,    85.11,2,     0.00,2,    34.07,2,     0.00,2,     2.35,2,    0.129,2,    0.062,2,    0.003,4,   0.0140,2,   2262.4,3,   2352.5,2,   7.5722,2,    25.03,     -999,9,   2.7488,2,     -999,9,     -999,     -999,9,     -999,9,     -999,9,     -999,9,     -999,9,     -999,9,   0.0183,1,   4.6520,1,     19.3,2,     -999,9,20240325,0122, -36.2495,  95.0055,     -999,9,     -999,9,-999          ,9,-999          ,9,-999          ,9
325020240221  ,I08        ,59      ,  1,12         ,12         ,2,20240325,0022, -36.2495,  95.0054,     4332,   2110.1,   2.4954,  34.6923,2,  34.6922,2,    169.9,2,    169.8,2,    87.26,2,     0.00,2,    32.85,2,     0.00,2,     2.25,2,    0.108,2,    0.056,2,    0.002,4,   0.0000,2,     -999,9,     -999,9,     -999,9,     -999,     -999,9,   2.4953,2,     -999,9,     -999,     -999,9,     -999,9,     -999,9,     -999,9,     -999,9,     -999,9,   0.0183,1,   4.6491,1,     18.4,2,     -999,9,20240325,0117, -36.2495,  95.0055,     -999,9,     -999,9,-999          ,9,-999          ,9,-999          ,9
325020240221  ,I08        ,59      ,  1,11         ,11         ,2,20240325,0022, -36.2495,  95.0054,     4332,   2367.0,   2.2390,  34.7299,2,  34.7311,2,    184.4,2,    184.9,2,    85.89,2,     0.01,2,    31.25,2,     0.00,2,     2.14,2,    0.086,2,    0.047,2,    0.000,4,   0.0000,2,   2248.8,3,   2352.6,2,   7.6058,2,    25.00,     -999,9,   2.2396,2,     -999,9,     -999,     -999,9,     -999,9,     -999,9,     -999,9,     -999,9,     -999,9,   0.0184,1,   4.6458,1,     17.4,2,     -999,9,20240325,0110, -36.2495,  95.0055,     -999,9,     -999,9,-999          ,9,-999          ,9,-999          ,9
325020240221  ,I08        ,59      ,  1,10         ,10         ,2,20240325,0022, -36.2495,  95.0054,     4332,   2620.3,   1.9735,  34.7442,2,  34.7441,2,    191.9,2,    192.2,2,    91.16,2,     0.00,2,    30.65,2,     0.00,2,     2.08,2,    0.072,2,    0.039,2,    0.002,4,   0.0000,2,   2252.7,3,   2354.4,2,   7.6148,2,    25.00,     -999,9,   1.9749,2,     -999,9,     -999,     -999,9,     -999,9,     -999,9,     -999,9,     -999,9,     -999,9,   0.0184,1,   4.6420,1,     17.0,2,     -999,9,20240325,0104, -36.2495,  95.0055,     -999,9,     -999,9,-999          ,9,-999          ,9,-999          ,9
325020240221  ,I08        ,59      ,  1,7          ,7          ,2,20240325,0022, -36.2495,  95.0054,     4332,   2875.5,   1.6728,  34.7421,2,  34.7425,2,    197.7,2,    197.5,2,    98.58,2,     0.01,2,    30.65,2,     0.00,2,     2.10,2,    0.094,2,    0.047,2,    0.005,4,   0.0000,2,   2252.7,3,   2356.7,2,   7.6177,2,    24.99,     -999,9,   1.6737,2,     -999,9,     -999,     -999,9,     -999,9,     -999,9,     -999,9,     -999,9,     -999,9,   0.0183,1,   4.6374,1,     16.7,2,     -999,9,20240325,0057, -36.2495,  95.0054,     -999,9,     -999,9,-999          ,9,-999          ,9,-999          ,9
325020240221  ,I08        ,59      ,  1,8          ,8          ,2,20240325,0022, -36.2495,  95.0054,     4332,   2875.9,   1.6733,  34.7422,2,     -999,9,    197.7,2,     -999,9,     -999,9,     -999,9,     -999,9,     -999,9,     -999,9,     -999,9,     -999,9,     -999,9,     -999,9,     -999,9,     -999,9,     -999,9,     -999,     -999,9,   1.6731,2,     -999,9,     -999,     -999,9,     -999,9,     -999,9,     -999,9,     -999,9,     -999,9,   0.0183,1,   4.6374,1,     -999,9,     -999,1,20240325,0057, -36.2495,  95.0054,     -999,1,     -999,1,-999          ,9,-999          ,9,-999          ,9
325020240221  ,I08        ,59      ,  1,9          ,9          ,2,20240325,0022, -36.2495,  95.0054,     4332,   2876.4,   1.6773,  34.7423,2,     -999,9,    197.7,2,     -999,9,     -999,9,     -999,9,     -999,9,     -999,9,     -999,9,     -999,9,     -999,9,     -999,9,     -999,9,     -999,9,     -999,9,     -999,9,     -999,     -999,9,   1.6793,2,     -999,9,     -999,     -999,9,     -999,9,     -999,9,     -999,9,     -999,9,     -999,9,   0.0183,1,   4.6385,1,     -999,9,     -999,1,20240325,0058, -36.2495,  95.0054,     -999,1,     -999,1,-999          ,9,-999          ,9,-999          ,9
325020240221  ,I08        ,59      ,  1,6          ,6          ,2,20240325,0022, -36.2495,  95.0054,     4332,   3147.5,   1.3943,  34.7320,2,  34.7311,2,    201.4,2,    201.4,2,   107.85,2,     0.01,2,    31.00,2,     0.00,2,     2.14,2,    0.137,2,    0.062,2,    0.006,4,   0.0000,2,     -999,9,     -999,9,     -999,9,     -999,     -999,9,   1.3953,2,     -999,9,     -999,     -999,9,     -999,9,     -999,9,     -999,9,     -999,9,     -999,9,   0.0183,1,   4.6348,1,     16.4,2,     -999,9,20240325,0051, -36.2495,  95.0054,     -999,9,     -999,9,-999          ,9,-999          ,9,-999          ,9