BOTTLE,20240417CCHHYDRO
EXPOCODE,SECT_ID,STNNBR,CASTNO,SAMPNO,BTLNBR,BTLNBR_FLAG_W,DATE,TIME,LATITUDE,LONGITUDE,DEPTH,CTDPRS,CTDTMP,CTDSAL,CTDSAL_FLAG_W,SALNTY,SALNTY_FLAG_W,CTDOXY,CTDOXY_FLAG_W,OXYGEN,OXYGEN_FLAG_W,SILCAT,SILCAT_FLAG_W,NH4,NH4_FLAG_W,NITRAT,NITRAT_FLAG_W,NITRIT,NITRIT_FLAG_W,PHSPHT,PHSPHT_FLAG_W,CFC-11,CFC-11_FLAG_W,CFC-12,CFC-12_FLAG_W,CFC113,CFC113_FLAG_W,SF6,SF6_FLAG_W,TCARBN,TCARBN_FLAG_W,ALKALI,ALKALI_FLAG_W,PH_TOT,PH_TOT_FLAG_W,PH_TMP,DOC,DOC_FLAG_W,REFTMP,REFTMP_FLAG_W,DELC14,DELC14_FLAG_W,C14ERR,POC,POC_FLAG_W,PON,PON_FLAG_W,POP,POP_FLAG_W,PCOD,PCOD_FLAG_W,DOP,DOP_FLAG_W,TDN,TDN_FLAG_W,CTDFLUOR,CTDFLUOR_FLAG_W,CTDXMISS,CTDXMISS_FLAG_W,N2O,N2O_FLAG_W,ARGON,ARGON_FLAG_W,BTL_DATE,BTL_TIME,BTL_LAT,BTL_LON,KRYPTON,KRYPTON_FLAG_W,XENON,XENON_FLAG_W,HPLC,HPLC_FLAG_W,DNA,DNA_FLAG_W,FCM,FCM_FLAG_W
,,,,,,,,,,,METERS,DBAR,ITS-90,PSS-78,,PSS-78,,UMOL/KG,,UMOL/KG,,UMOL/KG,,UMOL/KG,,UMOL/KG,,UMOL/KG,,UMOL/KG,,PMOL/KG,,PMOL/KG,,PMOL/KG,,FMOL/KG,,UMOL/KG,,UMOL/KG,,,,DEG C,UMOL/KG,,ITS-90,,/MILLE,,/MILLE,UG/KG,,UG/KG,,UG/L,,UG/L,,UMOL/KG,,UMOL/KG,,VOLTS,,VOLTS,,NMOL/KG,,UMOL/L,,,,,,NMOL/L,,NMOL/L,,,,,,,
325020240221  ,I08        ,62      ,  1,36         ,36         ,2,20240325,2308, -33.9967,  94.9994,     4501,      4.4,  21.3944,  35.7899,2,  35.7789,2,    225.6,2,    223.9,2,     1.07,2,     0.02,2,     0.03,2,     0.00,2,     0.11,2,    1.886,2,    1.178,2,    0.268,4,   2.1040,2,   2084.0,3,   2358.5,2,   7.9740,2,    25.03,     -999,1,  21.3916,2,     -999,1,     -999,     -999,9,     -999,9,     -999,9,     -999,9,     -999,9,     -999,1,   0.0198,1,   4.6329,1,      9.2,2,     -999,9,20240326,0115, -33.9967,  94.9994,     -999,9,     -999,9,-999          ,9,-999          ,9,-999          ,9
325020240221  ,I08        ,62      ,  1,35         ,35         ,2,20240325,2308, -33.9967,  94.9994,     4501,     34.9,  21.4017,  35.7886,2,  35.7766,2,    225.2,2,    225.2,2,     1.07,2,     0.02,2,     0.00,2,     0.00,2,     0.11,2,    2.008,2,    1.231,2,    0.261,4,   2.0610,2,   2083.9,3,   2356.8,2,   7.9748,2,    25.00,     -999,1,  21.3929,2,     -999,1,     -999,     -999,9,     -999,9,     -999,9,     -999,9,     -999,9,     -999,1,   0.0203,1,   4.6292,1,      9.1,2,     -999,9,20240326,0113, -33.9968,  94.9994,     -999,9,     -999,9,-999          ,9,-999          ,9,-999          ,9
325020240221  ,I08        ,62      ,  1,34         ,34         ,2,20240325,2308, -33.9967,  94.9994,     4501,     59.9,  19.1152,  35.7518,2,  34.8515,3,    249.2,2,    250.4,2,     1.36,2,     0.01,2,     0.00,2,     0.00,2,     0.11,2,    2.249,2,    1.339,2,    0.278,4,   2.1350,2,   2081.1,3,   2351.9,2,   7.9710,2,    24.99,     -999,1,  19.1298,2,     -999,1,     -999,     -999,9,     -999,9,     -999,9,     -999,9,     -999,9,     -999,1,   0.0250,1,   4.6241,1,     10.3,2,     -999,9,20240326,0111, -33.9968,  94.9994,     -999,9,     -999,9,-999          ,9,-999          ,9,-999          ,9
325020240221  ,I08        ,62      ,  1,33         ,33         ,4,20240325,2308, -33.9967,  94.9994,     4501,     85.1,  17.1935,  35.7500,3,     -999,9,    249.9,3,     -999,9,     -999,9,     -999,9,     -999,9,     -999,9,     -999,9,     -999,9,     -999,9,     -999,9,     -999,9,     -999,9,     -999,9,     -999,9,     -999,     -999,9,  17.1672,3,     -999,9,     -999,     -999,9,     -999,9,     -999,9,     -999,9,     -999,9,     -999,9,   0.0331,1,   4.6281,1,     -999,9,     -999,9,20240326,0109, -33.9967,  94.9994,     -999,9,     -999,9,-999          ,9,-999          ,9,-999          ,9
325020240221  ,I08        ,62      ,  1,32         ,32         ,2,20240325,2308, -33.9967,  94.9994,     4501,    115.4,  15.6336,  35.6296,2,  35.6257,2,    235.6,2,    234.9,2,     1.46,2,     0.01,2,     1.56,2,     0.11,2,     0.25,2,    2.739,2,    1.500,2,    0.278,4,   2.3460,2,   2107.8,3,   2344.4,2,   7.9103,2,    24.99,     -999,1,  15.6302,2,     -999,1,     -999,     -999,9,     -999,9,     -999,9,     -999,9,     -999,9,     -999,1,   0.0360,1,   4.6503,1,     11.2,2,     -999,9,20240326,0107, -33.9968,  94.9994,     -999,9,     -999,9,-999          ,9,-999          ,9,-999          ,9
325020240221  ,I08        ,62      ,  1,31         ,31         ,2,20240325,2308, -33.9967,  94.9994,     4501,    165.8,  14.1872,  35.4652,2,  35.4630,2,    235.7,2,    236.4,2,     1.56,2,     0.01,2,     3.99,2,     0.02,2,     0.38,2,    2.908,2,    1.604,2,    0.234,4,   2.1350,2,   2118.5,3,   2336.5,2,   7.8782,2,    24.99,     -999,1,  14.1896,2,     -999,9,     -999,     -999,9,     -999,9,     -999,9,     -999,9,     -999,9,     -999,1,   0.0202,1,   4.6740,1,     11.7,2,     -999,9,20240326,0105, -33.9968,  94.9994,     -999,9,     -999,9,-999          ,9,-999          ,9,-999          ,9
325020240221  ,I08        ,62      ,  1,30         ,30         ,2,20240325,2308, -33.9967,  94.9994,     4501,    216.4,  13.1464,  35.2659,2,  35.2639,2,    237.2,2,    238.1,2,     1.85,2,     0.01,2,     6.14,2,     0.00,2,     0.53,2,    3.165,2,    1.705,2,    0.228,4,   2.1190,2,   2121.8,3,   2326.3,2,   7.8491,2,    24.98,     -999,1,  13.1455,2,     -999,1,     -999,     -999,9,     -999,9,     -999,9,     -999,9,     -999,9,     -999,1,   0.0183,1,   4.6787,1,     13.0,2,     -999,9,20240326,0102, -33.9968,  94.9994,     -999,9,     -999,9,-999          ,9,-999          ,9,-999          ,9
325020240221  ,I08        ,62      ,  1,29         ,29         ,2,20240325,2308, -33.9967,  94.9994,     4501,    267.1,  12.1454,  35.0921,2,  35.0919,2,    238.5,2,    239.0,2,     2.24,2,     0.01,2,     8.47,2,     0.00,2,     0.65,2,    3.206,2,    1.684,2,    0.218,4,   2.0230,2,   2126.5,3,   2315.2,2,   7.8225,2,    25.01,     -999,1,  12.1447,2,     -999,9,     -999,     -999,9,     -999,9,     -999,9,     -999,9,     -999,9,     -999,1,   0.0183,1,   4.6810,1,     13.8,2,     -999,9,20240326,0100, -33.9968,  94.9994,     -999,9,     -999,9,-999          ,9,-999          ,9,-999          ,9
325020240221  ,I08        ,62      ,  1,28         ,28         ,2,20240325,2308, -33.9967,  94.9994,     4501,    316.8,  11.2098,  34.9318,2,  34.9307,2,    240.4,2,    241.1,2,     2.73,2,     0.02,2,    10.76,2,     0.00,2,     0.79,2,    3.407,2,    1.815,2,    0.221,4,   2.0850,2,   2129.4,3,   2306.8,2,   7.7989,6,    25.02,     -999,1,  11.1982,2,     -999,1,     -999,     -999,9,     -999,9,     -999,9,     -999,9,     -999,9,     -999,1,   0.0176,1,   4.6811,1,     14.3,2,     -999,9,20240326,0057, -33.9968,  94.9994,     -999,9,     -999,9,-999          ,9,-999          ,9,-999          ,9
325020240221  ,I08        ,62      ,  1,27         ,27         ,2,20240325,2308, -33.9967,  94.9994,     4501,    368.9,  10.6423,  34.8384,2,  34.8389,2,    242.2,2,    242.9,2,     3.22,2,     0.00,2,    12.27,2,     0.00,2,     0.88,2,    3.771,2,    1.903,2,    0.214,4,   1.9740,2,   2131.7,3,   2301.1,2,   7.7856,2,    24.98,     -999,1,  10.6529,2,     -999,9,     -999,     -999,9,     -999,9,     -999,9,     -999,9,     -999,9,     -999,1,   0.0183,1,   4.6817,1,     14.0,2,     -999,9,20240326,0055, -33.9968,  94.9994,     -999,9,     -999,9,-999          ,9,-999          ,9,-999          ,9
325020240221  ,I08        ,62      ,  1,26         ,26         ,2,20240325,2308, -33.9967,  94.9994,     4501,    416.5,  10.2398,  34.7775,2,  34.7763,2,    241.5,2,    242.1,2,     3.61,2,     0.00,2,    13.63,2,     0.00,2,     0.95,2,    3.802,2,    1.901,2,    0.198,4,   2.0090,2,   2131.9,3,   2298.7,2,   7.7733,2,    24.99,     -999,1,  10.2374,2,     -999,1,     -999,     -999,9,     -999,9,     -999,9,     -999,9,     -999,9,     -999,1,   0.0177,1,   4.6813,1,     14.2,2,     -999,9,20240326,0053, -33.9967,  94.9994,     -999,9,     -999,9,-999          ,9,-999          ,9,-999          ,9
325020240221  ,I08        ,62      ,  1,25         ,25         ,4,20240325,2308, -33.9967,  94.9994,     4501,    518.7,   9.5707,  34.7045,3,     -999,9,    232.5,3,     -999,9,     -999,9,     -999,9,     -999,9,     -999,9,     -999,9,     -999,9,     -999,9,     -999,9,     -999,9,     -999,9,     -999,9,     -999,9,     -999,     -999,9,   9.6431,3,     -999,9,     -999,     -999,9,     -999,9,     -999,9,     -999,9,     -999,9,     -999,9,   0.0183,1,   4.6840,1,     -999,9,     -999,9,20240326,0049, -33.9968,  94.9994,     -999,9,     -999,9,-999          ,9,-999          ,9,-999          ,9
325020240221  ,I08        ,62      ,  1,24         ,24         ,2,20240325,2308, -33.9967,  94.9994,     4501,    538.3,   9.4555,  34.6909,2,  34.6899,2,    231.6,2,    231.7,2,     5.07,2,     0.01,2,    16.85,2,     0.00,2,     1.14,2,    3.881,2,    1.999,2,    0.201,4,   1.6820,2,   2141.7,3,   2293.2,2,   7.7438,6,    25.00,     -999,1,   9.4559,2,     -999,1,     -999,     -999,9,     -999,9,     -999,9,     -999,9,     -999,9,     -999,1,   0.0181,1,   4.6849,1,     14.9,2,     -999,9,20240326,0048, -33.9968,  94.9994,     -999,9,     -999,9,-999          ,9,-999          ,9,-999          ,9
325020240221  ,I08        ,62      ,  1,23         ,37         ,2,20240325,2308, -33.9967,  94.9994,     4501,    640.0,   8.4388,  34.5792,2,  34.5808,2,    219.4,2,    219.6,2,     8.68,2,     0.00,2,    20.57,2,     0.00,2,     1.37,2,    3.508,2,    1.826,2,    0.194,4,   1.3220,2,   2151.9,3,   2291.0,6,   7.7095,2,    25.03,     -999,1,   8.4413,2,     -999,9,     -999,     -999,9,     -999,9,     -999,9,     -999,9,     -999,9,     -999,1,   0.0183,1,   4.6849,1,     11.0,2,     -999,9,20240326,0045, -33.9968,  94.9994,     -999,9,     -999,9,-999          ,9,-999          ,9,-999          ,9
325020240221  ,I08        ,62      ,  1,22         ,22         ,2,20240325,2308, -33.9967,  94.9994,     4501,    740.7,   7.0350,  34.4638,2,  34.4667,2,    202.0,2,    201.6,2,    16.20,2,     0.00,2,    25.31,2,     0.00,2,     1.68,2,    3.504,2,    1.503,2,    0.139,4,   0.8800,2,   2174.3,3,   2291.1,2,   7.6608,2,    25.01,     -999,1,   7.0332,2,     -999,1,     -999,     -999,9,     -999,9,     -999,9,     -999,9,     -999,9,     -999,1,   0.0183,1,   4.6862,1,     19.1,2,     -999,9,20240326,0042, -33.9968,  94.9995,     -999,9,     -999,9,-999          ,9,-999          ,9,-999          ,9
325020240221  ,I08        ,62      ,  1,21         ,21         ,2,20240325,2308, -33.9967,  94.9994,     4501,    842.3,   5.6847,  34.3836,2,  34.3857,2,    199.7,2,    199.2,2,    24.01,2,     0.00,2,    28.43,2,     0.00,2,     1.90,2,    3.115,2,    1.346,2,    0.137,4,   0.6460,2,   2187.3,3,   2292.1,2,   7.6305,6,    24.99,     -999,1,   5.6943,2,     -999,9,     -999,     -999,9,     -999,9,     -999,9,     -999,9,     -999,9,     -999,1,   0.0183,1,   4.6866,1,     19.4,2,     -999,9,20240326,0039, -33.9968,  94.9994,     -999,9,     -999,9,-999          ,9,-999          ,9,-999          ,9
325020240221  ,I08        ,62      ,  1,20         ,20         ,2,20240325,2308, -33.9967,  94.9994,     4501,    943.7,   4.7655,  34.3623,2,  34.3625,2,    196.4,2,    195.7,2,    33.08,2,     0.01,2,    30.45,2,     0.00,2,     2.06,2,    2.513,2,    1.100,2,    0.118,4,   0.4850,2,   2198.6,3,   2299.5,2,   7.6090,2,    25.02,     -999,1,   4.7737,2,     -999,1,     -999,     -999,9,     -999,9,     -999,9,     -999,9,     -999,9,     -999,1,   0.0183,1,   4.6763,1,     20.2,2,     -999,9,20240326,0036, -33.9968,  94.9994,     -999,9,     -999,9,-999          ,9,-999          ,9,-999          ,9
325020240221  ,I08        ,62      ,  1,19         ,19         ,2,20240325,2308, -33.9967,  94.9994,     4501,   1044.5,   4.0872,  34.3949,2,  34.3957,2,    183.7,2,    183.1,2,    45.38,2,     0.01,2,    32.33,2,     0.00,2,     2.21,2,    1.615,2,    0.740,2,    0.084,4,   0.3790,2,   2218.3,3,   2310.9,2,   7.5882,2,    25.01,     -999,1,   4.0922,2,     -999,9,     -999,     -999,9,     -999,9,     -999,9,     -999,9,     -999,9,     -999,1,   0.0183,1,   4.6677,1,     21.4,2,     -999,9,20240326,0032, -33.9968,  94.9994,     -999,9,     -999,9,-999          ,9,-999          ,9,-999          ,9
325020240221  ,I08        ,62      ,  1,18         ,18         ,2,20240325,2308, -33.9967,  94.9994,     4501,   1145.2,   3.7274,  34.4437,2,  34.4473,2,    170.7,2,    169.8,2,    56.89,2,     0.00,2,    33.50,2,     0.00,2,     2.28,2,    1.051,2,    0.469,2,    0.042,4,   0.2500,2,   2235.1,3,   2322.8,2,   7.5722,2,    24.99,     -999,1,   3.7272,2,     -999,1,     -999,     -999,9,     -999,9,     -999,9,     -999,9,     -999,9,     -999,1,   0.0183,1,   4.6631,1,     22.0,2,     -999,9,20240326,0029, -33.9968,  94.9994,     -999,9,     -999,9,-999          ,9,-999          ,9,-999          ,9
325020240221  ,I08        ,62      ,  1,17         ,17         ,2,20240325,2308, -33.9967,  94.9994,     4501,   1245.8,   3.5111,  34.4950,2,  34.4938,2,    159.7,2,    159.9,2,    65.58,2,     0.01,2,    34.20,2,     0.00,2,     2.36,2,    0.618,2,    0.280,2,    0.022,4,   0.1450,2,   2247.2,3,   2333.4,2,   7.5623,2,    24.99,     -999,1,   3.5148,2,     -999,9,     -999,     -999,9,     -999,9,     -999,9,     -999,9,     -999,9,     -999,1,   0.0183,1,   4.6605,1,     22.0,2,     -999,9,20240326,0026, -33.9968,  94.9994,     -999,9,     -999,9,-999          ,9,-999          ,9,-999          ,9
325020240221  ,I08        ,62      ,  1,16         ,16         ,2,20240325,2308, -33.9967,  94.9994,     4501,   1347.6,   3.3033,  34.5267,2,  34.5276,2,    156.4,2,    156.9,2,    70.65,2,     0.01,2,    34.42,2,     0.00,2,     2.37,2,    0.392,2,    0.189,2,    0.011,4,   0.0000,2,   2255.5,3,   2338.8,2,   7.5595,2,    24.98,     -999,1,   3.3031,2,     -999,1,     -999,     -999,9,     -999,9,     -999,9,     -999,9,     -999,9,     -999,1,   0.0183,1,   4.6569,1,     15.1,4,     -999,9,20240326,0022, -33.9968,  94.9994,     -999,9,     -999,9,-999          ,9,-999          ,9,-999          ,9
325020240221  ,I08        ,62      ,  1,15         ,15         ,2,20240325,2308, -33.9967,  94.9994,     4501,   1449.7,   3.1169,  34.5642,2,  34.5631,2,    154.7,2,    155.5,2,    76.60,2,     0.02,2,    34.44,2,     0.00,2,     2.39,2,   -0.025,2,    0.005,2,   -0.002,4,   0.0570,2,   2258.7,3,   2344.6,2,   7.5591,2,    25.01,     -999,1,   3.1179,2,     -999,9,     -999,     -999,9,     -999,9,     -999,9,     -999,9,     -999,9,     -999,1,   0.0183,1,   4.6553,1,      0.0,4,     -999,9,20240326,0019, -33.9968,  94.9994,     -999,9,     -999,9,-999          ,9,-999          ,9,-999          ,9
325020240221  ,I08        ,62      ,  1,14         ,14         ,2,20240325,2308, -33.9967,  94.9994,     4501,   1549.8,   2.9658,  34.5951,2,  34.5967,2,    155.2,2,    155.7,2,    80.50,2,     0.01,2,    34.22,2,     0.00,2,     2.39,2,    0.173,2,    0.091,2,    0.003,4,   0.0000,2,   2265.0,3,   2347.7,2,   7.5611,6,    25.02,     -999,1,   2.9654,2,     -999,1,     -999,     -999,9,     -999,9,     -999,9,     -999,9,     -999,9,     -999,1,   0.0187,1,   4.6531,1,     22.2,2,     -999,9,20240326,0016, -33.9968,  94.9994,     -999,9,     -999,9,-999          ,9,-999          ,9,-999          ,9
325020240221  ,I08        ,62      ,  1,13         ,13         ,2,20240325,2308, -33.9967,  94.9994,     4501,   1681.9,   2.8068,  34.6348,2,  34.6360,2,    157.5,2,    157.8,2,    84.89,2,     0.03,2,    33.83,2,     0.00,2,     2.37,2,    0.122,2,    0.064,2,    0.005,4,   0.0000,2,   2265.8,3,   2352.1,2,   7.5684,2,    24.98,     -999,1,   2.8064,2,     -999,9,     -999,     -999,9,     -999,9,     -999,9,     -999,9,     -999,9,     -999,1,   0.0183,1,   4.6508,1,     21.7,2,     -999,9,20240326,0013, -33.9968,  94.9994,     -999,9,     -999,9,-999          ,9,-999          ,9,-999          ,9
325020240221  ,I08        ,62      ,  1,12         ,12         ,2,20240325,2308, -33.9967,  94.9994,     4501,   1886.2,   2.5650,  34.6793,2,  34.6806,2,    166.3,2,    166.4,2,    87.52,2,     0.01,2,    32.89,2,     0.00,2,     2.30,2,    0.092,2,    0.054,2,    0.002,4,   0.0000,2,   2263.1,3,   2355.6,2,   7.5818,6,    25.00,     -999,1,   2.5660,2,     -999,1,     -999,     -999,9,     -999,9,     -999,9,     -999,9,     -999,9,     -999,1,   0.0183,1,   4.6471,1,     20.5,2,     -999,9,20240326,0008, -33.9968,  94.9995,     -999,9,     -999,9,-999          ,9,-999          ,9,-999          ,9
325020240221  ,I08        ,62      ,  1,11         ,11         ,2,20240325,2308, -33.9967,  94.9994,     4501,   2109.7,   2.3283,  34.7138,2,  34.7156,2,    176.1,2,    176.4,2,    89.57,2,     0.01,2,    31.95,2,     0.00,2,     2.23,2,    0.070,2,    0.041,2,    0.001,4,   0.0000,2,   2259.5,3,   2358.0,6,   7.5960,2,    25.01,     -999,1,   2.3297,2,     -999,9,     -999,     -999,9,     -999,9,     -999,9,     -999,9,     -999,9,     -999,1,   0.0183,1,   4.6442,1,     19.5,2,     -999,9,20240326,0002, -33.9968,  94.9995,     -999,9,     -999,9,-999          ,9,-999          ,9,-999          ,9
325020240221  ,I08        ,62      ,  1,10         ,10         ,2,20240325,2308, -33.9967,  94.9994,     4501,   2364.0,   2.0648,  34.7365,2,  34.7378,2,    187.1,2,    187.4,2,    91.91,2,     0.01,2,    31.08,2,     0.00,2,     2.16,2,    0.060,2,    0.039,2,   -0.002,4,   0.0000,2,   2253.5,3,   2357.5,2,   7.6101,2,    25.02,     -999,1,   2.0659,2,     -999,1,     -999,     -999,9,     -999,9,     -999,9,     -999,9,     -999,9,     -999,1,   0.0189,1,   4.6402,1,     18.4,2,     -999,9,20240325,2357, -33.9968,  94.9995,     -999,9,     -999,9,-999          ,9,-999          ,9,-999          ,9
325020240221  ,I08        ,62      ,  1,9          ,9          ,2,20240325,2308, -33.9967,  94.9994,     4501,   2618.4,   1.8068,  34.7417,2,  34.7425,2,    193.7,2,    193.5,2,    97.18,2,     0.01,2,    30.93,2,     0.00,2,     2.14,2,    0.065,2,    0.039,2,    0.001,4,   0.0000,2,   2253.9,3,   2360.4,2,   7.6159,2,    25.00,     -999,1,   1.8074,2,     -999,9,     -999,     -999,9,     -999,9,     -999,9,     -999,9,     -999,9,     -999,1,   0.0180,1,   4.6373,1,     17.9,2,     -999,9,20240325,2351, -33.9968,  94.9995,     -999,9,     -999,9,-999          ,9,-999          ,9,-999          ,9
325020240221  ,I08        ,62      ,  1,8          ,8          ,2,20240325,2308, -33.9967,  94.9994,     4501,   2874.3,   1.5533,  34.7378,2,  34.7380,2,    198.6,2,    199.3,2,   103.71,2,     0.01,2,    31.03,2,     0.00,2,     2.16,2,    0.086,2,    0.048,2,    0.004,4,   0.0000,2,   2255.5,3,   2361.6,2,   7.6176,6,    24.98,     -999,1,   1.5550,2,     -999,1,     -999,     -999,9,     -999,9,     -999,9,     -999,9,     -999,9,     -999,1,   0.0183,1,   4.6336,1,     17.7,2,     -999,9,20240325,2345, -33.9968,  94.9995,     -999,9,     -999,9,-999          ,9,-999          ,9,-999          ,9
325020240221  ,I08        ,62      ,  1,7          ,7          ,2,20240325,2308, -33.9967,  94.9994,     4501,   3143.2,   1.3205,  34.7292,2,  34.7294,2,    201.7,2,    201.4,2,   110.55,2,     0.01,2,    31.38,2,     0.00,2,     2.18,2,    0.107,2,    0.055,2,    0.006,4,   0.0040,2,   2258.0,3,   2364.6,2,   7.6163,2,    24.97,     -999,1,   1.3190,2,     -999,1,     -999,     -999,9,     -999,9,     -999,9,     -999,9,     -999,9,     -999,1,   0.0183,1,   4.6315,1,     17.5,2,     -999,9,20240325,2340, -33.9967,  94.9995,     -999,9,     -999,9,-999          ,9,-999          ,9,-999          ,9
325020240221  ,I08        ,62      ,  1,6          ,6          ,2,20240325,2308, -33.9967,  94.9994,     4501,   3452.7,   1.1586,  34.7211,2,  34.7207,2,    203.6,2,    203.9,2,   115.91,2,     0.01,2,    31.75,2,     0.00,2,     2.20,2,    0.113,2,    0.063,2,    0.006,4,   0.0040,2,   2263.3,3,   2371.0,2,   7.6167,2,    24.98,     -999,1,   1.1574,2,     -999,1,     -999,     -999,9,     -999,9,     -999,9,     -999,9,     -999,9,     -999,1,   0.0183,1,   4.6304,1,     17.2,2,     -999,9,20240325,2333, -33.9968,  94.9995,     -999,9,     -999,9,-999          ,9,-999          ,9,-999          ,9