BOTTLE,20240417CCHHYDRO
EXPOCODE,SECT_ID,STNNBR,CASTNO,SAMPNO,BTLNBR,BTLNBR_FLAG_W,DATE,TIME,LATITUDE,LONGITUDE,DEPTH,CTDPRS,CTDTMP,CTDSAL,CTDSAL_FLAG_W,SALNTY,SALNTY_FLAG_W,CTDOXY,CTDOXY_FLAG_W,OXYGEN,OXYGEN_FLAG_W,SILCAT,SILCAT_FLAG_W,NH4,NH4_FLAG_W,NITRAT,NITRAT_FLAG_W,NITRIT,NITRIT_FLAG_W,PHSPHT,PHSPHT_FLAG_W,CFC-11,CFC-11_FLAG_W,CFC-12,CFC-12_FLAG_W,CFC113,CFC113_FLAG_W,SF6,SF6_FLAG_W,TCARBN,TCARBN_FLAG_W,ALKALI,ALKALI_FLAG_W,PH_TOT,PH_TOT_FLAG_W,PH_TMP,DOC,DOC_FLAG_W,REFTMP,REFTMP_FLAG_W,DELC14,DELC14_FLAG_W,C14ERR,POC,POC_FLAG_W,PON,PON_FLAG_W,POP,POP_FLAG_W,PCOD,PCOD_FLAG_W,DOP,DOP_FLAG_W,TDN,TDN_FLAG_W,CTDFLUOR,CTDFLUOR_FLAG_W,CTDXMISS,CTDXMISS_FLAG_W,N2O,N2O_FLAG_W,ARGON,ARGON_FLAG_W,BTL_DATE,BTL_TIME,BTL_LAT,BTL_LON,KRYPTON,KRYPTON_FLAG_W,XENON,XENON_FLAG_W,HPLC,HPLC_FLAG_W,DNA,DNA_FLAG_W,FCM,FCM_FLAG_W
,,,,,,,,,,,METERS,DBAR,ITS-90,PSS-78,,PSS-78,,UMOL/KG,,UMOL/KG,,UMOL/KG,,UMOL/KG,,UMOL/KG,,UMOL/KG,,UMOL/KG,,PMOL/KG,,PMOL/KG,,PMOL/KG,,FMOL/KG,,UMOL/KG,,UMOL/KG,,,,DEG C,UMOL/KG,,ITS-90,,/MILLE,,/MILLE,UG/KG,,UG/KG,,UG/L,,UG/L,,UMOL/KG,,UMOL/KG,,VOLTS,,VOLTS,,NMOL/KG,,UMOL/L,,,,,,NMOL/L,,NMOL/L,,,,,,,
325020240221  ,I08        ,41      ,  2,5          ,5          ,2,20240320,0751, -45.8611,  94.2748,     3071,   2295.0,   1.9579,  34.7521,2,  34.7522,2,    196.8,2,    196.9,2,    87.46,2,     0.01,2,    30.19,2,     0.00,2,     2.06,2,    0.144,2,    0.080,2,    0.000,4,   0.0000,2,   2245.7,3,   2352.0,2,   7.6200,2,    25.02,     -999,9,   1.9580,2,     -999,9,     -999,     -999,9,     -999,9,     -999,9,     -999,9,     -999,9,     -999,9,   0.0183,1,   4.6470,1,     16.5,2,     -999,9,20240320,0814, -45.8610,  94.2748,     -999,9,     -999,9,-999          ,9,-999          ,9,-999          ,9
325020240221  ,I08        ,41      ,  2,4          ,4          ,2,20240320,0751, -45.8611,  94.2748,     3071,   2498.4,   1.7376,  34.7474,2,  34.7478,2,    199.1,2,    199.2,2,    94.00,2,     0.01,2,    30.53,2,     0.00,2,     2.07,2,    0.169,2,    0.089,2,    0.000,4,   0.0000,2,   2249.4,3,   2356.4,2,   7.6198,2,    25.04,     -999,9,   1.7371,2,     -999,9,     -999,     -999,9,     -999,9,     -999,9,     -999,9,     -999,9,     -999,9,   0.0183,1,   4.6435,1,     16.3,2,     -999,9,20240320,0808, -45.8610,  94.2749,     -999,9,     -999,9,-999          ,9,-999          ,9,-999          ,9
325020240221  ,I08        ,41      ,  2,3          ,3          ,2,20240320,0751, -45.8611,  94.2748,     3071,   2702.8,   1.4866,  34.7375,2,  34.7380,2,    201.5,3,    206.7,2,   101.81,2,     0.01,2,    30.94,2,     0.00,2,     2.10,2,    0.303,2,    0.180,2,    0.000,4,   0.1970,2,   2251.9,3,   2357.5,2,   7.6175,2,    25.03,     -999,9,   1.4895,2,     -999,9,     -999,     -999,9,     -999,9,     -999,9,     -999,9,     -999,9,     -999,9,   0.0183,1,   4.6410,1,     15.8,2,     -999,9,20240320,0802, -45.8610,  94.2748,     -999,9,     -999,9,-999          ,9,-999          ,9,-999          ,9
325020240221  ,I08        ,41      ,  2,2          ,2          ,2,20240320,0751, -45.8611,  94.2748,     3071,   2891.5,   1.2685,  34.7272,2,  34.7266,2,    203.6,2,    203.4,2,   108.93,2,     0.03,2,    31.33,2,     0.00,2,     2.14,2,    0.241,2,    0.119,2,    0.000,4,   0.0000,2,   2257.5,3,   2361.1,2,   7.6139,2,    25.03,     -999,9,   1.2717,2,     -999,9,     -999,     -999,9,     -999,9,     -999,9,     -999,9,     -999,9,     -999,9,   0.0182,1,   4.6386,1,     15.3,2,     -999,9,20240320,0757, -45.8610,  94.2748,     -999,9,     -999,9,-999          ,9,-999          ,9,-999          ,9
325020240221  ,I08        ,41      ,  2,1          ,1          ,2,20240320,0751, -45.8611,  94.2748,     3071,   3106.5,   1.1350,  34.7201,2,  34.7189,2,    205.6,2,    205.9,2,   113.62,2,     0.01,2,    31.56,2,     0.00,2,     2.15,2,    0.304,2,    0.150,2,    0.000,4,   0.0010,2,   2257.7,3,   2359.9,2,   7.6110,2,    25.00,     -999,9,   1.1351,2,     -999,9,     -999,     -999,9,     -999,9,     -999,9,     -999,9,     -999,9,     -999,9,   0.0182,1,   4.6396,1,      9.5,4,     -999,9,20240320,0751, -45.8610,  94.2748,     -999,9,     -999,9,-999          ,9,-999          ,9,-999          ,9