BOTTLE,20240417CCHHYDRO
EXPOCODE,SECT_ID,STNNBR,CASTNO,SAMPNO,BTLNBR,BTLNBR_FLAG_W,DATE,TIME,LATITUDE,LONGITUDE,DEPTH,CTDPRS,CTDTMP,CTDSAL,CTDSAL_FLAG_W,SALNTY,SALNTY_FLAG_W,CTDOXY,CTDOXY_FLAG_W,OXYGEN,OXYGEN_FLAG_W,SILCAT,SILCAT_FLAG_W,NH4,NH4_FLAG_W,NITRAT,NITRAT_FLAG_W,NITRIT,NITRIT_FLAG_W,PHSPHT,PHSPHT_FLAG_W,CFC-11,CFC-11_FLAG_W,CFC-12,CFC-12_FLAG_W,CFC113,CFC113_FLAG_W,SF6,SF6_FLAG_W,TCARBN,TCARBN_FLAG_W,ALKALI,ALKALI_FLAG_W,PH_TOT,PH_TOT_FLAG_W,PH_TMP,DOC,DOC_FLAG_W,REFTMP,REFTMP_FLAG_W,DELC14,DELC14_FLAG_W,C14ERR,POC,POC_FLAG_W,PON,PON_FLAG_W,POP,POP_FLAG_W,PCOD,PCOD_FLAG_W,DOP,DOP_FLAG_W,TDN,TDN_FLAG_W,CTDFLUOR,CTDFLUOR_FLAG_W,CTDXMISS,CTDXMISS_FLAG_W,N2O,N2O_FLAG_W,ARGON,ARGON_FLAG_W,BTL_DATE,BTL_TIME,BTL_LAT,BTL_LON,KRYPTON,KRYPTON_FLAG_W,XENON,XENON_FLAG_W,HPLC,HPLC_FLAG_W,DNA,DNA_FLAG_W,FCM,FCM_FLAG_W
,,,,,,,,,,,METERS,DBAR,ITS-90,PSS-78,,PSS-78,,UMOL/KG,,UMOL/KG,,UMOL/KG,,UMOL/KG,,UMOL/KG,,UMOL/KG,,UMOL/KG,,PMOL/KG,,PMOL/KG,,PMOL/KG,,FMOL/KG,,UMOL/KG,,UMOL/KG,,,,DEG C,UMOL/KG,,ITS-90,,/MILLE,,/MILLE,UG/KG,,UG/KG,,UG/L,,UG/L,,UMOL/KG,,UMOL/KG,,VOLTS,,VOLTS,,NMOL/KG,,UMOL/L,,,,,,NMOL/L,,NMOL/L,,,,,,,
325020240221  ,I08        ,19      ,  1,35         ,35         ,2,20240308,0800, -60.9919,  81.9986,     1845,      2.9,   1.2876,  33.9297,2,     -999,9,    323.3,2,     -999,9,     -999,9,     -999,9,     -999,9,     -999,9,     -999,9,     -999,9,     -999,9,     -999,9,     -999,9,     -999,9,     -999,9,     -999,9,     -999,     -999,9,   1.2891,2,     -999,9,     -999,     -999,9,     -999,9,     -999,9,     -999,9,     -999,9,     -999,9,   0.1763,1,   4.2269,1,     -999,9,     -999,9,20240308,0916, -60.9919,  81.9986,     -999,9,     -999,9,-999          ,9,-999          ,9,-999          ,9
325020240221  ,I08        ,19      ,  1,34         ,34         ,2,20240308,0800, -60.9919,  81.9986,     1845,      3.1,   1.2878,  33.9300,2,  33.9279,2,    323.2,2,    323.6,2,    35.36,2,     0.14,2,    25.85,2,     0.28,2,     1.82,2,    5.355,2,    2.668,2,    0.451,2,   4.6330,2,   2168.2,3,   2295.3,2,   7.6828,6,    25.02,     -999,1,   1.2883,2,     -999,9,     -999,     -999,9,     -999,9,     -999,9,     -999,9,     -999,9,     -999,1,   0.1716,1,   4.2246,1,     10.8,2,     -999,9,20240308,0915, -60.9919,  81.9986,     -999,9,     -999,9,-999          ,9,-999          ,9,-999          ,9
325020240221  ,I08        ,19      ,  1,33         ,33         ,2,20240308,0800, -60.9919,  81.9986,     1845,     24.3,   1.2960,  33.9351,2,  33.9336,2,    323.2,2,    322.9,2,    35.45,2,     0.15,2,    26.03,2,     0.29,2,     1.81,2,    4.894,2,    2.740,2,    0.391,2,   4.6920,2,   2171.5,3,   2295.7,2,   7.6822,2,    25.02,     -999,9,   1.2949,2,     -999,9,     -999,     -999,9,     -999,9,     -999,9,     -999,9,     -999,9,     -999,9,   0.2024,1,   4.2295,1,     10.8,2,     -999,9,20240308,0913, -60.9919,  81.9986,     -999,9,     -999,9,-999          ,9,-999          ,9,-999          ,9
325020240221  ,I08        ,19      ,  1,31         ,31         ,2,20240308,0800, -60.9919,  81.9986,     1845,     39.9,   1.3136,  33.9482,2,     -999,9,    322.2,2,     -999,9,     -999,9,     -999,9,     -999,9,     -999,9,     -999,9,     -999,9,     -999,9,     -999,9,     -999,9,     -999,9,     -999,9,     -999,9,     -999,     -999,9,   1.3110,2,     -999,9,     -999,     -999,9,     -999,9,     -999,9,     -999,9,     -999,9,     -999,9,   0.2029,1,   4.2460,1,     -999,9,     -999,9,20240308,0910, -60.9919,  81.9986,     -999,9,     -999,9,-999          ,9,-999          ,9,-999          ,9
325020240221  ,I08        ,19      ,  1,32         ,32         ,2,20240308,0800, -60.9919,  81.9986,     1845,     40.5,   1.3137,  33.9486,2,     -999,9,    322.4,2,     -999,9,     -999,9,     -999,9,     -999,9,     -999,9,     -999,9,     -999,9,     -999,9,     -999,9,     -999,9,     -999,9,     -999,9,     -999,9,     -999,     -999,9,   1.3135,2,     -999,9,     -999,     -999,9,     -999,9,     -999,9,     -999,9,     -999,9,     -999,9,   0.2099,1,   4.2519,1,     -999,9,     -999,9,20240308,0911, -60.9919,  81.9987,     -999,9,     -999,9,-999          ,9,-999          ,9,-999          ,9
325020240221  ,I08        ,19      ,  1,30         ,30         ,2,20240308,0800, -60.9919,  81.9986,     1845,     50.1,   1.3093,  33.9498,2,  33.9492,2,    321.5,2,    322.1,2,    35.84,2,     0.21,2,    26.24,2,     0.29,2,     1.84,2,    4.916,2,    2.755,2,    0.447,2,   4.2140,2,   2172.7,3,   2299.0,2,   7.6796,2,    25.01,     -999,9,   1.3098,2,     -999,9,     -999,     -999,9,     -999,9,     -999,9,     -999,9,     -999,9,     -999,9,   0.1930,1,   4.2555,1,     10.8,2,     -999,9,20240308,0909, -60.9919,  81.9987,     -999,9,     -999,9,-999          ,9,-999          ,9,-999          ,9
325020240221  ,I08        ,19      ,  1,29         ,29         ,2,20240308,0800, -60.9919,  81.9986,     1845,     74.3,   1.2914,  33.9560,2,  33.9616,2,    319.0,2,    318.5,2,    37.21,2,     0.28,2,    26.56,2,     0.29,2,     1.87,2,    4.895,6,    2.649,6,    0.440,6,   4.1965,6,   2174.2,3,   2300.8,2,   7.6737,2,    25.01,     -999,9,   1.2900,2,     -999,9,     -999,     -999,9,     -999,9,     -999,9,     -999,9,     -999,9,     -999,9,   0.2057,1,   4.2185,1,     11.2,6,     -999,9,20240308,0906, -60.9918,  81.9986,     -999,9,     -999,9,-999          ,9,-999          ,9,-999          ,9
325020240221  ,I08        ,19      ,  1,26         ,26         ,2,20240308,0800, -60.9919,  81.9986,     1845,     98.8,   0.5571,  34.3714,2,  34.3788,2,    225.4,2,    225.5,2,    72.15,2,     0.12,2,    33.51,2,     0.20,2,     2.36,2,    2.656,2,    1.374,2,    0.213,2,   1.7200,2,   2241.6,3,   2320.0,2,   7.5472,2,    24.99,     -999,9,   0.5397,2,     -999,9,     -999,     -999,9,     -999,9,     -999,9,     -999,9,     -999,9,     -999,9,   0.0250,1,   4.5888,1,     14.7,2,     -999,9,20240308,0903, -60.9918,  81.9986,     -999,9,     -999,9,-999          ,9,-999          ,9,-999          ,9
325020240221  ,I08        ,19      ,  1,27         ,27         ,2,20240308,0800, -60.9919,  81.9986,     1845,     99.2,   0.5233,  34.3579,2,     -999,9,    224.6,2,     -999,9,     -999,9,     -999,9,     -999,9,     -999,9,     -999,9,     -999,9,     -999,9,     -999,9,     -999,9,     -999,9,     -999,9,     -999,9,     -999,     -999,9,   0.5311,2,     -999,9,     -999,     -999,9,     -999,9,     -999,9,     -999,9,     -999,9,     -999,9,   0.0284,1,   4.5853,1,     -999,9,     -999,9,20240308,0904, -60.9919,  81.9986,     -999,9,     -999,9,-999          ,9,-999          ,9,-999          ,9
325020240221  ,I08        ,19      ,  1,28         ,28         ,2,20240308,0800, -60.9919,  81.9986,     1845,    100.6,   0.5337,  34.3642,2,     -999,9,    225.3,2,     -999,9,     -999,9,     -999,9,     -999,9,     -999,9,     -999,9,     -999,9,     -999,9,     -999,9,     -999,9,     -999,9,     -999,9,     -999,9,     -999,     -999,9,   0.5237,2,     -999,9,     -999,     -999,9,     -999,9,     -999,9,     -999,9,     -999,9,     -999,9,   0.0262,1,   4.5973,1,     -999,9,     -999,9,20240308,0904, -60.9919,  81.9987,     -999,9,     -999,9,-999          ,9,-999          ,9,-999          ,9
325020240221  ,I08        ,19      ,  1,25         ,25         ,2,20240308,0800, -60.9919,  81.9986,     1845,    125.4,   1.1646,  34.5209,2,  34.5170,2,    195.0,2,    195.1,2,    79.17,2,     0.00,2,    34.53,2,     0.02,2,     2.37,2,    1.818,2,    0.859,2,    0.125,2,   0.9730,2,     -999,9,     -999,9,     -999,9,     -999,     -999,9,   1.1604,2,     -999,9,     -999,     -999,9,     -999,9,     -999,9,     -999,9,     -999,9,     -999,9,   0.0202,1,   4.6121,1,     15.3,2,     -999,9,20240308,0901, -60.9919,  81.9986,     -999,9,     -999,9,-999          ,9,-999          ,9,-999          ,9
325020240221  ,I08        ,19      ,  1,24         ,24         ,2,20240308,0800, -60.9919,  81.9986,     1845,    150.8,   1.6242,  34.6103,2,  34.6067,2,    178.3,2,    178.0,2,    84.15,2,     0.02,2,    34.32,2,     0.02,2,     2.37,2,    1.070,2,    0.527,2,    0.075,2,   0.7290,2,   2260.6,3,   2334.3,2,   7.5382,2,    24.98,     -999,9,   1.6185,2,     -999,9,     -999,     -999,9,     -999,9,     -999,9,     -999,9,     -999,9,     -999,9,   0.0195,1,   4.6190,1,     15.4,2,     -999,9,20240308,0859, -60.9918,  81.9986,     -999,9,     -999,9,-999          ,9,-999          ,9,-999          ,9
325020240221  ,I08        ,19      ,  1,23         ,37         ,2,20240308,0800, -60.9919,  81.9986,     1845,    176.1,   1.8049,  34.6496,2,  34.6460,2,    172.6,2,    172.8,2,    86.10,2,     0.00,2,    34.02,2,     0.00,2,     2.31,2,    0.797,2,    0.390,2,    0.053,2,   0.3090,2,   2260.2,3,     -999,5,   7.5435,6,    24.99,     -999,9,   1.8024,2,     -999,9,     -999,     -999,9,     -999,9,     -999,9,     -999,9,     -999,9,     -999,9,   0.0195,1,   4.6197,1,     15.4,2,     -999,9,20240308,0857, -60.9919,  81.9986,     -999,9,     -999,9,-999          ,9,-999          ,9,-999          ,9
325020240221  ,I08        ,19      ,  1,21         ,21         ,2,20240308,0800, -60.9919,  81.9986,     1845,    201.9,   1.9258,  34.6802,2,  34.6775,2,    170.8,2,    170.5,2,    87.36,2,     0.00,2,    33.69,2,     0.00,2,     2.28,2,    0.573,2,    0.283,2,    0.036,2,   0.1770,2,   2259.8,3,   2342.2,2,   7.5506,2,    24.98,     -999,9,   1.9255,2,     -999,9,     -999,     -999,9,     -999,9,     -999,9,     -999,9,     -999,9,     -999,9,   0.0192,1,   4.6268,1,     15.1,2,     -999,9,20240308,0854, -60.9918,  81.9986,     -999,9,     -999,9,-999          ,9,-999          ,9,-999          ,9
325020240221  ,I08        ,19      ,  1,22         ,22         ,2,20240308,0800, -60.9919,  81.9986,     1845,    202.3,   1.9259,  34.6800,2,     -999,9,    170.8,2,     -999,9,     -999,9,     -999,9,     -999,9,     -999,9,     -999,9,     -999,9,     -999,9,     -999,9,     -999,9,     -999,9,     -999,9,     -999,9,     -999,     -999,9,   1.9255,2,     -999,9,     -999,     -999,9,     -999,9,     -999,9,     -999,9,     -999,9,     -999,9,   0.0175,1,   4.6275,1,     -999,9,     -999,9,20240308,0854, -60.9918,  81.9986,     -999,9,     -999,9,-999          ,9,-999          ,9,-999          ,9
325020240221  ,I08        ,19      ,  1,20         ,20         ,2,20240308,0800, -60.9919,  81.9986,     1845,    227.1,   1.9165,  34.6877,2,  34.6849,2,    171.3,2,    171.5,2,    87.85,2,     0.02,2,    33.49,2,     0.00,2,     2.28,2,    0.530,2,    0.245,2,    0.029,2,   0.2090,2,   2259.5,3,   2344.1,2,   7.5517,6,    24.99,     -999,9,   1.9162,2,     -999,9,     -999,     -999,9,     -999,9,     -999,9,     -999,9,     -999,9,     -999,9,   0.0186,1,   4.6266,1,     14.5,2,     -999,9,20240308,0851, -60.9918,  81.9986,     -999,9,     -999,9,-999          ,9,-999          ,9,-999          ,9
325020240221  ,I08        ,19      ,  1,19         ,19         ,2,20240308,0800, -60.9919,  81.9986,     1845,    258.8,   1.9255,  34.6995,2,  34.6965,2,    172.8,2,    173.5,2,    87.95,2,     0.02,2,    33.04,2,     0.00,2,     2.26,2,    0.502,2,    0.240,2,    0.025,2,   0.2590,2,   2258.4,3,   2344.3,6,   7.5565,2,    24.99,     -999,9,   1.9253,2,     -999,9,     -999,     -999,9,     -999,9,     -999,9,     -999,9,     -999,9,     -999,9,   0.0191,1,   4.6325,1,     15.1,2,     -999,9,20240308,0849, -60.9918,  81.9987,     -999,9,     -999,9,-999          ,9,-999          ,9,-999          ,9
325020240221  ,I08        ,19      ,  1,18         ,18         ,2,20240308,0800, -60.9919,  81.9986,     1845,    301.5,   1.9063,  34.7098,2,  34.7077,2,    175.5,2,    175.5,2,    87.95,2,     0.04,2,    32.54,2,     0.00,2,     2.23,2,    0.482,2,    0.221,2,    0.021,2,   0.1390,2,   2256.0,3,   2343.9,2,   7.5644,2,    25.01,     -999,9,   1.9059,2,     -999,9,     -999,     -999,9,     -999,9,     -999,9,     -999,9,     -999,9,     -999,9,   0.0187,1,   4.6349,1,     14.7,2,     -999,9,20240308,0847, -60.9918,  81.9986,     -999,9,     -999,9,-999          ,9,-999          ,9,-999          ,9
325020240221  ,I08        ,19      ,  1,17         ,17         ,2,20240308,0800, -60.9919,  81.9986,     1845,    352.8,   1.8846,  34.7181,2,  34.7168,2,    177.8,2,    177.5,2,    88.34,2,     0.00,2,    32.12,2,     0.00,2,     2.20,2,    0.440,2,    0.203,2,    0.019,2,   0.0020,2,   2255.9,3,   2349.9,2,   7.5710,2,    25.02,     -999,9,   1.8840,2,     -999,9,     -999,     -999,9,     -999,9,     -999,9,     -999,9,     -999,9,     -999,9,   0.0178,1,   4.6343,1,      9.9,4,     -999,9,20240308,0844, -60.9918,  81.9986,     -999,9,     -999,9,-999          ,9,-999          ,9,-999          ,9
325020240221  ,I08        ,19      ,  1,16         ,16         ,2,20240308,0800, -60.9919,  81.9986,     1845,    404.0,   1.8548,  34.7256,2,  34.7248,2,    180.8,2,    180.7,2,    88.82,2,     0.00,2,    31.95,2,     0.00,2,     2.19,2,    0.399,2,    0.186,2,    0.019,2,   0.0760,2,     -999,9,     -999,9,     -999,9,     -999,     -999,9,   1.8539,2,     -999,9,     -999,     -999,9,     -999,9,     -999,9,     -999,9,     -999,9,     -999,9,   0.0185,1,   4.6336,1,     14.4,2,     -999,9,20240308,0842, -60.9918,  81.9986,     -999,9,     -999,9,-999          ,9,-999          ,9,-999          ,9
325020240221  ,I08        ,19      ,  1,15         ,15         ,2,20240308,0800, -60.9919,  81.9986,     1845,    454.1,   1.8298,  34.7301,2,  34.7292,2,    182.7,2,    182.5,2,    88.92,2,     0.00,2,    31.60,2,     0.00,2,     2.20,2,    0.375,2,    0.176,2,    0.017,2,   0.0000,2,   2251.0,3,   2349.3,2,   7.5818,2,    24.98,     -999,9,   1.8300,2,     -999,9,     -999,     -999,9,     -999,9,     -999,9,     -999,9,     -999,9,     -999,9,   0.0179,1,   4.6325,1,     14.0,2,     -999,9,20240308,0839, -60.9919,  81.9986,     -999,9,     -999,9,-999          ,9,-999          ,9,-999          ,9
325020240221  ,I08        ,19      ,  1,14         ,14         ,2,20240308,0800, -60.9919,  81.9986,     1845,    514.7,   1.7847,  34.7363,2,  34.7355,2,    186.7,2,    187.1,2,    89.21,2,     0.02,2,    31.28,2,     0.00,2,     2.16,2,    0.356,2,    0.158,2,    0.014,2,   0.0340,2,   2248.8,3,   2349.5,2,   7.5892,2,    24.98,     -999,9,   1.7847,2,     -999,9,     -999,     -999,9,     -999,9,     -999,9,     -999,9,     -999,9,     -999,9,   0.0177,1,   4.6325,1,     14.1,2,     -999,9,20240308,0837, -60.9919,  81.9986,     -999,9,     -999,9,-999          ,9,-999          ,9,-999          ,9
325020240221  ,I08        ,19      ,  1,13         ,13         ,2,20240308,0800, -60.9919,  81.9986,     1845,    606.0,   1.7144,  34.7410,2,  34.7402,2,    190.4,2,    190.4,2,    90.29,2,     0.02,2,    31.03,2,     0.00,2,     2.16,2,    0.331,2,    0.156,2,    0.013,2,   0.0340,2,   2248.1,3,   2347.6,2,   7.5953,2,    24.99,     -999,9,   1.7153,2,     -999,9,     -999,     -999,9,     -999,9,     -999,9,     -999,9,     -999,9,     -999,9,   0.0180,1,   4.6315,1,     13.7,2,     -999,9,20240308,0834, -60.9919,  81.9987,     -999,9,     -999,9,-999          ,9,-999          ,9,-999          ,9
325020240221  ,I08        ,19      ,  1,12         ,12         ,2,20240308,0800, -60.9919,  81.9986,     1845,    707.7,   1.6398,  34.7429,2,  34.7431,2,    193.6,2,    193.8,2,    91.56,2,     0.00,2,    30.91,2,     0.00,2,     2.15,2,    0.326,2,    0.149,2,    0.015,2,   0.0000,2,   2247.2,3,   2352.0,2,   7.6014,2,    24.99,     -999,9,   1.6401,2,     -999,9,     -999,     -999,9,     -999,9,     -999,9,     -999,9,     -999,9,     -999,9,   0.0180,1,   4.6300,1,     13.7,2,     -999,9,20240308,0831, -60.9919,  81.9986,     -999,9,     -999,9,-999          ,9,-999          ,9,-999          ,9
325020240221  ,I08        ,19      ,  1,11         ,11         ,2,20240308,0800, -60.9919,  81.9986,     1845,    808.9,   1.5603,  34.7438,2,  34.7431,2,    196.5,2,    196.3,2,    92.82,2,     0.02,2,    30.85,2,     0.00,2,     2.13,2,    0.322,2,    0.145,2,    0.012,2,   0.0640,2,   2248.3,3,   2353.6,2,   7.6054,2,    24.99,     -999,9,   1.5597,2,     -999,9,     -999,     -999,9,     -999,9,     -999,9,     -999,9,     -999,9,     -999,9,   0.0179,1,   4.6289,1,     13.4,2,     -999,9,20240308,0828, -60.9919,  81.9987,     -999,9,     -999,9,-999          ,9,-999          ,9,-999          ,9
325020240221  ,I08        ,19      ,  1,10         ,10         ,2,20240308,0800, -60.9919,  81.9986,     1845,    909.7,   1.4620,  34.7421,2,  34.7419,2,    198.6,2,    198.5,2,    94.97,2,     0.03,2,    31.05,2,     0.00,2,     2.13,2,    0.317,2,    0.144,2,    0.014,2,   0.1260,2,   2249.4,3,   2353.7,2,   7.6085,6,    25.02,     -999,9,   1.4622,2,     -999,9,     -999,     -999,9,     -999,9,     -999,9,     -999,9,     -999,9,     -999,9,   0.0182,1,   4.6287,1,     13.4,2,     -999,9,20240308,0826, -60.9919,  81.9986,     -999,9,     -999,9,-999          ,9,-999          ,9,-999          ,9
325020240221  ,I08        ,19      ,  1,9          ,9          ,2,20240308,0800, -60.9919,  81.9986,     1845,   1010.8,   1.3676,  34.7394,2,     -999,9,    200.4,2,     -999,9,     -999,9,     -999,9,     -999,9,     -999,9,     -999,9,     -999,9,     -999,9,     -999,9,     -999,9,     -999,9,     -999,9,     -999,9,     -999,     -999,9,   1.3683,2,     -999,9,     -999,     -999,9,     -999,9,     -999,9,     -999,9,     -999,9,     -999,9,   0.0180,1,   4.6270,1,     -999,9,     -999,9,20240308,0823, -60.9919,  81.9986,     -999,9,     -999,9,-999          ,9,-999          ,9,-999          ,9
325020240221  ,I08        ,19      ,  1,8          ,8          ,2,20240308,0800, -60.9919,  81.9986,     1845,   1011.4,   1.3663,  34.7392,2,  34.7386,2,    200.3,2,    200.3,2,    97.61,2,     0.00,2,    30.98,2,     0.00,2,     2.11,2,    0.330,2,    0.150,2,    0.011,2,   0.0550,2,   2249.4,3,   2352.2,2,   7.6085,2,    25.01,     -999,9,   1.3666,2,     -999,9,     -999,     -999,9,     -999,9,     -999,9,     -999,9,     -999,9,     -999,9,   0.0171,1,   4.6264,1,     13.5,2,     -999,9,20240308,0822, -60.9919,  81.9987,     -999,9,     -999,9,-999          ,9,-999          ,9,-999          ,9
325020240221  ,I08        ,19      ,  1,7          ,7          ,2,20240308,0800, -60.9919,  81.9986,     1845,   1113.6,   1.2626,  34.7345,2,  34.7335,2,    201.3,2,    201.5,2,   101.12,2,     0.00,2,    31.21,2,     0.00,2,     2.10,2,    0.347,2,    0.149,2,    0.012,2,   0.0150,2,   2251.4,3,   2354.6,2,   7.6079,6,    25.00,     -999,9,   1.2621,2,     -999,9,     -999,     -999,9,     -999,9,     -999,9,     -999,9,     -999,9,     -999,9,   0.0180,1,   4.6262,1,     12.8,2,     -999,9,20240308,0819, -60.9919,  81.9987,     -999,9,     -999,9,-999          ,9,-999          ,9,-999          ,9
325020240221  ,I08        ,19      ,  1,6          ,6          ,2,20240308,0800, -60.9919,  81.9986,     1845,   1214.4,   1.1685,  34.7297,2,  34.7286,2,    202.4,2,    202.5,2,   103.46,2,     0.00,2,    31.29,2,     0.00,2,     2.12,2,    0.341,2,    0.151,2,    0.012,2,   0.0000,2,     -999,9,     -999,9,     -999,9,     -999,     -999,9,   1.1697,2,     -999,9,     -999,     -999,9,     -999,9,     -999,9,     -999,9,     -999,9,     -999,9,   0.0170,1,   4.6251,1,     13.0,2,     -999,9,20240308,0817, -60.9919,  81.9986,     -999,9,     -999,9,-999          ,9,-999          ,9,-999          ,9
325020240221  ,I08        ,19      ,  1,5          ,5          ,2,20240308,0800, -60.9919,  81.9986,     1845,   1315.6,   1.0776,  34.7246,2,  34.7241,2,    202.8,2,    202.7,2,   107.37,2,     0.00,2,    31.47,2,     0.00,2,     2.13,2,    0.385,2,    0.162,2,    0.012,2,   0.0080,2,   2253.1,3,   2356.0,6,   7.6058,2,    25.00,     -999,9,   1.0775,2,     -999,9,     -999,     -999,9,     -999,9,     -999,9,     -999,9,     -999,9,     -999,9,   0.0182,1,   4.6237,1,     11.9,2,     -999,9,20240308,0814, -60.9919,  81.9986,     -999,9,     -999,9,-999          ,9,-999          ,9,-999          ,9