BOTTLE,20240417CCHHYDRO
EXPOCODE,SECT_ID,STNNBR,CASTNO,SAMPNO,BTLNBR,BTLNBR_FLAG_W,DATE,TIME,LATITUDE,LONGITUDE,DEPTH,CTDPRS,CTDTMP,CTDSAL,CTDSAL_FLAG_W,SALNTY,SALNTY_FLAG_W,CTDOXY,CTDOXY_FLAG_W,OXYGEN,OXYGEN_FLAG_W,SILCAT,SILCAT_FLAG_W,NH4,NH4_FLAG_W,NITRAT,NITRAT_FLAG_W,NITRIT,NITRIT_FLAG_W,PHSPHT,PHSPHT_FLAG_W,CFC-11,CFC-11_FLAG_W,CFC-12,CFC-12_FLAG_W,CFC113,CFC113_FLAG_W,SF6,SF6_FLAG_W,TCARBN,TCARBN_FLAG_W,ALKALI,ALKALI_FLAG_W,PH_TOT,PH_TOT_FLAG_W,PH_TMP,DOC,DOC_FLAG_W,REFTMP,REFTMP_FLAG_W,DELC14,DELC14_FLAG_W,C14ERR,POC,POC_FLAG_W,PON,PON_FLAG_W,POP,POP_FLAG_W,PCOD,PCOD_FLAG_W,DOP,DOP_FLAG_W,TDN,TDN_FLAG_W,CTDFLUOR,CTDFLUOR_FLAG_W,CTDXMISS,CTDXMISS_FLAG_W,N2O,N2O_FLAG_W,ARGON,ARGON_FLAG_W,BTL_DATE,BTL_TIME,BTL_LAT,BTL_LON,KRYPTON,KRYPTON_FLAG_W,XENON,XENON_FLAG_W,HPLC,HPLC_FLAG_W,DNA,DNA_FLAG_W,FCM,FCM_FLAG_W
,,,,,,,,,,,METERS,DBAR,ITS-90,PSS-78,,PSS-78,,UMOL/KG,,UMOL/KG,,UMOL/KG,,UMOL/KG,,UMOL/KG,,UMOL/KG,,UMOL/KG,,PMOL/KG,,PMOL/KG,,PMOL/KG,,FMOL/KG,,UMOL/KG,,UMOL/KG,,,,DEG C,UMOL/KG,,ITS-90,,/MILLE,,/MILLE,UG/KG,,UG/KG,,UG/L,,UG/L,,UMOL/KG,,UMOL/KG,,VOLTS,,VOLTS,,NMOL/KG,,UMOL/L,,,,,,NMOL/L,,NMOL/L,,,,,,,
325020240221  ,I08        ,52      ,  2,36         ,36         ,2,20240323,0445, -39.9973,  94.9950,     3637,      2.9,  15.4342,  34.7621,2,  34.7581,2,    259.5,2,    258.1,2,     0.78,2,     0.12,2,     3.44,2,     0.08,2,     0.38,2,    2.582,2,    1.459,2,    0.312,4,   2.5060,2,   2074.1,3,   2303.7,2,   7.9163,2,    24.96,     -999,1,  15.4371,2,     -999,1,     -999,     -999,9,     -999,9,     -999,9,     -999,9,     -999,9,     -999,1,   0.0335,1,   4.4248,1,      8.1,2,     -999,9,20240323,0634, -39.9973,  94.9950,     -999,9,     -999,9,-999          ,9,-999          ,9,-999          ,9
325020240221  ,I08        ,52      ,  2,35         ,35         ,2,20240323,0445, -39.9973,  94.9950,     3637,     24.7,  15.0997,  34.7607,2,  34.7579,2,    259.8,2,    259.6,2,     0.88,2,     0.14,2,     3.42,2,     0.08,2,     0.39,2,    2.527,2,    1.468,2,    0.295,4,   2.5620,2,   2073.1,3,   2304.8,2,   7.9159,2,    25.00,     -999,1,  15.1014,2,     -999,1,     -999,     -999,9,     -999,9,     -999,9,     -999,9,     -999,9,     -999,1,   0.0729,1,   4.3795,1,      8.4,2,     -999,9,20240323,0632, -39.9973,  94.9950,     -999,9,     -999,9,-999          ,9,-999          ,9,-999          ,9
325020240221  ,I08        ,52      ,  2,34         ,34         ,2,20240323,0445, -39.9973,  94.9950,     3637,     50.1,  14.6867,  34.7556,2,  34.7512,2,    254.9,2,    254.6,2,     0.88,2,     0.25,2,     3.74,2,     0.08,2,     0.41,2,    2.743,2,    1.505,2,    0.345,4,   2.6310,2,   2074.5,3,   2302.2,2,   7.9035,2,    25.01,     -999,1,  14.6969,2,     -999,9,     -999,     -999,9,     -999,9,     -999,9,     -999,9,     -999,9,     -999,1,   0.0900,1,   4.5055,1,      8.4,2,     -999,9,20240323,0630, -39.9973,  94.9950,     -999,9,     -999,9,-999          ,9,-999          ,9,-999          ,9
325020240221  ,I08        ,52      ,  2,33         ,33         ,2,20240323,0445, -39.9973,  94.9950,     3637,     75.2,  13.2894,  34.7517,2,  34.7585,2,    254.0,2,    254.9,2,     1.66,2,     0.95,2,     5.72,2,     0.20,2,     0.59,2,    2.988,2,    1.638,2,    0.348,4,   2.6100,2,   2099.0,3,   2301.7,2,   7.8619,2,    24.97,     -999,1,  13.3013,2,     -999,1,     -999,     -999,9,     -999,9,     -999,9,     -999,9,     -999,9,     -999,1,   0.0554,1,   4.6020,1,      9.4,2,     -999,9,20240323,0628, -39.9973,  94.9950,     -999,9,     -999,9,-999          ,9,-999          ,9,-999          ,9
325020240221  ,I08        ,52      ,  2,32         ,32         ,2,20240323,0445, -39.9973,  94.9950,     3637,    100.0,  11.5380,  34.8570,2,  34.8530,2,    257.5,2,    257.3,2,     3.22,2,     0.05,2,     8.77,2,     0.53,2,     0.73,2,    3.399,2,    1.795,2,    0.349,4,   2.6690,2,   2120.1,3,   2300.9,2,   7.8185,6,    24.97,     -999,1,  11.5584,2,     -999,9,     -999,     -999,9,     -999,9,     -999,9,     -999,9,     -999,9,     -999,1,   0.0336,1,   4.6478,1,      9.7,2,     -999,9,20240323,0626, -39.9973,  94.9950,     -999,9,     -999,9,-999          ,9,-999          ,9,-999          ,9
325020240221  ,I08        ,52      ,  2,31         ,31         ,2,20240323,0445, -39.9973,  94.9950,     3637,    125.4,  11.2285,  34.8515,2,  34.8511,2,    256.1,2,     -999,5,     3.42,2,     0.02,2,     9.90,2,     0.00,2,     0.75,2,    3.224,2,    1.802,2,    0.300,4,   2.6560,2,   2122.6,3,   2302.1,2,   7.8142,2,    24.99,     -999,1,  11.2262,2,     -999,1,     -999,     -999,9,     -999,9,     -999,9,     -999,9,     -999,9,     -999,1,   0.0229,1,   4.6673,1,      9.8,2,     -999,9,20240323,0625, -39.9973,  94.9950,     -999,9,     -999,9,-999          ,9,-999          ,9,-999          ,9
325020240221  ,I08        ,52      ,  2,30         ,30         ,2,20240323,0445, -39.9973,  94.9950,     3637,    150.5,  11.0436,  34.8405,2,  34.8383,2,    256.3,2,    257.0,2,     3.42,2,     0.16,2,    10.17,2,     0.00,2,     0.80,2,    3.449,2,    1.782,2,    0.318,4,   2.5760,2,   2116.9,3,   2301.7,2,   7.8120,2,    24.99,     -999,1,  11.0440,2,     -999,9,     -999,     -999,9,     -999,9,     -999,9,     -999,9,     -999,9,     -999,1,   0.0186,1,   4.6776,1,      9.7,2,     -999,9,20240323,0623, -39.9973,  94.9950,     -999,9,     -999,9,-999          ,9,-999          ,9,-999          ,9
325020240221  ,I08        ,52      ,  2,29         ,29         ,2,20240323,0445, -39.9973,  94.9950,     3637,    200.4,  11.0824,  34.8734,2,  34.8737,2,    256.0,2,    255.8,2,     3.22,2,     0.07,2,     9.97,2,     0.00,2,     0.77,2,    3.326,2,    1.803,2,    0.331,4,   2.5300,2,   2120.5,3,   2303.2,2,   7.8134,2,    24.97,     -999,1,  11.0823,2,     -999,1,     -999,     -999,9,     -999,9,     -999,9,     -999,9,     -999,9,     -999,1,   0.0182,1,   4.6788,1,      9.9,2,     -999,9,20240323,0620, -39.9973,  94.9950,     -999,9,     -999,9,-999          ,9,-999          ,9,-999          ,9
325020240221  ,I08        ,52      ,  2,28         ,28         ,2,20240323,0445, -39.9973,  94.9950,     3637,    251.2,  11.0265,  34.8787,2,  34.8739,2,    255.2,2,    255.1,2,     3.32,2,     0.01,2,    10.25,2,     0.00,2,     0.79,2,    3.398,2,    1.779,2,    0.296,4,   2.4880,2,   2122.9,3,   2304.4,2,   7.8115,2,    24.96,     -999,1,  11.0091,2,     -999,9,     -999,     -999,9,     -999,9,     -999,9,     -999,9,     -999,9,     -999,1,   0.0183,1,   4.6813,1,      9.9,2,     -999,9,20240323,0618, -39.9973,  94.9950,     -999,9,     -999,9,-999          ,9,-999          ,9,-999          ,9
325020240221  ,I08        ,52      ,  2,27         ,27         ,2,20240323,0445, -39.9973,  94.9950,     3637,    301.4,  11.0222,  34.8942,2,  34.8910,2,    253.5,2,    253.8,2,     3.42,2,     0.04,2,    10.32,2,     0.00,2,     0.77,2,    3.299,2,    1.777,2,    0.263,4,   2.4980,2,   2124.6,3,   2304.4,2,   7.8108,2,    24.98,     -999,1,  11.0232,2,     -999,9,     -999,     -999,9,     -999,9,     -999,9,     -999,9,     -999,9,     -999,1,   0.0181,1,   4.6812,1,     10.1,2,     -999,9,20240323,0616, -39.9973,  94.9950,     -999,9,     -999,9,-999          ,9,-999          ,9,-999          ,9
325020240221  ,I08        ,52      ,  2,26         ,26         ,2,20240323,0445, -39.9973,  94.9950,     3637,    352.4,  10.9117,  34.8815,2,  34.8788,2,    252.2,2,    252.4,2,     3.61,2,     0.00,2,    10.85,2,     0.00,2,     0.83,2,    3.621,2,    1.817,2,    0.253,4,   2.5090,2,   2127.9,3,   2303.8,2,   7.8048,2,    24.99,     -999,1,  10.9107,2,     -999,9,     -999,     -999,9,     -999,9,     -999,9,     -999,9,     -999,9,     -999,1,   0.0182,1,   4.6813,1,     10.2,2,     -999,9,20240323,0614, -39.9973,  94.9950,     -999,9,     -999,9,-999          ,9,-999          ,9,-999          ,9
325020240221  ,I08        ,52      ,  2,25         ,25         ,2,20240323,0445, -39.9973,  94.9950,     3637,    402.3,  10.7323,  34.8536,2,  34.8524,2,    249.7,2,    249.9,2,     3.90,2,     0.02,2,    11.65,2,     0.00,2,     0.87,2,    3.609,2,    1.835,2,    0.223,4,   2.4390,2,   2132.4,3,   2301.9,2,   7.7967,2,    25.02,     -999,1,  10.7306,2,     -999,1,     -999,     -999,9,     -999,9,     -999,9,     -999,9,     -999,9,     -999,1,   0.0183,1,   4.6812,1,     10.4,2,     -999,9,20240323,0612, -39.9973,  94.9950,     -999,9,     -999,9,-999          ,9,-999          ,9,-999          ,9
325020240221  ,I08        ,52      ,  2,24         ,24         ,2,20240323,0445, -39.9973,  94.9950,     3637,    451.7,  10.4628,  34.8074,2,  34.8054,2,    248.4,2,    248.6,2,     4.20,2,     0.01,2,    12.61,2,     0.00,2,     0.94,2,    3.688,2,    1.906,2,    0.206,4,   2.3440,2,   2129.9,3,   2300.6,2,   7.7865,6,    25.00,     -999,1,  10.4638,2,     -999,1,     -999,     -999,9,     -999,9,     -999,9,     -999,9,     -999,9,     -999,1,   0.0183,1,   4.6817,1,     10.7,2,     -999,9,20240323,0610, -39.9973,  94.9950,     -999,9,     -999,9,-999          ,9,-999          ,9,-999          ,9
325020240221  ,I08        ,52      ,  2,23         ,37         ,2,20240323,0445, -39.9973,  94.9950,     3637,    502.6,  10.2204,  34.7682,2,  34.7675,2,    245.9,2,    246.9,2,     4.39,2,     0.01,2,    13.42,2,     0.00,2,     0.99,2,    3.727,2,    1.918,2,    0.185,4,   2.3040,2,   2135.0,3,   2297.8,2,   7.7776,6,    24.97,     -999,1,  10.2214,2,     -999,9,     -999,     -999,9,     -999,9,     -999,9,     -999,9,     -999,9,     -999,1,   0.0171,1,   4.6824,1,     10.9,2,     -999,9,20240323,0607, -39.9973,  94.9950,     -999,9,     -999,9,-999          ,9,-999          ,9,-999          ,1
325020240221  ,I08        ,52      ,  2,22         ,22         ,2,20240323,0445, -39.9973,  94.9950,     3637,    605.1,   9.5617,  34.6830,2,  34.6826,2,    232.3,2,    232.6,2,     5.95,2,     0.00,2,    16.55,2,     0.00,2,     1.17,2,    3.816,2,    1.953,2,    0.191,4,   1.9610,2,   2142.7,3,   2293.4,6,   7.7465,2,    24.97,     -999,1,   9.5623,2,     -999,1,     -999,     -999,9,     -999,9,     -999,9,     -999,9,     -999,9,     -999,1,   0.0183,1,   4.6833,1,     11.9,2,     -999,9,20240323,0604, -39.9973,  94.9950,     -999,9,     -999,9,-999          ,9,-999          ,9,-999          ,9
325020240221  ,I08        ,52      ,  2,21         ,21         ,2,20240323,0445, -39.9973,  94.9950,     3637,    705.2,   8.7351,  34.5949,2,  34.5936,2,    223.8,2,    223.3,2,     8.20,2,     0.01,2,    19.48,2,     0.00,2,     1.36,2,    3.640,2,    1.911,2,    0.193,4,   1.7110,2,   2151.4,3,   2289.8,2,   7.7176,2,    24.99,     -999,1,   8.7349,2,     -999,9,     -999,     -999,9,     -999,9,     -999,9,     -999,9,     -999,9,     -999,1,   0.0183,1,   4.6849,1,     12.5,2,     -999,9,20240323,0601, -39.9973,  94.9950,     -999,9,     -999,9,-999          ,9,-999          ,9,-999          ,9
325020240221  ,I08        ,52      ,  2,20         ,20         ,2,20240323,0445, -39.9973,  94.9950,     3637,    805.9,   7.6559,  34.5011,2,  34.4999,2,    209.0,2,    208.9,2,    13.08,2,     0.01,2,    23.37,2,     0.00,2,     1.61,2,    3.533,2,    1.777,2,    0.196,4,   1.2530,2,   2164.5,3,   2287.0,2,   7.6776,2,    24.97,     -999,1,   7.6547,2,     -999,1,     -999,     -999,9,     -999,9,     -999,9,     -999,9,     -999,9,     -999,1,   0.0176,1,   4.6862,1,      9.8,4,     -999,9,20240323,0558, -39.9973,  94.9950,     -999,9,     -999,9,-999          ,9,-999          ,9,-999          ,9
325020240221  ,I08        ,52      ,  2,19         ,19         ,2,20240323,0445, -39.9973,  94.9950,     3637,    907.5,   6.4750,  34.4126,2,  34.4129,2,    205.2,2,    205.2,2,    18.55,2,     0.02,2,    26.39,2,     0.00,2,     1.79,2,    3.242,2,    1.579,2,    0.168,4,   1.1150,2,   2179.8,3,   2288.3,2,   7.6470,2,    24.97,     -999,1,   6.4825,2,     -999,1,     -999,     -999,9,     -999,9,     -999,9,     -999,9,     -999,9,     -999,1,   0.0183,1,   4.6863,1,     15.2,2,     -999,9,20240323,0555, -39.9973,  94.9950,     -999,9,     -999,9,-999          ,9,-999          ,9,-999          ,9
325020240221  ,I08        ,52      ,  2,18         ,18         ,2,20240323,0445, -39.9973,  94.9950,     3637,   1008.0,   5.4716,  34.3538,2,     -999,9,    206.8,2,     -999,9,     -999,9,     -999,9,     -999,9,     -999,9,     -999,9,     -999,9,     -999,9,     -999,9,     -999,9,     -999,9,     -999,9,     -999,9,     -999,     -999,9,   5.4826,2,     -999,9,     -999,     -999,9,     -999,9,     -999,9,     -999,9,     -999,9,     -999,9,   0.0183,1,   4.6882,1,     -999,9,     -999,9,20240323,0552, -39.9973,  94.9950,     -999,9,     -999,9,-999          ,9,-999          ,1,-999          ,1
325020240221  ,I08        ,52      ,  2,17         ,17         ,2,20240323,0445, -39.9973,  94.9950,     3637,   1008.8,   5.4909,  34.3529,2,  34.3531,2,    206.4,2,    206.5,2,    24.02,2,     0.00,2,    28.51,2,     0.00,2,     1.96,2,    3.212,2,    1.504,2,    0.179,4,   0.8870,2,   2185.0,3,   2290.1,2,   7.6277,2,    24.98,     -999,1,   5.4720,2,     -999,1,     -999,     -999,9,     -999,9,     -999,9,     -999,9,     -999,9,     -999,1,   0.0183,1,   4.6876,1,     15.9,2,     -999,9,20240323,0552, -39.9973,  94.9950,     -999,9,     -999,9,-999          ,9,-999          ,9,-999          ,9
325020240221  ,I08        ,52      ,  2,16         ,16         ,2,20240323,0445, -39.9973,  94.9950,     3637,   1109.6,   4.6360,  34.3355,2,  34.3354,2,    203.9,2,    203.8,2,    31.54,2,     0.04,2,    30.38,2,     0.00,2,     2.09,2,    2.810,2,    1.304,2,    0.168,4,   0.7650,2,   2196.5,3,   2296.6,2,   7.6097,2,    24.95,     -999,1,   4.6354,2,     -999,9,     -999,     -999,9,     -999,9,     -999,9,     -999,9,     -999,9,     -999,1,   0.0183,1,   4.6764,1,     16.8,2,     -999,9,20240323,0549, -39.9973,  94.9950,     -999,9,     -999,9,-999          ,9,-999          ,9,-999          ,9
325020240221  ,I08        ,52      ,  2,15         ,15         ,2,20240323,0445, -39.9973,  94.9950,     3637,   1211.1,   3.9762,  34.3546,2,  34.3537,2,    196.5,2,    196.2,2,    41.01,2,     0.02,2,    31.94,2,     0.00,2,     2.23,2,    2.217,2,    1.072,2,    0.132,4,   0.5770,2,   2212.1,3,   2302.0,2,   7.5923,2,    25.03,     -999,1,   3.9841,2,     -999,1,     -999,     -999,9,     -999,9,     -999,9,     -999,9,     -999,9,     -999,1,   0.0179,1,   4.6691,1,     17.6,2,     -999,9,20240323,0546, -39.9973,  94.9950,     -999,9,     -999,9,-999          ,9,-999          ,9,-999          ,9
325020240221  ,I08        ,52      ,  2,14         ,14         ,2,20240323,0445, -39.9973,  94.9950,     3637,   1310.0,   3.5991,  34.3959,2,  34.3945,2,    185.9,2,    186.1,2,    49.60,2,     0.01,2,    33.08,2,     0.00,2,     2.29,2,    1.697,2,    0.804,2,    0.105,4,   0.5630,2,   2228.7,3,   2311.6,2,   7.5776,2,    25.06,     -999,1,   3.6023,2,     -999,9,     -999,     -999,9,     -999,9,     -999,9,     -999,9,     -999,9,     -999,1,   0.0183,1,   4.6642,1,     18.3,2,     -999,9,20240323,0543, -39.9973,  94.9951,     -999,9,     -999,9,-999          ,9,-999          ,9,-999          ,9
325020240221  ,I08        ,52      ,  2,13         ,13         ,2,20240323,0445, -39.9973,  94.9950,     3637,   1413.3,   3.2919,  34.4324,2,  34.4306,2,    180.7,2,    180.7,2,    55.36,2,     0.01,2,    33.66,2,     0.00,2,     2.35,2,    1.429,2,    0.693,2,    0.087,4,   0.3370,2,   2232.4,3,   2317.6,2,   7.5676,2,    25.05,     -999,1,   3.2937,2,     -999,1,     -999,     -999,9,     -999,9,     -999,9,     -999,9,     -999,9,     -999,1,   0.0183,1,   4.6603,1,     18.6,2,     -999,9,20240323,0540, -39.9973,  94.9950,     -999,9,     -999,9,-999          ,9,-999          ,9,-999          ,9
325020240221  ,I08        ,52      ,  2,12         ,12         ,2,20240323,0445, -39.9973,  94.9950,     3637,   1515.9,   3.0421,  34.4857,2,  34.4885,2,    174.7,2,    174.8,2,    62.58,2,     0.02,2,    33.99,2,     0.00,2,     2.39,2,    1.088,2,    0.519,2,    0.062,4,   0.2860,2,   2240.3,3,   2324.0,2,   7.5604,6,    25.02,     -999,1,   3.0417,2,     -999,1,     -999,     -999,9,     -999,9,     -999,9,     -999,9,     -999,9,     -999,1,   0.0183,1,   4.6569,1,     19.1,2,     -999,9,20240323,0537, -39.9973,  94.9950,     -999,9,     -999,9,-999          ,9,-999          ,9,-999          ,9
325020240221  ,I08        ,52      ,  2,11         ,11         ,2,20240323,0445, -39.9973,  94.9950,     3637,   1616.7,   2.8609,  34.5391,2,  34.5398,2,    171.6,2,    172.4,2,    67.17,2,     0.01,2,    33.90,2,     0.00,2,     2.36,2,    0.764,2,    0.378,2,    0.037,4,   0.2590,2,   2248.9,3,   2329.4,2,   7.5598,2,    24.99,     -999,1,   2.8628,2,     -999,1,     -999,     -999,9,     -999,9,     -999,9,     -999,9,     -999,9,     -999,1,   0.0183,1,   4.6555,1,     19.0,2,     -999,9,20240323,0534, -39.9973,  94.9951,     -999,9,     -999,9,-999          ,9,-999          ,9,-999          ,9
325020240221  ,I08        ,52      ,  2,10         ,10         ,2,20240323,0445, -39.9973,  94.9950,     3637,   1718.5,   2.7331,  34.5902,2,  34.5889,2,    171.1,2,    171.8,2,    71.07,2,     0.02,2,    33.45,2,     0.00,2,     2.35,2,    0.559,2,    0.273,2,    0.025,4,   0.2210,2,   2249.3,3,   2334.8,2,   7.5648,6,    24.97,     -999,1,   2.7341,2,     -999,1,     -999,     -999,9,     -999,9,     -999,9,     -999,9,     -999,9,     -999,1,   0.0183,1,   4.6542,1,     18.7,2,     -999,9,20240323,0531, -39.9973,  94.9950,     -999,9,     -999,9,-999          ,9,-999          ,9,-999          ,9
325020240221  ,I08        ,52      ,  2,9          ,9          ,2,20240323,0445, -39.9973,  94.9950,     3637,   1820.1,   2.6472,  34.6266,2,  34.6250,2,    173.4,2,    173.6,2,    72.34,2,     0.03,2,    32.85,2,     0.00,2,     2.31,2,    0.463,2,    0.230,2,    0.025,4,   0.0590,2,   2252.8,3,   2335.9,6,   7.5711,6,    25.00,     -999,1,   2.6483,2,     -999,1,     -999,     -999,9,     -999,9,     -999,9,     -999,9,     -999,9,     -999,1,   0.0183,1,   4.6529,1,     18.4,2,     -999,9,20240323,0528, -39.9973,  94.9950,     -999,9,     -999,9,-999          ,9,-999          ,9,-999          ,9
325020240221  ,I08        ,52      ,  2,8          ,8          ,2,20240323,0445, -39.9973,  94.9950,     3637,   2024.1,   2.4825,  34.6894,2,  34.6899,2,    179.6,2,    180.2,2,    75.95,2,     0.02,2,    31.61,2,     0.00,2,     2.22,2,    0.265,2,    0.140,2,    0.011,4,   0.0390,2,   2247.5,3,   2339.9,2,   7.5879,2,    25.03,     -999,1,   2.4817,2,     -999,1,     -999,     -999,9,     -999,9,     -999,9,     -999,9,     -999,9,     -999,1,   0.0183,1,   4.6508,1,     17.7,2,     -999,9,20240323,0523, -39.9973,  94.9950,     -999,9,     -999,9,-999          ,9,-999          ,9,-999          ,9
325020240221  ,I08        ,52      ,  2,7          ,7          ,2,20240323,0445, -39.9973,  94.9950,     3637,   2277.3,   2.2787,  34.7327,2,  34.7319,2,    188.1,2,    187.9,2,    79.85,2,     0.03,2,    30.62,2,     0.00,2,     2.14,2,    0.173,2,    0.093,2,    0.008,4,   0.0180,2,   2247.3,3,   2346.3,2,   7.6057,2,    25.04,     -999,1,   2.2784,2,     -999,9,     -999,     -999,9,     -999,9,     -999,9,     -999,9,     -999,9,     -999,1,   0.0183,1,   4.6471,1,     16.8,2,     -999,9,20240323,0517, -39.9973,  94.9950,     -999,9,     -999,9,-999          ,9,-999          ,9,-999          ,9
325020240221  ,I08        ,52      ,  2,6          ,6          ,2,20240323,0445, -39.9973,  94.9950,     3637,   2532.9,   2.0433,  34.7485,2,  34.7492,2,    194.5,2,    194.4,2,    85.80,2,     0.01,2,    30.22,2,     0.00,2,     2.14,2,    0.137,2,    0.075,2,    0.007,4,   0.0300,2,   2245.7,3,   2350.3,2,   7.6154,2,    25.04,     -999,1,   2.0431,2,     -999,1,     -999,     -999,9,     -999,9,     -999,9,     -999,9,     -999,9,     -999,1,   0.0189,1,   4.6443,1,     16.5,2,     -999,9,20240323,0511, -39.9973,  94.9950,     -999,9,     -999,9,-999          ,9,-999          ,9,-999          ,9