BOTTLE,20240417CCHHYDRO
EXPOCODE,SECT_ID,STNNBR,CASTNO,SAMPNO,BTLNBR,BTLNBR_FLAG_W,DATE,TIME,LATITUDE,LONGITUDE,DEPTH,CTDPRS,CTDTMP,CTDSAL,CTDSAL_FLAG_W,SALNTY,SALNTY_FLAG_W,CTDOXY,CTDOXY_FLAG_W,OXYGEN,OXYGEN_FLAG_W,SILCAT,SILCAT_FLAG_W,NH4,NH4_FLAG_W,NITRAT,NITRAT_FLAG_W,NITRIT,NITRIT_FLAG_W,PHSPHT,PHSPHT_FLAG_W,CFC-11,CFC-11_FLAG_W,CFC-12,CFC-12_FLAG_W,CFC113,CFC113_FLAG_W,SF6,SF6_FLAG_W,TCARBN,TCARBN_FLAG_W,ALKALI,ALKALI_FLAG_W,PH_TOT,PH_TOT_FLAG_W,PH_TMP,DOC,DOC_FLAG_W,REFTMP,REFTMP_FLAG_W,DELC14,DELC14_FLAG_W,C14ERR,POC,POC_FLAG_W,PON,PON_FLAG_W,POP,POP_FLAG_W,PCOD,PCOD_FLAG_W,DOP,DOP_FLAG_W,TDN,TDN_FLAG_W,CTDFLUOR,CTDFLUOR_FLAG_W,CTDXMISS,CTDXMISS_FLAG_W,N2O,N2O_FLAG_W,ARGON,ARGON_FLAG_W,BTL_DATE,BTL_TIME,BTL_LAT,BTL_LON,KRYPTON,KRYPTON_FLAG_W,XENON,XENON_FLAG_W,HPLC,HPLC_FLAG_W,DNA,DNA_FLAG_W,FCM,FCM_FLAG_W
,,,,,,,,,,,METERS,DBAR,ITS-90,PSS-78,,PSS-78,,UMOL/KG,,UMOL/KG,,UMOL/KG,,UMOL/KG,,UMOL/KG,,UMOL/KG,,UMOL/KG,,PMOL/KG,,PMOL/KG,,PMOL/KG,,FMOL/KG,,UMOL/KG,,UMOL/KG,,,,DEG C,UMOL/KG,,ITS-90,,/MILLE,,/MILLE,UG/KG,,UG/KG,,UG/L,,UG/L,,UMOL/KG,,UMOL/KG,,VOLTS,,VOLTS,,NMOL/KG,,UMOL/L,,,,,,NMOL/L,,NMOL/L,,,,,,,
325020240221  ,I08        ,30      ,  1,36         ,36         ,2,20240315,0835, -55.4136,  84.9406,     4752,      6.2,   2.8474,  33.8669,2,  33.8678,2,    320.8,2,    321.1,2,    18.85,2,     0.65,2,    24.97,2,     0.29,2,     1.74,2,    1.698,4,    0.730,4,    0.140,4,   1.3520,4,   2162.4,3,   2290.1,2,   7.6898,2,    25.00,     -999,1,   2.8422,2,     -999,9,     -999,     -999,9,     -999,9,     -999,9,     -999,9,     -999,9,     -999,1,   0.0379,1,   4.5370,1,      1.8,4,     -999,9,20240315,1100, -55.4136,  84.9406,     -999,9,     -999,9,-999          ,9,-999          ,1,-999          ,1
325020240221  ,I08        ,30      ,  1,35         ,35         ,2,20240315,0835, -55.4136,  84.9406,     4752,     19.9,   2.7867,  33.8668,2,  33.8670,2,    321.2,2,    321.4,2,    18.75,2,     0.65,2,    25.09,2,     0.28,2,     1.73,2,    4.962,2,    2.809,2,    0.455,2,   4.5650,2,   2164.0,3,   2290.6,2,   7.6902,6,    24.99,     -999,1,   2.7860,2,     -999,9,     -999,     -999,9,     -999,9,     -999,9,     -999,9,     -999,9,     -999,1,   0.0413,1,   4.5321,1,     10.4,2,     -999,9,20240315,1058, -55.4135,  84.9406,     -999,9,     -999,9,-999          ,9,-999          ,9,-999          ,9
325020240221  ,I08        ,30      ,  1,34         ,34         ,2,20240315,0835, -55.4136,  84.9406,     4752,     39.8,   2.7807,  33.8670,2,  33.8674,2,    321.0,2,    321.3,2,    18.75,2,     0.67,2,    25.16,2,     0.28,2,     1.76,2,    5.370,2,    2.942,2,    0.439,2,   4.4080,2,   2160.9,3,   2290.2,2,   7.6898,2,    24.97,     -999,1,   2.7803,2,     -999,9,     -999,     -999,9,     -999,9,     -999,9,     -999,9,     -999,9,     -999,1,   0.0416,1,   4.5346,1,     10.5,2,     -999,9,20240315,1055, -55.4135,  84.9406,     -999,9,     -999,9,-999          ,1,-999          ,9,-999          ,1
325020240221  ,I08        ,30      ,  1,33         ,33         ,2,20240315,0835, -55.4136,  84.9406,     4752,     65.5,   2.7806,  33.8672,2,  33.8684,2,    321.1,2,    320.7,2,    18.65,2,     0.66,2,    25.16,2,     0.28,2,     1.75,2,    5.145,2,    2.858,2,    0.454,2,   4.3340,2,   2158.5,3,   2291.0,2,   7.6890,2,    24.98,     -999,1,   2.7803,2,     -999,9,     -999,     -999,9,     -999,9,     -999,9,     -999,9,     -999,9,     -999,1,   0.0430,1,   4.5360,1,     10.4,2,     -999,9,20240315,1053, -55.4135,  84.9407,     -999,9,     -999,9,-999          ,9,-999          ,9,-999          ,1
325020240221  ,I08        ,30      ,  1,32         ,32         ,2,20240315,0835, -55.4136,  84.9406,     4752,     90.6,   2.7237,  33.8960,2,  33.8970,2,    319.7,3,    316.3,2,    18.55,2,     0.53,2,    25.78,2,     0.24,2,     1.80,2,    5.484,2,    2.683,2,    0.446,2,   4.1970,2,   2161.7,3,   2288.4,2,   7.6798,2,    25.00,     -999,1,   2.7241,2,     -999,9,     -999,     -999,9,     -999,9,     -999,9,     -999,9,     -999,9,     -999,1,   0.0442,1,   4.5439,1,     10.9,2,     -999,9,20240315,1051, -55.4135,  84.9406,     -999,9,     -999,9,-999          ,9,-999          ,1,-999          ,1
325020240221  ,I08        ,30      ,  1,31         ,31         ,2,20240315,0835, -55.4136,  84.9406,     4752,    135.8,   0.8996,  33.9933,2,  33.9839,2,    299.5,2,    299.8,2,    38.37,2,     0.34,2,    29.02,2,     0.20,2,     2.03,2,    4.695,2,    2.669,2,    0.452,2,   3.3800,2,     -999,9,     -999,9,     -999,9,     -999,     -999,1,   0.9006,2,     -999,9,     -999,     -999,9,     -999,9,     -999,9,     -999,9,     -999,9,     -999,1,   0.0319,1,   4.5786,1,     13.0,2,     -999,9,20240315,1049, -55.4135,  84.9407,     -999,9,     -999,9,-999          ,9,-999          ,9,-999          ,1
325020240221  ,I08        ,30      ,  1,30         ,30         ,2,20240315,0835, -55.4136,  84.9406,     4752,    186.9,   1.3529,  34.2460,2,  34.2472,2,    236.0,2,    234.5,2,    56.04,2,     0.02,2,    33.20,2,     0.02,2,     2.27,2,    3.474,2,    1.790,2,    0.280,2,   2.1030,2,   2230.6,3,   2309.3,2,   7.5574,2,    25.02,     -999,1,   1.3544,2,     -999,9,     -999,     -999,9,     -999,9,     -999,9,     -999,9,     -999,9,     -999,1,   0.0195,1,   4.6146,1,     15.6,2,     -999,9,20240315,1046, -55.4135,  84.9407,     -999,9,     -999,9,-999          ,9,-999          ,1,-999          ,1
325020240221  ,I08        ,30      ,  1,29         ,29         ,2,20240315,0835, -55.4136,  84.9406,     4752,    237.3,   1.7649,  34.3693,2,  34.3686,2,    203.9,2,    204.6,2,    64.52,2,     0.04,2,    34.43,2,     0.00,2,     2.35,2,    2.494,2,    1.253,2,    0.203,2,   1.2180,2,   2242.6,3,   2315.1,2,   7.5391,2,    24.98,     -999,1,   1.7649,2,     -999,9,     -999,     -999,9,     -999,9,     -999,9,     -999,9,     -999,9,     -999,1,   0.0183,1,   4.6175,1,     16.3,2,     -999,9,20240315,1043, -55.4135,  84.9407,     -999,9,     -999,9,-999          ,9,-999          ,9,-999          ,9
325020240221  ,I08        ,30      ,  1,28         ,28         ,2,20240315,0835, -55.4136,  84.9406,     4752,    287.2,   2.0944,  34.4753,2,  34.4744,2,    182.5,2,    181.5,2,    71.06,2,     0.00,2,    34.87,2,     0.00,2,     2.36,2,    1.633,2,    0.826,2,    0.132,2,   0.9950,2,     -999,9,     -999,9,     -999,9,     -999,     -999,1,   2.0943,2,     -999,9,     -999,     -999,9,     -999,9,     -999,9,     -999,9,     -999,9,     -999,1,   0.0183,1,   4.6206,1,     16.6,2,     -999,9,20240315,1040, -55.4135,  84.9407,     -999,9,     -999,9,-999          ,9,-999          ,9,-999          ,9
325020240221  ,I08        ,30      ,  1,27         ,27         ,2,20240315,0835, -55.4136,  84.9406,     4752,    339.1,   2.0150,  34.4986,2,  34.4932,2,    186.7,3,    184.7,2,    71.74,2,     0.02,2,    34.39,2,     0.00,2,     2.36,2,    1.619,2,    0.804,2,    0.116,2,   0.7950,2,   2254.0,3,   2325.7,2,   7.5394,2,    24.97,     -999,1,   2.0074,2,     -999,9,     -999,     -999,9,     -999,9,     -999,9,     -999,9,     -999,9,     -999,1,   0.0183,1,   4.6254,1,     15.6,2,     -999,9,20240315,1037, -55.4135,  84.9407,     -999,9,     -999,9,-999          ,9,-999          ,9,-999          ,9
325020240221  ,I08        ,30      ,  1,26         ,26         ,2,20240315,0835, -55.4136,  84.9406,     4752,    389.4,   1.9459,  34.5370,2,  34.5388,2,    185.1,3,    183.1,2,    74.47,2,     0.00,2,    34.12,2,     0.00,2,     2.33,2,    1.372,2,    0.673,2,    0.097,2,   0.6600,2,   2249.4,3,   2332.2,2,   7.5448,2,    24.98,     -999,1,   1.9453,2,     -999,9,     -999,     -999,9,     -999,9,     -999,9,     -999,9,     -999,9,     -999,1,   0.0183,1,   4.6194,1,     16.1,2,     -999,9,20240315,1034, -55.4135,  84.9407,     -999,9,     -999,9,-999          ,9,-999          ,9,-999          ,9
325020240221  ,I08        ,30      ,  1,25         ,25         ,2,20240315,0835, -55.4136,  84.9406,     4752,    469.5,   1.7826,  34.5953,2,  34.5954,2,    182.0,2,    182.5,2,    79.74,2,     0.00,2,    33.80,2,     0.00,2,     2.30,2,    1.141,2,    0.582,2,    0.085,2,   0.5560,2,     -999,9,     -999,9,     -999,9,     -999,     -999,1,   1.7827,2,     -999,9,     -999,     -999,9,     -999,9,     -999,9,     -999,9,     -999,9,     -999,1,   0.0183,1,   4.6251,1,     15.8,2,     -999,9,20240315,1031, -55.4135,  84.9407,     -999,9,     -999,9,-999          ,9,-999          ,9,-999          ,1
325020240221  ,I08        ,30      ,  1,24         ,24         ,2,20240315,0835, -55.4136,  84.9406,     4752,    569.4,   2.0526,  34.6863,2,  34.6865,2,    179.9,2,    179.7,2,    81.98,2,     0.00,2,    32.38,2,     0.00,2,     2.22,2,    0.552,2,    0.262,2,    0.031,2,   0.1660,2,   2255.8,3,   2341.9,2,   7.5734,2,    24.99,     -999,1,   2.0523,2,     -999,9,     -999,     -999,9,     -999,9,     -999,9,     -999,9,     -999,9,     -999,1,   0.0183,1,   4.6346,1,     15.4,2,     -999,9,20240315,1027, -55.4135,  84.9407,     -999,9,     -999,9,-999          ,9,-999          ,9,-999          ,9
325020240221  ,I08        ,30      ,  1,23         ,37         ,2,20240315,0835, -55.4136,  84.9406,     4752,    671.3,   1.9253,  34.6991,2,  34.6991,2,    180.7,2,    180.9,2,    85.20,2,     0.00,2,    32.32,2,     0.00,2,     2.23,2,    0.513,2,    0.257,2,    0.030,2,   0.2200,2,     -999,9,     -999,9,     -999,9,     -999,     -999,1,   1.9248,2,     -999,9,     -999,     -999,9,     -999,9,     -999,9,     -999,9,     -999,9,     -999,1,   0.0183,1,   4.6356,1,     14.8,2,     -999,9,20240315,1024, -55.4135,  84.9407,     -999,9,     -999,9,-999          ,9,-999          ,9,-999          ,9
325020240221  ,I08        ,30      ,  1,22         ,22         ,2,20240315,0835, -55.4136,  84.9406,     4752,    773.1,   1.9106,  34.7184,2,  34.7189,2,    184.7,2,    185.7,2,    85.78,2,     0.04,2,    31.79,2,     0.00,2,     2.18,2,    0.430,2,    0.206,2,    0.024,2,   0.0300,2,   2255.8,3,   2349.3,2,   7.5865,6,    24.99,     -999,1,   1.9108,2,     -999,9,     -999,     -999,9,     -999,9,     -999,9,     -999,9,     -999,9,     -999,1,   0.0183,1,   4.6408,1,     14.5,2,     -999,9,20240315,1020, -55.4135,  84.9407,     -999,9,     -999,9,-999          ,9,-999          ,9,-999          ,9
325020240221  ,I08        ,30      ,  1,21         ,21         ,2,20240315,0835, -55.4136,  84.9406,     4752,    872.1,   1.8861,  34.7310,2,  34.7315,2,    188.5,2,    188.5,2,    86.27,2,     0.04,2,    31.36,2,     0.00,2,     2.13,2,    0.351,2,    0.168,2,    0.019,2,   0.0300,2,     -999,9,     -999,9,     -999,9,     -999,     -999,1,   1.8860,2,     -999,9,     -999,     -999,9,     -999,9,     -999,9,     -999,9,     -999,9,     -999,1,   0.0183,1,   4.6398,1,     13.8,2,     -999,9,20240315,1016, -55.4135,  84.9407,     -999,9,     -999,9,-999          ,9,-999          ,9,-999          ,9
325020240221  ,I08        ,30      ,  1,20         ,20         ,2,20240315,0835, -55.4136,  84.9406,     4752,    974.3,   1.7959,  34.7337,2,  34.7345,2,    190.3,2,    190.7,2,    88.12,2,     0.00,2,    31.23,2,     0.00,2,     2.14,2,    0.337,2,    0.172,2,    0.029,2,   0.0620,2,   2249.8,3,   2351.4,6,   7.5968,2,    24.97,     -999,1,   1.7971,2,     -999,9,     -999,     -999,9,     -999,9,     -999,9,     -999,9,     -999,9,     -999,1,   0.0183,1,   4.6386,1,      9.1,4,     -999,9,20240315,1013, -55.4135,  84.9407,     -999,9,     -999,9,-999          ,9,-999          ,9,-999          ,1
325020240221  ,I08        ,30      ,  1,19         ,19         ,2,20240315,0835, -55.4136,  84.9406,     4752,   1076.6,   1.7025,  34.7379,2,  34.7388,2,    192.8,2,    193.0,2,    90.17,2,     0.00,2,    31.06,2,     0.00,2,     2.14,2,    0.336,2,    0.168,2,    0.017,2,   0.0390,2,   2250.7,3,   2347.4,2,   7.6005,6,    24.98,     -999,1,   1.7023,2,     -999,9,     -999,     -999,9,     -999,9,     -999,9,     -999,9,     -999,9,     -999,1,   0.0182,1,   4.6374,1,     13.9,2,     -999,9,20240315,1009, -55.4135,  84.9407,     -999,9,     -999,9,-999          ,9,-999          ,9,-999          ,9
325020240221  ,I08        ,30      ,  1,18         ,18         ,2,20240315,0835, -55.4136,  84.9406,     4752,   1177.4,   1.6236,  34.7387,2,  34.7390,2,    195.5,2,    195.7,2,    92.22,2,     0.00,2,    30.81,2,     0.00,2,     2.12,2,    0.345,2,    0.162,2,    0.015,2,   0.0190,2,     -999,9,     -999,9,     -999,9,     -999,     -999,1,   1.6232,2,     -999,9,     -999,     -999,9,     -999,9,     -999,9,     -999,9,     -999,9,     -999,1,   0.0189,1,   4.6361,1,     13.6,2,     -999,9,20240315,1006, -55.4134,  84.9407,     -999,9,     -999,9,-999          ,9,-999          ,9,-999          ,9
325020240221  ,I08        ,30      ,  1,17         ,17         ,2,20240315,0835, -55.4136,  84.9406,     4752,   1279.5,   1.5561,  34.7378,2,  34.7384,2,    197.0,2,    196.7,2,    93.88,2,     0.00,2,    30.80,2,     0.00,2,     2.09,2,    0.315,2,    0.162,2,    0.016,2,   0.0300,2,   2251.6,3,   2351.3,2,   7.6047,2,    25.00,     -999,1,   1.5561,2,     -999,9,     -999,     -999,9,     -999,9,     -999,9,     -999,9,     -999,9,     -999,1,   0.0183,1,   4.6359,1,     13.7,2,     -999,9,20240315,1002, -55.4134,  84.9407,     -999,9,     -999,9,-999          ,9,-999          ,9,-999          ,9
325020240221  ,I08        ,30      ,  1,16         ,16         ,2,20240315,0835, -55.4136,  84.9406,     4752,   1374.8,   1.4765,  34.7368,2,  34.7372,2,    198.7,2,    198.8,2,    95.83,2,     0.00,2,    30.71,2,     0.00,2,     2.09,2,    0.326,2,    0.166,2,    0.017,2,   0.0360,2,     -999,9,     -999,9,     -999,9,     -999,     -999,1,   1.4769,2,     -999,9,     -999,     -999,9,     -999,9,     -999,9,     -999,9,     -999,9,     -999,1,   0.0179,1,   4.6349,1,     13.5,2,     -999,9,20240315,0959, -55.4134,  84.9407,     -999,9,     -999,9,-999          ,9,-999          ,9,-999          ,9
325020240221  ,I08        ,30      ,  1,15         ,15         ,2,20240315,0835, -55.4136,  84.9406,     4752,   1482.8,   1.3967,  34.7343,2,  34.7349,2,    200.1,2,    200.1,2,    97.88,2,     0.02,2,    30.78,2,     0.00,2,     2.11,2,    0.331,2,    0.163,2,    0.015,2,   0.0000,2,   2254.2,3,   2352.4,2,   7.6076,2,    25.02,     -999,1,   1.3967,2,     -999,9,     -999,     -999,9,     -999,9,     -999,9,     -999,9,     -999,9,     -999,1,   0.0183,1,   4.6325,1,     13.5,2,     -999,9,20240315,0954, -55.4134,  84.9408,     -999,9,     -999,9,-999          ,9,-999          ,9,-999          ,9
325020240221  ,I08        ,30      ,  1,14         ,14         ,2,20240315,0835, -55.4136,  84.9406,     4752,   1583.6,   1.2968,  34.7312,2,  34.7313,2,    201.6,2,    201.6,2,   100.81,2,     0.00,2,    30.92,2,     0.00,2,     2.11,2,    0.325,2,    0.166,2,    0.016,2,   0.0840,2,     -999,9,     -999,9,     -999,9,     -999,     -999,1,   1.2971,2,     -999,9,     -999,     -999,9,     -999,9,     -999,9,     -999,9,     -999,9,     -999,1,   0.0183,1,   4.6314,1,     13.3,2,     -999,9,20240315,0950, -55.4134,  84.9407,     -999,9,     -999,9,-999          ,9,-999          ,9,-999          ,9
325020240221  ,I08        ,30      ,  1,13         ,13         ,2,20240315,0835, -55.4136,  84.9406,     4752,   1757.0,   1.1198,  34.7224,2,  34.7229,2,    203.4,2,    203.2,2,   105.69,2,     0.02,2,    31.30,2,     0.00,2,     2.15,2,    0.376,2,    0.178,2,    0.015,2,   0.0900,2,   2257.7,3,   2353.5,2,   7.6046,2,    24.99,     -999,1,   1.1194,2,     -999,9,     -999,     -999,9,     -999,9,     -999,9,     -999,9,     -999,9,     -999,1,   0.0183,1,   4.6299,1,     13.5,2,     -999,9,20240315,0946, -55.4134,  84.9407,     -999,9,     -999,9,-999          ,9,-999          ,9,-999          ,9
325020240221  ,I08        ,30      ,  1,12         ,12         ,2,20240315,0835, -55.4136,  84.9406,     4752,   1960.2,   1.0077,  34.7165,2,  34.7172,2,    204.6,2,    204.9,2,   109.60,2,     0.00,2,    31.63,2,     0.00,2,     2.18,2,    0.372,2,    0.181,2,    0.017,2,   0.0680,2,   2253.3,3,   2355.6,2,   7.6034,2,    24.98,     -999,1,   1.0071,2,     -999,9,     -999,     -999,9,     -999,9,     -999,9,     -999,9,     -999,9,     -999,1,   0.0183,1,   4.6288,1,     13.4,2,     -999,9,20240315,0941, -55.4134,  84.9407,     -999,9,     -999,9,-999          ,9,-999          ,9,-999          ,9
325020240221  ,I08        ,30      ,  1,11         ,11         ,2,20240315,0835, -55.4136,  84.9406,     4752,   2195.8,   0.8572,  34.7076,2,  34.7083,2,    206.0,2,    205.8,2,   113.79,2,     0.04,2,    32.00,2,     0.00,2,     2.20,2,    0.404,2,    0.197,2,    0.021,2,   0.0630,2,     -999,9,     -999,9,     -999,9,     -999,     -999,1,   0.8567,2,     -999,9,     -999,     -999,9,     -999,9,     -999,9,     -999,9,     -999,9,     -999,1,   0.0183,1,   4.6275,1,     13.2,2,     -999,9,20240315,0935, -55.4134,  84.9407,     -999,9,     -999,9,-999          ,9,-999          ,9,-999          ,9
325020240221  ,I08        ,30      ,  1,10         ,10         ,2,20240315,0835, -55.4136,  84.9406,     4752,   2449.9,   0.7301,  34.7003,2,  34.7005,2,    207.6,2,    208.1,2,   118.28,2,     0.00,2,    32.34,2,     0.00,2,     2.23,2,    0.451,2,    0.214,2,    0.019,2,   0.0000,2,   2251.9,3,   2355.2,2,   7.5971,2,    24.99,     -999,1,   0.7302,2,     -999,9,     -999,     -999,9,     -999,9,     -999,9,     -999,9,     -999,9,     -999,1,   0.0183,1,   4.6262,1,     13.3,2,     -999,9,20240315,0929, -55.4134,  84.9407,     -999,9,     -999,9,-999          ,9,-999          ,9,-999          ,9
325020240221  ,I08        ,30      ,  1,9          ,9          ,2,20240315,0835, -55.4136,  84.9406,     4752,   2705.3,   0.5555,  34.6908,2,  34.6916,2,    210.7,2,    210.8,2,   123.07,2,     0.00,2,    32.58,2,     0.00,2,     2.24,2,    0.523,2,    0.240,2,    0.022,2,   0.1220,2,     -999,9,     -999,9,     -999,9,     -999,     -999,1,   0.5574,2,     -999,9,     -999,     -999,9,     -999,9,     -999,9,     -999,9,     -999,9,     -999,1,   0.0182,1,   4.6239,1,     13.4,2,     -999,9,20240315,0923, -55.4134,  84.9407,     -999,9,     -999,9,-999          ,9,-999          ,9,-999          ,9
325020240221  ,I08        ,30      ,  1,8          ,8          ,2,20240315,0835, -55.4136,  84.9406,     4752,   2959.8,   0.4271,  34.6843,2,  34.6844,2,    214.5,2,    214.3,2,   125.80,2,     0.00,2,    32.65,2,     0.00,2,     2.25,2,    0.603,2,    0.298,2,    0.031,2,   0.1600,2,   2256.8,3,   2355.5,2,   7.5940,2,    24.99,     -999,1,   0.4290,2,     -999,9,     -999,     -999,9,     -999,9,     -999,9,     -999,9,     -999,9,     -999,1,   0.0180,1,   4.6227,1,     13.1,2,     -999,9,20240315,0917, -55.4134,  84.9407,     -999,9,     -999,9,-999          ,9,-999          ,9,-999          ,9
325020240221  ,I08        ,30      ,  1,7          ,7          ,2,20240315,0835, -55.4136,  84.9406,     4752,   3253.6,   0.3226,  34.6787,2,  34.6787,2,    218.3,2,    218.2,2,   127.95,2,     0.00,2,    32.66,2,     0.00,2,     2.24,2,    0.788,2,    0.381,2,    0.043,2,   0.2850,2,     -999,9,     -999,9,     -999,9,     -999,     -999,1,   0.3224,2,     -999,9,     -999,     -999,9,     -999,9,     -999,9,     -999,9,     -999,9,     -999,1,   0.0182,1,   4.6233,1,     13.3,2,     -999,9,20240315,0911, -55.4134,  84.9407,     -999,9,     -999,9,-999          ,9,-999          ,9,-999          ,9
325020240221  ,I08        ,30      ,  1,6          ,6          ,2,20240315,0835, -55.4136,  84.9406,     4752,   3559.5,   0.2791,  34.6758,2,  34.6751,2,    220.2,2,    220.3,2,   128.43,2,     0.00,2,    32.64,2,     0.00,2,     2.23,2,    0.871,2,    0.443,2,    0.054,2,   0.2960,2,   2256.5,3,   2355.5,2,   7.5939,2,    25.02,     -999,1,   0.2797,2,     -999,9,     -999,     -999,9,     -999,9,     -999,9,     -999,9,     -999,9,     -999,1,   0.0180,1,   4.6237,1,     13.2,2,     -999,9,20240315,0904, -55.4134,  84.9407,     -999,9,     -999,9,-999          ,9,-999          ,9,-999          ,9