BOTTLE,20240417CCHHYDRO
EXPOCODE,SECT_ID,STNNBR,CASTNO,SAMPNO,BTLNBR,BTLNBR_FLAG_W,DATE,TIME,LATITUDE,LONGITUDE,DEPTH,CTDPRS,CTDTMP,CTDSAL,CTDSAL_FLAG_W,SALNTY,SALNTY_FLAG_W,CTDOXY,CTDOXY_FLAG_W,OXYGEN,OXYGEN_FLAG_W,SILCAT,SILCAT_FLAG_W,NH4,NH4_FLAG_W,NITRAT,NITRAT_FLAG_W,NITRIT,NITRIT_FLAG_W,PHSPHT,PHSPHT_FLAG_W,CFC-11,CFC-11_FLAG_W,CFC-12,CFC-12_FLAG_W,CFC113,CFC113_FLAG_W,SF6,SF6_FLAG_W,TCARBN,TCARBN_FLAG_W,ALKALI,ALKALI_FLAG_W,PH_TOT,PH_TOT_FLAG_W,PH_TMP,DOC,DOC_FLAG_W,REFTMP,REFTMP_FLAG_W,DELC14,DELC14_FLAG_W,C14ERR,POC,POC_FLAG_W,PON,PON_FLAG_W,POP,POP_FLAG_W,PCOD,PCOD_FLAG_W,DOP,DOP_FLAG_W,TDN,TDN_FLAG_W,CTDFLUOR,CTDFLUOR_FLAG_W,CTDXMISS,CTDXMISS_FLAG_W,N2O,N2O_FLAG_W,ARGON,ARGON_FLAG_W,BTL_DATE,BTL_TIME,BTL_LAT,BTL_LON,KRYPTON,KRYPTON_FLAG_W,XENON,XENON_FLAG_W,HPLC,HPLC_FLAG_W,DNA,DNA_FLAG_W,FCM,FCM_FLAG_W
,,,,,,,,,,,METERS,DBAR,ITS-90,PSS-78,,PSS-78,,UMOL/KG,,UMOL/KG,,UMOL/KG,,UMOL/KG,,UMOL/KG,,UMOL/KG,,UMOL/KG,,PMOL/KG,,PMOL/KG,,PMOL/KG,,FMOL/KG,,UMOL/KG,,UMOL/KG,,,,DEG C,UMOL/KG,,ITS-90,,/MILLE,,/MILLE,UG/KG,,UG/KG,,UG/L,,UG/L,,UMOL/KG,,UMOL/KG,,VOLTS,,VOLTS,,NMOL/KG,,UMOL/L,,,,,,NMOL/L,,NMOL/L,,,,,,,
325020240221  ,I08        ,35      ,  1,5          ,5          ,2,20240317,2102, -50.6957,  89.8870,     3999,   3151.2,   0.8359,  34.7045,2,  34.7052,2,    209.9,2,    209.7,2,   119.38,2,     0.02,2,    31.79,2,     0.00,2,     2.25,2,    0.605,2,    0.232,2,    0.018,4,   0.0219,2,   2255.6,3,   2358.8,2,   7.6034,2,    24.99,     -999,9,   0.8357,2,     -999,9,     -999,     -999,9,     -999,9,     -999,9,     -999,9,     -999,9,     -999,9,   0.0183,1,   4.6325,1,     28.8,2,     -999,9,20240317,2123, -50.6957,  89.8870,     -999,9,     -999,9,-999          ,9,-999          ,9,-999          ,9
325020240221  ,I08        ,35      ,  1,4          ,4          ,2,20240317,2102, -50.6957,  89.8870,     3999,   3458.4,   0.6126,  34.6922,2,  34.6928,2,    213.9,2,    213.5,2,   124.75,2,     0.00,2,    32.18,2,     0.00,2,     2.27,2,    0.805,2,    0.318,2,    0.031,4,   0.0563,2,   2258.4,3,   2357.6,2,   7.5999,6,    25.00,     -999,9,   0.6133,2,     -999,9,     -999,     -999,9,     -999,9,     -999,9,     -999,9,     -999,9,     -999,9,   0.0183,1,   4.6313,1,     28.8,2,     -999,9,20240317,2116, -50.6957,  89.8870,     -999,9,     -999,9,-999          ,9,-999          ,9,-999          ,9
325020240221  ,I08        ,35      ,  1,3          ,3          ,2,20240317,2102, -50.6957,  89.8870,     3999,   3764.8,   0.4832,  34.6845,2,  34.6842,2,    216.6,2,    216.7,2,   128.07,2,     0.00,2,    32.35,2,     0.00,2,     2.28,2,    1.048,2,    0.387,2,    0.047,4,   0.2104,2,   2261.0,3,   2356.9,2,   7.5976,2,    24.99,     -999,9,   0.4831,2,     -999,9,     -999,     -999,9,     -999,9,     -999,9,     -999,9,     -999,9,     -999,9,   0.0182,1,   4.6173,1,     29.2,2,     -999,9,20240317,2110, -50.6957,  89.8870,     -999,9,     -999,9,-999          ,9,-999          ,9,-999          ,9
325020240221  ,I08        ,35      ,  1,2          ,2          ,2,20240317,2102, -50.6957,  89.8870,     3999,   3948.8,   0.3867,  34.6792,2,  34.6791,2,    219.0,2,    219.0,2,   129.53,2,     0.02,2,    32.44,2,     0.00,2,     2.26,2,    1.166,2,    0.439,2,    0.052,4,   0.2841,2,   2263.0,3,   2357.7,2,   7.5957,2,    24.98,     -999,9,   0.3867,2,     -999,9,     -999,     -999,9,     -999,9,     -999,9,     -999,9,     -999,9,     -999,9,   0.0183,1,   4.5888,1,     28.9,2,     -999,9,20240317,2105, -50.6957,  89.8870,     -999,9,     -999,9,-999          ,9,-999          ,9,-999          ,9
325020240221  ,I08        ,35      ,  1,1          ,1          ,2,20240317,2102, -50.6957,  89.8870,     3999,   4062.7,   0.3659,  34.6773,2,  34.6773,2,    219.5,2,    220.1,2,   130.41,2,     0.00,2,    32.55,2,     0.00,2,     2.28,2,    1.033,2,    0.455,2,    0.030,4,   0.2656,2,   2259.0,3,   2357.4,2,   7.5953,2,    25.01,     -999,9,   0.3655,2,     -999,9,     -999,     -999,9,     -999,9,     -999,9,     -999,9,     -999,9,     -999,9,   0.0183,1,   4.5378,1,     19.1,2,     -999,9,20240317,2102, -50.6957,  89.8870,     -999,9,     -999,9,-999          ,9,-999          ,9,-999          ,9