BOTTLE,20240417CCHHYDRO
EXPOCODE,SECT_ID,STNNBR,CASTNO,SAMPNO,BTLNBR,BTLNBR_FLAG_W,DATE,TIME,LATITUDE,LONGITUDE,DEPTH,CTDPRS,CTDTMP,CTDSAL,CTDSAL_FLAG_W,SALNTY,SALNTY_FLAG_W,CTDOXY,CTDOXY_FLAG_W,OXYGEN,OXYGEN_FLAG_W,SILCAT,SILCAT_FLAG_W,NH4,NH4_FLAG_W,NITRAT,NITRAT_FLAG_W,NITRIT,NITRIT_FLAG_W,PHSPHT,PHSPHT_FLAG_W,CFC-11,CFC-11_FLAG_W,CFC-12,CFC-12_FLAG_W,CFC113,CFC113_FLAG_W,SF6,SF6_FLAG_W,TCARBN,TCARBN_FLAG_W,ALKALI,ALKALI_FLAG_W,PH_TOT,PH_TOT_FLAG_W,PH_TMP,DOC,DOC_FLAG_W,REFTMP,REFTMP_FLAG_W,DELC14,DELC14_FLAG_W,C14ERR,POC,POC_FLAG_W,PON,PON_FLAG_W,POP,POP_FLAG_W,PCOD,PCOD_FLAG_W,DOP,DOP_FLAG_W,TDN,TDN_FLAG_W,CTDFLUOR,CTDFLUOR_FLAG_W,CTDXMISS,CTDXMISS_FLAG_W,N2O,N2O_FLAG_W,ARGON,ARGON_FLAG_W,BTL_DATE,BTL_TIME,BTL_LAT,BTL_LON,KRYPTON,KRYPTON_FLAG_W,XENON,XENON_FLAG_W,HPLC,HPLC_FLAG_W,DNA,DNA_FLAG_W,FCM,FCM_FLAG_W
,,,,,,,,,,,METERS,DBAR,ITS-90,PSS-78,,PSS-78,,UMOL/KG,,UMOL/KG,,UMOL/KG,,UMOL/KG,,UMOL/KG,,UMOL/KG,,UMOL/KG,,PMOL/KG,,PMOL/KG,,PMOL/KG,,FMOL/KG,,UMOL/KG,,UMOL/KG,,,,DEG C,UMOL/KG,,ITS-90,,/MILLE,,/MILLE,UG/KG,,UG/KG,,UG/L,,UG/L,,UMOL/KG,,UMOL/KG,,VOLTS,,VOLTS,,NMOL/KG,,UMOL/L,,,,,,NMOL/L,,NMOL/L,,,,,,,
325020240221  ,I08        ,10      ,  1,5          ,5          ,2,20240305,2330, -64.9202,  78.9486,     3481,   2846.2,   0.0275,  34.6677,2,  34.6688,2,    225.5,2,    225.4,2,   127.97,2,     0.00,2,    32.17,2,     0.00,2,     2.22,2,    1.030,2,    0.490,2,    0.057,2,   0.3030,2,   2256.4,3,   2353.7,2,   7.5954,6,    24.99,     -999,1,   0.0265,2,     -999,9,     -999,     -999,9,     -999,9,     -999,9,     -999,9,     -999,9,     -999,1,   0.0182,1,   4.6006,1,     13.3,2,     -999,9,20240305,2350, -64.9203,  78.9486,     -999,9,     -999,9,-999          ,9,-999          ,9,-999          ,9
325020240221  ,I08        ,10      ,  1,4          ,4          ,4,20240305,2330, -64.9202,  78.9486,     3481,   3052.8,  -0.0258,  34.6649,3,     -999,9,    228.0,3,     -999,9,     -999,9,     -999,9,     -999,9,     -999,9,     -999,9,     -999,9,     -999,9,     -999,9,     -999,9,     -999,9,     -999,9,     -999,9,     -999,     -999,9,  -0.0255,3,     -999,9,     -999,     -999,9,     -999,9,     -999,9,     -999,9,     -999,9,     -999,9,   0.0183,1,   4.6006,1,     -999,9,     -999,9,20240305,2345, -64.9202,  78.9486,     -999,9,     -999,9,-999          ,9,-999          ,9,-999          ,9
325020240221  ,I08        ,10      ,  1,3          ,3          ,2,20240305,2330, -64.9202,  78.9486,     3481,   3257.0,  -0.0766,  34.6611,2,  34.6614,2,    231.6,2,    231.7,2,   124.36,2,     0.00,2,    32.04,2,     0.00,2,     2.22,2,    1.695,2,    0.809,2,    0.101,2,   0.7260,2,   2255.5,3,   2353.0,2,   7.5933,2,    24.97,     -999,1,  -0.0773,2,     -999,9,     -999,     -999,9,     -999,9,     -999,9,     -999,9,     -999,9,     -999,1,   0.0183,1,   4.6008,1,     13.2,2,     -999,9,20240305,2340, -64.9202,  78.9486,     -999,9,     -999,9,-999          ,9,-999          ,9,-999          ,9
325020240221  ,I08        ,10      ,  1,2          ,2          ,2,20240305,2330, -64.9202,  78.9486,     3481,   3388.3,  -0.1221,  34.6585,2,  34.6582,2,    232.8,2,    232.8,2,   126.80,2,     0.00,2,    32.19,2,     0.00,2,     2.25,2,    1.663,2,    0.851,2,    0.114,2,   0.7260,2,   2256.1,3,   2353.3,2,   7.5905,2,    24.97,     -999,1,  -0.1229,2,     -999,9,     -999,     -999,9,     -999,9,     -999,9,     -999,9,     -999,9,     -999,1,   0.0183,1,   4.6016,1,     13.0,2,     -999,9,20240305,2335, -64.9202,  78.9486,     -999,9,     -999,9,-999          ,9,-999          ,9,-999          ,9
325020240221  ,I08        ,10      ,  1,1          ,1          ,2,20240305,2330, -64.9202,  78.9486,     3481,   3535.1,  -0.1379,  34.6594,2,  34.6588,2,    230.7,2,    230.7,2,   145.44,2,     0.00,2,    32.73,2,     0.00,2,     2.27,2,    0.908,2,    0.437,2,    0.043,2,   0.2770,2,   2257.3,3,   2354.5,2,   7.5934,2,    25.00,     -999,1,  -0.1388,2,     -999,9,     -999,     -999,9,     -999,9,     -999,9,     -999,9,     -999,9,     -999,1,   0.0183,1,   4.6020,1,      8.7,4,     -999,9,20240305,2330, -64.9202,  78.9486,     -999,9,     -999,9,-999          ,9,-999          ,9,-999          ,9