BOTTLE,20240417CCHHYDRO
EXPOCODE,SECT_ID,STNNBR,CASTNO,SAMPNO,BTLNBR,BTLNBR_FLAG_W,DATE,TIME,LATITUDE,LONGITUDE,DEPTH,CTDPRS,CTDTMP,CTDSAL,CTDSAL_FLAG_W,SALNTY,SALNTY_FLAG_W,CTDOXY,CTDOXY_FLAG_W,OXYGEN,OXYGEN_FLAG_W,SILCAT,SILCAT_FLAG_W,NH4,NH4_FLAG_W,NITRAT,NITRAT_FLAG_W,NITRIT,NITRIT_FLAG_W,PHSPHT,PHSPHT_FLAG_W,CFC-11,CFC-11_FLAG_W,CFC-12,CFC-12_FLAG_W,CFC113,CFC113_FLAG_W,SF6,SF6_FLAG_W,TCARBN,TCARBN_FLAG_W,ALKALI,ALKALI_FLAG_W,PH_TOT,PH_TOT_FLAG_W,PH_TMP,DOC,DOC_FLAG_W,REFTMP,REFTMP_FLAG_W,DELC14,DELC14_FLAG_W,C14ERR,POC,POC_FLAG_W,PON,PON_FLAG_W,POP,POP_FLAG_W,PCOD,PCOD_FLAG_W,DOP,DOP_FLAG_W,TDN,TDN_FLAG_W,CTDFLUOR,CTDFLUOR_FLAG_W,CTDXMISS,CTDXMISS_FLAG_W,N2O,N2O_FLAG_W,ARGON,ARGON_FLAG_W,BTL_DATE,BTL_TIME,BTL_LAT,BTL_LON,KRYPTON,KRYPTON_FLAG_W,XENON,XENON_FLAG_W,HPLC,HPLC_FLAG_W,DNA,DNA_FLAG_W,FCM,FCM_FLAG_W
,,,,,,,,,,,METERS,DBAR,ITS-90,PSS-78,,PSS-78,,UMOL/KG,,UMOL/KG,,UMOL/KG,,UMOL/KG,,UMOL/KG,,UMOL/KG,,UMOL/KG,,PMOL/KG,,PMOL/KG,,PMOL/KG,,FMOL/KG,,UMOL/KG,,UMOL/KG,,,,DEG C,UMOL/KG,,ITS-90,,/MILLE,,/MILLE,UG/KG,,UG/KG,,UG/L,,UG/L,,UMOL/KG,,UMOL/KG,,VOLTS,,VOLTS,,NMOL/KG,,UMOL/L,,,,,,NMOL/L,,NMOL/L,,,,,,,
325020240221  ,I08        ,12      ,  1,36         ,36         ,2,20240306,1525, -64.0457,  81.0745,     3652,      2.1,  -0.6997,  33.1898,2,  33.1973,2,    348.6,2,    348.8,2,    32.54,2,     0.06,2,    21.74,2,     0.22,2,     1.43,2,    5.576,2,    2.830,2,    0.404,2,   5.1980,2,   2112.1,3,   2254.4,2,   7.7342,2,    24.99,     -999,1,  -0.6948,2,     -999,1,     -999,     -999,9,     -999,9,     -999,9,     -999,9,     -999,9,     -999,1,   0.3547,1,   4.0494,1,     11.3,2,     -999,9,20240306,1720, -64.0457,  81.0745,     -999,9,     -999,9,-999          ,9,-999          ,9,-999          ,9
325020240221  ,I08        ,12      ,  1,35         ,35         ,2,20240306,1525, -64.0457,  81.0745,     3652,     19.9,   0.1316,  33.5519,2,  33.6619,3,    331.5,2,    332.2,2,    32.93,2,     0.03,2,    23.83,2,     0.23,2,     1.63,2,    5.105,2,    2.758,2,    0.374,2,   4.7180,2,   2148.9,3,   2284.2,2,   7.7069,2,    24.97,     -999,1,   0.1159,3,     -999,1,     -999,     -999,9,     -999,9,     -999,9,     -999,9,     -999,9,     -999,1,   0.3459,1,   4.1027,1,     11.2,2,     -999,9,20240306,1718, -64.0457,  81.0745,     -999,9,     -999,9,-999          ,9,-999          ,9,-999          ,9
325020240221  ,I08        ,12      ,  1,34         ,34         ,2,20240306,1525, -64.0457,  81.0745,     3652,     41.2,   0.8252,  33.9050,3,  33.9414,2,    312.8,2,    312.1,2,    41.51,2,     0.16,2,    26.58,2,     0.24,2,     1.87,2,    4.691,2,    2.610,2,    0.340,2,   4.1090,2,   2179.2,3,   2296.2,2,   7.6633,2,    25.02,     -999,1,   0.7996,2,     -999,1,     -999,     -999,9,     -999,9,     -999,9,     -999,9,     -999,9,     -999,1,   0.2412,1,   4.1993,1,     12.1,2,     -999,9,20240306,1716, -64.0457,  81.0745,     -999,9,     -999,9,-999          ,9,-999          ,9,-999          ,9
325020240221  ,I08        ,12      ,  1,33         ,33         ,2,20240306,1525, -64.0457,  81.0745,     3652,     65.8,   1.0226,  34.4371,2,  34.4479,2,    199.2,2,    199.6,2,    74.01,2,     0.19,2,    33.64,2,     0.28,2,     2.42,2,    2.010,2,    1.048,2,    0.141,2,   1.1200,2,   2253.3,3,   2325.6,2,   7.5346,2,    24.98,     -999,1,   0.9870,2,     -999,1,     -999,     -999,9,     -999,9,     -999,9,     -999,9,     -999,9,     -999,1,   0.0344,1,   4.5997,1,     15.5,2,     -999,9,20240306,1714, -64.0457,  81.0745,     -999,9,     -999,9,-999          ,9,-999          ,9,-999          ,9
325020240221  ,I08        ,12      ,  1,32         ,32         ,2,20240306,1525, -64.0457,  81.0745,     3652,     91.0,   1.6803,  34.5486,2,  34.5631,2,    173.5,2,    172.4,2,    81.33,2,     0.00,2,    34.83,2,     0.04,2,     2.45,2,    1.327,2,    0.626,2,    0.077,2,   0.6080,2,   2262.5,3,   2334.5,2,   7.5234,6,    24.97,     -999,1,   1.7000,2,     -999,1,     -999,     -999,9,     -999,9,     -999,9,     -999,9,     -999,9,     -999,1,   0.0220,1,   4.6264,1,     15.9,2,     -999,9,20240306,1713, -64.0457,  81.0745,     -999,9,     -999,9,-999          ,9,-999          ,9,-999          ,9
325020240221  ,I08        ,12      ,  1,31         ,31         ,2,20240306,1525, -64.0457,  81.0745,     3652,    116.8,   1.7834,  34.5883,2,  34.5897,2,    171.6,2,    171.7,2,    82.98,2,     0.00,2,    34.68,2,     0.00,2,     2.43,2,    1.172,2,    0.528,2,    0.069,2,   0.5600,2,   2262.4,3,   2334.9,2,   7.5283,2,    24.99,     -999,1,   1.7819,2,     -999,1,     -999,     -999,9,     -999,9,     -999,9,     -999,9,     -999,9,     -999,1,   0.0198,1,   4.6274,1,     16.0,2,     -999,9,20240306,1711, -64.0457,  81.0745,     -999,9,     -999,9,-999          ,9,-999          ,9,-999          ,9
325020240221  ,I08        ,12      ,  1,30         ,30         ,2,20240306,1525, -64.0457,  81.0745,     3652,    139.7,   1.8616,  34.6126,2,  34.6134,2,    170.4,2,    169.8,2,    84.45,2,     0.00,2,    34.34,2,     0.00,2,     2.43,2,    0.994,2,    0.476,2,    0.056,2,   0.4350,2,   2263.3,3,   2338.5,2,   7.5306,2,    24.99,     -999,1,   1.8609,2,     -999,1,     -999,     -999,9,     -999,9,     -999,9,     -999,9,     -999,9,     -999,1,   0.0195,1,   4.6287,1,     16.2,2,     -999,9,20240306,1709, -64.0457,  81.0745,     -999,9,     -999,9,-999          ,9,-999          ,9,-999          ,9
325020240221  ,I08        ,12      ,  1,29         ,29         ,2,20240306,1525, -64.0457,  81.0745,     3652,    185.7,   1.9553,  34.6453,2,  34.6464,2,    169.9,2,    169.1,2,    85.52,2,     0.00,2,    33.76,2,     0.00,2,     2.40,2,    0.760,2,    0.371,2,    0.045,2,   0.3140,2,   2261.5,3,   2340.1,2,   7.5405,2,    24.97,     -999,1,   1.9566,2,     -999,1,     -999,     -999,9,     -999,9,     -999,9,     -999,9,     -999,9,     -999,1,   0.0177,1,   4.6290,1,     15.9,2,     -999,9,20240306,1707, -64.0457,  81.0745,     -999,9,     -999,9,-999          ,9,-999          ,9,-999          ,9
325020240221  ,I08        ,12      ,  1,28         ,28         ,2,20240306,1525, -64.0457,  81.0745,     3652,    236.8,   1.9763,  34.6749,2,  34.6753,2,    172.2,2,    171.6,2,    86.10,2,     0.00,2,    32.97,2,     0.00,2,     2.34,2,    0.598,2,    0.290,2,    0.027,2,   0.0980,2,     -999,9,     -999,9,     -999,9,     -999,     -999,1,   1.9761,2,     -999,1,     -999,     -999,9,     -999,9,     -999,9,     -999,9,     -999,9,     -999,1,   0.0176,1,   4.6290,1,     15.0,2,     -999,9,20240306,1705, -64.0457,  81.0744,     -999,9,     -999,9,-999          ,9,-999          ,9,-999          ,9
325020240221  ,I08        ,12      ,  1,27         ,27         ,2,20240306,1525, -64.0457,  81.0745,     3652,    288.5,   1.9668,  34.6921,2,  34.6928,2,    175.1,2,    175.2,2,    86.10,2,     0.00,2,    32.46,2,     0.00,2,     2.27,2,    0.527,2,    0.252,2,    0.024,2,   0.0710,2,     -999,9,     -999,9,     -999,9,     -999,     -999,1,   1.9667,2,     -999,1,     -999,     -999,9,     -999,9,     -999,9,     -999,9,     -999,9,     -999,1,   0.0178,1,   4.6287,1,     14.5,2,     -999,9,20240306,1704, -64.0457,  81.0745,     -999,9,     -999,9,-999          ,9,-999          ,9,-999          ,9
325020240221  ,I08        ,12      ,  1,26         ,26         ,2,20240306,1525, -64.0457,  81.0745,     3652,    338.9,   1.9318,  34.7025,2,  34.7030,2,    177.5,2,    177.1,2,    86.98,2,     0.00,2,    32.26,2,     0.00,2,     2.23,2,    0.500,2,    0.233,2,    0.022,2,   0.0430,2,   2257.6,3,   2345.3,2,   7.5670,6,    24.99,     -999,1,   1.9316,2,     -999,1,     -999,     -999,9,     -999,9,     -999,9,     -999,9,     -999,9,     -999,1,   0.0179,1,   4.6287,1,     14.3,2,     -999,9,20240306,1701, -64.0457,  81.0744,     -999,9,     -999,9,-999          ,9,-999          ,9,-999          ,9
325020240221  ,I08        ,12      ,  1,25         ,25         ,2,20240306,1525, -64.0457,  81.0745,     3652,    387.8,   1.9065,  34.7150,2,  34.7150,2,    180.1,2,    180.2,2,    87.17,2,     0.00,2,    31.82,2,     0.00,2,     2.21,2,    0.439,2,    0.201,2,    0.021,2,   0.0500,2,     -999,9,     -999,9,     -999,9,     -999,     -999,1,   1.9062,2,     -999,1,     -999,     -999,9,     -999,9,     -999,9,     -999,9,     -999,9,     -999,1,   0.0176,1,   4.6276,1,     14.1,2,     -999,9,20240306,1659, -64.0457,  81.0745,     -999,9,     -999,9,-999          ,9,-999          ,9,-999          ,9
325020240221  ,I08        ,12      ,  1,24         ,24         ,2,20240306,1525, -64.0457,  81.0745,     3652,    438.0,   1.8636,  34.7226,2,  34.7225,2,    182.8,2,    183.1,2,    87.47,2,     0.00,2,    31.55,2,     0.00,2,     2.18,2,    0.421,2,    0.197,2,    0.016,2,   0.1000,2,   2257.2,3,   2346.8,6,   7.5824,2,    24.97,     -999,1,   1.8642,2,     -999,1,     -999,     -999,9,     -999,9,     -999,9,     -999,9,     -999,9,     -999,1,   0.0178,1,   4.6274,1,     13.9,2,     -999,9,20240306,1657, -64.0457,  81.0745,     -999,9,     -999,9,-999          ,9,-999          ,9,-999          ,9
325020240221  ,I08        ,12      ,  1,23         ,37         ,2,20240306,1525, -64.0457,  81.0745,     3652,    488.6,   1.8363,  34.7272,2,  34.7276,2,    184.8,2,    184.8,2,    88.34,2,     0.00,2,    31.41,2,     0.00,2,     2.18,2,    0.379,2,    0.181,2,    0.016,2,   0.0420,2,     -999,9,     -999,9,     -999,9,     -999,     -999,1,   1.8364,2,     -999,1,     -999,     -999,9,     -999,9,     -999,9,     -999,9,     -999,9,     -999,1,   0.0177,1,   4.6264,1,     13.7,2,     -999,9,20240306,1655, -64.0457,  81.0745,     -999,9,     -999,9,-999          ,9,-999          ,9,-999          ,9
325020240221  ,I08        ,12      ,  1,22         ,22         ,2,20240306,1525, -64.0457,  81.0745,     3652,    569.0,   1.7775,  34.7339,2,  34.7355,2,    187.9,2,    188.4,2,    89.32,2,     0.00,2,    31.13,2,     0.00,2,     2.15,2,    0.358,2,    0.171,2,    0.015,2,   0.1460,2,   2251.0,3,   2352.1,2,   7.5931,2,    25.00,     -999,1,   1.7769,2,     -999,1,     -999,     -999,9,     -999,9,     -999,9,     -999,9,     -999,9,     -999,1,   0.0176,1,   4.6263,1,     13.5,2,     -999,9,20240306,1653, -64.0457,  81.0745,     -999,9,     -999,9,-999          ,9,-999          ,9,-999          ,9
325020240221  ,I08        ,12      ,  1,21         ,21         ,2,20240306,1525, -64.0457,  81.0745,     3652,    671.4,   1.6939,  34.7402,2,  34.7410,2,    192.1,2,    192.5,2,    90.49,2,     0.00,2,    30.78,2,     0.00,2,     2.13,2,    0.325,2,    0.160,2,    0.014,2,   0.1030,2,     -999,9,     -999,9,     -999,9,     -999,     -999,1,   1.6931,2,     -999,1,     -999,     -999,9,     -999,9,     -999,9,     -999,9,     -999,9,     -999,1,   0.0177,1,   4.6247,1,     13.3,2,     -999,9,20240306,1649, -64.0457,  81.0745,     -999,9,     -999,9,-999          ,9,-999          ,9,-999          ,9
325020240221  ,I08        ,12      ,  1,20         ,20         ,2,20240306,1525, -64.0457,  81.0745,     3652,    772.3,   1.5976,  34.7408,2,  34.7421,2,    194.9,2,    195.0,2,    92.15,2,     0.00,2,    30.70,2,     0.00,2,     2.13,2,    0.327,2,    0.153,2,    0.012,2,   0.0460,2,   2250.8,3,   2353.6,2,   7.6041,2,    24.98,     -999,1,   1.5972,2,     -999,1,     -999,     -999,9,     -999,9,     -999,9,     -999,9,     -999,9,     -999,1,   0.0176,1,   4.6227,1,     13.1,2,     -999,9,20240306,1646, -64.0457,  81.0745,     -999,9,     -999,9,-999          ,9,-999          ,9,-999          ,9
325020240221  ,I08        ,12      ,  1,19         ,19         ,2,20240306,1525, -64.0457,  81.0745,     3652,    874.8,   1.4940,  34.7400,2,  34.7412,2,    197.4,2,    197.8,2,    94.01,2,     0.00,2,    30.65,2,     0.00,2,     2.14,2,    0.336,2,    0.151,2,    0.014,2,   0.0480,2,     -999,9,     -999,9,     -999,9,     -999,     -999,1,   1.4934,2,     -999,1,     -999,     -999,9,     -999,9,     -999,9,     -999,9,     -999,9,     -999,1,   0.0189,1,   4.6215,1,      9.4,2,     -999,9,20240306,1643, -64.0457,  81.0745,     -999,9,     -999,9,-999          ,9,-999          ,9,-999          ,9
325020240221  ,I08        ,12      ,  1,18         ,18         ,2,20240306,1525, -64.0457,  81.0745,     3652,    976.3,   1.3528,  34.7336,2,  34.7347,2,    199.1,2,    199.2,2,    97.52,2,     0.00,2,    30.84,2,     0.00,2,     2.16,2,    0.366,2,    0.172,2,    0.014,2,   0.1090,2,   2252.0,3,   2356.2,2,   7.6055,2,    24.97,     -999,1,   1.3521,2,     -999,1,     -999,     -999,9,     -999,9,     -999,9,     -999,9,     -999,9,     -999,1,   0.0185,1,   4.6201,1,     13.0,2,     -999,9,20240306,1640, -64.0457,  81.0745,     -999,9,     -999,9,-999          ,9,-999          ,9,-999          ,9
325020240221  ,I08        ,12      ,  1,17         ,17         ,2,20240306,1525, -64.0457,  81.0745,     3652,   1078.6,   1.2814,  34.7323,2,  34.7337,2,    200.9,2,    201.0,2,    99.67,2,     0.00,2,    30.72,2,     0.00,2,     2.17,2,    0.348,2,    0.159,2,    0.013,2,   0.0910,2,     -999,9,     -999,9,     -999,9,     -999,     -999,1,   1.2807,2,     -999,1,     -999,     -999,9,     -999,9,     -999,9,     -999,9,     -999,9,     -999,1,   0.0179,1,   4.6196,1,     13.2,2,     -999,9,20240306,1636, -64.0457,  81.0745,     -999,9,     -999,9,-999          ,9,-999          ,9,-999          ,9
325020240221  ,I08        ,12      ,  1,16         ,16         ,2,20240306,1525, -64.0457,  81.0745,     3652,   1179.4,   1.1926,  34.7285,2,  34.7292,2,    202.2,2,    202.2,2,   101.72,2,     0.00,2,    30.75,2,     0.00,2,     2.18,2,    0.370,2,    0.166,2,    0.013,2,   0.0700,2,   2252.0,3,   2353.7,2,   7.6068,2,    24.97,     -999,1,   1.1929,2,     -999,1,     -999,     -999,9,     -999,9,     -999,9,     -999,9,     -999,9,     -999,1,   0.0179,1,   4.6177,1,     13.1,2,     -999,9,20240306,1633, -64.0457,  81.0745,     -999,9,     -999,9,-999          ,9,-999          ,9,-999          ,9
325020240221  ,I08        ,12      ,  1,15         ,15         ,2,20240306,1525, -64.0457,  81.0745,     3652,   1281.1,   1.0929,  34.7233,2,  34.7250,2,    203.2,2,    203.0,2,   104.74,2,     0.03,2,    30.92,2,     0.00,2,     2.21,2,    0.376,2,    0.170,2,    0.013,2,  -0.0010,2,   2253.4,3,   2355.6,2,   7.6057,6,    25.00,     -999,1,   1.0924,2,     -999,1,     -999,     -999,9,     -999,9,     -999,9,     -999,9,     -999,9,     -999,1,   0.0179,1,   4.6167,1,     13.1,2,     -999,9,20240306,1630, -64.0457,  81.0745,     -999,9,     -999,9,-999          ,9,-999          ,9,-999          ,9
325020240221  ,I08        ,12      ,  1,14         ,14         ,2,20240306,1525, -64.0457,  81.0745,     3652,   1384.3,   0.9978,  34.7178,2,  34.7189,2,    203.9,2,    203.8,2,   107.48,2,     0.02,2,    31.00,2,     0.00,2,     2.20,2,    0.392,2,    0.180,2,    0.014,2,   0.0870,2,   2256.8,3,   2354.4,2,   7.6031,2,    24.99,     -999,1,   0.9970,2,     -999,1,     -999,     -999,9,     -999,9,     -999,9,     -999,9,     -999,9,     -999,1,   0.0181,1,   4.6159,1,     13.1,2,     -999,9,20240306,1626, -64.0457,  81.0745,     -999,9,     -999,9,-999          ,9,-999          ,9,-999          ,9
325020240221  ,I08        ,12      ,  1,13         ,13         ,2,20240306,1525, -64.0457,  81.0745,     3652,   1484.0,   0.9064,  34.7123,2,  34.7142,2,    204.6,2,    204.7,2,   110.21,2,     0.02,2,    31.20,2,     0.00,2,     2.20,2,    0.424,2,    0.189,2,    0.013,2,   0.0840,2,     -999,9,     -999,9,     -999,9,     -999,     -999,1,   0.9057,2,     -999,1,     -999,     -999,9,     -999,9,     -999,9,     -999,9,     -999,9,     -999,1,   0.0181,1,   4.6149,1,     13.3,2,     -999,9,20240306,1623, -64.0457,  81.0745,     -999,9,     -999,9,-999          ,9,-999          ,9,-999          ,9
325020240221  ,I08        ,12      ,  1,12         ,12         ,2,20240306,1525, -64.0457,  81.0745,     3652,   1585.2,   0.8422,  34.7100,2,  34.7119,2,    206.1,2,    205.7,2,   112.26,2,     0.02,2,    31.31,2,     0.00,2,     2.22,2,    0.411,2,    0.183,2,    0.013,2,   0.0160,2,   2255.5,3,   2354.9,2,   7.6017,2,    24.96,     -999,1,   0.8407,2,     -999,1,     -999,     -999,9,     -999,9,     -999,9,     -999,9,     -999,9,     -999,1,   0.0182,1,   4.6141,1,     13.2,2,     -999,9,20240306,1620, -64.0457,  81.0745,     -999,9,     -999,9,-999          ,9,-999          ,9,-999          ,9
325020240221  ,I08        ,12      ,  1,11         ,11         ,2,20240306,1525, -64.0457,  81.0745,     3652,   1687.5,   0.7533,  34.7044,2,  34.7064,2,    206.3,2,    206.0,2,   115.09,2,     0.00,2,    31.70,2,     0.00,2,     2.22,2,    0.441,2,    0.193,2,    0.014,2,   0.1260,2,     -999,9,     -999,9,     -999,9,     -999,     -999,1,   0.7522,2,     -999,1,     -999,     -999,9,     -999,9,     -999,9,     -999,9,     -999,9,     -999,1,   0.0182,1,   4.6129,1,     13.1,2,     -999,9,20240306,1616, -64.0457,  81.0745,     -999,9,     -999,9,-999          ,9,-999          ,9,-999          ,9
325020240221  ,I08        ,12      ,  1,10         ,10         ,2,20240306,1525, -64.0457,  81.0745,     3652,   1788.8,   0.6813,  34.7004,2,  34.7019,2,    206.6,2,    206.6,2,   117.34,2,     0.00,2,    31.99,2,     0.00,2,     2.22,2,    0.454,2,    0.194,2,    0.015,2,   0.1130,2,   2258.7,3,   2359.2,2,   7.5947,2,    24.97,     -999,1,   0.6808,2,     -999,1,     -999,     -999,9,     -999,9,     -999,9,     -999,9,     -999,9,     -999,1,   0.0182,1,   4.6117,1,     13.1,2,     -999,9,20240306,1613, -64.0457,  81.0745,     -999,9,     -999,9,-999          ,9,-999          ,9,-999          ,9
325020240221  ,I08        ,12      ,  1,9          ,9          ,2,20240306,1525, -64.0457,  81.0745,     3652,   1962.0,   0.5828,  34.6942,2,  34.6958,2,    207.7,2,    207.7,2,   120.07,2,     0.03,2,    32.19,2,     0.00,2,     2.23,2,    0.464,2,    0.211,2,    0.014,2,   0.0410,2,     -999,9,     -999,9,     -999,9,     -999,     -999,1,   0.5824,2,     -999,1,     -999,     -999,9,     -999,9,     -999,9,     -999,9,     -999,9,     -999,1,   0.0183,1,   4.6116,1,     13.0,2,     -999,9,20240306,1608, -64.0457,  81.0745,     -999,9,     -999,9,-999          ,9,-999          ,9,-999          ,9
325020240221  ,I08        ,12      ,  1,8          ,8          ,2,20240306,1525, -64.0457,  81.0745,     3652,   2167.7,   0.4776,  34.6886,2,  34.6891,2,    209.5,2,    209.6,2,   123.30,2,     0.02,2,    32.39,2,     0.00,2,     2.24,2,    0.489,6,    0.218,6,    0.015,6,   0.1275,6,   2260.1,3,   2356.8,2,   7.5913,2,    24.99,     -999,1,   0.4772,2,     -999,1,     -999,     -999,9,     -999,9,     -999,9,     -999,9,     -999,9,     -999,1,   0.0182,1,   4.6107,1,     13.1,6,     -999,9,20240306,1603, -64.0457,  81.0745,     -999,9,     -999,9,-999          ,9,-999          ,9,-999          ,9
325020240221  ,I08        ,12      ,  1,7          ,7          ,2,20240306,1525, -64.0457,  81.0745,     3652,   2370.7,   0.3865,  34.6837,2,  34.6844,2,    211.9,2,    212.1,2,   125.25,2,     0.03,2,    32.47,2,     0.00,2,     2.23,2,    0.514,2,    0.226,2,    0.016,2,   0.0840,2,     -999,9,     -999,9,     -999,9,     -999,     -999,1,   0.3857,2,     -999,1,     -999,     -999,9,     -999,9,     -999,9,     -999,9,     -999,9,     -999,1,   0.0183,1,   4.6104,1,     12.8,2,     -999,9,20240306,1558, -64.0457,  81.0745,     -999,9,     -999,9,-999          ,9,-999          ,9,-999          ,9
325020240221  ,I08        ,12      ,  1,6          ,6          ,2,20240306,1525, -64.0457,  81.0745,     3652,   2575.0,   0.2970,  34.6795,2,  34.6806,2,    215.1,2,    215.2,2,   126.62,2,     0.03,2,    32.49,2,     0.00,2,     2.26,2,    0.562,2,    0.251,2,    0.021,2,   0.1540,2,   2261.9,3,   2357.8,2,   7.5919,6,    24.96,     -999,1,   0.2963,2,     -999,1,     -999,     -999,9,     -999,9,     -999,9,     -999,9,     -999,9,     -999,1,   0.0182,1,   4.6093,1,     12.9,2,     -999,9,20240306,1553, -64.0457,  81.0745,     -999,9,     -999,9,-999          ,9,-999          ,9,-999          ,9