BOTTLE,20231026CCHSIOVAJ
EXPOCODE,SECT_ID,STNNBR,CASTNO,SAMPNO,BTLNBR,BTLNBR_FLAG_W,DATE,TIME,LATITUDE,LONGITUDE,DEPTH,CTDPRS,CTDTMP,CTDSAL,CTDSAL_FLAG_W,SALNTY,SALNTY_FLAG_W,CTDOXY,CTDOXY_FLAG_W,OXYGEN,OXYGEN_FLAG_W,SILCAT,SILCAT_FLAG_W,NITRAT,NITRAT_FLAG_W,NITRIT,NITRIT_FLAG_W,PHSPHT,PHSPHT_FLAG_W,CFC-11,CFC-11_FLAG_W,CFC-12,CFC-12_FLAG_W,CFC113,CFC113_FLAG_W,SF6,SF6_FLAG_W,TCARBN,TCARBN_FLAG_W,ALKALI,ALKALI_FLAG_W,PH_TOT,PH_TOT_FLAG_W,PH_TMP,REFTMP,REFTMP_FLAG_W,CTDFLUOR,CTDFLUOR_FLAG_W,PAR,PAR_FLAG_W,CTDXMISS,CTDXMISS_FLAG_W,CHLORA,CHLORA_FLAG_W
,,,,,,,,,,,METERS,DBAR,ITS-90,PSS-78,,PSS-78,,UMOL/KG,,UMOL/KG,,UMOL/KG,,UMOL/KG,,UMOL/KG,,UMOL/KG,,PMOL/KG,,PMOL/KG,,PMOL/KG,,FMOL/KG,,UMOL/KG,,UMOL/KG,,,,DEG C,ITS-90,,MG/M^3,,VOLTS,,%TRANS,,UG/KG,
49NZ20120113  ,P10N       ,      92,  3,         36,12021      ,2,20120131,0618,  35.4198, 148.4538,     5944,      9.1,  14.6281,  34.5328,2,  34.5316,2,    232.3,2,    232.6,2,     9.07,2,     6.32,2,     0.32,2,     0.52,2,    2.548,2,    1.512,2,    0.178,2,    1.487,2,   2042.9,2,   2283.4,2,   7.9407,6,    25.00,  14.6307,2,    0.492,2,    2.395,2,    97.78,2,     -999,9
49NZ20120113  ,P10N       ,      92,  3,         35,12001      ,2,20120131,0618,  35.4198, 148.4538,     5944,     49.9,  13.6472,  34.4022,2,  34.3978,2,    237.2,2,    237.6,2,     9.63,2,     6.83,2,     0.23,2,     0.55,2,    2.722,2,    1.599,2,    0.199,6,    1.504,6,   2051.3,6,   2278.6,2,   7.9198,2,    25.00,  13.6469,2,    0.260,2,    0.186,2,    98.77,2,     -999,9
49NZ20120113  ,P10N       ,      92,  3,         34,12019      ,2,20120131,0618,  35.4198, 148.4538,     5944,     99.7,  12.9603,  34.2929,2,  34.2936,2,    232.7,2,    232.7,2,    11.25,2,     7.95,2,     0.08,2,     0.62,2,    2.803,6,    1.633,6,    0.187,2,    1.527,2,   2058.1,2,   2275.5,6,   7.8987,2,    25.00,  12.9607,2,    0.105,2,    0.000,2,    99.14,2,     -999,9
49NZ20120113  ,P10N       ,      92,  3,         33,12018      ,2,20120131,0618,  35.4198, 148.4538,     5944,    148.4,  11.6032,  34.1021,2,  34.1066,2,    240.8,2,    239.8,2,    12.28,2,     8.65,2,     0.02,2,     0.69,2,    3.025,2,    1.745,2,    0.221,2,    1.609,2,   2065.2,2,   2270.3,2,   7.8771,6,    25.00,  11.6101,2,    0.023,2,    0.000,2,    99.34,2,     -999,9
49NZ20120113  ,P10N       ,      92,  3,         32,12017      ,2,20120131,0618,  35.4198, 148.4538,     5944,    200.1,  11.5030,  34.2202,2,  34.2206,2,    199.5,2,    199.8,2,    20.16,2,    13.56,2,     0.02,2,     1.02,2,    2.749,2,    1.556,2,    0.133,2,    1.311,2,   2101.3,2,   2278.4,2,   7.8112,2,    25.00,  11.5039,2,    0.017,2,    0.000,2,    99.40,2,     -999,9
49NZ20120113  ,P10N       ,      92,  3,         31,12016      ,2,20120131,0618,  35.4198, 148.4538,     5944,    250.8,   9.5230,  34.1929,2,  34.1921,2,    165.5,2,    165.7,2,    35.35,2,    20.96,2,     0.02,2,     1.53,2,    2.580,2,    1.415,2,    0.099,2,    1.010,2,   2156.6,2,   2286.0,2,   7.6970,2,    25.00,   9.5228,2,    0.012,2,    0.000,2,    99.41,2,     -999,9
49NZ20120113  ,P10N       ,      92,  3,         30,12015      ,2,20120131,0618,  35.4198, 148.4538,     5944,    300.5,   7.2343,  34.0358,2,  34.0358,2,    162.0,2,    161.2,2,    47.37,2,    25.59,2,     0.02,2,     1.89,2,    2.687,2,    1.438,2,    0.124,2,    0.999,2,   2188.8,2,   2288.1,2,   7.6153,2,    25.00,   7.2310,2,    0.013,2,    0.000,2,    99.52,2,     -999,9
49NZ20120113  ,P10N       ,      92,  3,         29,12014      ,2,20120131,0618,  35.4198, 148.4538,     5944,    399.3,   6.3128,  34.2122,2,  34.2113,2,    103.0,2,    103.1,2,    71.91,2,    32.28,2,     0.01,2,     2.36,2,    1.426,2,    0.761,2,    0.044,6,    0.356,6,   2250.0,2,   2316.3,2,   7.5170,2,    25.00,   6.3131,2,    0.015,2,    0.000,2,    99.59,2,     -999,9
49NZ20120113  ,P10N       ,      92,  3,         28,12024      ,2,20120131,0618,  35.4198, 148.4538,     5944,    501.9,   4.7754,  34.1807,2,  34.1798,2,     76.7,2,     76.6,2,    90.97,2,    37.21,2,     0.01,2,     2.70,2,    1.125,2,    0.597,2,    0.049,2,    0.240,2,   2292.6,2,   2328.7,2,   7.4254,2,    25.00,   4.7749,2,    0.020,2,    0.000,2,    99.74,2,     -999,9
49NZ20120113  ,P10N       ,      92,  3,         27,12012      ,2,20120131,0618,  35.4198, 148.4538,     5944,    600.3,   4.2946,  34.2500,2,  34.2495,2,     62.3,2,     62.1,2,   103.47,2,    38.99,2,     0.01,2,     2.84,2,    0.752,6,    0.403,6,    0.027,2,    0.150,2,   2316.9,2,   2343.4,2,   7.4005,2,    25.00,   4.2943,2,    0.019,2,    0.000,2,    99.69,2,     -999,9
49NZ20120113  ,P10N       ,      92,  3,         26,12010      ,2,20120131,0618,  35.4198, 148.4538,     5944,    699.0,   3.6992,  34.2823,2,  34.2811,2,     47.3,2,     47.3,2,   116.33,2,    41.01,2,     0.01,2,     2.98,2,    0.519,2,    0.274,2,    0.019,2,    0.135,2,   2339.3,6,   2354.3,2,   7.3643,2,    25.00,   3.6993,2,    0.021,2,    0.000,2,    99.73,2,     -999,9
49NZ20120113  ,P10N       ,      92,  3,         25,12009      ,2,20120131,0618,  35.4198, 148.4538,     5944,    800.5,   3.4335,  34.3337,2,  34.3326,2,     43.1,2,     43.2,2,   123.88,2,    41.72,2,     0.01,2,     3.00,2,    0.329,2,    0.172,2,    0.011,2,    0.043,2,   2350.8,2,   2365.0,6,   7.3619,2,    25.00,   3.4335,2,    0.021,2,    0.000,2,    99.74,2,     -999,9
49NZ20120113  ,P10N       ,      92,  3,         24,12008      ,2,20120131,0618,  35.4198, 148.4538,     5944,    900.5,   3.2365,  34.3665,2,  34.3660,2,     41.3,2,     41.4,2,   129.38,2,    42.13,2,     0.01,2,     3.02,2,    0.238,2,    0.122,2,    0.007,2,    0.000,2,   2358.6,2,   2370.7,2,   7.3606,6,    25.00,   3.2367,2,    0.020,2,    0.000,2,    99.74,2,     -999,9
49NZ20120113  ,P10N       ,      92,  3,         23,12007      ,2,20120131,0618,  35.4198, 148.4538,     5944,    999.5,   2.9872,  34.4083,2,  34.4075,2,     40.3,2,     40.0,2,   135.85,2,    42.34,2,     0.01,2,     3.07,2,    0.156,2,    0.078,2,    0.004,2,    0.000,2,   2366.4,2,   2381.2,2,   7.3615,2,    25.00,   2.9876,2,    0.021,2,    0.000,2,    99.76,2,     -999,9
49NZ20120113  ,P10N       ,      92,  3,         22,12022      ,2,20120131,0618,  35.4198, 148.4538,     5944,   1199.9,   2.6495,  34.4652,2,  34.4641,2,     41.2,2,     40.9,2,   145.45,2,    42.77,2,     0.01,2,     3.09,2,    0.076,2,    0.037,2,    0.002,2,    0.000,2,   2376.7,2,   2391.1,2,   7.3670,2,    25.00,   2.6489,2,    0.020,2,    0.000,2,    99.76,2,     -999,9
49NZ20120113  ,P10N       ,      92,  3,         21,12036      ,2,20120131,0618,  35.4198, 148.4538,     5944,   1401.2,   2.3559,  34.5170,2,  34.5162,2,     47.7,2,     47.4,2,   152.92,2,    42.61,2,     0.01,2,     3.05,2,    0.029,2,    0.013,2,    0.000,2,    0.000,2,   2381.6,2,   2401.6,2,   7.3831,2,    25.00,   2.3560,2,    0.020,2,    0.000,2,    99.75,2,     -999,9
49NZ20120113  ,P10N       ,      92,  3,         20,12035      ,2,20120131,0618,  35.4198, 148.4538,     5944,   1598.9,   2.1899,  34.5491,2,  34.5490,2,     55.9,2,     55.7,2,   156.12,2,    42.20,2,     0.01,2,     3.00,2,    0.007,2,    0.004,2,    0.000,2,    0.000,2,   2379.2,2,   2409.0,2,   7.4004,2,    25.00,   2.1896,2,    0.019,2,    0.000,2,    99.81,2,     -999,9
49NZ20120113  ,P10N       ,      92,  3,         19,12034      ,2,20120131,0618,  35.4198, 148.4538,     5944,   1799.4,   2.0257,  34.5809,2,  34.5815,2,     68.9,2,     69.5,2,   157.41,2,    41.43,2,     0.01,2,     2.96,2,    0.002,2,    0.000,2,    0.000,2,    0.000,2,   2374.9,2,   2414.0,2,   7.4295,2,    25.00,   2.0252,2,    0.017,2,    0.000,2,    99.83,2,     -999,9
49NZ20120113  ,P10N       ,      92,  3,         18,12033      ,2,20120131,0618,  35.4198, 148.4538,     5944,   1999.1,   1.8763,  34.6064,2,  34.6071,2,     83.1,2,     83.5,2,   157.33,2,    40.51,2,     0.01,2,     2.89,2,    0.000,2,    0.000,2,    0.000,2,    0.000,2,   2366.3,2,   2416.6,2,   7.4572,2,    25.00,   1.8762,2,    0.016,2,    0.000,2,    99.85,2,     -999,9
49NZ20120113  ,P10N       ,      92,  3,         17,12032      ,2,20120131,0618,  35.4198, 148.4538,     5944,   2199.8,   1.7758,  34.6243,2,  34.6243,2,     95.4,2,     95.6,2,   156.38,2,    39.82,2,     0.01,2,     2.85,2,    0.000,2,    0.000,2,    0.001,2,    0.000,2,   2359.7,2,   2419.2,2,   7.4812,2,    25.00,   1.7757,2,    0.015,2,    0.000,2,    99.86,2,     -999,9
49NZ20120113  ,P10N       ,      92,  3,         16,12046      ,2,20120131,0618,  35.4198, 148.4538,     5944,   2401.1,   1.6960,  34.6379,2,  34.6381,2,    106.1,2,    106.0,2,   154.74,2,    39.17,2,     0.01,2,     2.79,2,    0.000,2,    0.000,2,    0.000,2,    0.012,2,   2354.8,6,   2418.7,2,   7.5007,2,    25.00,   1.6963,2,    0.014,2,    0.000,2,    99.89,2,     -999,9
49NZ20120113  ,P10N       ,      92,  3,         15,12030      ,2,20120131,0618,  35.4198, 148.4538,     5944,   2599.1,   1.6275,  34.6488,2,  34.6488,2,    114.7,2,    114.8,2,   153.92,2,    38.52,2,     0.01,2,     2.75,2,    0.000,2,    0.000,2,    0.000,2,    0.000,2,   2351.5,2,   2421.2,6,   7.5172,2,    25.00,   1.6273,2,    0.013,2,    0.000,2,    99.90,2,     -999,9
49NZ20120113  ,P10N       ,      92,  3,         14,12029      ,2,20120131,0618,  35.4198, 148.4538,     5944,   2799.6,   1.5758,  34.6573,2,  34.6577,2,    122.3,2,    122.7,2,   152.93,2,    38.03,2,     0.01,2,     2.72,2,    0.000,2,    0.000,2,    0.000,2,     -999,9,   2344.7,2,   2422.5,2,   7.5316,6,    25.00,   1.5755,2,    0.013,2,    0.000,2,    99.91,2,     -999,9
49NZ20120113  ,P10N       ,      92,  3,         13,12028      ,2,20120131,0618,  35.4198, 148.4538,     5944,   2998.6,   1.5454,  34.6632,2,  34.6633,2,    128.1,2,    128.3,2,   151.36,2,    37.69,2,     0.01,2,     2.68,2,    0.000,2,    0.000,2,    0.002,2,    0.000,2,   2341.2,2,   2422.0,2,   7.5414,2,    25.00,   1.5451,2,    0.012,2,    0.000,2,    99.91,2,     -999,9
49NZ20120113  ,P10N       ,      94,  1,          0,BUC        ,2,20120131,1256,  36.0805, 148.0473,     5804,      0.0,     -999,     -999,9,  34.4169,2,     -999,9,     -999,9,     -999,9,     -999,9,     -999,9,     -999,9,     -999,9,     -999,9,     -999,9,     -999,9,     -999,9,     -999,9,     -999,9,     -999,     -999,9,     -999,9,     -999,9,     -999,9,     -999,9
49NZ20120113  ,P10N       ,      94,  1,         12,12020      ,2,20120131,1256,  36.0805, 148.0473,     5804,   3331.6,   1.4921,  34.6730,2,  34.6728,2,    138.6,2,    138.4,2,   149.25,2,    37.08,2,     0.01,2,     2.60,2,    0.000,2,    0.000,2,    0.000,2,     -999,9,   2332.3,2,   2421.9,2,   7.5610,2,    25.00,   1.4920,2,     -999,9,     -999,9,     -999,9,     -999,9
49NZ20120113  ,P10N       ,      94,  1,         11,12041      ,2,20120131,1256,  36.0805, 148.0473,     5804,   3578.7,   1.4783,  34.6770,2,  34.6770,2,    143.2,2,    143.0,2,   148.34,2,    36.69,2,     0.01,2,     2.58,2,     -999,9,     -999,9,     -999,9,     -999,9,   2328.9,2,   2421.8,2,   7.5675,2,    25.00,   1.4783,2,     -999,9,     -999,9,     -999,9,     -999,9
49NZ20120113  ,P10N       ,      94,  1,         10,12016      ,2,20120131,1256,  36.0805, 148.0473,     5804,   3829.6,   1.4635,  34.6811,2,  34.6811,2,    148.2,2,    148.1,2,   146.66,2,    36.32,2,     0.01,2,     2.56,2,    0.000,2,    0.000,2,    0.000,2,     -999,9,   2327.3,2,   2421.0,2,   7.5753,2,    25.00,   1.4632,2,     -999,9,     -999,9,     -999,9,     -999,9
49NZ20120113  ,P10N       ,      94,  1,          9,12025      ,2,20120131,1256,  36.0805, 148.0473,     5804,   4079.9,   1.4631,  34.6840,2,  34.6841,2,    151.7,2,    151.7,2,   145.91,2,    36.14,2,     0.01,2,     2.54,2,     -999,9,     -999,9,     -999,9,     -999,9,   2323.1,2,   2419.9,2,   7.5815,2,    25.00,   1.4632,2,     -999,9,     -999,9,     -999,9,     -999,9
49NZ20120113  ,P10N       ,      94,  1,          8,12015      ,2,20120131,1256,  36.0805, 148.0473,     5804,   4329.9,   1.4656,  34.6864,2,  34.6864,2,    155.0,2,    154.9,2,   144.72,2,    36.00,2,     0.01,2,     2.52,2,    0.000,2,    0.000,2,    0.000,2,     -999,9,   2320.7,6,   2419.3,2,   7.5862,2,    25.00,   1.4657,2,     -999,9,     -999,9,     -999,9,     -999,9
49NZ20120113  ,P10N       ,      94,  1,          7,12050      ,2,20120131,1256,  36.0805, 148.0473,     5804,   4579.8,   1.4774,  34.6881,2,  34.6878,2,    157.5,2,    157.3,2,   143.79,2,    35.75,2,     0.01,2,     2.52,2,     -999,9,     -999,9,     -999,9,     -999,9,   2320.3,3,   2418.6,6,   7.5894,2,    25.00,   1.4773,2,     -999,9,     -999,9,     -999,9,     -999,9
49NZ20120113  ,P10N       ,      94,  1,          6,12014      ,2,20120131,1256,  36.0805, 148.0473,     5804,   4830.9,   1.4928,  34.6896,2,  34.6896,2,    159.7,2,    159.4,2,   142.29,2,    35.59,2,     0.01,2,     2.50,2,    0.001,2,    0.000,2,    0.000,2,     -999,9,   2315.8,2,   2417.0,2,   7.5929,6,    25.00,   1.4928,2,     -999,9,     -999,9,     -999,9,     -999,9
49NZ20120113  ,P10N       ,      94,  1,          5,12105      ,2,20120131,1256,  36.0805, 148.0473,     5804,   5080.5,   1.5122,  34.6907,2,  34.6907,2,    161.6,2,    161.3,2,   141.14,2,    35.48,2,     0.01,2,     2.49,2,     -999,9,     -999,9,     -999,9,     -999,9,   2316.1,2,   2416.4,2,   7.5948,2,    25.00,   1.5122,2,     -999,9,     -999,9,     -999,9,     -999,9
49NZ20120113  ,P10N       ,      94,  1,          4,12028      ,2,20120131,1256,  36.0805, 148.0473,     5804,   5327.9,   1.5364,  34.6916,2,  34.6916,2,    162.8,2,    162.6,2,   140.57,2,    35.41,2,     0.01,2,     2.49,2,    0.001,2,    0.000,2,    0.000,2,     -999,9,   2314.1,2,   2415.9,2,   7.5965,2,    25.00,   1.5366,2,     -999,9,     -999,9,     -999,9,     -999,9
49NZ20120113  ,P10N       ,      94,  1,          3,12044      ,2,20120131,1256,  36.0805, 148.0473,     5804,   5577.6,   1.5628,  34.6922,2,  34.6922,2,    164.0,2,    163.7,2,   139.46,2,    35.30,2,     0.01,2,     2.48,2,     -999,9,     -999,9,     -999,9,     -999,9,   2312.6,2,   2414.9,2,   7.5977,2,    25.00,   1.5630,2,     -999,9,     -999,9,     -999,9,     -999,9
49NZ20120113  ,P10N       ,      94,  1,          2,12040      ,2,20120131,1256,  36.0805, 148.0473,     5804,   5828.7,   1.5883,  34.6931,2,  34.6929,2,    165.2,2,    165.1,2,   138.41,2,    35.17,2,     0.01,2,     2.47,2,    0.007,2,    0.002,2,    0.000,2,     -999,9,   2311.4,2,   2414.6,2,   7.5993,2,    25.00,   1.5885,2,     -999,9,     -999,9,     -999,9,     -999,9
49NZ20120113  ,P10N       ,      94,  1,          1,12034      ,2,20120131,1256,  36.0805, 148.0473,     5804,   5899.6,   1.5984,  34.6931,2,  34.6931,2,    165.2,2,    165.1,2,   138.37,2,    35.19,2,     0.01,2,     2.46,2,    0.005,2,    0.002,2,    0.000,2,     -999,9,   2311.2,2,   2414.6,2,   7.5991,2,    25.00,   1.5986,2,     -999,9,     -999,9,     -999,9,     -999,9