BOTTLE,20231026CCHSIOVAJ
EXPOCODE,SECT_ID,STNNBR,CASTNO,SAMPNO,BTLNBR,BTLNBR_FLAG_W,DATE,TIME,LATITUDE,LONGITUDE,DEPTH,CTDPRS,CTDTMP,CTDSAL,CTDSAL_FLAG_W,SALNTY,SALNTY_FLAG_W,CTDOXY,CTDOXY_FLAG_W,OXYGEN,OXYGEN_FLAG_W,SILCAT,SILCAT_FLAG_W,NITRAT,NITRAT_FLAG_W,NITRIT,NITRIT_FLAG_W,PHSPHT,PHSPHT_FLAG_W,CFC-11,CFC-11_FLAG_W,CFC-12,CFC-12_FLAG_W,CFC113,CFC113_FLAG_W,SF6,SF6_FLAG_W,TCARBN,TCARBN_FLAG_W,ALKALI,ALKALI_FLAG_W,PH_TOT,PH_TOT_FLAG_W,PH_TMP,REFTMP,REFTMP_FLAG_W,CTDFLUOR,CTDFLUOR_FLAG_W,PAR,PAR_FLAG_W,CTDXMISS,CTDXMISS_FLAG_W,CHLORA,CHLORA_FLAG_W
,,,,,,,,,,,METERS,DBAR,ITS-90,PSS-78,,PSS-78,,UMOL/KG,,UMOL/KG,,UMOL/KG,,UMOL/KG,,UMOL/KG,,UMOL/KG,,PMOL/KG,,PMOL/KG,,PMOL/KG,,FMOL/KG,,UMOL/KG,,UMOL/KG,,,,DEG C,ITS-90,,MG/M^3,,VOLTS,,%TRANS,,UG/KG,
49NZ20120113  ,P10N       ,      87,  1,          0,BUC        ,2,20120126,0535,  33.9973, 149.3048,     6220,      0.0,     -999,     -999,9,  34.7255,2,     -999,9,     -999,9,     -999,9,     -999,9,     -999,9,     -999,9,     -999,9,     -999,9,     -999,9,     -999,9,     -999,9,     -999,9,     -999,9,     -999,     -999,9,     -999,9,     -999,9,     -999,9,     -999,9
49NZ20120113  ,P10N       ,      87,  1,         36,12021      ,2,20120126,0535,  33.9973, 149.3048,     6220,     10.2,  18.5419,  34.7230,2,  34.7225,2,    226.5,2,    225.1,2,     2.11,2,     1.49,2,     0.26,2,     0.14,2,    2.123,2,    1.334,2,    0.148,2,    1.456,2,     -999,9,     -999,9,     -999,9,     -999,  18.5522,4,    0.405,2,    0.070,2,    98.49,2,     -999,9
49NZ20120113  ,P10N       ,      87,  1,         35,12001      ,2,20120126,0535,  33.9973, 149.3048,     6220,     50.4,  18.5564,  34.7225,2,  34.7220,2,    225.1,2,    224.2,2,     2.17,2,     1.45,2,     0.26,2,     0.14,2,    2.118,2,    1.329,2,    0.147,6,    1.489,6,     -999,9,     -999,9,     -999,9,     -999,  18.5545,4,    0.287,2,    0.000,2,    98.49,2,     -999,9
49NZ20120113  ,P10N       ,      87,  1,         34,12019      ,2,20120126,0535,  33.9973, 149.3048,     6220,    100.0,  18.5747,  34.7220,2,  34.7216,2,    225.3,2,    224.3,2,     2.07,2,     1.45,2,     0.27,2,     0.15,2,    2.119,6,    1.334,6,    0.150,2,    1.465,2,     -999,9,     -999,9,     -999,9,     -999,  18.5743,4,    0.316,2,    0.000,2,    98.49,2,     -999,9
49NZ20120113  ,P10N       ,      87,  1,         33,12018      ,2,20120126,0535,  33.9973, 149.3048,     6220,    148.9,  18.5410,  34.7174,2,  34.7175,2,    224.6,2,    223.5,2,     2.07,2,     1.56,2,     0.26,2,     0.16,2,    2.122,2,    1.332,2,    0.149,2,    1.486,2,     -999,9,     -999,9,     -999,9,     -999,  18.5410,4,    0.213,2,    0.000,2,    98.79,2,     -999,9
49NZ20120113  ,P10N       ,      87,  1,         32,12017      ,2,20120126,0535,  33.9973, 149.3048,     6220,    199.9,  18.5237,  34.7145,2,  34.7155,2,    223.6,2,    222.9,2,     2.03,2,     1.53,2,     0.23,2,     0.16,2,    2.140,2,    1.340,2,    0.147,2,    1.451,2,     -999,9,     -999,9,     -999,9,     -999,  18.5234,4,    0.187,2,    0.000,2,    98.90,2,     -999,9
49NZ20120113  ,P10N       ,      87,  1,         31,12016      ,2,20120126,0535,  33.9973, 149.3048,     6220,    247.1,  17.8008,  34.7175,2,  34.7190,2,    201.7,2,    201.0,2,     3.90,2,     4.66,2,     0.02,2,     0.34,2,    2.281,2,    1.407,2,    0.062,2,    1.348,2,     -999,9,     -999,9,     -999,9,     -999,  17.7998,4,    0.005,2,    0.000,2,    99.60,2,     -999,9
49NZ20120113  ,P10N       ,      87,  1,         30,12015      ,2,20120126,0535,  33.9973, 149.3048,     6220,    276.7,  17.3860,  34.7061,2,  34.7072,2,    203.7,2,    203.1,2,     4.16,2,     5.00,2,     0.02,2,     0.36,2,    2.311,2,    1.418,2,    0.048,2,    1.335,2,     -999,9,     -999,9,     -999,9,     -999,  17.3871,4,    0.004,2,    0.000,2,    99.64,2,     -999,9
49NZ20120113  ,P10N       ,      87,  1,         29,12014      ,2,20120126,0535,  33.9973, 149.3048,     6220,    369.2,  16.2522,  34.6375,2,  34.6409,2,    189.7,2,    189.4,2,     7.88,2,     8.09,2,     0.02,2,     0.57,2,    2.398,2,    1.438,2,    0.034,6,    1.170,6,     -999,9,     -999,9,     -999,9,     -999,  16.2862,4,    0.004,2,    0.000,2,    99.67,2,     -999,9
49NZ20120113  ,P10N       ,      87,  1,         28,12024      ,2,20120126,0535,  33.9973, 149.3048,     6220,    470.3,  13.8151,  34.4939,2,  34.4966,2,    178.0,2,    177.4,2,    15.49,2,    12.88,2,     0.01,2,     0.92,2,    2.476,2,    1.438,2,    0.036,2,    1.032,2,     -999,9,     -999,9,     -999,9,     -999,  13.8167,2,    0.006,2,    0.000,2,    99.67,2,     -999,9
49NZ20120113  ,P10N       ,      87,  1,         27,12012      ,2,20120126,0535,  33.9973, 149.3048,     6220,    570.4,  10.6434,  34.2830,2,  34.2823,2,    167.6,2,    167.6,2,    29.44,2,    19.00,2,     0.01,2,     1.38,2,    2.498,6,    1.407,6,    0.073,2,    0.966,2,     -999,9,     -999,9,     -999,9,     -999,  10.7644,4,    0.008,2,    0.000,2,    99.70,2,     -999,9
49NZ20120113  ,P10N       ,      87,  1,         26,12010      ,2,20120126,0535,  33.9973, 149.3048,     6220,    669.0,   7.3638,  34.0551,2,  34.0594,2,    156.6,2,    156.5,2,    47.80,2,    25.73,2,     0.01,2,     1.91,2,    2.537,2,    1.387,2,    0.112,2,    0.911,2,     -999,9,     -999,9,     -999,9,     -999,   7.3769,4,    0.012,2,    0.000,2,    99.72,2,     -999,9
49NZ20120113  ,P10N       ,      87,  1,         25,12009      ,2,20120126,0535,  33.9973, 149.3048,     6220,    770.6,   5.4136,  34.0171,2,  34.0167,2,    122.1,2,    121.6,2,    68.76,2,    32.41,2,     0.01,2,     2.38,2,    1.750,2,    1.165,2,    0.110,2,    0.707,2,     -999,9,     -999,9,     -999,9,     -999,   5.4344,4,    0.014,2,    0.000,2,    99.77,2,     -999,9
49NZ20120113  ,P10N       ,      87,  1,         24,12008      ,2,20120126,0535,  33.9973, 149.3048,     6220,    869.5,   4.7589,  34.0948,2,  34.0977,2,     85.2,2,     85.3,2,    86.11,2,    36.73,2,     0.01,2,     2.68,2,    1.519,2,    0.796,2,    0.071,2,    0.468,2,     -999,9,     -999,9,     -999,9,     -999,   4.7778,4,    0.017,2,    0.000,2,    99.75,2,     -999,9
49NZ20120113  ,P10N       ,      87,  1,         23,12007      ,2,20120126,0535,  33.9973, 149.3048,     6220,    969.7,   4.2144,  34.1980,2,  34.1992,2,     60.5,2,     60.2,2,   102.42,2,    39.41,2,     0.01,2,     2.89,2,    0.930,2,    0.482,2,    0.042,2,    0.270,2,     -999,9,     -999,9,     -999,9,     -999,   4.2243,4,    0.020,2,    0.000,2,    99.75,2,     -999,9
49NZ20120113  ,P10N       ,      87,  1,         22,12022      ,2,20120126,0535,  33.9973, 149.3048,     6220,   1128.9,   3.5675,  34.3119,2,  34.3131,2,     44.0,2,     43.6,2,   120.76,2,    41.45,2,     0.01,2,     3.00,2,    0.403,2,    0.206,2,    0.016,2,    0.099,2,     -999,9,     -999,9,     -999,9,     -999,   3.5788,4,    0.021,2,    0.000,2,    99.76,2,     -999,9
49NZ20120113  ,P10N       ,      87,  1,         21,12036      ,2,20120126,0535,  33.9973, 149.3048,     6220,   1329.6,   3.0035,  34.4065,2,  34.4073,2,     39.0,2,     38.4,2,   136.81,2,    42.43,2,     0.01,2,     3.06,2,    0.158,2,    0.075,2,    0.005,2,    0.065,2,     -999,9,     -999,9,     -999,9,     -999,   3.0160,4,    0.021,2,    0.000,2,    99.75,2,     -999,9
49NZ20120113  ,P10N       ,      87,  1,         20,12035      ,2,20120126,0535,  33.9973, 149.3048,     6220,   1529.8,   2.6357,  34.4709,2,  34.4719,2,     41.4,2,     40.9,2,   146.44,2,    42.75,2,     0.01,2,     3.06,2,    0.069,2,    0.032,2,    0.002,2,    0.000,2,     -999,9,     -999,9,     -999,9,     -999,   2.6393,4,    0.021,2,    0.000,2,    99.76,2,     -999,9
49NZ20120113  ,P10N       ,      87,  1,         19,12034      ,2,20120126,0535,  33.9973, 149.3048,     6220,   1728.5,   2.3433,  34.5240,2,  34.5245,2,     50.1,2,     50.0,2,   153.13,2,    42.29,2,     0.01,2,     3.04,2,    0.029,2,    0.013,2,    0.000,2,    0.000,2,     -999,9,     -999,9,     -999,9,     -999,   2.3463,4,    0.020,2,    0.000,2,    99.73,2,     -999,9
49NZ20120113  ,P10N       ,      87,  1,         18,12033      ,2,20120126,0535,  33.9973, 149.3048,     6220,   1929.8,   2.1542,  34.5605,2,  34.5609,2,     61.3,2,     61.2,2,   156.30,2,    41.83,2,     0.01,2,     3.00,2,    0.009,2,    0.003,2,    0.000,2,    0.000,2,     -999,9,     -999,9,     -999,9,     -999,   2.1569,4,    0.018,2,    0.000,2,    99.77,2,     -999,9
49NZ20120113  ,P10N       ,      87,  1,         17,12032      ,2,20120126,0535,  33.9973, 149.3048,     6220,   2128.9,   1.9896,  34.5901,2,  34.5907,2,     74.7,2,     74.5,2,   157.58,2,    41.08,2,     0.01,2,     2.92,2,    0.003,2,    0.000,2,    0.000,2,    0.043,2,     -999,9,     -999,9,     -999,9,     -999,   1.9923,4,    0.018,2,    0.000,2,    99.80,2,     -999,9
49NZ20120113  ,P10N       ,      87,  1,         16,12046      ,2,20120126,0535,  33.9973, 149.3048,     6220,   2330.0,   1.8468,  34.6150,2,  34.6158,2,     89.7,2,     90.0,2,   156.83,2,    40.19,2,     0.01,2,     2.84,2,    0.000,2,    0.000,2,    0.000,2,     -999,9,     -999,9,     -999,9,     -999,9,     -999,   1.8497,4,    0.015,2,    0.000,2,    99.82,2,     -999,9
49NZ20120113  ,P10N       ,      87,  1,         15,12030      ,2,20120126,0535,  33.9973, 149.3048,     6220,   2528.8,   1.7357,  34.6335,2,  34.6335,2,    102.3,2,    102.2,2,   155.22,2,    39.30,2,     0.01,2,     2.80,2,    0.000,2,    0.000,2,    0.000,2,     -999,9,     -999,9,     -999,9,     -999,9,     -999,   1.7351,4,    0.014,2,    0.000,2,    99.85,2,     -999,9
49NZ20120113  ,P10N       ,      87,  1,         14,12029      ,2,20120126,0535,  33.9973, 149.3048,     6220,   2728.1,   1.6689,  34.6452,2,  34.6456,2,    112.6,2,    112.7,2,   153.46,2,    38.46,2,     0.01,2,     2.74,2,    0.000,2,    0.000,2,    0.000,2,    0.068,2,     -999,9,     -999,9,     -999,9,     -999,   1.6688,4,    0.013,2,    0.000,2,    99.87,2,     -999,9
49NZ20120113  ,P10N       ,      87,  1,         13,12028      ,2,20120126,0535,  33.9973, 149.3048,     6220,   2931.1,   1.6058,  34.6556,2,  34.6555,2,    121.4,2,    121.5,2,   152.68,2,    38.13,2,     0.01,2,     2.71,2,    0.000,2,    0.000,2,    0.000,2,    0.000,2,     -999,9,     -999,9,     -999,9,     -999,   1.6059,2,    0.013,2,    0.000,2,    99.86,2,     -999,9
49NZ20120113  ,P10N       ,      87,  1,         12,12027      ,2,20120126,0535,  33.9973, 149.3048,     6220,   3170.1,   1.5586,  34.6641,2,  34.6639,2,    129.8,2,    129.6,2,   151.04,2,    37.45,2,     0.01,2,     2.66,2,    0.000,2,    0.000,2,    0.000,2,     -999,9,     -999,9,     -999,9,     -999,9,     -999,   1.5589,2,    0.011,2,    0.000,2,    99.88,2,     -999,9
49NZ20120113  ,P10N       ,      87,  1,         11,12011      ,2,20120126,0535,  33.9973, 149.3048,     6220,   3419.0,   1.5309,  34.6697,2,  34.6697,2,    135.4,2,    135.4,2,   150.06,2,    37.24,2,     0.01,2,     2.61,2,    0.000,2,    0.000,2,    0.000,2,    0.000,2,     -999,9,     -999,9,     -999,9,     -999,   1.5308,2,    0.011,2,    0.000,2,    99.87,2,     -999,9
49NZ20120113  ,P10N       ,      87,  1,         10,12026      ,2,20120126,0535,  33.9973, 149.3048,     6220,   3669.7,   1.5063,  34.6751,2,  34.6748,2,    141.1,2,    141.0,2,   148.32,2,    36.79,2,     0.01,2,     2.59,2,    0.000,2,    0.000,2,    0.000,2,     -999,9,     -999,9,     -999,9,     -999,9,     -999,   1.5064,2,    0.011,2,    0.000,2,    99.86,2,     -999,9
49NZ20120113  ,P10N       ,      87,  1,          9,12025      ,2,20120126,0535,  33.9973, 149.3048,     6220,   3918.4,   1.4862,  34.6798,2,  34.6794,2,    146.7,2,    146.3,2,   147.40,2,    36.33,2,     0.01,2,     2.57,2,     -999,9,     -999,9,     -999,9,     -999,9,     -999,9,     -999,9,     -999,9,     -999,   1.4863,2,    0.010,2,    0.000,2,    99.87,2,     -999,9
49NZ20120113  ,P10N       ,      87,  1,          8,12024      ,2,20120126,0535,  33.9973, 149.3048,     6220,   4169.5,   1.4817,  34.6830,2,  34.6827,2,    151.0,2,    150.6,2,   145.96,2,    36.06,2,     0.01,2,     2.55,2,    0.000,2,    0.000,2,    0.000,2,    0.000,2,     -999,9,     -999,9,     -999,9,     -999,   1.4818,2,    0.010,2,    0.000,2,    99.87,2,     -999,9
49NZ20120113  ,P10N       ,      87,  1,          7,12023      ,2,20120126,0535,  33.9973, 149.3048,     6220,   4420.8,   1.4833,  34.6857,2,  34.6851,2,    154.6,2,    154.2,2,   144.86,2,    35.83,2,     0.01,2,     2.53,2,     -999,9,     -999,9,     -999,9,     -999,9,     -999,9,     -999,9,     -999,9,     -999,   1.4832,2,    0.010,2,    0.000,2,    99.87,2,     -999,9
49NZ20120113  ,P10N       ,      87,  1,          6,12006      ,2,20120126,0535,  33.9973, 149.3048,     6220,   4670.2,   1.4917,  34.6877,2,  34.6873,2,    157.6,2,    156.9,2,   143.50,2,    35.63,2,     0.01,2,     2.51,2,    0.002,2,    0.000,2,    0.000,2,     -999,9,     -999,9,     -999,9,     -999,9,     -999,   1.4917,2,    0.010,2,    0.000,2,    99.88,2,     -999,9
49NZ20120113  ,P10N       ,      87,  1,          5,12102      ,2,20120126,0535,  33.9973, 149.3048,     6220,   4918.2,   1.5061,  34.6893,2,  34.6891,2,    159.8,2,    159.3,2,   142.21,2,    35.53,2,     0.01,2,     2.50,2,    0.001,2,    0.000,2,    0.000,2,    0.000,2,     -999,9,     -999,9,     -999,9,     -999,   1.5061,2,    0.009,2,    0.000,2,    99.88,2,     -999,9
49NZ20120113  ,P10N       ,      87,  1,          4,12104      ,3,20120126,0535,  33.9973, 149.3048,     6220,   5171.0,   1.5253,  34.6904,2,  34.6904,2,    161.9,2,    161.1,2,   141.04,2,    35.31,2,     0.01,2,     2.49,2,    0.002,2,    0.002,2,    0.000,2,     -999,9,     -999,9,     -999,9,     -999,9,     -999,   1.5252,2,    0.009,2,    0.000,2,    99.86,2,     -999,9
49NZ20120113  ,P10N       ,      87,  1,          3,12003      ,2,20120126,0535,  33.9973, 149.3048,     6220,   5420.6,   1.5486,  34.6912,2,  34.6913,2,    163.4,2,    162.7,2,   139.94,2,    35.27,2,     0.01,2,     2.48,2,    0.001,2,    0.000,2,    0.000,2,    0.000,2,     -999,9,     -999,9,     -999,9,     -999,   1.5486,2,    0.009,2,    0.000,2,    99.82,2,     -999,9
49NZ20120113  ,P10N       ,      87,  1,          2,12103      ,2,20120126,0535,  33.9973, 149.3048,     6220,   5670.5,   1.5741,  34.6920,2,  34.6917,2,    164.8,2,    164.1,2,   138.71,2,    35.30,2,     0.01,2,     2.48,2,    0.001,2,    0.001,2,    0.000,2,     -999,9,     -999,9,     -999,9,     -999,9,     -999,   1.5741,2,    0.009,2,    0.000,2,    99.80,2,     -999,9
49NZ20120113  ,P10N       ,      87,  1,          1,12001      ,2,20120126,0535,  33.9973, 149.3048,     6220,   6284.2,   1.6449,  34.6933,2,  34.6931,2,    167.1,2,    166.9,2,   135.87,2,    35.07,2,     0.01,2,     2.47,2,    0.002,2,    0.001,2,    0.000,2,    0.000,2,     -999,9,     -999,9,     -999,9,     -999,   1.6448,2,    0.009,2,    0.000,2,    99.57,2,     -999,9