BOTTLE,20231026CCHSIOVAJ
EXPOCODE,SECT_ID,STNNBR,CASTNO,SAMPNO,BTLNBR,BTLNBR_FLAG_W,DATE,TIME,LATITUDE,LONGITUDE,DEPTH,CTDPRS,CTDTMP,CTDSAL,CTDSAL_FLAG_W,SALNTY,SALNTY_FLAG_W,CTDOXY,CTDOXY_FLAG_W,OXYGEN,OXYGEN_FLAG_W,SILCAT,SILCAT_FLAG_W,NITRAT,NITRAT_FLAG_W,NITRIT,NITRIT_FLAG_W,PHSPHT,PHSPHT_FLAG_W,CFC-11,CFC-11_FLAG_W,CFC-12,CFC-12_FLAG_W,CFC113,CFC113_FLAG_W,SF6,SF6_FLAG_W,TCARBN,TCARBN_FLAG_W,ALKALI,ALKALI_FLAG_W,PH_TOT,PH_TOT_FLAG_W,PH_TMP,REFTMP,REFTMP_FLAG_W,CTDFLUOR,CTDFLUOR_FLAG_W,PAR,PAR_FLAG_W,CTDXMISS,CTDXMISS_FLAG_W,CHLORA,CHLORA_FLAG_W
,,,,,,,,,,,METERS,DBAR,ITS-90,PSS-78,,PSS-78,,UMOL/KG,,UMOL/KG,,UMOL/KG,,UMOL/KG,,UMOL/KG,,UMOL/KG,,PMOL/KG,,PMOL/KG,,PMOL/KG,,FMOL/KG,,UMOL/KG,,UMOL/KG,,,,DEG C,ITS-90,,MG/M^3,,VOLTS,,%TRANS,,UG/KG,
49NZ20120113  ,P10N       ,     112,  1,          0,BUC        ,2,20120205,1244,  41.7507, 144.1268,     1484,      0.0,     -999,     -999,9,  33.1698,2,     -999,9,     -999,9,     -999,9,     -999,9,     -999,9,     -999,9,     -999,9,     -999,9,     -999,9,     -999,9,     -999,9,     -999,9,     -999,9,     -999,     -999,9,     -999,9,     -999,9,     -999,9,     -999,9
49NZ20120113  ,P10N       ,     112,  1,         36,12021      ,2,20120205,1244,  41.7507, 144.1268,     1484,      9.9,   1.6205,  33.1643,2,  33.1664,2,    319.4,2,    321.4,2,    42.54,2,    22.44,2,     0.15,2,     1.83,2,    5.253,2,    2.916,2,    0.487,2,    2.792,2,   2142.8,2,   2251.7,2,   7.6520,6,    25.00,   1.6203,2,    0.424,2,    0.114,2,    97.84,2,     0.48,2
49NZ20120113  ,P10N       ,     112,  1,         35,12001      ,2,20120205,1244,  41.7507, 144.1268,     1484,     50.2,   1.8438,  33.1951,2,  33.1989,2,    316.0,2,    317.7,2,    42.02,2,    22.24,2,     0.15,2,     1.82,2,    5.174,2,    2.880,2,    0.479,6,    2.752,6,   2141.8,6,   2252.8,2,   7.6548,2,    25.00,   1.8398,2,    0.495,2,    0.000,2,    98.01,2,     -999,9
49NZ20120113  ,P10N       ,     112,  1,         34,12019      ,2,20120205,1244,  41.7507, 144.1268,     1484,     99.4,   2.0496,  33.2174,2,  33.2197,2,    313.6,2,    315.0,2,    41.26,2,    21.94,2,     0.16,2,     1.79,2,    5.107,6,    2.833,6,    0.467,2,    2.697,2,   2141.3,2,   2252.8,6,   7.6588,2,    25.00,   2.0425,2,    0.499,2,    0.000,2,    98.08,2,     -999,9
49NZ20120113  ,P10N       ,     112,  1,         33,12018      ,2,20120205,1244,  41.7507, 144.1268,     1484,    150.1,   2.9278,  33.4387,2,  33.4408,2,    223.8,2,    224.4,2,    54.71,2,    28.97,2,     0.02,2,     2.23,2,    4.428,2,    2.396,2,    0.354,2,    2.059,2,   2198.1,2,   2264.3,2,   7.5291,2,    25.00,   2.9286,2,    0.029,2,    0.000,2,    99.37,2,     -999,9
49NZ20120113  ,P10N       ,     112,  1,         32,12017      ,2,20120205,1244,  41.7507, 144.1268,     1484,    200.0,   2.7139,  33.5167,2,  33.5193,2,    188.5,2,    189.2,2,    65.37,2,    32.67,2,     0.02,2,     2.46,2,    4.083,2,    2.182,2,    0.331,2,    1.840,2,   2229.2,2,   2272.8,2,   7.4590,2,    25.00,   2.7136,2,    0.017,2,    0.000,2,    99.41,2,     -999,9
49NZ20120113  ,P10N       ,     112,  1,         31,12016      ,2,20120205,1244,  41.7507, 144.1268,     1484,    250.1,   3.1058,  33.6230,2,  33.6271,2,    164.9,2,    165.0,2,    69.55,2,    33.78,2,     0.02,2,     2.53,2,    3.692,2,    1.949,2,    0.278,2,    1.562,2,   2242.5,2,   2280.2,2,   7.4400,2,    25.00,   3.1007,2,    0.018,2,    0.000,2,    99.48,2,     -999,9
49NZ20120113  ,P10N       ,     112,  1,         30,12015      ,2,20120205,1244,  41.7507, 144.1268,     1484,    329.8,   3.1924,  33.7469,2,  33.7478,2,    119.2,2,    120.2,2,    81.93,2,    37.39,2,     0.02,2,     2.76,2,    2.932,2,    1.521,2,    0.211,2,    1.184,2,   2277.1,2,   2292.1,2,   7.3699,2,    25.00,   3.1922,2,    0.020,2,    0.000,2,    99.54,2,     -999,9
49NZ20120113  ,P10N       ,     112,  1,         29,12014      ,2,20120205,1244,  41.7507, 144.1268,     1484,    429.7,   3.2663,  33.8844,2,  33.8982,2,     78.9,2,     77.3,2,    95.38,2,    40.32,2,     0.01,2,     2.94,2,    2.244,2,    1.161,2,    0.155,6,    0.770,6,   2308.3,2,   2308.6,2,   7.3216,2,    25.00,   3.2693,2,    0.021,2,    0.000,2,    99.63,2,     -999,9
49NZ20120113  ,P10N       ,     112,  1,         28,12024      ,2,20120205,1244,  41.7507, 144.1268,     1484,    529.7,   3.3967,  34.0131,2,  34.0124,2,     53.1,2,     53.5,2,   105.31,2,    41.94,2,     0.01,2,     3.03,2,    1.624,2,    0.853,2,    0.101,2,    0.505,2,   2329.9,2,   2322.1,2,   7.3009,2,    25.00,   3.3987,2,    0.022,2,    0.000,2,    99.68,2,     -999,9
49NZ20120113  ,P10N       ,     112,  1,         27,12012      ,2,20120205,1244,  41.7507, 144.1268,     1484,    628.7,   3.5335,  34.1613,2,  34.1629,2,     41.8,2,     42.1,2,   114.07,2,    42.00,2,     0.01,2,     3.04,2,    0.953,6,    0.503,6,    0.060,2,    0.271,2,   2341.9,2,   2340.1,2,   7.3190,2,    25.00,   3.5369,2,    0.022,2,    0.000,2,    99.72,2,     -999,9
49NZ20120113  ,P10N       ,     112,  1,         26,12010      ,2,20120205,1244,  41.7507, 144.1268,     1484,    727.6,   3.2501,  34.2058,2,  34.2055,2,     32.0,2,     31.9,2,   123.91,2,    43.03,2,     0.01,2,     3.11,2,    0.753,2,    0.401,2,    0.044,2,    0.184,2,   2355.9,6,   2349.4,2,   7.3012,2,    25.00,   3.2504,2,    0.023,2,    0.000,2,    99.76,2,     -999,9
49NZ20120113  ,P10N       ,     112,  1,         25,12009      ,2,20120205,1244,  41.7507, 144.1268,     1484,    829.7,   3.1328,  34.2646,2,  34.2642,2,     31.5,2,     31.4,2,   130.03,2,    43.05,2,     0.01,2,     3.11,2,    0.562,2,    0.297,2,    0.029,2,    0.159,2,   2363.2,2,   2359.5,6,   7.3110,2,    25.00,   3.1324,2,    0.022,2,    0.000,2,    99.76,2,     -999,9
49NZ20120113  ,P10N       ,     112,  1,         24,12008      ,2,20120205,1244,  41.7507, 144.1268,     1484,    930.2,   3.0775,  34.3368,2,  34.3372,2,     36.7,2,     37.0,2,   133.22,2,    42.50,2,     0.01,2,     3.09,2,    0.357,2,    0.184,2,    0.017,2,    0.099,2,   2362.9,2,   2369.9,2,   7.3382,6,    25.00,   3.0768,2,    0.021,2,    0.000,2,    99.74,2,     -999,9
49NZ20120113  ,P10N       ,     112,  1,         23,12007      ,2,20120205,1244,  41.7507, 144.1268,     1484,   1071.2,   2.8518,  34.3865,2,  34.3865,2,     36.6,2,     36.8,2,   140.20,2,    42.76,2,     0.01,2,     3.10,2,    0.247,2,    0.130,2,    0.012,2,    0.082,2,   2369.7,2,   2379.3,2,   7.3410,2,    25.00,   2.8514,2,    0.021,2,    0.000,2,    99.73,2,     -999,9
49NZ20120113  ,P10N       ,     112,  1,         22,12022      ,2,20120205,1244,  41.7507, 144.1268,     1484,   1271.0,   2.6207,  34.4423,2,  34.4425,2,     39.0,2,     39.2,2,   147.25,2,    42.80,2,     0.01,2,     3.10,2,    0.145,2,    0.076,2,    0.006,2,    0.083,2,   2376.4,2,   2389.4,2,   7.3548,2,    25.00,   2.6205,2,    0.021,2,    0.000,2,    99.73,2,     -999,9
49NZ20120113  ,P10N       ,     112,  1,          1,12001      ,2,20120205,1244,  41.7507, 144.1268,     1484,   1483.2,   2.3629,  34.4922,2,  34.4905,3,     44.2,2,     44.1,2,   155.44,2,    42.48,2,     0.02,2,     3.08,2,    0.096,2,    0.050,2,    0.004,2,    0.030,2,   2379.4,2,   2399.3,2,   7.3684,2,    25.00,   2.3627,2,    0.021,2,    0.000,2,    98.95,2,     -999,9