BOTTLE,20231026CCHSIOVAJ
EXPOCODE,SECT_ID,STNNBR,CASTNO,SAMPNO,BTLNBR,BTLNBR_FLAG_W,DATE,TIME,LATITUDE,LONGITUDE,DEPTH,CTDPRS,CTDTMP,CTDSAL,CTDSAL_FLAG_W,SALNTY,SALNTY_FLAG_W,CTDOXY,CTDOXY_FLAG_W,OXYGEN,OXYGEN_FLAG_W,SILCAT,SILCAT_FLAG_W,NITRAT,NITRAT_FLAG_W,NITRIT,NITRIT_FLAG_W,PHSPHT,PHSPHT_FLAG_W,CFC-11,CFC-11_FLAG_W,CFC-12,CFC-12_FLAG_W,CFC113,CFC113_FLAG_W,SF6,SF6_FLAG_W,TCARBN,TCARBN_FLAG_W,ALKALI,ALKALI_FLAG_W,PH_TOT,PH_TOT_FLAG_W,PH_TMP,REFTMP,REFTMP_FLAG_W,CTDFLUOR,CTDFLUOR_FLAG_W,PAR,PAR_FLAG_W,CTDXMISS,CTDXMISS_FLAG_W,CHLORA,CHLORA_FLAG_W
,,,,,,,,,,,METERS,DBAR,ITS-90,PSS-78,,PSS-78,,UMOL/KG,,UMOL/KG,,UMOL/KG,,UMOL/KG,,UMOL/KG,,UMOL/KG,,PMOL/KG,,PMOL/KG,,PMOL/KG,,FMOL/KG,,UMOL/KG,,UMOL/KG,,,,DEG C,ITS-90,,MG/M^3,,VOLTS,,%TRANS,,UG/KG,
49NZ20120113  ,P10N       ,      61,  1,          0,BUC        ,2,20120115,0052,  20.4932, 149.3322,     4448,      0.0,     -999,     -999,9,  34.8072,2,     -999,9,     -999,9,     -999,9,     -999,9,     -999,9,     -999,9,     -999,9,     -999,9,     -999,9,     -999,9,     -999,9,     -999,9,     -999,9,     -999,     -999,9,     -999,9,     -999,9,     -999,9,     -999,9
49NZ20120113  ,P10N       ,      61,  1,         36,12021      ,2,20120115,0052,  20.4932, 149.3322,     4448,     10.7,  27.0968,  34.7909,2,  34.7904,2,    200.7,2,    200.9,2,     0.62,2,     0.10,2,     0.01,2,     0.06,2,    1.544,2,    0.990,2,    0.114,2,    1.179,2,     -999,9,     -999,9,     -999,9,     -999,  27.0974,2,    0.025,2,  586.164,2,    98.91,2,     -999,9
49NZ20120113  ,P10N       ,      61,  1,         35,12001      ,2,20120115,0052,  20.4932, 149.3322,     4448,     49.6,  27.0538,  34.7867,2,  34.7869,2,    200.4,2,    200.9,2,     0.64,2,     0.09,2,     0.01,2,     0.04,2,    1.538,2,    0.988,2,    0.117,6,    1.151,6,     -999,9,     -999,9,     -999,9,     -999,  27.0533,2,    0.055,2,  114.454,2,    98.84,2,     -999,9
49NZ20120113  ,P10N       ,      61,  1,         34,12019      ,2,20120115,0052,  20.4932, 149.3322,     4448,    100.3,  26.8430,  34.8353,2,  34.8420,2,    201.0,2,    202.0,2,     0.68,2,     0.07,2,     0.01,2,     0.04,2,    1.573,6,    1.010,6,    0.117,2,    1.179,2,     -999,9,     -999,9,     -999,9,     -999,  26.8404,2,    0.117,2,   26.102,2,    98.90,2,     -999,9
49NZ20120113  ,P10N       ,      61,  1,         33,12018      ,2,20120115,0052,  20.4932, 149.3322,     4448,    149.6,  22.2995,  35.0646,2,  35.0665,2,    190.9,2,    191.7,2,     1.27,2,     0.88,2,     0.04,2,     0.12,2,    1.944,2,    1.211,2,    0.085,2,    1.268,2,     -999,9,     -999,9,     -999,9,     -999,  22.2974,2,    0.160,2,    1.779,2,    99.16,2,     -999,9
49NZ20120113  ,P10N       ,      61,  1,         32,12017      ,2,20120115,0052,  20.4932, 149.3322,     4448,    199.0,  19.2390,  34.8335,2,  34.8323,2,    195.9,2,    196.5,2,     2.30,2,     2.60,2,     0.02,2,     0.22,2,    2.198,2,    1.341,2,    0.049,2,    1.342,2,     -999,9,     -999,9,     -999,9,     -999,  19.2369,2,    0.028,2,    0.276,2,    99.50,2,     -999,9
49NZ20120113  ,P10N       ,      61,  1,         31,12016      ,2,20120115,0052,  20.4932, 149.3322,     4448,    251.0,  17.8111,  34.7199,2,  34.7188,2,    197.0,2,    197.5,2,     3.51,2,     4.55,2,     0.02,2,     0.33,2,    2.350,2,    1.413,2,    0.028,2,    1.366,2,     -999,9,     -999,9,     -999,9,     -999,  17.8095,2,    0.008,2,    0.018,2,    99.58,2,     -999,9
49NZ20120113  ,P10N       ,      61,  1,         30,12015      ,2,20120115,0052,  20.4932, 149.3322,     4448,    299.2,  16.1924,  34.6284,2,  34.6289,2,    191.8,2,    192.2,2,     6.12,2,     7.43,2,     0.02,2,     0.52,2,    2.532,2,    1.486,2,    0.019,2,    1.239,2,     -999,9,     -999,9,     -999,9,     -999,  16.1925,2,    0.005,2,    0.000,2,    99.65,2,     -999,9
49NZ20120113  ,P10N       ,      61,  1,         29,12014      ,2,20120115,0052,  20.4932, 149.3322,     4448,    399.5,  12.7049,  34.3772,2,  34.3826,2,    185.3,2,    185.7,2,    13.64,2,    13.20,2,     0.02,2,     0.96,2,    2.845,2,    1.579,2,    0.019,6,    1.097,6,     -999,9,     -999,9,     -999,9,     -999,  12.7010,2,    0.007,2,    0.000,2,    99.72,2,     -999,9
49NZ20120113  ,P10N       ,      61,  1,         28,12101      ,2,20120115,0052,  20.4932, 149.3322,     4448,    498.8,   9.6201,  34.1930,2,  34.1935,2,    154.7,2,    154.8,2,    28.62,2,    21.65,2,     0.01,2,     1.57,2,    2.541,2,    1.346,2,    0.002,2,    0.731,2,     -999,9,     -999,9,     -999,9,     -999,   9.6232,2,    0.010,2,    0.000,2,    99.77,2,     -999,9
49NZ20120113  ,P10N       ,      61,  1,         27,12012      ,2,20120115,0052,  20.4932, 149.3322,     4448,    599.5,   6.9993,  34.1462,2,  34.1493,2,     96.9,2,     96.3,2,    54.04,2,    31.83,2,     0.01,2,     2.32,2,    1.430,6,    0.723,6,    0.000,2,    0.313,2,     -999,9,     -999,9,     -999,9,     -999,   7.0021,2,    0.015,2,    0.000,2,    99.78,2,     -999,9
49NZ20120113  ,P10N       ,      61,  1,         26,12010      ,2,20120115,0052,  20.4932, 149.3322,     4448,    699.2,   5.6864,  34.2145,2,  34.2140,2,     63.9,2,     64.2,2,    74.28,2,    37.16,2,     0.01,2,     2.72,2,    0.649,2,    0.321,2,    0.012,2,    0.141,2,     -999,9,     -999,9,     -999,9,     -999,   5.6896,2,    0.019,2,    0.000,2,    99.80,2,     -999,9
49NZ20120113  ,P10N       ,      61,  1,         25,12009      ,2,20120115,0052,  20.4932, 149.3322,     4448,    800.0,   5.0886,  34.3621,2,  34.3620,2,     58.0,2,     58.0,2,    86.50,2,    38.99,2,     0.01,2,     2.85,2,    0.221,2,    0.112,2,    0.003,2,    0.032,2,     -999,9,     -999,9,     -999,9,     -999,   5.0896,2,    0.018,2,    0.000,2,    99.82,2,     -999,9
49NZ20120113  ,P10N       ,      61,  1,         24,12008      ,2,20120115,0052,  20.4932, 149.3322,     4448,    899.8,   4.5978,  34.4229,2,  34.4235,2,     60.6,2,     60.6,2,    95.38,2,    39.55,2,     0.01,2,     2.87,2,    0.113,2,    0.059,2,    0.001,2,    0.000,2,     -999,9,     -999,9,     -999,9,     -999,   4.5981,2,    0.018,2,    0.000,2,    99.83,2,     -999,9
49NZ20120113  ,P10N       ,      61,  1,         23,12007      ,2,20120115,0052,  20.4932, 149.3322,     4448,    998.5,   4.1923,  34.4778,2,  34.4779,2,     70.7,2,     70.4,2,   102.96,2,    39.38,2,     0.01,2,     2.86,2,    0.081,2,    0.042,2,    0.001,2,    0.000,2,     -999,9,     -999,9,     -999,9,     -999,   4.1929,2,    0.017,2,    0.000,2,    99.85,2,     -999,9
49NZ20120113  ,P10N       ,      61,  1,         22,12022      ,2,20120115,0052,  20.4932, 149.3322,     4448,   1198.8,   3.5281,  34.5364,2,  34.5366,2,     82.7,2,     82.8,2,   114.61,2,    39.17,2,     0.01,2,     2.82,2,    0.048,2,    0.027,2,    0.001,2,    0.000,2,     -999,9,     -999,9,     -999,9,     -999,   3.5285,2,    0.016,2,    0.000,2,    99.88,2,     -999,9
49NZ20120113  ,P10N       ,      61,  1,         21,12036      ,2,20120115,0052,  20.4932, 149.3322,     4448,   1399.7,   3.0582,  34.5590,2,  34.5594,2,     85.4,2,     85.6,2,   123.63,2,    39.50,2,     0.01,2,     2.84,2,    0.009,2,    0.005,2,    0.000,2,    0.000,2,     -999,9,     -999,9,     -999,9,     -999,   3.0585,2,    0.016,2,    0.000,2,    99.90,2,     -999,9
49NZ20120113  ,P10N       ,      61,  1,         20,12035      ,2,20120115,0052,  20.4932, 149.3322,     4448,   1599.4,   2.5696,  34.5760,2,  34.5764,2,     90.5,2,     90.8,2,   133.13,2,    39.50,2,     0.01,2,     2.84,2,    0.005,2,    0.003,2,    0.001,2,    0.000,2,     -999,9,     -999,9,     -999,9,     -999,   2.5696,2,    0.015,2,    0.000,2,    99.90,2,     -999,9
49NZ20120113  ,P10N       ,      61,  1,         19,12034      ,2,20120115,0052,  20.4932, 149.3322,     4448,   1801.8,   2.2354,  34.6023,2,  34.6029,2,    100.2,2,    100.6,2,   138.58,2,    39.18,2,     0.01,2,     2.80,2,    0.000,2,    0.001,2,    0.000,2,    0.000,2,     -999,9,     -999,9,     -999,9,     -999,   2.2353,2,    0.014,2,    0.000,2,    99.91,2,     -999,9
49NZ20120113  ,P10N       ,      61,  1,         18,12033      ,2,20120115,0052,  20.4932, 149.3322,     4448,   1998.9,   2.0551,  34.6173,2,  34.6172,2,    106.5,2,    106.8,2,   141.27,2,    38.85,2,     0.01,2,     2.76,2,    0.003,2,    0.004,2,    0.000,2,    0.000,2,     -999,9,     -999,9,     -999,9,     -999,   2.0554,2,    0.014,2,    0.000,2,    99.92,2,     -999,9
49NZ20120113  ,P10N       ,      61,  1,         17,12032      ,2,20120115,0052,  20.4932, 149.3322,     4448,   2200.3,   1.9149,  34.6313,2,  34.6316,2,    112.6,2,    112.8,2,   143.32,2,    38.57,2,     0.01,2,     2.74,2,    0.000,2,    0.001,2,    0.000,2,     -999,9,     -999,9,     -999,9,     -999,9,     -999,   1.9150,2,    0.014,2,    0.000,2,    99.93,2,     -999,9
49NZ20120113  ,P10N       ,      61,  1,         16,12046      ,2,20120115,0052,  20.4932, 149.3322,     4448,   2398.6,   1.8327,  34.6411,2,  34.6418,2,    117.3,2,    117.6,2,   144.29,2,    38.27,2,     0.01,2,     2.72,2,    0.000,2,    0.000,2,    0.000,2,    0.000,2,     -999,9,     -999,9,     -999,9,     -999,   1.8326,2,    0.013,2,    0.000,2,    99.93,2,     -999,9
49NZ20120113  ,P10N       ,      61,  1,         15,12030      ,2,20120115,0052,  20.4932, 149.3322,     4448,   2599.2,   1.7670,  34.6486,2,  34.6489,2,    121.7,2,    121.8,2,   145.09,2,    38.06,2,     0.01,2,     2.70,2,    0.001,2,    0.000,2,    0.000,2,    0.034,2,     -999,9,     -999,9,     -999,9,     -999,   1.7669,2,    0.013,2,    0.000,2,    99.93,2,     -999,9
49NZ20120113  ,P10N       ,      61,  1,         14,12029      ,2,20120115,0052,  20.4932, 149.3322,     4448,   2799.2,   1.6933,  34.6566,2,  34.6570,2,    126.9,2,    127.0,2,   145.39,2,    37.72,2,     0.01,2,     2.66,2,    0.000,2,    0.000,2,    0.000,2,     -999,9,     -999,9,     -999,9,     -999,9,     -999,   1.6932,2,    0.012,2,    0.000,2,    99.95,2,     -999,9
49NZ20120113  ,P10N       ,      61,  1,         13,12028      ,2,20120115,0052,  20.4932, 149.3322,     4448,   3002.6,   1.6319,  34.6634,2,  34.6645,2,    132.1,2,    132.2,2,   145.29,2,    37.41,2,     0.01,2,     2.64,2,    0.002,2,    0.001,2,    0.000,2,    0.036,2,     -999,9,     -999,9,     -999,9,     -999,   1.6317,2,    0.012,2,    0.000,2,    99.95,2,     -999,9
49NZ20120113  ,P10N       ,      61,  1,         12,12027      ,2,20120115,0052,  20.4932, 149.3322,     4448,   3251.9,   1.5888,  34.6681,2,  34.6684,2,    137.0,2,    137.0,2,   144.53,2,    37.03,2,     0.01,2,     2.61,2,    0.000,2,    0.000,2,    0.000,2,     -999,9,     -999,9,     -999,9,     -999,9,     -999,   1.5886,2,    0.012,2,    0.000,2,    99.95,2,     -999,9
49NZ20120113  ,P10N       ,      61,  1,         11,12011      ,2,20120115,0052,  20.4932, 149.3322,     4448,   3500.0,   1.5813,  34.6716,2,  34.6723,2,    139.6,2,    139.7,2,   144.27,2,    36.86,2,     0.01,2,     2.60,2,    0.000,2,    0.000,2,    0.000,2,    0.000,2,     -999,9,     -999,9,     -999,9,     -999,   1.5812,2,    0.011,2,    0.000,2,    99.95,2,     -999,9
49NZ20120113  ,P10N       ,      61,  1,         10,12026      ,2,20120115,0052,  20.4932, 149.3322,     4448,   3749.8,   1.5508,  34.6759,2,  34.6757,2,    144.4,2,    144.5,2,   143.34,2,    36.65,2,     0.01,2,     2.58,2,    0.001,2,    0.000,2,    0.000,2,    0.000,2,     -999,9,     -999,9,     -999,9,     -999,   1.5507,2,    0.011,2,    0.000,2,    99.95,2,     -999,9
49NZ20120113  ,P10N       ,      61,  1,          9,12025      ,2,20120115,0052,  20.4932, 149.3322,     4448,   3999.7,   1.5275,  34.6795,2,  34.6796,2,    148.8,2,    149.0,2,   141.90,2,    36.28,2,     0.01,2,     2.55,2,    0.001,2,    0.001,2,    0.000,2,    0.000,2,     -999,9,     -999,9,     -999,9,     -999,   1.5274,2,    0.011,2,    0.000,2,    99.95,2,     -999,9
49NZ20120113  ,P10N       ,      61,  1,          8,12024      ,2,20120115,0052,  20.4932, 149.3322,     4448,   4250.2,   1.4904,  34.6845,2,  34.6846,2,    155.8,2,    156.1,2,   139.46,2,    35.79,2,     0.01,2,     2.52,2,    0.004,2,    0.002,2,    0.000,2,     -999,9,     -999,9,     -999,9,     -999,9,     -999,   1.4902,2,    0.010,2,    0.000,2,    99.95,2,     -999,9
49NZ20120113  ,P10N       ,      61,  1,          1,12001      ,2,20120115,0052,  20.4932, 149.3322,     4448,   4504.7,   1.5023,  34.6859,2,  34.6861,2,    157.8,2,    158.0,2,   138.57,2,    35.65,2,     0.01,2,     2.51,2,    0.000,2,    0.000,2,    0.001,2,    0.000,2,     -999,9,     -999,9,     -999,9,     -999,   1.5020,2,    0.010,2,    0.000,2,    99.95,2,     -999,9