BOTTLE,20231026CCHSIOVAJ
EXPOCODE,SECT_ID,STNNBR,CASTNO,SAMPNO,BTLNBR,BTLNBR_FLAG_W,DATE,TIME,LATITUDE,LONGITUDE,DEPTH,CTDPRS,CTDTMP,CTDSAL,CTDSAL_FLAG_W,SALNTY,SALNTY_FLAG_W,CTDOXY,CTDOXY_FLAG_W,OXYGEN,OXYGEN_FLAG_W,SILCAT,SILCAT_FLAG_W,NITRAT,NITRAT_FLAG_W,NITRIT,NITRIT_FLAG_W,PHSPHT,PHSPHT_FLAG_W,CFC-11,CFC-11_FLAG_W,CFC-12,CFC-12_FLAG_W,CFC113,CFC113_FLAG_W,SF6,SF6_FLAG_W,TCARBN,TCARBN_FLAG_W,ALKALI,ALKALI_FLAG_W,PH_TOT,PH_TOT_FLAG_W,PH_TMP,REFTMP,REFTMP_FLAG_W,CTDFLUOR,CTDFLUOR_FLAG_W,PAR,PAR_FLAG_W,CTDXMISS,CTDXMISS_FLAG_W,CHLORA,CHLORA_FLAG_W
,,,,,,,,,,,METERS,DBAR,ITS-90,PSS-78,,PSS-78,,UMOL/KG,,UMOL/KG,,UMOL/KG,,UMOL/KG,,UMOL/KG,,UMOL/KG,,PMOL/KG,,PMOL/KG,,PMOL/KG,,FMOL/KG,,UMOL/KG,,UMOL/KG,,,,DEG C,ITS-90,,MG/M^3,,VOLTS,,%TRANS,,UG/KG,
49NZ20120113  ,P10N       ,      83,  1,          0,BUC        ,2,20120123,2049,  32.8172, 149.3352,     6006,      0.0,     -999,     -999,9,  34.6994,2,     -999,9,     -999,9,     -999,9,     -999,9,     -999,9,     -999,9,     -999,9,     -999,9,     -999,9,     -999,9,     -999,9,     -999,9,     -999,9,     -999,     -999,9,     -999,9,     -999,9,     -999,9,     -999,9
49NZ20120113  ,P10N       ,      83,  1,         36,12021      ,2,20120123,2049,  32.8172, 149.3352,     6006,     16.4,  18.5936,  34.6965,2,  34.7056,2,    224.2,2,    223.1,2,     2.31,2,     1.58,2,     0.25,2,     0.16,2,     -999,5,     -999,5,     -999,5,     -999,9,   1998.2,2,   2281.6,2,   8.0195,6,    25.00,  18.5918,4,    0.257,2,   29.378,2,    98.70,2,     -999,9
49NZ20120113  ,P10N       ,      83,  1,         35,12001      ,2,20120123,2049,  32.8172, 149.3352,     6006,     48.3,  18.6346,  34.7130,2,  34.7130,2,    223.1,2,    223.0,2,     2.25,2,     1.62,2,     0.25,2,     0.16,2,    2.136,2,    1.320,2,    0.163,2,     -999,9,   1998.7,6,   2282.7,2,   8.0204,2,    25.00,  18.6078,4,    0.224,2,   15.331,2,    98.76,2,     -999,9
49NZ20120113  ,P10N       ,      83,  1,         34,12019      ,2,20120123,2049,  32.8172, 149.3352,     6006,     99.3,  18.6441,  34.7135,2,  34.7133,2,    223.1,2,    222.7,2,     2.25,2,     1.59,2,     0.25,2,     0.16,2,    2.133,6,    1.317,6,    0.172,6,     -999,9,   1997.3,2,   2282.9,6,   8.0186,2,    25.00,  18.6439,4,    0.197,2,    1.617,2,    98.77,2,     -999,9
49NZ20120113  ,P10N       ,      83,  1,         33,12018      ,2,20120123,2049,  32.8172, 149.3352,     6006,    147.1,  18.6480,  34.7135,2,  34.7135,2,    222.8,2,    222.4,2,     2.34,2,     1.66,2,     0.25,2,     0.19,2,    2.131,2,    1.318,2,    0.167,2,     -999,9,   1998.6,2,   2282.8,2,   8.0180,6,    25.00,  18.6481,4,    0.215,2,    0.212,2,    98.81,2,     -999,9
49NZ20120113  ,P10N       ,      83,  1,         32,12017      ,2,20120123,2049,  32.8172, 149.3352,     6006,    201.4,  18.6559,  34.7134,2,  34.7139,2,    222.3,2,    222.2,2,     2.48,2,     1.72,2,     0.25,2,     0.18,2,    2.125,2,    1.311,2,    0.167,2,     -999,9,   1999.7,2,   2283.5,2,   8.0181,2,    25.00,  18.6575,4,    0.296,2,    0.001,2,    98.86,2,     -999,9
49NZ20120113  ,P10N       ,      83,  1,         31,12016      ,2,20120123,2049,  32.8172, 149.3352,     6006,    250.5,  17.9157,  34.7211,2,  34.7237,2,    199.0,2,    198.9,2,     4.19,2,     4.73,2,     0.03,2,     0.36,2,    2.275,2,    1.378,2,    0.070,2,     -999,9,   2032.5,2,   2282.6,2,   7.9615,2,    25.00,  17.9664,4,    0.006,2,    0.000,2,    99.57,2,     -999,9
49NZ20120113  ,P10N       ,      83,  1,         30,12015      ,2,20120123,2049,  32.8172, 149.3352,     6006,    329.5,  16.9594,  34.6774,2,  34.6785,2,    193.2,2,    193.4,2,     6.46,2,     6.64,2,     0.02,2,     0.47,2,    2.339,2,    1.403,2,    0.050,2,     -999,9,   2047.3,2,   2282.3,2,   7.9312,2,    25.00,  16.9534,4,    0.004,2,    0.000,2,    99.61,2,     -999,9
49NZ20120113  ,P10N       ,      83,  1,         29,12014      ,2,20120123,2049,  32.8172, 149.3352,     6006,    429.7,  15.3318,  34.5838,2,  34.5846,2,    183.9,2,    184.3,2,    10.53,2,     9.98,2,     0.01,2,     0.71,2,    2.446,2,    1.434,2,    0.042,2,     -999,9,   2071.8,2,   2281.3,2,   7.8778,2,    25.00,  15.3804,4,    0.005,2,    0.000,2,    99.67,2,     -999,9
49NZ20120113  ,P10N       ,      83,  1,         28,12101      ,2,20120123,2049,  32.8172, 149.3352,     6006,    530.7,  13.1340,  34.4556,2,  34.4542,2,    169.6,2,    169.7,2,    19.67,2,    14.84,2,     0.02,2,     1.07,2,    2.432,2,    1.381,2,    0.043,2,     -999,9,   2110.0,2,   2281.8,2,   7.8006,2,    25.00,  13.1953,4,    0.006,2,    0.000,2,    99.64,2,     -999,9
49NZ20120113  ,P10N       ,      83,  1,         27,12012      ,2,20120123,2049,  32.8172, 149.3352,     6006,    629.3,  10.6277,  34.2997,2,  34.2920,2,    160.2,2,    160.7,2,    31.84,2,    19.95,2,     0.01,2,     1.48,2,    2.412,6,    1.325,6,    0.060,6,     -999,9,   2149.0,2,   2284.9,2,   7.7181,2,    25.00,  10.7549,4,    0.009,2,    0.000,2,    99.72,2,     -999,9
49NZ20120113  ,P10N       ,      83,  1,         26,12010      ,2,20120123,2049,  32.8172, 149.3352,     6006,    730.8,   7.7297,  34.2032,2,  34.2036,2,    129.8,2,    129.3,2,    54.67,2,    27.42,2,     0.02,2,     2.00,2,    1.921,2,    1.021,2,    0.066,2,     -999,9,   2209.9,6,   2300.4,2,   7.5985,2,    25.00,   7.7313,2,    0.012,2,    0.000,2,    99.63,2,     -999,9
49NZ20120113  ,P10N       ,      83,  1,         25,12009      ,2,20120123,2049,  32.8172, 149.3352,     6006,    831.0,   5.6555,  34.1156,2,  34.1154,2,    106.7,2,    105.9,2,    73.66,2,    33.30,2,     0.01,2,     2.45,2,    1.712,2,    0.899,2,    0.080,2,     -999,9,   2256.8,2,   2311.3,6,   7.4934,2,    25.00,   5.6513,2,    0.015,2,    0.000,2,    99.72,2,     -999,9
49NZ20120113  ,P10N       ,      83,  1,         24,12008      ,2,20120123,2049,  32.8172, 149.3352,     6006,    929.8,   4.5503,  34.1675,2,  34.1675,2,     71.7,2,     71.3,2,    94.23,2,    37.99,2,     0.01,2,     2.77,2,    1.150,2,    0.585,2,    0.060,2,     -999,9,   2302.1,2,   2330.0,2,   7.4125,6,    25.00,   4.5511,2,    0.019,2,    0.000,2,    99.71,2,     -999,9
49NZ20120113  ,P10N       ,      83,  1,         23,12007      ,2,20120123,2049,  32.8172, 149.3352,     6006,   1070.4,   3.9018,  34.2759,2,  34.2754,2,     52.2,2,     51.9,2,   112.07,2,    40.40,2,     0.01,2,     2.93,2,    0.597,2,    0.293,2,    0.032,2,     -999,9,   2333.3,2,   2350.1,2,   7.3865,2,    25.00,   3.9019,2,    0.021,2,    0.000,2,    99.73,2,     -999,9
49NZ20120113  ,P10N       ,      83,  1,         22,12022      ,2,20120123,2049,  32.8172, 149.3352,     6006,   1270.6,   3.2689,  34.3671,2,  34.3666,2,     39.0,2,     38.6,2,   128.86,2,    42.31,2,     0.01,2,     3.05,2,    0.219,2,    0.103,2,    0.018,2,     -999,9,   2359.4,2,   2371.7,2,   7.3644,2,    25.00,   3.2696,2,    0.021,2,    0.000,2,    99.74,2,     -999,9
49NZ20120113  ,P10N       ,      83,  1,         21,12036      ,2,20120123,2049,  32.8172, 149.3352,     6006,   1472.2,   2.7685,  34.4518,2,  34.4516,2,     37.7,2,     37.5,2,   143.16,2,    42.99,2,     0.01,2,     3.10,2,    0.072,2,    0.035,2,    0.016,2,     -999,9,   2376.0,2,   2389.7,2,   7.3668,2,    25.00,   2.7686,2,    0.021,2,    0.000,2,    99.72,2,     -999,9
49NZ20120113  ,P10N       ,      83,  1,         20,12035      ,2,20120123,2049,  32.8172, 149.3352,     6006,   1671.5,   2.4518,  34.5042,2,  34.5041,2,     44.2,2,     44.1,2,   150.99,2,    42.86,2,     0.01,2,     3.09,2,    0.035,2,    0.016,2,    0.012,2,     -999,9,   2382.6,2,   2400.1,2,   7.3828,6,    25.00,   2.4519,2,    0.020,2,    0.000,2,    99.67,2,     -999,9
49NZ20120113  ,P10N       ,      83,  1,         19,12034      ,2,20120123,2049,  32.8172, 149.3352,     6006,   1870.0,   2.2113,  34.5499,2,  34.5501,2,     55.9,2,     55.9,2,   155.70,2,    42.30,2,     0.01,2,     3.02,2,    0.017,2,    0.009,2,    0.000,2,     -999,9,   2379.0,2,   2408.0,2,   7.4071,2,    25.00,   2.2115,2,    0.018,2,    0.000,2,    99.79,2,     -999,9
49NZ20120113  ,P10N       ,      83,  1,         18,12033      ,2,20120123,2049,  32.8172, 149.3352,     6006,   2070.7,   2.0479,  34.5809,2,  34.5810,2,     69.0,2,     69.0,2,   157.04,2,    41.52,2,     0.01,2,     2.95,2,    0.008,2,    0.005,2,    0.000,2,     -999,9,   2374.8,2,   2412.8,2,   7.4340,2,    25.00,   2.0479,2,    0.018,2,    0.000,2,    99.82,2,     -999,9
49NZ20120113  ,P10N       ,      83,  1,         17,12032      ,2,20120123,2049,  32.8172, 149.3352,     6006,   2269.8,   1.8979,  34.6062,2,  34.6067,2,     82.9,2,     83.2,2,   157.26,2,    40.60,2,     0.01,2,     2.88,2,    0.001,2,    0.001,2,    0.000,2,     -999,9,   2367.9,2,   2416.7,2,   7.4610,2,    25.00,   1.8980,2,    0.016,2,    0.000,2,    99.62,2,     -999,9
49NZ20120113  ,P10N       ,      83,  1,         16,12046      ,2,20120123,2049,  32.8172, 149.3352,     6006,   2469.8,   1.7853,  34.6256,2,  34.6258,2,     95.9,2,     95.9,2,   156.34,2,    39.75,2,     0.01,2,     2.82,2,    0.000,2,    0.000,2,    0.000,2,     -999,9,   2361.0,6,   2418.7,2,   7.4867,2,    25.00,   1.7854,2,    0.015,2,    0.000,2,    99.66,2,     -999,9
49NZ20120113  ,P10N       ,      83,  1,         15,12030      ,2,20120123,2049,  32.8172, 149.3352,     6006,   2671.2,   1.7023,  34.6403,2,  34.6405,2,    108.1,2,    108.3,2,   154.63,2,    39.04,2,     0.01,2,     2.76,2,    0.000,2,    0.000,2,    0.000,2,     -999,9,   2355.3,2,   2419.8,6,   7.5089,2,    25.00,   1.7026,2,    0.014,2,    0.000,2,    99.58,2,     -999,9
49NZ20120113  ,P10N       ,      83,  1,         14,12029      ,2,20120123,2049,  32.8172, 149.3352,     6006,   2871.3,   1.6346,  34.6517,2,  34.6517,2,    118.2,2,    118.2,2,   152.65,2,    38.38,2,     0.01,2,     2.70,2,    0.000,2,    0.000,2,    0.000,2,     -999,9,   2349.0,2,   2420.6,2,   7.5277,6,    25.00,   1.6349,2,    0.013,2,    0.000,2,    99.86,2,     -999,9
49NZ20120113  ,P10N       ,      83,  1,         13,12028      ,2,20120123,2049,  32.8172, 149.3352,     6006,   3079.7,   1.5942,  34.6593,2,  34.6590,2,    125.2,2,    125.5,2,   151.74,2,    37.93,2,     0.01,2,     2.68,2,     -999,9,     -999,9,     -999,9,     -999,9,   2343.8,2,   2421.0,2,   7.5404,2,    25.00,   1.5944,2,    0.012,2,    0.000,2,    99.83,2,     -999,9
49NZ20120113  ,P10N       ,      83,  1,         12,12027      ,2,20120123,2049,  32.8172, 149.3352,     6006,   3330.3,   1.5564,  34.6664,2,  34.6662,2,    132.3,2,    132.3,2,   149.71,2,    37.36,2,     0.01,2,     2.64,2,    0.000,2,    0.000,2,    0.000,2,     -999,9,   2339.5,2,   2420.7,2,   7.5523,2,    25.00,   1.5566,2,    0.011,2,    0.000,2,    99.80,2,     -999,9
49NZ20120113  ,P10N       ,      83,  1,         11,12011      ,2,20120123,2049,  32.8172, 149.3352,     6006,   3579.6,   1.5341,  34.6715,2,  34.6714,2,    137.7,2,    137.5,2,   148.57,2,    37.13,2,     0.01,2,     2.62,2,     -999,9,     -999,9,     -999,9,     -999,9,   2334.7,2,   2421.3,2,   7.5606,2,    25.00,   1.5341,2,    0.011,2,    0.000,2,    99.89,2,     -999,9
49NZ20120113  ,P10N       ,      83,  1,         10,12026      ,2,20120123,2049,  32.8172, 149.3352,     6006,   3830.7,   1.5128,  34.6764,2,  34.6762,2,    143.3,2,    143.0,2,   147.49,2,    36.76,2,     0.01,2,     2.60,2,    0.000,2,    0.002,2,    0.000,2,     -999,9,   2332.3,2,   2420.6,2,   7.5692,2,    25.00,   1.5130,2,    0.010,2,    0.000,2,    99.60,2,     -999,9
49NZ20120113  ,P10N       ,      83,  1,          9,12025      ,2,20120123,2049,  32.8172, 149.3352,     6006,   4080.2,   1.4993,  34.6805,2,  34.6800,2,    148.0,2,    147.6,2,   146.19,2,    36.43,2,     0.01,2,     2.56,2,     -999,9,     -999,9,     -999,9,     -999,9,   2329.9,2,   2419.8,2,   7.5781,2,    25.00,   1.4993,2,    0.010,2,    0.000,2,    99.77,2,     -999,9
49NZ20120113  ,P10N       ,      83,  1,          8,12024      ,2,20120123,2049,  32.8172, 149.3352,     6006,   4328.8,   1.4961,  34.6835,2,  34.6836,2,    151.9,2,    151.5,2,   144.84,2,    36.12,2,     0.01,2,     2.54,2,    0.000,2,    0.000,2,    0.000,2,     -999,9,   2326.3,6,   2418.9,2,   7.5841,2,    25.00,   1.4962,2,    0.010,2,    0.000,2,    99.82,2,     -999,9
49NZ20120113  ,P10N       ,      83,  1,          7,12023      ,2,20120123,2049,  32.8172, 149.3352,     6006,   4579.7,   1.5003,  34.6858,2,  34.6858,2,    155.1,2,    154.7,2,   144.13,2,    35.93,2,     0.01,2,     2.53,2,     -999,9,     -999,9,     -999,9,     -999,9,   2322.0,2,   2417.8,6,   7.5878,2,    25.00,   1.5003,2,    0.010,2,    0.000,2,    99.84,2,     -999,9
49NZ20120113  ,P10N       ,      83,  1,          6,12006      ,2,20120123,2049,  32.8172, 149.3352,     6006,   4829.0,   1.5112,  34.6876,2,  34.6876,2,    157.6,2,    157.3,2,   143.21,2,    35.78,2,     0.01,2,     2.52,2,    0.000,2,    0.000,2,    0.000,2,     -999,9,   2320.9,2,   2417.5,2,   7.5926,2,    25.00,   1.5111,2,    0.009,2,    0.000,2,    99.81,2,     -999,9
49NZ20120113  ,P10N       ,      83,  1,          5,12102      ,2,20120123,2049,  32.8172, 149.3352,     6006,   5079.7,   1.5234,  34.6895,2,  34.6897,2,    160.4,2,    160.1,2,   141.42,2,    35.58,2,     0.01,2,     2.50,2,     -999,9,     -999,9,     -999,9,     -999,9,   2317.2,2,   2415.8,2,   7.5959,2,    25.00,   1.5235,2,    0.009,2,    0.000,2,    99.74,2,     -999,9
49NZ20120113  ,P10N       ,      83,  1,          4,12104      ,2,20120123,2049,  32.8172, 149.3352,     6006,   5329.5,   1.5418,  34.6906,2,  34.6910,2,    162.8,2,    162.7,2,   139.72,2,    35.36,2,     0.01,2,     2.48,2,    0.003,2,    0.001,2,    0.000,2,     -999,9,   2317.3,2,   2414.0,2,   7.5995,2,    25.00,   1.5418,2,    0.009,2,    0.000,2,    99.82,2,     -999,9
49NZ20120113  ,P10N       ,      83,  1,          3,12003      ,2,20120123,2049,  32.8172, 149.3352,     6006,   5580.0,   1.5626,  34.6918,2,  34.6920,2,    165.0,2,    164.7,2,   137.70,2,    35.21,2,     0.01,2,     2.47,2,     -999,9,     -999,9,     -999,9,     -999,9,   2313.8,2,   2412.9,2,   7.6009,2,    25.00,   1.5626,2,    0.009,2,    0.000,2,    99.78,2,     -999,9
49NZ20120113  ,P10N       ,      83,  1,          2,12103      ,2,20120123,2049,  32.8172, 149.3352,     6006,   5830.3,   1.5859,  34.6928,2,  34.6935,2,    166.4,2,    166.3,2,   136.82,2,    35.12,2,     0.01,2,     2.45,2,    0.004,2,    0.002,2,    0.000,2,     -999,9,   2311.2,2,   2412.4,2,   7.6026,2,    25.00,   1.5859,2,    0.009,2,    0.000,2,    99.76,2,     -999,9
49NZ20120113  ,P10N       ,      83,  1,          1,12001      ,2,20120123,2049,  32.8172, 149.3352,     6006,   6109.4,   1.6113,  34.6939,2,  34.6944,2,    169.0,2,    169.1,2,   134.22,2,    34.92,2,     0.01,2,     2.42,2,    0.004,2,    0.000,2,    0.000,2,     -999,9,   2308.0,2,   2410.6,2,   7.6058,2,    25.00,   1.6112,2,    0.009,2,    0.000,2,    99.50,2,     -999,9
49NZ20120113  ,P10N       ,      84,  1,          0,BUC        ,2,20120124,0705,  33.1530, 149.3290,     6115,      0.0,     -999,     -999,9,  34.7089,2,     -999,9,     -999,9,     -999,9,     -999,9,     -999,9,     -999,9,     -999,9,     -999,9,     -999,9,     -999,9,     -999,9,     -999,9,     -999,9,     -999,     -999,9,     -999,9,     -999,9,     -999,9,     -999,9