BOTTLE,20231026CCHSIOVAJ
# Changed parameter name FLUOR to CTDFLUOR
# Changed CTDFLUOR units from UG/L to MG/M^3
# Changed parameter name FLUOR_FLAG_W to CTDFLUOR_FLAG_W
# Changed parameter name SBE35 to REFTMP
# Changed REFTMP units from '' to ITS-90
# Changed parameter name SBE35_FLAG_W to REFTMP_FLAG_W
# Removed parameter THETA
# Changed BTLNBR value 0 to 'BUC' to reflect surface bucket sampling
# Changed BTLNBR_FLAG_W value from 9 to 2 for all 'BUC' samples
# Updated CTDPRS values for all 'BUC' samples from -999.0 to 0
# Changed CASTNO from 1 to 2 at STNNBR 86 for samples taken at TIME 1638
# Added CCHDO citation information
# DATA CITATION
#| CCHDO Citation Information
#|
#| Please cite data downloaded from CCHDO as: 
#| [Data providers of the parameter(s) used]. [Year of file access]. [CTD/Bottle] data from cruise [expocode], 
#| [format version used]. Accessed from CCHDO [url of cruise data page]. Access date [date of download].
#| [Applicable CCHDO cruise DOI if provided].
#|
#| For example: 
#| Swift, J. and Becker, S. 2019. CTD data from Cruise 33RR20160321, exchange version. Accessed from CCHDO 
#| https://cchdo.ucsd.edu/cruise/33RR20160321. Access date 2019-08-21. CCHDO cruise DOI: 10.7942/C2008W
#|
#| Information on the scientists who provided the different parameters can be found in the cruise report. 
#| Additionally, for US GO-SHIP cruises, this information is usually in the comments section in the text headers 
#| of the Exchange bottle files.
#|
#| Users are also encouraged to acknowledge the funding program that supported the data collection in their publication. 
#| For US GO-SHIP data this is the NSF/NOAA funded U.S Repeat Hydrography Program.
#|
#| For data citation, please use the data providers listed below.
#BOTTLE,20231024CCHHYDRO
#BOTTLE,20140814PRINUNIVRMK
# 8/18/14 Initialized README file  
# Data source: http://www.jamstec.go.jp/iorgc/ocorp/data/p10rev_2011/index.html 
# SHIP: R/V Mirai 
# Cruise: MR11-08 
# Region: NW Pacific on ~145E; P10 
# EXPOCODE: 49NZ20120113 
# DATES: 1/13 - 2/92/2012 
# Chief Scientist: Y. Kumamoto 
# 43 stations with 36 place Rosette 
# Hydro: Who - H.Uchida; Status - final 
# 	Notes: 	 
# Nuts: Who - M.Aoyama; Status - final 
# 	Notes: 
# O2: Who - Y.Kumamoto; Status - final 
# 	Notes: 
# TCO2: Who - A. Murata; Status - final 
# 	Notes:  
# TA: Who - A. Murata; Status - final 
# 	Notes:  
# pH: Who - A. Murata; Status - final 
# 	Notes:  
# CFC: Who - K.Sasaki; Status - final 
# 	Notes: includes CFC-113 and SF6 
# C14: Who - Y.Kumamoto; Status - collected 
# 	Notes:  
# H3/He3: Who - T.Aono; Status - collected 
# 	Notes:  
# Other: Who - ; Status - 
# 	Notes:  
# References: 
# ---------------------------------- 
# BOTTLE,20140213JAMSTECRIGC 
# Software_Version: whp_btl_exchange.rb_v3.0 (occrp) 
# ORIGINAL_SUM_FILE: 49NZ20120113_sum.txt Tue Jan 14 11:26:58 +0900 2014 
# ORIGINAL_HYD_FILE: sea201402120503.csv Thu Feb 13 13:01:28 +0900 2014 
# DEPTH_TYPE: COR 
# EVENT_CODE: BO 
EXPOCODE,SECT_ID,STNNBR,CASTNO,SAMPNO,BTLNBR,BTLNBR_FLAG_W,DATE,TIME,LATITUDE,LONGITUDE,DEPTH,CTDPRS,CTDTMP,CTDSAL,CTDSAL_FLAG_W,SALNTY,SALNTY_FLAG_W,CTDOXY,CTDOXY_FLAG_W,OXYGEN,OXYGEN_FLAG_W,SILCAT,SILCAT_FLAG_W,NITRAT,NITRAT_FLAG_W,NITRIT,NITRIT_FLAG_W,PHSPHT,PHSPHT_FLAG_W,CFC-11,CFC-11_FLAG_W,CFC-12,CFC-12_FLAG_W,CFC113,CFC113_FLAG_W,SF6,SF6_FLAG_W,TCARBN,TCARBN_FLAG_W,ALKALI,ALKALI_FLAG_W,PH_TOT,PH_TOT_FLAG_W,PH_TMP,REFTMP,REFTMP_FLAG_W,CTDFLUOR,CTDFLUOR_FLAG_W,PAR,PAR_FLAG_W,CTDXMISS,CTDXMISS_FLAG_W,CHLORA,CHLORA_FLAG_W
,,,,,,,,,,,METERS,DBAR,ITS-90,PSS-78,,PSS-78,,UMOL/KG,,UMOL/KG,,UMOL/KG,,UMOL/KG,,UMOL/KG,,UMOL/KG,,PMOL/KG,,PMOL/KG,,PMOL/KG,,FMOL/KG,,UMOL/KG,,UMOL/KG,,,,DEG C,ITS-90,,MG/M^3,,VOLTS,,%TRANS,,UG/KG,
49NZ20120113  ,P10N       ,      59,  2,          0,BUC        ,2,20120114,0843,  19.1675, 149.3303,     5556,      0.0,     -999,     -999,9,  34.7634,2,     -999,9,     -999,9,     -999,9,     -999,9,     -999,9,     -999,9,     -999,9,     -999,9,     -999,9,     -999,9,     -999,9,     -999,9,     -999,9,     -999,     -999,9,     -999,9,     -999,9,     -999,9,     -999,9
49NZ20120113  ,P10N       ,      59,  2,         36,12021      ,2,20120114,0843,  19.1675, 149.3303,     5556,      9.5,  27.4112,  34.7571,2,  34.7545,2,    200.1,2,    200.0,2,     0.77,2,     0.04,2,     0.01,2,     0.05,2,    1.514,2,    0.978,2,    0.110,2,    1.178,2,     -999,9,     -999,9,     -999,9,     -999,  27.4116,2,    0.072,2,    0.400,2,    98.88,2,     -999,9
49NZ20120113  ,P10N       ,      59,  2,         35,12001      ,2,20120114,0843,  19.1675, 149.3303,     5556,     49.1,  27.4244,  34.7569,2,  34.7546,2,    200.0,2,    199.9,2,     0.72,2,     0.05,2,     0.01,2,     0.05,2,    1.533,2,    0.982,2,    0.111,6,    1.144,6,     -999,9,     -999,9,     -999,9,     -999,  27.4237,2,    0.068,2,    0.000,2,    98.93,2,     -999,9
49NZ20120113  ,P10N       ,      59,  2,         34,12019      ,2,20120114,0843,  19.1675, 149.3303,     5556,     99.2,  27.3832,  34.7766,2,  34.7666,2,    199.6,2,    200.0,2,     0.74,2,     0.04,2,     0.01,2,     0.06,2,    1.523,6,    0.979,6,    0.113,2,    1.084,2,     -999,9,     -999,9,     -999,9,     -999,  27.3673,2,    0.091,2,    0.000,2,    98.94,2,     -999,9
49NZ20120113  ,P10N       ,      59,  2,          2,12103      ,2,20120114,0843,  19.1675, 149.3303,     5556,    129.9,  24.5365,  35.2687,2,     -999,9,    191.3,2,     -999,9,     -999,9,     -999,9,     -999,9,     -999,9,     -999,9,     -999,9,     -999,9,     -999,9,     -999,9,     -999,9,     -999,9,     -999,  24.5451,2,    0.227,2,    0.000,2,    99.08,2,     0.22,2
49NZ20120113  ,P10N       ,      59,  2,         33,12018      ,2,20120114,0843,  19.1675, 149.3303,     5556,    150.1,  23.6299,  35.2389,2,  35.2399,2,    188.0,2,    188.6,2,     1.14,2,     0.36,2,     0.14,2,     0.10,2,    1.851,2,    1.165,2,    0.107,2,    1.132,2,     -999,9,     -999,9,     -999,9,     -999,  23.6151,2,    0.136,2,    0.000,2,    99.26,2,     -999,9
49NZ20120113  ,P10N       ,      59,  2,         32,12017      ,2,20120114,0843,  19.1675, 149.3303,     5556,    200.0,  20.6756,  35.0352,2,  35.0197,3,    185.8,2,    187.0,2,     2.08,2,     2.06,2,     0.02,2,     0.21,2,    2.122,2,    1.302,2,    0.044,2,    1.296,2,     -999,9,     -999,9,     -999,9,     -999,  20.6676,2,    0.024,2,    0.000,2,    99.52,2,     -999,9
49NZ20120113  ,P10N       ,      59,  2,         31,12016      ,2,20120114,0843,  19.1675, 149.3303,     5556,    250.8,  17.9559,  34.7695,2,  34.7799,2,    188.4,2,    188.4,2,     3.62,2,     4.65,2,     0.02,2,     0.37,2,    2.361,2,    1.416,2,    0.005,2,    1.402,2,     -999,9,     -999,9,     -999,9,     -999,  17.9487,2,    0.008,2,    0.000,2,    99.62,2,     -999,9
49NZ20120113  ,P10N       ,      59,  2,         30,12015      ,2,20120114,0843,  19.1675, 149.3303,     5556,    331.0,  14.9285,  34.5282,2,  34.5311,2,    189.3,2,    189.1,2,     8.04,2,     9.07,2,     0.01,2,     0.68,2,    2.694,2,    1.552,2,    0.021,2,    1.203,2,     -999,9,     -999,9,     -999,9,     -999,  14.9320,2,    0.005,2,    0.000,2,    99.70,2,     -999,9
49NZ20120113  ,P10N       ,      59,  2,         29,12014      ,2,20120114,0843,  19.1675, 149.3303,     5556,    430.0,  10.2186,  34.2142,2,  34.2155,2,    165.4,2,    165.6,2,    23.65,2,    19.26,2,     0.01,2,     1.43,2,    2.782,2,    1.477,2,    0.055,6,    0.853,6,     -999,9,     -999,9,     -999,9,     -999,  10.2211,2,    0.009,2,    0.000,2,    99.75,2,     -999,9
49NZ20120113  ,P10N       ,      59,  2,         28,12101      ,2,20120114,0843,  19.1675, 149.3303,     5556,    529.2,   7.5564,  34.1245,2,  34.1230,2,    118.4,2,    118.3,2,    46.26,2,    28.71,2,     0.01,2,     2.10,2,    1.914,2,    0.972,2,    0.046,2,    0.503,2,     -999,9,     -999,9,     -999,9,     -999,   7.5577,2,    0.014,2,    0.000,2,    99.78,2,     -999,9
49NZ20120113  ,P10N       ,      59,  2,         27,12012      ,2,20120114,0843,  19.1675, 149.3303,     5556,    632.0,   5.8971,  34.2236,2,  34.2208,2,     67.7,2,     67.6,2,    71.30,2,    36.47,2,     0.01,2,     2.68,2,    0.713,6,    0.353,6,    0.014,2,    0.103,2,     -999,9,     -999,9,     -999,9,     -999,   5.8971,2,    0.018,2,    0.000,2,    99.79,2,     -999,9
49NZ20120113  ,P10N       ,      59,  2,         26,12010      ,2,20120114,0843,  19.1675, 149.3303,     5556,    730.7,   5.2632,  34.3462,2,  34.3435,2,     59.3,2,     59.5,2,    83.21,2,    38.49,2,     0.01,2,     2.82,2,    0.290,2,    0.146,2,    0.004,2,    0.050,2,     -999,9,     -999,9,     -999,9,     -999,   5.2625,2,    0.019,2,    0.000,2,    99.80,2,     -999,9
49NZ20120113  ,P10N       ,      59,  2,         25,12009      ,2,20120114,0843,  19.1675, 149.3303,     5556,    830.2,   4.6421,  34.4283,2,  34.4280,2,     61.5,2,     61.8,2,    94.62,2,    39.37,2,     0.01,2,     2.88,2,    0.110,2,    0.056,2,    0.001,2,    0.106,2,     -999,9,     -999,9,     -999,9,     -999,   4.6425,2,    0.018,2,    0.000,2,    99.83,2,     -999,9
49NZ20120113  ,P10N       ,      59,  2,         24,12008      ,2,20120114,0843,  19.1675, 149.3303,     5556,    928.8,   4.2368,  34.4798,2,  34.4764,2,     69.9,2,     69.5,2,   101.58,2,    39.35,2,     0.01,2,     2.85,2,    0.076,2,    0.038,2,    0.000,2,    0.027,2,     -999,9,     -999,9,     -999,9,     -999,   4.2374,2,    0.017,2,    0.000,2,    99.85,2,     -999,9
49NZ20120113  ,P10N       ,      59,  2,         23,12007      ,2,20120114,0843,  19.1675, 149.3303,     5556,   1069.6,   3.7693,  34.5184,2,  34.5176,2,     76.2,2,     76.4,2,   110.49,2,    39.41,2,     0.01,2,     2.86,2,    0.040,2,    0.022,2,    0.001,2,    0.040,2,     -999,9,     -999,9,     -999,9,     -999,   3.7696,2,    0.017,2,    0.000,2,    99.84,2,     -999,9
49NZ20120113  ,P10N       ,      59,  2,         22,12022      ,2,20120114,0843,  19.1675, 149.3303,     5556,   1270.9,   3.0991,  34.5515,2,  34.5502,2,     81.0,2,     81.1,2,   123.16,2,    39.67,2,     0.01,2,     2.87,2,    0.012,2,    0.011,2,    0.001,2,    0.023,2,     -999,9,     -999,9,     -999,9,     -999,   3.0996,2,    0.017,2,    0.000,2,    99.88,2,     -999,9
49NZ20120113  ,P10N       ,      59,  2,         21,12036      ,2,20120114,0843,  19.1675, 149.3303,     5556,   1470.9,   2.7610,  34.5738,2,  34.5730,2,     88.0,2,     88.0,2,   129.46,2,    39.52,2,     0.01,2,     2.85,2,    0.007,2,    0.008,2,    0.000,2,    0.000,2,     -999,9,     -999,9,     -999,9,     -999,   2.7612,2,    0.016,2,    0.000,2,    99.90,2,     -999,9
49NZ20120113  ,P10N       ,      59,  2,         20,12035      ,2,20120114,0843,  19.1675, 149.3303,     5556,   1669.0,   2.4414,  34.5963,2,  34.5952,2,     94.1,2,     94.1,2,   135.36,2,    39.44,2,     0.01,2,     2.83,2,    0.006,2,    0.005,2,    0.000,2,    0.000,2,     -999,9,     -999,9,     -999,9,     -999,   2.4424,2,    0.015,2,    0.000,2,    99.92,2,     -999,9
49NZ20120113  ,P10N       ,      59,  2,         19,12034      ,2,20120114,0843,  19.1675, 149.3303,     5556,   1872.3,   2.2246,  34.6104,2,  34.6094,2,    101.1,2,    101.2,2,   139.11,2,    39.11,2,     0.01,2,     2.81,2,    0.002,2,    0.003,2,    0.000,2,    0.000,2,     -999,9,     -999,9,     -999,9,     -999,   2.2249,2,    0.015,2,    0.000,2,    99.92,2,     -999,9
49NZ20120113  ,P10N       ,      59,  2,         18,12033      ,2,20120114,0843,  19.1675, 149.3303,     5556,   2070.4,   2.0571,  34.6248,2,  34.6235,2,    106.7,2,    106.8,2,   141.79,2,    38.84,2,     0.01,2,     2.79,2,    0.002,2,    0.001,2,    0.000,2,    0.043,2,     -999,9,     -999,9,     -999,9,     -999,   2.0571,2,    0.015,2,    0.000,2,    99.94,2,     -999,9
49NZ20120113  ,P10N       ,      59,  2,         17,12032      ,2,20120114,0843,  19.1675, 149.3303,     5556,   2272.0,   1.9235,  34.6370,2,  34.6362,2,    112.6,2,    112.7,2,   143.85,2,    38.55,2,     0.01,2,     2.75,2,    0.000,2,    0.000,2,    0.000,2,    0.000,2,     -999,9,     -999,9,     -999,9,     -999,   1.9236,2,    0.014,2,    0.000,2,    99.92,2,     -999,9
49NZ20120113  ,P10N       ,      59,  2,         16,12046      ,2,20120114,0843,  19.1675, 149.3303,     5556,   2471.2,   1.7983,  34.6489,2,  34.6482,2,    119.1,2,    119.2,2,   145.35,2,    38.16,2,     0.01,2,     2.73,2,    0.003,2,    0.001,2,    0.000,2,     -999,9,     -999,9,     -999,9,     -999,9,     -999,   1.7985,2,    0.013,2,    0.000,2,    99.95,2,     -999,9
49NZ20120113  ,P10N       ,      59,  2,         15,12030      ,2,20120114,0843,  19.1675, 149.3303,     5556,   2670.5,   1.7121,  34.6570,2,  34.6559,2,    124.7,2,    124.7,2,   146.19,2,    37.89,2,     0.01,2,     2.69,2,     -999,9,     -999,9,     -999,9,     -999,9,     -999,9,     -999,9,     -999,9,     -999,   1.7121,2,    0.013,2,    0.000,2,    99.95,2,     -999,9
49NZ20120113  ,P10N       ,      59,  2,         14,12029      ,2,20120114,0843,  19.1675, 149.3303,     5556,   2869.8,   1.6620,  34.6629,2,  34.6620,2,    128.7,2,    128.7,2,   146.46,2,    37.59,2,     0.01,2,     2.67,2,    0.003,2,    0.001,2,    0.000,2,    0.036,2,     -999,9,     -999,9,     -999,9,     -999,   1.6620,2,    0.013,2,    0.000,2,    99.95,2,     -999,9
49NZ20120113  ,P10N       ,      59,  2,         13,12028      ,2,20120114,0843,  19.1675, 149.3303,     5556,   3079.4,   1.6138,  34.6677,2,  34.6669,2,    133.2,2,    133.2,2,   146.09,2,    37.21,2,     0.01,2,     2.65,2,     -999,9,     -999,9,     -999,9,     -999,9,     -999,9,     -999,9,     -999,9,     -999,   1.6139,2,    0.012,2,    0.000,2,    99.96,2,     -999,9
49NZ20120113  ,P10N       ,      59,  2,         12,12027      ,2,20120114,0843,  19.1675, 149.3303,     5556,   3329.0,   1.5599,  34.6742,2,  34.6726,3,    139.4,2,    139.3,2,   145.20,2,    36.85,2,     0.01,2,     2.61,2,    0.000,2,    0.000,2,    0.000,2,     -999,9,     -999,9,     -999,9,     -999,9,     -999,   1.5601,2,    0.012,2,    0.000,2,    99.97,2,     -999,9
49NZ20120113  ,P10N       ,      59,  2,         11,12011      ,2,20120114,0843,  19.1675, 149.3303,     5556,   3580.5,   1.5378,  34.6782,2,  34.6770,2,    143.3,2,    143.2,2,   144.46,2,    36.62,2,     0.01,2,     2.59,2,    0.000,2,    0.000,2,    0.000,2,    0.000,2,     -999,9,     -999,9,     -999,9,     -999,   1.5380,2,    0.011,2,    0.000,2,    99.97,2,     -999,9
49NZ20120113  ,P10N       ,      59,  2,         10,12026      ,2,20120114,0843,  19.1675, 149.3303,     5556,   3830.4,   1.5125,  34.6816,2,  34.6803,2,    148.2,2,    147.8,2,   142.96,2,    36.29,2,     0.01,2,     2.56,2,    0.004,2,    0.000,2,    0.000,2,     -999,9,     -999,9,     -999,9,     -999,9,     -999,   1.5125,2,    0.011,2,    0.000,2,    99.97,2,     -999,9
49NZ20120113  ,P10N       ,      59,  2,          9,12025      ,2,20120114,0843,  19.1675, 149.3303,     5556,   4079.5,   1.4868,  34.6855,2,  34.6849,2,    154.3,2,    154.0,2,   140.60,2,    35.84,2,     0.01,2,     2.53,2,     -999,9,     -999,9,     -999,9,     -999,9,     -999,9,     -999,9,     -999,9,     -999,   1.4868,2,    0.010,2,    0.000,2,    99.97,2,     -999,9
49NZ20120113  ,P10N       ,      59,  2,          8,12024      ,2,20120114,0843,  19.1675, 149.3303,     5556,   4329.8,   1.4737,  34.6888,2,  34.6879,2,    159.3,2,    158.9,2,   138.26,2,    35.53,2,     0.01,2,     2.50,2,    0.002,2,    0.004,2,    0.000,2,    0.000,2,     -999,9,     -999,9,     -999,9,     -999,   1.4738,2,    0.010,2,    0.000,2,    99.95,2,     -999,9
49NZ20120113  ,P10N       ,      59,  2,          7,12023      ,2,20120114,0843,  19.1675, 149.3303,     5556,   4580.4,   1.4682,  34.6916,2,  34.6905,2,    163.9,2,    163.6,2,   135.90,2,    35.29,2,     0.01,2,     2.49,2,     -999,9,     -999,9,     -999,9,     -999,9,     -999,9,     -999,9,     -999,9,     -999,   1.4684,2,    0.010,2,    0.000,2,    99.96,2,     -999,9
49NZ20120113  ,P10N       ,      59,  2,          6,12006      ,2,20120114,0843,  19.1675, 149.3303,     5556,   4829.1,   1.4714,  34.6935,2,  34.6926,2,    167.6,2,    167.4,2,   133.71,2,    34.94,2,     0.01,2,     2.47,2,    0.002,2,    0.002,2,    0.000,2,     -999,9,     -999,9,     -999,9,     -999,9,     -999,   1.4714,2,    0.009,2,    0.000,2,    99.95,2,     -999,9
49NZ20120113  ,P10N       ,      59,  2,          5,12102      ,2,20120114,0843,  19.1675, 149.3303,     5556,   5080.1,   1.4852,  34.6949,2,  34.6939,2,    170.2,2,    170.0,2,   131.93,2,    34.70,2,     0.01,2,     2.45,2,    0.000,2,    0.000,2,    0.000,2,    0.000,2,     -999,9,     -999,9,     -999,9,     -999,   1.4852,2,    0.009,2,    0.000,2,    99.95,2,     -999,9
49NZ20120113  ,P10N       ,      59,  2,          4,12104      ,2,20120114,0843,  19.1675, 149.3303,     5556,   5330.2,   1.5012,  34.6960,2,  34.6950,2,    172.2,2,    172.0,2,   130.95,2,    34.56,2,     0.01,2,     2.44,2,    0.001,2,    0.001,2,    0.000,2,     -999,9,     -999,9,     -999,9,     -999,9,     -999,   1.5011,2,    0.009,2,    0.000,2,    99.94,2,     -999,9
49NZ20120113  ,P10N       ,      59,  2,          3,12003      ,2,20120114,0843,  19.1675, 149.3303,     5556,   5579.9,   1.5170,  34.6971,2,  34.6962,2,    174.4,2,    174.3,2,   129.83,2,    34.46,2,     0.01,2,     2.43,2,     -999,9,     -999,9,     -999,9,     -999,9,     -999,9,     -999,9,     -999,9,     -999,   1.5168,2,    0.009,2,    0.000,2,    99.91,2,     -999,9
49NZ20120113  ,P10N       ,      59,  2,          1,12001      ,2,20120114,0843,  19.1675, 149.3303,     5556,   5646.9,   1.5230,  34.6973,2,  34.6967,2,    174.7,2,    174.7,2,   129.71,2,    34.40,2,     0.01,2,     2.44,2,    0.002,2,    0.004,2,    0.000,2,    0.000,2,     -999,9,     -999,9,     -999,9,     -999,   1.5230,2,    0.009,2,    0.000,2,    99.91,2,     -999,9