BOTTLE,20231026CCHSIOVAJ
EXPOCODE,SECT_ID,STNNBR,CASTNO,SAMPNO,BTLNBR,BTLNBR_FLAG_W,DATE,TIME,LATITUDE,LONGITUDE,DEPTH,CTDPRS,CTDTMP,CTDSAL,CTDSAL_FLAG_W,SALNTY,SALNTY_FLAG_W,CTDOXY,CTDOXY_FLAG_W,OXYGEN,OXYGEN_FLAG_W,SILCAT,SILCAT_FLAG_W,NITRAT,NITRAT_FLAG_W,NITRIT,NITRIT_FLAG_W,PHSPHT,PHSPHT_FLAG_W,CFC-11,CFC-11_FLAG_W,CFC-12,CFC-12_FLAG_W,CFC113,CFC113_FLAG_W,SF6,SF6_FLAG_W,TCARBN,TCARBN_FLAG_W,ALKALI,ALKALI_FLAG_W,PH_TOT,PH_TOT_FLAG_W,PH_TMP,REFTMP,REFTMP_FLAG_W,CTDFLUOR,CTDFLUOR_FLAG_W,PAR,PAR_FLAG_W,CTDXMISS,CTDXMISS_FLAG_W,CHLORA,CHLORA_FLAG_W
,,,,,,,,,,,METERS,DBAR,ITS-90,PSS-78,,PSS-78,,UMOL/KG,,UMOL/KG,,UMOL/KG,,UMOL/KG,,UMOL/KG,,UMOL/KG,,PMOL/KG,,PMOL/KG,,PMOL/KG,,FMOL/KG,,UMOL/KG,,UMOL/KG,,,,DEG C,ITS-90,,MG/M^3,,VOLTS,,%TRANS,,UG/KG,
49NZ20120113  ,P10N       ,      78,  1,          0,BUC        ,2,20120122,0712,  30.5013, 149.3320,     6143,      0.0,     -999,     -999,9,  34.7803,2,     -999,9,     -999,9,     -999,9,     -999,9,     -999,9,     -999,9,     -999,9,     -999,9,     -999,9,     -999,9,     -999,9,     -999,9,     -999,9,     -999,     -999,9,     -999,9,     -999,9,     -999,9,     -999,9
49NZ20120113  ,P10N       ,      78,  1,         36,12021      ,2,20120122,0712,  30.5013, 149.3320,     6143,      9.4,  19.0820,  34.7655,2,  34.7646,2,    226.0,2,    225.4,2,     1.63,2,     0.45,2,     0.12,2,     0.10,2,    2.156,2,    1.305,2,    0.152,2,    1.490,2,     -999,9,     -999,9,     -999,9,     -999,  19.0825,2,    0.378,2,    0.107,2,    98.06,2,     -999,9
49NZ20120113  ,P10N       ,      78,  1,         35,12001      ,2,20120122,0712,  30.5013, 149.3320,     6143,     49.6,  19.0866,  34.7644,2,  34.7634,2,    225.7,2,    225.1,2,     1.61,2,     0.44,2,     0.12,2,     0.10,2,    2.156,2,    1.314,2,    0.155,6,    1.525,6,     -999,9,     -999,9,     -999,9,     -999,  19.0871,2,    0.427,2,    0.000,2,    98.18,2,     -999,9
49NZ20120113  ,P10N       ,      78,  1,         34,12019      ,2,20120122,0712,  30.5013, 149.3320,     6143,    100.0,  19.0854,  34.7638,2,  34.7638,2,    225.5,2,    225.1,2,     1.50,2,     0.48,2,     0.12,2,     0.10,2,    2.162,6,    1.323,6,    0.154,2,    1.550,2,     -999,9,     -999,9,     -999,9,     -999,  19.0867,2,    0.392,2,    0.000,2,    98.18,2,     -999,9
49NZ20120113  ,P10N       ,      78,  1,         33,12018      ,2,20120122,0712,  30.5013, 149.3320,     6143,    150.0,  18.0892,  34.7359,2,  34.7352,2,    202.0,2,    201.9,2,     3.13,2,     3.86,2,     0.03,2,     0.31,2,    2.321,2,    1.386,2,    0.059,2,    1.450,2,     -999,9,     -999,9,     -999,9,     -999,  18.0882,2,    0.015,2,    0.000,2,    99.48,2,     -999,9
49NZ20120113  ,P10N       ,      78,  1,         32,12017      ,2,20120122,0712,  30.5013, 149.3320,     6143,    200.5,  17.4442,  34.7157,2,  34.7147,2,    205.9,2,    205.7,2,     3.68,2,     4.54,2,     0.02,2,     0.34,2,    2.382,2,    1.423,2,    0.057,2,    1.460,2,     -999,9,     -999,9,     -999,9,     -999,  17.4452,2,    0.005,2,    0.000,2,    99.59,2,     -999,9
49NZ20120113  ,P10N       ,      78,  1,         31,12016      ,2,20120122,0712,  30.5013, 149.3320,     6143,    250.2,  17.1404,  34.7065,2,  34.7058,2,    209.7,2,    209.4,2,     4.02,2,     4.69,2,     0.02,2,     0.35,2,    2.409,2,    1.432,2,    0.064,2,    1.420,2,     -999,9,     -999,9,     -999,9,     -999,  17.1409,2,    0.004,2,    0.000,2,    99.64,2,     -999,9
49NZ20120113  ,P10N       ,      78,  1,         30,12015      ,2,20120122,0712,  30.5013, 149.3320,     6143,    280.1,  16.9517,  34.6945,2,  34.6952,2,    205.2,2,    205.8,2,     4.70,2,     5.35,2,     0.02,2,     0.40,2,    2.423,2,    1.430,2,    0.061,2,    1.440,2,     -999,9,     -999,9,     -999,9,     -999,  16.9522,2,    0.004,2,    0.000,2,    99.65,2,     -999,9
49NZ20120113  ,P10N       ,      78,  1,         29,12014      ,2,20120122,0712,  30.5013, 149.3320,     6143,    369.8,  15.3256,  34.5902,2,  34.5902,2,    187.5,2,    187.9,2,     9.53,2,     9.54,2,     0.02,2,     0.68,2,    2.540,2,    1.458,2,    0.034,6,    1.190,6,     -999,9,     -999,9,     -999,9,     -999,  15.3399,2,    0.005,2,    0.000,2,    99.66,2,     -999,9
49NZ20120113  ,P10N       ,      78,  1,         28,12101      ,3,20120122,0712,  30.5013, 149.3320,     6143,    470.6,  12.8560,  34.4226,2,  34.4239,2,    182.3,2,    182.3,2,    17.07,2,    13.84,2,     0.01,2,     0.98,2,    2.687,2,    1.488,2,    0.047,2,    1.100,2,     -999,9,     -999,9,     -999,9,     -999,  12.8568,2,    0.006,2,    0.000,2,    99.69,2,     -999,9
49NZ20120113  ,P10N       ,      78,  1,         27,12012      ,2,20120122,0712,  30.5013, 149.3320,     6143,    570.2,  10.2181,  34.2348,2,  34.2352,2,    176.0,2,    175.6,2,    28.33,2,    18.88,2,     0.01,2,     1.36,2,    2.745,6,    1.474,6,    0.080,2,    0.960,2,     -999,9,     -999,9,     -999,9,     -999,  10.2168,2,    0.009,2,    0.000,2,    99.74,2,     -999,9
49NZ20120113  ,P10N       ,      78,  1,         26,12010      ,2,20120122,0712,  30.5013, 149.3320,     6143,    669.8,   7.2206,  34.0527,2,  34.0552,2,    154.2,2,    154.1,2,    46.91,2,    26.00,2,     0.01,2,     1.91,2,    2.605,2,    1.354,2,    0.108,2,    0.890,2,     -999,9,     -999,9,     -999,9,     -999,   7.2102,2,    0.011,2,    0.000,2,    99.79,2,     -999,9
49NZ20120113  ,P10N       ,      78,  1,         25,12009      ,2,20120122,0712,  30.5013, 149.3320,     6143,    769.5,   5.4735,  34.0315,2,  34.0326,2,    116.2,2,    115.6,2,    69.34,2,    32.91,2,     0.01,2,     2.42,2,    2.065,2,    1.061,2,    0.090,2,    0.710,2,     -999,9,     -999,9,     -999,9,     -999,   5.4716,2,    0.015,2,    0.000,2,    99.79,2,     -999,9
49NZ20120113  ,P10N       ,      78,  1,         24,12008      ,2,20120122,0712,  30.5013, 149.3320,     6143,    869.0,   4.6742,  34.1146,2,  34.1148,2,     81.0,2,     81.1,2,    88.06,2,    37.06,2,     0.01,2,     2.69,2,    1.428,2,    0.732,2,    0.070,2,    0.360,2,     -999,9,     -999,9,     -999,9,     -999,   4.6744,2,    0.018,2,    0.000,2,    99.77,2,     -999,9
49NZ20120113  ,P10N       ,      78,  1,         23,12007      ,2,20120122,0712,  30.5013, 149.3320,     6143,    969.8,   4.2260,  34.2000,2,  34.1995,2,     58.8,2,     59.4,2,   101.75,2,    39.42,2,     0.01,2,     2.87,2,    0.876,2,    0.449,2,    0.035,2,    0.160,2,     -999,9,     -999,9,     -999,9,     -999,   4.2271,2,    0.020,2,    0.000,2,    99.77,2,     -999,9
49NZ20120113  ,P10N       ,      78,  1,         22,12022      ,2,20120122,0712,  30.5013, 149.3320,     6143,   1130.3,   3.5235,  34.3230,2,  34.3233,2,     41.6,2,     41.6,2,   121.70,2,    41.70,2,     0.01,2,     3.04,2,    0.338,2,    0.171,2,    0.009,2,    0.060,2,     -999,9,     -999,9,     -999,9,     -999,   3.5238,2,    0.021,2,    0.000,2,    99.77,2,     -999,9
49NZ20120113  ,P10N       ,      78,  1,         21,12036      ,2,20120122,0712,  30.5013, 149.3320,     6143,   1329.8,   2.9764,  34.4200,2,  34.4200,2,     36.4,2,     36.2,2,   136.95,2,    42.76,2,     0.01,2,     3.10,2,    0.094,2,    0.048,2,    0.002,2,    0.000,2,     -999,9,     -999,9,     -999,9,     -999,   2.9766,2,    0.021,2,    0.000,2,    99.79,2,     -999,9
49NZ20120113  ,P10N       ,      78,  1,         20,12035      ,2,20120122,0712,  30.5013, 149.3320,     6143,   1530.0,   2.5863,  34.4870,2,  34.4871,2,     40.3,2,     40.2,2,   147.82,2,    42.80,2,     0.01,2,     3.09,2,    0.030,2,    0.015,2,    0.001,2,    0.030,2,     -999,9,     -999,9,     -999,9,     -999,   2.5865,2,    0.021,2,    0.000,2,    99.81,2,     -999,9
49NZ20120113  ,P10N       ,      78,  1,         19,12034      ,2,20120122,0712,  30.5013, 149.3320,     6143,   1729.6,   2.2877,  34.5389,2,  34.5388,2,     51.7,2,     51.7,2,   154.15,2,    42.32,2,     0.01,2,     3.05,2,    0.007,2,    0.004,2,    0.000,2,    0.000,2,     -999,9,     -999,9,     -999,9,     -999,   2.2879,2,    0.019,2,    0.000,2,    99.81,2,     -999,9
49NZ20120113  ,P10N       ,      78,  1,         18,12033      ,2,20120122,0712,  30.5013, 149.3320,     6143,   1932.4,   2.0629,  34.5769,2,  34.5767,2,     65.6,2,     65.7,2,   157.43,2,    41.55,2,     0.01,2,     2.97,2,    0.000,2,    0.002,2,    0.000,2,    0.000,2,     -999,9,     -999,9,     -999,9,     -999,   2.0630,2,    0.018,2,    0.000,2,    99.83,2,     -999,9
49NZ20120113  ,P10N       ,      78,  1,         17,12032      ,2,20120122,0712,  30.5013, 149.3320,     6143,   2129.5,   1.9189,  34.6049,2,  34.6051,2,     84.4,2,     84.6,2,   155.14,2,    40.39,2,     0.01,2,     2.88,2,    0.000,2,    0.000,2,    0.000,2,    0.000,2,     -999,9,     -999,9,     -999,9,     -999,   1.9190,2,    0.016,2,    0.000,2,    99.86,2,     -999,9
49NZ20120113  ,P10N       ,      78,  1,         16,12046      ,2,20120122,0712,  30.5013, 149.3320,     6143,   2330.0,   1.8004,  34.6259,2,  34.6262,2,    100.7,2,    101.1,2,   152.58,2,    39.40,2,     0.01,2,     2.81,2,    0.000,2,    0.000,2,    0.000,2,     -999,9,     -999,9,     -999,9,     -999,9,     -999,   1.8004,2,    0.015,2,    0.000,2,    99.89,2,     -999,9
49NZ20120113  ,P10N       ,      78,  1,         15,12030      ,2,20120122,0712,  30.5013, 149.3320,     6143,   2529.3,   1.7008,  34.6407,2,  34.6409,2,    109.4,2,    109.5,2,   153.49,2,    38.83,2,     0.01,2,     2.77,2,    0.000,2,    0.000,2,    0.000,2,    0.000,2,     -999,9,     -999,9,     -999,9,     -999,   1.7009,2,    0.014,2,    0.000,2,    99.89,2,     -999,9
49NZ20120113  ,P10N       ,      78,  1,         14,12029      ,2,20120122,0712,  30.5013, 149.3320,     6143,   2731.0,   1.6383,  34.6509,2,  34.6512,2,    118.1,2,    118.3,2,   151.74,2,    38.01,2,     0.01,2,     2.70,2,    0.000,2,    0.000,2,    0.000,2,    0.050,2,     -999,9,     -999,9,     -999,9,     -999,   1.6383,2,    0.012,2,    0.000,2,    99.91,2,     -999,9
49NZ20120113  ,P10N       ,      78,  1,         13,12028      ,2,20120122,0712,  30.5013, 149.3320,     6143,   2928.6,   1.5930,  34.6589,2,  34.6582,2,    125.6,2,    125.6,2,   149.86,2,    37.68,2,     0.01,2,     2.68,2,    0.000,2,    0.000,2,    0.000,2,     -999,9,     -999,9,     -999,9,     -999,9,     -999,   1.5934,2,    0.012,2,    0.000,2,    99.90,2,     -999,9
49NZ20120113  ,P10N       ,      78,  1,         12,12027      ,2,20120122,0712,  30.5013, 149.3320,     6143,   3169.3,   1.5561,  34.6657,2,  34.6660,2,    132.2,2,    132.3,2,   148.66,2,    37.25,2,     0.01,2,     2.64,2,    0.000,2,    0.000,2,    0.000,2,    0.000,2,     -999,9,     -999,9,     -999,9,     -999,   1.5562,2,    0.011,2,    0.000,2,    99.92,2,     -999,9
49NZ20120113  ,P10N       ,      78,  1,         11,12011      ,2,20120122,0712,  30.5013, 149.3320,     6143,   3420.4,   1.5202,  34.6721,2,  34.6722,2,    138.8,2,    138.7,2,   147.54,2,    36.89,2,     0.01,2,     2.60,2,    0.006,2,    0.002,2,    0.000,2,     -999,9,     -999,9,     -999,9,     -999,9,     -999,   1.5204,2,    0.010,2,    0.000,2,    99.92,2,     -999,9
49NZ20120113  ,P10N       ,      78,  1,         10,12026      ,2,20120122,0712,  30.5013, 149.3320,     6143,   3670.8,   1.4997,  34.6767,2,  34.6767,2,    143.8,2,    144.2,2,   146.30,2,    36.49,2,     0.01,2,     2.57,2,     -999,9,     -999,9,     -999,9,     -999,9,     -999,9,     -999,9,     -999,9,     -999,   1.5000,2,    0.011,2,    0.000,2,    99.92,2,     -999,9
49NZ20120113  ,P10N       ,      78,  1,          9,12025      ,2,20120122,0712,  30.5013, 149.3320,     6143,   3920.6,   1.4898,  34.6806,2,  34.6800,2,    148.9,2,    148.7,2,   144.18,2,    36.21,2,     0.01,2,     2.54,2,    0.001,2,    0.002,2,    0.000,2,    0.000,2,     -999,9,     -999,9,     -999,9,     -999,   1.4899,2,    0.010,2,    0.000,2,    99.94,2,     -999,9
49NZ20120113  ,P10N       ,      78,  1,          8,12024      ,2,20120122,0712,  30.5013, 149.3320,     6143,   4171.0,   1.4836,  34.6836,2,  34.6839,2,    153.1,2,    152.8,2,   142.72,2,    35.98,2,     0.01,2,     2.53,2,     -999,9,     -999,9,     -999,9,     -999,9,     -999,9,     -999,9,     -999,9,     -999,   1.4836,2,    0.010,2,    0.000,2,    99.94,2,     -999,9
49NZ20120113  ,P10N       ,      78,  1,          7,12023      ,2,20120122,0712,  30.5013, 149.3320,     6143,   4420.7,   1.4813,  34.6862,2,  34.6863,2,    156.2,2,    156.0,2,   142.52,2,    35.66,2,     0.01,2,     2.51,2,    0.000,2,    0.000,2,    0.000,2,     -999,9,     -999,9,     -999,9,     -999,9,     -999,   1.4813,2,    0.009,2,    0.000,2,    99.92,2,     -999,9
49NZ20120113  ,P10N       ,      78,  1,          6,12006      ,2,20120122,0712,  30.5013, 149.3320,     6143,   4670.2,   1.4908,  34.6882,2,  34.6883,2,    158.9,2,    158.3,2,   141.32,2,    35.51,2,     0.01,2,     2.49,2,    0.000,2,    0.000,2,    0.000,2,    0.000,2,     -999,9,     -999,9,     -999,9,     -999,   1.4908,2,    0.009,2,    0.000,2,    99.93,2,     -999,9
49NZ20120113  ,P10N       ,      78,  1,          5,12102      ,2,20120122,0712,  30.5013, 149.3320,     6143,   4921.0,   1.5032,  34.6898,2,  34.6899,2,    161.6,2,    161.1,2,   139.40,2,    35.26,2,     0.01,2,     2.49,2,    0.000,2,    0.000,2,    0.000,2,     -999,9,     -999,9,     -999,9,     -999,9,     -999,   1.5034,2,    0.009,2,    0.000,2,    99.92,2,     -999,9
49NZ20120113  ,P10N       ,      78,  1,          4,12104      ,2,20120122,0712,  30.5013, 149.3320,     6143,   5169.5,   1.5207,  34.6911,2,  34.6910,2,    163.5,2,    162.9,2,   138.47,2,    35.19,2,     0.01,2,     2.47,2,    0.002,2,    0.000,2,    0.001,2,    0.000,2,     -999,9,     -999,9,     -999,9,     -999,   1.5208,2,    0.010,2,    0.000,2,    99.89,2,     -999,9
49NZ20120113  ,P10N       ,      78,  1,          3,12003      ,2,20120122,0712,  30.5013, 149.3320,     6143,   5419.6,   1.5432,  34.6920,2,  34.6922,2,    165.4,2,    164.8,2,   137.40,2,    35.08,2,     0.01,2,     2.45,2,    0.000,2,    0.000,2,    0.000,2,    0.000,2,     -999,9,     -999,9,     -999,9,     -999,   1.5432,2,    0.009,2,    0.000,2,    99.90,2,     -999,9
49NZ20120113  ,P10N       ,      78,  1,          2,12103      ,2,20120122,0712,  30.5013, 149.3320,     6143,   5669.0,   1.5656,  34.6931,2,  34.6931,2,    167.3,2,    166.8,2,   135.78,2,    34.83,2,     0.01,2,     2.44,2,    0.000,2,    0.000,2,    0.000,2,    0.000,2,     -999,9,     -999,9,     -999,9,     -999,   1.5656,2,    0.009,2,    0.000,2,    99.89,2,     -999,9
49NZ20120113  ,P10N       ,      78,  1,          1,12001      ,2,20120122,0712,  30.5013, 149.3320,     6143,   6250.0,   1.6277,  34.6947,2,  34.6950,2,    170.4,2,    170.4,2,   132.73,2,    34.67,2,     0.01,2,     2.43,2,    0.000,2,    0.000,2,    0.000,2,    0.000,2,     -999,9,     -999,9,     -999,9,     -999,   1.6278,2,    0.009,2,    0.000,2,    99.80,2,     -999,9