BOTTLE,20231026CCHSIOVAJ
EXPOCODE,SECT_ID,STNNBR,CASTNO,SAMPNO,BTLNBR,BTLNBR_FLAG_W,DATE,TIME,LATITUDE,LONGITUDE,DEPTH,CTDPRS,CTDTMP,CTDSAL,CTDSAL_FLAG_W,SALNTY,SALNTY_FLAG_W,CTDOXY,CTDOXY_FLAG_W,OXYGEN,OXYGEN_FLAG_W,SILCAT,SILCAT_FLAG_W,NITRAT,NITRAT_FLAG_W,NITRIT,NITRIT_FLAG_W,PHSPHT,PHSPHT_FLAG_W,CFC-11,CFC-11_FLAG_W,CFC-12,CFC-12_FLAG_W,CFC113,CFC113_FLAG_W,SF6,SF6_FLAG_W,TCARBN,TCARBN_FLAG_W,ALKALI,ALKALI_FLAG_W,PH_TOT,PH_TOT_FLAG_W,PH_TMP,REFTMP,REFTMP_FLAG_W,CTDFLUOR,CTDFLUOR_FLAG_W,PAR,PAR_FLAG_W,CTDXMISS,CTDXMISS_FLAG_W,CHLORA,CHLORA_FLAG_W
,,,,,,,,,,,METERS,DBAR,ITS-90,PSS-78,,PSS-78,,UMOL/KG,,UMOL/KG,,UMOL/KG,,UMOL/KG,,UMOL/KG,,UMOL/KG,,PMOL/KG,,PMOL/KG,,PMOL/KG,,FMOL/KG,,UMOL/KG,,UMOL/KG,,,,DEG C,ITS-90,,MG/M^3,,VOLTS,,%TRANS,,UG/KG,
49NZ20120113  ,P10N       ,      98,  2,          0,BUC        ,2,20120201,0105,  37.4178, 147.1972,     5674,      0.0,     -999,     -999,9,  34.2265,2,     -999,9,     -999,9,     -999,9,     -999,9,     -999,9,     -999,9,     -999,9,     -999,9,     -999,9,     -999,9,     -999,9,     -999,9,     -999,9,     -999,     -999,9,     -999,9,     -999,9,     -999,9,     -999,9
49NZ20120113  ,P10N       ,      98,  2,         36,12021      ,2,20120201,0105,  37.4178, 147.1972,     5674,     11.3,  10.6342,  34.2173,2,  34.2174,2,    258.3,2,    258.1,2,    13.08,2,     8.74,2,     0.20,2,     0.69,2,    3.154,2,    1.822,2,    0.278,2,    2.082,2,   2069.3,2,   2274.7,2,   7.8769,6,    25.00,  10.6347,2,    0.317,2,   72.409,2,    97.97,2,     -999,9
49NZ20120113  ,P10N       ,      98,  2,         35,12001      ,2,20120201,0105,  37.4178, 147.1972,     5674,     50.6,  10.6396,  34.2167,2,  34.2167,2,    257.6,2,    257.6,2,    13.13,2,     8.77,2,     0.20,2,     0.69,2,    3.154,2,    1.825,2,    0.273,6,    2.075,6,   2069.1,6,   2275.9,2,   7.8740,2,    25.00,  10.6399,2,    0.435,2,    7.459,2,    97.99,2,     -999,9
49NZ20120113  ,P10N       ,      98,  2,         34,12019      ,2,20120201,0105,  37.4178, 147.1972,     5674,    101.0,  10.6431,  34.2159,2,  34.2163,2,    257.0,2,    257.2,2,    13.23,2,     8.82,2,     0.20,2,     0.69,2,    3.149,6,    1.819,6,    0.274,2,    1.992,2,   2069.5,2,   2274.1,6,   7.8737,2,    25.00,  10.6438,2,    0.388,2,    0.454,2,    98.10,2,     -999,9
49NZ20120113  ,P10N       ,      98,  2,         33,12018      ,2,20120201,0105,  37.4178, 147.1972,     5674,    150.7,  10.6366,  34.2143,2,  34.2152,2,    256.5,2,    256.9,2,    13.34,2,     8.87,2,     0.20,2,     0.69,2,    3.152,2,    1.809,2,    0.270,2,    1.972,2,   2070.0,2,   2275.8,2,   7.8737,6,    25.00,  10.6381,2,    0.358,2,    0.000,2,    98.15,2,     -999,9
49NZ20120113  ,P10N       ,      98,  2,         32,12017      ,2,20120201,0105,  37.4178, 147.1972,     5674,    201.4,   9.2853,  34.1367,2,  34.1377,2,    177.2,2,    178.3,2,    32.91,2,    19.96,2,     0.02,2,     1.48,2,    2.813,2,    1.537,2,    0.133,2,    1.267,2,   2146.8,2,   2284.4,2,   7.7088,2,    25.00,   9.2910,2,    0.020,2,    0.000,2,    99.35,2,     -999,9
49NZ20120113  ,P10N       ,      98,  2,         31,12016      ,2,20120201,0105,  37.4178, 147.1972,     5674,    249.2,   7.6774,  34.1039,2,  34.1048,2,    149.9,2,    152.0,2,    47.97,2,    25.59,2,     0.02,2,     1.89,2,    2.473,2,    1.331,2,    0.112,2,    1.009,2,   2190.8,2,   2292.7,2,   7.6191,2,    25.00,   7.6791,2,    0.014,2,    0.000,2,    99.44,2,     -999,9
49NZ20120113  ,P10N       ,      98,  2,         30,12015      ,2,20120201,0105,  37.4178, 147.1972,     5674,    299.8,   5.7138,  33.9989,2,  33.9986,2,    134.5,2,    135.0,2,    63.35,2,    30.82,2,     0.01,2,     2.27,2,    2.451,2,    1.305,2,    0.137,2,    0.901,2,   2229.8,2,   2298.8,2,   7.5212,2,    25.00,   5.7152,2,    0.016,2,    0.000,2,    99.54,2,     -999,9
49NZ20120113  ,P10N       ,      98,  2,         29,12014      ,2,20120201,0105,  37.4178, 147.1972,     5674,    400.1,   4.9476,  34.0589,2,  34.0580,2,     98.8,2,     98.8,2,    79.44,2,    35.18,2,     0.01,2,     2.57,2,    1.854,2,    0.984,2,    0.097,6,    0.543,6,   2268.7,2,   2312.5,2,   7.4439,2,    25.00,   4.9477,2,    0.018,2,    0.000,2,    99.62,2,     -999,9
49NZ20120113  ,P10N       ,      98,  2,         28,12024      ,2,20120201,0105,  37.4178, 147.1972,     5674,    501.5,   4.6121,  34.2058,2,  34.2040,2,     69.5,2,     69.6,2,    95.46,2,    38.12,2,     0.01,2,     2.76,2,    1.008,2,    0.534,2,    0.043,2,    0.240,2,   2301.8,2,   2334.5,2,   7.4122,2,    25.00,   4.6136,2,    0.019,2,    0.000,2,    99.66,2,     -999,9
49NZ20120113  ,P10N       ,      98,  2,         27,12012      ,2,20120201,0105,  37.4178, 147.1972,     5674,    599.3,   3.8762,  34.2197,2,  34.2179,2,     50.5,2,     50.5,2,   109.60,2,    40.67,2,     0.01,2,     2.94,2,    0.779,6,    0.406,6,    0.034,2,    0.153,2,   2329.1,2,   2344.6,2,   7.3601,2,    25.00,   3.8771,2,    0.021,2,    0.000,2,    99.72,2,     -999,9
49NZ20120113  ,P10N       ,      98,  2,         26,12010      ,2,20120201,0105,  37.4178, 147.1972,     5674,    700.9,   3.7236,  34.3125,2,  34.3114,2,     50.9,2,     50.7,2,   116.57,2,    40.73,2,     0.01,2,     2.95,2,    0.469,2,    0.245,2,    0.019,2,    0.083,2,   2337.5,6,   2359.3,2,   7.3838,2,    25.00,   3.7235,2,    0.020,2,    0.000,2,    99.71,2,     -999,9
49NZ20120113  ,P10N       ,      98,  2,         25,12009      ,2,20120201,0105,  37.4178, 147.1972,     5674,    801.1,   3.3648,  34.3539,2,  34.3536,2,     44.7,2,     44.2,2,   125.98,2,    41.73,2,     0.01,2,     3.01,2,    0.299,2,    0.151,2,    0.008,2,    0.105,2,   2350.9,2,   2369.9,6,   7.3663,2,    25.00,   3.3646,2,    0.020,2,    0.000,2,    99.71,2,     -999,9
49NZ20120113  ,P10N       ,      98,  2,         24,12008      ,2,20120201,0105,  37.4178, 147.1972,     5674,    899.7,   3.1142,  34.3948,2,  34.3946,2,     43.8,2,     43.4,2,   132.49,2,    42.11,2,     0.01,2,     3.03,2,    0.205,2,    0.102,2,    0.009,2,    0.061,2,   2358.8,2,   2377.1,2,   7.3669,2,    25.00,   3.1143,2,    0.021,2,    0.000,2,    99.69,2,     -999,9
49NZ20120113  ,P10N       ,      98,  2,         23,12007      ,2,20120201,0105,  37.4178, 147.1972,     5674,   1000.5,   2.9201,  34.4256,2,  34.4248,2,     43.8,2,     43.6,2,   137.26,2,    42.24,2,     0.01,2,     3.05,2,    0.149,2,    0.075,2,    0.004,2,    0.076,2,   2364.1,2,   2384.5,2,   7.3689,2,    25.00,   2.9202,2,    0.020,2,    0.000,2,    99.69,2,     -999,9
49NZ20120113  ,P10N       ,      98,  2,         22,12022      ,2,20120201,0105,  37.4178, 147.1972,     5674,   1200.7,   2.6128,  34.4810,2,  34.4809,2,     44.1,2,     43.8,2,   145.65,2,    42.68,2,     0.01,2,     3.08,2,    0.053,2,    0.025,2,    0.002,2,    0.037,2,   2372.6,2,   2395.9,2,   7.3766,2,    25.00,   2.6126,2,    0.020,2,    0.000,2,    99.72,2,     -999,9
49NZ20120113  ,P10N       ,      98,  2,         21,12036      ,2,20120201,0105,  37.4178, 147.1972,     5674,   1398.6,   2.3536,  34.5203,2,  34.5201,2,     50.1,2,     50.1,2,   152.20,2,    42.41,2,     0.01,2,     3.04,2,    0.031,2,    0.012,2,    0.002,2,    0.000,2,   2376.8,2,   2404.8,2,   7.3867,2,    25.00,   2.3534,2,    0.020,2,    0.000,2,    99.72,2,     -999,9
49NZ20120113  ,P10N       ,      98,  2,         20,12035      ,2,20120201,0105,  37.4178, 147.1972,     5674,   1598.8,   2.1622,  34.5557,2,  34.5554,2,     59.8,2,     59.9,2,   155.55,2,    41.98,2,     0.01,2,     2.99,2,    0.013,2,    0.006,2,    0.001,2,    0.075,2,   2375.2,2,   2410.8,2,   7.4078,6,    25.00,   2.1628,2,    0.018,2,    0.000,2,    99.76,2,     -999,9
49NZ20120113  ,P10N       ,      98,  2,         19,12034      ,2,20120201,0105,  37.4178, 147.1972,     5674,   1801.0,   2.0343,  34.5796,2,  34.5800,2,     69.6,2,     70.0,2,   156.76,2,    41.43,2,     0.01,2,     2.94,2,    0.005,2,    0.001,2,    0.001,2,    0.018,2,   2371.1,3,   2415.4,2,   7.4293,2,    25.00,   2.0344,2,    0.017,2,    0.000,2,    99.79,2,     -999,9
49NZ20120113  ,P10N       ,      98,  2,         18,12033      ,2,20120201,0105,  37.4178, 147.1972,     5674,   1999.5,   1.9067,  34.5997,2,  34.5998,2,     77.3,2,     77.4,2,   158.69,2,    40.92,2,     0.01,2,     2.91,2,    0.002,2,    0.000,2,    0.000,2,     -999,9,   2370.4,2,   2417.8,2,   7.4434,2,    25.00,   1.9067,2,    0.017,2,    0.000,2,    99.78,2,     -999,9
49NZ20120113  ,P10N       ,      98,  2,         17,12032      ,2,20120201,0105,  37.4178, 147.1972,     5674,   2200.2,   1.8035,  34.6184,2,  34.6181,2,     89.2,2,     89.4,2,   157.96,2,    40.22,2,     0.01,2,     2.84,2,    0.000,2,    0.000,2,    0.000,2,     -999,9,   2364.8,2,   2420.0,2,   7.4677,2,    25.00,   1.8030,2,    0.016,2,    0.000,2,    99.80,2,     -999,9
49NZ20120113  ,P10N       ,      98,  2,         16,12046      ,2,20120201,0105,  37.4178, 147.1972,     5674,   2401.2,   1.7147,  34.6337,2,  34.6341,2,     99.9,2,    100.2,2,   157.31,2,    39.52,2,     0.01,2,     2.79,2,    0.003,2,    0.000,2,    0.000,2,     -999,9,   2358.3,6,   2421.9,2,   7.4931,2,    25.00,   1.7145,2,    0.015,2,    0.000,2,    99.83,2,     -999,9
49NZ20120113  ,P10N       ,      98,  2,         15,12030      ,2,20120201,0105,  37.4178, 147.1972,     5674,   2600.9,   1.6503,  34.6451,2,  34.6451,2,    109.6,2,    109.6,2,   156.36,2,    38.87,2,     0.01,2,     2.76,2,    0.000,2,    0.000,2,    0.000,2,     -999,9,   2353.3,2,   2422.5,6,   7.5060,2,    25.00,   1.6508,2,    0.014,2,    0.000,2,    99.84,2,     -999,9
49NZ20120113  ,P10N       ,      98,  2,         14,12029      ,2,20120201,0105,  37.4178, 147.1972,     5674,   2800.2,   1.5970,  34.6545,2,  34.6545,2,    117.9,2,    117.9,2,   154.53,2,    38.40,2,     0.01,2,     2.71,2,    0.000,2,    0.000,2,    0.000,2,     -999,9,   2347.9,2,   2422.8,2,   7.5213,6,    25.00,   1.5973,2,    0.013,2,    0.000,2,    99.85,2,     -999,9
49NZ20120113  ,P10N       ,      98,  2,         13,12028      ,2,20120201,0105,  37.4178, 147.1972,     5674,   3001.9,   1.5593,  34.6613,2,  34.6613,2,    124.8,2,    124.9,2,   153.12,2,    37.93,2,     0.01,2,     2.68,2,    0.000,2,    0.000,2,    0.000,2,     -999,9,   2343.9,2,   2423.9,2,   7.5338,2,    25.00,   1.5593,2,    0.012,2,    0.000,2,    99.84,2,     -999,9
49NZ20120113  ,P10N       ,      98,  2,         12,12027      ,2,20120201,0105,  37.4178, 147.1972,     5674,   3249.6,   1.5185,  34.6689,2,  34.6689,2,    132.7,2,    132.8,2,   151.42,2,    37.29,2,     0.01,2,     2.64,2,    0.000,2,    0.000,2,    0.000,2,     -999,9,   2339.4,2,   2423.7,2,   7.5493,2,    25.00,   1.5185,2,    0.011,2,    0.000,2,    99.85,2,     -999,9
49NZ20120113  ,P10N       ,      98,  2,         11,12011      ,2,20120201,0105,  37.4178, 147.1972,     5674,   3502.3,   1.4959,  34.6743,2,  34.6740,2,    138.8,2,    138.8,2,   150.18,2,    36.95,2,     0.01,2,     2.60,2,    0.000,2,    0.000,2,    0.000,2,     -999,9,   2334.5,2,   2422.5,2,   7.5588,2,    25.00,   1.4960,2,    0.011,2,    0.000,2,    99.85,2,     -999,9
49NZ20120113  ,P10N       ,      98,  2,         10,12026      ,2,20120201,0105,  37.4178, 147.1972,     5674,   3749.5,   1.4824,  34.6786,2,  34.6781,2,    144.4,2,    144.4,2,   147.77,2,    36.59,2,     0.01,2,     2.57,2,    0.000,2,    0.001,2,    0.000,2,     -999,9,   2330.7,2,   2421.9,2,   7.5703,2,    25.00,   1.4825,2,    0.011,2,    0.000,2,    99.85,2,     -999,9
49NZ20120113  ,P10N       ,      98,  2,          9,12025      ,2,20120201,0105,  37.4178, 147.1972,     5674,   4000.7,   1.4733,  34.6821,2,  34.6820,2,    148.3,2,    148.2,2,   147.41,2,    36.38,2,     0.01,2,     2.55,2,    0.000,2,    0.000,2,    0.000,2,     -999,9,   2328.4,2,   2422.1,2,   7.5748,2,    25.00,   1.4734,2,    0.010,2,    0.000,2,    99.85,2,     -999,9
49NZ20120113  ,P10N       ,      98,  2,          8,12024      ,2,20120201,0105,  37.4178, 147.1972,     5674,   4249.8,   1.4706,  34.6853,2,  34.6853,2,    152.3,2,    152.1,2,   146.51,2,    36.13,2,     0.01,2,     2.52,2,    0.000,2,    0.000,2,    0.000,2,     -999,9,   2325.1,6,   2421.3,2,   7.5814,2,    25.00,   1.4708,2,    0.010,2,    0.000,2,    99.85,2,     -999,9
49NZ20120113  ,P10N       ,      98,  2,          7,12023      ,2,20120201,0105,  37.4178, 147.1972,     5674,   4500.5,   1.4774,  34.6874,2,  34.6871,2,    155.4,2,    155.3,2,   145.60,2,    35.90,2,     0.01,2,     2.52,2,    0.001,2,    0.000,2,    0.000,2,     -999,9,   2322.5,2,   2420.6,6,   7.5873,2,    25.00,   1.4774,2,    0.010,2,    0.000,2,    99.85,2,     -999,9
49NZ20120113  ,P10N       ,      98,  2,          6,12006      ,2,20120201,0105,  37.4178, 147.1972,     5674,   4750.1,   1.4886,  34.6893,2,  34.6894,2,    157.9,2,    157.6,2,   145.12,2,    35.75,2,     0.01,2,     2.50,2,    0.001,2,    0.000,2,    0.000,2,     -999,9,   2320.9,2,   2420.4,2,   7.5899,6,    25.00,   1.4886,2,    0.009,2,    0.000,2,    99.85,2,     -999,9
49NZ20120113  ,P10N       ,      98,  2,          5,12102      ,3,20120201,0105,  37.4178, 147.1972,     5674,   5000.9,   1.5069,  34.6906,2,  34.6905,2,    160.2,2,    159.9,2,   143.47,2,    35.64,2,     0.01,2,     2.50,2,    0.005,2,    0.002,2,    0.000,2,     -999,9,   2318.3,2,   2419.2,2,   7.5954,2,    25.00,   1.5069,2,    0.009,2,    0.000,2,    99.85,2,     -999,9
49NZ20120113  ,P10N       ,      98,  2,          4,12104      ,2,20120201,0105,  37.4178, 147.1972,     5674,   5251.0,   1.5305,  34.6914,2,  34.6912,2,    161.4,2,    161.2,2,   142.83,2,    35.43,2,     0.01,2,     2.49,2,    0.004,2,    0.002,2,    0.000,2,     -999,9,   2317.9,2,   2417.6,2,   7.5945,2,    25.00,   1.5305,2,    0.009,2,    0.000,2,    99.76,2,     -999,9
49NZ20120113  ,P10N       ,      98,  2,          3,12003      ,2,20120201,0105,  37.4178, 147.1972,     5674,   5500.5,   1.5566,  34.6921,2,  34.6920,2,    162.3,2,    162.3,2,   141.51,2,    35.34,2,     0.01,2,     2.48,2,    0.006,2,    0.002,2,    0.000,2,     -999,9,   2316.3,2,   2417.6,2,   7.5956,2,    25.00,   1.5566,2,    0.009,2,    0.000,2,    99.61,2,     -999,9
49NZ20120113  ,P10N       ,      98,  2,          1,12001      ,2,20120201,0105,  37.4178, 147.1972,     5674,   5775.5,   1.5892,  34.6923,2,  34.6925,2,    163.0,2,    163.4,2,   140.32,2,    35.28,2,     0.01,2,     2.48,2,    0.005,2,    0.001,2,    0.000,2,     -999,9,   2315.7,2,   2416.7,2,   7.5987,2,    25.00,   1.5893,2,    0.010,2,    0.000,2,    99.68,2,     -999,9