BOTTLE,20231026CCHSIOVAJ
EXPOCODE,SECT_ID,STNNBR,CASTNO,SAMPNO,BTLNBR,BTLNBR_FLAG_W,DATE,TIME,LATITUDE,LONGITUDE,DEPTH,CTDPRS,CTDTMP,CTDSAL,CTDSAL_FLAG_W,SALNTY,SALNTY_FLAG_W,CTDOXY,CTDOXY_FLAG_W,OXYGEN,OXYGEN_FLAG_W,SILCAT,SILCAT_FLAG_W,NITRAT,NITRAT_FLAG_W,NITRIT,NITRIT_FLAG_W,PHSPHT,PHSPHT_FLAG_W,CFC-11,CFC-11_FLAG_W,CFC-12,CFC-12_FLAG_W,CFC113,CFC113_FLAG_W,SF6,SF6_FLAG_W,TCARBN,TCARBN_FLAG_W,ALKALI,ALKALI_FLAG_W,PH_TOT,PH_TOT_FLAG_W,PH_TMP,REFTMP,REFTMP_FLAG_W,CTDFLUOR,CTDFLUOR_FLAG_W,PAR,PAR_FLAG_W,CTDXMISS,CTDXMISS_FLAG_W,CHLORA,CHLORA_FLAG_W
,,,,,,,,,,,METERS,DBAR,ITS-90,PSS-78,,PSS-78,,UMOL/KG,,UMOL/KG,,UMOL/KG,,UMOL/KG,,UMOL/KG,,UMOL/KG,,PMOL/KG,,PMOL/KG,,PMOL/KG,,FMOL/KG,,UMOL/KG,,UMOL/KG,,,,DEG C,ITS-90,,MG/M^3,,VOLTS,,%TRANS,,UG/KG,
49NZ20120113  ,P10N       ,      71,  2,          0,BUC        ,2,20120118,1030,  26.4982, 149.3320,     6099,      0.0,     -999,     -999,9,  35.0849,2,     -999,9,     -999,9,     -999,9,     -999,9,     -999,9,     -999,9,     -999,9,     -999,9,     -999,9,     -999,9,     -999,9,     -999,9,     -999,9,     -999,     -999,9,     -999,9,     -999,9,     -999,9,    -0.02,2
49NZ20120113  ,P10N       ,      71,  2,         36,12021      ,2,20120118,1030,  26.4982, 149.3320,     6099,      9.8,  22.8278,  35.0513,2,  35.0518,2,    214.2,2,    213.8,2,     1.01,2,     0.09,2,     0.01,2,     0.05,2,    1.805,2,    1.135,2,     -999,5,     -999,9,   1985.4,2,   2304.1,2,   8.0758,2,    25.00,  22.8284,2,    0.095,2,    0.022,2,    98.92,2,     0.13,2
49NZ20120113  ,P10N       ,      71,  2,         35,12001      ,2,20120118,1030,  26.4982, 149.3320,     6099,     49.1,  22.8341,  35.0503,2,  35.0506,2,    214.0,2,    213.7,2,     0.97,2,     0.09,2,     0.01,2,     0.04,2,    1.813,2,    1.139,2,     -999,5,     -999,9,   1983.7,6,   2304.8,2,   8.0771,2,    25.00,  22.8343,2,    0.088,2,    0.000,2,    98.96,2,     0.12,2
49NZ20120113  ,P10N       ,      71,  2,         34,12019      ,2,20120118,1030,  26.4982, 149.3320,     6099,    100.9,  22.8409,  35.0506,2,  35.0522,2,    213.7,2,    213.8,2,     0.96,2,     0.08,2,     0.01,2,     0.04,2,    1.813,6,    1.141,6,     -999,5,     -999,9,   1983.2,2,   2304.3,6,   8.0775,2,    25.00,  22.8407,2,    0.092,2,    0.000,2,    98.98,2,     0.10,2
49NZ20120113  ,P10N       ,      71,  2,         33,12018      ,2,20120118,1030,  26.4982, 149.3320,     6099,    150.5,  18.9819,  34.8229,2,  34.8239,2,    210.1,2,    210.0,2,     1.86,2,     1.05,2,     0.02,2,     0.13,2,    2.215,2,    1.355,2,    0.152,2,     -999,9,   2020.1,2,   2290.0,2,   7.9939,6,    25.00,  18.9826,2,    0.078,2,    0.000,2,    99.43,2,     0.05,2
49NZ20120113  ,P10N       ,      71,  2,         32,12017      ,2,20120118,1030,  26.4982, 149.3320,     6099,    200.9,  18.0255,  34.7293,2,  34.7304,2,    209.1,2,    208.8,2,     2.52,2,     2.98,2,     0.02,2,     0.23,2,    2.282,2,    1.387,2,    0.117,2,     -999,9,   2024.4,2,   2283.3,2,   7.9754,2,    25.00,  18.0286,2,    0.023,2,    0.000,2,    99.57,2,     0.01,2
49NZ20120113  ,P10N       ,      71,  2,         31,12016      ,2,20120118,1030,  26.4982, 149.3320,     6099,    249.0,  17.2485,  34.6959,2,  34.6951,2,    213.2,2,    212.8,2,     3.34,2,     4.11,2,     0.02,2,     0.30,2,    2.375,2,    1.437,2,    0.078,2,     -999,9,   2027.3,2,   2280.9,2,   7.9668,2,    25.00,  17.2506,2,    0.005,2,    0.000,2,    99.67,2,     -999,9
49NZ20120113  ,P10N       ,      71,  2,         30,12015      ,2,20120118,1030,  26.4982, 149.3320,     6099,    330.8,  16.7023,  34.6710,2,  34.6714,2,    207.4,2,    207.4,2,     4.66,2,     5.54,2,     0.01,2,     0.40,2,    2.415,2,    1.448,2,    0.071,2,     -999,9,   2038.8,2,   2280.0,2,   7.9474,2,    25.00,  16.7023,2,    0.004,2,    0.000,2,    99.69,2,     -999,9
49NZ20120113  ,P10N       ,      71,  2,         29,12014      ,2,20120118,1030,  26.4982, 149.3320,     6099,    430.8,  14.5470,  34.5191,2,  34.5208,2,    194.1,2,    193.9,2,     9.58,2,     9.89,2,     0.01,2,     0.70,2,    2.654,2,    1.524,2,    0.030,2,     -999,9,   2073.1,2,   2277.6,2,   7.8717,2,    25.00,  14.5467,2,    0.005,2,    0.000,2,    99.71,2,     -999,9
49NZ20120113  ,P10N       ,      71,  2,         28,12101      ,2,20120118,1030,  26.4982, 149.3320,     6099,    529.9,  11.2050,  34.2858,2,  34.2860,2,    190.1,2,    189.9,2,    19.57,2,    15.86,2,     0.01,2,     1.12,2,    2.895,2,    1.594,2,    0.070,2,     -999,9,   2112.5,2,   2273.8,2,   7.7750,2,    25.00,  11.2036,2,    0.007,2,    0.000,2,    99.76,2,     -999,9
49NZ20120113  ,P10N       ,      71,  2,         27,12012      ,2,20120118,1030,  26.4982, 149.3320,     6099,    630.3,   8.5631,  34.1250,2,  34.1264,2,    161.8,2,    161.8,2,    35.66,2,    23.12,2,     0.01,2,     1.66,2,    2.614,6,    1.381,6,    0.076,6,     -999,9,   2165.4,2,   2280.6,2,   7.6592,2,    25.00,   8.5661,2,    0.010,2,    0.000,2,    99.80,2,     -999,9
49NZ20120113  ,P10N       ,      71,  2,         26,12010      ,2,20120118,1030,  26.4982, 149.3320,     6099,    730.7,   6.4023,  34.0669,2,  34.0673,2,    123.2,2,    123.4,2,    58.52,2,    30.48,2,     0.01,2,     2.22,2,    1.992,2,    1.035,2,    0.065,2,     -999,9,   2224.5,6,   2295.8,2,   7.5371,2,    25.00,   6.3992,2,    0.014,2,    0.000,2,    99.80,2,     -999,9
49NZ20120113  ,P10N       ,      71,  2,         25,12009      ,2,20120118,1030,  26.4982, 149.3320,     6099,    829.0,   5.1519,  34.1155,2,  34.1158,2,     82.4,2,     82.2,2,    79.80,2,    36.34,2,     0.01,2,     2.65,2,    1.215,2,    0.619,2,    0.048,2,     -999,9,   2278.0,2,   2315.2,6,   7.4403,2,    25.00,   5.1522,2,    0.017,2,    0.000,2,    99.80,2,     -999,9
49NZ20120113  ,P10N       ,      71,  2,         24,12008      ,2,20120118,1030,  26.4982, 149.3320,     6099,    930.6,   4.3992,  34.2088,2,  34.2099,2,     55.0,2,     55.1,2,    98.42,2,    39.76,2,     0.01,2,     2.86,2,    0.643,2,    0.318,2,    0.024,2,     -999,9,   2314.2,2,   2335.5,2,   7.3891,6,    25.00,   4.4015,2,    0.019,2,    0.000,2,    99.81,2,     -999,9
49NZ20120113  ,P10N       ,      71,  2,         23,12007      ,2,20120118,1030,  26.4982, 149.3320,     6099,   1069.0,   3.6950,  34.3381,2,  34.3378,2,     40.6,2,     40.5,2,   117.21,2,    41.99,2,     0.01,2,     3.04,2,    0.193,2,    0.093,2,    0.009,2,     -999,9,   2344.5,2,   2360.7,2,   7.3715,2,    25.00,   3.6952,2,    0.021,2,    0.000,2,    99.82,2,     -999,9
49NZ20120113  ,P10N       ,      71,  2,         22,12022      ,2,20120118,1030,  26.4982, 149.3320,     6099,   1269.5,   3.0682,  34.4414,2,  34.4403,2,     43.0,2,     42.9,2,   132.97,2,    42.45,2,     0.01,2,     3.05,2,    0.055,2,    0.024,2,    0.000,2,     -999,9,   2361.8,2,   2383.2,2,   7.3830,2,    25.00,   3.0709,2,    0.020,2,    0.000,2,    99.83,2,     -999,9
49NZ20120113  ,P10N       ,      71,  2,         21,12036      ,2,20120118,1030,  26.4982, 149.3320,     6099,   1469.8,   2.6026,  34.4986,2,  34.4984,2,     46.6,2,     46.6,2,   145.55,2,    42.56,2,     0.01,2,     3.04,2,    0.021,2,    0.009,2,    0.000,2,     -999,9,   2372.4,2,   2395.3,2,   7.3906,2,    25.00,   2.6028,2,    0.020,2,    0.000,2,    99.83,2,     -999,9
49NZ20120113  ,P10N       ,      71,  2,         20,12035      ,2,20120118,1030,  26.4982, 149.3320,     6099,   1670.3,   2.2749,  34.5502,2,  34.5504,2,     60.4,2,     60.5,2,   151.55,2,    41.92,2,     0.01,2,     2.99,2,    0.008,2,    0.003,2,    0.000,2,     -999,9,   2373.4,2,   2405.7,2,   7.4196,6,    25.00,   2.2738,2,    0.018,2,    0.000,2,    99.84,2,     -999,9
49NZ20120113  ,P10N       ,      71,  2,         19,12034      ,2,20120118,1030,  26.4982, 149.3320,     6099,   1868.9,   2.0667,  34.5864,2,  34.5870,2,     80.1,2,     80.3,2,   151.40,2,    40.64,2,     0.01,2,     2.90,2,    0.004,2,    0.000,2,    0.000,2,     -999,9,   2363.4,2,   2411.7,2,   7.4572,2,    25.00,   2.0666,2,    0.016,2,    0.000,2,    99.87,2,     -999,9
49NZ20120113  ,P10N       ,      71,  2,         18,12033      ,2,20120118,1030,  26.4982, 149.3320,     6099,   2071.0,   1.8932,  34.6136,2,  34.6141,2,     97.8,2,     98.0,2,   150.09,2,    39.56,2,     0.01,2,     2.81,2,    0.000,2,    0.000,2,    0.000,2,     -999,9,   2354.0,2,   2414.8,2,   7.4913,2,    25.00,   1.8930,2,    0.015,2,    0.000,2,    99.90,2,     -999,9
49NZ20120113  ,P10N       ,      71,  2,         17,12032      ,2,20120118,1030,  26.4982, 149.3320,     6099,   2271.5,   1.8053,  34.6291,2,  34.6292,2,    108.7,2,    108.9,2,   148.61,2,    38.86,2,     0.01,2,     2.77,2,    0.000,2,    0.000,2,    0.000,2,     -999,9,   2347.9,2,   2416.8,2,   7.5111,2,    25.00,   1.8053,2,    0.014,2,    0.000,2,    99.92,2,     -999,9
49NZ20120113  ,P10N       ,      71,  2,         16,12046      ,2,20120118,1030,  26.4982, 149.3320,     6099,   2471.0,   1.7208,  34.6412,2,  34.6414,2,    116.0,2,    116.2,2,   148.65,2,    38.46,2,     0.01,2,     2.73,2,    0.000,2,    0.000,2,    0.000,2,     -999,9,   2343.6,6,   2418.4,2,   7.5246,2,    25.00,   1.7209,2,    0.013,2,    0.000,2,    99.93,2,     -999,9
49NZ20120113  ,P10N       ,      71,  2,         15,12030      ,2,20120118,1030,  26.4982, 149.3320,     6099,   2669.8,   1.6501,  34.6507,2,  34.6512,2,    122.6,2,    122.9,2,   148.71,2,    38.00,2,     0.01,2,     2.69,2,     -999,9,     -999,9,     -999,9,     -999,9,   2342.6,2,   2418.9,6,   7.5372,2,    25.00,   1.6501,2,    0.013,2,    0.000,2,    99.93,2,     -999,9
49NZ20120113  ,P10N       ,      71,  2,         14,12029      ,2,20120118,1030,  26.4982, 149.3320,     6099,   2870.1,   1.6081,  34.6583,2,  34.6584,2,    128.6,2,    128.6,2,   147.74,2,    37.68,2,     0.01,2,     2.66,2,    0.000,2,    0.000,2,    0.000,2,     -999,9,   2338.9,2,   2420.2,2,   7.5472,6,    25.00,   1.6083,2,    0.012,2,    0.000,2,    99.93,2,     -999,9
49NZ20120113  ,P10N       ,      71,  2,         13,12028      ,2,20120118,1030,  26.4982, 149.3320,     6099,   3079.2,   1.5746,  34.6641,2,  34.6641,2,    133.3,2,    133.3,2,   147.27,2,    37.37,2,     0.01,2,     2.64,2,     -999,9,     -999,9,     -999,9,     -999,9,   2335.3,2,   2420.2,2,   7.5551,2,    25.00,   1.5747,2,    0.011,2,    0.000,2,    99.94,2,     -999,9
49NZ20120113  ,P10N       ,      71,  2,         12,12027      ,2,20120118,1030,  26.4982, 149.3320,     6099,   3328.9,   1.5460,  34.6694,2,  34.6697,2,    138.1,2,    138.1,2,   146.22,2,    36.99,2,     0.01,2,     2.59,2,    0.000,2,    0.000,2,    0.000,2,     -999,9,   2334.3,2,   2419.6,2,   7.5629,2,    25.00,   1.5460,2,    0.011,2,    0.000,2,    99.95,2,     -999,9
49NZ20120113  ,P10N       ,      71,  2,         11,12011      ,2,20120118,1030,  26.4982, 149.3320,     6099,   3579.5,   1.5163,  34.6741,2,  34.6744,2,    142.6,2,    142.6,2,   146.00,2,    36.76,2,     0.01,2,     2.59,2,     -999,9,     -999,9,     -999,9,     -999,9,   2329.6,2,   2419.9,2,   7.5686,2,    25.00,   1.5162,2,    0.011,2,    0.000,2,    99.92,2,     -999,9
49NZ20120113  ,P10N       ,      71,  2,         10,12026      ,2,20120118,1030,  26.4982, 149.3320,     6099,   3830.2,   1.5010,  34.6793,2,  34.6796,2,    148.5,2,    148.4,2,   143.42,2,    36.29,2,     0.01,2,     2.56,2,    0.000,2,    0.000,2,    0.000,2,     -999,9,   2326.3,2,   2418.8,2,   7.5790,2,    25.00,   1.5010,2,    0.010,2,    0.000,2,    99.96,2,     -999,9
49NZ20120113  ,P10N       ,      71,  2,          9,12025      ,2,20120118,1030,  26.4982, 149.3320,     6099,   4079.7,   1.4888,  34.6821,2,  34.6822,2,    151.5,2,    151.3,2,   143.31,2,    36.03,2,     0.01,2,     2.54,2,     -999,9,     -999,9,     -999,9,     -999,9,   2325.9,3,   2418.2,2,   7.5828,2,    25.00,   1.4888,2,    0.010,2,    0.000,2,    99.93,2,     -999,9
49NZ20120113  ,P10N       ,      71,  2,          8,12024      ,2,20120118,1030,  26.4982, 149.3320,     6099,   4331.5,   1.4835,  34.6854,2,  34.6853,2,    155.9,2,    155.7,2,   141.66,2,    35.89,2,     0.01,2,     2.53,2,    0.000,2,    0.000,2,    0.000,2,     -999,9,   2319.7,6,   2416.4,2,   7.5892,2,    25.00,   1.4837,2,    0.009,2,    0.000,2,    99.93,2,     -999,9
49NZ20120113  ,P10N       ,      71,  2,          7,12023      ,2,20120118,1030,  26.4982, 149.3320,     6099,   4580.3,   1.4883,  34.6871,2,  34.6871,2,    157.8,2,    157.8,2,   141.82,2,    35.76,2,     0.01,2,     2.50,2,     -999,9,     -999,9,     -999,9,     -999,9,   2318.0,2,   2417.1,6,   7.5915,2,    25.00,   1.4883,2,    0.010,2,    0.000,2,    99.90,2,     -999,9
49NZ20120113  ,P10N       ,      71,  2,          6,12006      ,2,20120118,1030,  26.4982, 149.3320,     6099,   4829.5,   1.5021,  34.6887,2,  34.6887,2,    160.0,2,    159.4,2,   140.73,2,    35.58,2,     0.01,2,     2.50,2,    0.000,2,    0.000,2,    0.000,2,     -999,9,   2317.9,2,   2415.8,2,   7.5944,6,    25.00,   1.5022,2,    0.010,2,    0.000,2,    99.88,2,     -999,9
49NZ20120113  ,P10N       ,      71,  2,          5,12102      ,2,20120118,1030,  26.4982, 149.3320,     6099,   5081.6,   1.5211,  34.6900,2,  34.6899,2,    162.3,2,    161.8,2,   138.85,2,    35.41,2,     0.01,2,     2.49,2,     -999,9,     -999,9,     -999,9,     -999,9,   2315.2,2,   2413.9,2,   7.5973,2,    25.00,   1.5213,2,    0.009,2,    0.000,2,    99.88,2,     -999,9
49NZ20120113  ,P10N       ,      71,  2,          4,12104      ,2,20120118,1030,  26.4982, 149.3320,     6099,   5330.8,   1.5416,  34.6910,2,  34.6914,2,    165.2,2,    164.6,2,   136.35,2,    35.16,2,     0.01,2,     2.47,2,    0.001,2,    0.000,2,    0.000,2,     -999,9,   2313.5,2,   2411.8,2,   7.6000,2,    25.00,   1.5416,2,    0.009,2,    0.000,2,    99.92,2,     -999,9
49NZ20120113  ,P10N       ,      71,  2,          3,12003      ,2,20120118,1030,  26.4982, 149.3320,     6099,   5580.4,   1.5604,  34.6922,2,  34.6926,2,    167.0,2,    166.6,2,   135.34,2,    35.05,2,     0.01,2,     2.45,2,     -999,9,     -999,9,     -999,9,     -999,9,   2308.1,2,   2410.8,2,   7.6025,2,    25.00,   1.5604,2,    0.009,2,    0.000,2,    99.90,2,     -999,9
49NZ20120113  ,P10N       ,      71,  2,          2,12103      ,2,20120118,1030,  26.4982, 149.3320,     6099,   5830.7,   1.5772,  34.6937,2,  34.6942,2,    169.8,2,    169.6,2,   133.09,2,    34.84,2,     0.01,2,     2.44,2,    0.000,2,    0.000,2,    0.000,2,     -999,9,   2305.7,2,   2408.4,2,   7.6058,2,    25.00,   1.5772,2,    0.009,2,    0.000,2,    99.92,2,     -999,9
49NZ20120113  ,P10N       ,      71,  2,          1,12001      ,2,20120118,1030,  26.4982, 149.3320,     6099,   6176.2,   1.6015,  34.6954,2,  34.6961,2,    173.5,2,    173.5,2,   130.55,2,    34.53,2,     0.01,2,     2.42,2,    0.000,2,    0.000,2,    0.000,2,     -999,9,   2301.0,2,   2405.8,2,   7.6098,2,    25.00,   1.6013,2,    0.009,2,    0.000,2,    99.92,2,     -999,9