BOTTLE,20231026CCHSIOVAJ
EXPOCODE,SECT_ID,STNNBR,CASTNO,SAMPNO,BTLNBR,BTLNBR_FLAG_W,DATE,TIME,LATITUDE,LONGITUDE,DEPTH,CTDPRS,CTDTMP,CTDSAL,CTDSAL_FLAG_W,SALNTY,SALNTY_FLAG_W,CTDOXY,CTDOXY_FLAG_W,OXYGEN,OXYGEN_FLAG_W,SILCAT,SILCAT_FLAG_W,NITRAT,NITRAT_FLAG_W,NITRIT,NITRIT_FLAG_W,PHSPHT,PHSPHT_FLAG_W,CFC-11,CFC-11_FLAG_W,CFC-12,CFC-12_FLAG_W,CFC113,CFC113_FLAG_W,SF6,SF6_FLAG_W,TCARBN,TCARBN_FLAG_W,ALKALI,ALKALI_FLAG_W,PH_TOT,PH_TOT_FLAG_W,PH_TMP,REFTMP,REFTMP_FLAG_W,CTDFLUOR,CTDFLUOR_FLAG_W,PAR,PAR_FLAG_W,CTDXMISS,CTDXMISS_FLAG_W,CHLORA,CHLORA_FLAG_W
,,,,,,,,,,,METERS,DBAR,ITS-90,PSS-78,,PSS-78,,UMOL/KG,,UMOL/KG,,UMOL/KG,,UMOL/KG,,UMOL/KG,,UMOL/KG,,PMOL/KG,,PMOL/KG,,PMOL/KG,,FMOL/KG,,UMOL/KG,,UMOL/KG,,,,DEG C,ITS-90,,MG/M^3,,VOLTS,,%TRANS,,UG/KG,
49NZ20120113  ,P10N       ,      82,  1,          0,BUC        ,2,20120123,1251,  32.4950, 149.3338,     5951,      0.0,     -999,     -999,9,  34.6967,2,     -999,9,     -999,9,     -999,9,     -999,9,     -999,9,     -999,9,     -999,9,     -999,9,     -999,9,     -999,9,     -999,9,     -999,9,     -999,9,     -999,     -999,9,     -999,9,     -999,9,     -999,9,     -999,9
49NZ20120113  ,P10N       ,      82,  1,         36,12021      ,2,20120123,1251,  32.4950, 149.3338,     5951,     10.7,  18.7164,  34.6906,2,  34.6888,2,    222.6,2,    222.0,2,     2.41,2,     1.73,2,     0.26,2,     0.19,2,    2.133,2,    1.319,2,    0.141,2,    1.461,2,     -999,9,     -999,9,     -999,9,     -999,  18.7167,2,    0.252,2,    0.174,2,    98.80,2,     0.24,2
49NZ20120113  ,P10N       ,      82,  1,         35,12001      ,2,20120123,1251,  32.4950, 149.3338,     5951,     50.1,  18.7216,  34.6904,2,  34.6891,2,    222.6,2,    222.0,2,     2.40,2,     1.76,2,     0.26,2,     0.18,2,    2.132,2,    1.314,2,    0.141,6,    1.399,6,     -999,9,     -999,9,     -999,9,     -999,  18.7219,2,    0.224,2,    0.000,2,    98.81,2,     -999,9
49NZ20120113  ,P10N       ,      82,  1,         34,12019      ,2,20120123,1251,  32.4950, 149.3338,     5951,    100.6,  18.7314,  34.6911,2,  34.6897,2,    222.5,2,    221.9,2,     2.60,2,     1.77,2,     0.26,2,     0.18,2,    2.144,6,    1.326,6,    0.143,2,    1.429,2,     -999,9,     -999,9,     -999,9,     -999,  18.7317,2,    0.221,2,    0.000,2,    98.83,2,     -999,9
49NZ20120113  ,P10N       ,      82,  1,         33,12018      ,2,20120123,1251,  32.4950, 149.3338,     5951,    150.3,  18.7396,  34.6908,2,  34.6893,2,    222.6,2,    222.0,2,     2.57,2,     1.78,2,     0.26,2,     0.19,2,    2.129,2,    1.311,2,    0.139,2,    1.478,2,     -999,9,     -999,9,     -999,9,     -999,  18.7401,2,    0.227,2,    0.000,2,    98.81,2,     -999,9
49NZ20120113  ,P10N       ,      82,  1,         32,12017      ,2,20120123,1251,  32.4950, 149.3338,     5951,    200.4,  18.7268,  34.6985,2,  34.6975,2,    222.1,2,    221.4,2,     2.56,2,     1.77,2,     0.27,2,     0.20,2,    2.136,2,    1.327,2,    0.138,2,    1.457,2,     -999,9,     -999,9,     -999,9,     -999,  18.7272,2,    0.187,2,    0.000,2,    98.88,2,     -999,9
49NZ20120113  ,P10N       ,      82,  1,         31,12016      ,2,20120123,1251,  32.4950, 149.3338,     5951,    249.9,  18.7296,  34.7105,2,  34.7091,2,    221.3,2,    221.0,2,     2.35,2,     1.80,2,     0.25,2,     0.18,2,    2.135,2,    1.320,2,    0.135,4,    1.378,4,     -999,9,     -999,9,     -999,9,     -999,  18.7301,2,    0.178,2,    0.000,2,    98.98,2,     -999,9
49NZ20120113  ,P10N       ,      82,  1,         30,12015      ,2,20120123,1251,  32.4950, 149.3338,     5951,    301.9,  17.8172,  34.7237,2,  34.7239,2,    203.2,2,    202.9,2,     3.51,2,     4.29,2,     0.02,2,     0.32,2,    2.309,2,    1.404,2,    0.050,2,    1.482,2,     -999,9,     -999,9,     -999,9,     -999,  17.8176,2,    0.009,2,    0.000,2,    99.55,2,     -999,9
49NZ20120113  ,P10N       ,      82,  1,         29,12014      ,2,20120123,1251,  32.4950, 149.3338,     5951,    398.8,  16.2864,  34.6441,2,  34.6439,2,    193.4,2,    193.4,2,     7.23,2,     7.66,2,     0.02,2,     0.55,2,    2.436,2,    1.443,2,    0.035,6,    1.302,6,     -999,9,     -999,9,     -999,9,     -999,  16.2865,2,    0.005,2,    0.000,2,    99.67,2,     -999,9
49NZ20120113  ,P10N       ,      82,  1,         28,12101      ,2,20120123,1251,  32.4950, 149.3338,     5951,    500.7,  13.3710,  34.4765,2,  34.4775,2,    168.1,2,    168.2,2,    19.09,2,    14.49,2,     0.01,2,     1.05,2,    2.412,2,    1.362,2,    0.035,2,    0.940,2,     -999,9,     -999,9,     -999,9,     -999,  13.3726,2,    0.006,2,    0.000,2,    99.63,2,     -999,9
49NZ20120113  ,P10N       ,      82,  1,         27,12012      ,2,20120123,1251,  32.4950, 149.3338,     5951,    600.1,  11.1544,  34.3130,2,  34.3141,2,    173.6,2,    173.3,2,    25.58,2,    17.70,2,     0.01,2,     1.27,2,    2.588,6,    1.434,6,    0.063,2,    1.017,2,     -999,9,     -999,9,     -999,9,     -999,  11.1541,2,    0.008,2,    0.000,2,    99.69,2,     -999,9
49NZ20120113  ,P10N       ,      82,  1,         26,12010      ,2,20120123,1251,  32.4950, 149.3338,     5951,    699.1,   8.1334,  34.2096,2,  34.2071,2,    135.0,2,    134.8,2,    50.83,2,    26.45,2,     0.01,2,     1.92,2,    2.027,2,    1.087,2,    0.062,2,    0.689,2,     -999,9,     -999,9,     -999,9,     -999,   8.1330,2,    0.011,2,    0.000,2,    99.71,2,     -999,9
49NZ20120113  ,P10N       ,      82,  1,         25,12009      ,2,20120123,1251,  32.4950, 149.3338,     5951,    800.1,   5.6243,  34.0222,2,  34.0241,2,    124.0,2,    122.8,2,    66.79,2,    32.21,2,     0.01,2,     2.35,2,    2.163,2,    1.136,2,    0.103,2,    0.780,2,     -999,9,     -999,9,     -999,9,     -999,   5.6248,2,    0.015,2,    0.000,2,    99.78,2,     -999,9
49NZ20120113  ,P10N       ,      82,  1,         24,12008      ,2,20120123,1251,  32.4950, 149.3338,     5951,    900.5,   4.7668,  34.1018,2,  34.1020,2,     86.2,2,     85.7,2,    86.17,2,    36.68,2,     0.01,2,     2.67,2,    1.504,2,    0.787,2,    0.070,2,    0.373,2,     -999,9,     -999,9,     -999,9,     -999,   4.7650,2,    0.018,2,    0.000,2,    99.76,2,     -999,9
49NZ20120113  ,P10N       ,      82,  1,         23,12007      ,2,20120123,1251,  32.4950, 149.3338,     5951,   1002.3,   4.2337,  34.1972,2,  34.1961,2,     58.7,2,     58.7,2,   101.78,2,    39.61,2,     0.01,2,     2.88,2,    0.859,2,    0.443,2,    0.037,2,    0.158,2,     -999,9,     -999,9,     -999,9,     -999,   4.2340,2,    0.020,2,    0.000,2,    99.78,2,     -999,9
49NZ20120113  ,P10N       ,      82,  1,         22,12022      ,2,20120123,1251,  32.4950, 149.3338,     5951,   1201.2,   3.4259,  34.3411,2,  34.3417,2,     40.0,2,     39.6,2,   125.29,2,    42.17,2,     0.01,2,     3.03,2,    0.271,2,    0.135,2,    0.008,2,    0.058,2,     -999,9,     -999,9,     -999,9,     -999,   3.4258,2,    0.021,2,    0.000,2,    99.77,2,     -999,9
49NZ20120113  ,P10N       ,      82,  1,         21,12036      ,2,20120123,1251,  32.4950, 149.3338,     5951,   1399.8,   2.8936,  34.4299,2,  34.4291,2,     37.6,2,     37.3,2,   139.81,2,    42.88,2,     0.01,2,     3.08,2,    0.100,2,    0.048,2,    0.002,2,    0.027,2,     -999,9,     -999,9,     -999,9,     -999,   2.8954,2,    0.021,2,    0.000,2,    99.78,2,     -999,9
49NZ20120113  ,P10N       ,      82,  1,         20,12035      ,2,20120123,1251,  32.4950, 149.3338,     5951,   1601.7,   2.5169,  34.4913,2,  34.4912,2,     42.4,2,     42.3,2,   150.33,2,    42.86,2,     0.01,2,     3.08,2,    0.047,2,    0.023,2,    0.002,2,    0.042,2,     -999,9,     -999,9,     -999,9,     -999,   2.5173,2,    0.020,2,    0.000,2,    99.78,2,     -999,9
49NZ20120113  ,P10N       ,      82,  1,         19,12034      ,2,20120123,1251,  32.4950, 149.3338,     5951,   1802.4,   2.2839,  34.5370,2,  34.5369,2,     51.6,2,     51.7,2,   154.96,2,    42.56,2,     0.01,2,     3.04,2,    0.015,2,    0.008,2,    0.000,2,    0.000,2,     -999,9,     -999,9,     -999,9,     -999,   2.2840,2,    0.019,2,    0.000,2,    99.80,2,     -999,9
49NZ20120113  ,P10N       ,      82,  1,         18,12033      ,2,20120123,1251,  32.4950, 149.3338,     5951,   2001.1,   2.0748,  34.5743,2,  34.5741,2,     66.8,2,     66.9,2,   157.06,2,    41.70,2,     0.01,2,     2.96,2,    0.006,2,    0.003,2,    0.001,2,    0.000,2,     -999,9,     -999,9,     -999,9,     -999,   2.0748,2,    0.018,2,    0.000,2,    99.81,2,     -999,9
49NZ20120113  ,P10N       ,      82,  1,         17,12032      ,2,20120123,1251,  32.4950, 149.3338,     5951,   2200.6,   1.9378,  34.5999,2,  34.6004,2,     80.0,2,     80.2,2,   157.61,2,    40.88,2,     0.01,2,     2.89,2,    0.000,2,    0.000,2,    0.000,2,     -999,9,     -999,9,     -999,9,     -999,9,     -999,   1.9377,2,    0.016,2,    0.000,2,    99.83,2,     -999,9
49NZ20120113  ,P10N       ,      82,  1,         16,12046      ,2,20120123,1251,  32.4950, 149.3338,     5951,   2402.7,   1.8172,  34.6204,2,  34.6206,2,     93.1,2,     93.4,2,   156.60,2,    39.99,2,     0.01,2,     2.84,2,    0.000,2,    0.000,2,    0.000,2,    0.000,2,     -999,9,     -999,9,     -999,9,     -999,   1.8170,2,    0.015,2,    0.000,2,    99.86,2,     -999,9
49NZ20120113  ,P10N       ,      82,  1,         15,12030      ,2,20120123,1251,  32.4950, 149.3338,     5951,   2600.8,   1.7308,  34.6354,2,  34.6357,2,    104.6,2,    104.7,2,   155.25,2,    39.16,2,     0.01,2,     2.79,2,    0.000,2,    0.000,2,    0.000,2,     -999,9,     -999,9,     -999,9,     -999,9,     -999,   1.7308,2,    0.015,2,    0.000,2,    99.86,2,     -999,9
49NZ20120113  ,P10N       ,      82,  1,         14,12029      ,2,20120123,1251,  32.4950, 149.3338,     5951,   2800.7,   1.6595,  34.6478,2,  34.6480,2,    115.5,2,    115.6,2,   152.87,2,    38.63,2,     0.01,2,     2.74,2,    0.000,2,    0.000,2,    0.000,2,     -999,9,     -999,9,     -999,9,     -999,9,     -999,   1.6596,2,    0.013,2,    0.000,2,    99.88,2,     -999,9
49NZ20120113  ,P10N       ,      82,  1,         13,12028      ,2,20120123,1251,  32.4950, 149.3338,     5951,   2999.4,   1.6197,  34.6547,2,  34.6554,2,    121.3,2,    121.4,2,   152.71,2,    38.25,2,     0.01,2,     2.69,2,    0.007,2,    0.002,2,    0.000,2,    0.000,2,     -999,9,     -999,9,     -999,9,     -999,   1.6195,2,    0.013,2,    0.000,2,    99.88,2,     -999,9
49NZ20120113  ,P10N       ,      82,  1,         12,12027      ,2,20120123,1251,  32.4950, 149.3338,     5951,   3250.1,   1.5639,  34.6642,2,  34.6642,2,    130.1,2,    130.0,2,   150.49,2,    37.69,2,     0.01,2,     2.65,2,    0.000,2,    0.000,2,    0.000,2,    0.000,2,     -999,9,     -999,9,     -999,9,     -999,   1.5638,2,    0.012,2,    0.000,2,    99.88,2,     -999,9
49NZ20120113  ,P10N       ,      82,  1,         11,12011      ,2,20120123,1251,  32.4950, 149.3338,     5951,   3502.2,   1.5422,  34.6693,2,  34.6695,2,    135.3,2,    135.0,2,   149.52,2,    37.33,2,     0.01,2,     2.62,2,    0.000,2,    0.000,2,    0.000,2,     -999,9,     -999,9,     -999,9,     -999,9,     -999,   1.5422,2,    0.011,2,    0.000,2,    99.88,2,     -999,9
49NZ20120113  ,P10N       ,      82,  1,         10,12026      ,2,20120123,1251,  32.4950, 149.3338,     5951,   3749.4,   1.5156,  34.6748,2,  34.6748,2,    141.2,2,    141.2,2,   148.34,2,    36.92,2,     0.01,2,     2.59,2,    0.000,2,    0.000,2,    0.000,2,    0.000,2,     -999,9,     -999,9,     -999,9,     -999,   1.5156,2,    0.011,2,    0.000,2,    99.88,2,     -999,9
49NZ20120113  ,P10N       ,      82,  1,          9,12025      ,2,20120123,1251,  32.4950, 149.3338,     5951,   4001.5,   1.5025,  34.6790,2,  34.6791,2,    146.1,2,    146.0,2,   147.44,2,    36.55,2,     0.01,2,     2.57,2,    0.007,2,    0.002,2,    0.000,2,     -999,9,     -999,9,     -999,9,     -999,9,     -999,   1.5026,2,    0.011,2,    0.000,2,    99.88,2,     -999,9
49NZ20120113  ,P10N       ,      82,  1,          8,12024      ,2,20120123,1251,  32.4950, 149.3338,     5951,   4250.4,   1.4976,  34.6822,2,  34.6824,2,    150.2,2,    149.9,2,   145.99,2,    36.20,2,     0.01,2,     2.54,2,     -999,9,     -999,9,     -999,9,     -999,9,     -999,9,     -999,9,     -999,9,     -999,   1.4978,2,    0.010,2,    0.000,2,    99.87,2,     -999,9
49NZ20120113  ,P10N       ,      82,  1,          7,12023      ,2,20120123,1251,  32.4950, 149.3338,     5951,   4501.9,   1.4968,  34.6851,2,  34.6852,2,    154.3,2,    154.2,2,   144.08,2,    35.93,2,     0.01,2,     2.54,2,    0.001,2,    0.000,2,    0.000,2,    0.000,2,     -999,9,     -999,9,     -999,9,     -999,   1.4968,2,    0.010,2,    0.000,2,    99.88,2,     -999,9
49NZ20120113  ,P10N       ,      82,  1,          6,12006      ,2,20120123,1251,  32.4950, 149.3338,     5951,   4751.1,   1.5041,  34.6872,2,  34.6873,2,    157.4,2,    156.8,2,   143.28,2,    35.77,2,     0.01,2,     2.51,2,    0.000,2,    0.000,2,    0.000,2,    0.000,2,     -999,9,     -999,9,     -999,9,     -999,   1.5040,2,    0.010,2,    0.000,2,    99.89,2,     -999,9
49NZ20120113  ,P10N       ,      82,  1,          5,12102      ,2,20120123,1251,  32.4950, 149.3338,     5951,   5000.8,   1.5183,  34.6887,2,  34.6889,2,    159.7,2,    159.1,2,   142.30,2,    35.65,2,     0.01,2,     2.48,2,    0.000,2,    0.001,2,    0.000,2,     -999,9,     -999,9,     -999,9,     -999,9,     -999,   1.5182,2,    0.010,2,    0.000,2,    99.86,2,     -999,9
49NZ20120113  ,P10N       ,      82,  1,          4,12104      ,2,20120123,1251,  32.4950, 149.3338,     5951,   5249.3,   1.5336,  34.6902,2,  34.6915,2,    162.2,2,    161.5,2,   140.29,2,    35.59,2,     0.01,2,     2.47,2,    0.000,2,    0.001,2,    0.000,2,    0.000,2,     -999,9,     -999,9,     -999,9,     -999,   1.5334,2,    0.009,2,    0.000,2,    99.86,2,     -999,9
49NZ20120113  ,P10N       ,      82,  1,          3,12003      ,2,20120123,1251,  32.4950, 149.3338,     5951,   5498.6,   1.5553,  34.6914,2,  34.6916,2,    164.0,2,    163.5,2,   139.33,2,    35.37,2,     0.01,2,     2.47,2,    0.004,2,    0.001,2,    0.000,2,     -999,9,     -999,9,     -999,9,     -999,9,     -999,   1.5553,2,    0.009,2,    0.000,2,    99.83,2,     -999,9
49NZ20120113  ,P10N       ,      82,  1,          2,12103      ,2,20120123,1251,  32.4950, 149.3338,     5951,   5748.9,   1.5791,  34.6923,2,  34.6923,2,    165.6,2,    165.4,2,   137.53,2,    35.16,2,     0.01,2,     2.45,2,    0.002,2,    0.002,2,    0.000,2,    0.000,2,     -999,9,     -999,9,     -999,9,     -999,   1.5791,2,    0.009,2,    0.000,2,    99.78,2,     -999,9
49NZ20120113  ,P10N       ,      82,  1,          1,12001      ,2,20120123,1251,  32.4950, 149.3338,     5951,   6058.0,   1.6100,  34.6932,2,  34.6938,2,    167.8,2,    167.7,2,   135.46,2,    35.03,2,     0.01,2,     2.45,2,    0.001,2,    0.002,2,    0.000,2,    0.000,2,     -999,9,     -999,9,     -999,9,     -999,   1.6099,2,    0.009,2,    0.000,2,    99.75,2,     -999,9