BOTTLE,20231026CCHSIOVAJ
EXPOCODE,SECT_ID,STNNBR,CASTNO,SAMPNO,BTLNBR,BTLNBR_FLAG_W,DATE,TIME,LATITUDE,LONGITUDE,DEPTH,CTDPRS,CTDTMP,CTDSAL,CTDSAL_FLAG_W,SALNTY,SALNTY_FLAG_W,CTDOXY,CTDOXY_FLAG_W,OXYGEN,OXYGEN_FLAG_W,SILCAT,SILCAT_FLAG_W,NITRAT,NITRAT_FLAG_W,NITRIT,NITRIT_FLAG_W,PHSPHT,PHSPHT_FLAG_W,CFC-11,CFC-11_FLAG_W,CFC-12,CFC-12_FLAG_W,CFC113,CFC113_FLAG_W,SF6,SF6_FLAG_W,TCARBN,TCARBN_FLAG_W,ALKALI,ALKALI_FLAG_W,PH_TOT,PH_TOT_FLAG_W,PH_TMP,REFTMP,REFTMP_FLAG_W,CTDFLUOR,CTDFLUOR_FLAG_W,PAR,PAR_FLAG_W,CTDXMISS,CTDXMISS_FLAG_W,CHLORA,CHLORA_FLAG_W
,,,,,,,,,,,METERS,DBAR,ITS-90,PSS-78,,PSS-78,,UMOL/KG,,UMOL/KG,,UMOL/KG,,UMOL/KG,,UMOL/KG,,UMOL/KG,,PMOL/KG,,PMOL/KG,,PMOL/KG,,FMOL/KG,,UMOL/KG,,UMOL/KG,,,,DEG C,ITS-90,,MG/M^3,,VOLTS,,%TRANS,,UG/KG,
49NZ20120113  ,P10N       ,      81,  2,          0,BUC        ,2,20120123,0726,  32.1653, 149.3295,     5547,      0.0,     -999,     -999,9,  34.7184,2,     -999,9,     -999,9,     -999,9,     -999,9,     -999,9,     -999,9,     -999,9,     -999,9,     -999,9,     -999,9,     -999,9,     -999,9,     -999,9,     -999,     -999,9,     -999,9,     -999,9,     -999,9,     -999,9
49NZ20120113  ,P10N       ,      81,  2,         36,12021      ,2,20120123,0726,  32.1653, 149.3295,     5547,      9.1,  18.5263,  34.7083,2,  34.7074,2,    224.7,2,    224.1,2,     2.34,2,     1.68,2,     0.21,2,     0.17,2,    2.084,2,    1.307,2,    0.172,2,     -999,9,   1999.0,2,   2281.7,2,   8.0171,6,    25.00,  18.5270,2,    0.384,2,    0.112,2,    98.26,2,     -999,9
49NZ20120113  ,P10N       ,      81,  2,         35,12001      ,2,20120123,0726,  32.1653, 149.3295,     5547,     50.6,  18.5142,  34.7085,2,  34.7076,2,    224.5,2,    224.0,2,     2.30,2,     1.69,2,     0.21,2,     0.19,2,    2.096,2,    1.317,2,    0.167,2,     -999,9,   1998.4,6,   2282.0,2,   8.0164,2,    25.00,  18.5144,2,    0.379,2,    0.000,2,    98.22,2,     -999,9
49NZ20120113  ,P10N       ,      81,  2,         34,12019      ,2,20120123,0726,  32.1653, 149.3295,     5547,    100.0,  18.4831,  34.7128,2,  34.7113,2,    222.9,2,    222.4,2,     2.34,2,     1.81,2,     0.19,2,     0.19,2,    2.091,6,    1.313,6,    0.161,6,     -999,9,   2001.3,2,   2282.2,6,   8.0132,2,    25.00,  18.4836,2,    0.350,2,    0.000,2,    98.60,2,     -999,9
49NZ20120113  ,P10N       ,      81,  2,         33,12018      ,2,20120123,0726,  32.1653, 149.3295,     5547,    149.9,  18.4773,  34.7144,2,  34.7133,2,    221.6,2,    221.7,2,     2.40,2,     1.89,2,     0.18,2,     0.19,2,    2.108,2,    1.317,2,    0.161,2,     -999,9,   2000.5,2,   2282.7,2,   8.0125,6,    25.00,  18.4777,2,    0.279,2,    0.000,2,    98.69,2,     -999,9
49NZ20120113  ,P10N       ,      81,  2,         32,12017      ,2,20120123,0726,  32.1653, 149.3295,     5547,    199.1,  18.2910,  34.7340,2,  34.7333,2,    205.7,2,    205.4,2,     3.11,2,     3.59,2,     0.04,2,     0.28,2,    2.178,2,    1.359,2,    0.101,2,     -999,9,   2019.5,2,   2283.2,2,   7.9823,2,    25.00,  18.2917,2,    0.017,2,    0.000,2,    99.44,2,     -999,9
49NZ20120113  ,P10N       ,      81,  2,         31,12016      ,2,20120123,0726,  32.1653, 149.3295,     5547,    250.2,  17.7879,  34.7287,2,  34.7282,2,    205.4,2,    205.1,2,     3.49,2,     4.23,2,     0.03,2,     0.33,2,    2.250,2,    1.398,2,    0.082,2,     -999,9,   2026.7,2,   2281.2,2,   7.9679,2,    25.00,  17.7886,2,    0.005,2,    0.000,2,    99.56,2,     -999,9
49NZ20120113  ,P10N       ,      81,  2,         30,12015      ,2,20120123,0726,  32.1653, 149.3295,     5547,    279.4,  17.4635,  34.7147,2,  34.7143,2,    205.3,2,    204.8,2,     4.01,2,     4.71,2,     0.02,2,     0.36,2,    2.283,2,    1.407,2,    0.074,2,     -999,9,   2031.4,2,   2282.6,2,   7.9601,2,    25.00,  17.4650,2,    0.004,2,    0.000,2,    99.60,2,     -999,9
49NZ20120113  ,P10N       ,      81,  2,         29,12014      ,2,20120123,0726,  32.1653, 149.3295,     5547,    371.6,  16.9409,  34.6965,2,  34.6967,2,    206.6,2,    206.6,2,     4.83,2,     5.42,2,     0.02,2,     0.41,2,    2.318,2,    1.419,2,    0.078,2,     -999,9,   2033.8,2,   2281.8,2,   7.9489,2,    25.00,  16.9418,2,    0.004,2,    0.000,2,    99.67,2,     -999,9
49NZ20120113  ,P10N       ,      81,  2,         28,12101      ,2,20120123,0726,  32.1653, 149.3295,     5547,    471.0,  14.7689,  34.5521,2,  34.5533,2,    177.0,2,    176.8,2,    13.53,2,    11.54,2,     0.02,2,     0.84,2,    2.442,2,    1.424,2,    0.036,2,     -999,9,   2083.8,2,   2281.3,2,   7.8544,2,    25.00,  14.7643,2,    0.006,2,    0.000,2,    99.58,2,     -999,9
49NZ20120113  ,P10N       ,      81,  2,         27,12012      ,2,20120123,0726,  32.1653, 149.3295,     5547,    570.2,  11.6244,  34.3736,2,  34.3748,2,    162.2,2,    161.9,2,    26.85,2,    17.97,2,     0.02,2,     1.30,2,    2.376,6,    1.334,6,    0.054,6,     -999,9,   2132.3,2,   2284.5,2,   7.7509,2,    25.00,  11.6253,2,    0.008,2,    0.000,2,    99.66,2,     -999,9
49NZ20120113  ,P10N       ,      81,  2,         26,12010      ,3,20120123,0726,  32.1653, 149.3295,     5547,    669.4,   8.2570,  34.1450,2,  34.1484,2,    153.8,2,    153.2,2,    44.04,2,    24.45,2,     0.02,2,     1.80,2,    2.392,2,    1.305,2,    0.097,2,     -999,9,   2182.2,6,   2289.4,2,   7.6425,2,    25.00,   8.2610,2,    0.011,2,    0.000,2,    99.70,2,     -999,9
49NZ20120113  ,P10N       ,      81,  2,         25,12009      ,2,20120123,0726,  32.1653, 149.3295,     5547,    769.2,   6.0055,  34.0274,2,  34.0283,2,    130.6,2,    130.0,2,    61.74,2,    30.79,2,     0.01,2,     2.27,2,    2.215,2,    1.180,2,    0.102,2,     -999,9,   2227.3,2,   2296.7,6,   7.5310,2,    25.00,   6.0049,2,    0.014,2,    0.000,2,    99.78,2,     -999,9
49NZ20120113  ,P10N       ,      81,  2,         24,12008      ,2,20120123,0726,  32.1653, 149.3295,     5547,    870.7,   4.8386,  34.0807,2,  34.0807,2,     91.8,2,     91.6,2,    83.29,2,    36.07,2,     0.01,2,     2.64,2,    1.643,2,    0.858,2,    0.080,2,     -999,9,   2277.4,2,   2314.7,2,   7.4402,6,    25.00,   4.8392,2,    0.017,2,    0.000,2,    99.73,2,     -999,9
49NZ20120113  ,P10N       ,      81,  2,         23,12007      ,2,20120123,0726,  32.1653, 149.3295,     5547,    971.3,   4.4072,  34.1586,2,  34.1582,2,     68.3,2,     68.3,2,    96.26,2,    38.57,2,     0.01,2,     2.80,2,    1.136,2,    0.582,2,    0.061,2,     -999,9,   2303.5,2,   2329.3,2,   7.4020,2,    25.00,   4.4082,2,    0.020,2,    0.000,2,    99.73,2,     -999,9
49NZ20120113  ,P10N       ,      81,  2,         22,12022      ,2,20120123,0726,  32.1653, 149.3295,     5547,   1129.7,   3.7208,  34.2936,2,  34.2943,2,     47.6,2,     47.6,2,   117.06,2,    41.08,2,     0.01,2,     2.98,2,    0.484,2,    0.247,2,    0.024,2,     -999,9,   2342.8,2,   2355.4,2,   7.3805,2,    25.00,   3.7206,2,    0.021,2,    0.000,2,    99.74,2,     -999,9
49NZ20120113  ,P10N       ,      81,  2,         21,12036      ,2,20120123,0726,  32.1653, 149.3295,     5547,   1329.9,   3.1272,  34.3934,2,  34.3933,2,     37.1,2,     36.8,2,   133.60,2,    42.70,2,     0.01,2,     3.09,2,    0.142,2,    0.073,2,    0.011,2,     -999,9,   2364.4,2,   2377.0,2,   7.3650,2,    25.00,   3.1270,2,    0.021,2,    0.000,2,    99.76,2,     -999,9
49NZ20120113  ,P10N       ,      81,  2,         20,12035      ,2,20120123,0726,  32.1653, 149.3295,     5547,   1530.4,   2.6506,  34.4705,2,  34.4695,2,     39.4,2,     39.1,2,   146.57,2,    42.99,2,     0.01,2,     3.10,2,    0.056,2,    0.031,2,    0.006,2,     -999,9,   2377.6,2,   2393.1,2,   7.3734,6,    25.00,   2.6512,2,    0.021,2,    0.000,2,    99.77,2,     -999,9
49NZ20120113  ,P10N       ,      81,  2,         19,12034      ,2,20120123,0726,  32.1653, 149.3295,     5547,   1729.4,   2.3237,  34.5271,2,  34.5274,2,     48.5,2,     48.5,2,   154.35,2,    42.67,2,     0.01,2,     3.06,2,    0.021,2,    0.008,2,    0.000,2,     -999,9,   2377.8,2,   2404.2,2,   7.3923,2,    25.00,   2.3238,2,    0.020,2,    0.000,2,    99.78,2,     -999,9
49NZ20120113  ,P10N       ,      81,  2,         18,12033      ,2,20120123,0726,  32.1653, 149.3295,     5547,   1930.0,   2.1690,  34.5593,2,  34.5593,2,     58.0,2,     58.0,2,   156.54,2,    42.20,2,     0.01,2,     3.02,2,    0.004,2,    0.001,2,    0.000,2,     -999,9,   2377.5,2,   2409.1,2,   7.4141,2,    25.00,   2.1690,2,    0.018,2,    0.000,2,    99.82,2,     -999,9
49NZ20120113  ,P10N       ,      81,  2,         17,12032      ,2,20120123,0726,  32.1653, 149.3295,     5547,   2132.8,   1.9576,  34.5952,2,  34.5954,2,     75.8,2,     75.8,2,   158.01,2,    41.11,2,     0.01,2,     2.94,2,    0.000,2,    0.000,2,    0.000,2,     -999,9,   2368.9,2,   2415.7,2,   7.4480,2,    25.00,   1.9576,2,    0.017,2,    0.000,2,    99.82,2,     -999,9
49NZ20120113  ,P10N       ,      81,  2,         16,12046      ,2,20120123,0726,  32.1653, 149.3295,     5547,   2332.5,   1.8253,  34.6182,2,  34.6178,2,     90.8,2,     90.4,2,   157.07,2,    40.11,2,     0.01,2,     2.85,2,    0.000,2,    0.000,2,    0.000,2,     -999,9,   2362.2,6,   2418.1,2,   7.4762,2,    25.00,   1.8258,2,    0.016,2,    0.000,2,    99.84,2,     -999,9
49NZ20120113  ,P10N       ,      81,  2,         15,12030      ,2,20120123,0726,  32.1653, 149.3295,     5547,   2530.7,   1.7344,  34.6340,2,  34.6344,2,    103.6,2,    103.6,2,   155.43,2,    39.35,2,     0.01,2,     2.80,2,    0.000,2,    0.000,2,    0.000,2,     -999,9,   2354.8,2,   2419.6,6,   7.5014,2,    25.00,   1.7345,2,    0.014,2,    0.000,2,    99.84,2,     -999,9
49NZ20120113  ,P10N       ,      81,  2,         14,12029      ,2,20120123,0726,  32.1653, 149.3295,     5547,   2730.4,   1.6610,  34.6456,2,  34.6462,2,    112.8,2,    112.8,2,   154.23,2,    38.73,2,     0.01,2,     2.75,2,    0.000,2,    0.000,2,    0.000,2,     -999,9,   2349.1,2,   2419.6,2,   7.5171,2,    25.00,   1.6610,2,    0.014,2,    0.000,2,    99.84,2,     -999,9
49NZ20120113  ,P10N       ,      81,  2,         13,12028      ,2,20120123,0726,  32.1653, 149.3295,     5547,   2929.3,   1.5964,  34.6571,2,  34.6572,2,    123.8,2,    123.8,2,   151.59,2,    38.04,2,     0.01,2,     2.71,2,     -999,9,     -999,9,     -999,9,     -999,9,   2343.9,2,   2420.8,2,   7.5382,2,    25.00,   1.5964,2,    0.013,2,    0.000,2,    99.87,2,     -999,9
49NZ20120113  ,P10N       ,      81,  2,         12,12027      ,2,20120123,0726,  32.1653, 149.3295,     5547,   3170.5,   1.5460,  34.6659,2,  34.6660,2,    132.9,2,    132.9,2,   149.18,2,    37.43,2,     0.01,2,     2.65,2,    0.000,2,    0.000,2,    0.000,2,     -999,9,   2336.3,2,   2419.9,2,   7.5550,2,    25.00,   1.5460,2,    0.011,2,    0.000,2,    99.89,2,     -999,9
49NZ20120113  ,P10N       ,      81,  2,         11,12011      ,2,20120123,0726,  32.1653, 149.3295,     5547,   3420.6,   1.5029,  34.6731,2,  34.6737,2,    140.5,2,    140.4,2,   147.41,2,    36.90,2,     0.02,2,     2.61,2,     -999,9,     -999,9,     -999,9,     -999,9,   2329.5,2,   2420.7,2,   7.5655,2,    25.00,   1.5029,2,    0.010,2,    0.000,2,    99.89,2,     -999,9
49NZ20120113  ,P10N       ,      81,  2,         10,12026      ,2,20120123,0726,  32.1653, 149.3295,     5547,   3670.1,   1.4835,  34.6774,2,  34.6774,2,    144.9,2,    144.7,2,   147.04,2,    36.70,2,     0.01,2,     2.59,2,    0.000,2,    0.000,2,    0.000,2,     -999,9,   2325.1,2,   2420.9,2,   7.5731,2,    25.00,   1.4834,2,    0.010,2,    0.000,2,    99.88,2,     -999,9
49NZ20120113  ,P10N       ,      81,  2,          9,12025      ,2,20120123,0726,  32.1653, 149.3295,     5547,   3920.0,   1.4593,  34.6820,2,  34.6824,2,    150.0,2,    149.8,2,   146.48,2,    36.30,2,     0.01,2,     2.56,2,     -999,9,     -999,9,     -999,9,     -999,9,   2323.3,2,   2420.0,2,   7.5810,2,    25.00,   1.4593,2,    0.010,2,    0.000,2,    99.85,2,     -999,9
49NZ20120113  ,P10N       ,      81,  2,          8,12024      ,2,20120123,0726,  32.1653, 149.3295,     5547,   4171.1,   1.4477,  34.6858,2,  34.6860,2,    155.1,2,    154.9,2,   144.74,2,    36.02,2,     0.01,2,     2.54,2,    0.000,2,    0.000,2,    0.000,2,     -999,9,   2321.1,6,   2418.1,2,   7.5893,2,    25.00,   1.4476,2,    0.010,2,    0.000,2,    99.85,2,     -999,9
49NZ20120113  ,P10N       ,      81,  2,          7,12023      ,2,20120123,0726,  32.1653, 149.3295,     5547,   4420.5,   1.4470,  34.6886,2,  34.6889,2,    159.5,2,    159.2,2,   142.22,2,    35.72,2,     0.01,2,     2.50,2,     -999,9,     -999,9,     -999,9,     -999,9,   2315.0,3,   2416.2,6,   7.5954,2,    25.00,   1.4468,2,    0.010,2,    0.000,2,    99.87,2,     -999,9
49NZ20120113  ,P10N       ,      81,  2,          6,12006      ,2,20120123,0726,  32.1653, 149.3295,     5547,   4671.3,   1.4709,  34.6893,2,  34.6896,2,    160.6,2,    160.3,2,   141.56,2,    35.65,2,     0.01,2,     2.50,2,    0.000,2,    0.000,2,    0.000,2,     -999,9,   2314.3,2,   2416.3,2,   7.5965,6,    25.00,   1.4708,2,    0.009,2,    0.000,2,    99.88,2,     -999,9
49NZ20120113  ,P10N       ,      81,  2,          5,12102      ,2,20120123,0726,  32.1653, 149.3295,     5547,   4919.6,   1.4799,  34.6913,2,  34.6915,2,    164.1,2,    163.8,2,   138.82,2,    35.27,2,     0.02,2,     2.47,2,     -999,9,     -999,9,     -999,9,     -999,9,   2313.3,2,   2413.7,2,   7.6004,2,    25.00,   1.4799,2,    0.009,2,    0.000,2,    99.83,2,     -999,9
49NZ20120113  ,P10N       ,      81,  2,          4,12104      ,2,20120123,0726,  32.1653, 149.3295,     5547,   5170.6,   1.5043,  34.6919,2,  34.6924,2,    165.1,2,    164.9,2,   138.30,2,    35.24,2,     0.01,2,     2.47,2,    0.000,4,    0.000,4,    0.000,4,     -999,9,   2311.7,2,   2413.6,2,   7.6018,2,    25.00,   1.5043,2,    0.009,2,    0.000,2,    99.77,2,     -999,9
49NZ20120113  ,P10N       ,      81,  2,          3,12003      ,2,20120123,0726,  32.1653, 149.3295,     5547,   5420.1,   1.5327,  34.6923,2,  34.6927,2,    165.9,2,    165.8,2,   137.38,2,    35.15,2,     0.01,2,     2.47,2,     -999,9,     -999,9,     -999,9,     -999,9,   2310.5,2,   2412.5,2,   7.6028,2,    25.00,   1.5326,2,    0.010,2,    0.000,2,    99.77,2,     -999,9
49NZ20120113  ,P10N       ,      81,  2,          1,12001      ,2,20120123,0726,  32.1653, 149.3295,     5547,   5607.9,   1.5541,  34.6924,2,  34.6932,2,    166.8,2,    166.8,2,   136.68,2,    35.13,2,     0.01,2,     2.47,2,    0.000,2,    0.000,2,    0.000,2,     -999,9,   2307.0,3,   2412.2,2,   7.6042,2,    25.00,   1.5539,2,    0.009,2,    0.000,2,    99.78,2,     -999,9