BOTTLE,20231026CCHSIOVAJ
EXPOCODE,SECT_ID,STNNBR,CASTNO,SAMPNO,BTLNBR,BTLNBR_FLAG_W,DATE,TIME,LATITUDE,LONGITUDE,DEPTH,CTDPRS,CTDTMP,CTDSAL,CTDSAL_FLAG_W,SALNTY,SALNTY_FLAG_W,CTDOXY,CTDOXY_FLAG_W,OXYGEN,OXYGEN_FLAG_W,SILCAT,SILCAT_FLAG_W,NITRAT,NITRAT_FLAG_W,NITRIT,NITRIT_FLAG_W,PHSPHT,PHSPHT_FLAG_W,CFC-11,CFC-11_FLAG_W,CFC-12,CFC-12_FLAG_W,CFC113,CFC113_FLAG_W,SF6,SF6_FLAG_W,TCARBN,TCARBN_FLAG_W,ALKALI,ALKALI_FLAG_W,PH_TOT,PH_TOT_FLAG_W,PH_TMP,REFTMP,REFTMP_FLAG_W,CTDFLUOR,CTDFLUOR_FLAG_W,PAR,PAR_FLAG_W,CTDXMISS,CTDXMISS_FLAG_W,CHLORA,CHLORA_FLAG_W
,,,,,,,,,,,METERS,DBAR,ITS-90,PSS-78,,PSS-78,,UMOL/KG,,UMOL/KG,,UMOL/KG,,UMOL/KG,,UMOL/KG,,UMOL/KG,,PMOL/KG,,PMOL/KG,,PMOL/KG,,FMOL/KG,,UMOL/KG,,UMOL/KG,,,,DEG C,ITS-90,,MG/M^3,,VOLTS,,%TRANS,,UG/KG,
49NZ20120113  ,P10N       ,     106,  2,          0,BUC        ,2,20120204,1039,  40.0837, 145.3702,     5374,      0.0,     -999,     -999,9,  33.3364,2,     -999,9,     -999,9,     -999,9,     -999,9,     -999,9,     -999,9,     -999,9,     -999,9,     -999,9,     -999,9,     -999,9,     -999,9,     -999,9,     -999,     -999,9,     -999,9,     -999,9,     -999,9,     -999,9
49NZ20120113  ,P10N       ,     106,  2,         36,12021      ,2,20120204,1039,  40.0837, 145.3702,     5374,      9.6,   3.4684,  33.3140,2,  33.3155,2,    310.8,2,    311.4,2,    30.89,2,    17.36,2,     0.25,2,     1.42,2,    4.822,2,    2.683,2,    0.448,2,    2.394,2,   2120.1,2,   2253.2,2,   7.7152,6,    25.00,   3.4677,2,    0.423,2,    0.082,2,    97.96,2,     0.44,2
49NZ20120113  ,P10N       ,     106,  2,         35,12001      ,2,20120204,1039,  40.0837, 145.3702,     5374,     49.8,   3.4465,  33.3154,2,  33.3164,2,    309.6,2,    310.4,2,    30.87,2,    17.34,2,     0.24,2,     1.44,2,    4.795,2,    2.667,2,    0.444,2,     -999,9,   2119.8,6,   2253.3,2,   7.7139,2,    25.00,   3.4464,2,    0.505,2,    0.000,2,    98.13,2,     -999,9
49NZ20120113  ,P10N       ,     106,  2,         34,12019      ,2,20120204,1039,  40.0837, 145.3702,     5374,     99.7,   3.4789,  33.3236,2,  33.3264,2,    305.4,2,    304.9,2,    32.00,2,    17.97,2,     0.23,2,     1.48,2,    4.766,6,    2.648,6,    0.442,6,     -999,9,   2123.4,2,   2254.6,6,   7.7057,2,    25.00,   3.4785,2,    0.394,2,    0.000,2,    98.37,2,     -999,9
49NZ20120113  ,P10N       ,     106,  2,         33,12018      ,2,20120204,1039,  40.0837, 145.3702,     5374,    150.9,   2.9736,  33.5278,2,  33.5263,2,    195.7,2,    196.3,2,    62.11,2,    31.41,2,     0.02,2,     2.37,2,    4.076,2,    2.186,2,    0.326,2,    1.949,2,   2216.8,2,   2274.4,2,   7.4852,6,    25.00,   2.9734,2,    0.017,2,    0.000,2,    99.41,2,     -999,9
49NZ20120113  ,P10N       ,     106,  2,         32,12017      ,2,20120204,1039,  40.0837, 145.3702,     5374,    201.6,   2.9622,  33.6181,2,  33.6174,2,    162.9,2,    163.3,2,    71.13,2,    34.04,2,     0.02,2,     2.54,2,    3.672,2,    1.948,2,    0.323,2,     -999,9,   2243.8,2,   2281.6,2,   7.4320,2,    25.00,   2.9623,2,    0.018,2,    0.000,2,    99.49,2,     -999,9
49NZ20120113  ,P10N       ,     106,  2,         30,12015      ,2,20120204,1039,  40.0837, 145.3702,     5374,    331.4,   3.0412,  33.8314,2,  33.8302,2,     76.6,2,     76.8,2,    94.95,2,    41.19,2,     0.02,2,     2.98,2,    2.484,2,    1.296,2,    0.217,2,     -999,9,   2309.7,2,   2304.0,2,   7.2963,2,    25.00,   3.0396,2,    0.022,2,    0.000,2,    99.64,2,     -999,9
49NZ20120113  ,P10N       ,     106,  2,         29,12014      ,2,20120204,1039,  40.0837, 145.3702,     5374,    431.6,   3.2530,  34.0199,2,  34.0198,2,     44.8,2,     44.7,2,   109.30,2,    42.57,2,     0.02,2,     3.07,2,    1.542,2,    0.808,2,    0.128,2,    0.494,2,   2334.5,2,   2325.5,2,   7.2841,2,    25.00,   3.2505,2,    0.023,2,    0.000,2,    99.63,2,     -999,9
49NZ20120113  ,P10N       ,     106,  2,         28,12024      ,2,20120204,1039,  40.0837, 145.3702,     5374,    529.9,   3.3391,  34.1463,2,  34.1450,2,     36.7,2,     36.4,2,   117.92,2,    42.77,2,     0.02,2,     3.07,2,    1.006,2,    0.525,2,    0.088,2,     -999,9,   2343.7,2,   2340.9,2,   7.2985,2,    25.00,   3.3395,2,    0.022,2,    0.000,2,    99.64,2,     -999,9
49NZ20120113  ,P10N       ,     106,  2,         27,12012      ,2,20120204,1039,  40.0837, 145.3702,     5374,    630.0,   3.2625,  34.2293,2,  34.2290,2,     34.5,2,     34.1,2,   125.07,2,    42.61,2,     0.02,2,     3.08,2,    0.707,6,    0.372,6,    0.061,6,    0.222,2,   2350.9,2,   2354.0,2,   7.3128,2,    25.00,   3.2625,2,    0.022,2,    0.000,2,    99.54,2,     -999,9
49NZ20120113  ,P10N       ,     106,  2,         26,12010      ,2,20120204,1039,  40.0837, 145.3702,     5374,    730.2,   3.0658,  34.3117,2,  34.3114,2,     34.8,2,     34.4,2,   133.07,2,    42.59,2,     0.02,2,     3.09,2,    0.455,2,    0.239,2,    0.024,2,     -999,9,   2362.5,6,   2366.6,2,   7.3280,2,    25.00,   3.0663,2,    0.021,2,    0.000,2,    99.64,2,     -999,9
49NZ20120113  ,P10N       ,     106,  2,         25,12009      ,2,20120204,1039,  40.0837, 145.3702,     5374,    829.6,   2.9334,  34.3662,2,  34.3668,2,     36.7,2,     36.2,2,   137.56,2,    42.53,2,     0.02,2,     3.07,2,    0.307,2,    0.162,2,    0.016,2,    0.033,2,   2364.5,2,   2376.0,6,   7.3414,2,    25.00,   2.9323,2,    0.021,2,    0.000,2,    99.65,2,     -999,9
49NZ20120113  ,P10N       ,     106,  2,         24,12008      ,2,20120204,1039,  40.0837, 145.3702,     5374,    930.6,   2.7976,  34.4136,2,  34.4133,2,     39.0,2,     38.4,2,   141.32,2,    42.60,2,     0.02,2,     3.06,2,    0.190,2,    0.103,2,    0.014,2,     -999,9,   2368.6,2,   2383.8,2,   7.3525,6,    25.00,   2.7979,2,    0.021,2,    0.000,2,    99.68,2,     -999,9
49NZ20120113  ,P10N       ,     106,  2,         23,12007      ,2,20120204,1039,  40.0837, 145.3702,     5374,   1073.0,   2.5515,  34.4542,2,  34.4536,2,     39.4,2,     39.0,2,   149.61,2,    42.53,2,     0.02,2,     3.08,2,    0.136,2,    0.075,2,    0.010,2,    0.000,2,   2374.2,2,   2392.9,2,   7.3543,2,    25.00,   2.5518,2,    0.021,2,    0.000,2,    99.20,2,     -999,9
49NZ20120113  ,P10N       ,     106,  2,         22,12022      ,2,20120204,1039,  40.0837, 145.3702,     5374,   1270.1,   2.3459,  34.5086,2,  34.5087,2,     46.5,2,     46.3,2,   153.76,2,    42.51,2,     0.02,2,     3.05,2,    0.053,2,    0.027,2,    0.014,2,     -999,9,   2377.8,2,   2402.6,2,   7.3764,2,    25.00,   2.3459,2,    0.021,2,    0.000,2,    99.55,2,     -999,9
49NZ20120113  ,P10N       ,     106,  2,         21,12036      ,2,20120204,1039,  40.0837, 145.3702,     5374,   1470.9,   2.1764,  34.5454,2,  34.5455,2,     55.0,2,     54.9,2,   156.61,2,    42.18,2,     0.02,2,     3.01,2,    0.024,2,    0.012,2,    0.000,2,    0.000,2,   2375.9,2,   2409.1,2,   7.3962,2,    25.00,   2.1765,2,    0.019,2,    0.000,2,    99.56,2,     -999,9
49NZ20120113  ,P10N       ,     106,  2,         20,12035      ,2,20120204,1039,  40.0837, 145.3702,     5374,   1669.4,   2.0371,  34.5742,2,  34.5744,2,     65.3,2,     65.4,2,   157.95,2,    41.48,2,     0.02,2,     2.95,2,    0.005,2,    0.001,2,    0.000,2,     -999,9,   2372.7,2,   2412.9,2,   7.4184,6,    25.00,   2.0372,2,    0.018,2,    0.000,2,    99.78,2,     -999,9
49NZ20120113  ,P10N       ,     106,  2,         19,12034      ,2,20120204,1039,  40.0837, 145.3702,     5374,   1871.0,   1.9027,  34.5993,2,  34.5993,2,     78.0,2,     78.0,2,   158.17,2,    40.74,2,     0.02,2,     2.90,2,    0.002,2,    0.001,2,    0.000,2,    0.105,2,   2367.8,2,   2416.6,2,   7.4446,2,    25.00,   1.9029,2,    0.017,2,    0.000,2,    99.40,2,     -999,9
49NZ20120113  ,P10N       ,     106,  2,         18,12033      ,2,20120204,1039,  40.0837, 145.3702,     5374,   2070.4,   1.7924,  34.6187,2,  34.6187,2,     90.2,2,     90.3,2,   157.59,2,    40.04,2,     0.02,2,     2.83,2,    0.000,2,    0.000,2,    0.000,2,    0.058,2,   2361.0,2,   2418.2,2,   7.4686,2,    25.00,   1.7924,2,    0.015,2,    0.000,2,    99.75,2,     -999,9
49NZ20120113  ,P10N       ,     106,  2,         17,12032      ,2,20120204,1039,  40.0837, 145.3702,     5374,   2270.6,   1.7045,  34.6339,2,  34.6342,2,    101.6,2,    101.6,2,   156.72,2,    39.51,2,     0.02,2,     2.78,2,    0.000,2,    0.000,2,    0.000,2,    0.095,2,   2354.4,2,   2419.1,2,   7.4908,2,    25.00,   1.7046,2,    0.015,2,    0.000,2,    99.80,2,     -999,9
49NZ20120113  ,P10N       ,     106,  2,         16,12046      ,2,20120204,1039,  40.0837, 145.3702,     5374,   2470.0,   1.6374,  34.6451,2,  34.6454,2,    110.5,2,    110.6,2,   155.64,2,    38.80,2,     0.02,2,     2.73,2,    0.000,2,    0.000,2,    0.000,2,    0.064,2,   2349.3,6,   2421.4,2,   7.5078,2,    25.00,   1.6375,2,    0.013,2,    0.000,2,    99.74,2,     -999,9
49NZ20120113  ,P10N       ,     106,  2,         15,12030      ,2,20120204,1039,  40.0837, 145.3702,     5374,   2669.1,   1.5867,  34.6539,2,  34.6544,2,    118.4,2,    118.4,2,   154.09,2,    38.24,2,     0.02,2,     2.70,2,    0.000,2,    0.000,2,    0.000,2,     -999,9,   2344.8,2,   2421.9,6,   7.5224,2,    25.00,   1.5866,2,    0.013,2,    0.000,2,    99.80,2,     -999,9
49NZ20120113  ,P10N       ,     106,  2,         14,12029      ,2,20120204,1039,  40.0837, 145.3702,     5374,   2871.0,   1.5481,  34.6609,2,  34.6612,2,    124.9,2,    125.1,2,   153.01,2,    37.87,2,     0.02,2,     2.66,2,    0.000,2,    0.000,2,    0.000,2,     -999,9,   2341.5,2,   2422.1,2,   7.5350,2,    25.00,   1.5480,2,    0.012,2,    0.000,2,    99.83,2,     -999,9
49NZ20120113  ,P10N       ,     106,  2,         13,12028      ,2,20120204,1039,  40.0837, 145.3702,     5374,   3079.4,   1.5138,  34.6674,2,  34.6674,2,    131.6,2,    131.7,2,   151.50,2,    37.53,2,     0.01,2,     2.61,2,    0.000,2,    0.000,2,    0.000,2,     -999,9,   2336.4,2,   2422.6,2,   7.5463,2,    25.00,   1.5139,2,    0.011,2,    0.000,2,    99.82,2,     -999,9
49NZ20120113  ,P10N       ,     106,  2,         12,12027      ,2,20120204,1039,  40.0837, 145.3702,     5374,   3330.1,   1.4782,  34.6740,2,  34.6738,2,    139.0,2,    138.8,2,   150.02,2,    37.04,2,     0.02,2,     2.59,2,    0.000,2,    0.000,2,    0.000,2,     -999,9,   2331.3,2,   2421.6,2,   7.5601,2,    25.00,   1.4781,2,    0.011,2,    0.000,2,    99.83,2,     -999,9
49NZ20120113  ,P10N       ,     106,  2,         11,12011      ,2,20120204,1039,  40.0837, 145.3702,     5374,   3579.2,   1.4625,  34.6783,2,  34.6783,2,    144.0,2,    144.0,2,   148.28,2,    36.50,2,     0.02,2,     2.56,2,    0.000,2,    0.000,2,    0.000,2,     -999,9,   2327.8,2,   2421.8,2,   7.5675,2,    25.00,   1.4625,2,    0.011,2,    0.000,2,    99.84,2,     -999,9
49NZ20120113  ,P10N       ,     106,  2,         10,12026      ,2,20120204,1039,  40.0837, 145.3702,     5374,   3829.7,   1.4527,  34.6819,2,  34.6816,2,    148.7,2,    148.4,2,   147.28,2,    36.25,2,     0.02,2,     2.54,2,    0.000,2,    0.000,2,    0.000,2,     -999,9,   2325.3,2,   2421.5,2,   7.5748,2,    25.00,   1.4526,2,    0.010,2,    0.000,2,    99.84,2,     -999,9
49NZ20120113  ,P10N       ,     106,  2,          9,12025      ,2,20120204,1039,  40.0837, 145.3702,     5374,   4079.8,   1.4505,  34.6849,2,  34.6849,2,    152.5,2,    152.3,2,   146.07,2,    36.05,2,     0.02,2,     2.52,2,    0.000,2,    0.001,2,    0.000,2,     -999,9,   2323.2,2,   2421.2,2,   7.5812,2,    25.00,   1.4504,2,    0.010,2,    0.000,2,    99.83,2,     -999,9
49NZ20120113  ,P10N       ,     106,  2,          8,12024      ,2,20120204,1039,  40.0837, 145.3702,     5374,   4330.5,   1.4554,  34.6873,2,  34.6872,2,    155.7,2,    155.5,2,   145.74,2,    35.91,2,     0.02,2,     2.51,2,    0.000,2,    0.002,2,    0.000,2,     -999,9,   2320.2,6,   2419.7,2,   7.5862,2,    25.00,   1.4554,2,    0.010,2,    0.000,2,    99.83,2,     -999,9
49NZ20120113  ,P10N       ,     106,  2,          7,12023      ,2,20120204,1039,  40.0837, 145.3702,     5374,   4580.4,   1.4698,  34.6888,2,  34.6887,2,    157.8,2,    157.6,2,   144.58,2,    35.74,2,     0.02,2,     2.49,2,    0.003,2,    0.000,2,    0.000,2,     -999,9,   2317.8,2,   2419.3,6,   7.5895,2,    25.00,   1.4698,2,    0.010,2,    0.000,2,    99.86,2,     -999,9
49NZ20120113  ,P10N       ,     106,  2,          6,12006      ,2,20120204,1039,  40.0837, 145.3702,     5374,   4831.2,   1.4903,  34.6898,2,  34.6898,2,    158.9,2,    158.6,2,   144.45,2,    35.60,2,     0.02,2,     2.48,2,    0.002,2,    0.002,2,    0.000,2,     -999,9,   2317.4,2,   2419.1,2,   7.5918,6,    25.00,   1.4903,2,    0.009,2,    0.000,2,    99.86,2,     -999,9
49NZ20120113  ,P10N       ,     106,  2,          5,12102      ,2,20120204,1039,  40.0837, 145.3702,     5374,   5081.1,   1.5122,  34.6908,2,  34.6906,2,    160.3,2,    160.1,2,   143.72,2,    35.49,2,     0.02,2,     2.47,2,    0.001,2,    0.001,2,    0.000,2,     -999,9,   2317.0,2,   2418.2,2,   7.5929,2,    25.00,   1.5122,2,    0.009,2,    0.000,2,    99.81,2,     -999,9
49NZ20120113  ,P10N       ,     106,  2,          4,12104      ,2,20120204,1039,  40.0837, 145.3702,     5374,   5331.0,   1.5368,  34.6913,2,  34.6916,2,    161.5,2,    161.5,2,   142.46,2,    35.39,2,     0.02,2,     2.47,2,    0.002,2,    0.000,2,    0.000,2,     -999,9,   2315.1,2,   2417.2,2,   7.5944,2,    25.00,   1.5365,2,    0.010,2,    0.000,2,    99.72,2,     -999,9
49NZ20120113  ,P10N       ,     106,  2,          1,12001      ,2,20120204,1039,  40.0837, 145.3702,     5374,   5470.2,   1.5526,  34.6917,2,  34.6919,2,    161.4,2,    161.4,2,   143.34,2,    35.38,2,     0.02,2,     2.48,2,    0.004,2,    0.001,2,    0.000,2,     -999,9,   2314.1,2,   2417.9,2,   7.5948,2,    25.00,   1.5524,2,    0.010,2,    0.000,2,    99.45,2,     -999,9