BOTTLE,20231026CCHSIOVAJ
EXPOCODE,SECT_ID,STNNBR,CASTNO,SAMPNO,BTLNBR,BTLNBR_FLAG_W,DATE,TIME,LATITUDE,LONGITUDE,DEPTH,CTDPRS,CTDTMP,CTDSAL,CTDSAL_FLAG_W,SALNTY,SALNTY_FLAG_W,CTDOXY,CTDOXY_FLAG_W,OXYGEN,OXYGEN_FLAG_W,SILCAT,SILCAT_FLAG_W,NITRAT,NITRAT_FLAG_W,NITRIT,NITRIT_FLAG_W,PHSPHT,PHSPHT_FLAG_W,CFC-11,CFC-11_FLAG_W,CFC-12,CFC-12_FLAG_W,CFC113,CFC113_FLAG_W,SF6,SF6_FLAG_W,TCARBN,TCARBN_FLAG_W,ALKALI,ALKALI_FLAG_W,PH_TOT,PH_TOT_FLAG_W,PH_TMP,REFTMP,REFTMP_FLAG_W,CTDFLUOR,CTDFLUOR_FLAG_W,PAR,PAR_FLAG_W,CTDXMISS,CTDXMISS_FLAG_W,CHLORA,CHLORA_FLAG_W
,,,,,,,,,,,METERS,DBAR,ITS-90,PSS-78,,PSS-78,,UMOL/KG,,UMOL/KG,,UMOL/KG,,UMOL/KG,,UMOL/KG,,UMOL/KG,,PMOL/KG,,PMOL/KG,,PMOL/KG,,FMOL/KG,,UMOL/KG,,UMOL/KG,,,,DEG C,ITS-90,,MG/M^3,,VOLTS,,%TRANS,,UG/KG,
49NZ20120113  ,P10N       ,      62,  1,          0,BUC        ,2,20120115,1225,  21.1808, 149.3422,     5391,      0.0,     -999,     -999,9,  34.7804,2,     -999,9,     -999,9,     -999,9,     -999,9,     -999,9,     -999,9,     -999,9,     -999,9,     -999,9,     -999,9,     -999,9,     -999,9,     -999,9,     -999,     -999,9,     -999,9,     -999,9,     -999,9,     -999,9
49NZ20120113  ,P10N       ,      62,  1,         36,12021      ,2,20120115,1225,  21.1808, 149.3422,     5391,     10.0,  26.7162,  34.7760,2,  34.7761,2,    201.2,2,    201.7,2,     0.68,2,     0.01,2,     0.01,2,     0.05,2,    1.556,2,    1.001,2,     -999,5,     -999,9,   1942.3,2,   2287.3,2,   8.1197,6,    25.00,  26.7159,2,    0.081,2,    0.332,2,    98.86,2,     -999,9
49NZ20120113  ,P10N       ,      62,  1,         35,12001      ,2,20120115,1225,  21.1808, 149.3422,     5391,     49.7,  26.7169,  34.7739,2,  34.7733,2,    201.0,2,    201.7,2,     0.49,2,     0.01,2,     0.01,2,     0.05,2,    1.557,2,    1.007,2,     -999,5,     -999,9,   1941.1,6,   2286.0,2,   8.1197,2,    25.00,  26.7168,2,    0.075,2,    0.000,2,    98.92,2,     -999,9
49NZ20120113  ,P10N       ,      62,  1,         34,12019      ,2,20120115,1225,  21.1808, 149.3422,     5391,     99.8,  25.5454,  35.0418,2,  35.0462,2,    203.6,2,    203.8,2,     0.76,2,     0.01,2,     0.01,2,     0.05,2,    1.721,6,    1.097,6,     -999,5,     -999,9,   1975.7,2,   2303.7,2,   8.0866,2,    25.00,  25.5461,2,    0.181,2,    0.000,2,    98.88,2,     -999,9
49NZ20120113  ,P10N       ,      62,  1,          2,12103      ,2,20120115,1225,  21.1808, 149.3422,     5391,    130.7,  23.6947,  35.1127,2,     -999,9,    193.4,2,     -999,9,     -999,9,     -999,9,     -999,9,     -999,9,     -999,9,     -999,9,     -999,9,     -999,9,     -999,9,     -999,9,     -999,9,     -999,  23.6902,2,    0.248,2,    0.000,2,    99.03,2,     0.23,2
49NZ20120113  ,P10N       ,      62,  1,         33,12018      ,2,20120115,1225,  21.1808, 149.3422,     5391,    149.9,  22.2420,  35.0665,2,  35.0648,2,    190.2,2,    192.1,2,     1.23,2,     0.88,2,     0.05,2,     0.12,2,    1.980,2,    1.231,2,     -999,5,     -999,9,   2013.9,2,   2304.0,6,   8.0217,2,    25.00,  22.2570,2,    0.152,2,    0.000,2,    99.27,2,     -999,9
49NZ20120113  ,P10N       ,      62,  1,         32,12017      ,2,20120115,1225,  21.1808, 149.3422,     5391,    200.6,  19.1411,  34.8297,2,  34.8305,2,    195.1,2,    195.9,2,     2.33,2,     2.70,2,     0.02,2,     0.23,2,    2.249,2,    1.362,2,    0.096,2,     -999,9,   2026.3,2,   2289.7,2,   7.9771,2,    25.00,  19.1451,2,    0.026,2,    0.000,2,    99.52,2,     -999,9
49NZ20120113  ,P10N       ,      62,  1,         31,12016      ,2,20120115,1225,  21.1808, 149.3422,     5391,    250.5,  17.4678,  34.6979,2,  34.6969,2,    197.6,2,    198.2,2,     3.78,2,     5.04,2,     0.01,2,     0.37,2,    2.415,2,    1.434,2,    0.044,2,     -999,9,   2035.4,2,   2281.5,2,   7.9503,2,    25.00,  17.4694,2,    0.006,2,    0.000,2,    99.61,2,     -999,9
49NZ20120113  ,P10N       ,      62,  1,         30,12015      ,2,20120115,1225,  21.1808, 149.3422,     5391,    329.6,  14.8616,  34.5379,2,  34.5373,2,    189.4,2,    189.8,2,     8.48,2,     9.54,2,     0.01,2,     0.68,2,    2.717,2,    1.544,2,    0.034,2,     -999,9,   2070.4,2,   2276.4,2,   7.8731,2,    25.00,  14.8606,2,    0.006,2,    0.000,2,    99.68,2,     -999,9
49NZ20120113  ,P10N       ,      62,  1,         29,12014      ,2,20120115,1225,  21.1808, 149.3422,     5391,    429.4,  12.1967,  34.3456,2,  34.3471,2,    183.2,2,    183.5,2,    15.37,2,    14.31,2,     0.01,2,     1.04,2,    2.898,2,    1.579,2,    0.053,2,     -999,9,   2103.6,2,   2272.8,2,   7.7917,2,    25.00,  12.2024,2,    0.007,2,    0.000,2,    99.73,2,     -999,9
49NZ20120113  ,P10N       ,      62,  1,         28,12101      ,2,20120115,1225,  21.1808, 149.3422,     5391,    529.4,   9.5948,  34.1903,2,  34.1848,2,    159.7,2,    157.2,2,    29.37,2,    21.67,2,     0.01,2,     1.57,2,    2.636,2,    1.376,2,    0.058,2,     -999,9,   2152.8,2,   2275.8,2,   7.6765,2,    25.00,   9.5683,2,    0.009,2,    0.000,2,    99.76,2,     -999,9
49NZ20120113  ,P10N       ,      62,  1,         27,12012      ,2,20120115,1225,  21.1808, 149.3422,     5391,    628.2,   6.9947,  34.1303,2,  34.1292,2,    103.4,2,    105.2,2,    52.85,2,    30.94,2,     0.01,2,     2.26,2,    1.620,6,    0.817,6,    0.043,6,     -999,9,   2225.7,2,   2293.1,2,   7.5246,2,    25.00,   6.9988,2,    0.015,2,    0.000,2,    99.78,2,     -999,9
49NZ20120113  ,P10N       ,      62,  1,         26,12010      ,2,20120115,1225,  21.1808, 149.3422,     5391,    729.6,   5.4326,  34.1982,2,  34.1973,2,     63.2,2,     64.0,2,    77.94,2,    37.52,2,     0.01,2,     2.72,2,    0.678,2,    0.338,2,    0.020,2,     -999,9,   2285.5,6,   2319.3,2,   7.4257,2,    25.00,   5.4346,2,    0.018,2,    0.000,2,    99.79,2,     -999,9
49NZ20120113  ,P10N       ,      62,  1,         25,12009      ,2,20120115,1225,  21.1808, 149.3422,     5391,    828.8,   4.8633,  34.2898,2,  34.2881,2,     50.4,2,     50.5,2,    89.77,2,    39.81,2,     0.01,2,     2.91,2,    0.291,2,    0.143,2,    0.008,2,     -999,9,   2309.5,2,   2336.5,6,   7.4042,2,    25.00,   4.8637,2,    0.019,2,    0.000,2,    99.81,2,     -999,9
49NZ20120113  ,P10N       ,      62,  1,         24,12008      ,2,20120115,1225,  21.1808, 149.3422,     5391,    929.6,   4.3809,  34.3839,2,  34.3838,2,     50.3,2,     50.3,2,    99.92,2,    40.66,2,     0.01,2,     2.95,2,    0.105,2,    0.053,2,    0.003,2,     -999,9,   2322.6,2,   2353.3,2,   7.4114,6,    25.00,   4.3810,2,    0.019,2,    0.000,2,    99.81,2,     -999,9
49NZ20120113  ,P10N       ,      62,  1,         23,12007      ,2,20120115,1225,  21.1808, 149.3422,     5391,   1070.2,   3.9480,  34.4736,2,  34.4732,2,     62.7,2,     63.0,2,   107.89,2,    40.25,2,     0.01,2,     2.90,2,    0.036,2,    0.016,2,    0.000,2,     -999,9,   2329.1,2,   2369.6,2,   7.4418,2,    25.00,   3.9487,2,    0.018,2,    0.000,2,    99.85,2,     -999,9
49NZ20120113  ,P10N       ,      62,  1,         22,12022      ,2,20120115,1225,  21.1808, 149.3422,     5391,   1269.2,   3.2832,  34.5325,2,  34.5330,2,     77.0,2,     77.2,2,   120.26,2,    39.84,2,     0.01,2,     2.86,2,    0.017,2,    0.007,2,    0.000,2,     -999,9,   2332.7,3,   2386.0,2,   7.4683,2,    25.00,   3.2833,2,    0.017,2,    0.000,2,    99.87,2,     -999,9
49NZ20120113  ,P10N       ,      62,  1,         21,12036      ,2,20120115,1225,  21.1808, 149.3422,     5391,   1471.6,   2.8240,  34.5533,2,  34.5537,2,     83.5,2,     83.6,2,   129.34,2,    39.78,2,     0.01,2,     2.85,2,    0.015,2,    0.007,2,    0.000,2,     -999,9,   2342.8,2,   2396.5,2,   7.4747,2,    25.00,   2.8240,2,    0.016,2,    0.000,2,    99.89,2,     -999,9
49NZ20120113  ,P10N       ,      62,  1,         20,12035      ,2,20120115,1225,  21.1808, 149.3422,     5391,   1670.1,   2.4953,  34.5770,2,  34.5769,2,     91.2,2,     91.4,2,   134.92,2,    39.52,2,     0.01,2,     2.82,2,    0.008,2,    0.004,2,    0.000,2,     -999,9,   2342.8,2,   2402.6,2,   7.4874,6,    25.00,   2.4956,2,    0.016,2,    0.000,2,    99.91,2,     -999,9
49NZ20120113  ,P10N       ,      62,  1,         19,12034      ,2,20120115,1225,  21.1808, 149.3422,     5391,   1870.9,   2.2534,  34.5950,2,  34.5952,2,     98.3,2,     98.4,2,   138.84,2,    39.20,2,     0.01,2,     2.79,2,    0.006,2,    0.003,2,    0.000,2,     -999,9,   2345.2,2,   2406.1,2,   7.4979,2,    25.00,   2.2534,2,    0.015,2,    0.000,2,    99.91,2,     -999,9
49NZ20120113  ,P10N       ,      62,  1,         18,12033      ,2,20120115,1225,  21.1808, 149.3422,     5391,   2069.2,   2.0575,  34.6135,2,  34.6137,2,    105.5,2,    105.7,2,   141.75,2,    38.87,2,     0.01,2,     2.75,2,    0.001,2,    0.000,2,    0.000,2,     -999,9,   2341.5,3,   2412.8,2,   7.5104,2,    25.00,   2.0577,2,    0.014,2,    0.000,2,    99.91,2,     -999,9
49NZ20120113  ,P10N       ,      62,  1,         17,12032      ,2,20120115,1225,  21.1808, 149.3422,     5391,   2271.5,   1.8777,  34.6329,2,  34.6339,2,    114.0,2,    114.4,2,   143.83,2,    38.43,2,     0.01,2,     2.71,2,    0.000,2,    0.000,2,    0.000,2,     -999,9,   2343.3,2,   2415.4,2,   7.5256,2,    25.00,   1.8780,2,    0.013,2,    0.000,2,    99.93,2,     -999,9
49NZ20120113  ,P10N       ,      62,  1,         16,12046      ,2,20120115,1225,  21.1808, 149.3422,     5391,   2469.9,   1.7682,  34.6450,2,  34.6452,2,    120.2,2,    120.4,2,   144.66,2,    38.05,2,     0.01,2,     2.68,2,    0.000,2,    0.000,2,    0.000,2,     -999,9,   2339.9,6,   2418.7,2,   7.5358,2,    25.00,   1.7682,2,    0.013,2,    0.000,2,    99.94,2,     -999,9
49NZ20120113  ,P10N       ,      62,  1,         15,12030      ,2,20120115,1225,  21.1808, 149.3422,     5391,   2669.6,   1.7146,  34.6516,2,  34.6519,2,    124.3,2,    124.7,2,   144.79,2,    37.73,2,     0.01,2,     2.66,2,    0.000,2,    0.000,2,    0.000,2,     -999,9,   2339.3,2,   2419.4,6,   7.5426,2,    25.00,   1.7145,2,    0.013,2,    0.000,2,    99.95,2,     -999,9
49NZ20120113  ,P10N       ,      62,  1,         14,12029      ,2,20120115,1225,  21.1808, 149.3422,     5391,   2870.8,   1.6587,  34.6589,2,  34.6589,2,    129.2,2,    129.4,2,   145.19,2,    37.52,2,     0.01,2,     2.64,2,     -999,9,     -999,9,     -999,9,     -999,9,   2335.8,2,   2419.4,2,   7.5516,6,    25.00,   1.6587,2,    0.012,2,    0.000,2,    99.94,2,     -999,9
49NZ20120113  ,P10N       ,      62,  1,         13,12028      ,2,20120115,1225,  21.1808, 149.3422,     5391,   3079.7,   1.6029,  34.6653,2,  34.6654,2,    134.3,2,    134.4,2,   144.86,2,    37.24,2,     0.01,2,     2.61,2,    0.000,2,    0.000,2,    0.000,2,     -999,9,   2333.5,2,   2420.3,2,   7.5599,2,    25.00,   1.6029,2,    0.012,2,    0.000,2,    99.95,2,     -999,9
49NZ20120113  ,P10N       ,      62,  1,         12,12027      ,2,20120115,1225,  21.1808, 149.3422,     5391,   3329.0,   1.5673,  34.6706,2,  34.6702,2,    138.8,2,    139.0,2,   144.14,2,    36.83,2,     0.01,2,     2.58,2,     -999,9,     -999,9,     -999,9,     -999,9,   2330.7,2,   2420.7,2,   7.5659,2,    25.00,   1.5673,2,    0.011,2,    0.000,2,    99.95,2,     -999,9
49NZ20120113  ,P10N       ,      62,  1,         11,12011      ,2,20120115,1225,  21.1808, 149.3422,     5391,   3579.8,   1.5371,  34.6751,2,  34.6756,2,    143.5,2,    143.7,2,   143.42,2,    36.61,2,     0.01,2,     2.57,2,    0.000,2,    0.000,2,    0.000,2,     -999,9,   2328.2,2,   2419.7,2,   7.5712,3,    25.00,   1.5369,2,    0.011,2,    0.000,2,    99.94,2,     -999,9
49NZ20120113  ,P10N       ,      62,  1,         10,12026      ,2,20120115,1225,  21.1808, 149.3422,     5391,   3830.3,   1.5027,  34.6803,2,  34.6803,2,    149.4,2,    149.6,2,   142.22,2,    36.27,2,     0.01,2,     2.54,2,     -999,9,     -999,9,     -999,9,     -999,9,   2323.6,2,   2418.0,2,   7.5811,2,    25.00,   1.5027,2,    0.010,2,    0.000,2,    99.94,2,     -999,9
49NZ20120113  ,P10N       ,      62,  1,          9,12025      ,2,20120115,1225,  21.1808, 149.3422,     5391,   4080.2,   1.4886,  34.6838,2,  34.6837,2,    153.9,2,    154.2,2,   140.37,2,    35.96,2,     0.01,2,     2.51,2,    0.000,2,    0.000,2,    0.000,2,     -999,9,   2317.8,2,   2417.3,2,   7.5874,2,    25.00,   1.4886,2,    0.010,2,    0.000,2,    99.95,2,     -999,9
49NZ20120113  ,P10N       ,      62,  1,          8,12024      ,2,20120115,1225,  21.1808, 149.3422,     5391,   4330.1,   1.4739,  34.6870,2,  34.6870,2,    158.6,2,    158.7,2,   138.69,2,    35.64,2,     0.01,2,     2.49,2,     -999,9,     -999,9,     -999,9,     -999,9,   2315.0,2,   2414.8,2,   7.5933,2,    25.00,   1.4738,2,    0.010,2,    0.000,2,    99.96,2,     -999,9
49NZ20120113  ,P10N       ,      62,  1,          7,12023      ,2,20120115,1225,  21.1808, 149.3422,     5391,   4580.2,   1.4753,  34.6894,2,  34.6896,2,    162.0,2,    162.2,2,   136.80,2,    35.40,2,     0.01,2,     2.47,2,    0.000,2,    0.000,2,    0.000,2,     -999,9,   2311.5,2,   2413.7,6,   7.5977,2,    25.00,   1.4754,2,    0.009,2,    0.000,2,    99.95,2,     -999,9
49NZ20120113  ,P10N       ,      62,  1,          6,12006      ,2,20120115,1225,  21.1808, 149.3422,     5391,   4830.9,   1.4853,  34.6912,2,  34.6910,2,    164.7,2,    164.8,2,   135.34,2,    35.16,2,     0.01,2,     2.45,2,     -999,9,     -999,9,     -999,9,     -999,9,   2309.5,2,   2411.8,2,   7.6007,6,    25.00,   1.4854,2,    0.009,2,    0.000,2,    99.94,2,     -999,9
49NZ20120113  ,P10N       ,      62,  1,          5,12102      ,2,20120115,1225,  21.1808, 149.3422,     5391,   5080.9,   1.5015,  34.6924,2,  34.6922,2,    167.0,2,    167.1,2,   133.91,2,    35.02,2,     0.01,2,     2.44,2,    0.000,2,    0.000,2,    0.000,2,     -999,9,   2306.1,2,   2409.5,2,   7.6031,2,    25.00,   1.5015,2,    0.009,2,    0.000,2,    99.94,2,     -999,9
49NZ20120113  ,P10N       ,      62,  1,          4,12104      ,2,20120115,1225,  21.1808, 149.3422,     5391,   5329.4,   1.5212,  34.6932,2,  34.6930,2,    168.5,2,    168.9,2,   133.06,2,    34.89,2,     0.01,2,     2.43,2,     -999,9,     -999,9,     -999,9,     -999,9,   2304.0,2,   2408.2,2,   7.6061,2,    25.00,   1.5212,2,    0.010,2,    0.000,2,    99.93,2,     -999,9
49NZ20120113  ,P10N       ,      62,  1,          1,12001      ,2,20120115,1225,  21.1808, 149.3422,     5391,   5480.8,   1.5175,  34.6950,2,  34.6950,2,    171.7,2,    172.0,2,   131.10,2,    34.68,2,     0.01,2,     2.41,2,    0.001,2,    0.000,2,    0.000,2,     -999,9,   2303.0,2,   2407.1,2,   7.6084,2,    25.00,   1.5174,2,    0.010,2,    0.000,2,    99.91,2,     -999,9