BOTTLE,20231026CCHSIOVAJ
EXPOCODE,SECT_ID,STNNBR,CASTNO,SAMPNO,BTLNBR,BTLNBR_FLAG_W,DATE,TIME,LATITUDE,LONGITUDE,DEPTH,CTDPRS,CTDTMP,CTDSAL,CTDSAL_FLAG_W,SALNTY,SALNTY_FLAG_W,CTDOXY,CTDOXY_FLAG_W,OXYGEN,OXYGEN_FLAG_W,SILCAT,SILCAT_FLAG_W,NITRAT,NITRAT_FLAG_W,NITRIT,NITRIT_FLAG_W,PHSPHT,PHSPHT_FLAG_W,CFC-11,CFC-11_FLAG_W,CFC-12,CFC-12_FLAG_W,CFC113,CFC113_FLAG_W,SF6,SF6_FLAG_W,TCARBN,TCARBN_FLAG_W,ALKALI,ALKALI_FLAG_W,PH_TOT,PH_TOT_FLAG_W,PH_TMP,REFTMP,REFTMP_FLAG_W,CTDFLUOR,CTDFLUOR_FLAG_W,PAR,PAR_FLAG_W,CTDXMISS,CTDXMISS_FLAG_W,CHLORA,CHLORA_FLAG_W
,,,,,,,,,,,METERS,DBAR,ITS-90,PSS-78,,PSS-78,,UMOL/KG,,UMOL/KG,,UMOL/KG,,UMOL/KG,,UMOL/KG,,UMOL/KG,,PMOL/KG,,PMOL/KG,,PMOL/KG,,FMOL/KG,,UMOL/KG,,UMOL/KG,,,,DEG C,ITS-90,,MG/M^3,,VOLTS,,%TRANS,,UG/KG,
49NZ20120113  ,P10N       ,      88,  2,          0,BUC        ,2,20120125,2329,  34.2542, 149.1673,     6173,      0.0,     -999,     -999,9,  34.7129,2,     -999,9,     -999,9,     -999,9,     -999,9,     -999,9,     -999,9,     -999,9,     -999,9,     -999,9,     -999,9,     -999,9,     -999,9,     -999,9,     -999,     -999,9,     -999,9,     -999,9,     -999,9,     -999,9
49NZ20120113  ,P10N       ,      88,  2,         36,12021      ,2,20120125,2329,  34.2542, 149.1673,     6173,     10.3,  18.5809,  34.7102,2,  34.7090,2,    224.2,2,    223.6,2,     2.33,2,     1.52,2,     0.27,2,     0.20,2,    2.083,2,    1.311,2,    0.173,2,     -999,9,   2000.4,2,   2281.9,2,   8.0223,2,    25.00,  18.5814,2,    0.212,2,  127.934,2,    98.63,2,     -999,9
49NZ20120113  ,P10N       ,      88,  2,         35,12001      ,2,20120125,2329,  34.2542, 149.1673,     6173,     50.8,  18.5832,  34.7100,2,  34.7083,2,    223.9,2,    223.4,2,     2.46,2,     1.54,2,     0.27,2,     0.17,2,    2.084,2,    1.312,2,    0.172,2,     -999,9,   1998.8,6,   2282.6,2,   8.0223,2,    25.00,  18.5836,2,    0.283,2,   17.578,2,    98.64,2,     -999,9
49NZ20120113  ,P10N       ,      88,  2,         34,12019      ,2,20120125,2329,  34.2542, 149.1673,     6173,    101.0,  18.5919,  34.7096,2,  34.7083,2,    223.7,2,    223.3,2,     2.33,2,     1.54,2,     0.27,2,     0.16,2,    2.079,6,    1.319,6,    0.171,6,     -999,9,   1998.4,2,   2282.3,6,   8.0220,2,    25.00,  18.5921,2,    0.266,2,    3.437,2,    98.70,2,     -999,9
49NZ20120113  ,P10N       ,      88,  2,         33,12018      ,2,20120125,2329,  34.2542, 149.1673,     6173,    149.8,  18.5995,  34.7096,2,  34.7085,2,    223.8,2,    223.2,2,     2.54,2,     1.58,2,     0.27,2,     0.17,2,    2.101,2,    1.314,2,    0.175,2,     -999,9,   1998.3,2,   2282.7,2,   8.0220,6,    25.00,  18.5997,2,    0.251,2,    0.314,2,    98.69,2,     -999,9
49NZ20120113  ,P10N       ,      88,  2,         32,12017      ,2,20120125,2329,  34.2542, 149.1673,     6173,    202.0,  18.5019,  34.7132,2,  34.7123,2,    217.2,2,    216.6,2,     2.58,2,     2.23,2,     0.17,2,     0.20,2,    2.114,2,    1.334,2,    0.161,2,     -999,9,   2005.8,2,   2282.0,2,   8.0092,2,    25.00,  18.5016,2,    0.115,2,    0.008,2,    99.16,2,     -999,9
49NZ20120113  ,P10N       ,      88,  2,         31,12016      ,2,20120125,2329,  34.2542, 149.1673,     6173,    249.4,  17.7333,  34.7063,2,  34.7055,2,    195.9,2,    196.2,2,     4.89,2,     5.33,2,     0.02,2,     0.38,2,    2.231,2,    1.374,2,    0.077,2,     -999,9,   2037.3,2,   2282.4,2,   7.9546,2,    25.00,  17.7336,2,    0.009,2,    0.000,2,    99.53,2,     -999,9
49NZ20120113  ,P10N       ,      88,  2,         30,12015      ,2,20120125,2329,  34.2542, 149.1673,     6173,    330.3,  16.9641,  34.6936,2,  34.6942,2,    204.3,2,    203.7,2,     5.11,2,     5.62,2,     0.02,2,     0.39,2,    2.308,2,    1.427,2,    0.094,2,     -999,9,   2038.2,2,   2281.5,2,   7.9497,2,    25.00,  16.9779,2,    0.003,2,    0.000,2,    99.67,2,     -999,9
49NZ20120113  ,P10N       ,      88,  2,         29,12014      ,2,20120125,2329,  34.2542, 149.1673,     6173,    429.8,  15.1240,  34.5750,2,  34.5734,2,    179.8,2,    180.9,2,    11.68,2,    10.71,2,     0.01,2,     0.76,2,    2.411,2,    1.419,2,    0.040,2,     -999,9,   2078.0,2,   2279.7,2,   7.8698,2,    25.00,  15.1215,2,    0.005,2,    0.000,2,    99.66,2,     -999,9
49NZ20120113  ,P10N       ,      88,  2,         28,12024      ,2,20120125,2329,  34.2542, 149.1673,     6173,    529.2,  12.0439,  34.3778,2,  34.3807,2,    174.3,2,    174.8,2,    21.68,2,    15.98,2,     0.01,2,     1.12,2,    2.494,2,    1.438,2,    0.061,2,     -999,9,   2117.6,2,   2280.7,2,   7.7833,2,    25.00,  12.0527,2,    0.007,2,    0.000,2,    99.69,2,     -999,9
49NZ20120113  ,P10N       ,      88,  2,         27,12012      ,2,20120125,2329,  34.2542, 149.1673,     6173,    630.5,   8.7958,  34.1509,2,  34.1500,2,    164.3,2,    164.1,2,    38.20,2,    22.40,2,     0.01,2,     1.63,2,    2.526,6,    1.404,6,    0.106,6,     -999,9,   2167.4,2,   2284.7,2,   7.6718,2,    25.00,   8.7964,2,    0.010,2,    0.000,2,    99.72,2,     -999,9
49NZ20120113  ,P10N       ,      88,  2,         26,12010      ,2,20120125,2329,  34.2542, 149.1673,     6173,    732.1,   5.9144,  34.0045,2,  34.0048,2,    137.3,2,    137.0,2,    61.12,2,    30.32,2,     0.01,2,     2.21,2,    2.363,2,    1.278,2,    0.129,2,     -999,9,   2226.1,6,   2294.8,2,   7.5332,2,    25.00,   5.9143,2,    0.014,2,    0.000,2,    99.75,2,     -999,9
49NZ20120113  ,P10N       ,      88,  2,         25,12009      ,2,20120125,2329,  34.2542, 149.1673,     6173,    829.6,   4.9000,  34.0630,2,  34.0634,2,     96.4,2,     96.0,2,    80.59,2,    35.60,2,     0.01,2,     2.56,2,    1.743,2,    0.924,2,    0.095,2,     -999,9,   2274.3,2,   2312.2,6,   7.4417,2,    25.00,   4.8996,2,    0.017,2,    0.000,2,    99.74,2,     -999,9
49NZ20120113  ,P10N       ,      88,  2,         24,12008      ,2,20120125,2329,  34.2542, 149.1673,     6173,    931.5,   4.3706,  34.1661,2,  34.1644,2,     66.3,2,     66.4,2,    97.12,2,    38.63,2,     0.01,2,     2.79,2,    1.097,2,    0.568,2,    0.063,2,     -999,9,   2308.1,2,   2330.0,2,   7.3919,6,    25.00,   4.3739,2,    0.019,2,    0.000,2,    99.75,2,     -999,9
49NZ20120113  ,P10N       ,      88,  2,         23,12007      ,2,20120125,2329,  34.2542, 149.1673,     6173,   1069.8,   3.7864,  34.2737,2,  34.2735,2,     48.0,2,     47.6,2,   114.94,2,    40.98,2,     0.01,2,     2.94,2,    0.550,2,    0.278,2,    0.031,2,     -999,9,   2338.8,2,   2351.9,2,   7.3661,2,    25.00,   3.7865,2,    0.020,2,    0.000,2,    99.76,2,     -999,9
49NZ20120113  ,P10N       ,      88,  2,         22,12022      ,2,20120125,2329,  34.2542, 149.1673,     6173,   1271.8,   3.1928,  34.3779,2,  34.3771,2,     39.7,2,     39.7,2,   131.63,2,    42.17,2,     0.01,2,     3.03,2,    0.216,2,    0.107,2,    0.014,2,     -999,9,   2362.5,2,   2373.1,2,   7.3589,2,    25.00,   3.1933,2,    0.021,2,    0.000,2,    99.76,2,     -999,9
49NZ20120113  ,P10N       ,      88,  2,         21,12036      ,2,20120125,2329,  34.2542, 149.1673,     6173,   1471.6,   2.7386,  34.4535,2,  34.4534,2,     40.8,2,     40.5,2,   143.69,2,    42.60,2,     0.01,2,     3.06,2,    0.088,2,    0.046,2,    0.010,2,     -999,9,   2375.3,2,   2389.0,2,   7.3643,2,    25.00,   2.7379,2,    0.021,2,    0.000,2,    99.76,2,     -999,9
49NZ20120113  ,P10N       ,      88,  2,         20,12035      ,2,20120125,2329,  34.2542, 149.1673,     6173,   1669.5,   2.4269,  34.5085,2,  34.5083,2,     46.4,2,     46.2,2,   152.44,2,    42.58,2,     0.01,2,     3.05,2,    0.038,2,    0.020,2,    0.000,2,     -999,9,   2379.7,2,   2400.1,2,   7.3791,6,    25.00,   2.4271,2,    0.020,2,    0.000,2,    99.74,2,     -999,9
49NZ20120113  ,P10N       ,      88,  2,         19,12034      ,2,20120125,2329,  34.2542, 149.1673,     6173,   1870.4,   2.2088,  34.5497,2,  34.5496,2,     56.8,2,     56.6,2,   155.89,2,    42.03,2,     0.01,2,     2.99,2,    0.020,2,    0.005,2,    0.000,2,     -999,9,   2380.3,2,   2408.0,2,   7.4025,2,    25.00,   2.2089,2,    0.019,2,    0.000,2,    99.78,2,     -999,9
49NZ20120113  ,P10N       ,      88,  2,         18,12033      ,2,20120125,2329,  34.2542, 149.1673,     6173,   2071.7,   2.0180,  34.5849,2,  34.5849,2,     71.4,2,     71.3,2,   157.90,2,    41.23,2,     0.01,2,     2.92,2,    0.004,2,    0.002,2,    0.000,2,     -999,9,   2374.0,2,   2412.8,2,   7.4322,2,    25.00,   2.0182,2,    0.018,2,    0.000,2,    99.79,2,     -999,9
49NZ20120113  ,P10N       ,      88,  2,         17,12032      ,2,20120125,2329,  34.2542, 149.1673,     6173,   2272.0,   1.8852,  34.6091,2,  34.6087,2,     84.9,2,     84.8,2,   158.30,2,    40.32,2,     0.01,2,     2.85,2,    0.000,2,    0.000,2,    0.000,2,     -999,9,   2367.9,2,   2416.7,2,   7.4602,2,    25.00,   1.8855,2,    0.016,2,    0.000,2,    99.84,2,     -999,9
49NZ20120113  ,P10N       ,      88,  2,         16,12046      ,2,20120125,2329,  34.2542, 149.1673,     6173,   2469.9,   1.7745,  34.6271,2,  34.6268,2,     96.8,2,     96.8,2,   156.40,2,    39.57,2,     0.00,2,     2.80,2,    0.000,2,    0.000,2,    0.000,2,     -999,9,   2361.1,6,   2418.3,2,   7.4828,2,    25.00,   1.7745,2,    0.015,2,    0.000,2,    99.85,2,     -999,9
49NZ20120113  ,P10N       ,      88,  2,         15,12030      ,2,20120125,2329,  34.2542, 149.1673,     6173,   2669.6,   1.6939,  34.6406,2,  34.6406,2,    107.6,2,    107.8,2,   155.32,2,    39.00,2,     0.01,2,     2.74,2,    0.000,2,    0.000,2,    0.000,2,     -999,9,   2355.7,2,   2419.1,6,   7.5029,2,    25.00,   1.6938,2,    0.014,2,    0.000,2,    99.86,2,     -999,9
49NZ20120113  ,P10N       ,      88,  2,         14,12029      ,2,20120125,2329,  34.2542, 149.1673,     6173,   2870.4,   1.6344,  34.6511,2,  34.6511,2,    117.0,2,    117.2,2,   154.05,2,    38.19,2,     0.01,2,     2.68,2,    0.000,2,    0.000,2,    0.000,2,     -999,9,   2349.7,2,   2420.4,2,   7.5211,6,    25.00,   1.6344,2,    0.013,2,    0.000,2,    99.87,2,     -999,9
49NZ20120113  ,P10N       ,      88,  2,         13,12028      ,2,20120125,2329,  34.2542, 149.1673,     6173,   3081.1,   1.5860,  34.6596,2,  34.6597,2,    125.1,2,    125.2,2,   152.55,2,    37.83,2,     0.01,2,     2.65,2,    0.000,2,    0.000,2,    0.000,2,     -999,9,   2345.2,2,   2420.2,2,   7.5360,2,    25.00,   1.5860,2,    0.012,2,    0.000,2,    99.88,2,     -999,9
49NZ20120113  ,P10N       ,      88,  2,         12,12027      ,2,20120125,2329,  34.2542, 149.1673,     6173,   3331.1,   1.5452,  34.6671,2,  34.6669,2,    132.4,2,    132.3,2,   150.12,2,    37.39,2,     0.01,2,     2.62,2,     -999,9,     -999,9,     -999,9,     -999,9,   2340.6,2,   2421.2,2,   7.5492,2,    25.00,   1.5455,2,    0.012,2,    0.000,2,    99.88,2,     -999,9
49NZ20120113  ,P10N       ,      88,  2,         11,12011      ,2,20120125,2329,  34.2542, 149.1673,     6173,   3580.2,   1.5188,  34.6729,2,  34.6726,2,    138.9,2,    138.8,2,   149.40,2,    36.93,2,     0.01,2,     2.58,2,    0.000,2,    0.000,2,    0.000,2,     -999,9,   2336.3,2,   2420.4,2,   7.5599,2,    25.00,   1.5188,2,    0.011,2,    0.000,2,    99.89,2,     -999,9
49NZ20120113  ,P10N       ,      88,  2,         10,12026      ,2,20120125,2329,  34.2542, 149.1673,     6173,   3830.0,   1.4907,  34.6783,2,  34.6783,2,    144.9,2,    144.7,2,   148.01,2,    36.56,2,     0.01,2,     2.55,2,     -999,9,     -999,9,     -999,9,     -999,9,   2331.6,2,   2420.2,2,   7.5700,2,    25.00,   1.4906,2,    0.010,2,    0.000,2,    99.88,2,     -999,9
49NZ20120113  ,P10N       ,      88,  2,          9,12025      ,2,20120125,2329,  34.2542, 149.1673,     6173,   4080.9,   1.4806,  34.6821,2,  34.6820,2,    149.7,2,    149.3,2,   146.46,2,    36.25,2,     0.00,2,     2.52,2,    0.001,2,    0.000,2,    0.000,2,     -999,9,   2330.0,2,   2417.9,2,   7.5778,2,    25.00,   1.4805,2,    0.010,2,    0.000,2,    99.89,2,     -999,9
49NZ20120113  ,P10N       ,      88,  2,          8,12024      ,2,20120125,2329,  34.2542, 149.1673,     6173,   4330.9,   1.4805,  34.6849,2,  34.6849,2,    153.4,2,    153.1,2,   144.90,2,    36.04,2,     0.01,2,     2.51,2,     -999,9,     -999,9,     -999,9,     -999,9,   2326.1,6,   2418.5,2,   7.5832,2,    25.00,   1.4805,2,    0.010,2,    0.000,2,    99.87,2,     -999,9
49NZ20120113  ,P10N       ,      88,  2,          7,12023      ,2,20120125,2329,  34.2542, 149.1673,     6173,   4581.6,   1.4880,  34.6871,2,  34.6866,2,    156.4,2,    156.0,2,   143.97,2,    35.83,2,     0.01,2,     2.49,2,    0.000,2,    0.000,2,    0.000,2,     -999,9,   2323.6,2,   2418.1,6,   7.5874,2,    25.00,   1.4880,2,    0.009,2,    0.000,2,    99.87,2,     -999,9
49NZ20120113  ,P10N       ,      88,  2,          6,12006      ,2,20120125,2329,  34.2542, 149.1673,     6173,   4829.4,   1.5010,  34.6887,2,  34.6884,2,    159.0,2,    158.5,2,   142.81,2,    35.64,2,     0.01,2,     2.47,2,     -999,9,     -999,9,     -999,9,     -999,9,   2321.6,2,   2416.7,2,   7.5908,6,    25.00,   1.5010,2,    0.009,2,    0.000,2,    99.87,2,     -999,9
49NZ20120113  ,P10N       ,      88,  2,          5,12102      ,2,20120125,2329,  34.2542, 149.1673,     6173,   5080.8,   1.5171,  34.6901,2,  34.6899,2,    161.2,2,    160.6,2,   141.24,2,    35.49,2,     0.01,2,     2.45,2,    0.000,2,    0.000,2,    0.000,2,     -999,9,   2320.0,2,   2415.3,2,   7.5939,2,    25.00,   1.5171,2,    0.009,2,    0.000,2,    99.88,2,     -999,9
49NZ20120113  ,P10N       ,      88,  2,          4,12104      ,3,20120125,2329,  34.2542, 149.1673,     6173,   5330.9,   1.5374,  34.6911,2,  34.6909,2,    163.6,2,    163.2,2,   139.65,2,    35.36,2,     0.01,2,     2.45,2,     -999,9,     -999,9,     -999,9,     -999,9,   2317.1,2,   2414.5,2,   7.5969,2,    25.00,   1.5374,2,    0.009,2,    0.000,2,    99.84,2,     -999,9
49NZ20120113  ,P10N       ,      88,  2,          3,12003      ,2,20120125,2329,  34.2542, 149.1673,     6173,   5580.4,   1.5634,  34.6917,2,  34.6915,2,    164.8,2,    164.2,2,   138.85,2,    35.17,2,     0.01,2,     2.44,2,    0.001,2,    0.001,2,    0.000,2,     -999,9,   2314.7,2,   2413.3,2,   7.5980,2,    25.00,   1.5633,2,    0.009,2,    0.000,2,    99.79,2,     -999,9
49NZ20120113  ,P10N       ,      88,  2,          2,12103      ,2,20120125,2329,  34.2542, 149.1673,     6173,   5830.1,   1.5928,  34.6922,2,  34.6918,2,    165.5,2,    165.0,2,   137.73,2,    34.97,2,     0.01,2,     2.44,2,     -999,9,     -999,9,     -999,9,     -999,9,   2313.8,2,   2412.9,2,   7.5987,2,    25.00,   1.5928,2,    0.009,2,    0.000,2,    99.74,2,     -999,9
49NZ20120113  ,P10N       ,      88,  2,          1,12001      ,2,20120125,2329,  34.2542, 149.1673,     6173,   6283.8,   1.6444,  34.6933,2,  34.6933,2,    167.4,2,    167.2,2,   136.19,2,    34.82,2,     0.01,2,     2.43,2,    0.001,2,    0.000,2,    0.000,2,     -999,9,   2311.5,2,   2411.3,2,   7.6015,2,    25.00,   1.6444,2,    0.009,2,    0.000,2,    99.54,2,     -999,9