BOTTLE,20231026CCHSIOVAJ
EXPOCODE,SECT_ID,STNNBR,CASTNO,SAMPNO,BTLNBR,BTLNBR_FLAG_W,DATE,TIME,LATITUDE,LONGITUDE,DEPTH,CTDPRS,CTDTMP,CTDSAL,CTDSAL_FLAG_W,SALNTY,SALNTY_FLAG_W,CTDOXY,CTDOXY_FLAG_W,OXYGEN,OXYGEN_FLAG_W,SILCAT,SILCAT_FLAG_W,NITRAT,NITRAT_FLAG_W,NITRIT,NITRIT_FLAG_W,PHSPHT,PHSPHT_FLAG_W,CFC-11,CFC-11_FLAG_W,CFC-12,CFC-12_FLAG_W,CFC113,CFC113_FLAG_W,SF6,SF6_FLAG_W,TCARBN,TCARBN_FLAG_W,ALKALI,ALKALI_FLAG_W,PH_TOT,PH_TOT_FLAG_W,PH_TMP,REFTMP,REFTMP_FLAG_W,CTDFLUOR,CTDFLUOR_FLAG_W,PAR,PAR_FLAG_W,CTDXMISS,CTDXMISS_FLAG_W,CHLORA,CHLORA_FLAG_W
,,,,,,,,,,,METERS,DBAR,ITS-90,PSS-78,,PSS-78,,UMOL/KG,,UMOL/KG,,UMOL/KG,,UMOL/KG,,UMOL/KG,,UMOL/KG,,PMOL/KG,,PMOL/KG,,PMOL/KG,,FMOL/KG,,UMOL/KG,,UMOL/KG,,,,DEG C,ITS-90,,MG/M^3,,VOLTS,,%TRANS,,UG/KG,
49NZ20120113  ,P10N       ,      64,  1,          0,BUC        ,2,20120116,0408,  22.4967, 149.3330,     5712,      0.0,     -999,     -999,9,  35.0657,2,     -999,9,     -999,9,     -999,9,     -999,9,     -999,9,     -999,9,     -999,9,     -999,9,     -999,9,     -999,9,     -999,9,     -999,9,     -999,9,     -999,     -999,9,     -999,9,     -999,9,     -999,9,     -999,9
49NZ20120113  ,P10N       ,      64,  1,         36,12021      ,2,20120116,0408,  22.4967, 149.3330,     5712,      9.5,  25.4962,  34.9961,2,  34.9884,2,    206.2,2,    206.3,2,     0.78,2,     0.06,2,     0.01,2,     0.05,2,     -999,5,     -999,5,     -999,5,     -999,9,   1960.1,2,   2296.3,2,   8.1082,6,    25.00,  25.4970,2,    0.038,2,   46.865,2,    98.80,2,     -999,9
49NZ20120113  ,P10N       ,      64,  1,         35,12001      ,2,20120116,0408,  22.4967, 149.3330,     5712,     48.5,  24.6108,  35.1052,2,  35.1048,2,    208.8,2,    209.0,2,     0.89,2,     0.07,2,     0.01,2,     0.04,2,    1.697,2,    1.081,2,     -999,5,     -999,9,   1974.2,6,   2308.4,2,   8.0950,2,    25.00,  24.6112,2,    0.061,2,   23.902,2,    98.79,2,     -999,9
49NZ20120113  ,P10N       ,      64,  1,         34,12019      ,2,20120116,0408,  22.4967, 149.3330,     5712,    100.3,  24.3294,  35.1020,2,  35.1024,2,    209.2,2,    209.5,2,     0.92,2,     0.05,2,     0.01,2,     0.04,2,    1.722,6,    1.093,6,     -999,5,     -999,9,   1977.0,2,   2307.6,6,   8.0895,2,    25.00,  24.3289,2,    0.112,2,    4.651,2,    98.92,2,     -999,9
49NZ20120113  ,P10N       ,      64,  1,         33,12018      ,2,20120116,0408,  22.4967, 149.3330,     5712,    148.8,  20.9992,  34.9902,2,  34.9963,2,    198.6,2,    198.8,2,     1.60,2,     0.51,2,     0.09,2,     0.10,2,    2.080,2,    1.282,2,     -999,5,     -999,9,   2019.6,2,   2301.2,2,   8.0111,6,    25.00,  20.9487,2,    0.196,2,    0.641,2,    99.11,2,     -999,9
49NZ20120113  ,P10N       ,      64,  1,         32,12017      ,2,20120116,0408,  22.4967, 149.3330,     5712,    198.3,  18.7058,  34.7946,2,  34.7942,2,    195.2,2,    195.6,2,     2.76,2,     3.26,2,     0.02,2,     0.26,2,    2.286,2,    1.384,2,    0.078,2,     -999,9,   2032.5,2,   2287.8,2,   7.9678,2,    25.00,  18.7075,2,    0.040,2,    0.035,2,    99.48,2,     -999,9
49NZ20120113  ,P10N       ,      64,  1,         31,12016      ,2,20120116,0408,  22.4967, 149.3330,     5712,    249.9,  17.3562,  34.6987,2,  34.6976,2,    198.4,2,    198.3,2,     3.99,2,     5.03,2,     0.01,2,     0.38,2,    2.429,2,    1.451,2,    0.049,2,     -999,9,   2040.0,2,   2281.4,2,   7.9462,2,    25.00,  17.3566,2,    0.006,2,    0.000,2,    99.60,2,     -999,9
49NZ20120113  ,P10N       ,      64,  1,         30,12015      ,2,20120116,0408,  22.4967, 149.3330,     5712,    300.8,  16.4026,  34.6391,2,  34.6392,2,    195.0,2,    195.2,2,     5.53,2,     6.71,2,     0.01,2,     0.49,2,     -999,5,     -999,5,     -999,5,     -999,9,   2053.2,2,   2279.7,2,   7.9168,2,    25.00,  16.4033,2,    0.005,2,    0.000,2,    99.66,2,     -999,9
49NZ20120113  ,P10N       ,      64,  1,         29,12014      ,2,20120116,0408,  22.4967, 149.3330,     5712,    400.0,  13.3332,  34.4259,2,  34.4183,2,    195.7,2,    195.9,2,    11.87,2,    11.53,2,     0.01,2,     0.83,2,    2.890,2,    1.627,2,    0.045,2,     -999,9,   2085.8,2,   2273.8,2,   7.8367,2,    25.00,  13.3417,2,    0.006,2,    0.000,2,    99.74,2,     -999,9
49NZ20120113  ,P10N       ,      64,  1,         28,12101      ,2,20120116,0408,  22.4967, 149.3330,     5712,    500.3,  10.0887,  34.2031,2,  34.2007,2,    181.2,2,    180.4,2,    24.41,2,    18.58,2,     0.01,2,     1.34,2,    2.895,2,    1.547,2,    0.086,2,     -999,9,   2134.1,2,   2273.4,2,   7.7270,2,    25.00,  10.0872,2,    0.009,2,    0.000,2,    99.78,2,     -999,9
49NZ20120113  ,P10N       ,      64,  1,         27,12012      ,2,20120116,0408,  22.4967, 149.3330,     5712,    601.2,   6.9858,  34.0760,2,  34.0769,2,    125.4,2,    127.2,2,    50.54,2,    28.97,2,     0.01,2,     2.12,2,    2.089,6,    1.064,6,    0.066,6,     -999,9,   2213.9,2,   2288.9,2,   7.5587,2,    25.00,   6.9695,2,    0.013,2,    0.000,2,    99.79,2,     -999,9
49NZ20120113  ,P10N       ,      64,  1,         26,12010      ,2,20120116,0408,  22.4967, 149.3330,     5712,    700.2,   5.6239,  34.1413,2,  34.1424,2,     78.9,2,     78.3,2,    73.30,2,    35.84,2,     0.01,2,     2.64,2,    1.020,2,    0.516,2,    0.030,2,     -999,9,   2274.5,6,   2311.9,2,   7.4500,2,    25.00,   5.6232,2,    0.017,2,    0.000,2,    99.79,2,     -999,9
49NZ20120113  ,P10N       ,      64,  1,         25,12009      ,2,20120116,0408,  22.4967, 149.3330,     5712,    801.1,   4.8779,  34.2457,2,  34.2465,2,     55.2,2,     55.2,2,    89.20,2,    39.21,2,     0.01,2,     2.88,2,    0.455,2,    0.228,2,    0.011,2,     -999,9,   2308.3,2,   2332.6,6,   7.4061,2,    25.00,   4.8787,2,    0.019,2,    0.000,2,    99.81,2,     -999,9
49NZ20120113  ,P10N       ,      64,  1,         24,12008      ,2,20120116,0408,  22.4967, 149.3330,     5712,    899.6,   4.3402,  34.3824,2,  34.3773,2,     51.6,2,     51.2,2,   100.65,2,    40.50,2,     0.01,2,     2.95,2,    0.138,2,    0.068,2,    0.009,2,     -999,9,   2327.4,2,   2353.8,2,   7.4165,2,    25.00,   4.3412,2,    0.020,2,    0.000,2,    99.82,2,     -999,9
49NZ20120113  ,P10N       ,      64,  1,         23,12007      ,2,20120116,0408,  22.4967, 149.3330,     5712,    999.0,   4.0172,  34.4436,2,  34.4428,2,     57.7,2,     57.5,2,   107.27,2,    40.50,2,     0.01,2,     2.95,2,    0.061,2,    0.030,2,    0.003,2,     -999,9,   2333.8,2,   2365.6,2,   7.4291,2,    25.00,   4.0176,2,    0.018,2,    0.000,2,    99.83,2,     -999,9
49NZ20120113  ,P10N       ,      64,  1,         22,12022      ,3,20120116,0408,  22.4967, 149.3330,     5712,   1198.0,   3.4060,  34.5186,2,  34.5165,2,     72.0,2,     71.5,2,   117.98,2,    40.10,2,     0.01,2,     2.91,2,    0.020,2,    0.011,2,    0.000,2,     -999,9,   2339.6,2,   2383.1,2,   7.4575,2,    25.00,   3.4092,2,    0.017,2,    0.000,2,    99.86,2,     -999,9
49NZ20120113  ,P10N       ,      64,  1,         21,12036      ,2,20120116,0408,  22.4967, 149.3330,     5712,   1399.9,   2.9230,  34.5495,2,  34.5496,2,     81.8,2,     81.7,2,   127.40,2,    39.76,2,     0.01,2,     2.87,2,    0.013,2,    0.007,2,    0.000,2,     -999,9,   2343.7,2,   2394.0,2,   7.4730,2,    25.00,   2.9232,2,    0.015,2,    0.000,2,    99.89,2,     -999,9
49NZ20120113  ,P10N       ,      64,  1,         20,12035      ,2,20120116,0408,  22.4967, 149.3330,     5712,   1599.2,   2.5354,  34.5761,2,  34.5760,2,     89.9,2,     89.9,2,   134.14,2,    39.54,2,     0.01,2,     2.84,2,    0.006,2,    0.002,2,    0.000,2,     -999,9,   2348.9,2,   2402.3,2,   7.4854,6,    25.00,   2.5360,2,    0.016,2,    0.000,2,    99.90,2,     -999,9
49NZ20120113  ,P10N       ,      64,  1,         19,12034      ,2,20120116,0408,  22.4967, 149.3330,     5712,   1801.1,   2.2835,  34.5941,2,  34.5940,2,     97.1,2,     97.1,2,   138.37,2,    39.20,2,     0.01,2,     2.82,2,    0.007,2,    0.004,2,    0.000,2,     -999,9,   2347.4,3,   2407.7,2,   7.4970,2,    25.00,   2.2837,2,    0.015,2,    0.000,2,    99.91,2,     -999,9
49NZ20120113  ,P10N       ,      64,  1,         18,12033      ,2,20120116,0408,  22.4967, 149.3330,     5712,   2000.0,   2.0606,  34.6104,2,  34.6105,2,    103.6,2,    103.7,2,   141.60,2,    38.83,2,     0.01,2,     2.78,2,    0.003,2,    0.002,2,    0.000,2,     -999,9,   2348.6,2,   2412.3,2,   7.5069,2,    25.00,   2.0606,2,    0.014,2,    0.000,2,    99.92,2,     -999,9
49NZ20120113  ,P10N       ,      64,  1,         17,12032      ,2,20120116,0408,  22.4967, 149.3330,     5712,   2202.0,   1.8999,  34.6266,2,  34.6267,2,    110.7,2,    110.8,2,   144.57,2,    38.58,2,     0.01,2,     2.75,2,    0.002,2,    0.000,2,    0.000,2,     -999,9,   2348.9,2,   2415.3,2,   7.5181,2,    25.00,   1.8997,2,    0.014,2,    0.000,2,    99.91,2,     -999,9
49NZ20120113  ,P10N       ,      64,  1,         16,12046      ,2,20120116,0408,  22.4967, 149.3330,     5712,   2399.8,   1.8002,  34.6390,2,  34.6391,2,    117.0,2,    117.1,2,   145.27,2,    38.22,2,     0.01,2,     2.72,2,    0.000,2,    0.000,2,    0.000,2,     -999,9,   2345.4,6,   2417.0,2,   7.5298,2,    25.00,   1.8002,2,    0.013,2,    0.000,2,    99.94,2,     -999,9
49NZ20120113  ,P10N       ,      64,  1,         15,12030      ,2,20120116,0408,  22.4967, 149.3330,     5712,   2601.6,   1.7257,  34.6485,2,  34.6487,2,    122.5,2,    122.6,2,   145.74,2,    37.91,2,     0.01,2,     2.70,2,    0.000,2,    0.000,2,    0.000,2,     -999,9,   2344.1,2,   2419.1,6,   7.5386,2,    25.00,   1.7257,2,    0.012,2,    0.000,2,    99.93,2,     -999,9
49NZ20120113  ,P10N       ,      64,  1,         14,12029      ,2,20120116,0408,  22.4967, 149.3330,     5712,   2801.4,   1.6648,  34.6551,2,  34.6551,2,    126.3,2,    126.3,2,   146.32,2,    37.66,2,     0.01,2,     2.69,2,     -999,9,     -999,9,     -999,9,     -999,9,   2343.0,2,   2419.6,2,   7.5452,6,    25.00,   1.6648,2,    0.012,2,    0.000,2,    99.93,2,     -999,9
49NZ20120113  ,P10N       ,      64,  1,         13,12028      ,2,20120116,0408,  22.4967, 149.3330,     5712,   3001.2,   1.6136,  34.6629,2,  34.6626,2,    132.1,2,    132.0,2,   145.94,2,    37.30,2,     0.01,2,     2.64,2,    0.000,2,    0.000,2,    0.000,2,     -999,9,   2339.2,2,   2420.9,2,   7.5546,2,    25.00,   1.6135,2,    0.012,2,    0.000,2,    99.94,2,     -999,9
49NZ20120113  ,P10N       ,      64,  1,         12,12027      ,2,20120116,0408,  22.4967, 149.3330,     5712,   3249.2,   1.5676,  34.6692,2,  34.6693,2,    137.6,2,    137.5,2,   145.24,2,    36.94,2,     0.01,2,     2.60,2,     -999,9,     -999,9,     -999,9,     -999,9,   2335.8,2,   2420.2,2,   7.5636,2,    25.00,   1.5675,2,    0.011,2,    0.000,2,    99.94,2,     -999,9
49NZ20120113  ,P10N       ,      64,  1,         11,12011      ,2,20120116,0408,  22.4967, 149.3330,     5712,   3501.0,   1.5322,  34.6745,2,  34.6746,2,    142.7,2,    142.5,2,   144.43,2,    36.62,2,     0.01,2,     2.58,2,    0.000,2,    0.000,2,    0.000,2,     -999,9,   2333.9,2,   2419.7,2,   7.5714,2,    25.00,   1.5321,2,    0.011,2,    0.000,2,    99.94,2,     -999,9
49NZ20120113  ,P10N       ,      64,  1,         10,12026      ,2,20120116,0408,  22.4967, 149.3330,     5712,   3750.5,   1.5123,  34.6785,2,  34.6786,2,    147.0,2,    146.9,2,   143.54,2,    36.34,2,     0.01,2,     2.56,2,     -999,9,     -999,9,     -999,9,     -999,9,   2330.6,2,   2419.1,2,   7.5775,2,    25.00,   1.5124,2,    0.010,2,    0.000,2,    99.94,2,     -999,9
49NZ20120113  ,P10N       ,      64,  1,          9,12025      ,2,20120116,0408,  22.4967, 149.3330,     5712,   4001.1,   1.4884,  34.6827,2,  34.6828,2,    152.3,2,    152.0,2,   141.67,2,    35.99,2,     0.01,2,     2.53,2,    0.000,2,    0.000,2,    0.000,2,     -999,9,   2326.6,2,   2417.8,2,   7.5848,2,    25.00,   1.4884,2,    0.010,2,    0.000,2,    99.94,2,     -999,9
49NZ20120113  ,P10N       ,      64,  1,          8,12024      ,2,20120116,0408,  22.4967, 149.3330,     5712,   4250.7,   1.4849,  34.6853,2,  34.6851,2,    156.0,2,    155.7,2,   139.79,2,    35.72,2,     0.01,2,     2.51,2,     -999,9,     -999,9,     -999,9,     -999,9,   2321.5,6,   2416.6,2,   7.5896,2,    25.00,   1.4849,2,    0.010,2,    0.000,2,    99.94,2,     -999,9
49NZ20120113  ,P10N       ,      64,  1,          7,12023      ,2,20120116,0408,  22.4967, 149.3330,     5712,   4501.3,   1.4825,  34.6879,2,  34.6880,2,    159.8,2,    159.6,2,   138.20,2,    35.46,2,     0.01,2,     2.49,2,    0.001,2,    0.000,2,    0.000,2,     -999,9,   2318.0,2,   2414.4,6,   7.5958,2,    25.00,   1.4825,2,    0.010,2,    0.000,2,    99.94,2,     -999,9
49NZ20120113  ,P10N       ,      64,  1,          6,12006      ,2,20120116,0408,  22.4967, 149.3330,     5712,   4749.3,   1.4867,  34.6901,2,  34.6900,2,    163.2,2,    163.0,2,   136.39,2,    35.18,2,     0.01,2,     2.47,2,     -999,9,     -999,9,     -999,9,     -999,9,   2316.4,2,   2412.4,2,   7.5982,6,    25.00,   1.4867,2,    0.010,2,    0.000,2,    99.94,2,     -999,9
49NZ20120113  ,P10N       ,      64,  1,          5,12102      ,2,20120116,0408,  22.4967, 149.3330,     5712,   5000.5,   1.4957,  34.6921,2,  34.6918,2,    166.2,2,    166.0,2,   134.63,2,    34.96,2,     0.01,2,     2.46,2,    0.002,2,    0.000,2,    0.000,2,     -999,9,   2314.3,2,   2411.3,2,   7.6019,2,    25.00,   1.4958,2,    0.009,2,    0.000,2,    99.94,2,     -999,9
49NZ20120113  ,P10N       ,      64,  1,          4,12104      ,2,20120116,0408,  22.4967, 149.3330,     5712,   5249.6,   1.5106,  34.6933,2,  34.6931,2,    168.8,2,    168.6,2,   133.26,2,    34.80,2,     0.01,2,     2.45,2,     -999,9,     -999,9,     -999,9,     -999,9,   2310.0,2,   2409.0,2,   7.6051,2,    25.00,   1.5105,2,    0.009,2,    0.000,2,    99.94,2,     -999,9
49NZ20120113  ,P10N       ,      64,  1,          3,12003      ,2,20120116,0408,  22.4967, 149.3330,     5712,   5499.0,   1.5290,  34.6944,2,  34.6949,2,    170.8,2,    170.8,2,   131.75,2,    34.65,2,     0.01,2,     2.44,2,    0.004,2,    0.001,2,    0.000,2,     -999,9,   2307.2,2,   2407.0,2,   7.6068,2,    25.00,   1.5289,2,    0.009,2,    0.000,2,    99.93,2,     -999,9
49NZ20120113  ,P10N       ,      64,  1,          2,12103      ,2,20120116,0408,  22.4967, 149.3330,     5712,   5748.9,   1.5270,  34.6969,2,  34.6971,2,    175.4,2,    175.6,2,   129.09,2,    34.24,2,     0.01,2,     2.41,2,     -999,9,     -999,9,     -999,9,     -999,9,   2301.3,2,   2404.6,2,   7.6114,2,    25.00,   1.5269,2,    0.009,2,    0.000,2,    99.92,2,     -999,9
49NZ20120113  ,P10N       ,      64,  1,          1,12001      ,2,20120116,0408,  22.4967, 149.3330,     5712,   5810.4,   1.5288,  34.6974,2,  34.6973,2,    176.2,2,    176.3,2,   128.76,2,    34.21,2,     0.01,2,     2.41,2,    0.001,2,    0.000,2,    0.000,2,     -999,9,   2301.3,2,   2403.6,2,   7.6120,2,    25.00,   1.5287,2,    0.009,2,    0.000,2,    99.89,2,     -999,9