BOTTLE,20231026CCHSIOVAJ
EXPOCODE,SECT_ID,STNNBR,CASTNO,SAMPNO,BTLNBR,BTLNBR_FLAG_W,DATE,TIME,LATITUDE,LONGITUDE,DEPTH,CTDPRS,CTDTMP,CTDSAL,CTDSAL_FLAG_W,SALNTY,SALNTY_FLAG_W,CTDOXY,CTDOXY_FLAG_W,OXYGEN,OXYGEN_FLAG_W,SILCAT,SILCAT_FLAG_W,NITRAT,NITRAT_FLAG_W,NITRIT,NITRIT_FLAG_W,PHSPHT,PHSPHT_FLAG_W,CFC-11,CFC-11_FLAG_W,CFC-12,CFC-12_FLAG_W,CFC113,CFC113_FLAG_W,SF6,SF6_FLAG_W,TCARBN,TCARBN_FLAG_W,ALKALI,ALKALI_FLAG_W,PH_TOT,PH_TOT_FLAG_W,PH_TMP,REFTMP,REFTMP_FLAG_W,CTDFLUOR,CTDFLUOR_FLAG_W,PAR,PAR_FLAG_W,CTDXMISS,CTDXMISS_FLAG_W,CHLORA,CHLORA_FLAG_W
,,,,,,,,,,,METERS,DBAR,ITS-90,PSS-78,,PSS-78,,UMOL/KG,,UMOL/KG,,UMOL/KG,,UMOL/KG,,UMOL/KG,,UMOL/KG,,PMOL/KG,,PMOL/KG,,PMOL/KG,,FMOL/KG,,UMOL/KG,,UMOL/KG,,,,DEG C,ITS-90,,MG/M^3,,VOLTS,,%TRANS,,UG/KG,
49NZ20120113  ,P10N       ,      80,  1,          0,BUC        ,2,20120123,0035,  31.8327, 149.3275,     5695,      0.0,     -999,     -999,9,  34.7084,2,     -999,9,     -999,9,     -999,9,     -999,9,     -999,9,     -999,9,     -999,9,     -999,9,     -999,9,     -999,9,     -999,9,     -999,9,     -999,9,     -999,     -999,9,     -999,9,     -999,9,     -999,9,     -999,9
49NZ20120113  ,P10N       ,      80,  1,         36,12021      ,2,20120123,0035,  31.8327, 149.3275,     5695,     10.7,  18.5078,  34.7023,2,  34.7009,2,    226.1,2,    225.6,2,     2.23,2,     1.37,2,     0.26,2,     0.15,2,    2.161,2,    1.344,2,    0.146,2,    1.479,2,     -999,9,     -999,9,     -999,9,     -999,  18.5082,2,    0.235,2,   70.492,2,    98.44,2,     -999,9
49NZ20120113  ,P10N       ,      80,  1,         35,12001      ,2,20120123,0035,  31.8327, 149.3275,     5695,     50.6,  18.4990,  34.7017,2,  34.7004,2,    225.6,2,    224.9,2,     2.26,2,     1.38,2,     0.26,2,     0.15,2,    2.171,2,    1.349,2,    0.146,6,    1.523,6,     -999,9,     -999,9,     -999,9,     -999,  18.4995,2,    0.294,2,   26.029,2,    98.54,2,     -999,9
49NZ20120113  ,P10N       ,      80,  1,         34,12019      ,2,20120123,0035,  31.8327, 149.3275,     5695,    101.1,  18.5060,  34.7022,2,  34.7011,2,    225.2,2,    224.7,2,     2.17,2,     1.38,2,     0.27,2,     0.14,2,    2.157,6,    1.339,6,    0.144,2,    1.529,2,     -999,9,     -999,9,     -999,9,     -999,  18.5063,2,    0.258,2,    4.008,2,    98.71,2,     -999,9
49NZ20120113  ,P10N       ,      80,  1,         33,12018      ,2,20120123,0035,  31.8327, 149.3275,     5695,    150.9,  18.5111,  34.7042,2,  34.7032,2,    225.4,2,    225.1,2,     2.09,2,     1.28,2,     0.27,2,     0.14,2,    2.160,2,    1.339,2,    0.144,2,    1.495,2,     -999,9,     -999,9,     -999,9,     -999,  18.5115,2,    0.245,2,    0.245,2,    98.71,2,     -999,9
49NZ20120113  ,P10N       ,      80,  1,         32,12017      ,2,20120123,0035,  31.8327, 149.3275,     5695,    200.4,  18.5127,  34.7052,2,  34.7045,2,    225.8,2,    225.4,2,     2.15,2,     1.23,2,     0.27,2,     0.13,2,    2.169,2,    1.339,2,    0.148,2,    1.491,2,     -999,9,     -999,9,     -999,9,     -999,  18.5131,2,    0.233,2,    0.004,2,    98.76,2,     -999,9
49NZ20120113  ,P10N       ,      80,  1,         31,12016      ,2,20120123,0035,  31.8327, 149.3275,     5695,    251.4,  17.7506,  34.7204,2,  34.7197,2,    206.5,2,    206.6,2,     3.31,2,     3.95,2,     0.03,2,     0.30,2,    2.317,2,    1.404,2,    0.064,2,    1.457,2,     -999,9,     -999,9,     -999,9,     -999,  17.7512,2,    0.015,2,    0.000,2,    99.50,2,     -999,9
49NZ20120113  ,P10N       ,      80,  1,         30,12015      ,2,20120123,0035,  31.8327, 149.3275,     5695,    329.3,  17.0338,  34.7094,2,  34.7090,2,    216.0,2,    215.9,2,     3.94,2,     4.36,2,     0.02,2,     0.33,2,    2.371,2,    1.432,2,    0.080,2,    1.581,2,     -999,9,     -999,9,     -999,9,     -999,  17.0340,2,    0.004,2,    0.000,2,    99.66,2,     -999,9
49NZ20120113  ,P10N       ,      80,  1,         29,12014      ,2,20120123,0035,  31.8327, 149.3275,     5695,    430.7,  15.1579,  34.5782,2,  34.5784,2,    185.9,2,    186.0,2,    10.73,2,    10.06,2,     0.01,2,     0.72,2,    2.484,2,    1.448,2,    0.033,6,    1.211,6,     -999,9,     -999,9,     -999,9,     -999,  15.1585,2,    0.005,2,    0.000,2,    99.64,2,     -999,9
49NZ20120113  ,P10N       ,      80,  1,         28,12101      ,2,20120123,0035,  31.8327, 149.3275,     5695,    530.2,  12.4298,  34.3934,2,  34.3943,2,    180.2,2,    180.0,2,    19.44,2,    14.90,2,     0.01,2,     1.07,2,    2.621,2,    1.470,2,    0.051,2,    1.150,2,     -999,9,     -999,9,     -999,9,     -999,  12.4280,2,    0.007,2,    0.000,2,    99.69,2,     -999,9
49NZ20120113  ,P10N       ,      80,  1,         27,12012      ,2,20120123,0035,  31.8327, 149.3275,     5695,    631.0,   9.3233,  34.1649,2,  34.1660,2,    174.1,2,    173.8,2,    33.16,2,    20.56,2,     0.01,2,     1.50,2,    2.722,6,    1.472,6,    0.095,2,    1.052,2,     -999,9,     -999,9,     -999,9,     -999,   9.3272,2,    0.009,2,    0.000,2,    99.74,2,     -999,9
49NZ20120113  ,P10N       ,      80,  1,         26,12010      ,2,20120123,0035,  31.8327, 149.3275,     5695,    730.2,   6.3039,  34.0155,2,  34.0165,2,    142.8,2,    142.3,2,    56.51,2,    29.03,2,     0.01,2,     2.14,2,    2.452,2,    1.292,2,    0.115,2,    0.950,2,     -999,9,     -999,9,     -999,9,     -999,   6.3040,2,    0.013,2,    0.000,2,    99.79,2,     -999,9
49NZ20120113  ,P10N       ,      80,  1,         25,12009      ,2,20120123,0035,  31.8327, 149.3275,     5695,    832.6,   5.0128,  34.0673,2,  34.0668,2,     97.2,2,     97.0,2,    79.02,2,    35.31,2,     0.01,2,     2.60,2,    1.709,2,    0.885,2,    0.077,2,    0.521,2,     -999,9,     -999,9,     -999,9,     -999,   5.0146,2,    0.017,2,    0.000,2,    99.78,2,     -999,9
49NZ20120113  ,P10N       ,      80,  1,         24,12008      ,2,20120123,0035,  31.8327, 149.3275,     5695,    930.0,   4.5490,  34.1394,2,  34.1389,2,     73.1,2,     73.1,2,    91.99,2,    37.97,2,     0.01,2,     2.76,2,    1.220,2,    0.627,2,    0.052,2,    0.305,2,     -999,9,     -999,9,     -999,9,     -999,   4.5495,2,    0.019,2,    0.000,2,    99.76,2,     -999,9
49NZ20120113  ,P10N       ,      80,  1,         23,12007      ,2,20120123,0035,  31.8327, 149.3275,     5695,   1071.8,   3.9084,  34.2580,2,  34.2579,2,     47.7,2,     47.4,2,   111.19,2,    40.89,2,     0.01,2,     2.97,2,    0.549,2,    0.280,2,    0.017,2,    0.118,2,     -999,9,     -999,9,     -999,9,     -999,   3.9089,2,    0.020,2,    0.000,2,    99.78,2,     -999,9
49NZ20120113  ,P10N       ,      80,  1,         22,12022      ,2,20120123,0035,  31.8327, 149.3275,     5695,   1270.2,   3.2122,  34.3755,2,  34.3763,2,     39.1,2,     38.8,2,   130.60,2,    42.32,2,     0.01,2,     3.06,2,    0.208,2,    0.104,2,    0.006,2,    0.000,2,     -999,9,     -999,9,     -999,9,     -999,   3.2120,2,    0.021,2,    0.000,2,    99.77,2,     -999,9
49NZ20120113  ,P10N       ,      80,  1,         21,12036      ,2,20120123,0035,  31.8327, 149.3275,     5695,   1470.2,   2.7373,  34.4523,2,  34.4527,2,     39.6,2,     39.3,2,   143.96,2,    42.70,2,     0.01,2,     3.08,2,    0.088,2,    0.043,2,    0.002,2,    0.000,2,     -999,9,     -999,9,     -999,9,     -999,   2.7375,2,    0.021,2,    0.000,2,    99.77,2,     -999,9
49NZ20120113  ,P10N       ,      80,  1,         20,12035      ,2,20120123,0035,  31.8327, 149.3275,     5695,   1671.3,   2.3965,  34.5131,2,  34.5131,2,     45.2,2,     45.0,2,   152.77,2,    42.78,2,     0.01,2,     3.06,2,    0.031,2,    0.014,2,    0.000,2,    0.000,2,     -999,9,     -999,9,     -999,9,     -999,   2.3966,2,    0.020,2,    0.000,2,    99.79,2,     -999,9
49NZ20120113  ,P10N       ,      80,  1,         19,12034      ,2,20120123,0035,  31.8327, 149.3275,     5695,   1870.5,   2.1494,  34.5588,2,  34.5593,2,     58.4,2,     58.4,2,   156.80,2,    42.06,2,     0.01,2,     2.99,2,    0.010,2,    0.005,2,    0.000,2,    0.000,2,     -999,9,     -999,9,     -999,9,     -999,   2.1494,2,    0.019,2,    0.000,2,    99.80,2,     -999,9
49NZ20120113  ,P10N       ,      80,  1,         18,12033      ,2,20120123,0035,  31.8327, 149.3275,     5695,   2070.4,   1.9694,  34.5908,2,  34.5913,2,     72.1,2,     72.0,2,   158.70,2,    41.23,2,     0.01,2,     2.94,2,    0.005,2,    0.002,2,    0.000,2,    0.000,2,     -999,9,     -999,9,     -999,9,     -999,   1.9694,2,    0.017,2,    0.000,2,    99.82,2,     -999,9
49NZ20120113  ,P10N       ,      80,  1,         17,12032      ,2,20120123,0035,  31.8327, 149.3275,     5695,   2270.0,   1.8413,  34.6150,2,  34.6156,2,     88.9,2,     88.9,2,   156.55,2,    40.15,2,     0.01,2,     2.86,2,    0.004,2,    0.001,2,    0.000,2,    0.000,2,     -999,9,     -999,9,     -999,9,     -999,   1.8414,2,    0.016,2,    0.000,2,    99.84,2,     -999,9
49NZ20120113  ,P10N       ,      80,  1,         16,12046      ,2,20120123,0035,  31.8327, 149.3275,     5695,   2471.3,   1.7369,  34.6331,2,  34.6339,2,    102.2,2,    102.2,2,   154.59,2,    39.27,2,     0.01,2,     2.78,2,    0.000,2,    0.000,2,    0.000,2,     -999,9,     -999,9,     -999,9,     -999,9,     -999,   1.7370,2,    0.014,2,    0.000,2,    99.86,2,     -999,9
49NZ20120113  ,P10N       ,      80,  1,         15,12030      ,2,20120123,0035,  31.8327, 149.3275,     5695,   2671.3,   1.6506,  34.6470,2,  34.6478,2,    113.6,2,    113.5,2,   152.97,2,    38.47,2,     0.01,2,     2.73,2,    0.000,2,    0.000,2,    0.000,2,     -999,9,     -999,9,     -999,9,     -999,9,     -999,   1.6507,2,    0.013,2,    0.000,2,    99.88,2,     -999,9
49NZ20120113  ,P10N       ,      80,  1,         14,12029      ,2,20120123,0035,  31.8327, 149.3275,     5695,   2870.1,   1.5943,  34.6567,2,  34.6570,2,    122.8,2,    122.8,2,   151.68,2,    37.89,2,     0.01,2,     2.68,2,    0.002,2,    0.000,2,    0.000,2,    0.000,2,     -999,9,     -999,9,     -999,9,     -999,   1.5944,2,    0.012,2,    0.000,2,    99.89,2,     -999,9
49NZ20120113  ,P10N       ,      80,  1,         13,12028      ,2,20120123,0035,  31.8327, 149.3275,     5695,   3081.6,   1.5597,  34.6631,2,  34.6636,2,    129.1,2,    129.2,2,   150.25,2,    37.53,2,     0.01,2,     2.66,2,    0.001,2,    0.000,2,    0.000,2,     -999,9,     -999,9,     -999,9,     -999,9,     -999,   1.5598,2,    0.012,2,    0.000,2,    99.89,2,     -999,9
49NZ20120113  ,P10N       ,      80,  1,         12,12027      ,2,20120123,0035,  31.8327, 149.3275,     5695,   3330.5,   1.5211,  34.6702,2,  34.6708,2,    136.4,2,    136.3,2,   148.82,2,    37.10,2,     0.01,2,     2.62,2,    0.000,2,    0.000,2,    0.000,2,    0.000,2,     -999,9,     -999,9,     -999,9,     -999,   1.5214,2,    0.011,2,    0.000,2,    99.89,2,     -999,9
49NZ20120113  ,P10N       ,      80,  1,         11,12011      ,2,20120123,0035,  31.8327, 149.3275,     5695,   3580.0,   1.4923,  34.6756,2,  34.6759,2,    142.3,2,    142.2,2,   147.47,2,    36.66,2,     0.01,2,     2.58,2,    0.002,2,    0.001,2,    0.000,2,    0.000,2,     -999,9,     -999,9,     -999,9,     -999,   1.4924,2,    0.011,2,    0.000,2,    99.90,2,     -999,9
49NZ20120113  ,P10N       ,      80,  1,         10,12026      ,2,20120123,0035,  31.8327, 149.3275,     5695,   3831.6,   1.4795,  34.6797,2,  34.6798,2,    147.0,2,    146.8,2,   145.75,2,    36.30,2,     0.01,2,     2.55,2,    0.000,2,    0.000,2,    0.000,2,    0.000,2,     -999,9,     -999,9,     -999,9,     -999,   1.4796,2,    0.010,2,    0.000,2,    99.90,2,     -999,9
49NZ20120113  ,P10N       ,      80,  1,          9,12025      ,2,20120123,0035,  31.8327, 149.3275,     5695,   4080.0,   1.4701,  34.6832,2,  34.6836,2,    151.5,2,    151.2,2,   144.61,2,    36.05,2,     0.01,2,     2.55,2,    0.002,2,    0.004,2,    0.000,2,     -999,9,     -999,9,     -999,9,     -999,9,     -999,   1.4702,2,    0.010,2,    0.000,2,    99.89,2,     -999,9
49NZ20120113  ,P10N       ,      80,  1,          8,12024      ,2,20120123,0035,  31.8327, 149.3275,     5695,   4330.9,   1.4719,  34.6856,2,  34.6860,2,    154.5,2,    154.2,2,   144.35,2,    35.85,2,     0.01,2,     2.53,2,    0.001,2,    0.001,2,    0.000,2,    0.000,2,     -999,9,     -999,9,     -999,9,     -999,   1.4721,2,    0.010,2,    0.000,2,    99.89,2,     -999,9
49NZ20120113  ,P10N       ,      80,  1,          7,12023      ,2,20120123,0035,  31.8327, 149.3275,     5695,   4580.8,   1.4790,  34.6879,2,  34.6881,2,    157.9,2,    157.6,2,   142.24,2,    35.67,2,     0.01,2,     2.50,2,    0.001,2,    0.000,2,    0.000,2,     -999,9,     -999,9,     -999,9,     -999,9,     -999,   1.4791,2,    0.010,2,    0.000,2,    99.88,2,     -999,9
49NZ20120113  ,P10N       ,      80,  1,          6,12006      ,2,20120123,0035,  31.8327, 149.3275,     5695,   4829.8,   1.4888,  34.6898,2,  34.6905,2,    161.1,2,    160.8,2,   140.87,2,    35.52,2,     0.01,2,     2.49,2,    0.001,2,    0.000,2,    0.000,2,    0.000,2,     -999,9,     -999,9,     -999,9,     -999,   1.4889,2,    0.010,2,    0.000,2,    99.89,2,     -999,9
49NZ20120113  ,P10N       ,      80,  1,          5,12102      ,2,20120123,0035,  31.8327, 149.3275,     5695,   5080.7,   1.5067,  34.6912,2,  34.6913,2,    163.3,2,    163.0,2,   139.16,2,    35.27,2,     0.01,2,     2.47,2,    0.004,2,    0.003,2,    0.000,2,    0.000,2,     -999,9,     -999,9,     -999,9,     -999,   1.5071,2,    0.010,2,    0.000,2,    99.88,2,     -999,9
49NZ20120113  ,P10N       ,      80,  1,          4,12104      ,2,20120123,0035,  31.8327, 149.3275,     5695,   5328.5,   1.5263,  34.6921,2,  34.6927,2,    165.3,2,    165.1,2,   137.56,2,    35.16,2,     0.01,2,     2.47,2,    0.001,2,    0.003,2,    0.000,2,    0.000,2,     -999,9,     -999,9,     -999,9,     -999,   1.5264,2,    0.009,2,    0.000,2,    99.84,2,     -999,9
49NZ20120113  ,P10N       ,      80,  1,          3,12003      ,2,20120123,0035,  31.8327, 149.3275,     5695,   5581.0,   1.5504,  34.6929,2,  34.6936,2,    166.7,2,    166.7,2,   136.07,2,    35.00,2,     0.01,2,     2.45,2,    0.001,2,    0.001,2,    0.000,2,     -999,9,     -999,9,     -999,9,     -999,9,     -999,   1.5503,2,    0.009,2,    0.000,2,    99.79,2,     -999,9
49NZ20120113  ,P10N       ,      80,  1,          1,12001      ,2,20120123,0035,  31.8327, 149.3275,     5695,   5769.8,   1.5661,  34.6938,2,  34.6945,2,    168.5,2,    168.6,2,   134.69,2,    34.89,2,     0.01,2,     2.45,2,    0.003,2,    0.001,2,    0.000,2,    0.000,2,     -999,9,     -999,9,     -999,9,     -999,   1.5661,2,    0.009,2,    0.000,2,    99.79,2,     -999,9