BOTTLE,20231026CCHSIOVAJ
EXPOCODE,SECT_ID,STNNBR,CASTNO,SAMPNO,BTLNBR,BTLNBR_FLAG_W,DATE,TIME,LATITUDE,LONGITUDE,DEPTH,CTDPRS,CTDTMP,CTDSAL,CTDSAL_FLAG_W,SALNTY,SALNTY_FLAG_W,CTDOXY,CTDOXY_FLAG_W,OXYGEN,OXYGEN_FLAG_W,SILCAT,SILCAT_FLAG_W,NITRAT,NITRAT_FLAG_W,NITRIT,NITRIT_FLAG_W,PHSPHT,PHSPHT_FLAG_W,CFC-11,CFC-11_FLAG_W,CFC-12,CFC-12_FLAG_W,CFC113,CFC113_FLAG_W,SF6,SF6_FLAG_W,TCARBN,TCARBN_FLAG_W,ALKALI,ALKALI_FLAG_W,PH_TOT,PH_TOT_FLAG_W,PH_TMP,REFTMP,REFTMP_FLAG_W,CTDFLUOR,CTDFLUOR_FLAG_W,PAR,PAR_FLAG_W,CTDXMISS,CTDXMISS_FLAG_W,CHLORA,CHLORA_FLAG_W
,,,,,,,,,,,METERS,DBAR,ITS-90,PSS-78,,PSS-78,,UMOL/KG,,UMOL/KG,,UMOL/KG,,UMOL/KG,,UMOL/KG,,UMOL/KG,,PMOL/KG,,PMOL/KG,,PMOL/KG,,FMOL/KG,,UMOL/KG,,UMOL/KG,,,,DEG C,ITS-90,,MG/M^3,,VOLTS,,%TRANS,,UG/KG,
49NZ20120113  ,P10N       ,      85,  1,          0,BUC        ,2,20120124,2042,  33.4920, 149.3322,     6172,      0.0,     -999,     -999,9,  34.7223,2,     -999,9,     -999,9,     -999,9,     -999,9,     -999,9,     -999,9,     -999,9,     -999,9,     -999,9,     -999,9,     -999,9,     -999,9,     -999,9,     -999,     -999,9,     -999,9,     -999,9,     -999,9,     -999,9
49NZ20120113  ,P10N       ,      85,  1,         36,12021      ,2,20120124,2042,  33.4920, 149.3322,     6172,     10.3,  18.5147,  34.7078,2,  34.7071,2,    224.8,2,    223.7,2,     2.09,2,     1.35,2,     0.25,2,     0.13,2,    2.104,2,    1.307,2,    0.144,2,    1.502,2,     -999,9,     -999,9,     -999,9,     -999,  18.5151,2,    0.274,2,   65.270,2,    98.60,2,     -999,9
49NZ20120113  ,P10N       ,      85,  1,         35,12001      ,2,20120124,2042,  33.4920, 149.3322,     6172,     49.9,  18.5278,  34.7070,2,  34.7063,2,    224.6,2,    226.0,3,     2.09,2,     1.34,2,     0.26,2,     0.14,2,    2.111,2,    1.314,2,    0.143,6,    1.483,6,     -999,9,     -999,9,     -999,9,     -999,  18.5280,2,    0.290,2,    9.827,2,    98.62,2,     -999,9
49NZ20120113  ,P10N       ,      85,  1,         34,12019      ,2,20120124,2042,  33.4920, 149.3322,     6172,     99.9,  18.5398,  34.7069,2,  34.7058,2,    224.3,2,    223.6,2,     2.04,2,     1.34,2,     0.26,2,     0.15,2,    2.115,6,    1.317,6,    0.145,2,    1.445,2,     -999,9,     -999,9,     -999,9,     -999,  18.5401,2,    0.283,2,    1.056,2,    98.66,2,     -999,9
49NZ20120113  ,P10N       ,      85,  1,         33,12018      ,2,20120124,2042,  33.4920, 149.3322,     6172,    149.3,  18.5490,  34.7068,2,  34.7058,2,    224.3,2,    223.6,2,     1.98,2,     1.37,2,     0.25,2,     0.15,2,    2.116,2,    1.316,2,    0.144,2,    1.504,2,     -999,9,     -999,9,     -999,9,     -999,  18.5494,2,    0.263,2,    0.135,2,    98.70,2,     -999,9
49NZ20120113  ,P10N       ,      85,  1,         32,12017      ,2,20120124,2042,  33.4920, 149.3322,     6172,    199.5,  18.5562,  34.7061,2,  34.7058,2,    224.2,2,    223.7,2,     2.06,2,     1.35,2,     0.26,2,     0.14,2,    2.107,2,    1.314,2,    0.143,2,    1.454,2,     -999,9,     -999,9,     -999,9,     -999,  18.5562,2,    0.268,2,    0.000,2,    98.74,2,     -999,9
49NZ20120113  ,P10N       ,      85,  1,         31,12016      ,2,20120124,2042,  33.4920, 149.3322,     6172,    250.1,  17.4818,  34.7146,2,  34.7147,2,    204.2,2,    204.4,2,     3.98,2,     4.71,2,     0.02,2,     0.34,2,    2.277,2,    1.391,2,    0.053,2,    1.431,2,     -999,9,     -999,9,     -999,9,     -999,  17.4787,2,    0.004,2,    0.000,2,    99.60,2,     -999,9
49NZ20120113  ,P10N       ,      85,  1,         30,12015      ,2,20120124,2042,  33.4920, 149.3322,     6172,    300.4,  17.1485,  34.7062,2,  34.7059,2,    207.8,2,    208.2,2,     4.19,2,     4.90,2,     0.02,2,     0.35,2,    2.308,2,    1.398,2,    0.062,2,    1.367,2,     -999,9,     -999,9,     -999,9,     -999,  17.1487,2,    0.003,2,    0.000,2,    99.66,2,     -999,9
49NZ20120113  ,P10N       ,      85,  1,         29,12014      ,2,20120124,2042,  33.4920, 149.3322,     6172,    400.0,  15.8554,  34.6200,2,  34.6222,2,    184.6,2,    185.0,2,     8.75,2,     9.04,2,     0.02,2,     0.64,2,    2.384,2,    1.418,2,    0.029,6,    1.203,6,     -999,9,     -999,9,     -999,9,     -999,  15.8563,2,    0.005,2,    0.000,2,    99.65,2,     -999,9
49NZ20120113  ,P10N       ,      85,  1,         28,12024      ,2,20120124,2042,  33.4920, 149.3322,     6172,    499.7,  13.1047,  34.4561,2,  34.4572,2,    169.3,2,    169.7,2,    19.63,2,    14.83,2,     0.01,2,     1.06,2,    2.402,2,    1.370,2,    0.003,2,    1.035,2,     -999,9,     -999,9,     -999,9,     -999,  13.1054,2,    0.007,2,    0.000,2,    99.65,2,     -999,9
49NZ20120113  ,P10N       ,      85,  1,         27,12012      ,2,20120124,2042,  33.4920, 149.3322,     6172,    600.6,   9.3475,  34.1721,2,  34.1728,2,    172.7,2,    172.8,2,    33.64,2,    20.60,2,     0.01,2,     1.51,2,    2.633,6,    1.446,6,    0.103,2,    1.059,2,     -999,9,     -999,9,     -999,9,     -999,   9.3495,2,    0.009,2,    0.000,2,    99.71,2,     -999,9
49NZ20120113  ,P10N       ,      85,  1,         26,12010      ,3,20120124,2042,  33.4920, 149.3322,     6172,    698.8,   6.7594,  34.0337,2,  34.0342,2,    149.8,2,    149.8,2,    52.95,2,    27.55,2,     0.01,2,     2.03,2,    2.492,2,    1.344,2,    0.119,2,    0.967,2,     -999,9,     -999,9,     -999,9,     -999,   6.7582,2,    0.013,2,    0.000,2,    99.74,2,     -999,9
49NZ20120113  ,P10N       ,      85,  1,         25,12009      ,2,20120124,2042,  33.4920, 149.3322,     6172,    800.8,   5.3147,  34.0214,2,  34.0214,2,    117.6,2,    117.6,2,    70.84,2,    32.98,2,     0.01,2,     2.42,2,    2.104,2,    1.109,2,    0.110,2,    0.722,2,     -999,9,     -999,9,     -999,9,     -999,   5.3162,2,    0.016,2,    0.000,2,    99.75,2,     -999,9
49NZ20120113  ,P10N       ,      85,  1,         24,12008      ,2,20120124,2042,  33.4920, 149.3322,     6172,    899.9,   4.6105,  34.1181,2,  34.1181,2,     79.1,2,     79.0,2,    89.83,2,    37.38,2,     0.01,2,     2.72,2,    1.396,2,    0.722,2,    0.069,2,    0.421,2,     -999,9,     -999,9,     -999,9,     -999,   4.6104,2,    0.019,2,    0.000,2,    99.74,2,     -999,9
49NZ20120113  ,P10N       ,      85,  1,         23,12007      ,2,20120124,2042,  33.4920, 149.3322,     6172,    999.8,   4.1065,  34.2176,2,  34.2171,2,     56.6,2,     56.7,2,   105.36,2,    39.85,2,     0.01,2,     2.89,2,    0.818,2,    0.411,2,    0.038,2,    0.148,2,     -999,9,     -999,9,     -999,9,     -999,   4.1063,2,    0.020,2,    0.000,2,    99.75,2,     -999,9
49NZ20120113  ,P10N       ,      85,  1,         22,12022      ,2,20120124,2042,  33.4920, 149.3322,     6172,   1200.6,   3.3865,  34.3460,2,  34.3461,2,     43.2,2,     43.0,2,   125.75,2,    41.71,2,     0.01,2,     3.02,2,    0.309,2,    0.158,2,    0.009,2,    0.083,2,     -999,9,     -999,9,     -999,9,     -999,   3.3862,2,    0.021,2,    0.000,2,    99.74,2,     -999,9
49NZ20120113  ,P10N       ,      85,  1,         21,12036      ,2,20120124,2042,  33.4920, 149.3322,     6172,   1400.8,   2.8515,  34.4339,2,  34.4340,2,     40.5,2,     40.4,2,   140.45,2,    42.53,2,     0.01,2,     3.06,2,    0.119,2,    0.060,2,    0.004,2,    0.000,2,     -999,9,     -999,9,     -999,9,     -999,   2.8518,2,    0.021,2,    0.000,2,    99.75,2,     -999,9
49NZ20120113  ,P10N       ,      85,  1,         20,12035      ,2,20120124,2042,  33.4920, 149.3322,     6172,   1600.5,   2.5427,  34.4867,2,  34.4868,2,     43.5,2,     43.3,2,   148.65,2,    42.55,2,     0.01,2,     3.06,2,    0.059,2,    0.031,2,    0.002,2,    0.000,2,     -999,9,     -999,9,     -999,9,     -999,   2.5427,2,    0.021,2,    0.000,2,    99.74,2,     -999,9
49NZ20120113  ,P10N       ,      85,  1,         19,12034      ,2,20120124,2042,  33.4920, 149.3322,     6172,   1800.3,   2.2929,  34.5340,2,  34.5340,2,     52.3,2,     52.3,2,   153.95,2,    42.28,2,     0.01,2,     3.04,2,    0.026,2,    0.010,2,    0.001,2,    0.000,2,     -999,9,     -999,9,     -999,9,     -999,   2.2930,2,    0.020,2,    0.000,2,    99.75,2,     -999,9
49NZ20120113  ,P10N       ,      85,  1,         18,12033      ,2,20120124,2042,  33.4920, 149.3322,     6172,   1999.9,   2.1071,  34.5696,2,  34.5701,2,     64.6,2,     64.9,2,   156.37,2,    41.58,2,     0.01,2,     2.96,2,    0.010,2,    0.001,2,    0.000,2,    0.075,2,     -999,9,     -999,9,     -999,9,     -999,   2.1071,2,    0.018,2,    0.000,2,    99.77,2,     -999,9
49NZ20120113  ,P10N       ,      85,  1,         17,12032      ,2,20120124,2042,  33.4920, 149.3322,     6172,   2200.4,   1.9351,  34.5997,2,  34.6000,2,     79.2,2,     79.3,2,   157.19,2,    40.71,2,     0.01,2,     2.91,2,    0.001,2,    0.000,2,    0.000,2,     -999,9,     -999,9,     -999,9,     -999,9,     -999,   1.9349,2,    0.017,2,    0.000,2,    99.78,2,     -999,9
49NZ20120113  ,P10N       ,      85,  1,         16,12046      ,2,20120124,2042,  33.4920, 149.3322,     6172,   2401.2,   1.8167,  34.6201,2,  34.6207,2,     92.2,2,     92.4,2,   156.52,2,    39.82,2,     0.01,2,     2.83,2,    0.000,2,    0.000,2,    0.000,2,     -999,9,     -999,9,     -999,9,     -999,9,     -999,   1.8165,2,    0.015,2,    0.000,2,    99.84,2,     -999,9
49NZ20120113  ,P10N       ,      85,  1,         15,12030      ,2,20120124,2042,  33.4920, 149.3322,     6172,   2599.7,   1.7233,  34.6358,2,  34.6362,2,    103.8,2,    104.1,2,   155.25,2,    39.11,2,     0.01,2,     2.78,2,    0.003,2,    0.000,2,    0.000,2,     -999,9,     -999,9,     -999,9,     -999,9,     -999,   1.7234,2,    0.014,2,    0.000,2,    99.85,2,     -999,9
49NZ20120113  ,P10N       ,      85,  1,         14,12029      ,2,20120124,2042,  33.4920, 149.3322,     6172,   2799.4,   1.6579,  34.6470,2,  34.6473,2,    113.0,2,    113.5,2,   153.81,2,    38.52,2,     0.01,2,     2.73,2,    0.000,2,    0.000,2,    0.000,2,     -999,9,     -999,9,     -999,9,     -999,9,     -999,   1.6579,2,    0.013,2,    0.000,2,    99.86,2,     -999,9
49NZ20120113  ,P10N       ,      85,  1,         13,12028      ,2,20120124,2042,  33.4920, 149.3322,     6172,   3000.6,   1.6082,  34.6558,2,  34.6560,2,    121.7,2,    121.9,2,   152.37,2,    38.01,2,     0.01,2,     2.70,2,    0.003,2,    0.000,2,    0.001,2,    0.012,2,     -999,9,     -999,9,     -999,9,     -999,   1.6084,2,    0.013,2,    0.000,2,    99.85,2,     -999,9
49NZ20120113  ,P10N       ,      85,  1,         12,12027      ,2,20120124,2042,  33.4920, 149.3322,     6172,   3249.9,   1.5601,  34.6646,2,  34.6648,2,    130.1,2,    130.0,2,   150.53,2,    37.52,2,     0.01,2,     2.64,2,    0.000,2,    0.001,2,    0.000,2,     -999,9,     -999,9,     -999,9,     -999,9,     -999,   1.5601,2,    0.012,2,    0.000,2,    99.87,2,     -999,9
49NZ20120113  ,P10N       ,      85,  1,         11,12011      ,2,20120124,2042,  33.4920, 149.3322,     6172,   3501.2,   1.5227,  34.6716,2,  34.6713,2,    137.3,2,    137.1,2,   149.11,2,    37.02,2,     0.01,2,     2.61,2,    0.002,2,    0.000,2,    0.000,2,    0.000,2,     -999,9,     -999,9,     -999,9,     -999,   1.5227,2,    0.011,2,    0.000,2,    99.88,2,     -999,9
49NZ20120113  ,P10N       ,      85,  1,         10,12026      ,2,20120124,2042,  33.4920, 149.3322,     6172,   3750.7,   1.5028,  34.6764,2,  34.6762,2,    143.1,2,    142.8,2,   147.70,2,    36.71,2,     0.01,2,     2.58,2,    0.003,2,    0.001,2,    0.000,2,     -999,9,     -999,9,     -999,9,     -999,9,     -999,   1.5029,2,    0.011,2,    0.000,2,    99.89,2,     -999,9
49NZ20120113  ,P10N       ,      85,  1,          9,12025      ,2,20120124,2042,  33.4920, 149.3322,     6172,   4001.5,   1.4856,  34.6808,2,  34.6804,2,    148.4,2,    148.0,2,   146.44,2,    36.29,2,     0.01,2,     2.57,2,     -999,9,     -999,9,     -999,9,     -999,9,     -999,9,     -999,9,     -999,9,     -999,   1.4856,2,    0.010,2,    0.000,2,    99.89,2,     -999,9
49NZ20120113  ,P10N       ,      85,  1,          8,12024      ,2,20120124,2042,  33.4920, 149.3322,     6172,   4250.5,   1.4797,  34.6841,2,  34.6837,2,    152.5,2,    152.2,2,   145.08,2,    36.04,2,     0.01,2,     2.55,2,    0.002,2,    0.000,2,    0.000,2,     -999,9,     -999,9,     -999,9,     -999,9,     -999,   1.4798,2,    0.010,2,    0.000,2,    99.87,2,     -999,9
49NZ20120113  ,P10N       ,      85,  1,          7,12023      ,2,20120124,2042,  33.4920, 149.3322,     6172,   4500.3,   1.4800,  34.6869,2,  34.6864,2,    156.3,2,    155.9,2,   143.82,2,    35.79,2,     0.01,2,     2.52,2,     -999,9,     -999,9,     -999,9,     -999,9,     -999,9,     -999,9,     -999,9,     -999,   1.4802,2,    0.010,2,    0.000,2,    99.87,2,     -999,9
49NZ20120113  ,P10N       ,      85,  1,          6,12006      ,2,20120124,2042,  33.4920, 149.3322,     6172,   4749.8,   1.4922,  34.6885,2,  34.6886,2,    159.0,2,    158.6,2,   142.44,2,    35.60,2,     0.01,2,     2.50,2,    0.000,2,    0.000,2,    0.000,2,     -999,9,     -999,9,     -999,9,     -999,9,     -999,   1.4922,2,    0.009,2,    0.000,2,    99.89,2,     -999,9
49NZ20120113  ,P10N       ,      85,  1,          5,12102      ,2,20120124,2042,  33.4920, 149.3322,     6172,   4999.9,   1.5084,  34.6899,2,  34.6899,2,    161.2,2,    160.8,2,   141.11,2,    35.40,2,     0.01,2,     2.50,2,     -999,9,     -999,9,     -999,9,     -999,9,     -999,9,     -999,9,     -999,9,     -999,   1.5084,2,    0.009,2,    0.000,2,    99.87,2,     -999,9
49NZ20120113  ,P10N       ,      85,  1,          4,12104      ,2,20120124,2042,  33.4920, 149.3322,     6172,   5249.6,   1.5295,  34.6909,2,  34.6912,2,    163.1,2,    162.8,2,   139.72,2,    35.28,2,     0.01,2,     2.49,2,    0.000,2,    0.000,2,    0.000,2,     -999,9,     -999,9,     -999,9,     -999,9,     -999,   1.5294,2,    0.009,2,    0.000,2,    99.85,2,     -999,9
49NZ20120113  ,P10N       ,      85,  1,          3,12003      ,2,20120124,2042,  33.4920, 149.3322,     6172,   5501.6,   1.5538,  34.6917,2,  34.6917,2,    164.5,2,    163.6,2,   138.52,2,    35.18,2,     0.01,2,     2.48,2,     -999,9,     -999,9,     -999,9,     -999,9,     -999,9,     -999,9,     -999,9,     -999,   1.5538,2,    0.009,2,    0.000,2,    99.83,2,     -999,9
49NZ20120113  ,P10N       ,      85,  1,          2,12103      ,2,20120124,2042,  33.4920, 149.3322,     6172,   5749.3,   1.5809,  34.6923,2,  34.6921,2,    165.6,2,    164.7,2,   137.95,2,    35.14,2,     0.01,2,     2.47,2,    0.002,2,    0.000,2,    0.000,2,     -999,9,     -999,9,     -999,9,     -999,9,     -999,   1.5809,2,    0.009,2,    0.000,2,    99.79,2,     -999,9
49NZ20120113  ,P10N       ,      85,  1,          1,12001      ,2,20120124,2042,  33.4920, 149.3322,     6172,   6281.1,   1.6412,  34.6934,2,  34.6938,2,    167.9,2,    167.9,2,   135.57,2,    34.94,2,     0.01,2,     2.45,2,    0.001,2,    0.000,2,    0.000,2,     -999,9,     -999,9,     -999,9,     -999,9,     -999,   1.6412,2,    0.009,2,    0.000,2,    99.77,2,     -999,9