BOTTLE,20231026CCHSIOVAJ
EXPOCODE,SECT_ID,STNNBR,CASTNO,SAMPNO,BTLNBR,BTLNBR_FLAG_W,DATE,TIME,LATITUDE,LONGITUDE,DEPTH,CTDPRS,CTDTMP,CTDSAL,CTDSAL_FLAG_W,SALNTY,SALNTY_FLAG_W,CTDOXY,CTDOXY_FLAG_W,OXYGEN,OXYGEN_FLAG_W,SILCAT,SILCAT_FLAG_W,NITRAT,NITRAT_FLAG_W,NITRIT,NITRIT_FLAG_W,PHSPHT,PHSPHT_FLAG_W,CFC-11,CFC-11_FLAG_W,CFC-12,CFC-12_FLAG_W,CFC113,CFC113_FLAG_W,SF6,SF6_FLAG_W,TCARBN,TCARBN_FLAG_W,ALKALI,ALKALI_FLAG_W,PH_TOT,PH_TOT_FLAG_W,PH_TMP,REFTMP,REFTMP_FLAG_W,CTDFLUOR,CTDFLUOR_FLAG_W,PAR,PAR_FLAG_W,CTDXMISS,CTDXMISS_FLAG_W,CHLORA,CHLORA_FLAG_W
,,,,,,,,,,,METERS,DBAR,ITS-90,PSS-78,,PSS-78,,UMOL/KG,,UMOL/KG,,UMOL/KG,,UMOL/KG,,UMOL/KG,,UMOL/KG,,PMOL/KG,,PMOL/KG,,PMOL/KG,,FMOL/KG,,UMOL/KG,,UMOL/KG,,,,DEG C,ITS-90,,MG/M^3,,VOLTS,,%TRANS,,UG/KG,
49NZ20120113  ,P10N       ,      90,  1,         34,12019      ,2,20120127,0431,  34.7638, 148.8720,     6136,     25.4,  17.9887,  34.7330,2,     -999,9,    224.0,2,     -999,9,     -999,9,     -999,9,     -999,9,     -999,9,     -999,9,     -999,9,     -999,9,     -999,9,     -999,9,     -999,9,     -999,9,     -999,  17.9893,2,    0.398,2,   24.948,2,    98.26,2,     -999,9
49NZ20120113  ,P10N       ,      90,  1,         35,12001      ,2,20120127,0431,  34.7638, 148.8720,     6136,     25.5,  17.9903,  34.7330,2,     -999,9,    223.9,2,     -999,9,     -999,9,     -999,9,     -999,9,     -999,9,     -999,9,     -999,9,     -999,9,     -999,9,     -999,9,     -999,9,     -999,9,     -999,  17.9908,2,    0.363,2,   24.501,2,    98.24,2,     -999,9
49NZ20120113  ,P10N       ,      90,  1,         36,12021      ,2,20120127,0431,  34.7638, 148.8720,     6136,     27.0,  17.9890,  34.7331,2,     -999,9,    223.9,2,     -999,9,     -999,9,     -999,9,     -999,9,     -999,9,     -999,9,     -999,9,     -999,9,     -999,9,     -999,9,     -999,9,     -999,9,     -999,  17.9897,2,    0.386,2,   23.112,2,    98.22,2,     -999,9
49NZ20120113  ,P10N       ,      90,  1,         31,12016      ,2,20120127,0431,  34.7638, 148.8720,     6136,     50.8,  17.9880,  34.7330,2,     -999,9,    223.3,2,     -999,9,     -999,9,     -999,9,     -999,9,     -999,9,     -999,9,     -999,9,     -999,9,     -999,9,     -999,9,     -999,9,     -999,9,     -999,  17.9879,2,    0.344,2,    6.901,2,    98.42,2,     -999,9
49NZ20120113  ,P10N       ,      90,  1,         30,12015      ,2,20120127,0431,  34.7638, 148.8720,     6136,     50.8,  17.9889,  34.7330,2,     -999,9,    223.4,2,     -999,9,     -999,9,     -999,9,     -999,9,     -999,9,     -999,9,     -999,9,     -999,9,     -999,9,     -999,9,     -999,9,     -999,9,     -999,  17.9896,2,    0.355,2,    7.260,2,    98.41,2,     -999,9
49NZ20120113  ,P10N       ,      90,  1,         32,12017      ,2,20120127,0431,  34.7638, 148.8720,     6136,     51.0,  17.9877,  34.7330,2,     -999,9,    223.3,2,     -999,9,     -999,9,     -999,9,     -999,9,     -999,9,     -999,9,     -999,9,     -999,9,     -999,9,     -999,9,     -999,9,     -999,9,     -999,  17.9879,2,    0.371,2,    6.886,2,    98.41,2,     -999,9
49NZ20120113  ,P10N       ,      90,  1,         26,12010      ,2,20120127,0431,  34.7638, 148.8720,     6136,    101.0,  17.9654,  34.7332,2,     -999,9,    222.5,2,     -999,9,     -999,9,     -999,9,     -999,9,     -999,9,     -999,9,     -999,9,     -999,9,     -999,9,     -999,9,     -999,9,     -999,9,     -999,  17.9666,2,    0.310,2,    0.787,2,    98.62,2,     -999,9
49NZ20120113  ,P10N       ,      90,  1,         27,12012      ,2,20120127,0431,  34.7638, 148.8720,     6136,    101.1,  17.9736,  34.7332,2,     -999,9,    222.7,2,     -999,9,     -999,9,     -999,9,     -999,9,     -999,9,     -999,9,     -999,9,     -999,9,     -999,9,     -999,9,     -999,9,     -999,9,     -999,  17.9733,2,    0.340,2,    0.811,2,    98.57,2,     -999,9
49NZ20120113  ,P10N       ,      90,  1,         28,12024      ,2,20120127,0431,  34.7638, 148.8720,     6136,    101.6,  17.9752,  34.7332,2,     -999,9,    222.8,2,     -999,9,     -999,9,     -999,9,     -999,9,     -999,9,     -999,9,     -999,9,     -999,9,     -999,9,     -999,9,     -999,9,     -999,9,     -999,  17.9748,2,    0.306,2,    0.774,2,    98.55,2,     -999,9
49NZ20120113  ,P10N       ,      90,  1,         22,12022      ,2,20120127,0431,  34.7638, 148.8720,     6136,    149.5,  17.9346,  34.7332,2,     -999,9,    221.8,2,     -999,9,     -999,9,     -999,9,     -999,9,     -999,9,     -999,9,     -999,9,     -999,9,     -999,9,     -999,9,     -999,9,     -999,9,     -999,  17.9352,2,    0.234,2,    0.150,2,    98.75,2,     -999,9
49NZ20120113  ,P10N       ,      90,  1,         23,12007      ,2,20120127,0431,  34.7638, 148.8720,     6136,    150.3,  17.9345,  34.7332,2,     -999,9,    221.9,2,     -999,9,     -999,9,     -999,9,     -999,9,     -999,9,     -999,9,     -999,9,     -999,9,     -999,9,     -999,9,     -999,9,     -999,9,     -999,  17.9349,2,    0.250,2,    0.146,2,    98.74,2,     -999,9
49NZ20120113  ,P10N       ,      90,  1,         24,12008      ,2,20120127,0431,  34.7638, 148.8720,     6136,    151.9,  17.9351,  34.7332,2,     -999,9,    221.8,2,     -999,9,     -999,9,     -999,9,     -999,9,     -999,9,     -999,9,     -999,9,     -999,9,     -999,9,     -999,9,     -999,9,     -999,9,     -999,  17.9355,2,    0.258,2,    0.133,2,    98.74,2,     -999,9
49NZ20120113  ,P10N       ,      90,  1,         18,12033      ,2,20120127,0431,  34.7638, 148.8720,     6136,    200.3,  17.4334,  34.7088,2,     -999,9,    198.6,2,     -999,9,     -999,9,     -999,9,     -999,9,     -999,9,     -999,9,     -999,9,     -999,9,     -999,9,     -999,9,     -999,9,     -999,9,     -999,  17.4312,2,    0.006,2,    0.000,2,    99.59,2,     -999,9
49NZ20120113  ,P10N       ,      90,  1,         19,12034      ,2,20120127,0431,  34.7638, 148.8720,     6136,    201.4,  17.4125,  34.7083,2,     -999,9,    198.6,2,     -999,9,     -999,9,     -999,9,     -999,9,     -999,9,     -999,9,     -999,9,     -999,9,     -999,9,     -999,9,     -999,9,     -999,9,     -999,  17.4032,2,    0.005,2,    0.000,2,    99.61,2,     -999,9
49NZ20120113  ,P10N       ,      90,  1,         20,12035      ,2,20120127,0431,  34.7638, 148.8720,     6136,    201.8,  17.3974,  34.7082,2,     -999,9,    198.8,2,     -999,9,     -999,9,     -999,9,     -999,9,     -999,9,     -999,9,     -999,9,     -999,9,     -999,9,     -999,9,     -999,9,     -999,9,     -999,  17.3967,2,    0.005,2,    0.000,2,    99.60,2,     -999,9
49NZ20120113  ,P10N       ,      90,  1,         16,12046      ,2,20120127,0431,  34.7638, 148.8720,     6136,    279.5,  16.4092,  34.6439,2,     -999,9,    184.0,2,     -999,9,     -999,9,     -999,9,     -999,9,     -999,9,     -999,9,     -999,9,     -999,9,     -999,9,     -999,9,     -999,9,     -999,9,     -999,  16.4084,2,    0.006,2,    0.000,2,    99.60,2,     -999,9
49NZ20120113  ,P10N       ,      90,  1,         15,12030      ,2,20120127,0431,  34.7638, 148.8720,     6136,    279.8,  16.4166,  34.6442,2,     -999,9,    183.8,2,     -999,9,     -999,9,     -999,9,     -999,9,     -999,9,     -999,9,     -999,9,     -999,9,     -999,9,     -999,9,     -999,9,     -999,9,     -999,  16.4104,2,    0.006,2,    0.000,2,    99.61,2,     -999,9
49NZ20120113  ,P10N       ,      90,  1,         14,12029      ,2,20120127,0431,  34.7638, 148.8720,     6136,    280.6,  16.4202,  34.6446,2,     -999,9,    183.8,2,     -999,9,     -999,9,     -999,9,     -999,9,     -999,9,     -999,9,     -999,9,     -999,9,     -999,9,     -999,9,     -999,9,     -999,9,     -999,  16.4239,2,    0.006,2,    0.000,2,    99.62,2,     -999,9
49NZ20120113  ,P10N       ,      90,  1,         11,12011      ,2,20120127,0431,  34.7638, 148.8720,     6136,    368.7,  14.0722,  34.5145,2,     -999,9,    174.8,2,     -999,9,     -999,9,     -999,9,     -999,9,     -999,9,     -999,9,     -999,9,     -999,9,     -999,9,     -999,9,     -999,9,     -999,9,     -999,  14.0685,2,    0.006,2,    0.000,2,    99.68,2,     -999,9
49NZ20120113  ,P10N       ,      90,  1,         12,12027      ,2,20120127,0431,  34.7638, 148.8720,     6136,    368.7,  14.0721,  34.5146,2,     -999,9,    174.8,2,     -999,9,     -999,9,     -999,9,     -999,9,     -999,9,     -999,9,     -999,9,     -999,9,     -999,9,     -999,9,     -999,9,     -999,9,     -999,  14.0662,2,    0.007,2,    0.000,2,    99.68,2,     -999,9
49NZ20120113  ,P10N       ,      90,  1,         10,12026      ,2,20120127,0431,  34.7638, 148.8720,     6136,    369.6,  14.0627,  34.5140,2,     -999,9,    174.8,2,     -999,9,     -999,9,     -999,9,     -999,9,     -999,9,     -999,9,     -999,9,     -999,9,     -999,9,     -999,9,     -999,9,     -999,9,     -999,  14.0604,2,    0.006,2,    0.000,2,    99.69,2,     -999,9
49NZ20120113  ,P10N       ,      90,  1,          6,12006      ,2,20120127,0431,  34.7638, 148.8720,     6136,    570.1,   7.9636,  34.1599,2,     -999,9,    143.1,2,     -999,9,     -999,9,     -999,9,     -999,9,     -999,9,     -999,9,     -999,9,     -999,9,     -999,9,     -999,9,     -999,9,     -999,9,     -999,   7.9631,2,    0.012,2,    0.000,2,    99.73,2,     -999,9
49NZ20120113  ,P10N       ,      90,  1,          7,12023      ,2,20120127,0431,  34.7638, 148.8720,     6136,    570.4,   7.9600,  34.1596,2,     -999,9,    143.1,2,     -999,9,     -999,9,     -999,9,     -999,9,     -999,9,     -999,9,     -999,9,     -999,9,     -999,9,     -999,9,     -999,9,     -999,9,     -999,   7.9602,2,    0.012,2,    0.000,2,    99.73,2,     -999,9
49NZ20120113  ,P10N       ,      90,  1,          8,12024      ,2,20120127,0431,  34.7638, 148.8720,     6136,    571.3,   7.9473,  34.1589,2,     -999,9,    143.1,2,     -999,9,     -999,9,     -999,9,     -999,9,     -999,9,     -999,9,     -999,9,     -999,9,     -999,9,     -999,9,     -999,9,     -999,9,     -999,   7.9498,2,    0.012,2,    0.000,2,    99.75,2,     -999,9
49NZ20120113  ,P10N       ,      90,  1,          2,12103      ,2,20120127,0431,  34.7638, 148.8720,     6136,    772.6,   4.7232,  34.1766,2,     -999,9,     74.9,2,     -999,9,     -999,9,     -999,9,     -999,9,     -999,9,     -999,9,     -999,9,     -999,9,     -999,9,     -999,9,     -999,9,     -999,9,     -999,   4.7229,2,    0.019,2,    0.000,2,    99.77,2,     -999,9
49NZ20120113  ,P10N       ,      90,  1,          4,12104      ,2,20120127,0431,  34.7638, 148.8720,     6136,    772.7,   4.7237,  34.1778,2,     -999,9,     74.9,2,     -999,9,     -999,9,     -999,9,     -999,9,     -999,9,     -999,9,     -999,9,     -999,9,     -999,9,     -999,9,     -999,9,     -999,9,     -999,   4.7234,2,    0.019,2,    0.000,2,    99.75,2,     -999,9
49NZ20120113  ,P10N       ,      90,  1,          3,12003      ,2,20120127,0431,  34.7638, 148.8720,     6136,    773.3,   4.7231,  34.1778,2,     -999,9,     74.8,2,     -999,9,     -999,9,     -999,9,     -999,9,     -999,9,     -999,9,     -999,9,     -999,9,     -999,9,     -999,9,     -999,9,     -999,9,     -999,   4.7228,2,    0.019,2,    0.000,2,    99.75,2,     -999,9
49NZ20120113  ,P10N       ,      90,  2,          0,BUC        ,2,20120127,1559,  34.7638, 148.8720,     6136,      0.0,     -999,     -999,9,  34.7254,2,     -999,9,     -999,9,     -999,9,     -999,9,     -999,9,     -999,9,     -999,9,     -999,9,     -999,9,     -999,9,     -999,9,     -999,9,     -999,9,     -999,     -999,9,     -999,9,     -999,9,     -999,9,     -999,9
49NZ20120113  ,P10N       ,      90,  2,         12,12020      ,2,20120127,1559,  34.7638, 148.8720,     6136,   3170.1,   1.5479,  34.6656,2,  34.6654,2,    130.4,2,    130.4,2,   150.59,2,    37.45,2,     0.01,2,     2.65,2,    0.000,2,    0.000,2,    0.000,2,     -999,9,   2340.4,2,   2421.8,2,   7.5479,2,    25.00,   1.5479,2,     -999,9,     -999,9,     -999,9,     -999,9
49NZ20120113  ,P10N       ,      90,  2,         11,12041      ,2,20120127,1559,  34.7638, 148.8720,     6136,   3419.9,   1.5184,  34.6713,2,  34.6715,2,    136.3,2,    136.4,2,   149.61,2,    37.06,2,     0.01,2,     2.63,2,     -999,9,     -999,9,     -999,9,     -999,9,   2336.5,2,   2422.1,2,   7.5579,2,    25.00,   1.5185,2,     -999,9,     -999,9,     -999,9,     -999,9
49NZ20120113  ,P10N       ,      90,  2,         10,12016      ,2,20120127,1559,  34.7638, 148.8720,     6136,   3669.6,   1.4944,  34.6765,2,  34.6764,2,    142.1,2,    142.2,2,   148.08,2,    36.72,2,     0.01,2,     2.60,2,    0.000,2,    0.000,2,    0.000,2,     -999,9,   2331.8,2,   2421.4,2,   7.5677,2,    25.00,   1.4944,2,     -999,9,     -999,9,     -999,9,     -999,9
49NZ20120113  ,P10N       ,      90,  2,          9,12025      ,2,20120127,1559,  34.7638, 148.8720,     6136,   3918.1,   1.4780,  34.6807,2,  34.6808,2,    147.4,2,    147.7,2,   146.79,2,    36.31,2,     0.01,2,     2.59,2,     -999,9,     -999,9,     -999,9,     -999,9,   2329.3,2,   2420.8,2,   7.5759,2,    25.00,   1.4780,2,     -999,9,     -999,9,     -999,9,     -999,9
49NZ20120113  ,P10N       ,      90,  2,          8,12015      ,2,20120127,1559,  34.7638, 148.8720,     6136,   4169.0,   1.4726,  34.6841,2,  34.6839,2,    151.7,2,    152.1,2,   144.87,2,    36.08,2,     0.01,2,     2.55,2,    0.000,2,    0.000,2,    0.000,2,     -999,9,   2324.8,6,   2420.7,2,   7.5824,2,    25.00,   1.4728,2,     -999,9,     -999,9,     -999,9,     -999,9
49NZ20120113  ,P10N       ,      90,  2,          7,12050      ,2,20120127,1559,  34.7638, 148.8720,     6136,   4420.9,   1.4814,  34.6859,2,  34.6861,2,    154.3,2,    154.5,2,   144.34,2,    35.88,2,     0.01,2,     2.53,2,     -999,9,     -999,9,     -999,9,     -999,9,   2322.4,2,   2419.0,6,   7.5865,2,    25.00,   1.4813,2,     -999,9,     -999,9,     -999,9,     -999,9
49NZ20120113  ,P10N       ,      90,  2,          6,12014      ,2,20120127,1559,  34.7638, 148.8720,     6136,   4670.8,   1.4919,  34.6878,2,  34.6878,2,    157.1,2,    157.4,2,   143.06,2,    35.66,2,     0.01,2,     2.52,2,    0.000,2,    0.001,2,    0.000,2,     -999,9,   2320.5,2,   2418.4,2,   7.5852,2,    25.00,   1.4919,2,     -999,9,     -999,9,     -999,9,     -999,9
49NZ20120113  ,P10N       ,      90,  2,          5,12105      ,2,20120127,1559,  34.7638, 148.8720,     6136,   4920.1,   1.5068,  34.6893,2,  34.6892,2,    159.4,2,    159.7,2,   141.90,2,    35.58,2,     0.01,2,     2.50,2,     -999,9,     -999,9,     -999,9,     -999,9,   2317.5,2,   2417.2,2,   7.5880,3,    25.00,   1.5068,2,     -999,9,     -999,9,     -999,9,     -999,9
49NZ20120113  ,P10N       ,      90,  2,          4,12028      ,2,20120127,1559,  34.7638, 148.8720,     6136,   5171.0,   1.5258,  34.6906,2,  34.6907,2,    161.4,2,    161.7,2,   140.47,2,    35.39,2,     0.01,2,     2.48,2,    0.005,2,    0.002,2,    0.000,2,     -999,9,   2316.6,2,   2416.3,2,   7.5953,2,    25.00,   1.5258,2,     -999,9,     -999,9,     -999,9,     -999,9
49NZ20120113  ,P10N       ,      90,  2,          3,12044      ,2,20120127,1559,  34.7638, 148.8720,     6136,   5419.4,   1.5473,  34.6914,2,  34.6917,2,    163.2,2,    163.6,2,   139.16,2,    35.24,2,     0.01,2,     2.49,2,     -999,9,     -999,9,     -999,9,     -999,9,   2313.7,2,   2415.3,2,   7.5973,2,    25.00,   1.5472,2,     -999,9,     -999,9,     -999,9,     -999,9
49NZ20120113  ,P10N       ,      90,  2,          2,12040      ,2,20120127,1559,  34.7638, 148.8720,     6136,   5672.7,   1.5722,  34.6923,2,  34.6921,2,    164.6,2,    164.7,2,   138.05,2,    35.03,2,     0.01,2,     2.48,2,    0.002,2,    0.001,2,    0.000,2,     -999,9,   2312.3,2,   2414.5,2,   7.5994,2,    25.00,   1.5722,2,     -999,9,     -999,9,     -999,9,     -999,9
49NZ20120113  ,P10N       ,      90,  2,          1,12034      ,2,20120127,1559,  34.7638, 148.8720,     6136,   6248.2,   1.6394,  34.6938,2,  34.6937,2,    167.1,2,    167.2,2,   136.15,2,    34.96,2,     0.01,2,     2.48,2,    0.000,2,    0.000,2,    0.000,2,     -999,9,   2309.7,2,   2412.1,2,   7.6014,2,    25.00,   1.6394,2,     -999,9,     -999,9,     -999,9,     -999,9