BOTTLE,20231026CCHSIOVAJ
EXPOCODE,SECT_ID,STNNBR,CASTNO,SAMPNO,BTLNBR,BTLNBR_FLAG_W,DATE,TIME,LATITUDE,LONGITUDE,DEPTH,CTDPRS,CTDTMP,CTDSAL,CTDSAL_FLAG_W,SALNTY,SALNTY_FLAG_W,CTDOXY,CTDOXY_FLAG_W,OXYGEN,OXYGEN_FLAG_W,SILCAT,SILCAT_FLAG_W,NITRAT,NITRAT_FLAG_W,NITRIT,NITRIT_FLAG_W,PHSPHT,PHSPHT_FLAG_W,CFC-11,CFC-11_FLAG_W,CFC-12,CFC-12_FLAG_W,CFC113,CFC113_FLAG_W,SF6,SF6_FLAG_W,TCARBN,TCARBN_FLAG_W,ALKALI,ALKALI_FLAG_W,PH_TOT,PH_TOT_FLAG_W,PH_TMP,REFTMP,REFTMP_FLAG_W,CTDFLUOR,CTDFLUOR_FLAG_W,PAR,PAR_FLAG_W,CTDXMISS,CTDXMISS_FLAG_W,CHLORA,CHLORA_FLAG_W
,,,,,,,,,,,METERS,DBAR,ITS-90,PSS-78,,PSS-78,,UMOL/KG,,UMOL/KG,,UMOL/KG,,UMOL/KG,,UMOL/KG,,UMOL/KG,,PMOL/KG,,PMOL/KG,,PMOL/KG,,FMOL/KG,,UMOL/KG,,UMOL/KG,,,,DEG C,ITS-90,,MG/M^3,,VOLTS,,%TRANS,,UG/KG,
49NZ20120113  ,P10N       ,      72,  1,          0,BUC        ,2,20120118,1954,  27.1647, 149.3343,     5889,      0.0,     -999,     -999,9,  34.9826,2,     -999,9,     -999,9,     -999,9,     -999,9,     -999,9,     -999,9,     -999,9,     -999,9,     -999,9,     -999,9,     -999,9,     -999,9,     -999,9,     -999,     -999,9,     -999,9,     -999,9,     -999,9,     -999,9
49NZ20120113  ,P10N       ,      72,  1,         36,12021      ,2,20120118,1954,  27.1647, 149.3343,     5889,     10.4,  22.2160,  34.9609,2,  34.9593,2,    214.9,2,    215.0,2,     1.28,2,     0.10,2,     0.01,2,     0.04,2,    1.870,2,    1.176,2,    0.140,2,    1.350,2,     -999,9,     -999,9,     -999,9,     -999,  22.2169,2,    0.115,2,  110.994,2,    98.86,2,     -999,9
49NZ20120113  ,P10N       ,      72,  1,         35,12001      ,2,20120118,1954,  27.1647, 149.3343,     5889,     50.7,  22.2262,  34.9595,2,  34.9589,2,    214.8,2,    215.0,2,     1.19,2,     0.09,2,     0.01,2,     0.04,2,    1.875,2,    1.179,2,    0.139,6,    1.337,6,     -999,9,     -999,9,     -999,9,     -999,  22.2266,2,    0.147,2,   10.271,2,    98.87,2,     -999,9
49NZ20120113  ,P10N       ,      72,  1,         34,12019      ,2,20120118,1954,  27.1647, 149.3343,     5889,     99.8,  22.0375,  34.9383,2,  34.9372,2,    213.9,2,    214.2,2,     1.28,2,     0.16,2,     0.03,2,     0.04,2,    1.904,6,    1.192,6,    0.128,2,    1.343,2,     -999,9,     -999,9,     -999,9,     -999,  22.0424,2,    0.146,2,    2.561,2,    98.97,2,     -999,9
49NZ20120113  ,P10N       ,      72,  1,         33,12018      ,2,20120118,1954,  27.1647, 149.3343,     5889,    150.1,  20.1381,  34.8956,2,  34.8966,2,    205.3,2,    206.0,2,     1.83,2,     0.95,2,     0.04,2,     0.12,2,    2.153,2,    1.325,2,    0.110,2,    1.349,2,     -999,9,     -999,9,     -999,9,     -999,  20.1286,2,    0.108,2,    0.208,2,    99.31,2,     -999,9
49NZ20120113  ,P10N       ,      72,  1,         32,12017      ,2,20120118,1954,  27.1647, 149.3343,     5889,    199.5,  18.1911,  34.7615,2,  34.7584,2,    199.5,2,    199.6,2,     2.87,2,     3.67,2,     0.02,2,     0.28,2,    2.337,2,    1.415,2,    0.047,2,    1.400,2,     -999,9,     -999,9,     -999,9,     -999,  18.1936,2,    0.021,2,    0.000,2,    99.58,2,     -999,9
49NZ20120113  ,P10N       ,      72,  1,         31,12016      ,2,20120118,1954,  27.1647, 149.3343,     5889,    250.7,  17.2381,  34.6974,2,  34.6952,2,    195.9,2,    196.4,2,     4.00,2,     5.38,2,     0.02,2,     0.40,2,    2.458,2,    1.464,2,    0.026,2,    1.345,2,     -999,9,     -999,9,     -999,9,     -999,  17.2385,2,    0.006,2,    0.000,2,    99.65,2,     -999,9
49NZ20120113  ,P10N       ,      72,  1,         30,12015      ,2,20120118,1954,  27.1647, 149.3343,     5889,    279.8,  16.6935,  34.6613,2,  34.6603,2,    195.7,2,    196.0,2,     4.83,2,     6.19,2,     0.01,2,     0.45,2,    2.511,2,    1.492,2,    0.027,2,    1.322,2,     -999,9,     -999,9,     -999,9,     -999,  16.6985,2,    0.005,2,    0.000,2,    99.66,2,     -999,9
49NZ20120113  ,P10N       ,      72,  1,         29,12014      ,2,20120118,1954,  27.1647, 149.3343,     5889,    369.2,  14.8854,  34.5325,2,  34.5329,2,    192.1,2,    192.4,2,     8.21,2,     9.14,2,     0.02,2,     0.67,2,    2.726,2,    1.586,2,    0.025,6,    1.232,6,     -999,9,     -999,9,     -999,9,     -999,  14.8869,2,    0.005,2,    0.000,2,    99.69,2,     -999,9
49NZ20120113  ,P10N       ,      72,  1,         28,12101      ,2,20120118,1954,  27.1647, 149.3343,     5889,    469.7,  12.4270,  34.3710,2,  34.3724,2,    190.4,2,    190.5,2,    15.21,2,    13.50,2,     0.02,2,     0.98,2,    2.885,2,    1.609,2,    0.046,2,    1.093,2,     -999,9,     -999,9,     -999,9,     -999,  12.4294,2,    0.006,2,    0.000,2,    99.75,2,     -999,9
49NZ20120113  ,P10N       ,      72,  1,         27,12012      ,2,20120118,1954,  27.1647, 149.3343,     5889,    569.6,   9.4706,  34.1947,2,  34.1970,2,    167.8,2,    167.9,2,    32.24,2,    20.87,2,     0.02,2,     1.51,2,    2.681,6,    1.440,6,    0.071,2,    0.898,2,     -999,9,     -999,9,     -999,9,     -999,   9.4794,2,    0.009,2,    0.000,2,    99.78,2,     -999,9
49NZ20120113  ,P10N       ,      72,  1,         26,12010      ,2,20120118,1954,  27.1647, 149.3343,     5889,    670.0,   6.7494,  34.0658,2,  34.0657,2,    133.5,2,    137.8,2,    53.09,2,    28.32,2,     0.01,2,     2.07,2,    2.292,2,    1.200,2,    0.084,2,    0.734,2,     -999,9,     -999,9,     -999,9,     -999,   6.7726,2,    0.013,2,    0.000,2,    99.79,2,     -999,9
49NZ20120113  ,P10N       ,      72,  1,         25,12009      ,2,20120118,1954,  27.1647, 149.3343,     5889,    769.8,   5.2989,  34.0794,2,  34.0785,2,     95.9,2,     96.5,2,    75.32,2,    34.73,2,     0.01,2,     2.54,2,    1.587,2,    0.814,2,    0.060,2,    0.455,2,     -999,9,     -999,9,     -999,9,     -999,   5.2992,2,    0.016,2,    0.000,2,    99.79,2,     -999,9
49NZ20120113  ,P10N       ,      72,  1,         24,12008      ,2,20120118,1954,  27.1647, 149.3343,     5889,    870.0,   4.6481,  34.1540,2,  34.1563,2,     67.1,2,     66.7,2,    91.39,2,    38.19,2,     0.01,2,     2.78,2,    0.954,2,    0.482,2,    0.034,2,    0.224,2,     -999,9,     -999,9,     -999,9,     -999,   4.6484,2,    0.019,2,    0.000,2,    99.79,2,     -999,9
49NZ20120113  ,P10N       ,      72,  1,         23,12007      ,2,20120118,1954,  27.1647, 149.3343,     5889,    971.3,   4.0290,  34.2655,2,  34.2668,2,     45.7,2,     45.6,2,   108.31,2,    40.88,2,     0.01,2,     2.96,2,    0.407,2,    0.202,2,    0.010,2,    0.100,2,     -999,9,     -999,9,     -999,9,     -999,   4.0289,2,    0.020,2,    0.000,2,    99.79,2,     -999,9
49NZ20120113  ,P10N       ,      72,  1,         22,12022      ,2,20120118,1954,  27.1647, 149.3343,     5889,   1129.7,   3.5051,  34.3641,2,  34.3639,2,     39.6,2,     39.5,2,   122.65,2,    42.16,2,     0.01,2,     3.05,2,    0.152,2,    0.075,2,    0.004,2,    0.000,2,     -999,9,     -999,9,     -999,9,     -999,   3.5049,2,    0.021,2,    0.000,2,    99.82,2,     -999,9
49NZ20120113  ,P10N       ,      72,  1,         21,12036      ,2,20120118,1954,  27.1647, 149.3343,     5889,   1329.8,   2.9729,  34.4561,2,  34.4556,2,     44.1,2,     44.1,2,   135.72,2,    42.35,2,     0.01,2,     3.06,2,    0.039,2,    0.020,2,    0.001,2,    0.000,2,     -999,9,     -999,9,     -999,9,     -999,   2.9728,2,    0.021,2,    0.000,2,    99.84,2,     -999,9
49NZ20120113  ,P10N       ,      72,  1,         20,12035      ,2,20120118,1954,  27.1647, 149.3343,     5889,   1529.8,   2.5569,  34.5209,2,  34.5212,2,     57.9,2,     58.2,2,   144.01,2,    41.81,2,     0.01,2,     3.00,2,    0.015,2,    0.008,2,    0.000,2,    0.053,2,     -999,9,     -999,9,     -999,9,     -999,   2.5569,2,    0.018,2,    0.000,2,    99.85,2,     -999,9
49NZ20120113  ,P10N       ,      72,  1,         19,12034      ,2,20120118,1954,  27.1647, 149.3343,     5889,   1730.6,   2.2525,  34.5622,2,  34.5620,2,     71.4,2,     71.5,2,   148.46,2,    41.15,2,     0.01,2,     2.94,2,    0.007,2,    0.003,2,    0.000,2,    0.034,2,     -999,9,     -999,9,     -999,9,     -999,   2.2527,2,    0.018,2,    0.000,2,    99.86,2,     -999,9
49NZ20120113  ,P10N       ,      72,  1,         18,12033      ,2,20120118,1954,  27.1647, 149.3343,     5889,   1931.5,   2.0524,  34.5928,2,  34.5928,2,     87.2,2,     87.4,2,   148.97,2,    40.17,2,     0.01,2,     2.85,2,    0.003,2,    0.002,2,    0.000,2,    0.000,2,     -999,9,     -999,9,     -999,9,     -999,   2.0525,2,    0.016,2,    0.000,2,    99.90,2,     -999,9
49NZ20120113  ,P10N       ,      72,  1,         17,12032      ,2,20120118,1954,  27.1647, 149.3343,     5889,   2129.9,   1.8790,  34.6159,2,  34.6163,2,     99.9,2,    100.1,2,   149.32,2,    39.38,2,     0.01,2,     2.80,2,    0.001,2,    0.001,2,    0.000,2,    0.078,2,     -999,9,     -999,9,     -999,9,     -999,   1.8790,2,    0.015,2,    0.000,2,    99.90,2,     -999,9
49NZ20120113  ,P10N       ,      72,  1,         16,12046      ,2,20120118,1954,  27.1647, 149.3343,     5889,   2331.3,   1.7707,  34.6315,2,  34.6317,2,    107.8,2,    108.1,2,   150.26,2,    38.87,2,     0.01,2,     2.77,2,    0.001,2,    0.001,2,    0.000,2,     -999,9,     -999,9,     -999,9,     -999,9,     -999,   1.7708,2,    0.014,2,    0.000,2,    99.90,2,     -999,9
49NZ20120113  ,P10N       ,      72,  1,         15,12030      ,2,20120118,1954,  27.1647, 149.3343,     5889,   2530.0,   1.7047,  34.6426,2,  34.6426,2,    116.4,2,    116.6,2,   149.32,2,    38.34,2,     0.01,2,     2.72,2,    0.000,2,    0.000,2,    0.000,2,     -999,9,     -999,9,     -999,9,     -999,9,     -999,   1.7048,2,    0.013,2,    0.000,2,    99.92,2,     -999,9
49NZ20120113  ,P10N       ,      72,  1,         14,12029      ,2,20120118,1954,  27.1647, 149.3343,     5889,   2731.2,   1.6302,  34.6532,2,  34.6531,2,    124.0,2,    124.1,2,   148.77,2,    37.90,2,     0.01,2,     2.69,2,    0.000,2,    0.000,2,    0.000,2,    0.000,2,     -999,9,     -999,9,     -999,9,     -999,   1.6301,2,    0.013,2,    0.000,2,    99.93,2,     -999,9
49NZ20120113  ,P10N       ,      72,  1,         13,12028      ,2,20120118,1954,  27.1647, 149.3343,     5889,   2931.2,   1.5842,  34.6603,2,  34.6605,2,    129.6,2,    129.8,2,   147.99,2,    37.51,2,     0.01,2,     2.66,2,    0.004,2,    0.003,2,    0.000,2,     -999,9,     -999,9,     -999,9,     -999,9,     -999,   1.5842,2,    0.012,2,    0.000,2,    99.93,2,     -999,9
49NZ20120113  ,P10N       ,      72,  1,         12,12027      ,2,20120118,1954,  27.1647, 149.3343,     5889,   3170.2,   1.5474,  34.6670,2,  34.6668,2,    135.0,2,    135.3,2,   147.09,2,    37.03,2,     0.01,2,     2.60,2,     -999,9,     -999,9,     -999,9,     -999,9,     -999,9,     -999,9,     -999,9,     -999,   1.5474,2,    0.011,2,    0.000,2,    99.93,2,     -999,9
49NZ20120113  ,P10N       ,      72,  1,         11,12011      ,2,20120118,1954,  27.1647, 149.3343,     5889,   3419.6,   1.5192,  34.6721,2,  34.6721,2,    139.9,2,    140.0,2,   147.12,2,    36.76,2,     0.01,2,     2.59,2,    0.000,2,    0.000,2,    0.000,2,    0.000,2,     -999,9,     -999,9,     -999,9,     -999,   1.5191,2,    0.010,2,    0.000,2,    99.93,2,     -999,9
49NZ20120113  ,P10N       ,      72,  1,         10,12026      ,2,20120118,1954,  27.1647, 149.3343,     5889,   3670.9,   1.4991,  34.6765,2,  34.6765,2,    144.3,2,    144.2,2,   146.12,2,    36.54,2,     0.01,2,     2.56,2,     -999,9,     -999,9,     -999,9,     -999,9,     -999,9,     -999,9,     -999,9,     -999,   1.4990,2,    0.011,2,    0.000,2,    99.93,2,     -999,9
49NZ20120113  ,P10N       ,      72,  1,          9,12025      ,2,20120118,1954,  27.1647, 149.3343,     5889,   3919.8,   1.4854,  34.6803,2,  34.6802,2,    148.3,2,    148.2,2,   145.80,2,    36.31,2,     0.01,2,     2.54,2,    0.001,2,    0.000,2,    0.000,2,     -999,9,     -999,9,     -999,9,     -999,9,     -999,   1.4855,2,    0.010,2,    0.000,2,    99.92,2,     -999,9
49NZ20120113  ,P10N       ,      72,  1,          8,12024      ,2,20120118,1954,  27.1647, 149.3343,     5889,   4170.4,   1.4746,  34.6839,2,  34.6839,2,    153.0,2,    152.9,2,   144.05,2,    35.81,2,     0.01,2,     2.52,2,    0.000,2,    0.001,2,    0.000,2,    0.000,2,     -999,9,     -999,9,     -999,9,     -999,   1.4745,2,    0.010,2,    0.000,2,    99.92,2,     -999,9
49NZ20120113  ,P10N       ,      72,  1,          7,12023      ,2,20120118,1954,  27.1647, 149.3343,     5889,   4420.6,   1.4751,  34.6864,2,  34.6861,2,    156.0,2,    155.9,2,   143.17,2,    35.67,2,     0.01,2,     2.51,2,    0.005,2,    0.003,2,    0.000,2,     -999,9,     -999,9,     -999,9,     -999,9,     -999,   1.4751,2,    0.010,2,    0.000,2,    99.89,2,     -999,9
49NZ20120113  ,P10N       ,      72,  1,          6,12006      ,2,20120118,1954,  27.1647, 149.3343,     5889,   4669.9,   1.4838,  34.6883,2,  34.6883,2,    158.9,2,    158.8,2,   141.72,2,    35.50,2,     0.01,2,     2.50,2,     -999,9,     -999,9,     -999,9,     -999,9,     -999,9,     -999,9,     -999,9,     -999,   1.4837,2,    0.010,2,    0.000,2,    99.90,2,     -999,9
49NZ20120113  ,P10N       ,      72,  1,          5,12102      ,2,20120118,1954,  27.1647, 149.3343,     5889,   4919.7,   1.4959,  34.6901,2,  34.6900,2,    161.8,2,    161.7,2,   140.09,2,    35.35,2,     0.01,2,     2.48,2,    0.000,2,    0.000,2,    0.000,2,    0.000,2,     -999,9,     -999,9,     -999,9,     -999,   1.4959,2,    0.009,2,    0.000,2,    99.89,2,     -999,9
49NZ20120113  ,P10N       ,      72,  1,          4,12104      ,2,20120118,1954,  27.1647, 149.3343,     5889,   5171.3,   1.5155,  34.6913,2,  34.6910,2,    163.8,2,    164.0,2,   138.82,2,    35.24,2,     0.01,2,     2.47,2,     -999,9,     -999,9,     -999,9,     -999,9,     -999,9,     -999,9,     -999,9,     -999,   1.5155,2,    0.009,2,    0.000,2,    99.89,2,     -999,9
49NZ20120113  ,P10N       ,      72,  1,          3,12003      ,2,20120118,1954,  27.1647, 149.3343,     5889,   5420.8,   1.5407,  34.6920,2,  34.6934,3,    164.8,2,    164.6,2,   138.06,2,    35.13,2,     0.01,2,     2.46,2,    0.003,2,    0.002,2,    0.000,2,     -999,9,     -999,9,     -999,9,     -999,9,     -999,   1.5407,2,    0.009,2,    0.000,2,    99.85,2,     -999,9
49NZ20120113  ,P10N       ,      72,  1,          2,12103      ,2,20120118,1954,  27.1647, 149.3343,     5889,   5670.7,   1.5655,  34.6928,2,  34.6926,2,    166.5,2,    166.6,2,   136.54,2,    35.01,2,     0.01,2,     2.45,2,    0.000,2,    0.001,2,    0.000,2,    0.000,2,     -999,9,     -999,9,     -999,9,     -999,   1.5656,2,    0.009,2,    0.000,2,    99.84,2,     -999,9
49NZ20120113  ,P10N       ,      72,  1,          1,12001      ,2,20120118,1954,  27.1647, 149.3343,     5889,   5983.5,   1.5979,  34.6936,2,  34.6938,2,    168.5,2,    168.7,2,   134.43,2,    34.81,2,     0.01,2,     2.44,2,    0.002,2,    0.002,2,    0.001,2,    0.000,2,     -999,9,     -999,9,     -999,9,     -999,   1.5979,2,    0.009,2,    0.000,2,    99.82,2,     -999,9