BOTTLE,20231026CCHSIOVAJ
EXPOCODE,SECT_ID,STNNBR,CASTNO,SAMPNO,BTLNBR,BTLNBR_FLAG_W,DATE,TIME,LATITUDE,LONGITUDE,DEPTH,CTDPRS,CTDTMP,CTDSAL,CTDSAL_FLAG_W,SALNTY,SALNTY_FLAG_W,CTDOXY,CTDOXY_FLAG_W,OXYGEN,OXYGEN_FLAG_W,SILCAT,SILCAT_FLAG_W,NITRAT,NITRAT_FLAG_W,NITRIT,NITRIT_FLAG_W,PHSPHT,PHSPHT_FLAG_W,CFC-11,CFC-11_FLAG_W,CFC-12,CFC-12_FLAG_W,CFC113,CFC113_FLAG_W,SF6,SF6_FLAG_W,TCARBN,TCARBN_FLAG_W,ALKALI,ALKALI_FLAG_W,PH_TOT,PH_TOT_FLAG_W,PH_TMP,REFTMP,REFTMP_FLAG_W,CTDFLUOR,CTDFLUOR_FLAG_W,PAR,PAR_FLAG_W,CTDXMISS,CTDXMISS_FLAG_W,CHLORA,CHLORA_FLAG_W
,,,,,,,,,,,METERS,DBAR,ITS-90,PSS-78,,PSS-78,,UMOL/KG,,UMOL/KG,,UMOL/KG,,UMOL/KG,,UMOL/KG,,UMOL/KG,,PMOL/KG,,PMOL/KG,,PMOL/KG,,FMOL/KG,,UMOL/KG,,UMOL/KG,,,,DEG C,ITS-90,,MG/M^3,,VOLTS,,%TRANS,,UG/KG,
49NZ20120113  ,P10N       ,      65,  1,          0,BUC        ,2,20120116,1058,  23.1778, 149.3413,     5800,      0.0,     -999,     -999,9,  35.0685,2,     -999,9,     -999,9,     -999,9,     -999,9,     -999,9,     -999,9,     -999,9,     -999,9,     -999,9,     -999,9,     -999,9,     -999,9,     -999,9,     -999,     -999,9,     -999,9,     -999,9,     -999,9,     -999,9
49NZ20120113  ,P10N       ,      65,  1,         36,12021      ,2,20120116,1058,  23.1778, 149.3413,     5800,      9.5,  24.8636,  35.0658,2,  35.0794,2,    207.6,2,    208.2,2,     0.91,2,     0.10,2,     0.01,2,     0.04,2,    1.666,2,    1.056,2,    0.128,2,    1.225,2,     -999,9,     -999,9,     -999,9,     -999,  24.8524,2,    0.034,2,    0.383,2,    98.96,2,     -999,9
49NZ20120113  ,P10N       ,      65,  1,         35,12001      ,2,20120116,1058,  23.1778, 149.3413,     5800,     49.5,  23.9991,  35.1662,2,  35.1662,2,    211.4,2,    211.4,2,     1.03,2,     0.11,2,     0.01,2,     0.03,2,    1.736,2,    1.090,2,    0.131,6,    1.286,6,     -999,9,     -999,9,     -999,9,     -999,  23.9990,2,    0.047,2,    0.000,2,    98.98,2,     -999,9
49NZ20120113  ,P10N       ,      65,  1,         34,12019      ,2,20120116,1058,  23.1778, 149.3413,     5800,     99.4,  23.6069,  35.1344,2,  35.1356,2,    212.3,2,    213.4,2,     1.05,2,     0.09,2,     0.01,2,     0.04,2,    1.780,6,    1.120,6,    0.129,2,    1.313,2,     -999,9,     -999,9,     -999,9,     -999,  23.6147,2,    0.119,2,    0.000,2,    98.97,2,     -999,9
49NZ20120113  ,P10N       ,      65,  1,         33,12018      ,2,20120116,1058,  23.1778, 149.3413,     5800,    149.9,  19.3557,  34.8783,2,  34.8752,2,    195.3,2,    196.0,2,     2.27,2,     2.26,2,     0.03,2,     0.21,2,    2.186,2,    1.331,2,    0.065,2,    1.353,2,     -999,9,     -999,9,     -999,9,     -999,  19.3435,2,    0.095,2,    0.000,2,    99.42,2,     0.07,2
49NZ20120113  ,P10N       ,      65,  1,         32,12017      ,2,20120116,1058,  23.1778, 149.3413,     5800,    199.5,  17.3474,  34.7095,2,  34.7094,2,    194.2,2,    194.3,2,     4.18,2,     5.33,2,     0.01,2,     0.41,2,    2.390,2,    1.426,2,    0.027,2,    1.362,2,     -999,9,     -999,9,     -999,9,     -999,  17.3439,2,    0.007,2,    0.000,2,    99.62,2,     -999,9
49NZ20120113  ,P10N       ,      65,  1,         31,12016      ,2,20120116,1058,  23.1778, 149.3413,     5800,    249.6,  16.1990,  34.6306,2,  34.6246,2,    191.8,2,    192.5,2,     6.16,2,     7.34,2,     0.02,2,     0.53,2,    2.534,2,    1.484,2,    0.023,2,    1.351,2,     -999,9,     -999,9,     -999,9,     -999,  16.1907,2,    0.005,2,    0.000,2,    99.66,2,     -999,9
49NZ20120113  ,P10N       ,      65,  1,         30,12015      ,2,20120116,1058,  23.1778, 149.3413,     5800,    330.5,  14.4194,  34.5092,2,  34.5135,2,    193.2,2,    192.8,2,     9.76,2,    10.02,2,     0.01,2,     0.72,2,    2.683,2,    1.537,2,    0.027,2,    1.191,2,     -999,9,     -999,9,     -999,9,     -999,  14.4199,2,    0.005,2,    0.000,2,    99.71,2,     -999,9
49NZ20120113  ,P10N       ,      65,  1,         29,12014      ,2,20120116,1058,  23.1778, 149.3413,     5800,    429.4,  12.0104,  34.3322,2,  34.3333,2,    192.6,2,    192.5,2,    15.49,2,    13.95,2,     0.01,2,     1.02,2,    2.924,2,    1.629,2,    0.050,6,    1.116,6,     -999,9,     -999,9,     -999,9,     -999,  12.0112,2,    0.007,2,    0.000,2,    99.76,2,     -999,9
49NZ20120113  ,P10N       ,      65,  1,         28,12101      ,2,20120116,1058,  23.1778, 149.3413,     5800,    531.7,   8.6125,  34.1269,2,  34.1290,2,    158.6,2,    158.2,2,    34.70,2,    23.28,2,     0.01,2,     1.69,2,    2.607,2,    1.366,2,    0.073,2,    0.781,2,     -999,9,     -999,9,     -999,9,     -999,   8.6127,2,    0.010,2,    0.000,2,    99.79,2,     -999,9
49NZ20120113  ,P10N       ,      65,  1,         27,12012      ,2,20120116,1058,  23.1778, 149.3413,     5800,    629.8,   6.5101,  34.0832,2,  34.0826,2,    112.9,2,    112.7,2,    57.47,2,    31.22,2,     0.01,2,     2.27,2,    1.754,6,    0.898,6,    0.050,2,    0.467,2,     -999,9,     -999,9,     -999,9,     -999,   6.5114,2,    0.015,2,    0.000,2,    99.80,2,     -999,9
49NZ20120113  ,P10N       ,      65,  1,         26,12010      ,2,20120116,1058,  23.1778, 149.3413,     5800,    731.3,   5.3221,  34.1360,2,  34.1363,2,     74.1,2,     74.0,2,    78.22,2,    36.89,2,     0.01,2,     2.68,2,    0.982,2,    0.491,2,    0.025,2,    0.222,2,     -999,9,     -999,9,     -999,9,     -999,   5.3218,2,    0.018,2,    0.000,2,    99.80,2,     -999,9
49NZ20120113  ,P10N       ,      65,  1,         25,12009      ,2,20120116,1058,  23.1778, 149.3413,     5800,    830.9,   4.6024,  34.2582,2,  34.2615,2,     51.6,2,     51.6,2,    95.08,2,    39.95,2,     0.01,2,     2.90,2,    0.394,2,    0.189,2,    0.007,2,    0.060,2,     -999,9,     -999,9,     -999,9,     -999,   4.6021,2,    0.019,2,    0.000,2,    99.82,2,     -999,9
49NZ20120113  ,P10N       ,      65,  1,         24,12008      ,2,20120116,1058,  23.1778, 149.3413,     5800,    930.7,   4.1397,  34.3647,2,  34.3633,2,     50.8,2,     50.6,2,   105.65,2,    40.72,2,     0.01,2,     2.94,2,    0.171,2,    0.083,2,    0.003,2,    0.023,2,     -999,9,     -999,9,     -999,9,     -999,   4.1399,2,    0.020,2,    0.000,2,    99.83,2,     -999,9
49NZ20120113  ,P10N       ,      65,  1,         23,12007      ,2,20120116,1058,  23.1778, 149.3413,     5800,   1071.6,   3.5311,  34.4207,2,  34.4213,2,     50.4,2,     50.9,2,   119.82,2,    41.46,2,     0.01,2,     2.98,2,    0.088,2,    0.045,2,    0.001,2,    0.000,2,     -999,9,     -999,9,     -999,9,     -999,   3.5314,2,    0.019,2,    0.000,2,    99.85,2,     -999,9
49NZ20120113  ,P10N       ,      65,  1,         22,12022      ,3,20120116,1058,  23.1778, 149.3413,     5800,   1269.8,   2.8794,  34.4950,2,  34.4952,2,     61.0,2,     61.2,2,   133.73,2,    41.25,2,     0.01,2,     2.96,2,    0.040,2,    0.021,2,    0.001,2,    0.000,2,     -999,9,     -999,9,     -999,9,     -999,   2.8796,2,    0.018,2,    0.000,2,    99.86,2,     -999,9
49NZ20120113  ,P10N       ,      65,  1,         21,12036      ,2,20120116,1058,  23.1778, 149.3413,     5800,   1469.2,   2.4610,  34.5449,2,  34.5453,2,     74.8,2,     75.0,2,   140.68,2,    40.68,2,     0.01,2,     2.90,2,    0.016,2,    0.010,2,    0.000,2,    0.000,2,     -999,9,     -999,9,     -999,9,     -999,   2.4609,2,    0.017,2,    0.000,2,    99.87,2,     -999,9
49NZ20120113  ,P10N       ,      65,  1,         20,12035      ,2,20120116,1058,  23.1778, 149.3413,     5800,   1672.3,   2.2265,  34.5795,2,  34.5798,2,     90.3,2,     90.4,2,   142.27,2,    39.73,2,     0.01,2,     2.85,2,    0.013,2,    0.006,2,    0.000,2,    0.000,2,     -999,9,     -999,9,     -999,9,     -999,   2.2264,2,    0.015,2,    0.000,2,    99.89,2,     -999,9
49NZ20120113  ,P10N       ,      65,  1,         19,12034      ,2,20120116,1058,  23.1778, 149.3413,     5800,   1869.3,   2.0445,  34.6034,2,  34.6036,2,    100.2,2,    100.2,2,   143.94,2,    39.24,2,     0.01,2,     2.79,2,    0.005,2,    0.005,2,    0.000,2,    0.000,2,     -999,9,     -999,9,     -999,9,     -999,   2.0447,2,    0.015,2,    0.000,2,    99.90,2,     -999,9
49NZ20120113  ,P10N       ,      65,  1,         18,12033      ,2,20120116,1058,  23.1778, 149.3413,     5800,   2069.8,   1.8942,  34.6260,2,  34.6263,2,    110.3,2,    110.5,2,   144.76,2,    38.69,2,     0.01,2,     2.74,2,    0.001,2,    0.003,2,    0.001,2,    0.000,2,     -999,9,     -999,9,     -999,9,     -999,   1.8942,2,    0.013,2,    0.000,2,    99.93,2,     -999,9
49NZ20120113  ,P10N       ,      65,  1,         17,12032      ,2,20120116,1058,  23.1778, 149.3413,     5800,   2269.8,   1.8034,  34.6385,2,  34.6389,2,    116.3,2,    116.4,2,   145.40,2,    38.36,2,     0.01,2,     2.72,2,    0.000,2,    0.004,2,    0.000,2,    0.033,2,     -999,9,     -999,9,     -999,9,     -999,   1.8036,2,    0.012,2,    0.000,2,    99.93,2,     -999,9
49NZ20120113  ,P10N       ,      65,  1,         16,12046      ,2,20120116,1058,  23.1778, 149.3413,     5800,   2469.3,   1.7230,  34.6478,2,  34.6478,2,    121.8,2,    121.9,2,   146.15,2,    38.07,2,     0.01,2,     2.69,2,    0.002,2,    0.002,2,    0.000,2,     -999,9,     -999,9,     -999,9,     -999,9,     -999,   1.7232,2,    0.013,2,    0.000,2,    99.94,2,     -999,9
49NZ20120113  ,P10N       ,      65,  1,         15,12030      ,2,20120116,1058,  23.1778, 149.3413,     5800,   2669.9,   1.6681,  34.6549,2,  34.6547,2,    126.3,2,    126.4,2,   146.44,2,    37.78,2,     0.01,2,     2.67,2,    0.005,2,    0.002,2,    0.002,2,    0.031,2,     -999,9,     -999,9,     -999,9,     -999,   1.6681,2,    0.012,2,    0.000,2,    99.95,2,     -999,9
49NZ20120113  ,P10N       ,      65,  1,         14,12029      ,2,20120116,1058,  23.1778, 149.3413,     5800,   2869.8,   1.6076,  34.6618,2,  34.6620,2,    131.7,2,    131.7,2,   146.38,2,    37.44,2,     0.01,2,     2.64,2,    0.000,2,    0.000,2,    0.000,2,    0.000,2,     -999,9,     -999,9,     -999,9,     -999,   1.6074,2,    0.012,2,    0.000,2,    99.94,2,     -999,9
49NZ20120113  ,P10N       ,      65,  1,         13,12028      ,2,20120116,1058,  23.1778, 149.3413,     5800,   3081.1,   1.5709,  34.6671,2,  34.6672,2,    136.0,2,    136.0,2,   145.72,2,    37.13,2,     0.01,2,     2.63,2,     -999,9,     -999,9,     -999,9,     -999,9,     -999,9,     -999,9,     -999,9,     -999,   1.5708,2,    0.012,2,    0.000,2,    99.95,2,     -999,9
49NZ20120113  ,P10N       ,      65,  1,         12,12027      ,2,20120116,1058,  23.1778, 149.3413,     5800,   3331.0,   1.5408,  34.6718,2,  34.6717,2,    140.4,2,    140.2,2,   145.05,2,    36.84,2,     0.01,2,     2.59,2,    0.000,2,    0.000,2,    0.000,2,     -999,9,     -999,9,     -999,9,     -999,9,     -999,   1.5409,2,    0.011,2,    0.000,2,    99.95,2,     -999,9
49NZ20120113  ,P10N       ,      65,  1,         11,12011      ,2,20120116,1058,  23.1778, 149.3413,     5800,   3579.0,   1.5153,  34.6763,2,  34.6766,2,    145.0,2,    144.8,2,   144.13,2,    36.54,2,     0.01,2,     2.57,2,    0.000,2,    0.000,2,    0.000,2,    0.025,2,     -999,9,     -999,9,     -999,9,     -999,   1.5153,2,    0.010,2,    0.000,2,    99.95,2,     -999,9
49NZ20120113  ,P10N       ,      65,  1,         10,12026      ,2,20120116,1058,  23.1778, 149.3413,     5800,   3830.2,   1.4968,  34.6800,2,  34.6805,2,    149.3,2,    149.0,2,   143.23,2,    36.25,2,     0.01,2,     2.55,2,    0.000,2,    0.000,2,    0.000,2,     -999,9,     -999,9,     -999,9,     -999,9,     -999,   1.4968,2,    0.010,2,    0.000,2,    99.95,2,     -999,9
49NZ20120113  ,P10N       ,      65,  1,          9,12025      ,2,20120116,1058,  23.1778, 149.3413,     5800,   4080.1,   1.4781,  34.6840,2,  34.6839,2,    154.3,2,    154.0,2,   141.42,2,    35.93,2,     0.01,2,     2.52,2,     -999,9,     -999,9,     -999,9,     -999,9,     -999,9,     -999,9,     -999,9,     -999,   1.4781,2,    0.010,2,    0.000,2,    99.95,2,     -999,9
49NZ20120113  ,P10N       ,      65,  1,          8,12024      ,2,20120116,1058,  23.1778, 149.3413,     5800,   4329.3,   1.4737,  34.6866,2,  34.6864,2,    158.1,2,    157.8,2,   139.93,2,    35.71,2,     0.01,2,     2.51,2,    0.004,2,    0.006,2,    0.000,2,    0.000,2,     -999,9,     -999,9,     -999,9,     -999,   1.4736,2,    0.010,2,    0.000,2,    99.95,2,     -999,9
49NZ20120113  ,P10N       ,      65,  1,          7,12023      ,2,20120116,1058,  23.1778, 149.3413,     5800,   4581.2,   1.4769,  34.6889,2,  34.6887,2,    161.5,2,    161.0,2,   138.43,2,    35.39,2,     0.01,2,     2.50,2,    0.000,2,    0.000,2,    0.000,2,    0.027,2,     -999,9,     -999,9,     -999,9,     -999,   1.4769,2,    0.009,2,    0.000,2,    99.95,2,     -999,9
49NZ20120113  ,P10N       ,      65,  1,          6,12006      ,2,20120116,1058,  23.1778, 149.3413,     5800,   4831.2,   1.4862,  34.6908,2,  34.6907,2,    164.4,2,    164.2,2,   136.80,2,    35.28,2,     0.01,2,     2.48,2,    0.002,2,    0.003,2,    0.000,2,     -999,9,     -999,9,     -999,9,     -999,9,     -999,   1.4862,2,    0.009,2,    0.000,2,    99.94,2,     -999,9
49NZ20120113  ,P10N       ,      65,  1,          5,12102      ,2,20120116,1058,  23.1778, 149.3413,     5800,   5080.7,   1.4984,  34.6926,2,  34.6924,2,    167.4,2,    167.0,2,   135.07,2,    35.04,2,     0.01,2,     2.45,2,    0.000,2,    0.000,2,    0.000,2,    0.000,2,     -999,9,     -999,9,     -999,9,     -999,   1.4984,2,    0.009,2,    0.000,2,    99.94,2,     -999,9
49NZ20120113  ,P10N       ,      65,  1,          4,12104      ,2,20120116,1058,  23.1778, 149.3413,     5800,   5329.1,   1.5171,  34.6934,2,  34.6934,2,    169.4,2,    169.1,2,   133.37,2,    34.85,2,     0.01,2,     2.44,2,    0.001,2,    0.000,2,    0.000,2,     -999,9,     -999,9,     -999,9,     -999,9,     -999,   1.5170,2,    0.009,2,    0.000,2,    99.92,2,     -999,9
49NZ20120113  ,P10N       ,      65,  1,          3,12003      ,2,20120116,1058,  23.1778, 149.3413,     5800,   5580.1,   1.5363,  34.6946,2,  34.6945,2,    171.3,2,    171.3,2,   132.13,2,    34.70,2,     0.01,2,     2.44,2,    0.005,2,    0.000,2,    0.000,2,    0.000,2,     -999,9,     -999,9,     -999,9,     -999,   1.5362,2,    0.009,2,    0.000,2,    99.90,2,     -999,9
49NZ20120113  ,P10N       ,      65,  1,          2,12103      ,2,20120116,1058,  23.1778, 149.3413,     5800,   5830.0,   1.5508,  34.6960,2,  34.6963,2,    173.9,2,    174.0,2,   130.44,2,    34.45,2,     0.01,2,     2.42,2,    0.006,2,    0.001,2,    0.000,2,    0.000,2,     -999,9,     -999,9,     -999,9,     -999,   1.5507,2,    0.009,2,    0.000,2,    99.90,2,     -999,9
49NZ20120113  ,P10N       ,      65,  1,          1,12001      ,2,20120116,1058,  23.1778, 149.3413,     5800,   5909.0,   1.5610,  34.6960,2,  34.6962,2,    174.0,2,    174.2,2,   130.45,2,    34.45,2,     0.01,2,     2.42,2,    0.002,2,    0.000,2,    0.000,2,    0.000,2,     -999,9,     -999,9,     -999,9,     -999,   1.5608,2,    0.009,2,    0.000,2,    99.90,2,     -999,9