BOTTLE,20231026CCHSIOVAJ
EXPOCODE,SECT_ID,STNNBR,CASTNO,SAMPNO,BTLNBR,BTLNBR_FLAG_W,DATE,TIME,LATITUDE,LONGITUDE,DEPTH,CTDPRS,CTDTMP,CTDSAL,CTDSAL_FLAG_W,SALNTY,SALNTY_FLAG_W,CTDOXY,CTDOXY_FLAG_W,OXYGEN,OXYGEN_FLAG_W,SILCAT,SILCAT_FLAG_W,NITRAT,NITRAT_FLAG_W,NITRIT,NITRIT_FLAG_W,PHSPHT,PHSPHT_FLAG_W,CFC-11,CFC-11_FLAG_W,CFC-12,CFC-12_FLAG_W,CFC113,CFC113_FLAG_W,SF6,SF6_FLAG_W,TCARBN,TCARBN_FLAG_W,ALKALI,ALKALI_FLAG_W,PH_TOT,PH_TOT_FLAG_W,PH_TMP,REFTMP,REFTMP_FLAG_W,CTDFLUOR,CTDFLUOR_FLAG_W,PAR,PAR_FLAG_W,CTDXMISS,CTDXMISS_FLAG_W,CHLORA,CHLORA_FLAG_W
,,,,,,,,,,,METERS,DBAR,ITS-90,PSS-78,,PSS-78,,UMOL/KG,,UMOL/KG,,UMOL/KG,,UMOL/KG,,UMOL/KG,,UMOL/KG,,PMOL/KG,,PMOL/KG,,PMOL/KG,,FMOL/KG,,UMOL/KG,,UMOL/KG,,,,DEG C,ITS-90,,MG/M^3,,VOLTS,,%TRANS,,UG/KG,
49NZ20120113  ,P10N       ,      75,  1,          0,BUC        ,2,20120119,1845,  29.1678, 149.3343,     6100,      0.0,     -999,     -999,9,  34.9082,2,     -999,9,     -999,9,     -999,9,     -999,9,     -999,9,     -999,9,     -999,9,     -999,9,     -999,9,     -999,9,     -999,9,     -999,9,     -999,9,     -999,     -999,9,     -999,9,     -999,9,     -999,9,     -999,9
49NZ20120113  ,P10N       ,      75,  1,         36,12021      ,2,20120119,1845,  29.1678, 149.3343,     6100,     10.4,  20.4100,  34.8864,2,  34.8852,2,    221.2,2,    221.1,2,     1.31,2,     0.16,2,     0.03,2,     0.06,2,    1.994,2,    1.242,2,    0.146,2,    1.490,2,     -999,9,     -999,9,     -999,9,     -999,  20.4103,2,    0.345,2,   24.218,2,    98.43,2,     -999,9
49NZ20120113  ,P10N       ,      75,  1,         35,12001      ,2,20120119,1845,  29.1678, 149.3343,     6100,     49.9,  20.4233,  34.8855,2,  34.8845,2,    221.0,2,    221.0,2,     1.32,2,     0.17,2,     0.03,2,     0.06,2,    1.983,2,    1.243,2,    0.146,6,    1.445,6,     -999,9,     -999,9,     -999,9,     -999,  20.4234,2,    0.364,2,    2.036,2,    98.42,2,     -999,9
49NZ20120113  ,P10N       ,      75,  1,         34,12019      ,2,20120119,1845,  29.1678, 149.3343,     6100,    100.0,  20.4310,  34.8854,2,  34.8847,2,    220.9,2,    221.0,2,     1.30,2,     0.15,2,     0.03,2,     0.06,2,    1.986,6,    1.239,6,    0.147,2,    1.430,2,     -999,9,     -999,9,     -999,9,     -999,  20.4312,2,    0.445,2,    0.153,2,    98.45,2,     -999,9
49NZ20120113  ,P10N       ,      75,  1,         33,12018      ,2,20120119,1845,  29.1678, 149.3343,     6100,    150.6,  18.2308,  34.7456,2,  34.7440,2,    205.8,2,    206.0,2,     2.67,2,     3.04,2,     0.03,2,     0.25,2,    2.227,2,    1.357,2,    0.074,2,    1.440,2,     -999,9,     -999,9,     -999,9,     -999,  18.2312,2,    0.036,2,    0.000,2,    99.46,2,     -999,9
49NZ20120113  ,P10N       ,      75,  1,         32,12017      ,2,20120119,1845,  29.1678, 149.3343,     6100,    200.6,  17.5018,  34.7156,2,  34.7141,2,    207.6,2,    208.0,2,     3.28,2,     4.28,2,     0.02,2,     0.32,2,    2.307,2,    1.405,2,    0.062,2,    1.480,2,     -999,9,     -999,9,     -999,9,     -999,  17.5021,2,    0.009,2,    0.000,2,    99.57,2,     -999,9
49NZ20120113  ,P10N       ,      75,  1,         31,12016      ,2,20120119,1845,  29.1678, 149.3343,     6100,    251.2,  17.1301,  34.7132,2,  34.7103,2,    215.0,2,    214.8,2,     3.39,2,     4.30,2,     0.02,2,     0.31,2,    2.326,2,    1.419,2,    0.078,2,    1.500,2,     -999,9,     -999,9,     -999,9,     -999,  17.1303,2,    0.004,2,    0.000,2,    99.61,2,     -999,9
49NZ20120113  ,P10N       ,      75,  1,         30,12015      ,2,20120119,1845,  29.1678, 149.3343,     6100,    280.0,  17.0524,  34.7151,2,  34.7139,2,    217.9,2,    217.8,2,     3.50,2,     4.20,2,     0.02,2,     0.31,2,    2.326,2,    1.418,2,    0.090,2,    1.510,2,     -999,9,     -999,9,     -999,9,     -999,  17.0527,2,    0.004,2,    0.000,2,    99.64,2,     -999,9
49NZ20120113  ,P10N       ,      75,  1,         29,12014      ,2,20120119,1845,  29.1678, 149.3343,     6100,    370.2,  16.3136,  34.6488,2,  34.6488,2,    199.6,2,    200.2,2,     6.38,2,     6.99,2,     0.02,2,     0.50,2,    2.372,2,    1.436,2,    0.041,6,    1.450,6,     -999,9,     -999,9,     -999,9,     -999,  16.3146,2,    0.005,2,    0.000,2,    99.68,2,     -999,9
49NZ20120113  ,P10N       ,      75,  1,         28,12101      ,2,20120119,1845,  29.1678, 149.3343,     6100,    469.9,  13.7624,  34.4811,2,  34.4816,2,    185.7,2,    186.1,2,    14.09,2,    12.21,2,     0.01,2,     0.87,2,    2.540,2,    1.466,2,    0.040,2,    1.250,2,     -999,9,     -999,9,     -999,9,     -999,  13.7634,2,    0.006,2,    0.000,2,    99.66,2,     -999,9
49NZ20120113  ,P10N       ,      75,  1,         27,12012      ,2,20120119,1845,  29.1678, 149.3343,     6100,    570.5,  10.9058,  34.2733,2,  34.2741,2,    184.1,2,    184.1,2,    23.86,2,    16.98,2,     0.01,2,     1.23,2,    2.717,6,    1.512,6,    0.076,2,    1.110,2,     -999,9,     -999,9,     -999,9,     -999,  10.9076,2,    0.008,2,    0.000,2,    99.72,2,     -999,9
49NZ20120113  ,P10N       ,      75,  1,         26,12010      ,2,20120119,1845,  29.1678, 149.3343,     6100,    671.3,   8.0233,  34.0891,2,  34.0886,2,    163.7,2,    163.0,3,    40.82,2,    23.99,2,     0.02,2,     1.75,2,    2.582,2,    1.383,2,    0.100,2,    0.940,2,     -999,9,     -999,9,     -999,9,     -999,   8.0237,2,    0.011,2,    0.000,2,    99.77,2,     -999,9
49NZ20120113  ,P10N       ,      75,  1,         25,12009      ,2,20120119,1845,  29.1678, 149.3343,     6100,    769.8,   5.7014,  34.0299,2,  34.0303,2,    121.8,2,    121.6,2,    65.70,2,    32.08,2,     0.01,2,     2.35,2,    2.068,2,    1.078,2,    0.089,2,    0.620,2,     -999,9,     -999,9,     -999,9,     -999,   5.7005,2,    0.015,2,    0.000,2,    99.78,2,     -999,9
49NZ20120113  ,P10N       ,      75,  1,         24,12008      ,2,20120119,1845,  29.1678, 149.3343,     6100,    869.9,   4.7584,  34.1074,2,  34.1093,2,     80.2,2,     79.6,2,    86.49,2,    37.24,2,     0.01,2,     2.70,2,    1.289,2,    0.664,2,    0.053,2,    0.350,2,     -999,9,     -999,9,     -999,9,     -999,   4.7574,2,    0.018,2,    0.000,2,    99.79,2,     -999,9
49NZ20120113  ,P10N       ,      75,  1,         23,12007      ,2,20120119,1845,  29.1678, 149.3343,     6100,    970.8,   4.3093,  34.1843,2,  34.1843,2,     59.4,2,     59.6,2,    99.27,2,    39.52,2,     0.01,2,     2.87,2,    0.854,2,    0.428,2,    0.031,2,    0.190,2,     -999,9,     -999,9,     -999,9,     -999,   4.3094,2,    0.019,2,    0.000,2,    99.78,2,     -999,9
49NZ20120113  ,P10N       ,      75,  1,         22,12022      ,2,20120119,1845,  29.1678, 149.3343,     6100,   1129.5,   3.6253,  34.3086,2,  34.3084,2,     39.7,2,     39.8,2,   119.14,2,    42.00,2,     0.01,2,     3.04,2,    0.320,2,    0.156,2,    0.008,2,    0.050,2,     -999,9,     -999,9,     -999,9,     -999,   3.6246,2,    0.021,2,    0.000,2,    99.77,2,     -999,9
49NZ20120113  ,P10N       ,      75,  1,         21,12036      ,2,20120119,1845,  29.1678, 149.3343,     6100,   1331.6,   3.0001,  34.4209,2,  34.4204,2,     36.4,2,     36.2,2,   136.83,2,    43.09,2,     0.01,2,     3.10,2,    0.082,2,    0.040,2,    0.002,2,    0.000,2,     -999,9,     -999,9,     -999,9,     -999,   3.0007,2,    0.021,2,    0.000,2,    99.79,2,     -999,9
49NZ20120113  ,P10N       ,      75,  1,         20,12035      ,2,20120119,1845,  29.1678, 149.3343,     6100,   1529.7,   2.5886,  34.4854,2,  34.4855,2,     39.6,2,     39.6,2,   148.33,2,    43.18,2,     0.01,2,     3.10,2,    0.031,2,    0.015,2,    0.000,2,    0.000,2,     -999,9,     -999,9,     -999,9,     -999,   2.5887,2,    0.020,2,    0.000,2,    99.79,2,     -999,9
49NZ20120113  ,P10N       ,      75,  1,         19,12034      ,2,20120119,1845,  29.1678, 149.3343,     6100,   1729.7,   2.3212,  34.5398,2,  34.5396,2,     54.1,2,     54.4,2,   152.46,2,    42.42,2,     0.01,2,     3.04,2,    0.007,2,    0.002,2,    0.000,2,    0.000,2,     -999,9,     -999,9,     -999,9,     -999,   2.3215,2,    0.019,2,    0.000,2,    99.82,2,     -999,9
49NZ20120113  ,P10N       ,      75,  1,         18,12033      ,2,20120119,1845,  29.1678, 149.3343,     6100,   1930.5,   2.0657,  34.5808,2,  34.5809,2,     69.9,2,     70.0,2,   155.89,2,    41.44,2,     0.01,2,     2.97,2,    0.003,2,    0.000,2,    0.000,2,    0.000,2,     -999,9,     -999,9,     -999,9,     -999,   2.0659,2,    0.017,2,    0.000,2,    99.85,2,     -999,9
49NZ20120113  ,P10N       ,      75,  1,         17,12032      ,2,20120119,1845,  29.1678, 149.3343,     6100,   2129.7,   1.8922,  34.6103,2,  34.6104,2,     87.9,2,     88.2,2,   155.02,2,    40.35,2,     0.01,2,     2.87,2,    0.000,2,    0.000,2,    0.000,2,     -999,9,     -999,9,     -999,9,     -999,9,     -999,   1.8925,2,    0.015,2,    0.000,2,    99.87,2,     -999,9
49NZ20120113  ,P10N       ,      75,  1,         16,12046      ,2,20120119,1845,  29.1678, 149.3343,     6100,   2329.1,   1.7989,  34.6275,2,  34.6277,2,    101.9,2,    102.2,2,   152.57,2,    39.43,2,     0.01,2,     2.80,2,    0.000,2,    0.001,2,    0.000,2,    0.000,2,     -999,9,     -999,9,     -999,9,     -999,   1.7991,2,    0.015,2,    0.000,2,    99.89,2,     -999,9
49NZ20120113  ,P10N       ,      75,  1,         15,12030      ,2,20120119,1845,  29.1678, 149.3343,     6100,   2530.6,   1.7217,  34.6399,2,  34.6398,2,    110.8,2,    111.1,2,   151.85,2,    38.85,2,     0.01,2,     2.76,2,    0.000,2,    0.000,2,    0.000,2,     -999,9,     -999,9,     -999,9,     -999,9,     -999,   1.7218,2,    0.013,2,    0.000,2,    99.90,2,     -999,9
49NZ20120113  ,P10N       ,      75,  1,         14,12029      ,2,20120119,1845,  29.1678, 149.3343,     6100,   2731.0,   1.6606,  34.6493,2,  34.6493,2,    118.5,2,    118.8,2,   151.07,2,    38.35,2,     0.01,2,     2.72,2,    0.000,2,    0.000,2,    0.000,2,     -999,9,     -999,9,     -999,9,     -999,9,     -999,   1.6606,2,    0.013,2,    0.000,2,    99.92,2,     -999,9
49NZ20120113  ,P10N       ,      75,  1,         13,12028      ,2,20120119,1845,  29.1678, 149.3343,     6100,   2931.1,   1.6061,  34.6579,2,  34.6574,2,    125.5,2,    125.9,2,   149.97,2,    37.91,2,     0.01,2,     2.68,2,     -999,9,     -999,9,     -999,9,     -999,9,     -999,9,     -999,9,     -999,9,     -999,   1.6061,2,    0.012,2,    0.000,2,    99.91,2,     -999,9
49NZ20120113  ,P10N       ,      75,  1,         12,12027      ,2,20120119,1845,  29.1678, 149.3343,     6100,   3170.5,   1.5629,  34.6653,2,  34.6650,2,    132.4,2,    132.6,2,   148.32,2,    37.35,2,     0.01,2,     2.64,2,    0.000,2,    0.000,2,    0.000,2,     -999,9,     -999,9,     -999,9,     -999,9,     -999,   1.5630,2,    0.012,2,    0.000,2,    99.89,2,     -999,9
49NZ20120113  ,P10N       ,      75,  1,         11,12011      ,2,20120119,1845,  29.1678, 149.3343,     6100,   3420.3,   1.5295,  34.6715,2,  34.6713,2,    138.7,2,    138.8,2,   147.16,2,    36.94,2,     0.01,2,     2.61,2,     -999,9,     -999,9,     -999,9,     -999,9,     -999,9,     -999,9,     -999,9,     -999,   1.5295,2,    0.011,2,    0.000,2,    99.92,2,     -999,9
49NZ20120113  ,P10N       ,      75,  1,         10,12026      ,2,20120119,1845,  29.1678, 149.3343,     6100,   3670.8,   1.5096,  34.6757,2,  34.6756,2,    142.8,2,    142.9,2,   146.96,2,    36.78,2,     0.01,2,     2.59,2,    0.000,2,    0.000,2,    0.000,2,    0.000,2,     -999,9,     -999,9,     -999,9,     -999,   1.5098,2,    0.011,2,    0.000,2,    99.92,2,     -999,9
49NZ20120113  ,P10N       ,      75,  1,          9,12025      ,2,20120119,1845,  29.1678, 149.3343,     6100,   3920.8,   1.4956,  34.6800,2,  34.6792,2,    148.0,2,    148.4,2,   144.83,2,    36.41,2,     0.01,2,     2.56,2,     -999,9,     -999,9,     -999,9,     -999,9,     -999,9,     -999,9,     -999,9,     -999,   1.4955,2,    0.010,2,    0.000,2,    99.94,2,     -999,9
49NZ20120113  ,P10N       ,      75,  1,          8,12024      ,2,20120119,1845,  29.1678, 149.3343,     6100,   4170.5,   1.4866,  34.6829,2,  34.6828,2,    151.3,2,    151.5,2,   144.78,2,    36.22,2,     0.01,2,     2.56,2,    0.007,2,    0.003,2,    0.000,2,     -999,9,     -999,9,     -999,9,     -999,9,     -999,   1.4867,2,    0.010,2,    0.000,2,    99.92,2,     -999,9
49NZ20120113  ,P10N       ,      75,  1,          7,12023      ,2,20120119,1845,  29.1678, 149.3343,     6100,   4419.9,   1.4848,  34.6857,2,  34.6855,2,    155.0,2,    155.0,2,   143.68,2,    35.97,2,     0.01,2,     2.53,2,    0.000,2,    0.003,2,    0.000,2,    0.000,2,     -999,9,     -999,9,     -999,9,     -999,   1.4848,2,    0.010,2,    0.000,2,    99.92,2,     -999,9
49NZ20120113  ,P10N       ,      75,  1,          6,12006      ,2,20120119,1845,  29.1678, 149.3343,     6100,   4671.0,   1.4889,  34.6882,2,  34.6875,2,    158.9,2,    158.6,2,   142.03,2,    35.70,2,     0.01,2,     2.51,2,    0.001,2,    0.000,2,    0.000,2,     -999,9,     -999,9,     -999,9,     -999,9,     -999,   1.4890,2,    0.009,2,    0.000,2,    99.92,2,     -999,9
49NZ20120113  ,P10N       ,      75,  1,          5,12102      ,2,20120119,1845,  29.1678, 149.3343,     6100,   4920.3,   1.5031,  34.6898,2,  34.6897,2,    161.5,2,    161.4,2,   140.09,2,    35.48,2,     0.01,2,     2.50,2,     -999,9,     -999,9,     -999,9,     -999,9,     -999,9,     -999,9,     -999,9,     -999,   1.5032,2,    0.009,2,    0.000,2,    99.91,2,     -999,9
49NZ20120113  ,P10N       ,      75,  1,          4,12104      ,2,20120119,1845,  29.1678, 149.3343,     6100,   5168.9,   1.5197,  34.6911,2,  34.6906,2,    163.6,2,    163.6,2,   138.63,2,    35.33,2,     0.01,2,     2.49,2,    0.004,2,    0.000,2,    0.000,2,    0.000,2,     -999,9,     -999,9,     -999,9,     -999,   1.5198,2,    0.009,2,    0.000,2,    99.89,2,     -999,9
49NZ20120113  ,P10N       ,      75,  1,          3,12003      ,2,20120119,1845,  29.1678, 149.3343,     6100,   5420.0,   1.5400,  34.6923,2,  34.6916,2,    165.8,2,    165.6,2,   136.96,2,    35.15,2,     0.01,2,     2.47,2,     -999,9,     -999,9,     -999,9,     -999,9,     -999,9,     -999,9,     -999,9,     -999,   1.5401,2,    0.009,2,    0.000,2,    99.90,2,     -999,9
49NZ20120113  ,P10N       ,      75,  1,          2,12103      ,2,20120119,1845,  29.1678, 149.3343,     6100,   5669.8,   1.5611,  34.6933,2,  34.6929,2,    167.8,2,    167.7,2,   135.35,2,    35.02,2,     0.01,2,     2.46,2,    0.002,2,    0.001,2,    0.000,2,     -999,9,     -999,9,     -999,9,     -999,9,     -999,   1.5612,2,    0.009,2,    0.000,2,    99.89,2,     -999,9
49NZ20120113  ,P10N       ,      75,  1,          1,12001      ,2,20120119,1845,  29.1678, 149.3343,     6100,   6211.8,   1.6181,  34.6945,2,  34.6941,2,    170.0,2,    170.4,2,   133.72,2,    34.82,2,     0.01,2,     2.44,2,    0.002,2,    0.002,2,    0.000,2,    0.000,2,     -999,9,     -999,9,     -999,9,     -999,   1.6180,2,    0.009,2,    0.000,2,    99.79,2,     -999,9