BOTTLE,20231026CCHSIOVAJ
EXPOCODE,SECT_ID,STNNBR,CASTNO,SAMPNO,BTLNBR,BTLNBR_FLAG_W,DATE,TIME,LATITUDE,LONGITUDE,DEPTH,CTDPRS,CTDTMP,CTDSAL,CTDSAL_FLAG_W,SALNTY,SALNTY_FLAG_W,CTDOXY,CTDOXY_FLAG_W,OXYGEN,OXYGEN_FLAG_W,SILCAT,SILCAT_FLAG_W,NITRAT,NITRAT_FLAG_W,NITRIT,NITRIT_FLAG_W,PHSPHT,PHSPHT_FLAG_W,CFC-11,CFC-11_FLAG_W,CFC-12,CFC-12_FLAG_W,CFC113,CFC113_FLAG_W,SF6,SF6_FLAG_W,TCARBN,TCARBN_FLAG_W,ALKALI,ALKALI_FLAG_W,PH_TOT,PH_TOT_FLAG_W,PH_TMP,REFTMP,REFTMP_FLAG_W,CTDFLUOR,CTDFLUOR_FLAG_W,PAR,PAR_FLAG_W,CTDXMISS,CTDXMISS_FLAG_W,CHLORA,CHLORA_FLAG_W
,,,,,,,,,,,METERS,DBAR,ITS-90,PSS-78,,PSS-78,,UMOL/KG,,UMOL/KG,,UMOL/KG,,UMOL/KG,,UMOL/KG,,UMOL/KG,,PMOL/KG,,PMOL/KG,,PMOL/KG,,FMOL/KG,,UMOL/KG,,UMOL/KG,,,,DEG C,ITS-90,,MG/M^3,,VOLTS,,%TRANS,,UG/KG,
49NZ20120113  ,P10N       ,      76,  1,          0,BUC        ,2,20120120,0209,  29.8335, 149.3392,     6155,      0.0,     -999,     -999,9,  34.8476,2,     -999,9,     -999,9,     -999,9,     -999,9,     -999,9,     -999,9,     -999,9,     -999,9,     -999,9,     -999,9,     -999,9,     -999,9,     -999,9,     -999,     -999,9,     -999,9,     -999,9,     -999,9,     -999,9
49NZ20120113  ,P10N       ,      76,  1,         36,12021      ,2,20120120,0209,  29.8335, 149.3392,     6155,      9.5,  19.7973,  34.8422,2,  34.8407,2,    224.8,2,    224.3,2,     1.55,2,     0.12,2,     0.06,2,     0.06,2,    2.074,2,    1.304,2,    0.150,2,    1.440,2,     -999,9,     -999,9,     -999,9,     -999,  19.7976,2,    0.492,2,   40.764,2,    97.82,2,     -999,9
49NZ20120113  ,P10N       ,      76,  1,         35,12001      ,2,20120120,0209,  29.8335, 149.3392,     6155,     49.8,  19.7827,  34.8379,2,  34.8362,2,    224.4,2,    224.0,2,     1.56,2,     0.12,2,     0.08,2,     0.06,2,    2.074,2,    1.310,2,    0.151,6,    1.420,6,     -999,9,     -999,9,     -999,9,     -999,  19.7830,2,    0.500,2,    3.165,2,    98.02,2,     -999,9
49NZ20120113  ,P10N       ,      76,  1,         34,12019      ,2,20120120,0209,  29.8335, 149.3392,     6155,     99.4,  19.7083,  34.8262,2,  34.8250,2,    223.8,2,    223.6,2,     1.46,2,     0.16,2,     0.11,2,     0.08,2,     -999,5,     -999,5,    0.149,2,    1.500,2,     -999,9,     -999,9,     -999,9,     -999,  19.7083,2,    0.354,2,    0.347,2,    98.45,2,     -999,9
49NZ20120113  ,P10N       ,      76,  1,         33,12018      ,2,20120120,0209,  29.8335, 149.3392,     6155,    150.0,  19.6834,  34.8205,2,  34.8194,2,    223.6,2,    223.4,2,     1.52,2,     0.18,2,     0.12,2,     0.08,2,    2.064,2,    1.311,2,    0.150,2,    1.480,2,     -999,9,     -999,9,     -999,9,     -999,  19.6843,2,    0.321,2,    0.006,2,    98.54,2,     -999,9
49NZ20120113  ,P10N       ,      76,  1,         32,12017      ,2,20120120,0209,  29.8335, 149.3392,     6155,    199.4,  17.9702,  34.7347,2,  34.7333,2,    205.6,2,    205.7,2,     2.97,2,     3.63,2,     0.02,2,     0.29,2,    2.292,2,    1.433,2,    0.056,2,    1.500,2,     -999,9,     -999,9,     -999,9,     -999,  17.9705,2,    0.018,2,    0.000,2,    99.52,2,     -999,9
49NZ20120113  ,P10N       ,      76,  1,         31,12016      ,2,20120120,0209,  29.8335, 149.3392,     6155,    250.0,  17.2547,  34.7058,2,  34.7048,2,    208.2,2,    208.2,2,     3.72,2,     4.63,2,     0.02,2,     0.34,2,    2.361,2,    1.460,2,    0.053,2,    1.450,2,     -999,9,     -999,9,     -999,9,     -999,  17.2554,2,    0.004,2,    0.000,2,    99.64,2,     -999,9
49NZ20120113  ,P10N       ,      76,  1,         30,12015      ,2,20120120,0209,  29.8335, 149.3392,     6155,    301.8,  16.8726,  34.6956,2,  34.6946,2,    213.0,2,    213.0,2,     4.27,2,     4.89,2,     0.02,2,     0.36,2,    2.379,2,    1.469,2,    0.070,2,    1.490,2,     -999,9,     -999,9,     -999,9,     -999,  16.8728,2,    0.003,2,    0.000,2,    99.68,2,     -999,9
49NZ20120113  ,P10N       ,      76,  1,         29,12014      ,2,20120120,0209,  29.8335, 149.3392,     6155,    399.9,  14.7067,  34.5428,2,  34.5396,2,    190.3,2,    190.6,2,    10.44,2,    10.25,2,     0.01,2,     0.73,2,    2.578,2,    1.529,2,    0.033,6,    1.190,6,     -999,9,     -999,9,     -999,9,     -999,  14.7062,2,    0.005,2,    0.000,2,    99.68,2,     -999,9
49NZ20120113  ,P10N       ,      76,  1,         28,12101      ,2,20120120,0209,  29.8335, 149.3392,     6155,    500.6,  12.2867,  34.3781,2,  34.3779,2,    185.3,2,    185.2,2,    18.11,2,    14.63,2,     0.01,2,     1.04,2,    2.695,2,    1.557,2,    0.053,2,    1.090,2,     -999,9,     -999,9,     -999,9,     -999,  12.2861,2,    0.006,2,    0.000,2,    99.71,2,     -999,9
49NZ20120113  ,P10N       ,      76,  1,         27,12012      ,2,20120120,0209,  29.8335, 149.3392,     6155,    599.3,   9.5305,  34.1824,2,  34.1834,2,    174.1,2,    174.0,2,    32.00,2,    20.22,2,     0.01,2,     1.48,2,    2.635,6,    1.479,6,    0.087,2,    1.040,2,     -999,9,     -999,9,     -999,9,     -999,   9.5361,2,    0.009,2,    0.000,2,    99.74,2,     -999,9
49NZ20120113  ,P10N       ,      76,  1,         26,12010      ,2,20120120,0209,  29.8335, 149.3392,     6155,    699.3,   6.7062,  34.0434,2,  34.0436,2,    141.5,2,    141.5,2,    52.84,2,    28.32,2,     0.01,2,     2.08,2,    2.325,2,    1.264,2,    0.094,2,    0.740,2,     -999,9,     -999,9,     -999,9,     -999,   6.7058,2,    0.013,2,    0.000,2,    99.78,2,     -999,9
49NZ20120113  ,P10N       ,      76,  1,         25,12009      ,2,20120120,0209,  29.8335, 149.3392,     6155,    800.1,   5.2138,  34.0444,2,  34.0446,2,    107.9,2,    107.5,2,    73.88,2,    34.10,2,     0.00,2,     2.51,2,    1.856,2,    1.000,2,    0.086,2,    0.570,2,     -999,9,     -999,9,     -999,9,     -999,   5.2145,2,    0.016,2,    0.000,2,    99.77,2,     -999,9
49NZ20120113  ,P10N       ,      76,  1,         24,12008      ,2,20120120,0209,  29.8335, 149.3392,     6155,    899.7,   4.5033,  34.1515,2,  34.1509,2,     68.7,2,     68.8,2,    93.34,2,    38.38,2,     0.01,2,     2.78,2,    1.060,2,    0.564,2,    0.044,2,    0.360,2,     -999,9,     -999,9,     -999,9,     -999,   4.5039,2,    0.019,2,    0.000,2,    99.78,2,     -999,9
49NZ20120113  ,P10N       ,      76,  1,         23,12007      ,2,20120120,0209,  29.8335, 149.3392,     6155,   1000.1,   4.0132,  34.2500,2,  34.2493,2,     48.5,2,     48.4,2,   108.33,2,    40.87,2,     0.01,2,     2.95,2,    0.523,2,    0.269,2,    0.020,2,    0.120,2,     -999,9,     -999,9,     -999,9,     -999,   4.0135,2,    0.020,2,    0.000,2,    99.79,2,     -999,9
49NZ20120113  ,P10N       ,      76,  1,         22,12022      ,2,20120120,0209,  29.8335, 149.3392,     6155,   1199.8,   3.2726,  34.3714,2,  34.3710,2,     36.4,2,     36.2,2,   129.13,2,    42.72,2,     0.01,2,     3.08,2,    0.159,2,    0.080,2,    0.003,2,    0.040,2,     -999,9,     -999,9,     -999,9,     -999,   3.2728,2,    0.021,2,    0.000,2,    99.79,2,     -999,9
49NZ20120113  ,P10N       ,      76,  1,         21,12036      ,2,20120120,0209,  29.8335, 149.3392,     6155,   1400.1,   2.7514,  34.4597,2,  34.4586,2,     37.8,2,     37.5,2,   143.24,2,    43.14,2,     0.01,2,     3.10,2,    0.046,2,    0.024,2,    0.001,2,    0.000,2,     -999,9,     -999,9,     -999,9,     -999,   2.7517,2,    0.021,2,    0.000,2,    99.80,2,     -999,9
49NZ20120113  ,P10N       ,      76,  1,         20,12035      ,2,20120120,0209,  29.8335, 149.3392,     6155,   1603.4,   2.4310,  34.5145,2,  34.5137,2,     45.6,2,     45.6,2,   151.30,2,    42.76,2,     0.01,2,     3.05,2,    0.015,2,    0.009,2,    0.000,2,    0.000,2,     -999,9,     -999,9,     -999,9,     -999,   2.4312,2,    0.020,2,    0.000,2,    99.81,2,     -999,9
49NZ20120113  ,P10N       ,      76,  1,         19,12034      ,2,20120120,0209,  29.8335, 149.3392,     6155,   1801.6,   2.2119,  34.5531,2,  34.5526,2,     56.6,2,     56.7,2,   155.25,2,    42.16,2,     0.01,2,     3.01,2,    0.007,2,    0.005,2,    0.000,2,    0.000,2,     -999,9,     -999,9,     -999,9,     -999,   2.2119,2,    0.019,2,    0.000,2,    99.82,2,     -999,9
49NZ20120113  ,P10N       ,      76,  1,         18,12033      ,2,20120120,0209,  29.8335, 149.3392,     6155,   2001.2,   2.0261,  34.5899,2,  34.5900,2,     76.6,2,     77.3,2,   154.13,2,    40.94,2,     0.01,2,     2.91,2,    0.001,2,    0.000,2,    0.000,2,    0.000,2,     -999,9,     -999,9,     -999,9,     -999,   2.0260,2,    0.017,2,    0.000,2,    99.86,2,     -999,9
49NZ20120113  ,P10N       ,      76,  1,         17,12032      ,2,20120120,0209,  29.8335, 149.3392,     6155,   2200.6,   1.9024,  34.6108,2,  34.6105,2,     90.0,2,     90.5,2,   153.39,2,    40.07,2,     0.00,2,     2.85,2,    0.001,2,    0.000,2,    0.000,2,    0.000,2,     -999,9,     -999,9,     -999,9,     -999,   1.9025,2,    0.015,2,    0.000,2,    99.88,2,     -999,9
49NZ20120113  ,P10N       ,      76,  1,         16,12046      ,2,20120120,0209,  29.8335, 149.3392,     6155,   2400.2,   1.7777,  34.6305,2,  34.6307,2,    104.0,2,    104.5,2,   152.88,2,    39.31,2,     0.01,2,     2.80,2,    0.000,2,    0.000,2,    0.000,2,     -999,9,     -999,9,     -999,9,     -999,9,     -999,   1.7777,2,    0.014,2,    0.000,2,    99.88,2,     -999,9
49NZ20120113  ,P10N       ,      76,  1,         15,12030      ,2,20120120,0209,  29.8335, 149.3392,     6155,   2600.4,   1.6947,  34.6435,2,  34.6434,2,    113.8,2,    114.0,2,   151.15,2,    38.58,2,     0.01,2,     2.73,2,    0.000,2,    0.000,2,    0.000,2,     -999,9,     -999,9,     -999,9,     -999,9,     -999,   1.6948,2,    0.013,2,    0.000,2,    99.90,2,     -999,9
49NZ20120113  ,P10N       ,      76,  1,         14,12029      ,2,20120120,0209,  29.8335, 149.3392,     6155,   2799.1,   1.6391,  34.6530,2,  34.6525,2,    122.4,2,    122.6,2,   149.91,2,    38.10,2,     0.01,2,     2.69,2,    0.001,2,    0.002,2,    0.001,2,    0.000,2,     -999,9,     -999,9,     -999,9,     -999,   1.6392,2,    0.013,2,    0.000,2,    99.91,2,     -999,9
49NZ20120113  ,P10N       ,      76,  1,         13,12028      ,2,20120120,0209,  29.8335, 149.3392,     6155,   2998.7,   1.5951,  34.6600,2,  34.6600,2,    128.1,2,    128.4,2,   148.78,2,    37.71,2,     0.01,2,     2.67,2,    0.000,2,    0.000,2,    0.000,2,     -999,9,     -999,9,     -999,9,     -999,9,     -999,   1.5952,2,    0.012,2,    0.000,2,    99.91,2,     -999,9
49NZ20120113  ,P10N       ,      76,  1,         12,12027      ,2,20120120,0209,  29.8335, 149.3392,     6155,   3248.8,   1.5539,  34.6668,2,  34.6667,2,    133.7,2,    133.8,2,   148.23,2,    37.23,2,     0.01,2,     2.62,2,    0.002,2,    0.003,2,    0.001,2,    0.000,2,     -999,9,     -999,9,     -999,9,     -999,   1.5540,2,    0.011,2,    0.000,2,    99.91,2,     -999,9
49NZ20120113  ,P10N       ,      76,  1,         11,12011      ,2,20120120,0209,  29.8335, 149.3392,     6155,   3500.6,   1.5227,  34.6725,2,  34.6722,2,    139.1,2,    139.2,2,   147.71,2,    36.91,2,     0.01,2,     2.60,2,    0.000,2,    0.000,2,    0.000,2,     -999,9,     -999,9,     -999,9,     -999,9,     -999,   1.5228,2,    0.011,2,    0.000,2,    99.91,2,     -999,9
49NZ20120113  ,P10N       ,      76,  1,         10,12026      ,2,20120120,0209,  29.8335, 149.3392,     6155,   3751.0,   1.4982,  34.6774,2,  34.6772,2,    145.0,2,    144.9,2,   146.38,2,    36.54,2,     0.01,2,     2.58,2,     -999,9,     -999,9,     -999,9,     -999,9,     -999,9,     -999,9,     -999,9,     -999,   1.4981,2,    0.010,2,    0.000,2,    99.91,2,     -999,9
49NZ20120113  ,P10N       ,      76,  1,          9,12025      ,2,20120120,0209,  29.8335, 149.3392,     6155,   3998.8,   1.4876,  34.6811,2,  34.6811,2,    149.3,2,    149.2,2,   144.94,2,    36.35,2,     0.00,2,     2.56,2,    0.000,2,    0.000,2,    0.000,2,     -999,9,     -999,9,     -999,9,     -999,9,     -999,   1.4877,2,    0.010,2,    0.000,2,    99.91,2,     -999,9
49NZ20120113  ,P10N       ,      76,  1,          8,12024      ,2,20120120,0209,  29.8335, 149.3392,     6155,   4248.5,   1.4808,  34.6844,2,  34.6841,2,    153.7,2,    153.6,2,   143.50,2,    36.04,2,     0.00,2,     2.54,2,    0.000,2,    0.001,2,    0.000,2,    0.000,2,     -999,9,     -999,9,     -999,9,     -999,   1.4808,2,    0.010,2,    0.000,2,    99.90,2,     -999,9
49NZ20120113  ,P10N       ,      76,  1,          7,12023      ,2,20120120,0209,  29.8335, 149.3392,     6155,   4500.5,   1.4867,  34.6865,2,  34.6861,2,    156.4,2,    156.3,2,   142.74,2,    35.83,2,     0.00,2,     2.51,2,    0.001,2,    0.000,2,    0.000,2,     -999,9,     -999,9,     -999,9,     -999,9,     -999,   1.4868,2,    0.009,2,    0.000,2,    99.91,2,     -999,9
49NZ20120113  ,P10N       ,      76,  1,          6,12006      ,2,20120120,0209,  29.8335, 149.3392,     6155,   4749.9,   1.4950,  34.6886,2,  34.6884,2,    159.8,2,    159.6,2,   141.19,2,    35.59,2,     0.01,2,     2.50,2,    0.000,2,    0.001,2,    0.000,2,    0.000,2,     -999,9,     -999,9,     -999,9,     -999,   1.4950,2,    0.009,2,    0.000,2,    99.91,2,     -999,9
49NZ20120113  ,P10N       ,      76,  1,          5,12102      ,2,20120120,0209,  29.8335, 149.3392,     6155,   5000.8,   1.5106,  34.6900,2,  34.6896,2,    162.0,2,    161.7,2,   139.42,2,    35.49,2,     0.01,2,     2.50,2,    0.000,2,    0.002,2,    0.000,2,     -999,9,     -999,9,     -999,9,     -999,9,     -999,   1.5107,2,    0.009,2,    0.000,2,    99.92,2,     -999,9
49NZ20120113  ,P10N       ,      76,  1,          4,12104      ,2,20120120,0209,  29.8335, 149.3392,     6155,   5248.0,   1.5280,  34.6913,2,  34.6909,2,    164.1,2,    164.0,2,   137.89,2,    35.29,2,     0.01,2,     2.48,2,    0.000,2,    0.003,2,    0.000,2,    0.000,2,     -999,9,     -999,9,     -999,9,     -999,   1.5281,2,    0.010,2,    0.000,2,    99.91,2,     -999,9
49NZ20120113  ,P10N       ,      76,  1,          3,12003      ,2,20120120,0209,  29.8335, 149.3392,     6155,   5499.2,   1.5489,  34.6925,2,  34.6920,2,    166.2,2,    165.9,2,   136.71,2,    35.17,2,     0.01,2,     2.48,2,    0.001,2,    0.000,2,    0.000,2,     -999,9,     -999,9,     -999,9,     -999,9,     -999,   1.5490,2,    0.009,2,    0.000,2,    99.89,2,     -999,9
49NZ20120113  ,P10N       ,      76,  1,          2,12103      ,2,20120120,0209,  29.8335, 149.3392,     6155,   5749.4,   1.5729,  34.6933,2,  34.6927,2,    167.8,2,    167.7,2,   135.10,2,    34.98,2,     0.01,2,     2.46,2,    0.000,2,    0.002,2,    0.000,2,    0.000,2,     -999,9,     -999,9,     -999,9,     -999,   1.5730,2,    0.009,2,    0.000,2,    99.87,2,     -999,9
49NZ20120113  ,P10N       ,      76,  1,          1,12001      ,2,20120120,0209,  29.8335, 149.3392,     6155,   6267.8,   1.6300,  34.6945,2,  34.6945,2,    170.2,2,    170.5,2,   132.67,2,    34.88,2,     0.00,2,     2.44,2,    0.001,2,    0.000,2,    0.001,2,    0.000,2,     -999,9,     -999,9,     -999,9,     -999,   1.6300,2,    0.009,2,    0.000,2,    99.81,2,     -999,9