BOTTLE,20231026CCHSIOVAJ
EXPOCODE,SECT_ID,STNNBR,CASTNO,SAMPNO,BTLNBR,BTLNBR_FLAG_W,DATE,TIME,LATITUDE,LONGITUDE,DEPTH,CTDPRS,CTDTMP,CTDSAL,CTDSAL_FLAG_W,SALNTY,SALNTY_FLAG_W,CTDOXY,CTDOXY_FLAG_W,OXYGEN,OXYGEN_FLAG_W,SILCAT,SILCAT_FLAG_W,NITRAT,NITRAT_FLAG_W,NITRIT,NITRIT_FLAG_W,PHSPHT,PHSPHT_FLAG_W,CFC-11,CFC-11_FLAG_W,CFC-12,CFC-12_FLAG_W,CFC113,CFC113_FLAG_W,SF6,SF6_FLAG_W,TCARBN,TCARBN_FLAG_W,ALKALI,ALKALI_FLAG_W,PH_TOT,PH_TOT_FLAG_W,PH_TMP,REFTMP,REFTMP_FLAG_W,CTDFLUOR,CTDFLUOR_FLAG_W,PAR,PAR_FLAG_W,CTDXMISS,CTDXMISS_FLAG_W,CHLORA,CHLORA_FLAG_W
,,,,,,,,,,,METERS,DBAR,ITS-90,PSS-78,,PSS-78,,UMOL/KG,,UMOL/KG,,UMOL/KG,,UMOL/KG,,UMOL/KG,,UMOL/KG,,PMOL/KG,,PMOL/KG,,PMOL/KG,,FMOL/KG,,UMOL/KG,,UMOL/KG,,,,DEG C,ITS-90,,MG/M^3,,VOLTS,,%TRANS,,UG/KG,
49NZ20120113  ,P10N       ,      84,  2,          0,BUC        ,2,20120124,1448,  33.1530, 149.3290,     6115,      0.0,     -999,     -999,9,  34.7335,2,     -999,9,     -999,9,     -999,9,     -999,9,     -999,9,     -999,9,     -999,9,     -999,9,     -999,9,     -999,9,     -999,9,     -999,9,     -999,9,     -999,     -999,9,     -999,9,     -999,9,     -999,9,     -999,9
49NZ20120113  ,P10N       ,      84,  2,         36,12021      ,2,20120124,1448,  33.1530, 149.3290,     6115,     10.4,  18.7554,  34.7131,2,  34.7123,2,    221.9,2,    221.4,2,     2.75,2,     1.70,2,     0.27,2,     0.18,2,    2.107,2,    1.308,2,    0.139,2,    1.435,2,     -999,9,     -999,9,     -999,9,     -999,  18.7557,2,    0.610,2,    0.071,2,    98.43,2,     0.33,2
49NZ20120113  ,P10N       ,      84,  2,         35,12001      ,2,20120124,1448,  33.1530, 149.3290,     6115,     51.8,  18.7493,  34.7138,2,  34.7123,2,    222.2,2,    222.0,2,     2.66,2,     1.64,2,     0.27,2,     0.17,2,    2.108,2,    1.311,2,    0.140,6,    1.486,6,     -999,9,     -999,9,     -999,9,     -999,  18.7501,2,    0.324,2,    0.000,2,    98.48,2,     -999,9
49NZ20120113  ,P10N       ,      84,  2,         34,12019      ,2,20120124,1448,  33.1530, 149.3290,     6115,    100.3,  18.7541,  34.7136,2,  34.7123,2,    222.4,2,    222.0,2,     2.60,2,     1.65,2,     0.27,2,     0.16,2,    2.116,6,    1.315,6,    0.137,2,    1.484,2,     -999,9,     -999,9,     -999,9,     -999,  18.7545,2,    0.298,2,    0.000,2,    98.48,2,     -999,9
49NZ20120113  ,P10N       ,      84,  2,         33,12018      ,2,20120124,1448,  33.1530, 149.3290,     6115,    150.7,  18.7359,  34.7127,2,  34.7119,2,    222.6,2,    222.4,2,     2.49,2,     1.60,2,     0.27,2,     0.16,2,    2.123,2,    1.320,2,    0.141,2,    1.464,2,     -999,9,     -999,9,     -999,9,     -999,  18.7360,2,    0.304,2,    0.000,2,    98.54,2,     -999,9
49NZ20120113  ,P10N       ,      84,  2,         32,12017      ,2,20120124,1448,  33.1530, 149.3290,     6115,    201.2,  18.4121,  34.7129,2,  34.7121,2,    217.0,2,    216.9,2,     3.00,2,     2.40,2,     0.17,2,     0.19,2,    2.182,2,    1.349,2,    0.122,2,    1.450,2,     -999,9,     -999,9,     -999,9,     -999,  18.4107,2,    0.133,2,    0.000,2,    99.08,2,     -999,9
49NZ20120113  ,P10N       ,      84,  2,         31,12016      ,2,20120124,1448,  33.1530, 149.3290,     6115,    250.2,  17.7759,  34.7265,2,  34.7257,2,    204.0,2,    204.2,2,     3.71,2,     4.31,2,     0.02,2,     0.32,2,    2.306,2,    1.405,2,    0.050,2,    1.372,2,     -999,9,     -999,9,     -999,9,     -999,  17.7745,2,    0.006,2,    0.000,2,    99.59,2,     -999,9
49NZ20120113  ,P10N       ,      84,  2,         30,12015      ,2,20120124,1448,  33.1530, 149.3290,     6115,    280.6,  17.2805,  34.7077,2,  34.7068,2,    205.1,2,    204.8,2,     4.46,2,     4.95,2,     0.02,2,     0.35,2,    2.354,2,    1.427,2,    0.077,2,    1.393,2,     -999,9,     -999,9,     -999,9,     -999,  17.2830,2,    0.004,2,    0.000,2,    99.62,2,     -999,9
49NZ20120113  ,P10N       ,      84,  2,         29,12014      ,2,20120124,1448,  33.1530, 149.3290,     6115,    368.6,  16.3618,  34.6513,2,  34.6512,2,    188.9,2,    189.4,2,     7.56,2,     7.89,2,     0.02,2,     0.54,2,    2.418,2,    1.435,2,     -999,5,     -999,5,     -999,9,     -999,9,     -999,9,     -999,  16.3612,2,    0.004,2,    0.000,2,    99.67,2,     -999,9
49NZ20120113  ,P10N       ,      84,  2,         28,12024      ,2,20120124,1448,  33.1530, 149.3290,     6115,    469.0,  14.4058,  34.5338,2,  34.5348,2,    176.1,2,    176.6,2,    13.84,2,    11.99,2,     0.02,2,     0.84,2,    2.486,2,    1.424,2,    0.027,2,    1.083,2,     -999,9,     -999,9,     -999,9,     -999,  14.4053,2,    0.006,2,    0.000,2,    99.66,2,     -999,9
49NZ20120113  ,P10N       ,      84,  2,         27,12012      ,2,20120124,1448,  33.1530, 149.3290,     6115,    571.1,  11.5283,  34.3610,2,  34.3649,2,    164.5,2,    164.6,2,    26.31,2,    17.78,2,     0.02,2,     1.26,2,    2.454,6,    1.356,6,    0.046,2,    0.873,2,     -999,9,     -999,9,     -999,9,     -999,  11.5348,2,    0.008,2,    0.000,2,    99.64,2,     -999,9
49NZ20120113  ,P10N       ,      84,  2,         26,12010      ,2,20120124,1448,  33.1530, 149.3290,     6115,    669.7,   8.4716,  34.2074,2,  34.2088,2,    141.5,2,    140.5,2,    46.63,2,    25.27,2,     0.02,2,     1.82,2,    2.136,2,    1.144,2,    0.062,2,    0.759,2,     -999,9,     -999,9,     -999,9,     -999,   8.4740,2,    0.010,2,    0.000,2,    99.70,2,     -999,9
49NZ20120113  ,P10N       ,      84,  2,         25,12009      ,2,20120124,1448,  33.1530, 149.3290,     6115,    771.2,   5.6246,  34.0019,2,  34.0026,2,    130.3,2,    130.6,2,    64.88,2,    31.33,2,     0.02,2,     2.31,2,    2.347,2,    1.246,2,    0.120,2,    0.832,2,     -999,9,     -999,9,     -999,9,     -999,   5.6238,2,    0.015,2,    0.000,2,    99.73,2,     -999,9
49NZ20120113  ,P10N       ,      84,  2,         24,12008      ,2,20120124,1448,  33.1530, 149.3290,     6115,    868.5,   4.7055,  34.0980,2,  34.0963,2,     83.9,2,     84.0,2,    86.94,2,    36.92,2,     0.01,2,     2.68,2,    1.555,2,    0.813,2,    0.078,2,    0.478,2,     -999,9,     -999,9,     -999,9,     -999,   4.7053,2,    0.019,2,    0.000,2,    99.72,2,     -999,9
49NZ20120113  ,P10N       ,      84,  2,         23,12007      ,2,20120124,1448,  33.1530, 149.3290,     6115,    968.7,   4.2082,  34.2106,2,  34.2113,2,     59.3,2,     60.3,2,   103.38,2,    39.41,2,     0.01,2,     2.87,2,    0.913,2,    0.474,2,    0.041,2,    0.295,2,     -999,9,     -999,9,     -999,9,     -999,   4.2072,2,    0.020,2,    0.000,2,    99.71,2,     -999,9
49NZ20120113  ,P10N       ,      84,  2,         22,12022      ,2,20120124,1448,  33.1530, 149.3290,     6115,   1128.9,   3.6557,  34.3069,2,  34.3061,2,     47.4,2,     48.1,2,   118.69,2,    41.09,2,     0.02,2,     2.98,2,    0.477,2,    0.245,2,    0.021,2,    0.146,2,     -999,9,     -999,9,     -999,9,     -999,   3.6566,2,    0.021,2,    0.000,2,    99.72,2,     -999,9
49NZ20120113  ,P10N       ,      84,  2,         21,12036      ,2,20120124,1448,  33.1530, 149.3290,     6115,   1330.3,   3.0977,  34.3947,2,  34.3948,2,     40.7,2,     40.7,2,   133.76,2,    42.25,2,     0.01,2,     3.07,2,    0.190,2,    0.097,2,    0.000,2,    0.000,2,     -999,9,     -999,9,     -999,9,     -999,   3.0984,2,    0.021,2,    0.000,2,    99.74,2,     -999,9
49NZ20120113  ,P10N       ,      84,  2,         20,12035      ,2,20120124,1448,  33.1530, 149.3290,     6115,   1532.0,   2.6621,  34.4678,2,  34.4671,2,     41.5,2,     41.4,2,   145.73,2,    42.60,2,     0.01,2,     3.10,2,    0.086,2,    0.042,2,    0.003,2,    0.070,2,     -999,9,     -999,9,     -999,9,     -999,   2.6620,2,    0.021,2,    0.000,2,    99.75,2,     -999,9
49NZ20120113  ,P10N       ,      84,  2,         19,12034      ,2,20120124,1448,  33.1530, 149.3290,     6115,   1728.7,   2.3818,  34.5175,2,  34.5176,2,     46.6,2,     46.6,2,   153.23,2,    42.61,2,     0.01,2,     3.09,2,    0.026,2,    0.016,2,    0.001,2,    0.000,2,     -999,9,     -999,9,     -999,9,     -999,   2.3818,2,    0.019,2,    0.000,2,    99.78,2,     -999,9
49NZ20120113  ,P10N       ,      84,  2,         18,12033      ,2,20120124,1448,  33.1530, 149.3290,     6115,   1929.9,   2.1533,  34.5604,2,  34.5601,2,     59.4,2,     59.7,2,   157.25,2,    41.93,2,     0.01,2,     3.02,2,    0.008,2,    0.005,2,    0.001,2,    0.000,2,     -999,9,     -999,9,     -999,9,     -999,   2.1534,2,    0.019,2,    0.000,2,    99.80,2,     -999,9
49NZ20120113  ,P10N       ,      84,  2,         17,12032      ,2,20120124,1448,  33.1530, 149.3290,     6115,   2130.9,   1.9839,  34.5922,2,  34.5921,2,     75.4,2,     75.8,2,   157.35,2,    41.00,2,     0.01,2,     2.95,2,    0.000,2,    0.003,2,    0.000,2,     -999,9,     -999,9,     -999,9,     -999,9,     -999,   1.9841,2,    0.017,2,    0.000,2,    99.83,2,     -999,9
49NZ20120113  ,P10N       ,      84,  2,         16,12046      ,2,20120124,1448,  33.1530, 149.3290,     6115,   2329.0,   1.8831,  34.6104,2,  34.6108,2,     86.3,2,     86.6,2,   156.85,2,    40.34,2,     0.01,2,     2.88,2,    0.000,2,    0.000,2,    0.000,2,     -999,9,     -999,9,     -999,9,     -999,9,     -999,   1.8830,2,    0.016,2,    0.000,2,    99.84,2,     -999,9
49NZ20120113  ,P10N       ,      84,  2,         15,12030      ,2,20120124,1448,  33.1530, 149.3290,     6115,   2529.0,   1.7714,  34.6292,2,  34.6290,2,     99.5,2,     99.6,2,   155.90,2,    39.50,2,     0.01,2,     2.83,2,    0.000,2,    0.000,2,    0.000,2,    0.000,2,     -999,9,     -999,9,     -999,9,     -999,   1.7715,2,    0.014,2,    0.000,2,    99.85,2,     -999,9
49NZ20120113  ,P10N       ,      84,  2,         14,12029      ,2,20120124,1448,  33.1530, 149.3290,     6115,   2730.3,   1.6948,  34.6421,2,  34.6422,2,    109.6,2,    109.9,2,   154.94,2,    38.83,2,     0.02,2,     2.78,2,    0.000,2,    0.000,2,    0.000,2,     -999,9,     -999,9,     -999,9,     -999,9,     -999,   1.6947,2,    0.014,2,    0.000,2,    99.87,2,     -999,9
49NZ20120113  ,P10N       ,      84,  2,         13,12028      ,2,20120124,1448,  33.1530, 149.3290,     6115,   2931.1,   1.6429,  34.6514,2,  34.6513,2,    118.0,2,    118.3,2,   153.03,2,    38.35,2,     0.01,2,     2.73,2,    0.000,2,    0.000,2,    0.000,2,     -999,9,     -999,9,     -999,9,     -999,9,     -999,   1.6428,2,    0.013,2,    0.000,2,    99.86,2,     -999,9
49NZ20120113  ,P10N       ,      84,  2,         12,12027      ,2,20120124,1448,  33.1530, 149.3290,     6115,   3170.6,   1.5910,  34.6606,2,  34.6604,2,    126.3,2,    126.5,2,   151.30,2,    37.76,2,     0.01,2,     2.68,2,    0.000,2,    0.000,2,    0.000,2,    0.000,2,     -999,9,     -999,9,     -999,9,     -999,   1.5910,2,    0.012,2,    0.000,2,    99.86,2,     -999,9
49NZ20120113  ,P10N       ,      84,  2,         11,12011      ,2,20120124,1448,  33.1530, 149.3290,     6115,   3421.1,   1.5485,  34.6676,2,  34.6677,2,    132.7,2,    132.9,2,   151.04,2,    37.40,2,     0.01,2,     2.63,2,    0.000,2,    0.000,2,    0.000,2,     -999,9,     -999,9,     -999,9,     -999,9,     -999,   1.5485,2,    0.011,2,    0.000,2,    99.88,2,     -999,9
49NZ20120113  ,P10N       ,      84,  2,         10,12026      ,2,20120124,1448,  33.1530, 149.3290,     6115,   3671.3,   1.5302,  34.6729,2,  34.6729,2,    139.0,2,    139.0,2,   149.22,2,    36.98,2,     0.01,2,     2.61,2,     -999,9,     -999,9,     -999,9,     -999,9,     -999,9,     -999,9,     -999,9,     -999,   1.5303,2,    0.011,2,    0.000,2,    99.88,2,     -999,9
49NZ20120113  ,P10N       ,      84,  2,          9,12025      ,2,20120124,1448,  33.1530, 149.3290,     6115,   3919.6,   1.5182,  34.6770,2,  34.6767,2,    143.6,2,    143.6,2,   147.99,2,    36.71,2,     0.01,2,     2.59,2,    0.000,2,    0.000,2,    0.000,2,    0.000,2,     -999,9,     -999,9,     -999,9,     -999,   1.5182,2,    0.010,2,    0.000,2,    99.89,2,     -999,9
49NZ20120113  ,P10N       ,      84,  2,          8,12024      ,2,20120124,1448,  33.1530, 149.3290,     6115,   4170.7,   1.5124,  34.6801,2,  34.6802,2,    147.6,2,    147.4,2,   146.72,2,    36.38,2,     0.01,2,     2.57,2,     -999,9,     -999,9,     -999,9,     -999,9,     -999,9,     -999,9,     -999,9,     -999,   1.5122,2,    0.010,2,    0.000,2,    99.89,2,     -999,9
49NZ20120113  ,P10N       ,      84,  2,          7,12023      ,2,20120124,1448,  33.1530, 149.3290,     6115,   4419.2,   1.5137,  34.6829,2,  34.6828,2,    150.9,2,    150.7,2,   145.62,2,    36.16,2,     0.01,2,     2.54,2,    0.000,2,    0.000,2,    0.000,2,     -999,9,     -999,9,     -999,9,     -999,9,     -999,   1.5138,2,    0.010,2,    0.000,2,    99.88,2,     -999,9
49NZ20120113  ,P10N       ,      84,  2,          6,12006      ,2,20120124,1448,  33.1530, 149.3290,     6115,   4668.5,   1.5149,  34.6856,2,  34.6855,2,    154.5,2,    154.2,2,   144.41,2,    35.91,2,     0.01,2,     2.52,2,    0.000,2,    0.002,2,    0.002,2,    0.000,2,     -999,9,     -999,9,     -999,9,     -999,   1.5150,2,    0.009,2,    0.000,2,    99.88,2,     -999,9
49NZ20120113  ,P10N       ,      84,  2,          5,12102      ,2,20120124,1448,  33.1530, 149.3290,     6115,   4918.5,   1.5177,  34.6882,2,  34.6883,2,    158.4,2,    158.0,2,   143.06,2,    35.66,2,     0.01,2,     2.50,2,    0.000,2,    0.001,2,    0.000,2,     -999,9,     -999,9,     -999,9,     -999,9,     -999,   1.5176,2,    0.009,2,    0.000,2,    99.88,2,     -999,9
49NZ20120113  ,P10N       ,      84,  2,          4,12104      ,2,20120124,1448,  33.1530, 149.3290,     6115,   5170.2,   1.5356,  34.6895,2,  34.6895,2,    160.4,2,    160.1,2,   141.53,2,    35.53,2,     0.01,2,     2.49,2,     -999,9,     -999,9,     -999,9,     -999,9,     -999,9,     -999,9,     -999,9,     -999,   1.5356,2,    0.009,2,    0.000,2,    99.88,2,     -999,9
49NZ20120113  ,P10N       ,      84,  2,          3,12003      ,2,20120124,1448,  33.1530, 149.3290,     6115,   5418.4,   1.5518,  34.6909,2,  34.6908,2,    163.0,2,    162.7,2,   139.91,2,    35.35,2,     0.01,2,     2.48,2,    0.000,2,    0.000,2,    0.000,2,    0.000,2,     -999,9,     -999,9,     -999,9,     -999,   1.5518,2,    0.009,2,    0.000,2,    99.86,2,     -999,9
49NZ20120113  ,P10N       ,      84,  2,          2,12103      ,2,20120124,1448,  33.1530, 149.3290,     6115,   5670.4,   1.5732,  34.6922,2,  34.6919,2,    165.0,2,    164.7,2,   138.13,2,    35.22,2,     0.01,2,     2.47,2,     -999,9,     -999,9,     -999,9,     -999,9,     -999,9,     -999,9,     -999,9,     -999,   1.5733,2,    0.009,2,    0.000,2,    99.82,2,     -999,9
49NZ20120113  ,P10N       ,      84,  2,          1,12001      ,2,20120124,1448,  33.1530, 149.3290,     6115,   6234.7,   1.6312,  34.6939,2,  34.6941,2,    168.5,2,    168.6,2,   135.15,2,    34.95,2,     0.01,2,     2.45,2,    0.000,2,    0.001,2,    0.000,2,    0.000,2,     -999,9,     -999,9,     -999,9,     -999,   1.6312,2,    0.009,2,    0.000,2,    99.56,2,     -999,9