BOTTLE,20231026CCHSIOVAJ
EXPOCODE,SECT_ID,STNNBR,CASTNO,SAMPNO,BTLNBR,BTLNBR_FLAG_W,DATE,TIME,LATITUDE,LONGITUDE,DEPTH,CTDPRS,CTDTMP,CTDSAL,CTDSAL_FLAG_W,SALNTY,SALNTY_FLAG_W,CTDOXY,CTDOXY_FLAG_W,OXYGEN,OXYGEN_FLAG_W,SILCAT,SILCAT_FLAG_W,NITRAT,NITRAT_FLAG_W,NITRIT,NITRIT_FLAG_W,PHSPHT,PHSPHT_FLAG_W,CFC-11,CFC-11_FLAG_W,CFC-12,CFC-12_FLAG_W,CFC113,CFC113_FLAG_W,SF6,SF6_FLAG_W,TCARBN,TCARBN_FLAG_W,ALKALI,ALKALI_FLAG_W,PH_TOT,PH_TOT_FLAG_W,PH_TMP,REFTMP,REFTMP_FLAG_W,CTDFLUOR,CTDFLUOR_FLAG_W,PAR,PAR_FLAG_W,CTDXMISS,CTDXMISS_FLAG_W,CHLORA,CHLORA_FLAG_W
,,,,,,,,,,,METERS,DBAR,ITS-90,PSS-78,,PSS-78,,UMOL/KG,,UMOL/KG,,UMOL/KG,,UMOL/KG,,UMOL/KG,,UMOL/KG,,PMOL/KG,,PMOL/KG,,PMOL/KG,,FMOL/KG,,UMOL/KG,,UMOL/KG,,,,DEG C,ITS-90,,MG/M^3,,VOLTS,,%TRANS,,UG/KG,
49NZ20120113  ,P10N       ,      70,  1,          0,BUC        ,2,20120118,0120,  25.8322, 149.3217,     5891,      0.0,     -999,     -999,9,  35.1035,2,     -999,9,     -999,9,     -999,9,     -999,9,     -999,9,     -999,9,     -999,9,     -999,9,     -999,9,     -999,9,     -999,9,     -999,9,     -999,9,     -999,     -999,9,     -999,9,     -999,9,     -999,9,     -999,9
49NZ20120113  ,P10N       ,      70,  1,         36,12021      ,2,20120118,0120,  25.8322, 149.3217,     5891,     10.2,  22.9099,  35.0750,2,  35.0747,2,    213.5,2,    213.3,2,     1.09,2,     0.03,2,     0.02,2,     0.06,2,    1.811,2,    1.136,2,    0.135,2,    1.369,2,     -999,9,     -999,9,     -999,9,     -999,  22.9106,2,    0.050,2,  434.164,2,    98.91,2,     -999,9
49NZ20120113  ,P10N       ,      70,  1,         35,12001      ,2,20120118,0120,  25.8322, 149.3217,     5891,     49.7,  22.9171,  35.0753,2,  35.0747,2,    213.2,2,    213.1,2,     1.08,2,     0.01,2,     0.01,2,     0.04,2,    1.812,2,    1.142,2,    0.134,6,    1.354,6,     -999,9,     -999,9,     -999,9,     -999,  22.9169,2,    0.087,2,   67.356,2,    98.90,2,     -999,9
49NZ20120113  ,P10N       ,      70,  1,         34,12019      ,3,20120118,0120,  25.8322, 149.3217,     5891,    100.7,  22.8977,  35.0715,2,  35.0725,2,    212.7,2,    213.0,2,     1.05,2,     0.02,2,     0.01,2,     0.05,2,    1.814,6,    1.145,6,    0.134,2,    1.301,2,     -999,9,     -999,9,     -999,9,     -999,  22.8962,2,    0.118,2,    4.971,2,    98.95,2,     -999,9
49NZ20120113  ,P10N       ,      70,  1,         33,12018      ,2,20120118,0120,  25.8322, 149.3217,     5891,    151.9,  19.6744,  34.8878,2,  34.8965,2,    216.4,2,    215.6,2,     1.68,2,     0.19,2,     0.14,2,     0.08,2,    2.185,2,    1.345,2,    0.131,2,    1.460,2,     -999,9,     -999,9,     -999,9,     -999,  19.6723,2,    0.127,2,    0.894,2,    99.29,2,     -999,9
49NZ20120113  ,P10N       ,      70,  1,         32,12017      ,2,20120118,0120,  25.8322, 149.3217,     5891,    198.8,  18.2879,  34.7568,2,  34.7564,2,    207.7,2,    207.6,2,     2.39,2,     2.36,2,     0.02,2,     0.22,2,    2.292,2,    1.399,2,    0.087,2,    1.488,2,     -999,9,     -999,9,     -999,9,     -999,  18.2857,2,    0.033,2,    0.109,2,    99.53,2,     -999,9
49NZ20120113  ,P10N       ,      70,  1,         31,12016      ,2,20120118,0120,  25.8322, 149.3217,     5891,    249.3,  17.3611,  34.6955,2,  34.6949,2,    212.2,2,    212.0,2,     3.31,2,     3.92,2,     0.02,2,     0.32,2,    2.389,2,    1.441,2,    0.059,2,    1.490,2,     -999,9,     -999,9,     -999,9,     -999,  17.3613,2,    0.005,2,    0.011,2,    99.66,2,     -999,9
49NZ20120113  ,P10N       ,      70,  1,         30,12015      ,2,20120118,0120,  25.8322, 149.3217,     5891,    298.3,  16.7541,  34.6759,2,  34.6756,2,    214.9,2,    215.1,2,     4.37,2,     4.69,2,     0.02,2,     0.36,2,    2.433,2,    1.462,2,    0.067,2,    1.525,2,     -999,9,     -999,9,     -999,9,     -999,  16.7550,2,    0.003,2,    0.000,2,    99.70,2,     -999,9
49NZ20120113  ,P10N       ,      70,  1,         29,12014      ,2,20120118,0120,  25.8322, 149.3217,     5891,    399.3,  14.4282,  34.5094,2,  34.5202,2,    195.3,2,    195.4,2,     9.68,2,     9.65,2,     0.01,2,     0.70,2,    2.668,2,    1.545,2,    0.026,6,    1.257,6,     -999,9,     -999,9,     -999,9,     -999,  14.4235,2,    0.005,2,    0.000,2,    99.70,2,     -999,9
49NZ20120113  ,P10N       ,      70,  1,         28,12101      ,2,20120118,0120,  25.8322, 149.3217,     5891,    499.7,  11.7485,  34.3264,2,  34.3284,2,    190.1,2,    189.8,2,    17.65,2,    14.77,2,     0.01,2,     1.08,2,    2.897,2,    1.610,2,    0.054,2,    1.118,2,     -999,9,     -999,9,     -999,9,     -999,  11.7519,2,    0.007,2,    0.000,2,    99.76,2,     -999,9
49NZ20120113  ,P10N       ,      70,  1,         27,12012      ,2,20120118,0120,  25.8322, 149.3217,     5891,    601.0,   9.2390,  34.1584,2,  34.1591,2,    174.1,2,    173.8,2,    30.52,2,    20.78,2,     0.01,2,     1.53,2,    2.811,6,    1.511,6,    0.083,2,    0.915,2,     -999,9,     -999,9,     -999,9,     -999,   9.2425,2,    0.009,2,    0.000,2,    99.79,2,     -999,9
49NZ20120113  ,P10N       ,      70,  1,         26,12010      ,2,20120118,0120,  25.8322, 149.3217,     5891,    699.8,   6.7578,  34.0656,2,  34.0661,2,    133.0,2,    132.8,2,    53.87,2,    28.96,2,     0.01,2,     2.14,2,    2.180,2,    1.136,2,    0.073,2,    0.534,2,     -999,9,     -999,9,     -999,9,     -999,   6.7619,2,    0.013,2,    0.000,2,    99.81,2,     -999,9
49NZ20120113  ,P10N       ,      70,  1,         25,12009      ,2,20120118,0120,  25.8322, 149.3217,     5891,    800.6,   5.4226,  34.0995,2,  34.0996,2,     88.9,2,     88.8,2,    74.40,2,    35.34,2,     0.01,2,     2.60,2,    1.341,2,    0.684,2,    0.041,2,    0.302,2,     -999,9,     -999,9,     -999,9,     -999,   5.4225,2,    0.017,2,    0.000,2,    99.81,2,     -999,9
49NZ20120113  ,P10N       ,      70,  1,         24,12008      ,2,20120118,0120,  25.8322, 149.3217,     5891,    899.8,   4.4621,  34.1868,2,  34.1869,2,     59.2,2,     59.2,2,    95.94,2,    39.36,2,     0.01,2,     2.88,2,    0.776,2,    0.390,2,    0.027,2,    0.184,2,     -999,9,     -999,9,     -999,9,     -999,   4.4619,2,    0.019,2,    0.000,2,    99.80,2,     -999,9
49NZ20120113  ,P10N       ,      70,  1,         23,12007      ,2,20120118,0120,  25.8322, 149.3217,     5891,    999.3,   3.9128,  34.2785,2,  34.2783,2,     43.7,2,     43.6,2,   111.25,2,    41.39,2,     0.01,2,     3.01,2,    0.381,2,    0.188,2,    0.011,2,    0.067,2,     -999,9,     -999,9,     -999,9,     -999,   3.9135,2,    0.020,2,    0.000,2,    99.80,2,     -999,9
49NZ20120113  ,P10N       ,      70,  1,         22,12022      ,2,20120118,0120,  25.8322, 149.3217,     5891,   1199.7,   3.2476,  34.4159,2,  34.4155,2,     41.9,2,     41.7,2,   128.65,2,    42.42,2,     0.01,2,     3.07,2,    0.079,2,    0.039,2,    0.001,2,    0.000,2,     -999,9,     -999,9,     -999,9,     -999,   3.2478,2,    0.020,2,    0.000,2,    99.84,2,     -999,9
49NZ20120113  ,P10N       ,      70,  1,         21,12036      ,2,20120118,0120,  25.8322, 149.3217,     5891,   1400.8,   2.8188,  34.5020,2,  34.5016,2,     60.8,2,     60.8,2,   135.55,2,    41.41,2,     0.01,2,     3.00,2,    0.027,2,    0.012,2,    0.000,2,    0.000,2,     -999,9,     -999,9,     -999,9,     -999,   2.8187,2,    0.018,2,    0.000,2,    99.87,2,     -999,9
49NZ20120113  ,P10N       ,      70,  1,         20,12035      ,2,20120118,0120,  25.8322, 149.3217,     5891,   1599.5,   2.4816,  34.5442,2,  34.5442,2,     71.5,2,     71.7,2,   141.64,2,    41.00,2,     0.01,2,     2.95,2,    0.013,2,    0.005,2,    0.000,2,    0.000,2,     -999,9,     -999,9,     -999,9,     -999,   2.4815,2,    0.016,2,    0.000,2,    99.88,2,     -999,9
49NZ20120113  ,P10N       ,      70,  1,         19,12034      ,2,20120118,0120,  25.8322, 149.3217,     5891,   1800.6,   2.1651,  34.5765,2,  34.5763,2,     78.5,2,     78.6,2,   148.64,2,    40.73,2,     0.01,2,     2.93,2,    0.005,2,    0.003,2,    0.000,2,    0.000,2,     -999,9,     -999,9,     -999,9,     -999,   2.1654,2,    0.017,2,    0.000,2,    99.89,2,     -999,9
49NZ20120113  ,P10N       ,      70,  1,         18,12033      ,2,20120118,0120,  25.8322, 149.3217,     5891,   2000.2,   1.9868,  34.6017,2,  34.6022,2,     92.4,2,     92.5,2,   148.62,2,    39.87,2,     0.01,2,     2.86,2,    0.003,2,    0.000,2,    0.001,2,    0.052,2,     -999,9,     -999,9,     -999,9,     -999,   1.9868,2,    0.015,2,    0.000,2,    99.89,2,     -999,9
49NZ20120113  ,P10N       ,      70,  1,         17,12032      ,2,20120118,0120,  25.8322, 149.3217,     5891,   2200.7,   1.8283,  34.6237,2,  34.6240,2,    105.0,2,    105.1,2,   149.06,2,    39.10,2,     0.01,2,     2.80,2,    0.001,2,    0.001,2,    0.000,2,    0.027,2,     -999,9,     -999,9,     -999,9,     -999,   1.8285,2,    0.014,2,    0.000,2,    99.91,2,     -999,9
49NZ20120113  ,P10N       ,      70,  1,         16,12046      ,2,20120118,0120,  25.8322, 149.3217,     5891,   2400.2,   1.7423,  34.6374,2,  34.6374,2,    113.8,2,    113.9,2,   148.53,2,    38.57,2,     0.01,2,     2.76,2,    0.000,2,    0.000,2,    0.000,2,     -999,9,     -999,9,     -999,9,     -999,9,     -999,   1.7423,2,    0.014,2,    0.000,2,    99.92,2,     -999,9
49NZ20120113  ,P10N       ,      70,  1,         15,12030      ,2,20120118,0120,  25.8322, 149.3217,     5891,   2600.1,   1.6723,  34.6487,2,  34.6494,2,    122.0,2,    122.1,2,   147.75,2,    38.10,2,     0.01,2,     2.72,2,    0.000,2,    0.000,2,    0.000,2,     -999,9,     -999,9,     -999,9,     -999,9,     -999,   1.6724,2,    0.012,2,    0.000,2,    99.94,2,     -999,9
49NZ20120113  ,P10N       ,      70,  1,         14,12029      ,2,20120118,0120,  25.8322, 149.3217,     5891,   2802.1,   1.6042,  34.6583,2,  34.6586,2,    128.8,2,    128.9,2,   147.21,2,    37.64,2,     0.01,2,     2.70,2,    0.000,2,    0.000,2,    0.000,2,    0.000,2,     -999,9,     -999,9,     -999,9,     -999,   1.6046,2,    0.012,2,    0.000,2,    99.94,2,     -999,9
49NZ20120113  ,P10N       ,      70,  1,         13,12028      ,2,20120118,0120,  25.8322, 149.3217,     5891,   3001.9,   1.5799,  34.6634,2,  34.6637,2,    132.9,2,    133.0,2,   146.41,2,    37.35,2,     0.01,2,     2.67,2,    0.000,2,    0.000,2,    0.000,2,     -999,9,     -999,9,     -999,9,     -999,9,     -999,   1.5799,2,    0.012,2,    0.000,2,    99.94,2,     -999,9
49NZ20120113  ,P10N       ,      70,  1,         12,12027      ,2,20120118,0120,  25.8322, 149.3217,     5891,   3250.2,   1.5338,  34.6702,2,  34.6702,2,    139.2,2,    139.2,2,   145.33,2,    36.83,2,     0.01,2,     2.62,2,     -999,9,     -999,9,     -999,9,     -999,9,     -999,9,     -999,9,     -999,9,     -999,   1.5339,2,    0.012,2,    0.000,2,    99.94,2,     -999,9
49NZ20120113  ,P10N       ,      70,  1,         11,12011      ,2,20120118,0120,  25.8322, 149.3217,     5891,   3501.5,   1.5063,  34.6750,2,  34.6749,2,    143.4,2,    143.2,2,   145.24,2,    36.69,2,     0.00,2,     2.61,2,    0.000,2,    0.000,2,    0.000,2,     -999,9,     -999,9,     -999,9,     -999,9,     -999,   1.5063,2,    0.011,2,    0.000,2,    99.94,2,     -999,9
49NZ20120113  ,P10N       ,      70,  1,         10,12026      ,2,20120118,0120,  25.8322, 149.3217,     5891,   3750.5,   1.4825,  34.6796,2,  34.6802,2,    148.7,2,    148.6,2,   144.00,2,    36.34,2,     0.00,2,     2.58,2,     -999,9,     -999,9,     -999,9,     -999,9,     -999,9,     -999,9,     -999,9,     -999,   1.4825,2,    0.011,2,    0.000,2,    99.94,2,     -999,9
49NZ20120113  ,P10N       ,      70,  1,          9,12025      ,2,20120118,0120,  25.8322, 149.3217,     5891,   3999.9,   1.4701,  34.6831,2,  34.6831,2,    152.7,2,    152.5,2,   142.88,2,    35.99,2,     0.01,2,     2.57,2,    0.002,2,    0.001,2,    0.000,2,     -999,9,     -999,9,     -999,9,     -999,9,     -999,   1.4700,2,    0.011,2,    0.000,2,    99.94,2,     -999,9
49NZ20120113  ,P10N       ,      70,  1,          8,12024      ,2,20120118,0120,  25.8322, 149.3217,     5891,   4249.1,   1.4660,  34.6858,2,  34.6856,2,    156.0,2,    155.7,2,   141.98,2,    35.72,2,     0.01,2,     2.54,2,    0.001,2,    0.000,2,    0.001,2,    0.000,2,     -999,9,     -999,9,     -999,9,     -999,   1.4660,2,    0.010,2,    0.000,2,    99.91,2,     -999,9
49NZ20120113  ,P10N       ,      70,  1,          7,12023      ,2,20120118,0120,  25.8322, 149.3217,     5891,   4500.8,   1.4710,  34.6880,2,  34.6880,2,    159.0,2,    158.9,2,   140.74,2,    35.61,2,     0.00,2,     2.54,2,    0.009,2,    0.005,2,    0.000,2,     -999,9,     -999,9,     -999,9,     -999,9,     -999,   1.4710,2,    0.010,2,    0.000,2,    99.89,2,     -999,9
49NZ20120113  ,P10N       ,      70,  1,          6,12006      ,2,20120118,0120,  25.8322, 149.3217,     5891,   4749.9,   1.4822,  34.6898,2,  34.6903,2,    162.0,2,    161.9,2,   138.80,2,    35.45,2,     0.00,2,     2.52,2,     -999,9,     -999,9,     -999,9,     -999,9,     -999,9,     -999,9,     -999,9,     -999,   1.4823,2,    0.009,2,    0.000,2,    99.89,2,     -999,9
49NZ20120113  ,P10N       ,      70,  1,          5,12102      ,2,20120118,0120,  25.8322, 149.3217,     5891,   5001.3,   1.4965,  34.6912,2,  34.6916,2,    164.0,2,    163.8,2,   138.00,2,    35.29,2,     0.00,2,     2.50,2,    0.005,2,    0.002,2,    0.000,2,     -999,9,     -999,9,     -999,9,     -999,9,     -999,   1.4964,2,    0.009,2,    0.000,2,    99.87,2,     -999,9
49NZ20120113  ,P10N       ,      70,  1,          4,12104      ,2,20120118,0120,  25.8322, 149.3217,     5891,   5250.0,   1.5188,  34.6922,2,  34.6922,2,    165.6,2,    165.4,2,   137.06,2,    35.13,2,     0.01,2,     2.49,2,    0.001,2,    0.001,2,    0.000,2,    0.000,2,     -999,9,     -999,9,     -999,9,     -999,   1.5188,2,    0.009,2,    0.000,2,    99.87,2,     -999,9
49NZ20120113  ,P10N       ,      70,  1,          3,12003      ,2,20120118,0120,  25.8322, 149.3217,     5891,   5500.3,   1.5470,  34.6925,2,  34.6935,2,    166.6,2,    166.4,2,   136.20,2,    35.09,2,     0.00,2,     2.50,2,    0.001,2,    0.000,2,    0.000,2,     -999,9,     -999,9,     -999,9,     -999,9,     -999,   1.5471,2,    0.009,2,    0.000,2,    99.88,2,     -999,9
49NZ20120113  ,P10N       ,      70,  1,          2,12103      ,2,20120118,0120,  25.8322, 149.3217,     5891,   5748.0,   1.5723,  34.6932,2,  34.6932,2,    168.2,2,    168.2,2,   134.58,2,    34.98,2,     0.01,2,     2.49,2,    0.001,2,    0.000,2,    0.000,2,    0.000,2,     -999,9,     -999,9,     -999,9,     -999,   1.5722,2,    0.009,2,    0.000,2,    99.89,2,     -999,9
49NZ20120113  ,P10N       ,      70,  1,          1,12001      ,2,20120118,0120,  25.8322, 149.3217,     5891,   5997.3,   1.5838,  34.6950,2,  34.6950,2,    172.2,2,    172.3,2,   131.86,2,    34.72,2,     0.01,2,     2.48,2,    0.000,2,    0.001,2,    0.000,2,     -999,9,     -999,9,     -999,9,     -999,9,     -999,   1.5838,2,    0.009,2,    0.000,2,    99.89,2,     -999,9