BOTTLE,20231026CCHSIOVAJ
EXPOCODE,SECT_ID,STNNBR,CASTNO,SAMPNO,BTLNBR,BTLNBR_FLAG_W,DATE,TIME,LATITUDE,LONGITUDE,DEPTH,CTDPRS,CTDTMP,CTDSAL,CTDSAL_FLAG_W,SALNTY,SALNTY_FLAG_W,CTDOXY,CTDOXY_FLAG_W,OXYGEN,OXYGEN_FLAG_W,SILCAT,SILCAT_FLAG_W,NITRAT,NITRAT_FLAG_W,NITRIT,NITRIT_FLAG_W,PHSPHT,PHSPHT_FLAG_W,CFC-11,CFC-11_FLAG_W,CFC-12,CFC-12_FLAG_W,CFC113,CFC113_FLAG_W,SF6,SF6_FLAG_W,TCARBN,TCARBN_FLAG_W,ALKALI,ALKALI_FLAG_W,PH_TOT,PH_TOT_FLAG_W,PH_TMP,REFTMP,REFTMP_FLAG_W,CTDFLUOR,CTDFLUOR_FLAG_W,PAR,PAR_FLAG_W,CTDXMISS,CTDXMISS_FLAG_W,CHLORA,CHLORA_FLAG_W
,,,,,,,,,,,METERS,DBAR,ITS-90,PSS-78,,PSS-78,,UMOL/KG,,UMOL/KG,,UMOL/KG,,UMOL/KG,,UMOL/KG,,UMOL/KG,,PMOL/KG,,PMOL/KG,,PMOL/KG,,FMOL/KG,,UMOL/KG,,UMOL/KG,,,,DEG C,ITS-90,,MG/M^3,,VOLTS,,%TRANS,,UG/KG,
49NZ20120113  ,P10N       ,      69,  1,          0,BUC        ,2,20120117,1743,  25.1637, 149.3310,     5900,      0.0,     -999,     -999,9,  35.1235,2,     -999,9,     -999,9,     -999,9,     -999,9,     -999,9,     -999,9,     -999,9,     -999,9,     -999,9,     -999,9,     -999,9,     -999,9,     -999,9,     -999,     -999,9,     -999,9,     -999,9,     -999,9,     -999,9
49NZ20120113  ,P10N       ,      69,  1,         36,12021      ,2,20120117,1743,  25.1637, 149.3310,     5900,     10.6,  23.0583,  35.1191,2,  35.1183,2,    213.0,2,    212.9,2,     1.05,2,     0.09,2,     0.01,2,     0.06,2,    1.837,2,    1.137,2,    0.136,2,    1.341,2,     -999,9,     -999,9,     -999,9,     -999,  23.0588,2,    0.091,2,    0.363,2,    98.89,2,     -999,9
49NZ20120113  ,P10N       ,      69,  1,         35,12001      ,2,20120117,1743,  25.1637, 149.3310,     5900,     50.7,  23.0323,  35.1181,2,  35.1174,2,    212.8,2,    213.0,2,     1.02,2,     0.09,2,     0.01,2,     0.06,2,    1.837,2,    1.135,2,    0.138,6,    1.322,6,     -999,9,     -999,9,     -999,9,     -999,  23.0344,2,    0.083,2,    0.000,2,    98.94,2,     -999,9
49NZ20120113  ,P10N       ,      69,  1,         34,12019      ,2,20120117,1743,  25.1637, 149.3310,     5900,    100.6,  22.9680,  35.1111,2,  35.1116,2,    212.6,2,    212.9,2,     1.09,2,     0.11,2,     0.01,2,     0.06,2,    1.842,6,    1.141,6,    0.138,2,    1.303,2,     -999,9,     -999,9,     -999,9,     -999,  22.9673,2,    0.115,2,    0.000,2,    99.04,2,     -999,9
49NZ20120113  ,P10N       ,      69,  1,         33,12018      ,2,20120117,1743,  25.1637, 149.3310,     5900,    150.6,  20.2063,  34.9235,2,  34.9171,2,    212.0,2,    211.7,2,     1.69,2,     0.40,2,     0.11,2,     0.10,2,    2.179,2,    1.320,2,    0.123,2,    1.430,2,     -999,9,     -999,9,     -999,9,     -999,  20.2076,2,    0.151,2,    0.000,2,    99.25,2,     -999,9
49NZ20120113  ,P10N       ,      69,  1,         32,12017      ,2,20120117,1743,  25.1637, 149.3310,     5900,    199.5,  18.1756,  34.7551,2,  34.7505,2,    205.0,2,    205.2,2,     2.68,2,     2.91,2,     0.02,2,     0.25,2,    2.328,2,    1.399,2,    0.072,2,    1.469,2,     -999,9,     -999,9,     -999,9,     -999,  18.1861,2,    0.062,2,    0.000,2,    99.47,2,     -999,9
49NZ20120113  ,P10N       ,      69,  1,         31,12016      ,2,20120117,1743,  25.1637, 149.3310,     5900,    250.8,  17.2625,  34.6937,2,  34.6927,2,    207.7,2,    207.8,2,     3.52,2,     4.50,2,     0.02,2,     0.35,2,    2.414,2,    1.440,2,    0.047,2,    1.449,2,     -999,9,     -999,9,     -999,9,     -999,  17.2631,2,    0.011,2,    0.000,2,    99.61,2,     -999,9
49NZ20120113  ,P10N       ,      69,  1,         30,12015      ,2,20120117,1743,  25.1637, 149.3310,     5900,    280.8,  16.8271,  34.6715,2,  34.6722,2,    207.8,2,    208.1,2,     4.17,2,     5.12,2,     0.02,2,     0.38,2,    2.451,2,    1.458,2,    0.049,2,    1.446,2,     -999,9,     -999,9,     -999,9,     -999,  16.8272,2,    0.005,2,    0.000,2,    99.64,2,     -999,9
49NZ20120113  ,P10N       ,      69,  1,         29,12014      ,2,20120117,1743,  25.1637, 149.3310,     5900,    370.9,  14.9560,  34.5388,2,  34.5396,2,    196.3,2,    196.6,2,     8.46,2,     8.95,2,     0.02,2,     0.65,2,    2.625,2,    1.514,2,    0.030,6,    1.286,6,     -999,9,     -999,9,     -999,9,     -999,  14.9261,2,    0.005,2,    0.000,2,    99.67,2,     -999,9
49NZ20120113  ,P10N       ,      69,  1,         28,12101      ,2,20120117,1743,  25.1637, 149.3310,     5900,    469.2,  12.1153,  34.3564,2,  34.3608,2,    191.6,2,    191.8,2,    16.41,2,    13.94,2,     0.02,2,     1.00,2,    2.833,2,    1.571,2,    0.052,2,    1.165,2,     -999,9,     -999,9,     -999,9,     -999,  12.1235,2,    0.007,2,    0.000,2,    99.74,2,     -999,9
49NZ20120113  ,P10N       ,      69,  1,         27,12012      ,2,20120117,1743,  25.1637, 149.3310,     5900,    570.5,   9.0774,  34.1509,2,  34.1512,2,    171.5,2,    171.7,2,    31.37,2,    21.25,2,     0.01,2,     1.55,2,    2.766,6,    1.470,6,    0.079,2,    0.903,2,     -999,9,     -999,9,     -999,9,     -999,   9.0800,2,    0.009,2,    0.000,2,    99.80,2,     -999,9
49NZ20120113  ,P10N       ,      69,  1,         26,12010      ,3,20120117,1743,  25.1637, 149.3310,     5900,    669.7,   6.7528,  34.0492,2,  34.0496,2,    134.4,2,    134.2,2,    52.44,2,    28.90,2,     0.01,2,     2.12,2,    2.234,2,    1.155,2,    0.079,2,    0.646,2,     -999,9,     -999,9,     -999,9,     -999,   6.7524,2,    0.013,2,    0.000,2,    99.80,2,     -999,9
49NZ20120113  ,P10N       ,      69,  1,         25,12009      ,2,20120117,1743,  25.1637, 149.3310,     5900,    770.5,   5.2283,  34.0986,2,  34.0995,2,     82.6,2,     82.6,2,    77.87,2,    36.13,2,     0.01,2,     2.62,2,    1.245,2,    0.626,2,    0.041,2,    0.264,2,     -999,9,     -999,9,     -999,9,     -999,   5.2268,2,    0.017,2,    0.000,2,    99.80,2,     -999,9
49NZ20120113  ,P10N       ,      69,  1,         24,12008      ,2,20120117,1743,  25.1637, 149.3310,     5900,    870.6,   4.3719,  34.2070,2,  34.2066,2,     50.6,2,     50.7,2,    98.55,2,    40.09,2,     0.01,2,     2.91,2,    0.562,2,    0.272,2,    0.016,2,    0.112,2,     -999,9,     -999,9,     -999,9,     -999,   4.3723,2,    0.020,2,    0.000,2,    99.80,2,     -999,9
49NZ20120113  ,P10N       ,      69,  1,         23,12007      ,2,20120117,1743,  25.1637, 149.3310,     5900,    972.8,   4.0056,  34.2774,2,  34.2767,2,     43.7,2,     43.7,2,   108.58,2,    41.24,2,     0.01,2,     2.97,2,    0.347,2,    0.168,2,    0.009,2,    0.084,2,     -999,9,     -999,9,     -999,9,     -999,   4.0051,2,    0.021,2,    0.000,2,    99.80,2,     -999,9
49NZ20120113  ,P10N       ,      69,  1,         22,12022      ,2,20120117,1743,  25.1637, 149.3310,     5900,   1129.7,   3.4147,  34.3857,2,  34.3851,2,     39.5,2,     39.4,2,   124.49,2,    42.32,2,     0.01,2,     3.06,2,    0.104,2,    0.050,2,    0.001,2,    0.000,2,     -999,9,     -999,9,     -999,9,     -999,   3.4145,2,    0.021,2,    0.000,2,    99.83,2,     -999,9
49NZ20120113  ,P10N       ,      69,  1,         21,12036      ,2,20120117,1743,  25.1637, 149.3310,     5900,   1331.1,   2.9688,  34.4837,2,  34.4831,2,     55.1,2,     55.3,2,   132.93,2,    41.71,2,     0.01,2,     2.99,2,    0.029,2,    0.015,2,    0.000,2,    0.000,2,     -999,9,     -999,9,     -999,9,     -999,   2.9691,2,    0.019,2,    0.000,2,    99.85,2,     -999,9
49NZ20120113  ,P10N       ,      69,  1,         20,12035      ,2,20120117,1743,  25.1637, 149.3310,     5900,   1529.6,   2.4953,  34.5316,2,  34.5316,2,     61.7,2,     61.9,2,   144.06,2,    41.56,2,     0.01,2,     2.98,2,    0.011,2,    0.006,2,    0.000,2,    0.000,2,     -999,9,     -999,9,     -999,9,     -999,   2.4954,2,    0.018,2,    0.000,2,    99.87,2,     -999,9
49NZ20120113  ,P10N       ,      69,  1,         19,12034      ,2,20120117,1743,  25.1637, 149.3310,     5900,   1730.3,   2.2225,  34.5730,2,  34.5732,2,     80.2,2,     80.4,2,   145.82,2,    40.48,2,     0.01,2,     2.90,2,    0.003,2,    0.001,2,    0.000,2,    0.000,2,     -999,9,     -999,9,     -999,9,     -999,   2.2225,2,    0.016,2,    0.000,2,    99.90,2,     -999,9
49NZ20120113  ,P10N       ,      69,  1,         18,12033      ,2,20120117,1743,  25.1637, 149.3310,     5900,   1929.9,   2.0006,  34.6032,2,  34.6032,2,     95.1,2,     95.2,2,   147.13,2,    39.59,2,     0.01,2,     2.82,2,    0.004,2,    0.002,2,    0.000,2,    0.000,2,     -999,9,     -999,9,     -999,9,     -999,   2.0007,2,    0.015,2,    0.000,2,    99.90,2,     -999,9
49NZ20120113  ,P10N       ,      69,  1,         17,12032      ,2,20120117,1743,  25.1637, 149.3310,     5900,   2131.6,   1.8723,  34.6202,2,  34.6203,2,    104.1,2,    104.3,2,   147.74,2,    39.09,2,     0.01,2,     2.78,2,    0.001,2,    0.000,2,    0.000,2,     -999,9,     -999,9,     -999,9,     -999,9,     -999,   1.8724,2,    0.014,2,    0.000,2,    99.92,2,     -999,9
49NZ20120113  ,P10N       ,      69,  1,         16,12046      ,2,20120117,1743,  25.1637, 149.3310,     5900,   2332.6,   1.7702,  34.6352,2,  34.6351,2,    113.3,2,    113.4,2,   147.25,2,    38.44,2,     0.01,2,     2.73,2,    0.000,2,    0.001,2,    0.000,2,     -999,9,     -999,9,     -999,9,     -999,9,     -999,   1.7702,2,    0.014,2,    0.000,2,    99.92,2,     -999,9
49NZ20120113  ,P10N       ,      69,  1,         15,12030      ,2,20120117,1743,  25.1637, 149.3310,     5900,   2530.2,   1.6904,  34.6476,2,  34.6471,2,    121.3,2,    121.3,2,   147.12,2,    37.86,2,     0.01,2,     2.69,2,    0.001,2,    0.000,2,    0.000,2,    0.031,2,     -999,9,     -999,9,     -999,9,     -999,   1.6905,2,    0.012,2,    0.000,2,    99.93,2,     -999,9
49NZ20120113  ,P10N       ,      69,  1,         14,12029      ,2,20120117,1743,  25.1637, 149.3310,     5900,   2730.4,   1.6344,  34.6556,2,  34.6553,2,    126.8,2,    127.0,2,   146.95,2,    37.72,2,     0.01,2,     2.66,2,    0.000,2,    0.000,2,    0.000,2,     -999,9,     -999,9,     -999,9,     -999,9,     -999,   1.6343,2,    0.012,2,    0.000,2,    99.94,2,     -999,9
49NZ20120113  ,P10N       ,      69,  1,         13,12028      ,2,20120117,1743,  25.1637, 149.3310,     5900,   2930.5,   1.5880,  34.6634,2,  34.6634,2,    132.9,2,    132.9,2,   146.23,2,    37.34,2,     0.01,2,     2.65,2,     -999,9,     -999,9,     -999,9,     -999,9,     -999,9,     -999,9,     -999,9,     -999,   1.5879,2,    0.012,2,    0.000,2,    99.94,2,     -999,9
49NZ20120113  ,P10N       ,      69,  1,         12,12027      ,2,20120117,1743,  25.1637, 149.3310,     5900,   3170.2,   1.5590,  34.6680,2,  34.6679,2,    137.0,2,    136.9,2,   145.48,2,    36.98,2,     0.01,2,     2.60,2,    0.000,2,    0.000,2,    0.000,2,    0.000,2,     -999,9,     -999,9,     -999,9,     -999,   1.5590,2,    0.011,2,    0.000,2,    99.95,2,     -999,9
49NZ20120113  ,P10N       ,      69,  1,         11,12011      ,2,20120117,1743,  25.1637, 149.3310,     5900,   3419.4,   1.5272,  34.6735,2,  34.6731,2,    141.9,2,    141.9,2,   144.76,2,    36.65,2,     0.01,2,     2.57,2,     -999,9,     -999,9,     -999,9,     -999,9,     -999,9,     -999,9,     -999,9,     -999,   1.5273,2,    0.011,2,    0.000,2,    99.95,2,     -999,9
49NZ20120113  ,P10N       ,      69,  1,         10,12026      ,2,20120117,1743,  25.1637, 149.3310,     5900,   3670.5,   1.5021,  34.6780,2,  34.6781,2,    146.8,2,    146.6,2,   143.71,2,    36.41,2,     0.01,2,     2.55,2,    0.000,2,    0.000,2,    0.000,2,     -999,9,     -999,9,     -999,9,     -999,9,     -999,   1.5020,2,    0.010,2,    0.000,2,    99.95,2,     -999,9
49NZ20120113  ,P10N       ,      69,  1,          9,12025      ,2,20120117,1743,  25.1637, 149.3310,     5900,   3920.2,   1.4876,  34.6813,2,  34.6811,2,    150.6,2,    150.3,2,   143.00,2,    36.16,2,     0.01,2,     2.55,2,    0.004,2,    0.002,2,    0.001,2,    0.000,2,     -999,9,     -999,9,     -999,9,     -999,   1.4876,2,    0.010,2,    0.000,2,    99.94,2,     -999,9
49NZ20120113  ,P10N       ,      69,  1,          8,12024      ,2,20120117,1743,  25.1637, 149.3310,     5900,   4171.5,   1.4772,  34.6849,2,  34.6849,2,    155.4,2,    155.1,2,   141.10,2,    35.87,2,     0.01,2,     2.52,2,    0.000,2,    0.000,2,    0.000,2,     -999,9,     -999,9,     -999,9,     -999,9,     -999,   1.4772,2,    0.010,2,    0.000,2,    99.95,2,     -999,9
49NZ20120113  ,P10N       ,      69,  1,          7,12023      ,2,20120117,1743,  25.1637, 149.3310,     5900,   4419.6,   1.4822,  34.6865,2,  34.6866,2,    157.4,2,    157.0,2,   140.55,2,    35.64,2,     0.01,2,     2.50,2,     -999,9,     -999,9,     -999,9,     -999,9,     -999,9,     -999,9,     -999,9,     -999,   1.4823,2,    0.010,2,    0.000,2,    99.93,2,     -999,9
49NZ20120113  ,P10N       ,      69,  1,          6,12006      ,2,20120117,1743,  25.1637, 149.3310,     5900,   4671.6,   1.4907,  34.6883,2,  34.6881,2,    159.8,2,    159.5,2,   139.93,2,    35.48,2,     0.01,2,     2.50,2,    0.000,2,    0.001,2,    0.000,2,    0.000,2,     -999,9,     -999,9,     -999,9,     -999,   1.4907,2,    0.009,2,    0.000,2,    99.92,2,     -999,9
49NZ20120113  ,P10N       ,      69,  1,          5,12102      ,2,20120117,1743,  25.1637, 149.3310,     5900,   4919.7,   1.5060,  34.6899,2,  34.6898,2,    163.0,2,    162.7,2,   137.77,2,    35.12,2,     0.01,2,     2.47,2,     -999,9,     -999,9,     -999,9,     -999,9,     -999,9,     -999,9,     -999,9,     -999,   1.5060,2,    0.009,2,    0.000,2,    99.93,2,     -999,9
49NZ20120113  ,P10N       ,      69,  1,          4,12104      ,2,20120117,1743,  25.1637, 149.3310,     5900,   5171.9,   1.5259,  34.6910,2,  34.6909,2,    164.4,2,    164.2,2,   136.79,2,    35.07,2,     0.01,2,     2.47,2,    0.001,2,    0.000,2,    0.000,2,     -999,9,     -999,9,     -999,9,     -999,9,     -999,   1.5260,2,    0.010,2,    0.000,2,    99.92,2,     -999,9
49NZ20120113  ,P10N       ,      69,  1,          3,12003      ,2,20120117,1743,  25.1637, 149.3310,     5900,   5419.6,   1.5459,  34.6919,2,  34.6920,2,    166.2,2,    166.0,2,   135.65,2,    35.04,2,     0.02,2,     2.47,2,    0.000,2,    0.000,2,    0.000,2,    0.000,2,     -999,9,     -999,9,     -999,9,     -999,   1.5460,2,    0.009,2,    0.000,2,    99.91,2,     -999,9
49NZ20120113  ,P10N       ,      69,  1,          2,12103      ,2,20120117,1743,  25.1637, 149.3310,     5900,   5669.2,   1.5530,  34.6941,2,  34.6942,2,    170.3,2,    170.4,2,   132.97,2,    34.76,2,     0.01,2,     2.44,2,    0.001,2,    0.007,2,    0.000,2,     -999,9,     -999,9,     -999,9,     -999,9,     -999,   1.5530,2,    0.009,2,    0.000,2,    99.91,2,     -999,9
49NZ20120113  ,P10N       ,      69,  1,          1,12001      ,2,20120117,1743,  25.1637, 149.3310,     5900,   6010.0,   1.5618,  34.6969,2,  34.6973,2,    175.7,2,    176.0,2,   129.32,2,    34.30,2,     0.01,2,     2.41,2,    0.003,2,    0.000,2,    0.000,2,    0.000,2,     -999,9,     -999,9,     -999,9,     -999,   1.5617,2,    0.009,2,    0.000,2,    99.88,2,     -999,9