BOTTLE,20231026CCHSIOVAJ
EXPOCODE,SECT_ID,STNNBR,CASTNO,SAMPNO,BTLNBR,BTLNBR_FLAG_W,DATE,TIME,LATITUDE,LONGITUDE,DEPTH,CTDPRS,CTDTMP,CTDSAL,CTDSAL_FLAG_W,SALNTY,SALNTY_FLAG_W,CTDOXY,CTDOXY_FLAG_W,OXYGEN,OXYGEN_FLAG_W,SILCAT,SILCAT_FLAG_W,NITRAT,NITRAT_FLAG_W,NITRIT,NITRIT_FLAG_W,PHSPHT,PHSPHT_FLAG_W,CFC-11,CFC-11_FLAG_W,CFC-12,CFC-12_FLAG_W,CFC113,CFC113_FLAG_W,SF6,SF6_FLAG_W,TCARBN,TCARBN_FLAG_W,ALKALI,ALKALI_FLAG_W,PH_TOT,PH_TOT_FLAG_W,PH_TMP,REFTMP,REFTMP_FLAG_W,CTDFLUOR,CTDFLUOR_FLAG_W,PAR,PAR_FLAG_W,CTDXMISS,CTDXMISS_FLAG_W,CHLORA,CHLORA_FLAG_W
,,,,,,,,,,,METERS,DBAR,ITS-90,PSS-78,,PSS-78,,UMOL/KG,,UMOL/KG,,UMOL/KG,,UMOL/KG,,UMOL/KG,,UMOL/KG,,PMOL/KG,,PMOL/KG,,PMOL/KG,,FMOL/KG,,UMOL/KG,,UMOL/KG,,,,DEG C,ITS-90,,MG/M^3,,VOLTS,,%TRANS,,UG/KG,
49NZ20120113  ,P10N       ,      63,  1,          0,BUC        ,2,20120115,2113,  21.8322, 149.3333,     5624,      0.0,     -999,     -999,9,  34.8152,2,     -999,9,     -999,9,     -999,9,     -999,9,     -999,9,     -999,9,     -999,9,     -999,9,     -999,9,     -999,9,     -999,9,     -999,9,     -999,9,     -999,     -999,9,     -999,9,     -999,9,     -999,9,     -999,9
49NZ20120113  ,P10N       ,      63,  1,         36,12021      ,2,20120115,2113,  21.8322, 149.3333,     5624,      9.6,  26.6392,  34.7998,2,  34.7986,2,    201.6,2,    202.0,2,     0.53,2,     0.10,2,     0.01,2,     0.05,2,    1.534,2,    0.978,2,     -999,5,     -999,5,     -999,9,     -999,9,     -999,9,     -999,  26.6360,2,    0.043,2,  467.534,2,    98.89,2,     -999,9
49NZ20120113  ,P10N       ,      63,  1,         35,12001      ,2,20120115,2113,  21.8322, 149.3333,     5624,     49.3,  26.6336,  34.7977,2,  34.7975,2,    201.3,2,    202.1,2,     0.56,2,     0.11,2,     0.01,2,     0.04,2,    1.549,2,    0.980,2,    0.115,6,    1.230,6,     -999,9,     -999,9,     -999,9,     -999,  26.6334,2,    0.078,2,   67.937,2,    98.88,2,     -999,9
49NZ20120113  ,P10N       ,      63,  1,         34,12019      ,2,20120115,2113,  21.8322, 149.3333,     5624,     99.6,  24.6836,  35.1207,2,  35.1200,2,    198.1,2,    198.7,2,     0.86,2,     0.09,2,     0.04,2,     0.07,2,    1.777,6,    1.122,6,    0.113,2,    1.277,2,     -999,9,     -999,9,     -999,9,     -999,  24.6919,2,    0.358,2,    8.585,2,    98.78,2,     -999,9
49NZ20120113  ,P10N       ,      63,  1,         33,12018      ,2,20120115,2113,  21.8322, 149.3333,     5624,    150.7,  22.1870,  35.1216,2,  35.1177,2,    203.7,2,    204.4,2,     1.27,2,     0.08,2,     0.11,2,     0.09,2,    1.965,2,    1.222,2,    0.105,2,    1.389,2,     -999,9,     -999,9,     -999,9,     -999,  22.1865,2,    0.218,2,    0.633,2,    99.16,2,     -999,9
49NZ20120113  ,P10N       ,      63,  1,         32,12017      ,2,20120115,2113,  21.8322, 149.3333,     5624,    200.0,  19.5134,  34.8635,2,  34.8634,2,    194.7,2,    195.4,2,     2.24,2,     2.31,2,     0.02,2,     0.21,2,    2.156,2,    1.322,2,    0.058,2,    1.342,2,     -999,9,     -999,9,     -999,9,     -999,  19.5220,2,    0.076,2,    0.046,2,    99.43,2,     -999,9
49NZ20120113  ,P10N       ,      63,  1,         31,12016      ,2,20120115,2113,  21.8322, 149.3333,     5624,    249.6,  17.9302,  34.7423,2,  34.7401,2,    194.9,2,    195.2,2,     3.19,2,     4.43,2,     0.02,2,     0.33,2,    2.297,2,    1.385,2,    0.027,2,    1.375,2,     -999,9,     -999,9,     -999,9,     -999,  17.9251,2,    0.014,2,    0.000,2,    99.58,2,     -999,9
49NZ20120113  ,P10N       ,      63,  1,         30,12015      ,2,20120115,2113,  21.8322, 149.3333,     5624,    280.2,  17.2902,  34.6982,2,  34.6918,2,    194.0,2,    194.8,2,     4.11,2,     5.59,2,     0.02,2,     0.40,2,    2.383,2,    1.429,2,    0.021,2,    1.335,2,     -999,9,     -999,9,     -999,9,     -999,  17.2911,2,    0.005,2,    0.000,2,    99.62,2,     -999,9
49NZ20120113  ,P10N       ,      63,  1,         29,12014      ,2,20120115,2113,  21.8322, 149.3333,     5624,    369.7,  14.5895,  34.5134,2,  34.5142,2,    192.2,2,    192.8,2,     8.70,2,     9.60,2,     0.01,2,     0.69,2,    2.669,2,    1.543,2,    0.025,6,    1.224,6,     -999,9,     -999,9,     -999,9,     -999,  14.5901,2,    0.005,2,    0.000,2,    99.69,2,     -999,9
49NZ20120113  ,P10N       ,      63,  1,         28,12101      ,2,20120115,2113,  21.8322, 149.3333,     5624,    469.0,  11.1869,  34.2824,2,  34.2852,2,    182.1,2,    182.9,2,    19.24,2,    16.22,2,     0.01,2,     1.17,2,    2.823,2,    1.543,2,    0.054,2,    0.972,2,     -999,9,     -999,9,     -999,9,     -999,  11.1930,2,    0.008,2,    0.000,2,    99.75,2,     -999,9
49NZ20120113  ,P10N       ,      63,  1,         27,12012      ,2,20120115,2113,  21.8322, 149.3333,     5624,    569.6,   8.4880,  34.1272,2,  34.1271,2,    152.2,2,    152.0,2,    36.02,2,    24.14,2,     0.01,2,     1.73,2,    2.451,6,    1.283,6,    0.056,2,    0.668,2,     -999,9,     -999,9,     -999,9,     -999,   8.4885,2,    0.010,2,    0.000,2,    99.78,2,     -999,9
49NZ20120113  ,P10N       ,      63,  1,         26,12010      ,2,20120115,2113,  21.8322, 149.3333,     5624,    671.6,   6.2855,  34.0917,2,  34.0921,2,    104.5,2,    104.2,2,    61.13,2,    32.45,2,     0.01,2,     2.36,2,    1.535,2,    0.791,2,    0.040,2,    0.365,2,     -999,9,     -999,9,     -999,9,     -999,   6.2860,2,    0.015,2,    0.000,2,    99.80,2,     -999,9
49NZ20120113  ,P10N       ,      63,  1,         25,12009      ,2,20120115,2113,  21.8322, 149.3333,     5624,    769.0,   5.1188,  34.2096,2,  34.2087,2,     59.6,2,     59.9,2,    83.68,2,    38.42,2,     0.01,2,     2.79,2,    0.580,2,    0.286,2,    0.013,2,    0.141,2,     -999,9,     -999,9,     -999,9,     -999,   5.1191,2,    0.019,2,    0.000,2,    99.80,2,     -999,9
49NZ20120113  ,P10N       ,      63,  1,         24,12008      ,2,20120115,2113,  21.8322, 149.3333,     5624,    870.2,   4.4660,  34.3100,2,  34.3095,2,     49.6,2,     49.7,2,    98.25,2,    40.31,2,     0.01,2,     2.94,2,    0.261,2,    0.127,2,    0.005,2,    0.028,2,     -999,9,     -999,9,     -999,9,     -999,   4.4661,2,    0.020,2,    0.000,2,    99.82,2,     -999,9
49NZ20120113  ,P10N       ,      63,  1,         23,12007      ,2,20120115,2113,  21.8322, 149.3333,     5624,    969.7,   4.0140,  34.3769,2,  34.3778,2,     50.2,2,     50.4,2,   108.06,2,    40.89,2,     0.01,2,     2.96,2,    0.142,2,    0.070,2,    0.003,2,    0.035,2,     -999,9,     -999,9,     -999,9,     -999,   4.0142,2,    0.019,2,    0.000,2,    99.82,2,     -999,9
49NZ20120113  ,P10N       ,      63,  1,         22,12022      ,2,20120115,2113,  21.8322, 149.3333,     5624,   1130.4,   3.5731,  34.4759,2,  34.4766,2,     64.4,2,     64.6,2,   116.33,2,    40.44,2,     0.01,2,     2.91,2,    0.056,2,    0.026,2,    0.001,2,    0.000,2,     -999,9,     -999,9,     -999,9,     -999,   3.5733,2,    0.018,2,    0.000,2,    99.86,2,     -999,9
49NZ20120113  ,P10N       ,      63,  1,         21,12036      ,2,20120115,2113,  21.8322, 149.3333,     5624,   1329.1,   3.0800,  34.5370,2,  34.5368,2,     77.3,2,     77.6,2,   124.63,2,    39.95,2,     0.01,2,     2.88,2,    0.017,2,    0.009,2,    0.000,2,    0.000,2,     -999,9,     -999,9,     -999,9,     -999,   3.0801,2,    0.017,2,    0.000,2,    99.88,2,     -999,9
49NZ20120113  ,P10N       ,      63,  1,         20,12035      ,2,20120115,2113,  21.8322, 149.3333,     5624,   1529.3,   2.6596,  34.5645,2,  34.5642,2,     86.7,2,     87.1,2,   132.01,2,    39.69,2,     0.01,2,     2.86,2,    0.013,2,    0.008,2,    0.000,2,    0.000,2,     -999,9,     -999,9,     -999,9,     -999,   2.6605,2,    0.015,2,    0.000,2,    99.89,2,     -999,9
49NZ20120113  ,P10N       ,      63,  1,         19,12034      ,2,20120115,2113,  21.8322, 149.3333,     5624,   1729.0,   2.3487,  34.5867,2,  34.5863,2,     93.6,2,     94.0,2,   137.44,2,    39.49,2,     0.01,2,     2.82,2,    0.007,2,    0.005,2,    0.001,2,    0.000,2,     -999,9,     -999,9,     -999,9,     -999,   2.3491,2,    0.015,2,    0.000,2,    99.92,2,     -999,9
49NZ20120113  ,P10N       ,      63,  1,         18,12033      ,2,20120115,2113,  21.8322, 149.3333,     5624,   1930.1,   2.1288,  34.6034,2,  34.6032,2,     99.9,2,    100.3,2,   141.17,2,    39.20,2,     0.01,2,     2.78,2,    0.003,2,    0.002,2,    0.000,2,    0.043,2,     -999,9,     -999,9,     -999,9,     -999,   2.1286,2,    0.014,2,    0.000,2,    99.90,2,     -999,9
49NZ20120113  ,P10N       ,      63,  1,         17,12032      ,2,20120115,2113,  21.8322, 149.3333,     5624,   2129.5,   1.9523,  34.6185,2,  34.6180,2,    106.1,2,    106.4,2,   144.00,2,    38.82,2,     0.01,2,     2.75,2,    0.003,2,    0.000,2,    0.000,2,     -999,9,     -999,9,     -999,9,     -999,9,     -999,   1.9514,2,    0.014,2,    0.000,2,    99.92,2,     -999,9
49NZ20120113  ,P10N       ,      63,  1,         16,12046      ,2,20120115,2113,  21.8322, 149.3333,     5624,   2330.0,   1.8325,  34.6344,2,  34.6345,2,    113.9,2,    114.2,2,   145.21,2,    38.40,2,     0.01,2,     2.73,2,    0.001,2,    0.000,2,    0.000,2,     -999,9,     -999,9,     -999,9,     -999,9,     -999,   1.8325,2,    0.014,2,    0.000,2,    99.92,2,     -999,9
49NZ20120113  ,P10N       ,      63,  1,         15,12030      ,2,20120115,2113,  21.8322, 149.3333,     5624,   2530.0,   1.7380,  34.6464,2,  34.6465,2,    120.6,2,    121.0,2,   145.75,2,    38.03,2,     0.01,2,     2.70,2,    0.001,2,    0.001,2,    0.000,2,    0.040,2,     -999,9,     -999,9,     -999,9,     -999,   1.7381,2,    0.013,2,    0.000,2,    99.93,2,     -999,9
49NZ20120113  ,P10N       ,      63,  1,         14,12029      ,2,20120115,2113,  21.8322, 149.3333,     5624,   2730.0,   1.6852,  34.6546,2,  34.6547,2,    126.0,2,    126.4,2,   145.32,2,    37.77,2,     0.01,2,     2.66,2,    0.000,2,    0.000,2,    0.000,2,     -999,9,     -999,9,     -999,9,     -999,9,     -999,   1.6850,2,    0.013,2,    0.000,2,    99.95,2,     -999,9
49NZ20120113  ,P10N       ,      63,  1,         13,12028      ,2,20120115,2113,  21.8322, 149.3333,     5624,   2930.4,   1.6274,  34.6620,2,  34.6618,2,    131.2,2,    131.5,2,   145.45,2,    37.38,2,     0.01,2,     2.63,2,     -999,9,     -999,9,     -999,9,     -999,9,     -999,9,     -999,9,     -999,9,     -999,   1.6274,2,    0.012,2,    0.000,2,    99.95,2,     -999,9
49NZ20120113  ,P10N       ,      63,  1,         12,12027      ,2,20120115,2113,  21.8322, 149.3333,     5624,   3169.6,   1.5725,  34.6686,2,  34.6685,2,    136.9,2,    137.1,2,   145.05,2,    37.03,2,     0.01,2,     2.62,2,    0.002,2,    0.000,2,    0.000,2,    0.039,2,     -999,9,     -999,9,     -999,9,     -999,   1.5724,2,    0.011,2,    0.000,2,    99.95,2,     -999,9
49NZ20120113  ,P10N       ,      63,  1,         11,12011      ,2,20120115,2113,  21.8322, 149.3333,     5624,   3420.1,   1.5273,  34.6746,2,  34.6742,2,    142.7,2,    142.8,2,   143.91,2,    36.68,2,     0.01,2,     2.58,2,     -999,9,     -999,9,     -999,9,     -999,9,     -999,9,     -999,9,     -999,9,     -999,   1.5273,2,    0.011,2,    0.000,2,    99.95,2,     -999,9
49NZ20120113  ,P10N       ,      63,  1,         10,12026      ,2,20120115,2113,  21.8322, 149.3333,     5624,   3669.8,   1.5032,  34.6786,2,  34.6783,2,    147.1,2,    147.4,2,   142.67,2,    36.33,2,     0.01,2,     2.55,2,    0.003,2,    0.000,2,    0.000,2,     -999,9,     -999,9,     -999,9,     -999,9,     -999,   1.5034,2,    0.011,2,    0.000,2,    99.95,2,     -999,9
49NZ20120113  ,P10N       ,      63,  1,          9,12025      ,2,20120115,2113,  21.8322, 149.3333,     5624,   3920.6,   1.4904,  34.6822,2,  34.6818,2,    151.2,2,    151.4,2,   141.56,2,    36.00,2,     0.01,2,     2.52,2,    0.001,2,    0.000,2,    0.000,2,    0.000,2,     -999,9,     -999,9,     -999,9,     -999,   1.4905,2,    0.010,2,    0.000,2,    99.96,2,     -999,9
49NZ20120113  ,P10N       ,      63,  1,          8,12024      ,2,20120115,2113,  21.8322, 149.3333,     5624,   4169.9,   1.4648,  34.6865,2,  34.6861,2,    157.2,2,    157.3,2,   139.28,2,    35.63,2,     0.01,2,     2.51,2,    0.002,2,    0.003,2,    0.000,2,     -999,9,     -999,9,     -999,9,     -999,9,     -999,   1.4648,2,    0.010,2,    0.000,2,    99.95,2,     -999,9
49NZ20120113  ,P10N       ,      63,  1,          7,12023      ,2,20120115,2113,  21.8322, 149.3333,     5624,   4420.4,   1.4567,  34.6894,2,  34.6890,2,    162.1,2,    162.1,2,   136.74,2,    35.32,2,     0.01,2,     2.49,2,    0.001,2,    0.000,2,    0.000,2,    0.000,2,     -999,9,     -999,9,     -999,9,     -999,   1.4567,2,    0.009,2,    0.000,2,    99.95,2,     -999,9
49NZ20120113  ,P10N       ,      63,  1,          6,12006      ,2,20120115,2113,  21.8322, 149.3333,     5624,   4669.9,   1.4697,  34.6909,2,  34.6942,4,    164.3,2,    164.4,2,   131.85,4,    34.71,4,     0.01,4,     2.42,4,    0.000,2,    0.000,2,    0.000,2,    0.030,2,     -999,9,     -999,9,     -999,9,     -999,   1.4698,2,    0.009,2,    0.000,2,    99.95,2,     -999,9
49NZ20120113  ,P10N       ,      63,  1,          5,12102      ,3,20120115,2113,  21.8322, 149.3333,     5624,   4920.4,   1.4725,  34.6933,2,  34.6935,2,    168.5,2,    168.4,2,   132.95,2,    34.80,2,     0.01,2,     2.43,2,    0.003,2,    0.001,2,    0.000,2,    0.022,2,     -999,9,     -999,9,     -999,9,     -999,   1.4726,2,    0.009,2,    0.000,2,    99.92,2,     -999,9
49NZ20120113  ,P10N       ,      63,  1,          4,12104      ,2,20120115,2113,  21.8322, 149.3333,     5624,   5170.0,   1.4901,  34.6944,2,  34.6946,2,    170.4,2,    170.6,2,   132.04,2,    34.66,2,     0.01,2,     2.43,2,    0.007,2,    0.003,2,    0.000,2,     -999,9,     -999,9,     -999,9,     -999,9,     -999,   1.4901,2,    0.009,2,    0.000,2,    99.92,2,     -999,9
49NZ20120113  ,P10N       ,      63,  1,          3,12003      ,2,20120115,2113,  21.8322, 149.3333,     5624,   5420.1,   1.5035,  34.6957,2,  34.6957,2,    172.9,2,    173.1,2,   130.44,2,    34.54,2,     0.01,2,     2.42,2,    0.000,2,    0.000,2,    0.000,2,    0.000,2,     -999,9,     -999,9,     -999,9,     -999,   1.5035,2,    0.009,2,    0.000,2,    99.93,2,     -999,9
49NZ20120113  ,P10N       ,      63,  1,          2,12103      ,2,20120115,2113,  21.8322, 149.3333,     5624,   5670.3,   1.5128,  34.6973,2,  34.6972,2,    175.8,2,    176.2,2,   128.80,2,    34.45,2,     0.01,2,     2.40,2,    0.001,2,    0.001,2,    0.000,2,     -999,9,     -999,9,     -999,9,     -999,9,     -999,   1.5128,2,    0.009,2,    0.000,2,    99.93,2,     -999,9
49NZ20120113  ,P10N       ,      63,  1,          1,12001      ,2,20120115,2113,  21.8322, 149.3333,     5624,   5715.6,   1.5178,  34.6971,2,  34.6974,2,    176.0,2,    176.3,2,   128.79,2,    34.32,2,     0.01,2,     2.39,2,    0.000,2,    0.000,2,    0.000,2,    0.000,2,     -999,9,     -999,9,     -999,9,     -999,   1.5176,2,    0.009,2,    0.000,2,    99.92,2,     -999,9