BOTTLE,20231026CCHSIOVAJ
EXPOCODE,SECT_ID,STNNBR,CASTNO,SAMPNO,BTLNBR,BTLNBR_FLAG_W,DATE,TIME,LATITUDE,LONGITUDE,DEPTH,CTDPRS,CTDTMP,CTDSAL,CTDSAL_FLAG_W,SALNTY,SALNTY_FLAG_W,CTDOXY,CTDOXY_FLAG_W,OXYGEN,OXYGEN_FLAG_W,SILCAT,SILCAT_FLAG_W,NITRAT,NITRAT_FLAG_W,NITRIT,NITRIT_FLAG_W,PHSPHT,PHSPHT_FLAG_W,CFC-11,CFC-11_FLAG_W,CFC-12,CFC-12_FLAG_W,CFC113,CFC113_FLAG_W,SF6,SF6_FLAG_W,TCARBN,TCARBN_FLAG_W,ALKALI,ALKALI_FLAG_W,PH_TOT,PH_TOT_FLAG_W,PH_TMP,REFTMP,REFTMP_FLAG_W,CTDFLUOR,CTDFLUOR_FLAG_W,PAR,PAR_FLAG_W,CTDXMISS,CTDXMISS_FLAG_W,CHLORA,CHLORA_FLAG_W
,,,,,,,,,,,METERS,DBAR,ITS-90,PSS-78,,PSS-78,,UMOL/KG,,UMOL/KG,,UMOL/KG,,UMOL/KG,,UMOL/KG,,UMOL/KG,,PMOL/KG,,PMOL/KG,,PMOL/KG,,FMOL/KG,,UMOL/KG,,UMOL/KG,,,,DEG C,ITS-90,,MG/M^3,,VOLTS,,%TRANS,,UG/KG,
49NZ20120113  ,P10N       ,     110,  2,          0,BUC        ,2,20120205,0733,  41.2503, 144.5118,     4044,      0.0,     -999,     -999,9,  33.4351,2,     -999,9,     -999,9,     -999,9,     -999,9,     -999,9,     -999,9,     -999,9,     -999,9,     -999,9,     -999,9,     -999,9,     -999,9,     -999,9,     -999,     -999,9,     -999,9,     -999,9,     -999,9,     -999,9
49NZ20120113  ,P10N       ,     110,  2,         36,12021      ,2,20120205,0733,  41.2503, 144.5118,     4044,     10.3,   3.9770,  33.4372,2,  33.4379,2,    302.7,2,    304.1,2,    31.76,2,    17.63,2,     0.13,2,     1.43,2,    4.664,2,    2.600,2,    0.419,2,    2.521,2,   2124.6,2,   2257.5,2,   7.7166,6,    25.00,   3.9812,2,    0.467,2,    0.051,2,    97.96,2,     -999,9
49NZ20120113  ,P10N       ,     110,  2,         35,12001      ,2,20120205,0733,  41.2503, 144.5118,     4044,     49.2,   3.9452,  33.4357,2,  33.4367,2,    302.7,2,    303.9,2,    31.81,2,    17.67,2,     0.13,2,     1.44,2,    4.654,2,    2.598,2,    0.414,6,    2.553,6,   2124.7,6,   2255.9,2,   7.7160,2,    25.00,   3.9454,2,    0.461,2,    0.000,2,    98.01,2,     -999,9
49NZ20120113  ,P10N       ,     110,  2,         34,12019      ,2,20120205,0733,  41.2503, 144.5118,     4044,    100.3,   3.8247,  33.4231,2,  33.4241,2,    301.7,2,    302.8,2,    33.10,2,    18.28,2,     0.13,2,     1.48,2,    4.692,6,    2.604,6,    0.418,2,    2.538,2,   2127.5,2,   2257.5,6,   7.7072,2,    25.00,   3.8206,2,    0.431,2,    0.000,2,    98.13,2,     -999,9
49NZ20120113  ,P10N       ,     110,  2,         33,12018      ,2,20120205,0733,  41.2503, 144.5118,     4044,    149.8,   3.0583,  33.4043,2,  33.4051,2,    238.4,2,    239.0,2,    51.91,2,    27.07,2,     0.03,2,     2.10,2,    4.526,2,    2.449,2,    0.382,2,    2.222,2,   2185.7,2,   2263.9,2,   7.5631,6,    25.00,   3.0590,2,    0.064,2,    0.000,2,    99.22,2,     -999,9
49NZ20120113  ,P10N       ,     110,  2,         32,12017      ,2,20120205,0733,  41.2503, 144.5118,     4044,    199.9,   2.2666,  33.4345,2,  33.4346,2,    196.3,2,    196.7,2,    69.47,2,    32.34,2,     0.02,2,     2.48,2,    4.251,2,    2.284,2,    0.346,2,    1.917,2,   2230.1,2,   2274.0,2,   7.4591,2,    25.00,   2.2663,2,    0.018,2,    0.000,2,    99.25,2,     -999,9
49NZ20120113  ,P10N       ,     110,  2,         31,12016      ,2,20120205,0733,  41.2503, 144.5118,     4044,    249.4,   2.8846,  33.5505,2,  33.5542,2,    183.9,2,    183.9,2,    66.63,2,    32.36,2,     0.02,2,     2.45,2,    3.966,2,    2.115,2,    0.321,2,    1.739,2,   2232.1,2,   2275.8,2,   7.4626,2,    25.00,   2.8849,2,    0.017,2,    0.000,2,    99.44,2,     -999,9
49NZ20120113  ,P10N       ,     110,  2,         30,12015      ,2,20120205,0733,  41.2503, 144.5118,     4044,    300.9,   2.8143,  33.6310,2,  33.6311,2,    150.9,2,    151.5,2,    75.89,2,    35.37,2,     0.02,2,     2.64,2,    3.590,2,    1.895,2,    0.274,2,    1.482,2,   2257.0,2,   2283.6,2,   7.4067,2,    25.00,   2.8138,2,    0.019,2,    0.000,2,    99.51,2,     -999,9
49NZ20120113  ,P10N       ,     110,  2,          6,12006      ,2,20120205,0733,  41.2503, 144.5118,     4044,    400.0,   2.9126,  33.7970,2,     -999,9,     97.6,2,     -999,9,     -999,9,     -999,9,     -999,9,     -999,9,     -999,9,     -999,9,     -999,9,     -999,9,     -999,9,     -999,9,     -999,9,     -999,   2.9125,2,    0.021,2,    0.000,2,    99.55,2,     -999,9
49NZ20120113  ,P10N       ,     110,  2,          7,12023      ,2,20120205,0733,  41.2503, 144.5118,     4044,    400.4,   2.9327,  33.8007,2,     -999,9,     97.3,2,     -999,9,     -999,9,     -999,9,     -999,9,     -999,9,     -999,9,     -999,9,     -999,9,     -999,9,     -999,9,     -999,9,     -999,9,     -999,   2.9325,2,    0.021,2,    0.000,2,    99.62,2,     -999,9
49NZ20120113  ,P10N       ,     110,  2,         29,12014      ,2,20120205,0733,  41.2503, 144.5118,     4044,    400.4,   2.9367,  33.8007,2,  33.7989,2,     97.0,2,     97.7,2,    92.46,2,    39.38,2,     0.01,2,     2.90,2,    2.733,2,    1.419,2,    0.210,6,    0.998,6,   2297.5,2,   2301.2,2,   7.3327,2,    25.00,   2.9371,2,    0.021,2,    0.000,2,    99.62,2,     -999,9
49NZ20120113  ,P10N       ,     110,  2,         28,12024      ,2,20120205,0733,  41.2503, 144.5118,     4044,    501.6,   3.6534,  34.0261,2,  34.0270,2,     61.4,2,     61.7,2,   100.65,2,    40.73,2,     0.01,2,     2.96,2,    1.655,2,    0.860,2,    0.106,2,    0.502,2,   2317.2,2,   2319.7,2,   7.3301,2,    25.00,   3.6515,2,    0.021,2,    0.000,2,    99.65,2,     -999,9
49NZ20120113  ,P10N       ,     110,  2,         27,12012      ,2,20120205,0733,  41.2503, 144.5118,     4044,    601.8,   3.3577,  34.0955,2,  34.0943,2,     42.5,2,     42.4,2,   113.15,2,    42.45,2,     0.01,2,     3.08,2,    1.262,6,    0.655,6,    0.086,2,    0.359,2,   2341.1,2,   2332.8,2,   7.2981,2,    25.00,   3.3583,2,    0.023,2,    0.000,2,    99.70,2,     -999,9
49NZ20120113  ,P10N       ,     110,  2,          5,12102      ,2,20120205,0733,  41.2503, 144.5118,     4044,    602.1,   3.3591,  34.0955,2,     -999,9,     42.5,2,     -999,9,     -999,9,     -999,9,     -999,9,     -999,9,     -999,9,     -999,9,     -999,9,     -999,9,     -999,9,     -999,9,     -999,9,     -999,   3.3577,2,    0.023,2,    0.000,2,    99.70,2,     -999,9
49NZ20120113  ,P10N       ,     110,  2,          4,12104      ,2,20120205,0733,  41.2503, 144.5118,     4044,    602.4,   3.3609,  34.0960,2,     -999,9,     42.5,2,     -999,9,     -999,9,     -999,9,     -999,9,     -999,9,     -999,9,     -999,9,     -999,9,     -999,9,     -999,9,     -999,9,     -999,9,     -999,   3.3599,2,    0.022,2,    0.000,2,    99.71,2,     -999,9
49NZ20120113  ,P10N       ,     110,  2,         26,12010      ,2,20120205,0733,  41.2503, 144.5118,     4044,    699.7,   3.7999,  34.2634,2,  34.2634,2,     49.2,2,     49.4,2,   113.52,2,    40.84,2,     0.01,2,     2.95,2,    0.627,2,    0.324,2,    0.027,2,    0.120,2,   2334.6,6,   2350.3,2,   7.3660,2,    25.00,   3.8000,2,    0.021,2,    0.000,2,    99.72,2,     -999,9
49NZ20120113  ,P10N       ,     110,  2,          2,12103      ,2,20120205,0733,  41.2503, 144.5118,     4044,    800.1,   3.3718,  34.3057,2,     -999,9,     40.5,2,     -999,9,     -999,9,     -999,9,     -999,9,     -999,9,     -999,9,     -999,9,     -999,9,     -999,9,     -999,9,     -999,9,     -999,9,     -999,   3.3712,2,    0.021,2,    0.000,2,    99.72,2,     -999,9
49NZ20120113  ,P10N       ,     110,  2,          3,12003      ,2,20120205,0733,  41.2503, 144.5118,     4044,    800.5,   3.3560,  34.3045,2,     -999,9,     40.8,2,     -999,9,     -999,9,     -999,9,     -999,9,     -999,9,     -999,9,     -999,9,     -999,9,     -999,9,     -999,9,     -999,9,     -999,9,     -999,   3.3528,2,    0.021,2,    0.000,2,    99.73,2,     -999,9
49NZ20120113  ,P10N       ,     110,  2,         25,12009      ,2,20120205,0733,  41.2503, 144.5118,     4044,    800.6,   3.3483,  34.3041,2,  34.3050,2,     40.3,2,     40.5,2,   125.54,2,    42.07,2,     0.01,2,     3.05,2,    0.464,2,    0.241,2,    0.026,2,    0.095,2,   2351.0,2,   2361.2,6,   7.3491,2,    25.00,   3.3495,2,    0.021,2,    0.000,2,    99.72,2,     -999,9
49NZ20120113  ,P10N       ,     110,  2,         24,12008      ,2,20120205,0733,  41.2503, 144.5118,     4044,    899.5,   3.0370,  34.3368,2,  34.3369,2,     36.1,2,     35.8,2,   134.73,2,    42.61,2,     0.01,2,     3.09,2,    0.384,2,    0.201,2,    0.020,2,    0.094,2,   2363.7,2,   2370.0,2,   7.3358,2,    25.00,   3.0359,2,    0.021,2,    0.000,2,    99.68,2,     -999,9
49NZ20120113  ,P10N       ,     110,  2,         23,12007      ,2,20120205,0733,  41.2503, 144.5118,     4044,    998.0,   2.9185,  34.3819,2,  34.3810,2,     37.8,2,     37.4,2,   138.58,2,    42.63,2,     0.01,2,     3.08,2,    0.270,2,    0.139,2,    0.014,2,    0.068,2,   2367.8,2,   2377.8,2,   7.3466,2,    25.00,   2.9179,2,    0.021,2,    0.000,2,    99.69,2,     -999,9
49NZ20120113  ,P10N       ,     110,  2,         22,12022      ,2,20120205,0733,  41.2503, 144.5118,     4044,   1200.4,   2.6260,  34.4487,2,  34.4490,2,     39.8,2,     39.7,2,   147.45,2,    42.75,2,     0.01,2,     3.09,2,    0.140,2,    0.075,2,    0.005,2,    0.041,2,   2374.8,2,   2390.9,2,   7.3649,2,    25.00,   2.6260,2,    0.021,2,    0.000,2,    99.66,2,     -999,9
49NZ20120113  ,P10N       ,     110,  2,         21,12036      ,2,20120205,0733,  41.2503, 144.5118,     4044,   1401.0,   2.3757,  34.5030,2,  34.5032,2,     45.4,2,     45.2,2,   153.95,2,    42.56,2,     0.01,2,     3.07,2,    0.071,2,    0.036,2,    0.003,2,    0.031,2,   2379.9,2,   2400.6,2,   7.3768,2,    25.00,   2.3757,2,    0.020,2,    0.000,2,    99.53,2,     -999,9
49NZ20120113  ,P10N       ,     110,  2,         20,12035      ,2,20120205,0733,  41.2503, 144.5118,     4044,   1600.2,   2.1880,  34.5456,2,  34.5461,2,     55.2,2,     55.4,2,   156.69,2,    42.18,2,     0.01,2,     3.03,2,    0.031,2,    0.013,2,    0.002,2,    0.044,2,   2379.1,2,   2407.2,2,   7.3976,6,    25.00,   2.1880,2,    0.019,2,    0.000,2,    99.56,2,     -999,9
49NZ20120113  ,P10N       ,     110,  2,         19,12034      ,2,20120205,0733,  41.2503, 144.5118,     4044,   1801.0,   2.0236,  34.5783,2,  34.5788,2,     67.2,2,     67.4,2,   157.97,2,    41.48,2,     0.01,2,     2.97,2,    0.011,2,    0.005,2,    0.001,2,    0.039,2,   2374.8,2,   2412.8,2,   7.4258,2,    25.00,   2.0237,2,    0.017,2,    0.000,2,    99.63,2,     -999,9
49NZ20120113  ,P10N       ,     110,  2,         18,12033      ,2,20120205,0733,  41.2503, 144.5118,     4044,   2000.2,   1.9076,  34.6002,2,  34.6006,2,     78.5,2,     78.8,2,   158.07,2,    40.75,2,     0.01,2,     2.92,2,    0.005,2,    0.001,2,    0.001,2,    0.068,2,   2369.4,2,   2416.3,2,   7.4474,2,    25.00,   1.9076,2,    0.016,2,    0.000,2,    99.70,2,     -999,9
49NZ20120113  ,P10N       ,     110,  2,         17,12032      ,2,20120205,0733,  41.2503, 144.5118,     4044,   2200.9,   1.7920,  34.6204,2,  34.6204,2,     90.9,2,     91.2,2,   158.06,2,    40.12,2,     0.01,2,     2.85,2,    0.006,2,    0.001,2,    0.000,2,    0.050,2,   2362.2,2,   2418.1,2,   7.4703,2,    25.00,   1.7922,2,    0.015,2,    0.000,2,    99.77,2,     -999,9
49NZ20120113  ,P10N       ,     110,  2,         16,12046      ,2,20120205,0733,  41.2503, 144.5118,     4044,   2399.9,   1.7226,  34.6329,2,  34.6335,2,    100.5,2,    101.2,2,   156.52,2,    39.45,2,     0.01,2,     2.79,2,    0.005,2,    0.001,2,    0.001,2,    0.300,2,   2357.9,2,   2419.5,2,   7.4903,2,    25.00,   1.7225,2,    0.015,2,    0.000,2,    99.69,2,     -999,9
49NZ20120113  ,P10N       ,     110,  2,         15,12030      ,2,20120205,0733,  41.2503, 144.5118,     4044,   2601.1,   1.6566,  34.6443,2,  34.6446,2,    109.8,2,    110.4,2,   155.25,2,    38.85,2,     0.01,2,     2.76,2,    0.002,2,    0.000,2,    0.000,2,    0.110,2,   2351.9,2,   2420.4,6,   7.5075,2,    25.00,   1.6565,2,    0.013,2,    0.000,2,    99.75,2,     -999,9
49NZ20120113  ,P10N       ,     110,  2,         14,12029      ,2,20120205,0733,  41.2503, 144.5118,     4044,   2798.7,   1.6151,  34.6519,2,  34.6526,2,    116.2,2,    116.9,2,   154.48,2,    38.43,2,     0.01,2,     2.73,2,    0.001,2,    0.000,2,    0.000,2,     -999,9,   2348.0,2,   2421.1,2,   7.5190,6,    25.00,   1.6151,2,    0.013,2,    0.000,2,    99.79,2,     -999,9
49NZ20120113  ,P10N       ,     110,  2,         13,12028      ,2,20120205,0733,  41.2503, 144.5118,     4044,   3000.4,   1.5724,  34.6598,2,  34.6603,2,    124.1,2,    124.9,2,   152.82,2,    37.92,2,     0.01,2,     2.69,2,    0.000,2,    0.000,2,    0.000,2,    0.045,2,   2342.7,2,   2421.2,2,   7.5340,2,    25.00,   1.5723,2,    0.013,2,    0.000,2,    99.74,2,     -999,9
49NZ20120113  ,P10N       ,     110,  2,         12,12027      ,2,20120205,0733,  41.2503, 144.5118,     4044,   3250.0,   1.5286,  34.6676,2,  34.6684,2,    132.0,2,    133.0,2,   151.10,2,    37.41,2,     0.01,2,     2.64,2,    0.000,2,    0.000,2,    0.000,2,     -999,9,   2337.5,2,   2421.1,2,   7.5479,2,    25.00,   1.5285,2,    0.012,2,    0.000,2,    99.68,2,     -999,9
49NZ20120113  ,P10N       ,     110,  2,         11,12011      ,2,20120205,0733,  41.2503, 144.5118,     4044,   3500.7,   1.5026,  34.6732,2,  34.6735,2,    138.1,2,    138.8,2,   149.85,2,    37.04,2,     0.01,2,     2.61,2,    0.000,2,    0.001,2,    0.001,2,    0.008,2,   2333.3,2,   2421.9,2,   7.5587,2,    25.00,   1.5025,2,    0.011,2,    0.000,2,    99.71,2,     -999,9
49NZ20120113  ,P10N       ,     110,  2,         10,12026      ,2,20120205,0733,  41.2503, 144.5118,     4044,   3750.3,   1.4862,  34.6776,2,  34.6781,2,    143.1,2,    143.8,2,   148.80,2,    36.72,2,     0.01,2,     2.59,2,    0.000,2,    0.000,2,    0.000,2,     -999,9,   2329.4,2,   2421.5,2,   7.5674,2,    25.00,   1.4862,2,    0.011,2,    0.000,2,    99.69,2,     -999,9
49NZ20120113  ,P10N       ,     110,  2,          9,12025      ,2,20120205,0733,  41.2503, 144.5118,     4044,   4000.1,   1.4610,  34.6827,2,  34.6827,2,    149.2,2,    149.9,2,   147.44,2,    36.26,2,     0.01,2,     2.56,2,    0.002,2,    0.000,2,    0.001,2,    0.000,2,   2325.6,2,   2420.2,2,   7.5768,2,    25.00,   1.4609,2,    0.010,2,    0.000,2,    99.73,2,     -999,9
49NZ20120113  ,P10N       ,     110,  2,          1,12001      ,2,20120205,0733,  41.2503, 144.5118,     4044,   4131.9,   1.4613,  34.6841,2,  34.6845,2,    150.9,2,    151.6,2,   147.04,2,    36.12,2,     0.01,2,     2.55,2,    0.003,2,    0.000,2,    0.001,2,    0.039,2,   2325.0,2,   2419.3,2,   7.5794,2,    25.00,   1.4611,2,    0.010,2,    0.000,2,    99.72,2,     -999,9