BOTTLE,20231026CCHSIOVAJ
EXPOCODE,SECT_ID,STNNBR,CASTNO,SAMPNO,BTLNBR,BTLNBR_FLAG_W,DATE,TIME,LATITUDE,LONGITUDE,DEPTH,CTDPRS,CTDTMP,CTDSAL,CTDSAL_FLAG_W,SALNTY,SALNTY_FLAG_W,CTDOXY,CTDOXY_FLAG_W,OXYGEN,OXYGEN_FLAG_W,SILCAT,SILCAT_FLAG_W,NITRAT,NITRAT_FLAG_W,NITRIT,NITRIT_FLAG_W,PHSPHT,PHSPHT_FLAG_W,CFC-11,CFC-11_FLAG_W,CFC-12,CFC-12_FLAG_W,CFC113,CFC113_FLAG_W,SF6,SF6_FLAG_W,TCARBN,TCARBN_FLAG_W,ALKALI,ALKALI_FLAG_W,PH_TOT,PH_TOT_FLAG_W,PH_TMP,REFTMP,REFTMP_FLAG_W,CTDFLUOR,CTDFLUOR_FLAG_W,PAR,PAR_FLAG_W,CTDXMISS,CTDXMISS_FLAG_W,CHLORA,CHLORA_FLAG_W
,,,,,,,,,,,METERS,DBAR,ITS-90,PSS-78,,PSS-78,,UMOL/KG,,UMOL/KG,,UMOL/KG,,UMOL/KG,,UMOL/KG,,UMOL/KG,,PMOL/KG,,PMOL/KG,,PMOL/KG,,FMOL/KG,,UMOL/KG,,UMOL/KG,,,,DEG C,ITS-90,,MG/M^3,,VOLTS,,%TRANS,,UG/KG,
49NZ20120113  ,P10N       ,      60,  1,         35,12001      ,2,20120114,1628,  19.8315, 149.3320,     3716,     24.1,  27.1731,  34.8039,2,     -999,9,    199.4,2,     -999,9,     -999,9,     -999,9,     -999,9,     -999,9,     -999,9,     -999,9,     -999,9,     -999,9,     -999,9,     -999,9,     -999,9,     -999,  27.1734,2,    0.066,2,    0.000,2,    98.96,2,     -999,9
49NZ20120113  ,P10N       ,      60,  1,         34,12019      ,2,20120114,1628,  19.8315, 149.3320,     3716,     24.8,  27.1737,  34.8039,2,     -999,9,    199.3,2,     -999,9,     -999,9,     -999,9,     -999,9,     -999,9,     -999,9,     -999,9,     -999,9,     -999,9,     -999,9,     -999,9,     -999,9,     -999,  27.1742,2,    0.069,2,    0.000,2,    98.97,2,     -999,9
49NZ20120113  ,P10N       ,      60,  1,         32,12017      ,2,20120114,1628,  19.8315, 149.3320,     3716,     49.4,  27.1786,  34.8039,2,     -999,9,    199.2,2,     -999,9,     -999,9,     -999,9,     -999,9,     -999,9,     -999,9,     -999,9,     -999,9,     -999,9,     -999,9,     -999,9,     -999,9,     -999,  27.1788,2,    0.068,2,    0.000,2,    98.99,2,     -999,9
49NZ20120113  ,P10N       ,      60,  1,         31,12016      ,2,20120114,1628,  19.8315, 149.3320,     3716,     49.7,  27.1792,  34.8038,2,     -999,9,    199.3,2,     -999,9,     -999,9,     -999,9,     -999,9,     -999,9,     -999,9,     -999,9,     -999,9,     -999,9,     -999,9,     -999,9,     -999,9,     -999,  27.1793,2,    0.069,2,    0.000,2,    98.98,2,     -999,9
49NZ20120113  ,P10N       ,      60,  1,         28,12101      ,2,20120114,1628,  19.8315, 149.3320,     3716,    100.5,  26.6796,  34.9699,2,     -999,9,    201.3,2,     -999,9,     -999,9,     -999,9,     -999,9,     -999,9,     -999,9,     -999,9,     -999,9,     -999,9,     -999,9,     -999,9,     -999,9,     -999,  26.6801,2,    0.157,2,    0.000,2,    98.91,2,     -999,9
49NZ20120113  ,P10N       ,      60,  1,         27,12012      ,2,20120114,1628,  19.8315, 149.3320,     3716,    100.9,  26.6663,  34.9786,2,     -999,9,    201.1,2,     -999,9,     -999,9,     -999,9,     -999,9,     -999,9,     -999,9,     -999,9,     -999,9,     -999,9,     -999,9,     -999,9,     -999,9,     -999,  26.4494,2,    0.223,2,    0.000,2,    98.84,2,     -999,9
49NZ20120113  ,P10N       ,      60,  1,         24,12008      ,2,20120114,1628,  19.8315, 149.3320,     3716,    150.0,  21.9378,  35.0760,2,     -999,9,    190.1,2,     -999,9,     -999,9,     -999,9,     -999,9,     -999,9,     -999,9,     -999,9,     -999,9,     -999,9,     -999,9,     -999,9,     -999,9,     -999,  21.9349,2,    0.101,2,    0.000,2,    99.31,2,     -999,9
49NZ20120113  ,P10N       ,      60,  1,         23,12007      ,2,20120114,1628,  19.8315, 149.3320,     3716,    150.6,  21.9175,  35.0752,2,     -999,9,    190.1,2,     -999,9,     -999,9,     -999,9,     -999,9,     -999,9,     -999,9,     -999,9,     -999,9,     -999,9,     -999,9,     -999,9,     -999,9,     -999,  21.9205,2,    0.089,2,    0.000,2,    99.32,2,     -999,9
49NZ20120113  ,P10N       ,      60,  1,         19,12034      ,2,20120114,1628,  19.8315, 149.3320,     3716,    199.9,  19.5801,  34.8767,2,     -999,9,    193.7,2,     -999,9,     -999,9,     -999,9,     -999,9,     -999,9,     -999,9,     -999,9,     -999,9,     -999,9,     -999,9,     -999,9,     -999,9,     -999,  19.5745,2,    0.032,2,    0.000,2,    99.48,2,     -999,9
49NZ20120113  ,P10N       ,      60,  1,         20,12035      ,2,20120114,1628,  19.8315, 149.3320,     3716,    200.3,  19.5918,  34.8774,2,     -999,9,    193.7,2,     -999,9,     -999,9,     -999,9,     -999,9,     -999,9,     -999,9,     -999,9,     -999,9,     -999,9,     -999,9,     -999,9,     -999,9,     -999,  19.5925,2,    0.036,2,    0.000,2,    99.49,2,     -999,9
49NZ20120113  ,P10N       ,      60,  1,         15,12030      ,2,20120114,1628,  19.8315, 149.3320,     3716,    278.2,  17.0282,  34.6778,2,     -999,9,    194.1,2,     -999,9,     -999,9,     -999,9,     -999,9,     -999,9,     -999,9,     -999,9,     -999,9,     -999,9,     -999,9,     -999,9,     -999,9,     -999,  17.0309,2,    0.007,2,    0.000,2,    99.62,2,     -999,9
49NZ20120113  ,P10N       ,      60,  1,         16,12046      ,2,20120114,1628,  19.8315, 149.3320,     3716,    278.9,  17.0270,  34.6780,2,     -999,9,    194.0,2,     -999,9,     -999,9,     -999,9,     -999,9,     -999,9,     -999,9,     -999,9,     -999,9,     -999,9,     -999,9,     -999,9,     -999,9,     -999,  17.0296,2,    0.006,2,    0.000,2,    99.61,2,     -999,9
49NZ20120113  ,P10N       ,      60,  1,         12,12027      ,2,20120114,1628,  19.8315, 149.3320,     3716,    368.2,  13.5518,  34.4449,2,     -999,9,    189.9,2,     -999,9,     -999,9,     -999,9,     -999,9,     -999,9,     -999,9,     -999,9,     -999,9,     -999,9,     -999,9,     -999,9,     -999,9,     -999,  13.5496,2,    0.007,2,    0.000,2,    99.70,2,     -999,9
49NZ20120113  ,P10N       ,      60,  1,         11,12011      ,2,20120114,1628,  19.8315, 149.3320,     3716,    368.4,  13.5529,  34.4444,2,     -999,9,    190.0,2,     -999,9,     -999,9,     -999,9,     -999,9,     -999,9,     -999,9,     -999,9,     -999,9,     -999,9,     -999,9,     -999,9,     -999,9,     -999,  13.5507,2,    0.007,2,    0.000,2,    99.71,2,     -999,9
49NZ20120113  ,P10N       ,      60,  1,          7,12023      ,2,20120114,1628,  19.8315, 149.3320,     3716,    568.4,   7.5074,  34.1182,2,     -999,9,    121.0,2,     -999,9,     -999,9,     -999,9,     -999,9,     -999,9,     -999,9,     -999,9,     -999,9,     -999,9,     -999,9,     -999,9,     -999,9,     -999,   7.5068,2,    0.015,2,    0.000,2,    99.77,2,     -999,9
49NZ20120113  ,P10N       ,      60,  1,          8,12024      ,2,20120114,1628,  19.8315, 149.3320,     3716,    569.3,   7.5102,  34.1181,2,     -999,9,    121.1,2,     -999,9,     -999,9,     -999,9,     -999,9,     -999,9,     -999,9,     -999,9,     -999,9,     -999,9,     -999,9,     -999,9,     -999,9,     -999,   7.5100,2,    0.016,2,    0.000,2,    99.77,2,     -999,9
49NZ20120113  ,P10N       ,      60,  1,          4,12104      ,2,20120114,1628,  19.8315, 149.3320,     3716,    773.5,   5.3405,  34.2993,2,     -999,9,     58.5,2,     -999,9,     -999,9,     -999,9,     -999,9,     -999,9,     -999,9,     -999,9,     -999,9,     -999,9,     -999,9,     -999,9,     -999,9,     -999,   5.3392,2,    0.021,2,    0.000,2,    99.81,2,     -999,9
49NZ20120113  ,P10N       ,      60,  1,          3,12003      ,2,20120114,1628,  19.8315, 149.3320,     3716,    773.9,   5.3375,  34.2998,2,     -999,9,     58.4,2,     -999,9,     -999,9,     -999,9,     -999,9,     -999,9,     -999,9,     -999,9,     -999,9,     -999,9,     -999,9,     -999,9,     -999,9,     -999,   5.3361,2,    0.021,2,    0.000,2,    99.81,2,     -999,9
49NZ20120113  ,P10N       ,      60,  2,          0,BUC        ,2,20120114,1854,  19.8315, 149.3320,     3716,      0.0,     -999,     -999,9,  34.8176,2,     -999,9,     -999,9,     -999,9,     -999,9,     -999,9,     -999,9,     -999,9,     -999,9,     -999,9,     -999,9,     -999,9,     -999,9,     -999,9,     -999,     -999,9,     -999,9,     -999,9,     -999,9,     -999,9
49NZ20120113  ,P10N       ,      60,  2,         36,12021      ,2,20120114,1854,  19.8315, 149.3320,     3716,      9.8,  27.1615,  34.8091,2,  34.8095,2,    200.3,2,    200.6,2,     0.50,2,     0.03,2,     0.01,2,     0.05,2,    1.536,2,    0.998,2,     -999,5,     -999,9,   1943.0,2,   2288.6,2,   8.1219,2,    25.00,  27.1613,2,    0.063,2,    3.936,2,    98.98,2,     -999,9
49NZ20120113  ,P10N       ,      60,  2,         35,12001      ,2,20120114,1854,  19.8315, 149.3320,     3716,     49.5,  27.1730,  34.8083,2,  34.8086,2,    200.0,2,    200.6,2,     0.44,2,     0.05,2,     0.01,2,     0.05,2,    1.541,2,    0.997,2,     -999,5,     -999,9,   1941.7,6,   2290.6,2,   8.1215,2,    25.00,  27.1727,2,    0.066,2,    0.553,2,    99.02,2,     -999,9
49NZ20120113  ,P10N       ,      60,  2,         34,12019      ,2,20120114,1854,  19.8315, 149.3320,     3716,    100.3,  26.2965,  35.1671,2,  35.1471,2,    205.4,2,    205.7,2,     0.61,2,     0.05,2,     0.01,2,     0.05,2,    1.686,6,    1.085,6,     -999,5,     -999,9,   1973.3,2,   2311.6,6,   8.0987,2,    25.00,  26.3026,2,    0.206,2,    0.066,2,    98.85,2,     -999,9
49NZ20120113  ,P10N       ,      60,  2,         33,12018      ,2,20120114,1854,  19.8315, 149.3320,     3716,    150.1,  22.9461,  35.1193,2,  35.1206,2,    193.8,2,    194.7,2,     1.03,2,     0.36,2,     0.08,2,     0.09,2,    1.940,2,    1.208,2,     -999,5,     -999,9,   2012.0,2,   2309.1,2,   8.0355,6,    25.00,  22.9462,2,    0.155,2,    0.000,2,    99.19,2,     -999,9
49NZ20120113  ,P10N       ,      60,  2,         32,12017      ,2,20120114,1854,  19.8315, 149.3320,     3716,    199.6,  20.3563,  34.9423,2,  34.9413,2,    192.6,2,    193.5,2,     1.67,2,     1.70,2,     0.03,2,     0.17,2,    2.153,2,    1.317,2,    0.146,2,     -999,9,   2024.4,2,   2296.6,2,   7.9941,2,    25.00,  20.3577,2,    0.047,2,    0.000,2,    99.45,2,     -999,9
49NZ20120113  ,P10N       ,      60,  2,         31,12016      ,2,20120114,1854,  19.8315, 149.3320,     3716,    252.5,  17.4732,  34.7008,2,  34.7072,2,    196.9,2,    197.9,2,     3.45,2,     4.84,2,     0.02,2,     0.35,2,    2.430,2,    1.442,2,    0.045,2,     -999,9,   2038.2,2,   2281.9,2,   7.9495,2,    25.00,  17.4966,2,    0.008,2,    0.000,2,    99.58,2,     -999,9
49NZ20120113  ,P10N       ,      60,  2,         30,12015      ,2,20120114,1854,  19.8315, 149.3320,     3716,    280.0,  16.9466,  34.6725,2,  34.6725,2,    194.1,2,    194.5,2,     4.51,2,     6.07,2,     0.01,2,     0.43,2,    2.498,2,    1.467,2,    0.041,2,     -999,9,   2045.1,2,   2281.8,2,   7.9312,2,    25.00,  16.9430,2,    0.005,2,    0.000,2,    99.62,2,     -999,9
49NZ20120113  ,P10N       ,      60,  2,         29,12014      ,2,20120114,1854,  19.8315, 149.3320,     3716,    369.1,  13.3610,  34.4323,2,  34.4334,2,    190.4,2,    190.4,2,    11.78,2,    11.81,2,     0.01,2,     0.85,2,    2.886,2,    1.593,2,    0.044,2,     -999,9,   2087.1,2,   2275.6,2,   7.8350,2,    25.00,  13.3656,2,    0.006,2,    0.000,2,    99.70,2,     -999,9
49NZ20120113  ,P10N       ,      60,  2,         28,12101      ,2,20120114,1854,  19.8315, 149.3320,     3716,    469.7,  10.1778,  34.2197,2,  34.2203,2,    165.2,2,    165.2,2,    24.88,2,    19.63,2,     0.02,2,     1.44,2,    2.782,2,    1.456,2,    0.065,2,     -999,9,   2141.1,2,   2274.0,2,   7.7075,2,    25.00,  10.1809,2,    0.009,2,    0.000,2,    99.74,2,     -999,9
49NZ20120113  ,P10N       ,      60,  2,         27,12012      ,2,20120114,1854,  19.8315, 149.3320,     3716,    569.2,   7.0654,  34.1221,2,  34.1218,2,    107.3,2,    107.9,2,    52.12,2,    30.64,2,     0.01,2,     2.24,2,    1.688,6,    0.854,6,    0.042,6,     -999,9,   2224.1,2,   2291.8,2,   7.5291,2,    25.00,   7.0665,2,    0.015,2,    0.000,2,    99.77,2,     -999,9
49NZ20120113  ,P10N       ,      60,  2,         26,12010      ,2,20120114,1854,  19.8315, 149.3320,     3716,    670.4,   6.1755,  34.1900,2,  34.1897,2,     74.4,2,     74.2,2,    66.73,2,    35.39,2,     0.01,2,     2.59,2,    0.888,2,    0.447,2,    0.030,2,     -999,9,   2264.4,6,   2307.6,2,   7.4564,2,    25.00,   6.1756,2,    0.017,2,    0.000,2,    99.78,2,     -999,9
49NZ20120113  ,P10N       ,      60,  2,         25,12009      ,2,20120114,1854,  19.8315, 149.3320,     3716,    770.4,   5.3515,  34.2931,2,  34.2945,2,     58.3,2,     58.2,2,    81.66,2,    38.43,2,     0.01,2,     2.80,2,    0.381,2,    0.191,2,    0.008,2,     -999,9,   2294.7,2,   2330.3,6,   7.4285,2,    25.00,   5.3516,2,    0.019,2,    0.000,2,    99.80,2,     -999,9
49NZ20120113  ,P10N       ,      60,  2,         24,12008      ,2,20120114,1854,  19.8315, 149.3320,     3716,    870.8,   4.7874,  34.4111,2,  34.4112,2,     61.9,2,     61.7,2,    92.20,2,    39.17,2,     0.01,2,     2.84,2,    0.148,2,    0.076,2,    0.000,2,     -999,9,   2309.7,2,   2349.5,2,   7.4435,6,    25.00,   4.7880,2,    0.018,2,    0.000,2,    99.82,2,     -999,9
49NZ20120113  ,P10N       ,      60,  2,         23,12007      ,2,20120114,1854,  19.8315, 149.3320,     3716,    971.7,   4.2565,  34.4772,2,  34.4775,2,     71.4,2,     71.4,2,   101.76,2,    39.13,2,     0.01,2,     2.83,2,    0.094,2,    0.045,2,    0.007,2,     -999,9,   2317.7,2,   2365.1,2,   7.4656,2,    25.00,   4.2567,2,    0.017,2,    0.000,2,    99.84,2,     -999,9
49NZ20120113  ,P10N       ,      60,  2,         22,12022      ,3,20120114,1854,  19.8315, 149.3320,     3716,   1129.8,   3.5914,  34.5273,2,  34.5281,2,     78.1,2,     78.2,2,   113.89,2,    39.36,2,     0.02,2,     2.84,2,    0.040,2,    0.021,2,    0.009,2,     -999,9,   2328.2,2,   2380.4,2,   7.4763,2,    25.00,   3.5915,2,    0.017,2,    0.000,2,    99.86,2,     -999,9
49NZ20120113  ,P10N       ,      60,  2,         21,12036      ,2,20120114,1854,  19.8315, 149.3320,     3716,   1330.4,   3.0631,  34.5595,2,  34.5598,2,     85.4,2,     85.3,2,   123.46,2,    39.46,2,     0.01,2,     2.84,2,    0.017,2,    0.008,2,    0.000,2,     -999,9,   2335.5,2,   2393.0,2,   7.4839,2,    25.00,   3.0631,2,    0.016,2,    0.000,2,    99.89,2,     -999,9
49NZ20120113  ,P10N       ,      60,  2,         20,12035      ,2,20120114,1854,  19.8315, 149.3320,     3716,   1529.8,   2.7096,  34.5801,2,  34.5806,2,     91.3,2,     91.4,2,   130.10,2,    39.33,2,     0.01,2,     2.83,2,    0.009,2,    0.005,2,    0.000,2,     -999,9,   2342.0,2,   2399.4,2,   7.4917,6,    25.00,   2.7095,2,    0.016,2,    0.000,2,    99.90,2,     -999,9
49NZ20120113  ,P10N       ,      60,  2,         19,12034      ,2,20120114,1854,  19.8315, 149.3320,     3716,   1730.7,   2.4375,  34.5954,2,  34.5957,2,     95.7,2,     95.8,2,   135.47,2,    39.25,2,     0.01,2,     2.81,2,    0.004,2,    0.002,2,    0.000,2,     -999,9,   2342.2,2,   2405.9,2,   7.4969,2,    25.00,   2.4376,2,    0.015,2,    0.000,2,    99.90,2,     -999,9
49NZ20120113  ,P10N       ,      60,  2,         18,12033      ,2,20120114,1854,  19.8315, 149.3320,     3716,   1929.2,   2.2776,  34.6085,2,  34.6084,2,    100.8,2,    100.8,2,   138.61,2,    39.18,2,     0.01,2,     2.78,2,    0.001,2,    0.003,2,    0.000,2,     -999,9,   2343.9,2,   2410.6,2,   7.5059,2,    25.00,   2.2784,2,    0.015,2,    0.000,2,    99.90,2,     -999,9
49NZ20120113  ,P10N       ,      60,  2,         17,12032      ,2,20120114,1854,  19.8315, 149.3320,     3716,   2131.5,   2.1265,  34.6166,2,  34.6164,2,    105.0,2,    105.2,2,   141.09,2,    38.97,2,     0.01,2,     2.77,2,    0.002,2,    0.001,2,    0.000,2,     -999,9,   2343.7,2,   2412.3,2,   7.5105,2,    25.00,   2.1266,2,    0.014,2,    0.000,2,    99.92,2,     -999,9
49NZ20120113  ,P10N       ,      60,  2,         16,12046      ,2,20120114,1854,  19.8315, 149.3320,     3716,   2329.4,   1.9095,  34.6376,2,  34.6382,2,    113.4,2,    113.6,2,   143.95,2,    38.44,2,     0.01,2,     2.73,2,    0.007,2,    0.013,3,    0.000,2,     -999,9,   2342.9,6,   2417.3,2,   7.5268,2,    25.00,   1.9095,2,    0.014,2,    0.000,2,    99.93,2,     -999,9
49NZ20120113  ,P10N       ,      60,  2,         15,12030      ,2,20120114,1854,  19.8315, 149.3320,     3716,   2530.5,   1.8367,  34.6449,2,  34.6456,2,    117.5,2,    117.6,2,   145.35,2,    38.28,2,     0.01,2,     2.71,2,    0.000,2,    0.002,2,    0.000,2,     -999,9,   2342.7,2,   2419.1,6,   7.5329,2,    25.00,   1.8365,2,    0.014,2,    0.000,2,    99.94,2,     -999,9
49NZ20120113  ,P10N       ,      60,  2,         14,12029      ,2,20120114,1854,  19.8315, 149.3320,     3716,   2730.1,   1.7310,  34.6550,2,  34.6557,2,    124.0,2,    124.1,2,   146.45,2,    37.94,2,     0.01,2,     2.66,2,     -999,9,     -999,9,     -999,9,     -999,9,   2340.4,2,   2420.7,2,   7.5446,6,    25.00,   1.7308,2,    0.013,2,    0.000,2,    99.95,2,     -999,9
49NZ20120113  ,P10N       ,      60,  2,         13,12028      ,2,20120114,1854,  19.8315, 149.3320,     3716,   2929.9,   1.6496,  34.6633,2,  34.6638,2,    130.0,2,    130.0,2,   146.75,2,    37.56,2,     0.01,2,     2.64,2,    0.003,2,    0.002,2,    0.000,2,     -999,9,   2336.6,2,   2422.6,2,   7.5549,2,    25.00,   1.6492,2,    0.013,2,    0.000,2,    99.96,2,     -999,9
49NZ20120113  ,P10N       ,      60,  2,         12,12027      ,2,20120114,1854,  19.8315, 149.3320,     3716,   3169.7,   1.6164,  34.6666,2,  34.6674,2,    134.2,2,    134.4,2,   146.37,2,    37.24,2,     0.02,2,     2.63,2,     -999,9,     -999,9,     -999,9,     -999,9,   2336.9,3,   2421.4,2,   7.5608,2,    25.00,   1.6152,2,    0.013,2,    0.000,2,    99.97,2,     -999,9
49NZ20120113  ,P10N       ,      60,  2,         11,12011      ,2,20120114,1854,  19.8315, 149.3320,     3716,   3420.9,   1.5718,  34.6718,2,  34.6724,2,    139.6,2,    139.7,2,   145.10,2,    36.94,2,     0.01,2,     2.59,2,    0.000,2,    0.000,2,    0.000,2,     -999,9,   2331.2,2,   2420.3,2,   7.5680,2,    25.00,   1.5715,2,    0.011,2,    0.000,2,    99.97,2,     -999,9
49NZ20120113  ,P10N       ,      60,  2,         10,12026      ,2,20120114,1854,  19.8315, 149.3320,     3716,   3669.0,   1.5378,  34.6765,2,  34.6769,2,    145.0,2,    145.1,2,   143.16,2,    36.57,2,     0.01,2,     2.57,2,     -999,9,     -999,9,     -999,9,     -999,9,   2326.4,2,   2419.0,2,   7.5759,2,    25.00,   1.5376,2,    0.011,2,    0.000,2,    99.98,2,     -999,9
49NZ20120113  ,P10N       ,      60,  2,          1,12001      ,2,20120114,1854,  19.8315, 149.3320,     3716,   3706.8,   1.5399,  34.6765,2,  34.6773,2,    145.1,2,    145.3,2,   143.79,2,    36.53,2,     0.01,2,     2.57,2,    0.000,2,    0.000,2,    0.000,2,     -999,9,   2324.0,2,   2419.7,2,   7.5767,2,    25.00,   1.5395,2,    0.011,2,    0.000,2,    99.97,2,     -999,9