BOTTLE,20231026CCHSIOVAJ
EXPOCODE,SECT_ID,STNNBR,CASTNO,SAMPNO,BTLNBR,BTLNBR_FLAG_W,DATE,TIME,LATITUDE,LONGITUDE,DEPTH,CTDPRS,CTDTMP,CTDSAL,CTDSAL_FLAG_W,SALNTY,SALNTY_FLAG_W,CTDOXY,CTDOXY_FLAG_W,OXYGEN,OXYGEN_FLAG_W,SILCAT,SILCAT_FLAG_W,NITRAT,NITRAT_FLAG_W,NITRIT,NITRIT_FLAG_W,PHSPHT,PHSPHT_FLAG_W,CFC-11,CFC-11_FLAG_W,CFC-12,CFC-12_FLAG_W,CFC113,CFC113_FLAG_W,SF6,SF6_FLAG_W,TCARBN,TCARBN_FLAG_W,ALKALI,ALKALI_FLAG_W,PH_TOT,PH_TOT_FLAG_W,PH_TMP,REFTMP,REFTMP_FLAG_W,CTDFLUOR,CTDFLUOR_FLAG_W,PAR,PAR_FLAG_W,CTDXMISS,CTDXMISS_FLAG_W,CHLORA,CHLORA_FLAG_W
,,,,,,,,,,,METERS,DBAR,ITS-90,PSS-78,,PSS-78,,UMOL/KG,,UMOL/KG,,UMOL/KG,,UMOL/KG,,UMOL/KG,,UMOL/KG,,PMOL/KG,,PMOL/KG,,PMOL/KG,,FMOL/KG,,UMOL/KG,,UMOL/KG,,,,DEG C,ITS-90,,MG/M^3,,VOLTS,,%TRANS,,UG/KG,
49NZ20120113  ,P10N       ,      79,  1,          0,BUC        ,2,20120122,1433,  31.1663, 149.3365,     6044,      0.0,     -999,     -999,9,  34.7156,2,     -999,9,     -999,9,     -999,9,     -999,9,     -999,9,     -999,9,     -999,9,     -999,9,     -999,9,     -999,9,     -999,9,     -999,9,     -999,9,     -999,     -999,9,     -999,9,     -999,9,     -999,9,     -999,9
49NZ20120113  ,P10N       ,      79,  1,         36,12021      ,2,20120122,1433,  31.1663, 149.3365,     6044,     11.0,  18.5333,  34.7096,2,  34.7084,2,    227.2,2,    226.8,2,     1.74,2,     0.91,2,     0.25,2,     0.12,2,    2.174,2,    1.348,2,    0.172,2,     -999,9,   1997.2,2,   2282.4,2,   8.0213,6,    25.00,  18.5336,2,    0.314,2,    0.127,2,    98.47,2,     0.34,2
49NZ20120113  ,P10N       ,      79,  1,         35,12001      ,2,20120122,1433,  31.1663, 149.3365,     6044,     50.7,  18.5428,  34.7094,2,  34.7077,2,    227.2,2,    226.6,2,     1.84,2,     0.94,2,     0.24,2,     0.13,2,    2.168,2,    1.346,2,    0.176,2,     -999,9,   1998.0,6,   2282.4,2,   8.0231,2,    25.00,  18.5429,2,    0.364,2,    0.000,2,    98.48,2,     -999,9
49NZ20120113  ,P10N       ,      79,  1,         34,12019      ,2,20120122,1433,  31.1663, 149.3365,     6044,     99.8,  18.4916,  34.7060,2,  34.7048,2,    227.4,2,    226.9,2,     2.05,2,     0.96,2,     0.24,2,     0.13,2,    2.169,6,    1.346,6,    0.170,6,     -999,9,   1997.4,2,   2281.9,6,   8.0226,2,    25.00,  18.4920,2,    0.344,2,    0.000,2,    98.42,2,     -999,9
49NZ20120113  ,P10N       ,      79,  1,         33,12018      ,2,20120122,1433,  31.1663, 149.3365,     6044,    150.7,  18.4890,  34.7050,2,  34.7040,2,    227.1,2,    226.6,2,     1.88,2,     0.97,2,     0.25,2,     0.13,2,    2.161,2,    1.341,2,    0.177,2,     -999,9,   1997.4,2,   2281.1,2,   8.0206,6,    25.00,  18.4899,2,    0.338,2,    0.000,2,    98.56,2,     -999,9
49NZ20120113  ,P10N       ,      79,  1,         32,12017      ,2,20120122,1433,  31.1663, 149.3365,     6044,    199.4,  18.1314,  34.7148,2,  34.7135,2,    214.5,2,    215.4,2,     2.50,2,     2.59,2,     0.13,2,     0.22,2,    2.221,2,    1.371,2,    0.129,2,     -999,9,   2014.4,2,   2282.1,2,   7.9928,2,    25.00,  18.1334,2,    0.125,2,    0.000,2,    99.15,2,     -999,9
49NZ20120113  ,P10N       ,      79,  1,         31,12016      ,2,20120122,1433,  31.1663, 149.3365,     6044,    250.6,  17.2085,  34.7114,2,  34.7106,2,    211.8,2,    211.6,2,     3.64,2,     4.44,2,     0.03,2,     0.33,2,    2.327,2,    1.432,2,    0.083,2,     -999,9,   2027.2,2,   2282.1,2,   7.9660,2,    25.00,  17.2086,2,    0.005,2,    0.000,2,    99.62,2,     -999,9
49NZ20120113  ,P10N       ,      79,  1,         30,12015      ,2,20120122,1433,  31.1663, 149.3365,     6044,    300.6,  16.9537,  34.7035,2,  34.7032,2,    214.1,2,    214.0,2,     4.19,2,     4.66,2,     0.02,2,     0.34,2,    2.333,2,    1.428,2,    0.092,2,     -999,9,   2029.7,2,   2282.0,2,   7.9624,2,    25.00,  16.9546,2,    0.003,2,    0.000,2,    99.68,2,     -999,9
49NZ20120113  ,P10N       ,      79,  1,         29,12014      ,2,20120122,1433,  31.1663, 149.3365,     6044,    400.9,  15.4129,  34.5940,2,  34.5942,2,    189.6,2,    189.8,2,     9.21,2,     9.30,2,     0.01,2,     0.65,2,    2.448,2,    1.458,2,    0.046,2,     -999,9,   2063.6,2,   2280.2,2,   7.8884,2,    25.00,  15.4136,2,    0.005,2,    0.000,2,    99.66,2,     -999,9
49NZ20120113  ,P10N       ,      79,  1,         28,12101      ,2,20120122,1433,  31.1663, 149.3365,     6044,    501.5,  12.3252,  34.3848,2,  34.3860,2,    181.6,2,    181.6,2,    19.05,2,    14.91,2,     0.01,2,     1.06,2,    2.575,2,    1.475,2,    0.058,2,     -999,9,   2108.3,2,   2278.4,2,   7.7970,2,    25.00,  12.3240,2,    0.007,2,    0.000,2,    99.71,2,     -999,9
49NZ20120113  ,P10N       ,      79,  1,         27,12012      ,2,20120122,1433,  31.1663, 149.3365,     6044,    600.6,   9.2852,  34.1712,2,  34.1735,2,    169.7,2,    170.0,2,    33.78,2,    21.07,2,     0.01,2,     1.52,2,    2.599,6,    1.428,6,    0.096,6,     -999,9,   2156.3,2,   2281.7,2,   7.6954,2,    25.00,   9.2850,2,    0.009,2,    0.000,2,    99.75,2,     -999,9
49NZ20120113  ,P10N       ,      79,  1,         26,12010      ,2,20120122,1433,  31.1663, 149.3365,     6044,    700.7,   6.7820,  34.0341,2,  34.0352,2,    149.6,2,    149.5,2,    51.54,2,    27.47,2,     0.01,2,     2.01,2,    2.436,2,    1.309,2,    0.113,2,     -999,9,   2203.4,6,   2289.4,2,   7.5862,2,    25.00,   6.7788,2,    0.012,2,    0.000,2,    99.79,2,     -999,9
49NZ20120113  ,P10N       ,      79,  1,         25,12009      ,2,20120122,1433,  31.1663, 149.3365,     6044,    798.5,   5.2728,  34.0445,2,  34.0437,2,    109.2,2,    109.7,2,    73.16,2,    33.82,2,     0.01,2,     2.46,2,    1.884,2,    0.989,2,    0.093,2,     -999,9,   2256.9,2,   2305.8,6,   7.4824,2,    25.00,   5.2742,2,    0.016,2,    0.000,2,    99.78,2,     -999,9
49NZ20120113  ,P10N       ,      79,  1,         24,12008      ,2,20120122,1433,  31.1663, 149.3365,     6044,    900.0,   4.5243,  34.1418,2,  34.1426,2,     73.2,2,     73.1,2,    92.99,2,    38.14,2,     0.01,2,     2.76,2,    1.211,2,    0.627,2,    0.058,2,     -999,9,   2300.3,2,   2326.8,2,   7.4151,6,    25.00,   4.5244,2,    0.019,2,    0.000,2,    99.75,2,     -999,9
49NZ20120113  ,P10N       ,      79,  1,         23,12007      ,2,20120122,1433,  31.1663, 149.3365,     6044,   1000.2,   4.1032,  34.2244,2,  34.2245,2,     56.4,2,     56.3,2,   105.62,2,    39.93,2,     0.01,2,     2.88,2,    0.778,2,    0.392,2,    0.028,2,     -999,9,   2323.5,2,   2341.4,2,   7.3852,2,    25.00,   4.1043,2,    0.020,2,    0.000,2,    99.75,2,     -999,9
49NZ20120113  ,P10N       ,      79,  1,         22,12022      ,2,20120122,1433,  31.1663, 149.3365,     6044,   1201.3,   3.3654,  34.3534,2,  34.3537,2,     38.7,2,     38.6,2,   126.42,2,    42.34,2,     0.01,2,     3.05,2,    0.228,2,    0.113,2,    0.008,2,     -999,9,   2356.6,2,   2369.1,2,   7.3661,2,    25.00,   3.3656,2,    0.021,2,    0.000,2,    99.78,2,     -999,9
49NZ20120113  ,P10N       ,      79,  1,         21,12036      ,2,20120122,1433,  31.1663, 149.3365,     6044,   1399.4,   2.8660,  34.4379,2,  34.4377,2,     36.4,2,     36.2,2,   140.49,2,    43.05,2,     0.01,2,     3.10,2,    0.074,2,    0.037,2,    0.000,2,     -999,9,   2372.1,2,   2386.8,2,   7.3649,2,    25.00,   2.8662,2,    0.021,2,    0.000,2,    99.78,2,     -999,9
49NZ20120113  ,P10N       ,      79,  1,         20,12035      ,2,20120122,1433,  31.1663, 149.3365,     6044,   1601.3,   2.4783,  34.5039,2,  34.5037,2,     42.6,2,     42.6,2,   150.36,2,    43.07,2,     0.01,2,     3.08,2,    0.027,2,    0.011,2,    0.000,2,     -999,9,   2379.2,2,   2400.3,2,   7.3822,2,    25.00,   2.4785,2,    0.020,2,    0.000,2,    99.80,2,     -999,9
49NZ20120113  ,P10N       ,      79,  1,         19,12034      ,2,20120122,1433,  31.1663, 149.3365,     6044,   1801.7,   2.2678,  34.5433,2,  34.5429,2,     52.4,2,     52.4,2,   154.44,2,    42.60,2,     0.01,2,     3.04,2,    0.010,2,    0.003,2,    0.000,2,     -999,9,   2376.4,2,   2407.4,2,   7.4013,2,    25.00,   2.2679,2,    0.019,2,    0.000,2,    99.83,2,     -999,9
49NZ20120113  ,P10N       ,      79,  1,         18,12033      ,2,20120122,1433,  31.1663, 149.3365,     6044,   2000.3,   2.0721,  34.5795,2,  34.5798,2,     68.3,2,     68.6,2,   156.28,2,    41.61,2,     0.01,2,     2.95,2,    0.006,2,    0.002,2,    0.000,2,     -999,9,   2374.4,2,   2413.5,2,   7.4359,2,    25.00,   2.0722,2,    0.018,2,    0.000,2,    99.84,2,     -999,9
49NZ20120113  ,P10N       ,      79,  1,         17,12032      ,2,20120122,1433,  31.1663, 149.3365,     6044,   2201.6,   1.9291,  34.6061,2,  34.6063,2,     84.9,2,     85.4,2,   155.08,2,    40.55,2,     0.01,2,     2.88,2,    0.001,2,    0.000,2,    0.000,2,     -999,9,   2365.9,2,   2416.3,2,   7.4669,2,    25.00,   1.9292,2,    0.016,2,    0.000,2,    99.87,2,     -999,9
49NZ20120113  ,P10N       ,      79,  1,         16,12046      ,2,20120122,1433,  31.1663, 149.3365,     6044,   2399.9,   1.7998,  34.6253,2,  34.6253,2,     96.6,2,     96.6,2,   155.33,2,    39.74,2,     0.01,2,     2.83,2,    0.000,2,    0.000,2,    0.000,2,     -999,9,   2354.9,6,   2419.3,2,   7.4905,2,    25.00,   1.7998,2,    0.015,2,    0.000,2,    99.87,2,     -999,9
49NZ20120113  ,P10N       ,      79,  1,         15,12030      ,2,20120122,1433,  31.1663, 149.3365,     6044,   2599.7,   1.7051,  34.6407,2,  34.6410,2,    108.9,2,    109.0,2,   153.50,2,    38.99,2,     0.01,2,     2.77,2,    0.004,2,    0.001,2,    0.000,2,     -999,9,   2351.9,2,   2419.2,6,   7.5114,2,    25.00,   1.7052,2,    0.014,2,    0.000,2,    99.88,2,     -999,9
49NZ20120113  ,P10N       ,      79,  1,         14,12029      ,2,20120122,1433,  31.1663, 149.3365,     6044,   2799.8,   1.6317,  34.6517,2,  34.6519,2,    118.3,2,    118.6,2,   152.45,2,    38.35,2,     0.01,2,     2.70,2,    0.002,2,    0.000,2,    0.000,2,     -999,9,   2342.7,2,   2420.7,2,   7.5285,6,    25.00,   1.6318,2,    0.013,2,    0.000,2,    99.89,2,     -999,9
49NZ20120113  ,P10N       ,      79,  1,         13,12028      ,2,20120122,1433,  31.1663, 149.3365,     6044,   2999.3,   1.5934,  34.6594,2,  34.6596,2,    126.7,2,    126.8,2,   150.03,2,    37.81,2,     0.01,2,     2.68,2,     -999,9,     -999,9,     -999,9,     -999,9,   2340.9,2,   2419.1,2,   7.5433,2,    25.00,   1.5933,2,    0.012,2,    0.000,2,    99.90,2,     -999,9
49NZ20120113  ,P10N       ,      79,  1,         12,12027      ,2,20120122,1433,  31.1663, 149.3365,     6044,   3249.8,   1.5449,  34.6666,2,  34.6669,2,    132.5,2,    132.6,2,   149.34,2,    37.38,2,     0.01,2,     2.63,2,    0.000,2,    0.000,2,    0.000,2,     -999,9,   2336.1,2,   2421.4,2,   7.5537,2,    25.00,   1.5450,2,    0.011,2,    0.000,2,    99.88,2,     -999,9
49NZ20120113  ,P10N       ,      79,  1,         11,12011      ,2,20120122,1433,  31.1663, 149.3365,     6044,   3500.2,   1.5162,  34.6720,2,  34.6722,2,    137.5,2,    137.6,2,   149.28,2,    37.10,2,     0.01,2,     2.60,2,     -999,9,     -999,9,     -999,9,     -999,9,   2329.5,2,   2421.2,2,   7.5607,2,    25.00,   1.5161,2,    0.012,2,    0.000,2,    99.88,2,     -999,9
49NZ20120113  ,P10N       ,      79,  1,         10,12026      ,2,20120122,1433,  31.1663, 149.3365,     6044,   3749.8,   1.4938,  34.6772,2,  34.6773,2,    143.9,2,    144.1,2,   147.21,2,    36.70,2,     0.01,2,     2.57,2,    0.002,2,    0.002,2,    0.000,2,     -999,9,   2327.2,2,   2419.6,2,   7.5723,2,    25.00,   1.4938,2,    0.011,2,    0.000,2,    99.89,2,     -999,9
49NZ20120113  ,P10N       ,      79,  1,          9,12025      ,2,20120122,1433,  31.1663, 149.3365,     6044,   4000.7,   1.4809,  34.6814,2,  34.6811,2,    149.0,2,    148.7,2,   146.01,2,    36.38,2,     0.01,2,     2.54,2,     -999,9,     -999,9,     -999,9,     -999,9,   2325.2,2,   2418.7,2,   7.5795,2,    25.00,   1.4810,2,    0.010,2,    0.000,2,    99.88,2,     -999,9
49NZ20120113  ,P10N       ,      79,  1,          8,12024      ,2,20120122,1433,  31.1663, 149.3365,     6044,   4248.8,   1.4799,  34.6843,2,  34.6844,2,    153.4,2,    153.4,2,   143.88,2,    36.08,2,     0.01,2,     2.52,2,    0.000,2,    0.000,2,    0.000,2,     -999,9,   2321.9,6,   2416.1,2,   7.5856,2,    25.00,   1.4799,2,    0.010,2,    0.000,2,    99.91,2,     -999,9
49NZ20120113  ,P10N       ,      79,  1,          7,12023      ,2,20120122,1433,  31.1663, 149.3365,     6044,   4501.0,   1.4847,  34.6864,2,  34.6864,2,    155.7,2,    155.5,2,   143.76,2,    35.91,2,     0.01,2,     2.52,2,     -999,9,     -999,9,     -999,9,     -999,9,   2319.8,2,   2417.4,6,   7.5890,2,    25.00,   1.4847,2,    0.010,2,    0.000,2,    99.89,2,     -999,9
49NZ20120113  ,P10N       ,      79,  1,          6,12006      ,2,20120122,1433,  31.1663, 149.3365,     6044,   4750.2,   1.4933,  34.6883,2,  34.6886,2,    158.4,2,    158.2,2,   142.99,2,    35.74,2,     0.01,2,     2.50,2,    0.000,2,    0.000,2,    0.000,2,     -999,9,   2318.0,2,   2417.1,2,   7.5935,6,    25.00,   1.4932,2,    0.009,2,    0.000,2,    99.89,2,     -999,9
49NZ20120113  ,P10N       ,      79,  1,          5,12102      ,2,20120122,1433,  31.1663, 149.3365,     6044,   5000.7,   1.5061,  34.6901,2,  34.6903,2,    162.0,2,    161.6,2,   140.12,2,    35.53,2,     0.01,2,     2.48,2,     -999,9,     -999,9,     -999,9,     -999,9,   2315.3,2,   2412.2,2,   7.5974,2,    25.00,   1.5061,2,    0.009,2,    0.000,2,    99.91,2,     -999,9
49NZ20120113  ,P10N       ,      79,  1,          4,12104      ,2,20120122,1433,  31.1663, 149.3365,     6044,   5249.8,   1.5195,  34.6917,2,  34.6916,2,    164.9,2,    164.5,2,   138.25,2,    35.25,2,     0.01,2,     2.47,2,    0.002,2,    0.001,2,    0.000,2,     -999,9,   2313.4,2,   2413.3,2,   7.6020,2,    25.00,   1.5195,2,    0.009,2,    0.000,2,    99.90,2,     -999,9
49NZ20120113  ,P10N       ,      79,  1,          3,12003      ,2,20120122,1433,  31.1663, 149.3365,     6044,   5499.8,   1.5371,  34.6930,2,  34.6931,2,    167.5,2,    167.3,2,   135.72,2,    35.03,2,     0.01,2,     2.46,2,     -999,9,     -999,9,     -999,9,     -999,9,   2308.1,2,   2411.4,2,   7.6036,2,    25.00,   1.5372,2,    0.009,2,    0.000,2,    99.88,2,     -999,9
49NZ20120113  ,P10N       ,      79,  1,          2,12103      ,2,20120122,1433,  31.1663, 149.3365,     6044,   5749.0,   1.5600,  34.6940,2,  34.6941,2,    169.1,2,    169.0,2,   134.51,2,    34.92,2,     0.01,2,     2.45,2,    0.007,2,    0.006,2,    0.000,2,     -999,9,   2307.3,2,   2409.7,2,   7.6056,2,    25.00,   1.5600,2,    0.009,2,    0.000,2,    99.86,2,     -999,9
49NZ20120113  ,P10N       ,      79,  1,          1,12001      ,2,20120122,1433,  31.1663, 149.3365,     6044,   6154.7,   1.6052,  34.6947,2,  34.6950,2,    170.1,2,    170.1,2,   134.03,2,    34.92,2,     0.01,2,     2.42,2,    0.000,2,    0.002,2,    0.000,2,     -999,9,   2306.2,2,   2409.9,2,   7.6070,2,    25.00,   1.6052,2,    0.009,2,    0.000,2,    99.74,2,     -999,9