BOTTLE,20231026CCHSIOVAJ
EXPOCODE,SECT_ID,STNNBR,CASTNO,SAMPNO,BTLNBR,BTLNBR_FLAG_W,DATE,TIME,LATITUDE,LONGITUDE,DEPTH,CTDPRS,CTDTMP,CTDSAL,CTDSAL_FLAG_W,SALNTY,SALNTY_FLAG_W,CTDOXY,CTDOXY_FLAG_W,OXYGEN,OXYGEN_FLAG_W,SILCAT,SILCAT_FLAG_W,NITRAT,NITRAT_FLAG_W,NITRIT,NITRIT_FLAG_W,PHSPHT,PHSPHT_FLAG_W,CFC-11,CFC-11_FLAG_W,CFC-12,CFC-12_FLAG_W,CFC113,CFC113_FLAG_W,SF6,SF6_FLAG_W,TCARBN,TCARBN_FLAG_W,ALKALI,ALKALI_FLAG_W,PH_TOT,PH_TOT_FLAG_W,PH_TMP,REFTMP,REFTMP_FLAG_W,CTDFLUOR,CTDFLUOR_FLAG_W,PAR,PAR_FLAG_W,CTDXMISS,CTDXMISS_FLAG_W,CHLORA,CHLORA_FLAG_W
,,,,,,,,,,,METERS,DBAR,ITS-90,PSS-78,,PSS-78,,UMOL/KG,,UMOL/KG,,UMOL/KG,,UMOL/KG,,UMOL/KG,,UMOL/KG,,PMOL/KG,,PMOL/KG,,PMOL/KG,,FMOL/KG,,UMOL/KG,,UMOL/KG,,,,DEG C,ITS-90,,MG/M^3,,VOLTS,,%TRANS,,UG/KG,
49NZ20120113  ,P10N       ,      67,  3,          0,BUC        ,2,20120116,0234,  24.2432, 149.0372,     5784,      0.0,     -999,     -999,9,  35.2034,2,     -999,9,     -999,9,     -999,9,     -999,9,     -999,9,     -999,9,     -999,9,     -999,9,     -999,9,     -999,9,     -999,9,     -999,9,     -999,9,     -999,     -999,9,     -999,9,     -999,9,     -999,9,     -999,9
49NZ20120113  ,P10N       ,      67,  3,         36,12021      ,2,20120116,0234,  24.2432, 149.0372,     5784,     10.3,  23.5100,  35.1608,2,  35.1608,2,    212.8,2,    212.6,2,     0.74,2,     0.07,2,     0.02,2,     0.05,2,    1.755,2,    1.115,2,    0.137,2,    1.242,2,   1985.3,2,   2311.6,2,   8.0831,6,    25.00,  23.5103,2,    0.036,2,  190.664,2,    98.78,2,     -999,9
49NZ20120113  ,P10N       ,      67,  3,         35,12001      ,2,20120116,0234,  24.2432, 149.0372,     5784,     49.7,  23.3140,  35.1314,2,  35.1300,2,    213.2,2,    213.5,2,     0.89,2,     0.06,2,     0.02,2,     0.04,2,    1.783,2,    1.126,2,    0.134,6,    1.306,6,   1986.2,6,   2310.1,2,   8.0785,2,    25.00,  23.3158,2,    0.097,2,   44.132,2,    98.68,2,     -999,9
49NZ20120113  ,P10N       ,      67,  3,         34,12019      ,3,20120116,0234,  24.2432, 149.0372,     5784,    100.7,  20.3918,  34.8916,2,  34.8814,2,    210.5,2,    211.0,2,     1.63,2,     0.86,2,     0.06,2,     0.11,2,    2.101,6,    1.303,6,    0.116,2,    1.338,2,   2011.9,2,   2294.9,6,   8.0155,2,    25.00,  20.3858,2,    0.357,2,    3.667,2,    98.81,2,     -999,9
49NZ20120113  ,P10N       ,      67,  3,         33,12018      ,2,20120116,0234,  24.2432, 149.0372,     5784,    149.9,  18.2309,  34.7432,2,  34.7419,2,    207.7,2,    207.5,2,     2.40,2,     2.74,2,     0.03,2,     0.24,2,    2.258,2,    1.384,2,    0.084,2,    1.434,2,   2025.1,2,   2285.4,2,   7.9796,6,    25.00,  18.2346,2,    0.063,2,    0.214,2,    99.42,2,     -999,9
49NZ20120113  ,P10N       ,      67,  3,         32,12017      ,2,20120116,0234,  24.2432, 149.0372,     5784,    199.5,  17.5036,  34.7098,2,  34.7089,2,    206.9,2,    206.6,2,     3.05,2,     4.23,2,     0.02,2,     0.32,2,    2.329,2,    1.415,2,    0.044,2,    1.521,2,   2033.0,2,   2282.9,2,   7.9628,2,    25.00,  17.5060,2,    0.007,2,    0.031,2,    99.62,2,     -999,9
49NZ20120113  ,P10N       ,      67,  3,         31,12016      ,2,20120116,0234,  24.2432, 149.0372,     5784,    250.2,  16.8445,  34.6746,2,  34.6731,2,    206.8,2,    206.6,2,     4.19,2,     5.28,2,     0.02,2,     0.38,2,    2.404,2,    1.449,2,    0.045,2,    1.418,2,   2040.3,2,   2280.9,2,   7.9467,2,    25.00,  16.8446,2,    0.004,2,    0.000,2,    99.67,2,     -999,9
49NZ20120113  ,P10N       ,      67,  3,         30,12015      ,2,20120116,0234,  24.2432, 149.0372,     5784,    298.7,  15.8770,  34.6003,2,  34.6006,2,    198.3,2,    198.3,2,     6.05,2,     7.28,2,     0.02,2,     0.53,2,    2.517,2,    1.494,2,    0.026,2,    1.345,2,   2056.4,2,   2278.5,2,   7.9106,2,    25.00,  15.8734,2,    0.004,2,    0.000,2,    99.69,2,     -999,9
49NZ20120113  ,P10N       ,      67,  3,         29,12014      ,2,20120116,0234,  24.2432, 149.0372,     5784,    399.6,  13.5670,  34.4521,2,  34.4436,2,    193.9,2,    193.9,2,    12.29,2,    11.72,2,     0.02,2,     0.84,2,    2.707,2,    1.560,2,    0.037,6,    1.205,6,   2086.6,2,   2277.2,2,   7.8419,2,    25.00,  13.5673,2,    0.006,2,    0.000,2,    99.72,2,     -999,9
49NZ20120113  ,P10N       ,      67,  3,         28,12101      ,3,20120116,0234,  24.2432, 149.0372,     5784,    499.4,  10.0779,  34.2085,2,  34.2100,2,    184.2,2,    183.9,2,    24.77,2,    18.38,2,     0.02,2,     1.33,2,    2.834,2,    1.548,2,    0.073,2,    1.037,2,   2134.7,2,   2275.2,2,   7.7350,2,    25.00,  10.0760,2,    0.009,2,    0.000,2,    99.77,2,     -999,9
49NZ20120113  ,P10N       ,      67,  3,         27,12012      ,2,20120116,0234,  24.2432, 149.0372,     5784,    599.5,   7.2214,  34.0567,2,  34.0569,2,    145.4,2,    145.3,2,    46.97,2,    27.13,2,     0.02,2,     1.98,2,    2.372,6,    1.243,6,    0.085,2,    0.707,2,   2199.5,2,   2286.4,2,   7.5923,2,    25.00,   7.2215,2,    0.012,2,    0.000,2,    99.79,2,     -999,9
49NZ20120113  ,P10N       ,      67,  3,         26,12010      ,3,20120116,0234,  24.2432, 149.0372,     5784,    701.3,   5.6158,  34.0811,2,  34.0817,2,     96.9,2,     96.6,2,    70.49,2,    34.33,2,     0.02,2,     2.51,2,    1.459,2,    0.744,2,    0.047,2,    0.371,2,   2259.1,6,   2305.4,2,   7.4726,2,    25.00,   5.6161,2,    0.016,2,    0.000,2,    99.80,2,     -999,9
49NZ20120113  ,P10N       ,      67,  3,         25,12009      ,2,20120116,0234,  24.2432, 149.0372,     5784,    798.8,   4.8052,  34.1608,2,  34.1607,2,     65.2,2,     65.1,2,    87.99,2,    38.38,2,     0.02,2,     2.81,2,    0.820,2,    0.412,2,    0.026,2,    0.166,2,   2300.5,2,   2325.6,6,   7.4098,2,    25.00,   4.8058,2,    0.019,2,    0.000,2,    99.78,2,     -999,9
49NZ20120113  ,P10N       ,      67,  3,         24,12008      ,2,20120116,0234,  24.2432, 149.0372,     5784,    899.4,   4.1674,  34.2698,2,  34.2702,2,     46.1,2,     46.0,2,   104.73,2,    41.00,2,     0.01,2,     2.96,2,    0.348,2,    0.168,2,    0.008,2,    0.051,2,   2330.8,2,   2346.1,2,   7.3792,6,    25.00,   4.1676,2,    0.020,2,    0.000,2,    99.81,2,     -999,9
49NZ20120113  ,P10N       ,      67,  3,         23,12007      ,2,20120116,0234,  24.2432, 149.0372,     5784,    998.2,   3.6583,  34.3534,2,  34.3536,2,     42.3,2,     42.3,2,   117.70,2,    41.95,2,     0.01,2,     3.04,2,    0.171,2,    0.083,2,    0.003,2,    0.024,2,   2349.6,2,   2364.0,2,   7.3787,2,    25.00,   3.6580,2,    0.020,2,    0.000,2,    99.83,2,     -999,9
49NZ20120113  ,P10N       ,      67,  3,         22,12022      ,2,20120116,0234,  24.2432, 149.0372,     5784,   1200.1,   3.0965,  34.4476,2,  34.4476,2,     47.4,2,     47.4,2,   131.59,2,    42.18,2,     0.01,2,     3.05,2,    0.053,2,    0.025,2,    0.001,2,    0.034,2,   2362.6,2,   2383.4,2,   7.3939,2,    25.00,   3.0965,2,    0.019,2,    0.000,2,    99.84,2,     -999,9
49NZ20120113  ,P10N       ,      67,  3,         21,12036      ,2,20120116,0234,  24.2432, 149.0372,     5784,   1400.5,   2.6717,  34.5126,2,  34.5135,2,     59.6,2,     59.8,2,   139.73,2,    41.69,2,     0.01,2,     2.99,2,    0.014,2,    0.007,2,    0.000,2,    0.000,2,   2364.8,2,   2396.6,2,   7.4199,2,    25.00,   2.6718,2,    0.019,2,    0.000,2,    99.86,2,     -999,9
49NZ20120113  ,P10N       ,      67,  3,         20,12035      ,2,20120116,0234,  24.2432, 149.0372,     5784,   1600.5,   2.2553,  34.5670,2,  34.5674,2,     78.2,2,     78.4,2,   145.35,2,    40.73,2,     0.01,2,     2.92,2,    0.005,2,    0.003,2,    0.000,2,    0.009,2,   2360.7,2,   2406.9,2,   7.4548,6,    25.00,   2.2553,2,    0.016,2,    0.000,2,    99.88,2,     -999,9
49NZ20120113  ,P10N       ,      67,  3,         19,12034      ,2,20120116,0234,  24.2432, 149.0372,     5784,   1800.4,   2.0644,  34.5940,2,  34.5950,2,     92.0,2,     92.4,2,   146.06,2,    39.85,2,     0.01,2,     2.85,2,    0.004,2,    0.004,2,    0.000,2,    0.040,2,   2356.5,2,   2411.2,2,   7.4828,2,    25.00,   2.0644,2,    0.015,2,    0.000,2,    99.90,2,     -999,9
49NZ20120113  ,P10N       ,      67,  3,         18,12033      ,2,20120116,0234,  24.2432, 149.0372,     5784,   1999.9,   1.8897,  34.6167,2,  34.6174,2,    102.9,2,    103.2,2,   147.39,2,    39.21,2,     0.02,2,     2.79,2,    0.002,2,    0.001,2,    0.000,2,    0.038,2,   2350.8,2,   2415.1,2,   7.5024,2,    25.00,   1.8897,2,    0.014,2,    0.000,2,    99.90,2,     -999,9
49NZ20120113  ,P10N       ,      67,  3,         17,12032      ,2,20120116,0234,  24.2432, 149.0372,     5784,   2200.0,   1.7915,  34.6318,2,  34.6324,2,    112.0,2,    112.0,2,   147.17,2,    38.67,2,     0.01,2,     2.76,2,    0.001,2,    0.000,2,    0.000,2,     -999,9,   2348.6,2,   2417.1,2,   7.5180,2,    25.00,   1.7915,2,    0.014,2,    0.000,2,    99.92,2,     -999,9
49NZ20120113  ,P10N       ,      67,  3,         16,12046      ,2,20120116,0234,  24.2432, 149.0372,     5784,   2399.7,   1.7154,  34.6441,2,  34.6443,2,    120.3,2,    120.5,2,   146.51,2,    38.17,2,     0.01,2,     2.72,2,    0.000,2,    0.000,2,    0.000,2,    0.023,2,   2343.7,6,   2418.0,2,   7.5336,2,    25.00,   1.7155,2,    0.013,2,    0.000,2,    99.93,2,     -999,9
49NZ20120113  ,P10N       ,      67,  3,         15,12030      ,2,20120116,0234,  24.2432, 149.0372,     5784,   2599.9,   1.6632,  34.6523,2,  34.6526,2,    125.7,2,    125.8,2,   146.05,2,    37.87,2,     0.01,2,     2.69,2,    0.001,2,    0.000,2,    0.000,2,     -999,9,   2342.7,2,   2419.4,6,   7.5433,2,    25.00,   1.6633,2,    0.012,2,    0.000,2,    99.94,2,     -999,9
49NZ20120113  ,P10N       ,      67,  3,         14,12029      ,2,20120116,0234,  24.2432, 149.0372,     5784,   2800.5,   1.6104,  34.6597,2,  34.6595,2,    131.0,2,    131.0,2,   146.06,2,    37.54,2,     0.01,2,     2.66,2,    0.000,2,    0.000,2,    0.000,2,     -999,9,   2339.0,2,   2419.9,2,   7.5525,2,    25.00,   1.6105,2,    0.012,2,    0.000,2,    99.95,2,     -999,9
49NZ20120113  ,P10N       ,      67,  3,         13,12028      ,2,20120116,0234,  24.2432, 149.0372,     5784,   3000.6,   1.5670,  34.6657,2,  34.6661,2,    135.6,2,    135.5,2,   145.86,2,    37.16,2,     0.01,2,     2.65,2,    0.000,2,    0.000,2,    0.001,2,    0.000,2,   2337.3,2,   2420.0,2,   7.5599,2,    25.00,   1.5670,2,    0.012,2,    0.000,2,    99.96,2,     -999,9
49NZ20120113  ,P10N       ,      67,  3,         12,12027      ,2,20120116,0234,  24.2432, 149.0372,     5784,   3249.6,   1.5281,  34.6714,2,  34.6725,2,    140.8,2,    140.7,2,   144.46,2,    36.81,2,     0.01,2,     2.58,2,    0.000,2,    0.000,2,    0.000,2,     -999,9,   2333.7,2,   2421.1,2,   7.5689,2,    25.00,   1.5280,2,    0.011,2,    0.000,2,    99.96,2,     -999,9
49NZ20120113  ,P10N       ,      67,  3,         11,12011      ,2,20120116,0234,  24.2432, 149.0372,     5784,   3500.2,   1.5049,  34.6760,2,  34.6767,2,    145.2,2,    145.0,2,   143.30,2,    36.56,2,     0.01,2,     2.58,2,     -999,9,     -999,9,     -999,9,     -999,9,   2332.5,3,   2420.2,2,   7.5740,2,    25.00,   1.5049,2,    0.011,2,    0.000,2,    99.96,2,     -999,9
49NZ20120113  ,P10N       ,      67,  3,         10,12026      ,2,20120116,0234,  24.2432, 149.0372,     5784,   3750.2,   1.4847,  34.6799,2,  34.6806,2,    149.7,2,    149.4,2,   142.63,2,    36.28,2,     0.01,2,     2.56,2,    0.000,2,    0.001,2,    0.000,2,    0.000,2,   2328.6,2,   2418.4,2,   7.5809,2,    25.00,   1.4846,2,    0.011,2,    0.000,2,    99.96,2,     -999,9
49NZ20120113  ,P10N       ,      67,  3,          9,12025      ,2,20120116,0234,  24.2432, 149.0372,     5784,   4000.1,   1.4684,  34.6837,2,  34.6839,2,    154.2,2,    153.9,2,   141.21,2,    35.99,2,     0.01,2,     2.54,2,    0.001,2,    0.001,2,    0.000,2,    0.000,2,   2325.5,2,   2416.5,2,   7.5872,2,    25.00,   1.4684,2,    0.011,2,    0.000,2,    99.95,2,     -999,9
49NZ20120113  ,P10N       ,      67,  3,          8,12024      ,2,20120116,0234,  24.2432, 149.0372,     5784,   4250.1,   1.4622,  34.6866,2,  34.6869,2,    158.5,2,    158.1,2,   139.20,2,    35.66,2,     0.01,2,     2.52,2,    0.000,2,    0.000,2,    0.000,2,     -999,9,   2321.5,6,   2415.3,2,   7.5926,2,    25.00,   1.4623,2,    0.010,2,    0.000,2,    99.95,2,     -999,9
49NZ20120113  ,P10N       ,      67,  3,          7,12023      ,2,20120116,0234,  24.2432, 149.0372,     5784,   4500.2,   1.4680,  34.6887,2,  34.6891,2,    161.6,2,    161.1,2,   137.82,2,    35.46,2,     0.01,2,     2.51,2,    0.002,2,    0.001,2,    0.000,2,    0.000,2,   2318.0,2,   2414.6,6,   7.5958,2,    25.00,   1.4680,2,    0.009,2,    0.000,2,    99.94,2,     -999,9
49NZ20120113  ,P10N       ,      67,  3,          6,12006      ,2,20120116,0234,  24.2432, 149.0372,     5784,   4750.3,   1.4769,  34.6903,2,  34.6906,2,    164.5,2,    164.1,2,   136.24,2,    35.25,2,     0.01,2,     2.49,2,    0.000,2,    0.000,2,    0.000,2,     -999,9,   2314.1,2,   2411.7,2,   7.5993,6,    25.00,   1.4768,2,    0.009,2,    0.000,2,    99.94,2,     -999,9
49NZ20120113  ,P10N       ,      67,  3,          5,12102      ,2,20120116,0234,  24.2432, 149.0372,     5784,   5000.5,   1.4910,  34.6919,2,  34.6925,2,    167.0,2,    166.6,2,   134.70,2,    35.11,2,     0.01,2,     2.47,2,    0.001,2,    0.001,2,    0.000,2,     -999,9,   2312.1,2,   2410.4,2,   7.6024,2,    25.00,   1.4909,2,    0.009,2,    0.000,2,    99.93,2,     -999,9
49NZ20120113  ,P10N       ,      67,  3,          4,12104      ,2,20120116,0234,  24.2432, 149.0372,     5784,   5248.1,   1.5076,  34.6931,2,  34.6936,2,    169.2,2,    168.9,2,   133.02,2,    34.90,2,     0.01,2,     2.46,2,    0.000,2,    0.000,2,    0.000,2,    0.000,2,   2310.9,2,   2408.8,2,   7.6056,2,    25.00,   1.5076,2,    0.009,2,    0.000,2,    99.92,2,     -999,9
49NZ20120113  ,P10N       ,      67,  3,          3,12003      ,2,20120116,0234,  24.2432, 149.0372,     5784,   5499.1,   1.5261,  34.6941,2,  34.6944,2,    171.2,2,    171.1,2,   131.80,2,    34.78,2,     0.01,2,     2.45,2,     -999,9,     -999,9,     -999,9,     -999,9,   2306.5,2,   2408.0,2,   7.6068,2,    25.00,   1.5260,2,    0.009,2,    0.000,2,    99.93,2,     -999,9
49NZ20120113  ,P10N       ,      67,  3,          2,12103      ,2,20120116,0234,  24.2432, 149.0372,     5784,   5749.9,   1.5478,  34.6951,2,  34.6953,2,    172.9,2,    173.0,2,   130.91,2,    34.67,2,     0.01,2,     2.45,2,    0.000,2,    0.000,2,    0.000,2,     -999,9,   2303.8,2,   2407.4,2,   7.6094,2,    25.00,   1.5477,2,    0.009,2,    0.000,2,    99.93,2,     -999,9
49NZ20120113  ,P10N       ,      67,  3,          1,12001      ,2,20120116,0234,  24.2432, 149.0372,     5784,   5890.8,   1.5592,  34.6955,2,  34.6961,2,    174.0,2,    174.1,2,   130.39,2,    34.54,2,     0.01,2,     2.43,2,    0.000,2,    0.001,2,    0.000,2,    0.000,2,   2304.1,2,   2405.8,2,   7.6100,2,    25.00,   1.5591,2,    0.009,2,    0.000,2,    99.91,2,     -999,9