BOTTLE,20231026CCHSIOVAJ
EXPOCODE,SECT_ID,STNNBR,CASTNO,SAMPNO,BTLNBR,BTLNBR_FLAG_W,DATE,TIME,LATITUDE,LONGITUDE,DEPTH,CTDPRS,CTDTMP,CTDSAL,CTDSAL_FLAG_W,SALNTY,SALNTY_FLAG_W,CTDOXY,CTDOXY_FLAG_W,OXYGEN,OXYGEN_FLAG_W,SILCAT,SILCAT_FLAG_W,NITRAT,NITRAT_FLAG_W,NITRIT,NITRIT_FLAG_W,PHSPHT,PHSPHT_FLAG_W,CFC-11,CFC-11_FLAG_W,CFC-12,CFC-12_FLAG_W,CFC113,CFC113_FLAG_W,SF6,SF6_FLAG_W,TCARBN,TCARBN_FLAG_W,ALKALI,ALKALI_FLAG_W,PH_TOT,PH_TOT_FLAG_W,PH_TMP,REFTMP,REFTMP_FLAG_W,CTDFLUOR,CTDFLUOR_FLAG_W,PAR,PAR_FLAG_W,CTDXMISS,CTDXMISS_FLAG_W,CHLORA,CHLORA_FLAG_W
,,,,,,,,,,,METERS,DBAR,ITS-90,PSS-78,,PSS-78,,UMOL/KG,,UMOL/KG,,UMOL/KG,,UMOL/KG,,UMOL/KG,,UMOL/KG,,PMOL/KG,,PMOL/KG,,PMOL/KG,,FMOL/KG,,UMOL/KG,,UMOL/KG,,,,DEG C,ITS-90,,MG/M^3,,VOLTS,,%TRANS,,UG/KG,
49NZ20120113  ,P10N       ,     114,  1,          0,BUC        ,2,20120205,1837,  42.1675, 143.8085,      726,      0.0,     -999,     -999,9,  32.4809,2,     -999,9,     -999,9,     -999,9,     -999,9,     -999,9,     -999,9,     -999,9,     -999,9,     -999,9,     -999,9,     -999,9,     -999,9,     -999,9,     -999,     -999,9,     -999,9,     -999,9,     -999,9,     0.35,2
49NZ20120113  ,P10N       ,     114,  1,         36,12021      ,2,20120205,1837,  42.1675, 143.8085,      726,      9.8,   0.4265,  32.4767,2,  32.4766,2,    334.8,2,    337.9,2,    22.66,2,    12.86,2,     0.17,2,     1.30,2,    5.841,2,    3.190,2,    0.563,2,     -999,9,   2103.4,2,   2221.9,3,   7.6948,2,    25.00,   0.4265,2,    0.408,2,    0.069,2,    96.66,2,     0.39,2
49NZ20120113  ,P10N       ,     114,  1,         26,12010      ,2,20120205,1837,  42.1675, 143.8085,      726,      9.9,   0.4278,  32.4767,2,     -999,9,    334.6,2,     -999,9,     -999,9,     -999,9,     -999,9,     -999,9,     -999,9,     -999,9,     -999,9,     -999,9,     -999,9,     -999,9,     -999,9,     -999,   0.4269,2,    0.413,2,    0.050,2,    96.66,2,     -999,9
49NZ20120113  ,P10N       ,     114,  1,         25,12009      ,2,20120205,1837,  42.1675, 143.8085,      726,     10.0,   0.4251,  32.4766,2,     -999,9,    334.7,2,     -999,9,     -999,9,     -999,9,     -999,9,     -999,9,     -999,9,     -999,9,     -999,9,     -999,9,     -999,9,     -999,9,     -999,9,     -999,   0.4244,2,    0.421,2,    0.075,2,    96.67,2,     -999,9
49NZ20120113  ,P10N       ,     114,  1,         23,12007      ,2,20120205,1837,  42.1675, 143.8085,      726,     24.7,   0.4311,  32.4771,2,     -999,9,    334.6,2,     -999,9,     -999,9,     -999,9,     -999,9,     -999,9,     -999,9,     -999,9,     -999,9,     -999,9,     -999,9,     -999,9,     -999,9,     -999,   0.4305,2,    0.422,2,    0.000,2,    96.71,2,     -999,9
49NZ20120113  ,P10N       ,     114,  1,         24,12008      ,2,20120205,1837,  42.1675, 143.8085,      726,     24.7,   0.4342,  32.4770,2,     -999,9,    334.6,2,     -999,9,     -999,9,     -999,9,     -999,9,     -999,9,     -999,9,     -999,9,     -999,9,     -999,9,     -999,9,     -999,9,     -999,9,     -999,   0.4336,2,    0.428,2,    0.000,2,    96.69,2,     -999,9
49NZ20120113  ,P10N       ,     114,  1,         35,12001      ,2,20120205,1837,  42.1675, 143.8085,      726,     49.7,   0.5039,  32.4924,2,  32.5064,2,    332.4,2,    332.6,2,    23.58,2,    13.29,2,     0.17,2,     1.32,2,    5.738,2,    3.130,2,    0.569,2,     -999,9,   2105.2,6,   2221.3,3,   7.6797,2,    25.00,   0.5036,2,    0.384,2,    0.000,2,    96.84,2,     0.31,2
49NZ20120113  ,P10N       ,     114,  1,         22,12022      ,2,20120205,1837,  42.1675, 143.8085,      726,     49.7,   0.5045,  32.4927,2,     -999,9,    332.5,2,     -999,9,     -999,9,     -999,9,     -999,9,     -999,9,     -999,9,     -999,9,     -999,9,     -999,9,     -999,9,     -999,9,     -999,9,     -999,   0.5040,2,    0.416,2,    0.000,2,    96.88,2,     -999,9
49NZ20120113  ,P10N       ,     114,  1,         21,12036      ,2,20120205,1837,  42.1675, 143.8085,      726,     49.8,   0.4999,  32.4921,2,     -999,9,    332.5,2,     -999,9,     -999,9,     -999,9,     -999,9,     -999,9,     -999,9,     -999,9,     -999,9,     -999,9,     -999,9,     -999,9,     -999,9,     -999,   0.4998,2,    0.378,2,    0.000,2,    96.87,2,     -999,9
49NZ20120113  ,P10N       ,     114,  1,         34,12019      ,2,20120205,1837,  42.1675, 143.8085,      726,     99.8,   1.5279,  32.8030,2,  32.8188,3,    305.2,2,    310.4,2,    32.69,2,    17.13,2,     0.15,2,     1.54,2,    5.311,6,    2.916,6,    0.485,6,     -999,9,   2129.9,2,   2236.2,6,   7.6521,2,    25.00,   1.5270,2,    0.221,2,    0.000,2,    97.59,2,     0.21,2
49NZ20120113  ,P10N       ,     114,  1,         20,12035      ,2,20120205,1837,  42.1675, 143.8085,      726,     99.9,   1.5292,  32.8023,2,     -999,9,    306.0,2,     -999,9,     -999,9,     -999,9,     -999,9,     -999,9,     -999,9,     -999,9,     -999,9,     -999,9,     -999,9,     -999,9,     -999,9,     -999,   1.5287,2,    0.197,2,    0.000,2,    97.60,2,     -999,9
49NZ20120113  ,P10N       ,     114,  1,         19,12034      ,2,20120205,1837,  42.1675, 143.8085,      726,     99.9,   1.5113,  32.8052,2,     -999,9,    307.4,2,     -999,9,     -999,9,     -999,9,     -999,9,     -999,9,     -999,9,     -999,9,     -999,9,     -999,9,     -999,9,     -999,9,     -999,9,     -999,   1.5105,2,    0.218,2,    0.000,2,    97.63,2,     -999,9
49NZ20120113  ,P10N       ,     114,  1,         33,12018      ,2,20120205,1837,  42.1675, 143.8085,      726,    149.7,   1.9709,  33.0630,2,  33.0723,2,    293.7,2,    295.7,2,    40.51,2,    20.51,2,     0.07,2,     1.72,2,    5.052,2,    2.781,2,    0.465,2,     -999,9,   2147.2,2,   2249.2,2,   7.6306,6,    25.00,   1.9724,2,    0.140,2,    0.000,2,    98.36,2,     0.10,2
49NZ20120113  ,P10N       ,     114,  1,         18,12033      ,2,20120205,1837,  42.1675, 143.8085,      726,    149.7,   1.9726,  33.0632,2,     -999,9,    293.8,2,     -999,9,     -999,9,     -999,9,     -999,9,     -999,9,     -999,9,     -999,9,     -999,9,     -999,9,     -999,9,     -999,9,     -999,9,     -999,   1.9752,2,    0.136,2,    0.000,2,    98.34,2,     -999,9
49NZ20120113  ,P10N       ,     114,  1,         17,12032      ,2,20120205,1837,  42.1675, 143.8085,      726,    149.8,   1.9854,  33.0685,2,     -999,9,    293.4,2,     -999,9,     -999,9,     -999,9,     -999,9,     -999,9,     -999,9,     -999,9,     -999,9,     -999,9,     -999,9,     -999,9,     -999,9,     -999,   1.9915,2,    0.148,2,    0.000,2,    98.30,2,     -999,9
49NZ20120113  ,P10N       ,     114,  1,         32,12017      ,2,20120205,1837,  42.1675, 143.8085,      726,    199.6,   1.8796,  33.1796,2,  33.1830,2,    288.3,2,    290.6,2,    46.66,2,    23.40,2,     0.07,2,     1.91,2,    4.991,2,    2.730,2,    0.456,2,     -999,9,   2161.5,2,   2255.7,2,   7.6097,3,    25.00,   1.8794,2,    0.138,2,    0.000,2,    98.83,2,     0.12,2
49NZ20120113  ,P10N       ,     114,  1,         16,12046      ,2,20120205,1837,  42.1675, 143.8085,      726,    199.6,   1.8788,  33.1819,2,     -999,9,    289.0,2,     -999,9,     -999,9,     -999,9,     -999,9,     -999,9,     -999,9,     -999,9,     -999,9,     -999,9,     -999,9,     -999,9,     -999,9,     -999,   1.8776,2,    0.144,2,    0.000,2,    98.90,2,     -999,9
49NZ20120113  ,P10N       ,     114,  1,         15,12030      ,2,20120205,1837,  42.1675, 143.8085,      726,    199.7,   1.8948,  33.1861,2,     -999,9,    288.1,2,     -999,9,     -999,9,     -999,9,     -999,9,     -999,9,     -999,9,     -999,9,     -999,9,     -999,9,     -999,9,     -999,9,     -999,9,     -999,   1.8890,2,    0.133,2,    0.000,2,    98.87,2,     -999,9
49NZ20120113  ,P10N       ,     114,  1,         14,12029      ,2,20120205,1837,  42.1675, 143.8085,      726,    250.1,   2.2611,  33.2726,2,     -999,9,    262.6,2,     -999,9,     -999,9,     -999,9,     -999,9,     -999,9,     -999,9,     -999,9,     -999,9,     -999,9,     -999,9,     -999,9,     -999,9,     -999,   2.2604,2,    0.085,2,    0.000,2,    98.78,2,     -999,9
49NZ20120113  ,P10N       ,     114,  1,         13,12028      ,2,20120205,1837,  42.1675, 143.8085,      726,    250.2,   2.2602,  33.2725,2,     -999,9,    262.7,2,     -999,9,     -999,9,     -999,9,     -999,9,     -999,9,     -999,9,     -999,9,     -999,9,     -999,9,     -999,9,     -999,9,     -999,9,     -999,   2.2600,2,    0.078,2,    0.000,2,    98.78,2,     -999,9
49NZ20120113  ,P10N       ,     114,  1,         31,12016      ,2,20120205,1837,  42.1675, 143.8085,      726,    250.3,   2.2620,  33.2729,2,  33.2737,2,    262.7,2,    263.9,2,    51.83,2,    25.78,2,     0.04,2,     2.06,2,    4.743,2,    2.588,2,    0.423,2,     -999,9,   2178.7,2,   2260.8,2,   7.5756,2,    25.00,   2.2616,2,    0.085,2,    0.000,2,    98.75,2,     -999,9
49NZ20120113  ,P10N       ,     114,  1,         11,12011      ,2,20120205,1837,  42.1675, 143.8085,      726,    279.1,   2.2755,  33.3130,2,     -999,9,    243.0,2,     -999,9,     -999,9,     -999,9,     -999,9,     -999,9,     -999,9,     -999,9,     -999,9,     -999,9,     -999,9,     -999,9,     -999,9,     -999,   2.2746,2,    0.051,2,    0.000,2,    98.84,2,     -999,9
49NZ20120113  ,P10N       ,     114,  1,         30,12015      ,2,20120205,1837,  42.1675, 143.8085,      726,    279.2,   2.2731,  33.3126,2,  33.3145,2,    243.3,2,    244.8,2,    56.47,2,    27.31,2,     0.03,2,     2.16,2,    4.580,2,    2.506,2,    0.403,2,     -999,9,   2193.3,2,   2264.8,2,   7.5418,2,    25.00,   2.2730,2,    0.050,2,    0.000,2,    98.79,2,     -999,9
49NZ20120113  ,P10N       ,     114,  1,         12,12027      ,2,20120205,1837,  42.1675, 143.8085,      726,    279.2,   2.2711,  33.3117,2,     -999,9,    243.2,2,     -999,9,     -999,9,     -999,9,     -999,9,     -999,9,     -999,9,     -999,9,     -999,9,     -999,9,     -999,9,     -999,9,     -999,9,     -999,   2.2704,2,    0.056,2,    0.000,2,    98.83,2,     -999,9
49NZ20120113  ,P10N       ,     114,  1,          9,12025      ,2,20120205,1837,  42.1675, 143.8085,      726,    369.5,   2.7871,  33.5190,2,     -999,9,    191.4,2,     -999,9,     -999,9,     -999,9,     -999,9,     -999,9,     -999,9,     -999,9,     -999,9,     -999,9,     -999,9,     -999,9,     -999,9,     -999,   2.7852,2,    0.020,2,    0.000,2,    99.18,2,     -999,9
49NZ20120113  ,P10N       ,     114,  1,         29,12014      ,2,20120205,1837,  42.1675, 143.8085,      726,    369.6,   2.7844,  33.5191,2,  33.5194,2,    191.3,2,    192.6,2,    65.87,2,    31.53,2,     0.02,2,     2.42,2,    4.029,2,    2.166,2,    0.333,2,     -999,9,   2227.4,2,   2275.6,2,   7.4724,2,    25.00,   2.7842,2,    0.020,2,    0.000,2,    99.15,2,     -999,9
49NZ20120113  ,P10N       ,     114,  1,         10,12026      ,2,20120205,1837,  42.1675, 143.8085,      726,    369.6,   2.7767,  33.5178,2,     -999,9,    191.4,2,     -999,9,     -999,9,     -999,9,     -999,9,     -999,9,     -999,9,     -999,9,     -999,9,     -999,9,     -999,9,     -999,9,     -999,9,     -999,   2.7801,2,    0.021,2,    0.000,2,    99.18,2,     -999,9
49NZ20120113  ,P10N       ,     114,  1,         28,12024      ,2,20120205,1837,  42.1675, 143.8085,      726,    468.9,   2.7108,  33.6964,2,  33.6935,2,    130.7,2,    132.2,2,    84.24,2,    36.69,2,     0.01,2,     2.74,2,    3.226,2,    1.703,2,    0.251,2,     -999,9,   2275.0,2,   2293.6,2,   7.3766,2,    25.00,   2.7073,2,    0.021,2,    0.000,2,    99.33,2,     -999,9
49NZ20120113  ,P10N       ,     114,  1,          5,12102      ,2,20120205,1837,  42.1675, 143.8085,      726,    568.9,   3.3363,  33.9435,2,     -999,9,     71.7,2,     -999,9,     -999,9,     -999,9,     -999,9,     -999,9,     -999,9,     -999,9,     -999,9,     -999,9,     -999,9,     -999,9,     -999,9,     -999,   3.3362,2,    0.022,2,    0.000,2,    99.10,2,     -999,9
49NZ20120113  ,P10N       ,     114,  1,         27,12012      ,2,20120205,1837,  42.1675, 143.8085,      726,    568.9,   3.3334,  33.9446,2,  33.9439,2,     71.6,2,     72.8,2,    99.06,2,    40.41,2,     0.01,2,     2.95,2,    2.011,6,    1.052,6,    0.142,6,     -999,9,   2313.8,2,   2315.1,2,   7.3221,2,    25.00,   3.3343,2,    0.022,2,    0.000,2,    99.09,2,     -999,9
49NZ20120113  ,P10N       ,     114,  1,          6,12006      ,2,20120205,1837,  42.1675, 143.8085,      726,    569.0,   3.3352,  33.9438,2,     -999,9,     71.8,2,     -999,9,     -999,9,     -999,9,     -999,9,     -999,9,     -999,9,     -999,9,     -999,9,     -999,9,     -999,9,     -999,9,     -999,9,     -999,   3.3357,2,    0.022,2,    0.000,2,    99.06,2,     -999,9
49NZ20120113  ,P10N       ,     114,  1,          1,12001      ,2,20120205,1837,  42.1675, 143.8085,      726,    719.8,   3.3421,  34.1013,2,  34.0961,2,     40.0,2,     41.0,2,   114.73,2,    42.51,2,     0.03,2,     3.09,2,    1.228,2,    0.644,2,    0.094,2,     -999,9,   2342.2,2,   2335.4,2,   7.2938,2,    25.00,   3.3420,2,    0.025,2,    0.000,2,    97.86,2,     -999,9
49NZ20120113  ,P10N       ,     114,  1,          2,12103      ,2,20120205,1837,  42.1675, 143.8085,      726,    719.9,   3.3422,  34.1011,2,     -999,9,     39.9,2,     -999,9,     -999,9,     -999,9,     -999,9,     -999,9,     -999,9,     -999,9,     -999,9,     -999,9,     -999,9,     -999,9,     -999,9,     -999,   3.3423,2,    0.024,2,    0.000,2,    97.89,2,     -999,9
49NZ20120113  ,P10N       ,     114,  1,          3,12003      ,2,20120205,1837,  42.1675, 143.8085,      726,    720.1,   3.3418,  34.1014,2,     -999,9,     39.9,2,     -999,9,     -999,9,     -999,9,     -999,9,     -999,9,     -999,9,     -999,9,     -999,9,     -999,9,     -999,9,     -999,9,     -999,9,     -999,   3.3414,2,    0.025,2,    0.000,2,    97.84,2,     -999,9
49NZ20120113  ,P10N       ,     115,  1,          0,BUC        ,2,20120205,2130,  42.2530, 143.7405,      484,      0.0,     -999,     -999,9,  32.5385,2,     -999,9,     -999,9,     -999,9,     -999,9,     -999,9,     -999,9,     -999,9,     -999,9,     -999,9,     -999,9,     -999,9,     -999,9,     -999,9,     -999,     -999,9,     -999,9,     -999,9,     -999,9,     -999,9
49NZ20120113  ,P10N       ,     115,  1,         36,12021      ,2,20120205,2130,  42.2530, 143.7405,      484,     10.2,   0.5273,  32.5219,2,  32.5251,2,    333.5,2,    336.6,2,    23.62,2,    13.22,2,     0.17,2,     1.31,2,    5.809,2,    3.157,2,    0.524,2,    3.073,2,     -999,9,     -999,9,     -999,9,     -999,   0.5265,2,    0.386,2,    4.506,2,    97.01,2,     -999,9
49NZ20120113  ,P10N       ,     115,  1,         35,12001      ,2,20120205,2130,  42.2530, 143.7405,      484,     50.0,   1.0135,  32.6355,2,  32.6459,2,    321.5,2,    322.1,2,    27.19,2,    14.76,2,     0.17,2,     1.39,2,    5.557,2,    3.040,2,    0.501,6,    2.919,6,     -999,9,     -999,9,     -999,9,     -999,   1.0074,2,    0.302,2,    0.057,2,    96.90,2,     -999,9
49NZ20120113  ,P10N       ,     115,  1,         34,12019      ,2,20120205,2130,  42.2530, 143.7405,      484,     99.9,   1.8021,  32.9082,2,  32.9112,2,    297.1,2,    299.9,2,    36.01,2,    18.49,2,     0.11,2,     1.61,2,    5.180,6,    2.844,6,    0.466,2,    2.756,2,     -999,9,     -999,9,     -999,9,     -999,   1.8017,2,    0.145,2,    0.000,2,    97.41,2,     -999,9
49NZ20120113  ,P10N       ,     115,  1,         33,12018      ,2,20120205,2130,  42.2530, 143.7405,      484,    150.6,   1.8638,  33.0864,2,  33.0904,2,    294.4,2,    296.1,2,    42.34,2,    21.36,2,     0.06,2,     1.77,2,    5.096,2,    2.792,2,    0.460,2,    2.654,2,     -999,9,     -999,9,     -999,9,     -999,   1.8632,2,    0.132,2,    0.000,2,    98.59,2,     -999,9
49NZ20120113  ,P10N       ,     115,  1,         32,12017      ,2,20120205,2130,  42.2530, 143.7405,      484,    200.2,   1.7794,  33.1400,2,  33.1473,2,    294.2,2,    294.4,2,    45.51,2,    22.96,2,     0.07,2,     1.88,2,    5.088,2,    2.789,2,    0.452,2,    2.647,2,     -999,9,     -999,9,     -999,9,     -999,   1.7821,2,    0.146,2,    0.000,2,    98.83,2,     -999,9
49NZ20120113  ,P10N       ,     115,  1,         31,12016      ,2,20120205,2130,  42.2530, 143.7405,      484,    250.4,   2.2757,  33.2649,2,  33.2718,2,    266.8,2,    268.3,2,    50.51,2,    25.44,2,     0.04,2,     2.03,2,    4.797,2,    2.616,2,    0.412,2,    2.479,2,     -999,9,     -999,9,     -999,9,     -999,   2.2727,2,    0.084,2,    0.000,2,    98.93,2,     -999,9
49NZ20120113  ,P10N       ,     115,  1,         30,12015      ,2,20120205,2130,  42.2530, 143.7405,      484,    300.2,   2.8111,  33.4660,2,  33.4647,2,    209.0,2,    210.2,2,    60.60,2,    29.86,2,     0.03,2,     2.31,2,    4.273,2,    2.295,2,    0.337,2,    2.010,2,     -999,9,     -999,9,     -999,9,     -999,   2.8136,2,    0.021,2,    0.000,2,    99.05,2,     -999,9
49NZ20120113  ,P10N       ,     115,  1,         29,12014      ,2,20120205,2130,  42.2530, 143.7405,      484,    400.3,   2.3247,  33.5148,2,  33.5366,3,    180.4,2,    177.2,2,    72.99,2,    33.17,2,     0.02,2,     2.55,2,    3.893,2,    2.080,2,    0.311,6,    1.739,6,     -999,9,     -999,9,     -999,9,     -999,   2.3262,2,    0.023,2,    0.000,2,    98.73,2,     -999,9
49NZ20120113  ,P10N       ,     115,  1,          1,12001      ,2,20120205,2130,  42.2530, 143.7405,      484,    477.3,   2.8875,  33.7408,2,  33.7327,2,    120.1,2,    122.7,2,    85.54,2,    37.13,2,     0.03,2,     2.78,2,    3.075,2,    1.604,2,    0.230,2,    1.215,2,     -999,9,     -999,9,     -999,9,     -999,   2.8872,2,    0.024,2,    0.000,2,    93.50,2,     -999,9