BOTTLE,20231026CCHSIOVAJ
EXPOCODE,SECT_ID,STNNBR,CASTNO,SAMPNO,BTLNBR,BTLNBR_FLAG_W,DATE,TIME,LATITUDE,LONGITUDE,DEPTH,CTDPRS,CTDTMP,CTDSAL,CTDSAL_FLAG_W,SALNTY,SALNTY_FLAG_W,CTDOXY,CTDOXY_FLAG_W,OXYGEN,OXYGEN_FLAG_W,SILCAT,SILCAT_FLAG_W,NITRAT,NITRAT_FLAG_W,NITRIT,NITRIT_FLAG_W,PHSPHT,PHSPHT_FLAG_W,CFC-11,CFC-11_FLAG_W,CFC-12,CFC-12_FLAG_W,CFC113,CFC113_FLAG_W,SF6,SF6_FLAG_W,TCARBN,TCARBN_FLAG_W,ALKALI,ALKALI_FLAG_W,PH_TOT,PH_TOT_FLAG_W,PH_TMP,REFTMP,REFTMP_FLAG_W,CTDFLUOR,CTDFLUOR_FLAG_W,PAR,PAR_FLAG_W,CTDXMISS,CTDXMISS_FLAG_W,CHLORA,CHLORA_FLAG_W
,,,,,,,,,,,METERS,DBAR,ITS-90,PSS-78,,PSS-78,,UMOL/KG,,UMOL/KG,,UMOL/KG,,UMOL/KG,,UMOL/KG,,UMOL/KG,,PMOL/KG,,PMOL/KG,,PMOL/KG,,FMOL/KG,,UMOL/KG,,UMOL/KG,,,,DEG C,ITS-90,,MG/M^3,,VOLTS,,%TRANS,,UG/KG,
49NZ20120113  ,P10N       ,      96,  1,          0,BUC        ,2,20120201,0100,  36.7392, 147.6242,     5689,      0.0,     -999,     -999,9,  34.3047,2,     -999,9,     -999,9,     -999,9,     -999,9,     -999,9,     -999,9,     -999,9,     -999,9,     -999,9,     -999,9,     -999,9,     -999,9,     -999,9,     -999,     -999,9,     -999,9,     -999,9,     -999,9,     -999,9
49NZ20120113  ,P10N       ,      96,  1,         36,12021      ,2,20120201,0100,  36.7392, 147.6242,     5689,     11.1,  13.3692,  34.4686,2,  34.4698,2,    251.8,2,    252.0,2,     8.80,2,     5.68,2,     0.26,2,     0.48,2,    2.757,2,    1.616,2,    0.224,2,    1.729,2,   2041.6,2,   2281.3,2,   7.9403,6,    25.00,  13.3697,2,    0.712,2,   47.578,2,    96.42,2,     -999,9
49NZ20120113  ,P10N       ,      96,  1,         35,12001      ,2,20120201,0100,  36.7392, 147.6242,     5689,     50.4,  12.2388,  34.3119,2,  34.3122,2,    252.4,2,    252.4,2,    10.55,2,     6.81,2,     0.20,2,     0.55,2,    2.950,2,    1.716,2,    0.240,6,    1.826,6,   2053.7,6,   2277.4,2,   7.9128,2,    25.00,  12.2369,2,    0.559,2,    2.276,2,    97.74,2,     -999,9
49NZ20120113  ,P10N       ,      96,  1,         34,12019      ,2,20120201,0100,  36.7392, 147.6242,     5689,    100.6,  11.6061,  34.2269,2,  34.2272,2,    250.8,2,    251.1,2,    11.73,2,     7.63,2,     0.17,2,     0.62,2,    3.013,6,    1.743,6,    0.248,2,    1.857,2,   2060.3,2,   2275.6,6,   7.8937,2,    25.00,  11.6084,2,    0.361,2,    0.079,2,    98.25,2,     -999,9
49NZ20120113  ,P10N       ,      96,  1,         33,12018      ,2,20120201,0100,  36.7392, 147.6242,     5689,    150.3,   9.5742,  34.1067,2,  34.1135,2,    189.7,2,    190.3,2,    28.50,2,    18.02,2,     0.02,2,     1.34,2,    2.938,2,    1.611,2,    0.156,2,    1.329,2,   2132.1,2,   2278.7,2,   7.7379,6,    25.00,   9.5603,2,    0.015,2,    0.000,2,    99.38,2,     -999,9
49NZ20120113  ,P10N       ,      96,  1,         32,12017      ,2,20120201,0100,  36.7392, 147.6242,     5689,    201.0,   7.0688,  33.8783,2,  33.8804,2,    198.3,2,    198.0,2,    38.08,2,    22.19,2,     0.02,2,     1.68,2,    3.390,2,    1.825,2,    0.211,2,    1.575,2,   2158.9,2,   2275.5,2,   7.6603,2,    25.00,   7.0818,2,    0.013,2,    0.000,2,    99.43,2,     -999,9
49NZ20120113  ,P10N       ,      96,  1,         31,12016      ,2,20120201,0100,  36.7392, 147.6242,     5689,    251.8,   5.7275,  33.8311,2,  33.8382,2,    180.7,2,    180.1,2,    50.89,2,    26.87,2,     0.02,2,     2.03,2,    3.259,2,    1.731,2,    0.207,2,    1.391,2,   2193.4,2,   2281.7,2,   7.5825,2,    25.00,   5.7354,2,    0.014,2,    0.000,2,    99.45,2,     -999,9
49NZ20120113  ,P10N       ,      96,  1,         30,12015      ,2,20120201,0100,  36.7392, 147.6242,     5689,    279.5,   5.8041,  33.9273,2,  33.9259,2,    159.8,2,    160.2,2,    55.93,2,    28.39,2,     0.02,2,     2.12,2,    2.831,2,    1.498,2,    0.165,2,    1.091,2,   2208.3,2,   2288.5,2,   7.5602,2,    25.00,   5.8000,2,    0.014,2,    0.000,2,    99.56,2,     -999,9
49NZ20120113  ,P10N       ,      96,  1,         29,12014      ,2,20120201,0100,  36.7392, 147.6242,     5689,    372.3,   5.1550,  34.0961,2,  34.0957,2,     97.4,2,     97.2,2,    79.70,2,    34.98,2,     0.01,2,     2.56,2,    1.691,2,    0.887,2,    0.083,6,    0.457,6,   2268.3,2,   2313.9,2,   7.4538,2,    25.00,   5.1551,2,    0.018,2,    0.000,2,    99.66,2,     -999,9
49NZ20120113  ,P10N       ,      96,  1,         28,12024      ,2,20120201,0100,  36.7392, 147.6242,     5689,    472.0,   4.6826,  34.2146,2,  34.2083,2,     72.1,2,     72.0,2,    94.90,2,    37.70,2,     0.01,2,     2.74,2,    0.990,2,    0.524,2,    0.043,2,    0.242,2,   2296.8,2,   2333.1,2,   7.4189,2,    25.00,   4.6831,2,    0.018,2,    0.000,2,    99.71,2,     -999,9
49NZ20120113  ,P10N       ,      96,  1,         27,12012      ,2,20120201,0100,  36.7392, 147.6242,     5689,    570.4,   3.9537,  34.2428,2,  34.2418,2,     52.3,2,     52.1,2,   108.99,2,    40.34,2,     0.01,2,     2.94,2,    0.670,6,    0.344,6,    0.029,2,    0.070,2,   2325.2,2,   2346.8,2,   7.3726,2,    25.00,   3.9531,2,    0.020,2,    0.000,2,    99.75,2,     -999,9
49NZ20120113  ,P10N       ,      96,  1,         26,12010      ,2,20120201,0100,  36.7392, 147.6242,     5689,    671.9,   3.6498,  34.3053,2,  34.3042,2,     47.5,2,     47.2,2,   117.97,2,    41.05,2,     0.01,2,     2.98,2,    0.447,2,    0.223,2,    0.015,2,    0.019,2,   2339.0,6,   2358.5,2,   7.3686,2,    25.00,   3.6498,2,    0.020,2,    0.000,2,    99.74,2,     -999,9
49NZ20120113  ,P10N       ,      96,  1,         25,12009      ,2,20120201,0100,  36.7392, 147.6242,     5689,    769.5,   3.4006,  34.3565,2,  34.3561,2,     46.4,2,     46.2,2,   124.51,2,    41.41,2,     0.01,2,     3.01,2,    0.296,2,    0.147,2,    0.009,2,    0.043,2,   2346.9,2,   2368.0,6,   7.3722,2,    25.00,   3.4012,2,    0.020,2,    0.000,2,    99.72,2,     -999,9
49NZ20120113  ,P10N       ,      96,  1,         24,12008      ,2,20120201,0100,  36.7392, 147.6242,     5689,    870.3,   3.1453,  34.4015,2,  34.4017,2,     46.6,2,     46.4,2,   131.29,2,    41.77,2,     0.01,2,     3.01,2,    0.189,2,    0.093,2,    0.006,2,    0.011,2,   2355.6,2,   2377.4,2,   7.3757,6,    25.00,   3.1453,2,    0.020,2,    0.000,2,    99.73,2,     -999,9
49NZ20120113  ,P10N       ,      96,  1,         23,12007      ,2,20120201,0100,  36.7392, 147.6242,     5689,    970.5,   2.8499,  34.4336,2,  34.4332,2,     42.8,2,     42.5,2,   139.55,2,    42.32,2,     0.01,2,     3.05,2,    0.130,2,    0.060,2,    0.004,2,    0.031,2,   2364.5,2,   2384.9,2,   7.3667,2,    25.00,   2.8498,2,    0.021,2,    0.000,2,    99.70,2,     -999,9
49NZ20120113  ,P10N       ,      96,  1,         22,12022      ,2,20120201,0100,  36.7392, 147.6242,     5689,   1132.4,   2.5720,  34.4780,2,  34.4772,2,     42.6,2,     42.3,2,   147.07,2,    42.71,2,     0.01,2,     3.06,2,    0.065,2,    0.032,2,    0.002,2,    0.000,2,   2372.7,2,   2394.7,2,   7.3698,2,    25.00,   2.5721,2,    0.020,2,    0.000,2,    99.74,2,     -999,9
49NZ20120113  ,P10N       ,      96,  1,         21,12036      ,2,20120201,0100,  36.7392, 147.6242,     5689,   1331.3,   2.2602,  34.5318,2,  34.5315,2,     52.7,2,     52.9,2,   154.45,2,    42.22,2,     0.01,2,     3.03,2,    0.034,2,    0.013,2,    0.002,2,    0.000,2,   2375.3,2,   2405.1,2,   7.3922,2,    25.00,   2.2602,2,    0.020,2,    0.000,2,    99.48,2,     -999,9
49NZ20120113  ,P10N       ,      96,  1,         20,12035      ,2,20120201,0100,  36.7392, 147.6242,     5689,   1531.8,   2.1680,  34.5501,2,  34.5499,2,     57.8,2,     57.9,2,   156.27,2,    41.95,2,     0.02,2,     3.01,2,    0.025,2,    0.010,2,    0.001,2,    0.029,2,   2373.9,2,   2408.0,2,   7.4031,6,    25.00,   2.1678,2,    0.019,2,    0.000,2,    99.32,2,     -999,9
49NZ20120113  ,P10N       ,      96,  1,         19,12034      ,2,20120201,0100,  36.7392, 147.6242,     5689,   1730.4,   2.0808,  34.5689,2,  34.5686,2,     64.8,2,     65.2,2,   157.17,2,    41.55,2,     0.01,2,     2.99,2,    0.014,2,    0.002,2,    0.001,2,    0.051,2,   2371.8,2,   2411.9,2,   7.4183,2,    25.00,   2.0808,2,    0.018,2,    0.000,2,    99.30,2,     -999,9
49NZ20120113  ,P10N       ,      96,  1,         18,12033      ,2,20120201,0100,  36.7392, 147.6242,     5689,   1931.9,   1.9073,  34.6012,2,  34.6009,2,     81.4,2,     82.0,2,   156.85,2,    40.64,2,     0.01,2,     2.90,2,    0.003,2,    0.000,2,    0.002,2,    0.246,2,   2365.0,2,   2415.8,2,   7.4524,2,    25.00,   1.9074,2,    0.016,2,    0.000,2,    99.69,2,     -999,9
49NZ20120113  ,P10N       ,      96,  1,         17,12032      ,2,20120201,0100,  36.7392, 147.6242,     5689,   2130.3,   1.7702,  34.6236,2,  34.6238,2,     94.8,2,     95.2,2,   156.62,2,    39.83,2,     0.01,2,     2.84,2,    0.000,2,    0.000,2,    0.001,2,    0.079,2,   2358.4,2,   2419.1,2,   7.4791,2,    25.00,   1.7701,2,    0.015,2,    0.000,2,    99.77,2,     -999,9
49NZ20120113  ,P10N       ,      96,  1,         16,12046      ,2,20120201,0100,  36.7392, 147.6242,     5689,   2333.0,   1.6931,  34.6365,2,  34.6369,2,    103.9,2,    104.3,2,   156.12,2,    39.21,2,     0.01,2,     2.79,2,    0.000,2,    0.000,2,    0.000,2,    0.000,2,   2352.7,6,   2420.6,2,   7.4961,2,    25.00,   1.6930,2,    0.014,2,    0.000,2,    99.84,2,     -999,9
49NZ20120113  ,P10N       ,      96,  1,         15,12030      ,2,20120201,0100,  36.7392, 147.6242,     5689,   2531.7,   1.6295,  34.6475,2,  34.6474,2,    112.6,2,    113.0,2,   154.91,2,    38.70,2,     0.01,2,     2.75,2,    0.000,2,    0.000,2,    0.000,2,    0.000,2,   2348.4,2,   2421.7,6,   7.5125,2,    25.00,   1.6294,2,    0.013,2,    0.000,2,    99.86,2,     -999,9
49NZ20120113  ,P10N       ,      96,  1,         14,12029      ,2,20120201,0100,  36.7392, 147.6242,     5689,   2732.0,   1.5800,  34.6561,2,  34.6561,2,    120.9,2,    121.2,2,   153.13,2,    38.15,2,     0.01,2,     2.70,2,    0.000,2,    0.000,2,    0.000,2,     -999,9,   2343.4,2,   2421.7,2,   7.5279,6,    25.00,   1.5797,2,    0.013,2,    0.000,2,    99.86,2,     -999,9
49NZ20120113  ,P10N       ,      96,  1,         13,12028      ,2,20120201,0100,  36.7392, 147.6242,     5689,   2933.8,   1.5316,  34.6642,2,  34.6642,2,    129.1,2,    129.2,2,   151.51,2,    37.64,2,     0.01,2,     2.66,2,    0.000,2,    0.000,2,    0.000,2,     -999,9,   2337.5,2,   2421.6,2,   7.5420,2,    25.00,   1.5315,2,    0.012,2,    0.000,2,    99.87,2,     -999,9
49NZ20120113  ,P10N       ,      96,  1,         12,12027      ,2,20120201,0100,  36.7392, 147.6242,     5689,   3171.4,   1.5014,  34.6701,2,  34.6698,2,    135.1,2,    135.2,2,   150.32,2,    37.26,2,     0.01,2,     2.63,2,    0.000,2,    0.000,2,    0.000,2,    0.000,2,   2334.7,2,   2421.8,2,   7.5527,2,    25.00,   1.5013,2,    0.011,2,    0.000,2,    99.87,2,     -999,9
49NZ20120113  ,P10N       ,      96,  1,         11,12011      ,2,20120201,0100,  36.7392, 147.6242,     5689,   3419.2,   1.4721,  34.6760,2,  34.6756,2,    141.6,2,    141.5,2,   148.73,2,    36.81,2,     0.01,2,     2.59,2,    0.000,2,    0.000,2,    0.000,2,     -999,9,   2330.5,2,   2421.7,2,   7.5638,2,    25.00,   1.4723,2,    0.011,2,    0.000,2,    99.87,2,     -999,9
49NZ20120113  ,P10N       ,      96,  1,         10,12026      ,2,20120201,0100,  36.7392, 147.6242,     5689,   3668.1,   1.4568,  34.6800,2,  34.6796,2,    146.7,2,    146.6,2,   147.48,2,    36.48,2,     0.01,2,     2.57,2,     -999,9,     -999,9,     -999,9,     -999,9,   2327.0,2,   2421.5,2,   7.5725,2,    25.00,   1.4569,2,    0.010,2,    0.000,2,    99.88,2,     -999,9
49NZ20120113  ,P10N       ,      96,  1,          9,12025      ,2,20120201,0100,  36.7392, 147.6242,     5689,   3917.6,   1.4537,  34.6831,2,  34.6829,2,    150.4,2,    150.3,2,   146.26,2,    36.18,2,     0.01,2,     2.54,2,    0.000,2,    0.000,2,    0.001,2,    0.000,2,   2324.7,2,   2420.3,2,   7.5782,2,    25.00,   1.4538,2,    0.010,2,    0.000,2,    99.87,2,     -999,9
49NZ20120113  ,P10N       ,      96,  1,          8,12024      ,2,20120201,0100,  36.7392, 147.6242,     5689,   4167.9,   1.4557,  34.6855,2,  34.6852,2,    153.8,2,    153.7,2,   145.08,2,    35.97,2,     0.01,2,     2.54,2,     -999,9,     -999,9,     -999,9,     -999,9,   2321.2,6,   2421.0,2,   7.5836,2,    25.00,   1.4556,2,    0.010,2,    0.000,2,    99.87,2,     -999,9
49NZ20120113  ,P10N       ,      96,  1,          7,12023      ,2,20120201,0100,  36.7392, 147.6242,     5689,   4419.7,   1.4640,  34.6876,2,  34.6875,2,    156.8,2,    156.5,2,   144.05,2,    35.78,2,     0.01,2,     2.52,2,    0.000,2,    0.000,2,    0.000,2,     -999,9,   2319.3,2,   2419.1,6,   7.5881,2,    25.00,   1.4639,2,    0.009,2,    0.000,2,    99.88,2,     -999,9
49NZ20120113  ,P10N       ,      96,  1,          6,12006      ,2,20120201,0100,  36.7392, 147.6242,     5689,   4669.3,   1.4774,  34.6891,2,  34.6888,2,    159.2,2,    159.0,2,   142.73,2,    35.61,2,     0.01,2,     2.50,2,    0.001,2,    0.002,2,    0.001,2,    0.000,2,   2316.8,2,   2417.7,2,   7.5920,2,    25.00,   1.4773,2,    0.009,2,    0.000,2,    99.90,2,     -999,9
49NZ20120113  ,P10N       ,      96,  1,          5,12102      ,2,20120201,0100,  36.7392, 147.6242,     5689,   4919.0,   1.4949,  34.6905,2,  34.6904,2,    161.3,2,    161.1,2,   141.63,2,    35.49,2,     0.01,2,     2.52,2,    0.000,2,    0.000,2,    0.000,2,     -999,9,   2314.8,2,   2416.8,2,   7.5942,2,    25.00,   1.4951,2,    0.009,2,    0.000,2,    99.88,2,     -999,9
49NZ20120113  ,P10N       ,      96,  1,          4,12104      ,2,20120201,0100,  36.7392, 147.6242,     5689,   5169.7,   1.5157,  34.6915,2,  34.6916,2,    163.2,2,    162.9,2,   140.12,2,    35.38,2,     0.00,2,     2.48,2,     -999,9,     -999,9,     -999,9,     -999,9,   2313.8,2,   2415.6,2,   7.5965,2,    25.00,   1.5157,2,    0.009,2,    0.000,2,    99.86,2,     -999,9
49NZ20120113  ,P10N       ,      96,  1,          3,12003      ,2,20120201,0100,  36.7392, 147.6242,     5689,   5421.7,   1.5394,  34.6924,2,  34.6923,2,    164.5,2,    164.4,2,   138.76,2,    35.27,2,     0.00,2,     2.48,2,    0.000,2,    0.000,2,    0.000,2,    0.000,2,   2311.8,2,   2414.9,2,   7.5979,2,    25.00,   1.5396,2,    0.009,2,    0.000,2,    99.79,2,     -999,9
49NZ20120113  ,P10N       ,      96,  1,          2,12103      ,2,20120201,0100,  36.7392, 147.6242,     5689,   5668.9,   1.5654,  34.6930,2,  34.6927,2,    165.5,2,    165.5,2,   137.54,2,    35.04,2,     0.01,2,     2.47,2,     -999,9,     -999,9,     -999,9,     -999,9,   2312.4,2,   2413.7,2,   7.5991,2,    25.00,   1.5654,2,    0.009,2,    0.000,2,    99.70,2,     -999,9
49NZ20120113  ,P10N       ,      96,  1,          1,12001      ,2,20120201,0100,  36.7392, 147.6242,     5689,   5791.6,   1.5808,  34.6930,2,  34.6930,2,    165.5,2,    165.6,2,   138.14,2,    35.14,2,     0.01,2,     2.47,2,    0.002,2,    0.004,2,    0.001,2,    0.000,2,   2314.6,3,   2414.4,2,   7.5996,2,    25.00,   1.5807,2,    0.009,2,    0.000,2,    99.63,2,     -999,9