BOTTLE,20231026CCHSIOVAJ
EXPOCODE,SECT_ID,STNNBR,CASTNO,SAMPNO,BTLNBR,BTLNBR_FLAG_W,DATE,TIME,LATITUDE,LONGITUDE,DEPTH,CTDPRS,CTDTMP,CTDSAL,CTDSAL_FLAG_W,SALNTY,SALNTY_FLAG_W,CTDOXY,CTDOXY_FLAG_W,OXYGEN,OXYGEN_FLAG_W,SILCAT,SILCAT_FLAG_W,NITRAT,NITRAT_FLAG_W,NITRIT,NITRIT_FLAG_W,PHSPHT,PHSPHT_FLAG_W,CFC-11,CFC-11_FLAG_W,CFC-12,CFC-12_FLAG_W,CFC113,CFC113_FLAG_W,SF6,SF6_FLAG_W,TCARBN,TCARBN_FLAG_W,ALKALI,ALKALI_FLAG_W,PH_TOT,PH_TOT_FLAG_W,PH_TMP,REFTMP,REFTMP_FLAG_W,CTDFLUOR,CTDFLUOR_FLAG_W,PAR,PAR_FLAG_W,CTDXMISS,CTDXMISS_FLAG_W,CHLORA,CHLORA_FLAG_W
,,,,,,,,,,,METERS,DBAR,ITS-90,PSS-78,,PSS-78,,UMOL/KG,,UMOL/KG,,UMOL/KG,,UMOL/KG,,UMOL/KG,,UMOL/KG,,PMOL/KG,,PMOL/KG,,PMOL/KG,,FMOL/KG,,UMOL/KG,,UMOL/KG,,,,DEG C,ITS-90,,MG/M^3,,VOLTS,,%TRANS,,UG/KG,
49NZ20120113  ,P10N       ,      74,  2,          0,BUC        ,2,20120119,1133,  28.4975, 149.3280,     6222,      0.0,     -999,     -999,9,  34.7689,2,     -999,9,     -999,9,     -999,9,     -999,9,     -999,9,     -999,9,     -999,9,     -999,9,     -999,9,     -999,9,     -999,9,     -999,9,     -999,9,     -999,     -999,9,     -999,9,     -999,9,     -999,9,     -999,9
49NZ20120113  ,P10N       ,      74,  2,         36,12021      ,2,20120119,1133,  28.4975, 149.3280,     6222,      9.4,  20.2469,  34.8461,2,  34.8456,2,    223.7,2,    223.3,2,     1.29,2,     0.08,2,     0.05,2,     0.06,2,    2.046,2,    1.266,2,     -999,5,     -999,9,   1989.5,2,   2291.5,2,   8.0468,6,    25.00,  20.2475,2,     -999,9,    0.313,2,     -999,9,     -999,9
49NZ20120113  ,P10N       ,      74,  2,         35,12001      ,2,20120119,1133,  28.4975, 149.3280,     6222,     49.9,  20.0413,  34.7883,2,  34.7772,2,    224.7,2,    224.6,2,     1.30,2,     0.14,2,     0.08,2,     0.08,2,    2.082,2,    1.288,2,     -999,5,     -999,9,   1988.7,6,   2287.6,2,   8.0443,2,    25.00,  20.0224,2,     -999,9,    0.000,2,     -999,9,     -999,9
49NZ20120113  ,P10N       ,      74,  2,         34,12019      ,2,20120119,1133,  28.4975, 149.3280,     6222,    100.0,  19.8105,  34.7390,2,  34.7378,2,    224.6,2,    224.2,2,     1.30,2,     0.18,2,     0.13,2,     0.08,2,    2.091,6,    1.291,6,     -999,5,     -999,9,   1989.1,2,   2284.5,6,   8.0412,2,    25.00,  19.8104,2,     -999,9,    0.000,2,     -999,9,     -999,9
49NZ20120113  ,P10N       ,      74,  2,         33,12018      ,2,20120119,1133,  28.4975, 149.3280,     6222,    149.8,  18.5224,  34.7514,2,  34.7502,2,    201.9,2,    202.1,2,     2.77,2,     3.42,2,     0.04,2,     0.28,2,    2.262,2,    1.376,2,    0.099,2,     -999,9,   2023.0,2,   2284.7,2,   7.9772,2,    25.00,  18.5227,2,     -999,9,    0.000,2,     -999,9,     -999,9
49NZ20120113  ,P10N       ,      74,  2,         32,12017      ,2,20120119,1133,  28.4975, 149.3280,     6222,    200.8,  17.7667,  34.7267,2,  34.7256,2,    204.4,2,    204.4,2,     3.36,2,     4.25,2,     0.03,2,     0.32,2,    2.331,2,    1.406,2,    0.082,2,     -999,9,   2027.3,2,   2283.7,2,   7.9671,2,    25.00,  17.7670,2,     -999,9,    0.000,2,     -999,9,     -999,9
49NZ20120113  ,P10N       ,      74,  2,         31,12016      ,2,20120119,1133,  28.4975, 149.3280,     6222,    249.7,  17.1937,  34.7031,2,  34.6999,2,    209.4,2,    209.2,2,     3.58,2,     4.61,2,     0.03,2,     0.35,2,    2.405,2,    1.446,2,    0.075,2,     -999,9,   2031.5,2,   2281.3,2,   7.9594,2,    25.00,  17.1971,2,     -999,9,    0.000,2,     -999,9,     -999,9
49NZ20120113  ,P10N       ,      74,  2,         30,12015      ,2,20120119,1133,  28.4975, 149.3280,     6222,    329.5,  16.5167,  34.6601,2,  34.6594,2,    199.5,2,    199.9,2,     5.56,2,     6.55,2,     0.02,2,     0.48,2,    2.465,2,    1.462,2,    0.056,2,     -999,9,   2045.5,2,   2280.5,2,   7.9320,2,    25.00,  16.5225,2,     -999,9,    0.000,2,     -999,9,     -999,9
49NZ20120113  ,P10N       ,      74,  2,         29,12014      ,2,20120119,1133,  28.4975, 149.3280,     6222,    429.4,  14.0892,  34.5000,2,  34.4995,2,    189.5,2,    189.6,2,    12.01,2,    11.23,2,     0.02,2,     0.81,2,    2.664,2,    1.521,2,    0.047,2,     -999,9,   2081.1,2,   2277.4,2,   7.8538,2,    25.00,  14.0886,2,     -999,9,    0.000,2,     -999,9,     -999,9
49NZ20120113  ,P10N       ,      74,  2,         28,12101      ,2,20120119,1133,  28.4975, 149.3280,     6222,    529.6,  11.2325,  34.2953,2,  34.3003,2,    187.4,2,    187.5,2,    20.80,2,    15.98,2,     0.02,2,     1.16,2,    2.843,2,    1.569,2,    0.073,2,     -999,9,   2116.4,2,   2276.0,2,   7.7753,2,    25.00,  11.2400,2,     -999,9,    0.000,2,     -999,9,     -999,9
49NZ20120113  ,P10N       ,      74,  2,         27,12012      ,2,20120119,1133,  28.4975, 149.3280,     6222,    629.4,   8.5008,  34.1120,2,  34.1112,2,    168.8,2,    168.8,2,    36.26,2,    22.62,2,     0.02,2,     1.66,2,    2.767,6,    1.475,6,    0.100,6,     -999,9,   2165.1,2,   2280.6,2,   7.6680,2,    25.00,   8.5027,2,     -999,9,    0.000,2,     -999,9,     -999,9
49NZ20120113  ,P10N       ,      74,  2,         26,12010      ,2,20120119,1133,  28.4975, 149.3280,     6222,    729.8,   6.0671,  34.0195,2,  34.0196,2,    133.1,2,    133.6,2,    59.59,2,    30.21,2,     0.02,2,     2.24,2,    2.326,2,    1.208,2,    0.099,2,     -999,9,   2224.8,6,   2294.7,2,   7.5387,2,    25.00,   6.0688,2,     -999,9,    0.000,2,     -999,9,     -999,9
49NZ20120113  ,P10N       ,      74,  2,         25,12009      ,2,20120119,1133,  28.4975, 149.3280,     6222,    831.0,   4.9619,  34.0847,2,  34.0837,2,     89.3,2,     89.3,2,    81.32,2,    36.08,2,     0.02,2,     2.65,2,    1.523,2,    0.779,2,    0.065,2,     -999,9,   2276.9,2,   2313.7,6,   7.4423,2,    25.00,   4.9622,2,     -999,9,    0.000,2,     -999,9,     -999,9
49NZ20120113  ,P10N       ,      74,  2,         24,12008      ,2,20120119,1133,  28.4975, 149.3280,     6222,    929.7,   4.3803,  34.1832,2,  34.1830,2,     59.5,2,     59.6,2,    97.88,2,    39.38,2,     0.02,2,     2.88,2,    0.835,2,    0.419,2,    0.031,2,     -999,9,   2312.9,2,   2332.8,2,   7.3927,6,    25.00,   4.3803,2,     -999,9,    0.000,2,     -999,9,     -999,9
49NZ20120113  ,P10N       ,      74,  2,         23,12007      ,2,20120119,1133,  28.4975, 149.3280,     6222,   1069.9,   3.6535,  34.3032,2,  34.3039,2,     40.2,2,     40.1,2,   118.74,2,    41.90,2,     0.01,2,     3.04,2,    0.336,2,    0.166,2,    0.012,2,     -999,9,   2347.0,2,   2358.4,2,   7.3628,2,    25.00,   3.6550,2,     -999,9,    0.000,2,     -999,9,     -999,9
49NZ20120113  ,P10N       ,      74,  2,         22,12022      ,2,20120119,1133,  28.4975, 149.3280,     6222,   1269.9,   3.0698,  34.4386,2,  34.4391,2,     43.7,2,     43.9,2,   132.88,2,    42.28,2,     0.02,2,     3.06,2,    0.063,2,    0.030,2,    0.004,2,     -999,9,   2364.2,2,   2382.7,2,   7.3843,2,    25.00,   3.0699,2,     -999,9,    0.000,2,     -999,9,     -999,9
49NZ20120113  ,P10N       ,      74,  2,         21,12036      ,2,20120119,1133,  28.4975, 149.3280,     6222,   1469.6,   2.6896,  34.5076,2,  34.5072,2,     57.2,2,     57.4,2,   139.97,2,    41.73,2,     0.01,2,     3.00,2,    0.021,2,    0.011,2,    0.000,2,     -999,9,   2365.6,2,   2396.5,2,   7.4146,2,    25.00,   2.6897,2,     -999,9,    0.000,2,     -999,9,     -999,9
49NZ20120113  ,P10N       ,      74,  2,         20,12035      ,2,20120119,1133,  28.4975, 149.3280,     6222,   1671.3,   2.3501,  34.5459,2,  34.5459,2,     63.7,2,     64.7,2,   147.45,2,    41.48,2,     0.01,2,     2.97,2,    0.008,2,    0.005,2,    0.000,2,     -999,9,   2367.8,2,   2405.2,2,   7.4273,6,    25.00,   2.3504,2,     -999,9,    0.000,2,     -999,9,     -999,9
49NZ20120113  ,P10N       ,      74,  2,         19,12034      ,2,20120119,1133,  28.4975, 149.3280,     6222,   1870.2,   2.1210,  34.5776,2,  34.5776,2,     75.1,2,     75.5,2,   151.21,2,    40.88,2,     0.01,2,     2.93,2,    0.003,2,    0.003,2,    0.000,2,     -999,9,   2366.8,2,   2411.2,2,   7.4481,2,    25.00,   2.1207,2,     -999,9,    0.000,2,     -999,9,     -999,9
49NZ20120113  ,P10N       ,      74,  2,         18,12033      ,2,20120119,1133,  28.4975, 149.3280,     6222,   2069.6,   1.9574,  34.6059,2,  34.6054,2,     93.3,2,     93.6,2,   149.93,2,    39.81,2,     0.01,2,     2.84,2,    0.003,2,    0.001,2,    0.000,2,     -999,9,   2357.6,2,   2413.8,2,   7.4834,2,    25.00,   1.9575,2,     -999,9,    0.000,2,     -999,9,     -999,9
49NZ20120113  ,P10N       ,      74,  2,         17,12032      ,2,20120119,1133,  28.4975, 149.3280,     6222,   2271.4,   1.8331,  34.6244,2,  34.6241,2,    104.5,2,    104.9,2,   149.58,2,    39.12,2,     0.01,2,     2.78,2,    0.000,2,    0.000,2,    0.000,2,     -999,9,   2352.8,2,   2416.0,2,   7.5037,2,    25.00,   1.8331,2,     -999,9,    0.000,2,     -999,9,     -999,9
49NZ20120113  ,P10N       ,      74,  2,         16,12046      ,2,20120119,1133,  28.4975, 149.3280,     6222,   2470.2,   1.7418,  34.6384,2,  34.6380,2,    113.5,2,    114.2,2,   149.45,2,    38.56,2,     0.02,2,     2.74,2,    0.000,2,    0.000,2,    0.000,2,     -999,9,   2348.0,6,   2417.0,2,   7.5214,2,    25.00,   1.7419,2,     -999,9,    0.000,2,     -999,9,     -999,9
49NZ20120113  ,P10N       ,      74,  2,         15,12030      ,2,20120119,1133,  28.4975, 149.3280,     6222,   2669.4,   1.6713,  34.6497,2,  34.6495,2,    121.9,2,    122.2,2,   148.19,2,    38.03,2,     0.01,2,     2.70,2,    0.000,2,    0.000,2,    0.000,2,     -999,9,   2344.4,2,   2419.4,6,   7.5355,2,    25.00,   1.6712,2,     -999,9,    0.000,2,     -999,9,     -999,9
49NZ20120113  ,P10N       ,      74,  2,         14,12029      ,2,20120119,1133,  28.4975, 149.3280,     6222,   2869.9,   1.6278,  34.6567,2,  34.6558,2,    126.8,2,    127.0,2,   147.87,2,    37.71,2,     0.01,2,     2.68,2,    0.000,2,    0.000,2,    0.000,2,     -999,9,   2341.5,2,   2420.0,2,   7.5441,6,    25.00,   1.6278,2,     -999,9,    0.000,2,     -999,9,     -999,9
49NZ20120113  ,P10N       ,      74,  2,         13,12028      ,2,20120119,1133,  28.4975, 149.3280,     6222,   3080.3,   1.5878,  34.6632,2,  34.6629,2,    132.0,2,    132.2,2,   147.52,2,    37.43,2,     0.01,2,     2.65,2,    0.000,2,    0.000,2,    0.000,2,     -999,9,   2337.3,2,   2420.3,2,   7.5523,2,    25.00,   1.5877,2,     -999,9,    0.000,2,     -999,9,     -999,9
49NZ20120113  ,P10N       ,      74,  2,         12,12027      ,2,20120119,1133,  28.4975, 149.3280,     6222,   3330.2,   1.5499,  34.6694,2,  34.6685,2,    137.4,2,    137.6,2,   146.93,2,    36.97,2,     0.02,2,     2.62,2,     -999,9,     -999,9,     -999,9,     -999,9,   2335.5,2,   2420.4,2,   7.5622,2,    25.00,   1.5498,2,     -999,9,    0.000,2,     -999,9,     -999,9
49NZ20120113  ,P10N       ,      74,  2,         11,12011      ,2,20120119,1133,  28.4975, 149.3280,     6222,   3580.7,   1.5177,  34.6740,2,  34.6734,2,    141.6,2,    141.8,2,   146.65,2,    36.74,2,     0.02,2,     2.61,2,    0.004,2,    0.002,2,    0.000,2,     -999,9,   2331.4,2,   2420.1,2,   7.5673,2,    25.00,   1.5176,2,     -999,9,    0.000,2,     -999,9,     -999,9
49NZ20120113  ,P10N       ,      74,  2,         10,12026      ,2,20120119,1133,  28.4975, 149.3280,     6222,   3829.9,   1.5000,  34.6782,2,  34.6780,2,    146.0,2,    145.9,2,   146.24,2,    36.53,2,     0.02,2,     2.58,2,     -999,9,     -999,9,     -999,9,     -999,9,   2329.3,2,   2419.5,2,   7.5748,2,    25.00,   1.4998,2,     -999,9,    0.000,2,     -999,9,     -999,9
49NZ20120113  ,P10N       ,      74,  2,          9,12025      ,2,20120119,1133,  28.4975, 149.3280,     6222,   4079.7,   1.4888,  34.6820,2,  34.6818,2,    150.4,2,    150.4,2,   144.72,2,    36.23,2,     0.01,2,     2.57,2,    0.003,2,    0.001,2,    0.000,2,     -999,9,   2326.1,2,   2418.8,2,   7.5821,2,    25.00,   1.4888,2,     -999,9,    0.000,2,     -999,9,     -999,9
49NZ20120113  ,P10N       ,      74,  2,          8,12024      ,2,20120119,1133,  28.4975, 149.3280,     6222,   4329.7,   1.4854,  34.6849,2,  34.6845,2,    154.0,2,    154.0,2,   143.62,2,    35.93,2,     0.02,2,     2.54,2,     -999,9,     -999,9,     -999,9,     -999,9,   2322.2,6,   2419.0,2,   7.5865,2,    25.00,   1.4854,2,     -999,9,    0.000,2,     -999,9,     -999,9
49NZ20120113  ,P10N       ,      74,  2,          7,12023      ,2,20120119,1133,  28.4975, 149.3280,     6222,   4580.0,   1.4904,  34.6872,2,  34.6863,2,    157.3,2,    157.1,2,   142.26,2,    35.72,2,     0.02,2,     2.53,2,    0.000,2,    0.001,2,    0.000,2,     -999,9,   2321.1,2,   2416.8,6,   7.5914,2,    25.00,   1.4904,2,     -999,9,    0.000,2,     -999,9,     -999,9
49NZ20120113  ,P10N       ,      74,  2,          6,12006      ,2,20120119,1133,  28.4975, 149.3280,     6222,   4829.8,   1.5002,  34.6891,2,  34.6885,2,    160.2,2,    159.8,2,   140.70,2,    35.54,2,     0.02,2,     2.51,2,     -999,9,     -999,9,     -999,9,     -999,9,   2318.2,2,   2416.1,2,   7.5948,6,    25.00,   1.5002,2,     -999,9,    0.000,2,     -999,9,     -999,9
49NZ20120113  ,P10N       ,      74,  2,          5,12102      ,2,20120119,1133,  28.4975, 149.3280,     6222,   5079.8,   1.5152,  34.6908,2,  34.6900,2,    163.1,2,    162.7,2,   138.73,2,    35.34,2,     0.02,2,     2.49,2,    0.000,2,    0.001,2,    0.000,2,     -999,9,   2315.4,2,   2414.6,2,   7.5983,2,    25.00,   1.5153,2,     -999,9,    0.000,2,     -999,9,     -999,9
49NZ20120113  ,P10N       ,      74,  2,          4,12104      ,2,20120119,1133,  28.4975, 149.3280,     6222,   5329.8,   1.5346,  34.6917,2,  34.6910,2,    164.5,2,    164.1,2,   138.50,2,    35.27,2,     0.02,2,     2.48,2,     -999,9,     -999,9,     -999,9,     -999,9,   2313.6,2,   2413.9,2,   7.6003,2,    25.00,   1.5346,2,     -999,9,    0.000,2,     -999,9,     -999,9
49NZ20120113  ,P10N       ,      74,  2,          3,12003      ,2,20120119,1133,  28.4975, 149.3280,     6222,   5579.3,   1.5581,  34.6926,2,  34.6923,2,    166.2,2,    165.9,2,   137.15,2,    35.16,2,     0.02,2,     2.47,2,    0.000,2,    0.000,2,    0.000,2,     -999,9,   2312.0,2,   2413.7,2,   7.6031,2,    25.00,   1.5581,2,     -999,9,    0.000,2,     -999,9,     -999,9
49NZ20120113  ,P10N       ,      74,  2,          2,12103      ,2,20120119,1133,  28.4975, 149.3280,     6222,   5830.2,   1.5821,  34.6935,2,  34.6929,2,    168.3,2,    168.0,2,   135.19,2,    34.99,2,     0.01,2,     2.46,2,     -999,9,     -999,9,     -999,9,     -999,9,   2310.1,2,   2412.4,2,   7.6047,2,    25.00,   1.5820,2,     -999,9,    0.000,2,     -999,9,     -999,9
49NZ20120113  ,P10N       ,      74,  2,          1,12001      ,2,20120119,1133,  28.4975, 149.3280,     6222,   6333.3,   1.6388,  34.6946,2,  34.6945,2,    170.5,2,    170.8,2,   132.72,2,    34.74,2,     0.01,2,     2.44,2,    0.000,2,    0.000,2,    0.000,2,     -999,9,   2306.7,2,   2411.8,2,   7.6073,2,    25.00,   1.6386,2,     -999,9,    0.000,2,     -999,9,     -999,9