BOTTLE,20231026CCHSIOVAJ
EXPOCODE,SECT_ID,STNNBR,CASTNO,SAMPNO,BTLNBR,BTLNBR_FLAG_W,DATE,TIME,LATITUDE,LONGITUDE,DEPTH,CTDPRS,CTDTMP,CTDSAL,CTDSAL_FLAG_W,SALNTY,SALNTY_FLAG_W,CTDOXY,CTDOXY_FLAG_W,OXYGEN,OXYGEN_FLAG_W,SILCAT,SILCAT_FLAG_W,NITRAT,NITRAT_FLAG_W,NITRIT,NITRIT_FLAG_W,PHSPHT,PHSPHT_FLAG_W,CFC-11,CFC-11_FLAG_W,CFC-12,CFC-12_FLAG_W,CFC113,CFC113_FLAG_W,SF6,SF6_FLAG_W,TCARBN,TCARBN_FLAG_W,ALKALI,ALKALI_FLAG_W,PH_TOT,PH_TOT_FLAG_W,PH_TMP,REFTMP,REFTMP_FLAG_W,CTDFLUOR,CTDFLUOR_FLAG_W,PAR,PAR_FLAG_W,CTDXMISS,CTDXMISS_FLAG_W,CHLORA,CHLORA_FLAG_W
,,,,,,,,,,,METERS,DBAR,ITS-90,PSS-78,,PSS-78,,UMOL/KG,,UMOL/KG,,UMOL/KG,,UMOL/KG,,UMOL/KG,,UMOL/KG,,PMOL/KG,,PMOL/KG,,PMOL/KG,,FMOL/KG,,UMOL/KG,,UMOL/KG,,,,DEG C,ITS-90,,MG/M^3,,VOLTS,,%TRANS,,UG/KG,
49NZ20120113  ,P10N       ,     104,  1,          0,BUC        ,2,20120204,0154,  39.4158, 145.8447,     5268,      0.0,     -999,     -999,9,  33.6680,2,     -999,9,     -999,9,     -999,9,     -999,9,     -999,9,     -999,9,     -999,9,     -999,9,     -999,9,     -999,9,     -999,9,     -999,9,     -999,9,     -999,     -999,9,     -999,9,     -999,9,     -999,9,     -999,9
49NZ20120113  ,P10N       ,     104,  1,         36,12021      ,3,20120204,0154,  39.4158, 145.8447,     5268,     10.8,   7.4434,  33.7351,2,  33.7356,2,    277.9,2,    277.9,2,    17.86,2,    11.03,2,     0.08,2,     0.92,2,    3.880,2,    2.162,2,    0.338,2,    2.180,2,     -999,9,     -999,9,     -999,9,     -999,   7.4426,2,    0.303,2,   43.497,2,    98.36,2,     -999,9
49NZ20120113  ,P10N       ,     104,  1,         35,12001      ,2,20120204,0154,  39.4158, 145.8447,     5268,     51.1,   7.1354,  33.6963,2,  33.6967,2,    281.8,2,    281.7,2,    18.56,2,    11.25,2,     0.09,2,     0.93,2,    3.959,2,    2.201,2,    0.353,6,    2.181,6,     -999,9,     -999,9,     -999,9,     -999,   7.1356,2,    0.372,2,   10.054,2,    98.36,2,     -999,9
49NZ20120113  ,P10N       ,     104,  1,         34,12019      ,2,20120204,0154,  39.4158, 145.8447,     5268,    101.1,   7.0564,  33.6868,2,  33.6866,2,    281.8,2,    281.9,2,    18.84,2,    11.46,2,     0.09,2,     0.95,2,    3.983,6,    2.213,6,    0.355,2,    2.210,2,     -999,9,     -999,9,     -999,9,     -999,   7.0551,2,    0.329,2,    0.531,2,    98.53,2,     -999,9
49NZ20120113  ,P10N       ,     104,  1,         33,12018      ,2,20120204,0154,  39.4158, 145.8447,     5268,    150.3,   6.9577,  33.6735,2,  33.6745,2,    282.7,2,    282.9,2,    19.02,2,    11.54,2,     0.10,2,     0.96,2,    3.995,2,    2.226,2,    0.364,2,    2.151,2,     -999,9,     -999,9,     -999,9,     -999,   6.9591,2,    0.333,2,    0.000,2,    98.56,2,     -999,9
49NZ20120113  ,P10N       ,     104,  1,         32,12017      ,2,20120204,0154,  39.4158, 145.8447,     5268,    200.0,   5.9826,  33.6006,2,  33.5991,2,    251.9,2,    252.5,2,    30.98,2,    18.16,2,     0.05,2,     1.45,2,    4.105,2,    2.237,2,    0.336,2,    2.135,2,     -999,9,     -999,9,     -999,9,     -999,   5.9769,2,    0.074,2,    0.000,2,    99.21,2,     -999,9
49NZ20120113  ,P10N       ,     104,  1,         31,12016      ,2,20120204,0154,  39.4158, 145.8447,     5268,    249.2,   4.5157,  33.5894,2,  33.5924,2,    217.7,2,    217.7,2,    47.50,2,    25.84,2,     0.02,2,     1.99,2,    4.073,2,    2.184,2,    0.324,2,    1.898,2,     -999,9,     -999,9,     -999,9,     -999,   4.5153,2,    0.016,2,    0.000,2,    99.45,2,     -999,9
49NZ20120113  ,P10N       ,     104,  1,         30,12015      ,2,20120204,0154,  39.4158, 145.8447,     5268,    301.7,   2.6749,  33.5042,2,  33.5023,2,    194.3,2,    195.1,2,    64.99,2,    31.87,2,     0.02,2,     2.44,2,    4.136,2,    2.211,2,    0.345,2,    1.947,2,     -999,9,     -999,9,     -999,9,     -999,   2.6746,2,    0.017,2,    0.000,2,    99.44,2,     -999,9
49NZ20120113  ,P10N       ,     104,  1,         29,12014      ,2,20120204,0154,  39.4158, 145.8447,     5268,    400.6,   3.1716,  33.7203,2,  33.7189,2,    132.6,2,    133.6,2,    78.30,2,    36.04,2,     0.02,2,     2.70,2,    3.206,2,    1.672,2,    0.251,6,    1.345,6,     -999,9,     -999,9,     -999,9,     -999,   3.1677,2,    0.019,2,    0.000,2,    99.56,2,     -999,9
49NZ20120113  ,P10N       ,     104,  1,         28,12024      ,2,20120204,0154,  39.4158, 145.8447,     5268,    501.5,   3.6082,  33.9213,2,  33.9217,2,     83.9,2,     83.9,2,    91.34,2,    39.00,2,     0.01,2,     2.87,2,    2.179,2,    1.156,2,    0.146,2,    0.848,2,     -999,9,     -999,9,     -999,9,     -999,   3.6090,2,    0.021,2,    0.000,2,    99.67,2,     -999,9
49NZ20120113  ,P10N       ,     104,  1,         27,12012      ,2,20120204,0154,  39.4158, 145.8447,     5268,    602.1,   3.6298,  34.0758,2,  34.0757,2,     52.4,2,     52.3,2,   105.40,2,    41.16,2,     0.01,2,     3.00,2,    1.357,6,    0.729,6,    0.087,2,    0.431,2,     -999,9,     -999,9,     -999,9,     -999,   3.6294,2,    0.021,2,    0.000,2,    99.67,2,     -999,9
49NZ20120113  ,P10N       ,     104,  1,         26,12010      ,2,20120204,0154,  39.4158, 145.8447,     5268,    701.7,   3.5313,  34.1947,2,  34.1943,2,     41.4,2,     41.0,2,   116.32,2,    41.71,2,     0.01,2,     3.04,2,    0.830,2,    0.456,2,    0.044,2,    0.248,2,     -999,9,     -999,9,     -999,9,     -999,   3.5313,2,    0.021,2,    0.000,2,    99.68,2,     -999,9
49NZ20120113  ,P10N       ,     104,  1,         25,12009      ,2,20120204,0154,  39.4158, 145.8447,     5268,    800.4,   3.3288,  34.2709,2,  34.2708,2,     37.9,2,     37.2,2,   125.10,2,    42.20,2,     0.01,2,     3.08,2,    0.550,2,    0.300,2,    0.028,2,    0.138,2,     -999,9,     -999,9,     -999,9,     -999,   3.3289,2,    0.021,2,    0.000,2,    99.70,2,     -999,9
49NZ20120113  ,P10N       ,     104,  1,         24,12008      ,2,20120204,0154,  39.4158, 145.8447,     5268,    900.4,   3.1240,  34.3386,2,  34.3381,2,     38.1,2,     37.3,2,   132.06,2,    42.28,2,     0.01,2,     3.07,2,    0.355,2,    0.192,2,    0.017,2,    0.112,2,     -999,9,     -999,9,     -999,9,     -999,   3.1236,2,    0.021,2,    0.000,2,    99.70,2,     -999,9
49NZ20120113  ,P10N       ,     104,  1,         23,12007      ,2,20120204,0154,  39.4158, 145.8447,     5268,    999.8,   3.0271,  34.3914,2,  34.3912,2,     40.9,2,     40.3,2,   134.69,2,    42.13,2,     0.01,2,     3.06,2,    0.207,2,    0.110,2,    0.008,2,    0.025,2,     -999,9,     -999,9,     -999,9,     -999,   3.0275,2,    0.021,2,    0.000,2,    99.70,2,     -999,9
49NZ20120113  ,P10N       ,     104,  1,         22,12022      ,2,20120204,0154,  39.4158, 145.8447,     5268,   1200.2,   2.6452,  34.4433,2,  34.4433,2,     39.2,2,     38.5,2,   146.89,2,    42.58,2,     0.01,2,     3.10,2,    0.136,2,    0.070,2,    0.006,2,    0.117,2,     -999,9,     -999,9,     -999,9,     -999,   2.6452,2,    0.021,2,    0.000,2,    99.54,2,     -999,9
49NZ20120113  ,P10N       ,     104,  1,         21,12036      ,2,20120204,0154,  39.4158, 145.8447,     5268,   1400.3,   2.3801,  34.4996,2,  34.4995,2,     44.9,2,     44.3,2,   153.79,2,    42.50,2,     0.02,2,     3.08,2,    0.065,2,    0.036,2,    0.004,2,    0.000,2,     -999,9,     -999,9,     -999,9,     -999,   2.3805,2,    0.021,2,    0.000,2,    99.37,2,     -999,9
49NZ20120113  ,P10N       ,     104,  1,         20,12035      ,2,20120204,0154,  39.4158, 145.8447,     5268,   1599.3,   2.2122,  34.5416,2,  34.5410,2,     53.7,2,     53.6,2,   156.08,2,    42.18,2,     0.02,2,     3.03,2,    0.020,2,    0.010,2,    0.001,2,    0.000,2,     -999,9,     -999,9,     -999,9,     -999,   2.2124,2,    0.019,2,    0.000,2,    99.69,2,     -999,9
49NZ20120113  ,P10N       ,     104,  1,         19,12034      ,2,20120204,0154,  39.4158, 145.8447,     5268,   1799.6,   2.0523,  34.5730,2,  34.5733,2,     64.8,2,     65.0,2,   158.22,2,    41.59,2,     0.01,2,     2.98,2,    0.010,2,    0.002,2,    0.001,2,    0.061,2,     -999,9,     -999,9,     -999,9,     -999,   2.0523,2,    0.018,2,    0.000,2,    99.77,2,     -999,9
49NZ20120113  ,P10N       ,     104,  1,         18,12033      ,2,20120204,0154,  39.4158, 145.8447,     5268,   2001.2,   1.9187,  34.5978,2,  34.5978,2,     77.0,2,     77.0,2,   159.15,2,    40.83,2,     0.01,2,     2.92,2,    0.003,2,    0.001,2,    0.001,2,    0.076,2,     -999,9,     -999,9,     -999,9,     -999,   1.9186,2,    0.017,2,    0.000,2,    99.72,2,     -999,9
49NZ20120113  ,P10N       ,     104,  1,         17,12032      ,2,20120204,0154,  39.4158, 145.8447,     5268,   2201.7,   1.8034,  34.6190,2,  34.6191,2,     90.4,2,     90.4,2,   157.87,2,    39.99,2,     0.01,2,     2.85,2,    0.000,2,    0.000,2,    0.000,2,    0.092,2,     -999,9,     -999,9,     -999,9,     -999,   1.8035,2,    0.015,2,    0.000,2,    99.77,2,     -999,9
49NZ20120113  ,P10N       ,     104,  1,         16,12046      ,2,20120204,0154,  39.4158, 145.8447,     5268,   2399.7,   1.7203,  34.6331,2,  34.6339,2,    100.4,2,    100.5,2,   157.38,2,    39.43,2,     0.01,2,     2.81,2,    0.000,2,    0.000,2,    0.000,2,    0.143,2,     -999,9,     -999,9,     -999,9,     -999,   1.7204,2,    0.014,2,    0.000,2,    99.79,2,     -999,9
49NZ20120113  ,P10N       ,     104,  1,         15,12030      ,2,20120204,0154,  39.4158, 145.8447,     5268,   2599.2,   1.6500,  34.6452,2,  34.6452,2,    110.5,2,    110.6,2,   155.71,2,    38.76,2,     0.01,2,     2.75,2,    0.003,2,    0.000,2,    0.000,2,    0.131,2,     -999,9,     -999,9,     -999,9,     -999,   1.6499,2,    0.013,2,    0.000,2,    99.80,2,     -999,9
49NZ20120113  ,P10N       ,     104,  1,         14,12029      ,2,20120204,0154,  39.4158, 145.8447,     5268,   2799.3,   1.5980,  34.6543,2,  34.6543,2,    118.1,2,    118.3,2,   154.50,2,    38.26,2,     0.01,2,     2.71,2,    0.000,2,    0.000,2,    0.000,2,     -999,9,     -999,9,     -999,9,     -999,9,     -999,   1.5981,2,    0.012,2,    0.000,2,    99.82,2,     -999,9
49NZ20120113  ,P10N       ,     104,  1,         13,12028      ,2,20120204,0154,  39.4158, 145.8447,     5268,   2998.8,   1.5529,  34.6620,2,  34.6622,2,    125.9,2,    126.1,2,   152.88,2,    37.70,2,     0.01,2,     2.67,2,    0.000,2,    0.000,2,    0.000,2,    0.000,2,     -999,9,     -999,9,     -999,9,     -999,   1.5528,2,    0.012,2,    0.000,2,    99.82,2,     -999,9
49NZ20120113  ,P10N       ,     104,  1,         12,12027      ,2,20120204,0154,  39.4158, 145.8447,     5268,   3248.7,   1.5143,  34.6691,2,  34.6693,2,    133.6,2,    133.9,2,   151.34,2,    37.29,2,     0.01,2,     2.64,2,    0.000,2,    0.000,2,    0.000,2,     -999,9,     -999,9,     -999,9,     -999,9,     -999,   1.5142,2,    0.011,2,    0.000,2,    99.82,2,     -999,9
49NZ20120113  ,P10N       ,     104,  1,         11,12011      ,2,20120204,0154,  39.4158, 145.8447,     5268,   3499.4,   1.4882,  34.6748,2,  34.6748,2,    139.7,2,    140.1,2,   149.83,2,    36.88,2,     0.01,2,     2.60,2,    0.000,2,    0.000,2,    0.000,2,     -999,9,     -999,9,     -999,9,     -999,9,     -999,   1.4882,2,    0.011,2,    0.000,2,    99.83,2,     -999,9
49NZ20120113  ,P10N       ,     104,  1,         10,12026      ,2,20120204,0154,  39.4158, 145.8447,     5268,   3749.9,   1.4709,  34.6793,2,  34.6793,2,    145.2,2,    145.5,2,   148.45,2,    36.49,2,     0.01,2,     2.59,2,    0.001,2,    0.000,2,    0.000,2,    0.000,2,     -999,9,     -999,9,     -999,9,     -999,   1.4708,2,    0.010,2,    0.000,2,    99.84,2,     -999,9
49NZ20120113  ,P10N       ,     104,  1,          9,12025      ,2,20120204,0154,  39.4158, 145.8447,     5268,   4000.3,   1.4610,  34.6830,2,  34.6831,2,    149.9,2,    150.2,2,   147.17,2,    36.10,2,     0.01,2,     2.55,2,    0.002,2,    0.000,2,    0.000,2,     -999,9,     -999,9,     -999,9,     -999,9,     -999,   1.4609,2,    0.010,2,    0.000,2,    99.85,2,     -999,9
49NZ20120113  ,P10N       ,     104,  1,          8,12024      ,2,20120204,0154,  39.4158, 145.8447,     5268,   4249.8,   1.4607,  34.6859,2,  34.6858,2,    153.6,2,    153.8,2,   146.32,2,    35.94,2,     0.01,2,     2.54,2,    0.002,2,    0.000,2,    0.000,2,     -999,9,     -999,9,     -999,9,     -999,9,     -999,   1.4607,2,    0.010,2,    0.000,2,    99.84,2,     -999,9
49NZ20120113  ,P10N       ,     104,  1,          7,12023      ,2,20120204,0154,  39.4158, 145.8447,     5268,   4501.5,   1.4693,  34.6882,2,  34.6884,2,    156.0,2,    156.2,2,   145.84,2,    35.75,2,     0.01,2,     2.54,2,    0.001,2,    0.001,2,    0.001,2,    0.000,2,     -999,9,     -999,9,     -999,9,     -999,   1.4694,2,    0.009,2,    0.000,2,    99.84,2,     -999,9
49NZ20120113  ,P10N       ,     104,  1,          6,12006      ,2,20120204,0154,  39.4158, 145.8447,     5268,   4750.3,   1.4860,  34.6893,2,  34.6896,2,    157.9,2,    158.3,2,   145.52,2,    35.51,2,     0.01,2,     2.52,2,    0.000,2,    0.001,2,    0.000,2,     -999,9,     -999,9,     -999,9,     -999,9,     -999,   1.4859,2,    0.009,2,    0.000,2,    99.84,2,     -999,9
49NZ20120113  ,P10N       ,     104,  1,          5,12102      ,2,20120204,0154,  39.4158, 145.8447,     5268,   5001.0,   1.5057,  34.6904,2,  34.6906,2,    159.5,2,    159.8,2,   144.72,2,    35.51,2,     0.01,2,     2.50,2,    0.001,2,    0.000,2,    0.000,2,    0.027,2,     -999,9,     -999,9,     -999,9,     -999,   1.5056,2,    0.010,2,    0.000,2,    99.79,2,     -999,9
49NZ20120113  ,P10N       ,     104,  1,          4,12104      ,2,20120204,0154,  39.4158, 145.8447,     5268,   5248.9,   1.5285,  34.6914,2,  34.6917,2,    159.9,2,    160.4,2,   146.11,2,    35.43,2,     0.01,2,     2.51,2,    0.005,2,    0.001,2,    0.000,2,    0.084,2,     -999,9,     -999,9,     -999,9,     -999,   1.5283,2,    0.010,2,    0.000,2,    99.44,2,     -999,9
49NZ20120113  ,P10N       ,     104,  1,          1,12001      ,2,20120204,0154,  39.4158, 145.8447,     5268,   5354.2,   1.5404,  34.6916,2,  34.6920,2,    160.2,2,    160.4,2,   145.42,2,    35.39,2,     0.02,2,     2.51,2,    0.005,2,    0.002,2,    0.001,2,    0.029,2,     -999,9,     -999,9,     -999,9,     -999,   1.5402,2,    0.010,2,    0.000,2,    99.26,2,     -999,9