BOTTLE,20231026CCHSIOVAJ
EXPOCODE,SECT_ID,STNNBR,CASTNO,SAMPNO,BTLNBR,BTLNBR_FLAG_W,DATE,TIME,LATITUDE,LONGITUDE,DEPTH,CTDPRS,CTDTMP,CTDSAL,CTDSAL_FLAG_W,SALNTY,SALNTY_FLAG_W,CTDOXY,CTDOXY_FLAG_W,OXYGEN,OXYGEN_FLAG_W,SILCAT,SILCAT_FLAG_W,NITRAT,NITRAT_FLAG_W,NITRIT,NITRIT_FLAG_W,PHSPHT,PHSPHT_FLAG_W,CFC-11,CFC-11_FLAG_W,CFC-12,CFC-12_FLAG_W,CFC113,CFC113_FLAG_W,SF6,SF6_FLAG_W,TCARBN,TCARBN_FLAG_W,ALKALI,ALKALI_FLAG_W,PH_TOT,PH_TOT_FLAG_W,PH_TMP,REFTMP,REFTMP_FLAG_W,CTDFLUOR,CTDFLUOR_FLAG_W,PAR,PAR_FLAG_W,CTDXMISS,CTDXMISS_FLAG_W,CHLORA,CHLORA_FLAG_W
,,,,,,,,,,,METERS,DBAR,ITS-90,PSS-78,,PSS-78,,UMOL/KG,,UMOL/KG,,UMOL/KG,,UMOL/KG,,UMOL/KG,,UMOL/KG,,PMOL/KG,,PMOL/KG,,PMOL/KG,,FMOL/KG,,UMOL/KG,,UMOL/KG,,,,DEG C,ITS-90,,MG/M^3,,VOLTS,,%TRANS,,UG/KG,
49NZ20120113  ,P10N       ,      66,  1,          0,BUC        ,2,20120116,1745,  23.8263, 149.3375,     5806,      0.0,     -999,     -999,9,  35.1663,2,     -999,9,     -999,9,     -999,9,     -999,9,     -999,9,     -999,9,     -999,9,     -999,9,     -999,9,     -999,9,     -999,9,     -999,9,     -999,9,     -999,     -999,9,     -999,9,     -999,9,     -999,9,     -999,9
49NZ20120113  ,P10N       ,      66,  1,         36,12021      ,2,20120116,1745,  23.8263, 149.3375,     5806,     10.7,  23.6200,  35.1528,2,  35.1515,2,    211.8,2,    211.8,2,     1.11,2,     0.04,2,     0.01,2,     0.03,2,    1.761,2,    1.130,2,     -999,5,     -999,9,   1982.6,2,   2310.5,2,   8.0720,6,    25.00,  23.6197,2,    0.092,2,    0.328,2,    98.94,2,     -999,9
49NZ20120113  ,P10N       ,      66,  1,         35,12001      ,2,20120116,1745,  23.8263, 149.3375,     5806,     50.4,  23.6120,  35.1516,2,  35.1507,2,    211.8,2,    211.8,2,     1.09,2,     0.04,2,     0.01,2,     0.03,2,    1.766,2,    1.130,2,     -999,5,     -999,9,   1982.0,6,   2310.4,2,   8.0837,2,    25.00,  23.6111,2,    0.056,2,    0.000,2,    98.98,2,     -999,9
49NZ20120113  ,P10N       ,      66,  1,         34,12019      ,2,20120116,1745,  23.8263, 149.3375,     5806,    100.7,  22.8475,  35.0910,2,  35.1027,2,    212.6,2,    213.1,2,     1.13,2,     0.03,2,     0.01,2,     0.04,2,    1.849,6,    1.173,6,     -999,5,     -999,9,   1988.6,2,   2308.2,6,   8.0716,2,    25.00,  22.8373,2,    0.248,2,    0.000,2,    98.81,2,     -999,9
49NZ20120113  ,P10N       ,      66,  1,         33,12018      ,2,20120116,1745,  23.8263, 149.3375,     5806,    149.2,  18.8979,  34.7839,2,  34.7802,2,    207.0,2,    207.4,2,     2.52,2,     1.94,2,     0.03,2,     0.18,2,    2.258,2,    1.380,2,    0.171,2,     -999,9,   2019.2,2,   2286.6,2,   7.9894,6,    25.00,  18.8934,2,    0.193,2,    0.000,2,    99.16,2,     -999,9
49NZ20120113  ,P10N       ,      66,  1,         32,12017      ,2,20120116,1745,  23.8263, 149.3375,     5806,    201.1,  17.1533,  34.6904,2,  34.6901,2,    208.6,2,    207.8,2,     3.69,2,     4.59,2,     0.01,2,     0.34,2,    2.419,2,    1.460,2,    0.080,2,     -999,9,   2032.1,2,   2281.2,2,   7.9553,2,    25.00,  17.1539,2,    0.009,2,    0.000,2,    99.58,2,     -999,9
49NZ20120113  ,P10N       ,      66,  1,         31,12016      ,2,20120116,1745,  23.8263, 149.3375,     5806,    249.0,  16.5636,  34.6568,2,  34.6566,2,    209.3,2,    209.4,2,     4.74,2,     5.47,2,     0.01,2,     0.39,2,    2.468,2,    1.482,2,    0.080,2,     -999,9,   2037.7,2,   2279.0,2,   7.9446,2,    25.00,  16.5649,2,    0.004,2,    0.000,2,    99.63,2,     -999,9
49NZ20120113  ,P10N       ,      66,  1,         30,12015      ,2,20120116,1745,  23.8263, 149.3375,     5806,    280.7,  15.9733,  34.6157,2,  34.6160,2,    196.8,2,    197.0,2,     6.59,2,     7.45,2,     0.01,2,     0.53,2,    2.540,2,    1.494,2,    0.040,2,     -999,9,   2053.8,2,   2278.8,2,   7.9124,2,    25.00,  15.9760,2,    0.004,2,    0.000,2,    99.63,2,     -999,9
49NZ20120113  ,P10N       ,      66,  1,         29,12014      ,2,20120116,1745,  23.8263, 149.3375,     5806,    369.1,  14.1623,  34.4942,2,  34.4959,2,    194.0,2,    194.2,2,    10.61,2,    10.43,2,     0.00,2,     0.74,2,    2.716,2,    1.559,2,    0.044,2,     -999,9,   2076.7,2,   2276.7,2,   7.8633,2,    25.00,  14.1610,2,    0.005,2,    0.000,2,    99.68,2,     -999,9
49NZ20120113  ,P10N       ,      66,  1,         28,12101      ,2,20120116,1745,  23.8263, 149.3375,     5806,    468.0,  10.8123,  34.2563,2,  34.2567,2,    188.6,2,    188.4,2,    21.00,2,    16.61,2,     0.00,2,     1.19,2,    2.951,2,    1.617,2,    0.074,2,     -999,9,   2117.6,2,   2273.4,2,   7.7623,2,    25.00,  10.8126,2,    0.007,2,    0.000,2,    99.74,2,     -999,9
49NZ20120113  ,P10N       ,      66,  1,         27,12012      ,2,20120116,1745,  23.8263, 149.3375,     5806,    570.1,   8.1006,  34.1092,2,  34.1095,2,    147.9,2,    148.1,2,    39.91,2,    25.19,2,     0.00,2,     1.83,2,    2.449,6,    1.273,6,    0.073,6,     -999,9,   2183.1,2,   2281.9,2,   7.6229,2,    25.00,   8.1000,2,    0.011,2,    0.000,2,    99.76,2,     -999,9
49NZ20120113  ,P10N       ,      66,  1,         26,12010      ,2,20120116,1745,  23.8263, 149.3375,     5806,    671.6,   6.0872,  34.0713,2,  34.0712,2,    108.8,2,    108.6,2,    62.76,2,    32.36,2,     0.01,2,     2.36,2,    1.742,2,    0.886,2,    0.056,2,     -999,9,   2240.7,6,   2299.0,2,   7.5029,2,    25.00,   6.0870,2,    0.015,2,    0.000,2,    99.77,2,     -999,9
49NZ20120113  ,P10N       ,      66,  1,         25,12009      ,2,20120116,1745,  23.8263, 149.3375,     5806,    769.4,   5.0114,  34.1320,2,  34.1314,2,     73.8,2,     73.8,2,    82.72,2,    37.23,2,     0.00,2,     2.73,2,    1.044,2,    0.524,2,    0.039,2,     -999,9,   2287.5,2,   2318.3,6,   7.4252,2,    25.00,   5.0103,2,    0.018,2,    0.000,2,    99.78,2,     -999,9
49NZ20120113  ,P10N       ,      66,  1,         24,12008      ,2,20120116,1745,  23.8263, 149.3375,     5806,    870.6,   4.3359,  34.2595,2,  34.2594,2,     49.0,2,     49.0,2,   100.22,2,    40.29,2,     0.01,2,     2.92,2,    0.398,2,    0.197,2,    0.006,2,     -999,9,   2324.2,2,   2342.0,2,   7.3866,6,    25.00,   4.3364,2,    0.020,2,    0.000,2,    99.79,2,     -999,9
49NZ20120113  ,P10N       ,      66,  1,         23,12007      ,2,20120116,1745,  23.8263, 149.3375,     5806,    970.2,   3.8570,  34.3473,2,  34.3488,3,     45.0,2,     45.1,2,   112.65,2,    41.29,2,     0.01,2,     3.00,2,    0.178,2,    0.087,2,    0.000,2,     -999,9,   2340.1,2,   2359.4,2,   7.3856,2,    25.00,   3.8565,2,    0.019,2,    0.000,2,    99.80,2,     -999,9
49NZ20120113  ,P10N       ,      66,  1,         22,12022      ,2,20120116,1745,  23.8263, 149.3375,     5806,   1130.0,   3.2594,  34.4457,2,  34.4457,2,     50.8,2,     50.9,2,   126.22,2,    41.56,2,     0.00,2,     3.00,2,    0.056,2,    0.027,2,    0.000,2,     -999,9,   2353.0,2,   2379.9,2,   7.4024,2,    25.00,   3.2599,2,    0.019,2,    0.000,2,    99.82,2,     -999,9
49NZ20120113  ,P10N       ,      66,  1,         21,12036      ,2,20120116,1745,  23.8263, 149.3375,     5806,   1329.8,   2.7341,  34.5112,2,  34.5104,2,     66.3,2,     66.4,2,   135.82,2,    40.90,2,     0.00,2,     2.94,2,    0.036,2,    0.017,2,    0.000,2,     -999,9,   2356.9,2,   2393.9,2,   7.4322,2,    25.00,   2.7352,2,    0.018,2,    0.000,2,    99.84,2,     -999,9
49NZ20120113  ,P10N       ,      66,  1,         20,12035      ,2,20120116,1745,  23.8263, 149.3375,     5806,   1529.2,   2.3843,  34.5537,2,  34.5528,2,     80.5,2,     79.1,2,   141.05,2,    40.28,2,     0.00,2,     2.89,2,    0.021,2,    0.010,2,    0.000,2,     -999,9,   2354.1,2,   2399.4,2,   7.4578,2,    25.00,   2.3869,2,    0.016,2,    0.000,2,    99.85,2,     -999,9
49NZ20120113  ,P10N       ,      66,  1,         19,12034      ,2,20120116,1745,  23.8263, 149.3375,     5806,   1729.7,   2.1491,  34.5818,2,  34.5824,2,     86.8,2,     87.0,2,   145.56,2,    40.01,2,     0.00,2,     2.86,2,    0.008,2,    0.003,2,    0.000,2,     -999,9,   2357.0,2,   2409.3,2,   7.4710,2,    25.00,   2.1491,2,    0.015,2,    0.000,2,    99.86,2,     -999,9
49NZ20120113  ,P10N       ,      66,  1,         18,12033      ,2,20120116,1745,  23.8263, 149.3375,     5806,   1930.2,   1.9612,  34.6083,2,  34.6087,2,    100.0,2,    100.1,2,   145.99,2,    39.19,2,     0.00,2,     2.81,2,    0.007,2,    0.002,2,    0.000,2,     -999,9,   2352.3,2,   2413.5,2,   7.4964,2,    25.00,   1.9612,2,    0.014,2,    0.000,2,    99.86,2,     -999,9
49NZ20120113  ,P10N       ,      66,  1,         17,12032      ,2,20120116,1745,  23.8263, 149.3375,     5806,   2128.4,   1.8409,  34.6256,2,  34.6260,2,    110.2,2,    110.2,2,   146.25,2,    38.63,2,     0.00,2,     2.74,2,    0.004,2,    0.002,2,    0.000,2,     -999,9,   2347.6,2,   2414.8,2,   7.5149,2,    25.00,   1.8410,2,    0.014,2,    0.000,2,    99.88,2,     -999,9
49NZ20120113  ,P10N       ,      66,  1,         16,12046      ,2,20120116,1745,  23.8263, 149.3375,     5806,   2331.6,   1.7378,  34.6404,2,  34.6407,2,    118.2,2,    118.1,2,   146.37,2,    38.12,2,     0.00,2,     2.71,2,    0.003,2,    0.002,2,    0.000,2,     -999,9,   2344.5,6,   2417.4,2,   7.5295,2,    25.00,   1.7378,2,    0.013,2,    0.000,2,    99.89,2,     -999,9
49NZ20120113  ,P10N       ,      66,  1,         15,12030      ,2,20120116,1745,  23.8263, 149.3375,     5806,   2529.4,   1.6906,  34.6509,2,  34.6511,2,    123.9,2,    123.9,2,   146.05,2,    37.79,2,     0.00,2,     2.68,2,    0.000,2,    0.000,2,    0.000,2,     -999,9,   2343.0,2,   2419.1,6,   7.5404,2,    25.00,   1.6906,2,    0.013,2,    0.000,2,    99.92,2,     -999,9
49NZ20120113  ,P10N       ,      66,  1,         14,12029      ,2,20120116,1745,  23.8263, 149.3375,     5806,   2730.3,   1.6308,  34.6582,2,  34.6585,2,    128.8,2,    128.8,2,   146.43,2,    37.48,2,     0.00,2,     2.66,2,    0.000,2,    0.000,2,    0.000,2,     -999,9,   2337.6,3,   2420.0,2,   7.5488,6,    25.00,   1.6305,2,    0.012,2,    0.000,2,    99.93,2,     -999,9
49NZ20120113  ,P10N       ,      66,  1,         13,12028      ,2,20120116,1745,  23.8263, 149.3375,     5806,   2929.5,   1.5923,  34.6633,2,  34.6633,2,    132.8,2,    132.8,2,   145.60,2,    37.18,2,     0.00,2,     2.63,2,    0.000,2,    0.000,2,    0.000,2,     -999,9,   2338.8,2,   2420.8,2,   7.5550,2,    25.00,   1.5921,2,    0.012,2,    0.000,2,    99.94,2,     -999,9
49NZ20120113  ,P10N       ,      66,  1,         12,12027      ,2,20120116,1745,  23.8263, 149.3375,     5806,   3170.0,   1.5634,  34.6675,2,  34.6679,2,    136.4,2,    136.1,2,   145.78,2,    37.08,2,     0.00,2,     2.62,2,     -999,9,     -999,9,     -999,9,     -999,9,   2336.3,2,   2420.4,2,   7.5599,2,    25.00,   1.5633,2,    0.011,2,    0.000,2,    99.93,2,     -999,9
49NZ20120113  ,P10N       ,      66,  1,         11,12011      ,2,20120116,1745,  23.8263, 149.3375,     5806,   3421.1,   1.5261,  34.6736,2,  34.6738,2,    141.9,2,    141.8,2,   144.75,2,    36.66,2,     0.00,2,     2.59,2,    0.000,2,    0.000,2,    0.000,2,     -999,9,   2332.4,2,   2420.4,2,   7.5701,2,    25.00,   1.5262,2,    0.011,2,    0.000,2,    99.94,2,     -999,9
49NZ20120113  ,P10N       ,      66,  1,         10,12026      ,2,20120116,1745,  23.8263, 149.3375,     5806,   3670.3,   1.5101,  34.6774,2,  34.6773,2,    146.0,2,    145.6,2,   144.18,2,    36.38,2,     0.00,2,     2.56,2,     -999,9,     -999,9,     -999,9,     -999,9,   2330.3,2,   2419.3,2,   7.5751,2,    25.00,   1.5102,2,    0.011,2,    0.000,2,    99.93,2,     -999,9
49NZ20120113  ,P10N       ,      66,  1,          9,12025      ,2,20120116,1745,  23.8263, 149.3375,     5806,   3918.5,   1.4916,  34.6814,2,  34.6813,2,    150.7,2,    150.4,2,   142.68,2,    36.08,2,     0.00,2,     2.54,2,    0.003,2,    0.002,2,    0.000,2,     -999,9,   2326.9,2,   2418.5,2,   7.5820,2,    25.00,   1.4917,2,    0.010,2,    0.000,2,    99.94,2,     -999,9
49NZ20120113  ,P10N       ,      66,  1,          8,12024      ,2,20120116,1745,  23.8263, 149.3375,     5806,   4169.5,   1.4845,  34.6842,2,  34.6846,2,    154.8,2,    154.4,2,   141.24,2,    35.86,2,     0.00,2,     2.53,2,     -999,9,     -999,9,     -999,9,     -999,9,   2322.8,6,   2417.1,2,   7.5877,2,    25.00,   1.4843,2,    0.010,2,    0.000,2,    99.92,2,     -999,9
49NZ20120113  ,P10N       ,      66,  1,          7,12023      ,2,20120116,1745,  23.8263, 149.3375,     5806,   4418.9,   1.4829,  34.6869,2,  34.6868,2,    158.4,2,    158.1,2,   139.14,2,    35.54,2,     0.00,2,     2.51,2,    0.000,2,    0.000,2,    0.000,2,     -999,9,   2316.4,2,   2415.1,6,   7.5919,2,    25.00,   1.4829,2,    0.010,2,    0.000,2,    99.91,2,     -999,9
49NZ20120113  ,P10N       ,      66,  1,          6,12006      ,2,20120116,1745,  23.8263, 149.3375,     5806,   4668.9,   1.4849,  34.6891,2,  34.6889,2,    162.1,2,    161.7,2,   137.81,2,    35.30,2,     0.00,2,     2.49,2,     -999,9,     -999,9,     -999,9,     -999,9,   2313.1,2,   2414.0,2,   7.5970,6,    25.00,   1.4849,2,    0.009,2,    0.000,2,    99.91,2,     -999,9
49NZ20120113  ,P10N       ,      66,  1,          5,12102      ,2,20120116,1745,  23.8263, 149.3375,     5806,   4920.3,   1.4944,  34.6910,2,  34.6905,2,    165.1,2,    164.7,2,   135.68,2,    34.97,2,     0.00,2,     2.46,2,    0.000,2,    0.001,2,    0.000,2,     -999,9,   2311.4,2,   2411.4,2,   7.6007,2,    25.00,   1.4944,2,    0.009,2,    0.000,2,    99.91,2,     -999,9
49NZ20120113  ,P10N       ,      66,  1,          4,12104      ,2,20120116,1745,  23.8263, 149.3375,     5806,   5170.7,   1.5092,  34.6925,2,  34.6925,2,    167.6,2,    167.4,2,   134.43,2,    34.88,2,     0.00,2,     2.46,2,     -999,9,     -999,9,     -999,9,     -999,9,   2311.6,2,   2410.5,2,   7.6033,2,    25.00,   1.5093,2,    0.010,2,    0.000,2,    99.90,2,     -999,9
49NZ20120113  ,P10N       ,      66,  1,          3,12003      ,2,20120116,1745,  23.8263, 149.3375,     5806,   5419.4,   1.5283,  34.6934,2,  34.6935,2,    169.5,2,    169.4,2,   132.65,2,    34.66,2,     0.00,2,     2.44,2,    0.000,2,    0.000,2,    0.000,2,     -999,9,   2307.5,2,   2408.9,2,   7.6055,2,    25.00,   1.5283,2,    0.009,2,    0.000,2,    99.90,2,     -999,9
49NZ20120113  ,P10N       ,      66,  1,          2,12103      ,2,20120116,1745,  23.8263, 149.3375,     5806,   5670.0,   1.5419,  34.6949,2,  34.6948,2,    172.2,2,    172.2,2,   130.89,2,    34.46,2,     0.00,2,     2.43,2,    0.000,2,    0.000,2,    0.000,2,     -999,9,   2305.3,2,   2406.7,2,   7.6077,2,    25.00,   1.5419,2,    0.009,2,    0.000,2,    99.90,2,     -999,9
49NZ20120113  ,P10N       ,      66,  1,          1,12001      ,2,20120116,1745,  23.8263, 149.3375,     5806,   5937.4,   1.5490,  34.6969,2,  34.6973,2,    176.0,2,    176.1,2,   129.30,2,    34.25,2,     0.00,2,     2.41,2,    0.000,2,    0.000,2,    0.000,2,     -999,9,   2302.1,2,   2403.5,2,   7.6115,2,    25.00,   1.5488,2,    0.009,2,    0.000,2,    99.88,2,     -999,9