BOTTLE,20231026CCHSIOVAJ
EXPOCODE,SECT_ID,STNNBR,CASTNO,SAMPNO,BTLNBR,BTLNBR_FLAG_W,DATE,TIME,LATITUDE,LONGITUDE,DEPTH,CTDPRS,CTDTMP,CTDSAL,CTDSAL_FLAG_W,SALNTY,SALNTY_FLAG_W,CTDOXY,CTDOXY_FLAG_W,OXYGEN,OXYGEN_FLAG_W,SILCAT,SILCAT_FLAG_W,NITRAT,NITRAT_FLAG_W,NITRIT,NITRIT_FLAG_W,PHSPHT,PHSPHT_FLAG_W,CFC-11,CFC-11_FLAG_W,CFC-12,CFC-12_FLAG_W,CFC113,CFC113_FLAG_W,SF6,SF6_FLAG_W,TCARBN,TCARBN_FLAG_W,ALKALI,ALKALI_FLAG_W,PH_TOT,PH_TOT_FLAG_W,PH_TMP,REFTMP,REFTMP_FLAG_W,CTDFLUOR,CTDFLUOR_FLAG_W,PAR,PAR_FLAG_W,CTDXMISS,CTDXMISS_FLAG_W,CHLORA,CHLORA_FLAG_W
,,,,,,,,,,,METERS,DBAR,ITS-90,PSS-78,,PSS-78,,UMOL/KG,,UMOL/KG,,UMOL/KG,,UMOL/KG,,UMOL/KG,,UMOL/KG,,PMOL/KG,,PMOL/KG,,PMOL/KG,,FMOL/KG,,UMOL/KG,,UMOL/KG,,,,DEG C,ITS-90,,MG/M^3,,VOLTS,,%TRANS,,UG/KG,
49NZ20120113  ,P10N       ,      68,  1,          0,BUC        ,2,20120117,0830,  24.5003, 149.3350,     5772,      0.0,     -999,     -999,9,  35.1969,2,     -999,9,     -999,9,     -999,9,     -999,9,     -999,9,     -999,9,     -999,9,     -999,9,     -999,9,     -999,9,     -999,9,     -999,9,     -999,9,     -999,     -999,9,     -999,9,     -999,9,     -999,9,     -999,9
49NZ20120113  ,P10N       ,      68,  1,         36,12021      ,2,20120117,0830,  24.5003, 149.3350,     5772,      9.4,  24.0104,  35.1877,2,  35.1872,2,    210.9,2,    210.5,2,     0.82,2,     0.02,2,     0.01,2,     0.07,2,     -999,5,     -999,5,     -999,5,     -999,9,   1981.2,2,   2312.5,2,   8.0892,6,    25.00,  24.0110,2,    0.056,2,    0.274,2,    98.86,2,     -999,9
49NZ20120113  ,P10N       ,      68,  1,         35,12001      ,2,20120117,0830,  24.5003, 149.3350,     5772,     49.5,  23.9752,  35.1825,2,  35.1814,2,    210.8,2,    210.7,2,     0.87,2,     0.01,2,     0.01,2,     0.06,2,    1.737,2,    1.102,2,     -999,5,     -999,9,   1982.0,6,   2313.1,2,   8.0880,2,    25.00,  23.9727,2,    0.062,2,    0.000,2,    98.92,2,     -999,9
49NZ20120113  ,P10N       ,      68,  1,          2,12103      ,2,20120117,0830,  24.5003, 149.3350,     5772,     89.9,  22.7518,  35.0738,2,     -999,9,    216.4,2,     -999,9,     -999,9,     -999,9,     -999,9,     -999,9,     -999,9,     -999,9,     -999,9,     -999,9,     -999,9,     -999,9,     -999,9,     -999,  22.7535,2,    0.311,2,    0.000,2,    98.60,2,     0.32,2
49NZ20120113  ,P10N       ,      68,  1,         34,12019      ,2,20120117,0830,  24.5003, 149.3350,     5772,     98.5,  20.9620,  34.8775,2,  34.8773,2,    211.0,2,    211.3,2,     1.93,2,     0.85,2,     0.05,2,     0.12,2,    2.087,6,    1.284,6,     -999,5,     -999,9,   2005.3,2,   2294.1,6,   8.0237,2,    25.00,  20.9359,2,    0.468,2,    0.000,2,    98.56,2,     -999,9
49NZ20120113  ,P10N       ,      68,  1,         33,12018      ,2,20120117,0830,  24.5003, 149.3350,     5772,    149.8,  18.0687,  34.7396,2,  34.7394,2,    205.2,2,    204.8,2,     2.69,2,     3.27,2,     0.02,2,     0.28,2,    2.319,2,    1.410,2,    0.095,2,     -999,9,   2026.1,2,   2283.7,2,   7.9721,6,    25.00,  18.0693,2,    0.032,2,    0.000,2,    99.53,2,     -999,9
49NZ20120113  ,P10N       ,      68,  1,         32,12017      ,2,20120117,0830,  24.5003, 149.3350,     5772,    200.3,  17.4410,  34.7036,2,  34.7028,2,    205.6,2,    205.4,2,     3.32,2,     4.29,2,     0.02,2,     0.34,2,    2.387,2,    1.441,2,    0.062,2,     -999,9,   2033.1,2,   2282.4,2,   7.9582,2,    25.00,  17.4413,2,    0.005,2,    0.000,2,    99.66,2,     -999,9
49NZ20120113  ,P10N       ,      68,  1,         31,12016      ,2,20120117,0830,  24.5003, 149.3350,     5772,    249.4,  16.5701,  34.6552,2,  34.6554,2,    203.4,2,    203.4,2,     4.86,2,     5.86,2,     0.02,2,     0.44,2,    2.477,2,    1.475,2,    0.050,2,     -999,9,   2041.3,2,   2279.9,2,   7.9368,2,    25.00,  16.5705,2,    0.004,2,    0.000,2,    99.69,2,     -999,9
49NZ20120113  ,P10N       ,      68,  1,         30,12015      ,2,20120117,0830,  24.5003, 149.3350,     5772,    329.6,  15.0184,  34.5556,2,  34.5555,2,    192.6,2,    192.3,2,     8.86,2,     9.25,2,     0.01,2,     0.66,2,    2.631,2,    1.522,2,    0.039,2,     -999,9,   2069.7,2,   2277.8,2,   7.8832,2,    25.00,  15.0186,2,    0.005,2,    0.000,2,    99.71,2,     -999,9
49NZ20120113  ,P10N       ,      68,  1,         29,12014      ,2,20120117,0830,  24.5003, 149.3350,     5772,    431.5,  11.9302,  34.3395,2,  34.3405,2,    192.6,2,    192.1,2,    16.89,2,    14.26,2,     0.01,2,     1.02,2,    2.889,2,    1.615,2,    0.061,2,     -999,9,   2102.2,2,   2273.9,2,   7.7997,2,    25.00,  11.9319,2,    0.007,2,    0.000,2,    99.74,2,     -999,9
49NZ20120113  ,P10N       ,      68,  1,         28,12101      ,2,20120117,0830,  24.5003, 149.3350,     5772,    529.3,   9.0144,  34.1404,2,  34.1413,2,    174.4,2,    173.8,2,    31.40,2,    21.19,2,     0.01,2,     1.54,2,    2.831,2,    1.520,2,    0.091,2,     -999,9,   2151.5,2,   2277.1,2,   7.6900,2,    25.00,   9.0150,2,    0.009,2,    0.000,2,    99.78,2,     -999,9
49NZ20120113  ,P10N       ,      68,  1,         27,12012      ,2,20120117,0830,  24.5003, 149.3350,     5772,    629.6,   6.1698,  34.0384,2,  34.0392,2,    124.2,2,    123.4,2,    59.65,2,    30.96,2,     0.01,2,     2.26,2,    2.094,6,    1.084,6,    0.088,6,     -999,9,   2228.1,2,   2294.9,2,   7.5271,2,    25.00,   6.1721,2,    0.014,2,    0.000,2,    99.79,2,     -999,9
49NZ20120113  ,P10N       ,      68,  1,         26,12010      ,2,20120117,0830,  24.5003, 149.3350,     5772,    730.0,   5.0301,  34.1192,2,  34.1195,2,     76.0,2,     75.6,2,    81.57,2,    36.93,2,     0.01,2,     2.68,2,    1.106,2,    0.560,2,    0.044,2,     -999,9,   2285.3,6,   2316.8,2,   7.4284,2,    25.00,   5.0307,2,    0.018,2,    0.000,2,    99.81,2,     -999,9
49NZ20120113  ,P10N       ,      68,  1,         25,12009      ,2,20120117,0830,  24.5003, 149.3350,     5772,    829.5,   4.4865,  34.1961,2,  34.1980,2,     57.5,2,     57.1,2,    95.91,2,    39.46,2,     0.01,2,     2.87,2,    0.690,2,    0.346,2,    0.028,2,     -999,9,   2312.6,2,   2333.6,6,   7.3930,2,    25.00,   4.4866,2,    0.019,2,    0.000,2,    99.80,2,     -999,9
49NZ20120113  ,P10N       ,      68,  1,         24,12008      ,2,20120117,0830,  24.5003, 149.3350,     5772,    930.0,   4.0551,  34.3327,2,  34.3328,2,     46.0,2,     45.9,2,   107.54,2,    41.10,2,     0.01,2,     2.97,2,    0.203,2,    0.100,2,    0.004,2,     -999,9,   2335.2,2,   2354.9,2,   7.3881,6,    25.00,   4.0552,2,    0.020,2,    0.000,2,    99.82,2,     -999,9
49NZ20120113  ,P10N       ,      68,  1,         23,12007      ,2,20120117,0830,  24.5003, 149.3350,     5772,   1070.7,   3.5828,  34.4042,2,  34.4049,2,     47.0,2,     47.0,2,   119.28,2,    41.65,2,     0.01,2,     3.01,2,    0.093,2,    0.043,2,    0.007,2,     -999,9,   2348.2,2,   2370.0,2,   7.3934,2,    25.00,   3.5828,2,    0.020,2,    0.000,2,    99.84,2,     -999,9
49NZ20120113  ,P10N       ,      68,  1,         22,12022      ,2,20120117,0830,  24.5003, 149.3350,     5772,   1271.2,   2.9617,  34.4755,2,  34.4763,2,     52.2,2,     52.2,2,   133.92,2,    41.89,2,     0.01,2,     3.00,2,    0.034,2,    0.016,2,    0.000,2,     -999,9,   2359.6,2,   2388.1,2,   7.4046,2,    25.00,   2.9619,2,    0.019,2,    0.000,2,    99.86,2,     -999,9
49NZ20120113  ,P10N       ,      68,  1,         21,12036      ,2,20120117,0830,  24.5003, 149.3350,     5772,   1470.0,   2.5399,  34.5322,2,  34.5328,2,     66.5,2,     66.6,2,   141.28,2,    41.15,2,     0.01,2,     2.96,2,    0.021,2,    0.011,2,    0.000,2,     -999,9,   2365.0,2,   2399.8,2,   7.4333,2,    25.00,   2.5402,2,    0.018,2,    0.000,2,    99.87,2,     -999,9
49NZ20120113  ,P10N       ,      68,  1,         20,12035      ,2,20120117,0830,  24.5003, 149.3350,     5772,   1669.2,   2.2068,  34.5745,2,  34.5744,2,     82.0,2,     81.9,2,   145.24,2,    40.38,2,     0.01,2,     2.89,2,    0.007,2,    0.002,2,    0.000,2,     -999,9,   2359.4,2,   2408.2,2,   7.4622,6,    25.00,   2.2074,2,    0.016,2,    0.000,2,    99.89,2,     -999,9
49NZ20120113  ,P10N       ,      68,  1,         19,12034      ,2,20120117,0830,  24.5003, 149.3350,     5772,   1868.9,   2.0056,  34.6006,2,  34.6011,2,     93.5,2,     93.4,2,   147.34,2,    39.74,2,     0.01,2,     2.82,2,    0.003,2,    0.001,2,    0.000,2,     -999,9,   2354.5,2,   2411.3,2,   7.4843,2,    25.00,   2.0059,2,    0.015,2,    0.000,2,    99.91,2,     -999,9
49NZ20120113  ,P10N       ,      68,  1,         18,12033      ,2,20120117,0830,  24.5003, 149.3350,     5772,   2069.6,   1.8599,  34.6213,2,  34.6216,2,    105.2,2,    105.2,2,   147.18,2,    38.99,2,     0.01,2,     2.76,2,    0.002,2,    0.001,2,    0.000,2,     -999,9,   2351.1,2,   2415.3,2,   7.5037,2,    25.00,   1.8601,2,    0.014,2,    0.000,2,    99.91,2,     -999,9
49NZ20120113  ,P10N       ,      68,  1,         17,12032      ,2,20120117,0830,  24.5003, 149.3350,     5772,   2269.9,   1.7536,  34.6370,2,  34.6375,2,    114.0,2,    114.0,2,   147.59,2,    38.47,2,     0.01,2,     2.73,2,    0.000,2,    0.000,2,    0.000,2,     -999,9,   2345.6,2,   2418.0,2,   7.5224,2,    25.00,   1.7536,2,    0.013,2,    0.000,2,    99.92,2,     -999,9
49NZ20120113  ,P10N       ,      68,  1,         16,12046      ,2,20120117,0830,  24.5003, 149.3350,     5772,   2469.1,   1.6864,  34.6475,2,  34.6484,2,    121.4,2,    121.4,2,   146.95,2,    38.04,2,     0.01,2,     2.70,2,    0.001,2,    0.000,2,    0.000,2,     -999,9,   2343.1,2,   2419.4,2,   7.5352,2,    25.00,   1.6865,2,    0.013,2,    0.000,2,    99.94,2,     -999,9
49NZ20120113  ,P10N       ,      68,  1,         15,12030      ,2,20120117,0830,  24.5003, 149.3350,     5772,   2670.7,   1.6187,  34.6559,2,  34.6567,2,    126.9,2,    126.8,2,   147.30,2,    37.69,2,     0.01,2,     2.67,2,    0.000,2,    0.000,2,    0.000,2,     -999,9,   2339.1,2,   2420.2,6,   7.5439,2,    25.00,   1.6186,2,    0.013,2,    0.000,2,    99.94,2,     -999,9
49NZ20120113  ,P10N       ,      68,  1,         14,12029      ,2,20120117,0830,  24.5003, 149.3350,     5772,   2869.6,   1.5698,  34.6629,2,  34.6629,2,    132.4,2,    132.3,2,   147.09,2,    37.32,2,     0.01,2,     2.63,2,    0.000,2,    0.000,2,    0.000,2,     -999,9,   2336.7,2,   2420.4,2,   7.5538,6,    25.00,   1.5698,2,    0.012,2,    0.000,2,    99.94,2,     -999,9
49NZ20120113  ,P10N       ,      68,  1,         13,12028      ,2,20120117,0830,  24.5003, 149.3350,     5772,   3079.8,   1.5363,  34.6689,2,  34.6691,2,    137.8,2,    137.5,2,   145.33,2,    36.91,2,     0.01,2,     2.60,2,    0.000,2,    0.000,2,    0.000,2,     -999,9,   2332.0,2,   2420.6,2,   7.5626,2,    25.00,   1.5362,2,    0.012,2,    0.000,2,    99.95,2,     -999,9
49NZ20120113  ,P10N       ,      68,  1,         12,12027      ,2,20120117,0830,  24.5003, 149.3350,     5772,   3329.3,   1.5041,  34.6737,2,  34.6738,2,    142.4,2,    142.1,2,   144.70,2,    36.71,2,     0.01,2,     2.58,2,     -999,9,     -999,9,     -999,9,     -999,9,   2330.5,2,   2421.5,2,   7.5699,2,    25.00,   1.5041,2,    0.011,2,    0.000,2,    99.96,2,     -999,9
49NZ20120113  ,P10N       ,      68,  1,         11,12011      ,2,20120117,0830,  24.5003, 149.3350,     5772,   3579.5,   1.4773,  34.6788,2,  34.6787,2,    147.9,2,    147.5,2,   143.72,2,    36.38,2,     0.01,2,     2.55,2,    0.000,2,    0.000,2,    0.000,2,     -999,9,   2325.4,2,   2419.8,2,   7.5774,2,    25.00,   1.4773,2,    0.010,2,    0.000,2,    99.96,2,     -999,9
49NZ20120113  ,P10N       ,      68,  1,         10,12026      ,2,20120117,0830,  24.5003, 149.3350,     5772,   3830.3,   1.4667,  34.6820,2,  34.6820,2,    151.9,2,    151.6,2,   142.43,2,    36.10,2,     0.01,2,     2.53,2,     -999,9,     -999,9,     -999,9,     -999,9,   2322.7,2,   2417.6,2,   7.5834,2,    25.00,   1.4666,2,    0.010,2,    0.000,2,    99.95,2,     -999,9
49NZ20120113  ,P10N       ,      68,  1,          9,12025      ,2,20120117,0830,  24.5003, 149.3350,     5772,   4080.9,   1.4621,  34.6851,2,  34.6857,2,    156.0,2,    155.6,2,   140.85,2,    35.80,2,     0.01,2,     2.50,2,    0.002,2,    0.000,2,    0.000,2,     -999,9,   2320.7,2,   2416.7,2,   7.5888,2,    25.00,   1.4621,2,    0.010,2,    0.000,2,    99.94,2,     -999,9
49NZ20120113  ,P10N       ,      68,  1,          8,12024      ,2,20120117,0830,  24.5003, 149.3350,     5772,   4329.2,   1.4582,  34.6880,2,  34.6881,2,    160.3,2,    159.9,2,   138.47,2,    35.44,2,     0.01,2,     2.49,2,     -999,9,     -999,9,     -999,9,     -999,9,   2316.3,6,   2414.8,2,   7.5944,2,    25.00,   1.4583,2,    0.009,2,    0.000,2,    99.95,2,     -999,9
49NZ20120113  ,P10N       ,      68,  1,          7,12023      ,2,20120117,0830,  24.5003, 149.3350,     5772,   4580.8,   1.4643,  34.6899,2,  34.6900,2,    163.1,2,    162.7,2,   137.05,2,    35.30,2,     0.01,2,     2.48,2,    0.003,2,    0.000,2,    0.000,2,     -999,9,   2315.6,2,   2413.3,6,   7.5989,2,    25.00,   1.4643,2,    0.010,2,    0.000,2,    99.94,2,     -999,9
49NZ20120113  ,P10N       ,      68,  1,          6,12006      ,2,20120117,0830,  24.5003, 149.3350,     5772,   4830.5,   1.4738,  34.6917,2,  34.6915,2,    166.4,2,    165.8,2,   135.05,2,    35.06,2,     0.01,2,     2.46,2,     -999,9,     -999,9,     -999,9,     -999,9,   2310.0,2,   2410.6,2,   7.6017,2,    25.00,   1.4739,2,    0.009,2,    0.000,2,    99.94,2,     -999,9
49NZ20120113  ,P10N       ,      68,  1,          5,12102      ,2,20120117,0830,  24.5003, 149.3350,     5772,   5080.9,   1.4868,  34.6934,2,  34.6931,2,    169.2,2,    168.7,2,   133.52,2,    34.86,2,     0.01,2,     2.45,2,    0.001,2,    0.001,2,    0.000,2,     -999,9,   2307.6,2,   2409.2,2,   7.6044,2,    25.00,   1.4869,2,    0.009,2,    0.000,2,    99.94,2,     -999,9
49NZ20120113  ,P10N       ,      68,  1,          4,12104      ,2,20120117,0830,  24.5003, 149.3350,     5772,   5330.0,   1.5027,  34.6945,2,  34.6947,2,    171.4,2,    171.0,2,   131.94,2,    34.74,2,     0.01,2,     2.43,2,     -999,9,     -999,9,     -999,9,     -999,9,   2305.2,2,   2407.8,2,   7.6077,2,    25.00,   1.5027,2,    0.009,2,    0.000,2,    99.94,2,     -999,9
49NZ20120113  ,P10N       ,      68,  1,          3,12003      ,2,20120117,0830,  24.5003, 149.3350,     5772,   5579.9,   1.5218,  34.6954,2,  34.6960,2,    173.4,2,    173.1,2,   130.14,2,    34.43,2,     0.01,2,     2.42,2,    0.000,2,    0.000,2,    0.000,2,     -999,9,   2301.6,2,   2405.5,2,   7.6098,2,    25.00,   1.5216,2,    0.009,2,    0.000,2,    99.93,2,     -999,9
49NZ20120113  ,P10N       ,      68,  1,          1,12001      ,2,20120117,0830,  24.5003, 149.3350,     5772,   5876.8,   1.5378,  34.6969,2,  34.6975,2,    176.5,2,    176.3,2,   128.68,2,    34.33,2,     0.01,2,     2.41,2,    0.001,2,    0.000,2,    0.000,2,     -999,9,   2299.3,2,   2403.6,2,   7.6121,2,    25.00,   1.5375,2,    0.009,2,    0.000,2,    99.91,2,     -999,9