BOTTLE,20231026CCHSIOVAJ
EXPOCODE,SECT_ID,STNNBR,CASTNO,SAMPNO,BTLNBR,BTLNBR_FLAG_W,DATE,TIME,LATITUDE,LONGITUDE,DEPTH,CTDPRS,CTDTMP,CTDSAL,CTDSAL_FLAG_W,SALNTY,SALNTY_FLAG_W,CTDOXY,CTDOXY_FLAG_W,OXYGEN,OXYGEN_FLAG_W,SILCAT,SILCAT_FLAG_W,NITRAT,NITRAT_FLAG_W,NITRIT,NITRIT_FLAG_W,PHSPHT,PHSPHT_FLAG_W,CFC-11,CFC-11_FLAG_W,CFC-12,CFC-12_FLAG_W,CFC113,CFC113_FLAG_W,SF6,SF6_FLAG_W,TCARBN,TCARBN_FLAG_W,ALKALI,ALKALI_FLAG_W,PH_TOT,PH_TOT_FLAG_W,PH_TMP,REFTMP,REFTMP_FLAG_W,CTDFLUOR,CTDFLUOR_FLAG_W,PAR,PAR_FLAG_W,CTDXMISS,CTDXMISS_FLAG_W,CHLORA,CHLORA_FLAG_W
,,,,,,,,,,,METERS,DBAR,ITS-90,PSS-78,,PSS-78,,UMOL/KG,,UMOL/KG,,UMOL/KG,,UMOL/KG,,UMOL/KG,,UMOL/KG,,PMOL/KG,,PMOL/KG,,PMOL/KG,,FMOL/KG,,UMOL/KG,,UMOL/KG,,,,DEG C,ITS-90,,MG/M^3,,VOLTS,,%TRANS,,UG/KG,
49NZ20120113  ,P10N       ,      94,  3,         36,12021      ,2,20120131,1741,  36.0805, 148.0473,     5804,      8.2,  12.8908,  34.3831,2,  34.3829,2,    248.7,2,    248.8,2,     9.89,2,     6.69,2,     0.25,2,     0.53,2,    2.792,2,    1.667,2,    0.225,2,    1.786,2,   2051.2,2,   2279.0,2,   7.9182,6,    25.00,  12.8917,2,    0.485,2,    0.006,2,    97.88,2,     0.61,2
49NZ20120113  ,P10N       ,      94,  3,         35,12001      ,2,20120131,1741,  36.0805, 148.0473,     5804,     49.6,  12.8649,  34.3747,2,  34.3757,2,    247.9,2,    248.2,2,     9.96,2,     6.73,2,     0.25,2,     0.54,2,    2.795,2,    1.666,2,    0.229,6,    1.726,6,   2050.4,6,   2278.4,2,   7.9181,2,    25.00,  12.8655,2,    0.477,2,    0.000,2,    97.96,2,     -999,9
49NZ20120113  ,P10N       ,      94,  3,         34,12019      ,2,20120131,1741,  36.0805, 148.0473,     5804,     99.9,  12.8811,  34.3765,2,  34.3759,2,    247.7,2,    248.2,2,     9.96,2,     6.68,2,     0.25,2,     0.54,2,    2.809,6,    1.669,6,    0.229,2,    1.721,2,   2049.7,2,   2278.7,6,   7.9182,2,    25.00,  12.8812,2,    0.476,2,    0.000,2,    97.96,2,     -999,9
49NZ20120113  ,P10N       ,      94,  3,         33,12018      ,2,20120131,1741,  36.0805, 148.0473,     5804,    149.4,  12.7684,  34.3591,2,  34.3605,2,    246.4,2,    247.5,2,    10.05,2,     6.68,2,     0.22,2,     0.55,2,    2.829,2,    1.673,2,    0.226,2,    1.715,2,   2049.6,2,   2278.8,2,   7.9185,2,    25.00,  12.7687,2,    0.495,2,    0.000,2,    98.02,2,     -999,9
49NZ20120113  ,P10N       ,      94,  3,         32,12017      ,2,20120131,1741,  36.0805, 148.0473,     5804,    199.6,   9.8887,  34.1422,2,  34.1416,2,    186.0,2,    187.2,2,    27.80,2,    17.71,2,     0.02,2,     1.32,2,    2.861,2,    1.599,2,    0.139,2,    1.275,2,   2130.8,2,   2280.4,2,   7.7433,2,    25.00,   9.8694,2,    0.013,2,    0.000,2,    99.36,2,     -999,9
49NZ20120113  ,P10N       ,      94,  3,         31,12016      ,2,20120131,1741,  36.0805, 148.0473,     5804,    248.2,   8.1893,  34.1579,2,  34.1617,2,    148.3,2,    148.9,2,    46.28,2,    24.86,2,     0.02,2,     1.83,2,    2.344,2,    1.276,2,    0.092,2,    0.819,2,   2182.5,2,   2292.0,2,   7.6350,2,    25.00,   8.1815,2,    0.012,2,    0.000,2,    99.41,2,     -999,9
49NZ20120113  ,P10N       ,      94,  3,         30,12015      ,2,20120131,1741,  36.0805, 148.0473,     5804,    329.1,   6.5420,  34.2019,2,  34.2044,2,    108.7,2,    108.7,2,    68.50,2,    31.37,2,     0.02,2,     2.30,2,    1.584,2,    0.842,2,    0.050,2,    0.407,2,   2240.3,2,   2312.9,2,   7.5346,2,    25.00,   6.5439,2,    0.014,2,    0.000,2,    99.56,2,     -999,9
49NZ20120113  ,P10N       ,      94,  3,          9,12025      ,2,20120131,1741,  36.0805, 148.0473,     5804,    429.9,   5.2830,  34.2074,2,     -999,9,     86.4,2,     -999,9,     -999,9,     -999,9,     -999,9,     -999,9,     -999,9,     -999,9,     -999,9,     -999,9,     -999,9,     -999,9,     -999,9,     -999,   5.2832,2,    0.017,2,    0.000,2,    99.63,2,     -999,9
49NZ20120113  ,P10N       ,      94,  3,         29,12014      ,2,20120131,1741,  36.0805, 148.0473,     5804,    430.3,   5.2842,  34.2072,2,  34.2060,2,     86.5,2,     86.4,2,    85.17,2,    35.45,2,     0.01,2,     2.59,2,    1.232,2,    0.645,2,    0.046,6,    0.237,6,   2277.7,2,   2326.4,2,   7.4619,2,    25.00,   5.2844,2,    0.017,2,    0.000,2,    99.63,2,     -999,9
49NZ20120113  ,P10N       ,      94,  3,         12,12027      ,2,20120131,1741,  36.0805, 148.0473,     5804,    430.8,   5.2890,  34.2091,2,     -999,9,     86.5,2,     -999,9,     -999,9,     -999,9,     -999,9,     -999,9,     -999,9,     -999,9,     -999,9,     -999,9,     -999,9,     -999,9,     -999,9,     -999,   5.2875,2,    0.017,2,    0.000,2,    99.63,2,     -999,9
49NZ20120113  ,P10N       ,      94,  3,         10,12026      ,2,20120131,1741,  36.0805, 148.0473,     5804,    431.0,   5.2869,  34.2085,2,     -999,9,     86.4,2,     -999,9,     -999,9,     -999,9,     -999,9,     -999,9,     -999,9,     -999,9,     -999,9,     -999,9,     -999,9,     -999,9,     -999,9,     -999,   5.2871,2,    0.017,2,    0.000,2,    99.64,2,     -999,9
49NZ20120113  ,P10N       ,      94,  3,         11,12011      ,2,20120131,1741,  36.0805, 148.0473,     5804,    431.8,   5.2893,  34.2093,2,     -999,9,     86.4,2,     -999,9,     -999,9,     -999,9,     -999,9,     -999,9,     -999,9,     -999,9,     -999,9,     -999,9,     -999,9,     -999,9,     -999,9,     -999,   5.2888,2,    0.017,2,    0.000,2,    99.62,2,     -999,9
49NZ20120113  ,P10N       ,      94,  3,         28,12024      ,2,20120131,1741,  36.0805, 148.0473,     5804,    532.3,   4.4306,  34.2443,2,  34.2440,2,     65.8,2,     65.8,2,   100.22,2,    38.39,2,     0.01,2,     2.79,2,    0.856,2,    0.445,2,    0.031,2,    0.176,2,   2308.7,2,   2341.1,2,   7.4100,2,    25.00,   4.4300,2,    0.019,2,    0.000,2,    99.67,2,     -999,9
49NZ20120113  ,P10N       ,      94,  3,          8,12024      ,2,20120131,1741,  36.0805, 148.0473,     5804,    629.0,   3.9144,  34.2791,2,     -999,9,     53.7,2,     -999,9,     -999,9,     -999,9,     -999,9,     -999,9,     -999,9,     -999,9,     -999,9,     -999,9,     -999,9,     -999,9,     -999,9,     -999,   3.9141,2,    0.020,2,    0.000,2,    99.73,2,     -999,9
49NZ20120113  ,P10N       ,      94,  3,          7,12023      ,2,20120131,1741,  36.0805, 148.0473,     5804,    629.5,   3.9166,  34.2787,2,     -999,9,     53.8,2,     -999,9,     -999,9,     -999,9,     -999,9,     -999,9,     -999,9,     -999,9,     -999,9,     -999,9,     -999,9,     -999,9,     -999,9,     -999,   3.9146,2,    0.020,2,    0.000,2,    99.74,2,     -999,9
49NZ20120113  ,P10N       ,      94,  3,         27,12012      ,2,20120131,1741,  36.0805, 148.0473,     5804,    629.8,   3.9179,  34.2786,2,  34.2761,2,     53.8,2,     53.8,2,   111.29,2,    40.26,2,     0.01,2,     2.94,2,    0.617,6,    0.317,6,    0.025,2,    0.074,2,   2327.2,2,   2350.4,2,   7.3815,2,    25.00,   3.9197,2,    0.020,2,    0.000,2,    99.74,2,     -999,9
49NZ20120113  ,P10N       ,      94,  3,         26,12010      ,2,20120131,1741,  36.0805, 148.0473,     5804,    731.6,   3.5595,  34.3236,2,  34.3233,2,     47.0,2,     47.0,2,   120.74,2,    41.36,2,     0.01,2,     3.00,2,    0.412,2,    0.211,2,    0.014,2,    0.082,2,   2340.6,6,   2361.7,2,   7.3701,2,    25.00,   3.5601,2,    0.020,2,    0.000,2,    99.72,2,     -999,9
49NZ20120113  ,P10N       ,      94,  3,          6,12006      ,2,20120131,1741,  36.0805, 148.0473,     5804,    829.7,   3.3397,  34.3633,2,     -999,9,     45.2,2,     -999,9,     -999,9,     -999,9,     -999,9,     -999,9,     -999,9,     -999,9,     -999,9,     -999,9,     -999,9,     -999,9,     -999,9,     -999,   3.3396,2,    0.021,2,    0.000,2,    99.70,2,     -999,9
49NZ20120113  ,P10N       ,      94,  3,          5,12102      ,2,20120131,1741,  36.0805, 148.0473,     5804,    829.9,   3.3397,  34.3632,2,     -999,9,     45.2,2,     -999,9,     -999,9,     -999,9,     -999,9,     -999,9,     -999,9,     -999,9,     -999,9,     -999,9,     -999,9,     -999,9,     -999,9,     -999,   3.3396,2,    0.021,2,    0.000,2,    99.70,2,     -999,9
49NZ20120113  ,P10N       ,      94,  3,          4,12104      ,2,20120131,1741,  36.0805, 148.0473,     5804,    830.0,   3.3393,  34.3633,2,     -999,9,     45.2,2,     -999,9,     -999,9,     -999,9,     -999,9,     -999,9,     -999,9,     -999,9,     -999,9,     -999,9,     -999,9,     -999,9,     -999,9,     -999,   3.3390,2,    0.021,2,    0.000,2,    99.71,2,     -999,9
49NZ20120113  ,P10N       ,      94,  3,          2,12103      ,2,20120131,1741,  36.0805, 148.0473,     5804,    830.2,   3.3373,  34.3642,2,     -999,9,     45.2,2,     -999,9,     -999,9,     -999,9,     -999,9,     -999,9,     -999,9,     -999,9,     -999,9,     -999,9,     -999,9,     -999,9,     -999,9,     -999,   3.3373,2,    0.020,2,    0.000,2,    99.71,2,     -999,9
49NZ20120113  ,P10N       ,      94,  3,          1,12001      ,2,20120131,1741,  36.0805, 148.0473,     5804,    830.3,   3.3366,  34.3644,2,     -999,9,     45.2,2,     -999,9,     -999,9,     -999,9,     -999,9,     -999,9,     -999,9,     -999,9,     -999,9,     -999,9,     -999,9,     -999,9,     -999,9,     -999,   3.3366,2,    0.020,2,    0.000,2,    99.70,2,     -999,9
49NZ20120113  ,P10N       ,      94,  3,         25,12009      ,2,20120131,1741,  36.0805, 148.0473,     5804,    830.7,   3.3361,  34.3644,2,  34.3639,2,     45.2,2,     45.2,2,   126.68,2,    41.70,2,     0.01,2,     3.02,2,    0.285,2,    0.147,2,    0.008,2,    0.079,2,   2348.5,2,   2370.4,6,   7.3710,2,    25.00,   3.3364,2,    0.020,2,    0.000,2,    99.71,2,     -999,9
49NZ20120113  ,P10N       ,      94,  3,          3,12003      ,2,20120131,1741,  36.0805, 148.0473,     5804,    830.8,   3.3375,  34.3641,2,     -999,9,     45.2,2,     -999,9,     -999,9,     -999,9,     -999,9,     -999,9,     -999,9,     -999,9,     -999,9,     -999,9,     -999,9,     -999,9,     -999,9,     -999,   3.3375,2,    0.021,2,    0.000,2,    99.71,2,     -999,9
49NZ20120113  ,P10N       ,      94,  3,         24,12008      ,2,20120131,1741,  36.0805, 148.0473,     5804,    929.5,   3.0938,  34.3977,2,  34.3978,2,     43.9,2,     44.4,2,   132.46,2,    41.97,2,     0.01,2,     3.03,2,    0.210,2,    0.109,2,    0.006,2,    0.000,2,   2356.4,2,   2378.0,2,   7.3689,6,    25.00,   3.0942,2,    0.020,2,    0.000,2,    99.72,2,     -999,9
49NZ20120113  ,P10N       ,      94,  3,         23,12007      ,2,20120131,1741,  36.0805, 148.0473,     5804,   1070.0,   2.8140,  34.4358,2,  34.4359,2,     40.4,2,     40.4,2,   140.55,2,    42.48,2,     0.01,2,     3.06,2,    0.123,2,    0.060,2,    0.004,2,    0.026,2,   2369.0,2,   2387.2,2,   7.3629,2,    25.00,   2.8138,2,    0.021,2,    0.000,2,    99.73,2,     -999,9
49NZ20120113  ,P10N       ,      94,  3,         22,12022      ,2,20120131,1741,  36.0805, 148.0473,     5804,   1269.1,   2.4567,  34.4923,2,  34.4920,2,     44.1,2,     44.0,2,   150.44,2,    42.76,2,     0.01,2,     3.07,2,    0.065,2,    0.032,2,    0.002,2,    0.000,2,   2377.8,2,   2398.9,2,   7.3732,2,    25.00,   2.4561,2,    0.020,2,    0.000,2,    99.74,2,     -999,9
49NZ20120113  ,P10N       ,      94,  3,         21,12036      ,2,20120131,1741,  36.0805, 148.0473,     5804,   1468.4,   2.2400,  34.5386,2,  34.5389,2,     52.8,2,     53.2,2,   154.85,2,    42.43,2,     0.02,2,     3.05,2,    0.019,2,    0.010,2,    0.001,2,    0.000,2,   2376.8,2,   2406.7,2,   7.3949,2,    25.00,   2.2398,2,    0.019,2,    0.000,2,    99.79,2,     -999,9
49NZ20120113  ,P10N       ,      94,  3,         20,12035      ,2,20120131,1741,  36.0805, 148.0473,     5804,   1668.9,   2.0528,  34.5709,2,  34.5710,2,     62.8,2,     63.1,2,   158.15,2,    41.91,2,     0.01,2,     2.99,2,    0.005,2,    0.002,2,    0.001,2,    0.000,2,   2377.2,2,   2411.7,2,   7.4142,6,    25.00,   2.0529,2,    0.018,2,    0.000,2,    99.82,2,     -999,9
49NZ20120113  ,P10N       ,      94,  3,         19,12034      ,2,20120131,1741,  36.0805, 148.0473,     5804,   1869.9,   1.9181,  34.5944,2,  34.5948,2,     73.1,2,     73.5,2,   159.89,2,    41.24,2,     0.01,2,     2.95,2,    0.002,2,    0.001,2,    0.000,2,    0.000,2,   2369.6,2,   2415.8,2,   7.4379,2,    25.00,   1.9179,2,    0.017,2,    0.000,2,    99.83,2,     -999,9
49NZ20120113  ,P10N       ,      94,  3,         18,12033      ,2,20120131,1741,  36.0805, 148.0473,     5804,   2068.7,   1.8111,  34.6160,2,  34.6165,2,     88.7,2,     89.2,2,   157.65,2,    40.27,2,     0.01,2,     2.86,2,    0.000,2,    0.000,2,    0.000,2,     -999,9,   2361.9,2,   2418.3,2,   7.4667,2,    25.00,   1.8109,2,    0.016,2,    0.000,2,    99.86,2,     -999,9
49NZ20120113  ,P10N       ,      94,  3,         17,12032      ,2,20120131,1741,  36.0805, 148.0473,     5804,   2271.8,   1.7274,  34.6306,2,  34.6309,2,     99.0,2,     99.5,2,   156.59,2,    39.62,2,     0.01,2,     2.81,2,    0.000,2,    0.000,2,    0.000,2,     -999,9,   2355.2,2,   2420.7,2,   7.4872,2,    25.00,   1.7273,2,    0.015,2,    0.000,2,    99.86,2,     -999,9
49NZ20120113  ,P10N       ,      94,  3,         16,12046      ,2,20120131,1741,  36.0805, 148.0473,     5804,   2470.9,   1.6635,  34.6422,2,  34.6429,2,    109.3,2,    109.8,2,   154.54,2,    38.96,2,     0.01,2,     2.76,2,    0.000,2,    0.000,2,    0.000,2,     -999,9,   2349.8,6,   2420.8,2,   7.5074,2,    25.00,   1.6633,2,    0.014,2,    0.000,2,    99.82,2,     -999,9
49NZ20120113  ,P10N       ,      94,  3,         15,12030      ,2,20120131,1741,  36.0805, 148.0473,     5804,   2670.5,   1.6053,  34.6519,2,  34.6526,2,    117.6,2,    118.3,2,   153.39,2,    38.35,2,     0.01,2,     2.72,2,    0.002,2,    0.000,2,    0.000,2,     -999,9,   2345.2,2,   2421.8,6,   7.5233,2,    25.00,   1.6051,2,    0.013,2,    0.000,2,    99.87,2,     -999,9
49NZ20120113  ,P10N       ,      94,  3,         14,12029      ,2,20120131,1741,  36.0805, 148.0473,     5804,   2869.8,   1.5600,  34.6597,2,  34.6606,2,    124.6,2,    125.3,2,   152.14,2,    37.90,2,     0.01,2,     2.69,2,    0.000,2,    0.000,2,    0.000,2,     -999,9,   2340.6,2,   2422.5,2,   7.5353,2,    25.00,   1.5598,2,    0.012,2,    0.000,2,    99.88,2,     -999,9
49NZ20120113  ,P10N       ,      94,  3,         13,12028      ,2,20120131,1741,  36.0805, 148.0473,     5804,   3081.7,   1.5253,  34.6660,2,  34.6667,2,    131.1,2,    131.8,2,   151.07,2,    37.50,2,     0.01,2,     2.65,2,    0.000,2,    0.000,2,    0.000,2,     -999,9,   2336.8,2,   2421.8,2,   7.5481,2,    25.00,   1.5252,2,    0.012,2,    0.000,2,    99.88,2,     -999,9