BOTTLE,20231026CCHSIOVAJ
EXPOCODE,SECT_ID,STNNBR,CASTNO,SAMPNO,BTLNBR,BTLNBR_FLAG_W,DATE,TIME,LATITUDE,LONGITUDE,DEPTH,CTDPRS,CTDTMP,CTDSAL,CTDSAL_FLAG_W,SALNTY,SALNTY_FLAG_W,CTDOXY,CTDOXY_FLAG_W,OXYGEN,OXYGEN_FLAG_W,SILCAT,SILCAT_FLAG_W,NITRAT,NITRAT_FLAG_W,NITRIT,NITRIT_FLAG_W,PHSPHT,PHSPHT_FLAG_W,CFC-11,CFC-11_FLAG_W,CFC-12,CFC-12_FLAG_W,CFC113,CFC113_FLAG_W,SF6,SF6_FLAG_W,TCARBN,TCARBN_FLAG_W,ALKALI,ALKALI_FLAG_W,PH_TOT,PH_TOT_FLAG_W,PH_TMP,REFTMP,REFTMP_FLAG_W,CTDFLUOR,CTDFLUOR_FLAG_W,PAR,PAR_FLAG_W,CTDXMISS,CTDXMISS_FLAG_W,CHLORA,CHLORA_FLAG_W
,,,,,,,,,,,METERS,DBAR,ITS-90,PSS-78,,PSS-78,,UMOL/KG,,UMOL/KG,,UMOL/KG,,UMOL/KG,,UMOL/KG,,UMOL/KG,,PMOL/KG,,PMOL/KG,,PMOL/KG,,FMOL/KG,,UMOL/KG,,UMOL/KG,,,,DEG C,ITS-90,,MG/M^3,,VOLTS,,%TRANS,,UG/KG,
49NZ20120113  ,P10N       ,      86,  2,          0,BUC        ,2,20120125,1638,  33.7443, 149.3282,     6166,      0.0,     -999,     -999,9,  34.7311,2,     -999,9,     -999,9,     -999,9,     -999,9,     -999,9,     -999,9,     -999,9,     -999,9,     -999,9,     -999,9,     -999,9,     -999,9,     -999,9,     -999,     -999,9,     -999,9,     -999,9,     -999,9,     0.28,2
49NZ20120113  ,P10N       ,      86,  2,         36,12021      ,2,20120125,1638,  33.7443, 149.3282,     6166,     10.0,  18.5597,  34.7286,2,  34.7272,2,    224.4,2,    223.5,2,     2.41,2,     1.49,2,     0.25,2,     0.16,2,    2.124,2,    1.329,2,    0.179,2,     -999,9,   1998.2,2,   2282.0,2,   8.0228,6,    25.00,  18.5605,2,    0.356,2,    0.008,2,    98.51,2,     0.35,2
49NZ20120113  ,P10N       ,      86,  2,         35,12001      ,2,20120125,1638,  33.7443, 149.3282,     6166,     49.2,  18.5759,  34.7281,2,  34.7261,2,    224.2,2,    223.6,2,     2.53,2,     1.50,2,     0.25,2,     0.17,2,    2.123,2,    1.335,2,    0.173,2,     -999,9,   1999.0,6,   2283.3,2,   8.0215,2,    25.00,  18.5758,2,    0.334,2,    0.000,2,    98.52,2,     0.32,2
49NZ20120113  ,P10N       ,      86,  2,         34,12019      ,2,20120125,1638,  33.7443, 149.3282,     6166,    100.2,  18.5251,  34.7299,2,  34.7286,2,    225.0,2,    224.5,2,     2.46,2,     1.46,2,     0.26,2,     0.16,2,    2.121,6,    1.325,6,    0.175,6,     -999,9,   1998.7,2,   2283.5,6,   8.0225,2,    25.00,  18.5253,2,    0.418,2,    0.000,2,    98.33,2,     0.37,2
49NZ20120113  ,P10N       ,      86,  2,         33,12018      ,2,20120125,1638,  33.7443, 149.3282,     6166,    149.6,  18.4526,  34.7315,2,  34.7305,2,    224.5,2,    224.2,2,     2.42,2,     1.52,2,     0.23,2,     0.16,2,    2.133,2,    1.333,2,    0.175,2,     -999,9,   1999.7,2,   2283.2,2,   8.0202,2,    25.00,  18.4525,2,    0.411,2,    0.000,2,    98.45,2,     0.35,2
49NZ20120113  ,P10N       ,      86,  2,         32,12017      ,2,20120125,1638,  33.7443, 149.3282,     6166,    199.9,  18.2897,  34.7300,2,  34.7291,2,    212.3,2,    211.8,2,     3.08,2,     2.84,2,     0.10,2,     0.24,2,    2.182,2,    1.355,2,    0.135,2,     -999,9,   2014.4,2,   2283.1,2,   7.9942,2,    25.00,  18.2892,2,    0.054,2,    0.000,2,    99.38,2,     0.05,2
49NZ20120113  ,P10N       ,      86,  2,         31,12016      ,2,20120125,1638,  33.7443, 149.3282,     6166,    250.4,  17.6341,  34.7112,2,  34.7084,2,    198.7,2,    198.2,2,     4.80,2,     5.25,2,     0.03,2,     0.38,2,    2.295,2,    1.402,2,    0.076,2,     -999,9,   2036.8,2,   2282.8,2,   7.9543,2,    25.00,  17.6312,2,    0.007,2,    0.000,2,    99.59,2,     -999,9
49NZ20120113  ,P10N       ,      86,  2,         30,12015      ,2,20120125,1638,  33.7443, 149.3282,     6166,    300.4,  17.1662,  34.7058,2,  34.7051,2,    207.0,2,    207.1,2,     4.39,2,     5.01,2,     0.02,2,     0.38,2,    2.344,2,    1.430,2,    0.078,2,     -999,9,   2034.7,2,   2282.4,2,   7.9566,2,    25.00,  17.1678,2,    0.004,2,    0.000,2,    99.66,2,     -999,9
49NZ20120113  ,P10N       ,      86,  2,         29,12014      ,2,20120125,1638,  33.7443, 149.3282,     6166,    400.4,  14.8744,  34.5605,2,  34.5598,2,    179.2,2,    179.4,2,    12.49,2,    11.20,2,     0.02,2,     0.79,2,    2.447,2,    1.438,2,    0.044,2,     -999,9,   2082.3,2,   2281.1,2,   7.8613,2,    25.00,  14.8764,2,    0.006,2,    0.000,2,    99.65,2,     -999,9
49NZ20120113  ,P10N       ,      86,  2,         28,12024      ,2,20120125,1638,  33.7443, 149.3282,     6166,    500.4,  11.9580,  34.3818,2,  34.3814,2,    168.9,2,    168.9,2,    23.48,2,    16.82,2,     0.01,2,     1.19,2,    2.484,2,    1.404,2,    0.053,2,     -999,9,   2122.5,2,   2281.2,2,   7.7704,2,    25.00,  11.9647,2,    0.008,2,    0.000,2,    99.70,2,     -999,9
49NZ20120113  ,P10N       ,      86,  2,         27,12012      ,2,20120125,1638,  33.7443, 149.3282,     6166,    599.7,   9.2453,  34.2911,2,  34.2906,2,    135.0,2,    134.8,2,    45.46,2,    24.52,2,     0.01,2,     1.80,2,    1.960,6,    1.080,6,    0.054,6,     -999,9,   2186.6,2,   2296.0,2,   7.6512,2,    25.00,   9.2456,2,    0.010,2,    0.000,2,    99.67,2,     -999,9
49NZ20120113  ,P10N       ,      86,  2,         26,12010      ,2,20120125,1638,  33.7443, 149.3282,     6166,    700.0,   7.8945,  34.2550,2,  34.2545,2,    119.5,2,    119.3,2,    57.16,2,    28.24,2,     0.02,2,     2.06,2,    1.681,2,    0.909,2,    0.045,2,     -999,9,   2216.4,6,   2302.7,2,   7.5904,2,    25.00,   7.8951,2,    0.012,2,    0.000,2,    99.68,2,     -999,9
49NZ20120113  ,P10N       ,      86,  2,         25,12009      ,2,20120125,1638,  33.7443, 149.3282,     6166,    802.0,   6.7301,  34.2408,2,  34.2401,2,    104.1,2,    103.7,2,    69.28,2,    31.58,2,     0.01,2,     2.28,2,    1.385,2,    0.741,2,    0.046,2,     -999,9,   2245.7,2,   2314.5,2,   7.5369,2,    25.00,   6.7313,2,    0.014,2,    0.000,2,    99.70,2,     -999,9
49NZ20120113  ,P10N       ,      86,  2,         24,12008      ,2,20120125,1638,  33.7443, 149.3282,     6166,    900.9,   5.7789,  34.2360,2,  34.2362,2,     89.8,2,     89.3,2,    81.15,2,    34.32,2,     0.01,2,     2.48,2,    1.146,2,    0.612,2,    0.034,2,     -999,9,   2270.4,2,   2324.4,2,   7.4887,6,    25.00,   5.7777,2,    0.016,2,    0.000,2,    99.72,2,     -999,9
49NZ20120113  ,P10N       ,      86,  2,         23,12007      ,2,20120125,1638,  33.7443, 149.3282,     6166,    999.0,   4.6248,  34.2199,2,  34.2190,2,     69.7,2,     69.4,2,    96.93,2,    38.13,2,     0.01,2,     2.75,2,    0.956,2,    0.504,2,    0.043,2,     -999,9,   2304.5,2,   2335.2,2,   7.4207,2,    25.00,   4.6247,2,    0.019,2,    0.000,2,    99.72,2,     -999,9
49NZ20120113  ,P10N       ,      86,  2,         22,12022      ,2,20120125,1638,  33.7443, 149.3282,     6166,   1198.6,   3.4947,  34.3413,2,  34.3413,2,     45.6,2,     44.6,2,   123.46,2,    41.54,2,     0.01,2,     3.02,2,    0.325,2,    0.163,2,    0.013,2,     -999,9,   2348.1,2,   2363.0,2,   7.3784,2,    25.00,   3.4944,2,    0.020,2,    0.000,2,    99.72,2,     -999,9
49NZ20120113  ,P10N       ,      86,  2,         21,12036      ,2,20120125,1638,  33.7443, 149.3282,     6166,   1398.7,   2.8371,  34.4217,2,  34.4212,2,     40.4,2,     40.2,2,   141.60,2,    42.69,2,     0.01,2,     3.08,2,    0.176,2,    0.088,2,    0.012,2,     -999,9,   2368.3,2,   2383.8,2,   7.3678,2,    25.00,   2.8373,2,    0.021,2,    0.000,2,    99.72,2,     -999,9
49NZ20120113  ,P10N       ,      86,  2,         20,12035      ,2,20120125,1638,  33.7443, 149.3282,     6166,   1600.1,   2.5034,  34.4932,2,  34.4922,2,     44.0,2,     43.7,2,   150.18,2,    42.84,2,     0.01,2,     3.06,2,    0.054,2,    0.026,2,    0.000,2,     -999,9,   2379.4,2,   2397.2,2,   7.3849,6,    25.00,   2.5016,2,    0.021,2,    0.000,2,    99.75,2,     -999,9
49NZ20120113  ,P10N       ,      86,  2,         19,12034      ,2,20120125,1638,  33.7443, 149.3282,     6166,   1800.4,   2.2659,  34.5392,2,  34.5388,2,     53.5,2,     53.6,2,   155.21,2,    42.29,2,     0.01,2,     3.02,2,    0.023,2,    0.009,2,    0.000,2,     -999,9,   2379.1,2,   2405.7,2,   7.4025,2,    25.00,   2.2654,2,    0.020,2,    0.000,2,    99.78,2,     -999,9
49NZ20120113  ,P10N       ,      86,  2,         18,12033      ,2,20120125,1638,  33.7443, 149.3282,     6166,   1999.7,   2.0857,  34.5731,2,  34.5719,2,     65.3,2,     65.1,2,   157.44,2,    41.75,2,     0.01,2,     2.97,2,    0.009,2,    0.003,2,    0.000,2,     -999,9,   2375.0,2,   2410.8,2,   7.4255,2,    25.00,   2.0873,2,    0.018,2,    0.000,2,    99.78,2,     -999,9
49NZ20120113  ,P10N       ,      86,  2,         17,12032      ,2,20120125,1638,  33.7443, 149.3282,     6166,   2200.8,   1.9145,  34.6032,2,  34.6027,2,     81.0,2,     81.3,2,   157.54,2,    40.75,2,     0.01,2,     2.92,2,    0.002,2,    0.000,2,    0.000,2,     -999,9,   2368.0,2,   2414.5,2,   7.4588,2,    25.00,   1.9143,2,    0.016,2,    0.000,2,    99.82,2,     -999,9
49NZ20120113  ,P10N       ,      86,  2,         16,12046      ,2,20120125,1638,  33.7443, 149.3282,     6166,   2401.4,   1.7966,  34.6231,2,  34.6230,2,     94.0,2,     94.2,2,   157.35,2,    39.93,2,     0.01,2,     2.84,2,    0.002,2,    0.001,2,    0.000,2,     -999,9,   2361.1,6,   2416.0,2,   7.4829,2,    25.00,   1.7963,2,    0.016,2,    0.000,2,    99.84,2,     -999,9
49NZ20120113  ,P10N       ,      86,  2,         15,12030      ,2,20120125,1638,  33.7443, 149.3282,     6166,   2599.4,   1.7003,  34.6394,2,  34.6387,2,    106.4,2,    106.7,2,   155.34,2,    39.16,2,     0.02,2,     2.78,2,    0.002,2,    0.000,2,    0.000,2,     -999,9,   2356.0,2,   2419.0,6,   7.5062,2,    25.00,   1.7004,2,    0.014,2,    0.000,2,    99.84,2,     -999,9
49NZ20120113  ,P10N       ,      86,  2,         14,12029      ,2,20120125,1638,  33.7443, 149.3282,     6166,   2800.5,   1.6341,  34.6506,2,  34.6505,2,    116.3,2,    116.4,2,   154.03,2,    38.48,2,     0.01,2,     2.74,2,    0.000,2,    0.000,2,    0.000,2,     -999,9,   2348.9,2,   2418.7,2,   7.5244,6,    25.00,   1.6341,2,    0.013,2,    0.000,2,    99.86,2,     -999,9
49NZ20120113  ,P10N       ,      86,  2,         13,12028      ,2,20120125,1638,  33.7443, 149.3282,     6166,   3001.0,   1.5842,  34.6592,2,  34.6586,2,    124.2,2,    124.6,2,   152.53,2,    38.06,2,     0.01,2,     2.70,2,    0.000,2,    0.000,2,    0.000,2,     -999,9,   2344.8,2,   2419.7,2,   7.5391,2,    25.00,   1.5841,2,    0.012,2,    0.000,2,    99.86,2,     -999,9
49NZ20120113  ,P10N       ,      86,  2,         12,12027      ,2,20120125,1638,  33.7443, 149.3282,     6166,   3249.5,   1.5368,  34.6675,2,  34.6674,2,    132.8,2,    133.0,2,   150.03,2,    37.54,2,     0.01,2,     2.62,2,     -999,9,     -999,9,     -999,9,     -999,9,   2337.9,2,   2420.2,2,   7.5538,2,    25.00,   1.5368,2,    0.012,2,    0.000,2,    99.88,2,     -999,9
49NZ20120113  ,P10N       ,      86,  2,         11,12011      ,2,20120125,1638,  33.7443, 149.3282,     6166,   3501.4,   1.5043,  34.6741,2,  34.6736,2,    140.2,2,    140.2,2,   148.20,2,    36.99,2,     0.01,2,     2.58,2,    0.000,2,    0.000,2,    0.000,2,     -999,9,   2334.1,2,   2420.5,2,   7.5671,2,    25.00,   1.5044,2,    0.010,2,    0.000,2,    99.90,2,     -999,9
49NZ20120113  ,P10N       ,      86,  2,         10,12026      ,2,20120125,1638,  33.7443, 149.3282,     6166,   3751.3,   1.4826,  34.6787,2,  34.6784,2,    145.6,2,    145.5,2,   146.90,2,    36.58,2,     0.01,2,     2.56,2,     -999,9,     -999,9,     -999,9,     -999,9,   2331.4,2,   2419.8,2,   7.5756,2,    25.00,   1.4826,2,    0.010,2,    0.000,2,    99.90,2,     -999,9
49NZ20120113  ,P10N       ,      86,  2,          9,12025      ,2,20120125,1638,  33.7443, 149.3282,     6166,   3998.2,   1.4772,  34.6819,2,  34.6815,2,    149.4,2,    149.2,2,   145.91,2,    36.43,2,     0.01,2,     2.55,2,    0.005,2,    0.000,2,    0.000,2,     -999,9,   2329.0,2,   2419.1,2,   7.5808,2,    25.00,   1.4772,2,    0.009,2,    0.000,2,    99.89,2,     -999,9
49NZ20120113  ,P10N       ,      86,  2,          8,12024      ,2,20120125,1638,  33.7443, 149.3282,     6166,   4250.8,   1.4699,  34.6855,2,  34.6849,2,    153.8,2,    153.6,2,   144.72,2,    36.11,2,     0.01,2,     2.53,2,     -999,9,     -999,9,     -999,9,     -999,9,   2323.8,3,   2418.6,2,   7.5868,2,    25.00,   1.4700,2,    0.009,2,    0.000,2,    99.88,2,     -999,9
49NZ20120113  ,P10N       ,      86,  2,          7,12023      ,2,20120125,1638,  33.7443, 149.3282,     6166,   4497.9,   1.4767,  34.6876,2,  34.6869,2,    156.7,2,    156.5,2,   143.76,2,    35.90,2,     0.01,2,     2.50,2,    0.000,2,    0.000,2,    0.000,2,     -999,9,   2320.2,3,   2416.7,6,   7.5921,2,    25.00,   1.4768,2,    0.010,2,    0.000,2,    99.88,2,     -999,9
49NZ20120113  ,P10N       ,      86,  2,          6,12006      ,2,20120125,1638,  33.7443, 149.3282,     6166,   4749.9,   1.4896,  34.6891,2,  34.6888,2,    159.4,2,    159.2,2,   142.18,2,    35.71,2,     0.01,2,     2.48,2,     -999,9,     -999,9,     -999,9,     -999,9,   2317.8,3,   2415.6,2,   7.5951,6,    25.00,   1.4896,2,    0.009,2,    0.000,2,    99.90,2,     -999,9
49NZ20120113  ,P10N       ,      86,  2,          5,12102      ,2,20120125,1638,  33.7443, 149.3282,     6166,   5000.7,   1.5078,  34.6903,2,  34.6900,2,    161.4,2,    161.1,2,   141.03,2,    35.53,2,     0.01,2,     2.50,2,    0.004,2,    0.000,2,    0.000,2,     -999,9,   2319.2,2,   2412.3,2,   7.5988,2,    25.00,   1.5077,2,    0.009,2,    0.000,2,    99.89,2,     -999,9
49NZ20120113  ,P10N       ,      86,  2,          4,12104      ,2,20120125,1638,  33.7443, 149.3282,     6166,   5250.5,   1.5303,  34.6911,2,  34.6906,2,    162.9,2,    162.8,2,   140.14,2,    35.55,2,     0.01,2,     2.47,2,     -999,9,     -999,9,     -999,9,     -999,9,   2315.6,2,   2414.4,2,   7.5989,2,    25.00,   1.5302,2,    0.009,2,    0.000,2,    99.85,2,     -999,9
49NZ20120113  ,P10N       ,      86,  2,          3,12003      ,2,20120125,1638,  33.7443, 149.3282,     6166,   5500.0,   1.5548,  34.6919,2,  34.6915,2,    164.4,2,    163.8,2,   139.01,2,    35.42,2,     0.01,2,     2.46,2,    0.003,2,    0.003,2,    0.000,2,     -999,9,   2314.9,3,   2414.5,2,   7.6005,2,    25.00,   1.5547,2,    0.009,2,    0.000,2,    99.83,2,     -999,9
49NZ20120113  ,P10N       ,      86,  2,          2,12103      ,2,20120125,1638,  33.7443, 149.3282,     6166,   5750.1,   1.5812,  34.6926,2,  34.6921,2,    165.5,2,    165.0,2,   138.04,2,    35.27,2,     0.01,2,     2.45,2,     -999,9,     -999,9,     -999,9,     -999,9,   2311.5,2,   2412.8,2,   7.6020,2,    25.00,   1.5813,2,    0.009,2,    0.000,2,    99.80,2,     -999,9
49NZ20120113  ,P10N       ,      86,  2,          1,12001      ,2,20120125,1638,  33.7443, 149.3282,     6166,   6282.3,   1.6481,  34.6933,2,  34.6928,2,    166.5,2,    166.2,2,   136.88,2,    35.08,2,     0.01,2,     2.45,2,    0.001,2,    0.001,2,    0.000,2,     -999,9,   2309.2,3,   2412.0,2,   7.6036,2,    25.00,   1.6481,2,    0.009,2,    0.000,2,    98.97,2,     -999,9