BOTTLE,20231026CCHSIOVAJ
EXPOCODE,SECT_ID,STNNBR,CASTNO,SAMPNO,BTLNBR,BTLNBR_FLAG_W,DATE,TIME,LATITUDE,LONGITUDE,DEPTH,CTDPRS,CTDTMP,CTDSAL,CTDSAL_FLAG_W,SALNTY,SALNTY_FLAG_W,CTDOXY,CTDOXY_FLAG_W,OXYGEN,OXYGEN_FLAG_W,SILCAT,SILCAT_FLAG_W,NITRAT,NITRAT_FLAG_W,NITRIT,NITRIT_FLAG_W,PHSPHT,PHSPHT_FLAG_W,CFC-11,CFC-11_FLAG_W,CFC-12,CFC-12_FLAG_W,CFC113,CFC113_FLAG_W,SF6,SF6_FLAG_W,TCARBN,TCARBN_FLAG_W,ALKALI,ALKALI_FLAG_W,PH_TOT,PH_TOT_FLAG_W,PH_TMP,REFTMP,REFTMP_FLAG_W,CTDFLUOR,CTDFLUOR_FLAG_W,PAR,PAR_FLAG_W,CTDXMISS,CTDXMISS_FLAG_W,CHLORA,CHLORA_FLAG_W
,,,,,,,,,,,METERS,DBAR,ITS-90,PSS-78,,PSS-78,,UMOL/KG,,UMOL/KG,,UMOL/KG,,UMOL/KG,,UMOL/KG,,UMOL/KG,,PMOL/KG,,PMOL/KG,,PMOL/KG,,FMOL/KG,,UMOL/KG,,UMOL/KG,,,,DEG C,ITS-90,,MG/M^3,,VOLTS,,%TRANS,,UG/KG,
49NZ20120113  ,P10N       ,      77,  2,          0,BUC        ,2,20120120,0006,  29.9847, 149.2592,     6194,      0.0,     -999,     -999,9,  34.8557,2,     -999,9,     -999,9,     -999,9,     -999,9,     -999,9,     -999,9,     -999,9,     -999,9,     -999,9,     -999,9,     -999,9,     -999,9,     -999,9,     -999,     -999,9,     -999,9,     -999,9,     -999,9,     -999,9
49NZ20120113  ,P10N       ,      77,  2,         36,12021      ,2,20120120,0006,  29.9847, 149.2592,     6194,     10.4,  19.5706,  34.8495,2,  34.8479,2,    224.2,2,    224.1,2,     1.48,2,     0.30,2,     0.06,2,     0.07,2,    2.061,2,    1.287,2,    0.186,4,     -999,9,   1996.1,2,   2291.2,2,   8.0368,6,    25.00,  19.5711,2,     -999,9,  214.844,2,     -999,9,     -999,9
49NZ20120113  ,P10N       ,      77,  2,         35,12001      ,2,20120120,0006,  29.9847, 149.2592,     6194,     50.3,  19.5708,  34.8487,2,  34.8472,2,    223.8,2,    223.6,2,     1.34,2,     0.30,2,     0.06,2,     0.07,2,    2.048,2,    1.278,2,    0.185,4,     -999,9,   1996.4,6,   2291.3,2,   8.0376,2,    25.00,  19.5713,2,     -999,9,   46.582,2,     -999,9,     -999,9
49NZ20120113  ,P10N       ,      77,  2,         34,12019      ,2,20120120,0006,  29.9847, 149.2592,     6194,    101.5,  19.5746,  34.8478,2,  34.8468,2,    223.4,2,    223.4,2,     1.30,2,     0.31,2,     0.06,2,     0.08,2,    2.060,6,    1.283,6,    0.195,4,     -999,9,   1996.5,2,   2292.1,6,   8.0355,2,    25.00,  19.5744,2,     -999,9,    2.438,2,     -999,9,     -999,9
49NZ20120113  ,P10N       ,      77,  2,         33,12018      ,2,20120120,0006,  29.9847, 149.2592,     6194,    150.3,  17.9800,  34.7360,2,  34.7358,2,    204.6,2,    204.7,2,     2.68,2,     3.57,2,     0.03,2,     0.28,2,    2.272,2,    1.392,2,    0.085,2,     -999,9,   2027.0,2,   2283.5,2,   7.9707,6,    25.00,  17.9812,2,     -999,9,    0.361,2,     -999,9,     -999,9
49NZ20120113  ,P10N       ,      77,  2,         32,12017      ,2,20120120,0006,  29.9847, 149.2592,     6194,    198.8,  17.4417,  34.7150,2,  34.7134,2,    208.3,2,    208.3,2,     3.36,2,     4.30,2,     0.02,2,     0.33,2,    2.325,2,    1.416,2,    0.073,2,     -999,9,   2028.5,2,   2283.0,2,   7.9635,2,    25.00,  17.4403,2,     -999,9,    0.033,2,     -999,9,     -999,9
49NZ20120113  ,P10N       ,      77,  2,         31,12016      ,2,20120120,0006,  29.9847, 149.2592,     6194,    249.7,  17.0503,  34.6963,2,  34.6947,2,    207.5,2,    207.9,2,     3.79,2,     4.90,2,     0.02,2,     0.37,2,    2.373,2,    1.434,2,    0.063,2,     -999,9,   2036.1,2,   2281.9,2,   7.9530,2,    25.00,  17.0491,2,     -999,9,    0.000,2,     -999,9,     -999,9
49NZ20120113  ,P10N       ,      77,  2,         30,12015      ,2,20120120,0006,  29.9847, 149.2592,     6194,    329.9,  15.9073,  34.6188,2,  34.6180,2,    193.5,2,    193.9,2,     7.07,2,     8.00,2,     0.02,2,     0.57,2,    2.477,2,    1.463,2,    0.031,2,     -999,9,   2058.9,2,   2280.0,2,   7.9076,2,    25.00,  15.9061,2,     -999,9,    0.000,2,     -999,9,     -999,9
49NZ20120113  ,P10N       ,      77,  2,         29,12014      ,2,20120120,0006,  29.9847, 149.2592,     6194,    429.8,  13.9930,  34.4999,2,  34.4993,2,    185.0,2,    185.3,2,    13.08,2,    11.85,2,     0.01,2,     0.86,2,    2.544,2,    1.465,2,    0.042,2,     -999,9,   2085.7,2,   2278.3,2,   7.8464,2,    25.00,  13.9935,2,     -999,9,    0.000,2,     -999,9,     -999,9
49NZ20120113  ,P10N       ,      77,  2,         28,12101      ,2,20120120,0006,  29.9847, 149.2592,     6194,    531.3,  10.7318,  34.2706,2,  34.2760,2,    178.8,2,    178.7,2,    25.21,2,    17.70,2,     0.01,2,     1.28,2,    2.634,2,    1.476,2,    0.076,2,     -999,9,   2130.8,2,   2280.1,2,   7.7505,2,    25.00,  10.7281,2,     -999,9,    0.000,2,     -999,9,     -999,9
49NZ20120113  ,P10N       ,      77,  2,         27,12012      ,2,20120120,0006,  29.9847, 149.2592,     6194,    630.6,   7.8675,  34.0834,2,  34.0841,2,    159.7,2,    160.0,2,    40.96,2,    24.57,2,     0.01,2,     1.79,2,    2.572,6,    1.375,6,    0.094,6,     -999,9,   2181.1,2,   2283.4,2,   7.6363,2,    25.00,   7.8654,2,     -999,9,    0.000,2,     -999,9,     -999,9
49NZ20120113  ,P10N       ,      77,  2,         26,12010      ,2,20120120,0006,  29.9847, 149.2592,     6194,    730.0,   6.0325,  34.0378,2,  34.0375,2,    125.9,2,    126.0,2,    61.61,2,    31.06,2,     0.01,2,     2.28,2,    2.095,2,    1.091,2,    0.083,2,     -999,9,   2231.4,6,   2297.2,2,   7.5278,2,    25.00,   6.0311,2,     -999,9,    0.000,2,     -999,9,     -999,9
49NZ20120113  ,P10N       ,      77,  2,         25,12009      ,2,20120120,0006,  29.9847, 149.2592,     6194,    829.3,   4.8426,  34.0949,2,  34.0936,2,     86.7,2,     86.9,2,    83.65,2,    36.42,2,     0.01,2,     2.67,2,    1.475,2,    0.758,2,    0.065,2,     -999,9,   2283.2,2,   2317.0,6,   7.4356,2,    25.00,   4.8425,2,     -999,9,    0.000,2,     -999,9,     -999,9
49NZ20120113  ,P10N       ,      77,  2,         24,12008      ,2,20120120,0006,  29.9847, 149.2592,     6194,    931.4,   4.3422,  34.1787,2,  34.1779,2,     62.6,2,     62.8,2,    98.29,2,    39.04,2,     0.01,2,     2.85,2,    0.950,2,    0.483,2,    0.037,2,     -999,9,   2312.4,2,   2333.6,2,   7.3946,2,    25.00,   4.3413,2,     -999,9,    0.000,2,     -999,9,     -999,9
49NZ20120113  ,P10N       ,      77,  2,         23,12007      ,2,20120120,0006,  29.9847, 149.2592,     6194,   1070.9,   3.6850,  34.2969,2,  34.2960,2,     43.1,2,     43.0,2,   117.44,2,    41.63,2,     0.01,2,     3.01,2,    0.400,2,    0.201,2,    0.009,2,     -999,9,   2344.4,2,   2357.0,2,   7.3671,2,    25.00,   3.6846,2,     -999,9,    0.000,2,     -999,9,     -999,9
49NZ20120113  ,P10N       ,      77,  2,         22,12022      ,2,20120120,0006,  29.9847, 149.2592,     6194,   1269.4,   3.0969,  34.4005,2,  34.4001,2,     35.9,2,     35.6,2,   134.08,2,    42.89,2,     0.01,2,     3.09,2,    0.117,2,    0.061,2,    0.000,2,     -999,9,   2368.7,2,   2379.1,2,   7.3615,2,    25.00,   3.0967,2,     -999,9,    0.000,2,     -999,9,     -999,9
49NZ20120113  ,P10N       ,      77,  2,         21,12036      ,2,20120120,0006,  29.9847, 149.2592,     6194,   1471.7,   2.7148,  34.4670,2,  34.4665,2,     38.6,2,     38.7,2,   144.45,2,    43.11,2,     0.01,2,     3.11,2,    0.042,2,    0.021,2,    0.000,2,     -999,9,   2378.3,2,   2393.0,2,   7.3716,2,    25.00,   2.7150,2,     -999,9,    0.000,2,     -999,9,     -999,9
49NZ20120113  ,P10N       ,      77,  2,         20,12035      ,2,20120120,0006,  29.9847, 149.2592,     6194,   1670.5,   2.3858,  34.5240,2,  34.5235,2,     47.7,2,     48.2,2,   152.42,2,    42.75,2,     0.01,2,     3.09,2,    0.015,2,    0.006,2,    0.000,2,     -999,9,   2379.1,2,   2403.2,2,   7.3924,6,    25.00,   2.3858,2,     -999,9,    0.000,2,     -999,9,     -999,9
49NZ20120113  ,P10N       ,      77,  2,         19,12034      ,2,20120120,0006,  29.9847, 149.2592,     6194,   1870.0,   2.1391,  34.5691,2,  34.5687,2,     64.4,2,     64.8,2,   155.28,2,    41.88,2,     0.01,2,     2.99,2,    0.002,2,    0.001,2,    0.000,2,     -999,9,   2374.1,2,   2411.8,2,   7.4260,2,    25.00,   2.1394,2,     -999,9,    0.000,2,     -999,9,     -999,9
49NZ20120113  ,P10N       ,      77,  2,         18,12033      ,2,20120120,0006,  29.9847, 149.2592,     6194,   2070.8,   1.9501,  34.6013,2,  34.6009,2,     81.6,2,     82.1,2,   155.38,2,    40.73,2,     0.01,2,     2.89,2,    0.000,2,    0.000,2,    0.000,2,     -999,9,   2366.2,2,   2415.8,2,   7.4605,2,    25.00,   1.9502,2,     -999,9,    0.000,2,     -999,9,     -999,9
49NZ20120113  ,P10N       ,      77,  2,         17,12032      ,2,20120120,0006,  29.9847, 149.2592,     6194,   2271.2,   1.8403,  34.6213,2,  34.6212,2,     97.8,2,     98.4,2,   152.52,2,    39.68,2,     0.01,2,     2.82,2,    0.000,2,    0.001,2,    0.000,2,     -999,9,   2356.4,2,   2417.5,2,   7.4920,2,    25.00,   1.8403,2,     -999,9,    0.000,2,     -999,9,     -999,9
49NZ20120113  ,P10N       ,      77,  2,         16,12046      ,2,20120120,0006,  29.9847, 149.2592,     6194,   2470.6,   1.7425,  34.6373,2,  34.6367,2,    110.3,2,    110.7,2,   150.99,2,    38.92,2,     0.01,2,     2.77,2,    0.000,2,    0.002,2,    0.000,2,     -999,9,   2350.2,6,   2419.7,2,   7.5151,2,    25.00,   1.7426,2,     -999,9,    0.000,2,     -999,9,     -999,9
49NZ20120113  ,P10N       ,      77,  2,         15,12030      ,2,20120120,0006,  29.9847, 149.2592,     6194,   2669.3,   1.6738,  34.6482,2,  34.6478,2,    119.4,2,    119.7,2,   149.47,2,    38.33,2,     0.01,2,     2.73,2,    0.000,2,    0.001,2,    0.000,2,     -999,9,   2344.8,2,   2418.7,6,   7.5319,2,    25.00,   1.6738,2,     -999,9,    0.000,2,     -999,9,     -999,9
49NZ20120113  ,P10N       ,      77,  2,         14,12029      ,2,20120120,0006,  29.9847, 149.2592,     6194,   2869.9,   1.6321,  34.6556,2,  34.6554,2,    125.0,2,    125.6,2,   148.69,2,    37.97,2,     0.01,2,     2.70,2,    0.003,2,    0.000,2,    0.000,2,     -999,9,   2340.8,2,   2419.6,2,   7.5427,6,    25.00,   1.6322,2,     -999,9,    0.000,2,     -999,9,     -999,9
49NZ20120113  ,P10N       ,      77,  2,         13,12028      ,2,20120120,0006,  29.9847, 149.2592,     6194,   3080.2,   1.5880,  34.6626,2,  34.6625,2,    130.6,2,    130.9,2,   148.01,2,    37.57,2,     0.01,2,     2.66,2,     -999,9,     -999,9,     -999,9,     -999,9,   2337.3,2,   2420.4,2,   7.5510,2,    25.00,   1.5881,2,     -999,9,    0.000,2,     -999,9,     -999,9
49NZ20120113  ,P10N       ,      77,  2,         12,12027      ,2,20120120,0006,  29.9847, 149.2592,     6194,   3329.8,   1.5474,  34.6694,2,  34.6686,2,    136.5,2,    136.6,2,   147.05,2,    37.09,2,     0.01,2,     2.64,2,    0.000,2,    0.000,2,    0.000,2,     -999,9,   2334.8,2,   2420.6,2,   7.5612,2,    25.00,   1.5476,2,     -999,9,    0.000,2,     -999,9,     -999,9
49NZ20120113  ,P10N       ,      77,  2,         11,12011      ,2,20120120,0006,  29.9847, 149.2592,     6194,   3581.0,   1.5223,  34.6746,2,  34.6744,2,    141.8,2,    141.9,2,   146.21,2,    36.79,2,     0.01,2,     2.60,2,     -999,9,     -999,9,     -999,9,     -999,9,   2331.5,2,   2421.5,2,   7.5705,2,    25.00,   1.5220,2,     -999,9,    0.000,2,     -999,9,     -999,9
49NZ20120113  ,P10N       ,      77,  2,         10,12026      ,2,20120120,0006,  29.9847, 149.2592,     6194,   3830.3,   1.5083,  34.6782,2,  34.6772,2,    145.5,2,    145.6,2,   145.58,2,    36.64,2,     0.01,2,     2.58,2,    0.001,2,    0.000,2,    0.000,2,     -999,9,   2328.6,2,   2419.3,2,   7.5759,2,    25.00,   1.5083,2,     -999,9,    0.000,2,     -999,9,     -999,9
49NZ20120113  ,P10N       ,      77,  2,          9,12025      ,2,20120120,0006,  29.9847, 149.2592,     6194,   4080.1,   1.4959,  34.6823,2,  34.6817,2,    150.6,2,    150.6,2,   143.60,2,    36.22,2,     0.01,2,     2.55,2,     -999,9,     -999,9,     -999,9,     -999,9,   2325.3,2,   2419.0,2,   7.5818,2,    25.00,   1.4959,2,     -999,9,    0.000,2,     -999,9,     -999,9
49NZ20120113  ,P10N       ,      77,  2,          8,12024      ,2,20120120,0006,  29.9847, 149.2592,     6194,   4330.0,   1.4917,  34.6850,2,  34.6843,2,    153.9,2,    153.9,2,   142.98,2,    36.01,2,     0.01,2,     2.54,2,    0.000,2,    0.002,2,    0.000,2,     -999,9,   2322.6,6,   2418.3,2,   7.5874,2,    25.00,   1.4918,2,     -999,9,    0.000,2,     -999,9,     -999,9
49NZ20120113  ,P10N       ,      77,  2,          7,12023      ,2,20120120,0006,  29.9847, 149.2592,     6194,   4579.9,   1.4935,  34.6875,2,  34.6873,2,    157.2,2,    157.1,2,   142.01,2,    35.77,2,     0.01,2,     2.52,2,     -999,9,     -999,9,     -999,9,     -999,9,   2320.3,2,   2417.2,6,   7.5912,2,    25.00,   1.4936,2,     -999,9,    0.000,2,     -999,9,     -999,9
49NZ20120113  ,P10N       ,      77,  2,          6,12006      ,2,20120120,0006,  29.9847, 149.2592,     6194,   4829.7,   1.5025,  34.6894,2,  34.6888,2,    159.9,2,    159.7,2,   140.92,2,    35.59,2,     0.01,2,     2.50,2,    0.001,2,    0.003,2,    0.000,2,     -999,9,   2317.1,2,   2416.2,2,   7.5948,6,    25.00,   1.5027,2,     -999,9,    0.000,2,     -999,9,     -999,9
49NZ20120113  ,P10N       ,      77,  2,          5,12102      ,2,20120120,0006,  29.9847, 149.2592,     6194,   5082.6,   1.5159,  34.6911,2,  34.6906,2,    162.6,2,    162.6,2,   139.01,2,    35.41,2,     0.01,2,     2.49,2,     -999,9,     -999,9,     -999,9,     -999,9,   2313.3,2,   2415.0,2,   7.5990,2,    25.00,   1.5161,2,     -999,9,    0.000,2,     -999,9,     -999,9
49NZ20120113  ,P10N       ,      77,  2,          4,12104      ,2,20120120,0006,  29.9847, 149.2592,     6194,   5330.2,   1.5365,  34.6920,2,  34.6917,2,    164.6,2,    164.5,2,   137.68,2,    35.22,2,     0.01,2,     2.48,2,    0.002,2,    0.004,2,    0.000,2,     -999,9,   2313.0,2,   2413.7,2,   7.6006,2,    25.00,   1.5366,2,     -999,9,    0.000,2,     -999,9,     -999,9
49NZ20120113  ,P10N       ,      77,  2,          3,12003      ,2,20120120,0006,  29.9847, 149.2592,     6194,   5580.9,   1.5582,  34.6930,2,  34.6926,2,    166.3,2,    166.3,2,   136.61,2,    35.19,2,     0.01,2,     2.48,2,     -999,9,     -999,9,     -999,9,     -999,9,   2311.8,2,   2414.0,2,   7.6032,2,    25.00,   1.5583,2,     -999,9,    0.000,2,     -999,9,     -999,9
49NZ20120113  ,P10N       ,      77,  2,          2,12103      ,2,20120120,0006,  29.9847, 149.2592,     6194,   5830.7,   1.5828,  34.6939,2,  34.6938,2,    167.9,2,    168.0,2,   135.41,2,    35.02,2,     0.01,2,     2.46,2,    0.000,2,    0.002,2,    0.000,2,     -999,9,   2309.1,2,   2411.5,2,   7.6045,2,    25.00,   1.5830,2,     -999,9,    0.000,2,     -999,9,     -999,9
49NZ20120113  ,P10N       ,      77,  2,          1,12001      ,2,20120120,0006,  29.9847, 149.2592,     6194,   6309.5,   1.6362,  34.6951,2,  34.6950,2,    170.1,2,    170.6,2,   133.50,2,    34.78,2,     0.01,2,     2.44,2,    0.000,2,    0.003,2,    0.000,2,     -999,9,   2306.2,2,   2409.4,2,   7.6070,2,    25.00,   1.6363,2,     -999,9,    0.000,2,     -999,9,     -999,9