BOTTLE,20231026CCHSIOVAJ
EXPOCODE,SECT_ID,STNNBR,CASTNO,SAMPNO,BTLNBR,BTLNBR_FLAG_W,DATE,TIME,LATITUDE,LONGITUDE,DEPTH,CTDPRS,CTDTMP,CTDSAL,CTDSAL_FLAG_W,SALNTY,SALNTY_FLAG_W,CTDOXY,CTDOXY_FLAG_W,OXYGEN,OXYGEN_FLAG_W,SILCAT,SILCAT_FLAG_W,NITRAT,NITRAT_FLAG_W,NITRIT,NITRIT_FLAG_W,PHSPHT,PHSPHT_FLAG_W,CFC-11,CFC-11_FLAG_W,CFC-12,CFC-12_FLAG_W,CFC113,CFC113_FLAG_W,SF6,SF6_FLAG_W,TCARBN,TCARBN_FLAG_W,ALKALI,ALKALI_FLAG_W,PH_TOT,PH_TOT_FLAG_W,PH_TMP,REFTMP,REFTMP_FLAG_W,CTDFLUOR,CTDFLUOR_FLAG_W,PAR,PAR_FLAG_W,CTDXMISS,CTDXMISS_FLAG_W,CHLORA,CHLORA_FLAG_W
,,,,,,,,,,,METERS,DBAR,ITS-90,PSS-78,,PSS-78,,UMOL/KG,,UMOL/KG,,UMOL/KG,,UMOL/KG,,UMOL/KG,,UMOL/KG,,PMOL/KG,,PMOL/KG,,PMOL/KG,,FMOL/KG,,UMOL/KG,,UMOL/KG,,,,DEG C,ITS-90,,MG/M^3,,VOLTS,,%TRANS,,UG/KG,
49NZ20120113  ,P10N       ,      73,  1,          0,BUC        ,2,20120119,0303,  27.8307, 149.3283,     5968,      0.0,     -999,     -999,9,  34.8174,2,     -999,9,     -999,9,     -999,9,     -999,9,     -999,9,     -999,9,     -999,9,     -999,9,     -999,9,     -999,9,     -999,9,     -999,9,     -999,9,     -999,     -999,9,     -999,9,     -999,9,     -999,9,     -999,9
49NZ20120113  ,P10N       ,      73,  1,         36,12021      ,2,20120119,0303,  27.8307, 149.3283,     5968,      9.4,  20.4802,  34.8164,2,  34.8153,2,    222.6,2,    222.2,2,     1.87,2,     0.18,2,     0.05,2,     0.08,2,    1.980,2,    1.232,2,    0.151,2,    1.402,2,     -999,9,     -999,9,     -999,9,     -999,  20.4807,2,    0.364,2,  104.214,2,    97.73,2,     -999,9
49NZ20120113  ,P10N       ,      73,  1,         35,12001      ,2,20120119,0303,  27.8307, 149.3283,     5968,     49.4,  20.4792,  34.8160,2,  34.8146,2,    221.9,2,    221.7,2,     1.78,2,     0.19,2,     0.05,2,     0.07,2,    1.985,2,    1.231,2,    0.146,6,    1.391,6,     -999,9,     -999,9,     -999,9,     -999,  20.4794,2,    0.499,2,   12.338,2,    98.02,2,     -999,9
49NZ20120113  ,P10N       ,      73,  1,         34,12019      ,2,20120119,0303,  27.8307, 149.3283,     5968,     99.7,  20.4750,  34.8134,2,  34.8132,2,    220.8,2,    220.8,2,     1.82,2,     0.23,2,     0.06,2,     0.07,2,    1.988,6,    1.231,6,    0.147,2,    1.426,2,     -999,9,     -999,9,     -999,9,     -999,  20.4751,2,    0.355,2,    1.093,2,    98.52,2,     -999,9
49NZ20120113  ,P10N       ,      73,  1,         33,12018      ,2,20120119,0303,  27.8307, 149.3283,     5968,    149.4,  18.8617,  34.7841,2,  34.7830,2,    207.2,2,    207.0,2,     2.55,2,     1.78,2,     0.04,2,     0.18,2,    2.152,2,    1.315,2,    0.095,2,    1.440,2,     -999,9,     -999,9,     -999,9,     -999,  18.8576,2,    0.066,2,    0.085,2,    99.34,2,     -999,9
49NZ20120113  ,P10N       ,      73,  1,         32,12017      ,2,20120119,0303,  27.8307, 149.3283,     5968,    201.1,  17.6805,  34.7185,2,  34.7180,2,    206.4,2,    206.2,2,     3.36,2,     4.03,2,     0.03,2,     0.30,2,    2.297,2,    1.393,2,    0.050,2,    1.504,2,     -999,9,     -999,9,     -999,9,     -999,  17.6805,2,    0.018,2,    0.000,2,    99.56,2,     -999,9
49NZ20120113  ,P10N       ,      73,  1,         31,12016      ,2,20120119,0303,  27.8307, 149.3283,     5968,    250.6,  17.2338,  34.7020,2,  34.7011,2,    209.3,2,    209.2,2,     3.79,2,     4.59,2,     0.02,2,     0.34,2,    2.332,2,    1.407,2,    0.054,2,    1.514,2,     -999,9,     -999,9,     -999,9,     -999,  17.2340,2,    0.005,2,    0.000,2,    99.63,2,     -999,9
49NZ20120113  ,P10N       ,      73,  1,         30,12015      ,2,20120119,0303,  27.8307, 149.3283,     5968,    299.1,  16.8753,  34.6903,2,  34.6896,2,    209.6,2,    209.7,2,     4.52,2,     5.17,2,     0.02,2,     0.37,2,    2.348,2,    1.417,2,    0.059,2,    1.472,2,     -999,9,     -999,9,     -999,9,     -999,  16.8755,2,    0.003,2,    0.000,2,    99.68,2,     -999,9
49NZ20120113  ,P10N       ,      73,  1,         29,12014      ,2,20120119,0303,  27.8307, 149.3283,     5968,    399.4,  14.9509,  34.5625,2,  34.5628,2,    188.9,2,    189.2,2,    10.03,2,     9.91,2,     0.02,2,     0.70,2,    2.538,2,    1.471,2,    0.031,6,    1.213,6,     -999,9,     -999,9,     -999,9,     -999,  14.9499,2,    0.006,2,    0.000,2,    99.68,2,     -999,9
49NZ20120113  ,P10N       ,      73,  1,         28,12101      ,2,20120119,0303,  27.8307, 149.3283,     5968,    502.7,  11.4760,  34.3186,2,  34.3188,2,    184.3,2,    184.3,2,    20.81,2,    16.00,2,     0.02,2,     1.15,2,    2.742,2,    1.518,2,    0.060,2,    1.066,2,     -999,9,     -999,9,     -999,9,     -999,  11.4733,2,    0.007,2,    0.000,2,    99.74,2,     -999,9
49NZ20120113  ,P10N       ,      73,  1,         27,12012      ,2,20120119,0303,  27.8307, 149.3283,     5968,    600.5,   8.7257,  34.1316,2,  34.1304,2,    168.6,2,    168.3,2,    35.27,2,    22.25,2,     0.01,2,     1.62,2,    2.657,6,    1.430,6,    0.085,2,    0.860,2,     -999,9,     -999,9,     -999,9,     -999,   8.7235,2,    0.009,2,    0.000,2,    99.78,2,     -999,9
49NZ20120113  ,P10N       ,      73,  1,         26,12010      ,2,20120119,0303,  27.8307, 149.3283,     5968,    699.5,   6.5692,  34.0377,2,  34.0374,2,    140.0,2,    139.9,2,    54.15,2,    28.70,2,     0.01,2,     2.10,2,    2.317,2,    1.223,2,    0.089,2,    0.706,2,     -999,9,     -999,9,     -999,9,     -999,   6.5686,2,    0.013,2,    0.000,2,    99.78,2,     -999,9
49NZ20120113  ,P10N       ,      73,  1,         25,12009      ,2,20120119,0303,  27.8307, 149.3283,     5968,    799.9,   5.4705,  34.0772,2,  34.0756,2,    101.9,2,    101.6,2,    72.52,2,    34.08,2,     0.01,2,     2.49,2,    1.628,2,    0.846,2,    0.059,2,    0.428,2,     -999,9,     -999,9,     -999,9,     -999,   5.4779,2,    0.016,2,    0.000,2,    99.79,2,     -999,9
49NZ20120113  ,P10N       ,      73,  1,         24,12008      ,2,20120119,0303,  27.8307, 149.3283,     5968,    900.6,   4.6094,  34.1646,2,  34.1640,2,     67.4,2,     67.1,2,    92.30,2,    38.39,2,     0.01,2,     2.79,2,    0.944,2,    0.481,2,    0.030,2,    0.240,2,     -999,9,     -999,9,     -999,9,     -999,   4.6098,2,    0.019,2,    0.000,2,    99.80,2,     -999,9
49NZ20120113  ,P10N       ,      73,  1,         23,12007      ,2,20120119,0303,  27.8307, 149.3283,     5968,   1000.4,   4.0011,  34.2660,2,  34.2660,2,     47.6,2,     47.3,2,   108.65,2,    40.81,2,     0.02,2,     2.96,2,    0.454,2,    0.226,2,    0.012,2,    0.114,2,     -999,9,     -999,9,     -999,9,     -999,   4.0012,2,    0.020,2,    0.000,2,    99.79,2,     -999,9
49NZ20120113  ,P10N       ,      73,  1,         22,12022      ,2,20120119,0303,  27.8307, 149.3283,     5968,   1199.6,   3.3180,  34.3911,2,  34.3908,2,     40.4,2,     40.1,2,   127.06,2,    42.33,2,     0.01,2,     3.06,2,    0.120,2,    0.062,2,    0.002,2,    0.027,2,     -999,9,     -999,9,     -999,9,     -999,   3.3181,2,    0.021,2,    0.000,2,    99.80,2,     -999,9
49NZ20120113  ,P10N       ,      73,  1,         21,12036      ,2,20120119,0303,  27.8307, 149.3283,     5968,   1401.1,   2.8087,  34.4747,2,  34.4737,2,     46.2,2,     45.9,2,   139.60,2,    42.48,2,     0.01,2,     3.05,2,    0.034,2,    0.021,2,    0.001,2,    0.000,2,     -999,9,     -999,9,     -999,9,     -999,   2.8090,2,    0.020,2,    0.000,2,    99.82,2,     -999,9
49NZ20120113  ,P10N       ,      73,  1,         20,12035      ,2,20120119,0303,  27.8307, 149.3283,     5968,   1599.9,   2.4555,  34.5268,2,  34.5269,2,     56.3,2,     56.3,2,   147.27,2,    42.06,2,     0.02,2,     3.02,2,    0.014,2,    0.007,2,    0.000,2,    0.000,2,     -999,9,     -999,9,     -999,9,     -999,   2.4555,2,    0.019,2,    0.000,2,    99.83,2,     -999,9
49NZ20120113  ,P10N       ,      73,  1,         19,12034      ,2,20120119,0303,  27.8307, 149.3283,     5968,   1799.3,   2.1452,  34.5703,2,  34.5737,3,     69.0,2,     69.4,2,   152.69,2,    41.34,2,     0.02,2,     2.96,2,    0.003,2,    0.004,2,    0.000,2,    0.034,2,     -999,9,     -999,9,     -999,9,     -999,   2.1454,2,    0.017,2,    0.000,2,    99.84,2,     -999,9
49NZ20120113  ,P10N       ,      73,  1,         18,12033      ,2,20120119,0303,  27.8307, 149.3283,     5968,   2000.1,   1.9667,  34.5994,2,  34.5996,2,     84.6,2,     84.6,2,   153.14,2,    40.39,2,     0.02,2,     2.88,2,    0.000,2,    0.001,2,    0.000,2,    0.046,2,     -999,9,     -999,9,     -999,9,     -999,   1.9676,2,    0.016,2,    0.000,2,    99.87,2,     -999,9
49NZ20120113  ,P10N       ,      73,  1,         17,12032      ,2,20120119,0303,  27.8307, 149.3283,     5968,   2199.2,   1.8287,  34.6208,2,  34.6210,2,     96.7,2,     96.8,2,   153.19,2,    39.61,2,     0.01,2,     2.82,2,    0.000,2,    0.001,2,    0.000,2,     -999,9,     -999,9,     -999,9,     -999,9,     -999,   1.8291,2,    0.015,2,    0.000,2,    99.87,2,     -999,9
49NZ20120113  ,P10N       ,      73,  1,         16,12046      ,2,20120119,0303,  27.8307, 149.3283,     5968,   2401.5,   1.7433,  34.6350,2,  34.6352,2,    107.8,2,    107.8,2,   151.53,2,    38.96,2,     0.01,2,     2.76,2,    0.000,2,    0.000,2,    0.000,2,     -999,9,     -999,9,     -999,9,     -999,9,     -999,   1.7431,2,    0.014,2,    0.000,2,    99.88,2,     -999,9
49NZ20120113  ,P10N       ,      73,  1,         15,12030      ,2,20120119,0303,  27.8307, 149.3283,     5968,   2600.9,   1.6644,  34.6481,2,  34.6483,2,    119.1,2,    119.2,2,   149.66,2,    38.26,2,     0.01,2,     2.71,2,    0.000,2,    0.000,2,    0.000,2,     -999,9,     -999,9,     -999,9,     -999,9,     -999,   1.6644,2,    0.013,2,    0.000,2,    99.91,2,     -999,9
49NZ20120113  ,P10N       ,      73,  1,         14,12029      ,2,20120119,0303,  27.8307, 149.3283,     5968,   2799.7,   1.6204,  34.6556,2,  34.6552,2,    124.6,2,    124.8,2,   149.07,2,    37.91,2,     0.01,2,     2.68,2,    0.000,2,    0.000,2,    0.000,2,     -999,9,     -999,9,     -999,9,     -999,9,     -999,   1.6209,2,    0.012,2,    0.000,2,    99.91,2,     -999,9
49NZ20120113  ,P10N       ,      73,  1,         13,12028      ,2,20120119,0303,  27.8307, 149.3283,     5968,   3001.1,   1.5688,  34.6633,2,  34.6635,2,    131.5,2,    131.6,2,   147.88,2,    37.40,2,     0.01,2,     2.66,2,     -999,9,     -999,9,     -999,9,     -999,9,     -999,9,     -999,9,     -999,9,     -999,   1.5689,2,    0.012,2,    0.000,2,    99.92,2,     -999,9
49NZ20120113  ,P10N       ,      73,  1,         12,12027      ,2,20120119,0303,  27.8307, 149.3283,     5968,   3250.1,   1.5349,  34.6694,2,  34.6695,2,    137.2,2,    137.3,2,   146.82,2,    37.00,2,     0.01,2,     2.61,2,    0.000,2,    0.000,2,    0.000,2,     -999,9,     -999,9,     -999,9,     -999,9,     -999,   1.5349,2,    0.011,2,    0.000,2,    99.93,2,     -999,9
49NZ20120113  ,P10N       ,      73,  1,         11,12011      ,2,20120119,0303,  27.8307, 149.3283,     5968,   3501.0,   1.5147,  34.6738,2,  34.6737,2,    141.5,2,    141.5,2,   145.89,2,    36.71,2,     0.01,2,     2.58,2,     -999,9,     -999,9,     -999,9,     -999,9,     -999,9,     -999,9,     -999,9,     -999,   1.5146,2,    0.011,2,    0.000,2,    99.93,2,     -999,9
49NZ20120113  ,P10N       ,      73,  1,         10,12026      ,2,20120119,0303,  27.8307, 149.3283,     5968,   3750.2,   1.4888,  34.6786,2,  34.6785,2,    146.7,2,    146.6,2,   145.08,2,    36.44,2,     0.01,2,     2.57,2,    0.000,2,    0.000,2,    0.000,2,     -999,9,     -999,9,     -999,9,     -999,9,     -999,   1.4888,2,    0.010,2,    0.000,2,    99.92,2,     -999,9
49NZ20120113  ,P10N       ,      73,  1,          9,12025      ,2,20120119,0303,  27.8307, 149.3283,     5968,   3999.5,   1.4721,  34.6827,2,  34.6825,2,    151.4,2,    151.2,2,   143.88,2,    36.07,2,     0.01,2,     2.54,2,     -999,9,     -999,9,     -999,9,     -999,9,     -999,9,     -999,9,     -999,9,     -999,   1.4721,2,    0.010,2,    0.000,2,    99.91,2,     -999,9
49NZ20120113  ,P10N       ,      73,  1,          8,12024      ,2,20120119,0303,  27.8307, 149.3283,     5968,   4250.0,   1.4741,  34.6851,2,  34.6849,2,    154.5,2,    154.4,2,   142.75,2,    35.89,2,     0.01,2,     2.52,2,    0.000,2,    0.000,2,    0.000,2,     -999,9,     -999,9,     -999,9,     -999,9,     -999,   1.4741,2,    0.009,2,    0.000,2,    99.91,2,     -999,9
49NZ20120113  ,P10N       ,      73,  1,          7,12023      ,2,20120119,0303,  27.8307, 149.3283,     5968,   4499.8,   1.4703,  34.6881,2,  34.6875,2,    158.8,2,    158.7,2,   140.92,2,    35.58,2,     0.01,2,     2.51,2,     -999,9,     -999,9,     -999,9,     -999,9,     -999,9,     -999,9,     -999,9,     -999,   1.4703,2,    0.009,2,    0.000,2,    99.91,2,     -999,9
49NZ20120113  ,P10N       ,      73,  1,          6,12006      ,2,20120119,0303,  27.8307, 149.3283,     5968,   4750.3,   1.4823,  34.6897,2,  34.6893,2,    161.3,2,    161.2,2,   139.65,2,    35.41,2,     0.01,2,     2.49,2,    0.000,2,    0.000,2,    0.000,2,     -999,9,     -999,9,     -999,9,     -999,9,     -999,   1.4823,2,    0.009,2,    0.000,2,    99.92,2,     -999,9
49NZ20120113  ,P10N       ,      73,  1,          5,12102      ,2,20120119,0303,  27.8307, 149.3283,     5968,   4999.6,   1.4988,  34.6911,2,  34.6910,2,    163.4,2,    163.3,2,   138.46,2,    35.30,2,     0.02,2,     2.48,2,    0.001,2,    0.001,2,    0.000,2,    0.000,2,     -999,9,     -999,9,     -999,9,     -999,   1.4988,2,    0.009,2,    0.000,2,    99.90,2,     -999,9
49NZ20120113  ,P10N       ,      73,  1,          4,12104      ,2,20120119,0303,  27.8307, 149.3283,     5968,   5250.6,   1.5181,  34.6922,2,  34.6918,2,    165.5,2,    165.3,2,   136.83,2,    35.11,2,     0.01,2,     2.46,2,    0.000,2,    0.000,2,    0.000,2,     -999,9,     -999,9,     -999,9,     -999,9,     -999,   1.5182,2,    0.009,2,    0.000,2,    99.89,2,     -999,9
49NZ20120113  ,P10N       ,      73,  1,          3,12003      ,2,20120119,0303,  27.8307, 149.3283,     5968,   5500.7,   1.5379,  34.6934,2,  34.6931,2,    167.8,2,    167.6,2,   135.25,2,    35.00,2,     0.01,2,     2.46,2,    0.001,2,    0.001,2,    0.000,2,    0.000,2,     -999,9,     -999,9,     -999,9,     -999,   1.5379,2,    0.009,2,    0.000,2,    99.86,2,     -999,9
49NZ20120113  ,P10N       ,      73,  1,          2,12103      ,2,20120119,0303,  27.8307, 149.3283,     5968,   5748.8,   1.5654,  34.6940,2,  34.6937,2,    168.7,2,    168.8,2,   134.19,2,    34.87,2,     0.01,2,     2.45,2,    0.000,2,    0.000,2,    0.000,2,     -999,9,     -999,9,     -999,9,     -999,9,     -999,   1.5656,2,    0.009,2,    0.000,2,    99.67,2,     -999,9
49NZ20120113  ,P10N       ,      73,  1,          1,12001      ,2,20120119,0303,  27.8307, 149.3283,     5968,   6077.6,   1.6092,  34.6939,2,  34.6941,2,    169.0,2,    169.1,2,   133.74,2,    34.82,2,     0.01,2,     2.45,2,    0.002,2,    0.001,2,    0.000,2,     -999,9,     -999,9,     -999,9,     -999,9,     -999,   1.6091,2,    0.009,2,    0.000,2,    99.80,2,     -999,9