BOTTLE,20231026CCHSIOVAJ
EXPOCODE,SECT_ID,STNNBR,CASTNO,SAMPNO,BTLNBR,BTLNBR_FLAG_W,DATE,TIME,LATITUDE,LONGITUDE,DEPTH,CTDPRS,CTDTMP,CTDSAL,CTDSAL_FLAG_W,SALNTY,SALNTY_FLAG_W,CTDOXY,CTDOXY_FLAG_W,OXYGEN,OXYGEN_FLAG_W,SILCAT,SILCAT_FLAG_W,NITRAT,NITRAT_FLAG_W,NITRIT,NITRIT_FLAG_W,PHSPHT,PHSPHT_FLAG_W,CFC-11,CFC-11_FLAG_W,CFC-12,CFC-12_FLAG_W,CFC113,CFC113_FLAG_W,SF6,SF6_FLAG_W,TCARBN,TCARBN_FLAG_W,ALKALI,ALKALI_FLAG_W,PH_TOT,PH_TOT_FLAG_W,PH_TMP,REFTMP,REFTMP_FLAG_W,CTDFLUOR,CTDFLUOR_FLAG_W,PAR,PAR_FLAG_W,CTDXMISS,CTDXMISS_FLAG_W,CHLORA,CHLORA_FLAG_W
,,,,,,,,,,,METERS,DBAR,ITS-90,PSS-78,,PSS-78,,UMOL/KG,,UMOL/KG,,UMOL/KG,,UMOL/KG,,UMOL/KG,,UMOL/KG,,PMOL/KG,,PMOL/KG,,PMOL/KG,,FMOL/KG,,UMOL/KG,,UMOL/KG,,,,DEG C,ITS-90,,MG/M^3,,VOLTS,,%TRANS,,UG/KG,
49NZ20120113  ,P10N       ,     100,  1,          0,BUC        ,2,20120203,0924,  38.0702, 146.7442,     5421,      0.0,     -999,     -999,9,  34.2372,2,     -999,9,     -999,9,     -999,9,     -999,9,     -999,9,     -999,9,     -999,9,     -999,9,     -999,9,     -999,9,     -999,9,     -999,9,     -999,9,     -999,     -999,9,     -999,9,     -999,9,     -999,9,     -999,9
49NZ20120113  ,P10N       ,     100,  1,         36,12021      ,2,20120203,0924,  38.0702, 146.7442,     5421,      9.3,  10.7114,  34.2521,2,  34.2518,2,    249.9,2,    249.7,2,    15.39,2,    10.13,2,     0.15,2,     0.79,2,    3.039,2,    1.738,2,    0.238,2,    1.885,2,     -999,9,     -999,9,     -999,9,     -999,  10.7116,2,    0.358,2,    0.125,2,    98.32,2,     0.38,2
49NZ20120113  ,P10N       ,     100,  1,         35,12001      ,2,20120203,0924,  38.0702, 146.7442,     5421,     49.8,  10.6500,  34.2405,2,  34.2411,2,    249.8,2,    249.8,2,    15.28,2,    10.18,2,     0.15,2,     0.79,2,    3.066,2,    1.743,2,    0.247,6,    1.840,6,     -999,9,     -999,9,     -999,9,     -999,  10.6511,2,    0.404,2,    0.000,2,    98.40,2,     -999,9
49NZ20120113  ,P10N       ,     100,  1,         34,12019      ,2,20120203,0924,  38.0702, 146.7442,     5421,     99.8,  10.4145,  34.2207,2,  34.2238,2,    251.3,2,    251.7,2,    15.20,2,    10.33,2,     0.13,2,     0.81,2,    3.102,6,    1.760,6,    0.247,2,    1.899,2,     -999,9,     -999,9,     -999,9,     -999,  10.4157,2,    0.373,2,    0.000,2,    98.46,2,     -999,9
49NZ20120113  ,P10N       ,     100,  1,         33,12018      ,2,20120203,0924,  38.0702, 146.7442,     5421,    150.5,   8.4646,  33.9409,2,  33.9405,2,    235.2,2,    236.9,2,    23.91,2,    15.37,2,     0.06,2,     1.18,2,    3.415,2,    1.880,2,    0.248,2,    1.758,2,     -999,9,     -999,9,     -999,9,     -999,   8.4593,2,    0.067,2,    0.000,2,    99.32,2,     -999,9
49NZ20120113  ,P10N       ,     100,  1,         32,12017      ,2,20120203,0924,  38.0702, 146.7442,     5421,    199.8,   7.9398,  33.9951,2,  34.0029,2,    190.0,2,    190.0,2,    35.48,2,    21.18,2,     0.02,2,     1.58,2,    3.063,2,    1.646,2,    0.165,2,    1.441,2,     -999,9,     -999,9,     -999,9,     -999,   7.9322,2,    0.013,2,    0.000,2,    99.54,2,     -999,9
49NZ20120113  ,P10N       ,     100,  1,         31,12016      ,2,20120203,0924,  38.0702, 146.7442,     5421,    250.6,   6.6793,  33.9054,2,  33.9060,2,    185.5,2,    185.8,2,    42.93,2,    24.16,2,     0.02,2,     1.80,2,    3.185,2,    1.698,2,    0.192,2,    1.443,2,     -999,9,     -999,9,     -999,9,     -999,   6.6801,2,    0.013,2,    0.000,2,    99.62,2,     -999,9
49NZ20120113  ,P10N       ,     100,  1,         30,12015      ,2,20120203,0924,  38.0702, 146.7442,     5421,    330.7,   4.8159,  33.8381,2,  33.8385,2,    155.0,2,    155.3,2,    61.99,2,    30.81,2,     0.02,2,     2.32,2,    3.029,2,    1.582,2,    0.194,2,    1.312,2,     -999,9,     -999,9,     -999,9,     -999,   4.8152,2,    0.016,2,    0.000,2,    99.64,2,     -999,9
49NZ20120113  ,P10N       ,     100,  1,         29,12014      ,2,20120203,0924,  38.0702, 146.7442,     5421,    431.2,   3.4876,  33.8241,2,  33.8197,2,    104.4,2,    104.8,2,    84.36,2,    38.02,2,     0.02,2,     2.79,2,    2.699,2,    1.398,2,    0.197,6,    1.125,6,     -999,9,     -999,9,     -999,9,     -999,   3.4884,2,    0.020,2,    0.000,2,    99.64,2,     -999,9
49NZ20120113  ,P10N       ,     100,  1,         28,12024      ,2,20120203,0924,  38.0702, 146.7442,     5421,    533.4,   4.1269,  34.0971,2,  34.0884,2,     66.7,2,     66.5,2,    96.90,2,    39.44,2,     0.02,2,     2.88,2,    1.394,2,    0.736,2,    0.079,2,    0.389,2,     -999,9,     -999,9,     -999,9,     -999,   4.1248,2,    0.021,2,    0.000,2,    99.76,2,     -999,9
49NZ20120113  ,P10N       ,     100,  1,         27,12012      ,2,20120203,0924,  38.0702, 146.7442,     5421,    628.9,   3.9086,  34.1847,2,  34.1843,2,     52.8,2,     52.8,2,   107.23,2,    40.53,2,     0.02,2,     2.95,2,    0.911,6,    0.489,6,    0.048,2,    0.201,2,     -999,9,     -999,9,     -999,9,     -999,   3.9087,2,    0.021,2,    0.000,2,    99.76,2,     -999,9
49NZ20120113  ,P10N       ,     100,  1,         26,12010      ,2,20120203,0924,  38.0702, 146.7442,     5421,    729.4,   3.6398,  34.2731,2,  34.2726,2,     45.2,2,     45.1,2,   117.66,2,    41.29,2,     0.01,2,     3.03,2,    0.532,2,    0.275,2,    0.024,2,    0.179,2,     -999,9,     -999,9,     -999,9,     -999,   3.6401,2,    0.021,2,    0.000,2,    99.75,2,     -999,9
49NZ20120113  ,P10N       ,     100,  1,         25,12009      ,2,20120203,0924,  38.0702, 146.7442,     5421,    830.0,   3.2930,  34.3121,2,  34.3097,2,     39.4,2,     39.0,2,   127.32,2,    42.27,2,     0.02,2,     3.06,2,    0.415,2,    0.220,2,    0.020,2,    0.137,2,     -999,9,     -999,9,     -999,9,     -999,   3.2957,2,    0.021,2,    0.000,2,    99.75,2,     -999,9
49NZ20120113  ,P10N       ,     100,  1,         24,12008      ,2,20120203,0924,  38.0702, 146.7442,     5421,    930.3,   3.0189,  34.3482,2,  34.3472,2,     36.3,2,     35.9,2,   135.21,2,    42.70,2,     0.01,2,     3.08,2,    0.324,2,    0.177,2,    0.016,2,    0.118,2,     -999,9,     -999,9,     -999,9,     -999,   3.0190,2,    0.021,2,    0.000,2,    99.76,2,     -999,9
49NZ20120113  ,P10N       ,     100,  1,         23,12007      ,2,20120203,0924,  38.0702, 146.7442,     5421,   1071.5,   2.8042,  34.4194,2,  34.4184,2,     37.4,2,     37.0,2,   141.69,2,    42.81,2,     0.01,2,     3.10,2,    0.149,2,    0.073,2,    0.006,2,    0.046,2,     -999,9,     -999,9,     -999,9,     -999,   2.8043,2,    0.021,2,    0.000,2,    99.74,2,     -999,9
49NZ20120113  ,P10N       ,     100,  1,         22,12022      ,2,20120203,0924,  38.0702, 146.7442,     5421,   1270.8,   2.4874,  34.4702,2,  34.4699,2,     41.4,2,     41.1,2,   150.57,2,    42.70,2,     0.01,2,     3.10,2,    0.107,2,    0.047,2,    0.005,2,    0.100,2,     -999,9,     -999,9,     -999,9,     -999,   2.4872,2,    0.021,2,    0.000,2,    99.76,2,     -999,9
49NZ20120113  ,P10N       ,     100,  1,         21,12036      ,2,20120203,0924,  38.0702, 146.7442,     5421,   1472.1,   2.3161,  34.5228,2,  34.5227,2,     48.1,2,     48.1,2,   153.96,2,    42.59,2,     0.01,2,     3.06,2,    0.025,2,    0.005,2,    0.002,2,    0.000,2,     -999,9,     -999,9,     -999,9,     -999,   2.3161,2,    0.020,2,    0.000,2,    99.78,2,     -999,9
49NZ20120113  ,P10N       ,     100,  1,         20,12035      ,2,20120203,0924,  38.0702, 146.7442,     5421,   1672.5,   2.1244,  34.5571,2,  34.5571,2,     58.3,2,     58.4,2,   157.85,2,    42.07,2,     0.01,2,     3.01,2,    0.015,2,    0.000,2,    0.002,2,    0.019,2,     -999,9,     -999,9,     -999,9,     -999,   2.1243,2,    0.019,2,    0.000,2,    99.78,2,     -999,9
49NZ20120113  ,P10N       ,     100,  1,         19,12034      ,2,20120203,0924,  38.0702, 146.7442,     5421,   1871.6,   1.9881,  34.5839,2,  34.5837,2,     68.7,2,     69.0,2,   159.14,2,    41.50,2,     0.01,2,     2.97,2,    0.005,2,    0.000,2,    0.001,2,    0.012,2,     -999,9,     -999,9,     -999,9,     -999,   1.9883,2,    0.017,2,    0.000,2,    99.83,2,     -999,9
49NZ20120113  ,P10N       ,     100,  1,         18,12033      ,2,20120203,0924,  38.0702, 146.7442,     5421,   2070.9,   1.8526,  34.6083,2,  34.6083,2,     82.2,2,     82.4,2,   159.47,2,    40.63,2,     0.01,2,     2.91,2,    0.012,2,    0.000,2,    0.001,2,    0.017,2,     -999,9,     -999,9,     -999,9,     -999,   1.8526,2,    0.016,2,    0.000,2,    99.84,2,     -999,9
49NZ20120113  ,P10N       ,     100,  1,         17,12032      ,2,20120203,0924,  38.0702, 146.7442,     5421,   2270.0,   1.7665,  34.6242,2,  34.6240,2,     92.9,2,     93.3,2,   158.49,2,    39.99,2,     0.01,2,     2.87,2,    0.000,2,    0.000,2,    0.001,2,    0.022,2,     -999,9,     -999,9,     -999,9,     -999,   1.7666,2,    0.015,2,    0.000,2,    99.84,2,     -999,9
49NZ20120113  ,P10N       ,     100,  1,         16,12046      ,2,20120203,0924,  38.0702, 146.7442,     5421,   2469.7,   1.6806,  34.6390,2,  34.6393,2,    104.6,2,    104.9,2,   156.78,2,    39.23,2,     0.01,2,     2.80,2,    0.000,2,    0.000,2,    0.001,2,    0.000,2,     -999,9,     -999,9,     -999,9,     -999,   1.6807,2,    0.014,2,    0.000,2,    99.86,2,     -999,9
49NZ20120113  ,P10N       ,     100,  1,         15,12030      ,2,20120203,0924,  38.0702, 146.7442,     5421,   2669.8,   1.6149,  34.6502,2,  34.6505,2,    114.3,2,    114.4,2,   154.90,2,    38.52,2,     0.02,2,     2.73,2,    0.000,2,    0.000,2,    0.000,2,    0.000,2,     -999,9,     -999,9,     -999,9,     -999,   1.6149,2,    0.013,2,    0.000,2,    99.82,2,     -999,9
49NZ20120113  ,P10N       ,     100,  1,         14,12029      ,2,20120203,0924,  38.0702, 146.7442,     5421,   2870.9,   1.5750,  34.6578,2,  34.6579,2,    121.6,2,    122.0,2,   153.95,2,    38.10,2,     0.01,2,     2.70,2,    0.000,2,    0.000,2,    0.001,2,    0.000,2,     -999,9,     -999,9,     -999,9,     -999,   1.5752,2,    0.013,2,    0.000,2,    99.87,2,     -999,9
49NZ20120113  ,P10N       ,     100,  1,         13,12028      ,2,20120203,0924,  38.0702, 146.7442,     5421,   3081.3,   1.5230,  34.6663,2,  34.6663,2,    130.4,2,    130.6,2,   152.08,2,    37.58,2,     0.01,2,     2.65,2,    0.000,2,    0.000,2,    0.000,2,     -999,9,     -999,9,     -999,9,     -999,9,     -999,   1.5230,2,    0.012,2,    0.000,2,    99.86,2,     -999,9
49NZ20120113  ,P10N       ,     100,  1,         12,12027      ,2,20120203,0924,  38.0702, 146.7442,     5421,   3331.5,   1.4860,  34.6732,2,  34.6730,2,    137.9,2,    138.0,2,   150.25,2,    37.07,2,     0.01,2,     2.61,2,    0.000,2,    0.001,2,    0.000,2,     -999,9,     -999,9,     -999,9,     -999,9,     -999,   1.4860,2,    0.011,2,    0.000,2,    99.87,2,     -999,9
49NZ20120113  ,P10N       ,     100,  1,         11,12011      ,2,20120203,0924,  38.0702, 146.7442,     5421,   3581.5,   1.4749,  34.6770,2,  34.6769,2,    142.5,2,    142.8,2,   148.99,2,    36.76,2,     0.01,2,     2.59,2,    0.000,2,    0.002,2,    0.000,2,    0.000,2,     -999,9,     -999,9,     -999,9,     -999,   1.4749,2,    0.010,2,    0.000,2,    99.86,2,     -999,9
49NZ20120113  ,P10N       ,     100,  1,         10,12026      ,2,20120203,0924,  38.0702, 146.7442,     5421,   3829.2,   1.4635,  34.6809,2,  34.6812,2,    147.3,2,    147.0,2,   147.87,2,    36.43,2,     0.01,2,     2.57,2,    0.000,2,    0.000,2,    0.000,2,     -999,9,     -999,9,     -999,9,     -999,9,     -999,   1.4634,2,    0.010,2,    0.000,2,    99.86,2,     -999,9
49NZ20120113  ,P10N       ,     100,  1,          9,12025      ,2,20120203,0924,  38.0702, 146.7442,     5421,   4079.5,   1.4607,  34.6839,2,  34.6836,2,    151.1,2,    150.9,2,   146.80,2,    36.13,2,     0.01,2,     2.56,2,    0.000,2,    0.001,2,    0.000,2,     -999,9,     -999,9,     -999,9,     -999,9,     -999,   1.4606,2,    0.009,2,    0.000,2,    99.86,2,     -999,9
49NZ20120113  ,P10N       ,     100,  1,          8,12024      ,2,20120203,0924,  38.0702, 146.7442,     5421,   4332.1,   1.4659,  34.6863,2,  34.6859,2,    154.1,2,    154.0,2,   145.77,2,    35.96,2,     0.01,2,     2.54,2,    0.000,2,    0.001,2,    0.000,2,    0.000,2,     -999,9,     -999,9,     -999,9,     -999,   1.4659,2,    0.009,2,    0.000,2,    99.86,2,     -999,9
49NZ20120113  ,P10N       ,     100,  1,          7,12023      ,2,20120203,0924,  38.0702, 146.7442,     5421,   4576.9,   1.4738,  34.6884,2,  34.6882,2,    156.9,2,    156.8,2,   144.98,2,    35.76,2,     0.01,2,     2.53,2,    0.002,2,    0.000,2,    0.000,2,     -999,9,     -999,9,     -999,9,     -999,9,     -999,   1.4738,2,    0.009,2,    0.000,2,    99.87,2,     -999,9
49NZ20120113  ,P10N       ,     100,  1,          6,12006      ,2,20120203,0924,  38.0702, 146.7442,     5421,   4829.1,   1.4897,  34.6899,2,  34.6897,2,    158.8,2,    158.6,2,   144.91,2,    35.56,2,     0.01,2,     2.52,2,    0.000,2,    0.000,2,    0.000,2,     -999,9,     -999,9,     -999,9,     -999,9,     -999,   1.4897,2,    0.009,2,    0.000,2,    99.85,2,     -999,9
49NZ20120113  ,P10N       ,     100,  1,          5,12102      ,2,20120203,0924,  38.0702, 146.7442,     5421,   5080.6,   1.5144,  34.6906,2,  34.6906,2,    159.7,2,    159.8,2,   144.71,2,    35.55,2,     0.01,2,     2.51,2,    0.002,2,    0.001,2,    0.000,2,    0.000,2,     -999,9,     -999,9,     -999,9,     -999,   1.5143,2,    0.009,2,    0.000,2,    99.77,2,     -999,9
49NZ20120113  ,P10N       ,     100,  1,          4,12104      ,2,20120203,0924,  38.0702, 146.7442,     5421,   5331.3,   1.5386,  34.6913,2,  34.6911,2,    160.8,2,    160.8,2,   143.46,2,    35.45,2,     0.01,2,     2.50,2,    0.002,2,    0.002,2,    0.000,2,     -999,9,     -999,9,     -999,9,     -999,9,     -999,   1.5384,2,    0.009,2,    0.000,2,    99.72,2,     -999,9
49NZ20120113  ,P10N       ,     100,  1,          1,12001      ,2,20120203,0924,  38.0702, 146.7442,     5421,   5489.2,   1.5532,  34.6919,2,  34.6920,2,    162.0,2,    162.2,2,   141.72,2,    35.36,2,     0.02,2,     2.50,2,    0.015,2,    0.002,2,    0.001,2,    0.000,2,     -999,9,     -999,9,     -999,9,     -999,   1.5530,2,    0.009,2,    0.000,2,    99.57,2,     -999,9