BOTTLE,20231026CCHSIOVAJ
EXPOCODE,SECT_ID,STNNBR,CASTNO,SAMPNO,BTLNBR,BTLNBR_FLAG_W,DATE,TIME,LATITUDE,LONGITUDE,DEPTH,CTDPRS,CTDTMP,CTDSAL,CTDSAL_FLAG_W,SALNTY,SALNTY_FLAG_W,CTDOXY,CTDOXY_FLAG_W,OXYGEN,OXYGEN_FLAG_W,SILCAT,SILCAT_FLAG_W,NITRAT,NITRAT_FLAG_W,NITRIT,NITRIT_FLAG_W,PHSPHT,PHSPHT_FLAG_W,CFC-11,CFC-11_FLAG_W,CFC-12,CFC-12_FLAG_W,CFC113,CFC113_FLAG_W,SF6,SF6_FLAG_W,TCARBN,TCARBN_FLAG_W,ALKALI,ALKALI_FLAG_W,PH_TOT,PH_TOT_FLAG_W,PH_TMP,REFTMP,REFTMP_FLAG_W,CTDFLUOR,CTDFLUOR_FLAG_W,PAR,PAR_FLAG_W,CTDXMISS,CTDXMISS_FLAG_W,CHLORA,CHLORA_FLAG_W
,,,,,,,,,,,METERS,DBAR,ITS-90,PSS-78,,PSS-78,,UMOL/KG,,UMOL/KG,,UMOL/KG,,UMOL/KG,,UMOL/KG,,UMOL/KG,,PMOL/KG,,PMOL/KG,,PMOL/KG,,FMOL/KG,,UMOL/KG,,UMOL/KG,,,,DEG C,ITS-90,,MG/M^3,,VOLTS,,%TRANS,,UG/KG,
49NZ20120113  ,P10N       ,      90,  3,         36,12021      ,2,20120127,1953,  34.7638, 148.8720,     6136,      8.9,  17.2219,  34.6861,2,  34.6851,2,    216.5,2,    216.9,2,     5.35,2,     4.17,2,     0.21,2,     0.35,2,    2.294,2,    1.374,2,    0.163,2,     -999,9,   2021.8,2,   2285.1,2,   7.9817,6,    25.00,  17.2212,2,    0.303,2,    4.926,2,    98.56,2,     0.33,2
49NZ20120113  ,P10N       ,      90,  3,         35,12001      ,2,20120127,1953,  34.7638, 148.8720,     6136,     49.1,  17.1441,  34.6705,2,  34.6693,2,    214.2,2,    214.8,2,     6.02,2,     4.61,2,     0.22,2,     0.38,2,    2.298,2,    1.373,2,    0.161,2,     -999,9,   2025.8,6,   2285.6,2,   7.9750,2,    25.00,  17.1448,2,    0.257,2,    0.260,2,    98.64,2,     -999,9
49NZ20120113  ,P10N       ,      90,  3,         34,12019      ,2,20120127,1953,  34.7638, 148.8720,     6136,     99.9,  16.7190,  34.6472,2,  34.6470,2,    210.4,2,    211.0,2,     7.32,2,     5.58,2,     0.23,2,     0.45,2,    2.337,6,    1.385,6,    0.163,6,     -999,9,   2032.7,2,   2285.4,6,   7.9589,2,    25.00,  16.7158,2,    0.208,2,    0.000,2,    98.81,2,     -999,9
49NZ20120113  ,P10N       ,      90,  3,         33,12018      ,2,20120127,1953,  34.7638, 148.8720,     6136,    149.8,  16.3267,  34.6306,2,  34.6297,2,    221.0,2,    221.4,2,     7.22,2,     5.13,2,     0.32,2,     0.42,2,    2.372,2,    1.410,2,    0.173,2,     -999,9,   2029.9,2,   2284.4,2,   7.9660,6,    25.00,  16.3274,2,    0.241,2,    0.000,2,    98.70,2,     -999,9
49NZ20120113  ,P10N       ,      90,  3,         32,12017      ,2,20120127,1953,  34.7638, 148.8720,     6136,    198.8,  16.0748,  34.6166,2,  34.6154,2,    210.9,2,    211.2,2,     8.73,2,     6.61,2,     0.25,2,     0.52,2,    2.384,2,    1.408,2,    0.166,2,     -999,9,   2043.2,2,   2284.7,2,   7.9417,2,    25.00,  16.0757,2,    0.127,2,    0.000,2,    99.06,2,     -999,9
49NZ20120113  ,P10N       ,      90,  3,         31,12016      ,2,20120127,1953,  34.7638, 148.8720,     6136,    249.1,  15.4973,  34.5995,2,  34.6013,2,    185.6,2,    188.9,2,     9.79,2,     9.15,2,     0.06,2,     0.67,2,    2.491,2,    1.438,2,    0.075,2,     -999,9,   2064.5,2,   2282.0,2,   7.8947,2,    25.00,  15.5136,2,    0.009,2,    0.000,2,    99.62,2,     -999,9
49NZ20120113  ,P10N       ,      90,  3,         30,12015      ,2,20120127,1953,  34.7638, 148.8720,     6136,    279.6,  14.3907,  34.5339,2,  34.5377,2,    174.0,2,    175.8,2,    14.42,2,    11.96,2,     0.02,2,     0.88,2,    2.508,2,    1.407,2,    0.050,2,     -999,9,   2085.9,2,   2283.2,2,   7.8473,2,    25.00,  14.3950,2,    0.006,2,    0.000,2,    99.65,2,     -999,9
49NZ20120113  ,P10N       ,      90,  3,         29,12014      ,2,20120127,1953,  34.7638, 148.8720,     6136,    370.2,  11.5792,  34.1792,2,  34.1851,2,    240.2,2,    237.0,2,    13.69,2,     8.97,2,     0.18,2,     0.72,2,    3.008,2,    1.706,2,    0.225,2,     -999,9,   2070.9,2,   2275.2,2,   7.8731,2,    25.00,  11.6004,2,    0.114,2,    0.000,2,    99.14,2,     -999,9
49NZ20120113  ,P10N       ,      90,  3,         28,12024      ,2,20120127,1953,  34.7638, 148.8720,     6136,    469.5,   9.5690,  33.9776,2,  33.9812,2,    237.0,2,    246.4,2,    17.09,2,    11.04,2,     0.08,2,     0.90,2,    3.393,2,    1.888,2,    0.247,2,     -999,9,   2086.5,2,   2269.8,2,   7.8294,2,    25.00,   9.5675,2,    0.074,2,    0.000,2,    99.16,2,     -999,9
49NZ20120113  ,P10N       ,      90,  3,         27,12012      ,2,20120127,1953,  34.7638, 148.8720,     6136,    570.5,   7.9419,  34.1667,2,  34.1603,2,    142.8,2,    143.7,2,    49.27,2,    25.82,2,     0.02,2,     1.91,2,    2.284,6,    1.207,6,    0.100,6,     -999,9,   2195.2,2,   2295.2,2,   7.6179,2,    25.00,   7.9442,2,    0.012,2,    0.000,2,    99.55,2,     -999,9
49NZ20120113  ,P10N       ,      90,  3,         26,12010      ,2,20120127,1953,  34.7638, 148.8720,     6136,    669.9,   6.2397,  34.2029,2,  34.2028,2,    103.8,2,    103.5,2,    72.21,2,    32.30,2,     0.02,2,     2.36,2,    1.518,2,    0.794,2,    0.060,2,     -999,9,   2251.4,6,   2316.1,2,   7.5139,2,    25.00,   6.2390,2,    0.015,2,    0.000,2,    99.56,2,     -999,9
49NZ20120113  ,P10N       ,      90,  3,         25,12009      ,2,20120127,1953,  34.7638, 148.8720,     6136,    770.0,   4.5178,  34.1533,2,  34.1532,2,     71.7,2,     71.8,2,    93.92,2,    38.05,2,     0.01,2,     2.76,2,    1.278,2,    0.662,2,    0.077,2,     -999,9,   2301.1,2,   2328.0,6,   7.4012,2,    25.00,   4.5200,2,    0.019,2,    0.000,2,    99.70,2,     -999,9
49NZ20120113  ,P10N       ,      90,  3,         24,12008      ,2,20120127,1953,  34.7638, 148.8720,     6136,    871.0,   4.2094,  34.2482,2,  34.2470,2,     59.6,2,     59.6,2,   105.05,2,    39.36,2,     0.01,2,     2.85,2,    0.793,2,    0.404,2,    0.044,2,     -999,9,   2319.9,2,   2343.9,2,   7.3907,2,    25.00,   4.2110,2,    0.020,2,    0.000,2,    99.71,2,     -999,9
49NZ20120113  ,P10N       ,      90,  3,         23,12007      ,2,20120127,1953,  34.7638, 148.8720,     6136,    969.3,   3.7441,  34.3058,2,  34.3054,2,     49.8,2,     49.8,2,   116.23,2,    40.73,2,     0.01,2,     2.93,2,    0.507,2,    0.250,2,    0.026,2,     -999,9,   2338.0,2,   2357.6,2,   7.3743,2,    25.00,   3.7446,2,    0.020,2,    0.000,2,    99.72,2,     -999,9
49NZ20120113  ,P10N       ,      90,  3,         22,12022      ,2,20120127,1953,  34.7638, 148.8720,     6136,   1128.7,   3.1553,  34.3908,2,  34.3906,2,     43.5,2,     43.7,2,   131.70,2,    41.99,2,     0.01,2,     3.04,2,    0.221,2,    0.107,2,    0.006,2,     -999,9,   2359.4,2,   2376.8,2,   7.3677,2,    25.00,   3.1552,2,    0.021,2,    0.000,2,    99.75,2,     -999,9
49NZ20120113  ,P10N       ,      90,  3,         21,12036      ,2,20120127,1953,  34.7638, 148.8720,     6136,   1332.0,   2.7674,  34.4524,2,  34.4520,2,     42.5,2,     42.5,2,   142.35,2,    42.51,2,     0.01,2,     3.06,2,    0.100,2,    0.047,2,    0.009,2,     -999,9,   2371.0,2,   2390.0,2,   7.3689,2,    25.00,   2.7673,2,    0.021,2,    0.000,2,    99.75,2,     -999,9
49NZ20120113  ,P10N       ,      90,  3,         20,12035      ,2,20120127,1953,  34.7638, 148.8720,     6136,   1531.2,   2.4301,  34.5029,2,  34.5028,2,     45.6,2,     45.8,2,   151.66,2,    42.64,2,     0.01,2,     3.06,2,    0.052,2,    0.026,2,    0.000,2,     -999,9,   2377.3,2,   2400.1,2,   7.3760,6,    25.00,   2.4301,2,    0.020,2,    0.000,2,    99.76,2,     -999,9
49NZ20120113  ,P10N       ,      90,  3,         19,12034      ,2,20120127,1953,  34.7638, 148.8720,     6136,   1731.3,   2.2296,  34.5421,2,  34.5419,2,     54.2,2,     54.5,2,   155.89,2,    42.26,2,     0.01,2,     3.03,2,    0.024,2,    0.011,2,    0.000,2,     -999,9,   2378.8,2,   2408.4,2,   7.3966,2,    25.00,   2.2295,2,    0.019,2,    0.000,2,    99.75,2,     -999,9
49NZ20120113  ,P10N       ,      90,  3,         18,12033      ,2,20120127,1953,  34.7638, 148.8720,     6136,   1932.3,   2.0437,  34.5786,2,  34.5784,2,     67.6,2,     68.1,2,   157.66,2,    41.53,2,     0.01,2,     2.96,2,    0.008,2,    0.004,2,    0.000,2,     -999,9,   2374.9,2,   2413.4,2,   7.4249,2,    25.00,   2.0435,2,    0.017,2,    0.000,2,    99.80,2,     -999,9
49NZ20120113  ,P10N       ,      90,  3,         17,12032      ,2,20120127,1953,  34.7638, 148.8720,     6136,   2132.1,   1.8996,  34.6045,2,  34.6047,2,     82.1,2,     82.6,2,   157.34,2,    40.66,2,     0.02,2,     2.90,2,    0.002,2,    0.002,2,    0.000,2,     -999,9,   2368.3,2,   2416.8,2,   7.4535,2,    25.00,   1.8996,2,    0.017,2,    0.000,2,    99.82,2,     -999,9
49NZ20120113  ,P10N       ,      90,  3,         16,12046      ,2,20120127,1953,  34.7638, 148.8720,     6136,   2331.8,   1.8148,  34.6203,2,  34.6204,2,     92.3,2,     92.6,2,   156.56,2,    39.98,2,     0.01,2,     2.85,2,    0.000,2,    0.000,2,    0.000,2,     -999,9,   2362.6,6,   2418.8,2,   7.4744,2,    25.00,   1.8149,2,    0.015,2,    0.000,2,    99.87,2,     -999,9
49NZ20120113  ,P10N       ,      90,  3,         15,12030      ,2,20120127,1953,  34.7638, 148.8720,     6136,   2532.3,   1.7362,  34.6341,2,  34.6343,2,    103.1,2,    103.4,2,   155.19,2,    39.26,2,     0.01,2,     2.80,2,    0.000,2,    0.000,2,    0.000,2,     -999,9,   2358.1,2,   2419.9,2,   7.4947,2,    25.00,   1.7362,2,    0.014,2,    0.000,2,    99.89,2,     -999,9
49NZ20120113  ,P10N       ,      90,  3,         14,12029      ,2,20120127,1953,  34.7638, 148.8720,     6136,   2731.5,   1.6571,  34.6469,2,  34.6472,2,    113.5,2,    113.8,2,   153.68,2,    38.53,2,     0.01,2,     2.75,2,    0.000,2,    0.000,2,    0.000,2,     -999,9,   2350.5,2,   2421.2,2,   7.5145,6,    25.00,   1.6568,2,    0.014,2,    0.000,2,    99.92,2,     -999,9
49NZ20120113  ,P10N       ,      90,  3,         13,12028      ,2,20120127,1953,  34.7638, 148.8720,     6136,   2930.7,   1.5962,  34.6566,2,  34.6569,2,    121.5,2,    122.2,2,   152.58,2,    38.06,2,     0.01,2,     2.71,2,    0.000,2,    0.002,2,    0.000,2,     -999,9,   2346.2,2,   2422.2,2,   7.5297,2,    25.00,   1.5960,2,    0.013,2,    0.000,2,    99.92,2,     -999,9
49NZ20120113  ,P10N       ,      92,  1,          0,BUC        ,2,20120131,0222,  35.4198, 148.4538,     5944,      0.0,     -999,     -999,9,  34.5759,2,     -999,9,     -999,9,     -999,9,     -999,9,     -999,9,     -999,9,     -999,9,     -999,9,     -999,9,     -999,9,     -999,9,     -999,9,     -999,9,     -999,     -999,9,     -999,9,     -999,9,     -999,9,     -999,9
49NZ20120113  ,P10N       ,      92,  1,         12,12020      ,2,20120131,0222,  35.4198, 148.4538,     5944,   3250.0,   1.5201,  34.6692,2,  34.6693,2,    134.4,2,    134.4,2,   150.30,2,    37.28,2,     0.01,2,     2.65,2,     -999,9,     -999,9,     -999,9,     -999,9,   2337.0,2,   2422.1,2,   7.5535,2,    25.00,   1.5201,2,     -999,9,     -999,9,     -999,9,     -999,9
49NZ20120113  ,P10N       ,      92,  1,         11,12041      ,2,20120131,0222,  35.4198, 148.4538,     5944,   3497.5,   1.5022,  34.6736,2,  34.6735,2,    139.5,2,    139.3,2,   149.05,2,    36.96,2,     0.01,2,     2.61,2,    0.000,2,    0.000,2,    0.000,2,     -999,9,   2334.9,2,   2422.0,2,   7.5608,2,    25.00,   1.5021,2,     -999,9,     -999,9,     -999,9,     -999,9
49NZ20120113  ,P10N       ,      92,  1,         10,12016      ,2,20120131,0222,  35.4198, 148.4538,     5944,   3750.5,   1.4790,  34.6788,2,  34.6792,2,    145.4,2,    145.4,2,   147.67,2,    36.53,2,     0.01,2,     2.59,2,    0.001,2,    0.000,2,    0.000,2,    0.000,2,   2329.9,2,   2420.8,2,   7.5709,2,    25.00,   1.4790,2,     -999,9,     -999,9,     -999,9,     -999,9
49NZ20120113  ,P10N       ,      92,  1,          9,12025      ,2,20120131,0222,  35.4198, 148.4538,     5944,   3999.4,   1.4727,  34.6820,2,  34.6825,2,    149.7,2,    149.6,2,   146.37,2,    36.28,2,     0.01,2,     2.56,2,    0.000,2,    0.000,2,    0.000,2,     -999,9,   2327.3,2,   2419.8,2,   7.5773,2,    25.00,   1.4726,2,     -999,9,     -999,9,     -999,9,     -999,9
49NZ20120113  ,P10N       ,      92,  1,          8,12015      ,2,20120131,0222,  35.4198, 148.4538,     5944,   4250.2,   1.4735,  34.6848,2,  34.6843,2,    152.8,2,    152.8,2,   145.77,2,    36.07,2,     0.01,2,     2.54,2,     -999,9,     -999,9,     -999,9,     -999,9,   2324.3,6,   2420.0,2,   7.5825,2,    25.00,   1.4735,2,     -999,9,     -999,9,     -999,9,     -999,9
49NZ20120113  ,P10N       ,      92,  1,          7,12050      ,2,20120131,0222,  35.4198, 148.4538,     5944,   4501.0,   1.4794,  34.6869,2,  34.6868,2,    155.7,2,    155.9,2,   144.66,2,    35.94,2,     0.01,2,     2.52,2,    0.000,2,    0.000,2,    0.000,2,    0.000,2,   2321.9,2,   2419.2,6,   7.5864,2,    25.00,   1.4794,2,     -999,9,     -999,9,     -999,9,     -999,9
49NZ20120113  ,P10N       ,      92,  1,          6,12014      ,2,20120131,0222,  35.4198, 148.4538,     5944,   4749.7,   1.4891,  34.6890,2,  34.6887,2,    158.7,2,    158.8,2,   143.12,2,    35.67,2,     0.01,2,     2.51,2,     -999,9,     -999,9,     -999,9,     -999,9,   2317.6,3,   2417.4,2,   7.5913,6,    25.00,   1.4890,2,     -999,9,     -999,9,     -999,9,     -999,9
49NZ20120113  ,P10N       ,      92,  1,          5,12105      ,2,20120131,0222,  35.4198, 148.4538,     5944,   5000.7,   1.5059,  34.6904,2,  34.6906,2,    161.2,2,    161.3,2,   141.40,2,    35.53,2,     0.01,2,     2.50,2,    0.000,2,    0.000,2,    0.000,2,     -999,9,   2316.0,2,   2415.7,2,   7.5936,2,    25.00,   1.5058,2,     -999,9,     -999,9,     -999,9,     -999,9
49NZ20120113  ,P10N       ,      92,  1,          4,12028      ,2,20120131,0222,  35.4198, 148.4538,     5944,   5250.0,   1.5275,  34.6915,2,  34.6913,2,    162.6,2,    162.6,2,   140.37,2,    35.39,2,     0.01,2,     2.49,2,    0.003,2,    0.002,2,    0.000,2,    0.000,2,   2313.1,2,   2415.5,2,   7.5953,2,    25.00,   1.5276,2,     -999,9,     -999,9,     -999,9,     -999,9
49NZ20120113  ,P10N       ,      92,  1,          3,12044      ,2,20120131,0222,  35.4198, 148.4538,     5944,   5502.5,   1.5501,  34.6922,2,  34.6924,2,    164.6,2,    164.6,2,   138.65,2,    35.23,2,     0.01,2,     2.47,2,    0.000,2,    0.002,2,    0.000,2,     -999,9,   2312.5,2,   2413.8,2,   7.5979,2,    25.00,   1.5499,2,     -999,9,     -999,9,     -999,9,     -999,9
49NZ20120113  ,P10N       ,      92,  1,          2,12040      ,2,20120131,0222,  35.4198, 148.4538,     5944,   5750.1,   1.5755,  34.6931,2,  34.6933,2,    166.0,2,    166.0,2,   137.11,2,    35.11,2,     0.01,2,     2.46,2,     -999,9,     -999,9,     -999,9,     -999,9,   2311.2,2,   2413.6,2,   7.5995,2,    25.00,   1.5755,2,     -999,9,     -999,9,     -999,9,     -999,9
49NZ20120113  ,P10N       ,      92,  1,          1,12034      ,2,20120131,0222,  35.4198, 148.4538,     5944,   6055.8,   1.6098,  34.6939,2,  34.6940,2,    167.5,2,    167.5,2,   136.08,2,    34.99,2,     0.01,2,     2.46,2,    0.005,2,    0.003,2,    0.000,2,    0.000,2,   2309.0,2,   2412.2,2,   7.6010,2,    25.00,   1.6099,2,     -999,9,     -999,9,     -999,9,     -999,9