BOTTLE,20231026CCHSIOVAJ
EXPOCODE,SECT_ID,STNNBR,CASTNO,SAMPNO,BTLNBR,BTLNBR_FLAG_W,DATE,TIME,LATITUDE,LONGITUDE,DEPTH,CTDPRS,CTDTMP,CTDSAL,CTDSAL_FLAG_W,SALNTY,SALNTY_FLAG_W,CTDOXY,CTDOXY_FLAG_W,OXYGEN,OXYGEN_FLAG_W,SILCAT,SILCAT_FLAG_W,NITRAT,NITRAT_FLAG_W,NITRIT,NITRIT_FLAG_W,PHSPHT,PHSPHT_FLAG_W,CFC-11,CFC-11_FLAG_W,CFC-12,CFC-12_FLAG_W,CFC113,CFC113_FLAG_W,SF6,SF6_FLAG_W,TCARBN,TCARBN_FLAG_W,ALKALI,ALKALI_FLAG_W,PH_TOT,PH_TOT_FLAG_W,PH_TMP,REFTMP,REFTMP_FLAG_W,CTDFLUOR,CTDFLUOR_FLAG_W,PAR,PAR_FLAG_W,CTDXMISS,CTDXMISS_FLAG_W,CHLORA,CHLORA_FLAG_W
,,,,,,,,,,,METERS,DBAR,ITS-90,PSS-78,,PSS-78,,UMOL/KG,,UMOL/KG,,UMOL/KG,,UMOL/KG,,UMOL/KG,,UMOL/KG,,PMOL/KG,,PMOL/KG,,PMOL/KG,,FMOL/KG,,UMOL/KG,,UMOL/KG,,,,DEG C,ITS-90,,MG/M^3,,VOLTS,,%TRANS,,UG/KG,
49NZ20120113  ,P10N       ,     102,  2,          0,BUC        ,2,20120203,1835,  38.7522, 146.3163,     5295,      0.0,     -999,     -999,9,  34.2269,2,     -999,9,     -999,9,     -999,9,     -999,9,     -999,9,     -999,9,     -999,9,     -999,9,     -999,9,     -999,9,     -999,9,     -999,9,     -999,9,     -999,     -999,9,     -999,9,     -999,9,     -999,9,     -999,9
49NZ20120113  ,P10N       ,     102,  2,         36,12021      ,2,20120203,1835,  38.7522, 146.3163,     5295,     10.5,  10.1200,  34.2148,2,  34.2148,2,    260.7,2,    260.6,2,    13.50,2,     9.76,2,     0.09,2,     0.75,2,    3.206,2,    1.852,2,    0.259,2,     -999,9,   2076.4,2,   2275.2,2,   7.8607,6,    25.00,  10.1208,2,    0.330,2,    0.128,2,    98.45,2,     -999,9
49NZ20120113  ,P10N       ,     102,  2,         35,12001      ,2,20120203,1835,  38.7522, 146.3163,     5295,     48.9,  10.1272,  34.2107,2,  34.2105,2,    260.2,2,    260.2,2,    13.55,2,     9.85,2,     0.09,2,     0.76,2,    3.223,2,    1.861,2,    0.263,2,     -999,9,   2075.9,6,   2275.1,2,   7.8593,2,    25.00,  10.1273,2,    0.330,2,    0.000,2,    98.54,2,     -999,9
49NZ20120113  ,P10N       ,     102,  2,         34,12019      ,2,20120203,1835,  38.7522, 146.3163,     5295,     99.0,  10.1287,  34.2097,2,  34.2101,2,    260.3,2,    260.2,2,    13.51,2,     9.86,2,     0.09,2,     0.75,2,    3.226,6,    1.869,6,    0.260,6,     -999,9,   2076.1,2,   2273.5,6,   7.8598,2,    25.00,  10.1291,2,    0.351,2,    0.000,2,    98.54,2,     -999,9
49NZ20120113  ,P10N       ,     102,  2,         33,12018      ,2,20120203,1835,  38.7522, 146.3163,     5295,    149.6,  10.1103,  34.2060,2,  34.2056,2,    260.0,2,    259.8,2,    13.63,2,     9.97,2,     0.09,2,     0.76,2,    3.240,2,    1.876,2,    0.276,2,     -999,9,   2076.7,2,   2274.5,2,   7.8576,6,    25.00,  10.1099,2,    0.302,2,    0.000,2,    98.62,2,     -999,9
49NZ20120113  ,P10N       ,     102,  2,         32,12017      ,2,20120203,1835,  38.7522, 146.3163,     5295,    198.8,  10.0820,  34.1992,2,  34.2003,2,    259.3,2,    259.4,2,    13.82,2,    10.11,2,     0.08,2,     0.77,2,    3.244,2,    1.870,2,    0.264,2,     -999,9,   2079.4,2,   2273.9,2,   7.8552,2,    25.00,  10.0822,2,    0.266,2,    0.000,2,    98.71,2,     -999,9
49NZ20120113  ,P10N       ,     102,  2,         31,12016      ,2,20120203,1835,  38.7522, 146.3163,     5295,    249.6,   8.1658,  33.9374,2,  33.9425,2,    218.0,2,    216.9,2,    28.37,2,    18.21,2,     0.02,2,     1.36,2,    3.394,2,    1.882,2,    0.211,2,     -999,9,   2134.0,2,   2273.3,2,   7.7273,2,    25.00,   8.1652,2,    0.027,2,    0.000,2,    99.49,2,     -999,9
49NZ20120113  ,P10N       ,     102,  2,         30,12015      ,2,20120203,1835,  38.7522, 146.3163,     5295,    279.5,   7.6670,  33.9680,2,  33.9685,2,    193.6,2,    192.6,2,    36.13,2,    21.69,2,     0.02,2,     1.60,2,    3.188,2,    1.740,2,    0.196,2,     -999,9,   2158.2,2,   2278.3,2,   7.6724,2,    25.00,   7.6636,2,    0.012,2,    0.000,2,    99.56,2,     -999,9
49NZ20120113  ,P10N       ,     102,  2,         29,12014      ,2,20120203,1835,  38.7522, 146.3163,     5295,    370.4,   4.8055,  33.8077,2,  33.8081,2,    164.7,2,    164.9,2,    58.80,2,    29.86,2,     0.01,2,     2.22,2,    3.222,2,    1.728,2,    0.223,2,     -999,9,   2219.3,2,   2285.6,2,   7.5241,2,    25.00,   4.8058,2,    0.015,2,    0.000,2,    99.68,2,     -999,9
49NZ20120113  ,P10N       ,     102,  2,         28,12024      ,2,20120203,1835,  38.7522, 146.3163,     5295,    469.3,   4.5813,  33.9695,2,  33.9776,2,    109.0,2,    107.6,2,    77.44,2,    35.20,2,     0.01,2,     2.56,2,    2.205,2,    1.165,2,    0.151,2,     -999,9,   2266.1,2,   2306.3,2,   7.4371,2,    25.00,   4.5845,2,    0.018,2,    0.000,2,    99.70,2,     -999,9
49NZ20120113  ,P10N       ,     102,  2,         27,12012      ,2,20120203,1835,  38.7522, 146.3163,     5295,    569.9,   4.4842,  34.1169,2,  34.1160,2,     75.2,2,     75.8,2,    91.37,2,    37.90,2,     0.01,2,     2.75,2,    1.397,6,    0.735,6,    0.087,6,     -999,9,   2298.9,2,   2325.1,2,   7.4013,2,    25.00,   4.4843,2,    0.019,2,    0.000,2,    99.72,2,     -999,9
49NZ20120113  ,P10N       ,     102,  2,         26,12010      ,2,20120203,1835,  38.7522, 146.3163,     5295,    669.5,   3.7181,  34.1692,2,  34.1675,2,     47.4,2,     46.6,2,   110.63,2,    41.37,2,     0.01,2,     2.98,2,    0.975,2,    0.512,2,    0.078,2,     -999,9,   2330.7,6,   2339.9,2,   7.3346,2,    25.00,   3.7207,2,    0.021,2,    0.000,2,    99.77,2,     -999,9
49NZ20120113  ,P10N       ,     102,  2,         25,12009      ,2,20120203,1835,  38.7522, 146.3163,     5295,    770.0,   3.5535,  34.2548,2,  34.2556,2,     42.4,2,     41.9,2,   118.69,2,    41.72,2,     0.01,2,     3.00,2,    0.613,2,    0.318,2,    0.049,2,     -999,9,   2344.3,2,   2353.8,6,   7.3426,2,    25.00,   3.5540,2,    0.021,2,    0.000,2,    99.77,2,     -999,9
49NZ20120113  ,P10N       ,     102,  2,         24,12008      ,2,20120203,1835,  38.7522, 146.3163,     5295,    871.2,   3.2830,  34.3145,2,  34.3140,2,     38.9,2,     38.4,2,   127.20,2,    42.23,2,     0.01,2,     3.04,2,    0.413,2,    0.214,2,    0.035,2,     -999,9,   2356.2,2,   2365.8,2,   7.3430,6,    25.00,   3.2836,2,    0.021,2,    0.000,2,    99.74,2,     -999,9
49NZ20120113  ,P10N       ,     102,  2,         23,12007      ,2,20120203,1835,  38.7522, 146.3163,     5295,    971.6,   3.1194,  34.3631,2,  34.3626,2,     39.1,2,     38.6,2,   132.36,2,    42.41,2,     0.01,2,     3.05,2,    0.273,2,    0.142,2,    0.017,2,     -999,9,   2362.2,2,   2373.9,2,   7.3496,2,    25.00,   3.1194,2,    0.021,2,    0.000,2,    99.74,2,     -999,9
49NZ20120113  ,P10N       ,     102,  2,         22,12022      ,2,20120203,1835,  38.7522, 146.3163,     5295,   1130.6,   2.7928,  34.4182,2,  34.4179,2,     38.5,2,     37.9,2,   141.94,2,    42.77,2,     0.01,2,     3.07,2,    0.174,2,    0.088,2,    0.017,2,     -999,9,   2371.9,2,   2385.7,2,   7.3527,2,    25.00,   2.7924,2,    0.021,2,    0.000,2,    99.74,2,     -999,9
49NZ20120113  ,P10N       ,     102,  2,         21,12036      ,2,20120203,1835,  38.7522, 146.3163,     5295,   1329.5,   2.5531,  34.4735,2,  34.4735,2,     40.2,2,     40.1,2,   148.98,2,    43.03,2,     0.01,2,     3.08,2,    0.074,2,    0.040,2,    0.000,2,     -999,9,   2380.1,2,   2396.6,2,   7.3622,2,    25.00,   2.5531,2,    0.021,2,    0.000,2,    99.76,2,     -999,9
49NZ20120113  ,P10N       ,     102,  2,         20,12035      ,2,20120203,1835,  38.7522, 146.3163,     5295,   1531.6,   2.3240,  34.5236,2,  34.5234,2,     48.7,2,     48.8,2,   153.75,2,    42.61,2,     0.01,2,     3.04,2,    0.029,2,    0.014,2,    0.006,2,     -999,9,   2380.8,2,   2405.8,2,   7.3839,6,    25.00,   2.3239,2,    0.020,2,    0.000,2,    99.76,2,     -999,9
49NZ20120113  ,P10N       ,     102,  2,         19,12034      ,2,20120203,1835,  38.7522, 146.3163,     5295,   1730.0,   2.1337,  34.5604,2,  34.5602,2,     60.3,2,     60.3,2,   156.59,2,    41.93,2,     0.01,2,     2.98,2,    0.013,2,    0.004,2,    0.000,2,     -999,9,   2378.8,2,   2411.9,2,   7.4084,2,    25.00,   2.1345,2,    0.018,2,    0.000,2,    99.78,2,     -999,9
49NZ20120113  ,P10N       ,     102,  2,         18,12033      ,2,20120203,1835,  38.7522, 146.3163,     5295,   1929.4,   1.9828,  34.5882,2,  34.5879,2,     72.5,2,     72.7,2,   157.31,2,    41.16,2,     0.01,2,     2.92,2,    0.002,2,    0.000,2,    0.000,2,     -999,9,   2373.0,2,   2416.2,2,   7.4342,2,    25.00,   1.9831,2,    0.017,2,    0.000,2,    99.79,2,     -999,9
49NZ20120113  ,P10N       ,     102,  2,         17,12032      ,2,20120203,1835,  38.7522, 146.3163,     5295,   2131.5,   1.8641,  34.6085,2,  34.6083,2,     83.2,2,     83.3,2,   158.23,2,    40.61,2,     0.01,2,     2.87,2,    0.000,2,    0.000,2,    0.000,2,     -999,9,   2369.2,2,   2418.6,2,   7.4549,2,    25.00,   1.8642,2,    0.016,2,    0.000,2,    99.82,2,     -999,9
49NZ20120113  ,P10N       ,     102,  2,         16,12046      ,2,20120203,1835,  38.7522, 146.3163,     5295,   2331.2,   1.7566,  34.6268,2,  34.6273,2,     95.4,2,     95.6,2,   157.54,2,    39.83,2,     0.01,2,     2.82,2,    0.000,2,    0.000,2,    0.000,2,     -999,9,   2362.4,6,   2420.5,2,   7.4788,2,    25.00,   1.7565,2,    0.015,2,    0.000,2,    99.84,2,     -999,9
49NZ20120113  ,P10N       ,     102,  2,         15,12030      ,2,20120203,1835,  38.7522, 146.3163,     5295,   2530.0,   1.6786,  34.6403,2,  34.6402,2,    106.0,2,    106.1,2,   156.03,2,    39.13,2,     0.01,2,     2.77,2,    0.000,2,    0.000,2,    0.000,2,     -999,9,   2356.4,2,   2422.3,6,   7.4989,2,    25.00,   1.6785,2,    0.014,2,    0.000,2,    99.85,2,     -999,9
49NZ20120113  ,P10N       ,     102,  2,         14,12029      ,2,20120203,1835,  38.7522, 146.3163,     5295,   2730.1,   1.6161,  34.6512,2,  34.6513,2,    116.0,2,    116.3,2,   154.30,2,    38.50,2,     0.01,2,     2.72,2,    0.000,2,    0.000,2,    0.000,2,     -999,9,   2349.8,2,   2422.7,2,   7.5185,6,    25.00,   1.6160,2,    0.013,2,    0.000,2,    99.86,2,     -999,9
49NZ20120113  ,P10N       ,     102,  2,         13,12028      ,2,20120203,1835,  38.7522, 146.3163,     5295,   2930.6,   1.5772,  34.6581,2,  34.6585,2,    122.1,2,    122.4,2,   153.75,2,    38.14,2,     0.01,2,     2.67,2,    0.000,2,    0.000,2,    0.000,2,     -999,9,   2346.4,2,   2423.2,2,   7.5293,2,    25.00,   1.5773,2,    0.013,2,    0.000,2,    99.85,2,     -999,9
49NZ20120113  ,P10N       ,     102,  2,         12,12027      ,2,20120203,1835,  38.7522, 146.3163,     5295,   3170.9,   1.5314,  34.6662,2,  34.6664,2,    130.2,2,    130.2,2,   152.17,2,    37.56,2,     0.01,2,     2.63,2,    0.004,2,    0.000,2,    0.000,2,     -999,9,   2340.2,2,   2423.0,2,   7.5437,2,    25.00,   1.5314,2,    0.012,2,    0.000,2,    99.84,2,     -999,9
49NZ20120113  ,P10N       ,     102,  2,         11,12011      ,2,20120203,1835,  38.7522, 146.3163,     5295,   3422.6,   1.5012,  34.6724,2,  34.6726,2,    137.1,2,    137.1,2,   150.33,2,    37.08,2,     0.01,2,     2.60,2,    0.000,2,    0.000,2,    0.000,2,     -999,9,   2335.6,2,   2423.1,2,   7.5558,2,    25.00,   1.5011,2,    0.011,2,    0.000,2,    99.85,2,     -999,9
49NZ20120113  ,P10N       ,     102,  2,         10,12026      ,2,20120203,1835,  38.7522, 146.3163,     5295,   3671.2,   1.4760,  34.6778,2,  34.6774,2,    143.4,2,    143.4,2,   148.92,2,    36.69,2,     0.01,2,     2.57,2,    0.000,2,    0.000,2,    0.000,2,     -999,9,   2331.2,2,   2422.4,2,   7.5657,2,    25.00,   1.4760,2,    0.010,2,    0.000,2,    99.87,2,     -999,9
49NZ20120113  ,P10N       ,     102,  2,          9,12025      ,2,20120203,1835,  38.7522, 146.3163,     5295,   3921.1,   1.4670,  34.6815,2,  34.6814,2,    148.1,2,    148.0,2,   147.79,2,    36.42,2,     0.01,2,     2.54,2,    0.000,2,    0.000,2,    0.000,2,     -999,9,   2329.0,2,   2421.4,2,   7.5748,2,    25.00,   1.4671,2,    0.010,2,    0.000,2,    99.86,2,     -999,9
49NZ20120113  ,P10N       ,     102,  2,          8,12024      ,2,20120203,1835,  38.7522, 146.3163,     5295,   4169.9,   1.4602,  34.6851,2,  34.6849,2,    152.4,2,    152.3,2,   146.59,2,    36.15,2,     0.01,2,     2.53,2,    0.000,2,    0.000,2,    0.000,2,     -999,9,   2324.0,6,   2421.3,2,   7.5808,2,    25.00,   1.4604,2,    0.010,2,    0.000,2,    99.86,2,     -999,9
49NZ20120113  ,P10N       ,     102,  2,          7,12023      ,2,20120203,1835,  38.7522, 146.3163,     5295,   4421.1,   1.4688,  34.6870,2,  34.6867,2,    155.0,2,    155.0,2,   145.85,2,    35.93,2,     0.01,2,     2.50,2,    0.001,2,    0.000,2,    0.000,2,     -999,9,   2318.9,3,   2420.8,6,   7.5859,2,    25.00,   1.4687,2,    0.009,2,    0.000,2,    99.86,2,     -999,9
49NZ20120113  ,P10N       ,     102,  2,          6,12006      ,2,20120203,1835,  38.7522, 146.3163,     5295,   4671.3,   1.4801,  34.6888,2,  34.6888,2,    157.3,2,    157.4,2,   145.46,2,    35.78,2,     0.01,2,     2.50,2,    0.001,2,    0.000,2,    0.000,2,     -999,9,   2322.0,2,   2420.2,2,   7.5893,2,    25.00,   1.4800,2,    0.009,2,    0.000,2,    99.85,2,     -999,9
49NZ20120113  ,P10N       ,     102,  2,          5,12102      ,2,20120203,1835,  38.7522, 146.3163,     5295,   4919.6,   1.5001,  34.6899,2,  34.6899,2,    158.7,2,    159.0,2,   145.02,2,    35.63,2,     0.01,2,     2.50,2,    0.003,2,    0.000,2,    0.000,2,     -999,9,   2318.8,2,   2421.2,2,   7.5911,2,    25.00,   1.5000,2,    0.009,2,    0.000,2,    99.82,2,     -999,9
49NZ20120113  ,P10N       ,     102,  2,          4,12104      ,2,20120203,1835,  38.7522, 146.3163,     5295,   5169.4,   1.5215,  34.6909,2,  34.6907,2,    160.1,2,    160.2,2,   144.24,2,    35.55,2,     0.01,2,     2.48,2,    0.009,2,    0.003,2,    0.000,2,     -999,9,   2318.6,2,   2419.1,2,   7.5935,2,    25.00,   1.5214,2,    0.009,2,    0.000,2,    99.74,2,     -999,9
49NZ20120113  ,P10N       ,     102,  2,          1,12001      ,2,20120203,1835,  38.7522, 146.3163,     5295,   5380.7,   1.5439,  34.6915,2,  34.6916,2,    160.3,2,    160.5,2,   144.80,2,    35.42,2,     0.01,2,     2.48,2,    0.011,2,    0.004,2,    0.000,2,     -999,9,   2317.6,2,   2418.6,2,   7.5930,2,    25.00,   1.5438,2,    0.010,2,    0.000,2,    99.54,2,     -999,9