BOTTLE,20231018CCHSIOENA
EXPOCODE,SECT_ID,STNNBR,CASTNO,SAMPNO,BTLNBR,BTLNBR_FLAG_W,DATE,TIME,LATITUDE,LONGITUDE,DEPTH,CTDPRS,CTDPRS_FLAG_W,CTDTMP,CTDTMP_FLAG_W,CTDSAL,CTDSAL_FLAG_W,SALNTY,SALNTY_FLAG_W,CTDOXY,CTDOXY_FLAG_W,OXYGEN,OXYGEN_FLAG_W,SILCAT,SILCAT_FLAG_W,NITRAT,NITRAT_FLAG_W,NITRIT,NITRIT_FLAG_W,PHSPHT,PHSPHT_FLAG_W,CFC-11,CFC-11_FLAG_W,CFC-12,CFC-12_FLAG_W,CFC113,CFC113_FLAG_W,SF6,SF6_FLAG_W,TCARBN,TCARBN_FLAG_W,ALKALI,ALKALI_FLAG_W,PH_SWS,PH_SWS_FLAG_W,DELC13,DELC13_FLAG_W,DELC14,DELC14_FLAG_W,C14ERR,NI,NI_FLAG_W,BARIUM,BARIUM_FLAG_W,CU,CU_FLAG_W,TOC,TOC_FLAG_W,CHLORA,CHLORA_FLAG_W,CALCIUM,CALCIUM_FLAG_W,THETA,SIG0
,,,,,,,,,,,METERS,DBAR,,ITS-90,,PSS-78,,PSS-78,,UMOL/KG,,UMOL/KG,,UMOL/KG,,UMOL/KG,,UMOL/KG,,UMOL/KG,,PMOL/KG,,PMOL/KG,,PMOL/KG,,FMOL/KG,,UMOL/KG,,UMOL/KG,,,,/MILLE,,/MILLE,,/MILLE,UMOL/L,,NMOL/KG,,UMOL/L,,UMOL/L,,UG/KG,,MMOL/KG,,ITS-90,KG/M^3
49NZ199905_1,       P01C,      92,1,24,24,2,19990908,354,47.0008,-145.8058,       4804,     9.8,2,  13.9518,2,  32.6303,2,   32.632,2,  -999.00,9,  266.34,2,   12.53,2,    9.37,2,    0.12,2,    0.91,2,   2.808,2,   1.679,2,   0.237,2,   0.3531,3,    1994,2,  2203.9,2,7.85,2, -999.00,1,  -999.0,9,  -999.0,     -999.0,1,    50.8,2,     -999.0,1,     -999.0,1,    0.08,2,     -999.0,1,    13.9504,    24.3686
49NZ199905_1,       P01C,      92,1,23,23,2,19990908,354,47.0008,-145.8058,       4804,    50.3,2,   8.2565,2,  32.7725,2,  32.7824,4,  -999.00,9,  311.51,2,   14.88,3,   10.73,3,    0.09,3,    1.04,3,   4.025,2,   2.219,2,   0.332,2,    0.405,3,  -999.0,9,  -999.0,9,7.784,2, -999.00,1,      20,2,     3.8,     -999.0,1,    48.6,2,     -999.0,1,     -999.0,1,     0.1,2,     -999.0,1,     8.2515,     25.496
49NZ199905_1,       P01C,      92,1,22,22,2,19990908,354,47.0008,-145.8058,       4804,   100.3,2,   5.7214,2,  32.8342,2,  32.8383,2,  -999.00,9,  304.04,2,    17.1,2,   14.18,2,    0.78,2,    1.25,2,   4.364,2,   2.395,2,   0.369,2,   0.4223,3,  2059.5,2,  2209.3,2,7.718,2, -999.00,1,     4.7,2,       4,     -999.0,1,    46.8,2,     -999.0,1,     -999.0,1,    0.09,2,     -999.0,1,     5.7134,    25.8796
49NZ199905_1,       P01C,      92,1,21,21,2,19990908,354,47.0008,-145.8058,       4804,   148.5,2,   6.1125,2,  33.4069,2,  33.4559,2,  -999.00,9,  226.63,2,    29.5,3,   21.91,3,    0.02,3,    1.59,3,   3.518,4,   1.962,4,   0.259,4,   0.3459,3,  -999.0,9,  -999.0,9,7.639,2, -999.00,1,     9.7,2,       3,     -999.0,1,    47.5,2,     -999.0,1,     -999.0,1,    0.01,2,     -999.0,1,        6.1,    26.3202
49NZ199905_1,       P01C,      92,1,20,20,2,19990908,354,47.0008,-145.8058,       4804,   200.6,2,    6.119,2,  33.8782,2,  33.8782,2,  -999.00,9,  153.69,2,   48.92,2,   30.32,2,       0,2,    2.12,2,    2.59,2,   1.412,2,   0.153,2,   0.1697,3,  2197.1,2,  2270.8,2,7.534,2, -999.00,1,     -28,2,     3.1,     -999.0,1,    51.2,2,     -999.0,1,     -999.0,1,       0,2,     -999.0,1,     6.1019,    26.6535
49NZ199905_1,       P01C,      92,1,19,19,2,19990908,354,47.0008,-145.8058,       4804,   249.6,2,   5.4416,2,  33.8878,2,  33.8911,2,  -999.00,9,  126.36,2,    59.2,2,   34.14,2,    0.02,2,    2.33,2,   2.201,2,   1.203,2,   0.128,2,   0.1753,3,  -999.0,9,  -999.0,9,7.471,2, -999.00,1,     -44,2,     3.1,     -999.0,1,    58.1,2,     -999.0,1,     -999.0,1,       0,2,     -999.0,1,     5.4216,    26.7472
49NZ199905_1,       P01C,      92,1,18,18,2,19990908,354,47.0008,-145.8058,       4804,   299.3,2,   4.9342,2,  33.9171,2,  33.9214,2,  -999.00,9,   97.99,2,   69.78,2,   37.62,2,    0.04,2,    2.56,2,   1.739,2,   0.965,2,   0.103,2,   0.1241,3,  2258.7,2,  2290.3,2,7.417,2, -999.00,1,   -74.2,2,     3.3,     -999.0,1,    64.2,2,     -999.0,1,     -999.0,1,       0,2,     -999.0,1,     4.9112,    26.8303
49NZ199905_1,       P01C,      92,1,17,17,2,19990908,354,47.0008,-145.8058,       4804,   349.9,2,   4.6789,2,  33.9389,2,   33.941,2,  -999.00,9,   86.64,2,   75.23,2,   39.08,2,    0.02,2,    2.63,2,   1.517,2,   0.824,2,    0.08,2,   0.0513,3,  -999.0,9,  -999.0,9,7.394,2, -999.00,1,     -76,2,     3.1,     -999.0,1,    64.3,2,     -999.0,1,     -999.0,1, -999.00,9,     -999.0,1,     4.6526,    26.8747
49NZ199905_1,       P01C,      92,1,16,16,2,19990908,354,47.0008,-145.8058,       4804,   400.4,2,   4.4655,2,   33.983,2,   33.988,6,  -999.00,9,    73.5,2,   82.61,2,   40.59,6,    0.03,2,    2.73,2,   1.144,2,   0.646,2,   0.059,2,   0.0429,3,  2287.6,2,  2305.4,2,7.377,2, -999.00,1,    -107,2,     2.8,     -999.0,1,    70.1,2,     -999.0,1,     -999.0,1, -999.00,9,     -999.0,1,     4.4359,    26.9355
49NZ199905_1,       P01C,      92,1,15,15,2,19990908,354,47.0008,-145.8058,       4804,   450.3,2,   4.3278,2,  34.0267,2,  34.0323,4,  -999.00,9,    61.4,2,   88.03,3,    41.5,3,    0.01,3,    2.81,3,    0.88,2,   0.508,2,   0.054,2,   0.0106,3,  -999.0,9,  -999.0,9,7.362,2, -999.00,1,  -111.5,2,     2.7,     -999.0,1,    73.4,2,     -999.0,1,     -999.0,1, -999.00,9,     -999.0,1,     4.2948,    26.9858
49NZ199905_1,       P01C,      92,1,14,14,2,19990908,354,47.0008,-145.8058,       4804,   500.2,2,   4.2061,2,  34.0721,2,  34.0739,2,  -999.00,9,   52.62,2,   93.56,2,    42.3,2,       0,2,    2.86,2,   0.623,2,   0.369,2,   0.029,2,        0,3,  -999.0,9,  -999.0,9,7.353,2, -999.00,1,  -126.4,2,     2.4,     -999.0,1,    76.9,2,     -999.0,1,     -999.0,1, -999.00,9,     -999.0,1,     4.1697,     27.032
49NZ199905_1,       P01C,      92,1,13,13,2,19990908,354,47.0008,-145.8058,       4804,   600.4,2,   3.9049,2,  34.1511,2,  34.1515,2,  -999.00,9,   35.35,2,  104.94,2,   43.92,2,       0,2,    2.96,2,   0.307,2,     0.2,2,   0.014,2,        0,3,  2335.4,2,  2351.4,4,7.336,2, -999.00,1,  -150.4,2,       3,     -999.0,1,    80.7,2,     -999.0,1,     -999.0,1, -999.00,9,     -999.0,1,     3.8621,    27.1253
49NZ199905_1,       P01C,      92,2,12,12,2,19990908,533,46.9957,-145.8055,       4779,   800.7,2,   3.3924,2,  34.2674,2,  34.2666,2,  -999.00,9,      19,2,  124.14,2,   45.45,2,       0,2,    3.08,2,   0.089,2,   0.029,2,       0,2,        0,3,  2363.5,2,  -999.0,9,7.321,2, -999.00,1,  -180.5,2,     2.7,     -999.0,1,    93.1,2,     -999.0,1,     -999.0,1, -999.00,9,     -999.0,1,     3.3371,    27.2684
49NZ199905_1,       P01C,      92,2,11,11,2,19990908,533,46.9957,-145.8055,       4779,   999.9,2,   3.0079,2,  34.3543,2,  34.3543,6,  -999.00,9,   15.65,2,  138.02,2,   45.91,2,       0,2,    3.12,2,    0.05,2,   0.012,2,       0,2,        0,3,  2379.9,2,  2366.2,2,7.316,2, -999.00,1,  -207.6,2,     2.6,     -999.0,1,   104.7,2,     -999.0,1,     -999.0,1, -999.00,9,     -999.0,1,     2.9402,    27.3751
49NZ199905_1,       P01C,      92,2,10,10,2,19990908,533,46.9957,-145.8055,       4779,  1249.2,2,   2.6295,2,   34.442,2,  34.4428,2,  -999.00,9,   14.26,2,  151.56,2,   46.25,2,       0,2,    3.12,2,   0.009,2,       0,2,       0,2,   0.0014,3,  2398.8,2,    2381,2,7.33,2, -999.00,1,  -223.1,2,     2.6,     -999.0,1,   112.2,2,     -999.0,1,     -999.0,1, -999.00,9,     -999.0,1,      2.546,    27.4805
49NZ199905_1,       P01C,      92,2,9,9,2,19990908,533,46.9957,-145.8055,       4779,  1500.1,2,   2.3344,2,   34.501,2,  34.5027,2,  -999.00,9,   21.43,2,  160.35,2,   46.05,2,       0,2,    3.07,2,   0.009,2,       0,2,       0,2,   0.0077,3,  2402.8,2,  2393.3,2,7.346,2, -999.00,1,  -231.7,2,       3,     -999.0,1,   121.5,2,     -999.0,1,     -999.0,1, -999.00,9,     -999.0,1,     2.2344,    27.5545
49NZ199905_1,       P01C,      92,2,8,8,2,19990908,533,46.9957,-145.8055,       4779,  1750.8,2,   2.1209,2,  34.5467,2,  34.5466,2,  -999.00,9,   36.38,2,  166.59,2,   45.17,6,       0,2,    3.02,2,       0,2,       0,2,       0,2,        0,3,  -999.0,9,  -999.0,9,7.372,2, -999.00,1,  -242.5,2,       3,     -999.0,1,   127.9,2,     -999.0,1,     -999.0,1, -999.00,9,     -999.0,1,     2.0035,    27.6082
49NZ199905_1,       P01C,      92,2,7,7,2,19990908,533,46.9957,-145.8055,       4779,  2001.2,2,   1.9432,2,  34.5833,2,  34.5826,2,  -999.00,9,   53.72,2,  168.71,2,   43.99,2,    0.01,2,    2.94,2,   0.007,2,   0.003,2,       0,2,        0,3,  2393.6,2,  2402.1,2,7.404,2, -999.00,1,  -243.1,2,     2.5,     -999.0,1,   130.6,2,     -999.0,1,     -999.0,1, -999.00,9,     -999.0,1,     1.8077,    27.6523
49NZ199905_1,       P01C,      92,2,6,6,2,19990908,533,46.9957,-145.8055,       4779,  2500.2,2,   1.7051,2,  34.6294,2,  34.6293,6,  -999.00,9,   84.78,2,  169.44,2,   41.92,2,    0.01,2,    2.79,2,   0.004,2,   0.007,2,       0,2,-999.0000,9,  -999.0,9,  -999.0,9,7.461,2, -999.00,1,  -242.8,2,     2.2,     -999.0,1,   135.3,2,     -999.0,1,     -999.0,1, -999.00,9,     -999.0,1,     1.5304,    27.7105
49NZ199905_1,       P01C,      92,2,5,5,2,19990908,533,46.9957,-145.8055,       4779,    3000,2,   1.5642,2,  34.6566,2,  34.6584,4,  -999.00,9,  110.59,2,  168.45,3,   40.26,3,    0.01,3,    2.68,3,   0.007,4,       0,4,   0.002,4,-999.0000,9,  2352.4,3,    2413,3,7.507,2, -999.00,1,  -238.8,2,     2.2,     -999.0,1,     142,2,     -999.0,1,     -999.0,1, -999.00,9,     -999.0,1,      1.346,    27.7471
49NZ199905_1,       P01C,      92,2,4,4,2,19990908,533,46.9957,-145.8055,       4779,  3501.4,2,    1.497,2,  34.6728,2,  34.6716,2,  -999.00,9,  128.71,2,  166.34,2,   38.87,2,    0.01,2,    2.57,2,       0,2,   0.003,2,       0,2,-999.0000,9,  -999.0,9,  -999.0,9,7.536,2, -999.00,1,    -238,2,     2.9,     -999.0,1,   144.7,2,     -999.0,1,     -999.0,1, -999.00,9,     -999.0,1,     1.2308,    27.7658
49NZ199905_1,       P01C,      92,2,3,3,2,19990908,533,46.9957,-145.8055,       4779,  4000.3,2,    1.492,2,  34.6811,2,  34.6781,4,  -999.00,9,  137.97,2,  166.92,3,   38.29,3,    0.01,3,    2.52,3,   0.006,4,       0,4,       0,4,-999.0000,9,  2345.7,3,    2416,3,7.554,2, -999.00,1,  -225.7,2,     2.5,     -999.0,1,   147.4,2,     -999.0,1,     -999.0,1, -999.00,9,     -999.0,1,     1.1733,     27.775
49NZ199905_1,       P01C,      92,2,2,2,2,19990908,533,46.9957,-145.8055,       4779,  4501.3,2,   1.5312,2,  34.6846,2,  34.6851,2,  -999.00,9,   140.7,2,  169.63,2,    38.3,2,       0,2,    2.52,2,       0,2,   0.005,2,       0,2,-999.0000,9,  -999.0,9,  -999.0,9,7.569,2, -999.00,1,  -225.8,2,     3.4,     -999.0,1,   152.9,2,     -999.0,1,     -999.0,1, -999.00,9,     -999.0,1,      1.155,    27.7819
49NZ199905_1,       P01C,      92,2,1,1,2,19990908,533,46.9957,-145.8055,       4779,  4882.2,2,   1.5684,2,   34.686,2,   34.686,6,  -999.00,9,  141.66,2,  170.66,2,   38.19,2,    0.02,2,    2.51,2,   0.013,3,       0,2,       0,2,-999.0000,9,  -999.0,9,  -999.0,9,7.573,2, -999.00,1,  -216.6,2,     2.6,     -999.0,1,     153,2,     -999.0,1,     -999.0,1, -999.00,9,     -999.0,1,     1.1461,    27.7832