BOTTLE,20231018CCHSIOENA
EXPOCODE,SECT_ID,STNNBR,CASTNO,SAMPNO,BTLNBR,BTLNBR_FLAG_W,DATE,TIME,LATITUDE,LONGITUDE,DEPTH,CTDPRS,CTDPRS_FLAG_W,CTDTMP,CTDTMP_FLAG_W,CTDSAL,CTDSAL_FLAG_W,SALNTY,SALNTY_FLAG_W,CTDOXY,CTDOXY_FLAG_W,OXYGEN,OXYGEN_FLAG_W,SILCAT,SILCAT_FLAG_W,NITRAT,NITRAT_FLAG_W,NITRIT,NITRIT_FLAG_W,PHSPHT,PHSPHT_FLAG_W,CFC-11,CFC-11_FLAG_W,CFC-12,CFC-12_FLAG_W,CFC113,CFC113_FLAG_W,SF6,SF6_FLAG_W,TCARBN,TCARBN_FLAG_W,ALKALI,ALKALI_FLAG_W,PH_SWS,PH_SWS_FLAG_W,DELC13,DELC13_FLAG_W,DELC14,DELC14_FLAG_W,C14ERR,NI,NI_FLAG_W,BARIUM,BARIUM_FLAG_W,CU,CU_FLAG_W,TOC,TOC_FLAG_W,CHLORA,CHLORA_FLAG_W,CALCIUM,CALCIUM_FLAG_W,THETA,SIG0
,,,,,,,,,,,METERS,DBAR,,ITS-90,,PSS-78,,PSS-78,,UMOL/KG,,UMOL/KG,,UMOL/KG,,UMOL/KG,,UMOL/KG,,UMOL/KG,,PMOL/KG,,PMOL/KG,,PMOL/KG,,FMOL/KG,,UMOL/KG,,UMOL/KG,,,,/MILLE,,/MILLE,,/MILLE,UMOL/L,,NMOL/KG,,UMOL/L,,UMOL/L,,UG/KG,,MMOL/KG,,ITS-90,KG/M^3
49NZ199905_1,       P01C,      10,2,5,5,2,19990825,922,41.8708,146.3133,       6840,  3499.7,2,   1.4625,2,   33.637,2,  34.6747,2,   137.79,2,  144.22,2,  141.54,3,   35.55,3,       0,3,    2.37,3,-999.000,9,-999.000,9,-999.000,9,-999.0000,9,  -999.0,9,  -999.0,9,-999.0,9, -999.00,9,  -999.0,9,  -999.0,     -999.0,9,  -999.0,9,     -999.0,9,     -999.0,1, -999.00,9,     -999.0,9,     1.1973,    27.7706
49NZ199905_1,       P01C,      10,2,4,4,2,19990825,922,41.8708,146.3133,       6840,  3999.7,2,   1.4499,2,  33.6401,2,   34.683,2,   147.22,2,  154.52,2,  138.88,3,   35.07,3,       0,3,    2.34,3,-999.000,9,-999.000,9,-999.000,9,-999.0000,9,  -999.0,9,  -999.0,9,-999.0,9, -999.00,9,  -999.0,9,  -999.0,     -999.0,9,  -999.0,9,     -999.0,9,     -999.0,1, -999.00,9,     -999.0,9,     1.1324,    27.7817
49NZ199905_1,       P01C,      10,2,3,3,2,19990825,922,41.8708,146.3133,       6840,  4501.6,2,   1.4653,2,  33.6405,2,  34.6881,2,   154.43,2,  159.74,2,  137.36,3,   34.85,3,       0,3,    2.33,3,-999.000,9,-999.000,9,-999.000,9,-999.0000,9,  -999.0,9,  -999.0,9,-999.0,9, -999.00,9,  -999.0,9,  -999.0,     -999.0,9,  -999.0,9,     -999.0,9,     -999.0,1, -999.00,9,     -999.0,9,     1.0911,    27.7886
49NZ199905_1,       P01C,      10,2,2,2,2,19990825,922,41.8708,146.3133,       6840,  4999.3,2,   1.5057,2,  33.6389,2,  34.4477,2,   159.37,2,   54.14,2,  140.39,4,   41.47,4,       0,4,    2.84,4,-999.000,9,-999.000,9,-999.000,9,-999.0000,9,  -999.0,9,  -999.0,9,-999.0,9, -999.00,9,  -999.0,9,  -999.0,     -999.0,9,  -999.0,9,     -999.0,9,     -999.0,9, -999.00,9,     -999.0,9,     1.0731,    27.5965
49NZ199905_1,       P01C,      10,2,1,1,2,19990825,922,41.8708,146.3133,       6840,  5999.7,2,   1.6229,2,  33.6331,2,-999.0000,9,   156.55,2, -999.00,9, -999.00,9, -999.00,9, -999.00,9, -999.00,9,-999.000,9,-999.000,9,-999.000,9,-999.0000,9,  -999.0,9,  -999.0,9,-999.0,9, -999.00,9,  -999.0,9,  -999.0,     -999.0,9,  -999.0,9,     -999.0,9,     -999.0,9, -999.00,9,     -999.0,9,     -999.0,     -999.0
49NZ199905_1,       P01C,      74,1,12,12,2,19990903,558,47.0067,-165.9523,       5326,    50.2,2,   7.3087,2,  32.7496,2,    32.76,2,  -999.00,9,  299.76,2,   18.78,2,   13.91,6,    0.18,2,    1.34,2,   4.154,2,   2.366,2,   0.326,2,   0.3745,3,  2056.1,2,  2213.9,2,7.754,2, -999.00,1,  -999.0,9,  -999.0,     -999.0,9,    57.7,2,     -999.0,9,     -999.0,1,    0.15,2,     -999.0,1,     7.3041,    25.6135
49NZ199905_1,       P01C,      74,1,11,11,2,19990903,558,47.0067,-165.9523,       5326,    99.8,2,   4.6748,2,  32.8405,2,  32.8479,2,  -999.00,9,  307.22,2,   22.01,2,   18.24,2,    0.03,2,    1.49,2,   4.566,2,    2.57,2,   0.361,2,   0.5074,3,  2077.1,2,  2213.8,2,7.71,2, -999.00,1,  -999.0,9,  -999.0,     -999.0,9,    55.4,2,     -999.0,9,     -999.0,1,    0.03,2,     -999.0,1,     4.6677,    26.0057
49NZ199905_1,       P01C,      74,1,10,10,2,19990903,558,47.0067,-165.9523,       5326,   199.1,2,   4.8436,2,  33.7558,2,  33.7597,2,  -999.00,9,  154.64,2,   56.26,2,   32.24,2,    0.01,2,    2.29,2,    2.85,2,   1.586,2,   0.173,2,   0.1792,3,  2218.5,2,  2270.4,2,7.498,2, -999.00,1,  -999.0,9,  -999.0,     -999.0,9,  -999.0,9,     -999.0,9,     -999.0,1,       0,2,     -999.0,1,     4.8287,    26.7114
49NZ199905_1,       P01C,      74,1,9,9,2,19990903,558,47.0067,-165.9523,       5326,   400.2,2,   3.9342,2,  33.9836,2,  33.9853,6,  -999.00,9,   60.66,2,   93.32,2,    42.1,2,    0.01,2,    2.94,2,   1.168,2,   0.689,2,   0.072,2,   0.0472,3,  2313.8,2,  2307.2,2,7.382,2, -999.00,1,  -999.0,9,  -999.0,     -999.0,9,    78.5,2,     -999.0,9,     -999.0,1, -999.00,9,     -999.0,1,     3.9063,    26.9886
49NZ199905_1,       P01C,      74,1,8,8,2,19990903,558,47.0067,-165.9523,       5326,   600.2,2,   3.6544,2,  34.1818,2,  34.1834,2,  -999.00,9,   36.13,2,  115.53,2,   43.52,2,    0.01,2,    3.05,2,   0.354,2,   0.217,2,   0.022,2,        0,3,  2347.4,2,  2337.6,2,7.346,2, -999.00,1,  -999.0,9,  -999.0,     -999.0,9,    91.2,2,     -999.0,9,     -999.0,1, -999.00,9,     -999.0,1,     3.6128,    27.1755
49NZ199905_1,       P01C,      74,1,7,7,4,19990903,558,47.0067,-165.9523,       5326,   800.4,2,   3.2335,2,  34.3022,2,  33.2289,4,  -999.00,9,  207.71,4,   50.58,4,   24.23,4,    0.12,4,    1.91,4,   2.747,4,   1.628,4,   0.217,4,   0.3387,3,  2142.6,4,  2250.4,4,7.625,4, -999.00,5,  -999.0,9,  -999.0,     -999.0,9,    70.9,4,     -999.0,9,     -999.0,5, -999.00,9,     -999.0,5,     3.1807,    26.4554
49NZ199905_1,       P01C,      74,1,6,6,2,19990903,558,47.0067,-165.9523,       5326,   999.8,2,   2.8781,2,  34.3802,2,  34.3839,2,  -999.00,9,   26.34,2,  144.85,2,   44.77,2,    0.01,2,    3.13,2,   0.033,2,   0.032,2,   0.006,2,        0,3,  2384.2,2,  2369.6,2,7.342,2, -999.00,1,  -999.0,9,  -999.0,     -999.0,9,     108,2,     -999.0,9,     -999.0,1, -999.00,9,     -999.0,1,     2.8114,    27.4103
49NZ199905_1,       P01C,      74,1,5,5,2,19990903,558,47.0067,-165.9523,       5326,    1500,2,   2.2978,2,  34.5074,2,  34.5088,6,  -999.00,9,   34.34,2,  163.48,2,   44.68,2,    0.01,2,     3.1,2,    0.01,2,   0.004,2,       0,2,        0,3,  2395.8,2,  2393.8,2,7.368,2, -999.00,1,  -999.0,9,  -999.0,     -999.0,9,   126.2,2,     -999.0,9,     -999.0,1, -999.00,9,     -999.0,1,     2.1982,    27.5623
49NZ199905_1,       P01C,      74,1,4,4,2,19990903,558,47.0067,-165.9523,       5326,  2000.4,2,   1.9538,2,  34.5834,2,  34.5832,2,  -999.00,9,   57.93,2,  170.61,2,   43.37,6,    0.01,2,    2.98,2,       0,2,       0,2,       0,2,   0.0028,3,  2386.5,2,  2406.5,2,7.416,2, -999.00,1,  -999.0,9,  -999.0,     -999.0,9,   136.5,2,     -999.0,9,     -999.0,1, -999.00,9,     -999.0,1,     1.8182,    27.6519
49NZ199905_1,       P01C,      74,1,3,3,2,19990903,558,47.0067,-165.9523,       5326,  2999.8,2,   1.5844,2,  34.6556,2,  34.6547,2,  -999.00,9,  113.51,2,   166.4,2,   39.64,2,    0.02,2,    2.73,2,       0,2,       0,2,       0,2,        0,3,  2359.4,2,  2410.4,2,7.516,2, -999.00,1,  -999.0,9,  -999.0,     -999.0,9,   142.8,2,     -999.0,9,     -999.0,1, -999.00,9,     -999.0,1,     1.3658,    27.7427
49NZ199905_1,       P01C,      74,1,2,2,4,19990903,558,47.0067,-165.9523,       5326,  4001.4,2,   1.4695,2,  34.6831,2,  33.1758,4,  -999.00,9,  215.57,4,   49.07,4,   23.03,4,    0.11,4,    1.83,4,   2.736,4,   1.668,4,   0.214,4,   0.3588,3,  2128.6,4,  2251.2,4,7.657,4, -999.00,5,  -999.0,9,  -999.0,     -999.0,9,    65.8,4,     -999.0,9,     -999.0,5, -999.00,9,     -999.0,5,     1.1609,    26.5685
49NZ199905_1,       P01C,      74,1,1,1,2,19990903,558,47.0067,-165.9523,       5326,  5428.8,2,    1.592,2,  34.6895,2,  34.6893,2,  -999.00,9,  153.74,2,  163.51,2,   36.97,2,    0.01,2,     2.5,2,   0.005,2,   0.002,2,   0.001,2,   0.0069,3,  2329.7,2,  2412.4,2,7.587,2, -999.00,1,  -999.0,9,  -999.0,     -999.0,9,   148.5,2,     -999.0,9,     -999.0,9, -999.00,9,     -999.0,9,     1.1011,    27.7889
49NZ199905_1,       P01C,     X15,1,24,24,2,19990903,1417,47.0017,-164.9883,       5227,     9.8,2,  12.1816,2,  32.4671,2,   32.476,2,  -999.00,9,  275.43,2,   19.49,2,   11.74,2,    0.13,2,    1.11,2,   2.958,2,   1.903,2,   0.226,2,   0.4508,3,  1996.7,2,  2193.7,2,7.828,2, -999.00,1,    -6.1,2,     3.4,     -999.0,1,    56.6,2,     -999.0,1,     -999.0,1,    0.36,2,     -999.0,1,    12.1804,    24.5962
49NZ199905_1,       P01C,     X15,1,23,23,2,19990903,1417,47.0017,-164.9883,       5227,    50.3,2,   7.0884,2,  32.7515,2,  32.7621,2,  -999.00,9,  304.41,2,      22,2,    14.5,6,    0.17,2,    1.39,2,   4.122,2,   2.415,2,   0.346,2,   0.4747,3,  2053.7,2,  2211.6,2,7.753,2, -999.00,1,    -5.6,2,     3.6,     -999.0,1,    55.7,2,     -999.0,1,     -999.0,1,    0.09,2,     -999.0,1,     7.0839,    25.6451
49NZ199905_1,       P01C,     X15,1,22,22,2,19990903,1417,47.0017,-164.9883,       5227,   100.3,2,    4.415,2,  32.8279,2,  32.8455,4,  -999.00,9,  303.82,2,   23.09,3,   17.89,3,       0,3,     1.5,3,   4.524,4,   2.575,4,   0.356,4,   0.5036,3,  2075.5,3,  2213.1,3,7.696,2, -999.00,1,   -13.8,2,       4,     -999.0,1,    53.5,2,     -999.0,1,     -999.0,1,    0.01,2,     -999.0,1,     4.4081,    26.0312
49NZ199905_1,       P01C,     X15,1,21,21,2,19990903,1417,47.0017,-164.9883,       5227,   149.6,2,   4.6129,2,  33.6296,2,  33.6443,2,  -999.00,9,  151.04,2,   55.66,2,    32.6,2,       0,2,    2.35,2,   2.997,2,   1.697,2,   0.189,2,   0.2973,3,  2205.5,2,    2264,2,7.471,2, -999.00,1,   -37.1,2,     2.8,     -999.0,1,    57.8,2,     -999.0,1,     -999.0,1,    0.01,2,     -999.0,1,      4.602,    26.6447
49NZ199905_1,       P01C,     X15,1,20,20,2,19990903,1417,47.0017,-164.9883,       5227,   200.2,2,    4.201,2,  33.7781,2,  33.7854,2,  -999.00,9,  111.04,2,    69.9,2,   36.96,2,       0,2,    2.61,2,   2.338,2,   1.357,2,   0.144,2,   0.2634,3,  2240.9,2,  2282.3,2,7.4,2, -999.00,1,   -72.9,2,       3,     -999.0,1,    64.3,2,     -999.0,1,     -999.0,1,       0,2,     -999.0,1,      4.187,    26.8009
49NZ199905_1,       P01C,     X15,1,19,19,2,19990903,1417,47.0017,-164.9883,       5227,   250.1,2,    4.061,2,  33.8456,2,  33.8545,2,  -999.00,9,   89.33,2,   77.99,2,   39.01,2,       0,2,    2.74,2,   1.935,2,   1.105,2,   0.108,2,   0.2858,3,  2262.5,2,  2292.8,2,7.37,2, -999.00,1,   -76.1,2,       3,     -999.0,1,    67.1,2,     -999.0,1,     -999.0,1,       0,2,     -999.0,1,     4.0437,    26.8706
49NZ199905_1,       P01C,     X15,1,18,18,2,19990903,1417,47.0017,-164.9883,       5227,   300.5,2,    3.988,2,  33.9082,2,  33.9115,2,  -999.00,9,   71.58,2,    83.7,2,   40.51,2,       0,2,    2.83,2,    1.57,2,   0.909,2,   0.088,2,   0.2201,3,  2274.3,2,  2297.4,2,7.352,2, -999.00,1,   -94.9,2,     4.1,     -999.0,1,      72,2,     -999.0,1,     -999.0,1,       0,2,     -999.0,1,     3.9672,    26.9237
49NZ199905_1,       P01C,     X15,1,17,17,2,19990903,1417,47.0017,-164.9883,       5227,   352.6,2,   3.9272,2,  33.9681,2,  33.9712,2,  -999.00,9,   58.97,2,   90.07,2,   41.46,2,       0,2,    2.91,2,   1.235,2,   0.732,2,   0.067,2,   0.0517,3,    2303,2,  2304.1,2,7.343,2, -999.00,1,  -112.3,2,     2.5,     -999.0,1,    76.1,2,     -999.0,1,     -999.0,1, -999.00,9,     -999.0,1,     3.9028,    26.9777
49NZ199905_1,       P01C,     X15,1,16,16,2,19990903,1417,47.0017,-164.9883,       5227,   399.8,2,   3.9032,2,  34.0205,2,  34.0263,6,  -999.00,9,   51.88,2,   95.74,2,   41.79,6,       0,2,    2.94,2,   0.937,2,   0.595,2,   0.049,2,   0.0216,3,  2305.1,2,  2313.8,2,7.335,2, -999.00,1,  -119.6,2,     2.8,     -999.0,1,    78.1,2,     -999.0,1,     -999.0,1, -999.00,9,     -999.0,1,     3.8754,    27.0243
49NZ199905_1,       P01C,     X15,1,15,15,2,19990903,1417,47.0017,-164.9883,       5227,   450.7,2,   3.8513,2,  34.0697,2,  34.0766,2,  -999.00,9,    45.7,2,    99.7,2,   42.33,2,       0,2,    2.96,3,   0.742,2,   0.456,2,   0.044,2,   0.0171,3,  2314.1,2,  2323.3,2,7.337,2, -999.00,1,  -131.8,2,     3.4,     -999.0,1,    80.6,2,     -999.0,1,     -999.0,1, -999.00,9,     -999.0,1,     3.8199,    27.0699
49NZ199905_1,       P01C,     X15,1,14,14,2,19990903,1417,47.0017,-164.9883,       5227,   499.2,2,   3.7773,2,  34.1217,2,  34.1258,2,  -999.00,9,   40.13,2,  105.79,2,   42.65,2,       0,2,       3,2,   0.533,2,   0.339,2,   0.031,2,   0.0015,3,  2327.3,2,  2329.4,2,7.338,2, -999.00,1,  -152.6,2,       3,     -999.0,1,    86.1,2,     -999.0,1,     -999.0,1, -999.00,9,     -999.0,1,     3.7426,    27.1168
49NZ199905_1,       P01C,     X15,1,13,13,2,19990903,1417,47.0017,-164.9883,       5227,   599.7,2,    3.583,2,  34.1958,2,  34.1944,2,  -999.00,9,   33.04,2,  114.61,2,   43.11,2,       0,2,    3.03,2,   0.323,2,   0.204,2,   0.016,2,   0.0052,3,  2331.5,2,  2337.2,2,7.336,2, -999.00,1,  -164.2,2,     2.5,     -999.0,1,    88.9,2,     -999.0,1,     -999.0,1, -999.00,9,     -999.0,1,     3.5417,    27.1912
49NZ199905_1,       P01C,     X15,2,12,12,2,19990903,1624,47.0075,-164.9857,       5332,     800,2,   3.2409,2,  34.3021,2,  34.3044,2,  -999.00,9,   28.78,2,  128.36,2,   43.45,2,    0.03,2,    3.06,2,    0.12,2,   0.064,2,   0.002,2,        0,3,  2364.6,2,  2358.5,2,7.344,2, -999.00,1,  -191.1,2,     2.6,     -999.0,1,    97.6,2,     -999.0,1,     -999.0,1, -999.00,9,     -999.0,1,     3.1866,    27.3127
49NZ199905_1,       P01C,     X15,2,11,11,2,19990903,1624,47.0075,-164.9857,       5332,   998.8,2,   2.9126,2,  34.3746,2,  34.3758,6,  -999.00,9,   25.17,2,  140.07,2,   44.05,2,       0,2,     3.1,2,   0.048,2,   0.034,2,   0.002,2,        0,3,  2345.7,4,  2369.6,2,7.348,2, -999.00,1,  -215.5,2,     2.2,     -999.0,1,   106.3,2,     -999.0,1,     -999.0,1, -999.00,9,     -999.0,1,     2.8457,    27.4008
49NZ199905_1,       P01C,     X15,2,10,10,2,19990903,1624,47.0075,-164.9857,       5332,  1251.1,2,   2.5422,2,  34.4533,2,  34.4555,2,  -999.00,9,   27.73,2,  152.28,2,   44.21,2,       0,2,     3.1,2,   0.024,2,   0.022,2,   0.001,2,   0.0008,3,  2391.9,3,  2387.1,3,7.356,2, -999.00,1,  -228.6,2,     2.5,     -999.0,1,   113.1,2,     -999.0,1,     -999.0,1, -999.00,9,     -999.0,1,     2.4593,     27.498
49NZ199905_1,       P01C,     X15,2,9,9,2,19990903,1624,47.0075,-164.9857,       5332,  1500.2,2,   2.3126,2,  34.5048,2,  34.5056,2,  -999.00,9,   30.08,2,  160.32,2,   44.26,2,       0,2,    3.08,2,   0.013,2,   0.014,2,       0,2,        0,3,  2388.9,2,  2394.5,2,7.369,2, -999.00,1,  -236.8,2,     2.5,     -999.0,1,   121.8,2,     -999.0,1,     -999.0,1, -999.00,9,     -999.0,1,     2.2128,    27.5585
49NZ199905_1,       P01C,     X15,2,8,8,2,19990903,1624,47.0075,-164.9857,       5332,  1750.2,2,   2.1235,2,  34.5472,2,  34.5488,2,  -999.00,9,   39.77,2,  166.51,2,   43.67,6,       0,2,    3.01,2,   0.008,2,   0.001,2,       0,2,   0.0027,3,  2389.6,2,  2401.6,2,7.388,2, -999.00,1,  -233.4,2,     2.6,     -999.0,1,   127.2,2,     -999.0,1,     -999.0,1, -999.00,9,     -999.0,1,     2.0061,    27.6097
49NZ199905_1,       P01C,     X15,2,7,7,2,19990903,1624,47.0075,-164.9857,       5332,  1999.8,2,   1.9602,2,  34.5832,2,  34.5849,2,  -999.00,9,   51.33,2,  170.28,2,   43.11,2,       0,2,    2.97,2,   0.007,2,   0.007,2,   0.001,2,   0.0028,3,    2389,2,  2409.9,2,7.413,2, -999.00,1,  -244.2,2,     2.4,     -999.0,1,   132.3,2,     -999.0,1,     -999.0,1, -999.00,9,     -999.0,1,     1.8245,    27.6528
49NZ199905_1,       P01C,     X15,2,6,6,2,19990903,1624,47.0075,-164.9857,       5332,  2499.9,2,   1.7305,2,  34.6281,2,   34.628,6,  -999.00,9,   85.04,2,  169.97,2,   41.01,2,       0,2,    2.83,2,   0.009,2,   0.002,2,       0,2,-999.0000,9,  2368.5,2,  2411.8,2,7.47,2, -999.00,1,  -239.5,2,     2.4,     -999.0,1,   139.5,2,     -999.0,1,     -999.0,1, -999.00,9,     -999.0,1,     1.5553,    27.7076
49NZ199905_1,       P01C,     X15,2,5,5,2,19990903,1624,47.0075,-164.9857,       5332,  2999.8,2,   1.5872,2,  34.6552,2,  34.6557,2,  -999.00,9,  112.64,2,  164.97,2,   38.99,2,       0,2,    2.69,2,   0.004,2,       0,2,   0.001,2,-999.0000,9,  2354.8,2,  2410.3,2,7.516,2, -999.00,1,  -999.0,9,  -999.0,     -999.0,1,   141.3,2,     -999.0,1,     -999.0,1, -999.00,9,     -999.0,1,     1.3686,    27.7433
49NZ199905_1,       P01C,     X15,2,4,4,2,19990903,1624,47.0075,-164.9857,       5332,  3500.1,2,   1.5027,2,  34.6726,2,  34.6716,2,  -999.00,9,  134.58,2,  159.21,2,   37.51,2,       0,2,    2.58,2,       0,2,   0.007,2,       0,2,-999.0000,9,  2340.8,2,  2408.9,2,7.552,2, -999.00,1,  -235.7,2,     2.1,     -999.0,1,   142.8,2,     -999.0,1,     -999.0,1, -999.00,9,     -999.0,1,     1.2365,    27.7654
49NZ199905_1,       P01C,     X15,2,3,3,2,19990903,1624,47.0075,-164.9857,       5332,  3999.2,2,   1.4703,2,  34.6832,2,  34.6832,2,  -999.00,9,  146.35,2,  157.86,2,   36.74,2,       0,2,    2.52,2,       0,2,       0,2,   0.002,2,-999.0000,9,  2334.7,2,  2412.2,2,7.572,2, -999.00,1,  -228.3,2,     2.2,     -999.0,1,   144.5,2,     -999.0,1,     -999.0,1, -999.00,9,     -999.0,1,     1.1523,    27.7805
49NZ199905_1,       P01C,     X15,2,2,2,4,19990903,1624,47.0075,-164.9857,       5332,  4501.6,2,   1.4941,2,  34.6873,2,  34.6427,4,  -999.00,9,  103.94,4,  166.04,4,   39.77,4,       0,4,    2.74,4,       0,4,       0,4,   0.001,4,-999.0000,9,  2368.5,4,  2411.4,4,7.499,4, -999.00,5,  -230.4,2,     2.5,     -999.0,1,   140.6,4,     -999.0,1,     -999.0,1, -999.00,9,     -999.0,5,     1.1194,    27.7502
49NZ199905_1,       P01C,     X15,2,1,1,2,19990903,1624,47.0075,-164.9857,       5332,  5413.5,2,   1.5911,2,  34.6896,2,  34.6891,2,  -999.00,9,   153.7,2,  160.21,2,   36.27,2,       0,2,    2.47,2,   0.001,2,   0.008,2,       0,2,-999.0000,9,  2338.4,2,    2414,2,7.585,2, -999.00,1,  -207.4,2,     2.9,     -999.0,1,   148.9,2,     -999.0,1,     -999.0,1, -999.00,9,     -999.0,1,     1.1022,    27.7887