BOTTLE,20231018CCHSIOENA
EXPOCODE,SECT_ID,STNNBR,CASTNO,SAMPNO,BTLNBR,BTLNBR_FLAG_W,DATE,TIME,LATITUDE,LONGITUDE,DEPTH,CTDPRS,CTDPRS_FLAG_W,CTDTMP,CTDTMP_FLAG_W,CTDSAL,CTDSAL_FLAG_W,SALNTY,SALNTY_FLAG_W,CTDOXY,CTDOXY_FLAG_W,OXYGEN,OXYGEN_FLAG_W,SILCAT,SILCAT_FLAG_W,NITRAT,NITRAT_FLAG_W,NITRIT,NITRIT_FLAG_W,PHSPHT,PHSPHT_FLAG_W,CFC-11,CFC-11_FLAG_W,CFC-12,CFC-12_FLAG_W,CFC113,CFC113_FLAG_W,SF6,SF6_FLAG_W,TCARBN,TCARBN_FLAG_W,ALKALI,ALKALI_FLAG_W,PH_SWS,PH_SWS_FLAG_W,DELC13,DELC13_FLAG_W,DELC14,DELC14_FLAG_W,C14ERR,NI,NI_FLAG_W,BARIUM,BARIUM_FLAG_W,CU,CU_FLAG_W,TOC,TOC_FLAG_W,CHLORA,CHLORA_FLAG_W,CALCIUM,CALCIUM_FLAG_W,THETA,SIG0
,,,,,,,,,,,METERS,DBAR,,ITS-90,,PSS-78,,PSS-78,,UMOL/KG,,UMOL/KG,,UMOL/KG,,UMOL/KG,,UMOL/KG,,UMOL/KG,,PMOL/KG,,PMOL/KG,,PMOL/KG,,FMOL/KG,,UMOL/KG,,UMOL/KG,,,,/MILLE,,/MILLE,,/MILLE,UMOL/L,,NMOL/KG,,UMOL/L,,UMOL/L,,UG/KG,,MMOL/KG,,ITS-90,KG/M^3
49NZ199905_1,       P01C,       5,1,24,24,2,19990825,548,42.6497,145.6995,       2408,    10.1,2,  20.1557,2,   32.784,2,  32.7991,3,   197.93,2,  239.27,2,    1.69,3,       0,3,       0,3,    0.09,3,-999.000,9,-999.000,9,-999.000,9,-999.0000,9,  -999.0,9,  -999.0,9,-999.0,9, -999.00,9,  -999.0,9,  -999.0,     -999.0,9,  -999.0,9,     -999.0,9,     -999.0,9, -999.00,9,     -999.0,9,    20.1539,     23.045
49NZ199905_1,       P01C,       5,1,23,23,2,19990825,548,42.6497,145.6995,       2408,      50,2,    2.757,2,  32.9322,2,  32.9357,2,   288.91,2,  341.31,2,   17.34,2,    13.9,3,    0.28,2,    1.48,2,-999.000,9,-999.000,9,-999.000,9,-999.0000,9,  -999.0,9,  -999.0,9,-999.0,9, -999.00,9,  -999.0,9,  -999.0,     -999.0,9,  -999.0,9,     -999.0,9,     -999.0,9, -999.00,9,     -999.0,9,     2.7542,    26.2584
49NZ199905_1,       P01C,       5,1,22,22,2,19990825,548,42.6497,145.6995,       2408,   100.4,2,   1.2905,2,  33.1331,2,  33.1409,2,   251.81,2,  290.71,2,   42.58,2,   23.86,3,       0,2,    1.93,2,-999.000,9,-999.000,9,-999.000,9,-999.0000,9,  -999.0,9,  -999.0,9,-999.0,9, -999.00,9,  -999.0,9,  -999.0,     -999.0,9,  -999.0,9,     -999.0,9,     -999.0,9, -999.00,9,     -999.0,9,     1.2861,    26.5324
49NZ199905_1,       P01C,       5,1,21,21,2,19990825,548,42.6497,145.6995,       2408,   149.8,2,   1.7013,2,  33.2505,2,  33.2536,6,    236.4,2,  275.98,2,   47.35,2,   25.18,3,       0,2,    2.01,2,-999.000,9,-999.000,9,-999.000,9,-999.0000,9,  -999.0,9,  -999.0,9,-999.0,9, -999.00,9,  -999.0,9,  -999.0,     -999.0,9,  -999.0,9,     -999.0,9,     -999.0,9, -999.00,9,     -999.0,9,     1.6941,     26.595
49NZ199905_1,       P01C,       5,1,20,20,2,19990825,548,42.6497,145.6995,       2408,   202.3,2,   1.9063,2,  33.3663,2,  33.3574,4,   195.58,2,  230.85,2,   58.52,3,   29.11,3,       0,3,    2.27,3,-999.000,9,-999.000,9,-999.000,9,-999.0000,9,  -999.0,9,  -999.0,9,-999.0,9, -999.00,9,  -999.0,9,  -999.0,     -999.0,9,  -999.0,9,     -999.0,9,     -999.0,9, -999.00,9,     -999.0,9,     1.8961,    26.6635
49NZ199905_1,       P01C,       5,1,19,19,2,19990825,548,42.6497,145.6995,       2408,   250.8,2,   2.2897,2,  33.5124,2,  33.5067,2,   146.37,2,  179.16,2,   71.19,2,   33.25,3,       0,2,    2.53,2,-999.000,9,-999.000,9,-999.000,9,-999.0000,9,  -999.0,9,  -999.0,9,-999.0,9, -999.00,9,  -999.0,9,  -999.0,     -999.0,9,  -999.0,9,     -999.0,9,     -999.0,9, -999.00,9,     -999.0,9,     2.2761,    26.7539
49NZ199905_1,       P01C,       5,1,18,18,2,19990825,548,42.6497,145.6995,       2408,   299.5,2,   2.8547,2,  33.6626,2,    33.64,4,    110.6,2,  139.05,2,   79.16,3,   36.25,3,    0.01,3,    2.69,3,-999.000,9,-999.000,9,-999.000,9,-999.0000,9,  -999.0,9,  -999.0,9,-999.0,9, -999.00,9,  -999.0,9,  -999.0,     -999.0,9,  -999.0,9,     -999.0,9,     -999.0,9, -999.00,9,     -999.0,9,     2.8368,    26.8139
49NZ199905_1,       P01C,       5,1,17,17,2,19990825,548,42.6497,145.6995,       2408,   348.9,2,   3.1058,2,  33.7793,2,  33.7748,2,    81.24,2,  103.68,2,   87.72,2,   38.91,3,       0,2,    2.84,2,-999.000,9,-999.000,9,-999.000,9,-999.0000,9,  -999.0,9,  -999.0,9,-999.0,9, -999.00,9,  -999.0,9,  -999.0,     -999.0,9,  -999.0,9,     -999.0,9,     -999.0,9, -999.00,9,     -999.0,9,     3.0841,    26.8996
49NZ199905_1,       P01C,       5,1,16,16,2,19990825,548,42.6497,145.6995,       2408,   399.2,2,   3.3649,2,  33.9028,2,  33.8997,6,    51.97,2,   67.58,2,   98.36,2,   41.92,3,       0,2,    3.01,2,-999.000,9,-999.000,9,-999.000,9,-999.0000,9,  -999.0,9,  -999.0,9,-999.0,9, -999.00,9,  -999.0,9,  -999.0,     -999.0,9,  -999.0,9,     -999.0,9,     -999.0,9, -999.00,9,     -999.0,9,     3.3389,    26.9757
49NZ199905_1,       P01C,       5,1,15,15,2,19990825,548,42.6497,145.6995,       2408,   499.5,2,   3.1098,2,  33.9852,2,  34.0049,4,    39.66,2,   48.83,2,  110.51,3,   43.26,3,       0,3,     3.1,3,-999.000,9,-999.000,9,-999.000,9,-999.0000,9,  -999.0,9,  -999.0,9,-999.0,9, -999.00,9,  -999.0,9,  -999.0,     -999.0,9,  -999.0,9,     -999.0,9,     -999.0,9, -999.00,9,     -999.0,9,     3.0779,    27.0837
49NZ199905_1,       P01C,       5,1,14,14,2,19990825,548,42.6497,145.6995,       2408,   598.8,2,   3.3451,2,  34.1219,2,  34.1185,2,    25.13,2,   37.44,2,  117.83,2,   43.73,3,       0,2,    3.12,2,-999.000,9,-999.000,9,-999.000,9,-999.0000,9,  -999.0,9,  -999.0,9,-999.0,9, -999.00,9,  -999.0,9,  -999.0,     -999.0,9,  -999.0,9,     -999.0,9,     -999.0,9, -999.00,9,     -999.0,9,     3.3051,    27.1533
49NZ199905_1,       P01C,       5,1,13,13,2,19990825,548,42.6497,145.6995,       2408,   699.2,2,   3.2536,2,  34.2116,2,  34.2144,2,    21.26,2,   32.04,2,  126.78,2,   43.98,3,       0,2,    3.14,2,-999.000,9,-999.000,9,-999.000,9,-999.0000,9,  -999.0,9,  -999.0,9,-999.0,9, -999.00,9,  -999.0,9,  -999.0,     -999.0,9,  -999.0,9,     -999.0,9,     -999.0,9, -999.00,9,     -999.0,9,     3.2067,     27.239
49NZ199905_1,       P01C,       5,1,12,12,2,19990825,548,42.6497,145.6995,       2408,     800,2,   3.2227,2,  34.2934,2,  34.2942,2,     24.3,2,   37.21,2,  130.41,2,   43.63,3,       0,2,    3.09,2,-999.000,9,-999.000,9,-999.000,9,-999.0000,9,  -999.0,9,  -999.0,9,-999.0,9, -999.00,9,  -999.0,9,  -999.0,     -999.0,9,  -999.0,9,     -999.0,9,     -999.0,9, -999.00,9,     -999.0,9,     3.1685,    27.3062
49NZ199905_1,       P01C,       5,1,11,11,2,19990825,548,42.6497,145.6995,       2408,   898.6,2,   3.0801,2,  34.3418,2,  34.3427,6,    25.26,2,   38.17,2,  135.49,2,   43.54,3,       0,2,     3.1,2,-999.000,9,-999.000,9,-999.000,9,-999.0000,9,  -999.0,9,  -999.0,9,-999.0,9, -999.00,9,  -999.0,9,  -999.0,     -999.0,9,  -999.0,9,     -999.0,9,     -999.0,9, -999.00,9,     -999.0,9,     3.0195,    27.3587
49NZ199905_1,       P01C,       5,1,10,10,2,19990825,548,42.6497,145.6995,       2408,   998.8,2,   2.8573,2,  34.3744,2,  34.3749,2,    23.08,2,   38.17,2,  142.79,2,   43.73,3,       0,2,    3.13,2,-999.000,9,-999.000,9,-999.000,9,-999.0000,9,  -999.0,9,  -999.0,9,-999.0,9, -999.00,9,  -999.0,9,  -999.0,     -999.0,9,  -999.0,9,     -999.0,9,     -999.0,9, -999.00,9,     -999.0,9,     2.7908,    27.4049
49NZ199905_1,       P01C,       5,1,9,9,2,19990825,548,42.6497,145.6995,       2408,  1098.9,2,   2.6883,2,  34.4038,2,  34.4047,2,    22.78,2,   35.51,2,  148.56,2,   43.94,3,       0,2,    3.13,2,-999.000,9,-999.000,9,-999.000,9,-999.0000,9,  -999.0,9,  -999.0,9,-999.0,9, -999.00,9,  -999.0,9,  -999.0,     -999.0,9,  -999.0,9,     -999.0,9,     -999.0,9, -999.00,9,     -999.0,9,     2.6157,     27.444
49NZ199905_1,       P01C,       5,1,8,8,2,19990825,548,42.6497,145.6995,       2408,  1249.3,2,   2.5102,2,  34.4582,2,  34.4591,2,    27.86,2,   50.68,2,  153.41,2,   43.81,3,       0,2,    3.08,2,-999.000,9,-999.000,9,-999.000,9,-999.0000,9,  -999.0,9,  -999.0,9,-999.0,9, -999.00,9,  -999.0,9,  -999.0,     -999.0,9,  -999.0,9,     -999.0,9,     -999.0,9, -999.00,9,     -999.0,9,     2.4278,    27.5035
49NZ199905_1,       P01C,       5,1,7,7,2,19990825,548,42.6497,145.6995,       2408,  1499.3,2,   2.2806,2,  34.5204,2,  34.5557,4,    38.77,2,   67.76,2,  159.12,3,   42.79,3,       0,3,       3,3,-999.000,9,-999.000,9,-999.000,9,-999.0000,9,  -999.0,9,  -999.0,9,-999.0,9, -999.00,9,  -999.0,9,  -999.0,     -999.0,9,  -999.0,9,     -999.0,9,     -999.0,9, -999.00,9,     -999.0,9,     2.1812,    27.6012
49NZ199905_1,       P01C,       5,1,6,6,2,19990825,548,42.6497,145.6995,       2408,  1749.4,2,   2.1144,2,   34.557,2,  34.5574,2,     49.2,2,   64.71,2,  158.94,2,   42.82,3,       0,2,    3.01,2,-999.000,9,-999.000,9,-999.000,9,-999.0000,9,  -999.0,9,  -999.0,9,-999.0,9, -999.00,9,  -999.0,9,  -999.0,     -999.0,9,  -999.0,9,     -999.0,9,     -999.0,9, -999.00,9,     -999.0,9,     1.9972,    27.6173
49NZ199905_1,       P01C,       5,1,5,5,2,19990825,548,42.6497,145.6995,       2408,  1999.7,2,   1.9412,2,  34.5926,2,   34.593,2,    64.93,2,    84.4,2,  160.43,2,   41.75,3,       0,2,    2.93,2,-999.000,9,-999.000,9,-999.000,9,-999.0000,9,  -999.0,9,  -999.0,9,-999.0,9, -999.00,9,  -999.0,9,  -999.0,     -999.0,9,  -999.0,9,     -999.0,9,     -999.0,9, -999.00,9,     -999.0,9,     1.8058,    27.6607
49NZ199905_1,       P01C,       5,1,4,4,2,19990825,548,42.6497,145.6995,       2408,  2249.3,2,   1.7932,2,  34.6201,2,  34.6205,2,    82.57,2,   96.21,2,  159.57,2,   40.59,3,       0,2,    2.84,2,-999.000,9,-999.000,9,-999.000,9,-999.0000,9,  -999.0,9,  -999.0,9,-999.0,9, -999.00,9,  -999.0,9,  -999.0,     -999.0,9,  -999.0,9,     -999.0,9,     -999.0,9, -999.00,9,     -999.0,9,     1.6389,    27.6954
49NZ199905_1,       P01C,       5,1,3,3,2,19990825,548,42.6497,145.6995,       2408,  2249.9,2,   1.7932,2,    34.62,2,  34.6199,2,    82.57,2,   95.43,2,  160.01,2,   40.61,3,       0,2,    2.85,2,-999.000,9,-999.000,9,-999.000,9,-999.0000,9,  -999.0,9,  -999.0,9,-999.0,9, -999.00,9,  -999.0,9,  -999.0,     -999.0,9,  -999.0,9,     -999.0,9,     -999.0,9, -999.00,9,     -999.0,9,     1.6389,    27.6949
49NZ199905_1,       P01C,       5,1,2,2,2,19990825,548,42.6497,145.6995,       2408,  2249.4,2,   1.7923,2,  34.6201,2,  34.6199,2,    82.52,2,   95.74,2,  160.13,2,    40.6,3,       0,2,    2.84,2,-999.000,9,-999.000,9,-999.000,9,-999.0000,9,  -999.0,9,  -999.0,9,-999.0,9, -999.00,9,  -999.0,9,  -999.0,     -999.0,9,  -999.0,9,     -999.0,9,     -999.0,9, -999.00,9,     -999.0,9,      1.638,     27.695
49NZ199905_1,       P01C,       5,1,1,1,2,19990825,548,42.6497,145.6995,       2408,  2409.2,2,   1.7113,2,  34.6333,2,  34.6343,2,    92.47,2,  104.82,2,  160.81,2,   39.89,3,    0.01,2,    2.81,2,-999.000,9,-999.000,9,-999.000,9,-999.0000,9,  -999.0,9,  -999.0,9,-999.0,9, -999.00,9,  -999.0,9,  -999.0,     -999.0,9,  -999.0,9,     -999.0,9,     -999.0,9, -999.00,9,     -999.0,9,     1.5445,    27.7135