BOTTLE,20231018CCHSIOENA
EXPOCODE,SECT_ID,STNNBR,CASTNO,SAMPNO,BTLNBR,BTLNBR_FLAG_W,DATE,TIME,LATITUDE,LONGITUDE,DEPTH,CTDPRS,CTDPRS_FLAG_W,CTDTMP,CTDTMP_FLAG_W,CTDSAL,CTDSAL_FLAG_W,SALNTY,SALNTY_FLAG_W,CTDOXY,CTDOXY_FLAG_W,OXYGEN,OXYGEN_FLAG_W,SILCAT,SILCAT_FLAG_W,NITRAT,NITRAT_FLAG_W,NITRIT,NITRIT_FLAG_W,PHSPHT,PHSPHT_FLAG_W,CFC-11,CFC-11_FLAG_W,CFC-12,CFC-12_FLAG_W,CFC113,CFC113_FLAG_W,SF6,SF6_FLAG_W,TCARBN,TCARBN_FLAG_W,ALKALI,ALKALI_FLAG_W,PH_SWS,PH_SWS_FLAG_W,DELC13,DELC13_FLAG_W,DELC14,DELC14_FLAG_W,C14ERR,NI,NI_FLAG_W,BARIUM,BARIUM_FLAG_W,CU,CU_FLAG_W,TOC,TOC_FLAG_W,CHLORA,CHLORA_FLAG_W,CALCIUM,CALCIUM_FLAG_W,THETA,SIG0
,,,,,,,,,,,METERS,DBAR,,ITS-90,,PSS-78,,PSS-78,,UMOL/KG,,UMOL/KG,,UMOL/KG,,UMOL/KG,,UMOL/KG,,UMOL/KG,,PMOL/KG,,PMOL/KG,,PMOL/KG,,FMOL/KG,,UMOL/KG,,UMOL/KG,,,,/MILLE,,/MILLE,,/MILLE,UMOL/L,,NMOL/KG,,UMOL/L,,UMOL/L,,UG/KG,,MMOL/KG,,ITS-90,KG/M^3
49NZ199905_1,       P01C,      83,1,12,12,2,19990906,229,46.989,-155.8493,       5250,    99.5,2,   4.0916,2,  32.7579,2,  32.7592,2,  -999.00,9,  312.27,2,   24.36,2,   17.71,6,       0,2,    1.46,2,   4.776,2,   2.628,2,   0.438,2,   0.4333,3,  2072.5,2,    2143,3,7.697,2, -999.00,1,  -999.0,9,  -999.0,     -999.0,9,    51.5,2,     -999.0,9,     -999.0,1,    0.02,2,     -999.0,1,      4.085,    25.9956
49NZ199905_1,       P01C,      83,1,11,11,2,19990906,229,46.989,-155.8493,       5250,   200.2,2,   4.4396,2,  33.7557,2,   33.759,2,  -999.00,9,  131.97,2,   63.61,2,   35.08,2,       0,2,    2.46,3,   2.692,2,   1.465,2,   0.196,2,   0.2105,3,    2230,2,  2223.1,3,7.447,2, -999.00,1,  -999.0,9,  -999.0,     -999.0,9,    59.1,2,     -999.0,9,     -999.0,1,       0,2,     -999.0,1,     4.4252,    26.7548
49NZ199905_1,       P01C,      83,1,10,10,2,19990906,229,46.989,-155.8493,       5250,   298.9,2,   4.1896,2,  33.8822,2,  33.8854,2,  -999.00,9,    92.9,2,   78.11,2,   38.91,2,       0,2,     2.7,3,   1.905,2,   1.056,2,   0.134,2,   0.1923,3,  2266.7,2,  2243.2,3,7.391,2, -999.00,1,  -999.0,9,  -999.0,     -999.0,9,    66.7,2,     -999.0,9,     -999.0,1,       0,2,     -999.0,1,     4.1684,    26.8823
49NZ199905_1,       P01C,      83,1,9,9,2,19990906,229,46.989,-155.8493,       5250,   401.2,2,   3.9125,2,   33.984,2,   33.988,2,  -999.00,9,    55.1,2,   93.87,2,   42.28,3,       0,2,    2.96,3,   1.139,2,   0.663,2,   0.073,2,   0.0105,3,  2303.4,2,  2269.7,3,7.336,2, -999.00,1,  -999.0,9,  -999.0,     -999.0,9,    71.4,2,     -999.0,9,     -999.0,1, -999.00,9,     -999.0,1,     3.8846,    26.9929
49NZ199905_1,       P01C,      83,1,8,8,2,19990906,229,46.989,-155.8493,       5250,   600.8,2,   3.6708,2,  34.1803,2,  34.1832,2,  -999.00,9,   35.09,2,  114.58,2,    43.3,2,       0,2,    3.03,2,   0.371,2,   0.226,2,   0.022,2,        0,3,  2335.6,2,  2304.6,3,7.339,2, -999.00,1,  -999.0,9,  -999.0,     -999.0,9,    83.7,2,     -999.0,9,     -999.0,1, -999.00,9,     -999.0,1,      3.629,    27.1738
49NZ199905_1,       P01C,      83,1,7,7,2,19990906,229,46.989,-155.8493,       5250,     800,2,   3.2549,2,  34.2959,2,  34.3001,2,  -999.00,9,   26.82,2,  130.85,2,   44.15,2,       0,2,     3.1,2,   0.114,2,   0.073,2,   0.003,2,   0.0045,3,  2354.6,2,  2333.9,3,7.341,2, -999.00,1,  -999.0,9,  -999.0,     -999.0,9,      91,2,     -999.0,9,     -999.0,1, -999.00,9,     -999.0,1,     3.2005,     27.308
49NZ199905_1,       P01C,      83,1,6,6,2,19990906,229,46.989,-155.8493,       5250,  1000.4,2,   2.9269,2,  34.3709,2,  34.3727,2,  -999.00,9,   22.56,2,  141.82,2,   44.71,2,       0,2,    3.15,2,   0.048,2,   0.024,2,       0,2,   0.0002,3,  2371.8,2,  2357.2,3,7.34,2, -999.00,1,  -999.0,9,  -999.0,     -999.0,9,   101.6,2,     -999.0,9,     -999.0,1, -999.00,9,     -999.0,1,     2.8598,     27.397
49NZ199905_1,       P01C,      83,1,5,5,2,19990906,229,46.989,-155.8493,       5250,  1500.6,2,   2.3209,2,  34.5028,2,  34.5055,6,  -999.00,9,   25.47,2,   162.4,2,    45.1,2,       0,2,    3.13,2,   0.002,2,       0,2,       0,2,   0.0005,3,    2393,2,  2394.5,3,7.36,2, -999.00,1,  -999.0,9,  -999.0,     -999.0,9,   118.7,2,     -999.0,9,     -999.0,1, -999.00,9,     -999.0,1,      2.221,    27.5578
49NZ199905_1,       P01C,      83,1,4,4,2,19990906,229,46.989,-155.8493,       5250,  1999.4,2,   1.9581,2,  34.5843,2,  34.5773,4,  -999.00,9,   49.11,2,  171.73,3,   43.78,3,       0,3,    3.01,3,   0.008,2,   0.006,2,       0,2,   0.0057,3,  2392.6,2,  2399.5,3,7.409,2, -999.00,1,  -999.0,9,  -999.0,     -999.0,9,   132.7,2,     -999.0,9,     -999.0,1, -999.00,9,     -999.0,1,     1.8225,    27.6469
49NZ199905_1,       P01C,      83,1,3,3,2,19990906,229,46.989,-155.8493,       5250,  2999.8,2,    1.582,2,  34.6552,2,  34.6521,4,  -999.00,9,   108.9,2,  166.56,3,    39.8,3,       0,3,    2.73,3,       0,4,       0,4,       0,4,   0.0002,3,  2355.8,3,  2408.4,3,7.514,2, -999.00,1,  -999.0,9,  -999.0,     -999.0,9,   143.6,2,     -999.0,9,     -999.0,1, -999.00,9,     -999.0,1,     1.3635,    27.7408
49NZ199905_1,       P01C,      83,1,2,2,2,19990906,229,46.989,-155.8493,       5250,  4000.8,2,   1.4802,2,  34.6815,2,  34.6806,2,  -999.00,9,  141.96,2,  160.24,2,   37.55,2,    0.01,2,    2.55,2,   0.003,2,       0,2,       0,2,        0,3,  2340.1,2,  2414.5,3,7.571,2, -999.00,1,  -999.0,9,  -999.0,     -999.0,9,   145.4,2,     -999.0,9,     -999.0,1, -999.00,9,     -999.0,1,     1.1617,    27.7778
49NZ199905_1,       P01C,      83,1,1,1,2,19990906,229,46.989,-155.8493,       5250,  5343.7,2,   1.5981,2,  34.6881,2,  34.6881,6,  -999.00,9,  148.31,2,  164.55,2,   37.24,2,       0,2,    2.51,2,       0,2,   0.002,2,   0.002,2,        0,3,  2334.3,2,  2419.6,3,7.584,2, -999.00,1,  -999.0,9,  -999.0,     -999.0,9,   149.3,2,     -999.0,9,     -999.0,1, -999.00,9,     -999.0,1,     1.1178,    27.7868
49NZ199905_1,       P01C,      84,1,12,12,2,19990906,756,46.9922,-154.7572,       5210,    49.6,2,   6.4337,2,  32.6818,2,  32.6967,3,  -999.00,9,  309.94,2,    15.9,3,   12.54,3,    0.25,3,    1.19,3,-999.000,9,-999.000,9,-999.000,9,-999.0000,9,  -999.0,9,  -999.0,9,-999.0,9, -999.00,9,  -999.0,9,  -999.0,     -999.0,9,  -999.0,9,     -999.0,9,     -999.0,9, -999.00,9,     -999.0,9,     6.4295,    25.6794
49NZ199905_1,       P01C,      84,1,11,11,2,19990906,756,46.9922,-154.7572,       5210,    99.9,2,    4.677,2,  32.7574,2,  32.7621,2,  -999.00,9,  306.85,2,   19.47,2,   16.25,2,       0,2,    1.37,2,-999.000,9,-999.000,9,-999.000,9,-999.0000,9,  -999.0,9,  -999.0,9,-999.0,9, -999.00,9,  -999.0,9,  -999.0,     -999.0,9,  -999.0,9,     -999.0,9,     -999.0,9, -999.00,9,     -999.0,9,     4.6699,    25.9374
49NZ199905_1,       P01C,      84,1,10,10,2,19990906,756,46.9922,-154.7572,       5210,   200.1,2,   5.2808,2,   33.836,2,  33.8398,2,  -999.00,9,  147.54,2,   55.78,2,   31.66,2,       0,2,    2.19,2,-999.000,9,-999.000,9,-999.000,9,-999.0000,9,  -999.0,9,  -999.0,9,-999.0,9, -999.00,9,  -999.0,9,  -999.0,     -999.0,9,  -999.0,9,     -999.0,9,     -999.0,9, -999.00,9,     -999.0,9,     5.2651,     26.725
49NZ199905_1,       P01C,      84,1,9,9,2,19990906,756,46.9922,-154.7572,       5210,   399.2,2,   4.2997,2,  34.0092,2,   34.013,6,  -999.00,9,   72.45,2,   86.46,2,   39.92,2,       0,2,    2.78,2,-999.000,9,-999.000,9,-999.000,9,-999.0000,9,  -999.0,9,  -999.0,9,-999.0,9, -999.00,9,  -999.0,9,  -999.0,     -999.0,9,  -999.0,9,     -999.0,9,     -999.0,9, -999.00,9,     -999.0,9,     4.2707,     26.973
49NZ199905_1,       P01C,      84,1,8,8,2,19990906,756,46.9922,-154.7572,       5210,   599.3,2,   3.7795,2,  34.1836,2,  34.1885,2,  -999.00,9,   36.78,2,  111.13,2,   42.91,2,       0,2,    2.99,2,-999.000,9,-999.000,9,-999.000,9,-999.0000,9,  -999.0,9,  -999.0,9,-999.0,9, -999.00,9,  -999.0,9,  -999.0,     -999.0,9,  -999.0,9,     -999.0,9,     -999.0,9, -999.00,9,     -999.0,9,     3.7373,    27.1673
49NZ199905_1,       P01C,      84,1,7,7,2,19990906,756,46.9922,-154.7572,       5210,   800.2,2,   3.3013,2,  34.2934,2,  34.2962,2,  -999.00,9,   24.65,2,  128.19,2,   44.32,2,       0,2,     3.1,2,-999.000,9,-999.000,9,-999.000,9,-999.0000,9,  -999.0,9,  -999.0,9,-999.0,9, -999.00,9,  -999.0,9,  -999.0,     -999.0,9,  -999.0,9,     -999.0,9,     -999.0,9, -999.00,9,     -999.0,9,     3.2466,    27.3005
49NZ199905_1,       P01C,      84,1,6,6,2,19990906,756,46.9922,-154.7572,       5210,    1000,2,   2.9058,2,  34.3767,2,   34.379,2,  -999.00,9,   20.47,2,  141.98,2,   44.97,2,       0,2,    3.15,2,-999.000,9,-999.000,9,-999.000,9,-999.0000,9,  -999.0,9,  -999.0,9,-999.0,9, -999.00,9,  -999.0,9,  -999.0,     -999.0,9,  -999.0,9,     -999.0,9,     -999.0,9, -999.00,9,     -999.0,9,     2.8388,    27.4039
49NZ199905_1,       P01C,      84,1,5,5,2,19990906,756,46.9922,-154.7572,       5210,  1499.4,2,   2.3086,2,  34.5054,2,  34.5072,2,  -999.00,9,   26.12,2,  162.31,2,   45.12,2,       0,2,    3.12,2,-999.000,9,-999.000,9,-999.000,9,-999.0000,9,  -999.0,9,  -999.0,9,-999.0,9, -999.00,9,  -999.0,9,  -999.0,     -999.0,9,  -999.0,9,     -999.0,9,     -999.0,9, -999.00,9,     -999.0,9,     2.2089,    27.5601
49NZ199905_1,       P01C,      84,1,4,4,2,19990906,756,46.9922,-154.7572,       5210,  1999.1,2,   1.9463,2,  34.5849,2,  34.5867,2,  -999.00,9,   50.93,2,  170.78,2,   43.64,2,       0,2,       3,2,-999.000,9,-999.000,9,-999.000,9,-999.0000,9,  -999.0,9,  -999.0,9,-999.0,9, -999.00,9,  -999.0,9,  -999.0,     -999.0,9,  -999.0,9,     -999.0,9,     -999.0,9, -999.00,9,     -999.0,9,     1.8109,    27.6553
49NZ199905_1,       P01C,      84,1,3,3,2,19990906,756,46.9922,-154.7572,       5210,  3000.5,2,   1.5726,2,  34.6566,2,   34.657,2,  -999.00,9,  109.42,2,  166.72,2,   39.89,2,       0,2,    2.72,2,-999.000,9,-999.000,9,-999.000,9,-999.0000,9,  -999.0,9,  -999.0,9,-999.0,9, -999.00,9,  -999.0,9,  -999.0,     -999.0,9,  -999.0,9,     -999.0,9,     -999.0,9, -999.00,9,     -999.0,9,     1.3542,    27.7454
49NZ199905_1,       P01C,      84,1,2,2,2,19990906,756,46.9922,-154.7572,       5210,  3998.9,2,   1.4792,2,  34.6816,2,  34.6814,2,  -999.00,9,  142.09,2,  160.32,2,   37.53,2,    0.01,2,    2.56,2,-999.000,9,-999.000,9,-999.000,9,-999.0000,9,  -999.0,9,  -999.0,9,-999.0,9, -999.00,9,  -999.0,9,  -999.0,     -999.0,9,  -999.0,9,     -999.0,9,     -999.0,9, -999.00,9,     -999.0,9,      1.161,    27.7785
49NZ199905_1,       P01C,      84,1,1,1,2,19990906,756,46.9922,-154.7572,       5210,  5302.2,2,   1.5938,2,  34.6881,2,  34.6879,6,  -999.00,9,     148,2,  164.33,2,   37.18,2,       0,2,     2.5,2,-999.000,9,-999.000,9,-999.000,9,-999.0000,9,  -999.0,9,  -999.0,9,-999.0,9, -999.00,9,  -999.0,9,  -999.0,     -999.0,9,  -999.0,9,     -999.0,9,     -999.0,9, -999.00,9,     -999.0,9,     1.1188,    27.7866
49NZ199905_1,       P01C,      85,1,16,16,2,19990906,1222,46.9988,-153.623,       5226,    10.2,2,  12.4965,2,  32.4379,2,  32.4424,2,  -999.00,9,  276.76,2,   19.25,2,   10.15,2,    0.13,2,    0.95,2,   3.132,2,   1.907,2,    0.28,2,   0.0208,3,  1992.5,2,  2111.2,3,7.827,2, -999.00,1,    21.5,2,     3.6,     -999.0,9,    49.3,2,     -999.0,9,     -999.0,1,    0.26,2,     -999.0,1,    12.4952,    24.5105
49NZ199905_1,       P01C,      85,1,15,15,2,19990906,1222,46.9988,-153.623,       5226,      50,2,   5.6909,2,  32.6931,2,  32.7039,3,  -999.00,9,   317.7,2,   17.03,3,   13.03,3,    0.24,3,    1.21,3,   4.613,4,   2.572,4,   0.435,4,    0.473,3,  2053.4,3,  2133.4,3,7.735,2, -999.00,1,    14.5,2,     3.2,     -999.0,9,    50.9,2,     -999.0,9,     -999.0,1,     0.2,2,     -999.0,1,      5.687,    25.7765
49NZ199905_1,       P01C,      85,1,14,14,2,19990906,1222,46.9988,-153.623,       5226,    99.4,2,   4.3923,2,  32.7287,2,  32.7403,3,  -999.00,9,  312.03,2,   22.37,3,   16.84,3,       0,3,    1.39,3,   4.753,4,   2.643,4,   0.445,4,   0.5456,3,  2073.5,3,  2131.5,3,7.699,2, -999.00,1,     5.7,2,     2.8,     -999.0,9,      51,2,     -999.0,9,     -999.0,1,    0.04,2,     -999.0,1,     4.3855,      25.95
49NZ199905_1,       P01C,      85,1,13,13,2,19990906,1222,46.9988,-153.623,       5226,     201,2,     5.04,2,  33.7926,2,   33.792,2,  -999.00,9,   154.2,2,   54.73,2,    31.6,2,       0,2,    2.22,2,   2.759,2,   1.555,2,   0.184,2,   0.1856,3,  2206.7,2,    2222,3,7.501,2, -999.00,1,   -36.4,2,     3.1,     -999.0,9,    58.9,2,     -999.0,9,     -999.0,1,       0,2,     -999.0,1,     5.0246,    26.7149
49NZ199905_1,       P01C,      85,2,12,12,2,19990906,1358,46.9917,-153.6338,       5221,   300.5,2,   4.1127,2,  33.8697,2,  33.8713,2,  -999.00,9,   89.81,2,   77.47,2,    39.2,2,       0,2,    2.72,2,   1.895,2,   1.085,2,   0.124,2,   0.1505,3,  2280.7,2,  2250.2,3,7.374,2, -999.00,1,   -80.3,2,     2.6,     -999.0,9,      68,2,     -999.0,9,     -999.0,1,       0,2,     -999.0,1,     4.0916,     26.879
49NZ199905_1,       P01C,      85,2,11,11,2,19990906,1358,46.9917,-153.6338,       5221,   400.2,2,   4.0194,2,  34.0023,2,  34.0053,2,  -999.00,9,   61.79,2,   91.74,2,   41.35,2,       0,2,    2.89,2,   1.129,2,   0.645,2,   0.071,2,    0.035,3,  2331.6,2,  2273.6,3,7.351,2, -999.00,1,    -115,2,     2.9,     -999.0,9,    75.5,2,     -999.0,9,     -999.0,1, -999.00,9,     -999.0,1,     3.9912,    26.9959
49NZ199905_1,       P01C,      85,2,10,10,2,19990906,1358,46.9917,-153.6338,       5221,   598.9,2,   3.7195,2,  34.1897,2,  34.1932,2,  -999.00,9,   35.87,2,  112.83,2,   43.04,2,    0.01,2,    2.99,2,   0.323,2,   0.203,2,   0.009,2,        0,3,    2334,2,  2313.5,3,7.338,2, -999.00,1,  -159.4,2,     2.8,     -999.0,9,    85.7,2,     -999.0,9,     -999.0,1, -999.00,9,     -999.0,1,     3.6776,    27.1769
49NZ199905_1,       P01C,      85,2,9,9,2,19990906,1358,46.9917,-153.6338,       5221,   800.5,2,   3.2804,2,  34.2947,2,  34.2982,6,  -999.00,9,   23.17,2,   129.3,2,   44.15,2,       0,2,    3.09,2,   0.066,2,   0.053,2,       0,2,        0,3,  2351.9,2,  2339.9,3,7.331,2, -999.00,1,  -184.6,2,     2.9,     -999.0,9,    94.8,2,     -999.0,9,     -999.0,1, -999.00,9,     -999.0,1,     3.2258,    27.3041
49NZ199905_1,       P01C,      85,2,8,8,2,19990906,1358,46.9917,-153.6338,       5221,  1001.7,2,   2.9014,2,   34.375,2,   34.378,2,  -999.00,9,   19.82,2,   143.2,2,   44.76,2,       0,2,    3.12,2,   0.017,2,   0.031,2,   0.005,2,   0.0076,3,  2375.6,2,  2359.9,3,7.332,2, -999.00,1,  -205.8,2,     2.6,     -999.0,9,   101.8,2,     -999.0,9,     -999.0,1, -999.00,9,     -999.0,1,     2.8344,    27.4035
49NZ199905_1,       P01C,      85,2,7,7,2,19990906,1358,46.9917,-153.6338,       5221,    1251,2,   2.5488,2,  34.4527,2,  34.4544,2,  -999.00,9,   19.65,2,  154.82,2,   45.09,2,       0,2,    3.14,2,   0.008,2,   0.001,2,   0.001,2,        0,3,  2387.7,2,  2372.4,3,7.339,2, -999.00,1,  -220.9,2,     2.2,     -999.0,9,   109.5,2,     -999.0,9,     -999.0,1, -999.00,9,     -999.0,1,     2.4659,    27.4966
49NZ199905_1,       P01C,      85,2,6,6,2,19990906,1358,46.9917,-153.6338,       5221,  1500.8,2,   2.2815,2,   34.512,2,  34.5137,2,  -999.00,9,   24.56,2,  163.64,2,   44.97,2,    0.01,2,    3.11,2,       0,2,       0,2,       0,2,   0.0017,3,  2395.1,2,    2392,3,7.353,2, -999.00,1,  -229.4,2,     2.4,     -999.0,9,   119.5,2,     -999.0,9,     -999.0,1, -999.00,9,     -999.0,1,      2.182,    27.5675
49NZ199905_1,       P01C,      85,2,5,5,2,19990906,1358,46.9917,-153.6338,       5221,  1750.7,2,   2.0725,2,  34.5575,2,  34.5593,6,  -999.00,9,   39.16,2,  168.26,2,   44.13,2,       0,2,    3.04,2,       0,2,       0,2,   0.001,2,    0.006,3,  2388.9,2,  2399.4,3,7.384,2, -999.00,1,    -236,2,     2.3,     -999.0,9,   125.5,2,     -999.0,9,     -999.0,1, -999.00,9,     -999.0,1,     1.9557,    27.6221
49NZ199905_1,       P01C,      85,2,4,4,2,19990906,1358,46.9917,-153.6338,       5221,    2001,2,   1.9204,2,  34.5894,2,  34.5908,2,  -999.00,9,   54.93,2,  170.92,2,   43.22,6,       0,2,    2.95,2,       0,2,       0,2,   0.002,2,        0,3,  2385.1,2,  2403.9,3,7.413,2, -999.00,1,  -239.5,2,     2.2,     -999.0,9,   135.4,2,     -999.0,9,     -999.0,1, -999.00,9,     -999.0,1,     1.7852,    27.6606
49NZ199905_1,       P01C,      85,2,3,3,2,19990906,1358,46.9917,-153.6338,       5221,  2999.9,2,   1.5657,2,  34.6571,2,  34.6576,2,  -999.00,9,  111.42,2,  166.44,2,   39.46,2,       0,2,    2.69,2,   0.006,2,       0,2,       0,2,   0.0005,3,  2353.4,2,  2411.8,3,7.515,2, -999.00,1,  -240.7,2,     2.6,     -999.0,9,   143.5,2,     -999.0,9,     -999.0,1, -999.00,9,     -999.0,1,     1.3475,    27.7464
49NZ199905_1,       P01C,      85,2,2,2,2,19990906,1358,46.9917,-153.6338,       5221,  4000.4,2,   1.4801,2,  34.6817,2,  34.6814,2,  -999.00,9,  141.53,2,   164.5,2,   37.16,2,       0,2,     2.5,2,       0,2,       0,2,       0,2,        0,3,  2336.4,2,  2416.9,3,7.568,2, -999.00,1,    -225,2,     2.7,     -999.0,9,   150.9,2,     -999.0,9,     -999.0,1, -999.00,9,     -999.0,1,     1.1617,    27.7784
49NZ199905_1,       P01C,      85,2,1,1,2,19990906,1358,46.9917,-153.6338,       5221,  5312.7,2,   1.5987,2,  34.6876,2,   34.688,6,  -999.00,9,  147.01,2,   161.9,2,   37.48,2,       0,2,    2.55,2,   0.001,2,   0.002,2,   0.002,2,   0.1922,3,  2336.3,2,  2420.3,3,7.583,2, -999.00,1,  -213.3,2,     2.7,     -999.0,9,   149.2,2,     -999.0,9,     -999.0,1, -999.00,9,     -999.0,1,     1.1223,    27.7864