BOTTLE,20231018CCHSIOENA
EXPOCODE,SECT_ID,STNNBR,CASTNO,SAMPNO,BTLNBR,BTLNBR_FLAG_W,DATE,TIME,LATITUDE,LONGITUDE,DEPTH,CTDPRS,CTDPRS_FLAG_W,CTDTMP,CTDTMP_FLAG_W,CTDSAL,CTDSAL_FLAG_W,SALNTY,SALNTY_FLAG_W,CTDOXY,CTDOXY_FLAG_W,OXYGEN,OXYGEN_FLAG_W,SILCAT,SILCAT_FLAG_W,NITRAT,NITRAT_FLAG_W,NITRIT,NITRIT_FLAG_W,PHSPHT,PHSPHT_FLAG_W,CFC-11,CFC-11_FLAG_W,CFC-12,CFC-12_FLAG_W,CFC113,CFC113_FLAG_W,SF6,SF6_FLAG_W,TCARBN,TCARBN_FLAG_W,ALKALI,ALKALI_FLAG_W,PH_SWS,PH_SWS_FLAG_W,DELC13,DELC13_FLAG_W,DELC14,DELC14_FLAG_W,C14ERR,NI,NI_FLAG_W,BARIUM,BARIUM_FLAG_W,CU,CU_FLAG_W,TOC,TOC_FLAG_W,CHLORA,CHLORA_FLAG_W,CALCIUM,CALCIUM_FLAG_W,THETA,SIG0
,,,,,,,,,,,METERS,DBAR,,ITS-90,,PSS-78,,PSS-78,,UMOL/KG,,UMOL/KG,,UMOL/KG,,UMOL/KG,,UMOL/KG,,UMOL/KG,,PMOL/KG,,PMOL/KG,,PMOL/KG,,FMOL/KG,,UMOL/KG,,UMOL/KG,,,,/MILLE,,/MILLE,,/MILLE,UMOL/L,,NMOL/KG,,UMOL/L,,UMOL/L,,UG/KG,,MMOL/KG,,ITS-90,KG/M^3
49NZ199905_1,       P01C,      89,2,12,12,2,19990907,1115,46.9912,-149.1492,       5056,   299.7,2,   4.7245,2,  33.9036,2,  33.9068,2,  -999.00,9,  105.25,2,   71.24,2,   35.79,2,    0.01,2,    2.48,2,-999.000,9,-999.000,9,-999.000,9,-999.0000,9,  -999.0,9,  -999.0,9,-999.0,9, -999.00,9,  -999.0,9,  -999.0,     -999.0,9,  -999.0,9,     -999.0,9,     -999.0,9, -999.00,9,     -999.0,9,      4.702,    26.8421
49NZ199905_1,       P01C,      89,2,11,11,2,19990907,1115,46.9912,-149.1492,       5056,   400.7,2,   4.3876,2,  34.0046,2,  34.0089,6,  -999.00,9,   73.45,2,   85.73,2,   38.76,2,    0.01,2,    2.67,2,-999.000,9,-999.000,9,-999.000,9,-999.0000,9,  -999.0,9,  -999.0,9,-999.0,9, -999.00,9,  -999.0,9,  -999.0,     -999.0,9,  -999.0,9,     -999.0,9,     -999.0,9, -999.00,9,     -999.0,9,     4.3582,    26.9604
49NZ199905_1,       P01C,      89,2,10,10,2,19990907,1115,46.9912,-149.1492,       5056,   599.7,2,   3.8373,2,  34.1701,2,  34.1726,2,  -999.00,9,   37.09,2,  109.61,2,   41.94,2,    0.02,2,    2.89,2,-999.000,9,-999.000,9,-999.000,9,-999.0000,9,  -999.0,9,  -999.0,9,-999.0,9, -999.00,9,  -999.0,9,  -999.0,     -999.0,9,  -999.0,9,     -999.0,9,     -999.0,9, -999.00,9,     -999.0,9,     3.7948,    27.1489
49NZ199905_1,       P01C,      89,2,9,9,2,19990907,1115,46.9912,-149.1492,       5056,     800,2,   3.3192,2,  34.2848,2,  34.2891,2,  -999.00,9,   21.61,2,  128.22,2,   43.46,2,    0.01,2,       3,2,-999.000,9,-999.000,9,-999.000,9,-999.0000,9,  -999.0,9,  -999.0,9,-999.0,9, -999.00,9,  -999.0,9,  -999.0,     -999.0,9,  -999.0,9,     -999.0,9,     -999.0,9, -999.00,9,     -999.0,9,     3.2644,    27.2932
49NZ199905_1,       P01C,      89,2,8,8,2,19990907,1115,46.9912,-149.1492,       5056,   999.8,2,   2.9608,2,  34.3658,2,    34.37,2,  -999.00,9,   14.39,2,  140.68,2,   44.37,2,    0.01,2,    3.12,2,-999.000,9,-999.000,9,-999.000,9,-999.0000,9,  -999.0,9,  -999.0,9,-999.0,9, -999.00,9,  -999.0,9,  -999.0,     -999.0,9,  -999.0,9,     -999.0,9,     -999.0,9, -999.00,9,     -999.0,9,     2.8934,    27.3919
49NZ199905_1,       P01C,      89,2,7,7,2,19990907,1115,46.9912,-149.1492,       5056,    1250,2,   2.5842,2,  34.4493,2,  34.4514,2,  -999.00,9,   15.08,2,  153.81,2,   44.51,2,    0.01,2,     3.1,2,-999.000,9,-999.000,9,-999.000,9,-999.0000,9,  -999.0,9,  -999.0,9,-999.0,9, -999.00,9,  -999.0,9,  -999.0,     -999.0,9,  -999.0,9,     -999.0,9,     -999.0,9, -999.00,9,     -999.0,9,      2.501,    27.4912
49NZ199905_1,       P01C,      89,2,6,6,2,19990907,1115,46.9912,-149.1492,       5056,  1500.1,2,   2.2966,2,  34.5091,2,  34.5121,6,  -999.00,9,   23.38,2,  156.02,2,   44.19,2,    0.01,2,    3.07,2,-999.000,9,-999.000,9,-999.000,9,-999.0000,9,  -999.0,9,  -999.0,9,-999.0,9, -999.00,9,  -999.0,9,  -999.0,     -999.0,9,  -999.0,9,     -999.0,9,     -999.0,9, -999.00,9,     -999.0,9,      2.197,     27.565
49NZ199905_1,       P01C,      89,2,5,5,2,19990907,1115,46.9912,-149.1492,       5056,  1748.5,2,   2.0799,2,  34.5547,2,  34.5576,2,  -999.00,9,   39.51,2,  166.88,2,   43.06,2,       0,2,       3,2,-999.000,9,-999.000,9,-999.000,9,-999.0000,9,  -999.0,9,  -999.0,9,-999.0,9, -999.00,9,  -999.0,9,  -999.0,     -999.0,9,  -999.0,9,     -999.0,9,     -999.0,9, -999.00,9,     -999.0,9,     1.9632,    27.6202
49NZ199905_1,       P01C,      89,2,4,4,2,19990907,1115,46.9912,-149.1492,       5056,  1999.6,2,   1.9242,2,  34.5866,2,  34.5887,2,  -999.00,9,   55.24,2,  169.51,2,   42.25,6,    0.01,2,    2.94,2,-999.000,9,-999.000,9,-999.000,9,-999.0000,9,  -999.0,9,  -999.0,9,-999.0,9, -999.00,9,  -999.0,9,  -999.0,     -999.0,9,  -999.0,9,     -999.0,9,     -999.0,9, -999.00,9,     -999.0,9,     1.7891,    27.6586
49NZ199905_1,       P01C,      89,2,3,3,2,19990907,1115,46.9912,-149.1492,       5056,  2999.4,2,   1.5605,2,  34.6571,2,   34.659,2,  -999.00,9,  110.46,2,  160.95,2,   38.75,2,    0.01,2,    2.68,2,-999.000,9,-999.000,9,-999.000,9,-999.0000,9,  -999.0,9,  -999.0,9,-999.0,9, -999.00,9,  -999.0,9,  -999.0,     -999.0,9,  -999.0,9,     -999.0,9,     -999.0,9, -999.00,9,     -999.0,9,     1.3425,    27.7479
49NZ199905_1,       P01C,      89,2,2,2,2,19990907,1115,46.9912,-149.1492,       5056,  3998.6,2,   1.4887,2,  34.6808,2,   34.694,4,  -999.00,9,  139.18,2,  155.25,3,   36.84,3,    0.01,3,    2.52,3,-999.000,9,-999.000,9,-999.000,9,-999.0000,9,  -999.0,9,  -999.0,9,-999.0,9, -999.00,9,  -999.0,9,  -999.0,     -999.0,9,  -999.0,9,     -999.0,9,     -999.0,9, -999.00,9,     -999.0,9,     1.1701,     27.788
49NZ199905_1,       P01C,      89,2,1,1,2,19990907,1115,46.9912,-149.1492,       5056,  5140.2,2,   1.5882,2,  34.6864,2,  34.6884,6,  -999.00,9,   144.4,2,  164.85,2,   36.52,2,    0.02,2,    2.51,2,-999.000,9,-999.000,9,-999.000,9,-999.0000,9,  -999.0,9,  -999.0,9,-999.0,9, -999.00,9,  -999.0,9,  -999.0,     -999.0,9,  -999.0,9,     -999.0,9,     -999.0,9, -999.00,9,     -999.0,9,     1.1337,     27.786
49NZ199905_1,       P01C,      90,1,16,16,2,19990907,1546,47.0077,-148.0402,       5002,    10.7,2,  13.3321,2,  32.5354,2,  32.5416,6,  -999.00,9,  271.69,2,   21.67,2,     9.3,2,     0.1,2,    0.94,2,   2.879,2,   1.753,2,   0.232,2,   0.4151,3,  1989.4,2,    2192,2,7.831,2, -999.00,1,      18,2,     3.2,     -999.0,9,    51.2,2,     -999.0,9,     -999.0,1,    0.28,2,     -999.0,1,    13.3306,    24.4242
49NZ199905_1,       P01C,      90,1,15,15,2,19990907,1546,47.0077,-148.0402,       5002,    49.7,2,   7.8043,2,  32.6477,2,  32.6959,4,  -999.00,9,  307.47,2,   16.21,3,    9.99,3,    0.14,3,    1.03,3,   4.175,4,   2.307,4,   0.344,4,   0.3722,3,  2032.1,3,  2199.7,3,7.758,2, -999.00,1,    14.4,2,     3.7,     -999.0,9,    51.2,2,     -999.0,9,     -999.0,1,    0.27,2,     -999.0,1,     7.7996,    25.4938
49NZ199905_1,       P01C,      90,1,14,14,2,19990907,1546,47.0077,-148.0402,       5002,    99.7,2,   5.4539,2,  32.7475,2,  32.7549,2,  -999.00,9,  303.79,2,   16.47,2,   13.92,2,    0.02,2,    1.23,2,   4.392,2,   2.419,2,    0.36,2,   0.4345,3,  2054.7,2,  2196.6,2,7.71,2, -999.00,1,     6.6,2,     2.8,     -999.0,9,      49,2,     -999.0,9,     -999.0,1,    0.06,2,     -999.0,1,     5.4462,    25.8451
49NZ199905_1,       P01C,      90,1,13,13,2,19990907,1546,47.0077,-148.0402,       5002,   201.3,2,   6.0314,2,  33.8607,2,  33.8656,2,  -999.00,9,  166.48,2,    50.4,2,   27.79,2,       0,2,    1.97,2,   2.693,2,   1.504,2,   0.162,2,   0.1745,3,  2189.5,2,  2268.8,2,7.545,2, -999.00,1,   -27.9,2,     2.9,     -999.0,9,    55.1,2,     -999.0,9,     -999.0,1,       0,2,     -999.0,1,     6.0144,    26.6546
49NZ199905_1,       P01C,      90,2,12,12,2,19990907,1713,47.0065,-148.0532,       5001,   301.1,2,   4.8589,2,  33.9288,2,  33.9324,2,  -999.00,9,  101.12,2,    73.5,2,   35.89,2,    0.01,2,    2.51,2,   1.674,2,   0.947,2,   0.094,2,   0.1107,3,  2258.6,2,  2289.4,2,7.415,2, -999.00,1,     -75,2,       3,     -999.0,9,    65.6,2,     -999.0,9,     -999.0,1,       0,2,     -999.0,1,      4.836,    26.8475
49NZ199905_1,       P01C,      90,2,11,11,2,19990907,1713,47.0065,-148.0532,       5001,   399.9,2,   4.3021,2,  34.0038,2,  34.0068,2,  -999.00,9,   70.54,2,   85.47,2,   39.23,2,       0,2,    2.75,2,   1.105,2,   0.623,2,   0.051,2,        0,3,  2297.3,2,  2306.4,2,7.364,2, -999.00,1,  -113.9,2,     2.9,     -999.0,9,    74.4,2,     -999.0,9,     -999.0,1, -999.00,9,     -999.0,1,      4.273,    26.9678
49NZ199905_1,       P01C,      90,2,10,10,2,19990907,1713,47.0065,-148.0532,       5001,   599.8,2,   3.8408,2,  34.1661,2,  34.1699,2,  -999.00,9,   35.09,2,  106.83,2,   42.11,2,    0.01,2,    2.97,2,   0.317,2,   0.197,2,   0.014,2,   0.0024,3,  2337.7,2,  2332.5,2,7.331,2, -999.00,1,  -155.4,2,       3,     -999.0,9,    84.8,2,     -999.0,9,     -999.0,1, -999.00,9,     -999.0,1,     3.7983,    27.1464
49NZ199905_1,       P01C,      90,2,9,9,2,19990907,1713,47.0065,-148.0532,       5001,     800,2,   3.3234,2,  34.2824,2,  34.2887,2,  -999.00,9,   19.35,2,  124.69,2,   43.66,2,    0.01,2,    3.08,2,   0.063,2,   0.036,2,       0,2,   0.0044,3,  2365.4,2,  2353.5,2,7.316,2, -999.00,1,  -185.9,2,     2.3,     -999.0,9,    93.5,2,     -999.0,9,     -999.0,1, -999.00,9,     -999.0,1,     3.2686,    27.2925
49NZ199905_1,       P01C,      90,2,8,8,2,19990907,1713,47.0065,-148.0532,       5001,  1000.2,2,   2.9602,2,  34.3659,2,    34.37,2,  -999.00,9,   15.21,2,     138,2,   44.14,2,    0.01,2,    3.11,2,   0.016,2,   0.008,2,       0,2,   0.0017,3,  2381.4,2,  2368.5,2,7.318,2, -999.00,1,  -206.1,2,     2.9,     -999.0,9,   105.4,2,     -999.0,9,     -999.0,1, -999.00,9,     -999.0,1,     2.8928,    27.3919
49NZ199905_1,       P01C,      90,2,7,7,2,19990907,1713,47.0065,-148.0532,       5001,  1248.8,2,   2.6244,2,  34.4415,2,  34.4465,2,  -999.00,9,   14.74,2,  149.28,2,   44.58,2,       0,2,    3.12,2,       0,2,   0.004,2,       0,2,        0,3,  2393.9,2,  2383.3,2,7.327,2, -999.00,1,  -220.4,2,     2.6,     -999.0,9,   111.1,2,     -999.0,9,     -999.0,1, -999.00,9,     -999.0,1,     2.5409,    27.4839
49NZ199905_1,       P01C,      90,2,6,6,2,19990907,1713,47.0065,-148.0532,       5001,  1499.5,2,   2.3478,2,  34.4997,2,  34.5026,6,  -999.00,9,   21.04,2,  161.61,2,   44.29,2,       0,2,    3.08,2,       0,2,       0,2,       0,2,        0,3,  2401.7,2,    2400,3,7.339,2, -999.00,1,  -223.9,2,     2.5,     -999.0,9,   119.9,2,     -999.0,9,     -999.0,1, -999.00,9,     -999.0,1,     2.2477,    27.5533
49NZ199905_1,       P01C,      90,2,5,5,2,19990907,1713,47.0065,-148.0532,       5001,  1751.3,2,   2.1277,2,  34.5461,2,  34.5492,2,  -999.00,9,   35.55,2,  164.02,2,   43.39,2,       0,2,    3.02,2,   0.005,2,       0,2,       0,2,        0,3,  2396.8,2,  2400.1,2,7.37,2, -999.00,1,  -234.5,2,       3,     -999.0,9,   125.6,2,     -999.0,9,     -999.0,1, -999.00,9,     -999.0,1,     2.0102,    27.6097
49NZ199905_1,       P01C,      90,2,4,4,2,19990907,1713,47.0065,-148.0532,       5001,  2000.5,2,   1.9463,2,  34.5836,2,  34.5863,2,  -999.00,9,   53.24,2,     167,2,   42.34,6,    0.01,2,    2.91,2,   0.001,2,       0,2,       0,2,   0.0037,3,  2386.5,2,  2410.7,2,7.403,2, -999.00,1,  -238.8,2,     2.1,     -999.0,9,   134.5,2,     -999.0,9,     -999.0,1, -999.00,9,     -999.0,1,     1.8108,     27.655
49NZ199905_1,       P01C,      90,2,3,3,2,19990907,1713,47.0065,-148.0532,       5001,  3000.5,2,   1.5731,2,  34.6558,2,  34.6574,2,  -999.00,9,  108.68,2,  164.88,2,   38.86,2,       0,2,    2.69,2,       0,2,       0,2,   0.001,2,        0,3,  2366.8,2,    2416,2,7.503,2, -999.00,1,  -234.5,2,     2.4,     -999.0,9,   145.8,2,     -999.0,9,     -999.0,1, -999.00,9,     -999.0,1,     1.3547,    27.7457
49NZ199905_1,       P01C,      90,2,2,2,2,19990907,1713,47.0065,-148.0532,       5001,  4001.2,2,   1.4975,2,  34.6806,2,  34.6816,2,  -999.00,9,   137.1,2,  162.97,2,   36.97,2,       0,2,    2.56,3,       0,2,       0,2,       0,2,   0.0004,3,  2348.2,2,  2421.9,2,7.555,2, -999.00,1,  -223.5,2,     2.2,     -999.0,9,   154.2,2,     -999.0,9,     -999.0,1, -999.00,9,     -999.0,1,     1.1785,    27.7774
49NZ199905_1,       P01C,      90,2,1,1,2,19990907,1713,47.0065,-148.0532,       5001,  5087.4,2,   1.5829,2,   34.687,2,  34.6887,2,  -999.00,9,  143.83,2,   165.2,2,    36.5,2,    0.02,2,    2.51,2,   0.005,2,   0.004,2,       0,2,   0.0023,3,  2341.3,2,  2426.4,2,7.568,2, -999.00,1,    -217,2,     2.2,     -999.0,9,   157.9,2,     -999.0,9,     -999.0,1, -999.00,9,     -999.0,1,     1.1351,    27.7861
49NZ199905_1,       P01C,      91,1,16,16,2,19990907,2150,47.0012,-146.9352,       4909,     9.5,2,  13.9574,2,  32.6325,2,  32.6385,6,  -999.00,9,  266.77,2,   13.25,2,    8.96,2,    0.09,2,    0.88,2,-999.000,9,-999.000,9,-999.000,9,-999.0000,9,  -999.0,9,  -999.0,9,-999.0,9, -999.00,9,  -999.0,9,  -999.0,     -999.0,9,  -999.0,9,     -999.0,9,     -999.0,9, -999.00,9,     -999.0,9,    13.9561,    24.3725
49NZ199905_1,       P01C,      91,1,15,15,2,19990907,2150,47.0012,-146.9352,       4909,    49.9,2,   9.5682,2,  32.7503,2,  32.7707,2,  -999.00,9,  310.62,2,   13.77,2,   10.13,6,     0.1,2,    0.97,2,-999.000,9,-999.000,9,-999.000,9,-999.0000,9,  -999.0,9,  -999.0,9,-999.0,9, -999.00,9,  -999.0,9,  -999.0,     -999.0,9,  -999.0,9,     -999.0,9,     -999.0,9, -999.00,9,     -999.0,9,     9.5628,    25.2837
49NZ199905_1,       P01C,      91,1,14,14,2,19990907,2150,47.0012,-146.9352,       4909,      99,2,   5.7041,2,  32.8325,2,  32.8348,2,  -999.00,9,  305.04,2,   17.13,2,   13.89,2,    0.91,2,    1.21,2,-999.000,9,-999.000,9,-999.000,9,-999.0000,9,  -999.0,9,  -999.0,9,-999.0,9, -999.00,9,  -999.0,9,  -999.0,     -999.0,9,  -999.0,9,     -999.0,9,     -999.0,9, -999.00,9,     -999.0,9,     5.6962,    25.8789
49NZ199905_1,       P01C,      91,1,13,13,2,19990907,2150,47.0012,-146.9352,       4909,   200.1,2,   6.1611,2,  33.8833,2,  33.8866,2,  -999.00,9,  159.17,2,    46.9,2,   28.91,2,    0.01,2,    1.95,2,-999.000,9,-999.000,9,-999.000,9,-999.0000,9,  -999.0,9,  -999.0,9,-999.0,9, -999.00,9,  -999.0,9,  -999.0,     -999.0,9,  -999.0,9,     -999.0,9,     -999.0,9, -999.00,9,     -999.0,9,      6.144,    26.6548
49NZ199905_1,       P01C,      91,2,12,12,2,19990907,2319,46.9987,-146.9347,       4906,   299.7,2,   5.1484,2,  33.9231,2,  33.9291,4,  -999.00,9,  102.78,2,   67.16,3,   36.21,3,       0,3,    2.42,3,-999.000,9,-999.000,9,-999.000,9,-999.0000,9,  -999.0,9,  -999.0,9,-999.0,9, -999.00,9,  -999.0,9,  -999.0,     -999.0,9,  -999.0,9,     -999.0,9,     -999.0,9, -999.00,9,     -999.0,9,     5.1249,     26.812
49NZ199905_1,       P01C,      91,2,11,11,2,19990907,2319,46.9987,-146.9347,       4906,   398.9,2,    4.565,2,  33.9861,2,  33.9883,6,  -999.00,9,   78.41,2,   81.44,2,   39.05,2,       0,2,    2.64,2,-999.000,9,-999.000,9,-999.000,9,-999.0000,9,  -999.0,9,  -999.0,9,-999.0,9, -999.00,9,  -999.0,9,  -999.0,     -999.0,9,  -999.0,9,     -999.0,9,     -999.0,9, -999.00,9,     -999.0,9,     4.5352,    26.9251
49NZ199905_1,       P01C,      91,2,10,10,2,19990907,2319,46.9987,-146.9347,       4906,   600.3,2,   3.8938,2,  34.1435,2,  34.1497,2,  -999.00,9,   32.65,2,  108.79,2,   43.25,2,       0,2,    2.96,2,-999.000,9,-999.000,9,-999.000,9,-999.0000,9,  -999.0,9,  -999.0,9,-999.0,9, -999.00,9,  -999.0,9,  -999.0,     -999.0,9,  -999.0,9,     -999.0,9,     -999.0,9, -999.00,9,     -999.0,9,     3.8511,     27.125
49NZ199905_1,       P01C,      91,2,9,9,2,19990907,2319,46.9987,-146.9347,       4906,     800,2,   3.4107,2,  34.2601,2,  34.2648,2,  -999.00,9,   21.61,2,  127.26,2,   44.29,2,       0,2,    3.04,2,-999.000,9,-999.000,9,-999.000,9,-999.0000,9,  -999.0,9,  -999.0,9,-999.0,9, -999.00,9,  -999.0,9,  -999.0,     -999.0,9,  -999.0,9,     -999.0,9,     -999.0,9, -999.00,9,     -999.0,9,     3.3554,    27.2652
49NZ199905_1,       P01C,      91,2,8,8,2,19990907,2319,46.9987,-146.9347,       4906,   999.3,2,   3.0332,2,  34.3502,2,  34.3568,2,  -999.00,9,   14.87,2,  142.26,2,   45.01,2,       0,2,    3.09,2,-999.000,9,-999.000,9,-999.000,9,-999.0000,9,  -999.0,9,  -999.0,9,-999.0,9, -999.00,9,  -999.0,9,  -999.0,     -999.0,9,  -999.0,9,     -999.0,9,     -999.0,9, -999.00,9,     -999.0,9,     2.9653,    27.3748
49NZ199905_1,       P01C,      91,2,7,7,2,19990907,2319,46.9987,-146.9347,       4906,  1249.9,2,   2.6428,2,  34.4417,2,  34.4473,2,  -999.00,9,   13.87,2,  157.02,2,   45.42,2,       0,2,     3.1,2,-999.000,9,-999.000,9,-999.000,9,-999.0000,9,  -999.0,9,  -999.0,9,-999.0,9, -999.00,9,  -999.0,9,  -999.0,     -999.0,9,  -999.0,9,     -999.0,9,     -999.0,9, -999.00,9,     -999.0,9,     2.5591,    27.4829
49NZ199905_1,       P01C,      91,2,6,6,2,19990907,2319,46.9987,-146.9347,       4906,  1498.3,2,    2.357,2,  34.5023,2,  34.5052,6,  -999.00,9,   21.51,2,  162.25,2,   45.06,2,       0,2,    3.06,2,-999.000,9,-999.000,9,-999.000,9,-999.0000,9,  -999.0,9,  -999.0,9,-999.0,9, -999.00,9,  -999.0,9,  -999.0,     -999.0,9,  -999.0,9,     -999.0,9,     -999.0,9, -999.00,9,     -999.0,9,     2.2569,    27.5546
49NZ199905_1,       P01C,      91,2,5,5,2,19990907,2319,46.9987,-146.9347,       4906,  1748.7,2,   2.1235,2,  34.5497,2,  34.5547,2,  -999.00,9,   36.77,2,  168.08,2,   44.09,2,    0.01,2,    2.98,2,-999.000,9,-999.000,9,-999.000,9,-999.0000,9,  -999.0,9,  -999.0,9,-999.0,9, -999.00,9,  -999.0,9,  -999.0,     -999.0,9,  -999.0,9,     -999.0,9,     -999.0,9, -999.00,9,     -999.0,9,     2.0062,    27.6145
49NZ199905_1,       P01C,      91,2,4,4,2,19990907,2319,46.9987,-146.9347,       4906,  1997.7,2,   1.9528,2,  34.5829,2,  34.5847,2,  -999.00,9,   53.02,2,  171.31,2,   43.23,6,    0.01,2,    2.91,2,-999.000,9,-999.000,9,-999.000,9,-999.0000,9,  -999.0,9,  -999.0,9,-999.0,9, -999.00,9,  -999.0,9,  -999.0,     -999.0,9,  -999.0,9,     -999.0,9,     -999.0,9, -999.00,9,     -999.0,9,     1.8174,    27.6532
49NZ199905_1,       P01C,      91,2,3,3,2,19990907,2319,46.9987,-146.9347,       4906,  3000.9,2,    1.574,2,  34.6553,2,  34.6572,2,  -999.00,9,  108.77,2,  169.37,2,   39.53,2,       0,2,    2.64,2,-999.000,9,-999.000,9,-999.000,9,-999.0000,9,  -999.0,9,  -999.0,9,-999.0,9, -999.00,9,  -999.0,9,  -999.0,     -999.0,9,  -999.0,9,     -999.0,9,     -999.0,9, -999.00,9,     -999.0,9,     1.3555,    27.7455
49NZ199905_1,       P01C,      91,2,2,2,2,19990907,2319,46.9987,-146.9347,       4906,  3999.5,2,   1.4944,2,  34.6808,2,  34.6826,2,  -999.00,9,  138.01,2,  167.35,2,   37.59,2,       0,2,    2.49,2,-999.000,9,-999.000,9,-999.000,9,-999.0000,9,  -999.0,9,  -999.0,9,-999.0,9, -999.00,9,  -999.0,9,  -999.0,     -999.0,9,  -999.0,9,     -999.0,9,     -999.0,9, -999.00,9,     -999.0,9,     1.1757,    27.7784
49NZ199905_1,       P01C,      91,2,1,1,2,19990907,2319,46.9987,-146.9347,       4906,  4990.5,2,   1.5811,2,  34.6862,2,  34.6879,2,  -999.00,9,  141.92,2,  170.76,2,    37.4,2,    0.02,2,    2.48,2,-999.000,9,-999.000,9,-999.000,9,-999.0000,9,  -999.0,9,  -999.0,9,-999.0,9, -999.00,9,  -999.0,9,  -999.0,     -999.0,9,  -999.0,9,     -999.0,9,     -999.0,9, -999.00,9,     -999.0,9,     1.1452,    27.7848