BOTTLE,20231018CCHSIOENA
EXPOCODE,SECT_ID,STNNBR,CASTNO,SAMPNO,BTLNBR,BTLNBR_FLAG_W,DATE,TIME,LATITUDE,LONGITUDE,DEPTH,CTDPRS,CTDPRS_FLAG_W,CTDTMP,CTDTMP_FLAG_W,CTDSAL,CTDSAL_FLAG_W,SALNTY,SALNTY_FLAG_W,CTDOXY,CTDOXY_FLAG_W,OXYGEN,OXYGEN_FLAG_W,SILCAT,SILCAT_FLAG_W,NITRAT,NITRAT_FLAG_W,NITRIT,NITRIT_FLAG_W,PHSPHT,PHSPHT_FLAG_W,CFC-11,CFC-11_FLAG_W,CFC-12,CFC-12_FLAG_W,CFC113,CFC113_FLAG_W,SF6,SF6_FLAG_W,TCARBN,TCARBN_FLAG_W,ALKALI,ALKALI_FLAG_W,PH_SWS,PH_SWS_FLAG_W,DELC13,DELC13_FLAG_W,DELC14,DELC14_FLAG_W,C14ERR,NI,NI_FLAG_W,BARIUM,BARIUM_FLAG_W,CU,CU_FLAG_W,TOC,TOC_FLAG_W,CHLORA,CHLORA_FLAG_W,CALCIUM,CALCIUM_FLAG_W,THETA,SIG0
,,,,,,,,,,,METERS,DBAR,,ITS-90,,PSS-78,,PSS-78,,UMOL/KG,,UMOL/KG,,UMOL/KG,,UMOL/KG,,UMOL/KG,,UMOL/KG,,PMOL/KG,,PMOL/KG,,PMOL/KG,,FMOL/KG,,UMOL/KG,,UMOL/KG,,,,/MILLE,,/MILLE,,/MILLE,UMOL/L,,NMOL/KG,,UMOL/L,,UMOL/L,,UG/KG,,MMOL/KG,,ITS-90,KG/M^3
49NZ199905_1,       P01C,      77,1,12,12,2,19990904,1450,46.9955,-162.6208,       5174,    49.8,2,   5.2116,2,  32.7719,2,  32.7789,2,  -999.00,9,     308,2,   18.22,2,   15.32,6,    0.71,2,    1.38,2,   4.645,2,   2.529,2,   0.417,2,   0.3645,3,  2064.6,2,  2212.9,2,7.721,2, -999.00,1,  -999.0,9,  -999.0,     -999.0,1,      56,2,     -999.0,1,     -999.0,1,    0.13,2,     -999.0,1,     5.2079,    25.8915
49NZ199905_1,       P01C,      77,1,11,11,2,19990904,1450,46.9955,-162.6208,       5174,   100.3,2,   4.5309,2,  32.8252,2,  32.8231,4,  -999.00,9,  309.62,2,   21.24,3,   17.41,3,       0,3,    1.47,3,   4.763,2,   2.571,2,   0.413,2,   0.4589,3,    2113,2,  2215.6,2,7.713,2, -999.00,1,  -999.0,9,  -999.0,     -999.0,1,    53.7,2,     -999.0,1,     -999.0,1,    0.02,2,     -999.0,1,     4.5239,    26.0013
49NZ199905_1,       P01C,      77,1,10,10,2,19990904,1450,46.9955,-162.6208,       5174,   201.9,2,   4.6024,2,  33.7658,2,  33.7656,2,  -999.00,9,  143.84,2,   60.36,2,   32.87,2,       0,2,     2.4,2,   2.874,2,   1.525,2,    0.19,2,   0.2136,3,  2242.6,2,  2275.3,2,7.471,2, -999.00,1,  -999.0,9,  -999.0,     -999.0,1,    61.2,2,     -999.0,1,     -999.0,1,       0,2,     -999.0,1,     4.5876,    26.7426
49NZ199905_1,       P01C,      77,1,9,9,2,19990904,1450,46.9955,-162.6208,       5174,   401.9,2,   4.0122,2,  33.9999,2,  34.0015,6,  -999.00,9,   63.79,2,   91.95,2,   40.29,2,       0,2,    2.91,2,   1.229,2,   0.661,2,   0.074,2,   0.0582,3,  2294.2,2,  2309.1,2,7.356,2, -999.00,1,  -999.0,9,  -999.0,     -999.0,1,      74,2,     -999.0,1,     -999.0,1, -999.00,9,     -999.0,1,     3.9839,    26.9936
49NZ199905_1,       P01C,      77,1,8,8,2,19990904,1450,46.9955,-162.6208,       5174,   600.1,2,   3.6658,2,  34.1567,2,  34.1573,2,  -999.00,9,   32.57,2,  113.18,2,   42.67,2,       0,2,    3.06,2,    0.47,2,   0.287,2,   0.028,2,        0,3,  2331.8,2,  2334.4,2,7.323,2, -999.00,1,  -999.0,9,  -999.0,     -999.0,1,    84.5,2,     -999.0,1,     -999.0,1, -999.00,9,     -999.0,1,     3.6241,    27.1536
49NZ199905_1,       P01C,      77,1,7,7,2,19990904,1450,46.9955,-162.6208,       5174,   802.3,2,    3.308,2,  34.2904,2,  34.2938,2,  -999.00,9,   27.78,2,  128.89,2,   43.39,2,       0,2,    3.13,2,   0.139,2,   0.086,2,   0.001,2,   0.0037,3,  2347.1,2,  2355.5,2,7.338,2, -999.00,1,  -999.0,9,  -999.0,     -999.0,1,    96.3,2,     -999.0,1,     -999.0,1, -999.00,9,     -999.0,1,     3.2531,     27.298
49NZ199905_1,       P01C,      77,1,6,6,2,19990904,1450,46.9955,-162.6208,       5174,   999.2,2,   2.9339,2,  34.3686,2,  34.3706,2,  -999.00,9,   25.47,2,  141.34,2,   43.45,2,       0,2,    3.12,2,   0.069,2,   0.047,2,       0,2,        0,3,  2364.2,2,  2368.2,2,7.34,2, -999.00,1,  -999.0,9,  -999.0,     -999.0,1,     104,2,     -999.0,1,     -999.0,1, -999.00,9,     -999.0,1,     2.8668,    27.3947
49NZ199905_1,       P01C,      77,1,5,5,2,19990904,1450,46.9955,-162.6208,       5174,  1499.8,2,   2.3272,2,  34.5018,2,  34.5032,6,  -999.00,9,   27.34,2,  162.28,2,   43.84,2,       0,2,    3.13,2,       0,2,    0.01,2,   0.007,2,        0,3,    2385,2,  2394.6,2,7.355,2, -999.00,1,  -999.0,9,  -999.0,     -999.0,1,   120.4,2,     -999.0,1,     -999.0,1, -999.00,9,     -999.0,1,     2.2273,    27.5554
49NZ199905_1,       P01C,      77,1,4,4,2,19990904,1450,46.9955,-162.6208,       5174,  2001.7,2,   1.9766,2,  34.5796,2,  34.5796,2,  -999.00,9,   49.72,2,  170.53,2,   42.68,6,       0,2,    3.03,2,       0,2,       0,2,   0.003,2,   0.0098,3,  2380.4,2,  2405.7,2,7.402,2, -999.00,1,  -999.0,9,  -999.0,     -999.0,1,   135.1,2,     -999.0,1,     -999.0,1, -999.00,9,     -999.0,1,     1.8405,    27.6473
49NZ199905_1,       P01C,      77,1,3,3,2,19990904,1450,46.9955,-162.6208,       5174,  2998.5,2,   1.5748,2,  34.6566,2,  34.6555,2,  -999.00,9,  110.51,2,  167.05,2,   38.72,2,       0,2,    2.71,2,       0,2,   0.002,2,       0,2,        0,3,  2346.9,2,  2412.2,2,7.509,2, -999.00,1,  -999.0,9,  -999.0,     -999.0,1,   145.9,2,     -999.0,1,     -999.0,1, -999.00,9,     -999.0,1,     1.3566,     27.744
49NZ199905_1,       P01C,      77,1,2,2,2,19990904,1450,46.9955,-162.6208,       5174,  3999.7,2,   1.4756,2,  34.6828,2,  34.6794,2,  -999.00,9,  142.57,2,  161.63,2,   36.62,2,       0,2,    2.56,2,   0.005,2,       0,2,       0,2,   0.0027,3,  2328.7,2,    2418,2,7.566,2, -999.00,1,  -999.0,9,  -999.0,     -999.0,1,   151.9,2,     -999.0,1,     -999.0,1, -999.00,9,     -999.0,1,     1.1574,    27.7771
49NZ199905_1,       P01C,      77,1,1,1,2,19990904,1450,46.9955,-162.6208,       5174,  5256.6,2,   1.5793,2,  34.6891,2,  34.6875,2,  -999.00,9,  149.92,2,     164,2,   36.22,2,       0,2,    2.52,2,       0,2,       0,2,   0.002,2,        0,3,  2323.2,2,    2416,2,7.58,2, -999.00,1,  -999.0,9,  -999.0,     -999.0,1,   155.2,2,     -999.0,1,     -999.0,1, -999.00,9,     -999.0,1,     1.1106,    27.7868
49NZ199905_1,       P01C,      78,1,12,12,2,19990904,2046,47.0008,-161.5002,       5076,    49.4,2,   7.0728,2,  32.7401,2,  32.7458,2,  -999.00,9,  305.33,2,   22.13,2,   14.42,6,    0.17,2,    1.32,2,-999.000,9,-999.000,9,-999.000,9,-999.0000,9,  -999.0,9,  -999.0,9,-999.0,9, -999.00,9,  -999.0,9,  -999.0,     -999.0,9,  -999.0,9,     -999.0,9,     -999.0,9, -999.00,9,     -999.0,9,     7.0684,    25.6344
49NZ199905_1,       P01C,      78,1,11,11,2,19990904,2046,47.0008,-161.5002,       5076,    99.6,2,   4.3479,2,  32.8179,2,  32.8217,2,  -999.00,9,  309.87,2,   23.49,2,   18.22,2,    0.02,2,    1.49,2,-999.000,9,-999.000,9,-999.000,9,-999.0000,9,  -999.0,9,  -999.0,9,-999.0,9, -999.00,9,  -999.0,9,  -999.0,     -999.0,9,  -999.0,9,     -999.0,9,     -999.0,9, -999.00,9,     -999.0,9,     4.3411,    26.0192
49NZ199905_1,       P01C,      78,1,10,10,2,19990904,2046,47.0008,-161.5002,       5076,   199.2,2,   4.0106,2,  33.7267,2,  33.7282,2,  -999.00,9,  117.31,2,   68.34,2,   36.85,2,    0.02,2,    2.59,2,-999.000,9,-999.000,9,-999.000,9,-999.0000,9,  -999.0,9,  -999.0,9,-999.0,9, -999.00,9,  -999.0,9,  -999.0,     -999.0,9,  -999.0,9,     -999.0,9,     -999.0,9, -999.00,9,     -999.0,9,      3.997,    26.7749
49NZ199905_1,       P01C,      78,1,9,9,2,19990904,2046,47.0008,-161.5002,       5076,     401,2,   3.8348,2,  34.0284,2,  34.0289,6,  -999.00,9,   46.22,2,   97.25,2,   42.46,2,    0.04,2,    2.97,2,-999.000,9,-999.000,9,-999.000,9,-999.0000,9,  -999.0,9,  -999.0,9,-999.0,9, -999.00,9,  -999.0,9,  -999.0,     -999.0,9,  -999.0,9,     -999.0,9,     -999.0,9, -999.00,9,     -999.0,9,     3.8071,    27.0333
49NZ199905_1,       P01C,      78,1,8,8,2,19990904,2046,47.0008,-161.5002,       5076,   599.9,2,   3.6039,2,  34.1834,2,  34.1844,2,  -999.00,9,   30.44,2,  114.68,2,   43.27,2,    0.02,2,    3.02,2,-999.000,9,-999.000,9,-999.000,9,-999.0000,9,  -999.0,9,  -999.0,9,-999.0,9, -999.00,9,  -999.0,9,  -999.0,     -999.0,9,  -999.0,9,     -999.0,9,     -999.0,9, -999.00,9,     -999.0,9,     3.5625,    27.1812
49NZ199905_1,       P01C,      78,1,7,7,2,19990904,2046,47.0008,-161.5002,       5076,   799.6,2,   3.2162,2,  34.3002,2,  34.3001,2,  -999.00,9,   25.39,2,  130.27,2,   43.76,2,    0.02,2,    3.06,2,-999.000,9,-999.000,9,-999.000,9,-999.0000,9,  -999.0,9,  -999.0,9,-999.0,9, -999.00,9,  -999.0,9,  -999.0,     -999.0,9,  -999.0,9,     -999.0,9,     -999.0,9, -999.00,9,     -999.0,9,     3.1621,    27.3115
49NZ199905_1,       P01C,      78,1,6,6,2,19990904,2046,47.0008,-161.5002,       5076,    1000,2,   2.8654,2,  34.3817,2,   34.381,2,  -999.00,9,   25.47,2,  141.62,2,   43.98,2,    0.01,2,    3.06,2,-999.000,9,-999.000,9,-999.000,9,-999.0000,9,  -999.0,9,  -999.0,9,-999.0,9, -999.00,9,  -999.0,9,  -999.0,     -999.0,9,  -999.0,9,     -999.0,9,     -999.0,9, -999.00,9,     -999.0,9,     2.7988,    27.4091
49NZ199905_1,       P01C,      78,1,5,5,2,19990904,2046,47.0008,-161.5002,       5076,  1500.4,2,   2.2768,2,  34.5116,2,  34.5111,2,  -999.00,9,   29.21,2,  160.59,2,    44.4,2,    0.01,2,    3.05,2,-999.000,9,-999.000,9,-999.000,9,-999.0000,9,  -999.0,9,  -999.0,9,-999.0,9, -999.00,9,  -999.0,9,  -999.0,     -999.0,9,  -999.0,9,     -999.0,9,     -999.0,9, -999.00,9,     -999.0,9,     2.1774,    27.5658
49NZ199905_1,       P01C,      78,1,4,4,2,19990904,2046,47.0008,-161.5002,       5076,  2001.1,2,   1.9435,2,  34.5857,2,  34.5847,2,  -999.00,9,   51.54,2,  168.77,2,   43.17,6,       0,2,    2.95,2,-999.000,9,-999.000,9,-999.000,9,-999.0000,9,  -999.0,9,  -999.0,9,-999.0,9, -999.00,9,  -999.0,9,  -999.0,     -999.0,9,  -999.0,9,     -999.0,9,     -999.0,9, -999.00,9,     -999.0,9,      1.808,    27.6539
49NZ199905_1,       P01C,      78,1,3,3,2,19990904,2046,47.0008,-161.5002,       5076,  3000.1,2,   1.5717,2,  34.6567,2,  34.6561,2,  -999.00,9,   111.2,2,  163.65,2,   39.12,2,    0.01,2,    2.67,2,-999.000,9,-999.000,9,-999.000,9,-999.0000,9,  -999.0,9,  -999.0,9,-999.0,9, -999.00,9,  -999.0,9,  -999.0,     -999.0,9,  -999.0,9,     -999.0,9,     -999.0,9, -999.00,9,     -999.0,9,     1.3534,    27.7448
49NZ199905_1,       P01C,      78,1,2,2,2,19990904,2046,47.0008,-161.5002,       5076,  3999.3,2,   1.4816,2,  34.6819,2,  34.6818,2,  -999.00,9,  141.23,2,  160.64,2,   37.21,2,       0,2,    2.53,2,-999.000,9,-999.000,9,-999.000,9,-999.0000,9,  -999.0,9,  -999.0,9,-999.0,9, -999.00,9,  -999.0,9,  -999.0,     -999.0,9,  -999.0,9,     -999.0,9,     -999.0,9, -999.00,9,     -999.0,9,     1.1632,    27.7787
49NZ199905_1,       P01C,      78,1,1,1,2,19990904,2046,47.0008,-161.5002,       5076,  5164.4,2,   1.5752,2,  34.6883,2,  34.6869,2,  -999.00,9,  147.66,2,  163.07,2,    36.8,2,    0.01,2,    2.46,2,-999.000,9,-999.000,9,-999.000,9,-999.0000,9,  -999.0,9,  -999.0,9,-999.0,9, -999.00,9,  -999.0,9,  -999.0,     -999.0,9,  -999.0,9,     -999.0,9,     -999.0,9, -999.00,9,     -999.0,9,     1.1181,    27.7858
49NZ199905_1,       P01C,      79,1,12,12,2,19990905,300,47.0002,-160.36,       5122,   100.2,2,   4.6136,2,  32.8138,2,-999.0000,9,  -999.00,9, -999.00,9, -999.00,9, -999.00,9, -999.00,9, -999.00,9,-999.000,9,-999.000,9,-999.000,9,-999.0000,9,  -999.0,9,  -999.0,9,-999.0,9, -999.00,1,  -999.0,9,  -999.0,     -999.0,9,  -999.0,9,     -999.0,9,     -999.0,1, -999.00,1,     -999.0,1,     -999.0,     -999.0
49NZ199905_1,       P01C,      79,1,11,11,2,19990905,300,47.0002,-160.36,       5122,   200.8,2,   4.8449,2,   33.749,2,  33.7521,2,  -999.00,9,  154.03,2,   55.85,2,   32.11,2,    0.01,2,    2.23,2,   2.928,2,   1.607,2,   0.194,2,   0.1918,3,  2207.3,2,  2270.9,2,7.5,2, -999.00,1,  -999.0,9,  -999.0,     -999.0,9,    55.2,2,     -999.0,9,     -999.0,1,       0,2,     -999.0,1,     4.8298,    26.7052
49NZ199905_1,       P01C,      79,1,10,10,2,19990905,300,47.0002,-160.36,       5122,   300.8,2,   4.0617,2,  33.8492,2,  33.8496,2,  -999.00,9,   91.42,2,    77.5,2,    39.2,2,    0.02,2,     2.7,2,    2.04,2,   1.121,2,   0.132,2,   0.0975,3,  2270.7,2,  2288.6,2,7.378,2, -999.00,1,  -999.0,9,  -999.0,     -999.0,9,    61.7,2,     -999.0,9,     -999.0,1,       0,2,     -999.0,1,     4.0407,     26.867
49NZ199905_1,       P01C,      79,1,9,9,2,19990905,300,47.0002,-160.36,       5122,     400,2,     3.88,2,   33.962,2,  33.9642,6,  -999.00,9,   57.58,2,   92.17,2,   42.29,2,    0.02,2,    2.91,2,   1.322,2,   0.732,2,   0.076,2,   0.0117,3,  2303.1,2,  2304.2,2,7.337,2, -999.00,1,  -999.0,9,  -999.0,     -999.0,9,    69.9,2,     -999.0,9,     -999.0,1, -999.00,9,     -999.0,1,     3.8523,    26.9772
49NZ199905_1,       P01C,      79,1,8,8,2,19990905,300,47.0002,-160.36,       5122,   601.3,2,   3.6374,2,  34.1655,2,  34.1668,2,  -999.00,9,   32.04,2,  114.17,2,   43.64,2,    0.02,2,       3,2,   0.416,2,   0.258,2,   0.026,2,        0,3,  2341.9,2,  2333.9,2,7.33,2, -999.00,1,  -999.0,9,  -999.0,     -999.0,9,    82.3,2,     -999.0,9,     -999.0,1, -999.00,9,     -999.0,1,     3.5958,     27.164
49NZ199905_1,       P01C,      79,1,7,7,2,19990905,300,47.0002,-160.36,       5122,   801.2,2,   3.2531,2,  34.2874,2,  34.2899,2,  -999.00,9,   27.48,2,  130.21,2,   44.06,2,    0.02,2,    3.03,2,   0.149,2,   0.108,2,       0,2,        0,3,  2363.1,2,  2355.1,2,7.338,2, -999.00,1,  -999.0,9,  -999.0,     -999.0,9,    91.3,2,     -999.0,9,     -999.0,1, -999.00,9,     -999.0,1,     3.1986,       27.3
49NZ199905_1,       P01C,      79,1,6,6,2,19990905,300,47.0002,-160.36,       5122,   999.3,2,   2.8943,2,  34.3768,2,  34.3786,2,  -999.00,9,   24.34,2,  142.87,2,    44.7,2,    0.01,2,    3.05,3,    0.04,2,    0.03,2,       0,2,    0.004,3,  2383.2,2,    2372,2,7.345,2, -999.00,1,  -999.0,9,  -999.0,     -999.0,9,   101.1,2,     -999.0,9,     -999.0,1, -999.00,9,     -999.0,1,     2.8275,    27.4046
49NZ199905_1,       P01C,      79,1,5,5,2,19990905,300,47.0002,-160.36,       5122,  1502.2,2,     2.32,2,  34.5031,2,  34.5038,6,  -999.00,9,   27.03,2,  161.79,2,   45.08,2,    0.01,2,    3.05,2,   0.007,2,   0.002,2,       0,2,        0,3,  2392.2,2,  2393.6,2,7.356,2, -999.00,1,  -999.0,9,  -999.0,     -999.0,9,   115.5,2,     -999.0,9,     -999.0,1, -999.00,9,     -999.0,1,       2.22,    27.5565
49NZ199905_1,       P01C,      79,1,4,4,2,19990905,300,47.0002,-160.36,       5122,  1999.6,2,   1.9566,2,  34.5834,2,  34.5847,2,  -999.00,9,   50.28,2,  169.72,2,   43.79,6,    0.01,2,    2.93,2,   0.006,2,   0.008,2,       0,2,   0.0068,3,  2386.8,2,  2406.2,2,7.405,2, -999.00,1,  -999.0,9,  -999.0,     -999.0,9,   131.1,2,     -999.0,9,     -999.0,1, -999.00,9,     -999.0,1,      1.821,    27.6529
49NZ199905_1,       P01C,      79,1,3,3,2,19990905,300,47.0002,-160.36,       5122,    2998,2,   1.5761,2,  34.6561,2,  34.6555,2,  -999.00,9,   111.2,2,  164.29,2,   39.62,2,    0.01,2,    2.65,2,       0,2,       0,2,       0,2,        0,3,    2347,2,  2411.5,2,7.515,2, -999.00,1,  -999.0,9,  -999.0,     -999.0,9,   142.9,2,     -999.0,9,     -999.0,1, -999.00,9,     -999.0,1,     1.3579,    27.7439
49NZ199905_1,       P01C,      79,1,2,2,2,19990905,300,47.0002,-160.36,       5122,  4000.8,2,   1.4803,2,  34.6817,2,  34.6814,2,  -999.00,9,  141.88,2,  159.29,2,    37.5,2,    0.01,2,     2.5,2,       0,2,   0.008,2,       0,2,        0,3,  2326.8,2,    2416,2,7.572,2, -999.00,1,  -999.0,9,  -999.0,     -999.0,9,     145,2,     -999.0,9,     -999.0,1, -999.00,9,     -999.0,1,     1.1618,    27.7784
49NZ199905_1,       P01C,      79,1,1,1,2,19990905,300,47.0002,-160.36,       5122,  5210.7,2,   1.5777,2,  34.6885,2,  34.6879,2,  -999.00,9,  148.61,2,  162.36,2,   37.24,2,    0.02,2,    2.46,2,   0.003,2,       0,2,   0.001,2,   0.0027,3,  2319.2,2,  2416.6,2,7.586,2, -999.00,1,  -999.0,9,  -999.0,     -999.0,9,   147.1,2,     -999.0,9,     -999.0,1, -999.00,9,     -999.0,1,     1.1148,    27.7869