BOTTLE,20231018CCHSIOENA
EXPOCODE,SECT_ID,STNNBR,CASTNO,SAMPNO,BTLNBR,BTLNBR_FLAG_W,DATE,TIME,LATITUDE,LONGITUDE,DEPTH,CTDPRS,CTDPRS_FLAG_W,CTDTMP,CTDTMP_FLAG_W,CTDSAL,CTDSAL_FLAG_W,SALNTY,SALNTY_FLAG_W,CTDOXY,CTDOXY_FLAG_W,OXYGEN,OXYGEN_FLAG_W,SILCAT,SILCAT_FLAG_W,NITRAT,NITRAT_FLAG_W,NITRIT,NITRIT_FLAG_W,PHSPHT,PHSPHT_FLAG_W,CFC-11,CFC-11_FLAG_W,CFC-12,CFC-12_FLAG_W,CFC113,CFC113_FLAG_W,SF6,SF6_FLAG_W,TCARBN,TCARBN_FLAG_W,ALKALI,ALKALI_FLAG_W,PH_SWS,PH_SWS_FLAG_W,DELC13,DELC13_FLAG_W,DELC14,DELC14_FLAG_W,C14ERR,NI,NI_FLAG_W,BARIUM,BARIUM_FLAG_W,CU,CU_FLAG_W,TOC,TOC_FLAG_W,CHLORA,CHLORA_FLAG_W,CALCIUM,CALCIUM_FLAG_W,THETA,SIG0
,,,,,,,,,,,METERS,DBAR,,ITS-90,,PSS-78,,PSS-78,,UMOL/KG,,UMOL/KG,,UMOL/KG,,UMOL/KG,,UMOL/KG,,UMOL/KG,,PMOL/KG,,PMOL/KG,,PMOL/KG,,FMOL/KG,,UMOL/KG,,UMOL/KG,,,,/MILLE,,/MILLE,,/MILLE,UMOL/L,,NMOL/KG,,UMOL/L,,UMOL/L,,UG/KG,,MMOL/KG,,ITS-90,KG/M^3
49NZ199905_1,       P01C,      80,1,12,12,2,19990905,843,46.99,-159.2405,       5190,      50,2,   7.3657,2,  32.7361,2,  32.7407,2,  -999.00,9,  305.87,2,   21.39,2,   13.66,6,    0.15,2,     1.3,2,-999.000,9,-999.000,9,-999.000,9,-999.0000,9,  -999.0,9,  -999.0,9,-999.0,9, -999.00,9,  -999.0,9,  -999.0,     -999.0,9,  -999.0,9,     -999.0,9,     -999.0,9, -999.00,9,     -999.0,9,     7.3611,    25.5905
49NZ199905_1,       P01C,      80,1,11,11,2,19990905,843,46.99,-159.2405,       5190,    99.4,2,   4.3757,2,  32.8142,2,  32.8174,2,  -999.00,9,  309.92,2,   23.18,2,   17.77,2,    0.01,2,     1.5,2,-999.000,9,-999.000,9,-999.000,9,-999.0000,9,  -999.0,9,  -999.0,9,-999.0,9, -999.00,9,  -999.0,9,  -999.0,     -999.0,9,  -999.0,9,     -999.0,9,     -999.0,9, -999.00,9,     -999.0,9,     4.3689,    26.0129
49NZ199905_1,       P01C,      80,1,10,10,2,19990905,843,46.99,-159.2405,       5190,   199.4,2,   4.6314,2,  33.7746,2,   33.776,2,  -999.00,9,   140.8,2,   60.34,2,   33.63,2,    0.01,2,    2.35,2,-999.000,9,-999.000,9,-999.000,9,-999.0000,9,  -999.0,9,  -999.0,9,-999.0,9, -999.00,9,  -999.0,9,  -999.0,     -999.0,9,  -999.0,9,     -999.0,9,     -999.0,9, -999.00,9,     -999.0,9,     4.6168,    26.7476
49NZ199905_1,       P01C,      80,1,9,9,2,19990905,843,46.99,-159.2405,       5190,     400,2,   3.8755,2,  33.9836,2,   33.988,6,  -999.00,9,   53.36,2,   93.62,2,   42.61,2,       0,2,    2.95,2,-999.000,9,-999.000,9,-999.000,9,-999.0000,9,  -999.0,9,  -999.0,9,-999.0,9, -999.00,9,  -999.0,9,  -999.0,     -999.0,9,  -999.0,9,     -999.0,9,     -999.0,9, -999.00,9,     -999.0,9,     3.8478,    26.9966
49NZ199905_1,       P01C,      80,1,8,8,2,19990905,843,46.99,-159.2405,       5190,   599.6,2,   3.6799,2,   34.187,2,  34.1899,2,  -999.00,9,   36.61,2,  113.43,2,   43.22,2,    0.02,2,       3,2,-999.000,9,-999.000,9,-999.000,9,-999.0000,9,  -999.0,9,  -999.0,9,-999.0,9, -999.00,9,  -999.0,9,  -999.0,     -999.0,9,  -999.0,9,     -999.0,9,     -999.0,9, -999.00,9,     -999.0,9,     3.6382,    27.1782
49NZ199905_1,       P01C,      80,1,7,7,2,19990905,843,46.99,-159.2405,       5190,   801.6,2,    3.252,2,  34.3036,2,  34.3048,2,  -999.00,9,   27.82,2,  129.58,2,   44.41,2,    0.01,2,    3.06,2,-999.000,9,-999.000,9,-999.000,9,-999.0000,9,  -999.0,9,  -999.0,9,-999.0,9, -999.00,9,  -999.0,9,  -999.0,     -999.0,9,  -999.0,9,     -999.0,9,     -999.0,9, -999.00,9,     -999.0,9,     3.1975,     27.312
49NZ199905_1,       P01C,      80,1,6,6,2,19990905,843,46.99,-159.2405,       5190,   999.4,2,   2.8758,2,  34.3804,2,  34.3817,2,  -999.00,9,   23.91,2,   142.5,2,   44.86,2,    0.01,2,     3.1,2,-999.000,9,-999.000,9,-999.000,9,-999.0000,9,  -999.0,9,  -999.0,9,-999.0,9, -999.00,9,  -999.0,9,  -999.0,     -999.0,9,  -999.0,9,     -999.0,9,     -999.0,9, -999.00,9,     -999.0,9,     2.8091,    27.4087
49NZ199905_1,       P01C,      80,1,5,5,2,19990905,843,46.99,-159.2405,       5190,  1499.5,2,   2.2918,2,  34.5084,2,  34.5096,6,  -999.00,9,   28.29,2,  161.92,2,    45.1,2,    0.01,2,    3.09,2,-999.000,9,-999.000,9,-999.000,9,-999.0000,9,  -999.0,9,  -999.0,9,-999.0,9, -999.00,9,  -999.0,9,  -999.0,     -999.0,9,  -999.0,9,     -999.0,9,     -999.0,9, -999.00,9,     -999.0,9,     2.1923,    27.5634
49NZ199905_1,       P01C,      80,1,4,4,2,19990905,843,46.99,-159.2405,       5190,  2000.4,2,   1.9425,2,  34.5862,2,  34.5867,2,  -999.00,9,   50.93,2,  170.82,2,   43.83,6,    0.01,2,    2.99,2,-999.000,9,-999.000,9,-999.000,9,-999.0000,9,  -999.0,9,  -999.0,9,-999.0,9, -999.00,9,  -999.0,9,  -999.0,     -999.0,9,  -999.0,9,     -999.0,9,     -999.0,9, -999.00,9,     -999.0,9,      1.807,    27.6556
49NZ199905_1,       P01C,      80,1,3,3,2,19990905,843,46.99,-159.2405,       5190,  3001.4,2,    1.578,2,  34.6558,2,  34.6543,2,  -999.00,9,  110.77,2,  165.02,2,   39.68,2,    0.01,2,    2.68,2,-999.000,9,-999.000,9,-999.000,9,-999.0000,9,  -999.0,9,  -999.0,9,-999.0,9, -999.00,9,  -999.0,9,  -999.0,     -999.0,9,  -999.0,9,     -999.0,9,     -999.0,9, -999.00,9,     -999.0,9,     1.3594,    27.7429
49NZ199905_1,       P01C,      80,1,2,2,2,19990905,843,46.99,-159.2405,       5190,  4000.5,2,   1.4794,2,  34.6816,2,  34.6822,2,  -999.00,9,  142.36,2,  159.32,2,   37.54,2,    0.01,2,    2.54,2,-999.000,9,-999.000,9,-999.000,9,-999.0000,9,  -999.0,9,  -999.0,9,-999.0,9, -999.00,9,  -999.0,9,  -999.0,     -999.0,9,  -999.0,9,     -999.0,9,     -999.0,9, -999.00,9,     -999.0,9,      1.161,    27.7791
49NZ199905_1,       P01C,      80,1,1,1,2,19990905,843,46.99,-159.2405,       5190,  5282.4,2,   1.5865,2,  34.6884,2,  34.6881,2,  -999.00,9,     149,2,  163.46,2,   37.24,2,       0,2,     2.5,2,-999.000,9,-999.000,9,-999.000,9,-999.0000,9,  -999.0,9,  -999.0,9,-999.0,9, -999.00,9,  -999.0,9,  -999.0,     -999.0,9,  -999.0,9,     -999.0,9,     -999.0,9, -999.00,9,     -999.0,9,     1.1143,    27.7871
49NZ199905_1,       P01C,      81,1,16,16,2,19990905,1311,47.0078,-158.125,       5235,     9.1,2,  12.6696,2,  32.4747,2,  32.5112,3,  -999.00,9,  274.02,2,   18.12,3,   10.53,3,    0.09,3,    1.02,3,   3.095,4,   1.853,4,   0.285,4,   0.3125,3,  1994.7,3,  2201.2,3,7.838,2, -999.00,1,   -12.1,2,     4.3,     -999.0,1,      54,2,     -999.0,1,     -999.0,1,     0.2,2,     -999.0,1,    12.6684,    24.5305
49NZ199905_1,       P01C,      81,1,15,15,2,19990905,1311,47.0078,-158.125,       5235,    49.9,2,   7.1007,2,  32.6921,2,  32.7119,4,  -999.00,9,  305.26,2,   18.67,3,   13.69,3,    0.31,3,    1.27,3,   4.279,2,   2.425,2,   0.393,2,   0.3815,3,  2045.5,2,  2218.2,2,7.756,2, -999.00,1,   -12.7,2,     3.9,     -999.0,1,    53.1,2,     -999.0,1,     -999.0,1,    0.17,2,     -999.0,1,     7.0962,     25.604
49NZ199905_1,       P01C,      81,1,14,14,2,19990905,1311,47.0078,-158.125,       5235,    99.8,2,   4.6594,2,  32.7889,2,   32.789,2,  -999.00,9,  309.19,2,   21.66,2,   17.53,2,       0,2,    1.47,2,    4.63,2,    2.58,2,   0.412,2,   0.3426,3,  2069.6,2,  2210.7,2,7.715,2, -999.00,1,   -18.7,2,     4.2,     -999.0,1,    52.2,2,     -999.0,1,     -999.0,1,    0.06,2,     -999.0,1,     4.6523,    25.9606
49NZ199905_1,       P01C,      81,1,13,13,2,19990905,1311,47.0078,-158.125,       5235,   201.4,2,   4.9629,2,  33.7565,2,  33.7482,4,  -999.00,9,  162.21,2,   53.43,3,   31.43,3,       0,3,     2.2,3,   3.002,4,   1.661,4,   0.209,4,   0.1967,3,  2199.8,3,  2273.7,3,7.528,2, -999.00,1,   -41.9,2,     5.1,     -999.0,1,    55.9,2,     -999.0,1,     -999.0,1,       0,2,     -999.0,1,     4.9476,    26.6889
49NZ199905_1,       P01C,      81,2,12,12,2,19990905,1447,47.0007,-158.122,       5234,     300,2,   4.0669,2,  33.8607,2,   33.868,3,  -999.00,9,   85.85,2,   79.72,3,   39.84,3,       0,3,    2.78,3,   1.923,4,   1.048,4,   0.129,4,   0.1057,3,  2274.7,3,  2291.9,3,7.375,2, -999.00,1,   -80.4,2,     4.6,     -999.0,1,    67.2,2,     -999.0,1,     -999.0,1,       0,2,     -999.0,1,      4.046,    26.8811
49NZ199905_1,       P01C,      81,2,11,11,2,19990905,1447,47.0007,-158.122,       5234,   400.2,2,   4.0662,2,  34.0012,2,  34.0021,2,  -999.00,9,   65.49,2,    90.5,2,   40.94,6,       0,2,    2.88,2,   1.186,2,   0.643,2,    0.07,2,   0.0387,3,  2296.9,2,  2307.9,2,7.365,2, -999.00,1,  -116.1,2,     3.8,     -999.0,1,    74.1,2,     -999.0,1,     -999.0,1, -999.00,9,     -999.0,1,     4.0379,    26.9886
49NZ199905_1,       P01C,      81,2,10,10,2,19990905,1447,47.0007,-158.122,       5234,   600.8,2,   3.6787,2,   34.183,2,  34.1842,2,  -999.00,9,   35.91,2,  113.44,2,   43.34,2,       0,2,    3.03,2,   0.385,2,   0.224,2,   0.025,2,        0,3,  2335.3,2,  2338.3,2,7.34,2, -999.00,1,  -165.2,2,     3.6,     -999.0,1,    85.7,2,     -999.0,1,     -999.0,1, -999.00,9,     -999.0,1,     3.6369,    27.1738
49NZ199905_1,       P01C,      81,2,9,9,2,19990905,1447,47.0007,-158.122,       5234,   799.9,2,   3.2664,2,  34.2905,2,  34.2913,6,  -999.00,9,   28.17,2,  128.84,2,   44.14,2,       0,2,    3.11,2,   0.153,2,   0.096,2,   0.012,2,   0.0069,3,  2354.4,2,  2355.1,2,7.342,2, -999.00,1,  -185.9,2,     3.2,     -999.0,1,    95.4,2,     -999.0,1,     -999.0,1, -999.00,9,     -999.0,1,      3.212,    27.2999
49NZ199905_1,       P01C,      81,2,8,8,2,19990905,1447,47.0007,-158.122,       5234,    1001,2,   2.9078,2,  34.3738,2,  34.3735,2,  -999.00,9,   23.47,2,  141.44,2,   44.79,2,       0,2,    3.14,2,    0.04,2,   0.032,2,       0,2,        0,3,  2373.1,2,  2369.9,2,7.342,2, -999.00,1,  -200.1,2,     3.5,     -999.0,1,   104.9,2,     -999.0,1,     -999.0,1, -999.00,9,     -999.0,1,     2.8408,    27.3994
49NZ199905_1,       P01C,      81,2,7,7,2,19990905,1447,47.0007,-158.122,       5234,  1250.6,2,   2.5643,2,  34.4517,2,  34.4508,4,  -999.00,9,   18.04,2,  153.65,3,   45.47,3,       0,3,    3.14,3,       0,2,       0,2,   0.002,2,        0,3,  2389.4,2,  2383.7,2,7.343,2, -999.00,1,  -221.2,2,       3,     -999.0,1,   110.1,2,     -999.0,1,     -999.0,1, -999.00,9,     -999.0,1,     2.4813,    27.4924
49NZ199905_1,       P01C,      81,2,6,6,2,19990905,1447,47.0007,-158.122,       5234,  1501.4,2,   2.3097,2,  34.5076,2,  34.5084,2,  -999.00,9,   22.86,2,  161.89,2,   45.29,2,       0,2,    3.15,2,       0,2,   0.002,2,       0,2,    0.007,3,  2396.6,2,  2395.2,2,7.358,2, -999.00,1,  -221.8,2,     5.7,     -999.0,1,   119.7,2,     -999.0,1,     -999.0,1, -999.00,9,     -999.0,1,     2.2099,     27.561
49NZ199905_1,       P01C,      81,2,5,5,2,19990905,1447,47.0007,-158.122,       5234,  1750.6,2,   2.1038,2,  34.5527,2,  34.5524,6,  -999.00,9,   35.46,2,  167.04,2,   44.76,2,       0,2,    3.06,2,       0,2,   0.001,2,       0,2,        0,3,    2392,2,  2398.7,2,7.382,2, -999.00,1,  -226.5,2,     3.2,     -999.0,1,   126.2,2,     -999.0,1,     -999.0,1, -999.00,9,     -999.0,1,     1.9866,    27.6142
49NZ199905_1,       P01C,      81,2,4,4,2,19990905,1447,47.0007,-158.122,       5234,    2000,2,   1.9459,2,  34.5865,2,  34.5867,2,  -999.00,9,   50.54,2,  170.64,2,   43.69,6,       0,2,    3.01,2,       0,2,   0.007,2,   0.004,2,        0,3,  2387.4,2,  2402.8,2,7.416,2, -999.00,1,  -234.1,2,     4.9,     -999.0,1,   135.4,2,     -999.0,1,     -999.0,1, -999.00,9,     -999.0,1,     1.8104,    27.6553
49NZ199905_1,       P01C,      81,2,3,3,2,19990905,1447,47.0007,-158.122,       5234,  3000.5,2,   1.5742,2,  34.6564,2,  34.6559,2,  -999.00,9,  111.72,2,  165.23,2,   39.77,2,       0,2,     2.7,2,   0.001,2,       0,2,       0,2,        0,3,  2352.8,2,  2412.6,2,7.523,2, -999.00,1,  -230.8,2,     3.2,     -999.0,1,   141.8,2,     -999.0,1,     -999.0,1, -999.00,9,     -999.0,1,     1.3558,    27.7444
49NZ199905_1,       P01C,      81,2,2,2,2,19990905,1447,47.0007,-158.122,       5234,  4000.4,2,   1.4795,2,  34.6818,2,  34.6775,4,  -999.00,9,  142.01,2,  161.01,3,   37.69,3,       0,3,    2.53,3,       0,4,   0.006,4,       0,4,   0.0092,3,  2336.1,3,  2411.9,3,7.568,2, -999.00,1,  -231.1,2,     2.1,     -999.0,1,   146.9,2,     -999.0,1,     -999.0,1, -999.00,9,     -999.0,1,     1.1611,    27.7753
49NZ199905_1,       P01C,      81,2,1,1,2,19990905,1447,47.0007,-158.122,       5234,  5325.8,2,   1.5935,2,  34.6884,2,  34.6872,6,  -999.00,9,  149.57,2,  164.62,2,   37.25,2,       0,2,     2.5,2,       0,2,       0,2,   0.001,2,    0.002,3,  2333.1,2,  2417.6,2,7.581,2, -999.00,1,  -219.6,2,     2.3,     -999.0,1,   150.4,2,     -999.0,1,     -999.0,1, -999.00,9,     -999.0,1,     1.1156,    27.7862
49NZ199905_1,       P01C,      82,1,12,12,2,19990905,2025,47.0043,-157.0182,       5227,    49.8,2,   7.1723,2,  32.6749,2,  32.7138,3,  -999.00,9,  306.09,2,   18.03,3,   13.65,3,    0.38,3,     1.3,3,-999.000,9,-999.000,9,-999.000,9,-999.0000,9,  -999.0,9,  -999.0,9,-999.0,9, -999.00,9,  -999.0,9,  -999.0,     -999.0,9,  -999.0,9,     -999.0,9,     -999.0,9, -999.00,9,     -999.0,9,     7.1678,    25.5958
49NZ199905_1,       P01C,      82,1,11,11,2,19990905,2025,47.0043,-157.0182,       5227,    99.6,2,   4.3688,2,  32.7752,2,  32.7873,3,  -999.00,9,  309.28,2,   22.92,3,   17.63,3,    0.01,3,     1.5,3,-999.000,9,-999.000,9,-999.000,9,-999.0000,9,  -999.0,9,  -999.0,9,-999.0,9, -999.00,9,  -999.0,9,  -999.0,     -999.0,9,  -999.0,9,     -999.0,9,     -999.0,9, -999.00,9,     -999.0,9,     4.3619,    25.9898
49NZ199905_1,       P01C,      82,1,10,10,2,19990905,2025,47.0043,-157.0182,       5227,   199.6,2,    4.981,2,  33.7935,2,  33.7944,2,  -999.00,9,  147.89,2,   57.09,2,    32.1,2,    0.03,2,    2.31,2,-999.000,9,-999.000,9,-999.000,9,-999.0000,9,  -999.0,9,  -999.0,9,-999.0,9, -999.00,9,  -999.0,9,  -999.0,     -999.0,9,  -999.0,9,     -999.0,9,     -999.0,9, -999.00,9,     -999.0,9,     4.9658,    26.7235
49NZ199905_1,       P01C,      82,1,9,9,2,19990905,2025,47.0043,-157.0182,       5227,   399.4,2,   4.0173,2,   33.995,2,  34.0004,6,  -999.00,9,   62.75,2,   91.22,2,   41.06,2,    0.02,2,    2.89,2,-999.000,9,-999.000,9,-999.000,9,-999.0000,9,  -999.0,9,  -999.0,9,-999.0,9, -999.00,9,  -999.0,9,  -999.0,     -999.0,9,  -999.0,9,     -999.0,9,     -999.0,9, -999.00,9,     -999.0,9,     3.9892,    26.9922
49NZ199905_1,       P01C,      82,1,8,8,2,19990905,2025,47.0043,-157.0182,       5227,   599.9,2,   3.6819,2,  34.1848,2,  34.1875,2,  -999.00,9,    35.7,2,  113.07,2,   42.94,2,    0.01,2,    3.03,2,-999.000,9,-999.000,9,-999.000,9,-999.0000,9,  -999.0,9,  -999.0,9,-999.0,9, -999.00,9,  -999.0,9,  -999.0,     -999.0,9,  -999.0,9,     -999.0,9,     -999.0,9, -999.00,9,     -999.0,9,     3.6401,    27.1761
49NZ199905_1,       P01C,      82,1,7,7,2,19990905,2025,47.0043,-157.0182,       5227,   799.6,2,    3.257,2,  34.2994,2,  34.3005,2,  -999.00,9,   25.95,2,  129.62,2,   43.87,2,    0.01,2,    3.13,2,-999.000,9,-999.000,9,-999.000,9,-999.0000,9,  -999.0,9,  -999.0,9,-999.0,9, -999.00,9,  -999.0,9,  -999.0,     -999.0,9,  -999.0,9,     -999.0,9,     -999.0,9, -999.00,9,     -999.0,9,     3.2026,    27.3081
49NZ199905_1,       P01C,      82,1,6,6,2,19990905,2025,47.0043,-157.0182,       5227,   999.8,2,    2.929,2,  34.3751,2,  34.3776,2,  -999.00,9,   19.65,2,  141.13,2,   44.67,2,    0.01,2,    3.16,2,-999.000,9,-999.000,9,-999.000,9,-999.0000,9,  -999.0,9,  -999.0,9,-999.0,9, -999.00,9,  -999.0,9,  -999.0,     -999.0,9,  -999.0,9,     -999.0,9,     -999.0,9, -999.00,9,     -999.0,9,     2.8619,    27.4007
49NZ199905_1,       P01C,      82,1,5,5,2,19990905,2025,47.0043,-157.0182,       5227,  1498.9,2,   2.3136,2,   34.505,2,   34.506,6,  -999.00,9,   25.21,2,  161.69,2,    44.9,2,    0.01,2,    3.14,2,-999.000,9,-999.000,9,-999.000,9,-999.0000,9,  -999.0,9,  -999.0,9,-999.0,9, -999.00,9,  -999.0,9,  -999.0,     -999.0,9,  -999.0,9,     -999.0,9,     -999.0,9, -999.00,9,     -999.0,9,     2.2139,    27.5588
49NZ199905_1,       P01C,      82,1,4,4,2,19990905,2025,47.0043,-157.0182,       5227,  1998.8,2,    1.952,2,  34.5851,2,  34.5853,2,  -999.00,9,   49.72,2,  170.67,2,    43.5,6,       0,2,    3.03,2,-999.000,9,-999.000,9,-999.000,9,-999.0000,9,  -999.0,9,  -999.0,9,-999.0,9, -999.00,9,  -999.0,9,  -999.0,     -999.0,9,  -999.0,9,     -999.0,9,     -999.0,9, -999.00,9,     -999.0,9,     1.8165,    27.6537
49NZ199905_1,       P01C,      82,1,3,3,2,19990905,2025,47.0043,-157.0182,       5227,  3000.2,2,   1.5785,2,  34.6558,2,  34.6527,4,  -999.00,9,  111.42,2,  164.77,3,   39.29,3,    0.01,3,    2.72,3,-999.000,9,-999.000,9,-999.000,9,-999.0000,9,  -999.0,9,  -999.0,9,-999.0,9, -999.00,9,  -999.0,9,  -999.0,     -999.0,9,  -999.0,9,     -999.0,9,     -999.0,9, -999.00,9,     -999.0,9,       1.36,    27.7415
49NZ199905_1,       P01C,      82,1,2,2,2,19990905,2025,47.0043,-157.0182,       5227,  3999.1,2,   1.4748,2,  34.6821,2,  34.6816,2,  -999.00,9,  143.14,2,  159.08,2,   37.26,2,    0.01,2,    2.55,2,-999.000,9,-999.000,9,-999.000,9,-999.0000,9,  -999.0,9,  -999.0,9,-999.0,9, -999.00,9,  -999.0,9,  -999.0,     -999.0,9,  -999.0,9,     -999.0,9,     -999.0,9, -999.00,9,     -999.0,9,     1.1567,    27.7789
49NZ199905_1,       P01C,      82,1,1,1,2,19990905,2025,47.0043,-157.0182,       5227,  5318.7,2,    1.592,2,  34.6884,2,  34.6882,6,  -999.00,9,  149.05,2,  163.45,2,   36.97,2,    0.01,2,    2.53,2,-999.000,9,-999.000,9,-999.000,9,-999.0000,9,  -999.0,9,  -999.0,9,-999.0,9, -999.00,9,  -999.0,9,  -999.0,     -999.0,9,  -999.0,9,     -999.0,9,     -999.0,9, -999.00,9,     -999.0,9,      1.115,    27.7871