BOTTLE,20231018CCHSIOENA
EXPOCODE,SECT_ID,STNNBR,CASTNO,SAMPNO,BTLNBR,BTLNBR_FLAG_W,DATE,TIME,LATITUDE,LONGITUDE,DEPTH,CTDPRS,CTDPRS_FLAG_W,CTDTMP,CTDTMP_FLAG_W,CTDSAL,CTDSAL_FLAG_W,SALNTY,SALNTY_FLAG_W,CTDOXY,CTDOXY_FLAG_W,OXYGEN,OXYGEN_FLAG_W,SILCAT,SILCAT_FLAG_W,NITRAT,NITRAT_FLAG_W,NITRIT,NITRIT_FLAG_W,PHSPHT,PHSPHT_FLAG_W,CFC-11,CFC-11_FLAG_W,CFC-12,CFC-12_FLAG_W,CFC113,CFC113_FLAG_W,SF6,SF6_FLAG_W,TCARBN,TCARBN_FLAG_W,ALKALI,ALKALI_FLAG_W,PH_SWS,PH_SWS_FLAG_W,DELC13,DELC13_FLAG_W,DELC14,DELC14_FLAG_W,C14ERR,NI,NI_FLAG_W,BARIUM,BARIUM_FLAG_W,CU,CU_FLAG_W,TOC,TOC_FLAG_W,CHLORA,CHLORA_FLAG_W,CALCIUM,CALCIUM_FLAG_W,THETA,SIG0
,,,,,,,,,,,METERS,DBAR,,ITS-90,,PSS-78,,PSS-78,,UMOL/KG,,UMOL/KG,,UMOL/KG,,UMOL/KG,,UMOL/KG,,UMOL/KG,,PMOL/KG,,PMOL/KG,,PMOL/KG,,FMOL/KG,,UMOL/KG,,UMOL/KG,,,,/MILLE,,/MILLE,,/MILLE,UMOL/L,,NMOL/KG,,UMOL/L,,UMOL/L,,UG/KG,,MMOL/KG,,ITS-90,KG/M^3
49NZ199905_1,       P01C,     X16,1,24,24,2,19990906,2013,46.9987,-152.0005,       5132,     9.8,2,   12.818,2,  32.4407,2,  32.4439,2,  -999.00,9,  274.82,2,   16.71,2,    9.36,2,    0.11,2,    0.95,2,   3.193,2,   1.871,2,   0.282,2,   0.3494,3,  1993.4,2,  2182.9,2,7.836,2, -999.00,1,    21.7,2,     3.2,     -999.0,1,    52.9,2,     -999.0,1,     -999.0,1,    0.29,2,     -999.0,1,    12.8167,    24.4497
49NZ199905_1,       P01C,     X16,1,23,23,2,19990906,2013,46.9987,-152.0005,       5132,      49,2,  10.4654,2,  32.5282,2,  32.5433,3,  -999.00,9,  293.47,2,   16.47,3,   10.15,3,    0.12,3,    1.01,3,   3.845,4,   2.171,4,   0.346,4,   0.3318,3,  2015.3,3,  2189.2,3,7.798,2, -999.00,1,    14.3,2,       3,     -999.0,1,    55.7,2,     -999.0,1,     -999.0,1,     0.2,2,     -999.0,1,    10.4598,    24.9571
49NZ199905_1,       P01C,     X16,1,22,22,2,19990906,2013,46.9987,-152.0005,       5132,   101.2,2,   4.8606,2,  32.7467,2,   32.754,2,  -999.00,9,  308.47,2,   19.28,2,   15.74,2,    0.02,2,    1.36,2,   4.805,2,   2.604,2,   0.436,2,   0.4634,3,    2069,2,  2199.7,2,7.705,2, -999.00,1,    12.8,2,     2.8,     -999.0,1,    52.1,2,     -999.0,1,     -999.0,1,    0.06,2,     -999.0,1,     4.8532,    25.9112
49NZ199905_1,       P01C,     X16,1,21,21,2,19990906,2013,46.9987,-152.0005,       5132,   150.1,2,   5.4671,2,  33.5519,2,  33.6069,6,  -999.00,9,  196.18,2,   40.69,3,   26.11,3,    0.02,3,    1.88,3,    3.51,4,   1.905,4,    0.26,4,   0.2954,3,  2169.9,3,  2247.4,3,7.574,2, -999.00,1,      -5,2,     2.8,     -999.0,1,    55.4,2,     -999.0,1,     -999.0,1,    0.01,2,     -999.0,1,     5.4552,    26.5183
49NZ199905_1,       P01C,     X16,1,20,20,2,19990906,2013,46.9987,-152.0005,       5132,   200.7,2,   5.0879,2,  33.8156,2,  33.8222,2,  -999.00,9,  143.06,2,   57.83,2,   32.54,2,    0.01,2,    2.27,2,   2.632,2,   1.471,2,   0.187,2,   0.2476,3,    2226,2,    2271,2,7.489,2, -999.00,1,   -31.3,2,     3.4,     -999.0,1,    59.9,2,     -999.0,1,     -999.0,1,       0,2,     -999.0,1,     5.0724,    26.7334
49NZ199905_1,       P01C,     X16,1,19,19,2,19990906,2013,46.9987,-152.0005,       5132,   250.3,2,   4.7284,2,  33.8752,2,  33.8782,2,  -999.00,9,  114.39,2,   68.31,2,   35.71,2,    0.02,2,    2.49,2,    2.16,2,   1.185,2,   0.142,2,   0.1601,3,  2241.4,2,  2278.2,2,7.434,2, -999.00,1,   -65.8,2,       3,     -999.0,1,      67,2,     -999.0,1,     -999.0,1,       0,2,     -999.0,1,     4.7097,    26.8186
49NZ199905_1,       P01C,     X16,1,18,18,2,19990906,2013,46.9987,-152.0005,       5132,   299.7,2,    4.554,2,  33.9225,2,  33.9218,4,  -999.00,9,   95.86,2,   75.36,3,   37.55,3,    0.02,3,    2.62,3,   1.788,4,   0.992,4,   0.114,4,   0.0927,3,    2266,3,  2287.6,3,7.401,2, -999.00,1,   -74.1,2,     2.8,     -999.0,1,    68.3,2,     -999.0,1,     -999.0,1,       0,2,     -999.0,1,     4.5319,    26.8726
49NZ199905_1,       P01C,     X16,1,17,17,2,19990906,2013,46.9987,-152.0005,       5132,   350.1,2,    4.379,2,  33.9749,2,   33.981,2,  -999.00,9,   77.76,2,   83.85,2,   39.38,2,    0.01,2,    2.75,2,   1.316,2,   0.735,2,   0.081,2,   0.0237,3,  2281.9,2,  2298.9,2,7.382,2, -999.00,1,   -99.8,2,     2.9,     -999.0,1,    71.5,2,     -999.0,1,     -999.0,1, -999.00,9,     -999.0,1,     4.3535,    26.9388
49NZ199905_1,       P01C,     X16,1,16,16,2,19990906,2013,46.9987,-152.0005,       5132,   399.8,2,   4.2188,2,  34.0102,2,  34.0168,6,  -999.00,9,   66.62,2,    89.7,2,   40.54,6,       0,2,    2.82,2,   1.078,2,   0.618,2,   0.069,2,   0.0142,3,  2294.9,2,  2304.5,2,7.372,2, -999.00,1,  -116.5,2,     2.5,     -999.0,1,    74.4,2,     -999.0,1,     -999.0,1, -999.00,9,     -999.0,1,       4.19,    26.9845
49NZ199905_1,       P01C,     X16,1,15,15,2,19990906,2013,46.9987,-152.0005,       5132,   500.3,2,   4.0089,2,  34.1072,2,  34.1113,2,  -999.00,9,   46.96,2,  100.93,2,   41.81,2,    0.02,2,    2.91,2,   0.602,2,   0.351,2,   0.034,2,   0.0078,3,  2316.2,2,    2317,2,7.352,2, -999.00,1,  -130.6,2,     2.7,     -999.0,1,    82.8,2,     -999.0,1,     -999.0,1, -999.00,9,     -999.0,1,     3.9732,     27.082
49NZ199905_1,       P01C,     X16,1,14,14,2,19990906,2013,46.9987,-152.0005,       5132,   600.2,2,   3.7645,2,  34.1841,2,  34.1877,2,  -999.00,9,   34.87,2,  111.66,2,   42.92,2,    0.01,2,    3.01,2,   0.312,2,     0.2,2,   0.018,2,   0.0039,3,  2338.1,2,  2332.9,2,7.34,2, -999.00,1,  -152.9,2,     2.1,     -999.0,1,    86.8,2,     -999.0,1,     -999.0,1, -999.00,9,     -999.0,1,     3.7223,    27.1681
49NZ199905_1,       P01C,     X16,1,13,13,2,19990906,2013,46.9987,-152.0005,       5132,   800.2,2,   3.2807,2,  34.2918,2,  34.2911,4,  -999.00,9,      23,2,  128.78,3,   44.07,3,    0.02,3,     3.1,3,   0.083,4,    0.05,4,       0,4,   0.0033,3,  2367.7,3,  2351.3,3,7.331,2, -999.00,1,  -188.9,2,     2.1,     -999.0,1,    97.3,2,     -999.0,1,     -999.0,1, -999.00,9,     -999.0,1,     3.2261,    27.2984
49NZ199905_1,       P01C,     X16,2,12,12,2,19990906,2159,46.9962,-151.9953,       5134,   998.5,2,   2.9373,2,  34.3697,2,  34.3733,2,  -999.00,9,    19.3,2,  142.17,2,   44.64,2,    0.01,2,    3.12,2,   0.024,2,   0.013,2,       0,2,        0,3,  2388.9,2,  2367.4,2,7.336,2, -999.00,1,  -197.4,2,     3.1,     -999.0,1,   100.6,2,     -999.0,1,     -999.0,1, -999.00,9,     -999.0,1,     2.8702,    27.3966
49NZ199905_1,       P01C,     X16,2,11,11,2,19990906,2159,46.9962,-151.9953,       5134,  1249.9,2,   2.5649,2,  34.4504,2,  34.4513,6,  -999.00,9,    18.3,2,  155.39,2,   45.15,2,       0,2,    3.13,2,   0.003,2,   0.001,2,       0,2,   0.0059,3,  2382.3,3,  2383.9,2,7.341,2, -999.00,1,  -213.1,2,     4.9,     -999.0,1,   111.8,2,     -999.0,1,     -999.0,1, -999.00,9,     -999.0,1,     2.4819,    27.4927
49NZ199905_1,       P01C,     X16,2,10,10,2,19990906,2159,46.9962,-151.9953,       5134,  1499.9,2,   2.3042,2,  34.5075,2,  34.5097,2,  -999.00,9,   23.73,2,   164.1,2,   45.01,2,       0,2,     3.1,2,   0.004,2,   0.006,2,       0,2,        0,3,  2391.3,2,  2391.3,2,7.353,2, -999.00,1,  -243.5,3,     3.4,     -999.0,1,   119.4,2,     -999.0,1,     -999.0,1, -999.00,9,     -999.0,1,     2.2046,    27.5625
49NZ199905_1,       P01C,     X16,2,9,9,2,19990906,2159,46.9962,-151.9953,       5134,  1748.9,2,   2.0863,2,  34.5553,2,  34.5578,2,  -999.00,9,   36.77,2,  169.98,2,   44.29,2,    0.01,2,    3.06,2,       0,2,       0,2,       0,2,   0.0003,3,  2395.5,2,  2401.1,2,7.38,2, -999.00,1,  -242.4,2,       3,     -999.0,1,   126.8,2,     -999.0,1,     -999.0,1, -999.00,9,     -999.0,1,     1.9695,    27.6198
49NZ199905_1,       P01C,     X16,2,8,8,2,19990906,2159,46.9962,-151.9953,       5134,  1999.7,2,   1.9304,2,  34.5885,2,  34.5902,2,  -999.00,9,   53.54,2,  172.46,2,   43.18,6,       0,2,    2.97,2,   0.003,2,       0,2,       0,2,        0,3,  2390.4,2,  2405.8,2,-999.0,9, -999.00,1,  -238.5,2,     3.6,     -999.0,1,   134.7,2,     -999.0,1,     -999.0,1, -999.00,9,     -999.0,1,     1.7952,    27.6593
49NZ199905_1,       P01C,     X16,2,7,7,2,19990906,2159,46.9962,-151.9953,       5134,  2499.9,2,   1.6971,2,  34.6325,2,  34.6341,2,  -999.00,9,   84.39,2,  172.36,2,   41.23,2,       0,2,    2.82,2,   0.004,2,   0.004,2,       0,2,-999.0000,9,  2378.3,2,  2411.6,2,7.413,2, -999.00,1,  -241.2,2,     3.8,     -999.0,1,   140.5,2,     -999.0,1,     -999.0,1, -999.00,9,     -999.0,1,     1.5225,    27.7149
49NZ199905_1,       P01C,     X16,2,6,6,2,19990906,2159,46.9962,-151.9953,       5134,  3000.3,2,   1.5693,2,  34.6568,2,   34.657,2,  -999.00,9,   109.9,2,  168.33,2,   39.56,2,       0,2,    2.71,2,   0.001,2,   0.002,2,       0,2,-999.0000,9,  2361.7,2,  2412.8,2,7.51,2, -999.00,1,  -246.5,2,     3.9,     -999.0,1,   144.5,2,     -999.0,1,     -999.0,1, -999.00,9,     -999.0,1,      1.351,    27.7456
49NZ199905_1,       P01C,     X16,2,5,5,2,19990906,2159,46.9962,-151.9953,       5134,  3499.9,2,    1.492,2,  34.6731,2,  34.6732,2,  -999.00,9,  131.41,2,  161.97,2,   37.93,2,       0,2,    2.57,2,       0,2,       0,2,       0,2,-999.0000,9,  2340.1,2,  2412.1,2,7.547,2, -999.00,1,  -237.4,2,       3,     -999.0,1,   141.7,3,     -999.0,1,     -999.0,1, -999.00,9,     -999.0,1,     1.2261,    27.7674
49NZ199905_1,       P01C,     X16,2,4,4,2,19990906,2159,46.9962,-151.9953,       5134,  3999.7,2,   1.4802,2,  34.6818,2,  34.6826,2,  -999.00,9,  141.36,2,  162.25,2,   37.27,2,       0,2,    2.52,2,   0.003,2,   0.002,2,       0,2,-999.0000,9,  2328.9,2,  2415.9,2,7.564,2, -999.00,1,  -227.6,2,       3,     -999.0,1,   147.9,2,     -999.0,1,     -999.0,1, -999.00,9,     -999.0,1,     1.1618,    27.7794
49NZ199905_1,       P01C,     X16,2,3,3,2,19990906,2159,46.9962,-151.9953,       5134,  4500.1,2,   1.5147,2,  34.6857,2,  34.6855,2,  -999.00,9,  143.83,2,   165.9,2,   37.13,2,       0,2,    2.54,3,       0,2,       0,2,       0,2,-999.0000,9,  2339.9,2,  2416.5,2,7.573,2, -999.00,1,  -237.6,2,     4.4,     -999.0,1,   153.9,2,     -999.0,1,     -999.0,1, -999.00,9,     -999.0,1,     1.1392,    27.7833
49NZ199905_1,       P01C,     X16,2,2,2,2,19990906,2159,46.9962,-151.9953,       5134,  4999.2,2,   1.5645,2,  34.6871,2,  34.6865,2,  -999.00,9,   145.7,2,   166.1,2,   37.06,2,       0,2,    2.51,2,       0,2,   0.001,2,   0.003,2,-999.0000,9,  2339.4,2,  2416.5,2,7.577,2, -999.00,1,  -242.4,2,     3.2,     -999.0,1,   153.4,2,     -999.0,1,     -999.0,1, -999.00,9,     -999.0,1,     1.1281,    27.7848
49NZ199905_1,       P01C,     X16,2,1,1,2,19990906,2159,46.9962,-151.9953,       5134,  5225.4,2,   1.5922,2,  34.6872,2,  34.6867,2,  -999.00,9,  145.79,2,  166.02,2,   37.06,2,       0,2,    2.52,2,   0.001,2,   0.002,2,   0.002,2,-999.0000,9,  2348.4,2,  2415.9,2,7.578,2, -999.00,1,  -229.3,2,     3.2,     -999.0,1,   152.4,2,     -999.0,1,     -999.0,1, -999.00,9,     -999.0,1,     1.1269,    27.7851
49NZ199905_1,       P01C,      88,1,16,16,2,19990907,358,46.9888,-150.2907,       5057,    10.3,2,  13.1246,2,  32.4883,2,  32.4939,2,  -999.00,9,  274.48,2,   17.71,2,    9.87,2,    0.11,2,    0.95,2,   2.964,2,   1.788,2,   0.229,2,   0.5109,3,  1988.5,3,  2194.7,2,7.84,2, -999.00,1,    17.7,2,     2.8,     -999.0,9,    50.6,2,     -999.0,9,     -999.0,1,    0.34,2,     -999.0,1,    13.1232,    24.4284
49NZ199905_1,       P01C,      88,1,15,15,2,19990907,358,46.9888,-150.2907,       5057,    49.9,2,   6.1337,2,  32.6984,2,   32.707,2,  -999.00,9,  315.23,2,   15.74,2,   12.08,6,    0.15,2,    1.16,2,   4.326,2,   2.438,2,   0.358,2,   0.5219,3,  2048.2,3,  2206.1,2,7.743,2, -999.00,1,    13.1,2,     4.3,     -999.0,9,    49.7,2,     -999.0,9,     -999.0,1,    0.24,2,     -999.0,1,     6.1296,    25.7252
49NZ199905_1,       P01C,      88,1,14,14,2,19990907,358,46.9888,-150.2907,       5057,   100.5,2,   4.9093,2,  32.7343,2,  32.7403,2,  -999.00,9,  307.26,2,   17.46,2,   15.22,2,    0.02,2,    1.31,2,   4.463,2,   2.476,2,   0.361,2,   0.5263,3,  2065.9,3,  2207.3,2,7.705,2, -999.00,1,    13.2,2,     3.3,     -999.0,9,    47.7,2,     -999.0,9,     -999.0,1,    0.07,2,     -999.0,1,      4.902,     25.895
49NZ199905_1,       P01C,      88,1,13,13,2,19990907,358,46.9888,-150.2907,       5057,   201.2,2,   5.1675,2,  33.8088,2,   33.813,2,  -999.00,9,  149.89,2,   54.35,2,   31.34,2,       0,2,    2.21,2,   2.661,2,    1.49,2,   0.163,2,   0.2519,3,  2212.9,3,    2275,2,7.499,2, -999.00,1,   -29.7,2,     3.9,     -999.0,9,    57.7,2,     -999.0,9,     -999.0,1,    0.01,2,     -999.0,1,     5.1519,    26.7169
49NZ199905_1,       P01C,      88,2,12,12,2,19990907,528,46.9812,-150.2818,       5014,   300.2,2,    4.636,2,  33.9119,2,   33.916,2,  -999.00,9,   97.12,2,   72.65,2,   36.96,2,       0,2,    2.58,2,   1.757,2,   0.984,2,   0.099,2,   0.0556,3,  2271.2,3,  2291.9,2,7.404,2, -999.00,1,   -69.9,2,     2.9,     -999.0,9,      65,2,     -999.0,9,     -999.0,1,       0,2,     -999.0,1,     4.6137,    26.8591
49NZ199905_1,       P01C,      88,2,11,11,2,19990907,528,46.9812,-150.2818,       5014,   400.3,2,   4.3144,2,   34.006,2,  34.0092,6,  -999.00,9,   71.28,2,   86.35,2,   39.32,2,    0.01,2,    2.77,2,   1.086,2,    0.65,2,   0.058,2,   0.0217,3,  2300.2,3,  2303.6,2,7.373,2, -999.00,1,  -101.8,2,     2.5,     -999.0,9,    70.6,2,     -999.0,9,     -999.0,1, -999.00,9,     -999.0,1,     4.2853,    26.9684
49NZ199905_1,       P01C,      88,2,10,10,2,19990907,528,46.9812,-150.2818,       5014,   600.9,2,    3.771,2,  34.1882,2,  34.1917,2,  -999.00,9,   34.83,2,  111.76,2,   42.34,2,    0.02,2,    2.98,2,   0.273,2,   0.171,2,   0.003,2,   0.0027,3,  2351.7,3,  2334.3,2,7.336,2, -999.00,1,    -157,2,     2.7,     -999.0,9,    82.4,2,     -999.0,9,     -999.0,1, -999.00,9,     -999.0,1,     3.7287,    27.1707
49NZ199905_1,       P01C,      88,2,9,9,2,19990907,528,46.9812,-150.2818,       5014,   800.4,2,   3.2555,2,   34.297,2,  34.3029,2,  -999.00,9,   21.26,2,  130.61,2,    43.8,2,       0,2,    3.09,2,   0.055,2,   0.043,2,       0,2,   0.0019,3,    2379,3,  2353.9,2,7.324,2, -999.00,1,  -190.1,2,     2.9,     -999.0,9,    93.1,2,     -999.0,9,     -999.0,1, -999.00,9,     -999.0,1,     3.2011,    27.3102
49NZ199905_1,       P01C,      88,2,8,8,2,19990907,528,46.9812,-150.2818,       5014,   999.9,2,   2.9066,2,  34.3778,2,  34.3811,2,  -999.00,9,   14.35,2,  143.68,2,   44.52,2,       0,2,    3.15,2,   0.009,2,   0.005,2,       0,2,        0,3,  2398.9,3,  2369.5,2,7.323,2, -999.00,1,  -206.9,2,     3.1,     -999.0,9,   101.7,2,     -999.0,9,     -999.0,1, -999.00,9,     -999.0,1,     2.8396,    27.4055
49NZ199905_1,       P01C,      88,2,7,7,2,19990907,528,46.9812,-150.2818,       5014,  1249.9,2,    2.592,2,  34.4501,2,  34.4548,2,  -999.00,9,   13.78,2,  154.86,2,    44.9,2,       0,2,    3.14,2,   0.007,2,       0,2,       0,2,   0.0062,3,  2408.7,3,  2394.1,3,7.329,2, -999.00,1,  -224.5,2,     2.4,     -999.0,9,   110.7,2,     -999.0,9,     -999.0,1, -999.00,9,     -999.0,1,     2.5088,    27.4932
49NZ199905_1,       P01C,      88,2,6,6,2,19990907,528,46.9812,-150.2818,       5014,    1500,2,   2.3063,2,  34.5097,2,  34.5143,6,  -999.00,9,   22.51,2,  163.19,2,   44.39,2,       0,2,    3.08,2,       0,2,   0.004,2,       0,2,        0,3,  2412.4,3,  -999.0,9,7.349,2, -999.00,1,  -233.2,2,     3.9,     -999.0,9,   121.9,2,     -999.0,9,     -999.0,1, -999.00,9,     -999.0,1,     2.2066,     27.566
49NZ199905_1,       P01C,      88,2,5,5,2,19990907,528,46.9812,-150.2818,       5014,  1750.2,2,   2.0907,2,  34.5543,2,  34.5574,2,  -999.00,9,   38.07,2,  168.15,2,   43.55,2,       0,2,    3.03,2,       0,2,   0.007,2,       0,2,   0.0029,3,  2404.7,3,  2400.1,2,7.377,2, -999.00,1,  -240.6,2,     2.6,     -999.0,9,   127.2,2,     -999.0,9,     -999.0,1, -999.00,9,     -999.0,1,     1.9737,    27.6192
49NZ199905_1,       P01C,      88,2,4,4,2,19990907,528,46.9812,-150.2818,       5014,  2000.6,2,    1.918,2,  34.5897,2,  34.5932,2,  -999.00,9,   55.58,2,  170.79,2,   42.36,6,    0.01,2,    2.94,2,       0,2,       0,2,       0,2,   0.0045,3,  2399.4,3,  2405.3,2,7.41,2, -999.00,1,  -244.8,2,     2.1,     -999.0,9,   132.2,2,     -999.0,9,     -999.0,1, -999.00,9,     -999.0,1,     1.7829,    27.6627
49NZ199905_1,       P01C,      88,2,3,3,2,19990907,528,46.9812,-150.2818,       5014,  3001.2,2,   1.5538,2,  34.6585,2,  34.6637,4,  -999.00,9,  111.55,2,     169,3,   38.89,3,       0,3,    2.69,3,       0,4,       0,4,       0,4,   0.0006,3,  2354.7,3,  2412.8,3,7.51,2, -999.00,1,  -239.1,2,     2.1,     -999.0,9,   146.2,2,     -999.0,9,     -999.0,1, -999.00,9,     -999.0,1,     1.3357,    27.7521
49NZ199905_1,       P01C,      88,2,2,2,2,19990907,528,46.9812,-150.2818,       5014,  4000.4,2,   1.4773,2,  34.6825,2,  34.6846,2,  -999.00,9,  141.05,2,   165.8,2,   36.94,2,       0,2,    2.53,2,-999.000,9,-999.000,9,-999.000,9,        0,3,  2340.5,3,  2416.5,2,7.564,2, -999.00,1,    -233,2,     2.3,     -999.0,9,   150.8,2,     -999.0,9,     -999.0,1, -999.00,9,     -999.0,1,     1.1589,    27.7812
49NZ199905_1,       P01C,      88,2,1,1,2,19990907,528,46.9812,-150.2818,       5014,  5054.6,2,   1.5748,2,  34.6869,2,  34.6873,6,  -999.00,9,  145.18,2,   168.1,2,    36.7,2,    0.01,2,     2.5,2,-999.000,9,-999.000,9,-999.000,9,   0.0065,3,    2334,3,  2418.2,2,7.574,2, -999.00,1,  -220.6,2,     2.2,     -999.0,9,   158.1,2,     -999.0,9,     -999.0,1, -999.00,9,     -999.0,1,     1.1313,    27.7853
49NZ199905_1,       P01C,      89,1,16,16,2,19990907,945,46.9965,-149.1453,       5054,     9.7,2,  13.1947,2,  32.5202,2,   32.526,6,  -999.00,9,  273.03,2,   18.51,2,    9.45,2,    0.12,2,    0.94,2,-999.000,9,-999.000,9,-999.000,9,-999.0000,9,  -999.0,9,  -999.0,9,-999.0,9, -999.00,9,  -999.0,9,  -999.0,     -999.0,9,  -999.0,9,     -999.0,9,     -999.0,9, -999.00,9,     -999.0,9,    13.1934,    24.4394
49NZ199905_1,       P01C,      89,1,15,15,2,19990907,945,46.9965,-149.1453,       5054,    49.2,2,    6.376,2,  32.7072,2,  32.7131,2,  -999.00,9,  315.28,2,   15.77,2,   10.95,6,    0.15,2,    1.08,2,-999.000,9,-999.000,9,-999.000,9,-999.0000,9,  -999.0,9,  -999.0,9,-999.0,9, -999.00,9,  -999.0,9,  -999.0,     -999.0,9,  -999.0,9,     -999.0,9,     -999.0,9, -999.00,9,     -999.0,9,     6.3719,    25.6997
49NZ199905_1,       P01C,      89,1,14,14,2,19990907,945,46.9965,-149.1453,       5054,   100.6,2,   5.1044,2,  32.7346,2,  32.7411,2,  -999.00,9,   306.7,2,    15.8,2,   14.59,2,    0.01,2,    1.25,2,-999.000,9,-999.000,9,-999.000,9,-999.0000,9,  -999.0,9,  -999.0,9,-999.0,9, -999.00,9,  -999.0,9,  -999.0,     -999.0,9,  -999.0,9,     -999.0,9,     -999.0,9, -999.00,9,     -999.0,9,     5.0969,     25.874
49NZ199905_1,       P01C,      89,1,13,13,2,19990907,945,46.9965,-149.1453,       5054,   199.4,2,    5.766,2,   33.849,2,  33.8525,2,  -999.00,9,  162.47,2,    49.7,2,   28.64,2,    0.02,2,       2,2,-999.000,9,-999.000,9,-999.000,9,-999.0000,9,  -999.0,9,  -999.0,9,-999.0,9, -999.00,9,  -999.0,9,  -999.0,     -999.0,9,  -999.0,9,     -999.0,9,     -999.0,9, -999.00,9,     -999.0,9,     5.7496,    26.6771