BOTTLE,20231018CCHSIOENA
EXPOCODE,SECT_ID,STNNBR,CASTNO,SAMPNO,BTLNBR,BTLNBR_FLAG_W,DATE,TIME,LATITUDE,LONGITUDE,DEPTH,CTDPRS,CTDPRS_FLAG_W,CTDTMP,CTDTMP_FLAG_W,CTDSAL,CTDSAL_FLAG_W,SALNTY,SALNTY_FLAG_W,CTDOXY,CTDOXY_FLAG_W,OXYGEN,OXYGEN_FLAG_W,SILCAT,SILCAT_FLAG_W,NITRAT,NITRAT_FLAG_W,NITRIT,NITRIT_FLAG_W,PHSPHT,PHSPHT_FLAG_W,CFC-11,CFC-11_FLAG_W,CFC-12,CFC-12_FLAG_W,CFC113,CFC113_FLAG_W,SF6,SF6_FLAG_W,TCARBN,TCARBN_FLAG_W,ALKALI,ALKALI_FLAG_W,PH_SWS,PH_SWS_FLAG_W,DELC13,DELC13_FLAG_W,DELC14,DELC14_FLAG_W,C14ERR,NI,NI_FLAG_W,BARIUM,BARIUM_FLAG_W,CU,CU_FLAG_W,TOC,TOC_FLAG_W,CHLORA,CHLORA_FLAG_W,CALCIUM,CALCIUM_FLAG_W,THETA,SIG0
,,,,,,,,,,,METERS,DBAR,,ITS-90,,PSS-78,,PSS-78,,UMOL/KG,,UMOL/KG,,UMOL/KG,,UMOL/KG,,UMOL/KG,,UMOL/KG,,PMOL/KG,,PMOL/KG,,PMOL/KG,,FMOL/KG,,UMOL/KG,,UMOL/KG,,,,/MILLE,,/MILLE,,/MILLE,UMOL/L,,NMOL/KG,,UMOL/L,,UMOL/L,,UG/KG,,MMOL/KG,,ITS-90,KG/M^3
49NZ199905_1,       P01C,       6,1,24,24,2,19990825,931,42.4838,145.8415,       3165,    10.9,2,  15.1009,2,  32.7522,2,  32.7824,3,   254.68,2,  316.43,2,    1.69,3,    1.28,3,    0.05,3,    0.23,3,-999.000,9,-999.000,9,-999.000,9,-999.0000,9,  -999.0,9,  -999.0,9,-999.0,9, -999.00,9,  -999.0,9,  -999.0,     -999.0,9,  -999.0,9,     -999.0,9,     -999.0,9, -999.00,9,     -999.0,9,    15.0993,    24.2421
49NZ199905_1,       P01C,       6,1,23,23,2,19990825,931,42.4838,145.8415,       3165,    51.1,2,   3.8752,2,  33.3204,2,  33.3156,2,   243.61,2,  290.42,2,   26.37,2,   18.09,6,    0.33,2,    1.43,2,-999.000,9,-999.000,9,-999.000,9,-999.0000,9,  -999.0,9,  -999.0,9,-999.0,9, -999.00,9,  -999.0,9,  -999.0,     -999.0,9,  -999.0,9,     -999.0,9,     -999.0,9, -999.00,9,     -999.0,9,     3.8719,    26.4592
49NZ199905_1,       P01C,       6,1,22,22,2,19990825,931,42.4838,145.8415,       3165,    99.9,2,   3.7731,2,  33.4073,2,  33.4094,2,   237.23,2,  283.39,2,    31.2,2,   19.28,2,    0.02,2,    1.47,2,-999.000,9,-999.000,9,-999.000,9,-999.0000,9,  -999.0,9,  -999.0,9,-999.0,9, -999.00,9,  -999.0,9,  -999.0,     -999.0,9,  -999.0,9,     -999.0,9,     -999.0,9, -999.00,9,     -999.0,9,     3.7666,    26.5442
49NZ199905_1,       P01C,       6,1,21,21,2,19990825,931,42.4838,145.8415,       3165,   150.2,2,   1.8028,2,  33.2856,2,  33.2888,6,   223.86,2,  266.89,2,   47.64,2,   25.78,2,    0.01,2,       2,2,-999.000,9,-999.000,9,-999.000,9,-999.0000,9,  -999.0,9,  -999.0,9,-999.0,9, -999.00,9,  -999.0,9,  -999.0,     -999.0,9,  -999.0,9,     -999.0,9,     -999.0,9, -999.00,9,     -999.0,9,     1.7954,    26.6159
49NZ199905_1,       P01C,       6,1,20,20,2,19990825,931,42.4838,145.8415,       3165,     200,2,   1.5127,2,  33.3214,2,  33.3273,2,   201.49,2,  240.77,2,   56.82,2,   28.98,2,    0.01,2,     2.2,2,-999.000,9,-999.000,9,-999.000,9,-999.0000,9,  -999.0,9,  -999.0,9,-999.0,9, -999.00,9,  -999.0,9,  -999.0,     -999.0,9,  -999.0,9,     -999.0,9,     -999.0,9, -999.00,9,     -999.0,9,     1.5033,    26.6675
49NZ199905_1,       P01C,       6,1,19,19,2,19990825,931,42.4838,145.8415,       3165,   251.4,2,     2.07,2,  33.4588,2,    33.46,2,   157.16,2,     191,2,   69.62,2,   33.41,2,       0,2,     2.5,2,-999.000,9,-999.000,9,-999.000,9,-999.0000,9,  -999.0,9,  -999.0,9,-999.0,9, -999.00,9,  -999.0,9,  -999.0,     -999.0,9,  -999.0,9,     -999.0,9,     -999.0,9, -999.00,9,     -999.0,9,     2.0568,    26.7336
49NZ199905_1,       P01C,       6,1,18,18,2,19990825,931,42.4838,145.8415,       3165,   300.3,2,    2.346,2,  33.5747,2,  33.5788,2,   128.31,2,  161.84,2,   75.44,2,   34.89,2,       0,2,    2.59,2,-999.000,9,-999.000,9,-999.000,9,-999.0000,9,  -999.0,9,  -999.0,9,-999.0,9, -999.00,9,  -999.0,9,  -999.0,     -999.0,9,  -999.0,9,     -999.0,9,     -999.0,9, -999.00,9,     -999.0,9,     2.3294,    26.8074
49NZ199905_1,       P01C,       6,1,17,17,2,19990825,931,42.4838,145.8415,       3165,   350.1,2,   2.9151,2,  33.7352,2,  33.7363,2,    82.98,2,  106.21,2,   88.72,2,   39.95,2,       0,2,    2.89,2,-999.000,9,-999.000,9,-999.000,9,-999.0000,9,  -999.0,9,  -999.0,9,-999.0,9, -999.00,9,  -999.0,9,  -999.0,     -999.0,9,  -999.0,9,     -999.0,9,     -999.0,9, -999.00,9,     -999.0,9,     2.8938,    26.8858
49NZ199905_1,       P01C,       6,1,16,16,2,19990825,931,42.4838,145.8415,       3165,   398.9,2,   3.3559,2,  33.8781,2,  33.8834,6,    55.01,2,   72.93,2,   96.23,2,   42.23,6,       0,2,       3,2,-999.000,9,-999.000,9,-999.000,9,-999.0000,9,  -999.0,9,  -999.0,9,-999.0,9, -999.00,9,  -999.0,9,  -999.0,     -999.0,9,  -999.0,9,     -999.0,9,     -999.0,9, -999.00,9,     -999.0,9,       3.33,    26.9635
49NZ199905_1,       P01C,       6,1,15,15,2,19990825,931,42.4838,145.8415,       3165,   499.9,2,   3.5821,2,  34.0545,2,  34.0621,2,    35.22,2,  120.71,2,  109.03,2,   43.49,2,    0.01,2,    3.07,2,-999.000,9,-999.000,9,-999.000,9,-999.0000,9,  -999.0,9,  -999.0,9,-999.0,9, -999.00,9,  -999.0,9,  -999.0,     -999.0,9,  -999.0,9,     -999.0,9,     -999.0,9, -999.00,9,     -999.0,9,     3.5482,    27.0852
49NZ199905_1,       P01C,       6,1,14,14,2,19990825,931,42.4838,145.8415,       3165,   600.7,2,   3.6013,2,  34.1863,2,  34.1856,2,       29,2,   42.96,2,  118.44,2,   43.73,2,    0.01,2,    3.09,2,-999.000,9,-999.000,9,-999.000,9,-999.0000,9,  -999.0,9,  -999.0,9,-999.0,9, -999.00,9,  -999.0,9,  -999.0,     -999.0,9,  -999.0,9,     -999.0,9,     -999.0,9, -999.00,9,     -999.0,9,     3.5599,    27.1824
49NZ199905_1,       P01C,       6,1,13,13,2,19990825,931,42.4838,145.8415,       3165,   700.3,2,   3.2781,2,  34.2334,2,  34.2342,2,    20.56,2,   33.35,2,  129.18,2,   44.73,2,    0.01,2,    3.14,2,-999.000,9,-999.000,9,-999.000,9,-999.0000,9,  -999.0,9,  -999.0,9,-999.0,9, -999.00,9,  -999.0,9,  -999.0,     -999.0,9,  -999.0,9,     -999.0,9,     -999.0,9, -999.00,9,     -999.0,9,      3.231,    27.2526
49NZ199905_1,       P01C,       6,1,12,12,2,19990825,931,42.4838,145.8415,       3165,   800.5,2,   3.1598,2,  34.2955,2,   34.297,2,    21.78,2,   35.43,2,  134.78,2,   44.63,2,       0,2,    3.14,2,-999.000,9,-999.000,9,-999.000,9,-999.0000,9,  -999.0,9,  -999.0,9,-999.0,9, -999.00,9,  -999.0,9,  -999.0,     -999.0,9,  -999.0,9,     -999.0,9,     -999.0,9, -999.00,9,     -999.0,9,      3.106,    27.3143
49NZ199905_1,       P01C,       6,1,11,11,2,19990825,931,42.4838,145.8415,       3165,   899.8,2,   2.9851,2,  34.3439,2,  34.3449,6,    21.26,2,   35.26,2,  140.95,2,   44.72,2,       0,2,    3.16,2,-999.000,9,-999.000,9,-999.000,9,-999.0000,9,  -999.0,9,  -999.0,9,-999.0,9, -999.00,9,  -999.0,9,  -999.0,     -999.0,9,  -999.0,9,     -999.0,9,     -999.0,9, -999.00,9,     -999.0,9,     2.9251,     27.369
49NZ199905_1,       P01C,       6,1,10,10,2,19990825,931,42.4838,145.8415,       3165,   999.5,2,   2.8465,2,  34.3874,2,   34.387,2,     23.3,2,   36.64,2,  145.97,2,   44.75,2,       0,2,    3.15,2,-999.000,9,-999.000,9,-999.000,9,-999.0000,9,  -999.0,9,  -999.0,9,-999.0,9, -999.00,9,  -999.0,9,  -999.0,     -999.0,9,  -999.0,9,     -999.0,9,     -999.0,9, -999.00,9,     -999.0,9,       2.78,    27.4155
49NZ199905_1,       P01C,       6,1,9,9,2,19990825,931,42.4838,145.8415,       3165,  1100.8,2,   2.6989,2,   34.419,2,  34.4222,2,    24.43,2,   39.12,2,  150.77,2,   44.83,2,       0,2,    3.14,2,-999.000,9,-999.000,9,-999.000,9,-999.0000,9,  -999.0,9,  -999.0,9,-999.0,9, -999.00,9,  -999.0,9,  -999.0,     -999.0,9,  -999.0,9,     -999.0,9,     -999.0,9, -999.00,9,     -999.0,9,      2.626,    27.4571
49NZ199905_1,       P01C,       6,1,8,8,2,19990825,931,42.4838,145.8415,       3165,  1248.9,2,   2.5162,2,  34.4619,2,  34.4616,2,    27.73,2,   41.99,2,  156.33,2,   44.71,6,       0,2,    3.15,2,-999.000,9,-999.000,9,-999.000,9,-999.0000,9,  -999.0,9,  -999.0,9,-999.0,9, -999.00,9,  -999.0,9,  -999.0,     -999.0,9,  -999.0,9,     -999.0,9,     -999.0,9, -999.00,9,     -999.0,9,     2.4338,     27.505
49NZ199905_1,       P01C,       6,1,7,7,2,19990825,931,42.4838,145.8415,       3165,  1500.2,2,   2.2738,2,  34.5207,2,  34.5235,2,    37.33,2,   51.59,2,  161.39,2,   44.16,2,       0,2,    3.09,2,-999.000,9,-999.000,9,-999.000,9,-999.0000,9,  -999.0,9,  -999.0,9,-999.0,9, -999.00,9,  -999.0,9,  -999.0,     -999.0,9,  -999.0,9,     -999.0,9,     -999.0,9, -999.00,9,     -999.0,9,     2.1744,     27.576
49NZ199905_1,       P01C,       6,1,6,6,2,19990825,931,42.4838,145.8415,       3165,  1748.7,2,   2.0899,2,   34.564,2,  34.5643,6,    50.15,2,   67.23,2,   162.9,2,   43.43,2,       0,2,    3.03,2,-999.000,9,-999.000,9,-999.000,9,-999.0000,9,  -999.0,9,  -999.0,9,-999.0,9, -999.00,9,  -999.0,9,  -999.0,     -999.0,9,  -999.0,9,     -999.0,9,     -999.0,9, -999.00,9,     -999.0,9,      1.973,    27.6248
49NZ199905_1,       P01C,       6,1,5,5,2,19990825,931,42.4838,145.8415,       3165,  1999.3,2,   1.9157,2,  34.5987,2,  34.5989,2,    66.45,2,   84.31,2,  162.25,2,   42.44,2,       0,2,    2.97,2,-999.000,9,-999.000,9,-999.000,9,-999.0000,9,  -999.0,9,  -999.0,9,-999.0,9, -999.00,9,  -999.0,9,  -999.0,     -999.0,9,  -999.0,9,     -999.0,9,     -999.0,9, -999.00,9,     -999.0,9,     1.7807,    27.6674
49NZ199905_1,       P01C,       6,1,4,4,2,19990825,931,42.4838,145.8415,       3165,  2250.4,2,   1.7854,2,  34.6224,2,  34.6221,2,     80.7,2,   98.26,2,  161.57,2,   41.54,2,       0,2,    2.85,2,-999.000,9,-999.000,9,-999.000,9,-999.0000,9,  -999.0,9,  -999.0,9,-999.0,9, -999.00,9,  -999.0,9,  -999.0,     -999.0,9,  -999.0,9,     -999.0,9,     -999.0,9, -999.00,9,     -999.0,9,     1.6312,    27.6973
49NZ199905_1,       P01C,       6,1,3,3,2,19990825,931,42.4838,145.8415,       3165,  2499.7,2,    1.677,2,   34.641,2,  34.6403,2,    94.43,2,  112.38,2,  159.94,2,    40.6,2,       0,2,     2.8,2,-999.000,9,-999.000,9,-999.000,9,-999.0000,9,  -999.0,9,  -999.0,9,-999.0,9, -999.00,9,  -999.0,9,  -999.0,     -999.0,9,  -999.0,9,     -999.0,9,     -999.0,9, -999.00,9,     -999.0,9,     1.5028,    27.7213
49NZ199905_1,       P01C,       6,1,2,2,2,19990825,931,42.4838,145.8415,       3165,  3001.3,2,   1.5252,2,  34.6648,2,  34.6639,2,   115.94,2,  133.58,2,  157.45,2,   39.15,2,       0,2,    2.68,2,-999.000,9,-999.000,9,-999.000,9,-999.0000,9,  -999.0,9,  -999.0,9,-999.0,9, -999.00,9,  -999.0,9,  -999.0,     -999.0,9,  -999.0,9,     -999.0,9,     -999.0,9, -999.00,9,     -999.0,9,     1.3077,    27.7542
49NZ199905_1,       P01C,       6,1,1,1,2,19990825,931,42.4838,145.8415,       3165,  3198.3,2,   1.4789,2,  34.6718,2,  34.6659,4,    122.8,2,  139.45,2,  159.65,3,   38.57,3,    0.01,3,    2.65,3,-999.000,9,-999.000,9,-999.000,9,-999.0000,9,  -999.0,9,  -999.0,9,-999.0,9, -999.00,9,  -999.0,9,  -999.0,     -999.0,9,  -999.0,9,     -999.0,9,     -999.0,9, -999.00,9,     -999.0,9,     1.2435,    27.7603
49NZ199905_1,       P01C,       7,3,24,24,2,19990827,2318,42.2853,146.0582,       4179,      10,2,  11.3919,2,  31.5719,2,  32.7076,2,   217.44,2,   232.7,2,    1.48,3,    0.16,3,    0.01,3,    0.15,3,-999.000,9,-999.000,9,-999.000,9,-999.0000,9,    1973,2,  2213.1,2,7.993,2, -999.00,1,  -999.0,9,  -999.0,     -999.0,1,  -999.0,1,     -999.0,1,     -999.0,1,    0.15,2,     -999.0,1,      21.39,    22.6458
49NZ199905_1,       P01C,       7,3,23,23,2,19990827,2318,42.2853,146.0582,       4179,    49.9,2,   3.0694,2,  32.1378,2,  33.1116,2,   314.64,2,  317.36,2,   39.47,3,   24.16,3,    0.99,3,    2.15,3,-999.000,9,-999.000,9,-999.000,9,-999.0000,9,  2169.2,2,  2235.3,2,7.65,2, -999.00,1,  -999.0,9,  -999.0,     -999.0,1,  -999.0,1,     -999.0,1,     -999.0,1,    0.37,2,     -999.0,1,     3.0665,     26.372
49NZ199905_1,       P01C,       7,3,22,22,2,19990827,2318,42.2853,146.0582,       4179,      99,2,   1.4561,2,  32.1947,2,  33.1616,2,    292.4,2,  291.79,2,   49.57,3,   28.14,3,       0,3,    2.27,3,-999.000,9,-999.000,9,-999.000,9,-999.0000,9,  2193.7,2,  2236.7,2,7.602,2, -999.00,1,  -999.0,9,  -999.0,     -999.0,1,  -999.0,1,     -999.0,1,     -999.0,1,    0.03,2,     -999.0,1,     1.4516,     26.538
49NZ199905_1,       P01C,       7,3,21,21,2,19990827,2318,42.2853,146.0582,       4179,   149.3,2,   1.5374,2,  32.3309,2,-999.0000,9,    223.3,2, -999.00,9, -999.00,9, -999.00,9, -999.00,9, -999.00,9,-999.000,9,-999.000,9,-999.000,9,-999.0000,9,  -999.0,5,  -999.0,5,-999.0,9, -999.00,1,  -999.0,9,  -999.0,     -999.0,9,  -999.0,9,     -999.0,9,     -999.0,9, -999.00,9,     -999.0,9,     -999.0,     -999.0
49NZ199905_1,       P01C,       7,3,20,20,2,19990827,2318,42.2853,146.0582,       4179,   200.5,2,   1.9595,2,  32.5083,2,  33.4883,2,   175.51,2,  176.08,2,   79.76,3,   37.11,3,       0,3,    2.84,3,-999.000,9,-999.000,9,-999.000,9,-999.0000,9,    2284,2,  2267.9,2,7.44,2, -999.00,1,  -999.0,9,  -999.0,     -999.0,9,  -999.0,1,     -999.0,9,     -999.0,1,    0.01,2,     -999.0,1,     1.9492,    26.7644
49NZ199905_1,       P01C,       7,3,19,19,2,19990827,2318,42.2853,146.0582,       4179,   250.4,2,   2.7116,2,  32.6784,2,  33.6776,2,   115.86,2,  118.82,2,   90.77,3,   41.01,3,       0,3,    3.04,3,-999.000,9,-999.000,9,-999.000,9,-999.0000,9,  2315.7,2,  2281.3,2,7.382,2, -999.00,1,  -999.0,9,  -999.0,     -999.0,1,  -999.0,1,     -999.0,1,     -999.0,1,       0,2,     -999.0,1,      2.697,    26.8559
49NZ199905_1,       P01C,       7,3,18,18,2,19990827,2318,42.2853,146.0582,       4179,   300.5,2,   3.3981,2,  32.8425,2,  33.8386,2,    81.76,2,   90.83,2,   95.58,3,    42.3,3,       0,3,    3.05,3,-999.000,9,-999.000,9,-999.000,9,-999.0000,9,  2339.8,2,  2292.9,2,7.364,2, -999.00,1,  -999.0,9,  -999.0,     -999.0,9,  -999.0,1,     -999.0,9,     -999.0,1,       0,2,     -999.0,1,     3.3788,    26.9233
49NZ199905_1,       P01C,       7,3,17,17,2,19990827,2318,42.2853,146.0582,       4179,     349,2,   3.4766,2,   32.926,2,  33.9387,2,    55.84,2,   60.93,2,  104.14,3,   44.28,3,       0,3,    3.18,3,-999.000,9,-999.000,9,-999.000,9,-999.0000,9,  2362.7,2,    2302,2,7.332,2, -999.00,1,  -999.0,9,  -999.0,     -999.0,9,  -999.0,1,     -999.0,9,     -999.0,1, -999.00,9,     -999.0,1,     3.4537,    26.9959
49NZ199905_1,       P01C,       7,3,16,16,2,19990827,2318,42.2853,146.0582,       4179,   400.9,2,   3.3966,2,  32.9823,2,-999.0000,9,    42.18,2, -999.00,9, -999.00,9, -999.00,9, -999.00,9, -999.00,9,-999.000,9,-999.000,9,-999.000,9,-999.0000,9,  -999.0,9,  -999.0,9,7.335,2, -999.00,1,  -999.0,9,  -999.0,     -999.0,9,  -999.0,1,     -999.0,9,     -999.0,9, -999.00,9,     -999.0,9,     -999.0,     -999.0
49NZ199905_1,       P01C,       7,3,15,15,2,19990827,2318,42.2853,146.0582,       4179,   499.8,2,   3.5043,2,  33.1023,2,  34.1244,2,    34.78,2,   40.64,2,  119.59,3,   44.82,3,       0,3,    3.18,3,-999.000,9,-999.000,9,-999.000,9,-999.0000,9,  2384.5,2,  2328.3,2,-999.0,9, -999.00,1,  -999.0,9,  -999.0,     -999.0,1,  -999.0,9,     -999.0,1,     -999.0,1, -999.00,9,     -999.0,1,     3.4707,    27.1423
49NZ199905_1,       P01C,       7,3,14,14,2,19990827,2318,42.2853,146.0582,       4179,   600.7,2,   3.0957,2,  33.1501,2,  34.1693,2,       26,2,    30.5,2,  131.61,3,   45.16,3,       0,3,    3.23,3,-999.000,9,-999.000,9,-999.000,9,-999.0000,9,  2403.6,2,  2334.4,2,7.323,2, -999.00,1,  -999.0,9,  -999.0,     -999.0,9,  -999.0,1,     -999.0,9,     -999.0,1, -999.00,9,     -999.0,1,     3.0567,    27.2169
49NZ199905_1,       P01C,       7,3,13,13,2,19990827,2318,42.2853,146.0582,       4179,   700.9,2,   3.0022,2,  33.2196,2,  33.5268,2,    24.92,2,  190.26,2,   65.34,4,   28.75,4,    0.12,4,    2.17,4,-999.000,9,-999.000,9,-999.000,9,-999.0000,9,  2263.3,4,  2275.1,4,7.519,2, -999.00,1,  -999.0,9,  -999.0,     -999.0,9,  -999.0,1,     -999.0,9,     -999.0,1, -999.00,9,     -999.0,1,     2.9574,    26.7129
49NZ199905_1,       P01C,       7,4,4,4,2,19990828,131,42.2848,146.0638,       4206,  2502.2,2,   1.6665,2,  33.6056,2,-999.0000,9,    98.33,2,  232.29,2, -999.00,9, -999.00,9, -999.00,9, -999.00,9,-999.000,9,-999.000,9,-999.000,9,-999.0000,9,  -999.0,9,  -999.0,9,-999.0,9, -999.00,1,  -999.0,9,  -999.0,     -999.0,1,  -999.0,9,     -999.0,1,     -999.0,9, -999.00,9,     -999.0,9,     -999.0,     -999.0
49NZ199905_1,       P01C,       7,4,3,3,2,19990828,131,42.2848,146.0638,       4206,  2999.7,2,    1.521,2,  33.6255,2,-999.0000,9,   118.59,2,  317.74,2, -999.00,9, -999.00,9, -999.00,9, -999.00,9,-999.000,9,-999.000,9,-999.000,9,-999.0000,9,  -999.0,9,  -999.0,9,-999.0,9, -999.00,9,  -999.0,9,  -999.0,     -999.0,1,  -999.0,9,     -999.0,1,     -999.0,9, -999.00,9,     -999.0,9,     -999.0,     -999.0
49NZ199905_1,       P01C,       7,4,2,2,2,19990828,131,42.2848,146.0638,       4206,  4000.7,2,   1.4204,2,  33.6404,2,-999.0000,9,   145.96,2,  301.12,2, -999.00,9, -999.00,9, -999.00,9, -999.00,9,-999.000,9,-999.000,9,-999.000,9,-999.0000,9,  -999.0,9,  -999.0,9,-999.0,9, -999.00,1,  -999.0,9,  -999.0,     -999.0,1,  -999.0,9,     -999.0,1,     -999.0,1, -999.00,9,     -999.0,1,     -999.0,     -999.0
49NZ199905_1,       P01C,       7,4,1,1,2,19990828,131,42.2848,146.0638,       4206,  4251.8,2,   1.4437,2,  33.6389,2,-999.0000,9,    147.7,2,  294.03,2, -999.00,9, -999.00,9, -999.00,9, -999.00,9,-999.000,9,-999.000,9,-999.000,9,-999.0000,9,  -999.0,9,  -999.0,9,-999.0,9, -999.00,9,  -999.0,9,  -999.0,     -999.0,1,  -999.0,9,     -999.0,1,     -999.0,9, -999.00,9,     -999.0,9,     -999.0,     -999.0
49NZ199905_1,       P01C,      10,1,14,14,2,19990828,703,41.8695,146.3045,       6713,   599.9,2,    3.176,2,  33.1901,2,  34.2075,2,     25.3,2,   31.52,2, -999.00,9, -999.00,9, -999.00,9, -999.00,9,-999.000,9,-999.000,9,-999.000,9,-999.0000,9,  -999.0,9,  -999.0,9,-999.0,9, -999.00,9,  -999.0,9,  -999.0,     -999.0,9,  -999.0,9,     -999.0,9,     -999.0,1, -999.00,9,     -999.0,9,     3.1366,      27.24
49NZ199905_1,       P01C,      10,1,13,13,2,19990828,703,41.8695,146.3045,       6713,   801.2,2,   2.8979,2,  33.3237,2,  34.3413,2,    26.86,2,   31.95,2, -999.00,9, -999.00,9, -999.00,9, -999.00,9,-999.000,9,-999.000,9,-999.000,9,-999.0000,9,  -999.0,9,  -999.0,9,-999.0,9, -999.00,9,  -999.0,9,  -999.0,     -999.0,9,  -999.0,9,     -999.0,9,     -999.0,1, -999.00,9,     -999.0,9,     2.8456,    27.3732