BOTTLE,20230728SIOCCHCBG
EXPOCODE,SECT_ID,STNNBR,CASTNO,SAMPNO,BTLNBR,BTLNBR_FLAG_W,DATE,TIME,LATITUDE,LONGITUDE,DEPTH,CTDPRS,CTDTMP,CTDSAL,CTDSAL_FLAG_W,SALNTY,SALNTY_FLAG_W,CTDOXY,CTDOXY_FLAG_W,OXYGEN,OXYGEN_FLAG_W,SILCAT,SILCAT_FLAG_W,NH4,NH4_FLAG_W,NITRAT,NITRAT_FLAG_W,NITRIT,NITRIT_FLAG_W,PHSPHT,PHSPHT_FLAG_W,TCARBN,TCARBN_FLAG_W,ALKALI,ALKALI_FLAG_W,CTDRAW,THETA,SBE35T,SBE35T_FLAG_W
,,,,,,,,,,,METERS,DBAR,ITS-90,PSS-78,,PSS-78,,UMOL/KG,,UMOL/KG,,UMOL/KG,,UMOL/KG,,UMOL/KG,,UMOL/KG,,UMOL/KG,,UMOL/KG,,UMOL/KG,,DBAR,DEG C,ITS-90,
316N20070207,       LMD4,      32,          1,         24,         24,2,  -999.0,     -999.0,  59.110000, -5.4140000,       4921,     4.3,  18.3506,  36.5845,2,  36.5848,2,    222.0,2,   222.1,2,    0.80,2,   0.000,2,    1.95,2,    0.08,2,    0.10,2, -999.00,9, -999.00,9,     4.3,  18.3499,    18.3504,2
316N20070207,       LMD4,      32,          1,         23,         23,2,  -999.0,     -999.0,  59.110000, -5.4140000,       4921,    51.2,  18.3725,  36.6099,2,  36.6100,2,    220.8,2,   220.7,2, -999.00,9,-999.000,9, -999.00,9, -999.00,9, -999.00,9, -999.00,9, -999.00,9,    51.2,  18.3635,    18.3731,2
316N20070207,       LMD4,      32,          1,         22,         22,2,  -999.0,     -999.0,  59.110000, -5.4140000,       4921,    52.0,  18.3727,  36.6098,2,  36.6101,2,    220.8,2,   221.0,2, -999.00,9,-999.000,9, -999.00,9, -999.00,9, -999.00,9, -999.00,9, -999.00,9,    52.0,  18.3636,    18.3727,2
316N20070207,       LMD4,      32,          1,         21,         21,2,  -999.0,     -999.0,  59.110000, -5.4140000,       4921,   100.9,  18.3780,  36.6111,2,  36.6105,2,    220.8,2,   220.4,2,    0.78,2,   0.000,2,    1.95,2,    0.08,2,    0.10,2, -999.00,9, -999.00,9,   100.9,  18.3602,    18.3781,2
316N20070207,       LMD4,      32,          1,         20,         20,2,  -999.0,     -999.0,  59.110000, -5.4140000,       4921,   123.2,  18.3808,  36.6119,2,  36.6111,2,    220.7,2,   221.3,2,    0.77,2,   0.234,2,    1.99,2,    0.09,2,    0.10,2, -999.00,9, -999.00,9,   123.2,  18.3592,    18.3812,2
316N20070207,       LMD4,      32,          1,         19,         19,2,  -999.0,     -999.0,  59.110000, -5.4140000,       4921,   148.5,  18.3784,  36.6115,2,  36.6101,2,    221.0,2,   220.5,2,    0.55,2,   0.488,2,    1.54,2,    0.07,2,    0.09,2, -999.00,9, -999.00,9,   148.5,  18.3523,    18.3784,2
316N20070207,       LMD4,      32,          1,         18,         18,2,  -999.0,     -999.0,  59.110000, -5.4140000,       4921,   175.6,  18.3675,  36.6111,2,  36.6105,2,    220.8,2,   220.0,2,    0.84,2,   0.000,2,    1.99,2,    0.09,2,    0.10,2, -999.00,9, -999.00,9,   175.6,  18.3366,    18.3660,2
316N20070207,       LMD4,      32,          1,         17,         17,2,  -999.0,     -999.0,  59.110000, -5.4140000,       4921,   201.1,  18.3661,  36.6104,2,  36.6099,2,    220.9,2,   220.8,2,    0.83,2,   0.000,2,    1.99,2,    0.09,2,    0.10,2, -999.00,9, -999.00,9,   201.1,  18.3307,    18.3664,2
316N20070207,       LMD4,      32,          1,         16,         16,2,  -999.0,     -999.0,  59.110000, -5.4140000,       4921,   250.7,  18.3694,  36.6100,2,  36.6102,2,    220.7,2,   220.3,2,    0.82,2,   0.107,2,    2.08,2,    0.09,2,    0.10,2, -999.00,9, -999.00,9,   250.7,  18.3253,    18.3701,2
316N20070207,       LMD4,      32,          1,         15,         15,2,  -999.0,     -999.0,  59.110000, -5.4140000,       4921,   301.6,  18.3734,  36.6092,2,  36.6084,2,    220.5,2,   220.1,2,    0.80,2,   0.127,2,    2.08,2,    0.10,2,    0.10,2, -999.00,9, -999.00,9,   301.6,  18.3201,    18.3733,2
316N20070207,       LMD4,      32,          1,         14,         14,2,  -999.0,     -999.0,  59.110000, -5.4140000,       4921,   351.9,  18.1655,  36.5719,2,  36.5700,2,    205.9,2,   205.7,2,    0.79,2,   0.088,2,    3.12,2,    0.02,2,    0.16,2, -999.00,9, -999.00,9,   351.9,  18.1039,    18.1635,2
316N20070207,       LMD4,      32,          1,         13,         13,2,  -999.0,     -999.0,  59.110000, -5.4140000,       4921,   401.6,  17.9830,  36.5401,2,  36.5384,2,    200.7,2,   203.3,2,    1.29,2,   0.059,2,    4.37,2,    0.02,2,    0.21,2, -999.00,9, -999.00,9,   401.6,  17.9131,    17.9843,2
316N20070207,       LMD4,      32,          1,         12,         12,2,  -999.0,     -999.0,  59.110000, -5.4140000,       4921,   452.4,  17.5129,  36.4463,2,  36.4413,2,    193.8,2,   194.2,2,    1.38,2,   0.322,3,    5.13,2,    0.02,2,    0.28,2, -999.00,9, -999.00,9,   452.4,  17.4354,    17.5131,2
316N20070207,       LMD4,      32,          1,         11,         11,2,  -999.0,     -999.0,  59.110000, -5.4140000,       4921,   499.0,  17.0289,  36.3478,2,  36.3462,2,    187.1,2,   184.7,2,    2.50,2,   0.010,2,    8.11,2,    0.02,2,    0.44,2, -999.00,9, -999.00,9,   499.0,  16.9451,    17.0217,2
316N20070207,       LMD4,      32,          1,         10,         10,9,  -999.0,     -999.0,  59.110000, -5.4140000,       4921,   599.0,  15.2830,  36.0465,2,-999.0000,9,   -999.0,9,  -999.0,9, -999.00,9,-999.000,9, -999.00,9, -999.00,9, -999.00,9, -999.00,9, -999.00,9,   599.0,  15.1892,    15.2787,2
316N20070207,       LMD4,      32,          1,          9,         09,2,  -999.0,     -999.0,  59.110000, -5.4140000,       4921,   698.1,  13.2370,  35.7181,2,  35.7182,2,    159.8,2,   159.8,2,    6.42,2,   0.020,2,   15.72,2,    0.02,2,    0.96,2, -999.00,9, -999.00,9,   698.1,  13.1374,    13.2371,2
316N20070207,       LMD4,      32,          1,          8,         08,2,  -999.0,     -999.0,  59.110000, -5.4140000,       4921,   797.6,  11.1891,  35.4361,2,  35.4351,2,    147.9,2,   194.7,4,   10.25,2,   0.010,2,   21.02,2,    0.02,2,    1.32,2, -999.00,9, -999.00,9,   797.6,  11.0866,    11.1802,2
316N20070207,       LMD4,      32,          1,          7,         07,2,  -999.0,     -999.0,  59.110000, -5.4140000,       4921,   900.6,   8.8068,  35.1925,2,  35.1943,2,    149.5,2,   176.1,4,   13.17,2,   0.010,2,   23.16,2,    0.02,2,    1.51,2, -999.00,9, -999.00,9,   900.6,   8.7060,     8.8516,2
316N20070207,       LMD4,      32,          1,          6,         06,2,  -999.0,     -999.0,  59.110000, -5.4140000,       4921,  1051.7,   6.5677,  35.0809,2,  35.0800,2,    193.8,2,   131.9,4, -999.00,9,-999.000,9, -999.00,9, -999.00,9, -999.00,9, -999.00,9, -999.00,9,  1051.7,   6.4663,     6.5704,2
316N20070207,       LMD4,      32,          1,          5,         05,2,  -999.0,     -999.0,  59.110000, -5.4140000,       4921,  1304.6,   4.9273,  35.0195,2,  35.0222,2,    241.7,2,   242.0,2, -999.00,9,-999.000,9, -999.00,9, -999.00,9, -999.00,9, -999.00,9, -999.00,9,  1304.6,   4.8154,     4.9349,2
316N20070207,       LMD4,      32,          1,          4,         04,2,  -999.0,     -999.0,  59.110000, -5.4140000,       4921,  1451.7,   4.4985,  34.9947,2,  34.9958,2,    252.7,2,   253.0,2, -999.00,9,-999.000,9, -999.00,9, -999.00,9, -999.00,9, -999.00,9, -999.00,9,  1451.7,   4.3771,     4.4962,2
316N20070207,       LMD4,      32,          1,          3,         03,2,  -999.0,     -999.0,  59.110000, -5.4140000,       4921,  1704.0,   4.0782,  34.9681,2,  34.9672,2,    262.0,2,   261.6,2, -999.00,9,-999.000,9, -999.00,9, -999.00,9, -999.00,9, -999.00,9, -999.00,9,  1704.0,   3.9381,     4.0785,2
316N20070207,       LMD4,      32,          1,          2,         02,2,  -999.0,     -999.0,  59.110000, -5.4140000,       4921,  1952.6,   3.7882,  34.9543,2,  34.9549,2,    266.2,2,   266.5,2, -999.00,9,-999.000,9, -999.00,9, -999.00,9, -999.00,9, -999.00,9, -999.00,9,  1952.6,   3.6285,     3.7874,2
316N20070207,       LMD4,      32,          1,          1,         01,2,  -999.0,     -999.0,  59.110000, -5.4140000,       4921,  2031.6,   3.7094,  34.9510,2,  34.9504,2,    267.4,2,   287.5,4, -999.00,9,-999.000,9, -999.00,9, -999.00,9, -999.00,9, -999.00,9, -999.00,9,  2031.6,   3.5432,     3.7137,2
316N20070207,       LMD4,      33,          1,         21,         21,2,  -999.0,     -999.0,  11.460000, -5.4931667,       4920,     5.8,  18.2389,  36.5795,2,  36.5778,2,    221.0,2,   221.5,2,    0.69,2,   0.283,2,    1.72,2,    0.06,2,    0.10,2, -999.00,9, -999.00,9,     5.8,  18.2379,    18.2401,2
316N20070207,       LMD4,      33,          1,         20,         20,2,  -999.0,     -999.0,  11.460000, -5.4931667,       4920,    28.5,  18.2405,  36.5807,2,  36.5862,2,    221.6,2,   221.5,2, -999.00,9,-999.000,9, -999.00,9, -999.00,9, -999.00,9, -999.00,9, -999.00,9,    28.5,  18.2356,    18.2409,2
316N20070207,       LMD4,      33,          1,         19,         19,2,  -999.0,     -999.0,  11.460000, -5.4931667,       4920,    52.0,  18.2474,  36.5977,2,  36.5977,2,    221.4,2,   220.3,2, -999.00,9,-999.000,9, -999.00,9, -999.00,9, -999.00,9, -999.00,9, -999.00,9,    52.0,  18.2383,    18.2476,2
316N20070207,       LMD4,      33,          1,         18,         18,2,  -999.0,     -999.0,  11.460000, -5.4931667,       4920,    78.2,  18.2539,  36.6089,2,  36.6088,2,    220.4,2,   219.1,2, -999.00,9,-999.000,9, -999.00,9, -999.00,9, -999.00,9, -999.00,9, -999.00,9,    78.2,  18.2402,    18.2541,2
316N20070207,       LMD4,      33,          1,         17,         17,4,  -999.0,     -999.0,  11.460000, -5.4931667,       4920,   102.8,  18.2574,  36.6110,2,-999.0000,9,   -999.0,9,  -999.0,9, -999.00,9,-999.000,9, -999.00,9, -999.00,9, -999.00,9, -999.00,9, -999.00,9,   102.8,  18.2394,    18.2582,2
316N20070207,       LMD4,      33,          1,         16,         16,2,  -999.0,     -999.0,  11.460000, -5.4931667,       4920,   127.2,  18.2616,  36.6113,2,  36.6099,2,    219.6,2,   221.8,3,    0.48,2,   0.498,2,    1.59,2,    0.05,2,    0.08,2, -999.00,9, -999.00,9,   127.2,  18.2393,    18.2621,2
316N20070207,       LMD4,      33,          1,         15,         15,2,  -999.0,     -999.0,  11.460000, -5.4931667,       4920,   178.5,  18.2723,  36.6140,2,  36.6143,2,    219.0,2,   218.6,2,    0.87,2,   0.723,2,    2.70,2,    0.08,2,    0.11,2, -999.00,9, -999.00,9,   178.5,  18.2410,    18.2728,2
316N20070207,       LMD4,      33,          1,         14,         14,2,  -999.0,     -999.0,  11.460000, -5.4931667,       4920,   227.8,  18.2798,  36.6141,2,  36.6129,2,    218.2,2,   218.8,2,    0.65,2,   0.264,2,    1.83,2,    0.05,2,    0.09,2, -999.00,9, -999.00,9,   227.8,  18.2398,    18.2801,2
316N20070207,       LMD4,      33,          1,         13,         13,2,  -999.0,     -999.0,  11.460000, -5.4931667,       4920,   302.3,  18.2902,  36.6144,2,  36.6203,2,    217.8,2,   218.5,2,    0.74,2,   0.322,2,    2.07,2,    0.08,2,    0.10,2, -999.00,9, -999.00,9,   302.3,  18.2370,    18.2907,2
316N20070207,       LMD4,      33,          1,         12,         12,2,  -999.0,     -999.0,  11.460000, -5.4931667,       4920,   328.6,  18.2942,  36.6142,2,  36.6125,2,    217.6,2,   216.5,2,    0.94,2,   0.547,2,    2.24,2,    0.10,2,    0.11,2, -999.00,9, -999.00,9,   328.6,  18.2364,    18.2943,2
316N20070207,       LMD4,      33,          1,         11,         11,2,  -999.0,     -999.0,  11.460000, -5.4931667,       4920,   378.6,  18.2801,  36.6094,2,  36.6082,2,    217.2,2,   216.7,2,    0.93,2,   0.127,2,    2.64,2,    0.06,2,    0.11,2, -999.00,9, -999.00,9,   378.6,  18.2134,    18.2811,2
316N20070207,       LMD4,      33,          1,         10,         10,2,  -999.0,     -999.0,  11.460000, -5.4931667,       4920,   426.8,  18.1269,  36.5734,2,  36.5741,2,    209.1,2,   210.5,2,    0.92,2,   1.016,3,    3.09,2,    0.07,2,    0.16,2, -999.00,9, -999.00,9,   426.8,  18.0521,    18.1310,2
316N20070207,       LMD4,      33,          1,          9,         09,2,  -999.0,     -999.0,  11.460000, -5.4931667,       4920,   478.3,  17.6910,  36.4847,2,  36.4837,2,    194.8,2,   195.2,2,    1.62,2,   0.059,2,    5.60,2,    0.02,2,    0.28,2, -999.00,9, -999.00,9,   478.3,  17.6085,    17.6894,2
316N20070207,       LMD4,      33,          1,          8,         08,2,  -999.0,     -999.0,  11.460000, -5.4931667,       4920,   527.8,  17.2234,  36.3934,2,  36.3932,2,    187.1,2,   187.5,2,    1.61,2,   0.830,3,    5.73,2,    0.07,2,    0.32,2, -999.00,9, -999.00,9,   527.8,  17.1340,    17.2210,2
316N20070207,       LMD4,      33,          1,          7,         07,2,  -999.0,     -999.0,  11.460000, -5.4931667,       4920,   575.9,  16.3972,  36.2451,2,  36.2455,2,    179.0,2,   178.8,2,    2.82,2,   0.000,2,    9.27,2,    0.01,2,    0.50,2, -999.00,9, -999.00,9,   575.9,  16.3027,    16.3909,2
316N20070207,       LMD4,      33,          1,          6,         06,2,  -999.0,     -999.0,  11.460000, -5.4931667,       4920,   624.7,  15.5465,  36.0967,2,  36.0960,2,    174.0,2,   174.6,2,    3.73,2,   0.059,2,   11.16,2,    0.02,2,    0.63,2, -999.00,9, -999.00,9,   624.7,  15.4476,    15.5416,2
316N20070207,       LMD4,      33,          1,          5,         05,2,  -999.0,     -999.0,  11.460000, -5.4931667,       4920,   678.9,  14.7397,  35.9598,2,  35.9605,2,    168.7,2,   169.7,2,    4.64,2,   0.117,2,   13.00,2,    0.01,2,    0.74,2, -999.00,9, -999.00,9,   678.9,  14.6358,    14.7367,2
316N20070207,       LMD4,      33,          1,          4,         04,2,  -999.0,     -999.0,  11.460000, -5.4931667,       4920,   747.4,  13.3296,  35.7335,2,  35.7402,2,    160.0,2,   158.5,2,    6.59,2,   0.156,2,   16.15,3,    0.02,2,    0.97,2, -999.00,9, -999.00,9,   747.4,  13.2223,    13.3575,2
316N20070207,       LMD4,      33,          1,          3,         03,2,  -999.0,     -999.0,  11.460000, -5.4931667,       4920,   846.2,  10.8418,  35.3874,2,  35.3892,2,    144.8,2,   144.3,2,    6.88,2,   0.899,3,   14.07,2,    0.01,2,    1.05,2, -999.00,9, -999.00,9,   846.2,  10.7349,    10.8379,2
316N20070207,       LMD4,      33,          1,          2,         02,2,  -999.0,     -999.0,  11.460000, -5.4931667,       4920,   948.8,   8.6434,  35.1518,2,  35.1510,2,    147.6,2,   148.5,2, -999.00,9,-999.000,9, -999.00,9, -999.00,9, -999.00,9, -999.00,9, -999.00,9,   948.8,   8.5381,     8.6484,2
316N20070207,       LMD4,      33,          1,          1,         01,2,  -999.0,     -999.0,  11.460000, -5.4931667,       4920,  1008.9,   7.6436,  35.1172,2,  35.1201,2,    171.0,2,   172.2,2, -999.00,9,-999.000,9, -999.00,9, -999.00,9, -999.00,9, -999.00,9, -999.00,9,  1008.9,   7.5387,     7.6430,2