BOTTLE,20230728SIOCCHCBG
EXPOCODE,SECT_ID,STNNBR,CASTNO,SAMPNO,BTLNBR,BTLNBR_FLAG_W,DATE,TIME,LATITUDE,LONGITUDE,DEPTH,CTDPRS,CTDTMP,CTDSAL,CTDSAL_FLAG_W,SALNTY,SALNTY_FLAG_W,CTDOXY,CTDOXY_FLAG_W,OXYGEN,OXYGEN_FLAG_W,SILCAT,SILCAT_FLAG_W,NH4,NH4_FLAG_W,NITRAT,NITRAT_FLAG_W,NITRIT,NITRIT_FLAG_W,PHSPHT,PHSPHT_FLAG_W,TCARBN,TCARBN_FLAG_W,ALKALI,ALKALI_FLAG_W,CTDRAW,THETA,SBE35T,SBE35T_FLAG_W
,,,,,,,,,,,METERS,DBAR,ITS-90,PSS-78,,PSS-78,,UMOL/KG,,UMOL/KG,,UMOL/KG,,UMOL/KG,,UMOL/KG,,UMOL/KG,,UMOL/KG,,UMOL/KG,,UMOL/KG,,DBAR,DEG C,ITS-90,
316N20070207,       LMD4,      68,          1,         21,         21,2,  -999.0,     -999.0,  53.680000, -4.5701667,       5128,     5.3,  18.1874,  36.6073,2,  36.6070,2,    223.1,2,   223.2,2,    0.96,2,   0.313,2,    1.88,2,    0.08,2,    0.10,2, -999.00,9, -999.00,9,     5.3,  18.1865,    18.1853,2
316N20070207,       LMD4,      68,          1,         22,         22,2,  -999.0,     -999.0,  53.680000, -4.5701667,       5128,     6.2,  18.1858,  36.6073,2,-999.0000,9,   -999.0,9,  -999.0,9, -999.00,9,-999.000,9, -999.00,9, -999.00,9, -999.00,9, -999.00,9, -999.00,9,     6.2,  18.1847,     -999.0,9
316N20070207,       LMD4,      68,          1,         23,         23,2,  -999.0,     -999.0,  53.680000, -4.5701667,       5128,     7.1,  18.1848,  36.6072,2,-999.0000,9,   -999.0,9,  -999.0,9, -999.00,9,-999.000,9, -999.00,9, -999.00,9, -999.00,9, -999.00,9, -999.00,9,     7.1,  18.1835,     -999.0,9
316N20070207,       LMD4,      68,          1,         20,         20,2,  -999.0,     -999.0,  53.680000, -4.5701667,       5128,    23.9,  18.1976,  36.6072,2,  36.6096,2,    223.9,2,   223.2,2, -999.00,9,-999.000,9, -999.00,9, -999.00,9, -999.00,9, -999.00,9, -999.00,9,    23.9,  18.1934,    18.1980,2
316N20070207,       LMD4,      68,          1,         19,         19,2,  -999.0,     -999.0,  53.680000, -4.5701667,       5128,    50.1,  18.2023,  36.6079,2,  36.6094,2,    224.0,2,   223.5,2, -999.00,9,-999.000,9, -999.00,9, -999.00,9, -999.00,9, -999.00,9, -999.00,9,    50.1,  18.1936,    18.2024,2
316N20070207,       LMD4,      68,          1,         18,         18,2,  -999.0,     -999.0,  53.680000, -4.5701667,       5128,    75.3,  18.2065,  36.6082,2,  36.6106,2,    223.4,2,   223.6,2, -999.00,9,-999.000,9, -999.00,9, -999.00,9, -999.00,9, -999.00,9, -999.00,9,    75.3,  18.1934,    18.2066,2
316N20070207,       LMD4,      68,          1,         17,         17,2,  -999.0,     -999.0,  53.680000, -4.5701667,       5128,   100.6,  18.2126,  36.6094,2,  36.6114,2,    223.7,2,   223.6,2,    0.94,2,   0.029,2,    1.85,2,    0.07,2,    0.09,2, -999.00,9, -999.00,9,   100.6,  18.1950,    18.2127,2
316N20070207,       LMD4,      68,          1,         16,         16,2,  -999.0,     -999.0,  53.680000, -4.5701667,       5128,   125.5,  18.2158,  36.6109,2,  36.6118,2,    223.6,2,   225.0,2,    0.82,2,   0.186,2,    1.71,2,    0.07,2,    0.08,2, -999.00,9, -999.00,9,   125.5,  18.1939,    18.2162,2
316N20070207,       LMD4,      68,          1,         15,         15,2,  -999.0,     -999.0,  53.680000, -4.5701667,       5128,   176.2,  18.2218,  36.6108,2,  36.6120,2,    218.6,2,   224.8,2,    0.90,2,   0.098,2,    1.72,2,    0.07,2,    0.08,2, -999.00,9, -999.00,9,   176.2,  18.1909,    18.2218,2
316N20070207,       LMD4,      68,          1,         14,         14,2,  -999.0,     -999.0,  53.680000, -4.5701667,       5128,   225.9,  18.1543,  36.6003,2,  36.6003,2,    216.6,2,   218.7,2,    0.99,2,   0.098,2,    2.44,2,    0.07,2,    0.12,2, -999.00,9, -999.00,9,   225.9,  18.1149,    18.1563,2
316N20070207,       LMD4,      68,          1,         13,         13,2,  -999.0,     -999.0,  53.680000, -4.5701667,       5128,   275.0,  18.1115,  36.5886,2,  36.5913,2,    215.7,2,   216.3,2,    1.07,2,   0.088,2,    2.78,2,    0.05,2,    0.14,2, -999.00,9, -999.00,9,   275.0,  18.0635,    18.1122,2
316N20070207,       LMD4,      68,          1,         12,         12,2,  -999.0,     -999.0,  53.680000, -4.5701667,       5128,   325.1,  18.0672,  36.5754,2,  36.5763,2,    214.2,2,   213.9,2,    1.16,2,   0.059,2,    3.15,2,    0.05,2,    0.15,2, -999.00,9, -999.00,9,   325.1,  18.0105,    18.0692,2
316N20070207,       LMD4,      68,          1,         11,         11,2,  -999.0,     -999.0,  53.680000, -4.5701667,       5128,   375.4,  18.0140,  36.5615,2,  36.5622,2,    213.9,2,   211.0,2,    1.25,2,   0.039,2,    3.48,2,    0.04,2,    0.17,2, -999.00,9, -999.00,9,   375.4,  17.9486,    18.0154,2
316N20070207,       LMD4,      68,          1,         10,         10,2,  -999.0,     -999.0,  53.680000, -4.5701667,       5128,   426.2,  17.7293,  36.4951,2,  36.4990,2,    196.8,2,   199.4,2,    1.65,2,   0.020,2,    5.06,2,    0.03,2,    0.25,2, -999.00,9, -999.00,9,   426.2,  17.6558,    17.7256,2
316N20070207,       LMD4,      68,          1,          9,         09,2,  -999.0,     -999.0,  53.680000, -4.5701667,       5128,   476.2,  17.0701,  36.3642,2,  36.3672,2,    186.5,2,   184.9,2,    2.36,2,   0.156,2,    7.39,2,    0.03,2,    0.39,2, -999.00,9, -999.00,9,   476.2,  16.9899,    17.0744,2
316N20070207,       LMD4,      68,          1,          8,         08,2,  -999.0,     -999.0,  53.680000, -4.5701667,       5128,   526.3,  16.3605,  36.2346,2,  36.2403,2,    178.6,2,   178.6,2,    2.24,2,   0.313,2,    7.23,2,    0.01,2,    0.44,2, -999.00,9, -999.00,9,   526.3,  16.2744,    16.3708,2
316N20070207,       LMD4,      68,          1,          7,         07,2,  -999.0,     -999.0,  53.680000, -4.5701667,       5128,   575.0,  15.4350,  36.0741,2,  36.0765,2,    172.8,2,   173.2,2,    4.00,3,   0.000,2,   11.29,3,    0.02,2,    0.64,3, -999.00,9, -999.00,9,   575.0,  15.3445,    15.4327,2
316N20070207,       LMD4,      68,          1,          6,         06,2,  -999.0,     -999.0,  53.680000, -4.5701667,       5128,   626.3,  14.6168,  35.9335,2,  35.9358,2,    170.0,2,   169.6,2,    3.77,2,   0.371,2,   10.40,2,    0.03,2,    0.67,2, -999.00,9, -999.00,9,   626.3,  14.5216,    14.6174,2
316N20070207,       LMD4,      68,          1,          5,         05,2,  -999.0,     -999.0,  53.680000, -4.5701667,       5128,   675.1,  13.4852,  35.7545,2,  35.7690,2,    160.0,2,   160.0,2,    5.22,2,   0.029,2,   12.92,2,    0.01,2,    0.82,2, -999.00,9, -999.00,9,   675.1,  13.3878,    13.5055,2
316N20070207,       LMD4,      68,          1,          4,         04,2,  -999.0,     -999.0,  53.680000, -4.5701667,       5128,   750.5,  11.7909,  35.5110,2,  35.5185,2,    147.2,2,   147.6,2,    9.40,2,   0.078,2,   19.79,2,    0.02,2,    1.22,2, -999.00,9, -999.00,9,   750.5,  11.6914,    11.7976,2
316N20070207,       LMD4,      68,          1,          3,         03,2,  -999.0,     -999.0,  53.680000, -4.5701667,       5128,   849.1,   9.2473,  35.2141,2,  35.2175,2,    144.2,2,   144.1,2,   12.34,2,   0.362,3,   21.38,2,    0.03,2,    1.46,2, -999.00,9, -999.00,9,   849.1,   9.1498,     9.2406,2
316N20070207,       LMD4,      68,          1,          2,         02,2,  -999.0,     -999.0,  53.680000, -4.5701667,       5128,   950.8,   7.7647,  35.1279,2,  35.1312,2,    167.8,2,   167.8,2, -999.00,9,-999.000,9, -999.00,9, -999.00,9, -999.00,9, -999.00,9, -999.00,9,   950.8,   7.6653,     7.7819,2
316N20070207,       LMD4,      68,          1,          1,         01,2,  -999.0,     -999.0,  53.680000, -4.5701667,       5128,  1013.3,   6.5654,  35.0814,2,  35.0842,2,    195.8,2,   195.6,2, -999.00,9,-999.000,9, -999.00,9, -999.00,9, -999.00,9, -999.00,9, -999.00,9,  1013.3,   6.4680,     6.5594,2
316N20070207,       LMD4,      69,          1,         21,         21,2,  -999.0,     -999.0,  29.130000, -6.7698333,       4928,     3.1,  18.4026,  36.6142,2,  36.6146,2,    225.6,2,   227.3,2,    0.78,2,   0.059,2,    1.12,2,    0.09,2,    0.07,2, -999.00,9, -999.00,9,     3.1,  18.4021,    18.4030,2
316N20070207,       LMD4,      69,          1,         20,         20,2,  -999.0,     -999.0,  29.130000, -6.7698333,       4928,    24.8,  18.3896,  36.6125,2,  36.6132,2,    226.3,2,   226.2,2, -999.00,9,-999.000,9, -999.00,9, -999.00,9, -999.00,9, -999.00,9, -999.00,9,    24.8,  18.3853,    18.3910,2
316N20070207,       LMD4,      69,          1,         19,         19,2,  -999.0,     -999.0,  29.130000, -6.7698333,       4928,    50.0,  18.2241,  36.6071,2,  36.6077,2,    223.7,2,   220.0,2, -999.00,9,-999.000,9, -999.00,9, -999.00,9, -999.00,9, -999.00,9, -999.00,9,    50.0,  18.2154,    18.2241,2
316N20070207,       LMD4,      69,          1,         18,         18,2,  -999.0,     -999.0,  29.130000, -6.7698333,       4928,    74.7,  18.2168,  36.6082,2,  36.6087,2,    220.0,2,   220.4,2, -999.00,9,-999.000,9, -999.00,9, -999.00,9, -999.00,9, -999.00,9, -999.00,9,    74.7,  18.2037,    18.2171,2
316N20070207,       LMD4,      69,          1,         17,         17,2,  -999.0,     -999.0,  29.130000, -6.7698333,       4928,   100.7,  18.2196,  36.6082,2,  36.6083,2,    220.5,2,   220.5,2,    0.97,2,   0.010,2,    2.09,2,    0.12,2,    0.11,2, -999.00,9, -999.00,9,   100.7,  18.2020,    18.2195,2
316N20070207,       LMD4,      69,          1,         16,         16,2,  -999.0,     -999.0,  29.130000, -6.7698333,       4928,   124.3,  18.2053,  36.6051,2,  36.6049,2,    219.6,2,   220.1,2,    0.95,2,   0.000,2,    2.21,2,    0.09,2,    0.12,2, -999.00,9, -999.00,9,   124.3,  18.1836,    18.2059,2
316N20070207,       LMD4,      69,          1,         15,         15,2,  -999.0,     -999.0,  29.130000, -6.7698333,       4928,   150.0,  18.2027,  36.6038,2,  36.6049,2,    219.3,2,   219.1,2,    0.94,2,   0.039,2,    2.27,2,    0.09,2,    0.12,2, -999.00,9, -999.00,9,   150.0,  18.1765,    18.2033,2
316N20070207,       LMD4,      69,          1,         14,         14,2,  -999.0,     -999.0,  29.130000, -6.7698333,       4928,   199.9,  18.2072,  36.6033,2,  36.6025,2,    219.6,2,   218.7,2,    0.92,2,   0.098,2,    2.30,2,    0.09,2,    0.11,2, -999.00,9, -999.00,9,   199.9,  18.1723,    18.2069,2
316N20070207,       LMD4,      69,          1,         13,         13,9,  -999.0,     -999.0,  29.130000, -6.7698333,       4928,   249.6,  18.2083,  36.6024,2,-999.0000,9,   -999.0,9,  -999.0,9, -999.00,9,-999.000,9, -999.00,9, -999.00,9, -999.00,9, -999.00,9, -999.00,9,   249.6,  18.1646,    18.2085,2
316N20070207,       LMD4,      69,          1,         12,         12,2,  -999.0,     -999.0,  29.130000, -6.7698333,       4928,   300.1,  18.2165,  36.6024,2,  36.6022,2,    219.2,2,   219.6,2,    0.90,2,   0.117,2,    2.22,2,    0.09,2,    0.11,2, -999.00,9, -999.00,9,   300.1,  18.1638,    18.2164,2
316N20070207,       LMD4,      69,          1,         11,         11,2,  -999.0,     -999.0,  29.130000, -6.7698333,       4928,   350.1,  18.2199,  36.6021,2,  36.6026,2,    219.2,2,   219.8,2,    0.88,2,   0.000,2,    2.23,2,    0.08,2,    0.11,2, -999.00,9, -999.00,9,   350.1,  18.1584,    18.2200,2
316N20070207,       LMD4,      69,          1,         10,         10,2,  -999.0,     -999.0,  29.130000, -6.7698333,       4928,   399.8,  18.1899,  36.5985,2,  36.6024,2,    217.1,2,   218.1,2,    0.65,3,   0.557,3,    2.04,3,    0.09,3,    0.11,3, -999.00,9, -999.00,9,   399.8,  18.1197,    18.1897,2
316N20070207,       LMD4,      69,          1,          9,         09,2,  -999.0,     -999.0,  29.130000, -6.7698333,       4928,   450.1,  17.6723,  36.4780,2,  36.4789,2,    195.1,2,   195.5,2,    1.57,2,   0.000,2,    5.40,2,    0.02,2,    0.27,2, -999.00,9, -999.00,9,   450.1,  17.5947,    17.6711,2
316N20070207,       LMD4,      69,          1,          8,         08,2,  -999.0,     -999.0,  29.130000, -6.7698333,       4928,   500.3,  16.9560,  36.3415,2,  36.3430,2,    184.3,2,   184.5,2,    2.29,2,   0.039,2,    7.47,2,    0.02,2,    0.40,2, -999.00,9, -999.00,9,   500.3,  16.8722,    16.9558,2
316N20070207,       LMD4,      69,          1,          7,         07,2,  -999.0,     -999.0,  29.130000, -6.7698333,       4928,   551.5,  16.2402,  36.2121,2,  36.2124,2,    177.0,2,   177.7,2,    3.01,2,   0.078,2,    9.45,2,    0.02,2,    0.53,2, -999.00,9, -999.00,9,   551.5,  16.1504,    16.2286,2
316N20070207,       LMD4,      69,          1,          6,         06,2,  -999.0,     -999.0,  29.130000, -6.7698333,       4928,   601.7,  15.2804,  36.0466,2,  36.0516,2,    172.2,2,   172.0,2,    3.93,2,   0.147,2,   11.26,2,    0.02,2,    0.64,2, -999.00,9, -999.00,9,   601.7,  15.1862,    15.2799,2
316N20070207,       LMD4,      69,          1,          5,         05,2,  -999.0,     -999.0,  29.130000, -6.7698333,       4928,   651.4,  14.0484,  35.8423,2,  35.8482,2,    166.2,2,   165.8,2,    4.75,2,   0.205,2,   12.32,2,    0.01,2,    0.76,2, -999.00,9, -999.00,9,   651.4,  13.9519,    14.0395,2
316N20070207,       LMD4,      69,          1,          4,         04,2,  -999.0,     -999.0,  29.130000, -6.7698333,       4928,   726.5,  12.4962,  35.6077,2,  35.6184,2,    154.6,2,   152.6,2,    8.00,2,   0.117,2,   17.94,2,    0.02,2,    1.09,2, -999.00,9, -999.00,9,   726.5,  12.3963,    12.4884,2
316N20070207,       LMD4,      69,          1,          3,         03,2,  -999.0,     -999.0,  29.130000, -6.7698333,       4928,   799.7,  10.4580,  35.3450,2,  35.3513,2,    143.6,2,   143.3,2,   11.78,2,   0.039,2,   22.28,2,    0.01,2,    1.40,2, -999.00,9, -999.00,9,   799.7,  10.3594,    10.4451,2
316N20070207,       LMD4,      69,          1,          2,         02,2,  -999.0,     -999.0,  29.130000, -6.7698333,       4928,   899.8,   8.2361,  35.1550,2,  35.1587,2,    160.9,2,   161.4,2, -999.00,9,-999.000,9, -999.00,9, -999.00,9, -999.00,9, -999.00,9, -999.00,9,   899.8,   8.1392,     8.2441,2
316N20070207,       LMD4,      69,          1,          1,         01,2,  -999.0,     -999.0,  29.130000, -6.7698333,       4928,  1008.6,   6.6341,  35.0839,2,  35.0915,2,    195.3,2,   194.9,2, -999.00,9,-999.000,9, -999.00,9, -999.00,9, -999.00,9, -999.00,9, -999.00,9,  1008.6,   6.5367,     6.6340,2