BOTTLE,20230728SIOCCHCBG
EXPOCODE,SECT_ID,STNNBR,CASTNO,SAMPNO,BTLNBR,BTLNBR_FLAG_W,DATE,TIME,LATITUDE,LONGITUDE,DEPTH,CTDPRS,CTDTMP,CTDSAL,CTDSAL_FLAG_W,SALNTY,SALNTY_FLAG_W,CTDOXY,CTDOXY_FLAG_W,OXYGEN,OXYGEN_FLAG_W,SILCAT,SILCAT_FLAG_W,NH4,NH4_FLAG_W,NITRAT,NITRAT_FLAG_W,NITRIT,NITRIT_FLAG_W,PHSPHT,PHSPHT_FLAG_W,TCARBN,TCARBN_FLAG_W,ALKALI,ALKALI_FLAG_W,CTDRAW,THETA,SBE35T,SBE35T_FLAG_W
,,,,,,,,,,,METERS,DBAR,ITS-90,PSS-78,,PSS-78,,UMOL/KG,,UMOL/KG,,UMOL/KG,,UMOL/KG,,UMOL/KG,,UMOL/KG,,UMOL/KG,,UMOL/KG,,UMOL/KG,,DBAR,DEG C,ITS-90,
316N20070207,       LMD4,      13,          1,         23,         23,9,20070103,       0215,  58.280000, -5.7333333,       4690,     4.4,   9.7734,  34.0408,2,-999.0000,9,   -999.0,9,  -999.0,9, -999.00,9,-999.000,9, -999.00,9, -999.00,9, -999.00,9, -999.00,9, -999.00,9,     4.4,   9.7729,     9.7734,2
316N20070207,       LMD4,      13,          1,         24,         24,2,20070103,       0215,  58.280000, -5.7333333,       4690,     5.1,   9.7724,  34.0405,2,  34.0419,2,    271.2,2,   271.1,2,    2.35,2,   0.694,2,    4.16,2,    0.16,2,    0.43,2, 2068.08,2, 2268.62,2,     5.1,   9.7719,     9.7735,2
316N20070207,       LMD4,      13,          1,         22,         22,2,20070103,       0215,  58.280000, -5.7333333,       4690,    26.0,   9.8406,  34.0752,2,  34.0691,2,    271.1,2,   271.4,2, -999.00,9,-999.000,9, -999.00,9, -999.00,9, -999.00,9, 2067.86,2, 2270.70,2,    26.0,   9.8377,     9.8385,2
316N20070207,       LMD4,      13,          1,         21,         21,2,20070103,       0215,  58.280000, -5.7333333,       4690,    50.2,  10.0663,  34.1538,2,  34.1569,2,    267.5,2,   268.7,2, -999.00,9,-999.000,9, -999.00,9, -999.00,9, -999.00,9, 2068.25,2, 2279.46,2,    50.2,  10.0605,    10.1561,3
316N20070207,       LMD4,      13,          1,         20,         20,2,20070103,       0215,  58.280000, -5.7333333,       4690,   101.2,  11.9808,  34.8279,2,  34.8371,2,    247.3,2,   249.5,2,    2.22,2,   0.088,3,    4.52,2,    0.16,2,    0.41,2, 2086.90,2, 2314.39,2,   101.2,  11.9677,    11.9460,2
316N20070207,       LMD4,      13,          1,         19,         19,9,20070103,       0215,  58.280000, -5.7333333,       4690,   124.9,  13.7746,  35.3333,2,-999.0000,9,   -999.0,9,  -999.0,9, -999.00,9,-999.000,9, -999.00,9, -999.00,9, -999.00,9, -999.00,9, -999.00,9,   124.9,  13.7567,    13.7718,2
316N20070207,       LMD4,      13,          1,         18,         18,2,20070103,       0215,  58.280000, -5.7333333,       4690,   150.7,  13.3822,  35.3658,2,  35.3638,2,    225.7,2,   223.8,2,    3.65,2,   0.059,2,    7.63,2,    0.10,2,    0.53,2, 2107.08,2, 2337.14,2,   150.7,  13.3611,    13.3855,2
316N20070207,       LMD4,      13,          1,         17,         17,2,20070103,       0215,  58.280000, -5.7333333,       4690,   174.7,  13.8000,  35.5664,2,  35.5637,2,    188.2,2,   190.6,2,    4.88,2,   0.049,2,   10.78,2,    0.05,2,    0.70,2, 2127.89,2, 2343.20,2,   174.7,  13.7749,    13.8000,2
316N20070207,       LMD4,      13,          1,         16,         16,2,20070103,       0215,  58.280000, -5.7333333,       4690,   199.8,  13.1979,  35.5572,2,  35.5734,3,    169.2,2,   166.9,2,    6.64,2,   0.020,2,   14.72,2,    0.03,2,    0.92,2, 2149.15,2, 2343.05,2,   199.8,  13.1700,    13.2104,2
316N20070207,       LMD4,      13,          1,         15,         15,9,20070103,       0215,  58.280000, -5.7333333,       4690,   225.4,  11.7524,  35.3957,2,-999.0000,9,   -999.0,9,  -999.0,9, -999.00,9,-999.000,9, -999.00,9, -999.00,9, -999.00,9, -999.00,9, -999.00,9,   225.4,  11.7232,    11.7617,2
316N20070207,       LMD4,      13,          1,         14,         14,2,20070103,       0215,  58.280000, -5.7333333,       4690,   274.5,  10.6982,  35.3448,2,  35.3559,2,    139.4,2,   140.8,2,    9.25,2,   0.068,2,   18.42,2,    0.01,2,    1.25,2, 2179.86,2, 2324.08,2,   274.5,  10.6647,    10.7658,3
316N20070207,       LMD4,      13,          1,         13,         13,2,20070103,       0215,  58.280000, -5.7333333,       4690,   325.8,   9.4911,  35.2316,2,  35.2284,2,    140.5,2,   141.8,2,   13.47,2,   0.000,2,   24.17,2,    0.01,2,    1.53,2, 2183.61,2, 2322.54,2,   325.8,   9.4542,     9.4849,2
316N20070207,       LMD4,      13,          1,         12,         12,2,20070103,       0215,  58.280000, -5.7333333,       4690,   375.3,   8.4725,  35.1438,2,  35.1429,2,    154.0,2,   152.2,2,   11.00,2,   0.088,2,   18.92,2,    0.01,2,    1.39,2, 2185.68,2, 2316.95,2,   375.3,   8.4327,     8.4863,2
316N20070207,       LMD4,      13,          1,         11,         11,9,20070103,       0215,  58.280000, -5.7333333,       4690,   425.7,   7.5332,  35.1118,2,-999.0000,9,   -999.0,9,  -999.0,9, -999.00,9,-999.000,9, -999.00,9, -999.00,9, -999.00,9, -999.00,9, -999.00,9,   425.7,   7.4909,     7.5311,2
316N20070207,       LMD4,      13,          1,         10,         10,2,20070103,       0215,  58.280000, -5.7333333,       4690,   475.6,   6.8245,  35.0848,2,  35.0858,2,    188.0,2,   187.1,2,   13.64,2,   0.000,2,   22.15,2,    0.01,2,    1.44,2, 2181.36,2, 2317.19,2,   475.6,   6.7796,     6.8301,2
316N20070207,       LMD4,      13,          1,          9,         09,9,20070103,       0215,  58.280000, -5.7333333,       4690,   551.0,   5.9068,  35.0551,2,-999.0000,9,   -999.0,9,  -999.0,9, -999.00,9,-999.000,9, -999.00,9, -999.00,9, -999.00,9, -999.00,9, -999.00,9,   551.0,   5.8584,     5.9070,2
316N20070207,       LMD4,      13,          1,          8,         08,2,20070103,       0215,  58.280000, -5.7333333,       4690,   649.9,   5.1914,  35.0289,2,  35.0306,2,    230.2,2,   230.8,2,   11.17,2,   1.339,3,   17.98,2,    0.02,2,    1.20,2, 2167.43,2, 2310.24,2,   649.9,   5.1374,     5.1987,2
316N20070207,       LMD4,      13,          1,          7,         07,9,20070103,       0215,  58.280000, -5.7333333,       4690,   749.3,   4.8993,  35.0176,2,-999.0000,9,   -999.0,9,  -999.0,9, -999.00,9,-999.000,9, -999.00,9, -999.00,9, -999.00,9, -999.00,9, -999.00,9,   749.3,   4.8382,     4.8991,2
316N20070207,       LMD4,      13,          1,          6,         06,2,20070103,       0215,  58.280000, -5.7333333,       4690,   849.8,   4.6696,  35.0086,2,  35.0082,2,    247.4,2,   247.4,2,   11.78,2,   0.020,2,   18.44,2,    0.01,2,    1.21,2, 2164.72,2, 2309.21,2,   849.8,   4.6011,     4.6675,2
316N20070207,       LMD4,      13,          1,          5,         05,2,20070103,       0215,  58.280000, -5.7333333,       4690,   999.5,   4.3442,  34.9877,2,  34.9879,2,    254.9,2,   255.0,2, -999.00,9,-999.000,9, -999.00,9, -999.00,9, -999.00,9, 2161.28,2, 2307.86,2,   999.5,   4.2652,     4.3513,2
316N20070207,       LMD4,      13,          1,          3,         03,9,20070103,       0215,  58.280000, -5.7333333,       4690,  1401.7,   3.9325,  34.9613,2,-999.0000,9,   -999.0,9,  -999.0,9, -999.00,9,-999.000,9, -999.00,9, -999.00,9, -999.00,9, -999.00,9, -999.00,9,  1401.7,   3.8219,     3.9319,2
316N20070207,       LMD4,      13,          1,          4,         04,2,20070103,       0215,  58.280000, -5.7333333,       4690,  1402.1,   3.9330,  34.9614,2,  34.9616,2,    263.5,2,   263.0,2, -999.00,9,-999.000,9, -999.00,9, -999.00,9, -999.00,9, -999.00,9, -999.00,9,  1402.1,   3.8224,     3.9329,2
316N20070207,       LMD4,      13,          1,          2,         02,2,20070103,       0215,  58.280000, -5.7333333,       4690,  1700.6,   3.6861,  34.9494,2,  34.9487,2,    267.0,2,   266.7,2, -999.00,9,-999.000,9, -999.00,9, -999.00,9, -999.00,9, -999.00,9, -999.00,9,  1700.6,   3.5514,     3.6868,2
316N20070207,       LMD4,      13,          1,          1,         01,2,20070103,       0215,  58.280000, -5.7333333,       4690,  1999.4,   3.4143,  34.9437,2,  34.9432,2,    268.3,2,   268.3,2, -999.00,9,-999.000,9, -999.00,9, -999.00,9, -999.00,9, -999.00,9, -999.00,9,  1999.4,   3.2556,     3.4128,2
316N20070207,       LMD4,      14,          1,         23,         23,2,20070103,       2209,  58.820000, -1.8428333,       4663,     5.2,  20.5275,  36.6241,2,  36.6194,2,    214.1,2,   213.2,2,    0.95,2,   0.185,2,    0.70,2,    0.22,2,    0.04,2, 2070.19,2, 2395.65,2,     5.2,  20.5265,    20.5307,2
316N20070207,       LMD4,      14,          1,         24,         24,9,20070103,       2209,  58.820000, -1.8428333,       4663,     5.3,  20.5385,  36.6234,2,-999.0000,9,   -999.0,9,  -999.0,9, -999.00,9,-999.000,9, -999.00,9, -999.00,9, -999.00,9, -999.00,9, -999.00,9,     5.3,  20.5374,    20.5309,2
316N20070207,       LMD4,      14,          1,         22,         22,2,20070103,       2209,  58.820000, -1.8428333,       4663,    24.7,  20.5523,  36.6232,2,  36.6241,2,    214.0,2,   213.6,2, -999.00,9,-999.000,9, -999.00,9, -999.00,9, -999.00,9, 2067.05,2, 2396.70,2,    24.7,  20.5476,    20.5520,2
316N20070207,       LMD4,      14,          1,         21,         21,2,20070103,       2209,  58.820000, -1.8428333,       4663,    50.5,  20.5541,  36.6228,2,  36.6228,2,    213.4,2,   212.9,2, -999.00,9,-999.000,9, -999.00,9, -999.00,9, -999.00,9, 2069.87,2, 2397.56,2,    50.5,  20.5446,    20.5544,2
316N20070207,       LMD4,      14,          1,         19,         19,2,20070103,       2209,  58.820000, -1.8428333,       4663,    74.0,  20.5631,  36.6237,2,  36.6183,2,    213.0,2,   213.3,2, -999.00,9,-999.000,9, -999.00,9, -999.00,9, -999.00,9, 2070.59,2, 2396.72,2,    74.0,  20.5491,    20.5636,2
316N20070207,       LMD4,      14,          1,         20,         20,2,20070103,       2209,  58.820000, -1.8428333,       4663,    75.8,  20.5640,  36.6234,2,  36.6224,2,    212.9,2,   212.6,2, -999.00,9,-999.000,9, -999.00,9, -999.00,9, -999.00,9, -999.00,9, -999.00,9,    75.8,  20.5496,    20.5634,2
316N20070207,       LMD4,      14,          1,         18,         18,2,20070103,       2209,  58.820000, -1.8428333,       4663,    99.8,  20.5676,  36.6237,2,  36.6238,2,    212.8,2,   213.1,2,    0.92,2,   0.039,2,    0.61,2,    0.21,2,    0.03,2, 2067.61,2, 2396.54,2,    99.8,  20.5486,    20.5680,2
316N20070207,       LMD4,      14,          1,         17,         17,2,20070103,       2209,  58.820000, -1.8428333,       4663,   125.5,  20.5673,  36.6233,2,  36.6223,2,    212.3,2,   213.0,2,    0.90,2,   0.000,2,    0.61,2,    0.21,2,    0.03,2, 2071.01,2, 2396.84,2,   125.5,  20.5434,    20.5670,2
316N20070207,       LMD4,      14,          1,         15,         15,2,20070103,       2209,  58.820000, -1.8428333,       4663,   150.7,  20.5715,  36.6233,2,  36.6116,3,    211.5,2,   214.0,2,    0.87,2,   0.039,2,    0.66,2,    0.21,2,    0.04,2, 2067.52,2, 2397.40,2,   150.7,  20.5429,    20.5710,2
316N20070207,       LMD4,      14,          1,         16,         16,2,20070103,       2209,  58.820000, -1.8428333,       4663,   150.9,  20.5711,  36.6235,2,  36.6235,2,    211.5,2,   213.8,2, -999.00,9,-999.000,9, -999.00,9, -999.00,9, -999.00,9, -999.00,9, -999.00,9,   150.9,  20.5424,    20.5709,2
316N20070207,       LMD4,      14,          1,         14,         14,2,20070103,       2209,  58.820000, -1.8428333,       4663,   201.8,  19.4754,  36.6645,2,  36.6646,2,    205.9,2,   203.7,2,    0.85,2,   0.068,2,    1.75,2,    0.08,2,    0.08,2, 2095.53,2, 2394.93,2,   201.8,  19.4384,    19.4771,2
316N20070207,       LMD4,      14,          1,         13,         13,2,20070103,       2209,  58.820000, -1.8428333,       4663,   250.7,  19.0697,  36.6508,2,  36.6512,2,    193.7,2,   193.2,2,    1.03,2,   0.000,2,    3.09,2,    0.02,2,    0.13,2, 2109.28,2, 2398.42,2,   250.7,  19.0243,    19.0660,2
316N20070207,       LMD4,      14,          1,         12,         12,2,20070103,       2209,  58.820000, -1.8428333,       4663,   301.4,  18.5246,  36.5985,2,  36.5996,2,    196.5,2,   215.4,4,    0.80,2,   0.420,2,    3.04,2,    0.02,2,    0.15,2, 2107.84,2, 2396.21,2,   301.4,  18.4711,    18.5262,2
316N20070207,       LMD4,      14,          1,         11,         11,9,20070103,       2209,  58.820000, -1.8428333,       4663,   348.2,  18.3394,  36.5848,2,-999.0000,9,   -999.0,9,  -999.0,9, -999.00,9,-999.000,9, -999.00,9, -999.00,9, -999.00,9, -999.00,9, -999.00,9,   348.2,  18.2780,    18.3364,2
316N20070207,       LMD4,      14,          1,         10,         10,2,20070103,       2209,  58.820000, -1.8428333,       4663,   399.2,  18.0652,  36.5472,2,  36.5463,2,    199.1,2,   198.8,2,    1.09,2,   0.254,2,    3.71,2,    0.02,2,    0.20,2, 2109.92,2, 2392.61,2,   399.2,  17.9954,    18.0622,2
316N20070207,       LMD4,      14,          1,          9,         09,2,20070103,       2209,  58.820000, -1.8428333,       4663,   450.6,  17.6421,  36.4725,2,  36.4721,2,    191.4,2,   191.6,2,    1.59,2,   0.332,2,    5.25,2,    0.02,2,    0.30,2, 2115.96,2, 2393.08,2,   450.6,  17.5645,    17.6440,2
316N20070207,       LMD4,      14,          1,          8,         08,2,20070103,       2209,  58.820000, -1.8428333,       4663,   500.4,  16.5685,  36.2688,2,  36.2747,2,    176.4,2,   174.7,2,    2.81,2,   0.166,2,    9.03,2,    0.01,2,    0.51,2, 2131.91,2, 2375.15,2,   500.4,  16.4859,    16.6102,2
316N20070207,       LMD4,      14,          1,          7,         07,2,20070103,       2209,  58.820000, -1.8428333,       4663,   550.0,  15.7795,  36.1274,2,  36.1326,2,    164.5,2,   165.4,2,    3.93,2,   0.088,2,   11.71,2,    0.01,2,    0.66,2, 2140.37,2, 2374.92,2,   550.0,  15.6916,    15.7741,2
316N20070207,       LMD4,      14,          1,          6,         06,2,20070103,       2209,  58.820000, -1.8428333,       4663,   600.8,  15.1256,  36.0239,2,  36.0266,2,    167.5,2,   167.2,2,    4.43,2,   0.039,2,   12.34,2,    0.01,2,    0.72,2, 2143.93,2, 2363.18,2,   600.8,  15.0322,    15.1308,2
316N20070207,       LMD4,      14,          1,          5,         05,2,20070103,       2209,  58.820000, -1.8428333,       4663,   649.5,  14.1804,  35.8620,2,  35.8553,2,    154.6,2,   153.6,2,    5.15,2,   0.508,2,   13.31,2,    0.02,2,    0.85,2, 2155.21,2, 2352.95,2,   649.5,  14.0836,    14.2214,2
316N20070207,       LMD4,      14,          1,          4,         04,2,20070103,       2209,  58.820000, -1.8428333,       4663,   722.0,  12.1225,  35.5664,2,  35.5613,2,    153.5,2,   152.7,2,    8.59,2,   0.088,2,   18.94,2,    0.01,2,    1.17,2, 2167.67,2, 2345.66,2,   722.0,  12.0251,    12.1196,2
316N20070207,       LMD4,      14,          1,          3,         03,2,20070103,       2209,  58.820000, -1.8428333,       4663,   801.2,  10.1867,  35.3105,2,  35.3140,2,    142.3,2,   141.2,2,    9.83,2,   1.202,3,   18.59,2,    0.02,2,    1.32,2, 2182.34,2, 2328.94,2,   801.2,  10.0894,    10.2019,2
316N20070207,       LMD4,      14,          1,          2,         02,2,20070103,       2209,  58.820000, -1.8428333,       4663,   901.9,   7.6881,  35.1202,2,  35.1210,2,    165.4,2,   168.8,2, -999.00,9,-999.000,9, -999.00,9, -999.00,9, -999.00,9, 2183.13,2, 2319.95,2,   901.9,   7.5946,     7.6877,2
316N20070207,       LMD4,      14,          1,          1,         01,2,20070103,       2209,  58.820000, -1.8428333,       4663,  1008.5,   6.1201,  35.0657,2,  35.0661,2,   -999.0,9,  -999.0,5, -999.00,9,-999.000,9, -999.00,9, -999.00,9, -999.00,9, 2172.10,2, 2325.58,2,  1008.5,   6.0266,     6.1186,2