BOTTLE,20230728SIOCCHCBG
EXPOCODE,SECT_ID,STNNBR,CASTNO,SAMPNO,BTLNBR,BTLNBR_FLAG_W,DATE,TIME,LATITUDE,LONGITUDE,DEPTH,CTDPRS,CTDTMP,CTDSAL,CTDSAL_FLAG_W,SALNTY,SALNTY_FLAG_W,CTDOXY,CTDOXY_FLAG_W,OXYGEN,OXYGEN_FLAG_W,SILCAT,SILCAT_FLAG_W,NH4,NH4_FLAG_W,NITRAT,NITRAT_FLAG_W,NITRIT,NITRIT_FLAG_W,PHSPHT,PHSPHT_FLAG_W,TCARBN,TCARBN_FLAG_W,ALKALI,ALKALI_FLAG_W,CTDRAW,THETA,SBE35T,SBE35T_FLAG_W
,,,,,,,,,,,METERS,DBAR,ITS-90,PSS-78,,PSS-78,,UMOL/KG,,UMOL/KG,,UMOL/KG,,UMOL/KG,,UMOL/KG,,UMOL/KG,,UMOL/KG,,UMOL/KG,,UMOL/KG,,DBAR,DEG C,ITS-90,
316N20070207,       LMD4,      30,          1,         21,         21,2,20070203,       2109,  15.960000, -4.1063333,          0,    13.4,  18.0731,  36.5762,2,  36.5734,2,    221.9,2,   221.6,2,    0.98,2,   0.127,2,    2.66,2,    0.07,2,    0.13,2, 2090.22,2, 2395.84,2,    13.4,  18.0708,    18.0723,2
316N20070207,       LMD4,      30,          1,         20,         20,2,20070203,       2109,  15.960000, -4.1063333,          0,    26.3,  18.0792,  36.5750,2,  36.5748,2,    222.1,2,   221.5,2, -999.00,9,-999.000,9, -999.00,9, -999.00,9, -999.00,9, 2093.43,2, 2396.97,2,    26.3,  18.0747,    18.0794,2
316N20070207,       LMD4,      30,          1,         19,         19,2,20070203,       2109,  15.960000, -4.1063333,          0,    48.2,  18.0811,  36.5737,2,  36.5720,2,    222.2,2,   221.6,2, -999.00,9,-999.000,9, -999.00,9, -999.00,9, -999.00,9, 2092.41,2, 2394.13,2,    48.2,  18.0727,    18.0820,2
316N20070207,       LMD4,      30,          1,         18,         18,2,20070203,       2109,  15.960000, -4.1063333,          0,    77.0,  18.0870,  36.5755,2,  36.5738,2,    221.3,2,   221.6,2, -999.00,9,-999.000,9, -999.00,9, -999.00,9, -999.00,9, -999.00,9, -999.00,9,    77.0,  18.0736,    18.0848,2
316N20070207,       LMD4,      30,          1,         17,         17,2,20070203,       2109,  15.960000, -4.1063333,          0,   101.4,  18.0758,  36.5765,2,  36.5748,2,    220.1,2,   220.5,2,    0.86,2,   0.644,2,    2.37,2,    0.08,2,    0.13,2, 2092.89,2, 2395.72,2,   101.4,  18.0582,    18.0752,2
316N20070207,       LMD4,      30,          1,         16,         16,2,20070203,       2109,  15.960000, -4.1063333,          0,   125.4,  18.0814,  36.5766,2,  36.5745,2,    220.1,2,   221.1,2,    0.74,2,   0.761,2,    2.28,2,    0.07,2,    0.14,2, 2094.87,2, 2399.48,2,   125.4,  18.0596,    18.0806,2
316N20070207,       LMD4,      30,          1,         15,         15,2,20070203,       2109,  15.960000, -4.1063333,          0,   149.8,  18.0148,  36.5704,2,  36.5695,2,    219.4,2,   218.7,2,    1.03,2,   0.098,2,    2.89,2,    0.06,2,    0.14,2, 2094.43,2, 2395.85,2,   149.8,  17.9888,    18.0163,2
316N20070207,       LMD4,      30,          1,         14,         14,2,20070203,       2109,  15.960000, -4.1063333,          0,   199.3,  17.9435,  36.5604,2,  36.5581,2,    216.8,2,   217.1,2,    0.82,2,   2.431,2,    2.84,2,    0.07,2,    0.14,2, 2094.18,2, 2392.36,2,   199.3,  17.9090,    17.9427,2
316N20070207,       LMD4,      30,          1,         13,         13,2,20070203,       2109,  15.960000, -4.1063333,          0,   251.0,  17.9216,  36.5604,2,  36.5590,2,    217.0,2,   217.5,2,    0.60,2,   1.650,2,    2.39,2,    0.15,2,    0.13,2, 2090.58,2, 2394.63,2,   251.0,  17.8781,    17.9217,2
316N20070207,       LMD4,      30,          1,         12,         12,2,20070203,       2109,  15.960000, -4.1063333,          0,   299.6,  17.9100,  36.5584,2,  36.5557,2,    217.0,2,   218.2,2,    1.00,2,   0.000,2,    3.04,2,    0.06,2,    0.15,2, 2090.29,2, 2397.89,2,   299.6,  17.8581,    17.9104,2
316N20070207,       LMD4,      30,          1,         11,         11,2,20070203,       2109,  15.960000, -4.1063333,          0,   349.5,  17.8975,  36.5542,2,  36.5514,2,    216.7,2,   217.5,2,    0.98,2,   0.674,2,    3.31,2,    0.07,2,    0.22,2, 2091.47,2, 2402.14,2,   349.5,  17.8369,    17.8989,2
316N20070207,       LMD4,      30,          1,         10,         10,2,20070203,       2109,  15.960000, -4.1063333,          0,   402.9,  17.8708,  36.5462,2,  36.5454,2,    215.4,2,   216.6,2,    0.76,2,   0.625,2,    2.67,2,    0.06,2,    0.15,2, 2097.39,2, 2395.23,2,   402.9,  17.8009,    17.8703,2
316N20070207,       LMD4,      30,          1,          9,         09,2,20070203,       2109,  15.960000, -4.1063333,          0,   450.8,  17.7907,  36.5285,2,  36.5264,2,    214.7,2,   212.0,2, -999.00,5,-999.000,5, -999.00,5, -999.00,5, -999.00,5, 2099.85,2, 2392.12,2,   450.8,  17.7127,    17.7895,2
316N20070207,       LMD4,      30,          1,          8,         08,2,20070203,       2109,  15.960000, -4.1063333,          0,   499.3,  17.8145,  36.5463,2,  36.5488,2,    217.1,2,   217.5,2,    1.05,2,   0.010,2,    3.42,2,    0.05,2,    0.17,2, 2099.13,2, 2393.58,2,   499.3,  17.7279,    17.8148,2
316N20070207,       LMD4,      30,          1,          7,         07,2,20070203,       2109,  15.960000, -4.1063333,          0,   547.8,  16.7263,  36.2999,2,  36.2995,2,    188.3,2,   187.8,2,    2.28,2,   0.010,2,    7.68,2,    0.02,2,    0.42,2, 2117.04,2, 2377.32,2,   547.8,  16.6353,    16.7191,2
316N20070207,       LMD4,      30,          1,          6,         06,2,20070203,       2109,  15.960000, -4.1063333,          0,   603.7,  15.7977,  36.1358,2,  36.1410,2,    176.8,2,   177.3,2,    2.26,2,   0.176,2,    7.70,2,    0.01,2,    0.48,2, 2128.26,2, 2371.33,2,   603.7,  15.7011,    15.8187,2
316N20070207,       LMD4,      30,          1,          5,         05,2,20070203,       2109,  15.960000, -4.1063333,          0,   652.0,  14.7340,  35.9533,2,  35.9531,2,    168.9,2,   169.6,2,    4.62,2,   0.527,2,   12.95,2,    0.04,2,    0.75,2, 2140.49,2, 2355.56,2,   652.0,  14.6343,    14.7321,2
316N20070207,       LMD4,      30,          1,          4,         04,2,20070203,       2109,  15.960000, -4.1063333,          0,   726.1,  13.0317,  35.6835,2,  35.6845,2,    151.2,2,   149.7,2,    7.50,2,   0.518,2,   17.88,2,    0.03,2,    1.10,2, 2158.25,2, 2339.72,2,   726.1,  12.9291,    13.0115,2
316N20070207,       LMD4,      30,          1,          3,         03,2,20070203,       2109,  15.960000, -4.1063333,          0,   800.5,  10.7855,  35.3699,2,  35.3704,2,    135.8,2,   135.4,2,    9.05,2,   1.397,3,   17.80,2,    0.05,2,    1.31,2, -999.00,9, -999.00,9,   800.5,  10.6849,    10.7791,2
316N20070207,       LMD4,      30,          1,          2,         02,2,20070203,       2109,  15.960000, -4.1063333,          0,   901.9,   8.7220,  35.1708,2,  35.1699,2,    147.5,2,   148.8,2, -999.00,9,-999.000,9, -999.00,9, -999.00,9, -999.00,9, -999.00,9, -999.00,9,   901.9,   8.6216,     8.7038,2
316N20070207,       LMD4,      30,          1,          1,         01,2,20070203,       2109,  15.960000, -4.1063333,          0,  1002.8,   7.0509,  35.0838,2,  35.0840,2,    182.2,2,   182.2,2, -999.00,9,-999.000,9, -999.00,9, -999.00,9, -999.00,9, -999.00,9, -999.00,9,  1002.8,   6.9510,     7.0433,2
316N20070207,       LMD4,      31,          1,         20,         20,9,  -999.0,     -999.0,  59.980000, -5.9988333,       4775,     4.8,  18.2684,  36.5989,2,-999.0000,9,   -999.0,9,  -999.0,9, -999.00,9,-999.000,9, -999.00,9, -999.00,9, -999.00,9, -999.00,9, -999.00,9,     4.8,  18.2676,    18.2689,2
316N20070207,       LMD4,      31,          1,         19,         19,9,  -999.0,     -999.0,  59.980000, -5.9988333,       4775,     5.1,  18.2680,  36.5991,2,-999.0000,9,   -999.0,9,  -999.0,9, -999.00,9,-999.000,9, -999.00,9, -999.00,9, -999.00,9, -999.00,9, -999.00,9,     5.1,  18.2671,    18.2677,2
316N20070207,       LMD4,      31,          1,         24,         24,2,  -999.0,     -999.0,  59.980000, -5.9988333,       4775,     5.3,  18.2700,  36.5971,2,  36.5973,2,    222.1,2,   222.3,2,    0.35,2,   1.562,2,    1.82,2,    0.17,2,    0.12,2, -999.00,9, -999.00,9,     5.3,  18.2691,    18.2707,2
316N20070207,       LMD4,      31,          1,         12,         12,9,  -999.0,     -999.0,  59.980000, -5.9988333,       4775,     5.4,  18.2710,  36.5999,2,-999.0000,9,   -999.0,9,  -999.0,9, -999.00,9,-999.000,9, -999.00,9, -999.00,9, -999.00,9, -999.00,9, -999.00,9,     5.4,  18.2701,    18.2705,2
316N20070207,       LMD4,      31,          1,         14,         14,9,  -999.0,     -999.0,  59.980000, -5.9988333,       4775,     5.4,  18.2710,  36.5987,2,-999.0000,9,   -999.0,9,  -999.0,9, -999.00,9,-999.000,9, -999.00,9, -999.00,9, -999.00,9, -999.00,9, -999.00,9,     5.4,  18.2700,    18.2711,2
316N20070207,       LMD4,      31,          1,         17,         17,9,  -999.0,     -999.0,  59.980000, -5.9988333,       4775,     5.5,  18.2680,  36.5991,2,-999.0000,9,   -999.0,9,  -999.0,9, -999.00,9,-999.000,9, -999.00,9, -999.00,9, -999.00,9, -999.00,9, -999.00,9,     5.5,  18.2671,    18.2683,2
316N20070207,       LMD4,      31,          1,         13,         13,9,  -999.0,     -999.0,  59.980000, -5.9988333,       4775,     5.8,  18.2712,  36.5997,2,-999.0000,9,   -999.0,9,  -999.0,9, -999.00,9,-999.000,9, -999.00,9, -999.00,9, -999.00,9, -999.00,9, -999.00,9,     5.8,  18.2702,    18.2720,2
316N20070207,       LMD4,      31,          1,         16,         16,9,  -999.0,     -999.0,  59.980000, -5.9988333,       4775,     5.9,  18.2695,  36.5961,2,-999.0000,9,   -999.0,9,  -999.0,9, -999.00,9,-999.000,9, -999.00,9, -999.00,9, -999.00,9, -999.00,9, -999.00,9,     5.9,  18.2685,    18.2696,2
316N20070207,       LMD4,      31,          1,         22,         22,9,  -999.0,     -999.0,  59.980000, -5.9988333,       4775,     6.0,  18.2692,  36.5983,2,-999.0000,9,   -999.0,9,  -999.0,9, -999.00,9,-999.000,9, -999.00,9, -999.00,9, -999.00,9, -999.00,9, -999.00,9,     6.0,  18.2681,    18.2694,2
316N20070207,       LMD4,      31,          1,         23,         23,9,  -999.0,     -999.0,  59.980000, -5.9988333,       4775,     6.2,  18.2698,  36.5973,2,-999.0000,9,   -999.0,9,  -999.0,9, -999.00,9,-999.000,9, -999.00,9, -999.00,9, -999.00,9, -999.00,9, -999.00,9,     6.2,  18.2687,    18.2703,2
316N20070207,       LMD4,      31,          1,         21,         21,9,  -999.0,     -999.0,  59.980000, -5.9988333,       4775,     6.2,  18.2685,  36.5988,2,-999.0000,9,   -999.0,9,  -999.0,9, -999.00,9,-999.000,9, -999.00,9, -999.00,9, -999.00,9, -999.00,9, -999.00,9,     6.2,  18.2674,    18.2690,2
316N20070207,       LMD4,      31,          1,         18,         18,9,  -999.0,     -999.0,  59.980000, -5.9988333,       4775,     6.2,  18.2670,  36.5996,2,-999.0000,9,   -999.0,9,  -999.0,9, -999.00,9,-999.000,9, -999.00,9, -999.00,9, -999.00,9, -999.00,9, -999.00,9,     6.2,  18.2659,    18.2675,2
316N20070207,       LMD4,      31,          1,         15,         15,9,  -999.0,     -999.0,  59.980000, -5.9988333,       4775,     6.6,  18.2688,  36.5987,2,-999.0000,9,   -999.0,9,  -999.0,9, -999.00,9,-999.000,9, -999.00,9, -999.00,9, -999.00,9, -999.00,9, -999.00,9,     6.6,  18.2677,    18.2691,2
316N20070207,       LMD4,      31,          1,         10,         10,9,  -999.0,     -999.0,  59.980000, -5.9988333,       4775,   249.0,  18.2047,  36.5885,2,-999.0000,9,   -999.0,9,  -999.0,9, -999.00,9,-999.000,9, -999.00,9, -999.00,9, -999.00,9, -999.00,9, -999.00,9,   249.0,  18.1611,    18.2061,2
316N20070207,       LMD4,      31,          1,         11,         11,2,  -999.0,     -999.0,  59.980000, -5.9988333,       4775,   249.0,  18.2054,  36.5886,2,  36.5875,2,    219.1,2,   219.5,2,    0.34,2,   0.888,2,    1.59,2,    0.11,2,    0.10,2, -999.00,9, -999.00,9,   249.0,  18.1618,    18.2061,2
316N20070207,       LMD4,      31,          1,          5,         05,9,  -999.0,     -999.0,  59.980000, -5.9988333,       4775,   249.5,  18.2042,  36.5884,2,-999.0000,9,   -999.0,9,  -999.0,9, -999.00,9,-999.000,9, -999.00,9, -999.00,9, -999.00,9, -999.00,9, -999.00,9,   249.5,  18.1606,    18.2044,2
316N20070207,       LMD4,      31,          1,          7,         07,9,  -999.0,     -999.0,  59.980000, -5.9988333,       4775,   249.5,  18.2066,  36.5892,2,-999.0000,9,   -999.0,9,  -999.0,9, -999.00,9,-999.000,9, -999.00,9, -999.00,9, -999.00,9, -999.00,9, -999.00,9,   249.5,  18.1630,    18.2075,2
316N20070207,       LMD4,      31,          1,          8,         08,9,  -999.0,     -999.0,  59.980000, -5.9988333,       4775,   250.4,  18.2076,  36.5891,2,-999.0000,9,   -999.0,9,  -999.0,9, -999.00,9,-999.000,9, -999.00,9, -999.00,9, -999.00,9, -999.00,9, -999.00,9,   250.4,  18.1637,    18.2069,2
316N20070207,       LMD4,      31,          1,          6,         06,9,  -999.0,     -999.0,  59.980000, -5.9988333,       4775,   250.6,  18.2051,  36.5888,2,-999.0000,9,   -999.0,9,  -999.0,9, -999.00,9,-999.000,9, -999.00,9, -999.00,9, -999.00,9, -999.00,9, -999.00,9,   250.6,  18.1612,    18.2055,2
316N20070207,       LMD4,      31,          1,          9,         09,9,  -999.0,     -999.0,  59.980000, -5.9988333,       4775,   250.9,  18.2056,  36.5885,2,-999.0000,9,   -999.0,9,  -999.0,9, -999.00,9,-999.000,9, -999.00,9, -999.00,9, -999.00,9, -999.00,9, -999.00,9,   250.9,  18.1617,    18.2055,2
316N20070207,       LMD4,      31,          1,          4,         04,2,  -999.0,     -999.0,  59.980000, -5.9988333,       4775,   399.1,  17.4437,  36.4327,2,  36.4397,2,    192.0,2,   192.1,2,    0.43,2,   0.713,2,    2.92,2,    0.04,2,    0.20,2, -999.00,9, -999.00,9,   399.1,  17.3757,    17.4489,2
316N20070207,       LMD4,      31,          1,          3,         03,2,  -999.0,     -999.0,  59.980000, -5.9988333,       4775,   501.2,  16.1161,  36.1977,2,  36.2078,2,    176.5,2,   176.7,2,    1.45,2,   1.309,3,    5.53,2,    0.08,2,    0.39,2, -999.00,9, -999.00,9,   501.2,  16.0350,    16.1632,2
316N20070207,       LMD4,      31,          1,          2,         02,2,  -999.0,     -999.0,  59.980000, -5.9988333,       4775,   900.4,   7.9764,  35.1461,2,  35.1465,2,    169.9,2,   170.3,2,    5.97,2,   0.948,3,   10.93,2,    0.06,2,    0.96,2, -999.00,9, -999.00,9,   900.4,   7.8811,     7.9726,2
316N20070207,       LMD4,      31,          1,          1,         01,2,  -999.0,     -999.0,  59.980000, -5.9988333,       4775,  1012.8,   6.3550,  35.0783,2,  35.0793,2,    202.4,2,   202.1,2, -999.00,9,-999.000,9, -999.00,9, -999.00,9, -999.00,9, -999.00,9, -999.00,9,  1012.8,   6.2593,     6.3842,3