BOTTLE,20230728SIOCCHCBG
EXPOCODE,SECT_ID,STNNBR,CASTNO,SAMPNO,BTLNBR,BTLNBR_FLAG_W,DATE,TIME,LATITUDE,LONGITUDE,DEPTH,CTDPRS,CTDTMP,CTDSAL,CTDSAL_FLAG_W,SALNTY,SALNTY_FLAG_W,CTDOXY,CTDOXY_FLAG_W,OXYGEN,OXYGEN_FLAG_W,SILCAT,SILCAT_FLAG_W,NH4,NH4_FLAG_W,NITRAT,NITRAT_FLAG_W,NITRIT,NITRIT_FLAG_W,PHSPHT,PHSPHT_FLAG_W,TCARBN,TCARBN_FLAG_W,ALKALI,ALKALI_FLAG_W,CTDRAW,THETA,SBE35T,SBE35T_FLAG_W
,,,,,,,,,,,METERS,DBAR,ITS-90,PSS-78,,PSS-78,,UMOL/KG,,UMOL/KG,,UMOL/KG,,UMOL/KG,,UMOL/KG,,UMOL/KG,,UMOL/KG,,UMOL/KG,,UMOL/KG,,DBAR,DEG C,ITS-90,
316N20070207,       LMD4,      28,          1,         22,         22,2,20070201,       0318,  40.200000, -4.1523333,       5219,     7.5,  17.6569,  36.5203,2,  36.5183,2,    217.6,2,   217.4,2,    1.42,2,   0.039,2,    3.40,2,    0.06,2,    0.19,2, 2091.85,2, 2395.01,2,     7.5,  17.6556,    17.6568,2
316N20070207,       LMD4,      28,          1,         21,         21,2,20070201,       0318,  40.200000, -4.1523333,       5219,    26.1,  17.6633,  36.5183,2,  36.5173,2,    218.3,2,   217.2,2, -999.00,9,-999.000,9, -999.00,9, -999.00,9, -999.00,9, 2095.40,2, 2398.62,2,    26.1,  17.6588,    17.6648,2
316N20070207,       LMD4,      28,          1,         20,         20,2,20070201,       0318,  40.200000, -4.1523333,       5219,    51.9,  17.6746,  36.5209,2,  36.5197,2,    217.8,2,   217.6,2, -999.00,9,-999.000,9, -999.00,9, -999.00,9, -999.00,9, 2091.53,2, 2393.44,2,    51.9,  17.6658,    17.6723,2
316N20070207,       LMD4,      28,          1,         19,         19,2,20070201,       0318,  40.200000, -4.1523333,       5219,    78.5,  17.6821,  36.5221,2,  36.5203,2,    218.0,2,   217.7,2, -999.00,9,-999.000,9, -999.00,9, -999.00,9, -999.00,9, 2092.43,2, 2392.86,2,    78.5,  17.6686,    17.6823,2
316N20070207,       LMD4,      28,          1,         18,         18,2,20070201,       0318,  40.200000, -4.1523333,       5219,   100.8,  17.6874,  36.5245,2,  36.5231,2,    217.8,2,   218.1,2,    1.30,2,   0.000,2,    3.31,2,    0.06,2,    0.18,2, 2095.24,2, 2395.51,2,   100.8,  17.6702,    17.6868,2
316N20070207,       LMD4,      28,          1,         17,         17,2,20070201,       0318,  40.200000, -4.1523333,       5219,   128.1,  17.6862,  36.5236,2,  36.5227,2,    218.4,2,   300.1,4,    1.30,2,   0.020,2,    3.26,2,    0.06,2,    0.18,2, 2088.64,3, 2393.94,3,   128.1,  17.6642,    17.6860,2
316N20070207,       LMD4,      28,          1,         16,         16,2,20070201,       0318,  40.200000, -4.1523333,       5219,   175.6,  17.7027,  36.5233,2,  36.5342,3,    218.1,2,   217.7,2,    1.30,2,   0.000,2,    3.30,2,    0.06,2,    0.18,2, 2092.94,2, 2398.14,2,   175.6,  17.6726,    17.7037,2
316N20070207,       LMD4,      28,          1,         15,         15,2,20070201,       0318,  40.200000, -4.1523333,       5219,   227.3,  17.7113,  36.5260,2,  36.5249,2,    217.9,2,   219.1,2,    1.18,2,   0.020,2,    3.16,2,    0.06,2,    0.17,2, 2092.17,2, 2391.91,2,   227.3,  17.6723,    17.7113,2
316N20070207,       LMD4,      28,          1,         14,         14,2,20070201,       0318,  40.200000, -4.1523333,       5219,   275.7,  17.7107,  36.5276,2,  36.5265,2,    218.4,2,   219.0,2,    1.29,2,   0.098,2,    3.30,2,    0.06,2,    0.18,2, 2094.39,2, 2396.97,2,   275.7,  17.6633,    17.7104,2
316N20070207,       LMD4,      28,          1,         13,         13,2,20070201,       0318,  40.200000, -4.1523333,       5219,   329.2,  17.7172,  36.5274,2,  36.5261,2,    219.0,2,   218.9,2,    0.97,2,   0.137,2,    2.63,2,    0.05,2,    0.15,2, 2094.51,2, 2394.13,2,   329.2,  17.6605,    17.7168,2
316N20070207,       LMD4,      28,          1,         12,         12,2,20070201,       0318,  40.200000, -4.1523333,       5219,   378.8,  17.7129,  36.5254,2,  36.5243,2,    219.2,2,   218.5,2,    1.28,2,   0.049,2,    3.30,2,    0.06,2,    0.18,2, 2098.90,2, 2402.90,2,   378.8,  17.6477,    17.7131,2
316N20070207,       LMD4,      28,          1,         11,         11,2,20070201,       0318,  40.200000, -4.1523333,       5219,   427.3,  17.5231,  36.4782,2,  36.4845,2,    212.7,2,   212.3,2,    1.59,2,   0.078,2,    4.09,2,    0.05,2,    0.22,2, 2097.14,2, 2394.10,2,   427.3,  17.4500,    17.5784,2
316N20070207,       LMD4,      28,          1,         10,         10,2,20070201,       0318,  40.200000, -4.1523333,       5219,   477.1,  15.7942,  36.1351,2,  36.1327,2,    180.6,2,   181.5,2,    3.39,2,   0.127,2,    9.72,2,    0.02,2,    0.57,2, 2124.43,2, 2375.52,2,   477.1,  15.7181,    15.7943,2
316N20070207,       LMD4,      28,          1,          9,         09,2,20070201,       0318,  40.200000, -4.1523333,       5219,   520.8,  15.0828,  36.0140,2,  36.0147,2,    177.5,2,   176.5,2,    4.02,2,   0.020,2,   10.93,2,    0.01,2,    0.64,2, 2131.16,2, 2365.42,2,   520.8,  15.0022,    15.0606,2
316N20070207,       LMD4,      28,          1,          8,         08,2,20070201,       0318,  40.200000, -4.1523333,       5219,   578.7,  14.1989,  35.8680,2,  35.8665,2,    169.9,2,   167.8,2,    5.40,2,   0.098,2,   13.63,2,    0.02,2,    0.81,2, 2142.07,2, 2355.15,2,   578.7,  14.1128,    14.1990,2
316N20070207,       LMD4,      28,          1,          7,         07,2,20070201,       0318,  40.200000, -4.1523333,       5219,   629.5,  12.5610,  35.6155,2,  35.6159,2,    146.9,2,   148.4,2,    8.50,2,   0.049,2,   18.45,2,    0.02,2,    1.12,2, 2163.45,2, 2342.42,2,   629.5,  12.4744,    12.5650,2
316N20070207,       LMD4,      28,          1,          6,         06,2,20070201,       0318,  40.200000, -4.1523333,       5219,   677.0,  11.3143,  35.4437,2,  35.4421,2,    142.9,2,   141.0,2,   10.85,2,   0.039,2,   21.30,2,    0.02,2,    1.34,2, 2173.87,2, 2334.42,2,   677.0,  11.2271,    11.2920,2
316N20070207,       LMD4,      28,          1,          5,         05,2,20070201,       0318,  40.200000, -4.1523333,       5219,   753.8,   9.3790,  35.2347,2,  35.2338,2,    144.4,2,   147.7,2,   13.31,2,   0.147,2,   23.32,2,    0.02,2,    1.49,2, 2179.98,2, 2323.03,2,   753.8,   9.2922,     9.3781,2
316N20070207,       LMD4,      28,          1,          4,         04,2,20070201,       0318,  40.200000, -4.1523333,       5219,   853.1,   7.4177,  35.1059,2,  35.1087,2,    175.1,2,   175.0,2,   13.96,2,   0.108,2,   22.67,2,    0.01,2,    1.47,2, -999.00,9, -999.00,9,   853.1,   7.3312,     7.4170,2
316N20070207,       LMD4,      28,          1,          3,         03,2,20070201,       0318,  40.200000, -4.1523333,       5219,   951.3,   5.5744,  34.9650,2,  34.9656,2,    218.0,2,   219.1,2, -999.00,9,-999.000,9, -999.00,9, -999.00,9, -999.00,9, -999.00,9, -999.00,9,   951.3,   5.4906,     5.5538,2
316N20070207,       LMD4,      28,          1,          1,         01,2,20070201,       0318,  40.200000, -4.1523333,       5219,  1002.8,   4.8715,  34.8887,2,  34.8877,2,    240.2,2,   239.5,2, -999.00,9,-999.000,9, -999.00,9, -999.00,9, -999.00,9, 2162.08,2, 2304.59,2,  1002.8,   4.7883,     4.8703,2
316N20070207,       LMD4,      28,          1,          2,         02,4,20070201,       0318,  40.200000, -4.1523333,       5219,  1005.5,   4.8659,  34.8892,2,-999.0000,9,   -999.0,9,  -999.0,9, -999.00,9,-999.000,9, -999.00,9, -999.00,9, -999.00,9, -999.00,9, -999.00,9,  1005.5,   4.7825,     4.8704,2
316N20070207,       LMD4,      29,          1,         21,         21,2,20070203,       0404,  26.650000, -5.7093333,       5300,     3.6,  18.9182,  36.6111,2,  36.6102,2,    218.6,2,   219.3,2,    1.03,2,   0.117,2,    1.48,2,    0.10,2,    0.09,2, 2078.64,2, 2399.85,2,     3.6,  18.9176,    18.9142,2
316N20070207,       LMD4,      29,          1,         20,         20,2,20070203,       0404,  26.650000, -5.7093333,       5300,    25.0,  18.9209,  36.6112,2,  36.6102,2,    220.2,2,   219.5,2, -999.00,9,-999.000,9, -999.00,9, -999.00,9, -999.00,9, 2078.00,2, 2397.33,2,    25.0,  18.9164,    18.9209,2
316N20070207,       LMD4,      29,          1,         19,         19,2,20070203,       0404,  26.650000, -5.7093333,       5300,    49.9,  18.9317,  36.6109,2,  36.6097,2,    220.0,2,   219.6,2, -999.00,9,-999.000,9, -999.00,9, -999.00,9, -999.00,9, 2077.15,2, 2397.09,2,    49.9,  18.9227,    18.9318,2
316N20070207,       LMD4,      29,          1,         18,         18,2,20070203,       0404,  26.650000, -5.7093333,       5300,    73.2,  18.9343,  36.6109,2,  36.6099,2,    219.7,2,   219.5,2, -999.00,9,-999.000,9, -999.00,9, -999.00,9, -999.00,9, 2077.17,2, 2393.27,2,    73.2,  18.9212,    18.9339,2
316N20070207,       LMD4,      29,          1,         17,         17,2,20070203,       0404,  26.650000, -5.7093333,       5300,    99.8,  18.9401,  36.6108,2,  36.6101,2,    219.8,2,   219.3,2,    0.92,2,   0.176,2,    1.43,2,    0.10,2,    0.08,2, 2077.40,2, 2395.46,2,    99.8,  18.9222,    18.9400,2
316N20070207,       LMD4,      29,          1,         16,         16,2,20070203,       0404,  26.650000, -5.7093333,       5300,   124.4,  18.9426,  36.6108,2,  36.6391,3,    219.3,2,   220.1,2,    0.92,2,   0.049,2,    1.44,2,    0.10,2,    0.08,2, 2077.13,2, 2395.98,2,   124.4,  18.9202,    18.9426,2
316N20070207,       LMD4,      29,          1,         15,         15,2,20070203,       0404,  26.650000, -5.7093333,       5300,   150.7,  18.9486,  36.6108,2,  36.6093,2,    219.5,2,   219.3,2,    0.69,2,   0.176,2,    1.22,2,    0.08,2,    0.06,2, 2075.32,2, 2398.73,2,   150.7,  18.9215,    18.9486,2
316N20070207,       LMD4,      29,          1,         14,         14,2,20070203,       0404,  26.650000, -5.7093333,       5300,   200.5,  18.9555,  36.6108,2,  36.6097,2,    219.5,2,   219.7,2,    0.91,2,   0.117,2,    1.44,2,    0.10,2,    0.07,2, 2082.37,2, 2413.95,2,   200.5,  18.9194,    18.9555,2
316N20070207,       LMD4,      29,          1,         13,         13,2,20070203,       0404,  26.650000, -5.7093333,       5300,   251.7,  18.5961,  36.6127,2,  36.6118,2,    200.9,2,   201.5,2,    0.79,2,   0.293,2,    2.61,2,    0.03,2,    0.12,2, 2102.73,2, 2399.80,2,   251.7,  18.5514,    18.5956,2
316N20070207,       LMD4,      29,          1,         12,         12,2,20070203,       0404,  26.650000, -5.7093333,       5300,   302.1,  18.4536,  36.6107,2,  36.6114,2,    204.8,2,   203.9,2,    0.90,2,   0.283,2,    3.05,2,    0.05,2,    0.15,2, 2104.47,2, 2398.92,2,   302.1,  18.4001,    18.4540,2
316N20070207,       LMD4,      29,          1,         11,         11,2,20070203,       0404,  26.650000, -5.7093333,       5300,   350.7,  18.3049,  36.5967,2,  36.5953,2,    205.9,2,   206.0,2,    1.00,2,   0.283,2,    3.10,2,    0.03,2,    0.15,2, 2104.35,2, 2400.43,2,   350.7,  18.2432,    18.3051,2
316N20070207,       LMD4,      29,          1,         10,         10,2,20070203,       0404,  26.650000, -5.7093333,       5300,   401.2,  18.0826,  36.5633,2,  36.5981,3,    204.3,2,   203.9,2,    1.31,2,   0.127,2,    3.90,2,    0.02,2,    0.20,2, 2106.32,2, 2394.66,2,   401.2,  18.0124,    18.0852,2
316N20070207,       LMD4,      29,          1,          9,         09,2,20070203,       0404,  26.650000, -5.7093333,       5300,   452.6,  17.7846,  36.5043,2,  36.5032,2,    195.5,2,   197.0,2,    1.52,2,   0.283,2,    4.90,2,    0.03,2,    0.25,2, 2110.74,2, 2387.93,2,   452.6,  17.7063,    17.7860,2
316N20070207,       LMD4,      29,          1,          8,         08,2,20070203,       0404,  26.650000, -5.7093333,       5300,   502.3,  17.1828,  36.3877,2,  36.3891,2,    186.4,2,   186.2,2,    2.05,2,   0.576,3,    6.53,2,    0.05,2,    0.35,2, 2118.74,2, 2381.73,2,   502.3,  17.0978,    17.1924,2
316N20070207,       LMD4,      29,          1,          7,         07,2,20070203,       0404,  26.650000, -5.7093333,       5300,   551.3,  16.2453,  36.2169,2,  36.2323,2,    176.6,2,   177.0,2,    2.78,2,   0.176,2,    8.36,2,    0.01,2,    0.48,2, 2124.17,2, 2366.97,2,   551.3,  16.1554,    16.2699,2
316N20070207,       LMD4,      29,          1,          6,         06,2,20070203,       0404,  26.650000, -5.7093333,       5300,   600.8,  15.3863,  36.0704,2,  36.0713,2,    171.8,2,   171.9,2,    4.17,2,   0.303,2,   11.40,2,    0.04,2,    0.65,2, 2131.32,2, 2361.45,2,   600.8,  15.2918,    15.3924,2
316N20070207,       LMD4,      29,          1,          5,         05,2,20070203,       0404,  26.650000, -5.7093333,       5300,   650.9,  14.0976,  35.8567,2,  35.8579,2,    163.9,2,   162.7,2,    5.13,2,   0.137,2,   12.90,2,    0.01,2,    0.80,2, 2143.77,2, 2353.46,2,   650.9,  14.0010,    14.1137,2
316N20070207,       LMD4,      29,          1,          4,         04,2,20070203,       0404,  26.650000, -5.7093333,       5300,   724.2,  12.4907,  35.6133,2,  35.6225,2,    153.3,2,   152.7,2,    8.01,2,   0.098,2,   17.73,2,    0.01,2,    1.08,2, 2157.03,2, 2338.24,2,   724.2,  12.3912,    12.4812,2
316N20070207,       LMD4,      29,          1,          3,         03,2,20070203,       0404,  26.650000, -5.7093333,       5300,   800.1,  10.8717,  35.4045,2,  35.4051,2,    145.5,2,   145.8,2,    9.62,2,   0.117,2,   18.77,2,    0.01,2,    1.23,2, -999.00,9, -999.00,9,   800.1,  10.7706,    10.8795,2
316N20070207,       LMD4,      29,          1,          2,         02,4,20070203,       0404,  26.650000, -5.7093333,       5300,   899.8,   8.6343,  35.1740,2,  35.2782,4,    150.6,2,   172.7,4, -999.00,9,-999.000,9, -999.00,9, -999.00,9, -999.00,9, -999.00,9, -999.00,9,   899.8,   8.5347,     8.6345,2
316N20070207,       LMD4,      29,          1,          1,         01,2,20070203,       0404,  26.650000, -5.7093333,       5300,  1010.5,   6.5128,  35.0731,2,  35.0740,2,    195.3,2,   195.3,2, -999.00,9,-999.000,9, -999.00,9, -999.00,9, -999.00,9, 2168.40,2, 2314.74,2,  1010.5,   6.4162,     6.5121,2