BOTTLE,20230728SIOCCHCBG
EXPOCODE,SECT_ID,STNNBR,CASTNO,SAMPNO,BTLNBR,BTLNBR_FLAG_W,DATE,TIME,LATITUDE,LONGITUDE,DEPTH,CTDPRS,CTDTMP,CTDSAL,CTDSAL_FLAG_W,SALNTY,SALNTY_FLAG_W,CTDOXY,CTDOXY_FLAG_W,OXYGEN,OXYGEN_FLAG_W,SILCAT,SILCAT_FLAG_W,NH4,NH4_FLAG_W,NITRAT,NITRAT_FLAG_W,NITRIT,NITRIT_FLAG_W,PHSPHT,PHSPHT_FLAG_W,TCARBN,TCARBN_FLAG_W,ALKALI,ALKALI_FLAG_W,CTDRAW,THETA,SBE35T,SBE35T_FLAG_W
,,,,,,,,,,,METERS,DBAR,ITS-90,PSS-78,,PSS-78,,UMOL/KG,,UMOL/KG,,UMOL/KG,,UMOL/KG,,UMOL/KG,,UMOL/KG,,UMOL/KG,,UMOL/KG,,UMOL/KG,,DBAR,DEG C,ITS-90,
316N20070207,       LMD4,      59,          1,         24,         24,2,20070104,       2133,   3.640000, -2.3651667,       5229,     3.2,  12.5840,  35.1576,2,  35.1570,2,    255.6,2,   256.3,2,    2.68,2,   0.000,2,    4.79,2,    0.15,2,    0.40,2, -999.00,9, -999.00,9,     3.2,  12.5835,    12.5840,2
316N20070207,       LMD4,      59,          1,         23,         23,2,20070104,       2133,   3.640000, -2.3651667,       5229,    25.3,  12.5909,  35.1583,2,  35.1574,2,    257.2,2,   256.2,2, -999.00,9,-999.000,9, -999.00,9, -999.00,9, -999.00,9, -999.00,9, -999.00,9,    25.3,  12.5875,    12.5909,2
316N20070207,       LMD4,      59,          1,         22,         22,2,20070104,       2133,   3.640000, -2.3651667,       5229,    50.7,  12.5810,  35.1598,2,  35.1588,2,    253.7,2,   255.5,2, -999.00,9,-999.000,9, -999.00,9, -999.00,9, -999.00,9, -999.00,9, -999.00,9,    50.7,  12.5742,    12.5816,2
316N20070207,       LMD4,      59,          1,         21,         21,2,20070104,       2133,   3.640000, -2.3651667,       5229,   100.4,  12.5519,  35.1610,2,  35.1613,2,    247.3,2,   258.2,2,    2.57,2,   0.000,2,    4.68,2,    0.15,2,    0.39,2, -999.00,9, -999.00,9,   100.4,  12.5385,    12.5530,2
316N20070207,       LMD4,      59,          1,         20,         20,2,20070104,       2133,   3.640000, -2.3651667,       5229,   125.2,  12.9785,  35.3085,2,  35.3621,2,    222.5,2,   221.0,2,    3.46,2,   0.117,2,    7.58,2,    0.10,2,    0.54,2, -999.00,9, -999.00,9,   125.2,  12.9613,    12.9989,2
316N20070207,       LMD4,      59,          1,         19,         19,2,20070104,       2133,   3.640000, -2.3651667,       5229,   150.1,  13.5692,  35.6548,2,  35.6526,2,    182.0,2,   176.3,2,    5.37,2,   0.000,2,   12.93,2,    0.03,2,    0.81,2, -999.00,9, -999.00,9,   150.1,  13.5479,    13.5718,2
316N20070207,       LMD4,      59,          1,         18,         18,2,20070104,       2133,   3.640000, -2.3651667,       5229,   174.9,  13.0300,  35.5920,2,  35.5936,2,    167.7,2,   166.2,2,    6.47,2,   0.000,2,   15.00,2,    0.02,2,    0.93,2, -999.00,9, -999.00,9,   174.9,  13.0058,    13.0298,2
316N20070207,       LMD4,      59,          1,         17,         17,2,20070104,       2133,   3.640000, -2.3651667,       5229,   200.6,  12.8663,  35.6150,2,  35.5995,2,    154.4,2,   155.8,2,    7.27,2,   0.000,2,   16.81,2,    0.02,2,    1.04,2, -999.00,9, -999.00,9,   200.6,  12.8387,    12.8968,2
316N20070207,       LMD4,      59,          1,         16,         16,2,20070104,       2133,   3.640000, -2.3651667,       5229,   249.9,  11.6979,  35.4665,2,  35.4579,2,    147.2,2,   147.7,2,    9.29,2,   0.000,2,   19.66,2,    0.01,2,    1.21,2, -999.00,9, -999.00,9,   249.9,  11.6656,    11.6893,2
316N20070207,       LMD4,      59,          1,         15,         15,2,20070104,       2133,   3.640000, -2.3651667,       5229,   301.6,  10.6645,  35.3559,2,  35.3474,2,    142.5,2,   141.7,2,   11.43,2,   0.000,2,   22.32,2,    0.01,2,    1.39,2, -999.00,9, -999.00,9,   301.6,  10.6277,    10.6720,2
316N20070207,       LMD4,      59,          1,         14,         14,2,20070104,       2133,   3.640000, -2.3651667,       5229,   350.5,   9.2740,  35.2097,2,  35.2042,2,    147.2,2,   146.3,2,   13.25,2,   0.000,2,   23.93,2,    0.02,2,    1.52,2, -999.00,9, -999.00,9,   350.5,   9.2347,     9.2733,2
316N20070207,       LMD4,      59,          1,         13,         13,2,20070104,       2133,   3.640000, -2.3651667,       5229,   399.4,   8.1167,  35.1430,2,  35.1411,2,    160.2,2,   163.1,2,   13.44,2,   0.010,2,   23.25,2,    0.02,2,    1.49,2, -999.00,9, -999.00,9,   399.4,   8.0753,     8.1030,2
316N20070207,       LMD4,      59,          1,         12,         12,2,20070104,       2133,   3.640000, -2.3651667,       5229,   450.4,   7.1705,  35.0825,2,  35.0828,2,    176.8,2,   180.7,2,   13.33,2,   0.020,2,   22.38,2,    0.01,2,    1.45,2, -999.00,9, -999.00,9,   450.4,   7.1269,     7.1705,2
316N20070207,       LMD4,      59,          1,         11,         11,2,20070104,       2133,   3.640000, -2.3651667,       5229,   500.6,   6.4733,  35.0411,2,  35.0397,2,    194.8,2,   195.5,2,   13.12,2,   0.000,2,   21.46,2,    0.01,2,    1.39,2, -999.00,9, -999.00,9,   500.6,   6.4273,     6.4698,2
316N20070207,       LMD4,      59,          1,         10,         10,2,20070104,       2133,   3.640000, -2.3651667,       5229,   600.7,   5.5656,  34.9971,2,  34.9962,2,    227.7,2,   218.6,2,   11.47,2,   0.068,2,   18.37,2,    0.01,2,    1.25,2, -999.00,9, -999.00,9,   600.7,   5.5142,     5.5654,2
316N20070207,       LMD4,      59,          1,          9,         09,2,20070104,       2133,   3.640000, -2.3651667,       5229,   700.4,   4.9821,  34.9657,2,  34.9645,2,    239.2,2,   239.1,2,   11.46,2,   0.020,2,   18.68,2,    0.01,2,    1.23,2, -999.00,9, -999.00,9,   700.4,   4.9248,     4.9823,2
316N20070207,       LMD4,      59,          1,          8,         08,2,20070104,       2133,   3.640000, -2.3651667,       5229,   801.3,   4.5881,  34.9659,2,  34.9653,2,    251.0,2,   253.0,2,   10.83,2,   0.010,2,   18.02,2,    0.01,2,    1.18,2, -999.00,9, -999.00,9,   801.3,   4.5245,     4.5875,2
316N20070207,       LMD4,      59,          1,          7,         07,2,20070104,       2133,   3.640000, -2.3651667,       5229,   900.3,   4.5233,  34.9815,2,  34.9816,2,    249.1,2,   254.3,2,   11.13,2,   0.039,2,   18.04,2,    0.01,2,    1.18,2, -999.00,9, -999.00,9,   900.3,   4.4515,     4.5199,2
316N20070207,       LMD4,      59,          1,          6,         06,2,20070104,       2133,   3.640000, -2.3651667,       5229,  1050.5,   4.1937,  34.9569,2,  34.9558,2,    263.7,2,   262.8,2, -999.00,9,-999.000,9, -999.00,9, -999.00,9, -999.00,9, -999.00,9, -999.00,9,  1050.5,   4.1115,     4.1935,2
316N20070207,       LMD4,      59,          1,          5,         05,2,20070104,       2133,   3.640000, -2.3651667,       5229,  1299.6,   3.9952,  34.9564,2,  34.9562,2,    264.5,2,   265.0,2, -999.00,9,-999.000,9, -999.00,9, -999.00,9, -999.00,9, -999.00,9, -999.00,9,  1299.6,   3.8931,     3.9972,2
316N20070207,       LMD4,      59,          1,          4,         04,2,20070104,       2133,   3.640000, -2.3651667,       5229,  1451.1,   3.8946,  34.9536,2,  34.9526,2,    266.4,2,   265.1,2, -999.00,9,-999.000,9, -999.00,9, -999.00,9, -999.00,9, -999.00,9, -999.00,9,  1451.1,   3.7800,     3.8954,2
316N20070207,       LMD4,      59,          1,          3,         03,2,20070104,       2133,   3.640000, -2.3651667,       5229,  1700.4,   3.7001,  34.9443,2,  34.9447,2,    269.2,2,   267.9,2, -999.00,9,-999.000,9, -999.00,9, -999.00,9, -999.00,9, -999.00,9, -999.00,9,  1700.4,   3.5652,     3.6997,2
316N20070207,       LMD4,      59,          1,          2,         02,2,20070104,       2133,   3.640000, -2.3651667,       5229,  1951.1,   3.4946,  34.9427,2,  34.9426,2,    269.4,2,   268.8,2, -999.00,9,-999.000,9, -999.00,9, -999.00,9, -999.00,9, -999.00,9, -999.00,9,  1951.1,   3.3392,     3.4942,2
316N20070207,       LMD4,      59,          1,          1,         01,2,20070104,       2133,   3.640000, -2.3651667,       5229,  2032.7,   3.4272,  34.9407,2,  34.9416,2,    269.3,2,   269.8,2, -999.00,9,-999.000,9, -999.00,9, -999.00,9, -999.00,9, -999.00,9, -999.00,9,  2032.7,   3.2651,     3.4264,2
316N20070207,       LMD4,      60,          1,         21,         21,2,20070106,       1755,  24.670000, -4.1998333,       5291,     4.8,  18.9870,  36.6182,2,  36.6175,2,    213.0,2,   217.6,2,    1.13,2,   0.029,2,    2.00,2,    0.11,2,    0.12,2, -999.00,9, -999.00,9,     4.8,  18.9862,    18.9870,2
316N20070207,       LMD4,      60,          1,         20,         20,2,20070106,       1755,  24.670000, -4.1998333,       5291,    25.8,  18.8452,  36.6090,2,  36.6086,2,    214.0,2,   213.7,2, -999.00,9,-999.000,9, -999.00,9, -999.00,9, -999.00,9, -999.00,9, -999.00,9,    25.8,  18.8406,    18.8428,2
316N20070207,       LMD4,      60,          1,         19,         19,2,20070106,       1755,  24.670000, -4.1998333,       5291,    50.1,  18.8060,  36.6064,2,  36.6072,2,    213.5,2,   212.8,2, -999.00,9,-999.000,9, -999.00,9, -999.00,9, -999.00,9, -999.00,9, -999.00,9,    50.1,  18.7970,    18.8089,2
316N20070207,       LMD4,      60,          1,         18,         18,2,20070106,       1755,  24.670000, -4.1998333,       5291,    74.2,  18.7703,  36.6020,2,  36.6006,2,    213.3,2,   212.8,2, -999.00,9,-999.000,9, -999.00,9, -999.00,9, -999.00,9, -999.00,9, -999.00,9,    74.2,  18.7571,    18.7678,2
316N20070207,       LMD4,      60,          1,         17,         17,2,20070106,       1755,  24.670000, -4.1998333,       5291,   100.8,  18.6957,  36.5920,2,  36.5911,2,    213.0,2,   211.1,2,    1.23,2,   0.107,2,    2.79,2,    0.11,2,    0.16,2, -999.00,9, -999.00,9,   100.8,  18.6777,    18.6961,2
316N20070207,       LMD4,      60,          1,         16,         16,2,20070106,       1755,  24.670000, -4.1998333,       5291,   125.2,  18.6761,  36.5890,2,  36.5897,2,    210.6,2,   210.3,2,    1.22,2,   0.010,2,    2.93,2,    0.12,2,    0.16,2, -999.00,9, -999.00,9,   125.2,  18.6538,    18.6727,2
316N20070207,       LMD4,      60,          1,         15,         15,2,20070106,       1755,  24.670000, -4.1998333,       5291,   173.8,  18.6111,  36.5966,2,  36.5956,2,    206.8,2,   206.7,2,    1.21,2,   0.029,2,    2.96,2,    0.08,2,    0.16,2, -999.00,9, -999.00,9,   173.8,  18.5802,    18.6107,2
316N20070207,       LMD4,      60,          1,         14,         14,2,20070106,       1755,  24.670000, -4.1998333,       5291,   224.7,  18.4696,  36.6110,2,  36.6095,2,    220.6,2,   219.3,2,    1.01,2,   0.029,2,    2.00,2,    0.10,2,    0.11,2, -999.00,9, -999.00,9,   224.7,  18.4299,    18.4724,2
316N20070207,       LMD4,      60,          1,         13,         13,2,20070106,       1755,  24.670000, -4.1998333,       5291,   275.4,  18.4145,  36.6113,2,  36.6107,2,    220.3,2,   220.1,2,    1.00,2,   0.000,2,    1.91,2,    0.10,2,    0.10,2, -999.00,9, -999.00,9,   275.4,  18.3658,    18.4150,2
316N20070207,       LMD4,      60,          1,         12,         12,2,20070106,       1755,  24.670000, -4.1998333,       5291,   324.6,  18.4072,  36.6120,2,  36.6111,2,    220.3,2,   220.9,2,    0.89,2,   0.039,2,    1.73,2,    0.10,2,    0.09,2, -999.00,9, -999.00,9,   324.6,  18.3499,    18.4078,2
316N20070207,       LMD4,      60,          1,         11,         11,2,20070106,       1755,  24.670000, -4.1998333,       5291,   375.4,  18.3980,  36.6096,2,  36.6097,2,    219.1,2,   220.0,2,    0.99,2,   0.000,2,    1.96,2,    0.09,2,    0.10,2, -999.00,9, -999.00,9,   375.4,  18.3316,    18.3993,2
316N20070207,       LMD4,      60,          1,         10,         10,2,20070106,       1755,  24.670000, -4.1998333,       5291,   424.9,  18.2087,  36.5778,2,  36.5777,2,    213.5,2,   210.3,2,    1.18,2,   0.000,2,    3.11,2,    0.03,2,    0.16,2, -999.00,9, -999.00,9,   424.9,  18.1341,    18.2051,2
316N20070207,       LMD4,      60,          1,          9,         09,2,20070106,       1755,  24.670000, -4.1998333,       5291,   475.8,  17.8332,  36.5151,2,  36.5143,2,    203.9,2,   204.5,2,    1.48,2,   0.000,2,    4.29,2,    0.02,2,    0.21,2, -999.00,9, -999.00,9,   475.8,  17.7507,    17.8335,2
316N20070207,       LMD4,      60,          1,          8,         08,2,20070106,       1755,  24.670000, -4.1998333,       5291,   526.7,  17.5621,  36.4883,2,  36.4875,2,    207.8,2,   208.0,2,    1.57,2,   0.000,2,    4.29,2,    0.02,2,    0.23,2, -999.00,9, -999.00,9,   526.7,  17.4716,    17.5647,2
316N20070207,       LMD4,      60,          1,          7,         07,2,20070106,       1755,  24.670000, -4.1998333,       5291,   575.6,  17.1977,  36.4105,2,  36.4101,2,    201.6,2,   200.6,2,    1.97,2,   0.000,2,    5.69,2,    0.02,2,    0.30,2, -999.00,9, -999.00,9,   575.6,  17.1001,    17.1955,2
316N20070207,       LMD4,      60,          1,          6,         06,2,20070106,       1755,  24.670000, -4.1998333,       5291,   624.5,  15.3908,  36.0634,2,  36.0663,2,    174.5,2,   174.2,2,    3.90,2,   0.000,2,   11.04,2,    0.01,2,    0.63,2, -999.00,9, -999.00,9,   624.5,  15.2925,    15.3962,2
316N20070207,       LMD4,      60,          1,          5,         05,2,20070106,       1755,  24.670000, -4.1998333,       5291,   676.5,  14.8603,  35.9713,2,  35.9728,2,    167.4,2,   167.5,2,    4.60,2,   0.117,2,   12.35,2,    0.02,2,    0.72,2, -999.00,9, -999.00,9,   676.5,  14.7561,    14.8599,2
316N20070207,       LMD4,      60,          1,          4,         04,2,20070106,       1755,  24.670000, -4.1998333,       5291,   749.5,  13.4141,  35.7417,2,  35.7424,2,    155.4,2,   156.7,2,    6.44,2,   0.117,2,   15.29,2,    0.02,2,    0.94,2, -999.00,9, -999.00,9,   749.5,  13.3061,    13.4074,2
316N20070207,       LMD4,      60,          1,          3,         03,2,20070106,       1755,  24.670000, -4.1998333,       5291,   850.8,  10.7243,  35.3779,2,  35.3789,2,    148.8,2,   147.5,2,   10.94,2,   0.000,2,   21.45,2,    0.01,2,    1.33,2, -999.00,9, -999.00,9,   850.8,  10.6175,    10.7327,2
316N20070207,       LMD4,      60,          1,          2,         02,2,20070106,       1755,  24.670000, -4.1998333,       5291,   950.2,   8.2254,  35.1421,2,  35.1472,2,    154.6,2,   156.6,2, -999.00,9,-999.000,9, -999.00,9, -999.00,9, -999.00,9, -999.00,9, -999.00,9,   950.2,   8.1228,     8.2659,2
316N20070207,       LMD4,      60,          1,          1,         01,2,20070106,       1755,  24.670000, -4.1998333,       5291,  1014.7,   7.3675,  35.1044,2,  35.1035,2,    179.2,2,   179.0,2, -999.00,9,-999.000,9, -999.00,9, -999.00,9, -999.00,9, -999.00,9, -999.00,9,  1014.7,   7.2640,     7.3641,2