BOTTLE,20230728SIOCCHCBG
EXPOCODE,SECT_ID,STNNBR,CASTNO,SAMPNO,BTLNBR,BTLNBR_FLAG_W,DATE,TIME,LATITUDE,LONGITUDE,DEPTH,CTDPRS,CTDTMP,CTDSAL,CTDSAL_FLAG_W,SALNTY,SALNTY_FLAG_W,CTDOXY,CTDOXY_FLAG_W,OXYGEN,OXYGEN_FLAG_W,SILCAT,SILCAT_FLAG_W,NH4,NH4_FLAG_W,NITRAT,NITRAT_FLAG_W,NITRIT,NITRIT_FLAG_W,PHSPHT,PHSPHT_FLAG_W,TCARBN,TCARBN_FLAG_W,ALKALI,ALKALI_FLAG_W,CTDRAW,THETA,SBE35T,SBE35T_FLAG_W
,,,,,,,,,,,METERS,DBAR,ITS-90,PSS-78,,PSS-78,,UMOL/KG,,UMOL/KG,,UMOL/KG,,UMOL/KG,,UMOL/KG,,UMOL/KG,,UMOL/KG,,UMOL/KG,,UMOL/KG,,DBAR,DEG C,ITS-90,
316N20070207,       LMD4,      46,          1,         22,         22,2,  -999.0,     -999.0,  37.100000, -1.8001667,       5036,     3.2,  20.6569,  36.6008,2,  36.6010,2,    212.6,3,   215.0,2,    0.78,2,   0.000,2,    0.52,2,    0.16,2,    0.03,2, -999.00,9, -999.00,9,     3.2,  20.6563,    20.6608,2
316N20070207,       LMD4,      46,          1,         21,         21,2,  -999.0,     -999.0,  37.100000, -1.8001667,       5036,    24.5,  20.6857,  36.6001,2,  36.5986,2,    214.3,2,   214.7,2, -999.00,9,-999.000,9, -999.00,9, -999.00,9, -999.00,9, -999.00,9, -999.00,9,    24.5,  20.6810,    20.6855,2
316N20070207,       LMD4,      46,          1,         20,         20,2,  -999.0,     -999.0,  37.100000, -1.8001667,       5036,    50.4,  20.6864,  36.6004,2,  36.6000,2,    216.3,2,   214.8,2, -999.00,9,-999.000,9, -999.00,9, -999.00,9, -999.00,9, -999.00,9, -999.00,9,    50.4,  20.6768,    20.6869,2
316N20070207,       LMD4,      46,          1,         19,         19,2,  -999.0,     -999.0,  37.100000, -1.8001667,       5036,    75.7,  20.6895,  36.6004,2,  36.6011,2,    216.5,2,   215.0,2, -999.00,9,-999.000,9, -999.00,9, -999.00,9, -999.00,9, -999.00,9, -999.00,9,    75.7,  20.6751,    20.6889,2
316N20070207,       LMD4,      46,          1,         18,         18,2,  -999.0,     -999.0,  37.100000, -1.8001667,       5036,   100.8,  20.5072,  36.6085,2,  36.6079,2,    215.2,2,   213.2,2,    0.78,2,   0.117,2,    0.73,2,    0.17,2,    0.04,2, -999.00,9, -999.00,9,   100.8,  20.4881,    20.5106,2
316N20070207,       LMD4,      46,          1,         17,         17,2,  -999.0,     -999.0,  37.100000, -1.8001667,       5036,   125.5,  18.9543,  36.6182,2,  36.6166,2,    216.6,2,   214.6,2,    0.87,2,   0.000,2,    1.79,2,    0.12,2,    0.08,2, -999.00,9, -999.00,9,   125.5,  18.9317,    18.9474,2
316N20070207,       LMD4,      46,          1,         16,         16,2,  -999.0,     -999.0,  37.100000, -1.8001667,       5036,   150.8,  18.7054,  36.6201,2,  36.6191,2,    211.2,2,   212.6,2, -999.00,5,-999.000,5, -999.00,5, -999.00,5, -999.00,5, -999.00,9, -999.00,9,   150.8,  18.6785,    18.7014,2
316N20070207,       LMD4,      46,          1,         15,         15,2,  -999.0,     -999.0,  37.100000, -1.8001667,       5036,   200.9,  18.3946,  36.6077,2,  36.6072,2,    221.4,2,   224.6,2,    0.96,2,   0.000,2,    2.06,2,    0.07,2,    0.09,2, -999.00,9, -999.00,9,   200.9,  18.3592,    18.3944,2
316N20070207,       LMD4,      46,          1,         14,         14,2,  -999.0,     -999.0,  37.100000, -1.8001667,       5036,   250.5,  18.3452,  36.6036,2,  36.6024,2,    222.5,2,   217.0,2,    1.04,2,   0.000,2,    2.40,2,    0.05,2,    0.11,2, -999.00,9, -999.00,9,   250.5,  18.3011,    18.3456,2
316N20070207,       LMD4,      46,          1,         13,         13,2,  -999.0,     -999.0,  37.100000, -1.8001667,       5036,   302.8,  18.3217,  36.6105,2,  36.6105,2,    219.5,2,   216.1,2,    1.14,2,   0.088,2,    2.59,2,    0.04,2,    0.12,2, -999.00,9, -999.00,9,   302.8,  18.2683,    18.3220,2
316N20070207,       LMD4,      46,          1,         12,         12,2,  -999.0,     -999.0,  37.100000, -1.8001667,       5036,   351.8,  18.2918,  36.6094,2,  36.6083,2,    218.6,2,   216.8,2,    1.03,2,   0.000,2,    2.45,2,    0.05,2,    0.11,2, -999.00,9, -999.00,9,   351.8,  18.2299,    18.2916,2
316N20070207,       LMD4,      46,          1,         11,         11,2,  -999.0,     -999.0,  37.100000, -1.8001667,       5036,   401.8,  18.0745,  36.5626,2,  36.5621,2,    210.2,2,   204.2,2,    1.22,2,   0.508,2,    3.88,2,    0.03,2,    0.19,2, -999.00,9, -999.00,9,   401.8,  18.0043,    18.0755,2
316N20070207,       LMD4,      46,          1,         10,         10,2,  -999.0,     -999.0,  37.100000, -1.8001667,       5036,   452.6,  17.7865,  36.5049,2,  36.5034,2,    196.3,2,   198.0,2,    1.31,2,   1.503,2,    4.84,2,    0.07,2,    0.24,2, -999.00,9, -999.00,9,   452.6,  17.7082,    17.7875,2
316N20070207,       LMD4,      46,          1,          8,         08,2,  -999.0,     -999.0,  37.100000, -1.8001667,       5036,   503.0,  17.1575,  36.3849,2,  36.3837,2,    188.1,2,   187.9,2,    2.09,2,   0.156,2,    7.05,2,    0.02,2,    0.36,2, -999.00,9, -999.00,9,   503.0,  17.0725,    17.1615,2
316N20070207,       LMD4,      46,          1,          9,         09,9,  -999.0,     -999.0,  37.100000, -1.8001667,       5036,   504.1,  17.1691,  36.3860,2,-999.0000,9,   -999.0,9,  -999.0,9, -999.00,9,-999.000,9, -999.00,9, -999.00,9, -999.00,9, -999.00,9, -999.00,9,   504.1,  17.0839,    17.1681,2
316N20070207,       LMD4,      46,          1,          7,         07,2,  -999.0,     -999.0,  37.100000, -1.8001667,       5036,   551.2,  16.0611,  36.1877,2,  36.1889,2,    176.7,2,   178.4,2,    3.08,2,   0.000,2,    9.74,2,    0.01,2,    0.54,2, -999.00,9, -999.00,9,   551.2,  15.9720,    16.0626,2
316N20070207,       LMD4,      46,          1,          6,         06,2,  -999.0,     -999.0,  37.100000, -1.8001667,       5036,   599.6,  15.5806,  36.1029,2,  36.1034,2,    173.9,2,   173.3,2,    3.66,2,   0.000,2,   11.07,2,    0.01,2,    0.62,2, -999.00,9, -999.00,9,   599.6,  15.4855,    15.5844,2
316N20070207,       LMD4,      46,          1,          5,         05,2,  -999.0,     -999.0,  37.100000, -1.8001667,       5036,   650.6,  14.5625,  35.9321,2,  35.9341,2,    167.3,2,   167.6,2,    4.75,2,   0.000,2,   13.29,2,    0.01,2,    0.76,2, -999.00,9, -999.00,9,   650.6,  14.4638,    14.5849,2
316N20070207,       LMD4,      46,          1,          4,         04,2,  -999.0,     -999.0,  37.100000, -1.8001667,       5036,   725.3,  12.4721,  35.6112,2,  35.6098,2,    151.4,2,   151.7,2,    7.63,2,   0.332,2,   17.74,2,    0.02,2,    1.08,2, -999.00,9, -999.00,9,   725.3,  12.3724,    12.3962,2
316N20070207,       LMD4,      46,          1,          3,         03,2,  -999.0,     -999.0,  37.100000, -1.8001667,       5036,   799.6,  10.4438,  35.3408,2,  35.3463,2,    140.6,2,   140.9,2,   11.81,2,   0.010,2,   22.76,2,    0.01,2,    1.42,2, -999.00,9, -999.00,9,   799.6,  10.3453,    10.4599,2
316N20070207,       LMD4,      46,          1,          2,         02,2,  -999.0,     -999.0,  37.100000, -1.8001667,       5036,   900.3,   8.1459,  35.1487,2,  35.1480,2,    161.7,2,   160.8,2, -999.00,9,-999.000,9, -999.00,9, -999.00,9, -999.00,9, -999.00,9, -999.00,9,   900.3,   8.0495,     8.1498,2
316N20070207,       LMD4,      46,          1,          1,         01,2,  -999.0,     -999.0,  37.100000, -1.8001667,       5036,  1011.0,   6.8583,  35.0940,2,  35.0948,2,    192.1,2,   192.3,2, -999.00,9,-999.000,9, -999.00,9, -999.00,9, -999.00,9, -999.00,9, -999.00,9,  1011.0,   6.7589,     6.8508,2
316N20070207,       LMD4,      47,          1,         21,         21,2,20070102,       1119,  22.100000, -7.4970000,       5198,     5.4,  15.8712,  36.0828,2,  36.0827,2,    226.2,2,   247.8,4,    2.14,2,   0.547,2,    5.69,2,    0.13,2,    0.34,2, -999.00,9, -999.00,9,     5.4,  15.8704,    15.8718,2
316N20070207,       LMD4,      47,          1,         20,         20,2,20070102,       1119,  22.100000, -7.4970000,       5198,    25.4,  15.8653,  36.0844,2,  36.0855,2,    226.4,2,   225.4,2, -999.00,9,-999.000,9, -999.00,9, -999.00,9, -999.00,9, -999.00,9, -999.00,9,    25.4,  15.8612,    15.8642,2
316N20070207,       LMD4,      47,          1,         19,         19,2,20070102,       1119,  22.100000, -7.4970000,       5198,    50.1,  15.8219,  36.0782,2,  36.0778,2,    225.6,2,   249.2,4, -999.00,9,-999.000,9, -999.00,9, -999.00,9, -999.00,9, -999.00,9, -999.00,9,    50.1,  15.8140,    15.7789,2
316N20070207,       LMD4,      47,          1,         18,         18,2,20070102,       1119,  22.100000, -7.4970000,       5198,    75.1,  15.6681,  36.0492,2,  36.0701,2,    223.4,2,   224.9,2, -999.00,9,-999.000,9, -999.00,9, -999.00,9, -999.00,9, -999.00,9, -999.00,9,    75.1,  15.6564,    15.6589,2
316N20070207,       LMD4,      47,          1,         17,         17,2,20070102,       1119,  22.100000, -7.4970000,       5198,   100.0,  15.6478,  36.0612,2,  36.0570,2,    223.3,2,   225.7,2,    2.24,2,   0.000,2,    5.90,2,    0.11,2,    0.35,2, -999.00,9, -999.00,9,   100.0,  15.6321,    15.6468,2
316N20070207,       LMD4,      47,          1,         16,         16,2,20070102,       1119,  22.100000, -7.4970000,       5198,   126.0,  15.6603,  36.0805,2,  36.0842,2,    223.9,2,   224.8,2,    1.73,2,   1.338,2,    4.84,2,    0.15,2,    0.32,2, -999.00,9, -999.00,9,   126.0,  15.6405,    15.6604,2
316N20070207,       LMD4,      47,          1,         15,         15,2,20070102,       1119,  22.100000, -7.4970000,       5198,   151.6,  15.6077,  36.0671,2,  36.0685,2,    225.4,2,   224.0,2,    2.22,2,   0.010,2,    5.93,2,    0.12,2,    0.35,2, -999.00,9, -999.00,9,   151.6,  15.5839,    15.6083,2
316N20070207,       LMD4,      47,          1,         14,         14,2,20070102,       1119,  22.100000, -7.4970000,       5198,   200.2,  15.4259,  36.0185,2,  36.0205,2,    225.0,2,   223.0,2,    2.30,2,   0.322,2,    6.24,2,    0.12,2,    0.37,2, -999.00,9, -999.00,9,   200.2,  15.3948,    15.4430,2
316N20070207,       LMD4,      47,          1,         13,         13,2,20070102,       1119,  22.100000, -7.4970000,       5198,   252.2,  14.5508,  35.8150,2,  35.8114,2,    203.5,2,   205.5,2,    3.39,2,   0.000,2,    8.98,2,    0.06,2,    0.55,2, -999.00,9, -999.00,9,   252.2,  14.5131,    14.5353,2
316N20070207,       LMD4,      47,          1,         12,         12,2,20070102,       1119,  22.100000, -7.4970000,       5198,   302.7,  14.3204,  35.8994,2,  35.9019,2,    172.2,2,   175.2,2,    5.07,2,   0.166,2,   12.79,2,    0.03,2,    0.75,2, -999.00,9, -999.00,9,   302.7,  14.2755,    14.3308,2
316N20070207,       LMD4,      47,          1,         11,         11,2,20070102,       1119,  22.100000, -7.4970000,       5198,   351.1,  12.9772,  35.6559,2,  35.6558,2,    154.8,2,   151.9,2,    7.36,2,   0.020,2,   17.25,2,    0.02,2,    1.05,2, -999.00,9, -999.00,9,   351.1,  12.9283,    12.9783,2
316N20070207,       LMD4,      47,          1,         10,         10,2,20070102,       1119,  22.100000, -7.4970000,       5198,   401.7,  11.4818,  35.4529,2,  35.4534,2,    146.6,2,   145.5,2,    7.64,3,   0.401,2,   16.41,3,    0.03,2,    1.13,3, -999.00,9, -999.00,9,   401.7,  11.4301,    11.4896,2
316N20070207,       LMD4,      47,          1,          9,         09,2,20070102,       1119,  22.100000, -7.4970000,       5198,   452.4,  10.0757,  35.2881,2,  35.2902,2,    141.4,2,   141.1,2,   11.83,2,   0.625,2,   22.63,2,    0.04,2,    1.43,2, -999.00,9, -999.00,9,   452.4,  10.0221,    10.0617,2
316N20070207,       LMD4,      47,          1,          8,         08,2,20070102,       1119,  22.100000, -7.4970000,       5198,   504.2,   9.0238,  35.1862,2,  35.1899,2,    143.3,2,   142.6,2,   11.42,2,   0.420,2,   20.69,2,    0.03,2,    1.44,2, -999.00,9, -999.00,9,   504.2,   8.9678,     9.0640,2
316N20070207,       LMD4,      47,          1,          7,         07,2,20070102,       1119,  22.100000, -7.4970000,       5198,   552.5,   8.1227,  35.1408,2,  35.1415,2,    157.3,2,   158.9,2,   11.72,2,   0.733,2,   20.53,2,    0.04,2,    1.42,2, -999.00,9, -999.00,9,   552.5,   8.0648,     8.1290,2
316N20070207,       LMD4,      47,          1,          6,         06,2,20070102,       1119,  22.100000, -7.4970000,       5198,   604.7,   7.3197,  35.0967,2,  35.0993,2,    171.8,2,   173.7,2,   12.72,3,   0.078,2,   21.82,3,    0.01,2,    1.45,3, -999.00,9, -999.00,9,   604.7,   7.2599,     7.3279,2
316N20070207,       LMD4,      47,          1,          5,         05,2,20070102,       1119,  22.100000, -7.4970000,       5198,   654.9,   6.8263,  35.0711,2,  35.0736,2,    185.2,2,   185.8,2,   10.61,2,   0.235,2,   18.13,2,    0.01,2,    1.31,2, -999.00,9, -999.00,9,   654.9,   6.7637,     6.8173,2
316N20070207,       LMD4,      47,          1,          4,         04,2,20070102,       1119,  22.100000, -7.4970000,       5198,   730.4,   5.8213,  35.0399,2,  35.0438,2,    209.6,2,   212.7,2,   10.29,2,   0.860,3,   17.31,2,    0.04,2,    1.19,2, -999.00,9, -999.00,9,   730.4,   5.7567,     5.8216,2
316N20070207,       LMD4,      47,          1,          3,         03,2,20070102,       1119,  22.100000, -7.4970000,       5198,   807.0,   5.4699,  35.0310,2,  35.0317,2,    224.9,2,   224.3,2,    9.38,2,   0.264,2,   15.85,2,    0.01,2,    1.16,2, -999.00,9, -999.00,9,   807.0,   5.4002,     5.4576,2
316N20070207,       LMD4,      47,          1,          2,         02,2,20070102,       1119,  22.100000, -7.4970000,       5198,   907.2,   4.9761,  35.0172,2,  35.0175,2,    239.4,2,   239.1,2, -999.00,9,-999.000,9, -999.00,9, -999.00,9, -999.00,9, -999.00,9, -999.00,9,   907.2,   4.9005,     4.9745,2
316N20070207,       LMD4,      47,          1,          1,         01,2,20070102,       1119,  22.100000, -7.4970000,       5198,  1012.2,   4.6906,  35.0039,2,  35.0051,2,    247.7,2,   248.1,2, -999.00,9,-999.000,9, -999.00,9, -999.00,9, -999.00,9, -999.00,9, -999.00,9,  1012.2,   4.6077,     4.6898,2