BOTTLE,20230728SIOCCHCBG
EXPOCODE,SECT_ID,STNNBR,CASTNO,SAMPNO,BTLNBR,BTLNBR_FLAG_W,DATE,TIME,LATITUDE,LONGITUDE,DEPTH,CTDPRS,CTDTMP,CTDSAL,CTDSAL_FLAG_W,SALNTY,SALNTY_FLAG_W,CTDOXY,CTDOXY_FLAG_W,OXYGEN,OXYGEN_FLAG_W,SILCAT,SILCAT_FLAG_W,NH4,NH4_FLAG_W,NITRAT,NITRAT_FLAG_W,NITRIT,NITRIT_FLAG_W,PHSPHT,PHSPHT_FLAG_W,TCARBN,TCARBN_FLAG_W,ALKALI,ALKALI_FLAG_W,CTDRAW,THETA,SBE35T,SBE35T_FLAG_W
,,,,,,,,,,,METERS,DBAR,ITS-90,PSS-78,,PSS-78,,UMOL/KG,,UMOL/KG,,UMOL/KG,,UMOL/KG,,UMOL/KG,,UMOL/KG,,UMOL/KG,,UMOL/KG,,UMOL/KG,,DBAR,DEG C,ITS-90,
316N20070207,       LMD4,      70,          1,         21,         21,2,  -999.0,     -999.0,  32.800000, -7.4950000,       4902,     6.4,  21.3595,  36.5639,2,  36.5642,2,    215.9,2,   217.0,2,    0.33,2,   0.020,2,    0.15,2,    0.02,2,    0.05,2, -999.00,9, -999.00,9,     6.4,  21.3583,    21.3569,2
316N20070207,       LMD4,      70,          1,         20,         20,2,  -999.0,     -999.0,  32.800000, -7.4950000,       4902,    23.8,  21.3682,  36.5647,2,  36.5644,2,    216.7,2,   217.0,2, -999.00,9,-999.000,9, -999.00,9, -999.00,9, -999.00,9, -999.00,9, -999.00,9,    23.8,  21.3635,    21.3610,2
316N20070207,       LMD4,      70,          1,         19,         19,2,  -999.0,     -999.0,  32.800000, -7.4950000,       4902,    48.9,  19.2850,  36.6377,2,  36.6346,2,    222.1,2,   222.4,2, -999.00,9,-999.000,9, -999.00,9, -999.00,9, -999.00,9, -999.00,9, -999.00,9,    48.9,  19.2761,    19.3084,2
316N20070207,       LMD4,      70,          1,         18,         18,2,  -999.0,     -999.0,  32.800000, -7.4950000,       4902,    74.8,  18.3485,  36.6223,2,  36.6219,2,    221.8,2,   222.3,2, -999.00,9,-999.000,9, -999.00,9, -999.00,9, -999.00,9, -999.00,9, -999.00,9,    74.8,  18.3354,    18.3614,2
316N20070207,       LMD4,      70,          1,         17,         17,2,  -999.0,     -999.0,  32.800000, -7.4950000,       4902,    99.9,  18.2068,  36.6201,2,  36.6195,2,    222.2,2,   221.8,2,    1.05,2,   0.000,2,    1.91,2,    0.13,2,    0.12,2, -999.00,9, -999.00,9,    99.9,  18.1893,    18.2134,2
316N20070207,       LMD4,      70,          1,         16,         16,2,  -999.0,     -999.0,  32.800000, -7.4950000,       4902,   126.2,  18.1942,  36.6207,2,  36.6207,2,    222.5,2,   222.2,2,    0.96,2,   0.020,2,    1.77,2,    0.15,2,    0.12,2, -999.00,9, -999.00,9,   126.2,  18.1721,    18.1949,2
316N20070207,       LMD4,      70,          1,         15,         15,2,  -999.0,     -999.0,  32.800000, -7.4950000,       4902,   174.5,  18.1951,  36.6223,2,  36.6220,2,    221.6,2,   221.1,2,    0.97,2,   0.000,2,    1.97,2,    0.15,2,    0.11,2, -999.00,9, -999.00,9,   174.5,  18.1646,    18.1954,2
316N20070207,       LMD4,      70,          1,         14,         14,2,  -999.0,     -999.0,  32.800000, -7.4950000,       4902,   224.3,  18.1643,  36.6220,2,  36.6214,2,    217.8,2,   218.5,2,    0.77,2,   0.059,2,    1.93,2,    0.10,2,    0.16,2, -999.00,9, -999.00,9,   224.3,  18.1252,    18.1649,2
316N20070207,       LMD4,      70,          1,         13,         13,9,  -999.0,     -999.0,  32.800000, -7.4950000,       4902,   274.7,  18.1185,  36.6170,2,-999.0000,9,   -999.0,9,  -999.0,9, -999.00,9,-999.000,9, -999.00,9, -999.00,9, -999.00,9, -999.00,9, -999.00,9,   274.7,  18.0705,    18.1191,2
316N20070207,       LMD4,      70,          1,         12,         12,2,  -999.0,     -999.0,  32.800000, -7.4950000,       4902,   324.7,  18.1036,  36.6129,2,  36.6133,2,    215.7,2,   216.7,2,    1.08,2,   0.000,2,    2.57,2,    0.08,2,    0.14,2, -999.00,9, -999.00,9,   324.7,  18.0468,    18.1038,2
316N20070207,       LMD4,      70,          1,         11,         11,2,  -999.0,     -999.0,  32.800000, -7.4950000,       4902,   374.7,  18.1081,  36.6136,2,  36.6145,2,    214.9,2,   216.6,2,    0.99,2,   0.000,2,    2.59,2,    0.08,2,    0.14,2, -999.00,9, -999.00,9,   374.7,  18.0426,    18.1081,2
316N20070207,       LMD4,      70,          1,         10,         10,2,  -999.0,     -999.0,  32.800000, -7.4950000,       4902,   425.7,  17.7201,  36.5118,2,  36.5084,2,    205.8,2,   201.9,2,    1.50,2,   0.000,2,    4.61,2,    0.03,2,    0.24,2, -999.00,9, -999.00,9,   425.7,  17.6467,    17.7168,2
316N20070207,       LMD4,      70,          1,          9,         09,2,  -999.0,     -999.0,  32.800000, -7.4950000,       4902,   475.2,  16.8723,  36.3330,2,  36.3347,2,    184.1,2,   184.6,2,    1.91,2,   1.445,3,    6.47,2,    0.05,2,    0.39,2, -999.00,9, -999.00,9,   475.2,  16.7930,    16.8717,2
316N20070207,       LMD4,      70,          1,          8,         08,2,  -999.0,     -999.0,  32.800000, -7.4950000,       4902,   523.2,  16.0577,  36.1871,2,  36.1953,2,    177.3,2,   178.1,2,    3.14,2,   0.000,2,    9.61,2,    0.02,2,    0.55,2, -999.00,9, -999.00,9,   523.2,  15.9731,    16.1086,2
316N20070207,       LMD4,      70,          1,          7,         07,2,  -999.0,     -999.0,  32.800000, -7.4950000,       4902,   573.4,  15.0404,  36.0142,2,  36.0155,2,    172.6,2,   174.1,2,    3.87,2,   0.000,2,   11.05,2,    0.01,2,    0.66,2, -999.00,9, -999.00,9,   573.4,  14.9517,    15.0290,2
316N20070207,       LMD4,      70,          1,          6,         06,2,  -999.0,     -999.0,  32.800000, -7.4950000,       4902,   623.2,  13.8199,  35.8135,2,  35.8203,2,    165.6,2,   165.5,2,    5.22,2,   0.137,2,   13.31,2,    0.02,2,    0.86,2, -999.00,9, -999.00,9,   623.2,  13.7287,    13.8343,2
316N20070207,       LMD4,      70,          1,          5,         05,2,  -999.0,     -999.0,  32.800000, -7.4950000,       4902,   676.7,  12.4347,  35.6083,2,  35.6205,2,    158.8,2,   158.5,2,    7.58,2,   0.000,2,   17.26,2,    0.01,2,    1.06,2, -999.00,9, -999.00,9,   676.7,  12.3421,    12.4837,2
316N20070207,       LMD4,      70,          1,          4,         04,2,  -999.0,     -999.0,  32.800000, -7.4950000,       4902,   752.0,  10.7871,  35.3871,2,  35.3938,2,    145.6,2,   144.9,2,   10.58,2,   0.049,2,   20.83,2,    0.02,2,    1.34,2, -999.00,9, -999.00,9,   752.0,  10.6928,    10.8099,2
316N20070207,       LMD4,      70,          1,          3,         03,2,  -999.0,     -999.0,  32.800000, -7.4950000,       4902,   848.3,   8.5691,  35.1746,2,  35.1747,2,    154.2,2,   155.8,2,   13.70,2,   0.000,2,   23.38,2,    0.01,2,    1.50,2, -999.00,9, -999.00,9,   848.3,   8.4760,     8.5834,2
316N20070207,       LMD4,      70,          1,          2,         02,2,  -999.0,     -999.0,  32.800000, -7.4950000,       4902,   948.6,   6.9019,  35.0916,2,  35.0933,2,    183.5,2,   186.7,2, -999.00,9,-999.000,9, -999.00,9, -999.00,9, -999.00,9, -999.00,9, -999.00,9,   948.6,   6.8088,     6.9044,2
316N20070207,       LMD4,      70,          1,          1,         01,2,  -999.0,     -999.0,  32.800000, -7.4950000,       4902,  1014.8,   6.1800,  35.0658,2,  35.0662,2,    204.9,2,   204.5,2, -999.00,9,-999.000,9, -999.00,9, -999.00,9, -999.00,9, -999.00,9, -999.00,9,  1014.8,   6.0855,     6.1867,2
316N20070207,       LMD4,      71,          1,         24,         24,2,20070201,       0841,  50.830000, -8.5001667,       4377,     3.5,   7.2308,  33.3064,2,  33.3012,2,    312.2,2,   311.6,2,    0.84,2,   0.069,2,    1.42,2,    0.11,2,    0.33,2, -999.00,9, -999.00,9,     3.5,   7.2305,     7.2197,2
316N20070207,       LMD4,      71,          1,         23,         23,2,20070201,       0841,  50.830000, -8.5001667,       4377,    24.6,  12.7343,  34.8216,2,  34.8269,2,    278.1,2,   257.8,2,    1.56,2,   0.215,2,    3.37,2,    0.22,2,    0.36,2, -999.00,9, -999.00,9,    24.6,  12.7310,    12.7263,2
316N20070207,       LMD4,      71,          1,         22,         22,2,20070201,       0841,  50.830000, -8.5001667,       4377,    49.8,  13.7149,  35.1543,2,  35.1414,2,    245.6,2,   244.4,2,    1.36,2,   4.388,4,    3.53,2,    0.39,2,    0.34,2, -999.00,9, -999.00,9,    49.8,  13.7078,    13.7326,2
316N20070207,       LMD4,      71,          1,         21,         21,2,20070201,       0841,  50.830000, -8.5001667,       4377,   100.4,  13.8255,  35.6041,2,  35.6006,2,    240.9,2,   242.7,2,    1.78,2,   0.469,2,    4.48,2,    0.20,2,    0.41,2, -999.00,9, -999.00,9,   100.4,  13.8111,    13.8266,2
316N20070207,       LMD4,      71,          1,         20,         20,2,20070201,       0841,  50.830000, -8.5001667,       4377,   125.5,  14.0976,  35.6889,2,  35.6890,2,    233.5,2,   240.5,2,    1.68,2,   0.469,2,    4.47,2,    0.17,2,    0.38,2, -999.00,9, -999.00,9,   125.5,  14.0793,    14.1008,2
316N20070207,       LMD4,      71,          1,         19,         19,2,20070201,       0841,  50.830000, -8.5001667,       4377,   149.9,  13.8073,  35.6530,2,  35.6560,2,    212.9,2,   225.7,2,    3.33,2,   0.127,2,    7.78,2,    0.25,2,    0.54,2, -999.00,9, -999.00,9,   149.9,  13.7858,    13.8104,2
316N20070207,       LMD4,      71,          1,         18,         18,2,20070201,       0841,  50.830000, -8.5001667,       4377,   175.0,  13.0996,  35.5041,2,  35.4964,2,    195.8,2,   215.6,2,    4.46,2,   0.234,2,    9.44,2,    0.14,2,    0.65,2, -999.00,9, -999.00,9,   175.0,  13.0753,    13.0991,2
316N20070207,       LMD4,      71,          1,         17,         17,2,20070201,       0841,  50.830000, -8.5001667,       4377,   198.8,  11.8493,  35.2910,2,  35.2782,2,    193.7,2,   182.2,2,    7.05,2,   0.000,2,   14.21,2,    0.04,2,    0.95,2, -999.00,9, -999.00,9,   198.8,  11.8235,    11.8517,2
316N20070207,       LMD4,      71,          1,         16,         16,2,20070201,       0841,  50.830000, -8.5001667,       4377,   249.7,  10.0338,  35.1853,2,  35.1810,2,    155.1,2,   154.7,2,   10.56,2,   0.010,2,   19.81,2,    0.04,2,    1.30,2, -999.00,9, -999.00,9,   249.7,  10.0046,    10.0508,2
316N20070207,       LMD4,      71,          1,         15,         15,2,20070201,       0841,  50.830000, -8.5001667,       4377,   299.8,   8.9770,  35.1260,2,  35.1279,2,    147.9,2,   150.7,2,   12.86,2,   0.254,2,   22.56,2,    0.04,2,    1.49,2, -999.00,9, -999.00,9,   299.8,   8.9442,     8.9766,2
316N20070207,       LMD4,      71,          1,         14,         14,2,20070201,       0841,  50.830000, -8.5001667,       4377,   349.1,   8.5605,  35.1550,2,  35.1551,3,    149.5,2,   146.5,2,   14.84,2,   0.489,2,   24.66,2,    0.04,2,    1.61,2, -999.00,9, -999.00,9,   349.1,   8.5233,     8.5624,2
316N20070207,       LMD4,      71,          1,         13,         13,2,20070201,       0841,  50.830000, -8.5001667,       4377,   398.8,   7.2654,  35.0462,2,  35.0446,2,    175.1,2,   173.9,2,   11.94,2,   0.274,2,   19.52,2,    0.03,2,    1.34,2, -999.00,9, -999.00,9,   398.8,   7.2266,     7.2826,2
316N20070207,       LMD4,      71,          1,         12,         12,2,20070201,       0841,  50.830000, -8.5001667,       4377,   415.5,   7.0689,  35.0383,2,  35.0387,2,    176.4,2,   178.0,2,   11.85,2,   0.010,2,   19.16,2,    0.02,2,    1.33,2, -999.00,9, -999.00,9,   415.5,   7.0291,     7.0713,2
316N20070207,       LMD4,      71,          1,         11,         11,2,20070201,       0841,  50.830000, -8.5001667,       4377,   500.6,   6.0935,  35.0462,2,  35.0511,2,    203.7,2,   203.1,2,   12.69,2,   0.616,2,   20.24,2,    0.03,2,    1.37,2, -999.00,9, -999.00,9,   500.6,   6.0490,     6.0958,2
316N20070207,       LMD4,      71,          1,         10,         10,2,20070201,       0841,  50.830000, -8.5001667,       4377,   600.8,   5.2825,  35.0257,2,  35.0269,2,    225.2,2,   227.8,2,   10.41,3,   0.313,2,   16.47,3,    0.03,2,    1.20,3, -999.00,9, -999.00,9,   600.8,   5.2324,     5.2827,2
316N20070207,       LMD4,      71,          1,          9,         09,2,20070201,       0841,  50.830000, -8.5001667,       4377,   700.5,   4.8186,  34.9912,2,  34.9913,2,    243.4,2,   241.7,2,   11.77,2,   0.020,2,   18.57,2,    0.01,2,    1.24,2, -999.00,9, -999.00,9,   700.5,   4.7622,     4.8192,2
316N20070207,       LMD4,      71,          1,          8,         08,2,20070201,       0841,  50.830000, -8.5001667,       4377,   799.9,   4.4772,  34.9689,2,  34.9695,2,    253.1,2,   252.6,2,   11.37,2,   0.000,2,   18.01,2,    0.01,2,    1.21,2, -999.00,9, -999.00,9,   799.9,   4.4143,     4.4774,2
316N20070207,       LMD4,      71,          1,          7,         07,2,20070201,       0841,  50.830000, -8.5001667,       4377,   899.7,   4.3566,  34.9725,2,  34.9734,2,    254.4,2,   254.8,2,   11.47,2,   0.254,2,   17.96,2,    0.03,2,    1.20,2, -999.00,9, -999.00,9,   899.7,   4.2861,     4.3569,2
316N20070207,       LMD4,      71,          1,          6,         06,2,20070201,       0841,  50.830000, -8.5001667,       4377,  1048.1,   4.1478,  34.9673,2,  34.9673,2,    259.0,2,   258.9,2, -999.00,9,-999.000,9, -999.00,9, -999.00,9, -999.00,9, -999.00,9, -999.00,9,  1048.1,   4.0662,     4.1481,2
316N20070207,       LMD4,      71,          1,          5,         05,2,20070201,       0841,  50.830000, -8.5001667,       4377,  1297.2,   3.9036,  34.9554,2,  34.9569,2,    263.7,2,   264.0,2, -999.00,9,-999.000,9, -999.00,9, -999.00,9, -999.00,9, -999.00,9, -999.00,9,  1297.2,   3.8025,     3.9068,2
316N20070207,       LMD4,      71,          1,          4,         04,2,20070201,       0841,  50.830000, -8.5001667,       4377,  1448.0,   3.7527,  34.9503,2,  34.9514,2,    265.3,2,   265.9,2, -999.00,9,-999.000,9, -999.00,9, -999.00,9, -999.00,9, -999.00,9, -999.00,9,  1448.0,   3.6400,     3.7526,2
316N20070207,       LMD4,      71,          1,          3,         03,2,20070201,       0841,  50.830000, -8.5001667,       4377,  1701.6,   3.5429,  34.9400,2,  34.9451,2,    268.7,2,   268.3,2, -999.00,9,-999.000,9, -999.00,9, -999.00,9, -999.00,9, -999.00,9, -999.00,9,  1701.6,   3.4100,     3.5431,2
316N20070207,       LMD4,      71,          1,          2,         02,2,20070201,       0841,  50.830000, -8.5001667,       4377,  1910.3,   3.4066,  34.9409,2,  34.9427,2,    269.0,2,   268.8,2, -999.00,9,-999.000,9, -999.00,9, -999.00,9, -999.00,9, -999.00,9, -999.00,9,  1910.3,   3.2563,     3.4087,2
316N20070207,       LMD4,      71,          1,          1,         01,2,20070201,       0841,  50.830000, -8.5001667,       4377,  2037.8,   3.3226,  34.9391,2,  34.9433,2,    269.0,2,   269.1,2, -999.00,9,-999.000,9, -999.00,9, -999.00,9, -999.00,9, -999.00,9, -999.00,9,  2037.8,   3.1616,     3.3215,2