BOTTLE,20230728SIOCCHCBG
EXPOCODE,SECT_ID,STNNBR,CASTNO,SAMPNO,BTLNBR,BTLNBR_FLAG_W,DATE,TIME,LATITUDE,LONGITUDE,DEPTH,CTDPRS,CTDTMP,CTDSAL,CTDSAL_FLAG_W,SALNTY,SALNTY_FLAG_W,CTDOXY,CTDOXY_FLAG_W,OXYGEN,OXYGEN_FLAG_W,SILCAT,SILCAT_FLAG_W,NH4,NH4_FLAG_W,NITRAT,NITRAT_FLAG_W,NITRIT,NITRIT_FLAG_W,PHSPHT,PHSPHT_FLAG_W,TCARBN,TCARBN_FLAG_W,ALKALI,ALKALI_FLAG_W,CTDRAW,THETA,SBE35T,SBE35T_FLAG_W
,,,,,,,,,,,METERS,DBAR,ITS-90,PSS-78,,PSS-78,,UMOL/KG,,UMOL/KG,,UMOL/KG,,UMOL/KG,,UMOL/KG,,UMOL/KG,,UMOL/KG,,UMOL/KG,,UMOL/KG,,DBAR,DEG C,ITS-90,
316N20070207,       LMD4,      56,          1,         21,         21,2,20070104,       1331,  20.680000, -2.2000000,       5282,     4.0,  10.9587,  34.8633,2,  34.8630,2,    265.8,2,   267.0,2,    3.27,2,   0.098,2,    5.57,2,    0.12,2,    0.49,2, -999.00,9, -999.00,9,     4.0,  10.9582,    10.9596,2
316N20070207,       LMD4,      56,          1,         20,         20,2,20070104,       1331,  20.680000, -2.2000000,       5282,    25.0,  11.0078,  34.8803,2,  34.9128,2,    267.2,2,   263.4,2, -999.00,9,-999.000,9, -999.00,9, -999.00,9, -999.00,9, -999.00,9, -999.00,9,    25.0,  11.0047,    11.0370,3
316N20070207,       LMD4,      56,          1,         19,         19,2,20070104,       1331,  20.680000, -2.2000000,       5282,    51.0,  12.4017,  35.2932,2,  35.2989,2,    245.7,2,   244.0,2, -999.00,9,-999.000,9, -999.00,9, -999.00,9, -999.00,9, -999.00,9, -999.00,9,    51.0,  12.3949,    12.4043,2
316N20070207,       LMD4,      56,          1,         18,         18,2,20070104,       1331,  20.680000, -2.2000000,       5282,    76.2,  12.0300,  35.2067,2,  35.2033,2,    244.8,2,   245.1,2, -999.00,9,-999.000,9, -999.00,9, -999.00,9, -999.00,9, -999.00,9, -999.00,9,    76.2,  12.0200,    12.0247,2
316N20070207,       LMD4,      56,          1,         17,         17,2,20070104,       1331,  20.680000, -2.2000000,       5282,    99.7,  11.1876,  35.0195,2,  35.0239,2,    248.1,2,   248.4,2,    3.68,2,   0.029,2,    7.02,2,    0.13,2,    0.55,2, -999.00,9, -999.00,9,    99.7,  11.1752,    11.1874,2
316N20070207,       LMD4,      56,          1,         16,         16,2,20070104,       1331,  20.680000, -2.2000000,       5282,   124.7,  11.5157,  35.1172,2,  35.1467,2,    240.0,2,   233.4,2,    4.30,2,   0.039,2,    8.61,2,    0.09,2,    0.63,2, -999.00,9, -999.00,9,   124.7,  11.4999,    11.5037,2
316N20070207,       LMD4,      56,          1,         15,         15,2,20070104,       1331,  20.680000, -2.2000000,       5282,   175.2,  12.4093,  35.4354,2,  35.4385,2,    192.7,2,   195.6,2,    5.94,2,   0.068,2,   12.82,2,    0.04,2,    0.83,2, -999.00,9, -999.00,9,   175.2,  12.3858,    12.4094,2
316N20070207,       LMD4,      56,          1,         14,         14,2,20070104,       1331,  20.680000, -2.2000000,       5282,   225.7,  12.3890,  35.5904,2,  35.5793,2,    147.9,2,   151.9,2,    7.59,2,   0.860,2,   16.67,2,    0.03,2,    1.11,2, -999.00,9, -999.00,9,   225.7,  12.3587,    12.4329,2
316N20070207,       LMD4,      56,          1,         13,         13,2,20070104,       1331,  20.680000, -2.2000000,       5282,   274.0,  11.2570,  35.4380,2,  35.4349,2,    140.7,2,   139.8,2,   10.39,2,   0.137,2,   20.58,2,    0.02,2,    1.30,2, -999.00,9, -999.00,9,   274.0,  11.2224,    11.2672,2
316N20070207,       LMD4,      56,          1,         12,         12,2,20070104,       1331,  20.680000, -2.2000000,       5282,   324.9,   9.7009,  35.2275,2,  35.2254,2,    147.7,2,   145.4,2,   12.57,2,   0.020,2,   22.87,2,    0.02,2,    1.45,2, -999.00,9, -999.00,9,   324.9,   9.6636,     9.6990,2
316N20070207,       LMD4,      56,          1,         11,         11,2,20070104,       1331,  20.680000, -2.2000000,       5282,   374.8,   8.8296,  35.1709,2,  35.1718,2,    147.7,2,   148.0,2,   13.92,2,   0.020,2,   24.10,2,    0.01,2,    1.53,2, -999.00,9, -999.00,9,   374.8,   8.7889,     8.8294,2
316N20070207,       LMD4,      56,          1,         10,         10,2,20070104,       1331,  20.680000, -2.2000000,       5282,   425.6,   8.0952,  35.1339,2,  35.1430,2,    159.6,2,   160.2,2,   11.02,3,   0.303,3,   18.70,3,    0.01,2,    1.32,3, -999.00,9, -999.00,9,   425.6,   8.0511,     8.0958,2
316N20070207,       LMD4,      56,          1,          9,         09,2,20070104,       1331,  20.680000, -2.2000000,       5282,   475.1,   7.4686,  35.0866,2,  35.0874,2,    174.2,2,   172.2,2,   13.82,2,   0.088,2,   22.92,2,    0.02,2,    1.47,2, -999.00,9, -999.00,9,   475.1,   7.4215,     7.4653,2
316N20070207,       LMD4,      56,          1,          8,         08,2,20070104,       1331,  20.680000, -2.2000000,       5282,   525.0,   6.6124,  35.0438,2,  35.0455,2,    188.1,2,   190.5,2,   13.41,2,   0.049,2,   21.67,2,    0.01,2,    1.41,2, -999.00,9, -999.00,9,   525.0,   6.5635,     6.6115,2
316N20070207,       LMD4,      56,          1,          7,         07,2,20070104,       1331,  20.680000, -2.2000000,       5282,   575.3,   6.0562,  35.0153,2,  35.0173,2,    203.0,2,   204.6,2,   13.00,2,   0.010,2,   20.80,2,    0.01,2,    1.36,2, -999.00,9, -999.00,9,   575.3,   6.0049,     6.0639,2
316N20070207,       LMD4,      56,          1,          6,         06,2,20070104,       1331,  20.680000, -2.2000000,       5282,   625.0,   5.7877,  35.0344,2,  35.0344,2,    214.8,2,   214.1,2,   12.69,2,   0.029,2,   20.22,2,    0.01,2,    1.32,2, -999.00,9, -999.00,9,   625.0,   5.7331,     5.7897,2
316N20070207,       LMD4,      56,          1,          5,         05,2,20070104,       1331,  20.680000, -2.2000000,       5282,   675.1,   5.6160,  35.0391,2,  35.0389,2,    221.5,2,   220.4,2,   12.48,2,   0.068,2,   19.82,2,    0.02,2,    1.29,2, -999.00,9, -999.00,9,   675.1,   5.5576,     5.6168,2
316N20070207,       LMD4,      56,          1,          4,         04,2,20070104,       1331,  20.680000, -2.2000000,       5282,   750.5,   5.1613,  35.0170,2,  35.0192,2,    233.2,2,   234.2,2,   11.87,2,   0.098,2,   18.91,2,    0.01,2,    1.24,2, -999.00,9, -999.00,9,   750.5,   5.0986,     5.1731,2
316N20070207,       LMD4,      56,          1,          3,         03,2,20070104,       1331,  20.680000, -2.2000000,       5282,   851.1,   4.9324,  35.0244,2,  35.0247,2,    242.5,2,   241.8,2,   11.66,2,   0.039,2,   18.62,2,    0.01,2,    1.21,2, -999.00,9, -999.00,9,   851.1,   4.8621,     4.9321,2
316N20070207,       LMD4,      56,          1,          2,         02,2,20070104,       1331,  20.680000, -2.2000000,       5282,   949.6,   4.7198,  35.0108,2,  35.0129,2,    247.5,2,   247.1,2, -999.00,9,-999.000,9, -999.00,9, -999.00,9, -999.00,9, -999.00,9, -999.00,9,   949.6,   4.6422,     4.7213,2
316N20070207,       LMD4,      56,          1,          1,         01,2,20070104,       1331,  20.680000, -2.2000000,       5282,  1021.9,   4.6112,  35.0021,2,  35.0036,2,    250.1,2,   250.1,2, -999.00,9,-999.000,9, -999.00,9, -999.00,9, -999.00,9, -999.00,9, -999.00,9,  1021.9,   4.5281,     4.6131,2
316N20070207,       LMD4,      57,          1,         21,         21,2,20070104,       1610,  34.970000, -2.2583333,       5264,     3.6,  15.0075,  35.9216,2,  35.9221,2,    234.1,2,   234.6,2,    2.69,2,   0.000,2,    5.74,2,    0.08,2,    0.37,2, -999.00,9, -999.00,9,     3.6,  15.0070,    15.0116,2
316N20070207,       LMD4,      57,          1,         20,         20,2,20070104,       1610,  34.970000, -2.2583333,       5264,    24.9,  15.0200,  35.9254,2,  35.9252,2,    234.1,2,   233.7,2, -999.00,9,-999.000,9, -999.00,9, -999.00,9, -999.00,9, -999.00,9, -999.00,9,    24.9,  15.0163,    15.0200,2
316N20070207,       LMD4,      57,          1,         19,         19,2,20070104,       1610,  34.970000, -2.2583333,       5264,    50.0,  14.9198,  35.8985,2,  35.9039,2,    232.7,2,   232.5,2, -999.00,9,-999.000,9, -999.00,9, -999.00,9, -999.00,9, -999.00,9, -999.00,9,    50.0,  14.9123,    14.9177,2
316N20070207,       LMD4,      57,          1,         18,         18,2,20070104,       1610,  34.970000, -2.2583333,       5264,    74.7,  14.7862,  35.8638,2,  35.8618,2,    230.3,2,   229.6,2, -999.00,9,-999.000,9, -999.00,9, -999.00,9, -999.00,9, -999.00,9, -999.00,9,    74.7,  14.7750,    14.7839,2
316N20070207,       LMD4,      57,          1,         17,         17,2,20070104,       1610,  34.970000, -2.2583333,       5264,    99.7,  14.1390,  35.6987,2,  35.7093,2,    225.5,2,   230.4,2,    1.87,2,   0.166,2,    4.78,2,    0.07,2,    0.35,2, -999.00,9, -999.00,9,    99.7,  14.1245,    14.1746,2
316N20070207,       LMD4,      57,          1,         16,         16,2,20070104,       1610,  34.970000, -2.2583333,       5264,   125.1,  13.8055,  35.6183,2,  35.6157,2,    222.6,2,   235.7,3,    3.00,2,   0.000,2,    6.68,2,    0.12,2,    0.45,2, -999.00,9, -999.00,9,   125.1,  13.7876,    13.8040,2
316N20070207,       LMD4,      57,          1,         15,         15,2,20070104,       1610,  34.970000, -2.2583333,       5264,   150.4,  13.3144,  35.5122,2,  35.5168,2,    228.1,2,   229.9,2, -999.00,5,-999.000,5, -999.00,5, -999.00,5, -999.00,5, -999.00,9, -999.00,9,   150.4,  13.2933,    13.3018,2
316N20070207,       LMD4,      57,          1,         14,         14,2,20070104,       1610,  34.970000, -2.2583333,       5264,   199.9,  12.5750,  35.3706,2,  35.3664,2,    222.8,2,   222.0,2,    4.12,2,   0.000,2,    9.05,2,    0.08,2,    0.62,2, -999.00,9, -999.00,9,   199.9,  12.5481,    12.5727,2
316N20070207,       LMD4,      57,          1,         13,         13,2,20070104,       1610,  34.970000, -2.2583333,       5264,   249.6,  12.1206,  35.4226,2,  35.4190,2,    180.7,2,   180.6,2,    6.61,2,   0.020,2,   14.38,2,    0.03,2,    0.91,2, -999.00,9, -999.00,9,   249.6,  12.0876,    12.0989,2
316N20070207,       LMD4,      57,          1,         12,         12,2,20070104,       1610,  34.970000, -2.2583333,       5264,   300.1,  11.0140,  35.3897,2,  35.3898,2,    147.2,2,   142.9,2,   10.63,2,   0.000,2,   21.33,2,    0.02,2,    1.32,2, -999.00,9, -999.00,9,   300.1,  10.9767,    11.0130,2
316N20070207,       LMD4,      57,          1,         11,         11,2,20070104,       1610,  34.970000, -2.2583333,       5264,   349.9,   9.7744,  35.2610,2,  35.2605,2,    140.8,2,   140.5,2,    6.61,3,   2.551,3,   14.02,3,    0.11,3,    1.14,3, -999.00,9, -999.00,9,   349.9,   9.7339,     9.7720,2
316N20070207,       LMD4,      57,          1,         10,         10,2,20070104,       1610,  34.970000, -2.2583333,       5264,   400.2,   8.9145,  35.1824,2,  35.1838,2,    145.0,2,   147.0,2,   13.97,2,   0.010,2,   24.24,2,    0.02,2,    1.53,2, -999.00,9, -999.00,9,   400.2,   8.8707,     8.9201,2
316N20070207,       LMD4,      57,          1,          9,         09,2,20070104,       1610,  34.970000, -2.2583333,       5264,   450.0,   8.0756,  35.1286,2,  35.1294,2,    155.3,2,   160.6,2,   14.17,2,   0.000,2,   23.66,2,    0.01,2,    1.51,2, -999.00,9, -999.00,9,   450.0,   8.0289,     8.0286,2
316N20070207,       LMD4,      57,          1,          8,         08,2,20070104,       1610,  34.970000, -2.2583333,       5264,   500.0,   7.2252,  35.0770,2,  35.0794,2,    173.9,2,   178.3,2,   12.31,2,   0.176,2,   20.29,2,    0.02,2,    1.40,2, -999.00,9, -999.00,9,   500.0,   7.1764,     7.2267,2
316N20070207,       LMD4,      57,          1,          7,         07,2,20070104,       1610,  34.970000, -2.2583333,       5264,   550.1,   6.4622,  35.0452,2,  35.0459,2,    194.7,2,   195.5,2,   10.66,3,   0.274,2,   17.36,3,    0.01,2,    1.23,3, -999.00,9, -999.00,9,   550.1,   6.4116,     6.4632,2
316N20070207,       LMD4,      57,          1,          6,         06,2,20070104,       1610,  34.970000, -2.2583333,       5264,   600.2,   6.1093,  35.0396,2,  35.0400,2,    206.4,2,   205.2,2,   13.04,2,   0.020,2,   20.79,2,    0.01,2,    1.36,2, -999.00,9, -999.00,9,   600.2,   6.0554,     6.1088,2
316N20070207,       LMD4,      57,          1,          5,         05,2,20070104,       1610,  34.970000, -2.2583333,       5264,   650.2,   5.6874,  35.0346,2,  35.0359,2,    218.7,2,   218.8,2,   12.63,2,   0.000,2,   19.93,2,    0.01,2,    1.30,2, -999.00,9, -999.00,9,   650.2,   5.6309,     5.6853,2
316N20070207,       LMD4,      57,          1,          4,         04,2,20070104,       1610,  34.970000, -2.2583333,       5264,   725.9,   5.4057,  35.0356,2,  35.0361,2,    229.0,2,   227.7,2,    7.56,3,   0.538,3,   12.28,3,    0.02,2,    1.11,3, -999.00,9, -999.00,9,   725.9,   5.3438,     5.4051,2
316N20070207,       LMD4,      57,          1,          3,         03,2,20070104,       1610,  34.970000, -2.2583333,       5264,   799.5,   5.1109,  35.0338,2,  35.0347,2,    237.8,2,   237.5,2,   12.01,2,   0.000,2,   18.88,2,    0.01,2,    1.23,2, -999.00,9, -999.00,9,   799.5,   5.0441,     5.1108,2
316N20070207,       LMD4,      57,          1,          2,         02,2,20070104,       1610,  34.970000, -2.2583333,       5264,   899.9,   4.7774,  35.0142,2,  35.0146,2,    245.7,2,   245.9,2, -999.00,9,-999.000,9, -999.00,9, -999.00,9, -999.00,9, -999.00,9, -999.00,9,   899.9,   4.7039,     4.7771,2
316N20070207,       LMD4,      57,          1,          1,         01,2,20070104,       1610,  34.970000, -2.2583333,       5264,  1010.2,   4.5164,  34.9961,2,  34.9971,2,    252.0,2,   252.6,2, -999.00,9,-999.000,9, -999.00,9, -999.00,9, -999.00,9, -999.00,9, -999.00,9,  1010.2,   4.4350,     4.5155,2
316N20070207,       LMD4,      58,          1,         21,         21,2,20070104,       1850,  49.380000, -2.3071667,       5174,     2.8,  12.9475,  35.1793,2,  35.1805,2,    254.3,2,   254.6,2,    2.57,2,   0.000,2,    4.54,2,    0.16,2,    0.39,2, -999.00,9, -999.00,9,     2.8,  12.9471,    12.9484,2
316N20070207,       LMD4,      58,          1,         20,         20,2,20070104,       1850,  49.380000, -2.3071667,       5174,    26.2,  12.9039,  35.1744,2,  35.1746,2,    254.3,2,   254.2,2, -999.00,9,-999.000,9, -999.00,9, -999.00,9, -999.00,9, -999.00,9, -999.00,9,    26.2,  12.9004,    12.9031,2
316N20070207,       LMD4,      58,          1,         19,         19,2,20070104,       1850,  49.380000, -2.3071667,       5174,    51.1,  12.8480,  35.1663,2,  35.1677,2,    252.8,2,   253.2,2, -999.00,9,-999.000,9, -999.00,9, -999.00,9, -999.00,9, -999.00,9, -999.00,9,    51.1,  12.8410,    12.8467,2
316N20070207,       LMD4,      58,          1,         18,         18,2,20070104,       1850,  49.380000, -2.3071667,       5174,    75.7,  12.8296,  35.1656,2,  35.1665,2,    251.0,2,   251.7,2, -999.00,9,-999.000,9, -999.00,9, -999.00,9, -999.00,9, -999.00,9, -999.00,9,    75.7,  12.8193,    12.8300,2
316N20070207,       LMD4,      58,          1,         17,         17,2,20070104,       1850,  49.380000, -2.3071667,       5174,   101.1,  12.8843,  35.1865,2,  35.1872,2,    249.7,2,   248.4,2,    1.55,3,   1.417,3,    3.36,3,    0.21,3,    0.26,3, -999.00,9, -999.00,9,   101.1,  12.8705,    12.8847,2
316N20070207,       LMD4,      58,          1,         16,         16,2,20070104,       1850,  49.380000, -2.3071667,       5174,   126.4,  12.9666,  35.2234,2,  35.2222,2,    248.1,2,   244.0,2,    2.75,2,   0.029,2,    5.39,2,    0.14,2,    0.43,2, -999.00,9, -999.00,9,   126.4,  12.9493,    12.9665,2
316N20070207,       LMD4,      58,          1,         15,         15,2,20070104,       1850,  49.380000, -2.3071667,       5174,   175.4,  13.9416,  35.6333,2,  35.6317,2,    186.9,2,   193.1,2,    4.35,2,   0.000,2,   10.11,2,    0.03,2,    0.65,2, -999.00,9, -999.00,9,   175.4,  13.9161,    13.9554,2
316N20070207,       LMD4,      58,          1,         14,         14,2,20070104,       1850,  49.380000, -2.3071667,       5174,   225.5,  12.8877,  35.6279,2,  35.6262,2,    157.3,2,   154.9,2,    7.37,2,   0.000,2,   16.85,2,    0.02,2,    1.04,2, -999.00,9, -999.00,9,   225.5,  12.8566,    12.8890,2
316N20070207,       LMD4,      58,          1,         13,         13,2,20070104,       1850,  49.380000, -2.3071667,       5174,   276.1,  11.5683,  35.4654,2,  35.4662,2,    143.0,2,   142.3,2,    9.90,2,   0.000,2,   20.58,2,    0.02,2,    1.27,2, -999.00,9, -999.00,9,   276.1,  11.5329,    11.5750,2
316N20070207,       LMD4,      58,          1,         12,         12,2,20070104,       1850,  49.380000, -2.3071667,       5174,   325.7,  10.6062,  35.3525,2,  35.3528,2,    139.0,2,   138.7,2,   11.61,2,   0.000,2,   22.68,2,    0.02,2,    1.41,2, -999.00,9, -999.00,9,   325.7,  10.5666,    10.6084,2
316N20070207,       LMD4,      58,          1,         11,         11,2,20070104,       1850,  49.380000, -2.3071667,       5174,   375.3,   9.7801,  35.2590,2,  35.2588,2,    140.9,2,   140.5,2,   12.93,2,   0.000,2,   23.83,2,    0.01,2,    1.49,2, -999.00,9, -999.00,9,   375.3,   9.7366,     9.7419,2
316N20070207,       LMD4,      58,          1,         10,         10,2,20070104,       1850,  49.380000, -2.3071667,       5174,   425.7,   8.5752,  35.1546,2,  35.1563,2,    148.5,2,   151.1,2,   12.51,3,   0.049,2,   21.77,3,    0.01,2,    1.45,3, -999.00,9, -999.00,9,   425.7,   8.5296,     8.5779,2
316N20070207,       LMD4,      58,          1,          9,         09,2,20070104,       1850,  49.380000, -2.3071667,       5174,   476.1,   7.4449,  35.0749,2,  35.0756,2,    168.9,2,   172.4,2,   13.63,2,   0.000,2,   22.90,2,    0.01,2,    1.47,2, -999.00,9, -999.00,9,   476.1,   7.3977,     7.4450,2
316N20070207,       LMD4,      58,          1,          8,         08,2,20070104,       1850,  49.380000, -2.3071667,       5174,   526.1,   6.6473,  35.0509,2,  35.0512,2,    187.3,2,   190.8,2,   13.21,2,   0.010,2,   21.55,2,    0.01,2,    1.40,2, -999.00,9, -999.00,9,   526.1,   6.5982,     6.6435,2
316N20070207,       LMD4,      58,          1,          7,         07,2,20070104,       1850,  49.380000, -2.3071667,       5174,   575.1,   6.0766,  35.0432,2,  35.0413,2,    204.2,2,   206.0,2,   12.88,2,   0.000,2,   20.76,2,    0.01,2,    1.35,2, -999.00,9, -999.00,9,   575.1,   6.0252,     6.0742,2
316N20070207,       LMD4,      58,          1,          6,         06,2,20070104,       1850,  49.380000, -2.3071667,       5174,   626.1,   5.7147,  35.0308,2,  35.0303,2,    215.2,2,   216.2,2,   12.46,2,   0.010,2,   20.08,2,    0.01,2,    1.32,2, -999.00,9, -999.00,9,   626.1,   5.6603,     5.7131,2
316N20070207,       LMD4,      58,          1,          5,         05,2,20070104,       1850,  49.380000, -2.3071667,       5174,   675.9,   5.4893,  35.0283,2,  35.0277,2,    224.6,2,   224.2,2,   12.25,2,   0.068,2,   19.59,2,    0.01,2,    1.28,2, -999.00,9, -999.00,9,   675.9,   5.4314,     5.4889,2
316N20070207,       LMD4,      58,          1,          4,         04,2,20070104,       1850,  49.380000, -2.3071667,       5174,   750.5,   5.2426,  35.0359,2,  35.0360,2,    234.4,2,   232.7,2,   11.83,2,   0.000,2,   19.06,2,    0.01,2,    1.25,2, -999.00,9, -999.00,9,   750.5,   5.1794,     5.2426,2
316N20070207,       LMD4,      58,          1,          3,         03,2,20070104,       1850,  49.380000, -2.3071667,       5174,   850.5,   4.9284,  35.0270,2,  35.0275,2,    243.8,2,   241.6,2,   11.61,2,   0.000,2,   18.58,2,    0.01,2,    1.22,2, -999.00,9, -999.00,9,   850.5,   4.8582,     4.9271,2
316N20070207,       LMD4,      58,          1,          2,         02,2,20070104,       1850,  49.380000, -2.3071667,       5174,   950.9,   4.5288,  34.9913,2,  34.9915,2,    251.3,2,   252.0,2, -999.00,9,-999.000,9, -999.00,9, -999.00,9, -999.00,9, -999.00,9, -999.00,9,   950.9,   4.4525,     4.5281,2
316N20070207,       LMD4,      58,          1,          1,         01,2,20070104,       1850,  49.380000, -2.3071667,       5174,  1022.6,   4.3838,  34.9829,2,  34.9836,2,    254.7,2,   255.1,2, -999.00,9,-999.000,9, -999.00,9, -999.00,9, -999.00,9, -999.00,9, -999.00,9,  1022.6,   4.3024,     4.3838,2