BOTTLE,20230728SIOCCHCBG
EXPOCODE,SECT_ID,STNNBR,CASTNO,SAMPNO,BTLNBR,BTLNBR_FLAG_W,DATE,TIME,LATITUDE,LONGITUDE,DEPTH,CTDPRS,CTDTMP,CTDSAL,CTDSAL_FLAG_W,SALNTY,SALNTY_FLAG_W,CTDOXY,CTDOXY_FLAG_W,OXYGEN,OXYGEN_FLAG_W,SILCAT,SILCAT_FLAG_W,NH4,NH4_FLAG_W,NITRAT,NITRAT_FLAG_W,NITRIT,NITRIT_FLAG_W,PHSPHT,PHSPHT_FLAG_W,TCARBN,TCARBN_FLAG_W,ALKALI,ALKALI_FLAG_W,CTDRAW,THETA,SBE35T,SBE35T_FLAG_W
,,,,,,,,,,,METERS,DBAR,ITS-90,PSS-78,,PSS-78,,UMOL/KG,,UMOL/KG,,UMOL/KG,,UMOL/KG,,UMOL/KG,,UMOL/KG,,UMOL/KG,,UMOL/KG,,UMOL/KG,,DBAR,DEG C,ITS-90,
316N20070207,       LMD4,      36,          1,         21,         21,2,  -999.0,     -999.0,  48.790000, -5.7685000,          0,     4.9,  21.7977,  36.5093,2,  36.5190,3,    209.3,2,   209.4,2, -999.00,9,-999.000,9, -999.00,9, -999.00,9, -999.00,9, -999.00,9, -999.00,9,     4.9,  21.7967,    21.7985,2
316N20070207,       LMD4,      36,          1,         20,         20,2,  -999.0,     -999.0,  48.790000, -5.7685000,          0,    21.9,  21.8087,  36.5063,2,  36.5053,2,    210.0,2,   209.3,2, -999.00,9,-999.000,9, -999.00,9, -999.00,9, -999.00,9, -999.00,9, -999.00,9,    21.9,  21.8044,    21.8081,2
316N20070207,       LMD4,      36,          1,         19,         19,2,  -999.0,     -999.0,  48.790000, -5.7685000,          0,    49.4,  21.8064,  36.5080,2,  36.5051,2,    209.7,2,   209.4,2, -999.00,9,-999.000,9, -999.00,9, -999.00,9, -999.00,9, -999.00,9, -999.00,9,    49.4,  21.7967,    21.8079,2
316N20070207,       LMD4,      36,          1,         18,         18,2,  -999.0,     -999.0,  48.790000, -5.7685000,          0,    74.5,  21.8095,  36.5314,2,  36.5345,2,    208.4,2,   207.5,2, -999.00,9,-999.000,9, -999.00,9, -999.00,9, -999.00,9, -999.00,9, -999.00,9,    74.5,  21.7948,    21.8087,2
316N20070207,       LMD4,      36,          1,         17,         17,2,  -999.0,     -999.0,  48.790000, -5.7685000,          0,   100.7,  21.1045,  36.5836,2,  36.5864,2,    203.2,2,   205.1,2,    0.43,2,   0.244,2,    0.54,2,    0.17,2,    0.04,2, -999.00,9, -999.00,9,   100.7,  21.0850,    21.1317,2
316N20070207,       LMD4,      36,          1,         16,         16,2,  -999.0,     -999.0,  48.790000, -5.7685000,          0,   125.1,  19.7423,  36.6171,2,  36.6171,2,    218.0,2,   218.6,2,    0.53,2,   0.078,2,    0.71,2,    0.13,2,    0.04,2, -999.00,9, -999.00,9,   125.1,  19.7192,    19.7498,2
316N20070207,       LMD4,      36,          1,         15,         15,2,  -999.0,     -999.0,  48.790000, -5.7685000,          0,   150.2,  18.8563,  36.6346,2,  36.6334,2,    219.6,2,   215.1,2,    0.62,2,   0.039,2,    1.66,2,    0.06,2,    0.08,2, -999.00,9, -999.00,9,   150.2,  18.8294,    18.8567,2
316N20070207,       LMD4,      36,          1,         14,         14,2,  -999.0,     -999.0,  48.790000, -5.7685000,          0,   201.0,  18.6045,  36.6218,2,  36.6219,2,    210.6,2,   207.9,2,    0.62,2,   0.410,2,    2.55,2,    0.05,2,    0.13,2, -999.00,9, -999.00,9,   201.0,  18.5688,    18.6066,2
316N20070207,       LMD4,      36,          1,         13,         13,2,  -999.0,     -999.0,  48.790000, -5.7685000,          0,   250.4,  18.4242,  36.6178,2,  36.6167,2,    215.9,2,   216.6,2,    0.62,2,   0.000,2,    2.22,2,    0.07,2,    0.11,2, -999.00,9, -999.00,9,   250.4,  18.3800,    18.4250,2
316N20070207,       LMD4,      36,          1,         12,         12,2,  -999.0,     -999.0,  48.790000, -5.7685000,          0,   300.5,  18.3339,  36.6100,2,  36.6086,2,    217.7,2,   213.4,2,    0.72,2,   0.156,2,    2.65,2,    0.06,2,    0.13,2, -999.00,9, -999.00,9,   300.5,  18.2810,    18.3333,2
316N20070207,       LMD4,      36,          1,         11,         11,2,  -999.0,     -999.0,  48.790000, -5.7685000,          0,   350.3,  18.2437,  36.5930,2,  36.5909,2,    207.3,2,   209.1,2,    0.82,2,   0.000,2,    3.28,2,    0.03,2,    0.16,2, -999.00,9, -999.00,9,   350.3,  18.1821,    18.2431,2
316N20070207,       LMD4,      36,          1,         10,         10,2,  -999.0,     -999.0,  48.790000, -5.7685000,          0,   400.2,  18.1119,  36.5680,2,  36.5691,2,    206.0,2,   204.6,2,    0.92,2,   0.000,2,    3.98,2,    0.02,2,    0.19,2, -999.00,9, -999.00,9,   400.2,  18.0418,    18.1118,2
316N20070207,       LMD4,      36,          1,          9,         09,2,  -999.0,     -999.0,  48.790000, -5.7685000,          0,   450.6,  17.9277,  36.5322,2,  36.5311,2,    200.3,2,   201.4,2,    0.92,2,   0.332,2,    4.07,2,    0.04,2,    0.22,2, -999.00,9, -999.00,9,   450.6,  17.8493,    17.9298,2
316N20070207,       LMD4,      36,          1,          8,         08,2,  -999.0,     -999.0,  48.790000, -5.7685000,          0,   502.5,  17.3129,  36.4124,2,  36.4128,2,    191.1,2,   190.9,2,    1.53,2,   0.283,2,    5.56,2,    0.02,2,    0.31,2, -999.00,9, -999.00,9,   502.5,  17.2275,    17.3124,2
316N20070207,       LMD4,      36,          1,          7,         07,2,  -999.0,     -999.0,  48.790000, -5.7685000,          0,   549.5,  16.6824,  36.2968,2,  36.2985,2,    183.6,2,   183.2,2,    2.55,2,   0.078,2,    8.29,2,    0.02,2,    0.45,2, -999.00,9, -999.00,9,   549.5,  16.5913,    16.6724,2
316N20070207,       LMD4,      36,          1,          6,         06,2,  -999.0,     -999.0,  48.790000, -5.7685000,          0,   600.3,  15.4800,  36.0847,2,  36.0850,2,    174.4,2,   174.1,2,    3.88,2,   0.068,2,   11.26,2,    0.02,2,    0.64,2, -999.00,9, -999.00,9,   600.3,  15.3852,    15.4710,2
316N20070207,       LMD4,      36,          1,          5,         05,2,  -999.0,     -999.0,  48.790000, -5.7685000,          0,   650.8,  14.5180,  35.9236,2,  35.9229,2,    170.1,2,   170.2,2,    3.57,2,   0.391,2,   10.11,2,    0.02,2,    0.67,2, -999.00,9, -999.00,9,   650.8,  14.4194,    14.5212,2
316N20070207,       LMD4,      36,          1,          4,         04,2,  -999.0,     -999.0,  48.790000, -5.7685000,          0,   724.4,  13.0603,  35.6944,2,  35.6924,2,    157.6,2,   156.7,2,    7.06,2,   0.127,2,   16.72,2,    0.01,2,    1.02,2, -999.00,9, -999.00,9,   724.4,  12.9578,    13.0604,2
316N20070207,       LMD4,      36,          1,          3,         03,2,  -999.0,     -999.0,  48.790000, -5.7685000,          0,   799.2,  10.6163,  35.3598,2,  35.3588,2,    141.9,2,   141.2,2, -999.00,9,-999.000,9, -999.00,9, -999.00,9, -999.00,9, -999.00,9, -999.00,9,   799.2,  10.5168,    10.6184,2
316N20070207,       LMD4,      36,          1,          2,         02,2,  -999.0,     -999.0,  48.790000, -5.7685000,          0,   900.4,   8.4257,  35.1629,2,  35.1633,2,    153.7,2,   155.3,2, -999.00,9,-999.000,9, -999.00,9, -999.00,9, -999.00,9, -999.00,9, -999.00,9,   900.4,   8.3275,     8.4254,2
316N20070207,       LMD4,      36,          1,          1,         01,2,  -999.0,     -999.0,  48.790000, -5.7685000,          0,  1012.4,   6.4641,  35.0761,2,  35.0767,2,    197.6,2,   197.7,2, -999.00,9,-999.000,9, -999.00,9, -999.00,9, -999.00,9, -999.00,9, -999.00,9,  1012.4,   6.3676,     6.4661,2
316N20070207,       LMD4,      37,          1,         21,         21,2,  -999.0,     -999.0,   1.310000, -5.8611667,          0,     4.3,  22.0407,  36.4996,2,  36.4989,2,    211.0,2,   210.1,2,    0.70,2,   0.264,2,    0.37,2,    0.07,2,    0.04,2, -999.00,9, -999.00,9,     4.3,  22.0399,    22.0336,2
316N20070207,       LMD4,      37,          1,         20,         20,2,  -999.0,     -999.0,   1.310000, -5.8611667,          0,    25.1,  22.0074,  36.5004,2,  36.4993,2,    210.9,2,   210.2,2, -999.00,9,-999.000,9, -999.00,9, -999.00,9, -999.00,9, -999.00,9, -999.00,9,    25.1,  22.0024,    22.0179,2
316N20070207,       LMD4,      37,          1,         19,         19,2,  -999.0,     -999.0,   1.310000, -5.8611667,          0,    51.0,  21.7166,  36.5109,2,  36.5098,2,    212.2,2,   211.6,2, -999.00,9,-999.000,9, -999.00,9, -999.00,9, -999.00,9, -999.00,9, -999.00,9,    51.0,  21.7066,    21.7220,2
316N20070207,       LMD4,      37,          1,         18,         18,2,  -999.0,     -999.0,   1.310000, -5.8611667,          0,    75.5,  21.4426,  36.5926,2,  36.6041,2,    210.1,2,   202.9,2, -999.00,9,-999.000,9, -999.00,9, -999.00,9, -999.00,9, -999.00,9, -999.00,9,    75.5,  21.4278,    21.4469,2
316N20070207,       LMD4,      37,          1,         17,         17,2,  -999.0,     -999.0,   1.310000, -5.8611667,          0,    99.4,  20.6676,  36.5966,2,  36.5964,2,    205.1,2,   213.2,2,    0.70,2,   0.078,2,    0.36,2,    0.27,2,    0.03,2, -999.00,9, -999.00,9,    99.4,  20.6487,    20.6596,2
316N20070207,       LMD4,      37,          1,         16,         16,2,  -999.0,     -999.0,   1.310000, -5.8611667,          0,   125.9,  20.3147,  36.6347,2,  36.6336,2,    213.8,2,   213.6,2,    0.71,2,   0.000,2,    0.58,2,    0.24,2,    0.04,2, -999.00,9, -999.00,9,   125.9,  20.2910,    20.3124,2
316N20070207,       LMD4,      37,          1,         15,         15,2,  -999.0,     -999.0,   1.310000, -5.8611667,          0,   176.1,  19.5883,  36.6663,2,  36.6655,2,    206.2,2,   208.4,2,    0.61,2,   0.078,2,    1.26,2,    0.16,2,    0.06,2, -999.00,9, -999.00,9,   176.1,  19.5559,    19.5875,2
316N20070207,       LMD4,      37,          1,         14,         14,2,  -999.0,     -999.0,   1.310000, -5.8611667,          0,   228.2,  18.8730,  36.6363,2,  36.6350,2,    197.5,2,   195.9,2,    0.71,2,   0.488,2,    2.81,2,    0.03,2,    0.13,2, -999.00,9, -999.00,9,   228.2,  18.8321,    18.8537,2
316N20070207,       LMD4,      37,          1,         13,         13,2,  -999.0,     -999.0,   1.310000, -5.8611667,          0,   278.9,  18.4181,  36.5953,2,  36.5951,2,    198.5,2,   199.1,2,    1.02,2,   0.000,2,    3.89,2,    0.02,2,    0.18,2, -999.00,9, -999.00,9,   278.9,  18.3689,    18.4173,2
316N20070207,       LMD4,      37,          1,         12,         12,2,  -999.0,     -999.0,   1.310000, -5.8611667,          0,   324.7,  18.2482,  36.5806,2,  36.5792,2,    201.3,2,   201.1,2,    0.62,2,   0.283,2,    2.74,2,    0.01,2,    0.15,2, -999.00,9, -999.00,9,   324.7,  18.1911,    18.2482,2
316N20070207,       LMD4,      37,          1,         11,         11,2,  -999.0,     -999.0,   1.310000, -5.8611667,          0,   375.0,  17.9787,  36.5370,2,  36.5364,2,    197.8,2,   197.8,2,    1.33,2,   0.020,2,    4.86,2,    0.02,2,    0.23,2, -999.00,9, -999.00,9,   375.0,  17.9134,    17.9797,2
316N20070207,       LMD4,      37,          1,         10,         10,2,  -999.0,     -999.0,   1.310000, -5.8611667,          0,   420.5,  17.6123,  36.4670,2,  36.4661,2,    191.7,2,   190.6,2,    1.74,2,   0.000,2,    6.11,2,    0.02,2,    0.30,2, -999.00,9, -999.00,9,   420.5,  17.5401,    17.6128,2
316N20070207,       LMD4,      37,          1,          9,         09,2,  -999.0,     -999.0,   1.310000, -5.8611667,          0,   471.5,  16.7201,  36.3054,2,  36.3046,2,    180.2,2,   180.5,2,    2.46,2,   0.010,2,    8.38,2,    0.02,2,    0.45,2, -999.00,9, -999.00,9,   471.5,  16.6419,    16.7235,2
316N20070207,       LMD4,      37,          1,          8,         08,2,  -999.0,     -999.0,   1.310000, -5.8611667,          0,   524.4,  15.9694,  36.1736,2,  36.1740,2,    172.0,2,   173.7,2,    3.27,2,   0.068,2,   10.37,2,    0.02,2,    0.58,2, -999.00,9, -999.00,9,   524.4,  15.8850,    15.9684,2
316N20070207,       LMD4,      37,          1,          7,         07,2,  -999.0,     -999.0,   1.310000, -5.8611667,          0,   573.6,  15.0677,  36.0137,2,  36.0128,2,    158.5,2,   160.0,2,    4.50,2,   0.205,2,   12.83,2,    0.02,2,    0.75,2, -999.00,9, -999.00,9,   573.6,  14.9789,    15.0698,2
316N20070207,       LMD4,      37,          1,          6,         06,2,  -999.0,     -999.0,   1.310000, -5.8611667,          0,   624.2,  13.3493,  35.7356,2,  35.7344,2,    158.0,2,   150.4,2,    7.07,2,   0.068,2,   17.09,2,    0.01,2,    1.03,2, -999.00,9, -999.00,9,   624.2,  13.2600,    13.4016,2
316N20070207,       LMD4,      37,          1,          5,         05,2,  -999.0,     -999.0,   1.310000, -5.8611667,          0,   675.3,  11.8902,  35.5270,2,  35.5266,2,    146.8,2,   148.0,2,    9.14,2,   0.039,2,   19.67,2,    0.01,2,    1.21,2, -999.00,9, -999.00,9,   675.3,  11.8004,    11.8906,2
316N20070207,       LMD4,      37,          1,          4,         04,2,  -999.0,     -999.0,   1.310000, -5.8611667,          0,   750.1,   9.7155,  35.2622,2,  35.2627,2,    142.1,2,   142.3,2,   10.48,2,   0.596,3,   19.28,3,    0.03,2,    1.33,2, -999.00,9, -999.00,9,   750.1,   9.6272,     9.7115,2
316N20070207,       LMD4,      37,          1,          3,         03,2,  -999.0,     -999.0,   1.310000, -5.8611667,          0,   850.0,   7.8803,  35.1328,2,  35.1359,2,    164.0,2,   164.8,2, -999.00,9,-999.000,9, -999.00,9, -999.00,9, -999.00,9, -999.00,9, -999.00,9,   850.0,   7.7912,     7.8892,2
316N20070207,       LMD4,      37,          1,          2,         02,2,  -999.0,     -999.0,   1.310000, -5.8611667,          0,   951.0,   6.2749,  35.0729,2,  35.0748,2,    202.9,2,   202.1,2, -999.00,9,-999.000,9, -999.00,9, -999.00,9, -999.00,9, -999.00,9, -999.00,9,   951.0,   6.1860,     6.2729,2
316N20070207,       LMD4,      37,          1,          1,         01,2,  -999.0,     -999.0,   1.310000, -5.8611667,          0,  1018.7,   5.5797,  35.0469,2,  35.0476,2,    221.0,2,   220.8,2, -999.00,9,-999.000,9, -999.00,9, -999.00,9, -999.00,9, -999.00,9, -999.00,9,  1018.7,   5.4893,     5.5767,2
316N20070207,       LMD4,      38,          1,         21,         21,2,  -999.0,     -999.0,  14.080000, -5.9525000,       4732,     6.9,  22.2594,  36.5103,2,  36.5137,2,    208.9,2,   208.1,2,    0.63,2,   0.088,2,    0.39,2,    0.06,2,    0.03,2, -999.00,9, -999.00,9,     6.9,  22.2580,    22.2594,2
316N20070207,       LMD4,      38,          1,         20,         20,2,  -999.0,     -999.0,  14.080000, -5.9525000,       4732,    25.5,  22.2625,  36.5098,2,  36.5091,2,    209.1,2,   208.6,2, -999.00,9,-999.000,9, -999.00,9, -999.00,9, -999.00,9, -999.00,9, -999.00,9,    25.5,  22.2574,    22.2621,2
316N20070207,       LMD4,      38,          1,         19,         19,2,  -999.0,     -999.0,  14.080000, -5.9525000,       4732,    50.9,  22.0625,  36.5121,2,  36.5117,2,    208.7,2,   209.5,2, -999.00,9,-999.000,9, -999.00,9, -999.00,9, -999.00,9, -999.00,9, -999.00,9,    50.9,  22.0523,    22.0615,2
316N20070207,       LMD4,      38,          1,         18,         18,2,  -999.0,     -999.0,  14.080000, -5.9525000,       4732,    75.0,  21.0475,  36.6113,2,  36.6183,2,    208.1,2,   207.6,2,    0.74,2,   0.000,2,    0.73,2,    0.23,2,    0.05,2, -999.00,9, -999.00,9,    75.0,  21.0330,    21.0503,2
316N20070207,       LMD4,      38,          1,         17,         17,2,  -999.0,     -999.0,  14.080000, -5.9525000,       4732,   100.4,  20.2666,  36.6153,2,  36.6175,2,    214.1,2,   214.5,2,    0.74,2,   0.088,2,    0.56,2,    0.27,2,    0.04,2, -999.00,9, -999.00,9,   100.4,  20.2477,    20.2657,2
316N20070207,       LMD4,      38,          1,         16,         16,2,  -999.0,     -999.0,  14.080000, -5.9525000,       4732,   125.7,  19.7122,  36.6387,2,  36.6385,2,    215.8,2,   216.5,2,    0.64,2,   0.176,2,    0.67,2,    0.26,2,    0.04,2, -999.00,9, -999.00,9,   125.7,  19.6890,    19.7173,2
316N20070207,       LMD4,      38,          1,         15,         15,2,  -999.0,     -999.0,  14.080000, -5.9525000,       4732,   150.1,  19.5430,  36.6417,2,  36.6400,2,    217.1,2,   217.2,2,    0.34,2,   0.068,2,    0.62,2,    0.18,2,    0.03,2, -999.00,9, -999.00,9,   150.1,  19.5154,    19.5439,2
316N20070207,       LMD4,      38,          1,         14,         14,4,  -999.0,     -999.0,  14.080000, -5.9525000,       4732,   199.7,  19.1545,  36.6632,2,  36.3462,4,    209.2,2,   188.2,4, -999.00,9,-999.000,9, -999.00,9, -999.00,9, -999.00,9, -999.00,9, -999.00,9,   199.7,  19.1183,    19.1458,2
316N20070207,       LMD4,      38,          1,         13,         13,2,  -999.0,     -999.0,  14.080000, -5.9525000,       4732,   250.3,  18.5935,  36.6161,2,  36.6154,2,    200.1,2,   200.3,2,    0.96,2,   0.107,2,    3.37,2,    0.04,2,    0.15,2, -999.00,9, -999.00,9,   250.3,  18.5490,    18.6005,2
316N20070207,       LMD4,      38,          1,         12,         12,2,  -999.0,     -999.0,  14.080000, -5.9525000,       4732,   300.1,  18.2506,  36.5831,2,  36.5835,2,    200.9,2,   202.0,2,    1.16,2,   0.000,2,    3.94,2,    0.02,2,    0.18,2, -999.00,9, -999.00,9,   300.1,  18.1979,    18.2503,2
316N20070207,       LMD4,      38,          1,         11,         11,2,  -999.0,     -999.0,  14.080000, -5.9525000,       4732,   349.9,  17.6726,  36.4827,2,  36.4820,2,    195.0,2,   193.8,2,    1.57,2,   0.156,2,    5.59,2,    0.03,2,    0.27,2, -999.00,9, -999.00,9,   349.9,  17.6125,    17.6731,2
316N20070207,       LMD4,      38,          1,         10,         10,2,  -999.0,     -999.0,  14.080000, -5.9525000,       4732,   399.6,  16.6177,  36.2867,2,  36.2919,2,    177.5,2,   178.9,2,    2.49,2,   0.254,2,    8.73,2,    0.03,2,    0.46,2, -999.00,9, -999.00,9,   399.6,  16.5518,    16.6189,2
316N20070207,       LMD4,      38,          1,          9,         09,2,  -999.0,     -999.0,  14.080000, -5.9525000,       4732,   448.8,  15.0897,  36.0293,2,  36.0297,2,    171.8,2,   170.5,2, -999.00,9,-999.000,9, -999.00,9, -999.00,9, -999.00,9, -999.00,9, -999.00,9,   448.8,  15.0204,    15.0874,2
316N20070207,       LMD4,      38,          1,          8,         08,2,  -999.0,     -999.0,  14.080000, -5.9525000,       4732,   500.6,  13.6987,  35.8088,2,  35.8098,2,    158.4,2,   158.9,2, -999.00,9,-999.000,9, -999.00,9, -999.00,9, -999.00,9, -999.00,9, -999.00,9,   500.6,  13.6262,    13.6979,2
316N20070207,       LMD4,      38,          1,          7,         07,2,  -999.0,     -999.0,  14.080000, -5.9525000,       4732,   549.9,  11.7402,  35.5073,2,  35.5079,2,    142.2,2,   140.1,2, -999.00,9,-999.000,9, -999.00,9, -999.00,9, -999.00,9, -999.00,9, -999.00,9,   549.9,  11.6680,    11.7330,2
316N20070207,       LMD4,      38,          1,          6,         06,2,  -999.0,     -999.0,  14.080000, -5.9525000,       4732,   600.4,  10.1014,  35.2798,2,  35.2814,2,    134.3,2,   133.2,2, -999.00,9,-999.000,9, -999.00,9, -999.00,9, -999.00,9, -999.00,9, -999.00,9,   600.4,  10.0296,    10.0394,2
316N20070207,       LMD4,      38,          1,          5,         05,2,  -999.0,     -999.0,  14.080000, -5.9525000,       4732,   650.5,   9.3135,  35.2349,2,  35.2362,2,    144.5,2,   147.3,2, -999.00,9,-999.000,9, -999.00,9, -999.00,9, -999.00,9, -999.00,9, -999.00,9,   650.5,   9.2392,     9.3077,2
316N20070207,       LMD4,      38,          1,          4,         04,2,  -999.0,     -999.0,  14.080000, -5.9525000,       4732,   726.4,   7.8697,  35.1320,2,  35.1313,2,    163.9,2,   164.9,2, -999.00,9,-999.000,9, -999.00,9, -999.00,9, -999.00,9, -999.00,9, -999.00,9,   726.4,   7.7942,     7.8579,2
316N20070207,       LMD4,      38,          1,          3,         03,2,  -999.0,     -999.0,  14.080000, -5.9525000,       4732,   801.4,   6.6323,  35.0764,2,  35.0783,2,    190.6,2,   190.9,2, -999.00,9,-999.000,9, -999.00,9, -999.00,9, -999.00,9, -999.00,9, -999.00,9,   801.4,   6.5560,     6.6276,2
316N20070207,       LMD4,      38,          1,          2,         02,2,  -999.0,     -999.0,  14.080000, -5.9525000,       4732,   900.0,   5.7567,  35.0750,2,  35.0757,2,    219.5,2,   218.8,2, -999.00,9,-999.000,9, -999.00,9, -999.00,9, -999.00,9, -999.00,9, -999.00,9,   900.0,   5.6764,     5.7552,2
316N20070207,       LMD4,      38,          1,          1,         01,2,  -999.0,     -999.0,  14.080000, -5.9525000,       4732,  1009.9,   4.9721,  35.0167,2,  35.0188,2,    238.9,2,   239.1,2, -999.00,9,-999.000,9, -999.00,9, -999.00,9, -999.00,9, -999.00,9, -999.00,9,  1009.9,   4.8873,     4.9730,2