BOTTLE,20230728SIOCCHCBG
EXPOCODE,SECT_ID,STNNBR,CASTNO,SAMPNO,BTLNBR,BTLNBR_FLAG_W,DATE,TIME,LATITUDE,LONGITUDE,DEPTH,CTDPRS,CTDTMP,CTDSAL,CTDSAL_FLAG_W,SALNTY,SALNTY_FLAG_W,CTDOXY,CTDOXY_FLAG_W,OXYGEN,OXYGEN_FLAG_W,SILCAT,SILCAT_FLAG_W,NH4,NH4_FLAG_W,NITRAT,NITRAT_FLAG_W,NITRIT,NITRIT_FLAG_W,PHSPHT,PHSPHT_FLAG_W,TCARBN,TCARBN_FLAG_W,ALKALI,ALKALI_FLAG_W,CTDRAW,THETA,SBE35T,SBE35T_FLAG_W
,,,,,,,,,,,METERS,DBAR,ITS-90,PSS-78,,PSS-78,,UMOL/KG,,UMOL/KG,,UMOL/KG,,UMOL/KG,,UMOL/KG,,UMOL/KG,,UMOL/KG,,UMOL/KG,,UMOL/KG,,DBAR,DEG C,ITS-90,
316N20070207,       LMD4,      23,          1,         21,         21,2,20070109,       0859,  15.670000, -4.0133333,          0,     4.9,  18.2653,  36.5633,2,  36.5619,2,    219.2,2,   218.8,2,    0.99,2,   0.000,2,    2.57,2,    0.05,2,    0.12,2, 2100.97,2, 2395.77,2,     4.9,  18.2644,    18.2657,2
316N20070207,       LMD4,      23,          1,         20,         20,2,20070109,       0859,  15.670000, -4.0133333,          0,    25.5,  18.2692,  36.5644,2,  36.5615,2,    219.2,2,   219.1,2, -999.00,9,-999.000,9, -999.00,9, -999.00,9, -999.00,9, 2102.07,2, 2396.80,2,    25.5,  18.2648,    18.2695,2
316N20070207,       LMD4,      23,          1,         19,         19,2,20070109,       0859,  15.670000, -4.0133333,          0,    51.5,  18.2803,  36.5673,2,  36.5641,2,    219.4,2,   218.9,2, -999.00,9,-999.000,9, -999.00,9, -999.00,9, -999.00,9, 2101.27,2, 2398.20,2,    51.5,  18.2713,    18.2804,2
316N20070207,       LMD4,      23,          1,         18,         18,2,20070109,       0859,  15.670000, -4.0133333,          0,    75.0,  18.2763,  36.5641,2,  36.5611,2,    219.4,2,   219.1,2, -999.00,9,-999.000,9, -999.00,9, -999.00,9, -999.00,9, 2099.01,2, 2394.49,2,    75.0,  18.2632,    18.2775,2
316N20070207,       LMD4,      23,          1,         17,         17,2,20070109,       0859,  15.670000, -4.0133333,          0,    99.5,  18.2797,  36.5639,2,  36.5625,2,    219.4,2,   219.0,2,    0.95,2,   0.000,2,    2.57,2,    0.05,2,    0.12,2, 2098.01,2, 2398.66,2,    99.5,  18.2623,    18.2797,2
316N20070207,       LMD4,      23,          1,         16,         16,2,20070109,       0859,  15.670000, -4.0133333,          0,   125.2,  18.2954,  36.5698,2,  36.5669,2,    219.2,2,   218.8,2,    0.92,2,   0.000,2,    2.62,2,    0.05,2,    0.12,2, 2097.78,2, 2400.88,2,   125.2,  18.2734,    18.2957,2
316N20070207,       LMD4,      23,          1,         15,         15,2,20070109,       0859,  15.670000, -4.0133333,          0,   148.9,  18.3002,  36.5705,2,  36.5690,2,    219.1,2,   217.6,2,    0.88,2,   0.049,2,    2.57,2,    0.05,2,    0.12,2, 2092.98,2, 2398.65,2,   148.9,  18.2741,    18.2998,2
316N20070207,       LMD4,      23,          1,         14,         14,2,20070109,       0859,  15.670000, -4.0133333,          0,   199.1,  18.3069,  36.5705,2,  36.5679,2,    219.0,2,   218.4,2,    0.95,2,   0.000,2,    2.62,2,    0.05,2,    0.12,2, 2072.29,2, 2401.22,2,   199.1,  18.2720,    18.3071,2
316N20070207,       LMD4,      23,          1,         13,         13,2,20070109,       0859,  15.670000, -4.0133333,          0,   252.8,  18.3141,  36.5709,2,  36.5682,2,    218.9,2,   217.5,2,    0.92,2,   0.000,2,    2.62,2,    0.05,2,    0.12,2, 2069.38,2, 2398.59,2,   252.8,  18.2696,    18.3150,2
316N20070207,       LMD4,      23,          1,         12,         12,2,20070109,       0859,  15.670000, -4.0133333,          0,   301.1,  18.3231,  36.5725,2,  36.5698,2,    210.7,2,   216.2,2,    0.99,2,   0.059,2,    2.67,2,    0.05,2,    0.13,2, 2069.87,2, 2398.74,2,   301.1,  18.2701,    18.3232,2
316N20070207,       LMD4,      23,          1,         11,         11,2,20070109,       0859,  15.670000, -4.0133333,          0,   351.9,  18.1905,  36.5710,2,  36.5682,2,    204.3,2,   204.8,2,    1.16,2,   0.029,2,    3.81,2,    0.01,2,    0.17,2, 2078.32,2, 2395.92,2,   351.9,  18.1288,    18.1870,2
316N20070207,       LMD4,      23,          1,         10,         10,2,20070109,       0859,  15.670000, -4.0133333,          0,   394.9,  18.0052,  36.5408,2,  36.5379,2,    201.9,2,   202.1,2,    1.13,2,   0.244,2,    3.99,2,    0.01,2,    0.20,2, 2088.55,2, 2402.51,2,   394.9,  17.9364,    18.0042,2
316N20070207,       LMD4,      23,          1,          9,         09,2,20070109,       0859,  15.670000, -4.0133333,          0,   450.1,  17.5562,  36.4564,2,  36.4575,2,    195.7,2,   194.3,2,    1.73,2,   0.381,2,    5.84,2,    0.01,2,    0.30,2, 2097.52,2, 2388.61,2,   450.1,  17.4790,    17.5662,2
316N20070207,       LMD4,      23,          1,          8,         08,2,20070109,       0859,  15.670000, -4.0133333,          0,   497.6,  17.1915,  36.3856,2,  36.3824,2,    187.5,2,   186.2,2,    2.22,2,   0.039,2,    7.18,2,    0.00,2,    0.38,2, 2105.65,2, 2383.81,2,   497.6,  17.1074,    17.1904,2
316N20070207,       LMD4,      23,          1,          7,         07,2,20070109,       0859,  15.670000, -4.0133333,          0,   550.3,  16.6164,  36.2771,2,  36.2731,2,    178.3,2,   177.1,2,    2.39,2,   0.361,2,    7.72,2,    0.01,2,    0.47,2, 2116.28,2, 2375.52,2,   550.3,  16.5254,    16.6286,2
316N20070207,       LMD4,      23,          1,          6,         06,2,20070109,       0859,  15.670000, -4.0133333,          0,   601.6,  15.6734,  36.1113,2,  36.1071,2,    170.7,2,   169.3,2,    3.62,2,   0.176,2,   10.78,2,    0.01,2,    0.63,2, 2107.03,3, 2382.67,3,   601.6,  15.5777,    15.7027,2
316N20070207,       LMD4,      23,          1,          5,         05,2,20070109,       0859,  15.670000, -4.0133333,          0,   652.7,  14.3475,  35.8885,2,  35.8872,2,    173.3,2,   172.6,2,    4.75,2,   0.010,2,   12.97,2,   -0.00,2,    0.76,2, 2131.52,2, 2358.00,2,   652.7,  14.2495,    14.3815,2
316N20070207,       LMD4,      23,          1,          4,         04,2,20070109,       0859,  15.670000, -4.0133333,          0,   725.0,  12.9910,  35.6750,2,  35.6716,2,    162.5,2,   160.3,2,    6.94,2,   0.088,2,   16.51,2,   -0.00,2,    1.00,2, 2145.76,2, 2340.13,2,   725.0,  12.8888,    12.9940,2
316N20070207,       LMD4,      23,          1,          3,         03,2,20070109,       0859,  15.670000, -4.0133333,          0,   800.8,  11.3072,  35.4514,2,  35.4510,2,    149.7,2,   150.9,2,    9.77,2,   0.117,2,   20.20,2,    0.00,2,    1.26,2, -999.00,9, -999.00,9,   800.8,  11.2036,    11.3202,2
316N20070207,       LMD4,      23,          1,          2,         02,4,20070109,       0859,  15.670000, -4.0133333,          0,   906.1,   9.1568,  35.2221,2,  35.2761,4,    155.4,2,   163.2,4, -999.00,9,-999.000,9, -999.00,9, -999.00,9, -999.00,9, -999.00,9, -999.00,9,   906.1,   9.0531,     9.1564,2
316N20070207,       LMD4,      23,          1,          1,         01,2,20070109,       0859,  15.670000, -4.0133333,          0,  1011.6,   7.2066,  35.0921,2,  35.0892,2,    183.0,2,   183.4,2, -999.00,9,-999.000,9, -999.00,9, -999.00,9, -999.00,9, 2164.32,2, 2320.68,2,  1011.6,   7.1047,     7.2057,2
316N20070207,       LMD4,      24,          1,         21,         21,2,20070109,       1149,  27.430000, -4.0343333,       5286,     5.5,  18.3119,  36.5758,2,  36.5729,2,    221.6,2,   221.6,2,    1.38,2,   0.000,2,    2.26,2,    0.05,2,    0.11,2, 2095.32,2, 2396.95,2,     5.5,  18.3110,    18.3119,2
316N20070207,       LMD4,      24,          1,         20,         20,2,20070109,       1149,  27.430000, -4.0343333,       5286,    27.8,  18.3183,  36.5759,2,  36.5743,2,    221.9,2,   221.1,2, -999.00,9,-999.000,9, -999.00,9, -999.00,9, -999.00,9, 2095.15,2, 2396.11,2,    27.8,  18.3134,    18.3186,2
316N20070207,       LMD4,      24,          1,         19,         19,2,20070109,       1149,  27.430000, -4.0343333,       5286,    51.5,  18.3226,  36.5768,2,  36.5745,2,    221.8,2,   220.7,2, -999.00,9,-999.000,9, -999.00,9, -999.00,9, -999.00,9, 2091.34,2, 2394.62,2,    51.5,  18.3135,    18.3238,2
316N20070207,       LMD4,      24,          1,         18,         18,2,20070109,       1149,  27.430000, -4.0343333,       5286,    76.0,  18.3266,  36.5768,2,  36.5753,2,    221.8,2,   221.0,2, -999.00,9,-999.000,9, -999.00,9, -999.00,9, -999.00,9, 2094.06,2, 2393.07,2,    76.0,  18.3133,    18.3266,2
316N20070207,       LMD4,      24,          1,         17,         17,2,20070109,       1149,  27.430000, -4.0343333,       5286,   100.8,  18.3358,  36.5776,2,  36.5769,2,    221.9,2,   220.8,2,    1.34,2,   0.137,2,    2.22,2,    0.06,2,    0.12,2, 2093.09,2, 2395.26,2,   100.8,  18.3181,    18.3348,2
316N20070207,       LMD4,      24,          1,         16,         16,2,20070109,       1149,  27.430000, -4.0343333,       5286,   124.2,  18.3110,  36.5767,2,  36.5743,2,    222.0,2,   221.2,2,    1.31,2,   0.830,2,    2.23,2,    0.09,2,    0.12,2, 2094.12,2, 2393.44,2,   124.2,  18.2892,    18.3123,2
316N20070207,       LMD4,      24,          1,         15,         15,2,20070109,       1149,  27.430000, -4.0343333,       5286,   180.0,  18.2968,  36.5758,2,  36.5735,2,    222.0,2,   221.8,2,    1.17,2,   0.137,2,    2.03,2,    0.06,2,    0.10,2, 2092.56,2, 2393.31,2,   180.0,  18.2652,    18.2963,2
316N20070207,       LMD4,      24,          1,         14,         14,2,20070109,       1149,  27.430000, -4.0343333,       5286,   228.1,  18.2819,  36.5737,2,  36.5719,2,    223.1,2,   223.0,2,    1.03,2,   0.547,2,    1.85,2,    0.06,2,    0.09,2, 2094.07,2, -999.00,9,   228.1,  18.2419,    18.2827,2
316N20070207,       LMD4,      24,          1,         13,         13,2,20070109,       1149,  27.430000, -4.0343333,       5286,   275.4,  18.2733,  36.5718,2,  36.5701,2,    222.9,2,   222.4,2,    1.21,2,   0.195,2,    2.06,2,    0.07,2,    0.10,2, 2091.82,2, 2395.06,2,   275.4,  18.2250,    18.2739,2
316N20070207,       LMD4,      24,          1,         12,         12,2,20070109,       1149,  27.430000, -4.0343333,       5286,   330.5,  18.2859,  36.5746,2,  36.5729,2,    222.9,2,   222.9,2,    1.29,2,   0.215,2,    2.15,2,    0.08,2,    0.11,2, 2092.22,2, 2395.49,2,   330.5,  18.2277,    18.2856,2
316N20070207,       LMD4,      24,          1,         11,         11,2,20070109,       1149,  27.430000, -4.0343333,       5286,   376.9,  18.2825,  36.5723,2,  36.5701,2,    222.3,2,   222.8,2,    1.03,2,   0.312,2,    1.93,2,    0.07,2,    0.09,2, 2101.44,2, 2396.02,2,   376.9,  18.2161,    18.2827,2
316N20070207,       LMD4,      24,          1,         10,         10,2,20070109,       1149,  27.430000, -4.0343333,       5286,   424.5,  18.2470,  36.5657,2,  36.5634,2,    221.6,2,   220.7,2,    0.90,2,   0.244,2,    1.94,2,    0.05,2,    0.10,2, 2102.25,2, 2397.38,2,   424.5,  18.1723,    18.2459,2
316N20070207,       LMD4,      24,          1,          9,         09,2,20070109,       1149,  27.430000, -4.0343333,       5286,   480.1,  18.1058,  36.5508,2,  36.5499,2,    211.0,2,   210.7,2,    1.42,2,   0.166,2,    3.49,2,    0.03,2,    0.17,2, 2110.15,2, 2395.99,2,   480.1,  18.0216,    18.1084,2
316N20070207,       LMD4,      24,          1,          8,         08,2,20070109,       1149,  27.430000, -4.0343333,       5286,   526.9,  17.5845,  36.4587,2,  36.4587,2,    193.2,2,   194.2,2,    2.05,2,   0.508,3,    5.94,2,    0.03,2,    0.30,2, 2123.48,2, 2386.62,2,   526.9,  17.4939,    17.5921,2
316N20070207,       LMD4,      24,          1,          7,         07,2,20070109,       1149,  27.430000, -4.0343333,       5286,   564.0,  16.9934,  36.3467,2,  36.3451,2,    187.0,2,   187.0,2,    2.57,2,   0.068,2,    7.43,2,    0.01,2,    0.39,2, 2132.10,2, 2379.98,2,   564.0,  16.8986,    16.9667,2
316N20070207,       LMD4,      24,          1,          6,         06,2,20070109,       1149,  27.430000, -4.0343333,       5286,   609.2,  16.1761,  36.2020,2,  36.2051,2,    177.6,2,   178.0,2,    3.54,2,   0.107,2,    9.67,2,    0.00,2,    0.53,2, 2140.23,2, 2386.08,2,   609.2,  16.0770,    16.1736,2
316N20070207,       LMD4,      24,          1,          5,         05,2,20070109,       1149,  27.430000, -4.0343333,       5286,   671.2,  14.8404,  35.9707,2,  35.9684,2,    166.9,2,   165.4,2,    5.17,2,   0.088,2,   13.03,2,    0.00,2,    0.76,2, 2151.69,2, -999.00,9,   671.2,  14.7372,    14.8372,2
316N20070207,       LMD4,      24,          1,          4,         04,2,20070109,       1149,  27.430000, -4.0343333,       5286,   749.6,  12.9803,  35.6768,2,  35.6797,2,    161.8,2,   162.3,2,    6.58,2,   0.156,2,   14.76,2,    0.00,2,    0.92,2, 2165.43,2, 2343.46,2,   749.6,  12.8746,    12.9790,2
316N20070207,       LMD4,      24,          1,          3,         03,2,20070109,       1149,  27.430000, -4.0343333,       5286,   852.3,  10.3138,  35.3265,2,  35.3239,2,    144.0,2,   143.8,2,   12.59,2,   0.068,2,   22.60,2,    0.00,2,    1.42,2, -999.00,9, -999.00,9,   852.3,  10.2093,    10.3047,2
316N20070207,       LMD4,      24,          1,          2,         02,4,20070109,       1149,  27.430000, -4.0343333,       5286,   951.1,   8.0593,  35.1417,2,  35.2910,4,    163.8,2,   172.4,4, -999.00,9,-999.000,9, -999.00,9, -999.00,9, -999.00,9, -999.00,9, -999.00,9,   951.1,   7.9578,     8.0589,2
316N20070207,       LMD4,      24,          1,          1,         01,2,20070109,       1149,  27.430000, -4.0343333,       5286,  1019.2,   6.9977,  35.0956,2,  35.0954,2,    187.1,2,   187.2,2, -999.00,9,-999.000,9, -999.00,9, -999.00,9, -999.00,9, 2186.05,2, 2314.89,2,  1019.2,   6.8965,     7.0043,2
316N20070207,       LMD4,      25,          1,         21,         21,2,20070109,       1439,  39.910000, -4.0480000,          0,     8.5,  18.2400,  36.5727,2,  36.5921,3,    223.0,2,   222.6,2,    1.01,2,   0.000,2,    2.19,2,    0.06,2,    0.12,2, 2097.08,2, 2412.78,2,     8.5,  18.2385,    18.2394,2
316N20070207,       LMD4,      25,          1,         20,         20,2,20070109,       1439,  39.910000, -4.0480000,          0,    27.9,  18.2390,  36.5735,2,  36.5730,2,    223.2,2,   222.3,2, -999.00,9,-999.000,9, -999.00,9, -999.00,9, -999.00,9, 2095.37,2, 2409.65,2,    27.9,  18.2342,    18.2403,2
316N20070207,       LMD4,      25,          1,         19,         19,2,20070109,       1439,  39.910000, -4.0480000,          0,    54.2,  18.2462,  36.5732,2,  36.5742,2,    223.2,2,   222.1,2, -999.00,9,-999.000,9, -999.00,9, -999.00,9, -999.00,9, 2095.93,2, 2410.46,2,    54.2,  18.2367,    18.2470,2
316N20070207,       LMD4,      25,          1,         18,         18,2,20070109,       1439,  39.910000, -4.0480000,          0,    77.7,  18.2511,  36.5744,2,  36.5736,2,    222.7,2,   222.1,2, -999.00,9,-999.000,9, -999.00,9, -999.00,9, -999.00,9, 2095.46,2, 2413.07,2,    77.7,  18.2376,    18.2519,2
316N20070207,       LMD4,      25,          1,         17,         17,2,20070109,       1439,  39.910000, -4.0480000,          0,   102.2,  18.2415,  36.5767,2,  36.5752,2,    222.5,2,   221.2,2,    0.86,2,   0.186,2,    2.23,2,    0.07,2,    0.12,2, 2090.94,2, 2392.01,2,   102.2,  18.2237,    18.2418,2
316N20070207,       LMD4,      25,          1,         16,         16,2,20070109,       1439,  39.910000, -4.0480000,          0,   125.4,  18.2437,  36.5776,2,  36.5767,2,    222.3,2,   221.5,2,    0.83,2,   0.537,2,    2.17,2,    0.08,2,    0.11,2, 2094.67,2, 2391.75,2,   125.4,  18.2218,    18.2442,2
316N20070207,       LMD4,      25,          1,         15,         15,2,20070109,       1439,  39.910000, -4.0480000,          0,   151.7,  18.2427,  36.5796,2,  36.5785,2,    221.4,2,   221.3,2,    0.80,2,   0.020,2,    2.20,2,    0.06,2,    0.11,2, 2094.86,2, 2394.72,2,   151.7,  18.2162,    18.2431,2
316N20070207,       LMD4,      25,          1,         14,         14,2,20070109,       1439,  39.910000, -4.0480000,          0,   202.9,  18.2509,  36.5808,2,  36.5786,2,    221.1,2,   221.4,2,    0.65,2,   0.039,2,    2.06,2,    0.05,2,    0.10,2, 2092.99,2, 2393.37,2,   202.9,  18.2153,    18.2515,2
316N20070207,       LMD4,      25,          1,         13,         13,2,20070109,       1439,  39.910000, -4.0480000,          0,   255.8,  18.2597,  36.5806,2,  36.5788,2,    220.8,2,   221.3,2,    0.84,2,   0.000,2,    2.28,2,    0.06,2,    0.11,2, 2090.89,2, 2392.43,2,   255.8,  18.2148,    18.2604,2
316N20070207,       LMD4,      25,          1,         12,         12,2,20070109,       1439,  39.910000, -4.0480000,          0,   306.0,  18.2507,  36.5775,2,  36.5766,2,    220.2,2,   217.7,2,    0.92,2,   0.000,2,    2.58,2,    0.05,2,    0.12,2, 2099.21,2, 2392.53,2,   306.0,  18.1970,    18.2492,2
316N20070207,       LMD4,      25,          1,         11,         11,2,20070109,       1439,  39.910000, -4.0480000,          0,   350.1,  18.1681,  36.5710,2,  36.5704,2,    205.5,2,   206.9,2,    1.55,2,   0.986,2,    3.24,2,    0.03,2,    0.17,2, 2109.92,2, 2391.49,2,   350.1,  18.1067,    18.1664,2
316N20070207,       LMD4,      25,          1,         10,         10,2,20070109,       1439,  39.910000, -4.0480000,          0,   399.7,  18.0075,  36.5441,2,  36.5437,2,    203.6,2,   203.8,2,    1.85,2,   0.000,2,    4.23,2,    0.01,2,    0.21,2, 2113.42,2, 2389.47,2,   399.7,  17.9378,    18.0064,2
316N20070207,       LMD4,      25,          1,          9,         09,2,20070109,       1439,  39.910000, -4.0480000,          0,   448.1,  17.7289,  36.4886,2,  36.4880,2,    198.2,2,   201.5,2,    2.04,2,   0.713,2,    4.81,2,    0.02,2,    0.25,2, 2123.45,2, 2394.59,2,   448.1,  17.6515,    17.7284,2
316N20070207,       LMD4,      25,          1,          8,         08,2,20070109,       1439,  39.910000, -4.0480000,          0,   499.0,  17.1912,  36.3840,2,  36.3826,2,    194.3,2,   189.9,2,    2.67,2,   0.166,2,    6.81,2,    0.01,2,    0.37,2, 2126.42,2, 2385.11,2,   499.0,  17.1068,    17.1859,2
316N20070207,       LMD4,      25,          1,          7,         07,2,20070109,       1439,  39.910000, -4.0480000,          0,   551.0,  16.8194,  36.3146,2,  36.3138,2,    189.3,2,   189.4,2,    2.41,2,   0.107,2,    6.31,2,    0.00,2,    0.36,2, 2128.03,2, 2383.08,2,   551.0,  16.7274,    16.8194,2
316N20070207,       LMD4,      25,          1,          6,         06,2,20070109,       1439,  39.910000, -4.0480000,          0,   598.7,  16.0187,  36.1709,2,  36.1713,2,    179.9,2,   180.3,2,    3.27,2,   0.127,2,    8.40,2,    0.00,2,    0.51,2, 2134.04,2, 2369.28,2,   598.7,  15.9220,    16.0144,2
316N20070207,       LMD4,      25,          1,          5,         05,2,20070109,       1439,  39.910000, -4.0480000,          0,   648.6,  15.1037,  36.0122,2,  36.0146,2,    166.9,2,   167.7,2,    5.12,2,   0.059,2,   12.38,2,    0.00,2,    0.72,2, 2144.62,2, 2358.86,2,   648.6,  15.0029,    15.1313,2
316N20070207,       LMD4,      25,          1,          4,         04,2,20070109,       1439,  39.910000, -4.0480000,          0,   725.2,  14.0090,  35.8314,2,  35.8328,2,    162.8,2,   162.9,2,    6.52,2,   0.352,2,   14.67,2,    0.01,2,    0.88,2, 2152.62,2, 2347.53,2,   725.2,  13.9015,    14.0121,2
316N20070207,       LMD4,      25,          1,          3,         03,2,20070109,       1439,  39.910000, -4.0480000,          0,   804.7,  12.0179,  35.5412,2,  35.5428,2,    150.2,2,   149.7,2,    9.50,2,   0.020,2,   18.65,2,    0.01,2,    1.16,2, -999.00,9, -999.00,9,   804.7,  11.9096,    12.0406,2
316N20070207,       LMD4,      25,          1,          2,         02,4,20070109,       1439,  39.910000, -4.0480000,          0,   896.4,   9.6079,  35.2529,2,  35.2760,4,    145.0,2,   157.2,4, -999.00,9,-999.000,9, -999.00,9, -999.00,9, -999.00,9, -999.00,9, -999.00,9,   896.4,   9.5024,     9.6060,2
316N20070207,       LMD4,      25,          1,          1,         01,2,20070109,       1439,  39.910000, -4.0480000,          0,  1011.1,   7.2940,  35.0867,2,  35.0866,2,    178.8,2,   179.1,2, -999.00,9,-999.000,9, -999.00,9, -999.00,9, -999.00,9, 2183.18,2, 2312.61,2,  1011.1,   7.1914,     7.2885,2