BOTTLE,20230728SIOCCHCBG
EXPOCODE,SECT_ID,STNNBR,CASTNO,SAMPNO,BTLNBR,BTLNBR_FLAG_W,DATE,TIME,LATITUDE,LONGITUDE,DEPTH,CTDPRS,CTDTMP,CTDSAL,CTDSAL_FLAG_W,SALNTY,SALNTY_FLAG_W,CTDOXY,CTDOXY_FLAG_W,OXYGEN,OXYGEN_FLAG_W,SILCAT,SILCAT_FLAG_W,NH4,NH4_FLAG_W,NITRAT,NITRAT_FLAG_W,NITRIT,NITRIT_FLAG_W,PHSPHT,PHSPHT_FLAG_W,TCARBN,TCARBN_FLAG_W,ALKALI,ALKALI_FLAG_W,CTDRAW,THETA,SBE35T,SBE35T_FLAG_W
,,,,,,,,,,,METERS,DBAR,ITS-90,PSS-78,,PSS-78,,UMOL/KG,,UMOL/KG,,UMOL/KG,,UMOL/KG,,UMOL/KG,,UMOL/KG,,UMOL/KG,,UMOL/KG,,UMOL/KG,,DBAR,DEG C,ITS-90,
316N20070207,       LMD4,      50,          1,         21,         21,2,20070103,       2137,  57.820000, -1.8800000,       5346,     4.3,  17.7682,  36.5280,2,  36.5293,2,    223.2,2,   223.8,2,    0.67,2,   0.029,2,    2.68,2,    0.10,2,    0.14,2, -999.00,9, -999.00,9,     4.3,  17.7675,    17.7684,2
316N20070207,       LMD4,      50,          1,         20,         20,2,20070103,       2137,  57.820000, -1.8800000,       5346,    25.6,  17.7802,  36.5278,2,  36.5279,2,    224.5,2,   223.9,2, -999.00,9,-999.000,9, -999.00,9, -999.00,9, -999.00,9, -999.00,9, -999.00,9,    25.6,  17.7758,    17.7808,2
316N20070207,       LMD4,      50,          1,         19,         19,2,20070103,       2137,  57.820000, -1.8800000,       5346,    51.0,  17.7825,  36.5281,2,  36.5287,2,    223.7,2,   223.8,2, -999.00,9,-999.000,9, -999.00,9, -999.00,9, -999.00,9, -999.00,9, -999.00,9,    51.0,  17.7738,    17.7829,2
316N20070207,       LMD4,      50,          1,         18,         18,2,20070103,       2137,  57.820000, -1.8800000,       5346,    75.0,  17.7861,  36.5275,2,  36.5289,2,    223.8,2,   223.5,2, -999.00,9,-999.000,9, -999.00,9, -999.00,9, -999.00,9, -999.00,9, -999.00,9,    75.0,  17.7733,    17.7868,2
316N20070207,       LMD4,      50,          1,         17,         17,2,20070103,       2137,  57.820000, -1.8800000,       5346,   101.3,  17.7860,  36.5285,2,  36.5291,2,    223.5,2,   224.5,2,    0.82,2,   1.260,2,    2.79,2,    0.20,2,    0.15,2, -999.00,9, -999.00,9,   101.3,  17.7687,    17.7857,2
316N20070207,       LMD4,      50,          1,         16,         16,2,20070103,       2137,  57.820000, -1.8800000,       5346,   126.3,  17.7996,  36.5281,2,  36.5279,2,    223.5,2,   223.7,2,    0.59,2,   0.029,2,    2.60,2,    0.10,2,    0.13,2, -999.00,9, -999.00,9,   126.3,  17.7779,    17.7994,2
316N20070207,       LMD4,      50,          1,         15,         15,2,20070103,       2137,  57.820000, -1.8800000,       5346,   175.8,  17.8064,  36.5282,2,  36.5303,2,    223.8,2,   224.7,2,    0.74,2,   0.000,2,    2.75,2,    0.10,2,    0.14,2, -999.00,9, -999.00,9,   175.8,  17.7762,    17.8062,2
316N20070207,       LMD4,      50,          1,         14,         14,2,20070103,       2137,  57.820000, -1.8800000,       5346,   225.2,  17.8140,  36.5282,2,  36.5285,2,    223.7,2,   224.0,2,    0.69,2,   0.000,2,    2.76,2,    0.10,2,    0.14,2, -999.00,9, -999.00,9,   225.2,  17.7752,    17.8142,2
316N20070207,       LMD4,      50,          1,         13,         13,2,20070103,       2137,  57.820000, -1.8800000,       5346,   275.0,  17.8221,  36.5277,2,  36.5282,2,    223.6,2,   223.9,2,    0.65,2,   0.000,2,    2.80,2,    0.11,2,    0.14,2, -999.00,9, -999.00,9,   275.0,  17.7746,    17.8223,2
316N20070207,       LMD4,      50,          1,         12,         12,2,20070103,       2137,  57.820000, -1.8800000,       5346,   325.1,  17.8216,  36.5246,2,  36.5251,2,    223.6,2,   222.9,2,    0.70,2,   0.000,2,    2.84,2,    0.11,2,    0.14,2, -999.00,9, -999.00,9,   325.1,  17.7655,    17.8223,2
316N20070207,       LMD4,      50,          1,         11,         11,2,20070103,       2137,  57.820000, -1.8800000,       5346,   375.7,  17.8091,  36.5193,2,  36.5203,2,    222.7,2,   221.5,2,    0.76,2,   0.000,2,    3.02,2,    0.10,2,    0.15,2, -999.00,9, -999.00,9,   375.7,  17.7442,    17.8096,2
316N20070207,       LMD4,      50,          1,         10,         10,2,20070103,       2137,  57.820000, -1.8800000,       5346,   425.7,  17.4532,  36.4337,2,  36.4422,2,    216.0,2,   204.3,2,    0.42,2,   0.713,3,    3.30,2,    0.03,2,    0.20,2, -999.00,9, -999.00,9,   425.7,  17.3805,    17.4754,2
316N20070207,       LMD4,      50,          1,          9,         09,2,20070103,       2137,  57.820000, -1.8800000,       5346,   474.8,  16.7586,  36.3019,2,  36.3040,2,    195.8,2,   197.8,2,    1.77,2,   0.000,2,    6.96,2,    0.02,2,    0.37,2, -999.00,9, -999.00,9,   474.8,  16.6797,    16.7615,2
316N20070207,       LMD4,      50,          1,          8,         08,2,20070103,       2137,  57.820000, -1.8800000,       5346,   525.4,  15.7241,  36.1194,2,  36.1211,2,    187.3,2,   183.9,2,    2.81,2,   0.000,2,    9.78,2,    0.02,2,    0.54,2, -999.00,9, -999.00,9,   525.4,  15.6405,    15.7228,2
316N20070207,       LMD4,      50,          1,          7,         07,2,20070103,       2137,  57.820000, -1.8800000,       5346,   575.5,  15.2725,  36.0389,2,  36.0398,2,    182.0,2,   182.4,2,    3.26,2,   0.049,2,   10.60,2,    0.02,2,    0.60,2, -999.00,9, -999.00,9,   575.5,  15.1826,    15.2799,2
316N20070207,       LMD4,      50,          1,          6,         06,2,20070103,       2137,  57.820000, -1.8800000,       5346,   626.0,  14.4871,  35.9108,2,  35.9206,2,    168.5,2,   171.4,2,    4.21,2,   0.020,2,   12.59,2,    0.01,2,    0.74,2, -999.00,9, -999.00,9,   626.0,  14.3926,    14.5312,2
316N20070207,       LMD4,      50,          1,          5,         05,2,20070103,       2137,  57.820000, -1.8800000,       5346,   674.7,  13.3223,  35.7272,2,  35.7276,2,    159.0,2,   160.0,2,    5.36,2,   0.068,2,   14.20,2,    0.01,2,    0.89,2, -999.00,9, -999.00,9,   674.7,  13.2257,    13.3223,2
316N20070207,       LMD4,      50,          1,          4,         04,2,20070103,       2137,  57.820000, -1.8800000,       5346,   751.3,  11.7998,  35.5128,2,  35.5159,2,    150.8,2,   150.5,2,    8.71,2,   0.000,2,   19.53,2,    0.01,2,    1.19,2, -999.00,9, -999.00,9,   751.3,  11.7001,    11.8195,2
316N20070207,       LMD4,      50,          1,          3,         03,2,20070103,       2137,  57.820000, -1.8800000,       5346,   850.8,   9.2730,  35.2224,2,  35.2274,2,    149.7,2,   149.7,2,   12.27,2,   0.127,2,   22.82,2,    0.01,2,    1.44,2, -999.00,9, -999.00,9,   850.8,   9.1752,     9.2842,2
316N20070207,       LMD4,      50,          1,          2,         02,2,20070103,       2137,  57.820000, -1.8800000,       5346,   950.5,   7.4360,  35.0994,2,  35.1004,2,    177.1,2,   178.1,2, -999.00,9,-999.000,9, -999.00,9, -999.00,9, -999.00,9, -999.00,9, -999.00,9,   950.5,   7.3390,     7.4345,2
316N20070207,       LMD4,      50,          1,          1,         01,2,20070103,       2137,  57.820000, -1.8800000,       5346,  1009.3,   6.8338,  35.1082,2,  35.1108,2,    198.9,2,   199.0,2, -999.00,9,-999.000,9, -999.00,9, -999.00,9, -999.00,9, -999.00,9, -999.00,9,  1009.3,   6.7348,     6.8182,2
316N20070207,       LMD4,      51,          1,         21,         21,2,20070103,       2352,   9.230000, -1.9333333,       5336,     5.6,  17.8699,  36.5594,2,  36.5581,2,    224.2,2,   225.0,2,    0.67,2,   0.029,2,    2.68,2,    0.10,2,    0.13,2, -999.00,9, -999.00,9,     5.6,  17.8690,    17.8735,2
316N20070207,       LMD4,      51,          1,         20,         20,2,20070103,       2352,   9.230000, -1.9333333,       5336,    24.3,  17.8916,  36.5580,2,  36.5583,2,    225.1,2,   224.6,2, -999.00,9,-999.000,9, -999.00,9, -999.00,9, -999.00,9, -999.00,9, -999.00,9,    24.3,  17.8874,    17.8871,2
316N20070207,       LMD4,      51,          1,         19,         19,2,20070103,       2352,   9.230000, -1.9333333,       5336,    48.8,  17.8969,  36.5580,2,  36.5586,2,    224.6,2,   224.5,2, -999.00,9,-999.000,9, -999.00,9, -999.00,9, -999.00,9, -999.00,9, -999.00,9,    48.8,  17.8885,    17.8994,2
316N20070207,       LMD4,      51,          1,         18,         18,2,20070103,       2352,   9.230000, -1.9333333,       5336,    73.1,  17.9007,  36.5567,2,  36.5566,2,    224.7,2,   225.1,2, -999.00,9,-999.000,9, -999.00,9, -999.00,9, -999.00,9, -999.00,9, -999.00,9,    73.1,  17.8881,    17.8979,2
316N20070207,       LMD4,      51,          1,         17,         17,2,20070103,       2352,   9.230000, -1.9333333,       5336,    99.8,  17.9123,  36.5574,2,  36.5586,2,    224.6,2,   224.4,2,    0.62,2,   0.068,2,    2.55,2,    0.10,2,    0.13,2, -999.00,9, -999.00,9,    99.8,  17.8951,    17.9119,2
316N20070207,       LMD4,      51,          1,         16,         16,2,20070103,       2352,   9.230000, -1.9333333,       5336,   124.6,  17.9171,  36.5571,2,  36.5574,2,    224.6,2,   225.4,2,    0.68,2,   0.039,2,    2.67,2,    0.10,2,    0.13,2, -999.00,9, -999.00,9,   124.6,  17.8956,    17.9180,2
316N20070207,       LMD4,      51,          1,         15,         15,2,20070103,       2352,   9.230000, -1.9333333,       5336,   148.8,  17.9123,  36.5554,2,  36.5554,2,    224.4,2,   224.3,2,    0.74,2,   0.010,2,    2.71,2,    0.10,2,    0.13,2, -999.00,9, -999.00,9,   148.8,  17.8866,    17.9096,2
316N20070207,       LMD4,      51,          1,         14,         14,2,20070103,       2352,   9.230000, -1.9333333,       5336,   199.5,  17.9233,  36.5558,2,  36.5556,2,    224.4,2,   224.4,2,    0.69,2,   0.000,2,    2.71,2,    0.10,2,    0.13,2, -999.00,9, -999.00,9,   199.5,  17.8888,    17.9238,2
316N20070207,       LMD4,      51,          1,         13,         13,2,20070103,       2352,   9.230000, -1.9333333,       5336,   249.2,  17.7994,  36.5256,2,  36.5267,2,    224.0,2,   224.1,2,    0.75,2,   0.000,2,    2.93,2,    0.10,2,    0.14,2, -999.00,9, -999.00,9,   249.2,  17.7565,    17.8003,2
316N20070207,       LMD4,      51,          1,         12,         12,2,20070103,       2352,   9.230000, -1.9333333,       5336,   299.7,  17.7968,  36.5226,2,  36.5217,2,    224.0,2,   223.7,2,    0.41,2,   0.410,2,    2.43,2,    0.08,2,    0.12,2, -999.00,9, -999.00,9,   299.7,  17.7451,    17.7975,2
316N20070207,       LMD4,      51,          1,         11,         11,2,20070103,       2352,   9.230000, -1.9333333,       5336,   350.8,  17.8040,  36.5223,2,  36.5239,2,    223.9,2,   223.6,2,    0.37,2,   0.615,2,    2.35,2,    0.12,2,    0.11,2, -999.00,9, -999.00,9,   350.8,  17.7434,    17.8044,2
316N20070207,       LMD4,      51,          1,         10,         10,2,20070103,       2352,   9.230000, -1.9333333,       5336,   399.8,  17.7955,  36.5192,2,  36.5175,2,    222.3,2,   222.1,2,    0.82,2,   0.000,2,    3.11,2,    0.09,2,    0.15,2, -999.00,9, -999.00,9,   399.8,  17.7263,    17.7950,2
316N20070207,       LMD4,      51,          1,          9,         09,2,20070103,       2352,   9.230000, -1.9333333,       5336,   449.4,  17.4657,  36.4604,2,  36.4614,2,    211.8,2,   212.4,2,    0.98,2,   0.000,2,    4.15,2,    0.03,2,    0.21,2, -999.00,9, -999.00,9,   449.4,  17.3889,    17.4363,2
316N20070207,       LMD4,      51,          1,          8,         08,2,20070103,       2352,   9.230000, -1.9333333,       5336,   499.8,  16.6429,  36.2833,2,  36.2836,2,    186.8,2,   185.9,2,    2.02,2,   0.010,2,    7.94,2,    0.02,2,    0.42,2, -999.00,9, -999.00,9,   499.8,  16.5602,    16.6427,2
316N20070207,       LMD4,      51,          1,          7,         07,2,20070103,       2352,   9.230000, -1.9333333,       5336,   548.7,  15.9618,  36.1534,2,  36.1562,2,    182.9,2,   184.6,2,    2.77,2,   0.000,2,    9.36,2,    0.02,2,    0.52,2, -999.00,9, -999.00,9,   548.7,  15.8735,    15.9591,2
316N20070207,       LMD4,      51,          1,          6,         06,2,20070103,       2352,   9.230000, -1.9333333,       5336,   600.6,  15.2356,  36.0405,2,  36.0408,2,    180.3,2,   179.8,2,    3.53,2,   0.000,2,   11.01,2,    0.02,2,    0.62,2, -999.00,9, -999.00,9,   600.6,  15.1418,    15.2372,2
316N20070207,       LMD4,      51,          1,          5,         05,2,20070103,       2352,   9.230000, -1.9333333,       5336,   649.3,  14.2475,  35.8758,2,  35.8754,2,    176.3,2,   175.3,2,    4.47,2,   0.000,2,   12.99,2,    0.02,2,    0.75,2, -999.00,9, -999.00,9,   649.3,  14.1505,    14.2428,2
316N20070207,       LMD4,      51,          1,          4,         04,2,20070103,       2352,   9.230000, -1.9333333,       5336,   724.5,  12.5770,  35.6201,2,  35.6197,2,    165.1,2,   165.1,2,    6.83,2,   0.000,2,   16.69,2,    0.01,2,    1.00,2, -999.00,9, -999.00,9,   724.5,  12.4770,    12.5721,2
316N20070207,       LMD4,      51,          1,          3,         03,2,20070103,       2352,   9.230000, -1.9333333,       5336,   799.4,  10.5849,  35.3689,2,  35.3705,2,    152.1,2,   152.7,2,   10.19,2,   0.000,2,   21.06,2,    0.01,2,    1.31,2, -999.00,9, -999.00,9,   799.4,  10.4855,    10.5884,2
316N20070207,       LMD4,      51,          1,          2,         02,2,20070103,       2352,   9.230000, -1.9333333,       5336,   900.2,   8.4892,  35.1718,2,  35.1741,2,    162.1,2,   161.8,2, -999.00,9,-999.000,9, -999.00,9, -999.00,9, -999.00,9, -999.00,9, -999.00,9,   900.2,   8.3906,     8.4906,2
316N20070207,       LMD4,      51,          1,          1,         01,2,20070103,       2352,   9.230000, -1.9333333,       5336,  1011.2,   7.1948,  35.1258,2,  35.1284,2,    193.9,2,   193.8,2, -999.00,9,-999.000,9, -999.00,9, -999.00,9, -999.00,9, -999.00,9, -999.00,9,  1011.2,   7.0930,     7.1918,2
316N20070207,       LMD4,      52,          1,         21,         21,2,20070104,       0219,  23.350000, -1.9833333,       5323,     5.4,  17.9549,  36.5614,2,  36.5600,2,    221.5,2,   221.4,2,    0.87,2,   0.078,2,    2.89,2,    0.10,2,    0.26,2, -999.00,9, -999.00,9,     5.4,  17.9540,    17.9580,2
316N20070207,       LMD4,      52,          1,         20,         20,2,20070104,       0219,  23.350000, -1.9833333,       5323,    24.5,  17.9737,  36.5618,2,  36.5618,2,    222.2,2,   220.9,2, -999.00,9,-999.000,9, -999.00,9, -999.00,9, -999.00,9, -999.00,9, -999.00,9,    24.5,  17.9695,    17.9736,2
316N20070207,       LMD4,      52,          1,         19,         19,2,20070104,       0219,  23.350000, -1.9833333,       5323,    50.4,  17.9777,  36.5618,2,  36.5606,2,    221.8,2,   243.2,4, -999.00,9,-999.000,9, -999.00,9, -999.00,9, -999.00,9, -999.00,9, -999.00,9,    50.4,  17.9690,    17.9777,2
316N20070207,       LMD4,      52,          1,         18,         18,2,20070104,       0219,  23.350000, -1.9833333,       5323,    74.9,  17.9691,  36.5622,2,  36.5612,2,    221.9,2,   241.7,4, -999.00,9,-999.000,9, -999.00,9, -999.00,9, -999.00,9, -999.00,9, -999.00,9,    74.9,  17.9561,    17.9691,2
316N20070207,       LMD4,      52,          1,         17,         17,2,20070104,       0219,  23.350000, -1.9833333,       5323,    99.2,  17.9832,  36.5622,2,  36.5612,2,    221.6,2,   220.7,2,    0.80,2,   0.010,2,    2.89,2,    0.10,2,    0.15,2, -999.00,9, -999.00,9,    99.2,  17.9660,    17.9804,2
316N20070207,       LMD4,      52,          1,         16,         16,2,20070104,       0219,  23.350000, -1.9833333,       5323,   123.8,  17.9890,  36.5628,2,  36.5620,2,    221.6,2,   242.5,4,    0.84,2,   0.283,2,    2.97,2,    0.11,2,    0.16,2, -999.00,9, -999.00,9,   123.8,  17.9675,    17.9898,2
316N20070207,       LMD4,      52,          1,         15,         15,2,20070104,       0219,  23.350000, -1.9833333,       5323,   174.2,  17.9916,  36.5630,2,  36.5634,2,    221.4,2,   220.5,2,    0.47,2,   0.146,2,    2.32,2,    0.07,2,    0.13,2, -999.00,9, -999.00,9,   174.2,  17.9614,    17.9805,2
316N20070207,       LMD4,      52,          1,         14,         14,2,20070104,       0219,  23.350000, -1.9833333,       5323,   224.2,  17.9390,  36.5658,2,  36.5653,2,    221.0,2,   222.3,2,    0.80,2,   0.000,2,    2.78,2,    0.08,2,    0.14,2, -999.00,9, -999.00,9,   224.2,  17.9001,    17.9389,2
316N20070207,       LMD4,      52,          1,         13,         13,2,20070104,       0219,  23.350000, -1.9833333,       5323,   274.8,  17.8953,  36.5625,2,  36.5612,2,    222.0,2,   221.8,2,    0.74,2,   0.000,2,    2.77,2,    0.09,2,    0.14,2, -999.00,9, -999.00,9,   274.8,  17.8477,    17.8988,2
316N20070207,       LMD4,      52,          1,         12,         12,2,20070104,       0219,  23.350000, -1.9833333,       5323,   322.5,  17.7816,  36.5383,2,  36.5362,2,    221.7,2,   242.4,4,    0.77,2,   0.000,2,    3.14,2,    0.06,2,    0.16,2, -999.00,9, -999.00,9,   322.5,  17.7259,    17.7830,2
316N20070207,       LMD4,      52,          1,         11,         11,2,20070104,       0219,  23.350000, -1.9833333,       5323,   373.3,  17.7759,  36.5421,2,  36.5407,2,    219.1,2,   220.5,2,    0.70,2,   0.000,2,    3.07,2,    0.06,2,    0.16,2, -999.00,9, -999.00,9,   373.3,  17.7115,    17.7780,2
316N20070207,       LMD4,      52,          1,         10,         10,2,20070104,       0219,  23.350000, -1.9833333,       5323,   424.6,  17.6875,  36.5180,2,  36.5185,2,    217.5,2,   217.5,2,    0.74,2,   0.000,2,    3.54,2,    0.05,2,    0.18,2, -999.00,9, -999.00,9,   424.6,  17.6144,    17.6887,2
316N20070207,       LMD4,      52,          1,          9,         09,2,20070104,       0219,  23.350000, -1.9833333,       5323,   473.4,  17.5718,  36.5058,2,  36.5021,2,    218.8,2,   217.8,2,    0.87,2,   0.039,2,    3.74,2,    0.06,2,    0.19,2, -999.00,9, -999.00,9,   473.4,  17.4905,    17.5856,2
316N20070207,       LMD4,      52,          1,          8,         08,2,20070104,       0219,  23.350000, -1.9833333,       5323,   524.9,  16.5246,  36.2660,2,  36.2644,2,    189.3,2,   188.7,2,    2.11,2,   0.010,2,    8.05,2,    0.02,2,    0.43,2, -999.00,9, -999.00,9,   524.9,  16.4382,    16.5290,2
316N20070207,       LMD4,      52,          1,          7,         07,2,20070104,       0219,  23.350000, -1.9833333,       5323,   574.8,  15.5976,  36.1017,2,  36.1008,2,    179.1,2,   179.1,2,    3.05,2,   0.000,2,   10.52,2,    0.02,2,    0.59,2, -999.00,9, -999.00,9,   574.8,  15.5064,    15.5922,2
316N20070207,       LMD4,      52,          1,          6,         06,2,20070104,       0219,  23.350000, -1.9833333,       5323,   623.4,  14.5500,  35.9262,2,  35.9321,2,    174.1,2,   196.0,4,    4.08,2,   0.000,2,   12.60,2,    0.01,2,    0.73,2, -999.00,9, -999.00,9,   623.4,  14.4555,    14.5868,2
316N20070207,       LMD4,      52,          1,          5,         05,2,20070104,       0219,  23.350000, -1.9833333,       5323,   673.6,  13.6510,  35.7829,2,  35.7808,2,    166.7,2,   165.7,2,    5.33,2,   0.000,2,   14.96,2,    0.02,2,    0.88,2, -999.00,9, -999.00,9,   673.6,  13.5531,    13.6518,2
316N20070207,       LMD4,      52,          1,          4,         04,2,20070104,       0219,  23.350000, -1.9833333,       5323,   748.7,  11.7180,  35.5039,2,  35.5113,2,    145.8,2,   146.8,2,    8.90,2,   0.147,2,   19.90,2,    0.03,2,    1.23,2, -999.00,9, -999.00,9,   748.7,  11.6190,    11.7133,2
316N20070207,       LMD4,      52,          1,          3,         03,2,20070104,       0219,  23.350000, -1.9833333,       5323,   850.7,   8.6261,  35.1359,2,  35.1353,2,    153.2,2,   153.3,2,   13.11,2,   0.068,2,   23.60,2,    0.02,2,    1.51,2, -999.00,9, -999.00,9,   850.7,   8.5323,     8.6343,2
316N20070207,       LMD4,      52,          1,          2,         02,2,20070104,       0219,  23.350000, -1.9833333,       5323,   948.5,   7.0927,  35.0309,2,  35.0232,2,    182.2,2,   181.6,2, -999.00,9,-999.000,9, -999.00,9, -999.00,9, -999.00,9, -999.00,9, -999.00,9,   948.5,   6.9984,     7.0884,2
316N20070207,       LMD4,      52,          1,          1,         01,2,20070104,       0219,  23.350000, -1.9833333,       5323,  1003.1,   6.3757,  35.0528,2,  35.0532,2,    200.8,2,   201.7,2, -999.00,9,-999.000,9, -999.00,9, -999.00,9, -999.00,9, -999.00,9, -999.00,9,  1003.1,   6.2809,     6.3601,2