BOTTLE,20230728SIOCCHCBG
EXPOCODE,SECT_ID,STNNBR,CASTNO,SAMPNO,BTLNBR,BTLNBR_FLAG_W,DATE,TIME,LATITUDE,LONGITUDE,DEPTH,CTDPRS,CTDTMP,CTDSAL,CTDSAL_FLAG_W,SALNTY,SALNTY_FLAG_W,CTDOXY,CTDOXY_FLAG_W,OXYGEN,OXYGEN_FLAG_W,SILCAT,SILCAT_FLAG_W,NH4,NH4_FLAG_W,NITRAT,NITRAT_FLAG_W,NITRIT,NITRIT_FLAG_W,PHSPHT,PHSPHT_FLAG_W,TCARBN,TCARBN_FLAG_W,ALKALI,ALKALI_FLAG_W,CTDRAW,THETA,SBE35T,SBE35T_FLAG_W
,,,,,,,,,,,METERS,DBAR,ITS-90,PSS-78,,PSS-78,,UMOL/KG,,UMOL/KG,,UMOL/KG,,UMOL/KG,,UMOL/KG,,UMOL/KG,,UMOL/KG,,UMOL/KG,,UMOL/KG,,DBAR,DEG C,ITS-90,
316N20070207,       LMD4,      64,          1,         22,         22,2,20070108,       1902,   4.420000, -9.9703333,       4882,     4.7,  18.8555,  36.6081,2,-999.0000,9,   -999.0,9,  -999.0,9, -999.00,9,-999.000,9, -999.00,9, -999.00,9, -999.00,9, -999.00,9, -999.00,9,     4.7,  18.8547,    18.8575,2
316N20070207,       LMD4,      64,          1,         23,         23,2,20070108,       1902,   4.420000, -9.9703333,       4882,     4.9,  18.8573,  36.6082,2,-999.0000,9,   -999.0,9,  -999.0,9, -999.00,9,-999.000,9, -999.00,9, -999.00,9, -999.00,9, -999.00,9, -999.00,9,     4.9,  18.8564,    18.8575,2
316N20070207,       LMD4,      64,          1,         21,         21,2,20070108,       1902,   4.420000, -9.9703333,       4882,     5.5,  18.8552,  36.6080,2,  36.6088,2,    224.9,2,   225.9,2,    0.82,2,   0.098,2,    0.86,2,    0.09,2,    0.06,2, -999.00,9, -999.00,9,     5.5,  18.8542,    18.8564,2
316N20070207,       LMD4,      64,          1,         20,         20,2,20070108,       1902,   4.420000, -9.9703333,       4882,    25.5,  18.8799,  36.6092,2,  36.6076,2,    225.9,2,   225.8,2, -999.00,9,-999.000,9, -999.00,9, -999.00,9, -999.00,9, -999.00,9, -999.00,9,    25.5,  18.8754,    18.8763,2
316N20070207,       LMD4,      64,          1,         19,         19,2,20070108,       1902,   4.420000, -9.9703333,       4882,    50.4,  18.7902,  36.6073,2,  36.6068,2,    225.7,2,   226.2,2, -999.00,9,-999.000,9, -999.00,9, -999.00,9, -999.00,9, -999.00,9, -999.00,9,    50.4,  18.7812,    18.7867,2
316N20070207,       LMD4,      64,          1,         18,         18,2,20070108,       1902,   4.420000, -9.9703333,       4882,    74.4,  18.5488,  36.6032,2,  36.6030,2,    226.4,2,   226.0,2, -999.00,9,-999.000,9, -999.00,9, -999.00,9, -999.00,9, -999.00,9, -999.00,9,    74.4,  18.5357,    18.5430,2
316N20070207,       LMD4,      64,          1,         17,         17,2,20070108,       1902,   4.420000, -9.9703333,       4882,    99.9,  18.3145,  36.5923,2,  36.5911,2,    221.6,2,   221.0,2,    1.12,2,   0.107,2,    1.98,2,    0.10,2,    0.11,2, -999.00,9, -999.00,9,    99.9,  18.2970,    18.3152,2
316N20070207,       LMD4,      64,          1,         16,         16,2,20070108,       1902,   4.420000, -9.9703333,       4882,   125.8,  18.2779,  36.5922,2,  36.5917,2,    218.0,2,   216.3,2,    1.21,2,   0.010,2,    2.52,2,    0.06,2,    0.13,2, -999.00,9, -999.00,9,   125.8,  18.2559,    18.2797,2
316N20070207,       LMD4,      64,          1,         15,         15,2,20070108,       1902,   4.420000, -9.9703333,       4882,   175.2,  18.1996,  36.5857,2,  36.5857,2,    218.8,2,   217.7,2,    1.21,2,   0.000,2,    2.47,2,    0.06,2,    0.13,2, -999.00,9, -999.00,9,   175.2,  18.1690,    18.1998,2
316N20070207,       LMD4,      64,          1,         14,         14,2,20070108,       1902,   4.420000, -9.9703333,       4882,   226.6,  18.1974,  36.5872,2,  36.5863,2,    219.5,2,   220.7,2,    0.69,2,   0.215,2,    1.63,2,    0.04,2,    0.09,2, -999.00,9, -999.00,9,   226.6,  18.1577,    18.1977,2
316N20070207,       LMD4,      64,          1,         13,         13,2,20070108,       1902,   4.420000, -9.9703333,       4882,   276.3,  18.1906,  36.5901,2,  36.5896,2,    216.4,2,   219.9,2,    1.19,2,   0.000,2,    2.39,2,    0.05,2,    0.12,2, -999.00,9, -999.00,9,   276.3,  18.1422,    18.1903,2
316N20070207,       LMD4,      64,          1,         12,         12,2,20070108,       1902,   4.420000, -9.9703333,       4882,   324.6,  18.1631,  36.5841,2,  36.5842,2,    217.5,2,   216.4,2,    1.19,2,   0.020,2,    2.73,2,    0.03,2,    0.14,2, -999.00,9, -999.00,9,   324.6,  18.1063,    18.1637,2
316N20070207,       LMD4,      64,          1,         11,         11,2,20070108,       1902,   4.420000, -9.9703333,       4882,   375.2,  18.1525,  36.5834,2,  36.5830,2,    215.0,2,   216.4,2,    0.67,3,   0.791,3,    1.86,3,    0.04,3,    0.10,3, -999.00,9, -999.00,9,   375.2,  18.0868,    18.1529,2
316N20070207,       LMD4,      64,          1,         10,         10,2,20070108,       1902,   4.420000, -9.9703333,       4882,   426.6,  18.1274,  36.5812,2,  36.5808,2,    215.6,2,   216.5,2,    1.28,2,   0.000,2,    2.82,2,    0.03,2,    0.14,2, -999.00,9, -999.00,9,   426.6,  18.0527,    18.1276,2
316N20070207,       LMD4,      64,          1,          9,         09,2,20070108,       1902,   4.420000, -9.9703333,       4882,   475.7,  18.0385,  36.5609,2,  36.5594,2,    213.3,2,   212.2,2,    1.38,2,   0.000,2,    3.33,2,    0.02,2,    0.17,2, -999.00,9, -999.00,9,   475.7,  17.9553,    18.0381,2
316N20070207,       LMD4,      64,          1,          8,         08,2,20070108,       1902,   4.420000, -9.9703333,       4882,   525.2,  17.5971,  36.4619,2,  36.4607,2,    198.6,2,   196.9,2,    2.28,2,   0.000,2,    5.38,2,    0.02,2,    0.27,2, -999.00,9, -999.00,9,   525.2,  17.5068,    17.5898,2
316N20070207,       LMD4,      64,          1,          7,         07,2,20070108,       1902,   4.420000, -9.9703333,       4882,   576.0,  17.0944,  36.3642,2,  36.3642,2,    191.0,2,   190.4,2,    2.68,2,   0.000,2,    6.75,2,    0.02,2,    0.36,2, -999.00,9, -999.00,9,   576.0,  16.9972,    17.0811,2
316N20070207,       LMD4,      64,          1,          6,         06,2,20070108,       1902,   4.420000, -9.9703333,       4882,   627.1,  16.1722,  36.1972,2,  36.1999,2,    180.3,2,   179.8,2,    3.48,2,   0.000,2,    9.37,2,    0.02,2,    0.52,2, -999.00,9, -999.00,9,   627.1,  16.0701,    16.1697,2
316N20070207,       LMD4,      64,          1,          5,         05,2,20070108,       1902,   4.420000, -9.9703333,       4882,   675.6,  15.2304,  36.0328,2,  36.0330,2,    174.0,2,   174.3,2,    4.18,2,   0.000,2,   11.48,2,    0.01,2,    0.66,2, -999.00,9, -999.00,9,   675.6,  15.1247,    15.2277,2
316N20070207,       LMD4,      64,          1,          4,         04,2,20070108,       1902,   4.420000, -9.9703333,       4882,   750.3,  13.3767,  35.7300,2,  35.7306,2,    162.3,2,   160.8,2,    6.82,2,   0.244,2,   15.85,2,    0.02,2,    0.96,2, -999.00,9, -999.00,9,   750.3,  13.2687,    13.3811,2
316N20070207,       LMD4,      64,          1,          3,         03,2,20070108,       1902,   4.420000, -9.9703333,       4882,   851.4,  11.2101,  35.4378,2,  35.4400,2,    148.5,2,   149.2,2,   10.28,2,   0.029,2,   20.55,2,    0.01,2,    1.27,2, -999.00,9, -999.00,9,   851.4,  11.1003,    11.2086,2
316N20070207,       LMD4,      64,          1,          2,         02,2,20070108,       1902,   4.420000, -9.9703333,       4882,   949.9,   9.4427,  35.2390,2,  35.2407,2,    147.6,2,   148.0,2, -999.00,9,-999.000,9, -999.00,9, -999.00,9, -999.00,9, -999.00,9, -999.00,9,   949.9,   9.3317,     9.4545,2
316N20070207,       LMD4,      64,          1,          1,         01,2,20070108,       1902,   4.420000, -9.9703333,       4882,  1006.4,   8.1069,  35.1297,2,  35.1311,2,    156.4,2,   157.6,2, -999.00,9,-999.000,9, -999.00,9, -999.00,9, -999.00,9, -999.00,9, -999.00,9,  1006.4,   7.9988,     8.1252,2
316N20070207,       LMD4,      65,          1,         22,         22,2,20070109,       0201,  35.460000, -0.9990000,       4728,     6.5,  18.3846,  36.6015,2,-999.0000,9,   -999.0,9,  -999.0,9, -999.00,9,-999.000,9, -999.00,9, -999.00,9, -999.00,9, -999.00,9, -999.00,9,     6.5,  18.3835,    18.3847,2
316N20070207,       LMD4,      65,          1,         23,         23,2,20070109,       0201,  35.460000, -0.9990000,       4728,     6.7,  18.3847,  36.6014,2,-999.0000,9,   -999.0,9,  -999.0,9, -999.00,9,-999.000,9, -999.00,9, -999.00,9, -999.00,9, -999.00,9, -999.00,9,     6.7,  18.3836,    18.3849,2
316N20070207,       LMD4,      65,          1,         21,         21,2,20070109,       0201,  35.460000, -0.9990000,       4728,     6.7,  18.3843,  36.6016,2,  36.6012,2,    227.4,2,   227.9,2,    0.82,2,   0.000,2,    1.17,2,    0.10,2,    0.06,2, -999.00,9, -999.00,9,     6.7,  18.3831,    18.3850,2
316N20070207,       LMD4,      65,          1,         20,         20,2,20070109,       0201,  35.460000, -0.9990000,       4728,    24.3,  18.3870,  36.6017,2,  36.6014,2,    227.3,2,   227.5,2, -999.00,9,-999.000,9, -999.00,9, -999.00,9, -999.00,9, -999.00,9, -999.00,9,    24.3,  18.3828,    18.3876,2
316N20070207,       LMD4,      65,          1,         19,         19,2,20070109,       0201,  35.460000, -0.9990000,       4728,    48.1,  18.3936,  36.6010,2,  36.6004,2,    228.1,2,   227.4,2, -999.00,9,-999.000,9, -999.00,9, -999.00,9, -999.00,9, -999.00,9, -999.00,9,    48.1,  18.3851,    18.3940,2
316N20070207,       LMD4,      65,          1,         18,         18,2,20070109,       0201,  35.460000, -0.9990000,       4728,    74.4,  18.3937,  36.6006,2,  36.6002,2,    228.3,2,   227.8,2, -999.00,9,-999.000,9, -999.00,9, -999.00,9, -999.00,9, -999.00,9, -999.00,9,    74.4,  18.3806,    18.3944,2
316N20070207,       LMD4,      65,          1,         17,         17,2,20070109,       0201,  35.460000, -0.9990000,       4728,   100.6,  18.3868,  36.5988,2,  36.5982,2,    228.5,2,   227.2,2,    0.92,2,   0.049,2,    1.21,2,    0.11,2,    0.06,2, -999.00,9, -999.00,9,   100.6,  18.3691,    18.3861,2
316N20070207,       LMD4,      65,          1,         16,         16,2,20070109,       0201,  35.460000, -0.9990000,       4728,   124.3,  18.2833,  36.5835,2,  36.5836,2,    227.1,2,   227.1,2,    0.92,2,   0.039,2,    1.36,2,    0.18,2,    0.07,2, -999.00,9, -999.00,9,   124.3,  18.2616,    18.2842,2
316N20070207,       LMD4,      65,          1,         15,         15,2,20070109,       0201,  35.460000, -0.9990000,       4728,   151.1,  18.2798,  36.5863,2,  36.5859,2,    227.9,2,   227.4,2,    1.01,2,   0.000,2,    1.34,2,    0.16,2,    0.07,2, -999.00,9, -999.00,9,   151.1,  18.2534,    18.2813,2
316N20070207,       LMD4,      65,          1,         14,         14,2,20070109,       0201,  35.460000, -0.9990000,       4728,   200.4,  18.1895,  36.5669,2,  36.5665,2,    225.9,2,   224.2,2,    1.10,2,   0.000,2,    1.84,2,    0.25,2,    0.10,2, -999.00,9, -999.00,9,   200.4,  18.1545,    18.1899,2
316N20070207,       LMD4,      65,          1,         13,         13,2,20070109,       0201,  35.460000, -0.9990000,       4728,   250.5,  18.2072,  36.5790,2,  36.5778,2,    210.3,2,   210.7,2,    1.30,2,   0.000,2,    3.11,2,    0.06,2,    0.15,2, -999.00,9, -999.00,9,   250.5,  18.1633,    18.2078,2
316N20070207,       LMD4,      65,          1,         12,         12,2,20070109,       0201,  35.460000, -0.9990000,       4728,   300.2,  18.1269,  36.5659,2,  36.5677,2,    208.8,2,   210.2,2,    1.29,2,   0.000,2,    3.37,2,    0.03,2,    0.16,2, -999.00,9, -999.00,9,   300.2,  18.0745,    18.1270,2
316N20070207,       LMD4,      65,          1,         11,         11,2,20070109,       0201,  35.460000, -0.9990000,       4728,   349.4,  18.0412,  36.5512,2,  36.5510,2,    205.2,2,   205.1,2,    1.18,3,   7.579,3,    4.89,3,    0.19,3,    0.29,3, -999.00,9, -999.00,9,   349.4,  17.9803,    18.0407,2
316N20070207,       LMD4,      65,          1,         10,         10,2,20070109,       0201,  35.460000, -0.9990000,       4728,   399.9,  17.8433,  36.5120,2,  36.5106,2,    202.0,2,   201.9,2,    1.39,2,   0.703,2,    4.05,2,    0.08,2,    0.21,2, -999.00,9, -999.00,9,   399.9,  17.7740,    17.8425,2
316N20070207,       LMD4,      65,          1,          9,         09,2,20070109,       0201,  35.460000, -0.9990000,       4728,   448.6,  17.5689,  36.4580,2,  36.4567,2,    196.3,2,   196.3,2,    1.89,2,   0.000,2,    5.52,2,    0.02,2,    0.28,2, -999.00,9, -999.00,9,   448.6,  17.4920,    17.5690,2
316N20070207,       LMD4,      65,          1,          8,         08,2,20070109,       0201,  35.460000, -0.9990000,       4728,   499.3,  17.0923,  36.3654,2,  36.3737,2,    190.0,2,   190.9,2,    2.18,2,   0.117,2,    6.66,2,    0.02,2,    0.35,2, -999.00,9, -999.00,9,   499.3,  17.0082,    17.1142,2
316N20070207,       LMD4,      65,          1,          7,         07,2,20070109,       0201,  35.460000, -0.9990000,       4728,   549.0,  16.3725,  36.2362,2,  36.2438,2,    182.1,2,   181.8,2,    2.99,2,   0.117,2,    8.76,2,    0.03,2,    0.48,2, -999.00,9, -999.00,9,   549.0,  16.2826,    16.3863,2
316N20070207,       LMD4,      65,          1,          6,         06,2,20070109,       0201,  35.460000, -0.9990000,       4728,   601.2,  15.5116,  36.0830,2,  36.0984,2,    175.3,2,   176.6,2,    3.69,2,   0.039,2,   10.46,2,    0.02,2,    0.60,2, -999.00,9, -999.00,9,   601.2,  15.4166,    15.5396,2
316N20070207,       LMD4,      65,          1,          5,         05,2,20070109,       0201,  35.460000, -0.9990000,       4728,   648.4,  14.6690,  35.9500,2,  35.9679,2,    175.2,2,   176.2,2,    4.50,2,   0.117,2,   11.98,2,    0.02,2,    0.69,2, -999.00,9, -999.00,9,   648.4,  14.5701,    14.6809,2
316N20070207,       LMD4,      65,          1,          4,         04,2,20070109,       0201,  35.460000, -0.9990000,       4728,   725.1,  12.7439,  35.6460,2,  35.6508,2,    161.8,2,   158.6,2,    7.56,2,   0.117,2,   16.88,2,    0.01,2,    1.03,2, -999.00,9, -999.00,9,   725.1,  12.6429,    12.7661,2
316N20070207,       LMD4,      65,          1,          3,         03,2,20070109,       0201,  35.460000, -0.9990000,       4728,   801.0,  11.0973,  35.4255,2,  35.4291,2,    149.1,2,   149.0,2,   10.11,2,   0.176,2,   20.04,2,    0.02,2,    1.28,2, -999.00,9, -999.00,9,   801.0,  10.9948,    11.0835,2
316N20070207,       LMD4,      65,          1,          2,         02,2,20070109,       0201,  35.460000, -0.9990000,       4728,   899.1,   8.5201,  35.1641,2,  35.1703,2,    153.7,2,   153.8,2, -999.00,9,-999.000,9, -999.00,9, -999.00,9, -999.00,9, -999.00,9, -999.00,9,   899.1,   8.4214,     8.5585,2
316N20070207,       LMD4,      65,          1,          1,         01,2,20070109,       0201,  35.460000, -0.9990000,       4728,  1018.5,   6.6846,  35.0974,2,  35.0866,2,    198.7,2,   198.8,2, -999.00,9,-999.000,9, -999.00,9, -999.00,9, -999.00,9, -999.00,9, -999.00,9,  1018.5,   6.5858,     6.6169,3