BOTTLE,20230728SIOCCHCBG
EXPOCODE,SECT_ID,STNNBR,CASTNO,SAMPNO,BTLNBR,BTLNBR_FLAG_W,DATE,TIME,LATITUDE,LONGITUDE,DEPTH,CTDPRS,CTDTMP,CTDSAL,CTDSAL_FLAG_W,SALNTY,SALNTY_FLAG_W,CTDOXY,CTDOXY_FLAG_W,OXYGEN,OXYGEN_FLAG_W,SILCAT,SILCAT_FLAG_W,NH4,NH4_FLAG_W,NITRAT,NITRAT_FLAG_W,NITRIT,NITRIT_FLAG_W,PHSPHT,PHSPHT_FLAG_W,TCARBN,TCARBN_FLAG_W,ALKALI,ALKALI_FLAG_W,CTDRAW,THETA,SBE35T,SBE35T_FLAG_W
,,,,,,,,,,,METERS,DBAR,ITS-90,PSS-78,,PSS-78,,UMOL/KG,,UMOL/KG,,UMOL/KG,,UMOL/KG,,UMOL/KG,,UMOL/KG,,UMOL/KG,,UMOL/KG,,UMOL/KG,,DBAR,DEG C,ITS-90,
316N20070207,       LMD4,       9,          1,         24,         24,2,20070102,       1004,   8.530000, -5.9121667,       4767,     2.9,  21.3814,  36.5886,2,  36.5898,2,    199.2,2,   200.1,2, -999.00,9,-999.000,9, -999.00,9, -999.00,9, -999.00,9, 2074.74,2, 2399.14,2,     2.9,  21.3808,    21.3826,2
316N20070207,       LMD4,       9,          1,         23,         23,9,20070102,       1004,   8.530000, -5.9121667,       4767,    27.0,  21.4047,  36.5890,2,-999.0000,9,   -999.0,9,  -999.0,9, -999.00,9,-999.000,9, -999.00,9, -999.00,9, -999.00,9, -999.00,9, -999.00,9,    27.0,  21.3994,    21.3996,2
316N20070207,       LMD4,       9,          1,         22,         22,2,20070102,       1004,   8.530000, -5.9121667,       4767,    49.9,  21.3296,  36.5781,2,  36.5783,2,    200.1,2,   198.8,2, -999.00,9,-999.000,9, -999.00,9, -999.00,9, -999.00,9, 2076.85,2, 2399.17,2,    49.9,  21.3199,    21.2986,2
316N20070207,       LMD4,       9,          1,         21,         21,2,20070102,       1004,   8.530000, -5.9121667,       4767,    74.3,  21.1791,  36.7630,2,  36.7639,2,    179.7,2,   174.8,2,    0.46,2,   0.146,2,    1.69,2,    0.03,2,    0.11,2, 2111.68,2, 2406.48,2,    74.3,  21.1646,    21.1789,2
316N20070207,       LMD4,       9,          1,         20,         20,2,20070102,       1004,   8.530000, -5.9121667,       4767,   102.8,  19.7721,  36.6839,2,  36.6826,2,    162.8,2,   163.3,2,    1.71,2,   0.010,2,    5.50,2,    0.02,2,    0.28,2, 2129.41,2, 2401.98,2,   102.8,  19.7531,    19.7692,2
316N20070207,       LMD4,       9,          1,         19,         19,9,20070102,       1004,   8.530000, -5.9121667,       4767,   102.8,  19.7734,  36.6832,2,-999.0000,9,   -999.0,9,  -999.0,9, -999.00,9,-999.000,9, -999.00,9, -999.00,9, -999.00,9, -999.00,9, -999.00,9,   102.8,  19.7544,    19.7701,2
316N20070207,       LMD4,       9,          1,         18,         18,2,20070102,       1004,   8.530000, -5.9121667,       4767,   120.5,  19.3806,  36.6442,2,  36.6419,2,    162.1,2,   165.7,2,    1.60,2,   0.000,2,    5.18,2,    0.02,2,    0.28,2, 2127.07,2, 2399.28,2,   120.5,  19.3587,    19.3756,2
316N20070207,       LMD4,       9,          1,         17,         17,2,20070102,       1004,   8.530000, -5.9121667,       4767,   172.3,  18.1407,  36.4840,2,  36.4794,2,    151.6,2,   163.5,2,    2.54,2,   0.000,2,    7.95,2,    0.01,2,    0.43,2, 2132.30,2, 2390.50,2,   172.3,  18.1107,    18.1429,2
316N20070207,       LMD4,       9,          1,         15,         15,9,20070102,       1004,   8.530000, -5.9121667,       4767,   225.7,  17.6527,  36.4467,2,-999.0000,9,   -999.0,9,  -999.0,9, -999.00,9,-999.000,9, -999.00,9, -999.00,9, -999.00,9, -999.00,9, -999.00,9,   225.7,  17.6140,    17.6712,2
316N20070207,       LMD4,       9,          1,         16,         16,2,20070102,       1004,   8.530000, -5.9121667,       4767,   226.2,  17.6678,  36.4512,2,  36.4527,2,    183.4,2,   179.4,2,    2.21,2,   0.010,2,    7.06,2,    0.01,2,    0.39,2, 2123.91,2, 2386.36,2,   226.2,  17.6291,    17.6596,2
316N20070207,       LMD4,       9,          1,         14,         14,2,20070102,       1004,   8.530000, -5.9121667,       4767,   276.0,  16.4725,  36.2252,2,  36.2257,2,    159.5,2,   159.0,2,    3.57,2,   0.078,2,   10.53,2,    0.02,2,    0.62,2, 2142.16,2, 2380.07,2,   276.0,  16.4275,    16.4714,2
316N20070207,       LMD4,       9,          1,         13,         13,2,20070102,       1004,   8.530000, -5.9121667,       4767,   325.6,  15.6896,  36.1230,2,  36.1227,2,    146.5,2,   193.0,4,    3.88,2,   0.000,2,   11.35,2,    0.01,2,    0.65,2, 2137.43,2, 2367.04,2,   325.6,  15.6381,    15.6901,2
316N20070207,       LMD4,       9,          1,         12,         12,2,20070102,       1004,   8.530000, -5.9121667,       4767,   370.1,  14.6022,  35.9312,2,  35.9333,2,    149.6,2,   152.4,2,    5.67,2,   0.010,2,   14.86,2,    0.01,2,    0.89,2, 2158.95,2, 2367.16,2,   370.1,  14.5465,    14.5899,2
316N20070207,       LMD4,       9,          1,         11,         11,9,20070102,       1004,   8.530000, -5.9121667,       4767,   421.8,  13.3406,  35.7316,2,-999.0000,9,   -999.0,9,  -999.0,9, -999.00,9,-999.000,9, -999.00,9, -999.00,9, -999.00,9, -999.00,9, -999.00,9,   421.8,  13.2807,    13.3461,2
316N20070207,       LMD4,       9,          1,         10,         10,2,20070102,       1004,   8.530000, -5.9121667,       4767,   475.1,  11.0416,  35.3997,2,  35.3955,2,    132.9,2,   134.3,2,   11.97,2,   0.107,2,   22.97,2,    0.01,2,    1.44,2, 2179.80,2, 2330.52,2,   475.1,  10.9818,    11.0298,2
316N20070207,       LMD4,       9,          1,          9,         09,9,20070102,       1004,   8.530000, -5.9121667,       4767,   528.2,  10.0340,  35.2874,2,-999.0000,9,   -999.0,9,  -999.0,9, -999.00,9,-999.000,9, -999.00,9, -999.00,9, -999.00,9, -999.00,9, -999.00,9,   528.2,   9.9713,    10.0432,2
316N20070207,       LMD4,       9,          1,          8,         08,2,20070102,       1004,   8.530000, -5.9121667,       4767,   579.0,   8.5750,  35.1083,2,  35.1083,2,    135.0,2,   135.0,2,   16.91,2,   0.000,2,   26.83,2,    0.01,2,    1.73,2, 2194.17,2, 2321.90,2,   579.0,   8.5124,     8.5689,2
316N20070207,       LMD4,       9,          1,          7,         07,9,20070102,       1004,   8.530000, -5.9121667,       4767,   627.5,   8.2166,  35.1171,2,-999.0000,9,   -999.0,9,  -999.0,9, -999.00,9,-999.000,9, -999.00,9, -999.00,9, -999.00,9, -999.00,9, -999.00,9,   627.5,   8.1502,     8.2232,2
316N20070207,       LMD4,       9,          1,          6,         06,2,20070102,       1004,   8.530000, -5.9121667,       4767,   683.0,   7.5085,  35.1222,2,  35.1228,2,    172.9,2,   172.4,2,    7.46,2,   0.293,2,   12.61,2,    0.02,2,    1.06,2, 2180.68,2, 2319.98,2,   683.0,   7.4396,     7.4958,2
316N20070207,       LMD4,       9,          1,          5,         05,2,20070102,       1004,   8.530000, -5.9121667,       4767,   753.2,   6.3546,  35.0828,2,  35.0821,2,    197.9,2,   199.2,2,    8.51,2,   0.332,2,   13.80,2,    0.02,2,    1.09,2, 2176.48,2, 2318.86,2,   753.2,   6.2848,     6.3519,2
316N20070207,       LMD4,       9,          1,          3,         03,9,20070102,       1004,   8.530000, -5.9121667,       4767,   854.8,   5.3254,  35.0250,2,-999.0000,9,   -999.0,9,  -999.0,9, -999.00,9,-999.000,9, -999.00,9, -999.00,9, -999.00,9, -999.00,9, -999.00,9,   854.8,   5.2522,     5.3263,2
316N20070207,       LMD4,       9,          1,          4,         04,2,20070102,       1004,   8.530000, -5.9121667,       4767,   857.8,   5.3298,  35.0257,2,  35.0268,2,    226.3,2,   227.1,2,   12.47,2,   0.068,2,   19.68,2,    0.01,2,    1.29,2, -999.00,9, -999.00,9,   857.8,   5.2564,     5.3305,2
316N20070207,       LMD4,       9,          1,          2,         02,2,20070102,       1004,   8.530000, -5.9121667,       4767,   952.3,   5.0166,  35.0279,2,  35.0283,2,    236.4,2,   237.3,2, -999.00,9,-999.000,9, -999.00,9, -999.00,9, -999.00,9, -999.00,9, -999.00,9,   952.3,   4.9367,     5.0145,2
316N20070207,       LMD4,       9,          1,          1,         01,2,20070102,       1004,   8.530000, -5.9121667,       4767,  1010.2,   4.7492,  35.0058,2,  35.0071,2,    244.7,2,   244.3,2, -999.00,9,-999.000,9, -999.00,9, -999.00,9, -999.00,9, 2163.62,2, 2316.26,2,  1010.2,   4.6661,     4.7463,2
316N20070207,       LMD4,      10,          1,         24,         24,2,20070102,       1453,  20.790000, -5.8661667,       4706,     4.0,  14.9832,  35.4814,2,  35.4803,2,    228.0,2,   228.6,2,    2.58,2,   0.059,2,    4.87,2,    0.19,2,    0.39,2, 2087.77,2, 2341.12,2,     4.0,  14.9826,     -999.0,5
316N20070207,       LMD4,      10,          1,         23,         23,9,20070102,       1453,  20.790000, -5.8661667,       4706,     4.1,  14.9785,  35.4803,2,-999.0000,9,   -999.0,9,  -999.0,9, -999.00,9,-999.000,9, -999.00,9, -999.00,9, -999.00,9, -999.00,9, -999.00,9,     4.1,  14.9779,    14.9833,2
316N20070207,       LMD4,      10,          1,         22,         22,2,20070102,       1453,  20.790000, -5.8661667,       4706,    26.5,  13.5269,  35.0838,2,  35.0838,2,    230.6,2,   237.0,2, -999.00,9,-999.000,9, -999.00,9, -999.00,9, -999.00,9, 2085.68,2, 2323.12,2,    26.5,  13.5232,    13.5973,2
316N20070207,       LMD4,      10,          1,         21,         21,2,20070102,       1453,  20.790000, -5.8661667,       4706,    61.2,  13.0942,  35.1214,2,  35.1260,2,    235.7,2,   232.7,2, -999.00,9,-999.000,9, -999.00,9, -999.00,9, -999.00,9, 2095.50,2, 2322.37,2,    61.2,  13.0857,    13.1009,2
316N20070207,       LMD4,      10,          1,         19,         19,9,20070102,       1453,  20.790000, -5.8661667,       4706,   101.3,  13.4463,  35.2718,2,-999.0000,9,   -999.0,9,  -999.0,9, -999.00,9,-999.000,9, -999.00,9, -999.00,9, -999.00,9, -999.00,9, -999.00,9,   101.3,  13.4320,    13.4425,2
316N20070207,       LMD4,      10,          1,         20,         20,2,20070102,       1453,  20.790000, -5.8661667,       4706,   101.3,  13.4350,  35.2683,2,  35.2731,2,    240.7,2,   234.5,2,    2.13,2,   0.127,2,    4.43,2,    0.11,2,    0.40,2, 2091.89,2, 2331.99,2,   101.3,  13.4207,     -999.0,5
316N20070207,       LMD4,      10,          1,         18,         18,2,20070102,       1453,  20.790000, -5.8661667,       4706,   125.8,  13.5244,  35.3025,2,  35.2999,2,    235.9,2,   233.9,2,    3.16,2,   0.107,2,    6.10,2,    0.17,2,    0.47,2, 2093.69,2, 2329.63,2,   125.8,  13.5067,    13.5246,2
316N20070207,       LMD4,      10,          1,         17,         17,2,20070102,       1453,  20.790000, -5.8661667,       4706,   150.1,  13.4173,  35.3025,2,  35.3033,2,    233.7,2,   235.2,2,    2.71,2,   0.137,2,    5.33,2,    0.14,2,    0.42,2, 2093.50,2, 2328.11,2,   150.1,  13.3962,    13.4176,2
316N20070207,       LMD4,      10,          1,         15,         15,9,20070102,       1453,  20.790000, -5.8661667,       4706,   199.5,  13.0406,  35.2680,2,-999.0000,9,   -999.0,9,  -999.0,9, -999.00,9,-999.000,9, -999.00,9, -999.00,9, -999.00,9, -999.00,9, -999.00,9,   199.5,  13.0130,    13.0509,2
316N20070207,       LMD4,      10,          1,         16,         16,2,20070102,       1453,  20.790000, -5.8661667,       4706,   199.7,  13.0552,  35.2716,2,  35.2710,2,    234.4,2,   236.1,2,    3.43,2,   0.098,2,    6.55,2,    0.14,2,    0.49,2, 2097.77,2, 2329.13,2,   199.7,  13.0276,     -999.0,5
316N20070207,       LMD4,      10,          1,         14,         14,2,20070102,       1453,  20.790000, -5.8661667,       4706,   248.7,  13.3023,  35.6957,2,  35.6968,2,    142.8,2,   141.2,2,    7.23,2,   0.166,2,   15.86,2,    0.02,2,    1.03,2, 2166.64,2, 2341.83,2,   248.7,  13.2673,    13.3062,2
316N20070207,       LMD4,      10,          1,         13,         13,2,20070102,       1453,  20.790000, -5.8661667,       4706,   304.1,  11.4527,  35.4727,2,  35.4663,2,    139.9,2,   139.1,2,   11.06,2,   0.000,2,   21.52,2,    0.01,2,    1.34,2, 2166.08,2, 2333.17,2,   304.1,  11.4139,    11.4567,2
316N20070207,       LMD4,      10,          1,         12,         12,2,20070102,       1453,  20.790000, -5.8661667,       4706,   353.6,  10.0994,  35.2913,2,  35.2909,2,    133.8,2,   134.4,2,   13.73,2,   0.010,2,   24.31,2,    0.00,2,    1.53,2, 2173.19,2, 2328.36,2,   353.6,  10.0577,     -999.0,5
316N20070207,       LMD4,      10,          1,         11,         11,9,20070102,       1453,  20.790000, -5.8661667,       4706,   353.7,  10.0938,  35.2922,2,-999.0000,9,   -999.0,9,  -999.0,9, -999.00,9,-999.000,9, -999.00,9, -999.00,9, -999.00,9, -999.00,9, -999.00,9,   353.7,  10.0520,    10.0955,2
316N20070207,       LMD4,      10,          1,         10,         10,2,20070102,       1453,  20.790000, -5.8661667,       4706,   403.2,   8.7197,  35.1347,2,  35.1345,2,    138.1,2,   137.7,2,   16.09,2,   0.049,2,   26.09,2,    0.00,2,    1.68,2, 2186.13,2, 2318.65,2,   403.2,   8.6761,     8.7200,2
316N20070207,       LMD4,      10,          1,          9,         09,9,20070102,       1453,  20.790000, -5.8661667,       4706,   453.0,   7.9863,  35.0788,2,-999.0000,9,   -999.0,9,  -999.0,9, -999.00,9,-999.000,9, -999.00,9, -999.00,9, -999.00,9, -999.00,9, -999.00,9,   453.0,   7.9397,     7.9941,2
316N20070207,       LMD4,      10,          1,          8,         08,2,20070102,       1453,  20.790000, -5.8661667,       4706,   502.9,   7.4809,  35.0775,2,  35.0785,2,    156.3,2,   160.8,2,   16.17,2,   0.088,2,   24.78,2,    0.01,2,    1.62,2, 2180.10,2, 2317.50,2,   502.9,   7.4309,     7.4793,2
316N20070207,       LMD4,      10,          1,          7,         07,9,20070102,       1453,  20.790000, -5.8661667,       4706,   552.4,   6.9648,  35.0778,2,-999.0000,9,   -999.0,9,  -999.0,9, -999.00,9,-999.000,9, -999.00,9, -999.00,9, -999.00,9, -999.00,9, -999.00,9,   552.4,   6.9118,     6.9644,2
316N20070207,       LMD4,      10,          1,          6,         06,2,20070102,       1453,  20.790000, -5.8661667,       4706,   602.4,   6.1303,  35.0432,2,  35.0445,2,    195.9,2,   201.9,2,   10.21,2,   0.215,2,   16.30,2,    0.02,2,    1.22,2, 2170.03,2, 2312.31,2,   602.4,   6.0761,     6.1271,2
316N20070207,       LMD4,      10,          1,          5,         05,2,20070102,       1453,  20.790000, -5.8661667,       4706,   650.9,   5.7281,  35.0229,2,  35.0234,2,    211.5,2,   213.3,2,   13.09,2,   0.000,2,   20.43,2,    0.00,2,    1.35,2, 2169.62,2, 2312.58,2,   650.9,   5.6713,     5.7286,2
316N20070207,       LMD4,      10,          1,          4,         04,2,20070102,       1453,  20.790000, -5.8661667,       4706,   726.9,   5.3399,  35.0198,2,  35.0177,2,    226.5,2,   226.6,2,   11.01,2,   0.410,2,   17.47,2,    0.04,2,    1.21,2, 2165.45,2, 2312.29,2,   726.9,   5.2783,     5.3348,2
316N20070207,       LMD4,      10,          1,          3,         03,9,20070102,       1453,  20.790000, -5.8661667,       4706,   803.4,   5.0661,  35.0217,2,-999.0000,9,   -999.0,9,  -999.0,9, -999.00,9,-999.000,9, -999.00,9, -999.00,9, -999.00,9, -999.00,9, -999.00,9,   803.4,   4.9992,     5.0663,2
316N20070207,       LMD4,      10,          1,          2,         02,2,20070102,       1453,  20.790000, -5.8661667,       4706,   900.7,   4.7256,  35.0003,2,-999.0000,5,    243.8,2,   243.9,2, -999.00,9,-999.000,9, -999.00,9, -999.00,9, -999.00,9, -999.00,9, -999.00,9,   900.7,   4.6524,     4.7250,2
316N20070207,       LMD4,      10,          1,          1,         01,2,20070102,       1453,  20.790000, -5.8661667,       4706,  1010.9,   4.4062,  34.9829,2,-999.0000,5,    255.4,2,   274.0,3, -999.00,9,-999.000,9, -999.00,9, -999.00,9, -999.00,9, 2158.11,2, 2313.98,2,  1010.9,   4.3256,     4.4059,2