BOTTLE,20230728SIOCCHCBG
EXPOCODE,SECT_ID,STNNBR,CASTNO,SAMPNO,BTLNBR,BTLNBR_FLAG_W,DATE,TIME,LATITUDE,LONGITUDE,DEPTH,CTDPRS,CTDTMP,CTDSAL,CTDSAL_FLAG_W,SALNTY,SALNTY_FLAG_W,CTDOXY,CTDOXY_FLAG_W,OXYGEN,OXYGEN_FLAG_W,SILCAT,SILCAT_FLAG_W,NH4,NH4_FLAG_W,NITRAT,NITRAT_FLAG_W,NITRIT,NITRIT_FLAG_W,PHSPHT,PHSPHT_FLAG_W,TCARBN,TCARBN_FLAG_W,ALKALI,ALKALI_FLAG_W,CTDRAW,THETA,SBE35T,SBE35T_FLAG_W
,,,,,,,,,,,METERS,DBAR,ITS-90,PSS-78,,PSS-78,,UMOL/KG,,UMOL/KG,,UMOL/KG,,UMOL/KG,,UMOL/KG,,UMOL/KG,,UMOL/KG,,UMOL/KG,,UMOL/KG,,DBAR,DEG C,ITS-90,
316N20070207,       LMD4,      26,          1,         24,         24,2,  -999.0,     -999.0,   4.220000, -4.1826667,       5158,     8.8,  12.6562,  35.1340,2,  35.1354,2,    253.6,2,   252.5,2,    2.55,2,   0.254,2,    5.08,2,    0.13,2,    0.41,2, 2089.69,2, 2331.00,2,     8.8,  12.6550,    12.6553,2
316N20070207,       LMD4,      26,          1,         23,         23,2,  -999.0,     -999.0,   4.220000, -4.1826667,       5158,    28.8,  12.6521,  35.1312,2,  35.1326,2,    253.2,2,   252.7,2, -999.00,9,-999.000,9, -999.00,9, -999.00,9, -999.00,9, 2089.84,2, 2319.50,2,    28.8,  12.6482,    12.6530,2
316N20070207,       LMD4,      26,          1,         22,         22,2,  -999.0,     -999.0,   4.220000, -4.1826667,       5158,    54.7,  12.6792,  35.1748,2,  35.1747,2,    250.1,2,   249.4,2, -999.00,9,-999.000,9, -999.00,9, -999.00,9, -999.00,9, 2090.93,2, 2325.18,2,    54.7,  12.6718,    12.6791,2
316N20070207,       LMD4,      26,          1,         21,         21,3,  -999.0,     -999.0,   4.220000, -4.1826667,       5158,   102.7,  13.6803,  35.4546,2,  35.4751,2,    232.2,2,   240.0,2,    2.34,2,   0.430,2,    5.20,2,    0.09,2,    0.38,2, 2096.09,2, 2343.47,2,   102.7,  13.6657,    13.7055,2
316N20070207,       LMD4,      26,          1,         20,         20,2,  -999.0,     -999.0,   4.220000, -4.1826667,       5158,   125.1,  14.6317,  35.7804,2,  35.7816,2,    230.1,2,   231.1,2,    2.65,2,   0.010,2,    5.71,2,    0.09,2,    0.38,2, 2101.04,2, 2360.88,2,   125.1,  14.6130,    14.6303,2
316N20070207,       LMD4,      26,          1,         19,         19,9,  -999.0,     -999.0,   4.220000, -4.1826667,       5158,   148.8,  14.5320,  35.8452,2,-999.0000,9,   -999.0,9,  -999.0,9, -999.00,9,-999.000,9, -999.00,9, -999.00,9, -999.00,9, -999.00,9, -999.00,9,   148.8,  14.5098,     -999.0,9
316N20070207,       LMD4,      26,          1,         18,         18,2,  -999.0,     -999.0,   4.220000, -4.1826667,       5158,   165.9,  14.4251,  35.7531,2,  35.7472,2,    230.2,2,   229.3,2,    2.96,2,   0.000,2,    6.42,2,    0.08,2,    0.42,2, 2102.02,2, 2357.45,2,   165.9,  14.4005,    14.4153,2
316N20070207,       LMD4,      26,          1,         17,         17,2,  -999.0,     -999.0,   4.220000, -4.1826667,       5158,   202.8,  13.9228,  35.6152,2,  35.6346,2,    228.6,2,   232.3,2,    2.64,2,   0.850,2,    5.79,2,    0.10,2,    0.42,2, 2099.60,2, 2353.08,2,   202.8,  13.8934,    13.9951,2
316N20070207,       LMD4,      26,          1,         16,         16,2,  -999.0,     -999.0,   4.220000, -4.1826667,       5158,   226.8,  13.5581,  35.5105,7,  35.6350,3,    227.1,2,   235.7,2,    2.52,2,   0.508,2,    5.57,2,    0.09,2,    0.41,2, 2109.78,3, 2351.05,3,   226.8,  13.5258,    13.5578,2
316N20070207,       LMD4,      26,          1,         15,         15,2,  -999.0,     -999.0,   4.220000, -4.1826667,       5158,   279.2,  13.6980,  35.5735,7,  35.5588,2,    221.5,2,   232.0,2,    2.94,2,   0.772,2,    6.34,2,    0.11,2,    0.45,2, 2109.17,2, 2347.22,2,   279.2,  13.6579,    13.6280,3
316N20070207,       LMD4,      26,          1,         14,         14,2,  -999.0,     -999.0,   4.220000, -4.1826667,       5158,   325.9,  13.7670,  35.6990,7,  35.6920,2,    162.3,2,   175.9,2,    4.52,2,   0.127,2,   10.65,2,    0.03,2,    0.70,2, 2149.30,2, 2349.22,2,   325.9,  13.7199,    13.7880,2
316N20070207,       LMD4,      26,          1,         13,         13,2,  -999.0,     -999.0,   4.220000, -4.1826667,       5158,   379.3,  12.5246,  35.6019,2,  35.6035,2,    142.9,2,   144.3,2,    7.71,2,   0.918,2,   16.68,2,    0.03,2,    1.07,2, 2172.30,2, 2342.35,2,   379.3,  12.4731,    12.5487,2
316N20070207,       LMD4,      26,          1,         12,         12,2,  -999.0,     -999.0,   4.220000, -4.1826667,       5158,   422.6,  11.3833,  35.4532,2,  35.4534,2,    142.4,2,   141.4,2,   10.37,2,   0.117,2,   20.69,2,    0.02,2,    1.29,2, 2160.20,3, 2332.49,3,   422.6,  11.3293,    11.3472,2
316N20070207,       LMD4,      26,          1,         11,         11,2,  -999.0,     -999.0,   4.220000, -4.1826667,       5158,   473.6,   9.5950,  35.2436,2,  35.2438,2,    140.3,2,   138.6,2,   13.68,2,   0.049,2,   24.01,2,    0.02,2,    1.52,2, 2191.80,2, 2323.98,2,   473.6,   9.5405,     9.5981,2
316N20070207,       LMD4,      26,          1,         10,         10,2,  -999.0,     -999.0,   4.220000, -4.1826667,       5158,   555.2,   7.9300,  35.1166,2,  35.1163,2,    165.5,2,   165.7,2,   13.47,2,   0.127,2,   22.53,2,    0.02,2,    1.47,2, 2189.95,2, 2325.34,2,   555.2,   7.8727,     7.8728,2
316N20070207,       LMD4,      26,          1,          9,         09,2,  -999.0,     -999.0,   4.220000, -4.1826667,       5158,   654.6,   6.2742,  34.9966,2,  35.0025,2,    200.3,2,   201.5,2,   11.85,2,   0.440,2,   18.95,2,    0.03,2,    1.31,2, 2180.51,2, 2310.38,2,   654.6,   6.2144,     6.3142,2
316N20070207,       LMD4,      26,          1,          8,         08,2,  -999.0,     -999.0,   4.220000, -4.1826667,       5158,   760.9,   5.6731,  35.0391,2,  35.0399,2,    218.4,2,   218.2,2,   12.60,2,   0.049,2,   19.90,2,    0.01,2,    1.30,2, 2175.80,2, 2313.63,2,   760.9,   5.6064,     5.6494,2
316N20070207,       LMD4,      26,          1,          7,         07,2,  -999.0,     -999.0,   4.220000, -4.1826667,       5158,   856.8,   4.6982,  34.9446,2,  34.9460,2,    249.5,2,   250.1,2,    9.81,2,   0.215,2,   16.04,2,    0.02,2,    1.10,2, 2165.17,2, 2319.33,2,   856.8,   4.6291,     4.6932,2
316N20070207,       LMD4,      26,          1,          6,         06,2,  -999.0,     -999.0,   4.220000, -4.1826667,       5158,  1001.4,   4.2979,  34.9382,2,  34.9369,2,    263.2,2,   263.7,2, -999.00,9,-999.000,9, -999.00,9, -999.00,9, -999.00,9, 2162.10,2, 2312.02,2,  1001.4,   4.2191,     4.2989,2
316N20070207,       LMD4,      26,          1,          5,         05,2,  -999.0,     -999.0,   4.220000, -4.1826667,       5158,  1256.6,   4.0574,  34.9399,2,  34.9401,2,    266.5,2,   266.7,2, -999.00,9,-999.000,9, -999.00,9, -999.00,9, -999.00,9, -999.00,9, -999.00,9,  1256.6,   3.9584,     4.0557,2
316N20070207,       LMD4,      26,          1,          4,         04,2,  -999.0,     -999.0,   4.220000, -4.1826667,       5158,  1507.0,   3.8747,  34.9415,2,  34.9412,2,    267.6,2,   267.6,2, -999.00,9,-999.000,9, -999.00,9, -999.00,9, -999.00,9, -999.00,9, -999.00,9,  1507.0,   3.7553,     3.8751,2
316N20070207,       LMD4,      26,          1,          3,         03,2,  -999.0,     -999.0,   4.220000, -4.1826667,       5158,  1754.6,   3.7480,  34.9461,2,  34.9461,2,    268.0,2,   267.4,2, -999.00,9,-999.000,9, -999.00,9, -999.00,9, -999.00,9, -999.00,9, -999.00,9,  1754.6,   3.6075,     3.7486,2
316N20070207,       LMD4,      26,          1,          2,         02,2,  -999.0,     -999.0,   4.220000, -4.1826667,       5158,  1997.6,   3.5702,  34.9409,2,  34.9429,2,    268.6,2,   267.4,2, -999.00,9,-999.000,9, -999.00,9, -999.00,9, -999.00,9, -999.00,9, -999.00,9,  1997.6,   3.4093,     3.5700,2
316N20070207,       LMD4,      26,          1,          1,         01,2,  -999.0,     -999.0,   4.220000, -4.1826667,       5158,  2018.0,   3.5573,  34.9411,2,  34.9415,2,    268.5,2,   269.4,2, -999.00,9,-999.000,9, -999.00,9, -999.00,9, -999.00,9, -999.00,9, -999.00,9,  2018.0,   3.3947,     3.5561,2
316N20070207,       LMD4,      27,          1,         21,         21,2,  -999.0,     -999.0,  52.330000, -4.1513333,          0,     4.5,  17.6259,  36.4891,2,  36.4879,2,    218.2,2,   218.0,2,    1.40,2,   0.029,2,    3.58,2,    0.07,2,    0.20,2, 2100.93,2, 2393.61,2,     4.5,  17.6251,    17.6260,2
316N20070207,       LMD4,      27,          1,         20,         20,2,  -999.0,     -999.0,  52.330000, -4.1513333,          0,    26.7,  17.6421,  36.4881,2,  36.4865,2,    218.2,2,   217.5,2, -999.00,9,-999.000,9, -999.00,9, -999.00,9, -999.00,9, 2102.58,2, 2395.03,2,    26.7,  17.6375,    17.6426,2
316N20070207,       LMD4,      27,          1,         19,         19,2,  -999.0,     -999.0,  52.330000, -4.1513333,          0,    51.2,  17.6498,  36.4891,2,  36.4881,2,    217.8,2,   217.7,2, -999.00,9,-999.000,9, -999.00,9, -999.00,9, -999.00,9, 2101.29,2, 2392.58,2,    51.2,  17.6411,    17.6503,2
316N20070207,       LMD4,      27,          1,         18,         18,2,  -999.0,     -999.0,  52.330000, -4.1513333,          0,    77.7,  17.6571,  36.4907,2,  36.4897,2,    217.1,2,   217.8,2, -999.00,9,-999.000,9, -999.00,9, -999.00,9, -999.00,9, 2101.75,2, 2392.93,2,    77.7,  17.6439,    17.6595,2
316N20070207,       LMD4,      27,          1,         17,         17,2,  -999.0,     -999.0,  52.330000, -4.1513333,          0,   102.9,  17.6902,  36.5002,2,  36.4982,2,    217.3,2,   217.5,2,    1.29,2,   0.244,2,    3.58,2,    0.08,2,    0.19,2, 2098.76,2, 2390.07,2,   102.9,  17.6726,    17.6949,2
316N20070207,       LMD4,      27,          1,         16,         16,2,  -999.0,     -999.0,  52.330000, -4.1513333,          0,   123.4,  17.6975,  36.5024,2,  36.4968,2,    217.0,2,   218.3,2,    1.28,2,   0.068,2,    3.45,2,    0.07,2,    0.18,2, 2103.21,2, 2394.29,2,   123.4,  17.6763,    17.6979,2
316N20070207,       LMD4,      27,          1,         15,         15,2,  -999.0,     -999.0,  52.330000, -4.1513333,          0,   149.3,  17.7822,  36.5344,2,  36.5339,2,    217.0,2,   217.9,2,    1.16,2,   0.137,2,    3.12,2,    0.07,2,    0.16,2, 2099.12,2, 2393.59,2,   149.3,  17.7565,    17.7718,2
316N20070207,       LMD4,      27,          1,         14,         14,2,  -999.0,     -999.0,  52.330000, -4.1513333,          0,   201.4,  17.7591,  36.5368,2,  36.5355,2,    217.0,2,   218.2,2,    1.16,2,   0.371,2,    3.16,2,    0.08,2,    0.17,2, 2100.48,2, 2392.27,2,   201.4,  17.7244,    17.7610,2
316N20070207,       LMD4,      27,          1,         13,         13,2,  -999.0,     -999.0,  52.330000, -4.1513333,          0,   248.9,  16.9805,  36.3384,2,  36.3610,3,    203.6,2,   200.7,2,    2.11,2,   0.166,2,    5.97,2,    0.05,2,    0.32,2, 2114.02,2, 2384.34,2,   248.9,  16.9390,    16.9764,2
316N20070207,       LMD4,      27,          1,         12,         12,2,  -999.0,     -999.0,  52.330000, -4.1513333,          0,   302.8,  16.3984,  36.2480,2,  36.2517,2,    183.4,2,   185.7,2,    2.84,2,   0.508,2,    8.34,2,    0.03,2,    0.46,2, 2126.73,2, 2379.04,2,   302.8,  16.3490,    16.4535,2
316N20070207,       LMD4,      27,          1,         11,         11,2,  -999.0,     -999.0,  52.330000, -4.1513333,          0,   351.3,  15.3504,  36.0587,2,  36.0632,2,    172.3,2,   171.3,2,    4.11,2,   0.156,2,   11.57,2,    0.02,2,    0.66,2, 2141.82,2, 2372.11,2,   351.3,  15.2956,    15.3638,2
316N20070207,       LMD4,      27,          1,         10,         10,2,  -999.0,     -999.0,  52.330000, -4.1513333,          0,   399.4,  14.1658,  35.8625,2,  35.8646,2,    169.8,2,   168.1,2,    5.38,2,   0.088,2,   13.72,2,    0.02,2,    0.82,2, 2143.97,2, 2371.08,2,   399.4,  14.1068,    14.2555,2
316N20070207,       LMD4,      27,          1,          9,         09,2,  -999.0,     -999.0,  52.330000, -4.1513333,          0,   449.6,  13.3776,  35.7472,2,  35.7460,2,    170.3,2,   170.9,2,    6.02,2,   0.215,2,   14.70,2,    0.02,2,    0.88,2, 2149.82,2, 2349.68,2,   449.6,  13.3136,    13.3769,2
316N20070207,       LMD4,      27,          1,          8,         08,2,  -999.0,     -999.0,  52.330000, -4.1513333,          0,   503.3,  12.3347,  35.5926,2,  35.5941,2,    156.0,2,   155.5,2,    7.72,2,   0.449,2,   16.20,2,    0.03,2,    1.07,2, 2163.43,2, 2343.50,2,   503.3,  12.2667,    12.3544,2
316N20070207,       LMD4,      27,          1,          7,         07,2,  -999.0,     -999.0,  52.330000, -4.1513333,          0,   553.9,  11.2160,  35.4383,2,  35.4434,2,    144.6,2,   143.6,2,   10.60,2,   0.059,2,   21.15,2,    0.01,2,    1.31,2, 2173.98,2, 2338.06,2,   553.9,  11.1454,    11.3431,3
316N20070207,       LMD4,      27,          1,          6,         06,2,  -999.0,     -999.0,  52.330000, -4.1513333,          0,   600.4,   9.9814,  35.2800,2,  35.2796,2,    140.5,2,   140.5,2,   12.74,2,   0.176,2,   23.51,2,    0.02,2,    1.48,2, 2182.15,2, 2327.17,2,   600.4,   9.9102,     9.9642,2
316N20070207,       LMD4,      27,          1,          5,         05,2,  -999.0,     -999.0,  52.330000, -4.1513333,          0,   652.4,   8.8181,  35.1762,2,  35.1799,2,    143.2,2,   144.8,2,   14.46,2,   0.049,2,   24.60,2,    0.01,2,    1.56,2, 2188.34,2, 2317.39,2,   652.4,   8.7461,     8.8735,2
316N20070207,       LMD4,      27,          1,          4,         04,2,  -999.0,     -999.0,  52.330000, -4.1513333,          0,   720.3,   7.4989,  35.1081,2,  35.1074,2,    172.7,2,   174.4,2,   13.59,2,   0.049,2,   22.58,2,    0.01,2,    1.46,2, 2180.92,2, 2323.74,2,   720.3,   7.4261,     7.4923,2
316N20070207,       LMD4,      27,          1,          3,         03,2,  -999.0,     -999.0,  52.330000, -4.1513333,          0,   802.7,   5.4706,  34.9324,2,  34.9307,2,    218.5,2,   218.6,2,   12.41,2,   0.205,2,   19.65,2,    0.01,2,    1.31,2, -999.00,9, -999.00,9,   802.7,   5.4014,     5.4573,2
316N20070207,       LMD4,      27,          1,          2,         02,4,  -999.0,     -999.0,  52.330000, -4.1513333,          0,   900.4,   5.2561,  34.9990,2,  35.0321,4,    228.4,2,   228.5,4, -999.00,9,-999.000,9, -999.00,9, -999.00,9, -999.00,9, -999.00,9, -999.00,9,   900.4,   5.1793,     5.2388,2
316N20070207,       LMD4,      27,          1,          1,         01,2,  -999.0,     -999.0,  52.330000, -4.1513333,          0,  1008.2,   4.6846,  34.9587,2,  34.9604,2,    248.7,2,   250.5,2, -999.00,9,-999.000,9, -999.00,9, -999.00,9, -999.00,9, 2161.33,2, 2316.08,2,  1008.2,   4.6022,     4.6873,2