BOTTLE,20230728SIOCCHCBG
EXPOCODE,SECT_ID,STNNBR,CASTNO,SAMPNO,BTLNBR,BTLNBR_FLAG_W,DATE,TIME,LATITUDE,LONGITUDE,DEPTH,CTDPRS,CTDTMP,CTDSAL,CTDSAL_FLAG_W,SALNTY,SALNTY_FLAG_W,CTDOXY,CTDOXY_FLAG_W,OXYGEN,OXYGEN_FLAG_W,SILCAT,SILCAT_FLAG_W,NH4,NH4_FLAG_W,NITRAT,NITRAT_FLAG_W,NITRIT,NITRIT_FLAG_W,PHSPHT,PHSPHT_FLAG_W,TCARBN,TCARBN_FLAG_W,ALKALI,ALKALI_FLAG_W,CTDRAW,THETA,SBE35T,SBE35T_FLAG_W
,,,,,,,,,,,METERS,DBAR,ITS-90,PSS-78,,PSS-78,,UMOL/KG,,UMOL/KG,,UMOL/KG,,UMOL/KG,,UMOL/KG,,UMOL/KG,,UMOL/KG,,UMOL/KG,,UMOL/KG,,DBAR,DEG C,ITS-90,
316N20070207,       LMD4,      61,          1,         21,         21,2,20070107,       0138,  13.270000, -4.4133333,       5319,     5.2,  17.3875,  36.4663,2,  36.4665,2,    224.1,2,   224.5,2,    1.34,2,   0.000,2,    3.19,2,    0.12,2,    0.18,2, -999.00,9, -999.00,9,     5.2,  17.3866,    17.3878,2
316N20070207,       LMD4,      61,          1,         20,         20,2,20070107,       0138,  13.270000, -4.4133333,       5319,    24.8,  17.3916,  36.4658,2,  36.4665,2,    225.5,2,   224.8,2, -999.00,9,-999.000,9, -999.00,9, -999.00,9, -999.00,9, -999.00,9, -999.00,9,    24.8,  17.3875,    17.3919,2
316N20070207,       LMD4,      61,          1,         19,         19,2,20070107,       0138,  13.270000, -4.4133333,       5319,    49.1,  17.3951,  36.4659,2,  36.4657,2,    225.5,2,   224.5,2, -999.00,9,-999.000,9, -999.00,9, -999.00,9, -999.00,9, -999.00,9, -999.00,9,    49.1,  17.3868,    17.3954,2
316N20070207,       LMD4,      61,          1,         18,         18,2,20070107,       0138,  13.270000, -4.4133333,       5319,    75.2,  17.4007,  36.4665,2,  36.4685,2,    225.1,2,   224.8,2, -999.00,9,-999.000,9, -999.00,9, -999.00,9, -999.00,9, -999.00,9, -999.00,9,    75.2,  17.3880,    17.4018,2
316N20070207,       LMD4,      61,          1,         17,         17,2,20070107,       0138,  13.270000, -4.4133333,       5319,   101.2,  17.4090,  36.4674,2,  36.4681,2,    224.1,2,   224.4,2,    1.33,2,   0.020,2,    3.19,2,    0.12,2,    0.18,2, -999.00,9, -999.00,9,   101.2,  17.3919,    17.4064,2
316N20070207,       LMD4,      61,          1,         16,         16,2,20070107,       0138,  13.270000, -4.4133333,       5319,   125.5,  17.4117,  36.4712,2,  36.4702,2,    223.4,2,   224.6,2,    1.12,2,   0.059,2,    2.88,2,    0.11,2,    0.17,2, -999.00,9, -999.00,9,   125.5,  17.3905,    17.4107,2
316N20070207,       LMD4,      61,          1,         15,         15,2,20070107,       0138,  13.270000, -4.4133333,       5319,   150.7,  17.3980,  36.4688,2,  36.4704,2,    223.3,2,   223.5,2,    1.32,2,   0.000,2,    3.16,2,    0.10,2,    0.17,2, -999.00,9, -999.00,9,   150.7,  17.3725,    17.3981,2
316N20070207,       LMD4,      61,          1,         14,         14,2,20070107,       0138,  13.270000, -4.4133333,       5319,   197.8,  17.4143,  36.4757,2,  36.4766,2,    221.7,2,   222.6,2,    1.31,2,   0.000,2,    3.14,2,    0.07,2,    0.17,2, -999.00,9, -999.00,9,   197.8,  17.3808,    17.4163,2
316N20070207,       LMD4,      61,          1,         13,         13,2,20070107,       0138,  13.270000, -4.4133333,       5319,   251.3,  16.9807,  36.3687,2,  36.3627,2,    209.9,2,   207.3,2,    1.81,2,   0.000,2,    5.23,2,    0.05,2,    0.28,2, -999.00,9, -999.00,9,   251.3,  16.9388,    16.9583,2
316N20070207,       LMD4,      61,          1,         12,         12,2,20070107,       0138,  13.270000, -4.4133333,       5319,   299.7,  15.4696,  36.0636,2,  36.0591,2,    182.8,2,   179.3,2,    3.63,2,   0.020,2,   10.37,2,    0.02,2,    0.60,2, -999.00,9, -999.00,9,   299.7,  15.4228,    15.4738,2
316N20070207,       LMD4,      61,          1,         11,         11,2,20070107,       0138,  13.270000, -4.4133333,       5319,   350.7,  14.7234,  35.9424,2,  35.9444,2,    171.4,2,   175.4,2,    4.34,2,   0.010,2,   11.88,2,    0.02,2,    0.69,2, -999.00,9, -999.00,9,   350.7,  14.6703,    14.7331,2
316N20070207,       LMD4,      61,          1,         10,         10,2,20070107,       0138,  13.270000, -4.4133333,       5319,   401.0,  13.9110,  35.8221,2,  35.8233,2,    166.6,2,   168.1,2,    5.45,2,   0.000,2,   14.01,2,    0.02,2,    0.83,2, -999.00,9, -999.00,9,   401.0,  13.8525,    13.9172,2
316N20070207,       LMD4,      61,          1,          9,         09,2,20070107,       0138,  13.270000, -4.4133333,       5319,   448.9,  12.6755,  35.6383,2,  35.6401,2,    161.6,2,   162.3,2,    7.18,2,   0.000,2,   16.66,2,    0.01,2,    1.01,2, -999.00,9, -999.00,9,   448.9,  12.6138,    12.6762,2
316N20070207,       LMD4,      61,          1,          8,         08,2,20070107,       0138,  13.270000, -4.4133333,       5319,   499.6,  11.6493,  35.4923,2,  35.4950,2,    148.6,2,   144.4,2,    9.73,2,   0.000,2,   20.36,2,    0.01,2,    1.25,2, -999.00,9, -999.00,9,   499.6,  11.5842,    11.6425,2
316N20070207,       LMD4,      61,          1,          7,         07,2,20070107,       0138,  13.270000, -4.4133333,       5319,   550.2,  10.5469,  35.3622,2,  35.3647,2,    148.8,2,   149.4,2,   11.06,2,   0.020,2,   21.44,2,    0.02,2,    1.33,2, -999.00,9, -999.00,9,   550.2,  10.4795,    10.5551,2
316N20070207,       LMD4,      61,          1,          6,         06,2,20070107,       0138,  13.270000, -4.4133333,       5319,   600.4,   9.7702,  35.2733,2,  35.2728,2,    143.4,2,   143.7,2,   12.71,2,   0.000,2,   23.30,2,    0.01,2,    1.46,2, -999.00,9, -999.00,9,   600.4,   9.6998,     9.7686,2
316N20070207,       LMD4,      61,          1,          5,         05,2,20070107,       0138,  13.270000, -4.4133333,       5319,   649.6,   9.0601,  35.2295,2,  35.2312,2,    157.4,2,   159.8,2,   12.39,2,   0.127,2,   22.34,2,    0.01,2,    1.41,2, -999.00,9, -999.00,9,   649.6,   8.9872,     9.0650,2
316N20070207,       LMD4,      61,          1,          4,         04,2,20070107,       0138,  13.270000, -4.4133333,       5319,   725.3,   8.0719,  35.1487,2,  35.1504,2,    169.3,2,   170.0,2,   13.00,2,   0.010,2,   22.34,2,    0.01,2,    1.43,2, -999.00,9, -999.00,9,   725.3,   7.9954,     8.0801,2
316N20070207,       LMD4,      61,          1,          3,         03,2,20070107,       0138,  13.270000, -4.4133333,       5319,   799.8,   7.1388,  35.1203,2,  35.1215,2,    189.8,2,   189.3,2,   12.69,2,   0.039,2,   21.19,2,    0.01,2,    1.37,2, -999.00,9, -999.00,9,   799.8,   7.0597,     7.1389,2
316N20070207,       LMD4,      61,          1,          2,         02,2,20070107,       0138,  13.270000, -4.4133333,       5319,   899.1,   5.7808,  35.0476,2,  35.0498,2,    214.6,2,   214.6,2, -999.00,9,-999.000,9, -999.00,9, -999.00,9, -999.00,9, -999.00,9, -999.00,9,   899.1,   5.7004,     5.7663,2
316N20070207,       LMD4,      61,          1,          1,         01,2,20070107,       0138,  13.270000, -4.4133333,       5319,  1010.7,   5.0544,  35.0095,2,  35.0126,2,    238.3,2,   238.3,2, -999.00,9,-999.000,9, -999.00,9, -999.00,9, -999.00,9, -999.00,9, -999.00,9,  1010.7,   4.9688,     5.0577,2
316N20070207,       LMD4,      62,          1,         21,         21,2,20070107,       2223,  48.800000, -6.3380000,       5331,     2.9,  18.0219,  36.5751,2,  36.5805,2,    223.2,2,   224.6,2, -999.00,5,-999.000,5, -999.00,5, -999.00,5, -999.00,5, -999.00,9, -999.00,9,     2.9,  18.0213,    18.0233,2
316N20070207,       LMD4,      62,          1,         20,         20,2,20070107,       2223,  48.800000, -6.3380000,       5331,    24.8,  17.9784,  36.5724,2,  36.5733,2,    223.5,2,   223.6,2, -999.00,9,-999.000,9, -999.00,9, -999.00,9, -999.00,9, -999.00,9, -999.00,9,    24.8,  17.9741,    17.9782,2
316N20070207,       LMD4,      62,          1,         19,         19,2,20070107,       2223,  48.800000, -6.3380000,       5331,    50.2,  17.9523,  36.5710,2,  36.5713,2,    222.8,2,   221.9,2, -999.00,9,-999.000,9, -999.00,9, -999.00,9, -999.00,9, -999.00,9, -999.00,9,    50.2,  17.9436,    17.9526,2
316N20070207,       LMD4,      62,          1,         18,         18,2,20070107,       2223,  48.800000, -6.3380000,       5331,    75.0,  17.9419,  36.5684,2,  36.5691,2,    221.9,2,   220.6,2, -999.00,9,-999.000,9, -999.00,9, -999.00,9, -999.00,9, -999.00,9, -999.00,9,    75.0,  17.9289,    17.9421,2
316N20070207,       LMD4,      62,          1,         17,         17,2,20070107,       2223,  48.800000, -6.3380000,       5331,    99.9,  17.8238,  36.5356,2,  36.5475,2,    218.8,2,   215.8,2,    1.24,2,   0.059,2,    2.97,2,    0.07,2,    0.17,2, -999.00,9, -999.00,9,    99.9,  17.8066,    17.8258,2
316N20070207,       LMD4,      62,          1,         16,         16,2,20070107,       2223,  48.800000, -6.3380000,       5331,   124.7,  17.5776,  36.4817,2,  36.4819,2,    210.9,2,   208.3,2,    1.63,2,   0.000,2,    4.40,2,    0.05,2,    0.23,2, -999.00,9, -999.00,9,   124.7,  17.5563,    17.5784,2
316N20070207,       LMD4,      62,          1,         15,         15,2,20070107,       2223,  48.800000, -6.3380000,       5331,   149.3,  17.6564,  36.5155,2,  36.5198,2,    219.3,2,   219.0,2,    1.32,2,   0.000,2,    3.29,2,    0.06,2,    0.18,2, -999.00,9, -999.00,9,   149.3,  17.6309,    17.6589,2
316N20070207,       LMD4,      62,          1,         14,         14,2,20070107,       2223,  48.800000, -6.3380000,       5331,   200.4,  17.5075,  36.4777,2,  36.4783,2,    218.6,2,   216.3,2,    1.20,2,   1.719,2,    3.24,2,    0.25,2,    0.19,2, -999.00,9, -999.00,9,   200.4,  17.4734,    17.5041,2
316N20070207,       LMD4,      62,          1,         13,         13,2,20070107,       2223,  48.800000, -6.3380000,       5331,   249.5,  17.3796,  36.4445,2,  36.4437,2,    216.4,2,   222.4,2, -999.00,5,-999.000,5, -999.00,5, -999.00,5, -999.00,5, -999.00,9, -999.00,9,   249.5,  17.3373,    17.3806,2
316N20070207,       LMD4,      62,          1,         12,         12,2,20070107,       2223,  48.800000, -6.3380000,       5331,   300.6,  17.4554,  36.4702,2,  36.4712,2,    217.4,2,   219.0,2,    1.39,2,   0.000,2,    3.53,2,    0.10,2,    0.20,2, -999.00,9, -999.00,9,   300.6,  17.4042,    17.4552,2
316N20070207,       LMD4,      62,          1,         11,         11,2,20070107,       2223,  48.800000, -6.3380000,       5331,   350.1,  17.4409,  36.4688,2,  36.4676,2,    213.3,2,   224.2,2,    0.76,2,   1.963,2,    2.18,2,    0.31,2,    0.17,2, -999.00,9, -999.00,9,   350.1,  17.3813,    17.4393,2
316N20070207,       LMD4,      62,          1,         10,         10,2,20070107,       2223,  48.800000, -6.3380000,       5331,   399.8,  17.0832,  36.3740,2,  36.3749,2,    191.0,2,   194.0,2,    2.17,2,   0.000,2,    6.43,2,    0.03,2,    0.34,2, -999.00,9, -999.00,9,   399.8,  17.0160,    17.0816,2
316N20070207,       LMD4,      62,          1,          9,         09,2,20070107,       2223,  48.800000, -6.3380000,       5331,   450.3,  16.3884,  36.2365,2,  36.2353,2,    188.5,2,   191.8,2, -999.00,5,-999.000,5, -999.00,5, -999.00,5, -999.00,5, -999.00,9, -999.00,9,   450.3,  16.3148,    16.3838,2
316N20070207,       LMD4,      62,          1,          8,         08,2,20070107,       2223,  48.800000, -6.3380000,       5331,   499.0,  15.5142,  36.0803,2,  36.0796,2,    178.6,2,   180.5,2,    3.58,2,   0.000,2,   10.22,2,    0.02,2,    0.59,2, -999.00,9, -999.00,9,   499.0,  15.4355,    15.5148,2
316N20070207,       LMD4,      62,          1,          7,         07,2,20070107,       2223,  48.800000, -6.3380000,       5331,   549.7,  14.6227,  35.9310,2,  35.9311,2,    174.9,2,   171.0,2, -999.00,5,-999.000,5, -999.00,5, -999.00,5, -999.00,5, -999.00,9, -999.00,9,   549.7,  14.5394,    14.6225,2
316N20070207,       LMD4,      62,          1,          6,         06,2,20070107,       2223,  48.800000, -6.3380000,       5331,   600.3,  13.6519,  35.7763,2,  35.7778,2,    160.9,2,   158.2,2,    6.42,2,   0.000,2,   15.59,2,    0.01,2,    0.94,2, -999.00,9, -999.00,9,   600.3,  13.5648,    13.6503,2
316N20070207,       LMD4,      62,          1,          5,         05,2,20070107,       2223,  48.800000, -6.3380000,       5331,   649.4,  12.7012,  35.6404,2,  35.6412,2,    162.4,2,   161.5,2,    7.32,2,   0.000,2,   16.74,2,    0.01,2,    1.03,2, -999.00,9, -999.00,9,   649.4,  12.6112,    12.6963,2
316N20070207,       LMD4,      62,          1,          4,         04,2,20070107,       2223,  48.800000, -6.3380000,       5331,   725.6,  11.0730,  35.4236,2,  35.4265,2,    150.3,2,   150.2,2,   10.28,2,   0.000,2,   20.51,2,    0.01,2,    1.29,2, -999.00,9, -999.00,9,   725.6,  10.9806,    11.0776,2
316N20070207,       LMD4,      62,          1,          3,         03,2,20070107,       2223,  48.800000, -6.3380000,       5331,   800.6,   9.8611,  35.2831,2,  35.2842,2,    147.3,2,   147.0,2,   12.54,2,   0.000,2,   22.70,2,    0.01,2,    1.45,2, -999.00,9, -999.00,9,   800.6,   9.7659,     9.8600,2
316N20070207,       LMD4,      62,          1,          2,         02,2,20070107,       2223,  48.800000, -6.3380000,       5331,   901.0,   7.7971,  35.1255,2,  35.1260,2,    166.4,2,   167.8,2, -999.00,9,-999.000,9, -999.00,9, -999.00,9, -999.00,9, -999.00,9, -999.00,9,   901.0,   7.7030,     7.7985,2
316N20070207,       LMD4,      62,          1,          1,         01,2,20070107,       2223,  48.800000, -6.3380000,       5331,  1009.8,   6.1263,  35.0533,2,  35.0559,2,    206.5,2,   207.7,2, -999.00,9,-999.000,9, -999.00,9, -999.00,9, -999.00,9, -999.00,9, -999.00,9,  1009.8,   6.0327,     6.1191,2
316N20070207,       LMD4,      63,          1,         21,         21,2,20070108,       0750,  26.870000, -8.2240000,       4198,     3.8,  18.2866,  36.6060,2,  36.6056,2,    223.5,2,   224.2,2,    0.96,2,   0.049,2,    1.69,2,    0.15,2,    0.10,2, -999.00,9, -999.00,9,     3.8,  18.2859,    18.2869,2
316N20070207,       LMD4,      63,          1,         20,         20,2,20070108,       0750,  26.870000, -8.2240000,       4198,    24.9,  18.2916,  36.6057,2,  36.6056,2,    224.0,2,   224.2,2, -999.00,9,-999.000,9, -999.00,9, -999.00,9, -999.00,9, -999.00,9, -999.00,9,    24.9,  18.2873,    18.2921,2
316N20070207,       LMD4,      63,          1,         19,         19,2,20070108,       0750,  26.870000, -8.2240000,       4198,    50.0,  18.2933,  36.6059,2,  36.6052,2,    224.5,2,   224.0,2, -999.00,9,-999.000,9, -999.00,9, -999.00,9, -999.00,9, -999.00,9, -999.00,9,    50.0,  18.2846,    18.2939,2
316N20070207,       LMD4,      63,          1,         18,         18,2,20070108,       0750,  26.870000, -8.2240000,       4198,    75.0,  18.3009,  36.6054,2,  36.6054,2,    224.1,2,   223.9,2, -999.00,9,-999.000,9, -999.00,9, -999.00,9, -999.00,9, -999.00,9, -999.00,9,    75.0,  18.2878,    18.2997,2
316N20070207,       LMD4,      63,          1,         17,         17,2,20070108,       0750,  26.870000, -8.2240000,       4198,   100.1,  18.3047,  36.6052,2,  36.6052,2,    223.7,2,   223.9,2,    0.94,2,   0.078,2,    1.73,2,    0.16,2,    0.10,2, -999.00,9, -999.00,9,   100.1,  18.2872,    18.3050,2
316N20070207,       LMD4,      63,          1,         16,         16,2,20070108,       0750,  26.870000, -8.2240000,       4198,   125.5,  18.2977,  36.6038,2,  36.6039,2,    223.2,2,   224.3,2,    0.92,2,   0.059,2,    1.78,2,    0.15,2,    0.10,2, -999.00,9, -999.00,9,   125.5,  18.2757,    18.2984,2
316N20070207,       LMD4,      63,          1,         15,         15,2,20070108,       0750,  26.870000, -8.2240000,       4198,   150.0,  18.2861,  36.6016,2,  36.6008,2,    222.8,2,   222.9,2,    0.91,2,   0.000,2,    1.87,2,    0.15,2,    0.10,2, -999.00,9, -999.00,9,   150.0,  18.2598,    18.2866,2
316N20070207,       LMD4,      63,          1,         14,         14,2,20070108,       0750,  26.870000, -8.2240000,       4198,   199.6,  18.2776,  36.6007,2,  36.5998,2,    223.0,2,   223.8,2,    0.89,2,   0.029,2,    1.83,2,    0.15,2,    0.10,2, -999.00,9, -999.00,9,   199.6,  18.2426,    18.2779,2
316N20070207,       LMD4,      63,          1,         13,         13,2,20070108,       0750,  26.870000, -8.2240000,       4198,   249.3,  18.2435,  36.5944,2,  36.5938,2,    221.9,2,   222.4,2,    0.98,2,   0.000,2,    2.04,2,    0.11,2,    0.11,2, -999.00,9, -999.00,9,   249.3,  18.1998,    18.2440,2
316N20070207,       LMD4,      63,          1,         12,         12,2,20070108,       0750,  26.870000, -8.2240000,       4198,   299.4,  18.2101,  36.5838,2,  36.5827,2,    214.9,2,   216.6,2,    1.06,2,   0.000,2,    2.63,2,    0.07,2,    0.13,2, -999.00,9, -999.00,9,   299.4,  18.1577,    18.2102,2
316N20070207,       LMD4,      63,          1,         11,         11,2,20070108,       0750,  26.870000, -8.2240000,       4198,   350.2,  18.1155,  36.5669,2,  36.5664,2,    210.3,2,   210.5,2,    1.25,2,   0.000,2,    3.38,2,    0.04,2,    0.17,2, -999.00,9, -999.00,9,   350.2,  18.0543,    18.1159,2
316N20070207,       LMD4,      63,          1,         10,         10,2,20070108,       0750,  26.870000, -8.2240000,       4198,   400.4,  17.8622,  36.5180,2,  36.5184,2,    204.6,2,   203.0,2,    1.44,2,   0.000,2,    4.44,2,    0.03,2,    0.22,2, -999.00,9, -999.00,9,   400.4,  17.7928,    17.8609,2
316N20070207,       LMD4,      63,          1,          9,         09,2,20070108,       0750,  26.870000, -8.2240000,       4198,   450.2,  17.4318,  36.4356,2,  36.4342,2,    195.1,2,   195.1,2,    1.93,2,   0.039,2,    5.86,2,    0.03,2,    0.30,2, -999.00,9, -999.00,9,   450.2,  17.3550,    17.4308,2
316N20070207,       LMD4,      63,          1,          8,         08,2,20070108,       0750,  26.870000, -8.2240000,       4198,   500.0,  16.9144,  36.3347,2,  36.3296,2,    188.9,2,   186.6,2,    2.12,2,   0.137,2,    6.47,2,    0.02,2,    0.38,2, -999.00,9, -999.00,9,   500.0,  16.8308,    16.9139,2
316N20070207,       LMD4,      63,          1,          7,         07,2,20070108,       0750,  26.870000, -8.2240000,       4198,   550.5,  16.3187,  36.2270,2,  36.2289,2,    180.3,2,   181.3,2,    3.02,2,   0.000,2,    8.94,2,    0.02,2,    0.50,2, -999.00,9, -999.00,9,   550.5,  16.2287,    16.3213,2
316N20070207,       LMD4,      63,          1,          6,         06,2,20070108,       0750,  26.870000, -8.2240000,       4198,   599.6,  15.5009,  36.0827,2,  36.0808,2,    174.8,2,   175.2,2,    3.93,2,   0.000,2,   10.87,2,    0.02,2,    0.63,2, -999.00,9, -999.00,9,   599.6,  15.4062,    15.5010,2
316N20070207,       LMD4,      63,          1,          5,         05,2,20070108,       0750,  26.870000, -8.2240000,       4198,   650.4,  14.8969,  35.9788,2,  35.9788,2,    171.0,2,   171.3,2,    4.43,2,   0.000,2,   11.93,2,    0.02,2,    0.70,2, -999.00,9, -999.00,9,   650.4,  14.7967,    14.8944,2
316N20070207,       LMD4,      63,          1,          4,         04,2,20070108,       0750,  26.870000, -8.2240000,       4198,   724.8,  13.3944,  35.7458,2,  35.7531,2,    158.5,2,   158.0,2,    6.66,2,   0.039,2,   15.90,2,    0.02,2,    0.96,2, -999.00,9, -999.00,9,   724.8,  13.2901,    13.4563,2
316N20070207,       LMD4,      63,          1,          3,         03,2,20070108,       0750,  26.870000, -8.2240000,       4198,   800.6,  11.7435,  35.5073,2,  35.5080,2,    148.9,2,   149.3,2,    9.13,2,   0.147,2,   18.96,2,    0.01,2,    1.18,2, -999.00,9, -999.00,9,   800.6,  11.6373,    11.6596,2
316N20070207,       LMD4,      63,          1,          2,         02,2,20070108,       0750,  26.870000, -8.2240000,       4198,   871.3,  10.3924,  35.3454,2,  35.3465,2,    150.9,2,   150.7,2, -999.00,9,-999.000,9, -999.00,9, -999.00,9, -999.00,9, -999.00,9, -999.00,9,   871.3,  10.2850,    10.3999,2
316N20070207,       LMD4,      63,          1,          1,         01,2,20070108,       0750,  26.870000, -8.2240000,       4198,  1015.4,   7.8003,  35.1223,2,  35.1223,2,    168.4,2,   168.3,2, -999.00,9,-999.000,9, -999.00,9, -999.00,9, -999.00,9, -999.00,9, -999.00,9,  1015.4,   7.6935,     7.8014,2