BOTTLE,20230728SIOCCHCBG
EXPOCODE,SECT_ID,STNNBR,CASTNO,SAMPNO,BTLNBR,BTLNBR_FLAG_W,DATE,TIME,LATITUDE,LONGITUDE,DEPTH,CTDPRS,CTDTMP,CTDSAL,CTDSAL_FLAG_W,SALNTY,SALNTY_FLAG_W,CTDOXY,CTDOXY_FLAG_W,OXYGEN,OXYGEN_FLAG_W,SILCAT,SILCAT_FLAG_W,NH4,NH4_FLAG_W,NITRAT,NITRAT_FLAG_W,NITRIT,NITRIT_FLAG_W,PHSPHT,PHSPHT_FLAG_W,TCARBN,TCARBN_FLAG_W,ALKALI,ALKALI_FLAG_W,CTDRAW,THETA,SBE35T,SBE35T_FLAG_W
,,,,,,,,,,,METERS,DBAR,ITS-90,PSS-78,,PSS-78,,UMOL/KG,,UMOL/KG,,UMOL/KG,,UMOL/KG,,UMOL/KG,,UMOL/KG,,UMOL/KG,,UMOL/KG,,UMOL/KG,,DBAR,DEG C,ITS-90,
316N20070207,       LMD4,      11,          1,         24,         24,2,20070102,       1905,  32.930000, -5.8203333,       4664,     8.0,  13.1586,  35.1437,2,  35.1443,2,    236.1,2,   236.0,2,    3.20,2,   0.020,2,    6.10,2,    0.11,2,    0.48,2, 2091.79,2, 2326.05,2,     8.0,  13.1575,    13.1526,2
316N20070207,       LMD4,      11,          1,         23,         23,9,20070102,       1905,  32.930000, -5.8203333,       4664,     8.5,  13.1561,  35.1434,2,-999.0000,9,   -999.0,9,  -999.0,9, -999.00,9,-999.000,9, -999.00,9, -999.00,9, -999.00,9, -999.00,9, -999.00,9,     8.5,  13.1549,    13.1574,2
316N20070207,       LMD4,      11,          1,         22,         22,2,20070102,       1905,  32.930000, -5.8203333,       4664,    26.7,  13.1532,  35.1425,2,  35.1447,2,    237.1,2,   236.7,2, -999.00,9,-999.000,9, -999.00,9, -999.00,9, -999.00,9, 2092.50,2, 2325.92,2,    26.7,  13.1495,    13.1520,2
316N20070207,       LMD4,      11,          1,         21,         21,2,20070102,       1905,  32.930000, -5.8203333,       4664,    51.3,  13.1419,  35.1404,2,  35.1408,2,    237.3,2,   235.7,2, -999.00,9,-999.000,9, -999.00,9, -999.00,9, -999.00,9, 2091.00,2, 2320.20,2,    51.3,  13.1348,    13.1448,2
316N20070207,       LMD4,      11,          1,         20,         20,2,20070102,       1905,  32.930000, -5.8203333,       4664,    75.7,  13.1544,  35.1719,2,  35.1801,2,    238.1,2,   235.0,2, -999.00,9,-999.000,9, -999.00,9, -999.00,9, -999.00,9, 2094.06,2, 2322.68,2,    75.7,  13.1439,    13.1652,2
316N20070207,       LMD4,      11,          1,         18,         18,2,20070102,       1905,  32.930000, -5.8203333,       4664,   102.2,  13.0404,  35.2279,2,  35.2288,2,   -999.0,9,  -999.0,5,    2.96,2,   0.156,2,    5.47,2,    0.14,2,    0.44,2, 2091.69,2, 2319.85,2,   102.2,  13.0264,    13.0390,2
316N20070207,       LMD4,      11,          1,         19,         19,9,20070102,       1905,  32.930000, -5.8203333,       4664,   102.3,  13.0443,  35.2284,2,-999.0000,9,   -999.0,9,  -999.0,9, -999.00,9,-999.000,9, -999.00,9, -999.00,9, -999.00,9, -999.00,9, -999.00,9,   102.3,  13.0302,    13.0438,2
316N20070207,       LMD4,      11,          1,         17,         17,2,20070102,       1905,  32.930000, -5.8203333,       4664,   122.9,  13.0168,  35.2343,2,  35.2355,2,    238.9,2,   241.2,2,    2.30,2,   0.762,2,    4.54,2,    0.13,2,    0.40,2, 2094.11,2, 2341.84,2,   122.9,  12.9999,    13.0322,2
316N20070207,       LMD4,      11,          1,         16,         16,2,20070102,       1905,  32.930000, -5.8203333,       4664,   175.1,  13.2057,  35.6703,2,  35.6735,2,    143.5,2,   142.8,2,    7.48,2,   0.156,2,   17.10,2,    0.02,2,    1.06,2, 2164.63,2, 2345.78,2,   175.1,  13.1813,    13.1921,2
316N20070207,       LMD4,      11,          1,         15,         15,9,20070102,       1905,  32.930000, -5.8203333,       4664,   175.3,  13.2260,  35.6698,2,-999.0000,9,   -999.0,9,  -999.0,9, -999.00,9,-999.000,9, -999.00,9, -999.00,9, -999.00,9, -999.00,9, -999.00,9,   175.3,  13.2015,    13.2130,2
316N20070207,       LMD4,      11,          1,         14,         14,2,20070102,       1905,  32.930000, -5.8203333,       4664,   226.3,  11.8333,  35.5031,2,  35.5026,2,    131.9,2,   132.3,2,   10.67,2,   0.059,2,   21.70,2,    0.01,2,    1.35,2, 2179.40,2, 2334.94,2,   226.3,  11.8039,    11.8287,2
316N20070207,       LMD4,      11,          1,         13,         13,2,20070102,       1905,  32.930000, -5.8203333,       4664,   275.5,  10.8234,  35.3769,2,  35.3774,2,    132.2,2,   132.3,2,   12.26,2,   0.088,2,   23.28,2,    0.02,2,    1.46,2, 2182.91,2, 2329.53,2,   275.5,  10.7895,    10.8087,2
316N20070207,       LMD4,      11,          1,         12,         12,2,20070102,       1905,  32.930000, -5.8203333,       4664,   326.6,   9.6493,  35.2511,2,  35.2499,2,    136.3,2,   136.4,2,   12.56,2,   0.342,2,   22.16,2,    0.04,2,    1.44,2, 2184.46,2, 2324.36,2,   326.6,   9.6119,     9.6491,2
316N20070207,       LMD4,      11,          1,         11,         11,9,20070102,       1905,  32.930000, -5.8203333,       4664,   376.4,   8.6585,  35.1630,2,-999.0000,9,   -999.0,9,  -999.0,9, -999.00,9,-999.000,9, -999.00,9, -999.00,9, -999.00,9, -999.00,9, -999.00,9,   376.4,   8.6181,     8.6598,2
316N20070207,       LMD4,      11,          1,         10,         10,2,20070102,       1905,  32.930000, -5.8203333,       4664,   426.4,   7.7612,  35.1185,2,  35.1154,2,    163.7,2,   162.3,2,   14.26,2,   0.205,2,   23.22,2,    0.03,2,    1.51,2, 2184.51,2, 2321.56,2,   426.4,   7.7180,     7.7581,2
316N20070207,       LMD4,      11,          1,          9,         09,9,20070102,       1905,  32.930000, -5.8203333,       4664,   476.3,   7.0672,  35.0901,2,-999.0000,9,   -999.0,9,  -999.0,9, -999.00,9,-999.000,9, -999.00,9, -999.00,9, -999.00,9, -999.00,9, -999.00,9,   476.3,   7.0213,     7.0666,2
316N20070207,       LMD4,      11,          1,          8,         08,2,20070102,       1905,  32.930000, -5.8203333,       4664,   528.0,   6.3890,  35.0671,2,  35.0687,2,    196.3,2,   195.5,2,   13.15,2,   0.156,2,   20.85,2,    0.02,2,    1.38,2, 2177.74,2, 2314.79,2,   528.0,   6.3407,     6.3897,2
316N20070207,       LMD4,      11,          1,          7,         07,9,20070102,       1905,  32.930000, -5.8203333,       4664,   576.5,   5.7970,  35.0413,2,-999.0000,9,   -999.0,9,  -999.0,9, -999.00,9,-999.000,9, -999.00,9, -999.00,9, -999.00,9, -999.00,9, -999.00,9,   576.5,   5.7467,     5.7961,2
316N20070207,       LMD4,      11,          1,          6,         06,2,20070102,       1905,  32.930000, -5.8203333,       4664,   628.9,   5.5288,  35.0320,2,  35.0329,2,    219.3,2,   219.2,2,    9.69,2,   0.244,2,   15.49,2,    0.02,2,    1.17,2, 2171.84,2, 2312.66,2,   628.9,   5.4750,     5.5263,2
316N20070207,       LMD4,      11,          1,          5,         05,2,20070102,       1905,  32.930000, -5.8203333,       4664,   679.5,   5.1471,  35.0165,2,  35.0157,2,    228.7,2,   230.9,2,   11.82,2,   0.108,2,   18.46,2,    0.00,2,    1.24,2, 2168.38,2, 2312.49,2,   679.5,   5.0907,     5.1475,2
316N20070207,       LMD4,      11,          1,          4,         04,2,20070102,       1905,  32.930000, -5.8203333,       4664,   755.5,   4.9264,  35.0108,2,  35.0112,2,    237.8,2,   237.2,2,   12.22,2,   0.059,2,   19.08,2,    0.01,2,    1.25,2, 2166.09,2, 2310.87,2,   755.5,   4.8646,     4.9248,2
316N20070207,       LMD4,      11,          1,          3,         03,9,20070102,       1905,  32.930000, -5.8203333,       4664,   851.9,   4.5854,  34.9892,2,-999.0000,9,   -999.0,9,  -999.0,9, -999.00,9,-999.000,9, -999.00,9, -999.00,9, -999.00,9, -999.00,9, -999.00,9,   851.9,   4.5173,     4.5843,2
316N20070207,       LMD4,      11,          1,          2,         02,2,20070102,       1905,  32.930000, -5.8203333,       4664,   951.2,   4.3019,  34.9667,2,  34.9663,2,    257.5,2,   256.9,2, -999.00,9,-999.000,9, -999.00,9, -999.00,9, -999.00,9, -999.00,9, -999.00,9,   951.2,   4.2274,     4.3017,2
316N20070207,       LMD4,      11,          1,          1,         01,2,20070102,       1905,  32.930000, -5.8203333,       4664,  1016.6,   4.2956,  34.9796,2,  34.9809,2,    255.4,2,   256.0,2, -999.00,9,-999.000,9, -999.00,9, -999.00,9, -999.00,9, 2160.59,2, 2311.58,2,  1016.6,   4.2154,     4.2842,2
316N20070207,       LMD4,      12,          1,         23,         23,9,20070102,       2214,  45.530000, -5.7701667,       4657,     2.9,   9.9536,  33.9360,2,-999.0000,9,   -999.0,9,  -999.0,9, -999.00,9,-999.000,9, -999.00,9, -999.00,9, -999.00,9, -999.00,9, -999.00,9,     2.9,   9.9533,     9.9554,2
316N20070207,       LMD4,      12,          1,         24,         24,2,20070102,       2214,  45.530000, -5.7701667,       4657,     3.2,   9.9411,  33.9335,2,  33.9331,2,    273.5,2,   273.9,2,    2.58,2,   0.166,2,    4.01,2,    0.11,2,    0.44,2, 2061.79,2, 2265.38,2,     3.2,   9.9408,     9.9476,2
316N20070207,       LMD4,      12,          1,         22,         22,2,20070102,       2214,  45.530000, -5.7701667,       4657,    26.4,  11.6377,  34.4188,2,  34.3975,3,    263.6,2,   257.9,2, -999.00,9,-999.000,9, -999.00,9, -999.00,9, -999.00,9, 2072.82,2, 2289.44,2,    26.4,  11.6344,    11.6337,2
316N20070207,       LMD4,      12,          1,         21,         21,2,20070102,       2214,  45.530000, -5.7701667,       4657,    62.9,  13.1175,  34.8896,7,  34.8846,2,    242.4,2,   242.6,2, -999.00,9,-999.000,9, -999.00,9, -999.00,9, -999.00,9, 2079.52,2, 2309.53,2,    62.9,  13.1089,    13.1199,2
316N20070207,       LMD4,      12,          1,         20,         20,2,20070102,       2214,  45.530000, -5.7701667,       4657,   100.3,  14.2380,  35.4565,2,  35.4552,2,    195.4,2,   199.5,2,    4.56,2,   0.166,2,    9.27,2,    0.03,2,    0.62,2, 2118.85,2, 2336.75,2,   100.3,  14.2233,    14.2378,2
316N20070207,       LMD4,      12,          1,         19,         19,9,20070102,       2214,  45.530000, -5.7701667,       4657,   101.1,  14.2377,  35.4568,2,-999.0000,9,   -999.0,9,  -999.0,9, -999.00,9,-999.000,9, -999.00,9, -999.00,9, -999.00,9, -999.00,9, -999.00,9,   101.1,  14.2229,    14.2384,2
316N20070207,       LMD4,      12,          1,         18,         18,2,20070102,       2214,  45.530000, -5.7701667,       4657,   125.9,  14.6349,  35.7050,2,  35.7751,3,    174.7,2,   168.7,2,    5.18,2,   0.020,2,   11.97,2,    0.02,2,    0.75,2, 2138.03,2, 2352.40,2,   125.9,  14.6161,    14.6530,2
316N20070207,       LMD4,      12,          1,         17,         17,2,20070102,       2214,  45.530000, -5.7701667,       4657,   151.4,  14.7330,  35.9150,2,  35.9126,2,    149.2,2,   150.8,2,    4.83,2,   0.254,2,   12.37,2,    0.04,2,    0.82,2, 2155.71,2, 2358.83,2,   151.4,  14.7102,    14.7317,2
316N20070207,       LMD4,      12,          1,         16,         16,2,20070102,       2214,  45.530000, -5.7701667,       4657,   200.0,  12.5070,  35.5939,2,  35.6035,2,    149.5,2,   146.5,2,    6.61,2,   0.332,2,   14.57,2,    0.03,2,    1.05,2, 2166.44,2, 2336.47,2,   200.0,  12.4801,    12.4951,2
316N20070207,       LMD4,      12,          1,         15,         15,9,20070102,       2214,  45.530000, -5.7701667,       4657,   200.3,  12.5104,  35.5953,2,-999.0000,9,   -999.0,9,  -999.0,9, -999.00,9,-999.000,9, -999.00,9, -999.00,9, -999.00,9, -999.00,9, -999.00,9,   200.3,  12.4834,    12.5035,2
316N20070207,       LMD4,      12,          1,         14,         14,2,20070102,       2214,  45.530000, -5.7701667,       4657,   251.1,  10.7052,  35.2896,2,  35.2911,2,    154.5,2,   150.4,2,   10.45,2,   0.078,2,   20.32,2,    0.01,2,    1.29,2, 2167.92,2, 2321.64,2,   251.1,  10.6745,    10.6992,2
316N20070207,       LMD4,      12,          1,         13,         13,2,20070102,       2214,  45.530000, -5.7701667,       4657,   301.3,   8.8959,  35.0285,2,  35.0264,2,    165.2,2,   163.8,2,   10.97,2,   0.137,2,   19.22,2,    0.01,2,    1.32,2, 2175.23,2, 2309.60,2,   301.3,   8.8632,     8.8931,2
316N20070207,       LMD4,      12,          1,         11,         11,9,20070102,       2214,  45.530000, -5.7701667,       4657,   349.8,   8.3390,  35.0800,2,-999.0000,9,   -999.0,9,  -999.0,9, -999.00,9,-999.000,9, -999.00,9, -999.00,9, -999.00,9, -999.00,9, -999.00,9,   349.8,   8.3023,     8.3573,2
316N20070207,       LMD4,      12,          1,         12,         12,2,20070102,       2214,  45.530000, -5.7701667,       4657,   350.5,   8.3650,  35.0803,2,  35.0770,2,    155.7,2,   157.6,2,   12.01,2,   0.117,2,   20.55,2,    0.01,2,    1.39,2, 2181.62,2, 2313.59,2,   350.5,   8.3281,     8.3664,2
316N20070207,       LMD4,      12,          1,         10,         10,2,20070102,       2214,  45.530000, -5.7701667,       4657,   401.1,   7.8451,  35.1212,2,  35.1189,2,    162.2,2,   161.9,2,   14.14,2,   0.108,2,   23.23,2,    0.02,2,    1.52,2, 2173.28,2, 2319.46,2,   401.1,   7.8043,     7.8511,2
316N20070207,       LMD4,      12,          1,          9,         09,9,20070102,       2214,  45.530000, -5.7701667,       4657,   449.8,   6.9068,  35.0741,2,-999.0000,9,   -999.0,9,  -999.0,9, -999.00,9,-999.000,9, -999.00,9, -999.00,9, -999.00,9, -999.00,9, -999.00,9,   449.8,   6.8642,     6.9077,2
316N20070207,       LMD4,      12,          1,          8,         08,2,20070102,       2214,  45.530000, -5.7701667,       4657,   500.4,   6.3598,  35.0594,2,  35.0581,2,    194.3,2,   197.0,2,   13.47,2,   0.088,2,   21.51,2,    0.01,2,    1.41,2, 2173.36,2, 2312.45,2,   500.4,   6.3142,     6.3572,2
316N20070207,       LMD4,      12,          1,          7,         07,9,20070102,       2214,  45.530000, -5.7701667,       4657,   549.9,   5.7979,  35.0444,2,-999.0000,9,   -999.0,9,  -999.0,9, -999.00,9,-999.000,9, -999.00,9, -999.00,9, -999.00,9, -999.00,9, -999.00,9,   549.9,   5.7500,     5.7960,2
316N20070207,       LMD4,      12,          1,          6,         06,2,20070102,       2214,  45.530000, -5.7701667,       4657,   600.4,   5.4559,  35.0399,2,  35.0402,2,    223.0,2,   223.9,2,   12.36,2,   0.039,2,   19.55,2,    0.01,2,    1.29,2, 2167.98,2, 2312.88,2,   600.4,   5.4050,     5.4574,2
316N20070207,       LMD4,      12,          1,          5,         05,2,20070102,       2214,  45.530000, -5.7701667,       4657,   650.9,   5.1333,  35.0245,2,  35.0246,2,    233.7,2,   233.0,2,   12.24,2,   0.078,2,   19.17,2,    0.01,2,    1.27,2, 2165.15,2, 2308.39,2,   650.9,   5.0795,     5.1333,2
316N20070207,       LMD4,      12,          1,          4,         04,2,20070102,       2214,  45.530000, -5.7701667,       4657,   726.1,   4.9178,  35.0146,2,  35.0140,2,    240.5,2,   239.4,2,   11.56,2,   0.186,2,   18.30,2,    0.02,2,    1.21,2, 2165.73,2, 2309.24,2,   726.1,   4.8586,     4.9180,2
316N20070207,       LMD4,      12,          1,          3,         03,9,20070102,       2214,  45.530000, -5.7701667,       4657,   800.5,   4.7065,  35.0040,2,-999.0000,9,   -999.0,9,  -999.0,9, -999.00,9,-999.000,9, -999.00,9, -999.00,9, -999.00,9, -999.00,9, -999.00,9,   800.5,   4.6421,     4.7056,2
316N20070207,       LMD4,      12,          1,          2,         02,2,20070102,       2214,  45.530000, -5.7701667,       4657,   900.0,   4.4938,  34.9929,2,  34.9945,2,    252.6,2,   252.4,2, -999.00,9,-999.000,9, -999.00,9, -999.00,9, -999.00,9, -999.00,9, -999.00,9,   900.0,   4.4223,     4.4935,2
316N20070207,       LMD4,      12,          1,          1,         01,2,20070102,       2214,  45.530000, -5.7701667,       4657,  1005.5,   4.3235,  34.9825,2,  34.9839,2,    256.6,2,   256.9,2, -999.00,9,-999.000,9, -999.00,9, -999.00,9, -999.00,9, 2160.60,2, 2308.23,2,  1005.5,   4.2441,     4.3214,2