BOTTLE,20230728SIOCCHCBG
EXPOCODE,SECT_ID,STNNBR,CASTNO,SAMPNO,BTLNBR,BTLNBR_FLAG_W,DATE,TIME,LATITUDE,LONGITUDE,DEPTH,CTDPRS,CTDTMP,CTDSAL,CTDSAL_FLAG_W,SALNTY,SALNTY_FLAG_W,CTDOXY,CTDOXY_FLAG_W,OXYGEN,OXYGEN_FLAG_W,SILCAT,SILCAT_FLAG_W,NH4,NH4_FLAG_W,NITRAT,NITRAT_FLAG_W,NITRIT,NITRIT_FLAG_W,PHSPHT,PHSPHT_FLAG_W,TCARBN,TCARBN_FLAG_W,ALKALI,ALKALI_FLAG_W,CTDRAW,THETA,SBE35T,SBE35T_FLAG_W
,,,,,,,,,,,METERS,DBAR,ITS-90,PSS-78,,PSS-78,,UMOL/KG,,UMOL/KG,,UMOL/KG,,UMOL/KG,,UMOL/KG,,UMOL/KG,,UMOL/KG,,UMOL/KG,,UMOL/KG,,DBAR,DEG C,ITS-90,
316N20070207,       LMD4,      42,          1,         21,         21,2,  -999.0,     -999.0,   3.690000, -6.3176667,          0,     5.8,   8.3098,  33.7560,2,  33.7554,2,    291.5,2,   292.1,2,    1.23,2,   0.440,2,    2.84,2,    0.11,2,    0.36,2, -999.00,9, -999.00,9,     5.8,   8.3092,     8.3105,2
316N20070207,       LMD4,      42,          1,         20,         20,2,  -999.0,     -999.0,   3.690000, -6.3176667,          0,    25.0,   8.3706,  33.7995,2,  33.8011,2,    292.7,2,   288.5,2, -999.00,9,-999.000,9, -999.00,9, -999.00,9, -999.00,9, -999.00,9, -999.00,9,    25.0,   8.3681,     8.3615,2
316N20070207,       LMD4,      42,          1,         19,         19,2,  -999.0,     -999.0,   3.690000, -6.3176667,          0,    50.3,   9.8014,  34.3165,2,  34.3220,2,    271.0,2,   270.4,2, -999.00,9,-999.000,9, -999.00,9, -999.00,9, -999.00,9, -999.00,9, -999.00,9,    50.3,   9.7957,     9.7991,2
316N20070207,       LMD4,      42,          1,         18,         18,2,  -999.0,     -999.0,   3.690000, -6.3176667,          0,    74.9,  11.3645,  34.8382,2,  34.8940,2,    255.3,2,   242.1,2, -999.00,9,-999.000,9, -999.00,9, -999.00,9, -999.00,9, -999.00,9, -999.00,9,    74.9,  11.3551,    11.3892,2
316N20070207,       LMD4,      42,          1,         17,         17,2,  -999.0,     -999.0,   3.690000, -6.3176667,          0,    99.5,  12.1032,  35.1516,2,  35.1524,2,    224.1,2,   225.0,2, -999.00,9,-999.000,9, -999.00,9, -999.00,9, -999.00,9, -999.00,9, -999.00,9,    99.5,  12.0902,    12.1066,2
316N20070207,       LMD4,      42,          1,         16,         16,2,  -999.0,     -999.0,   3.690000, -6.3176667,          0,   125.9,  12.4982,  35.3319,2,  35.3291,2,    217.5,2,   217.7,2,    4.58,2,   0.020,2,    9.97,2,    0.12,2,    0.66,2, -999.00,9, -999.00,9,   125.9,  12.4813,    12.4890,2
316N20070207,       LMD4,      42,          1,         15,         15,2,  -999.0,     -999.0,   3.690000, -6.3176667,          0,   149.2,  12.7808,  35.5447,2,  35.5444,2,    187.5,2,   167.3,2,    7.12,2,   0.000,2,   15.72,2,    0.04,2,    0.98,2, -999.00,9, -999.00,9,   149.2,  12.7604,    12.7710,2
316N20070207,       LMD4,      42,          1,         14,         14,2,  -999.0,     -999.0,   3.690000, -6.3176667,          0,   198.7,  11.4849,  35.4616,2,  35.4603,2,    140.1,2,   137.9,2,    8.35,2,   0.450,2,   17.56,2,    0.03,2,    1.21,2, -999.00,9, -999.00,9,   198.7,  11.4596,    11.4823,2
316N20070207,       LMD4,      42,          1,         13,         13,3,  -999.0,     -999.0,   3.690000, -6.3176667,          0,   250.3,   9.9192,  35.2830,2,  35.2819,2,    136.5,2,   137.7,2,   12.86,2,   0.039,2,   23.64,2,    0.02,2,    1.51,2, -999.00,9, -999.00,9,   250.3,   9.8901,     9.9190,2
316N20070207,       LMD4,      42,          1,         12,         12,2,  -999.0,     -999.0,   3.690000, -6.3176667,          0,   300.9,   8.4760,  35.1584,2,  35.1575,2,    149.2,2,   149.2,2,   12.96,2,   1.144,2,   22.45,2,    0.06,2,    1.46,2, -999.00,9, -999.00,9,   300.9,   8.4442,     8.4765,2
316N20070207,       LMD4,      42,          1,         11,         11,2,  -999.0,     -999.0,   3.690000, -6.3176667,          0,   349.0,   7.5963,  35.1171,2,  35.1173,2,    168.1,2,   167.0,2,   11.51,2,   1.613,2,   19.66,2,    0.04,2,    1.35,2, -999.00,9, -999.00,9,   349.0,   7.5616,     7.5927,2
316N20070207,       LMD4,      42,          1,         10,         10,2,  -999.0,     -999.0,   3.690000, -6.3176667,          0,   400.4,   6.5349,  35.0655,2,  35.0639,2,    189.7,2,   192.9,2,   12.84,2,   0.088,2,   21.12,2,    0.01,2,    1.39,2, -999.00,9, -999.00,9,   400.4,   6.4982,     6.5348,2
316N20070207,       LMD4,      42,          1,          9,         09,2,  -999.0,     -999.0,   3.690000, -6.3176667,          0,   449.8,   6.0380,  35.0526,2,  35.0557,2,    204.5,2,   205.4,2, -999.00,9,-999.000,9, -999.00,9, -999.00,9, -999.00,9, -999.00,9, -999.00,9,   449.8,   5.9983,     6.0311,2
316N20070207,       LMD4,      42,          1,          8,         08,2,  -999.0,     -999.0,   3.690000, -6.3176667,          0,   500.9,   5.6818,  35.0337,2,  35.0350,2,    217.4,2,   214.4,2, -999.00,9,-999.000,9, -999.00,9, -999.00,9, -999.00,9, -999.00,9, -999.00,9,   500.9,   5.6388,     5.6827,2
316N20070207,       LMD4,      42,          1,          7,         07,2,  -999.0,     -999.0,   3.690000, -6.3176667,          0,   549.6,   5.3397,  35.0281,2,  35.0300,2,    227.1,2,   225.5,2, -999.00,9,-999.000,9, -999.00,9, -999.00,9, -999.00,9, -999.00,9, -999.00,9,   549.6,   5.2938,     5.3377,2
316N20070207,       LMD4,      42,          1,          6,         06,2,  -999.0,     -999.0,   3.690000, -6.3176667,          0,   601.5,   5.0710,  35.0202,2,  35.0235,2,    232.0,2,   232.9,2, -999.00,9,-999.000,9, -999.00,9, -999.00,9, -999.00,9, -999.00,9, -999.00,9,   601.5,   5.0218,     5.0717,2
316N20070207,       LMD4,      42,          1,          5,         05,2,  -999.0,     -999.0,   3.690000, -6.3176667,          0,   649.8,   4.9555,  35.0177,2,  35.0178,2,    237.5,2,   237.2,2, -999.00,9,-999.000,9, -999.00,9, -999.00,9, -999.00,9, -999.00,9, -999.00,9,   649.8,   4.9027,     4.9531,2
316N20070207,       LMD4,      42,          1,          4,         04,2,  -999.0,     -999.0,   3.690000, -6.3176667,          0,   726.5,   4.7783,  35.0128,2,  35.0160,2,    243.0,2,   243.2,2, -999.00,9,-999.000,9, -999.00,9, -999.00,9, -999.00,9, -999.00,9, -999.00,9,   726.5,   4.7198,     4.7780,2
316N20070207,       LMD4,      42,          1,          3,         03,2,  -999.0,     -999.0,   3.690000, -6.3176667,          0,   801.6,   4.5106,  34.9919,2,  34.9921,2,    249.4,2,   253.1,3, -999.00,9,-999.000,9, -999.00,9, -999.00,9, -999.00,9, -999.00,9, -999.00,9,   801.6,   4.4473,     4.5087,2
316N20070207,       LMD4,      42,          1,          2,         02,2,  -999.0,     -999.0,   3.690000, -6.3176667,          0,   901.3,   4.3151,  34.9816,2,  34.9823,2,    255.1,2,   254.8,2, -999.00,9,-999.000,9, -999.00,9, -999.00,9, -999.00,9, -999.00,9, -999.00,9,   901.3,   4.2446,     4.3149,2
316N20070207,       LMD4,      42,          1,          1,         01,2,  -999.0,     -999.0,   3.690000, -6.3176667,          0,  1014.2,   4.1387,  34.9702,2,  34.9714,2,    259.3,2,   259.6,2, -999.00,9,-999.000,9, -999.00,9, -999.00,9, -999.00,9, -999.00,9, -999.00,9,  1014.2,   4.0600,     4.1376,2
316N20070207,       LMD4,      43,          1,         24,         24,2,  -999.0,     -999.0,  16.060000, -6.4128333,       2088,     9.2,   6.9936,  33.2598,2,  33.2606,2,    308.3,7,   308.3,2,    1.57,2,   0.186,2,    2.39,2,    0.13,2,    0.39,2, -999.00,9, -999.00,9,     9.2,   6.9928,     6.9921,2
316N20070207,       LMD4,      43,          1,         23,         23,2,  -999.0,     -999.0,  16.060000, -6.4128333,       2088,    24.4,   7.0265,  33.2756,2,  33.2616,2,    308.8,2,   308.6,2, -999.00,9,-999.000,9, -999.00,9, -999.00,9, -999.00,9, -999.00,9, -999.00,9,    24.4,   7.0243,     7.0153,2
316N20070207,       LMD4,      43,          1,         22,         22,2,  -999.0,     -999.0,  16.060000, -6.4128333,       2088,    48.8,   9.0309,  33.9914,2,  33.9969,2,    274.5,2,   272.0,2, -999.00,9,-999.000,9, -999.00,9, -999.00,9, -999.00,9, -999.00,9, -999.00,9,    48.8,   9.0257,     9.0552,2
316N20070207,       LMD4,      43,          1,         21,         21,2,  -999.0,     -999.0,  16.060000, -6.4128333,       2088,    99.7,  11.7360,  35.0900,2,  35.0901,2,    232.7,2,   235.5,2,    4.00,2,   0.186,2,    8.43,2,    0.18,2,    0.61,2, -999.00,9, -999.00,9,    99.7,  11.7232,    11.7445,2
316N20070207,       LMD4,      43,          1,         20,         20,2,  -999.0,     -999.0,  16.060000, -6.4128333,       2088,   125.1,  12.2163,  35.2883,2,  35.2808,2,    240.3,2,   239.6,2,    3.79,2,   0.049,2,    8.37,2,    0.20,2,    0.58,2, -999.00,9, -999.00,9,   125.1,  12.1997,    12.2039,2
316N20070207,       LMD4,      43,          1,         19,         19,2,  -999.0,     -999.0,  16.060000, -6.4128333,       2088,   149.5,  12.4849,  35.3819,2,  35.3856,2,    236.1,2,   234.7,2,    3.88,2,   0.000,2,    8.75,2,    0.14,2,    0.59,2, -999.00,9, -999.00,9,   149.5,  12.4648,    12.4851,2
316N20070207,       LMD4,      43,          1,         18,         18,2,  -999.0,     -999.0,  16.060000, -6.4128333,       2088,   174.5,  11.7379,  35.3288,2,  35.3300,2,    162.4,2,   164.7,2,    6.32,2,   0.293,2,   13.43,2,    0.05,2,    0.94,2, -999.00,9, -999.00,9,   174.5,  11.7154,    11.7285,2
316N20070207,       LMD4,      43,          1,         17,         17,2,  -999.0,     -999.0,  16.060000, -6.4128333,       2088,   201.2,  10.9607,  35.3023,2,  35.3077,2,    155.4,2,   154.1,2,    9.39,2,   0.029,2,   19.05,2,    0.03,2,    1.21,2, -999.00,9, -999.00,9,   201.2,  10.9359,    10.9910,2
316N20070207,       LMD4,      43,          1,         16,         16,2,  -999.0,     -999.0,  16.060000, -6.4128333,       2088,   224.0,  10.7064,  35.3685,2,  35.3633,2,    134.9,2,   134.7,2,   11.75,2,   0.010,2,   22.96,2,    0.02,2,    1.44,2, -999.00,9, -999.00,9,   224.0,  10.6791,    10.6993,2
316N20070207,       LMD4,      43,          1,         15,         15,2,  -999.0,     -999.0,  16.060000, -6.4128333,       2088,   275.6,   9.2611,  35.2177,2,  35.2161,2,    137.9,2,   137.6,2,   13.81,2,   0.108,2,   24.58,2,    0.02,2,    1.55,2, -999.00,9, -999.00,9,   275.6,   9.2304,     9.2561,2
316N20070207,       LMD4,      43,          1,         14,         14,2,  -999.0,     -999.0,  16.060000, -6.4128333,       2088,   324.3,   8.1263,  35.1348,2,  35.1355,2,    149.4,2,   154.7,2,   14.01,2,   0.274,2,   23.61,3,    0.03,2,    1.53,3, -999.00,9, -999.00,9,   324.3,   8.0929,     8.1232,2
316N20070207,       LMD4,      43,          1,         13,         13,4,  -999.0,     -999.0,  16.060000, -6.4128333,       2088,   375.1,   7.2629,  35.0982,2,  35.2178,4,    172.7,2,   140.0,4,   13.90,4,   0.000,4,   24.68,4,    0.02,4,    1.56,4, -999.00,9, -999.00,9,   375.1,   7.2265,     7.2650,2
316N20070207,       LMD4,      43,          1,         12,         12,2,  -999.0,     -999.0,  16.060000, -6.4128333,       2088,   424.7,   6.3438,  35.0566,2,  35.0559,2,    196.9,2,   195.7,2, -999.00,9,-999.000,9, -999.00,9, -999.00,9, -999.00,9, -999.00,9, -999.00,9,   424.7,   6.3055,     6.3427,2
316N20070207,       LMD4,      43,          1,         11,         11,2,  -999.0,     -999.0,  16.060000, -6.4128333,       2088,   475.5,   5.8055,  35.0331,2,  35.0327,2,    210.2,2,   211.9,2, -999.00,9,-999.000,9, -999.00,9, -999.00,9, -999.00,9, -999.00,9, -999.00,9,   475.5,   5.7643,     5.8036,2
316N20070207,       LMD4,      43,          1,         10,         10,2,  -999.0,     -999.0,  16.060000, -6.4128333,       2088,   549.4,   5.3314,  35.0299,2,  35.0313,2,    224.9,2,   225.4,2, -999.00,9,-999.000,9, -999.00,9, -999.00,9, -999.00,9, -999.00,9, -999.00,9,   549.4,   5.2856,     5.3336,2
316N20070207,       LMD4,      43,          1,          9,         09,2,  -999.0,     -999.0,  16.060000, -6.4128333,       2088,   651.1,   4.9796,  35.0172,2,  35.0181,2,    237.4,2,   236.8,2, -999.00,9,-999.000,9, -999.00,9, -999.00,9, -999.00,9, -999.00,9, -999.00,9,   651.1,   4.9266,     4.9796,2
316N20070207,       LMD4,      43,          1,          8,         08,2,  -999.0,     -999.0,  16.060000, -6.4128333,       2088,   750.8,   4.6894,  35.0095,2,  35.0112,2,    244.9,2,   245.7,2, -999.00,9,-999.000,9, -999.00,9, -999.00,9, -999.00,9, -999.00,9, -999.00,9,   750.8,   4.6293,     4.6899,2
316N20070207,       LMD4,      43,          1,          7,         07,2,  -999.0,     -999.0,  16.060000, -6.4128333,       2088,   850.8,   4.4992,  34.9975,2,  34.9972,2,    251.1,2,   250.7,2, -999.00,9,-999.000,9, -999.00,9, -999.00,9, -999.00,9, -999.00,9, -999.00,9,   850.8,   4.4318,     4.4996,2
316N20070207,       LMD4,      43,          1,          6,         06,2,  -999.0,     -999.0,  16.060000, -6.4128333,       2088,  1000.9,   4.1571,  34.9706,2,  34.9720,2,    258.7,2,   258.7,2, -999.00,9,-999.000,9, -999.00,9, -999.00,9, -999.00,9, -999.00,9, -999.00,9,  1000.9,   4.0793,     4.1549,2
316N20070207,       LMD4,      43,          1,          5,         05,2,  -999.0,     -999.0,  16.060000, -6.4128333,       2088,  1249.1,   3.8893,  34.9594,2,  34.9601,2,    263.7,2,   263.6,2, -999.00,9,-999.000,9, -999.00,9, -999.00,9, -999.00,9, -999.00,9, -999.00,9,  1249.1,   3.7926,     3.8900,2
316N20070207,       LMD4,      43,          1,          4,         04,2,  -999.0,     -999.0,  16.060000, -6.4128333,       2088,  1501.5,   3.6453,  34.9493,2,  34.9491,2,    267.2,2,   266.9,2, -999.00,9,-999.000,9, -999.00,9, -999.00,9, -999.00,9, -999.00,9, -999.00,9,  1501.5,   3.5290,     3.6454,2
316N20070207,       LMD4,      43,          1,          3,         03,2,  -999.0,     -999.0,  16.060000, -6.4128333,       2088,  1749.3,   3.4366,  34.9443,2,  34.9452,2,    268.8,2,   268.3,2, -999.00,9,-999.000,9, -999.00,9, -999.00,9, -999.00,9, -999.00,9, -999.00,9,  1749.3,   3.3007,     3.4363,2
316N20070207,       LMD4,      43,          1,          2,         02,2,  -999.0,     -999.0,  16.060000, -6.4128333,       2088,  2003.2,   3.2954,  34.9454,2,  34.9459,2,    268.4,2,   268.4,2, -999.00,9,-999.000,9, -999.00,9, -999.00,9, -999.00,9, -999.00,9, -999.00,9,  2003.2,   3.1381,     3.2960,2
316N20070207,       LMD4,      43,          1,          1,         01,2,  -999.0,     -999.0,  16.060000, -6.4128333,       2088,  2027.8,   3.2854,  34.9455,2,  34.9465,2,    268.4,2,   268.5,2, -999.00,9,-999.000,9, -999.00,9, -999.00,9, -999.00,9, -999.00,9, -999.00,9,  2027.8,   3.1260,     3.2849,2