BOTTLE,20230728SIOCCHCBG
# converted from WOCE bottle and WOCE SUM file
#
# DATA CITATION
#| CCHDO Citation Information
#|
#| Please cite data downloaded from CCHDO as: 
#| [Data providers of the parameter(s) used]. [Year of file access]. [CTD/Bottle] data from cruise [expocode], 
#| [format version used]. Accessed from CCHDO [url of cruise data page]. Access date [date of download].
#| [Applicable CCHDO cruise DOI if provided].
#|
#| For example: 
#| Swift, J. and Becker, S. 2019. CTD data from Cruise 33RR20160321, exchange version. Accessed from CCHDO 
#| https://cchdo.ucsd.edu/cruise/33RR20160321. Access date 2019-08-21. CCHDO cruise DOI: 10.7942/C2008W
#|
#| Information on the scientists who provided the different parameters can be found in the cruise report. 
#| Additionally, for US GO-SHIP cruises, this information is usually in the comments section in the text headers 
#| of the Exchange bottle files.
#|
#| Users are also encouraged to acknowledge the funding program that supported the data collection in their publication. 
#| For US GO-SHIP data this is the NSF/NOAA funded U.S Repeat Hydrography Program.
#|
#| For data citation, please use the data providers listed below. 
#|
#| Programs and Principal Investigators
#| NAME                   INST/Responsibilty              EMAIL
#|
#| Terry Joyce            whoi/chief scientist            tjoyce@whoi.edu
#| John Lund              whoi/ bobbers/seasoar           jlund@whoi.edu
#| Frank Bahr             whoi/ seasoar                   fbahr@whoi.edu
#| John Toole             whoi/ ASIS                      jtoole@whoi.edu
#| Craig Marquette        whoi/seasoar/FILIS              cmarquette@whoi.edu
#| Paul Fucile            whoi/seasoar                    pfucile@whoi.edu
#| Jane Dunworth-Baker    whoi/watchstander/sat imagery   jdunworth@whoi.edu
#| Andrew Barton          whoi/mit/watchstander           adbarton@mit.edu
#| Ryu Inoue              APL/ microstructure             rinoue@apl.washington.edu
#| Rick Lumpkin           NOSS/drifters                   Rick.Lumpkin@noaa.gov
#| Kristen Cashman        Duke/nutrients                  kristin.cashman@duke.edu
#| Michael Gregg          APL/ microstructure             gregg@apl.washington.edu
#| Jack Miller            APL/ microstructure             miller@apl.washington.edu
#| Dave Winkel            APL/ microstructure             winkel@apl.washington.edu
#| Andrew Cookson         APL/ microstructure             andrew@apl.washington.edu
#| Steve Bayer            APL/ microstructure             na
#| John Kemp              whoi/ASIS                       jkemp@whoi.edu
#| Al Plueddemann         whoi/ASIS                       aplueddemann@whoi.edu
#| Steve Faluotico        whoi/ASIS                       sfaluotico@whoi.edu
#| Marlene Jeffries       DIC                             Marlene.Jeffries@bbsr.edu
#| Susan Becker           sio/salts/oxygen/ctd            susan@odf.ucsd.edu
#| John Calderwood        sio/ctd/oxygen                  jkc@odf.ucsd.edu
#| Mary Carol Johnson     sio/ctd processor/tech          mary@odf.ucsd.edu
#| Parisa Nahavandi       sio/ctd/data/salinity           parisa@odf.ucsd.edu
#| Lou Verstraete         ucar/radiosondes                louvers@ucar.edu
#| Gary Granger           ucar/radiosondes                granger@ucar.edu
#| Rebecca Dell           whoi/mit/watchstander           rwdell@mit.edu
#
EXPOCODE,SECT_ID,STNNBR,CASTNO,SAMPNO,BTLNBR,BTLNBR_FLAG_W,DATE,TIME,LATITUDE,LONGITUDE,DEPTH,CTDPRS,CTDTMP,CTDSAL,CTDSAL_FLAG_W,SALNTY,SALNTY_FLAG_W,CTDOXY,CTDOXY_FLAG_W,OXYGEN,OXYGEN_FLAG_W,SILCAT,SILCAT_FLAG_W,NH4,NH4_FLAG_W,NITRAT,NITRAT_FLAG_W,NITRIT,NITRIT_FLAG_W,PHSPHT,PHSPHT_FLAG_W,TCARBN,TCARBN_FLAG_W,ALKALI,ALKALI_FLAG_W,CTDRAW,THETA,SBE35T,SBE35T_FLAG_W
,,,,,,,,,,,METERS,DBAR,ITS-90,PSS-78,,PSS-78,,UMOL/KG,,UMOL/KG,,UMOL/KG,,UMOL/KG,,UMOL/KG,,UMOL/KG,,UMOL/KG,,UMOL/KG,,UMOL/KG,,DBAR,DEG C,ITS-90,
316N20070207,       LMD4,       1,          1,         17,         17,2,  -999.0,     -999.0,  41.950000, -1.4951667,          0,   127.7,  18.8113,  36.5747,7,  36.5672,2,    219.9,2,   220.5,2,    0.90,2,   0.078,2,    1.66,2,    0.13,2,    0.09,2, 2081.82,2, 2395.38,2,   127.7,  18.7885,    18.8121,2
316N20070207,       LMD4,       1,          1,         18,         18,2,  -999.0,     -999.0,  41.950000, -1.4951667,          0,   128.8,  18.8110,  36.5739,7,  36.5703,2,    219.9,2,   221.3,2,    0.92,2,   0.059,2,    1.62,2,    0.13,2,    0.10,2, 2082.86,2, 2394.61,2,   128.8,  18.7880,    18.8108,2
316N20070207,       LMD4,       1,          1,         15,         15,9,  -999.0,     -999.0,  41.950000, -1.4951667,          0,   154.1,  18.8161,  36.5754,7,-999.0000,9,   -999.0,9,  -999.0,9, -999.00,9,-999.000,9, -999.00,9, -999.00,9, -999.00,9, -999.00,9, -999.00,9,   154.1,  18.7885,    18.8166,2
316N20070207,       LMD4,       1,          1,         16,         16,2,  -999.0,     -999.0,  41.950000, -1.4951667,          0,   154.7,  18.8187,  36.5685,7,  36.5523,3,    221.9,2,   220.9,2, -999.00,9,-999.000,9, -999.00,9, -999.00,9, -999.00,9, -999.00,9, -999.00,9,   154.7,  18.7910,    18.8162,2
316N20070207,       LMD4,       1,          1,         14,         14,2,  -999.0,     -999.0,  41.950000, -1.4951667,          0,   203.4,  18.8027,  36.5798,7,  36.5728,2,    221.8,2,   220.1,2,    0.88,2,   0.039,2,    1.73,2,    0.11,2,    0.09,2, 2084.24,2, 2395.49,2,   203.4,  18.7664,    18.8075,2
316N20070207,       LMD4,       1,          1,         13,         13,2,  -999.0,     -999.0,  41.950000, -1.4951667,          0,   253.3,  18.7449,  36.5899,7,  36.5804,2,    221.4,2,   220.2,2,    0.76,2,   0.098,2,    1.70,2,    0.09,2,    0.08,2, 2084.05,2, 2394.79,2,   253.3,  18.6996,    18.7442,2
316N20070207,       LMD4,       1,          1,         12,         12,2,  -999.0,     -999.0,  41.950000, -1.4951667,          0,   304.0,  18.6940,  36.5942,2,  36.4107,3,    219.3,2,   221.0,2,    0.84,2,   0.156,2,    2.32,2,    0.08,2,    0.11,2, 2088.34,2, 2396.01,2,   304.0,  18.6398,    18.6950,2
316N20070207,       LMD4,       1,          1,         11,         11,9,  -999.0,     -999.0,  41.950000, -1.4951667,          0,   352.6,  18.3011,  36.5793,7,-999.0000,9,   -999.0,9,  -999.0,9, -999.00,9,-999.000,9, -999.00,9, -999.00,9, -999.00,9, -999.00,9, -999.00,9,   352.6,  18.2390,    18.3013,2
316N20070207,       LMD4,       1,          1,         10,         10,2,  -999.0,     -999.0,  41.950000, -1.4951667,          0,   405.8,  18.0828,  36.5558,2,  36.5291,3,    204.5,2,   205.7,2,    1.24,2,   0.098,2,    4.01,2,    0.03,2,    0.20,2, 2101.31,2, 2391.38,2,   405.8,  18.0118,    18.0842,2
316N20070207,       LMD4,       1,          1,          9,         09,2,  -999.0,     -999.0,  41.950000, -1.4951667,          0,   453.2,  17.9529,  36.5347,2,  36.4892,3,    203.7,2,   203.1,2,    1.42,2,   0.107,2,    4.51,2,    0.04,2,    0.22,2, 2101.16,2, 2392.51,2,   453.2,  17.8739,    17.9491,2
316N20070207,       LMD4,       1,          1,          8,         08,2,  -999.0,     -999.0,  41.950000, -1.4951667,          0,   501.2,  17.6430,  36.4726,2,  36.4618,2,    198.2,2,   200.3,2,    1.50,2,   0.088,2,    5.24,2,    0.01,2,    0.27,2, 2106.43,2, 2390.48,2,   501.2,  17.5566,    17.6523,2
316N20070207,       LMD4,       1,          1,          7,         07,9,  -999.0,     -999.0,  41.950000, -1.4951667,          0,   553.2,  17.2247,  36.3897,2,-999.0000,9,   -999.0,9,  -999.0,9, -999.00,9,-999.000,9, -999.00,9, -999.00,9, -999.00,9, -999.00,9, -999.00,9,   553.2,  17.1308,    17.2263,2
316N20070207,       LMD4,       1,          1,          6,         06,2,  -999.0,     -999.0,  41.950000, -1.4951667,          0,   604.6,  16.6400,  36.2834,2,  36.2874,2,    184.6,2,   180.7,2,    2.72,2,   0.508,2,    9.02,2,    0.07,2,    0.51,2, 2122.33,2, 2375.44,2,   604.6,  16.5397,    16.6300,2
316N20070207,       LMD4,       1,          1,          5,         05,2,  -999.0,     -999.0,  41.950000, -1.4951667,          0,   652.6,  15.7613,  36.1307,2,  36.1266,2,    173.5,2,   174.5,2,    3.53,2,   0.117,2,   10.85,2,    0.01,2,    0.61,2, 2131.73,2, 2368.94,2,   652.6,  15.6569,    15.7477,2
316N20070207,       LMD4,       1,          1,          4,         04,2,  -999.0,     -999.0,  41.950000, -1.4951667,          0,   805.2,  12.2648,  35.5690,2,  35.5433,3,    144.9,2,   145.0,2,    9.04,2,   0.059,2,   19.51,2,    0.01,2,    1.22,2, 2163.80,2, 2338.82,2,   805.2,  12.1551,    12.2326,3
316N20070207,       LMD4,       1,          1,          3,         03,9,  -999.0,     -999.0,  41.950000, -1.4951667,          0,   903.9,   9.2590,  35.1729,2,-999.0000,9,   -999.0,9,  -999.0,9, -999.00,9,-999.000,9, -999.00,9, -999.00,9, -999.00,9, -999.00,9, -999.00,9,   903.9,   9.1549,     9.2504,2
316N20070207,       LMD4,       1,          1,          2,         02,2,  -999.0,     -999.0,  41.950000, -1.4951667,          0,  1009.8,   7.8552,  35.1205,2,  35.0739,3,    164.1,2,   164.3,2, -999.00,9,-999.000,9, -999.00,9, -999.00,9, -999.00,9, -999.00,9, -999.00,9,  1009.8,   7.7486,     7.8185,3
316N20070207,       LMD4,       1,          1,          1,         01,2,  -999.0,     -999.0,  41.950000, -1.4951667,          0,  1012.1,   7.8089,  35.1211,2,  35.0981,3,    164.6,2,  -999.0,5, -999.00,9,-999.000,9, -999.00,9, -999.00,9, -999.00,9, 2177.73,2, 2320.14,2,  1012.1,   7.7024,     7.8188,2
316N20070207,       LMD4,       2,          3,         24,         24,2,20070101,       1020,  41.570000, -6.2658333,       4988,     3.3,  18.9112,  36.6321,2,  36.6302,2,    221.6,2,   221.8,2,    0.71,2,   0.020,2,    1.16,2,    0.16,2,    0.08,2, 2079.18,2, 2397.49,2,     3.3,  18.9106,    18.9114,2
316N20070207,       LMD4,       2,          3,         23,         23,9,20070101,       1020,  41.570000, -6.2658333,       4988,    29.0,  18.9313,  36.6314,2,-999.0000,9,   -999.0,9,  -999.0,9, -999.00,9,-999.000,9, -999.00,9, -999.00,9, -999.00,9, -999.00,9, -999.00,9,    29.0,  18.9262,    18.9306,2
316N20070207,       LMD4,       2,          3,         22,         22,2,20070101,       1020,  41.570000, -6.2658333,       4988,    47.9,  18.9326,  36.6317,2,  36.6322,2,    221.8,2,   220.5,2, -999.00,9,-999.000,9, -999.00,9, -999.00,9, -999.00,9, 2081.06,2, 2397.77,2,    47.9,  18.9240,    18.9316,2
316N20070207,       LMD4,       2,          3,         21,         21,2,20070101,       1020,  41.570000, -6.2658333,       4988,   103.9,  18.9399,  36.6316,2,  36.6312,2,    221.5,2,   222.1,2,    0.59,2,   0.800,2,    1.12,2,    0.24,2,    0.07,2, 2077.18,2, 2395.93,2,   103.9,  18.9213,    18.9394,2
316N20070207,       LMD4,       2,          3,         20,         20,2,20070101,       1020,  41.570000, -6.2658333,       4988,   122.7,  18.9492,  36.6310,2,  36.6317,2,    221.2,2,   221.0,2,    0.67,2,   0.293,2,    1.25,2,    0.17,2,    0.08,2, 2082.71,2, 2404.73,2,   122.7,  18.9272,    18.9493,2
316N20070207,       LMD4,       2,          3,         19,         19,9,20070101,       1020,  41.570000, -6.2658333,       4988,   153.9,  18.9545,  36.6308,2,-999.0000,9,   -999.0,9,  -999.0,9, -999.00,9,-999.000,9, -999.00,9, -999.00,9, -999.00,9, -999.00,9, -999.00,9,   153.9,  18.9268,    18.9538,2
316N20070207,       LMD4,       2,          3,         18,         18,2,20070101,       1020,  41.570000, -6.2658333,       4988,   177.8,  18.9597,  36.6312,2,  36.6283,2,    221.9,2,   220.0,2,    0.75,2,   0.254,2,    1.14,2,    0.18,2,    0.08,2, 2081.18,2, 2400.17,2,   177.8,  18.9277,    18.9596,2
316N20070207,       LMD4,       2,          3,         17,         17,2,20070101,       1020,  41.570000, -6.2658333,       4988,   202.8,  18.9627,  36.6313,2,  36.6325,2,    221.8,2,   220.3,2,    0.73,2,   0.088,2,    1.11,2,    0.16,2,    0.07,2, 2081.06,2, 2398.65,2,   202.8,  18.9262,    18.9625,2
316N20070207,       LMD4,       2,          3,         16,         16,2,20070101,       1020,  41.570000, -6.2658333,       4988,   252.4,  18.9636,  36.6309,2,  36.6301,2,    221.2,2,   229.2,2,    0.00,2,   0.488,2,    0.34,2,    0.05,2,    0.02,2, 2081.20,2, 2398.57,2,   252.4,  18.9181,    18.9633,2
316N20070207,       LMD4,       2,          3,         15,         15,9,20070101,       1020,  41.570000, -6.2658333,       4988,   304.3,  18.9669,  36.6312,2,-999.0000,9,   -999.0,9,  -999.0,9, -999.00,9,-999.000,9, -999.00,9, -999.00,9, -999.00,9, -999.00,9, -999.00,9,   304.3,  18.9120,    18.9692,2
316N20070207,       LMD4,       2,          3,         14,         14,2,20070101,       1020,  41.570000, -6.2658333,       4988,   354.0,  18.5094,  36.6082,2,  36.6075,2,    206.5,2,   207.1,2,    1.01,2,   0.020,2,    3.15,2,    0.03,2,    0.16,2, 2096.28,2, 2397.91,2,   354.0,  18.4466,    18.5179,2
316N20070207,       LMD4,       2,          3,         13,         13,2,20070101,       1020,  41.570000, -6.2658333,       4988,   403.8,  18.2838,  36.5935,2,  36.5896,2,    207.7,2,   208.4,2,    1.09,2,   0.029,2,    3.40,2,    0.02,2,    0.18,2, 2099.97,2, 2396.48,2,   403.8,  18.2127,    18.2849,2
316N20070207,       LMD4,       2,          3,         12,         12,2,20070101,       1020,  41.570000, -6.2658333,       4988,   453.4,  18.1849,  36.5778,2,  36.5769,2,    205.4,2,   205.4,2,    1.28,2,   0.020,2,    3.78,2,    0.02,2,    0.20,2, 2098.61,2, 2395.82,2,   453.4,  18.1052,    18.1853,2
316N20070207,       LMD4,       2,          3,         11,         11,9,20070101,       1020,  41.570000, -6.2658333,       4988,   503.1,  17.9754,  36.5390,2,-999.0000,9,   -999.0,9,  -999.0,9, -999.00,9,-999.000,9, -999.00,9, -999.00,9, -999.00,9, -999.00,9, -999.00,9,   503.1,  17.8876,    17.9756,2
316N20070207,       LMD4,       2,          3,         10,         10,2,20070101,       1020,  41.570000, -6.2658333,       4988,   606.2,  17.0247,  36.3559,2,  36.3584,2,    186.0,2,   185.8,2,    2.29,2,   0.088,2,    7.58,2,    0.01,2,    0.42,2, 2118.37,2, 2384.85,2,   606.2,  16.9226,    17.0200,2
316N20070207,       LMD4,       2,          3,          9,         09,2,20070101,       1020,  41.570000, -6.2658333,       4988,   703.2,  15.3704,  36.0650,2,  36.0673,2,    175.1,2,   173.0,2,    3.61,2,   0.127,2,   10.62,2,    0.02,2,    0.64,2, 2137.34,2, 2367.98,2,   703.2,  15.2596,    15.3691,2
316N20070207,       LMD4,       2,          3,          8,         08,2,20070101,       1020,  41.570000, -6.2658333,       4988,   800.5,  13.4350,  35.7521,2,  35.7455,2,    159.1,2,   160.3,2,    6.09,2,   0.400,2,   15.44,2,    0.08,2,    0.97,2, 2151.31,2, 2348.55,2,   800.5,  13.3193,    13.4355,2
316N20070207,       LMD4,       2,          3,          7,         07,2,20070101,       1020,  41.570000, -6.2658333,       4988,   901.3,  10.9810,  35.3990,2,  35.3955,2,    143.6,2,   139.8,2,    9.10,2,   0.576,2,   18.20,2,    0.07,2,    1.22,2, 2175.31,2, 2332.92,2,   901.3,  10.8660,    10.9827,2
316N20070207,       LMD4,       2,          3,          6,         06,2,20070101,       1020,  41.570000, -6.2658333,       4988,  1045.7,   8.0911,  35.1475,2,  35.1458,2,    159.2,2,   163.3,2, -999.00,9,-999.000,9, -999.00,9, -999.00,9, -999.00,9, 2177.57,2, 2321.33,2,  1045.7,   7.9786,     8.0883,2
316N20070207,       LMD4,       2,          3,          5,         05,2,20070101,       1020,  41.570000, -6.2658333,       4988,  1297.6,   5.2422,  35.0129,2,  35.0133,2,    230.9,2,   230.1,2, -999.00,9,-999.000,9, -999.00,9, -999.00,9, -999.00,9, -999.00,9, -999.00,9,  1297.6,   5.1279,     5.2400,2
316N20070207,       LMD4,       2,          3,          4,         04,2,20070101,       1020,  41.570000, -6.2658333,       4988,  1453.6,   4.6902,  35.0038,2,  35.0022,2,    246.7,2,   247.4,2, -999.00,9,-999.000,9, -999.00,9, -999.00,9, -999.00,9, -999.00,9, -999.00,9,  1453.6,   4.5666,     4.6909,2
316N20070207,       LMD4,       2,          3,          3,         03,9,20070101,       1020,  41.570000, -6.2658333,       4988,  1702.4,   4.2291,  34.9718,2,-999.0000,9,   -999.0,9,  -999.0,9, -999.00,9,-999.000,9, -999.00,9, -999.00,9, -999.00,9, -999.00,9, -999.00,9,  1702.4,   4.0872,     4.2287,2
316N20070207,       LMD4,       2,          3,          2,         02,2,20070101,       1020,  41.570000, -6.2658333,       4988,  1948.3,   3.9715,  34.9592,2,  34.9574,2,    263.3,2,   263.5,2, -999.00,9,-999.000,9, -999.00,9, -999.00,9, -999.00,9, -999.00,9, -999.00,9,  1948.3,   3.8094,     3.9710,2
316N20070207,       LMD4,       2,          3,          1,         01,2,20070101,       1020,  41.570000, -6.2658333,       4988,  2023.2,   3.9139,  34.9572,2,  34.9544,2,    264.2,2,   264.4,2, -999.00,9,-999.000,9, -999.00,9, -999.00,9, -999.00,9, -999.00,9, -999.00,9,  2023.2,   3.7454,     3.9133,2