BOTTLE,20230728SIOCCHCBG
EXPOCODE,SECT_ID,STNNBR,CASTNO,SAMPNO,BTLNBR,BTLNBR_FLAG_W,DATE,TIME,LATITUDE,LONGITUDE,DEPTH,CTDPRS,CTDTMP,CTDSAL,CTDSAL_FLAG_W,SALNTY,SALNTY_FLAG_W,CTDOXY,CTDOXY_FLAG_W,OXYGEN,OXYGEN_FLAG_W,SILCAT,SILCAT_FLAG_W,NH4,NH4_FLAG_W,NITRAT,NITRAT_FLAG_W,NITRIT,NITRIT_FLAG_W,PHSPHT,PHSPHT_FLAG_W,TCARBN,TCARBN_FLAG_W,ALKALI,ALKALI_FLAG_W,CTDRAW,THETA,SBE35T,SBE35T_FLAG_W
,,,,,,,,,,,METERS,DBAR,ITS-90,PSS-78,,PSS-78,,UMOL/KG,,UMOL/KG,,UMOL/KG,,UMOL/KG,,UMOL/KG,,UMOL/KG,,UMOL/KG,,UMOL/KG,,UMOL/KG,,DBAR,DEG C,ITS-90,
316N20070207,       LMD4,      21,          1,         24,         24,2,20070109,       0049,  51.540000, -3.9730000,          0,     4.3,  18.2017,  36.5730,2,  36.5725,2,    221.8,2,   223.2,2,    0.96,2,   0.000,2,    2.21,2,    0.06,2,    0.13,2, 2089.64,2, 2394.77,2,     4.3,  18.2009,    18.2029,2
316N20070207,       LMD4,      21,          1,         23,         23,2,20070109,       0049,  51.540000, -3.9730000,          0,    24.8,  18.2008,  36.5723,2,  36.5716,2,    222.1,2,   222.3,2, -999.00,9,-999.000,9, -999.00,9, -999.00,9, -999.00,9, 2092.69,2, 2395.06,2,    24.8,  18.1965,    18.2064,2
316N20070207,       LMD4,      21,          1,         22,         22,2,20070109,       0049,  51.540000, -3.9730000,          0,    50.7,  18.2160,  36.5708,2,  36.5704,2,    222.7,2,   221.7,2, -999.00,9,-999.000,9, -999.00,9, -999.00,9, -999.00,9, 2092.68,2, 2393.08,2,    50.7,  18.2072,    18.2157,2
316N20070207,       LMD4,      21,          1,         21,         21,2,20070109,       0049,  51.540000, -3.9730000,          0,   102.2,  18.2230,  36.5706,2,  36.5702,2,    222.3,2,   221.5,2,    0.91,2,   0.000,2,    2.24,2,    0.06,2,    0.12,2, 2093.97,2, 2390.34,2,   102.2,  18.2051,    18.2234,2
316N20070207,       LMD4,      21,          1,         20,         20,2,20070109,       0049,  51.540000, -3.9730000,          0,   124.5,  18.2240,  36.5703,2,  36.5724,2,    222.2,2,   221.6,2,    0.97,2,   0.010,2,    2.24,2,    0.07,2,    0.12,2, 2092.45,2, 2394.81,2,   124.5,  18.2023,    18.2242,2
316N20070207,       LMD4,      21,          1,         19,         19,2,20070109,       0049,  51.540000, -3.9730000,          0,   150.2,  18.2332,  36.5730,2,  36.5724,2,    221.4,2,   244.4,4,    0.92,2,   0.020,2,    2.24,2,    0.06,2,    0.12,2, 2091.89,2, 2395.38,2,   150.2,  18.2070,    18.2336,2
316N20070207,       LMD4,      21,          1,         18,         18,2,20070109,       0049,  51.540000, -3.9730000,          0,   177.4,  18.2382,  36.5725,2,  36.5720,2,    221.2,2,   221.9,2,    0.87,2,   0.088,2,    2.24,2,    0.07,2,    0.12,2, 2089.82,2, 2394.67,2,   177.4,  18.2072,    18.2381,2
316N20070207,       LMD4,      21,          1,         17,         17,2,20070109,       0049,  51.540000, -3.9730000,          0,   201.3,  18.2419,  36.5723,2,  36.5717,2,    220.1,2,   222.0,2,    0.82,2,   0.010,2,    2.24,2,    0.06,2,    0.12,2, 2090.43,2, 2398.43,2,   201.3,  18.2066,    18.2422,2
316N20070207,       LMD4,      21,          1,         16,         16,2,20070109,       0049,  51.540000, -3.9730000,          0,   252.0,  18.1613,  36.5625,2,  36.5645,2,    222.4,2,   269.4,4,    0.77,2,   0.000,2,    2.42,2,    0.07,2,    0.13,2, 2093.76,2, 2394.18,2,   252.0,  18.1172,    18.1663,2
316N20070207,       LMD4,      21,          1,         15,         15,2,20070109,       0049,  51.540000, -3.9730000,          0,   300.4,  18.0490,  36.5532,2,  36.5529,2,    222.7,2,   222.0,2,    0.72,2,   0.039,2,    2.16,2,    0.14,2,    0.13,2, 2094.45,2, 2393.76,2,   300.4,  17.9966,    18.0477,2
316N20070207,       LMD4,      21,          1,         14,         14,2,20070109,       0049,  51.540000, -3.9730000,          0,   351.5,  18.0191,  36.5483,2,  36.5487,2,    223.4,2,   222.2,2,    0.47,2,   0.508,2,    1.73,2,    0.14,2,    0.12,2, 2096.24,2, 2391.56,2,   351.5,  17.9579,    18.0198,2
316N20070207,       LMD4,      21,          1,         13,         13,2,20070109,       0049,  51.540000, -3.9730000,          0,   400.8,  17.9464,  36.5307,2,  36.5351,2,    223.6,2,   219.8,2,    0.84,2,   0.029,2,    2.45,2,    0.13,2,    0.15,2, 2095.81,2, 2391.37,2,   400.8,  17.8767,    17.9470,2
316N20070207,       LMD4,      21,          1,         12,         12,2,20070109,       0049,  51.540000, -3.9730000,          0,   449.7,  17.3459,  36.4156,2,  36.4138,2,    198.2,2,   194.5,2,    1.63,2,   0.127,2,    5.86,2,    0.02,2,    0.32,2, 2116.04,2, 2386.24,2,   449.7,  17.2694,    17.3432,2
316N20070207,       LMD4,      21,          1,         11,         11,2,20070109,       0049,  51.540000, -3.9730000,          0,   502.5,  16.6671,  36.2719,2,  36.2772,2,    189.2,2,   188.9,2,    2.31,2,   0.088,2,    7.72,2,    0.01,2,    0.44,2, 2122.62,2, 2377.00,2,   502.5,  16.5839,    16.6527,2
316N20070207,       LMD4,      21,          1,         10,         10,2,20070109,       0049,  51.540000, -3.9730000,          0,   603.0,  14.8222,  35.9694,2,  35.9718,2,    173.2,2,   174.7,2,    4.16,2,   0.000,2,   12.09,2,    0.01,2,    0.72,2, 2137.69,2, 2363.55,2,   603.0,  14.7298,    14.8404,2
316N20070207,       LMD4,      21,          1,          9,         09,2,20070109,       0049,  51.540000, -3.9730000,          0,   701.6,  12.8472,  35.6642,2,  35.6639,2,    167.5,2,   166.0,2,    6.45,2,   0.059,2,   15.90,2,    0.01,2,    0.98,2, 2152.27,2, 2344.61,2,   701.6,  12.7491,    12.8429,2
316N20070207,       LMD4,      21,          1,          8,         08,2,20070109,       0049,  51.540000, -3.9730000,          0,   797.2,  10.3465,  35.3421,2,  35.3459,2,    154.6,2,   151.2,2,   11.09,2,   0.010,2,   21.80,2,    0.01,2,    1.38,2, 2172.99,2, 2329.04,2,   797.2,  10.2488,    10.3382,2
316N20070207,       LMD4,      21,          1,          7,         07,2,20070109,       0049,  51.540000, -3.9730000,          0,   899.9,   8.3505,  35.1512,2,  35.1460,2,    156.7,2,   159.6,2,   13.19,2,   0.156,2,   23.06,2,    0.02,2,    1.51,2, 2182.56,2, 2326.92,2,   899.9,   8.2528,     8.3611,2
316N20070207,       LMD4,      21,          1,          6,         06,2,20070109,       0049,  51.540000, -3.9730000,          0,  1048.3,   5.9716,  35.0233,2,  35.0223,2,    210.3,2,   213.7,2, -999.00,9,-999.000,9, -999.00,9, -999.00,9, -999.00,9, 2168.55,2, 2313.24,2,  1048.3,   5.8754,     5.9829,2
316N20070207,       LMD4,      21,          1,          5,         05,2,20070109,       0049,  51.540000, -3.9730000,          0,  1299.4,   4.6733,  34.9935,2,  34.9932,2,    249.8,2,   248.8,2, -999.00,9,-999.000,9, -999.00,9, -999.00,9, -999.00,9, -999.00,9, -999.00,9,  1299.4,   4.5644,     4.6838,2
316N20070207,       LMD4,      21,          1,          4,         04,2,20070109,       0049,  51.540000, -3.9730000,          0,  1450.1,   4.4094,  34.9832,2,  34.9828,2,    256.6,2,   255.6,2, -999.00,9,-999.000,9, -999.00,9, -999.00,9, -999.00,9, -999.00,9, -999.00,9,  1450.1,   4.2892,     4.4099,2
316N20070207,       LMD4,      21,          1,          3,         03,2,20070109,       0049,  51.540000, -3.9730000,          0,  1701.9,   4.0609,  34.9658,2,  34.9643,2,    263.3,2,   262.5,2, -999.00,9,-999.000,9, -999.00,9, -999.00,9, -999.00,9, -999.00,9, -999.00,9,  1701.9,   3.9213,     4.0619,2
316N20070207,       LMD4,      21,          1,          2,         02,2,20070109,       0049,  51.540000, -3.9730000,          0,  1949.2,   3.8053,  34.9525,2,  34.9517,2,    266.2,2,   266.2,2, -999.00,9,-999.000,9, -999.00,9, -999.00,9, -999.00,9, -999.00,9, -999.00,9,  1949.2,   3.6456,     3.8046,2
316N20070207,       LMD4,      21,          1,          1,         01,2,20070109,       0049,  51.540000, -3.9730000,          0,  2024.3,   3.7526,  34.9527,2,  34.9539,2,    266.3,2,   266.3,2, -999.00,9,-999.000,9, -999.00,9, -999.00,9, -999.00,9, -999.00,9, -999.00,9,  2024.3,   3.5864,     3.7533,2
316N20070207,       LMD4,      22,          1,         21,         21,2,20070109,       0429,   3.720000, -3.9915000,          0,    11.9,  18.2175,  36.5670,2,  36.5664,2,    222.0,2,   222.0,2,    0.91,2,   0.000,2,    2.31,2,    0.05,2,    0.12,2, 2084.43,2, 2393.44,2,    11.9,  18.2154,    18.2175,2
316N20070207,       LMD4,      22,          1,         20,         20,2,20070109,       0429,   3.720000, -3.9915000,          0,    26.4,  18.2177,  36.5670,2,  36.5656,2,    222.7,2,   222.3,2, -999.00,9,-999.000,9, -999.00,9, -999.00,9, -999.00,9, 2085.04,2, 2405.25,2,    26.4,  18.2131,    18.2173,2
316N20070207,       LMD4,      22,          1,         19,         19,2,20070109,       0429,   3.720000, -3.9915000,          0,    51.7,  18.1799,  36.5663,2,  36.5655,2,    222.1,2,   222.1,2, -999.00,9,-999.000,9, -999.00,9, -999.00,9, -999.00,9, 2085.98,2, 2396.64,2,    51.7,  18.1708,    18.1919,2
316N20070207,       LMD4,      22,          1,         18,         18,2,20070109,       0429,   3.720000, -3.9915000,          0,    76.0,  18.1662,  36.5666,2,  36.5655,2,    221.7,2,   221.9,2, -999.00,9,-999.000,9, -999.00,9, -999.00,9, -999.00,9, 2085.86,2, 2396.50,2,    76.0,  18.1530,    18.1655,2
316N20070207,       LMD4,      22,          1,         17,         17,2,20070109,       0429,   3.720000, -3.9915000,          0,   100.8,  18.1728,  36.5667,2,  36.5655,2,    220.6,2,   221.7,2,    0.88,2,   0.000,2,    2.46,2,    0.05,2,    0.12,2, 2086.64,2, 2392.21,2,   100.8,  18.1552,    18.1737,2
316N20070207,       LMD4,      22,          1,         16,         16,2,20070109,       0429,   3.720000, -3.9915000,          0,   126.5,  18.1421,  36.5654,2,  36.5647,2,    219.4,2,   221.1,2,    0.84,2,   0.293,2,    2.44,2,    0.07,2,    0.12,2, 2092.40,2, 2399.33,2,   126.5,  18.1200,    18.1424,2
316N20070207,       LMD4,      22,          1,         15,         15,2,20070109,       0429,   3.720000, -3.9915000,          0,   176.4,  18.1348,  36.5628,2,  36.5612,2,    220.4,2,   219.6,2,    0.81,2,   0.010,2,    2.51,2,    0.05,2,    0.11,2, 2091.95,2, 2394.42,2,   176.4,  18.1041,    18.1335,2
316N20070207,       LMD4,      22,          1,         14,         14,2,20070109,       0429,   3.720000, -3.9915000,          0,   225.7,  18.1245,  36.5640,2,  36.5616,2,    218.9,2,   215.1,2,    0.88,2,   0.000,2,    2.99,2,    0.03,2,    0.13,2, 2096.28,2, 2395.72,2,   225.7,  18.0851,    18.1231,2
316N20070207,       LMD4,      22,          1,         13,         13,2,20070109,       0429,   3.720000, -3.9915000,          0,   277.2,  18.1170,  36.5694,2,  36.5687,2,    207.0,2,   205.7,2,    1.16,2,   0.039,2,    3.93,2,    0.01,2,    0.18,2, 2103.41,2, 2404.07,2,   277.2,  18.0686,    18.1192,2
316N20070207,       LMD4,      22,          1,         12,         12,2,20070109,       0429,   3.720000, -3.9915000,          0,   325.4,  17.9910,  36.5452,2,  36.5434,2,    201.3,2,   201.3,2,    1.33,2,   0.000,2,    4.50,2,    0.01,2,    0.21,2, 2105.10,2, 2391.98,2,   325.4,  17.9344,    17.9919,2
316N20070207,       LMD4,      22,          1,         11,         11,2,20070109,       0429,   3.720000, -3.9915000,          0,   374.1,  17.8743,  36.5214,2,  36.5202,2,    201.2,2,   202.7,2,    1.30,2,   0.010,2,    4.50,2,    0.00,2,    0.21,2, 2103.30,2, 2390.10,2,   374.1,  17.8095,    17.8745,2
316N20070207,       LMD4,      22,          1,         10,         10,2,20070109,       0429,   3.720000, -3.9915000,          0,   425.2,  17.6770,  36.4803,2,  36.4792,2,    199.1,2,   201.2,2,    1.37,2,   0.000,2,    4.96,2,    0.00,2,    0.24,2, 2107.33,2, 2387.36,2,   425.2,  17.6038,    17.6763,2
316N20070207,       LMD4,      22,          1,          9,         09,2,20070109,       0429,   3.720000, -3.9915000,          0,   478.0,  16.9944,  36.3474,2,  36.3463,2,    187.4,2,   186.5,2,    1.65,2,   1.191,2,    6.16,2,    0.05,2,    0.36,2, 2117.62,2, 2379.04,2,   478.0,  16.9142,    16.9946,2
316N20070207,       LMD4,      22,          1,          8,         08,2,20070109,       0429,   3.720000, -3.9915000,          0,   528.2,  16.2204,  36.2094,2,  36.2084,2,    184.8,2,   183.4,2,    2.76,2,   0.254,2,    8.95,2,    0.01,2,    0.50,2, 2124.49,2, 2374.80,2,   528.2,  16.1345,    16.2133,2
316N20070207,       LMD4,      22,          1,          7,         07,2,20070109,       0429,   3.720000, -3.9915000,          0,   572.5,  15.6684,  36.1115,2,  36.1128,2,    177.4,2,   176.3,2,    3.47,2,   0.010,2,   10.54,2,    0.00,2,    0.59,2, 2130.33,2, 2365.72,2,   572.5,  15.5773,    15.6907,2
316N20070207,       LMD4,      22,          1,          6,         06,2,20070109,       0429,   3.720000, -3.9915000,          0,   627.4,  14.5757,  35.9270,2,  35.9270,2,    179.2,2,   178.2,2,    3.86,2,   0.068,2,   11.09,2,    0.00,2,    0.65,2, 2138.37,2, 2358.79,2,   627.4,  14.4805,    14.5767,2
316N20070207,       LMD4,      22,          1,          5,         05,2,20070109,       0429,   3.720000, -3.9915000,          0,   676.3,  13.6860,  35.7919,2,  35.7933,2,    178.8,2,   179.2,2,    4.87,2,   0.088,2,   13.19,2,    0.00,2,    0.78,2, 2143.62,2, 2348.43,2,   676.3,  13.5874,    13.6937,2
316N20070207,       LMD4,      22,          1,          4,         04,2,20070109,       0429,   3.720000, -3.9915000,          0,   748.8,  12.5673,  35.6339,2,  35.6357,2,    162.5,2,   173.5,2,    5.05,2,   0.137,2,   12.68,2,    0.00,2,    0.81,2, 2152.65,2, 2338.34,2,   748.8,  12.4638,    12.5762,2
316N20070207,       LMD4,      22,          1,          3,         03,2,20070109,       0429,   3.720000, -3.9915000,          0,   841.0,  10.2014,  35.3364,2,  35.3373,2,    156.2,2,   155.6,2,    6.28,2,   0.733,3,   12.95,2,    0.01,2,    1.04,2, -999.00,9, -999.00,9,   841.0,  10.0990,    10.2097,2
316N20070207,       LMD4,      22,          1,          2,         02,2,20070109,       0429,   3.720000, -3.9915000,          0,   947.9,   7.6388,  35.0949,2,  35.0881,2,    173.1,2,   173.1,2, -999.00,9,-999.000,9, -999.00,9, -999.00,9, -999.00,9, -999.00,9, -999.00,9,   947.9,   7.5407,     7.6478,2
316N20070207,       LMD4,      22,          1,          1,         01,2,20070109,       0429,   3.720000, -3.9915000,          0,  1009.6,   6.5875,  35.0403,2,  35.0395,2,    198.7,2,   198.4,2, -999.00,9,-999.000,9, -999.00,9, -999.00,9, -999.00,9, 2174.11,2, 2311.76,2,  1009.6,   6.4904,     6.5864,2