BOTTLE,20230728SIOCCHCBG
EXPOCODE,SECT_ID,STNNBR,CASTNO,SAMPNO,BTLNBR,BTLNBR_FLAG_W,DATE,TIME,LATITUDE,LONGITUDE,DEPTH,CTDPRS,CTDTMP,CTDSAL,CTDSAL_FLAG_W,SALNTY,SALNTY_FLAG_W,CTDOXY,CTDOXY_FLAG_W,OXYGEN,OXYGEN_FLAG_W,SILCAT,SILCAT_FLAG_W,NH4,NH4_FLAG_W,NITRAT,NITRAT_FLAG_W,NITRIT,NITRIT_FLAG_W,PHSPHT,PHSPHT_FLAG_W,TCARBN,TCARBN_FLAG_W,ALKALI,ALKALI_FLAG_W,CTDRAW,THETA,SBE35T,SBE35T_FLAG_W
,,,,,,,,,,,METERS,DBAR,ITS-90,PSS-78,,PSS-78,,UMOL/KG,,UMOL/KG,,UMOL/KG,,UMOL/KG,,UMOL/KG,,UMOL/KG,,UMOL/KG,,UMOL/KG,,UMOL/KG,,DBAR,DEG C,ITS-90,
316N20070207,       LMD4,      44,          1,         21,         21,2,  -999.0,     -999.0,  47.330000, -1.7975000,       5039,     6.1,  20.5894,  36.5921,2,  36.5919,2,    215.8,3,   217.2,2,    0.47,2,   0.000,2,    0.39,2,    0.16,2,    0.03,2, -999.00,9, -999.00,9,     6.1,  20.5882,    20.5819,2
316N20070207,       LMD4,      44,          1,         20,         20,2,  -999.0,     -999.0,  47.330000, -1.7975000,       5039,    23.8,  20.5848,  36.5920,2,  36.5915,2,    215.7,3,   217.6,2, -999.00,9,-999.000,9, -999.00,9, -999.00,9, -999.00,9, -999.00,9, -999.00,9,    23.8,  20.5803,    20.5855,2
316N20070207,       LMD4,      44,          1,         19,         19,2,  -999.0,     -999.0,  47.330000, -1.7975000,       5039,    49.5,  20.5854,  36.5917,2,  36.5927,2,    216.3,2,   217.1,2, -999.00,9,-999.000,9, -999.00,9, -999.00,9, -999.00,9, -999.00,9, -999.00,9,    49.5,  20.5761,    20.5848,2
316N20070207,       LMD4,      44,          1,         18,         18,2,  -999.0,     -999.0,  47.330000, -1.7975000,       5039,    74.8,  20.5922,  36.5913,2,  36.5903,2,    217.8,2,   217.1,2, -999.00,9,-999.000,9, -999.00,9, -999.00,9, -999.00,9, -999.00,9, -999.00,9,    74.8,  20.5780,    20.5921,2
316N20070207,       LMD4,      44,          1,         17,         17,2,  -999.0,     -999.0,  47.330000, -1.7975000,       5039,    99.1,  20.5396,  36.5931,2,  36.5970,2,    218.6,2,   217.1,2,    0.57,2,   0.000,2,    0.40,2,    0.16,2,    0.03,2, -999.00,9, -999.00,9,    99.1,  20.5208,    20.5538,2
316N20070207,       LMD4,      44,          1,         16,         16,2,  -999.0,     -999.0,  47.330000, -1.7975000,       5039,   126.1,  20.0529,  36.6478,2,  36.6481,2,    213.2,2,   209.5,2,    0.76,2,   0.000,2,    1.06,2,    0.11,2,    0.05,2, -999.00,9, -999.00,9,   126.1,  20.0293,    20.0829,2
316N20070207,       LMD4,      44,          1,         15,         15,2,  -999.0,     -999.0,  47.330000, -1.7975000,       5039,   149.9,  19.2949,  36.6635,2,  36.6616,2,    209.5,2,   210.0,2,    0.87,2,   0.000,2,    1.73,2,    0.03,2,    0.07,2, -999.00,9, -999.00,9,   149.9,  19.2677,    19.2974,2
316N20070207,       LMD4,      44,          1,         14,         14,2,  -999.0,     -999.0,  47.330000, -1.7975000,       5039,   199.7,  18.9275,  36.6442,2,  36.6455,2,    207.4,2,   206.7,2,    0.86,2,   0.352,2,    2.52,2,    0.05,2,    0.11,2, -999.00,9, -999.00,9,   199.7,  18.8916,    18.9237,2
316N20070207,       LMD4,      44,          1,         13,         13,2,  -999.0,     -999.0,  47.330000, -1.7975000,       5039,   251.9,  18.6090,  36.6166,2,  36.6185,2,    206.0,2,   202.0,2,    1.06,2,   0.000,2,    3.17,2,    0.02,2,    0.14,2, -999.00,9, -999.00,9,   251.9,  18.5642,    18.6134,2
316N20070207,       LMD4,      44,          1,         12,         12,2,  -999.0,     -999.0,  47.330000, -1.7975000,       5039,   300.2,  18.3167,  36.5961,2,  36.5959,2,    204.0,2,   206.5,2,    1.16,2,   0.000,2,    3.54,2,    0.02,2,    0.17,2, -999.00,9, -999.00,9,   300.2,  18.2638,    18.3148,2
316N20070207,       LMD4,      44,          1,         11,         11,2,  -999.0,     -999.0,  47.330000, -1.7975000,       5039,   350.6,  18.0277,  36.5516,2,  36.5522,2,   -999.0,9,  -999.0,5,    1.37,2,   0.020,2,    4.53,2,    0.02,2,    0.21,2, -999.00,9, -999.00,9,   350.6,  17.9666,    18.0306,2
316N20070207,       LMD4,      44,          1,         10,         10,2,  -999.0,     -999.0,  47.330000, -1.7975000,       5039,   398.5,  17.6981,  36.4866,2,  36.4860,2,    194.6,2,   194.1,2,    1.67,2,   0.059,2,    5.79,2,    0.02,2,    0.28,2, -999.00,9, -999.00,9,   398.5,  17.6295,    17.6931,2
316N20070207,       LMD4,      44,          1,          9,         09,2,  -999.0,     -999.0,  47.330000, -1.7975000,       5039,   449.6,  17.0625,  36.3676,2,  36.3659,2,    183.5,2,   184.0,2,    2.29,2,   0.000,2,    7.60,2,    0.02,2,    0.40,2, -999.00,9, -999.00,9,   449.6,  16.9869,    17.0628,2
316N20070207,       LMD4,      44,          1,          8,         08,2,  -999.0,     -999.0,  47.330000, -1.7975000,       5039,   499.3,  16.0893,  36.1971,2,  36.1949,2,    176.7,2,   177.5,2,    3.10,2,   0.020,2,    9.91,2,    0.02,2,    0.54,2, -999.00,9, -999.00,9,   499.3,  16.0086,    16.0888,2
316N20070207,       LMD4,      44,          1,          7,         07,2,  -999.0,     -999.0,  47.330000, -1.7975000,       5039,   550.8,  15.2475,  36.0533,2,  36.0534,2,    171.8,2,   172.6,2,    3.92,2,   0.010,2,   11.81,2,    0.02,2,    0.66,2, -999.00,9, -999.00,9,   550.8,  15.1615,    15.2478,2
316N20070207,       LMD4,      44,          1,          6,         06,2,  -999.0,     -999.0,  47.330000, -1.7975000,       5039,   600.0,  14.2668,  35.8963,2,  35.8968,2,    166.9,2,   165.7,2,    5.04,2,   0.068,2,   13.81,2,    0.02,2,    0.80,2, -999.00,9, -999.00,9,   600.0,  14.1772,    14.2772,2
316N20070207,       LMD4,      44,          1,          5,         05,2,  -999.0,     -999.0,  47.330000, -1.7975000,       5039,   649.4,  13.1754,  35.7230,2,  35.7376,2,    157.6,2,   158.3,2,    6.67,2,   0.000,2,   16.51,2,    0.01,2,    0.98,2, -999.00,9, -999.00,9,   649.4,  13.0832,    13.1886,2
316N20070207,       LMD4,      44,          1,          4,         04,2,  -999.0,     -999.0,  47.330000, -1.7975000,       5039,   724.6,  10.8289,  35.3929,2,  35.3990,2,    145.3,2,   145.3,2,   11.01,2,   0.635,3,   21.64,2,    0.06,2,    1.34,2, -999.00,9, -999.00,9,   724.6,  10.7379,    10.8543,2
316N20070207,       LMD4,      44,          1,          3,         03,2,  -999.0,     -999.0,  47.330000, -1.7975000,       5039,   800.5,   8.7690,  35.1304,2,  35.1290,2,    139.3,2,   135.7,2,   16.18,2,   0.117,2,   26.37,2,    0.02,2,    1.67,2, -999.00,9, -999.00,9,   800.5,   8.6802,     8.7710,2
316N20070207,       LMD4,      44,          1,          2,         02,2,  -999.0,     -999.0,  47.330000, -1.7975000,       5039,   899.9,   6.9438,  35.0848,2,  35.0834,2,    182.4,2,   184.0,2, -999.00,9,-999.000,9, -999.00,9, -999.00,9, -999.00,9, -999.00,9, -999.00,9,   899.9,   6.8555,     6.9345,2
316N20070207,       LMD4,      44,          1,          1,         01,2,  -999.0,     -999.0,  47.330000, -1.7975000,       5039,  1018.4,   5.6539,  35.0450,2,  35.0449,2,    219.6,2,   219.7,2, -999.00,9,-999.000,9, -999.00,9, -999.00,9, -999.00,9, -999.00,9, -999.00,9,  1018.4,   5.5630,     5.6548,2
316N20070207,       LMD4,      45,          1,         21,         21,2,  -999.0,     -999.0,  57.220000, -1.7888333,       5044,     2.0,  20.5744,  36.6498,2,  36.6478,2,    202.0,3,   205.2,2,    0.73,2,   0.000,2,    1.83,2,    0.09,2,    0.10,2, -999.00,9, -999.00,9,     2.0,  20.5740,    20.5738,2
316N20070207,       LMD4,      45,          1,         20,         20,2,  -999.0,     -999.0,  57.220000, -1.7888333,       5044,    24.8,  20.1993,  36.6373,2,  36.6370,2,    194.4,2,   191.2,2, -999.00,9,-999.000,9, -999.00,9, -999.00,9, -999.00,9, -999.00,9, -999.00,9,    24.8,  20.1947,    20.1994,2
316N20070207,       LMD4,      45,          1,         19,         19,2,  -999.0,     -999.0,  57.220000, -1.7888333,       5044,    50.0,  20.0125,  36.6350,2,  36.6300,2,    193.7,2,   189.9,2, -999.00,9,-999.000,9, -999.00,9, -999.00,9, -999.00,9, -999.00,9, -999.00,9,    50.0,  20.0032,    20.0274,2
316N20070207,       LMD4,      45,          1,         18,         18,2,  -999.0,     -999.0,  57.220000, -1.7888333,       5044,    75.1,  19.5320,  36.5675,2,  36.5650,2,    187.1,2,   192.3,2, -999.00,9,-999.000,9, -999.00,9, -999.00,9, -999.00,9, -999.00,9, -999.00,9,    75.1,  19.5182,    19.5304,2
316N20070207,       LMD4,      45,          1,         17,         17,2,  -999.0,     -999.0,  57.220000, -1.7888333,       5044,   100.1,  19.3471,  36.5440,2,  36.5431,2,    191.2,2,   192.6,2,    1.04,2,   0.615,2,    3.15,2,    0.11,2,    0.18,2, -999.00,9, -999.00,9,   100.1,  19.3289,    19.3454,2
316N20070207,       LMD4,      45,          1,         16,         16,2,  -999.0,     -999.0,  57.220000, -1.7888333,       5044,   125.3,  19.3860,  36.5953,2,  36.6109,2,    174.3,2,   179.1,2,    1.14,2,   0.469,2,    3.83,2,    0.06,2,    0.21,2, -999.00,9, -999.00,9,   125.3,  19.3631,    19.3776,2
316N20070207,       LMD4,      45,          1,         15,         15,2,  -999.0,     -999.0,  57.220000, -1.7888333,       5044,   175.3,  18.3358,  36.5837,2,  36.5921,2,    172.9,2,   197.0,2,    1.04,2,   1.387,2,    3.57,2,    0.11,2,    0.18,2, -999.00,9, -999.00,9,   175.3,  18.3050,    18.3297,2
316N20070207,       LMD4,      45,          1,         14,         14,2,  -999.0,     -999.0,  57.220000, -1.7888333,       5044,   225.7,  18.0645,  36.5555,2,  36.5541,2,    186.1,2,   199.2,2,    1.34,2,   0.000,2,    4.55,2,    0.02,2,    0.21,2, -999.00,9, -999.00,9,   225.7,  18.0252,    18.0660,2
316N20070207,       LMD4,      45,          1,         13,         13,2,  -999.0,     -999.0,  57.220000, -1.7888333,       5044,   274.3,  17.5776,  36.4627,2,  36.4624,2,    188.5,2,   189.6,2,    1.74,2,   0.000,2,    6.26,2,    0.02,2,    0.31,2, -999.00,9, -999.00,9,   274.3,  17.5307,    17.5802,2
316N20070207,       LMD4,      45,          1,         12,         12,2,  -999.0,     -999.0,  57.220000, -1.7888333,       5044,   324.1,  15.4674,  35.9823,2,  35.9818,2,    172.0,2,   192.4,2,    3.27,3,   0.088,2,    9.05,3,    0.08,2,    0.53,3, -999.00,9, -999.00,9,   324.1,  15.4167,    15.5802,2
316N20070207,       LMD4,      45,          1,         11,         11,2,  -999.0,     -999.0,  57.220000, -1.7888333,       5044,   372.9,  14.1213,  35.7104,2,  35.7034,2,    225.4,2,   227.0,2,    2.45,2,   0.733,2,    6.18,2,    0.11,2,    0.42,2, -999.00,9, -999.00,9,   372.9,  14.0664,    14.1044,2
316N20070207,       LMD4,      45,          1,         10,         10,2,  -999.0,     -999.0,  57.220000, -1.7888333,       5044,   424.5,  14.5535,  35.8589,2,  35.8565,2,    224.1,2,   224.4,2,    2.86,2,   0.000,2,    6.99,2,    0.06,2,    0.43,2, -999.00,9, -999.00,9,   424.5,  14.4896,    14.5514,2
316N20070207,       LMD4,      45,          1,          9,         09,2,  -999.0,     -999.0,  57.220000, -1.7888333,       5044,   474.2,  12.7954,  35.4986,2,  35.4735,2,    201.6,2,   201.2,2,    5.21,2,   0.088,2,   11.99,2,    0.08,2,    0.76,2, -999.00,9, -999.00,9,   474.2,  12.7299,    12.7680,2
316N20070207,       LMD4,      45,          1,          8,         08,2,  -999.0,     -999.0,  57.220000, -1.7888333,       5044,   525.2,  11.9330,  35.5295,2,  35.5301,2,    141.5,2,   138.3,2,   10.14,2,   0.283,2,   20.85,2,    0.03,2,    1.27,2, -999.00,9, -999.00,9,   525.2,  11.8634,    11.9209,2
316N20070207,       LMD4,      45,          1,          7,         07,2,  -999.0,     -999.0,  57.220000, -1.7888333,       5044,   575.8,  10.4227,  35.3249,2,  35.3252,2,    139.5,2,   139.3,2,   12.00,2,   0.098,2,   22.78,2,    0.03,2,    1.42,2, -999.00,9, -999.00,9,   575.8,  10.3526,    10.4271,2
316N20070207,       LMD4,      45,          1,          6,         06,2,  -999.0,     -999.0,  57.220000, -1.7888333,       5044,   625.5,   9.2254,  35.2045,2,  35.2081,2,    140.9,2,   142.0,2,   13.96,2,   0.029,2,   24.41,2,    0.02,2,    1.54,2, -999.00,9, -999.00,9,   625.5,   9.1546,     9.2288,2
316N20070207,       LMD4,      45,          1,          5,         05,2,  -999.0,     -999.0,  57.220000, -1.7888333,       5044,   675.2,   8.1871,  35.1394,2,  35.1433,2,    154.3,2,   157.4,2,   14.06,2,   0.059,2,   23.76,2,    0.02,2,    1.53,2, -999.00,9, -999.00,9,   675.2,   8.1156,     8.1653,2
316N20070207,       LMD4,      45,          1,          4,         04,2,  -999.0,     -999.0,  57.220000, -1.7888333,       5044,   757.2,   7.1223,  35.0942,2,  35.0948,2,    178.1,2,   180.3,2,   13.75,2,   0.117,2,   22.47,2,    0.02,2,    1.45,2, -999.00,9, -999.00,9,   757.2,   7.0477,     7.1167,2
316N20070207,       LMD4,      45,          1,          3,         03,2,  -999.0,     -999.0,  57.220000, -1.7888333,       5044,   848.9,   5.7581,  35.0410,2,  35.0416,2,    214.3,2,   213.7,2,   12.81,2,   0.039,2,   20.37,2,    0.01,2,    1.33,2, -999.00,9, -999.00,9,   848.9,   5.6827,     5.7577,2
316N20070207,       LMD4,      45,          1,          2,         02,2,  -999.0,     -999.0,  57.220000, -1.7888333,       5044,   949.5,   5.1150,  35.0084,2,  35.0089,2,    233.2,2,   233.5,2, -999.00,9,-999.000,9, -999.00,9, -999.00,9, -999.00,9, -999.00,9, -999.00,9,   949.5,   5.0346,     5.1170,2
316N20070207,       LMD4,      45,          1,          1,         01,2,  -999.0,     -999.0,  57.220000, -1.7888333,       5044,  1000.1,   4.8546,  34.9918,2,  34.9914,2,    241.7,2,   242.3,2, -999.00,9,-999.000,9, -999.00,9, -999.00,9, -999.00,9, -999.00,9, -999.00,9,  1000.1,   4.7716,     4.8587,2