BOTTLE,20230728SIOCCHCBG
EXPOCODE,SECT_ID,STNNBR,CASTNO,SAMPNO,BTLNBR,BTLNBR_FLAG_W,DATE,TIME,LATITUDE,LONGITUDE,DEPTH,CTDPRS,CTDTMP,CTDSAL,CTDSAL_FLAG_W,SALNTY,SALNTY_FLAG_W,CTDOXY,CTDOXY_FLAG_W,OXYGEN,OXYGEN_FLAG_W,SILCAT,SILCAT_FLAG_W,NH4,NH4_FLAG_W,NITRAT,NITRAT_FLAG_W,NITRIT,NITRIT_FLAG_W,PHSPHT,PHSPHT_FLAG_W,TCARBN,TCARBN_FLAG_W,ALKALI,ALKALI_FLAG_W,CTDRAW,THETA,SBE35T,SBE35T_FLAG_W
,,,,,,,,,,,METERS,DBAR,ITS-90,PSS-78,,PSS-78,,UMOL/KG,,UMOL/KG,,UMOL/KG,,UMOL/KG,,UMOL/KG,,UMOL/KG,,UMOL/KG,,UMOL/KG,,UMOL/KG,,DBAR,DEG C,ITS-90,
316N20070207,       LMD4,       5,          1,         24,         24,2,20070101,       2032,  18.730000, -6.1183333,       4956,     4.2,  19.0406,  36.6177,2,  36.6161,2,    222.6,2,   222.4,2,    1.01,2,   0.000,2,    0.87,2,    0.12,2,    0.06,2, 2073.36,2, 2396.80,2,     4.2,  19.0399,    19.0415,2
316N20070207,       LMD4,       5,          1,         23,         23,9,20070101,       2032,  18.730000, -6.1183333,       4956,     4.4,  19.0408,  36.6179,2,-999.0000,9,   -999.0,9,  -999.0,9, -999.00,9,-999.000,9, -999.00,9, -999.00,9, -999.00,9, -999.00,9, -999.00,9,     4.4,  19.0400,    19.0399,2
316N20070207,       LMD4,       5,          1,         22,         22,2,20070101,       2032,  18.730000, -6.1183333,       4956,    25.5,  19.0587,  36.6171,2,  36.6156,2,    223.2,2,   222.3,2, -999.00,9,-999.000,9, -999.00,9, -999.00,9, -999.00,9, 2071.85,2, 2399.11,2,    25.5,  19.0542,    19.0584,2
316N20070207,       LMD4,       5,          1,         21,         21,2,20070101,       2032,  18.730000, -6.1183333,       4956,    51.1,  19.0442,  36.6170,2,  36.6160,2,    222.6,2,   222.1,2, -999.00,9,-999.000,9, -999.00,9, -999.00,9, -999.00,9, 2074.22,2, 2398.09,2,    51.1,  19.0350,    19.0429,2
316N20070207,       LMD4,       5,          1,         20,         20,2,20070101,       2032,  18.730000, -6.1183333,       4956,    75.7,  18.9521,  36.6159,2,  36.6143,2,    221.7,2,   220.7,2, -999.00,9,-999.000,9, -999.00,9, -999.00,9, -999.00,9, 2076.51,2, 2401.20,2,    75.7,  18.9385,    18.9464,2
316N20070207,       LMD4,       5,          1,         19,         19,9,20070101,       2032,  18.730000, -6.1183333,       4956,   101.1,  18.9021,  36.6141,2,-999.0000,9,   -999.0,9,  -999.0,9, -999.00,9,-999.000,9, -999.00,9, -999.00,9, -999.00,9, -999.00,9, -999.00,9,   101.1,  18.8839,    18.9017,2
316N20070207,       LMD4,       5,          1,         18,         18,2,20070101,       2032,  18.730000, -6.1183333,       4956,   126.3,  18.8953,  36.6143,2,  36.6102,2,    220.2,2,   220.5,2,    0.98,2,   0.010,2,    1.24,2,    0.11,2,    0.07,2, 2079.59,2, 2397.70,2,   126.3,  18.8726,    18.8951,2
316N20070207,       LMD4,       5,          1,         17,         17,2,20070101,       2032,  18.730000, -6.1183333,       4956,   175.8,  18.8932,  36.6154,2,  36.6144,2,    220.1,2,   219.8,2,    0.96,2,   0.078,2,    1.24,2,    0.12,2,    0.07,2, 2083.66,2, 2405.35,2,   175.8,  18.8617,    18.8920,2
316N20070207,       LMD4,       5,          1,         15,         15,9,20070101,       2032,  18.730000, -6.1183333,       4956,   225.2,  18.8996,  36.6167,2,-999.0000,9,   -999.0,9,  -999.0,9, -999.00,9,-999.000,9, -999.00,9, -999.00,9, -999.00,9, -999.00,9, -999.00,9,   225.2,  18.8592,    18.8997,2
316N20070207,       LMD4,       5,          1,         16,         16,2,20070101,       2032,  18.730000, -6.1183333,       4956,   225.5,  18.8997,  36.6165,2,  36.6168,2,    219.1,2,   219.6,2,    0.94,2,   0.000,2,    1.29,2,    0.11,2,    0.07,2, 2097.46,3, 2407.78,3,   225.5,  18.8592,    18.8998,2
316N20070207,       LMD4,       5,          1,         14,         14,2,20070101,       2032,  18.730000, -6.1183333,       4956,   301.3,  18.7417,  36.6119,2,  36.6095,2,    209.2,2,   209.5,2,    1.11,2,   0.107,2,    2.39,2,    0.07,2,    0.12,2, 2093.39,2, 2398.32,2,   301.3,  18.6878,    18.7414,2
316N20070207,       LMD4,       5,          1,         13,         13,2,20070101,       2032,  18.730000, -6.1183333,       4956,   326.4,  18.4279,  36.6025,2,  36.6020,2,    204.0,2,   204.1,2,    1.09,2,   0.098,2,    3.18,2,    0.02,2,    0.16,2, 2101.45,2, 2399.05,2,   326.4,  18.3702,    18.4274,2
316N20070207,       LMD4,       5,          1,         11,         11,9,20070101,       2032,  18.730000, -6.1183333,       4956,   375.9,  18.3237,  36.5984,2,-999.0000,9,   -999.0,9,  -999.0,9, -999.00,9,-999.000,9, -999.00,9, -999.00,9, -999.00,9, -999.00,9, -999.00,9,   375.9,  18.2574,    18.3237,2
316N20070207,       LMD4,       5,          1,         12,         12,2,20070101,       2032,  18.730000, -6.1183333,       4956,   376.8,  18.3234,  36.5983,2,  36.5973,2,    206.1,2,   207.1,2,    1.07,2,   0.273,2,    2.89,2,    0.03,2,    0.16,2, 2100.12,2, 2395.50,2,   376.8,  18.2570,    18.3232,2
316N20070207,       LMD4,       5,          1,         10,         10,2,20070101,       2032,  18.730000, -6.1183333,       4956,   426.5,  18.1976,  36.5817,2,  36.5780,2,    204.8,2,   205.3,2,    0.95,2,   0.449,2,    2.81,2,    0.05,2,    0.16,2, 2104.32,2, 2387.83,2,   426.5,  18.1226,    18.1976,2
316N20070207,       LMD4,       5,          1,          9,         09,2,20070101,       2032,  18.730000, -6.1183333,       4956,   477.9,  17.9678,  36.5360,2,  36.5350,2,    198.9,2,   199.1,2,    1.34,2,   0.878,2,    4.17,2,    0.05,2,    0.22,2, 2110.05,2, 2393.72,2,   477.9,  17.8844,    17.9668,2
316N20070207,       LMD4,       5,          1,          8,         08,2,20070101,       2032,  18.730000, -6.1183333,       4956,   527.5,  17.5187,  36.4483,2,  36.4522,2,    190.2,2,   190.6,2,    2.03,2,   0.010,2,    6.08,2,    0.01,2,    0.33,2, 2113.73,2, 2387.22,2,   527.5,  17.4282,    17.5225,2
316N20070207,       LMD4,       5,          1,          7,         07,9,20070101,       2032,  18.730000, -6.1183333,       4956,   576.8,  16.9004,  36.3360,2,-999.0000,9,   -999.0,9,  -999.0,9, -999.00,9,-999.000,9, -999.00,9, -999.00,9, -999.00,9, -999.00,9, -999.00,9,   576.8,  16.8038,    16.8722,2
316N20070207,       LMD4,       5,          1,          6,         06,2,20070101,       2032,  18.730000, -6.1183333,       4956,   626.7,  16.0309,  36.1822,2,  36.1842,2,    180.0,2,   180.3,2,    2.72,2,   0.107,2,    8.09,2,    0.02,2,    0.50,2, 2125.67,2, 2370.58,2,   626.7,  15.9296,    16.0208,2
316N20070207,       LMD4,       5,          1,          5,         05,2,20070101,       2032,  18.730000, -6.1183333,       4956,   675.1,  15.1681,  36.0306,2,  36.0351,2,    171.9,2,   172.3,2,    4.25,2,   0.000,2,   11.68,2,    0.01,2,    0.68,2, 2136.66,2, 2362.51,2,   675.1,  15.0628,    15.1655,2
316N20070207,       LMD4,       5,          1,          4,         04,2,20070101,       2032,  18.730000, -6.1183333,       4956,   750.9,  13.4560,  35.7509,2,  35.7523,2,    158.2,2,   157.0,2,    6.71,2,   0.000,2,   16.08,2,    0.01,2,    0.97,2, 2151.91,2, 2362.77,2,   750.9,  13.3475,    13.4567,2
316N20070207,       LMD4,       5,          1,          3,         03,9,20070101,       2032,  18.730000, -6.1183333,       4956,   852.0,  11.1202,  35.4264,2,-999.0000,9,   -999.0,9,  -999.0,9, -999.00,9,-999.000,9, -999.00,9, -999.00,9, -999.00,9, -999.00,9, -999.00,9,   852.0,  11.0108,    11.1156,2
316N20070207,       LMD4,       5,          1,          2,         02,2,20070101,       2032,  18.730000, -6.1183333,       4956,   952.4,   8.7771,  35.1791,2,  35.1797,2,    148.1,2,   149.2,2, -999.00,9,-999.000,9, -999.00,9, -999.00,9, -999.00,9, -999.00,9, -999.00,9,   952.4,   8.6705,     8.7945,2
316N20070207,       LMD4,       5,          1,          1,         01,2,20070101,       2032,  18.730000, -6.1183333,       4956,  1019.1,   7.3920,  35.1100,2,  35.1096,2,    174.9,2,   175.5,2, -999.00,9,-999.000,9, -999.00,9, -999.00,9, -999.00,9, 2174.41,2, 2318.53,2,  1019.1,   7.2879,     7.3852,2
316N20070207,       LMD4,       6,          1,         23,         23,9,20070102,       0033,  31.060000, -6.0808333,       4928,     3.4,  20.4150,  36.5928,2,-999.0000,9,   -999.0,9,  -999.0,9, -999.00,9,-999.000,9, -999.00,9, -999.00,9, -999.00,9, -999.00,9, -999.00,9,     3.4,  20.4144,    20.4150,2
316N20070207,       LMD4,       6,          1,         24,         24,2,20070102,       0033,  31.060000, -6.0808333,       4928,     3.6,  20.4145,  36.5928,2,  36.5936,2,    215.2,2,   215.4,2,    1.01,2,   0.020,2,    0.54,2,    0.22,2,    0.05,2, 2063.60,2, 2397.71,2,     3.6,  20.4139,    20.4146,2
316N20070207,       LMD4,       6,          1,         22,         22,2,20070102,       0033,  31.060000, -6.0808333,       4928,    24.9,  20.4166,  36.5929,2,  36.5932,2,    216.6,2,   215.7,2, -999.00,9,-999.000,9, -999.00,9, -999.00,9, -999.00,9, 2065.57,2, 2395.42,2,    24.9,  20.4119,    20.4170,2
316N20070207,       LMD4,       6,          1,         21,         21,2,20070102,       0033,  31.060000, -6.0808333,       4928,    50.0,  20.4181,  36.5931,2,  36.5936,2,    216.7,2,   215.7,2, -999.00,9,-999.000,9, -999.00,9, -999.00,9, -999.00,9, 2063.20,2, 2396.62,2,    50.0,  20.4087,    20.4182,2
316N20070207,       LMD4,       6,          1,         20,         20,2,20070102,       0033,  31.060000, -6.0808333,       4928,    74.8,  20.4195,  36.5930,2,  36.5920,2,    216.4,2,   214.9,2, -999.00,9,-999.000,9, -999.00,9, -999.00,9, -999.00,9, 2064.01,2, 2399.97,2,    74.8,  20.4054,    20.4179,2
316N20070207,       LMD4,       6,          1,         19,         19,9,20070102,       0033,  31.060000, -6.0808333,       4928,   100.1,  20.3788,  36.5943,2,-999.0000,9,   -999.0,9,  -999.0,9, -999.00,9,-999.000,9, -999.00,9, -999.00,9, -999.00,9, -999.00,9, -999.00,9,   100.1,  20.3599,    20.3845,2
316N20070207,       LMD4,       6,          1,         18,         18,2,20070102,       0033,  31.060000, -6.0808333,       4928,   124.9,  19.5183,  36.6090,2,  36.6104,2,    214.0,2,   218.8,2,    0.79,2,   0.195,2,    0.60,2,    0.20,2,    0.04,2, 2070.45,2, 2397.82,2,   124.9,  19.4954,    19.5162,2
316N20070207,       LMD4,       6,          1,         17,         17,2,20070102,       0033,  31.060000, -6.0808333,       4928,   150.2,  19.1865,  36.6239,2,  36.6237,2,    220.3,2,   215.1,2,    0.77,2,   0.234,2,    1.08,2,    0.13,2,    0.06,2, 2082.91,2, 2399.11,2,   150.2,  19.1593,    19.2114,2
316N20070207,       LMD4,       6,          1,         15,         15,9,20070102,       0033,  31.060000, -6.0808333,       4928,   201.2,  18.8916,  36.6224,2,-999.0000,9,   -999.0,9,  -999.0,9, -999.00,9,-999.000,9, -999.00,9, -999.00,9, -999.00,9, -999.00,9, -999.00,9,   201.2,  18.8555,    18.8911,2
316N20070207,       LMD4,       6,          1,         16,         16,2,20070102,       0033,  31.060000, -6.0808333,       4928,   203.4,  18.8906,  36.6223,2,  36.6247,2,    220.0,2,   220.1,2,    0.75,2,   0.371,2,    1.21,2,    0.13,2,    0.07,2, 2080.98,2, 2397.36,2,   203.4,  18.8541,    18.8900,2
316N20070207,       LMD4,       6,          1,         14,         14,2,20070102,       0033,  31.060000, -6.0808333,       4928,   250.5,  18.8159,  36.6253,2,  36.6275,2,    208.5,2,   215.1,2,    0.83,2,   0.107,2,    1.52,2,    0.10,2,    0.09,2, 2085.50,2, 2398.63,2,   250.5,  18.7710,    18.8151,2
316N20070207,       LMD4,       6,          1,         13,         13,2,20070102,       0033,  31.060000, -6.0808333,       4928,   301.2,  18.4233,  36.6042,2,  36.6130,2,    204.7,2,   204.6,2,    1.21,2,   0.029,2,    3.23,2,    0.02,2,    0.17,2, 2100.92,2, 2396.83,2,   301.2,  18.3701,    18.4229,2
316N20070207,       LMD4,       6,          1,         12,         12,2,20070102,       0033,  31.060000, -6.0808333,       4928,   349.9,  18.3496,  36.6014,2,-999.0000,5,    208.5,2,   208.0,2,    1.09,2,   0.166,2,    3.00,2,    0.02,2,    0.16,2, 2097.94,2, 2398.68,2,   349.9,  18.2879,    18.3460,2
316N20070207,       LMD4,       6,          1,         11,         11,9,20070102,       0033,  31.060000, -6.0808333,       4928,   399.6,  18.2276,  36.5912,2,-999.0000,9,   -999.0,9,  -999.0,9, -999.00,9,-999.000,9, -999.00,9, -999.00,9, -999.00,9, -999.00,9, -999.00,9,   399.6,  18.1573,    18.2271,2
316N20070207,       LMD4,       6,          1,         10,         10,2,20070102,       0033,  31.060000, -6.0808333,       4928,   400.0,  18.2267,  36.5911,2,  36.5856,2,    207.8,2,   206.8,2,    1.27,2,   0.000,2,    3.46,2,    0.01,2,    0.18,2, 2100.32,2, 2399.10,2,   400.0,  18.1564,    18.2266,2
316N20070207,       LMD4,       6,          1,          9,         09,2,20070102,       0033,  31.060000, -6.0808333,       4928,   449.4,  17.9628,  36.5406,2,  36.5404,2,    203.2,2,   202.0,2,    1.45,2,   0.312,2,    4.33,2,    0.03,2,    0.23,2, 2104.28,2, 2394.25,2,   449.4,  17.8846,    17.9699,2
316N20070207,       LMD4,       6,          1,          8,         08,2,20070102,       0033,  31.060000, -6.0808333,       4928,   499.8,  17.5103,  36.4468,2,  36.4477,2,    192.5,2,   191.3,2,    1.74,2,   0.078,2,    5.66,2,    0.02,2,    0.31,2, 2112.41,2, 2388.77,2,   499.8,  17.4247,    17.5136,2
316N20070207,       LMD4,       6,          1,          7,         07,9,20070102,       0033,  31.060000, -6.0808333,       4928,   550.7,  16.9521,  36.3423,2,-999.0000,9,   -999.0,9,  -999.0,9, -999.00,9,-999.000,9, -999.00,9, -999.00,9, -999.00,9, -999.00,9, -999.00,9,   550.7,  16.8597,    16.9599,2
316N20070207,       LMD4,       6,          1,          6,         06,2,20070102,       0033,  31.060000, -6.0808333,       4928,   600.3,  15.7898,  36.1321,2,  36.1403,2,    175.7,2,   176.6,2,    3.47,2,   0.000,2,   10.26,2,    0.01,2,    0.58,2, 2130.79,2, 2371.35,2,   600.3,  15.6937,    15.8468,2
316N20070207,       LMD4,       6,          1,          5,         05,2,20070102,       0033,  31.060000, -6.0808333,       4928,   650.8,  14.6405,  35.9432,2,  35.9530,2,    166.7,2,   167.3,2,    4.69,2,   0.068,2,   12.69,2,    0.01,2,    0.75,2, 2142.43,2, 2359.27,2,   650.8,  14.5414,    14.6709,2
316N20070207,       LMD4,       6,          1,          4,         04,2,20070102,       0033,  31.060000, -6.0808333,       4928,   724.9,  12.9319,  35.6717,2,  35.6812,2,    153.3,2,   152.8,2,    6.53,2,   0.352,2,   15.43,2,    0.02,2,    1.00,2, 2154.73,2, 2345.29,2,   724.9,  12.8299,    12.9593,2
316N20070207,       LMD4,       6,          1,          3,         03,9,20070102,       0033,  31.060000, -6.0808333,       4928,   800.6,  11.2339,  35.4374,2,-999.0000,9,   -999.0,9,  -999.0,9, -999.00,9,-999.000,9, -999.00,9, -999.00,9, -999.00,9, -999.00,9, -999.00,9,   800.6,  11.1307,    11.2350,2
316N20070207,       LMD4,       6,          1,          2,         02,2,20070102,       0033,  31.060000, -6.0808333,       4928,   900.8,   8.8607,  35.1869,2,  35.1908,2,    143.9,2,   168.6,4, -999.00,9,-999.000,9, -999.00,9, -999.00,9, -999.00,9, -999.00,9, -999.00,9,   900.8,   8.7595,     8.8733,2
316N20070207,       LMD4,       6,          1,          1,         01,2,20070102,       0033,  31.060000, -6.0808333,       4928,  1027.5,   6.7841,  35.0866,2,  35.0886,2,    190.9,2,   208.6,4, -999.00,9,-999.000,9, -999.00,9, -999.00,9, -999.00,9, 2175.70,2, 2317.14,2,  1027.5,   6.6836,     6.7994,2