BOTTLE,20230728SIOCCHCBG
EXPOCODE,SECT_ID,STNNBR,CASTNO,SAMPNO,BTLNBR,BTLNBR_FLAG_W,DATE,TIME,LATITUDE,LONGITUDE,DEPTH,CTDPRS,CTDTMP,CTDSAL,CTDSAL_FLAG_W,SALNTY,SALNTY_FLAG_W,CTDOXY,CTDOXY_FLAG_W,OXYGEN,OXYGEN_FLAG_W,SILCAT,SILCAT_FLAG_W,NH4,NH4_FLAG_W,NITRAT,NITRAT_FLAG_W,NITRIT,NITRIT_FLAG_W,PHSPHT,PHSPHT_FLAG_W,TCARBN,TCARBN_FLAG_W,ALKALI,ALKALI_FLAG_W,CTDRAW,THETA,SBE35T,SBE35T_FLAG_W
,,,,,,,,,,,METERS,DBAR,ITS-90,PSS-78,,PSS-78,,UMOL/KG,,UMOL/KG,,UMOL/KG,,UMOL/KG,,UMOL/KG,,UMOL/KG,,UMOL/KG,,UMOL/KG,,UMOL/KG,,DBAR,DEG C,ITS-90,
316N20070207,       LMD4,      39,          1,         21,         21,2,  -999.0,     -999.0,  26.510000, -6.0345000,       4671,     3.2,  22.4376,  36.5368,2,  36.5366,2,    205.0,2,   204.6,2,    0.65,2,   0.049,2,    0.70,2,    0.06,2,    0.05,2, -999.00,9, -999.00,9,     3.2,  22.4369,    22.4395,2
316N20070207,       LMD4,      39,          1,         20,         20,2,  -999.0,     -999.0,  26.510000, -6.0345000,       4671,    25.3,  22.4447,  36.5359,2,  36.5366,2,    204.5,2,   204.4,2, -999.00,9,-999.000,9, -999.00,9, -999.00,9, -999.00,9, -999.00,9, -999.00,9,    25.3,  22.4396,    22.4454,2
316N20070207,       LMD4,      39,          1,         19,         19,2,  -999.0,     -999.0,  26.510000, -6.0345000,       4671,    50.6,  22.4467,  36.5492,2,  36.5538,2,    201.8,2,   202.1,2, -999.00,9,-999.000,9, -999.00,9, -999.00,9, -999.00,9, -999.00,9, -999.00,9,    50.6,  22.4365,    22.4464,2
316N20070207,       LMD4,      39,          1,         18,         18,2,  -999.0,     -999.0,  26.510000, -6.0345000,       4671,    75.3,  22.3926,  36.6086,2,  36.5984,2,    192.6,2,   193.4,2, -999.00,9,-999.000,9, -999.00,9, -999.00,9, -999.00,9, -999.00,9, -999.00,9,    75.3,  22.3774,    22.4021,2
316N20070207,       LMD4,      39,          1,         17,         17,2,  -999.0,     -999.0,  26.510000, -6.0345000,       4671,   101.0,  21.1746,  36.7750,2,  36.7699,2,    152.3,2,   152.6,2,    1.68,2,   0.000,2,    5.41,2,    0.03,2,    0.26,2, -999.00,9, -999.00,9,   101.0,  21.1550,    21.1640,2
316N20070207,       LMD4,      39,          1,         16,         16,2,  -999.0,     -999.0,  26.510000, -6.0345000,       4671,   125.3,  19.7920,  36.6106,2,  36.6135,2,    157.9,2,   157.5,2,    1.98,2,   0.244,2,    6.22,2,    0.10,2,    0.32,2, -999.00,9, -999.00,9,   125.3,  19.7688,    19.7923,2
316N20070207,       LMD4,      39,          1,         15,         15,2,  -999.0,     -999.0,  26.510000, -6.0345000,       4671,   175.0,  17.9897,  36.4236,2,  36.4218,2,    145.5,2,   147.1,2,    3.21,2,   0.000,2,   10.14,2,    0.02,2,    0.54,2, -999.00,9, -999.00,9,   175.0,  17.9594,    17.9830,2
316N20070207,       LMD4,      39,          1,         14,         14,2,  -999.0,     -999.0,  26.510000, -6.0345000,       4671,   225.9,  16.8486,  36.2582,2,  36.2581,2,    153.4,2,   156.0,2,    3.53,2,   0.000,2,   10.83,2,    0.03,2,    0.61,2, -999.00,9, -999.00,9,   225.9,  16.8111,    16.8535,2
316N20070207,       LMD4,      39,          1,         13,         13,2,  -999.0,     -999.0,  26.510000, -6.0345000,       4671,   275.2,  14.2254,  35.6408,2,  35.6406,2,    203.6,2,   203.1,2,    3.73,2,   0.147,2,    9.14,2,    0.15,2,    0.58,2, -999.00,9, -999.00,9,   275.2,  14.1848,    14.2196,2
316N20070207,       LMD4,      39,          1,         12,         12,2,  -999.0,     -999.0,  26.510000, -6.0345000,       4671,   324.8,  12.9132,  35.4417,2,  35.4401,2,    207.3,2,   207.1,2,    4.56,2,   0.039,2,   10.75,2,    0.13,2,    0.69,2, -999.00,9, -999.00,9,   324.8,  12.8683,    12.9138,2
316N20070207,       LMD4,      39,          1,         11,         11,2,  -999.0,     -999.0,  26.510000, -6.0345000,       4671,   376.2,  12.3492,  35.6090,2,  35.6131,2,    144.6,2,   144.1,2,    8.68,2,   0.264,2,   18.12,2,    0.02,2,    1.14,2, -999.00,9, -999.00,9,   376.2,  12.2985,    12.3506,2
316N20070207,       LMD4,      39,          1,         10,         10,2,  -999.0,     -999.0,  26.510000, -6.0345000,       4671,   424.4,  10.3545,  35.3159,2,  35.3167,2,    133.3,2,   132.5,2, -999.00,9,-999.000,9, -999.00,9, -999.00,9, -999.00,9, -999.00,9, -999.00,9,   424.4,  10.3034,    10.3569,2
316N20070207,       LMD4,      39,          1,          9,         09,2,  -999.0,     -999.0,  26.510000, -6.0345000,       4671,   473.4,   9.3815,  35.2252,2,  35.2276,2,    141.2,2,   141.1,2, -999.00,9,-999.000,9, -999.00,9, -999.00,9, -999.00,9, -999.00,9, -999.00,9,   473.4,   9.3277,     9.3724,2
316N20070207,       LMD4,      39,          1,          8,         08,2,  -999.0,     -999.0,  26.510000, -6.0345000,       4671,   524.9,   8.1586,  35.1517,2,  35.1531,2,    156.8,2,   159.8,2, -999.00,9,-999.000,9, -999.00,9, -999.00,9, -999.00,9, -999.00,9, -999.00,9,   524.9,   8.1036,     8.1468,2
316N20070207,       LMD4,      39,          1,          7,         07,2,  -999.0,     -999.0,  26.510000, -6.0345000,       4671,   575.2,   7.2557,  35.1079,2,  35.1072,2,    176.4,2,   176.9,2, -999.00,9,-999.000,9, -999.00,9, -999.00,9, -999.00,9, -999.00,9, -999.00,9,   575.2,   7.1991,     7.2545,2
316N20070207,       LMD4,      39,          1,          6,         06,2,  -999.0,     -999.0,  26.510000, -6.0345000,       4671,   625.1,   6.4603,  35.0768,2,  35.0763,2,    191.6,2,   196.6,2, -999.00,9,-999.000,9, -999.00,9, -999.00,9, -999.00,9, -999.00,9, -999.00,9,   625.1,   6.4024,     6.4553,2
316N20070207,       LMD4,      39,          1,          5,         05,2,  -999.0,     -999.0,  26.510000, -6.0345000,       4671,   676.6,   6.1223,  35.0686,2,  35.0694,2,    205.5,2,   205.9,2, -999.00,9,-999.000,9, -999.00,9, -999.00,9, -999.00,9, -999.00,9, -999.00,9,   676.6,   6.0611,     6.1175,2
316N20070207,       LMD4,      39,          1,          4,         04,2,  -999.0,     -999.0,  26.510000, -6.0345000,       4671,   753.3,   5.5310,  35.0384,2,  35.0385,2,    221.6,2,   221.9,2, -999.00,9,-999.000,9, -999.00,9, -999.00,9, -999.00,9, -999.00,9, -999.00,9,   753.3,   5.4659,     5.5186,2
316N20070207,       LMD4,      39,          1,          3,         03,2,  -999.0,     -999.0,  26.510000, -6.0345000,       4671,   853.6,   5.0974,  35.0296,2,  35.0306,2,    236.7,2,   235.3,2, -999.00,9,-999.000,9, -999.00,9, -999.00,9, -999.00,9, -999.00,9, -999.00,9,   853.6,   5.0259,     5.0996,2
316N20070207,       LMD4,      39,          1,          2,         02,2,  -999.0,     -999.0,  26.510000, -6.0345000,       4671,   950.6,   4.7815,  35.0121,2,  35.0129,2,    243.7,2,   244.3,2, -999.00,9,-999.000,9, -999.00,9, -999.00,9, -999.00,9, -999.00,9, -999.00,9,   950.6,   4.7034,     4.7816,2
316N20070207,       LMD4,      39,          1,          1,         01,2,  -999.0,     -999.0,  26.510000, -6.0345000,       4671,  1007.0,   4.6717,  35.0069,2,  35.0112,2,    247.4,2,   247.5,2, -999.00,9,-999.000,9, -999.00,9, -999.00,9, -999.00,9, -999.00,9, -999.00,9,  1007.0,   4.5895,     4.6720,2
316N20070207,       LMD4,      40,          1,         21,         21,3,  -999.0,     -999.0,  39.040000, -6.1228333,       4595,     4.0,   9.5884,  33.8690,2,  33.8650,3,    265.0,3,   287.9,3,    1.91,3,   0.245,3,    3.27,3,    0.13,3,    0.40,3, -999.00,9, -999.00,9,     4.0,   9.5880,     9.5932,2
316N20070207,       LMD4,      40,          1,         20,         20,2,  -999.0,     -999.0,  39.040000, -6.1228333,       4595,    25.4,   9.9134,  34.0467,2,  34.0624,2,    270.2,3,  -999.0,5, -999.00,9,-999.000,9, -999.00,9, -999.00,9, -999.00,9, -999.00,9, -999.00,9,    25.4,   9.9105,     9.8743,3
316N20070207,       LMD4,      40,          1,         19,         19,2,  -999.0,     -999.0,  39.040000, -6.1228333,       4595,    50.8,  12.6283,  34.9474,2,  35.0261,2,    256.8,3,  -999.0,5, -999.00,9,-999.000,9, -999.00,9, -999.00,9, -999.00,9, -999.00,9, -999.00,9,    50.8,  12.6215,    12.7552,2
316N20070207,       LMD4,      40,          1,         18,         18,2,  -999.0,     -999.0,  39.040000, -6.1228333,       4595,    76.0,  11.9043,  34.9608,2,  34.9722,2,    249.3,2,   247.2,2, -999.00,9,-999.000,9, -999.00,9, -999.00,9, -999.00,9, -999.00,9, -999.00,9,    76.0,  11.8944,    11.9147,2
316N20070207,       LMD4,      40,          1,         17,         17,2,  -999.0,     -999.0,  39.040000, -6.1228333,       4595,   101.4,  13.3154,  35.4087,2,  35.4061,2,    234.0,2,   233.2,2,    3.01,2,   0.059,2,    6.77,2,    0.10,2,    0.47,2, -999.00,9, -999.00,9,   101.4,  13.3012,    13.3191,2
316N20070207,       LMD4,      40,          1,         16,         16,2,  -999.0,     -999.0,  39.040000, -6.1228333,       4595,   125.5,  13.6350,  35.5254,2,  35.5262,2,    230.6,2,   230.3,2,    2.90,2,   0.000,2,    6.84,2,    0.09,2,    0.46,2, -999.00,9, -999.00,9,   125.5,  13.6171,    13.6344,2
316N20070207,       LMD4,      40,          1,         15,         15,2,  -999.0,     -999.0,  39.040000, -6.1228333,       4595,   150.7,  13.3626,  35.4916,2,  35.4980,2,    217.3,2,   226.1,2,    3.30,2,   0.156,2,    7.86,2,    0.12,2,    0.53,2, -999.00,9, -999.00,9,   150.7,  13.3414,    13.3542,2
316N20070207,       LMD4,      40,          1,         14,         14,2,  -999.0,     -999.0,  39.040000, -6.1228333,       4595,   201.2,  13.0841,  35.5831,2,  35.5814,2,    200.5,2,   193.5,2,    4.00,2,   0.098,2,    9.41,2,    0.11,2,    0.64,2, -999.00,9, -999.00,9,   201.2,  13.0561,    13.0763,2
316N20070207,       LMD4,      40,          1,         13,         13,2,  -999.0,     -999.0,  39.040000, -6.1228333,       4595,   251.0,  11.8376,  35.5272,2,  35.5271,2,    139.1,2,   139.0,2,   10.01,2,   0.000,2,   20.57,2,    0.02,2,    1.27,2, -999.00,9, -999.00,9,   251.0,  11.8049,    11.8367,2
316N20070207,       LMD4,      40,          1,         12,         12,2,  -999.0,     -999.0,  39.040000, -6.1228333,       4595,   301.5,  10.1571,  35.2833,2,  35.2810,2,    130.8,2,   130.3,2,   13.60,2,   0.020,2,   24.73,2,    0.02,2,    1.55,2, -999.00,9, -999.00,9,   301.5,  10.1214,    10.1476,2
316N20070207,       LMD4,      40,          1,         11,         11,2,  -999.0,     -999.0,  39.040000, -6.1228333,       4595,   349.9,   9.2479,  35.2192,2,  35.2189,2,    140.6,2,   141.2,2,   13.90,2,   0.000,2,   24.47,2,    0.01,2,    1.54,2, -999.00,9, -999.00,9,   349.9,   9.2088,     9.2394,2
316N20070207,       LMD4,      40,          1,         10,         10,2,  -999.0,     -999.0,  39.040000, -6.1228333,       4595,   401.0,   8.1937,  35.1136,2,  35.1147,2,    147.1,2,   147.9,2,   15.53,2,   0.000,2,   25.11,2,    0.01,2,    1.62,2, -999.00,9, -999.00,9,   401.0,   8.1519,     8.1939,2
316N20070207,       LMD4,      40,          1,          9,         09,2,  -999.0,     -999.0,  39.040000, -6.1228333,       4595,   451.5,   7.6812,  35.1194,2,  35.1173,2,    164.3,2,   165.7,2, -999.00,9,-999.000,9, -999.00,9, -999.00,9, -999.00,9, -999.00,9, -999.00,9,   451.5,   7.6358,     7.6864,2
316N20070207,       LMD4,      40,          1,          8,         08,2,  -999.0,     -999.0,  39.040000, -6.1228333,       4595,   500.4,   6.7950,  35.0780,2,  35.0775,2,    184.5,2,   186.2,2, -999.00,9,-999.000,9, -999.00,9, -999.00,9, -999.00,9, -999.00,9, -999.00,9,   500.4,   6.7478,     6.7940,2
316N20070207,       LMD4,      40,          1,          7,         07,2,  -999.0,     -999.0,  39.040000, -6.1228333,       4595,   550.8,   6.1031,  35.0611,2,  35.0613,2,    203.7,2,   203.7,2, -999.00,9,-999.000,9, -999.00,9, -999.00,9, -999.00,9, -999.00,9, -999.00,9,   550.8,   6.0539,     6.1039,2
316N20070207,       LMD4,      40,          1,          6,         06,2,  -999.0,     -999.0,  39.040000, -6.1228333,       4595,   599.9,   5.5983,  35.0402,2,  35.0409,2,    218.4,2,   218.3,2, -999.00,9,-999.000,9, -999.00,9, -999.00,9, -999.00,9, -999.00,9, -999.00,9,   599.9,   5.5468,     5.5999,2
316N20070207,       LMD4,      40,          1,          5,         05,2,  -999.0,     -999.0,  39.040000, -6.1228333,       4595,   651.1,   5.2831,  35.0185,2,  35.0229,2,    228.9,2,   227.3,2, -999.00,9,-999.000,9, -999.00,9, -999.00,9, -999.00,9, -999.00,9, -999.00,9,   651.1,   5.2285,     5.2866,2
316N20070207,       LMD4,      40,          1,          4,         04,2,  -999.0,     -999.0,  39.040000, -6.1228333,       4595,   727.5,   4.9385,  35.0057,2,  35.0162,2,    240.7,2,   238.8,2, -999.00,9,-999.000,9, -999.00,9, -999.00,9, -999.00,9, -999.00,9, -999.00,9,   727.5,   4.8790,     4.9371,2
316N20070207,       LMD4,      40,          1,          3,         03,2,  -999.0,     -999.0,  39.040000, -6.1228333,       4595,   801.2,   4.7051,  34.9939,2,  34.9941,2,    247.1,2,   245.4,2, -999.00,9,-999.000,9, -999.00,9, -999.00,9, -999.00,9, -999.00,9, -999.00,9,   801.2,   4.6407,     4.7029,2
316N20070207,       LMD4,      40,          1,          2,         02,2,  -999.0,     -999.0,  39.040000, -6.1228333,       4595,   900.6,   4.5686,  34.9944,2,  34.9949,2,    250.2,2,   251.8,2, -999.00,9,-999.000,9, -999.00,9, -999.00,9, -999.00,9, -999.00,9, -999.00,9,   900.6,   4.4965,     4.5678,2
316N20070207,       LMD4,      40,          1,          1,         01,2,  -999.0,     -999.0,  39.040000, -6.1228333,       4595,  1012.3,   4.3282,  34.9807,2,  34.9813,2,    255.9,2,   255.9,2, -999.00,9,-999.000,9, -999.00,9, -999.00,9, -999.00,9, -999.00,9, -999.00,9,  1012.3,   4.2481,     4.3284,2
316N20070207,       LMD4,      41,          1,         21,         21,2,  -999.0,     -999.0,  51.130000, -6.2235000,       4582,     3.1,  15.7468,  35.6462,2,  35.6412,2,    238.4,2,   238.7,2,    1.82,2,   0.098,2,    3.53,2,    0.34,2,    0.29,2, -999.00,9, -999.00,9,     3.1,  15.7463,    15.7536,2
316N20070207,       LMD4,      41,          1,         20,         20,2,  -999.0,     -999.0,  51.130000, -6.2235000,       4582,    26.0,  13.8743,  35.1715,2,  35.1731,2,    247.7,2,   250.8,2, -999.00,9,-999.000,9, -999.00,9, -999.00,9, -999.00,9, -999.00,9, -999.00,9,    26.0,  13.8706,    13.8667,2
316N20070207,       LMD4,      41,          1,         19,         19,2,  -999.0,     -999.0,  51.130000, -6.2235000,       4582,    51.3,  14.1371,  35.5165,2,  35.5082,2,    233.2,2,   228.5,2, -999.00,9,-999.000,9, -999.00,9, -999.00,9, -999.00,9, -999.00,9, -999.00,9,    51.3,  14.1296,    14.1596,2
316N20070207,       LMD4,      41,          1,         18,         18,2,  -999.0,     -999.0,  51.130000, -6.2235000,       4582,    75.0,  13.0397,  35.3370,2,  35.3348,2,    237.4,2,   237.7,2, -999.00,9,-999.000,9, -999.00,9, -999.00,9, -999.00,9, -999.00,9, -999.00,9,    75.0,  13.0293,    13.0902,2
316N20070207,       LMD4,      41,          1,         17,         17,2,  -999.0,     -999.0,  51.130000, -6.2235000,       4582,   101.4,  13.5299,  35.4951,2,  35.4935,2,    240.3,2,   231.0,2,    3.03,2,   0.137,2,    7.08,2,    0.09,2,    0.47,2, -999.00,9, -999.00,9,   101.4,  13.5156,    13.5153,2
316N20070207,       LMD4,      41,          1,         16,         16,2,  -999.0,     -999.0,  51.130000, -6.2235000,       4582,   126.5,  13.3992,  35.4880,2,  35.4939,2,    225.5,2,   229.6,2,    3.12,2,   0.195,2,    7.27,2,    0.08,2,    0.49,2, -999.00,9, -999.00,9,   126.5,  13.3814,    13.4038,2
316N20070207,       LMD4,      41,          1,         15,         15,2,  -999.0,     -999.0,  51.130000, -6.2235000,       4582,   176.3,  12.2067,  35.5396,2,  35.5400,2,    149.9,2,   144.5,2,    8.52,2,   0.029,2,   18.56,2,    0.02,2,    1.17,2, -999.00,9, -999.00,9,   176.3,  12.1833,    12.2153,2
316N20070207,       LMD4,      41,          1,         14,         14,2,  -999.0,     -999.0,  51.130000, -6.2235000,       4582,   225.2,  10.6023,  35.3524,2,  35.3548,2,    133.7,2,   132.6,2,   12.31,2,   0.000,2,   23.49,2,    0.02,2,    1.47,2, -999.00,9, -999.00,9,   225.2,  10.5750,    10.6480,2
316N20070207,       LMD4,      41,          1,         13,         13,2,  -999.0,     -999.0,  51.130000, -6.2235000,       4582,   275.4,   9.4903,  35.2343,2,  35.2333,2,    139.9,2,   139.3,2,   13.33,2,   0.215,2,   23.75,2,    0.03,2,    1.52,2, -999.00,9, -999.00,9,   275.4,   9.4591,     9.4909,2
316N20070207,       LMD4,      41,          1,         12,         12,2,  -999.0,     -999.0,  51.130000, -6.2235000,       4582,   326.2,   8.5930,  35.1478,2,  35.1498,2,    143.8,2,   143.0,2,   12.91,2,   0.401,2,   21.78,2,    0.04,2,    1.48,2, -999.00,9, -999.00,9,   326.2,   8.5582,     8.6030,2
316N20070207,       LMD4,      41,          1,         11,         11,2,  -999.0,     -999.0,  51.130000, -6.2235000,       4582,   375.7,   7.4576,  35.0600,2,  35.0600,2,    153.6,2,   155.6,2,   12.70,2,   0.919,2,   20.08,2,    0.03,2,    1.46,2, -999.00,9, -999.00,9,   375.7,   7.4206,     7.4534,2
316N20070207,       LMD4,      41,          1,         10,         10,2,  -999.0,     -999.0,  51.130000, -6.2235000,       4582,   425.0,   6.9971,  35.1008,2,  35.1019,2,    178.3,2,   182.6,2, -999.00,9,-999.000,9, -999.00,9, -999.00,9, -999.00,9, -999.00,9, -999.00,9,   425.0,   6.9565,     6.9908,2
316N20070207,       LMD4,      41,          1,          9,         09,2,  -999.0,     -999.0,  51.130000, -6.2235000,       4582,   475.8,   6.2146,  35.0661,2,  35.0670,2,    201.7,2,   201.6,2, -999.00,9,-999.000,9, -999.00,9, -999.00,9, -999.00,9, -999.00,9, -999.00,9,   475.8,   6.1719,     6.1835,2
316N20070207,       LMD4,      41,          1,          8,         08,2,  -999.0,     -999.0,  51.130000, -6.2235000,       4582,   527.4,   5.5028,  35.0102,2,  35.0107,2,    218.9,2,   219.4,2, -999.00,9,-999.000,9, -999.00,9, -999.00,9, -999.00,9, -999.00,9, -999.00,9,   527.4,   5.4582,     5.5045,2
316N20070207,       LMD4,      41,          1,          7,         07,2,  -999.0,     -999.0,  51.130000, -6.2235000,       4582,   576.5,   5.2158,  35.0039,2,  35.0053,2,    229.7,2,   229.9,2, -999.00,9,-999.000,9, -999.00,9, -999.00,9, -999.00,9, -999.00,9, -999.00,9,   576.5,   5.1681,     5.2109,2
316N20070207,       LMD4,      41,          1,          6,         06,2,  -999.0,     -999.0,  51.130000, -6.2235000,       4582,   626.7,   5.1524,  35.0116,2,  35.0120,2,    232.7,2,   232.2,2, -999.00,9,-999.000,9, -999.00,9, -999.00,9, -999.00,9, -999.00,9, -999.00,9,   626.7,   5.1006,     5.1535,2
316N20070207,       LMD4,      41,          1,          5,         05,2,  -999.0,     -999.0,  51.130000, -6.2235000,       4582,   676.6,   4.9888,  35.0114,2,  35.0116,2,    238.6,2,   237.6,2, -999.00,9,-999.000,9, -999.00,9, -999.00,9, -999.00,9, -999.00,9, -999.00,9,   676.6,   4.9335,     4.9867,2
316N20070207,       LMD4,      41,          1,          4,         04,2,  -999.0,     -999.0,  51.130000, -6.2235000,       4582,   751.8,   4.6970,  34.9926,2,  34.9935,2,    245.9,2,   245.6,2, -999.00,9,-999.000,9, -999.00,9, -999.00,9, -999.00,9, -999.00,9, -999.00,9,   751.8,   4.6369,     4.6925,2
316N20070207,       LMD4,      41,          1,          3,         03,2,  -999.0,     -999.0,  51.130000, -6.2235000,       4582,   851.3,   4.6681,  35.0127,2,  35.0137,2,    247.4,2,   245.6,2, -999.00,9,-999.000,9, -999.00,9, -999.00,9, -999.00,9, -999.00,9, -999.00,9,   851.3,   4.5995,     4.6691,2
316N20070207,       LMD4,      41,          1,          2,         02,2,  -999.0,     -999.0,  51.130000, -6.2235000,       4582,   940.3,   4.4602,  34.9979,2,  35.0017,2,    252.9,2,   251.7,2, -999.00,9,-999.000,9, -999.00,9, -999.00,9, -999.00,9, -999.00,9, -999.00,9,   940.3,   4.3854,     4.4572,2
316N20070207,       LMD4,      41,          1,          1,         01,2,  -999.0,     -999.0,  51.130000, -6.2235000,       4582,  1018.9,   4.1395,  34.9614,2,  34.9625,2,    260.2,2,   260.3,2, -999.00,9,-999.000,9, -999.00,9, -999.00,9, -999.00,9, -999.00,9, -999.00,9,  1018.9,   4.0604,     4.1423,2