BOTTLE,20230728SIOCCHCBG
EXPOCODE,SECT_ID,STNNBR,CASTNO,SAMPNO,BTLNBR,BTLNBR_FLAG_W,DATE,TIME,LATITUDE,LONGITUDE,DEPTH,CTDPRS,CTDTMP,CTDSAL,CTDSAL_FLAG_W,SALNTY,SALNTY_FLAG_W,CTDOXY,CTDOXY_FLAG_W,OXYGEN,OXYGEN_FLAG_W,SILCAT,SILCAT_FLAG_W,NH4,NH4_FLAG_W,NITRAT,NITRAT_FLAG_W,NITRIT,NITRIT_FLAG_W,PHSPHT,PHSPHT_FLAG_W,TCARBN,TCARBN_FLAG_W,ALKALI,ALKALI_FLAG_W,CTDRAW,THETA,SBE35T,SBE35T_FLAG_W
,,,,,,,,,,,METERS,DBAR,ITS-90,PSS-78,,PSS-78,,UMOL/KG,,UMOL/KG,,UMOL/KG,,UMOL/KG,,UMOL/KG,,UMOL/KG,,UMOL/KG,,UMOL/KG,,UMOL/KG,,DBAR,DEG C,ITS-90,
316N20070207,       LMD4,       3,          1,         24,         24,2,20070101,       1347,  53.880000, -6.2165000,       4978,     5.0,  18.7464,  36.6343,2,  36.6336,2,    220.7,2,   220.7,2,    0.66,2,   0.068,2,    1.14,2,    0.13,2,    0.08,2, 2084.62,2, 2398.88,2,     5.0,  18.7455,    18.7466,2
316N20070207,       LMD4,       3,          1,         23,         23,9,20070101,       1347,  53.880000, -6.2165000,       4978,     5.5,  18.7375,  36.6345,2,-999.0000,9,   -999.0,9,  -999.0,9, -999.00,9,-999.000,9, -999.00,9, -999.00,9, -999.00,9, -999.00,9, -999.00,9,     5.5,  18.7365,    18.7438,2
316N20070207,       LMD4,       3,          1,         22,         22,2,20070101,       1347,  53.880000, -6.2165000,       4978,    26.5,  18.7539,  36.6338,2,  36.6346,2,    220.7,2,   220.6,2, -999.00,9,-999.000,9, -999.00,9, -999.00,9, -999.00,9, 2084.99,2, 2396.96,2,    26.5,  18.7492,    18.7521,2
316N20070207,       LMD4,       3,          1,         21,         21,2,20070101,       1347,  53.880000, -6.2165000,       4978,    52.1,  18.7562,  36.6334,2,  36.6340,2,    220.5,2,   227.0,2, -999.00,9,-999.000,9, -999.00,9, -999.00,9, -999.00,9, 2083.60,2, 2399.61,2,    52.1,  18.7469,    18.7550,2
316N20070207,       LMD4,       3,          1,         19,         19,9,20070101,       1347,  53.880000, -6.2165000,       4978,    76.8,  18.7581,  36.6339,2,-999.0000,9,   -999.0,9,  -999.0,9, -999.00,9,-999.000,9, -999.00,9, -999.00,9, -999.00,9, -999.00,9, -999.00,9,    76.8,  18.7444,    18.7587,2
316N20070207,       LMD4,       3,          1,         20,         20,2,20070101,       1347,  53.880000, -6.2165000,       4978,    76.9,  18.7588,  36.6337,2,  36.6334,2,    220.5,2,   220.6,2, -999.00,9,-999.000,9, -999.00,9, -999.00,9, -999.00,9, 2082.89,2, 2398.77,2,    76.9,  18.7451,    18.7593,2
316N20070207,       LMD4,       3,          1,         18,         18,2,20070101,       1347,  53.880000, -6.2165000,       4978,   101.2,  18.7618,  36.6336,2,  36.6290,2,    220.2,2,   220.4,2,    0.64,2,   0.088,2,    1.33,2,    0.13,2,    0.08,2, 2080.60,2, 2394.51,2,   101.2,  18.7437,    18.7624,2
316N20070207,       LMD4,       3,          1,         17,         17,2,20070101,       1347,  53.880000, -6.2165000,       4978,   126.2,  18.7609,  36.6332,2,  36.6324,2,    220.1,2,   220.6,2,    0.53,2,   0.332,2,    1.19,2,    0.17,2,    0.07,2, 2082.18,2, 2398.06,2,   126.2,  18.7384,    18.7601,2
316N20070207,       LMD4,       3,          1,         15,         15,9,20070101,       1347,  53.880000, -6.2165000,       4978,   175.9,  18.7581,  36.6333,2,-999.0000,9,   -999.0,9,  -999.0,9, -999.00,9,-999.000,9, -999.00,9, -999.00,9, -999.00,9, -999.00,9, -999.00,9,   175.9,  18.7267,    18.7574,2
316N20070207,       LMD4,       3,          1,         16,         16,2,20070101,       1347,  53.880000, -6.2165000,       4978,   176.0,  18.7585,  36.6331,2,  36.6348,2,    220.2,2,   219.8,2,    0.60,2,   0.029,2,    1.33,2,    0.13,2,    0.08,2, 2083.10,2, 2397.40,2,   176.0,  18.7271,    18.7588,2
316N20070207,       LMD4,       3,          1,         14,         14,2,20070101,       1347,  53.880000, -6.2165000,       4978,   225.6,  18.7667,  36.6332,2,  36.6338,2,    220.4,2,   220.0,2,    0.59,2,   0.224,2,    1.26,2,    0.15,2,    0.08,2, 2084.40,2, 2397.47,2,   225.6,  18.7264,    18.7663,2
316N20070207,       LMD4,       3,          1,         13,         13,2,20070101,       1347,  53.880000, -6.2165000,       4978,   301.2,  18.6653,  36.6220,2,  36.6203,2,    210.5,2,   211.9,2,    0.78,2,   0.059,2,    2.22,2,    0.08,2,    0.12,2, 2093.23,2, 2397.48,2,   301.2,  18.6116,    18.6717,2
316N20070207,       LMD4,       3,          1,         12,         12,2,20070101,       1347,  53.880000, -6.2165000,       4978,   326.6,  18.5541,  36.6134,2,  36.6096,2,    207.8,2,   208.1,2,    0.86,2,   0.020,2,    2.80,2,    0.05,2,    0.15,2, 2094.07,2, 2394.08,2,   326.6,  18.4960,    18.5533,2
316N20070207,       LMD4,       3,          1,         11,         11,9,20070101,       1347,  53.880000, -6.2165000,       4978,   376.6,  18.2992,  36.5927,2,-999.0000,9,   -999.0,9,  -999.0,9, -999.00,9,-999.000,9, -999.00,9, -999.00,9, -999.00,9, -999.00,9, -999.00,9,   376.6,  18.2329,    18.2993,2
316N20070207,       LMD4,       3,          1,         10,         10,2,20070101,       1347,  53.880000, -6.2165000,       4978,   425.5,  18.0822,  36.5628,2,  36.5615,2,    205.1,2,   204.8,2,    1.15,2,   0.107,2,    4.04,2,    0.02,2,    0.20,2, 2101.70,2, 2391.05,2,   425.5,  18.0078,    18.0832,2
316N20070207,       LMD4,       3,          1,          9,         09,2,20070101,       1347,  53.880000, -6.2165000,       4978,   476.2,  17.8019,  36.5060,2,  36.5079,2,    199.4,2,   198.4,2,    1.44,2,   0.117,2,    5.03,2,    0.02,2,    0.28,2, 2105.69,2, 2390.12,2,   476.2,  17.7194,    17.8027,2
316N20070207,       LMD4,       3,          1,          8,         08,2,20070101,       1347,  53.880000, -6.2165000,       4978,   525.7,  17.2255,  36.3935,2,  36.3946,2,    188.8,2,   188.5,2,    1.93,2,   0.293,2,    6.60,2,    0.04,2,    0.37,2, 2117.05,2, 2381.38,2,   525.7,  17.1363,    17.2237,2
316N20070207,       LMD4,       3,          1,          7,         07,2,20070101,       1347,  53.880000, -6.2165000,       4978,   574.8,  16.4732,  36.2574,2,  36.2602,2,    178.1,2,   178.8,2,    2.74,2,   0.068,2,    8.94,2,    0.01,2,    0.51,2, 2126.61,2, 2372.50,2,   574.8,  16.3786,    16.4683,2
316N20070207,       LMD4,       3,          1,          6,         06,2,20070101,       1347,  53.880000, -6.2165000,       4978,   623.3,  15.4703,  36.0827,2,  36.0873,2,    172.2,2,   172.0,2,    3.13,2,   1.152,3,    9.61,2,    0.05,2,    0.61,2, 2133.46,2, 2363.70,2,   623.3,  15.3719,    15.4801,2
316N20070207,       LMD4,       3,          1,          5,         05,2,20070101,       1347,  53.880000, -6.2165000,       4978,   672.3,  14.3969,  35.8965,2,  35.8923,2,    160.1,2,   161.0,2,    5.29,2,   0.215,2,   14.31,2,    0.01,2,    0.85,2, 2144.05,2, 2353.17,2,   672.3,  14.2956,    14.3708,2
316N20070207,       LMD4,       3,          1,          4,         04,2,20070101,       1347,  53.880000, -6.2165000,       4978,   748.3,  13.0840,  35.6773,2,  35.6776,2,    138.2,2,   138.0,2,    8.19,2,   0.000,2,   18.88,2,    0.01,2,    1.15,2, -999.00,9, -999.00,9,   748.3,  12.9779,    13.0868,2
316N20070207,       LMD4,       3,          1,          3,         03,9,20070101,       1347,  53.880000, -6.2165000,       4978,   851.5,  12.1585,  35.5290,2,-999.0000,9,   -999.0,9,  -999.0,9, -999.00,9,-999.000,9, -999.00,9, -999.00,9, -999.00,9, -999.00,9, -999.00,9,   851.5,  12.0429,    12.1600,2
316N20070207,       LMD4,       3,          1,          2,         02,2,20070101,       1347,  53.880000, -6.2165000,       4978,   946.6,  10.8650,  35.3786,2,  35.3815,2,    139.2,2,   139.3,2, -999.00,9,-999.000,9, -999.00,9, -999.00,9, -999.00,9, -999.00,9, -999.00,9,   946.6,  10.7447,    10.8673,2
316N20070207,       LMD4,       3,          1,          1,         01,2,20070101,       1347,  53.880000, -6.2165000,       4978,  1011.1,   9.4838,  35.2403,2,  35.2367,2,    145.2,2,   145.2,2, -999.00,9,-999.000,9, -999.00,9, -999.00,9, -999.00,9, 2177.25,2, 2321.81,2,  1011.1,   9.3650,     9.4724,2
316N20070207,       LMD4,       4,          1,         23,         23,9,20070101,       1754,   6.500000, -6.1843333,       4970,     3.6,  18.8070,  36.6181,2,-999.0000,9,   -999.0,9,  -999.0,9, -999.00,9,-999.000,9, -999.00,9, -999.00,9, -999.00,9, -999.00,9, -999.00,9,     3.6,  18.8064,    18.8097,2
316N20070207,       LMD4,       4,          1,         24,         24,2,20070101,       1754,   6.500000, -6.1843333,       4970,     4.1,  18.8113,  36.6182,2,  36.6225,2,    218.8,2,   219.1,2,    0.88,2,   0.722,2,    1.35,2,    0.12,2,    0.07,2, 2080.81,2, 2397.89,2,     4.1,  18.8105,    18.8113,2
316N20070207,       LMD4,       4,          1,         22,         22,2,20070101,       1754,   6.500000, -6.1843333,       4970,    26.1,  18.8253,  36.6179,2,  36.6164,2,    219.7,2,   218.4,2, -999.00,9,-999.000,9, -999.00,9, -999.00,9, -999.00,9, 2081.59,2, 2398.00,2,    26.1,  18.8206,    18.8255,2
316N20070207,       LMD4,       4,          1,         21,         21,2,20070101,       1754,   6.500000, -6.1843333,       4970,    50.9,  18.8248,  36.6182,2,  36.6172,2,    219.5,2,   218.9,2, -999.00,9,-999.000,9, -999.00,9, -999.00,9, -999.00,9, 2081.44,2, 2396.24,2,    50.9,  18.8157,    18.8267,2
316N20070207,       LMD4,       4,          1,         20,         20,2,20070101,       1754,   6.500000, -6.1843333,       4970,    76.0,  18.8265,  36.6182,2,  36.6164,2,    219.5,2,   218.8,2, -999.00,9,-999.000,9, -999.00,9, -999.00,9, -999.00,9, 2081.45,2, 2394.29,2,    76.0,  18.8129,    18.8285,2
316N20070207,       LMD4,       4,          1,         19,         19,9,20070101,       1754,   6.500000, -6.1843333,       4970,    76.1,  18.8296,  36.6181,2,-999.0000,9,   -999.0,9,  -999.0,9, -999.00,9,-999.000,9, -999.00,9, -999.00,9, -999.00,9, -999.00,9, -999.00,9,    76.1,  18.8160,    18.8272,2
316N20070207,       LMD4,       4,          1,         18,         18,2,20070101,       1754,   6.500000, -6.1843333,       4970,   100.3,  18.8356,  36.6178,2,  36.6170,2,    219.6,2,   239.6,4,    1.06,2,   0.000,2,    1.49,2,    0.10,2,    0.07,2, 2081.89,2, 2397.87,2,   100.3,  18.8177,    18.8366,2
316N20070207,       LMD4,       4,          1,         17,         17,2,20070101,       1754,   6.500000, -6.1843333,       4970,   125.8,  18.8400,  36.6180,2,  36.6170,2,    219.2,2,   219.0,2,    1.04,2,   0.000,2,    1.48,2,    0.10,2,    0.07,2, 2082.88,2, 2396.24,2,   125.8,  18.8175,    18.8397,2
316N20070207,       LMD4,       4,          1,         16,         16,2,20070101,       1754,   6.500000, -6.1843333,       4970,   151.2,  18.8402,  36.6177,2,  36.6174,2,    219.1,2,   218.8,2,    0.71,2,   0.127,2,    1.21,2,    0.10,2,    0.07,2, 2079.69,2, 2395.24,2,   151.2,  18.8132,    18.8405,2
316N20070207,       LMD4,       4,          1,         15,         15,9,20070101,       1754,   6.500000, -6.1843333,       4970,   151.6,  18.8411,  36.6177,2,-999.0000,9,   -999.0,9,  -999.0,9, -999.00,9,-999.000,9, -999.00,9, -999.00,9, -999.00,9, -999.00,9, -999.00,9,   151.6,  18.8139,    18.8420,2
316N20070207,       LMD4,       4,          1,         14,         14,2,20070101,       1754,   6.500000, -6.1843333,       4970,   201.9,  18.8478,  36.6173,2,  36.6161,2,    218.7,2,   218.6,2,    1.00,2,   0.029,2,    1.43,2,    0.10,2,    0.08,2, 2077.74,2, 2397.44,2,   201.9,  18.8116,    18.8482,2
316N20070207,       LMD4,       4,          1,         13,         13,2,20070101,       1754,   6.500000, -6.1843333,       4970,   249.6,  18.8515,  36.6172,2,  36.6163,2,    218.4,2,   218.8,2,    0.98,2,   0.029,2,    1.42,2,    0.10,2,    0.08,2, 2079.40,2, 2395.01,2,   249.6,  18.8067,    18.8503,2
316N20070207,       LMD4,       4,          1,         12,         12,2,20070101,       1754,   6.500000, -6.1843333,       4970,   299.7,  18.8244,  36.6161,2,  36.6151,2,    218.0,2,   216.6,2,    1.05,2,   0.254,2,    1.64,2,    0.12,2,    0.08,2, 2085.54,2, 2395.53,2,   299.7,  18.7707,    18.8245,2
316N20070207,       LMD4,       4,          1,         11,         11,9,20070101,       1754,   6.500000, -6.1843333,       4970,   349.9,  18.3768,  36.5999,2,-999.0000,9,   -999.0,9,  -999.0,9, -999.00,9,-999.000,9, -999.00,9, -999.00,9, -999.00,9, -999.00,9, -999.00,9,   349.9,  18.3150,    18.3759,2
316N20070207,       LMD4,       4,          1,         10,         10,2,20070101,       1754,   6.500000, -6.1843333,       4970,   403.8,  18.2888,  36.5924,2,  36.5919,2,    205.7,2,   206.8,2,    1.34,2,   0.029,2,    3.45,2,    0.02,2,    0.16,2, 2100.28,2, 2391.69,2,   403.8,  18.2177,    18.2904,2
316N20070207,       LMD4,       4,          1,          9,         09,2,20070101,       1754,   6.500000, -6.1843333,       4970,   455.8,  18.1369,  36.5702,2,  36.5703,2,    204.5,2,   205.8,2,    1.41,2,   0.000,2,    3.92,2,    0.01,2,    0.19,2, 2101.68,2, 2392.16,2,   455.8,  18.0570,    18.1370,2
316N20070207,       LMD4,       4,          1,          8,         08,2,20070101,       1754,   6.500000, -6.1843333,       4970,   503.6,  17.9624,  36.5375,2,  36.5370,2,    200.8,2,   201.6,2,    1.50,2,   0.244,2,    4.38,2,    0.02,2,    0.21,2, 2106.06,2, 2387.76,2,   503.6,  17.8746,    17.9616,2
316N20070207,       LMD4,       4,          1,          7,         07,9,20070101,       1754,   6.500000, -6.1843333,       4970,   547.9,  17.6061,  36.4642,2,-999.0000,9,   -999.0,9,  -999.0,9, -999.00,9,-999.000,9, -999.00,9, -999.00,9, -999.00,9, -999.00,9, -999.00,9,   547.9,  17.5118,    17.6052,2
316N20070207,       LMD4,       4,          1,          6,         06,2,20070101,       1754,   6.500000, -6.1843333,       4970,   598.2,  16.7335,  36.3005,2,  36.2993,2,    183.6,2,   181.8,2,    2.81,2,   0.068,2,    8.36,2,    0.02,2,    0.45,2, 2123.74,2, 2376.87,2,   598.2,  16.6340,    16.7339,2
316N20070207,       LMD4,       4,          1,          5,         05,2,20070101,       1754,   6.500000, -6.1843333,       4970,   652.5,  15.7322,  36.1251,2,  36.1262,2,    175.0,2,   175.3,2,    3.50,2,   0.195,2,    9.98,2,    0.02,2,    0.59,2, 2129.40,2, 2367.76,2,   652.5,  15.6279,    15.7214,2
316N20070207,       LMD4,       4,          1,          4,         04,2,20070101,       1754,   6.500000, -6.1843333,       4970,   728.5,  14.4294,  35.9074,2,  35.9095,2,    166.6,2,   166.6,2,    5.24,2,   0.010,2,   13.51,2,    0.00,2,    0.80,2, -999.00,9, -999.00,9,   728.5,  14.3193,    14.4292,2
316N20070207,       LMD4,       4,          1,          3,         03,9,20070101,       1754,   6.500000, -6.1843333,       4970,   805.3,  12.8106,  35.6503,2,-999.0000,9,   -999.0,9,  -999.0,9, -999.00,9,-999.000,9, -999.00,9, -999.00,9, -999.00,9, -999.00,9, -999.00,9,   805.3,  12.6977,    12.8081,2
316N20070207,       LMD4,       4,          1,          2,         02,2,20070101,       1754,   6.500000, -6.1843333,       4970,   910.0,  10.2962,  35.3236,2,  35.3236,2,    141.7,2,   141.8,2, -999.00,9,-999.000,9, -999.00,9, -999.00,9, -999.00,9, -999.00,9, -999.00,9,   910.0,  10.1845,    10.2884,2
316N20070207,       LMD4,       4,          1,          1,         01,2,20070101,       1754,   6.500000, -6.1843333,       4970,  1014.0,   8.1693,  35.1458,2,  35.1471,2,    158.8,2,   158.6,2, -999.00,9,-999.000,9, -999.00,9, -999.00,9, -999.00,9, 2181.48,2, 2321.14,2,  1014.0,   8.0599,     8.1652,2