BOTTLE,20230728SIOCCHCBG
EXPOCODE,SECT_ID,STNNBR,CASTNO,SAMPNO,BTLNBR,BTLNBR_FLAG_W,DATE,TIME,LATITUDE,LONGITUDE,DEPTH,CTDPRS,CTDTMP,CTDSAL,CTDSAL_FLAG_W,SALNTY,SALNTY_FLAG_W,CTDOXY,CTDOXY_FLAG_W,OXYGEN,OXYGEN_FLAG_W,SILCAT,SILCAT_FLAG_W,NH4,NH4_FLAG_W,NITRAT,NITRAT_FLAG_W,NITRIT,NITRIT_FLAG_W,PHSPHT,PHSPHT_FLAG_W,TCARBN,TCARBN_FLAG_W,ALKALI,ALKALI_FLAG_W,CTDRAW,THETA,SBE35T,SBE35T_FLAG_W
,,,,,,,,,,,METERS,DBAR,ITS-90,PSS-78,,PSS-78,,UMOL/KG,,UMOL/KG,,UMOL/KG,,UMOL/KG,,UMOL/KG,,UMOL/KG,,UMOL/KG,,UMOL/KG,,UMOL/KG,,DBAR,DEG C,ITS-90,
316N20070207,       LMD4,      17,          1,         23,         23,2,20070107,       0934,  15.480000, -9.5940000,       5111,     3.1,  18.9727,  36.6072,2,  36.6070,2,   -999.0,9,  -999.0,9, -999.00,9,-999.000,9, -999.00,9, -999.00,9, -999.00,9, -999.00,9, -999.00,9,     3.1,  18.9721,    18.9733,2
316N20070207,       LMD4,      17,          1,         24,         24,2,20070107,       0934,  15.480000, -9.5940000,       5111,     4.3,  18.9747,  36.6074,2,  36.6074,2,    218.1,2,   217.9,2,    0.71,2,   0.000,2,    1.35,2,    0.12,2,    0.08,2, -999.00,9, -999.00,9,     4.3,  18.9740,     -999.0,9
316N20070207,       LMD4,      17,          1,         22,         22,2,20070107,       0934,  15.480000, -9.5940000,       5111,    27.0,  18.9761,  36.6076,2,  36.6078,2,    218.7,2,   217.9,2, -999.00,9,-999.000,9, -999.00,9, -999.00,9, -999.00,9, -999.00,9, -999.00,9,    27.0,  18.9713,    18.9753,2
316N20070207,       LMD4,      17,          1,         21,         21,2,20070107,       0934,  15.480000, -9.5940000,       5111,    50.9,  18.9789,  36.6077,2,  36.6092,2,    219.0,2,   218.3,2, -999.00,9,-999.000,9, -999.00,9, -999.00,9, -999.00,9, -999.00,9, -999.00,9,    50.9,  18.9698,    18.9796,2
316N20070207,       LMD4,      17,          1,         20,         20,2,20070107,       0934,  15.480000, -9.5940000,       5111,    75.9,  18.9742,  36.6077,2,  36.6078,2,    218.6,2,   218.7,2, -999.00,9,-999.000,9, -999.00,9, -999.00,9, -999.00,9, -999.00,9, -999.00,9,    75.9,  18.9606,    18.9759,2
316N20070207,       LMD4,      17,          1,         19,         19,2,20070107,       0934,  15.480000, -9.5940000,       5111,   102.6,  18.9801,  36.6076,2,  36.6084,2,   -999.0,9,  -999.0,9, -999.00,9,-999.000,9, -999.00,9, -999.00,9, -999.00,9, -999.00,9, -999.00,9,   102.6,  18.9617,     -999.0,9
316N20070207,       LMD4,      17,          1,         18,         18,2,20070107,       0934,  15.480000, -9.5940000,       5111,   103.5,  18.9794,  36.6073,2,  36.6078,2,    217.6,2,   216.6,2,    0.78,2,   0.049,2,    1.44,2,    0.11,2,    0.09,2, -999.00,9, -999.00,9,   103.5,  18.9608,    18.9820,2
316N20070207,       LMD4,      17,          1,         17,         17,2,20070107,       0934,  15.480000, -9.5940000,       5111,   128.3,  18.9803,  36.6088,2,  36.6093,2,    217.5,2,   216.1,2,    0.33,2,   0.498,3,    1.00,2,    0.13,2,    0.06,2, -999.00,9, -999.00,9,   128.3,  18.9573,    18.9805,2
316N20070207,       LMD4,      17,          1,         16,         16,2,20070107,       0934,  15.480000, -9.5940000,       5111,   177.6,  18.9067,  36.6091,2,  36.6099,2,    216.7,2,   217.6,2,    0.71,2,   0.000,2,    1.47,2,    0.08,2,    0.08,2, -999.00,9, -999.00,9,   177.6,  18.8748,    18.9072,2
316N20070207,       LMD4,      17,          1,         15,         15,2,20070107,       0934,  15.480000, -9.5940000,       5111,   225.4,  18.7868,  36.6069,2,  36.6071,2,    216.6,2,   218.4,2,    0.77,2,   0.098,2,    1.65,2,    0.09,2,    0.08,2, -999.00,9, -999.00,9,   225.4,  18.7465,    18.7856,2
316N20070207,       LMD4,      17,          1,         14,         14,2,20070107,       0934,  15.480000, -9.5940000,       5111,   276.9,  18.7330,  36.6028,2,  36.6044,2,    218.4,2,   218.4,2,    0.74,2,   0.166,2,    1.65,2,    0.09,2,    0.09,2, -999.00,9, -999.00,9,   276.9,  18.6835,    18.7350,2
316N20070207,       LMD4,      17,          1,         13,         13,2,20070107,       0934,  15.480000, -9.5940000,       5111,   325.5,  18.5506,  36.6017,2,  36.6020,2,    204.3,2,   205.9,2,    0.91,2,   0.078,2,    2.98,2,    0.04,2,    0.15,2, -999.00,9, -999.00,9,   325.5,  18.4927,    18.5484,2
316N20070207,       LMD4,      17,          1,         12,         12,2,20070107,       0934,  15.480000, -9.5940000,       5111,   376.2,  18.3236,  36.5948,2,  36.5946,2,    205.9,2,   205.4,2,    1.07,2,   0.000,2,    3.34,2,    0.02,2,    0.17,2, -999.00,9, -999.00,9,   376.2,  18.2572,    18.3242,2
316N20070207,       LMD4,      17,          1,         11,         11,2,20070107,       0934,  15.480000, -9.5940000,       5111,   427.4,  18.1363,  36.5702,2,  36.5710,2,    204.2,2,   204.4,2,    0.83,2,   0.781,3,    3.32,2,    0.03,2,    0.19,2, -999.00,9, -999.00,9,   427.4,  18.0613,    18.1293,2
316N20070207,       LMD4,      17,          1,         10,         10,2,20070107,       0934,  15.480000, -9.5940000,       5111,   474.8,  17.8147,  36.5053,2,  36.5062,2,    199.8,2,   196.4,2,    1.42,2,   0.020,2,    5.19,2,    0.01,2,    0.27,2, -999.00,9, -999.00,9,   474.8,  17.7324,    17.8023,2
316N20070207,       LMD4,      17,          1,          9,         09,2,20070107,       0934,  15.480000, -9.5940000,       5111,   527.4,  17.0963,  36.3649,2,  36.3616,2,    186.1,2,   181.8,2,    2.22,2,   0.068,2,    7.73,2,    0.01,2,    0.43,2, -999.00,9, -999.00,9,   527.4,  17.0074,    17.1210,2
316N20070207,       LMD4,      17,          1,          8,         08,2,20070107,       0934,  15.480000, -9.5940000,       5111,   576.0,  16.2757,  36.2207,2,  36.2228,2,    176.1,2,   178.4,2,    2.81,2,   0.049,2,    9.37,2,    0.01,2,    0.54,2, -999.00,9, -999.00,9,   576.0,  16.1817,    16.2857,2
316N20070207,       LMD4,      17,          1,          7,         07,2,20070107,       0934,  15.480000, -9.5940000,       5111,   626.7,  14.8949,  35.9738,2,  35.9782,2,    159.7,2,   156.1,2,    2.98,2,   0.781,2,    8.91,2,    0.04,2,    0.64,2, -999.00,9, -999.00,9,   626.7,  14.7985,    14.9120,2
316N20070207,       LMD4,      17,          1,          6,         06,2,20070107,       0934,  15.480000, -9.5940000,       5111,   675.2,  13.9045,  35.8243,2,  35.8244,2,    157.3,2,   161.3,2,    5.78,2,   0.098,2,   15.05,2,    0.03,2,    0.91,2, -999.00,9, -999.00,9,   675.2,  13.8051,    13.8971,2
316N20070207,       LMD4,      17,          1,          5,         05,2,20070107,       0934,  15.480000, -9.5940000,       5111,   750.9,  12.1169,  35.5577,2,  35.5705,2,    151.3,2,   150.8,2,    8.27,2,   0.518,3,   18.39,2,    0.07,2,    1.16,2, -999.00,9, -999.00,9,   750.9,  12.0156,    12.1548,2
316N20070207,       LMD4,      17,          1,          4,         04,9,20070107,       0934,  15.480000, -9.5940000,       5111,   848.8,   9.4889,  35.2407,2,-999.0000,9,   -999.0,9,  -999.0,9, -999.00,9,-999.000,9, -999.00,9, -999.00,9, -999.00,9, -999.00,9, -999.00,9,   848.8,   9.3899,     9.5017,2
316N20070207,       LMD4,      17,          1,          3,         03,2,20070107,       0934,  15.480000, -9.5940000,       5111,   849.2,   9.4749,  35.2397,2,  35.2420,2,    144.9,2,   143.6,2,   13.45,2,   0.088,2,   24.02,2,    0.01,2,    1.53,2, -999.00,9, -999.00,9,   849.2,   9.3760,     9.4947,2
316N20070207,       LMD4,      17,          1,          2,         02,2,20070107,       0934,  15.480000, -9.5940000,       5111,   951.0,   7.5849,  35.1177,2,  35.1201,2,    171.1,2,   172.3,2, -999.00,9,-999.000,9, -999.00,9, -999.00,9, -999.00,9, -999.00,9, -999.00,9,   951.0,   7.4867,     7.5844,2
316N20070207,       LMD4,      17,          1,          1,         01,2,20070107,       0934,  15.480000, -9.5940000,       5111,  1009.3,   6.6999,  35.0754,2,  35.0778,2,    193.0,2,   190.1,2, -999.00,9,-999.000,9, -999.00,9, -999.00,9, -999.00,9, -999.00,9, -999.00,9,  1009.3,   6.6020,     6.7169,2
316N20070207,       LMD4,      18,          1,         24,         24,9,20070107,       1331,  20.780000, -9.3291667,          0,     4.6,  18.8739,  36.6118,2,-999.0000,9,   -999.0,9,  -999.0,9, -999.00,9,-999.000,9, -999.00,9, -999.00,9, -999.00,9, -999.00,9, -999.00,9,     4.6,  18.8731,    18.8742,2
316N20070207,       LMD4,      18,          1,         23,         23,2,20070107,       1331,  20.780000, -9.3291667,          0,     4.7,  18.8737,  36.6117,2,  36.6126,2,    210.7,2,   211.8,2,    1.15,2,   0.049,2,    2.32,2,    0.10,2,    0.14,2, -999.00,9, -999.00,9,     4.7,  18.8729,    18.8744,2
316N20070207,       LMD4,      18,          1,         22,         22,2,20070107,       1331,  20.780000, -9.3291667,          0,    27.2,  18.8844,  36.6113,2,  36.6120,2,    213.0,2,   212.0,2, -999.00,9,-999.000,9, -999.00,9, -999.00,9, -999.00,9, -999.00,9, -999.00,9,    27.2,  18.8796,    18.8846,2
316N20070207,       LMD4,      18,          1,         21,         21,2,20070107,       1331,  20.780000, -9.3291667,          0,    53.0,  18.8867,  36.6114,2,  36.6116,2,    213.2,2,   212.3,2, -999.00,9,-999.000,9, -999.00,9, -999.00,9, -999.00,9, -999.00,9, -999.00,9,    53.0,  18.8772,    18.8876,2
316N20070207,       LMD4,      18,          1,         20,         20,2,20070107,       1331,  20.780000, -9.3291667,          0,    77.0,  18.8879,  36.6120,2,  36.6127,2,    213.1,2,   212.4,2, -999.00,9,-999.000,9, -999.00,9, -999.00,9, -999.00,9, -999.00,9, -999.00,9,    77.0,  18.8742,    18.8881,2
316N20070207,       LMD4,      18,          1,         18,         18,2,20070107,       1331,  20.780000, -9.3291667,          0,   103.2,  18.8959,  36.6115,2,  36.6127,2,    213.1,2,   212.1,2,    0.56,2,   0.098,2,    1.60,2,    0.07,2,    0.11,2, -999.00,9, -999.00,9,   103.2,  18.8774,    18.8957,2
316N20070207,       LMD4,      18,          1,         19,         19,2,20070107,       1331,  20.780000, -9.3291667,          0,   103.9,  18.8952,  36.6115,2,  36.6110,2,   -999.0,9,  -999.0,9, -999.00,9,-999.000,9, -999.00,9, -999.00,9, -999.00,9, -999.00,9, -999.00,9,   103.9,  18.8766,    18.8949,2
316N20070207,       LMD4,      18,          1,         17,         17,2,20070107,       1331,  20.780000, -9.3291667,          0,   127.1,  18.8939,  36.6120,2,  36.6133,2,    213.6,2,   213.7,2,    1.09,2,   0.000,2,    2.23,2,    0.11,2,    0.13,2, -999.00,9, -999.00,9,   127.1,  18.8711,    18.8941,2
316N20070207,       LMD4,      18,          1,         16,         16,2,20070107,       1331,  20.780000, -9.3291667,          0,   151.8,  18.8909,  36.6127,2,  36.6129,2,    213.1,2,   212.8,2,    1.00,2,   0.049,2,    2.23,2,    0.11,2,    0.13,2, -999.00,9, -999.00,9,   151.8,  18.8637,    18.8914,2
316N20070207,       LMD4,      18,          1,         15,         15,2,20070107,       1331,  20.780000, -9.3291667,          0,   203.0,  18.8977,  36.6126,2,  36.6137,2,    213.0,2,   213.2,2,    0.72,2,   0.302,2,    1.85,2,    0.11,2,    0.11,2, -999.00,9, -999.00,9,   203.0,  18.8613,    18.8971,2
316N20070207,       LMD4,      18,          1,         14,         14,2,20070107,       1331,  20.780000, -9.3291667,          0,   249.2,  18.8836,  36.6144,2,  36.6149,2,    213.5,2,   210.6,2,    0.95,2,   0.127,2,    2.29,2,    0.09,2,    0.13,2, -999.00,9, -999.00,9,   249.2,  18.8389,    18.8838,2
316N20070207,       LMD4,      18,          1,         13,         13,2,20070107,       1331,  20.780000, -9.3291667,          0,   300.9,  18.5340,  36.6061,2,  36.6083,2,    202.5,2,   200.1,2,    0.97,2,   0.000,2,    3.27,2,    0.02,2,    0.16,2, -999.00,9, -999.00,9,   300.9,  18.4806,    18.5338,2
316N20070207,       LMD4,      18,          1,         12,         12,2,20070107,       1331,  20.780000, -9.3291667,          0,   350.3,  18.3603,  36.5979,2,  36.5976,2,    204.0,2,   204.2,2,    0.99,2,   0.020,2,    3.32,2,    0.02,2,    0.17,2, -999.00,9, -999.00,9,   350.3,  18.2984,    18.3587,2
316N20070207,       LMD4,      18,          1,         11,         11,2,20070107,       1331,  20.780000, -9.3291667,          0,   403.7,  18.2105,  36.5815,2,  36.5816,2,    204.5,2,   204.7,2,    1.10,2,   0.010,2,    3.60,2,    0.01,2,    0.18,2, -999.00,9, -999.00,9,   403.7,  18.1396,    18.2081,2
316N20070207,       LMD4,      18,          1,         10,         10,2,20070107,       1331,  20.780000, -9.3291667,          0,   459.8,  17.9098,  36.5277,2,  36.5308,2,    199.3,2,   199.3,2,    1.33,2,   0.049,2,    4.59,2,    0.02,2,    0.23,2, -999.00,9, -999.00,9,   459.8,  17.8298,    17.8902,2
316N20070207,       LMD4,      18,          1,          9,         09,2,20070107,       1331,  20.780000, -9.3291667,          0,   506.1,  17.3273,  36.4118,2,  36.4211,2,    187.8,2,   187.8,2,    1.97,2,   0.059,2,    6.67,2,    0.01,2,    0.36,2, -999.00,9, -999.00,9,   506.1,  17.2412,    17.3446,2
316N20070207,       LMD4,      18,          1,          8,         08,2,20070107,       1331,  20.780000, -9.3291667,          0,   540.2,  16.2777,  36.1745,2,  36.1793,2,    176.1,2,   177.4,2,    2.29,2,   0.098,2,    7.73,2,    0.01,2,    0.48,2, -999.00,9, -999.00,9,   540.2,  16.1896,    16.2819,2
316N20070207,       LMD4,      18,          1,          7,         07,2,20070107,       1331,  20.780000, -9.3291667,          0,   593.3,  13.6915,  35.7725,2,  35.7698,2,    168.6,2,   163.7,2,    5.73,2,   0.068,2,   14.89,2,    0.01,2,    0.91,2, -999.00,9, -999.00,9,   593.3,  13.6053,    13.6918,2
316N20070207,       LMD4,      18,          1,          6,         06,2,20070107,       1331,  20.780000, -9.3291667,          0,   650.3,  13.0054,  35.6843,2,  35.6923,2,    159.2,2,   159.0,2,    5.86,2,   0.869,2,   14.45,2,    0.07,2,    0.95,2, -999.00,9, -999.00,9,   650.3,  12.9139,    13.0127,2
316N20070207,       LMD4,      18,          1,          5,         05,2,20070107,       1331,  20.780000, -9.3291667,          0,   725.8,  11.2782,  35.4461,2,  35.4490,2,    147.6,2,   146.4,2,    9.95,2,   0.088,2,   20.56,2,    0.01,2,    1.30,2, -999.00,9, -999.00,9,   725.8,  11.1846,    11.2914,2
316N20070207,       LMD4,      18,          1,          3,         03,2,20070107,       1331,  20.780000, -9.3291667,          0,   798.1,   9.3261,  35.2327,2,  35.2346,2,    146.5,2,   146.5,2,   13.03,2,   0.127,2,   23.50,2,    0.01,2,    1.50,2, -999.00,9, -999.00,9,   798.1,   9.2343,     9.3223,2
316N20070207,       LMD4,      18,          1,          4,         04,2,20070107,       1331,  20.780000, -9.3291667,          0,   799.1,   9.3266,  35.2324,2,  35.2334,2,   -999.0,9,  -999.0,9, -999.00,9,-999.000,9, -999.00,9, -999.00,9, -999.00,9, -999.00,9, -999.00,9,   799.1,   9.2347,     9.3115,2
316N20070207,       LMD4,      18,          1,          2,         02,2,20070107,       1331,  20.780000, -9.3291667,          0,   905.9,   7.0014,  35.0816,2,  35.0941,2,    182.8,2,   183.8,2, -999.00,9,-999.000,9, -999.00,9, -999.00,9, -999.00,9, -999.00,9, -999.00,9,   905.9,   6.9120,     6.9870,2
316N20070207,       LMD4,      18,          1,          1,         01,2,20070107,       1331,  20.780000, -9.3291667,          0,  1017.8,   5.8855,  35.0575,2,  35.0595,2,    214.5,2,   236.7,4, -999.00,9,-999.000,9, -999.00,9, -999.00,9, -999.00,9, -999.00,9, -999.00,9,  1017.8,   5.7928,     5.8932,2