BOTTLE,20230728SIOCCHCBG
EXPOCODE,SECT_ID,STNNBR,CASTNO,SAMPNO,BTLNBR,BTLNBR_FLAG_W,DATE,TIME,LATITUDE,LONGITUDE,DEPTH,CTDPRS,CTDTMP,CTDSAL,CTDSAL_FLAG_W,SALNTY,SALNTY_FLAG_W,CTDOXY,CTDOXY_FLAG_W,OXYGEN,OXYGEN_FLAG_W,SILCAT,SILCAT_FLAG_W,NH4,NH4_FLAG_W,NITRAT,NITRAT_FLAG_W,NITRIT,NITRIT_FLAG_W,PHSPHT,PHSPHT_FLAG_W,TCARBN,TCARBN_FLAG_W,ALKALI,ALKALI_FLAG_W,CTDRAW,THETA,SBE35T,SBE35T_FLAG_W
,,,,,,,,,,,METERS,DBAR,ITS-90,PSS-78,,PSS-78,,UMOL/KG,,UMOL/KG,,UMOL/KG,,UMOL/KG,,UMOL/KG,,UMOL/KG,,UMOL/KG,,UMOL/KG,,UMOL/KG,,DBAR,DEG C,ITS-90,
316N20070207,       LMD4,      15,          1,         23,         23,2,20070107,       0231,  20.240000, -9.7941667,       5108,     4.6,  19.2142,  36.6148,2,  36.6151,2,    219.1,2,   219.7,2, -999.00,9,-999.000,9, -999.00,9, -999.00,9, -999.00,9, -999.00,9, -999.00,9,     4.6,  19.2134,    19.2122,2
316N20070207,       LMD4,      15,          1,         24,         24,2,20070107,       0231,  20.240000, -9.7941667,       5108,     5.4,  19.2078,  36.6150,2,  36.6155,2,    219.1,2,   219.1,2,    0.91,2,   0.000,2,    1.01,2,    0.14,2,    0.07,2, 2081.03,2, 2399.35,2,     5.4,  19.2068,    19.2087,2
316N20070207,       LMD4,      15,          1,         22,         22,2,20070107,       0231,  20.240000, -9.7941667,       5108,    24.8,  19.2262,  36.6143,2,  36.6137,2,    219.5,2,   219.0,2, -999.00,9,-999.000,9, -999.00,9, -999.00,9, -999.00,9, 2081.07,2, 2399.18,2,    24.8,  19.2217,    19.2257,2
316N20070207,       LMD4,      15,          1,         21,         21,2,20070107,       0231,  20.240000, -9.7941667,       5108,    50.8,  19.2320,  36.6140,2,  36.6151,2,    219.6,2,   218.9,2, -999.00,9,-999.000,9, -999.00,9, -999.00,9, -999.00,9, 2080.63,2, 2401.95,2,    50.8,  19.2228,    19.2328,2
316N20070207,       LMD4,      15,          1,         20,         20,2,20070107,       0231,  20.240000, -9.7941667,       5108,    76.0,  19.1620,  36.6039,2,  36.6033,2,    219.4,2,   218.7,2, -999.00,9,-999.000,9, -999.00,9, -999.00,9, -999.00,9, 2084.80,2, 2396.33,2,    76.0,  19.1482,    19.1941,2
316N20070207,       LMD4,      15,          1,         19,         19,2,20070107,       0231,  20.240000, -9.7941667,       5108,   100.7,  18.8376,  36.5493,2,  36.5585,2,    218.8,2,   217.5,2,    0.99,2,   0.098,2,    1.72,2,    0.11,2,    0.08,2, 2082.96,2, 2397.15,2,   100.7,  18.8196,    18.8697,2
316N20070207,       LMD4,      15,          1,         18,         18,2,20070107,       0231,  20.240000, -9.7941667,       5108,   126.5,  18.9714,  36.6066,2,  36.6082,2,    218.7,2,   217.9,2,    0.97,2,   0.098,2,    1.55,2,    0.13,2,    0.08,2, 2083.97,2, 2398.23,2,   126.5,  18.9487,    18.9722,2
316N20070207,       LMD4,      15,          1,         17,         17,2,20070107,       0231,  20.240000, -9.7941667,       5108,   175.9,  18.9421,  36.6085,2,  36.6088,2,    217.6,2,   217.3,2,    0.94,2,   0.020,2,    1.47,2,    0.12,2,    0.08,2, 2088.52,2, 2399.48,2,   175.9,  18.9105,    18.9424,2
316N20070207,       LMD4,      15,          1,         16,         16,2,20070107,       0231,  20.240000, -9.7941667,       5108,   223.8,  18.8421,  36.6188,2,  36.6211,2,    213.9,2,   198.3,2,    1.01,2,   0.059,2,    3.00,2,    0.03,2,    0.11,2, 2105.59,2, 2396.22,2,   223.8,  18.8020,    18.8404,2
316N20070207,       LMD4,      15,          1,         15,         15,2,20070107,       0231,  20.240000, -9.7941667,       5108,   274.2,  18.7783,  36.6231,2,  36.6235,2,    202.0,2,   197.3,2, -999.00,9,-999.000,9, -999.00,9, -999.00,9, -999.00,9, -999.00,9, -999.00,9,   274.2,  18.7292,    18.7785,2
316N20070207,       LMD4,      15,          1,         14,         14,2,20070107,       0231,  20.240000, -9.7941667,       5108,   274.5,  18.7778,  36.6233,2,  36.6244,2,    202.0,2,   197.7,2,    1.10,2,   0.000,2,    3.14,2,    0.02,2,    0.12,2, 2109.72,2, 2396.45,2,   274.5,  18.7287,    18.7785,2
316N20070207,       LMD4,      15,          1,         13,         13,2,20070107,       0231,  20.240000, -9.7941667,       5108,   326.3,  18.5563,  36.6099,2,  36.6092,2,    198.2,2,   199.8,2,    1.07,2,   0.010,2,    3.39,2,    0.01,2,    0.14,2, 2110.17,2, 2396.35,2,   326.3,  18.4984,    18.5591,2
316N20070207,       LMD4,      15,          1,         12,         12,2,20070107,       0231,  20.240000, -9.7941667,       5108,   376.2,  18.3611,  36.6018,2,  36.6024,2,    203.4,2,   205.6,2,    1.15,2,   0.195,2,    3.58,2,    0.01,2,    0.13,2, 2108.61,2, 2396.49,2,   376.2,  18.2947,    18.3615,2
316N20070207,       LMD4,      15,          1,         10,         10,2,20070107,       0231,  20.240000, -9.7941667,       5108,   426.1,  18.1407,  36.5662,2,  36.5677,2,    203.0,2,   202.6,2,    1.34,2,   0.039,2,    4.11,2,    0.01,2,    0.17,2, 2107.23,2, 2394.52,2,   426.1,  18.0660,    18.1359,2
316N20070207,       LMD4,      15,          1,         11,         11,2,20070107,       0231,  20.240000, -9.7941667,       5108,   429.1,  18.1284,  36.5635,2,  36.5679,2,    202.8,2,   202.1,2, -999.00,9,-999.000,9, -999.00,9, -999.00,9, -999.00,9, -999.00,9, -999.00,9,   429.1,  18.0532,    18.1382,2
316N20070207,       LMD4,      15,          1,          9,         09,2,20070107,       0231,  20.240000, -9.7941667,       5108,   476.2,  17.7927,  36.4994,2,  36.5025,2,    192.7,2,   194.4,2,    1.63,2,   0.039,2,    5.50,2,    0.01,2,    0.25,2, 2118.09,2, 2390.56,2,   476.2,  17.7102,    17.7926,2
316N20070207,       LMD4,      15,          1,          8,         08,2,20070107,       0231,  20.240000, -9.7941667,       5108,   526.9,  17.3801,  36.4192,2,  36.4456,3,    187.5,2,   187.1,2,    2.02,2,   0.088,2,    6.95,2,    0.01,2,    0.33,2, 2123.20,2, 2390.65,2,   526.9,  17.2902,    17.4000,2
316N20070207,       LMD4,      15,          1,          7,         07,2,20070107,       0231,  20.240000, -9.7941667,       5108,   576.9,  16.5073,  36.2573,2,  36.2640,2,    175.8,2,   175.8,2,    2.93,2,   0.078,2,    9.38,2,    0.01,2,    0.50,2, 2133.54,2, 2375.03,2,   576.9,  16.4122,    16.5345,2
316N20070207,       LMD4,      15,          1,          6,         06,2,20070107,       0231,  20.240000, -9.7941667,       5108,   623.3,  15.8400,  36.1441,2,  36.1455,2,    167.1,2,   172.7,2,    3.53,2,   0.029,2,   10.84,2,    0.02,2,    0.58,2, 2141.25,2, 2375.23,2,   623.3,  15.7400,    15.8486,2
316N20070207,       LMD4,      15,          1,          5,         05,2,20070107,       0231,  20.240000, -9.7941667,       5108,   675.0,  14.5469,  35.9135,2,  35.9268,2,    158.7,2,   155.5,2,    5.70,2,   0.156,2,   14.81,2,    0.01,2,    0.85,2, 2151.84,2, 2356.83,2,   675.0,  14.4445,    14.6053,2
316N20070207,       LMD4,      15,          1,          4,         04,2,20070107,       0231,  20.240000, -9.7941667,       5108,   748.2,  12.4855,  35.6040,2,  35.6037,2,    146.8,2,   146.2,2,    8.52,2,   0.078,2,   19.26,2,    0.01,2,    1.15,2, 2168.39,2, 2338.28,2,   748.2,  12.3825,    12.4930,2
316N20070207,       LMD4,      15,          1,          3,         03,2,20070107,       0231,  20.240000, -9.7941667,       5108,   848.7,   9.7964,  35.2703,2,  35.2706,2,    142.4,2,   142.3,2,   12.94,2,   0.029,2,   23.78,2,    0.01,2,    1.49,2, -999.00,9, -999.00,9,   848.7,   9.6955,     9.7871,2
316N20070207,       LMD4,      15,          1,          2,         02,2,20070107,       0231,  20.240000, -9.7941667,       5108,   950.8,   7.4608,  35.1143,2,  35.1142,2,    175.7,2,   175.5,2, -999.00,9,-999.000,9, -999.00,9, -999.00,9, -999.00,9, -999.00,9, -999.00,9,   950.8,   7.3635,     7.4547,2
316N20070207,       LMD4,      15,          1,          1,         01,2,20070107,       0231,  20.240000, -9.7941667,       5108,  1000.6,   6.7845,  35.0806,2,  35.0817,2,    188.8,2,   189.2,2, -999.00,9,-999.000,9, -999.00,9, -999.00,9, -999.00,9, 2180.44,2, 2315.32,2,  1000.6,   6.6868,     6.7722,2
316N20070207,       LMD4,      16,          1,         24,         24,2,20070107,       0653,   8.720000, -9.7411667,       5108,     6.8,  19.1638,  36.6160,2,  36.6211,2,    219.6,2,   219.2,2,    0.76,2,   0.039,2,    1.07,2,    0.12,2,    0.07,2, -999.00,9, -999.00,9,     6.8,  19.1626,    19.1582,2
316N20070207,       LMD4,      16,          1,         23,         23,2,20070107,       0653,   8.720000, -9.7411667,       5108,     7.2,  19.1625,  36.6160,2,  36.6167,2,   -999.0,9,  -999.0,9, -999.00,9,-999.000,9, -999.00,9, -999.00,9, -999.00,9, -999.00,9, -999.00,9,     7.2,  19.1612,    19.1670,2
316N20070207,       LMD4,      16,          1,         22,         22,2,20070107,       0653,   8.720000, -9.7411667,       5108,    26.9,  19.1756,  36.6156,2,  36.6159,2,    219.9,2,   219.6,2, -999.00,9,-999.000,9, -999.00,9, -999.00,9, -999.00,9, -999.00,9, -999.00,9,    26.9,  19.1707,    19.1770,2
316N20070207,       LMD4,      16,          1,         21,         21,2,20070107,       0653,   8.720000, -9.7411667,       5108,    53.4,  19.1704,  36.6163,2,  36.6159,2,    220.0,2,   219.4,2, -999.00,9,-999.000,9, -999.00,9, -999.00,9, -999.00,9, -999.00,9, -999.00,9,    53.4,  19.1607,    19.1669,2
316N20070207,       LMD4,      16,          1,         19,         19,2,20070107,       0653,   8.720000, -9.7411667,       5108,    78.0,  19.1614,  36.6159,2,  36.6169,2,    219.8,2,   219.4,2, -999.00,9,-999.000,9, -999.00,9, -999.00,9, -999.00,9, -999.00,9, -999.00,9,    78.0,  19.1473,    19.1642,2
316N20070207,       LMD4,      16,          1,         20,         20,2,20070107,       0653,   8.720000, -9.7411667,       5108,    78.4,  19.1640,  36.6165,2,  36.6167,2,   -999.0,9,  -999.0,9, -999.00,9,-999.000,9, -999.00,9, -999.00,9, -999.00,9, -999.00,9, -999.00,9,    78.4,  19.1498,    19.1614,2
316N20070207,       LMD4,      16,          1,         18,         18,3,20070107,       0653,   8.720000, -9.7411667,       5108,   102.5,  19.0908,  36.6155,2,  36.6167,2,   -999.0,9,  -999.0,9,    0.72,3,   0.010,3,    1.22,3,    0.11,3,    0.07,3, -999.00,9, -999.00,9,   102.5,  19.0723,    19.0896,2
316N20070207,       LMD4,      16,          1,         17,         17,2,20070107,       0653,   8.720000, -9.7411667,       5108,   152.6,  19.0240,  36.6134,2,  36.6133,2,   -999.0,9,  -999.0,9, -999.00,9,-999.000,9, -999.00,9, -999.00,9, -999.00,9, -999.00,9, -999.00,9,   152.6,  18.9965,    19.0242,2
316N20070207,       LMD4,      16,          1,         16,         16,2,20070107,       0653,   8.720000, -9.7411667,       5108,   153.2,  19.0241,  36.6134,2,  36.6123,2,    219.5,2,   234.3,3,    0.79,2,   0.000,2,    1.28,2,    0.10,2,    0.08,2, -999.00,9, -999.00,9,   153.2,  18.9965,    19.0237,2
316N20070207,       LMD4,      16,          1,         15,         15,2,20070107,       0653,   8.720000, -9.7411667,       5108,   200.1,  18.9355,  36.6122,2,  36.6119,2,    218.6,2,   250.4,4,    0.75,2,   0.000,2,    1.47,2,    0.09,2,    0.08,2, -999.00,9, -999.00,9,   200.1,  18.8996,    18.9367,2
316N20070207,       LMD4,      16,          1,         14,         14,2,20070107,       0653,   8.720000, -9.7411667,       5108,   252.1,  18.8653,  36.6098,2,  36.6099,2,    217.6,2,   217.6,2,    0.82,2,   0.000,2,    1.63,2,    0.08,2,    0.09,2, -999.00,9, -999.00,9,   252.1,  18.8201,    18.8657,2
316N20070207,       LMD4,      16,          1,         13,         13,2,20070107,       0653,   8.720000, -9.7411667,       5108,   302.1,  18.7555,  36.6006,2,  36.6002,2,    218.0,2,   218.4,2,    0.00,2,   0.322,2,    0.77,2,    0.04,2,    0.04,2, -999.00,9, -999.00,9,   302.1,  18.7015,    18.7586,2
316N20070207,       LMD4,      16,          1,         11,         11,2,20070107,       0653,   8.720000, -9.7411667,       5108,   352.2,  18.5848,  36.6021,2,  36.6029,2,    208.6,2,   208.0,2,    0.74,2,   0.039,2,    2.53,2,    0.03,2,    0.13,2, -999.00,9, -999.00,9,   352.2,  18.5221,    18.5840,2
316N20070207,       LMD4,      16,          1,         12,         12,2,20070107,       0653,   8.720000, -9.7411667,       5108,   354.0,  18.5824,  36.6022,2,  36.6051,2,   -999.0,9,  -999.0,9, -999.00,9,-999.000,9, -999.00,9, -999.00,9, -999.00,9, -999.00,9, -999.00,9,   354.0,  18.5194,    18.5835,2
316N20070207,       LMD4,      16,          1,         10,         10,2,20070107,       0653,   8.720000, -9.7411667,       5108,   401.9,  18.4224,  36.6046,2,  36.6035,2,    204.3,2,   205.2,2,    0.91,2,   0.000,2,    3.20,2,    0.02,2,    0.16,2, -999.00,9, -999.00,9,   401.9,  18.3513,    18.4230,2
316N20070207,       LMD4,      16,          1,          9,         09,2,20070107,       0653,   8.720000, -9.7411667,       5108,   449.1,  18.2931,  36.5929,2,  36.5926,2,    206.1,2,   207.0,2,    0.98,2,   0.059,2,    3.34,2,    0.02,2,    0.17,2, -999.00,9, -999.00,9,   449.1,  18.2138,    18.2898,2
316N20070207,       LMD4,      16,          1,          8,         08,2,20070107,       0653,   8.720000, -9.7411667,       5108,   504.7,  17.8435,  36.5134,2,  36.5141,2,    198.0,2,   197.8,2,    1.46,2,   0.029,2,    4.97,2,    0.01,2,    0.25,2, -999.00,9, -999.00,9,   504.7,  17.7559,    17.8431,2
316N20070207,       LMD4,      16,          1,          7,         07,3,20070107,       0653,   8.720000, -9.7411667,       5108,   548.3,  17.1695,  36.3794,2,  36.3846,3,    187.4,2,   187.9,3,    0.80,3,   0.117,3,    3.97,3,    0.00,3,    0.24,3, -999.00,9, -999.00,9,   548.3,  17.0767,    17.1981,2
316N20070207,       LMD4,      16,          1,          6,         06,2,20070107,       0653,   8.720000, -9.7411667,       5108,   596.3,  16.4653,  36.2533,2,  36.2531,2,    177.2,2,   177.2,2,    2.74,2,   0.059,2,    9.20,2,    0.01,2,    0.51,2, -999.00,9, -999.00,9,   596.3,  16.3672,    16.4647,2
316N20070207,       LMD4,      16,          1,          5,         05,2,20070107,       0653,   8.720000, -9.7411667,       5108,   650.2,  15.7444,  36.1273,2,  36.1294,2,    174.9,2,   172.3,2,    3.53,2,   0.078,2,   10.88,2,    0.01,2,    0.62,2, -999.00,9, -999.00,9,   650.2,  15.6405,    15.7470,2
316N20070207,       LMD4,      16,          1,          4,         04,2,20070107,       0653,   8.720000, -9.7411667,       5108,   727.8,  14.1791,  35.8645,2,  35.8744,2,    161.0,2,   162.4,2,    5.28,2,   0.020,2,   14.21,2,    0.01,2,    0.84,2, -999.00,9, -999.00,9,   727.8,  14.0704,    14.2101,2
316N20070207,       LMD4,      16,          1,          3,         03,2,20070107,       0653,   8.720000, -9.7411667,       5108,   802.3,  12.0877,  35.5541,2,  35.5460,2,    150.9,2,   149.9,2,    8.51,2,   0.068,2,   18.65,2,    0.02,2,    1.16,2, -999.00,9, -999.00,9,   802.3,  11.9793,    12.0688,2
316N20070207,       LMD4,      16,          1,          2,         02,2,20070107,       0653,   8.720000, -9.7411667,       5108,   902.0,   9.3358,  35.2384,2,  35.2426,2,    145.5,2,   146.4,2, -999.00,9,-999.000,9, -999.00,9, -999.00,9, -999.00,9, -999.00,9, -999.00,9,   902.0,   9.2314,     9.3558,2
316N20070207,       LMD4,      16,          1,          1,         01,2,20070107,       0653,   8.720000, -9.7411667,       5108,  1013.6,   7.0865,  35.0909,2,  35.0919,2,    180.8,2,   181.1,2, -999.00,9,-999.000,9, -999.00,9, -999.00,9, -999.00,9, -999.00,9, -999.00,9,  1013.6,   6.9852,     7.0804,2