BOTTLE,20230728SIOCCHCBG
EXPOCODE,SECT_ID,STNNBR,CASTNO,SAMPNO,BTLNBR,BTLNBR_FLAG_W,DATE,TIME,LATITUDE,LONGITUDE,DEPTH,CTDPRS,CTDTMP,CTDSAL,CTDSAL_FLAG_W,SALNTY,SALNTY_FLAG_W,CTDOXY,CTDOXY_FLAG_W,OXYGEN,OXYGEN_FLAG_W,SILCAT,SILCAT_FLAG_W,NH4,NH4_FLAG_W,NITRAT,NITRAT_FLAG_W,NITRIT,NITRIT_FLAG_W,PHSPHT,PHSPHT_FLAG_W,TCARBN,TCARBN_FLAG_W,ALKALI,ALKALI_FLAG_W,CTDRAW,THETA,SBE35T,SBE35T_FLAG_W
,,,,,,,,,,,METERS,DBAR,ITS-90,PSS-78,,PSS-78,,UMOL/KG,,UMOL/KG,,UMOL/KG,,UMOL/KG,,UMOL/KG,,UMOL/KG,,UMOL/KG,,UMOL/KG,,UMOL/KG,,DBAR,DEG C,ITS-90,
316N20070207,       LMD4,      66,          1,         23,         23,2,20070109,       0904,   6.040000, -2.0166667,       4772,     3.3,  18.1457,  36.5887,2,-999.0000,9,   -999.0,9,  -999.0,9, -999.00,9,-999.000,9, -999.00,9, -999.00,9, -999.00,9, -999.00,9, -999.00,9,     3.3,  18.1451,     -999.0,9
316N20070207,       LMD4,      66,          1,         21,         21,2,20070109,       0904,   6.040000, -2.0166667,       4772,     3.4,  18.1448,  36.5880,2,  36.5908,2,    224.7,2,   225.9,2,    1.03,2,   0.039,2,    1.87,2,    0.14,2,    0.10,2, -999.00,9, -999.00,9,     3.4,  18.1442,    18.1417,2
316N20070207,       LMD4,      66,          1,         22,         22,2,20070109,       0904,   6.040000, -2.0166667,       4772,     4.8,  18.1459,  36.5887,2,-999.0000,9,   -999.0,9,  -999.0,9, -999.00,9,-999.000,9, -999.00,9, -999.00,9, -999.00,9, -999.00,9, -999.00,9,     4.8,  18.1451,    18.1451,2
316N20070207,       LMD4,      66,          1,         20,         20,2,20070109,       0904,   6.040000, -2.0166667,       4772,    25.3,  18.1507,  36.5891,2,  36.5898,2,    225.4,2,   225.6,2, -999.00,9,-999.000,9, -999.00,9, -999.00,9, -999.00,9, -999.00,9, -999.00,9,    25.3,  18.1463,    18.1537,2
316N20070207,       LMD4,      66,          1,         19,         19,2,20070109,       0904,   6.040000, -2.0166667,       4772,    51.0,  18.1625,  36.5884,2,  36.5937,2,    225.3,2,   224.9,2, -999.00,9,-999.000,9, -999.00,9, -999.00,9, -999.00,9, -999.00,9, -999.00,9,    51.0,  18.1537,    18.1631,2
316N20070207,       LMD4,      66,          1,         18,         18,2,20070109,       0904,   6.040000, -2.0166667,       4772,    74.3,  18.1645,  36.5880,2,  36.5884,2,    225.6,2,   224.6,2, -999.00,9,-999.000,9, -999.00,9, -999.00,9, -999.00,9, -999.00,9, -999.00,9,    74.3,  18.1515,    18.1630,2
316N20070207,       LMD4,      66,          1,         17,         17,2,20070109,       0904,   6.040000, -2.0166667,       4772,   100.9,  18.1682,  36.5882,2,  36.5888,2,    225.4,2,   224.9,2,    0.70,2,   0.644,2,    1.61,2,    0.17,2,    0.09,2, -999.00,9, -999.00,9,   100.9,  18.1506,    18.1679,2
316N20070207,       LMD4,      66,          1,         16,         16,2,20070109,       0904,   6.040000, -2.0166667,       4772,   126.4,  18.1023,  36.5787,2,  36.5778,2,    223.4,2,   218.8,2,    1.11,2,   0.039,2,    2.55,2,    0.14,2,    0.13,2, -999.00,9, -999.00,9,   126.4,  18.0804,    18.1441,2
316N20070207,       LMD4,      66,          1,         15,         15,2,20070109,       0904,   6.040000, -2.0166667,       4772,   172.8,  18.0618,  36.5778,2,  36.5786,2,    219.1,2,   219.8,2,    1.10,2,   0.000,2,    2.47,2,    0.13,2,    0.13,2, -999.00,9, -999.00,9,   172.8,  18.0318,    18.0535,2
316N20070207,       LMD4,      66,          1,         14,         14,2,20070109,       0904,   6.040000, -2.0166667,       4772,   224.9,  18.0081,  36.5750,2,  36.5753,2,    220.2,2,   220.0,2,    0.46,2,   0.430,2,    1.66,2,    0.06,2,    0.09,2, -999.00,9, -999.00,9,   224.9,  17.9691,    18.0085,2
316N20070207,       LMD4,      66,          1,         13,         13,2,20070109,       0904,   6.040000, -2.0166667,       4772,   276.7,  17.9702,  36.5715,2,  36.5713,2,    220.9,2,   220.4,2,    1.07,2,   0.117,2,    2.67,2,    0.11,2,    0.13,2, -999.00,9, -999.00,9,   276.7,  17.9222,    17.9704,2
316N20070207,       LMD4,      66,          1,         12,         12,2,20070109,       0904,   6.040000, -2.0166667,       4772,   325.3,  17.9124,  36.5584,2,  36.5578,2,    213.3,2,   216.7,2,    1.17,2,   0.068,2,    3.07,2,    0.07,2,    0.16,2, -999.00,9, -999.00,9,   325.3,  17.8560,    17.9121,2
316N20070207,       LMD4,      66,          1,         11,         11,2,20070109,       0904,   6.040000, -2.0166667,       4772,   372.8,  17.3761,  36.4253,2,  36.4276,2,    191.6,2,   192.9,2,    2.00,2,   0.000,2,    6.06,2,    0.02,2,    0.31,2, -999.00,9, -999.00,9,   372.8,  17.3127,    17.3816,2
316N20070207,       LMD4,      66,          1,         10,         10,2,20070109,       0904,   6.040000, -2.0166667,       4772,   425.8,  16.8829,  36.3315,2,  36.3340,2,    184.9,2,   184.8,2,    2.62,2,   0.000,2,    7.68,2,    0.02,2,    0.44,2, -999.00,9, -999.00,9,   425.8,  16.8119,    16.8796,2
316N20070207,       LMD4,      66,          1,          9,         09,2,20070109,       0904,   6.040000, -2.0166667,       4772,   475.5,  16.3974,  36.2427,2,  36.2451,2,    180.5,2,   179.9,2,    2.92,2,   0.000,2,    8.78,2,    0.01,2,    0.49,2, -999.00,9, -999.00,9,   475.5,  16.3196,    16.4028,2
316N20070207,       LMD4,      66,          1,          8,         08,2,20070109,       0904,   6.040000, -2.0166667,       4772,   523.9,  15.4530,  36.0783,2,  36.0779,2,    177.1,2,   175.7,2,    2.91,2,   0.274,2,    8.37,2,    0.01,2,    0.54,2, -999.00,9, -999.00,9,   523.9,  15.3706,    15.4505,2
316N20070207,       LMD4,      66,          1,          7,         07,2,20070109,       0904,   6.040000, -2.0166667,       4772,   575.5,  14.5138,  35.9189,2,  35.9191,2,    169.3,2,   171.1,2,    3.54,2,   0.410,2,    9.65,2,    0.02,2,    0.62,2, -999.00,9, -999.00,9,   575.5,  14.4269,    14.5163,2
316N20070207,       LMD4,      66,          1,          6,         06,2,20070109,       0904,   6.040000, -2.0166667,       4772,   625.3,  13.4590,  35.7513,2,  35.7561,2,    163.9,2,   162.5,2,    6.47,3,   0.078,2,   15.32,3,    0.01,2,    0.92,3, -999.00,9, -999.00,9,   625.3,  13.3691,    13.4638,2
316N20070207,       LMD4,      66,          1,          5,         05,2,20070109,       0904,   6.040000, -2.0166667,       4772,   675.7,  12.4966,  35.6092,2,  35.6118,2,    154.3,2,   153.8,2,    6.57,2,   0.440,2,   14.52,2,    0.02,2,    0.97,2, -999.00,9, -999.00,9,   675.7,  12.4038,    12.4892,2
316N20070207,       LMD4,      66,          1,          4,         04,2,20070109,       0904,   6.040000, -2.0166667,       4772,   750.9,  10.8129,  35.3956,2,  35.4049,2,    153.0,2,   152.5,2,    7.94,2,   0.156,2,   15.66,2,    0.00,2,    1.06,2, -999.00,9, -999.00,9,   750.9,  10.7185,    10.8187,2
316N20070207,       LMD4,      66,          1,          3,         03,2,20070109,       0904,   6.040000, -2.0166667,       4772,   850.5,   8.8412,  35.2021,2,  35.2062,2,    157.6,2,   158.2,2,   13.01,2,   0.215,2,   22.33,2,    0.01,2,    1.43,2, -999.00,9, -999.00,9,   850.5,   8.7461,     8.8272,2
316N20070207,       LMD4,      66,          1,          2,         02,2,20070109,       0904,   6.040000, -2.0166667,       4772,   950.0,   6.9552,  35.0819,2,  35.0822,2,    185.9,2,   186.1,2, -999.00,9,-999.000,9, -999.00,9, -999.00,9, -999.00,9, -999.00,9, -999.00,9,   950.0,   6.8616,     6.9513,2
316N20070207,       LMD4,      66,          1,          1,         01,2,20070109,       0904,   6.040000, -2.0166667,       4772,  1007.3,   6.3586,  35.0866,2,  35.0873,2,    206.5,2,   206.0,2, -999.00,9,-999.000,9, -999.00,9, -999.00,9, -999.00,9, -999.00,9, -999.00,9,  1007.3,   6.2634,     6.3573,2
316N20070207,       LMD4,      67,          1,         21,         21,2,20070109,       1834,   4.030000, -2.9213333,       4990,     4.1,  19.7372,  36.6478,2,  36.6511,2,    228.1,2,   227.8,2,    0.12,2,   0.225,2,    0.12,2,    0.04,2,    0.03,2, -999.00,9, -999.00,9,     4.1,  19.7364,    19.7382,2
316N20070207,       LMD4,      67,          1,         23,         23,2,20070109,       1834,   4.030000, -2.9213333,       4990,     4.6,  19.7398,  36.6478,2,-999.0000,9,   -999.0,9,  -999.0,9, -999.00,9,-999.000,9, -999.00,9, -999.00,9, -999.00,9, -999.00,9, -999.00,9,     4.6,  19.7390,    19.7402,2
316N20070207,       LMD4,      67,          1,         22,         22,2,20070109,       1834,   4.030000, -2.9213333,       4990,     5.2,  19.7402,  36.6478,2,-999.0000,9,   -999.0,9,  -999.0,9, -999.00,9,-999.000,9, -999.00,9, -999.00,9, -999.00,9, -999.00,9, -999.00,9,     5.2,  19.7392,    19.7407,2
316N20070207,       LMD4,      67,          1,         20,         20,2,20070109,       1834,   4.030000, -2.9213333,       4990,    26.2,  19.3242,  36.6396,2,  36.6414,2,    229.3,2,   229.4,2, -999.00,9,-999.000,9, -999.00,9, -999.00,9, -999.00,9, -999.00,9, -999.00,9,    26.2,  19.3194,    19.3402,2
316N20070207,       LMD4,      67,          1,         19,         19,2,20070109,       1834,   4.030000, -2.9213333,       4990,    50.8,  18.3243,  36.6150,2,  36.6160,2,    228.1,2,   228.5,2, -999.00,9,-999.000,9, -999.00,9, -999.00,9, -999.00,9, -999.00,9, -999.00,9,    50.8,  18.3154,    18.3236,2
316N20070207,       LMD4,      67,          1,         18,         18,2,20070109,       1834,   4.030000, -2.9213333,       4990,    75.0,  18.3156,  36.6154,2,  36.6174,2,    227.1,2,   226.8,2, -999.00,9,-999.000,9, -999.00,9, -999.00,9, -999.00,9, -999.00,9, -999.00,9,    75.0,  18.3025,    18.3152,2
316N20070207,       LMD4,      67,          1,         17,         17,2,20070109,       1834,   4.030000, -2.9213333,       4990,   100.4,  18.3156,  36.6152,2,  36.6178,2,    226.8,2,   227.4,2,    0.73,2,   0.303,2,    1.20,2,    0.10,2,    0.05,2, -999.00,9, -999.00,9,   100.4,  18.2980,    18.3155,2
316N20070207,       LMD4,      67,          1,         16,         16,2,20070109,       1834,   4.030000, -2.9213333,       4990,   126.0,  18.3153,  36.6146,2,  36.6168,2,    227.3,2,   227.9,2,    0.72,2,   1.514,2,    1.14,2,    0.11,2,    0.06,2, -999.00,9, -999.00,9,   126.0,  18.2932,    18.3160,2
316N20070207,       LMD4,      67,          1,         15,         15,2,20070109,       1834,   4.030000, -2.9213333,       4990,   150.1,  18.2960,  36.6104,2,  36.6124,2,    225.3,2,   225.2,2,    0.62,2,   0.273,2,    1.29,2,    0.09,2,    0.06,2, -999.00,9, -999.00,9,   150.1,  18.2697,    18.2961,2
316N20070207,       LMD4,      67,          1,         14,         14,2,20070109,       1834,   4.030000, -2.9213333,       4990,   200.9,  18.2381,  36.6034,2,  36.6053,2,    219.7,2,   219.9,2,    0.92,2,   0.078,2,    2.23,2,    0.08,2,    0.11,2, -999.00,9, -999.00,9,   200.9,  18.2030,    18.2390,2
316N20070207,       LMD4,      67,          1,         13,         13,4,20070109,       1834,   4.030000, -2.9213333,       4990,   252.6,  18.2214,  36.6031,2,  36.6481,4,    219.7,2,   227.5,4,    0.17,4,   0.146,4,    0.12,4,    0.04,4,    0.02,4, -999.00,9, -999.00,9,   252.6,  18.1772,    18.2225,2
316N20070207,       LMD4,      67,          1,         12,         12,2,20070109,       1834,   4.030000, -2.9213333,       4990,   299.8,  18.1887,  36.5941,2,  36.5950,2,    221.8,2,   220.2,2,    0.89,2,   1.055,2,    2.21,2,    0.09,2,    0.10,2, -999.00,9, -999.00,9,   299.8,  18.1362,    18.1891,2
316N20070207,       LMD4,      67,          1,         11,         11,2,20070109,       1834,   4.030000, -2.9213333,       4990,   351.4,  18.1522,  36.5882,2,  36.5892,2,    220.9,2,   220.9,2,    0.78,2,   0.791,2,    2.07,2,    0.09,2,    0.10,2, -999.00,9, -999.00,9,   351.4,  18.0906,    18.1523,2
316N20070207,       LMD4,      67,          1,         10,         10,2,20070109,       1834,   4.030000, -2.9213333,       4990,   399.7,  18.1369,  36.5870,2,  36.5878,2,    220.6,2,   218.0,2,    0.76,2,   0.547,2,    2.15,2,    0.06,2,    0.11,2, -999.00,9, -999.00,9,   399.7,  18.0669,    18.1358,2
316N20070207,       LMD4,      67,          1,          9,         09,2,20070109,       1834,   4.030000, -2.9213333,       4990,   451.2,  18.1041,  36.5855,2,  36.5847,2,    216.0,2,   218.9,2,    1.06,2,   0.059,2,    2.68,2,    0.07,2,    0.13,2, -999.00,9, -999.00,9,   451.2,  18.0250,    18.1045,2
316N20070207,       LMD4,      67,          1,          8,         08,2,20070109,       1834,   4.030000, -2.9213333,       4990,   500.2,  17.8696,  36.5247,2,  36.5256,2,    202.3,2,   206.6,2,    1.38,2,   0.791,3,    4.01,2,    0.05,2,    0.20,2, -999.00,9, -999.00,9,   500.2,  17.7827,    17.8695,2
316N20070207,       LMD4,      67,          1,          7,         07,2,20070109,       1834,   4.030000, -2.9213333,       4990,   549.7,  17.2617,  36.3952,2,  36.3976,2,    190.2,2,   189.3,2,    1.57,2,   0.654,3,    5.32,2,    0.03,2,    0.29,2, -999.00,9, -999.00,9,   549.7,  17.1683,    17.2618,2
316N20070207,       LMD4,      67,          1,          6,         06,2,20070109,       1834,   4.030000, -2.9213333,       4990,   600.6,  16.7260,  36.2964,2,  36.2974,2,    183.4,2,   183.5,2,    1.98,2,   0.342,3,    6.52,2,    0.02,2,    0.38,2, -999.00,9, -999.00,9,   600.6,  16.6261,    16.7284,2
316N20070207,       LMD4,      67,          1,          5,         05,2,20070109,       1834,   4.030000, -2.9213333,       4990,   650.6,  15.7459,  36.1276,2,  36.1310,2,    173.4,2,   174.3,2,    3.76,2,   0.000,2,   10.68,2,    0.01,2,    0.60,2, -999.00,9, -999.00,9,   650.6,  15.6419,    15.7366,2
316N20070207,       LMD4,      67,          1,          4,         04,2,20070109,       1834,   4.030000, -2.9213333,       4990,   724.9,  13.9058,  35.8210,2,  35.8260,2,    161.8,2,   161.8,2,    5.96,2,   0.000,2,   14.70,2,    0.01,2,    0.87,2, -999.00,9, -999.00,9,   724.9,  13.7989,    13.8684,2
316N20070207,       LMD4,      67,          1,          3,         03,2,20070109,       1834,   4.030000, -2.9213333,       4990,   801.5,  12.3430,  35.5830,2,  35.5991,2,    150.8,2,   150.5,2,    8.38,2,   0.176,2,   18.31,2,    0.02,2,    1.10,2, -999.00,9, -999.00,9,   801.5,  12.2333,    12.3206,2
316N20070207,       LMD4,      67,          1,          2,         02,2,20070109,       1834,   4.030000, -2.9213333,       4990,   900.7,  10.3754,  35.3325,2,  35.3331,2,    143.0,2,   143.4,2, -999.00,9,-999.000,9, -999.00,9, -999.00,9, -999.00,9, -999.00,9, -999.00,9,   900.7,  10.2644,    10.3840,2
316N20070207,       LMD4,      67,          1,          1,         01,2,20070109,       1834,   4.030000, -2.9213333,       4990,  1007.4,   7.8847,  35.1220,2,  35.1223,2,    161.2,2,   162.2,2, -999.00,9,-999.000,9, -999.00,9, -999.00,9, -999.00,9, -999.00,9, -999.00,9,  1007.4,   7.7781,     7.8829,2