BOTTLE,20230728SIOCCHCBG
EXPOCODE,SECT_ID,STNNBR,CASTNO,SAMPNO,BTLNBR,BTLNBR_FLAG_W,DATE,TIME,LATITUDE,LONGITUDE,DEPTH,CTDPRS,CTDTMP,CTDSAL,CTDSAL_FLAG_W,SALNTY,SALNTY_FLAG_W,CTDOXY,CTDOXY_FLAG_W,OXYGEN,OXYGEN_FLAG_W,SILCAT,SILCAT_FLAG_W,NH4,NH4_FLAG_W,NITRAT,NITRAT_FLAG_W,NITRIT,NITRIT_FLAG_W,PHSPHT,PHSPHT_FLAG_W,TCARBN,TCARBN_FLAG_W,ALKALI,ALKALI_FLAG_W,CTDRAW,THETA,SBE35T,SBE35T_FLAG_W
,,,,,,,,,,,METERS,DBAR,ITS-90,PSS-78,,PSS-78,,UMOL/KG,,UMOL/KG,,UMOL/KG,,UMOL/KG,,UMOL/KG,,UMOL/KG,,UMOL/KG,,UMOL/KG,,UMOL/KG,,DBAR,DEG C,ITS-90,
316N20070207,       LMD4,      19,          1,         23,         23,2,20070107,       1729,   8.980000, -9.3108333,       3809,    13.6,  18.9869,  36.6114,2,  36.6105,2,    220.1,2,   219.6,2,    0.75,2,   0.098,2,    1.25,2,    0.12,2,    0.08,2, 2083.26,2, 2401.41,2,    13.6,  18.9845,    18.9907,2
316N20070207,       LMD4,      19,          1,         24,         24,9,20070107,       1729,   8.980000, -9.3108333,       3809,    13.9,  18.9956,  36.6109,2,-999.0000,9,   -999.0,9,  -999.0,9, -999.00,9,-999.000,9, -999.00,9, -999.00,9, -999.00,9, -999.00,9, -999.00,9,    13.9,  18.9931,    18.9956,2
316N20070207,       LMD4,      19,          1,         22,         22,2,20070107,       1729,   8.980000, -9.3108333,       3809,    29.3,  18.9963,  36.6104,2,  36.6103,2,    220.1,2,   219.5,2, -999.00,9,-999.000,9, -999.00,9, -999.00,9, -999.00,9, 2081.67,2, 2397.61,2,    29.3,  18.9910,    18.9996,2
316N20070207,       LMD4,      19,          1,         21,         21,2,20070107,       1729,   8.980000, -9.3108333,       3809,    53.1,  19.0012,  36.6109,2,  36.6117,2,    220.2,2,   219.8,2, -999.00,9,-999.000,9, -999.00,9, -999.00,9, -999.00,9, 2082.97,2, 2396.17,2,    53.1,  18.9916,    19.0017,2
316N20070207,       LMD4,      19,          1,         20,         20,2,20070107,       1729,   8.980000, -9.3108333,       3809,    77.8,  19.0063,  36.6109,2,  36.6161,2,    220.0,2,   219.6,2, -999.00,9,-999.000,9, -999.00,9, -999.00,9, -999.00,9, 2083.15,2, 2393.40,2,    77.8,  18.9923,    19.0058,2
316N20070207,       LMD4,      19,          1,         19,         19,9,20070107,       1729,   8.980000, -9.3108333,       3809,    97.8,  18.9571,  36.6106,2,-999.0000,9,   -999.0,9,  -999.0,9, -999.00,9,-999.000,9, -999.00,9, -999.00,9, -999.00,9, -999.00,9, -999.00,9,    97.8,  18.9395,    18.9614,2
316N20070207,       LMD4,      19,          1,         18,         18,2,20070107,       1729,   8.980000, -9.3108333,       3809,   100.9,  18.9543,  36.6107,2,  36.6107,2,    219.5,2,   218.6,2,    0.77,2,   0.059,2,    1.41,2,    0.10,2,    0.08,2, 2087.39,2, 2397.10,2,   100.9,  18.9362,    18.9533,2
316N20070207,       LMD4,      19,          1,         17,         17,2,20070107,       1729,   8.980000, -9.3108333,       3809,   126.1,  18.9428,  36.6098,2,  36.6123,2,    219.5,2,   218.1,2,    0.68,2,   0.059,2,    1.50,2,    0.11,2,    0.08,2, 2086.96,2, 2400.12,2,   126.1,  18.9201,    18.9425,2
316N20070207,       LMD4,      19,          1,         16,         16,2,20070107,       1729,   8.980000, -9.3108333,       3809,   177.7,  18.8802,  36.6096,2,  36.6107,2,    218.9,2,   216.7,2,    0.70,2,   0.029,2,    1.72,2,    0.08,2,    0.09,2, 2088.70,2, 2398.38,2,   177.7,  18.8483,    18.8862,2
316N20070207,       LMD4,      19,          1,         15,         15,2,20070107,       1729,   8.980000, -9.3108333,       3809,   225.7,  18.8020,  36.6064,2,  36.6064,2,    218.4,2,   218.5,2,    0.52,2,   0.059,2,    1.50,2,    0.06,2,    0.08,2, 2088.33,2, 2402.38,2,   225.7,  18.7616,    18.8004,2
316N20070207,       LMD4,      19,          1,         14,         14,2,20070107,       1729,   8.980000, -9.3108333,       3809,   273.8,  18.7122,  36.6022,2,  36.6022,2,    214.5,2,   217.5,2,    0.64,2,   0.088,2,    1.82,2,    0.07,2,    0.10,2, 2087.72,2, 2399.82,2,   273.8,  18.6633,    18.7122,2
316N20070207,       LMD4,      19,          1,         13,         13,2,20070107,       1729,   8.980000, -9.3108333,       3809,   325.7,  18.6684,  36.6023,2,  36.6072,2,    214.9,2,   215.3,2,    0.66,2,   0.049,2,    1.98,2,    0.06,2,    0.11,2, 2089.35,2, 2408.58,2,   325.7,  18.6103,    18.6712,2
316N20070207,       LMD4,      19,          1,         12,         12,2,20070107,       1729,   8.980000, -9.3108333,       3809,   384.1,  18.3358,  36.5880,2,  36.5878,2,    205.4,2,   204.5,2,    0.89,2,   0.068,2,    3.33,2,    0.03,2,    0.18,2, 2102.41,2, 2399.43,2,   384.1,  18.2680,    18.3404,2
316N20070207,       LMD4,      19,          1,         11,         11,2,20070107,       1729,   8.980000, -9.3108333,       3809,   432.6,  18.1377,  36.5686,2,  36.5691,2,    204.6,2,   204.4,2,    0.80,2,   0.127,2,    3.38,2,    0.02,2,    0.19,2, 2103.66,2, 2396.07,2,   432.6,  18.0619,    18.1360,2
316N20070207,       LMD4,      19,          1,         10,         10,2,20070107,       1729,   8.980000, -9.3108333,       3809,   474.1,  17.8199,  36.5092,2,  36.5121,2,    199.4,2,   197.9,2,    0.82,2,   0.127,2,    3.86,2,    0.02,2,    0.23,2, 2109.58,2, 2390.86,2,   474.1,  17.7377,    17.8085,2
316N20070207,       LMD4,      19,          1,          9,         09,2,20070107,       1729,   8.980000, -9.3108333,       3809,   516.5,  17.7431,  36.4924,2,  36.4924,2,    195.2,2,   195.3,2,    1.36,2,   0.068,2,    5.32,2,    0.02,2,    0.28,2, 2116.94,2, 2393.58,2,   516.5,  17.6537,    17.7563,2
316N20070207,       LMD4,      19,          1,          8,         08,2,20070107,       1729,   8.980000, -9.3108333,       3809,   568.5,  16.5540,  36.2634,2,  36.2675,2,    173.1,2,   174.3,2,    2.62,2,   0.020,2,    9.12,2,    0.01,2,    0.52,2, 2131.86,2, 2376.53,2,   568.5,  16.4602,    16.5516,2
316N20070207,       LMD4,      19,          1,          7,         07,2,20070107,       1729,   8.980000, -9.3108333,       3809,   622.1,  15.2497,  36.0343,2,  36.0340,2,    162.5,2,   161.7,2,    3.48,2,   0.117,2,   10.46,2,    0.01,2,    0.65,2, 2144.83,2, 2366.36,2,   622.1,  15.1525,    15.2428,2
316N20070207,       LMD4,      19,          1,          6,         06,2,20070107,       1729,   8.980000, -9.3108333,       3809,   674.1,  13.8635,  35.8170,2,  35.8186,2,    162.7,2,   160.7,2,    5.48,2,   0.010,2,   14.82,2,    0.01,2,    0.90,2, 2150.76,2, 2362.75,2,   674.1,  13.7644,    13.8777,2
316N20070207,       LMD4,      19,          1,          5,         05,2,20070107,       1729,   8.980000, -9.3108333,       3809,   748.3,  12.1539,  35.5637,2,  35.5667,2,    158.1,2,   156.0,2,    7.59,2,   0.020,2,   17.40,2,    0.01,2,    1.08,2, 2161.69,2, 2344.87,2,   748.3,  12.0527,    12.1438,2
316N20070207,       LMD4,      19,          1,          4,         04,9,20070107,       1729,   8.980000, -9.3108333,       3809,   857.9,   9.5093,  35.2449,2,-999.0000,9,   -999.0,9,  -999.0,9, -999.00,9,-999.000,9, -999.00,9, -999.00,9, -999.00,9, -999.00,9, -999.00,9,   857.9,   9.4091,     9.5173,2
316N20070207,       LMD4,      19,          1,          3,         03,2,20070107,       1729,   8.980000, -9.3108333,       3809,   858.1,   9.4939,  35.2440,2,  35.2477,2,    144.9,2,   144.7,2,   12.05,2,   0.068,2,   22.20,2,    0.01,2,    1.48,2, -999.00,9, -999.00,9,   858.1,   9.3938,     9.5215,2
316N20070207,       LMD4,      19,          1,          2,         02,2,20070107,       1729,   8.980000, -9.3108333,       3809,   950.0,   7.6569,  35.1248,2,  35.1262,2,    170.1,2,   171.2,2, -999.00,9,-999.000,9, -999.00,9, -999.00,9, -999.00,9, -999.00,9, -999.00,9,   950.0,   7.5584,     7.6458,2
316N20070207,       LMD4,      19,          1,          1,         01,2,20070107,       1729,   8.980000, -9.3108333,       3809,  1011.5,   6.6644,  35.0811,2,  35.0817,2,    193.0,2,   192.3,2, -999.00,9,-999.000,9, -999.00,9, -999.00,9, -999.00,9, 2175.53,2, 2315.01,2,  1011.5,   6.5665,     6.6540,2
316N20070207,       LMD4,      20,          1,         21,         21,2,20070107,       2212,   5.380000, -9.1868333,       2644,     7.1,  18.9118,  36.6122,2,  36.6118,2,    219.3,2,   219.6,2,    0.88,2,   0.117,2,    1.47,2,    0.12,2,    0.09,2, -999.00,9, -999.00,9,     7.1,  18.9105,    18.9119,2
316N20070207,       LMD4,      20,          1,         20,         20,2,20070107,       2212,   5.380000, -9.1868333,       2644,    26.4,  18.9180,  36.6123,2,  36.6174,2,    219.9,2,   219.7,2, -999.00,9,-999.000,9, -999.00,9, -999.00,9, -999.00,9, -999.00,9, -999.00,9,    26.4,  18.9132,    18.9196,2
316N20070207,       LMD4,      20,          1,         19,         19,2,20070107,       2212,   5.380000, -9.1868333,       2644,    51.6,  18.9291,  36.6118,2,  36.6120,2,    219.7,2,   219.6,2, -999.00,9,-999.000,9, -999.00,9, -999.00,9, -999.00,9, -999.00,9, -999.00,9,    51.6,  18.9199,    18.9308,2
316N20070207,       LMD4,      20,          1,         18,         18,2,20070107,       2212,   5.380000, -9.1868333,       2644,    75.7,  18.9350,  36.6117,2,  36.6108,2,    219.6,2,   219.6,2, -999.00,9,-999.000,9, -999.00,9, -999.00,9, -999.00,9, -999.00,9, -999.00,9,    75.7,  18.9215,    18.9355,2
316N20070207,       LMD4,      20,          1,         17,         17,2,20070107,       2212,   5.380000, -9.1868333,       2644,   101.8,  18.9359,  36.6115,2,  36.6112,2,    219.7,2,   218.9,2,    0.94,2,   0.127,2,    1.42,2,    0.12,2,    0.08,2, -999.00,9, -999.00,9,   101.8,  18.9177,    18.9356,2
316N20070207,       LMD4,      20,          1,         16,         16,2,20070107,       2212,   5.380000, -9.1868333,       2644,   125.2,  18.9329,  36.6117,2,  36.6124,2,    219.5,2,   219.2,2,    0.89,2,   0.166,2,    1.42,2,    0.13,2,    0.08,2, -999.00,9, -999.00,9,   125.2,  18.9104,    18.9320,2
316N20070207,       LMD4,      20,          1,         15,         15,2,20070107,       2212,   5.380000, -9.1868333,       2644,   151.7,  18.9339,  36.6116,2,  36.6116,2,    219.6,2,   219.2,2,    0.84,2,   0.146,2,    1.46,2,    0.12,2,    0.08,2, -999.00,9, -999.00,9,   151.7,  18.9067,    18.9353,2
316N20070207,       LMD4,      20,          1,         14,         14,2,20070107,       2212,   5.380000, -9.1868333,       2644,   201.5,  18.9176,  36.6105,2,  36.6097,2,    219.3,2,   218.9,2,    0.90,2,   0.020,2,    1.47,2,    0.11,2,    0.09,2, -999.00,9, -999.00,9,   201.5,  18.8814,    18.9188,2
316N20070207,       LMD4,      20,          1,         13,         13,2,20070107,       2212,   5.380000, -9.1868333,       2644,   250.0,  18.8152,  36.6076,2,  36.6063,2,    218.1,2,   218.3,2,    0.85,2,   0.224,2,    1.83,2,    0.09,2,    0.13,2, -999.00,9, -999.00,9,   250.0,  18.7704,    18.8200,2
316N20070207,       LMD4,      20,          1,         12,         12,2,20070107,       2212,   5.380000, -9.1868333,       2644,   303.2,  18.5703,  36.6020,2,  36.6015,2,    213.3,2,   212.2,2,    0.91,2,   0.117,2,    2.57,2,    0.05,2,    0.13,2, -999.00,9, -999.00,9,   303.2,  18.5164,    18.5701,2
316N20070207,       LMD4,      20,          1,         11,         11,2,20070107,       2212,   5.380000, -9.1868333,       2644,   354.1,  18.3700,  36.5919,2,  36.5928,2,    205.6,2,   205.5,2,    1.07,2,   0.020,2,    3.43,2,    0.03,2,    0.18,2, -999.00,9, -999.00,9,   354.1,  18.3075,    18.3715,2
316N20070207,       LMD4,      20,          1,         10,         10,2,20070107,       2212,   5.380000, -9.1868333,       2644,   399.9,  18.1926,  36.5816,2,  36.5845,2,    205.1,2,   205.8,2,    1.12,2,   0.010,2,    3.73,2,    0.02,2,    0.19,2, -999.00,9, -999.00,9,   399.9,  18.1224,    18.1937,2
316N20070207,       LMD4,      20,          1,          9,         09,2,20070107,       2212,   5.380000, -9.1868333,       2644,   450.6,  18.0105,  36.5470,2,  36.5482,2,    201.4,2,   201.9,2,    1.40,2,   0.000,2,    4.43,2,    0.01,2,    0.23,2, -999.00,9, -999.00,9,   450.6,  17.9319,    18.0134,2
316N20070207,       LMD4,      20,          1,          8,         08,2,20070107,       2212,   5.380000, -9.1868333,       2644,   499.6,  17.4699,  36.4400,2,  36.4444,2,    190.9,2,   190.7,2,    1.86,2,   0.000,2,    6.38,2,    0.01,2,    0.34,2, -999.00,9, -999.00,9,   499.6,  17.3844,    17.4338,2
316N20070207,       LMD4,      20,          1,          7,         07,2,20070107,       2212,   5.380000, -9.1868333,       2644,   552.9,  16.6507,  36.2848,2,  36.2842,2,    176.6,2,   177.8,2,    2.76,2,   0.020,2,    8.95,2,    0.01,2,    0.51,2, -999.00,9, -999.00,9,   552.9,  16.5591,    16.6562,2
316N20070207,       LMD4,      20,          1,          6,         06,2,20070107,       2212,   5.380000, -9.1868333,       2644,   600.8,  15.6909,  36.1111,2,  36.1251,2,    168.2,2,   168.7,2,    3.87,2,   0.010,2,   11.36,2,    0.01,2,    0.66,2, -999.00,9, -999.00,9,   600.8,  15.5952,    15.7254,2
316N20070207,       LMD4,      20,          1,          5,         05,2,20070107,       2212,   5.380000, -9.1868333,       2644,   650.5,  14.4948,  35.9170,2,  35.9191,2,    165.3,2,   163.5,2,    5.19,2,   0.000,2,   13.96,2,    0.01,2,    0.83,2, -999.00,9, -999.00,9,   650.5,  14.3964,    14.4698,2
316N20070207,       LMD4,      20,          1,          4,         04,2,20070107,       2212,   5.380000, -9.1868333,       2644,   724.4,  12.8306,  35.6569,2,  35.6592,2,    160.3,2,   160.1,2,    7.27,2,   0.088,2,   16.96,2,    0.01,2,    1.05,2, -999.00,9, -999.00,9,   724.4,  12.7292,    12.7995,2
316N20070207,       LMD4,      20,          1,          3,         03,2,20070107,       2212,   5.380000, -9.1868333,       2644,   799.5,  10.6904,  35.3696,2,  35.3694,2,    141.4,2,   141.3,2,   11.68,2,   0.020,2,   22.57,2,    0.01,2,    1.43,2, -999.00,9, -999.00,9,   799.5,  10.5905,    10.6896,2
316N20070207,       LMD4,      20,          1,          2,         02,2,20070107,       2212,   5.380000, -9.1868333,       2644,   900.7,   8.3476,  35.1614,2,  35.1599,2,    158.0,2,   157.7,2, -999.00,9,-999.000,9, -999.00,9, -999.00,9, -999.00,9, -999.00,9, -999.00,9,   900.7,   8.2498,     8.3496,2
316N20070207,       LMD4,      20,          1,          1,         01,2,20070107,       2212,   5.380000, -9.1868333,       2644,  1014.5,   6.3928,  35.0743,2,  35.0757,2,    198.6,2,   198.7,2, -999.00,9,-999.000,9, -999.00,9, -999.00,9, -999.00,9, -999.00,9, -999.00,9,  1014.5,   6.2966,     6.3937,2