BOTTLE,20230728SIOCCHCBG
EXPOCODE,SECT_ID,STNNBR,CASTNO,SAMPNO,BTLNBR,BTLNBR_FLAG_W,DATE,TIME,LATITUDE,LONGITUDE,DEPTH,CTDPRS,CTDTMP,CTDSAL,CTDSAL_FLAG_W,SALNTY,SALNTY_FLAG_W,CTDOXY,CTDOXY_FLAG_W,OXYGEN,OXYGEN_FLAG_W,SILCAT,SILCAT_FLAG_W,NH4,NH4_FLAG_W,NITRAT,NITRAT_FLAG_W,NITRIT,NITRIT_FLAG_W,PHSPHT,PHSPHT_FLAG_W,TCARBN,TCARBN_FLAG_W,ALKALI,ALKALI_FLAG_W,CTDRAW,THETA,SBE35T,SBE35T_FLAG_W
,,,,,,,,,,,METERS,DBAR,ITS-90,PSS-78,,PSS-78,,UMOL/KG,,UMOL/KG,,UMOL/KG,,UMOL/KG,,UMOL/KG,,UMOL/KG,,UMOL/KG,,UMOL/KG,,UMOL/KG,,DBAR,DEG C,ITS-90,
316N20070207,       LMD4,      48,          1,         22,         22,2,20070102,       2320,  21.880000, -5.9536667,       5243,     4.7,  17.6634,  36.5362,2,  36.5373,2,    223.3,2,   223.7,2,    1.09,2,   0.908,2,    2.99,2,    0.11,2,    0.16,2, -999.00,9, -999.00,9,     4.7,  17.6626,    17.6638,2
316N20070207,       LMD4,      48,          1,         21,         21,2,20070102,       2320,  21.880000, -5.9536667,       5243,    24.8,  17.6705,  36.5361,2,  36.5375,2,    223.7,2,   223.5,2, -999.00,9,-999.000,9, -999.00,9, -999.00,9, -999.00,9, -999.00,9, -999.00,9,    24.8,  17.6663,    17.6721,2
316N20070207,       LMD4,      48,          1,         20,         20,2,20070102,       2320,  21.880000, -5.9536667,       5243,    50.3,  17.6726,  36.5361,2,  36.5379,2,    224.2,2,   224.1,2, -999.00,9,-999.000,9, -999.00,9, -999.00,9, -999.00,9, -999.00,9, -999.00,9,    50.3,  17.6640,    17.6736,2
316N20070207,       LMD4,      48,          1,         19,         19,2,20070102,       2320,  21.880000, -5.9536667,       5243,    73.6,  17.6862,  36.5358,2,  36.5359,2,    224.1,2,   223.1,2, -999.00,9,-999.000,9, -999.00,9, -999.00,9, -999.00,9, -999.00,9, -999.00,9,    73.6,  17.6736,    17.6866,2
316N20070207,       LMD4,      48,          1,         18,         18,9,20070102,       2320,  21.880000, -5.9536667,       5243,    99.5,  17.6878,  36.5357,2,-999.0000,9,   -999.0,9,  -999.0,9, -999.00,9,-999.000,9, -999.00,9, -999.00,9, -999.00,9, -999.00,9, -999.00,9,    99.5,  17.6708,    17.6908,2
316N20070207,       LMD4,      48,          1,         17,         17,2,20070102,       2320,  21.880000, -5.9536667,       5243,    99.7,  17.6867,  36.5357,2,  36.5361,2,    223.3,2,   222.9,2,    0.99,2,   0.029,2,    2.85,2,    0.06,2,    0.15,2, -999.00,9, -999.00,9,    99.7,  17.6697,    17.6878,2
316N20070207,       LMD4,      48,          1,         16,         16,2,20070102,       2320,  21.880000, -5.9536667,       5243,   123.7,  17.6956,  36.5353,2,  36.5356,2,    222.5,2,   223.1,2,    1.07,2,   0.273,2,    3.06,2,    0.08,2,    0.15,2, -999.00,9, -999.00,9,   123.7,  17.6744,    17.6961,2
316N20070207,       LMD4,      48,          1,         15,         15,2,20070102,       2320,  21.880000, -5.9536667,       5243,   149.7,  17.6960,  36.5344,2,  36.5352,2,    222.4,2,   222.0,2,    1.17,2,   0.000,2,    3.16,2,    0.07,2,    0.16,2, -999.00,9, -999.00,9,   149.7,  17.6703,    17.6964,2
316N20070207,       LMD4,      48,          1,         14,         14,2,20070102,       2320,  21.880000, -5.9536667,       5243,   199.3,  17.7025,  36.5341,2,  36.5348,2,    222.3,2,   222.0,2,    1.06,2,   0.527,2,    2.97,2,    0.08,2,    0.15,2, -999.00,9, -999.00,9,   199.3,  17.6684,    17.7031,2
316N20070207,       LMD4,      48,          1,         13,         13,2,20070102,       2320,  21.880000, -5.9536667,       5243,   249.0,  17.7091,  36.5336,2,  36.5354,2,    222.0,2,   222.0,2,    0.75,2,   0.332,2,    2.44,2,    0.05,2,    0.13,2, -999.00,9, -999.00,9,   249.0,  17.6663,    17.7094,2
316N20070207,       LMD4,      48,          1,         12,         12,2,20070102,       2320,  21.880000, -5.9536667,       5243,   301.2,  17.7164,  36.5334,2,  36.5338,2,    221.8,2,   221.7,2,    1.14,2,   0.000,2,    3.25,2,    0.06,2,    0.16,2, -999.00,9, -999.00,9,   301.2,  17.6646,    17.7167,2
316N20070207,       LMD4,      48,          1,         11,         11,2,20070102,       2320,  21.880000, -5.9536667,       5243,   349.7,  17.7216,  36.5327,2,  36.5328,2,    221.5,2,   221.3,2,    1.24,2,   0.000,2,    3.26,2,    0.06,2,    0.17,2, -999.00,9, -999.00,9,   349.7,  17.6614,    17.7216,2
316N20070207,       LMD4,      48,          1,         10,         10,2,20070102,       2320,  21.880000, -5.9536667,       5243,   398.4,  17.7306,  36.5335,2,  36.5348,2,    221.0,2,   221.9,2,    1.33,2,   0.000,2,    3.25,2,    0.06,2,    0.16,2, -999.00,9, -999.00,9,   398.4,  17.6619,    17.7310,2
316N20070207,       LMD4,      48,          1,          9,         09,2,20070102,       2320,  21.880000, -5.9536667,       5243,   449.5,  17.7353,  36.5326,2,  36.5338,2,    221.1,2,   221.2,2,    1.02,2,   0.127,2,    2.85,2,    0.05,2,    0.15,2, -999.00,9, -999.00,9,   449.5,  17.6577,    17.7356,2
316N20070207,       LMD4,      48,          1,          8,         08,2,20070102,       2320,  21.880000, -5.9536667,       5243,   502.0,  17.3740,  36.4410,2,  36.4706,2,    219.6,2,   210.9,2,    1.61,2,   0.381,2,    4.27,2,    0.05,2,    0.22,2, -999.00,9, -999.00,9,   502.0,  17.2884,    17.4653,2
316N20070207,       LMD4,      48,          1,          7,         07,2,20070102,       2320,  21.880000, -5.9536667,       5243,   551.0,  16.3018,  36.2224,2,  36.2297,2,    185.7,2,   186.2,2,    2.40,2,   1.845,3,    7.34,2,    0.05,2,    0.43,2, -999.00,9, -999.00,9,   551.0,  16.2118,    16.3280,2
316N20070207,       LMD4,      48,          1,          6,         06,2,20070102,       2320,  21.880000, -5.9536667,       5243,   600.9,  15.5498,  36.0896,2,  36.0957,2,    175.6,2,   175.3,2,    9.02,2,   0.068,2,   19.21,2,    0.01,2,    1.17,2, -999.00,9, -999.00,9,   600.9,  15.4547,    15.5484,2
316N20070207,       LMD4,      48,          1,          5,         05,2,20070102,       2320,  21.880000, -5.9536667,       5243,   650.6,  14.9700,  35.9920,2,  35.9961,2,    172.4,2,   171.5,2,    6.09,2,   0.195,2,   15.00,2,    0.03,2,    0.89,2, -999.00,9, -999.00,9,   650.6,  14.8695,    14.9614,2
316N20070207,       LMD4,      48,          1,          4,         04,2,20070102,       2320,  21.880000, -5.9536667,       5243,   725.6,  13.7148,  35.7879,2,  35.7902,2,    164.6,2,   164.4,2,    4.48,2,   0.127,2,   12.22,2,    0.02,2,    0.70,2, -999.00,9, -999.00,9,   725.6,  13.6088,    13.7142,2
316N20070207,       LMD4,      48,          1,          3,         03,2,20070102,       2320,  21.880000, -5.9536667,       5243,   800.3,  12.0836,  35.5492,2,  35.5496,2,    149.5,2,   149.6,2,    3.77,2,   0.166,2,   11.02,2,    0.02,2,    0.62,2, -999.00,9, -999.00,9,   800.3,  11.9756,    12.0781,2
316N20070207,       LMD4,      48,          1,          2,         02,2,20070102,       2320,  21.880000, -5.9536667,       5243,   901.0,   9.8888,  35.2974,2,  35.3017,2,    155.0,2,   155.1,2, -999.00,9,-999.000,9, -999.00,9, -999.00,9, -999.00,9, -999.00,9, -999.00,9,   901.0,   9.7809,     9.8986,2
316N20070207,       LMD4,      48,          1,          1,         01,2,20070102,       2320,  21.880000, -5.9536667,       5243,  1009.6,   7.9848,  35.1651,2,  35.1669,2,    175.1,2,   175.5,2, -999.00,9,-999.000,9, -999.00,9, -999.00,9, -999.00,9, -999.00,9, -999.00,9,  1009.6,   7.8772,     7.9947,2
316N20070207,       LMD4,      49,          1,         24,         24,2,20070103,       1828,  43.550000, -1.8293333,       5358,     3.4,  17.7010,  36.5000,2,  36.5016,2,    223.8,2,   225.2,2,    1.16,2,   0.000,2,    2.89,2,    0.10,2,    0.15,2, -999.00,9, -999.00,9,     3.4,  17.7004,    17.7014,2
316N20070207,       LMD4,      49,          1,         23,         23,2,20070103,       1828,  43.550000, -1.8293333,       5358,    24.9,  17.7141,  36.5006,2,  36.5009,2,    225.5,2,   224.9,2, -999.00,9,-999.000,9, -999.00,9, -999.00,9, -999.00,9, -999.00,9, -999.00,9,    24.9,  17.7099,    17.7165,2
316N20070207,       LMD4,      49,          1,         22,         22,2,20070103,       1828,  43.550000, -1.8293333,       5358,    50.7,  17.7203,  36.5001,2,  36.4988,2,    225.8,2,   225.4,2, -999.00,9,-999.000,9, -999.00,9, -999.00,9, -999.00,9, -999.00,9, -999.00,9,    50.7,  17.7117,    17.7184,2
316N20070207,       LMD4,      49,          1,         21,         21,2,20070103,       1828,  43.550000, -1.8293333,       5358,   100.3,  17.7306,  36.5008,2,  36.5015,2,    225.4,2,   224.4,2,    1.15,2,   0.000,2,    2.94,2,    0.10,2,    0.15,2, -999.00,9, -999.00,9,   100.3,  17.7134,    17.7305,2
316N20070207,       LMD4,      49,          1,         20,         20,2,20070103,       1828,  43.550000, -1.8293333,       5358,   125.3,  17.7346,  36.5008,2,  36.5001,2,    225.1,2,   224.6,2,    1.25,2,   0.000,2,    2.93,2,    0.10,2,    0.15,2, -999.00,9, -999.00,9,   125.3,  17.7131,    17.7347,2
316N20070207,       LMD4,      49,          1,         19,         19,2,20070103,       1828,  43.550000, -1.8293333,       5358,   149.7,  17.7386,  36.5009,2,  36.5015,2,    225.1,2,   224.1,2,    1.24,2,   0.020,2,    2.88,2,    0.10,2,    0.14,2, -999.00,9, -999.00,9,   149.7,  17.7129,    17.7387,2
316N20070207,       LMD4,      49,          1,         18,         18,2,20070103,       1828,  43.550000, -1.8293333,       5358,   175.0,  17.7468,  36.5022,2,  36.5037,2,    224.9,2,   224.4,2,    1.23,2,   0.059,2,    2.92,2,    0.11,2,    0.14,2, -999.00,9, -999.00,9,   175.0,  17.7168,    17.7463,2
316N20070207,       LMD4,      49,          1,         17,         17,2,20070103,       1828,  43.550000, -1.8293333,       5358,   200.3,  17.7495,  36.5016,2,  36.5025,2,    224.8,2,   224.1,2,    1.32,2,   0.000,2,    2.89,2,    0.10,2,    0.14,2, -999.00,9, -999.00,9,   200.3,  17.7150,    17.7513,2
316N20070207,       LMD4,      49,          1,         16,         16,2,20070103,       1828,  43.550000, -1.8293333,       5358,   250.9,  17.7577,  36.5021,2,  36.5015,2,    223.9,2,   224.1,2,    1.32,2,   0.000,2,    2.88,2,    0.10,2,    0.14,2, -999.00,9, -999.00,9,   250.9,  17.7145,    17.7571,2
316N20070207,       LMD4,      49,          1,         15,         15,2,20070103,       1828,  43.550000, -1.8293333,       5358,   300.2,  17.7637,  36.5015,2,  36.5012,2,    223.9,2,   223.9,2,    0.91,2,   0.508,2,    2.44,2,    0.08,2,    0.12,2, -999.00,9, -999.00,9,   300.2,  17.7120,    17.7640,2
316N20070207,       LMD4,      49,          1,         14,         14,2,20070103,       1828,  43.550000, -1.8293333,       5358,   349.8,  17.7684,  36.5009,2,  36.5018,2,    223.3,2,   223.4,2,    1.30,2,   0.000,2,    2.98,2,    0.10,2,    0.14,2, -999.00,9, -999.00,9,   349.8,  17.7080,    17.7684,2
316N20070207,       LMD4,      49,          1,         13,         13,2,20070103,       1828,  43.550000, -1.8293333,       5358,   400.7,  17.7567,  36.4970,2,  36.4952,2,    221.6,2,   221.2,2,    1.29,2,   0.000,2,    3.16,2,    0.09,2,    0.15,2, -999.00,9, -999.00,9,   400.7,  17.6876,    17.7532,2
316N20070207,       LMD4,      49,          1,         12,         12,2,20070103,       1828,  43.550000, -1.8293333,       5358,   451.4,  16.7898,  36.3070,2,  36.3064,2,    187.8,2,   189.3,2,    2.38,2,   0.039,2,    7.40,2,    0.03,2,    0.39,2, -999.00,9, -999.00,9,   451.4,  16.7148,    16.7922,2
316N20070207,       LMD4,      49,          1,         11,         11,2,20070103,       1828,  43.550000, -1.8293333,       5358,   500.9,  15.9306,  36.1574,2,  36.1582,2,    181.2,2,   180.6,2,    3.38,2,   0.000,2,    9.76,2,    0.02,2,    0.54,2, -999.00,9, -999.00,9,   500.9,  15.8502,    15.9277,2
316N20070207,       LMD4,      49,          1,         10,         10,2,20070103,       1828,  43.550000, -1.8293333,       5358,   601.2,  14.4250,  35.9000,2,  35.9011,2,    166.2,2,   172.4,3,    4.98,2,   0.000,2,   12.97,2,    0.01,2,    0.75,2, -999.00,9, -999.00,9,   601.2,  14.3345,    14.4201,2
316N20070207,       LMD4,      49,          1,          9,         09,2,20070103,       1828,  43.550000, -1.8293333,       5358,   701.7,  12.2570,  35.5742,2,  35.5743,2,    153.4,2,   153.1,2,    8.51,2,   0.059,2,   18.55,2,    0.02,2,    1.12,2, -999.00,9, -999.00,9,   701.7,  12.1617,    12.2509,2
316N20070207,       LMD4,      49,          1,          8,         08,2,20070103,       1828,  43.550000, -1.8293333,       5358,   801.8,   9.7695,  35.2730,2,  35.2740,2,    148.3,2,   148.3,2,   12.46,2,   0.010,2,   22.82,2,    0.01,2,    1.43,2, -999.00,9, -999.00,9,   801.8,   9.6746,     9.7783,2
316N20070207,       LMD4,      49,          1,          7,         07,2,20070103,       1828,  43.550000, -1.8293333,       5358,   899.7,   7.8633,  35.1135,2,  35.1133,2,    167.3,2,   168.2,2,   13.67,2,   0.000,2,   22.92,2,    0.01,2,    1.47,2, -999.00,9, -999.00,9,   899.7,   7.7689,     7.8578,2
316N20070207,       LMD4,      49,          1,          6,         06,2,20070103,       1828,  43.550000, -1.8293333,       5358,  1048.2,   6.3048,  35.1184,2,  35.1186,2,    213.1,2,   212.0,2, -999.00,9,-999.000,9, -999.00,9, -999.00,9, -999.00,9, -999.00,9, -999.00,9,  1048.2,   6.2058,     6.2996,2
316N20070207,       LMD4,      49,          1,          5,         05,2,20070103,       1828,  43.550000, -1.8293333,       5358,  1302.2,   4.5580,  34.9790,2,  34.9788,2,    255.9,2,   256.1,2, -999.00,9,-999.000,9, -999.00,9, -999.00,9, -999.00,9, -999.00,9, -999.00,9,  1302.2,   4.4500,     4.5572,2
316N20070207,       LMD4,      49,          1,          4,         04,2,20070103,       1828,  43.550000, -1.8293333,       5358,  1450.7,   4.2425,  34.9552,2,  34.9566,2,    266.8,2,   263.8,3, -999.00,9,-999.000,9, -999.00,9, -999.00,9, -999.00,9, -999.00,9, -999.00,9,  1450.7,   4.1241,     4.2415,2
316N20070207,       LMD4,      49,          1,          3,         03,2,20070103,       1828,  43.550000, -1.8293333,       5358,  1701.4,   3.9603,  34.9440,2,  34.9436,2,    270.6,2,   271.8,2, -999.00,9,-999.000,9, -999.00,9, -999.00,9, -999.00,9, -999.00,9, -999.00,9,  1701.4,   3.8221,     3.9612,2
316N20070207,       LMD4,      49,          1,          2,         02,2,20070103,       1828,  43.550000, -1.8293333,       5358,  1949.8,   3.7369,  34.9419,2,  34.9441,2,    268.8,2,   268.5,2, -999.00,9,-999.000,9, -999.00,9, -999.00,9, -999.00,9, -999.00,9, -999.00,9,  1949.8,   3.5781,     3.7360,2
316N20070207,       LMD4,      49,          1,          1,         01,2,20070103,       1828,  43.550000, -1.8293333,       5358,  2028.8,   3.6934,  34.9401,2,  34.9404,2,    269.2,2,   269.2,2, -999.00,9,-999.000,9, -999.00,9, -999.00,9, -999.00,9, -999.00,9, -999.00,9,  2028.8,   3.5277,     3.6933,2