BOTTLE,20230728SIOCCHCBG
EXPOCODE,SECT_ID,STNNBR,CASTNO,SAMPNO,BTLNBR,BTLNBR_FLAG_W,DATE,TIME,LATITUDE,LONGITUDE,DEPTH,CTDPRS,CTDTMP,CTDSAL,CTDSAL_FLAG_W,SALNTY,SALNTY_FLAG_W,CTDOXY,CTDOXY_FLAG_W,OXYGEN,OXYGEN_FLAG_W,SILCAT,SILCAT_FLAG_W,NH4,NH4_FLAG_W,NITRAT,NITRAT_FLAG_W,NITRIT,NITRIT_FLAG_W,PHSPHT,PHSPHT_FLAG_W,TCARBN,TCARBN_FLAG_W,ALKALI,ALKALI_FLAG_W,CTDRAW,THETA,SBE35T,SBE35T_FLAG_W
,,,,,,,,,,,METERS,DBAR,ITS-90,PSS-78,,PSS-78,,UMOL/KG,,UMOL/KG,,UMOL/KG,,UMOL/KG,,UMOL/KG,,UMOL/KG,,UMOL/KG,,UMOL/KG,,UMOL/KG,,DBAR,DEG C,ITS-90,
316N20070207,       LMD4,      53,          1,         21,         21,2,20070104,       0450,  38.010000, -2.0358333,       5317,     9.9,  17.8052,  36.5527,2,  36.5509,2,    219.0,2,   218.0,2,    0.61,2,   0.000,2,    3.31,2,    0.06,2,    0.17,2, -999.00,9, -999.00,9,     9.9,  17.8035,    17.8063,2
316N20070207,       LMD4,      53,          1,         20,         20,2,20070104,       0450,  38.010000, -2.0358333,       5317,    25.7,  17.8401,  36.5633,2,  36.5606,2,    218.6,2,   220.2,2, -999.00,9,-999.000,9, -999.00,9, -999.00,9, -999.00,9, -999.00,9, -999.00,9,    25.7,  17.8357,    17.8361,2
316N20070207,       LMD4,      53,          1,         19,         19,2,20070104,       0450,  38.010000, -2.0358333,       5317,    49.4,  17.8540,  36.5628,2,  36.5618,2,    220.3,2,   220.1,2, -999.00,9,-999.000,9, -999.00,9, -999.00,9, -999.00,9, -999.00,9, -999.00,9,    49.4,  17.8455,    17.8542,2
316N20070207,       LMD4,      53,          1,         18,         18,2,20070104,       0450,  38.010000, -2.0358333,       5317,    73.5,  17.8482,  36.5600,2,  36.5566,2,    219.7,2,   219.1,2, -999.00,9,-999.000,9, -999.00,9, -999.00,9, -999.00,9, -999.00,9, -999.00,9,    73.5,  17.8355,    17.8482,2
316N20070207,       LMD4,      53,          1,         17,         17,2,20070104,       0450,  38.010000, -2.0358333,       5317,   100.8,  17.7708,  36.5450,2,  36.5423,2,    208.2,2,   219.3,2,    0.64,2,   0.000,2,    3.19,2,    0.05,2,    0.16,2, -999.00,9, -999.00,9,   100.8,  17.7535,    17.7711,2
316N20070207,       LMD4,      53,          1,         16,         16,2,20070104,       0450,  38.010000, -2.0358333,       5317,   125.7,  17.6688,  36.5156,2,  36.5116,2,    211.7,2,   211.8,2,    0.77,2,   0.000,2,    3.98,2,    0.04,2,    0.21,2, -999.00,9, -999.00,9,   125.7,  17.6473,    17.6677,2
316N20070207,       LMD4,      53,          1,         15,         15,2,20070104,       0450,  38.010000, -2.0358333,       5317,   151.8,  17.7289,  36.5371,2,  36.5346,2,    213.1,2,   218.4,2,    0.51,2,   0.020,2,    3.37,2,    0.05,2,    0.17,2, -999.00,9, -999.00,9,   151.8,  17.7029,    17.7286,2
316N20070207,       LMD4,      53,          1,         14,         14,2,20070104,       0450,  38.010000, -2.0358333,       5317,   199.7,  17.6763,  36.5383,2,  36.5360,2,    219.4,2,   241.0,4,    0.64,2,   0.000,2,    3.22,2,    0.07,2,    0.16,2, -999.00,9, -999.00,9,   199.7,  17.6421,    17.6771,2
316N20070207,       LMD4,      53,          1,         13,         13,2,20070104,       0450,  38.010000, -2.0358333,       5317,   249.6,  17.6587,  36.5322,2,  36.5354,2,    219.1,2,   220.4,2,    0.48,2,   0.840,2,    2.74,2,    0.07,2,    0.15,2, -999.00,9, -999.00,9,   249.6,  17.6159,    17.6609,2
316N20070207,       LMD4,      53,          1,         12,         12,2,20070104,       0450,  38.010000, -2.0358333,       5317,   301.1,  17.4197,  36.4768,2,-999.0000,5,    221.0,2,   213.7,2,    0.81,2,   0.205,2,    4.04,2,    0.06,2,    0.21,2, -999.00,9, -999.00,9,   301.1,  17.3685,    17.4210,2
316N20070207,       LMD4,      53,          1,         11,         11,2,20070104,       0450,  38.010000, -2.0358333,       5317,   350.6,  16.8493,  36.3421,2,  36.3473,2,    200.5,2,   201.8,2,    1.25,2,   0.313,2,    5.86,2,    0.05,2,    0.32,2, -999.00,9, -999.00,9,   350.6,  16.7910,    16.8517,2
316N20070207,       LMD4,      53,          1,         10,         10,2,20070104,       0450,  38.010000, -2.0358333,       5317,   399.3,  15.6144,  36.0744,2,  36.0809,2,    217.9,2,   224.2,2,    1.68,2,   0.088,2,    5.80,2,    0.10,2,    0.34,2, -999.00,9, -999.00,9,   399.3,  15.5514,    15.5995,2
316N20070207,       LMD4,      53,          1,          9,         09,2,20070104,       0450,  38.010000, -2.0358333,       5317,   451.3,  15.0701,  35.9363,2,  35.9486,2,    225.7,2,   225.4,2,    1.82,2,   0.049,2,    6.11,2,    0.10,2,    0.38,2, -999.00,9, -999.00,9,   451.3,  15.0005,    15.0634,2
316N20070207,       LMD4,      53,          1,          8,         08,2,20070104,       0450,  38.010000, -2.0358333,       5317,   498.4,  14.6721,  35.8365,2,  35.8358,2,    225.8,2,   225.1,2,    2.15,2,   0.010,2,    6.93,2,    0.11,2,    0.43,2, -999.00,9, -999.00,9,   498.4,  14.5965,    14.6820,2
316N20070207,       LMD4,      53,          1,          7,         07,2,20070104,       0450,  38.010000, -2.0358333,       5317,   549.7,  14.9133,  35.9786,2,  35.9818,2,    182.8,2,   180.8,2,    3.10,2,   0.039,2,   10.74,2,    0.02,2,    0.64,2, -999.00,9, -999.00,9,   549.7,  14.8288,    14.8974,2
316N20070207,       LMD4,      53,          1,          6,         06,2,20070104,       0450,  38.010000, -2.0358333,       5317,   601.2,  13.6733,  35.7902,2,  35.7951,2,    163.9,2,   160.5,2,    5.05,2,   0.127,2,   14.35,2,    0.01,2,    0.89,2, -999.00,9, -999.00,9,   601.2,  13.5860,    13.6108,2
316N20070207,       LMD4,      53,          1,          5,         05,2,20070104,       0450,  38.010000, -2.0358333,       5317,   649.4,  12.1492,  35.5678,2,  35.5680,2,    151.0,2,   151.7,2,    7.83,2,   0.000,2,   18.64,2,    0.01,2,    1.14,2, -999.00,9, -999.00,9,   649.4,  12.0618,    12.1505,2
316N20070207,       LMD4,      53,          1,          4,         04,2,20070104,       0450,  38.010000, -2.0358333,       5317,   725.5,  10.5096,  35.3532,2,  35.3578,2,    144.8,2,   144.1,2,   11.02,2,   0.010,2,   22.38,2,    0.01,2,    1.36,2, -999.00,9, -999.00,9,   725.5,  10.4202,    10.5133,2
316N20070207,       LMD4,      53,          1,          3,         03,2,20070104,       0450,  38.010000, -2.0358333,       5317,   798.1,   8.4081,  35.1253,2,  35.1300,2,    156.0,2,   157.4,2,   13.10,2,   0.029,2,   23.47,2,    0.01,2,    1.50,2, -999.00,9, -999.00,9,   798.1,   8.3217,     8.3690,2
316N20070207,       LMD4,      53,          1,          2,         02,2,20070104,       0450,  38.010000, -2.0358333,       5317,   899.6,   6.2609,  34.9944,2,  35.0034,2,    198.5,2,   198.8,2, -999.00,9,-999.000,9, -999.00,9, -999.00,9, -999.00,9, -999.00,9, -999.00,9,   899.6,   6.1773,     6.2601,2
316N20070207,       LMD4,      53,          1,          1,         01,2,20070104,       0450,  38.010000, -2.0358333,       5317,  1009.6,   5.6228,  35.0349,2,  35.0358,2,    220.2,2,   220.0,2, -999.00,9,-999.000,9, -999.00,9, -999.00,9, -999.00,9, -999.00,9, -999.00,9,  1009.6,   5.5330,     5.6184,2
316N20070207,       LMD4,      54,          1,         21,         21,2,20070104,       0759,  52.140000, -2.0886667,       5310,     4.6,  14.1904,  35.7478,2,  35.7475,2,    236.6,2,   235.4,2,    2.68,2,   0.000,2,    6.18,2,    0.10,2,    0.42,2, -999.00,9, -999.00,9,     4.6,  14.1898,    14.1871,2
316N20070207,       LMD4,      54,          1,         20,         20,2,20070104,       0759,  52.140000, -2.0886667,       5310,    25.8,  14.2512,  35.7621,2,  35.7544,2,    235.5,2,   235.0,2, -999.00,9,-999.000,9, -999.00,9, -999.00,9, -999.00,9, -999.00,9, -999.00,9,    25.8,  14.2475,    14.2355,2
316N20070207,       LMD4,      54,          1,         19,         19,2,20070104,       0759,  52.140000, -2.0886667,       5310,    51.4,  14.2758,  35.7684,2,  35.7662,2,    233.9,2,   256.9,4, -999.00,9,-999.000,9, -999.00,9, -999.00,9, -999.00,9, -999.00,9, -999.00,9,    51.4,  14.2682,    14.2718,2
316N20070207,       LMD4,      54,          1,         18,         18,2,20070104,       0759,  52.140000, -2.0886667,       5310,    74.6,  14.2767,  35.7686,2,  35.7645,2,    233.2,2,   234.1,2, -999.00,9,-999.000,9, -999.00,9, -999.00,9, -999.00,9, -999.00,9, -999.00,9,    74.6,  14.2657,    14.3007,2
316N20070207,       LMD4,      54,          1,         17,         17,2,20070104,       0759,  52.140000, -2.0886667,       5310,   100.5,  14.3156,  35.7767,2,  35.7757,2,    233.6,2,   233.6,2,    2.76,2,   0.156,2,    6.31,2,    0.12,2,    0.43,2, -999.00,9, -999.00,9,   100.5,  14.3008,    14.3104,2
316N20070207,       LMD4,      54,          1,         16,         16,2,20070104,       0759,  52.140000, -2.0886667,       5310,   125.9,  14.3128,  35.7753,2,  35.7747,2,    233.2,2,   234.0,2,    2.65,2,   0.000,2,    6.28,2,    0.10,2,    0.43,2, -999.00,9, -999.00,9,   125.9,  14.2943,    14.3138,2
316N20070207,       LMD4,      54,          1,         15,         15,2,20070104,       0759,  52.140000, -2.0886667,       5310,   176.6,  13.8405,  35.6528,2,  35.6789,2,    234.3,2,   233.1,2,    2.74,2,   0.000,2,    6.51,2,    0.11,2,    0.45,2, -999.00,9, -999.00,9,   176.6,  13.8151,    13.8697,2
316N20070207,       LMD4,      54,          1,         14,         14,2,20070104,       0759,  52.140000, -2.0886667,       5310,   225.4,  12.6133,  35.3641,2,  35.3609,2,    236.9,2,   236.6,2,    3.13,2,   0.000,2,    7.11,2,    0.13,2,    0.52,2, -999.00,9, -999.00,9,   225.4,  12.5827,    12.6174,2
316N20070207,       LMD4,      54,          1,         13,         13,2,20070104,       0759,  52.140000, -2.0886667,       5310,   273.9,  11.7746,  35.1714,2,  35.1741,2,    244.7,2,   243.5,2,    3.22,2,   0.039,2,    7.01,2,    0.14,2,    0.53,2, -999.00,9, -999.00,9,   273.9,  11.7392,    11.7714,2
316N20070207,       LMD4,      54,          1,         12,         12,2,20070104,       0759,  52.140000, -2.0886667,       5310,   324.8,  12.4710,  35.3728,2,  35.3333,2,    243.8,2,   223.3,2,    3.81,2,   0.039,2,    8.87,2,    0.10,2,    0.62,2, -999.00,9, -999.00,9,   324.8,  12.4272,    12.3649,3
316N20070207,       LMD4,      54,          1,         11,         11,2,20070104,       0759,  52.140000, -2.0886667,       5310,   373.8,  13.1808,  35.6870,2,  35.6878,2,    155.6,2,   153.6,2,    6.93,2,   0.000,2,   16.57,2,    0.02,2,    1.01,2, -999.00,9, -999.00,9,   373.8,  13.1282,    13.1637,2
316N20070207,       LMD4,      54,          1,         10,         10,2,20070104,       0759,  52.140000, -2.0886667,       5310,   425.0,  12.0186,  35.5310,2,  35.5311,2,    143.2,2,   144.6,2,    8.93,2,   0.000,2,   19.55,2,    0.01,2,    1.21,2, -999.00,9, -999.00,9,   425.0,  11.9623,    12.0221,2
316N20070207,       LMD4,      54,          1,          9,         09,2,20070104,       0759,  52.140000, -2.0886667,       5310,   473.9,  10.5543,  35.3217,2,  35.3165,2,    139.4,2,   145.7,2,   10.64,2,   0.000,2,   21.27,2,    0.02,2,    1.35,2, -999.00,9, -999.00,9,   473.9,  10.4964,    10.5508,2
316N20070207,       LMD4,      54,          1,          8,         08,2,20070104,       0759,  52.140000, -2.0886667,       5310,   524.9,   8.2538,  34.9396,2,  34.9447,2,    166.8,2,   174.5,2,    6.19,2,   0.391,2,   11.84,2,    0.01,2,    1.17,2, -999.00,9, -999.00,9,   524.9,   8.1986,     8.2345,2
316N20070207,       LMD4,      54,          1,          7,         07,2,20070104,       0759,  52.140000, -2.0886667,       5310,   574.9,   8.6339,  35.1401,2,  35.1388,2,    153.1,2,   152.6,2,   13.26,2,   0.000,2,   23.55,2,    0.01,2,    1.51,2, -999.00,9, -999.00,9,   574.9,   8.5715,     8.6353,2
316N20070207,       LMD4,      54,          1,          6,         06,2,20070104,       0759,  52.140000, -2.0886667,       5310,   625.9,   7.9330,  35.1207,2,  35.1226,2,    164.2,2,   161.9,2,   13.56,2,   0.000,2,   23.50,2,    0.01,2,    1.51,2, -999.00,9, -999.00,9,   625.9,   7.8681,     7.9222,2
316N20070207,       LMD4,      54,          1,          5,         05,2,20070104,       0759,  52.140000, -2.0886667,       5310,   678.1,   6.9719,  35.0756,2,  35.0771,2,    181.0,2,   184.1,2,   12.93,2,   0.010,2,   21.93,2,    0.01,2,    1.43,2, -999.00,9, -999.00,9,   678.1,   6.9063,     6.9596,2
316N20070207,       LMD4,      54,          1,          4,         04,2,20070104,       0759,  52.140000, -2.0886667,       5310,   754.2,   5.3103,  34.9082,2,  34.9080,2,    222.3,2,   242.2,4,   11.81,2,   0.000,2,   19.44,2,    0.01,2,    1.30,2, -999.00,9, -999.00,9,   754.2,   5.2465,     5.3120,2
316N20070207,       LMD4,      54,          1,          3,         03,2,20070104,       0759,  52.140000, -2.0886667,       5310,   852.5,   4.9814,  34.9448,2,  34.9454,2,    235.5,2,   236.1,2,   11.18,2,   0.000,2,   18.73,2,    0.01,2,    1.24,2, -999.00,9, -999.00,9,   852.5,   4.9108,     4.9825,2
316N20070207,       LMD4,      54,          1,          2,         02,2,20070104,       0759,  52.140000, -2.0886667,       5310,   949.3,   4.8334,  34.9840,2,  34.9836,2,    246.7,2,   244.9,2, -999.00,9,-999.000,9, -999.00,9, -999.00,9, -999.00,9, -999.00,9, -999.00,9,   949.3,   4.7551,     4.8393,2
316N20070207,       LMD4,      54,          1,          1,         01,2,20070104,       0759,  52.140000, -2.0886667,       5310,  1005.3,   4.6729,  34.9768,2,  34.9774,2,    249.7,2,   250.0,2, -999.00,9,-999.000,9, -999.00,9, -999.00,9, -999.00,9, -999.00,9, -999.00,9,  1005.3,   4.5908,     4.6721,2
316N20070207,       LMD4,      55,          1,         21,         21,2,20070104,       1054,   6.280000, -2.1463333,       4251,     3.6,  12.0930,  35.0859,2,  35.0809,2,    262.4,3,   259.7,2,    2.29,2,   0.010,2,    5.42,2,    0.14,2,    0.43,2, -999.00,9, -999.00,9,     3.6,  12.0925,    12.0925,2
316N20070207,       LMD4,      55,          1,         20,         20,2,20070104,       1054,   6.280000, -2.1463333,       4251,    25.1,  11.6721,  35.0069,2,  35.0498,2,    263.6,3,   260.4,2, -999.00,9,-999.000,9, -999.00,9, -999.00,9, -999.00,9, -999.00,9, -999.00,9,    25.1,  11.6689,    11.6886,2
316N20070207,       LMD4,      55,          1,         19,         19,2,20070104,       1054,   6.280000, -2.1463333,       4251,    49.8,  11.6081,  35.0324,2,  35.0325,2,    258.1,3,   259.2,2, -999.00,9,-999.000,9, -999.00,9, -999.00,9, -999.00,9, -999.00,9, -999.00,9,    49.8,  11.6018,    11.5740,2
316N20070207,       LMD4,      55,          1,         18,         18,2,20070104,       1054,   6.280000, -2.1463333,       4251,    74.5,  12.1886,  35.2004,2,  35.1947,2,    242.1,3,   251.0,2, -999.00,9,-999.000,9, -999.00,9, -999.00,9, -999.00,9, -999.00,9, -999.00,9,    74.5,  12.1788,    12.2000,2
316N20070207,       LMD4,      55,          1,         17,         17,2,20070104,       1054,   6.280000, -2.1463333,       4251,    98.4,  12.6578,  35.3389,2,  35.3454,2,    235.0,3,   243.4,2,    2.68,2,   0.000,2,    6.71,2,    0.12,2,    0.49,2, -999.00,9, -999.00,9,    98.4,  12.6445,    12.6384,2
316N20070207,       LMD4,      55,          1,         16,         16,2,20070104,       1054,   6.280000, -2.1463333,       4251,   125.5,  13.0945,  35.4716,2,  35.4736,2,    235.4,3,   236.8,2,    1.46,2,   0.567,2,    4.76,2,    0.08,2,    0.40,2, -999.00,9, -999.00,9,   125.5,  13.0771,    13.0937,2
316N20070207,       LMD4,      55,          1,         15,         15,2,20070104,       1054,   6.280000, -2.1463333,       4251,   151.4,  13.3380,  35.5414,2,  35.5365,2,    235.1,3,   233.8,2,    2.65,2,   0.000,2,    7.19,2,    0.11,2,    0.50,2, -999.00,9, -999.00,9,   151.4,  13.3167,    13.3477,2
316N20070207,       LMD4,      55,          1,         14,         14,2,20070104,       1054,   6.280000, -2.1463333,       4251,   200.5,  12.1205,  35.2555,2,  35.2604,2,    227.5,3,   234.9,2,    3.24,2,   0.000,2,    7.98,2,    0.08,2,    0.57,2, -999.00,9, -999.00,9,   200.5,  12.0941,    12.1291,2
316N20070207,       LMD4,      55,          1,         13,         13,2,20070104,       1054,   6.280000, -2.1463333,       4251,   248.9,  12.2496,  35.5379,2,  35.5372,2,    151.7,3,   152.3,2,    7.56,2,   0.000,2,   18.02,2,    0.02,2,    1.10,2, -999.00,9, -999.00,9,   248.9,  12.2164,    12.2387,2
316N20070207,       LMD4,      55,          1,         12,         12,2,20070104,       1054,   6.280000, -2.1463333,       4251,   299.6,  10.6147,  35.3531,2,  35.3524,2,    141.2,2,   139.7,2,   10.90,2,   0.000,2,   22.32,2,    0.01,2,    1.39,2, -999.00,9, -999.00,9,   299.6,  10.5783,    10.5959,2
316N20070207,       LMD4,      55,          1,         11,         11,2,20070104,       1054,   6.280000, -2.1463333,       4251,   349.1,   9.9271,  35.2748,2,  35.2753,2,    141.0,2,   140.7,2,   11.90,2,   0.020,2,   23.22,2,    0.02,2,    1.46,2, -999.00,9, -999.00,9,   349.1,   9.8863,     9.9379,2
316N20070207,       LMD4,      55,          1,         10,         10,2,20070104,       1054,   6.280000, -2.1463333,       4251,   400.3,   9.0278,  35.1832,2,  35.1827,2,    146.4,2,   146.8,2,   12.90,2,   0.000,2,   23.84,2,    0.01,2,    1.51,2, -999.00,9, -999.00,9,   400.3,   8.9836,     9.0193,2
316N20070207,       LMD4,      55,          1,          9,         09,2,20070104,       1054,   6.280000, -2.1463333,       4251,   449.8,   8.1252,  35.1099,2,  35.1093,2,    157.9,2,   158.9,2,   13.20,2,   0.000,2,   23.52,2,    0.01,2,    1.51,2, -999.00,9, -999.00,9,   449.8,   8.0785,     8.1254,2
316N20070207,       LMD4,      55,          1,          8,         08,2,20070104,       1054,   6.280000, -2.1463333,       4251,   501.0,   7.6519,  35.0963,2,  35.0954,2,    169.0,2,   168.0,2,   10.45,3,   0.156,3,   18.60,3,    0.02,2,    1.37,3, -999.00,9, -999.00,9,   501.0,   7.6014,     7.6603,2
316N20070207,       LMD4,      55,          1,          7,         07,2,20070104,       1054,   6.280000, -2.1463333,       4251,   549.8,   6.7985,  35.0652,2,  35.0730,2,    188.0,2,   187.1,2,   12.67,2,   0.000,2,   21.72,2,    0.01,2,    1.41,2, -999.00,9, -999.00,9,   549.8,   6.7465,     6.8024,2
316N20070207,       LMD4,      55,          1,          6,         06,2,20070104,       1054,   6.280000, -2.1463333,       4251,   600.0,   6.2939,  35.0353,2,  35.0346,2,    201.6,2,   200.3,2,   12.25,2,   0.000,2,   20.92,2,    0.01,2,    1.36,2, -999.00,9, -999.00,9,   600.0,   6.2392,     6.2935,2
316N20070207,       LMD4,      55,          1,          5,         05,2,20070104,       1054,   6.280000, -2.1463333,       4251,   650.8,   5.4674,  34.9750,2,  34.9747,2,    219.7,2,   222.3,2,   10.51,2,   0.039,2,   18.06,2,    0.01,2,    1.23,2, -999.00,9, -999.00,9,   650.8,   5.4120,     5.4676,2
316N20070207,       LMD4,      55,          1,          4,         04,2,20070104,       1054,   6.280000, -2.1463333,       4251,   724.5,   5.3238,  35.0087,2,  35.0058,2,    236.4,2,   228.1,2,   11.31,2,   0.000,2,   19.32,2,    0.01,2,    1.27,2, -999.00,9, -999.00,9,   724.5,   5.2625,     5.3227,2
316N20070207,       LMD4,      55,          1,          3,         03,2,20070104,       1054,   6.280000, -2.1463333,       4251,   799.0,   5.1152,  35.0154,2,  35.0156,2,    235.4,2,   235.0,2,   11.09,2,   0.000,2,   18.95,2,    0.01,2,    1.24,2, -999.00,9, -999.00,9,   799.0,   5.0484,     5.1161,2
316N20070207,       LMD4,      55,          1,          2,         02,2,20070104,       1054,   6.280000, -2.1463333,       4251,   902.8,   4.8418,  35.0085,2,  35.0107,2,    244.4,2,   243.4,2, -999.00,9,-999.000,9, -999.00,9, -999.00,9, -999.00,9, -999.00,9, -999.00,9,   902.8,   4.7676,     4.8447,2
316N20070207,       LMD4,      55,          1,          1,         01,2,20070104,       1054,   6.280000, -2.1463333,       4251,   999.4,   4.6143,  34.9972,2,  34.9979,2,    251.7,2,   251.3,2, -999.00,9,-999.000,9, -999.00,9, -999.00,9, -999.00,9, -999.00,9, -999.00,9,   999.4,   4.5332,     4.6139,2