BOTTLE,20230728SIOCCHCBG
EXPOCODE,SECT_ID,STNNBR,CASTNO,SAMPNO,BTLNBR,BTLNBR_FLAG_W,DATE,TIME,LATITUDE,LONGITUDE,DEPTH,CTDPRS,CTDTMP,CTDSAL,CTDSAL_FLAG_W,SALNTY,SALNTY_FLAG_W,CTDOXY,CTDOXY_FLAG_W,OXYGEN,OXYGEN_FLAG_W,SILCAT,SILCAT_FLAG_W,NH4,NH4_FLAG_W,NITRAT,NITRAT_FLAG_W,NITRIT,NITRIT_FLAG_W,PHSPHT,PHSPHT_FLAG_W,TCARBN,TCARBN_FLAG_W,ALKALI,ALKALI_FLAG_W,CTDRAW,THETA,SBE35T,SBE35T_FLAG_W
,,,,,,,,,,,METERS,DBAR,ITS-90,PSS-78,,PSS-78,,UMOL/KG,,UMOL/KG,,UMOL/KG,,UMOL/KG,,UMOL/KG,,UMOL/KG,,UMOL/KG,,UMOL/KG,,UMOL/KG,,DBAR,DEG C,ITS-90,
316N20070207,       LMD4,      34,          1,         21,         21,2,  -999.0,     -999.0,  23.830000, -5.5836667,       4572,    10.2,  19.3722,  36.5766,2,  36.5797,2,    220.2,2,   221.6,2,    0.62,2,   0.225,2,    0.87,2,    0.06,2,    0.05,2, -999.00,9, -999.00,9,    10.2,  19.3703,    19.3734,2
316N20070207,       LMD4,      34,          1,         20,         20,2,  -999.0,     -999.0,  23.830000, -5.5836667,       4572,    25.5,  19.3001,  36.5802,2,  36.5791,2,    220.8,2,   222.7,2, -999.00,9,-999.000,9, -999.00,9, -999.00,9, -999.00,9, -999.00,9, -999.00,9,    25.5,  19.2955,    19.2977,2
316N20070207,       LMD4,      34,          1,         19,         19,2,  -999.0,     -999.0,  23.830000, -5.5836667,       4572,    50.4,  18.7880,  36.6189,2,  36.6186,2,    221.2,2,   220.6,2, -999.00,9,-999.000,9, -999.00,9, -999.00,9, -999.00,9, -999.00,9, -999.00,9,    50.4,  18.7790,    18.7757,2
316N20070207,       LMD4,      34,          1,         18,         18,2,  -999.0,     -999.0,  23.830000, -5.5836667,       4572,    76.1,  18.5219,  36.6205,2,  36.6192,2,    220.1,2,   219.4,2, -999.00,9,-999.000,9, -999.00,9, -999.00,9, -999.00,9, -999.00,9, -999.00,9,    76.1,  18.5085,    18.5223,2
316N20070207,       LMD4,      34,          1,         17,         17,4,  -999.0,     -999.0,  23.830000, -5.5836667,       4572,   100.2,  18.4731,  36.6146,2,  36.6051,4,    220.6,2,   245.6,4,    1.03,4,   0.000,4,    2.56,4,    0.05,4,    0.12,4, -999.00,9, -999.00,9,   100.2,  18.4555,    18.4731,2
316N20070207,       LMD4,      34,          1,         16,         16,2,  -999.0,     -999.0,  23.830000, -5.5836667,       4572,   125.0,  18.4124,  36.6176,2,  36.6164,2,    220.1,2,   220.3,2,    0.91,2,   0.000,2,    2.05,2,    0.07,2,    0.09,2, -999.00,9, -999.00,9,   125.0,  18.3904,    18.4135,2
316N20070207,       LMD4,      34,          1,         15,         15,2,  -999.0,     -999.0,  23.830000, -5.5836667,       4572,   150.8,  18.3469,  36.6157,2,  36.6148,2,    219.8,2,   219.3,2,    0.90,2,   0.000,2,    2.24,2,    0.06,2,    0.10,2, -999.00,9, -999.00,9,   150.8,  18.3204,    18.3474,2
316N20070207,       LMD4,      34,          1,         14,         14,2,  -999.0,     -999.0,  23.830000, -5.5836667,       4572,   201.1,  18.2857,  36.6088,2,  36.6077,2,    218.1,2,   217.1,2,    0.99,2,   0.000,2,    2.42,2,    0.06,2,    0.11,2, -999.00,9, -999.00,9,   201.1,  18.2504,    18.2863,2
316N20070207,       LMD4,      34,          1,         13,         13,2,  -999.0,     -999.0,  23.830000, -5.5836667,       4572,   251.0,  18.2707,  36.6054,2,  36.6033,2,    217.0,2,   215.3,2,    0.98,2,   0.098,2,    2.61,2,    0.06,2,    0.12,2, -999.00,9, -999.00,9,   251.0,  18.2267,    18.2711,2
316N20070207,       LMD4,      34,          1,         12,         12,2,  -999.0,     -999.0,  23.830000, -5.5836667,       4572,   300.4,  18.2194,  36.5968,2,  36.5706,4,    213.8,2,   213.9,2,    1.06,2,   0.020,2,    2.93,2,    0.05,2,    0.13,2, -999.00,9, -999.00,9,   300.4,  18.1667,    18.2176,2
316N20070207,       LMD4,      34,          1,         11,         11,2,  -999.0,     -999.0,  23.830000, -5.5836667,       4572,   351.6,  18.0975,  36.5681,2,  36.5698,2,    207.6,2,   207.3,2,    0.96,2,   0.283,2,    3.22,2,    0.03,2,    0.16,2, -999.00,9, -999.00,9,   351.6,  18.0361,    18.0996,2
316N20070207,       LMD4,      34,          1,         10,         10,2,  -999.0,     -999.0,  23.830000, -5.5836667,       4572,   402.9,  17.8701,  36.5216,2,  36.5209,2,    198.6,2,   200.2,2,    1.46,2,   0.010,2,    4.87,2,    0.02,2,    0.23,2, -999.00,9, -999.00,9,   402.9,  17.8003,    17.8629,2
316N20070207,       LMD4,      34,          1,          9,         09,2,  -999.0,     -999.0,  23.830000, -5.5836667,       4572,   451.9,  17.6222,  36.4725,2,  36.4714,2,    194.4,2,   194.7,2,    1.75,2,   0.000,2,    5.74,2,    0.02,2,    0.28,2, -999.00,9, -999.00,9,   451.9,  17.5445,    17.6182,2
316N20070207,       LMD4,      34,          1,          8,         08,2,  -999.0,     -999.0,  23.830000, -5.5836667,       4572,   499.9,  17.2677,  36.4048,2,  36.4050,2,    188.6,2,   190.3,2,    1.94,2,   0.225,2,    6.65,2,    0.03,2,    0.35,2, -999.00,9, -999.00,9,   499.9,  17.1829,    17.2559,2
316N20070207,       LMD4,      34,          1,          7,         07,2,  -999.0,     -999.0,  23.830000, -5.5836667,       4572,   549.2,  16.8461,  36.3240,2,  36.3242,2,    182.2,2,   182.9,2,    2.44,2,   0.029,2,    8.08,2,    0.02,2,    0.43,2, -999.00,9, -999.00,9,   549.2,  16.7544,    16.8525,2
316N20070207,       LMD4,      34,          1,          6,         06,2,  -999.0,     -999.0,  23.830000, -5.5836667,       4572,   600.2,  15.9053,  36.1518,2,  36.1627,2,    176.3,2,   176.8,2,    3.35,2,   0.000,2,   10.15,2,    0.02,2,    0.57,2, -999.00,9, -999.00,9,   600.2,  15.8088,    15.9310,2
316N20070207,       LMD4,      34,          1,          5,         05,2,  -999.0,     -999.0,  23.830000, -5.5836667,       4572,   648.5,  15.2983,  36.0531,2,  36.0561,2,    171.2,2,   171.9,2,    4.05,2,   0.000,2,   11.67,2,    0.01,2,    0.66,2, -999.00,9, -999.00,9,   648.5,  15.1966,    15.3102,2
316N20070207,       LMD4,      34,          1,          4,         04,2,  -999.0,     -999.0,  23.830000, -5.5836667,       4572,   715.0,  13.9391,  35.8319,2,  35.8533,2,    163.7,2,   163.2,2,    5.59,2,   0.127,2,   14.57,2,    0.02,2,    0.86,2, -999.00,9, -999.00,9,   715.0,  13.8335,    13.9719,2
316N20070207,       LMD4,      34,          1,          3,         03,2,  -999.0,     -999.0,  23.830000, -5.5836667,       4572,   800.5,  11.5230,  35.4777,2,  35.4792,2,    146.9,2,   146.3,2, -999.00,9,-999.000,9, -999.00,9, -999.00,9, -999.00,9, -999.00,9, -999.00,9,   800.5,  11.4181,    11.5270,2
316N20070207,       LMD4,      34,          1,          2,         02,2,  -999.0,     -999.0,  23.830000, -5.5836667,       4572,   900.7,   9.6102,  35.2425,2,  35.2498,2,    140.0,2,   140.0,2, -999.00,9,-999.000,9, -999.00,9, -999.00,9, -999.00,9, -999.00,9, -999.00,9,   900.7,   9.5041,     9.6200,2
316N20070207,       LMD4,      34,          1,          1,         01,2,  -999.0,     -999.0,  23.830000, -5.5836667,       4572,  1010.9,   7.7629,  35.1297,2,  35.1290,2,    166.5,2,   168.3,2, -999.00,9,-999.000,9, -999.00,9, -999.00,9, -999.00,9, -999.00,9, -999.00,9,  1010.9,   7.6568,     7.7538,2
316N20070207,       LMD4,      35,          1,         22,         22,2,  -999.0,     -999.0,  36.170000, -5.6810000,       4878,     4.1,  21.5092,  36.5151,2,  36.5148,2,    213.1,2,   213.3,2,    0.16,2,   0.615,2,    0.18,2,    0.08,2,    0.02,2, -999.00,9, -999.00,9,     4.1,  21.5084,    21.5100,2
316N20070207,       LMD4,      35,          1,         21,         21,2,  -999.0,     -999.0,  36.170000, -5.6810000,       4878,    25.6,  21.5176,  36.5144,2,  36.5136,2,    213.7,2,   213.2,2, -999.00,9,-999.000,9, -999.00,9, -999.00,9, -999.00,9, -999.00,9, -999.00,9,    25.6,  21.5126,    21.5126,2
316N20070207,       LMD4,      35,          1,         20,         20,2,  -999.0,     -999.0,  36.170000, -5.6810000,       4878,    51.0,  20.4429,  36.5327,2,  36.5286,2,    215.9,2,   216.2,2, -999.00,9,-999.000,9, -999.00,9, -999.00,9, -999.00,9, -999.00,9, -999.00,9,    51.0,  20.4333,    20.5356,2
316N20070207,       LMD4,      35,          1,         19,         19,2,  -999.0,     -999.0,  36.170000, -5.6810000,       4878,    76.4,  19.5653,  36.5547,2,  36.5530,2,    217.3,2,   218.3,2, -999.00,9,-999.000,9, -999.00,9, -999.00,9, -999.00,9, -999.00,9, -999.00,9,    76.4,  19.5513,    19.5469,2
316N20070207,       LMD4,      35,          1,         17,         17,2,  -999.0,     -999.0,  36.170000, -5.6810000,       4878,    99.0,  18.4204,  36.5980,2,  36.5960,2,    218.9,2,   218.5,2,    0.76,2,   0.000,2,    2.14,2,    0.06,2,    0.10,2, -999.00,9, -999.00,9,    99.0,  18.4030,    18.4186,2
316N20070207,       LMD4,      35,          1,         18,         18,2,  -999.0,     -999.0,  36.170000, -5.6810000,       4878,    99.6,  18.4196,  36.5981,2,  36.5966,2,    218.9,2,   218.5,2,    0.87,2,   0.000,2,    2.13,2,    0.06,2,    0.10,2, -999.00,9, -999.00,9,    99.6,  18.4021,    18.4206,2
316N20070207,       LMD4,      35,          1,         16,         16,2,  -999.0,     -999.0,  36.170000, -5.6810000,       4878,   128.2,  18.2773,  36.6105,2,  36.6156,3,    218.6,2,   219.0,2,    0.56,2,   0.322,2,    1.87,2,    0.05,2,    0.10,2, -999.00,9, -999.00,9,   128.2,  18.2548,    18.2778,2
316N20070207,       LMD4,      35,          1,         15,         15,2,  -999.0,     -999.0,  36.170000, -5.6810000,       4878,   175.3,  18.2643,  36.6070,2,  36.6075,2,    219.5,2,   217.2,2,    0.86,2,   0.010,2,    2.33,2,    0.06,2,    0.11,2, -999.00,9, -999.00,9,   175.3,  18.2336,    18.2641,2
316N20070207,       LMD4,      35,          1,         14,         14,2,  -999.0,     -999.0,  36.170000, -5.6810000,       4878,   227.1,  18.2419,  36.6072,2,  36.6065,2,    218.0,2,   218.2,2,    0.76,2,   0.244,2,    2.28,2,    0.07,2,    0.11,2, -999.00,9, -999.00,9,   227.1,  18.2021,    18.2436,2
316N20070207,       LMD4,      35,          1,         13,         13,2,  -999.0,     -999.0,  36.170000, -5.6810000,       4878,   274.9,  18.1585,  36.5934,2,  36.5928,2,    215.0,2,   214.0,2,    0.96,2,   0.283,2,    2.94,2,    0.06,2,    0.14,2, -999.00,9, -999.00,9,   274.9,  18.1104,    18.1614,2
316N20070207,       LMD4,      35,          1,         12,         12,2,  -999.0,     -999.0,  36.170000, -5.6810000,       4878,   326.9,  18.1184,  36.5911,2,  36.5904,2,    213.9,2,   215.0,2,    0.96,2,   0.000,2,    2.96,2,    0.05,2,    0.14,2, -999.00,9, -999.00,9,   326.9,  18.0613,    18.1191,2
316N20070207,       LMD4,      35,          1,         11,         11,2,  -999.0,     -999.0,  36.170000, -5.6810000,       4878,   375.4,  18.0053,  36.5654,2,  36.5655,2,    204.4,2,   210.2,2,    0.96,2,   0.068,2,    3.30,2,    0.04,2,    0.17,2, -999.00,9, -999.00,9,   375.4,  17.9399,    18.0047,2
316N20070207,       LMD4,      35,          1,         10,         10,2,  -999.0,     -999.0,  36.170000, -5.6810000,       4878,   427.4,  17.6796,  36.4832,2,  36.4860,2,    195.1,2,   195.9,2,    1.46,2,   0.283,2,    5.38,2,    0.04,2,    0.27,2, -999.00,9, -999.00,9,   427.4,  17.6060,    17.6816,2
316N20070207,       LMD4,      35,          1,          9,         09,2,  -999.0,     -999.0,  36.170000, -5.6810000,       4878,   476.6,  17.1597,  36.3837,2,  36.3848,2,    186.8,2,   186.2,2,    1.97,2,   0.107,2,    7.16,2,    0.02,2,    0.38,2, -999.00,9, -999.00,9,   476.6,  17.0792,    17.1535,2
316N20070207,       LMD4,      35,          1,          8,         08,2,  -999.0,     -999.0,  36.170000, -5.6810000,       4878,   527.1,  16.8329,  36.3221,2,  36.3244,2,    183.1,2,   182.4,2,    2.18,2,   0.361,2,    7.70,2,    0.03,2,    0.42,2, -999.00,9, -999.00,9,   527.1,  16.7449,    16.8375,2
316N20070207,       LMD4,      35,          1,          7,         07,2,  -999.0,     -999.0,  36.170000, -5.6810000,       4878,   574.4,  16.1097,  36.1942,2,  36.1949,2,    178.1,2,   177.9,2,    2.78,2,   0.020,2,    9.53,2,    0.01,2,    0.54,2, -999.00,9, -999.00,9,   574.4,  16.0166,    16.1064,2
316N20070207,       LMD4,      35,          1,          6,         06,2,  -999.0,     -999.0,  36.170000, -5.6810000,       4878,   628.0,  15.3505,  36.0622,2,  36.0689,2,    173.7,2,   172.8,2,    3.71,2,   0.088,2,   11.48,2,    0.02,2,    0.66,2, -999.00,9, -999.00,9,   628.0,  15.2519,    15.3573,2
316N20070207,       LMD4,      35,          1,          5,         05,2,  -999.0,     -999.0,  36.170000, -5.6810000,       4878,   677.8,  14.4585,  35.9133,2,  35.9188,2,    168.0,2,   167.5,2,    3.70,3,   0.479,3,   11.20,3,    0.03,2,    0.70,3, -999.00,9, -999.00,9,   677.8,  14.3560,    14.4690,2
316N20070207,       LMD4,      35,          1,          4,         04,2,  -999.0,     -999.0,  36.170000, -5.6810000,       4878,   749.7,  12.4509,  35.6038,2,  35.6141,2,    152.1,2,   151.4,2,    5.75,2,   0.166,2,   13.93,2,    0.01,2,    0.96,2, -999.00,9, -999.00,9,   749.7,  12.3479,    12.4457,2
316N20070207,       LMD4,      35,          1,          3,         03,2,  -999.0,     -999.0,  36.170000, -5.6810000,       4878,   850.9,  10.4354,  35.3446,2,  35.3475,2,    143.9,2,   144.1,2, -999.00,9,-999.000,9, -999.00,9, -999.00,9, -999.00,9, -999.00,9, -999.00,9,   850.9,  10.3303,    10.4381,2
316N20070207,       LMD4,      35,          1,          2,         02,2,  -999.0,     -999.0,  36.170000, -5.6810000,       4878,   949.3,   8.2200,  35.1545,2,  35.1563,2,    156.4,2,   160.5,2, -999.00,9,-999.000,9, -999.00,9, -999.00,9, -999.00,9, -999.00,9, -999.00,9,   949.3,   8.1176,     8.2165,2
316N20070207,       LMD4,      35,          1,          1,         01,2,  -999.0,     -999.0,  36.170000, -5.6810000,       4878,  1009.3,   7.1580,  35.1004,2,  35.1026,2,    179.9,2,   180.0,2, -999.00,9,-999.000,9, -999.00,9, -999.00,9, -999.00,9, -999.00,9, -999.00,9,  1009.3,   7.0566,     7.1574,2