BOTTLE,20230728SIOCCHCBG
EXPOCODE,SECT_ID,STNNBR,CASTNO,SAMPNO,BTLNBR,BTLNBR_FLAG_W,DATE,TIME,LATITUDE,LONGITUDE,DEPTH,CTDPRS,CTDTMP,CTDSAL,CTDSAL_FLAG_W,SALNTY,SALNTY_FLAG_W,CTDOXY,CTDOXY_FLAG_W,OXYGEN,OXYGEN_FLAG_W,SILCAT,SILCAT_FLAG_W,NH4,NH4_FLAG_W,NITRAT,NITRAT_FLAG_W,NITRIT,NITRIT_FLAG_W,PHSPHT,PHSPHT_FLAG_W,TCARBN,TCARBN_FLAG_W,ALKALI,ALKALI_FLAG_W,CTDRAW,THETA,SBE35T,SBE35T_FLAG_W
,,,,,,,,,,,METERS,DBAR,ITS-90,PSS-78,,PSS-78,,UMOL/KG,,UMOL/KG,,UMOL/KG,,UMOL/KG,,UMOL/KG,,UMOL/KG,,UMOL/KG,,UMOL/KG,,UMOL/KG,,DBAR,DEG C,ITS-90,
316N20070207,       LMD4,       7,          1,         24,         24,2,20070102,       0302,  43.540000, -6.0155000,       4996,     4.9,  20.6090,  36.6158,2,  36.6124,2,    209.1,2,   208.8,2,    1.02,2,   0.176,2,    1.02,2,    0.17,2,    0.08,2, 2076.51,2, 2404.54,2,     4.9,  20.6081,    20.6075,2
316N20070207,       LMD4,       7,          1,         23,         23,9,20070102,       0302,  43.540000, -6.0155000,       4996,     5.2,  20.6120,  36.6156,2,-999.0000,9,   -999.0,9,  -999.0,9, -999.00,9,-999.000,9, -999.00,9, -999.00,9, -999.00,9, -999.00,9, -999.00,9,     5.2,  20.6110,    20.6082,2
316N20070207,       LMD4,       7,          1,         22,         22,2,20070102,       0302,  43.540000, -6.0155000,       4996,    25.2,  20.6127,  36.6150,2,  36.6136,2,    208.9,2,   208.6,2, -999.00,9,-999.000,9, -999.00,9, -999.00,9, -999.00,9, 2073.79,2, 2400.48,2,    25.2,  20.6079,    20.6139,2
316N20070207,       LMD4,       7,          1,         21,         21,2,20070102,       0302,  43.540000, -6.0155000,       4996,    50.7,  20.5647,  36.6131,2,  36.6134,2,    210.1,2,   210.5,2, -999.00,9,-999.000,9, -999.00,9, -999.00,9, -999.00,9, 2072.43,2, 2401.09,2,    50.7,  20.5551,    20.5796,2
316N20070207,       LMD4,       7,          1,         20,         20,2,20070102,       0302,  43.540000, -6.0155000,       4996,    75.3,  20.4853,  36.6110,2,  36.6090,2,    213.3,2,   213.3,2, -999.00,9,-999.000,9, -999.00,9, -999.00,9, -999.00,9, 2066.67,2, 2399.31,2,    75.3,  20.4711,    20.4854,2
316N20070207,       LMD4,       7,          1,         19,         19,9,20070102,       0302,  43.540000, -6.0155000,       4996,   100.0,  20.4597,  36.6133,2,-999.0000,9,   -999.0,9,  -999.0,9, -999.00,9,-999.000,9, -999.00,9, -999.00,9, -999.00,9, -999.00,9, -999.00,9,   100.0,  20.4408,    20.4596,2
316N20070207,       LMD4,       7,          1,         18,         18,2,20070102,       0302,  43.540000, -6.0155000,       4996,   125.9,  20.4475,  36.6154,2,  36.6152,2,    213.9,2,   213.8,2,    0.91,2,   0.049,2,    0.54,2,    0.24,2,    0.05,2, 2067.41,2, 2399.90,2,   125.9,  20.4237,    20.4454,2
316N20070207,       LMD4,       7,          1,         17,         17,2,20070102,       0302,  43.540000, -6.0155000,       4996,   175.4,  19.5776,  36.6554,2,  36.6538,2,    200.7,2,   207.1,2,    0.79,2,   0.205,2,    1.42,2,    0.11,2,    0.08,2, 2083.39,2, 2398.78,2,   175.4,  19.5454,    19.5807,2
316N20070207,       LMD4,       7,          1,         15,         15,9,20070102,       0302,  43.540000, -6.0155000,       4996,   225.3,  18.8338,  36.6275,2,-999.0000,9,   -999.0,9,  -999.0,9, -999.00,9,-999.000,9, -999.00,9, -999.00,9, -999.00,9, -999.00,9, -999.00,9,   225.3,  18.7935,    18.8339,2
316N20070207,       LMD4,       7,          1,         16,         16,2,20070102,       0302,  43.540000, -6.0155000,       4996,   225.6,  18.8255,  36.6268,2,  36.6277,2,    189.5,2,   192.5,2,    1.10,2,   0.000,2,    3.51,2,    0.02,2,    0.17,2, 2106.91,2, 2396.17,2,   225.6,  18.7851,    18.8336,2
316N20070207,       LMD4,       7,          1,         14,         14,2,20070102,       0302,  43.540000, -6.0155000,       4996,   300.3,  18.3543,  36.6039,2,  36.6049,2,    207.3,2,   207.7,2,    0.88,2,   0.098,2,    2.72,2,    0.01,2,    0.14,2, 2100.38,2, 2396.19,2,   300.3,  18.3013,    18.3545,2
316N20070207,       LMD4,       7,          1,         13,         13,2,20070102,       0302,  43.540000, -6.0155000,       4996,   324.9,  18.2775,  36.5948,2,  36.5953,2,    208.3,2,   206.8,2,    1.19,2,   0.000,2,    3.28,2,    0.01,2,    0.17,2, 2099.56,2, 2394.97,2,   324.9,  18.2203,    18.2774,2
316N20070207,       LMD4,       7,          1,         12,         12,2,20070102,       0302,  43.540000, -6.0155000,       4996,   375.5,  18.1136,  36.5686,2,  36.5636,2,    203.4,2,   204.5,2,    1.07,2,   0.264,2,    3.41,2,    0.02,2,    0.18,2, 2135.98,3, 2415.84,3,   375.5,  18.0480,    18.1115,2
316N20070207,       LMD4,       7,          1,         11,         11,9,20070102,       0302,  43.540000, -6.0155000,       4996,   375.7,  18.1131,  36.5686,2,-999.0000,9,   -999.0,9,  -999.0,9, -999.00,9,-999.000,9, -999.00,9, -999.00,9, -999.00,9, -999.00,9, -999.00,9,   375.7,  18.0474,    18.1136,2
316N20070207,       LMD4,       7,          1,         10,         10,2,20070102,       0302,  43.540000, -6.0155000,       4996,   425.3,  17.7362,  36.4971,2,  36.4913,2,    198.2,2,   197.1,2,    1.38,2,   0.020,2,    4.65,2,    0.01,2,    0.25,2, 2112.73,2, 2389.40,2,   425.3,  17.6628,    17.7347,2
316N20070207,       LMD4,       7,          1,          9,         09,2,20070102,       0302,  43.540000, -6.0155000,       4996,   475.5,  17.0339,  36.3585,2,  36.3548,2,    182.4,2,   183.3,2,    2.42,2,   0.020,2,    7.71,2,    0.01,2,    0.41,2, 2119.04,2, 2381.35,2,   475.5,  16.9541,    17.0305,2
316N20070207,       LMD4,       7,          1,          8,         08,2,20070102,       0302,  43.540000, -6.0155000,       4996,   524.8,  16.2239,  36.2020,2,  36.2020,2,   -999.0,9,  -999.0,5,    3.47,2,   0.010,2,   10.32,2,    0.01,2,    0.59,2, 2130.98,2, 2373.42,2,   524.8,  16.1385,    16.2252,2
316N20070207,       LMD4,       7,          1,          7,         07,9,20070102,       0302,  43.540000, -6.0155000,       4996,   574.9,  14.9419,  35.9960,2,-999.0000,9,   -999.0,9,  -999.0,9, -999.00,9,-999.000,9, -999.00,9, -999.00,9, -999.00,9, -999.00,9, -999.00,9,   574.9,  14.8534,    14.9482,2
316N20070207,       LMD4,       7,          1,          6,         06,2,20070102,       0302,  43.540000, -6.0155000,       4996,   625.3,  13.8446,  35.8167,2,  35.8198,2,    161.1,2,   159.4,2,    5.25,2,   0.996,3,   13.73,2,    0.04,2,    0.85,2, 2149.09,2, 2351.92,2,   625.3,  13.7529,    13.8351,2
316N20070207,       LMD4,       7,          1,          5,         05,2,20070102,       0302,  43.540000, -6.0155000,       4996,   674.7,  12.4808,  35.6096,2,  35.6216,2,    151.8,2,   150.6,2,    8.22,2,   0.029,2,   18.54,2,    0.01,2,    1.11,2, 2164.24,2, 2342.48,2,   674.7,  12.3883,    12.4768,2
316N20070207,       LMD4,       7,          1,          4,         04,2,20070102,       0302,  43.540000, -6.0155000,       4996,   750.5,  10.5604,  35.3416,2,  35.3466,2,    138.8,2,   139.0,2,   11.11,2,   0.068,2,   21.33,2,    0.01,2,    1.37,2, 2175.18,2, 2328.20,2,   750.5,  10.4675,    10.5905,2
316N20070207,       LMD4,       7,          1,          3,         03,9,20070102,       0302,  43.540000, -6.0155000,       4996,   850.8,   8.6293,  35.1460,2,-999.0000,9,   -999.0,9,  -999.0,9, -999.00,9,-999.000,9, -999.00,9, -999.00,9, -999.00,9, -999.00,9, -999.00,9,   850.8,   8.5355,     8.6233,2
316N20070207,       LMD4,       7,          1,          2,         02,2,20070102,       0302,  43.540000, -6.0155000,       4996,   950.3,   6.9781,  35.1045,2,  35.1061,2,    183.1,2,   183.3,2, -999.00,9,-999.000,9, -999.00,9, -999.00,9, -999.00,9, -999.00,9, -999.00,9,   950.3,   6.8843,     6.9791,2
316N20070207,       LMD4,       7,          1,          1,         01,2,20070102,       0302,  43.540000, -6.0155000,       4996,  1020.5,   5.9440,  35.0579,2,  35.0608,2,    210.6,2,   209.8,2, -999.00,9,-999.000,9, -999.00,9, -999.00,9, -999.00,9, 2165.39,2, 2314.56,2,  1020.5,   5.8507,     5.9450,2
316N20070207,       LMD4,       8,          1,         24,         24,2,20070102,       0734,  56.380000, -5.9555000,       4819,     3.3,  20.7175,  36.6156,2,  36.6152,2,    210.7,2,   210.2,2,    0.79,2,   0.693,2,    0.72,2,    0.20,2,    0.06,2, 2073.76,2, 2396.70,2,     3.3,  20.7169,    20.7164,2
316N20070207,       LMD4,       8,          1,         23,         23,9,20070102,       0734,  56.380000, -5.9555000,       4819,     3.5,  20.7171,  36.6156,2,-999.0000,9,   -999.0,9,  -999.0,9, -999.00,9,-999.000,9, -999.00,9, -999.00,9, -999.00,9, -999.00,9, -999.00,9,     3.5,  20.7165,    20.7179,2
316N20070207,       LMD4,       8,          1,         22,         22,2,20070102,       0734,  56.380000, -5.9555000,       4819,    27.5,  20.7387,  36.6149,2,  36.6160,2,    211.5,2,   210.9,2, -999.00,9,-999.000,9, -999.00,9, -999.00,9, -999.00,9, 2071.81,2, 2401.39,2,    27.5,  20.7334,    20.7380,2
316N20070207,       LMD4,       8,          1,         21,         21,2,20070102,       0734,  56.380000, -5.9555000,       4819,    51.3,  20.7445,  36.6149,2,  36.6172,2,    210.3,2,   210.4,2, -999.00,9,-999.000,9, -999.00,9, -999.00,9, -999.00,9, 2069.82,2, 2403.49,2,    51.3,  20.7347,    20.7414,2
316N20070207,       LMD4,       8,          1,         20,         20,2,20070102,       0734,  56.380000, -5.9555000,       4819,    75.5,  20.7445,  36.6152,2,  36.6158,2,    209.7,2,   209.9,2, -999.00,9,-999.000,9, -999.00,9, -999.00,9, -999.00,9, 2072.65,2, 2401.61,2,    75.5,  20.7301,    20.7450,2
316N20070207,       LMD4,       8,          1,         18,         18,2,20070102,       0734,  56.380000, -5.9555000,       4819,    98.4,  20.6576,  36.6185,2,  36.6175,2,    212.0,2,   212.5,2,    1.00,2,   0.078,2,    0.64,2,    0.23,2,    0.05,2, 2070.33,2, 2405.47,2,    98.4,  20.6389,    20.6571,2
316N20070207,       LMD4,       8,          1,         19,         19,9,20070102,       0734,  56.380000, -5.9555000,       4819,    99.2,  20.6304,  36.6203,2,-999.0000,9,   -999.0,9,  -999.0,9, -999.00,9,-999.000,9, -999.00,9, -999.00,9, -999.00,9, -999.00,9, -999.00,9,    99.2,  20.6115,    20.6346,2
316N20070207,       LMD4,       8,          1,         17,         17,2,20070102,       0734,  56.380000, -5.9555000,       4819,   127.2,  20.3883,  36.6459,2,  36.6459,2,    207.0,2,   210.2,2,    0.88,2,   0.195,2,    0.72,2,    0.20,2,    0.05,2, 2072.36,2, 2402.80,2,   127.2,  20.3642,    20.3865,2
316N20070207,       LMD4,       8,          1,         16,         16,2,20070102,       0734,  56.380000, -5.9555000,       4819,   145.5,  20.1412,  36.6675,2,  36.6679,2,    209.0,2,   210.5,2,    0.77,2,   0.429,2,    0.70,2,    0.22,2,    0.05,2, 2079.99,2, 2400.82,2,   145.5,  20.1139,    20.1389,2
316N20070207,       LMD4,       8,          1,         15,         15,9,20070102,       0734,  56.380000, -5.9555000,       4819,   198.0,  19.1446,  36.6564,2,-999.0000,9,   -999.0,9,  -999.0,9, -999.00,9,-999.000,9, -999.00,9, -999.00,9, -999.00,9, -999.00,9, -999.00,9,   198.0,  19.1087,    19.1553,2
316N20070207,       LMD4,       8,          1,         14,         14,2,20070102,       0734,  56.380000, -5.9555000,       4819,   232.1,  18.5996,  36.6081,2,  36.6086,2,    196.3,2,   196.0,2,    1.28,2,   0.010,2,    3.55,2,    0.02,2,    0.18,2, 2106.44,2, 2395.21,2,   232.1,  18.5583,    18.5995,2
316N20070207,       LMD4,       8,          1,         13,         13,2,20070102,       0734,  56.380000, -5.9555000,       4819,   301.0,  18.2036,  36.5838,2,  36.5836,2,    206.2,2,   204.6,2,    0.85,2,   0.078,2,    2.71,2,    0.01,2,    0.15,2, 2102.09,2, 2395.85,2,   301.0,  18.1508,    18.2037,2
316N20070207,       LMD4,       8,          1,         12,         12,2,20070102,       0734,  56.380000, -5.9555000,       4819,   349.8,  17.9815,  36.5430,2,  36.5430,2,    200.8,2,   200.0,2,    1.47,2,   0.000,2,    4.54,2,    0.01,2,    0.23,2, 2108.86,2, 2393.60,2,   349.8,  17.9206,    17.9809,2
316N20070207,       LMD4,       8,          1,         11,         11,9,20070102,       0734,  56.380000, -5.9555000,       4819,   400.1,  17.4036,  36.4306,2,-999.0000,9,   -999.0,9,  -999.0,9, -999.00,9,-999.000,9, -999.00,9, -999.00,9, -999.00,9, -999.00,9, -999.00,9,   400.1,  17.3355,    17.4011,2
316N20070207,       LMD4,       8,          1,         10,         10,2,20070102,       0734,  56.380000, -5.9555000,       4819,   450.1,  16.2088,  36.2188,2,  36.2161,2,    176.3,2,   178.4,2,    3.15,2,   0.010,2,    9.48,2,    0.01,2,    0.54,2, 2128.66,2, 2373.66,2,   450.1,  16.1358,    16.2242,2
316N20070207,       LMD4,       8,          1,          9,         09,2,20070102,       0734,  56.380000, -5.9555000,       4819,   499.8,  15.2983,  36.0501,2,  36.0487,2,    170.3,2,   161.4,2,    3.46,2,   0.098,2,    9.91,2,    0.01,2,    0.63,2, 2143.00,2, 2364.02,2,   499.8,  15.2203,    15.2985,2
316N20070207,       LMD4,       8,          1,          8,         08,2,20070102,       0734,  56.380000, -5.9555000,       4819,   550.6,  14.0586,  35.8355,2,  35.8287,2,    146.0,2,   145.6,2,    6.84,2,   0.029,2,   16.64,2,    0.01,2,    1.00,2, 2158.09,2, 2351.44,2,   550.6,  13.9772,    14.0486,2
316N20070207,       LMD4,       8,          1,          7,         07,9,20070102,       0734,  56.380000, -5.9555000,       4819,   601.8,  12.4025,  35.5932,2,-999.0000,9,   -999.0,9,  -999.0,9, -999.00,9,-999.000,9, -999.00,9, -999.00,9, -999.00,9, -999.00,9, -999.00,9,   601.8,  12.3205,    12.4019,2
316N20070207,       LMD4,       8,          1,          6,         06,2,20070102,       0734,  56.380000, -5.9555000,       4819,   651.7,  10.6573,  35.3384,2,  35.3392,2,    134.4,2,   133.5,2,   12.50,2,   0.195,2,   23.76,2,    0.03,2,    1.48,2, 2180.77,2, 2333.16,2,   651.7,  10.5766,    10.6568,2
316N20070207,       LMD4,       8,          1,          5,         05,2,20070102,       0734,  56.380000, -5.9555000,       4819,   731.2,   9.2799,  35.2058,2,  35.2101,2,    141.4,2,   141.0,2,   14.32,2,   0.078,2,   24.69,2,    0.01,2,    1.57,2, 2183.89,2, 2325.03,2,   731.2,   9.1963,     9.2705,2
316N20070207,       LMD4,       8,          1,          3,         03,9,20070102,       0734,  56.380000, -5.9555000,       4819,   804.3,   7.7878,  35.1097,2,-999.0000,9,   -999.0,9,  -999.0,9, -999.00,9,-999.000,9, -999.00,9, -999.00,9, -999.00,9, -999.00,9, -999.00,9,   804.3,   7.7043,     7.7775,2
316N20070207,       LMD4,       8,          1,          4,         04,2,20070102,       0734,  56.380000, -5.9555000,       4819,   804.9,   7.7703,  35.1097,2,  35.1100,2,    161.1,2,   160.9,2,   15.17,2,   0.029,2,   24.30,2,    0.01,2,    1.57,2, -999.00,9, -999.00,9,   804.9,   7.6869,     7.7729,2
316N20070207,       LMD4,       8,          1,          2,         02,2,20070102,       0734,  56.380000, -5.9555000,       4819,   907.6,   6.2684,  35.0688,2,  35.0705,2,    207.7,2,   207.4,2, -999.00,9,-999.000,9, -999.00,9, -999.00,9, -999.00,9, -999.00,9, -999.00,9,   907.6,   6.1839,     6.2758,2
316N20070207,       LMD4,       8,          1,          1,         01,2,20070102,       0734,  56.380000, -5.9555000,       4819,  1000.2,   5.5326,  35.0439,2,  35.0451,2,    219.6,3,   221.8,2, -999.00,9,-999.000,9, -999.00,9, -999.00,9, -999.00,9, 2168.47,2, 2312.30,2,  1000.2,   5.4444,     5.5332,2