BOTTLE,20090923WHPSIOMYS
#code : jjward hyd_to_exchange.pl 
#original files copied from HTML directory: 20090923
#original HYD file: 33RR149_1_hy.txt   Wed Sep 23 17:54:31 2009
#original SUM file: ../33RR149_1su.txt   Wed Sep 23 17:54:30 2009
EXPOCODE,SECT_ID,STNNBR,CASTNO,SAMPNO,BTLNBR,BTLNBR_FLAG_W,DATE,TIME,LATITUDE,LONGITUDE,DEPTH,CTDRAW,CTDPRS,CTDTMP,CTDSAL,CTDSAL_FLAG_W,SALNTY,SALNTY_FLAG_W,CTDOXY,CTDOXY_FLAG_W,THETA,OXYGEN,OXYGEN_FLAG_W,SILCAT,SILCAT_FLAG_W,NO2+NO3,NO2+NO3_FLAG_W,PHSPHT,PHSPHT_FLAG_W,REVPRS,REVTMP
,,,,,,,,,,,,,DBAR,ITS-90,PSS-78,,PSS-78,,UMOL/KG,,ITS-90,UMOL/KG,,UMOL/KG,,UMOL/KG,,UMOL/KG,,DBAR,DEG C
     33RR149_1,  PRS2,     1,  1,     24,     31,3,20030618,2327, 21.3420,-158.2688, 1484,      5,      5.2,  26.3797,  34.5284,2,  34.5310,2,    206.9,2, 26.3785,    206.9,2,  -999.00,9,  -999.00,9,  -999.00,9,  -999.0,-999.000
     33RR149_1,  PRS2,     1,  1,     23,     30,2,20030618,2327, 21.3420,-158.2688, 1484,      5,      5.3,  26.3444,  34.5273,2,  34.5306,2,    206.9,2, 26.3432,    206.9,2,  -999.00,9,  -999.00,9,  -999.00,9,  -999.0,-999.000
     33RR149_1,  PRS2,     1,  1,     22,     22,2,20030618,2327, 21.3420,-158.2688, 1484,     25,     24.7,  26.1541,  34.5425,2,  34.5414,2,    206.9,2, 26.1486,    207.6,2,  -999.00,9,  -999.00,9,  -999.00,9,  -999.0,-999.000
     33RR149_1,  PRS2,     1,  1,     21,     21,2,20030618,2327, 21.3420,-158.2688, 1484,     45,     44.7,  26.1503,  34.6229,2,  34.6222,2,    208.1,2, 26.1403,    199.7,4,  -999.00,9,  -999.00,9,  -999.00,9,  -999.0,-999.000
     33RR149_1,  PRS2,     1,  1,     20,     20,2,20030618,2327, 21.3420,-158.2688, 1484,     60,     59.6,  25.6049,  34.7686,2,  34.7684,2,    211.9,2, 25.5918,   -999.0,5,  -999.00,9,  -999.00,9,  -999.00,9,  -999.0,-999.000
     33RR149_1,  PRS2,     1,  1,     19,     19,2,20030618,2327, 21.3420,-158.2688, 1484,     75,     74.6,  25.3443,  34.7968,2,  34.7961,2,    213.1,2, 25.3280,    212.9,2,  -999.00,9,  -999.00,9,  -999.00,9,  -999.0,-999.000
     33RR149_1,  PRS2,     1,  1,     18,     18,2,20030618,2327, 21.3420,-158.2688, 1484,    100,     99.2,  24.5365,  34.8513,2,  34.8443,2,    214.5,2, 24.5153,    213.8,2,  -999.00,9,  -999.00,9,  -999.00,9,  -999.0,-999.000
     33RR149_1,  PRS2,     1,  1,     17,     17,2,20030618,2327, 21.3420,-158.2688, 1484,    115,    114.5,  24.1300,  35.1348,2,  34.8439,4,    211.0,3, 24.1058,    213.8,2,  -999.00,9,  -999.00,9,  -999.00,9,  -999.0,-999.000
     33RR149_1,  PRS2,     1,  1,     16,     16,2,20030618,2327, 21.3420,-158.2688, 1484,    124,    124.6,  23.5379,  35.1890,2,  35.1956,2,    207.0,2, 23.5120,    207.7,2,  -999.00,9,  -999.00,9,  -999.00,9,  -999.0,-999.000
     33RR149_1,  PRS2,     1,  1,     15,     23,2,20030618,2327, 21.3420,-158.2688, 1484,    149,    149.5,  21.2077,  35.2593,2,  35.2606,2,    199.3,2, 21.1788,    198.1,2,  -999.00,9,  -999.00,9,  -999.00,9,  -999.0,-999.000
     33RR149_1,  PRS2,     1,  1,     14,     40,2,20030618,2327, 21.3420,-158.2688, 1484,    175,    175.1,  19.5697,  35.0899,2,  35.0635,3,    192.5,3, 19.5378,    192.1,2,  -999.00,9,  -999.00,9,  -999.00,9,  -999.0,-999.000
     33RR149_1,  PRS2,     1,  1,     13,     13,2,20030618,2327, 21.3420,-158.2688, 1484,    201,    199.7,  17.3580,  34.8010,2,  34.8012,2,    188.5,2, 17.3246,    189.0,2,  -999.00,9,  -999.00,9,  -999.00,9,  -999.0,-999.000
     33RR149_1,  PRS2,     1,  1,     12,     12,2,20030618,2327, 21.3420,-158.2688, 1484,    224,    224.0,  17.0607,  34.7647,2,  34.7660,2,    188.5,2, 17.0237,    189.2,2,  -999.00,9,  -999.00,9,  -999.00,9,  -999.0,-999.000
     33RR149_1,  PRS2,     1,  1,     11,     39,3,20030618,2327, 21.3420,-158.2688, 1484,    249,    249.2,  15.4174,  34.5764,2,-999.0000,5,    190.3,2, 15.3791,    190.6,2,  -999.00,9,  -999.00,9,  -999.00,9,  -999.0,-999.000
     33RR149_1,  PRS2,     1,  1,     10,     32,2,20030618,2327, 21.3420,-158.2688, 1484,    298,    297.9,  13.3373,  34.3716,2,  34.3728,2,    189.2,2, 13.2958,    188.8,2,  -999.00,9,  -999.00,9,  -999.00,9,  -999.0,-999.000
     33RR149_1,  PRS2,     1,  1,      9,      3,2,20030618,2327, 21.3420,-158.2688, 1484,    350,    349.8,  10.5820,  34.1930,2,  34.1904,2,    177.4,2, 10.5400,    177.3,2,  -999.00,9,  -999.00,9,  -999.00,9,  -999.0,-999.000
     33RR149_1,  PRS2,     1,  1,      8,     29,2,20030618,2327, 21.3420,-158.2688, 1484,    399,    399.5,   9.3143,  34.1423,2,  34.1424,2,    159.6,2,  9.2700,    160.1,2,  -999.00,9,  -999.00,9,  -999.00,9,  -999.0,-999.000
     33RR149_1,  PRS2,     1,  1,      7,     28,2,20030618,2327, 21.3420,-158.2688, 1484,    501,    500.4,   7.4096,  34.1300,2,  34.1296,2,    102.4,2,  7.3609,    101.7,2,  -999.00,9,  -999.00,9,  -999.00,9,  -999.0,-999.000
     33RR149_1,  PRS2,     1,  1,      6,      7,2,20030618,2327, 21.3420,-158.2688, 1484,    600,    599.9,   5.8619,  34.2104,2,  34.2114,2,     48.5,2,  5.8100,     48.0,2,  -999.00,9,  -999.00,9,  -999.00,9,  -999.0,-999.000
     33RR149_1,  PRS2,     1,  1,      5,     38,2,20030618,2327, 21.3420,-158.2688, 1484,    700,    700.0,   5.3437,  34.3389,2,  34.3387,2,     34.5,2,  5.2852,     34.5,2,  -999.00,9,  -999.00,9,  -999.00,9,  -999.0,-999.000
     33RR149_1,  PRS2,     1,  1,      4,     36,2,20030618,2327, 21.3420,-158.2688, 1484,    749,    749.4,   5.0953,  34.3937,2,  34.3936,2,     35.0,2,  5.0338,     35.3,2,  -999.00,9,  -999.00,9,  -999.00,9,  -999.0,-999.000
     33RR149_1,  PRS2,     1,  1,      3,     35,2,20030618,2327, 21.3420,-158.2688, 1484,    800,    799.3,   4.8868,  34.4274,2,  34.4274,2,     37.5,2,  4.8221,     38.8,2,  -999.00,9,  -999.00,9,  -999.00,9,  -999.0,-999.000
     33RR149_1,  PRS2,     1,  1,      2,     34,2,20030618,2327, 21.3420,-158.2688, 1484,    901,    900.7,   4.5856,  34.4715,2,  34.4713,2,     40.3,2,  4.5141,     40.5,2,  -999.00,9,  -999.00,9,  -999.00,9,  -999.0,-999.000
     33RR149_1,  PRS2,     1,  1,      1,     33,2,20030618,2327, 21.3420,-158.2688, 1484,   1020,   1020.5,   4.0613,  34.5074,2,  34.5077,2,     47.5,2,  3.9834,     47.7,2,  -999.00,9,  -999.00,9,  -999.00,9,  -999.0,-999.000
     33RR149_1,  PRS2,     2,  1,     24,     31,2,20030619,1157, 22.7492,-157.9937, 4723,      5,      5.0,  25.7847,  35.1981,2,  35.1997,2,    208.8,2, 25.7836,    207.7,2,     0.84,2,     0.02,2,     0.03,2,  -999.0,-999.000
     33RR149_1,  PRS2,     2,  1,     23,     30,2,20030619,1157, 22.7492,-157.9937, 4723,    551,    550.5,   6.7576,  34.0342,2,  34.0354,2,    112.6,2,  6.7066,    112.0,2,    49.37,2,    30.77,2,     2.24,2,  -999.0,-999.000
     33RR149_1,  PRS2,     2,  1,     22,     22,2,20030619,1157, 22.7492,-157.9937, 4723,    799,    799.9,   5.0247,  34.3160,2,  34.3163,2,     31.1,2,  4.9593,     32.7,2,    86.48,2,    40.52,2,     3.02,2,  -999.0,-999.000
     33RR149_1,  PRS2,     2,  1,     21,     21,2,20030619,1157, 22.7492,-157.9937, 4723,   1000,   1000.7,   4.2052,  34.4633,2,  34.4643,2,     38.1,2,  4.1280,     38.4,2,    91.10,4,    41.80,2,     3.08,2,  -999.0,-999.000
     33RR149_1,  PRS2,     2,  1,     20,     20,2,20030619,1157, 22.7492,-157.9937, 4723,   1200,   1199.8,   3.6222,  34.5260,2,  34.5248,2,     52.7,2,  3.5331,     52.6,2,   118.85,2,    41.35,2,     3.01,2,  -999.0,-999.000
     33RR149_1,  PRS2,     2,  1,     19,     19,2,20030619,1157, 22.7492,-157.9937, 4723,   1401,   1401.0,   3.0480,  34.5574,2,  34.5611,3,     62.5,3,  2.9479,     62.3,2,   130.67,2,    41.04,2,     2.98,2,  -999.0,-999.000
     33RR149_1,  PRS2,     2,  1,     18,     18,2,20030619,1157, 22.7492,-157.9937, 4723,   1599,   1599.6,   2.6808,  34.5855,2,  34.5852,2,     71.9,2,  2.5685,     72.6,2,   138.90,2,    40.66,2,     2.93,2,  -999.0,-999.000
     33RR149_1,  PRS2,     2,  1,     17,     17,2,20030619,1157, 22.7492,-157.9937, 4723,   1798,   1799.7,   2.4184,  34.6011,2,  34.5931,4,     79.5,3,  2.2927,     76.0,3,   140.56,3,    40.28,2,     2.91,2,  -999.0,-999.000
     33RR149_1,  PRS2,     2,  1,     16,     16,2,20030619,1157, 22.7492,-157.9937, 4723,   1999,   1999.8,   2.1287,  34.6217,2,  34.6245,2,     90.1,2,  1.9904,     90.7,2,   150.78,2,    39.53,2,     2.82,2,  -999.0,-999.000
     33RR149_1,  PRS2,     2,  1,     15,     23,2,20030619,1157, 22.7492,-157.9937, 4723,   2200,   2200.0,   1.9274,  34.6329,2,  34.6324,2,     94.8,2,  1.7751,     95.1,2,   155.75,2,    39.00,2,     2.80,2,  -999.0,-999.000
     33RR149_1,  PRS2,     2,  1,     14,     40,2,20030619,1157, 22.7492,-157.9937, 4723,   2400,   2400.3,   1.7856,  34.6467,2,  34.6459,2,    104.0,2,  1.6182,    104.4,2,   158.25,2,    38.92,2,     2.78,2,  -999.0,-999.000
     33RR149_1,  PRS2,     2,  1,     13,     13,2,20030619,1157, 22.7492,-157.9937, 4723,   2599,   2599.8,   1.6788,  34.6576,2,  34.6593,2,    112.0,2,  1.4955,    112.3,2,   158.99,2,    38.31,2,     2.71,2,  -999.0,-999.000
     33RR149_1,  PRS2,     2,  1,     12,     12,2,20030619,1157, 22.7492,-157.9937, 4723,   2800,   2800.6,   1.6007,  34.6649,2,  34.6648,2,    118.0,2,  1.4006,    118.3,2,   160.04,2,    38.54,3,     2.68,2,  -999.0,-999.000
     33RR149_1,  PRS2,     2,  1,     11,     39,2,20030619,1157, 22.7492,-157.9937, 4723,   2999,   3000.2,   1.5347,  34.6718,2,  34.6729,2,    125.5,2,  1.3171,    125.7,2,   160.14,2,    37.63,2,     2.64,2,  -999.0,-999.000
     33RR149_1,  PRS2,     2,  1,     10,     32,2,20030619,1157, 22.7492,-157.9937, 4723,   3200,   3199.7,   1.4989,  34.6774,2,  34.6778,2,    132.6,2,  1.2629,    132.7,2,   157.82,2,    37.18,2,     2.61,2,  -999.0,-999.000
     33RR149_1,  PRS2,     2,  1,      9,      3,2,20030619,1157, 22.7492,-157.9937, 4723,   3400,   3400.8,   1.4630,  34.6816,2,  34.6817,2,    138.9,2,  1.2078,    139.3,2,   155.18,2,    37.10,2,     2.58,2,  -999.0,-999.000
     33RR149_1,  PRS2,     2,  1,      8,     29,2,20030619,1157, 22.7492,-157.9937, 4723,   3599,   3600.3,   1.4529,  34.6846,2,  34.6845,2,    143.1,2,  1.1777,    142.9,2,   154.79,2,    36.72,2,     2.56,2,  -999.0,-999.000
     33RR149_1,  PRS2,     2,  1,      7,     28,2,20030619,1157, 22.7492,-157.9937, 4723,   3800,   3800.0,   1.4478,  34.6869,2,  34.6864,2,    146.5,2,  1.1518,    146.7,2,   153.03,2,    36.35,2,     2.53,2,  -999.0,-999.000
     33RR149_1,  PRS2,     2,  1,      6,      7,2,20030619,1157, 22.7492,-157.9937, 4723,   4000,   4001.1,   1.4544,  34.6881,2,  34.6874,2,    148.8,2,  1.1366,    148.6,2,   151.84,2,    36.16,2,     2.53,2,  -999.0,-999.000
     33RR149_1,  PRS2,     2,  1,      5,     38,2,20030619,1157, 22.7492,-157.9937, 4723,   4200,   4200.7,   1.4637,  34.6895,2,  34.6890,2,    151.0,2,  1.1237,    150.7,2,   151.52,2,    35.74,2,     2.52,2,  -999.0,-999.000
     33RR149_1,  PRS2,     2,  1,      4,     36,2,20030619,1157, 22.7492,-157.9937, 4723,   4400,   4400.2,   1.4776,  34.6902,2,  34.6925,2,    152.2,2,  1.1147,    152.0,2,   150.10,2,    35.74,2,     2.50,2,  -999.0,-999.000
     33RR149_1,  PRS2,     2,  1,      3,     35,2,20030619,1157, 22.7492,-157.9937, 4723,   4500,   4500.6,   1.4866,  34.6905,2,  34.6892,2,    152.7,2,  1.1119,    152.7,2,   149.89,2,    35.66,2,     2.50,2,  -999.0,-999.000
     33RR149_1,  PRS2,     2,  1,      2,     34,2,20030619,1157, 22.7492,-157.9937, 4723,   4599,   4599.6,   1.4972,  34.6906,2,  34.6909,2,    152.8,2,  1.1107,    152.5,2,   149.57,2,    35.66,2,     2.53,3,  -999.0,-999.000
     33RR149_1,  PRS2,     2,  1,      1,     33,2,20030619,1157, 22.7492,-157.9937, 4723,   4805,   4805.3,   1.5216,  34.6905,2,  34.6939,3,    152.8,3,  1.1101,    152.8,2,   149.46,2,    35.74,2,     2.49,2,  -999.0,-999.000
     33RR149_1,  PRS2,     2,  2,     24,     31,2,20030619,1802, 22.7417,-158.0088, 4723,      5,      4.7,  25.8016,  35.1986,2,  35.1994,2,    208.4,2, 25.8005,    207.7,2,     0.77,2,     0.05,2,     0.04,2,  -999.0,-999.000
     33RR149_1,  PRS2,     2,  2,     23,     30,2,20030619,1802, 22.7417,-158.0088, 4723,     43,     43.5,  24.4952,  35.1538,2,  35.1541,2,    218.9,2, 24.4859,    217.6,2,     0.83,2,     0.00,2,     0.03,2,  -999.0,-999.000
     33RR149_1,  PRS2,     2,  2,     22,     22,2,20030619,1802, 22.7417,-158.0088, 4723,     68,     67.1,  23.2843,  35.2511,2,  35.2502,2,    214.3,2, 23.2705,    213.6,2,     0.90,2,     0.08,2,     0.02,2,  -999.0,-999.000
     33RR149_1,  PRS2,     2,  2,     21,     21,2,20030619,1802, 22.7417,-158.0088, 4723,    105,    104.9,  21.9103,  35.3231,2,  35.3239,2,    213.0,2, 21.8896,    212.8,2,     1.14,2,     0.09,2,     0.02,2,  -999.0,-999.000
     33RR149_1,  PRS2,     2,  2,     20,     20,2,20030619,1802, 22.7417,-158.0088, 4723,    139,    139.9,  20.8514,  35.2705,2,  35.2748,2,    206.8,2, 20.8247,    207.7,2,     1.43,2,     0.45,2,     0.02,2,  -999.0,-999.000
     33RR149_1,  PRS2,     2,  2,     19,     19,2,20030619,1802, 22.7417,-158.0088, 4723,    173,    172.5,  19.9365,  35.2176,2,  35.2094,2,    213.6,2, 19.9046,    210.5,2,     1.70,2,     0.88,2,     0.02,2,  -999.0,-999.000
     33RR149_1,  PRS2,     2,  2,     18,     18,2,20030619,1802, 22.7417,-158.0088, 4723,    225,    224.8,  18.2191,  34.9641,2,  34.9706,2,    215.9,2, 18.1801,    216.1,2,     1.95,2,     1.39,2,     0.16,2,  -999.0,-999.000
     33RR149_1,  PRS2,     2,  2,     17,     17,2,20030619,1802, 22.7417,-158.0088, 4723,    277,    276.2,  16.4678,  34.6969,2,  34.9598,4,    217.4,3, 16.4232,    216.4,2,     2.26,2,     1.24,4,     0.16,3,  -999.0,-999.000
     33RR149_1,  PRS2,     2,  2,     16,     16,2,20030619,1802, 22.7417,-158.0088, 4723,    316,    316.3,  13.9361,  34.4021,2,  34.4060,2,    210.0,2, 13.8906,    209.6,2,     6.89,2,     7.52,2,     0.60,2,  -999.0,-999.000
     33RR149_1,  PRS2,     2,  2,     15,     23,2,20030619,1802, 22.7417,-158.0088, 4723,    354,    354.6,  12.2151,  34.2800,2,  34.2682,2,    209.2,2, 12.1683,    208.3,2,    11.76,2,    11.44,2,     0.84,2,  -999.0,-999.000
     33RR149_1,  PRS2,     2,  2,     14,     40,2,20030619,1802, 22.7417,-158.0088, 4723,    406,    405.5,  10.5320,  34.1973,2,  34.2008,2,    208.5,2, 10.4833,    207.6,2,    16.64,2,    14.81,2,     0.95,2,  -999.0,-999.000
     33RR149_1,  PRS2,     2,  2,     13,     13,2,20030619,1802, 22.7417,-158.0088, 4723,    454,    454.8,   8.6479,  34.0819,2,  34.0847,2,    167.1,2,  8.5995,    168.8,2,    28.50,2,    21.95,2,     1.58,2,  -999.0,-999.000
     33RR149_1,  PRS2,     2,  2,     12,     12,2,20030619,1802, 22.7417,-158.0088, 4723,    487,    487.1,   8.0930,  34.0570,2,  34.0569,2,    151.9,2,  8.0432,    151.7,2,    34.09,2,    24.71,2,     1.78,2,  -999.0,-999.000
     33RR149_1,  PRS2,     2,  2,     11,     39,2,20030619,1802, 22.7417,-158.0088, 4723,    520,    520.1,   7.1887,  34.0362,2,  34.0365,2,    132.7,2,  7.1389,    127.9,2,    44.53,2,    28.63,2,     2.07,2,  -999.0,-999.000
     33RR149_1,  PRS2,     2,  2,     10,     32,2,20030619,1802, 22.7417,-158.0088, 4723,    566,    565.7,   6.5438,  34.0445,2,  34.0453,2,    104.4,2,  6.4922,    103.0,2,    53.75,2,    31.93,2,     2.33,2,  -999.0,-999.000
     33RR149_1,  PRS2,     2,  2,      9,      3,2,20030619,1802, 22.7417,-158.0088, 4723,    616,    615.3,   6.3047,  34.1646,2,  34.1567,2,     65.8,2,  6.2494,     65.0,2,    62.70,2,    35.38,2,     2.63,2,  -999.0,-999.000
     33RR149_1,  PRS2,     2,  2,      8,     29,2,20030619,1802, 22.7417,-158.0088, 4723,    663,    662.4,   5.9641,  34.2079,2,  34.2090,2,     50.3,2,  5.9060,     48.0,2,    67.80,2,    37.52,2,     2.79,2,  -999.0,-999.000
     33RR149_1,  PRS2,     2,  2,      7,     28,2,20030619,1802, 22.7417,-158.0088, 4723,    717,    717.9,   5.5450,  34.2742,2,  34.2749,2,     37.8,2,  5.4840,     36.5,2,    63.28,4,    39.52,2,     2.90,2,  -999.0,-999.000
     33RR149_1,  PRS2,     2,  2,      6,      7,2,20030619,1802, 22.7417,-158.0088, 4723,    764,    764.2,   5.1010,  34.2976,2,  34.3032,2,     37.4,2,  5.0383,     35.9,2,    86.90,2,    40.37,2,     2.97,2,  -999.0,-999.000
     33RR149_1,  PRS2,     2,  2,      5,     38,2,20030619,1802, 22.7417,-158.0088, 4723,    810,    810.4,   4.9596,  34.3283,2,  34.3300,2,     33.4,2,  4.8937,     29.4,2,    91.03,2,    41.13,2,     3.00,2,  -999.0,-999.000
     33RR149_1,  PRS2,     2,  2,      4,     36,2,20030619,1802, 22.7417,-158.0088, 4723,    852,    851.9,   4.7441,  34.3754,2,  34.3807,2,     28.5,2,  4.6759,     27.8,2,    50.45,4,    41.90,2,     3.05,2,  -999.0,-999.000
     33RR149_1,  PRS2,     2,  2,      3,     35,2,20030619,1802, 22.7417,-158.0088, 4723,    896,    895.0,   4.5674,  34.4039,2,  34.4054,2,     32.8,2,  4.4966,     32.4,2,    86.56,4,    41.83,2,     3.06,2,  -999.0,-999.000
     33RR149_1,  PRS2,     2,  2,      2,     34,2,20030619,1802, 22.7417,-158.0088, 4723,    957,    956.5,   4.3162,  34.4483,2,  34.4486,2,     36.0,2,  4.2419,     35.4,2,    98.38,4,    42.29,2,     3.06,2,  -999.0,-999.000
     33RR149_1,  PRS2,     2,  2,      1,     33,2,20030619,1802, 22.7417,-158.0088, 4723,   1021,   1020.0,   4.0978,  34.4793,2,  34.4790,2,     41.1,2,  4.0198,     40.7,2,    94.12,4,    42.22,2,     3.03,2,  -999.0,-999.000