BOTTLE,20090923WHPSIOMYS
EXPOCODE,SECT_ID,STNNBR,CASTNO,SAMPNO,BTLNBR,BTLNBR_FLAG_W,DATE,TIME,LATITUDE,LONGITUDE,DEPTH,CTDRAW,CTDPRS,CTDTMP,CTDSAL,CTDSAL_FLAG_W,SALNTY,SALNTY_FLAG_W,CTDOXY,CTDOXY_FLAG_W,THETA,OXYGEN,OXYGEN_FLAG_W,SILCAT,SILCAT_FLAG_W,NO2+NO3,NO2+NO3_FLAG_W,PHSPHT,PHSPHT_FLAG_W,REVPRS,REVTMP
,,,,,,,,,,,,,DBAR,ITS-90,PSS-78,,PSS-78,,UMOL/KG,,ITS-90,UMOL/KG,,UMOL/KG,,UMOL/KG,,UMOL/KG,,DBAR,DEG C
     33RR149_1,  PRS2,     2,  8,     22,     22,2,20030620,1148, 22.7102,-157.9445, 4720,      5,      4.7,  25.7800,  35.1645,2,  35.1659,2,    207.6,1, 25.7790,   -999.0,9,  -999.00,9,  -999.00,9,  -999.00,9,  -999.0,-999.000
     33RR149_1,  PRS2,     2,  8,     21,     21,2,20030620,1148, 22.7102,-157.9445, 4720,      5,      4.7,  25.7804,  35.1644,2,  35.1655,2,    207.6,1, 25.7793,   -999.0,9,  -999.00,9,  -999.00,9,  -999.00,9,  -999.0,-999.000
     33RR149_1,  PRS2,     2,  8,     20,     20,3,20030620,1148, 22.7102,-157.9445, 4720,      5,      4.7,  25.7803,  35.1645,2,  35.1639,2,    207.6,1, 25.7793,   -999.0,9,  -999.00,9,  -999.00,9,  -999.00,9,  -999.0,-999.000
     33RR149_1,  PRS2,     2,  8,     19,     19,2,20030620,1148, 22.7102,-157.9445, 4720,     24,     23.4,  25.7881,  35.1644,2,  35.1641,2,    207.6,1, 25.7829,   -999.0,9,  -999.00,9,  -999.00,9,  -999.00,9,  -999.0,-999.000
     33RR149_1,  PRS2,     2,  8,     18,     18,3,20030620,1148, 22.7102,-157.9445, 4720,     24,     23.4,  25.7875,  35.1643,2,-999.0000,5,    207.6,1, 25.7823,   -999.0,9,  -999.00,9,  -999.00,9,  -999.00,9,  -999.0,-999.000
     33RR149_1,  PRS2,     2,  8,     17,     17,4,20030620,1148, 22.7102,-157.9445, 4720,     24,     23.5,  25.7877,  35.1644,2,-999.0000,5,    207.5,1, 25.7825,   -999.0,9,  -999.00,9,  -999.00,9,  -999.00,9,  -999.0,-999.000
     33RR149_1,  PRS2,     2,  8,     14,     40,2,20030620,1148, 22.7102,-157.9445, 4720,     45,     44.6,  25.6675,  35.1594,2,  35.1609,2,    210.8,1, 25.6577,   -999.0,9,  -999.00,9,  -999.00,9,  -999.00,9,  -999.0,-999.000
     33RR149_1,  PRS2,     2,  8,     16,     16,2,20030620,1148, 22.7102,-157.9445, 4720,     45,     44.8,  25.4908,  35.1627,2,  35.1625,2,    209.5,1, 25.4809,   -999.0,9,  -999.00,9,  -999.00,9,  -999.00,9,  -999.0,-999.000
     33RR149_1,  PRS2,     2,  8,     15,     23,2,20030620,1148, 22.7102,-157.9445, 4720,     45,     44.8,  25.5543,  35.1615,2,  35.1611,2,    210.2,1, 25.5445,   -999.0,9,  -999.00,9,  -999.00,9,  -999.00,9,  -999.0,-999.000
     33RR149_1,  PRS2,     2,  8,     13,     13,3,20030620,1148, 22.7102,-157.9445, 4720,     75,     74.4,  23.4185,  35.2880,2,  35.2878,2,    216.3,1, 23.4031,   -999.0,9,  -999.00,9,  -999.00,9,  -999.00,9,  -999.0,-999.000
     33RR149_1,  PRS2,     2,  8,     12,     12,2,20030620,1148, 22.7102,-157.9445, 4720,     75,     74.4,  23.4167,  35.2884,2,  35.2868,2,    216.4,1, 23.4013,   -999.0,9,  -999.00,9,  -999.00,9,  -999.00,9,  -999.0,-999.000
     33RR149_1,  PRS2,     2,  8,     11,     39,2,20030620,1148, 22.7102,-157.9445, 4720,     75,     74.4,  23.4165,  35.2882,2,  35.2866,2,    216.4,1, 23.4011,   -999.0,9,  -999.00,9,  -999.00,9,  -999.00,9,  -999.0,-999.000
     33RR149_1,  PRS2,     2,  8,      8,     29,2,20030620,1148, 22.7102,-157.9445, 4720,     99,     99.2,  22.4366,  35.3056,2,  35.3085,2,    212.0,1, 22.4167,   -999.0,9,  -999.00,9,  -999.00,9,  -999.00,9,  -999.0,-999.000
     33RR149_1,  PRS2,     2,  8,     10,     32,2,20030620,1148, 22.7102,-157.9445, 4720,     99,     99.3,  22.4406,  35.3053,2,  35.3038,2,    211.6,1, 22.4207,   -999.0,9,  -999.00,9,  -999.00,9,  -999.00,9,  -999.0,-999.000
     33RR149_1,  PRS2,     2,  8,      9,      3,2,20030620,1148, 22.7102,-157.9445, 4720,     99,     99.3,  22.4387,  35.3056,2,  35.3042,2,    211.8,1, 22.4188,   -999.0,9,  -999.00,9,  -999.00,9,  -999.00,9,  -999.0,-999.000
     33RR149_1,  PRS2,     2,  8,      7,     28,2,20030620,1148, 22.7102,-157.9445, 4720,    125,    124.3,  21.2119,  35.2876,2,-999.0000,5,    206.0,1, 21.1879,   -999.0,9,  -999.00,9,  -999.00,9,  -999.00,9,  -999.0,-999.000
     33RR149_1,  PRS2,     2,  8,      6,      7,2,20030620,1148, 22.7102,-157.9445, 4720,    124,    124.3,  21.1966,  35.2857,2,  35.2914,2,    205.7,1, 21.1726,   -999.0,9,  -999.00,9,  -999.00,9,  -999.00,9,  -999.0,-999.000
     33RR149_1,  PRS2,     2,  8,      5,     38,2,20030620,1148, 22.7102,-157.9445, 4720,    125,    124.3,  21.1872,  35.2848,2,  35.2886,2,    205.3,1, 21.1632,   -999.0,9,  -999.00,9,  -999.00,9,  -999.00,9,  -999.0,-999.000
     33RR149_1,  PRS2,     2,  8,      4,     36,2,20030620,1148, 22.7102,-157.9445, 4720,    148,    148.6,  20.1450,  35.2103,2,  35.2155,2,    205.5,1, 20.1173,   -999.0,9,  -999.00,9,  -999.00,9,  -999.00,9,  -999.0,-999.000
     33RR149_1,  PRS2,     2,  8,      3,     35,2,20030620,1148, 22.7102,-157.9445, 4720,    176,    176.1,  19.3015,  35.1244,2,  35.1277,2,    209.7,1, 19.2698,   -999.0,9,  -999.00,9,  -999.00,9,  -999.00,9,  -999.0,-999.000
     33RR149_1,  PRS2,     2,  8,      2,     34,2,20030620,1148, 22.7102,-157.9445, 4720,    549,    549.6,   6.7543,  34.0341,2,-999.0000,5,    113.2,1,  6.7034,   -999.0,9,  -999.00,9,  -999.00,9,  -999.00,9,  -999.0,-999.000
     33RR149_1,  PRS2,     2,  8,      1,     33,2,20030620,1148, 22.7102,-157.9445, 4720,   1022,   1021.8,   4.1012,  34.4753,2,-999.0000,5,     43.1,1,  4.0230,   -999.0,9,  -999.00,9,  -999.00,9,  -999.00,9,  -999.0,-999.000
     33RR149_1,  PRS2,     2,  9,      5,     38,2,20030620,1459, 22.7480,-157.9945, 4724,      5,      4.8,  25.7797,  35.1756,2,  35.1763,2,    207.7,1, 25.7786,   -999.0,9,  -999.00,9,  -999.00,9,  -999.00,9,  -999.0,-999.000
     33RR149_1,  PRS2,     2,  9,      4,     36,2,20030620,1459, 22.7480,-157.9945, 4724,    100,    100.4,  22.1067,  35.3179,2,  35.3176,2,    214.3,1, 22.0867,   -999.0,9,  -999.00,9,  -999.00,9,  -999.00,9,  -999.0,-999.000
     33RR149_1,  PRS2,     2,  9,      3,     35,2,20030620,1459, 22.7480,-157.9945, 4724,    524,    524.7,   6.8851,  34.0350,2,  34.0414,3,    119.0,1,  6.8360,   -999.0,9,  -999.00,9,  -999.00,9,  -999.00,9,  -999.0,-999.000
     33RR149_1,  PRS2,     2,  9,      2,     34,2,20030620,1459, 22.7480,-157.9945, 4724,    800,    800.2,   4.9494,  34.3284,2,  34.3289,2,     35.1,1,  4.8844,   -999.0,9,  -999.00,9,  -999.00,9,  -999.00,9,  -999.0,-999.000
     33RR149_1,  PRS2,     2,  9,      1,     33,2,20030620,1459, 22.7480,-157.9945, 4724,   1021,   1020.0,   4.1087,  34.4756,2,  34.4751,2,     40.3,1,  4.0305,   -999.0,9,  -999.00,9,  -999.00,9,  -999.00,9,  -999.0,-999.000
     33RR149_1,  PRS2,     2, 10,     10,     32,2,20030620,1804, 22.7382,-157.9960, 4731,      6,      5.1,  25.7811,  35.1764,2,  35.1781,2,    207.8,1, 25.7800,   -999.0,9,  -999.00,9,  -999.00,9,  -999.00,9,  -999.0,-999.000
     33RR149_1,  PRS2,     2, 10,      9,      3,2,20030620,1804, 22.7382,-157.9960, 4731,     25,     24.5,  25.7800,  35.1765,2,  35.1765,2,    207.6,1, 25.7745,   -999.0,9,  -999.00,9,  -999.00,9,  -999.00,9,  -999.0,-999.000
     33RR149_1,  PRS2,     2, 10,      8,     29,2,20030620,1804, 22.7382,-157.9960, 4731,     45,     44.9,  25.7137,  35.1763,2,  35.1767,2,    208.9,1, 25.7038,   -999.0,9,  -999.00,9,  -999.00,9,  -999.00,9,  -999.0,-999.000
     33RR149_1,  PRS2,     2, 10,      7,     28,2,20030620,1804, 22.7382,-157.9960, 4731,     75,     75.0,  23.3016,  35.2491,2,  35.2486,2,    211.2,1, 23.2862,   -999.0,9,  -999.00,9,  -999.00,9,  -999.00,9,  -999.0,-999.000
     33RR149_1,  PRS2,     2, 10,      6,      7,2,20030620,1804, 22.7382,-157.9960, 4731,    100,    100.2,  22.3031,  35.2961,2,  35.3022,2,    207.9,1, 22.2831,   -999.0,9,  -999.00,9,  -999.00,9,  -999.00,9,  -999.0,-999.000
     33RR149_1,  PRS2,     2, 10,      5,     38,2,20030620,1804, 22.7382,-157.9960, 4731,    126,    125.4,  21.3951,  35.2980,2,  35.2969,2,    208.0,1, 21.3707,   -999.0,9,  -999.00,9,  -999.00,9,  -999.00,9,  -999.0,-999.000
     33RR149_1,  PRS2,     2, 10,      4,     36,2,20030620,1804, 22.7382,-157.9960, 4731,    150,    149.6,  20.7612,  35.2598,2,  35.2598,2,    205.0,1, 20.7328,   -999.0,9,  -999.00,9,  -999.00,9,  -999.00,9,  -999.0,-999.000
     33RR149_1,  PRS2,     2, 10,      3,     35,2,20030620,1804, 22.7382,-157.9960, 4731,    176,    175.8,  20.0937,  35.2156,2,  35.2177,2,    208.5,1, 20.0611,   -999.0,9,  -999.00,9,  -999.00,9,  -999.00,9,  -999.0,-999.000
     33RR149_1,  PRS2,     2, 10,      2,     34,2,20030620,1804, 22.7382,-157.9960, 4731,    526,    525.3,   7.4399,  34.0401,2,  34.0393,2,    138.6,1,  7.3886,   -999.0,9,  -999.00,9,  -999.00,9,  -999.00,9,  -999.0,-999.000
     33RR149_1,  PRS2,     2, 10,      1,     33,2,20030620,1804, 22.7382,-157.9960, 4731,   1020,   1019.6,   4.0793,  34.4812,2,  34.4876,3,     41.3,1,  4.0014,   -999.0,9,  -999.00,9,  -999.00,9,  -999.00,9,  -999.0,-999.000
     33RR149_1,  PRS2,     2, 11,      4,     36,2,20030620,2102, 22.7338,-157.9797, 4723,      4,      4.2,  25.8687,  35.1796,2,  35.1797,2,    207.9,1, 25.8678,   -999.0,9,  -999.00,9,  -999.00,9,  -999.00,9,  -999.0,-999.000
     33RR149_1,  PRS2,     2, 11,      3,     35,2,20030620,2102, 22.7338,-157.9797, 4723,    110,    110.8,  21.7939,  35.3213,2,  35.3191,2,    210.5,1, 21.7721,   -999.0,9,  -999.00,9,  -999.00,9,  -999.00,9,  -999.0,-999.000
     33RR149_1,  PRS2,     2, 11,      2,     34,2,20030620,2102, 22.7338,-157.9797, 4723,    540,    539.7,   7.0035,  34.0341,2,  34.0338,2,    122.2,1,  6.9525,   -999.0,9,  -999.00,9,  -999.00,9,  -999.00,9,  -999.0,-999.000
     33RR149_1,  PRS2,     2, 11,      1,     33,2,20030620,2102, 22.7338,-157.9797, 4723,   1020,   1020.1,   4.1328,  34.4735,2,  34.4715,2,     40.1,1,  4.0545,   -999.0,9,  -999.00,9,  -999.00,9,  -999.00,9,  -999.0,-999.000
     33RR149_1,  PRS2,     2, 12,     11,     39,2,20030620,2357, 22.7285,-157.9798, 4723,      4,      4.5,  25.9611,  35.1823,2,  35.1828,2,    207.6,1, 25.9601,   -999.0,9,  -999.00,9,  -999.00,9,  -999.00,9,  -999.0,-999.000
     33RR149_1,  PRS2,     2, 12,     10,     32,3,20030620,2357, 22.7285,-157.9798, 4723,     25,     25.1,  25.7927,  35.1831,2,  35.1842,2,    207.9,1, 25.7871,   -999.0,9,  -999.00,9,  -999.00,9,  -999.00,9,  -999.0,-999.000
     33RR149_1,  PRS2,     2, 12,      9,      3,2,20030620,2357, 22.7285,-157.9798, 4723,     45,     45.4,  25.1172,  35.2245,2,  35.2139,2,    215.6,1, 25.1073,   -999.0,9,  -999.00,9,  -999.00,9,  -999.00,9,  -999.0,-999.000
     33RR149_1,  PRS2,     2, 12,      8,     29,2,20030620,2357, 22.7285,-157.9798, 4723,     75,     74.9,  23.6155,  35.2483,2,  35.2468,2,    217.7,1, 23.5999,   -999.0,9,  -999.00,9,  -999.00,9,  -999.00,9,  -999.0,-999.000
     33RR149_1,  PRS2,     2, 12,      7,     28,2,20030620,2357, 22.7285,-157.9798, 4723,    100,     99.6,  22.7055,  35.2847,2,  35.2841,2,    208.9,1, 22.6853,   -999.0,9,  -999.00,9,  -999.00,9,  -999.00,9,  -999.0,-999.000
     33RR149_1,  PRS2,     2, 12,      6,      7,3,20030620,2357, 22.7285,-157.9798, 4723,    125,    124.9,  21.6444,  35.3132,2,-999.0000,5,    210.3,1, 21.6200,   -999.0,9,  -999.00,9,  -999.00,9,  -999.00,9,  -999.0,-999.000
     33RR149_1,  PRS2,     2, 12,      5,     38,2,20030620,2357, 22.7285,-157.9798, 4723,    150,    149.7,  20.5068,  35.2424,2,  35.2415,2,    204.7,1, 20.4786,   -999.0,9,  -999.00,9,  -999.00,9,  -999.00,9,  -999.0,-999.000
     33RR149_1,  PRS2,     2, 12,      4,     36,2,20030620,2357, 22.7285,-157.9798, 4723,    249,    249.4,  16.5859,  34.7123,2,  34.7116,2,    213.0,1, 16.5455,   -999.0,9,  -999.00,9,  -999.00,9,  -999.00,9,  -999.0,-999.000
     33RR149_1,  PRS2,     2, 12,      3,     35,2,20030620,2357, 22.7285,-157.9798, 4723,    350,    349.6,  12.0848,  34.2713,2,  34.2763,2,    210.1,1, 12.0391,   -999.0,9,  -999.00,9,  -999.00,9,  -999.00,9,  -999.0,-999.000
     33RR149_1,  PRS2,     2, 12,      2,     34,2,20030620,2357, 22.7285,-157.9798, 4723,    540,    539.5,   7.0702,  34.0349,2,  34.0336,2,    124.8,1,  7.0189,   -999.0,9,  -999.00,9,  -999.00,9,  -999.00,9,  -999.0,-999.000
     33RR149_1,  PRS2,     2, 12,      1,     33,2,20030620,2357, 22.7285,-157.9798, 4723,   1021,   1020.5,   4.1606,  34.4726,2,  34.4692,2,     39.6,1,  4.0821,   -999.0,9,  -999.00,9,  -999.00,9,  -999.00,9,  -999.0,-999.000
     33RR149_1,  PRS2,     2, 13,      5,     38,2,20030621,0257, 22.6997,-157.9783, 4721,      6,      5.4,  25.9506,  35.1830,2,  35.1814,2,    208.0,1, 25.9494,   -999.0,9,  -999.00,9,  -999.00,9,  -999.00,9,  -999.0,-999.000
     33RR149_1,  PRS2,     2, 13,      4,     36,2,20030621,0257, 22.6997,-157.9783, 4721,    117,    116.9,  21.9527,  35.3222,2,  35.3207,2,    213.5,1, 21.9296,   -999.0,9,  -999.00,9,  -999.00,9,  -999.00,9,  -999.0,-999.000
     33RR149_1,  PRS2,     2, 13,      3,     35,2,20030621,0257, 22.6997,-157.9783, 4721,    544,    544.3,   7.1193,  34.0339,2,  34.0338,2,    125.3,1,  7.0674,   -999.0,9,  -999.00,9,  -999.00,9,  -999.00,9,  -999.0,-999.000
     33RR149_1,  PRS2,     2, 13,      2,     34,2,20030621,0257, 22.6997,-157.9783, 4721,   1021,   1020.7,   4.0725,  34.4832,2,  34.4825,2,     43.5,1,  3.9946,   -999.0,9,  -999.00,9,  -999.00,9,  -999.00,9,  -999.0,-999.000
     33RR149_1,  PRS2,     2, 13,      1,     33,2,20030621,0257, 22.6997,-157.9783, 4721,   1021,   1020.9,   4.0739,  34.4832,2,-999.0000,5,     43.5,1,  3.9959,   -999.0,9,  -999.00,9,  -999.00,9,  -999.00,9,  -999.0,-999.000
     33RR149_1,  PRS2,     2, 14,     22,     22,2,20030621,0604, 22.6855,-157.9555, 4727,      4,      4.4,  25.8938,  35.1850,2,  35.1850,2,    207.9,1, 25.8928,   -999.0,9,  -999.00,9,  -999.00,9,  -999.00,9,  -999.0,-999.000
     33RR149_1,  PRS2,     2, 14,     24,     31,2,20030621,0604, 22.6855,-157.9555, 4727,      5,      4.5,  25.8933,  35.1849,2,  35.1858,2,    207.9,1, 25.8923,   -999.0,9,  -999.00,9,  -999.00,9,  -999.00,9,  -999.0,-999.000
     33RR149_1,  PRS2,     2, 14,     23,     30,2,20030621,0604, 22.6855,-157.9555, 4727,      4,      4.5,  25.8935,  35.1850,2,  35.1848,2,    207.9,1, 25.8925,   -999.0,9,  -999.00,9,  -999.00,9,  -999.00,9,  -999.0,-999.000
     33RR149_1,  PRS2,     2, 14,     20,     20,2,20030621,0604, 22.6855,-157.9555, 4727,     25,     24.9,  25.8893,  35.1852,2,-999.0000,5,    207.9,1, 25.8838,   -999.0,9,  -999.00,9,  -999.00,9,  -999.00,9,  -999.0,-999.000
     33RR149_1,  PRS2,     2, 14,     21,     21,2,20030621,0604, 22.6855,-157.9555, 4727,     25,     25.0,  25.8898,  35.1854,2,  35.1958,3,    207.9,1, 25.8843,   -999.0,9,  -999.00,9,  -999.00,9,  -999.00,9,  -999.0,-999.000
     33RR149_1,  PRS2,     2, 14,     18,     18,2,20030621,0604, 22.6855,-157.9555, 4727,     45,     44.7,  25.7940,  35.1873,2,  35.1871,2,    208.2,1, 25.7841,   -999.0,9,  -999.00,9,  -999.00,9,  -999.00,9,  -999.0,-999.000
     33RR149_1,  PRS2,     2, 14,     19,     19,2,20030621,0604, 22.6855,-157.9555, 4727,     46,     44.8,  25.7946,  35.1871,2,  35.1877,2,    208.2,1, 25.7847,   -999.0,9,  -999.00,9,  -999.00,9,  -999.00,9,  -999.0,-999.000
     33RR149_1,  PRS2,     2, 14,     17,     17,2,20030621,0604, 22.6855,-157.9555, 4727,     59,     58.8,  25.2508,  35.1958,2,  35.1948,2,    215.0,1, 25.2380,   -999.0,9,  -999.00,9,  -999.00,9,  -999.00,9,  -999.0,-999.000
     33RR149_1,  PRS2,     2, 14,     16,     16,2,20030621,0604, 22.6855,-157.9555, 4727,     75,     74.7,  23.9204,  35.2250,2,  35.2275,2,    218.3,1, 23.9047,   -999.0,9,  -999.00,9,  -999.00,9,  -999.00,9,  -999.0,-999.000
     33RR149_1,  PRS2,     2, 14,     15,     23,2,20030621,0604, 22.6855,-157.9555, 4727,     75,     74.7,  23.9152,  35.2256,2,  35.2269,2,    218.1,1, 23.8995,   -999.0,9,  -999.00,9,  -999.00,9,  -999.00,9,  -999.0,-999.000
     33RR149_1,  PRS2,     2, 14,     14,     40,2,20030621,0604, 22.6855,-157.9555, 4727,     84,     83.9,  23.5947,  35.2740,2,  35.2719,2,    217.9,1, 23.5772,   -999.0,9,  -999.00,9,  -999.00,9,  -999.00,9,  -999.0,-999.000
     33RR149_1,  PRS2,     2, 14,     12,     12,2,20030621,0604, 22.6855,-157.9555, 4727,    100,     99.7,  22.6409,  35.2876,2,  35.2894,2,    208.3,1, 22.6207,   -999.0,9,  -999.00,9,  -999.00,9,  -999.00,9,  -999.0,-999.000
     33RR149_1,  PRS2,     2, 14,     13,     13,2,20030621,0604, 22.6855,-157.9555, 4727,    100,     99.8,  22.6671,  35.2894,2,  35.2894,2,    208.4,1, 22.6469,   -999.0,9,  -999.00,9,  -999.00,9,  -999.00,9,  -999.0,-999.000
     33RR149_1,  PRS2,     2, 14,     11,     39,2,20030621,0604, 22.6855,-157.9555, 4727,    114,    113.9,  21.9668,  35.3117,2,  35.3132,2,    209.4,1, 21.9442,   -999.0,9,  -999.00,9,  -999.00,9,  -999.00,9,  -999.0,-999.000
     33RR149_1,  PRS2,     2, 14,     10,     32,2,20030621,0604, 22.6855,-157.9555, 4727,    124,    124.1,  21.7644,  35.3163,2,  35.3046,3,    211.0,1, 21.7400,   -999.0,9,  -999.00,9,  -999.00,9,  -999.00,9,  -999.0,-999.000
     33RR149_1,  PRS2,     2, 14,      9,      3,2,20030621,0604, 22.6855,-157.9555, 4727,    124,    124.1,  21.7629,  35.3165,2,  35.3022,4,    210.9,1, 21.7385,   -999.0,9,  -999.00,9,  -999.00,9,  -999.00,9,  -999.0,-999.000
     33RR149_1,  PRS2,     2, 14,      8,     29,2,20030621,0604, 22.6855,-157.9555, 4727,    134,    133.9,  21.2281,  35.2806,2,  35.2760,2,    204.9,1, 21.2023,   -999.0,9,  -999.00,9,  -999.00,9,  -999.00,9,  -999.0,-999.000
     33RR149_1,  PRS2,     2, 14,      7,     28,2,20030621,0604, 22.6855,-157.9555, 4727,    149,    148.9,  20.6035,  35.2458,2,  35.2423,2,    204.5,1, 20.5754,   -999.0,9,  -999.00,9,  -999.00,9,  -999.00,9,  -999.0,-999.000
     33RR149_1,  PRS2,     2, 14,      6,      7,2,20030621,0604, 22.6855,-157.9555, 4727,    148,    149.0,  20.6010,  35.2447,2,  35.2417,2,    204.5,1, 20.5728,   -999.0,9,  -999.00,9,  -999.00,9,  -999.00,9,  -999.0,-999.000
     33RR149_1,  PRS2,     2, 14,      4,     36,2,20030621,0604, 22.6855,-157.9555, 4727,    175,    174.4,  19.8898,  35.1909,2,  35.1913,2,    207.9,1, 19.8576,   -999.0,9,  -999.00,9,  -999.00,9,  -999.00,9,  -999.0,-999.000
     33RR149_1,  PRS2,     2, 14,      5,     38,2,20030621,0604, 22.6855,-157.9555, 4727,    174,    174.5,  19.8889,  35.1912,2,  35.1932,2,    207.9,1, 19.8567,   -999.0,9,  -999.00,9,  -999.00,9,  -999.00,9,  -999.0,-999.000
     33RR149_1,  PRS2,     2, 14,      3,     35,2,20030621,0604, 22.6855,-157.9555, 4727,    560,    559.4,   6.7127,  34.0338,2,  34.0463,4,    114.4,1,  6.6609,   -999.0,9,  -999.00,9,  -999.00,9,  -999.00,9,  -999.0,-999.000
     33RR149_1,  PRS2,     2, 14,      2,     34,2,20030621,0604, 22.6855,-157.9555, 4727,    775,    774.7,   4.9326,  34.3307,2,  34.3281,2,     33.3,1,  4.8700,   -999.0,9,  -999.00,9,  -999.00,9,  -999.00,9,  -999.0,-999.000
     33RR149_1,  PRS2,     2, 14,      1,     33,2,20030621,0604, 22.6855,-157.9555, 4727,   1022,   1021.3,   4.0840,  34.4777,2,  34.4782,2,     43.2,1,  4.0059,   -999.0,9,  -999.00,9,  -999.00,9,  -999.00,9,  -999.0,-999.000