BOTTLE,20090923WHPSIOMYS
EXPOCODE,SECT_ID,STNNBR,CASTNO,SAMPNO,BTLNBR,BTLNBR_FLAG_W,DATE,TIME,LATITUDE,LONGITUDE,DEPTH,CTDRAW,CTDPRS,CTDTMP,CTDSAL,CTDSAL_FLAG_W,SALNTY,SALNTY_FLAG_W,CTDOXY,CTDOXY_FLAG_W,THETA,OXYGEN,OXYGEN_FLAG_W,SILCAT,SILCAT_FLAG_W,NO2+NO3,NO2+NO3_FLAG_W,PHSPHT,PHSPHT_FLAG_W,REVPRS,REVTMP
,,,,,,,,,,,,,DBAR,ITS-90,PSS-78,,PSS-78,,UMOL/KG,,ITS-90,UMOL/KG,,UMOL/KG,,UMOL/KG,,UMOL/KG,,DBAR,DEG C
     33RR149_1,  PRS2,     2,  3,     14,     40,2,20030619,2100, 22.7748,-157.9983, 4715,      6,      4.8,  25.8035,  35.1644,2,  35.1637,2,    208.1,1, 25.8025,   -999.0,9,  -999.00,9,  -999.00,9,  -999.00,9,  -999.0,-999.000
     33RR149_1,  PRS2,     2,  3,     13,     13,2,20030619,2100, 22.7748,-157.9983, 4715,     26,     25.7,  25.7613,  35.1633,2,  35.1625,2,    208.2,1, 25.7556,   -999.0,9,  -999.00,9,  -999.00,9,  -999.00,9,  -999.0,-999.000
     33RR149_1,  PRS2,     2,  3,     12,     12,2,20030619,2100, 22.7748,-157.9983, 4715,     45,     44.2,  25.5267,  35.1561,2,  35.1592,2,    211.0,1, 25.5170,   -999.0,9,  -999.00,9,  -999.00,9,  -999.00,9,  -999.0,-999.000
     33RR149_1,  PRS2,     2,  3,     11,     39,2,20030619,2100, 22.7748,-157.9983, 4715,     59,     58.8,  24.2838,  35.1644,2,  35.1688,2,    218.1,1, 24.2713,   -999.0,9,  -999.00,9,  -999.00,9,  -999.00,9,  -999.0,-999.000
     33RR149_1,  PRS2,     2,  3,     10,     32,2,20030619,2100, 22.7748,-157.9983, 4715,     74,     74.3,  23.7159,  35.2645,2,  35.2602,2,    217.6,1, 23.7004,   -999.0,9,  -999.00,9,  -999.00,9,  -999.00,9,  -999.0,-999.000
     33RR149_1,  PRS2,     2,  3,      9,      3,2,20030619,2100, 22.7748,-157.9983, 4715,     86,     85.1,  23.4156,  35.2875,2,  35.2910,2,    216.7,1, 23.3979,   -999.0,9,  -999.00,9,  -999.00,9,  -999.00,9,  -999.0,-999.000
     33RR149_1,  PRS2,     2,  3,      8,     29,2,20030619,2100, 22.7748,-157.9983, 4715,    100,     99.8,  22.7149,  35.2949,2,  35.2937,2,    209.9,1, 22.6947,   -999.0,9,  -999.00,9,  -999.00,9,  -999.00,9,  -999.0,-999.000
     33RR149_1,  PRS2,     2,  3,      7,     28,2,20030619,2100, 22.7748,-157.9983, 4715,    115,    115.2,  21.8383,  35.3190,2,-999.0000,5,    205.6,1, 21.8156,   -999.0,9,  -999.00,9,  -999.00,9,  -999.00,9,  -999.0,-999.000
     33RR149_1,  PRS2,     2,  3,      6,      7,2,20030619,2100, 22.7748,-157.9983, 4715,    125,    124.9,  21.6169,  35.3153,2,  35.3044,2,    209.5,1, 21.5925,   -999.0,9,  -999.00,9,  -999.00,9,  -999.00,9,  -999.0,-999.000
     33RR149_1,  PRS2,     2,  3,      5,     38,2,20030619,2100, 22.7748,-157.9983, 4715,    150,    149.0,  20.5052,  35.2386,2,  35.2384,2,    205.1,1, 20.4771,   -999.0,9,  -999.00,9,  -999.00,9,  -999.00,9,  -999.0,-999.000
     33RR149_1,  PRS2,     2,  3,      4,     36,2,20030619,2100, 22.7748,-157.9983, 4715,    175,    175.0,  19.7761,  35.1881,2,-999.0000,5,    209.6,1, 19.7440,   -999.0,9,  -999.00,9,  -999.00,9,  -999.00,9,  -999.0,-999.000
     33RR149_1,  PRS2,     2,  3,      3,     35,2,20030619,2100, 22.7748,-157.9983, 4715,    200,    200.1,  19.0572,  35.0897,2,  35.0948,2,    212.4,1, 19.0214,   -999.0,9,  -999.00,9,  -999.00,9,  -999.00,9,  -999.0,-999.000
     33RR149_1,  PRS2,     2,  3,      2,     34,2,20030619,2100, 22.7748,-157.9983, 4715,    550,    550.0,   6.7061,  34.0401,2,  34.0432,2,    109.6,1,  6.6553,   -999.0,9,  -999.00,9,  -999.00,9,  -999.00,9,  -999.0,-999.000
     33RR149_1,  PRS2,     2,  3,      1,     33,2,20030619,2100, 22.7748,-157.9983, 4715,   1021,   1020.5,   4.1305,  34.4719,2,  34.4710,2,     39.8,1,  4.0522,   -999.0,9,  -999.00,9,  -999.00,9,  -999.00,9,  -999.0,-999.000
     33RR149_1,  PRS2,     2,  4,     14,     40,2,20030619,2359, 22.7788,-158.0000, 4706,      5,      4.2,  25.8978,  35.1659,2,  35.1649,2,    208.0,1, 25.8969,   -999.0,9,  -999.00,9,  -999.00,9,  -999.00,9,  -999.0,-999.000
     33RR149_1,  PRS2,     2,  4,     13,     13,2,20030619,2359, 22.7788,-158.0000, 4706,     25,     24.4,  25.8124,  35.1656,2,  35.1641,2,    208.3,1, 25.8069,   -999.0,9,  -999.00,9,  -999.00,9,  -999.00,9,  -999.0,-999.000
     33RR149_1,  PRS2,     2,  4,     12,     12,2,20030619,2359, 22.7788,-158.0000, 4706,     46,     44.8,  25.7816,  35.1662,2,  35.1655,2,    208.5,1, 25.7717,   -999.0,9,  -999.00,9,  -999.00,9,  -999.00,9,  -999.0,-999.000
     33RR149_1,  PRS2,     2,  4,     11,     39,2,20030619,2359, 22.7788,-158.0000, 4706,     74,     74.8,  24.1181,  35.2019,2,  35.2045,2,    218.4,1, 24.1023,   -999.0,9,  -999.00,9,  -999.00,9,  -999.00,9,  -999.0,-999.000
     33RR149_1,  PRS2,     2,  4,     10,     32,2,20030619,2359, 22.7788,-158.0000, 4706,    101,    100.5,  22.8944,  35.3154,2,  35.3136,2,    215.5,1, 22.8739,   -999.0,9,  -999.00,9,  -999.00,9,  -999.00,9,  -999.0,-999.000
     33RR149_1,  PRS2,     2,  4,      9,      3,2,20030619,2359, 22.7788,-158.0000, 4706,    126,    125.4,  21.8602,  35.2960,2,  35.2947,2,    200.0,1, 21.8354,   -999.0,9,  -999.00,9,  -999.00,9,  -999.00,9,  -999.0,-999.000
     33RR149_1,  PRS2,     2,  4,      8,     29,2,20030619,2359, 22.7788,-158.0000, 4706,    149,    149.4,  21.0302,  35.2725,2,  35.2685,2,    204.7,1, 21.0015,   -999.0,9,  -999.00,9,  -999.00,9,  -999.00,9,  -999.0,-999.000
     33RR149_1,  PRS2,     2,  4,      7,     28,2,20030619,2359, 22.7788,-158.0000, 4706,    175,    175.0,  19.8685,  35.1929,2,  35.1925,2,    209.3,1, 19.8362,   -999.0,9,  -999.00,9,  -999.00,9,  -999.00,9,  -999.0,-999.000
     33RR149_1,  PRS2,     2,  4,      6,      7,2,20030619,2359, 22.7788,-158.0000, 4706,    200,    199.4,  18.8853,  35.0648,2,  35.0591,2,    212.2,1, 18.8498,   -999.0,9,  -999.00,9,  -999.00,9,  -999.00,9,  -999.0,-999.000
     33RR149_1,  PRS2,     2,  4,      5,     38,2,20030619,2359, 22.7788,-158.0000, 4706,    249,    249.5,  16.8315,  34.7481,2,  34.7444,2,    217.5,1, 16.7907,   -999.0,9,  -999.00,9,  -999.00,9,  -999.00,9,  -999.0,-999.000
     33RR149_1,  PRS2,     2,  4,      4,     36,2,20030619,2359, 22.7788,-158.0000, 4706,    349,    348.9,  12.0283,  34.2642,2,  34.2604,2,    209.9,1, 11.9828,   -999.0,9,  -999.00,9,  -999.00,9,  -999.00,9,  -999.0,-999.000
     33RR149_1,  PRS2,     2,  4,      3,     35,2,20030619,2359, 22.7788,-158.0000, 4706,    349,    348.9,  11.9959,  34.2671,2,  34.2679,2,    209.9,1, 11.9505,   -999.0,9,  -999.00,9,  -999.00,9,  -999.00,9,  -999.0,-999.000
     33RR149_1,  PRS2,     2,  4,      2,     34,2,20030619,2359, 22.7788,-158.0000, 4706,    549,    549.5,   6.7689,  34.0362,2,  34.0369,2,    113.6,1,  6.7179,   -999.0,9,  -999.00,9,  -999.00,9,  -999.00,9,  -999.0,-999.000
     33RR149_1,  PRS2,     2,  4,      1,     33,2,20030619,2359, 22.7788,-158.0000, 4706,   1020,   1020.0,   4.1457,  34.4704,2,  34.4704,2,     39.4,1,  4.0673,   -999.0,9,  -999.00,9,  -999.00,9,  -999.00,9,  -999.0,-999.000
     33RR149_1,  PRS2,     2,  5,     14,     40,2,20030620,0301, 22.7028,-157.9912, 4724,      5,      5.0,  25.8827,  35.1846,2,  35.1834,2,    208.4,1, 25.8816,   -999.0,9,  -999.00,9,  -999.00,9,  -999.00,9,  -999.0,-999.000
     33RR149_1,  PRS2,     2,  5,     13,     13,2,20030620,0301, 22.7028,-157.9912, 4724,     25,     25.0,  25.8408,  35.1852,2,  35.1856,2,    208.5,1, 25.8352,   -999.0,9,  -999.00,9,  -999.00,9,  -999.00,9,  -999.0,-999.000
     33RR149_1,  PRS2,     2,  5,     12,     12,2,20030620,0301, 22.7028,-157.9912, 4724,     45,     45.0,  25.7804,  35.1879,2,  35.1865,2,    208.9,1, 25.7705,   -999.0,9,  -999.00,9,  -999.00,9,  -999.00,9,  -999.0,-999.000
     33RR149_1,  PRS2,     2,  5,     11,     39,3,20030620,0301, 22.7028,-157.9912, 4724,     74,     74.3,  23.8384,  35.2442,2,  35.2399,2,    218.1,1, 23.8228,   -999.0,9,  -999.00,9,  -999.00,9,  -999.00,9,  -999.0,-999.000
     33RR149_1,  PRS2,     2,  5,     10,     32,2,20030620,0301, 22.7028,-157.9912, 4724,    100,     99.8,  22.5213,  35.2911,2,  35.2898,2,    206.6,1, 22.5012,   -999.0,9,  -999.00,9,  -999.00,9,  -999.00,9,  -999.0,-999.000
     33RR149_1,  PRS2,     2,  5,      9,      3,2,20030620,0301, 22.7028,-157.9912, 4724,    126,    125.1,  21.4559,  35.3026,2,  35.3105,2,    210.9,1, 21.4316,   -999.0,9,  -999.00,9,  -999.00,9,  -999.00,9,  -999.0,-999.000
     33RR149_1,  PRS2,     2,  5,      8,     29,2,20030620,0301, 22.7028,-157.9912, 4724,    150,    149.6,  20.6128,  35.2564,2,  35.2571,2,    206.4,1, 20.5845,   -999.0,9,  -999.00,9,  -999.00,9,  -999.00,9,  -999.0,-999.000
     33RR149_1,  PRS2,     2,  5,      7,     28,2,20030620,0301, 22.7028,-157.9912, 4724,    175,    174.9,  19.7557,  35.2122,2,  35.2139,2,    215.2,1, 19.7236,   -999.0,9,  -999.00,9,  -999.00,9,  -999.00,9,  -999.0,-999.000
     33RR149_1,  PRS2,     2,  5,      6,      7,2,20030620,0301, 22.7028,-157.9912, 4724,    200,    199.6,  18.6375,  35.0308,2,  35.0245,2,    213.2,1, 18.6023,   -999.0,9,  -999.00,9,  -999.00,9,  -999.00,9,  -999.0,-999.000
     33RR149_1,  PRS2,     2,  5,      5,     38,2,20030620,0301, 22.7028,-157.9912, 4724,    250,    249.3,  17.2059,  34.8090,2,  34.8152,2,    220.0,1, 17.1644,   -999.0,9,  -999.00,9,  -999.00,9,  -999.00,9,  -999.0,-999.000
     33RR149_1,  PRS2,     2,  5,      4,     36,2,20030620,0301, 22.7028,-157.9912, 4724,    349,    349.4,  12.2936,  34.2831,2,  34.2716,2,    209.9,1, 12.2474,   -999.0,9,  -999.00,9,  -999.00,9,  -999.00,9,  -999.0,-999.000
     33RR149_1,  PRS2,     2,  5,      3,     35,2,20030620,0301, 22.7028,-157.9912, 4724,    350,    349.4,  12.2946,  34.2835,2,  34.2753,2,    210.0,1, 12.2484,   -999.0,9,  -999.00,9,  -999.00,9,  -999.00,9,  -999.0,-999.000
     33RR149_1,  PRS2,     2,  5,      2,     34,2,20030620,0301, 22.7028,-157.9912, 4724,    499,    499.3,   8.5312,  34.0740,2,  34.0742,2,    164.1,1,  8.4784,   -999.0,9,  -999.00,9,  -999.00,9,  -999.00,9,  -999.0,-999.000
     33RR149_1,  PRS2,     2,  5,      1,     33,2,20030620,0301, 22.7028,-157.9912, 4724,   1020,   1020.9,   4.1173,  34.4782,2,  34.4780,2,     42.3,1,  4.0391,   -999.0,9,  -999.00,9,  -999.00,9,  -999.00,9,  -999.0,-999.000
     33RR149_1,  PRS2,     2,  6,     14,     40,2,20030620,0558, 22.7068,-157.9692, 4724,      4,      4.4,  25.7955,  35.1674,2,  35.1672,2,    208.1,1, 25.7945,   -999.0,9,  -999.00,9,  -999.00,9,  -999.00,9,  -999.0,-999.000
     33RR149_1,  PRS2,     2,  6,     13,     13,2,20030620,0558, 22.7068,-157.9692, 4724,     14,     14.3,  25.7966,  35.1673,2,  35.1663,2,    208.2,1, 25.7934,   -999.0,9,  -999.00,9,  -999.00,9,  -999.00,9,  -999.0,-999.000
     33RR149_1,  PRS2,     2,  6,     12,     12,2,20030620,0558, 22.7068,-157.9692, 4724,     24,     24.0,  25.7992,  35.1676,2,  35.1665,2,    208.2,1, 25.7939,   -999.0,9,  -999.00,9,  -999.00,9,  -999.00,9,  -999.0,-999.000
     33RR149_1,  PRS2,     2,  6,     11,     39,3,20030620,0558, 22.7068,-157.9692, 4724,     34,     34.1,  25.7896,  35.1665,2,-999.0000,5,    208.3,1, 25.7820,   -999.0,9,  -999.00,9,  -999.00,9,  -999.00,9,  -999.0,-999.000
     33RR149_1,  PRS2,     2,  6,     10,     32,2,20030620,0558, 22.7068,-157.9692, 4724,     35,     34.1,  25.7907,  35.1665,2,  35.1669,2,    208.3,1, 25.7832,   -999.0,9,  -999.00,9,  -999.00,9,  -999.00,9,  -999.0,-999.000
     33RR149_1,  PRS2,     2,  6,      9,      3,2,20030620,0558, 22.7068,-157.9692, 4724,     45,     43.7,  25.7782,  35.1653,2,  35.1639,2,    208.1,1, 25.7685,   -999.0,9,  -999.00,9,  -999.00,9,  -999.00,9,  -999.0,-999.000
     33RR149_1,  PRS2,     2,  6,      8,     29,2,20030620,0558, 22.7068,-157.9692, 4724,     59,     58.6,  25.1512,  35.1287,2,  35.1275,2,    214.7,1, 25.1384,   -999.0,9,  -999.00,9,  -999.00,9,  -999.00,9,  -999.0,-999.000
     33RR149_1,  PRS2,     2,  6,      7,     28,2,20030620,0558, 22.7068,-157.9692, 4724,     73,     73.3,  23.6366,  35.2755,2,  35.2728,2,    217.3,1, 23.6213,   -999.0,9,  -999.00,9,  -999.00,9,  -999.00,9,  -999.0,-999.000
     33RR149_1,  PRS2,     2,  6,      6,      7,2,20030620,0558, 22.7068,-157.9692, 4724,     98,     98.2,  22.6022,  35.2879,2,  35.2874,2,    206.9,1, 22.5824,   -999.0,9,  -999.00,9,  -999.00,9,  -999.00,9,  -999.0,-999.000
     33RR149_1,  PRS2,     2,  6,      5,     38,2,20030620,0558, 22.7068,-157.9692, 4724,    123,    122.8,  21.5339,  35.2981,2,  35.2994,2,    208.2,1, 21.5100,   -999.0,9,  -999.00,9,  -999.00,9,  -999.00,9,  -999.0,-999.000
     33RR149_1,  PRS2,     2,  6,      4,     36,2,20030620,0558, 22.7068,-157.9692, 4724,    150,    149.6,  20.3617,  35.2365,2,  35.2380,2,    208.0,1, 20.3337,   -999.0,9,  -999.00,9,  -999.00,9,  -999.00,9,  -999.0,-999.000
     33RR149_1,  PRS2,     2,  6,      3,     35,2,20030620,0558, 22.7068,-157.9692, 4724,    174,    173.9,  19.7781,  35.2103,2,  35.2090,2,    214.2,1, 19.7461,   -999.0,9,  -999.00,9,  -999.00,9,  -999.00,9,  -999.0,-999.000
     33RR149_1,  PRS2,     2,  6,      2,     34,2,20030620,0558, 22.7068,-157.9692, 4724,    499,    498.9,   8.3133,  34.0680,2,  34.0640,2,    160.7,1,  8.2614,   -999.0,9,  -999.00,9,  -999.00,9,  -999.00,9,  -999.0,-999.000
     33RR149_1,  PRS2,     2,  6,      1,     33,2,20030620,0558, 22.7068,-157.9692, 4724,   1022,   1021.0,   4.1030,  34.4743,2,  34.4737,2,     42.5,1,  4.0249,   -999.0,9,  -999.00,9,  -999.00,9,  -999.00,9,  -999.0,-999.000
     33RR149_1,  PRS2,     2,  7,     19,     19,3,20030620,0857, 22.7105,-157.9580, 4726,      6,      5.1,  25.7851,  35.1669,2,  35.1665,2,    208.2,2, 25.7840,   -999.0,5,  -999.00,9,  -999.00,9,  -999.00,9,  -999.0,-999.000
     33RR149_1,  PRS2,     2,  7,     18,     18,3,20030620,0857, 22.7105,-157.9580, 4726,      6,      5.1,  25.7861,  35.1668,2,-999.0000,5,    208.2,2, 25.7850,    210.5,2,  -999.00,9,  -999.00,9,  -999.00,9,  -999.0,-999.000
     33RR149_1,  PRS2,     2,  7,     17,     17,4,20030620,0857, 22.7105,-157.9580, 4726,     16,     15.5,  25.7918,  35.1665,2,-999.0000,5,    208.2,2, 25.7884,   -999.0,5,  -999.00,9,  -999.00,9,  -999.00,9,  -999.0,-999.000
     33RR149_1,  PRS2,     2,  7,     16,     16,2,20030620,0857, 22.7105,-157.9580, 4726,     25,     24.8,  25.7931,  35.1666,2,  35.1661,2,    208.2,2, 25.7876,   -999.0,5,  -999.00,9,  -999.00,9,  -999.00,9,  -999.0,-999.000
     33RR149_1,  PRS2,     2,  7,     15,     23,2,20030620,0857, 22.7105,-157.9580, 4726,     25,     24.9,  25.7933,  35.1666,2,  35.1659,2,    208.2,2, 25.7878,    208.0,2,  -999.00,9,  -999.00,9,  -999.00,9,  -999.0,-999.000
     33RR149_1,  PRS2,     2,  7,     14,     40,2,20030620,0857, 22.7105,-157.9580, 4726,     36,     35.2,  25.7936,  35.1667,2,  35.1661,2,    208.2,2, 25.7858,   -999.0,5,  -999.00,9,  -999.00,9,  -999.00,9,  -999.0,-999.000
     33RR149_1,  PRS2,     2,  7,     13,     13,2,20030620,0857, 22.7105,-157.9580, 4726,     45,     45.1,  25.4245,  35.1538,2,  35.1556,2,    211.7,2, 25.4146,    212.7,2,  -999.00,9,  -999.00,9,  -999.00,9,  -999.0,-999.000
     33RR149_1,  PRS2,     2,  7,     12,     12,2,20030620,0857, 22.7105,-157.9580, 4726,     60,     59.5,  24.2871,  35.2565,2,  35.2547,2,    218.5,2, 24.2745,   -999.0,5,  -999.00,9,  -999.00,9,  -999.00,9,  -999.0,-999.000
     33RR149_1,  PRS2,     2,  7,     11,     39,3,20030620,0857, 22.7105,-157.9580, 4726,     75,     74.8,  23.1502,  35.2972,2,  35.3006,2,    217.3,2, 23.1348,    217.6,2,  -999.00,9,  -999.00,9,  -999.00,9,  -999.0,-999.000
     33RR149_1,  PRS2,     2,  7,     10,     32,2,20030620,0857, 22.7105,-157.9580, 4726,     85,     84.7,  22.8633,  35.2815,2,  35.2813,2,    209.8,2, 22.8460,    210.9,2,  -999.00,9,  -999.00,9,  -999.00,9,  -999.0,-999.000
     33RR149_1,  PRS2,     2,  7,      9,      3,2,20030620,0857, 22.7105,-157.9580, 4726,    100,     99.5,  22.5136,  35.2920,2,  35.2927,2,    208.7,2, 22.4936,    209.8,2,  -999.00,9,  -999.00,9,  -999.00,9,  -999.0,-999.000
     33RR149_1,  PRS2,     2,  7,      8,     29,2,20030620,0857, 22.7105,-157.9580, 4726,    115,    115.0,  21.9896,  35.3162,2,  35.3172,2,    214.1,2, 21.9668,    213.8,2,  -999.00,9,  -999.00,9,  -999.00,9,  -999.0,-999.000
     33RR149_1,  PRS2,     2,  7,      7,     28,2,20030620,0857, 22.7105,-157.9580, 4726,    125,    124.6,  21.7803,  35.3178,2,  35.3227,2,    211.0,2, 21.7558,    211.5,2,  -999.00,9,  -999.00,9,  -999.00,9,  -999.0,-999.000
     33RR149_1,  PRS2,     2,  7,      6,      7,2,20030620,0857, 22.7105,-157.9580, 4726,    149,    149.6,  20.8254,  35.2655,2,  35.2724,2,    204.3,2, 20.7969,    206.4,2,  -999.00,9,  -999.00,9,  -999.00,9,  -999.0,-999.000
     33RR149_1,  PRS2,     2,  7,      5,     38,2,20030620,0857, 22.7105,-157.9580, 4726,    165,    165.0,  20.1725,  35.2104,2,  35.2114,2,    205.8,2, 20.1418,    206.7,2,  -999.00,9,  -999.00,9,  -999.00,9,  -999.0,-999.000
     33RR149_1,  PRS2,     2,  7,      4,     36,2,20030620,0857, 22.7105,-157.9580, 4726,    176,    175.5,  19.8721,  35.1958,2,  35.1958,2,    210.7,2, 19.8398,    209.1,2,  -999.00,9,  -999.00,9,  -999.00,9,  -999.0,-999.000
     33RR149_1,  PRS2,     2,  7,      3,     35,2,20030620,0857, 22.7105,-157.9580, 4726,    200,    200.4,  19.2944,  35.1273,2,  35.1338,2,    211.8,2, 19.2583,    211.5,2,  -999.00,9,  -999.00,9,  -999.00,9,  -999.0,-999.000
     33RR149_1,  PRS2,     2,  7,      2,     34,2,20030620,0857, 22.7105,-157.9580, 4726,    525,    525.6,   6.9618,  34.0344,2,  34.0361,2,    122.2,2,  6.9124,    123.2,2,  -999.00,9,  -999.00,9,  -999.00,9,  -999.0,-999.000
     33RR149_1,  PRS2,     2,  7,      1,     33,2,20030620,0857, 22.7105,-157.9580, 4726,   1020,   1019.6,   4.1026,  34.4746,2,  34.4757,2,     42.8,2,  4.0245,     44.4,2,  -999.00,9,  -999.00,9,  -999.00,9,  -999.0,-999.000