BOTTLE,20090923WHPSIOMYS
EXPOCODE,SECT_ID,STNNBR,CASTNO,SAMPNO,BTLNBR,BTLNBR_FLAG_W,DATE,TIME,LATITUDE,LONGITUDE,DEPTH,CTDRAW,CTDPRS,CTDTMP,CTDSAL,CTDSAL_FLAG_W,SALNTY,SALNTY_FLAG_W,CTDOXY,CTDOXY_FLAG_W,THETA,OXYGEN,OXYGEN_FLAG_W,SILCAT,SILCAT_FLAG_W,NO2+NO3,NO2+NO3_FLAG_W,PHSPHT,PHSPHT_FLAG_W,REVPRS,REVTMP
,,,,,,,,,,,,,DBAR,ITS-90,PSS-78,,PSS-78,,UMOL/KG,,ITS-90,UMOL/KG,,UMOL/KG,,UMOL/KG,,UMOL/KG,,DBAR,DEG C
     33RR149_1,  PRS2,     2, 15,     11,     39,2,20030621,0849, 22.7532,-157.9992, 4724,      5,      4.4,  26.1222,  35.1289,2,  35.1281,2,    206.7,2, 26.1212,    206.4,2,  -999.00,9,  -999.00,9,  -999.00,9,  -999.0,-999.000
     33RR149_1,  PRS2,     2, 15,     10,     32,2,20030621,0849, 22.7532,-157.9992, 4724,    126,    125.1,  21.4133,  35.3038,2,  35.3055,2,    209.2,2, 21.3890,    209.1,2,  -999.00,9,  -999.00,9,  -999.00,9,  -999.0,-999.000
     33RR149_1,  PRS2,     2, 15,      9,      3,2,20030621,0849, 22.7532,-157.9992, 4724,    249,    249.3,  17.1982,  34.7971,2,  34.7965,2,    215.0,2, 17.1568,    215.3,2,  -999.00,9,  -999.00,9,  -999.00,9,  -999.0,-999.000
     33RR149_1,  PRS2,     2, 15,      8,     29,2,20030621,0849, 22.7532,-157.9992, 4724,    530,    529.7,   7.0939,  34.0354,2,  34.0356,2,    126.6,2,  7.0435,    122.8,2,  -999.00,9,  -999.00,9,  -999.00,9,  -999.0,-999.000
     33RR149_1,  PRS2,     2, 15,      7,     28,2,20030621,0849, 22.7532,-157.9992, 4724,    775,    774.2,   4.9976,  34.3416,2,  34.3406,2,     36.4,2,  4.9346,     35.2,2,  -999.00,9,  -999.00,9,  -999.00,9,  -999.0,-999.000
     33RR149_1,  PRS2,     2, 15,      6,      7,2,20030621,0849, 22.7532,-157.9992, 4724,    999,    998.7,   4.1311,  34.4722,2,  34.4710,2,     39.1,2,  4.0546,     39.4,2,  -999.00,9,  -999.00,9,  -999.00,9,  -999.0,-999.000
     33RR149_1,  PRS2,     2, 15,      5,     38,2,20030621,0849, 22.7532,-157.9992, 4724,   1999,   1999.7,   2.1520,  34.6197,2,  34.6182,2,     88.4,2,  2.0134,     88.8,2,  -999.00,9,  -999.00,9,  -999.00,9,  -999.0,-999.000
     33RR149_1,  PRS2,     2, 15,      4,     36,2,20030621,0849, 22.7532,-157.9992, 4724,   3000,   3000.2,   1.5292,  34.6727,2,  34.6713,2,    126.4,2,  1.3117,    126.7,2,  -999.00,9,  -999.00,9,  -999.00,9,  -999.0,-999.000
     33RR149_1,  PRS2,     2, 15,      3,     35,2,20030621,0849, 22.7532,-157.9992, 4724,   4000,   4000.0,   1.4504,  34.6888,2,  34.6876,2,    149.4,2,  1.1328,    149.3,2,  -999.00,9,  -999.00,9,  -999.00,9,  -999.0,-999.000
     33RR149_1,  PRS2,     2, 15,      2,     34,2,20030621,0849, 22.7532,-157.9992, 4724,   4501,   4500.2,   1.4869,  34.6905,2,  34.6892,2,    152.7,2,  1.1123,    152.4,2,  -999.00,9,  -999.00,9,  -999.00,9,  -999.0,-999.000
     33RR149_1,  PRS2,     2, 15,      1,     33,2,20030621,0849, 22.7532,-157.9992, 4724,   4796,   4795.7,   1.5202,  34.6906,2,  34.6898,2,    152.8,2,  1.1098,    153.0,2,  -999.00,9,  -999.00,9,  -999.00,9,  -999.0,-999.000
     33RR149_1,  PRS2,     6,  1,     13,     13,2,20030622,0603, 21.8468,-158.3633, 2458,      4,      4.6,  26.3250,  34.9839,2,  34.9824,2,    205.0,1, 26.3240,   -999.0,9,  -999.00,9,  -999.00,9,  -999.00,9,  -999.0,-999.000
     33RR149_1,  PRS2,     6,  1,     12,     12,2,20030622,0603, 21.8468,-158.3633, 2458,     24,     24.3,  26.3308,  34.9835,2,  34.9847,2,    205.0,1, 26.3253,   -999.0,9,  -999.00,9,  -999.00,9,  -999.00,9,  -999.0,-999.000
     33RR149_1,  PRS2,     6,  1,     11,     39,2,20030622,0603, 21.8468,-158.3633, 2458,     45,     44.7,  26.2690,  35.0121,2,  35.0088,2,    206.7,1, 26.2590,   -999.0,9,  -999.00,9,  -999.00,9,  -999.00,9,  -999.0,-999.000
     33RR149_1,  PRS2,     6,  1,     10,     32,2,20030622,0603, 21.8468,-158.3633, 2458,     75,     74.6,  25.4695,  35.0526,2,  35.0511,2,    213.4,1, 25.4530,   -999.0,9,  -999.00,9,  -999.00,9,  -999.00,9,  -999.0,-999.000
     33RR149_1,  PRS2,     6,  1,      9,      3,2,20030622,0603, 21.8468,-158.3633, 2458,    100,     99.3,  23.7489,  35.1954,2,  35.1925,2,    214.0,1, 23.7281,   -999.0,9,  -999.00,9,  -999.00,9,  -999.00,9,  -999.0,-999.000
     33RR149_1,  PRS2,     6,  1,      8,     29,2,20030622,0603, 21.8468,-158.3633, 2458,    124,    124.7,  22.2928,  35.2675,2,  35.2667,2,    205.7,1, 22.2679,   -999.0,9,  -999.00,9,  -999.00,9,  -999.00,9,  -999.0,-999.000
     33RR149_1,  PRS2,     6,  1,      7,     28,2,20030622,0603, 21.8468,-158.3633, 2458,    150,    150.4,  20.6158,  35.2305,2,  35.2293,2,    202.7,1, 20.5873,   -999.0,9,  -999.00,9,  -999.00,9,  -999.00,9,  -999.0,-999.000
     33RR149_1,  PRS2,     6,  1,      6,      7,2,20030622,0603, 21.8468,-158.3633, 2458,    174,    173.8,  19.5986,  35.1263,2,  35.1269,2,    204.5,1, 19.5669,   -999.0,9,  -999.00,9,  -999.00,9,  -999.00,9,  -999.0,-999.000
     33RR149_1,  PRS2,     6,  1,      5,     38,2,20030622,0603, 21.8468,-158.3633, 2458,    463,    462.9,   8.0548,  34.1166,2,  34.1147,2,    124.9,1,  8.0076,   -999.0,9,  -999.00,9,  -999.00,9,  -999.00,9,  -999.0,-999.000
     33RR149_1,  PRS2,     6,  1,      4,     36,2,20030622,0603, 21.8468,-158.3633, 2458,   1000,    999.6,   4.1346,  34.4788,2,  34.4778,2,     43.5,1,  4.0580,   -999.0,9,  -999.00,9,  -999.00,9,  -999.00,9,  -999.0,-999.000
     33RR149_1,  PRS2,     6,  1,      3,     35,2,20030622,0603, 21.8468,-158.3633, 2458,   1500,   1499.6,   2.8919,  34.5715,2,  34.5713,2,     66.1,1,  2.7854,   -999.0,9,  -999.00,9,  -999.00,9,  -999.00,9,  -999.0,-999.000
     33RR149_1,  PRS2,     6,  1,      2,     34,2,20030622,0603, 21.8468,-158.3633, 2458,   2000,   1999.6,   2.0989,  34.6248,2,  34.6239,2,     92.9,1,  1.9610,   -999.0,9,  -999.00,9,  -999.00,9,  -999.00,9,  -999.0,-999.000
     33RR149_1,  PRS2,     6,  1,      1,     33,2,20030622,0603, 21.8468,-158.3633, 2458,   2445,   2445.1,   1.7917,  34.6498,2,  34.6493,2,    109.2,1,  1.6202,   -999.0,9,  -999.00,9,  -999.00,9,  -999.00,9,  -999.0,-999.000