BOTTLE,20221215CCHSIOENA
EXPOCODE,SECT_ID,STNNBR,CASTNO,SAMPNO,BTLNBR,BTLNBR_FLAG_W,DATE,TIME,LATITUDE,LONGITUDE,DEPTH,CTDPRS,CTDTMP,CTDOXY,CTDOXY_FLAG_W,OXYGEN,OXYGEN_FLAG_W,CTDSAL,CTDSAL_FLAG_W,SALNTY,SALNTY_FLAG_W
,,,,,,,,,,,METERS,DBAR,ITS-90,UMOL/KG,,UMOL/KG,,PSU,,PSU,
32OC20051109,      CLMD1,     013,          1,         23,         23,4,20051120,       0709,  31.003333,-60.0025000,          0,     2.3,  23.3611,    202.8,1,  -999.0,9,    36.5811,1,     -999.0,9
32OC20051109,      CLMD1,     013,          1,         22,         22,2,20051120,       0709,  31.003333,-60.0025000,          0,    23.5,  23.3749,    202.8,1,   225.5,2,    36.5813,1,    36.5882,2
32OC20051109,      CLMD1,     013,          1,         21,         21,2,20051120,       0709,  31.003333,-60.0025000,          0,    41.8,  23.3723,    202.3,1,   221.9,2,    36.5812,1,    36.5882,2
32OC20051109,      CLMD1,     013,          1,         20,         20,2,20051120,       0709,  31.003333,-60.0025000,          0,    50.2,  23.3755,    202.1,1,   222.3,2,    36.5811,1,    36.5888,2
32OC20051109,      CLMD1,     013,          1,         19,         19,2,20051120,       0709,  31.003333,-60.0025000,          0,    57.9,  23.3755,    201.8,1,   215.8,2,    36.5787,1,    36.5901,2
32OC20051109,      CLMD1,     013,          1,         18,         18,2,20051120,       0709,  31.003333,-60.0025000,          0,    73.4,  20.9828,    215.0,1,   237.5,2,    36.7635,1,    36.7766,2
32OC20051109,      CLMD1,     013,          1,         17,         17,2,20051120,       0709,  31.003333,-60.0025000,          0,    99.8,  19.5694,    207.7,1,   221.5,2,    36.6696,1,    36.6787,2
32OC20051109,      CLMD1,     013,          1,         16,         16,2,20051120,       0709,  31.003333,-60.0025000,          0,   126.5,  19.1548,    201.5,1,   210.9,2,    36.6546,1,    36.6610,2
32OC20051109,      CLMD1,     013,          1,         15,         15,2,20051120,       0709,  31.003333,-60.0025000,          0,   150.6,  18.9490,    197.8,1,   204.0,2,    36.6385,1,    36.6447,2
32OC20051109,      CLMD1,     013,          1,         14,         14,2,20051120,       0709,  31.003333,-60.0025000,          0,   174.8,  18.7621,    197.8,1,   208.6,2,    36.6202,1,    36.6263,2
32OC20051109,      CLMD1,     013,          1,         13,         13,2,20051120,       0709,  31.003333,-60.0025000,          0,   200.7,  18.5599,    197.0,1,   224.6,3,    36.5963,1,    36.6034,2
32OC20051109,      CLMD1,     013,          1,         12,         12,2,20051120,       0709,  31.003333,-60.0025000,          0,   250.1,  18.2691,    196.1,1,   213.0,2,    36.5571,1,    36.5627,2
32OC20051109,      CLMD1,     013,          1,         11,         11,2,20051120,       0709,  31.003333,-60.0025000,          0,   298.8,  18.1140,    197.9,1,   208.0,2,    36.5434,1,    36.5498,2
32OC20051109,      CLMD1,     013,          1,         10,         10,2,20051120,       0709,  31.003333,-60.0025000,          0,   399.8,  17.5365,    191.9,1,   196.9,2,    36.4476,1,    36.4546,2
32OC20051109,      CLMD1,     013,          1,          9,          9,2,20051120,       0709,  31.003333,-60.0025000,          0,   498.9,  16.2306,    186.7,1,   190.9,2,    36.2200,1,    36.2273,2
32OC20051109,      CLMD1,     013,          1,          8,          8,2,20051120,       0709,  31.003333,-60.0025000,          0,   628.4,  13.9777,    180.8,1,   181.6,2,    35.8407,1,    35.8491,2
32OC20051109,      CLMD1,     013,          1,          7,          7,2,20051120,       0709,  31.003333,-60.0025000,          0,   749.9,  11.4584,    164.8,1,   161.7,2,    35.4831,1,    35.4960,2
32OC20051109,      CLMD1,     013,          1,          6,          6,2,20051120,       0709,  31.003333,-60.0025000,          0,   875.9,   8.7710,    171.4,1,   166.1,2,    35.2117,1,    35.2208,2
32OC20051109,      CLMD1,     013,          1,          5,          5,2,20051120,       0709,  31.003333,-60.0025000,          0,   998.1,   7.1228,    196.7,1,   188.2,2,    35.1385,1,    35.1445,2
32OC20051109,      CLMD1,     013,          1,          4,          4,2,20051120,       0709,  31.003333,-60.0025000,          0,  1244.3,   5.4270,    235.8,1,   230.5,2,    35.1082,1,    35.1159,2
32OC20051109,      CLMD1,     013,          1,          3,          3,2,20051120,       0709,  31.003333,-60.0025000,          0,  1497.8,   4.4698,    256.4,1,   248.4,2,    35.0279,1,    35.0371,2
32OC20051109,      CLMD1,     013,          1,          2,          2,2,20051120,       0709,  31.003333,-60.0025000,          0,  1750.4,   3.9659,    265.5,1,   255.0,2,    34.9890,1,    34.9963,2
32OC20051109,      CLMD1,     013,          1,          1,          1,2,20051120,       0709,  31.003333,-60.0025000,          0,  1997.9,   3.6953,    268.4,1,   254.8,2,    34.9804,1,    34.9868,2
32OC20051109,      CLMD1,     014,          1,         23,         23,2,20051121,       1137,  32.238167,-60.8288333,          0,     3.3,  23.1139,    201.6,1,   212.4,2,    36.5117,1,    36.5189,2
32OC20051109,      CLMD1,     014,          1,         22,         22,2,20051121,       1137,  32.238167,-60.8288333,          0,    24.7,  23.1191,    201.8,1,   212.1,2,    36.5116,1,    36.5187,2
32OC20051109,      CLMD1,     014,          1,         21,         21,2,20051121,       1137,  32.238167,-60.8288333,          0,    50.1,  23.1284,    201.6,1,   211.7,2,    36.5094,1,    36.5191,2
32OC20051109,      CLMD1,     014,          1,         20,         20,2,20051121,       1137,  32.238167,-60.8288333,          0,    74.4,  20.7729,    212.2,1,   214.9,2,    36.6745,1,    36.6827,2
32OC20051109,      CLMD1,     014,          1,         19,         19,2,20051121,       1137,  32.238167,-60.8288333,          0,   102.2,  19.6808,    195.3,1,   202.2,2,    36.6671,1,    36.6725,2
32OC20051109,      CLMD1,     014,          1,         18,         18,2,20051121,       1137,  32.238167,-60.8288333,          0,   124.2,  19.1863,    193.1,1,   199.6,2,    36.6458,1,    36.6531,2
32OC20051109,      CLMD1,     014,          1,         17,         17,2,20051121,       1137,  32.238167,-60.8288333,          0,   125.5,  19.1842,    192.7,1,   208.5,3,    36.6469,1,    36.6539,2
32OC20051109,      CLMD1,     014,          1,         16,         16,2,20051121,       1137,  32.238167,-60.8288333,          0,   147.7,  18.9020,    195.3,1,   204.8,2,    36.6366,1,    36.6437,2
32OC20051109,      CLMD1,     014,          1,         15,         15,2,20051121,       1137,  32.238167,-60.8288333,          0,   174.3,  18.7174,    197.3,1,   192.4,3,    36.6268,1,    36.6340,2
32OC20051109,      CLMD1,     014,          1,         14,         14,2,20051121,       1137,  32.238167,-60.8288333,          0,   200.5,  18.5528,    198.5,1,   207.6,2,    36.6123,1,    36.6205,2
32OC20051109,      CLMD1,     014,          1,         13,         13,2,20051121,       1137,  32.238167,-60.8288333,          0,   300.3,  18.2217,    201.4,1,   209.6,2,    36.5834,1,    36.5915,2
32OC20051109,      CLMD1,     014,          1,         12,         12,2,20051121,       1137,  32.238167,-60.8288333,          0,   377.1,  17.9547,    199.3,1,   180.8,2,    36.5409,1,    36.5490,2
32OC20051109,      CLMD1,     014,          1,         11,         11,2,20051121,       1137,  32.238167,-60.8288333,          0,   451.1,  17.0434,    182.8,1,   178.1,2,    36.3568,1,    36.3645,2
32OC20051109,      CLMD1,     014,          1,         10,         10,2,20051121,       1137,  32.238167,-60.8288333,          0,   528.0,  15.8519,    180.7,1,   181.2,2,    36.1468,1,    36.1548,2
32OC20051109,      CLMD1,     014,          1,          9,          9,2,20051121,       1137,  32.238167,-60.8288333,          0,   602.0,  14.6846,    174.6,1,   171.1,2,    35.9459,1,    35.9558,2
32OC20051109,      CLMD1,     014,          1,          8,          8,2,20051121,       1137,  32.238167,-60.8288333,          0,   702.8,  12.9873,    172.6,1,   167.8,2,    35.6831,1,    35.6976,2
32OC20051109,      CLMD1,     014,          1,          7,          7,2,20051121,       1137,  32.238167,-60.8288333,          0,   809.9,  10.9228,    164.0,1,   153.8,2,    35.4308,1,    35.4405,2
32OC20051109,      CLMD1,     014,          1,          6,          6,2,20051121,       1137,  32.238167,-60.8288333,          0,   904.7,   8.9128,    168.7,1,   160.4,2,    35.2148,1,    35.2830,3
32OC20051109,      CLMD1,     014,          1,          5,          5,2,20051121,       1137,  32.238167,-60.8288333,          0,  1001.8,   7.3976,    187.8,1,   178.8,2,    35.1388,1,    35.1451,2
32OC20051109,      CLMD1,     014,          1,          4,          4,2,20051121,       1137,  32.238167,-60.8288333,          0,  1250.1,   5.5651,    230.1,1,   210.7,2,    35.1010,1,    35.1167,2
32OC20051109,      CLMD1,     014,          1,          3,          3,2,20051121,       1137,  32.238167,-60.8288333,          0,  1497.4,   4.4835,    256.3,1,   242.0,2,    35.0115,1,    35.0193,2
32OC20051109,      CLMD1,     014,          1,          2,          2,2,20051121,       1137,  32.238167,-60.8288333,          0,  1739.8,   3.9262,    268.0,1,   255.4,2,    34.9595,1,    34.9783,2
32OC20051109,      CLMD1,     014,          1,          1,          1,2,20051121,       1137,  32.238167,-60.8288333,          0,  1998.8,   3.6455,    273.1,1,   260.4,2,    34.9485,1,    34.9547,2
32OC20051109,      CLMD1,     015,          1,         23,         23,2,20051122,       0156,  33.500833,-61.6666667,          0,     4.9,  22.5424,    202.9,1,   202.5,2,    36.5198,1,    36.5262,2
32OC20051109,      CLMD1,     015,          1,         22,         22,2,20051122,       0156,  33.500833,-61.6666667,          0,    23.7,  22.5548,    202.8,1,   211.8,2,    36.5192,1,    36.5266,2
32OC20051109,      CLMD1,     015,          1,         21,         21,2,20051122,       0156,  33.500833,-61.6666667,          0,    48.8,  22.5655,    202.5,1,   213.6,2,    36.5189,1,    36.5262,2
32OC20051109,      CLMD1,     015,          1,         20,         20,2,20051122,       0156,  33.500833,-61.6666667,          0,    75.4,  22.5660,    202.5,1,   212.3,2,    36.5185,1,    36.5268,2
32OC20051109,      CLMD1,     015,          1,         19,         19,2,20051122,       0156,  33.500833,-61.6666667,          0,   101.4,  20.2850,    211.7,1,   220.8,2,    36.6551,1,    36.6650,2
32OC20051109,      CLMD1,     015,          1,         18,         18,2,20051122,       0156,  33.500833,-61.6666667,          0,   124.7,  19.2417,    192.5,1,   199.0,2,    36.6428,1,    36.6497,2
32OC20051109,      CLMD1,     015,          1,         17,         17,2,20051122,       0156,  33.500833,-61.6666667,          0,   150.8,  18.9051,    194.7,1,   201.6,2,    36.6305,1,    36.6374,2
32OC20051109,      CLMD1,     015,          1,         16,         16,2,20051122,       0156,  33.500833,-61.6666667,          0,   175.9,  18.5979,    197.4,1,   204.8,2,    36.6133,1,    36.6195,2
32OC20051109,      CLMD1,     015,          1,         15,         15,2,20051122,       0156,  33.500833,-61.6666667,          0,   200.8,  18.4663,    198.3,1,   205.7,2,    36.6083,1,    36.6150,2
32OC20051109,      CLMD1,     015,          1,         14,         14,2,20051122,       0156,  33.500833,-61.6666667,          0,   248.8,  18.2395,    200.5,1,   207.1,2,    36.5819,1,    36.5888,2
32OC20051109,      CLMD1,     015,          1,         13,         13,2,20051122,       0156,  33.500833,-61.6666667,          0,   298.8,  18.0875,    201.3,1,   201.1,2,    36.5627,1,    36.5687,2
32OC20051109,      CLMD1,     015,          1,         12,         12,2,20051122,       0156,  33.500833,-61.6666667,          0,   376.4,  17.7899,    196.6,1,   201.6,2,    36.5096,1,    36.5171,2
32OC20051109,      CLMD1,     015,          1,         11,         11,2,20051122,       0156,  33.500833,-61.6666667,          0,   450.6,  16.8559,    183.4,1,   184.3,2,    36.3231,1,    36.3332,2
32OC20051109,      CLMD1,     015,          1,         10,         10,2,20051122,       0156,  33.500833,-61.6666667,          0,   524.0,  15.8774,    182.3,1,   182.6,2,    36.1533,1,    36.1627,2
32OC20051109,      CLMD1,     015,          1,          9,          9,2,20051122,       0156,  33.500833,-61.6666667,          0,   598.9,  14.5461,    176.9,1,   175.2,2,    35.9246,1,    35.9310,2
32OC20051109,      CLMD1,     015,          1,          8,          8,2,20051122,       0156,  33.500833,-61.6666667,          0,   702.5,  12.6432,    167.8,1,   163.4,2,    35.6231,1,    35.6330,2
32OC20051109,      CLMD1,     015,          1,          7,          7,2,20051122,       0156,  33.500833,-61.6666667,          0,   801.1,  10.4420,    157.6,1,   148.6,2,    35.3419,1,    35.2307,3
32OC20051109,      CLMD1,     015,          1,          6,          6,2,20051122,       0156,  33.500833,-61.6666667,          0,   899.2,   8.5240,    168.8,1,   159.9,2,    35.1659,1,    35.1725,2
32OC20051109,      CLMD1,     015,          1,          5,          5,2,20051122,       0156,  33.500833,-61.6666667,          0,  1000.4,   6.8418,    197.6,1,   187.4,2,    35.0854,1,    35.0919,2
32OC20051109,      CLMD1,     015,          1,          4,          4,2,20051122,       0156,  33.500833,-61.6666667,          0,  1098.6,   5.6188,    228.5,1,   218.5,2,    35.0449,1,    35.0522,2
32OC20051109,      CLMD1,     015,          1,          3,          3,2,20051122,       0156,  33.500833,-61.6666667,          0,  1201.2,   5.0878,    240.2,1,   235.5,2,    35.0191,1,    35.0264,2
32OC20051109,      CLMD1,     015,          1,          2,          2,2,20051122,       0156,  33.500833,-61.6666667,          0,  1349.3,   4.7005,    251.2,1,   243.9,2,    35.0102,1,    35.0168,2
32OC20051109,      CLMD1,     015,          1,          1,          1,2,20051122,       0156,  33.500833,-61.6666667,          0,  1502.1,   4.2850,    262.7,1,   253.6,2,    34.9822,1,    34.9882,2
32OC20051109,      CLMD1,     016,          1,         23,         23,2,20051125,       1532,  38.260833,-64.7406667,          0,    14.2,  19.7279,    208.2,1,   225.4,2,    35.5960,1,    35.6065,2
32OC20051109,      CLMD1,     016,          1,         22,         22,2,20051125,       1532,  38.260833,-64.7406667,          0,    52.4,  20.2549,    203.3,1,   216.9,2,    35.8093,1,    35.8175,2
32OC20051109,      CLMD1,     016,          1,         21,         21,2,20051125,       1532,  38.260833,-64.7406667,          0,    75.3,  20.2624,    204.2,1,   217.5,2,    35.8204,1,    35.8279,2
32OC20051109,      CLMD1,     016,          1,         20,         20,2,20051125,       1532,  38.260833,-64.7406667,          0,   102.2,  18.3045,    173.0,1,   183.1,2,    35.7755,1,    35.7820,2
32OC20051109,      CLMD1,     016,          1,         19,         19,2,20051125,       1532,  38.260833,-64.7406667,          0,   124.2,  16.7813,    173.9,1,   177.4,2,    35.6490,1,    35.7247,2
32OC20051109,      CLMD1,     016,          1,         18,         18,2,20051125,       1532,  38.260833,-64.7406667,          0,   148.7,  16.2710,    171.2,1,   175.2,2,    35.8893,1,    35.8608,2
32OC20051109,      CLMD1,     016,          1,         17,         17,2,20051125,       1532,  38.260833,-64.7406667,          0,   176.4,  15.8230,    171.4,1,   180.5,2,    35.9802,1,    35.9813,2
32OC20051109,      CLMD1,     016,          1,         16,         16,2,20051125,       1532,  38.260833,-64.7406667,          0,   201.9,  15.0106,    166.7,1,   171.4,2,    35.8684,1,    35.8822,2
32OC20051109,      CLMD1,     016,          1,         15,         15,2,20051125,       1532,  38.260833,-64.7406667,          0,   247.0,  13.6551,    167.1,1,   169.6,2,    35.7043,1,    35.7162,2
32OC20051109,      CLMD1,     016,          1,         14,         14,2,20051125,       1532,  38.260833,-64.7406667,          0,   302.1,  12.5175,    170.2,1,   172.0,2,    35.5568,1,    35.5705,2
32OC20051109,      CLMD1,     016,          1,         13,         13,2,20051125,       1532,  38.260833,-64.7406667,          0,   348.9,  11.8199,    160.9,1,   164.9,2,    35.4631,1,    35.4786,2
32OC20051109,      CLMD1,     016,          1,         12,         12,2,20051125,       1532,  38.260833,-64.7406667,          0,   402.1,  11.0185,    149.2,1,   145.7,2,    35.3781,1,    35.3835,2
32OC20051109,      CLMD1,     016,          1,         11,         11,2,20051125,       1532,  38.260833,-64.7406667,          0,   449.2,   9.7145,    145.7,1,   142.0,2,    35.2370,1,    35.2465,2
32OC20051109,      CLMD1,     016,          1,         10,         10,2,20051125,       1532,  38.260833,-64.7406667,          0,   500.3,   8.3338,    159.5,1,   153.7,2,    35.1229,1,    35.1317,2
32OC20051109,      CLMD1,     016,          1,          9,          9,2,20051125,       1532,  38.260833,-64.7406667,          0,   600.8,   6.8097,    188.7,1,   185.0,2,    35.0486,1,    35.0568,2
32OC20051109,      CLMD1,     016,          1,          8,          8,2,20051125,       1532,  38.260833,-64.7406667,          0,   698.4,   5.8415,    211.8,1,   209.7,2,    35.0218,1,    35.0313,2
32OC20051109,      CLMD1,     016,          1,          7,          7,2,20051125,       1532,  38.260833,-64.7406667,          0,   798.7,   5.3262,    227.2,1,   230.7,2,    35.0188,1,    35.0260,2
32OC20051109,      CLMD1,     016,          1,          6,          6,2,20051125,       1532,  38.260833,-64.7406667,          0,   900.1,   4.8294,    239.9,1,   242.9,2,    34.9963,1,    35.0028,2
32OC20051109,      CLMD1,     016,          1,          5,          5,2,20051125,       1532,  38.260833,-64.7406667,          0,  1005.3,   4.6485,    245.1,1,   248.8,2,    34.9919,1,    34.9982,2
32OC20051109,      CLMD1,     016,          1,          4,          4,2,20051125,       1532,  38.260833,-64.7406667,          0,  1202.6,   4.2240,    254.5,1,   247.2,3,    34.9679,1,    34.9740,2
32OC20051109,      CLMD1,     016,          1,          3,          3,2,20051125,       1532,  38.260833,-64.7406667,          0,  1505.6,   3.8727,    261.9,1,   266.7,2,    34.9519,1,    34.9570,2
32OC20051109,      CLMD1,     016,          1,          2,          2,2,20051125,       1532,  38.260833,-64.7406667,          0,  1809.2,   3.7037,    266.0,1,   265.6,2,    34.9444,1,    34.9484,2
32OC20051109,      CLMD1,     016,          1,          1,          1,2,20051125,       1532,  38.260833,-64.7406667,          0,  2221.8,   3.3822,    269.8,1,   271.2,2,    34.9394,1,    34.9458,2