BOTTLE,20221215CCHSIOENA
EXPOCODE,SECT_ID,STNNBR,CASTNO,SAMPNO,BTLNBR,BTLNBR_FLAG_W,DATE,TIME,LATITUDE,LONGITUDE,DEPTH,CTDPRS,CTDTMP,CTDOXY,CTDOXY_FLAG_W,OXYGEN,OXYGEN_FLAG_W,CTDSAL,CTDSAL_FLAG_W,SALNTY,SALNTY_FLAG_W
,,,,,,,,,,,METERS,DBAR,ITS-90,UMOL/KG,,UMOL/KG,,PSU,,PSU,
32OC20051109,      CLMD1,     009,          1,         23,         23,2,20051117,       0426,  38.363000,-55.7858333,          0,     3.6,  22.1432,    203.0,1,   215.6,2,    36.0214,1,    36.0267,2
32OC20051109,      CLMD1,     009,          1,         22,         22,2,20051117,       0426,  38.363000,-55.7858333,          0,    25.9,  22.1672,    202.9,1,   214.1,2,    36.0275,1,    36.0314,2
32OC20051109,      CLMD1,     009,          1,         21,         21,2,20051117,       0426,  38.363000,-55.7858333,          0,    39.4,  22.2963,    203.7,1,   215.8,2,    36.1354,1,    36.1465,2
32OC20051109,      CLMD1,     009,          1,         20,         20,2,20051117,       0426,  38.363000,-55.7858333,          0,    50.5,  22.3947,    202.3,1,   211.1,2,    36.4201,1,    36.4278,2
32OC20051109,      CLMD1,     009,          1,         19,         19,2,20051117,       0426,  38.363000,-55.7858333,          0,    59.2,  22.3249,    202.3,1,   211.1,2,    36.4978,1,    36.5024,2
32OC20051109,      CLMD1,     009,          1,         18,         18,2,20051117,       0426,  38.363000,-55.7858333,          0,    76.7,  22.2897,    202.2,1,   215.0,2,    36.5084,1,    36.5155,2
32OC20051109,      CLMD1,     009,          1,         17,         17,2,20051117,       0426,  38.363000,-55.7858333,          0,   101.7,  21.7484,    193.4,1,   206.5,2,    36.6748,1,    36.6179,2
32OC20051109,      CLMD1,     009,          1,         16,         16,2,20051117,       0426,  38.363000,-55.7858333,          0,   125.1,  20.3226,    190.7,1,   199.6,2,    36.7122,1,    36.7172,2
32OC20051109,      CLMD1,     009,          1,         15,         15,2,20051117,       0426,  38.363000,-55.7858333,          0,   149.3,  19.8445,    189.5,1,   197.0,2,    36.6915,1,    36.6978,2
32OC20051109,      CLMD1,     009,          1,         14,         14,2,20051117,       0426,  38.363000,-55.7858333,          0,   174.3,  19.2809,    190.1,1,   197.6,2,    36.6586,1,    36.6656,2
32OC20051109,      CLMD1,     009,          1,         13,         13,2,20051117,       0426,  38.363000,-55.7858333,          0,   200.3,  18.9698,    194.6,1,   202.8,2,    36.6444,1,    36.6495,2
32OC20051109,      CLMD1,     009,          1,         12,         12,2,20051117,       0426,  38.363000,-55.7858333,          0,   251.0,  18.6923,    198.8,1,   207.0,2,    36.6310,1,    36.6390,2
32OC20051109,      CLMD1,     009,          1,         11,         11,2,20051117,       0426,  38.363000,-55.7858333,          0,   301.7,  18.4165,    197.9,1,   204.5,2,    36.5940,1,    36.6007,2
32OC20051109,      CLMD1,     009,          1,         10,         10,2,20051117,       0426,  38.363000,-55.7858333,          0,   400.0,  18.1199,    202.1,1,   208.2,2,    36.5646,1,    36.5711,2
32OC20051109,      CLMD1,     009,          1,          9,          9,2,20051117,       0426,  38.363000,-55.7858333,          0,   499.1,  17.4078,    184.6,1,   185.6,2,    36.4149,1,    36.4209,2
32OC20051109,      CLMD1,     009,          1,          8,          8,2,20051117,       0426,  38.363000,-55.7858333,          0,   625.1,  15.4691,    179.1,1,   179.9,2,    36.0776,1,    36.0865,2
32OC20051109,      CLMD1,     009,          1,          7,          7,2,20051117,       0426,  38.363000,-55.7858333,          0,   749.4,  13.0090,    168.6,1,   164.5,2,    35.6746,1,    35.6854,2
32OC20051109,      CLMD1,     009,          1,          6,          6,2,20051117,       0426,  38.363000,-55.7858333,          0,   875.2,   9.9718,    152.8,1,   142.4,2,    35.2807,1,    35.2887,2
32OC20051109,      CLMD1,     009,          1,          5,          5,2,20051117,       0426,  38.363000,-55.7858333,          0,   999.1,   7.4044,    185.0,1,   176.5,2,    35.0880,1,    35.0956,2
32OC20051109,      CLMD1,     009,          1,          4,          4,2,20051117,       0426,  38.363000,-55.7858333,          0,  1250.8,   5.0827,    241.2,1,   219.0,3,    35.0057,1,    35.0345,2
32OC20051109,      CLMD1,     009,          1,          3,          3,2,20051117,       0426,  38.363000,-55.7858333,          0,  1499.9,   4.4518,    258.4,1,   254.6,2,    34.9783,1,    34.9856,2
32OC20051109,      CLMD1,     009,          1,          2,          2,2,20051117,       0426,  38.363000,-55.7858333,          0,  1746.0,   4.0791,    267.8,1,   262.5,2,    34.9602,1,    34.9671,2
32OC20051109,      CLMD1,     009,          1,          1,          1,2,20051117,       0426,  38.363000,-55.7858333,          0,  2006.5,   3.8315,    273.6,1,   264.7,2,    34.9482,1,    34.9545,2
32OC20051109,      CLMD1,     010,          1,         23,         23,2,20051117,       1854,  36.180000,-54.9193333,          0,     3.4,  22.3865,    204.4,1,   215.9,2,    36.3672,1,    36.3743,2
32OC20051109,      CLMD1,     010,          1,         22,         22,2,20051117,       1854,  36.180000,-54.9193333,          0,    24.8,  22.3935,    204.6,1,   217.3,2,    36.3668,1,    36.3735,2
32OC20051109,      CLMD1,     010,          1,         21,         21,2,20051117,       1854,  36.180000,-54.9193333,          0,    51.4,  22.3814,    204.3,1,   217.5,2,    36.3645,1,    36.3723,2
32OC20051109,      CLMD1,     010,          1,         20,         20,2,20051117,       1854,  36.180000,-54.9193333,          0,    75.7,  22.3824,    204.1,1,   216.4,2,    36.3682,1,    36.3752,2
32OC20051109,      CLMD1,     010,          1,         19,         19,2,20051117,       1854,  36.180000,-54.9193333,          0,    99.4,  22.3847,    203.0,1,   213.9,2,    36.3834,1,    36.3925,2
32OC20051109,      CLMD1,     010,          1,         18,         18,2,20051117,       1854,  36.180000,-54.9193333,          0,   124.7,  21.1680,    198.1,1,   206.6,2,    36.6001,1,    36.5957,2
32OC20051109,      CLMD1,     010,          1,         17,         17,2,20051117,       1854,  36.180000,-54.9193333,          0,   151.2,  19.2005,    207.3,1,   219.7,2,    36.5414,1,    36.5500,2
32OC20051109,      CLMD1,     010,          1,         16,         16,2,20051117,       1854,  36.180000,-54.9193333,          0,   174.9,  18.5885,    199.8,1,   210.3,2,    36.5195,1,    36.5266,2
32OC20051109,      CLMD1,     010,          1,         15,         15,2,20051117,       1854,  36.180000,-54.9193333,          0,   199.0,  18.2934,    197.1,1,   205.2,2,    36.5315,1,    36.5306,2
32OC20051109,      CLMD1,     010,          1,         14,         14,2,20051117,       1854,  36.180000,-54.9193333,          0,   250.2,  17.9364,    199.1,1,   207.3,2,    36.5145,1,    36.5240,2
32OC20051109,      CLMD1,     010,          1,         13,         13,2,20051117,       1854,  36.180000,-54.9193333,          0,   302.6,  17.6750,    200.8,1,   207.2,2,    36.4704,1,    36.4776,2
32OC20051109,      CLMD1,     010,          1,         12,         12,2,20051117,       1854,  36.180000,-54.9193333,          0,   377.0,  17.0043,    189.1,1,   192.8,2,    36.3413,1,    36.3481,2
32OC20051109,      CLMD1,     010,          1,         11,         11,2,20051117,       1854,  36.180000,-54.9193333,          0,   453.1,  15.9896,    182.7,1,   185.4,2,    36.1579,1,    36.1691,2
32OC20051109,      CLMD1,     010,          1,         10,         10,2,20051117,       1854,  36.180000,-54.9193333,          0,   528.4,  14.7108,    178.4,1,   178.0,2,    35.9445,1,    35.9506,2
32OC20051109,      CLMD1,     010,          1,          9,          9,2,20051117,       1854,  36.180000,-54.9193333,          0,   603.7,  13.3326,    178.2,1,   175.4,2,    35.7183,1,    35.7304,2
32OC20051109,      CLMD1,     010,          1,          8,          8,2,20051117,       1854,  36.180000,-54.9193333,          0,   705.2,  11.4289,    159.8,1,   153.2,2,    35.4556,1,    35.4640,2
32OC20051109,      CLMD1,     010,          1,          7,          7,2,20051117,       1854,  36.180000,-54.9193333,          0,   804.4,   9.4875,    159.9,1,   152.2,2,    35.2372,1,    35.2449,2
32OC20051109,      CLMD1,     010,          1,          6,          6,2,20051117,       1854,  36.180000,-54.9193333,          0,   902.8,   8.0106,    174.6,1,   166.1,2,    35.1179,1,    35.1266,2
32OC20051109,      CLMD1,     010,          1,          5,          5,2,20051117,       1854,  36.180000,-54.9193333,          0,  1003.7,   6.3783,    209.1,1,   202.2,2,    35.0476,1,    35.0556,2
32OC20051109,      CLMD1,     010,          1,          4,          4,2,20051117,       1854,  36.180000,-54.9193333,          0,  1250.1,   4.9777,    245.0,1,   240.0,2,    35.0191,1,    35.0274,2
32OC20051109,      CLMD1,     010,          1,          3,          3,2,20051117,       1854,  36.180000,-54.9193333,          0,  1498.0,   4.3974,    259.2,1,   253.4,2,    34.9964,1,    35.0047,2
32OC20051109,      CLMD1,     010,          1,          2,          2,2,20051117,       1854,  36.180000,-54.9193333,          0,  1750.8,   3.9786,    267.9,1,   261.8,2,    34.9609,1,    34.9681,2
32OC20051109,      CLMD1,     010,          1,          1,          1,2,20051117,       1854,  36.180000,-54.9193333,          0,  1987.8,   3.6720,    274.2,1,   265.7,2,    34.9390,1,    34.9468,2
32OC20051109,      CLMD1,     011,          1,         23,         23,2,20051118,       1839,  33.999000,-54.2640000,          0,     4.9,  23.2192,    203.8,1,   214.1,2,    36.5119,1,    36.5189,2
32OC20051109,      CLMD1,     011,          1,         22,         22,2,20051118,       1839,  33.999000,-54.2640000,          0,    25.1,  23.2165,    203.9,1,   209.4,2,    36.5093,1,    36.5173,2
32OC20051109,      CLMD1,     011,          1,         21,         21,2,20051118,       1839,  33.999000,-54.2640000,          0,    40.9,  23.2243,    203.9,1,   218.6,2,    36.5104,1,    36.5175,2
32OC20051109,      CLMD1,     011,          1,         20,         20,2,20051118,       1839,  33.999000,-54.2640000,          0,    50.8,  23.1879,    203.5,1,   221.3,2,    36.5034,1,    36.5127,2
32OC20051109,      CLMD1,     011,          1,         19,         19,2,20051118,       1839,  33.999000,-54.2640000,          0,    60.5,  23.1624,    203.5,1,   215.0,2,    36.4959,1,    36.5072,2
32OC20051109,      CLMD1,     011,          1,         18,         18,2,20051118,       1839,  33.999000,-54.2640000,          0,    76.2,  23.0694,    203.8,1,   221.2,2,    36.4879,1,    36.5008,2
32OC20051109,      CLMD1,     011,          1,         17,         17,2,20051118,       1839,  33.999000,-54.2640000,          0,   100.7,  19.3874,    209.0,1,   224.0,2,    36.6225,1,    36.6304,2
32OC20051109,      CLMD1,     011,          1,         16,         16,2,20051118,       1839,  33.999000,-54.2640000,          0,   127.9,  18.5148,    200.4,1,   205.8,2,    36.5807,1,    36.5866,2
32OC20051109,      CLMD1,     011,          1,         15,         15,2,20051118,       1839,  33.999000,-54.2640000,          0,   151.7,  18.3067,    200.6,1,   199.2,3,    36.5741,1,    36.5818,2
32OC20051109,      CLMD1,     011,          1,         14,         14,2,20051118,       1839,  33.999000,-54.2640000,          0,   165.9,  18.2498,    201.2,1,   208.3,2,    36.5717,1,    36.5790,2
32OC20051109,      CLMD1,     011,          1,         13,         13,2,20051118,       1839,  33.999000,-54.2640000,          0,   201.0,  18.1430,    202.1,1,   208.8,2,    36.5661,1,    36.5735,2
32OC20051109,      CLMD1,     011,          1,         12,         12,2,20051118,       1839,  33.999000,-54.2640000,          0,   253.2,  17.9935,    204.0,1,   208.0,2,    36.5501,1,    36.5576,2
32OC20051109,      CLMD1,     011,          1,         11,         11,4,20051118,       1839,  33.999000,-54.2640000,          0,   304.1,  17.8386,    202.8,1,  -999.0,9,    36.5265,1,     -999.0,9
32OC20051109,      CLMD1,     011,          1,         10,         10,4,20051118,       1839,  33.999000,-54.2640000,          0,   403.5,  16.6544,    185.5,1,  -999.0,9,    36.2894,1,     -999.0,9
32OC20051109,      CLMD1,     011,          1,          9,          9,2,20051118,       1839,  33.999000,-54.2640000,          0,   502.9,  15.0307,    187.4,1,   187.3,2,    36.0045,1,    36.0134,2
32OC20051109,      CLMD1,     011,          1,          8,          8,2,20051118,       1839,  33.999000,-54.2640000,          0,   628.0,  12.3935,    173.4,1,   168.7,2,    35.5903,1,    35.6006,2
32OC20051109,      CLMD1,     011,          1,          7,          7,2,20051118,       1839,  33.999000,-54.2640000,          0,   752.3,  10.2478,    166.9,1,   160.9,2,    35.3469,1,    35.3558,2
32OC20051109,      CLMD1,     011,          1,          6,          6,2,20051118,       1839,  33.999000,-54.2640000,          0,   876.1,   7.9511,    183.4,1,   173.6,2,    35.1667,1,    35.1751,2
32OC20051109,      CLMD1,     011,          1,          5,          5,2,20051118,       1839,  33.999000,-54.2640000,          0,   997.1,   6.7436,    206.0,1,   201.5,2,    35.1411,1,    35.1483,2
32OC20051109,      CLMD1,     011,          1,          4,          4,2,20051118,       1839,  33.999000,-54.2640000,          0,  1248.3,   5.2565,    240.5,1,   240.5,2,    35.0869,1,    35.0954,2
32OC20051109,      CLMD1,     011,          1,          3,          3,2,20051118,       1839,  33.999000,-54.2640000,          0,  1499.5,   4.4832,    257.0,1,   251.4,2,    35.0223,1,    35.0300,2
32OC20051109,      CLMD1,     011,          1,          2,          2,2,20051118,       1839,  33.999000,-54.2640000,          0,  1748.2,   3.9343,    268.4,1,   258.8,2,    34.9697,1,    34.9775,2
32OC20051109,      CLMD1,     011,          1,          1,          1,2,20051118,       1839,  33.999000,-54.2640000,          0,  1996.9,   3.6662,    272.9,1,   264.0,2,    34.9569,1,    34.9645,2
32OC20051109,      CLMD1,     012,          1,         23,         23,2,20051119,       1049,  33.689333,-57.6071667,          0,     2.8,  22.9300,    204.8,1,   214.0,2,    36.5150,1,    36.5225,2
32OC20051109,      CLMD1,     012,          1,         22,         22,2,20051119,       1049,  33.689333,-57.6071667,          0,    22.9,  22.9107,    204.7,1,   214.1,2,    36.5150,1,    36.5221,2
32OC20051109,      CLMD1,     012,          1,         21,         21,2,20051119,       1049,  33.689333,-57.6071667,          0,    50.4,  22.9128,    204.7,1,   214.5,2,    36.5142,1,    36.5217,2
32OC20051109,      CLMD1,     012,          1,         20,         20,2,20051119,       1049,  33.689333,-57.6071667,          0,    75.0,  22.8914,    204.5,1,   214.6,2,    36.5077,1,    36.5171,2
32OC20051109,      CLMD1,     012,          1,         19,         19,2,20051119,       1049,  33.689333,-57.6071667,          0,   101.2,  19.0891,    205.3,1,   213.8,2,    36.5902,1,    36.5804,2
32OC20051109,      CLMD1,     012,          1,         18,         18,2,20051119,       1049,  33.689333,-57.6071667,          0,   125.6,  18.6345,    200.5,1,   206.7,2,    36.5905,1,    36.5981,2
32OC20051109,      CLMD1,     012,          1,         17,         17,2,20051119,       1049,  33.689333,-57.6071667,          0,   152.4,  18.3910,    200.4,1,   205.7,2,    36.5837,1,    36.5903,2
32OC20051109,      CLMD1,     012,          1,         16,         16,2,20051119,       1049,  33.689333,-57.6071667,          0,   175.3,  18.2854,    202.2,1,   208.3,2,    36.5796,1,    36.5860,2
32OC20051109,      CLMD1,     012,          1,         15,         15,2,20051119,       1049,  33.689333,-57.6071667,          0,   199.2,  18.1849,    203.0,1,   209.4,2,    36.5691,1,    36.5760,2
32OC20051109,      CLMD1,     012,          1,         14,         14,2,20051119,       1049,  33.689333,-57.6071667,          0,   250.8,  17.8887,    199.4,1,   205.5,2,    36.5163,1,    36.5244,2
32OC20051109,      CLMD1,     012,          1,         13,         13,2,20051119,       1049,  33.689333,-57.6071667,          0,   300.0,  17.7769,    201.9,1,   207.4,2,    36.5149,1,    36.5223,2
32OC20051109,      CLMD1,     012,          1,         12,         12,2,20051119,       1049,  33.689333,-57.6071667,          0,   375.5,  16.9324,    185.8,1,   186.6,2,    36.3362,1,    36.3455,2
32OC20051109,      CLMD1,     012,          1,         11,         11,2,20051119,       1049,  33.689333,-57.6071667,          0,   447.5,  16.0677,    184.0,1,   184.9,2,    36.1855,1,    36.1936,2
32OC20051109,      CLMD1,     012,          1,         10,         10,2,20051119,       1049,  33.689333,-57.6071667,          0,   526.1,  14.9176,    186.7,1,   181.7,2,    35.9858,1,    35.9968,2
32OC20051109,      CLMD1,     012,          1,          9,          9,2,20051119,       1049,  33.689333,-57.6071667,          0,   601.1,  13.6180,    181.7,1,   179.7,2,    35.7668,1,    35.7755,2
32OC20051109,      CLMD1,     012,          1,          8,          8,2,20051119,       1049,  33.689333,-57.6071667,          0,   699.6,  11.6007,    169.3,1,   164.9,2,    35.4858,1,    35.4933,2
32OC20051109,      CLMD1,     012,          1,          7,          7,2,20051119,       1049,  33.689333,-57.6071667,          0,   850.4,   8.3237,    172.1,1,   170.0,2,    35.1454,1,    35.1554,2
32OC20051109,      CLMD1,     012,          1,          6,          6,2,20051119,       1049,  33.689333,-57.6071667,          0,  1001.1,   6.3341,    212.9,1,   204.6,2,    35.1019,1,    35.1104,2
32OC20051109,      CLMD1,     012,          1,          5,          5,2,20051119,       1049,  33.689333,-57.6071667,          0,  1501.5,   4.1801,    262.4,1,   260.3,2,    34.9703,1,    34.9779,2
32OC20051109,      CLMD1,     012,          1,          4,          4,2,20051119,       1049,  33.689333,-57.6071667,          0,  1999.4,   3.5995,    272.6,1,   266.5,2,    34.9421,1,    34.9496,2
32OC20051109,      CLMD1,     012,          1,          3,          3,2,20051119,       1049,  33.689333,-57.6071667,          0,  3000.9,   2.7838,    276.6,1,   261.2,2,    34.9264,1,    34.9328,2
32OC20051109,      CLMD1,     012,          1,          2,          2,2,20051119,       1049,  33.689333,-57.6071667,          0,  4000.9,   2.2461,    287.5,1,   257.9,2,    34.8858,1,    34.8914,2
32OC20051109,      CLMD1,     012,          1,          1,          1,3,20051119,       1049,  33.689333,-57.6071667,          0,  4607.3,   2.2112,    291.3,1,   258.3,4,    34.8743,1,    34.8808,4