BOTTLE,20221215CCHSIOENA
# corrected date for STN 3
# changed SALNTY units from PSU to PSS-78
# removed THETA
# BOTTLE,20221214SIOCCHENA
EXPOCODE,SECT_ID,STNNBR,CASTNO,SAMPNO,BTLNBR,BTLNBR_FLAG_W,DATE,TIME,LATITUDE,LONGITUDE,DEPTH,CTDPRS,CTDTMP,CTDOXY,CTDOXY_FLAG_W,OXYGEN,OXYGEN_FLAG_W,CTDSAL,CTDSAL_FLAG_W,SALNTY,SALNTY_FLAG_W
,,,,,,,,,,,METERS,DBAR,ITS-90,UMOL/KG,,UMOL/KG,,PSU,,PSU,
32OC20051109,      CLMD1,     001,          1,         23,         23,2,20051110,       1207,  39.797167,-66.9858333,          0,     3.2,  18.0624,    225.0,1,   252.6,2,    34.7241,1,    34.7298,2
32OC20051109,      CLMD1,     001,          1,         22,         22,2,20051110,       1207,  39.797167,-66.9858333,          0,    24.9,  18.0653,    225.1,1,   248.1,2,    34.7250,1,    34.7306,2
32OC20051109,      CLMD1,     001,          1,         21,         21,2,20051110,       1207,  39.797167,-66.9858333,          0,    50.6,  18.8951,    192.1,1,   209.2,2,    35.6155,1,    35.5952,2
32OC20051109,      CLMD1,     001,          1,         20,         20,2,20051110,       1207,  39.797167,-66.9858333,          0,    75.8,  16.5709,    167.1,1,   181.2,2,    35.8529,1,    35.8570,2
32OC20051109,      CLMD1,     001,          1,         19,         19,2,20051110,       1207,  39.797167,-66.9858333,          0,   100.4,  15.3882,    173.1,1,   186.2,2,    35.9242,1,    35.9568,2
32OC20051109,      CLMD1,     001,          1,         18,         18,2,20051110,       1207,  39.797167,-66.9858333,          0,   151.3,  13.5267,    194.1,1,   209.1,2,    35.6920,1,    35.7205,2
32OC20051109,      CLMD1,     001,          1,         17,         17,2,20051110,       1207,  39.797167,-66.9858333,          0,   204.1,  12.9445,    212.1,1,   229.2,2,    35.6297,1,    35.6347,2
32OC20051109,      CLMD1,     001,          1,         16,         16,2,20051110,       1207,  39.797167,-66.9858333,          0,   251.0,  12.8981,    216.9,1,   233.7,2,    35.6340,1,    35.6440,2
32OC20051109,      CLMD1,     001,          1,         15,         15,2,20051110,       1207,  39.797167,-66.9858333,          0,   299.7,  12.5323,    206.6,1,   223.9,2,    35.5821,1,    35.5901,2
32OC20051109,      CLMD1,     001,          1,         14,         14,2,20051110,       1207,  39.797167,-66.9858333,          0,   352.5,  11.2702,    148.4,1,   149.6,2,    35.4374,1,    35.4504,2
32OC20051109,      CLMD1,     001,          1,         13,         13,2,20051110,       1207,  39.797167,-66.9858333,          0,   405.1,   9.8645,    145.9,1,   145.5,2,    35.2648,1,    35.2791,2
32OC20051109,      CLMD1,     001,          1,         12,         12,2,20051110,       1207,  39.797167,-66.9858333,          0,   503.5,   7.5074,    176.1,1,   175.8,2,    35.0933,1,    35.0986,2
32OC20051109,      CLMD1,     001,          1,         11,         11,2,20051110,       1207,  39.797167,-66.9858333,          0,   603.7,   5.8599,    213.0,1,   220.1,2,    35.0187,1,    35.0235,2
32OC20051109,      CLMD1,     001,          1,         10,         10,2,20051110,       1207,  39.797167,-66.9858333,          0,   707.4,   5.1552,    232.7,1,   238.9,2,    35.0049,1,    35.0146,2
32OC20051109,      CLMD1,     001,          1,          9,          9,2,20051110,       1207,  39.797167,-66.9858333,          0,   802.3,   4.8407,    242.5,1,   247.6,2,    34.9840,1,    34.9888,2
32OC20051109,      CLMD1,     001,          1,          8,          8,2,20051110,       1207,  39.797167,-66.9858333,          0,   904.9,   4.5433,    250.4,1,   256.8,2,    34.9754,1,    34.9805,2
32OC20051109,      CLMD1,     001,          1,          7,          7,2,20051110,       1207,  39.797167,-66.9858333,          0,  1002.5,   4.3683,    254.5,1,   260.3,2,    34.9659,1,    34.9710,2
32OC20051109,      CLMD1,     001,          1,          6,          6,2,20051110,       1207,  39.797167,-66.9858333,          0,  1207.5,   4.0740,    261.7,1,   264.3,2,    34.9556,1,    34.9630,2
32OC20051109,      CLMD1,     001,          1,          5,          5,2,20051110,       1207,  39.797167,-66.9858333,          0,  1406.3,   3.8171,    267.7,1,   273.2,4,    34.9350,1,     -999.0,9
32OC20051109,      CLMD1,     001,          1,          4,          4,2,20051110,       1207,  39.797167,-66.9858333,          0,  1701.7,   3.6234,    270.8,1,   270.1,2,    34.9331,1,    34.9395,2
32OC20051109,      CLMD1,     001,          1,          3,          3,2,20051110,       1207,  39.797167,-66.9858333,          0,  1998.9,   3.4030,    274.0,1,   273.0,2,    34.9288,1,    34.9332,2
32OC20051109,      CLMD1,     001,          1,          2,          2,2,20051110,       1207,  39.797167,-66.9858333,          0,  2501.4,   3.0439,    275.7,1,   272.6,2,    34.9262,1,    34.9312,2
32OC20051109,      CLMD1,     001,          1,          1,          1,2,20051110,       1207,  39.797167,-66.9858333,          0,  2968.4,   2.5660,    284.4,1,   276.5,2,    34.9048,1,    34.9107,2
32OC20051109,      CLMD1,     002,          1,         23,         23,2,20051111,       0022,  39.136500,-66.0131667,          0,     4.2,  20.1218,    210.6,1,   228.0,2,    35.7124,1,    35.7158,2
32OC20051109,      CLMD1,     002,          1,         22,         22,2,20051111,       0022,  39.136500,-66.0131667,          0,    25.1,  20.1325,    210.6,1,   229.6,2,    35.7085,1,    35.7144,2
32OC20051109,      CLMD1,     002,          1,         21,         21,2,20051111,       0022,  39.136500,-66.0131667,          0,    50.1,  19.8409,    211.1,1,   227.7,2,    35.6975,1,    35.6913,2
32OC20051109,      CLMD1,     002,          1,         20,         20,2,20051111,       0022,  39.136500,-66.0131667,          0,    73.8,  19.5416,    174.7,1,   182.5,2,    36.0879,1,    36.1829,2
32OC20051109,      CLMD1,     002,          1,         19,         19,2,20051111,       0022,  39.136500,-66.0131667,          0,    99.4,  17.7917,    149.1,1,   154.1,2,    36.2658,1,    36.2517,2
32OC20051109,      CLMD1,     002,          1,         18,         18,2,20051111,       0022,  39.136500,-66.0131667,          0,   148.7,  16.2450,    167.4,1,   171.7,2,    36.2086,1,    36.2149,2
32OC20051109,      CLMD1,     002,          1,         17,         17,2,20051111,       0022,  39.136500,-66.0131667,          0,   201.7,  13.6120,    154.6,1,   155.2,2,    35.7185,1,    35.7251,2
32OC20051109,      CLMD1,     002,          1,         16,         16,2,20051111,       0022,  39.136500,-66.0131667,          0,   253.5,  11.9996,    151.6,1,   150.5,2,    35.5236,1,    35.5304,2
32OC20051109,      CLMD1,     002,          1,         15,         15,2,20051111,       0022,  39.136500,-66.0131667,          0,   300.5,  11.0663,    148.3,1,   144.4,2,    35.4180,1,    35.4312,2
32OC20051109,      CLMD1,     002,          1,         14,         14,2,20051111,       0022,  39.136500,-66.0131667,          0,   351.0,  10.0593,    146.9,1,   141.3,2,    35.2887,1,    35.2980,2
32OC20051109,      CLMD1,     002,          1,         13,         13,2,20051111,       0022,  39.136500,-66.0131667,          0,   404.6,   8.9011,    155.9,1,   150.5,2,    35.1680,1,    35.1711,2
32OC20051109,      CLMD1,     002,          1,         12,         12,2,20051111,       0022,  39.136500,-66.0131667,          0,   507.2,   7.0087,    186.7,1,   184.5,2,    35.0612,1,    35.0692,2
32OC20051109,      CLMD1,     002,          1,         11,         11,2,20051111,       0022,  39.136500,-66.0131667,          0,   607.1,   5.8649,    213.4,1,   212.5,2,    35.0318,1,    35.0367,2
32OC20051109,      CLMD1,     002,          1,         10,         10,2,20051111,       0022,  39.136500,-66.0131667,          0,   709.1,   5.2022,    231.2,1,   231.5,2,    35.0251,1,    35.0309,2
32OC20051109,      CLMD1,     002,          1,          9,          9,2,20051111,       0022,  39.136500,-66.0131667,          0,   814.9,   4.8032,    241.7,1,   243.2,2,    35.0045,1,    35.0108,2
32OC20051109,      CLMD1,     002,          1,          8,          8,3,20051111,       0022,  39.136500,-66.0131667,          0,   906.6,   4.6045,    247.0,1,   232.5,4,    34.9937,1,    35.6367,4
32OC20051109,      CLMD1,     002,          1,          7,          7,2,20051111,       0022,  39.136500,-66.0131667,          0,  1009.9,   4.3848,    253.0,1,   255.2,2,    34.9790,1,    34.9834,2
32OC20051109,      CLMD1,     002,          1,          6,          6,2,20051111,       0022,  39.136500,-66.0131667,          0,  1210.5,   4.1836,    258.2,1,   259.6,2,    34.9756,1,    34.9783,2
32OC20051109,      CLMD1,     002,          1,          5,          5,2,20051111,       0022,  39.136500,-66.0131667,          0,  1407.0,   3.8764,    263.5,1,   264.7,2,    34.9555,1,    34.9606,2
32OC20051109,      CLMD1,     002,          1,          4,          4,2,20051111,       0022,  39.136500,-66.0131667,          0,  1705.1,   3.6043,    268.1,1,   268.1,2,    34.9415,1,    34.9466,2
32OC20051109,      CLMD1,     002,          1,          3,          3,2,20051111,       0022,  39.136500,-66.0131667,          0,  2003.2,   3.3924,    270.0,1,   268.3,2,    34.9394,1,    34.9440,2
32OC20051109,      CLMD1,     002,          1,          2,          2,2,20051111,       0022,  39.136500,-66.0131667,          0,  2494.5,   3.0770,    271.2,1,   262.3,2,    34.9401,1,    34.9438,2
32OC20051109,      CLMD1,     002,          1,          1,          1,2,20051111,       0022,  39.136500,-66.0131667,          0,  2818.5,   2.7476,    277.7,1,   268.0,2,    34.9185,1,    34.9255,2
32OC20051109,      CLMD1,     003,          1,         23,         23,2,20051112,       2156,  38.303500,-64.8278333,          0,     2.3,  21.7179,    204.3,1,   242.1,2,    35.5615,1,    35.5662,2
32OC20051109,      CLMD1,     003,          1,         22,         22,2,20051112,       2156,  38.303500,-64.8278333,          0,    24.6,  21.7224,    204.1,1,   231.1,2,    35.5603,1,    35.5743,2
32OC20051109,      CLMD1,     003,          1,         21,         21,2,20051112,       2156,  38.303500,-64.8278333,          0,    41.2,  21.2378,    206.0,1,   230.1,2,    35.4887,1,    35.4976,2
32OC20051109,      CLMD1,     003,          1,         20,         20,2,20051112,       2156,  38.303500,-64.8278333,          0,    49.5,  21.1887,    206.2,1,   227.9,2,    35.5384,1,    35.5411,2
32OC20051109,      CLMD1,     003,          1,         19,         19,2,20051112,       2156,  38.303500,-64.8278333,          0,    59.0,  21.1854,    205.9,1,   232.8,2,    35.5540,1,    35.5666,2
32OC20051109,      CLMD1,     003,          1,         18,         18,2,20051112,       2156,  38.303500,-64.8278333,          0,    75.2,  21.1406,    205.3,1,   237.7,2,    35.5586,1,    35.5675,2
32OC20051109,      CLMD1,     003,          1,         17,         17,2,20051112,       2156,  38.303500,-64.8278333,          0,   100.5,  19.5877,    202.8,1,   224.9,2,    35.2385,1,    35.2439,2
32OC20051109,      CLMD1,     003,          1,         16,         16,2,20051112,       2156,  38.303500,-64.8278333,          0,   124.8,  16.2872,    168.9,1,   177.3,2,    35.6144,1,    35.6114,2
32OC20051109,      CLMD1,     003,          1,         15,         15,2,20051112,       2156,  38.303500,-64.8278333,          0,   150.0,  15.8572,    161.9,1,   167.4,2,    35.8560,1,    35.8467,2
32OC20051109,      CLMD1,     003,          1,         14,         14,2,20051112,       2156,  38.303500,-64.8278333,          0,   175.9,  15.2466,    164.9,1,   172.3,2,    35.8515,1,    35.8713,2
32OC20051109,      CLMD1,     003,          1,         13,         13,2,20051112,       2156,  38.303500,-64.8278333,          0,   225.8,  14.1790,    159.9,1,   163.3,2,    35.8204,1,    35.8256,2
32OC20051109,      CLMD1,     003,          1,         12,         12,2,20051112,       2156,  38.303500,-64.8278333,          0,   304.8,  12.1417,    171.8,1,   175.3,2,    35.5286,1,    35.5351,2
32OC20051109,      CLMD1,     003,          1,         11,         11,2,20051112,       2156,  38.303500,-64.8278333,          0,   407.4,   9.8225,    146.6,1,   143.5,2,    35.2568,1,    35.2583,2
32OC20051109,      CLMD1,     003,          1,         10,         10,2,20051112,       2156,  38.303500,-64.8278333,          0,   508.3,   7.8222,    169.0,1,   166.2,2,    35.1062,1,    35.1128,2
32OC20051109,      CLMD1,     003,          1,          9,          9,2,20051112,       2156,  38.303500,-64.8278333,          0,   634.8,   5.9391,    210.1,1,   210.8,2,    35.0258,1,    35.0329,2
32OC20051109,      CLMD1,     003,          1,          8,          8,4,20051112,       2156,  38.303500,-64.8278333,          0,   755.4,   5.1371,    232.0,1,  -999.0,9,    35.0054,1,     -999.0,9
32OC20051109,      CLMD1,     003,          1,          7,          7,2,20051112,       2156,  38.303500,-64.8278333,          0,   884.5,   4.6704,    244.8,1,   249.8,2,    34.9880,1,    34.9963,2
32OC20051109,      CLMD1,     003,          1,          6,          6,2,20051112,       2156,  38.303500,-64.8278333,          0,  1002.7,   4.4094,    251.8,1,   256.4,2,    34.9746,1,    34.9791,2
32OC20051109,      CLMD1,     003,          1,          5,          5,2,20051112,       2156,  38.303500,-64.8278333,          0,  1254.7,   4.1399,    258.2,1,   263.5,2,    34.9669,1,    34.9724,2
32OC20051109,      CLMD1,     003,          1,          4,          4,2,20051112,       2156,  38.303500,-64.8278333,          0,  1502.4,   3.9156,    263.4,1,   266.9,2,    34.9564,1,    34.9616,2
32OC20051109,      CLMD1,     003,          1,          3,          3,2,20051112,       2156,  38.303500,-64.8278333,          0,  1751.7,   3.6789,    268.5,1,   270.1,2,    34.9418,1,    34.9503,2
32OC20051109,      CLMD1,     003,          1,          2,          2,2,20051112,       2156,  38.303500,-64.8278333,          0,  1961.3,   3.4930,    272.4,1,   272.7,2,    34.9325,1,    34.9472,2
32OC20051109,      CLMD1,     003,          1,          1,          1,9,20051112,       2156,  38.303500,-64.8278333,          0,  1962.4,   3.4905,    272.4,1,  -999.0,9,    34.9317,1,     -999.0,9
32OC20051109,      CLMD1,     004,          1,         23,         23,2,20051114,       0729,  37.765667,-63.5021667,          0,     2.1,  22.9867,    198.0,1,   214.8,2,    36.4153,1,    36.4205,2
32OC20051109,      CLMD1,     004,          1,         22,         22,2,20051114,       0729,  37.765667,-63.5021667,          0,    24.5,  22.7251,    199.0,1,   213.8,2,    36.4718,1,    36.4780,2
32OC20051109,      CLMD1,     004,          1,         21,         21,3,20051114,       0729,  37.765667,-63.5021667,          0,    48.9,  22.7148,    198.3,1,   213.9,4,    36.4941,1,    36.4984,4
32OC20051109,      CLMD1,     004,          1,         20,         20,2,20051114,       0729,  37.765667,-63.5021667,          0,    75.5,  22.4607,    199.5,1,   215.3,2,    36.5514,1,    36.5558,2
32OC20051109,      CLMD1,     004,          1,         19,         19,2,20051114,       0729,  37.765667,-63.5021667,          0,   100.1,  22.4660,    198.5,1,   214.3,2,    36.5611,1,    36.5663,2
32OC20051109,      CLMD1,     004,          1,         18,         18,2,20051114,       0729,  37.765667,-63.5021667,          0,   125.2,  21.7694,    172.0,1,   183.0,2,    36.8615,1,    36.8661,2
32OC20051109,      CLMD1,     004,          1,         17,         17,2,20051114,       0729,  37.765667,-63.5021667,          0,   148.6,  20.7161,    173.6,1,   183.0,2,    36.7918,1,    36.7965,2
32OC20051109,      CLMD1,     004,          1,         16,         16,2,20051114,       0729,  37.765667,-63.5021667,          0,   174.6,  19.9687,    189.0,1,   199.1,2,    36.7127,1,    36.7184,2
32OC20051109,      CLMD1,     004,          1,         15,         15,2,20051114,       0729,  37.765667,-63.5021667,          0,   200.3,  19.4142,    190.3,1,   200.5,2,    36.6788,1,    36.6862,2
32OC20051109,      CLMD1,     004,          1,         14,         14,2,20051114,       0729,  37.765667,-63.5021667,          0,   248.7,  18.7935,    187.3,1,   196.2,2,    36.6145,1,    36.6203,2
32OC20051109,      CLMD1,     004,          1,         13,         13,2,20051114,       0729,  37.765667,-63.5021667,          0,   300.9,  18.3879,    184.1,1,   192.0,2,    36.5635,1,    36.5691,2
32OC20051109,      CLMD1,     004,          1,         12,         12,2,20051114,       0729,  37.765667,-63.5021667,          0,   374.0,  17.7804,    180.9,1,   187.5,2,    36.4719,1,    36.4804,2
32OC20051109,      CLMD1,     004,          1,         11,         11,2,20051114,       0729,  37.765667,-63.5021667,          0,   450.5,  16.9554,    178.8,1,   184.5,2,    36.3378,1,    36.3469,2
32OC20051109,      CLMD1,     004,          1,         10,         10,2,20051114,       0729,  37.765667,-63.5021667,          0,   524.3,  15.7712,    176.8,1,   179.6,2,    36.1362,1,    36.1427,2
32OC20051109,      CLMD1,     004,          1,          9,          9,2,20051114,       0729,  37.765667,-63.5021667,          0,   599.4,  13.9903,    166.7,1,   165.9,2,    35.8374,1,    35.8457,2
32OC20051109,      CLMD1,     004,          1,          8,          8,2,20051114,       0729,  37.765667,-63.5021667,          0,   700.3,  11.5982,    142.2,1,   135.7,2,    35.4621,1,    35.4700,2
32OC20051109,      CLMD1,     004,          1,          7,          7,2,20051114,       0729,  37.765667,-63.5021667,          0,   799.4,   9.5556,    156.3,1,   148.8,2,    35.2456,1,    35.2526,2
32OC20051109,      CLMD1,     004,          1,          6,          6,2,20051114,       0729,  37.765667,-63.5021667,          0,   898.7,   7.3407,    185.8,1,   178.3,2,    35.1014,1,    35.1116,2
32OC20051109,      CLMD1,     004,          1,          5,          5,2,20051114,       0729,  37.765667,-63.5021667,          0,   998.9,   6.0482,    213.2,1,   208.9,2,    35.0489,1,    35.0540,2
32OC20051109,      CLMD1,     004,          1,          4,          4,2,20051114,       0729,  37.765667,-63.5021667,          0,  1249.7,   4.7915,    246.6,1,   245.4,2,    35.0038,1,    35.0104,2
32OC20051109,      CLMD1,     004,          1,          3,          3,2,20051114,       0729,  37.765667,-63.5021667,          0,  1500.7,   4.1605,    262.4,1,   260.2,2,    34.9648,1,    34.9698,2
32OC20051109,      CLMD1,     004,          1,          2,          2,2,20051114,       0729,  37.765667,-63.5021667,          0,  1751.3,   3.8871,    268.3,1,   263.1,2,    34.9536,1,    34.9590,2
32OC20051109,      CLMD1,     004,          1,          1,          1,2,20051114,       0729,  37.765667,-63.5021667,          0,  2001.3,   3.6166,    274.0,1,   269.1,2,    34.9407,1,    34.9472,2