BOTTLE,20221215CCHSIOENA
EXPOCODE,SECT_ID,STNNBR,CASTNO,SAMPNO,BTLNBR,BTLNBR_FLAG_W,DATE,TIME,LATITUDE,LONGITUDE,DEPTH,CTDPRS,CTDTMP,CTDOXY,CTDOXY_FLAG_W,OXYGEN,OXYGEN_FLAG_W,CTDSAL,CTDSAL_FLAG_W,SALNTY,SALNTY_FLAG_W
,,,,,,,,,,,METERS,DBAR,ITS-90,UMOL/KG,,UMOL/KG,,PSU,,PSU,
32OC20051109,      CLMD1,     005,          1,         23,         23,2,20051114,       1546,  37.205833,-62.2801667,          0,     3.8,  22.7905,    200.5,1,   214.8,2,    36.0185,1,    36.0229,2
32OC20051109,      CLMD1,     005,          1,         22,         22,2,20051114,       1546,  37.205833,-62.2801667,          0,    23.9,  22.9657,    199.2,1,   213.5,2,    36.1338,1,    36.1388,2
32OC20051109,      CLMD1,     005,          1,         21,         21,3,20051114,       1546,  37.205833,-62.2801667,          0,    48.7,  23.1137,    197.9,1,  -999.0,9,    36.2101,1,     -999.0,9
32OC20051109,      CLMD1,     005,          1,         20,         20,2,20051114,       1546,  37.205833,-62.2801667,          0,    68.2,  23.1998,    197.0,1,   210.7,2,    36.2645,1,    36.2688,2
32OC20051109,      CLMD1,     005,          1,         19,         19,2,20051114,       1546,  37.205833,-62.2801667,          0,    99.3,  22.7892,    198.5,1,   212.8,2,    36.4682,1,    36.4746,2
32OC20051109,      CLMD1,     005,          1,         18,         18,2,20051114,       1546,  37.205833,-62.2801667,          0,   125.7,  23.0514,    182.4,1,   195.7,2,    36.7137,1,    36.7145,2
32OC20051109,      CLMD1,     005,          1,         17,         17,2,20051114,       1546,  37.205833,-62.2801667,          0,   150.8,  21.1074,    188.1,1,   199.3,2,    36.6774,1,    36.6864,2
32OC20051109,      CLMD1,     005,          1,         16,         16,2,20051114,       1546,  37.205833,-62.2801667,          0,   175.5,  19.6869,    204.8,1,   217.6,2,    36.5687,1,    36.5790,2
32OC20051109,      CLMD1,     005,          1,         15,         15,2,20051114,       1546,  37.205833,-62.2801667,          0,   199.5,  19.0137,    191.9,1,   202.5,2,    36.5891,1,    36.5991,2
32OC20051109,      CLMD1,     005,          1,         14,         14,2,20051114,       1546,  37.205833,-62.2801667,          0,   250.5,  17.8077,    172.7,1,   179.2,2,    36.4605,1,    36.4669,2
32OC20051109,      CLMD1,     005,          1,         13,         13,2,20051114,       1546,  37.205833,-62.2801667,          0,   300.7,  16.4365,    162.6,1,   166.8,2,    36.2317,1,    36.2335,2
32OC20051109,      CLMD1,     005,          1,         12,         12,2,20051114,       1546,  37.205833,-62.2801667,          0,   377.5,  14.3962,    169.9,1,   172.0,2,    35.8968,1,    35.9059,2
32OC20051109,      CLMD1,     005,          1,         11,         11,2,20051114,       1546,  37.205833,-62.2801667,          0,   451.5,  13.0048,    167.2,1,   167.5,2,    35.6762,1,    35.6901,2
32OC20051109,      CLMD1,     005,          1,         10,         10,2,20051114,       1546,  37.205833,-62.2801667,          0,   528.7,  11.5434,    157.3,1,   156.1,2,    35.4787,1,    35.5018,2
32OC20051109,      CLMD1,     005,          1,          9,          9,2,20051114,       1546,  37.205833,-62.2801667,          0,   603.4,  10.0824,    154.1,1,   149.1,2,    35.3034,1,    35.3108,2
32OC20051109,      CLMD1,     005,          1,          8,          8,2,20051114,       1546,  37.205833,-62.2801667,          0,   704.5,   7.9563,    169.1,1,   162.8,2,    35.1197,1,    35.1293,2
32OC20051109,      CLMD1,     005,          1,          7,          7,2,20051114,       1546,  37.205833,-62.2801667,          0,   800.4,   6.6657,    196.9,1,   193.9,2,    35.0639,1,    35.0721,2
32OC20051109,      CLMD1,     005,          1,          6,          6,2,20051114,       1546,  37.205833,-62.2801667,          0,   906.4,   5.6324,    222.1,1,   219.6,2,    35.0292,1,    35.0420,2
32OC20051109,      CLMD1,     005,          1,          5,          5,2,20051114,       1546,  37.205833,-62.2801667,          0,  1003.6,   5.0099,    238.5,1,   237.3,2,    35.0035,1,    35.0097,2
32OC20051109,      CLMD1,     005,          1,          4,          4,2,20051114,       1546,  37.205833,-62.2801667,          0,  1252.0,   4.4574,    254.2,1,   252.3,2,    34.9924,1,    34.9994,2
32OC20051109,      CLMD1,     005,          1,          3,          3,2,20051114,       1546,  37.205833,-62.2801667,          0,  1496.8,   4.0418,    263.4,1,   262.8,2,    34.9634,1,    34.9693,2
32OC20051109,      CLMD1,     005,          1,          2,          2,2,20051114,       1546,  37.205833,-62.2801667,          0,  1748.2,   3.8318,    268.5,1,   266.3,2,    34.9521,1,    34.9588,2
32OC20051109,      CLMD1,     005,          1,          1,          1,2,20051114,       1546,  37.205833,-62.2801667,          0,  1998.4,   3.6088,    273.3,1,   267.7,2,    34.9433,1,    34.9496,2
32OC20051109,      CLMD1,     006,          1,         23,         23,2,20051114,       2315,  36.667667,-61.2290000,          0,     2.6,  22.7462,    201.7,1,   221.2,2,    36.4774,1,    36.4847,2
32OC20051109,      CLMD1,     006,          1,         22,         22,2,20051114,       2315,  36.667667,-61.2290000,          0,    25.3,  22.7525,    202.0,1,   220.5,2,    36.4781,1,    36.4851,2
32OC20051109,      CLMD1,     006,          1,         21,         21,2,20051114,       2315,  36.667667,-61.2290000,          0,    50.5,  22.7536,    201.3,1,   220.5,2,    36.4778,1,    36.4881,2
32OC20051109,      CLMD1,     006,          1,         20,         20,2,20051114,       2315,  36.667667,-61.2290000,          0,    76.0,  22.7611,    201.3,1,   220.2,2,    36.4924,1,    36.4967,2
32OC20051109,      CLMD1,     006,          1,         19,         19,2,20051114,       2315,  36.667667,-61.2290000,          0,   100.5,  20.9516,    197.7,1,   212.2,2,    36.6945,1,    36.7027,2
32OC20051109,      CLMD1,     006,          1,         18,         18,2,20051114,       2315,  36.667667,-61.2290000,          0,   150.3,  19.2940,    200.1,1,   212.0,2,    36.6445,1,    36.6541,2
32OC20051109,      CLMD1,     006,          1,         17,         17,2,20051114,       2315,  36.667667,-61.2290000,          0,   201.5,  18.6989,    194.9,1,   203.0,2,    36.6197,1,    36.6298,2
32OC20051109,      CLMD1,     006,          1,         16,         16,2,20051114,       2315,  36.667667,-61.2290000,          0,   250.7,  18.4688,    199.4,1,   207.6,2,    36.6071,1,    36.6152,2
32OC20051109,      CLMD1,     006,          1,         15,         15,2,20051114,       2315,  36.667667,-61.2290000,          0,   299.7,  18.2817,    201.6,1,   210.8,2,    36.5920,1,    36.5981,2
32OC20051109,      CLMD1,     006,          1,         14,         14,2,20051114,       2315,  36.667667,-61.2290000,          0,   350.4,  18.1477,    202.6,1,   210.8,2,    36.5740,1,    36.5832,2
32OC20051109,      CLMD1,     006,          1,         13,         13,2,20051114,       2315,  36.667667,-61.2290000,          0,   400.0,  18.0320,    201.9,1,   210.8,2,    36.5566,1,    36.5641,2
32OC20051109,      CLMD1,     006,          1,         12,         12,2,20051114,       2315,  36.667667,-61.2290000,          0,   501.4,  17.0937,    185.1,1,   190.5,2,    36.3653,1,    36.3719,2
32OC20051109,      CLMD1,     006,          1,         11,         11,2,20051114,       2315,  36.667667,-61.2290000,          0,   600.3,  15.7358,    180.3,1,   183.4,2,    36.1280,1,    36.1372,2
32OC20051109,      CLMD1,     006,          1,         10,         10,2,20051114,       2315,  36.667667,-61.2290000,          0,   700.4,  13.8283,    174.0,1,   175.2,2,    35.8053,1,    35.8161,2
32OC20051109,      CLMD1,     006,          1,          9,          9,2,20051114,       2315,  36.667667,-61.2290000,          0,   799.8,  11.8154,    156.1,1,   149.7,2,    35.5081,1,    35.5162,2
32OC20051109,      CLMD1,     006,          1,          8,          8,2,20051114,       2315,  36.667667,-61.2290000,          0,   901.9,   9.4857,    154.7,1,   146.8,2,    35.2329,1,    35.2422,2
32OC20051109,      CLMD1,     006,          1,          7,          7,2,20051114,       2315,  36.667667,-61.2290000,          0,  1000.5,   7.8737,    180.4,1,   173.6,2,    35.1450,1,    35.1504,2
32OC20051109,      CLMD1,     006,          1,          6,          6,2,20051114,       2315,  36.667667,-61.2290000,          0,  1201.1,   6.0067,    219.5,1,   215.2,2,    35.1064,1,    35.1177,2
32OC20051109,      CLMD1,     006,          1,          5,          5,2,20051114,       2315,  36.667667,-61.2290000,          0,  1399.6,   4.9507,    245.7,1,   244.3,2,    35.0397,1,    35.0475,2
32OC20051109,      CLMD1,     006,          1,          4,          4,2,20051114,       2315,  36.667667,-61.2290000,          0,  1700.9,   4.1677,    262.3,1,   259.8,2,    34.9756,1,    34.9831,2
32OC20051109,      CLMD1,     006,          1,          3,          3,2,20051114,       2315,  36.667667,-61.2290000,          0,  1994.2,   3.8024,    269.6,1,   266.2,2,    34.9520,1,    34.9606,2
32OC20051109,      CLMD1,     006,          1,          2,          2,2,20051114,       2315,  36.667667,-61.2290000,          0,  2501.1,   3.4133,    274.5,1,   267.8,2,    34.9421,1,    34.9497,2
32OC20051109,      CLMD1,     006,          1,          1,          1,2,20051114,       2315,  36.667667,-61.2290000,          0,  3016.6,   3.0465,    277.0,1,   265.0,2,    34.9378,1,    34.9454,2
32OC20051109,      CLMD1,     007,          1,         23,         23,2,20051115,       0928,  36.011000,-60.2196667,          0,     2.3,  22.8334,    202.0,1,   213.9,2,    36.4279,1,    36.4351,2
32OC20051109,      CLMD1,     007,          1,         22,         22,2,20051115,       0928,  36.011000,-60.2196667,          0,    25.7,  22.8268,    202.0,1,   214.5,2,    36.4282,1,    36.4353,2
32OC20051109,      CLMD1,     007,          1,         21,         21,2,20051115,       0928,  36.011000,-60.2196667,          0,    41.3,  22.8261,    202.2,1,   215.8,2,    36.4280,1,    36.4355,2
32OC20051109,      CLMD1,     007,          1,         20,         20,2,20051115,       0928,  36.011000,-60.2196667,          0,    50.0,  22.8227,    202.0,1,   215.7,2,    36.4286,1,    36.4357,2
32OC20051109,      CLMD1,     007,          1,         19,         19,2,20051115,       0928,  36.011000,-60.2196667,          0,    60.2,  22.8229,    202.1,1,   216.9,2,    36.4295,1,    36.4367,2
32OC20051109,      CLMD1,     007,          1,         18,         18,2,20051115,       0928,  36.011000,-60.2196667,          0,    75.4,  22.8334,    200.5,1,   213.5,2,    36.4517,1,    36.4647,2
32OC20051109,      CLMD1,     007,          1,         17,         17,2,20051115,       0928,  36.011000,-60.2196667,          0,    99.5,  21.6829,    196.3,1,   206.7,2,    36.6968,1,    36.7000,2
32OC20051109,      CLMD1,     007,          1,         16,         16,2,20051115,       0928,  36.011000,-60.2196667,          0,   126.0,  20.6174,    192.1,1,   201.5,2,    36.6859,1,    36.6926,2
32OC20051109,      CLMD1,     007,          1,         15,         15,2,20051115,       0928,  36.011000,-60.2196667,          0,   148.7,  19.8760,    191.4,1,   199.6,2,    36.6901,1,    36.7007,2
32OC20051109,      CLMD1,     007,          1,         14,         14,2,20051115,       0928,  36.011000,-60.2196667,          0,   174.9,  19.3163,    194.3,1,   202.3,2,    36.6583,1,    36.6666,2
32OC20051109,      CLMD1,     007,          1,         13,         13,2,20051115,       0928,  36.011000,-60.2196667,          0,   200.4,  19.0017,    195.3,1,   203.7,2,    36.6398,1,    36.6477,2
32OC20051109,      CLMD1,     007,          1,         12,         12,2,20051115,       0928,  36.011000,-60.2196667,          0,   349.2,  18.2002,    204.0,1,   212.1,2,    36.5792,1,    36.5864,2
32OC20051109,      CLMD1,     007,          1,         11,         11,2,20051115,       0928,  36.011000,-60.2196667,          0,   700.4,  14.6852,    183.9,1,   185.4,2,    35.9428,1,    35.9516,2
32OC20051109,      CLMD1,     007,          1,         10,         10,2,20051115,       0928,  36.011000,-60.2196667,          0,   950.7,   9.2486,    161.4,1,   151.9,2,    35.2118,1,    35.2173,2
32OC20051109,      CLMD1,     007,          1,          9,          9,2,20051115,       0928,  36.011000,-60.2196667,          0,  1200.9,   5.7003,    225.2,1,   221.0,2,    35.0514,1,    35.0625,2
32OC20051109,      CLMD1,     007,          1,          8,          8,2,20051115,       0928,  36.011000,-60.2196667,          0,  1499.7,   4.4414,    257.3,1,   254.5,2,    34.9851,1,    34.9929,2
32OC20051109,      CLMD1,     007,          1,          7,          7,2,20051115,       0928,  36.011000,-60.2196667,          0,  2000.2,   3.7743,    270.9,1,   267.4,2,    34.9471,1,    34.9551,2
32OC20051109,      CLMD1,     007,          1,          6,          6,2,20051115,       0928,  36.011000,-60.2196667,          0,  2500.1,   3.4155,    274.4,1,   268.2,2,    34.9440,1,    34.9535,2
32OC20051109,      CLMD1,     007,          1,          5,          5,2,20051115,       0928,  36.011000,-60.2196667,          0,  3000.1,   3.0317,    276.3,1,   264.4,2,    34.9363,1,    34.9444,2
32OC20051109,      CLMD1,     007,          1,          4,          4,2,20051115,       0928,  36.011000,-60.2196667,          0,  3498.9,   2.5906,    283.9,1,   268.6,2,    34.9111,1,    34.9182,2
32OC20051109,      CLMD1,     007,          1,          3,          3,2,20051115,       0928,  36.011000,-60.2196667,          0,  3997.1,   2.3545,    288.2,1,   273.0,2,    34.8943,1,    34.9013,2
32OC20051109,      CLMD1,     007,          1,          2,          2,2,20051115,       0928,  36.011000,-60.2196667,          0,  4600.2,   2.2741,    292.4,1,   262.6,2,    34.8821,1,    34.8899,2
32OC20051109,      CLMD1,     007,          1,          1,          1,2,20051115,       0928,  36.011000,-60.2196667,          0,  4918.9,   2.2774,    294.8,1,   258.5,2,    34.8781,1,    34.8855,2
32OC20051109,      CLMD1,     008,          1,         23,         23,2,20051116,       0738,  37.282167,-57.9808333,          0,     2.3,  22.9627,    202.0,1,   213.7,2,    36.4498,1,    36.4570,2
32OC20051109,      CLMD1,     008,          1,         22,         22,2,20051116,       0738,  37.282167,-57.9808333,          0,    24.7,  22.9569,    202.1,1,   212.9,2,    36.4493,1,    36.4570,2
32OC20051109,      CLMD1,     008,          1,         21,         21,2,20051116,       0738,  37.282167,-57.9808333,          0,    50.3,  22.9463,    201.8,1,   213.3,2,    36.4483,1,    36.4556,2
32OC20051109,      CLMD1,     008,          1,         20,         20,2,20051116,       0738,  37.282167,-57.9808333,          0,    74.4,  22.8943,    200.0,1,   210.7,2,    36.4599,1,    36.4750,2
32OC20051109,      CLMD1,     008,          1,         19,         19,2,20051116,       0738,  37.282167,-57.9808333,          0,   100.7,  21.8236,    188.6,1,   198.0,2,    36.7526,1,    36.7373,2
32OC20051109,      CLMD1,     008,          1,         18,         18,2,20051116,       0738,  37.282167,-57.9808333,          0,   150.8,  20.2255,    189.3,1,   196.8,2,    36.6848,1,    36.6892,2
32OC20051109,      CLMD1,     008,          1,         17,         17,2,20051116,       0738,  37.282167,-57.9808333,          0,   200.8,  19.3341,    194.1,1,   201.3,2,    36.6519,1,    36.6602,2
32OC20051109,      CLMD1,     008,          1,         16,         16,2,20051116,       0738,  37.282167,-57.9808333,          0,   250.5,  18.7073,    197.3,1,   202.1,2,    36.6183,1,    36.6279,2
32OC20051109,      CLMD1,     008,          1,         15,         15,2,20051116,       0738,  37.282167,-57.9808333,          0,   300.1,  18.4457,    200.6,1,   204.1,2,    36.5990,1,    36.6052,2
32OC20051109,      CLMD1,     008,          1,         14,         14,2,20051116,       0738,  37.282167,-57.9808333,          0,   349.7,  18.2861,    202.3,1,   209.0,2,    36.5833,1,    36.5905,2
32OC20051109,      CLMD1,     008,          1,         13,         13,2,20051116,       0738,  37.282167,-57.9808333,          0,   399.9,  18.1789,    203.7,1,   209.5,2,    36.5736,1,    36.5800,2
32OC20051109,      CLMD1,     008,          1,         12,         12,2,20051116,       0738,  37.282167,-57.9808333,          0,   500.5,  17.9103,    203.2,1,   207.7,2,    36.5345,1,    36.5411,2
32OC20051109,      CLMD1,     008,          1,         11,         11,2,20051116,       0738,  37.282167,-57.9808333,          0,   601.1,  16.7469,    183.1,1,   184.9,2,    36.2914,1,    36.2985,2
32OC20051109,      CLMD1,     008,          1,         10,         10,2,20051116,       0738,  37.282167,-57.9808333,          0,   699.5,  15.0356,    184.9,1,   184.2,2,    36.0033,1,    36.0118,2
32OC20051109,      CLMD1,     008,          1,          9,          9,2,20051116,       0738,  37.282167,-57.9808333,          0,   801.2,  12.7643,    179.8,1,   175.2,2,    35.6348,1,    35.6413,2
32OC20051109,      CLMD1,     008,          1,          8,          8,2,20051116,       0738,  37.282167,-57.9808333,          0,   897.9,  10.7957,    160.9,1,   152.0,2,    35.3756,1,    35.3841,2
32OC20051109,      CLMD1,     008,          1,          7,          7,2,20051116,       0738,  37.282167,-57.9808333,          0,  1000.4,   8.9644,    171.5,1,   161.9,2,    35.2171,1,    35.2244,2
32OC20051109,      CLMD1,     008,          1,          6,          6,2,20051116,       0738,  37.282167,-57.9808333,          0,  1198.2,   6.1274,    217.3,1,   211.0,2,    35.0604,1,    35.0674,2
32OC20051109,      CLMD1,     008,          1,          5,          5,2,20051116,       0738,  37.282167,-57.9808333,          0,  1400.3,   4.9273,    247.4,1,   241.8,2,    35.0169,1,    35.0246,2
32OC20051109,      CLMD1,     008,          1,          4,          4,2,20051116,       0738,  37.282167,-57.9808333,          0,  1700.0,   4.1461,    266.1,1,   260.6,2,    34.9614,1,    34.9689,2
32OC20051109,      CLMD1,     008,          1,          3,          3,2,20051116,       0738,  37.282167,-57.9808333,          0,  2000.9,   3.8274,    273.0,1,   265.1,2,    34.9455,1,    34.9531,2
32OC20051109,      CLMD1,     008,          1,          2,          2,2,20051116,       0738,  37.282167,-57.9808333,          0,  2500.6,   3.4378,    280.7,1,   271.4,2,    34.9300,1,    34.9360,2
32OC20051109,      CLMD1,     008,          1,          1,          1,2,20051116,       0738,  37.282167,-57.9808333,          0,  3000.2,   3.1459,    282.2,1,   263.9,2,    34.9360,1,    34.9442,2