BOTTLE,20221103CCHSIOENA
EXPOCODE,SECT_ID,STNNBR,CASTNO,SAMPNO,BTLNBR,BTLNBR_FLAG_W,DATE,TIME,LATITUDE,LONGITUDE,DEPTH,CTDPRS,CTDTMP,CTDSAL,SALNTY,SALNTY_FLAG_W,CTDOXY,OXYGEN,OXYGEN_FLAG_W,REFTMP,REFTMP_FLAG_W
,,,,,,,,,,,METERS,DBAR,ITS-90,PSS-78,PSS-78,,UMOL/KG,UMOL/KG,,ITS-90,
  74JC20161110, SR01b,    21,  1,      1,      1,2,20161122,0827,-59.3339, -55.6511, 3768,   3814.7,   0.0839,  34.6605,  34.6625,2,    229.8,    230.3,2,   0.0837,2
  74JC20161110, SR01b,    21,  1,      2,      2,2,20161122,0827,-59.3339, -55.6511, 3768,   3774.7,   0.0844,  34.6609,  34.6605,2,    229.8,    230.4,2,   0.0833,2
  74JC20161110, SR01b,    21,  1,      3,      3,2,20161122,0827,-59.3339, -55.6511, 3768,   3539.6,   0.0932,  34.6628,  34.6637,2,    228.7,    229.2,2,   0.0927,2
  74JC20161110, SR01b,    21,  1,     16,     16,2,20161122,0827,-59.3339, -55.6511, 3768,   3045.5,   0.2030,  34.6689,  34.6684,2,    224.4,    224.2,2,   0.2036,2
  74JC20161110, SR01b,    21,  1,     17,     17,2,20161122,0827,-59.3339, -55.6511, 3768,   2639.5,   0.4639,  34.6995,  34.6994,2,    211.3,    210.6,2,   0.4648,2
  74JC20161110, SR01b,    21,  1,     18,     18,2,20161122,0827,-59.3339, -55.6511, 3768,   2130.8,   0.5813,  34.7042,  34.7035,2,    208.1,    208.6,2,   0.5819,2
  74JC20161110, SR01b,    21,  1,     19,     19,2,20161122,0827,-59.3339, -55.6511, 3768,   1625.7,   0.8806,  34.7125,  34.7128,2,    203.0,    202.3,2,   0.8854,2
  74JC20161110, SR01b,    21,  1,     20,     20,2,20161122,0827,-59.3339, -55.6511, 3768,   1167.6,   1.2349,  34.7207,  34.7207,2,    197.1,    196.7,2,   1.2372,2
  74JC20161110, SR01b,    21,  1,     21,     21,2,20161122,0827,-59.3339, -55.6511, 3768,    812.8,   1.6389,  34.7277,-999.0000,9,    188.9,   -999.0,9,   1.6412,2
  74JC20161110, SR01b,    21,  1,     22,     22,2,20161122,0827,-59.3339, -55.6511, 3768,    358.6,   2.0029,  34.6670,  34.6659,2,    176.0,    176.0,2,   1.9986,2
  74JC20161110, SR01b,    21,  1,     23,     23,2,20161122,0827,-59.3339, -55.6511, 3768,     76.7,  -0.4156,  34.0686,  34.0686,2,    301.0,    301.3,2,  -0.4171,2
  74JC20161110, SR01b,    21,  1,     24,     24,2,20161122,0827,-59.3339, -55.6511, 3768,     18.9,  -0.0147,  33.9066,  33.9067,2,    352.1,    352.3,2,  -0.0108,2
  74JC20161110, SR01b,    22,  1,      1,      1,2,20161122,1409,-59.6632, -55.4459, 3644,   3733.9,   0.0244,  34.6581,  34.6561,3,    231.3,    233.3,2,   0.0241,2
  74JC20161110, SR01b,    22,  1,      2,      2,2,20161122,1409,-59.6632, -55.4459, 3644,   3695.2,   0.0326,  34.6587,  34.6577,2,    231.1,    232.7,2,   0.0334,2
  74JC20161110, SR01b,    22,  1,      3,      3,2,20161122,1409,-59.6632, -55.4459, 3644,   3354.0,   0.1286,  34.6654,  34.6646,2,    226.7,    227.4,2,   0.1289,2
  74JC20161110, SR01b,    22,  1,      4,      4,2,20161122,1409,-59.6632, -55.4459, 3644,   2842.7,   0.3444,  34.6824,  34.6818,2,    218.1,    218.8,2,   0.3441,2
  74JC20161110, SR01b,    22,  1,      5,      5,2,20161122,1409,-59.6632, -55.4459, 3644,   2235.8,   0.5781,  34.6934,  34.6930,2,    211.5,    212.5,2,   0.5782,2
  74JC20161110, SR01b,    22,  1,      6,      6,2,20161122,1409,-59.6632, -55.4459, 3644,   1517.4,   1.0645,  34.7129,  34.7126,2,    201.2,    202.0,2,   1.0647,2
  74JC20161110, SR01b,    22,  1,      7,      7,2,20161122,1409,-59.6632, -55.4459, 3644,   1214.5,   1.3520,  34.7255,  34.7252,2,    194.5,    195.9,2,   1.3518,2
  74JC20161110, SR01b,    22,  1,      8,      8,2,20161122,1409,-59.6632, -55.4459, 3644,    812.5,   1.6977,  34.7120,  34.7114,2,    188.7,    188.5,2,   1.6999,2
  74JC20161110, SR01b,    22,  1,      9,      9,2,20161122,1409,-59.6632, -55.4459, 3644,    290.0,   1.8403,  34.5150,  34.4726,4,    186.6,    188.6,2,   1.7800,4
  74JC20161110, SR01b,    22,  1,     10,     10,2,20161122,1409,-59.6632, -55.4459, 3644,     73.6,  -0.5893,  33.9513,  33.9509,2,    336.1,    335.7,2,  -0.5839,2
  74JC20161110, SR01b,    22,  1,     11,     11,2,20161122,1409,-59.6632, -55.4459, 3644,     24.9,   0.0668,  33.8355,  33.8404,2,    354.5,    353.9,2,   0.0678,2
  74JC20161110, SR01b,    23,  1,      1,      1,2,20161122,2142,-59.9904, -55.2342, 3477,   3551.6,  -0.0654,  34.6553,  34.6552,2,    234.0,    235.8,2,  -0.0655,2
  74JC20161110, SR01b,    23,  1,      2,      2,2,20161122,2142,-59.9904, -55.2342, 3477,   3508.3,  -0.0579,  34.6558,  34.6553,2,    233.9,    234.6,2,  -0.0594,2
  74JC20161110, SR01b,    23,  1,      9,      9,2,20161122,2142,-59.9904, -55.2342, 3477,   2334.8,   0.3497,  34.6757,  34.6756,2,    218.3,    219.6,2,   0.3502,2
  74JC20161110, SR01b,    23,  1,     10,     10,2,20161122,2142,-59.9904, -55.2342, 3477,   2131.1,   0.4187,  34.6767,  34.6764,2,    217.5,    217.6,2,   0.4214,2
  74JC20161110, SR01b,    23,  1,     11,     11,2,20161122,2142,-59.9904, -55.2342, 3477,   2027.6,   0.4327,  34.6786,  34.6782,2,    216.8,    217.7,2,   0.4341,2
  74JC20161110, SR01b,    23,  1,     12,     12,2,20161122,2142,-59.9904, -55.2342, 3477,   1823.9,   0.5661,  34.6882,  34.6882,2,    213.0,    213.7,2,   0.5668,2
  74JC20161110, SR01b,    23,  1,     13,     13,2,20161122,2142,-59.9904, -55.2342, 3477,   1620.4,   0.7229,  34.6949,  34.6947,2,    209.3,    209.3,2,   0.7229,2
  74JC20161110, SR01b,    23,  1,     14,     14,2,20161122,2142,-59.9904, -55.2342, 3477,   1471.4,   0.8401,  34.7012,  34.7006,2,    206.3,    207.1,2,   0.8402,2
  74JC20161110, SR01b,    23,  1,     16,     16,2,20161122,2142,-59.9904, -55.2342, 3477,   1184.1,   0.9757,  34.6960,  34.6962,2,    206.1,    205.9,2,   0.9746,2
  74JC20161110, SR01b,    23,  1,     17,     17,2,20161122,2142,-59.9904, -55.2342, 3477,   1008.7,   1.3146,  34.7259,  34.7253,2,    194.8,    195.4,2,   1.3146,2
  74JC20161110, SR01b,    23,  1,     18,     18,2,20161122,2142,-59.9904, -55.2342, 3477,    909.9,   1.3911,  34.7220,  34.7234,2,    194.0,    194.0,2,   1.3883,2
  74JC20161110, SR01b,    23,  1,     19,     19,2,20161122,2142,-59.9904, -55.2342, 3477,    690.7,   1.5711,  34.7152,  34.7146,2,    190.4,    190.0,2,   1.5754,2
  74JC20161110, SR01b,    23,  1,     20,     20,2,20161122,2142,-59.9904, -55.2342, 3477,    546.9,   1.7338,  34.7013,  34.6997,2,    185.1,    185.5,2,   1.7573,2
  74JC20161110, SR01b,    23,  1,     21,     21,2,20161122,2142,-59.9904, -55.2342, 3477,    457.6,   1.8860,  34.6942,  34.6938,2,    179.6,    179.9,2,   1.8887,2
  74JC20161110, SR01b,    23,  1,     22,     22,2,20161122,2142,-59.9904, -55.2342, 3477,    306.3,   1.7141,  34.6069,  34.6058,2,    182.2,    182.3,2,-999.0000,9
  74JC20161110, SR01b,    23,  1,     23,     23,2,20161122,2142,-59.9904, -55.2342, 3477,     84.9,  -0.5409,  34.0559,  34.0541,2,    330.3,    331.0,2,-999.0000,9
  74JC20161110, SR01b,    23,  1,     24,     24,2,20161122,2142,-59.9904, -55.2342, 3477,     20.1,   0.0476,  33.9949,  33.9956,2,    355.4,    356.1,2,-999.0000,9
  74JC20161110, SR01b,    24,  1,      1,      1,2,20161123,0307,-60.3320, -55.0343, 3412,   3486.6,   0.0114,  34.6585,  34.6593,4,    230.6,    232.0,2,   0.0115,2
  74JC20161110, SR01b,    24,  1,      2,      2,2,20161123,0307,-60.3320, -55.0343, 3412,   3444.3,   0.0139,  34.6588,  34.6605,4,    230.4,    231.8,2,   0.0145,2
  74JC20161110, SR01b,    24,  1,      3,      3,2,20161123,0307,-60.3320, -55.0343, 3412,   2032.5,   0.3958,  34.6866,  34.6859,4,    216.6,    216.2,2,   0.3957,2
  74JC20161110, SR01b,    24,  1,      4,      4,2,20161123,0307,-60.3320, -55.0343, 3412,   1402.3,   0.5027,  34.6724,  34.6723,4,    220.6,    219.8,2,   0.5124,2
  74JC20161110, SR01b,    24,  1,      5,      5,2,20161123,0307,-60.3320, -55.0343, 3412,    915.1,   0.9385,  34.6973,  34.6986,4,    209.2,    206.4,2,   0.9384,2
  74JC20161110, SR01b,    24,  1,      6,      6,2,20161123,0307,-60.3320, -55.0343, 3412,    411.5,   0.4185,  34.5582,  34.5527,4,    247.3,    246.3,2,   0.0480,4
  74JC20161110, SR01b,    24,  1,      7,      7,2,20161123,0307,-60.3320, -55.0343, 3412,    237.7,  -0.3171,  34.4415,  34.4422,4,    291.5,    293.3,2,  -0.3165,2
  74JC20161110, SR01b,    24,  1,      8,      8,2,20161123,0307,-60.3320, -55.0343, 3412,    107.6,  -0.4107,  34.2877,  34.2864,4,    299.7,    300.1,2,  -0.4143,2
  74JC20161110, SR01b,    24,  1,      9,      9,2,20161123,0307,-60.3320, -55.0343, 3412,     86.1,  -0.2071,  34.2224,  34.2293,4,    330.5,    332.0,2,  -0.1534,4
  74JC20161110, SR01b,    24,  1,     10,     10,2,20161123,0307,-60.3320, -55.0343, 3412,     16.1,  -0.0478,  34.0751,  34.0743,4,    339.4,    342.1,2,  -0.0447,2
  74JC20161110, SR01b,    25,  1,      1,      1,2,20161123,0750,-60.6674, -54.8253, 3085,   3145.4,  -0.0144,  34.6585,  34.6612,2,    229.1,    231.4,2,  -0.0151,2
  74JC20161110, SR01b,    25,  1,     12,     12,2,20161123,0750,-60.6674, -54.8253, 3085,   3104.9,  -0.0104,  34.6591,  34.6604,2,    228.5,    230.6,2,  -0.0100,2
  74JC20161110, SR01b,    25,  1,     13,     13,2,20161123,0750,-60.6674, -54.8253, 3085,   2541.4,   0.0679,  34.6650,  34.6660,2,    225.0,    227.7,2,   0.0697,2
  74JC20161110, SR01b,    25,  1,     14,     14,2,20161123,0750,-60.6674, -54.8253, 3085,   2052.0,   0.2485,  34.6778,  34.6792,2,    219.1,    219.9,2,   0.2506,2
  74JC20161110, SR01b,    25,  1,     15,     15,2,20161123,0750,-60.6674, -54.8253, 3085,   1929.3,   0.2678,  34.6789,  34.6784,2,    218.5,    219.5,2,   0.2794,2
  74JC20161110, SR01b,    25,  1,     16,     16,2,20161123,0750,-60.6674, -54.8253, 3085,   1218.9,   0.5759,  34.6829,  34.6857,2,    214.9,    214.5,2,   0.5779,2
  74JC20161110, SR01b,    25,  1,     17,     17,2,20161123,0750,-60.6674, -54.8253, 3085,    711.9,   1.1227,  34.7090,  34.7107,2,    202.5,    200.7,2,   1.1240,2
  74JC20161110, SR01b,    25,  1,     18,     18,2,20161123,0750,-60.6674, -54.8253, 3085,    509.5,   0.8782,  34.6615,  34.6693,2,    215.2,    212.9,2,   0.8755,2
  74JC20161110, SR01b,    25,  1,     19,     19,2,20161123,0750,-60.6674, -54.8253, 3085,    206.6,   0.5565,  34.5461,-999.0000,9,    237.5,   -999.0,9,   0.5539,2
  74JC20161110, SR01b,    25,  1,     20,     20,2,20161123,0750,-60.6674, -54.8253, 3085,    182.2,   0.3214,  34.5103,  34.5157,2,    245.9,    245.4,2,   0.2949,2
  74JC20161110, SR01b,    25,  1,     21,     21,2,20161123,0750,-60.6674, -54.8253, 3085,     40.2,  -0.0590,  34.2632,  34.2728,2,    312.1,    313.5,2,  -0.0465,2
  74JC20161110, SR01b,    25,  1,     22,     22,2,20161123,0750,-60.6674, -54.8253, 3085,     15.3,   0.1107,  34.0540,  34.0789,3,    341.5,    345.2,2,   0.1305,2
  74JC20161110, SR01b,    26,  1,      1,      1,2,20161123,2011,-60.7996, -54.7420, 2589,   2617.8,  -0.0131,  34.6606,  34.6652,2,    228.2,    232.1,2,-999.0000,9
  74JC20161110, SR01b,    26,  1,      2,      2,2,20161123,2011,-60.7996, -54.7420, 2589,   2577.3,  -0.0081,  34.6610,  34.6613,2,    228.0,    229.6,3,-999.0000,9
  74JC20161110, SR01b,    26,  1,      3,      3,2,20161123,2011,-60.7996, -54.7420, 2589,   2335.4,   0.0573,  34.6637,-999.0000,9,    226.3,    226.6,2,-999.0000,9
  74JC20161110, SR01b,    26,  1,      4,      4,2,20161123,2011,-60.7996, -54.7420, 2589,   2131.2,   0.1478,  34.6686,-999.0000,9,    223.4,    223.9,2,-999.0000,9
  74JC20161110, SR01b,    26,  1,      5,      5,2,20161123,2011,-60.7996, -54.7420, 2589,   2009.2,   0.1396,  34.6671,  34.6769,2,    224.1,    227.3,2,-999.0000,9
  74JC20161110, SR01b,    26,  1,      6,      6,2,20161123,2011,-60.7996, -54.7420, 2589,   1854.7,   0.2486,  34.6771,-999.0000,9,    219.6,    220.4,2,-999.0000,9
  74JC20161110, SR01b,    26,  1,      7,      7,2,20161123,2011,-60.7996, -54.7420, 2589,   1550.3,   0.2862,  34.6704,  34.6714,2,    221.7,    221.4,2,-999.0000,9
  74JC20161110, SR01b,    26,  1,      8,      8,2,20161123,2011,-60.7996, -54.7420, 2589,   1144.8,  -0.1230,  34.6142,-999.0000,9,    244.0,    245.6,2,-999.0000,9
  74JC20161110, SR01b,    26,  1,      9,      9,2,20161123,2011,-60.7996, -54.7420, 2589,    840.6,   0.7727,  34.6870,  34.6869,2,    213.6,    211.7,2,-999.0000,9
  74JC20161110, SR01b,    26,  1,     11,     11,2,20161123,2011,-60.7996, -54.7420, 2589,    638.5,   0.8280,  34.6796,-999.0000,9,    215.3,    212.5,2,-999.0000,9
  74JC20161110, SR01b,    26,  1,     12,     12,2,20161123,2011,-60.7996, -54.7420, 2589,    435.9,   0.5126,  34.6146,-999.0000,9,    234.2,    232.7,2,-999.0000,9
  74JC20161110, SR01b,    26,  1,     13,     13,2,20161123,2011,-60.7996, -54.7420, 2589,    233.7,   0.1297,  34.5093,  34.5136,2,    259.3,    260.0,2,-999.0000,9
  74JC20161110, SR01b,    26,  1,     14,     14,2,20161123,2011,-60.7996, -54.7420, 2589,    127.7,  -0.4112,  34.4259,-999.0000,9,    299.7,    301.1,2,-999.0000,9
  74JC20161110, SR01b,    26,  1,     15,     15,2,20161123,2011,-60.7996, -54.7420, 2589,     82.3,  -0.4864,  34.4002,  34.4016,3,    312.9,    314.9,2,-999.0000,9
  74JC20161110, SR01b,    26,  1,     16,     16,2,20161123,2011,-60.7996, -54.7420, 2589,     17.4,  -0.0623,  34.3318,  34.3367,2,    333.0,    328.2,2,-999.0000,9
  74JC20161110, SR01b,    27,  1,      1,      1,2,20161123,2252,-60.8334, -54.7210, 1708,   1748.2,   0.1045,  34.6455,  34.6491,4,    234.7,   -999.0,9,   0.1054,2
  74JC20161110, SR01b,    27,  1,      3,      3,2,20161123,2252,-60.8334, -54.7210, 1708,   1707.8,   0.0988,  34.6434,  34.6426,4,    235.3,   -999.0,9,   0.0962,2
  74JC20161110, SR01b,    27,  1,      5,      5,2,20161123,2252,-60.8334, -54.7210, 1708,   1610.6,   0.0830,  34.6406,-999.0000,9,    236.3,    235.1,2,   0.0825,2
  74JC20161110, SR01b,    27,  1,      7,      7,2,20161123,2252,-60.8334, -54.7210, 1708,   1305.3,   0.1218,  34.6432,  34.6431,4,    235.4,    233.0,2,   0.1231,2
  74JC20161110, SR01b,    27,  1,      9,      9,2,20161123,2252,-60.8334, -54.7210, 1708,   1001.1,   0.0852,  34.6368,-999.0000,9,    238.7,    234.9,2,   0.0847,2
  74JC20161110, SR01b,    27,  1,     11,     11,2,20161123,2252,-60.8334, -54.7210, 1708,    798.2,   0.1010,  34.6217,  34.6227,4,    244.0,    239.7,2,   0.0996,2
  74JC20161110, SR01b,    27,  1,     13,     13,2,20161123,2252,-60.8334, -54.7210, 1708,    596.2,  -0.3235,  34.5677,-999.0000,9,    266.8,    263.9,2,  -0.3229,2
  74JC20161110, SR01b,    27,  1,     15,     15,2,20161123,2252,-60.8334, -54.7210, 1708,    394.0,  -0.6056,  34.5141,  34.5145,4,    293.5,    289.6,2,  -0.6068,2
  74JC20161110, SR01b,    27,  1,     17,     17,2,20161123,2252,-60.8334, -54.7210, 1708,    247.7,   0.8630,  34.6006,  34.6034,2,    231.0,    220.2,3,   0.6428,4
  74JC20161110, SR01b,    27,  1,     19,     19,2,20161123,2252,-60.8334, -54.7210, 1708,    111.6,  -0.1182,  34.4495,  34.4517,2,    283.3,    277.1,2,  -0.1175,2
  74JC20161110, SR01b,    27,  1,     21,     21,2,20161123,2252,-60.8334, -54.7210, 1708,     71.6,  -0.3883,  34.3975,  34.3978,4,    311.4,    306.3,2,  -0.3905,2
  74JC20161110, SR01b,    27,  1,     23,     23,2,20161123,2252,-60.8334, -54.7210, 1708,     10.8,   0.2016,  34.2437,  34.2480,2,    340.5,    335.3,2,   0.2176,2
  74JC20161110, SR01b,    28,  1,      1,      1,2,20161124,0043,-60.8507, -54.7091,  961,    957.8,   0.0983,  34.6369,  34.6363,4,    236.6,    257.5,3,   0.0988,2
  74JC20161110, SR01b,    28,  1,      2,      2,2,20161124,0043,-60.8507, -54.7091,  961,    916.9,   0.0957,  34.6366,  34.6366,4,    236.7,    234.6,2,   0.0961,2
  74JC20161110, SR01b,    28,  1,      3,      3,2,20161124,0043,-60.8507, -54.7091,  961,    809.6,   0.0808,  34.6339,  34.6342,4,    237.8,    240.6,2,   0.0814,2
  74JC20161110, SR01b,    28,  1,      4,      4,2,20161124,0043,-60.8507, -54.7091,  961,    718.5,  -0.0360,  34.6113,  34.6096,4,    246.9,    246.7,2,  -0.0475,2
  74JC20161110, SR01b,    28,  1,      5,      5,2,20161124,0043,-60.8507, -54.7091,  961,    278.8,  -0.6921,  34.4901,  34.4923,4,    302.6,    302.1,2,  -0.6931,2
  74JC20161110, SR01b,    28,  1,      7,      7,2,20161124,0043,-60.8507, -54.7091,  961,     52.6,  -0.2320,  34.3762,  34.3801,4,    295.1,    291.6,2,  -0.2385,2
  74JC20161110, SR01b,    28,  1,      8,      8,2,20161124,0043,-60.8507, -54.7091,  961,     11.8,   0.2404,  34.1950,  34.2002,4,    336.4,    334.8,2,   0.2478,2
  74JC20161110, SR01b,    29,  1,     17,     17,2,20161124,0242,-60.9827, -54.6275,  585,    577.7,  -0.4021,  34.5893,  34.5869,4,    256.0,    256.9,2,  -0.4059,2
  74JC20161110, SR01b,    29,  1,     18,     18,2,20161124,0242,-60.9827, -54.6275,  585,    536.6,  -0.7126,  34.5548,  34.5548,4,    272.5,    274.7,2,  -0.7146,2
  74JC20161110, SR01b,    29,  1,     19,     19,2,20161124,0242,-60.9827, -54.6275,  585,    410.9,  -0.5674,  34.5455,-999.0000,9,    275.3,    277.4,2,  -0.5545,2
  74JC20161110, SR01b,    29,  1,     20,     20,2,20161124,0242,-60.9827, -54.6275,  585,    304.4,  -0.8824,  34.4851,  34.5456,4,    308.4,    310.1,2,  -0.8787,2
  74JC20161110, SR01b,    29,  1,     21,     21,2,20161124,0242,-60.9827, -54.6275,  585,    203.3,  -0.4694,  34.4681,  34.4865,4,    289.0,    291.4,2,  -0.4574,2
  74JC20161110, SR01b,    29,  1,     22,     22,2,20161124,0242,-60.9827, -54.6275,  585,     72.2,  -0.4254,  34.4113,  34.4681,4,    303.3,    303.8,2,  -0.4276,2
  74JC20161110, SR01b,    29,  1,     23,     23,2,20161124,0242,-60.9827, -54.6275,  585,     16.9,  -0.3156,  34.3544,  34.3567,4,    337.2,    335.8,2,  -0.3084,2
  74JC20161110, SR01b,    30,  1,      1,      1,2,20161124,0415,-61.0491, -54.5828,  355,    347.3,  -0.3729,  34.4909,  34.4899,4,    275.3,    278.9,2,  -0.3743,2
  74JC20161110, SR01b,    30,  1,      2,      2,2,20161124,0415,-61.0491, -54.5828,  355,    306.6,  -0.3596,  34.4847,  34.4862,2,    276.5,    279.2,2,  -0.3605,2
  74JC20161110, SR01b,    30,  1,      3,      3,2,20161124,0415,-61.0491, -54.5828,  355,    157.0,  -0.4199,  34.4371,  34.4397,2,    292.1,    295.7,2,  -0.4232,2
  74JC20161110, SR01b,    30,  1,      4,      4,2,20161124,0415,-61.0491, -54.5828,  355,     21.0,  -0.2230,  34.3691,  34.3697,2,    327.2,    327.2,2,  -0.2095,2