BOTTLE,20221103CCHSIOENA
EXPOCODE,SECT_ID,STNNBR,CASTNO,SAMPNO,BTLNBR,BTLNBR_FLAG_W,DATE,TIME,LATITUDE,LONGITUDE,DEPTH,CTDPRS,CTDTMP,CTDSAL,SALNTY,SALNTY_FLAG_W,CTDOXY,OXYGEN,OXYGEN_FLAG_W,REFTMP,REFTMP_FLAG_W
,,,,,,,,,,,METERS,DBAR,ITS-90,PSS-78,PSS-78,,UMOL/KG,UMOL/KG,,ITS-90,
  74JC20161110, SR01b,    13,  1,      1,      1,2,20161120,1502,-56.7833, -57.2309, 3187,   3238.1,   0.8385,  34.7061,  34.7082,2,    206.7,    207.0,2,   0.8375,2
  74JC20161110, SR01b,    13,  1,      2,      2,2,20161120,1502,-56.7833, -57.2309, 3187,   3200.0,   0.8395,  34.7061,  34.7064,2,    206.6,    206.6,2,   0.8390,2
  74JC20161110, SR01b,    13,  1,      3,      3,2,20161120,1502,-56.7833, -57.2309, 3187,   2579.2,   1.0088,  34.7142,  34.7227,2,    202.0,    200.8,3,   1.0119,2
  74JC20161110, SR01b,    13,  1,      4,      4,2,20161120,1502,-56.7833, -57.2309, 3187,   2272.6,   1.5601,  34.7211,  34.7205,2,    189.8,    188.3,2,   1.5625,2
  74JC20161110, SR01b,    13,  1,      5,      5,2,20161120,1502,-56.7833, -57.2309, 3187,   2069.1,   1.7618,  34.7173,  34.7171,2,    184.5,    185.4,2,   1.7628,2
  74JC20161110, SR01b,    13,  1,      6,      6,2,20161120,1502,-56.7833, -57.2309, 3187,   1864.8,   1.8706,  34.7105,  34.7137,2,    181.1,    179.9,2,   1.8732,2
  74JC20161110, SR01b,    13,  1,      7,      7,2,20161120,1502,-56.7833, -57.2309, 3187,   1112.6,   2.3232,  34.6270,  34.6269,2,    171.7,    171.3,2,   2.3228,2
  74JC20161110, SR01b,    13,  1,      8,      8,2,20161120,1502,-56.7833, -57.2309, 3187,    646.1,   2.6299,  34.4251,  34.4278,2,    186.5,    185.9,2,   2.6295,2
  74JC20161110, SR01b,    13,  1,      9,      9,2,20161120,1502,-56.7833, -57.2309, 3187,    124.4,   3.0436,  33.9950,  33.9948,2,    297.6,    297.7,2,   3.0484,2
  74JC20161110, SR01b,    13,  1,     10,     10,2,20161120,1502,-56.7833, -57.2309, 3187,     18.8,   3.4344,  33.8801,  33.8854,2,    326.7,    328.1,2,   3.4320,2
  74JC20161110, SR01b,    14,  1,      1,      1,2,20161120,1927,-57.1136, -57.0108, 3723,   3790.4,   0.5745,  34.6930,  34.6941,2,    214.3,    213.9,2,   0.5736,2
  74JC20161110, SR01b,    14,  1,      3,      3,2,20161120,1927,-57.1136, -57.0108, 3723,   3740.9,   0.5729,  34.6930,  34.6929,2,    214.4,   -999.0,9,   0.5722,2
  74JC20161110, SR01b,    14,  1,      5,      5,2,20161120,1927,-57.1136, -57.0108, 3723,   3358.2,   0.6589,  34.6984,  34.6984,2,    211.0,    211.4,2,   0.6576,2
  74JC20161110, SR01b,    14,  1,      7,      7,2,20161120,1927,-57.1136, -57.0108, 3723,   2753.8,   0.8510,  34.7086,  34.7093,2,    205.6,    205.8,2,   0.8503,2
  74JC20161110, SR01b,    14,  1,      9,      9,2,20161120,1927,-57.1136, -57.0108, 3723,   2451.1,   1.0366,  34.7175,  34.7167,2,    201.5,    202.0,2,   1.0427,2
  74JC20161110, SR01b,    14,  1,     11,     11,2,20161120,1927,-57.1136, -57.0108, 3723,   1543.0,   1.7500,  34.7255,  34.7256,2,    187.8,    186.3,2,   1.7499,2
  74JC20161110, SR01b,    14,  1,     13,     13,2,20161120,1927,-57.1136, -57.0108, 3723,    810.3,   2.2503,  34.6198,  34.6193,2,    173.3,    172.0,2,   2.2498,2
  74JC20161110, SR01b,    14,  1,     15,     15,2,20161120,1927,-57.1136, -57.0108, 3723,    507.2,   2.2903,  34.4704,  34.4702,2,    182.0,    181.2,2,   2.2892,2
  74JC20161110, SR01b,    14,  1,     17,     17,2,20161120,1927,-57.1136, -57.0108, 3723,    391.3,   2.3128,  34.3554,  34.3547,2,    201.2,    199.8,2,   2.3102,2
  74JC20161110, SR01b,    14,  1,     19,     19,2,20161120,1927,-57.1136, -57.0108, 3723,    234.9,   1.2897,  34.0626,  34.0642,2,    281.1,    280.8,2,   1.2769,2
  74JC20161110, SR01b,    14,  1,     21,     21,2,20161120,1927,-57.1136, -57.0108, 3723,    144.7,  -0.0085,  33.7419,  33.7421,2,    346.6,    344.6,2,  -0.0057,2
  74JC20161110, SR01b,    14,  1,     23,     23,2,20161120,1927,-57.1136, -57.0108, 3723,     23.9,   1.1733,  33.6873,  33.6864,2,    346.0,    346.0,2,   1.1736,2
  74JC20161110, SR01b,    15,  1,      1,      1,2,20161120,2345,-57.4214, -56.8302, 3655,   3725.4,   0.3571,  34.6777,  34.6778,2,    221.6,    221.2,2,   0.3563,2
  74JC20161110, SR01b,    15,  1,      2,      2,2,20161120,2345,-57.4214, -56.8302, 3655,   3683.6,   0.3583,  34.6779,  34.6818,2,    220.9,    221.4,2,   0.3567,2
  74JC20161110, SR01b,    15,  1,      5,      5,2,20161120,2345,-57.4214, -56.8302, 3655,   3468.1,   0.5405,  34.6903,  34.6963,2,    215.3,    214.5,2,   0.5362,2
  74JC20161110, SR01b,    15,  1,      6,      6,2,20161120,2345,-57.4214, -56.8302, 3655,   3161.2,   0.5706,  34.6940,  34.6953,2,    213.5,    213.2,2,   0.5697,2
  74JC20161110, SR01b,    15,  1,      9,      9,2,20161120,2345,-57.4214, -56.8302, 3655,   2956.8,   0.6417,  34.6989,  34.7040,2,    210.8,    208.8,2,   0.6427,2
  74JC20161110, SR01b,    15,  1,     10,     10,2,20161120,2345,-57.4214, -56.8302, 3655,   2139.2,   1.1555,  34.7209,  34.7224,2,    199.3,    198.7,2,   1.1562,2
  74JC20161110, SR01b,    15,  1,     13,     13,2,20161120,2345,-57.4214, -56.8302, 3655,   1426.8,   1.6525,  34.7290,  34.7299,2,    190.2,    189.5,2,   1.6520,2
  74JC20161110, SR01b,    15,  1,     14,     14,2,20161120,2345,-57.4214, -56.8302, 3655,   1021.9,   1.9866,  34.7091,  34.7105,2,    182.0,    181.4,2,   1.9874,2
  74JC20161110, SR01b,    15,  1,     17,     17,2,20161120,2345,-57.4214, -56.8302, 3655,    616.9,   2.1911,  34.6305,  34.6307,2,    173.7,    173.5,2,   2.1905,2
  74JC20161110, SR01b,    15,  1,     18,     18,2,20161120,2345,-57.4214, -56.8302, 3655,    314.9,   2.1170,  34.4229,  34.4195,2,    191.2,    190.8,2,   2.1116,2
  74JC20161110, SR01b,    15,  1,     21,     21,2,20161120,2345,-57.4214, -56.8302, 3655,    133.8,  -0.9079,  33.8499,  33.8529,2,    337.5,    336.0,2,  -0.9218,2
  74JC20161110, SR01b,    15,  1,     22,     22,2,20161120,2345,-57.4214, -56.8302, 3655,     17.9,   0.1648,  33.6401,  33.6488,2,    356.8,    354.6,2,   0.1645,2
  74JC20161110, SR01b,    16,  1,      1,      1,2,20161121,0438,-57.7365, -56.6450, 3499,   3583.5,   0.2803,  34.6743,  34.6736,2,    223.1,    222.6,2,   0.2795,2
  74JC20161110, SR01b,    16,  1,      2,      2,2,20161121,0438,-57.7365, -56.6450, 3499,   3542.3,   0.2848,  34.6748,  34.6738,2,    223.0,    223.9,2,   0.2761,2
  74JC20161110, SR01b,    16,  1,      3,      3,2,20161121,0438,-57.7365, -56.6450, 3499,   3502.2,   0.3332,  34.6782,  34.6771,2,    221.2,    222.2,2,   0.3336,2
  74JC20161110, SR01b,    16,  1,      4,      4,2,20161121,0438,-57.7365, -56.6450, 3499,   3358.7,   0.4827,  34.6874,  34.6863,2,    216.7,    218.1,2,   0.4776,2
  74JC20161110, SR01b,    16,  1,      5,      5,2,20161121,0438,-57.7365, -56.6450, 3499,   3051.0,   0.5954,  34.6959,  34.6954,2,    212.7,    211.8,2,   0.5963,2
  74JC20161110, SR01b,    16,  1,      6,      6,2,20161121,0438,-57.7365, -56.6450, 3499,   2846.4,   0.6515,  34.7005,  34.6998,2,    210.1,    210.4,2,   0.6518,2
  74JC20161110, SR01b,    16,  1,      7,      7,2,20161121,0438,-57.7365, -56.6450, 3499,   2744.5,   0.7097,  34.7038,  34.7029,2,    208.4,    208.6,2,   0.7094,2
  74JC20161110, SR01b,    16,  1,      8,      8,2,20161121,0438,-57.7365, -56.6450, 3499,   2540.7,   0.8346,  34.7106,  34.7094,2,    205.2,    204.8,2,   0.8388,2
  74JC20161110, SR01b,    16,  1,      9,      9,2,20161121,0438,-57.7365, -56.6450, 3499,   2336.0,   0.9499,  34.7150,  34.7145,2,    202.9,    203.8,2,   0.9492,2
  74JC20161110, SR01b,    16,  1,     10,     10,2,20161121,0438,-57.7365, -56.6450, 3499,   2234.1,   0.9943,  34.7166,  34.7158,2,    201.9,    201.2,2,   0.9948,2
  74JC20161110, SR01b,    16,  1,     11,     11,2,20161121,0438,-57.7365, -56.6450, 3499,   2030.5,   1.1061,  34.7201,  34.7197,2,    199.7,    200.9,2,   1.1084,2
  74JC20161110, SR01b,    16,  1,     12,     12,2,20161121,0438,-57.7365, -56.6450, 3499,   1826.2,   1.2509,  34.7245,  34.7238,2,    197.1,    196.4,2,   1.2516,2
  74JC20161110, SR01b,    16,  1,     13,     13,2,20161121,0438,-57.7365, -56.6450, 3499,   1623.2,   1.3625,  34.7270,  34.7264,2,    194.9,    196.5,2,   1.3652,2
  74JC20161110, SR01b,    16,  1,     14,     14,2,20161121,0438,-57.7365, -56.6450, 3499,   1521.8,   1.4122,  34.7279,  34.7272,2,    194.1,    196.1,2,   1.4133,2
  74JC20161110, SR01b,    16,  1,     15,     15,2,20161121,0438,-57.7365, -56.6450, 3499,   1318.9,   1.5978,  34.7291,  34.7290,2,    190.8,    190.5,2,   1.6044,2
  74JC20161110, SR01b,    16,  1,     16,     16,2,20161121,0438,-57.7365, -56.6450, 3499,   1217.0,   1.6843,  34.7282,  34.7277,2,    189.0,    187.6,2,   1.6872,2
  74JC20161110, SR01b,    16,  1,     17,     17,2,20161121,0438,-57.7365, -56.6450, 3499,   1014.4,   1.8597,  34.7210,  34.7204,2,    185.0,    187.3,2,   1.8601,2
  74JC20161110, SR01b,    16,  1,     18,     18,2,20161121,0438,-57.7365, -56.6450, 3499,    811.6,   2.0516,  34.6957,  34.6955,2,    179.1,    178.7,2,   2.0543,2
  74JC20161110, SR01b,    16,  1,     19,     19,2,20161121,0438,-57.7365, -56.6450, 3499,    710.4,   2.0810,  34.6776,  34.6771,2,    176.6,    175.8,2,   2.0803,2
  74JC20161110, SR01b,    16,  1,     20,     20,2,20161121,0438,-57.7365, -56.6450, 3499,    568.9,   2.1491,  34.6319,  34.6304,2,    173.5,    173.0,2,   2.1502,2
  74JC20161110, SR01b,    16,  1,     21,     21,2,20161121,0438,-57.7365, -56.6450, 3499,    406.9,   2.1210,  34.5386,  34.5375,2,    177.3,    176.9,2,   2.1202,2
  74JC20161110, SR01b,    16,  1,     22,     22,2,20161121,0438,-57.7365, -56.6450, 3499,    205.5,   0.4823,  34.1080,  34.1194,3,    269.5,    266.8,2,   0.4670,2
  74JC20161110, SR01b,    16,  1,     23,     23,2,20161121,0438,-57.7365, -56.6450, 3499,    134.7,  -1.0392,  33.8028,  33.8026,2,    344.9,    341.8,2,  -1.0414,2
  74JC20161110, SR01b,    16,  1,     24,     24,2,20161121,0438,-57.7365, -56.6450, 3499,     19.3,   0.1048,  33.6406,  33.6417,2,    355.1,    354.2,2,   0.1330,2
  74JC20161110, SR01b,    17,  1,      1,      1,2,20161121,1000,-58.0506, -56.4475, 3907,   4009.2,   0.2466,  34.6688,  34.6689,2,    226.2,    225.4,2,   0.2451,2
  74JC20161110, SR01b,    17,  1,      2,      2,2,20161121,1000,-58.0506, -56.4475, 3907,   3966.5,   0.2557,  34.6696,  34.6697,2,    225.8,    224.5,2,   0.2492,2
  74JC20161110, SR01b,    17,  1,      3,      3,2,20161121,1000,-58.0506, -56.4475, 3907,   3884.5,   0.2898,  34.6722,  34.6732,2,    224.7,    223.3,2,   0.2898,2
  74JC20161110, SR01b,    17,  1,      4,      4,2,20161121,1000,-58.0506, -56.4475, 3907,   3645.3,   0.4235,  34.6820,  34.6823,2,    219.5,    218.0,2,   0.4262,2
  74JC20161110, SR01b,    17,  1,      5,      5,2,20161121,1000,-58.0506, -56.4475, 3907,   3235.6,   0.6432,  34.6972,  34.6975,2,    211.6,    210.8,2,   0.6416,2
  74JC20161110, SR01b,    17,  1,      6,      6,2,20161121,1000,-58.0506, -56.4475, 3907,   2522.6,   0.9687,  34.7135,  34.7141,2,    202.4,    202.4,2,   0.9723,2
  74JC20161110, SR01b,    17,  1,      7,      7,2,20161121,1000,-58.0506, -56.4475, 3907,   2016.6,   1.3446,  34.7243,  34.7248,2,    194.8,    195.7,2,   1.3442,2
  74JC20161110, SR01b,    17,  1,      8,      8,2,20161121,1000,-58.0506, -56.4475, 3907,   1614.6,   1.6189,  34.7227,  34.7229,2,    187.8,    186.7,3,   1.6217,2
  74JC20161110, SR01b,    17,  1,      9,      9,2,20161121,1000,-58.0506, -56.4475, 3907,   1011.9,   2.0776,  34.6929,  34.6936,2,    178.7,    177.6,2,   2.0767,2
  74JC20161110, SR01b,    17,  1,     10,     10,2,20161121,1000,-58.0506, -56.4475, 3907,    608.3,   2.3021,  34.5821,  34.5817,2,    172.8,    171.3,2,   2.3027,2
  74JC20161110, SR01b,    17,  1,     11,     11,2,20161121,1000,-58.0506, -56.4475, 3907,     86.0,  -0.6625,  33.6633,  33.6635,2,    359.2,    357.7,2,  -0.6556,2
  74JC20161110, SR01b,    17,  1,     12,     12,2,20161121,1000,-58.0506, -56.4475, 3907,     20.4,   0.3062,  33.6195,  33.6195,2,    359.2,    356.7,2,   0.2873,2
  74JC20161110, SR01b,    18,  1,     13,     13,2,20161121,1532,-58.3706, -56.2479, 3872,   3949.3,   0.0964,  34.6602,  34.6598,2,    230.5,    232.4,2,   0.0959,2
  74JC20161110, SR01b,    18,  1,     14,     14,2,20161121,1532,-58.3706, -56.2479, 3872,   3908.8,   0.1012,  34.6606,  34.6595,2,    230.5,    232.6,2,   0.1013,2
  74JC20161110, SR01b,    18,  1,     15,     15,2,20161121,1532,-58.3706, -56.2479, 3872,   3665.5,   0.1440,  34.6643,  34.6632,2,    228.1,    228.1,2,   0.1439,2
  74JC20161110, SR01b,    18,  1,     16,     16,2,20161121,1532,-58.3706, -56.2479, 3872,   3459.2,   0.1953,  34.6681,  34.6670,2,    225.9,    225.1,2,   0.1958,2
  74JC20161110, SR01b,    18,  1,     17,     17,2,20161121,1532,-58.3706, -56.2479, 3872,   2846.6,   0.5693,  34.6981,  34.6975,2,    211.7,    210.8,2,   0.5683,2
  74JC20161110, SR01b,    18,  1,     18,     18,2,20161121,1532,-58.3706, -56.2479, 3872,   2334.9,   0.8087,  34.7069,  34.7064,2,    206.1,    206.4,2,   0.8083,2
  74JC20161110, SR01b,    18,  1,     19,     19,2,20161121,1532,-58.3706, -56.2479, 3872,   1725.1,   1.2741,  34.7223,  34.7224,2,    195.4,    194.3,2,   1.2736,2
  74JC20161110, SR01b,    18,  1,     20,     20,2,20161121,1532,-58.3706, -56.2479, 3872,   1317.7,   1.6951,  34.7258,  34.7262,2,    188.3,    188.5,2,   1.6956,2
  74JC20161110, SR01b,    18,  1,     21,     21,2,20161121,1532,-58.3706, -56.2479, 3872,    559.7,   2.2372,  34.6115,  34.6115,2,    173.4,    173.0,2,   2.2371,2
  74JC20161110, SR01b,    18,  1,     22,     22,2,20161121,1532,-58.3706, -56.2479, 3872,    185.7,   1.6688,  34.1905,  34.1864,2,    244.4,    244.0,2,   1.6958,2
  74JC20161110, SR01b,    18,  1,     23,     23,2,20161121,1532,-58.3706, -56.2479, 3872,     94.1,  -1.0056,  33.6869,  33.6872,2,    358.0,    356.7,2,  -0.9887,2
  74JC20161110, SR01b,    18,  1,     24,     24,2,20161121,1532,-58.3706, -56.2479, 3872,     24.4,   0.2593,  33.6227,  33.6215,2,    356.5,    356.3,2,   0.2633,2
  74JC20161110, SR01b,    19,  1,      1,      1,2,20161121,2027,-58.6831, -56.0543, 3745,   3806.6,   0.0473,  34.6587,  34.6577,2,    231.4,    231.9,2,   0.0467,2
  74JC20161110, SR01b,    19,  1,      2,      2,2,20161121,2027,-58.6831, -56.0543, 3745,   3766.2,   0.0656,  34.6598,  34.6577,2,    231.0,    230.2,2,   0.0653,2
  74JC20161110, SR01b,    19,  1,      3,      3,2,20161121,2027,-58.6831, -56.0543, 3745,   3643.9,   0.1239,  34.6635,  34.6615,2,    228.5,    229.0,2,   0.1240,2
  74JC20161110, SR01b,    19,  1,      4,      4,2,20161121,2027,-58.6831, -56.0543, 3745,   3477.2,   0.1799,  34.6677,  34.6666,2,    226.0,    226.4,2,   0.1801,2
  74JC20161110, SR01b,    19,  1,      5,      5,2,20161121,2027,-58.6831, -56.0543, 3745,   3335.3,   0.2520,  34.6725,  34.6715,2,    223.5,    222.2,2,   0.2529,2
  74JC20161110, SR01b,    19,  1,      6,      6,2,20161121,2027,-58.6831, -56.0543, 3745,   3171.7,   0.3411,  34.6796,  34.6776,2,    219.8,    220.6,2,   0.3418,2
  74JC20161110, SR01b,    19,  1,      7,      7,2,20161121,2027,-58.6831, -56.0543, 3745,   3028.4,   0.4181,  34.6857,  34.6842,2,    216.9,    218.3,2,   0.4189,2
  74JC20161110, SR01b,    19,  1,      8,      8,2,20161121,2027,-58.6831, -56.0543, 3745,   2761.9,   0.5623,  34.6959,  34.6947,2,    211.5,    211.3,2,   0.5625,2
  74JC20161110, SR01b,    19,  1,      9,      9,2,20161121,2027,-58.6831, -56.0543, 3745,   2618.0,   0.6338,  34.7012,  34.6997,2,    209.4,    232.9,4,   0.6335,2
  74JC20161110, SR01b,    19,  1,     10,     10,2,20161121,2027,-58.6831, -56.0543, 3745,   2435.6,   0.6953,  34.7046,  34.7033,2,    207.8,    207.7,2,   0.6953,2
  74JC20161110, SR01b,    19,  1,     11,     11,2,20161121,2027,-58.6831, -56.0543, 3745,   2109.8,   0.7933,  34.7039,  34.7033,2,    206.5,    206.1,2,   0.7930,2
  74JC20161110, SR01b,    19,  1,     12,     12,2,20161121,2027,-58.6831, -56.0543, 3745,   1845.1,   0.9590,  34.7093,  34.7083,2,    203.4,    203.4,2,   0.9588,2
  74JC20161110, SR01b,    19,  1,     13,     13,2,20161121,2027,-58.6831, -56.0543, 3745,   1701.5,   1.0959,  34.7159,  34.7153,2,    200.2,    199.6,2,   1.0955,2
  74JC20161110, SR01b,    19,  1,     14,     14,2,20161121,2027,-58.6831, -56.0543, 3745,   1539.9,   1.2405,  34.7174,  34.7204,2,    198.1,    197.7,2,   1.2414,2
  74JC20161110, SR01b,    19,  1,     15,     15,2,20161121,2027,-58.6831, -56.0543, 3745,   1397.7,   1.3535,  34.7184,  34.7178,2,    195.9,    196.0,2,   1.3540,2
  74JC20161110, SR01b,    19,  1,     16,     16,2,20161121,2027,-58.6831, -56.0543, 3745,   1133.7,   1.6744,  34.7213,  34.7208,2,    185.4,    186.7,2,   1.6740,2
  74JC20161110, SR01b,    19,  1,     17,     17,2,20161121,2027,-58.6831, -56.0543, 3745,    990.4,   1.8022,  34.7175,  34.7176,2,    182.9,    182.4,2,   1.8031,2
  74JC20161110, SR01b,    19,  1,     18,     18,2,20161121,2027,-58.6831, -56.0543, 3745,    828.9,   1.9788,  34.7081,  34.7082,2,    180.7,    180.4,2,   1.9793,2
  74JC20161110, SR01b,    19,  1,     19,     19,2,20161121,2027,-58.6831, -56.0543, 3745,    688.7,   2.0801,  34.6893,  34.6884,2,    177.7,    177.7,2,   2.0800,2
  74JC20161110, SR01b,    19,  1,     20,     20,2,20161121,2027,-58.6831, -56.0543, 3745,    527.1,   2.1538,  34.6377,  34.6372,2,    173.6,    172.2,2,   2.1532,2
  74JC20161110, SR01b,    19,  1,     21,     21,2,20161121,2027,-58.6831, -56.0543, 3745,    386.3,   2.1569,  34.5686,  34.5681,2,    174.7,    180.4,4,   2.1559,2
  74JC20161110, SR01b,    19,  1,     22,     22,2,20161121,2027,-58.6831, -56.0543, 3745,    225.0,   2.0307,  34.4218,  34.4194,2,    192.2,    191.6,2,   2.0310,2
  74JC20161110, SR01b,    19,  1,     23,     23,2,20161121,2027,-58.6831, -56.0543, 3745,     93.7,  -0.9260,  33.7542,  33.7527,2,    351.9,    350.8,2,  -0.9207,2
  74JC20161110, SR01b,    19,  1,     24,     24,2,20161121,2027,-58.6831, -56.0543, 3745,     28.7,   0.1752,  33.6372,  33.6363,2,    353.7,    353.7,2,   0.1734,2
  74JC20161110, SR01b,    20,  1,      1,      1,2,20161122,0238,-59.0034, -55.8584, 3759,   3833.1,   0.0368,  34.6579,  34.6583,2,    232.2,    231.5,2,   0.0361,2
  74JC20161110, SR01b,    20,  1,      2,      2,2,20161122,0238,-59.0034, -55.8584, 3759,   3790.8,   0.0346,  34.6580,  34.6576,2,    232.1,    230.8,2,   0.0345,2
  74JC20161110, SR01b,    20,  1,      3,      3,2,20161122,0238,-59.0034, -55.8584, 3759,   3565.1,   0.0699,  34.6605,  34.6590,3,    230.4,    230.3,2,   0.0698,2
  74JC20161110, SR01b,    20,  1,      4,      4,2,20161122,0238,-59.0034, -55.8584, 3759,   3157.4,   0.1831,  34.6678,  34.6671,2,    225.6,    225.9,2,   0.1823,2
  74JC20161110, SR01b,    20,  1,      5,      5,2,20161122,0238,-59.0034, -55.8584, 3759,   2747.1,   0.4105,  34.6867,  34.6862,2,    216.1,    215.6,2,   0.4114,2
  74JC20161110, SR01b,    20,  1,      6,      6,2,20161122,0238,-59.0034, -55.8584, 3759,   2236.4,   0.6375,  34.6973,  34.6981,2,    209.9,    211.0,2,   0.6364,2
  74JC20161110, SR01b,    20,  1,      7,      7,2,20161122,0238,-59.0034, -55.8584, 3759,   1933.0,   0.8061,  34.7080,  34.7083,2,    205.1,    205.8,2,   0.8060,2
  74JC20161110, SR01b,    20,  1,      8,      8,2,20161122,0238,-59.0034, -55.8584, 3759,   1016.2,   1.3796,  34.7147,  34.7144,2,    196.4,    196.1,2,   1.3802,2
  74JC20161110, SR01b,    20,  1,      9,      9,2,20161122,0238,-59.0034, -55.8584, 3759,    530.9,   1.7097,  34.6657,  34.6653,3,    189.1,    188.7,2,   1.7100,2
  74JC20161110, SR01b,    20,  1,     10,     10,2,20161122,0238,-59.0034, -55.8584, 3759,    409.2,   1.6060,  34.6175,  34.6165,2,    193.1,    192.9,2,   1.6080,2
  74JC20161110, SR01b,    20,  1,     11,     11,2,20161122,0238,-59.0034, -55.8584, 3759,     85.5,  -0.4114,  34.0343,  34.0326,2,    337.0,    336.1,2,  -0.4113,2
  74JC20161110, SR01b,    20,  1,     12,     12,2,20161122,0238,-59.0034, -55.8584, 3759,     25.4,   0.3803,  33.8830,  33.8807,2,    371.4,    369.8,2,   0.3790,2