BOTTLE,20221103CCHSIOENA
# changed SBE35 and SBE35_FLAG_W to REFTMP and REFTMP_FLAG_W
# BOTTLE,20221013CCHSIOENA
# flag changed from 9 to 4 for SALNTY data value at station 22 cast 1 sample 9
# BOTTLE,20170112PRINUNIVRMK
# Source: Y.Firing 20170105; revised 20170112 
# SHIP: James Clark Ross 
# Cruise: JR16002; SR1B 
# Region: Drake Passage; ~56W 
# EXPOCODE: 74JC20161110 
# DATES: 20161110 - 20161103 
# Chief Scientist: Y. Firing, NOCS 
# Supported by NERC National Capability NE/N018095/1 (ORCHESTRA) 
# 30 stations with 24-place rosette 
# CTD: Who - Y. Firing; Status - final 
# Notes: Includes CTDSAL, CTDOXY, SBE35 (REFTMP) 
# The CTD PRS;  TMP;  SAL; OXY data are all calibrated and good. 
# Flags in bottle file set to good for all existing values 
# CTD files also contain CTDXMISS, CTDFLUOR, CTDTURB 
# Salinity: Who - Y. Firing; Status - final 
# Notes: 
# Oxygen: Who - Y. Firing; Status - final 
# Notes: 
# These data should be acknowledged with: "Data were collected and made publicly available by the International Global Ship-based Hydrographic Investigations Program (GO-SHIP; http://www.go-ship.org/) with National Capability funding from the UK Natural Environment Research Council to the National Oceanography Centre." 
EXPOCODE,SECT_ID,STNNBR,CASTNO,SAMPNO,BTLNBR,BTLNBR_FLAG_W,DATE,TIME,LATITUDE,LONGITUDE,DEPTH,CTDPRS,CTDTMP,CTDSAL,SALNTY,SALNTY_FLAG_W,CTDOXY,OXYGEN,OXYGEN_FLAG_W,REFTMP,REFTMP_FLAG_W
,,,,,,,,,,,METERS,DBAR,ITS-90,PSS-78,PSS-78,,UMOL/KG,UMOL/KG,,ITS-90,
  74JC20161110, SR01b,     1,  1,      1,      1,2,20161118,2302,-54.6670, -57.9825,  167,    155.8,   5.0519,  34.0507,  34.0506,2,    303.0,    302.4,2,   5.0492,2
  74JC20161110, SR01b,     1,  1,      2,      2,2,20161118,2302,-54.6670, -57.9825,  167,    104.7,   5.0762,  34.0486,  34.0481,2,    301.8,    301.0,2,   5.0806,2
  74JC20161110, SR01b,     1,  1,     13,     13,2,20161118,2302,-54.6670, -57.9825,  167,     80.4,   5.7557,  34.0101,  34.0100,2,    306.0,    322.3,3,   5.7574,2
  74JC20161110, SR01b,     1,  1,     14,     14,2,20161118,2302,-54.6670, -57.9825,  167,     15.5,   5.7851,  34.0015,  34.0022,2,    306.8,    306.2,2,   5.7852,2
  74JC20161110, SR01b,     2,  1,      1,      1,2,20161119,0123,-54.9219, -57.9836,  721,    710.3,   4.0701,  34.1863,  34.1819,2,    249.9,    255.5,4,   4.0569,2
  74JC20161110, SR01b,     2,  1,      2,      2,2,20161119,0123,-54.9219, -57.9836,  721,    657.3,   4.1822,  34.1701,  34.1700,2,    257.0,    257.2,2,   4.1845,2
  74JC20161110, SR01b,     2,  1,      3,      3,2,20161119,0123,-54.9219, -57.9836,  721,    546.9,   4.3184,  34.1577,  34.1511,2,    264.4,    265.3,2,   4.3205,2
  74JC20161110, SR01b,     2,  1,      4,      4,2,20161119,0123,-54.9219, -57.9836,  721,    223.5,   4.9802,  34.0837,  34.0826,2,    297.7,    299.1,2,   4.9707,2
  74JC20161110, SR01b,     2,  1,      5,      5,2,20161119,0123,-54.9219, -57.9836,  721,     92.4,   5.6871,  33.9934,  34.0003,2,    306.2,    305.9,2,   5.7132,2
  74JC20161110, SR01b,     2,  1,      6,      6,2,20161119,0123,-54.9219, -57.9836,  721,     11.7,   5.9407,  33.9622,  33.9605,2,    306.5,    306.5,2,   5.9400,2
  74JC20161110, SR01b,     3,  1,      1,      1,2,20161119,0253,-54.9763, -57.9826,  979,    979.7,   3.3607,  34.3012,  34.3005,2,    212.2,    213.1,2,   3.3527,2
  74JC20161110, SR01b,     3,  1,      2,      2,2,20161119,0253,-54.9763, -57.9826,  979,    927.3,   3.3549,  34.2992,  34.2986,2,    212.4,    212.2,2,   3.3552,2
  74JC20161110, SR01b,     3,  1,      3,      3,2,20161119,0253,-54.9763, -57.9826,  979,    717.9,   3.8040,  34.2032,  34.2043,2,    240.9,    240.6,2,   3.8080,2
  74JC20161110, SR01b,     3,  1,      4,      4,2,20161119,0253,-54.9763, -57.9826,  979,    526.2,   4.2565,  34.1304,  34.1299,2,    270.1,    270.9,2,   4.2758,2
  74JC20161110, SR01b,     3,  1,      5,      5,2,20161119,0253,-54.9763, -57.9826,  979,     76.9,   5.6837,  34.0033,  34.0044,2,    305.5,    305.6,2,   5.6812,2
  74JC20161110, SR01b,     3,  1,      6,      6,2,20161119,0253,-54.9763, -57.9826,  979,     16.8,   5.9455,  33.9786,  33.9756,2,    306.2,    305.6,2,   5.9395,2
  74JC20161110, SR01b,     4,  1,      7,      7,2,20161119,0437,-55.0067, -57.9833, 1660,   1673.8,   2.4244,  34.6022,  34.6014,2,    169.0,    168.9,2,   2.4217,2
  74JC20161110, SR01b,     4,  1,      8,      8,2,20161119,0437,-55.0067, -57.9833, 1660,   1633.1,   2.4547,  34.5899,  34.5906,2,    169.1,    169.7,2,   2.4554,2
  74JC20161110, SR01b,     4,  1,      9,      9,2,20161119,0437,-55.0067, -57.9833, 1660,   1214.8,   2.9272,  34.4139,  34.4138,2,    188.0,    187.4,2,   2.9264,2
  74JC20161110, SR01b,     4,  1,     10,     10,2,20161119,0437,-55.0067, -57.9833, 1660,   1011.9,   3.1762,  34.3387,  34.3389,2,    203.3,    202.4,2,   3.1779,2
  74JC20161110, SR01b,     4,  1,     11,     11,2,20161119,0437,-55.0067, -57.9833, 1660,    708.1,   3.9147,  34.2162,  34.2179,2,    236.3,    235.8,2,   3.9174,2
  74JC20161110, SR01b,     4,  1,     12,     12,2,20161119,0437,-55.0067, -57.9833, 1660,    405.4,   4.9560,  34.1535,  34.1525,2,    288.3,    288.5,2,   4.9589,2
  74JC20161110, SR01b,     4,  1,     13,     13,2,20161119,0437,-55.0067, -57.9833, 1660,     82.5,   5.5927,  34.0079,  34.0088,2,    305.3,    305.0,2,   5.5975,2
  74JC20161110, SR01b,     4,  1,     14,     14,2,20161119,0437,-55.0067, -57.9833, 1660,     22.2,   5.9118,  33.9797,  33.9814,2,    306.4,    304.9,2,   5.9097,2
  74JC20161110, SR01b,     5,  1,     15,     15,2,20161119,0647,-55.0698, -57.9829, 2213,   2239.1,   2.1687,  34.6833,  34.6828,2,    175.6,    174.3,2,   2.1696,2
  74JC20161110, SR01b,     5,  1,     16,     16,2,20161119,0647,-55.0698, -57.9829, 2213,   2197.5,   2.1912,  34.6785,  34.6797,2,    175.2,    174.3,2,   2.1899,2
  74JC20161110, SR01b,     5,  1,     17,     17,2,20161119,0647,-55.0698, -57.9829, 2213,   1723.1,   2.4109,  34.6080,  34.6089,2,    169.5,    169.0,2,   2.4117,2
  74JC20161110, SR01b,     5,  1,     18,     18,2,20161119,0647,-55.0698, -57.9829, 2213,   1264.1,   2.8295,  34.4504,  34.4495,3,    181.5,    181.4,2,   2.8292,2
  74JC20161110, SR01b,     5,  1,     19,     19,2,20161119,0647,-55.0698, -57.9829, 2213,    828.4,   3.5287,  34.2733,  34.2737,2,    218.9,    218.9,2,   3.5284,2
  74JC20161110, SR01b,     5,  1,     20,     20,2,20161119,0647,-55.0698, -57.9829, 2213,    506.0,   4.6929,  34.1418,  34.1404,3,    281.6,    280.6,2,   4.6901,2
  74JC20161110, SR01b,     5,  1,     21,     21,2,20161119,0647,-55.0698, -57.9829, 2213,    173.7,   5.1264,  34.0507,  34.0513,2,    301.9,    304.8,2,   5.1245,2
  74JC20161110, SR01b,     5,  1,     22,     22,2,20161119,0647,-55.0698, -57.9829, 2213,     17.5,   5.9976,  33.9554,  33.9605,2,    307.7,    307.0,2,   6.0196,2
  74JC20161110, SR01b,     6,  1,     17,     17,2,20161119,0910,-55.1214, -57.9832, 2736,   2776.1,   1.6866,  34.7193,  34.7210,2,    188.3,    188.7,2,   1.6676,2
  74JC20161110, SR01b,     6,  1,     18,     18,2,20161119,0910,-55.1214, -57.9832, 2736,   2734.9,   1.8003,  34.7168,  34.7179,2,    185.0,    185.1,2,   1.8020,2
  74JC20161110, SR01b,     6,  1,     19,     19,2,20161119,0910,-55.1214, -57.9832, 2736,   1823.5,   2.3583,  34.6270,  34.6279,2,    170.3,    169.0,2,   2.3573,2
  74JC20161110, SR01b,     6,  1,     20,     20,2,20161119,0910,-55.1214, -57.9832, 2736,   1112.5,   2.9785,  34.3846,  34.3851,2,    192.6,    194.6,2,   2.9755,2
  74JC20161110, SR01b,     6,  1,     21,     21,2,20161119,0910,-55.1214, -57.9832, 2736,    607.6,   4.5209,  34.1399,  34.1413,2,    275.6,    275.5,2,   4.5201,2
  74JC20161110, SR01b,     6,  1,     22,     22,2,20161119,0910,-55.1214, -57.9832, 2736,    365.7,   4.8706,  34.0977,  34.0985,2,    293.6,    296.1,2,   4.8650,2
  74JC20161110, SR01b,     6,  1,     23,     23,2,20161119,0910,-55.1214, -57.9832, 2736,     63.1,   5.7677,  33.9701,  33.9714,2,    305.9,    306.8,2,   5.7671,2
  74JC20161110, SR01b,     6,  1,     24,     24,2,20161119,0910,-55.1214, -57.9832, 2736,     23.3,   5.9042,  33.9541,  33.9492,2,    308.5,    309.0,2,   5.9084,2
  74JC20161110, SR01b,     7,  1,      1,      1,2,20161119,1148,-55.1702, -57.9835, 3118,   3158.4,   1.4643,  34.7219,  34.7220,2,    194.6,    193.9,2,   1.4632,2
  74JC20161110, SR01b,     7,  1,      2,      2,2,20161119,1148,-55.1702, -57.9835, 3118,   3117.6,   1.4769,  34.7220,  34.7226,2,    194.3,    194.9,2,   1.4764,2
  74JC20161110, SR01b,     7,  1,      3,      3,2,20161119,1148,-55.1702, -57.9835, 3118,   2028.4,   2.2649,  34.6643,  34.6654,2,    173.6,    173.5,2,   2.2649,2
  74JC20161110, SR01b,     7,  1,      4,      4,2,20161119,1148,-55.1702, -57.9835, 3118,   1600.8,   2.4929,  34.5726,  34.5736,2,    169.6,    168.3,2,   2.4924,2
  74JC20161110, SR01b,     7,  1,      5,      5,2,20161119,1148,-55.1702, -57.9835, 3118,   1011.7,   3.1944,  34.3332,  34.3350,2,    205.2,    210.0,4,   3.1914,2
  74JC20161110, SR01b,     7,  1,      6,      6,2,20161119,1148,-55.1702, -57.9835, 3118,    547.6,   4.6097,  34.1400,  34.1415,2,    278.6,    280.3,2,   4.6156,2
  74JC20161110, SR01b,     7,  1,      7,      7,2,20161119,1148,-55.1702, -57.9835, 3118,    386.0,   4.9144,  34.1185,  34.1200,2,    289.2,    290.1,2,   4.9168,2
  74JC20161110, SR01b,     7,  1,      8,      8,2,20161119,1148,-55.1702, -57.9835, 3118,    235.4,   4.9707,  34.0604,  34.0667,2,    299.3,    301.2,2,   4.9787,2
  74JC20161110, SR01b,     7,  1,      9,      9,2,20161119,1148,-55.1702, -57.9835, 3118,    103.7,   5.6672,  33.9979,  33.9993,2,    304.5,    306.2,2,   5.6704,2
  74JC20161110, SR01b,     7,  1,     10,     10,2,20161119,1148,-55.1702, -57.9835, 3118,     18.6,   5.9923,  33.9449,  33.9452,2,    308.6,    311.1,2,   5.9959,2
  74JC20161110, SR01b,     8,  1,      2,      2,2,20161119,1444,-55.2143, -57.9833, 4004,   4066.9,   0.9459,  34.7072,  34.7076,2,    207.8,    207.2,2,   0.9443,2
  74JC20161110, SR01b,     8,  1,      4,      4,2,20161119,1444,-55.2143, -57.9833, 4004,   4026.0,   0.9430,  34.7074,  34.7074,2,    207.5,    208.0,2,   0.9417,2
  74JC20161110, SR01b,     8,  1,      6,      6,2,20161119,1444,-55.2143, -57.9833, 4004,   3193.7,   1.4088,  34.7218,  34.7218,2,    196.5,    194.6,2,   1.4093,2
  74JC20161110, SR01b,     8,  1,      8,      8,2,20161119,1444,-55.2143, -57.9833, 4004,   2568.9,   1.8634,  34.7138,  34.7133,2,    183.1,    180.2,2,   1.8622,2
  74JC20161110, SR01b,     8,  1,     10,     10,2,20161119,1444,-55.2143, -57.9833, 4004,   2058.9,   2.2150,  34.6759,  34.6766,2,    175.0,   -999.0,9,   2.2156,2
  74JC20161110, SR01b,     8,  1,     12,     12,2,20161119,1444,-55.2143, -57.9833, 4004,   1620.2,   2.4514,  34.5887,  34.5888,2,    170.2,    168.2,2,   2.4528,2
  74JC20161110, SR01b,     8,  1,     14,     14,2,20161119,1444,-55.2143, -57.9833, 4004,   1124.1,   2.9902,  34.3969,  34.3985,2,    190.2,    189.0,2,   2.9914,2
  74JC20161110, SR01b,     8,  1,     16,     16,2,20161119,1444,-55.2143, -57.9833, 4004,    870.7,   3.5347,  34.2695,  34.2697,2,    219.0,    217.9,2,   3.5330,2
  74JC20161110, SR01b,     8,  1,     18,     18,2,20161119,1444,-55.2143, -57.9833, 4004,    305.2,   4.8885,  34.0958,  34.0957,2,    293.1,    291.7,2,   4.8888,2
  74JC20161110, SR01b,     8,  1,     20,     20,2,20161119,1444,-55.2143, -57.9833, 4004,    193.9,   5.0421,  34.0603,  34.0603,2,    299.6,    300.0,2,   5.0411,2
  74JC20161110, SR01b,     8,  1,     22,     22,2,20161119,1444,-55.2143, -57.9833, 4004,     74.0,   5.5580,  34.0072,  34.0073,2,    305.4,    306.3,2,   5.5604,2
  74JC20161110, SR01b,     8,  1,     24,     24,2,20161119,1444,-55.2143, -57.9833, 4004,     22.7,   5.9098,  33.9572,  33.9592,2,    305.9,    307.2,2,   5.9192,2
  74JC20161110, SR01b,     9,  1,      1,      1,2,20161119,1935,-55.5168, -57.9843, 4214,   4283.0,   0.7001,  34.6924,  34.6933,2,    214.9,    214.4,2,   0.6992,2
  74JC20161110, SR01b,     9,  1,      3,      3,2,20161119,1935,-55.5168, -57.9843, 4214,   4241.4,   0.7080,  34.6933,  34.6934,2,    214.5,    213.0,2,   0.7086,2
  74JC20161110, SR01b,     9,  1,      5,      5,2,20161119,1935,-55.5168, -57.9843, 4214,   3726.9,   1.0156,  34.7110,  34.7113,2,    205.5,    204.4,2,   1.0145,2
  74JC20161110, SR01b,     9,  1,      7,      7,2,20161119,1935,-55.5168, -57.9843, 4214,   3141.4,   1.4624,  34.7219,  34.7220,2,    194.7,    196.3,2,   1.4621,2
  74JC20161110, SR01b,     9,  1,      9,      9,2,20161119,1935,-55.5168, -57.9843, 4214,   2805.6,   1.7108,  34.7222,  34.7229,2,    188.8,    186.2,2,   1.7140,2
  74JC20161110, SR01b,     9,  1,     11,     11,2,20161119,1935,-55.5168, -57.9843, 4214,   2527.8,   1.8889,  34.7127,  34.7135,2,    182.2,    181.6,2,   1.8963,2
  74JC20161110, SR01b,     9,  1,     13,     13,2,20161119,1935,-55.5168, -57.9843, 4214,   1989.3,   2.2804,  34.6594,  34.6600,2,    173.7,    172.8,2,   2.2803,2
  74JC20161110, SR01b,     9,  1,     15,     15,2,20161119,1935,-55.5168, -57.9843, 4214,   1774.7,   2.4208,  34.6084,  34.6089,2,    169.2,    168.2,2,   2.4208,2
  74JC20161110, SR01b,     9,  1,     17,     17,2,20161119,1935,-55.5168, -57.9843, 4214,   1001.7,   3.3821,  34.3143,  34.3147,2,    207.3,    206.4,2,   3.3864,2
  74JC20161110, SR01b,     9,  1,     19,     19,2,20161119,1935,-55.5168, -57.9843, 4214,    425.5,   4.8405,  34.1373,  34.1379,2,    285.5,    284.5,2,   4.8461,2
  74JC20161110, SR01b,     9,  1,     21,     21,2,20161119,1935,-55.5168, -57.9843, 4214,    124.4,   5.1911,  34.0069,  34.0069,2,    306.6,    305.6,2,   5.1934,2
  74JC20161110, SR01b,     9,  1,     23,     23,2,20161119,1935,-55.5168, -57.9843, 4214,     18.7,   6.0834,  33.9510,-999.0000,9,    307.6,    307.1,2,   6.1019,2
  74JC20161110, SR01b,    10,  1,      2,      2,2,20161120,0049,-55.8340, -57.8200, 4744,   4829.9,   0.6897,  34.6880,  34.6888,2,    217.1,    216.9,2,   0.6885,2
  74JC20161110, SR01b,    10,  1,      4,      4,2,20161120,0049,-55.8340, -57.8200, 4744,   4788.7,   0.7007,  34.6889,  34.6896,2,    217.3,    215.5,2,   0.7009,2
  74JC20161110, SR01b,    10,  1,      6,      6,2,20161120,0049,-55.8340, -57.8200, 4744,   4354.6,   0.7765,  34.6962,  34.6956,2,    213.0,    211.8,2,   0.7757,2
  74JC20161110, SR01b,    10,  1,      8,      8,2,20161120,0049,-55.8340, -57.8200, 4744,   3944.5,   0.9300,  34.7065,  34.7056,2,    207.3,    205.6,2,   0.9304,2
  74JC20161110, SR01b,    10,  1,     10,     10,2,20161120,0049,-55.8340, -57.8200, 4744,   3092.9,   1.5007,  34.7223,  34.7226,2,    193.7,    193.3,2,   1.4994,2
  74JC20161110, SR01b,    10,  1,     12,     12,2,20161120,0049,-55.8340, -57.8200, 4744,   2274.5,   1.9905,  34.7056,  34.7119,2,    179.3,    181.8,2,   1.9894,2
  74JC20161110, SR01b,    10,  1,     14,     14,2,20161120,0049,-55.8340, -57.8200, 4744,   1620.9,   2.3981,  34.6111,  34.6111,2,    171.4,    171.8,2,   2.3970,2
  74JC20161110, SR01b,    10,  1,     16,     16,2,20161120,0049,-55.8340, -57.8200, 4744,    848.9,   3.3977,  34.2538,  34.2549,2,    223.2,    221.3,2,   3.3912,2
  74JC20161110, SR01b,    10,  1,     18,     18,2,20161120,0049,-55.8340, -57.8200, 4744,    577.3,   4.5267,  34.1698,  34.1705,2,    256.2,    257.1,2,   4.5393,2
  74JC20161110, SR01b,    10,  1,     20,     20,2,20161120,0049,-55.8340, -57.8200, 4744,    227.3,   4.9659,  34.0246,  34.0232,2,    305.1,    304.9,2,   4.9877,2
  74JC20161110, SR01b,    10,  1,     22,     22,2,20161120,0049,-55.8340, -57.8200, 4744,     87.0,   5.2371,  34.0147,  34.0138,2,    307.3,    308.7,2,   5.2365,2
  74JC20161110, SR01b,    10,  1,     24,     24,2,20161120,0049,-55.8340, -57.8200, 4744,     21.8,   5.3711,  34.0074,  34.0070,2,    307.7,    307.5,2,   5.3692,2
  74JC20161110, SR01b,    11,  1,      1,      1,2,20161120,0556,-56.1504, -57.6217, 3374,   3434.8,   1.1405,  34.7153,  34.7148,2,    201.0,    201.4,2,   1.1383,2
  74JC20161110, SR01b,    11,  1,      2,      2,2,20161120,0556,-56.1504, -57.6217, 3374,   3395.4,   1.1759,  34.7165,  34.7155,2,    200.4,    199.5,2,   1.1755,2
  74JC20161110, SR01b,    11,  1,      3,      3,2,20161120,0556,-56.1504, -57.6217, 3374,   2539.0,   1.7799,  34.7174,  34.7172,2,    184.7,    183.4,2,   1.7791,2
  74JC20161110, SR01b,    11,  1,      4,      4,2,20161120,0556,-56.1504, -57.6217, 3374,   2031.3,   2.0661,  34.6959,  34.6957,2,    177.7,    176.7,2,   2.0653,2
  74JC20161110, SR01b,    11,  1,      5,      5,2,20161120,0556,-56.1504, -57.6217, 3374,   1518.8,   2.4128,  34.5996,  34.5990,2,    171.3,    170.1,2,   2.4138,2
  74JC20161110, SR01b,    11,  1,      6,      6,2,20161120,0556,-56.1504, -57.6217, 3374,   1011.8,   2.9749,  34.4001,  34.4010,2,    188.7,    188.6,2,   2.9738,2
  74JC20161110, SR01b,    11,  1,      7,      7,2,20161120,0556,-56.1504, -57.6217, 3374,    507.6,   4.3989,  34.1698,  34.1724,3,    252.3,    251.6,2,   4.4027,2
  74JC20161110, SR01b,    11,  1,      8,      8,2,20161120,0556,-56.1504, -57.6217, 3374,    256.1,   5.0773,  34.1047,  34.1040,2,    290.8,    290.3,2,   5.0740,2
  74JC20161110, SR01b,    11,  1,      9,      9,2,20161120,0556,-56.1504, -57.6217, 3374,     85.5,   5.1623,  34.0110,  34.0109,2,    307.0,    306.9,2,   5.1558,2
  74JC20161110, SR01b,    11,  1,     10,     10,2,20161120,0556,-56.1504, -57.6217, 3374,     18.7,   5.2447,  34.0053,  34.0038,2,    308.6,    310.2,2,   5.2479,2
  74JC20161110, SR01b,    12,  1,     13,     13,2,20161120,1038,-56.4688, -57.3911, 3773,   3857.3,   0.7675,  34.6990,  34.6982,2,    211.1,    210.2,2,   0.7664,2
  74JC20161110, SR01b,    12,  1,     14,     14,2,20161120,1038,-56.4688, -57.3911, 3773,   3814.0,   0.7669,  34.6991,  34.7002,2,    211.1,    210.9,2,   0.7669,2
  74JC20161110, SR01b,    12,  1,     15,     15,2,20161120,1038,-56.4688, -57.3911, 3773,   3634.8,   0.7576,  34.6998,  34.6997,2,    210.6,    211.5,2,   0.7560,2
  74JC20161110, SR01b,    12,  1,     16,     16,2,20161120,1038,-56.4688, -57.3911, 3773,   3023.9,   1.0493,  34.7141,  34.7140,2,    202.7,    200.7,2,   1.0496,2
  74JC20161110, SR01b,    12,  1,     17,     17,2,20161120,1038,-56.4688, -57.3911, 3773,   2226.8,   1.7076,  34.7203,  34.7199,2,    186.5,    186.3,2,   1.7077,2
  74JC20161110, SR01b,    12,  1,     18,     18,2,20161120,1038,-56.4688, -57.3911, 3773,   1372.7,   2.3085,  34.6336,  34.6329,2,    171.2,    169.8,2,   2.3082,2
  74JC20161110, SR01b,    12,  1,     19,     19,2,20161120,1038,-56.4688, -57.3911, 3773,    983.6,   2.5730,  34.4701,  34.4710,2,    180.4,    181.3,2,   2.5762,2
  74JC20161110, SR01b,    12,  1,     20,     20,2,20161120,1038,-56.4688, -57.3911, 3773,    772.0,   3.0624,  34.3742,  34.3732,2,    193.8,    192.6,2,   3.0706,2
  74JC20161110, SR01b,    12,  1,     21,     21,2,20161120,1038,-56.4688, -57.3911, 3773,    367.8,   4.2238,  34.1471,  34.1485,2,    256.3,    255.7,2,   4.2588,2
  74JC20161110, SR01b,    12,  1,     22,     22,2,20161120,1038,-56.4688, -57.3911, 3773,    165.9,   4.2504,  33.9768,  33.9763,2,    305.7,    306.6,2,   4.2557,2
  74JC20161110, SR01b,    12,  1,     23,     23,2,20161120,1038,-56.4688, -57.3911, 3773,     86.2,   4.4541,  33.9442,  33.9432,2,    311.7,    311.6,2,   4.4537,2
  74JC20161110, SR01b,    12,  1,     24,     24,2,20161120,1038,-56.4688, -57.3911, 3773,     20.7,   4.7714,  33.9559,  33.9565,2,    312.1,    312.8,2,   4.7629,2