BOTTLE,20141031SIOCCHAMB
EXPOCODE,SECT_ID,STNNBR,CASTNO,SAMPNO,BTLNBR,BTLNBR_FLAG_W,DATE,TIME,LATITUDE,LONGITUDE,DEPTH,CTDPRS,CTDTMP,CTDSAL,CTDSAL_FLAG_W,SALNTY,SALNTY_FLAG_W,CTDOXY,CTDOXY_FLAG_W,OXYGEN,OXYGEN_FLAG_W,SILCAT,SILCAT_FLAG_W,PHSPHT,PHSPHT_FLAG_W,REVPRS,CTDRAW,THETA,NO2+NO3,NO2+NO3_FLAG_W,REVTMP
,,,,,,,,,,,METERS,DBAR,ITS-90,PSS-78,,PSS-78,,UMOL/KG,,UMOL/KG,,UMOL/KG,,UMOL/KG,,DBAR,DBAR,ITS-90,UMOL/KG,,DEG C
33KB20130930,       PRS2,       2,         10,         18,       8018,2,20131002,       1753,  22.751000,-157.9991667,       4740,     7.4,  26.4248,  35.2262,2,-999.0000,5,    200.7,1,  -999.0,9, -999.00,9, -999.00,9,  -999.0,       6,    26.4231, -999.00,9,     -999.0
33KB20130930,       PRS2,       2,         10,         17,       8017,2,20131002,       1753,  22.751000,-157.9991667,       4740,     7.3,  26.4252,  35.2262,2,  35.2255,2,    200.9,1,  -999.0,9, -999.00,9, -999.00,9,  -999.0,       7,    26.4236, -999.00,9,     -999.0
33KB20130930,       PRS2,       2,         10,         16,       8016,2,20131002,       1753,  22.751000,-157.9991667,       4740,    25.3,  26.4299,  35.2306,2,-999.0000,5,    200.8,1,  -999.0,9, -999.00,9, -999.00,9,  -999.0,      25,    26.4242, -999.00,9,     -999.0
33KB20130930,       PRS2,       2,         10,         15,       8015,2,20131002,       1753,  22.751000,-157.9991667,       4740,    25.0,  26.4314,  35.2303,2,  35.2369,2,    200.8,1,  -999.0,9, -999.00,9, -999.00,9,  -999.0,      25,    26.4257, -999.00,9,     -999.0
33KB20130930,       PRS2,       2,         10,         14,       8014,2,20131002,       1753,  22.751000,-157.9991667,       4740,    46.3,  26.0152,  35.3146,2,-999.0000,5,    204.1,1,  -999.0,9, -999.00,9, -999.00,9,  -999.0,      46,    26.0049, -999.00,9,     -999.0
33KB20130930,       PRS2,       2,         10,         13,       8025,2,20131002,       1753,  22.751000,-157.9991667,       4740,    46.3,  26.0224,  35.3157,2,  35.3098,2,    205.0,1,  -999.0,9, -999.00,9, -999.00,9,  -999.0,      46,    26.0120, -999.00,9,     -999.0
33KB20130930,       PRS2,       2,         10,         12,       8012,2,20131002,       1753,  22.751000,-157.9991667,       4740,    75.4,  23.7234,  35.3669,2,-999.0000,5,    217.5,1,  -999.0,9, -999.00,9, -999.00,9,  -999.0,      75,    23.7076, -999.00,9,     -999.0
33KB20130930,       PRS2,       2,         10,         11,       8011,2,20131002,       1753,  22.751000,-157.9991667,       4740,    75.4,  23.7206,  35.3672,2,  35.3648,2,    217.4,1,  -999.0,9, -999.00,9, -999.00,9,  -999.0,      75,    23.7048, -999.00,9,     -999.0
33KB20130930,       PRS2,       2,         10,         10,       8010,2,20131002,       1753,  22.751000,-157.9991667,       4740,   100.2,  22.3926,  35.3515,2,-999.0000,5,    210.9,1,  -999.0,9, -999.00,9, -999.00,9,  -999.0,      99,    22.3725, -999.00,9,     -999.0
33KB20130930,       PRS2,       2,         10,          9,       8009,2,20131002,       1753,  22.751000,-157.9991667,       4740,   100.2,  22.3738,  35.3503,2,  35.3504,2,    211.1,1,  -999.0,9, -999.00,9, -999.00,9,  -999.0,      99,    22.3538, -999.00,9,     -999.0
33KB20130930,       PRS2,       2,         10,          8,       8008,2,20131002,       1753,  22.751000,-157.9991667,       4740,   125.2,  21.5468,  35.2944,2,-999.0000,5,    206.0,1,  -999.0,9, -999.00,9, -999.00,9,  -999.0,     124,    21.5224, -999.00,9,     -999.0
33KB20130930,       PRS2,       2,         10,          7,       8026,2,20131002,       1753,  22.751000,-157.9991667,       4740,   125.2,  21.5498,  35.2948,2,  35.2909,2,    205.9,1,  -999.0,9, -999.00,9, -999.00,9,  -999.0,     125,    21.5253, -999.00,9,     -999.0
33KB20130930,       PRS2,       2,         10,          6,       8006,2,20131002,       1753,  22.751000,-157.9991667,       4740,   150.1,  20.7623,  35.2303,2,-999.0000,5,    201.6,1,  -999.0,9, -999.00,9, -999.00,9,  -999.0,     150,    20.7338, -999.00,9,     -999.0
33KB20130930,       PRS2,       2,         10,          5,       8005,2,20131002,       1753,  22.751000,-157.9991667,       4740,   150.1,  20.6692,  35.2202,2,  35.1971,4,    201.3,1,  -999.0,9, -999.00,9, -999.00,9,  -999.0,     151,    20.6407, -999.00,9,     -999.0
33KB20130930,       PRS2,       2,         10,          4,       8004,2,20131002,       1753,  22.751000,-157.9991667,       4740,   176.1,  19.5206,  35.0301,2,-999.0000,5,    197.4,1,  -999.0,9, -999.00,9, -999.00,9,  -999.0,     175,    19.4886, -999.00,9,     -999.0
33KB20130930,       PRS2,       2,         10,          3,       8003,2,20131002,       1753,  22.751000,-157.9991667,       4740,   176.0,  19.5136,  35.0310,2,  35.0297,2,    197.3,1,  -999.0,9, -999.00,9, -999.00,9,  -999.0,     175,    19.4816, -999.00,9,     -999.0
33KB20130930,       PRS2,       2,         10,          2,       8002,2,20131002,       1753,  22.751000,-157.9991667,       4740,   501.1,   7.2922,  34.0957,2,  34.0954,2,     98.4,1,  -999.0,9, -999.00,9, -999.00,9,  -999.0,     501,     7.2438, -999.00,9,     -999.0
33KB20130930,       PRS2,       2,         10,          1,       8001,2,20131002,       1753,  22.751000,-157.9991667,       4740,  1020.8,   3.8924,  34.4633,2,  34.4685,2,     46.4,1,  -999.0,9, -999.00,9, -999.00,9,  -999.0,    1020,     3.8159, -999.00,9,     -999.0
33KB20130930,       PRS2,       2,         11,         24,       8024,2,20131002,       2110,  22.748833,-157.9886667,       4740,     7.6,  26.4741,  35.2265,2,  35.2247,2,    202.0,1,  -999.0,9, -999.00,9, -999.00,9,  -999.0,       7,    26.4724, -999.00,9,     -999.0
33KB20130930,       PRS2,       2,         11,         23,       8023,2,20131002,       2110,  22.748833,-157.9886667,       4740,    15.5,  26.4575,  35.2284,2,-999.0000,5,    201.8,1,  -999.0,9, -999.00,9, -999.00,9,  -999.0,      15,    26.4540, -999.00,9,     -999.0
33KB20130930,       PRS2,       2,         11,         22,       8022,2,20131002,       2110,  22.748833,-157.9886667,       4740,    26.2,  26.4460,  35.2565,2,-999.0000,5,    201.4,1,  -999.0,9, -999.00,9, -999.00,9,  -999.0,      25,    26.4400, -999.00,9,     -999.0
33KB20130930,       PRS2,       2,         11,         21,       8021,2,20131002,       2110,  22.748833,-157.9886667,       4740,    35.5,  26.4409,  35.2853,2,-999.0000,5,    201.5,1,  -999.0,9, -999.00,9, -999.00,9,  -999.0,      35,    26.4329, -999.00,9,     -999.0
33KB20130930,       PRS2,       2,         11,         20,       8020,2,20131002,       2110,  22.748833,-157.9886667,       4740,    46.1,  26.2643,  35.2994,2,-999.0000,5,    205.0,1,  -999.0,9, -999.00,9, -999.00,9,  -999.0,      46,    26.2539, -999.00,9,     -999.0
33KB20130930,       PRS2,       2,         11,         19,       8019,2,20131002,       2110,  22.748833,-157.9886667,       4740,    56.1,  25.2781,  35.2890,2,-999.0000,5,    212.1,1,  -999.0,9, -999.00,9, -999.00,9,  -999.0,      56,    25.2658, -999.00,9,     -999.0
33KB20130930,       PRS2,       2,         11,         18,       8018,2,20131002,       2110,  22.748833,-157.9886667,       4740,    65.9,  24.4632,  35.3400,2,-999.0000,5,    215.2,1,  -999.0,9, -999.00,9, -999.00,9,  -999.0,      65,    24.4492, -999.00,9,     -999.0
33KB20130930,       PRS2,       2,         11,         17,       8017,2,20131002,       2110,  22.748833,-157.9886667,       4740,    75.4,  23.7275,  35.3607,2,-999.0000,5,    217.0,1,  -999.0,9, -999.00,9, -999.00,9,  -999.0,      75,    23.7118, -999.00,9,     -999.0
33KB20130930,       PRS2,       2,         11,         16,       8016,2,20131002,       2110,  22.748833,-157.9886667,       4740,    81.6,  23.4796,  35.3628,2,-999.0000,5,    216.5,1,  -999.0,9, -999.00,9, -999.00,9,  -999.0,      81,    23.4626, -999.00,9,     -999.0
33KB20130930,       PRS2,       2,         11,         15,       8015,2,20131002,       2110,  22.748833,-157.9886667,       4740,    86.0,  23.4380,  35.3649,2,-999.0000,5,    215.6,1,  -999.0,9, -999.00,9, -999.00,9,  -999.0,      86,    23.4202, -999.00,9,     -999.0
33KB20130930,       PRS2,       2,         11,         14,       8014,2,20131002,       2110,  22.748833,-157.9886667,       4740,    90.7,  23.1545,  35.3654,2,-999.0000,5,    215.5,1,  -999.0,9, -999.00,9, -999.00,9,  -999.0,      92,    23.1359, -999.00,9,     -999.0
33KB20130930,       PRS2,       2,         11,         13,       8025,2,20131002,       2110,  22.748833,-157.9886667,       4740,    95.9,  22.9523,  35.3598,2,-999.0000,5,    214.9,1,  -999.0,9, -999.00,9, -999.00,9,  -999.0,      95,    22.9328, -999.00,9,     -999.0
33KB20130930,       PRS2,       2,         11,         12,       8012,2,20131002,       2110,  22.748833,-157.9886667,       4740,   101.2,  22.6574,  35.3597,2,-999.0000,5,    212.0,1,  -999.0,9, -999.00,9, -999.00,9,  -999.0,     100,    22.6369, -999.00,9,     -999.0
33KB20130930,       PRS2,       2,         11,         11,       8011,2,20131002,       2110,  22.748833,-157.9886667,       4740,   105.4,  22.4613,  35.3526,2,-999.0000,5,    210.9,1,  -999.0,9, -999.00,9, -999.00,9,  -999.0,     105,    22.4401, -999.00,9,     -999.0
33KB20130930,       PRS2,       2,         11,         10,       8010,2,20131002,       2110,  22.748833,-157.9886667,       4740,   110.4,  22.3122,  35.3502,2,-999.0000,5,    210.0,1,  -999.0,9, -999.00,9, -999.00,9,  -999.0,     110,    22.2901, -999.00,9,     -999.0
33KB20130930,       PRS2,       2,         11,          9,       8009,2,20131002,       2110,  22.748833,-157.9886667,       4740,   115.7,  22.2735,  35.3479,2,-999.0000,5,    208.9,1,  -999.0,9, -999.00,9, -999.00,9,  -999.0,     116,    22.2504, -999.00,9,     -999.0
33KB20130930,       PRS2,       2,         11,          8,       8008,2,20131002,       2110,  22.748833,-157.9886667,       4740,   120.3,  22.2278,  35.3451,2,-999.0000,5,    209.3,1,  -999.0,9, -999.00,9, -999.00,9,  -999.0,     120,    22.2038, -999.00,9,     -999.0
33KB20130930,       PRS2,       2,         11,          7,       8026,2,20131002,       2110,  22.748833,-157.9886667,       4740,   125.2,  21.9451,  35.3241,2,-999.0000,5,    206.9,1,  -999.0,9, -999.00,9, -999.00,9,  -999.0,     126,    21.9203, -999.00,9,     -999.0
33KB20130930,       PRS2,       2,         11,          6,       8006,2,20131002,       2110,  22.748833,-157.9886667,       4740,   130.3,  21.4778,  35.2881,2,-999.0000,5,    203.9,1,  -999.0,9, -999.00,9, -999.00,9,  -999.0,     129,    21.4525, -999.00,9,     -999.0
33KB20130930,       PRS2,       2,         11,          5,       8005,2,20131002,       2110,  22.748833,-157.9886667,       4740,   150.7,  20.8461,  35.2396,2,-999.0000,5,    200.4,1,  -999.0,9, -999.00,9, -999.00,9,  -999.0,     151,    20.8174, -999.00,9,     -999.0
33KB20130930,       PRS2,       2,         11,          4,       8004,2,20131002,       2110,  22.748833,-157.9886667,       4740,   175.2,  19.6972,  35.0691,2,-999.0000,5,    198.4,1,  -999.0,9, -999.00,9, -999.00,9,  -999.0,     175,    19.6652, -999.00,9,     -999.0
33KB20130930,       PRS2,       2,         11,          3,       8003,2,20131002,       2110,  22.748833,-157.9886667,       4740,   200.5,  18.8656,  34.9428,2,-999.0000,5,    194.3,1,  -999.0,9, -999.00,9, -999.00,9,  -999.0,     200,    18.8301, -999.00,9,     -999.0
33KB20130930,       PRS2,       2,         11,          2,       8002,2,20131002,       2110,  22.748833,-157.9886667,       4740,   600.6,   5.6776,  34.0795,2,  34.0776,2,     74.4,1,  -999.0,9, -999.00,9, -999.00,9,  -999.0,     601,     5.6266, -999.00,9,     -999.0
33KB20130930,       PRS2,       2,         11,          1,       8001,2,20131002,       2110,  22.748833,-157.9886667,       4740,  1020.1,   3.8894,  34.4643,2,  34.4656,2,     46.7,1,  -999.0,9, -999.00,9, -999.00,9,  -999.0,    1019,     3.8130, -999.00,9,     -999.0
33KB20130930,       PRS2,       2,         12,         23,       8023,2,20131002,       2348,  22.747833,-157.9796667,       4735,     7.7,  26.5022,  35.2782,2,  35.2763,2,    201.5,1,  -999.0,9, -999.00,9, -999.00,9,  -999.0,       7,    26.5004, -999.00,9,     -999.0
33KB20130930,       PRS2,       2,         12,         22,       8022,2,20131002,       2348,  22.747833,-157.9796667,       4735,    25.2,  26.4880,  35.2750,2,  35.2741,2,    201.4,1,  -999.0,9, -999.00,9, -999.00,9,  -999.0,      25,    26.4823, -999.00,9,     -999.0
33KB20130930,       PRS2,       2,         12,         21,       8021,2,20131002,       2348,  22.747833,-157.9796667,       4735,    45.0,  26.4766,  35.2713,2,  35.2700,2,    201.6,1,  -999.0,9, -999.00,9, -999.00,9,  -999.0,      45,    26.4665, -999.00,9,     -999.0
33KB20130930,       PRS2,       2,         12,         20,       8020,2,20131002,       2348,  22.747833,-157.9796667,       4735,    75.5,  24.8015,  35.2623,2,  35.2664,2,    211.8,1,  -999.0,9, -999.00,9, -999.00,9,  -999.0,      75,    24.7852, -999.00,9,     -999.0
33KB20130930,       PRS2,       2,         12,         19,       8019,2,20131002,       2348,  22.747833,-157.9796667,       4735,   100.0,  22.9732,  35.3573,2,  35.3565,2,    215.3,1,  -999.0,9, -999.00,9, -999.00,9,  -999.0,     101,    22.9528, -999.00,9,     -999.0
33KB20130930,       PRS2,       2,         12,         18,       8018,2,20131002,       2348,  22.747833,-157.9796667,       4735,   124.9,  22.2385,  35.3376,2,  35.3340,2,    210.0,1,  -999.0,9, -999.00,9, -999.00,9,  -999.0,     125,    22.2136, -999.00,9,     -999.0
33KB20130930,       PRS2,       2,         12,         17,       8017,2,20131002,       2348,  22.747833,-157.9796667,       4735,   150.8,  20.7196,  35.2297,2,  35.2199,2,    201.2,1,  -999.0,9, -999.00,9, -999.00,9,  -999.0,     151,    20.6910, -999.00,9,     -999.0
33KB20130930,       PRS2,       2,         12,         16,       8016,2,20131002,       2348,  22.747833,-157.9796667,       4735,   199.9,  17.8214,  34.8040,2,-999.0000,5,    192.1,1,  -999.0,9, -999.00,9, -999.00,9,  -999.0,     200,    17.7874, -999.00,9,     -999.0
33KB20130930,       PRS2,       2,         12,         15,       8015,2,20131002,       2348,  22.747833,-157.9796667,       4735,   200.2,  17.7797,  34.7948,2,-999.0000,5,    192.1,1,  -999.0,9, -999.00,9, -999.00,9,  -999.0,     199,    17.7457, -999.00,9,     -999.0
33KB20130930,       PRS2,       2,         12,         14,       8014,2,20131002,       2348,  22.747833,-157.9796667,       4735,   250.3,  14.8585,  34.4628,2,  34.4765,2,    197.9,1,  -999.0,9, -999.00,9, -999.00,9,  -999.0,     249,    14.8209, -999.00,9,     -999.0
33KB20130930,       PRS2,       2,         12,         13,       8025,2,20131002,       2348,  22.747833,-157.9796667,       4735,   300.7,  12.5252,  34.2776,2,-999.0000,5,    202.3,1,  -999.0,9, -999.00,9, -999.00,9,  -999.0,     300,    12.4850, -999.00,9,     -999.0
33KB20130930,       PRS2,       2,         12,         12,       8012,2,20131002,       2348,  22.747833,-157.9796667,       4735,   300.7,  12.4641,  34.2745,2,-999.0000,5,    202.5,1,  -999.0,9, -999.00,9, -999.00,9,  -999.0,     301,    12.4240, -999.00,9,     -999.0
33KB20130930,       PRS2,       2,         12,         11,       8011,2,20131002,       2348,  22.747833,-157.9796667,       4735,   350.6,  11.0416,  34.1848,2,  34.1862,2,    205.8,1,  -999.0,9, -999.00,9, -999.00,9,  -999.0,     349,    10.9983, -999.00,9,     -999.0
33KB20130930,       PRS2,       2,         12,         10,       8010,2,20131002,       2348,  22.747833,-157.9796667,       4735,   400.1,   9.8827,  34.1377,2,-999.0000,5,    165.4,1,  -999.0,9, -999.00,9, -999.00,9,  -999.0,     402,     9.8367, -999.00,9,     -999.0
33KB20130930,       PRS2,       2,         12,          9,       8009,2,20131002,       2348,  22.747833,-157.9796667,       4735,   500.0,   7.6265,  34.0920,2,-999.0000,5,    112.3,1,  -999.0,9, -999.00,9, -999.00,9,  -999.0,     499,     7.5769, -999.00,9,     -999.0
33KB20130930,       PRS2,       2,         12,          8,       8008,2,20131002,       2348,  22.747833,-157.9796667,       4735,   500.1,   7.6113,  34.0932,2,-999.0000,5,    110.5,1,  -999.0,9, -999.00,9, -999.00,9,  -999.0,     499,     7.5618, -999.00,9,     -999.0
33KB20130930,       PRS2,       2,         12,          7,       8026,2,20131002,       2348,  22.747833,-157.9796667,       4735,   580.6,   5.9542,  34.0698,2,  34.0727,2,     82.4,1,  -999.0,9, -999.00,9, -999.00,9,  -999.0,     580,     5.9038, -999.00,9,     -999.0
33KB20130930,       PRS2,       2,         12,          6,       8006,2,20131002,       2348,  22.747833,-157.9796667,       4735,   600.0,   5.5837,  34.0840,2,-999.0000,5,     72.7,1,  -999.0,9, -999.00,9, -999.00,9,  -999.0,     600,     5.5332, -999.00,9,     -999.0
33KB20130930,       PRS2,       2,         12,          5,       8005,2,20131002,       2348,  22.747833,-157.9796667,       4735,   700.4,   4.9000,  34.2211,2,-999.0000,5,     43.4,1,  -999.0,9, -999.00,9, -999.00,9,  -999.0,     699,     4.8441, -999.00,9,     -999.0
33KB20130930,       PRS2,       2,         12,          4,       8004,2,20131002,       2348,  22.747833,-157.9796667,       4735,   770.2,   4.3995,  34.2802,2,-999.0000,5,     34.1,1,  -999.0,9, -999.00,9, -999.00,9,  -999.0,     770,     4.3405, -999.00,9,     -999.0
33KB20130930,       PRS2,       2,         12,          3,       8003,2,20131002,       2348,  22.747833,-157.9796667,       4735,   801.0,   4.4174,  34.3332,2,-999.0000,5,     36.3,1,  -999.0,9, -999.00,9, -999.00,9,  -999.0,     801,     4.3557, -999.00,9,     -999.0
33KB20130930,       PRS2,       2,         12,          2,       8002,2,20131002,       2348,  22.747833,-157.9796667,       4735,   900.3,   4.1402,  34.4089,2,-999.0000,5,     40.4,1,  -999.0,9, -999.00,9, -999.00,9,  -999.0,     900,     4.0719, -999.00,9,     -999.0
33KB20130930,       PRS2,       2,         12,          1,       8001,2,20131002,       2348,  22.747833,-157.9796667,       4735,  1020.7,   3.8672,  34.4669,2,  34.4681,2,     47.0,1,  -999.0,9, -999.00,9, -999.00,9,  -999.0,    1021,     3.7909, -999.00,9,     -999.0