BOTTLE,20141031SIOCCHAMB
EXPOCODE,SECT_ID,STNNBR,CASTNO,SAMPNO,BTLNBR,BTLNBR_FLAG_W,DATE,TIME,LATITUDE,LONGITUDE,DEPTH,CTDPRS,CTDTMP,CTDSAL,CTDSAL_FLAG_W,SALNTY,SALNTY_FLAG_W,CTDOXY,CTDOXY_FLAG_W,OXYGEN,OXYGEN_FLAG_W,SILCAT,SILCAT_FLAG_W,PHSPHT,PHSPHT_FLAG_W,REVPRS,CTDRAW,THETA,NO2+NO3,NO2+NO3_FLAG_W,REVTMP
,,,,,,,,,,,METERS,DBAR,ITS-90,PSS-78,,PSS-78,,UMOL/KG,,UMOL/KG,,UMOL/KG,,UMOL/KG,,DBAR,DBAR,ITS-90,UMOL/KG,,DEG C
33KB20130930,       PRS2,       6,          1,         13,       8025,2,20131004,       0557,  21.847500,-158.3648333,       2460,     8.0,  26.6073,  35.2452,2,  35.2436,2,    201.7,1,  -999.0,9, -999.00,9, -999.00,9,  -999.0,       8,    26.6055, -999.00,9,     -999.0
33KB20130930,       PRS2,       6,          1,         12,       8012,2,20131004,       0557,  21.847500,-158.3648333,       2460,    25.7,  26.6145,  35.2442,2,  35.2448,2,    201.9,1,  -999.0,9, -999.00,9, -999.00,9,  -999.0,      25,    26.6087, -999.00,9,     -999.0
33KB20130930,       PRS2,       6,          1,         11,       8011,2,20131004,       0557,  21.847500,-158.3648333,       2460,    45.4,  26.5103,  35.3281,2,  35.3283,2,    204.2,1,  -999.0,9, -999.00,9, -999.00,9,  -999.0,      45,    26.5000, -999.00,9,     -999.0
33KB20130930,       PRS2,       6,          1,         10,       8010,2,20131004,       0557,  21.847500,-158.3648333,       2460,    74.6,  24.7221,  35.3413,2,  35.3447,2,    211.3,1,  -999.0,9, -999.00,9, -999.00,9,  -999.0,      75,    24.7061, -999.00,9,     -999.0
33KB20130930,       PRS2,       6,          1,          9,       8009,2,20131004,       0557,  21.847500,-158.3648333,       2460,   100.5,  22.3554,  35.3427,2,  35.3419,2,    210.4,1,  -999.0,9, -999.00,9, -999.00,9,  -999.0,      99,    22.3353, -999.00,9,     -999.0
33KB20130930,       PRS2,       6,          1,          8,       8008,2,20131004,       0557,  21.847500,-158.3648333,       2460,   125.5,  21.2538,  35.3185,2,  35.3163,2,    201.9,1,  -999.0,9, -999.00,9, -999.00,9,  -999.0,     126,    21.2295, -999.00,9,     -999.0
33KB20130930,       PRS2,       6,          1,          7,       8026,2,20131004,       0557,  21.847500,-158.3648333,       2460,   149.8,  20.9222,  35.2915,2,  35.2796,3,    201.6,1,  -999.0,9, -999.00,9, -999.00,9,  -999.0,     148,    20.8935, -999.00,9,     -999.0
33KB20130930,       PRS2,       6,          1,          6,       8006,2,20131004,       0557,  21.847500,-158.3648333,       2460,   174.7,  19.5260,  35.0838,2,  35.0957,2,    196.5,1,  -999.0,9, -999.00,9, -999.00,9,  -999.0,     174,    19.4942, -999.00,9,     -999.0
33KB20130930,       PRS2,       6,          1,          5,       8005,2,20131004,       0557,  21.847500,-158.3648333,       2460,   500.7,   6.7125,  34.0530,2,  34.0529,2,    109.1,1,  -999.0,9, -999.00,9, -999.00,9,  -999.0,     500,     6.6664, -999.00,9,     -999.0
33KB20130930,       PRS2,       6,          1,          4,       8004,2,20131004,       0557,  21.847500,-158.3648333,       2460,  1002.1,   4.5154,  34.4740,2,  34.4738,2,     38.9,1,  -999.0,9, -999.00,9, -999.00,9,  -999.0,    1002,     4.4356, -999.00,9,     -999.0
33KB20130930,       PRS2,       6,          1,          3,       8003,2,20131004,       0557,  21.847500,-158.3648333,       2460,  1499.5,   3.0720,  34.5568,2,  34.5565,2,     63.3,1,  -999.0,9, -999.00,9, -999.00,9,  -999.0,    1500,     2.9634, -999.00,9,     -999.0
33KB20130930,       PRS2,       6,          1,          2,       8002,2,20131004,       0557,  21.847500,-158.3648333,       2460,  2000.3,   2.2113,  34.6142,2,  34.6140,2,     87.1,1,  -999.0,9, -999.00,9, -999.00,9,  -999.0,    1999,     2.0716, -999.00,9,     -999.0
33KB20130930,       PRS2,       6,          1,          1,       8001,2,20131004,       0557,  21.847500,-158.3648333,       2460,  2464.4,   1.8594,  34.6406,2,  34.6413,2,    103.2,1,  -999.0,9, -999.00,9, -999.00,9,  -999.0,    2464,     1.6850, -999.00,9,     -999.0
33KB20130930,       PRS2,      52,          1,          1,       8001,2,20131003,       2153,  22.701333,-157.9511667,       4745,     3.0,  26.6073,  35.2184,2,-999.0000,9,    202.0,1,  -999.0,9, -999.00,9, -999.00,9,  -999.0,       3,    26.6066, -999.00,9,     -999.0