BOTTLE,20141031SIOCCHAMB
EXPOCODE,SECT_ID,STNNBR,CASTNO,SAMPNO,BTLNBR,BTLNBR_FLAG_W,DATE,TIME,LATITUDE,LONGITUDE,DEPTH,CTDPRS,CTDTMP,CTDSAL,CTDSAL_FLAG_W,SALNTY,SALNTY_FLAG_W,CTDOXY,CTDOXY_FLAG_W,OXYGEN,OXYGEN_FLAG_W,SILCAT,SILCAT_FLAG_W,PHSPHT,PHSPHT_FLAG_W,REVPRS,CTDRAW,THETA,NO2+NO3,NO2+NO3_FLAG_W,REVTMP
,,,,,,,,,,,METERS,DBAR,ITS-90,PSS-78,,PSS-78,,UMOL/KG,,UMOL/KG,,UMOL/KG,,UMOL/KG,,DBAR,DBAR,ITS-90,UMOL/KG,,DEG C
33KB20130930,       PRS2,       2,          6,         23,       8023,2,20131002,       0550,  22.810833,-157.9886667,       4711,     7.5,  26.5002,  35.2641,2,  35.2639,2,    202.1,2,  -999.0,5, -999.00,9, -999.00,9,  -999.0,       7,    26.4985, -999.00,9,     -999.0
33KB20130930,       PRS2,       2,          6,         22,       8022,2,20131002,       0550,  22.810833,-157.9886667,       4711,     7.5,  26.5002,  35.2641,2,  35.2625,2,    202.2,2,   201.5,2, -999.00,9, -999.00,9,  -999.0,       8,    26.4985, -999.00,9,     -999.0
33KB20130930,       PRS2,       2,          6,         21,       8021,2,20131002,       0550,  22.810833,-157.9886667,       4711,    17.5,  26.5045,  35.2640,2,  35.2625,2,    202.0,2,  -999.0,5, -999.00,9, -999.00,9,  -999.0,      17,    26.5006, -999.00,9,     -999.0
33KB20130930,       PRS2,       2,          6,         20,       8020,2,20131002,       0550,  22.810833,-157.9886667,       4711,    26.2,  26.5066,  35.2633,2,  35.2666,2,    202.0,2,  -999.0,5, -999.00,9, -999.00,9,  -999.0,      25,    26.5006, -999.00,9,     -999.0
33KB20130930,       PRS2,       2,          6,         19,       8019,2,20131002,       0550,  22.810833,-157.9886667,       4711,    26.2,  26.5069,  35.2633,2,  35.2631,2,    202.0,2,   201.7,2, -999.00,9, -999.00,9,  -999.0,      26,    26.5010, -999.00,9,     -999.0
33KB20130930,       PRS2,       2,          6,         18,       8018,2,20131002,       0550,  22.810833,-157.9886667,       4711,    34.6,  26.5137,  35.2675,2,  35.2814,3,    201.9,3,  -999.0,5, -999.00,9, -999.00,9,  -999.0,      35,    26.5059, -999.00,9,     -999.0
33KB20130930,       PRS2,       2,          6,         17,       8017,2,20131002,       0550,  22.810833,-157.9886667,       4711,    45.4,  26.6868,  35.4394,2,  35.4403,2,    202.0,2,   201.9,2, -999.00,9, -999.00,9,  -999.0,      45,    26.6764, -999.00,9,     -999.0
33KB20130930,       PRS2,       2,          6,         16,       8016,2,20131002,       0550,  22.810833,-157.9886667,       4711,    59.8,  25.2454,  35.4008,2,  35.4042,2,    218.6,2,  -999.0,5, -999.00,9, -999.00,9,  -999.0,      60,    25.2323, -999.00,9,     -999.0
33KB20130930,       PRS2,       2,          6,         15,       8015,2,20131002,       0550,  22.810833,-157.9886667,       4711,    76.7,  23.9818,  35.3630,2,  35.3616,2,    219.8,2,   218.6,2, -999.00,9, -999.00,9,  -999.0,      76,    23.9656, -999.00,9,     -999.0
33KB20130930,       PRS2,       2,          6,         14,       8014,2,20131002,       0550,  22.810833,-157.9886667,       4711,    84.7,  23.3146,  35.3536,2,  35.3512,2,    215.0,2,   215.5,2, -999.00,9, -999.00,9,  -999.0,      86,    23.2971, -999.00,9,     -999.0
33KB20130930,       PRS2,       2,          6,         13,       8025,2,20131002,       0550,  22.810833,-157.9886667,       4711,    90.0,  22.9332,  35.3437,2,  35.3388,2,    213.7,2,  -999.0,5, -999.00,9, -999.00,9,  -999.0,      89,    22.9148, -999.00,9,     -999.0
33KB20130930,       PRS2,       2,          6,         12,       8012,2,20131002,       0550,  22.810833,-157.9886667,       4711,   101.5,  22.3742,  35.3306,2,  35.3299,2,    209.6,2,   209.1,2, -999.00,9, -999.00,9,  -999.0,     100,    22.3538, -999.00,9,     -999.0
33KB20130930,       PRS2,       2,          6,         11,       8011,2,20131002,       0550,  22.810833,-157.9886667,       4711,   110.7,  21.9830,  35.3074,2,  35.3027,2,    205.9,2,  -999.0,5, -999.00,9, -999.00,9,  -999.0,     111,    21.9611, -999.00,9,     -999.0
33KB20130930,       PRS2,       2,          6,         10,       8010,2,20131002,       0550,  22.810833,-157.9886667,       4711,   115.9,  21.7355,  35.2931,2,  35.2836,2,    209.2,2,   209.9,2, -999.00,9, -999.00,9,  -999.0,     116,    21.7127, -999.00,9,     -999.0
33KB20130930,       PRS2,       2,          6,          9,       8009,2,20131002,       0550,  22.810833,-157.9886667,       4711,   125.9,  21.4969,  35.2756,2,  35.2743,2,    209.6,2,   209.1,2, -999.00,9, -999.00,9,  -999.0,     126,    21.4724, -999.00,9,     -999.0
33KB20130930,       PRS2,       2,          6,          8,       8008,2,20131002,       0550,  22.810833,-157.9886667,       4711,   130.4,  21.4870,  35.2765,2,  35.2737,2,    209.4,2,  -999.0,5, -999.00,9, -999.00,9,  -999.0,     129,    21.4616, -999.00,9,     -999.0
33KB20130930,       PRS2,       2,          6,          7,       8026,2,20131002,       0550,  22.810833,-157.9886667,       4711,   150.5,  20.6030,  35.1935,2,  35.1935,2,    200.9,2,   199.3,2, -999.00,9, -999.00,9,  -999.0,     150,    20.5746, -999.00,9,     -999.0
33KB20130930,       PRS2,       2,          6,          6,       8006,2,20131002,       0550,  22.810833,-157.9886667,       4711,   165.6,  19.8609,  35.0960,2,  35.1043,2,    191.2,2,   194.7,2, -999.00,9, -999.00,9,  -999.0,     164,    19.8304, -999.00,9,     -999.0
33KB20130930,       PRS2,       2,          6,          5,       8005,2,20131002,       0550,  22.810833,-157.9886667,       4711,   175.4,  19.6890,  35.0710,2,  35.0476,4,    192.9,3,   193.5,2, -999.00,9, -999.00,9,  -999.0,     175,    19.6569, -999.00,9,     -999.0
33KB20130930,       PRS2,       2,          6,          4,       8004,2,20131002,       0550,  22.810833,-157.9886667,       4711,   200.3,  17.7859,  34.8004,2,  34.8098,2,    192.5,2,   192.6,2, -999.00,9, -999.00,9,  -999.0,     200,    17.7518, -999.00,9,     -999.0
33KB20130930,       PRS2,       2,          6,          3,       8003,2,20131002,       0550,  22.810833,-157.9886667,       4711,   529.8,   6.6341,  34.0654,2,  34.0672,2,     99.2,2,    99.7,2, -999.00,9, -999.00,9,  -999.0,     529,     6.5856, -999.00,9,     -999.0
33KB20130930,       PRS2,       2,          6,          2,       8002,2,20131002,       0550,  22.810833,-157.9886667,       4711,   770.3,   4.4811,  34.2962,2,  34.2942,2,     34.7,2,    35.4,2, -999.00,9, -999.00,9,  -999.0,     770,     4.4215, -999.00,9,     -999.0
33KB20130930,       PRS2,       2,          6,          1,       8001,2,20131002,       0550,  22.810833,-157.9886667,       4711,  1019.4,   3.8554,  34.4673,2,  34.4693,2,     47.0,2,    46.9,2, -999.00,9, -999.00,9,  -999.0,    1019,     3.7793, -999.00,9,     -999.0
33KB20130930,       PRS2,       2,          7,         10,       8010,2,20131002,       0902,  22.805000,-157.9686667,       4705,     7.4,  26.4791,  35.2714,2,  35.2704,2,    201.5,1,  -999.0,9, -999.00,9, -999.00,9,  -999.0,       7,    26.4774, -999.00,9,     -999.0
33KB20130930,       PRS2,       2,          7,          9,       8009,2,20131002,       0902,  22.805000,-157.9686667,       4705,    25.0,  26.5222,  35.2935,2,  35.2976,2,    201.5,1,  -999.0,9, -999.00,9, -999.00,9,  -999.0,      25,    26.5165, -999.00,9,     -999.0
33KB20130930,       PRS2,       2,          7,          8,       8008,2,20131002,       0902,  22.805000,-157.9686667,       4705,    45.1,  26.6060,  35.3790,2,  35.3910,3,    201.5,1,  -999.0,9, -999.00,9, -999.00,9,  -999.0,      45,    26.5958, -999.00,9,     -999.0
33KB20130930,       PRS2,       2,          7,          7,       8026,2,20131002,       0902,  22.805000,-157.9686667,       4705,    75.4,  24.0150,  35.3791,2,  35.3733,2,    220.3,1,  -999.0,9, -999.00,9, -999.00,9,  -999.0,      75,    23.9991, -999.00,9,     -999.0
33KB20130930,       PRS2,       2,          7,          6,       8006,2,20131002,       0902,  22.805000,-157.9686667,       4705,    99.3,  22.3655,  35.3308,2,  35.3317,2,    208.0,1,  -999.0,9, -999.00,9, -999.00,9,  -999.0,     100,    22.3456, -999.00,9,     -999.0
33KB20130930,       PRS2,       2,          7,          5,       8005,2,20131002,       0902,  22.805000,-157.9686667,       4705,   125.7,  21.2016,  35.2508,2,  35.2509,2,    206.1,1,  -999.0,9, -999.00,9, -999.00,9,  -999.0,     125,    21.1774, -999.00,9,     -999.0
33KB20130930,       PRS2,       2,          7,          4,       8004,2,20131002,       0902,  22.805000,-157.9686667,       4705,   150.1,  20.3912,  35.1694,2,  35.1624,2,    195.5,1,  -999.0,9, -999.00,9, -999.00,9,  -999.0,     150,    20.3630, -999.00,9,     -999.0
33KB20130930,       PRS2,       2,          7,          3,       8003,2,20131002,       0902,  22.805000,-157.9686667,       4705,   174.3,  19.3752,  35.0254,2,  35.0179,2,    192.5,1,  -999.0,9, -999.00,9, -999.00,9,  -999.0,     174,    19.3437, -999.00,9,     -999.0
33KB20130930,       PRS2,       2,          7,          2,       8002,2,20131002,       0902,  22.805000,-157.9686667,       4705,   530.3,   6.6053,  34.0638,2,  34.0641,2,    100.2,1,  -999.0,9, -999.00,9, -999.00,9,  -999.0,     531,     6.5568, -999.00,9,     -999.0
33KB20130930,       PRS2,       2,          7,          1,       8001,2,20131002,       0902,  22.805000,-157.9686667,       4705,  1020.2,   3.8862,  34.4651,2,  34.4659,2,     46.9,1,  -999.0,9, -999.00,9, -999.00,9,  -999.0,    1020,     3.8098, -999.00,9,     -999.0
33KB20130930,       PRS2,       2,          8,         14,       8014,2,20131002,       1148,  22.750167,-158.0183333,       4745,     7.8,  26.4417,  35.2595,2,  35.2586,2,    201.5,1,  -999.0,9, -999.00,9, -999.00,9,  -999.0,       8,    26.4399, -999.00,9,     -999.0
33KB20130930,       PRS2,       2,          8,         13,       8025,2,20131002,       1148,  22.750167,-158.0183333,       4745,     7.9,  26.4413,  35.2595,2,  35.2586,2,    201.3,1,  -999.0,9, -999.00,9, -999.00,9,  -999.0,       8,    26.4396, -999.00,9,     -999.0
33KB20130930,       PRS2,       2,          8,         12,       8012,2,20131002,       1148,  22.750167,-158.0183333,       4745,    25.8,  26.4453,  35.2574,2,  35.2580,2,    201.2,1,  -999.0,9, -999.00,9, -999.00,9,  -999.0,      25,    26.4394, -999.00,9,     -999.0
33KB20130930,       PRS2,       2,          8,         11,       8011,2,20131002,       1148,  22.750167,-158.0183333,       4745,    25.7,  26.4455,  35.2577,2,  35.2576,2,    201.2,1,  -999.0,9, -999.00,9, -999.00,9,  -999.0,      25,    26.4397, -999.00,9,     -999.0
33KB20130930,       PRS2,       2,          8,         10,       8010,3,20131002,       1148,  22.750167,-158.0183333,       4745,    45.2,  26.4599,  35.2637,2,  35.2702,2,    201.1,1,  -999.0,9, -999.00,9, -999.00,9,  -999.0,      44,    26.4496, -999.00,9,     -999.0
33KB20130930,       PRS2,       2,          8,          9,       8009,3,20131002,       1148,  22.750167,-158.0183333,       4745,    45.2,  26.4591,  35.2631,2,  35.2645,2,    201.1,1,  -999.0,9, -999.00,9, -999.00,9,  -999.0,      44,    26.4489, -999.00,9,     -999.0
33KB20130930,       PRS2,       2,          8,          8,       8008,3,20131002,       1148,  22.750167,-158.0183333,       4745,    75.7,  25.7433,  35.4285,2,  35.4296,2,    210.0,1,  -999.0,9, -999.00,9, -999.00,9,  -999.0,      76,    25.7265, -999.00,9,     -999.0
33KB20130930,       PRS2,       2,          8,          7,       8026,3,20131002,       1148,  22.750167,-158.0183333,       4745,    75.7,  25.6836,  35.4234,2,  35.4281,2,    210.3,1,  -999.0,9, -999.00,9, -999.00,9,  -999.0,      76,    25.6668, -999.00,9,     -999.0
33KB20130930,       PRS2,       2,          8,          6,       8006,3,20131002,       1148,  22.750167,-158.0183333,       4745,    99.8,  22.9478,  35.3530,2,  35.3516,2,    217.1,1,  -999.0,9, -999.00,9, -999.00,9,  -999.0,      99,    22.9274, -999.00,9,     -999.0
33KB20130930,       PRS2,       2,          8,          5,       8005,3,20131002,       1148,  22.750167,-158.0183333,       4745,    99.9,  22.7902,  35.3430,2,  35.3472,2,    216.7,1,  -999.0,9, -999.00,9, -999.00,9,  -999.0,      99,    22.7699, -999.00,9,     -999.0
33KB20130930,       PRS2,       2,          8,          4,       8004,3,20131002,       1148,  22.750167,-158.0183333,       4745,   125.2,  21.6232,  35.2743,2,  35.2765,2,    206.7,1,  -999.0,9, -999.00,9, -999.00,9,  -999.0,     126,    21.5988, -999.00,9,     -999.0
33KB20130930,       PRS2,       2,          8,          3,       8003,3,20131002,       1148,  22.750167,-158.0183333,       4745,   124.9,  21.6169,  35.2736,2,  35.2725,2,    206.7,1,  -999.0,9, -999.00,9, -999.00,9,  -999.0,     126,    21.5925, -999.00,9,     -999.0
33KB20130930,       PRS2,       2,          8,          2,       8002,3,20131002,       1148,  22.750167,-158.0183333,       4745,   586.2,   5.9302,  34.0699,2,  34.0711,2,     83.3,1,  -999.0,9, -999.00,9, -999.00,9,  -999.0,     586,     5.8794, -999.00,9,     -999.0
33KB20130930,       PRS2,       2,          8,          1,       8001,3,20131002,       1148,  22.750167,-158.0183333,       4745,  1020.0,   3.8871,  34.4701,2,  34.4716,2,     46.9,1,  -999.0,9, -999.00,9, -999.00,9,  -999.0,    1020,     3.8107, -999.00,9,     -999.0
33KB20130930,       PRS2,       2,          9,         24,       8024,2,20131002,       1450,  22.750167,-157.9996667,       4739,     5.6,  26.3916,  35.2140,2,  35.2130,2,    201.5,1,  -999.0,9, -999.00,9, -999.00,9,  -999.0,       5,    26.3903, -999.00,9,     -999.0
33KB20130930,       PRS2,       2,          9,         23,       8023,2,20131002,       1450,  22.750167,-157.9996667,       4739,     5.6,  26.3918,  35.2141,2,-999.0000,5,    201.5,1,  -999.0,9, -999.00,9, -999.00,9,  -999.0,       5,    26.3906, -999.00,9,     -999.0
33KB20130930,       PRS2,       2,          9,         22,       8022,2,20131002,       1450,  22.750167,-157.9996667,       4739,     5.7,  26.3930,  35.2140,2,-999.0000,5,    201.5,1,  -999.0,9, -999.00,9, -999.00,9,  -999.0,       5,    26.3917, -999.00,9,     -999.0
33KB20130930,       PRS2,       2,          9,         21,       8021,2,20131002,       1450,  22.750167,-157.9996667,       4739,    24.8,  26.3941,  35.2119,2,-999.0000,5,    201.4,1,  -999.0,9, -999.00,9, -999.00,9,  -999.0,      25,    26.3885, -999.00,9,     -999.0
33KB20130930,       PRS2,       2,          9,         20,       8020,2,20131002,       1450,  22.750167,-157.9996667,       4739,    24.8,  26.3948,  35.2125,2,-999.0000,5,    201.4,1,  -999.0,9, -999.00,9, -999.00,9,  -999.0,      25,    26.3892, -999.00,9,     -999.0
33KB20130930,       PRS2,       2,          9,         19,       8019,2,20131002,       1450,  22.750167,-157.9996667,       4739,    45.7,  26.4096,  35.2214,2,-999.0000,5,    200.1,1,  -999.0,9, -999.00,9, -999.00,9,  -999.0,      45,    26.3993, -999.00,9,     -999.0
33KB20130930,       PRS2,       2,          9,         18,       8018,2,20131002,       1450,  22.750167,-157.9996667,       4739,    45.7,  26.4173,  35.2249,2,-999.0000,5,    201.1,1,  -999.0,9, -999.00,9, -999.00,9,  -999.0,      45,    26.4070, -999.00,9,     -999.0
33KB20130930,       PRS2,       2,          9,         17,       8017,2,20131002,       1450,  22.750167,-157.9996667,       4739,    75.1,  25.1919,  35.3845,2,-999.0000,5,    214.2,1,  -999.0,9, -999.00,9, -999.00,9,  -999.0,      75,    25.1755, -999.00,9,     -999.0
33KB20130930,       PRS2,       2,          9,         16,       8016,2,20131002,       1450,  22.750167,-157.9996667,       4739,    75.1,  25.1563,  35.3918,2,-999.0000,5,    214.8,1,  -999.0,9, -999.00,9, -999.00,9,  -999.0,      74,    25.1399, -999.00,9,     -999.0
33KB20130930,       PRS2,       2,          9,         15,       8015,2,20131002,       1450,  22.750167,-157.9996667,       4739,   100.9,  22.6638,  35.3615,2,-999.0000,5,    213.5,1,  -999.0,9, -999.00,9, -999.00,9,  -999.0,     101,    22.6434, -999.00,9,     -999.0
33KB20130930,       PRS2,       2,          9,         14,       8014,2,20131002,       1450,  22.750167,-157.9996667,       4739,   101.0,  22.6350,  35.3603,2,-999.0000,5,    213.7,1,  -999.0,9, -999.00,9, -999.00,9,  -999.0,     101,    22.6146, -999.00,9,     -999.0
33KB20130930,       PRS2,       2,          9,         13,       8025,2,20131002,       1450,  22.750167,-157.9996667,       4739,   125.8,  21.7491,  35.2829,2,-999.0000,5,    210.6,1,  -999.0,9, -999.00,9, -999.00,9,  -999.0,     125,    21.7244, -999.00,9,     -999.0
33KB20130930,       PRS2,       2,          9,         12,       8012,2,20131002,       1450,  22.750167,-157.9996667,       4739,   125.8,  21.7403,  35.2810,2,-999.0000,5,    210.5,1,  -999.0,9, -999.00,9, -999.00,9,  -999.0,     126,    21.7156, -999.00,9,     -999.0
33KB20130930,       PRS2,       2,          9,         11,       8011,2,20131002,       1450,  22.750167,-157.9996667,       4739,   150.8,  20.8044,  35.2117,2,-999.0000,5,    202.5,1,  -999.0,9, -999.00,9, -999.00,9,  -999.0,     149,    20.7757, -999.00,9,     -999.0
33KB20130930,       PRS2,       2,          9,         10,       8010,2,20131002,       1450,  22.750167,-157.9996667,       4739,   150.4,  20.8017,  35.2120,2,-999.0000,5,    202.6,1,  -999.0,9, -999.00,9, -999.00,9,  -999.0,     150,    20.7731, -999.00,9,     -999.0
33KB20130930,       PRS2,       2,          9,          9,       8009,2,20131002,       1450,  22.750167,-157.9996667,       4739,   175.8,  19.7986,  35.0772,2,-999.0000,5,    198.3,1,  -999.0,9, -999.00,9, -999.00,9,  -999.0,     175,    19.7663, -999.00,9,     -999.0
33KB20130930,       PRS2,       2,          9,          8,       8008,2,20131002,       1450,  22.750167,-157.9996667,       4739,   175.6,  19.7987,  35.0782,2,-999.0000,5,    197.0,1,  -999.0,9, -999.00,9, -999.00,9,  -999.0,     176,    19.7665, -999.00,9,     -999.0
33KB20130930,       PRS2,       2,          9,          7,       8026,2,20131002,       1450,  22.750167,-157.9996667,       4739,   580.1,   5.8361,  34.0704,2,  34.2695,4,     81.2,1,  -999.0,9, -999.00,9, -999.00,9,  -999.0,     580,     5.7863, -999.00,9,     -999.0
33KB20130930,       PRS2,       2,          9,          6,       8006,2,20131002,       1450,  22.750167,-157.9996667,       4739,  1020.3,   3.8808,  34.4645,2,  34.4657,2,     46.7,1,  -999.0,9, -999.00,9, -999.00,9,  -999.0,    1019,     3.8045, -999.00,9,     -999.0
33KB20130930,       PRS2,       2,          9,          5,       8005,2,20131002,       1450,  22.750167,-157.9996667,       4739,  1020.5,   3.8812,  34.4643,2,  34.4657,2,     46.7,1,  -999.0,9, -999.00,9, -999.00,9,  -999.0,    1019,     3.8048, -999.00,9,     -999.0
33KB20130930,       PRS2,       2,          9,          4,       8004,2,20131002,       1450,  22.750167,-157.9996667,       4739,  1019.7,   3.8818,  34.4649,2,  34.4652,2,     46.7,1,  -999.0,9, -999.00,9, -999.00,9,  -999.0,    1021,     3.8055, -999.00,9,     -999.0
33KB20130930,       PRS2,       2,          9,          3,       8003,2,20131002,       1450,  22.750167,-157.9996667,       4739,  1020.0,   3.8832,  34.4644,2,  34.4652,2,     46.7,1,  -999.0,9, -999.00,9, -999.00,9,  -999.0,    1021,     3.8069, -999.00,9,     -999.0
33KB20130930,       PRS2,       2,          9,          2,       8002,2,20131002,       1450,  22.750167,-157.9996667,       4739,  1020.2,   3.8841,  34.4640,2,  34.4652,2,     46.7,1,  -999.0,9, -999.00,9, -999.00,9,  -999.0,    1020,     3.8078, -999.00,9,     -999.0
33KB20130930,       PRS2,       2,          9,          1,       8001,2,20131002,       1450,  22.750167,-157.9996667,       4739,  1020.1,   3.8856,  34.4640,2,  34.4675,2,     46.8,1,  -999.0,9, -999.00,9, -999.00,9,  -999.0,    1019,     3.8093, -999.00,9,     -999.0