BOTTLE,20141031SIOCCHAMB
EXPOCODE,SECT_ID,STNNBR,CASTNO,SAMPNO,BTLNBR,BTLNBR_FLAG_W,DATE,TIME,LATITUDE,LONGITUDE,DEPTH,CTDPRS,CTDTMP,CTDSAL,CTDSAL_FLAG_W,SALNTY,SALNTY_FLAG_W,CTDOXY,CTDOXY_FLAG_W,OXYGEN,OXYGEN_FLAG_W,SILCAT,SILCAT_FLAG_W,PHSPHT,PHSPHT_FLAG_W,REVPRS,CTDRAW,THETA,NO2+NO3,NO2+NO3_FLAG_W,REVTMP
,,,,,,,,,,,METERS,DBAR,ITS-90,PSS-78,,PSS-78,,UMOL/KG,,UMOL/KG,,UMOL/KG,,UMOL/KG,,DBAR,DBAR,ITS-90,UMOL/KG,,DEG C
33KB20130930,       PRS2,       1,          1,         24,       8024,2,20130930,       2312,  21.343500,-158.2740000,       1710,     7.8,  26.7533,  35.1192,2,  35.1201,2,    200.4,2,   200.8,2, -999.00,9, -999.00,9,  -999.0,       7,    26.7515, -999.00,9,     -999.0
33KB20130930,       PRS2,       1,          1,         23,       8023,2,20130930,       2312,  21.343500,-158.2740000,       1710,     7.8,  26.7566,  35.1184,2,  35.1193,2,    200.5,2,   200.5,2, -999.00,9, -999.00,9,  -999.0,       7,    26.7548, -999.00,9,     -999.0
33KB20130930,       PRS2,       1,          1,         22,       8022,2,20130930,       2312,  21.343500,-158.2740000,       1710,    25.2,  26.7697,  35.1168,2,  35.1270,2,    200.4,2,   182.4,4, -999.00,9, -999.00,9,  -999.0,      25,    26.7640, -999.00,9,     -999.0
33KB20130930,       PRS2,       1,          1,         21,       8021,2,20130930,       2312,  21.343500,-158.2740000,       1710,    45.7,  26.7305,  35.1255,2,  35.1272,2,    201.6,2,   200.7,2, -999.00,9, -999.00,9,  -999.0,      45,    26.7201, -999.00,9,     -999.0
33KB20130930,       PRS2,       1,          1,         20,       8020,2,20130930,       2312,  21.343500,-158.2740000,       1710,    61.4,  26.7244,  35.1286,2,  35.1280,2,    201.1,2,   201.5,2, -999.00,9, -999.00,9,  -999.0,      61,    26.7104, -999.00,9,     -999.0
33KB20130930,       PRS2,       1,          1,         19,       8019,2,20130930,       2312,  21.343500,-158.2740000,       1710,    75.1,  26.6655,  35.2105,2,  35.1569,3,    205.4,3,   202.0,2, -999.00,9, -999.00,9,  -999.0,      74,    26.6484, -999.00,9,     -999.0
33KB20130930,       PRS2,       1,          1,         18,       8018,2,20130930,       2312,  21.343500,-158.2740000,       1710,   101.4,  24.3643,  35.3404,2,  35.3403,2,    215.7,2,   215.9,2, -999.00,9, -999.00,9,  -999.0,     101,    24.3427, -999.00,9,     -999.0
33KB20130930,       PRS2,       1,          1,         17,       8017,2,20130930,       2312,  21.343500,-158.2740000,       1710,   115.6,  23.7079,  35.3320,2,  35.3342,2,    209.7,2,   208.8,2, -999.00,9, -999.00,9,  -999.0,     115,    23.6838, -999.00,9,     -999.0
33KB20130930,       PRS2,       1,          1,         16,       8016,2,20130930,       2312,  21.343500,-158.2740000,       1710,   124.4,  23.3652,  35.3222,2,  35.3252,2,    204.3,2,   205.9,2, -999.00,9, -999.00,9,  -999.0,     124,    23.3395, -999.00,9,     -999.0
33KB20130930,       PRS2,       1,          1,         15,       8015,2,20130930,       2312,  21.343500,-158.2740000,       1710,   150.9,  21.7306,  35.2413,2,  35.2387,2,    194.3,2,   194.5,2, -999.00,9, -999.00,9,  -999.0,     150,    21.7010, -999.00,9,     -999.0
33KB20130930,       PRS2,       1,          1,         14,       8014,2,20130930,       2312,  21.343500,-158.2740000,       1710,   175.7,  20.5741,  35.1406,2,  35.1144,3,    192.4,3,   189.1,2, -999.00,9, -999.00,9,  -999.0,     176,    20.5409, -999.00,9,     -999.0
33KB20130930,       PRS2,       1,          1,         13,       8025,2,20130930,       2312,  21.343500,-158.2740000,       1710,   200.7,  18.3959,  34.8646,2,  34.8727,2,    183.8,2,   185.0,2, -999.00,9, -999.00,9,  -999.0,     201,    18.3609, -999.00,9,     -999.0
33KB20130930,       PRS2,       1,          1,         12,       8012,2,20130930,       2312,  21.343500,-158.2740000,       1710,   225.2,  16.3649,  34.6174,2,  34.6305,2,    187.5,2,   187.7,2, -999.00,9, -999.00,9,  -999.0,     225,    16.3287, -999.00,9,     -999.0
33KB20130930,       PRS2,       1,          1,         11,       8011,2,20130930,       2312,  21.343500,-158.2740000,       1710,   251.6,  14.6907,  34.4434,2,  34.4365,2,    188.9,2,   191.4,2, -999.00,9, -999.00,9,  -999.0,     251,    14.6533, -999.00,9,     -999.0
33KB20130930,       PRS2,       1,          1,         10,       8010,2,20130930,       2312,  21.343500,-158.2740000,       1710,   300.2,  12.7378,  34.2957,2,  34.2862,2,    189.2,2,   189.2,2, -999.00,9, -999.00,9,  -999.0,     299,    12.6972, -999.00,9,     -999.0
33KB20130930,       PRS2,       1,          1,          9,       8009,2,20130930,       2312,  21.343500,-158.2740000,       1710,   350.4,  10.3828,  34.1582,2,  34.1599,2,    165.0,2,   164.6,2, -999.00,9, -999.00,9,  -999.0,     350,    10.3413, -999.00,9,     -999.0
33KB20130930,       PRS2,       1,          1,          8,       8008,2,20130930,       2312,  21.343500,-158.2740000,       1710,   401.3,   8.9636,  34.1521,2,  34.1532,2,    126.2,2,   126.0,2, -999.00,9, -999.00,9,  -999.0,     401,     8.9201, -999.00,9,     -999.0
33KB20130930,       PRS2,       1,          1,          7,       8026,2,20130930,       2312,  21.343500,-158.2740000,       1710,   499.8,   7.0759,  34.1973,2,  34.1979,2,     63.3,2,    63.0,2, -999.00,9, -999.00,9,  -999.0,     499,     7.0284, -999.00,9,     -999.0
33KB20130930,       PRS2,       1,          1,          6,       8006,2,20130930,       2312,  21.343500,-158.2740000,       1710,   600.5,   6.2495,  34.2758,2,  34.2776,2,     37.5,2,    37.0,2, -999.00,9, -999.00,9,  -999.0,     601,     6.1957, -999.00,9,     -999.0
33KB20130930,       PRS2,       1,          1,          5,       8005,2,20130930,       2312,  21.343500,-158.2740000,       1710,   701.2,   5.2139,  34.3540,2,  34.3556,2,     31.1,2,    31.4,2, -999.00,9, -999.00,9,  -999.0,     701,     5.1560, -999.00,9,     -999.0
33KB20130930,       PRS2,       1,          1,          4,       8004,2,20130930,       2312,  21.343500,-158.2740000,       1710,   750.4,   5.1199,  34.3962,2,  34.3988,2,     32.2,2,    32.4,2, -999.00,9, -999.00,9,  -999.0,     750,     5.0582, -999.00,9,     -999.0
33KB20130930,       PRS2,       1,          1,          3,       8003,2,20130930,       2312,  21.343500,-158.2740000,       1710,   901.0,   4.5555,  34.4600,2,  34.4612,2,     39.1,2,    39.1,2, -999.00,9, -999.00,9,  -999.0,     901,     4.4843, -999.00,9,     -999.0
33KB20130930,       PRS2,       1,          1,          2,       8002,2,20130930,       2312,  21.343500,-158.2740000,       1710,   901.1,   4.5554,  34.4598,2,  34.4618,2,     39.2,2,    39.2,2, -999.00,9, -999.00,9,  -999.0,     900,     4.4841, -999.00,9,     -999.0
33KB20130930,       PRS2,       1,          1,          1,       8001,2,20130930,       2312,  21.343500,-158.2740000,       1710,  1020.0,   4.2142,  34.4873,2,  34.4907,2,     43.6,2,    43.8,2, -999.00,9, -999.00,9,  -999.0,    1020,     4.1352, -999.00,9,     -999.0
33KB20130930,       PRS2,       2,          1,         24,       8024,2,20131001,       1150,  22.749500,-158.0168333,       4744,     7.3,  26.4501,  35.2404,2,-999.0000,5,    201.7,1,  -999.0,9, -999.00,9, -999.00,9,  -999.0,       6,    26.4484, -999.00,9,     -999.0
33KB20130930,       PRS2,       2,          1,         23,       8023,2,20131001,       1150,  22.749500,-158.0168333,       4744,     7.4,  26.4498,  35.2406,2,-999.0000,5,    201.6,1,  -999.0,9, -999.00,9, -999.00,9,  -999.0,       7,    26.4481, -999.00,9,     -999.0
33KB20130930,       PRS2,       2,          1,         22,       8022,2,20131001,       1150,  22.749500,-158.0168333,       4744,     7.7,  26.4498,  35.2406,2,  35.2410,2,    201.5,1,  -999.0,9, -999.00,9, -999.00,9,  -999.0,       7,    26.4480, -999.00,9,     -999.0
33KB20130930,       PRS2,       2,          1,         21,       8021,2,20131001,       1150,  22.749500,-158.0168333,       4744,     7.2,  26.4489,  35.2407,2,  35.2418,2,    201.4,1,  -999.0,9, -999.00,9, -999.00,9,  -999.0,       7,    26.4473, -999.00,9,     -999.0
33KB20130930,       PRS2,       2,          1,         20,       8020,2,20131001,       1150,  22.749500,-158.0168333,       4744,     7.5,  26.4483,  35.2411,2,  35.2414,2,    201.4,1,  -999.0,9, -999.00,9, -999.00,9,  -999.0,       6,    26.4466, -999.00,9,     -999.0
33KB20130930,       PRS2,       2,          1,         19,       8019,2,20131001,       1150,  22.749500,-158.0168333,       4744,    25.4,  26.4618,  35.2404,2,  35.2442,2,    201.4,1,  -999.0,9, -999.00,9, -999.00,9,  -999.0,      25,    26.4561, -999.00,9,     -999.0
33KB20130930,       PRS2,       2,          1,         18,       8018,2,20131001,       1150,  22.749500,-158.0168333,       4744,    25.2,  26.4640,  35.2420,2,  35.2454,2,    201.4,1,  -999.0,9, -999.00,9, -999.00,9,  -999.0,      25,    26.4583, -999.00,9,     -999.0
33KB20130930,       PRS2,       2,          1,         17,       8017,2,20131001,       1150,  22.749500,-158.0168333,       4744,    25.2,  26.4662,  35.2424,2,  35.2459,2,    201.4,1,  -999.0,9, -999.00,9, -999.00,9,  -999.0,      25,    26.4605, -999.00,9,     -999.0
33KB20130930,       PRS2,       2,          1,         16,       8016,2,20131001,       1150,  22.749500,-158.0168333,       4744,    45.0,  26.6663,  35.4130,2,  35.4141,2,    201.5,1,  -999.0,9, -999.00,9, -999.00,9,  -999.0,      44,    26.6561, -999.00,9,     -999.0
33KB20130930,       PRS2,       2,          1,         15,       8015,2,20131001,       1150,  22.749500,-158.0168333,       4744,    45.1,  26.6663,  35.4128,2,  35.4133,2,    201.5,1,  -999.0,9, -999.00,9, -999.00,9,  -999.0,      44,    26.6561, -999.00,9,     -999.0
33KB20130930,       PRS2,       2,          1,         14,       8014,2,20131001,       1150,  22.749500,-158.0168333,       4744,    45.1,  26.6647,  35.4124,2,  35.4131,2,    201.5,1,  -999.0,9, -999.00,9, -999.00,9,  -999.0,      44,    26.6544, -999.00,9,     -999.0
33KB20130930,       PRS2,       2,          1,         13,       8025,2,20131001,       1150,  22.749500,-158.0168333,       4744,    75.9,  25.1429,  35.4013,2,  35.3898,2,    219.3,1,  -999.0,9, -999.00,9, -999.00,9,  -999.0,      76,    25.1264, -999.00,9,     -999.0
33KB20130930,       PRS2,       2,          1,         12,       8012,2,20131001,       1150,  22.749500,-158.0168333,       4744,    76.0,  25.1455,  35.4012,2,  35.3884,2,    219.8,1,  -999.0,9, -999.00,9, -999.00,9,  -999.0,      76,    25.1290, -999.00,9,     -999.0
33KB20130930,       PRS2,       2,          1,         11,       8011,2,20131001,       1150,  22.749500,-158.0168333,       4744,    76.0,  25.1463,  35.4006,2,  35.3867,3,    220.3,1,  -999.0,9, -999.00,9, -999.00,9,  -999.0,      76,    25.1297, -999.00,9,     -999.0
33KB20130930,       PRS2,       2,          1,         10,       8010,2,20131001,       1150,  22.749500,-158.0168333,       4744,    99.4,  22.8370,  35.3492,2,  35.3502,2,    213.9,1,  -999.0,9, -999.00,9, -999.00,9,  -999.0,     101,    22.8168, -999.00,9,     -999.0
33KB20130930,       PRS2,       2,          1,          9,       8009,2,20131001,       1150,  22.749500,-158.0168333,       4744,    99.5,  22.8320,  35.3493,2,  35.3488,2,    213.7,1,  -999.0,9, -999.00,9, -999.00,9,  -999.0,      99,    22.8118, -999.00,9,     -999.0
33KB20130930,       PRS2,       2,          1,          8,       8008,2,20131001,       1150,  22.749500,-158.0168333,       4744,    99.5,  22.8168,  35.3501,2,  35.3488,2,    213.5,1,  -999.0,9, -999.00,9, -999.00,9,  -999.0,     100,    22.7965, -999.00,9,     -999.0
33KB20130930,       PRS2,       2,          1,          7,       8026,2,20131001,       1150,  22.749500,-158.0168333,       4744,   125.9,  21.8884,  35.3060,2,  35.3072,2,    205.0,1,  -999.0,9, -999.00,9, -999.00,9,  -999.0,     126,    21.8635, -999.00,9,     -999.0
33KB20130930,       PRS2,       2,          1,          6,       8006,2,20131001,       1150,  22.749500,-158.0168333,       4744,   125.7,  21.8868,  35.3065,2,  35.3072,2,    204.7,1,  -999.0,9, -999.00,9, -999.00,9,  -999.0,     125,    21.8620, -999.00,9,     -999.0
33KB20130930,       PRS2,       2,          1,          5,       8005,2,20131001,       1150,  22.749500,-158.0168333,       4744,   125.7,  21.8860,  35.3054,2,  35.3066,2,    204.6,1,  -999.0,9, -999.00,9, -999.00,9,  -999.0,     124,    21.8612, -999.00,9,     -999.0
33KB20130930,       PRS2,       2,          1,          4,       8004,2,20131001,       1150,  22.749500,-158.0168333,       4744,   149.6,  20.8812,  35.2312,2,  35.2284,2,    200.0,1,  -999.0,9, -999.00,9, -999.00,9,  -999.0,     150,    20.8527, -999.00,9,     -999.0
33KB20130930,       PRS2,       2,          1,          3,       8003,2,20131001,       1150,  22.749500,-158.0168333,       4744,   174.6,  19.9410,  35.1048,2,  35.1069,2,    193.9,1,  -999.0,9, -999.00,9, -999.00,9,  -999.0,     174,    19.9088, -999.00,9,     -999.0
33KB20130930,       PRS2,       2,          1,          2,       8002,2,20131001,       1150,  22.749500,-158.0168333,       4744,   580.3,   6.0315,  34.0675,2,  34.0695,2,     85.6,1,  -999.0,9, -999.00,9, -999.00,9,  -999.0,     580,     5.9807, -999.00,9,     -999.0
33KB20130930,       PRS2,       2,          1,          1,       8001,2,20131001,       1150,  22.749500,-158.0168333,       4744,  1019.7,   3.8824,  34.4667,2,  34.4699,2,     46.9,1,  -999.0,9, -999.00,9, -999.00,9,  -999.0,    1019,     3.8061, -999.00,9,     -999.0
33KB20130930,       PRS2,       2,          2,         24,       8024,2,20131001,       1457,  22.750167,-158.0000000,       4741,     6.0,  26.4533,  35.2597,2,  35.2631,2,    200.2,2,   200.8,2,    1.10,2,    0.11,2,  -999.0,       6,    26.4520,    0.02,2,     -999.0
33KB20130930,       PRS2,       2,          2,         23,       8023,2,20131001,       1457,  22.750167,-158.0000000,       4741,   500.5,   7.5107,  34.0936,2,  34.0940,2,    105.8,2,   105.9,2,   45.83,2,    2.10,2,  -999.0,     500,     7.4616,   28.67,2,     -999.0
33KB20130930,       PRS2,       2,          2,         22,       8022,2,20131001,       1457,  22.750167,-158.0000000,       4741,   750.9,   4.4475,  34.2762,2,  34.2742,2,     34.0,2,    33.3,2,  100.14,2,    2.94,2,  -999.0,     751,     4.3897,   40.61,2,     -999.0
33KB20130930,       PRS2,       2,          2,         21,       8021,2,20131001,       1457,  22.750167,-158.0000000,       4741,  1000.9,   3.8780,  34.4649,2,  34.4644,2,     46.5,2,    46.0,2,  112.69,2,    2.94,2,  -999.0,    1000,     3.8032,   40.72,2,     -999.0
33KB20130930,       PRS2,       2,          2,         20,       8020,2,20131001,       1457,  22.750167,-158.0000000,       4741,  1200.8,   3.4411,  34.5197,2,  34.5201,2,     56.3,2,    56.1,2,  121.57,2,    2.90,2,  -999.0,    1201,     3.3535,   40.50,2,     -999.0
33KB20130930,       PRS2,       2,          2,         19,       8019,2,20131001,       1457,  22.750167,-158.0000000,       4741,  1400.3,   2.9981,  34.5511,2,  34.5504,2,     64.3,2,    63.9,2,  131.25,2,    2.89,2,  -999.0,    1399,     2.8985,   40.17,2,     -999.0
33KB20130930,       PRS2,       2,          2,         18,       8018,2,20131001,       1457,  22.750167,-158.0000000,       4741,  1600.2,   2.6303,  34.5735,2,  34.5741,2,     71.5,2,    71.5,2,  139.65,2,    2.86,2,  -999.0,    1600,     2.5186,   40.06,2,     -999.0
33KB20130930,       PRS2,       2,          2,         17,       8017,2,20131001,       1457,  22.750167,-158.0000000,       4741,  1799.9,   2.3561,  34.6037,2,  34.6034,2,     80.1,2,    80.5,2,  145.33,2,    2.82,2,  -999.0,    1798,     2.2313,   39.74,2,     -999.0
33KB20130930,       PRS2,       2,          2,         16,       8016,2,20131001,       1457,  22.750167,-158.0000000,       4741,  2000.6,   2.0954,  34.6206,2,  34.6205,2,     89.0,2,    89.2,2,  151.66,2,    2.77,2,  -999.0,    2000,     1.9575,   39.16,2,     -999.0
33KB20130930,       PRS2,       2,          2,         15,       8015,2,20131001,       1457,  22.750167,-158.0000000,       4741,  2201.0,   1.9393,  34.6321,2,  34.6315,2,     94.7,2,    95.5,2,  155.28,2,    2.73,2,  -999.0,    2200,     1.7867,   38.96,2,     -999.0
33KB20130930,       PRS2,       2,          2,         14,       8014,2,20131001,       1457,  22.750167,-158.0000000,       4741,  2400.6,   1.7971,  34.6440,2,  34.6435,2,    102.8,2,   102.5,2,  157.51,2,    2.70,2,  -999.0,    2401,     1.6295,   38.39,2,     -999.0
33KB20130930,       PRS2,       2,          2,         13,       8025,2,20131001,       1457,  22.750167,-158.0000000,       4741,  2600.6,   1.6913,  34.6542,2,  34.6535,2,    109.9,2,   109.9,2,  159.99,2,    2.67,2,  -999.0,    2600,     1.5077,   38.18,2,     -999.0
33KB20130930,       PRS2,       2,          2,         12,       8012,2,20131001,       1457,  22.750167,-158.0000000,       4741,  2801.1,   1.6172,  34.6604,2,  34.6594,2,    115.2,2,   115.3,2,  160.11,2,    2.62,2,  -999.0,    2801,     1.4167,   37.62,2,     -999.0
33KB20130930,       PRS2,       2,          2,         11,       8011,2,20131001,       1457,  22.750167,-158.0000000,       4741,  3001.0,   1.5471,  34.6669,2,  34.6669,2,    122.8,2,   123.0,2,  159.50,2,    2.58,2,  -999.0,    3001,     1.3293,   37.01,2,     -999.0
33KB20130930,       PRS2,       2,          2,         10,       8010,2,20131001,       1457,  22.750167,-158.0000000,       4741,  3200.1,   1.5160,  34.6721,2,  34.6716,2,    128.8,2,   128.7,2,  158.25,2,    2.56,2,  -999.0,    3199,     1.2795,   36.80,2,     -999.0
33KB20130930,       PRS2,       2,          2,          9,       8009,2,20131001,       1457,  22.750167,-158.0000000,       4741,  3401.0,   1.4887,  34.6769,2,  34.6765,2,    134.5,2,   134.5,2,  156.75,2,    2.53,2,  -999.0,    3401,     1.2329,   36.54,2,     -999.0
33KB20130930,       PRS2,       2,          2,          8,       8008,2,20131001,       1457,  22.750167,-158.0000000,       4741,  3600.4,   1.4671,  34.6803,2,  34.6802,2,    139.4,2,   139.3,2,  155.36,2,    2.50,2,  -999.0,    3600,     1.1915,   35.87,2,     -999.0
33KB20130930,       PRS2,       2,          2,          7,       8026,2,20131001,       1457,  22.750167,-158.0000000,       4741,  3801.0,   1.4551,  34.6832,2,  34.6838,2,    143.5,2,   143.2,2,  153.18,2,    2.47,2,  -999.0,    3801,     1.1588,   35.69,2,     -999.0
33KB20130930,       PRS2,       2,          2,          6,       8006,2,20131001,       1457,  22.750167,-158.0000000,       4741,  3999.9,   1.4548,  34.6853,2,  34.6855,2,    146.7,2,   146.6,2,  152.22,2,    2.46,2,  -999.0,    4000,     1.1372,   35.58,2,     -999.0
33KB20130930,       PRS2,       2,          2,          5,       8005,2,20131001,       1457,  22.750167,-158.0000000,       4741,  4200.7,   1.4638,  34.6863,2,  34.6865,2,    148.5,2,   148.6,2,  150.78,2,    2.45,2,  -999.0,    4201,     1.1238,   35.37,2,     -999.0
33KB20130930,       PRS2,       2,          2,          4,       8004,2,20131001,       1457,  22.750167,-158.0000000,       4741,  4400.8,   1.4789,  34.6870,2,  34.6867,2,    149.8,2,   149.5,2,  150.71,2,    2.44,2,  -999.0,    4400,     1.1160,   35.34,2,     -999.0
33KB20130930,       PRS2,       2,          2,          3,       8003,2,20131001,       1457,  22.750167,-158.0000000,       4741,  4501.0,   1.4890,  34.6872,2,  34.6871,2,    150.2,2,   150.3,2,  150.18,2,    2.45,2,  -999.0,    4501,     1.1142,   35.47,2,     -999.0
33KB20130930,       PRS2,       2,          2,          2,       8002,2,20131001,       1457,  22.750167,-158.0000000,       4741,  4602.3,   1.5002,  34.6873,2,  34.6877,2,    150.4,2,  -999.0,5,  149.77,2,    2.44,2,  -999.0,    4600,     1.1134,   35.24,2,     -999.0
33KB20130930,       PRS2,       2,          2,          1,       8001,2,20131001,       1457,  22.750167,-158.0000000,       4741,  4809.4,   1.5096,  34.6887,2,  34.6903,2,    152.7,2,   152.5,2,  147.57,2,    2.45,2,  -999.0,    4810,     1.0980,   35.36,2,     -999.0