BOTTLE,20141031SIOCCHAMB
EXPOCODE,SECT_ID,STNNBR,CASTNO,SAMPNO,BTLNBR,BTLNBR_FLAG_W,DATE,TIME,LATITUDE,LONGITUDE,DEPTH,CTDPRS,CTDTMP,CTDSAL,CTDSAL_FLAG_W,SALNTY,SALNTY_FLAG_W,CTDOXY,CTDOXY_FLAG_W,OXYGEN,OXYGEN_FLAG_W,SILCAT,SILCAT_FLAG_W,PHSPHT,PHSPHT_FLAG_W,REVPRS,CTDRAW,THETA,NO2+NO3,NO2+NO3_FLAG_W,REVTMP
,,,,,,,,,,,METERS,DBAR,ITS-90,PSS-78,,PSS-78,,UMOL/KG,,UMOL/KG,,UMOL/KG,,UMOL/KG,,DBAR,DBAR,ITS-90,UMOL/KG,,DEG C
33KB20130930,       PRS2,       2,         13,         24,       8024,2,20131003,       0253,  22.750000,-158.0003333,       4745,     8.5,  26.4830,  35.2341,2,-999.0000,5,    201.6,1,  -999.0,9, -999.00,9, -999.00,9,  -999.0,       8,    26.4811, -999.00,9,     -999.0
33KB20130930,       PRS2,       2,         13,         23,       8023,2,20131003,       0253,  22.750000,-158.0003333,       4745,    26.0,  26.4766,  35.2361,2,  35.2351,2,    201.9,1,  -999.0,9, -999.00,9, -999.00,9,  -999.0,      27,    26.4708, -999.00,9,     -999.0
33KB20130930,       PRS2,       2,         13,         22,       8022,2,20131003,       0253,  22.750000,-158.0003333,       4745,    46.2,  26.4258,  35.3044,2,-999.0000,5,    202.7,1,  -999.0,9, -999.00,9, -999.00,9,  -999.0,      45,    26.4154, -999.00,9,     -999.0
33KB20130930,       PRS2,       2,         13,         21,       8021,2,20131003,       0253,  22.750000,-158.0003333,       4745,    50.4,  25.8322,  35.2885,2,-999.0000,5,    205.6,1,  -999.0,9, -999.00,9, -999.00,9,  -999.0,      49,    25.8210, -999.00,9,     -999.0
33KB20130930,       PRS2,       2,         13,         20,       8020,2,20131003,       0253,  22.750000,-158.0003333,       4745,    59.9,  25.2458,  35.3084,2,-999.0000,5,    213.6,1,  -999.0,9, -999.00,9, -999.00,9,  -999.0,      59,    25.2327, -999.00,9,     -999.0
33KB20130930,       PRS2,       2,         13,         19,       8019,2,20131003,       0253,  22.750000,-158.0003333,       4745,    70.6,  24.3068,  35.2957,2,-999.0000,5,    215.3,1,  -999.0,9, -999.00,9, -999.00,9,  -999.0,      70,    24.2918, -999.00,9,     -999.0
33KB20130930,       PRS2,       2,         13,         18,       8018,2,20131003,       0253,  22.750000,-158.0003333,       4745,    75.1,  23.8375,  35.3387,2,-999.0000,5,    217.4,1,  -999.0,9, -999.00,9, -999.00,9,  -999.0,      76,    23.8218, -999.00,9,     -999.0
33KB20130930,       PRS2,       2,         13,         17,       8017,2,20131003,       0253,  22.750000,-158.0003333,       4745,    80.1,  23.3674,  35.3542,2,-999.0000,5,    217.0,1,  -999.0,9, -999.00,9, -999.00,9,  -999.0,      79,    23.3508, -999.00,9,     -999.0
33KB20130930,       PRS2,       2,         13,         16,       8016,2,20131003,       0253,  22.750000,-158.0003333,       4745,    85.1,  23.2381,  35.3540,2,-999.0000,5,    215.7,1,  -999.0,9, -999.00,9, -999.00,9,  -999.0,      84,    23.2206, -999.00,9,     -999.0
33KB20130930,       PRS2,       2,         13,         15,       8015,2,20131003,       0253,  22.750000,-158.0003333,       4745,    89.9,  23.0869,  35.3555,2,  35.3551,2,    215.3,1,  -999.0,9, -999.00,9, -999.00,9,  -999.0,      90,    23.0685, -999.00,9,     -999.0
33KB20130930,       PRS2,       2,         13,         14,       8014,2,20131003,       0253,  22.750000,-158.0003333,       4745,    96.4,  22.9574,  35.3581,2,-999.0000,5,    214.8,1,  -999.0,9, -999.00,9, -999.00,9,  -999.0,      97,    22.9377, -999.00,9,     -999.0
33KB20130930,       PRS2,       2,         13,         13,       8025,2,20131003,       0253,  22.750000,-158.0003333,       4745,   101.4,  22.7990,  35.3621,2,-999.0000,5,    214.4,1,  -999.0,9, -999.00,9, -999.00,9,  -999.0,     100,    22.7784, -999.00,9,     -999.0
33KB20130930,       PRS2,       2,         13,         12,       8012,2,20131003,       0253,  22.750000,-158.0003333,       4745,   106.2,  22.5620,  35.3559,2,-999.0000,5,    212.0,1,  -999.0,9, -999.00,9, -999.00,9,  -999.0,     105,    22.5406, -999.00,9,     -999.0
33KB20130930,       PRS2,       2,         13,         11,       8011,2,20131003,       0253,  22.750000,-158.0003333,       4745,   110.8,  22.4338,  35.3509,2,-999.0000,5,    210.9,1,  -999.0,9, -999.00,9, -999.00,9,  -999.0,     112,    22.4115, -999.00,9,     -999.0
33KB20130930,       PRS2,       2,         13,         10,       8010,2,20131003,       0253,  22.750000,-158.0003333,       4745,   114.8,  22.3004,  35.3444,2,-999.0000,5,    211.0,1,  -999.0,9, -999.00,9, -999.00,9,  -999.0,     115,    22.2775, -999.00,9,     -999.0
33KB20130930,       PRS2,       2,         13,          9,       8009,2,20131003,       0253,  22.750000,-158.0003333,       4745,   119.6,  22.0624,  35.3288,2,-999.0000,5,    208.7,1,  -999.0,9, -999.00,9, -999.00,9,  -999.0,     120,    22.0387, -999.00,9,     -999.0
33KB20130930,       PRS2,       2,         13,          8,       8008,2,20131003,       0253,  22.750000,-158.0003333,       4745,   125.2,  21.7642,  35.3126,2,-999.0000,5,    208.2,1,  -999.0,9, -999.00,9, -999.00,9,  -999.0,     125,    21.7396, -999.00,9,     -999.0
33KB20130930,       PRS2,       2,         13,          7,       8026,2,20131003,       0253,  22.750000,-158.0003333,       4745,   130.7,  21.5290,  35.3041,2,-999.0000,5,    204.2,1,  -999.0,9, -999.00,9, -999.00,9,  -999.0,     129,    21.5035, -999.00,9,     -999.0
33KB20130930,       PRS2,       2,         13,          6,       8006,2,20131003,       0253,  22.750000,-158.0003333,       4745,   140.4,  21.1745,  35.2682,2,-999.0000,5,    202.2,1,  -999.0,9, -999.00,9, -999.00,9,  -999.0,     140,    21.1474, -999.00,9,     -999.0
33KB20130930,       PRS2,       2,         13,          5,       8005,2,20131003,       0253,  22.750000,-158.0003333,       4745,   150.9,  20.8140,  35.2401,2,-999.0000,5,    200.6,1,  -999.0,9, -999.00,9, -999.00,9,  -999.0,     150,    20.7853, -999.00,9,     -999.0
33KB20130930,       PRS2,       2,         13,          4,       8004,2,20131003,       0253,  22.750000,-158.0003333,       4745,   160.8,  20.4363,  35.1901,2,-999.0000,5,    200.6,1,  -999.0,9, -999.00,9, -999.00,9,  -999.0,     161,    20.4061, -999.00,9,     -999.0
33KB20130930,       PRS2,       2,         13,          3,       8003,2,20131003,       0253,  22.750000,-158.0003333,       4745,   176.4,  19.8859,  35.1129,2,-999.0000,5,    199.5,1,  -999.0,9, -999.00,9, -999.00,9,  -999.0,     176,    19.8534, -999.00,9,     -999.0
33KB20130930,       PRS2,       2,         13,          2,       8002,2,20131003,       0253,  22.750000,-158.0003333,       4745,   581.1,   5.8957,  34.0705,2,  34.0695,2,     82.6,1,  -999.0,9, -999.00,9, -999.00,9,  -999.0,     580,     5.8455, -999.00,9,     -999.0
33KB20130930,       PRS2,       2,         13,          1,       8001,2,20131003,       0253,  22.750000,-158.0003333,       4745,  1021.2,   3.9113,  34.4678,2,  34.4683,2,     46.5,1,  -999.0,9, -999.00,9, -999.00,9,  -999.0,    1021,     3.8346, -999.00,9,     -999.0
33KB20130930,       PRS2,       2,         14,         22,       8022,2,20131003,       0547,  22.750500,-158.0000000,       4742,     7.3,  26.4478,  35.2451,2,  35.2436,2,    201.5,1,  -999.0,9, -999.00,9, -999.00,9,  -999.0,       7,    26.4462, -999.00,9,     -999.0
33KB20130930,       PRS2,       2,         14,         21,       8021,2,20131003,       0547,  22.750500,-158.0000000,       4742,     6.9,  26.4476,  35.2452,2,  35.2440,2,    201.6,1,  -999.0,9, -999.00,9, -999.00,9,  -999.0,       6,    26.4461, -999.00,9,     -999.0
33KB20130930,       PRS2,       2,         14,         20,       8020,2,20131003,       0547,  22.750500,-158.0000000,       4742,    25.1,  26.4468,  35.2439,2,  35.2432,2,    201.7,1,  -999.0,9, -999.00,9, -999.00,9,  -999.0,      24,    26.4411, -999.00,9,     -999.0
33KB20130930,       PRS2,       2,         14,         19,       8019,2,20131003,       0547,  22.750500,-158.0000000,       4742,    25.2,  26.4466,  35.2437,2,  35.2436,2,    201.7,1,  -999.0,9, -999.00,9, -999.00,9,  -999.0,      25,    26.4409, -999.00,9,     -999.0
33KB20130930,       PRS2,       2,         14,         18,       8018,2,20131003,       0547,  22.750500,-158.0000000,       4742,    45.8,  26.3248,  35.3036,2,  35.3007,2,    204.9,1,  -999.0,9, -999.00,9, -999.00,9,  -999.0,      45,    26.3145, -999.00,9,     -999.0
33KB20130930,       PRS2,       2,         14,         17,       8017,2,20131003,       0547,  22.750500,-158.0000000,       4742,    45.8,  26.3255,  35.3034,2,  35.3011,2,    205.0,1,  -999.0,9, -999.00,9, -999.00,9,  -999.0,      46,    26.3152, -999.00,9,     -999.0
33KB20130930,       PRS2,       2,         14,         16,       8016,2,20131003,       0547,  22.750500,-158.0000000,       4742,    60.3,  24.5263,  35.2718,2,  35.2792,2,    215.4,1,  -999.0,9, -999.00,9, -999.00,9,  -999.0,      59,    24.5134, -999.00,9,     -999.0
33KB20130930,       PRS2,       2,         14,         15,       8015,2,20131003,       0547,  22.750500,-158.0000000,       4742,    75.4,  23.8571,  35.3213,2,  35.3202,2,    214.9,1,  -999.0,9, -999.00,9, -999.00,9,  -999.0,      75,    23.8412, -999.00,9,     -999.0
33KB20130930,       PRS2,       2,         14,         14,       8014,2,20131003,       0547,  22.750500,-158.0000000,       4742,    75.3,  23.8581,  35.3215,2,  35.3200,2,    214.8,1,  -999.0,9, -999.00,9, -999.00,9,  -999.0,      75,    23.8423, -999.00,9,     -999.0
33KB20130930,       PRS2,       2,         14,         13,       8025,2,20131003,       0547,  22.750500,-158.0000000,       4742,    85.6,  23.1493,  35.3481,2,  35.3463,2,    214.8,1,  -999.0,9, -999.00,9, -999.00,9,  -999.0,      86,    23.1317, -999.00,9,     -999.0
33KB20130930,       PRS2,       2,         14,         12,       8012,2,20131003,       0547,  22.750500,-158.0000000,       4742,    99.9,  22.8000,  35.3527,2,  35.3508,2,    214.0,1,  -999.0,9, -999.00,9, -999.00,9,  -999.0,      99,    22.7797, -999.00,9,     -999.0
33KB20130930,       PRS2,       2,         14,         11,       8011,2,20131003,       0547,  22.750500,-158.0000000,       4742,    99.9,  22.7838,  35.3533,2,  35.3520,2,    214.4,1,  -999.0,9, -999.00,9, -999.00,9,  -999.0,     100,    22.7636, -999.00,9,     -999.0
33KB20130930,       PRS2,       2,         14,         10,       8010,2,20131003,       0547,  22.750500,-158.0000000,       4742,   116.2,  22.1466,  35.3364,2,  35.3228,2,    210.7,1,  -999.0,9, -999.00,9, -999.00,9,  -999.0,     115,    22.1235, -999.00,9,     -999.0
33KB20130930,       PRS2,       2,         14,          9,       8009,2,20131003,       0547,  22.750500,-158.0000000,       4742,   126.2,  21.6595,  35.3103,2,  35.3078,2,    206.3,1,  -999.0,9, -999.00,9, -999.00,9,  -999.0,     126,    21.6347, -999.00,9,     -999.0
33KB20130930,       PRS2,       2,         14,          8,       8008,2,20131003,       0547,  22.750500,-158.0000000,       4742,   125.9,  21.6596,  35.3103,2,  35.3122,2,    206.1,1,  -999.0,9, -999.00,9, -999.00,9,  -999.0,     126,    21.6350, -999.00,9,     -999.0
33KB20130930,       PRS2,       2,         14,          7,       8026,2,20131003,       0547,  22.750500,-158.0000000,       4742,   135.4,  21.3017,  35.2797,2,  35.2737,2,    203.6,1,  -999.0,9, -999.00,9, -999.00,9,  -999.0,     136,    21.2755, -999.00,9,     -999.0
33KB20130930,       PRS2,       2,         14,          6,       8006,2,20131003,       0547,  22.750500,-158.0000000,       4742,   150.2,  20.6993,  35.2293,2,  35.2276,2,    200.9,1,  -999.0,9, -999.00,9, -999.00,9,  -999.0,     151,    20.6709, -999.00,9,     -999.0
33KB20130930,       PRS2,       2,         14,          5,       8005,2,20131003,       0547,  22.750500,-158.0000000,       4742,   150.2,  20.6655,  35.2275,2,  35.2264,2,    200.8,1,  -999.0,9, -999.00,9, -999.00,9,  -999.0,     151,    20.6370, -999.00,9,     -999.0
33KB20130930,       PRS2,       2,         14,          4,       8004,2,20131003,       0547,  22.750500,-158.0000000,       4742,   174.4,  20.0226,  35.1374,2,  35.1380,2,    199.7,1,  -999.0,9, -999.00,9, -999.00,9,  -999.0,     174,    19.9903, -999.00,9,     -999.0
33KB20130930,       PRS2,       2,         14,          3,       8003,2,20131003,       0547,  22.750500,-158.0000000,       4742,   174.4,  19.9978,  35.1355,2,  35.1354,2,    199.6,1,  -999.0,9, -999.00,9, -999.00,9,  -999.0,     174,    19.9656, -999.00,9,     -999.0
33KB20130930,       PRS2,       2,         14,          2,       8002,2,20131003,       0547,  22.750500,-158.0000000,       4742,   569.7,   5.8208,  34.0742,2,  34.0729,2,     79.5,1,  -999.0,9, -999.00,9, -999.00,9,  -999.0,     571,     5.7719, -999.00,9,     -999.0
33KB20130930,       PRS2,       2,         14,          1,       8001,2,20131003,       0547,  22.750500,-158.0000000,       4742,  1021.0,   3.9012,  34.4714,2,  34.4730,2,     46.4,1,  -999.0,9, -999.00,9, -999.00,9,  -999.0,    1020,     3.8246, -999.00,9,     -999.0
33KB20130930,       PRS2,       2,         15,         16,       8016,2,20131003,       0905,  22.749667,-158.0000000,       4744,    11.8,  26.3966,  35.2973,2,  35.2960,2,    202.8,2,   202.8,2, -999.00,9, -999.00,9,  -999.0,      11,    26.3939, -999.00,9,     -999.0
33KB20130930,       PRS2,       2,         15,         15,       8015,2,20131003,       0905,  22.749667,-158.0000000,       4744,    80.8,  24.4694,  35.3384,2,  35.3526,4,    215.5,3,   217.3,2, -999.00,9, -999.00,9,  -999.0,      80,    24.4522, -999.00,9,     -999.0
33KB20130930,       PRS2,       2,         15,         14,       8014,2,20131003,       0905,  22.749667,-158.0000000,       4744,   249.9,  14.9217,  34.4724,2,-999.0000,5,    196.4,2,  -999.0,5, -999.00,9, -999.00,9,  -999.0,     251,    14.8841, -999.00,9,     -999.0
33KB20130930,       PRS2,       2,         15,         13,       8025,2,20131003,       0905,  22.749667,-158.0000000,       4744,   249.9,  14.9043,  34.4713,2,-999.0000,5,    196.3,2,  -999.0,5, -999.00,9, -999.00,9,  -999.0,     250,    14.8667, -999.00,9,     -999.0
33KB20130930,       PRS2,       2,         15,         12,       8012,2,20131003,       0905,  22.749667,-158.0000000,       4744,   569.4,   6.3596,  34.0801,2,  34.0803,2,     85.9,2,    86.5,2, -999.00,9, -999.00,9,  -999.0,     570,     6.3084, -999.00,9,     -999.0
33KB20130930,       PRS2,       2,         15,         11,       8011,2,20131003,       0905,  22.749667,-158.0000000,       4744,   780.6,   4.6963,  34.3235,2,  34.3211,2,     35.7,2,    33.5,2, -999.00,9, -999.00,9,  -999.0,     780,     4.6345, -999.00,9,     -999.0
33KB20130930,       PRS2,       2,         15,         10,       8010,2,20131003,       0905,  22.749667,-158.0000000,       4744,  1000.9,   3.9660,  34.4616,2,-999.0000,5,     45.3,2,  -999.0,5, -999.00,9, -999.00,9,  -999.0,    1000,     3.8905, -999.00,9,     -999.0
33KB20130930,       PRS2,       2,         15,          9,       8009,2,20131003,       0905,  22.749667,-158.0000000,       4744,  2000.0,   2.1904,  34.6164,2,-999.0000,5,     86.4,2,  -999.0,5, -999.00,9, -999.00,9,  -999.0,    2001,     2.0512, -999.00,9,     -999.0
33KB20130930,       PRS2,       2,         15,          8,       8008,2,20131003,       0905,  22.749667,-158.0000000,       4744,  1999.9,   2.1879,  34.6165,2,  34.6152,2,     86.4,2,    86.5,2, -999.00,9, -999.00,9,  -999.0,    2001,     2.0487, -999.00,9,     -999.0
33KB20130930,       PRS2,       2,         15,          7,       8026,2,20131003,       0905,  22.749667,-158.0000000,       4744,  3000.0,   1.5603,  34.6662,2,-999.0000,5,    121.1,2,  -999.0,5, -999.00,9, -999.00,9,  -999.0,    2998,     1.3423, -999.00,9,     -999.0
33KB20130930,       PRS2,       2,         15,          6,       8006,2,20131003,       0905,  22.749667,-158.0000000,       4744,  3000.0,   1.5603,  34.6661,2,  34.6657,2,    121.1,2,   121.7,2, -999.00,9, -999.00,9,  -999.0,    2999,     1.3422, -999.00,9,     -999.0
33KB20130930,       PRS2,       2,         15,          5,       8005,2,20131003,       0905,  22.749667,-158.0000000,       4744,  4000.6,   1.4560,  34.6855,2,-999.0000,5,    146.4,2,  -999.0,5, -999.00,9, -999.00,9,  -999.0,    4000,     1.1382, -999.00,9,     -999.0
33KB20130930,       PRS2,       2,         15,          4,       8004,2,20131003,       0905,  22.749667,-158.0000000,       4744,  4000.9,   1.4558,  34.6855,2,-999.0000,5,    146.4,2,  -999.0,5, -999.00,9, -999.00,9,  -999.0,    4000,     1.1380, -999.00,9,     -999.0
33KB20130930,       PRS2,       2,         15,          3,       8003,2,20131003,       0905,  22.749667,-158.0000000,       4744,  4000.7,   1.4555,  34.6856,2,-999.0000,5,    146.5,2,  -999.0,5, -999.00,9, -999.00,9,  -999.0,    4001,     1.1378, -999.00,9,     -999.0
33KB20130930,       PRS2,       2,         15,          2,       8002,2,20131003,       0905,  22.749667,-158.0000000,       4744,  4001.1,   1.4555,  34.6854,2,  34.6836,2,    146.5,2,   146.5,2, -999.00,9, -999.00,9,  -999.0,    4001,     1.1377, -999.00,9,     -999.0
33KB20130930,       PRS2,       2,         15,          1,       8001,2,20131003,       0905,  22.749667,-158.0000000,       4744,  4808.0,   1.5133,  34.6886,2,  34.6883,2,    151.9,2,   152.1,2, -999.00,9, -999.00,9,  -999.0,    4808,     1.1018, -999.00,9,     -999.0