BOTTLE,20141031SIOCCHAMB
EXPOCODE,SECT_ID,STNNBR,CASTNO,SAMPNO,BTLNBR,BTLNBR_FLAG_W,DATE,TIME,LATITUDE,LONGITUDE,DEPTH,CTDPRS,CTDTMP,CTDSAL,CTDSAL_FLAG_W,SALNTY,SALNTY_FLAG_W,CTDOXY,CTDOXY_FLAG_W,OXYGEN,OXYGEN_FLAG_W,SILCAT,SILCAT_FLAG_W,PHSPHT,PHSPHT_FLAG_W,REVPRS,CTDRAW,THETA,NO2+NO3,NO2+NO3_FLAG_W,REVTMP
,,,,,,,,,,,METERS,DBAR,ITS-90,PSS-78,,PSS-78,,UMOL/KG,,UMOL/KG,,UMOL/KG,,UMOL/KG,,DBAR,DBAR,ITS-90,UMOL/KG,,DEG C
33KB20130930,       PRS2,       2,          3,         24,       8024,2,20131001,       2103,  22.760667,-158.0215000,       4741,     7.6,  26.5262,  35.2624,2,  35.2633,2,    201.0,2,   201.4,2,    1.11,2,    0.10,2,  -999.0,       7,    26.5245,    0.06,2,     -999.0
33KB20130930,       PRS2,       2,          3,         23,       8023,2,20131001,       2103,  22.760667,-158.0215000,       4741,    52.0,  26.6275,  35.4150,2,  35.4176,2,    202.1,2,   203.4,2,    0.93,2,    0.04,2,  -999.0,      52,    26.6157,    0.07,2,     -999.0
33KB20130930,       PRS2,       2,          3,         22,       8022,2,20131001,       2103,  22.760667,-158.0215000,       4741,    75.7,  24.7668,  35.4060,2,  35.4082,2,    219.7,2,   219.4,2,    1.22,2,    0.02,2,  -999.0,      77,    24.7505,    0.04,2,     -999.0
33KB20130930,       PRS2,       2,          3,         21,       8021,2,20131001,       2103,  22.760667,-158.0215000,       4741,   111.8,  21.8530,  35.2895,2,  35.2915,2,    211.4,2,   210.9,2,    1.51,2,    0.05,2,  -999.0,     111,    21.8310,    0.08,2,     -999.0
33KB20130930,       PRS2,       2,          3,         20,       8020,2,20131001,       2103,  22.760667,-158.0215000,       4741,   149.0,  20.7762,  35.2057,2,  35.2099,2,    202.1,2,   201.8,2,    1.92,2,    0.11,2,  -999.0,     148,    20.7479,    0.96,2,     -999.0
33KB20130930,       PRS2,       2,          3,         19,       8019,2,20131001,       2103,  22.760667,-158.0215000,       4741,   184.9,  19.1355,  34.9886,2,  35.0252,3,    193.4,3,   193.1,2,    2.74,2,    0.23,2,  -999.0,     184,    19.1024,    2.66,2,     -999.0
33KB20130930,       PRS2,       2,          3,         18,       8018,2,20131001,       2103,  22.760667,-158.0215000,       4741,   238.6,  15.7832,  34.5550,2,  34.5622,2,    195.6,2,   195.2,2,    5.68,2,    0.45,2,  -999.0,     238,    15.7458,    6.06,2,     -999.0
33KB20130930,       PRS2,       2,          3,         17,       8017,2,20131001,       2103,  22.760667,-158.0215000,       4741,   281.3,  13.8354,  34.3707,2,  34.3684,2,    199.8,2,   199.2,2,    8.47,2,    0.63,2,  -999.0,     280,    13.7952,    8.81,2,     -999.0
33KB20130930,       PRS2,       2,          3,         16,       8016,2,20131001,       2103,  22.760667,-158.0215000,       4741,   322.2,  12.0538,  34.2529,2,  34.2515,2,    203.8,2,   204.6,2,   12.15,2,    0.81,2,  -999.0,     322,    12.0118,   11.81,2,     -999.0
33KB20130930,       PRS2,       2,          3,         15,       8015,2,20131001,       2103,  22.760667,-158.0215000,       4741,   380.6,  10.8059,  34.1733,2,  34.1773,2,    189.6,2,   188.0,2,   17.42,2,    1.10,2,  -999.0,     380,    10.7595,   15.59,2,     -999.0
33KB20130930,       PRS2,       2,          3,         14,       8014,2,20131001,       2103,  22.760667,-158.0215000,       4741,   426.6,   9.1813,  34.1125,2,  34.1176,2,    153.6,2,   154.5,2,   27.96,2,    1.56,2,  -999.0,     426,     9.1343,   21.61,2,     -999.0
33KB20130930,       PRS2,       2,          3,         13,       8025,2,20131001,       2103,  22.760667,-158.0215000,       4741,   460.9,   8.0538,  34.0830,2,  34.0768,2,    134.2,2,   133.4,2,   38.33,2,    1.86,2,  -999.0,     460,     8.0068,   26.00,2,     -999.0
33KB20130930,       PRS2,       2,          3,         12,       8012,2,20131001,       2103,  22.760667,-158.0215000,       4741,   531.4,   6.7773,  34.0936,2,  34.0934,2,     88.7,2,    88.2,2,   56.43,2,    2.32,2,  -999.0,     532,     6.7280,   32.63,2,     -999.0
33KB20130930,       PRS2,       2,          3,         11,       8011,2,20131001,       2103,  22.760667,-158.0215000,       4741,   571.1,   6.0132,  34.0671,2,  34.0693,2,     84.1,2,    84.2,2,   65.26,2,    2.43,2,  -999.0,     571,     5.9634,   34.37,2,     -999.0
33KB20130930,       PRS2,       2,          3,         10,       8010,2,20131001,       2103,  22.760667,-158.0215000,       4741,   583.1,   5.8620,  34.0745,2,  34.0737,2,     80.0,2,    79.3,2,   68.14,2,    2.47,2,  -999.0,     583,     5.8117,   35.29,2,     -999.0
33KB20130930,       PRS2,       2,          3,          9,       8009,2,20131001,       2103,  22.760667,-158.0215000,       4741,   631.8,   5.2719,  34.1166,2,  34.1144,2,     59.2,2,    59.7,2,   79.65,2,    2.67,2,  -999.0,     632,     5.2200,   37.68,2,     -999.0
33KB20130930,       PRS2,       2,          3,          8,       8008,2,20131001,       2103,  22.760667,-158.0215000,       4741,   700.9,   4.9024,  34.2252,2,  34.2001,4,     42.9,3,    44.4,2,   89.43,2,    2.82,2,  -999.0,     700,     4.8463,   39.79,2,     -999.0
33KB20130930,       PRS2,       2,          3,          7,       8026,2,20131001,       2103,  22.760667,-158.0215000,       4741,   737.5,   4.8054,  34.2733,2,  34.2721,2,     37.9,2,    37.4,2,   93.26,2,    2.89,2,  -999.0,     737,     4.7468,   40.51,2,     -999.0
33KB20130930,       PRS2,       2,          3,          6,       8006,2,20131001,       2103,  22.760667,-158.0215000,       4741,   774.5,   4.5254,  34.2985,2,  34.3007,2,     34.2,2,    35.1,2,   99.55,2,    2.93,2,  -999.0,     775,     4.4652,   41.10,2,     -999.0
33KB20130930,       PRS2,       2,          3,          5,       8005,2,20131001,       2103,  22.760667,-158.0215000,       4741,   815.2,   4.3936,  34.3448,2,  34.3448,2,     36.8,2,    36.1,2,  102.46,2,    2.94,2,  -999.0,     815,     4.3308,   41.39,2,     -999.0
33KB20130930,       PRS2,       2,          3,          4,       8004,2,20131001,       2103,  22.760667,-158.0215000,       4741,   856.6,   4.3031,  34.3832,2,  34.3839,2,     38.4,2,    38.1,2,  104.41,2,    2.94,2,  -999.0,     856,     4.2374,   41.35,2,     -999.0
33KB20130930,       PRS2,       2,          3,          3,       8003,2,20131001,       2103,  22.760667,-158.0215000,       4741,   929.3,   4.1080,  34.4171,2,  34.4175,2,     41.3,2,    40.8,2,  108.72,2,    2.93,2,  -999.0,     929,     4.0375,   41.73,2,     -999.0
33KB20130930,       PRS2,       2,          3,          2,       8002,2,20131001,       2103,  22.760667,-158.0215000,       4741,  1002.5,   3.8968,  34.4621,2,  34.4624,2,     46.3,2,    45.6,2,  112.31,2,    2.96,2,  -999.0,    1002,     3.8218,   41.62,2,     -999.0
33KB20130930,       PRS2,       2,          3,          1,       8001,2,20131001,       2103,  22.760667,-158.0215000,       4741,  1020.3,   3.8898,  34.4627,2,  34.4665,2,     46.3,2,    46.4,2,  113.40,2,    2.93,2,  -999.0,    1018,     3.8134,   41.36,2,     -999.0
33KB20130930,       PRS2,       2,          4,         22,       8022,2,20131002,       0028,  22.750667,-157.9971667,       4740,     7.9,  26.5414,  35.2502,2,  35.2491,2,    201.4,1,  -999.0,9, -999.00,9, -999.00,9,  -999.0,       7,    26.5397, -999.00,9,     -999.0
33KB20130930,       PRS2,       2,          4,         21,       8021,2,20131002,       0028,  22.750667,-157.9971667,       4740,    25.4,  26.4609,  35.2527,2,  35.2519,2,    201.0,1,  -999.0,9, -999.00,9, -999.00,9,  -999.0,      25,    26.4551, -999.00,9,     -999.0
33KB20130930,       PRS2,       2,          4,         20,       8020,2,20131002,       0028,  22.750667,-157.9971667,       4740,    45.7,  26.5104,  35.2878,2,  35.2877,2,    201.1,1,  -999.0,9, -999.00,9, -999.00,9,  -999.0,      45,    26.5000, -999.00,9,     -999.0
33KB20130930,       PRS2,       2,          4,         19,       8019,2,20131002,       0028,  22.750667,-157.9971667,       4740,    76.5,  24.8119,  35.3854,2,  35.3920,2,    216.8,1,  -999.0,9, -999.00,9, -999.00,9,  -999.0,      77,    24.7954, -999.00,9,     -999.0
33KB20130930,       PRS2,       2,          4,         18,       8018,2,20131002,       0028,  22.750667,-157.9971667,       4740,   100.1,  22.7234,  35.3364,2,  35.3348,2,    214.9,1,  -999.0,9, -999.00,9, -999.00,9,  -999.0,      99,    22.7032, -999.00,9,     -999.0
33KB20130930,       PRS2,       2,          4,         17,       8017,2,20131002,       0028,  22.750667,-157.9971667,       4740,   125.0,  21.6949,  35.2801,2,  35.2759,2,    210.6,1,  -999.0,9, -999.00,9, -999.00,9,  -999.0,     125,    21.6704, -999.00,9,     -999.0
33KB20130930,       PRS2,       2,          4,         16,       8016,2,20131002,       0028,  22.750667,-157.9971667,       4740,   150.3,  20.6858,  35.1999,2,  35.1996,2,    194.1,1,  -999.0,9, -999.00,9, -999.00,9,  -999.0,     151,    20.6573, -999.00,9,     -999.0
33KB20130930,       PRS2,       2,          4,         15,       8015,2,20131002,       0028,  22.750667,-157.9971667,       4740,   175.2,  19.2928,  35.0078,2,  34.9563,4,    193.7,1,  -999.0,9, -999.00,9, -999.00,9,  -999.0,     174,    19.2612, -999.00,9,     -999.0
33KB20130930,       PRS2,       2,          4,         14,       8014,2,20131002,       0028,  22.750667,-157.9971667,       4740,   199.9,  17.7683,  34.7930,2,-999.0000,5,    191.5,1,  -999.0,9, -999.00,9, -999.00,9,  -999.0,     201,    17.7343, -999.00,9,     -999.0
33KB20130930,       PRS2,       2,          4,         13,       8025,2,20131002,       0028,  22.750667,-157.9971667,       4740,   200.5,  17.7661,  34.7930,2,  34.7856,2,    191.7,1,  -999.0,9, -999.00,9, -999.00,9,  -999.0,     202,    17.7320, -999.00,9,     -999.0
33KB20130930,       PRS2,       2,          4,         12,       8012,2,20131002,       0028,  22.750667,-157.9971667,       4740,   250.2,  15.1812,  34.4918,2,-999.0000,5,    195.2,1,  -999.0,9, -999.00,9, -999.00,9,  -999.0,     251,    15.1431, -999.00,9,     -999.0
33KB20130930,       PRS2,       2,          4,         11,       8011,2,20131002,       0028,  22.750667,-157.9971667,       4740,   250.4,  15.1769,  34.4919,2,  34.4930,2,    195.2,1,  -999.0,9, -999.00,9, -999.00,9,  -999.0,     250,    15.1388, -999.00,9,     -999.0
33KB20130930,       PRS2,       2,          4,         10,       8010,2,20131002,       0028,  22.750667,-157.9971667,       4740,   300.0,  12.6350,  34.2814,2,-999.0000,5,    200.7,1,  -999.0,9, -999.00,9, -999.00,9,  -999.0,     300,    12.5946, -999.00,9,     -999.0
33KB20130930,       PRS2,       2,          4,          9,       8009,2,20131002,       0028,  22.750667,-157.9971667,       4740,   350.5,  11.2928,  34.2035,2,  34.2007,2,    203.5,1,  -999.0,9, -999.00,9, -999.00,9,  -999.0,     351,    11.2489, -999.00,9,     -999.0
33KB20130930,       PRS2,       2,          4,          8,       8008,2,20131002,       0028,  22.750667,-157.9971667,       4740,   350.5,  11.2903,  34.2036,2,  34.2007,2,    203.9,1,  -999.0,9, -999.00,9, -999.00,9,  -999.0,     350,    11.2464, -999.00,9,     -999.0
33KB20130930,       PRS2,       2,          4,          7,       8026,2,20131002,       0028,  22.750667,-157.9971667,       4740,   400.3,   9.9106,  34.1404,2,-999.0000,5,    160.3,1,  -999.0,9, -999.00,9, -999.00,9,  -999.0,     401,     9.8644, -999.00,9,     -999.0
33KB20130930,       PRS2,       2,          4,          6,       8006,2,20131002,       0028,  22.750667,-157.9971667,       4740,   449.2,   8.7861,  34.0877,2,-999.0000,5,    158.6,1,  -999.0,9, -999.00,9, -999.00,9,  -999.0,     449,     8.7379, -999.00,9,     -999.0
33KB20130930,       PRS2,       2,          4,          5,       8005,2,20131002,       0028,  22.750667,-157.9971667,       4740,   500.5,   7.7289,  34.0882,2,-999.0000,5,    116.2,1,  -999.0,9, -999.00,9, -999.00,9,  -999.0,     500,     7.6790, -999.00,9,     -999.0
33KB20130930,       PRS2,       2,          4,          4,       8004,2,20131002,       0028,  22.750667,-157.9971667,       4740,   550.1,   6.6949,  34.0954,2,-999.0000,5,     88.6,1,  -999.0,9, -999.00,9, -999.00,9,  -999.0,     550,     6.6441, -999.00,9,     -999.0
33KB20130930,       PRS2,       2,          4,          3,       8003,2,20131002,       0028,  22.750667,-157.9971667,       4740,   574.8,   6.0664,  34.0662,2,  34.0662,2,     86.2,1,  -999.0,9, -999.00,9, -999.00,9,  -999.0,     573,     6.0160, -999.00,9,     -999.0
33KB20130930,       PRS2,       2,          4,          2,       8002,2,20131002,       0028,  22.750667,-157.9971667,       4740,   600.4,   5.6787,  34.0784,2,-999.0000,5,     75.8,1,  -999.0,9, -999.00,9, -999.00,9,  -999.0,     600,     5.6277, -999.00,9,     -999.0
33KB20130930,       PRS2,       2,          4,          1,       8001,2,20131002,       0028,  22.750667,-157.9971667,       4740,  1020.5,   3.8689,  34.4665,2,  34.4673,2,     46.9,1,  -999.0,9, -999.00,9, -999.00,9,  -999.0,    1020,     3.7926, -999.00,9,     -999.0
33KB20130930,       PRS2,       2,          5,         22,       8022,2,20131002,       0259,  22.801000,-158.0021667,       4724,     7.0,  26.5068,  35.2569,2,  35.2562,2,    201.4,1,  -999.0,9, -999.00,9, -999.00,9,  -999.0,       7,    26.5052, -999.00,9,     -999.0
33KB20130930,       PRS2,       2,          5,         21,       8021,2,20131002,       0259,  22.801000,-158.0021667,       4724,    24.9,  26.5087,  35.2565,2,  35.2558,2,    201.1,1,  -999.0,9, -999.00,9, -999.00,9,  -999.0,      24,    26.5030, -999.00,9,     -999.0
33KB20130930,       PRS2,       2,          5,         20,       8020,2,20131002,       0259,  22.801000,-158.0021667,       4724,    44.9,  26.5934,  35.3597,2,  35.3622,2,    201.7,1,  -999.0,9, -999.00,9, -999.00,9,  -999.0,      45,    26.5832, -999.00,9,     -999.0
33KB20130930,       PRS2,       2,          5,         19,       8019,2,20131002,       0259,  22.801000,-158.0021667,       4724,    75.0,  24.4913,  35.3721,2,  35.3748,2,    219.8,1,  -999.0,9, -999.00,9, -999.00,9,  -999.0,      74,    24.4753, -999.00,9,     -999.0
33KB20130930,       PRS2,       2,          5,         18,       8018,2,20131002,       0259,  22.801000,-158.0021667,       4724,   101.6,  22.5413,  35.3409,2,  35.3352,2,    209.1,1,  -999.0,9, -999.00,9, -999.00,9,  -999.0,     101,    22.5208, -999.00,9,     -999.0
33KB20130930,       PRS2,       2,          5,         17,       8017,2,20131002,       0259,  22.801000,-158.0021667,       4724,   126.2,  21.5366,  35.2773,2,  35.2802,2,    210.1,1,  -999.0,9, -999.00,9, -999.00,9,  -999.0,     127,    21.5120, -999.00,9,     -999.0
33KB20130930,       PRS2,       2,          5,         16,       8016,2,20131002,       0259,  22.801000,-158.0021667,       4724,   150.2,  20.6109,  35.1950,2,  35.2010,2,    200.6,1,  -999.0,9, -999.00,9, -999.00,9,  -999.0,     149,    20.5825, -999.00,9,     -999.0
33KB20130930,       PRS2,       2,          5,         15,       8015,2,20131002,       0259,  22.801000,-158.0021667,       4724,   174.5,  19.5080,  35.0449,2,  35.0614,2,    192.5,1,  -999.0,9, -999.00,9, -999.00,9,  -999.0,     176,    19.4763, -999.00,9,     -999.0
33KB20130930,       PRS2,       2,          5,         14,       8014,2,20131002,       0259,  22.801000,-158.0021667,       4724,   200.6,  17.3243,  34.7453,2,  34.7408,2,    192.1,1,  -999.0,9, -999.00,9, -999.00,9,  -999.0,     200,    17.2908, -999.00,9,     -999.0
33KB20130930,       PRS2,       2,          5,         13,       8025,2,20131002,       0259,  22.801000,-158.0021667,       4724,   250.6,  14.3286,  34.4117,2,  34.4116,2,    197.4,1,  -999.0,9, -999.00,9, -999.00,9,  -999.0,     250,    14.2920, -999.00,9,     -999.0
33KB20130930,       PRS2,       2,          5,         12,       8012,2,20131002,       0259,  22.801000,-158.0021667,       4724,   350.4,  11.1166,  34.1927,2,  34.1915,2,    203.9,1,  -999.0,9, -999.00,9, -999.00,9,  -999.0,     349,    11.0732, -999.00,9,     -999.0
33KB20130930,       PRS2,       2,          5,         11,       8011,2,20131002,       0259,  22.801000,-158.0021667,       4724,   350.4,  11.1173,  34.1930,2,  34.1895,2,    203.9,1,  -999.0,9, -999.00,9, -999.00,9,  -999.0,     350,    11.0739, -999.00,9,     -999.0
33KB20130930,       PRS2,       2,          5,         10,       8010,2,20131002,       0259,  22.801000,-158.0021667,       4724,   470.5,   8.2306,  34.0622,2,  34.0621,2,    148.3,1,  -999.0,9, -999.00,9, -999.00,9,  -999.0,     470,     8.1820, -999.00,9,     -999.0
33KB20130930,       PRS2,       2,          5,          9,       8009,2,20131002,       0259,  22.801000,-158.0021667,       4724,   650.6,   5.2164,  34.1365,2,-999.0000,5,     56.3,1,  -999.0,9, -999.00,9, -999.00,9,  -999.0,     650,     5.1631, -999.00,9,     -999.0
33KB20130930,       PRS2,       2,          5,          8,       8008,2,20131002,       0259,  22.801000,-158.0021667,       4724,   701.4,   4.8367,  34.2117,2,-999.0000,5,     43.8,1,  -999.0,9, -999.00,9, -999.00,9,  -999.0,     701,     4.7810, -999.00,9,     -999.0
33KB20130930,       PRS2,       2,          5,          7,       8026,2,20131002,       0259,  22.801000,-158.0021667,       4724,   750.8,   4.7545,  34.2870,2,-999.0000,5,     37.2,1,  -999.0,9, -999.00,9, -999.00,9,  -999.0,     749,     4.6950, -999.00,9,     -999.0
33KB20130930,       PRS2,       2,          5,          6,       8006,2,20131002,       0259,  22.801000,-158.0021667,       4724,   770.6,   4.4845,  34.2781,2,-999.0000,5,     35.4,1,  -999.0,9, -999.00,9, -999.00,9,  -999.0,     772,     4.4249, -999.00,9,     -999.0
33KB20130930,       PRS2,       2,          5,          5,       8005,2,20131002,       0259,  22.801000,-158.0021667,       4724,   799.7,   4.4544,  34.3267,2,-999.0000,5,     37.1,1,  -999.0,9, -999.00,9, -999.00,9,  -999.0,     799,     4.3925, -999.00,9,     -999.0
33KB20130930,       PRS2,       2,          5,          4,       8004,2,20131002,       0259,  22.801000,-158.0021667,       4724,   850.3,   4.3252,  34.3722,2,-999.0000,5,     38.3,1,  -999.0,9, -999.00,9, -999.00,9,  -999.0,     850,     4.2599, -999.00,9,     -999.0
33KB20130930,       PRS2,       2,          5,          3,       8003,2,20131002,       0259,  22.801000,-158.0021667,       4724,   900.8,   4.1408,  34.4077,2,-999.0000,5,     40.4,1,  -999.0,9, -999.00,9, -999.00,9,  -999.0,     900,     4.0725, -999.00,9,     -999.0
33KB20130930,       PRS2,       2,          5,          2,       8002,2,20131002,       0259,  22.801000,-158.0021667,       4724,  1021.0,   3.8571,  34.4730,2,-999.0000,5,     47.6,1,  -999.0,9, -999.00,9, -999.00,9,  -999.0,    1022,     3.7808, -999.00,9,     -999.0
33KB20130930,       PRS2,       2,          5,          1,       8001,2,20131002,       0259,  22.801000,-158.0021667,       4724,  1021.2,   3.8628,  34.4718,2,  34.4722,2,     47.6,1,  -999.0,9, -999.00,9, -999.00,9,  -999.0,    1021,     3.7865, -999.00,9,     -999.0