BOTTLE,20221003CCHSIOAMB
EXPOCODE,SECT_ID,STNNBR,CASTNO,BTLNBR,BTLNBR_FLAG_W,DATE,TIME,LATITUDE,LONGITUDE,DEPTH,CTDPRS,CTDTMP,CTDSAL,CTDSAL_FLAG_W,SALNTY,SALNTY_FLAG_W,OXYGEN,OXYGEN_FLAG_W,SILCAT,SILCAT_FLAG_W,NITRAT,NITRAT_FLAG_W,PHSPHT,PHSPHT_FLAG_W,CFC-11,CFC-11_FLAG_W,TCARBN,TCARBN_FLAG_W,ALKALI,ALKALI_FLAG_W,TRITUM,TRITUM_FLAG_W,DELHE3,DELHE3_FLAG_W,DELC14,DELC14_FLAG_W,C14ERR,THETA
,,,,,,,,,,METERS,DBAR,ITS-90,PSS-78,,PSS-78,,UMOL/KG,,UMOL/KG,,UMOL/KG,,UMOL/KG,,PMOL/KG,,UMOL/KG,,UMOL/KG,,TU,,PERCNT,,/MILLE,,/MILLE,DEG C
35MF62JADE_1,       IR06,      19,          2,          9,2,19890819,       0000,      -9.14,     115.15,       2231,    26.0,  21.3100,  34.2860,2,  34.2990,2,   160.3,2,   16.90,2,    9.00,2,    0.75,2,-999.000,9,  2068.0,2,  2293.0,2,   1.980,2, -999.00,9,    68.0,2,     3.0,  21.3050
35MF62JADE_1,       IR06,      19,          2,         10,2,19890819,       0000,      -9.14,     115.15,       2231,    44.5,  21.1180,  34.3050,2,  34.3050,2,   159.7,2,   19.40,2,    9.30,2,    0.73,2,   1.320,2,  2141.0,2,  2305.0,2,   1.540,2, -999.00,9,    64.0,2,     3.0,  21.1095
35MF62JADE_1,       IR06,      19,          2,         11,2,19890819,       0000,      -9.14,     115.15,       2231,    66.8,  20.4460,  34.3570,2,  34.3450,2,   157.0,2,   21.70,2,    9.90,2,    0.78,2,   1.290,2,  2199.0,2,  2319.0,2,   1.650,2, -999.00,9,    66.0,2,     3.0,  20.4335
35MF62JADE_1,       IR06,      19,          2,         12,2,19890819,       0000,      -9.14,     115.15,       2231,   698.5,   6.5190,  34.6570,2,  34.6510,2,    84.9,2,   78.80,2,   34.70,2,    2.49,2,-999.000,9,  2284.0,2,  2360.0,2,-999.000,9, -999.00,9,  -999.0,9,  -999.0,   6.4541
35MF62JADE_1,       IR06,      19,          2,         13,2,19890819,       0000,      -9.14,     115.15,       2231,   800.5,   5.7280,  34.6260,2,  34.6230,2,    92.5,2,   88.80,2,   34.70,2,    2.54,2,-999.000,9,  2301.0,2,  2372.0,2,-999.000,9, -999.00,9,  -194.0,2,     3.0,   5.6579
35MF62JADE_1,       IR06,      19,          2,         14,2,19890819,       0000,      -9.14,     115.15,       2231,   902.5,   4.9410,  34.6150,2,  34.6140,2,    96.9,2,   99.20,2,   36.00,2,    2.58,2,-999.000,9,  2309.0,2,  2383.0,2,-999.000,9, -999.00,9,  -175.0,2,     3.0,   4.8667
35MF62JADE_1,       IR06,      19,          2,         15,2,19890819,       0000,      -9.14,     115.15,       2231,  1005.5,   4.6000,  34.6160,2,  34.6150,2,   101.3,2,   99.00,2,   36.10,2,    2.57,2,-999.000,9,  2319.0,2,  2390.0,2,-999.000,9, -999.00,9,  -188.0,2,     3.0,   4.5191
35MF62JADE_1,       IR06,      19,          2,         16,2,19890819,       0000,      -9.14,     115.15,       2231,  1207.7,   3.8820,  34.6650,2,  34.6630,2,   107.9,2,  103.60,2,   36.40,2,    2.61,2,-999.000,9,  2322.0,2,  2398.0,2,-999.000,9, -999.00,9,  -999.0,9,  -999.0,   3.7895
35MF62JADE_1,       IR06,      19,          2,         17,2,19890819,       0000,      -9.14,     115.15,       2231,  1508.6,   3.1640,  34.7030,2,  34.7010,2,   125.0,2,  109.70,2,   36.30,2,    2.59,2,-999.000,9,  2324.0,2,  2403.0,2,-999.000,9, -999.00,9,  -999.0,9,  -999.0,   3.0532
35MF62JADE_1,       IR06,      19,          2,         18,2,19890819,       0000,      -9.14,     115.15,       2231,  1830.1,   2.7330,  34.7190,2,  34.7180,2,   136.0,2,  117.10,2,   35.40,2,    2.51,2,-999.000,9,  2325.0,2,  2413.0,2,-999.000,9, -999.00,9,  -999.0,9,  -999.0,   2.6001
35MF62JADE_1,       IR06,      19,          2,         19,2,19890819,       0000,      -9.14,     115.15,       2231,  2221.2,   2.2390,  34.7290,2,  34.7280,2,   151.0,2,  122.10,2,   34.90,2,    2.45,2,-999.000,9,  2319.0,2,  2412.0,2,-999.000,9, -999.00,9,  -999.0,9,  -999.0,   2.0793
35MF62JADE_1,       IR06,      19,          2,         20,2,19890819,       0000,      -9.14,     115.15,       2231,  2221.2,   2.2390,  34.7290,2,  34.7280,2,  -999.0,9, -999.00,9, -999.00,9, -999.00,9,-999.000,9,  -999.0,9,  -999.0,9,-999.000,9, -999.00,9,  -999.0,9,  -999.0,   2.0793
35MF62JADE_1,       IR06,      20,          1,          1,2,19890819,       0000,      -9.04,     115.47,        617,     3.8,  26.0850,  33.9470,2,  33.9470,2,   202.8,2,   11.00,2,    1.40,2,    0.20,2,-999.000,9,  1922.0,2,  2244.0,2,   1.659,2,    0.22,2,  -999.0,9,  -999.0,  26.0842
35MF62JADE_1,       IR06,      20,          1,          2,2,19890819,       0000,      -9.04,     115.47,        617,    40.3,  25.0140,  34.0560,2,  34.0560,2,   181.5,2,   17.70,2,    3.90,2,    0.33,2,-999.000,9,  1950.0,2,  2248.0,2,-999.000,9,    2.85,2,  -999.0,9,  -999.0,  25.0053
35MF62JADE_1,       IR06,      20,          1,          3,2,19890819,       0000,      -9.04,     115.47,        617,    58.6,  25.0210,  34.0980,2,  34.0980,2,   180.4,2,   17.90,2,    4.20,2,    0.35,2,-999.000,9,  1952.0,2,  2257.0,2,   1.739,2,    2.02,2,  -999.0,9,  -999.0,  25.0083
35MF62JADE_1,       IR06,      20,          1,          4,2,19890819,       0000,      -9.04,     115.47,        617,    68.2,  24.8020,  34.1450,2,  34.1260,2,   179.4,2,   17.90,2,    4.30,2,    0.36,2,-999.000,9,  1958.0,2,  2254.0,2,   1.670,2,    2.83,2,  -999.0,9,  -999.0,  24.7874
35MF62JADE_1,       IR06,      20,          1,          5,2,19890819,       0000,      -9.04,     115.47,        617,   107.6,  22.4000,  34.3440,2,  34.3540,2,   165.9,2,   21.10,2,    7.40,2,    0.58,2,-999.000,9,  2011.0,2,  2270.0,2,   1.714,2, -999.00,9,  -999.0,9,  -999.0,  22.3785
35MF62JADE_1,       IR06,      20,          1,          6,2,19890819,       0000,      -9.04,     115.47,        617,   120.1,  20.1730,  34.3310,2,  34.3370,2,   151.8,2,   26.10,2,   11.30,2,    0.83,2,-999.000,9,  2045.0,2,  2278.0,2,-999.000,9,    4.91,2,  -999.0,9,  -999.0,  20.1508
35MF62JADE_1,       IR06,      20,          1,          7,2,19890819,       0000,      -9.04,     115.47,        617,   141.9,  18.9360,  34.4080,2,  34.4040,2,   147.8,2,   26.60,2,   13.00,2,    0.96,2,-999.000,9,  2061.0,2,  2282.0,2,   1.561,2,    5.73,2,  -999.0,9,  -999.0,  18.9109
35MF62JADE_1,       IR06,      20,          1,          8,2,19890819,       0000,      -9.04,     115.47,        617,   204.7,  13.3210,  34.4940,2,  34.5040,2,   121.4,2,   40.00,2,   22.30,2,    1.56,2,-999.000,9,  2153.0,2,  2305.0,2,   1.289,2,   10.17,2,  -999.0,9,  -999.0,  13.2925
35MF62JADE_1,       IR06,      20,          1,          9,2,19890819,       0000,      -9.04,     115.47,        617,   304.9,  10.2180,  34.5710,2,  34.5680,2,   107.0,2,   50.00,2,   28.10,2,    2.00,2,-999.000,9,  2204.0,2,  2320.0,2,   0.834,2,   12.87,2,  -999.0,9,  -999.0,  10.1821
35MF62JADE_1,       IR06,      20,          1,         10,2,19890819,       0000,      -9.04,     115.47,        617,   406.9,   8.7430,  34.7310,2,-999.0000,9,  -999.0,9,   48.50,2,   27.60,2,    1.93,2,-999.000,9,  -999.0,9,  -999.0,9,-999.000,9, -999.00,9,  -999.0,9,  -999.0,-999.0000
35MF62JADE_1,       IR06,      20,          1,         11,2,19890819,       0000,      -9.04,     115.47,        617,   505.7,   7.9240,  34.7070,2,-999.0000,9,  -999.0,9,   33.70,3,   15.20,4,    1.15,4,-999.000,9,  -999.0,9,  -999.0,9,-999.000,9, -999.00,9,  -999.0,9,  -999.0,-999.0000
35MF62JADE_1,       IR06,      20,          1,         12,2,19890819,       0000,      -9.04,     115.47,        617,   607.3,   7.1680,  34.6830,2,  34.6830,2,    81.8,2,   77.30,2,   35.60,2,    2.40,2,-999.000,9,  2279.0,2,  2352.0,2,   0.182,2, -999.00,9,  -999.0,9,  -999.0,   7.1090
35MF62JADE_1,       IR06,      21,          1,          1,2,19890819,       0000,      -9.18,     117.16,        615,     3.7,  25.7900,  33.8630,2,  33.8660,2,   208.7,2,    6.70,2,    0.60,2,    0.16,2,   1.560,2,  1908.0,2,  2244.0,2,-999.000,9, -999.00,9,  -999.0,9,  -999.0,  25.7892
35MF62JADE_1,       IR06,      21,          1,          2,2,19890819,       0000,      -9.18,     117.16,        615,    27.8,  25.7700,  33.8670,2,  33.8650,2,   207.8,2,    7.40,2,    0.70,2,    0.13,2,   1.370,2,  1915.0,2,  2240.0,2,-999.000,9, -999.00,9,  -999.0,9,  -999.0,  25.7639
35MF62JADE_1,       IR06,      21,          1,          3,2,19890819,       0000,      -9.18,     117.16,        615,    49.0,  23.9410,  34.2260,2,  33.8650,2,   207.8,2,    8.00,2,    0.80,2,    0.14,2,   1.370,2,  1916.0,2,  2238.0,2,-999.000,9, -999.00,9,  -999.0,9,  -999.0,  23.9308
35MF62JADE_1,       IR06,      21,          1,          4,2,19890819,       0000,      -9.18,     117.16,        615,    72.6,  21.2110,  34.4960,2,  34.5120,2,   126.6,2,   19.20,2,   12.70,2,    0.94,2,   1.060,2,  2057.0,2,  2280.0,2,-999.000,9, -999.00,9,  -999.0,9,  -999.0,  21.1971
35MF62JADE_1,       IR06,      21,          1,          5,2,19890819,       0000,      -9.18,     117.16,        615,   106.6,  17.6360,  34.4400,2,  34.4410,2,   135.8,2,   24.40,2,   15.40,2,    1.11,2,   0.970,2,  2092.0,2,  2289.0,2,-999.000,9, -999.00,9,  -999.0,9,  -999.0,  17.6181
35MF62JADE_1,       IR06,      21,          1,          6,2,19890819,       0000,      -9.18,     117.16,        615,   130.7,  16.8810,  34.4620,2,  34.4620,2,   132.7,2,   25.70,2,   16.40,2,    1.16,2,   0.950,2,  2100.0,2,  2289.0,2,-999.000,9, -999.00,9,  -999.0,9,  -999.0,  16.8596
35MF62JADE_1,       IR06,      21,          1,          7,2,19890819,       0000,      -9.18,     117.16,        615,   163.3,  14.9230,  34.4970,2,  34.4950,2,   129.3,2,   28.70,2,   18.70,2,    1.34,2,   0.830,2,  2127.0,2,  2295.0,2,-999.000,9, -999.00,9,  -999.0,9,  -999.0,  14.8985
35MF62JADE_1,       IR06,      21,          1,          8,2,19890819,       0000,      -9.18,     117.16,        615,   207.8,  11.9110,  34.5060,2,  34.5050,2,   116.1,2,   38.30,2,   23.80,2,    1.72,2,   0.570,2,  2171.0,2,  2310.0,2,-999.000,9, -999.00,9,  -999.0,9,  -999.0,  11.8841
35MF62JADE_1,       IR06,      21,          1,          9,2,19890819,       0000,      -9.18,     117.16,        615,   310.6,   9.1360,  34.5280,2,  34.5240,2,   103.4,2,   50.80,2,   29.60,2,    2.09,2,   0.440,2,  2224.0,2,  2325.0,2,-999.000,9, -999.00,9,  -999.0,9,  -999.0,   9.1019
35MF62JADE_1,       IR06,      21,          1,         10,2,19890819,       0000,      -9.18,     117.16,        615,   408.6,   8.4600,  34.6390,2,  34.6350,2,    87.5,2,   55.10,2,   31.80,2,    2.25,2,   0.070,2,  2246.0,2,  2332.0,2,-999.000,9, -999.00,9,  -999.0,9,  -999.0,   8.4169
35MF62JADE_1,       IR06,      21,          1,         11,2,19890819,       0000,      -9.18,     117.16,        615,   508.4,   7.7080,  34.6760,2,  34.6760,2,    82.7,2,   63.50,2,   33.70,2,    2.36,2,   0.000,2,  2265.0,2,  2347.0,2,-999.000,9, -999.00,9,  -999.0,9,  -999.0,   7.6569
35MF62JADE_1,       IR06,      21,          1,         12,2,19890819,       0000,      -9.18,     117.16,        615,   605.4,   7.0430,  34.6570,2,  34.6540,2,    86.0,2,   72.80,2,   34.60,2,    2.45,2,   0.140,2,  2278.0,2,  2351.0,2,-999.000,9, -999.00,9,  -999.0,9,  -999.0,   6.9847
35MF62JADE_1,       IR06,      22,          1,          1,2,19890820,       0000,      -9.28,     117.45,       2553,     4.1,  25.7130,  33.8560,2,  33.8630,2,   227.0,2,    6.20,2,    0.20,2,    0.10,2,   1.370,2,  1901.0,2,  2242.0,2,-999.000,9,    2.58,2,  -999.0,9,  -999.0,  25.7121
35MF62JADE_1,       IR06,      22,          1,          2,2,19890820,       0000,      -9.28,     117.45,       2553,    31.6,  25.5670,  33.8690,2,  33.8700,2,   218.0,2,    5.90,2,    0.10,2,    0.11,2,   1.340,2,  1909.0,2,  2241.0,2,-999.000,9, -999.00,9,  -999.0,9,  -999.0,  25.5601
35MF62JADE_1,       IR06,      22,          1,          3,2,19890820,       0000,      -9.28,     117.45,       2553,    49.2,  25.5580,  33.8740,2,  33.8760,2,   213.4,2,    5.70,2,    0.10,2,    0.12,2,   1.340,2,  1916.0,2,  2240.0,2,-999.000,9, -999.00,9,  -999.0,9,  -999.0,  25.5472
35MF62JADE_1,       IR06,      22,          1,          4,2,19890820,       0000,      -9.28,     117.45,       2553,    99.6,  19.3430,  34.2760,2,  34.2810,2,   142.9,2,   21.40,2,   12.40,2,    0.99,2,   1.200,2,  2058.0,2,  2274.0,2,-999.000,9,    0.37,2,  -999.0,9,  -999.0,  19.3251
35MF62JADE_1,       IR06,      22,          1,          5,2,19890820,       0000,      -9.28,     117.45,       2553,   200.3,  12.6830,  34.5090,2,  34.5080,2,   119.3,2,   35.20,2,   22.50,2,    1.58,2,   0.670,2,  2160.0,2,  2304.0,2,-999.000,9,    5.59,2,  -999.0,9,  -999.0,  12.6560
35MF62JADE_1,       IR06,      22,          1,          6,2,19890820,       0000,      -9.28,     117.45,       2553,   301.2,   9.6290,  34.5280,2,  34.5270,2,   102.3,2,   48.40,2,   29.40,2,    2.06,2,-999.000,9,  2210.0,2,  2323.0,2,-999.000,9,   11.07,2,  -999.0,9,  -999.0,   9.5949
35MF62JADE_1,       IR06,      22,          1,          7,2,19890820,       0000,      -9.28,     117.45,       2553,   401.4,   8.4190,  34.5780,2,  34.5780,2,    93.6,2,   57.60,2,   32.20,2,    2.23,2,   0.250,2,  2244.0,2,  2338.0,2,-999.000,9,   11.95,2,  -999.0,9,  -999.0,   8.3768
35MF62JADE_1,       IR06,      22,          1,          8,2,19890820,       0000,      -9.28,     117.45,       2553,   504.8,   7.9850,  34.6660,2,  34.6680,2,    84.6,2,   60.20,2,   34.10,2,    2.36,2,   0.130,2,  2260.0,2,  2340.0,2,-999.000,9,   12.18,2,  -999.0,9,  -999.0,   7.9332
35MF62JADE_1,       IR06,      22,          1,          9,2,19890820,       0000,      -9.28,     117.45,       2553,   804.5,   5.7840,  34.6020,2,  34.6020,2,    94.5,2,   87.30,2,   36.20,2,    2.53,2,-999.000,9,  2294.0,2,  2370.0,2,-999.000,9,   15.24,2,  -999.0,9,  -999.0,   5.7132
35MF62JADE_1,       IR06,      22,          1,         10,2,19890820,       0000,      -9.28,     117.45,       2553,  1616.5,   3.0750,  34.6990,2,  34.7000,2,   126.6,2,  116.00,2,   36.60,2,    2.59,2,   0.000,2,  -999.0,9,  -999.0,9,-999.000,9, -999.00,9,  -999.0,9,  -999.0,   2.9561
35MF62JADE_1,       IR06,      22,          1,         11,2,19890820,       0000,      -9.28,     117.45,       2553,  2542.6,   1.9750,  34.7260,2,  34.7270,2,   157.9,2,  124.90,2,   34.20,2,    2.43,2,-999.000,9,  2314.0,2,  2422.0,2,-999.000,9, -999.00,9,  -999.0,9,  -999.0,   1.7909
35MF62JADE_1,       IR06,      23,          1,          1,2,19890820,       0000,      -9.37,     118.15,       1921,     2.2,  26.1730,  33.8760,2,  33.8810,2,   203.9,2,    6.20,2,    1.10,2,    0.18,2,-999.000,9,  1924.0,2,  2240.0,2,-999.000,9,    1.81,2,  -999.0,9,  -999.0,  26.1725
35MF62JADE_1,       IR06,      23,          1,          2,2,19890820,       0000,      -9.37,     118.15,       1921,    31.1,  25.7490,  33.8760,2,  33.8800,2,   195.4,2, -999.00,9,    2.10,2,    0.25,2,-999.000,9,  1933.0,2,  2240.0,2,-999.000,9, -999.00,9,  -999.0,9,  -999.0,  25.7421
35MF62JADE_1,       IR06,      23,          1,          3,2,19890820,       0000,      -9.37,     118.15,       1921,    48.5,  24.8360,  33.9320,2,  33.9410,2,   170.6,2,   11.40,2,    5.50,2,    0.43,2,   1.240,2,  1964.0,2,  2242.0,2,-999.000,9,    2.62,2,  -999.0,9,  -999.0,  24.8256
35MF62JADE_1,       IR06,      23,          1,          4,2,19890820,       0000,      -9.37,     118.15,       1921,    99.3,  18.6430,  34.4000,2,  34.4060,2,   135.4,2,   21.20,2,   14.20,2,    1.05,2,-999.000,9,  2082.0,2,  2286.0,2,-999.000,9,    6.80,2,  -999.0,9,  -999.0,  18.6256
35MF62JADE_1,       IR06,      23,          1,          5,2,19890820,       0000,      -9.37,     118.15,       1921,   200.5,  13.5060,  34.5180,2,  34.5200,2,   118.7,2,   33.90,2,   21.60,2, -999.00,9,   0.910,2,  2157.0,2,  2310.0,2,-999.000,9,   11.39,2,  -999.0,9,  -999.0,  13.4778
35MF62JADE_1,       IR06,      23,          1,          6,2,19890820,       0000,      -9.37,     118.15,       1921,   299.8,   9.9940,  34.5950,2,  34.5920,2,    96.3,2, -999.00,9, -999.00,9, -999.00,9,   0.350,2,  2210.0,2,  2326.0,2,-999.000,9,   11.35,2,  -999.0,9,  -999.0,   9.9592
35MF62JADE_1,       IR06,      23,          1,          7,2,19890820,       0000,      -9.37,     118.15,       1921,   400.7,   8.4540,  34.5690,2,  34.5730,2,    94.9,2,   54.80,2,   30.70,2,    2.27,2,   0.190,2,  2246.0,2,  2334.0,2,-999.000,9,   12.89,2,  -999.0,9,  -999.0,   8.4118
35MF62JADE_1,       IR06,      23,          1,          8,2,19890820,       0000,      -9.37,     118.15,       1921,   504.8,   7.8840,  34.6290,2,  34.6300,2,    89.1,2,   60.60,2,   32.40,2,    2.35,2,   0.120,2,  2266.0,2,  2343.0,2,-999.000,9,   13.18,2,  -999.0,9,  -999.0,   7.8326
35MF62JADE_1,       IR06,      23,          1,          9,2,19890820,       0000,      -9.37,     118.15,       1921,   804.8,   5.9090,  34.5990,2,  34.5980,2,    97.3,2,   83.40,2,   34.20,2,    2.50,2,   0.250,2,  2294.0,2,  2371.0,2,-999.000,9,   14.90,2,  -999.0,9,  -999.0,   5.8374
35MF62JADE_1,       IR06,      23,          1,         10,2,19890820,       0000,      -9.37,     118.15,       1921,  1211.4,   3.8510,  34.6440,2,  34.6390,2,   111.9,2,  107.50,2,   35.40,2,    2.60,2,-999.000,9,  2325.0,2,  2404.0,2,-999.000,9,   16.77,2,  -999.0,9,  -999.0,   3.7585
35MF62JADE_1,       IR06,      23,          1,         11,2,19890820,       0000,      -9.37,     118.15,       1921,  1614.6,   3.1330,  34.6950,2,  34.6920,2,   125.9,2,  113.30,2,   35.10,2,    2.55,2,   0.000,2,  2326.0,2,  2408.0,2,-999.000,9,   15.86,2,  -999.0,9,  -999.0,   3.0136
35MF62JADE_1,       IR06,      23,          1,         12,2,19890820,       0000,      -9.37,     118.15,       1921,  1910.9,   2.5610,  34.7220,2,  34.7210,2,   141.8,2,  117.10,2,   34.70,3,    2.07,3,-999.000,9,  2323.0,2,  2410.0,2,-999.000,9,   14.09,2,  -999.0,9,  -999.0,   2.4235