BOTTLE,20221003CCHSIOAMB
EXPOCODE,SECT_ID,STNNBR,CASTNO,BTLNBR,BTLNBR_FLAG_W,DATE,TIME,LATITUDE,LONGITUDE,DEPTH,CTDPRS,CTDTMP,CTDSAL,CTDSAL_FLAG_W,SALNTY,SALNTY_FLAG_W,OXYGEN,OXYGEN_FLAG_W,SILCAT,SILCAT_FLAG_W,NITRAT,NITRAT_FLAG_W,PHSPHT,PHSPHT_FLAG_W,CFC-11,CFC-11_FLAG_W,TCARBN,TCARBN_FLAG_W,ALKALI,ALKALI_FLAG_W,TRITUM,TRITUM_FLAG_W,DELHE3,DELHE3_FLAG_W,DELC14,DELC14_FLAG_W,C14ERR,THETA
,,,,,,,,,,METERS,DBAR,ITS-90,PSS-78,,PSS-78,,UMOL/KG,,UMOL/KG,,UMOL/KG,,UMOL/KG,,PMOL/KG,,UMOL/KG,,UMOL/KG,,TU,,PERCNT,,/MILLE,,/MILLE,DEG C
35MF62JADE_1,       IR06,       5,          2,         13,2,19890810,       0000,     -16.35,     117.23,       5510,   703.8,   6.5890,  34.6220,2,  34.6220,2,    96.5,2,   66.90,2,   34.00,2,    2.38,2,-999.000,9,  2269.0,2,  2344.0,2,-999.000,9,   10.68,2,  -999.0,9,  -999.0,   6.5232
35MF62JADE_1,       IR06,       5,          2,         14,2,19890810,       0000,     -16.35,     117.23,       5510,   804.3,   5.9410,  34.6170,2,  34.6180,2,    92.1,2,   78.10,2,   35.20,2,    2.55,2,-999.000,9,  2290.0,2,  2363.0,2,   0.190,2,   13.49,2,  -162.0,2,     3.0,   5.8692
35MF62JADE_1,       IR06,       5,          2,         15,2,19890810,       0000,     -16.35,     117.23,       5510,   908.7,   5.4100,  34.6170,2,  34.6170,2,    93.2,2,   86.70,2,   35.90,2,    2.60,2,-999.000,9,  2299.0,2,  2375.0,2,   0.130,2,   13.11,2,  -161.0,2,     3.0,   5.3319
35MF62JADE_1,       IR06,       5,          2,         16,2,19890810,       0000,     -16.35,     117.23,       5510,  1006.1,   4.9860,  34.6170,2,  34.6190,2,    96.3,2,   91.00,2,   35.80,2,    2.65,2,-999.000,9,  2302.0,2,  2381.0,2,   0.090,2, -999.00,9,  -173.0,2,     3.0,   4.9020
35MF62JADE_1,       IR06,       5,          2,         17,2,19890810,       0000,     -16.35,     117.23,       5510,  1107.1,   4.6480,  34.6190,2,  34.6180,2,    99.8,2,   96.70,2,   36.10,2,    2.63,2,-999.000,9,  2313.0,2,  2382.0,2,-999.000,9,   15.11,2,  -999.0,9,  -999.0,   4.5576
35MF62JADE_1,       IR06,       5,          2,         18,2,19890810,       0000,     -16.35,     117.23,       5510,  1207.7,   4.3490,  34.6250,2,  34.6270,2,   102.1,2,   99.80,2,   36.50,2,    2.64,2,-999.000,9,  2310.0,2,  2389.0,2,-999.000,9,   18.07,2,  -999.0,9,  -999.0,   4.2523
35MF62JADE_1,       IR06,       5,          2,         19,2,19890810,       0000,     -16.35,     117.23,       5510,  1311.2,   4.0010,  34.6420,2,  34.6430,2,   107.5,2,  101.10,2,   35.90,2,    2.64,2,-999.000,9,  2312.0,2,  2393.0,2,-999.000,9, -999.00,9,  -999.0,9,  -999.0,   3.8984
35MF62JADE_1,       IR06,       5,          2,         20,2,19890810,       0000,     -16.35,     117.23,       5510,  1560.8,   3.1930,  34.6830,2,  34.6810,2,   123.0,2,  107.90,2,   35.80,2,    2.65,2,-999.000,9,  2321.0,2,  2401.0,2,-999.000,9, -999.00,9,  -999.0,9,  -999.0,   3.0775
35MF62JADE_1,       IR06,       5,          2,         21,2,19890810,       0000,     -16.35,     117.23,       5510,  1613.9,   3.0280,  34.6900,2,  34.6910,2,   127.7,2,  108.80,2,   35.50,2,    2.58,2,-999.000,9,  2318.0,2,  2403.0,2,-999.000,9,   13.45,2,  -999.0,9,  -999.0,   2.9099
35MF62JADE_1,       IR06,       5,          2,         22,2,19890810,       0000,     -16.35,     117.23,       5510,  1817.3,   2.5620,  34.7160,2,  34.7150,2,   138.2,2,  113.10,2,   34.90,2,    2.54,2,-999.000,9,  2314.0,2,  2405.0,2,-999.000,9,   13.40,2,  -999.0,9,  -999.0,   2.4326
35MF62JADE_1,       IR06,       5,          2,         23,2,19890810,       0000,     -16.35,     117.23,       5510,  2019.4,   2.3250,  34.7220,2,  34.7230,2,   144.9,2,  115.80,2,   34.80,2,    2.54,2,-999.000,9,  2320.0,2,  2408.0,2,-999.000,9,   13.54,2,  -999.0,9,  -999.0,   2.1816
35MF62JADE_1,       IR06,       5,          2,         24,2,19890810,       0000,     -16.35,     117.23,       5510,  2224.1,   2.1010,  34.7240,2,  34.7300,2,   152.4,2,  117.80,2,   34.50,2,    2.53,2,-999.000,9,  2311.0,2,  2411.0,2,-999.000,9,   12.98,2,  -999.0,9,  -999.0,   1.9433
35MF62JADE_1,       IR06,       5,          1,         25,2,19890810,       0000,     -16.35,     117.23,       5510,  2410.6,   1.9870,  34.7270,2,  34.7270,2,   156.9,2,  124.10,2,   35.10,2,    2.40,2,-999.000,9,  2315.0,2,  2407.0,2,-999.000,9, -999.00,9,  -999.0,9,  -999.0,   1.8147
35MF62JADE_1,       IR06,       5,          1,         26,2,19890810,       0000,     -16.35,     117.23,       5510,  2626.6,   1.8390,  34.7250,2,  34.7270,2,   161.6,2,  125.60,2,   35.20,2,    2.40,2,-999.000,9,  2313.0,2,  2411.0,2,-999.000,9, -999.00,9,  -999.0,9,  -999.0,   1.6498
35MF62JADE_1,       IR06,       5,          1,         27,2,19890810,       0000,     -16.35,     117.23,       5510,  2830.5,   1.7040,  34.7230,2,  34.7250,2,   163.5,2,  124.40,2,   34.80,2,    2.36,2,-999.000,9,  2314.0,2,  2406.0,2,-999.000,9, -999.00,9,  -999.0,9,  -999.0,   1.4986
35MF62JADE_1,       IR06,       5,          1,         28,2,19890810,       0000,     -16.35,     117.23,       5510,  3032.4,   1.5850,  34.7210,2,  34.7210,2,   173.2,2,  127.40,2,   34.80,2,    2.36,2,-999.000,9,  2309.0,2,  2411.0,2,-999.000,9,   12.54,2,  -999.0,9,  -999.0,   1.3630
35MF62JADE_1,       IR06,       5,          1,         29,2,19890810,       0000,     -16.35,     117.23,       5510,  3241.1,   1.4620,  34.7190,2,  34.7190,2,   177.5,2,  126.70,2,   34.30,2,    2.34,2,-999.000,9,  2310.0,2,  2412.0,2,-999.000,9,   11.13,2,  -999.0,9,  -999.0,   1.2225
35MF62JADE_1,       IR06,       5,          1,         30,2,19890810,       0000,     -16.35,     117.23,       5510,  3550.4,   1.2950,  34.7140,2,  34.7150,2,   185.4,2,  128.30,2,   34.30,2,    2.32,2,-999.000,9,  2307.0,2,  2408.0,2,-999.000,9,   11.47,2,  -999.0,9,  -999.0,   1.0287
35MF62JADE_1,       IR06,       5,          1,         31,2,19890810,       0000,     -16.35,     117.23,       5510,  3650.8,   1.2540,  34.7140,2,  34.7140,2,   187.6,2,  128.10,2,   34.20,2,    2.34,2,-999.000,9,  2304.0,2,  2409.0,2,-999.000,9, -999.00,9,  -999.0,9,  -999.0,   0.9785
35MF62JADE_1,       IR06,       5,          1,         32,2,19890810,       0000,     -16.35,     117.23,       5510,  4060.1,   1.1740,  34.7110,2,  34.7120,2,   193.1,2,  127.50,2,   34.00,2,    2.32,2,-999.000,9,  -999.0,9,  -999.0,9,-999.000,9,   11.29,2,  -999.0,9,  -999.0,   0.8576
35MF62JADE_1,       IR06,       5,          1,         33,2,19890810,       0000,     -16.35,     117.23,       5510,  4258.5,   1.1660,  34.7110,2,  34.7120,2,   194.5,2,  127.60,2,   33.80,2,    2.31,2,-999.000,9,  2304.0,2,  2401.0,2,-999.000,9,   10.16,2,  -999.0,9,  -999.0,   0.8282
35MF62JADE_1,       IR06,       5,          1,         34,2,19890810,       0000,     -16.35,     117.23,       5510,  4679.7,   1.1830,  34.7100,2,  34.7120,2,   193.9,2,  126.90,2,   34.00,2,    2.24,2,-999.000,9,  2303.0,2,  2400.0,2,-999.000,9,   11.66,2,  -999.0,9,  -999.0,   0.7970
35MF62JADE_1,       IR06,       5,          1,         35,2,19890810,       0000,     -16.35,     117.23,       5510,  5107.5,   1.2310,  34.7080,2,  34.7110,2,   194.8,2,  127.70,2,   33.90,2,    2.28,2,-999.000,9,  2305.0,2,  2402.0,2,-999.000,9,   12.15,2,  -999.0,9,  -999.0,   0.7926
35MF62JADE_1,       IR06,       6,          2,          1,2,19890810,       0000,     -15.46,     117.09,       5573,     2.8,  26.2120,  34.1810,2,  34.1770,2,   206.6,2,    4.60,2,    0.10,2,    0.18,2,   1.440,2,  1912.0,2,  2255.0,2,-999.000,9, -999.00,9,  -999.0,9,  -999.0,  26.2114
35MF62JADE_1,       IR06,       6,          2,          2,2,19890810,       0000,     -15.46,     117.09,       5573,    29.5,  26.2230,  34.1790,2,  34.1820,2,   206.6,2,    5.10,2,    0.10,2,    0.15,2,   1.420,2,  1918.0,2,  2253.0,2,-999.000,9, -999.00,9,  -999.0,9,  -999.0,  26.2164
35MF62JADE_1,       IR06,       6,          2,          3,2,19890810,       0000,     -15.46,     117.09,       5573,    48.6,  26.1310,  34.3000,2,  34.3010,2,   202.1,2,    4.60,2,    0.10,2,    0.15,2,   1.430,2,  1926.0,2,  2262.0,2,-999.000,9, -999.00,9,  -999.0,9,  -999.0,  26.1201
35MF62JADE_1,       IR06,       6,          2,          4,2,19890810,       0000,     -15.46,     117.09,       5573,    70.2,  25.9700,  34.4100,2,  34.4380,2,   191.2,2,    4.80,2,    1.20,2,    0.22,2,   1.370,2,  1938.0,2,  2271.0,2,-999.000,9, -999.00,9,  -999.0,9,  -999.0,  25.9544
35MF62JADE_1,       IR06,       6,          2,          5,2,19890810,       0000,     -15.46,     117.09,       5573,   101.4,  24.2940,  34.5900,2,  34.5820,2,   144.3,2,    9.30,2,    7.30,2,    0.63,2,   1.210,2,  -999.0,9,  -999.0,9,-999.000,9, -999.00,9,  -999.0,9,  -999.0,  24.2725
35MF62JADE_1,       IR06,       6,          2,          6,2,19890810,       0000,     -15.46,     117.09,       5573,   125.3,  22.4360,  34.5960,2,  34.5940,2,   132.3,2,   12.30,2,   10.10,2,    0.83,2,   1.090,2,  2038.0,2,  2280.0,2,-999.000,9, -999.00,9,  -999.0,9,  -999.0,  22.4109
35MF62JADE_1,       IR06,       6,          2,          7,2,19890810,       0000,     -15.46,     117.09,       5573,   160.9,  19.4000,  34.7440,2,  34.7300,2,   122.1,2,   17.30,2,   14.20,2,    1.02,2,   1.020,2,  2078.0,2,  2296.0,2,-999.000,9, -999.00,9,  -999.0,9,  -999.0,  19.3709
35MF62JADE_1,       IR06,       6,          2,          8,2,19890810,       0000,     -15.46,     117.09,       5573,   202.7,  15.8550,  34.8370,2,  34.8480,2,   121.2,2,   23.80,2,   18.00,2,    1.27,2,   0.830,2,  2130.0,2,  2309.0,2,-999.000,9, -999.00,9,  -999.0,9,  -999.0,  15.8231
35MF62JADE_1,       IR06,       6,          2,          9,2,19890810,       0000,     -15.46,     117.09,       5573,   300.8,  11.3390,  34.7250,2,  34.7300,2,   115.4,2,   36.30,2,   24.90,2,    1.75,2,   0.630,2,  2188.0,2,  2319.0,2,-999.000,9, -999.00,9,  -999.0,9,  -999.0,  11.3011
35MF62JADE_1,       IR06,       6,          2,         10,2,19890810,       0000,     -15.46,     117.09,       5573,   401.9,   9.3800,  34.7060,2,  34.6970,2,   142.4,2,   33.70,2,   25.50,2,    1.77,2,   0.490,2,  2193.0,2,  2319.0,2,-999.000,9, -999.00,9,  -999.0,9,  -999.0,   9.3349
35MF62JADE_1,       IR06,       6,          2,         11,2,19890810,       0000,     -15.46,     117.09,       5573,   479.4,   8.2330,  34.6370,2,  34.6340,2,   124.2,2,   45.50,2,   29.70,2,    2.04,2,   0.160,2,  2220.0,2,  2327.0,2,-999.000,9, -999.00,9,  -999.0,9,  -999.0,   8.1830
35MF62JADE_1,       IR06,       6,          2,         12,2,19890810,       0000,     -15.46,     117.09,       5573,   604.4,   7.0190,  34.6120,2,  34.6150,2,    98.0,2,   65.90,2,   34.90,2,    2.43,2,   0.000,2,  2257.0,2,  2343.0,2,-999.000,9, -999.00,9,  -999.0,9,  -999.0,   6.9610
35MF62JADE_1,       IR06,       6,          1,         13,2,19890810,       0000,     -15.46,     117.09,       5573,   809.1,   5.8110,  34.6170,2,  34.6180,2,    91.6,2,   82.80,2,   35.60,2,    2.52,2,   0.000,2,  2290.0,2,  2367.0,2,-999.000,9, -999.00,9,  -999.0,9,  -999.0,   5.7396
35MF62JADE_1,       IR06,       6,          1,         14,2,19890810,       0000,     -15.46,     117.09,       5573,   906.6,   5.3370,  34.6170,2,  34.6170,2,    94.0,2,   89.60,2,   35.90,2,    2.60,2,   0.000,2,  2301.0,2,  2377.0,2,-999.000,9, -999.00,9,  -999.0,9,  -999.0,   5.2596
35MF62JADE_1,       IR06,       6,          1,         15,2,19890810,       0000,     -15.46,     117.09,       5573,  1006.8,   4.8900,  34.6070,2,  34.6070,2,    98.1,2,   96.50,2,   36.20,2,    2.60,2,   0.130,2,  2309.0,2,  2371.0,2,-999.000,9, -999.00,9,  -999.0,9,  -999.0,   4.8067
35MF62JADE_1,       IR06,       6,          1,         16,2,19890810,       0000,     -15.46,     117.09,       5573,  1109.2,   4.5460,  34.6110,2,  34.6120,2,   104.0,2,  100.60,2,   36.10,2,    2.61,2,-999.000,9,  2307.0,2,  2386.0,2,-999.000,9, -999.00,9,  -999.0,9,  -999.0,   4.4563
35MF62JADE_1,       IR06,       6,          1,         17,2,19890810,       0000,     -15.46,     117.09,       5573,  1208.6,   4.2410,  34.6180,2,  34.6180,2,   104.2,2,  104.30,2,   36.70,2,    2.65,2,   0.000,2,  2318.0,2,  2376.0,2,-999.000,9, -999.00,9,  -999.0,9,  -999.0,   4.1452
35MF62JADE_1,       IR06,       6,          1,         18,2,19890810,       0000,     -15.46,     117.09,       5573,  1310.9,   3.9930,  34.6310,2,  34.6310,2,   106.1,2,  107.20,2,   36.30,2,    2.66,2,   0.030,2,  2321.0,2,  2376.0,2,-999.000,9, -999.00,9,  -999.0,9,  -999.0,   3.8906
35MF62JADE_1,       IR06,       6,          1,         19,2,19890810,       0000,     -15.46,     117.09,       5573,  1460.8,   3.5680,  34.6580,2,  34.6560,2,   115.3,2,  110.00,2,   36.50,2,    2.63,2,   0.000,2,  -999.0,9,  -999.0,9,-999.000,9, -999.00,9,  -999.0,9,  -999.0,   3.4569
35MF62JADE_1,       IR06,       6,          1,         20,2,19890810,       0000,     -15.46,     117.09,       5573,  1612.7,   3.1470,  34.6860,2,  34.6840,2,   124.0,2,  112.60,2,   36.00,2,    2.60,2,   0.000,2,  2318.0,2,  2384.0,2,-999.000,9, -999.00,9,  -999.0,9,  -999.0,   3.0276
35MF62JADE_1,       IR06,       6,          1,         21,2,19890810,       0000,     -15.46,     117.09,       5573,  1816.6,   2.6530,  34.7100,2,  34.7100,2,   136.9,2,  114.90,2,   35.70,2,    2.57,2,-999.000,9,  2319.0,2,  2383.0,2,-999.000,9, -999.00,9,  -999.0,9,  -999.0,   2.5224
35MF62JADE_1,       IR06,       6,          1,         22,2,19890810,       0000,     -15.46,     117.09,       5573,  2019.0,   2.3740,  34.7220,2,  34.7210,2,   143.8,2,  118.20,2,   35.10,2,    2.52,2,-999.000,9,  2318.0,2,  2402.0,2,-999.000,9, -999.00,9,  -999.0,9,  -999.0,   2.2299
35MF62JADE_1,       IR06,       6,          1,         23,2,19890810,       0000,     -15.46,     117.09,       5573,  2229.3,   2.1670,  34.7260,2,  34.7260,2,   149.9,2,  120.10,2,   34.60,2,    2.48,2,-999.000,9,  2321.0,2,  2399.0,2,-999.000,9, -999.00,9,  -999.0,9,  -999.0,   2.0078
35MF62JADE_1,       IR06,       6,          1,         24,2,19890810,       0000,     -15.46,     117.09,       5573,  2229.3,   2.1670,  34.7260,2,  34.7250,2,  -999.0,9,  120.80,2,   34.70,2,    2.50,2,-999.000,9,  -999.0,9,  -999.0,9,-999.000,9, -999.00,9,  -999.0,9,  -999.0,   2.0078
35MF62JADE_1,       IR06,       7,          2,          1,2,19890811,       0000,     -14.54,     116.59,       5619,    30.0,  26.4810,  34.1070,2,  34.1130,2,   203.9,2,    7.80,2,    0.10,2,    0.13,2,   1.450,2,  1911.0,2,  2241.0,2,-999.000,9, -999.00,9,  -999.0,9,  -999.0,  26.4742
35MF62JADE_1,       IR06,       7,          2,          2,2,19890811,       0000,     -14.54,     116.59,       5619,    50.0,  25.5610,  34.3930,2,  34.3760,2,   173.7,2,   11.80,2,    3.90,2,    0.35,2,   1.560,2,  1958.0,2,  2258.0,2,-999.000,9, -999.00,9,  -999.0,9,  -999.0,  25.5500
35MF62JADE_1,       IR06,       7,          2,          3,2,19890811,       0000,     -14.54,     116.59,       5619,    68.9,  25.6830,  34.6640,2,  34.6620,2,   192.0,2,   11.30,2,    1.30,2,    0.22,2,   1.440,2,  1947.0,2,  2278.0,2,-999.000,9, -999.00,9,  -999.0,9,  -999.0,  25.6678
35MF62JADE_1,       IR06,       7,          2,          4,2,19890811,       0000,     -14.54,     116.59,       5619,   100.0,  25.1110,  34.8160,2,  34.8100,2,   194.2,2,   11.50,2,    1.80,2,    0.23,2,   1.410,2,  1959.0,2,  2281.0,2,-999.000,9, -999.00,9,  -999.0,9,  -999.0,  25.0893
35MF62JADE_1,       IR06,       7,          2,          5,2,19890811,       0000,     -14.54,     116.59,       5619,   126.0,  24.9340,  34.8640,2,  34.8600,2,   188.8,2,   11.80,2,    2.30,2,    0.29,2,   1.500,2,  1969.0,2,  2283.0,2,-999.000,9, -999.00,9,  -999.0,9,  -999.0,  24.9067
35MF62JADE_1,       IR06,       7,          2,          6,2,19890811,       0000,     -14.54,     116.59,       5619,   151.2,  21.7820,  34.7090,2,  34.7090,2,   126.7,2,   18.30,2,   12.00,2,    0.88,2,   1.170,2,  2050.0,2,  2284.0,2,-999.000,9, -999.00,9,  -999.0,9,  -999.0,  21.7523
35MF62JADE_1,       IR06,       7,          2,          7,2,19890811,       0000,     -14.54,     116.59,       5619,   201.4,  17.0260,  34.9030,2,  34.8880,2,   123.6,2,   24.40,2,   17.00,2,    1.25,2,-999.000,9,  2116.0,2,  2306.0,2,-999.000,9, -999.00,9,  -999.0,9,  -999.0,  16.9927
35MF62JADE_1,       IR06,       7,          2,          8,2,19890811,       0000,     -14.54,     116.59,       5619,   301.2,  12.1910,  34.8050,2,  34.8030,2,   118.9,2,   34.30,2,   24.00,2,    1.66,2,   0.640,2,  2174.0,2,  2301.0,2,-999.000,9, -999.00,9,  -999.0,9,  -999.0,  12.1512
35MF62JADE_1,       IR06,       7,          2,          9,2,19890811,       0000,     -14.54,     116.59,       5619,   352.6,  11.2360,  34.8600,2,  34.8600,2,   154.0,2,   26.90,2,   21.00,2,    1.47,2,   0.900,2,  2161.0,3,  2317.0,2,-999.000,9, -999.00,9,  -999.0,9,  -999.0,  11.1917
35MF62JADE_1,       IR06,       7,          2,         10,2,19890811,       0000,     -14.54,     116.59,       5619,   452.7,   9.3720,  34.7270,2,  34.7290,2,   181.8,2,   22.70,2,   22.50,2,    1.51,2,   0.780,2,  -999.0,9,  -999.0,9,-999.000,9, -999.00,9,  -999.0,9,  -999.0,   9.3210
35MF62JADE_1,       IR06,       7,          2,         11,2,19890811,       0000,     -14.54,     116.59,       5619,   607.6,   7.2820,  34.6250,2,  34.6270,2,   112.9,2,   56.40,2,   33.70,2,    2.29,2,   0.050,2,  2243.0,2,  2333.0,2,-999.000,9, -999.00,9,  -999.0,9,  -999.0,   7.2225
35MF62JADE_1,       IR06,       7,          2,         12,2,19890811,       0000,     -14.54,     116.59,       5619,   607.6,   7.2820,  34.6250,2,  34.6270,2,  -999.0,9,   55.90,2,   33.60,2,    2.32,2,-999.000,9,  -999.0,9,  -999.0,9,-999.000,9, -999.00,9,  -999.0,9,  -999.0,   7.2225