BOTTLE,20221003CCHSIOAMB
EXPOCODE,SECT_ID,STNNBR,CASTNO,BTLNBR,BTLNBR_FLAG_W,DATE,TIME,LATITUDE,LONGITUDE,DEPTH,CTDPRS,CTDTMP,CTDSAL,CTDSAL_FLAG_W,SALNTY,SALNTY_FLAG_W,OXYGEN,OXYGEN_FLAG_W,SILCAT,SILCAT_FLAG_W,NITRAT,NITRAT_FLAG_W,PHSPHT,PHSPHT_FLAG_W,CFC-11,CFC-11_FLAG_W,TCARBN,TCARBN_FLAG_W,ALKALI,ALKALI_FLAG_W,TRITUM,TRITUM_FLAG_W,DELHE3,DELHE3_FLAG_W,DELC14,DELC14_FLAG_W,C14ERR,THETA
,,,,,,,,,,METERS,DBAR,ITS-90,PSS-78,,PSS-78,,UMOL/KG,,UMOL/KG,,UMOL/KG,,UMOL/KG,,PMOL/KG,,UMOL/KG,,UMOL/KG,,TU,,PERCNT,,/MILLE,,/MILLE,DEG C
35MF62JADE_1,       IR06,       3,          2,          1,2,19890809,       0000,     -17.41,     117.41,       4158,     2.4,  25.1220,  34.6590,2,  34.6580,2,   209.4,2,    7.40,2,    0.10,2,    0.17,2,-999.000,9,  1939.0,2,  2287.0,2,-999.000,9, -999.00,9,  -999.0,9,  -999.0,  25.1215
35MF62JADE_1,       IR06,       3,          2,          2,2,19890809,       0000,     -17.41,     117.41,       4158,    29.8,  24.8780,  34.6800,2,  34.6800,2,   209.9,2,    8.60,2,    0.00,2,    0.13,2,-999.000,9,  1943.0,2,  2287.0,2,-999.000,9, -999.00,9,  -999.0,9,  -999.0,  24.8716
35MF62JADE_1,       IR06,       3,          2,          3,2,19890809,       0000,     -17.41,     117.41,       4158,    48.4,  24.8740,  34.6870,2,  34.6890,2,   208.8,2,    8.50,2,    0.10,2,    0.15,2,-999.000,9,  1948.0,2,  2291.0,2,-999.000,9, -999.00,9,  -999.0,9,  -999.0,  24.8636
35MF62JADE_1,       IR06,       3,          2,          4,2,19890809,       0000,     -17.41,     117.41,       4158,    69.5,  24.7780,  34.7160,2,  34.7120,2,   205.3,2,    7.50,2,    0.10,2,    0.16,2,-999.000,9,  1952.0,2,  2288.0,2,-999.000,9, -999.00,9,  -999.0,9,  -999.0,  24.7631
35MF62JADE_1,       IR06,       3,          2,          5,2,19890809,       0000,     -17.41,     117.41,       4158,   100.3,  24.6990,  34.7190,2,  34.7190,2,   201.8,2,    7.60,2,    1.20,2,    0.25,2,-999.000,9,  1952.0,2,  2291.0,2,-999.000,9, -999.00,9,  -999.0,9,  -999.0,  24.6775
35MF62JADE_1,       IR06,       3,          2,          6,2,19890809,       0000,     -17.41,     117.41,       4158,   134.8,  22.5730,  34.8480,2,  34.8470,2,   142.5,2,   13.90,2,    8.60,2,    0.70,2,-999.000,9,  2041.0,2,  2290.0,2,-999.000,9, -999.00,9,  -999.0,9,  -999.0,  22.5459
35MF62JADE_1,       IR06,       3,          2,          7,2,19890809,       0000,     -17.41,     117.41,       4158,   150.1,  22.1870,  34.9490,2,  34.9210,2,   164.2,2,   12.30,2,    6.40,2,    0.56,2,-999.000,9,  2019.0,2,  2298.0,2,-999.000,9, -999.00,9,  -999.0,9,  -999.0,  22.1571
35MF62JADE_1,       IR06,       3,          2,          8,2,19890809,       0000,     -17.41,     117.41,       4158,   164.6,  20.7910,  34.8120,2,  34.8090,2,   132.7,2,   17.10,2,   11.60,2,    0.88,2,-999.000,9,  2067.0,2,  2298.0,2,-999.000,9, -999.00,9,  -999.0,9,  -999.0,  20.7598
35MF62JADE_1,       IR06,       3,          2,          9,2,19890809,       0000,     -17.41,     117.41,       4158,   248.2,  15.0980,  35.1550,2,  35.1580,2,   152.1,2,   18.10,2,   13.90,2,    1.00,2,-999.000,9,  2129.0,2,  2329.0,2,-999.000,9, -999.00,9,  -999.0,9,  -999.0,  15.0601
35MF62JADE_1,       IR06,       3,          2,         10,2,19890809,       0000,     -17.41,     117.41,       4158,   350.3,  11.5330,  34.9540,2,  34.9540,2,   187.2,2,   15.80,2,   15.40,2,    1.18,2,-999.000,9,  2144.0,2,  2322.0,2,-999.000,9, -999.00,9,  -999.0,9,  -999.0,  11.4882
35MF62JADE_1,       IR06,       3,          2,         11,2,19890809,       0000,     -17.41,     117.41,       4158,   448.2,   9.2090,  34.7050,2,  34.7050,2,   186.5,2,   20.50,2,   20.80,2,    1.46,2,-999.000,9,  2157.0,2,  2314.0,2,-999.000,9, -999.00,9,  -999.0,9,  -999.0,   9.1591
35MF62JADE_1,       IR06,       3,          2,         12,2,19890809,       0000,     -17.41,     117.41,       4158,   552.5,   7.5840,  34.6310,2,  34.6280,2,   124.9,2,   48.70,2,   29.90,2,    2.10,2,-999.000,9,  2229.0,2,  2335.0,2,-999.000,9, -999.00,9,  -999.0,9,  -999.0,   7.5288
35MF62JADE_1,       IR06,       3,          1,         13,2,19890809,       0000,     -17.41,     117.41,       4158,   702.7,   6.3720,  34.6130,2,  34.6150,2,    98.5,2,   75.90,2,   34.50,2,    2.35,2,-999.000,9,  2275.0,2,  2358.0,2,-999.000,9, -999.00,9,  -999.0,9,  -999.0,   6.3075
35MF62JADE_1,       IR06,       3,          1,         14,2,19890809,       0000,     -17.41,     117.41,       4158,   804.2,   5.8580,  34.6150,2,  34.6130,2,    94.5,2,   84.10,2,   35.00,2,    2.48,2,-999.000,9,  2290.0,2,  2356.0,2,-999.000,9, -999.00,9,  -999.0,9,  -999.0,   5.7867
35MF62JADE_1,       IR06,       3,          1,         15,2,19890809,       0000,     -17.41,     117.41,       4158,   906.0,   5.3330,  34.6130,2,  34.6130,2,    95.2,2,   91.80,2,   35.40,2,    2.58,2,-999.000,9,  2301.0,2,  2377.0,2,-999.000,9, -999.00,9,  -999.0,9,  -999.0,   5.2557
35MF62JADE_1,       IR06,       3,          1,         16,2,19890809,       0000,     -17.41,     117.41,       4158,  1005.7,   4.9780,  34.6190,2,  34.6200,2,    98.2,2,   94.60,2,   35.70,2,    2.51,2,-999.000,9,  2306.0,2,  2375.0,2,-999.000,9, -999.00,9,  -999.0,9,  -999.0,   4.8941
35MF62JADE_1,       IR06,       3,          1,         17,2,19890809,       0000,     -17.41,     117.41,       4158,  1108.5,   4.6000,  34.6210,2,  34.6180,2,   101.0,2,  101.30,2,   36.10,2,    2.62,2,-999.000,9,  2314.0,2,  2384.0,2,-999.000,9, -999.00,9,  -999.0,9,  -999.0,   4.5099
35MF62JADE_1,       IR06,       3,          1,         18,2,19890809,       0000,     -17.41,     117.41,       4158,  1208.4,   4.2690,  34.6260,2,  34.6260,2,   104.4,2,  105.50,2,   36.30,2,    2.75,2,-999.000,9,  2316.0,2,  2388.0,2,-999.000,9, -999.00,9,  -999.0,9,  -999.0,   4.1730
35MF62JADE_1,       IR06,       3,          1,         19,2,19890809,       0000,     -17.41,     117.41,       4158,  1311.3,   3.9790,  34.6420,2,  34.6390,2,   108.1,2,  107.10,2,   36.30,2,    2.58,2,-999.000,9,  2319.0,2,  2389.0,2,-999.000,9, -999.00,9,  -999.0,9,  -999.0,   3.8766
35MF62JADE_1,       IR06,       3,          1,         20,2,19890809,       0000,     -17.41,     117.41,       4158,  1513.9,   3.4550,  34.6670,2,  34.6690,2,   119.6,2,  109.20,2,   36.20,2,    2.55,2,-999.000,9,  2317.0,2,  2395.0,2,-999.000,9, -999.00,9,  -999.0,9,  -999.0,   3.3405
35MF62JADE_1,       IR06,       3,          1,         21,2,19890809,       0000,     -17.41,     117.41,       4158,  1614.7,   3.1450,  34.6840,2,  34.6850,2,   126.5,2,  112.00,2,   35.80,2,    2.58,2,-999.000,9,  2317.0,2,  2399.0,2,-999.000,9, -999.00,9,  -999.0,9,  -999.0,   3.0254
35MF62JADE_1,       IR06,       3,          1,         22,2,19890809,       0000,     -17.41,     117.41,       4158,  1766.0,   2.6930,  34.7070,2,  34.7060,2,   136.2,2,  115.40,2,   35.30,2,    2.62,2,-999.000,9,  -999.0,9,  -999.0,9,-999.000,9, -999.00,9,  -999.0,9,  -999.0,   2.5662
35MF62JADE_1,       IR06,       3,          1,         23,2,19890809,       0000,     -17.41,     117.41,       4158,  1934.0,   2.3650,  34.7190,2,  34.7190,2,   147.0,2,  119.10,2,   34.40,2,    2.47,2,-999.000,9,  2320.0,2,  2405.0,2,-999.000,9, -999.00,9,  -999.0,9,  -999.0,   2.2284
35MF62JADE_1,       IR06,       3,          1,         24,2,19890809,       0000,     -17.41,     117.41,       4158,  1934.0,   2.3650,  34.7190,2,  34.7190,2,  -999.0,9,  119.40,2,   35.00,2,    2.56,2,-999.000,9,  -999.0,9,  -999.0,9,-999.000,9, -999.00,9,  -999.0,9,  -999.0,   2.2284
35MF62JADE_1,       IR06,       4,          2,          1,2,19890809,       0000,      -17.1,     117.34,       4158,     2.2,  25.6300,  34.4170,2,  34.4170,2,   208.9,2,    6.60,2,    0.10,2,    0.12,2,-999.000,9,  1929.0,2,  2275.0,2,-999.000,9, -999.00,9,  -999.0,9,  -999.0,  25.6295
35MF62JADE_1,       IR06,       4,          2,          2,2,19890809,       0000,      -17.1,     117.34,       4158,    29.2,  25.6220,  34.4170,2,  34.4210,2,   208.5,2,    6.00,2,    0.10,2,    0.12,2,-999.000,9,  1931.0,2,  2249.0,2,-999.000,9, -999.00,9,  -999.0,9,  -999.0,  25.6156
35MF62JADE_1,       IR06,       4,          2,          3,2,19890809,       0000,      -17.1,     117.34,       4158,    48.3,  25.1890,  34.7120,2,  34.7130,2,   209.0,2,    6.30,2,    0.10,2,    0.14,2,-999.000,9,  1944.0,2,  2288.0,2,-999.000,9, -999.00,9,  -999.0,9,  -999.0,  25.1785
35MF62JADE_1,       IR06,       4,          2,          4,2,19890809,       0000,      -17.1,     117.34,       4158,    67.9,  25.0150,  34.7450,2,  34.7450,2,   203.8,2,    6.60,2,    0.10,2,    0.18,2,-999.000,9,  1952.0,2,  2288.0,2,-999.000,9, -999.00,9,  -999.0,9,  -999.0,  25.0003
35MF62JADE_1,       IR06,       4,          2,          5,2,19890809,       0000,      -17.1,     117.34,       4158,    98.8,  24.8020,  34.8020,2,  34.8010,2,   200.1,2,    6.20,2,    0.50,2,    0.22,2,-999.000,9,  -999.0,9,  -999.0,9,-999.000,9, -999.00,9,  -999.0,9,  -999.0,  24.7807
35MF62JADE_1,       IR06,       4,          2,          6,2,19890809,       0000,      -17.1,     117.34,       4158,   113.2,  24.6250,  34.9010,2,  34.8520,2,   161.9,2,   10.20,2,    4.30,2,    0.52,2,-999.000,9,  2008.0,2,  2278.0,2,-999.000,9, -999.00,9,  -999.0,9,  -999.0,  24.6007
35MF62JADE_1,       IR06,       4,          2,          7,2,19890809,       0000,      -17.1,     117.34,       4158,   149.1,  21.6180,  34.8450,2,  34.8610,2,   130.0,2,   15.00,2,   10.50,2,    0.86,2,-999.000,9,  2058.0,2,  2296.0,2,-999.000,9, -999.00,9,  -999.0,9,  -999.0,  21.5889
35MF62JADE_1,       IR06,       4,          2,          8,2,19890809,       0000,      -17.1,     117.34,       4158,   199.2,  18.4050,  35.1520,2,  35.1410,2,   138.7,2,   16.60,2,   13.40,2,    1.00,2,-999.000,9,  2096.0,2,  2318.0,2,-999.000,9, -999.00,9,  -999.0,9,  -999.0,  18.3702
35MF62JADE_1,       IR06,       4,          2,          9,2,19890809,       0000,      -17.1,     117.34,       4158,   300.5,  12.9330,  34.8810,2,  34.8800,2,   127.7,2,   29.50,2,   22.00,2,    1.50,2,-999.000,9,  2167.0,2,  2319.0,2,-999.000,9, -999.00,9,  -999.0,9,  -999.0,  12.8917
35MF62JADE_1,       IR06,       4,          2,         10,2,19890809,       0000,      -17.1,     117.34,       4158,   401.3,  10.3870,  34.7990,2,  34.8050,2,   167.8,2,   24.20,2,   22.70,2,    1.47,2,-999.000,9,  2162.0,2,  2319.0,2,-999.000,9, -999.00,9,  -999.0,9,  -999.0,  10.3389
35MF62JADE_1,       IR06,       4,          2,         11,2,19890809,       0000,      -17.1,     117.34,       4158,   503.9,   8.2440,  34.6480,2,  34.6460,2,   140.1,2,   40.10,2,   29.50,2,    1.98,2,-999.000,9,  2209.0,2,  2328.0,2,-999.000,9, -999.00,9,  -999.0,9,  -999.0,   8.1913
35MF62JADE_1,       IR06,       4,          2,         12,2,19890809,       0000,      -17.1,     117.34,       4158,   606.9,   7.2770,  34.6190,2,  34.6200,2,   112.1,2,   58.80,2,   36.00,2,    2.31,2,-999.000,9,  2246.0,2,  2342.0,2,-999.000,9, -999.00,9,  -999.0,9,  -999.0,   7.2176
35MF62JADE_1,       IR06,       4,          1,         13,2,19890809,       0000,      -17.1,     117.34,       4158,   706.5,   6.4010,  34.6170,2,  34.6170,2,    96.3,2,   71.70,2, -999.00,9,    2.42,2,-999.000,9,  2270.0,2,  2358.0,2,-999.000,9, -999.00,9,  -999.0,9,  -999.0,   6.3360
35MF62JADE_1,       IR06,       4,          1,         14,2,19890809,       0000,      -17.1,     117.34,       4158,   806.3,   5.8520,  34.6180,2,  34.6180,2,    92.4,2,   80.10,2, -999.00,9,    2.55,2,-999.000,9,  2284.0,2,  2365.0,2,-999.000,9, -999.00,9,  -999.0,9,  -999.0,   5.7806
35MF62JADE_1,       IR06,       4,          1,         15,2,19890809,       0000,      -17.1,     117.34,       4158,   908.6,   5.3410,  34.6160,2,  34.6170,2,    93.4,2,   87.90,2, -999.00,9,    2.62,2,-999.000,9,  2289.0,2,  2380.0,2,-999.000,9, -999.00,9,  -999.0,9,  -999.0,   5.2634
35MF62JADE_1,       IR06,       4,          1,         16,2,19890809,       0000,      -17.1,     117.34,       4158,  1009.7,   4.8820,  34.6150,2,  34.6170,2,    97.7,2,   93.10,2, -999.00,9,    2.53,2,-999.000,9,  2307.0,2,  2378.0,2,-999.000,9, -999.00,9,  -999.0,9,  -999.0,   4.7985
35MF62JADE_1,       IR06,       4,          1,         17,2,19890809,       0000,      -17.1,     117.34,       4158,  1109.8,   4.5920,  34.6210,2,  34.6220,2,   100.1,2,   98.00,2, -999.00,9,    2.65,2,-999.000,9,  2310.0,2,  2385.0,2,-999.000,9, -999.00,9,  -999.0,9,  -999.0,   4.5019
35MF62JADE_1,       IR06,       4,          1,         18,2,19890809,       0000,      -17.1,     117.34,       4158,  1196.4,   4.3250,  34.6280,2,  34.6290,2,   101.8,2,  100.10,2, -999.00,9,    2.63,2,-999.000,9,  2311.0,2,  2386.0,2,-999.000,9, -999.00,9,  -999.0,9,  -999.0,   4.2295
35MF62JADE_1,       IR06,       4,          1,         19,2,19890809,       0000,      -17.1,     117.34,       4158,  1310.2,   3.9390,  34.6430,2,  34.6430,2,   108.9,2,  102.90,2, -999.00,9,    2.62,2,-999.000,9,  2308.0,2,  2396.0,2,-999.000,9, -999.00,9,  -999.0,9,  -999.0,   3.8371
35MF62JADE_1,       IR06,       4,          1,         20,2,19890809,       0000,      -17.1,     117.34,       4158,  1515.0,   3.2910,  34.6750,2,  34.6770,2,   121.7,2,  107.10,2, -999.00,9,    2.58,2,-999.000,9,  2309.0,2,  2400.0,2,-999.000,9, -999.00,9,  -999.0,9,  -999.0,   3.1783
35MF62JADE_1,       IR06,       4,          1,         21,2,19890809,       0000,      -17.1,     117.34,       4158,  1618.0,   3.0200,  34.6900,2,  34.6910,2,   129.0,2,  110.20,2, -999.00,9,    2.59,2,-999.000,9,  2319.0,2,  2399.0,2,-999.000,9, -999.00,9,  -999.0,9,  -999.0,   2.9016
35MF62JADE_1,       IR06,       4,          1,         22,2,19890809,       0000,      -17.1,     117.34,       4158,  1819.2,   2.5810,  34.7120,2,  34.7120,2,   138.2,2,  119.30,2, -999.00,9,    2.54,2,-999.000,9,  2321.0,2,  2406.0,2,-999.000,9, -999.00,9,  -999.0,9,  -999.0,   2.4511
35MF62JADE_1,       IR06,       4,          1,         23,2,19890809,       0000,      -17.1,     117.34,       4158,  2021.2,   2.2720,  34.7190,2,  34.7210,2,   146.7,2,  117.60,2, -999.00,9,    2.48,2,-999.000,9,  2319.0,2,  2409.0,2,-999.000,9, -999.00,9,  -999.0,9,  -999.0,   2.1293
35MF62JADE_1,       IR06,       4,          1,         24,2,19890809,       0000,      -17.1,     117.34,       4158,  2221.2,   2.1080,  34.7220,2,  34.7220,2,   151.5,2,  114.40,2, -999.00,9,    2.47,2,-999.000,9,  2315.0,2,  2412.0,2,-999.000,9, -999.00,9,  -999.0,9,  -999.0,   1.9505
35MF62JADE_1,       IR06,       5,          3,          1,2,19890810,       0000,     -16.35,     117.23,       5510,     2.5,  25.9350,  34.3780,2,  34.3780,2,   207.1,2,    5.10,2,    0.10,2,    0.44,2,-999.000,9,  1915.0,2,  2273.0,2,-999.000,9, -999.00,9,    97.0,2,     3.0,  25.9344
35MF62JADE_1,       IR06,       5,          3,          2,2,19890810,       0000,     -16.35,     117.23,       5510,    29.7,  25.9420,  34.3770,2,  34.3780,2,   208.1,2,    5.70,2,    0.10,2,    0.20,2,-999.000,9,  1923.0,2,  2260.0,2,   1.690,2,   -0.40,2,   102.0,2,     3.0,  25.9354
35MF62JADE_1,       IR06,       5,          3,          3,2,19890810,       0000,     -16.35,     117.23,       5510,    48.0,  25.9470,  34.4320,2,  34.3950,2,   205.9,2,    6.40,2,    0.10,2,    0.13,2,-999.000,9,  1924.0,2,  2271.0,2,   1.510,2,   -0.62,2,    93.0,2,     3.0,  25.9363
35MF62JADE_1,       IR06,       5,          3,          4,2,19890810,       0000,     -16.35,     117.23,       5510,    67.7,  25.4720,  34.6750,2,  34.6760,2,   208.4,2,    6.80,2,    0.10,2,    0.35,2,-999.000,9,  1939.0,2,  2287.0,2,   1.950,2, -999.00,9,    79.0,2,     3.0,  25.4571
35MF62JADE_1,       IR06,       5,          3,          5,2,19890810,       0000,     -16.35,     117.23,       5510,    98.8,  24.9080,  34.7680,2,  34.7690,2,   196.4,2,    7.90,2,    1.80,2,    0.38,2,-999.000,9,  1959.0,2,  2290.0,2,   1.780,2,   -1.33,2,    86.0,2,     3.0,  24.8867
35MF62JADE_1,       IR06,       5,          3,          6,2,19890810,       0000,     -16.35,     117.23,       5510,   123.0,  24.5090,  34.7920,2,  34.8010,2,   177.3,2,    9.00,2,    3.70,2,    0.42,2,-999.000,9,  1984.0,2,  2288.0,2,-999.000,9, -999.00,9,  -999.0,9,  -999.0,  24.4827
35MF62JADE_1,       IR06,       5,          3,          7,2,19890810,       0000,     -16.35,     117.23,       5510,   150.9,  22.1910,  34.8850,2,  34.7900,2,   128.0,2,   16.10,2,   11.00,2,    0.89,2,-999.000,9,  2050.0,2,  2292.0,2,   1.880,2, -999.00,9,    56.0,2,     3.0,  22.1610
35MF62JADE_1,       IR06,       5,          3,          8,2,19890810,       0000,     -16.35,     117.23,       5510,   200.5,  18.2400,  34.9560,2,  34.9500,2,   124.0,2,   19.40,2,   14.30,2,    1.12,2,-999.000,9,  2098.0,2,  2308.0,2,   1.800,2,    5.35,2,    65.0,2,     3.0,  18.2053
35MF62JADE_1,       IR06,       5,          3,          9,2,19890810,       0000,     -16.35,     117.23,       5510,   300.8,  12.6570,  34.8640,2,  34.8640,2,   126.7,2,   29.60,2,   21.00,2,    1.56,2,-999.000,9,  2164.0,2,  2321.0,2,   1.240,2, -999.00,9,     3.0,2,     3.0,  12.6162
35MF62JADE_1,       IR06,       5,          3,         10,2,19890810,       0000,     -16.35,     117.23,       5510,   453.0,   9.3240,  34.7120,2,  34.7140,2,   160.5,2,   28.90,2,   23.40,2,    1.68,2,-999.000,9,  2182.0,2,  2318.0,2,   0.580,2,    9.68,2,   -20.0,2,     3.0,   9.2732
35MF62JADE_1,       IR06,       5,          3,         11,2,19890810,       0000,     -16.35,     117.23,       5510,   503.3,   8.4430,  34.6550,2,  34.6660,2,   151.0,2,   34.10,2,   26.00,2,    1.83,2,-999.000,9,  2197.0,2,  2319.0,2,   0.420,2, -999.00,9,   -58.0,2,     3.0,   8.3896
35MF62JADE_1,       IR06,       5,          3,         12,2,19890810,       0000,     -16.35,     117.23,       5510,   604.9,   7.3220,  34.6250,2,  34.6260,2,   116.3,2,   53.10,2,   31.70,2,    2.31,2,-999.000,9,  2241.0,2,  2335.0,2,   0.270,2,    7.73,3,  -114.0,2,     3.0,   7.2626