BOTTLE,20221003CCHSIOAMB
EXPOCODE,SECT_ID,STNNBR,CASTNO,BTLNBR,BTLNBR_FLAG_W,DATE,TIME,LATITUDE,LONGITUDE,DEPTH,CTDPRS,CTDTMP,CTDSAL,CTDSAL_FLAG_W,SALNTY,SALNTY_FLAG_W,OXYGEN,OXYGEN_FLAG_W,SILCAT,SILCAT_FLAG_W,NITRAT,NITRAT_FLAG_W,PHSPHT,PHSPHT_FLAG_W,CFC-11,CFC-11_FLAG_W,TCARBN,TCARBN_FLAG_W,ALKALI,ALKALI_FLAG_W,TRITUM,TRITUM_FLAG_W,DELHE3,DELHE3_FLAG_W,DELC14,DELC14_FLAG_W,C14ERR,THETA
,,,,,,,,,,METERS,DBAR,ITS-90,PSS-78,,PSS-78,,UMOL/KG,,UMOL/KG,,UMOL/KG,,UMOL/KG,,PMOL/KG,,UMOL/KG,,UMOL/KG,,TU,,PERCNT,,/MILLE,,/MILLE,DEG C
35MF62JADE_1,       IR06,      34,          1,          1,2,19890824,       0000,     -11.18,     122.48,       1808,     2.7,  26.7310,  34.0310,2,  34.0310,2,   205.6,2,    5.90,2,    0.10,2,    0.11,2,   1.480,2,  1912.0,2,  2241.0,2,   1.572,2,    0.33,2,  -999.0,9,  -999.0,  26.7304
35MF62JADE_1,       IR06,      34,          1,          2,2,19890824,       0000,     -11.18,     122.48,       1808,    30.2,  26.7420,  34.0290,2,  34.0290,2,   204.8,2,    9.10,2,    0.10,2,    0.10,2,   1.330,2,  1912.0,2,  2241.0,2,   1.581,2,   -0.04,2,  -999.0,9,  -999.0,  26.7351
35MF62JADE_1,       IR06,      34,          1,          3,2,19890824,       0000,     -11.18,     122.48,       1808,    48.7,  26.7360,  34.0310,2,  34.0260,2,   204.3,2,    9.90,2,    0.10,2,    0.10,2,   1.330,2,  1909.0,2,  2244.0,2,   1.603,2,    1.35,2,  -999.0,9,  -999.0,  26.7249
35MF62JADE_1,       IR06,      34,          1,          4,2,19890824,       0000,     -11.18,     122.48,       1808,   100.8,  26.2960,  34.3890,2,  34.3860,2,   170.1,2,   13.20,2,    4.10,2,    0.41,2,   1.260,2,  1963.0,2,  2262.0,2,   1.540,2,    0.98,2,  -999.0,9,  -999.0,  26.2734
35MF62JADE_1,       IR06,      34,          1,          5,2,19890824,       0000,     -11.18,     122.48,       1808,   201.7,  14.9840,  34.5390,2,  34.5420,2,   111.6,2,   32.80,2,   21.50,2,    1.50,2,   0.670,2,  2142.0,2,  2305.0,2,   1.218,2,   10.08,2,  -999.0,9,  -999.0,  14.9536
35MF62JADE_1,       IR06,      34,          1,          6,2,19890824,       0000,     -11.18,     122.48,       1808,   400.9,   8.4700,  34.5640,2,  34.5620,2,    96.1,2,   58.60,2,   31.70,2,    2.24,2,   0.170,2,  2246.0,2,  2337.0,2,   0.529,2,   13.80,2,  -999.0,9,  -999.0,   8.4278
35MF62JADE_1,       IR06,      34,          1,          7,2,19890824,       0000,     -11.18,     122.48,       1808,   604.9,   6.8570,  34.5740,2,-999.0000,9,  -999.0,9,   58.70,3,   28.20,4, -999.00,9,-999.000,9,  -999.0,9,  -999.0,9,-999.000,9, -999.00,9,  -999.0,9,  -999.0,-999.0000
35MF62JADE_1,       IR06,      34,          1,          8,2,19890824,       0000,     -11.18,     122.48,       1808,   803.5,   5.9310,  34.5810,2,  34.5770,2,    97.9,2,   82.60,2,   35.00,2,    2.48,2,   0.000,2,  -999.0,9,  -999.0,9,   0.207,2,   15.67,2,  -999.0,9,  -999.0,   5.8594
35MF62JADE_1,       IR06,      34,          1,          9,2,19890824,       0000,     -11.18,     122.48,       1808,  1005.3,   4.8090,  34.5960,2,  34.5960,2,   101.8,2,   97.30,2,   36.00,2,    2.58,2,   0.020,2,  2314.0,2,  2389.0,2,   0.127,2,   17.70,2,  -999.0,9,  -999.0,   4.7265
35MF62JADE_1,       IR06,      34,          1,         10,2,19890824,       0000,     -11.18,     122.48,       1808,  1208.3,   4.3760,  34.6070,2,  34.6050,2,   103.4,2,  103.80,2,   36.60,2,    2.63,2,   0.000,2,  2317.0,2,  2398.0,2,   0.229,2,   19.25,2,  -999.0,9,  -999.0,   4.2790
35MF62JADE_1,       IR06,      34,          1,         11,2,19890824,       0000,     -11.18,     122.48,       1808,  1517.2,   3.4660,  34.6630,2,  34.6620,2,   118.3,2,  111.60,2,   36.30,2,    2.58,2,   0.000,2,  2325.0,2,  2404.0,2,   0.049,2,   16.51,2,  -999.0,9,  -999.0,   3.3511
35MF62JADE_1,       IR06,      34,          1,         12,2,19890824,       0000,     -11.18,     122.48,       1808,  1798.1,   2.6200,  34.7150,2,  34.7140,2,   138.1,2,  117.10,2,   35.70,2,    2.50,2,   0.020,2,  2329.0,2,  2412.0,2,-999.000,9,   15.98,2,  -999.0,9,  -999.0,   2.4914
35MF62JADE_1,       IR06,      35,          1,          1,2,19890823,       0000,     -11.25,     122.56,        614,     1.6,  26.5870,  34.0850,2,  34.0840,2,   206.7,2,    3.80,2,    0.10,2,    0.12,2,   1.370,2,  1913.0,2,  2252.0,2,-999.000,9, -999.00,9,  -999.0,9,  -999.0,  26.5866
35MF62JADE_1,       IR06,      35,          1,          2,2,19890823,       0000,     -11.25,     122.56,        614,    30.8,  26.5970,  34.0850,2,  34.0810,2,   205.9,2,    3.80,2,    0.10,2,    0.12,2,   1.370,2,  1914.0,2,  2246.0,2,-999.000,9, -999.00,9,  -999.0,9,  -999.0,  26.5900
35MF62JADE_1,       IR06,      35,          1,          3,2,19890823,       0000,     -11.25,     122.56,        614,    51.0,  26.6010,  34.0850,2,  34.0810,2,   204.6,2,    5.10,2,    0.10,2,    0.11,2,   1.350,2,  1913.0,2,  2246.0,2,-999.000,9, -999.00,9,  -999.0,9,  -999.0,  26.5895
35MF62JADE_1,       IR06,      35,          1,          4,2,19890823,       0000,     -11.25,     122.56,        614,    69.8,  26.6070,  34.0840,2,  34.0920,2,   205.2,2,    4.20,2,    0.10,2,    0.12,2,   1.350,2,  1913.0,2,  2244.0,2,-999.000,9, -999.00,9,  -999.0,9,  -999.0,  26.5912
35MF62JADE_1,       IR06,      35,          1,          5,2,19890823,       0000,     -11.25,     122.56,        614,   100.9,  25.2540,  34.4850,2,  34.4750,2,   164.0,2,    8.60,2,    5.10,2,    0.52,2,   1.170,2,  1987.0,2,  2274.0,2,-999.000,9, -999.00,9,  -999.0,9,  -999.0,  25.2320
35MF62JADE_1,       IR06,      35,          1,          6,2,19890823,       0000,     -11.25,     122.56,        614,   126.2,  21.0280,  34.4330,2,  34.4900,2,   126.8,2,   16.60,2,   13.00,2,    0.99,2,-999.000,9,  2068.0,2,  2281.0,2,-999.000,9, -999.00,9,  -999.0,9,  -999.0,  21.0039
35MF62JADE_1,       IR06,      35,          1,          7,2,19890823,       0000,     -11.25,     122.56,        614,   147.9,  19.1040,  34.5200,2,  34.5170,2,   119.8,2,   20.00,2,   15.60,2,    1.14,2,   0.820,2,  2096.0,2,  2292.0,2,-999.000,9, -999.00,9,  -999.0,9,  -999.0,  19.0776
35MF62JADE_1,       IR06,      35,          1,          8,2,19890823,       0000,     -11.25,     122.56,        614,   201.2,  14.4880,  34.5540,2,  34.5510,2,   111.3,2,   30.60,2,   22.20,2,    1.56,2,   0.580,2,  2152.0,2,  2305.0,2,-999.000,9, -999.00,9,  -999.0,9,  -999.0,  14.4583
35MF62JADE_1,       IR06,      35,          1,          9,2,19890823,       0000,     -11.25,     122.56,        614,   301.2,  10.6970,  34.5530,2,  34.5510,2,   105.0,2,   43.20,2,   27.80,2,    1.97,2,   0.310,2,  2210.0,2,  2323.0,2,-999.000,9, -999.00,9,  -999.0,9,  -999.0,  10.6605
35MF62JADE_1,       IR06,      35,          1,         10,2,19890823,       0000,     -11.25,     122.56,        614,   401.2,   8.7410,  34.5590,2,  34.5610,2,    98.7,2,   53.60,2,   31.30,2,    2.18,2,   0.080,2,  2237.0,2,  2334.0,2,-999.000,9, -999.00,9,  -999.0,9,  -999.0,   8.6979
35MF62JADE_1,       IR06,      35,          1,         11,2,19890823,       0000,     -11.25,     122.56,        614,   503.2,   7.8710,  34.5600,2,  34.5650,2,    99.2,2,   59.70,2,   33.40,2,    2.32,2,   0.000,2,  2256.0,2,  2342.0,2,-999.000,9, -999.00,9,  -999.0,9,  -999.0,   7.8199
35MF62JADE_1,       IR06,      35,          1,         12,2,19890823,       0000,     -11.25,     122.56,        614,   604.4,   6.7490,  34.5740,2,  34.5730,2,    99.7,2,   69.80,2,   35.10,2,    2.42,2,   0.080,2,  2277.0,2,  2357.0,2,-999.000,9, -999.00,9,  -999.0,9,  -999.0,   6.6922
35MF62JADE_1,       IR06,      36,          1,          1,2,19890824,       0000,      -11.3,     123.05,        791,     1.4,  26.4320,  34.0600,2,  34.0630,2,   207.9,2,    4.10,2,    0.10,2,    0.23,2,   1.490,2,  1914.0,2,  2247.0,2,   1.567,2,    2.88,2,  -999.0,9,  -999.0,  26.4317
35MF62JADE_1,       IR06,      36,          1,          2,2,19890824,       0000,      -11.3,     123.05,        791,    30.1,  26.4460,  34.0620,2,  34.0640,2,   206.8,2,    6.20,2,    0.10,2,    0.13,2,   1.420,2,  1917.0,2,  2245.0,2,   1.607,2,    8.54,3,  -999.0,9,  -999.0,  26.4392
35MF62JADE_1,       IR06,      36,          1,          3,2,19890824,       0000,      -11.3,     123.05,        791,    50.2,  26.4620,  34.0790,2,  34.0770,2,   206.5,2,    6.60,2,    0.10,2,    0.15,2,   1.440,2,  1914.0,2,  2244.0,2,   1.599,2,   11.80,3,  -999.0,9,  -999.0,  26.4507
35MF62JADE_1,       IR06,      36,          1,          4,2,19890824,       0000,      -11.3,     123.05,        791,   100.5,  25.4210,  34.4570,2,  34.4430,2,   169.1,2,   13.10,2,    4.00,2,    0.51,2,   1.340,2,  1982.0,2,  2270.0,2,   1.517,2,    0.25,2,  -999.0,9,  -999.0,  25.3990
35MF62JADE_1,       IR06,      36,          1,          5,2,19890824,       0000,      -11.3,     123.05,        791,   149.4,  18.5020,  34.5330,2,  34.5250,2,   116.7,2,   24.80,2,   16.50,2,    1.27,2,   0.950,2,  2102.0,2,  2298.0,2,   1.362,2,    6.85,2,  -999.0,9,  -999.0,  18.4759
35MF62JADE_1,       IR06,      36,          1,          6,2,19890824,       0000,      -11.3,     123.05,        791,   201.1,  13.8420,  34.5500,2,  34.5470,2,   108.5,2,   35.30,2,   20.10,2,    1.66,2,   0.670,2,  2164.0,2,  2309.0,2,   1.109,2,   12.10,2,  -999.0,9,  -999.0,  13.8133
35MF62JADE_1,       IR06,      36,          1,          7,2,19890824,       0000,      -11.3,     123.05,        791,   300.4,  10.2490,  34.5520,2,  34.5560,2,   100.2,2,   47.70,2,   25.10,2,    2.07,2,   0.630,2,  2216.0,2,  2325.0,2,   0.760,2,   12.37,2,  -999.0,9,  -999.0,  10.2136
35MF62JADE_1,       IR06,      36,          1,          8,2,19890824,       0000,      -11.3,     123.05,        791,   402.5,   8.8450,  34.5570,2,  34.5600,2,    97.1,2,   54.40,2,   30.90,2,    2.23,2,-999.000,9,  2238.0,2,  2334.0,2,   0.621,2,   13.79,2,  -999.0,9,  -999.0,   8.8015
35MF62JADE_1,       IR06,      36,          1,          9,2,19890824,       0000,      -11.3,     123.05,        791,   502.7,   7.6090,  34.5670,2,  34.5680,2,    96.2,2,   64.80,2,   33.50,2,    2.41,2,   0.170,2,  2263.0,2,  2348.0,2,   0.402,2, -999.00,9,  -999.0,9,  -999.0,   7.5589
35MF62JADE_1,       IR06,      36,          1,         10,2,19890824,       0000,      -11.3,     123.05,        791,   604.2,   6.7370,  34.5720,2,  34.5730,2,    96.0,2,   73.20,2,   35.60,2,    2.51,2,-999.000,9,  2276.0,2,  2358.0,2,   0.321,2,   14.45,2,  -999.0,9,  -999.0,   6.6803
35MF62JADE_1,       IR06,      36,          1,         11,2,19890824,       0000,      -11.3,     123.05,        791,   705.0,   6.0800,  34.5790,2,  34.5820,2,    97.7,2,   80.30,2,   34.80,2,    2.61,2,   0.000,2,  2287.0,2,  2366.0,2,   0.226,2,   14.83,2,  -999.0,9,  -999.0,   6.0169
35MF62JADE_1,       IR06,      36,          1,         12,2,19890824,       0000,      -11.3,     123.05,        791,   781.3,   5.8020,  34.5840,2,  34.5830,2,    97.9,2,   84.20,2,   35.40,2,    2.61,2,-999.000,9,  2292.0,2,  2371.0,2,   0.218,2,   15.47,2,  -999.0,9,  -999.0,   5.7333
35MF62JADE_1,       IR06,      37,          1,          1,2,19890824,       0000,     -11.37,     123.13,        681,     4.2,  26.2610,  34.2680,2,  34.2710,2,   203.4,2,    7.00,2,    0.10,2,    0.24,2,   1.510,2,  1925.0,2,  2249.0,2,-999.000,9, -999.00,9,  -999.0,9,  -999.0,  26.2601
35MF62JADE_1,       IR06,      37,          1,          2,2,19890824,       0000,     -11.37,     123.13,        681,    30.4,  26.2670,  34.2700,2,  34.2700,2,   202.4,2,   10.40,2,    0.10,2,    0.19,2,   1.370,2,  1925.0,2,  2251.0,2,-999.000,9, -999.00,9,  -999.0,9,  -999.0,  26.2602
35MF62JADE_1,       IR06,      37,          1,          3,2,19890824,       0000,     -11.37,     123.13,        681,    49.5,  26.2720,  34.2710,2,  34.2730,2,   200.5,2,   11.50,2,    0.10,2,    0.20,2,   1.370,2,  1926.0,2,  2252.0,2,-999.000,9, -999.00,9,  -999.0,9,  -999.0,  26.2609
35MF62JADE_1,       IR06,      37,          1,          4,2,19890824,       0000,     -11.37,     123.13,        681,    68.9,  26.2570,  34.2680,2,  34.2690,2,   200.0,2,   11.20,2,    0.10,2,    0.20,2,   1.340,2,  1925.0,2,  2250.0,2,-999.000,9, -999.00,9,  -999.0,9,  -999.0,  26.2416
35MF62JADE_1,       IR06,      37,          1,          5,2,19890824,       0000,     -11.37,     123.13,        681,   100.6,  25.9690,  34.3060,2,  34.3060,2,   186.2,2,   12.00,2,    2.10,2,    0.33,2,   1.260,2,  1938.0,2,  2252.0,2,-999.000,9, -999.00,9,  -999.0,9,  -999.0,  25.9466
35MF62JADE_1,       IR06,      37,          1,          6,2,19890824,       0000,     -11.37,     123.13,        681,   125.5,  20.6280,  34.4930,2,  34.4880,2,   124.1,2,   22.40,2,   14.20,2,    1.04,2,   0.950,2,  2064.0,2,  2280.0,2,-999.000,9, -999.00,9,  -999.0,9,  -999.0,  20.6044
35MF62JADE_1,       IR06,      37,          1,          7,2,19890824,       0000,     -11.37,     123.13,        681,   159.4,  18.0160,  34.5280,2,  34.5310,2,   115.3,2,   26.80,2,   17.80,2,    1.30,2,   0.830,2,  2104.0,2,  2290.0,2,-999.000,9, -999.00,9,  -999.0,9,  -999.0,  17.9887
35MF62JADE_1,       IR06,      37,          1,          8,2,19890824,       0000,     -11.37,     123.13,        681,   201.7,  14.5340,  34.5530,2,  34.5570,2,   109.6,2,   34.00,2,   22.30,2,    1.57,2,   0.630,2,  2145.0,2,  2301.0,2,-999.000,9, -999.00,9,  -999.0,9,  -999.0,  14.5042
35MF62JADE_1,       IR06,      37,          1,          9,2,19890824,       0000,     -11.37,     123.13,        681,   301.3,  10.6670,  34.5450,2,  34.5500,2,   102.2,2,   46.70,2,   29.80,2,    1.99,2,   0.340,2,  2201.0,2,  2314.0,2,-999.000,9, -999.00,9,  -999.0,9,  -999.0,  10.6306
35MF62JADE_1,       IR06,      37,          1,         10,2,19890824,       0000,     -11.37,     123.13,        681,   402.1,   8.8480,  34.5630,2,  34.5610,2,    96.5,2,   56.30,2,   32.50,2,    2.23,2,   0.130,2,  2230.0,2,  2326.0,2,-999.000,9, -999.00,9,  -999.0,9,  -999.0,   8.8045
35MF62JADE_1,       IR06,      37,          1,         11,2,19890824,       0000,     -11.37,     123.13,        681,   503.2,   7.7500,  34.5650,2,  34.5680,2,    97.6,2,   65.20,2,   32.50,2,    2.39,2,   0.000,2,  2252.0,2,  2339.0,2,-999.000,9, -999.00,9,  -999.0,9,  -999.0,   7.6993
35MF62JADE_1,       IR06,      37,          1,         12,2,19890824,       0000,     -11.37,     123.13,        681,   603.7,   6.8100,  34.5730,2,  34.5770,2,    96.0,2,   75.20,2,   35.80,2,    2.47,2,-999.000,9,  2271.0,2,  2353.0,2,-999.000,9, -999.00,9,  -999.0,9,  -999.0,   6.7530
35MF62JADE_1,       IR06,      38,          1,          1,2,19890824,       0000,     -11.28,     123.03,        916,     4.6,  26.5560,  34.0960,2,  34.1000,2,   205.0,2,    6.10,2,    0.10,2,    0.16,2,   1.420,2,  1912.0,2,  2241.0,2,-999.000,9, -999.00,9,  -999.0,9,  -999.0,  26.5550
35MF62JADE_1,       IR06,      38,          1,          2,2,19890824,       0000,     -11.28,     123.03,        916,    99.9,  24.7690,  34.4600,2,  34.4640,2,   156.1,2,   16.30,2,    5.80,2,    0.63,2,   1.210,2,  1997.0,2,  2270.0,2,-999.000,9, -999.00,9,  -999.0,9,  -999.0,  24.7475
35MF62JADE_1,       IR06,      38,          1,          3,2,19890824,       0000,     -11.28,     123.03,        916,   149.6,  18.3500,  34.5290,2,  34.5270,2,   115.0,2,   28.40,2,   17.10,2,    1.29,2,   0.880,2,  2094.0,2,  2288.0,2,-999.000,9, -999.00,9,  -999.0,9,  -999.0,  18.3241
35MF62JADE_1,       IR06,      38,          1,          4,2,19890824,       0000,     -11.28,     123.03,        916,   202.0,  13.9730,  34.5560,2,  34.5560,2,   108.8,2,   37.40,2,   22.60,2,    1.64,2,   0.670,2,  2150.0,2,  2302.0,2,-999.000,9, -999.00,9,  -999.0,9,  -999.0,  13.9440
35MF62JADE_1,       IR06,      38,          1,          5,2,19890824,       0000,     -11.28,     123.03,        916,   251.1,  12.4590,  34.5540,2,  34.5550,2,   106.6,2,   41.20,2,   24.60,2,    1.79,2,   0.540,2,  2175.0,2,  2305.0,2,-999.000,9, -999.00,9,  -999.0,9,  -999.0,  12.4255
35MF62JADE_1,       IR06,      38,          1,          6,2,19890824,       0000,     -11.28,     123.03,        916,   302.3,  10.7230,  34.5540,2,  34.5550,2,   100.4,2, -999.00,9,   28.10,2,    2.03,2,   0.390,2,  2199.0,2,  2316.0,2,-999.000,9, -999.00,9,  -999.0,9,  -999.0,  10.6863
35MF62JADE_1,       IR06,      38,          1,          7,2,19890824,       0000,     -11.28,     123.03,        916,   505.4,   7.7050,  34.5680,2,  34.5760,2,    96.7,2,   67.70,2,   33.70,2,    2.36,2,   0.190,2,  2250.0,2,  2338.0,2,-999.000,9, -999.00,9,  -999.0,9,  -999.0,   7.6543
35MF62JADE_1,       IR06,      38,          1,          8,2,19890824,       0000,     -11.28,     123.03,        916,   550.9,   7.1700,  34.5700,2,  34.5710,2,    96.5,2,   72.70,2,   34.60,2,    2.42,2,   0.050,2,  2260.0,2,  2343.0,2,-999.000,9, -999.00,9,  -999.0,9,  -999.0,   7.1167
35MF62JADE_1,       IR06,      38,          1,          9,2,19890824,       0000,     -11.28,     123.03,        916,   605.1,   6.8230,  34.5740,2,  34.5770,2,    96.5,2,   76.30,2,   35.00,2,    2.47,2,   0.030,2,  2270.0,2,  2350.0,2,-999.000,9, -999.00,9,  -999.0,9,  -999.0,   6.7658
35MF62JADE_1,       IR06,      38,          1,         10,2,19890824,       0000,     -11.28,     123.03,        916,   655.2,   6.4980,  34.5770,2,  34.5750,2,    96.9,2,   79.70,2,   35.30,2,    2.55,2,-999.000,9,  2271.0,2,  2354.0,2,-999.000,9, -999.00,9,  -999.0,9,  -999.0,   6.4375
35MF62JADE_1,       IR06,      38,          1,         11,2,19890824,       0000,     -11.28,     123.03,        916,   686.0,   6.3750,  34.5770,2,  34.5760,2,    97.4,2,   80.70,2,   35.90,2,    2.53,2,   0.000,2,  2275.0,2,  2356.0,2,-999.000,9, -999.00,9,  -999.0,9,  -999.0,   6.3121
35MF62JADE_1,       IR06,      38,          1,         12,2,19890824,       0000,     -11.28,     123.03,        916,   905.5,   5.3160,  34.5870,2,  34.5910,2,   100.4,2,   94.60,2,   36.60,2,    2.59,2,   0.050,2,  2296.0,2,  2373.0,2,-999.000,9, -999.00,9,  -999.0,9,  -999.0,   5.2389