BOTTLE,20221003CCHSIOAMB
EXPOCODE,SECT_ID,STNNBR,CASTNO,BTLNBR,BTLNBR_FLAG_W,DATE,TIME,LATITUDE,LONGITUDE,DEPTH,CTDPRS,CTDTMP,CTDSAL,CTDSAL_FLAG_W,SALNTY,SALNTY_FLAG_W,OXYGEN,OXYGEN_FLAG_W,SILCAT,SILCAT_FLAG_W,NITRAT,NITRAT_FLAG_W,PHSPHT,PHSPHT_FLAG_W,CFC-11,CFC-11_FLAG_W,TCARBN,TCARBN_FLAG_W,ALKALI,ALKALI_FLAG_W,TRITUM,TRITUM_FLAG_W,DELHE3,DELHE3_FLAG_W,DELC14,DELC14_FLAG_W,C14ERR,THETA
,,,,,,,,,,METERS,DBAR,ITS-90,PSS-78,,PSS-78,,UMOL/KG,,UMOL/KG,,UMOL/KG,,UMOL/KG,,PMOL/KG,,UMOL/KG,,UMOL/KG,,TU,,PERCNT,,/MILLE,,/MILLE,DEG C
35MF62JADE_1,       IR06,      24,          1,          1,2,19890820,       0000,       -9.5,     118.44,       2230,     3.5,  26.4160,  33.9450,2,  33.9490,2,   207.8,2, -999.00,9, -999.00,9, -999.00,9,-999.000,9,  1917.0,2,  2243.0,2,-999.000,9, -999.00,9,  -999.0,9,  -999.0,  26.4152
35MF62JADE_1,       IR06,      24,          1,          2,2,19890820,       0000,       -9.5,     118.44,       2230,    28.7,  26.3840,  33.9510,2,  33.9610,2,   206.9,2, -999.00,9, -999.00,9, -999.00,9,   1.330,2,  1921.0,2,  2246.0,2,-999.000,9, -999.00,9,  -999.0,9,  -999.0,  26.3776
35MF62JADE_1,       IR06,      24,          1,          3,2,19890820,       0000,       -9.5,     118.44,       2230,    72.7,  24.2320,  34.2340,2,  34.0760,2,   149.6,2, -999.00,9, -999.00,9, -999.00,9,   1.210,2,  1998.0,2,  2251.0,2,-999.000,9, -999.00,9,  -999.0,9,  -999.0,  24.2167
35MF62JADE_1,       IR06,      24,          1,          4,2,19890820,       0000,       -9.5,     118.44,       2230,   100.4,  21.6620,  34.3960,2,  34.4130,2,   129.6,2, -999.00,9, -999.00,9, -999.00,9,-999.000,9,  2054.0,2,  2278.0,2,-999.000,9, -999.00,9,  -999.0,9,  -999.0,  21.6424
35MF62JADE_1,       IR06,      24,          1,          5,2,19890820,       0000,       -9.5,     118.44,       2230,   125.0,  18.9770,  34.4380,2,  34.4390,2,   133.6,2, -999.00,9, -999.00,9, -999.00,9,   1.000,2,  2080.0,2,  2288.0,2,-999.000,9, -999.00,9,  -999.0,9,  -999.0,  18.9548
35MF62JADE_1,       IR06,      24,          1,          6,2,19890820,       0000,       -9.5,     118.44,       2230,   147.9,  16.6550,  34.4900,2,  34.5100,2,   123.5,2, -999.00,9, -999.00,9, -999.00,9,   0.710,2,  -999.0,9,  -999.0,9,-999.000,9, -999.00,9,  -999.0,9,  -999.0,  16.6310
35MF62JADE_1,       IR06,      24,          1,          7,2,19890820,       0000,       -9.5,     118.44,       2230,   174.4,  15.1270,  34.5180,2,  34.5340,2,   119.3,2, -999.00,9, -999.00,9, -999.00,9,   0.710,2,  2140.0,2,  2304.0,2,-999.000,9, -999.00,9,  -999.0,9,  -999.0,  15.1006
35MF62JADE_1,       IR06,      24,          1,          8,2,19890820,       0000,       -9.5,     118.44,       2230,   198.5,  14.4910,  34.5400,2,  34.5420,2,   119.9,2, -999.00,9, -999.00,9, -999.00,9,   0.640,2,  2146.0,2,  2307.0,2,-999.000,9, -999.00,9,  -999.0,9,  -999.0,  14.4617
35MF62JADE_1,       IR06,      24,          1,          9,2,19890820,       0000,       -9.5,     118.44,       2230,   300.5,   9.7930,  34.5610,2,  34.5550,2,   101.8,2, -999.00,9, -999.00,9, -999.00,9,   0.260,2,  2249.0,2,  2340.0,2,-999.000,9, -999.00,9,  -999.0,9,  -999.0,   9.7586
35MF62JADE_1,       IR06,      24,          1,         10,2,19890820,       0000,       -9.5,     118.44,       2230,   400.6,   8.4750,  34.5840,2,  34.5790,2,    96.7,2, -999.00,9, -999.00,9, -999.00,9,   0.030,2,  2247.0,2,  2338.0,2,-999.000,9, -999.00,9,  -999.0,9,  -999.0,   8.4328
35MF62JADE_1,       IR06,      24,          1,         11,2,19890820,       0000,       -9.5,     118.44,       2230,   502.9,   7.6980,  34.6130,2,  34.6090,2,    91.8,2, -999.00,9, -999.00,9, -999.00,9,   0.000,2,  2266.0,2,  2349.0,2,-999.000,9, -999.00,9,  -999.0,9,  -999.0,   7.6475
35MF62JADE_1,       IR06,      24,          1,         12,2,19890820,       0000,       -9.5,     118.44,       2230,   605.2,   6.8160,  34.6240,2,  34.6200,2,    89.8,2, -999.00,9, -999.00,9, -999.00,9,-999.000,9,  2287.0,2,  2362.0,2,-999.000,9, -999.00,9,  -999.0,9,  -999.0,   6.7588
35MF62JADE_1,       IR06,      25,          1,          1,2,19890821,       0000,     -10.35,     120.08,       3180,     3.5,  25.3290,  33.9400,2,  33.9450,2,   207.6,2,    6.90,2,    1.80,2,    0.23,2,   1.920,2,  1935.0,2,  2249.0,2,-999.000,9, -999.00,9,  -999.0,9,  -999.0,  25.3282
35MF62JADE_1,       IR06,      25,          1,          2,2,19890821,       0000,     -10.35,     120.08,       3180,    29.2,  25.2790,  33.9430,2,  33.9470,2,   202.7,2,    6.20,2,    2.10,2,    0.24,2,   1.320,2,  1938.0,2,  2248.0,2,-999.000,9, -999.00,9,  -999.0,9,  -999.0,  25.2726
35MF62JADE_1,       IR06,      25,          1,          3,2,19890821,       0000,     -10.35,     120.08,       3180,    50.1,  24.0220,  33.9680,2,  33.9840,2,   155.2,2,   12.40,2,    8.40,2,    0.61,2,   1.220,2,  1991.0,2,  2248.0,2,-999.000,9, -999.00,9,  -999.0,9,  -999.0,  24.0115
35MF62JADE_1,       IR06,      25,          1,          4,2,19890821,       0000,     -10.35,     120.08,       3180,    68.9,  23.3370,  33.9820,2,  33.9950,2,   154.1,2,   13.40,2,    9.40,2,    0.68,2,   1.080,2,  2000.0,2,  2253.0,2,-999.000,9, -999.00,9,  -999.0,9,  -999.0,  23.3229
35MF62JADE_1,       IR06,      25,          1,          5,2,19890821,       0000,     -10.35,     120.08,       3180,    98.9,  21.5790,  34.1980,2,  34.1970,2,   145.4,2,   16.00,2,   11.70,2,    0.84,2,   1.070,2,  2035.0,2,  2268.0,2,-999.000,9, -999.00,9,  -999.0,9,  -999.0,  21.5598
35MF62JADE_1,       IR06,      25,          1,          6,2,19890821,       0000,     -10.35,     120.08,       3180,   127.1,  17.5480,  34.4840,2,  34.4820,2,   125.5,2,   23.00,2,   17.00,2,    1.21,2,   0.890,2,  2103.0,2,  2297.0,2,-999.000,9, -999.00,9,  -999.0,9,  -999.0,  17.5267
35MF62JADE_1,       IR06,      25,          1,          7,2,19890821,       0000,     -10.35,     120.08,       3180,   149.4,  16.4930,  34.4830,2,  34.5050,2,   123.3,2,   25.50,2,   18.40,2,    1.30,2,   0.830,2,  2120.0,2,  2303.0,2,-999.000,9, -999.00,9,  -999.0,9,  -999.0,  16.4690
35MF62JADE_1,       IR06,      25,          1,          8,2,19890821,       0000,     -10.35,     120.08,       3180,   203.4,  13.9420,  34.5470,2,  34.5450,2,   113.7,2,   33.20,2,   22.80,2,    1.60,2,   0.610,2,  2161.0,2,  2309.0,2,-999.000,9, -999.00,9,  -999.0,9,  -999.0,  13.9128
35MF62JADE_1,       IR06,      25,          1,          9,2,19890821,       0000,     -10.35,     120.08,       3180,   302.7,   9.9060,  34.5250,2,  34.5200,2,   105.0,2,   46.10,2,   29.00,2,    2.00,2,   0.440,2,  2216.0,2,  2324.0,2,-999.000,9, -999.00,9,  -999.0,9,  -999.0,   9.8711
35MF62JADE_1,       IR06,      25,          1,         10,2,19890821,       0000,     -10.35,     120.08,       3180,   403.9,   8.7510,  34.5860,2,  34.5850,2,    94.0,2,   54.50,2,   32.20,2,    2.25,2,   0.130,2,  2247.0,2,  2335.0,2,-999.000,9, -999.00,9,  -999.0,9,  -999.0,   8.7076
35MF62JADE_1,       IR06,      25,          1,         11,2,19890821,       0000,     -10.35,     120.08,       3180,   507.2,   7.5880,  34.5820,2,  34.5810,2,    94.4,2,   64.70,2,   33.90,2,    2.39,2,   0.000,2,  2264.0,2,  2350.0,2,-999.000,9, -999.00,9,  -999.0,9,  -999.0,   7.5375
35MF62JADE_1,       IR06,      25,          1,         12,2,19890821,       0000,     -10.35,     120.08,       3180,   607.3,   6.9580,  34.6010,2,  34.6030,2,    90.4,2,   72.20,2,   35.00,2,    2.49,2,-999.000,9,  2277.0,2,  2359.0,2,-999.000,9, -999.00,9,  -999.0,9,  -999.0,   6.9000
35MF62JADE_1,       IR06,      26,          1,          1,2,19890821,       0000,     -10.47,     120.35,       3180,     2.5,  26.3860,  33.7810,2,  33.7810,2,   213.9,2,    3.00,2,    0.00,2,    0.14,2,   1.670,2,  1904.0,2,  2237.0,2,   1.625,2,   -0.19,2,  -999.0,9,  -999.0,  26.3854
35MF62JADE_1,       IR06,      26,          1,          2,2,19890821,       0000,     -10.47,     120.35,       3180,    47.8,  26.0420,  33.8090,2,  33.8170,2,   202.1,2,    3.20,2,    0.10,2,    0.15,2,   1.520,2,  1916.0,2,  2238.0,2,   1.610,2,    0.91,2,  -999.0,9,  -999.0,  26.0314
35MF62JADE_1,       IR06,      26,          1,          3,2,19890821,       0000,     -10.47,     120.35,       3180,    98.9,  22.7430,  34.0880,2,  34.1220,2,   144.2,2,   12.60,2,    8.70,2,    0.73,2,   1.340,2,  2020.0,2,  2259.0,2,   1.589,2,    4.48,2,  -999.0,9,  -999.0,  22.7231
35MF62JADE_1,       IR06,      26,          1,          4,2,19890821,       0000,     -10.47,     120.35,       3180,   202.2,  14.8580,  34.5080,2,  34.5010,2,   127.8,2,   23.70,2,   17.80,2,    1.35,2,   0.960,2,  2131.0,2,  2305.0,2,   1.439,2, -999.00,9,  -999.0,9,  -999.0,  14.8277
35MF62JADE_1,       IR06,      26,          1,          5,2,19890821,       0000,     -10.47,     120.35,       3180,   300.7,  10.1310,  34.5280,2,  34.5270,2,   104.5,2,   40.50,2,   27.10,2,    1.98,2,   0.510,2,  2213.0,2,  2324.0,2,   0.846,2,   12.20,2,  -999.0,9,  -999.0,  10.0958
35MF62JADE_1,       IR06,      26,          1,          6,2,19890821,       0000,     -10.47,     120.35,       3180,   399.6,   8.6720,  34.5590,2,  34.5580,2,    96.0,2,   49.60,2,   31.10,2,    2.19,2,   0.360,2,  2243.0,2,  2338.0,2,   0.568,2,   12.94,2,  -999.0,9,  -999.0,   8.6293
35MF62JADE_1,       IR06,      26,          1,          7,2,19890821,       0000,     -10.47,     120.35,       3180,   501.6,   7.6370,  34.5870,2,  34.5830,2,    92.5,2,   56.40,2,   32.90,2,    2.31,2,-999.000,9,  2260.0,2,  2349.0,2,   0.367,2,   12.55,2,  -999.0,9,  -999.0,   7.5869
35MF62JADE_1,       IR06,      26,          1,          8,2,19890821,       0000,     -10.47,     120.35,       3180,   601.0,   6.8230,  34.5820,2,  34.5790,2,    94.7,2,   65.40,2,   34.10,2,    2.42,2,-999.000,9,  2278.0,2,  2361.0,2,   0.305,2,   14.00,2,  -999.0,9,  -999.0,   6.7662
35MF62JADE_1,       IR06,      26,          1,          9,2,19890821,       0000,     -10.47,     120.35,       3180,   806.6,   5.5830,  34.5920,2,  34.5930,2,    97.9,2,   79.80,2,   36.30,2,    2.54,2,   0.150,2,  2289.0,2,  2370.0,2,   0.188,2,   16.03,2,  -999.0,9,  -999.0,   5.5132
35MF62JADE_1,       IR06,      26,          1,         10,2,19890821,       0000,     -10.47,     120.35,       3180,  1004.8,   4.5860,  34.6050,2,  34.6090,2,   100.3,2,   91.20,2,   37.20,2,    2.61,2,-999.000,9,  2320.0,2,  2396.0,2,   0.122,2,   18.58,2,  -999.0,9,  -999.0,   4.5052
35MF62JADE_1,       IR06,      26,          1,         11,2,19890821,       0000,     -10.47,     120.35,       3180,  1207.2,   3.9370,  34.6310,2,  34.6320,2,   108.2,2,   98.70,2,   37.90,2,    2.62,2,   0.050,2,  2323.0,2,  2404.0,2,   0.088,2,   16.81,2,  -999.0,9,  -999.0,   3.8441
35MF62JADE_1,       IR06,      26,          1,         12,2,19890821,       0000,     -10.47,     120.35,       3180,  1435.3,   3.3520,  34.6770,2,  34.6760,2,   119.7,2,  102.60,2,   38.00,2,    2.59,2,   0.000,2,  2324.0,2,  2409.0,2,-999.000,9,   15.50,2,  -999.0,9,  -999.0,   3.2454
35MF62JADE_1,       IR06,      27,          1,          1,2,19890821,       0000,     -10.56,        121,       1313,     3.4,  25.9970,  33.8250,2,  33.8340,2,   208.0,2,    4.50,2,    0.10,2,    0.13,2,   1.580,2,  1914.0,2,  2240.0,2,-999.000,9, -999.00,9,  -999.0,9,  -999.0,  25.9962
35MF62JADE_1,       IR06,      27,          1,          2,2,19890821,       0000,     -10.56,        121,       1313,    29.8,  26.0100,  33.8270,2,  33.8300,2,   207.3,2,    7.00,2,    0.10,2,    0.16,2,   1.310,2,  1914.0,2,  2239.0,2,-999.000,9, -999.00,9,  -999.0,9,  -999.0,  26.0034
35MF62JADE_1,       IR06,      27,          1,          3,2,19890821,       0000,     -10.56,        121,       1313,    48.3,  25.7650,  33.8320,2,  33.8390,2,  -999.0,9,    8.40,2,    1.30,2,    0.21,2,   1.310,2,  -999.0,9,  -999.0,9,-999.000,9, -999.00,9,  -999.0,9,  -999.0,  25.7543
35MF62JADE_1,       IR06,      27,          1,          4,2,19890821,       0000,     -10.56,        121,       1313,    69.6,  24.9990,  33.8940,2,  33.8990,2,   168.3,2,   12.30,2,    4.40,2,    0.46,2,   1.230,2,  1966.0,2,  2244.0,2,-999.000,9, -999.00,9,  -999.0,9,  -999.0,  24.9840
35MF62JADE_1,       IR06,      27,          1,          5,2,19890821,       0000,     -10.56,        121,       1313,   102.3,  23.1090,  34.1080,2,  34.0900,2,   152.3,2,   15.60,2,    6.80,2,    0.67,2,   1.180,2,  2001.0,2,  2259.0,2,-999.000,9, -999.00,9,  -999.0,9,  -999.0,  23.0881
35MF62JADE_1,       IR06,      27,          1,          6,2,19890821,       0000,     -10.56,        121,       1313,   126.7,  21.5400,  34.3090,2,  34.2930,2,   136.5,2,   16.50,2,   11.30,2,    0.86,2,   1.090,2,  2043.0,2,  2274.0,2,-999.000,9, -999.00,9,  -999.0,9,  -999.0,  21.5154
35MF62JADE_1,       IR06,      27,          1,          7,2,19890821,       0000,     -10.56,        121,       1313,   149.4,  17.4500,  34.5100,2,  34.5180,2,   115.8,2,   27.70,2,   18.00,2,    1.31,2,   0.820,2,  2115.0,2,  2299.0,2,-999.000,9, -999.00,9,  -999.0,9,  -999.0,  17.4250
35MF62JADE_1,       IR06,      27,          1,          8,2,19890821,       0000,     -10.56,        121,       1313,   203.5,  13.3180,  34.5500,2,  34.5550,2,   109.8,2,   36.10,2,   24.40,2,    1.69,2,   0.580,2,  2168.0,2,  2312.0,2,-999.000,9, -999.00,9,  -999.0,9,  -999.0,  13.2897
35MF62JADE_1,       IR06,      27,          1,          9,2,19890821,       0000,     -10.56,        121,       1313,   302.5,  10.1380,  34.5460,2,  34.5480,2,   101.5,2,   47.80,2,   28.20,2,    2.03,2,   0.170,2,  2211.0,2,  2325.0,2,-999.000,9, -999.00,9,  -999.0,9,  -999.0,  10.1026
35MF62JADE_1,       IR06,      27,          1,         10,2,19890821,       0000,     -10.56,        121,       1313,   401.9,   8.6300,  34.5600,2,  34.5650,2,    95.6,2,   56.20,2,   32.90,2,    2.22,2,   0.140,2,  2237.0,2,  2336.0,2,-999.000,9, -999.00,9,  -999.0,9,  -999.0,   8.5872
35MF62JADE_1,       IR06,      27,          1,         11,2,19890821,       0000,     -10.56,        121,       1313,   503.8,   7.7180,  34.5870,2,  34.5890,2,    92.5,2,   62.80,2,   33.30,2,    2.37,2,   0.000,2,  2258.0,2,  2348.0,2,-999.000,9, -999.00,9,  -999.0,9,  -999.0,   7.6674
35MF62JADE_1,       IR06,      27,          1,         12,2,19890821,       0000,     -10.56,        121,       1313,   606.2,   6.7960,  34.5890,2,  34.5840,2,    95.3,2,   72.80,2,   36.10,2,    2.45,2,-999.000,9,  2272.0,2,  2360.0,2,-999.000,9, -999.00,9,  -999.0,9,  -999.0,   6.7388
35MF62JADE_1,       IR06,      28,          1,          1,2,19890821,       0000,     -10.56,     121.36,       1072,     3.7,  26.0210,  33.9590,2,  33.9640,2,   199.9,2,    4.90,2,    1.30,2,    0.22,2,   1.320,2,  1932.0,2,  2244.0,2,-999.000,9, -999.00,9,  -999.0,9,  -999.0,  26.0202
35MF62JADE_1,       IR06,      28,          1,          2,2,19890821,       0000,     -10.56,     121.36,       1072,    30.7,  26.0300,  33.9600,2,  33.9620,2,   199.8,2,    7.60,2,    1.20,2,    0.22,2,   1.290,2,  1933.0,2,  2244.0,2,-999.000,9, -999.00,9,  -999.0,9,  -999.0,  26.0232
35MF62JADE_1,       IR06,      28,          1,          3,2,19890821,       0000,     -10.56,     121.36,       1072,    49.2,  26.0370,  33.9590,2,  33.9620,2,   198.6,2,    8.10,2,    0.30,2,    0.24,2,   1.290,2,  1930.0,2,  2245.0,2,-999.000,9, -999.00,9,  -999.0,9,  -999.0,  26.0261
35MF62JADE_1,       IR06,      28,          1,          4,2,19890821,       0000,     -10.56,     121.36,       1072,    68.7,  26.0320,  33.9590,2,  33.9640,2,   197.7,2,   10.70,2,    0.80,2,    0.22,2,   1.290,2,  1927.0,2,  2243.0,2,-999.000,9, -999.00,9,  -999.0,9,  -999.0,  26.0167
35MF62JADE_1,       IR06,      28,          1,          5,2,19890821,       0000,     -10.56,     121.36,       1072,    99.7,  24.8600,  34.2590,2,  34.2690,2,   141.4,2,   15.70,2,    7.40,2,    0.66,2,   1.090,2,  2001.0,2,  2262.0,2,-999.000,9, -999.00,9,  -999.0,9,  -999.0,  24.8385
35MF62JADE_1,       IR06,      28,          1,          6,2,19890821,       0000,     -10.56,     121.36,       1072,   125.2,  23.6070,  34.4080,2,  34.3810,2,   132.5,2,   18.20,2,    6.70,3,    0.81,2,   1.000,2,  2030.0,2,  2274.0,2,-999.000,9, -999.00,9,  -999.0,9,  -999.0,  23.5810
35MF62JADE_1,       IR06,      28,          1,          7,2,19890821,       0000,     -10.56,     121.36,       1072,   150.1,  17.0250,  34.5240,2,  34.5090,2,   117.0,2,   28.10,2,   12.90,3,    1.31,2,   0.830,2,  2109.0,2,  2298.0,2,-999.000,9, -999.00,9,  -999.0,9,  -999.0,  17.0003
35MF62JADE_1,       IR06,      28,          1,          8,2,19890821,       0000,     -10.56,     121.36,       1072,   200.7,  13.6070,  34.5520,2,  34.5480,2,   109.4,2,   36.50,2,   22.60,2,    1.65,2,-999.000,9,  2164.0,2,  2314.0,2,-999.000,9, -999.00,9,  -999.0,9,  -999.0,  13.5787
35MF62JADE_1,       IR06,      28,          1,          9,2,19890821,       0000,     -10.56,     121.36,       1072,   302.0,   9.5620,  34.5510,2,  34.5510,2,   101.6,2,   51.20,2,   29.80,2,    2.10,2,   0.190,2,  2225.0,2,  2330.0,2,-999.000,9, -999.00,9,  -999.0,9,  -999.0,   9.5279
35MF62JADE_1,       IR06,      28,          1,         10,2,19890821,       0000,     -10.56,     121.36,       1072,   403.3,   8.8910,  34.5570,2,  34.5590,2,    96.8,2,   56.00,2,   32.30,2,    2.19,2,-999.000,9,  2239.0,2,  2335.0,2,-999.000,9, -999.00,9,  -999.0,9,  -999.0,   8.8472
35MF62JADE_1,       IR06,      28,          1,         11,2,19890821,       0000,     -10.56,     121.36,       1072,   503.2,   7.8630,  34.5670,2,  34.5700,2,    96.1,2,   63.30,2,   32.40,2,    2.32,2,   0.000,2,  2257.0,2,  2347.0,2,-999.000,9, -999.00,9,  -999.0,9,  -999.0,   7.8119
35MF62JADE_1,       IR06,      28,          1,         12,2,19890821,       0000,     -10.56,     121.36,       1072,   602.7,   7.1250,  34.5780,2,  34.5770,2,  -999.0,9,   69.50,2,   34.40,2,    2.40,2,   0.000,2,  2268.0,2,  2353.0,2,-999.000,9, -999.00,9,  -999.0,9,  -999.0,   7.0667