BOTTLE,20221003CCHSIOAMB
EXPOCODE,SECT_ID,STNNBR,CASTNO,BTLNBR,BTLNBR_FLAG_W,DATE,TIME,LATITUDE,LONGITUDE,DEPTH,CTDPRS,CTDTMP,CTDSAL,CTDSAL_FLAG_W,SALNTY,SALNTY_FLAG_W,OXYGEN,OXYGEN_FLAG_W,SILCAT,SILCAT_FLAG_W,NITRAT,NITRAT_FLAG_W,PHSPHT,PHSPHT_FLAG_W,CFC-11,CFC-11_FLAG_W,TCARBN,TCARBN_FLAG_W,ALKALI,ALKALI_FLAG_W,TRITUM,TRITUM_FLAG_W,DELHE3,DELHE3_FLAG_W,DELC14,DELC14_FLAG_W,C14ERR,THETA
,,,,,,,,,,METERS,DBAR,ITS-90,PSS-78,,PSS-78,,UMOL/KG,,UMOL/KG,,UMOL/KG,,UMOL/KG,,PMOL/KG,,UMOL/KG,,UMOL/KG,,TU,,PERCNT,,/MILLE,,/MILLE,DEG C
35MF62JADE_1,       IR06,       7,          1,         13,2,19890811,       0000,     -14.54,     116.59,       5619,   704.1,   6.5680,  34.6240,2,  34.6210,2,    96.7,2,   72.80,2,   35.10,2,    2.43,2,-999.000,9,  2269.0,2,  2328.0,2,-999.000,9, -999.00,9,  -999.0,9,  -999.0,   6.5023
35MF62JADE_1,       IR06,       7,          1,         14,2,19890811,       0000,     -14.54,     116.59,       5619,   804.9,   5.9970,  34.6220,2,  34.6190,2,    92.4,2,   82.40,2,   36.00,2,    2.58,2,-999.000,9,  2286.0,2,  2357.0,2,-999.000,9, -999.00,9,  -999.0,9,  -999.0,   5.9248
35MF62JADE_1,       IR06,       7,          1,         15,2,19890811,       0000,     -14.54,     116.59,       5619,   904.6,   5.5080,  34.6190,2,  34.6170,2,    93.8,2,   90.10,2,   36.60,2,    2.64,2,-999.000,9,  -999.0,9,  -999.0,9,-999.000,9, -999.00,9,  -999.0,9,  -999.0,   5.4296
35MF62JADE_1,       IR06,       7,          1,         16,2,19890811,       0000,     -14.54,     116.59,       5619,  1007.3,   5.0370,  34.6140,2,  34.6110,2,    97.3,2,   95.70,2,   36.10,2,    2.65,2,-999.000,9,  2299.0,2,  2359.0,2,-999.000,9, -999.00,9,  -999.0,9,  -999.0,   4.9526
35MF62JADE_1,       IR06,       7,          1,         17,2,19890811,       0000,     -14.54,     116.59,       5619,  1107.9,   4.6560,  34.6150,2,  34.6150,2,    99.6,2,  102.50,2,   36.60,2,    2.69,2,-999.000,9,  2316.0,2,  2367.0,2,-999.000,9, -999.00,9,  -999.0,9,  -999.0,   4.5655
35MF62JADE_1,       IR06,       7,          1,         18,2,19890811,       0000,     -14.54,     116.59,       5619,  1211.1,   4.3300,  34.6290,2,  34.6280,2,   102.9,2,  105.20,2,   36.80,2,    2.69,2,-999.000,9,  2314.0,2,  2383.0,2,-999.000,9, -999.00,9,  -999.0,9,  -999.0,   4.2332
35MF62JADE_1,       IR06,       7,          1,         19,2,19890811,       0000,     -14.54,     116.59,       5619,  1311.9,   3.9240,  34.6430,2,  34.6410,2,   109.0,2,  109.30,2,   36.80,2,    2.70,2,-999.000,9,  2310.0,2,  2382.0,2,-999.000,9, -999.00,9,  -999.0,9,  -999.0,   3.8221
35MF62JADE_1,       IR06,       7,          1,         20,2,19890811,       0000,     -14.54,     116.59,       5619,  1460.6,   3.5170,  34.6640,2,  34.6630,2,   117.2,2,  112.00,2,   36.20,2,    2.67,2,-999.000,9,  2322.0,2,  2383.0,2,-999.000,9, -999.00,9,  -999.0,9,  -999.0,   3.4064
35MF62JADE_1,       IR06,       7,          1,         21,2,19890811,       0000,     -14.54,     116.59,       5619,  1617.2,   3.0700,  34.6880,2,  34.6880,2,   127.5,2,  115.30,2,   35.90,2,    2.67,2,-999.000,9,  2320.0,2,  2396.0,2,-999.000,9, -999.00,9,  -999.0,9,  -999.0,   2.9511
35MF62JADE_1,       IR06,       7,          1,         22,2,19890811,       0000,     -14.54,     116.59,       5619,  1816.6,   2.6800,  34.7090,2,  34.7090,2,   136.1,2,  119.40,2,   35.40,2,    2.61,2,-999.000,9,  2317.0,2,  2401.0,2,-999.000,9, -999.00,9,  -999.0,9,  -999.0,   2.5490
35MF62JADE_1,       IR06,       7,          1,         23,2,19890811,       0000,     -14.54,     116.59,       5619,  2022.7,   2.3450,  34.7210,2,  34.7230,2,   145.2,2,  122.40,2,   35.10,2,    2.57,2,-999.000,9,  2330.0,2,  2407.0,2,-999.000,9, -999.00,9,  -999.0,9,  -999.0,   2.2010
35MF62JADE_1,       IR06,       7,          1,         24,2,19890811,       0000,     -14.54,     116.59,       5619,  2229.0,   2.1470,  34.7260,2,  34.7260,2,   152.2,2,  125.00,2,   34.90,2,    2.62,2,-999.000,9,  -999.0,9,  -999.0,9,-999.000,9, -999.00,9,  -999.0,9,  -999.0,   1.9881
35MF62JADE_1,       IR06,       8,          3,          1,2,19890811,       0000,     -14.09,     116.44,       5579,     3.0,  27.0090,  33.7920,2,  33.7890,2,   204.7,2,    4.80,2,    0.00,2,    0.11,2,   1.360,2,  1755.0,2,  2068.0,3, 183.000,4, -999.00,9,    96.0,2,     3.0,  27.0083
35MF62JADE_1,       IR06,       8,          3,          2,2,19890811,       0000,     -14.09,     116.44,       5579,    28.8,  27.0410,  33.8070,2,  33.8160,2,   203.8,2,    6.30,2,    0.00,2,    0.07,2,   1.350,2,  1897.0,2,  2229.0,2,-999.000,9, -999.00,9,   118.0,2,     3.0,  27.0344
35MF62JADE_1,       IR06,       8,          3,          3,2,19890811,       0000,     -14.09,     116.44,       5579,    48.8,  27.2300,  34.1340,2,  34.1320,2,   203.2,2,    6.80,2,    0.00,2,    0.13,2,   1.420,2,  1908.0,2,  2246.0,2,   2.100,2,    0.01,2,    93.0,2,     3.0,  27.2188
35MF62JADE_1,       IR06,       8,          3,          4,2,19890811,       0000,     -14.09,     116.44,       5579,    69.7,  27.1470,  34.1410,2,  34.1430,2,   200.1,2,    6.80,2,    0.10,2,    0.13,2,-999.000,9,  1910.0,2,  2250.0,2,   1.980,2, -999.00,9,    84.0,2,     3.0,  27.1310
35MF62JADE_1,       IR06,       8,          3,          5,2,19890811,       0000,     -14.09,     116.44,       5579,    98.7,  25.4080,  34.2550,2,  34.2590,2,   145.4,2,    9.70,2,    6.90,2,    0.59,2,-999.000,9,  1984.0,2,  2255.0,2,   1.610,2, -999.00,9,    79.0,2,     3.0,  25.3864
35MF62JADE_1,       IR06,       8,          3,          6,2,19890811,       0000,     -14.09,     116.44,       5579,   123.6,  23.9450,  34.6450,2,  34.6090,2,   151.4,2,    9.70,2,    6.00,2,    0.56,2,-999.000,9,  2005.0,2,  2283.0,2,-999.000,9, -999.00,9,  -999.0,9,  -999.0,  23.9191
35MF62JADE_1,       IR06,       8,          3,          7,2,19890811,       0000,     -14.09,     116.44,       5579,   149.4,  21.9040,  34.6910,2,  34.7230,2,   137.9,2,   12.00,2,    9.20,2,    0.71,2,   1.040,2,  2037.0,2,  2280.0,2,   1.660,2, -999.00,9,    80.0,2,     3.0,  21.8746
35MF62JADE_1,       IR06,       8,          3,          8,2,19890811,       0000,     -14.09,     116.44,       5579,   202.6,  18.0430,  34.7740,2,  34.7470,2,   121.3,2,   19.90,2,   15.50,2,    1.16,2,   0.850,2,  2100.0,2,  2289.0,2,   1.540,2,    6.32,2,    56.0,2,     3.0,  18.0082
35MF62JADE_1,       IR06,       8,          3,          9,2,19890811,       0000,     -14.09,     116.44,       5579,   300.0,  12.7580,  34.8060,2,  34.8180,2,   120.2,2,   29.50,2,   21.70,2,    1.54,2,   0.590,2,  2164.0,2,  2318.0,2,   1.330,2, -999.00,9,    11.0,2,     3.0,  12.7172
35MF62JADE_1,       IR06,       8,          3,         10,2,19890811,       0000,     -14.09,     116.44,       5579,   401.2,  10.2490,  34.7620,2,  34.7420,2,   136.9,2,   31.80,2,   23.90,2,    1.69,2,   0.610,2,  2184.0,2,  2313.0,2,   0.760,2,    8.67,2,   -20.0,2,     3.0,  10.2014
35MF62JADE_1,       IR06,       8,          3,         11,2,19890811,       0000,     -14.09,     116.44,       5579,   502.1,   8.6910,  34.6720,2,  34.6660,2,   151.9,2,   31.60,2,   26.00,2,    1.81,2,   0.360,2,  2187.0,2,  2312.0,2,-999.000,9, -999.00,9,  -999.0,9,  -999.0,   8.6369
35MF62JADE_1,       IR06,       8,          3,         12,2,19890811,       0000,     -14.09,     116.44,       5579,   604.8,   7.4560,  34.6280,2,  34.6300,2,   108.8,2,   53.40,2,   32.40,2,    2.31,2,   0.010,2,  2242.0,2,  2331.0,2,   0.240,2,   10.04,2,  -119.0,2,     3.0,   7.3960
35MF62JADE_1,       IR06,       8,          2,         13,2,19890811,       0000,     -14.09,     116.44,       5579,   702.3,   6.4880,  34.6040,2,  34.6030,2,    93.1,2,   75.60,2,   36.10,2,    2.47,2,   0.000,2,  2269.0,2,  2353.0,2,-999.000,9,   12.73,2,  -999.0,9,  -999.0,   6.4229
35MF62JADE_1,       IR06,       8,          2,         14,2,19890811,       0000,     -14.09,     116.44,       5579,   804.7,   5.7870,  34.6000,2,  34.5950,2,    95.6,2,   86.60,2,   36.80,2,    2.58,2,   0.050,2,  2283.0,2,  2365.0,2,   0.070,2,   13.98,2,  -156.0,2,     3.0,   5.7162
35MF62JADE_1,       IR06,       8,          2,         15,2,19890811,       0000,     -14.09,     116.44,       5579,   906.5,   5.3410,  34.6020,2,  34.5970,2,    97.2,2,   92.80,2,   37.10,2,    2.62,2,-999.000,9,  2297.0,2,  2367.0,2,-999.000,9,   16.17,2,  -999.0,9,  -999.0,   5.2636
35MF62JADE_1,       IR06,       8,          2,         16,2,19890811,       0000,     -14.09,     116.44,       5579,  1006.7,   4.9000,  34.6050,2,  34.6010,2,   100.4,2,   97.40,2,   37.00,2,    2.60,2,-999.000,9,  2295.0,2,  2373.0,2,   0.080,2,   16.93,2,  -161.0,2,     3.0,   4.8167
35MF62JADE_1,       IR06,       8,          2,         17,2,19890811,       0000,     -14.09,     116.44,       5579,  1108.5,   4.4940,  34.6070,2,  34.6070,2,   102.7,2,  104.00,2,   37.20,2,    2.67,2,-999.000,9,  2298.0,2,  2385.0,2,-999.000,9,   17.01,2,  -999.0,9,  -999.0,   4.4048
35MF62JADE_1,       IR06,       8,          2,         18,2,19890811,       0000,     -14.09,     116.44,       5579,  1211.0,   4.1510,  34.6190,2,  34.6170,2,   105.2,2,  107.80,2,   37.50,2,    2.68,2,-999.000,9,  2313.0,2,  2385.0,2,-999.000,9,   17.19,2,  -999.0,9,  -999.0,   4.0558
35MF62JADE_1,       IR06,       8,          2,         19,2,19890811,       0000,     -14.09,     116.44,       5579,  1312.0,   3.8290,  34.6370,2,  34.6330,2,   109.4,2,  110.90,2,   37.50,2,    2.68,2,-999.000,9,  2314.0,2,  2391.0,2,-999.000,9,   16.50,2,  -999.0,9,  -999.0,   3.7281
35MF62JADE_1,       IR06,       8,          2,         20,2,19890811,       0000,     -14.09,     116.44,       5579,  1464.6,   3.4380,  34.6680,2,  34.6610,2,   118.2,2,  113.70,2,   37.50,2,    2.66,2,-999.000,9,  -999.0,9,  -999.0,9,-999.000,9,   13.18,2,  -999.0,9,  -999.0,   3.3280
35MF62JADE_1,       IR06,       8,          2,         21,2,19890811,       0000,     -14.09,     116.44,       5579,  1616.8,   3.0960,  34.6940,2,  34.6890,2,   126.1,2,  114.00,2,   36.90,2,    2.69,2,-999.000,9,  2311.0,2,  2390.0,2,-999.000,9,   13.87,2,  -999.0,9,  -999.0,   2.9768
35MF62JADE_1,       IR06,       8,          2,         22,2,19890811,       0000,     -14.09,     116.44,       5579,  1819.2,   2.6250,  34.7180,2,  34.7150,2,   139.8,2,  116.40,2,   36.30,2,    2.65,2,-999.000,9,  2311.0,2,  2395.0,2,-999.000,9,   16.21,2,  -999.0,9,  -999.0,   2.4945
35MF62JADE_1,       IR06,       8,          2,         23,2,19890811,       0000,     -14.09,     116.44,       5579,  2023.0,   2.3330,  34.7270,2,  34.7250,2,   145.7,2,  119.00,2,   35.90,2,    2.61,2,-999.000,9,  2306.0,2,  2395.0,2,   0.001,2, -999.00,9,  -200.0,2,     3.0,   2.1892
35MF62JADE_1,       IR06,       8,          2,         24,2,19890811,       0000,     -14.09,     116.44,       5579,  2226.6,   2.1360,  34.7270,2,  34.7270,2,   151.5,2,  121.50,2,   35.50,2,    2.58,2,-999.000,9,  2302.0,2,  2398.0,2,-999.000,9,   18.85,3,  -999.0,9,  -999.0,   1.9775
35MF62JADE_1,       IR06,       8,          1,         25,2,19890811,       0000,     -14.09,     116.44,       5579,  2823.7,   1.7280,  34.7270,2,  34.7270,2,   156.7,2,  123.30,2,   34.90,2,    2.48,2,-999.000,9,  2305.0,2,  2400.0,2,-999.000,9, -999.00,9,  -999.0,9,  -999.0,   1.5227
35MF62JADE_1,       IR06,       8,          1,         26,2,19890811,       0000,     -14.09,     116.44,       5579,  3037.4,   1.6000,  34.7250,2,  34.7250,2,   162.5,2,  123.80,2,   34.70,2,    2.39,2,-999.000,9,  -999.0,9,  -999.0,9,-999.000,9, -999.00,9,  -999.0,9,  -999.0,   1.3771
35MF62JADE_1,       IR06,       8,          1,         27,2,19890811,       0000,     -14.09,     116.44,       5579,  3242.8,   1.4820,  34.7210,2,  34.7240,2,   167.7,2,  124.40,2,   34.30,2,    2.41,2,-999.000,9,  2304.0,2,  2397.0,2,-999.000,9,    9.66,2,  -999.0,9,  -999.0,   1.2418
35MF62JADE_1,       IR06,       8,          1,         28,2,19890811,       0000,     -14.09,     116.44,       5579,  3957.7,   1.1910,  34.7150,2,  34.7170,2,   181.7,2,  126.00,2,   33.90,2,    2.37,2,-999.000,9,  2288.0,2,  2399.0,2,-999.000,9,   12.28,2,  -999.0,9,  -999.0,   0.8851
35MF62JADE_1,       IR06,       8,          1,         29,2,19890811,       0000,     -14.09,     116.44,       5579,  4265.9,   1.1750,  34.7140,2,  34.7140,2,   192.6,2,  126.10,2,   33.80,2,    2.37,2,-999.000,9,  2287.0,2,  2396.0,2,   0.002,2,   12.83,2,  -188.0,2,     3.0,   0.8361
35MF62JADE_1,       IR06,       8,          1,         30,2,19890811,       0000,     -14.09,     116.44,       5579,  4576.9,   1.1860,  34.7120,2,  34.7130,2,   195.5,2,  125.90,2,   33.40,2,    2.37,2,-999.000,9,  2285.0,2,  2396.0,2,-999.000,9,   11.11,2,  -999.0,9,  -999.0,   0.8118
35MF62JADE_1,       IR06,       8,          1,         31,2,19890811,       0000,     -14.09,     116.44,       5579,  4883.1,   1.2090,  34.7120,2,  34.7120,2,   195.4,2,  126.70,2,   33.10,2,    2.36,2,-999.000,9,  2287.0,2,  2397.0,2,-999.000,9,   11.68,2,  -999.0,9,  -999.0,   0.7983
35MF62JADE_1,       IR06,       9,          2,          1,2,19890811,       0000,      -13.2,     116.28,       5444,     2.8,  27.2200,  33.8870,2,  33.8890,2,   204.6,2,    6.40,2,    0.10,2,    0.13,2,   1.450,2,  1889.0,2,  2220.0,2,-999.000,9, -999.00,9,  -999.0,9,  -999.0,  27.2194
35MF62JADE_1,       IR06,       9,          2,          2,2,19890811,       0000,      -13.2,     116.28,       5444,    29.3,  27.1430,  33.8850,2,  33.8850,2,   204.5,2,    7.80,2,    0.10,2,    0.10,2,   1.530,2,  1888.0,2,  2218.0,2,-999.000,9, -999.00,9,  -999.0,9,  -999.0,  27.1363
35MF62JADE_1,       IR06,       9,          2,          3,2,19890811,       0000,      -13.2,     116.28,       5444,    49.2,  27.0680,  33.9360,2,  33.9340,2,   202.0,2,    8.10,2,    0.00,2,    0.12,2,   1.470,2,  1894.0,2,  2226.0,2,-999.000,9, -999.00,9,  -999.0,9,  -999.0,  27.0567
35MF62JADE_1,       IR06,       9,          2,          4,2,19890811,       0000,      -13.2,     116.28,       5444,    69.9,  26.3610,  33.8430,2,  33.8270,2,   176.2,2,    9.90,2,    3.40,2,    0.35,2,   1.340,2,  1921.0,2,  2214.0,2,-999.000,9, -999.00,9,  -999.0,9,  -999.0,  26.3453
35MF62JADE_1,       IR06,       9,          2,          5,2,19890811,       0000,      -13.2,     116.28,       5444,   100.3,  24.7150,  34.2520,2,  34.2490,2,   139.5,2,   14.20,2,    8.50,2,    0.74,2,   1.200,2,  1990.0,2,  2244.0,2,-999.000,9, -999.00,9,  -999.0,9,  -999.0,  24.6935
35MF62JADE_1,       IR06,       9,          2,          6,2,19890811,       0000,      -13.2,     116.28,       5444,   126.6,  22.5960,  34.4080,2,  34.4080,2,   124.8,2,   19.90,2,   11.50,2,    0.93,2,   1.150,2,  2032.0,2,  2259.0,2,-999.000,9, -999.00,9,  -999.0,9,  -999.0,  22.5706
35MF62JADE_1,       IR06,       9,          2,          7,2,19890811,       0000,      -13.2,     116.28,       5444,   151.5,  20.2300,  34.5900,2,  34.5790,2,   120.8,2,   22.60,2,   14.10,2,    1.10,2,   1.230,2,  -999.0,9,  -999.0,9,-999.000,9, -999.00,9,  -999.0,9,  -999.0,  20.2018
35MF62JADE_1,       IR06,       9,          2,          8,2,19890811,       0000,      -13.2,     116.28,       5444,   199.7,  15.7560,  34.5210,2,  34.5200,2,   120.3,2,   29.80,2,   18.90,2,    1.39,2,   0.840,2,  2126.0,2,  2295.0,2,-999.000,9, -999.00,9,  -999.0,9,  -999.0,  15.7248
35MF62JADE_1,       IR06,       9,          2,          9,2,19890811,       0000,      -13.2,     116.28,       5444,   302.2,  11.9100,  34.5560,2,  34.5560,2,   105.1,2,   40.70,2,   25.10,2,    1.88,2,   0.640,2,  2167.0,2,  2295.0,2,-999.000,9, -999.00,9,  -999.0,9,  -999.0,  11.8708
35MF62JADE_1,       IR06,       9,          2,         10,2,19890811,       0000,      -13.2,     116.28,       5444,   401.7,  10.1150,  34.6710,2,  34.6670,2,   114.0,2,   42.80,2,   27.30,2,    2.01,2,   0.490,2,  2190.0,2,  2306.0,2,-999.000,9, -999.00,9,  -999.0,9,  -999.0,  10.0678
35MF62JADE_1,       IR06,       9,          2,         11,2,19890811,       0000,      -13.2,     116.28,       5444,   502.8,   8.6950,  34.6630,2,  34.6650,2,   141.4,2,   38.10,2,   26.90,2,    1.98,2,   0.390,2,  2185.0,2,  2306.0,2,-999.000,9, -999.00,9,  -999.0,9,  -999.0,   8.6408
35MF62JADE_1,       IR06,       9,          1,         12,2,19890811,       0000,      -13.2,     116.28,       5444,   703.0,   6.6080,  34.6000,2,  34.6060,2,    92.3,2,   75.60,2,   35.50,2,    2.45,2,   0.270,2,  2262.0,2,  2341.0,2,-999.000,9, -999.00,9,  -999.0,9,  -999.0,   6.5422
35MF62JADE_1,       IR06,       9,          1,         13,2,19890811,       0000,      -13.2,     116.28,       5444,   803.0,   6.0320,  34.6030,2,  34.6040,2,  -999.0,9,   84.30,2,   36.10,2,    2.56,2,-999.000,9,  2272.0,2,  2351.0,2,-999.000,9, -999.00,9,  -999.0,9,  -999.0,   5.9598
35MF62JADE_1,       IR06,       9,          1,         14,2,19890811,       0000,      -13.2,     116.28,       5444,   905.7,   5.3470,  34.6000,2,  34.6020,2,    96.2,2,   93.80,2,   37.30,2,    2.57,2,-999.000,9,  2285.0,2,  2364.0,2,-999.000,9, -999.00,9,  -999.0,9,  -999.0,   5.2696
35MF62JADE_1,       IR06,       9,          1,         15,2,19890811,       0000,      -13.2,     116.28,       5444,  1005.8,   4.9180,  34.6030,2,  34.6040,2,    98.2,2,   98.20,2,   37.00,2,    2.61,2,-999.000,9,  2290.0,2,  2370.0,2,-999.000,9, -999.00,9,  -999.0,9,  -999.0,   4.8346
35MF62JADE_1,       IR06,       9,          1,         16,2,19890811,       0000,      -13.2,     116.28,       5444,  1106.5,   4.5660,  34.6060,2,  34.6110,2,   101.9,2,  104.20,2,   37.80,2,    2.58,2,-999.000,9,  2298.0,2,  2376.0,2,-999.000,9, -999.00,9,  -999.0,9,  -999.0,   4.4764
35MF62JADE_1,       IR06,       9,          1,         17,2,19890811,       0000,      -13.2,     116.28,       5444,  1212.7,   4.2300,  34.6190,2,  34.6240,2,   103.4,2,  108.20,2,   37.70,2,    2.66,2,-999.000,9,  2306.0,2,  2381.0,2,-999.000,9, -999.00,9,  -999.0,9,  -999.0,   4.1339
35MF62JADE_1,       IR06,       9,          1,         18,2,19890811,       0000,      -13.2,     116.28,       5444,  1313.8,   3.8940,  34.6350,2,  34.6350,2,  -999.0,9,  111.50,2,   38.10,2,    2.67,2,-999.000,9,  -999.0,9,  -999.0,9,-999.000,9, -999.00,9,  -999.0,9,  -999.0,   3.7923
35MF62JADE_1,       IR06,       9,          1,         19,2,19890811,       0000,      -13.2,     116.28,       5444,  1463.5,   3.4490,  34.6640,2,  34.6650,2,   117.3,2,  114.40,2,   37.50,2,    2.65,2,-999.000,9,  2310.0,2,  2384.0,2,-999.000,9, -999.00,9,  -999.0,9,  -999.0,   3.3389
35MF62JADE_1,       IR06,       9,          1,         20,2,19890811,       0000,      -13.2,     116.28,       5444,  1615.2,   3.0810,  34.6890,2,  34.6930,2,   125.3,2,  116.80,2,   37.80,2,    2.64,2,-999.000,9,  2312.0,2,  2390.0,2,-999.000,9, -999.00,9,  -999.0,9,  -999.0,   2.9621
35MF62JADE_1,       IR06,       9,          1,         21,2,19890811,       0000,      -13.2,     116.28,       5444,  1815.0,   2.6800,  34.7110,2,  34.7160,2,   135.1,2,  119.40,2,   37.00,2,    2.58,2,-999.000,9,  2312.0,2,  2397.0,2,-999.000,9, -999.00,9,  -999.0,9,  -999.0,   2.5491
35MF62JADE_1,       IR06,       9,          1,         22,2,19890811,       0000,      -13.2,     116.28,       5444,  2019.8,   2.3850,  34.7210,2,  34.7250,2,   144.0,2,  121.70,2,   36.60,2,    2.54,2,-999.000,9,  2311.0,2,  2397.0,2,-999.000,9, -999.00,9,  -999.0,9,  -999.0,   2.2407
35MF62JADE_1,       IR06,       9,          1,         23,2,19890811,       0000,      -13.2,     116.28,       5444,  2225.0,   2.1660,  34.7230,2,  34.7270,2,   150.3,2,  123.70,2,   36.10,2,    2.51,2,-999.000,9,  2307.0,2,  2399.0,2,-999.000,9, -999.00,9,  -999.0,9,  -999.0,   2.0072