BOTTLE,20221003CCHSIOAMB
EXPOCODE,SECT_ID,STNNBR,CASTNO,BTLNBR,BTLNBR_FLAG_W,DATE,TIME,LATITUDE,LONGITUDE,DEPTH,CTDPRS,CTDTMP,CTDSAL,CTDSAL_FLAG_W,SALNTY,SALNTY_FLAG_W,OXYGEN,OXYGEN_FLAG_W,SILCAT,SILCAT_FLAG_W,NITRAT,NITRAT_FLAG_W,PHSPHT,PHSPHT_FLAG_W,CFC-11,CFC-11_FLAG_W,TCARBN,TCARBN_FLAG_W,ALKALI,ALKALI_FLAG_W,TRITUM,TRITUM_FLAG_W,DELHE3,DELHE3_FLAG_W,DELC14,DELC14_FLAG_W,C14ERR,THETA
,,,,,,,,,,METERS,DBAR,ITS-90,PSS-78,,PSS-78,,UMOL/KG,,UMOL/KG,,UMOL/KG,,UMOL/KG,,PMOL/KG,,UMOL/KG,,UMOL/KG,,TU,,PERCNT,,/MILLE,,/MILLE,DEG C
35MF62JADE_1,       IR06,      39,          1,          1,2,19890824,       0000,     -11.17,     122.47,       1874,     2.9,  26.7540,  34.0830,2,  34.0860,2,  -999.0,9, -999.00,9, -999.00,9, -999.00,9,-999.000,9,  -999.0,9,  -999.0,9,-999.000,9, -999.00,9,  -999.0,9,  -999.0,  26.7533
35MF62JADE_1,       IR06,      39,          1,          2,2,19890824,       0000,     -11.17,     122.47,       1874,    31.8,  26.7570,  34.0840,2,  34.0830,2,  -999.0,9, -999.00,9, -999.00,9, -999.00,9,-999.000,9,  -999.0,9,  -999.0,9,-999.000,9, -999.00,9,  -999.0,9,  -999.0,  26.7498
35MF62JADE_1,       IR06,      39,          1,          3,2,19890824,       0000,     -11.17,     122.47,       1874,    48.4,  26.7350,  34.0810,2,  34.0820,2,  -999.0,9, -999.00,9, -999.00,9, -999.00,9,-999.000,9,  -999.0,9,  -999.0,9,-999.000,9, -999.00,9,  -999.0,9,  -999.0,  26.7240
35MF62JADE_1,       IR06,      39,          1,          4,2,19890824,       0000,     -11.17,     122.47,       1874,    70.6,  26.7730,  34.3540,2,  34.3540,2,  -999.0,9, -999.00,9, -999.00,9, -999.00,9,-999.000,9,  -999.0,9,  -999.0,9,-999.000,9, -999.00,9,  -999.0,9,  -999.0,  26.7569
35MF62JADE_1,       IR06,      39,          1,          5,2,19890824,       0000,     -11.17,     122.47,       1874,    99.7,  24.8300,  34.4840,2,  34.4740,2,  -999.0,9, -999.00,9, -999.00,9, -999.00,9,-999.000,9,  -999.0,9,  -999.0,9,-999.000,9, -999.00,9,  -999.0,9,  -999.0,  24.8085
35MF62JADE_1,       IR06,      39,          1,          6,2,19890824,       0000,     -11.17,     122.47,       1874,   200.9,  15.1540,  34.5390,2,  34.5360,2,  -999.0,9, -999.00,9, -999.00,9, -999.00,9,-999.000,9,  -999.0,9,  -999.0,9,-999.000,9, -999.00,9,  -999.0,9,  -999.0,  15.1235
35MF62JADE_1,       IR06,      39,          1,          7,2,19890824,       0000,     -11.17,     122.47,       1874,   305.1,   9.4960,  34.5530,2,  34.5540,2,  -999.0,9, -999.00,9, -999.00,9, -999.00,9,-999.000,9,  -999.0,9,  -999.0,9,-999.000,9, -999.00,9,  -999.0,9,  -999.0,   9.4617
35MF62JADE_1,       IR06,      39,          1,          8,2,19890824,       0000,     -11.17,     122.47,       1874,   402.9,   8.3700,  34.5650,2,  34.5650,2,  -999.0,9, -999.00,9, -999.00,9, -999.00,9,-999.000,9,  -999.0,9,  -999.0,9,-999.000,9, -999.00,9,  -999.0,9,  -999.0,   8.3278
35MF62JADE_1,       IR06,      39,          1,          9,2,19890824,       0000,     -11.17,     122.47,       1874,   610.9,   6.9260,  34.5740,2,  34.5720,2,  -999.0,9, -999.00,9, -999.00,9, -999.00,9,-999.000,9,  -999.0,9,  -999.0,9,-999.000,9, -999.00,9,  -999.0,9,  -999.0,   6.8678
35MF62JADE_1,       IR06,      39,          1,         10,2,19890824,       0000,     -11.17,     122.47,       1874,  1614.9,   3.1150,  34.6900,2,  34.6910,2,   126.9,2, -999.00,9, -999.00,9, -999.00,9,-999.000,9,  2318.0,2,  2401.0,2,-999.000,9, -999.00,9,  -999.0,9,  -999.0,   2.9957
35MF62JADE_1,       IR06,      39,          1,         11,2,19890824,       0000,     -11.17,     122.47,       1874,  1717.5,   2.7960,  34.7060,2,  34.7040,2,   134.2,2, -999.00,9, -999.00,9, -999.00,9,-999.000,9,  2309.0,2,  2399.0,2,-999.000,9, -999.00,9,  -999.0,9,  -999.0,   2.6720
35MF62JADE_1,       IR06,      39,          1,         12,2,19890824,       0000,     -11.17,     122.47,       1874,  1864.1,   2.5180,  34.7170,2,  34.7160,2,   141.5,2, -999.00,9, -999.00,9, -999.00,9,-999.000,9,  2316.0,2,  2405.0,2,-999.000,9, -999.00,9,  -999.0,9,  -999.0,   2.3852
35MF62JADE_1,       IR06,      40,          1,          1,2,19890824,       0000,     -11.01,     122.01,       1377,     3.1,  26.2250,  33.9700,2,  33.9690,2,  -999.0,9, -999.00,9, -999.00,9, -999.00,9,   1.630,2,  -999.0,9,  -999.0,9,-999.000,9, -999.00,9,  -999.0,9,  -999.0,  26.2243
35MF62JADE_1,       IR06,      40,          1,          2,2,19890824,       0000,     -11.01,     122.01,       1377,    11.5,  26.2310,  33.9690,2,  33.9690,2,  -999.0,9, -999.00,9, -999.00,9, -999.00,9,   1.420,2,  -999.0,9,  -999.0,9,-999.000,9, -999.00,9,  -999.0,9,  -999.0,  26.2284
35MF62JADE_1,       IR06,      40,          1,          3,2,19890824,       0000,     -11.01,     122.01,       1377,    20.9,  26.2330,  33.9680,2,  33.9690,2,  -999.0,9, -999.00,9, -999.00,9, -999.00,9,   1.490,2,  -999.0,9,  -999.0,9,-999.000,9, -999.00,9,  -999.0,9,  -999.0,  26.2283
35MF62JADE_1,       IR06,      40,          1,          4,2,19890824,       0000,     -11.01,     122.01,       1377,    31.3,  26.2350,  33.9710,2,  33.9710,2,  -999.0,9, -999.00,9, -999.00,9, -999.00,9,   1.460,2,  -999.0,9,  -999.0,9,-999.000,9, -999.00,9,  -999.0,9,  -999.0,  26.2280
35MF62JADE_1,       IR06,      40,          1,          5,2,19890824,       0000,     -11.01,     122.01,       1377,    40.8,  26.2730,  33.9900,2,  34.0100,2,  -999.0,9, -999.00,9, -999.00,9, -999.00,9,   1.440,2,  -999.0,9,  -999.0,9,-999.000,9, -999.00,9,  -999.0,9,  -999.0,  26.2639
35MF62JADE_1,       IR06,      40,          1,          6,2,19890824,       0000,     -11.01,     122.01,       1377,    50.7,  27.0350,  34.4750,2,  34.4580,2,  -999.0,9, -999.00,9, -999.00,9, -999.00,9,   1.370,2,  -999.0,9,  -999.0,9,-999.000,9, -999.00,9,  -999.0,9,  -999.0,  27.0234
35MF62JADE_1,       IR06,      40,          1,          7,2,19890824,       0000,     -11.01,     122.01,       1377,   100.8,  23.5910,  34.4420,2,  34.4480,2,  -999.0,9, -999.00,9, -999.00,9, -999.00,9,   1.190,2,  -999.0,9,  -999.0,9,-999.000,9, -999.00,9,  -999.0,9,  -999.0,  23.5701
35MF62JADE_1,       IR06,      40,          1,          8,2,19890824,       0000,     -11.01,     122.01,       1377,   126.3,  19.6690,  34.5020,2,  34.5000,2,  -999.0,9, -999.00,9, -999.00,9, -999.00,9,   1.000,2,  -999.0,9,  -999.0,9,-999.000,9, -999.00,9,  -999.0,9,  -999.0,  19.6460
35MF62JADE_1,       IR06,      40,          1,          9,2,19890824,       0000,     -11.01,     122.01,       1377,   201.5,  14.7290,  34.5530,2,  34.5530,2,  -999.0,9, -999.00,9, -999.00,9, -999.00,9,   0.780,2,  -999.0,9,  -999.0,9,-999.000,9, -999.00,9,  -999.0,9,  -999.0,  14.6990
35MF62JADE_1,       IR06,      40,          1,         10,2,19890824,       0000,     -11.01,     122.01,       1377,   403.6,   8.8710,  34.5580,2,  34.5560,2,  -999.0,9, -999.00,9, -999.00,9, -999.00,9,   0.190,2,  -999.0,9,  -999.0,9,-999.000,9, -999.00,9,  -999.0,9,  -999.0,   8.8273
35MF62JADE_1,       IR06,      40,          1,         11,2,19890824,       0000,     -11.01,     122.01,       1377,   605.4,   6.1340,  34.5790,2,  34.5810,2,  -999.0,9, -999.00,9, -999.00,9, -999.00,9,   0.000,2,  -999.0,9,  -999.0,9,-999.000,9, -999.00,9,  -999.0,9,  -999.0,   6.0800
35MF62JADE_1,       IR06,      40,          1,         12,2,19890824,       0000,     -11.01,     122.01,       1377,  1366.9,   3.7250,  34.6420,2,  34.6410,2,  -999.0,9, -999.00,9, -999.00,9, -999.00,9,-999.000,9,  2293.0,2,  2388.0,2,-999.000,9, -999.00,9,  -999.0,9,  -999.0,   3.6204
35MF62JADE_1,       IR06,      41,          1,          1,2,19890828,       0000,      -9.26,     105.28,       6254,     3.1,  26.6470,  34.0990,2,  34.0980,2,   202.8,2,    7.60,2,    0.30,2,    0.18,2,   1.520,2,  1917.0,2,  2243.0,2,-999.000,9, -999.00,9,  -999.0,9,  -999.0,  26.6463
35MF62JADE_1,       IR06,      41,          1,          2,2,19890828,       0000,      -9.26,     105.28,       6254,    48.1,  26.6400,  34.0970,2,  34.0970,2,   202.0,2, -999.00,9,    0.30,2,    0.19,2,   1.550,2,  1915.0,2,  2242.0,2,-999.000,9, -999.00,9,  -999.0,9,  -999.0,  26.6291
35MF62JADE_1,       IR06,      41,          1,          3,2,19890828,       0000,      -9.26,     105.28,       6254,    69.9,  26.3170,  34.1360,2,  34.1600,2,   184.6,2,    9.70,2,    1.70,2,    0.35,2,   1.450,2,  1940.0,2,  2248.0,2,-999.000,9, -999.00,9,  -999.0,9,  -999.0,  26.3013
35MF62JADE_1,       IR06,      41,          1,          4,2,19890828,       0000,      -9.26,     105.28,       6254,   101.3,  21.6800,  34.3710,2,  34.3570,2,   133.3,2,   17.40,2,    9.10,2,    0.93,2,   1.170,2,  2036.0,2,  2266.0,2,-999.000,9, -999.00,9,  -999.0,9,  -999.0,  21.6603
35MF62JADE_1,       IR06,      41,          1,          5,2,19890828,       0000,      -9.26,     105.28,       6254,   149.2,  15.8890,  34.5430,2,  34.5400,2,   121.0,2,   26.60,2,   18.70,2,    1.38,2,   0.940,2,  2114.0,2,  2293.0,2,-999.000,9, -999.00,9,  -999.0,9,  -999.0,  15.8656
35MF62JADE_1,       IR06,      41,          1,          6,2,19890828,       0000,      -9.26,     105.28,       6254,   201.1,  13.2840,  34.5670,2,  34.5680,2,   109.8,2,   33.50,2,   21.60,2,    1.66,2,-999.000,9,  2151.0,2,  2304.0,2,-999.000,9, -999.00,9,  -999.0,9,  -999.0,  13.2560
35MF62JADE_1,       IR06,      41,          1,          7,2,19890828,       0000,      -9.26,     105.28,       6254,   300.1,  10.7820,  34.6450,2,  34.6420,2,    91.8,2,   40.00,2,   27.00,2,    1.98,2,   0.480,2,  2201.0,2,  2316.0,2,-999.000,9, -999.00,9,  -999.0,9,  -999.0,  10.7454
35MF62JADE_1,       IR06,      41,          1,          8,2,19890828,       0000,      -9.26,     105.28,       6254,   401.1,   9.7720,  34.7950,2,  34.7940,2,    77.8,2,   38.90,2,   28.70,2,    2.18,2,   0.170,2,  2231.0,2,  2320.0,2,-999.000,9, -999.00,9,  -999.0,9,  -999.0,   9.7258
35MF62JADE_1,       IR06,      41,          1,          9,2,19890828,       0000,      -9.26,     105.28,       6254,   502.3,   8.8860,  34.7730,2,  34.7680,2,    77.5,2,   45.50,2,   33.10,2,    2.30,2,   0.130,2,  2241.0,2,  2325.0,2,-999.000,9, -999.00,9,  -999.0,9,  -999.0,   8.8310
35MF62JADE_1,       IR06,      41,          1,         10,2,19890828,       0000,      -9.26,     105.28,       6254,   602.3,   7.9110,  34.7100,2,  34.7100,2,    79.5,2,   57.20,2,   30.80,2,    2.42,2,-999.000,9,  2254.0,2,  2335.0,2,-999.000,9, -999.00,9,  -999.0,9,  -999.0,   7.8491
35MF62JADE_1,       IR06,      41,          1,         11,2,19890828,       0000,      -9.26,     105.28,       6254,  2224.3,   2.2650,  34.7350,2,  34.7360,2,   151.4,2,  113.70,2,   31.70,3,    2.45,2,   0.080,2,  2312.0,2,  2403.0,2,-999.000,9, -999.00,9,  -999.0,9,  -999.0,   2.1045
35MF62JADE_1,       IR06,      41,          1,         12,2,19890828,       0000,      -9.26,     105.28,       6254,  2224.3,   2.2650,  34.7350,2,  34.7360,2,  -999.0,9,  113.80,2,   31.90,3,    2.41,2,-999.000,9,  -999.0,9,  -999.0,9,-999.000,9, -999.00,9,  -999.0,9,  -999.0,   2.1045
35MF62JADE_1,       IR06,      42,          1,          1,2,19890828,       0000,      -8.35,     105.16,       2856,     2.2,  27.2020,  33.8450,2,  33.8490,2,   205.4,2,    6.20,2,    0.20,2,    0.16,2,   1.390,2,  -999.0,9,  -999.0,9,-999.000,9, -999.00,9,  -999.0,9,  -999.0,  27.2015
35MF62JADE_1,       IR06,      42,          1,          2,2,19890828,       0000,      -8.35,     105.16,       2856,     2.2,  27.2020,  33.8450,2,  33.8490,2,  -999.0,9, -999.00,9, -999.00,9, -999.00,9,-999.000,9,  -999.0,9,  -999.0,9,-999.000,9, -999.00,9,  -999.0,9,  -999.0,  27.2015
35MF62JADE_1,       IR06,      42,          1,          3,2,19890828,       0000,      -8.35,     105.16,       2856,    29.9,  26.2810,  34.2540,2,  34.2530,2,   203.4,2,    8.30,2,    1.00,2,    0.24,2,   1.510,2,  1934.0,2,  2255.0,2,-999.000,9, -999.00,9,  -999.0,9,  -999.0,  26.2743
35MF62JADE_1,       IR06,      42,          1,          4,2,19890828,       0000,      -8.35,     105.16,       2856,    49.1,  25.9430,  34.2200,2,  34.2190,2,   189.1,2,    9.90,2,    2.50,2,    0.34,2,   1.450,2,  1944.0,2,  2252.0,2,-999.000,9, -999.00,9,  -999.0,9,  -999.0,  25.9321
35MF62JADE_1,       IR06,      42,          1,          5,2,19890828,       0000,      -8.35,     105.16,       2856,    69.8,  22.7800,  34.2980,2,  34.2980,2,   142.5,2,   16.10,2,   10.20,2,    0.79,2,   1.280,2,  2020.0,2,  2260.0,2,-999.000,9, -999.00,9,  -999.0,9,  -999.0,  22.7659
35MF62JADE_1,       IR06,      42,          1,          6,2,19890828,       0000,      -8.35,     105.16,       2856,    99.8,  20.8220,  34.4430,2,  34.4130,2,   130.7,2,   18.70,2,   13.40,2,    0.98,2,   1.180,2,  2052.0,2,  2270.0,2,-999.000,9, -999.00,9,  -999.0,9,  -999.0,  20.8031
35MF62JADE_1,       IR06,      42,          1,          7,2,19890828,       0000,      -8.35,     105.16,       2856,   151.0,  14.8310,  34.5630,2,  34.5620,2,   113.3,2,   30.10,2,   21.10,2,    1.51,2,   0.830,2,  2137.0,2,  2293.0,2,-999.000,9, -999.00,9,  -999.0,9,  -999.0,  14.8084
35MF62JADE_1,       IR06,      42,          1,          8,2,19890828,       0000,      -8.35,     105.16,       2856,   200.0,  12.4370,  34.5690,2,  34.5680,2,   105.1,2,   35.70,2,   24.80,2,    1.79,2,   0.600,2,  2170.0,2,  2304.0,2,-999.000,9, -999.00,9,  -999.0,9,  -999.0,  12.4104
35MF62JADE_1,       IR06,      42,          1,          9,2,19890828,       0000,      -8.35,     105.16,       2856,   299.8,  10.3850,  34.6680,2,  34.6670,2,    87.0,2,   41.80,2,   28.10,2,    2.13,2,   0.310,2,  2211.0,2,  2314.0,2,-999.000,9, -999.00,9,  -999.0,9,  -999.0,  10.3493
35MF62JADE_1,       IR06,      42,          1,         10,2,19890828,       0000,      -8.35,     105.16,       2856,   401.3,   9.6940,  34.8030,2,  34.8060,2,    78.1,2,   47.80,2,   32.50,2,    2.25,2,   0.100,2,  2227.0,2,  2320.0,2,-999.000,9, -999.00,9,  -999.0,9,  -999.0,   9.6480
35MF62JADE_1,       IR06,      42,          1,         11,2,19890828,       0000,      -8.35,     105.16,       2856,   503.8,   8.5740,  34.7650,2,  34.7660,2,    75.1,2,   59.50,2,   35.10,2,    2.38,2,   0.030,2,  2247.0,2,  2327.0,2,-999.000,9, -999.00,9,  -999.0,9,  -999.0,   8.5200
35MF62JADE_1,       IR06,      42,          1,         12,2,19890828,       0000,      -8.35,     105.16,       2856,   605.0,   7.7150,  34.7260,2,  34.7250,2,    75.6,2,   60.70,2,   35.70,2,    2.49,2,   0.000,2,  2262.0,2,  2339.0,2,-999.000,9, -999.00,9,  -999.0,9,  -999.0,   7.6537
35MF62JADE_1,       IR06,      42,          1,         13,2,19890828,       0000,      -8.35,     105.16,       2856,  2224.8,   2.2340,  34.7390,2,  34.7380,2,   150.3,2,  117.40,2,   36.50,2,    2.47,2,   0.050,2,  2307.0,2,  2404.0,2,-999.000,9, -999.00,9,  -999.0,9,  -999.0,   2.0740
35MF62JADE_1,       IR06,      43,          1,          1,2,19890829,       0000,      -7.55,     105.09,       2238,     2.6,  27.1680,  33.5530,2,  33.5560,2,   206.4,2,    6.70,2,    0.20,2,    0.10,2,   1.580,2,  1884.0,2,  2209.0,2,-999.000,9, -999.00,9,  -999.0,9,  -999.0,  27.1674
35MF62JADE_1,       IR06,      43,          1,          2,2,19890829,       0000,      -7.55,     105.09,       2238,    31.8,  27.0330,  33.6510,2,  33.6600,2,   206.3,2,    7.60,2,    0.20,2,    0.12,2,   1.560,2,  1884.0,2,  2217.0,2,-999.000,9, -999.00,9,  -999.0,9,  -999.0,  27.0257
35MF62JADE_1,       IR06,      43,          1,          3,2,19890829,       0000,      -7.55,     105.09,       2238,    51.8,  26.2430,  34.3190,2,  34.3170,2,   204.1,2,    7.90,2,    0.30,2,    0.22,2,   1.530,2,  1931.0,2,  2260.0,2,-999.000,9, -999.00,9,  -999.0,9,  -999.0,  26.2314
35MF62JADE_1,       IR06,      43,          1,          4,2,19890829,       0000,      -7.55,     105.09,       2238,    68.3,  25.1550,  34.2790,2,  34.2830,2,   170.0,2,   10.50,2,    4.70,2,    0.48,2,   1.410,2,  1971.0,2,  2255.0,2,-999.000,9, -999.00,9,  -999.0,9,  -999.0,  25.1402
35MF62JADE_1,       IR06,      43,          1,          5,2,19890829,       0000,      -7.55,     105.09,       2238,   101.3,  20.3350,  34.4130,2,  34.4360,2,   125.1,2,   20.70,2,   13.40,2,    1.02,2,   1.110,2,  2061.0,2,  2276.0,2,-999.000,9, -999.00,9,  -999.0,9,  -999.0,  20.3161
35MF62JADE_1,       IR06,      43,          1,          6,2,19890829,       0000,      -7.55,     105.09,       2238,   150.5,  15.7090,  34.7430,2,  34.7340,2,    92.0,2,   28.00,2,   21.70,2,    1.57,2,   0.770,2,  2146.0,2,  2300.0,2,-999.000,9, -999.00,9,  -999.0,9,  -999.0,  15.6856
35MF62JADE_1,       IR06,      43,          1,          7,2,19890829,       0000,      -7.55,     105.09,       2238,   202.3,  11.8960,  34.6670,2,  34.6480,2,    96.5,2,   37.90,2,   26.10,2,    1.83,2,   0.720,2,  2189.0,2,  2308.0,2,-999.000,9, -999.00,9,  -999.0,9,  -999.0,  11.8698
35MF62JADE_1,       IR06,      43,          1,          8,2,19890829,       0000,      -7.55,     105.09,       2238,   302.3,  10.3800,  34.7720,2,  34.7710,2,    77.0,2,   40.30,2,   30.30,2,    2.06,2,   0.240,2,  2223.0,2,  2316.0,2,-999.000,9, -999.00,9,  -999.0,9,  -999.0,  10.3440
35MF62JADE_1,       IR06,      43,          1,          9,2,19890829,       0000,      -7.55,     105.09,       2238,   402.2,   9.5390,  34.8090,2,  34.8070,2,    75.3,2,   47.10,2,   31.90,2,    2.16,2,   0.100,2,  -999.0,9,  2322.0,2,-999.000,9, -999.00,9,  -999.0,9,  -999.0,   9.4933
35MF62JADE_1,       IR06,      43,          1,         10,2,19890829,       0000,      -7.55,     105.09,       2238,   504.9,   8.7820,  34.7870,2,  34.7860,2,    74.2,2,   57.40,2,   33.20,2,    2.29,2,   0.050,2,  2244.0,2,  2327.0,2,-999.000,9, -999.00,9,  -999.0,9,  -999.0,   8.7271
35MF62JADE_1,       IR06,      43,          1,         11,2,19890829,       0000,      -7.55,     105.09,       2238,   604.8,   7.9620,  34.7640,2,  34.7670,2,    70.6,2,   59.20,2,   35.10,2,    2.54,2,-999.000,9,  2259.0,2,  2336.0,2,-999.000,9, -999.00,9,  -999.0,9,  -999.0,   7.8996
35MF62JADE_1,       IR06,      43,          1,         12,2,19890829,       0000,      -7.55,     105.09,       2238,  2227.5,   2.1840,  34.7370,2,  34.7380,2,   152.6,2,  122.20,2,   35.20,2,    2.49,2,   0.000,2,  2311.0,2,  2407.0,2,-999.000,9, -999.00,9,  -999.0,9,  -999.0,   2.0246
35MF62JADE_1,       IR06,      43,          1,         13,2,19890829,       0000,      -7.55,     105.09,       2238,  2227.5,   2.1840,  34.7370,2,  34.7360,2,  -999.0,9,  122.60,2,   35.10,2,    2.45,2,-999.000,9,  -999.0,9,  -999.0,9,-999.000,9, -999.00,9,  -999.0,9,  -999.0,   2.0246