BOTTLE,20221003CCHSIOAMB
EXPOCODE,SECT_ID,STNNBR,CASTNO,BTLNBR,BTLNBR_FLAG_W,DATE,TIME,LATITUDE,LONGITUDE,DEPTH,CTDPRS,CTDTMP,CTDSAL,CTDSAL_FLAG_W,SALNTY,SALNTY_FLAG_W,OXYGEN,OXYGEN_FLAG_W,SILCAT,SILCAT_FLAG_W,NITRAT,NITRAT_FLAG_W,PHSPHT,PHSPHT_FLAG_W,CFC-11,CFC-11_FLAG_W,TCARBN,TCARBN_FLAG_W,ALKALI,ALKALI_FLAG_W,TRITUM,TRITUM_FLAG_W,DELHE3,DELHE3_FLAG_W,DELC14,DELC14_FLAG_W,C14ERR,THETA
,,,,,,,,,,METERS,DBAR,ITS-90,PSS-78,,PSS-78,,UMOL/KG,,UMOL/KG,,UMOL/KG,,UMOL/KG,,PMOL/KG,,UMOL/KG,,UMOL/KG,,TU,,PERCNT,,/MILLE,,/MILLE,DEG C
35MF62JADE_1,       IR06,      14,          2,          1,2,19890813,       0000,     -10.34,     115.41,       4175,     2.4,  27.1690,  33.9290,2,  33.9320,2,  -999.0,9,    5.90,2,    0.10,2,    0.04,2,-999.000,9,  1902.0,2,  2240.0,2,-999.000,9, -999.00,9,  -999.0,9,  -999.0,  27.1684
35MF62JADE_1,       IR06,      14,          2,          2,2,19890813,       0000,     -10.34,     115.41,       4175,    29.7,  27.1820,  33.9280,2,  33.9300,2,   202.3,2,    7.50,2,    0.10,2,    0.11,2,   1.500,2,  1911.0,2,  2231.0,2,-999.000,9, -999.00,9,  -999.0,9,  -999.0,  27.1752
35MF62JADE_1,       IR06,      14,          2,          3,2,19890813,       0000,     -10.34,     115.41,       4175,    48.3,  27.1780,  33.9280,2,  33.9420,2,   201.9,2,    7.80,2,    0.10,2,    0.11,2,-999.000,9,  1919.0,2,  2233.0,2,-999.000,9, -999.00,9,  -999.0,9,  -999.0,  27.1669
35MF62JADE_1,       IR06,      14,          2,          4,2,19890813,       0000,     -10.34,     115.41,       4175,    69.4,  24.6450,  34.1600,2,  34.1810,2,   135.9,2,   13.90,2,    5.90,2,    0.68,2,   1.240,2,  2008.0,2,  2249.0,2,-999.000,9, -999.00,9,  -999.0,9,  -999.0,  24.6302
35MF62JADE_1,       IR06,      14,          2,          5,2,19890813,       0000,     -10.34,     115.41,       4175,   101.9,  21.4740,  34.4290,2,  34.4250,2,   127.4,2,   18.80,2,   10.80,2,    0.93,2,   1.150,2,  2071.0,2,  2269.0,2,-999.000,9, -999.00,9,  -999.0,9,  -999.0,  21.4543
35MF62JADE_1,       IR06,      14,          2,          6,2,19890813,       0000,     -10.34,     115.41,       4175,   127.0,  19.1180,  34.3550,2,  34.3590,2,   134.1,2,   22.10,2,   14.20,2,    1.04,2,   1.000,2,  2082.0,2,  2276.0,2,-999.000,9, -999.00,9,  -999.0,9,  -999.0,  19.0954
35MF62JADE_1,       IR06,      14,          2,          7,2,19890813,       0000,     -10.34,     115.41,       4175,   152.5,  16.2220,  34.4760,2,  34.4750,2,   124.7,2,   27.00,2,   16.70,2,    1.29,2,   0.920,2,  2127.0,2,  2287.0,2,-999.000,9, -999.00,9,  -999.0,9,  -999.0,  16.1978
35MF62JADE_1,       IR06,      14,          2,          8,2,19890813,       0000,     -10.34,     115.41,       4175,   200.6,  14.3240,  34.5070,2,  34.5060,2,   117.3,2,   32.00,2,   20.40,2,    1.49,2,   0.640,2,  2154.0,2,  2300.0,2,-999.000,9, -999.00,9,  -999.0,9,  -999.0,  14.2947
35MF62JADE_1,       IR06,      14,          2,          9,2,19890813,       0000,     -10.34,     115.41,       4175,   302.2,  11.3340,  34.5520,2,  34.5580,2,   102.7,2,   40.20,2,   25.70,2,    1.83,2,   0.270,2,  2200.0,2,  2314.0,2,-999.000,9, -999.00,9,  -999.0,9,  -999.0,  11.2960
35MF62JADE_1,       IR06,      14,          2,         10,2,19890813,       0000,     -10.34,     115.41,       4175,   401.0,   9.6860,  34.6750,2,  34.6730,2,  -999.0,9,   44.80,2,   29.60,2, -999.00,9,   0.180,2,  -999.0,9,  -999.0,9,-999.000,9, -999.00,9,  -999.0,9,  -999.0,   9.6401
35MF62JADE_1,       IR06,      14,          2,         11,2,19890813,       0000,     -10.34,     115.41,       4175,   503.3,   8.4530,  34.6500,2,  34.6510,2,    88.2,2,   53.10,2,   31.90,2,    2.08,2,   0.100,2,  2257.0,2,  2333.0,2,-999.000,9, -999.00,9,  -999.0,9,  -999.0,   8.3996
35MF62JADE_1,       IR06,      14,          2,         12,2,19890813,       0000,     -10.34,     115.41,       4175,   608.2,   7.2480,  34.6060,2,  34.6060,2,    88.1,2,   68.00,2,   33.30,2,    2.25,2,   0.100,2,  2273.0,2,  2350.0,2,-999.000,9, -999.00,9,  -999.0,9,  -999.0,   7.1886
35MF62JADE_1,       IR06,      14,          2,         13,2,19890813,       0000,     -10.34,     115.41,       4175,   608.2,   7.2480,  34.6060,2,  34.6060,2,  -999.0,9, -999.00,9, -999.00,9, -999.00,9,-999.000,9,  -999.0,9,  -999.0,9,-999.000,9, -999.00,9,  -999.0,9,  -999.0,   7.1886
35MF62JADE_1,       IR06,      14,          1,         14,2,19890813,       0000,     -10.34,     115.41,       4175,   704.8,   6.7500,  34.6420,2,  34.6400,2,    86.7,2,   72.60,2,   34.60,2,    2.40,2,-999.000,9,  2286.0,2,  2356.0,2,-999.000,9, -999.00,9,  -999.0,9,  -999.0,   6.6833
35MF62JADE_1,       IR06,      14,          1,         15,2,19890813,       0000,     -10.34,     115.41,       4175,   803.7,   6.1430,  34.6240,2,  34.6220,2,    88.1,2,   80.10,2,   34.90,2,    2.39,2,   0.000,2,  2299.0,2,  2367.0,2,-999.000,9, -999.00,9,  -999.0,9,  -999.0,   6.0700
35MF62JADE_1,       IR06,      14,          1,         16,2,19890813,       0000,     -10.34,     115.41,       4175,   905.4,   5.3950,  34.5940,2,  34.5950,2,    97.5,2,   89.60,2,   35.20,2,    2.51,2,   0.060,2,  2311.0,2,  2375.0,2,-999.000,9, -999.00,9,  -999.0,9,  -999.0,   5.3173
35MF62JADE_1,       IR06,      14,          1,         17,2,19890813,       0000,     -10.34,     115.41,       4175,  1006.9,   4.8870,  34.5960,2,  34.5990,2,    97.9,2,   94.10,2,   35.40,2,    2.55,2,   0.020,2,  2313.0,2,  2383.0,2,-999.000,9, -999.00,9,  -999.0,9,  -999.0,   4.8038
35MF62JADE_1,       IR06,      14,          1,         18,2,19890813,       0000,     -10.34,     115.41,       4175,  1108.4,   4.5600,  34.6060,2,  34.6050,2,   100.8,2,  100.60,2,   35.60,2,    2.59,2,   0.020,2,  2319.0,2,  2391.0,2,-999.000,9, -999.00,9,  -999.0,9,  -999.0,   4.4703
35MF62JADE_1,       IR06,      14,          1,         19,2,19890813,       0000,     -10.34,     115.41,       4175,  1210.3,   4.2050,  34.6140,2,  34.6120,2,   103.2,2,  105.50,2,   36.50,2,    2.59,2,-999.000,9,  2332.0,2,  2396.0,2,-999.000,9, -999.00,9,  -999.0,9,  -999.0,   4.1094
35MF62JADE_1,       IR06,      14,          1,         20,2,19890813,       0000,     -10.34,     115.41,       4175,  1290.2,   3.9310,  34.6340,2,  34.6280,2,   107.2,2,  107.40,2,   36.50,2,    2.57,2,-999.000,9,  2326.0,2,  2401.0,2,-999.000,9, -999.00,9,  -999.0,9,  -999.0,   3.8310
35MF62JADE_1,       IR06,      14,          1,         21,2,19890813,       0000,     -10.34,     115.41,       4175,  1463.4,   3.4500,  34.6760,2,  34.6720,2,   116.1,2,  109.50,2,   36.20,2,    2.57,2,-999.000,9,  2333.0,2,  2399.0,2,-999.000,9, -999.00,9,  -999.0,9,  -999.0,   3.3399
35MF62JADE_1,       IR06,      14,          1,         22,2,19890813,       0000,     -10.34,     115.41,       4175,  1612.9,   3.1920,  34.6940,2,  34.6880,2,   122.6,2,  112.10,2,   36.10,2,    2.54,2,-999.000,9,  2336.0,2,  2404.0,2,-999.000,9, -999.00,9,  -999.0,9,  -999.0,   3.0720
35MF62JADE_1,       IR06,      14,          1,         23,2,19890813,       0000,     -10.34,     115.41,       4175,  1815.7,   2.7710,  34.7150,2,  34.7130,2,   133.2,2,  116.00,2,   36.20,2,    2.53,2,-999.000,9,  -999.0,9,  -999.0,9,-999.000,9, -999.00,9,  -999.0,9,  -999.0,   2.6388
35MF62JADE_1,       IR06,      14,          1,         24,2,19890813,       0000,     -10.34,     115.41,       4175,  2019.5,   2.5500,  34.7200,2,  34.7190,2,   139.3,2,  116.80,2,   35.80,2,    2.51,2,-999.000,9,  2327.0,2,  2411.0,2,-999.000,9, -999.00,9,  -999.0,9,  -999.0,   2.4032
35MF62JADE_1,       IR06,      14,          1,         25,2,19890813,       0000,     -10.34,     115.41,       4175,  2213.3,   2.2260,  34.7250,2,  34.7230,2,   148.6,2,  120.70,2,   35.00,2,    2.44,2,-999.000,9,  2333.0,2,  2411.0,2,-999.000,9, -999.00,9,  -999.0,9,  -999.0,   2.0672
35MF62JADE_1,       IR06,      15,          2,          1,2,19890813,       0000,     -10.13,     115.37,       4175,     3.6,  27.4480,  33.9570,2,  33.9570,2,   204.5,2,    7.80,2,    0.20,2,    0.13,2,   1.510,2,  1908.0,2,  2240.0,2,-999.000,9, -999.00,9,  -999.0,9,  -999.0,  27.4472
35MF62JADE_1,       IR06,      15,          2,          2,2,19890813,       0000,     -10.13,     115.37,       4175,    30.4,  27.3750,  33.9530,2,  33.9540,2,   205.0,2,    9.90,2,    0.10,2,    0.12,2,   1.660,2,  1908.0,2,  2239.0,2,-999.000,9, -999.00,9,  -999.0,9,  -999.0,  27.3680
35MF62JADE_1,       IR06,      15,          2,          3,2,19890813,       0000,     -10.13,     115.37,       4175,    48.1,  26.9100,  34.1080,2,  34.0980,2,   180.0,2,   12.10,2,    1.70,2,    0.27,2,   1.490,2,  1949.0,2,  2244.0,2,-999.000,9, -999.00,9,  -999.0,9,  -999.0,  26.8990
35MF62JADE_1,       IR06,      15,          2,          4,2,19890813,       0000,     -10.13,     115.37,       4175,    69.6,  24.4260,  34.2490,2,  34.2370,2,   144.1,2,   14.90,2,    7.70,2,    0.64,2,   1.300,2,  2018.0,2,  2256.0,2,-999.000,9, -999.00,9,  -999.0,9,  -999.0,  24.4112
35MF62JADE_1,       IR06,      15,          2,          5,2,19890813,       0000,     -10.13,     115.37,       4175,   100.1,  20.8500,  34.2990,2,  34.2660,2,   139.3,2,   19.60,2,   11.30,2,    0.85,2,   1.180,2,  2042.0,2,  2264.0,2,-999.000,9, -999.00,9,  -999.0,9,  -999.0,  20.8310
35MF62JADE_1,       IR06,      15,          2,          6,2,19890813,       0000,     -10.13,     115.37,       4175,   126.2,  17.0890,  34.3910,2,  34.4430,2,   127.1,2,   27.40,2,   16.30,2,    1.23,2,   1.010,2,  2113.0,2,  2284.0,2,-999.000,9, -999.00,9,  -999.0,9,  -999.0,  17.0682
35MF62JADE_1,       IR06,      15,          2,          7,2,19890813,       0000,     -10.13,     115.37,       4175,   150.8,  14.7170,  34.4670,2,  34.4650,2,   123.0,2,   32.20,2,   19.30,2,    1.42,2,   0.790,2,  2147.0,2,  2296.0,2,-999.000,9, -999.00,9,  -999.0,9,  -999.0,  14.6946
35MF62JADE_1,       IR06,      15,          2,          8,2,19890813,       0000,     -10.13,     115.37,       4175,   197.2,  13.3090,  34.5220,2,  34.5260,2,   114.3,2,   35.00,2,   22.20,2,    1.57,2,   0.650,2,  2167.0,2,  2309.0,2,-999.000,9, -999.00,9,  -999.0,9,  -999.0,  13.2816
35MF62JADE_1,       IR06,      15,          2,          9,2,19890813,       0000,     -10.13,     115.37,       4175,   302.2,  10.6670,  34.5930,2,  34.5790,2,   100.4,2,   43.00,2,   27.10,2,    1.90,2,   0.420,2,  2211.0,2,  2315.0,2,-999.000,9, -999.00,9,  -999.0,9,  -999.0,  10.6305
35MF62JADE_1,       IR06,      15,          2,         10,2,19890813,       0000,     -10.13,     115.37,       4175,   401.4,   9.3680,  34.7320,2,  34.7340,2,    81.7,2,   45.30,2,   31.60,2,    2.12,2,   0.070,2,  2255.0,2,  2326.0,2,-999.000,9, -999.00,9,  -999.0,9,  -999.0,   9.3229
35MF62JADE_1,       IR06,      15,          2,         11,2,19890813,       0000,     -10.13,     115.37,       4175,   502.5,   7.8260,  34.6260,2,  34.6240,2,    90.3,2,   62.40,2,   33.30,2,    2.33,2,   0.050,2,  2271.0,2,  2338.0,2,-999.000,9, -999.00,9,  -999.0,9,  -999.0,   7.7751
35MF62JADE_1,       IR06,      15,          2,         12,2,19890813,       0000,     -10.13,     115.37,       4175,   605.9,   6.8150,  34.5830,2,  34.5830,2,    92.4,2,   74.70,2,   34.50,2,    2.43,2,   0.050,2,  2283.0,2,  2355.0,2,-999.000,9, -999.00,9,  -999.0,9,  -999.0,   6.7578
35MF62JADE_1,       IR06,      15,          1,         13,2,19890813,       0000,     -10.13,     115.37,       4175,   690.5,   6.2930,  34.5870,2,  34.5840,2,    94.0,2,   77.90,2,   34.70,2,    2.48,2,-999.000,9,  2287.0,2,  2362.0,2,-999.000,9, -999.00,9,  -999.0,9,  -999.0,   6.2301
35MF62JADE_1,       IR06,      15,          1,         14,2,19890813,       0000,     -10.13,     115.37,       4175,   801.4,   5.7700,  34.5870,2,  34.5890,2,    96.0,2,   86.40,2,   35.30,2,    2.55,2,   0.050,2,  2292.0,2,  2370.0,2,-999.000,9, -999.00,9,  -999.0,9,  -999.0,   5.6996
35MF62JADE_1,       IR06,      15,          1,         15,2,19890813,       0000,     -10.13,     115.37,       4175,   903.5,   5.2910,  34.5960,2,  34.5960,2,    97.6,2,   92.80,2,   36.00,2,    2.54,2,   0.000,2,  2321.0,2,  2377.0,2,-999.000,9, -999.00,9,  -999.0,9,  -999.0,   5.2142
35MF62JADE_1,       IR06,      15,          1,         16,2,19890813,       0000,     -10.13,     115.37,       4175,  1004.8,   4.8050,  34.6000,2,  34.6000,2,    99.2,2,   96.20,2,   35.90,2,    2.57,2,-999.000,9,  2312.0,2,  2385.0,2,-999.000,9, -999.00,9,  -999.0,9,  -999.0,   4.7226
35MF62JADE_1,       IR06,      15,          1,         17,2,19890813,       0000,     -10.13,     115.37,       4175,  1106.9,   4.4620,  34.6070,2,  34.6090,2,   101.3,2,  103.90,2,   36.60,2,    2.60,2,   0.000,2,  2330.0,2,  2391.0,2,-999.000,9, -999.00,9,  -999.0,9,  -999.0,   4.3732
35MF62JADE_1,       IR06,      15,          1,         18,2,19890813,       0000,     -10.13,     115.37,       4175,  1210.6,   4.1100,  34.6210,2,  34.6210,2,   104.6,2,  107.30,2,   36.70,2,    2.60,2,-999.000,9,  2321.0,2,  2403.0,2,-999.000,9, -999.00,9,  -999.0,9,  -999.0,   4.0152
35MF62JADE_1,       IR06,      15,          1,         19,2,19890813,       0000,     -10.13,     115.37,       4175,  1314.0,   3.8130,  34.6420,2,  34.6410,2,   109.2,2,  110.70,2,   36.70,2,    2.59,2,-999.000,9,  2318.0,2,  2405.0,2,-999.000,9, -999.00,9,  -999.0,9,  -999.0,   3.7121
35MF62JADE_1,       IR06,      15,          1,         20,2,19890813,       0000,     -10.13,     115.37,       4175,  1464.5,   3.3720,  34.6800,2,  34.6800,2,   117.4,2,  113.30,2,   36.40,2,    2.55,2,-999.000,9,  2333.0,2,  2401.0,2,-999.000,9, -999.00,9,  -999.0,9,  -999.0,   3.2627
35MF62JADE_1,       IR06,      15,          1,         21,2,19890813,       0000,     -10.13,     115.37,       4175,  1614.3,   3.0360,  34.7020,2,  34.7030,2,   125.8,2,  114.20,2,   36.10,2,    2.56,2,-999.000,9,  2324.0,2,  2411.0,2,-999.000,9, -999.00,9,  -999.0,9,  -999.0,   2.9177
35MF62JADE_1,       IR06,      15,          1,         22,2,19890813,       0000,     -10.13,     115.37,       4175,  1808.3,   2.6910,  34.7160,2,  34.7190,2,   134.2,2,  116.70,2,   35.30,2,    2.52,2,-999.000,9,  2333.0,2,  2409.0,2,-999.000,9, -999.00,9,  -999.0,9,  -999.0,   2.5605
35MF62JADE_1,       IR06,      15,          1,         23,2,19890813,       0000,     -10.13,     115.37,       4175,  2016.9,   2.3970,  34.7250,2,  34.7290,2,   143.2,2,  119.40,2,   35.50,2,    2.50,2,-999.000,9,  2318.0,2,  2410.0,2,-999.000,9, -999.00,9,  -999.0,9,  -999.0,   2.2527
35MF62JADE_1,       IR06,      15,          1,         24,2,19890813,       0000,     -10.13,     115.37,       4175,  2226.4,   2.2150,  34.7270,2,  34.7300,2,   149.0,2,  120.50,2,   35.20,2,    2.43,2,-999.000,9,  2321.0,2,  2415.0,2,-999.000,9, -999.00,9,  -999.0,9,  -999.0,   2.0552
35MF62JADE_1,       IR06,      16,          3,          1,2,19890814,       0000,      -9.55,     115.31,       4315,     2.4,  26.6430,  33.8520,2,  33.8190,2,   211.0,2,    7.30,2,    0.00,2,    0.25,2,   1.410,2,  1903.0,2,  2234.0,2,   1.730,2, -999.00,9,   104.0,2,     3.0,  26.6425
35MF62JADE_1,       IR06,      16,          3,          2,2,19890814,       0000,      -9.55,     115.31,       4315,    30.1,  26.6280,  33.8420,2,  33.8570,2,  -999.0,9, -999.00,9, -999.00,9, -999.00,9,   1.470,2,  -999.0,9,  -999.0,9,   1.830,2,    1.48,2,    90.0,2,     3.0,  26.6212
35MF62JADE_1,       IR06,      16,          3,          3,2,19890814,       0000,      -9.55,     115.31,       4315,    50.1,  25.7110,  33.8440,2,  34.0470,2,   172.2,2,   12.30,2,    4.30,2,    0.41,2,   1.280,2,  1949.0,2,  2237.0,2,   1.550,2,    3.21,2,    87.0,2,     3.0,  25.7000
35MF62JADE_1,       IR06,      16,          3,          4,2,19890814,       0000,      -9.55,     115.31,       4315,    68.6,  24.9640,  34.0430,2,  34.0590,2,   152.5,2,   13.70,2,    6.90,2,    0.54,2,   1.220,2,  1985.0,2,  2244.0,2,   1.740,2, -999.00,9,    77.0,2,     3.0,  24.9492
35MF62JADE_1,       IR06,      16,          3,          5,2,19890814,       0000,      -9.55,     115.31,       4315,    68.6,  24.9640,  34.0430,2,  34.0590,2,  -999.0,9,   13.80,2,    6.80,2,    0.56,2,-999.000,9,  -999.0,9,  -999.0,9,-999.000,9, -999.00,9,  -999.0,9,  -999.0,  24.9492
35MF62JADE_1,       IR06,      16,          3,          6,2,19890814,       0000,      -9.55,     115.31,       4315,   101.2,  19.5560,  34.3030,2,  34.2940,2,   140.6,2,   24.00,2,   13.30,2,    0.97,2,   0.950,2,  2069.0,2,  2271.0,2,   1.600,2,    5.88,2,    30.0,2,     3.0,  19.5377
35MF62JADE_1,       IR06,      16,          3,          7,2,19890814,       0000,      -9.55,     115.31,       4315,   126.2,  18.2060,  34.4450,2,  34.4550,2,   126.6,2,   25.70,2,   16.60,2,    1.17,2,   0.870,2,  2092.0,2,  2294.0,2,-999.000,9, -999.00,9,  -999.0,9,  -999.0,  18.1843
35MF62JADE_1,       IR06,      16,          3,          8,2,19890814,       0000,      -9.55,     115.31,       4315,   150.5,  15.6560,  34.5410,2,  34.5480,2,   115.6,2,   29.60,2,   19.60,2,    1.37,2,   0.720,2,  -999.0,9,  -999.0,9,   1.430,2, -999.00,9,    11.0,2,     3.0,  15.6326
35MF62JADE_1,       IR06,      16,          3,          9,2,19890814,       0000,      -9.55,     115.31,       4315,   201.2,  14.0710,  34.5070,2,  34.5110,2,   118.5,2,   32.00,2,   21.20,2,    1.50,2,   0.640,2,  2151.0,2,  2304.0,2,   1.340,2,    8.56,2,     0.0,2,     3.0,  14.0419
35MF62JADE_1,       IR06,      16,          3,         10,2,19890814,       0000,      -9.55,     115.31,       4315,   303.5,  10.7220,  34.5830,2,  34.5840,2,    97.3,2,   42.80,2,   28.00,2,    1.92,2,   0.330,2,  -999.0,9,  -999.0,9,   0.960,2, -999.00,9,   -54.0,2,     3.0,  10.6852
35MF62JADE_1,       IR06,      16,          3,         11,2,19890814,       0000,      -9.55,     115.31,       4315,   404.4,   9.2730,  34.6160,2,  34.6150,2,    94.0,2,   49.60,2,   30.80,2,    2.09,2,   0.240,2,  2238.0,2,  2326.0,2,   0.650,2, -999.00,9,   -80.0,2,     3.0,   9.2279
35MF62JADE_1,       IR06,      16,          3,         12,2,19890814,       0000,      -9.55,     115.31,       4315,   505.2,   8.0810,  34.5960,2,  34.5970,2,    92.8,2,   58.90,2,   32.80,2,    2.27,2,   0.200,2,  2260.0,2,  2335.0,2,-999.000,9, -999.00,9,  -999.0,9,  -999.0,   8.0288
35MF62JADE_1,       IR06,      16,          3,         13,2,19890814,       0000,      -9.55,     115.31,       4315,   608.8,   7.3180,  34.6100,2,  34.6160,2,    89.3,2,   67.80,2,   34.90,2,    2.40,2,   0.070,2,  2273.0,2,  2348.0,2,   0.230,2, -999.00,9,  -128.0,2,     3.0,   7.2582
35MF62JADE_1,       IR06,      16,          3,         14,2,19890814,       0000,      -9.55,     115.31,       4315,   608.8,   7.3180,  34.6100,2,  34.5980,2,  -999.0,9,   67.60,2,   34.90,2,    2.41,2,-999.000,9,  -999.0,9,  -999.0,9,-999.000,9, -999.00,9,  -999.0,9,  -999.0,   7.2582