BOTTLE,20221003CCHSIOAMB
EXPOCODE,SECT_ID,STNNBR,CASTNO,BTLNBR,BTLNBR_FLAG_W,DATE,TIME,LATITUDE,LONGITUDE,DEPTH,CTDPRS,CTDTMP,CTDSAL,CTDSAL_FLAG_W,SALNTY,SALNTY_FLAG_W,OXYGEN,OXYGEN_FLAG_W,SILCAT,SILCAT_FLAG_W,NITRAT,NITRAT_FLAG_W,PHSPHT,PHSPHT_FLAG_W,CFC-11,CFC-11_FLAG_W,TCARBN,TCARBN_FLAG_W,ALKALI,ALKALI_FLAG_W,TRITUM,TRITUM_FLAG_W,DELHE3,DELHE3_FLAG_W,DELC14,DELC14_FLAG_W,C14ERR,THETA
,,,,,,,,,,METERS,DBAR,ITS-90,PSS-78,,PSS-78,,UMOL/KG,,UMOL/KG,,UMOL/KG,,UMOL/KG,,PMOL/KG,,UMOL/KG,,UMOL/KG,,TU,,PERCNT,,/MILLE,,/MILLE,DEG C
35MF62JADE_1,       IR06,      54,          1,          1,2,19890831,       0000,      -7.12,     100.16,       5302,     2.4,  27.8300,  34.0110,2,  34.0110,2,   205.4,2,    7.00,2,    0.00,2,    0.10,2,   1.600,2,  1890.0,2,  2242.0,2,-999.000,9, -999.00,9,  -999.0,9,  -999.0,  27.8294
35MF62JADE_1,       IR06,      54,          1,          2,2,19890831,       0000,      -7.12,     100.16,       5302,    39.9,  27.8230,  34.0130,2,  34.0110,2,   200.1,2,    7.90,2,    0.10,2,    0.10,2,   1.540,2,  1892.0,2,  2242.0,2,-999.000,9, -999.00,9,  -999.0,9,  -999.0,  27.8137
35MF62JADE_1,       IR06,      54,          1,          3,2,19890831,       0000,      -7.12,     100.16,       5302,   101.6,  20.3260,  34.5940,2,  34.5940,2,   118.2,2,   19.60,2,    6.60,2,    1.05,2,   1.190,2,  2080.0,2,  2293.0,2,-999.000,9, -999.00,9,  -999.0,9,  -999.0,  20.3071
35MF62JADE_1,       IR06,      54,          1,          4,2,19890831,       0000,      -7.12,     100.16,       5302,   199.6,  12.0240,  34.6830,2,  34.6840,2,    86.0,2,   37.50,2,   15.80,3,    1.87,2,   0.550,2,  2200.0,2,  2320.0,2,-999.000,9, -999.00,9,  -999.0,9,  -999.0,  11.9980
35MF62JADE_1,       IR06,      54,          1,          5,2,19890831,       0000,      -7.12,     100.16,       5302,   303.4,  10.7160,  34.8710,2,  34.8690,2,    70.7,2,   34.30,2,   18.20,3,    2.03,2,   0.170,2,  2233.0,2,  2326.0,2,-999.000,9, -999.00,9,  -999.0,9,  -999.0,  10.6791
35MF62JADE_1,       IR06,      54,          1,          6,2,19890831,       0000,      -7.12,     100.16,       5302,   408.0,   9.7660,  34.8550,2,  34.8530,2,    77.3,2,   36.00,2, -999.00,9,    2.12,2,   0.130,2,  2238.0,2,  2328.0,2,-999.000,9, -999.00,9,  -999.0,9,  -999.0,   9.7189
35MF62JADE_1,       IR06,      54,          1,          7,2,19890831,       0000,      -7.12,     100.16,       5302,   806.3,   6.5270,  34.7470,2,  34.7430,2,    72.5,2,   77.60,2,   15.10,3,    2.13,3,   0.160,2,  2299.0,2,  2370.0,2,-999.000,9, -999.00,9,  -999.0,9,  -999.0,   6.4513
35MF62JADE_1,       IR06,      54,          1,          8,2,19890831,       0000,      -7.12,     100.16,       5302,  1513.2,   3.9650,  34.7830,2,  34.7810,2,   102.4,2,  103.60,2,   28.00,3,    2.62,2,   0.150,2,  2326.0,2,  2408.0,2,-999.000,9, -999.00,9,  -999.0,9,  -999.0,   3.8444
35MF62JADE_1,       IR06,      54,          1,          9,2,19890831,       0000,      -7.12,     100.16,       5302,  2017.9,   2.6530,  34.7570,2,  34.7530,2,   135.2,2,  115.40,2,   27.00,3,    2.54,2,   0.100,2,  2326.0,2,  2415.0,2,-999.000,9, -999.00,9,  -999.0,9,  -999.0,   2.5047
35MF62JADE_1,       IR06,      54,          1,         10,2,19890831,       0000,      -7.12,     100.16,       5302,  3035.7,   1.6800,  34.7310,2,  34.7270,2,   167.3,2,  123.60,2,   28.10,3,    2.43,2,-999.000,9,  2319.0,2,  2422.0,2,-999.000,9, -999.00,9,  -999.0,9,  -999.0,   1.4555
35MF62JADE_1,       IR06,      54,          1,         11,2,19890831,       0000,      -7.12,     100.16,       5302,  4058.8,   1.1580,  34.7120,2,  34.7130,2,   194.9,2,  121.90,2,   21.70,3,    2.29,2,   0.000,2,  2299.0,2,  2416.0,2,-999.000,9, -999.00,9,  -999.0,9,  -999.0,   0.8422
35MF62JADE_1,       IR06,      54,          1,         12,2,19890831,       0000,      -7.12,     100.16,       5302,  5291.5,   1.2240,  34.7100,2,  34.7100,2,   199.7,2,  121.90,2,   23.40,3,    2.29,2,-999.000,9,  2292.0,2,  2411.0,2,-999.000,9, -999.00,9,  -999.0,9,  -999.0,   0.7633
35MF62JADE_1,       IR06,      55,          1,          1,2,19890901,       0000,      -7.24,      99.17,       5158,     2.0,  27.9690,  34.0740,2,  34.0760,2,   201.8,2,    6.70,2,    0.30,2,    0.18,2,   1.570,2,  1897.0,2,  2246.0,2,-999.000,9, -999.00,9,  -999.0,9,  -999.0,  27.9685
35MF62JADE_1,       IR06,      55,          1,          2,2,19890901,       0000,      -7.24,      99.17,       5158,    30.6,  27.9180,  34.0850,2,  34.0820,2,   201.0,2,    6.60,2,    0.10,2,    0.12,2,   1.680,2,  1898.0,2,  2253.0,2,-999.000,9, -999.00,9,  -999.0,9,  -999.0,  27.9108
35MF62JADE_1,       IR06,      55,          1,          3,2,19890901,       0000,      -7.24,      99.17,       5158,    49.0,  27.9070,  34.0890,2,  34.0950,2,   202.0,2,    8.20,2,    0.10,2,    0.12,2,   1.550,2,  1899.0,2,  2247.0,2,-999.000,9, -999.00,9,  -999.0,9,  -999.0,  27.8955
35MF62JADE_1,       IR06,      55,          1,          4,2,19890901,       0000,      -7.24,      99.17,       5158,    69.9,  28.1550,  34.3180,2,  34.3130,2,   196.7,2,    8.80,2,    0.10,2,    0.18,2,   1.500,2,  1912.0,2,  2263.0,2,-999.000,9, -999.00,9,  -999.0,9,  -999.0,  28.1385
35MF62JADE_1,       IR06,      55,          1,          5,2,19890901,       0000,      -7.24,      99.17,       5158,   101.3,  22.5520,  35.0990,2,  35.1510,2,   120.2,2,   13.10,2,    9.70,2,    0.92,2,   1.240,2,  2083.0,2,  2322.0,2,-999.000,9, -999.00,9,  -999.0,9,  -999.0,  22.5316
35MF62JADE_1,       IR06,      55,          1,          6,2,19890901,       0000,      -7.24,      99.17,       5158,   151.6,  14.8330,  34.6270,2,  34.6290,2,    97.6,2,   30.60,2,   21.40,2,    1.58,2,   0.850,2,  2155.0,2,  2313.0,2,-999.000,9, -999.00,9,  -999.0,9,  -999.0,  14.8103
35MF62JADE_1,       IR06,      55,          1,          7,2,19890901,       0000,      -7.24,      99.17,       5158,   200.9,  12.3790,  34.6650,2,  34.6620,2,    90.7,2,   36.50,2,   26.80,2,    1.83,2,   0.550,2,  -999.0,9,  -999.0,9,-999.000,9, -999.00,9,  -999.0,9,  -999.0,  12.3523
35MF62JADE_1,       IR06,      55,          1,          8,2,19890901,       0000,      -7.24,      99.17,       5158,   302.7,  10.9640,  34.8420,2,  34.8410,2,    70.6,2,   34.80,2,   32.00,2,    2.05,2,   0.240,2,  2225.0,2,  2328.0,2,-999.000,9, -999.00,9,  -999.0,9,  -999.0,  10.9266
35MF62JADE_1,       IR06,      55,          1,          9,2,19890901,       0000,      -7.24,      99.17,       5158,   400.5,  10.2180,  34.8660,2,  34.8750,2,    71.6,2,   34.20,2,   31.10,2,    2.10,2,   0.130,2,  2241.0,2,  2328.0,2,-999.000,9, -999.00,9,  -999.0,9,  -999.0,  10.1705
35MF62JADE_1,       IR06,      55,          1,         10,2,19890901,       0000,      -7.24,      99.17,       5158,   501.2,   9.5590,  34.8550,2,  34.8510,2,    74.3,2,   37.80,2,   32.80,2,    2.20,2,   0.100,2,  2243.0,2,  2329.0,2,-999.000,9, -999.00,9,  -999.0,9,  -999.0,   9.5016
35MF62JADE_1,       IR06,      55,          1,         11,2,19890901,       0000,      -7.24,      99.17,       5158,   604.6,   8.2190,  34.7750,2,  34.7770,2,    70.5,2,   53.60,2,   36.00,2,    2.43,2,   0.000,2,  2265.0,2,  2343.0,2,-999.000,9, -999.00,9,  -999.0,9,  -999.0,   8.1554
35MF62JADE_1,       IR06,      55,          1,         12,2,19890901,       0000,      -7.24,      99.17,       5158,  2218.9,   2.2790,  34.7440,2,  34.7450,2,   145.7,2,  118.10,2,   37.80,3,    2.49,2,   0.000,2,  2323.0,2,  2418.0,2,-999.000,9, -999.00,9,  -999.0,9,  -999.0,   2.1188
35MF62JADE_1,       IR06,      56,          1,          1,2,19890901,       0000,      -5.09,      98.58,       5045,     2.1,  28.1170,  33.9440,2,  33.9470,2,   198.3,2,    6.80,2,    0.10,2,    0.11,2,-999.000,9,  1883.0,2,  2235.0,2,-999.000,9, -999.00,9,  -999.0,9,  -999.0,  28.1165
35MF62JADE_1,       IR06,      56,          1,          2,2,19890901,       0000,      -5.09,      98.58,       5045,   101.1,  19.0920,  34.7360,2,  34.7200,2,   103.0,2,   20.40,2,   17.40,2,    1.23,2,-999.000,9,  2107.0,2,  2299.0,2,-999.000,9, -999.00,9,  -999.0,9,  -999.0,  19.0740
35MF62JADE_1,       IR06,      56,          1,          3,2,19890901,       0000,      -5.09,      98.58,       5045,   200.4,  12.2890,  34.9350,2,  34.9350,2,    71.1,2,   29.80,2,   26.80,2,    1.91,2,-999.000,9,  2213.0,2,  2323.0,2,-999.000,9, -999.00,9,  -999.0,9,  -999.0,  12.2625
35MF62JADE_1,       IR06,      56,          1,          4,2,19890901,       0000,      -5.09,      98.58,       5045,   298.6,  11.1580,  34.9910,2,  34.9820,2,    77.5,2,   27.40,2,   26.40,2,    1.94,2,-999.000,9,  2221.0,2,  2325.0,2,-999.000,9, -999.00,9,  -999.0,9,  -999.0,  11.1207
35MF62JADE_1,       IR06,      56,          1,          5,2,19890901,       0000,      -5.09,      98.58,       5045,   399.9,  10.0040,  34.9200,2,  34.9180,2,    78.0,2,   32.80,2,   31.50,2,    2.08,2,-999.000,9,  2253.0,2,  2328.0,2,-999.000,9, -999.00,9,  -999.0,9,  -999.0,   9.9572
35MF62JADE_1,       IR06,      56,          1,          6,2,19890901,       0000,      -5.09,      98.58,       5045,   806.5,   7.1690,  34.8270,2,  34.8310,2,    61.6,2,   70.10,2,   34.80,2,    2.62,2,-999.000,9,  2298.0,2,  2365.0,2,-999.000,9, -999.00,9,  -999.0,9,  -999.0,   7.0893
35MF62JADE_1,       IR06,      56,          1,          7,2,19890901,       0000,      -5.09,      98.58,       5045,  1505.4,   4.1280,  34.8000,2,  34.8010,2,    98.0,2,   99.50,2,   37.00,2,    2.66,2,-999.000,9,  2324.0,2,  2404.0,2,-999.000,9, -999.00,9,  -999.0,9,  -999.0,   4.0062
35MF62JADE_1,       IR06,      56,          1,          8,2,19890901,       0000,      -5.09,      98.58,       5045,  2017.9,   2.7230,  34.7730,2,  34.7680,2,   131.6,2,  114.30,2,   35.80,2,    2.58,2,-999.000,9,  2325.0,2,  2416.0,2,-999.000,9, -999.00,9,  -999.0,9,  -999.0,   2.5736
35MF62JADE_1,       IR06,      56,          1,          9,2,19890901,       0000,      -5.09,      98.58,       5045,  3034.5,   1.6960,  34.7300,2,  34.7300,2,   165.3,2,  123.20,2,   34.10,2,    2.43,2,-999.000,9,  2322.0,2,  2424.0,2,-999.000,9, -999.00,9,  -999.0,9,  -999.0,   1.4712
35MF62JADE_1,       IR06,      56,          1,         10,2,19890901,       0000,      -5.09,      98.58,       5045,  4057.3,   1.1530,  34.7120,2,  34.7150,2,   195.4,2,  120.90,2,   34.20,2,    2.32,2,-999.000,9,  2299.0,2,  2410.0,2,-999.000,9, -999.00,9,  -999.0,9,  -999.0,   0.8375
35MF62JADE_1,       IR06,      56,          1,         11,2,19890901,       0000,      -5.09,      98.58,       5045,  5004.2,   1.1970,  34.7090,2,  34.7120,2,   197.6,2,  121.20,2,   34.60,2,    2.30,2,-999.000,9,  2296.0,2,  2409.0,2,-999.000,9, -999.00,9,  -999.0,9,  -999.0,   0.7723
35MF62JADE_1,       IR06,      56,          1,         12,2,19890901,       0000,      -5.09,      98.58,       5045,  5035.2,   1.1990,  34.7110,2,  34.7120,2,   199.5,2,  119.70,2,   32.50,2,    2.29,2,-999.000,9,  2294.0,2,  2414.0,2,-999.000,9, -999.00,9,  -999.0,9,  -999.0,   0.7705
35MF62JADE_1,       IR06,      57,          1,          1,2,19890901,       0000,      -4.22,      99.36,       5132,     6.5,  28.7850,  34.2250,2,  34.2270,2,   198.8,2,    6.60,2,    0.10,2,    0.15,2,   1.430,2,  1898.0,2,  2254.0,2,-999.000,9, -999.00,9,  -999.0,9,  -999.0,  28.7834
35MF62JADE_1,       IR06,      57,          1,          2,2,19890901,       0000,      -4.22,      99.36,       5132,    30.2,  28.8090,  34.2520,2,  34.2450,2,   199.5,2,    8.40,2,    0.10,2,    0.14,2,   1.430,2,  1897.0,2,  -999.0,9,-999.000,9, -999.00,9,  -999.0,9,  -999.0,  28.8018
35MF62JADE_1,       IR06,      57,          1,          3,2,19890901,       0000,      -4.22,      99.36,       5132,    51.6,  28.6980,  34.3010,2,  34.3000,2,   197.0,2,    9.20,2,    0.10,2,    0.14,2,   1.400,2,  1899.0,2,  2259.0,2,-999.000,9, -999.00,9,  -999.0,9,  -999.0,  28.6856
35MF62JADE_1,       IR06,      57,          1,          4,2,19890901,       0000,      -4.22,      99.36,       5132,    70.7,  28.0400,  34.5140,2,  34.4830,2,   187.9,2,    9.40,2,    0.20,2,    0.25,2,   1.350,2,  1938.0,2,  2274.0,2,-999.000,9, -999.00,9,  -999.0,9,  -999.0,  28.0233
35MF62JADE_1,       IR06,      57,          1,          5,2,19890901,       0000,      -4.22,      99.36,       5132,   100.6,  19.4950,  34.7610,2,  34.7890,2,    96.0,2,   20.50,2,   17.90,2,    1.28,2,-999.000,9,  2113.0,2,  2305.0,2,-999.000,9, -999.00,9,  -999.0,9,  -999.0,  19.4768
35MF62JADE_1,       IR06,      57,          1,          6,2,19890901,       0000,      -4.22,      99.36,       5132,   152.6,  13.3990,  34.9850,2,  34.9340,2,  -999.0,9,   25.80,2,   23.00,2,    1.73,2,-999.000,9,  2182.0,2,  2320.0,2,-999.000,9, -999.00,9,  -999.0,9,  -999.0,  13.3776
35MF62JADE_1,       IR06,      57,          1,          7,2,19890901,       0000,      -4.22,      99.36,       5132,   200.8,  12.5160,  35.0410,2,  35.0370,2,    79.2,2,   24.60,2,   27.20,2,    1.80,2,-999.000,9,  2206.0,2,  2325.0,2,-999.000,9, -999.00,9,  -999.0,9,  -999.0,  12.4891
35MF62JADE_1,       IR06,      57,          1,          8,2,19890901,       0000,      -4.22,      99.36,       5132,   302.1,  11.0460,  34.9740,2,  34.9710,2,    80.1,2,   27.40,2,   28.50,2,    1.92,2,   0.190,2,  2221.0,2,  2327.0,2,-999.000,9, -999.00,9,  -999.0,9,  -999.0,  11.0085
35MF62JADE_1,       IR06,      57,          1,          9,2,19890901,       0000,      -4.22,      99.36,       5132,   402.1,  10.3440,  34.9470,2,  34.9460,2,    79.9,2,   38.80,2,   30.80,2,    2.25,2,   0.130,2,  2228.0,2,  2330.0,2,-999.000,9, -999.00,9,  -999.0,9,  -999.0,  10.2959
35MF62JADE_1,       IR06,      57,          1,         10,2,19890901,       0000,      -4.22,      99.36,       5132,   502.0,   9.3830,  34.9150,2,  34.9150,2,    70.0,2,   40.40,2,   32.10,2,    2.04,2,-999.000,9,  2248.0,2,  2335.0,2,-999.000,9, -999.00,9,  -999.0,9,  -999.0,   9.3262
35MF62JADE_1,       IR06,      57,          1,         11,2,19890901,       0000,      -4.22,      99.36,       5132,   605.4,   8.5160,  34.8850,2,  34.8840,2,    64.6,2,   50.70,2,   34.80,2,    2.52,2,   0.000,2,  2271.0,2,  2346.0,2,-999.000,9, -999.00,9,  -999.0,9,  -999.0,   8.4509
35MF62JADE_1,       IR06,      57,          1,         12,2,19890901,       0000,      -4.22,      99.36,       5132,  2219.5,   2.3470,  34.7510,2,  34.7520,2,   144.7,2,  119.10,2,   35.80,2,    2.53,2,-999.000,9,  2327.0,2,  2419.0,2,-999.000,9, -999.00,9,  -999.0,9,  -999.0,   2.1855
35MF62JADE_1,       IR06,      58,          1,          1,2,19890902,       0000,      -3.57,      99.57,       5066,     2.8,  28.9570,  33.9620,2,  33.9630,2,   205.0,2,    9.20,2,    0.10,2,    0.12,2,-999.000,9,  1885.0,2,  2237.0,2,-999.000,9, -999.00,9,  -999.0,9,  -999.0,  28.9563
35MF62JADE_1,       IR06,      58,          1,          2,2,19890902,       0000,      -3.57,      99.57,       5066,    30.8,  28.8880,  34.1800,2,  34.1700,2,   199.0,2,   13.70,2,    0.10,2,    0.13,2,-999.000,9,  1894.0,2,  2252.0,2,-999.000,9, -999.00,9,  -999.0,9,  -999.0,  28.8806
35MF62JADE_1,       IR06,      58,          1,          3,2,19890902,       0000,      -3.57,      99.57,       5066,    50.7,  28.8490,  34.3020,2,  34.3010,2,   199.7,2,   15.20,2,    0.10,2,    0.12,2,-999.000,9,  1906.0,2,  2260.0,2,-999.000,9, -999.00,9,  -999.0,9,  -999.0,  28.8368
35MF62JADE_1,       IR06,      58,          1,          4,2,19890902,       0000,      -3.57,      99.57,       5066,    72.9,  27.9970,  34.4790,2,  34.4410,2,   195.0,2,   15.20,2,    0.10,2,    0.18,2,-999.000,9,  1923.0,2,  2270.0,2,-999.000,9, -999.00,9,  -999.0,9,  -999.0,  27.9799
35MF62JADE_1,       IR06,      58,          1,          5,2,19890902,       0000,      -3.57,      99.57,       5066,   103.2,  20.0610,  34.8760,2,  34.8530,2,    94.0,2,   21.50,2,   14.00,2,    1.24,2,-999.000,9,  2106.0,2,  2306.0,2,-999.000,9, -999.00,9,  -999.0,9,  -999.0,  20.0419
35MF62JADE_1,       IR06,      58,          1,          6,2,19890902,       0000,      -3.57,      99.57,       5066,   151.4,  13.5320,  35.0010,2,  34.9990,2,    69.0,2,   28.50,2,   24.20,2,    1.81,2,-999.000,9,  2202.0,2,  2324.0,2,-999.000,9, -999.00,9,  -999.0,9,  -999.0,  13.5106
35MF62JADE_1,       IR06,      58,          1,          7,2,19890902,       0000,      -3.57,      99.57,       5066,   200.8,  12.4560,  35.0510,2,  35.0470,2,    72.0,2,   27.40,2,   27.30,2,    1.84,2,-999.000,9,  2212.0,2,  2329.0,2,-999.000,9, -999.00,9,  -999.0,9,  -999.0,  12.4291
35MF62JADE_1,       IR06,      58,          1,          8,2,19890902,       0000,      -3.57,      99.57,       5066,   301.2,  11.3000,  35.0040,2,  35.0020,2,    79.0,2,   28.40,2,   30.20,2,    1.93,2,-999.000,9,  2217.0,2,  2328.0,2,-999.000,9, -999.00,9,  -999.0,9,  -999.0,  11.2620
35MF62JADE_1,       IR06,      58,          1,          9,2,19890902,       0000,      -3.57,      99.57,       5066,   402.4,  10.4480,  34.9580,2,  34.9510,2,    75.8,2,   33.10,2,   32.90,2,    2.09,2,-999.000,9,  2230.0,2,  2327.0,2,-999.000,9, -999.00,9,  -999.0,9,  -999.0,  10.3995
35MF62JADE_1,       IR06,      58,          1,         10,2,19890902,       0000,      -3.57,      99.57,       5066,   504.0,   9.4130,  34.9300,2,  34.9370,2,    66.3,2,   43.20,2,   36.20,2,    2.34,2,-999.000,9,  2255.0,2,  2337.0,2,-999.000,9, -999.00,9,  -999.0,9,  -999.0,   9.3558
35MF62JADE_1,       IR06,      58,          1,         11,2,19890902,       0000,      -3.57,      99.57,       5066,   602.8,   8.8810,  34.9600,2,  34.9580,2,    62.6,2,   50.70,2,   35.00,2,    2.47,2,-999.000,9,  2267.0,2,  2345.0,2,-999.000,9, -999.00,9,  -999.0,9,  -999.0,   8.8145
35MF62JADE_1,       IR06,      58,          1,         12,2,19890902,       0000,      -3.57,      99.57,       5066,  5055.6,   1.2070,  34.7110,2,  34.7100,2,   199.1,2,  123.40,2,   36.40,3, -999.00,9,-999.000,9,  2297.0,2,  2412.0,2,-999.000,9, -999.00,9,  -999.0,9,  -999.0,   0.7757