BOTTLE,20221003CCHSIOAMB
EXPOCODE,SECT_ID,STNNBR,CASTNO,BTLNBR,BTLNBR_FLAG_W,DATE,TIME,LATITUDE,LONGITUDE,DEPTH,CTDPRS,CTDTMP,CTDSAL,CTDSAL_FLAG_W,SALNTY,SALNTY_FLAG_W,OXYGEN,OXYGEN_FLAG_W,SILCAT,SILCAT_FLAG_W,NITRAT,NITRAT_FLAG_W,PHSPHT,PHSPHT_FLAG_W,CFC-11,CFC-11_FLAG_W,TCARBN,TCARBN_FLAG_W,ALKALI,ALKALI_FLAG_W,TRITUM,TRITUM_FLAG_W,DELHE3,DELHE3_FLAG_W,DELC14,DELC14_FLAG_W,C14ERR,THETA
,,,,,,,,,,METERS,DBAR,ITS-90,PSS-78,,PSS-78,,UMOL/KG,,UMOL/KG,,UMOL/KG,,UMOL/KG,,PMOL/KG,,UMOL/KG,,UMOL/KG,,TU,,PERCNT,,/MILLE,,/MILLE,DEG C
35MF62JADE_1,       IR06,      49,          1,          1,2,19890830,       0000,      -6.19,      103.5,       1873,     1.2,  28.2900,  33.9080,2,  33.9090,2,   204.0,2,    5.10,2,    0.10,2,    0.10,2,   1.560,2,  1879.0,2,  2227.0,2,-999.000,9, -999.00,9,  -999.0,9,  -999.0,  28.2897
35MF62JADE_1,       IR06,      49,          1,          2,2,19890830,       0000,      -6.19,      103.5,       1873,    32.5,  28.2160,  33.9140,2,  33.9140,2,   205.4,2,    6.70,2,    0.10,2,    0.09,2,   1.560,2,  1880.0,2,  2226.0,2,-999.000,9, -999.00,9,  -999.0,9,  -999.0,  28.2083
35MF62JADE_1,       IR06,      49,          1,          3,2,19890830,       0000,      -6.19,      103.5,       1873,    52.1,  28.2750,  33.9980,2,  33.9990,2,   203.9,2,    6.50,2,    0.10,2,    0.11,2,   1.560,2,  1949.0,2,  2273.0,2,-999.000,9, -999.00,9,  -999.0,9,  -999.0,  28.2627
35MF62JADE_1,       IR06,      49,          1,          4,2,19890830,       0000,      -6.19,      103.5,       1873,    71.4,  27.5590,  34.6680,2,  34.6670,2,   182.9,2,    7.30,2,    0.30,2,    0.27,2,   1.450,2,  -999.0,9,  -999.0,9,-999.000,9, -999.00,9,  -999.0,9,  -999.0,  27.5424
35MF62JADE_1,       IR06,      49,          1,          5,2,19890830,       0000,      -6.19,      103.5,       1873,   104.2,  24.6450,  34.8150,2,  34.8170,2,   128.1,2,   10.60,2,    8.40,2,    0.77,2,   1.310,2,  2030.0,2,  2286.0,2,-999.000,9, -999.00,9,  -999.0,9,  -999.0,  24.6227
35MF62JADE_1,       IR06,      49,          1,          6,2,19890830,       0000,      -6.19,      103.5,       1873,   151.2,  15.0340,  34.5970,2,  34.5780,2,   108.7,2,   29.90,2,   19.80,2,    1.47,2,   0.930,2,  2130.0,2,  2296.0,2,-999.000,9, -999.00,9,  -999.0,9,  -999.0,  15.0112
35MF62JADE_1,       IR06,      49,          1,          7,2,19890830,       0000,      -6.19,      103.5,       1873,   201.4,  12.0030,  34.6250,2,  34.6130,2,    96.7,2,   35.50,2,   25.60,2,    1.80,2,   0.640,2,  2177.0,2,  2304.0,2,-999.000,9, -999.00,9,  -999.0,9,  -999.0,  11.9768
35MF62JADE_1,       IR06,      49,          1,          8,2,19890830,       0000,      -6.19,      103.5,       1873,   254.1,  11.3660,  34.8080,2,  34.8070,2,    76.5,2,   35.20,2,   28.20,2,    1.98,2,   0.320,2,  2205.0,2,  2311.0,2,-999.000,9, -999.00,9,  -999.0,9,  -999.0,  11.3340
35MF62JADE_1,       IR06,      49,          1,          9,2,19890830,       0000,      -6.19,      103.5,       1873,   705.3,   6.9330,  34.7880,2,  34.7890,2,    67.2,2,   73.80,2,   36.30,2,    2.66,2,   0.000,2,  2284.0,2,  2355.0,2,-999.000,9, -999.00,9,  -999.0,9,  -999.0,   6.8651
35MF62JADE_1,       IR06,      49,          1,         10,2,19890830,       0000,      -6.19,      103.5,       1873,  1416.2,   4.2280,  34.7500,2,  34.7490,2,    98.2,2,  103.40,2,   36.60,2,    2.62,2,-999.000,9,  2317.0,2,  2391.0,2,-999.000,9, -999.00,9,  -999.0,9,  -999.0,   4.1134
35MF62JADE_1,       IR06,      49,          1,         11,2,19890830,       0000,      -6.19,      103.5,       1873,  1619.3,   3.6480,  34.7570,2,  34.7600,2,   109.4,2,  106.70,2,   35.80,2,    2.61,2,   0.000,2,  2318.0,2,  2398.0,2,-999.000,9, -999.00,9,  -999.0,9,  -999.0,   3.5216
35MF62JADE_1,       IR06,      49,          1,         12,2,19890830,       0000,      -6.19,      103.5,       1873,  1735.1,   3.1100,  34.7530,2,  34.7550,2,   121.6,2, -999.00,9,   36.00,2,    2.58,2,   0.030,2,  2313.0,2,  2399.0,2,-999.000,9, -999.00,9,  -999.0,9,  -999.0,   2.9802
35MF62JADE_1,       IR06,      50,          1,          1,2,19890830,       0000,      -6.34,     103.24,       1873,     7.3,  28.2710,  33.9150,2,  33.9140,2,   199.3,2,    3.80,2,    0.10,2,    0.08,2,   1.650,2,  1885.0,2,  2233.0,2,-999.000,9, -999.00,9,  -999.0,9,  -999.0,  28.2693
35MF62JADE_1,       IR06,      50,          1,          2,2,19890830,       0000,      -6.34,     103.24,       1873,    30.0,  28.2720,  33.9140,2,  33.9120,2,   200.9,2,    3.50,2,    0.10,2,    0.08,2,   1.560,2,  1885.0,2,  2234.0,2,-999.000,9, -999.00,9,  -999.0,9,  -999.0,  28.2649
35MF62JADE_1,       IR06,      50,          1,          3,2,19890830,       0000,      -6.34,     103.24,       1873,    48.9,  28.2570,  34.0090,2,  33.9810,2,   198.8,2,    2.80,2,    0.20,2,    0.11,2,   1.560,2,  1886.0,2,  2239.0,2,-999.000,9, -999.00,9,  -999.0,9,  -999.0,  28.2454
35MF62JADE_1,       IR06,      50,          1,          4,2,19890830,       0000,      -6.34,     103.24,       1873,    70.1,  26.9300,  34.9020,2,  34.9280,2,   171.7,2,    4.20,2,    0.10,2,    0.33,2,   1.440,2,  1997.0,2,  2308.0,2,-999.000,9, -999.00,9,  -999.0,9,  -999.0,  26.9140
35MF62JADE_1,       IR06,      50,          1,          5,2,19890830,       0000,      -6.34,     103.24,       1873,   100.7,  20.1550,  34.6020,2,  34.6060,2,   112.1,2,   15.50,2,    7.50,3,    1.10,2,   1.160,2,  2084.0,2,  2293.0,2,-999.000,9, -999.00,9,  -999.0,9,  -999.0,  20.1363
35MF62JADE_1,       IR06,      50,          1,          6,2,19890830,       0000,      -6.34,     103.24,       1873,   149.5,  15.7790,  34.6300,2,  34.6140,2,   106.1,2,   25.00,2,    2.60,3,    1.42,2,   0.920,2,  2138.0,2,  2305.0,2,-999.000,9, -999.00,9,  -999.0,9,  -999.0,  15.7557
35MF62JADE_1,       IR06,      50,          1,          7,2,19890830,       0000,      -6.34,     103.24,       1873,   199.7,  11.5400,  34.7310,2,  34.7230,2,    84.2,2,   34.00,2,    7.50,3,    1.90,2,   0.440,2,  2206.0,2,  2322.0,2,-999.000,9, -999.00,9,  -999.0,9,  -999.0,  11.5147
35MF62JADE_1,       IR06,      50,          1,          8,2,19890830,       0000,      -6.34,     103.24,       1873,   301.6,  10.3790,  34.8420,2,  34.8440,2,    74.4,2,   33.20,2,   22.20,3,    2.04,2,   0.130,2,  2235.0,2,  2328.0,2,-999.000,9, -999.00,9,  -999.0,9,  -999.0,  10.3430
35MF62JADE_1,       IR06,      50,          1,          9,2,19890830,       0000,      -6.34,     103.24,       1873,   402.7,   9.6790,  34.8140,2,  34.8130,2,    76.7,2,   37.30,2,   23.20,3,    2.15,2,   0.100,2,  2242.0,2,  2334.0,2,-999.000,9, -999.00,9,  -999.0,9,  -999.0,   9.6328
35MF62JADE_1,       IR06,      50,          1,         10,2,19890830,       0000,      -6.34,     103.24,       1873,   502.2,   8.5200,  34.7400,2,  34.7470,2,    76.4,2,   48.70,2,   27.70,3,    2.30,2,   0.100,2,  2256.0,2,  2341.0,2,-999.000,9, -999.00,9,  -999.0,9,  -999.0,   8.4664
35MF62JADE_1,       IR06,      50,          1,         11,2,19890830,       0000,      -6.34,     103.24,       1873,   603.4,   8.1220,  34.8160,2,  34.8150,2,    66.0,2,   54.10,2,   25.00,3,    2.47,2,   0.000,2,  2275.0,2,  2349.0,2,-999.000,9, -999.00,9,  -999.0,9,  -999.0,   8.0590
35MF62JADE_1,       IR06,      50,          1,         12,2,19890830,       0000,      -6.34,     103.24,       1873,  1106.1,   5.1860,  34.7430,2,  34.7420,2,    83.8,2,   92.10,2,   28.70,3,    2.66,2,   0.000,2,  2320.0,2,  2390.0,2,-999.000,9, -999.00,9,  -999.0,9,  -999.0,   5.0910
35MF62JADE_1,       IR06,      51,          1,          1,2,19890830,       0000,       -6.4,     102.49,       2876,     4.0,  27.7600,  33.8280,2,  33.8320,2,  -999.0,9,    3.50,2,    0.50,2,    0.16,2,   1.630,2,  -999.0,9,  -999.0,9,-999.000,9, -999.00,9,  -999.0,9,  -999.0,  27.7591
35MF62JADE_1,       IR06,      51,          1,          2,2,19890830,       0000,       -6.4,     102.49,       2876,    31.5,  27.7530,  33.8340,2,  33.8310,2,  -999.0,9,    4.00,2,    0.10,2,    0.09,2,-999.000,9,  -999.0,9,  -999.0,9,-999.000,9, -999.00,9,  -999.0,9,  -999.0,  27.7457
35MF62JADE_1,       IR06,      51,          1,          3,2,19890830,       0000,       -6.4,     102.49,       2876,    51.4,  26.2550,  34.5050,2,  34.5340,2,  -999.0,9,    6.60,2,    1.90,2,    0.41,2,-999.000,9,  -999.0,9,  -999.0,9,-999.000,9, -999.00,9,  -999.0,9,  -999.0,  26.2435
35MF62JADE_1,       IR06,      51,          1,          4,2,19890830,       0000,       -6.4,     102.49,       2876,    71.9,  22.9440,  34.5460,2,  34.5450,2,  -999.0,9,   11.80,2,    9.20,2,    0.78,2,-999.000,9,  -999.0,9,  -999.0,9,-999.000,9, -999.00,9,  -999.0,9,  -999.0,  22.9294
35MF62JADE_1,       IR06,      51,          1,          5,2,19890830,       0000,       -6.4,     102.49,       2876,   101.7,  18.0610,  34.6220,2,  34.6020,2,  -999.0,9,   21.40,2,   16.10,2,    1.23,2,   1.060,2,  -999.0,9,  -999.0,9,-999.000,9, -999.00,9,  -999.0,9,  -999.0,  18.0436
35MF62JADE_1,       IR06,      51,          1,          6,2,19890830,       0000,       -6.4,     102.49,       2876,   153.6,  14.0190,  34.5900,2,  34.5880,2,  -999.0,9,   31.50,2,   20.80,2,    1.58,2,   0.810,2,  -999.0,9,  -999.0,9,-999.000,9, -999.00,9,  -999.0,9,  -999.0,  13.9969
35MF62JADE_1,       IR06,      51,          1,          7,2,19890830,       0000,       -6.4,     102.49,       2876,   203.7,  12.0100,  34.7700,2,  34.7440,2,  -999.0,9,   34.50,2,   27.00,2,    1.71,2,   0.470,2,  -999.0,9,  -999.0,9,-999.000,9, -999.00,9,  -999.0,9,  -999.0,  11.9835
35MF62JADE_1,       IR06,      51,          1,          8,2,19890830,       0000,       -6.4,     102.49,       2876,   302.6,  10.4860,  34.8880,2,  34.8870,2,  -999.0,9,   32.10,2,   31.80,2,    2.04,2,   0.130,2,  -999.0,9,  -999.0,9,-999.000,9, -999.00,9,  -999.0,9,  -999.0,  10.4497
35MF62JADE_1,       IR06,      51,          1,          9,2,19890830,       0000,       -6.4,     102.49,       2876,   402.2,   9.0000,  34.7400,2,  34.7330,2,  -999.0,9,   46.20,2,   31.60,2,    2.19,2,   0.130,2,  -999.0,9,  -999.0,9,-999.000,9, -999.00,9,  -999.0,9,  -999.0,   8.9559
35MF62JADE_1,       IR06,      51,          1,         10,2,19890830,       0000,       -6.4,     102.49,       2876,   504.8,   8.4870,  34.8240,2,  34.8240,2,  -999.0,9,   50.70,2,   33.90,2,    2.41,2,   0.050,2,  -999.0,9,  -999.0,9,-999.000,9, -999.00,9,  -999.0,9,  -999.0,   8.4332
35MF62JADE_1,       IR06,      51,          1,         11,2,19890830,       0000,       -6.4,     102.49,       2876,   604.5,   8.3670,  34.8950,2,  34.8870,2,  -999.0,9,   55.00,2,   35.70,2,    2.48,2,   0.030,2,  -999.0,9,  -999.0,9,-999.000,9, -999.00,9,  -999.0,9,  -999.0,   8.3027
35MF62JADE_1,       IR06,      51,          1,         12,2,19890830,       0000,       -6.4,     102.49,       2876,  2865.8,   1.7540,  34.7290,2,  34.7300,2,  -999.0,9,  125.50,2,   32.80,2,    2.34,2,-999.000,9,  -999.0,9,  -999.0,9,-999.000,9, -999.00,9,  -999.0,9,  -999.0,   1.5442
35MF62JADE_1,       IR06,      51,          1,         13,2,19890830,       0000,       -6.4,     102.49,       2876,  2865.8,   1.7540,  34.7290,2,  34.7310,2,  -999.0,9, -999.00,9, -999.00,9, -999.00,9,-999.000,9,  -999.0,9,  -999.0,9,-999.000,9, -999.00,9,  -999.0,9,  -999.0,   1.5442
35MF62JADE_1,       IR06,      52,          1,          1,2,19890831,       0000,      -6.49,     102.05,       5098,     4.5,  27.8750,  33.7610,2,  33.7600,2,   200.0,2,    0.90,2,    0.00,2,    0.10,2,   1.530,2,  1888.0,2,  2226.0,2,-999.000,9, -999.00,9,  -999.0,9,  -999.0,  27.8739
35MF62JADE_1,       IR06,      52,          1,          2,2,19890831,       0000,      -6.49,     102.05,       5098,     4.5,  27.8750,  33.7610,2,  33.7600,2,  -999.0,9,    0.70,2,    0.00,2,    0.10,2,-999.000,9,  -999.0,9,  -999.0,9,-999.000,9, -999.00,9,  -999.0,9,  -999.0,  27.8739
35MF62JADE_1,       IR06,      52,          1,          3,2,19890831,       0000,      -6.49,     102.05,       5098,    28.3,  27.7970,  33.7710,2,  33.7700,2,   198.1,2,    0.80,2,    0.00,2,    0.12,2,   1.610,2,  1888.0,2,  2229.0,2,-999.000,9, -999.00,9,  -999.0,9,  -999.0,  27.7904
35MF62JADE_1,       IR06,      52,          1,          4,2,19890831,       0000,      -6.49,     102.05,       5098,    48.0,  25.6410,  34.4680,2,  34.4500,2,   159.5,2,    3.90,2,    2.40,2,    0.47,2,   1.330,2,  1989.0,2,  2276.0,2,-999.000,9, -999.00,9,  -999.0,9,  -999.0,  25.6304
35MF62JADE_1,       IR06,      52,          1,          5,2,19890831,       0000,      -6.49,     102.05,       5098,    70.7,  23.0910,  34.4540,2,  34.4870,2,   135.1,2,    6.40,2,    6.90,2,    0.78,2,   1.310,2,  2028.0,2,  2283.0,2,-999.000,9, -999.00,9,  -999.0,9,  -999.0,  23.0766
35MF62JADE_1,       IR06,      52,          1,          6,2,19890831,       0000,      -6.49,     102.05,       5098,    99.4,  17.8990,  34.5650,2,  34.5510,2,   116.7,2,   19.30,2,   12.50,2,    1.22,2,   1.080,2,  2108.0,2,  2300.0,2,-999.000,9, -999.00,9,  -999.0,9,  -999.0,  17.8821
35MF62JADE_1,       IR06,      52,          1,          7,2,19890831,       0000,      -6.49,     102.05,       5098,   150.8,  13.0570,  34.6670,2,  34.6720,2,    93.3,2,   29.90,2,   19.70,2,    1.81,2,   0.660,2,  -999.0,9,  -999.0,9,-999.000,9, -999.00,9,  -999.0,9,  -999.0,  13.0363
35MF62JADE_1,       IR06,      52,          1,          8,2,19890831,       0000,      -6.49,     102.05,       5098,   200.2,  11.2770,  34.6670,2,  34.6610,2,    87.9,2,   36.80,2,   21.50,2,    1.98,2,   0.470,2,  2215.0,2,  2323.0,2,-999.000,9, -999.00,9,  -999.0,9,  -999.0,  11.2520
35MF62JADE_1,       IR06,      52,          1,          9,2,19890831,       0000,      -6.49,     102.05,       5098,   300.0,  10.4650,  34.8740,2,  34.8680,2,    74.6,2,   30.30,2,   23.90,2,    2.07,2,   0.170,2,  2235.0,2,  2329.0,2,-999.000,9, -999.00,9,  -999.0,9,  -999.0,  10.4290
35MF62JADE_1,       IR06,      52,          1,         10,2,19890831,       0000,      -6.49,     102.05,       5098,   504.5,   8.9160,  34.8450,2,  34.8450,2,    71.7,2,   34.50,2,   25.50,2,    2.19,2,   0.100,2,  2248.0,2,  2331.0,2,-999.000,9, -999.00,9,  -999.0,9,  -999.0,   8.8606
35MF62JADE_1,       IR06,      52,          1,         11,2,19890831,       0000,      -6.49,     102.05,       5098,   601.1,   8.0660,  34.8200,2,  34.8170,2,    67.5,2,   54.20,2,   27.00,2,    2.34,2,   0.030,2,  2265.0,2,  2340.0,2,-999.000,9, -999.00,9,  -999.0,9,  -999.0,   8.0034
35MF62JADE_1,       IR06,      52,          1,         12,2,19890831,       0000,      -6.49,     102.05,       5098,  5087.9,   1.2120,  34.7090,2,  34.8170,2,  -999.0,9,   55.80,4,   28.50,3, -999.00,9,-999.000,9,  -999.0,9,  -999.0,9,-999.000,9, -999.00,9,  -999.0,9,  -999.0,   0.7758
35MF62JADE_1,       IR06,      53,          1,          1,2,19890831,       0000,       -6.6,     101.14,       5805,     5.2,  27.8490,  33.8270,2,  33.8270,2,   200.4,2,    4.90,2,    0.20,2,    0.16,2,   1.590,2,  1889.0,2,  2236.0,2,-999.000,9, -999.00,9,  -999.0,9,  -999.0,  27.8478
35MF62JADE_1,       IR06,      53,          1,          2,2,19890831,       0000,       -6.6,     101.14,       5805,    28.7,  27.8270,  33.8370,2,  33.8360,2,   199.7,2,    7.30,2,    0.10,2,    0.12,2,   1.490,2,  1892.0,2,  2232.0,2,-999.000,9, -999.00,9,  -999.0,9,  -999.0,  27.8203
35MF62JADE_1,       IR06,      53,          1,          3,2,19890831,       0000,       -6.6,     101.14,       5805,    49.3,  25.3880,  34.3680,2,  34.3690,2,   155.7,2,   10.30,2,    0.00,2,    0.51,2,-999.000,9,  1990.0,2,  2272.0,2,-999.000,9, -999.00,9,  -999.0,9,  -999.0,  25.3772
35MF62JADE_1,       IR06,      53,          1,          4,2,19890831,       0000,       -6.6,     101.14,       5805,    70.6,  22.6410,  34.4300,2,  34.4290,2,   130.9,2,   14.80,2,    0.00,3,    0.83,2,-999.000,9,  2041.0,2,  2280.0,2,-999.000,9, -999.00,9,  -999.0,9,  -999.0,  22.6268
35MF62JADE_1,       IR06,      53,          1,          5,2,19890831,       0000,       -6.6,     101.14,       5805,   101.3,  17.1980,  34.5510,2,  34.5710,2,   112.1,2,   24.50,2,    6.90,3,    1.29,2,   1.000,2,  2118.0,2,  2302.0,2,-999.000,9, -999.00,9,  -999.0,9,  -999.0,  17.1812
35MF62JADE_1,       IR06,      53,          1,          6,2,19890831,       0000,       -6.6,     101.14,       5805,   145.9,  13.1820,  34.6240,2,  34.6150,2,    97.6,2,   34.70,2, -999.00,9,    1.72,2,   0.650,2,  2180.0,2,  2312.0,2,-999.000,9, -999.00,9,  -999.0,9,  -999.0,  13.1619
35MF62JADE_1,       IR06,      53,          1,          7,2,19890831,       0000,       -6.6,     101.14,       5805,   201.0,  11.7850,  34.7500,2,  34.7440,2,    81.0,2,   36.40,2,   17.90,3,    1.97,2,   0.400,2,  2210.0,2,  2325.0,2,-999.000,9, -999.00,9,  -999.0,9,  -999.0,  11.7591
35MF62JADE_1,       IR06,      53,          1,          8,2,19890831,       0000,       -6.6,     101.14,       5805,   303.1,  10.1620,  34.7560,2,  34.7570,2,    78.5,2,   40.50,2,   17.40,2, -999.00,9,-999.000,9,  2234.0,2,  2329.0,2,-999.000,9, -999.00,9,  -999.0,9,  -999.0,  10.1264
35MF62JADE_1,       IR06,      53,          1,          9,2,19890831,       0000,       -6.6,     101.14,       5805,   404.2,   9.6820,  34.8060,2,  34.8030,2,    76.3,2,   40.60,2,   21.10,3,    2.19,2,   0.130,2,  2241.0,2,  2331.0,2,-999.000,9, -999.00,9,  -999.0,9,  -999.0,   9.6356
35MF62JADE_1,       IR06,      53,          1,         10,2,19890831,       0000,       -6.6,     101.14,       5805,   506.5,   8.9120,  34.8190,2,  34.8210,2,    72.1,2,   56.10,2,   16.50,3,    2.23,2,   0.030,2,  2254.0,2,  2335.0,2,-999.000,9, -999.00,9,  -999.0,9,  -999.0,   8.8564
35MF62JADE_1,       IR06,      53,          1,         11,2,19890831,       0000,       -6.6,     101.14,       5805,   602.0,   8.1230,  34.8240,2,  34.8240,2,    63.7,2,   57.40,2, -999.00,9,    2.54,2,   0.000,2,  2275.0,2,  2348.0,2,-999.000,9, -999.00,9,  -999.0,9,  -999.0,   8.0601
35MF62JADE_1,       IR06,      53,          1,         12,2,19890831,       0000,       -6.6,     101.14,       5805,  5515.5,   1.2570,  34.7110,2,  34.7130,2,   198.1,2,  122.90,2,   20.30,3,    2.31,2,-999.000,9,  2296.0,2,  2410.0,2,-999.000,9, -999.00,9,  -999.0,9,  -999.0,   0.7670