BOTTLE,20221003CCHSIOAMB
EXPOCODE,SECT_ID,STNNBR,CASTNO,BTLNBR,BTLNBR_FLAG_W,DATE,TIME,LATITUDE,LONGITUDE,DEPTH,CTDPRS,CTDTMP,CTDSAL,CTDSAL_FLAG_W,SALNTY,SALNTY_FLAG_W,OXYGEN,OXYGEN_FLAG_W,SILCAT,SILCAT_FLAG_W,NITRAT,NITRAT_FLAG_W,PHSPHT,PHSPHT_FLAG_W,CFC-11,CFC-11_FLAG_W,TCARBN,TCARBN_FLAG_W,ALKALI,ALKALI_FLAG_W,TRITUM,TRITUM_FLAG_W,DELHE3,DELHE3_FLAG_W,DELC14,DELC14_FLAG_W,C14ERR,THETA
,,,,,,,,,,METERS,DBAR,ITS-90,PSS-78,,PSS-78,,UMOL/KG,,UMOL/KG,,UMOL/KG,,UMOL/KG,,PMOL/KG,,UMOL/KG,,UMOL/KG,,TU,,PERCNT,,/MILLE,,/MILLE,DEG C
35MF62JADE_1,       IR06,      64,          1,          1,2,19890905,       0000,          0,      93.56,       4452,     3.7,  28.9190,  34.1040,2,  34.1050,2,  -999.0,9, -999.00,9, -999.00,9, -999.00,9,-999.000,9,  -999.0,9,  -999.0,9,-999.000,9, -999.00,9,  -999.0,9,  -999.0,  28.9181
35MF62JADE_1,       IR06,      64,          1,          2,2,19890905,       0000,          0,      93.56,       4452,    30.2,  28.8990,  34.2130,2,  34.2070,2,  -999.0,9, -999.00,9, -999.00,9, -999.00,9,   1.680,2,  -999.0,9,  -999.0,9,-999.000,9, -999.00,9,  -999.0,9,  -999.0,  28.8917
35MF62JADE_1,       IR06,      64,          1,          3,2,19890905,       0000,          0,      93.56,       4452,    51.1,  28.5660,  34.3120,2,  34.3270,2,  -999.0,9, -999.00,9, -999.00,9, -999.00,9,   1.610,2,  -999.0,9,  -999.0,9,-999.000,9, -999.00,9,  -999.0,9,  -999.0,  28.5538
35MF62JADE_1,       IR06,      64,          1,          4,2,19890905,       0000,          0,      93.56,       4452,    74.8,  28.2420,  34.6060,2,  34.6000,2,  -999.0,9, -999.00,9, -999.00,9, -999.00,9,   1.590,2,  -999.0,9,  -999.0,9,-999.000,9, -999.00,9,  -999.0,9,  -999.0,  28.2243
35MF62JADE_1,       IR06,      64,          1,          5,2,19890905,       0000,          0,      93.56,       4452,   102.6,  27.0530,  34.7500,2,  34.7780,2,  -999.0,9, -999.00,9, -999.00,9, -999.00,9,   1.330,2,  -999.0,9,  -999.0,9,-999.000,9, -999.00,9,  -999.0,9,  -999.0,  27.0294
35MF62JADE_1,       IR06,      64,          1,          6,2,19890905,       0000,          0,      93.56,       4452,   151.5,  14.8300,  35.1210,2,  35.1200,2,  -999.0,9, -999.00,9, -999.00,9, -999.00,9,   0.650,2,  -999.0,9,  -999.0,9,-999.000,9, -999.00,9,  -999.0,9,  -999.0,  14.8072
35MF62JADE_1,       IR06,      64,          1,          7,2,19890905,       0000,          0,      93.56,       4452,   202.5,  12.6210,  35.0960,2,  35.0930,2,  -999.0,9, -999.00,9, -999.00,9, -999.00,9,   0.470,2,  -999.0,9,  -999.0,9,-999.000,9, -999.00,9,  -999.0,9,  -999.0,  12.5937
35MF62JADE_1,       IR06,      64,          1,          8,2,19890905,       0000,          0,      93.56,       4452,   302.2,  11.2640,  35.0280,2,  35.0300,2,  -999.0,9, -999.00,9, -999.00,9, -999.00,9,   0.310,2,  -999.0,9,  -999.0,9,-999.000,9, -999.00,9,  -999.0,9,  -999.0,  11.2260
35MF62JADE_1,       IR06,      64,          1,          9,2,19890905,       0000,          0,      93.56,       4452,   403.4,  10.5560,  34.9930,2,  34.9910,2,  -999.0,9, -999.00,9, -999.00,9, -999.00,9,   0.260,2,  -999.0,9,  -999.0,9,-999.000,9, -999.00,9,  -999.0,9,  -999.0,  10.5071
35MF62JADE_1,       IR06,      64,          1,         10,2,19890905,       0000,          0,      93.56,       4452,   501.4,  10.0410,  35.0000,2,  34.9990,2,  -999.0,9, -999.00,9, -999.00,9, -999.00,9,-999.000,9,  -999.0,9,  -999.0,9,-999.000,9, -999.00,9,  -999.0,9,  -999.0,   9.9818
35MF62JADE_1,       IR06,      64,          1,         11,2,19890905,       0000,          0,      93.56,       4452,   603.7,   9.0430,  34.9790,2,  34.9850,2,  -999.0,9, -999.00,9, -999.00,9, -999.00,9,-999.000,9,  -999.0,9,  -999.0,9,-999.000,9, -999.00,9,  -999.0,9,  -999.0,   8.9757
35MF62JADE_1,       IR06,      64,          1,         12,2,19890905,       0000,          0,      93.56,       4452,  1011.6,   6.5180,  34.9160,2,  34.9260,2,  -999.0,9, -999.00,9, -999.00,9, -999.00,9,   0.000,2,  -999.0,9,  -999.0,9,-999.000,9, -999.00,9,  -999.0,9,  -999.0,   6.4214
35MF62JADE_1,       IR06,      65,          1,          1,2,19890906,       0000,          0,      92.11,       4477,     4.4,  28.7030,  34.2040,2,  34.2020,2,  -999.0,9, -999.00,9, -999.00,9, -999.00,9,   1.630,2,  -999.0,9,  -999.0,9,-999.000,9, -999.00,9,  -999.0,9,  -999.0,  28.7019
35MF62JADE_1,       IR06,      65,          1,          2,2,19890906,       0000,          0,      92.11,       4477,    28.7,  28.4550,  34.2990,2,  34.2970,2,  -999.0,9, -999.00,9, -999.00,9, -999.00,9,   1.640,2,  -999.0,9,  -999.0,9,-999.000,9, -999.00,9,  -999.0,9,  -999.0,  28.4482
35MF62JADE_1,       IR06,      65,          1,          3,2,19890906,       0000,          0,      92.11,       4477,    51.0,  28.2290,  34.2630,2,  34.2580,2,  -999.0,9, -999.00,9, -999.00,9, -999.00,9,   1.610,2,  -999.0,9,  -999.0,9,-999.000,9, -999.00,9,  -999.0,9,  -999.0,  28.2169
35MF62JADE_1,       IR06,      65,          1,          4,2,19890906,       0000,          0,      92.11,       4477,    75.6,  28.1920,  34.5000,2,  34.4890,2,  -999.0,9, -999.00,9, -999.00,9, -999.00,9,   1.610,2,  -999.0,9,  -999.0,9,-999.000,9, -999.00,9,  -999.0,9,  -999.0,  28.1741
35MF62JADE_1,       IR06,      65,          1,          5,2,19890906,       0000,          0,      92.11,       4477,   101.3,  27.7080,  34.7570,2,  34.7510,2,  -999.0,9, -999.00,9, -999.00,9, -999.00,9,   1.530,2,  -999.0,9,  -999.0,9,-999.000,9, -999.00,9,  -999.0,9,  -999.0,  27.6843
35MF62JADE_1,       IR06,      65,          1,          6,2,19890906,       0000,          0,      92.11,       4477,   150.4,  14.5910,  35.1290,2,  35.1160,2,  -999.0,9, -999.00,9, -999.00,9, -999.00,9,   0.610,2,  -999.0,9,  -999.0,9,-999.000,9, -999.00,9,  -999.0,9,  -999.0,  14.5687
35MF62JADE_1,       IR06,      65,          1,          7,2,19890906,       0000,          0,      92.11,       4477,   202.1,  12.5270,  35.0930,2,  35.0900,2,  -999.0,9, -999.00,9, -999.00,9, -999.00,9,   0.440,2,  -999.0,9,  -999.0,9,-999.000,9, -999.00,9,  -999.0,9,  -999.0,  12.4998
35MF62JADE_1,       IR06,      65,          1,          8,2,19890906,       0000,          0,      92.11,       4477,   294.6,  11.6750,  35.0590,2,  35.0610,2,  -999.0,9, -999.00,9, -999.00,9, -999.00,9,   0.340,2,  -999.0,9,  -999.0,9,-999.000,9, -999.00,9,  -999.0,9,  -999.0,  11.6371
35MF62JADE_1,       IR06,      65,          1,          9,2,19890906,       0000,          0,      92.11,       4477,   403.1,  10.5380,  35.0110,2,  35.0110,2,  -999.0,9, -999.00,9, -999.00,9, -999.00,9,   0.190,2,  -999.0,9,  -999.0,9,-999.000,9, -999.00,9,  -999.0,9,  -999.0,  10.4892
35MF62JADE_1,       IR06,      65,          1,         10,2,19890906,       0000,          0,      92.11,       4477,   503.2,   9.7140,  35.0010,2,  35.0010,2,  -999.0,9, -999.00,9, -999.00,9, -999.00,9,   0.110,2,  -999.0,9,  -999.0,9,-999.000,9, -999.00,9,  -999.0,9,  -999.0,   9.6557
35MF62JADE_1,       IR06,      65,          1,         11,2,19890906,       0000,          0,      92.11,       4477,   604.3,   8.7030,  34.9890,2,  34.9880,2,  -999.0,9, -999.00,9, -999.00,9, -999.00,9,   0.090,2,  -999.0,9,  -999.0,9,-999.000,9, -999.00,9,  -999.0,9,  -999.0,   8.6371
35MF62JADE_1,       IR06,      65,          1,         12,2,19890906,       0000,          0,      92.11,       4477,  1017.9,   6.6020,  34.9240,2,  34.9270,2,  -999.0,9, -999.00,9, -999.00,9, -999.00,9,   0.000,2,  -999.0,9,  -999.0,9,-999.000,9, -999.00,9,  -999.0,9,  -999.0,   6.5041
35MF62JADE_1,       IR06,      66,          1,          1,2,19890906,       0000,       0.01,      90.18,       3652,     2.6,  28.5930,  34.3550,2,  34.3560,2,  -999.0,9, -999.00,9, -999.00,9, -999.00,9,   1.710,2,  -999.0,9,  -999.0,9,-999.000,9, -999.00,9,  -999.0,9,  -999.0,  28.5924
35MF62JADE_1,       IR06,      66,          1,          2,2,19890906,       0000,       0.01,      90.18,       3652,    31.2,  28.4880,  34.3550,2,  34.3530,2,  -999.0,9, -999.00,9, -999.00,9, -999.00,9,   1.590,2,  -999.0,9,  -999.0,9,-999.000,9, -999.00,9,  -999.0,9,  -999.0,  28.4806
35MF62JADE_1,       IR06,      66,          1,          3,2,19890906,       0000,       0.01,      90.18,       3652,    49.6,  28.3740,  34.3430,2,  34.3420,2,  -999.0,9, -999.00,9, -999.00,9, -999.00,9,   1.600,2,  -999.0,9,  -999.0,9,-999.000,9, -999.00,9,  -999.0,9,  -999.0,  28.3622
35MF62JADE_1,       IR06,      66,          1,          4,2,19890906,       0000,       0.01,      90.18,       3652,    75.0,  28.1500,  34.3760,2,  34.3690,2,  -999.0,9, -999.00,9, -999.00,9, -999.00,9,   1.390,2,  -999.0,9,  -999.0,9,-999.000,9, -999.00,9,  -999.0,9,  -999.0,  28.1323
35MF62JADE_1,       IR06,      66,          1,          5,2,19890906,       0000,       0.01,      90.18,       3652,   104.5,  23.6220,  34.9340,2,  35.0210,2,  -999.0,9, -999.00,9, -999.00,9, -999.00,9,   1.060,2,  -999.0,9,  -999.0,9,-999.000,9, -999.00,9,  -999.0,9,  -999.0,  23.6003
35MF62JADE_1,       IR06,      66,          1,          6,2,19890906,       0000,       0.01,      90.18,       3652,   151.1,  14.3070,  35.1190,2,  35.1190,2,  -999.0,9, -999.00,9, -999.00,9, -999.00,9,   0.490,2,  -999.0,9,  -999.0,9,-999.000,9, -999.00,9,  -999.0,9,  -999.0,  14.2848
35MF62JADE_1,       IR06,      66,          1,          7,2,19890906,       0000,       0.01,      90.18,       3652,   195.6,  13.7710,  35.1230,2,  35.1220,2,  -999.0,9, -999.00,9, -999.00,9, -999.00,9,-999.000,9,  -999.0,9,  -999.0,9,-999.000,9, -999.00,9,  -999.0,9,  -999.0,  13.7430
35MF62JADE_1,       IR06,      66,          1,          8,2,19890906,       0000,       0.01,      90.18,       3652,   307.2,  11.0670,  35.0230,2,  35.0260,2,  -999.0,9, -999.00,9, -999.00,9, -999.00,9,   0.260,2,  -999.0,9,  -999.0,9,-999.000,9, -999.00,9,  -999.0,9,  -999.0,  11.0288
35MF62JADE_1,       IR06,      66,          1,          9,2,19890906,       0000,       0.01,      90.18,       3652,   403.3,  10.4420,  35.0070,2,  35.0090,2,  -999.0,9, -999.00,9, -999.00,9, -999.00,9,   0.130,2,  -999.0,9,  -999.0,9,-999.000,9, -999.00,9,  -999.0,9,  -999.0,  10.3934
35MF62JADE_1,       IR06,      66,          1,         10,2,19890906,       0000,       0.01,      90.18,       3652,   506.9,   9.8850,  35.0030,2,  34.9970,2,  -999.0,9, -999.00,9, -999.00,9, -999.00,9,   0.030,2,  -999.0,9,  -999.0,9,-999.000,9, -999.00,9,  -999.0,9,  -999.0,   9.8257
35MF62JADE_1,       IR06,      66,          1,         11,2,19890906,       0000,       0.01,      90.18,       3652,   601.4,   9.1980,  35.0000,2,  35.0000,2,  -999.0,9, -999.00,9, -999.00,9, -999.00,9,   0.020,2,  -999.0,9,  -999.0,9,-999.000,9, -999.00,9,  -999.0,9,  -999.0,   9.1303
35MF62JADE_1,       IR06,      66,          1,         12,2,19890906,       0000,       0.01,      90.18,       3652,  1006.9,   6.5750,  34.9190,2,  34.9250,2,  -999.0,9, -999.00,9, -999.00,9, -999.00,9,   0.000,2,  -999.0,9,  -999.0,9,-999.000,9, -999.00,9,  -999.0,9,  -999.0,   6.4785
35MF62JADE_1,       IR06,      67,          1,          1,2,19890907,       0000,          0,      86.29,       4532,    28.8,  28.3060,  34.6550,2,  34.3540,2,  -999.0,9, -999.00,9, -999.00,9, -999.00,9,   1.600,2,  -999.0,9,  -999.0,9,-999.000,9, -999.00,9,  -999.0,9,  -999.0,  28.2992
35MF62JADE_1,       IR06,      67,          1,          2,2,19890907,       0000,          0,      86.29,       4532,    49.9,  28.2050,  34.6550,2,  34.6530,2,  -999.0,9, -999.00,9, -999.00,9, -999.00,9,   1.610,2,  -999.0,9,  -999.0,9,-999.000,9, -999.00,9,  -999.0,9,  -999.0,  28.1932
35MF62JADE_1,       IR06,      67,          1,          3,2,19890907,       0000,          0,      86.29,       4532,    58.8,  28.1100,  34.6570,2,  34.6560,2,  -999.0,9, -999.00,9, -999.00,9, -999.00,9,   1.610,2,  -999.0,9,  -999.0,9,-999.000,9, -999.00,9,  -999.0,9,  -999.0,  28.0961
35MF62JADE_1,       IR06,      67,          1,          4,2,19890907,       0000,          0,      86.29,       4532,    69.9,  28.0290,  34.6580,2,  34.6540,2,  -999.0,9, -999.00,9, -999.00,9, -999.00,9,   1.410,2,  -999.0,9,  -999.0,9,-999.000,9, -999.00,9,  -999.0,9,  -999.0,  28.0125
35MF62JADE_1,       IR06,      67,          1,          5,2,19890907,       0000,          0,      86.29,       4532,    80.1,  27.9570,  34.6520,2,  34.6490,2,  -999.0,9, -999.00,9, -999.00,9, -999.00,9,   1.580,2,  -999.0,9,  -999.0,9,-999.000,9, -999.00,9,  -999.0,9,  -999.0,  27.9382
35MF62JADE_1,       IR06,      67,          1,          6,2,19890907,       0000,          0,      86.29,       4532,    90.1,  21.0410,  35.0360,2,  34.7890,2,  -999.0,9, -999.00,9, -999.00,9, -999.00,9,   0.940,2,  -999.0,9,  -999.0,9,-999.000,9, -999.00,9,  -999.0,9,  -999.0,  21.0238
35MF62JADE_1,       IR06,      67,          1,          7,2,19890907,       0000,          0,      86.29,       4532,   100.9,  18.8530,  35.1600,2,  35.1490,2,  -999.0,9, -999.00,9, -999.00,9, -999.00,9,   0.710,2,  -999.0,9,  -999.0,9,-999.000,9, -999.00,9,  -999.0,9,  -999.0,  18.8351
35MF62JADE_1,       IR06,      67,          1,          8,2,19890907,       0000,          0,      86.29,       4532,   126.2,  16.9350,  35.1600,2,  35.1440,2,  -999.0,9, -999.00,9, -999.00,9, -999.00,9,   0.800,2,  -999.0,9,  -999.0,9,-999.000,9, -999.00,9,  -999.0,9,  -999.0,  16.9142
35MF62JADE_1,       IR06,      67,          1,          9,2,19890907,       0000,          0,      86.29,       4532,   151.8,  15.6060,  35.1570,2,  35.1590,2,  -999.0,9, -999.00,9, -999.00,9, -999.00,9,   0.540,2,  -999.0,9,  -999.0,9,-999.000,9, -999.00,9,  -999.0,9,  -999.0,  15.5824
35MF62JADE_1,       IR06,      67,          1,         10,2,19890907,       0000,          0,      86.29,       4532,   201.2,  12.9880,  35.1030,2,  35.1070,2,  -999.0,9, -999.00,9, -999.00,9, -999.00,9,   0.190,2,  -999.0,9,  -999.0,9,-999.000,9, -999.00,9,  -999.0,9,  -999.0,  12.9603
35MF62JADE_1,       IR06,      67,          1,         11,2,19890907,       0000,          0,      86.29,       4532,  1008.5,   6.6030,  34.9200,2,  34.9190,2,  -999.0,9, -999.00,9, -999.00,9, -999.00,9,   0.080,2,  -999.0,9,  -999.0,9,-999.000,9, -999.00,9,  -999.0,9,  -999.0,   6.5061
35MF62JADE_1,       IR06,      67,          1,         12,2,19890907,       0000,          0,      86.29,       4532,  1008.5,   6.6030,  34.9200,2,  34.9200,2,  -999.0,9, -999.00,9, -999.00,9, -999.00,9,-999.000,9,  -999.0,9,  -999.0,9,-999.000,9, -999.00,9,  -999.0,9,  -999.0,   6.5061