BOTTLE,20221003CCHSIOAMB
EXPOCODE,SECT_ID,STNNBR,CASTNO,BTLNBR,BTLNBR_FLAG_W,DATE,TIME,LATITUDE,LONGITUDE,DEPTH,CTDPRS,CTDTMP,CTDSAL,CTDSAL_FLAG_W,SALNTY,SALNTY_FLAG_W,OXYGEN,OXYGEN_FLAG_W,SILCAT,SILCAT_FLAG_W,NITRAT,NITRAT_FLAG_W,PHSPHT,PHSPHT_FLAG_W,CFC-11,CFC-11_FLAG_W,TCARBN,TCARBN_FLAG_W,ALKALI,ALKALI_FLAG_W,TRITUM,TRITUM_FLAG_W,DELHE3,DELHE3_FLAG_W,DELC14,DELC14_FLAG_W,C14ERR,THETA
,,,,,,,,,,METERS,DBAR,ITS-90,PSS-78,,PSS-78,,UMOL/KG,,UMOL/KG,,UMOL/KG,,UMOL/KG,,PMOL/KG,,UMOL/KG,,UMOL/KG,,TU,,PERCNT,,/MILLE,,/MILLE,DEG C
35MF62JADE_1,       IR06,      29,          1,          1,2,19890822,       0000,     -11.07,      121.5,       1755,     2.0,  26.1550,  33.8390,2,  33.8400,2,   212.3,2,    3.80,2,    0.20,2,    0.11,2,-999.000,9,  1913.0,2,  2243.0,2,   1.632,2,    3.78,2,  -999.0,9,  -999.0,  26.1546
35MF62JADE_1,       IR06,      29,          1,          2,2,19890822,       0000,     -11.07,      121.5,       1755,    49.9,  26.0190,  33.8520,2,  33.8550,2,   207.2,2,    6.00,2,    0.40,2,    0.24,2,-999.000,9,  1910.0,2,  2238.0,2,   1.644,2,    2.75,2,  -999.0,9,  -999.0,  26.0079
35MF62JADE_1,       IR06,      29,          1,          3,2,19890822,       0000,     -11.07,      121.5,       1755,    98.5,  23.3190,  34.3270,2,  34.0180,2,   147.8,2,   11.70,2,    6.30,2,    0.55,2,-999.000,9,  2003.0,2,  2258.0,2,   1.554,2, -999.00,9,  -999.0,9,  -999.0,  23.2988
35MF62JADE_1,       IR06,      29,          1,          4,2,19890822,       0000,     -11.07,      121.5,       1755,    98.5,  23.3190,  34.3270,2,  34.0400,2,  -999.0,9,   12.30,2,    7.00,2,    0.58,2,-999.000,9,  -999.0,9,  -999.0,9,-999.000,9, -999.00,9,  -999.0,9,  -999.0,  23.2988
35MF62JADE_1,       IR06,      29,          1,          5,2,19890822,       0000,     -11.07,      121.5,       1755,    98.5,  23.3190,  34.3270,2,  34.1590,2,  -999.0,9,   14.70,2,    8.50,2,    0.66,2,-999.000,9,  -999.0,9,  -999.0,9,-999.000,9, -999.00,9,  -999.0,9,  -999.0,  23.2988
35MF62JADE_1,       IR06,      29,          1,          6,2,19890822,       0000,     -11.07,      121.5,       1755,   199.7,  13.1250,  34.5430,2,  34.5350,2,   108.4,2,   36.30,2,   22.90,3,    2.01,3,-999.000,9,  2166.0,2,  2311.0,2,   1.111,2,   10.06,2,  -999.0,9,  -999.0,  13.0975
35MF62JADE_1,       IR06,      29,          1,          7,2,19890822,       0000,     -11.07,      121.5,       1755,   300.5,   9.9720,  34.5460,2,  34.5460,2,   101.2,2,   46.10,2,   28.00,3,    1.69,3,-999.000,9,  2216.0,2,  2325.0,2,   0.783,2,   12.76,2,  -999.0,9,  -999.0,   9.9372
35MF62JADE_1,       IR06,      29,          1,          8,2,19890822,       0000,     -11.07,      121.5,       1755,   402.9,   8.3390,  34.5620,2,  34.5610,2,    96.0,2,   57.40,2,   30.90,2,    2.22,2,-999.000,9,  2242.0,2,  2340.0,2,   0.523,2,   13.37,2,  -999.0,9,  -999.0,   8.2969
35MF62JADE_1,       IR06,      29,          1,          9,2,19890822,       0000,     -11.07,      121.5,       1755,   503.4,   7.2790,  34.5700,2,  34.5680,2,    95.0,2,   64.70,2,   32.20,2,    2.35,2,-999.000,9,  2264.0,2,  2351.0,2,   0.375,2,   13.63,2,  -999.0,9,  -999.0,   7.2301
35MF62JADE_1,       IR06,      29,          1,         10,2,19890822,       0000,     -11.07,      121.5,       1755,   604.7,   6.5720,  34.5780,2,  34.5760,2,    96.2,2,   74.10,2,   33.10,2,    2.40,2,-999.000,9,  2279.0,2,  2362.0,2,   0.278,2,   14.68,2,  -999.0,9,  -999.0,   6.5160
35MF62JADE_1,       IR06,      29,          1,         11,2,19890822,       0000,     -11.07,      121.5,       1755,   906.4,   5.0730,  34.5920,2,  34.5940,2,   101.2,2, -999.00,9,   34.80,2,    2.57,2,-999.000,9,  2305.0,2,  2384.0,2,   0.169,2,   17.00,2,  -999.0,9,  -999.0,   4.9974
35MF62JADE_1,       IR06,      29,          1,         12,2,19890822,       0000,     -11.07,      121.5,       1755,  1212.2,   4.1420,  34.6230,2,  34.6170,2,   106.8,2,  103.30,2,   35.40,2,    2.59,2,-999.000,9,  2316.0,2,  2398.0,2,   0.124,2,   17.06,2,  -999.0,9,  -999.0,   4.0468
35MF62JADE_1,       IR06,      29,          1,         13,2,19890822,       0000,     -11.07,      121.5,       1755,  1513.1,   3.3230,  34.6710,2,  34.6700,2,   120.3,2,  112.40,2,   35.30,2,    2.57,2,-999.000,9,  2319.0,2,  2408.0,2,   0.079,2,   15.03,2,  -999.0,9,  -999.0,   3.2101
35MF62JADE_1,       IR06,      29,          1,         14,2,19890822,       0000,     -11.07,      121.5,       1755,  1745.3,   2.8040,  34.7010,2,  34.7020,2,   133.6,2,  116.50,2,   34.90,2,    2.51,2,-999.000,9,  2327.0,2,  2410.0,2,-999.000,9,   13.83,2,  -999.0,9,  -999.0,   2.6775
35MF62JADE_1,       IR06,      30,          1,          1,2,19890824,       0000,     -11.02,     122.01,        978,     3.3,  26.0510,  34.1530,2,  33.8610,2,   208.4,2,    2.70,2,    0.20,2,    0.16,2,   1.410,2,  1912.0,2,  2235.0,2,-999.000,9, -999.00,9,  -999.0,9,  -999.0,  26.0503
35MF62JADE_1,       IR06,      30,          1,          2,2,19890824,       0000,     -11.02,     122.01,        978,    29.4,  26.0610,  33.8640,2,  33.8630,2,   207.7,2,    2.30,2,    0.20,2,    0.12,2,   1.410,2,  1910.0,2,  2236.0,2,-999.000,9, -999.00,9,  -999.0,9,  -999.0,  26.0545
35MF62JADE_1,       IR06,      30,          1,          3,2,19890824,       0000,     -11.02,     122.01,        978,    50.0,  26.0670,  33.8630,2,  33.8650,2,   205.9,2,    3.10,2,    0.20,2,    0.12,2,   1.410,2,  1917.0,2,  2239.0,2,-999.000,9, -999.00,9,  -999.0,9,  -999.0,  26.0559
35MF62JADE_1,       IR06,      30,          1,          4,2,19890824,       0000,     -11.02,     122.01,        978,    69.6,  26.0670,  33.8760,2,  33.8850,2,   203.8,2,    2.40,2,    0.30,2,    0.16,2,-999.000,9,  1920.0,2,  2237.0,2,-999.000,9, -999.00,9,  -999.0,9,  -999.0,  26.0515
35MF62JADE_1,       IR06,      30,          1,          5,2,19890824,       0000,     -11.02,     122.01,        978,   100.7,  24.6390,  34.2610,2,  34.2690,2,   144.4,2,   10.80,2,    7.60,2,    0.67,2,   1.160,2,  2010.0,2,  2263.0,2,-999.000,9, -999.00,9,  -999.0,9,  -999.0,  24.6175
35MF62JADE_1,       IR06,      30,          1,          6,2,19890824,       0000,     -11.02,     122.01,        978,   125.6,  21.4250,  34.3120,2,  34.3230,2,   134.7,2,   16.10,2,   11.90,2,    0.92,2,   1.060,2,  2049.0,2,  2273.0,2,-999.000,9, -999.00,9,  -999.0,9,  -999.0,  21.4007
35MF62JADE_1,       IR06,      30,          1,          7,2,19890824,       0000,     -11.02,     122.01,        978,   150.7,  18.0050,  34.4960,2,  34.5120,2,   116.8,2,   23.70,2,   17.80,2,    1.27,2,   1.090,2,  2111.0,2,  2295.0,2,-999.000,9, -999.00,9,  -999.0,9,  -999.0,  17.9792
35MF62JADE_1,       IR06,      30,          1,          8,2,19890824,       0000,     -11.02,     122.01,        978,   200.6,  14.1600,  34.5430,2,  34.5400,2,   111.7,2,   31.60,2,   22.30,2,    1.56,2,-999.000,9,  2156.0,2,  2308.0,2,-999.000,9, -999.00,9,  -999.0,9,  -999.0,  14.1309
35MF62JADE_1,       IR06,      30,          1,          9,2,19890824,       0000,     -11.02,     122.01,        978,   302.1,  10.0160,  34.5450,2,  34.5460,2,   103.1,2,   45.40,2,   28.60,2,    1.99,2,   0.340,2,  2216.0,2,  2323.0,2,-999.000,9, -999.00,9,  -999.0,9,  -999.0,   9.9809
35MF62JADE_1,       IR06,      30,          1,         10,2,19890824,       0000,     -11.02,     122.01,        978,   402.1,   8.1900,  34.5520,2,  34.5650,2,    98.6,2,   56.40,2,   32.20,2,    2.24,2,-999.000,9,  2247.0,2,  2337.0,2,-999.000,9, -999.00,9,  -999.0,9,  -999.0,   8.1484
35MF62JADE_1,       IR06,      30,          1,         11,2,19890824,       0000,     -11.02,     122.01,        978,   503.0,   6.9630,  34.5760,2,  34.5700,2,    96.5,2,   68.60,2,   33.90,2,    2.41,2,   0.000,2,  2269.0,2,  2352.0,2,-999.000,9, -999.00,9,  -999.0,9,  -999.0,   6.9153
35MF62JADE_1,       IR06,      30,          1,         12,2,19890824,       0000,     -11.02,     122.01,        978,   604.9,   6.2790,  34.5750,2,  34.5740,2,    98.7,2,   74.80,2,   34.20,2,    2.43,2,-999.000,9,  2282.0,2,  2361.0,2,-999.000,9, -999.00,9,  -999.0,9,  -999.0,   6.2244
35MF62JADE_1,       IR06,      31,          1,          1,2,19890822,       0000,     -11.04,     122.16,        984,     1.8,  26.0360,  33.9670,2,  33.9670,2,   198.6,2,    6.40,2,    1.40,2,    0.22,2,   1.620,2,  1929.0,2,  2240.0,2,   1.557,2,   -0.62,2,  -999.0,9,  -999.0,  26.0356
35MF62JADE_1,       IR06,      31,          1,          2,2,19890822,       0000,     -11.04,     122.16,        984,    51.8,  25.9800,  33.9880,2,  33.9990,2,   188.4,2,    7.70,2,    2.40,2,    0.28,2,   1.440,2,  1937.0,2,  2243.0,2,   1.532,2,    0.40,2,  -999.0,9,  -999.0,  25.9685
35MF62JADE_1,       IR06,      31,          1,          3,2,19890822,       0000,     -11.04,     122.16,        984,   101.5,  24.4380,  34.1820,2,  34.1810,2,   150.1,2,   13.60,2,    7.50,2,    0.62,2,   1.310,2,  1998.0,2,  2257.0,2,   1.513,2,    2.01,2,  -999.0,9,  -999.0,  24.4164
35MF62JADE_1,       IR06,      31,          1,          4,2,19890822,       0000,     -11.04,     122.16,        984,   151.0,  19.6870,  34.5040,2,  34.4950,2,   118.6,2,   23.10,2,   15.70,2,    1.14,2,   1.030,2,  2089.0,2,  2290.0,2,   1.393,2,    7.22,2,  -999.0,9,  -999.0,  19.6595
35MF62JADE_1,       IR06,      31,          1,          5,2,19890822,       0000,     -11.04,     122.16,        984,   201.7,  13.1880,  34.5430,2,  34.5400,2,   109.1,2,   36.70,2,   24.20,2,    1.67,2,   0.670,2,  2168.0,2,  2313.0,2,   1.100,2,   10.76,2,  -999.0,9,  -999.0,  13.1601
35MF62JADE_1,       IR06,      31,          1,          6,2,19890822,       0000,     -11.04,     122.16,        984,   251.4,  10.2570,  34.5460,2,  34.5470,2,   100.5,2,   47.60,2,   28.20,2,    1.95,2,   0.410,2,  2215.0,2,  2321.0,2,   0.810,2,   12.75,2,  -999.0,9,  -999.0,  10.2274
35MF62JADE_1,       IR06,      31,          1,          7,2,19890822,       0000,     -11.04,     122.16,        984,   303.4,   9.8260,  34.5280,2,  34.5470,2,   100.1,2,   50.00,2,   29.20,2,    2.04,2,   0.390,2,  2219.0,2,  2326.0,2,   0.718,2, -999.00,9,  -999.0,9,  -999.0,   9.7912
35MF62JADE_1,       IR06,      31,          1,          8,2,19890822,       0000,     -11.04,     122.16,        984,   405.7,   8.3270,  34.5620,2,  34.5610,2,    95.6,2,   59.70,2,   31.60,2,    2.22,2,   0.170,2,  2248.0,2,  2338.0,2,   0.572,2,   14.04,2,  -999.0,9,  -999.0,   8.2847
35MF62JADE_1,       IR06,      31,          1,          9,2,19890822,       0000,     -11.04,     122.16,        984,   508.8,   7.4070,  34.5680,2,  34.5680,2,    96.0,2,   68.40,2,   33.00,2,    2.35,2,   0.140,2,  2266.0,2,  2349.0,2,   0.360,2, -999.00,9,  -999.0,9,  -999.0,   7.3570
35MF62JADE_1,       IR06,      31,          1,         10,2,19890822,       0000,     -11.04,     122.16,        984,   706.9,   5.8220,  34.5850,2,  34.5810,2,    98.1,2,   85.50,2,   35.40,2,    2.50,2,   0.050,2,  2292.0,2,  2372.0,2,-999.000,9,   16.69,2,  -999.0,9,  -999.0,   5.7601
35MF62JADE_1,       IR06,      31,          1,         11,2,19890822,       0000,     -11.04,     122.16,        984,   905.6,   5.0970,  34.5920,2,  34.5900,2,   100.3,2,   94.00,2,   36.10,2,    2.55,2,   0.100,2,  2302.0,2,  2383.0,2,-999.000,9,   17.19,2,  -999.0,9,  -999.0,   5.0214
35MF62JADE_1,       IR06,      31,          1,         12,2,19890822,       0000,     -11.04,     122.16,        984,   973.7,   4.9070,  34.5950,2,  34.5930,2,   101.9,2,   97.00,2,   36.30,2,    2.57,2,-999.000,9,  2302.0,2,  2386.0,2,-999.000,9,   17.99,2,  -999.0,9,  -999.0,   4.8266
35MF62JADE_1,       IR06,      32,          1,          1,2,19890823,       0000,     -11.07,     122.27,        978,    30.2,  26.2750,  33.9140,2,  33.9130,2,   200.6,2,    5.80,2,    0.90,2,    0.18,2,-999.000,9,  1923.0,2,  2239.0,2,-999.000,9, -999.00,9,  -999.0,9,  -999.0,  26.2682
35MF62JADE_1,       IR06,      32,          1,          2,2,19890823,       0000,     -11.07,     122.27,        978,    49.0,  26.2370,  33.9400,2,  33.9400,2,   194.6,2,    8.90,2,    1.40,2,    0.21,2,-999.000,9,  1928.0,2,  2240.0,2,-999.000,9, -999.00,9,  -999.0,9,  -999.0,  26.2260
35MF62JADE_1,       IR06,      32,          1,          3,2,19890823,       0000,     -11.07,     122.27,        978,    69.7,  26.0250,  34.2730,2,  34.2900,2,   152.1,2,    9.90,2,    1.40,2,    0.53,2,-999.000,9,  1981.0,2,  2258.0,2,-999.000,9, -999.00,9,  -999.0,9,  -999.0,  26.0095
35MF62JADE_1,       IR06,      32,          1,          4,2,19890823,       0000,     -11.07,     122.27,        978,    99.1,  24.4020,  34.2300,2,  34.2390,2,   147.3,2,   15.40,2,    8.30,2,    0.67,2,-999.000,9,  2004.0,2,  2260.0,2,-999.000,9, -999.00,9,  -999.0,9,  -999.0,  24.3810
35MF62JADE_1,       IR06,      32,          1,          5,2,19890823,       0000,     -11.07,     122.27,        978,   124.9,  20.8960,  34.3420,2,  34.4060,2,   128.9,2,   22.00,2,   14.50,2,    1.05,2,-999.000,9,  2066.0,2,  2281.0,2,-999.000,9, -999.00,9,  -999.0,9,  -999.0,  20.8723
35MF62JADE_1,       IR06,      32,          1,          6,2,19890823,       0000,     -11.07,     122.27,        978,   151.3,  17.1180,  34.5060,2,  34.5030,2,   116.7,2,   28.00,2,   18.40,2,    1.32,2,-999.000,9,  2118.0,2,  2297.0,2,-999.000,9, -999.00,9,  -999.0,9,  -999.0,  17.0930
35MF62JADE_1,       IR06,      32,          1,          7,2,19890823,       0000,     -11.07,     122.27,        978,   198.7,  13.2440,  34.5450,2,  34.5440,2,   108.1,2,   37.00,2,   23.80,2,    1.70,2,-999.000,9,  2168.0,2,  2313.0,2,-999.000,9, -999.00,9,  -999.0,9,  -999.0,  13.2164
35MF62JADE_1,       IR06,      32,          1,          8,2,19890823,       0000,     -11.07,     122.27,        978,   299.8,   9.7980,  34.5520,2,  34.5500,2,    99.7,2,   50.70,2,   29.40,2,    2.06,2,-999.000,9,  2221.0,2,  2327.0,2,-999.000,9, -999.00,9,  -999.0,9,  -999.0,   9.7637
35MF62JADE_1,       IR06,      32,          1,          9,2,19890823,       0000,     -11.07,     122.27,        978,   401.1,   8.5430,  34.5600,2,  34.5610,2,    97.1,2,   57.80,2,   31.70,2,    2.20,2,-999.000,9,  2244.0,2,  2336.0,2,-999.000,9, -999.00,9,  -999.0,9,  -999.0,   8.5005
35MF62JADE_1,       IR06,      32,          1,         10,2,19890823,       0000,     -11.07,     122.27,        978,   501.8,   7.4030,  34.5720,2,  34.5700,2,    96.3,2,   67.80,2,   33.50,2,    2.33,2,-999.000,9,  2266.0,2,  2352.0,2,-999.000,9, -999.00,9,  -999.0,9,  -999.0,   7.3538
35MF62JADE_1,       IR06,      32,          1,         11,2,19890823,       0000,     -11.07,     122.27,        978,   603.1,   6.4260,  34.5800,2,  34.5790,2,    96.9,2,   77.40,2,   34.80,2,    2.43,2,-999.000,9,  2283.0,2,  2363.0,2,-999.000,9, -999.00,9,  -999.0,9,  -999.0,   6.3708
35MF62JADE_1,       IR06,      32,          1,         12,2,19890823,       0000,     -11.07,     122.27,        978,   603.1,   6.4260,  34.5800,2,  34.5790,2,  -999.0,9,   78.00,2,   34.60,2,    2.43,2,-999.000,9,  -999.0,9,  -999.0,9,-999.000,9, -999.00,9,  -999.0,9,  -999.0,   6.3708
35MF62JADE_1,       IR06,      33,          1,          1,2,19890823,       0000,     -11.11,     122.36,        978,     2.4,  21.8980,  37.6310,2,-999.0000,9,   205.0,2,    5.90,2,    0.40,2,    0.16,2,-999.000,9,  1918.0,2,  2239.0,2,   1.531,2,   -1.56,2,  -999.0,9,  -999.0,-999.0000
35MF62JADE_1,       IR06,      33,          1,          2,2,19890823,       0000,     -11.11,     122.36,        978,    31.6,  26.5690,  33.8910,2,-999.0000,9,   203.9,2,    9.40,2,    0.30,2,    0.14,2,-999.000,9,  1909.0,2,  2238.0,2,   1.536,2,   -0.91,2,  -999.0,9,  -999.0,-999.0000
35MF62JADE_1,       IR06,      33,          1,          3,2,19890823,       0000,     -11.11,     122.36,        978,    51.0,  26.5340,  33.8970,2,-999.0000,9,   200.6,2,   10.30,2,    0.30,2,    0.16,2,-999.000,9,  1915.0,2,  2237.0,2,   1.717,2,   -0.29,2,  -999.0,9,  -999.0,-999.0000
35MF62JADE_1,       IR06,      33,          1,          4,2,19890823,       0000,     -11.11,     122.36,        978,    66.4,  26.6410,  34.3290,2,-999.0000,9,   167.5,2,   13.80,2,    4.00,2,    0.39,2,-999.000,9,  1963.0,2,  2260.0,2,   1.532,2,    0.12,2,  -999.0,9,  -999.0,-999.0000
35MF62JADE_1,       IR06,      33,          1,          5,2,19890823,       0000,     -11.11,     122.36,        978,   100.7,  23.7720,  34.4240,2,-999.0000,9,   137.8,2,   18.60,2,   10.20,2,    0.80,2,-999.000,9,  2028.0,2,  2271.0,2,   1.422,2,    1.96,2,  -999.0,9,  -999.0,-999.0000
35MF62JADE_1,       IR06,      33,          1,          6,2,19890823,       0000,     -11.11,     122.36,        978,   126.6,  20.2150,  34.4840,2,-999.0000,9,   120.7,2,   22.00,2,   14.60,2,    1.06,2,-999.000,9,  2082.0,2,  2290.0,2,   1.463,2, -999.00,9,  -999.0,9,  -999.0,-999.0000
35MF62JADE_1,       IR06,      33,          1,          7,2,19890823,       0000,     -11.11,     122.36,        978,   152.0,  18.0340,  34.5190,2,-999.0000,9,   114.8,2, -999.00,9,   17.70,2,    1.26,2,-999.000,9,  2111.0,2,  2297.0,2,   1.401,2,    6.93,2,  -999.0,9,  -999.0,-999.0000
35MF62JADE_1,       IR06,      33,          1,          8,2,19890823,       0000,     -11.11,     122.36,        978,   201.6,  14.6290,  34.5420,2,-999.0000,9,   110.3,2,   33.90,2,   22.00,2,    1.55,2,-999.000,9,  2149.0,2,  2309.0,2,   1.208,2,    9.77,2,  -999.0,9,  -999.0,-999.0000
35MF62JADE_1,       IR06,      33,          1,          9,2,19890823,       0000,     -11.11,     122.36,        978,   302.2,   9.8340,  34.5440,2,-999.0000,9,    98.9,2,   50.30,2,   29.50,2,    2.05,2,-999.000,9,  2223.0,2,  2325.0,2,   0.751,2,   12.21,2,  -999.0,9,  -999.0,-999.0000
35MF62JADE_1,       IR06,      33,          1,         10,2,19890823,       0000,     -11.11,     122.36,        978,   404.3,   8.5210,  34.5620,2,-999.0000,9,    95.5,2,   58.40,2,   31.90,2,    2.24,2,-999.000,9,  2247.0,2,  2337.0,2,   0.520,2,   13.96,2,  -999.0,9,  -999.0,-999.0000
35MF62JADE_1,       IR06,      33,          1,         11,2,19890823,       0000,     -11.11,     122.36,        978,   503.3,   7.8740,  34.5660,2,-999.0000,9,    95.8,2,   63.50,2,   32.80,2,    2.31,2,-999.000,9,  2254.0,2,  2342.0,2,-999.000,9,   11.34,2,  -999.0,9,  -999.0,-999.0000
35MF62JADE_1,       IR06,      33,          1,         12,2,19890823,       0000,     -11.11,     122.36,        978,   610.7,   6.7160,  34.5770,2,-999.0000,9,    96.4,2,   74.60,2,   34.60,2,    2.42,2,-999.000,9,  2278.0,2,  2358.0,2,   0.288,2, -999.00,9,  -999.0,9,  -999.0,-999.0000