BOTTLE,20221003CCHSIOAMB
EXPOCODE,SECT_ID,STNNBR,CASTNO,BTLNBR,BTLNBR_FLAG_W,DATE,TIME,LATITUDE,LONGITUDE,DEPTH,CTDPRS,CTDTMP,CTDSAL,CTDSAL_FLAG_W,SALNTY,SALNTY_FLAG_W,OXYGEN,OXYGEN_FLAG_W,SILCAT,SILCAT_FLAG_W,NITRAT,NITRAT_FLAG_W,PHSPHT,PHSPHT_FLAG_W,CFC-11,CFC-11_FLAG_W,TCARBN,TCARBN_FLAG_W,ALKALI,ALKALI_FLAG_W,TRITUM,TRITUM_FLAG_W,DELHE3,DELHE3_FLAG_W,DELC14,DELC14_FLAG_W,C14ERR,THETA
,,,,,,,,,,METERS,DBAR,ITS-90,PSS-78,,PSS-78,,UMOL/KG,,UMOL/KG,,UMOL/KG,,UMOL/KG,,PMOL/KG,,UMOL/KG,,UMOL/KG,,TU,,PERCNT,,/MILLE,,/MILLE,DEG C
35MF62JADE_1,       IR06,      59,          1,          1,2,19890902,       0000,      -3.34,     100.16,       1994,     2.8,  28.8680,  34.0750,2,  34.0880,2,   197.6,2,    8.40,2,    0.10,2,    0.11,2,   1.470,2,  1896.0,2,  2246.0,2,-999.000,9, -999.00,9,  -999.0,9,  -999.0,  28.8673
35MF62JADE_1,       IR06,      59,          1,          2,2,19890902,       0000,      -3.34,     100.16,       1994,    30.4,  28.9050,  34.1990,2,  34.2000,2,   195.5,2,   13.20,2,    0.10,2,    0.11,2,   1.450,2,  1902.0,2,  2254.0,2,-999.000,9, -999.00,9,  -999.0,9,  -999.0,  28.8977
35MF62JADE_1,       IR06,      59,          1,          3,2,19890902,       0000,      -3.34,     100.16,       1994,    50.6,  28.6830,  34.4150,2,  34.4380,2,   194.0,2,   14.00,2,    0.10,2,    0.13,2,   1.440,2,  1921.0,2,  2272.0,2,-999.000,9, -999.00,9,  -999.0,9,  -999.0,  28.6709
35MF62JADE_1,       IR06,      59,          1,          4,2,19890902,       0000,      -3.34,     100.16,       1994,    70.8,  28.3210,  34.6400,2,  34.6430,2,   186.0,2,   14.40,2,    0.20,2,    0.21,2,   1.380,2,  1943.0,2,  2286.0,2,-999.000,9, -999.00,9,  -999.0,9,  -999.0,  28.3042
35MF62JADE_1,       IR06,      59,          1,          5,2,19890902,       0000,      -3.34,     100.16,       1994,   101.3,  23.4170,  34.8480,2,  34.8880,2,   119.1,2,   17.60,2,   12.10,2,    0.97,2,   1.170,2,  2059.0,2,  2303.0,2,-999.000,9, -999.00,9,  -999.0,9,  -999.0,  23.3961
35MF62JADE_1,       IR06,      59,          1,          6,2,19890902,       0000,      -3.34,     100.16,       1994,   150.1,  13.6200,  35.0950,2,  35.0820,2,    68.3,2,   27.00,2,   26.10,2,    1.79,2,   0.470,2,  2203.0,2,  2329.0,2,-999.000,9, -999.00,9,  -999.0,9,  -999.0,  13.5987
35MF62JADE_1,       IR06,      59,          1,          7,2,19890902,       0000,      -3.34,     100.16,       1994,   201.7,  12.6800,  35.0850,2,  35.0880,2,    74.6,2,   26.50,2,   26.70,2,    1.85,2,   0.350,2,  2208.0,2,  2327.0,2,-999.000,9, -999.00,9,  -999.0,9,  -999.0,  12.6527
35MF62JADE_1,       IR06,      59,          1,          8,2,19890902,       0000,      -3.34,     100.16,       1994,   301.0,  11.9620,  35.0540,2,  35.0550,2,    82.1,2,   27.40,2,   26.80,2,    1.84,2,   0.330,2,  2215.0,2,  2328.0,2,-999.000,9, -999.00,9,  -999.0,9,  -999.0,  11.9226
35MF62JADE_1,       IR06,      59,          1,          9,2,19890902,       0000,      -3.34,     100.16,       1994,   404.2,  10.7150,  34.9800,2,  34.9810,2,    78.0,2,   31.80,2,   29.50,2,    2.02,2,   0.200,2,  2229.0,2,  2329.0,2,-999.000,9, -999.00,9,  -999.0,9,  -999.0,  10.6655
35MF62JADE_1,       IR06,      59,          1,         10,2,19890902,       0000,      -3.34,     100.16,       1994,   497.4,   9.6020,  34.9340,2,  34.9370,2,    67.4,2,   42.30,2,   32.50,2,    2.25,2,   0.090,2,  2252.0,2,  2336.0,2,-999.000,9, -999.00,9,  -999.0,9,  -999.0,   9.5449
35MF62JADE_1,       IR06,      59,          1,         11,2,19890902,       0000,      -3.34,     100.16,       1994,   601.8,   8.6510,  34.9320,2,  34.9330,2,    62.1,2,   54.00,2,   34.60,2,    2.48,2,   0.080,2,  2272.0,2,  2349.0,2,-999.000,9, -999.00,9,  -999.0,9,  -999.0,   8.5857
35MF62JADE_1,       IR06,      59,          1,         12,2,19890902,       0000,      -3.34,     100.16,       1994,  1984.1,   2.5880,  34.7620,2,  34.7620,2,   136.1,2,  120.00,2,   35.90,2,    2.53,2,   0.000,2,  2330.0,2,  2419.0,2,-999.000,9, -999.00,9,  -999.0,9,  -999.0,   2.4436
35MF62JADE_1,       IR06,      60,          1,          1,2,19890904,       0000,          0,      97.36,       3549,     2.6,  29.4010,  33.8980,2,  33.8990,2,   198.2,2,    5.60,2,    0.10,2,    0.12,2,   1.530,2,  1885.0,2,  2230.0,2,-999.000,9, -999.00,9,  -999.0,9,  -999.0,  29.4004
35MF62JADE_1,       IR06,      60,          1,          2,2,19890904,       0000,          0,      97.36,       3549,    30.3,  29.0630,  34.0910,2,  34.0950,2,   197.3,2,    5.10,2,    0.10,2,    0.11,2,   1.420,2,  1891.0,2,  2245.0,2,-999.000,9, -999.00,9,  -999.0,9,  -999.0,  29.0557
35MF62JADE_1,       IR06,      60,          1,          3,2,19890904,       0000,          0,      97.36,       3549,    50.3,  28.9410,  34.2420,2,  34.2380,2,   200.3,2,    4.40,2,    0.20,2,    0.12,2,   1.460,2,  1901.0,2,  2257.0,2,-999.000,9, -999.00,9,  -999.0,9,  -999.0,  28.9289
35MF62JADE_1,       IR06,      60,          1,          4,2,19890904,       0000,          0,      97.36,       3549,    71.7,  28.7050,  34.3480,2,  34.3470,2,   193.3,2,    4.60,2,    0.10,2,    0.15,2,   1.330,2,  1909.0,2,  2262.0,2,-999.000,9, -999.00,9,  -999.0,9,  -999.0,  28.6878
35MF62JADE_1,       IR06,      60,          1,          5,2,19890904,       0000,          0,      97.36,       3549,   100.9,  23.9730,  34.9690,2,  34.7090,2,   141.4,2,   21.60,2,   11.70,2,    0.69,2,   1.090,2,  2016.0,2,  2288.0,2,-999.000,9, -999.00,9,  -999.0,9,  -999.0,  23.9518
35MF62JADE_1,       IR06,      60,          1,          6,2,19890904,       0000,          0,      97.36,       3549,   151.6,  14.2410,  35.1110,2,  35.1100,2,    64.3,2,   22.70,2,   28.30,2,    1.75,2,   0.560,2,  2202.0,2,  2323.0,2,-999.000,9, -999.00,9,  -999.0,9,  -999.0,  14.2188
35MF62JADE_1,       IR06,      60,          1,          7,2,19890904,       0000,          0,      97.36,       3549,   201.7,  13.6160,  35.0890,2,  35.0800,2,    68.5,2,   26.10,2,   27.50,2,    1.78,2,   0.410,2,  -999.0,9,  -999.0,9,-999.000,9, -999.00,9,  -999.0,9,  -999.0,  13.5874
35MF62JADE_1,       IR06,      60,          1,          8,2,19890904,       0000,          0,      97.36,       3549,   301.4,  11.6360,  35.0470,2,  35.0480,2,    69.5,2,   26.80,2,   27.40,2,    1.96,2,   0.090,2,  2208.0,2,  2321.0,2,-999.000,9, -999.00,9,  -999.0,9,  -999.0,  11.5973
35MF62JADE_1,       IR06,      60,          1,          9,2,19890904,       0000,          0,      97.36,       3549,   401.1,  10.8250,  35.0200,2,  35.0210,2,    66.5,2,   30.80,2,   32.80,2,    2.11,2,   0.160,2,  2239.0,2,  2329.0,2,-999.000,9, -999.00,9,  -999.0,9,  -999.0,  10.7756
35MF62JADE_1,       IR06,      60,          1,         10,2,19890904,       0000,          0,      97.36,       3549,   502.8,  10.1540,  34.9980,2,  35.0000,2,    66.8,2,   34.70,2,   26.20,3,    2.18,2,   0.090,2,  2246.0,2,  2330.0,2,-999.000,9, -999.00,9,  -999.0,9,  -999.0,  10.0942
35MF62JADE_1,       IR06,      60,          1,         11,2,19890904,       0000,          0,      97.36,       3549,   607.6,   8.8240,  34.9950,2,  34.9960,2,    53.6,2,   51.70,2,   34.10,2,    2.51,2,-999.000,9,  2277.0,2,  2347.0,2,-999.000,9, -999.00,9,  -999.0,9,  -999.0,   8.7572
35MF62JADE_1,       IR06,      60,          1,         12,2,19890904,       0000,          0,      97.36,       3549,  1009.9,   6.4330,  34.9150,2,  34.9180,2,    57.5,2,   82.80,2,   37.20,2,    2.74,2,   0.000,2,  2314.0,2,  2379.0,2,-999.000,9, -999.00,9,  -999.0,9,  -999.0,   6.3372
35MF62JADE_1,       IR06,      61,          1,          1,2,19890905,       0000,          0,      97.06,       3549,    28.8,  29.0920,  34.1180,2,  34.1160,2,   198.2,2,    3.10,2,    0.10,2,    0.11,2,   1.620,2,  1898.0,2,  2244.0,2,-999.000,9, -999.00,9,  -999.0,9,  -999.0,  29.0850
35MF62JADE_1,       IR06,      61,          1,          2,2,19890905,       0000,          0,      97.06,       3549,    52.1,  28.9210,  34.2900,2,  34.2830,2,   200.9,2,    3.80,2,    0.20,2,    0.11,2,   1.660,2,  1904.0,2,  2259.0,2,-999.000,9, -999.00,9,  -999.0,9,  -999.0,  28.9085
35MF62JADE_1,       IR06,      61,          1,          3,2,19890905,       0000,          0,      97.06,       3549,    71.0,  28.7040,  34.4610,2,  34.4650,2,   195.7,2,    4.80,2,    0.10,2,    0.12,2,   1.670,2,  1918.0,2,  2269.0,2,-999.000,9, -999.00,9,  -999.0,9,  -999.0,  28.6870
35MF62JADE_1,       IR06,      61,          1,          4,2,19890905,       0000,          0,      97.06,       3549,   101.3,  26.4880,  34.6510,2,  34.6420,2,   168.0,2,    6.40,2,    1.30,2,    0.42,2,   0.660,2,  1975.0,2,  2284.0,2,-999.000,9, -999.00,9,  -999.0,9,  -999.0,  26.4651
35MF62JADE_1,       IR06,      61,          1,          5,2,19890905,       0000,          0,      97.06,       3549,   151.9,  14.4630,  35.1080,2,  35.1080,2,    63.4,2,   21.00,2,   22.50,2,    1.76,2,   0.660,2,  2196.0,2,  2326.0,2,-999.000,9, -999.00,9,  -999.0,9,  -999.0,  14.4406
35MF62JADE_1,       IR06,      61,          1,          6,2,19890905,       0000,          0,      97.06,       3549,   201.2,  13.4760,  35.1020,2,  35.1020,2,    64.7,2,   22.70,2,   25.50,2,    1.85,2,   0.580,2,  2211.0,2,  2326.0,2,-999.000,9, -999.00,9,  -999.0,9,  -999.0,  13.4476
35MF62JADE_1,       IR06,      61,          1,          7,2,19890905,       0000,          0,      97.06,       3549,   301.3,  11.6690,  35.0520,2,  35.0510,2,    73.2,2,   24.50,2,   27.90,2,    1.89,2,   0.370,2,  2217.0,2,  2328.0,2,-999.000,9, -999.00,9,  -999.0,9,  -999.0,  11.6302
35MF62JADE_1,       IR06,      61,          1,          8,2,19890905,       0000,          0,      97.06,       3549,   402.9,  10.8440,  35.0160,2,  35.0200,2,    70.2,2,   29.10,2,   31.70,2,    2.04,2,   0.240,2,  2230.0,2,  2328.0,2,-999.000,9, -999.00,9,  -999.0,9,  -999.0,  10.7943
35MF62JADE_1,       IR06,      61,          1,          9,2,19890905,       0000,          0,      97.06,       3549,   503.0,  10.1530,  35.0070,2,  35.0040,2,    66.3,2,   33.90,2,   32.10,2,    2.22,2,   0.240,2,  -999.0,9,  2334.0,2,-999.000,9, -999.00,9,  -999.0,9,  -999.0,  10.0932
35MF62JADE_1,       IR06,      61,          1,         10,2,19890905,       0000,          0,      97.06,       3549,   606.2,   9.2170,  34.9960,2,  34.9970,2,    55.8,2,   45.30,2,   36.20,2,    2.46,2,-999.000,9,  2270.0,2,  2345.0,2,-999.000,9, -999.00,9,  -999.0,9,  -999.0,   9.1486
35MF62JADE_1,       IR06,      61,          1,         11,2,19890905,       0000,          0,      97.06,       3549,  1009.6,   6.3460,  34.9120,2,  34.9180,2,    58.3,2,   82.60,2,   36.70,2,    2.73,2,   0.000,2,  2315.0,2,  2380.0,2,-999.000,9, -999.00,9,  -999.0,9,  -999.0,   6.2509
35MF62JADE_1,       IR06,      61,          1,         12,2,19890905,       0000,          0,      97.06,       3549,  1009.6,   6.3460,  34.9120,2,  34.9170,2,  -999.0,9,   82.30,2,   39.20,3,    2.72,2,-999.000,9,  -999.0,9,  -999.0,9,-999.000,9, -999.00,9,  -999.0,9,  -999.0,   6.2509
35MF62JADE_1,       IR06,      62,          1,          1,2,19890905,       0000,      -0.01,      96.35,       4670,     4.0,  29.2080,  34.1500,2,  34.1480,2,   200.0,2,    4.60,2,    0.10,2,    0.12,2,   1.600,2,  1904.0,2,  2251.0,2,-999.000,9, -999.00,9,  -999.0,9,  -999.0,  29.2070
35MF62JADE_1,       IR06,      62,          1,          2,2,19890905,       0000,      -0.01,      96.35,       4670,    28.3,  28.7410,  34.3100,2,  34.2860,2,   196.8,2,    6.30,2,    0.10,2,    0.13,2,   1.510,2,  1913.0,2,  2262.0,2,-999.000,9, -999.00,9,  -999.0,9,  -999.0,  28.7342
35MF62JADE_1,       IR06,      62,          1,          3,2,19890905,       0000,      -0.01,      96.35,       4670,    51.6,  28.6460,  34.4290,2,  34.4220,2,   194.9,2,    6.40,2,    0.10,2,    0.15,2,   1.620,2,  1922.0,2,  2269.0,2,-999.000,9, -999.00,9,  -999.0,9,  -999.0,  28.6337
35MF62JADE_1,       IR06,      62,          1,          4,2,19890905,       0000,      -0.01,      96.35,       4670,    75.3,  28.6250,  34.4950,2,  34.4840,2,   195.9,2,    6.70,2,    0.10,2,    0.17,2,-999.000,9,  1924.0,2,  2275.0,2,-999.000,9, -999.00,9,  -999.0,9,  -999.0,  28.6070
35MF62JADE_1,       IR06,      62,          1,          5,2,19890905,       0000,      -0.01,      96.35,       4670,   102.3,  27.8450,  34.7670,2,  34.7000,2,   189.4,2,    6.50,2,    0.30,2,    0.23,2,   1.500,2,  1950.0,2,  2288.0,2,-999.000,9, -999.00,9,  -999.0,9,  -999.0,  27.8210
35MF62JADE_1,       IR06,      62,          1,          6,2,19890905,       0000,      -0.01,      96.35,       4670,   152.3,  14.4040,  35.1090,2,  35.1120,2,    63.8,2,   24.70,2,   25.10,2,    1.77,2,   0.760,2,  -999.0,9,  2323.0,2,-999.000,9, -999.00,9,  -999.0,9,  -999.0,  14.3816
35MF62JADE_1,       IR06,      62,          1,          7,2,19890905,       0000,      -0.01,      96.35,       4670,   200.7,  13.2020,  35.0980,2,  35.0970,2,    65.9,2,   26.70,2,   27.10,2,    1.82,2,   0.390,2,  2211.0,2,  2325.0,2,-999.000,9, -999.00,9,  -999.0,9,  -999.0,  13.1741
35MF62JADE_1,       IR06,      62,          1,          8,2,19890905,       0000,      -0.01,      96.35,       4670,   354.3,  11.4730,  35.0350,2,  35.0390,2,    71.0,2,   29.30,2,   28.40,2,    1.98,2,   0.350,2,  2230.0,2,  2327.0,2,-999.000,9, -999.00,9,  -999.0,9,  -999.0,  11.4278
35MF62JADE_1,       IR06,      62,          1,          9,2,19890905,       0000,      -0.01,      96.35,       4670,   503.7,  10.1800,  35.0130,2,  35.0150,2,    64.7,2,   36.20,2,   31.60,2,    2.20,2,   0.110,2,  2241.0,2,  2335.0,2,-999.000,9, -999.00,9,  -999.0,9,  -999.0,  10.1200
35MF62JADE_1,       IR06,      62,          1,         10,2,19890905,       0000,      -0.01,      96.35,       4670,   603.4,   8.9560,  34.9930,2,  34.9930,2,    55.2,2,   50.90,2,   34.60,2,    2.49,2,   0.030,2,  2275.0,2,  2346.0,2,-999.000,9, -999.00,9,  -999.0,9,  -999.0,   8.8891
35MF62JADE_1,       IR06,      62,          1,         11,2,19890905,       0000,      -0.01,      96.35,       4670,   749.5,   8.1650,  34.9860,2,  34.9870,2,    46.5,2,   62.60,2,   36.70,2,    2.63,2,   0.000,2,  2289.0,2,  2355.0,2,-999.000,9, -999.00,9,  -999.0,9,  -999.0,   8.0856
35MF62JADE_1,       IR06,      62,          1,         12,2,19890905,       0000,      -0.01,      96.35,       4670,  1009.7,   6.4870,  34.9210,2,  34.9210,2,    58.5,2,   84.30,2,   38.50,3,    2.76,2,-999.000,9,  2314.0,2,  2380.0,2,-999.000,9, -999.00,9,  -999.0,9,  -999.0,   6.3909
35MF62JADE_1,       IR06,      63,          1,          1,2,19890905,       0000,      -0.01,      95.36,       4425,     1.7,  29.2330,  34.0670,2,  34.0680,2,   199.7,2,    4.10,2,    0.10,2,    0.11,2,   1.570,2,  1893.0,2,  2245.0,2,-999.000,9, -999.00,9,  -999.0,9,  -999.0,  29.2326
35MF62JADE_1,       IR06,      63,          1,          2,2,19890905,       0000,      -0.01,      95.36,       4425,    50.5,  28.5570,  34.4400,2,  34.4420,2,   198.1,2,    3.90,2,    0.20,2,    0.15,2,   1.570,2,  1919.0,2,  2271.0,2,-999.000,9, -999.00,9,  -999.0,9,  -999.0,  28.5449
35MF62JADE_1,       IR06,      63,          1,          3,2,19890905,       0000,      -0.01,      95.36,       4425,   205.2,  12.6740,  35.0960,2,  35.0970,2,    75.6,2,   22.20,2,   22.30,2,    1.81,2,   0.450,2,  2208.0,2,  2327.0,2,-999.000,9, -999.00,9,  -999.0,9,  -999.0,  12.6462
35MF62JADE_1,       IR06,      63,          1,          4,2,19890905,       0000,      -0.01,      95.36,       4425,   405.0,  10.7650,  35.0150,2,  35.0170,2,    74.6,2,   28.20,2,   15.00,3,    2.07,2,   0.190,2,  2229.0,2,  2326.0,2,-999.000,9, -999.00,9,  -999.0,9,  -999.0,  10.7153
35MF62JADE_1,       IR06,      63,          1,          5,2,19890905,       0000,      -0.01,      95.36,       4425,   606.6,   9.1030,  34.9930,2,  34.9990,2,    55.7,2,   46.40,2,   32.40,2,    2.51,2,   0.000,2,  2272.0,2,  2342.0,2,-999.000,9, -999.00,9,  -999.0,9,  -999.0,   9.0351
35MF62JADE_1,       IR06,      63,          1,          6,2,19890905,       0000,      -0.01,      95.36,       4425,   706.5,   8.5560,  34.9910,2,  34.9900,2,    52.3,2,   53.50,2, -999.00,9,    2.58,2,   0.050,2,  2284.0,2,  2352.0,2,-999.000,9, -999.00,9,  -999.0,9,  -999.0,   8.4793
35MF62JADE_1,       IR06,      63,          1,          7,2,19890905,       0000,      -0.01,      95.36,       4425,  1002.4,   6.6300,  34.9290,2,  34.9310,2,    57.3,2,   77.00,2,   39.60,3,    2.75,2,   0.000,2,  2316.0,2,  2379.0,2,-999.000,9, -999.00,9,  -999.0,9,  -999.0,   6.5335
35MF62JADE_1,       IR06,      63,          1,          8,2,19890905,       0000,      -0.01,      95.36,       4425,  1520.9,   4.3110,  34.8350,2,  34.8380,2,    94.4,2,   98.10,2,   37.00,2,    2.70,2,   0.030,2,  2324.0,2,  2404.0,2,-999.000,9, -999.00,9,  -999.0,9,  -999.0,   4.1856
35MF62JADE_1,       IR06,      63,          1,          9,2,19890905,       0000,      -0.01,      95.36,       4425,  2018.0,   2.7570,  34.7760,2,  34.7760,2,   131.4,2,  112.90,2,   35.90,2, -999.00,9,   0.080,2,  2329.0,2,  2416.0,2,-999.000,9, -999.00,9,  -999.0,9,  -999.0,   2.6070
35MF62JADE_1,       IR06,      63,          1,         10,2,19890905,       0000,      -0.01,      95.36,       4425,  3552.0,   1.3730,  34.7190,2,  34.7210,2,   179.5,2,  123.00,2,   33.80,2, -999.00,9,   0.000,2,  2312.0,2,  2420.0,2,-999.000,9, -999.00,9,  -999.0,9,  -999.0,   1.1045
35MF62JADE_1,       IR06,      63,          1,         11,2,19890905,       0000,      -0.01,      95.36,       4425,  4276.7,   1.1550,  34.7100,2,  34.7140,2,   197.0,2,  119.60,2,   20.80,4, -999.00,9,   0.000,2,  2299.0,2,  2414.0,2,-999.000,9, -999.00,9,  -999.0,9,  -999.0,   0.8155
35MF62JADE_1,       IR06,      63,          1,         12,2,19890905,       0000,      -0.01,      95.36,       4425,  4414.6,   1.1630,  34.7120,2,  34.7140,2,   196.3,2,  119.90,2,   32.30,2, -999.00,9,-999.000,9,  2299.0,2,  2413.0,2,-999.000,9, -999.00,9,  -999.0,9,  -999.0,   0.8079