BOTTLE,20221003CCHSIOAMB
EXPOCODE,SECT_ID,STNNBR,CASTNO,BTLNBR,BTLNBR_FLAG_W,DATE,TIME,LATITUDE,LONGITUDE,DEPTH,CTDPRS,CTDTMP,CTDSAL,CTDSAL_FLAG_W,SALNTY,SALNTY_FLAG_W,OXYGEN,OXYGEN_FLAG_W,SILCAT,SILCAT_FLAG_W,NITRAT,NITRAT_FLAG_W,PHSPHT,PHSPHT_FLAG_W,CFC-11,CFC-11_FLAG_W,TCARBN,TCARBN_FLAG_W,ALKALI,ALKALI_FLAG_W,TRITUM,TRITUM_FLAG_W,DELHE3,DELHE3_FLAG_W,DELC14,DELC14_FLAG_W,C14ERR,THETA
,,,,,,,,,,METERS,DBAR,ITS-90,PSS-78,,PSS-78,,UMOL/KG,,UMOL/KG,,UMOL/KG,,UMOL/KG,,PMOL/KG,,UMOL/KG,,UMOL/KG,,TU,,PERCNT,,/MILLE,,/MILLE,DEG C
35MF62JADE_1,       IR06,      12,          3,          1,2,19890812,       0000,     -11.21,     115.54,       5825,     3.2,  27.5390,  33.7190,2,  33.7150,2,   202.5,2,    3.80,2,    0.10,2,    0.13,2,   1.530,2,  1878.0,2,  2198.0,2,-999.000,9, -999.00,9,   103.0,2,     3.0,  27.5383
35MF62JADE_1,       IR06,      12,          3,          2,2,19890812,       0000,     -11.21,     115.54,       5825,    28.4,  27.2630,  33.7210,2,  33.7210,2,   203.2,2,    6.60,2,    0.00,2,    0.09,2,   1.350,2,  1878.0,2,  2203.0,2,   1.820,2, -999.00,9,   111.0,2,     3.0,  27.2565
35MF62JADE_1,       IR06,      12,          3,          3,2,19890812,       0000,     -11.21,     115.54,       5825,    49.9,  27.2510,  33.7270,2,  33.7680,2,   202.8,2,    7.30,2,    0.00,2,    0.09,2,   1.480,2,  1881.0,2,  2205.0,2,   1.930,2,    2.68,2,   100.0,2,     3.0,  27.2395
35MF62JADE_1,       IR06,      12,          3,          4,2,19890812,       0000,     -11.21,     115.54,       5825,    68.4,  27.3140,  33.9940,2,  33.9780,2,   201.2,2,    8.40,2,    0.00,2,    0.10,2,   1.350,2,  1890.0,2,  2217.0,2,   1.570,2, -999.00,9,   111.0,2,     3.0,  27.2982
35MF62JADE_1,       IR06,      12,          3,          5,2,19890812,       0000,     -11.21,     115.54,       5825,    99.7,  25.0840,  33.9020,2,  33.9170,2,   153.6,2,   11.70,2,    6.20,2,    0.52,2,   1.110,2,  1953.0,2,  2216.0,2,   1.790,2, -999.00,9,    94.0,2,     3.0,  25.0624
35MF62JADE_1,       IR06,      12,          3,          6,2,19890812,       0000,     -11.21,     115.54,       5825,   125.2,  23.3350,  34.2460,2,  34.2400,2,   136.1,2,   15.30,2,   10.10,2,    0.79,2,   1.060,2,  2007.0,2,  2242.0,2,-999.000,9, -999.00,9,    70.0,2,     3.0,  23.3093
35MF62JADE_1,       IR06,      12,          3,          7,2,19890812,       0000,     -11.21,     115.54,       5825,   149.6,  20.4260,  34.5260,2,  34.4840,2,   119.4,2,   21.20,2,   13.40,2,    1.02,2,   1.010,2,  2055.0,2,  2262.0,2,-999.000,9, -999.00,9,  -999.0,9,  -999.0,  20.3980
35MF62JADE_1,       IR06,      12,          3,          8,2,19890812,       0000,     -11.21,     115.54,       5825,   199.9,  15.7880,  34.4880,2,  34.4860,2,   123.0,2,   29.70,2,   18.00,2,    1.33,2,   0.980,2,  2106.0,2,  2273.0,2,-999.000,9,   11.60,2,    21.0,2,     3.0,  15.7568
35MF62JADE_1,       IR06,      12,          3,          9,2,19890812,       0000,     -11.21,     115.54,       5825,   301.1,  11.0330,  34.5510,2,  34.5680,2,   103.3,2,   43.00,2,   26.60,2,    1.90,2,   0.390,2,  2186.0,2,  2295.0,2,   0.950,2, -999.00,9,   -46.0,2,     3.0,  10.9958
35MF62JADE_1,       IR06,      12,          3,         10,2,19890812,       0000,     -11.21,     115.54,       5825,   425.3,   8.8150,  34.6550,2,  34.6540,2,    90.2,2,   50.60,2,   31.80,2,    2.23,2,   0.150,2,  2227.0,2,  2308.0,2,   0.410,2, -999.00,9,   -83.0,2,     3.0,   8.7690
35MF62JADE_1,       IR06,      12,          3,         11,2,19890812,       0000,     -11.21,     115.54,       5825,   503.9,   7.7420,  34.6040,2,  34.6040,2,    97.9,2,   59.10,2,   32.90,2,    2.33,2,   0.180,2,  2239.0,2,  2320.0,2,   0.270,2, -999.00,9,  -112.0,2,     3.0,   7.6912
35MF62JADE_1,       IR06,      12,          3,         12,2,19890812,       0000,     -11.21,     115.54,       5825,   608.8,   6.9960,  34.6010,2,  34.6020,2,    92.4,2,   69.30,2,   34.60,2,    2.45,2,   0.060,2,  2252.0,2,  2331.0,2,   0.270,2,   12.26,2,  -134.0,2,     3.0,   6.9377
35MF62JADE_1,       IR06,      12,          2,         13,2,19890812,       0000,     -11.21,     115.54,       5825,   702.1,   6.7870,  34.6340,2,  34.6380,2,    86.7,2,   74.20,2,   34.80,2,    2.48,2,-999.000,9,  -999.0,9,  -999.0,9,-999.000,9,   12.65,2,  -999.0,9,  -999.0,   6.7203
35MF62JADE_1,       IR06,      12,          2,         14,2,19890812,       0000,     -11.21,     115.54,       5825,   804.9,   6.0100,  34.6160,2,  34.6160,2,    90.7,2,   83.40,2,   35.30,2,    2.55,2,-999.000,9,  2276.0,2,  2348.0,2,   0.100,2, -999.00,9,  -152.0,2,     3.0,   5.9378
35MF62JADE_1,       IR06,      12,          2,         15,2,19890812,       0000,     -11.21,     115.54,       5825,   906.2,   5.3890,  34.6040,2,  34.6070,2,    94.6,2,   92.20,2,   35.60,2,    2.59,2,-999.000,9,  2284.0,2,  2356.0,2,-999.000,9,   14.86,2,  -153.0,2,     3.0,   5.3113
35MF62JADE_1,       IR06,      12,          2,         16,2,19890812,       0000,     -11.21,     115.54,       5825,  1005.5,   4.8160,  34.6040,2,  34.6020,2,    99.9,2,   97.60,2,   35.60,2,    2.62,2,-999.000,9,  -999.0,9,  -999.0,9,   0.070,2, -999.00,9,  -173.0,2,     3.0,   4.7334
35MF62JADE_1,       IR06,      12,          2,         17,2,19890812,       0000,     -11.21,     115.54,       5825,  1106.5,   4.4950,  34.6090,2,  34.6090,2,   102.2,2,  104.20,2,   36.80,2,    2.69,2,-999.000,9,  2296.0,2,  2373.0,2,-999.000,9,   12.25,2,  -999.0,9,  -999.0,   4.4060
35MF62JADE_1,       IR06,      12,          2,         18,2,19890812,       0000,     -11.21,     115.54,       5825,  1211.1,   4.1940,  34.6220,2,  34.6240,2,   104.7,2,  108.00,2,   36.60,2,    2.67,2,-999.000,9,  2307.0,2,  2372.0,2,-999.000,9,   15.73,2,  -999.0,9,  -999.0,   4.0984
35MF62JADE_1,       IR06,      12,          2,         19,2,19890812,       0000,     -11.21,     115.54,       5825,  1313.0,   3.9410,  34.6360,2,  34.6350,2,   109.2,2,  110.40,2,   36.60,2,    2.62,2,-999.000,9,  2299.0,2,  2378.0,2,-999.000,9,   15.50,2,  -999.0,9,  -999.0,   3.8389
35MF62JADE_1,       IR06,      12,          2,         20,2,19890812,       0000,     -11.21,     115.54,       5825,  1462.4,   3.5950,  34.6650,2,  34.6690,2,   114.4,2,  112.60,2,   36.40,2,    2.64,2,-999.000,9,  2305.0,2,  2376.0,2,-999.000,9,   15.35,2,  -999.0,9,  -999.0,   3.4834
35MF62JADE_1,       IR06,      12,          2,         21,2,19890812,       0000,     -11.21,     115.54,       5825,  1614.5,   3.1740,  34.6930,2,  34.6910,2,   122.9,2,  115.70,2,   35.60,2,    2.57,2,-999.000,9,  2311.0,2,  2379.0,2,-999.000,9,   15.74,2,  -999.0,9,  -999.0,   3.0540
35MF62JADE_1,       IR06,      12,          2,         22,2,19890812,       0000,     -11.21,     115.54,       5825,  1817.6,   2.7260,  34.7170,2,  34.7140,2,   134.6,2,  118.20,2,   35.40,2,    2.51,2,-999.000,9,  -999.0,9,  -999.0,9,-999.000,9,   15.23,2,  -999.0,9,  -999.0,   2.5943
35MF62JADE_1,       IR06,      12,          2,         23,2,19890812,       0000,     -11.21,     115.54,       5825,  2018.9,   2.4080,  34.7250,2,  34.7240,2,   143.4,2,  119.80,2,   35.50,2,    2.50,2,-999.000,9,  2304.0,2,  2386.0,2,-999.000,9,   15.06,2,  -999.0,9,  -999.0,   2.2634
35MF62JADE_1,       IR06,      12,          2,         24,2,19890812,       0000,     -11.21,     115.54,       5825,  2223.7,   2.1970,  34.7280,2,  34.7270,2,   150.0,2, -999.00,9,   35.20,2,    2.48,2,-999.000,9,  2300.0,2,  2392.0,2,-999.000,9,   13.15,2,  -999.0,9,  -999.0,   2.0378
35MF62JADE_1,       IR06,      12,          1,         25,2,19890812,       0000,     -11.21,     115.54,       5825,  2425.8,   2.0530,  34.7310,2,  34.7290,2,   155.2,2,  122.50,2,   34.70,2,    2.40,2,-999.000,9,  2302.0,2,  2393.0,2,-999.000,9,   12.99,2,  -999.0,9,  -999.0,   1.8781
35MF62JADE_1,       IR06,      12,          1,         26,2,19890812,       0000,     -11.21,     115.54,       5825,  2626.9,   1.9330,  34.7290,2,  34.7290,2,   159.7,2,  124.40,2,   33.70,2,    2.38,2,-999.000,9,  -999.0,9,  -999.0,9,-999.000,9,   15.55,2,  -999.0,9,  -999.0,   1.7420
35MF62JADE_1,       IR06,      12,          1,         27,2,19890812,       0000,     -11.21,     115.54,       5825,  2832.8,   1.7860,  34.7270,2,  34.7240,2,   164.5,2,  126.10,2,   34.00,2,    2.36,2,-999.000,9,  2300.0,2,  2394.0,2,-999.000,9,   14.06,2,  -999.0,9,  -999.0,   1.5787
35MF62JADE_1,       IR06,      12,          1,         28,2,19890812,       0000,     -11.21,     115.54,       5825,  3038.6,   1.6560,  34.7260,2,  34.7190,2,   166.9,2,  125.40,2,   34.10,2,    2.35,2,-999.000,9,  2294.0,2,  2390.0,2,-999.000,9,   13.96,2,  -999.0,9,  -999.0,   1.4318
35MF62JADE_1,       IR06,      12,          1,         29,2,19890812,       0000,     -11.21,     115.54,       5825,  3230.8,   1.5290,  34.7210,2,  34.7170,2,  -999.0,9,  127.10,2,   33.40,2,    2.33,2,-999.000,9,  2295.0,2,  2393.0,2,-999.000,9,   12.04,2,  -999.0,9,  -999.0,   1.2889
35MF62JADE_1,       IR06,      12,          1,         30,2,19890812,       0000,     -11.21,     115.54,       5825,  3449.0,   1.3960,  34.7190,2,  34.7170,2,  -999.0,9,  127.10,2,   33.40,2,    2.27,2,-999.000,9,  2293.0,2,  2395.0,2,-999.000,9,   16.58,2,  -999.0,9,  -999.0,   1.1374
35MF62JADE_1,       IR06,      12,          1,         31,2,19890812,       0000,     -11.21,     115.54,       5825,  3649.7,   1.3050,  34.7170,2,  34.7130,2,   185.1,2,  127.10,2,   33.40,2,    2.30,2,-999.000,9,  2285.0,2,  2392.0,2,-999.000,9,   17.21,2,  -999.0,9,  -999.0,   1.0283
35MF62JADE_1,       IR06,      12,          1,         32,2,19890812,       0000,     -11.21,     115.54,       5825,  4061.7,   1.1820,  34.7130,2,  34.7110,2,   192.2,2,  127.10,2,   33.10,2,    2.27,2,-999.000,9,  -999.0,9,  -999.0,9,-999.000,9,   13.49,2,  -999.0,9,  -999.0,   0.8652
35MF62JADE_1,       IR06,      12,          1,         33,2,19890812,       0000,     -11.21,     115.54,       5825,  4574.4,   1.1850,  34.7120,2,  34.7090,2,   195.1,2,  127.10,2,   33.00,2,    2.26,2,-999.000,9,  2291.0,2,  2393.0,2,-999.000,9,   14.06,2,  -999.0,9,  -999.0,   0.8111
35MF62JADE_1,       IR06,      12,          1,         34,2,19890812,       0000,     -11.21,     115.54,       5825,  5088.4,   1.2300,  34.7110,2,  34.7100,2,   195.4,2,  126.50,2,   33.20,2,    2.25,2,-999.000,9,  2288.0,2,  2392.0,2,-999.000,9,   12.70,2,  -999.0,9,  -999.0,   0.7940
35MF62JADE_1,       IR06,      12,          1,         35,2,19890812,       0000,     -11.21,     115.54,       5825,  5603.0,   1.2880,  34.7110,2,  34.7100,2,   196.2,2,  125.80,2,   33.00,2,    2.24,2,-999.000,9,  2286.0,2,  2390.0,2,-999.000,9,   11.82,2,  -999.0,9,  -999.0,   0.7858
35MF62JADE_1,       IR06,      12,          1,         36,2,19890812,       0000,     -11.21,     115.54,       5825,  5815.2,   1.3140,  34.7110,2,  34.7100,2,   196.8,2,  126.50,2,   33.10,2,    2.26,2,-999.000,9,  2284.0,2,  2391.0,2,-999.000,9,   16.08,2,  -999.0,9,  -999.0,   0.7834
35MF62JADE_1,       IR06,      13,          2,          1,2,19890813,       0000,     -10.52,     115.47,       3704,    28.2,  27.2110,  33.9110,2,  33.9100,2,   204.4,2,    8.20,2,    0.10,2,    0.12,2,   1.440,2,  1894.0,2,  2218.0,2,-999.000,9, -999.00,9,  -999.0,9,  -999.0,  27.2045
35MF62JADE_1,       IR06,      13,          2,          2,2,19890813,       0000,     -10.52,     115.47,       3704,    48.8,  27.1150,  33.9350,2,  33.9320,2,   207.0,2,   10.90,2,    0.10,2,    0.11,2,   1.490,2,  1900.0,2,  2222.0,2,-999.000,9, -999.00,9,  -999.0,9,  -999.0,  27.1038
35MF62JADE_1,       IR06,      13,          2,          3,2,19890813,       0000,     -10.52,     115.47,       3704,    69.3,  25.9920,  34.0980,2,  34.0770,2,   157.6,2,   14.70,2,    5.20,2,    0.48,2,   1.180,2,  1953.0,2,  2223.0,2,-999.000,9, -999.00,9,  -999.0,9,  -999.0,  25.9766
35MF62JADE_1,       IR06,      13,          2,          4,2,19890813,       0000,     -10.52,     115.47,       3704,   102.9,  23.4340,  34.2260,2,  34.2300,2,   135.6,2,   18.80,2,    9.80,2,    0.74,2,   1.170,2,  2008.0,2,  2246.0,2,-999.000,9, -999.00,9,  -999.0,9,  -999.0,  23.4128
35MF62JADE_1,       IR06,      13,          2,          5,2,19890813,       0000,     -10.52,     115.47,       3704,   124.9,  21.4190,  34.4160,2,  34.4410,2,   124.7,2,   21.40,2,   12.30,2,    0.96,2,   1.040,2,  2043.0,2,  2263.0,2,-999.000,9, -999.00,9,  -999.0,9,  -999.0,  21.3948
35MF62JADE_1,       IR06,      13,          2,          6,2,19890813,       0000,     -10.52,     115.47,       3704,   153.1,  17.5700,  34.4330,2,  34.4290,2,   131.5,2,   26.30,2,   14.50,2,    1.12,2,   1.010,2,  2078.0,2,  2273.0,2,-999.000,9, -999.00,9,  -999.0,9,  -999.0,  17.5443
35MF62JADE_1,       IR06,      13,          2,          7,2,19890813,       0000,     -10.52,     115.47,       3704,   199.9,  16.0960,  34.5100,2,  34.5090,2,   119.3,2,   29.80,2,   16.90,2,    1.32,2,   0.920,2,  2109.0,2,  2281.0,2,-999.000,9, -999.00,9,  -999.0,9,  -999.0,  16.0643
35MF62JADE_1,       IR06,      13,          2,          8,2,19890813,       0000,     -10.52,     115.47,       3704,   302.2,  10.7660,  34.5980,2,  34.5980,2,    95.2,2,   43.90,2,   27.70,2,    1.92,2,   0.210,2,  2198.0,2,  2298.0,2,-999.000,9, -999.00,9,  -999.0,9,  -999.0,  10.7292
35MF62JADE_1,       IR06,      13,          2,          9,2,19890813,       0000,     -10.52,     115.47,       3704,   403.8,   9.2600,  34.6080,2,  34.6070,2,    92.5,2,   51.30,2,   30.50,2,    2.15,2,   0.250,2,  2218.0,2,  2310.0,2,-999.000,9, -999.00,9,  -999.0,9,  -999.0,   9.2150
35MF62JADE_1,       IR06,      13,          2,         10,2,19890813,       0000,     -10.52,     115.47,       3704,   506.5,   8.4790,  34.6130,2,  34.6130,2,    91.2,2,   56.20,2,   31.80,2,    2.26,2,   0.180,2,  2236.0,2,  2313.0,2,-999.000,9, -999.00,9,  -999.0,9,  -999.0,   8.4252
35MF62JADE_1,       IR06,      13,          2,         11,2,19890813,       0000,     -10.52,     115.47,       3704,   605.4,   7.5370,  34.6090,2,  34.6130,2,    99.3,2,   61.30,2,   32.50,2,    2.34,2,   0.120,2,  2245.0,2,  2325.0,2,-999.000,9, -999.00,9,  -999.0,9,  -999.0,   7.4765
35MF62JADE_1,       IR06,      13,          2,         12,2,19890813,       0000,     -10.52,     115.47,       3704,   605.4,   7.5370,  34.6090,2,  34.6110,2,  -999.0,9,   60.50,2,   33.10,2,    2.34,2,-999.000,9,  -999.0,9,  -999.0,9,-999.000,9, -999.00,9,  -999.0,9,  -999.0,   7.4766
35MF62JADE_1,       IR06,      13,          1,         13,2,19890813,       0000,     -10.52,     115.47,       3704,   704.5,   6.5510,  34.5880,2,  34.5830,2,    94.2,2,   79.40,2,   34.70,2,    2.42,2,-999.000,9,  2267.0,2,  2343.0,2,-999.000,9, -999.00,9,  -999.0,9,  -999.0,   6.4854
35MF62JADE_1,       IR06,      13,          1,         14,2,19890813,       0000,     -10.52,     115.47,       3704,   803.0,   5.7050,  34.5930,2,  34.5930,2,    95.5,2,   91.10,2,   35.80,2,    2.51,2,   0.020,2,  2284.0,2,  2349.0,2,-999.000,9, -999.00,9,  -999.0,9,  -999.0,   5.6348
35MF62JADE_1,       IR06,      13,          1,         15,2,19890813,       0000,     -10.52,     115.47,       3704,   906.1,   5.0680,  34.5970,2,  34.5930,2,    99.2,2,   99.20,2,   36.30,2,    2.53,2,   0.020,2,  2297.0,2,  2363.0,2,-999.000,9, -999.00,9,  -999.0,9,  -999.0,   4.9925
35MF62JADE_1,       IR06,      13,          1,         16,2,19890813,       0000,     -10.52,     115.47,       3704,  1006.3,   4.7200,  34.6020,2,  34.6000,2,   100.0,2,  102.70,2,   36.50,2,    2.59,2,-999.000,9,  2303.0,2,  2369.0,2,-999.000,9, -999.00,9,  -999.0,9,  -999.0,   4.6381
35MF62JADE_1,       IR06,      13,          1,         17,2,19890813,       0000,     -10.52,     115.47,       3704,  1108.2,   4.3690,  34.6110,2,  34.6100,2,   100.0,2,  107.20,2,   37.30,2,    2.60,2,-999.000,9,  2300.0,2,  2386.0,2,-999.000,9, -999.00,9,  -999.0,9,  -999.0,   4.2809
35MF62JADE_1,       IR06,      13,          1,         18,2,19890813,       0000,     -10.52,     115.47,       3704,  1211.1,   4.0250,  34.6250,2,  34.6220,2,   106.4,2,  110.60,2,   37.10,2,    2.60,2,-999.000,9,  2306.0,2,  2382.0,2,-999.000,9, -999.00,9,  -999.0,9,  -999.0,   3.9310
35MF62JADE_1,       IR06,      13,          1,         19,2,19890813,       0000,     -10.52,     115.47,       3704,  1311.0,   3.6710,  34.6600,2,  34.6580,2,   111.6,2,  113.50,2,   37.10,2,    2.59,2,-999.000,9,  2312.0,2,  2385.0,2,-999.000,9, -999.00,9,  -999.0,9,  -999.0,   3.5717
35MF62JADE_1,       IR06,      13,          1,         20,2,19890813,       0000,     -10.52,     115.47,       3704,  1465.1,   3.4160,  34.6790,2,  34.6780,2,   117.2,2,  113.60,2,   36.90,2,    2.57,2,-999.000,9,  -999.0,9,  -999.0,9,-999.000,9, -999.00,9,  -999.0,9,  -999.0,   3.3061
35MF62JADE_1,       IR06,      13,          1,         21,2,19890813,       0000,     -10.52,     115.47,       3704,  1614.9,   3.1100,  34.6980,2,  34.6980,2,   121.9,2,  116.30,2,   36.50,2,    2.56,2,-999.000,9,  2313.0,2,  2393.0,2,-999.000,9, -999.00,9,  -999.0,9,  -999.0,   2.9908
35MF62JADE_1,       IR06,      13,          1,         22,2,19890813,       0000,     -10.52,     115.47,       3704,  1814.4,   2.9030,  34.7090,2,  34.7070,2,   130.3,2,  118.80,2,   36.70,2,    2.56,2,-999.000,9,  2317.0,2,  2391.0,2,-999.000,9, -999.00,9,  -999.0,9,  -999.0,   2.7691
35MF62JADE_1,       IR06,      13,          1,         23,2,19890813,       0000,     -10.52,     115.47,       3704,  2020.5,   2.5490,  34.7220,2,  34.7190,2,   139.9,2,  121.50,2,   35.50,2,    2.53,2,-999.000,9,  2311.0,2,  2392.0,2,-999.000,9, -999.00,9,  -999.0,9,  -999.0,   2.4021
35MF62JADE_1,       IR06,      13,          1,         24,2,19890813,       0000,     -10.52,     115.47,       3704,  2223.5,   2.2080,  34.7250,2,  34.7230,2,   150.0,2,  123.40,2,   34.60,2,    2.45,2,-999.000,9,  -999.0,9,  -999.0,9,-999.000,9, -999.00,9,  -999.0,9,  -999.0,   2.0486