BOTTLE,20221003CCHSIOAMB
EXPOCODE,SECT_ID,STNNBR,CASTNO,BTLNBR,BTLNBR_FLAG_W,DATE,TIME,LATITUDE,LONGITUDE,DEPTH,CTDPRS,CTDTMP,CTDSAL,CTDSAL_FLAG_W,SALNTY,SALNTY_FLAG_W,OXYGEN,OXYGEN_FLAG_W,SILCAT,SILCAT_FLAG_W,NITRAT,NITRAT_FLAG_W,PHSPHT,PHSPHT_FLAG_W,CFC-11,CFC-11_FLAG_W,TCARBN,TCARBN_FLAG_W,ALKALI,ALKALI_FLAG_W,TRITUM,TRITUM_FLAG_W,DELHE3,DELHE3_FLAG_W,DELC14,DELC14_FLAG_W,C14ERR,THETA
,,,,,,,,,,METERS,DBAR,ITS-90,PSS-78,,PSS-78,,UMOL/KG,,UMOL/KG,,UMOL/KG,,UMOL/KG,,PMOL/KG,,UMOL/KG,,UMOL/KG,,TU,,PERCNT,,/MILLE,,/MILLE,DEG C
35MF62JADE_1,       IR06,      44,          1,          1,2,19890829,       0000,      -7.26,     105.03,       2232,     2.3,  28.2730,  33.3610,2,  33.3650,2,   206.9,2,    5.00,2,    0.10,2,    0.11,2,   1.680,2,  1864.0,2,  2197.0,2,-999.000,9, -999.00,9,  -999.0,9,  -999.0,  28.2725
35MF62JADE_1,       IR06,      44,          1,          2,2,19890829,       0000,      -7.26,     105.03,       2232,    30.9,  28.2820,  33.3660,2,  33.3850,2,   201.3,2,    7.30,2,    0.10,2,    0.09,2,   1.510,2,  1865.0,2,  2195.0,2,-999.000,9, -999.00,9,  -999.0,9,  -999.0,  28.2747
35MF62JADE_1,       IR06,      44,          1,          3,2,19890829,       0000,      -7.26,     105.03,       2232,    72.5,  25.6780,  34.6450,2,  34.6410,2,   142.5,2,   11.20,2,    7.40,2,    0.64,2,   1.280,2,  1995.0,2,  2272.0,2,-999.000,9, -999.00,9,  -999.0,9,  -999.0,  25.6620
35MF62JADE_1,       IR06,      44,          1,          4,2,19890829,       0000,      -7.26,     105.03,       2232,   141.2,  15.4130,  34.5830,2,  34.5740,2,   110.7,2,   30.00,2,   20.70,2,    1.46,2,   0.830,2,  2131.0,2,  2291.0,2,-999.000,9, -999.00,9,  -999.0,9,  -999.0,  15.3913
35MF62JADE_1,       IR06,      44,          1,          5,2,19890829,       0000,      -7.26,     105.03,       2232,   202.0,  12.0570,  34.7810,2,  34.7810,2,    82.2,2,   34.50,2,   27.40,2,    1.91,2,   0.430,2,  2194.0,2,  2313.0,2,-999.000,9, -999.00,9,  -999.0,9,  -999.0,  12.0306
35MF62JADE_1,       IR06,      44,          1,          6,2,19890829,       0000,      -7.26,     105.03,       2232,   403.7,   9.8810,  34.8870,2,  34.8890,2,    73.2,2,   36.80,2,   31.70,2,    2.16,2,   0.050,2,  2232.0,2,  2320.0,2,-999.000,9, -999.00,9,  -999.0,9,  -999.0,   9.8341
35MF62JADE_1,       IR06,      44,          1,          7,2,19890829,       0000,      -7.26,     105.03,       2232,   705.8,   7.6220,  34.8040,2,  34.8030,2,    65.4,2,   63.80,2,   35.70,2,    2.55,2,   0.000,2,  2271.0,2,  2346.0,2,-999.000,9, -999.00,9,  -999.0,9,  -999.0,   7.5504
35MF62JADE_1,       IR06,      44,          1,          8,2,19890829,       0000,      -7.26,     105.03,       2232,   805.3,   6.9070,  34.7720,2,  34.7710,2,    68.5,2,   74.50,2,   36.30,2,    2.61,2,   0.000,2,  2286.0,2,  2358.0,2,-999.000,9, -999.00,9,  -999.0,9,  -999.0,   6.8291
35MF62JADE_1,       IR06,      44,          1,          9,2,19890829,       0000,      -7.26,     105.03,       2232,   907.9,   5.8490,  34.6700,2,  34.6770,2,    84.0,2,   86.00,2,   35.60,2,    2.60,2,   0.030,2,  2290.0,2,  2368.0,2,-999.000,9, -999.00,9,  -999.0,9,  -999.0,   5.7679
35MF62JADE_1,       IR06,      44,          1,         10,2,19890829,       0000,      -7.26,     105.03,       2232,  1008.3,   5.4760,  34.6860,2,  34.6880,2,    86.0,2,   91.80,2,   36.60,2,    2.61,2,   0.000,2,  2299.0,2,  2376.0,2,-999.000,9, -999.00,9,  -999.0,9,  -999.0,   5.3880
35MF62JADE_1,       IR06,      44,          1,         11,2,19890829,       0000,      -7.26,     105.03,       2232,  1513.5,   3.8350,  34.7500,2,  34.7520,2,   108.2,2,  119.50,2,   36.50,2,    2.63,2,   0.000,2,  2315.0,2,  2393.0,2,-999.000,9, -999.00,9,  -999.0,9,  -999.0,   3.7160
35MF62JADE_1,       IR06,      44,          1,         12,2,19890829,       0000,      -7.26,     105.03,       2232,  2221.7,   2.2230,  34.7380,2,  34.7380,2,   149.4,2,  120.70,2,   35.10,2,    2.48,2,-999.000,9,  2311.0,2,  2406.0,2,-999.000,9, -999.00,9,  -999.0,9,  -999.0,   2.0635
35MF62JADE_1,       IR06,      45,          1,          1,2,19890829,       0000,      -6.57,     104.56,       1745,     2.2,  28.3380,  33.1520,2,  33.1590,2,   202.4,2,    4.40,2,    0.10,2,    0.12,2,   1.490,2,  1860.0,2,  2181.0,2,-999.000,9, -999.00,9,  -999.0,9,  -999.0,  28.3375
35MF62JADE_1,       IR06,      45,          1,          2,2,19890829,       0000,      -6.57,     104.56,       1745,    30.4,  28.0280,  33.7690,2,  33.7710,2,   204.8,2,    3.10,2,    0.10,2,    0.13,2,   1.520,2,  1887.0,2,  2218.0,2,-999.000,9, -999.00,9,  -999.0,9,  -999.0,  28.0209
35MF62JADE_1,       IR06,      45,          1,          3,2,19890829,       0000,      -6.57,     104.56,       1745,    51.8,  28.1650,  34.1970,2,  34.0760,2,   196.9,2,    2.50,2,    0.10,2,    0.17,2,   1.520,2,  1905.0,2,  2237.0,2,-999.000,9, -999.00,9,  -999.0,9,  -999.0,  28.1528
35MF62JADE_1,       IR06,      45,          1,          4,2,19890829,       0000,      -6.57,     104.56,       1745,    76.4,  27.1770,  34.5250,2,  34.5290,2,   168.1,2,    3.90,2,    0.70,2,    0.42,2,   1.380,2,  1962.0,2,  2267.0,2,-999.000,9, -999.00,9,  -999.0,9,  -999.0,  27.1594
35MF62JADE_1,       IR06,      45,          1,          5,2,19890829,       0000,      -6.57,     104.56,       1745,   100.9,  24.5430,  34.7220,2,  34.7230,2,   133.8,2,    7.30,2,    8.50,2,    0.76,2,   1.200,2,  2025.0,2,  2281.0,2,-999.000,9, -999.00,9,  -999.0,9,  -999.0,  24.5214
35MF62JADE_1,       IR06,      45,          1,          6,2,19890829,       0000,      -6.57,     104.56,       1745,   199.9,  12.1160,  34.7980,2,  34.7980,2,    81.1,2,   30.50,2,   28.50,2,    1.89,2,   0.520,2,  2198.0,2,  2312.0,2,-999.000,9, -999.00,9,  -999.0,9,  -999.0,  12.0898
35MF62JADE_1,       IR06,      45,          1,          7,2,19890829,       0000,      -6.57,     104.56,       1745,   303.2,  10.5080,  34.8860,2,  34.8910,2,    71.2,2,   39.10,2,   31.90,2,    2.05,2,   0.140,2,  2222.0,2,  2317.0,2,-999.000,9, -999.00,9,  -999.0,9,  -999.0,  10.4716
35MF62JADE_1,       IR06,      45,          1,          8,2,19890829,       0000,      -6.57,     104.56,       1745,   404.4,  10.0370,  34.9100,2,  34.9110,2,    69.6,2,   33.40,2,   36.60,3,    2.14,2,   0.140,2,  2231.0,2,  2321.0,2,-999.000,9, -999.00,9,  -999.0,9,  -999.0,   9.9895
35MF62JADE_1,       IR06,      45,          1,          9,2,19890829,       0000,      -6.57,     104.56,       1745,   503.7,   9.2270,  34.8810,2,  34.8830,2,    67.9,2,   40.40,2,   33.20,2,    2.30,2,-999.000,9,  2246.0,2,  2327.0,2,-999.000,9, -999.00,9,  -999.0,9,  -999.0,   9.1705
35MF62JADE_1,       IR06,      45,          1,         10,2,19890829,       0000,      -6.57,     104.56,       1745,   599.8,   8.7190,  34.9120,2,  34.9030,2,    62.5,2,   48.00,2,   26.90,3,    2.44,2,   0.080,2,  2261.0,2,  2336.0,2,-999.000,9, -999.00,9,  -999.0,9,  -999.0,   8.6536
35MF62JADE_1,       IR06,      45,          1,         11,2,19890829,       0000,      -6.57,     104.56,       1745,  1735.0,   2.9630,  34.7500,2,  34.7560,2,   127.5,2,  109.90,2,   38.90,3,    2.62,2,   0.000,2,  2319.0,2,  2402.0,2,-999.000,9, -999.00,9,  -999.0,9,  -999.0,   2.8351
35MF62JADE_1,       IR06,      46,          1,          1,2,19890829,       0000,       -6.4,      104.5,       1550,     3.5,  28.6190,  32.6170,2,  32.6300,2,   198.6,2,    6.40,2,    0.10,2,    0.07,2,   1.590,2,  1840.0,2,  2147.0,3,-999.000,9, -999.00,9,  -999.0,9,  -999.0,  28.6182
35MF62JADE_1,       IR06,      46,          1,          2,2,19890829,       0000,       -6.4,      104.5,       1550,    31.7,  28.3030,  33.8400,2,  33.8030,2,   188.3,2,    6.10,2,    0.40,2,    0.18,2,   1.420,2,  1901.0,2,  2220.0,3,-999.000,9, -999.00,9,  -999.0,9,  -999.0,  28.2955
35MF62JADE_1,       IR06,      46,          1,          3,2,19890829,       0000,       -6.4,      104.5,       1550,    50.3,  27.9390,  34.5010,2,  34.4940,2,   177.0,2,    6.00,2,    0.40,2,    0.29,2,   1.420,2,  1942.0,2,  2265.0,2,-999.000,9, -999.00,9,  -999.0,9,  -999.0,  27.9272
35MF62JADE_1,       IR06,      46,          1,          4,2,19890829,       0000,       -6.4,      104.5,       1550,   101.6,  24.5380,  34.6070,2,  34.6070,2,   138.8,2,    9.60,2,    5.70,2,    0.67,2,   1.190,2,  2005.0,2,  2273.0,2,-999.000,9, -999.00,9,  -999.0,9,  -999.0,  24.5163
35MF62JADE_1,       IR06,      46,          1,          5,2,19890829,       0000,       -6.4,      104.5,       1550,   151.0,  13.7180,  34.7080,2,  34.7100,2,    92.0,2,   30.00,2,   23.70,2,    1.67,2,   0.630,2,  2164.0,2,  2304.0,2,-999.000,9, -999.00,9,  -999.0,9,  -999.0,  13.6966
35MF62JADE_1,       IR06,      46,          1,          6,2,19890829,       0000,       -6.4,      104.5,       1550,   202.5,  11.7410,  34.8820,2,  34.8800,2,    75.4,2,   30.70,2,   20.90,3,    1.95,2,   0.260,2,  2206.0,2,  2314.0,2,-999.000,9, -999.00,9,  -999.0,9,  -999.0,  11.7150
35MF62JADE_1,       IR06,      46,          1,          7,2,19890829,       0000,       -6.4,      104.5,       1550,   402.0,  10.0610,  34.9020,2,  34.9010,2,    71.1,2,   35.10,2,   24.70,3,    2.10,2,   0.080,2,  2231.0,2,  2319.0,2,-999.000,9, -999.00,9,  -999.0,9,  -999.0,  10.0137
35MF62JADE_1,       IR06,      46,          1,          8,2,19890829,       0000,       -6.4,      104.5,       1550,   604.9,   8.5910,  34.9050,2,  34.9060,2,    61.7,2,   51.20,2,   33.60,2,    2.40,2,   0.000,2,  2265.0,2,  2337.0,2,-999.000,9, -999.00,9,  -999.0,9,  -999.0,   8.5256
35MF62JADE_1,       IR06,      46,          1,          9,2,19890829,       0000,       -6.4,      104.5,       1550,  1007.6,   5.7200,  34.7250,2,  34.7270,2,    80.9,2,   87.10,2,   36.80,2,    2.60,2,   0.000,2,  2301.0,2,  2374.0,2,-999.000,9, -999.00,9,  -999.0,9,  -999.0,   5.6302
35MF62JADE_1,       IR06,      46,          1,         10,2,19890829,       0000,       -6.4,      104.5,       1550,  1214.7,   4.9500,  34.7370,2,  34.7250,2,    89.4,2,   96.20,2,   38.80,3,    2.63,2,-999.000,9,  2311.0,2,  2385.0,2,-999.000,9, -999.00,9,  -999.0,9,  -999.0,   4.8469
35MF62JADE_1,       IR06,      46,          1,         11,2,19890829,       0000,       -6.4,      104.5,       1550,  1415.2,   4.1850,  34.7520,2,  34.7530,2,   100.8,2,  102.70,2,   36.40,2,    2.65,2,-999.000,9,  2316.0,2,  2391.0,2,-999.000,9, -999.00,9,  -999.0,9,  -999.0,   4.0710
35MF62JADE_1,       IR06,      46,          1,         12,2,19890829,       0000,       -6.4,      104.5,       1550,  1539.5,   3.5510,  34.7550,2,  34.7560,2,   112.8,2,  108.20,2,   36.30,2,    2.61,2,-999.000,9,  2316.0,2,  2399.0,2,-999.000,9, -999.00,9,  -999.0,9,  -999.0,   3.4329
35MF62JADE_1,       IR06,      47,          1,          1,2,19890829,       0000,      -6.27,     104.42,        725,     3.5,  28.4850,  32.8030,2,  32.8110,2,   196.4,2,    6.40,2,    0.10,2,    0.09,2,   1.340,2,  1849.0,2,  2161.0,2,-999.000,9, -999.00,9,  -999.0,9,  -999.0,  28.4842
35MF62JADE_1,       IR06,      47,          1,          2,2,19890829,       0000,      -6.27,     104.42,        725,    31.1,  28.4310,  33.3280,2,  33.3090,2,   193.2,2,    6.40,2,    0.10,2,    0.13,2,   1.340,2,  1872.0,2,  2190.0,2,-999.000,9, -999.00,9,  -999.0,9,  -999.0,  28.4236
35MF62JADE_1,       IR06,      47,          1,          3,2,19890829,       0000,      -6.27,     104.42,        725,    52.1,  28.1380,  34.4350,2,  34.4240,2,   184.9,2,    6.10,2,    0.30,2,    0.23,2,   1.210,2,  1935.0,2,  2262.0,2,-999.000,9, -999.00,9,  -999.0,9,  -999.0,  28.1257
35MF62JADE_1,       IR06,      47,          1,          4,2,19890829,       0000,      -6.27,     104.42,        725,    70.5,  26.9770,  34.6130,2,  34.5960,2,   160.0,2,    7.00,2,    2.80,2,    0.46,2,   1.190,2,  1968.0,2,  2272.0,2,-999.000,9, -999.00,9,  -999.0,9,  -999.0,  26.9609
35MF62JADE_1,       IR06,      47,          1,          5,2,19890829,       0000,      -6.27,     104.42,        725,    98.2,  25.2700,  34.6710,2,  34.7120,2,   143.3,2,    9.10,2,    5.40,2,    0.66,2,   1.020,2,  2004.0,2,  2281.0,2,-999.000,9, -999.00,9,  -999.0,9,  -999.0,  25.2486
35MF62JADE_1,       IR06,      47,          1,          6,2,19890829,       0000,      -6.27,     104.42,        725,   127.3,  20.3660,  34.7170,2,  34.7300,2,   104.2,2,   17.30,2,   15.20,2,    1.15,2,   0.910,2,  2083.0,2,  2289.0,2,-999.000,9, -999.00,9,  -999.0,9,  -999.0,  20.3422
35MF62JADE_1,       IR06,      47,          1,          7,2,19890829,       0000,      -6.27,     104.42,        725,   153.4,  15.5400,  34.8290,2,  34.8270,2,    80.7,2,   25.80,2,   23.80,2,    1.62,2,   0.540,2,  2161.0,2,  2305.0,2,-999.000,9, -999.00,9,  -999.0,9,  -999.0,  15.5163
35MF62JADE_1,       IR06,      47,          1,          8,2,19890829,       0000,      -6.27,     104.42,        725,   199.9,  12.2070,  34.9310,2,  34.9340,2,    72.0,2,   29.00,2,   27.50,2,    1.90,2,   0.140,2,  2210.0,2,  2315.0,2,-999.000,9, -999.00,9,  -999.0,9,  -999.0,  12.1806
35MF62JADE_1,       IR06,      47,          1,          9,2,19890829,       0000,      -6.27,     104.42,        725,   252.8,  11.2590,  34.9000,2,  34.9040,2,    72.6,2,   31.30,2,   29.00,2,    2.01,2,   0.100,2,  2217.0,2,  2317.0,2,-999.000,9, -999.00,9,  -999.0,9,  -999.0,  11.2273
35MF62JADE_1,       IR06,      47,          1,         10,2,19890829,       0000,      -6.27,     104.42,        725,   302.7,  10.8010,  34.9100,2,  34.9100,2,    72.7,2,   30.70,2,   30.70,2,    2.06,2,-999.000,9,  2224.0,2,  2319.0,2,-999.000,9, -999.00,9,  -999.0,9,  -999.0,  10.7640
35MF62JADE_1,       IR06,      47,          1,         11,2,19890829,       0000,      -6.27,     104.42,        725,   355.2,  10.5670,  34.9100,2,  34.9110,2,    71.7,2,   34.30,2,   30.70,2,    2.06,2,   0.000,2,  2224.0,2,  2320.0,2,-999.000,9, -999.00,9,  -999.0,9,  -999.0,  10.5240
35MF62JADE_1,       IR06,      47,          1,         12,2,19890829,       0000,      -6.27,     104.42,        725,   428.1,  10.2460,  34.9000,2,  34.9040,2,    74.8,2,   35.30,2,   29.60,2,    2.11,2,-999.000,9,  2230.0,2,  2321.0,2,-999.000,9, -999.00,9,  -999.0,9,  -999.0,  10.1950
35MF62JADE_1,       IR06,      48,          1,          1,2,19890830,       0000,      -6.04,     104.18,        881,     3.4,  28.5390,  34.0200,2,  34.0210,2,   200.7,2,    4.90,2,    0.10,2,    0.11,2,   1.590,2,  1889.0,2,  2232.0,2,-999.000,9, -999.00,9,  -999.0,9,  -999.0,  28.5382
35MF62JADE_1,       IR06,      48,          1,          2,2,19890830,       0000,      -6.04,     104.18,        881,    51.5,  27.9450,  34.5730,2,  34.4770,2,   178.4,2,    6.40,2,    0.30,2,    0.24,2,   1.420,2,  1935.0,2,  2262.0,2,-999.000,9, -999.00,9,  -999.0,9,  -999.0,  27.9329
35MF62JADE_1,       IR06,      48,          1,          3,2,19890830,       0000,      -6.04,     104.18,        881,    99.6,  25.8480,  34.7040,2,  34.7080,2,   148.4,2,    8.70,2,    4.80,2,    0.58,2,   1.290,2,  1991.0,2,  2276.0,2,-999.000,9, -999.00,9,  -999.0,9,  -999.0,  25.8259
35MF62JADE_1,       IR06,      48,          1,          4,2,19890830,       0000,      -6.04,     104.18,        881,   151.0,  14.6890,  34.7920,2,  34.7970,2,    84.0,2,   28.20,2,   22.60,2,    1.66,2,   0.630,2,  2163.0,2,  2305.0,2,-999.000,9, -999.00,9,  -999.0,9,  -999.0,  14.6665
35MF62JADE_1,       IR06,      48,          1,          5,2,19890830,       0000,      -6.04,     104.18,        881,   193.9,  12.4500,  34.8290,2,  34.8270,2,    79.5,2,   31.90,2,   26.40,2,    1.88,2,   0.410,2,  2198.0,2,  2312.0,2,-999.000,9, -999.00,9,  -999.0,9,  -999.0,  12.4241
35MF62JADE_1,       IR06,      48,          1,          6,2,19890830,       0000,      -6.04,     104.18,        881,   302.7,  11.3950,  34.9350,2,  34.9370,2,    70.4,2,   30.30,2,   28.20,2,    1.99,2,   0.190,2,  2213.0,2,  2315.0,2,-999.000,9, -999.00,9,  -999.0,9,  -999.0,  11.3567
35MF62JADE_1,       IR06,      48,          1,          7,2,19890830,       0000,      -6.04,     104.18,        881,   402.1,  10.5910,  34.9230,2,  34.9240,2,    70.4,2,   32.40,2,   30.00,2,    2.04,2,   0.130,2,  2225.0,2,  2319.0,2,-999.000,9, -999.00,9,  -999.0,9,  -999.0,  10.5422
35MF62JADE_1,       IR06,      48,          1,          8,2,19890830,       0000,      -6.04,     104.18,        881,   500.2,   9.2770,  34.8810,2,  34.8830,2,    67.4,2,   42.80,2,   32.20,2,    2.25,2,   0.030,2,  2246.0,2,  2326.0,2,-999.000,9, -999.00,9,  -999.0,9,  -999.0,   9.2208
35MF62JADE_1,       IR06,      48,          1,          9,2,19890830,       0000,      -6.04,     104.18,        881,   601.7,   8.7240,  34.9150,2,  34.9110,2,    61.3,2,   50.30,2,   33.60,2,    2.43,2,   0.030,2,  2261.0,2,  2336.0,2,-999.000,9, -999.00,9,  -999.0,9,  -999.0,   8.6584
35MF62JADE_1,       IR06,      48,          1,         10,2,19890830,       0000,      -6.04,     104.18,        881,   704.6,   8.4860,  34.9230,2,  34.9260,2,    58.5,2, -999.00,9,   35.00,2,    2.48,2,   0.000,2,  2270.0,2,  2344.0,2,-999.000,9, -999.00,9,  -999.0,9,  -999.0,   8.4099
35MF62JADE_1,       IR06,      48,          1,         11,2,19890830,       0000,      -6.04,     104.18,        881,   801.5,   7.3550,  34.8250,2,  34.8280,2,    63.6,2,   69.30,2,   36.70,2,    2.60,2,   0.000,2,  2285.0,2,  2355.0,2,-999.000,9, -999.00,9,  -999.0,9,  -999.0,   7.2748
35MF62JADE_1,       IR06,      48,          1,         12,2,19890830,       0000,      -6.04,     104.18,        881,   870.6,   6.4500,  34.7790,2,  34.7840,2,    69.5,2,   81.20,2,   35.70,2,    2.65,2,-999.000,9,  2302.0,2,  2367.0,2,-999.000,9, -999.00,9,  -999.0,9,  -999.0,   6.3684