BOTTLE,20221003CCHSIOAMB
# Extracted rows with no pressure into residual file, these appear to be the tritium replicates
# File has no SAMPNO, BTLNBR fallback works ok
#BOTTLE,20150328CCHSIORJL
# Merged parameters: SILCAT_FLAG_W, NITRAT_FLAG_W, PHSPHT_FLAG_W
# 20090916PRINUNIVRMK
# 1/20/05 Initialized README file for JADE 89 MD62
# Cruise dates:07/30-09/09/1989 
# Chief Scientist:M. Fieux 
# Ship and cruise designation: Marion Dufresne (35MF62JADE_1) 
# EXPOCODE: 35MF19890730 
# Region: Indian Ocean; WOCE IR06 
# 66 full depth stations;   with Neil Brown Mark III CTD with 12x12liter Ros.
# August 1989 
# Hydro: Who - M. Fieux; Status - final 
# 	Notes: Data file from S. Wijffels on 1/20/05 (via R. Molcard) 
# 	Temp. +/- 0.003; 
# 	See Fieux et al.""", DSR I, 41(7), 1091-1130,1994
# Nuts: Who - Coste; Status - final
# 	Notes: Data file from S. Wijffels on 1/20/05 (via R. Molcard) 
# O2: Who - Fieux; Status - final
# 	Notes: Data from Fieux 7/12/05 
# TCO2: Who - A.Poisson; Status - final 
# 	Notes: Data from http://www.ifremer.fr/sismerData/jsp/donneesInSitu.jsp 
# TA: Who - A.Poisson; Status - final 
# 	Notes: Data from http://www.ifremer.fr/sismerData/jsp/donneesInSitu.jsp 
# CFC: Who - C.Andrie; Status - cfc-11 measured 
# 	Notes: Data from Fieux 7/12/05; CFC-11 only 
# C-14: Who - Leboucher; Status - final
# 	Notes: data manually entered from Table 1 in: 
# 	Leboucher et al.""", Radiocarbon, 46(2), 567-581,2004
# 	listed uncertainty of +/- 3 o/oo 
# C-13: Who - ?; Status - unknown 
# 	Notes: presumably exist from C14 measurement but quality  
# 		and availability unknown 
# H-3: Who - Jean-Babtiste ; Status - final 
# 	Notes: data manually entered from Table 1 in: 
# 	Leboucher et al.""", Radiocarbon, 46(2), 567-581,2004
# 	listed uncertainty of +/- 0.01 TU; values at sampling date
# 	Additional tritium data between Bali and Timor from Jean-Babtiste 
# 	09/27/2007. See Jean-Baptiste et al.""",2004
# Del He-3: Who - Jean-Babtiste ; Status - final 
# 	Notes: Data from Jean-Babtiste 09/27/2007. See Jean-Baptiste et al.
# 	1997. 
# References: 
# Jean-Baptiste, P., M. Fieux, and A. G. Ilahude, An eastern Indian ocean 3He 
# section from Australia to Bali: Evidence for a deep Pacific-Indian throughflow
# Geophys. Res. Lett., 24(21), 2577-2580,1997
# Jean-Baptiste, P., W. J. Jenkins, J. C. Dutay, E. Fourr_, V. Leboucher, and M. 
# Fieux, Temporally integrated estimate of the Indonesian throughflow using
# tritium, Geophys. Res. Lett.,31, L21301, doi:10.1029/2004GL020854,2004
# Leboucher, V., P. Jean-Baptiste, E. Fourr_, M. Arnold, and M. Fieux, Oceanic 
# Radiocarbon and Tritium on a Transect between Australia and Bali (Eastern Indian
# Ocean), Radiocarbon, 46(2), 567-581,2004
EXPOCODE,SECT_ID,STNNBR,CASTNO,BTLNBR,BTLNBR_FLAG_W,DATE,TIME,LATITUDE,LONGITUDE,DEPTH,CTDPRS,CTDTMP,CTDSAL,CTDSAL_FLAG_W,SALNTY,SALNTY_FLAG_W,OXYGEN,OXYGEN_FLAG_W,SILCAT,SILCAT_FLAG_W,NITRAT,NITRAT_FLAG_W,PHSPHT,PHSPHT_FLAG_W,CFC-11,CFC-11_FLAG_W,TCARBN,TCARBN_FLAG_W,ALKALI,ALKALI_FLAG_W,TRITUM,TRITUM_FLAG_W,DELHE3,DELHE3_FLAG_W,DELC14,DELC14_FLAG_W,C14ERR,THETA
,,,,,,,,,,METERS,DBAR,ITS-90,PSS-78,,PSS-78,,UMOL/KG,,UMOL/KG,,UMOL/KG,,UMOL/KG,,PMOL/KG,,UMOL/KG,,UMOL/KG,,TU,,PERCNT,,/MILLE,,/MILLE,DEG C
35MF62JADE_1,       IR06,       1,          3,          2,2,19890802,       0000,      -1.11,      90.43,       4608,    26.8,  28.5920,  34.5570,2,  34.5560,2,   202.0,2,    6.80,2,    0.20,2,    0.12,2,-999.000,9,  1933.0,2,  2321.0,3,-999.000,9, -999.00,9,  -999.0,9,  -999.0,  28.5856
35MF62JADE_1,       IR06,       1,          3,          3,2,19890802,       0000,      -1.11,      90.43,       4608,    27.1,  28.5690,  34.5750,2,  34.5740,2,  -999.0,9, -999.00,9, -999.00,9, -999.00,9,-999.000,9,  -999.0,9,  -999.0,9,-999.000,9, -999.00,9,  -999.0,9,  -999.0,  28.5625
35MF62JADE_1,       IR06,       1,          3,          4,2,19890802,       0000,      -1.11,      90.43,       4608,    46.8,  28.2570,  34.6590,2,  34.6630,2,   203.9,2,    6.80,2,    0.20,2,    0.14,2,-999.000,9,  1945.0,2,  2329.0,3,-999.000,9, -999.00,9,  -999.0,9,  -999.0,  28.2459
35MF62JADE_1,       IR06,       1,          3,          5,2,19890802,       0000,      -1.11,      90.43,       4608,    67.0,  28.1970,  34.7710,2,  34.7620,2,   200.9,2,    7.00,2,    0.20,2,    0.16,2,-999.000,9,  1954.0,2,  2335.0,3,-999.000,9, -999.00,9,  -999.0,9,  -999.0,  28.1811
35MF62JADE_1,       IR06,       1,          3,          6,2,19890802,       0000,      -1.11,      90.43,       4608,    97.8,  28.0790,  34.8110,2,  34.8070,2,   196.2,2,    7.00,2,    0.80,2,    0.17,2,-999.000,9,  1952.0,2,  2333.0,3,-999.000,9, -999.00,9,  -999.0,9,  -999.0,  28.0559
35MF62JADE_1,       IR06,       1,          3,          7,2,19890802,       0000,      -1.11,      90.43,       4608,   121.5,  16.6110,  35.3350,2,  35.1530,2,    74.0,2,   20.10,2,   21.60,2,    1.57,2,-999.000,9,  2195.0,2,  2360.0,3,-999.000,9, -999.00,9,  -999.0,9,  -999.0,  16.5913
35MF62JADE_1,       IR06,       1,          3,          8,2,19890802,       0000,      -1.11,      90.43,       4608,   147.9,  15.3230,  35.1260,2,  35.1170,2,    63.5,2,   22.70,2,   24.30,2,    1.72,2,-999.000,9,  2220.0,2,  2360.0,3,-999.000,9, -999.00,9,  -999.0,9,  -999.0,  15.3003
35MF62JADE_1,       IR06,       1,          3,          9,2,19890802,       0000,      -1.11,      90.43,       4608,   197.8,  13.3600,  35.1240,2,  35.1040,2,    81.7,2,   23.40,2,   24.20,2,    1.70,2,-999.000,9,  2226.0,2,  2362.0,3,-999.000,9, -999.00,9,  -999.0,9,  -999.0,  13.3323
35MF62JADE_1,       IR06,       1,          3,         10,2,19890802,       0000,      -1.11,      90.43,       4608,   298.9,  11.4460,  35.0400,2,  35.0320,2,    91.0,2,   26.40,2,   25.80,2,    1.86,2,-999.000,9,  2237.0,2,  2363.0,3,-999.000,9, -999.00,9,  -999.0,9,  -999.0,  11.4080
35MF62JADE_1,       IR06,       1,          3,         11,2,19890802,       0000,      -1.11,      90.43,       4608,   396.8,  10.2420,  34.9680,2,-999.0000,9,  -999.0,9, -999.00,9, -999.00,9, -999.00,9,-999.000,9,  -999.0,9,  -999.0,9,-999.000,9, -999.00,9,  -999.0,9,  -999.0,-999.0000
35MF62JADE_1,       IR06,       1,          4,         12,2,19890802,       0000,      -1.11,      90.43,       4608,   399.0,  10.0440,  34.9570,2,-999.0000,9,    90.1,2,   32.10,2,   27.40,2,    2.06,2,-999.000,9,  2248.0,2,  2364.0,3,-999.000,9, -999.00,9,  -999.0,9,  -999.0,-999.0000
35MF62JADE_1,       IR06,       1,          3,         13,2,19890802,       0000,      -1.11,      90.43,       4608,   497.7,   9.4580,  34.9980,2,  34.9870,2,    63.6,2,   44.10,2,   31.70,2,    2.35,2,-999.000,9,  2281.0,2,  2374.0,3,-999.000,9, -999.00,9,  -999.0,9,  -999.0,   9.4013
35MF62JADE_1,       IR06,       1,          3,         14,2,19890802,       0000,      -1.11,      90.43,       4608,   605.0,   9.0050,  35.0080,2,  35.0010,2,    68.2,2,   51.40,2,   32.70,2,    2.43,2,-999.000,9,  2290.0,2,  2384.0,3,-999.000,9, -999.00,9,  -999.0,9,  -999.0,   8.9377
35MF62JADE_1,       IR06,       1,          2,         15,2,19890802,       0000,      -1.11,      90.43,       4608,   696.5,   8.5470,  35.0030,2,  34.9980,2,    53.7,2,   57.90,2,   33.00,2,    2.51,2,-999.000,9,  2312.0,2,  2390.0,3,-999.000,9, -999.00,9,  -999.0,9,  -999.0,   8.4715
35MF62JADE_1,       IR06,       1,          2,         16,2,19890802,       0000,      -1.11,      90.43,       4608,   796.0,   8.2430,  34.9950,2,  34.9880,2,    57.0,2,   61.90,2,   33.60,2,    2.52,2,-999.000,9,  2282.0,3,  2371.0,3,-999.000,9, -999.00,9,  -999.0,9,  -999.0,   8.1579
35MF62JADE_1,       IR06,       1,          2,         17,2,19890802,       0000,      -1.11,      90.43,       4608,   895.8,   7.2980,  34.9430,2,  34.9280,2,    57.0,2,   72.30,2,   34.90,2,    2.64,2,-999.000,9,  2330.0,2,  2408.0,3,-999.000,9, -999.00,9,  -999.0,9,  -999.0,   7.2080
35MF62JADE_1,       IR06,       1,          2,         18,2,19890802,       0000,      -1.11,      90.43,       4608,   996.7,   6.3090,  34.8970,2,  34.8920,2,    61.0,2,   82.70,2,   35.10,2,    2.66,2,-999.000,9,  2345.0,2,  2416.0,3,-999.000,9, -999.00,9,  -999.0,9,  -999.0,   6.2156
35MF62JADE_1,       IR06,       1,          2,         19,2,19890802,       0000,      -1.11,      90.43,       4608,  1095.6,   5.9370,  34.9360,2,  34.8970,2,    67.7,2,   87.70,2,   35.30,2,    2.68,2,-999.000,9,  2350.0,2,  2426.0,3,-999.000,9, -999.00,9,  -999.0,9,  -999.0,   5.8366
35MF62JADE_1,       IR06,       1,          2,         20,2,19890802,       0000,      -1.11,      90.43,       4608,  1195.4,   5.3480,  34.8830,2,  34.8750,2,    73.7,2,   94.10,2,   35.40,2,    2.68,2,-999.000,9,  2349.0,2,  2429.0,3,-999.000,9, -999.00,9,  -999.0,9,  -999.0,   5.2429
35MF62JADE_1,       IR06,       1,          2,         21,2,19890802,       0000,      -1.11,      90.43,       4608,  1294.1,   4.9940,  34.8730,2,  34.8610,2,    80.4,2,   97.40,2,   35.40,2,    2.65,2,-999.000,9,  2351.0,2,  2433.0,3,-999.000,9, -999.00,9,  -999.0,9,  -999.0,   4.8828
35MF62JADE_1,       IR06,       1,          2,         22,2,19890802,       0000,      -1.11,      90.43,       4608,  1496.1,   4.2600,  34.8450,2,  34.8330,2,    98.2,2,  102.50,2,   35.00,2,    2.63,2,-999.000,9,  2343.0,2,  2443.0,3,-999.000,9, -999.00,9,  -999.0,9,  -999.0,   4.1375
35MF62JADE_1,       IR06,       1,          2,         23,2,19890802,       0000,      -1.11,      90.43,       4608,  1596.6,   3.8950,  34.8250,2,  34.8130,2,   107.2,2,  104.40,2,   34.60,2,    2.60,2,-999.000,9,  2348.0,2,  2435.0,3,-999.000,9, -999.00,9,  -999.0,9,  -999.0,   3.7676
35MF62JADE_1,       IR06,       1,          2,         24,2,19890802,       0000,      -1.11,      90.43,       4608,  1797.4,   3.1240,  34.7960,2,  34.7880,2,   122.3,2,  112.90,2,   34.30,2,    2.52,2,-999.000,9,  2345.0,2,  2451.0,3,-999.000,9, -999.00,9,  -999.0,9,  -999.0,   2.9884
35MF62JADE_1,       IR06,       1,          2,         25,2,19890802,       0000,      -1.11,      90.43,       4608,  2000.6,   2.7110,  34.7830,2,  34.7710,2,   132.1,2,  117.50,2,   34.10,2,    2.47,2,-999.000,9,  2349.0,2,  2456.0,3,-999.000,9, -999.00,9,  -999.0,9,  -999.0,   2.5633
35MF62JADE_1,       IR06,       1,          2,         26,2,19890802,       0000,      -1.11,      90.43,       4608,  2197.2,   2.4810,  34.7650,2,  34.7630,2,   138.9,2,  119.90,2,   33.90,2,    2.42,2,-999.000,9,  2339.0,2,  2460.0,3,-999.000,9, -999.00,9,  -999.0,9,  -999.0,   2.3193
35MF62JADE_1,       IR06,       1,          1,         27,2,19890802,       0000,      -1.11,      90.43,       4608,  2499.2,   2.0810,  34.7570,2,  34.7480,2,   154.0,2,  124.50,2,   33.40,2,    2.44,2,-999.000,9,  2358.0,2,  2462.0,3,-999.000,9, -999.00,9,  -999.0,9,  -999.0,   1.8988
35MF62JADE_1,       IR06,       1,          1,         28,2,19890802,       0000,      -1.11,      90.43,       4608,  2599.7,   2.0010,  34.7560,2,  34.7450,2,   153.7,2,  124.50,2,   33.20,2,    2.39,2,-999.000,9,  2359.0,2,  2462.0,3,-999.000,9, -999.00,9,  -999.0,9,  -999.0,   1.8111
35MF62JADE_1,       IR06,       1,          1,         29,2,19890802,       0000,      -1.11,      90.43,       4608,  2797.0,   1.8430,  34.7490,2,  34.7370,2,   158.4,2,  126.30,2,   33.10,2,    2.36,2,-999.000,9,  2357.0,2,  2463.0,3,-999.000,9, -999.00,9,  -999.0,9,  -999.0,   1.6378
35MF62JADE_1,       IR06,       1,          1,         30,2,19890802,       0000,      -1.11,      90.43,       4608,  2998.4,   1.7120,  34.7390,2,  34.7430,2,   160.2,2,  124.90,2,   32.70,2,    2.35,2,-999.000,9,  2354.0,2,  2459.0,3,-999.000,9, -999.00,9,  -999.0,9,  -999.0,   1.4903
35MF62JADE_1,       IR06,       1,          1,         31,2,19890802,       0000,      -1.11,      90.43,       4608,  3196.3,   1.6000,  34.7340,2,  34.7260,2,   169.7,2,  127.80,2,   33.10,2,    2.40,2,-999.000,9,  2348.0,2,  2452.0,3,-999.000,9, -999.00,9,  -999.0,9,  -999.0,   1.3616
35MF62JADE_1,       IR06,       1,          1,         32,2,19890802,       0000,      -1.11,      90.43,       4608,  3497.3,   1.4030,  34.7390,2,  34.7220,2,   176.3,2,  128.80,2,   32.60,2,    2.34,2,-999.000,9,  2347.0,2,  2462.0,3,-999.000,9, -999.00,9,  -999.0,9,  -999.0,   1.1393
35MF62JADE_1,       IR06,       1,          1,         33,2,19890802,       0000,      -1.11,      90.43,       4608,  3596.4,   1.3440,  34.7320,2,  34.7240,2,   180.9,2,  129.10,2,   32.60,2,    2.35,2,-999.000,9,  2344.0,2,  2461.0,3,-999.000,9, -999.00,9,  -999.0,9,  -999.0,   1.0717
35MF62JADE_1,       IR06,       1,          1,         34,2,19890802,       0000,      -1.11,      90.43,       4608,  3847.5,   1.1680,  34.7260,2,  34.7120,2,   192.5,2,  125.20,2,   32.00,2,    2.24,2,-999.000,9,  2326.0,2,  2451.0,3,-999.000,9, -999.00,9,  -999.0,9,  -999.0,   0.8744
35MF62JADE_1,       IR06,       1,          1,         35,2,19890802,       0000,      -1.11,      90.43,       4608,  3997.9,   1.1340,  34.7280,2,  34.7130,2,   198.1,2,  124.90,2,   31.70,2,    2.32,2,-999.000,9,  2321.0,2,  2449.0,3,-999.000,9, -999.00,9,  -999.0,9,  -999.0,   0.8254
35MF62JADE_1,       IR06,       1,          1,         36,2,19890802,       0000,      -1.11,      90.43,       4608,  4195.6,   1.1390,  34.7220,2,  34.7160,2,   198.2,2,  123.50,2,   31.60,2,    2.28,2,-999.000,9,  2318.0,2,  2448.0,3,-999.000,9, -999.00,9,  -999.0,9,  -999.0,   0.8089
35MF62JADE_1,       IR06,       1,          1,         37,2,19890802,       0000,      -1.11,      90.43,       4608,  4398.7,   1.1390,  34.7270,2,  34.7200,2,   198.6,2,  123.50,2,   31.40,2,    2.30,2,-999.000,9,  2325.0,2,  2444.0,3,-999.000,9, -999.00,9,  -999.0,9,  -999.0,   0.7864
35MF62JADE_1,       IR06,       1,          1,         38,2,19890802,       0000,      -1.11,      90.43,       4608,  4598.2,   1.1490,  34.7280,2,  34.7140,2,   200.3,2,  122.40,2,   31.20,2,    2.32,2,-999.000,9,  2303.0,2,  2445.0,3,-999.000,9, -999.00,9,  -999.0,9,  -999.0,   0.7735
35MF62JADE_1,       IR06,       2,          1,          1,2,19890809,       0000,     -18.11,     117.49,       2211,     2.2,  25.1180,  34.6110,2,  34.6130,2,   220.4,2,    6.80,2,    0.10,2,    0.37,2,-999.000,9,  1936.0,2,  2281.0,2,-999.000,9, -999.00,9,  -999.0,9,  -999.0,  25.1175
35MF62JADE_1,       IR06,       2,          1,          2,2,19890809,       0000,     -18.11,     117.49,       2211,    26.0,  24.9540,  34.6330,2,  34.6370,2,   209.8,2,    7.80,2,    0.10,2,    0.15,2,-999.000,9,  1939.0,2,  2284.0,2,-999.000,9, -999.00,9,  -999.0,9,  -999.0,  24.9484
35MF62JADE_1,       IR06,       2,          1,          3,2,19890809,       0000,     -18.11,     117.49,       2211,    49.6,  24.9450,  34.6550,2,  34.6560,2,   207.3,2,    8.30,2,    0.10,2,    0.16,2,-999.000,9,  1939.0,2,  2284.0,2,-999.000,9, -999.00,9,  -999.0,9,  -999.0,  24.9343
35MF62JADE_1,       IR06,       2,          1,          4,2,19890809,       0000,     -18.11,     117.49,       2211,    69.9,  24.9150,  34.6890,2,  34.6910,2,   205.4,2,    7.80,2,    0.20,2,    0.21,2,-999.000,9,  1940.0,2,  2286.0,2,-999.000,9, -999.00,9,  -999.0,9,  -999.0,  24.8999
35MF62JADE_1,       IR06,       2,          1,          5,2,19890809,       0000,     -18.11,     117.49,       2211,    99.6,  24.6030,  34.7430,2,  34.7430,2,   185.3,2,    9.00,2,    3.00,2,    0.51,2,-999.000,9,  1974.0,2,  2286.0,2,-999.000,9, -999.00,9,  -999.0,9,  -999.0,  24.5817
35MF62JADE_1,       IR06,       2,          1,          6,2,19890809,       0000,     -18.11,     117.49,       2211,   126.3,  23.8000,  34.8060,2,  34.8030,2,   153.9,2,   12.20,2,    6.50,2,    0.52,2,-999.000,9,  2022.0,2,  2288.0,2,-999.000,9, -999.00,9,  -999.0,9,  -999.0,  23.7736
35MF62JADE_1,       IR06,       2,          1,          7,2,19890809,       0000,     -18.11,     117.49,       2211,   151.0,  21.5930,  34.8410,2,  34.8410,2,   129.9,2,   16.50,2,   11.20,2,    0.86,2,-999.000,9,  2061.0,2,  2295.0,2,-999.000,9, -999.00,9,  -999.0,9,  -999.0,  21.5636
35MF62JADE_1,       IR06,       2,          1,          8,2,19890809,       0000,     -18.11,     117.49,       2211,   202.1,  16.8660,  34.8630,2,  34.8790,2,   120.3,2,   24.00,2,   17.50,2,    1.23,2,-999.000,9,  2124.0,2,  2313.0,2,-999.000,9, -999.00,9,  -999.0,9,  -999.0,  16.8328
35MF62JADE_1,       IR06,       2,          1,          9,2,19890809,       0000,     -18.11,     117.49,       2211,   301.4,  12.1500,  34.9190,2,  34.9200,2,   150.0,2,   25.20,2,   19.60,2,    1.38,2,-999.000,9,  2161.0,2,  2323.0,2,-999.000,9, -999.00,9,  -999.0,9,  -999.0,  12.1102
35MF62JADE_1,       IR06,       2,          1,         10,2,19890809,       0000,     -18.11,     117.49,       2211,   403.1,   9.8050,  34.7500,2,  34.9210,2,   149.0,2,   24.90,2,   19.40,2,    1.37,2,-999.000,9,  2159.0,2,  2323.0,2,-999.000,9, -999.00,9,  -999.0,9,  -999.0,   9.7583
35MF62JADE_1,       IR06,       2,          1,         11,2,19890809,       0000,     -18.11,     117.49,       2211,   504.6,   7.5820,  34.6330,2,  34.6360,2,   115.6,2,   57.30,2,   31.00,2,    2.17,2,-999.000,9,  -999.0,9,  -999.0,9,-999.000,9, -999.00,9,  -999.0,9,  -999.0,   7.5318
35MF62JADE_1,       IR06,       2,          1,         12,2,19890809,       0000,     -18.11,     117.49,       2211,   604.8,   6.3400,  34.6140,2,  34.6160,2,   100.5,2,   75.60,2,   35.00,2,    2.42,2,-999.000,9,  2271.0,2,  2358.0,2,-999.000,9, -999.00,9,  -999.0,9,  -999.0,   6.2850