BOTTLE,20221003CCHSIOAMB
EXPOCODE,SECT_ID,STNNBR,CASTNO,BTLNBR,BTLNBR_FLAG_W,DATE,TIME,LATITUDE,LONGITUDE,DEPTH,CTDPRS,CTDTMP,CTDSAL,CTDSAL_FLAG_W,SALNTY,SALNTY_FLAG_W,OXYGEN,OXYGEN_FLAG_W,SILCAT,SILCAT_FLAG_W,NITRAT,NITRAT_FLAG_W,PHSPHT,PHSPHT_FLAG_W,CFC-11,CFC-11_FLAG_W,TCARBN,TCARBN_FLAG_W,ALKALI,ALKALI_FLAG_W,TRITUM,TRITUM_FLAG_W,DELHE3,DELHE3_FLAG_W,DELC14,DELC14_FLAG_W,C14ERR,THETA
,,,,,,,,,,METERS,DBAR,ITS-90,PSS-78,,PSS-78,,UMOL/KG,,UMOL/KG,,UMOL/KG,,UMOL/KG,,PMOL/KG,,UMOL/KG,,UMOL/KG,,TU,,PERCNT,,/MILLE,,/MILLE,DEG C
35MF62JADE_1,       IR06,      10,          3,          1,2,19890812,       0000,     -12.31,     116.15,       5554,     3.9,  27.2400,  33.8880,2,  33.8930,2,   206.3,2,    6.80,2,    0.10,2,    0.12,2,   1.410,2,  1894.0,2,  2219.0,2,   1.960,2, -999.00,9,   104.0,2,     3.0,  27.2391
35MF62JADE_1,       IR06,      10,          3,          2,2,19890812,       0000,     -12.31,     116.15,       5554,    29.0,  27.2330,  33.8840,2,  33.8830,2,   204.4,2,    8.00,2,    0.10,2,    0.09,2,   1.410,2,  1892.0,2,  2220.0,2,   1.760,2,   -0.37,2,   102.0,2,     3.0,  27.2263
35MF62JADE_1,       IR06,      10,          3,          3,2,19890812,       0000,     -12.31,     116.15,       5554,    48.6,  27.0600,  33.9010,2,  33.9100,2,   205.2,2,    8.70,2,    0.10,2,    0.11,2,   1.410,2,  1898.0,2,  2220.0,2,   1.930,2, -999.00,9,    94.0,2,     3.0,  27.0489
35MF62JADE_1,       IR06,      10,          3,          4,2,19890812,       0000,     -12.31,     116.15,       5554,    67.6,  25.6750,  34.0930,2,  34.0940,2,   155.8,2,   12.30,2,    6.30,2,    0.51,2,   1.440,2,  1969.0,2,  2237.0,2,   1.900,2, -999.00,9,    84.0,2,     3.0,  25.6601
35MF62JADE_1,       IR06,      10,          3,          5,2,19890812,       0000,     -12.31,     116.15,       5554,    99.7,  23.8620,  34.3030,2,  34.2980,2,   131.4,2,   15.20,2,   10.40,2,    0.78,2,   1.080,2,  2010.0,2,  2250.0,2,   1.660,2, -999.00,9,    76.0,2,     3.0,  23.8412
35MF62JADE_1,       IR06,      10,          3,          6,2,19890812,       0000,     -12.31,     116.15,       5554,   125.3,  22.2090,  34.4230,2,  34.4200,2,   124.0,2,   19.40,2,   12.30,2,    0.93,2,   1.020,2,  2040.0,2,  2262.0,2,-999.000,9, -999.00,9,  -999.0,9,  -999.0,  22.1841
35MF62JADE_1,       IR06,      10,          3,          7,2,19890812,       0000,     -12.31,     116.15,       5554,   149.5,  19.9640,  34.4670,2,  34.4840,2,   122.7,2,   20.60,2,   14.50,2,    1.08,2,   0.910,2,  2062.0,2,  2274.0,2,   1.650,2, -999.00,9,    26.0,2,     3.0,  19.9365
35MF62JADE_1,       IR06,      10,          3,          8,2,19890812,       0000,     -12.31,     116.15,       5554,   199.3,  16.0360,  34.6070,2,  34.6040,2,   110.1,2,   28.20,2,   19.30,2,    1.44,2,   0.720,2,  2119.0,2,  2289.0,2,   1.390,2,    7.19,2,    18.0,2,     3.0,  16.0045
35MF62JADE_1,       IR06,      10,          3,          9,2,19890812,       0000,     -12.31,     116.15,       5554,   300.7,  11.6190,  34.5350,2,  34.5310,2,   109.0,2,   40.00,2,   25.20,2,    1.85,2,   0.430,2,  2175.0,2,  2297.0,2,   1.010,2, -999.00,9,   -33.0,2,     3.0,  11.5806
35MF62JADE_1,       IR06,      10,          3,         10,2,19890812,       0000,     -12.31,     116.15,       5554,   400.7,   9.7100,  34.5710,2,  34.5730,2,    97.7,2,   48.30,2,   29.30,2,    2.14,2,   0.260,2,  2212.0,2,  2310.0,2,   0.790,2,   12.05,2,   -73.0,2,     3.0,   9.6641
35MF62JADE_1,       IR06,      10,          3,         11,2,19890812,       0000,     -12.31,     116.15,       5554,   502.8,   8.3860,  34.6150,2,  34.6150,2,   101.0,2,   53.60,2,   30.90,2,    2.26,2,   0.120,2,  2230.0,2,  2319.0,2,-999.000,9, -999.00,9,  -999.0,9,  -999.0,   8.3330
35MF62JADE_1,       IR06,      10,          3,         12,2,19890812,       0000,     -12.31,     116.15,       5554,   605.7,   7.4270,  34.6010,2,  34.5990,2,    97.2,2,   62.70,2,   33.50,2,    2.41,2,   0.020,2,  2246.0,2,  2329.0,2,   0.340,2,   12.15,2,  -116.0,2,     3.0,   7.3670
35MF62JADE_1,       IR06,      10,          2,         13,2,19890812,       0000,     -12.31,     116.15,       5554,   701.8,   6.5750,  34.5950,2,  34.5940,2,    92.6,2,   76.30,2,   34.80,2,    2.59,2,   0.000,2,  2266.0,2,  2345.0,2,-999.000,9,   12.86,2,  -999.0,9,  -999.0,   6.5095
35MF62JADE_1,       IR06,      10,          2,         14,2,19890812,       0000,     -12.31,     116.15,       5554,   803.5,   5.9810,  34.5950,2,  34.5920,2,    94.6,2,   85.00,2,   35.70,2,    2.55,2,   0.000,2,  2278.0,2,  2348.0,2,   0.160,2, -999.00,9,  -152.0,2,     3.0,   5.9091
35MF62JADE_1,       IR06,      10,          2,         15,2,19890812,       0000,     -12.31,     116.15,       5554,   905.1,   5.4670,  34.5930,2,  34.5930,2,    97.1,2,   91.10,2,   36.00,2,    2.69,2,   0.000,2,  2285.0,2,  2358.0,2,-999.000,9, -999.00,9,  -999.0,9,  -999.0,   5.3889
35MF62JADE_1,       IR06,      10,          2,         16,2,19890812,       0000,     -12.31,     116.15,       5554,  1006.2,   5.0220,  34.5980,2,  34.5960,2,    99.8,2,   94.90,2,   36.20,2,    2.77,2,   0.000,2,  2291.0,2,  2363.0,2,   0.070,2,   15.48,2,  -173.0,2,     3.0,   4.9378
35MF62JADE_1,       IR06,      10,          2,         17,2,19890812,       0000,     -12.31,     116.15,       5554,  1106.8,   4.6340,  34.6070,2,  34.6060,2,   100.9,2,  102.10,2,   37.00,2,    2.69,2,   0.000,2,  2296.0,2,  2373.0,2,-999.000,9,   18.14,2,  -999.0,9,  -999.0,   4.5438
35MF62JADE_1,       IR06,      10,          2,         18,2,19890812,       0000,     -12.31,     116.15,       5554,  1209.4,   4.2830,  34.6120,2,  34.6140,2,  -999.0,9,  106.20,2,   36.90,2,    2.74,2,-999.000,9,  2293.0,2,  2376.0,2,-999.000,9,   17.51,2,  -999.0,9,  -999.0,   4.1868
35MF62JADE_1,       IR06,      10,          2,         19,2,19890812,       0000,     -12.31,     116.15,       5554,  1310.6,   3.9720,  34.6290,2,  34.6280,2,   108.2,2,  111.10,2,   37.00,2,    2.71,2,-999.000,9,  2305.0,2,  2375.0,2,-999.000,9,   17.80,2,  -999.0,9,  -999.0,   3.8698
35MF62JADE_1,       IR06,      10,          2,         20,2,19890812,       0000,     -12.31,     116.15,       5554,  1465.8,   3.5210,  34.6610,2,  34.6600,2,   115.8,2,  109.40,2,   37.20,2,    2.77,2,-999.000,9,  2306.0,2,  2382.0,2,-999.000,9, -999.00,9,  -999.0,9,  -999.0,   3.4100
35MF62JADE_1,       IR06,      10,          2,         21,2,19890812,       0000,     -12.31,     116.15,       5554,  1616.1,   3.1360,  34.6900,2,  34.6920,2,   124.4,2,  114.10,2,   36.50,2,    2.73,2,-999.000,9,  2300.0,2,  2385.0,2,-999.000,9,   15.16,2,  -999.0,9,  -999.0,   3.0164
35MF62JADE_1,       IR06,      10,          2,         22,2,19890812,       0000,     -12.31,     116.15,       5554,  1817.2,   2.7490,  34.7140,2,  34.7140,2,   134.7,2,  116.00,2,   36.70,2,    2.72,2,-999.000,9,  2305.0,2,  2381.0,2,-999.000,9,   12.63,2,  -999.0,9,  -999.0,   2.6170
35MF62JADE_1,       IR06,      10,          2,         23,2,19890812,       0000,     -12.31,     116.15,       5554,  2019.4,   2.3910,  34.7240,2,  34.7250,2,  -999.0,9,  119.60,2,   35.70,2,    2.60,2,-999.000,9,  2299.0,2,  2391.0,2,   0.005,2,   14.91,2,  -200.0,2,     3.0,   2.2466
35MF62JADE_1,       IR06,      10,          2,         24,2,19890812,       0000,     -12.31,     116.15,       5554,  2224.1,   2.1590,  34.7260,2,  34.7250,2,   151.2,2,  122.00,2,   35.50,2,    2.57,2,-999.000,9,  2301.0,2,  2394.0,2,-999.000,9,   18.34,3,  -999.0,9,  -999.0,   2.0004
35MF62JADE_1,       IR06,      10,          1,         25,2,19890812,       0000,     -12.31,     116.15,       5554,  2426.9,   1.9810,  34.7260,2,  34.7230,2,   156.7,2,  123.20,2,   35.30,2,    2.51,2,-999.000,9,  2299.0,2,  2395.0,2,-999.000,9,   14.11,2,  -999.0,9,  -999.0,   1.8074
35MF62JADE_1,       IR06,      10,          1,         26,2,19890812,       0000,     -12.31,     116.15,       5554,  2632.6,   1.7570,  34.7230,2,  34.7230,2,   164.1,2,  125.80,2,   35.50,2,    2.48,2,-999.000,9,  2295.0,2,  2397.0,2,-999.000,9,   14.75,2,  -999.0,9,  -999.0,   1.5689
35MF62JADE_1,       IR06,      10,          1,         27,2,19890812,       0000,     -12.31,     116.15,       5554,  2835.6,   1.6660,  34.7230,2,  34.7230,2,   166.3,2,  125.70,2,   35.50,2,    2.40,2,-999.000,9,  2299.0,2,  2398.0,2,-999.000,9,   14.39,2,  -999.0,9,  -999.0,   1.4609
35MF62JADE_1,       IR06,      10,          1,         28,2,19890812,       0000,     -12.31,     116.15,       5554,  3040.3,   1.6020,  34.7210,2,  34.7120,2,   167.0,2,  124.50,2,   35.40,2,    2.48,2,-999.000,9,  2298.0,2,  2396.0,2,-999.000,9,   13.95,2,  -999.0,9,  -999.0,   1.3789
35MF62JADE_1,       IR06,      10,          1,         29,2,19890812,       0000,     -12.31,     116.15,       5554,  3246.9,   1.5450,  34.7170,2,  34.7210,2,   174.1,2,  127.60,2,   35.50,2,    2.44,2,-999.000,9,  2295.0,2,  2398.0,2,-999.000,9,   13.56,2,  -999.0,9,  -999.0,   1.3029
35MF62JADE_1,       IR06,      10,          1,         30,2,19890812,       0000,     -12.31,     116.15,       5554,  3446.9,   1.3770,  34.7160,2,  34.7190,2,   180.5,2,  127.40,2,   35.60,2,    2.40,2,-999.000,9,  2293.0,2,  2395.0,2,-999.000,9,   15.75,2,  -999.0,9,  -999.0,   1.1191
35MF62JADE_1,       IR06,      10,          1,         31,2,19890812,       0000,     -12.31,     116.15,       5554,  3650.9,   1.2660,  34.7120,2,  34.7170,2,   187.5,2,  126.60,2,   34.90,2,    2.34,2,-999.000,9,  2287.0,2,  2396.0,2,-999.000,9,   11.98,2,  -999.0,9,  -999.0,   0.9902
35MF62JADE_1,       IR06,      10,          1,         32,2,19890812,       0000,     -12.31,     116.15,       5554,  3957.6,   1.1880,  34.7120,2,  34.7120,2,   191.4,2,  126.60,2,   35.10,2,    2.36,2,-999.000,9,  2283.0,2,  2393.0,2,-999.000,9,   12.65,2,  -999.0,9,  -999.0,   0.8822
35MF62JADE_1,       IR06,      10,          1,         33,2,19890812,       0000,     -12.31,     116.15,       5554,  4260.3,   1.1650,  34.7100,2,  34.7120,2,   194.3,2,  126.10,2,   35.00,2,    2.33,2,-999.000,9,  2282.0,2,  2394.0,2,   0.001,2, -999.00,9,  -187.0,2,     3.0,   0.8270
35MF62JADE_1,       IR06,      10,          1,         34,2,19890812,       0000,     -12.31,     116.15,       5554,  4574.4,   1.1760,  34.7100,2,  34.7100,2,   194.6,2,  127.00,2,   35.00,2,    2.33,2,-999.000,9,  2284.0,2,  2394.0,2,-999.000,9,   15.04,2,  -999.0,9,  -999.0,   0.8024
35MF62JADE_1,       IR06,      10,          1,         35,2,19890812,       0000,     -12.31,     116.15,       5554,  4986.4,   1.2170,  34.7080,2,  34.7100,2,   194.4,2,  126.90,2,   34.90,2,    2.34,2,-999.000,9,  2283.0,2,  2395.0,2,-999.000,9,    9.98,2,  -999.0,9,  -999.0,   0.7937
35MF62JADE_1,       IR06,      10,          1,         36,2,19890812,       0000,     -12.31,     116.15,       5554,  5543.9,   1.2810,  34.7080,2,  34.7110,2,   195.2,2,  126.30,2,   34.90,2,    2.37,2,-999.000,9,  2286.0,2,  2392.0,2,-999.000,9, -999.00,9,  -999.0,9,  -999.0,   0.7866
35MF62JADE_1,       IR06,      11,          2,          1,2,19890812,       0000,      -11.5,     116.06,       5651,     3.9,  27.4940,  33.8980,2,  33.8980,2,   203.4,2,    6.60,2,    0.10,2,    0.11,2,   1.350,2,  1884.0,2,  2218.0,2,-999.000,9, -999.00,9,  -999.0,9,  -999.0,  27.4931
35MF62JADE_1,       IR06,      11,          2,          2,2,19890812,       0000,      -11.5,     116.06,       5651,    32.7,  27.4950,  33.8980,2,  33.8980,2,   203.8,2,   13.30,2,    0.00,2,    0.08,2,   1.280,2,  1885.0,2,  2217.0,2,-999.000,9, -999.00,9,  -999.0,9,  -999.0,  27.4874
35MF62JADE_1,       IR06,      11,          2,          3,2,19890812,       0000,      -11.5,     116.06,       5651,    49.9,  27.4720,  33.8990,2,  33.8980,2,   202.0,2,   13.30,2,    0.00,2,    0.09,2,   1.350,2,  1883.0,2,  2217.0,2,-999.000,9, -999.00,9,  -999.0,9,  -999.0,  27.4604
35MF62JADE_1,       IR06,      11,          2,          4,2,19890812,       0000,      -11.5,     116.06,       5651,    69.5,  26.9630,  33.9240,2,  33.9310,2,   191.1,2,   14.30,2,    0.80,2,    0.21,2,   1.220,2,  1907.0,2,  2221.0,2,-999.000,9, -999.00,9,  -999.0,9,  -999.0,  26.9471
35MF62JADE_1,       IR06,      11,          2,          5,2,19890812,       0000,      -11.5,     116.06,       5651,   100.8,  25.4720,  34.0760,2,  34.0740,2,   171.1,2,   17.30,2,    2.90,2,    0.45,2,   1.160,2,  1951.0,2,  2231.0,2,-999.000,9, -999.00,9,  -999.0,9,  -999.0,  25.4499
35MF62JADE_1,       IR06,      11,          2,          6,2,19890812,       0000,      -11.5,     116.06,       5651,   125.2,  24.0770,  34.0990,2,  34.1040,2,   158.9,2,   18.00,2,    3.80,2,    0.55,2,   1.100,2,  1965.0,2,  2236.0,2,-999.000,9, -999.00,9,  -999.0,9,  -999.0,  24.0507
35MF62JADE_1,       IR06,      11,          2,          7,2,19890812,       0000,      -11.5,     116.06,       5651,   150.1,  21.6640,  34.4230,2,  34.4230,2,   129.7,2,   22.10,2,    9.00,2,    0.90,2,   1.010,2,  -999.0,9,  -999.0,9,-999.000,9, -999.00,9,  -999.0,9,  -999.0,  21.6347
35MF62JADE_1,       IR06,      11,          2,          8,2,19890812,       0000,      -11.5,     116.06,       5651,   200.9,  16.8490,  34.5470,2,  34.5660,2,   111.9,2,   32.50,2,   18.30,2,    1.34,2,   0.730,2,  2107.0,2,  2285.0,2,-999.000,9, -999.00,9,  -999.0,9,  -999.0,  16.8161
35MF62JADE_1,       IR06,      11,          2,          9,2,19890812,       0000,      -11.5,     116.06,       5651,   301.5,  11.1760,  34.5660,2,  34.5640,2,   102.8,2,   48.60,2,   27.30,2,    1.86,2,   0.370,2,  2183.0,2,  2300.0,2,-999.000,9, -999.00,9,  -999.0,9,  -999.0,  11.1384
35MF62JADE_1,       IR06,      11,          2,         10,2,19890812,       0000,      -11.5,     116.06,       5651,   453.0,   8.9430,  34.6610,2,  34.6610,2,    89.4,2,   54.60,2,   33.20,2,    2.19,2,   0.140,2,  2231.0,2,  2315.0,2,-999.000,9, -999.00,9,  -999.0,9,  -999.0,   8.8935
35MF62JADE_1,       IR06,      11,          2,         11,2,19890812,       0000,      -11.5,     116.06,       5651,   530.3,   7.8510,  34.6060,2,  34.6070,2,    98.9,2,   62.40,2,   33.70,2,    2.28,2,   0.060,2,  2243.0,2,  2323.0,2,-999.000,9, -999.00,9,  -999.0,9,  -999.0,   7.7971
35MF62JADE_1,       IR06,      11,          2,         12,2,19890812,       0000,      -11.5,     116.06,       5651,   608.3,   7.1740,  34.6040,2,  34.6060,2,    93.8,2,   71.50,2,   36.40,2,    2.38,2,   0.030,2,  2258.0,2,  2332.0,2,-999.000,9, -999.00,9,  -999.0,9,  -999.0,   7.1149
35MF62JADE_1,       IR06,      11,          1,         13,2,19890812,       0000,      -11.5,     116.06,       5651,   701.7,   6.5240,  34.6000,2,  34.6020,2,    91.2,2,   78.50,2,   34.60,2,    2.45,2,-999.000,9,  2267.0,2,  2346.0,2,-999.000,9, -999.00,9,  -999.0,9,  -999.0,   6.4588
35MF62JADE_1,       IR06,      11,          1,         14,2,19890812,       0000,      -11.5,     116.06,       5651,   802.0,   5.9670,  34.5960,2,  34.5960,2,    94.4,2,   86.70,2,   33.30,2,    2.52,2,-999.000,9,  2280.0,2,  2354.0,2,-999.000,9, -999.00,9,  -999.0,9,  -999.0,   5.8953
35MF62JADE_1,       IR06,      11,          1,         15,2,19890812,       0000,      -11.5,     116.06,       5651,   905.2,   5.3400,  34.5950,2,  34.5980,2,  -999.0,9,   95.40,2,   36.30,2,    2.53,2,-999.000,9,  2290.0,2,  2363.0,2,-999.000,9, -999.00,9,  -999.0,9,  -999.0,   5.2627
35MF62JADE_1,       IR06,      11,          1,         16,2,19890812,       0000,      -11.5,     116.06,       5651,  1009.0,   4.8630,  34.5970,2,  34.6020,2,  -999.0,9,  102.00,2,   37.00,2,    2.63,2,-999.000,9,  2297.0,2,  2372.0,2,-999.000,9, -999.00,9,  -999.0,9,  -999.0,   4.7798
35MF62JADE_1,       IR06,      11,          1,         17,2,19890812,       0000,      -11.5,     116.06,       5651,  1106.7,   4.5410,  34.6050,2,  34.6070,2,  -999.0,9,  107.50,2,   37.40,2,    2.62,2,-999.000,9,  2303.0,2,  2379.0,2,-999.000,9, -999.00,9,  -999.0,9,  -999.0,   4.4516
35MF62JADE_1,       IR06,      11,          1,         18,2,19890812,       0000,      -11.5,     116.06,       5651,  1208.4,   4.1900,  34.6170,2,  34.6170,2,  -999.0,9,  111.70,2,   35.80,2,    2.60,2,-999.000,9,  2315.0,2,  2386.0,2,-999.000,9, -999.00,9,  -999.0,9,  -999.0,   4.0947
35MF62JADE_1,       IR06,      11,          1,         19,2,19890812,       0000,      -11.5,     116.06,       5651,  1309.0,   3.9230,  34.6380,2,  34.6390,2,  -999.0,9,  114.80,2, -999.00,9,    2.58,2,-999.000,9,  2310.0,2,  2384.0,2,-999.000,9, -999.00,9,  -999.0,9,  -999.0,   3.8214
35MF62JADE_1,       IR06,      11,          1,         20,2,19890812,       0000,      -11.5,     116.06,       5651,  1464.0,   3.5070,  34.6710,2,  34.6710,2,  -999.0,9,  116.90,2, -999.00,9,    2.57,2,-999.000,9,  2313.0,2,  2383.0,2,-999.000,9, -999.00,9,  -999.0,9,  -999.0,   3.3962
35MF62JADE_1,       IR06,      11,          1,         21,2,19890812,       0000,      -11.5,     116.06,       5651,  1614.5,   3.1860,  34.6920,2,  34.6920,2,  -999.0,9,  117.70,2,   37.70,2,    2.55,2,-999.000,9,  2315.0,2,  2386.0,2,-999.000,9, -999.00,9,  -999.0,9,  -999.0,   3.0659
35MF62JADE_1,       IR06,      11,          1,         22,2,19890812,       0000,      -11.5,     116.06,       5651,  1816.4,   2.7350,  34.7160,2,  34.7230,2,  -999.0,9,  121.30,2, -999.00,9,    2.47,2,-999.000,9,  2310.0,2,  2392.0,2,-999.000,9, -999.00,9,  -999.0,9,  -999.0,   2.6032
35MF62JADE_1,       IR06,      11,          1,         23,2,19890812,       0000,      -11.5,     116.06,       5651,  2020.6,   2.4040,  34.7240,2,  34.7190,2,  -999.0,9,  124.50,2,   34.90,2,    2.49,2,-999.000,9,  2308.0,2,  2395.0,2,-999.000,9, -999.00,9,  -999.0,9,  -999.0,   2.2593
35MF62JADE_1,       IR06,      11,          1,         24,2,19890812,       0000,      -11.5,     116.06,       5651,  2216.3,   2.1580,  34.7270,2,  34.7250,2,  -999.0,9,  126.20,2,   34.90,2,    2.46,2,-999.000,9,  2304.0,2,  2391.0,2,-999.000,9, -999.00,9,  -999.0,9,  -999.0,   2.0001