BOTTLE,20221003CCHSIOAMB
EXPOCODE,SECT_ID,STNNBR,CASTNO,BTLNBR,BTLNBR_FLAG_W,DATE,TIME,LATITUDE,LONGITUDE,DEPTH,CTDPRS,CTDTMP,CTDSAL,CTDSAL_FLAG_W,SALNTY,SALNTY_FLAG_W,OXYGEN,OXYGEN_FLAG_W,SILCAT,SILCAT_FLAG_W,NITRAT,NITRAT_FLAG_W,PHSPHT,PHSPHT_FLAG_W,CFC-11,CFC-11_FLAG_W,TCARBN,TCARBN_FLAG_W,ALKALI,ALKALI_FLAG_W,TRITUM,TRITUM_FLAG_W,DELHE3,DELHE3_FLAG_W,DELC14,DELC14_FLAG_W,C14ERR,THETA
,,,,,,,,,,METERS,DBAR,ITS-90,PSS-78,,PSS-78,,UMOL/KG,,UMOL/KG,,UMOL/KG,,UMOL/KG,,PMOL/KG,,UMOL/KG,,UMOL/KG,,TU,,PERCNT,,/MILLE,,/MILLE,DEG C
35MF62JADE_1,       IR06,      16,          2,         15,2,19890814,       0000,      -9.55,     115.31,       4315,   800.8,   5.8870,  34.5930,2,  34.5900,2,    94.3,2,   83.70,2,   35.00,2,    2.48,2,   0.000,2,  2309.0,2,  2367.0,2,-999.000,9,   16.15,2,  -999.0,9,  -999.0,   5.8159
35MF62JADE_1,       IR06,      16,          2,         16,2,19890814,       0000,      -9.55,     115.31,       4315,   903.7,   5.1530,  34.5940,2,  34.5940,2,    99.1,2,   94.40,2,   36.20,2,    2.50,2,   0.000,2,  2322.0,2,  2381.0,2,   0.100,2,   19.11,2,  -170.0,2,     3.0,   5.0771
35MF62JADE_1,       IR06,      16,          2,         17,2,19890814,       0000,      -9.55,     115.31,       4315,  1004.4,   4.7220,  34.6020,2,  34.6070,2,    99.3,2,  100.10,2, -999.00,9,    2.53,2,   0.000,2,  2310.0,2,  2390.0,2,-999.000,9, -999.00,9,  -999.0,9,  -999.0,   4.6402
35MF62JADE_1,       IR06,      16,          2,         18,2,19890814,       0000,      -9.55,     115.31,       4315,  1105.7,   4.3920,  34.6080,2,  34.6020,2,   101.4,2,  104.50,2,   34.20,2,    2.55,2,   0.000,2,  2333.0,2,  2387.0,2,   0.020,2,   21.47,3,  -194.0,2,     3.0,   4.3040
35MF62JADE_1,       IR06,      16,          2,         19,2,19890814,       0000,      -9.55,     115.31,       4315,  1210.5,   4.0680,  34.6240,2,  34.6220,2,   107.0,2,  109.20,2,   37.30,2,    2.57,2,   0.040,2,  2326.0,2,  2397.0,2,-999.000,9,   17.21,2,  -999.0,9,  -999.0,   3.9736
35MF62JADE_1,       IR06,      16,          2,         20,2,19890814,       0000,      -9.55,     115.31,       4315,  1312.3,   3.7970,  34.6420,2,  34.6400,2,   110.5,2,  111.00,2,   35.10,2,    2.58,2,-999.000,9,  2322.0,2,  2403.0,2,-999.000,9, -999.00,9,  -999.0,9,  -999.0,   3.6964
35MF62JADE_1,       IR06,      16,          2,         21,2,19890814,       0000,      -9.55,     115.31,       4315,  1411.4,   3.5280,  34.6620,2,  34.6610,2,   115.5,2,  113.60,2,   36.50,2,    2.56,2,-999.000,9,  2332.0,2,  2405.0,2,-999.000,9,   12.22,2,  -999.0,9,  -999.0,   3.4216
35MF62JADE_1,       IR06,      16,          2,         22,2,19890814,       0000,      -9.55,     115.31,       4315,  1512.5,   3.3090,  34.6890,2,  34.6850,2,   120.3,2,  113.90,2,   36.50,2,    2.53,2,-999.000,9,  2328.0,2,  2404.0,2,-999.000,9,   10.56,2,  -999.0,9,  -999.0,   3.1963
35MF62JADE_1,       IR06,      16,          2,         23,2,19890814,       0000,      -9.55,     115.31,       4315,  1612.6,   3.1210,  34.6990,2,  34.6980,2,   124.2,2,  115.10,2,   36.10,2,    2.55,2,-999.000,9,  2327.0,2,  2410.0,2,-999.000,9, -999.00,9,  -999.0,9,  -999.0,   3.0018
35MF62JADE_1,       IR06,      16,          2,         24,2,19890814,       0000,      -9.55,     115.31,       4315,  1814.3,   2.7090,  34.7290,2,  34.7240,2,   135.6,2,  116.90,2,   35.60,2,    2.47,2,-999.000,9,  2329.0,2,  2406.0,2,-999.000,9,   13.29,2,  -999.0,9,  -999.0,   2.5778
35MF62JADE_1,       IR06,      16,          2,         25,2,19890814,       0000,      -9.55,     115.31,       4315,  2017.3,   2.4590,  34.7280,2,  34.7290,2,   142.7,2,  117.90,2,   36.20,2,    2.45,2,-999.000,9,  2320.0,2,  2412.0,2,   0.010,2,   15.72,2,  -194.0,2,     3.0,   2.3137
35MF62JADE_1,       IR06,      16,          2,         26,2,19890814,       0000,      -9.55,     115.31,       4315,  2017.3,   2.4590,  34.7280,2,  34.7290,2,  -999.0,9, -999.00,9, -999.00,9, -999.00,9,-999.000,9,  -999.0,9,  -999.0,9,-999.000,9, -999.00,9,  -999.0,9,  -999.0,   2.3137
35MF62JADE_1,       IR06,      16,          1,         27,2,19890814,       0000,      -9.55,     115.31,       4315,  2221.8,   2.2360,  34.7290,2,  34.7290,2,   148.4,2,  123.20,2,   33.70,2,    2.46,2,-999.000,9,  2320.0,2,  2414.0,2,-999.000,9,   16.51,2,  -999.0,9,  -999.0,   2.0763
35MF62JADE_1,       IR06,      16,          1,         28,2,19890814,       0000,      -9.55,     115.31,       4315,  2425.9,   2.0220,  34.7270,2,  34.7300,2,   155.2,2,  125.40,2,   33.90,2,    2.46,2,-999.000,9,  2323.0,2,  2417.0,2,-999.000,9, -999.00,9,  -999.0,9,  -999.0,   1.8477
35MF62JADE_1,       IR06,      16,          1,         29,2,19890814,       0000,      -9.55,     115.31,       4315,  2630.0,   1.8940,  34.7280,2,  34.7290,2,   159.7,2,  126.50,2,   34.40,2,    2.43,2,-999.000,9,  2315.0,2,  2392.0,3,-999.000,9, -999.00,9,  -999.0,9,  -999.0,   1.7034
35MF62JADE_1,       IR06,      16,          1,         30,2,19890814,       0000,      -9.55,     115.31,       4315,  2833.3,   1.7540,  34.7260,2,  34.7280,2,   163.9,2,  128.00,2,   34.00,2,    2.36,2,-999.000,9,  2320.0,2,  2417.0,2,-999.000,9,   19.66,3,  -999.0,9,  -999.0,   1.5473
35MF62JADE_1,       IR06,      16,          1,         31,2,19890814,       0000,      -9.55,     115.31,       4315,  3037.7,   1.6210,  34.7220,2,  34.7230,2,   170.5,2,  129.10,2,   31.40,3,    2.34,2,-999.000,9,  2327.0,2,  2414.0,2,-999.000,9,   13.45,2,  -999.0,9,  -999.0,   1.3976
35MF62JADE_1,       IR06,      16,          1,         32,2,19890814,       0000,      -9.55,     115.31,       4315,  3240.0,   1.5210,  34.7180,2,  34.7230,2,   173.2,2,  130.60,2,   33.00,2,    2.34,2,-999.000,9,  2333.0,2,  2413.0,2,-999.000,9,   16.31,2,  -999.0,9,  -999.0,   1.2802
35MF62JADE_1,       IR06,      16,          1,         33,2,19890814,       0000,      -9.55,     115.31,       4315,  3442.5,   1.4180,  34.7160,2,  34.7210,2,   177.0,2,  131.70,2,   32.50,2,    2.30,2,-999.000,9,  2323.0,2,  2415.0,2,-999.000,9,   12.33,2,  -999.0,9,  -999.0,   1.1595
35MF62JADE_1,       IR06,      16,          1,         34,2,19890814,       0000,      -9.55,     115.31,       4315,  3650.2,   1.3740,  34.7160,2,  34.7200,2,   179.0,2,  132.00,2,   33.10,2,    2.30,2,-999.000,9,  2323.0,2,  2413.0,2,-999.000,9, -999.00,9,  -999.0,9,  -999.0,   1.0954
35MF62JADE_1,       IR06,      16,          1,         35,2,19890814,       0000,      -9.55,     115.31,       4315,  3855.2,   1.3550,  34.7160,2,  34.7170,2,   180.3,2,  132.80,2,   32.40,2,    2.30,2,-999.000,9,  2310.0,2,  2425.0,2,   0.003,2,   14.82,2,  -182.0,2,     3.0,   1.0554
35MF62JADE_1,       IR06,      16,          1,         36,2,19890814,       0000,      -9.55,     115.31,       4315,  4059.7,   1.3540,  34.7140,2,  34.7180,2,  -999.0,9, -999.00,9, -999.00,9, -999.00,9,-999.000,9,  -999.0,9,  -999.0,9,-999.000,9, -999.00,9,  -999.0,9,  -999.0,   1.0325
35MF62JADE_1,       IR06,      16,          1,         37,2,19890814,       0000,      -9.55,     115.31,       4315,  4215.9,   1.3620,  34.7140,2,  34.7190,2,   179.5,2,  135.10,2,   32.20,2,    2.30,2,-999.000,9,  2322.0,2,  2424.0,2,-999.000,9,    8.18,2,  -999.0,9,  -999.0,   1.0231
35MF62JADE_1,       IR06,      16,          1,         38,2,19890814,       0000,      -9.55,     115.31,       4315,  4304.9,   1.3660,  34.7130,2,  34.7190,2,   177.8,2,  136.80,2,   30.30,3,    2.31,2,-999.000,9,  2327.0,2,  2425.0,2,-999.000,9,   10.70,2,  -999.0,9,  -999.0,   1.0170
35MF62JADE_1,       IR06,      17,          3,          1,2,19890814,       0000,      -9.36,     115.25,       2238,     3.4,  26.6380,  33.8950,2,  33.9000,2,   203.2,2,    6.10,2,    0.30,2,    0.12,2,-999.000,9,  1915.0,2,  2241.0,3,-999.000,9, -999.00,9,  -999.0,9,  -999.0,  26.6372
35MF62JADE_1,       IR06,      17,          2,          2,2,19890814,       0000,      -9.36,     115.25,       2238,    29.3,  26.6020,  33.8910,2,  33.8910,2,   202.7,2,    7.90,2,    0.30,2,    0.11,2,   1.320,2,  1885.0,2,  2194.0,2,-999.000,9,    0.68,2,  -999.0,9,  -999.0,  26.5954
35MF62JADE_1,       IR06,      17,          2,          3,2,19890814,       0000,      -9.36,     115.25,       2238,    44.8,  25.7110,  33.7840,2,  33.7770,2,   180.8,2,   11.70,2,    3.30,2,    0.31,2,   1.340,2,  1938.0,2,  2223.0,2,-999.000,9,    1.46,2,  -999.0,9,  -999.0,  25.7011
35MF62JADE_1,       IR06,      17,          2,          4,2,19890814,       0000,      -9.36,     115.25,       2238,    65.9,  24.4130,  34.1120,2,  34.0780,2,   148.0,2,   14.50,2,    7.70,2,    0.59,2,   1.340,2,  1963.0,2,  2235.0,2,-999.000,9, -999.00,9,  -999.0,9,  -999.0,  24.3990
35MF62JADE_1,       IR06,      17,          2,          5,2,19890814,       0000,      -9.36,     115.25,       2238,    98.5,  17.0400,  34.4690,2,  34.4250,2,   132.8,2,   25.10,2,   15.70,2,    1.11,2,   0.930,2,  2085.0,2,  2289.0,2,-999.000,9, -999.00,9,  -999.0,9,  -999.0,  17.0238
35MF62JADE_1,       IR06,      17,          2,          6,2,19890814,       0000,      -9.36,     115.25,       2238,   127.1,  14.9400,  34.5390,2,  34.5450,2,   111.4,2,   32.10,2,   20.30,2,    1.47,2,   0.790,2,  2144.0,2,  2302.0,2,-999.000,9, -999.00,9,  -999.0,9,  -999.0,  14.9209
35MF62JADE_1,       IR06,      17,          2,          7,2,19890814,       0000,      -9.36,     115.25,       2238,   151.1,  13.8340,  34.5410,2,  34.5440,2,   109.5,2,   35.00,2,   21.90,2,    1.58,2,   0.710,2,  2160.0,2,  2302.0,2,-999.000,9, -999.00,9,  -999.0,9,  -999.0,  13.8125
35MF62JADE_1,       IR06,      17,          2,          8,2,19890814,       0000,      -9.36,     115.25,       2238,   199.6,  12.2380,  34.5180,2,  34.5170,2,   111.7,2,   38.00,2,   23.60,2,    1.68,2,   0.660,2,  2178.0,2,  2309.0,2,-999.000,9,   12.19,2,  -999.0,9,  -999.0,  12.2117
35MF62JADE_1,       IR06,      17,          2,          9,2,19890814,       0000,      -9.36,     115.25,       2238,   302.4,   9.7340,  34.5290,2,  34.5250,2,   101.1,2,   47.40,2,   28.30,2,    2.03,2,   0.380,2,  2212.0,2,  2326.0,2,-999.000,9, -999.00,9,  -999.0,9,  -999.0,   9.6995
35MF62JADE_1,       IR06,      17,          2,         10,2,19890814,       0000,      -9.36,     115.25,       2238,   404.0,   8.8830,  34.6950,2,  34.6930,2,    83.3,2,   49.70,2,   31.80,2,    2.20,2,   0.290,2,  2247.0,2,  2328.0,2,-999.000,9,   10.52,2,  -999.0,9,  -999.0,   8.8391
35MF62JADE_1,       IR06,      17,          2,         11,2,19890814,       0000,      -9.36,     115.25,       2238,   505.1,   8.4910,  34.7440,2,  34.7420,2,    75.2,2,   53.00,2,   33.20,2,    2.32,2,   0.250,2,  2261.0,2,  2339.0,2,-999.000,9, -999.00,9,  -999.0,9,  -999.0,   8.4372
35MF62JADE_1,       IR06,      17,          2,         12,2,19890814,       0000,      -9.36,     115.25,       2238,   595.2,   7.3310,  34.6790,2,  34.6790,2,    79.3,2,   67.40,2,   34.60,2,    2.42,2,   0.080,2,  2277.0,2,  2350.0,2,-999.000,9,   13.01,2,  -999.0,9,  -999.0,   7.2725
35MF62JADE_1,       IR06,      17,          1,         13,2,19890814,       0000,      -9.36,     115.25,       2238,   708.2,   6.6100,  34.6500,2,  34.6470,2,    84.2,2,   77.30,2,   34.90,2,    2.54,2,   0.000,2,  2284.0,2,  2362.0,2,-999.000,9,   13.65,2,  -999.0,9,  -999.0,   6.5437
35MF62JADE_1,       IR06,      17,          1,         14,2,19890814,       0000,      -9.36,     115.25,       2238,   805.5,   5.7000,  34.5980,2,  34.5980,2,    98.1,2,   96.30,2, -999.00,9,    2.57,2,   0.040,2,  2313.0,2,  2378.0,2,-999.000,9,   21.79,3,  -999.0,9,  -999.0,   5.6296
35MF62JADE_1,       IR06,      17,          1,         15,2,19890814,       0000,      -9.36,     115.25,       2238,   907.5,   5.0720,  34.5960,2,  34.6050,2,   101.2,2,  102.80,2,   36.20,2,    2.58,2,   0.040,2,  2314.0,2,  2392.0,2,-999.000,9,   18.80,2,  -999.0,9,  -999.0,   4.9963
35MF62JADE_1,       IR06,      17,          1,         16,2,19890814,       0000,      -9.36,     115.25,       2238,  1010.3,   4.5710,  34.6020,2,  34.6130,2,   102.5,2,  106.80,2,   36.30,2,    2.61,2,-999.000,9,  2325.0,2,  2392.0,2,-999.000,9, -999.00,9,  -999.0,9,  -999.0,   4.4899
35MF62JADE_1,       IR06,      17,          1,         17,2,19890814,       0000,      -9.36,     115.25,       2238,  1104.0,   4.3100,  34.6100,2,  34.6090,2,   103.3,2,  106.00,2,   36.50,2,    2.62,2,-999.000,9,  2322.0,2,  2395.0,2,-999.000,9, -999.00,9,  -999.0,9,  -999.0,   4.2228
35MF62JADE_1,       IR06,      17,          1,         18,2,19890814,       0000,      -9.36,     115.25,       2238,  1208.4,   3.8990,  34.6340,2,-999.0000,9,  -999.0,9,  115.90,2,   37.60,2,    2.68,2,-999.000,9,  -999.0,9,  -999.0,9,-999.000,9,   15.67,2,  -999.0,9,  -999.0,-999.0000
35MF62JADE_1,       IR06,      17,          1,         19,2,19890814,       0000,      -9.36,     115.25,       2238,  1310.3,   3.6290,  34.6620,2,  34.6600,2,   112.6,2,  111.50,2,   36.20,2,    2.59,2,-999.000,9,  2325.0,2,  2404.0,2,-999.000,9, -999.00,9,  -999.0,9,  -999.0,   3.5302
35MF62JADE_1,       IR06,      17,          1,         20,2,19890814,       0000,      -9.36,     115.25,       2238,  1466.8,   3.3850,  34.6980,2,  34.7000,2,   117.4,2,  115.40,2,   36.10,2,    2.55,2,-999.000,9,  2334.0,2,  2398.0,2,-999.000,9,   14.73,2,  -999.0,9,  -999.0,   3.2753
35MF62JADE_1,       IR06,      17,          1,         21,2,19890814,       0000,      -9.36,     115.25,       2238,  1625.4,   3.0240,  34.7110,2,  34.7130,2,   126.4,2,  115.40,2,   36.00,2,    2.53,2,-999.000,9,  2323.0,2,  2405.0,2,-999.000,9,   15.07,2,  -999.0,9,  -999.0,   2.9049
35MF62JADE_1,       IR06,      17,          1,         22,2,19890814,       0000,      -9.36,     115.25,       2238,  1625.4,   3.0240,  34.7110,2,  34.7130,2,  -999.0,9, -999.00,9, -999.00,9, -999.00,9,-999.000,9,  -999.0,9,  -999.0,9,-999.000,9, -999.00,9,  -999.0,9,  -999.0,   2.9049
35MF62JADE_1,       IR06,      17,          1,         23,2,19890814,       0000,      -9.36,     115.25,       2238,  1809.5,   2.7860,  34.7150,2,  34.7160,2,   132.2,2,  117.70,2,   35.80,2,    2.52,2,-999.000,9,  2321.0,2,  2413.0,2,-999.000,9,   15.27,2,  -999.0,9,  -999.0,   2.6541
35MF62JADE_1,       IR06,      17,          1,         24,2,19890814,       0000,      -9.36,     115.25,       2238,  1995.9,   2.4390,  34.7330,2,  34.7230,2,   141.9,2,  119.30,2,   35.40,2,    2.44,2,-999.000,9,  2329.0,2,  2401.0,2,-999.000,9,   13.54,2,  -999.0,9,  -999.0,   2.2959
35MF62JADE_1,       IR06,      17,          1,         25,2,19890814,       0000,      -9.36,     115.25,       2238,  2228.2,   2.2050,  34.7270,2,  34.7280,2,   149.1,2,  121.40,2,   35.10,2,    2.40,2,-999.000,9,  2327.0,2,  2410.0,2,-999.000,9,   15.68,2,  -999.0,9,  -999.0,   2.0452
35MF62JADE_1,       IR06,      19,          3,          1,2,19890819,       0000,      -9.14,     115.15,       2231,   100.2,  19.3810,-999.0000,9,  34.4410,2,   147.9,2, -999.00,9, -999.00,9, -999.00,9,   1.190,2,  2241.0,2,  2334.0,2,   1.710,2, -999.00,9,    39.0,2,     3.0,  19.3630
35MF62JADE_1,       IR06,      19,          3,          2,2,19890819,       0000,      -9.14,     115.15,       2231,   123.2,  17.9960,-999.0000,9,  34.5400,2,   123.2,2, -999.00,9, -999.00,9, -999.00,9,   0.820,2,  2239.0,2,  2333.0,2,-999.000,9, -999.00,9,  -999.0,9,  -999.0,  17.9749
35MF62JADE_1,       IR06,      19,          3,          3,2,19890819,       0000,      -9.14,     115.15,       2231,   153.2,  14.1710,-999.0000,9,  34.5460,2,   106.8,2, -999.00,9, -999.00,9, -999.00,9,-999.000,9,  2248.0,2,  2338.0,2,   0.890,2, -999.00,9,   -61.0,2,     3.0,  14.1488
35MF62JADE_1,       IR06,      19,          3,          4,2,19890819,       0000,      -9.14,     115.15,       2231,   200.6,  10.5550,-999.0000,9,  34.6050,2,    91.2,2, -999.00,9, -999.00,9, -999.00,9,-999.000,9,  2260.0,2,  2342.0,2,   0.800,2, -999.00,9,   -89.0,2,     3.0,  10.5310
35MF62JADE_1,       IR06,      19,          3,          5,2,19890819,       0000,      -9.14,     115.15,       2231,   292.5,   9.0410,-999.0000,9,  34.6040,2,    93.2,2, -999.00,9, -999.00,9, -999.00,9,   0.320,2,  2272.0,2,  2351.0,2,   0.590,2, -999.00,9,   -91.0,2,     3.0,   9.0091
35MF62JADE_1,       IR06,      19,          3,          6,2,19890819,       0000,      -9.14,     115.15,       2231,   396.2,   8.6710,-999.0000,9,  34.7060,2,    82.2,2, -999.00,9, -999.00,9, -999.00,9,   0.110,2,  2020.0,3,  2273.0,3,   0.300,2, -999.00,9,  -101.0,2,     3.0,   8.6286
35MF62JADE_1,       IR06,      19,          3,          7,2,19890819,       0000,      -9.14,     115.15,       2231,   488.4,   7.9490,-999.0000,9,  34.6820,2,    81.2,2, -999.00,9, -999.00,9, -999.00,9,   0.080,2,  2025.0,3,  2275.0,3,   0.220,2, -999.00,9,  -122.0,2,     3.0,   7.8990
35MF62JADE_1,       IR06,      19,          3,          8,2,19890819,       0000,      -9.14,     115.15,       2231,   593.6,   7.4590,-999.0000,9,  34.6810,2,    79.6,2, -999.00,9, -999.00,9, -999.00,9,-999.000,9,  2028.0,3,  2274.0,3,   0.290,2, -999.00,9,  -125.0,2,     3.0,   7.4000