BOTTLE,20220930CCHSIOAMB
EXPOCODE,SECT_ID,STNNBR,CASTNO,BTLNBR,BTLNBR_FLAG_W,DATE,TIME,LATITUDE,LONGITUDE,DEPTH,CTDPRS,CTDTMP,CTDSAL,CTDSAL_FLAG_W,CTDOXY,CTDOXY_FLAG_W,OXYGEN,OXYGEN_FLAG_W,SILCAT,SILCAT_FLAG_W,NITRAT,NITRAT_FLAG_W,NITRIT,NITRIT_FLAG_W,PHSPHT,PHSPHT_FLAG_W,CTDPAR,CTDPAR_FLAG_W,BTL_DATE,BTL_TIME
,,,,,,,,,,METERS,DBAR,ITS-90,PSS-78,,UMOL/KG,,UMOL/KG,,UMOL/KG,,UMOL/KG,,UMOL/KG,,UMOL/KG,,VOLTS,,,
  74JC20180923, AMT28,    53, 50,      1,2,20181021,0500,-33.8316, -35.2688, 4168,    203.2,  14.9229,  35.5569,2,    203.1,2,    208.9,2,     2.25,2,     6.01,2,     0.00,2,     0.49,2,    0.000,2,20181021,0500
  74JC20180923, AMT28,    53, 50,      2,2,20181021,0500,-33.8316, -35.2688, 4168,    203.2,  14.9240,  35.5574,2,    203.3,2,   -999.0,9,  -999.00,9,  -999.00,9,  -999.00,9,  -999.00,9,    0.000,2,20181021,0500
  74JC20180923, AMT28,    53, 50,      3,2,20181021,0500,-33.8316, -35.2688, 4168,    152.6,  15.5857,  35.6491,2,    210.9,2,   -999.0,9,     2.10,2,     3.92,2,     0.00,2,     0.35,2,    0.000,2,20181021,0503
  74JC20180923, AMT28,    53, 50,      4,2,20181021,0500,-33.8316, -35.2688, 4168,    128.6,  15.9541,  35.6931,2,    217.1,2,   -999.0,9,     1.78,2,     2.71,2,     0.00,2,     0.28,2,    0.000,2,20181021,0505
  74JC20180923, AMT28,    53, 50,      5,2,20181021,0500,-33.8316, -35.2688, 4168,    102.5,  16.1655,  35.6379,2,    231.5,2,   -999.0,9,     1.48,2,     0.29,2,     0.09,2,     0.12,2,    0.000,2,20181021,0508
  74JC20180923, AMT28,    53, 50,      6,2,20181021,0500,-33.8316, -35.2688, 4168,     92.4,  16.1977,  35.6305,2,    234.2,2,    238.2,2,     1.47,2,     0.00,2,     0.04,2,     0.10,2,    0.000,2,20181021,0509
  74JC20180923, AMT28,    53, 50,      7,2,20181021,0500,-33.8316, -35.2688, 4168,     92.1,  16.1980,  35.6305,2,    234.1,2,   -999.0,9,  -999.00,9,  -999.00,9,  -999.00,9,  -999.00,9,    0.000,2,20181021,0510
  74JC20180923, AMT28,    53, 50,      8,2,20181021,0500,-33.8316, -35.2688, 4168,     80.0,  16.2297,  35.6250,2,    234.3,2,   -999.0,9,  -999.00,9,  -999.00,9,  -999.00,9,  -999.00,9,    0.000,2,20181021,0513
  74JC20180923, AMT28,    53, 50,      9,2,20181021,0500,-33.8316, -35.2688, 4168,     80.2,  16.2304,  35.6249,2,    234.6,2,    238.6,2,     1.22,2,     0.00,2,     0.00,2,     0.09,2,    0.000,2,20181021,0513
  74JC20180923, AMT28,    53, 50,     10,2,20181021,0500,-33.8316, -35.2688, 4168,     79.9,  16.2314,  35.6248,2,    234.3,2,   -999.0,9,  -999.00,9,  -999.00,9,  -999.00,9,  -999.00,9,    0.000,2,20181021,0514
  74JC20180923, AMT28,    53, 50,     11,2,20181021,0500,-33.8316, -35.2688, 4168,     79.9,  16.2326,  35.6245,2,    234.4,2,   -999.0,9,  -999.00,9,  -999.00,9,  -999.00,9,  -999.00,9,    0.000,2,20181021,0514
  74JC20180923, AMT28,    53, 50,     12,2,20181021,0500,-33.8316, -35.2688, 4168,     80.2,  16.2340,  35.6243,2,    234.2,2,   -999.0,9,  -999.00,9,  -999.00,9,  -999.00,9,  -999.00,9,    0.000,2,20181021,0515
  74JC20180923, AMT28,    53, 50,     13,2,20181021,0500,-33.8316, -35.2688, 4168,     72.2,  16.2408,  35.6240,2,    234.6,2,   -999.0,9,     1.24,2,     0.00,2,     0.00,2,     0.09,2,    0.000,2,20181021,0517
  74JC20180923, AMT28,    53, 50,     14,2,20181021,0500,-33.8316, -35.2688, 4168,     61.4,  16.2540,  35.6226,2,    235.4,2,   -999.0,9,     1.11,2,     0.00,2,     0.00,2,     0.08,2,    0.000,2,20181021,0518
  74JC20180923, AMT28,    53, 50,     15,2,20181021,0500,-33.8316, -35.2688, 4168,     51.9,  16.3585,  35.6239,2,    235.6,2,   -999.0,9,     0.93,2,     0.00,2,     0.00,2,     0.08,2,    0.000,2,20181021,0520
  74JC20180923, AMT28,    53, 50,     16,2,20181021,0500,-33.8316, -35.2688, 4168,     35.4,  16.4741,  35.6295,2,    234.9,2,    239.1,2,     1.19,2,     0.00,2,     0.00,2,     0.08,2,    0.000,2,20181021,0522
  74JC20180923, AMT28,    53, 50,     17,2,20181021,0500,-33.8316, -35.2688, 4168,     36.2,  16.4787,  35.6293,2,    234.9,2,   -999.0,9,  -999.00,9,  -999.00,9,  -999.00,9,  -999.00,9,    0.000,2,20181021,0523
  74JC20180923, AMT28,    53, 50,     18,2,20181021,0500,-33.8316, -35.2688, 4168,     22.1,  16.4824,  35.6299,2,    234.6,2,    239.3,2,     1.44,2,     0.00,2,     0.00,2,     0.07,2,    0.053,2,20181021,0525
  74JC20180923, AMT28,    53, 50,     19,2,20181021,0500,-33.8316, -35.2688, 4168,     21.7,  16.4819,  35.6299,2,    234.4,2,   -999.0,9,  -999.00,9,  -999.00,9,  -999.00,9,  -999.00,9,    0.059,2,20181021,0525
  74JC20180923, AMT28,    53, 50,     20,2,20181021,0500,-33.8316, -35.2688, 4168,     12.9,  16.4837,  35.6305,2,    234.6,2,   -999.0,9,     1.30,2,     0.00,2,     0.00,2,     0.07,2,    0.192,2,20181021,0527
  74JC20180923, AMT28,    53, 50,     21,2,20181021,0500,-33.8316, -35.2688, 4168,      6.5,  16.4844,  35.6308,2,    234.7,2,    239.1,2,     1.48,2,     0.00,2,     0.00,2,     0.08,2,    0.657,2,20181021,0529
  74JC20180923, AMT28,    53, 50,     22,2,20181021,0500,-33.8316, -35.2688, 4168,      6.9,  16.4844,  35.6307,2,    234.2,2,   -999.0,9,  -999.00,9,  -999.00,9,  -999.00,9,  -999.00,9,    0.532,2,20181021,0529
  74JC20180923, AMT28,    53, 50,     23,2,20181021,0500,-33.8316, -35.2688, 4168,      6.8,  16.4841,  35.6307,2,    234.4,2,   -999.0,9,  -999.00,9,  -999.00,9,  -999.00,9,  -999.00,9,    0.385,2,20181021,0530
  74JC20180923, AMT28,    53, 50,     24,2,20181021,0500,-33.8316, -35.2688, 4168,      6.8,  16.4835,  35.6309,2,    234.1,2,   -999.0,9,  -999.00,9,  -999.00,9,  -999.00,9,  -999.00,9,    0.373,2,20181021,0530
  74JC20180923, AMT28,    54, 51,      1,2,20181021,1338,-34.5805, -36.0914, 4678,   1514.1,   2.8997,  34.5587,2,    175.1,2,    180.7,6,    60.21,2,    31.82,2,     0.00,2,     2.27,2,    0.000,2,20181021,1338
  74JC20180923, AMT28,    54, 51,      2,2,20181021,1338,-34.5805, -36.0914, 4678,   1412.4,   2.9445,  34.4991,2,    177.6,2,   -999.0,9,    57.31,2,    32.22,2,     0.00,2,     2.30,2,    0.000,2,20181021,1342
  74JC20180923, AMT28,    54, 51,      3,2,20181021,1338,-34.5805, -36.0914, 4678,   1313.4,   3.0610,  34.4427,2,    182.3,2,   -999.0,9,    52.85,2,    32.31,2,     0.00,2,     2.31,2,    0.000,2,20181021,1345
  74JC20180923, AMT28,    54, 51,      4,2,20181021,1338,-34.5805, -36.0914, 4678,   1211.9,   3.1658,  34.3670,2,    191.4,2,   -999.0,9,    46.93,2,    32.18,2,     0.00,2,     2.31,2,    0.000,2,20181021,1348
  74JC20180923, AMT28,    54, 51,      5,2,20181021,1338,-34.5805, -36.0914, 4678,   1109.4,   3.3398,  34.3001,2,    205.1,2,   -999.0,9,    38.79,2,    31.23,2,     0.00,2,     2.27,2,    0.000,2,20181021,1351
  74JC20180923, AMT28,    54, 51,      6,2,20181021,1338,-34.5805, -36.0914, 4678,   1010.2,   3.7079,  34.2709,2,    214.0,2,    219.9,6,    31.81,2,    30.26,2,     0.00,2,     2.19,2,    0.000,2,20181021,1354
  74JC20180923, AMT28,    54, 51,      7,2,20181021,1338,-34.5805, -36.0914, 4678,    908.7,   4.1554,  34.2405,2,    225.6,2,   -999.0,9,    23.97,2,    28.67,2,     0.00,2,     2.08,2,    0.000,2,20181021,1357
  74JC20180923, AMT28,    54, 51,      8,2,20181021,1338,-34.5805, -36.0914, 4678,    808.4,   4.5431,  34.2175,2,    237.6,2,    243.6,6,    17.76,2,    26.97,2,     0.00,2,     1.98,2,    0.000,2,20181021,1400
  74JC20180923, AMT28,    54, 51,      9,2,20181021,1338,-34.5805, -36.0914, 4678,    707.5,   5.2867,  34.2663,2,    233.4,2,   -999.0,9,    14.40,2,    25.58,2,     0.00,2,     1.87,2,    0.000,2,20181021,1403
  74JC20180923, AMT28,    54, 51,     10,2,20181021,1338,-34.5805, -36.0914, 4678,    606.8,   6.7556,  34.4043,2,    219.2,2,   -999.0,9,    11.02,2,    23.26,2,     0.00,2,     1.70,2,    0.000,2,20181021,1406
  74JC20180923, AMT28,    54, 51,     11,2,20181021,1338,-34.5805, -36.0914, 4678,    506.2,   9.0016,  34.6689,2,    204.3,2,    209.3,6,     7.65,2,    19.16,2,     0.00,2,     1.41,2,    0.000,2,20181021,1409
  74JC20180923, AMT28,    54, 51,     12,2,20181021,1338,-34.5805, -36.0914, 4678,    405.7,  11.4094,  35.0052,2,    202.5,2,   -999.0,9,     4.52,2,    13.72,2,     0.00,2,     1.04,2,    0.000,2,20181021,1412
  74JC20180923, AMT28,    54, 51,     13,2,20181021,1338,-34.5805, -36.0914, 4678,    305.0,  13.3310,  35.3212,2,    206.8,2,   -999.0,9,     2.78,2,     8.80,2,     0.00,2,     0.73,2,    0.000,2,20181021,1415
  74JC20180923, AMT28,    54, 51,     14,2,20181021,1338,-34.5805, -36.0914, 4678,    202.8,  14.6091,  35.5110,2,    206.8,2,   -999.0,9,     1.90,2,     6.08,2,     0.00,2,     0.54,2,    0.139,2,20181021,1418
  74JC20180923, AMT28,    54, 51,     15,2,20181021,1338,-34.5805, -36.0914, 4678,    154.1,  15.3174,  35.6292,2,    215.5,2,   -999.0,9,     1.48,2,     4.12,2,     0.00,2,     0.41,2,    0.701,2,20181021,1420
  74JC20180923, AMT28,    54, 51,     16,2,20181021,1338,-34.5805, -36.0914, 4678,    103.5,  15.8403,  35.6645,2,    223.6,2,   -999.0,9,     1.20,2,     2.08,2,     0.06,2,     0.28,2,    4.554,2,20181021,1422
  74JC20180923, AMT28,    54, 51,     17,2,20181021,1338,-34.5805, -36.0914, 4678,     71.6,  16.0546,  35.6426,2,    236.8,2,   -999.0,9,     0.93,2,     0.09,2,     0.05,2,     0.16,2,   11.828,2,20181021,1424
  74JC20180923, AMT28,    54, 51,     18,2,20181021,1338,-34.5805, -36.0914, 4678,     71.4,  16.0559,  35.6426,2,    236.9,2,   -999.0,9,  -999.00,9,  -999.00,9,  -999.00,9,  -999.00,9,   14.281,2,20181021,1425
  74JC20180923, AMT28,    54, 51,     19,2,20181021,1338,-34.5805, -36.0914, 4678,     66.5,  16.1464,  35.6294,2,    237.2,2,   -999.0,9,     0.81,2,     0.00,2,     0.00,2,     0.14,2,   30.777,2,20181021,1426
  74JC20180923, AMT28,    54, 51,     20,2,20181021,1338,-34.5805, -36.0914, 4678,     50.9,  16.3646,  35.6059,2,    236.2,2,   -999.0,9,     0.82,2,     0.00,2,     0.00,2,     0.12,2,   35.640,2,20181021,1428
  74JC20180923, AMT28,    54, 51,     21,2,20181021,1338,-34.5805, -36.0914, 4678,     26.8,  16.3792,  35.6036,2,    235.8,2,   -999.0,9,     0.72,2,     0.00,2,     0.00,2,     0.11,2,  220.000,2,20181021,1430
  74JC20180923, AMT28,    54, 51,     22,2,20181021,1338,-34.5805, -36.0914, 4678,      6.6,  16.3922,  35.6032,2,    235.1,2,   -999.0,9,     0.68,2,     0.00,2,     0.00,2,     0.11,2,  662.530,2,20181021,1432
  74JC20180923, AMT28,    54, 51,     23,2,20181021,1338,-34.5805, -36.0914, 4678,      6.5,  16.3939,  35.6033,2,    235.6,2,   -999.0,9,  -999.00,9,  -999.00,9,  -999.00,9,  -999.00,9,  764.670,2,20181021,1433
  74JC20180923, AMT28,    54, 51,     24,2,20181021,1338,-34.5805, -36.0914, 4678,      6.5,  16.3952,  35.6035,2,    235.3,2,   -999.0,9,  -999.00,9,  -999.00,9,  -999.00,9,  -999.00,9,  663.870,2,20181021,1433
  74JC20180923, AMT28,    55, 52,      1,2,20181022,0504,-36.1672, -37.8663, 4894,    202.4,  15.3590,  35.7064,2,    225.9,2,    231.5,2,     1.42,2,     3.60,2,     0.07,2,     0.37,2,    0.000,2,20181022,0504
  74JC20180923, AMT28,    55, 52,      2,2,20181022,0504,-36.1672, -37.8663, 4894,    202.7,  15.3642,  35.7079,2,    225.5,2,   -999.0,9,  -999.00,9,  -999.00,9,  -999.00,9,  -999.00,9,    0.000,2,20181022,0504
  74JC20180923, AMT28,    55, 52,      3,2,20181022,0504,-36.1672, -37.8663, 4894,    201.8,  15.3675,  35.7086,2,    225.5,2,   -999.0,9,  -999.00,9,  -999.00,9,  -999.00,9,  -999.00,9,    0.000,2,20181022,0505
  74JC20180923, AMT28,    55, 52,      4,2,20181022,0504,-36.1672, -37.8663, 4894,    132.2,  15.5410,  35.7272,2,    233.3,2,   -999.0,9,     1.39,2,     1.91,2,     0.28,2,     0.28,2,    0.000,2,20181022,0507
  74JC20180923, AMT28,    55, 52,      5,2,20181022,0504,-36.1672, -37.8663, 4894,     81.7,  15.6053,  35.7405,2,    236.5,2,    243.1,2,     1.49,2,     1.58,2,     0.19,2,     0.24,2,    0.000,2,20181022,0510
  74JC20180923, AMT28,    55, 52,      6,2,20181022,0504,-36.1672, -37.8663, 4894,     81.6,  15.6060,  35.7407,2,    237.0,2,   -999.0,9,  -999.00,9,  -999.00,9,  -999.00,9,  -999.00,9,    0.000,2,20181022,0510
  74JC20180923, AMT28,    55, 52,      7,2,20181022,0504,-36.1672, -37.8663, 4894,     72.3,  15.6058,  35.7405,2,    236.6,2,    242.9,2,     1.35,2,     1.57,2,     0.19,2,     0.25,2,    0.000,2,20181022,0512
  74JC20180923, AMT28,    55, 52,      8,2,20181022,0504,-36.1672, -37.8663, 4894,     72.7,  15.6057,  35.7405,2,    237.1,2,   -999.0,9,  -999.00,9,  -999.00,9,  -999.00,9,  -999.00,9,    0.000,2,20181022,0512
  74JC20180923, AMT28,    55, 52,      9,2,20181022,0504,-36.1672, -37.8663, 4894,     72.7,  15.6065,  35.7407,2,    236.6,2,   -999.0,9,  -999.00,9,  -999.00,9,  -999.00,9,  -999.00,9,    0.000,2,20181022,0513
  74JC20180923, AMT28,    55, 52,     10,2,20181022,0504,-36.1672, -37.8663, 4894,     71.6,  15.6058,  35.7404,2,    236.7,2,   -999.0,9,  -999.00,9,  -999.00,9,  -999.00,9,  -999.00,9,    0.000,2,20181022,0513
  74JC20180923, AMT28,    55, 52,     11,2,20181022,0504,-36.1672, -37.8663, 4894,     72.3,  15.6060,  35.7406,2,    236.5,2,   -999.0,9,  -999.00,9,  -999.00,9,  -999.00,9,  -999.00,9,    0.000,2,20181022,0514
  74JC20180923, AMT28,    55, 52,     12,2,20181022,0504,-36.1672, -37.8663, 4894,     51.7,  15.6045,  35.7409,2,    237.0,2,   -999.0,9,     1.28,2,     1.57,2,     0.19,2,     0.25,2,    0.000,2,20181022,0515
  74JC20180923, AMT28,    55, 52,     13,2,20181022,0504,-36.1672, -37.8663, 4894,     31.9,  15.6008,  35.7408,2,    236.8,2,   -999.0,9,     1.25,2,     1.58,2,     0.19,2,     0.25,2,    0.000,2,20181022,0517
  74JC20180923, AMT28,    55, 52,     14,2,20181022,0504,-36.1672, -37.8663, 4894,     31.6,  15.6013,  35.7410,2,    237.1,2,   -999.0,9,  -999.00,9,  -999.00,9,  -999.00,9,  -999.00,9,    0.000,2,20181022,0517
  74JC20180923, AMT28,    55, 52,     15,2,20181022,0504,-36.1672, -37.8663, 4894,     21.9,  15.5997,  35.7411,2,    237.3,2,   -999.0,9,     1.40,2,     1.57,2,     0.19,2,     0.25,2,    0.011,2,20181022,0519
  74JC20180923, AMT28,    55, 52,     16,2,20181022,0504,-36.1672, -37.8663, 4894,     18.7,  15.5993,  35.7412,2,    237.2,2,   -999.0,9,  -999.00,9,  -999.00,9,  -999.00,9,  -999.00,9,    0.038,2,20181022,0520
  74JC20180923, AMT28,    55, 52,     17,2,20181022,0504,-36.1672, -37.8663, 4894,     18.6,  15.5991,  35.7412,2,    237.4,2,    242.8,2,     1.33,2,     1.57,2,     0.19,2,     0.25,2,    0.043,2,20181022,0521
  74JC20180923, AMT28,    55, 52,     18,2,20181022,0504,-36.1672, -37.8663, 4894,     19.0,  15.5990,  35.7413,2,    236.7,2,   -999.0,9,  -999.00,9,  -999.00,9,  -999.00,9,  -999.00,9,    0.038,2,20181022,0521
  74JC20180923, AMT28,    55, 52,     19,2,20181022,0504,-36.1672, -37.8663, 4894,     11.8,  15.5911,  35.7415,2,    237.1,2,   -999.0,9,     1.16,2,     1.57,2,     0.19,2,     0.28,2,    0.137,2,20181022,0523
  74JC20180923, AMT28,    55, 52,     20,2,20181022,0504,-36.1672, -37.8663, 4894,      7.0,  15.5893,  35.7415,2,    236.9,2,   -999.0,9,  -999.00,9,  -999.00,9,  -999.00,9,  -999.00,9,    0.264,2,20181022,0524
  74JC20180923, AMT28,    55, 52,     21,2,20181022,0504,-36.1672, -37.8663, 4894,      7.0,  15.5917,  35.7414,2,    237.2,2,    243.6,2,     1.35,2,     1.56,2,     0.19,2,     0.24,2,    0.280,2,20181022,0525
  74JC20180923, AMT28,    55, 52,     22,2,20181022,0504,-36.1672, -37.8663, 4894,      7.1,  15.5880,  35.7417,2,    237.1,2,   -999.0,9,  -999.00,9,  -999.00,9,  -999.00,9,  -999.00,9,    0.298,2,20181022,0525
  74JC20180923, AMT28,    55, 52,     23,2,20181022,0504,-36.1672, -37.8663, 4894,      7.2,  15.5871,  35.7417,2,    237.1,2,   -999.0,9,  -999.00,9,  -999.00,9,  -999.00,9,  -999.00,9,    0.268,2,20181022,0526
  74JC20180923, AMT28,    55, 52,     24,2,20181022,0504,-36.1672, -37.8663, 4894,      7.1,  15.5744,  35.7422,2,    237.5,2,   -999.0,9,  -999.00,9,  -999.00,9,  -999.00,9,  -999.00,9,    0.238,2,20181022,0526