BOTTLE,20220930CCHSIOAMB
EXPOCODE,SECT_ID,STNNBR,CASTNO,BTLNBR,BTLNBR_FLAG_W,DATE,TIME,LATITUDE,LONGITUDE,DEPTH,CTDPRS,CTDTMP,CTDSAL,CTDSAL_FLAG_W,CTDOXY,CTDOXY_FLAG_W,OXYGEN,OXYGEN_FLAG_W,SILCAT,SILCAT_FLAG_W,NITRAT,NITRAT_FLAG_W,NITRIT,NITRIT_FLAG_W,PHSPHT,PHSPHT_FLAG_W,CTDPAR,CTDPAR_FLAG_W,BTL_DATE,BTL_TIME
,,,,,,,,,,METERS,DBAR,ITS-90,PSS-78,,UMOL/KG,,UMOL/KG,,UMOL/KG,,UMOL/KG,,UMOL/KG,,UMOL/KG,,VOLTS,,,
  74JC20180923, AMT28,    59, 56,      1,2,20181024,0459,-40.5209, -43.0829, 5212,    203.7,   9.4401,  34.6579,2,    239.0,2,    244.1,2,     3.81,2,    14.52,2,     0.00,2,     1.15,2,    0.000,2,20181024,0459
  74JC20180923, AMT28,    59, 56,      2,2,20181024,0459,-40.5209, -43.0829, 5212,    203.2,   9.5093,  34.6701,2,    239.2,2,   -999.0,9,  -999.00,9,  -999.00,9,  -999.00,9,  -999.00,9,    0.000,2,20181024,0459
  74JC20180923, AMT28,    59, 56,      3,2,20181024,0459,-40.5209, -43.0829, 5212,    202.7,   9.5472,  34.6755,2,    240.2,2,   -999.0,9,  -999.00,9,  -999.00,9,  -999.00,9,  -999.00,9,    0.000,2,20181024,0500
  74JC20180923, AMT28,    59, 56,      4,2,20181024,0459,-40.5209, -43.0829, 5212,    103.8,  11.7035,  34.8939,2,    251.1,2,   -999.0,9,     1.68,2,     6.49,2,     0.41,2,     0.81,2,    0.000,2,20181024,0503
  74JC20180923, AMT28,    59, 56,      5,2,20181024,0459,-40.5209, -43.0829, 5212,     53.0,  11.3010,  34.6923,2,    263.5,2,    267.7,2,     1.22,2,     5.89,2,     0.19,2,     0.81,2,    0.000,2,20181024,0511
  74JC20180923, AMT28,    59, 56,      6,2,20181024,0459,-40.5209, -43.0829, 5212,     53.6,  11.2998,  34.6917,2,    263.6,2,   -999.0,9,  -999.00,9,  -999.00,9,  -999.00,9,  -999.00,9,    0.000,2,20181024,0511
  74JC20180923, AMT28,    59, 56,      7,2,20181024,0459,-40.5209, -43.0829, 5212,     41.9,  11.3505,  34.7000,2,    263.9,2,    268.5,2,     1.28,2,     5.79,2,     0.18,2,     0.79,2,    0.000,2,20181024,0513
  74JC20180923, AMT28,    59, 56,      8,2,20181024,0459,-40.5209, -43.0829, 5212,     41.6,  11.3457,  34.6991,2,    263.8,2,   -999.0,9,  -999.00,9,  -999.00,9,  -999.00,9,  -999.00,9,    0.000,2,20181024,0513
  74JC20180923, AMT28,    59, 56,      9,2,20181024,0459,-40.5209, -43.0829, 5212,     41.6,  11.3363,  34.6973,2,    264.0,2,   -999.0,9,  -999.00,9,  -999.00,9,  -999.00,9,  -999.00,9,    0.000,2,20181024,0514
  74JC20180923, AMT28,    59, 56,     10,2,20181024,0459,-40.5209, -43.0829, 5212,     41.3,  11.3282,  34.6960,2,    263.7,2,   -999.0,9,  -999.00,9,  -999.00,9,  -999.00,9,  -999.00,9,    0.000,2,20181024,0514
  74JC20180923, AMT28,    59, 56,     11,2,20181024,0459,-40.5209, -43.0829, 5212,     42.1,  11.3253,  34.6955,2,    263.7,2,   -999.0,9,  -999.00,9,  -999.00,9,  -999.00,9,  -999.00,9,    0.000,2,20181024,0515
  74JC20180923, AMT28,    59, 56,     12,2,20181024,0459,-40.5209, -43.0829, 5212,     36.8,  11.3022,  34.6914,2,    263.5,2,   -999.0,9,     1.39,2,     5.84,2,     0.19,2,     0.63,2,    0.000,2,20181024,0516
  74JC20180923, AMT28,    59, 56,     13,2,20181024,0459,-40.5209, -43.0829, 5212,     21.5,  11.3465,  34.6955,2,    264.0,2,   -999.0,9,     1.15,2,     5.76,2,     0.18,2,     0.63,2,    0.015,2,20181024,0518
  74JC20180923, AMT28,    59, 56,     14,2,20181024,0459,-40.5209, -43.0829, 5212,     18.8,  11.3433,  34.6937,2,    263.4,2,    269.0,2,     1.14,2,     5.74,2,     0.18,2,     0.65,2,    0.031,2,20181024,0519
  74JC20180923, AMT28,    59, 56,     15,2,20181024,0459,-40.5209, -43.0829, 5212,     18.9,  11.3416,  34.6909,2,    263.7,2,   -999.0,9,  -999.00,9,  -999.00,9,  -999.00,9,  -999.00,9,    0.031,2,20181024,0520
  74JC20180923, AMT28,    59, 56,     16,2,20181024,0459,-40.5209, -43.0829, 5212,     11.9,  11.3436,  34.6908,2,    263.1,2,   -999.0,9,  -999.00,9,  -999.00,9,  -999.00,9,  -999.00,9,    0.093,2,20181024,0522
  74JC20180923, AMT28,    59, 56,     17,2,20181024,0459,-40.5209, -43.0829, 5212,     11.9,  11.3451,  34.6906,2,    264.1,2,    268.5,2,     1.18,2,     5.75,2,     0.18,2,     0.69,2,    0.099,2,20181024,0522
  74JC20180923, AMT28,    59, 56,     18,2,20181024,0459,-40.5209, -43.0829, 5212,     11.9,  11.3388,  34.6908,2,    263.8,2,   -999.0,9,  -999.00,9,  -999.00,9,  -999.00,9,  -999.00,9,    0.134,2,20181024,0522
  74JC20180923, AMT28,    59, 56,     19,2,20181024,0459,-40.5209, -43.0829, 5212,      9.8,  11.3380,  34.6912,2,    264.2,2,   -999.0,9,     1.04,2,     5.73,2,     0.18,2,     0.60,2,    0.186,2,20181024,0524
  74JC20180923, AMT28,    59, 56,     20,2,20181024,0459,-40.5209, -43.0829, 5212,      7.1,  11.3338,  34.6917,2,    263.3,2,   -999.0,9,  -999.00,9,  -999.00,9,  -999.00,9,  -999.00,9,    0.304,2,20181024,0525
  74JC20180923, AMT28,    59, 56,     21,2,20181024,0459,-40.5209, -43.0829, 5212,      7.0,  11.3336,  34.6918,2,    263.7,2,    268.1,2,     1.29,2,     5.74,2,     0.18,2,     0.60,2,    0.246,2,20181024,0526
  74JC20180923, AMT28,    59, 56,     22,2,20181024,0459,-40.5209, -43.0829, 5212,      6.8,  11.3324,  34.6918,2,    264.3,2,   -999.0,9,  -999.00,9,  -999.00,9,  -999.00,9,  -999.00,9,    0.224,2,20181024,0526
  74JC20180923, AMT28,    59, 56,     23,2,20181024,0459,-40.5209, -43.0829, 5212,      6.7,  11.3335,  34.6918,2,    264.1,2,   -999.0,9,  -999.00,9,  -999.00,9,  -999.00,9,  -999.00,9,    0.187,2,20181024,0527
  74JC20180923, AMT28,    59, 56,     24,2,20181024,0459,-40.5209, -43.0829, 5212,      6.8,  11.3326,  34.6918,2,    264.1,2,   -999.0,9,  -999.00,9,  -999.00,9,  -999.00,9,  -999.00,9,    0.223,2,20181024,0527
  74JC20180923, AMT28,    60, 57,      1,2,20181024,1339,-41.3697, -44.0127, 5246,   1514.7,   3.0117,  34.6573,2,    177.4,2,    182.2,6,    58.97,2,    30.70,2,     0.00,2,     2.16,2,    0.000,2,20181024,1339
  74JC20180923, AMT28,    60, 57,      2,2,20181024,1339,-41.3697, -44.0127, 5246,   1414.0,   2.9545,  34.6056,2,    174.8,2,   -999.0,9,    59.81,2,    31.63,2,     0.00,2,     2.25,2,    0.000,2,20181024,1343
  74JC20180923, AMT28,    60, 57,      3,2,20181024,1339,-41.3697, -44.0127, 5246,   1313.4,   2.9274,  34.5477,2,    175.6,2,    180.3,6,    58.86,2,    32.33,2,     0.00,2,     2.29,2,    0.000,2,20181024,1346
  74JC20180923, AMT28,    60, 57,      4,2,20181024,1339,-41.3697, -44.0127, 5246,   1212.2,   2.9841,  34.4936,2,    177.5,2,   -999.0,9,     2.25,4,     5.84,4,     0.25,2,     0.58,4,    0.000,2,20181024,1349
  74JC20180923, AMT28,    60, 57,      5,2,20181024,1339,-41.3697, -44.0127, 5246,   1111.5,   3.0175,  34.4281,2,    181.7,2,   -999.0,9,    53.87,2,    33.06,2,     0.00,2,     2.33,2,    0.000,2,20181024,1352
  74JC20180923, AMT28,    60, 57,      6,2,20181024,1339,-41.3697, -44.0127, 5246,   1010.1,   3.0945,  34.3726,2,    189.1,2,    193.8,2,    49.66,2,    32.97,2,     0.00,2,     2.34,2,    0.000,2,20181024,1355
  74JC20180923, AMT28,    60, 57,      7,2,20181024,1339,-41.3697, -44.0127, 5246,    909.1,   3.2113,  34.3194,2,    199.5,2,   -999.0,9,    43.39,2,    32.30,2,     0.00,2,     2.32,2,    0.000,2,20181024,1359
  74JC20180923, AMT28,    60, 57,      8,2,20181024,1339,-41.3697, -44.0127, 5246,    807.8,   3.5001,  34.2743,2,    211.1,2,   -999.0,9,    35.46,2,    31.12,2,     0.00,2,     2.21,2,    0.000,2,20181024,1402
  74JC20180923, AMT28,    60, 57,      9,2,20181024,1339,-41.3697, -44.0127, 5246,    706.4,   3.7593,  34.2412,2,    222.3,2,    227.1,2,    28.85,2,    29.84,2,     0.00,2,     2.13,2,    0.000,2,20181024,1405
  74JC20180923, AMT28,    60, 57,     10,2,20181024,1339,-41.3697, -44.0127, 5246,    607.3,   4.0821,  34.2130,2,    232.6,2,   -999.0,9,    22.55,2,    28.45,2,     0.00,2,     2.04,2,    0.000,2,20181024,1408
  74JC20180923, AMT28,    60, 57,     11,2,20181024,1339,-41.3697, -44.0127, 5246,    507.1,   4.4382,  34.1931,2,    246.0,2,    250.0,2,    17.42,2,    26.70,2,     0.00,2,     1.91,2,    0.000,2,20181024,1411
  74JC20180923, AMT28,    60, 57,     12,2,20181024,1339,-41.3697, -44.0127, 5246,    405.5,   5.1805,  34.2183,2,    246.7,2,   -999.0,9,    13.10,2,    25.05,2,     0.00,2,     1.80,2,    0.000,2,20181024,1414
  74JC20180923, AMT28,    60, 57,     13,2,20181024,1339,-41.3697, -44.0127, 5246,    304.9,   6.1049,  34.2728,2,    239.5,2,   -999.0,9,    10.09,2,    23.57,2,     0.00,2,     1.71,2,    0.000,2,20181024,1417
  74JC20180923, AMT28,    60, 57,     14,2,20181024,1339,-41.3697, -44.0127, 5246,    204.7,   8.6177,  34.5166,2,    227.3,2,   -999.0,9,     6.12,2,    18.67,2,     0.00,2,     1.38,2,    0.000,2,20181024,1420
  74JC20180923, AMT28,    60, 57,     15,2,20181024,1339,-41.3697, -44.0127, 5246,    153.7,  10.8464,  34.8308,2,    224.6,2,   -999.0,9,     4.15,2,    13.05,2,     0.00,2,     1.01,2,    0.041,2,20181024,1422
  74JC20180923, AMT28,    60, 57,     16,2,20181024,1339,-41.3697, -44.0127, 5246,    101.4,  11.9425,  34.9622,2,    248.1,2,   -999.0,9,     2.64,2,     6.94,2,     0.44,2,     0.67,2,    0.736,2,20181024,1425
  74JC20180923, AMT28,    60, 57,     17,2,20181024,1339,-41.3697, -44.0127, 5246,     76.3,  12.4766,  35.0291,2,    252.0,2,   -999.0,9,     2.33,2,     5.28,2,     0.28,2,     0.56,2,    3.345,2,20181024,1426
  74JC20180923, AMT28,    60, 57,     18,2,20181024,1339,-41.3697, -44.0127, 5246,     51.7,  12.4927,  35.0301,2,    252.5,2,   -999.0,9,     2.23,2,     5.12,2,     0.27,2,     0.54,2,   20.840,2,20181024,1428
  74JC20180923, AMT28,    60, 57,     19,2,20181024,1339,-41.3697, -44.0127, 5246,     36.6,  12.4763,  35.0252,2,    252.7,2,   -999.0,9,     2.14,2,     5.12,2,     0.25,2,     0.53,2,   24.878,2,20181024,1430
  74JC20180923, AMT28,    60, 57,     20,2,20181024,1339,-41.3697, -44.0127, 5246,     36.3,  12.4747,  35.0248,2,    252.6,2,   -999.0,9,     2.18,2,     5.17,2,     0.26,2,     0.55,2,   25.294,2,20181024,1430
  74JC20180923, AMT28,    60, 57,     21,2,20181024,1339,-41.3697, -44.0127, 5246,     21.4,  12.4483,  35.0108,2,    254.1,2,   -999.0,9,     2.32,2,     5.11,2,     0.26,2,     0.53,2,   68.678,2,20181024,1432
  74JC20180923, AMT28,    60, 57,     22,2,20181024,1339,-41.3697, -44.0127, 5246,      6.7,  12.4432,  35.0084,2,    253.7,2,   -999.0,9,     2.21,2,     5.23,2,     0.24,2,     0.54,2,  112.310,2,20181024,1435
  74JC20180923, AMT28,    60, 57,     23,2,20181024,1339,-41.3697, -44.0127, 5246,      6.6,  12.4407,  35.0082,2,    253.4,2,   -999.0,9,  -999.00,9,  -999.00,9,  -999.00,9,  -999.00,9,  122.100,2,20181024,1435
  74JC20180923, AMT28,    60, 57,     24,2,20181024,1339,-41.3697, -44.0127, 5246,      6.7,  12.4363,  35.0080,2,    253.6,2,   -999.0,9,  -999.00,9,  -999.00,9,  -999.00,9,  -999.00,9,  129.560,2,20181024,1436
  74JC20180923, AMT28,    61, 58,      1,2,20181025,0600,-43.0060, -45.9817, 5253,    204.1,   7.5195,  34.3894,2,    232.0,2,    236.0,2,     6.91,2,    20.63,2,     0.00,2,     1.50,2,    0.000,2,20181025,0600
  74JC20180923, AMT28,    61, 58,      2,2,20181025,0600,-43.0060, -45.9817, 5253,    203.9,   7.5220,  34.3902,2,    231.9,2,   -999.0,9,  -999.00,9,  -999.00,9,  -999.00,9,  -999.00,9,    0.000,2,20181025,0600
  74JC20180923, AMT28,    61, 58,      3,2,20181025,0600,-43.0060, -45.9817, 5253,    142.7,   9.0614,  34.5506,2,    260.3,2,   -999.0,9,     2.97,2,    12.71,2,     0.00,2,     0.98,2,    0.000,2,20181025,0603
  74JC20180923, AMT28,    61, 58,      4,2,20181025,0600,-43.0060, -45.9817, 5253,    122.7,   9.5661,  34.5798,2,    253.2,2,   -999.0,9,     2.93,2,    11.98,2,     0.09,2,     0.98,2,    0.000,2,20181025,0605
  74JC20180923, AMT28,    61, 58,      5,2,20181025,0600,-43.0060, -45.9817, 5253,    102.4,   9.5915,  34.5129,2,    271.9,2,   -999.0,9,     2.37,2,     9.02,2,     0.20,2,     0.80,2,    0.000,2,20181025,0607
  74JC20180923, AMT28,    61, 58,      6,2,20181025,0600,-43.0060, -45.9817, 5253,     82.9,   9.8414,  34.5441,2,    271.2,2,   -999.0,9,     2.20,2,     8.44,2,     0.19,2,     0.77,2,    0.000,2,20181025,0609
  74JC20180923, AMT28,    61, 58,      7,2,20181025,0600,-43.0060, -45.9817, 5253,     67.7,  10.3602,  34.6077,2,    268.2,2,    272.9,2,     2.07,2,     7.77,2,     0.18,2,     0.72,2,    0.000,2,20181025,0610
  74JC20180923, AMT28,    61, 58,      8,2,20181025,0600,-43.0060, -45.9817, 5253,     67.1,  10.3861,  34.6114,2,    267.2,2,   -999.0,9,  -999.00,9,  -999.00,9,  -999.00,9,  -999.00,9,    0.000,2,20181025,0611
  74JC20180923, AMT28,    61, 58,      9,2,20181025,0600,-43.0060, -45.9817, 5253,     56.7,  10.6134,  34.6418,2,    265.9,2,   -999.0,9,  -999.00,9,  -999.00,9,  -999.00,9,  -999.00,9,    0.000,2,20181025,0614
  74JC20180923, AMT28,    61, 58,     10,2,20181025,0600,-43.0060, -45.9817, 5253,     56.4,  10.5972,  34.6399,2,    265.9,2,    270.2,2,     1.80,2,     7.32,2,     0.17,2,     0.70,2,    0.000,2,20181025,0614
  74JC20180923, AMT28,    61, 58,     11,2,20181025,0600,-43.0060, -45.9817, 5253,     56.1,  10.5749,  34.6365,2,    266.6,2,   -999.0,9,  -999.00,9,  -999.00,9,  -999.00,9,  -999.00,9,    0.000,2,20181025,0615
  74JC20180923, AMT28,    61, 58,     12,2,20181025,0600,-43.0060, -45.9817, 5253,     56.0,  10.5808,  34.6370,2,    266.1,2,   -999.0,9,  -999.00,9,  -999.00,9,  -999.00,9,  -999.00,9,    0.000,2,20181025,0615
  74JC20180923, AMT28,    61, 58,     13,2,20181025,0600,-43.0060, -45.9817, 5253,     56.2,  10.5664,  34.6354,2,    266.1,2,   -999.0,9,  -999.00,9,  -999.00,9,  -999.00,9,  -999.00,9,    0.000,2,20181025,0616
  74JC20180923, AMT28,    61, 58,     14,2,20181025,0600,-43.0060, -45.9817, 5253,     50.8,  10.6866,  34.6539,2,    265.1,2,   -999.0,9,     2.05,2,     7.22,2,     0.17,2,     0.67,2,    0.000,2,20181025,0618
  74JC20180923, AMT28,    61, 58,     15,2,20181025,0600,-43.0060, -45.9817, 5253,     25.1,  10.9661,  34.6994,2,    263.0,2,    267.6,2,     1.83,2,     6.73,2,     0.17,2,     0.64,2,    0.001,2,20181025,0620
  74JC20180923, AMT28,    61, 58,     16,2,20181025,0600,-43.0060, -45.9817, 5253,     25.3,  10.9767,  34.7012,2,    263.0,2,   -999.0,9,  -999.00,9,  -999.00,9,  -999.00,9,  -999.00,9,    0.003,2,20181025,0620
  74JC20180923, AMT28,    61, 58,     17,2,20181025,0600,-43.0060, -45.9817, 5253,     21.3,  10.9736,  34.7011,2,    262.7,2,   -999.0,9,     2.02,2,     6.68,2,     0.17,2,     0.65,2,    0.017,2,20181025,0622
  74JC20180923, AMT28,    61, 58,     18,2,20181025,0600,-43.0060, -45.9817, 5253,     14.5,  10.9911,  34.7044,2,    262.9,2,    267.1,2,     2.00,2,     6.64,2,     0.17,2,     0.64,2,    0.090,2,20181025,0624
  74JC20180923, AMT28,    61, 58,     19,2,20181025,0600,-43.0060, -45.9817, 5253,     14.5,  10.9961,  34.7055,2,    263.0,2,   -999.0,9,  -999.00,9,  -999.00,9,  -999.00,9,  -999.00,9,    0.080,2,20181025,0624
  74JC20180923, AMT28,    61, 58,     20,2,20181025,0600,-43.0060, -45.9817, 5253,      7.7,  10.9954,  34.7051,2,    263.0,2,   -999.0,9,     2.07,2,     6.65,2,     0.17,2,     0.64,2,    0.190,2,20181025,0626
  74JC20180923, AMT28,    61, 58,     21,2,20181025,0600,-43.0060, -45.9817, 5253,      6.3,  11.0009,  34.7061,2,    263.2,2,    267.1,2,     2.14,2,     6.64,2,     0.17,2,     0.64,2,    0.230,2,20181025,0628
  74JC20180923, AMT28,    61, 58,     22,2,20181025,0600,-43.0060, -45.9817, 5253,      5.9,  11.0134,  34.7079,2,    262.9,2,   -999.0,9,  -999.00,9,  -999.00,9,  -999.00,9,  -999.00,9,    0.270,2,20181025,0628
  74JC20180923, AMT28,    61, 58,     23,2,20181025,0600,-43.0060, -45.9817, 5253,      6.5,  10.9741,  34.7020,2,    262.8,2,   -999.0,9,  -999.00,9,  -999.00,9,  -999.00,9,  -999.00,9,    0.304,2,20181025,0629
  74JC20180923, AMT28,    61, 58,     24,2,20181025,0600,-43.0060, -45.9817, 5253,      6.1,  10.9969,  34.7049,2,    263.0,2,   -999.0,9,  -999.00,9,  -999.00,9,  -999.00,9,  -999.00,9,    0.268,2,20181025,0629