BOTTLE,20220930CCHSIOAMB
EXPOCODE,SECT_ID,STNNBR,CASTNO,BTLNBR,BTLNBR_FLAG_W,DATE,TIME,LATITUDE,LONGITUDE,DEPTH,CTDPRS,CTDTMP,CTDSAL,CTDSAL_FLAG_W,CTDOXY,CTDOXY_FLAG_W,OXYGEN,OXYGEN_FLAG_W,SILCAT,SILCAT_FLAG_W,NITRAT,NITRAT_FLAG_W,NITRIT,NITRIT_FLAG_W,PHSPHT,PHSPHT_FLAG_W,CTDPAR,CTDPAR_FLAG_W,BTL_DATE,BTL_TIME
,,,,,,,,,,METERS,DBAR,ITS-90,PSS-78,,UMOL/KG,,UMOL/KG,,UMOL/KG,,UMOL/KG,,UMOL/KG,,UMOL/KG,,VOLTS,,,
  74JC20180923, AMT28,    27, 26,      1,2,20181008,0457,  7.4713, -26.6501, 4797,    203.4,  11.5830,  35.1290,2,    121.1,2,    123.0,2,    10.14,2,    22.77,2,     0.00,2,     1.34,2,    0.000,2,20181008,0457
  74JC20180923, AMT28,    27, 26,      2,2,20181008,0457,  7.4713, -26.6501, 4797,    203.3,  11.5897,  35.1302,2,    121.4,2,   -999.0,9,  -999.00,9,  -999.00,9,  -999.00,9,  -999.00,9,    0.000,2,20181008,0457
  74JC20180923, AMT28,    27, 26,      3,2,20181008,0457,  7.4713, -26.6501, 4797,    153.2,  13.1416,  35.3445,2,    120.3,2,   -999.0,9,     8.45,2,    20.43,2,     0.00,2,     1.23,2,    0.000,2,20181008,0459
  74JC20180923, AMT28,    27, 26,      4,2,20181008,0457,  7.4713, -26.6501, 4797,    101.7,  16.9986,  35.7763,2,    115.0,2,   -999.0,9,     5.85,2,    16.12,2,     0.05,2,     0.96,2,    0.000,2,20181008,0502
  74JC20180923, AMT28,    27, 26,      5,2,20181008,0457,  7.4713, -26.6501, 4797,     84.0,  19.0312,  35.8947,2,    122.1,2,    122.9,2,     4.63,2,    12.77,2,     0.09,2,     0.75,2,    0.000,2,20181008,0503
  74JC20180923, AMT28,    27, 26,      6,2,20181008,0457,  7.4713, -26.6501, 4797,     83.8,  19.0334,  35.8964,2,    122.1,2,   -999.0,9,  -999.00,9,  -999.00,9,  -999.00,9,  -999.00,9,    0.000,2,20181008,0504
  74JC20180923, AMT28,    27, 26,      7,2,20181008,0457,  7.4713, -26.6501, 4797,     74.0,  21.1662,  35.9975,2,    143.6,2,   -999.0,9,  -999.00,9,  -999.00,9,  -999.00,9,  -999.00,9,    0.000,2,20181008,0505
  74JC20180923, AMT28,    27, 26,      8,2,20181008,0457,  7.4713, -26.6501, 4797,     74.0,  21.4765,  36.0112,2,    148.2,2,    149.7,2,     3.10,2,     4.86,2,     0.35,2,     0.28,2,    0.000,2,20181008,0506
  74JC20180923, AMT28,    27, 26,      9,2,20181008,0457,  7.4713, -26.6501, 4797,     74.0,  21.4950,  36.0127,2,    148.5,2,   -999.0,9,  -999.00,9,  -999.00,9,  -999.00,9,  -999.00,9,    0.000,2,20181008,0506
  74JC20180923, AMT28,    27, 26,     10,2,20181008,0457,  7.4713, -26.6501, 4797,     73.9,  21.4956,  36.0129,2,    149.3,2,   -999.0,9,  -999.00,9,  -999.00,9,  -999.00,9,  -999.00,9,    0.000,2,20181008,0507
  74JC20180923, AMT28,    27, 26,     11,2,20181008,0457,  7.4713, -26.6501, 4797,     74.2,  21.4949,  36.0110,2,    149.5,2,   -999.0,9,  -999.00,9,  -999.00,9,  -999.00,9,  -999.00,9,    0.000,2,20181008,0507
  74JC20180923, AMT28,    27, 26,     12,2,20181008,0457,  7.4713, -26.6501, 4797,     51.9,  26.2856,  36.1286,2,    198.1,2,   -999.0,9,     1.35,2,     0.00,2,     0.00,2,     0.00,2,    0.000,2,20181008,0509
  74JC20180923, AMT28,    27, 26,     13,2,20181008,0457,  7.4713, -26.6501, 4797,     41.8,  28.0354,  35.6806,2,    210.5,2,   -999.0,9,     0.97,2,     0.00,2,     0.00,2,     0.00,2,    0.000,2,20181008,0511
  74JC20180923, AMT28,    27, 26,     14,2,20181008,0457,  7.4713, -26.6501, 4797,     31.7,  28.5777,  35.2566,2,    202.4,2,    204.0,2,     0.83,2,     0.00,2,     0.00,2,     0.00,2,    0.000,2,20181008,0512
  74JC20180923, AMT28,    27, 26,     15,2,20181008,0457,  7.4713, -26.6501, 4797,     31.9,  28.5824,  35.2521,2,    201.7,2,   -999.0,9,  -999.00,9,  -999.00,9,  -999.00,9,  -999.00,9,    0.000,2,20181008,0513
  74JC20180923, AMT28,    27, 26,     16,2,20181008,0457,  7.4713, -26.6501, 4797,     22.0,  28.7572,  35.0682,2,    196.7,2,   -999.0,9,     0.83,2,     0.00,2,     0.00,2,     0.00,2,    0.006,2,20181008,0515
  74JC20180923, AMT28,    27, 26,     17,2,20181008,0457,  7.4713, -26.6501, 4797,     18.9,  28.7765,  35.0549,2,    195.6,2,    197.0,2,     0.87,2,     0.00,2,     0.00,2,     0.00,2,    0.024,2,20181008,0516
  74JC20180923, AMT28,    27, 26,     18,2,20181008,0457,  7.4713, -26.6501, 4797,     18.7,  28.7788,  35.0546,2,    195.8,2,   -999.0,9,  -999.00,9,  -999.00,9,  -999.00,9,  -999.00,9,    0.025,2,20181008,0517
  74JC20180923, AMT28,    27, 26,     19,2,20181008,0457,  7.4713, -26.6501, 4797,     10.7,  28.8356,  34.9521,2,    194.3,2,   -999.0,9,     0.91,2,     0.00,2,     0.00,2,     0.00,2,    0.124,2,20181008,0519
  74JC20180923, AMT28,    27, 26,     20,2,20181008,0457,  7.4713, -26.6501, 4797,      6.8,  28.7950,  34.8012,2,    193.9,2,   -999.0,9,  -999.00,9,  -999.00,9,  -999.00,9,  -999.00,9,    0.184,2,20181008,0520
  74JC20180923, AMT28,    27, 26,     21,2,20181008,0457,  7.4713, -26.6501, 4797,      6.9,  28.8203,  34.8407,2,    193.8,2,    193.7,2,     0.88,2,     0.00,2,     0.00,2,     0.00,2,    0.198,2,20181008,0521
  74JC20180923, AMT28,    27, 26,     22,2,20181008,0457,  7.4713, -26.6501, 4797,      6.8,  28.7812,  34.7912,2,    194.0,2,   -999.0,9,  -999.00,9,  -999.00,9,  -999.00,9,  -999.00,9,    0.170,2,20181008,0521
  74JC20180923, AMT28,    27, 26,     23,2,20181008,0457,  7.4713, -26.6501, 4797,      7.1,  28.7677,  34.7582,2,    193.7,2,   -999.0,9,  -999.00,9,  -999.00,9,  -999.00,9,  -999.00,9,    0.165,2,20181008,0522
  74JC20180923, AMT28,    27, 26,     24,2,20181008,0457,  7.4713, -26.6501, 4797,      7.2,  28.7801,  34.7605,2,    193.7,2,   -999.0,9,  -999.00,9,  -999.00,9,  -999.00,9,  -999.00,9,    0.184,2,20181008,0522
  74JC20180923, AMT28,    28, 27,      1,2,20181008,1313,  6.2560, -26.3799, 4023,    503.6,   8.0427,  34.7975,2,     69.5,2,   -999.0,9,     8.11,2,    20.21,2,     0.00,2,     1.19,2,    0.000,2,20181008,1313
  74JC20180923, AMT28,    28, 27,      2,2,20181008,1313,  6.2560, -26.3799, 4023,    303.0,  11.3389,  35.1378,2,     58.1,2,   -999.0,9,  -999.00,9,  -999.00,9,  -999.00,9,  -999.00,9,    0.000,2,20181008,1319
  74JC20180923, AMT28,    28, 27,      3,2,20181008,1313,  6.2560, -26.3799, 4023,    202.8,  13.0785,  35.3153,2,    114.1,2,   -999.0,9,     7.43,2,    19.43,2,     0.00,2,     1.16,2,    0.000,2,20181008,1322
  74JC20180923, AMT28,    28, 27,      4,2,20181008,1313,  6.2560, -26.3799, 4023,    152.0,  14.1905,  35.4632,2,    112.1,2,   -999.0,9,     6.35,2,    19.41,2,     0.00,2,     1.20,2,    0.005,2,20181008,1325
  74JC20180923, AMT28,    28, 27,      5,2,20181008,1313,  6.2560, -26.3799, 4023,    151.9,  14.1054,  35.4554,2,    112.4,2,   -999.0,9,     5.53,2,    16.37,2,     0.07,2,     1.02,2,    0.007,2,20181008,1325
  74JC20180923, AMT28,    28, 27,      6,2,20181008,1313,  6.2560, -26.3799, 4023,    122.2,  15.1624,  35.5701,2,     80.0,2,   -999.0,9,  -999.00,9,  -999.00,9,  -999.00,9,  -999.00,9,    0.097,2,20181008,1328
  74JC20180923, AMT28,    28, 27,      7,2,20181008,1313,  6.2560, -26.3799, 4023,    102.2,  15.7257,  35.6343,2,     85.9,2,   -999.0,9,  -999.00,9,  -999.00,9,  -999.00,9,  -999.00,9,    0.330,2,20181008,1329
  74JC20180923, AMT28,    28, 27,      8,2,20181008,1313,  6.2560, -26.3799, 4023,     87.3,  17.5843,  35.8194,2,    113.0,2,   -999.0,9,     1.55,2,     0.12,2,     0.00,2,     0.00,2,    0.766,2,20181008,1331
  74JC20180923, AMT28,    28, 27,      9,2,20181008,1313,  6.2560, -26.3799, 4023,     72.4,  20.4238,  36.0327,2,    128.7,2,   -999.0,9,  -999.00,9,  -999.00,9,  -999.00,9,  -999.00,9,    1.882,2,20181008,1332
  74JC20180923, AMT28,    28, 27,     10,2,20181008,1313,  6.2560, -26.3799, 4023,     65.9,  22.4216,  36.1093,2,    148.1,2,   -999.0,9,  -999.00,9,  -999.00,9,  -999.00,9,  -999.00,9,    3.076,2,20181008,1334
  74JC20180923, AMT28,    28, 27,     11,2,20181008,1313,  6.2560, -26.3799, 4023,     66.4,  22.5043,  36.1146,2,    149.9,2,   -999.0,9,  -999.00,9,  -999.00,9,  -999.00,9,  -999.00,9,    2.930,2,20181008,1334
  74JC20180923, AMT28,    28, 27,     12,2,20181008,1313,  6.2560, -26.3799, 4023,     66.1,  22.5703,  36.1180,2,    150.7,2,   -999.0,9,     1.15,2,     0.00,2,     0.00,2,     0.00,2,    3.018,2,20181008,1335
  74JC20180923, AMT28,    28, 27,     13,2,20181008,1313,  6.2560, -26.3799, 4023,     56.1,  25.4192,  36.1057,2,    189.2,2,   -999.0,9,     1.00,2,     0.00,2,     0.00,2,     0.00,2,    6.884,2,20181008,1336
  74JC20180923, AMT28,    28, 27,     14,2,20181008,1313,  6.2560, -26.3799, 4023,     52.1,  26.5729,  36.0430,2,    199.5,2,   -999.0,9,     0.92,2,     0.00,2,     0.00,2,     0.00,2,    8.894,2,20181008,1338
  74JC20180923, AMT28,    28, 27,     15,2,20181008,1313,  6.2560, -26.3799, 4023,     52.4,  26.5413,  36.0549,2,    199.1,2,   -999.0,9,     1.01,2,     0.00,2,     0.00,2,     0.00,2,    8.801,2,20181008,1338
  74JC20180923, AMT28,    28, 27,     16,2,20181008,1313,  6.2560, -26.3799, 4023,     47.1,  27.5127,  35.7807,2,    207.0,2,   -999.0,9,  -999.00,9,  -999.00,9,  -999.00,9,  -999.00,9,   12.594,2,20181008,1340
  74JC20180923, AMT28,    28, 27,     17,2,20181008,1313,  6.2560, -26.3799, 4023,     42.0,  28.1866,  35.4695,2,    204.1,2,   -999.0,9,     1.17,2,     0.00,2,     0.00,2,     0.00,2,   15.984,2,20181008,1341
  74JC20180923, AMT28,    28, 27,     18,2,20181008,1313,  6.2560, -26.3799, 4023,     32.4,  28.6407,  35.1275,2,    199.3,2,   -999.0,9,  -999.00,9,  -999.00,9,  -999.00,9,  -999.00,9,   24.580,2,20181008,1343
  74JC20180923, AMT28,    28, 27,     19,2,20181008,1313,  6.2560, -26.3799, 4023,     21.0,  28.6604,  35.1006,2,    198.8,2,   -999.0,9,     1.14,2,     0.00,2,     0.00,2,     0.00,2,   43.095,2,20181008,1344
  74JC20180923, AMT28,    28, 27,     20,2,20181008,1313,  6.2560, -26.3799, 4023,     14.3,  28.6965,  35.0662,2,    197.4,2,   -999.0,9,     1.08,2,     0.00,2,     0.00,2,     0.00,2,   68.174,2,20181008,1346
  74JC20180923, AMT28,    28, 27,     21,2,20181008,1313,  6.2560, -26.3799, 4023,      5.9,  28.6949,  34.9952,2,    195.4,2,   -999.0,9,     0.97,2,     0.00,2,     0.00,2,     0.00,2,  135.630,2,20181008,1347
  74JC20180923, AMT28,    28, 27,     22,2,20181008,1313,  6.2560, -26.3799, 4023,      6.0,  28.6950,  34.9959,2,    195.1,2,   -999.0,9,  -999.00,9,  -999.00,9,  -999.00,9,  -999.00,9,  134.720,2,20181008,1348
  74JC20180923, AMT28,    28, 27,     23,2,20181008,1313,  6.2560, -26.3799, 4023,      5.7,  28.6818,  35.0165,2,    195.6,2,   -999.0,9,  -999.00,9,  -999.00,9,  -999.00,9,  -999.00,9,  142.210,2,20181008,1348
  74JC20180923, AMT28,    28, 27,     24,2,20181008,1313,  6.2560, -26.3799, 4023,      6.1,  28.6751,  35.0296,2,    196.5,2,   -999.0,9,  -999.00,9,  -999.00,9,  -999.00,9,  -999.00,9,  133.140,2,20181008,1349
  74JC20180923, AMT28,    29, 28,      1,2,20181009,0457,  3.8078, -25.8358, 4494,    202.3,  13.8569,  35.4079,2,    109.0,2,    111.1,2,    20.04,2,    35.59,2,     0.00,2,     2.02,2,    0.000,2,20181009,0457
  74JC20180923, AMT28,    29, 28,      2,2,20181009,0457,  3.8078, -25.8358, 4494,    202.2,  13.8552,  35.4078,2,    109.0,2,   -999.0,9,    12.77,2,    30.15,2,     0.00,2,     1.77,2,    0.000,2,20181009,0458
  74JC20180923, AMT28,    29, 28,      3,2,20181009,0457,  3.8078, -25.8358, 4494,    152.0,  14.7922,  35.5331,2,    106.1,2,   -999.0,9,     8.71,2,    20.89,2,     0.00,2,     1.35,2,    0.000,2,20181009,0500
  74JC20180923, AMT28,    29, 28,      4,2,20181009,0457,  3.8078, -25.8358, 4494,    117.1,  16.2230,  35.6854,2,     92.1,2,   -999.0,9,     7.92,2,    19.69,2,     0.00,2,     1.28,2,    0.000,2,20181009,0502
  74JC20180923, AMT28,    29, 28,      5,2,20181009,0457,  3.8078, -25.8358, 4494,    101.2,  17.5980,  35.7992,2,    104.9,2,    108.1,2,     7.85,2,    19.78,2,     0.00,2,     1.30,2,    0.000,2,20181009,0504
  74JC20180923, AMT28,    29, 28,      6,2,20181009,0457,  3.8078, -25.8358, 4494,    101.2,  17.6480,  35.8033,2,    104.8,2,   -999.0,9,     7.56,2,    22.07,2,     0.00,2,     1.40,2,    0.000,2,20181009,0504
  74JC20180923, AMT28,    29, 28,      7,2,20181009,0457,  3.8078, -25.8358, 4494,     89.0,  25.4578,  35.9982,2,    176.4,2,   -999.0,9,     7.11,2,    21.09,2,     0.00,2,     1.34,2,    0.000,2,20181009,0507
  74JC20180923, AMT28,    29, 28,      8,2,20181009,0457,  3.8078, -25.8358, 4494,     89.0,  25.4702,  36.0216,2,    176.3,2,    176.2,2,     5.69,2,    15.76,2,     0.00,2,     1.02,2,    0.000,2,20181009,0507
  74JC20180923, AMT28,    29, 28,      9,2,20181009,0457,  3.8078, -25.8358, 4494,     89.3,  25.4253,  36.0473,2,    175.0,2,   -999.0,9,     4.00,2,     9.13,2,     0.17,2,     0.56,2,    0.000,2,20181009,0508
  74JC20180923, AMT28,    29, 28,     10,2,20181009,0457,  3.8078, -25.8358, 4494,     89.0,  25.2198,  36.0517,2,    174.7,2,   -999.0,9,     2.96,2,     3.76,2,     0.20,2,     0.17,2,    0.000,2,20181009,0508
  74JC20180923, AMT28,    29, 28,     11,2,20181009,0457,  3.8078, -25.8358, 4494,     89.4,  25.0985,  36.0573,2,    173.0,2,   -999.0,9,     2.87,2,     3.10,2,     0.22,2,     0.08,2,    0.000,2,20181009,0509
  74JC20180923, AMT28,    29, 28,     12,2,20181009,0457,  3.8078, -25.8358, 4494,     81.0,  26.1663,  35.8869,2,    194.2,2,   -999.0,9,  -999.00,9,  -999.00,9,  -999.00,9,  -999.00,9,    0.000,2,20181009,0511
  74JC20180923, AMT28,    29, 28,     13,2,20181009,0457,  3.8078, -25.8358, 4494,     62.4,  27.0617,  35.8005,2,    196.3,2,   -999.0,9,     1.89,2,     0.07,2,     0.00,2,     0.00,2,    0.000,2,20181009,0512
  74JC20180923, AMT28,    29, 28,     14,2,20181009,0457,  3.8078, -25.8358, 4494,     51.1,  27.5358,  35.7663,2,    194.3,2,   -999.0,9,     1.55,2,     0.00,2,     0.00,2,     0.00,2,    0.000,2,20181009,0514
  74JC20180923, AMT28,    29, 28,     15,2,20181009,0457,  3.8078, -25.8358, 4494,     39.9,  28.0666,  35.6606,2,    194.8,2,    198.7,2,     1.58,2,     0.00,2,     0.00,2,     0.00,2,    0.000,2,20181009,0515
  74JC20180923, AMT28,    29, 28,     16,2,20181009,0457,  3.8078, -25.8358, 4494,     39.9,  28.0721,  35.6610,2,    194.6,2,   -999.0,9,     1.38,2,     0.00,2,     0.00,2,     0.00,2,    0.000,2,20181009,0516
  74JC20180923, AMT28,    29, 28,     17,2,20181009,0457,  3.8078, -25.8358, 4494,     23.3,  28.4469,  35.1454,2,    193.1,2,    194.0,2,     1.36,2,     0.00,2,     0.00,2,     0.00,2,    0.003,2,20181009,0518
  74JC20180923, AMT28,    29, 28,     18,2,20181009,0457,  3.8078, -25.8358, 4494,     22.9,  28.4456,  35.1439,2,    193.4,2,   -999.0,9,     1.32,2,     0.00,2,     0.00,2,     0.00,2,    0.003,2,20181009,0518
  74JC20180923, AMT28,    29, 28,     19,2,20181009,0457,  3.8078, -25.8358, 4494,     21.4,  28.4434,  35.1342,2,    193.1,2,   -999.0,9,     1.26,2,     0.00,2,     0.00,2,     0.00,2,    0.012,2,20181009,0520
  74JC20180923, AMT28,    29, 28,     20,2,20181009,0457,  3.8078, -25.8358, 4494,     13.0,  28.4424,  35.1010,2,    192.7,2,   -999.0,9,     1.31,2,     0.00,2,     0.00,2,     0.00,2,    0.082,2,20181009,0521
  74JC20180923, AMT28,    29, 28,     21,2,20181009,0457,  3.8078, -25.8358, 4494,      6.3,  28.4330,  35.0508,2,    192.3,2,    192.3,2,     1.26,2,     0.00,2,     0.00,2,     0.00,2,    0.224,2,20181009,0523
  74JC20180923, AMT28,    29, 28,     22,2,20181009,0457,  3.8078, -25.8358, 4494,      6.2,  28.4332,  35.0517,2,    192.6,2,   -999.0,9,  -999.00,9,  -999.00,9,  -999.00,9,  -999.00,9,    0.240,2,20181009,0523
  74JC20180923, AMT28,    29, 28,     23,2,20181009,0457,  3.8078, -25.8358, 4494,      6.4,  28.4341,  35.0527,2,    192.9,2,   -999.0,9,  -999.00,9,  -999.00,9,  -999.00,9,  -999.00,9,    0.209,2,20181009,0524
  74JC20180923, AMT28,    29, 28,     24,2,20181009,0457,  3.8078, -25.8358, 4494,      6.3,  28.4343,  35.0543,2,    192.5,2,   -999.0,9,  -999.00,9,  -999.00,9,  -999.00,9,  -999.00,9,    0.217,2,20181009,0524