BOTTLE,20220930CCHSIOAMB
EXPOCODE,SECT_ID,STNNBR,CASTNO,BTLNBR,BTLNBR_FLAG_W,DATE,TIME,LATITUDE,LONGITUDE,DEPTH,CTDPRS,CTDTMP,CTDSAL,CTDSAL_FLAG_W,CTDOXY,CTDOXY_FLAG_W,OXYGEN,OXYGEN_FLAG_W,SILCAT,SILCAT_FLAG_W,NITRAT,NITRAT_FLAG_W,NITRIT,NITRIT_FLAG_W,PHSPHT,PHSPHT_FLAG_W,CTDPAR,CTDPAR_FLAG_W,BTL_DATE,BTL_TIME
,,,,,,,,,,METERS,DBAR,ITS-90,PSS-78,,UMOL/KG,,UMOL/KG,,UMOL/KG,,UMOL/KG,,UMOL/KG,,UMOL/KG,,VOLTS,,,
  74JC20180923, AMT28,    40, 38,      1,2,20181014,1317,-16.0324, -25.0235, 5713,    502.8,   7.7851,  34.6283,2,    143.4,2,   -999.0,9,    16.54,2,    27.98,2,     0.00,2,     1.87,2,    0.000,2,20181014,1317
  74JC20180923, AMT28,    40, 38,      2,2,20181014,1317,-16.0324, -25.0235, 5713,    303.1,  13.1155,  35.1966,2,    170.4,2,   -999.0,9,     4.79,2,    13.25,2,     0.00,2,     0.94,2,    0.000,2,20181014,1322
  74JC20180923, AMT28,    40, 38,      3,2,20181014,1317,-16.0324, -25.0235, 5713,    251.3,  15.0173,  35.4639,2,    180.3,2,   -999.0,9,     2.97,2,     8.44,2,     0.00,2,     0.68,2,    0.072,2,20181014,1324
  74JC20180923, AMT28,    40, 38,      4,2,20181014,1317,-16.0324, -25.0235, 5713,    200.8,  17.8915,  35.9288,2,    189.2,2,   -999.0,9,     1.73,2,     3.91,2,     0.00,2,     0.43,2,    0.736,2,20181014,1327
  74JC20180923, AMT28,    40, 38,      5,2,20181014,1317,-16.0324, -25.0235, 5713,    187.3,  18.9803,  36.1152,2,    193.0,2,   -999.0,9,     1.24,2,     2.40,2,     0.05,2,     0.33,2,    2.322,2,20181014,1329
  74JC20180923, AMT28,    40, 38,      6,2,20181014,1317,-16.0324, -25.0235, 5713,    178.0,  19.5846,  36.2242,2,    197.6,2,   -999.0,9,     1.31,2,     1.34,2,     0.08,2,     0.27,2,    2.613,2,20181014,1330
  74JC20180923, AMT28,    40, 38,      7,2,20181014,1317,-16.0324, -25.0235, 5713,    178.5,  19.6477,  36.2363,2,    197.7,2,   -999.0,9,  -999.00,9,  -999.00,9,  -999.00,9,  -999.00,9,    3.591,2,20181014,1331
  74JC20180923, AMT28,    40, 38,      8,2,20181014,1317,-16.0324, -25.0235, 5713,    161.1,  20.7865,  36.4752,2,    201.0,2,   -999.0,9,     0.93,2,     0.24,2,     0.06,2,     0.20,2,    7.329,2,20181014,1334
  74JC20180923, AMT28,    40, 38,      9,2,20181014,1317,-16.0324, -25.0235, 5713,    161.4,  20.8256,  36.4818,2,    201.4,2,   -999.0,9,     0.97,2,     0.23,2,     0.06,2,     0.20,2,    7.260,2,20181014,1334
  74JC20180923, AMT28,    40, 38,     10,2,20181014,1317,-16.0324, -25.0235, 5713,    161.1,  20.8541,  36.4884,2,    201.3,2,   -999.0,9,  -999.00,9,  -999.00,9,  -999.00,9,  -999.00,9,    7.331,2,20181014,1335
  74JC20180923, AMT28,    40, 38,     11,2,20181014,1317,-16.0324, -25.0235, 5713,    160.8,  20.8812,  36.4936,2,    201.8,2,   -999.0,9,  -999.00,9,  -999.00,9,  -999.00,9,  -999.00,9,    7.449,2,20181014,1335
  74JC20180923, AMT28,    40, 38,     12,2,20181014,1317,-16.0324, -25.0235, 5713,    153.4,  21.1213,  36.5464,2,    202.2,2,   -999.0,9,     0.91,2,     0.12,2,     0.04,2,     0.19,2,    7.985,2,20181014,1337
  74JC20180923, AMT28,    40, 38,     13,2,20181014,1317,-16.0324, -25.0235, 5713,    136.3,  23.0119,  36.9372,2,    203.7,2,   -999.0,9,     0.78,2,     0.00,2,     0.00,2,     0.15,2,   13.975,2,20181014,1339
  74JC20180923, AMT28,    40, 38,     14,2,20181014,1317,-16.0324, -25.0235, 5713,    121.8,  23.3328,  37.0110,2,    205.0,2,   -999.0,9,     0.68,2,     0.00,2,     0.00,2,     0.14,2,   28.956,2,20181014,1340
  74JC20180923, AMT28,    40, 38,     15,2,20181014,1317,-16.0324, -25.0235, 5713,    101.8,  23.3848,  37.0195,2,    205.6,2,   -999.0,9,     0.58,2,     0.00,2,     0.00,2,     0.14,2,   45.480,2,20181014,1342
  74JC20180923, AMT28,    40, 38,     16,2,20181014,1317,-16.0324, -25.0235, 5713,     77.1,  23.8030,  37.1311,2,    204.1,2,   -999.0,9,     0.53,2,     0.00,2,     0.00,2,     0.11,2,   65.489,2,20181014,1344
  74JC20180923, AMT28,    40, 38,     17,2,20181014,1317,-16.0324, -25.0235, 5713,     51.4,  23.8223,  37.1372,2,    203.9,2,   -999.0,9,     0.72,2,     0.00,2,     0.00,2,     0.11,2,  131.640,2,20181014,1346
  74JC20180923, AMT28,    40, 38,     18,2,20181014,1317,-16.0324, -25.0235, 5713,     42.0,  23.8223,  37.1375,2,    204.3,2,   -999.0,9,     0.62,2,     0.00,2,     0.00,2,     0.12,2,  191.830,2,20181014,1347
  74JC20180923, AMT28,    40, 38,     19,2,20181014,1317,-16.0324, -25.0235, 5713,     21.3,  23.8215,  37.1377,2,    204.0,2,   -999.0,9,     0.63,2,     0.00,2,     0.00,2,     0.11,2,  351.160,2,20181014,1349
  74JC20180923, AMT28,    40, 38,     20,2,20181014,1317,-16.0324, -25.0235, 5713,      6.7,  23.8313,  37.1377,2,    203.9,2,   -999.0,9,     0.63,2,     0.00,2,     0.00,2,     0.11,2,  278.820,2,20181014,1351
  74JC20180923, AMT28,    40, 38,     21,2,20181014,1317,-16.0324, -25.0235, 5713,      6.5,  23.8365,  37.1378,2,    203.8,2,   -999.0,9,     0.66,2,     0.00,2,     0.00,2,     0.12,2,  271.690,2,20181014,1351
  74JC20180923, AMT28,    40, 38,     22,2,20181014,1317,-16.0324, -25.0235, 5713,      6.7,  23.8431,  37.1377,2,    204.2,2,   -999.0,9,  -999.00,9,  -999.00,9,  -999.00,9,  -999.00,9,  294.880,2,20181014,1352
  74JC20180923, AMT28,    40, 38,     23,2,20181014,1317,-16.0324, -25.0235, 5713,      6.6,  23.8428,  37.1380,2,    203.7,2,   -999.0,9,  -999.00,9,  -999.00,9,  -999.00,9,  -999.00,9,  270.810,2,20181014,1352
  74JC20180923, AMT28,    40, 38,     24,2,20181014,1317,-16.0324, -25.0235, 5713,      6.3,  23.8418,  37.1378,2,    204.2,2,   -999.0,9,  -999.00,9,  -999.00,9,  -999.00,9,  -999.00,9,  349.970,2,20181014,1353
  74JC20180923, AMT28,    41, 39,      1,2,20181015,0454,-18.3393, -25.0857, 5024,    202.8,  17.3328,  35.7712,2,    195.3,2,    197.6,2,     1.79,2,     3.73,2,     0.00,2,     0.41,2,    0.000,2,20181015,0454
  74JC20180923, AMT28,    41, 39,      2,2,20181015,0454,-18.3393, -25.0857, 5024,    202.1,  17.3613,  35.7759,2,    195.6,2,   -999.0,9,  -999.00,9,  -999.00,9,  -999.00,9,  -999.00,9,    0.000,2,20181015,0454
  74JC20180923, AMT28,    41, 39,      3,2,20181015,0454,-18.3393, -25.0857, 5024,    186.6,  18.2489,  35.9241,2,    194.8,2,   -999.0,9,     1.48,2,     3.07,2,     0.00,2,     0.36,2,    0.000,2,20181015,0456
  74JC20180923, AMT28,    41, 39,      4,2,20181015,0454,-18.3393, -25.0857, 5024,    177.7,  18.8667,  36.0263,2,    196.1,2,   -999.0,9,     1.46,2,     2.30,2,     0.06,2,     0.34,2,    0.000,2,20181015,0457
  74JC20180923, AMT28,    41, 39,      5,2,20181015,0454,-18.3393, -25.0857, 5024,    163.4,  19.6304,  36.1654,2,    201.1,2,    204.4,2,     1.24,2,     0.87,2,     0.10,2,     0.26,2,    0.000,2,20181015,0459
  74JC20180923, AMT28,    41, 39,      6,2,20181015,0454,-18.3393, -25.0857, 5024,    164.0,  19.7379,  36.1858,2,    201.6,2,   -999.0,9,  -999.00,9,  -999.00,9,  -999.00,9,  -999.00,9,    0.000,2,20181015,0459
  74JC20180923, AMT28,    41, 39,      7,2,20181015,0454,-18.3393, -25.0857, 5024,    154.4,  20.6185,  36.3634,2,    204.4,2,    207.1,2,     1.03,2,     0.17,2,     0.04,2,     0.23,2,    0.000,2,20181015,0501
  74JC20180923, AMT28,    41, 39,      8,2,20181015,0454,-18.3393, -25.0857, 5024,    155.1,  20.7957,  36.3960,2,    204.9,2,   -999.0,9,  -999.00,9,  -999.00,9,  -999.00,9,  -999.00,9,    0.000,2,20181015,0501
  74JC20180923, AMT28,    41, 39,      9,2,20181015,0454,-18.3393, -25.0857, 5024,    155.0,  20.8278,  36.4029,2,    205.2,2,   -999.0,9,  -999.00,9,  -999.00,9,  -999.00,9,  -999.00,9,    0.000,2,20181015,0502
  74JC20180923, AMT28,    41, 39,     10,2,20181015,0454,-18.3393, -25.0857, 5024,    153.6,  20.9155,  36.4199,2,    205.0,2,   -999.0,9,  -999.00,9,  -999.00,9,  -999.00,9,  -999.00,9,    0.000,2,20181015,0502
  74JC20180923, AMT28,    41, 39,     11,2,20181015,0454,-18.3393, -25.0857, 5024,    147.9,  21.9319,  36.6121,2,    205.9,2,   -999.0,9,     1.07,2,     0.00,2,     0.00,2,     0.20,2,    0.000,2,20181015,0504
  74JC20180923, AMT28,    41, 39,     12,2,20181015,0454,-18.3393, -25.0857, 5024,    136.7,  22.5880,  36.7496,2,    206.2,2,   -999.0,9,     0.88,2,     0.00,2,     0.00,2,     0.17,2,    0.000,2,20181015,0506
  74JC20180923, AMT28,    41, 39,     13,2,20181015,0454,-18.3393, -25.0857, 5024,    121.8,  22.7695,  36.7968,2,    206.7,2,   -999.0,9,     0.83,2,     0.00,2,     0.00,2,     0.11,2,    0.000,2,20181015,0507
  74JC20180923, AMT28,    41, 39,     14,2,20181015,0454,-18.3393, -25.0857, 5024,    101.6,  22.8445,  36.8182,2,    207.3,2,   -999.0,9,     0.81,2,     0.00,2,     0.00,2,     0.11,2,    0.000,2,20181015,0509
  74JC20180923, AMT28,    41, 39,     15,2,20181015,0454,-18.3393, -25.0857, 5024,     82.2,  22.9172,  36.8285,2,    208.0,2,   -999.0,9,     0.75,2,     0.00,2,     0.00,2,     0.08,2,    0.000,2,20181015,0511
  74JC20180923, AMT28,    41, 39,     16,2,20181015,0454,-18.3393, -25.0857, 5024,     66.1,  22.9266,  36.8142,2,    208.7,2,    210.4,2,     0.84,2,     0.00,2,     0.00,2,     0.09,2,    0.000,2,20181015,0512
  74JC20180923, AMT28,    41, 39,     17,2,20181015,0454,-18.3393, -25.0857, 5024,     67.0,  22.9396,  36.8148,2,    208.7,2,   -999.0,9,  -999.00,9,  -999.00,9,  -999.00,9,  -999.00,9,    0.000,2,20181015,0513
  74JC20180923, AMT28,    41, 39,     18,2,20181015,0454,-18.3393, -25.0857, 5024,     51.5,  23.2807,  36.8643,2,    206.5,2,   -999.0,9,     0.93,2,     0.00,2,     0.00,2,     0.09,2,    0.000,2,20181015,0514
  74JC20180923, AMT28,    41, 39,     19,2,20181015,0454,-18.3393, -25.0857, 5024,     39.1,  23.3759,  36.8842,2,    206.4,2,    208.1,2,     0.94,2,     0.00,2,     0.00,2,     0.11,2,    0.000,2,20181015,0516
  74JC20180923, AMT28,    41, 39,     20,2,20181015,0454,-18.3393, -25.0857, 5024,     38.1,  23.3723,  36.8834,2,    206.5,2,   -999.0,9,  -999.00,9,  -999.00,9,  -999.00,9,  -999.00,9,    0.000,2,20181015,0516
  74JC20180923, AMT28,    41, 39,     21,2,20181015,0454,-18.3393, -25.0857, 5024,     22.1,  23.3840,  36.8879,2,    206.2,2,   -999.0,9,     0.94,2,     0.00,2,     0.00,2,     0.09,2,    0.053,2,20181015,0518
  74JC20180923, AMT28,    41, 39,     22,2,20181015,0454,-18.3393, -25.0857, 5024,      6.5,  23.3829,  36.8893,2,    206.3,2,    207.9,2,     0.86,2,     0.00,2,     0.00,2,     0.10,2,    0.461,2,20181015,0520
  74JC20180923, AMT28,    41, 39,     23,2,20181015,0454,-18.3393, -25.0857, 5024,      7.1,  23.3844,  36.8895,2,    206.1,2,   -999.0,9,  -999.00,9,  -999.00,9,  -999.00,9,  -999.00,9,    0.435,2,20181015,0521
  74JC20180923, AMT28,    41, 39,     24,2,20181015,0454,-18.3393, -25.0857, 5024,      7.1,  23.3843,  36.8896,2,    206.3,2,   -999.0,9,  -999.00,9,  -999.00,9,  -999.00,9,  -999.00,9,    0.442,2,20181015,0521
  74JC20180923, AMT28,    43, 40,      1,2,20181016,0456,-20.3794, -25.0594, 5317,    201.7,  18.1945,  35.9213,2,    199.1,2,    203.8,2,     1.66,2,     2.39,2,     0.00,2,     0.29,2,    0.000,2,20181016,0456
  74JC20180923, AMT28,    43, 40,      2,2,20181016,0456,-20.3794, -25.0594, 5317,    201.7,  18.2110,  35.9243,2,    199.1,2,   -999.0,9,  -999.00,9,  -999.00,9,  -999.00,9,  -999.00,9,    0.000,2,20181016,0456
  74JC20180923, AMT28,    43, 40,      3,2,20181016,0456,-20.3794, -25.0594, 5317,    201.8,  18.2459,  35.9290,2,    199.4,2,   -999.0,9,  -999.00,9,  -999.00,9,  -999.00,9,  -999.00,9,    0.000,2,20181016,0457
  74JC20180923, AMT28,    43, 40,      4,2,20181016,0456,-20.3794, -25.0594, 5317,    173.7,  20.0449,  36.2608,2,    205.8,2,    209.6,2,     1.24,2,     0.19,2,     0.04,2,     0.17,2,    0.000,2,20181016,0459
  74JC20180923, AMT28,    43, 40,      5,2,20181016,0456,-20.3794, -25.0594, 5317,    173.6,  20.0743,  36.2645,2,    206.3,2,   -999.0,9,  -999.00,9,  -999.00,9,  -999.00,9,  -999.00,9,    0.000,2,20181016,0459
  74JC20180923, AMT28,    43, 40,      6,2,20181016,0456,-20.3794, -25.0594, 5317,    163.0,  21.0065,  36.4682,2,    207.6,2,    211.7,2,     1.14,2,     0.00,2,     0.00,2,     0.13,2,    0.000,2,20181016,0501
  74JC20180923, AMT28,    43, 40,      7,2,20181016,0456,-20.3794, -25.0594, 5317,    162.6,  21.0145,  36.4712,2,    208.0,2,   -999.0,9,  -999.00,9,  -999.00,9,  -999.00,9,  -999.00,9,    0.000,2,20181016,0502
  74JC20180923, AMT28,    43, 40,      8,2,20181016,0456,-20.3794, -25.0594, 5317,    162.7,  21.0301,  36.4743,2,    207.8,2,   -999.0,9,  -999.00,9,  -999.00,9,  -999.00,9,  -999.00,9,    0.000,2,20181016,0502
  74JC20180923, AMT28,    43, 40,      9,2,20181016,0456,-20.3794, -25.0594, 5317,    162.7,  21.0265,  36.4735,2,    207.7,2,   -999.0,9,  -999.00,9,  -999.00,9,  -999.00,9,  -999.00,9,    0.000,2,20181016,0503
  74JC20180923, AMT28,    43, 40,     10,2,20181016,0456,-20.3794, -25.0594, 5317,    162.6,  21.0342,  36.4758,2,    207.8,2,   -999.0,9,  -999.00,9,  -999.00,9,  -999.00,9,  -999.00,9,    0.000,2,20181016,0503
  74JC20180923, AMT28,    43, 40,     11,2,20181016,0456,-20.3794, -25.0594, 5317,    102.8,  22.8026,  36.8337,2,    208.1,2,   -999.0,9,     0.96,2,     0.00,2,     0.00,2,     0.10,2,    0.000,2,20181016,0506
  74JC20180923, AMT28,    43, 40,     12,2,20181016,0456,-20.3794, -25.0594, 5317,     71.0,  22.8703,  36.8360,2,    209.3,2,    212.6,2,     0.96,2,     0.00,2,     0.00,2,     0.10,2,    0.000,2,20181016,0508
  74JC20180923, AMT28,    43, 40,     13,2,20181016,0456,-20.3794, -25.0594, 5317,     71.5,  22.8749,  36.8361,2,    209.3,2,   -999.0,9,  -999.00,9,  -999.00,9,  -999.00,9,  -999.00,9,    0.000,2,20181016,0508
  74JC20180923, AMT28,    43, 40,     14,2,20181016,0456,-20.3794, -25.0594, 5317,     50.9,  23.0728,  36.8556,2,    208.2,2,   -999.0,9,     0.84,2,     0.00,2,     0.00,2,     0.11,2,    0.000,2,20181016,0510
  74JC20180923, AMT28,    43, 40,     15,2,20181016,0456,-20.3794, -25.0594, 5317,     41.3,  23.2258,  36.8884,2,    207.5,2,   -999.0,9,  -999.00,9,  -999.00,9,  -999.00,9,  -999.00,9,    0.000,2,20181016,0511
  74JC20180923, AMT28,    43, 40,     16,2,20181016,0456,-20.3794, -25.0594, 5317,     41.3,  23.2273,  36.8887,2,    207.3,2,    210.6,2,     0.83,2,     0.00,2,     0.00,2,     0.10,2,    0.000,2,20181016,0512
  74JC20180923, AMT28,    43, 40,     17,2,20181016,0456,-20.3794, -25.0594, 5317,     41.3,  23.2283,  36.8883,2,    207.3,2,   -999.0,9,  -999.00,9,  -999.00,9,  -999.00,9,  -999.00,9,    0.000,2,20181016,0512
  74JC20180923, AMT28,    43, 40,     18,2,20181016,0456,-20.3794, -25.0594, 5317,     26.2,  23.2282,  36.8894,2,    207.2,2,   -999.0,9,     1.05,2,     0.00,2,     0.00,2,     0.10,2,    0.029,2,20181016,0514
  74JC20180923, AMT28,    43, 40,     19,2,20181016,0456,-20.3794, -25.0594, 5317,     21.6,  23.2306,  36.8903,2,    207.1,2,   -999.0,9,     1.08,2,     0.00,2,     0.00,2,     0.10,2,    0.068,2,20181016,0516
  74JC20180923, AMT28,    43, 40,     20,2,20181016,0456,-20.3794, -25.0594, 5317,      6.4,  23.2239,  36.8917,2,    207.5,2,   -999.0,9,  -999.00,9,  -999.00,9,  -999.00,9,  -999.00,9,    0.400,2,20181016,0517
  74JC20180923, AMT28,    43, 40,     21,2,20181016,0456,-20.3794, -25.0594, 5317,      6.4,  23.2249,  36.8916,2,    207.3,2,    210.7,2,     1.07,2,     0.00,2,     0.00,2,     0.10,2,    0.404,2,20181016,0518
  74JC20180923, AMT28,    43, 40,     22,2,20181016,0456,-20.3794, -25.0594, 5317,      6.3,  23.2291,  36.8915,2,    207.8,2,   -999.0,9,  -999.00,9,  -999.00,9,  -999.00,9,  -999.00,9,    0.396,2,20181016,0518
  74JC20180923, AMT28,    43, 40,     23,2,20181016,0456,-20.3794, -25.0594, 5317,      6.4,  23.2278,  36.8914,2,    207.5,2,   -999.0,9,  -999.00,9,  -999.00,9,  -999.00,9,  -999.00,9,    0.409,2,20181016,0519
  74JC20180923, AMT28,    43, 40,     24,2,20181016,0456,-20.3794, -25.0594, 5317,      6.5,  23.2270,  36.8914,2,    207.4,2,   -999.0,9,  -999.00,9,  -999.00,9,  -999.00,9,  -999.00,9,    0.369,2,20181016,0519