BOTTLE,20220930CCHSIOAMB
EXPOCODE,SECT_ID,STNNBR,CASTNO,BTLNBR,BTLNBR_FLAG_W,DATE,TIME,LATITUDE,LONGITUDE,DEPTH,CTDPRS,CTDTMP,CTDSAL,CTDSAL_FLAG_W,CTDOXY,CTDOXY_FLAG_W,OXYGEN,OXYGEN_FLAG_W,SILCAT,SILCAT_FLAG_W,NITRAT,NITRAT_FLAG_W,NITRIT,NITRIT_FLAG_W,PHSPHT,PHSPHT_FLAG_W,CTDPAR,CTDPAR_FLAG_W,BTL_DATE,BTL_TIME
,,,,,,,,,,METERS,DBAR,ITS-90,PSS-78,,UMOL/KG,,UMOL/KG,,UMOL/KG,,UMOL/KG,,UMOL/KG,,UMOL/KG,,VOLTS,,,
  74JC20180923, AMT28,    47, 44,      1,2,20181018,0502,-26.6280, -27.6554, 4978,    203.3,  16.3145,  35.6460,2,    203.3,2,    206.6,2,     1.71,2,     3.21,2,     0.00,2,     0.25,2,    0.000,2,20181018,0502
  74JC20180923, AMT28,    47, 44,      2,2,20181018,0502,-26.6280, -27.6554, 4978,    202.4,  16.3302,  35.6488,2,    203.1,2,   -999.0,9,  -999.00,9,  -999.00,9,  -999.00,9,  -999.00,9,    0.000,2,20181018,0503
  74JC20180923, AMT28,    47, 44,      3,2,20181018,0502,-26.6280, -27.6554, 4978,    202.3,  16.3174,  35.6464,2,    202.7,2,   -999.0,9,  -999.00,9,  -999.00,9,  -999.00,9,  -999.00,9,    0.000,2,20181018,0503
  74JC20180923, AMT28,    47, 44,      4,2,20181018,0502,-26.6280, -27.6554, 4978,    139.2,  18.1285,  35.9536,2,    208.0,2,    211.8,2,     1.16,2,     0.58,2,     0.06,2,     0.09,2,    0.000,2,20181018,0505
  74JC20180923, AMT28,    47, 44,      5,2,20181018,0502,-26.6280, -27.6554, 4978,    139.4,  18.1288,  35.9539,2,    208.2,2,   -999.0,9,  -999.00,9,  -999.00,9,  -999.00,9,  -999.00,9,    0.000,2,20181018,0506
  74JC20180923, AMT28,    47, 44,      6,2,20181018,0502,-26.6280, -27.6554, 4978,    128.2,  18.7421,  36.0643,2,    210.3,2,    214.2,2,     1.06,2,     0.00,2,     0.00,2,     0.05,2,    0.000,2,20181018,0509
  74JC20180923, AMT28,    47, 44,      7,2,20181018,0502,-26.6280, -27.6554, 4978,    126.8,  18.7852,  36.0758,2,    210.2,2,   -999.0,9,  -999.00,9,  -999.00,9,  -999.00,9,  -999.00,9,    0.000,2,20181018,0509
  74JC20180923, AMT28,    47, 44,      8,2,20181018,0502,-26.6280, -27.6554, 4978,    126.5,  18.8297,  36.0801,2,    210.4,2,   -999.0,9,  -999.00,9,  -999.00,9,  -999.00,9,  -999.00,9,    0.000,2,20181018,0510
  74JC20180923, AMT28,    47, 44,      9,2,20181018,0502,-26.6280, -27.6554, 4978,    127.2,  18.8226,  36.0799,2,    210.7,2,   -999.0,9,  -999.00,9,  -999.00,9,  -999.00,9,  -999.00,9,    0.000,2,20181018,0510
  74JC20180923, AMT28,    47, 44,     10,2,20181018,0502,-26.6280, -27.6554, 4978,    126.6,  18.8536,  36.0829,2,    210.4,2,   -999.0,9,  -999.00,9,  -999.00,9,  -999.00,9,  -999.00,9,    0.000,2,20181018,0511
  74JC20180923, AMT28,    47, 44,     11,2,20181018,0502,-26.6280, -27.6554, 4978,    100.4,  20.6932,  36.4068,2,    215.1,2,   -999.0,9,     0.90,2,     0.00,2,     0.00,2,     0.00,2,    0.000,2,20181018,0513
  74JC20180923, AMT28,    47, 44,     12,2,20181018,0502,-26.6280, -27.6554, 4978,     57.8,  21.1175,  36.4465,2,    216.0,2,    218.8,2,     0.85,2,     0.00,2,     0.00,2,     0.00,2,    0.000,2,20181018,0515
  74JC20180923, AMT28,    47, 44,     13,2,20181018,0502,-26.6280, -27.6554, 4978,     57.1,  21.1177,  36.4459,2,    216.0,2,   -999.0,9,  -999.00,9,  -999.00,9,  -999.00,9,  -999.00,9,    0.000,2,20181018,0516
  74JC20180923, AMT28,    47, 44,     14,2,20181018,0502,-26.6280, -27.6554, 4978,     52.4,  21.1183,  36.4460,2,    215.6,2,   -999.0,9,     0.90,2,     0.00,2,     0.00,2,     0.00,2,    0.000,2,20181018,0517
  74JC20180923, AMT28,    47, 44,     15,2,20181018,0502,-26.6280, -27.6554, 4978,     32.8,  21.1219,  36.4437,2,    215.7,2,   -999.0,9,  -999.00,9,  -999.00,9,  -999.00,9,  -999.00,9,    0.006,2,20181018,0519
  74JC20180923, AMT28,    47, 44,     16,2,20181018,0502,-26.6280, -27.6554, 4978,     33.0,  21.1220,  36.4438,2,    215.6,2,    219.1,2,     0.99,2,     0.00,2,     0.00,2,     0.00,2,    0.006,2,20181018,0520
  74JC20180923, AMT28,    47, 44,     17,2,20181018,0502,-26.6280, -27.6554, 4978,     31.0,  21.1215,  36.4438,2,    215.7,2,   -999.0,9,  -999.00,9,  -999.00,9,  -999.00,9,  -999.00,9,    0.008,2,20181018,0520
  74JC20180923, AMT28,    47, 44,     18,2,20181018,0502,-26.6280, -27.6554, 4978,     23.2,  21.1576,  36.4508,2,    215.6,2,   -999.0,9,     0.96,2,     0.00,2,     0.00,2,     0.00,2,    0.069,2,20181018,0522
  74JC20180923, AMT28,    47, 44,     19,2,20181018,0502,-26.6280, -27.6554, 4978,     19.7,  21.1554,  36.4503,2,    215.5,2,   -999.0,9,     0.94,2,     0.00,2,     0.00,2,     0.00,2,    0.100,2,20181018,0524
  74JC20180923, AMT28,    47, 44,     20,2,20181018,0502,-26.6280, -27.6554, 4978,      7.3,  21.1682,  36.4529,2,    215.4,2,   -999.0,9,  -999.00,9,  -999.00,9,  -999.00,9,  -999.00,9,    0.532,2,20181018,0526
  74JC20180923, AMT28,    47, 44,     21,2,20181018,0502,-26.6280, -27.6554, 4978,      7.7,  21.1689,  36.4530,2,    215.7,2,    218.8,2,     0.94,2,     0.00,2,     0.00,2,     0.00,2,    0.584,2,20181018,0526
  74JC20180923, AMT28,    47, 44,     22,2,20181018,0502,-26.6280, -27.6554, 4978,      7.1,  21.1638,  36.4517,2,    215.9,2,   -999.0,9,  -999.00,9,  -999.00,9,  -999.00,9,  -999.00,9,    0.478,2,20181018,0527
  74JC20180923, AMT28,    47, 44,     23,2,20181018,0502,-26.6280, -27.6554, 4978,      7.2,  21.1580,  36.4507,2,    215.9,2,   -999.0,9,  -999.00,9,  -999.00,9,  -999.00,9,  -999.00,9,    0.578,2,20181018,0527
  74JC20180923, AMT28,    47, 44,     24,2,20181018,0502,-26.6280, -27.6554, 4978,      7.4,  21.1585,  36.4508,2,    216.0,2,   -999.0,9,  -999.00,9,  -999.00,9,  -999.00,9,  -999.00,9,    0.537,2,20181018,0528
  74JC20180923, AMT28,    48, 45,      1,2,20181018,1106,-27.2001, -28.2500, 4723,   1513.9,   3.0118,  34.6782,2,    186.4,2,   -999.0,9,    52.81,2,    29.13,2,     0.00,2,     2.05,2,    0.000,2,20181018,1106
  74JC20180923, AMT28,    48, 45,      2,2,20181018,1106,-27.2001, -28.2500, 4723,   1414.0,   3.0461,  34.6297,2,    181.9,2,   -999.0,9,    54.06,2,    30.31,2,     0.06,2,     2.15,2,    0.000,2,20181018,1109
  74JC20180923, AMT28,    48, 45,      3,2,20181018,1106,-27.2001, -28.2500, 4723,   1312.0,   3.1351,  34.5665,2,    179.1,2,   -999.0,9,    53.80,2,    31.37,2,     0.00,2,     2.26,2,    0.000,2,20181018,1113
  74JC20180923, AMT28,    48, 45,      4,2,20181018,1106,-27.2001, -28.2500, 4723,   1212.9,   3.2405,  34.5141,2,    177.6,2,   -999.0,9,    52.20,2,    31.90,2,     0.00,2,     2.31,2,    0.000,2,20181018,1116
  74JC20180923, AMT28,    48, 45,      5,2,20181018,1106,-27.2001, -28.2500, 4723,   1109.7,   3.4888,  34.4365,2,    181.1,2,   -999.0,9,    47.01,2,    32.10,2,     0.00,2,     2.33,2,    0.000,2,20181018,1120
  74JC20180923, AMT28,    48, 45,      6,2,20181018,1106,-27.2001, -28.2500, 4723,   1009.4,   3.7834,  34.3814,2,    187.6,2,   -999.0,9,    40.67,2,    31.66,2,     0.00,2,     2.30,2,    0.000,2,20181018,1123
  74JC20180923, AMT28,    48, 45,      7,2,20181018,1106,-27.2001, -28.2500, 4723,    907.5,   4.3243,  34.3370,2,    197.0,2,   -999.0,9,    31.18,2,    30.34,2,     0.00,2,     2.21,2,    0.000,2,20181018,1126
  74JC20180923, AMT28,    48, 45,      8,2,20181018,1106,-27.2001, -28.2500, 4723,    807.3,   5.2253,  34.3377,2,    205.3,2,   -999.0,9,    21.49,2,    28.05,2,     0.00,2,     2.06,2,    0.000,2,20181018,1129
  74JC20180923, AMT28,    48, 45,      9,2,20181018,1106,-27.2001, -28.2500, 4723,    707.0,   6.2307,  34.4073,2,    202.2,2,   -999.0,9,    16.43,2,    25.99,2,     0.00,2,     1.90,2,    0.000,2,20181018,1132
  74JC20180923, AMT28,    48, 45,     10,2,20181018,1106,-27.2001, -28.2500, 4723,    604.8,   8.2518,  34.6041,2,    192.5,2,   -999.0,9,    11.30,2,    22.15,2,     0.00,2,     1.65,2,    0.000,2,20181018,1136
  74JC20180923, AMT28,    48, 45,     11,2,20181018,1106,-27.2001, -28.2500, 4723,    506.3,   9.9535,  34.7958,2,    190.4,2,   -999.0,9,     8.01,2,    18.14,2,     0.00,2,     1.37,2,    0.000,2,20181018,1139
  74JC20180923, AMT28,    48, 45,     12,2,20181018,1106,-27.2001, -28.2500, 4723,    405.2,  11.8834,  35.0260,2,    196.1,2,   -999.0,9,     4.99,2,    13.17,2,     0.00,2,     1.04,2,    0.000,2,20181018,1142
  74JC20180923, AMT28,    48, 45,     13,2,20181018,1106,-27.2001, -28.2500, 4723,    304.3,  13.7704,  35.2282,2,    198.4,2,   -999.0,9,     3.22,2,     8.61,2,     0.00,2,     0.76,2,    0.003,2,20181018,1145
  74JC20180923, AMT28,    48, 45,     14,2,20181018,1106,-27.2001, -28.2500, 4723,    204.8,  16.4717,  35.6324,2,    205.4,2,   -999.0,9,     1.71,2,     3.22,2,     0.00,2,     0.43,2,    0.633,2,20181018,1148
  74JC20180923, AMT28,    48, 45,     15,2,20181018,1106,-27.2001, -28.2500, 4723,    145.0,  20.0944,  36.3621,2,    213.4,2,   -999.0,9,     1.01,2,     0.00,2,     0.00,2,     0.15,2,    7.084,2,20181018,1150
  74JC20180923, AMT28,    48, 45,     16,2,20181018,1106,-27.2001, -28.2500, 4723,    145.5,  20.0977,  36.3637,2,    213.5,2,   -999.0,9,  -999.00,9,  -999.00,9,  -999.00,9,  -999.00,9,    6.368,2,20181018,1151
  74JC20180923, AMT28,    48, 45,     17,2,20181018,1106,-27.2001, -28.2500, 4723,    103.8,  20.6758,  36.4757,2,    215.6,2,   -999.0,9,     0.93,2,     0.00,2,     0.00,2,     0.13,2,   17.516,2,20181018,1153
  74JC20180923, AMT28,    48, 45,     18,2,20181018,1106,-27.2001, -28.2500, 4723,     77.9,  20.7185,  36.4847,2,    215.8,2,   -999.0,9,     0.90,2,     0.00,2,     0.00,2,     0.09,2,   27.328,2,20181018,1154
  74JC20180923, AMT28,    48, 45,     19,2,20181018,1106,-27.2001, -28.2500, 4723,     64.8,  20.7266,  36.4873,2,    215.9,2,   -999.0,9,     0.90,2,     0.00,2,     0.00,2,     0.07,2,   56.716,2,20181018,1156
  74JC20180923, AMT28,    48, 45,     20,2,20181018,1106,-27.2001, -28.2500, 4723,     53.7,  20.7300,  36.4879,2,    216.0,2,   -999.0,9,     0.88,2,     0.00,2,     0.00,2,     0.09,2,   59.969,2,20181018,1158
  74JC20180923, AMT28,    48, 45,     21,2,20181018,1106,-27.2001, -28.2500, 4723,     27.1,  20.7303,  36.4882,2,    216.3,2,   -999.0,9,     0.94,2,     0.00,2,     0.00,2,     0.09,2,   72.648,2,20181018,1200
  74JC20180923, AMT28,    48, 45,     22,2,20181018,1106,-27.2001, -28.2500, 4723,      7.3,  20.8069,  36.4908,2,    215.9,2,   -999.0,9,     0.90,2,     0.00,2,     0.00,2,     0.08,2,  474.800,2,20181018,1202
  74JC20180923, AMT28,    48, 45,     23,2,20181018,1106,-27.2001, -28.2500, 4723,      7.8,  20.7765,  36.4900,2,    215.9,2,   -999.0,9,  -999.00,9,  -999.00,9,  -999.00,9,  -999.00,9,  484.510,2,20181018,1203
  74JC20180923, AMT28,    48, 45,     24,2,20181018,1106,-27.2001, -28.2500, 4723,      7.5,  20.7827,  36.4906,2,    216.1,2,   -999.0,9,  -999.00,9,  -999.00,9,  -999.00,9,  -999.00,9,  571.730,2,20181018,1203
  74JC20180923, AMT28,    49, 46,      1,2,20181019,0456,-29.1276, -30.2235, 2648,    202.7,  16.0292,  35.6100,2,    210.5,2,    215.0,2,     1.10,2,     2.72,2,     0.00,2,     0.31,2,    0.000,2,20181019,0456
  74JC20180923, AMT28,    49, 46,      2,2,20181019,0456,-29.1276, -30.2235, 2648,    202.4,  16.0090,  35.6090,2,    211.0,2,   -999.0,9,  -999.00,9,  -999.00,9,  -999.00,9,  -999.00,9,    0.000,2,20181019,0456
  74JC20180923, AMT28,    49, 46,      3,2,20181019,0456,-29.1276, -30.2235, 2648,    152.7,  17.6530,  35.8174,2,    221.3,2,   -999.0,9,     0.73,2,     0.31,2,     0.07,2,     0.12,2,    0.000,2,20181019,0458
  74JC20180923, AMT28,    49, 46,      4,2,20181019,0456,-29.1276, -30.2235, 2648,    142.2,  17.9535,  35.8681,2,    222.9,2,    227.6,2,     0.73,2,     0.05,2,     0.05,2,     0.08,2,    0.000,2,20181019,0500
  74JC20180923, AMT28,    49, 46,      5,2,20181019,0456,-29.1276, -30.2235, 2648,    142.6,  17.9696,  35.8702,2,    223.7,2,   -999.0,9,  -999.00,9,  -999.00,9,  -999.00,9,  -999.00,9,    0.000,2,20181019,0501
  74JC20180923, AMT28,    49, 46,      6,2,20181019,0456,-29.1276, -30.2235, 2648,    132.7,  18.1840,  35.8923,2,    224.8,2,   -999.0,9,  -999.00,9,  -999.00,9,  -999.00,9,  -999.00,9,    0.000,2,20181019,0502
  74JC20180923, AMT28,    49, 46,      7,2,20181019,0456,-29.1276, -30.2235, 2648,    132.6,  18.1980,  35.8933,2,    225.4,2,    229.0,2,     0.79,2,     0.00,2,     0.00,2,     0.07,2,    0.000,2,20181019,0503
  74JC20180923, AMT28,    49, 46,      8,2,20181019,0456,-29.1276, -30.2235, 2648,    132.5,  18.1997,  35.8934,2,    225.0,2,   -999.0,9,  -999.00,9,  -999.00,9,  -999.00,9,  -999.00,9,    0.000,2,20181019,0503
  74JC20180923, AMT28,    49, 46,      9,2,20181019,0456,-29.1276, -30.2235, 2648,    132.5,  18.2014,  35.8937,2,    225.6,2,   -999.0,9,  -999.00,9,  -999.00,9,  -999.00,9,  -999.00,9,    0.000,2,20181019,0504
  74JC20180923, AMT28,    49, 46,     10,2,20181019,0456,-29.1276, -30.2235, 2648,    132.9,  18.2010,  35.8936,2,    225.3,2,   -999.0,9,  -999.00,9,  -999.00,9,  -999.00,9,  -999.00,9,    0.000,2,20181019,0504
  74JC20180923, AMT28,    49, 46,     11,2,20181019,0456,-29.1276, -30.2235, 2648,    112.3,  18.4063,  35.9294,2,    226.6,2,   -999.0,9,     0.77,2,     0.00,2,     0.00,2,     0.05,2,    0.000,2,20181019,0506
  74JC20180923, AMT28,    49, 46,     12,2,20181019,0456,-29.1276, -30.2235, 2648,     92.2,  18.4563,  35.8951,2,    226.7,2,   -999.0,9,     0.81,2,     0.00,2,     0.00,2,     0.06,2,    0.000,2,20181019,0508
  74JC20180923, AMT28,    49, 46,     13,2,20181019,0456,-29.1276, -30.2235, 2648,     72.3,  19.0561,  35.9537,2,    223.3,2,   -999.0,9,     0.80,2,     0.00,2,     0.00,2,     0.05,2,    0.000,2,20181019,0510
  74JC20180923, AMT28,    49, 46,     14,2,20181019,0456,-29.1276, -30.2235, 2648,     58.1,  19.2732,  35.9587,2,    223.4,2,    226.9,2,     0.81,2,     0.00,2,     0.00,2,     0.00,2,    0.000,2,20181019,0512
  74JC20180923, AMT28,    49, 46,     15,2,20181019,0456,-29.1276, -30.2235, 2648,     58.2,  19.2759,  35.9589,2,    223.1,2,   -999.0,9,  -999.00,9,  -999.00,9,  -999.00,9,  -999.00,9,    0.000,2,20181019,0513
  74JC20180923, AMT28,    49, 46,     16,2,20181019,0456,-29.1276, -30.2235, 2648,     52.1,  19.2870,  35.9589,2,    223.0,2,   -999.0,9,     0.78,2,     0.00,2,     0.00,2,     0.00,2,    0.000,2,20181019,0514
  74JC20180923, AMT28,    49, 46,     17,2,20181019,0456,-29.1276, -30.2235, 2648,     33.2,  19.3893,  35.9594,2,    222.6,2,    226.7,2,     0.75,2,     0.00,2,     0.00,2,     0.00,2,    0.005,2,20181019,0517
  74JC20180923, AMT28,    49, 46,     18,2,20181019,0456,-29.1276, -30.2235, 2648,     33.2,  19.3874,  35.9615,2,    222.6,2,   -999.0,9,  -999.00,9,  -999.00,9,  -999.00,9,  -999.00,9,    0.006,2,20181019,0517
  74JC20180923, AMT28,    49, 46,     19,2,20181019,0456,-29.1276, -30.2235, 2648,     21.2,  19.5474,  35.9294,2,    222.8,2,   -999.0,9,     0.80,2,     0.00,2,     0.00,2,     0.00,2,    0.077,2,20181019,0519
  74JC20180923, AMT28,    49, 46,     20,2,20181019,0456,-29.1276, -30.2235, 2648,     18.0,  19.5605,  35.9261,2,    222.6,2,   -999.0,9,     0.83,2,     0.00,2,     0.00,2,     0.00,2,    0.104,2,20181019,0520
  74JC20180923, AMT28,    49, 46,     21,2,20181019,0456,-29.1276, -30.2235, 2648,      5.8,  19.5530,  35.9275,2,    222.6,2,    226.5,2,     0.86,2,     0.00,2,     0.00,2,     0.00,2,    0.657,2,20181019,0522
  74JC20180923, AMT28,    49, 46,     22,2,20181019,0456,-29.1276, -30.2235, 2648,      6.2,  19.5437,  35.9299,2,    222.7,2,   -999.0,9,  -999.00,9,  -999.00,9,  -999.00,9,  -999.00,9,    0.752,2,20181019,0523
  74JC20180923, AMT28,    49, 46,     23,2,20181019,0456,-29.1276, -30.2235, 2648,      6.2,  19.5467,  35.9291,2,    222.6,2,   -999.0,9,  -999.00,9,  -999.00,9,  -999.00,9,  -999.00,9,    0.705,2,20181019,0523
  74JC20180923, AMT28,    49, 46,     24,2,20181019,0456,-29.1276, -30.2235, 2648,      6.1,  19.5517,  35.9279,2,    222.5,2,   -999.0,9,     1.01,2,     0.00,2,     0.00,2,     0.08,2,    0.718,2,20181019,0524