BOTTLE,20220930CCHSIOAMB
EXPOCODE,SECT_ID,STNNBR,CASTNO,BTLNBR,BTLNBR_FLAG_W,DATE,TIME,LATITUDE,LONGITUDE,DEPTH,CTDPRS,CTDTMP,CTDSAL,CTDSAL_FLAG_W,CTDOXY,CTDOXY_FLAG_W,OXYGEN,OXYGEN_FLAG_W,SILCAT,SILCAT_FLAG_W,NITRAT,NITRAT_FLAG_W,NITRIT,NITRIT_FLAG_W,PHSPHT,PHSPHT_FLAG_W,CTDPAR,CTDPAR_FLAG_W,BTL_DATE,BTL_TIME
,,,,,,,,,,METERS,DBAR,ITS-90,PSS-78,,UMOL/KG,,UMOL/KG,,UMOL/KG,,UMOL/KG,,UMOL/KG,,UMOL/KG,,VOLTS,,,
  74JC20180923, AMT28,    36, 35,      1,2,20181013,0452,-11.2623, -24.9375, 5390,    201.6,  14.5608,  35.5148,2,    111.4,2,    115.8,2,     6.61,2,    18.52,2,     0.00,2,     1.22,2,    0.000,2,20181013,0452
  74JC20180923, AMT28,    36, 35,      2,2,20181013,0452,-11.2623, -24.9375, 5390,    201.7,  14.6106,  35.5231,2,    112.4,2,   -999.0,9,  -999.00,9,  -999.00,9,  -999.00,9,  -999.00,9,    0.000,2,20181013,0452
  74JC20180923, AMT28,    36, 35,      3,2,20181013,0452,-11.2623, -24.9375, 5390,    150.9,  18.8342,  36.1318,2,    159.1,2,   -999.0,9,     2.61,2,     6.81,2,     0.08,2,     0.57,2,    0.000,2,20181013,0455
  74JC20180923, AMT28,    36, 35,      4,2,20181013,0452,-11.2623, -24.9375, 5390,    134.6,  20.9196,  36.4523,2,    181.9,2,    183.8,2,     1.73,2,     2.36,2,     0.16,2,     0.33,2,    0.000,2,20181013,0456
  74JC20180923, AMT28,    36, 35,      5,2,20181013,0452,-11.2623, -24.9375, 5390,    134.4,  20.9002,  36.4503,2,    181.9,2,   -999.0,9,  -999.00,9,  -999.00,9,  -999.00,9,  -999.00,9,    0.000,2,20181013,0457
  74JC20180923, AMT28,    36, 35,      6,2,20181013,0452,-11.2623, -24.9375, 5390,    123.3,  22.2034,  36.6728,2,    193.9,2,   -999.0,9,  -999.00,9,  -999.00,9,  -999.00,9,  -999.00,9,    0.000,2,20181013,0459
  74JC20180923, AMT28,    36, 35,      7,2,20181013,0452,-11.2623, -24.9375, 5390,    123.7,  22.2473,  36.6804,2,    193.8,2,    198.1,2,     1.27,2,     0.25,2,     0.04,2,     0.17,2,    0.000,2,20181013,0459
  74JC20180923, AMT28,    36, 35,      8,2,20181013,0452,-11.2623, -24.9375, 5390,    123.2,  22.2804,  36.6858,2,    194.1,2,   -999.0,9,  -999.00,9,  -999.00,9,  -999.00,9,  -999.00,9,    0.000,2,20181013,0500
  74JC20180923, AMT28,    36, 35,      9,2,20181013,0452,-11.2623, -24.9375, 5390,    123.7,  22.3051,  36.6895,2,    194.5,2,   -999.0,9,  -999.00,9,  -999.00,9,  -999.00,9,  -999.00,9,    0.000,2,20181013,0500
  74JC20180923, AMT28,    36, 35,     10,2,20181013,0452,-11.2623, -24.9375, 5390,    124.2,  22.3150,  36.6913,2,    194.4,2,   -999.0,9,  -999.00,9,  -999.00,9,  -999.00,9,  -999.00,9,    0.000,2,20181013,0501
  74JC20180923, AMT28,    36, 35,     11,2,20181013,0452,-11.2623, -24.9375, 5390,    112.7,  23.5145,  36.9087,2,    199.1,2,   -999.0,9,     1.12,2,     0.00,2,     0.00,2,     0.08,2,    0.000,2,20181013,0503
  74JC20180923, AMT28,    36, 35,     12,2,20181013,0452,-11.2623, -24.9375, 5390,    101.6,  24.0446,  36.9887,2,    201.5,2,   -999.0,9,     1.05,2,     0.00,2,     0.00,2,     0.07,2,    0.000,2,20181013,0504
  74JC20180923, AMT28,    36, 35,     13,2,20181013,0452,-11.2623, -24.9375, 5390,     81.6,  24.6911,  36.9607,2,    200.2,2,   -999.0,9,     1.10,2,     0.00,2,     0.00,2,     0.05,2,    0.000,2,20181013,0506
  74JC20180923, AMT28,    36, 35,     14,2,20181013,0452,-11.2623, -24.9375, 5390,     54.2,  25.5204,  36.5974,2,    197.6,2,    202.3,2,     1.00,2,     0.00,2,     0.00,2,     0.00,2,    0.000,2,20181013,0508
  74JC20180923, AMT28,    36, 35,     15,2,20181013,0452,-11.2623, -24.9375, 5390,     53.9,  25.5203,  36.5974,2,    197.8,2,   -999.0,9,  -999.00,9,  -999.00,9,  -999.00,9,  -999.00,9,    0.000,2,20181013,0509
  74JC20180923, AMT28,    36, 35,     16,2,20181013,0452,-11.2623, -24.9375, 5390,     51.3,  25.5240,  36.5972,2,    197.5,2,   -999.0,9,     0.98,2,     0.00,2,     0.00,2,     0.00,2,    0.000,2,20181013,0510
  74JC20180923, AMT28,    36, 35,     17,2,20181013,0452,-11.2623, -24.9375, 5390,     31.5,  25.5204,  36.5973,2,    197.7,2,    201.2,2,     0.97,2,     0.00,2,     0.00,2,     0.00,2,    0.000,2,20181013,0512
  74JC20180923, AMT28,    36, 35,     18,2,20181013,0452,-11.2623, -24.9375, 5390,     31.5,  25.5205,  36.5973,2,    197.6,2,   -999.0,9,  -999.00,9,  -999.00,9,  -999.00,9,  -999.00,9,    0.000,2,20181013,0512
  74JC20180923, AMT28,    36, 35,     19,2,20181013,0452,-11.2623, -24.9375, 5390,     21.4,  25.5183,  36.5977,2,    197.6,2,   -999.0,9,     0.95,2,     0.00,2,     0.00,2,     0.00,2,    0.025,2,20181013,0514
  74JC20180923, AMT28,    36, 35,     20,2,20181013,0452,-11.2623, -24.9375, 5390,     17.1,  25.5109,  36.5982,2,    197.4,2,   -999.0,9,     0.99,2,     0.00,2,     0.00,2,     0.00,2,    0.064,2,20181013,0515
  74JC20180923, AMT28,    36, 35,     21,2,20181013,0452,-11.2623, -24.9375, 5390,      6.6,  25.5072,  36.5983,2,    197.7,2,    200.7,2,     0.90,2,     0.00,2,     0.00,2,     0.00,2,    0.248,2,20181013,0517
  74JC20180923, AMT28,    36, 35,     22,2,20181013,0452,-11.2623, -24.9375, 5390,      6.4,  25.5143,  36.5980,2,    197.8,2,   -999.0,9,  -999.00,9,  -999.00,9,  -999.00,9,  -999.00,9,    0.192,2,20181013,0517
  74JC20180923, AMT28,    36, 35,     23,2,20181013,0452,-11.2623, -24.9375, 5390,      6.4,  25.5108,  36.5982,2,    197.4,2,   -999.0,9,  -999.00,9,  -999.00,9,  -999.00,9,  -999.00,9,    0.245,2,20181013,0518
  74JC20180923, AMT28,    36, 35,     24,2,20181013,0452,-11.2623, -24.9375, 5390,      6.1,  25.5144,  36.5953,2,    197.6,2,   -999.0,9,  -999.00,9,  -999.00,9,  -999.00,9,  -999.00,9,    0.217,2,20181013,0518
  74JC20180923, AMT28,    37, 36,      1,2,20181013,1149,-12.0828, -24.9303, 6024,   4263.9,   1.4176,  34.7855,2,    222.0,2,   -999.0,9,  -999.00,9,  -999.00,9,  -999.00,9,  -999.00,9,    0.000,2,20181013,1149
  74JC20180923, AMT28,    37, 36,      2,2,20181013,1149,-12.0828, -24.9303, 6024,   4264.1,   1.4173,  34.7855,2,    222.1,2,   -999.0,9,  -999.00,9,  -999.00,9,  -999.00,9,  -999.00,9,    0.000,2,20181013,1150
  74JC20180923, AMT28,    37, 36,      3,2,20181013,1149,-12.0828, -24.9303, 6024,   4060.3,   1.8102,  34.8268,2,    228.3,2,   -999.0,9,  -999.00,9,  -999.00,9,  -999.00,9,  -999.00,9,    0.000,2,20181013,1157
  74JC20180923, AMT28,    37, 36,      4,2,20181013,1149,-12.0828, -24.9303, 6024,   3038.8,   2.6647,  34.9005,2,    231.6,2,   -999.0,9,  -999.00,9,  -999.00,9,  -999.00,9,  -999.00,9,    0.000,2,20181013,1216
  74JC20180923, AMT28,    37, 36,      5,2,20181013,1149,-12.0828, -24.9303, 6024,   3038.4,   2.6654,  34.9004,2,    231.6,2,   -999.0,9,  -999.00,9,  -999.00,9,  -999.00,9,  -999.00,9,    0.000,2,20181013,1216
  74JC20180923, AMT28,    37, 36,      6,2,20181013,1149,-12.0828, -24.9303, 6024,   2022.9,   3.4774,  34.9507,2,    236.4,2,   -999.0,9,  -999.00,9,  -999.00,9,  -999.00,9,  -999.00,9,    0.000,2,20181013,1235
  74JC20180923, AMT28,    37, 36,      7,2,20181013,1149,-12.0828, -24.9303, 6024,   1011.7,   4.0282,  34.5121,2,    163.4,2,   -999.0,9,  -999.00,9,  -999.00,9,  -999.00,9,  -999.00,9,    0.000,2,20181013,1254
  74JC20180923, AMT28,    37, 36,      8,2,20181013,1149,-12.0828, -24.9303, 6024,    508.2,   7.0473,  34.5964,2,    117.8,2,   -999.0,9,  -999.00,9,  -999.00,9,  -999.00,9,  -999.00,9,    0.000,2,20181013,1304
  74JC20180923, AMT28,    37, 36,      9,2,20181013,1149,-12.0828, -24.9303, 6024,    257.2,  12.7385,  35.2630,2,    102.4,2,   -999.0,9,  -999.00,9,  -999.00,9,  -999.00,9,  -999.00,9,    0.018,2,20181013,1310
  74JC20180923, AMT28,    37, 36,     10,2,20181013,1149,-12.0828, -24.9303, 6024,    202.5,  15.1667,  35.5456,2,    145.5,2,   -999.0,9,     4.97,2,    13.90,2,     0.00,2,     0.95,2,    0.226,2,20181013,1313
  74JC20180923, AMT28,    37, 36,     11,2,20181013,1149,-12.0828, -24.9303, 6024,    150.7,  17.5155,  35.8430,2,    181.0,2,   -999.0,9,     2.88,2,     6.47,2,     0.06,2,     0.51,2,    1.585,2,20181013,1316
  74JC20180923, AMT28,    37, 36,     12,2,20181013,1149,-12.0828, -24.9303, 6024,    112.6,  21.3210,  36.5092,2,    191.8,2,   -999.0,9,  -999.00,9,  -999.00,9,  -999.00,9,  -999.00,9,    8.385,2,20181013,1320
  74JC20180923, AMT28,    37, 36,     13,2,20181013,1149,-12.0828, -24.9303, 6024,    112.3,  21.3593,  36.5173,2,    192.3,2,   -999.0,9,     1.87,2,     0.87,2,     0.15,2,     0.23,2,    8.789,2,20181013,1321
  74JC20180923, AMT28,    37, 36,     14,2,20181013,1149,-12.0828, -24.9303, 6024,    112.5,  21.4874,  36.5382,2,    192.5,2,   -999.0,9,  -999.00,9,  -999.00,9,  -999.00,9,  -999.00,9,    8.912,2,20181013,1321
  74JC20180923, AMT28,    37, 36,     15,2,20181013,1149,-12.0828, -24.9303, 6024,    101.2,  22.7665,  36.7624,2,    198.5,2,   -999.0,9,     1.33,2,     0.00,2,     0.00,2,     0.13,2,   16.661,2,20181013,1323
  74JC20180923, AMT28,    37, 36,     16,2,20181013,1149,-12.0828, -24.9303, 6024,     70.6,  23.9335,  36.7959,2,    199.0,2,   -999.0,9,     1.20,2,     0.00,2,     0.00,2,     0.09,2,   66.505,2,20181013,1325
  74JC20180923, AMT28,    37, 36,     17,2,20181013,1149,-12.0828, -24.9303, 6024,     51.6,  24.7939,  36.8154,2,    201.6,2,   -999.0,9,     1.08,2,     0.00,2,     0.00,2,     0.00,2,  139.060,2,20181013,1327
  74JC20180923, AMT28,    37, 36,     18,2,20181013,1149,-12.0828, -24.9303, 6024,     51.5,  24.7973,  36.8151,2,    201.5,2,   -999.0,9,  -999.00,9,  -999.00,9,  -999.00,9,  -999.00,9,  127.590,2,20181013,1328
  74JC20180923, AMT28,    37, 36,     19,2,20181013,1149,-12.0828, -24.9303, 6024,     36.5,  25.2798,  36.6637,2,    199.6,2,   -999.0,9,     1.07,2,     0.00,2,     0.00,2,     0.00,2,  223.970,2,20181013,1330
  74JC20180923, AMT28,    37, 36,     20,2,20181013,1149,-12.0828, -24.9303, 6024,     21.5,  25.3059,  36.6563,2,    199.3,2,   -999.0,9,     1.14,2,     0.00,2,     0.00,2,     0.00,2,  348.280,2,20181013,1332
  74JC20180923, AMT28,    37, 36,     21,2,20181013,1149,-12.0828, -24.9303, 6024,     21.3,  25.3032,  36.6562,2,    199.5,2,   -999.0,9,  -999.00,9,  -999.00,9,  -999.00,9,  -999.00,9,  340.870,2,20181013,1333
  74JC20180923, AMT28,    37, 36,     22,2,20181013,1149,-12.0828, -24.9303, 6024,      6.3,  25.3402,  36.6578,2,    199.1,2,   -999.0,9,  -999.00,9,  -999.00,9,  -999.00,9,  -999.00,9,  661.130,2,20181013,1335
  74JC20180923, AMT28,    37, 36,     23,2,20181013,1149,-12.0828, -24.9303, 6024,      6.4,  25.3423,  36.6579,2,    198.8,2,   -999.0,9,     1.12,2,     0.00,2,     0.00,2,     0.00,2,  521.750,2,20181013,1335
  74JC20180923, AMT28,    37, 36,     24,2,20181013,1149,-12.0828, -24.9303, 6024,      6.4,  25.3478,  36.6582,2,    199.0,2,   -999.0,9,  -999.00,9,  -999.00,9,  -999.00,9,  -999.00,9,  451.160,2,20181013,1336
  74JC20180923, AMT28,    38, 37,      1,2,20181014,0453,-14.7797, -24.9848, 5446,    202.6,  16.6411,  35.7590,2,    162.3,2,    165.8,2,     3.46,2,     9.43,2,     0.00,2,     0.66,2,    0.000,2,20181014,0453
  74JC20180923, AMT28,    38, 37,      2,2,20181014,0453,-14.7797, -24.9848, 5446,    202.5,  16.5903,  35.7493,2,    162.5,2,   -999.0,9,  -999.00,9,  -999.00,9,  -999.00,9,  -999.00,9,    0.000,2,20181014,0454
  74JC20180923, AMT28,    38, 37,      3,2,20181014,0453,-14.7797, -24.9848, 5446,    202.4,  16.3005,  35.7033,2,    161.1,2,   -999.0,9,  -999.00,9,  -999.00,9,  -999.00,9,  -999.00,9,    0.000,2,20181014,0456
  74JC20180923, AMT28,    38, 37,      4,2,20181014,0453,-14.7797, -24.9848, 5446,    157.3,  20.2993,  36.3966,2,    193.5,2,    195.0,2,     1.41,2,     1.34,2,     0.10,2,     0.21,2,    0.000,2,20181014,0458
  74JC20180923, AMT28,    38, 37,      5,2,20181014,0453,-14.7797, -24.9848, 5446,    157.6,  20.7398,  36.4816,2,    194.1,2,   -999.0,9,  -999.00,9,  -999.00,9,  -999.00,9,  -999.00,9,    0.000,2,20181014,0459
  74JC20180923, AMT28,    38, 37,      6,2,20181014,0453,-14.7797, -24.9848, 5446,    152.4,  22.3619,  36.7996,2,    198.3,2,   -999.0,9,     1.18,2,     0.29,2,     0.06,2,     0.13,2,    0.000,2,20181014,0500
  74JC20180923, AMT28,    38, 37,      7,2,20181014,0453,-14.7797, -24.9848, 5446,    147.4,  23.0137,  36.9388,2,    201.2,2,    202.5,2,     1.19,2,     0.05,2,     0.00,2,     0.09,2,    0.000,2,20181014,0502
  74JC20180923, AMT28,    38, 37,      8,2,20181014,0453,-14.7797, -24.9848, 5446,    147.2,  23.0555,  36.9495,2,    201.5,2,   -999.0,9,  -999.00,9,  -999.00,9,  -999.00,9,  -999.00,9,    0.000,2,20181014,0503
  74JC20180923, AMT28,    38, 37,      9,2,20181014,0453,-14.7797, -24.9848, 5446,    147.6,  23.0859,  36.9559,2,    201.7,2,   -999.0,9,  -999.00,9,  -999.00,9,  -999.00,9,  -999.00,9,    0.000,2,20181014,0503
  74JC20180923, AMT28,    38, 37,     10,2,20181014,0453,-14.7797, -24.9848, 5446,    147.4,  23.0903,  36.9571,2,    201.6,2,   -999.0,9,  -999.00,9,  -999.00,9,  -999.00,9,  -999.00,9,    0.000,2,20181014,0504
  74JC20180923, AMT28,    38, 37,     11,2,20181014,0453,-14.7797, -24.9848, 5446,    147.5,  23.1104,  36.9618,2,    201.9,2,   -999.0,9,  -999.00,9,  -999.00,9,  -999.00,9,  -999.00,9,    0.000,2,20181014,0504
  74JC20180923, AMT28,    38, 37,     12,2,20181014,0453,-14.7797, -24.9848, 5446,    101.6,  23.2444,  36.9943,2,    204.2,2,   -999.0,9,     1.07,2,     0.00,2,     0.00,2,     0.06,2,    0.000,2,20181014,0507
  74JC20180923, AMT28,    38, 37,     13,2,20181014,0453,-14.7797, -24.9848, 5446,     64.0,  23.6735,  37.0802,2,    205.1,2,    206.5,2,     1.09,2,     0.00,2,     0.00,2,     0.04,2,    0.000,2,20181014,0509
  74JC20180923, AMT28,    38, 37,     14,2,20181014,0453,-14.7797, -24.9848, 5446,     64.3,  23.6736,  37.0800,2,    204.8,2,   -999.0,9,  -999.00,9,  -999.00,9,  -999.00,9,  -999.00,9,    0.000,2,20181014,0509
  74JC20180923, AMT28,    38, 37,     15,2,20181014,0453,-14.7797, -24.9848, 5446,     52.4,  23.6955,  37.0813,2,    205.4,2,   -999.0,9,     1.10,2,     0.00,2,     0.00,2,     0.06,2,    0.000,2,20181014,0511
  74JC20180923, AMT28,    38, 37,     16,2,20181014,0453,-14.7797, -24.9848, 5446,     37.3,  23.9030,  37.1027,2,    203.8,2,   -999.0,9,  -999.00,9,  -999.00,9,  -999.00,9,  -999.00,9,    0.000,2,20181014,0513
  74JC20180923, AMT28,    38, 37,     17,2,20181014,0453,-14.7797, -24.9848, 5446,     37.4,  23.8940,  37.1019,2,    204.1,2,    205.8,2,     1.14,2,     0.00,2,     0.00,2,     0.04,2,    0.000,2,20181014,0513
  74JC20180923, AMT28,    38, 37,     18,2,20181014,0453,-14.7797, -24.9848, 5446,     37.7,  23.9255,  37.1063,2,    203.9,2,   -999.0,9,  -999.00,9,  -999.00,9,  -999.00,9,  -999.00,9,    0.000,2,20181014,0514
  74JC20180923, AMT28,    38, 37,     19,2,20181014,0453,-14.7797, -24.9848, 5446,     22.0,  23.9564,  37.1112,2,    203.9,2,   -999.0,9,     1.11,2,     0.00,2,     0.00,2,     0.00,2,    0.044,2,20181014,0516
  74JC20180923, AMT28,    38, 37,     20,2,20181014,0453,-14.7797, -24.9848, 5446,      7.4,  23.9566,  37.1111,2,    203.6,2,   -999.0,9,  -999.00,9,  -999.00,9,  -999.00,9,  -999.00,9,    0.396,2,20181014,0518
  74JC20180923, AMT28,    38, 37,     21,2,20181014,0453,-14.7797, -24.9848, 5446,      7.5,  23.9567,  37.1112,2,    203.4,2,    205.0,2,     1.11,2,     0.00,2,     0.00,2,     0.04,2,    0.373,2,20181014,0519
  74JC20180923, AMT28,    38, 37,     22,2,20181014,0453,-14.7797, -24.9848, 5446,      7.3,  23.9558,  37.1109,2,    203.5,2,   -999.0,9,  -999.00,9,  -999.00,9,  -999.00,9,  -999.00,9,    0.385,2,20181014,0519
  74JC20180923, AMT28,    38, 37,     23,2,20181014,0453,-14.7797, -24.9848, 5446,      7.3,  23.9560,  37.1108,2,    203.4,2,   -999.0,9,  -999.00,9,  -999.00,9,  -999.00,9,  -999.00,9,    0.340,2,20181014,0519
  74JC20180923, AMT28,    38, 37,     24,2,20181014,0453,-14.7797, -24.9848, 5446,      7.1,  23.9561,  37.1110,2,    203.5,2,   -999.0,9,  -999.00,9,  -999.00,9,  -999.00,9,  -999.00,9,    0.354,2,20181014,0520