BOTTLE,20220930CCHSIOAMB
EXPOCODE,SECT_ID,STNNBR,CASTNO,BTLNBR,BTLNBR_FLAG_W,DATE,TIME,LATITUDE,LONGITUDE,DEPTH,CTDPRS,CTDTMP,CTDSAL,CTDSAL_FLAG_W,CTDOXY,CTDOXY_FLAG_W,OXYGEN,OXYGEN_FLAG_W,SILCAT,SILCAT_FLAG_W,NITRAT,NITRAT_FLAG_W,NITRIT,NITRIT_FLAG_W,PHSPHT,PHSPHT_FLAG_W,CTDPAR,CTDPAR_FLAG_W,BTL_DATE,BTL_TIME
,,,,,,,,,,METERS,DBAR,ITS-90,PSS-78,,UMOL/KG,,UMOL/KG,,UMOL/KG,,UMOL/KG,,UMOL/KG,,UMOL/KG,,VOLTS,,,
  74JC20180923, AMT28,    10, 10,      1,2,20180930,0453, 36.4139, -20.1215, 5138,    202.5,  15.2567,  36.0747,2,    218.2,2,    221.8,2,     1.20,2,     3.56,2,     0.00,2,     0.26,2,    0.000,2,20180930,0453
  74JC20180923, AMT28,    10, 10,      2,2,20180930,0453, 36.4139, -20.1215, 5138,    202.6,  15.2634,  36.0768,2,    218.3,2,   -999.0,9,  -999.00,9,  -999.00,9,  -999.00,9,  -999.00,9,    0.000,2,20180930,0454
  74JC20180923, AMT28,    10, 10,      3,2,20180930,0453, 36.4139, -20.1215, 5138,    152.8,  15.9630,  36.2022,2,    221.8,2,   -999.0,9,     0.76,2,     1.90,2,     0.00,2,     0.17,2,    0.000,2,20180930,0456
  74JC20180923, AMT28,    10, 10,      4,2,20180930,0453, 36.4139, -20.1215, 5138,    118.0,  16.2908,  36.2443,2,    224.0,2,    227.3,2,     0.62,2,     0.51,2,     0.22,2,     0.09,2,    0.000,2,20180930,0458
  74JC20180923, AMT28,    10, 10,      5,2,20180930,0453, 36.4139, -20.1215, 5138,    117.9,  16.2966,  36.2451,2,    223.9,2,   -999.0,9,  -999.00,9,  -999.00,9,  -999.00,9,  -999.00,9,    0.000,2,20180930,0458
  74JC20180923, AMT28,    10, 10,      6,2,20180930,0453, 36.4139, -20.1215, 5138,    118.0,  16.2990,  36.2454,2,    224.0,2,   -999.0,9,  -999.00,9,  -999.00,9,  -999.00,9,  -999.00,9,    0.000,2,20180930,0459
  74JC20180923, AMT28,    10, 10,      7,2,20180930,0453, 36.4139, -20.1215, 5138,    107.6,  16.4931,  36.2584,2,    229.0,2,    232.5,2,     0.45,2,     0.00,2,     0.04,2,     0.06,2,    0.000,2,20180930,0501
  74JC20180923, AMT28,    10, 10,      8,2,20180930,0453, 36.4139, -20.1215, 5138,    107.3,  16.4975,  36.2578,2,    229.4,2,   -999.0,9,  -999.00,9,  -999.00,9,  -999.00,9,  -999.00,9,    0.000,2,20180930,0501
  74JC20180923, AMT28,    10, 10,      9,2,20180930,0453, 36.4139, -20.1215, 5138,    107.5,  16.5039,  36.2585,2,    229.5,2,   -999.0,9,  -999.00,9,  -999.00,9,  -999.00,9,  -999.00,9,    0.000,2,20180930,0502
  74JC20180923, AMT28,    10, 10,     10,2,20180930,0453, 36.4139, -20.1215, 5138,    107.9,  16.4896,  36.2563,2,    229.5,2,   -999.0,9,  -999.00,9,  -999.00,9,  -999.00,9,  -999.00,9,    0.000,2,20180930,0502
  74JC20180923, AMT28,    10, 10,     11,2,20180930,0453, 36.4139, -20.1215, 5138,    107.7,  16.4954,  36.2573,2,    229.7,2,   -999.0,9,  -999.00,9,  -999.00,9,  -999.00,9,  -999.00,9,    0.000,2,20180930,0503
  74JC20180923, AMT28,    10, 10,     12,2,20180930,0453, 36.4139, -20.1215, 5138,     62.1,  17.6066,  36.3068,2,    241.7,2,   -999.0,9,     0.22,2,     0.00,2,     0.00,2,     0.04,2,    0.000,2,20180930,0505
  74JC20180923, AMT28,    10, 10,     13,2,20180930,0453, 36.4139, -20.1215, 5138,     52.8,  18.3004,  36.3350,2,    244.7,2,   -999.0,9,     0.23,2,     0.00,2,     0.00,2,     0.00,2,    0.000,2,20180930,0506
  74JC20180923, AMT28,    10, 10,     14,2,20180930,0453, 36.4139, -20.1215, 5138,     47.8,  18.7189,  36.3517,2,    245.6,2,    249.0,2,     0.28,2,     0.00,2,     0.00,2,     0.00,2,    0.000,2,20180930,0508
  74JC20180923, AMT28,    10, 10,     15,2,20180930,0453, 36.4139, -20.1215, 5138,     47.2,  18.7487,  36.3531,2,    246.2,2,   -999.0,9,  -999.00,9,  -999.00,9,  -999.00,9,  -999.00,9,    0.000,2,20180930,0508
  74JC20180923, AMT28,    10, 10,     16,2,20180930,0453, 36.4139, -20.1215, 5138,     27.4,  22.9602,  36.5778,2,    212.9,2,    219.1,2,     0.06,2,     0.00,2,     0.00,2,     0.00,2,    0.006,2,20180930,0510
  74JC20180923, AMT28,    10, 10,     17,2,20180930,0453, 36.4139, -20.1215, 5138,     27.0,  23.1545,  36.5970,2,    211.3,2,   -999.0,9,  -999.00,9,  -999.00,9,  -999.00,9,  -999.00,9,    0.005,2,20180930,0510
  74JC20180923, AMT28,    10, 10,     18,2,20180930,0453, 36.4139, -20.1215, 5138,     22.6,  23.2361,  36.6040,2,    210.3,2,   -999.0,9,     0.10,2,     0.00,2,     0.00,2,     0.00,2,    0.023,2,20180930,0512
  74JC20180923, AMT28,    10, 10,     19,2,20180930,0453, 36.4139, -20.1215, 5138,     14.9,  23.2338,  36.6047,2,    210.4,2,   -999.0,9,     0.27,2,     0.00,2,     0.00,2,     0.00,2,    0.083,2,20180930,0513
  74JC20180923, AMT28,    10, 10,     20,2,20180930,0453, 36.4139, -20.1215, 5138,      7.6,  23.2341,  36.6050,2,    210.7,2,   -999.0,9,  -999.00,9,  -999.00,9,  -999.00,9,  -999.00,9,    0.235,2,20180930,0515
  74JC20180923, AMT28,    10, 10,     21,2,20180930,0453, 36.4139, -20.1215, 5138,      7.5,  23.2339,  36.6049,2,    210.4,2,    213.2,2,     0.22,2,     0.00,2,     0.00,2,     0.00,2,    0.228,2,20180930,0516
  74JC20180923, AMT28,    10, 10,     22,2,20180930,0453, 36.4139, -20.1215, 5138,      7.4,  23.2348,  36.6053,2,    210.4,2,   -999.0,9,  -999.00,9,  -999.00,9,  -999.00,9,  -999.00,9,    0.241,2,20180930,0516
  74JC20180923, AMT28,    10, 10,     23,2,20180930,0453, 36.4139, -20.1215, 5138,      7.7,  23.2348,  36.6054,2,    210.4,2,   -999.0,9,  -999.00,9,  -999.00,9,  -999.00,9,  -999.00,9,    0.222,2,20180930,0517
  74JC20180923, AMT28,    10, 10,     24,2,20180930,0453, 36.4139, -20.1215, 5138,      7.5,  23.2316,  36.6054,2,    210.4,2,   -999.0,9,  -999.00,9,  -999.00,9,  -999.00,9,  -999.00,9,    0.229,2,20180930,0517
  74JC20180923, AMT28,    11, 11,      1,2,20180930,1312, 35.3020, -20.9152, 5196,    504.5,  11.7555,  35.6155,2,    200.4,2,   -999.0,9,     4.57,2,    12.77,2,     0.00,2,     0.79,2,    0.000,2,20180930,1312
  74JC20180923, AMT28,    11, 11,      2,2,20180930,1312, 35.3020, -20.9152, 5196,    303.2,  13.1918,  35.7637,2,    202.7,2,   -999.0,9,     3.05,2,     9.78,2,     0.00,2,     0.59,2,    0.000,2,20180930,1317
  74JC20180923, AMT28,    11, 11,      3,2,20180930,1312, 35.3020, -20.9152, 5196,    202.3,  14.8900,  36.0254,2,    217.9,2,   -999.0,9,     1.33,2,     4.30,2,     0.00,2,     0.28,2,    0.019,2,20180930,1320
  74JC20180923, AMT28,    11, 11,      4,2,20180930,1312, 35.3020, -20.9152, 5196,    151.9,  15.4858,  36.0943,2,    219.0,2,   -999.0,9,     0.99,2,     3.15,2,     0.00,2,     0.22,2,    0.231,2,20180930,1322
  74JC20180923, AMT28,    11, 11,      5,2,20180930,1312, 35.3020, -20.9152, 5196,    132.6,  15.6668,  36.1163,2,    222.5,2,   -999.0,9,     0.85,2,     2.34,2,     0.04,2,     0.17,2,    0.470,2,20180930,1324
  74JC20180923, AMT28,    11, 11,      6,2,20180930,1312, 35.3020, -20.9152, 5196,    122.3,  15.7532,  36.1298,2,    222.8,2,   -999.0,9,     0.69,2,     2.04,2,     0.07,2,     0.15,2,    0.637,2,20180930,1326
  74JC20180923, AMT28,    11, 11,      7,2,20180930,1312, 35.3020, -20.9152, 5196,    107.2,  15.9879,  36.1402,2,    232.8,2,   -999.0,9,     0.21,2,     0.18,2,     0.07,2,     0.06,2,    1.136,2,20180930,1328
  74JC20180923, AMT28,    11, 11,      8,2,20180930,1312, 35.3020, -20.9152, 5196,    107.4,  15.9592,  36.1364,2,    232.4,2,   -999.0,9,     0.22,2,     0.17,2,     0.08,2,     0.06,2,    1.088,2,20180930,1328
  74JC20180923, AMT28,    11, 11,      9,2,20180930,1312, 35.3020, -20.9152, 5196,    107.3,  15.9523,  36.1359,2,    232.5,2,   -999.0,9,     0.32,2,     0.15,2,     0.08,2,     0.06,2,    1.062,2,20180930,1329
  74JC20180923, AMT28,    11, 11,     10,2,20180930,1312, 35.3020, -20.9152, 5196,     92.1,  16.3839,  36.1923,2,    235.0,2,   -999.0,9,     0.33,2,     0.00,2,     0.04,2,     0.04,2,    2.245,2,20180930,1330
  74JC20180923, AMT28,    11, 11,     11,2,20180930,1312, 35.3020, -20.9152, 5196,     77.0,  16.7083,  36.1996,2,    239.7,2,   -999.0,9,     0.31,2,     0.00,2,     0.00,2,     0.00,2,    4.442,2,20180930,1332
  74JC20180923, AMT28,    11, 11,     12,2,20180930,1312, 35.3020, -20.9152, 5196,     61.9,  17.4807,  36.2350,2,    244.1,2,   -999.0,9,     0.24,2,     0.00,2,     0.00,2,     0.00,2,    9.250,2,20180930,1334
  74JC20180923, AMT28,    11, 11,     13,2,20180930,1312, 35.3020, -20.9152, 5196,     52.0,  18.3681,  36.2481,2,    248.1,2,   -999.0,9,     0.31,2,     0.00,2,     0.00,2,     0.00,2,   14.779,2,20180930,1335
  74JC20180923, AMT28,    11, 11,     14,2,20180930,1312, 35.3020, -20.9152, 5196,     51.9,  18.5004,  36.2634,2,    247.1,2,   -999.0,9,     0.15,2,     0.00,2,     0.00,2,     0.00,2,   14.858,2,20180930,1336
  74JC20180923, AMT28,    11, 11,     15,2,20180930,1312, 35.3020, -20.9152, 5196,     41.8,  21.2372,  36.4387,2,    233.4,2,   -999.0,9,     0.14,2,     0.00,2,     0.00,2,     0.00,2,   22.754,2,20180930,1337
  74JC20180923, AMT28,    11, 11,     16,2,20180930,1312, 35.3020, -20.9152, 5196,     32.0,  23.1647,  36.6172,2,    212.3,2,   -999.0,9,     0.09,2,     0.00,2,     0.00,2,     0.00,2,   32.237,2,20180930,1339
  74JC20180923, AMT28,    11, 11,     17,2,20180930,1312, 35.3020, -20.9152, 5196,     31.8,  23.1261,  36.6168,2,    212.7,2,   -999.0,9,  -999.00,9,  -999.00,9,  -999.00,9,  -999.00,9,   32.849,2,20180930,1339
  74JC20180923, AMT28,    11, 11,     18,2,20180930,1312, 35.3020, -20.9152, 5196,     21.7,  23.3139,  36.6308,2,    210.3,2,   -999.0,9,     0.00,2,     0.00,2,     0.00,2,     0.00,2,   50.027,2,20180930,1341
  74JC20180923, AMT28,    11, 11,     19,2,20180930,1312, 35.3020, -20.9152, 5196,     21.8,  23.3165,  36.6312,2,    210.4,2,   -999.0,9,  -999.00,9,  -999.00,9,  -999.00,9,  -999.00,9,   49.687,2,20180930,1341
  74JC20180923, AMT28,    11, 11,     20,2,20180930,1312, 35.3020, -20.9152, 5196,     12.0,  23.3343,  36.6328,2,    210.1,2,   -999.0,9,     0.13,2,     0.00,2,     0.00,2,     0.00,2,   83.320,2,20180930,1343
  74JC20180923, AMT28,    11, 11,     21,2,20180930,1312, 35.3020, -20.9152, 5196,      6.8,  23.3341,  36.6336,2,    210.3,2,   -999.0,9,     0.23,2,     0.00,2,     0.00,2,     0.00,2,  125.340,2,20180930,1344
  74JC20180923, AMT28,    11, 11,     22,2,20180930,1312, 35.3020, -20.9152, 5196,      6.9,  23.3338,  36.6336,2,    210.2,2,   -999.0,9,     0.13,2,     0.00,2,     0.00,2,     0.00,2,  124.650,2,20180930,1345
  74JC20180923, AMT28,    11, 11,     23,2,20180930,1312, 35.3020, -20.9152, 5196,      7.0,  23.3320,  36.6333,2,    210.5,2,   -999.0,9,     0.11,2,     0.00,2,     0.00,2,     0.04,2,  127.580,2,20180930,1345
  74JC20180923, AMT28,    11, 11,     24,2,20180930,1312, 35.3020, -20.9152, 5196,      6.9,  23.3345,  36.6333,2,    210.2,2,   -999.0,9,  -999.00,9,  -999.00,9,  -999.00,9,  -999.00,9,  132.130,2,20180930,1346
  74JC20180923, AMT28,    12, 12,      1,2,20181001,0456, 33.0469, -22.1368, 5268,    202.2,  15.5190,  36.0903,2,    196.7,2,    199.8,2,     2.31,2,     7.27,2,     0.00,2,     0.45,2,    0.000,2,20181001,0456
  74JC20180923, AMT28,    12, 12,      2,2,20181001,0456, 33.0469, -22.1368, 5268,    202.5,  15.5132,  36.0903,2,    196.4,2,   -999.0,9,  -999.00,9,  -999.00,9,  -999.00,9,  -999.00,9,    0.000,2,20181001,0457
  74JC20180923, AMT28,    12, 12,      3,2,20181001,0456, 33.0469, -22.1368, 5268,    152.4,  16.4211,  36.2060,2,    210.9,2,   -999.0,9,     1.12,2,     3.53,2,     0.00,2,     0.24,2,    0.000,2,20181001,0459
  74JC20180923, AMT28,    12, 12,      4,2,20181001,0456, 33.0469, -22.1368, 5268,    102.3,  17.5071,  36.3579,2,    208.9,2,    213.0,2,     0.80,2,     1.89,2,     0.09,2,     0.13,2,    0.000,2,20181001,0502
  74JC20180923, AMT28,    12, 12,      5,2,20181001,0456, 33.0469, -22.1368, 5268,    102.2,  17.5273,  36.3695,2,    208.0,2,   -999.0,9,  -999.00,9,  -999.00,9,  -999.00,9,  -999.00,9,    0.000,2,20181001,0503
  74JC20180923, AMT28,    12, 12,      6,2,20181001,0456, 33.0469, -22.1368, 5268,     92.5,  17.5604,  36.3111,2,    213.0,2,    216.1,2,     0.57,2,     0.91,2,     0.13,2,     0.08,2,    0.000,2,20181001,0505
  74JC20180923, AMT28,    12, 12,      7,2,20181001,0456, 33.0469, -22.1368, 5268,     92.4,  17.5642,  36.3113,2,    213.3,2,   -999.0,9,  -999.00,9,  -999.00,9,  -999.00,9,  -999.00,9,    0.000,2,20181001,0506
  74JC20180923, AMT28,    12, 12,      8,2,20181001,0456, 33.0469, -22.1368, 5268,     92.3,  17.5658,  36.3118,2,    213.3,2,   -999.0,9,  -999.00,9,  -999.00,9,  -999.00,9,  -999.00,9,    0.000,2,20181001,0506
  74JC20180923, AMT28,    12, 12,      9,2,20181001,0456, 33.0469, -22.1368, 5268,     92.5,  17.5708,  36.3125,2,    213.6,2,   -999.0,9,  -999.00,9,  -999.00,9,  -999.00,9,  -999.00,9,    0.000,2,20181001,0507
  74JC20180923, AMT28,    12, 12,     10,2,20181001,0456, 33.0469, -22.1368, 5268,     82.6,  17.7858,  36.3243,2,    219.4,2,   -999.0,9,     0.44,2,     0.12,2,     0.06,2,     0.05,2,    0.000,2,20181001,0508
  74JC20180923, AMT28,    12, 12,     11,2,20181001,0456, 33.0469, -22.1368, 5268,     62.3,  19.0028,  36.3722,2,    232.8,2,   -999.0,9,     0.22,2,     0.00,2,     0.00,2,     0.00,2,    0.000,2,20181001,0510
  74JC20180923, AMT28,    12, 12,     12,2,20181001,0456, 33.0469, -22.1368, 5268,     52.4,  19.8649,  36.3788,2,    239.0,2,   -999.0,9,     0.29,2,     0.00,2,     0.00,2,     0.00,2,    0.000,2,20181001,0511
  74JC20180923, AMT28,    12, 12,     13,2,20181001,0456, 33.0469, -22.1368, 5268,     41.2,  21.0121,  36.3617,2,    240.3,2,    242.2,2,     0.15,2,     0.00,2,     0.00,2,     0.00,2,    0.000,2,20181001,0513
  74JC20180923, AMT28,    12, 12,     14,2,20181001,0456, 33.0469, -22.1368, 5268,     41.3,  21.2094,  36.3719,2,    239.4,2,   -999.0,9,  -999.00,9,  -999.00,9,  -999.00,9,  -999.00,9,    0.000,2,20181001,0513
  74JC20180923, AMT28,    12, 12,     15,2,20181001,0456, 33.0469, -22.1368, 5268,     32.5,  24.4243,  36.8914,2,    209.7,2,   -999.0,9,     0.22,2,     0.00,2,     0.00,2,     0.00,2,    0.000,2,20181001,0515
  74JC20180923, AMT28,    12, 12,     16,2,20181001,0456, 33.0469, -22.1368, 5268,     24.2,  24.5081,  36.8310,2,    206.4,2,   -999.0,9,  -999.00,9,  -999.00,9,  -999.00,9,  -999.00,9,    0.012,2,20181001,0516
  74JC20180923, AMT28,    12, 12,     17,2,20181001,0456, 33.0469, -22.1368, 5268,     24.3,  24.5300,  36.8504,2,    206.4,2,   -999.0,9,     0.29,2,     0.00,2,     0.00,2,     0.00,2,    0.011,2,20181001,0517
  74JC20180923, AMT28,    12, 12,     18,2,20181001,0456, 33.0469, -22.1368, 5268,     24.2,  24.5635,  36.8803,2,    206.5,2,   -999.0,9,  -999.00,9,  -999.00,9,  -999.00,9,  -999.00,9,    0.012,2,20181001,0517
  74JC20180923, AMT28,    12, 12,     19,2,20181001,0456, 33.0469, -22.1368, 5268,     22.6,  24.4401,  36.7689,2,    206.0,2,   -999.0,9,     0.28,2,     0.00,2,     0.00,2,     0.00,2,    0.015,2,20181001,0518
  74JC20180923, AMT28,    12, 12,     20,2,20181001,0456, 33.0469, -22.1368, 5268,     14.5,  24.2870,  36.6646,2,    206.5,2,   -999.0,9,     0.31,2,     0.00,2,     0.00,2,     0.00,2,    0.085,2,20181001,0520
  74JC20180923, AMT28,    12, 12,     21,2,20181001,0456, 33.0469, -22.1368, 5268,      7.1,  24.2650,  36.6574,2,    206.4,2,   -999.0,9,  -999.00,9,  -999.00,9,  -999.00,9,  -999.00,9,    0.253,2,20181001,0522
  74JC20180923, AMT28,    12, 12,     22,2,20181001,0456, 33.0469, -22.1368, 5268,      7.3,  24.2703,  36.6593,2,    206.5,2,    208.6,2,     0.25,2,     0.00,2,     0.00,2,     0.00,2,    0.239,2,20181001,0522
  74JC20180923, AMT28,    12, 12,     23,2,20181001,0456, 33.0469, -22.1368, 5268,      7.4,  24.2749,  36.6598,2,    206.1,2,   -999.0,9,  -999.00,9,  -999.00,9,  -999.00,9,  -999.00,9,    0.234,2,20181001,0523
  74JC20180923, AMT28,    12, 12,     24,2,20181001,0456, 33.0469, -22.1368, 5268,      7.3,  24.2699,  36.6577,2,    206.1,2,   -999.0,9,  -999.00,9,  -999.00,9,  -999.00,9,  -999.00,9,    0.239,2,20181001,0523