BOTTLE,20220930CCHSIOAMB
# Copied DATE/TIME to BTL_DATE/BTL_TIME, set DAET/TIME to deepest cast
# File has no SAMPNO, BTLNBR fallback works ok
#BOTTLE,20200601CCHSIOCBG
#BOTTLE,20190614PRINUNIVRMK
# 06/21/18 Initialized README file 
# Data source:Glen Tarran; Isabell Seguro;  
# SHIP: RRS James Clark Ros 
# Cruise: JR18001 AMT28 
# Region: Atlantic Ocean; Harwich, UK to Mare Harbour, Falkland Is. 
# EXPOCODE: 74JC20180923 
# DATES: 20180923 - 20181029 
# Chief Scientist: G.Tarran, A.Rees; Plymouth Marine Laboratory 
# 63 stations with 24 place Rosette. Most stations not full depth (to 500 m) 
# Bottom depths are uncorrected 
# SOCCOM Biogeochemical floats deployed by J.Ballard 
# #    Sta   WMO_ID      Lat       Lon       Date	    FLID    Name                  Adopted_by 
#  1        5905980   -27.2083   -28.3133  20181018  12696    Doc Baldy             Mt. San Antonio College, Walnut, CA 
#  2        5905981   -27.2167   -28.3167  20181018  12883    North Bay Vikings     North Bay Elementary, North Bend, OR 
#  3        5905982   -32.3767   -33.6583  20181020  12881    Ursa in Mari          Forest Park HS, Manassas, VA  
#  4        5905983   -34.5983   -36.1233  20181021  12700    #MSDStrong            Marjory Stoneman Douglas HS, Parkland, FL 
#  5        5905984   -39.2067   -41.3567  20181023  12747    The Okie Pearl        Curtis Inge MS, Noble, OK 
#  6        5905985   -41.3333   -44.0233  20181024  12778    Bessie                Brooksville Elementary, Brooksville, ME 
# Supported by NSF Award PLR-1425989 to J.L. Sarmiento et al.  
# CTD: Who - G.Tarran; Status - preliminary 
# 	Includes: CTDSAL, CTDOXY 
# 	CTDOXY are not calibrated: 
# 	CTDOXY = 0.93 + 1.012*Oxygen 
# Optical profile: Who - E.Boss; Status - 
# 	Includes: FLBB, Backscatter, FLUOR, BB700TS, XMISS 
# SALNTY: Who - Arwen Bargery ; Status - No data 
# 	Notes: 	 
# Nutrients: Who - L.Talley,ODF; Status - final 
# 	Includes: nitrate, nitrite, silicate, phosphate 
# 	Converted with assumed temperature of 22C 
# OXYGEN: Who - C. Robinson - UEA; Status - final 
# 	Notes: Converted with assumed temperature of 22C 
# 	Too little data to QC properly 
# pH: Who - A.Dickson,ODF; Status - 
# 	Notes: samples from float stations returned for analysis 
#  	Total H+ scale at 25C  
# ALKALI: Who - A.Dickson,ODF; Status - 
# 	Notes: samples from float stations returned for analysis 
# pCO2: Who - V. Kitidis; Status - 
# 	Notes: underway only 
# HPLC:  Who - E.Boss,ODF; Status -  
# 	Notes: supported by NASA grant NNX14AP49G 
# POC: Who - E.Boss,ODF; Status - 
# 	Notes: supported by NASA grant NNX14AP49G 
# Other: Who - ; Status - 
# 	Notes:  
# These data should be cited as: 
# 		This study uses data from the Atlantic Meridional Transect AMT-28 cruise (JR18001), provided by 
#                 the British Oceanographic Data Centre and funded by the UK Natural Environment Research Council 
#                 through its National Capability Long-term Single Centre Science Programme, Climate Linked Atlantic 
#                 Sector Science (grant number NE/R015953/1) 
# References that have used data from this cruise: 
EXPOCODE,SECT_ID,STNNBR,CASTNO,BTLNBR,BTLNBR_FLAG_W,DATE,TIME,LATITUDE,LONGITUDE,DEPTH,CTDPRS,CTDTMP,CTDSAL,CTDSAL_FLAG_W,CTDOXY,CTDOXY_FLAG_W,OXYGEN,OXYGEN_FLAG_W,SILCAT,SILCAT_FLAG_W,NITRAT,NITRAT_FLAG_W,NITRIT,NITRIT_FLAG_W,PHSPHT,PHSPHT_FLAG_W,CTDPAR,CTDPAR_FLAG_W,BTL_DATE,BTL_TIME
,,,,,,,,,,METERS,DBAR,ITS-90,PSS-78,,UMOL/KG,,UMOL/KG,,UMOL/KG,,UMOL/KG,,UMOL/KG,,UMOL/KG,,VOLTS,,,
  74JC20180923, AMT28,     1,  1,      1,2,20180925,1244, 49.6381,  -5.5016,   87,     82.0,  12.0205,  35.2754,2,    211.6,2,    215.7,6,  -999.00,9,  -999.00,9,  -999.00,9,  -999.00,9,    0.005,2,20180925,1244
  74JC20180923, AMT28,     1,  1,      2,2,20180925,1244, 49.6381,  -5.5016,   87,     81.8,  12.0216,  35.2753,2,    211.5,2,   -999.0,9,  -999.00,9,  -999.00,9,  -999.00,9,  -999.00,9,    0.004,2,20180925,1244
  74JC20180923, AMT28,     1,  1,      3,2,20180925,1244, 49.6381,  -5.5016,   87,     72.4,  12.0182,  35.2753,2,    211.6,2,   -999.0,9,  -999.00,9,  -999.00,9,  -999.00,9,  -999.00,9,    0.045,2,20180925,1245
  74JC20180923, AMT28,     1,  1,      4,2,20180925,1244, 49.6381,  -5.5016,   87,     72.3,  12.0235,  35.2752,2,    211.3,2,   -999.0,9,  -999.00,9,  -999.00,9,  -999.00,9,  -999.00,9,    0.044,2,20180925,1246
  74JC20180923, AMT28,     1,  1,      5,2,20180925,1244, 49.6381,  -5.5016,   87,     61.0,  12.0280,  35.2752,2,    211.2,2,   -999.0,9,  -999.00,9,  -999.00,9,  -999.00,9,  -999.00,9,    0.153,2,20180925,1248
  74JC20180923, AMT28,     1,  1,      6,2,20180925,1244, 49.6381,  -5.5016,   87,     51.3,  12.0509,  35.2751,2,    211.5,2,   -999.0,9,  -999.00,9,  -999.00,9,  -999.00,9,  -999.00,9,    0.386,2,20180925,1250
  74JC20180923, AMT28,     1,  1,      7,2,20180925,1244, 49.6381,  -5.5016,   87,     51.2,  12.0494,  35.2751,2,    211.5,2,   -999.0,9,  -999.00,9,  -999.00,9,  -999.00,9,  -999.00,9,    0.388,2,20180925,1250
  74JC20180923, AMT28,     1,  1,      8,3,20180925,1244, 49.6381,  -5.5016,   87,     35.7,  14.3655,  35.2077,2,    238.9,2,   -999.0,9,  -999.00,9,  -999.00,9,  -999.00,9,  -999.00,9,    1.900,2,20180925,1252
  74JC20180923, AMT28,     1,  1,      9,2,20180925,1244, 49.6381,  -5.5016,   87,     35.8,  14.5233,  35.2075,2,    239.9,2,   -999.0,9,  -999.00,9,  -999.00,9,  -999.00,9,  -999.00,9,    1.830,2,20180925,1252
  74JC20180923, AMT28,     1,  1,     10,2,20180925,1244, 49.6381,  -5.5016,   87,     23.0,  14.6740,  35.2059,2,    246.4,2,    250.3,6,  -999.00,9,  -999.00,9,  -999.00,9,  -999.00,9,   11.600,2,20180925,1254
  74JC20180923, AMT28,     1,  1,     11,2,20180925,1244, 49.6381,  -5.5016,   87,     22.9,  14.6751,  35.2058,2,    246.4,2,   -999.0,9,  -999.00,9,  -999.00,9,  -999.00,9,  -999.00,9,   12.400,2,20180925,1254
  74JC20180923, AMT28,     1,  1,     12,2,20180925,1244, 49.6381,  -5.5016,   87,     23.0,  14.6731,  35.2056,2,    246.6,2,   -999.0,9,  -999.00,9,  -999.00,9,  -999.00,9,  -999.00,9,   11.900,2,20180925,1255
  74JC20180923, AMT28,     1,  1,     13,2,20180925,1244, 49.6381,  -5.5016,   87,     18.0,  14.6787,  35.2059,2,    247.0,2,   -999.0,9,  -999.00,9,  -999.00,9,  -999.00,9,  -999.00,9,   27.500,2,20180925,1257
  74JC20180923, AMT28,     1,  1,     14,3,20180925,1244, 49.6381,  -5.5016,   87,     18.0,  14.6788,  35.2059,2,    247.4,2,   -999.0,9,  -999.00,9,  -999.00,9,  -999.00,9,  -999.00,9,   27.300,2,20180925,1257
  74JC20180923, AMT28,     1,  1,     15,2,20180925,1244, 49.6381,  -5.5016,   87,     18.0,  14.6745,  35.2055,2,    246.6,2,   -999.0,9,  -999.00,9,  -999.00,9,  -999.00,9,  -999.00,9,   27.400,2,20180925,1258
  74JC20180923, AMT28,     1,  1,     16,2,20180925,1244, 49.6381,  -5.5016,   87,     13.0,  14.6887,  35.2062,2,    249.4,2,    252.8,6,  -999.00,9,  -999.00,9,  -999.00,9,  -999.00,9,   63.200,2,20180925,1259
  74JC20180923, AMT28,     1,  1,     17,2,20180925,1244, 49.6381,  -5.5016,   87,     12.9,  14.6887,  35.2063,2,    249.6,2,   -999.0,9,  -999.00,9,  -999.00,9,  -999.00,9,  -999.00,9,   63.000,2,20180925,1259
  74JC20180923, AMT28,     1,  1,     18,2,20180925,1244, 49.6381,  -5.5016,   87,     13.0,  14.6904,  35.2058,2,    249.7,2,   -999.0,9,  -999.00,9,  -999.00,9,  -999.00,9,  -999.00,9,   63.000,2,20180925,1300
  74JC20180923, AMT28,     1,  1,     19,3,20180925,1244, 49.6381,  -5.5016,   87,      8.8,  14.7750,  35.2120,2,    256.9,2,   -999.0,9,  -999.00,9,  -999.00,9,  -999.00,9,  -999.00,9,  142.000,2,20180925,1301
  74JC20180923, AMT28,     1,  1,     20,2,20180925,1244, 49.6381,  -5.5016,   87,      9.0,  14.7567,  35.2108,2,    255.7,2,   -999.0,9,  -999.00,9,  -999.00,9,  -999.00,9,  -999.00,9,  138.000,2,20180925,1301
  74JC20180923, AMT28,     1,  1,     21,2,20180925,1244, 49.6381,  -5.5016,   87,      5.9,  14.8953,  35.2184,2,    259.5,2,    262.2,6,  -999.00,9,  -999.00,9,  -999.00,9,  -999.00,9,  295.000,2,20180925,1302
  74JC20180923, AMT28,     1,  1,     22,2,20180925,1244, 49.6381,  -5.5016,   87,      5.8,  14.9673,  35.2230,2,    258.2,2,   -999.0,9,  -999.00,9,  -999.00,9,  -999.00,9,  -999.00,9,  297.000,2,20180925,1303
  74JC20180923, AMT28,     1,  1,     23,3,20180925,1244, 49.6381,  -5.5016,   87,      6.1,  14.9267,  35.2222,2,    259.9,2,   -999.0,9,  -999.00,9,  -999.00,9,  -999.00,9,  -999.00,9,  280.000,2,20180925,1303
  74JC20180923, AMT28,     1,  1,     24,2,20180925,1244, 49.6381,  -5.5016,   87,      6.0,  14.9069,  35.2200,2,    259.8,2,   -999.0,9,  -999.00,9,  -999.00,9,  -999.00,9,  -999.00,9,  290.000,2,20180925,1304
  74JC20180923, AMT28,     2,  2,      1,2,20180926,0343, 48.4694,  -8.8366,  146,    144.0,  11.9134,  35.5215,2,    224.9,2,    230.2,6,     3.26,2,     8.95,2,     0.05,2,     0.59,2,    0.000,2,20180926,0343
  74JC20180923, AMT28,     2,  2,      2,2,20180926,0343, 48.4694,  -8.8366,  146,    144.2,  11.9120,  35.5215,2,    224.6,2,   -999.0,9,  -999.00,9,  -999.00,9,  -999.00,9,  -999.00,9,    0.000,2,20180926,0344
  74JC20180923, AMT28,     2,  2,      3,2,20180926,0343, 48.4694,  -8.8366,  146,    100.6,  12.5442,  35.5293,2,    228.9,2,   -999.0,9,     2.56,2,     7.88,2,     0.05,2,     0.56,2,    0.000,2,20180926,0346
  74JC20180923, AMT28,     2,  2,      4,2,20180926,0343, 48.4694,  -8.8366,  146,     70.3,  15.2491,  35.5041,2,    235.8,2,    240.6,6,     0.86,2,     2.28,2,     0.13,2,     0.20,2,    0.000,2,20180926,0348
  74JC20180923, AMT28,     2,  2,      5,2,20180926,0343, 48.4694,  -8.8366,  146,     70.4,  15.2269,  35.5040,2,    235.9,2,   -999.0,9,  -999.00,9,  -999.00,9,  -999.00,9,  -999.00,9,    0.000,2,20180926,0348
  74JC20180923, AMT28,     2,  2,      7,2,20180926,0343, 48.4694,  -8.8366,  146,     70.7,  15.1875,  35.5041,2,    235.3,2,   -999.0,9,  -999.00,9,  -999.00,9,  -999.00,9,  -999.00,9,    0.000,2,20180926,0349
  74JC20180923, AMT28,     2,  2,      6,2,20180926,0343, 48.4694,  -8.8366,  146,     61.6,  15.3546,  35.5044,2,    236.0,2,    240.3,6,     0.87,2,     2.21,2,     0.13,2,     0.24,2,    0.000,2,20180926,0350
  74JC20180923, AMT28,     2,  2,      8,2,20180926,0343, 48.4694,  -8.8366,  146,     61.0,  15.3652,  35.5042,2,    235.7,2,   -999.0,9,  -999.00,9,  -999.00,9,  -999.00,9,  -999.00,9,    0.000,2,20180926,0351
  74JC20180923, AMT28,     2,  2,      9,2,20180926,0343, 48.4694,  -8.8366,  146,     60.7,  15.3626,  35.5044,2,    236.1,2,   -999.0,9,  -999.00,9,  -999.00,9,  -999.00,9,  -999.00,9,    0.000,2,20180926,0351
  74JC20180923, AMT28,     2,  2,     10,2,20180926,0343, 48.4694,  -8.8366,  146,     60.9,  15.3615,  35.5044,2,    236.1,2,   -999.0,9,  -999.00,9,  -999.00,9,  -999.00,9,  -999.00,9,    0.000,2,20180926,0351
  74JC20180923, AMT28,     2,  2,     11,2,20180926,0343, 48.4694,  -8.8366,  146,     61.4,  15.3720,  35.5045,2,    236.1,2,   -999.0,9,  -999.00,9,  -999.00,9,  -999.00,9,  -999.00,9,    0.000,2,20180926,0352
  74JC20180923, AMT28,     2,  2,     12,2,20180926,0343, 48.4694,  -8.8366,  146,     51.6,  15.7516,  35.5040,2,    237.1,2,   -999.0,9,  -999.00,9,  -999.00,9,  -999.00,9,  -999.00,9,    0.000,2,20180926,0353
  74JC20180923, AMT28,     2,  2,     13,2,20180926,0343, 48.4694,  -8.8366,  146,     26.5,  16.3731,  35.5065,2,    239.1,2,    244.0,6,     0.25,2,     0.28,2,     0.06,2,     0.12,2,    0.000,2,20180926,0356
  74JC20180923, AMT28,     2,  2,     14,2,20180926,0343, 48.4694,  -8.8366,  146,     26.7,  16.3660,  35.5066,2,    239.4,2,   -999.0,9,  -999.00,9,  -999.00,9,  -999.00,9,  -999.00,9,    0.000,2,20180926,0356
  74JC20180923, AMT28,     2,  2,     15,2,20180926,0343, 48.4694,  -8.8366,  146,     20.7,  16.3637,  35.5067,2,    239.3,2,   -999.0,9,     0.22,2,     0.29,2,     0.05,2,     0.14,2,    0.024,2,20180926,0358
  74JC20180923, AMT28,     2,  2,     16,2,20180926,0343, 48.4694,  -8.8366,  146,     20.6,  16.3642,  35.5066,2,    239.0,2,   -999.0,9,  -999.00,9,  -999.00,9,  -999.00,9,  -999.00,9,    0.029,2,20180926,0358
  74JC20180923, AMT28,     2,  2,     17,2,20180926,0343, 48.4694,  -8.8366,  146,     14.6,  16.3609,  35.5068,2,    239.2,2,    244.0,6,     0.37,2,     0.29,2,     0.06,2,     0.10,2,    0.075,2,20180926,0400
  74JC20180923, AMT28,     2,  2,     18,2,20180926,0343, 48.4694,  -8.8366,  146,     14.5,  16.3620,  35.5067,2,    239.3,2,   -999.0,9,  -999.00,9,  -999.00,9,  -999.00,9,  -999.00,9,    0.080,2,20180926,0400
  74JC20180923, AMT28,     2,  2,     19,2,20180926,0343, 48.4694,  -8.8366,  146,     10.6,  16.3616,  35.5068,2,    239.4,2,   -999.0,9,     0.32,2,     0.28,2,     0.05,2,     0.10,2,    0.129,2,20180926,0401
  74JC20180923, AMT28,     2,  2,     20,2,20180926,0343, 48.4694,  -8.8366,  146,      5.3,  16.3551,  35.5071,2,    239.8,2,    244.0,6,     0.21,2,     0.29,2,     0.05,2,     0.10,2,    0.306,2,20180926,0402
  74JC20180923, AMT28,     2,  2,     21,2,20180926,0343, 48.4694,  -8.8366,  146,      5.2,  16.3563,  35.5070,2,    239.5,2,   -999.0,9,  -999.00,9,  -999.00,9,  -999.00,9,  -999.00,9,    0.275,2,20180926,0403
  74JC20180923, AMT28,     2,  2,     22,2,20180926,0343, 48.4694,  -8.8366,  146,      5.3,  16.3580,  35.5069,2,    239.6,2,   -999.0,9,  -999.00,9,  -999.00,9,  -999.00,9,  -999.00,9,    0.290,2,20180926,0403
  74JC20180923, AMT28,     2,  2,     23,2,20180926,0343, 48.4694,  -8.8366,  146,      5.3,  16.3528,  35.5069,2,    239.7,2,   -999.0,9,  -999.00,9,  -999.00,9,  -999.00,9,  -999.00,9,    0.301,2,20180926,0404
  74JC20180923, AMT28,     2,  2,     24,2,20180926,0343, 48.4694,  -8.8366,  146,      5.2,  16.3615,  35.5067,2,    239.6,2,   -999.0,9,  -999.00,9,  -999.00,9,  -999.00,9,  -999.00,9,    0.323,2,20180926,0405
  74JC20180923, AMT28,     3,  3,      1,2,20180926,1223, 47.9012, -10.3981, 3744,    504.8,  10.5621,  35.4819,2,    212.8,2,   -999.0,9,     5.87,2,    12.99,2,     0.00,2,     0.83,2,    0.000,2,20180926,1223
  74JC20180923, AMT28,     3,  3,      2,2,20180926,1223, 47.9012, -10.3981, 3744,    304.0,  11.0508,  35.4903,2,    230.5,2,   -999.0,9,     3.46,2,     9.94,2,     0.00,2,     0.67,2,    0.000,2,20180926,1227
  74JC20180923, AMT28,     3,  3,      3,2,20180926,1223, 47.9012, -10.3981, 3744,    203.5,  11.3557,  35.5083,2,    233.2,2,   -999.0,9,     3.23,2,     9.58,2,     0.00,2,     0.63,2,    0.000,2,20180926,1230
  74JC20180923, AMT28,     3,  3,      4,3,20180926,1223, 47.9012, -10.3981, 3744,    203.2,  11.3571,  35.5084,2,    233.4,2,   -999.0,9,     3.13,2,     9.59,2,     0.00,2,     0.64,2,    0.000,2,20180926,1230
  74JC20180923, AMT28,     3,  3,      5,2,20180926,1223, 47.9012, -10.3981, 3744,    152.8,  11.8186,  35.5192,2,    236.3,2,   -999.0,9,     2.25,2,     8.46,2,     0.00,2,     0.58,2,    0.031,2,20180926,1232
  74JC20180923, AMT28,     3,  3,      6,2,20180926,1223, 47.9012, -10.3981, 3744,    132.1,  11.9549,  35.5180,2,    236.3,2,   -999.0,9,     1.91,2,     8.19,2,     0.00,2,     0.54,2,    0.079,2,20180926,1233
  74JC20180923, AMT28,     3,  3,      7,2,20180926,1223, 47.9012, -10.3981, 3744,    102.0,  12.4414,  35.5231,2,    234.4,2,   -999.0,9,     1.58,2,     7.34,2,     0.05,2,     0.51,2,    0.333,2,20180926,1235
  74JC20180923, AMT28,     3,  3,      8,2,20180926,1223, 47.9012, -10.3981, 3744,     77.3,  13.4672,  35.5263,2,    233.3,2,   -999.0,9,     1.23,2,     6.01,2,     0.06,2,     0.45,2,    1.130,2,20180926,1236
  74JC20180923, AMT28,     3,  3,      9,2,20180926,1223, 47.9012, -10.3981, 3744,     61.8,  14.4461,  35.5396,2,    231.0,2,   -999.0,9,     2.00,2,     7.46,2,     0.06,2,     0.51,2,    2.639,2,20180926,1237
  74JC20180923, AMT28,     3,  3,     10,2,20180926,1223, 47.9012, -10.3981, 3744,     52.2,  16.1698,  35.5573,2,    230.4,2,   -999.0,9,     2.10,2,     7.55,2,     0.07,2,     0.49,2,    4.886,2,20180926,1238
  74JC20180923, AMT28,     3,  3,     11,2,20180926,1223, 47.9012, -10.3981, 3744,     52.3,  16.2036,  35.5602,2,    230.4,2,   -999.0,9,     0.82,2,     1.61,2,     0.22,2,     0.21,2,    5.044,2,20180926,1239
  74JC20180923, AMT28,     3,  3,     12,2,20180926,1223, 47.9012, -10.3981, 3744,     41.8,  16.8122,  35.5784,2,    233.9,2,   -999.0,9,     0.37,2,     0.56,2,     0.09,2,     0.13,2,   12.131,2,20180926,1240
  74JC20180923, AMT28,     3,  3,     13,2,20180926,1223, 47.9012, -10.3981, 3744,     31.2,  16.8351,  35.5784,2,    234.4,2,   -999.0,9,     0.23,2,     0.48,2,     0.08,2,     0.11,2,   33.404,2,20180926,1241
  74JC20180923, AMT28,     3,  3,     14,2,20180926,1223, 47.9012, -10.3981, 3744,     31.1,  16.8347,  35.5783,2,    234.0,2,   -999.0,9,     0.39,2,     0.47,2,     0.08,2,     0.12,2,   31.886,2,20180926,1241
  74JC20180923, AMT28,     3,  3,     15,2,20180926,1223, 47.9012, -10.3981, 3744,     31.0,  16.8334,  35.5782,2,    234.3,2,   -999.0,9,     0.55,2,     0.47,2,     0.08,2,     0.12,2,   32.121,2,20180926,1242
  74JC20180923, AMT28,     3,  3,     16,2,20180926,1223, 47.9012, -10.3981, 3744,     26.6,  16.8410,  35.5776,2,    234.4,2,   -999.0,9,     0.38,2,     0.47,2,     0.08,2,     0.12,2,   50.884,2,20180926,1244
  74JC20180923, AMT28,     3,  3,     17,2,20180926,1223, 47.9012, -10.3981, 3744,     22.1,  16.8420,  35.5774,2,    234.4,2,   -999.0,9,     0.34,2,     0.45,2,     0.08,2,     0.13,2,   78.333,2,20180926,1245
  74JC20180923, AMT28,     3,  3,     18,2,20180926,1223, 47.9012, -10.3981, 3744,     22.0,  16.8447,  35.5774,2,    234.5,2,   -999.0,9,     0.39,2,     0.45,2,     0.08,2,     0.13,2,   80.366,2,20180926,1245
  74JC20180923, AMT28,     3,  3,     19,2,20180926,1223, 47.9012, -10.3981, 3744,     17.3,  16.8583,  35.5791,2,    234.9,2,   -999.0,9,     0.29,2,     0.45,2,     0.08,2,     0.11,2,  135.270,2,20180926,1246
  74JC20180923, AMT28,     3,  3,     20,2,20180926,1223, 47.9012, -10.3981, 3744,     12.0,  16.8758,  35.5817,2,    234.9,2,   -999.0,9,     0.36,2,     0.45,2,     0.08,2,     0.11,2,  222.510,2,20180926,1247
  74JC20180923, AMT28,     3,  3,     21,2,20180926,1223, 47.9012, -10.3981, 3744,      7.2,  16.8809,  35.5823,2,    235.1,2,   -999.0,9,     0.30,2,     0.44,2,     0.08,2,     0.11,2,  410.530,2,20180926,1248
  74JC20180923, AMT28,     3,  3,     22,2,20180926,1223, 47.9012, -10.3981, 3744,      7.0,  16.8823,  35.5823,2,    235.3,2,   -999.0,9,     0.39,2,     0.44,2,     0.08,2,     0.12,2,  386.800,2,20180926,1249
  74JC20180923, AMT28,     3,  3,     23,2,20180926,1223, 47.9012, -10.3981, 3744,      7.1,  16.8815,  35.5824,2,    234.9,2,   -999.0,9,     0.28,2,     0.43,2,     0.08,2,     0.11,2,  379.110,2,20180926,1249
  74JC20180923, AMT28,     3,  3,     24,2,20180926,1223, 47.9012, -10.3981, 3744,      7.0,  16.8810,  35.5823,2,    234.8,2,   -999.0,9,     0.29,2,     0.44,2,     0.08,2,     0.12,2,  400.060,2,20180926,1250