BOTTLE,20220930CCHSIOAMB
EXPOCODE,SECT_ID,STNNBR,CASTNO,BTLNBR,BTLNBR_FLAG_W,DATE,TIME,LATITUDE,LONGITUDE,DEPTH,CTDPRS,CTDTMP,CTDSAL,CTDSAL_FLAG_W,CTDOXY,CTDOXY_FLAG_W,OXYGEN,OXYGEN_FLAG_W,SILCAT,SILCAT_FLAG_W,NITRAT,NITRAT_FLAG_W,NITRIT,NITRIT_FLAG_W,PHSPHT,PHSPHT_FLAG_W,CTDPAR,CTDPAR_FLAG_W,BTL_DATE,BTL_TIME
,,,,,,,,,,METERS,DBAR,ITS-90,PSS-78,,UMOL/KG,,UMOL/KG,,UMOL/KG,,UMOL/KG,,UMOL/KG,,UMOL/KG,,VOLTS,,,
  74JC20180923, AMT28,    65, 62,      1,2,20181027,0656,-47.5618, -51.7739, 6162,    204.1,   9.0805,  34.6745,2,    252.4,2,   -999.0,9,     5.19,2,    14.10,2,     0.21,2,     0.99,2,    0.000,2,20181027,0656
  74JC20180923, AMT28,    65, 62,      2,2,20181027,0656,-47.5618, -51.7739, 6162,    204.1,   9.0890,  34.6761,2,    252.3,2,    257.1,2,  -999.00,9,  -999.00,9,  -999.00,9,  -999.00,9,    0.000,2,20181027,0656
  74JC20180923, AMT28,    65, 62,      3,2,20181027,0656,-47.5618, -51.7739, 6162,    153.7,   9.2725,  34.6709,2,    259.5,2,   -999.0,9,     4.68,2,    12.56,2,     0.49,2,     0.92,2,    0.000,2,20181027,0658
  74JC20180923, AMT28,    65, 62,      4,2,20181027,0656,-47.5618, -51.7739, 6162,    127.4,   9.7334,  34.7496,2,    264.0,2,   -999.0,9,     4.02,2,    10.52,2,     0.63,2,     0.77,2,    0.000,2,20181027,0700
  74JC20180923, AMT28,    65, 62,      5,2,20181027,0656,-47.5618, -51.7739, 6162,    102.6,   9.7015,  34.7372,2,    266.1,2,   -999.0,9,     3.97,2,    10.10,2,     0.61,2,     0.74,2,    0.000,2,20181027,0702
  74JC20180923, AMT28,    65, 62,      6,2,20181027,0656,-47.5618, -51.7739, 6162,     78.2,   9.6739,  34.7284,2,    267.8,2,    271.7,2,  -999.00,9,  -999.00,9,  -999.00,9,  -999.00,9,    0.000,2,20181027,0704
  74JC20180923, AMT28,    65, 62,      7,2,20181027,0656,-47.5618, -51.7739, 6162,     78.6,   9.6707,  34.7279,2,    267.8,2,   -999.0,9,     3.94,2,    10.06,2,     0.57,2,     0.75,2,    0.000,2,20181027,0705
  74JC20180923, AMT28,    65, 62,      8,2,20181027,0656,-47.5618, -51.7739, 6162,     68.3,   9.6830,  34.7301,2,    268.1,2,   -999.0,9,     4.04,2,    10.00,2,     0.57,2,     0.74,2,    0.000,2,20181027,0707
  74JC20180923, AMT28,    65, 62,      9,2,20181027,0656,-47.5618, -51.7739, 6162,     68.4,   9.6826,  34.7299,2,    268.2,2,    272.4,2,  -999.00,9,  -999.00,9,  -999.00,9,  -999.00,9,    0.000,2,20181027,0707
  74JC20180923, AMT28,    65, 62,     10,2,20181027,0656,-47.5618, -51.7739, 6162,     68.3,   9.6814,  34.7298,2,    268.1,2,   -999.0,9,  -999.00,9,  -999.00,9,  -999.00,9,  -999.00,9,    0.000,2,20181027,0708
  74JC20180923, AMT28,    65, 62,     11,2,20181027,0656,-47.5618, -51.7739, 6162,     52.2,   9.6864,  34.7315,2,    268.2,2,   -999.0,9,     4.19,2,     9.96,2,     0.56,2,     0.74,2,    0.000,2,20181027,0709
  74JC20180923, AMT28,    65, 62,     12,2,20181027,0656,-47.5618, -51.7739, 6162,     30.1,   9.6813,  34.7311,2,    268.2,2,   -999.0,9,     3.77,2,     9.99,2,     0.56,2,     0.74,2,    0.000,2,20181027,0712
  74JC20180923, AMT28,    65, 62,     13,2,20181027,0656,-47.5618, -51.7739, 6162,     30.1,   9.6834,  34.7315,2,    268.7,2,    272.6,2,  -999.00,9,  -999.00,9,  -999.00,9,  -999.00,9,    0.000,2,20181027,0713
  74JC20180923, AMT28,    65, 62,     14,2,20181027,0656,-47.5618, -51.7739, 6162,     21.1,   9.6824,  34.7309,2,    268.6,2,   -999.0,9,     3.99,2,     9.98,2,     0.56,2,     0.75,2,    0.026,2,20181027,0714
  74JC20180923, AMT28,    65, 62,     15,2,20181027,0656,-47.5618, -51.7739, 6162,     16.9,   9.6847,  34.7317,2,    268.5,2,   -999.0,9,     4.38,2,     9.99,2,     0.56,2,     0.73,2,    0.061,2,20181027,0716
  74JC20180923, AMT28,    65, 62,     16,2,20181027,0656,-47.5618, -51.7739, 6162,     17.0,   9.6858,  34.7317,2,    268.0,2,    272.4,2,  -999.00,9,  -999.00,9,  -999.00,9,  -999.00,9,    0.060,2,20181027,0716
  74JC20180923, AMT28,    65, 62,     17,2,20181027,0656,-47.5618, -51.7739, 6162,     11.1,   9.6890,  34.7319,2,    268.3,2,   -999.0,9,     4.36,2,     9.97,2,     0.56,2,     0.74,2,    0.161,2,20181027,0718
  74JC20180923, AMT28,    65, 62,     18,2,20181027,0656,-47.5618, -51.7739, 6162,      5.9,   9.6816,  34.7316,2,    268.2,2,    272.2,2,  -999.00,9,  -999.00,9,  -999.00,9,  -999.00,9,    0.463,2,20181027,0720
  74JC20180923, AMT28,    65, 62,     19,2,20181027,0656,-47.5618, -51.7739, 6162,      5.9,   9.6813,  34.7317,2,    268.2,2,   -999.0,9,     4.44,2,     9.93,2,     0.55,2,     0.74,2,    0.418,2,20181027,0720
  74JC20180923, AMT28,    65, 62,     20,2,20181027,0656,-47.5618, -51.7739, 6162,      5.8,   9.7579,  34.7312,2,    268.3,2,   -999.0,9,  -999.00,9,  -999.00,9,  -999.00,9,  -999.00,9,    0.375,2,20181027,0721
  74JC20180923, AMT28,    65, 62,     21,2,20181027,0656,-47.5618, -51.7739, 6162,      5.9,   9.7315,  34.7316,2,    268.2,2,   -999.0,9,  -999.00,9,  -999.00,9,  -999.00,9,  -999.00,9,    0.402,2,20181027,0721
  74JC20180923, AMT28,    65, 62,     22,2,20181027,0656,-47.5618, -51.7739, 6162,      5.8,   9.7092,  34.7315,2,    268.3,2,   -999.0,9,  -999.00,9,  -999.00,9,  -999.00,9,  -999.00,9,    0.437,2,20181027,0721
  74JC20180923, AMT28,    65, 62,     23,2,20181027,0656,-47.5618, -51.7739, 6162,      6.0,   9.6989,  34.7313,2,    268.0,2,   -999.0,9,  -999.00,9,  -999.00,9,  -999.00,9,  -999.00,9,    0.353,2,20181027,0722
  74JC20180923, AMT28,    65, 62,     24,2,20181027,0656,-47.5618, -51.7739, 6162,      5.9,   9.7235,  34.7312,2,    268.1,2,   -999.0,9,  -999.00,9,  -999.00,9,  -999.00,9,  -999.00,9,    0.381,2,20181027,0722
  74JC20180923, AMT28,    66,  1,      1,2,20181027,1515,-48.1989, -52.6894, 6066,    502.1,   4.5416,  34.1782,2,    260.6,2,   -999.0,9,    19.48,2,    25.79,2,     0.00,2,     1.66,2,    0.000,2,20181027,1515
  74JC20180923, AMT28,    66,  1,      2,2,20181027,1515,-48.1989, -52.6894, 6066,    302.5,   8.1513,  34.5411,2,    249.2,2,   -999.0,9,     7.75,2,    17.46,2,     0.09,2,     1.16,2,    0.000,2,20181027,1520
  74JC20180923, AMT28,    66,  1,      3,2,20181027,1515,-48.1989, -52.6894, 6066,    202.4,  10.1561,  34.8946,2,    263.6,2,   -999.0,9,     4.52,2,    10.53,2,     0.36,2,     0.77,2,    0.000,2,20181027,1523
  74JC20180923, AMT28,    66,  1,      4,2,20181027,1515,-48.1989, -52.6894, 6066,    152.7,  10.0844,  34.8682,2,    268.3,2,   -999.0,9,     4.24,2,     9.97,2,     0.53,2,     0.75,2,    0.037,2,20181027,1526
  74JC20180923, AMT28,    66,  1,      5,2,20181027,1515,-48.1989, -52.6894, 6066,    137.5,  10.0755,  34.8648,2,    268.7,2,   -999.0,9,     4.24,2,     9.93,2,     0.53,2,     0.75,2,    0.093,2,20181027,1528
  74JC20180923, AMT28,    66,  1,      6,2,20181027,1515,-48.1989, -52.6894, 6066,    122.4,  10.0631,  34.8617,2,    268.8,2,   -999.0,9,  -999.00,9,  -999.00,9,  -999.00,9,  -999.00,9,    0.250,2,20181027,1529
  74JC20180923, AMT28,    66,  1,      7,2,20181027,1515,-48.1989, -52.6894, 6066,    102.4,  10.0397,  34.8554,2,    269.5,2,   -999.0,9,     4.50,2,     9.88,2,     0.52,2,     0.75,2,    0.662,2,20181027,1531
  74JC20180923, AMT28,    66,  1,      8,2,20181027,1515,-48.1989, -52.6894, 6066,     82.6,   9.9667,  34.8380,2,    270.5,2,   -999.0,9,     4.68,2,     9.95,2,     0.51,2,     0.75,2,    1.720,2,20181027,1532
  74JC20180923, AMT28,    66,  1,      9,2,20181027,1515,-48.1989, -52.6894, 6066,     67.5,   9.9552,  34.8350,2,    270.9,2,   -999.0,9,     4.32,2,     9.94,2,     0.50,2,     0.76,2,    4.437,2,20181027,1534
  74JC20180923, AMT28,    66,  1,     10,2,20181027,1515,-48.1989, -52.6894, 6066,     52.0,   9.9458,  34.8323,2,    272.2,2,   -999.0,9,  -999.00,9,  -999.00,9,  -999.00,9,  -999.00,9,   11.650,2,20181027,1536
  74JC20180923, AMT28,    66,  1,     11,2,20181027,1515,-48.1989, -52.6894, 6066,     41.6,   9.9438,  34.8315,2,    272.2,2,   -999.0,9,  -999.00,9,  -999.00,9,  -999.00,9,  -999.00,9,   24.338,2,20181027,1537
  74JC20180923, AMT28,    66,  1,     12,2,20181027,1515,-48.1989, -52.6894, 6066,     41.9,   9.9451,  34.8316,2,    272.5,2,   -999.0,9,  -999.00,9,  -999.00,9,  -999.00,9,  -999.00,9,   22.431,2,20181027,1537
  74JC20180923, AMT28,    66,  1,     13,2,20181027,1515,-48.1989, -52.6894, 6066,     41.6,   9.9464,  34.8320,2,    272.2,2,   -999.0,9,     4.31,2,     9.93,2,     0.50,2,     0.76,2,   22.749,2,20181027,1538
  74JC20180923, AMT28,    66,  1,     14,2,20181027,1515,-48.1989, -52.6894, 6066,     41.7,   9.9476,  34.8323,2,    272.6,2,   -999.0,9,  -999.00,9,  -999.00,9,  -999.00,9,  -999.00,9,   23.073,2,20181027,1538
  74JC20180923, AMT28,    66,  1,     15,2,20181027,1515,-48.1989, -52.6894, 6066,     41.9,   9.9481,  34.8325,2,    272.3,2,   -999.0,9,  -999.00,9,  -999.00,9,  -999.00,9,  -999.00,9,   21.938,2,20181027,1539
  74JC20180923, AMT28,    66,  1,     16,2,20181027,1515,-48.1989, -52.6894, 6066,     32.3,   9.9508,  34.8315,2,    272.5,2,   -999.0,9,     3.82,2,     9.88,2,     0.50,2,     0.77,2,   43.973,2,20181027,1541
  74JC20180923, AMT28,    66,  1,     17,2,20181027,1515,-48.1989, -52.6894, 6066,     22.1,   9.9665,  34.8314,2,    272.6,2,   -999.0,9,     3.86,2,     9.89,2,     0.50,2,     0.77,2,   94.749,2,20181027,1542
  74JC20180923, AMT28,    66,  1,     18,2,20181027,1515,-48.1989, -52.6894, 6066,      7.1,  10.0454,  34.8354,2,    272.6,2,   -999.0,9,     4.36,2,     9.88,2,     0.50,2,     0.77,2,  461.350,2,20181027,1544
  74JC20180923, AMT28,    66,  1,     19,2,20181027,1515,-48.1989, -52.6894, 6066,      7.1,  10.0479,  34.8355,2,    272.5,2,   -999.0,9,  -999.00,9,  -999.00,9,  -999.00,9,  -999.00,9,  401.910,2,20181027,1544
  74JC20180923, AMT28,    66,  1,     20,2,20181027,1515,-48.1989, -52.6894, 6066,      7.0,  10.0423,  34.8352,2,    272.2,2,   -999.0,9,  -999.00,9,  -999.00,9,  -999.00,9,  -999.00,9,  377.110,2,20181027,1545
  74JC20180923, AMT28,    66,  1,     21,2,20181027,1515,-48.1989, -52.6894, 6066,      7.1,  10.0422,  34.8350,2,    272.6,2,   -999.0,9,  -999.00,9,  -999.00,9,  -999.00,9,  -999.00,9,  535.340,2,20181027,1546
  74JC20180923, AMT28,    66,  1,     22,2,20181027,1515,-48.1989, -52.6894, 6066,      7.1,  10.0411,  34.8352,2,    272.4,2,   -999.0,9,  -999.00,9,  -999.00,9,  -999.00,9,  -999.00,9,  487.290,2,20181027,1546
  74JC20180923, AMT28,    66,  1,     23,2,20181027,1515,-48.1989, -52.6894, 6066,      7.1,  10.0480,  34.8357,2,    272.6,2,   -999.0,9,  -999.00,9,  -999.00,9,  -999.00,9,  -999.00,9,  440.610,2,20181027,1547
  74JC20180923, AMT28,    66,  1,     24,2,20181027,1515,-48.1989, -52.6894, 6066,      7.0,  10.0424,  34.8354,2,    272.1,2,   -999.0,9,  -999.00,9,  -999.00,9,  -999.00,9,  -999.00,9,  503.870,2,20181027,1547