BOTTLE,20220930CCHSIOAMB
EXPOCODE,SECT_ID,STNNBR,CASTNO,BTLNBR,BTLNBR_FLAG_W,DATE,TIME,LATITUDE,LONGITUDE,DEPTH,CTDPRS,CTDTMP,CTDSAL,CTDSAL_FLAG_W,CTDOXY,CTDOXY_FLAG_W,OXYGEN,OXYGEN_FLAG_W,SILCAT,SILCAT_FLAG_W,NITRAT,NITRAT_FLAG_W,NITRIT,NITRIT_FLAG_W,PHSPHT,PHSPHT_FLAG_W,CTDPAR,CTDPAR_FLAG_W,BTL_DATE,BTL_TIME
,,,,,,,,,,METERS,DBAR,ITS-90,PSS-78,,UMOL/KG,,UMOL/KG,,UMOL/KG,,UMOL/KG,,UMOL/KG,,UMOL/KG,,VOLTS,,,
  74JC20180923, AMT28,    22, 22,      1,2,20181006,0456, 15.0761, -28.6126, 5259,    203.2,  13.0946,  35.5813,2,     72.5,2,     75.9,2,     9.14,3,    25.56,2,     0.00,2,     1.41,2,    0.000,2,20181006,0456
  74JC20180923, AMT28,    22, 22,      2,2,20181006,0456, 15.0761, -28.6126, 5259,    203.2,  13.0943,  35.5818,2,     72.6,2,   -999.0,9,  -999.00,9,  -999.00,9,  -999.00,9,  -999.00,9,    0.000,2,20181006,0457
  74JC20180923, AMT28,    22, 22,      3,2,20181006,0456, 15.0761, -28.6126, 5259,    151.9,  14.2609,  35.7416,2,     76.9,2,   -999.0,9,     7.69,3,    23.27,2,     0.00,2,     1.28,2,    0.000,2,20181006,0459
  74JC20180923, AMT28,    22, 22,      4,2,20181006,0456, 15.0761, -28.6126, 5259,    126.6,  14.8371,  35.7947,2,     74.3,2,   -999.0,9,     7.27,3,    23.24,2,     0.00,2,     1.29,2,    0.000,2,20181006,0501
  74JC20180923, AMT28,    22, 22,      5,2,20181006,0456, 15.0761, -28.6126, 5259,    101.5,  16.1390,  35.9567,2,     76.5,2,   -999.0,9,     5.99,3,    21.38,2,     0.00,2,     1.19,2,    0.000,2,20181006,0503
  74JC20180923, AMT28,    22, 22,      6,2,20181006,0456, 15.0761, -28.6126, 5259,     81.7,  17.6917,  36.1359,2,     96.7,2,   -999.0,9,     4.37,3,    17.18,2,     0.08,2,     1.00,2,    0.000,2,20181006,0505
  74JC20180923, AMT28,    22, 22,      7,2,20181006,0456, 15.0761, -28.6126, 5259,     68.5,  18.0210,  36.1029,2,     99.6,2,    103.8,2,     4.01,3,    16.42,2,     0.15,2,     0.95,2,    0.000,2,20181006,0507
  74JC20180923, AMT28,    22, 22,      8,2,20181006,0456, 15.0761, -28.6126, 5259,     68.4,  18.0361,  36.1101,2,     99.9,2,   -999.0,9,  -999.00,9,  -999.00,9,  -999.00,9,  -999.00,9,    0.000,2,20181006,0508
  74JC20180923, AMT28,    22, 22,      9,2,20181006,0456, 15.0761, -28.6126, 5259,     63.7,  18.5281,  36.1594,2,    107.8,2,   -999.0,9,     3.65,3,    14.45,2,     0.23,2,     0.87,2,    0.000,2,20181006,0510
  74JC20180923, AMT28,    22, 22,     10,2,20181006,0456, 15.0761, -28.6126, 5259,     57.6,  19.5650,  36.2858,2,    132.2,2,   -999.0,9,  -999.00,9,  -999.00,9,  -999.00,9,  -999.00,9,    0.000,2,20181006,0513
  74JC20180923, AMT28,    22, 22,     11,2,20181006,0456, 15.0761, -28.6126, 5259,     57.5,  19.6267,  36.2907,2,    133.0,2,    133.1,2,     2.57,3,     9.66,2,     0.40,2,     0.61,2,    0.000,2,20181006,0514
  74JC20180923, AMT28,    22, 22,     12,2,20181006,0456, 15.0761, -28.6126, 5259,     57.5,  19.6172,  36.2908,2,    133.0,2,   -999.0,9,  -999.00,9,  -999.00,9,  -999.00,9,  -999.00,9,    0.000,2,20181006,0514
  74JC20180923, AMT28,    22, 22,     13,2,20181006,0456, 15.0761, -28.6126, 5259,     57.5,  19.5821,  36.2883,2,    130.6,2,   -999.0,9,  -999.00,9,  -999.00,9,  -999.00,9,  -999.00,9,    0.000,2,20181006,0515
  74JC20180923, AMT28,    22, 22,     14,2,20181006,0456, 15.0761, -28.6126, 5259,     51.4,  20.1766,  36.3178,2,    152.1,2,   -999.0,9,     2.13,3,     6.61,2,     0.39,2,     0.46,2,    0.000,2,20181006,0516
  74JC20180923, AMT28,    22, 22,     15,2,20181006,0456, 15.0761, -28.6126, 5259,     37.5,  21.6973,  36.3047,2,    196.9,2,   -999.0,9,     1.39,3,     0.33,2,     0.00,2,     0.13,2,    0.000,2,20181006,0518
  74JC20180923, AMT28,    22, 22,     16,2,20181006,0456, 15.0761, -28.6126, 5259,     26.3,  24.4516,  36.3156,2,    209.3,2,    210.5,2,     0.86,3,     0.00,2,     0.00,2,     0.05,2,    0.000,2,20181006,0520
  74JC20180923, AMT28,    22, 22,     17,2,20181006,0456, 15.0761, -28.6126, 5259,     26.2,  24.4394,  36.3180,2,    209.4,2,   -999.0,9,  -999.00,9,  -999.00,9,  -999.00,9,  -999.00,9,    0.000,2,20181006,0521
  74JC20180923, AMT28,    22, 22,     18,2,20181006,0456, 15.0761, -28.6126, 5259,     21.6,  26.8347,  36.3193,2,    198.0,2,   -999.0,9,     0.72,3,     0.00,2,     0.00,2,     0.00,2,    0.010,2,20181006,0522
  74JC20180923, AMT28,    22, 22,     19,2,20181006,0456, 15.0761, -28.6126, 5259,     15.4,  27.0095,  36.3236,2,    196.3,2,    199.5,2,     0.74,3,     0.00,2,     0.00,2,     0.00,2,    0.056,2,20181006,0524
  74JC20180923, AMT28,    22, 22,     20,2,20181006,0456, 15.0761, -28.6126, 5259,     15.4,  27.0162,  36.3239,2,    196.5,2,   -999.0,9,  -999.00,9,  -999.00,9,  -999.00,9,  -999.00,9,    0.068,2,20181006,0525
  74JC20180923, AMT28,    22, 22,     21,2,20181006,0456, 15.0761, -28.6126, 5259,      8.5,  27.0796,  36.3266,2,    196.6,2,   -999.0,9,     0.75,3,     0.00,2,     0.00,2,     0.00,2,    0.174,2,20181006,0526
  74JC20180923, AMT28,    22, 22,     22,2,20181006,0456, 15.0761, -28.6126, 5259,      6.3,  27.0764,  36.3267,2,    196.7,2,    197.9,2,     0.75,3,     0.00,2,     0.00,2,     0.00,2,    0.191,2,20181006,0528
  74JC20180923, AMT28,    22, 22,     23,2,20181006,0456, 15.0761, -28.6126, 5259,      6.1,  27.0749,  36.3268,2,    196.6,2,   -999.0,9,  -999.00,9,  -999.00,9,  -999.00,9,  -999.00,9,    0.164,2,20181006,0528
  74JC20180923, AMT28,    22, 22,     24,2,20181006,0456, 15.0761, -28.6126, 5259,      6.4,  27.0762,  36.3270,2,    196.5,2,   -999.0,9,  -999.00,9,  -999.00,9,  -999.00,9,  -999.00,9,    0.208,2,20181006,0529
  74JC20180923, AMT28,    23, 23,      1,2,20181006,1313, 13.8105, -28.2961, 5500,    504.5,   8.9504,  35.0367,2,     68.6,2,   -999.0,9,    17.41,2,    33.07,2,     0.00,2,     1.97,2,    0.000,2,20181006,1313
  74JC20180923, AMT28,    23, 23,      2,2,20181006,1313, 13.8105, -28.2961, 5500,    303.3,  10.9661,  35.2411,2,     67.9,2,   -999.0,9,    12.34,2,    29.12,2,     0.00,2,     1.70,2,    0.000,2,20181006,1318
  74JC20180923, AMT28,    23, 23,      3,2,20181006,1313, 13.8105, -28.2961, 5500,    202.6,  12.7798,  35.5321,2,     70.7,2,   -999.0,9,     9.44,2,    25.68,2,     0.00,2,     1.50,2,    0.000,2,20181006,1321
  74JC20180923, AMT28,    23, 23,      4,2,20181006,1313, 13.8105, -28.2961, 5500,    152.6,  14.0456,  35.7323,2,     74.5,2,   -999.0,9,     7.57,2,    23.32,2,     0.00,2,     1.37,2,    0.272,2,20181006,1323
  74JC20180923, AMT28,    23, 23,      5,2,20181006,1313, 13.8105, -28.2961, 5500,    153.0,  14.0545,  35.7351,2,     74.7,2,   -999.0,9,     7.81,2,    23.33,2,     0.00,2,     1.35,2,    0.228,2,20181006,1324
  74JC20180923, AMT28,    23, 23,      6,2,20181006,1313, 13.8105, -28.2961, 5500,    122.3,  15.4414,  35.9507,2,     84.2,2,   -999.0,9,     6.09,2,    20.59,2,     0.00,2,     1.20,2,    1.094,2,20181006,1326
  74JC20180923, AMT28,    23, 23,      7,2,20181006,1313, 13.8105, -28.2961, 5500,    101.9,  16.3619,  36.0942,2,     88.9,2,   -999.0,9,     5.34,2,    19.18,2,     0.04,2,     1.11,2,    2.939,2,20181006,1327
  74JC20180923, AMT28,    23, 23,      8,2,20181006,1313, 13.8105, -28.2961, 5500,     86.5,  17.6295,  36.2670,2,    100.5,2,   -999.0,9,     4.13,2,    16.68,2,     0.12,2,     0.95,2,    7.067,2,20181006,1329
  74JC20180923, AMT28,    23, 23,      9,2,20181006,1313, 13.8105, -28.2961, 5500,     76.9,  18.4580,  36.3024,2,    115.6,2,   -999.0,9,     3.16,2,    13.48,2,     0.28,2,     0.81,2,   12.998,2,20181006,1330
  74JC20180923, AMT28,    23, 23,     10,2,20181006,1313, 13.8105, -28.2961, 5500,     61.0,  20.2625,  36.3324,2,    164.1,2,   -999.0,9,     1.73,2,     3.08,2,     0.13,2,     0.30,2,   38.435,2,20181006,1332
  74JC20180923, AMT28,    23, 23,     11,2,20181006,1313, 13.8105, -28.2961, 5500,     60.9,  20.6143,  36.3415,2,    173.6,2,   -999.0,9,  -999.00,9,  -999.00,9,  -999.00,9,  -999.00,9,   36.776,2,20181006,1333
  74JC20180923, AMT28,    23, 23,     12,2,20181006,1313, 13.8105, -28.2961, 5500,     61.4,  20.6533,  36.3319,2,    174.9,2,   -999.0,9,  -999.00,9,  -999.00,9,  -999.00,9,  -999.00,9,   35.023,2,20181006,1333
  74JC20180923, AMT28,    23, 23,     13,2,20181006,1313, 13.8105, -28.2961, 5500,     57.3,  21.2832,  36.3406,2,    189.5,2,   -999.0,9,     1.25,2,     0.15,2,     0.00,2,     0.12,2,   46.144,2,20181006,1335
  74JC20180923, AMT28,    23, 23,     14,2,20181006,1313, 13.8105, -28.2961, 5500,     51.6,  21.9401,  36.3857,2,    195.5,2,   -999.0,9,     1.18,2,     0.00,2,     0.00,2,     0.31,2,   67.251,2,20181006,1336
  74JC20180923, AMT28,    23, 23,     15,2,20181006,1313, 13.8105, -28.2961, 5500,     51.2,  21.9512,  36.3882,2,    196.0,2,   -999.0,9,     1.14,2,     0.00,2,     0.00,2,     0.05,2,   68.413,2,20181006,1337
  74JC20180923, AMT28,    23, 23,     16,2,20181006,1313, 13.8105, -28.2961, 5500,     46.4,  22.5549,  36.3520,2,    199.1,2,   -999.0,9,     1.09,2,     0.00,2,     0.00,2,     0.00,2,   92.265,2,20181006,1338
  74JC20180923, AMT28,    23, 23,     17,2,20181006,1313, 13.8105, -28.2961, 5500,     41.6,  23.5111,  36.3420,2,    204.6,2,   -999.0,9,     0.86,2,     0.00,2,     0.00,2,     0.00,2,  126.890,2,20181006,1339
  74JC20180923, AMT28,    23, 23,     18,2,20181006,1313, 13.8105, -28.2961, 5500,     31.9,  25.0553,  36.2918,2,    209.6,2,   -999.0,9,     0.68,2,     0.00,2,     0.00,2,     0.00,2,  212.750,2,20181006,1341
  74JC20180923, AMT28,    23, 23,     19,2,20181006,1313, 13.8105, -28.2961, 5500,     21.8,  27.4803,  36.4413,2,    195.2,2,   -999.0,9,     0.47,2,     0.00,2,     0.00,2,     0.00,2,  341.900,2,20181006,1342
  74JC20180923, AMT28,    23, 23,     20,2,20181006,1313, 13.8105, -28.2961, 5500,     11.7,  27.5865,  36.4375,2,    194.2,2,   -999.0,9,     0.52,2,     0.00,2,     0.00,2,     0.00,2,  564.770,2,20181006,1344
  74JC20180923, AMT28,    23, 23,     21,2,20181006,1313, 13.8105, -28.2961, 5500,      6.8,  27.7868,  36.4365,2,    194.3,2,   -999.0,9,     0.58,2,     0.00,2,     0.00,2,     0.00,2,  589.250,2,20181006,1345
  74JC20180923, AMT28,    23, 23,     22,2,20181006,1313, 13.8105, -28.2961, 5500,      6.6,  27.7773,  36.4363,2,    194.3,2,   -999.0,9,  -999.00,9,  -999.00,9,  -999.00,9,  -999.00,9,  756.460,2,20181006,1346
  74JC20180923, AMT28,    23, 23,     23,2,20181006,1313, 13.8105, -28.2961, 5500,      6.2,  27.7541,  36.4365,2,    194.3,2,   -999.0,9,  -999.00,9,  -999.00,9,  -999.00,9,  -999.00,9,  813.390,2,20181006,1346
  74JC20180923, AMT28,    23, 23,     24,2,20181006,1313, 13.8105, -28.2961, 5500,      6.5,  27.7232,  36.4371,2,    194.5,2,   -999.0,9,  -999.00,9,  -999.00,9,  -999.00,9,  -999.00,9,  722.140,2,20181006,1347
  74JC20180923, AMT28,    24, 24,      1,2,20181007,0454, 11.4470, -27.7087, 5220,    202.6,  12.4776,  35.2593,2,     80.8,2,     85.0,2,     9.88,2,    25.21,2,     0.00,2,     1.52,2,    0.000,2,20181007,0454
  74JC20180923, AMT28,    24, 24,      2,2,20181007,0454, 11.4470, -27.7087, 5220,    202.9,  12.4935,  35.2592,2,     85.4,2,   -999.0,9,  -999.00,9,  -999.00,9,  -999.00,9,  -999.00,9,    0.000,2,20181007,0454
  74JC20180923, AMT28,    24, 24,      3,2,20181007,0454, 11.4470, -27.7087, 5220,    152.4,  13.5859,  35.3903,2,     80.5,2,   -999.0,9,     8.74,2,    24.05,2,     0.00,2,     1.44,2,    0.000,2,20181007,0457
  74JC20180923, AMT28,    24, 24,      4,2,20181007,0454, 11.4470, -27.7087, 5220,    102.3,  14.5648,  35.4903,2,     53.4,2,   -999.0,9,     8.10,2,    25.63,2,     0.04,2,     1.56,2,    0.000,2,20181007,0459
  74JC20180923, AMT28,    24, 24,      5,2,20181007,0454, 11.4470, -27.7087, 5220,     62.5,  17.0164,  35.7008,2,     62.3,2,     63.8,2,     5.67,2,    22.04,2,     0.33,2,     1.39,2,    0.000,2,20181007,0501
  74JC20180923, AMT28,    24, 24,      6,2,20181007,0454, 11.4470, -27.7087, 5220,     62.1,  17.0181,  35.7020,2,     61.9,2,   -999.0,9,  -999.00,9,  -999.00,9,  -999.00,9,  -999.00,9,    0.000,2,20181007,0501
  74JC20180923, AMT28,    24, 24,      7,2,20181007,0454, 11.4470, -27.7087, 5220,     51.0,  18.7132,  35.8216,2,     99.2,2,   -999.0,9,  -999.00,9,  -999.00,9,  -999.00,9,  -999.00,9,    0.000,2,20181007,0503
  74JC20180923, AMT28,    24, 24,      8,2,20181007,0454, 11.4470, -27.7087, 5220,     51.3,  18.7602,  35.8262,2,    101.4,2,    103.0,2,     3.38,2,    14.79,2,     0.57,2,     0.98,2,    0.000,2,20181007,0503
  74JC20180923, AMT28,    24, 24,      9,2,20181007,0454, 11.4470, -27.7087, 5220,     51.9,  18.7751,  35.8278,2,    101.7,2,   -999.0,9,  -999.00,9,  -999.00,9,  -999.00,9,  -999.00,9,    0.000,2,20181007,0504
  74JC20180923, AMT28,    24, 24,     10,2,20181007,0454, 11.4470, -27.7087, 5220,     52.1,  18.7962,  35.8296,2,    102.5,2,   -999.0,9,  -999.00,9,  -999.00,9,  -999.00,9,  -999.00,9,    0.000,2,20181007,0504
  74JC20180923, AMT28,    24, 24,     11,2,20181007,0454, 11.4470, -27.7087, 5220,     52.0,  18.8102,  35.8303,2,    103.2,2,   -999.0,9,  -999.00,9,  -999.00,9,  -999.00,9,  -999.00,9,    0.000,2,20181007,0505
  74JC20180923, AMT28,    24, 24,     12,2,20181007,0454, 11.4470, -27.7087, 5220,     31.2,  22.6688,  36.0263,2,    198.7,2,   -999.0,9,     0.73,2,     0.39,2,     0.00,2,     0.06,2,    0.000,2,20181007,0506
  74JC20180923, AMT28,    24, 24,     13,2,20181007,0454, 11.4470, -27.7087, 5220,     22.4,  25.7858,  36.0475,2,    211.8,2,   -999.0,9,     0.47,2,     0.00,2,     0.00,2,     0.00,2,    0.011,2,20181007,0508
  74JC20180923, AMT28,    24, 24,     14,2,20181007,0454, 11.4470, -27.7087, 5220,     22.7,  25.9821,  36.0422,2,    211.1,2,   -999.0,9,  -999.00,9,  -999.00,9,  -999.00,9,  -999.00,9,    0.007,2,20181007,0508
  74JC20180923, AMT28,    24, 24,     15,2,20181007,0454, 11.4470, -27.7087, 5220,     21.4,  26.3566,  36.0412,2,    211.0,2,   -999.0,9,     0.52,2,     0.00,2,     0.00,2,     0.00,2,    0.013,2,20181007,0510
  74JC20180923, AMT28,    24, 24,     16,2,20181007,0454, 11.4470, -27.7087, 5220,     13.1,  28.0765,  35.9278,2,    197.4,2,   -999.0,9,  -999.00,9,  -999.00,9,  -999.00,9,  -999.00,9,    0.120,2,20181007,0511
  74JC20180923, AMT28,    24, 24,     17,2,20181007,0454, 11.4470, -27.7087, 5220,     13.7,  28.0852,  35.9272,2,    196.7,2,    197.6,2,     0.46,2,     0.00,2,     0.00,2,     0.00,2,    0.086,2,20181007,0512
  74JC20180923, AMT28,    24, 24,     18,2,20181007,0454, 11.4470, -27.7087, 5220,     13.3,  28.0907,  35.9261,2,    196.8,2,   -999.0,9,  -999.00,9,  -999.00,9,  -999.00,9,  -999.00,9,    0.118,2,20181007,0512
  74JC20180923, AMT28,    24, 24,     19,2,20181007,0454, 11.4470, -27.7087, 5220,      8.3,  28.0924,  35.9267,2,    196.9,2,   -999.0,9,     0.55,2,     0.00,2,     0.00,2,     0.00,2,    0.214,2,20181007,0514
  74JC20180923, AMT28,    24, 24,     20,2,20181007,0454, 11.4470, -27.7087, 5220,      6.1,  28.1017,  35.9251,2,    196.5,2,   -999.0,9,  -999.00,9,  -999.00,9,  -999.00,9,  -999.00,9,    0.294,2,20181007,0515
  74JC20180923, AMT28,    24, 24,     21,2,20181007,0454, 11.4470, -27.7087, 5220,      6.2,  28.1046,  35.9253,2,    196.5,2,    195.8,2,     0.52,2,     0.00,2,     0.00,2,     0.00,2,    0.321,2,20181007,0515
  74JC20180923, AMT28,    24, 24,     22,2,20181007,0454, 11.4470, -27.7087, 5220,      6.7,  28.1043,  35.9258,2,    197.0,2,   -999.0,9,  -999.00,9,  -999.00,9,  -999.00,9,  -999.00,9,    0.327,2,20181007,0516
  74JC20180923, AMT28,    24, 24,     23,2,20181007,0454, 11.4470, -27.7087, 5220,      6.3,  28.1018,  35.9250,2,    196.9,2,   -999.0,9,  -999.00,9,  -999.00,9,  -999.00,9,  -999.00,9,    0.285,2,20181007,0516
  74JC20180923, AMT28,    24, 24,     24,2,20181007,0454, 11.4470, -27.7087, 5220,      6.6,  28.1040,  35.9247,2,    196.9,2,   -999.0,9,  -999.00,9,  -999.00,9,  -999.00,9,  -999.00,9,    0.295,2,20181007,0517
  74JC20180923, AMT28,    25, 25,      1,2,20181007,1311, 10.0982, -27.2938, 5373,    202.9,  11.4002,  35.1414,2,     83.9,2,   -999.0,9,    11.41,2,    27.14,2,     0.00,2,     1.59,2,    0.000,2,20181007,1311
  74JC20180923, AMT28,    25, 25,      2,2,20181007,1311, 10.0982, -27.2938, 5373,    152.7,  12.0987,  35.2194,2,     96.4,2,   -999.0,9,    10.00,2,    24.41,2,     0.00,2,     1.51,2,    0.104,2,20181007,1313
  74JC20180923, AMT28,    25, 25,      3,2,20181007,1311, 10.0982, -27.2938, 5373,    102.1,  13.4641,  35.3876,2,     91.5,2,   -999.0,9,     8.70,2,    23.37,2,     0.04,2,     1.45,2,    1.189,2,20181007,1315
  74JC20180923, AMT28,    25, 25,      4,2,20181007,1311, 10.0982, -27.2938, 5373,     72.1,  14.7313,  35.5293,2,     74.5,2,   -999.0,9,     7.65,2,    23.75,2,     0.15,2,     1.45,2,    6.021,2,20181007,1317
  74JC20180923, AMT28,    25, 25,      5,2,20181007,1311, 10.0982, -27.2938, 5373,     72.3,  14.7470,  35.5285,2,     74.9,2,   -999.0,9,     7.68,2,    23.66,2,     0.16,2,     1.46,2,    6.194,2,20181007,1318
  74JC20180923, AMT28,    25, 25,      6,2,20181007,1311, 10.0982, -27.2938, 5373,     51.9,  16.4094,  35.6694,2,     76.1,2,   -999.0,9,     5.21,2,    20.52,2,     0.44,2,     1.30,2,   25.571,2,20181007,1319
  74JC20180923, AMT28,    25, 25,      7,2,20181007,1311, 10.0982, -27.2938, 5373,     42.2,  17.2119,  35.7261,2,     94.3,2,   -999.0,9,     4.10,2,    16.86,2,     0.35,2,     1.07,2,   53.910,2,20181007,1321
  74JC20180923, AMT28,    25, 25,      8,2,20181007,1311, 10.0982, -27.2938, 5373,     39.9,  18.4346,  35.8144,2,    123.6,2,   -999.0,9,     3.48,2,    11.98,2,     0.23,2,     0.82,2,   70.012,2,20181007,1322
  74JC20180923, AMT28,    25, 25,      9,2,20181007,1311, 10.0982, -27.2938, 5373,     39.9,  18.6327,  35.8226,2,    132.0,2,   -999.0,9,  -999.00,9,  -999.00,9,  -999.00,9,  -999.00,9,   73.210,2,20181007,1323
  74JC20180923, AMT28,    25, 25,     10,2,20181007,1311, 10.0982, -27.2938, 5373,     36.7,  20.5025,  35.9361,2,    182.5,2,   -999.0,9,     2.19,2,     1.43,2,     0.04,2,     0.23,2,  124.010,2,20181007,1324
  74JC20180923, AMT28,    25, 25,     11,2,20181007,1311, 10.0982, -27.2938, 5373,     31.8,  24.2966,  36.2086,2,    212.7,2,   -999.0,9,     1.07,2,     0.00,2,     0.00,2,     0.00,2,  187.070,2,20181007,1326
  74JC20180923, AMT28,    25, 25,     12,2,20181007,1311, 10.0982, -27.2938, 5373,     22.1,  27.1453,  36.0989,2,    204.3,2,   -999.0,9,     0.68,2,     0.00,2,     0.00,2,     0.00,2,  347.180,2,20181007,1327
  74JC20180923, AMT28,    25, 25,     13,2,20181007,1311, 10.0982, -27.2938, 5373,      7.2,  28.4238,  35.9274,2,    194.2,2,   -999.0,9,     0.60,2,     0.00,2,     0.00,2,     0.00,2,  612.520,2,20181007,1330
  74JC20180923, AMT28,    25, 25,     14,2,20181007,1311, 10.0982, -27.2938, 5373,      7.0,  28.4324,  35.9203,2,    194.2,2,   -999.0,9,  -999.00,9,  -999.00,9,  -999.00,9,  -999.00,9,  243.050,2,20181007,1330
  74JC20180923, AMT28,    25, 25,     15,2,20181007,1311, 10.0982, -27.2938, 5373,      7.2,  28.4370,  35.9174,2,    194.2,2,   -999.0,9,  -999.00,9,  -999.00,9,  -999.00,9,  -999.00,9,  243.020,2,20181007,1331
  74JC20180923, AMT28,    25, 25,     16,2,20181007,1311, 10.0982, -27.2938, 5373,      7.3,  28.4439,  35.9158,2,    194.6,2,   -999.0,9,  -999.00,9,  -999.00,9,  -999.00,9,  -999.00,9,  289.920,2,20181007,1331