BOTTLE,20220930CCHSIOAMB
EXPOCODE,SECT_ID,STNNBR,CASTNO,BTLNBR,BTLNBR_FLAG_W,DATE,TIME,LATITUDE,LONGITUDE,DEPTH,CTDPRS,CTDTMP,CTDSAL,CTDSAL_FLAG_W,CTDOXY,CTDOXY_FLAG_W,OXYGEN,OXYGEN_FLAG_W,SILCAT,SILCAT_FLAG_W,NITRAT,NITRAT_FLAG_W,NITRIT,NITRIT_FLAG_W,PHSPHT,PHSPHT_FLAG_W,CTDPAR,CTDPAR_FLAG_W,BTL_DATE,BTL_TIME
,,,,,,,,,,METERS,DBAR,ITS-90,PSS-78,,UMOL/KG,,UMOL/KG,,UMOL/KG,,UMOL/KG,,UMOL/KG,,UMOL/KG,,VOLTS,,,
  74JC20180923, AMT28,    30, 29,      1,2,20181010,0508, -0.0005, -24.9992, 3768,    202.5,  12.8950,  35.2775,2,    130.8,2,    134.9,2,     8.74,2,    19.28,2,     0.00,2,     1.20,2,    0.000,2,20181010,0508
  74JC20180923, AMT28,    30, 29,      2,2,20181010,0508, -0.0005, -24.9992, 3768,    202.9,  12.8861,  35.2764,2,    130.3,2,   -999.0,9,  -999.00,9,  -999.00,9,  -999.00,9,  -999.00,9,    0.000,2,20181010,0509
  74JC20180923, AMT28,    30, 29,      3,2,20181010,0508, -0.0005, -24.9992, 3768,    152.9,  14.1889,  35.4584,2,    154.2,2,   -999.0,9,     6.73,2,    14.42,2,     0.00,2,     0.95,2,    0.000,2,20181010,0511
  74JC20180923, AMT28,    30, 29,      4,2,20181010,0508, -0.0005, -24.9992, 3768,     72.5,  24.0222,  36.2166,2,    171.7,2,   -999.0,9,  -999.00,9,  -999.00,9,  -999.00,9,  -999.00,9,    0.000,2,20181010,0514
  74JC20180923, AMT28,    30, 29,      5,2,20181010,0508, -0.0005, -24.9992, 3768,     72.7,  24.0178,  36.2176,2,    171.9,2,    173.1,2,     2.27,2,     2.85,2,     0.14,2,     0.23,2,    0.000,2,20181010,0515
  74JC20180923, AMT28,    30, 29,      6,2,20181010,0508, -0.0005, -24.9992, 3768,     73.0,  24.0124,  36.2165,2,    171.8,2,   -999.0,9,  -999.00,9,  -999.00,9,  -999.00,9,  -999.00,9,    0.000,2,20181010,0515
  74JC20180923, AMT28,    30, 29,      7,2,20181010,0508, -0.0005, -24.9992, 3768,     62.2,  24.6549,  36.0930,2,    176.0,2,   -999.0,9,  -999.00,9,  -999.00,9,  -999.00,9,  -999.00,9,    0.000,2,20181010,0518
  74JC20180923, AMT28,    30, 29,      8,2,20181010,0508, -0.0005, -24.9992, 3768,     62.0,  24.6298,  36.0961,2,    175.6,2,    178.7,2,     2.17,2,     1.74,2,     0.12,2,     0.13,2,    0.000,2,20181010,0518
  74JC20180923, AMT28,    30, 29,      9,2,20181010,0508, -0.0005, -24.9992, 3768,     62.0,  24.6071,  36.1020,2,    175.5,2,   -999.0,9,  -999.00,9,  -999.00,9,  -999.00,9,  -999.00,9,    0.000,2,20181010,0519
  74JC20180923, AMT28,    30, 29,     10,2,20181010,0508, -0.0005, -24.9992, 3768,     62.1,  24.6097,  36.0998,2,    175.3,2,   -999.0,9,  -999.00,9,  -999.00,9,  -999.00,9,  -999.00,9,    0.000,2,20181010,0519
  74JC20180923, AMT28,    30, 29,     11,2,20181010,0508, -0.0005, -24.9992, 3768,     61.9,  24.6327,  36.0989,2,    175.5,2,   -999.0,9,  -999.00,9,  -999.00,9,  -999.00,9,  -999.00,9,    0.000,2,20181010,0520
  74JC20180923, AMT28,    30, 29,     12,2,20181010,0508, -0.0005, -24.9992, 3768,     52.6,  25.8085,  36.0079,2,    185.3,2,   -999.0,9,     1.67,2,     0.56,2,     0.05,2,     0.00,2,    0.000,2,20181010,0522
  74JC20180923, AMT28,    30, 29,     13,2,20181010,0508, -0.0005, -24.9992, 3768,     27.1,  26.5842,  35.9957,2,    191.7,2,    195.6,2,     1.42,2,     0.04,2,     0.00,2,     0.00,2,    0.000,2,20181010,0524
  74JC20180923, AMT28,    30, 29,     14,2,20181010,0508, -0.0005, -24.9992, 3768,     27.2,  26.5981,  35.9951,2,    192.0,2,   -999.0,9,  -999.00,9,  -999.00,9,  -999.00,9,  -999.00,9,    0.000,2,20181010,0525
  74JC20180923, AMT28,    30, 29,     15,2,20181010,0508, -0.0005, -24.9992, 3768,     21.6,  26.6936,  35.9905,2,    193.0,2,   -999.0,9,     1.39,2,     0.00,2,     0.00,2,     0.00,2,    0.010,2,20181010,0527
  74JC20180923, AMT28,    30, 29,     16,2,20181010,0508, -0.0005, -24.9992, 3768,     15.5,  26.7047,  35.9900,2,    192.6,2,   -999.0,9,  -999.00,9,  -999.00,9,  -999.00,9,  -999.00,9,    0.061,2,20181010,0528
  74JC20180923, AMT28,    30, 29,     17,2,20181010,0508, -0.0005, -24.9992, 3768,     15.3,  26.7008,  35.9903,2,    192.7,2,    195.5,2,     1.80,2,     0.00,2,     0.00,2,     0.00,2,    0.053,2,20181010,0529
  74JC20180923, AMT28,    30, 29,     18,2,20181010,0508, -0.0005, -24.9992, 3768,     15.3,  26.7010,  35.9905,2,    192.8,2,   -999.0,9,  -999.00,9,  -999.00,9,  -999.00,9,  -999.00,9,    0.061,2,20181010,0529
  74JC20180923, AMT28,    30, 29,     19,2,20181010,0508, -0.0005, -24.9992, 3768,      9.3,  26.7039,  35.9904,2,    193.1,2,   -999.0,9,     1.56,2,     0.00,2,     0.00,2,     0.00,2,    0.146,2,20181010,0531
  74JC20180923, AMT28,    30, 29,     20,2,20181010,0508, -0.0005, -24.9992, 3768,      6.3,  26.7027,  35.9904,2,    192.4,2,   -999.0,9,     1.69,2,     0.00,2,     0.00,2,     0.00,2,    0.219,2,20181010,0532
  74JC20180923, AMT28,    30, 29,     21,2,20181010,0508, -0.0005, -24.9992, 3768,      6.3,  26.7028,  35.9904,2,    193.4,2,    196.0,2,  -999.00,9,  -999.00,9,  -999.00,9,  -999.00,9,    0.233,2,20181010,0533
  74JC20180923, AMT28,    30, 29,     22,2,20181010,0508, -0.0005, -24.9992, 3768,      6.2,  26.7023,  35.9905,2,    192.8,2,   -999.0,9,  -999.00,9,  -999.00,9,  -999.00,9,  -999.00,9,    0.228,2,20181010,0533
  74JC20180923, AMT28,    30, 29,     23,2,20181010,0508, -0.0005, -24.9992, 3768,      6.2,  26.7039,  35.9905,2,    193.3,2,   -999.0,9,  -999.00,9,  -999.00,9,  -999.00,9,  -999.00,9,    0.217,2,20181010,0534
  74JC20180923, AMT28,    30, 29,     24,2,20181010,0508, -0.0005, -24.9992, 3768,      6.1,  26.7010,  35.9907,2,    193.3,2,   -999.0,9,  -999.00,9,  -999.00,9,  -999.00,9,  -999.00,9,    0.222,2,20181010,0534
  74JC20180923, AMT28,    31, 30,      1,2,20181010,1316, -1.1518, -24.9906, 4780,    500.6,   7.1031,  34.6146,2,    126.4,2,   -999.0,9,    20.59,2,    31.38,2,     0.00,2,     1.93,2,    0.000,2,20181010,1316
  74JC20180923, AMT28,    31, 30,      2,2,20181010,1316, -1.1518, -24.9906, 4780,    304.1,  11.6144,  35.1063,2,     85.1,2,   -999.0,9,    11.49,2,    26.63,2,     0.00,2,     1.61,2,    0.000,2,20181010,1320
  74JC20180923, AMT28,    31, 30,      3,2,20181010,1316, -1.1518, -24.9906, 4780,    206.6,  13.0632,  35.2981,2,     96.8,2,   -999.0,9,     9.40,2,    22.84,2,     0.00,2,     1.43,2,    0.025,2,20181010,1324
  74JC20180923, AMT28,    31, 30,      4,2,20181010,1316, -1.1518, -24.9906, 4780,    151.4,  14.4409,  35.4925,2,    117.6,2,   -999.0,9,     7.22,2,    18.10,2,     0.00,2,     1.16,2,    0.765,2,20181010,1326
  74JC20180923, AMT28,    31, 30,      5,2,20181010,1316, -1.1518, -24.9906, 4780,    123.5,  15.2299,  35.6080,2,    156.6,2,   -999.0,9,     5.76,2,    12.84,2,     0.00,2,     0.88,2,    2.229,2,20181010,1328
  74JC20180923, AMT28,    31, 30,      6,2,20181010,1316, -1.1518, -24.9906, 4780,    102.1,  17.6033,  35.9539,2,    158.0,2,   -999.0,9,     4.19,2,     9.55,2,     0.04,2,     0.71,2,    4.945,2,20181010,1330
  74JC20180923, AMT28,    31, 30,      7,2,20181010,1316, -1.1518, -24.9906, 4780,     91.2,  22.3684,  36.4943,2,    164.7,2,   -999.0,9,     2.32,2,     3.86,2,     0.33,2,     0.39,2,    8.433,2,20181010,1332
  74JC20180923, AMT28,    31, 30,      8,2,20181010,1316, -1.1518, -24.9906, 4780,     82.8,  23.4801,  36.3852,2,    168.7,2,   -999.0,9,     2.10,2,     2.74,2,     0.16,2,     0.29,2,   14.171,2,20181010,1333
  74JC20180923, AMT28,    31, 30,      9,2,20181010,1316, -1.1518, -24.9906, 4780,     76.5,  25.1979,  36.2070,2,    183.1,2,   -999.0,9,     1.69,2,     0.79,2,     0.05,2,     0.11,2,   22.760,2,20181010,1335
  74JC20180923, AMT28,    31, 30,     10,2,20181010,1316, -1.1518, -24.9906, 4780,     76.5,  25.3955,  36.1914,2,    184.9,2,   -999.0,9,     1.69,2,     0.53,2,     0.04,2,     0.06,2,   23.336,2,20181010,1335
  74JC20180923, AMT28,    31, 30,     11,2,20181010,1316, -1.1518, -24.9906, 4780,     77.0,  25.4435,  36.1849,2,    185.4,2,   -999.0,9,  -999.00,9,  -999.00,9,  -999.00,9,  -999.00,9,   23.268,2,20181010,1336
  74JC20180923, AMT28,    31, 30,     12,2,20181010,1316, -1.1518, -24.9906, 4780,     72.0,  25.9355,  36.1524,2,    190.1,2,   -999.0,9,     1.52,2,     0.18,2,     0.00,2,     0.00,2,   30.025,2,20181010,1337
  74JC20180923, AMT28,    31, 30,     13,2,20181010,1316, -1.1518, -24.9906, 4780,     64.7,  26.6266,  36.0667,2,    194.9,2,   -999.0,9,     1.38,2,     0.05,2,     0.00,2,     0.00,2,   43.469,2,20181010,1339
  74JC20180923, AMT28,    31, 30,     14,2,20181010,1316, -1.1518, -24.9906, 4780,     51.5,  26.7918,  36.0080,2,    194.8,2,   -999.0,9,     1.36,2,     0.05,2,     0.00,2,     0.00,2,   87.214,2,20181010,1340
  74JC20180923, AMT28,    31, 30,     15,2,20181010,1316, -1.1518, -24.9906, 4780,     41.5,  26.8184,  35.9969,2,    194.5,2,   -999.0,9,     1.37,2,     0.04,2,     0.00,2,     0.00,2,  141.970,2,20181010,1342
  74JC20180923, AMT28,    31, 30,     16,2,20181010,1316, -1.1518, -24.9906, 4780,     31.6,  26.8329,  35.9936,2,    194.9,2,   -999.0,9,     1.34,2,     0.05,2,     0.00,2,     0.00,2,  215.670,2,20181010,1343
  74JC20180923, AMT28,    31, 30,     17,2,20181010,1316, -1.1518, -24.9906, 4780,     21.4,  26.8368,  35.9928,2,    195.0,2,   -999.0,9,     1.35,2,     0.05,2,     0.00,2,     0.00,2,  359.500,2,20181010,1344
  74JC20180923, AMT28,    31, 30,     18,2,20181010,1316, -1.1518, -24.9906, 4780,     14.5,  26.8442,  35.9925,2,    194.9,2,   -999.0,9,  -999.00,9,  -999.00,9,  -999.00,9,  -999.00,9,  497.180,2,20181010,1346
  74JC20180923, AMT28,    31, 30,     19,2,20181010,1316, -1.1518, -24.9906, 4780,      6.4,  26.9038,  35.9929,2,    195.1,2,   -999.0,9,     1.42,2,     0.06,2,     0.00,2,     0.00,2,  865.620,2,20181010,1348
  74JC20180923, AMT28,    31, 30,     20,2,20181010,1316, -1.1518, -24.9906, 4780,      6.9,  26.9022,  35.9930,2,    194.8,2,   -999.0,9,     1.44,2,     0.07,2,     0.00,2,     0.00,2,  863.980,2,20181010,1348
  74JC20180923, AMT28,    31, 30,     21,2,20181010,1316, -1.1518, -24.9906, 4780,      6.5,  26.9365,  35.9937,2,    194.7,2,   -999.0,9,  -999.00,9,  -999.00,9,  -999.00,9,  -999.00,9,  832.410,2,20181010,1349
  74JC20180923, AMT28,    31, 30,     22,2,20181010,1316, -1.1518, -24.9906, 4780,      6.7,  26.9041,  35.9933,2,    194.4,2,   -999.0,9,  -999.00,9,  -999.00,9,  -999.00,9,  -999.00,9,  807.590,2,20181010,1349
  74JC20180923, AMT28,    31, 30,     23,2,20181010,1316, -1.1518, -24.9906, 4780,      6.5,  26.8940,  35.9930,2,    194.7,2,   -999.0,9,  -999.00,9,  -999.00,9,  -999.00,9,  -999.00,9,  798.070,2,20181010,1349
  74JC20180923, AMT28,    31, 30,     24,2,20181010,1316, -1.1518, -24.9906, 4780,      6.8,  26.9200,  35.9933,2,    194.6,2,   -999.0,9,  -999.00,9,  -999.00,9,  -999.00,9,  -999.00,9,  816.580,2,20181010,1350
  74JC20180923, AMT28,    32, 31,      1,2,20181011,0458, -3.6911, -24.9782, 5528,    202.6,  12.4808,  35.2192,2,     96.2,2,     99.6,2,    10.08,2,    23.88,2,     0.00,2,     1.39,2,    0.000,2,20181011,0458
  74JC20180923, AMT28,    32, 31,      2,2,20181011,0458, -3.6911, -24.9782, 5528,    202.3,  12.4805,  35.2193,2,     96.3,2,   -999.0,9,  -999.00,9,  -999.00,9,  -999.00,9,  -999.00,9,    0.000,2,20181011,0459
  74JC20180923, AMT28,    32, 31,      3,2,20181011,0458, -3.6911, -24.9782, 5528,    150.9,  13.0840,  35.3029,2,    114.4,2,   -999.0,9,     8.71,2,    20.65,2,     0.00,2,     1.27,2,    0.000,2,20181011,0501
  74JC20180923, AMT28,    32, 31,      4,2,20181011,0458, -3.6911, -24.9782, 5528,     92.1,  14.9455,  35.5634,2,    108.8,2,   -999.0,9,     6.93,2,    18.46,2,     0.11,2,     1.18,2,    0.000,2,20181011,0503
  74JC20180923, AMT28,    32, 31,      5,2,20181011,0458, -3.6911, -24.9782, 5528,     82.4,  17.8640,  35.9537,2,    137.1,2,   -999.0,9,     4.17,2,    11.24,2,     0.17,2,     0.81,2,    0.000,2,20181011,0505
  74JC20180923, AMT28,    32, 31,      6,2,20181011,0458, -3.6911, -24.9782, 5528,     72.4,  20.5659,  36.0929,2,    133.7,2,    137.4,2,     3.40,2,     8.71,2,     0.31,2,     0.67,2,    0.000,2,20181011,0506
  74JC20180923, AMT28,    32, 31,      7,2,20181011,0458, -3.6911, -24.9782, 5528,     72.6,  20.5685,  36.0970,2,    134.1,2,   -999.0,9,  -999.00,9,  -999.00,9,  -999.00,9,  -999.00,9,    0.000,2,20181011,0507
  74JC20180923, AMT28,    32, 31,      8,2,20181011,0458, -3.6911, -24.9782, 5528,     62.4,  23.5328,  36.3274,2,    171.7,2,   -999.0,9,  -999.00,9,  -999.00,9,  -999.00,9,  -999.00,9,    0.000,2,20181011,0509
  74JC20180923, AMT28,    32, 31,      9,2,20181011,0458, -3.6911, -24.9782, 5528,     63.0,  23.1581,  36.2773,2,    166.6,2,   -999.0,9,     1.88,2,     2.69,2,     0.27,2,     0.27,2,    0.000,2,20181011,0509
  74JC20180923, AMT28,    32, 31,     10,2,20181011,0458, -3.6911, -24.9782, 5528,     61.7,  23.4812,  36.3233,2,    169.3,2,   -999.0,9,  -999.00,9,  -999.00,9,  -999.00,9,  -999.00,9,    0.000,2,20181011,0510
  74JC20180923, AMT28,    32, 31,     11,2,20181011,0458, -3.6911, -24.9782, 5528,     62.0,  23.4575,  36.3222,2,    169.3,2,   -999.0,9,  -999.00,9,  -999.00,9,  -999.00,9,  -999.00,9,    0.000,2,20181011,0510
  74JC20180923, AMT28,    32, 31,     12,2,20181011,0458, -3.6911, -24.9782, 5528,     61.9,  23.6062,  36.3482,2,    169.9,2,   -999.0,9,  -999.00,9,  -999.00,9,  -999.00,9,  -999.00,9,    0.000,2,20181011,0510
  74JC20180923, AMT28,    32, 31,     13,2,20181011,0458, -3.6911, -24.9782, 5528,     62.9,  23.5133,  36.3351,2,    168.7,2,   -999.0,9,  -999.00,9,  -999.00,9,  -999.00,9,  -999.00,9,    0.000,2,20181011,0511
  74JC20180923, AMT28,    32, 31,     14,2,20181011,0458, -3.6911, -24.9782, 5528,     52.5,  25.5128,  36.2367,2,    191.2,2,   -999.0,9,     1.45,2,     0.43,2,     0.09,2,     0.08,2,    0.000,2,20181011,0513
  74JC20180923, AMT28,    32, 31,     15,2,20181011,0458, -3.6911, -24.9782, 5528,     28.2,  26.5052,  36.2148,2,    195.3,2,    198.5,2,     1.24,2,     0.00,2,     0.00,2,     0.00,2,    0.000,2,20181011,0515
  74JC20180923, AMT28,    32, 31,     16,2,20181011,0458, -3.6911, -24.9782, 5528,     27.8,  26.5052,  36.2150,2,    195.5,2,   -999.0,9,  -999.00,9,  -999.00,9,  -999.00,9,  -999.00,9,    0.000,2,20181011,0515
  74JC20180923, AMT28,    32, 31,     17,2,20181011,0458, -3.6911, -24.9782, 5528,     22.3,  26.5064,  36.2152,2,    195.4,2,   -999.0,9,     1.22,2,     0.04,2,     0.00,2,     0.00,2,    0.008,2,20181011,0517
  74JC20180923, AMT28,    32, 31,     18,2,20181011,0458, -3.6911, -24.9782, 5528,     15.8,  26.5028,  36.2154,2,    195.4,2,    198.6,2,     1.25,2,     0.00,2,     0.00,2,     0.00,2,    0.054,2,20181011,0518
  74JC20180923, AMT28,    32, 31,     19,2,20181011,0458, -3.6911, -24.9782, 5528,     16.1,  26.4987,  36.2157,2,    195.6,2,   -999.0,9,  -999.00,9,  -999.00,9,  -999.00,9,  -999.00,9,    0.060,2,20181011,0519
  74JC20180923, AMT28,    32, 31,     20,2,20181011,0458, -3.6911, -24.9782, 5528,     10.1,  26.5012,  36.2156,2,    195.4,2,   -999.0,9,     1.19,2,     0.00,2,     0.00,2,     0.00,2,    0.150,2,20181011,0520
  74JC20180923, AMT28,    32, 31,     21,2,20181011,0458, -3.6911, -24.9782, 5528,      7.2,  26.4980,  36.2158,2,    195.5,2,    198.3,2,     1.19,2,     0.00,2,     0.00,2,     0.00,2,    0.232,2,20181011,0521
  74JC20180923, AMT28,    32, 31,     22,2,20181011,0458, -3.6911, -24.9782, 5528,      7.8,  26.5019,  36.2157,2,    195.5,2,   -999.0,9,  -999.00,9,  -999.00,9,  -999.00,9,  -999.00,9,    0.183,2,20181011,0522
  74JC20180923, AMT28,    32, 31,     23,2,20181011,0458, -3.6911, -24.9782, 5528,      7.1,  26.4993,  36.2169,2,    195.2,2,   -999.0,9,  -999.00,9,  -999.00,9,  -999.00,9,  -999.00,9,    0.235,2,20181011,0522
  74JC20180923, AMT28,    32, 31,     24,2,20181011,0458, -3.6911, -24.9782, 5528,      7.2,  26.4957,  36.2173,2,    195.2,2,   -999.0,9,  -999.00,9,  -999.00,9,  -999.00,9,  -999.00,9,    0.223,2,20181011,0523