BOTTLE,20220930CCHSIOAMB
EXPOCODE,SECT_ID,STNNBR,CASTNO,BTLNBR,BTLNBR_FLAG_W,DATE,TIME,LATITUDE,LONGITUDE,DEPTH,CTDPRS,CTDTMP,CTDSAL,CTDSAL_FLAG_W,CTDOXY,CTDOXY_FLAG_W,OXYGEN,OXYGEN_FLAG_W,SILCAT,SILCAT_FLAG_W,NITRAT,NITRAT_FLAG_W,NITRIT,NITRIT_FLAG_W,PHSPHT,PHSPHT_FLAG_W,CTDPAR,CTDPAR_FLAG_W,BTL_DATE,BTL_TIME
,,,,,,,,,,METERS,DBAR,ITS-90,PSS-78,,UMOL/KG,,UMOL/KG,,UMOL/KG,,UMOL/KG,,UMOL/KG,,UMOL/KG,,VOLTS,,,
  74JC20180923, AMT28,    16, 16,      1,2,20181003,0455, 26.2038, -25.5211, 5318,    202.2,  17.4457,  36.5045,2,    192.9,2,    197.5,2,     1.36,2,     4.43,2,     0.00,2,     0.24,2,    0.000,2,20181003,0455
  74JC20180923, AMT28,    16, 16,      2,2,20181003,0455, 26.2038, -25.5211, 5318,    202.2,  17.4439,  36.5047,2,    193.2,2,   -999.0,9,  -999.00,9,  -999.00,9,  -999.00,9,  -999.00,9,    0.000,2,20181003,0456
  74JC20180923, AMT28,    16, 16,      3,2,20181003,0455, 26.2038, -25.5211, 5318,    152.2,  18.6297,  36.7489,2,    201.6,2,   -999.0,9,     0.76,2,     2.06,2,     0.00,2,     0.12,2,    0.000,2,20181003,0458
  74JC20180923, AMT28,    16, 16,      4,2,20181003,0455, 26.2038, -25.5211, 5318,    119.0,  19.3695,  36.8881,2,    212.3,2,   -999.0,9,     0.49,2,     0.29,2,     0.08,2,     0.05,2,    0.000,2,20181003,0500
  74JC20180923, AMT28,    16, 16,      5,2,20181003,0455, 26.2038, -25.5211, 5318,    119.1,  19.3795,  36.8904,2,    212.4,2,   -999.0,9,  -999.00,9,  -999.00,9,  -999.00,9,  -999.00,9,    0.000,2,20181003,0500
  74JC20180923, AMT28,    16, 16,      6,2,20181003,0455, 26.2038, -25.5211, 5318,    118.8,  19.3852,  36.8921,2,    212.2,2,   -999.0,9,  -999.00,9,  -999.00,9,  -999.00,9,  -999.00,9,    0.000,2,20181003,0501
  74JC20180923, AMT28,    16, 16,      7,2,20181003,0455, 26.2038, -25.5211, 5318,    108.9,  19.6275,  36.9305,2,    215.3,2,   -999.0,9,     0.50,2,     0.00,2,     0.00,2,     0.00,2,    0.000,2,20181003,0502
  74JC20180923, AMT28,    16, 16,      8,2,20181003,0455, 26.2038, -25.5211, 5318,    108.8,  19.6439,  36.9354,2,    215.9,2,   -999.0,9,  -999.00,9,  -999.00,9,  -999.00,9,  -999.00,9,    0.000,2,20181003,0503
  74JC20180923, AMT28,    16, 16,      9,2,20181003,0455, 26.2038, -25.5211, 5318,    109.0,  19.6607,  36.9376,2,    215.8,2,   -999.0,9,  -999.00,9,  -999.00,9,  -999.00,9,  -999.00,9,    0.000,2,20181003,0503
  74JC20180923, AMT28,    16, 16,     10,2,20181003,0455, 26.2038, -25.5211, 5318,    109.0,  19.6550,  36.9368,2,    216.0,2,   -999.0,9,  -999.00,9,  -999.00,9,  -999.00,9,  -999.00,9,    0.000,2,20181003,0504
  74JC20180923, AMT28,    16, 16,     11,2,20181003,0455, 26.2038, -25.5211, 5318,     92.0,  20.1658,  36.9771,2,    222.7,2,   -999.0,9,     0.35,2,     0.00,2,     0.00,2,     0.00,2,    0.000,2,20181003,0506
  74JC20180923, AMT28,    16, 16,     12,2,20181003,0455, 26.2038, -25.5211, 5318,     77.9,  20.8568,  36.9769,2,    229.0,2,   -999.0,9,     0.29,2,     0.00,2,     0.00,2,     0.00,2,    0.000,2,20181003,0508
  74JC20180923, AMT28,    16, 16,     13,2,20181003,0455, 26.2038, -25.5211, 5318,     61.6,  22.1003,  37.0231,2,    225.7,2,    227.9,2,     0.33,2,     0.00,2,     0.00,2,     0.00,2,    0.000,2,20181003,0509
  74JC20180923, AMT28,    16, 16,     14,2,20181003,0455, 26.2038, -25.5211, 5318,     51.7,  23.7470,  37.1705,2,    211.7,2,   -999.0,9,     0.24,2,     0.00,2,     0.00,2,     0.00,2,    0.000,2,20181003,0511
  74JC20180923, AMT28,    16, 16,     15,2,20181003,0455, 26.2038, -25.5211, 5318,     47.2,  24.0553,  37.1995,2,    208.7,2,    210.4,2,     0.27,2,     0.00,2,     0.00,2,     0.00,2,    0.000,2,20181003,0512
  74JC20180923, AMT28,    16, 16,     16,2,20181003,0455, 26.2038, -25.5211, 5318,     46.9,  24.0715,  37.2033,2,    208.9,2,   -999.0,9,  -999.00,9,  -999.00,9,  -999.00,9,  -999.00,9,    0.000,2,20181003,0513
  74JC20180923, AMT28,    16, 16,     17,2,20181003,0455, 26.2038, -25.5211, 5318,     26.7,  24.8298,  37.2489,2,    203.9,2,    205.3,2,     0.33,2,     0.00,2,     0.00,2,     0.00,2,    0.005,2,20181003,0514
  74JC20180923, AMT28,    16, 16,     18,2,20181003,0455, 26.2038, -25.5211, 5318,     26.7,  24.8544,  37.2511,2,    203.4,2,   -999.0,9,  -999.00,9,  -999.00,9,  -999.00,9,  -999.00,9,    0.004,2,20181003,0515
  74JC20180923, AMT28,    16, 16,     19,2,20181003,0455, 26.2038, -25.5211, 5318,     21.7,  24.8763,  37.2543,2,    203.6,2,   -999.0,9,     0.30,2,     0.00,2,     0.00,2,     0.00,2,    0.034,2,20181003,0516
  74JC20180923, AMT28,    16, 16,     20,2,20181003,0455, 26.2038, -25.5211, 5318,     15.7,  24.9941,  37.2585,2,    203.0,2,   -999.0,9,     0.33,2,     0.00,2,     0.00,2,     0.00,2,    0.088,2,20181003,0518
  74JC20180923, AMT28,    16, 16,     21,2,20181003,0455, 26.2038, -25.5211, 5318,      6.8,  24.9893,  37.2574,2,    203.4,2,    204.3,2,     0.31,2,     0.00,2,     0.00,2,     0.00,2,    0.361,2,20181003,0519
  74JC20180923, AMT28,    16, 16,     22,2,20181003,0455, 26.2038, -25.5211, 5318,      6.8,  24.9664,  37.2577,2,    203.4,2,   -999.0,9,  -999.00,9,  -999.00,9,  -999.00,9,  -999.00,9,    0.380,2,20181003,0520
  74JC20180923, AMT28,    16, 16,     23,2,20181003,0455, 26.2038, -25.5211, 5318,      6.7,  24.9720,  37.2575,2,    203.3,2,   -999.0,9,  -999.00,9,  -999.00,9,  -999.00,9,  -999.00,9,    0.379,2,20181003,0520
  74JC20180923, AMT28,    16, 16,     24,2,20181003,0455, 26.2038, -25.5211, 5318,      6.8,  24.9861,  37.2577,2,    203.3,2,   -999.0,9,  -999.00,9,  -999.00,9,  -999.00,9,  -999.00,9,    0.332,2,20181003,0521
  74JC20180923, AMT28,    17, 17,      1,2,20181003,1315, 25.0577, -26.0568, 4506,    504.2,  12.5284,  35.7039,2,    176.9,2,   -999.0,9,     5.52,2,    13.94,2,     0.00,2,     0.85,2,    0.000,2,20181003,1315
  74JC20180923, AMT28,    17, 17,      2,2,20181003,1315, 25.0577, -26.0568, 4506,    303.7,  15.5815,  36.1438,2,    183.7,2,   -999.0,9,     2.59,2,     8.37,2,     0.00,2,     0.48,2,    0.000,2,20181003,1320
  74JC20180923, AMT28,    17, 17,      3,2,20181003,1315, 25.0577, -26.0568, 4506,    203.3,  18.0725,  36.6301,2,    197.5,2,   -999.0,9,     0.99,2,     3.39,2,     0.00,2,     0.22,2,    0.245,2,20181003,1323
  74JC20180923, AMT28,    17, 17,      4,2,20181003,1315, 25.0577, -26.0568, 4506,    153.0,  19.1707,  36.8321,2,    208.1,2,   -999.0,9,     0.51,2,     0.73,2,     0.05,2,     0.07,2,    1.715,2,20181003,1326
  74JC20180923, AMT28,    17, 17,      5,2,20181003,1315, 25.0577, -26.0568, 4506,    143.1,  19.4524,  36.8756,2,    212.5,2,   -999.0,9,     0.43,2,     0.19,2,     0.08,2,     0.00,2,    2.724,2,20181003,1327
  74JC20180923, AMT28,    17, 17,      6,2,20181003,1315, 25.0577, -26.0568, 4506,    132.3,  19.7927,  36.9342,2,    217.1,2,   -999.0,9,     0.38,2,     0.00,2,     0.00,2,     0.00,2,    4.183,2,20181003,1329
  74JC20180923, AMT28,    17, 17,      7,2,20181003,1315, 25.0577, -26.0568, 4506,    123.2,  20.1790,  36.9950,2,    218.8,2,   -999.0,9,     0.39,2,     0.00,2,     0.00,2,     0.00,2,    5.221,2,20181003,1330
  74JC20180923, AMT28,    17, 17,      8,2,20181003,1315, 25.0577, -26.0568, 4506,    122.8,  20.1753,  36.9961,2,    218.6,2,   -999.0,9,     0.35,2,     0.00,2,     0.00,2,     0.00,2,    3.067,2,20181003,1331
  74JC20180923, AMT28,    17, 17,      9,2,20181003,1315, 25.0577, -26.0568, 4506,    123.0,  20.1750,  36.9964,2,    219.2,2,   -999.0,9,  -999.00,9,  -999.00,9,  -999.00,9,  -999.00,9,    3.365,2,20181003,1331
  74JC20180923, AMT28,    17, 17,     10,2,20181003,1315, 25.0577, -26.0568, 4506,    102.8,  20.6081,  37.0513,2,    222.2,2,   -999.0,9,     0.34,2,     0.00,2,     0.00,2,     0.00,2,   15.790,2,20181003,1333
  74JC20180923, AMT28,    17, 17,     11,2,20181003,1315, 25.0577, -26.0568, 4506,     82.7,  21.5860,  37.0881,2,    227.1,2,   -999.0,9,     0.39,2,     0.00,2,     0.00,2,     0.00,2,   38.382,2,20181003,1335
  74JC20180923, AMT28,    17, 17,     12,2,20181003,1315, 25.0577, -26.0568, 4506,     62.7,  23.5639,  37.2908,2,    214.3,2,   -999.0,9,     0.32,2,     0.00,2,     0.00,2,     0.00,2,   84.789,2,20181003,1337
  74JC20180923, AMT28,    17, 17,     13,2,20181003,1315, 25.0577, -26.0568, 4506,     53.0,  24.2838,  37.3516,2,    209.1,2,   -999.0,9,     0.23,2,     0.00,2,     0.00,2,     0.00,2,  121.980,2,20181003,1339
  74JC20180923, AMT28,    17, 17,     14,2,20181003,1315, 25.0577, -26.0568, 4506,     52.8,  24.2949,  37.3529,2,    208.7,2,   -999.0,9,     0.21,2,     0.00,2,     0.00,2,     0.00,2,  121.840,2,20181003,1339
  74JC20180923, AMT28,    17, 17,     15,2,20181003,1315, 25.0577, -26.0568, 4506,     41.7,  24.5799,  37.3608,2,    207.1,2,   -999.0,9,     0.20,2,     0.00,2,     0.00,2,     0.00,2,  178.420,2,20181003,1341
  74JC20180923, AMT28,    17, 17,     16,2,20181003,1315, 25.0577, -26.0568, 4506,     31.7,  25.0124,  37.3486,2,    204.2,2,   -999.0,9,     0.21,2,     0.00,2,     0.00,2,     0.00,2,  259.140,2,20181003,1342
  74JC20180923, AMT28,    17, 17,     17,2,20181003,1315, 25.0577, -26.0568, 4506,     31.5,  25.0348,  37.3496,2,    203.6,2,   -999.0,9,  -999.00,9,  -999.00,9,  -999.00,9,  -999.00,9,  253.970,2,20181003,1343
  74JC20180923, AMT28,    17, 17,     18,2,20181003,1315, 25.0577, -26.0568, 4506,     21.4,  25.1795,  37.3448,2,    203.1,2,   -999.0,9,     0.21,2,     0.00,2,     0.00,2,     0.00,2,  344.070,2,20181003,1345
  74JC20180923, AMT28,    17, 17,     19,2,20181003,1315, 25.0577, -26.0568, 4506,     21.6,  25.1900,  37.3454,2,    203.0,2,   -999.0,9,  -999.00,9,  -999.00,9,  -999.00,9,  -999.00,9,  329.100,2,20181003,1345
  74JC20180923, AMT28,    17, 17,     20,2,20181003,1315, 25.0577, -26.0568, 4506,     11.5,  25.2898,  37.3424,2,    202.7,2,   -999.0,9,     0.18,2,     0.00,2,     0.00,2,     0.00,2,  551.160,2,20181003,1347
  74JC20180923, AMT28,    17, 17,     21,2,20181003,1315, 25.0577, -26.0568, 4506,      6.6,  25.5304,  37.3400,2,    202.4,2,   -999.0,9,     0.17,2,     0.00,2,     0.00,2,     0.00,2,  525.440,2,20181003,1349
  74JC20180923, AMT28,    17, 17,     22,2,20181003,1315, 25.0577, -26.0568, 4506,      6.8,  25.6250,  37.3420,2,    202.3,2,   -999.0,9,  -999.00,9,  -999.00,9,  -999.00,9,  -999.00,9,  529.140,2,20181003,1349
  74JC20180923, AMT28,    17, 17,     23,2,20181003,1315, 25.0577, -26.0568, 4506,      6.6,  25.5566,  37.3403,2,    202.4,2,   -999.0,9,     0.30,2,     0.00,2,     0.00,2,     0.00,2,  524.410,2,20181003,1350
  74JC20180923, AMT28,    17, 17,     24,2,20181003,1315, 25.0577, -26.0568, 4506,      6.5,  25.5572,  37.3407,2,    202.3,2,   -999.0,9,  -999.00,9,  -999.00,9,  -999.00,9,  -999.00,9,  548.160,2,20181003,1350
  74JC20180923, AMT28,    18, 18,      1,2,20181004,0456, 22.5997, -27.2133, 5483,    202.9,  17.9467,  36.5931,2,    181.6,2,    184.5,2,     1.44,2,     5.17,2,     0.00,2,     0.29,2,    0.000,2,20181004,0456
  74JC20180923, AMT28,    18, 18,      2,2,20181004,0456, 22.5997, -27.2133, 5483,    202.9,  17.9448,  36.5925,2,    181.7,2,   -999.0,9,  -999.00,9,  -999.00,9,  -999.00,9,  -999.00,9,    0.000,2,20181004,0456
  74JC20180923, AMT28,    18, 18,      3,2,20181004,0456, 22.5997, -27.2133, 5483,    203.0,  17.9332,  36.5880,2,    182.0,2,   -999.0,9,  -999.00,9,  -999.00,9,  -999.00,9,  -999.00,9,    0.000,2,20181004,0457
  74JC20180923, AMT28,    18, 18,      4,2,20181004,0456, 22.5997, -27.2133, 5483,    152.5,  19.7225,  36.9944,2,    202.4,2,   -999.0,9,     0.53,2,     1.20,2,     0.00,2,     0.06,2,    0.000,2,20181004,0459
  74JC20180923, AMT28,    18, 18,      5,2,20181004,0456, 22.5997, -27.2133, 5483,    132.8,  20.0558,  37.0266,2,    199.2,2,    202.1,2,     0.61,2,     1.25,2,     0.04,2,     0.08,2,    0.000,2,20181004,0501
  74JC20180923, AMT28,    18, 18,      6,2,20181004,0456, 22.5997, -27.2133, 5483,    122.6,  20.1519,  37.0433,2,    198.7,2,   -999.0,9,     0.61,2,     1.39,2,     0.05,2,     0.09,2,    0.000,2,20181004,0503
  74JC20180923, AMT28,    18, 18,      7,2,20181004,0456, 22.5997, -27.2133, 5483,    105.4,  20.4884,  37.0943,2,    205.7,2,    206.4,2,     0.52,2,     0.33,2,     0.10,2,     0.04,2,    0.000,2,20181004,0505
  74JC20180923, AMT28,    18, 18,      8,2,20181004,0456, 22.5997, -27.2133, 5483,    105.7,  20.4799,  37.0937,2,    205.4,2,   -999.0,9,  -999.00,9,  -999.00,9,  -999.00,9,  -999.00,9,    0.000,2,20181004,0505
  74JC20180923, AMT28,    18, 18,      9,2,20181004,0456, 22.5997, -27.2133, 5483,     94.6,  20.6717,  37.1165,2,    211.5,2,   -999.0,9,     0.75,2,     0.92,2,     0.06,2,     0.07,2,    0.000,2,20181004,0507
  74JC20180923, AMT28,    18, 18,     10,2,20181004,0456, 22.5997, -27.2133, 5483,     94.5,  20.6740,  37.1167,2,    211.8,2,   -999.0,9,  -999.00,9,  -999.00,9,  -999.00,9,  -999.00,9,    0.000,2,20181004,0507
  74JC20180923, AMT28,    18, 18,     11,2,20181004,0456, 22.5997, -27.2133, 5483,     94.6,  20.6777,  37.1173,2,    212.2,2,   -999.0,9,  -999.00,9,  -999.00,9,  -999.00,9,  -999.00,9,    0.000,2,20181004,0508
  74JC20180923, AMT28,    18, 18,     12,2,20181004,0456, 22.5997, -27.2133, 5483,     94.7,  20.6769,  37.1171,2,    212.0,2,   -999.0,9,  -999.00,9,  -999.00,9,  -999.00,9,  -999.00,9,    0.000,2,20181004,0508
  74JC20180923, AMT28,    18, 18,     13,2,20181004,0456, 22.5997, -27.2133, 5483,     66.3,  21.8774,  37.1512,2,    219.2,2,    219.3,2,     0.32,2,     0.00,2,     0.00,2,     0.04,2,    0.000,2,20181004,0510
  74JC20180923, AMT28,    18, 18,     14,2,20181004,0456, 22.5997, -27.2133, 5483,     51.5,  23.4140,  37.1975,2,    217.5,2,   -999.0,9,     0.33,2,     0.00,2,     0.00,2,     0.00,2,    0.000,2,20181004,0512
  74JC20180923, AMT28,    18, 18,     15,2,20181004,0456, 22.5997, -27.2133, 5483,     42.3,  24.2999,  37.1327,2,    213.9,2,    216.3,2,     0.28,2,     0.00,2,     0.00,2,     0.00,2,    0.000,2,20181004,0514
  74JC20180923, AMT28,    18, 18,     16,2,20181004,0456, 22.5997, -27.2133, 5483,     42.2,  24.7384,  37.1120,2,    210.6,2,   -999.0,9,  -999.00,9,  -999.00,9,  -999.00,9,  -999.00,9,    0.000,2,20181004,0514
  74JC20180923, AMT28,    18, 18,     17,2,20181004,0456, 22.5997, -27.2133, 5483,     24.4,  25.8093,  37.2046,2,    200.1,2,    201.6,2,     0.29,2,     0.00,2,     0.00,2,     0.00,2,    0.007,2,20181004,0516
  74JC20180923, AMT28,    18, 18,     18,2,20181004,0456, 22.5997, -27.2133, 5483,     24.2,  25.8048,  37.2044,2,    200.2,2,   -999.0,9,  -999.00,9,  -999.00,9,  -999.00,9,  -999.00,9,    0.010,2,20181004,0517
  74JC20180923, AMT28,    18, 18,     19,2,20181004,0456, 22.5997, -27.2133, 5483,     21.3,  25.8036,  37.2034,2,    200.4,2,   -999.0,9,     0.31,2,     0.00,2,     0.00,2,     0.00,2,    0.025,2,20181004,0518
  74JC20180923, AMT28,    18, 18,     20,2,20181004,0456, 22.5997, -27.2133, 5483,     14.4,  25.8114,  37.2060,2,    200.2,2,   -999.0,9,     0.37,2,     0.00,2,     0.00,2,     0.00,2,    0.085,2,20181004,0520
  74JC20180923, AMT28,    18, 18,     21,2,20181004,0456, 22.5997, -27.2133, 5483,      6.3,  25.8053,  37.2059,2,    200.2,2,    201.2,2,     0.34,2,     0.00,2,     0.00,2,     0.00,2,    0.242,2,20181004,0522
  74JC20180923, AMT28,    18, 18,     22,2,20181004,0456, 22.5997, -27.2133, 5483,      6.3,  25.8020,  37.2063,2,    200.4,2,   -999.0,9,  -999.00,9,  -999.00,9,  -999.00,9,  -999.00,9,    0.288,2,20181004,0522
  74JC20180923, AMT28,    18, 18,     23,2,20181004,0456, 22.5997, -27.2133, 5483,      6.4,  25.8092,  37.2068,2,    200.3,2,   -999.0,9,  -999.00,9,  -999.00,9,  -999.00,9,  -999.00,9,    0.253,2,20181004,0523
  74JC20180923, AMT28,    18, 18,     24,2,20181004,0456, 22.5997, -27.2133, 5483,      6.4,  25.8113,  37.2071,2,    200.2,2,   -999.0,9,  -999.00,9,  -999.00,9,  -999.00,9,  -999.00,9,    0.232,2,20181004,0523