BOTTLE,20220930CCHSIOAMB
EXPOCODE,SECT_ID,STNNBR,CASTNO,BTLNBR,BTLNBR_FLAG_W,DATE,TIME,LATITUDE,LONGITUDE,DEPTH,CTDPRS,CTDTMP,CTDSAL,CTDSAL_FLAG_W,CTDOXY,CTDOXY_FLAG_W,OXYGEN,OXYGEN_FLAG_W,SILCAT,SILCAT_FLAG_W,NITRAT,NITRAT_FLAG_W,NITRIT,NITRIT_FLAG_W,PHSPHT,PHSPHT_FLAG_W,CTDPAR,CTDPAR_FLAG_W,BTL_DATE,BTL_TIME
,,,,,,,,,,METERS,DBAR,ITS-90,PSS-78,,UMOL/KG,,UMOL/KG,,UMOL/KG,,UMOL/KG,,UMOL/KG,,UMOL/KG,,VOLTS,,,
  74JC20180923, AMT28,     4,  4,      1,2,20180927,0353, 46.0291, -12.7325, 4721,    202.3,  11.7947,  35.5660,2,    235.9,2,    241.0,2,  -999.00,9,  -999.00,9,  -999.00,9,  -999.00,9,    0.000,2,20180927,0353
  74JC20180923, AMT28,     4,  4,      2,2,20180927,0353, 46.0291, -12.7325, 4721,    202.8,  11.7961,  35.5660,2,    236.0,2,   -999.0,9,     2.96,2,     8.88,2,     0.00,2,     0.60,2,    0.000,2,20180927,0354
  74JC20180923, AMT28,     4,  4,      3,2,20180927,0353, 46.0291, -12.7325, 4721,    152.7,  11.9862,  35.5846,2,    236.2,2,   -999.0,9,  -999.00,9,  -999.00,9,  -999.00,9,  -999.00,9,    0.000,2,20180927,0356
  74JC20180923, AMT28,     4,  4,      4,3,20180927,0353, 46.0291, -12.7325, 4721,     71.3,  12.8988,  35.5862,2,    238.6,2,    242.2,2,     2.68,2,     8.12,2,     0.00,2,     0.54,2,    0.000,2,20180927,0358
  74JC20180923, AMT28,     4,  4,      5,3,20180927,0353, 46.0291, -12.7325, 4721,     71.8,  12.9136,  35.5867,2,    239.1,2,   -999.0,9,     2.49,2,     7.68,2,     0.00,2,     0.52,2,    0.000,2,20180927,0359
  74JC20180923, AMT28,     4,  4,      7,2,20180927,0353, 46.0291, -12.7325, 4721,     71.7,  12.9164,  35.5869,2,    239.1,2,   -999.0,9,     1.10,2,     5.47,2,     0.12,2,     0.43,2,    0.000,2,20180927,0359
  74JC20180923, AMT28,     4,  4,      6,2,20180927,0353, 46.0291, -12.7325, 4721,     62.6,  13.6761,  35.6008,2,    246.2,2,    249.7,2,     2.13,2,     7.35,2,     0.00,2,     0.50,2,    0.000,2,20180927,0400
  74JC20180923, AMT28,     4,  4,      8,2,20180927,0353, 46.0291, -12.7325, 4721,     62.2,  13.6845,  35.6018,2,    246.5,2,   -999.0,9,     0.47,2,     1.91,2,     0.25,2,     0.24,2,    0.000,2,20180927,0401
  74JC20180923, AMT28,     4,  4,      9,2,20180927,0353, 46.0291, -12.7325, 4721,     62.0,  13.6862,  35.6014,2,    246.5,2,   -999.0,9,     1.94,4,     6.57,4,     0.09,4,     0.47,4,    0.000,2,20180927,0401
  74JC20180923, AMT28,     4,  4,     10,2,20180927,0353, 46.0291, -12.7325, 4721,     62.1,  13.6776,  35.6017,2,    246.4,2,   -999.0,9,     0.33,2,     0.97,2,     0.19,2,     0.17,2,    0.000,2,20180927,0402
  74JC20180923, AMT28,     4,  4,     11,2,20180927,0353, 46.0291, -12.7325, 4721,     62.4,  13.6807,  35.6016,2,    246.4,2,   -999.0,9,     0.19,2,     0.24,2,     0.07,2,     0.09,2,    0.000,2,20180927,0402
  74JC20180923, AMT28,     4,  4,     12,2,20180927,0353, 46.0291, -12.7325, 4721,     52.2,  14.6858,  35.5895,2,    245.3,2,   -999.0,9,     0.17,2,     0.14,2,     0.04,2,     0.08,2,    0.000,2,20180927,0403
  74JC20180923, AMT28,     4,  4,     13,2,20180927,0353, 46.0291, -12.7325, 4721,     27.9,  18.6873,  35.6956,2,    227.9,2,    232.2,2,     0.17,2,     0.12,2,     0.04,2,     0.08,2,    0.001,2,20180927,0405
  74JC20180923, AMT28,     4,  4,     14,2,20180927,0353, 46.0291, -12.7325, 4721,     28.0,  18.6891,  35.6976,2,    227.7,2,   -999.0,9,     0.11,2,     0.00,2,     0.00,2,     0.05,2,    0.000,2,20180927,0405
  74JC20180923, AMT28,     4,  4,     15,2,20180927,0353, 46.0291, -12.7325, 4721,     21.8,  18.6946,  35.6983,2,    227.2,2,   -999.0,9,     0.04,2,     0.00,2,     0.00,2,     0.05,2,    0.026,2,20180927,0407
  74JC20180923, AMT28,     4,  4,     16,2,20180927,0353, 46.0291, -12.7325, 4721,     22.0,  18.6950,  35.6983,2,    227.7,2,   -999.0,9,     0.11,2,     0.00,2,     0.00,2,     0.04,2,    0.027,2,20180927,0407
  74JC20180923, AMT28,     4,  4,     17,2,20180927,0353, 46.0291, -12.7325, 4721,     15.9,  18.6945,  35.6984,2,    227.9,2,    232.2,2,     0.11,2,     0.00,2,     0.00,2,     0.00,2,    0.078,2,20180927,0408
  74JC20180923, AMT28,     4,  4,     18,2,20180927,0353, 46.0291, -12.7325, 4721,     16.0,  18.6931,  35.6985,2,    227.4,2,   -999.0,9,  -999.00,9,  -999.00,9,  -999.00,9,  -999.00,9,    0.071,2,20180927,0409
  74JC20180923, AMT28,     4,  4,     19,2,20180927,0353, 46.0291, -12.7325, 4721,     12.1,  18.6943,  35.6987,2,    227.6,2,   -999.0,9,  -999.00,9,  -999.00,9,  -999.00,9,  -999.00,9,    0.144,2,20180927,0410
  74JC20180923, AMT28,     4,  4,     20,2,20180927,0353, 46.0291, -12.7325, 4721,      6.9,  18.6932,  35.6989,2,    227.5,2,    231.6,2,     0.00,2,     0.00,2,     0.00,2,     0.05,2,    0.230,2,20180927,0411
  74JC20180923, AMT28,     4,  4,     21,2,20180927,0353, 46.0291, -12.7325, 4721,      6.7,  18.6939,  35.6989,2,    227.9,2,   -999.0,9,     0.00,2,     0.00,2,     0.00,2,     0.04,2,    0.269,2,20180927,0412
  74JC20180923, AMT28,     4,  4,     22,2,20180927,0353, 46.0291, -12.7325, 4721,      6.8,  18.6943,  35.6989,2,    228.0,2,   -999.0,9,     0.00,2,     0.00,2,     0.00,2,     0.06,2,    0.228,2,20180927,0412
  74JC20180923, AMT28,     4,  4,     23,2,20180927,0353, 46.0291, -12.7325, 4721,      7.0,  18.6939,  35.6989,2,    227.5,2,   -999.0,9,     0.11,2,     0.00,2,     0.00,2,     0.04,2,    0.212,2,20180927,0413
  74JC20180923, AMT28,     4,  4,     24,2,20180927,0353, 46.0291, -12.7325, 4721,      6.9,  18.6921,  35.6990,2,    227.8,2,   -999.0,9,     0.06,2,     0.00,2,     0.00,2,     0.04,2,    0.210,2,20180927,0413
  74JC20180923, AMT28,     5,  5,      1,2,20180927,1219, 44.9786, -13.5894, 3674,    505.7,  10.9955,  35.4779,2,    223.1,2,   -999.0,9,     2.53,2,     8.25,2,     0.04,2,     0.55,2,    0.000,2,20180927,1219
  74JC20180923, AMT28,     5,  5,      2,2,20180927,1219, 44.9786, -13.5894, 3674,    304.5,  11.7099,  35.5520,2,    232.5,2,   -999.0,9,  -999.00,9,  -999.00,9,  -999.00,9,  -999.00,9,    0.000,2,20180927,1225
  74JC20180923, AMT28,     5,  5,      3,3,20180927,1219, 44.9786, -13.5894, 3674,    204.3,  12.0120,  35.5871,2,    235.0,2,   -999.0,9,     2.31,2,     7.86,2,     0.00,2,     0.52,2,    0.000,2,20180927,1228
  74JC20180923, AMT28,     5,  5,      4,3,20180927,1219, 44.9786, -13.5894, 3674,    154.7,  12.2507,  35.6091,2,    235.0,2,   -999.0,9,     0.97,2,     4.75,2,     0.21,2,     0.37,2,    0.066,2,20180927,1230
  74JC20180923, AMT28,     5,  5,      5,2,20180927,1219, 44.9786, -13.5894, 3674,    129.0,  12.4550,  35.6354,2,    234.4,2,   -999.0,9,  -999.00,9,  -999.00,9,  -999.00,9,  -999.00,9,    0.194,2,20180927,1232
  74JC20180923, AMT28,     5,  5,      6,2,20180927,1219, 44.9786, -13.5894, 3674,    104.4,  12.6811,  35.6553,2,    233.1,2,   -999.0,9,     0.63,2,     2.96,2,     0.25,2,     0.27,2,    0.532,2,20180927,1234
  74JC20180923, AMT28,     5,  5,      7,2,20180927,1219, 44.9786, -13.5894, 3674,     78.9,  13.3580,  35.6564,2,    234.8,2,   -999.0,9,  -999.00,9,  -999.00,9,  -999.00,9,  -999.00,9,    1.856,2,20180927,1236
  74JC20180923, AMT28,     5,  5,      8,2,20180927,1219, 44.9786, -13.5894, 3674,     53.4,  14.9889,  35.6540,2,    241.4,2,   -999.0,9,  -999.00,9,  -999.00,9,  -999.00,9,  -999.00,9,   11.564,2,20180927,1238
  74JC20180923, AMT28,     5,  5,      9,2,20180927,1219, 44.9786, -13.5894, 3674,     53.9,  14.9783,  35.6535,2,    241.6,2,   -999.0,9,  -999.00,9,  -999.00,9,  -999.00,9,  -999.00,9,   12.241,2,20180927,1239
  74JC20180923, AMT28,     5,  5,     10,2,20180927,1219, 44.9786, -13.5894, 3674,     47.8,  16.6380,  35.6630,2,    237.0,2,   -999.0,9,  -999.00,9,  -999.00,9,  -999.00,9,  -999.00,9,   15.874,2,20180927,1240
  74JC20180923, AMT28,     5,  5,     11,2,20180927,1219, 44.9786, -13.5894, 3674,     43.2,  17.9371,  35.7031,2,    231.3,2,   -999.0,9,  -999.00,9,  -999.00,9,  -999.00,9,  -999.00,9,   21.606,2,20180927,1242
  74JC20180923, AMT28,     5,  5,     12,2,20180927,1219, 44.9786, -13.5894, 3674,     43.6,  18.1210,  35.7107,2,    231.4,2,   -999.0,9,     0.53,2,     1.73,2,     0.18,2,     0.22,2,   20.810,2,20180927,1242
  74JC20180923, AMT28,     5,  5,     13,2,20180927,1219, 44.9786, -13.5894, 3674,     43.5,  18.0473,  35.7078,2,    232.1,2,   -999.0,9,     0.18,2,     0.05,2,     0.00,2,     0.06,2,   20.162,2,20180927,1243
  74JC20180923, AMT28,     5,  5,     14,2,20180927,1219, 44.9786, -13.5894, 3674,     38.1,  19.1005,  35.7562,2,    226.8,2,   -999.0,9,  -999.00,9,  -999.00,9,  -999.00,9,  -999.00,9,   26.159,2,20180927,1244
  74JC20180923, AMT28,     5,  5,     15,2,20180927,1219, 44.9786, -13.5894, 3674,     32.3,  19.1168,  35.7593,2,    226.0,2,   -999.0,9,  -999.00,9,  -999.00,9,  -999.00,9,  -999.00,9,   34.828,2,20180927,1246
  74JC20180923, AMT28,     5,  5,     16,2,20180927,1219, 44.9786, -13.5894, 3674,     27.5,  19.1301,  35.7606,2,    226.5,2,   -999.0,9,  -999.00,9,  -999.00,9,  -999.00,9,  -999.00,9,   48.558,2,20180927,1247
  74JC20180923, AMT28,     5,  5,     17,2,20180927,1219, 44.9786, -13.5894, 3674,     22.8,  19.1506,  35.7614,2,    226.1,2,   -999.0,9,     0.19,2,     0.00,2,     0.00,2,     0.04,2,   62.992,2,20180927,1249
  74JC20180923, AMT28,     5,  5,     18,2,20180927,1219, 44.9786, -13.5894, 3674,     22.5,  19.1477,  35.7615,2,    226.7,2,   -999.0,9,  -999.00,9,  -999.00,9,  -999.00,9,  -999.00,9,   64.986,2,20180927,1249
  74JC20180923, AMT28,     5,  5,     19,3,20180927,1219, 44.9786, -13.5894, 3674,     17.3,  19.1533,  35.7619,2,    226.4,2,   -999.0,9,     0.16,2,     0.00,2,     0.00,2,     0.04,2,   93.260,2,20180927,1250
  74JC20180923, AMT28,     5,  5,     20,2,20180927,1219, 44.9786, -13.5894, 3674,     12.2,  19.1632,  35.7622,2,    226.5,2,   -999.0,9,  -999.00,9,  -999.00,9,  -999.00,9,  -999.00,9,  138.730,2,20180927,1252
  74JC20180923, AMT28,     5,  5,     21,2,20180927,1219, 44.9786, -13.5894, 3674,      7.5,  19.1729,  35.7624,2,    226.8,2,   -999.0,9,     0.18,2,     0.05,2,     0.00,2,     0.04,2,  184.080,2,20180927,1254
  74JC20180923, AMT28,     5,  5,     22,2,20180927,1219, 44.9786, -13.5894, 3674,      7.5,  19.1742,  35.7624,2,    226.6,2,   -999.0,9,     0.13,2,     0.04,2,     0.00,2,     0.05,2,  194.720,2,20180927,1254
  74JC20180923, AMT28,     5,  5,     23,2,20180927,1219, 44.9786, -13.5894, 3674,      7.6,  19.1728,  35.7625,2,    226.3,2,   -999.0,9,  -999.00,9,  -999.00,9,  -999.00,9,  -999.00,9,  200.290,2,20180927,1255
  74JC20180923, AMT28,     5,  5,     24,2,20180927,1219, 44.9786, -13.5894, 3674,      7.2,  19.1732,  35.7625,2,    226.5,2,   -999.0,9,  -999.00,9,  -999.00,9,  -999.00,9,  -999.00,9,  210.830,2,20180927,1255
  74JC20180923, AMT28,     6,  6,      1,2,20180928,0348, 42.9670, -15.2131, 5101,    506.5,  11.1215,  35.4745,2,    245.1,2,   -999.0,9,     3.47,2,     9.31,2,     0.00,2,     0.62,2,    0.000,2,20180928,0348
  74JC20180923, AMT28,     6,  6,      2,2,20180928,0348, 42.9670, -15.2131, 5101,    204.8,  11.8638,  35.5681,2,    238.4,2,    243.4,2,     2.98,2,     8.45,2,     0.00,2,     0.56,2,    0.000,2,20180928,0354
  74JC20180923, AMT28,     6,  6,      3,2,20180928,0348, 42.9670, -15.2131, 5101,    205.5,  11.8682,  35.5686,2,    238.2,2,   -999.0,9,  -999.00,9,  -999.00,9,  -999.00,9,  -999.00,9,    0.000,2,20180928,0355
  74JC20180923, AMT28,     6,  6,      4,2,20180928,0348, 42.9670, -15.2131, 5101,    153.5,  12.0379,  35.5856,2,    238.1,2,   -999.0,9,     2.92,2,     8.30,2,     0.00,2,     0.54,2,    0.000,2,20180928,0357
  74JC20180923, AMT28,     6,  6,      5,2,20180928,0348, 42.9670, -15.2131, 5101,     62.1,  13.8969,  35.6449,2,    242.6,2,    247.5,2,     1.43,2,     4.09,2,     0.18,2,     0.33,2,    0.000,2,20180928,0400
  74JC20180923, AMT28,     6,  6,      6,2,20180928,0348, 42.9670, -15.2131, 5101,     62.0,  13.9394,  35.6508,2,    243.6,2,   -999.0,9,  -999.00,9,  -999.00,9,  -999.00,9,  -999.00,9,    0.000,2,20180928,0401
  74JC20180923, AMT28,     6,  6,      7,2,20180928,0348, 42.9670, -15.2131, 5101,     62.2,  14.2894,  35.6562,2,    243.0,2,   -999.0,9,  -999.00,9,  -999.00,9,  -999.00,9,  -999.00,9,    0.000,2,20180928,0401
  74JC20180923, AMT28,     6,  6,      8,2,20180928,0348, 42.9670, -15.2131, 5101,     54.2,  17.1941,  35.6976,2,    242.6,2,    247.8,2,     0.51,4,     0.27,4,     0.00,4,     0.09,4,    0.000,2,20180928,0403
  74JC20180923, AMT28,     6,  6,      9,2,20180928,0348, 42.9670, -15.2131, 5101,     53.9,  17.6296,  35.7025,2,    239.9,2,   -999.0,9,  -999.00,9,  -999.00,9,  -999.00,9,  -999.00,9,    0.000,2,20180928,0403
  74JC20180923, AMT28,     6,  6,     10,2,20180928,0348, 42.9670, -15.2131, 5101,     54.2,  17.7538,  35.7102,2,    238.5,2,   -999.0,9,  -999.00,9,  -999.00,9,  -999.00,9,  -999.00,9,    0.000,2,20180928,0404
  74JC20180923, AMT28,     6,  6,     11,2,20180928,0348, 42.9670, -15.2131, 5101,     54.1,  17.7843,  35.7023,2,    238.8,2,   -999.0,9,  -999.00,9,  -999.00,9,  -999.00,9,  -999.00,9,    0.000,2,20180928,0404
  74JC20180923, AMT28,     6,  6,     12,2,20180928,0348, 42.9670, -15.2131, 5101,     53.9,  17.7117,  35.7101,2,    240.8,2,   -999.0,9,     0.77,4,     1.59,4,     0.10,4,     0.16,4,    0.000,2,20180928,0405
  74JC20180923, AMT28,     6,  6,     13,2,20180928,0348, 42.9670, -15.2131, 5101,     52.1,  17.9940,  35.7101,2,    238.3,2,   -999.0,9,     0.39,2,     0.00,2,     0.00,2,     0.06,2,    0.000,2,20180928,0406
  74JC20180923, AMT28,     6,  6,     14,2,20180928,0348, 42.9670, -15.2131, 5101,     41.9,  19.6687,  35.7508,2,    225.4,2,   -999.0,9,     0.35,2,     0.00,2,     0.00,2,     0.00,2,    0.000,2,20180928,0408
  74JC20180923, AMT28,     6,  6,     15,2,20180928,0348, 42.9670, -15.2131, 5101,     25.0,  19.6887,  35.7541,2,    225.0,2,    229.6,2,     0.31,2,     0.00,2,     0.00,2,     0.04,2,    0.001,2,20180928,0410
  74JC20180923, AMT28,     6,  6,     16,2,20180928,0348, 42.9670, -15.2131, 5101,     24.9,  19.6881,  35.7543,2,    224.9,2,   -999.0,9,  -999.00,9,  -999.00,9,  -999.00,9,  -999.00,9,    0.001,2,20180928,0410
  74JC20180923, AMT28,     6,  6,     17,2,20180928,0348, 42.9670, -15.2131, 5101,     21.8,  19.6908,  35.7550,2,    224.9,2,   -999.0,9,     0.30,2,     0.00,2,     0.00,2,     0.04,2,    0.017,2,20180928,0412
  74JC20180923, AMT28,     6,  6,     18,2,20180928,0348, 42.9670, -15.2131, 5101,     13.6,  19.6926,  35.7550,2,    225.0,2,    229.5,2,     0.33,2,     0.00,2,     0.00,2,     0.00,2,    0.109,2,20180928,0413
  74JC20180923, AMT28,     6,  6,     19,2,20180928,0348, 42.9670, -15.2131, 5101,     14.2,  19.6909,  35.7551,2,    224.9,2,   -999.0,9,  -999.00,9,  -999.00,9,  -999.00,9,  -999.00,9,    0.096,2,20180928,0414
  74JC20180923, AMT28,     6,  6,     20,2,20180928,0348, 42.9670, -15.2131, 5101,      9.1,  19.6893,  35.7551,2,    225.1,2,   -999.0,9,     0.35,2,     0.00,2,     0.00,2,     0.04,2,    0.258,2,20180928,0415
  74JC20180923, AMT28,     6,  6,     21,2,20180928,0348, 42.9670, -15.2131, 5101,      7.0,  19.6868,  35.7552,2,    225.1,2,    229.0,2,     0.29,2,     0.00,2,     0.00,2,     0.11,2,    0.332,2,20180928,0416
  74JC20180923, AMT28,     6,  6,     22,2,20180928,0348, 42.9670, -15.2131, 5101,      7.0,  19.6852,  35.7554,2,    225.0,2,   -999.0,9,  -999.00,9,  -999.00,9,  -999.00,9,  -999.00,9,    0.360,2,20180928,0417
  74JC20180923, AMT28,     6,  6,     23,2,20180928,0348, 42.9670, -15.2131, 5101,      6.9,  19.6844,  35.7555,2,    225.0,2,   -999.0,9,  -999.00,9,  -999.00,9,  -999.00,9,  -999.00,9,    0.357,2,20180928,0417
  74JC20180923, AMT28,     6,  6,     24,2,20180928,0348, 42.9670, -15.2131, 5101,      7.0,  19.6851,  35.7553,2,    224.8,2,   -999.0,9,  -999.00,9,  -999.00,9,  -999.00,9,  -999.00,9,    0.315,2,20180928,0418