BOTTLE,20220921CCHSIOAMB
EXPOCODE,SECT_ID,STNNBR,CASTNO,SAMPNO,BTLNBR,BTLNBR_FLAG_W,DATE,TIME,LATITUDE,LONGITUDE,DEPTH,CTDPRS,CTDTMP,CTDSAL,CTDSAL_FLAG_W,CTDOXY,CTDOXY_FLAG_W,OXYGEN,OXYGEN_FLAG_W,SILCAT,SILCAT_FLAG_W,NITRAT,NITRAT_FLAG_W,NITRIT,NITRIT_FLAG_W,PHSPHT,PHSPHT_FLAG_W,TCARBN,TCARBN_FLAG_W,ALKALI,ALKALI_FLAG_W,DELO18,DELO18_FLAG_W,THETA
,,,,,,,,,,,METERS,DBAR,ITS-90,PSS-78,,UMOL/KG,,UMOL/KG,,UMOL/KG,,UMOL/KG,,UMOL/KG,,UMOL/KG,,UMOL/KG,,UMOL/KG,,/MILLE,,DEG C
  06AQ20070728,EurArc,   335,  1,      1,      1,2,20070905,0351, 86.3640,-139.3600, 2424,   2458.6,  -0.3733,  34.9530,2,   -999.0,9,    286.2,2,    12.84,2,    14.38,2,     0.02,2,     1.04,2,   -999.0,9,   -999.0,9,  -999.00,9,  -0.5069
  06AQ20070728,EurArc,   335,  1,      2,      2,2,20070905,0351, 86.3640,-139.3600, 2424,   2031.2,  -0.3998,  34.9460,2,   -999.0,9,    289.2,2,    12.04,2,    14.15,2,     0.02,2,     1.02,2,   -999.0,9,   -999.0,9,  -999.00,9,  -0.5023
  06AQ20070728,EurArc,   335,  1,      3,      3,2,20070905,0351, 86.3640,-139.3600, 2424,   2031.2,  -0.3999,  34.9460,2,   -999.0,9,    289.2,2,    12.06,2,    14.16,2,     0.02,2,     1.02,2,   -999.0,9,   -999.0,9,  -999.00,9,  -0.5024
  06AQ20070728,EurArc,   335,  1,      4,      4,2,20070905,0351, 86.3640,-139.3600, 2424,   1521.8,  -0.3702,  34.9230,2,   -999.0,9,    297.2,2,     9.34,2,    13.41,2,     0.02,2,     0.97,2,   -999.0,9,   -999.0,9,  -999.00,9,  -0.4406
  06AQ20070728,EurArc,   335,  1,      5,      5,2,20070905,0351, 86.3640,-139.3600, 2424,   1521.8,  -0.3703,  34.9230,2,   -999.0,9,    297.2,2,     9.28,2,    13.45,2,     0.02,2,     0.96,2,   -999.0,9,   -999.0,9,  -999.00,9,  -0.4407
  06AQ20070728,EurArc,   335,  1,      6,      6,2,20070905,0351, 86.3640,-139.3600, 2424,   1267.2,  -0.2662,  34.9080,2,   -999.0,9,    299.8,2,     8.22,2,    12.98,2,     0.02,2,     0.94,2,   -999.0,9,   -999.0,9,  -999.00,9,  -0.3230
  06AQ20070728,EurArc,   335,  1,      7,      7,2,20070905,0351, 86.3640,-139.3600, 2424,   1013.0,  -0.0852,  34.8920,2,   -999.0,9,    299.2,2,     7.46,2,    12.62,2,     0.02,2,     0.91,2,   -999.0,9,   -999.0,9,  -999.00,9,  -0.1298
  06AQ20070728,EurArc,   335,  1,      8,      8,2,20070905,0351, 86.3640,-139.3600, 2424,    759.1,   0.1505,  34.8730,2,   -999.0,9,    299.5,2,     6.90,2,    12.44,2,     0.02,2,     0.88,2,   -999.0,9,   -999.0,9,  -999.00,9,   0.1173
  06AQ20070728,EurArc,   335,  1,      9,      9,2,20070905,0351, 86.3640,-139.3600, 2424,    505.8,   0.5554,  34.8590,2,   -999.0,9,    298.6,2,     6.46,2,    12.26,2,     0.02,2,     0.86,2,   -999.0,9,   -999.0,9,  -999.00,9,   0.5328
  06AQ20070728,EurArc,   335,  1,     10,     10,2,20070905,0351, 86.3640,-139.3600, 2424,    303.5,   0.8273,  34.8290,2,   -999.0,9,    298.5,2,     5.78,2,    11.84,2,     0.02,2,     0.83,2,   -999.0,9,   -999.0,9,  -999.00,9,   0.8136
  06AQ20070728,EurArc,   335,  1,     11,     11,2,20070905,0351, 86.3640,-139.3600, 2424,    202.5,   0.0039,  34.5600,2,   -999.0,9,    298.2,2,     6.33,2,    10.77,2,     0.02,2,     0.79,2,   -999.0,9,   -999.0,9,  -999.00,9,  -0.0036
  06AQ20070728,EurArc,   335,  1,     12,     12,2,20070905,0351, 86.3640,-139.3600, 2424,    151.3,  -0.6796,  34.3270,2,    288.5,2,    302.5,2,     6.41,2,     9.70,2,     0.02,2,     0.75,2,   -999.0,9,   -999.0,9,    -0.12,2,  -0.6842
  06AQ20070728,EurArc,   335,  1,     13,     13,2,20070905,0351, 86.3640,-139.3600, 2424,    126.0,  -1.1323,  34.1650,2,    291.3,2,    306.4,2,     6.40,2,     9.21,2,     0.02,2,     0.74,2,   -999.0,9,   -999.0,9,    -0.23,2,  -1.1355
  06AQ20070728,EurArc,   335,  1,     14,     14,2,20070905,0351, 86.3640,-139.3600, 2424,     98.9,  -1.5823,  33.6560,2,    290.8,2,    303.1,2,     9.26,2,     8.63,2,     0.02,2,     0.79,2,   -999.0,9,   -999.0,9,    -0.81,2,  -1.5843
  06AQ20070728,EurArc,   335,  1,     15,     15,2,20070905,0351, 86.3640,-139.3600, 2424,     76.0,  -1.5565,  32.6300,2,   -999.0,9,    312.4,2,    17.59,2,     9.12,2,     0.03,2,     1.11,2,   -999.0,9,   -999.0,9,  -999.00,9,  -1.5579
  06AQ20070728,EurArc,   335,  1,     16,     16,2,20070905,0351, 86.3640,-139.3600, 2424,     76.0,  -1.5567,  32.6050,2,   -999.0,9,    312.4,2,    17.62,2,     9.14,2,     0.03,2,     1.11,2,   -999.0,9,   -999.0,9,  -999.00,9,  -1.5581
  06AQ20070728,EurArc,   335,  1,     17,     17,2,20070905,0351, 86.3640,-139.3600, 2424,     76.0,  -1.5558,  32.6250,2,    284.1,2,    312.4,2,    18.67,2,     8.94,2,     0.03,2,     1.16,2,   -999.0,9,   -999.0,9,    -1.63,2,  -1.5572
  06AQ20070728,EurArc,   335,  1,     18,     18,2,20070905,0351, 86.3640,-139.3600, 2424,     60.5,  -1.5797,  31.8050,2,    305.1,2,    360.4,2,    15.56,2,     7.02,2,     0.03,2,     1.12,2,   -999.0,9,   -999.0,9,  -999.00,9,  -1.5807
  06AQ20070728,EurArc,   335,  1,     19,     19,2,20070905,0351, 86.3640,-139.3600, 2424,     49.9,  -1.5824,  30.0160,2,    363.0,2,    390.8,2,    15.64,2,     7.02,2,     0.03,2,     1.12,2,   -999.0,9,   -999.0,9,    -3.02,2,  -1.5830
  06AQ20070728,EurArc,   335,  1,     20,     20,2,20070905,0351, 86.3640,-139.3600, 2424,     40.3,  -1.5212,  29.7000,2,    378.5,2,    396.2,2,     6.56,2,     0.03,2,     0.01,2,     0.81,2,   -999.0,9,   -999.0,9,  -999.00,9,  -1.5217
  06AQ20070728,EurArc,   335,  1,     21,     21,2,20070905,0351, 86.3640,-139.3600, 2424,     29.8,  -1.4420,  29.4690,2,    383.7,2,    395.9,2,     6.73,2,     0.07,2,     0.03,2,     0.84,2,   -999.0,9,   -999.0,9,  -999.00,9,  -1.4424
  06AQ20070728,EurArc,   335,  1,     23,     23,2,20070905,0351, 86.3640,-139.3600, 2424,     26.0,  -1.4320,  29.2140,2,    384.3,2,    395.8,2,     6.55,2,     0.02,2,     0.01,2,     0.81,2,   -999.0,9,   -999.0,9,    -3.52,2,  -1.4323
  06AQ20070728,EurArc,   335,  1,     22,     22,2,20070905,0351, 86.3640,-139.3600, 2424,     26.0,  -1.4329,  29.2210,2,   -999.0,9,    395.8,2,     6.52,2,     0.03,2,     0.01,2,     0.80,2,   -999.0,9,   -999.0,9,  -999.00,9,  -1.4332
  06AQ20070728,EurArc,   335,  1,     24,     24,2,20070905,0351, 86.3640,-139.3600, 2424,     10.2,  -1.5322,  28.4750,2,    385.1,2,    395.8,2,     6.35,2,     0.03,2,     0.00,2,     0.72,2,   -999.0,9,   -999.0,9,    -3.74,2,  -1.5323
  06AQ20070728,EurArc,   338,  2,      1,      1,2,20070906,1840, 85.7040,-135.0400, 1520,   1497.1,  -0.3477,  34.9310,2,   -999.0,9,    292.7,2,    10.39,2,    14.24,2,     0.02,2,     1.00,2,   2153.3,2,   2296.9,2,  -999.00,9,  -0.4169
  06AQ20070728,EurArc,   338,  2,      2,      2,2,20070906,1840, 85.7040,-135.0400, 1520,   1420.4,  -0.3259,  34.9260,2,   -999.0,9,    294.7,2,     9.72,2,    13.69,2,     0.02,2,     0.98,2,   -999.0,9,   -999.0,9,  -999.00,9,  -0.3909
  06AQ20070728,EurArc,   338,  2,      3,      3,2,20070906,1840, 85.7040,-135.0400, 1520,   1319.0,  -0.2860,  34.9200,2,   -999.0,9,    295.4,2,     9.15,2,    13.66,2,     0.02,2,     0.96,2,   -999.0,9,   -999.0,9,  -999.00,9,  -0.3456
  06AQ20070728,EurArc,   338,  2,      4,      4,2,20070906,1840, 85.7040,-135.0400, 1520,   1267.7,  -0.2692,  34.9170,2,   -999.0,9,    296.2,2,     8.89,2,    13.52,2,     0.02,2,     0.96,2,   2151.8,2,   2294.8,2,  -999.00,9,  -0.3260
  06AQ20070728,EurArc,   338,  2,      5,      5,2,20070906,1840, 85.7040,-135.0400, 1520,   1217.0,  -0.2493,  34.9140,2,   -999.0,9,    296.6,2,     8.63,2,    13.31,2,     0.02,2,     0.95,2,   -999.0,9,   -999.0,9,  -999.00,9,  -0.3035
  06AQ20070728,EurArc,   338,  2,      6,      6,2,20070906,1840, 85.7040,-135.0400, 1520,   1115.1,  -0.1944,  34.9060,2,   -999.0,9,    297.4,2,     8.08,2,    13.19,2,     0.02,2,     0.94,2,   -999.0,9,   -999.0,9,  -999.00,9,  -0.2436
  06AQ20070728,EurArc,   338,  2,      7,      7,2,20070906,1840, 85.7040,-135.0400, 1520,   1115.1,  -0.1941,  34.9060,2,   -999.0,9,    297.4,2,     8.07,2,    13.21,2,     0.02,2,     0.94,2,   -999.0,9,   -999.0,9,  -999.00,9,  -0.2433
  06AQ20070728,EurArc,   338,  2,      8,      8,2,20070906,1840, 85.7040,-135.0400, 1520,    758.7,   0.0843,  34.8820,2,   -999.0,9,    296.2,2,     7.22,2,    12.87,2,     0.02,2,     0.91,2,   -999.0,9,   -999.0,9,  -999.00,9,   0.0516
  06AQ20070728,EurArc,   338,  2,      9,      9,2,20070906,1840, 85.7040,-135.0400, 1520,    506.8,   0.4345,  34.8660,2,   -999.0,9,    290.7,2,     7.28,2,    12.99,2,     0.02,2,     0.90,2,   2153.1,2,   2290.4,2,  -999.00,9,   0.4123
  06AQ20070728,EurArc,   338,  2,     10,     10,2,20070906,1840, 85.7040,-135.0400, 1520,    303.3,   0.6244,  34.8270,2,   -999.0,9,    286.2,2,     7.22,2,    12.81,2,     0.02,2,     0.89,2,   -999.0,9,   -999.0,9,  -999.00,9,   0.6112
  06AQ20070728,EurArc,   338,  2,     11,     11,2,20070906,1840, 85.7040,-135.0400, 1520,    202.3,  -0.1259,  34.5180,2,   -999.0,9,    293.0,2,     8.10,2,    11.52,2,     0.02,2,     0.85,2,   2161.8,2,   2279.6,2,  -999.00,9,  -0.1331
  06AQ20070728,EurArc,   338,  2,     12,     12,2,20070906,1840, 85.7040,-135.0400, 1520,    152.0,  -0.9460,  34.2270,2,   -999.0,9,    299.4,2,     6.29,2,     9.58,2,     0.02,2,     0.75,2,   -999.0,9,   -999.0,9,    -0.22,2,  -0.9502
  06AQ20070728,EurArc,   338,  2,     15,     15,2,20070906,1840, 85.7040,-135.0400, 1520,    101.8,  -1.4984,  33.2900,2,   -999.0,9,    288.2,2,    17.39,2,    10.54,2,     0.02,2,     1.11,2,   -999.0,9,   -999.0,9,  -999.00,9,  -1.5005
  06AQ20070728,EurArc,   338,  2,     16,     16,2,20070906,1840, 85.7040,-135.0400, 1520,    101.8,  -1.4981,  33.2750,2,   -999.0,9,    288.2,2,    16.36,2,    10.50,2,     0.02,2,     1.08,2,   -999.0,9,   -999.0,9,    -0.96,2,  -1.5002
  06AQ20070728,EurArc,   338,  2,     17,     17,2,20070906,1840, 85.7040,-135.0400, 1520,    101.8,  -1.4978,  33.2710,2,   -999.0,9,    288.2,2,    16.62,2,    10.39,2,     0.02,2,     1.09,2,   -999.0,9,   -999.0,9,  -999.00,9,  -1.4999
  06AQ20070728,EurArc,   338,  2,     13,     13,2,20070906,1840, 85.7040,-135.0400, 1520,    101.8,  -1.4995,  33.3150,2,   -999.0,9,    288.2,2,    17.68,2,    10.59,2,     0.02,2,     1.13,2,   2160.7,2,   2275.4,2,  -999.00,9,  -1.5016
  06AQ20070728,EurArc,   338,  2,     14,     14,2,20070906,1840, 85.7040,-135.0400, 1520,    101.8,  -1.4996,  33.3040,2,   -999.0,9,    288.2,2,    16.96,2,    10.40,2,     0.02,2,     1.10,2,   -999.0,9,   -999.0,9,  -999.00,9,  -1.5017
  06AQ20070728,EurArc,   338,  2,     18,     18,2,20070906,1840, 85.7040,-135.0400, 1520,     76.0,  -1.5316,  31.9060,2,   -999.0,9,    361.9,2,    25.47,2,    11.11,2,     0.02,2,     1.54,2,   -999.0,9,   -999.0,9,    -1.42,2,  -1.5329
  06AQ20070728,EurArc,   338,  2,     19,     19,2,20070906,1840, 85.7040,-135.0400, 1520,     50.9,  -1.5856,  30.3000,2,   -999.0,9,    394.1,2,     5.72,2,     0.72,2,     0.03,2,     0.92,2,   2015.3,2,   2123.0,2,    -2.49,2,  -1.5863
  06AQ20070728,EurArc,   338,  2,     20,     20,2,20070906,1840, 85.7040,-135.0400, 1520,     24.9,  -1.3900,  29.7110,2,   -999.0,9,    391.1,2,     6.44,2,     0.19,2,     0.02,2,     0.88,2,   -999.0,9,   -999.0,9,  -999.00,9,  -1.3903
  06AQ20070728,EurArc,   338,  2,     22,     22,2,20070906,1840, 85.7040,-135.0400, 1520,     24.9,  -1.3921,  29.6260,2,   -999.0,9,    391.1,2,     6.39,2,     0.16,2,     0.02,2,     0.87,2,   -999.0,9,   -999.0,9,  -999.00,9,  -1.3924
  06AQ20070728,EurArc,   338,  2,     21,     21,2,20070906,1840, 85.7040,-135.0400, 1520,     24.9,  -1.3881,  29.6620,2,   -999.0,9,    391.1,2,     6.25,2,     0.24,2,     0.01,2,     0.86,2,   -999.0,9,   -999.0,9,  -999.00,9,  -1.3884
  06AQ20070728,EurArc,   338,  2,     23,     23,2,20070906,1840, 85.7040,-135.0400, 1520,     24.9,  -1.3913,  29.6250,2,   -999.0,9,    391.1,2,     6.18,2,     0.09,2,     0.01,2,     0.84,2,   -999.0,9,   -999.0,9,    -3.08,2,  -1.3916
  06AQ20070728,EurArc,   338,  2,     24,     24,2,20070906,1840, 85.7040,-135.0400, 1520,      5.4,  -1.5350,  28.5850,2,   -999.0,9,    387.9,2,     6.08,2,     0.04,2,     0.00,2,     0.79,2,   -999.0,9,   -999.0,9,    -3.18,2,  -1.5351
  06AQ20070728,EurArc,   338,  3,      1,      1,2,20070906,2010, 85.7040,-135.0400, 1520,   1528.8,  -0.3474,  34.9310,2,   -999.0,9,    292.8,2,  -999.00,9,  -999.00,9,  -999.00,9,  -999.00,9,   -999.0,9,   -999.0,9,  -999.00,9,  -0.4185
  06AQ20070728,EurArc,   338,  3,      2,      2,2,20070906,2010, 85.7040,-135.0400, 1520,   1528.8,  -0.3476,  34.9300,2,   -999.0,9,    292.8,2,    10.48,2,    13.87,2,     0.02,2,     1.00,2,   -999.0,9,   -999.0,9,  -999.00,9,  -0.4187
  06AQ20070728,EurArc,   338,  3,      4,      4,2,20070906,2010, 85.7040,-135.0400, 1520,   1528.8,  -0.3476,  34.9310,2,   -999.0,9,    292.8,2,  -999.00,9,  -999.00,9,  -999.00,9,  -999.00,9,   -999.0,9,   -999.0,9,  -999.00,9,  -0.4187
  06AQ20070728,EurArc,   338,  3,      5,      5,2,20070906,2010, 85.7040,-135.0400, 1520,   1528.8,  -0.3476,  34.9310,2,   -999.0,9,    292.8,2,  -999.00,9,  -999.00,9,  -999.00,9,  -999.00,9,   -999.0,9,   -999.0,9,  -999.00,9,  -0.4187
  06AQ20070728,EurArc,   338,  3,      3,      3,2,20070906,2010, 85.7040,-135.0400, 1520,   1528.8,  -0.3472,  34.9300,2,   -999.0,9,    292.8,2,  -999.00,9,  -999.00,9,  -999.00,9,  -999.00,9,   -999.0,9,   -999.0,9,  -999.00,9,  -0.4183
  06AQ20070728,EurArc,   338,  3,      6,      6,2,20070906,2010, 85.7040,-135.0400, 1520,   1013.2,  -0.1236,  34.8980,2,   -999.0,9,    298.8,2,  -999.00,9,  -999.00,9,  -999.00,9,  -999.00,9,   -999.0,9,   -999.0,9,  -999.00,9,  -0.1679
  06AQ20070728,EurArc,   338,  3,      7,      7,2,20070906,2010, 85.7040,-135.0400, 1520,   1013.2,  -0.1237,  34.8980,2,   -999.0,9,    298.8,2,     7.77,2,    12.99,2,     0.02,2,     0.93,2,   -999.0,9,   -999.0,9,  -999.00,9,  -0.1680
  06AQ20070728,EurArc,   338,  3,      9,      9,2,20070906,2010, 85.7040,-135.0400, 1520,    506.0,   0.4413,  34.8650,2,   -999.0,9,    293.4,2,  -999.00,9,  -999.00,9,  -999.00,9,  -999.00,9,   -999.0,9,   -999.0,9,  -999.00,9,   0.4191
  06AQ20070728,EurArc,   338,  3,     10,     10,2,20070906,2010, 85.7040,-135.0400, 1520,    506.0,   0.4411,  34.8650,2,   -999.0,9,    293.4,2,  -999.00,9,  -999.00,9,  -999.00,9,  -999.00,9,   -999.0,9,   -999.0,9,  -999.00,9,   0.4189
  06AQ20070728,EurArc,   338,  3,     11,     11,2,20070906,2010, 85.7040,-135.0400, 1520,    506.0,   0.4396,  34.8650,2,   -999.0,9,    293.4,2,  -999.00,9,  -999.00,9,  -999.00,9,  -999.00,9,   -999.0,9,   -999.0,9,  -999.00,9,   0.4174
  06AQ20070728,EurArc,   338,  3,      8,      8,2,20070906,2010, 85.7040,-135.0400, 1520,    505.9,   0.4402,  34.8650,2,   -999.0,9,    293.4,2,     7.30,2,    12.85,2,     0.02,2,     0.90,2,   -999.0,9,   -999.0,9,  -999.00,9,   0.4180
  06AQ20070728,EurArc,   338,  3,     15,     15,2,20070906,2010, 85.7040,-135.0400, 1520,    303.4,   0.5558,  34.8070,2,   -999.0,9,    290.8,2,  -999.00,9,  -999.00,9,  -999.00,9,  -999.00,9,   -999.0,9,   -999.0,9,  -999.00,9,   0.5428
  06AQ20070728,EurArc,   338,  3,     12,     12,2,20070906,2010, 85.7040,-135.0400, 1520,    303.4,   0.5543,  34.8060,2,   -999.0,9,    290.8,2,  -999.00,9,  -999.00,9,  -999.00,9,  -999.00,9,   -999.0,9,   -999.0,9,  -999.00,9,   0.5413
  06AQ20070728,EurArc,   338,  3,     13,     13,2,20070906,2010, 85.7040,-135.0400, 1520,    303.4,   0.5529,  34.8060,2,   -999.0,9,    290.8,2,  -999.00,9,  -999.00,9,  -999.00,9,  -999.00,9,   -999.0,9,   -999.0,9,  -999.00,9,   0.5399
  06AQ20070728,EurArc,   338,  3,     14,     14,2,20070906,2010, 85.7040,-135.0400, 1520,    303.4,   0.5561,  34.8060,2,   -999.0,9,    290.8,2,     7.63,2,    12.71,2,     0.02,2,     0.89,2,   -999.0,9,   -999.0,9,  -999.00,9,   0.5431
  06AQ20070728,EurArc,   338,  3,     16,     16,2,20070906,2010, 85.7040,-135.0400, 1520,    202.4,  -0.1539,  34.5060,2,   -999.0,9,    291.4,2,  -999.00,9,  -999.00,9,  -999.00,9,  -999.00,9,   -999.0,9,   -999.0,9,  -999.00,9,  -0.1611
  06AQ20070728,EurArc,   338,  3,     18,     18,2,20070906,2010, 85.7040,-135.0400, 1520,    202.4,  -0.1624,  34.5020,2,   -999.0,9,    291.4,2,  -999.00,9,  -999.00,9,  -999.00,9,  -999.00,9,   -999.0,9,   -999.0,9,  -999.00,9,  -0.1696
  06AQ20070728,EurArc,   338,  3,     17,     17,2,20070906,2010, 85.7040,-135.0400, 1520,    202.4,  -0.1517,  34.5070,2,   -999.0,9,    291.4,2,  -999.00,9,  -999.00,9,  -999.00,9,  -999.00,9,   -999.0,9,   -999.0,9,  -999.00,9,  -0.1589
  06AQ20070728,EurArc,   338,  3,     19,     19,2,20070906,2010, 85.7040,-135.0400, 1520,    202.4,  -0.1673,  34.4990,2,   -999.0,9,    291.4,2,     7.98,2,    11.28,2,     0.02,2,     0.84,2,   -999.0,9,   -999.0,9,  -999.00,9,  -0.1744
  06AQ20070728,EurArc,   338,  3,     22,     22,2,20070906,2010, 85.7040,-135.0400, 1520,    151.5,  -0.9448,  34.2180,2,   -999.0,9,    303.2,2,  -999.00,9,  -999.00,9,  -999.00,9,  -999.00,9,   -999.0,9,   -999.0,9,  -999.00,9,  -0.9490
  06AQ20070728,EurArc,   338,  3,     20,     20,2,20070906,2010, 85.7040,-135.0400, 1520,    151.5,  -0.8998,  34.2360,2,   -999.0,9,    303.2,2,  -999.00,9,  -999.00,9,  -999.00,9,  -999.00,9,   -999.0,9,   -999.0,9,  -999.00,9,  -0.9040
  06AQ20070728,EurArc,   338,  3,     23,     23,2,20070906,2010, 85.7040,-135.0400, 1520,    151.5,  -0.9545,  34.2120,2,   -999.0,9,    303.2,2,  -999.00,9,  -999.00,9,  -999.00,9,  -999.00,9,   -999.0,9,   -999.0,9,  -999.00,9,  -0.9587
  06AQ20070728,EurArc,   338,  3,     21,     21,2,20070906,2010, 85.7040,-135.0400, 1520,    151.5,  -0.9062,  34.2330,2,   -999.0,9,    303.2,2,     6.40,2,     9.57,2,     0.02,2,     0.74,2,   -999.0,9,   -999.0,9,  -999.00,9,  -0.9104
  06AQ20070728,EurArc,   338,  3,     24,     24,2,20070906,2010, 85.7040,-135.0400, 1520,    101.1,  -1.4819,  33.1330,2,   -999.0,9,    281.1,2,    18.96,2,    10.68,2,     0.02,2,     1.15,2,   -999.0,9,   -999.0,9,  -999.00,9,  -1.4840