BOTTLE,20220921CCHSIOAMB
EXPOCODE,SECT_ID,STNNBR,CASTNO,SAMPNO,BTLNBR,BTLNBR_FLAG_W,DATE,TIME,LATITUDE,LONGITUDE,DEPTH,CTDPRS,CTDTMP,CTDSAL,CTDSAL_FLAG_W,CTDOXY,CTDOXY_FLAG_W,OXYGEN,OXYGEN_FLAG_W,SILCAT,SILCAT_FLAG_W,NITRAT,NITRAT_FLAG_W,NITRIT,NITRIT_FLAG_W,PHSPHT,PHSPHT_FLAG_W,TCARBN,TCARBN_FLAG_W,ALKALI,ALKALI_FLAG_W,DELO18,DELO18_FLAG_W,THETA
,,,,,,,,,,,METERS,DBAR,ITS-90,PSS-78,,UMOL/KG,,UMOL/KG,,UMOL/KG,,UMOL/KG,,UMOL/KG,,UMOL/KG,,UMOL/KG,,UMOL/KG,,/MILLE,,DEG C
  06AQ20070728,EurArc,   264,  1,      1,      1,2,20070812,1244, 83.6420,  60.4290, 3434,   3493.6,  -0.7160,  34.9410,2,   -999.0,9,    295.9,2,    11.43,2,    14.57,2,     0.01,2,     1.01,2,   -999.0,9,   -999.0,9,  -999.00,9,  -0.9265
  06AQ20070728,EurArc,   264,  1,      2,      2,2,20070812,1244, 83.6420,  60.4290, 3434,   3493.5,  -0.7160,  34.9410,2,   -999.0,9,    295.9,2,  -999.00,9,  -999.00,9,  -999.00,9,  -999.00,9,   -999.0,9,   -999.0,9,  -999.00,9,  -0.9265
  06AQ20070728,EurArc,   264,  1,      3,      3,2,20070812,1244, 83.6420,  60.4290, 3434,   3486.3,  -0.7167,  34.9410,2,   -999.0,9,    295.9,2,  -999.00,9,  -999.00,9,  -999.00,9,  -999.00,9,   -999.0,9,   -999.0,9,  -999.00,9,  -0.9265
  06AQ20070728,EurArc,   264,  1,      4,      4,2,20070812,1244, 83.6420,  60.4290, 3434,   3486.2,  -0.7168,  34.9410,2,   -999.0,9,    295.9,2,  -999.00,9,  -999.00,9,  -999.00,9,  -999.00,9,   -999.0,9,   -999.0,9,  -999.00,9,  -0.9266
  06AQ20070728,EurArc,   264,  1,      5,      5,2,20070812,1244, 83.6420,  60.4290, 3434,   3486.2,  -0.7168,  34.9410,2,   -999.0,9,    295.9,2,    11.43,2,    14.53,2,     0.01,2,     1.01,2,   -999.0,9,   -999.0,9,  -999.00,9,  -0.9266
  06AQ20070728,EurArc,   264,  1,      6,      6,2,20070812,1244, 83.6420,  60.4290, 3434,   3054.8,  -0.7596,  34.9350,2,   -999.0,9,    298.8,2,    11.00,2,    14.47,2,     0.01,2,     1.01,2,   -999.0,9,   -999.0,9,  -999.00,9,  -0.9316
  06AQ20070728,EurArc,   264,  1,      7,      7,2,20070812,1244, 83.6420,  60.4290, 3434,   2543.1,  -0.7720,  34.9280,2,   -999.0,9,    299.1,2,    10.92,2,    14.44,2,     0.01,2,     1.01,2,   -999.0,9,   -999.0,9,  -999.00,9,  -0.9040
  06AQ20070728,EurArc,   264,  1,      8,      8,2,20070812,1244, 83.6420,  60.4290, 3434,   2031.7,  -0.7569,  34.9200,2,   -999.0,9,    299.1,2,    10.83,2,    14.41,2,     0.01,2,     1.01,2,   -999.0,9,   -999.0,9,  -999.00,9,  -0.8537
  06AQ20070728,EurArc,   264,  1,      9,      9,2,20070812,1244, 83.6420,  60.4290, 3434,   1522.7,  -0.6475,  34.9150,2,   -999.0,9,    299.5,2,    10.10,2,    14.28,2,     0.01,2,     1.00,2,   -999.0,9,   -999.0,9,  -999.00,9,  -0.7145
  06AQ20070728,EurArc,   264,  1,     10,     10,2,20070812,1244, 83.6420,  60.4290, 3434,   1267.6,  -0.5106,  34.9120,2,   -999.0,9,    300.4,2,     9.34,2,    13.95,2,     0.01,2,     0.98,2,   -999.0,9,   -999.0,9,  -999.00,9,  -0.5649
  06AQ20070728,EurArc,   264,  1,     11,     11,2,20070812,1244, 83.6420,  60.4290, 3434,   1013.3,  -0.2164,  34.9100,2,   -999.0,9,    301.3,2,     8.38,2,    13.57,2,     0.01,2,     0.95,2,   -999.0,9,   -999.0,9,  -999.00,9,  -0.2600
  06AQ20070728,EurArc,   264,  1,     12,     12,2,20070812,1244, 83.6420,  60.4290, 3434,    759.9,   0.5228,  34.9180,2,   -999.0,9,    303.0,2,     6.90,2,    12.97,2,     0.01,2,     0.91,2,   -999.0,9,   -999.0,9,  -999.00,9,   0.4872
  06AQ20070728,EurArc,   264,  1,     13,     13,2,20070812,1244, 83.6420,  60.4290, 3434,    506.5,   1.8718,  34.9610,2,   -999.0,9,    305.8,2,     5.48,2,    12.05,2,     0.01,2,     0.84,2,   -999.0,9,   -999.0,9,  -999.00,9,   1.8436
  06AQ20070728,EurArc,   264,  1,     14,     14,2,20070812,1244, 83.6420,  60.4290, 3434,    303.5,   2.6557,  34.9750,2,   -999.0,9,    303.6,2,     4.93,2,    11.71,2,     0.01,2,     0.82,2,   -999.0,9,   -999.0,9,  -999.00,9,   2.6374
  06AQ20070728,EurArc,   264,  1,     15,     15,2,20070812,1244, 83.6420,  60.4290, 3434,    202.4,   2.9140,  34.9560,2,   -999.0,9,    300.7,2,     4.70,2,    11.39,2,     0.02,2,     0.80,2,   -999.0,9,   -999.0,9,  -999.00,9,   2.9015
  06AQ20070728,EurArc,   264,  1,     16,     16,2,20070812,1244, 83.6420,  60.4290, 3434,    152.0,   2.9312,  34.9290,2,    287.2,2,    301.6,2,     4.57,2,    11.26,2,     0.01,2,     0.78,2,   -999.0,9,   -999.0,9,     0.19,2,   2.9219
  06AQ20070728,EurArc,   264,  1,     17,     17,2,20070812,1244, 83.6420,  60.4290, 3434,    126.4,   2.4558,  34.8240,2,    288.7,2,    301.8,2,     4.40,2,    10.91,2,     0.02,2,     0.77,2,   -999.0,9,   -999.0,9,     0.21,2,   2.4486
  06AQ20070728,EurArc,   264,  1,     18,     18,2,20070812,1244, 83.6420,  60.4290, 3434,    101.4,   0.9824,  34.5560,2,    297.1,2,    310.7,2,     3.69,2,     9.83,2,     0.03,2,     0.71,2,   -999.0,9,   -999.0,9,     0.12,2,   0.9779
  06AQ20070728,EurArc,   264,  1,     19,     19,2,20070812,1244, 83.6420,  60.4290, 3434,    101.4,   0.9807,  34.5590,2,   -999.0,9,    310.7,2,  -999.00,9,  -999.00,9,  -999.00,9,  -999.00,9,   -999.0,9,   -999.0,9,  -999.00,9,   0.9762
  06AQ20070728,EurArc,   264,  1,     20,     20,2,20070812,1244, 83.6420,  60.4290, 3434,     75.2,  -1.6332,  34.2240,2,    316.3,2,    328.9,2,     3.20,2,     8.27,2,     0.10,2,     0.62,2,   -999.0,9,   -999.0,9,     0.06,2,  -1.6348
  06AQ20070728,EurArc,   264,  1,     21,     21,2,20070812,1244, 83.6420,  60.4290, 3434,     50.3,  -1.7728,  34.1620,2,    318.5,2,    336.0,2,     3.03,2,     7.45,2,     0.09,2,     0.58,2,   -999.0,9,   -999.0,9,     0.10,2,  -1.7738
  06AQ20070728,EurArc,   264,  1,     22,     22,2,20070812,1244, 83.6420,  60.4290, 3434,     24.4,  -1.6664,  34.0040,2,    327.8,2,    350.4,2,     2.84,2,     6.18,2,     0.06,2,     0.53,2,   -999.0,9,   -999.0,9,     0.09,2,  -1.6669
  06AQ20070728,EurArc,   264,  1,     23,     23,2,20070812,1244, 83.6420,  60.4290, 3434,     11.6,  -1.6292,  33.7670,2,    335.3,2,    354.0,2,     2.77,2,     5.60,2,     0.06,2,     0.49,2,   -999.0,9,   -999.0,9,     0.11,2,  -1.6294
  06AQ20070728,EurArc,   264,  1,     24,     24,2,20070812,1244, 83.6420,  60.4290, 3434,      1.9,  -1.6481,  33.5550,2,    336.1,2,    352.8,2,     2.61,2,     5.09,2,     0.06,2,     0.46,2,   -999.0,9,   -999.0,9,     0.17,2,  -1.6481
  06AQ20070728,EurArc,   266,  1,      1,      1,2,20070814,2313, 83.1380,  61.7410, 3040,   3002.6,  -0.7526,  34.9360,2,   -999.0,9,    295.2,2,    11.02,2,    14.66,2,     0.01,2,     1.01,2,   2152.4,2,   2300.0,2,  -999.00,9,  -0.9206
  06AQ20070728,EurArc,   266,  1,      2,      2,2,20070814,2313, 83.1380,  61.7410, 3040,   2797.4,  -0.7458,  34.9300,2,   -999.0,9,    295.6,2,    10.90,2,    14.71,2,     0.01,2,     1.00,2,   2151.4,2,   2297.7,2,  -999.00,9,  -0.8976
  06AQ20070728,EurArc,   266,  1,      3,      3,2,20070814,2313, 83.1380,  61.7410, 3040,   2542.7,  -0.7409,  34.9260,2,   -999.0,9,    295.5,2,    10.82,2,    14.66,2,     0.01,2,     1.00,2,   2156.1,2,   2297.4,2,  -999.00,9,  -0.8735
  06AQ20070728,EurArc,   266,  1,      4,      4,2,20070814,2313, 83.1380,  61.7410, 3040,   2287.0,  -0.7262,  34.9220,2,   -999.0,9,    295.2,2,    10.76,2,    15.77,3,     0.01,2,     1.01,2,   2158.1,2,   2294.2,2,  -999.00,9,  -0.8407
  06AQ20070728,EurArc,   266,  1,      5,      5,2,20070814,2313, 83.1380,  61.7410, 3040,   2032.4,  -0.6944,  34.9190,2,   -999.0,9,    294.9,2,    10.59,2,    14.84,2,     0.01,2,     1.00,2,   2159.5,2,   2296.3,2,  -999.00,9,  -0.7922
  06AQ20070728,EurArc,   266,  1,      6,      6,2,20070814,2313, 83.1380,  61.7410, 3040,   1777.1,  -0.6462,  34.9170,2,   -999.0,9,    295.2,2,    10.24,2,    14.60,2,     0.01,2,     1.00,2,   2160.7,2,   2295.9,2,  -999.00,9,  -0.7284
  06AQ20070728,EurArc,   266,  1,      7,      7,2,20070814,2313, 83.1380,  61.7410, 3040,   1522.4,  -0.5926,  34.9150,2,   -999.0,9,    295.4,2,     9.86,2,    14.45,2,     0.01,2,     0.99,2,   2160.6,2,   2299.0,2,  -999.00,9,  -0.6603
  06AQ20070728,EurArc,   266,  1,      8,      8,2,20070814,2313, 83.1380,  61.7410, 3040,   1369.7,  -0.5222,  34.9130,2,   -999.0,9,    295.5,2,     9.77,2,    14.42,2,     0.01,2,     0.98,2,   2161.4,3,   2297.4,2,  -999.00,9,  -0.5820
  06AQ20070728,EurArc,   266,  1,      9,      9,2,20070814,2313, 83.1380,  61.7410, 3040,   1267.7,  -0.4460,  34.9130,2,   -999.0,9,    295.7,2,     9.30,2,    14.33,2,     0.01,2,     0.98,2,   2161.5,2,   2295.0,2,  -999.00,9,  -0.5010
  06AQ20070728,EurArc,   266,  1,     10,     10,2,20070814,2313, 83.1380,  61.7410, 3040,   1013.6,  -0.0898,  34.9130,2,   -999.0,9,    296.7,2,     8.36,2,    13.89,2,     0.01,2,     0.95,2,   2156.4,2,   2295.8,2,  -999.00,9,  -0.1344
  06AQ20070728,EurArc,   266,  1,     11,     11,2,20070814,2313, 83.1380,  61.7410, 3040,    760.1,   0.7401,  34.9290,2,   -999.0,9,    299.9,2,     6.61,2,    12.84,2,     0.01,2,     0.88,2,   2161.8,3,   2298.4,2,  -999.00,9,   0.7031
  06AQ20070728,EurArc,   266,  1,     12,     12,2,20070814,2313, 83.1380,  61.7410, 3040,    578.3,   0.9723,  34.9170,2,   -999.0,9,    302.6,2,     5.74,2,    12.08,2,     0.02,2,     0.83,2,   2165.2,3,   2300.1,2,  -999.00,9,   0.9440
  06AQ20070728,EurArc,   266,  1,     13,     13,2,20070814,2313, 83.1380,  61.7410, 3040,    506.8,   1.2540,  34.9230,2,   -999.0,9,    302.0,2,     5.47,2,    11.94,2,     0.01,2,     0.82,2,   2159.2,2,   2292.4,2,  -999.00,9,   1.2283
  06AQ20070728,EurArc,   266,  1,     14,     14,2,20070814,2313, 83.1380,  61.7410, 3040,    405.3,   1.6294,  34.9250,2,   -999.0,9,    299.0,2,     5.14,2,    11.88,2,     0.02,2,     0.81,2,   2160.5,2,   2297.5,2,  -999.00,9,   1.6080
  06AQ20070728,EurArc,   266,  1,     15,     15,2,20070814,2313, 83.1380,  61.7410, 3040,    303.7,   2.2809,  34.9540,2,   -999.0,9,    298.7,2,     4.86,2,    11.76,2,     0.01,2,     0.80,2,   2151.4,2,   2295.5,2,  -999.00,9,   2.2635
  06AQ20070728,EurArc,   266,  1,     16,     16,2,20070814,2313, 83.1380,  61.7410, 3040,    253.5,   2.5210,  34.9610,2,   -999.0,9,    299.3,2,     4.80,2,    11.71,2,     0.02,2,     0.80,2,   2154.0,2,   2297.3,2,  -999.00,9,   2.5061
  06AQ20070728,EurArc,   266,  1,     17,     17,2,20070814,2313, 83.1380,  61.7410, 3040,    202.1,   2.6487,  34.9560,2,   -999.0,9,    298.7,2,     4.66,2,    11.64,2,     0.02,2,     0.79,2,   2147.6,2,   2296.5,2,  -999.00,9,   2.6367
  06AQ20070728,EurArc,   266,  1,     18,     18,2,20070814,2313, 83.1380,  61.7410, 3040,    151.4,   2.7324,  34.9390,2,   -999.0,9,    299.2,2,     4.57,2,    11.47,2,     0.02,2,     0.78,2,   2151.9,2,   2298.3,2,  -999.00,9,   2.7234
  06AQ20070728,EurArc,   266,  1,     19,     19,2,20070814,2313, 83.1380,  61.7410, 3040,    126.4,   2.7086,  34.9220,2,   -999.0,9,    298.8,2,     4.55,2,    11.52,2,     0.02,2,     0.78,2,   2150.1,2,   2296.7,2,  -999.00,9,   2.7011
  06AQ20070728,EurArc,   266,  1,     20,     20,2,20070814,2313, 83.1380,  61.7410, 3040,    101.3,   2.6667,  34.9000,2,   -999.0,9,    299.5,2,     4.46,2,    11.26,2,     0.02,2,     0.77,2,   2145.5,2,   2293.9,2,  -999.00,9,   2.6608
  06AQ20070728,EurArc,   266,  1,     21,     21,2,20070814,2313, 83.1380,  61.7410, 3040,     76.0,   2.4807,  34.8590,2,   -999.0,9,    302.2,2,     4.38,2,    11.05,2,     0.03,2,     0.75,2,   2143.5,2,   2299.9,2,  -999.00,9,   2.4764
  06AQ20070728,EurArc,   266,  1,     22,     22,2,20070814,2313, 83.1380,  61.7410, 3040,     50.6,   1.3357,  34.7020,2,   -999.0,9,    315.8,2,     4.12,2,    10.52,2,     0.06,2,     0.72,2,   2139.8,2,   2284.7,2,  -999.00,9,   1.3333
  06AQ20070728,EurArc,   266,  1,     23,     23,2,20070814,2313, 83.1380,  61.7410, 3040,     23.5,  -1.4261,  33.7780,2,   -999.0,9,    358.3,2,     2.08,2,     4.34,2,     0.06,2,     0.38,2,   2071.0,2,   2239.9,2,  -999.00,9,  -1.4266
  06AQ20070728,EurArc,   266,  1,     24,     24,2,20070814,2313, 83.1380,  61.7410, 3040,      3.8,  -1.6410,  33.3140,2,   -999.0,9,    362.4,2,     1.20,2,     2.23,2,     0.04,2,     0.25,2,   2018.5,2,   2202.9,2,  -999.00,9,  -1.6411
  06AQ20070728,EurArc,   266,  2,      1,      1,2,20070814,0140, 83.1380,  61.7410, 3040,   2992.7,  -0.7539,  34.9360,2,   -999.0,9,    295.3,2,  -999.00,9,  -999.00,9,  -999.00,9,  -999.00,9,   -999.0,9,   -999.0,9,  -999.00,9,  -0.9210
  06AQ20070728,EurArc,   266,  2,      2,      2,2,20070814,0140, 83.1380,  61.7410, 3040,   2992.7,  -0.7539,  34.9360,2,   -999.0,9,    295.3,2,  -999.00,9,  -999.00,9,  -999.00,9,  -999.00,9,   -999.0,9,   -999.0,9,  -999.00,9,  -0.9210
  06AQ20070728,EurArc,   266,  2,      3,      3,2,20070814,0140, 83.1380,  61.7410, 3040,   2992.7,  -0.7540,  34.9360,2,   -999.0,9,    295.3,2,  -999.00,9,  -999.00,9,  -999.00,9,  -999.00,9,   -999.0,9,   -999.0,9,  -999.00,9,  -0.9211
  06AQ20070728,EurArc,   266,  2,      4,      4,2,20070814,0140, 83.1380,  61.7410, 3040,   2992.7,  -0.7539,  34.9360,2,   -999.0,9,    295.3,2,  -999.00,9,  -999.00,9,  -999.00,9,  -999.00,9,   -999.0,9,   -999.0,9,  -999.00,9,  -0.9210
  06AQ20070728,EurArc,   266,  2,      5,      5,2,20070814,0140, 83.1380,  61.7410, 3040,   2992.7,  -0.7539,  34.9360,2,   -999.0,9,    295.3,2,  -999.00,9,  -999.00,9,  -999.00,9,  -999.00,9,   -999.0,9,   -999.0,9,  -999.00,9,  -0.9210
  06AQ20070728,EurArc,   266,  2,      6,      6,2,20070814,0140, 83.1380,  61.7410, 3040,   2992.7,  -0.7539,  34.9360,2,   -999.0,9,    295.3,2,  -999.00,9,  -999.00,9,  -999.00,9,  -999.00,9,   -999.0,9,   -999.0,9,  -999.00,9,  -0.9210
  06AQ20070728,EurArc,   266,  2,      7,      7,2,20070814,0140, 83.1380,  61.7410, 3040,   2542.4,  -0.7387,  34.9230,2,   -999.0,9,    296.3,2,  -999.00,9,  -999.00,9,  -999.00,9,  -999.00,9,   -999.0,9,   -999.0,9,  -999.00,9,  -0.8713
  06AQ20070728,EurArc,   266,  2,      8,      8,2,20070814,0140, 83.1380,  61.7410, 3040,   2542.4,  -0.7388,  34.9230,2,   -999.0,9,    296.3,2,  -999.00,9,  -999.00,9,  -999.00,9,  -999.00,9,   -999.0,9,   -999.0,9,  -999.00,9,  -0.8714
  06AQ20070728,EurArc,   266,  2,      9,      9,2,20070814,0140, 83.1380,  61.7410, 3040,   2542.4,  -0.7388,  34.9230,2,   -999.0,9,    296.3,2,  -999.00,9,  -999.00,9,  -999.00,9,  -999.00,9,   -999.0,9,   -999.0,9,  -999.00,9,  -0.8714
  06AQ20070728,EurArc,   266,  2,     10,     10,2,20070814,0140, 83.1380,  61.7410, 3040,   2542.4,  -0.7387,  34.9230,2,   -999.0,9,    296.3,2,  -999.00,9,  -999.00,9,  -999.00,9,  -999.00,9,   -999.0,9,   -999.0,9,  -999.00,9,  -0.8713
  06AQ20070728,EurArc,   266,  2,     11,     11,2,20070814,0140, 83.1380,  61.7410, 3040,   2542.5,  -0.7388,  34.9230,2,   -999.0,9,    296.3,2,  -999.00,9,  -999.00,9,  -999.00,9,  -999.00,9,   -999.0,9,   -999.0,9,  -999.00,9,  -0.8714
  06AQ20070728,EurArc,   266,  2,     12,     12,2,20070814,0140, 83.1380,  61.7410, 3040,   2542.5,  -0.7390,  34.9230,2,   -999.0,9,    296.3,2,  -999.00,9,  -999.00,9,  -999.00,9,  -999.00,9,   -999.0,9,   -999.0,9,  -999.00,9,  -0.8716
  06AQ20070728,EurArc,   266,  2,     13,     13,2,20070814,0140, 83.1380,  61.7410, 3040,   2542.5,  -0.7392,  34.9230,2,   -999.0,9,    296.3,2,  -999.00,9,  -999.00,9,  -999.00,9,  -999.00,9,   -999.0,9,   -999.0,9,  -999.00,9,  -0.8718
  06AQ20070728,EurArc,   266,  2,     14,     14,2,20070814,0140, 83.1380,  61.7410, 3040,   2031.5,  -0.6779,  34.9160,2,   -999.0,9,    296.6,2,  -999.00,9,  -999.00,9,  -999.00,9,  -999.00,9,   -999.0,9,   -999.0,9,  -999.00,9,  -0.7759
  06AQ20070728,EurArc,   266,  2,     15,     15,2,20070814,0140, 83.1380,  61.7410, 3040,   2031.5,  -0.6779,  34.9160,2,   -999.0,9,    296.6,2,  -999.00,9,  -999.00,9,  -999.00,9,  -999.00,9,   -999.0,9,   -999.0,9,  -999.00,9,  -0.7759
  06AQ20070728,EurArc,   266,  2,     16,     16,2,20070814,0140, 83.1380,  61.7410, 3040,   2031.6,  -0.6779,  34.9160,2,   -999.0,9,    296.6,2,  -999.00,9,  -999.00,9,  -999.00,9,  -999.00,9,   -999.0,9,   -999.0,9,  -999.00,9,  -0.7759
  06AQ20070728,EurArc,   266,  2,     17,     17,2,20070814,0140, 83.1380,  61.7410, 3040,   2031.6,  -0.6779,  34.9160,2,   -999.0,9,    296.6,2,  -999.00,9,  -999.00,9,  -999.00,9,  -999.00,9,   -999.0,9,   -999.0,9,  -999.00,9,  -0.7759
  06AQ20070728,EurArc,   266,  2,     18,     18,2,20070814,0140, 83.1380,  61.7410, 3040,   2031.6,  -0.6779,  34.9160,2,   -999.0,9,    296.6,2,  -999.00,9,  -999.00,9,  -999.00,9,  -999.00,9,   -999.0,9,   -999.0,9,  -999.00,9,  -0.7759
  06AQ20070728,EurArc,   266,  2,     19,     19,2,20070814,0140, 83.1380,  61.7410, 3040,   2031.6,  -0.6779,  34.9160,2,   -999.0,9,    296.6,2,  -999.00,9,  -999.00,9,  -999.00,9,  -999.00,9,   -999.0,9,   -999.0,9,  -999.00,9,  -0.7759
  06AQ20070728,EurArc,   266,  2,     20,     20,2,20070814,0140, 83.1380,  61.7410, 3040,   2031.6,  -0.6780,  34.9160,2,   -999.0,9,    296.6,2,  -999.00,9,  -999.00,9,  -999.00,9,  -999.00,9,   -999.0,9,   -999.0,9,  -999.00,9,  -0.7760
  06AQ20070728,EurArc,   266,  2,     21,     21,2,20070814,0140, 83.1380,  61.7410, 3040,   1522.0,  -0.6053,  34.9130,2,   -999.0,9,    296.9,2,  -999.00,9,  -999.00,9,  -999.00,9,  -999.00,9,   -999.0,9,   -999.0,9,  -999.00,9,  -0.6728
  06AQ20070728,EurArc,   266,  2,     22,     22,2,20070814,0140, 83.1380,  61.7410, 3040,   1522.0,  -0.6053,  34.9130,2,   -999.0,9,    296.9,2,  -999.00,9,  -999.00,9,  -999.00,9,  -999.00,9,   -999.0,9,   -999.0,9,  -999.00,9,  -0.6728
  06AQ20070728,EurArc,   266,  2,     23,     23,2,20070814,0140, 83.1380,  61.7410, 3040,    592.6,   0.9169,  34.9120,2,   -999.0,9,    305.4,2,  -999.00,9,  -999.00,9,  -999.00,9,  -999.00,9,   -999.0,9,   -999.0,9,  -999.00,9,   0.8881
  06AQ20070728,EurArc,   266,  2,     24,     24,2,20070814,0140, 83.1380,  61.7410, 3040,    592.6,   0.9130,  34.9120,2,   -999.0,9,    305.4,2,  -999.00,9,  -999.00,9,  -999.00,9,  -999.00,9,   -999.0,9,   -999.0,9,  -999.00,9,   0.8842