BOTTLE,20220921CCHSIOAMB
EXPOCODE,SECT_ID,STNNBR,CASTNO,SAMPNO,BTLNBR,BTLNBR_FLAG_W,DATE,TIME,LATITUDE,LONGITUDE,DEPTH,CTDPRS,CTDTMP,CTDSAL,CTDSAL_FLAG_W,CTDOXY,CTDOXY_FLAG_W,OXYGEN,OXYGEN_FLAG_W,SILCAT,SILCAT_FLAG_W,NITRAT,NITRAT_FLAG_W,NITRIT,NITRIT_FLAG_W,PHSPHT,PHSPHT_FLAG_W,TCARBN,TCARBN_FLAG_W,ALKALI,ALKALI_FLAG_W,DELO18,DELO18_FLAG_W,THETA
,,,,,,,,,,,METERS,DBAR,ITS-90,PSS-78,,UMOL/KG,,UMOL/KG,,UMOL/KG,,UMOL/KG,,UMOL/KG,,UMOL/KG,,UMOL/KG,,UMOL/KG,,/MILLE,,DEG C
  06AQ20070728,EurArc,   239,  3,      1,      1,2,20070801,1230, 80.9930,  33.9840,  229,    218.2,   1.0429,  34.7210,2,   -999.0,9,    313.3,2,     5.13,2,    10.93,2,     0.08,2,     0.78,2,   -999.0,9,   -999.0,9,  -999.00,9,   1.0329
  06AQ20070728,EurArc,   239,  3,      2,      2,2,20070801,1230, 80.9930,  33.9840,  229,    206.7,   1.0510,  34.7210,2,   -999.0,9,    313.2,2,     5.12,2,    10.90,2,     0.08,2,     0.78,2,   -999.0,9,   -999.0,9,  -999.00,9,   1.0415
  06AQ20070728,EurArc,   239,  3,      3,      3,2,20070801,1230, 80.9930,  33.9840,  229,    201.4,   1.0606,  34.7210,2,   -999.0,9,    313.0,2,     5.13,2,    10.88,2,     0.08,2,     0.78,2,   -999.0,9,   -999.0,9,  -999.00,9,   1.0513
  06AQ20070728,EurArc,   239,  3,      4,      4,2,20070801,1230, 80.9930,  33.9840,  229,    174.1,   1.1145,  34.7170,2,   -999.0,9,    313.3,2,     5.13,2,    10.88,2,     0.08,2,     0.79,2,   -999.0,9,   -999.0,9,  -999.00,9,   1.1065
  06AQ20070728,EurArc,   239,  3,      5,      5,2,20070801,1230, 80.9930,  33.9840,  229,    151.8,   1.1250,  34.7020,2,   -999.0,9,    313.5,2,     5.05,2,    10.76,2,     0.06,2,     0.77,2,   -999.0,9,   -999.0,9,  -999.00,9,   1.1180
  06AQ20070728,EurArc,   239,  3,      6,      6,2,20070801,1230, 80.9930,  33.9840,  229,    126.7,   0.9608,  34.6600,2,   -999.0,9,    314.1,2,     4.63,2,    10.54,2,     0.06,2,     0.76,2,   -999.0,9,   -999.0,9,  -999.00,9,   0.9552
  06AQ20070728,EurArc,   239,  3,      7,      7,2,20070801,1230, 80.9930,  33.9840,  229,    101.3,   0.7001,  34.6060,2,   -999.0,9,    316.1,2,     4.67,2,    10.38,2,     0.06,2,     0.75,2,   -999.0,9,   -999.0,9,  -999.00,9,   0.6959
  06AQ20070728,EurArc,   239,  3,      8,      8,2,20070801,1230, 80.9930,  33.9840,  229,    101.3,   0.6999,  34.6050,2,   -999.0,9,    316.1,2,     4.65,2,    10.29,2,     0.06,2,     0.75,2,   -999.0,9,   -999.0,9,  -999.00,9,   0.6957
  06AQ20070728,EurArc,   239,  3,      9,      9,2,20070801,1230, 80.9930,  33.9840,  229,     76.1,   0.1593,  34.5100,2,   -999.0,9,    324.4,2,     3.44,2,     9.56,2,     0.11,2,     0.71,2,   -999.0,9,   -999.0,9,  -999.00,9,   0.1565
  06AQ20070728,EurArc,   239,  3,     10,     10,2,20070801,1230, 80.9930,  33.9840,  229,     50.8,  -0.5572,  34.2970,2,   -999.0,9,    356.6,2,     1.01,2,     6.57,2,     0.14,2,     0.53,2,   -999.0,9,   -999.0,9,  -999.00,9,  -0.5587
  06AQ20070728,EurArc,   239,  3,     11,     11,2,20070801,1230, 80.9930,  33.9840,  229,     25.5,  -0.8058,  34.0690,2,   -999.0,9,    404.1,2,     0.56,2,     4.25,2,     0.12,2,     0.37,2,   -999.0,9,   -999.0,9,  -999.00,9,  -0.8065
  06AQ20070728,EurArc,   239,  3,     12,     12,2,20070801,1230, 80.9930,  33.9840,  229,     10.8,  -0.9094,  32.6270,2,   -999.0,9,    403.6,2,     0.18,2,     0.43,2,     0.05,2,     0.09,2,   -999.0,9,   -999.0,9,  -999.00,9,  -0.9097
  06AQ20070728,EurArc,   239,  3,     13,     13,2,20070801,1230, 80.9930,  33.9840,  229,      2.1,  -0.6506,  31.3610,2,   -999.0,9,    410.2,2,     0.14,2,  -999.00,9,     0.03,2,     0.02,2,   -999.0,9,   -999.0,9,  -999.00,9,  -0.6506
  06AQ20070728,EurArc,   239,  5,      1,      1,2,20070801,1440, 80.9930,  33.9840,  229,    209.1,   0.9654,  34.7140,2,   -999.0,9,    313.5,2,  -999.00,9,  -999.00,9,  -999.00,9,  -999.00,9,   -999.0,9,   -999.0,9,  -999.00,9,   0.9559
  06AQ20070728,EurArc,   239,  5,      2,      2,2,20070801,1440, 80.9930,  33.9840,  229,    209.1,   0.9635,  34.7140,2,   -999.0,9,    313.5,2,  -999.00,9,  -999.00,9,  -999.00,9,  -999.00,9,   -999.0,9,   -999.0,9,  -999.00,9,   0.9540
  06AQ20070728,EurArc,   239,  5,      3,      3,2,20070801,1440, 80.9930,  33.9840,  229,    209.1,   0.9628,  34.7140,2,   -999.0,9,    313.5,2,  -999.00,9,  -999.00,9,  -999.00,9,  -999.00,9,   -999.0,9,   -999.0,9,  -999.00,9,   0.9533
  06AQ20070728,EurArc,   239,  5,      4,      4,2,20070801,1440, 80.9930,  33.9840,  229,    209.2,   0.9657,  34.7140,2,   -999.0,9,    313.5,2,  -999.00,9,  -999.00,9,  -999.00,9,  -999.00,9,   -999.0,9,   -999.0,9,  -999.00,9,   0.9562
  06AQ20070728,EurArc,   239,  5,      5,      5,2,20070801,1440, 80.9930,  33.9840,  229,    152.2,   0.8215,  34.6530,2,   -999.0,9,    315.6,2,  -999.00,9,  -999.00,9,  -999.00,9,  -999.00,9,   -999.0,9,   -999.0,9,  -999.00,9,   0.8149
  06AQ20070728,EurArc,   239,  5,      6,      6,2,20070801,1440, 80.9930,  33.9840,  229,    152.2,   0.8162,  34.6500,2,   -999.0,9,    315.6,2,  -999.00,9,  -999.00,9,  -999.00,9,  -999.00,9,   -999.0,9,   -999.0,9,  -999.00,9,   0.8096
  06AQ20070728,EurArc,   239,  5,      7,      7,2,20070801,1440, 80.9930,  33.9840,  229,    152.2,   0.8181,  34.6500,2,   -999.0,9,    315.6,2,  -999.00,9,  -999.00,9,  -999.00,9,  -999.00,9,   -999.0,9,   -999.0,9,  -999.00,9,   0.8115
  06AQ20070728,EurArc,   239,  5,      8,      8,2,20070801,1440, 80.9930,  33.9840,  229,    152.2,   0.8164,  34.6500,2,   -999.0,9,    315.6,2,  -999.00,9,  -999.00,9,  -999.00,9,  -999.00,9,   -999.0,9,   -999.0,9,  -999.00,9,   0.8098
  06AQ20070728,EurArc,   239,  5,      9,      9,2,20070801,1440, 80.9930,  33.9840,  229,    101.9,   0.1767,  34.5500,2,   -999.0,9,    319.5,2,  -999.00,9,  -999.00,9,  -999.00,9,  -999.00,9,   -999.0,9,   -999.0,9,  -999.00,9,   0.1729
  06AQ20070728,EurArc,   239,  5,     10,     10,2,20070801,1440, 80.9930,  33.9840,  229,    101.9,   0.1745,  34.5520,2,   -999.0,9,    319.5,2,  -999.00,9,  -999.00,9,  -999.00,9,  -999.00,9,   -999.0,9,   -999.0,9,  -999.00,9,   0.1707
  06AQ20070728,EurArc,   239,  5,     11,     11,2,20070801,1440, 80.9930,  33.9840,  229,    101.8,   0.1798,  34.5470,2,   -999.0,9,    319.5,2,  -999.00,9,  -999.00,9,  -999.00,9,  -999.00,9,   -999.0,9,   -999.0,9,  -999.00,9,   0.1760
  06AQ20070728,EurArc,   239,  5,     12,     12,2,20070801,1440, 80.9930,  33.9840,  229,    101.8,   0.1648,  34.5490,2,   -999.0,9,    319.5,2,  -999.00,9,  -999.00,9,  -999.00,9,  -999.00,9,   -999.0,9,   -999.0,9,  -999.00,9,   0.1610
  06AQ20070728,EurArc,   239,  5,     13,     13,2,20070801,1440, 80.9930,  33.9840,  229,     76.1,   0.0556,  34.4900,2,   -999.0,9,    326.6,2,  -999.00,9,  -999.00,9,  -999.00,9,  -999.00,9,   -999.0,9,   -999.0,9,  -999.00,9,   0.0529
  06AQ20070728,EurArc,   239,  5,     14,     14,2,20070801,1440, 80.9930,  33.9840,  229,     76.2,   0.0460,  34.4880,2,   -999.0,9,    326.4,2,  -999.00,9,  -999.00,9,  -999.00,9,  -999.00,9,   -999.0,9,   -999.0,9,  -999.00,9,   0.0433
  06AQ20070728,EurArc,   239,  5,     15,     15,2,20070801,1440, 80.9930,  33.9840,  229,     76.2,   0.0362,  34.4870,2,   -999.0,9,    326.4,2,  -999.00,9,  -999.00,9,  -999.00,9,  -999.00,9,   -999.0,9,   -999.0,9,  -999.00,9,   0.0335
  06AQ20070728,EurArc,   239,  5,     16,     16,2,20070801,1440, 80.9930,  33.9840,  229,     76.1,   0.0260,  34.4840,2,   -999.0,9,    326.6,2,  -999.00,9,  -999.00,9,  -999.00,9,  -999.00,9,   -999.0,9,   -999.0,9,  -999.00,9,   0.0233
  06AQ20070728,EurArc,   239,  5,     17,     17,2,20070801,1440, 80.9930,  33.9840,  229,     50.9,  -0.4332,  34.3520,2,   -999.0,9,    364.8,2,  -999.00,9,  -999.00,9,  -999.00,9,  -999.00,9,   -999.0,9,   -999.0,9,  -999.00,9,  -0.4348
  06AQ20070728,EurArc,   239,  5,     18,     18,2,20070801,1440, 80.9930,  33.9840,  229,     50.8,  -0.4379,  34.3510,2,   -999.0,9,    365.0,2,  -999.00,9,  -999.00,9,  -999.00,9,  -999.00,9,   -999.0,9,   -999.0,9,  -999.00,9,  -0.4395
  06AQ20070728,EurArc,   239,  5,     19,     19,2,20070801,1440, 80.9930,  33.9840,  229,     50.9,  -0.4511,  34.3460,2,   -999.0,9,    364.8,2,  -999.00,9,  -999.00,9,  -999.00,9,  -999.00,9,   -999.0,9,   -999.0,9,  -999.00,9,  -0.4527
  06AQ20070728,EurArc,   239,  5,     20,     20,2,20070801,1440, 80.9930,  33.9840,  229,     50.9,  -0.4483,  34.3470,2,   -999.0,9,    364.8,2,  -999.00,9,  -999.00,9,  -999.00,9,  -999.00,9,   -999.0,9,   -999.0,9,  -999.00,9,  -0.4499
  06AQ20070728,EurArc,   239,  5,     21,     21,2,20070801,1440, 80.9930,  33.9840,  229,     25.8,  -0.7994,  33.9880,2,   -999.0,9,    420.7,2,  -999.00,9,  -999.00,9,  -999.00,9,  -999.00,9,   -999.0,9,   -999.0,9,  -999.00,9,  -0.8001
  06AQ20070728,EurArc,   239,  5,     22,     22,2,20070801,1440, 80.9930,  33.9840,  229,     25.7,  -0.7908,  33.9920,2,   -999.0,9,    421.0,2,  -999.00,9,  -999.00,9,  -999.00,9,  -999.00,9,   -999.0,9,   -999.0,9,  -999.00,9,  -0.7915
  06AQ20070728,EurArc,   239,  5,     23,     23,2,20070801,1440, 80.9930,  33.9840,  229,     25.8,  -0.8019,  33.9690,2,   -999.0,9,    420.7,2,  -999.00,9,  -999.00,9,  -999.00,9,  -999.00,9,   -999.0,9,   -999.0,9,  -999.00,9,  -0.8026
  06AQ20070728,EurArc,   239,  5,     24,     24,2,20070801,1440, 80.9930,  33.9840,  229,     25.8,  -0.7995,  33.9710,2,   -999.0,9,    420.7,2,  -999.00,9,  -999.00,9,  -999.00,9,  -999.00,9,   -999.0,9,   -999.0,9,  -999.00,9,  -0.8002
  06AQ20070728,EurArc,   240,  1,      1,      1,2,20070801,2023, 81.4990,  34.0040,  210,    207.1,   1.3852,  34.8610,2,   -999.0,9,    314.9,2,  -999.00,9,  -999.00,9,  -999.00,9,  -999.00,9,   -999.0,9,   -999.0,9,  -999.00,9,   1.3750
  06AQ20070728,EurArc,   240,  1,      2,      2,2,20070801,2023, 81.4990,  34.0040,  210,    197.1,   1.3873,  34.8610,2,   -999.0,9,    314.7,2,  -999.00,9,  -999.00,9,  -999.00,9,  -999.00,9,   -999.0,9,   -999.0,9,  -999.00,9,   1.3777
  06AQ20070728,EurArc,   240,  1,      3,      3,2,20070801,2023, 81.4990,  34.0040,  210,    176.9,   1.3829,  34.8610,2,   -999.0,9,    314.1,2,  -999.00,9,  -999.00,9,  -999.00,9,  -999.00,9,   -999.0,9,   -999.0,9,  -999.00,9,   1.3743
  06AQ20070728,EurArc,   240,  1,      4,      4,2,20070801,2023, 81.4990,  34.0040,  210,    151.4,   1.4676,  34.8710,2,    302.7,2,    314.2,2,  -999.00,9,  -999.00,9,  -999.00,9,  -999.00,9,   -999.0,9,   -999.0,9,     0.16,2,   1.4601
  06AQ20070728,EurArc,   240,  1,      5,      5,2,20070801,2023, 81.4990,  34.0040,  210,    126.1,   1.4917,  34.8720,2,    303.0,2,    314.0,2,  -999.00,9,  -999.00,9,  -999.00,9,  -999.00,9,   -999.0,9,   -999.0,9,     0.20,2,   1.4855
  06AQ20070728,EurArc,   240,  1,      6,      6,2,20070801,2023, 81.4990,  34.0040,  210,    100.8,   1.5182,  34.8530,2,   -999.0,9,    314.5,2,  -999.00,9,  -999.00,9,  -999.00,9,  -999.00,9,   -999.0,9,   -999.0,9,  -999.00,9,   1.5132
  06AQ20070728,EurArc,   240,  1,      7,      7,2,20070801,2023, 81.4990,  34.0040,  210,    100.8,   1.5466,  34.8550,2,    301.6,2,    314.5,2,  -999.00,9,  -999.00,9,  -999.00,9,  -999.00,9,   -999.0,9,   -999.0,9,  -999.00,9,   1.5416
  06AQ20070728,EurArc,   240,  1,      8,      8,2,20070801,2023, 81.4990,  34.0040,  210,     75.5,   1.2473,  34.7600,2,    302.1,2,    313.9,2,  -999.00,9,  -999.00,9,  -999.00,9,  -999.00,9,   -999.0,9,   -999.0,9,     0.18,2,   1.2438
  06AQ20070728,EurArc,   240,  1,      9,      9,2,20070801,2023, 81.4990,  34.0040,  210,     50.5,  -0.1734,  34.5230,2,    311.1,2,    328.9,2,  -999.00,9,  -999.00,9,  -999.00,9,  -999.00,9,   -999.0,9,   -999.0,9,     0.16,2,  -0.1751
  06AQ20070728,EurArc,   240,  1,     10,     10,2,20070801,2023, 81.4990,  34.0040,  210,     45.8,  -0.8190,  34.3790,2,    317.1,2,    332.5,2,  -999.00,9,  -999.00,9,  -999.00,9,  -999.00,9,   -999.0,9,   -999.0,9,  -999.00,9,  -0.8203
  06AQ20070728,EurArc,   240,  1,     11,     11,2,20070801,2023, 81.4990,  34.0040,  210,     40.6,  -0.9091,  34.3380,2,    320.9,2,    335.9,2,  -999.00,9,  -999.00,9,  -999.00,9,  -999.00,9,   -999.0,9,   -999.0,9,     0.07,2,  -0.9102
  06AQ20070728,EurArc,   240,  1,     12,     12,2,20070801,2023, 81.4990,  34.0040,  210,     30.3,  -1.1412,  34.2190,2,    334.2,2,    360.6,2,  -999.00,9,  -999.00,9,  -999.00,9,  -999.00,9,   -999.0,9,   -999.0,9,  -999.00,9,  -1.1420
  06AQ20070728,EurArc,   240,  1,     13,     13,2,20070801,2023, 81.4990,  34.0040,  210,     24.9,  -1.4060,  33.9400,2,    373.8,2,    392.4,2,  -999.00,9,  -999.00,9,  -999.00,9,  -999.00,9,   -999.0,9,   -999.0,9,     0.13,2,  -1.4065
  06AQ20070728,EurArc,   240,  1,     14,     14,2,20070801,2023, 81.4990,  34.0040,  210,     20.1,  -1.4457,  33.7960,2,    392.9,2,    411.2,2,  -999.00,9,  -999.00,9,  -999.00,9,  -999.00,9,   -999.0,9,   -999.0,9,  -999.00,9,  -1.4461
  06AQ20070728,EurArc,   240,  1,     15,     15,2,20070801,2023, 81.4990,  34.0040,  210,     14.7,  -1.3644,  33.3770,2,    419.7,2,    425.5,2,  -999.00,9,  -999.00,9,  -999.00,9,  -999.00,9,   -999.0,9,   -999.0,9,  -999.00,9,  -1.3647
  06AQ20070728,EurArc,   240,  1,     16,     16,2,20070801,2023, 81.4990,  34.0040,  210,      9.9,  -1.3453,  33.0110,2,    423.6,2,    424.9,2,  -999.00,9,  -999.00,9,  -999.00,9,  -999.00,9,   -999.0,9,   -999.0,9,     0.16,2,  -1.3455
  06AQ20070728,EurArc,   240,  1,     17,     17,2,20070801,2023, 81.4990,  34.0040,  210,      2.0,  -1.3498,  32.8930,2,    413.9,2,    426.1,2,  -999.00,9,  -999.00,9,  -999.00,9,  -999.00,9,   -999.0,9,   -999.0,9,     0.19,2,  -1.3498
  06AQ20070728,EurArc,   243,  1,      1,      1,2,20070802,0015, 81.7300,  33.9920, 1518,   1532.5,  -0.6110,  34.9090,2,   -999.0,9,    301.6,2,  -999.00,9,  -999.00,9,  -999.00,9,  -999.00,9,   -999.0,9,   -999.0,9,  -999.00,9,  -0.6790
  06AQ20070728,EurArc,   243,  1,      2,      2,2,20070802,0015, 81.7300,  33.9920, 1518,   1522.0,  -0.6157,  34.9090,2,   -999.0,9,    301.7,2,  -999.00,9,  -999.00,9,  -999.00,9,  -999.00,9,   -999.0,9,   -999.0,9,  -999.00,9,  -0.6831
  06AQ20070728,EurArc,   243,  1,      3,      3,2,20070802,0015, 81.7300,  33.9920, 1518,   1420.3,  -0.5827,  34.9080,2,   -999.0,9,    304.2,2,  -999.00,9,  -999.00,9,  -999.00,9,  -999.00,9,   -999.0,9,   -999.0,9,  -999.00,9,  -0.6447
  06AQ20070728,EurArc,   243,  1,      4,      4,2,20070802,0015, 81.7300,  33.9920, 1518,   1217.5,  -0.4997,  34.9080,2,   -999.0,9,    303.8,2,  -999.00,9,  -999.00,9,  -999.00,9,  -999.00,9,   -999.0,9,   -999.0,9,  -999.00,9,  -0.5514
  06AQ20070728,EurArc,   243,  1,      5,      5,2,20070802,0015, 81.7300,  33.9920, 1518,   1013.5,  -0.4050,  34.9080,2,   -999.0,9,    302.5,2,  -999.00,9,  -999.00,9,  -999.00,9,  -999.00,9,   -999.0,9,   -999.0,9,  -999.00,9,  -0.4470
  06AQ20070728,EurArc,   243,  1,      6,      6,2,20070802,0015, 81.7300,  33.9920, 1518,    911.3,  -0.3139,  34.9100,2,   -999.0,9,    302.9,2,  -999.00,9,  -999.00,9,  -999.00,9,  -999.00,9,   -999.0,9,   -999.0,9,  -999.00,9,  -0.3515
  06AQ20070728,EurArc,   243,  1,      7,      7,2,20070802,0015, 81.7300,  33.9920, 1518,    810.2,  -0.0241,  34.9150,2,   -999.0,9,    304.1,2,  -999.00,9,  -999.00,9,  -999.00,9,  -999.00,9,   -999.0,9,   -999.0,9,  -999.00,9,  -0.0588
  06AQ20070728,EurArc,   243,  1,      8,      8,2,20070802,0015, 81.7300,  33.9920, 1518,    709.4,   0.5926,  34.9320,2,   -999.0,9,    307.6,2,  -999.00,9,  -999.00,9,  -999.00,9,  -999.00,9,   -999.0,9,   -999.0,9,  -999.00,9,   0.5593
  06AQ20070728,EurArc,   243,  1,      9,      9,2,20070802,0015, 81.7300,  33.9920, 1518,    608.1,   1.3262,  34.9480,2,   -999.0,9,    311.6,2,  -999.00,9,  -999.00,9,  -999.00,9,  -999.00,9,   -999.0,9,   -999.0,9,  -999.00,9,   1.2945
  06AQ20070728,EurArc,   243,  1,     10,     10,2,20070802,0015, 81.7300,  33.9920, 1518,    506.2,   1.7466,  34.9580,2,   -999.0,9,    312.8,2,  -999.00,9,  -999.00,9,  -999.00,9,  -999.00,9,   -999.0,9,   -999.0,9,  -999.00,9,   1.7189
  06AQ20070728,EurArc,   243,  1,     11,     11,2,20070802,0015, 81.7300,  33.9920, 1518,    404.7,   2.3014,  34.9960,2,   -999.0,9,    313.2,2,  -999.00,9,  -999.00,9,  -999.00,9,  -999.00,9,   -999.0,9,   -999.0,9,  -999.00,9,   2.2778
  06AQ20070728,EurArc,   243,  1,     12,     12,2,20070802,0015, 81.7300,  33.9920, 1518,    303.4,   2.6239,  35.0100,2,   -999.0,9,    311.1,2,  -999.00,9,  -999.00,9,  -999.00,9,  -999.00,9,   -999.0,9,   -999.0,9,  -999.00,9,   2.6056
  06AQ20070728,EurArc,   243,  1,     13,     13,2,20070802,0015, 81.7300,  33.9920, 1518,    303.4,   2.6229,  35.0100,2,   -999.0,9,    311.1,2,  -999.00,9,  -999.00,9,  -999.00,9,  -999.00,9,   -999.0,9,   -999.0,9,  -999.00,9,   2.6046
  06AQ20070728,EurArc,   243,  1,     14,     14,2,20070802,0015, 81.7300,  33.9920, 1518,    303.4,   2.6209,  35.0100,2,   -999.0,9,    311.1,2,  -999.00,9,  -999.00,9,  -999.00,9,  -999.00,9,   -999.0,9,   -999.0,9,  -999.00,9,   2.6026
  06AQ20070728,EurArc,   243,  1,     15,     15,2,20070802,0015, 81.7300,  33.9920, 1518,    202.5,   2.8077,  34.9950,2,   -999.0,9,    307.1,2,  -999.00,9,  -999.00,9,  -999.00,9,  -999.00,9,   -999.0,9,   -999.0,9,  -999.00,9,   2.7954
  06AQ20070728,EurArc,   243,  1,     16,     16,2,20070802,0015, 81.7300,  33.9920, 1518,    151.6,   2.5677,  34.9260,2,   -999.0,9,    307.1,2,  -999.00,9,  -999.00,9,  -999.00,9,  -999.00,9,   -999.0,9,   -999.0,9,  -999.00,9,   2.5589
  06AQ20070728,EurArc,   243,  1,     17,     17,2,20070802,0015, 81.7300,  33.9920, 1518,    126.5,   2.1805,  34.8510,2,   -999.0,9,    308.6,2,  -999.00,9,  -999.00,9,  -999.00,9,  -999.00,9,   -999.0,9,   -999.0,9,  -999.00,9,   2.1736
  06AQ20070728,EurArc,   243,  1,     18,     18,2,20070802,0015, 81.7300,  33.9920, 1518,    101.3,   1.5762,  34.7440,2,   -999.0,9,    313.4,2,  -999.00,9,  -999.00,9,  -999.00,9,  -999.00,9,   -999.0,9,   -999.0,9,  -999.00,9,   1.5712
  06AQ20070728,EurArc,   243,  1,     19,     19,2,20070802,0015, 81.7300,  33.9920, 1518,    101.4,   1.5417,  34.7390,2,   -999.0,9,    313.4,2,  -999.00,9,  -999.00,9,  -999.00,9,  -999.00,9,   -999.0,9,   -999.0,9,  -999.00,9,   1.5367
  06AQ20070728,EurArc,   243,  1,     20,     20,2,20070802,0015, 81.7300,  33.9920, 1518,     75.8,   0.1364,  34.4960,2,   -999.0,9,    323.4,2,  -999.00,9,  -999.00,9,  -999.00,9,  -999.00,9,   -999.0,9,   -999.0,9,  -999.00,9,   0.1336
  06AQ20070728,EurArc,   243,  1,     21,     21,2,20070802,0015, 81.7300,  33.9920, 1518,     49.4,  -1.1382,  34.2500,2,   -999.0,9,    338.6,2,  -999.00,9,  -999.00,9,  -999.00,9,  -999.00,9,   -999.0,9,   -999.0,9,  -999.00,9,  -1.1394
  06AQ20070728,EurArc,   243,  1,     22,     22,2,20070802,0015, 81.7300,  33.9920, 1518,     24.9,  -1.5658,  33.9180,2,   -999.0,9,    389.7,2,  -999.00,9,  -999.00,9,  -999.00,9,  -999.00,9,   -999.0,9,   -999.0,9,  -999.00,9,  -1.5663
  06AQ20070728,EurArc,   243,  1,     23,     23,2,20070802,0015, 81.7300,  33.9920, 1518,     10.4,  -1.3604,  33.0250,2,   -999.0,9,    415.7,2,  -999.00,9,  -999.00,9,  -999.00,9,  -999.00,9,   -999.0,9,   -999.0,9,  -999.00,9,  -1.3606
  06AQ20070728,EurArc,   243,  1,     24,     24,2,20070802,0015, 81.7300,  33.9920, 1518,      2.6,  -1.3073,  32.2670,2,   -999.0,9,    423.4,2,  -999.00,9,  -999.00,9,  -999.00,9,  -999.00,9,   -999.0,9,   -999.0,9,  -999.00,9,  -1.3074