BOTTLE,20220921CCHSIOAMB
EXPOCODE,SECT_ID,STNNBR,CASTNO,SAMPNO,BTLNBR,BTLNBR_FLAG_W,DATE,TIME,LATITUDE,LONGITUDE,DEPTH,CTDPRS,CTDTMP,CTDSAL,CTDSAL_FLAG_W,CTDOXY,CTDOXY_FLAG_W,OXYGEN,OXYGEN_FLAG_W,SILCAT,SILCAT_FLAG_W,NITRAT,NITRAT_FLAG_W,NITRIT,NITRIT_FLAG_W,PHSPHT,PHSPHT_FLAG_W,TCARBN,TCARBN_FLAG_W,ALKALI,ALKALI_FLAG_W,DELO18,DELO18_FLAG_W,THETA
,,,,,,,,,,,METERS,DBAR,ITS-90,PSS-78,,UMOL/KG,,UMOL/KG,,UMOL/KG,,UMOL/KG,,UMOL/KG,,UMOL/KG,,UMOL/KG,,UMOL/KG,,/MILLE,,DEG C
  06AQ20070728,EurArc,   276,  5,      1,      1,2,20070817,1030, 82.0840,  68.9600,  679,    404.8,   1.4946,  34.9260,2,   -999.0,9,    305.8,2,     5.36,2,    12.10,2,     0.02,2,     0.83,2,   -999.0,9,   -999.0,9,  -999.00,9,   1.4737
  06AQ20070728,EurArc,   276,  5,      2,      2,2,20070817,1030, 82.0840,  68.9600,  679,    152.2,   2.3979,  34.8950,2,   -999.0,9,    301.7,2,     4.45,2,    11.30,2,     0.03,2,     0.77,2,   -999.0,9,   -999.0,9,  -999.00,9,   2.3892
  06AQ20070728,EurArc,   276,  5,      4,      4,2,20070817,1030, 82.0840,  68.9600,  679,    101.1,   1.7771,  34.7860,2,   -999.0,9,    306.4,2,     4.12,2,    10.54,2,     0.04,2,     0.73,2,   -999.0,9,   -999.0,9,  -999.00,9,   1.7719
  06AQ20070728,EurArc,   276,  5,      8,      8,2,20070817,1030, 82.0840,  68.9600,  679,    101.1,   1.7651,  34.7890,2,   -999.0,9,    306.4,2,  -999.00,9,  -999.00,9,  -999.00,9,  -999.00,9,   -999.0,9,   -999.0,9,  -999.00,9,   1.7599
  06AQ20070728,EurArc,   276,  5,      9,      9,2,20070817,1030, 82.0840,  68.9600,  679,    101.1,   1.7639,  34.7890,2,   -999.0,9,    306.4,2,  -999.00,9,  -999.00,9,  -999.00,9,  -999.00,9,   -999.0,9,   -999.0,9,  -999.00,9,   1.7587
  06AQ20070728,EurArc,   276,  5,      5,      5,2,20070817,1030, 82.0840,  68.9600,  679,    101.1,   1.7674,  34.7900,2,   -999.0,9,    306.4,2,  -999.00,9,  -999.00,9,  -999.00,9,  -999.00,9,   -999.0,9,   -999.0,9,  -999.00,9,   1.7622
  06AQ20070728,EurArc,   276,  5,     10,     10,2,20070817,1030, 82.0840,  68.9600,  679,    101.1,   1.7616,  34.7890,2,   -999.0,9,    306.4,2,  -999.00,9,  -999.00,9,  -999.00,9,  -999.00,9,   -999.0,9,   -999.0,9,  -999.00,9,   1.7564
  06AQ20070728,EurArc,   276,  5,     11,     11,2,20070817,1030, 82.0840,  68.9600,  679,    101.1,   1.7577,  34.7880,2,   -999.0,9,    306.4,2,  -999.00,9,  -999.00,9,  -999.00,9,  -999.00,9,   -999.0,9,   -999.0,9,  -999.00,9,   1.7525
  06AQ20070728,EurArc,   276,  5,      3,      3,2,20070817,1030, 82.0840,  68.9600,  679,    101.1,   1.7818,  34.7890,2,   -999.0,9,    306.4,2,  -999.00,9,  -999.00,9,  -999.00,9,  -999.00,9,   -999.0,9,   -999.0,9,  -999.00,9,   1.7766
  06AQ20070728,EurArc,   276,  5,      6,      6,2,20070817,1030, 82.0840,  68.9600,  679,    101.1,   1.7756,  34.7910,2,   -999.0,9,    306.4,2,  -999.00,9,  -999.00,9,  -999.00,9,  -999.00,9,   -999.0,9,   -999.0,9,  -999.00,9,   1.7704
  06AQ20070728,EurArc,   276,  5,     12,     12,2,20070817,1030, 82.0840,  68.9600,  679,    101.1,   1.7521,  34.7880,2,   -999.0,9,    306.4,2,  -999.00,9,  -999.00,9,  -999.00,9,  -999.00,9,   -999.0,9,   -999.0,9,  -999.00,9,   1.7469
  06AQ20070728,EurArc,   276,  5,      7,      7,2,20070817,1030, 82.0840,  68.9600,  679,    101.1,   1.7702,  34.7900,2,   -999.0,9,    306.4,2,  -999.00,9,  -999.00,9,  -999.00,9,  -999.00,9,   -999.0,9,   -999.0,9,  -999.00,9,   1.7650
  06AQ20070728,EurArc,   276,  5,     16,     16,2,20070817,1030, 82.0840,  68.9600,  679,     75.8,  -0.6117,  34.4920,2,   -999.0,9,    326.6,2,     3.84,2,     9.98,2,     0.06,2,     0.70,2,   -999.0,9,   -999.0,9,  -999.00,9,  -0.6140
  06AQ20070728,EurArc,   276,  5,     14,     14,2,20070817,1030, 82.0840,  68.9600,  679,     75.8,  -0.5954,  34.4950,2,   -999.0,9,    326.6,2,  -999.00,9,  -999.00,9,  -999.00,9,  -999.00,9,   -999.0,9,   -999.0,9,  -999.00,9,  -0.5977
  06AQ20070728,EurArc,   276,  5,     13,     13,2,20070817,1030, 82.0840,  68.9600,  679,     75.8,  -0.6080,  34.4930,2,   -999.0,9,    326.6,2,  -999.00,9,  -999.00,9,  -999.00,9,  -999.00,9,   -999.0,9,   -999.0,9,  -999.00,9,  -0.6103
  06AQ20070728,EurArc,   276,  5,     15,     15,2,20070817,1030, 82.0840,  68.9600,  679,     75.8,  -0.5749,  34.4990,2,   -999.0,9,    326.6,2,  -999.00,9,  -999.00,9,  -999.00,9,  -999.00,9,   -999.0,9,   -999.0,9,  -999.00,9,  -0.5772
  06AQ20070728,EurArc,   276,  5,     17,     17,2,20070817,1030, 82.0840,  68.9600,  679,     50.6,  -1.1296,  34.3010,2,   -999.0,9,    346.6,2,     2.53,2,     7.13,2,     0.19,2,     0.56,2,   -999.0,9,   -999.0,9,  -999.00,9,  -1.1309
  06AQ20070728,EurArc,   276,  5,     18,     18,2,20070817,1030, 82.0840,  68.9600,  679,     50.6,  -1.0836,  34.3110,2,   -999.0,9,    346.6,2,  -999.00,9,  -999.00,9,  -999.00,9,  -999.00,9,   -999.0,9,   -999.0,9,  -999.00,9,  -1.0849
  06AQ20070728,EurArc,   276,  5,     19,     19,2,20070817,1030, 82.0840,  68.9600,  679,     50.6,  -1.0659,  34.3060,2,   -999.0,9,    346.6,2,  -999.00,9,  -999.00,9,  -999.00,9,  -999.00,9,   -999.0,9,   -999.0,9,  -999.00,9,  -1.0672
  06AQ20070728,EurArc,   276,  5,     20,     20,2,20070817,1030, 82.0840,  68.9600,  679,     50.6,  -1.0280,  34.3010,2,   -999.0,9,    346.6,2,  -999.00,9,  -999.00,9,  -999.00,9,  -999.00,9,   -999.0,9,   -999.0,9,  -999.00,9,  -1.0293
  06AQ20070728,EurArc,   276,  5,     23,     23,2,20070817,1030, 82.0840,  68.9600,  679,     25.4,  -1.5893,  33.5460,2,   -999.0,9,    379.7,2,     0.76,2,     2.55,2,     0.06,2,     0.34,2,   -999.0,9,   -999.0,9,  -999.00,9,  -1.5898
  06AQ20070728,EurArc,   276,  5,     24,     24,2,20070817,1030, 82.0840,  68.9600,  679,     25.4,  -1.5886,  33.5450,2,   -999.0,9,    379.7,2,  -999.00,9,  -999.00,9,  -999.00,9,  -999.00,9,   -999.0,9,   -999.0,9,  -999.00,9,  -1.5891
  06AQ20070728,EurArc,   276,  5,     22,     22,2,20070817,1030, 82.0840,  68.9600,  679,     25.4,  -1.5891,  33.5460,2,   -999.0,9,    379.7,2,  -999.00,9,  -999.00,9,  -999.00,9,  -999.00,9,   -999.0,9,   -999.0,9,  -999.00,9,  -1.5896
  06AQ20070728,EurArc,   276,  5,     21,     21,2,20070817,1030, 82.0840,  68.9600,  679,     25.4,  -1.5892,  33.5490,2,   -999.0,9,    379.7,2,  -999.00,9,  -999.00,9,  -999.00,9,  -999.00,9,   -999.0,9,   -999.0,9,  -999.00,9,  -1.5897
  06AQ20070728,EurArc,   277,  1,      1,      1,2,20070818,1341, 82.3920,  83.8310, 1474,   1488.7,  -0.6671,  34.9120,2,   -999.0,9,    299.4,2,    10.30,3,    14.62,3,     0.02,2,     0.98,3,   -999.0,9,   -999.0,9,  -999.00,9,  -0.7320
  06AQ20070728,EurArc,   277,  1,      2,      2,2,20070818,1341, 82.3920,  83.8310, 1474,   1216.6,  -0.5394,  34.8970,2,   -999.0,9,    324.5,2,     6.19,2,    11.25,2,     0.02,2,     0.80,2,   -999.0,9,   -999.0,9,  -999.00,9,  -0.5907
  06AQ20070728,EurArc,   277,  1,      3,      3,2,20070818,1341, 82.3920,  83.8310, 1474,   1216.2,  -0.5285,  34.8980,2,   -999.0,9,    324.5,2,     6.14,2,    11.27,2,     0.02,2,     0.80,2,   -999.0,9,   -999.0,9,  -999.00,9,  -0.5799
  06AQ20070728,EurArc,   277,  1,      4,      4,2,20070818,1341, 82.3920,  83.8310, 1474,   1215.9,  -0.5287,  34.8980,2,   -999.0,9,    324.5,2,     6.14,2,    11.24,2,     0.02,2,     0.81,2,   -999.0,9,   -999.0,9,  -999.00,9,  -0.5801
  06AQ20070728,EurArc,   277,  1,      5,      5,2,20070818,1341, 82.3920,  83.8310, 1474,   1215.6,  -0.5288,  34.8980,2,   -999.0,9,    324.4,2,     6.14,2,    11.24,2,     0.02,2,     0.80,2,   -999.0,9,   -999.0,9,  -999.00,9,  -0.5801
  06AQ20070728,EurArc,   277,  1,      6,      6,2,20070818,1341, 82.3920,  83.8310, 1474,   1215.2,  -0.5280,  34.8980,2,   -999.0,9,    324.4,2,     6.15,2,    11.26,2,     0.02,2,     0.80,2,   -999.0,9,   -999.0,9,  -999.00,9,  -0.5793
  06AQ20070728,EurArc,   277,  1,      7,      7,2,20070818,1341, 82.3920,  83.8310, 1474,   1215.0,  -0.5285,  34.8980,2,   -999.0,9,    324.4,2,     6.22,2,    11.39,2,     0.02,2,     0.81,2,   -999.0,9,   -999.0,9,  -999.00,9,  -0.5798
  06AQ20070728,EurArc,   277,  1,      8,      8,2,20070818,1341, 82.3920,  83.8310, 1474,   1214.6,  -0.5289,  34.8980,2,   -999.0,9,    324.4,2,     6.17,2,    11.35,2,     0.02,2,     0.80,2,   -999.0,9,   -999.0,9,  -999.00,9,  -0.5802
  06AQ20070728,EurArc,   277,  1,      9,      9,2,20070818,1341, 82.3920,  83.8310, 1474,   1214.3,  -0.5295,  34.8980,2,   -999.0,9,    324.4,2,     6.13,2,    11.20,2,     0.02,2,     0.80,2,   -999.0,9,   -999.0,9,  -999.00,9,  -0.5808
  06AQ20070728,EurArc,   277,  1,     10,     10,2,20070818,1341, 82.3920,  83.8310, 1474,   1015.1,  -0.3463,  34.8920,2,   -999.0,9,    320.8,2,     6.24,2,    11.78,2,     0.02,2,     0.82,2,   -999.0,9,   -999.0,9,  -999.00,9,  -0.3889
  06AQ20070728,EurArc,   277,  1,     11,     11,2,20070818,1341, 82.3920,  83.8310, 1474,    812.6,   0.0609,  34.8890,2,   -999.0,9,    317.7,2,     5.71,2,    11.77,2,     0.02,2,     0.82,2,   -999.0,9,   -999.0,9,  -999.00,9,   0.0256
  06AQ20070728,EurArc,   277,  1,     12,     12,2,20070818,1341, 82.3920,  83.8310, 1474,    609.0,   1.0296,  34.9170,2,   -999.0,9,    305.7,2,     6.01,2,    12.69,2,     0.01,2,     0.86,2,   -999.0,9,   -999.0,9,  -999.00,9,   0.9994
  06AQ20070728,EurArc,   277,  1,     13,     13,2,20070818,1341, 82.3920,  83.8310, 1474,    507.5,   1.5909,  34.9390,2,   -999.0,9,    306.5,2,     5.53,2,    12.53,2,     0.01,2,     0.84,2,   -999.0,9,   -999.0,9,  -999.00,9,   1.5638
  06AQ20070728,EurArc,   277,  1,     14,     14,2,20070818,1341, 82.3920,  83.8310, 1474,    405.2,   2.2322,  34.9700,2,   -999.0,9,    305.7,2,     5.20,2,    12.59,2,     0.01,2,     0.83,2,   -999.0,9,   -999.0,9,  -999.00,9,   2.2088
  06AQ20070728,EurArc,   277,  1,     15,     15,2,20070818,1341, 82.3920,  83.8310, 1474,    304.0,   2.6473,  34.9800,2,   -999.0,9,    304.0,2,     4.99,2,    12.45,2,     0.02,2,     0.83,2,   -999.0,9,   -999.0,9,  -999.00,9,   2.6289
  06AQ20070728,EurArc,   277,  1,     16,     16,2,20070818,1341, 82.3920,  83.8310, 1474,    202.2,   2.3643,  34.9130,2,   -999.0,9,    304.5,2,     4.54,2,    11.94,2,     0.02,2,     0.80,2,   -999.0,9,   -999.0,9,  -999.00,9,   2.3528
  06AQ20070728,EurArc,   277,  1,     17,     17,2,20070818,1341, 82.3920,  83.8310, 1474,    151.9,   2.3718,  34.8910,2,    291.2,2,    303.7,2,     4.41,2,    11.64,2,     0.02,2,     0.78,2,   -999.0,9,   -999.0,9,     0.11,2,   2.3632
  06AQ20070728,EurArc,   277,  1,     18,     18,2,20070818,1341, 82.3920,  83.8310, 1474,    127.1,   2.0501,  34.8410,2,    293.9,2,    309.0,2,     4.28,2,    11.24,2,     0.02,2,     0.75,2,   -999.0,9,   -999.0,9,     0.05,2,   2.0433
  06AQ20070728,EurArc,   277,  1,     19,     19,2,20070818,1341, 82.3920,  83.8310, 1474,    101.9,   0.3655,  34.6280,2,    306.7,2,    319.0,2,     3.82,2,    10.06,2,     0.02,2,     0.70,2,   -999.0,9,   -999.0,9,     0.02,2,   0.3615
  06AQ20070728,EurArc,   277,  1,     20,     20,2,20070818,1341, 82.3920,  83.8310, 1474,     76.3,  -1.0154,  34.4520,2,    317.9,2,    330.3,2,     3.16,2,     8.22,2,     0.02,2,     0.60,2,   -999.0,9,   -999.0,9,    -0.10,2,  -1.0174
  06AQ20070728,EurArc,   277,  1,     21,     21,2,20070818,1341, 82.3920,  83.8310, 1474,     50.6,  -1.7067,  34.2680,2,    325.4,2,    339.2,2,     2.88,2,     7.87,2,     0.03,2,     0.55,2,   -999.0,9,   -999.0,9,    -0.22,2,  -1.7077
  06AQ20070728,EurArc,   277,  1,     22,     22,2,20070818,1341, 82.3920,  83.8310, 1474,     25.4,  -1.6800,  33.8670,2,    340.5,2,    358.9,2,     2.54,2,     5.31,2,     0.16,2,     0.45,2,   -999.0,9,   -999.0,9,    -0.28,2,  -1.6805
  06AQ20070728,EurArc,   277,  1,     23,     23,2,20070818,1341, 82.3920,  83.8310, 1474,     10.4,  -1.6580,  32.8570,2,    367.5,2,    381.9,2,     2.26,2,     3.91,2,     0.06,2,     0.28,2,   -999.0,9,   -999.0,9,    -0.44,2,  -1.6582
  06AQ20070728,EurArc,   277,  1,     24,     24,2,20070818,1341, 82.3920,  83.8310, 1474,      2.1,  -1.6620,  32.6390,2,    370.4,2,    381.6,2,     2.15,2,     1.44,2,     0.05,2,     0.18,2,   -999.0,9,   -999.0,9,    -0.56,2,  -1.6620
  06AQ20070728,EurArc,   278,  1,      1,      1,2,20070819,0308, 81.5310,  84.0540,  372,    369.4,  -0.5231,  34.8790,2,   -999.0,9,    328.9,2,  -999.00,9,  -999.00,9,  -999.00,9,  -999.00,9,   -999.0,9,   -999.0,9,  -999.00,9,  -0.5359
  06AQ20070728,EurArc,   278,  1,      2,      2,2,20070819,0308, 81.5310,  84.0540,  372,    369.4,  -0.5231,  34.8790,2,   -999.0,9,    328.9,2,  -999.00,9,  -999.00,9,  -999.00,9,  -999.00,9,   -999.0,9,   -999.0,9,  -999.00,9,  -0.5359
  06AQ20070728,EurArc,   278,  1,      4,      4,2,20070819,0308, 81.5310,  84.0540,  372,    369.4,  -0.5228,  34.8790,2,   -999.0,9,    328.9,2,  -999.00,9,  -999.00,9,  -999.00,9,  -999.00,9,   -999.0,9,   -999.0,9,  -999.00,9,  -0.5356
  06AQ20070728,EurArc,   278,  1,      5,      5,2,20070819,0308, 81.5310,  84.0540,  372,    369.4,  -0.5229,  34.8790,2,   -999.0,9,    328.9,2,  -999.00,9,  -999.00,9,  -999.00,9,  -999.00,9,   -999.0,9,   -999.0,9,  -999.00,9,  -0.5357
  06AQ20070728,EurArc,   278,  1,      3,      3,2,20070819,0308, 81.5310,  84.0540,  372,    369.4,  -0.5231,  34.8800,2,   -999.0,9,    328.9,2,  -999.00,9,  -999.00,9,  -999.00,9,  -999.00,9,   -999.0,9,   -999.0,9,  -999.00,9,  -0.5359
  06AQ20070728,EurArc,   278,  1,      6,      6,2,20070819,0308, 81.5310,  84.0540,  372,    369.4,  -0.5222,  34.8800,2,   -999.0,9,    328.9,2,  -999.00,9,  -999.00,9,  -999.00,9,  -999.00,9,   -999.0,9,   -999.0,9,  -999.00,9,  -0.5350
  06AQ20070728,EurArc,   278,  1,      8,      8,2,20070819,0308, 81.5310,  84.0540,  372,    369.3,  -0.5230,  34.8800,2,   -999.0,9,    328.9,2,  -999.00,9,  -999.00,9,  -999.00,9,  -999.00,9,   -999.0,9,   -999.0,9,  -999.00,9,  -0.5358
  06AQ20070728,EurArc,   278,  1,      9,      9,2,20070819,0308, 81.5310,  84.0540,  372,    369.3,  -0.5234,  34.8790,2,   -999.0,9,    328.9,2,  -999.00,9,  -999.00,9,  -999.00,9,  -999.00,9,   -999.0,9,   -999.0,9,  -999.00,9,  -0.5362
  06AQ20070728,EurArc,   278,  1,     10,     10,2,20070819,0308, 81.5310,  84.0540,  372,    369.3,  -0.5232,  34.8790,2,   -999.0,9,    328.9,2,  -999.00,9,  -999.00,9,  -999.00,9,  -999.00,9,   -999.0,9,   -999.0,9,  -999.00,9,  -0.5360
  06AQ20070728,EurArc,   278,  1,     11,     11,2,20070819,0308, 81.5310,  84.0540,  372,    369.2,  -0.5233,  34.8790,2,   -999.0,9,    328.9,2,  -999.00,9,  -999.00,9,  -999.00,9,  -999.00,9,   -999.0,9,   -999.0,9,  -999.00,9,  -0.5361
  06AQ20070728,EurArc,   278,  1,     12,     12,2,20070819,0308, 81.5310,  84.0540,  372,    369.2,  -0.5233,  34.8790,2,   -999.0,9,    328.9,2,  -999.00,9,  -999.00,9,  -999.00,9,  -999.00,9,   -999.0,9,   -999.0,9,  -999.00,9,  -0.5361
  06AQ20070728,EurArc,   278,  1,     14,     14,2,20070819,0308, 81.5310,  84.0540,  372,    369.2,  -0.5231,  34.8790,2,   -999.0,9,    328.9,2,  -999.00,9,  -999.00,9,  -999.00,9,  -999.00,9,   -999.0,9,   -999.0,9,  -999.00,9,  -0.5359
  06AQ20070728,EurArc,   278,  1,     13,     13,2,20070819,0308, 81.5310,  84.0540,  372,    369.2,  -0.5234,  34.8790,2,   -999.0,9,    328.9,2,  -999.00,9,  -999.00,9,  -999.00,9,  -999.00,9,   -999.0,9,   -999.0,9,  -999.00,9,  -0.5362
  06AQ20070728,EurArc,   278,  1,      7,      7,2,20070819,0308, 81.5310,  84.0540,  372,    369.3,  -0.5231,  34.8790,2,   -999.0,9,    328.9,2,  -999.00,9,  -999.00,9,  -999.00,9,  -999.00,9,   -999.0,9,   -999.0,9,  -999.00,9,  -0.5359
  06AQ20070728,EurArc,   278,  1,     15,     15,2,20070819,0308, 81.5310,  84.0540,  372,    303.9,  -0.5632,  34.8730,2,   -999.0,9,    330.7,2,     4.83,2,     9.87,2,     0.03,2,     0.73,2,   -999.0,9,   -999.0,9,  -999.00,9,  -0.5734
  06AQ20070728,EurArc,   278,  1,     16,     16,2,20070819,0308, 81.5310,  84.0540,  372,    202.1,   0.2115,  34.8400,2,   -999.0,9,    317.4,2,     4.70,2,    10.59,2,     0.15,2,     0.76,2,   -999.0,9,   -999.0,9,  -999.00,9,   0.2036
  06AQ20070728,EurArc,   278,  1,     17,     17,2,20070819,0308, 81.5310,  84.0540,  372,    151.4,   1.0755,  34.8630,2,    300.7,2,    310.5,2,     4.70,2,    10.95,2,     0.09,2,     0.77,2,   -999.0,9,   -999.0,9,     0.18,2,   1.0685
  06AQ20070728,EurArc,   278,  1,     18,     18,2,20070819,0308, 81.5310,  84.0540,  372,    126.7,   1.4013,  34.8680,2,    297.9,2,    309.0,2,     4.56,2,    11.01,2,     0.10,2,     0.77,2,   -999.0,9,   -999.0,9,     0.09,2,   1.3952
  06AQ20070728,EurArc,   278,  1,     19,     19,2,20070819,0308, 81.5310,  84.0540,  372,    101.6,   1.6380,  34.8570,2,    296.3,2,    308.6,2,     4.46,2,    10.99,2,     0.09,2,     0.76,2,   -999.0,9,   -999.0,9,     0.09,2,   1.6329
  06AQ20070728,EurArc,   278,  1,     20,     20,2,20070819,0308, 81.5310,  84.0540,  372,     76.0,   0.6437,  34.6950,2,    306.9,2,    322.3,2,     3.86,2,     9.63,2,     0.13,2,     0.71,2,   -999.0,9,   -999.0,9,     0.08,2,   0.6406
  06AQ20070728,EurArc,   278,  1,     21,     21,2,20070819,0308, 81.5310,  84.0540,  372,     50.9,  -1.3511,  34.3800,2,    328.9,2,    348.7,2,     2.84,2,     6.88,2,     0.16,2,     0.58,2,   -999.0,9,   -999.0,9,    -0.05,2,  -1.3523
  06AQ20070728,EurArc,   278,  1,     22,     22,2,20070819,0308, 81.5310,  84.0540,  372,     25.0,  -1.5764,  33.6660,2,    372.6,2,    397.4,2,     0.71,2,     1.89,2,     0.09,2,     0.28,2,   -999.0,9,   -999.0,9,    -0.18,2,  -1.5769
  06AQ20070728,EurArc,   278,  1,     23,     23,2,20070819,0308, 81.5310,  84.0540,  372,     10.4,  -1.6371,  31.7350,2,    385.4,2,    394.1,2,     0.40,2,     0.20,2,     0.02,2,     0.11,2,   -999.0,9,   -999.0,9,    -0.56,2,  -1.6373
  06AQ20070728,EurArc,   278,  1,     24,     24,2,20070819,0308, 81.5310,  84.0540,  372,      0.9,  -1.6293,  31.6300,2,    384.3,2,    393.8,2,     0.49,2,  -999.00,9,     0.01,2,     0.05,2,   -999.0,9,   -999.0,9,    -0.82,2,  -1.6293