BOTTLE,20220921CCHSIOAMB
EXPOCODE,SECT_ID,STNNBR,CASTNO,SAMPNO,BTLNBR,BTLNBR_FLAG_W,DATE,TIME,LATITUDE,LONGITUDE,DEPTH,CTDPRS,CTDTMP,CTDSAL,CTDSAL_FLAG_W,CTDOXY,CTDOXY_FLAG_W,OXYGEN,OXYGEN_FLAG_W,SILCAT,SILCAT_FLAG_W,NITRAT,NITRAT_FLAG_W,NITRIT,NITRIT_FLAG_W,PHSPHT,PHSPHT_FLAG_W,TCARBN,TCARBN_FLAG_W,ALKALI,ALKALI_FLAG_W,DELO18,DELO18_FLAG_W,THETA
,,,,,,,,,,,METERS,DBAR,ITS-90,PSS-78,,UMOL/KG,,UMOL/KG,,UMOL/KG,,UMOL/KG,,UMOL/KG,,UMOL/KG,,UMOL/KG,,UMOL/KG,,/MILLE,,DEG C
  06AQ20070728,EurArc,   255,  5,      1,      1,2,20070804,0459, 82.5030,  33.9520, 3078,   1013.3,  -0.1906,  34.9100,2,   -999.0,9,    303.0,2,     8.30,2,    13.64,2,     0.02,2,     0.94,2,   -999.0,9,   -999.0,9,  -999.00,9,  -0.2344
  06AQ20070728,EurArc,   255,  5,      2,      2,2,20070804,0459, 82.5030,  33.9520, 3078,   1013.3,  -0.1908,  34.9110,2,   -999.0,9,    303.0,2,  -999.00,9,  -999.00,9,  -999.00,9,  -999.00,9,   -999.0,9,   -999.0,9,  -999.00,9,  -0.2346
  06AQ20070728,EurArc,   255,  5,      3,      3,2,20070804,0459, 82.5030,  33.9520, 3078,   1013.3,  -0.1909,  34.9110,2,   -999.0,9,    303.0,2,  -999.00,9,  -999.00,9,  -999.00,9,  -999.00,9,   -999.0,9,   -999.0,9,  -999.00,9,  -0.2347
  06AQ20070728,EurArc,   255,  5,      4,      4,2,20070804,0459, 82.5030,  33.9520, 3078,   1013.3,  -0.1905,  34.9110,2,   -999.0,9,    303.0,2,  -999.00,9,  -999.00,9,  -999.00,9,  -999.00,9,   -999.0,9,   -999.0,9,  -999.00,9,  -0.2343
  06AQ20070728,EurArc,   255,  5,      5,      5,2,20070804,0459, 82.5030,  33.9520, 3078,    758.9,   0.5011,  34.9190,2,   -999.0,9,    305.0,2,     6.82,2,    12.99,2,     0.02,2,     0.89,2,   -999.0,9,   -999.0,9,  -999.00,9,   0.4657
  06AQ20070728,EurArc,   255,  5,      6,      6,2,20070804,0459, 82.5030,  33.9520, 3078,    759.0,   0.4978,  34.9190,2,   -999.0,9,    305.0,2,  -999.00,9,  -999.00,9,  -999.00,9,  -999.00,9,   -999.0,9,   -999.0,9,  -999.00,9,   0.4624
  06AQ20070728,EurArc,   255,  5,      7,      7,2,20070804,0459, 82.5030,  33.9520, 3078,    505.9,   1.6904,  34.9520,2,   -999.0,9,    305.1,2,     5.68,2,    12.45,2,     0.02,2,     0.84,2,   -999.0,9,   -999.0,9,  -999.00,9,   1.6630
  06AQ20070728,EurArc,   255,  5,      8,      8,2,20070804,0459, 82.5030,  33.9520, 3078,    505.9,   1.6893,  34.9520,2,   -999.0,9,    305.1,2,  -999.00,9,  -999.00,9,  -999.00,9,  -999.00,9,   -999.0,9,   -999.0,9,  -999.00,9,   1.6619
  06AQ20070728,EurArc,   255,  5,      9,      9,2,20070804,0459, 82.5030,  33.9520, 3078,    505.9,   1.6844,  34.9530,2,   -999.0,9,    305.1,2,  -999.00,9,  -999.00,9,  -999.00,9,  -999.00,9,   -999.0,9,   -999.0,9,  -999.00,9,   1.6570
  06AQ20070728,EurArc,   255,  5,     10,     10,2,20070804,0459, 82.5030,  33.9520, 3078,    505.9,   1.6887,  34.9520,2,   -999.0,9,    305.1,2,  -999.00,9,  -999.00,9,  -999.00,9,  -999.00,9,   -999.0,9,   -999.0,9,  -999.00,9,   1.6613
  06AQ20070728,EurArc,   255,  5,     11,     11,2,20070804,0459, 82.5030,  33.9520, 3078,    303.3,   2.4416,  34.9650,2,   -999.0,9,    306.1,2,     5.03,2,    11.88,2,     0.02,2,     0.80,2,   -999.0,9,   -999.0,9,  -999.00,9,   2.4238
  06AQ20070728,EurArc,   255,  5,     12,     12,2,20070804,0459, 82.5030,  33.9520, 3078,    303.3,   2.4372,  34.9650,2,   -999.0,9,    306.1,2,  -999.00,9,  -999.00,9,  -999.00,9,  -999.00,9,   -999.0,9,   -999.0,9,  -999.00,9,   2.4194
  06AQ20070728,EurArc,   255,  5,     13,     13,2,20070804,0459, 82.5030,  33.9520, 3078,    303.4,   2.4354,  34.9650,2,   -999.0,9,    306.1,2,  -999.00,9,  -999.00,9,  -999.00,9,  -999.00,9,   -999.0,9,   -999.0,9,  -999.00,9,   2.4176
  06AQ20070728,EurArc,   255,  5,     14,     14,2,20070804,0459, 82.5030,  33.9520, 3078,    303.4,   2.4367,  34.9650,2,   -999.0,9,    306.1,2,  -999.00,9,  -999.00,9,  -999.00,9,  -999.00,9,   -999.0,9,   -999.0,9,  -999.00,9,   2.4189
  06AQ20070728,EurArc,   255,  5,     15,     15,2,20070804,0459, 82.5030,  33.9520, 3078,    202.1,   2.7146,  34.9640,2,   -999.0,9,    304.2,2,     4.79,2,    11.61,2,     0.03,2,     0.79,2,   -999.0,9,   -999.0,9,  -999.00,9,   2.7025
  06AQ20070728,EurArc,   255,  5,     16,     16,2,20070804,0459, 82.5030,  33.9520, 3078,    202.2,   2.7138,  34.9640,2,   -999.0,9,    304.2,2,  -999.00,9,  -999.00,9,  -999.00,9,  -999.00,9,   -999.0,9,   -999.0,9,  -999.00,9,   2.7017
  06AQ20070728,EurArc,   255,  5,     17,     17,2,20070804,0459, 82.5030,  33.9520, 3078,    151.6,   2.6385,  34.9260,2,   -999.0,9,    303.2,2,     4.78,2,    11.62,2,     0.04,2,     0.79,2,   -999.0,9,   -999.0,9,  -999.00,9,   2.6296
  06AQ20070728,EurArc,   255,  5,     18,     18,2,20070804,0459, 82.5030,  33.9520, 3078,    151.7,   2.6488,  34.9280,2,   -999.0,9,    303.2,2,  -999.00,9,  -999.00,9,  -999.00,9,  -999.00,9,   -999.0,9,   -999.0,9,  -999.00,9,   2.6398
  06AQ20070728,EurArc,   255,  5,     19,     19,2,20070804,0459, 82.5030,  33.9520, 3078,    151.7,   2.6377,  34.9250,2,   -999.0,9,    303.2,2,  -999.00,9,  -999.00,9,  -999.00,9,  -999.00,9,   -999.0,9,   -999.0,9,  -999.00,9,   2.6288
  06AQ20070728,EurArc,   255,  5,     20,     20,2,20070804,0459, 82.5030,  33.9520, 3078,    151.7,   2.6475,  34.9270,2,   -999.0,9,    303.2,2,  -999.00,9,  -999.00,9,  -999.00,9,  -999.00,9,   -999.0,9,   -999.0,9,  -999.00,9,   2.6385
  06AQ20070728,EurArc,   255,  5,     21,     21,2,20070804,0459, 82.5030,  33.9520, 3078,    151.7,   2.6429,  34.9260,2,   -999.0,9,    303.2,2,  -999.00,9,  -999.00,9,  -999.00,9,  -999.00,9,   -999.0,9,   -999.0,9,  -999.00,9,   2.6340
  06AQ20070728,EurArc,   255,  5,     22,     22,2,20070804,0459, 82.5030,  33.9520, 3078,    151.7,   2.6331,  34.9240,2,   -999.0,9,    303.2,2,  -999.00,9,  -999.00,9,  -999.00,9,  -999.00,9,   -999.0,9,   -999.0,9,  -999.00,9,   2.6242
  06AQ20070728,EurArc,   255,  5,     23,     23,2,20070804,0459, 82.5030,  33.9520, 3078,    101.0,   2.0749,  34.7980,2,   -999.0,9,    305.6,2,     4.62,2,    11.22,2,     0.04,2,     0.76,2,   -999.0,9,   -999.0,9,  -999.00,9,   2.0695
  06AQ20070728,EurArc,   255,  5,     24,     24,2,20070804,0459, 82.5030,  33.9520, 3078,    101.0,   2.0808,  34.7990,2,   -999.0,9,    305.6,2,  -999.00,9,  -999.00,9,  -999.00,9,  -999.00,9,   -999.0,9,   -999.0,9,  -999.00,9,   2.0754
  06AQ20070728,EurArc,   255,  6,      1,      1,2,20070804,0622, 82.5030,  33.9520, 3078,    203.3,   2.7799,  34.9700,2,   -999.0,9,    304.6,2,     4.77,2,    11.40,2,     0.02,2,     0.78,2,   -999.0,9,   -999.0,9,  -999.00,9,   2.7676
  06AQ20070728,EurArc,   255,  6,      2,      2,2,20070804,0622, 82.5030,  33.9520, 3078,    203.3,   2.7811,  34.9700,2,   -999.0,9,    304.6,2,  -999.00,9,  -999.00,9,  -999.00,9,  -999.00,9,   -999.0,9,   -999.0,9,  -999.00,9,   2.7688
  06AQ20070728,EurArc,   255,  6,      3,      3,2,20070804,0622, 82.5030,  33.9520, 3078,    101.2,   2.0697,  34.8020,2,   -999.0,9,    305.8,2,     4.59,2,    11.04,2,     0.02,2,     0.75,2,   -999.0,9,   -999.0,9,  -999.00,9,   2.0643
  06AQ20070728,EurArc,   255,  6,      4,      4,2,20070804,0622, 82.5030,  33.9520, 3078,    101.2,   2.1041,  34.8100,2,   -999.0,9,    305.8,2,  -999.00,9,  -999.00,9,  -999.00,9,  -999.00,9,   -999.0,9,   -999.0,9,  -999.00,9,   2.0986
  06AQ20070728,EurArc,   255,  6,      5,      5,2,20070804,0622, 82.5030,  33.9520, 3078,    101.2,   2.1190,  34.8080,2,   -999.0,9,    305.8,2,  -999.00,9,  -999.00,9,  -999.00,9,  -999.00,9,   -999.0,9,   -999.0,9,  -999.00,9,   2.1135
  06AQ20070728,EurArc,   255,  6,      6,      6,2,20070804,0622, 82.5030,  33.9520, 3078,    101.2,   2.0119,  34.7890,2,   -999.0,9,    305.8,2,  -999.00,9,  -999.00,9,  -999.00,9,  -999.00,9,   -999.0,9,   -999.0,9,  -999.00,9,   2.0065
  06AQ20070728,EurArc,   255,  6,      7,      7,2,20070804,0622, 82.5030,  33.9520, 3078,     75.4,   0.1484,  34.5100,2,   -999.0,9,    322.0,2,     4.17,2,    10.09,2,     0.05,2,     0.71,2,   -999.0,9,   -999.0,9,  -999.00,9,   0.1456
  06AQ20070728,EurArc,   255,  6,      8,      8,2,20070804,0622, 82.5030,  33.9520, 3078,     75.4,   0.2262,  34.5130,2,   -999.0,9,    322.0,2,  -999.00,9,  -999.00,9,  -999.00,9,  -999.00,9,   -999.0,9,   -999.0,9,  -999.00,9,   0.2234
  06AQ20070728,EurArc,   255,  6,      9,      9,2,20070804,0622, 82.5030,  33.9520, 3078,     75.4,   0.2116,  34.5120,2,   -999.0,9,    322.0,2,  -999.00,9,  -999.00,9,  -999.00,9,  -999.00,9,   -999.0,9,   -999.0,9,  -999.00,9,   0.2088
  06AQ20070728,EurArc,   255,  6,     10,     10,2,20070804,0622, 82.5030,  33.9520, 3078,     75.4,   0.2828,  34.5170,2,   -999.0,9,    322.0,2,  -999.00,9,  -999.00,9,  -999.00,9,  -999.00,9,   -999.0,9,   -999.0,9,  -999.00,9,   0.2799
  06AQ20070728,EurArc,   255,  6,     11,     11,2,20070804,0622, 82.5030,  33.9520, 3078,     45.5,  -1.5703,  34.3120,2,   -999.0,9,    335.3,2,     3.83,2,     8.87,2,     0.08,2,     0.64,2,   -999.0,9,   -999.0,9,  -999.00,9,  -1.5713
  06AQ20070728,EurArc,   255,  6,     12,     12,2,20070804,0622, 82.5030,  33.9520, 3078,     45.5,  -1.5729,  34.3040,2,   -999.0,9,    335.3,2,  -999.00,9,  -999.00,9,  -999.00,9,  -999.00,9,   -999.0,9,   -999.0,9,  -999.00,9,  -1.5739
  06AQ20070728,EurArc,   255,  6,     13,     13,2,20070804,0622, 82.5030,  33.9520, 3078,     45.5,  -1.5621,  34.2970,2,   -999.0,9,    335.3,2,  -999.00,9,  -999.00,9,  -999.00,9,  -999.00,9,   -999.0,9,   -999.0,9,  -999.00,9,  -1.5631
  06AQ20070728,EurArc,   255,  6,     14,     14,2,20070804,0622, 82.5030,  33.9520, 3078,     45.5,  -1.5719,  34.2970,2,   -999.0,9,    335.3,2,  -999.00,9,  -999.00,9,  -999.00,9,  -999.00,9,   -999.0,9,   -999.0,9,  -999.00,9,  -1.5729
  06AQ20070728,EurArc,   255,  6,     15,     15,2,20070804,0622, 82.5030,  33.9520, 3078,     45.5,  -1.6597,  34.2820,2,   -999.0,9,    335.3,2,  -999.00,9,  -999.00,9,  -999.00,9,  -999.00,9,   -999.0,9,   -999.0,9,  -999.00,9,  -1.6606
  06AQ20070728,EurArc,   255,  6,     16,     16,2,20070804,0622, 82.5030,  33.9520, 3078,     45.5,  -1.6704,  34.2770,2,   -999.0,9,    335.3,2,  -999.00,9,  -999.00,9,  -999.00,9,  -999.00,9,   -999.0,9,   -999.0,9,  -999.00,9,  -1.6713
  06AQ20070728,EurArc,   255,  6,     17,     17,2,20070804,0622, 82.5030,  33.9520, 3078,     40.5,  -1.7294,  34.2660,2,   -999.0,9,    338.7,2,     3.73,2,     8.52,2,     0.07,2,     0.63,2,   -999.0,9,   -999.0,9,  -999.00,9,  -1.7302
  06AQ20070728,EurArc,   255,  6,     18,     18,2,20070804,0622, 82.5030,  33.9520, 3078,     30.1,  -1.7461,  34.2490,2,   -999.0,9,    345.7,2,     3.69,2,     8.48,2,     0.07,2,     0.62,2,   -999.0,9,   -999.0,9,  -999.00,9,  -1.7467
  06AQ20070728,EurArc,   255,  6,     19,     19,2,20070804,0622, 82.5030,  33.9520, 3078,     25.5,  -1.6980,  34.2250,2,   -999.0,9,    360.4,2,     3.65,2,     8.30,2,     0.07,2,     0.61,2,   -999.0,9,   -999.0,9,  -999.00,9,  -1.6985
  06AQ20070728,EurArc,   255,  6,     20,     20,2,20070804,0622, 82.5030,  33.9520, 3078,     25.4,  -1.6863,  34.2240,2,   -999.0,9,    360.8,2,  -999.00,9,  -999.00,9,  -999.00,9,  -999.00,9,   -999.0,9,   -999.0,9,  -999.00,9,  -1.6868
  06AQ20070728,EurArc,   255,  6,     21,     21,2,20070804,0622, 82.5030,  33.9520, 3078,     25.5,  -1.6858,  34.2240,2,   -999.0,9,    360.4,2,  -999.00,9,  -999.00,9,  -999.00,9,  -999.00,9,   -999.0,9,   -999.0,9,  -999.00,9,  -1.6863
  06AQ20070728,EurArc,   255,  6,     22,     22,2,20070804,0622, 82.5030,  33.9520, 3078,     25.5,  -1.6808,  34.2220,2,   -999.0,9,    360.4,2,  -999.00,9,  -999.00,9,  -999.00,9,  -999.00,9,   -999.0,9,   -999.0,9,  -999.00,9,  -1.6813
  06AQ20070728,EurArc,   255,  6,     23,     23,2,20070804,0622, 82.5030,  33.9520, 3078,      9.8,  -1.5363,  33.6530,2,   -999.0,9,    367.7,2,     2.36,2,     5.52,2,     0.06,2,     0.45,2,   -999.0,9,   -999.0,9,  -999.00,9,  -1.5365
  06AQ20070728,EurArc,   255,  6,     24,     24,2,20070804,0622, 82.5030,  33.9520, 3078,      2.2,  -1.5300,  33.5880,2,   -999.0,9,    369.1,2,     2.09,2,     5.33,2,     0.06,2,     0.44,2,   -999.0,9,   -999.0,9,  -999.00,9,  -1.5300
  06AQ20070728,EurArc,   256,  1,      1,      1,2,20070804,1415, 82.8580,  33.8770, 3508,   3567.7,  -0.7104,  34.9410,2,   -999.0,9,    298.2,2,    11.50,2,    14.65,2,     0.02,2,     1.02,2,   -999.0,9,   -999.0,9,  -999.00,9,  -0.9277
  06AQ20070728,EurArc,   256,  1,      2,      2,2,20070804,1415, 82.8580,  33.8770, 3508,   3310.7,  -0.7431,  34.9380,2,   -999.0,9,    300.6,2,    11.24,2,    14.60,2,     0.03,2,     1.01,2,   -999.0,9,   -999.0,9,  -999.00,9,  -0.9370
  06AQ20070728,EurArc,   256,  1,      3,      3,2,20070804,1415, 82.8580,  33.8770, 3508,   3053.5,  -0.7607,  34.9350,2,   -999.0,9,    301.3,2,    11.05,2,    14.60,2,     0.02,2,     1.01,2,   -999.0,9,   -999.0,9,  -999.00,9,  -0.9326
  06AQ20070728,EurArc,   256,  1,      4,      4,2,20070804,1415, 82.8580,  33.8770, 3508,   2541.0,  -0.7768,  34.9280,2,   -999.0,9,    301.5,2,    10.98,2,    14.62,2,     0.01,2,     1.01,2,   -999.0,9,   -999.0,9,  -999.00,9,  -0.9086
  06AQ20070728,EurArc,   256,  1,      5,      5,2,20070804,1415, 82.8580,  33.8770, 3508,   2031.0,  -0.7561,  34.9220,2,   -999.0,9,    301.2,2,    10.57,2,    14.54,2,     0.02,2,     1.01,2,   -999.0,9,   -999.0,9,  -999.00,9,  -0.8528
  06AQ20070728,EurArc,   256,  1,      6,      6,2,20070804,1415, 82.8580,  33.8770, 3508,   1521.1,  -0.6285,  34.9170,2,   -999.0,9,    301.5,2,     9.82,2,    14.29,2,     0.02,2,     0.99,2,   -999.0,9,   -999.0,9,  -999.00,9,  -0.6957
  06AQ20070728,EurArc,   256,  1,      7,      7,2,20070804,1415, 82.8580,  33.8770, 3508,   1215.8,  -0.4591,  34.9110,2,   -999.0,9,    302.8,2,     9.15,2,    14.07,2,     0.01,2,     0.98,2,   -999.0,9,   -999.0,9,  -999.00,9,  -0.5112
  06AQ20070728,EurArc,   256,  1,      8,      8,2,20070804,1415, 82.8580,  33.8770, 3508,   1013.0,  -0.2275,  34.9070,2,   -999.0,9,    303.9,2,     8.25,2,    13.69,2,     0.01,2,     0.95,2,   -999.0,9,   -999.0,9,  -999.00,9,  -0.2710
  06AQ20070728,EurArc,   256,  1,      9,      9,2,20070804,1415, 82.8580,  33.8770, 3508,    810.2,   0.3586,  34.9210,2,   -999.0,9,    306.9,2,     7.33,2,    13.28,2,     0.02,2,     0.92,2,   -999.0,9,   -999.0,9,  -999.00,9,   0.3214
  06AQ20070728,EurArc,   256,  1,     10,     10,2,20070804,1415, 82.8580,  33.8770, 3508,    708.8,   0.8822,  34.9410,2,   -999.0,9,    311.9,2,     6.36,2,    12.67,2,     0.02,2,     0.88,2,   -999.0,9,   -999.0,9,  -999.00,9,   0.8472
  06AQ20070728,EurArc,   256,  1,     11,     11,2,20070804,1415, 82.8580,  33.8770, 3508,    606.6,   1.3424,  34.9580,2,   -999.0,9,    314.1,2,     5.65,2,    12.15,2,     0.02,2,     0.84,2,   -999.0,9,   -999.0,9,  -999.00,9,   1.3107
  06AQ20070728,EurArc,   256,  1,     12,     12,2,20070804,1415, 82.8580,  33.8770, 3508,    506.2,   1.6775,  34.9630,2,   -999.0,9,    313.1,2,     5.44,2,    12.02,2,     0.03,2,     0.84,2,   -999.0,9,   -999.0,9,  -999.00,9,   1.6501
  06AQ20070728,EurArc,   256,  1,     13,     13,2,20070804,1415, 82.8580,  33.8770, 3508,    404.8,   2.1128,  34.9750,2,   -999.0,9,    310.1,2,     5.23,2,    12.02,2,     0.02,2,     0.83,2,   -999.0,9,   -999.0,9,  -999.00,9,   2.0898
  06AQ20070728,EurArc,   256,  1,     14,     14,2,20070804,1415, 82.8580,  33.8770, 3508,    303.4,   2.5310,  34.9760,2,   -999.0,9,    309.0,2,     5.03,2,    11.94,2,     0.02,2,     0.82,2,   -999.0,9,   -999.0,9,  -999.00,9,   2.5130
  06AQ20070728,EurArc,   256,  1,     15,     15,2,20070804,1415, 82.8580,  33.8770, 3508,    202.2,   2.8758,  34.9820,2,   -999.0,9,    306.1,2,     4.82,2,    11.74,2,     0.03,2,     0.80,2,   -999.0,9,   -999.0,9,  -999.00,9,   2.8634
  06AQ20070728,EurArc,   256,  1,     16,     16,2,20070804,1415, 82.8580,  33.8770, 3508,    151.3,   2.9118,  34.9540,2,    292.2,2,    306.6,2,     4.79,2,    11.68,2,     0.03,2,     0.80,2,   -999.0,9,   -999.0,9,     0.25,2,   2.9025
  06AQ20070728,EurArc,   256,  1,     17,     17,2,20070804,1415, 82.8580,  33.8770, 3508,    126.3,   2.8515,  34.9260,2,    291.7,2,    306.1,2,     4.79,2,    11.64,2,     0.03,2,     0.80,2,   -999.0,9,   -999.0,9,     0.25,2,   2.8439
  06AQ20070728,EurArc,   256,  1,     18,     18,2,20070804,1415, 82.8580,  33.8770, 3508,    101.3,   2.4056,  34.8350,2,    292.5,2,    307.2,2,     4.67,2,    11.40,2,     0.03,2,     0.78,2,   -999.0,9,   -999.0,9,     0.21,2,   2.3999
  06AQ20070728,EurArc,   256,  1,     19,     19,2,20070804,1415, 82.8580,  33.8770, 3508,    101.3,   2.2275,  34.8110,2,   -999.0,9,    307.2,2,     4.66,2,    11.33,2,     0.04,2,     0.78,2,   -999.0,9,   -999.0,9,  -999.00,9,   2.2219
  06AQ20070728,EurArc,   256,  1,     20,     20,2,20070804,1415, 82.8580,  33.8770, 3508,     75.4,   0.3836,  34.5380,2,    307.1,2,    327.0,2,     4.22,2,    10.29,2,     0.12,2,     0.72,2,   -999.0,9,   -999.0,9,     0.16,2,   0.3807
  06AQ20070728,EurArc,   256,  1,     21,     21,2,20070804,1415, 82.8580,  33.8770, 3508,     50.6,  -1.5693,  34.2860,2,    325.1,2,    339.2,2,     3.73,2,     8.74,2,     0.09,2,     0.64,2,   -999.0,9,   -999.0,9,     0.13,2,  -1.5704
  06AQ20070728,EurArc,   256,  1,     22,     22,2,20070804,1415, 82.8580,  33.8770, 3508,     25.3,  -1.6209,  34.0490,2,    334.1,2,    365.2,2,     3.30,2,     7.34,2,     0.06,2,     0.57,2,   -999.0,9,   -999.0,9,     0.16,2,  -1.6214
  06AQ20070728,EurArc,   256,  1,     23,     23,2,20070804,1415, 82.8580,  33.8770, 3508,     10.6,  -1.5959,  33.2680,2,    349.3,2,    377.6,2,     3.10,2,     4.60,2,     0.06,2,     0.42,2,   -999.0,9,   -999.0,9,     0.05,2,  -1.5961
  06AQ20070728,EurArc,   256,  1,     24,     24,2,20070804,1415, 82.8580,  33.8770, 3508,      2.0,  -1.5729,  33.3850,2,    357.4,2,    377.0,2,     3.00,2,     3.65,2,     0.05,2,     0.36,2,   -999.0,9,   -999.0,9,     0.15,2,  -1.5729