BOTTLE,20220921CCHSIOAMB
EXPOCODE,SECT_ID,STNNBR,CASTNO,SAMPNO,BTLNBR,BTLNBR_FLAG_W,DATE,TIME,LATITUDE,LONGITUDE,DEPTH,CTDPRS,CTDTMP,CTDSAL,CTDSAL_FLAG_W,CTDOXY,CTDOXY_FLAG_W,OXYGEN,OXYGEN_FLAG_W,SILCAT,SILCAT_FLAG_W,NITRAT,NITRAT_FLAG_W,NITRIT,NITRIT_FLAG_W,PHSPHT,PHSPHT_FLAG_W,TCARBN,TCARBN_FLAG_W,ALKALI,ALKALI_FLAG_W,DELO18,DELO18_FLAG_W,THETA
,,,,,,,,,,,METERS,DBAR,ITS-90,PSS-78,,UMOL/KG,,UMOL/KG,,UMOL/KG,,UMOL/KG,,UMOL/KG,,UMOL/KG,,UMOL/KG,,UMOL/KG,,/MILLE,,DEG C
  06AQ20070728,EurArc,   397,  1,     23,     23,2,20070921,2241, 77.6340, 123.6000, 1768,      1.8,  -1.4128,  30.0500,2,    359.1,2,    371.1,2,     2.07,2,     0.04,2,     0.01,2,     0.15,2,   -999.0,9,   -999.0,9,    -1.74,2,  -1.4128
  06AQ20070728,EurArc,   397,  1,     22,     22,2,20070921,2241, 77.6340, 123.6000, 1768,     10.0,  -1.4228,  30.8200,2,   -999.0,9,    371.7,2,     2.44,2,     0.79,2,     0.05,2,     0.21,2,   -999.0,9,   -999.0,9,  -999.00,9,  -1.4230
  06AQ20070728,EurArc,   397,  1,     21,     21,2,20070921,2241, 77.6340, 123.6000, 1768,      9.9,  -1.4183,  30.5570,2,    354.9,2,    371.8,2,     3.98,2,     3.11,2,     0.16,2,     0.40,2,   -999.0,9,   -999.0,9,    -1.15,2,  -1.4184
  06AQ20070728,EurArc,   397,  1,     20,     20,2,20070921,2241, 77.6340, 123.6000, 1768,     25.3,  -1.3928,  33.7690,2,   -999.0,9,    334.6,2,  -999.00,9,  -999.00,9,  -999.00,9,  -999.00,9,   -999.0,9,   -999.0,9,  -999.00,9,  -1.3933
  06AQ20070728,EurArc,   397,  1,     19,     19,2,20070921,2241, 77.6340, 123.6000, 1768,     25.3,  -1.3961,  33.7670,2,    313.5,2,    334.6,2,     5.19,2,     6.34,2,     0.02,2,     0.59,2,   -999.0,9,   -999.0,9,    -0.56,2,  -1.3966
  06AQ20070728,EurArc,   397,  1,     18,     18,2,20070921,2241, 77.6340, 123.6000, 1768,     50.9,  -1.4897,  34.3160,2,    310.5,2,    321.1,2,     4.67,2,     7.31,2,     0.02,2,     0.61,2,   -999.0,9,   -999.0,9,    -0.36,2,  -1.4908
  06AQ20070728,EurArc,   397,  1,     17,     17,2,20070921,2241, 77.6340, 123.6000, 1768,     75.6,  -1.5607,  34.3940,2,    315.5,2,    328.5,2,     3.89,2,     7.38,2,     0.02,2,     0.60,2,   -999.0,9,   -999.0,9,    -0.26,2,  -1.5624
  06AQ20070728,EurArc,   397,  1,     16,     16,2,20070921,2241, 77.6340, 123.6000, 1768,    101.3,  -1.1954,  34.4760,2,    311.8,2,    327.0,2,     3.98,2,     8.10,2,     0.02,2,     0.64,2,   -999.0,9,   -999.0,9,    -0.16,2,  -1.1980
  06AQ20070728,EurArc,   397,  1,     15,     15,2,20070921,2241, 77.6340, 123.6000, 1768,    126.3,  -0.9689,  34.5370,2,    307.0,2,    321.9,2,     3.74,2,     8.72,2,     0.02,2,     0.65,2,   -999.0,9,   -999.0,9,    -0.01,2,  -0.9724
  06AQ20070728,EurArc,   397,  1,     14,     14,2,20070921,2241, 77.6340, 123.6000, 1768,    151.7,  -0.4406,  34.6170,2,    305.6,2,    320.6,2,     3.65,2,     9.11,2,     0.02,2,     0.68,2,   -999.0,9,   -999.0,9,     0.05,2,  -0.4456
  06AQ20070728,EurArc,   397,  1,     13,     13,2,20070921,2241, 77.6340, 123.6000, 1768,    202.3,   0.9416,  34.7750,2,   -999.0,9,    309.2,2,     4.17,2,    10.68,2,     0.02,2,     0.75,2,   -999.0,9,   -999.0,9,  -999.00,9,   0.9325
  06AQ20070728,EurArc,   397,  1,     12,     12,2,20070921,2241, 77.6340, 123.6000, 1768,    202.3,   0.9862,  34.7770,2,   -999.0,9,    309.2,2,     4.21,2,    10.82,2,     0.01,2,     0.76,2,   -999.0,9,   -999.0,9,  -999.00,9,   0.9770
  06AQ20070728,EurArc,   397,  1,     11,     11,2,20070921,2241, 77.6340, 123.6000, 1768,    252.9,   1.2556,  34.8280,2,   -999.0,9,    307.9,2,     4.35,2,    11.07,2,     0.01,2,     0.77,2,   -999.0,9,   -999.0,9,  -999.00,9,   1.2434
  06AQ20070728,EurArc,   397,  1,     10,     10,2,20070921,2241, 77.6340, 123.6000, 1768,    303.4,   1.3476,  34.8580,2,   -999.0,9,    306.3,2,     4.55,2,    11.30,2,     0.02,2,     0.79,2,   -999.0,9,   -999.0,9,  -999.00,9,   1.3326
  06AQ20070728,EurArc,   397,  1,      9,      9,2,20070921,2241, 77.6340, 123.6000, 1768,    303.3,   1.3396,  34.8580,2,   -999.0,9,    306.3,2,     4.58,2,    11.28,2,     0.02,2,     0.79,2,   -999.0,9,   -999.0,9,  -999.00,9,   1.3246
  06AQ20070728,EurArc,   397,  1,      8,      8,2,20070921,2241, 77.6340, 123.6000, 1768,    405.3,   1.0442,  34.8710,2,   -999.0,9,    308.5,2,     4.79,2,    11.43,2,     0.01,2,     0.80,2,   -999.0,9,   -999.0,9,  -999.00,9,   1.0248
  06AQ20070728,EurArc,   397,  1,      7,      7,2,20070921,2241, 77.6340, 123.6000, 1768,    505.7,   0.6102,  34.8630,2,   -999.0,9,    310.2,2,     4.81,2,    11.23,2,     0.02,2,     0.78,2,   -999.0,9,   -999.0,9,  -999.00,9,   0.5873
  06AQ20070728,EurArc,   397,  1,      6,      6,2,20070921,2241, 77.6340, 123.6000, 1768,    759.6,   0.2066,  34.8770,2,   -999.0,9,    311.6,2,     5.14,2,    11.35,2,     0.01,2,     0.80,2,   -999.0,9,   -999.0,9,  -999.00,9,   0.1731
  06AQ20070728,EurArc,   397,  1,      5,      5,2,20070921,2241, 77.6340, 123.6000, 1768,   1013.0,   0.0366,  34.8980,2,   -999.0,9,    310.3,2,     5.98,2,    12.05,2,     0.01,2,     0.84,2,   -999.0,9,   -999.0,9,  -999.00,9,  -0.0090
  06AQ20070728,EurArc,   397,  1,      4,      4,2,20070921,2241, 77.6340, 123.6000, 1768,   1267.6,  -0.1599,  34.9130,2,   -999.0,9,    307.9,2,     6.95,2,    12.64,2,     0.01,2,     0.87,2,   -999.0,9,   -999.0,9,  -999.00,9,  -0.2179
  06AQ20070728,EurArc,   397,  1,      3,      3,2,20070921,2241, 77.6340, 123.6000, 1768,   1267.4,  -0.1596,  34.9120,2,   -999.0,9,    307.9,2,     6.94,2,    12.53,2,     0.01,2,     0.88,2,   -999.0,9,   -999.0,9,  -999.00,9,  -0.2175
  06AQ20070728,EurArc,   397,  1,      2,      2,2,20070921,2241, 77.6340, 123.6000, 1768,   1521.5,  -0.3835,  34.9150,2,   -999.0,9,    306.4,2,     7.84,2,    12.99,2,     0.02,2,     0.91,2,   -999.0,9,   -999.0,9,  -999.00,9,  -0.4537
  06AQ20070728,EurArc,   397,  1,      1,      1,2,20070921,2241, 77.6340, 123.6000, 1768,   1787.1,  -0.7517,  34.9180,2,   -999.0,9,    301.3,2,     9.99,2,    13.98,2,     0.02,2,     0.97,2,   -999.0,9,   -999.0,9,  -999.00,9,  -0.8331
  06AQ20070728,EurArc,   400,  1,     24,     24,2,20070922,0629, 77.3880, 123.4000, 1123,     10.5,  -1.5047,  32.3520,2,   -999.0,9,    371.6,2,     4.90,2,     3.04,2,     0.12,2,     0.42,2,   -999.0,9,   -999.0,9,  -999.00,9,  -1.5049
  06AQ20070728,EurArc,   400,  1,     23,     23,2,20070922,0629, 77.3880, 123.4000, 1123,     27.1,  -1.3892,  33.7190,2,   -999.0,9,    332.3,2,     5.14,2,     5.77,2,     0.04,2,     0.55,2,   2160.7,2,   2270.8,2,  -999.00,9,  -1.3898
  06AQ20070728,EurArc,   400,  1,     22,     22,2,20070922,0629, 77.3880, 123.4000, 1123,     51.2,  -1.3453,  34.2080,2,   -999.0,9,    323.9,2,     5.15,2,     6.99,2,     0.01,2,     0.61,2,   2168.2,2,   2280.4,2,  -999.00,9,  -1.3465
  06AQ20070728,EurArc,   400,  1,     21,     21,2,20070922,0629, 77.3880, 123.4000, 1123,     51.4,  -1.3460,  34.2090,2,   -999.0,9,    323.8,2,     5.13,2,     7.05,2,     0.01,2,     0.61,2,   -999.0,9,   -999.0,9,  -999.00,9,  -1.3472
  06AQ20070728,EurArc,   400,  1,     20,     20,2,20070922,0629, 77.3880, 123.4000, 1123,     51.5,  -1.3464,  34.2100,2,   -999.0,9,    323.8,2,     5.17,2,     7.05,2,     0.02,2,     0.62,2,   -999.0,9,   -999.0,9,  -999.00,9,  -1.3476
  06AQ20070728,EurArc,   400,  1,     19,     19,2,20070922,0629, 77.3880, 123.4000, 1123,     76.4,  -1.5371,  34.3740,2,   -999.0,9,    325.7,2,     4.22,2,     7.42,2,     0.01,2,     0.62,2,   -999.0,9,   -999.0,9,  -999.00,9,  -1.5388
  06AQ20070728,EurArc,   400,  1,     18,     18,2,20070922,0629, 77.3880, 123.4000, 1123,    102.3,  -1.6239,  34.4170,2,   -999.0,9,    328.3,2,     3.94,2,     7.46,2,     0.01,2,     0.61,2,   2169.2,2,   2288.1,2,  -999.00,9,  -1.6261
  06AQ20070728,EurArc,   400,  1,     17,     17,2,20070922,0629, 77.3880, 123.4000, 1123,    102.3,  -1.6242,  34.4160,2,   -999.0,9,    328.3,2,     3.93,2,     7.42,2,     0.02,2,     0.61,2,   -999.0,9,   -999.0,9,  -999.00,9,  -1.6264
  06AQ20070728,EurArc,   400,  1,     16,     16,2,20070922,0629, 77.3880, 123.4000, 1123,    102.4,  -1.6364,  34.4130,2,   -999.0,9,    328.3,2,     3.93,2,     7.44,2,     0.01,2,     0.62,2,   -999.0,9,   -999.0,9,  -999.00,9,  -1.6386
  06AQ20070728,EurArc,   400,  1,     15,     15,2,20070922,0629, 77.3880, 123.4000, 1123,    102.2,  -1.6369,  34.4150,2,   -999.0,9,    328.3,2,     3.93,2,     7.49,2,     0.01,2,     0.62,2,   -999.0,9,   -999.0,9,  -999.00,9,  -1.6391
  06AQ20070728,EurArc,   400,  1,     14,     14,2,20070922,0629, 77.3880, 123.4000, 1123,    152.9,   0.0761,  34.6220,2,   -999.0,9,    312.8,2,     4.06,2,     9.64,2,     0.01,2,     0.71,2,   -999.0,9,   -999.0,9,  -999.00,9,   0.0704
  06AQ20070728,EurArc,   400,  1,     13,     13,2,20070922,0629, 77.3880, 123.4000, 1123,    203.7,   1.7387,  34.8420,2,   -999.0,9,    303.0,2,     4.27,2,    10.85,2,     0.01,2,     0.76,2,   2155.8,2,   2295.0,2,  -999.00,9,   1.7281
  06AQ20070728,EurArc,   400,  1,     12,     12,2,20070922,0629, 77.3880, 123.4000, 1123,    311.9,   1.4017,  34.8680,2,   -999.0,9,    300.9,2,     4.59,2,    11.37,2,     0.01,2,     0.79,2,   -999.0,9,   -999.0,9,  -999.00,9,   1.3861
  06AQ20070728,EurArc,   400,  1,     11,     11,2,20070922,0629, 77.3880, 123.4000, 1123,    309.9,   1.4107,  34.8670,2,   -999.0,9,    300.9,2,     4.58,2,    11.45,2,     0.01,2,     0.79,2,   -999.0,9,   -999.0,9,  -999.00,9,   1.3952
  06AQ20070728,EurArc,   400,  1,     10,     10,2,20070922,0629, 77.3880, 123.4000, 1123,    307.5,   1.4120,  34.8670,2,   -999.0,9,    301.0,2,     4.58,2,    11.42,2,     0.01,2,     0.79,2,   -999.0,9,   -999.0,9,  -999.00,9,   1.3966
  06AQ20070728,EurArc,   400,  1,      9,      9,2,20070922,0629, 77.3880, 123.4000, 1123,    515.0,   0.5252,  34.8640,2,   -999.0,9,    308.2,2,     4.82,2,    11.26,2,     0.01,2,     0.79,2,   2166.8,2,   2295.5,2,  -999.00,9,   0.5022
  06AQ20070728,EurArc,   400,  1,      8,      8,2,20070922,0629, 77.3880, 123.4000, 1123,    513.1,   0.5147,  34.8630,2,   -999.0,9,    308.2,2,     4.81,2,    11.25,2,     0.00,2,     0.79,2,   -999.0,9,   -999.0,9,  -999.00,9,   0.4919
  06AQ20070728,EurArc,   400,  1,      7,      7,2,20070922,0629, 77.3880, 123.4000, 1123,    511.2,   0.5304,  34.8640,2,   -999.0,9,    308.2,2,     4.81,2,    11.16,2,     0.01,2,     0.78,2,   -999.0,9,   -999.0,9,  -999.00,9,   0.5076
  06AQ20070728,EurArc,   400,  1,      6,      6,2,20070922,0629, 77.3880, 123.4000, 1123,    759.1,   0.0151,  34.8660,2,   -999.0,9,    312.3,2,     4.97,2,    11.09,2,     0.01,2,     0.78,2,   -999.0,9,   -999.0,9,  -999.00,9,  -0.0172
  06AQ20070728,EurArc,   400,  1,      5,      5,2,20070922,0629, 77.3880, 123.4000, 1123,   1011.8,  -0.0499,  34.8940,2,   -999.0,9,    310.1,2,     5.99,2,    11.89,2,     0.00,2,     0.84,2,   2177.7,2,   2298.9,2,  -999.00,9,  -0.0947
  06AQ20070728,EurArc,   400,  1,      4,      4,2,20070922,0629, 77.3880, 123.4000, 1123,   1105.6,  -0.1455,  34.9070,2,   -999.0,9,    306.6,2,     6.67,2,    12.30,2,     0.01,2,     0.87,2,   -999.0,9,   -999.0,9,  -999.00,9,  -0.1946
  06AQ20070728,EurArc,   400,  1,      3,      3,2,20070922,0629, 77.3880, 123.4000, 1123,   1106.2,  -0.1429,  34.9060,2,   -999.0,9,    306.6,2,     6.68,2,    12.40,2,     0.01,2,     0.87,2,   -999.0,9,   -999.0,9,  -999.00,9,  -0.1920
  06AQ20070728,EurArc,   400,  1,      2,      2,2,20070922,0629, 77.3880, 123.4000, 1123,   1106.8,  -0.1443,  34.9060,2,   -999.0,9,    306.5,2,     5.76,3,    11.66,3,     0.00,2,     0.83,3,   -999.0,9,   -999.0,9,  -999.00,9,  -0.1935
  06AQ20070728,EurArc,   400,  1,      1,      1,2,20070922,0629, 77.3880, 123.4000, 1123,   1107.5,  -0.1439,  34.9060,2,   -999.0,9,    306.5,2,     6.68,2,    13.13,2,     0.00,2,     0.87,2,   2178.2,2,   2309.3,4,  -999.00,9,  -0.1931
  06AQ20070728,EurArc,   400,  2,     24,     24,2,20070922,0756, 77.3880, 123.4000, 1123,    304.3,   1.4242,  34.8610,2,   -999.0,9,    305.9,2,  -999.00,9,  -999.00,9,  -999.00,9,  -999.00,9,   -999.0,9,   -999.0,9,  -999.00,9,   1.4089
  06AQ20070728,EurArc,   400,  2,     23,     23,2,20070922,0756, 77.3880, 123.4000, 1123,    304.0,   1.4238,  34.8610,2,   -999.0,9,    305.9,2,  -999.00,9,  -999.00,9,  -999.00,9,  -999.00,9,   -999.0,9,   -999.0,9,  -999.00,9,   1.4085
  06AQ20070728,EurArc,   400,  2,     22,     22,2,20070922,0756, 77.3880, 123.4000, 1123,    303.5,   1.4236,  34.8610,2,   -999.0,9,    305.8,2,  -999.00,9,  -999.00,9,  -999.00,9,  -999.00,9,   -999.0,9,   -999.0,9,  -999.00,9,   1.4084
  06AQ20070728,EurArc,   400,  2,     21,     21,2,20070922,0756, 77.3880, 123.4000, 1123,    508.0,   0.5810,  34.8580,2,   -999.0,9,    311.3,2,  -999.00,9,  -999.00,9,  -999.00,9,  -999.00,9,   -999.0,9,   -999.0,9,  -999.00,9,   0.5581
  06AQ20070728,EurArc,   400,  2,     20,     20,2,20070922,0756, 77.3880, 123.4000, 1123,    507.7,   0.5937,  34.8590,2,   -999.0,9,    311.3,2,  -999.00,9,  -999.00,9,  -999.00,9,  -999.00,9,   -999.0,9,   -999.0,9,  -999.00,9,   0.5708
  06AQ20070728,EurArc,   400,  2,     19,     19,2,20070922,0756, 77.3880, 123.4000, 1123,    507.6,   0.5959,  34.8590,2,   -999.0,9,    311.3,2,  -999.00,9,  -999.00,9,  -999.00,9,  -999.00,9,   -999.0,9,   -999.0,9,  -999.00,9,   0.5730
  06AQ20070728,EurArc,   400,  2,     18,     18,2,20070922,0756, 77.3880, 123.4000, 1123,    507.3,   0.6075,  34.8600,2,   -999.0,9,    311.3,2,  -999.00,9,  -999.00,9,  -999.00,9,  -999.00,9,   -999.0,9,   -999.0,9,  -999.00,9,   0.5846
  06AQ20070728,EurArc,   400,  2,     17,     17,2,20070922,0756, 77.3880, 123.4000, 1123,    507.0,   0.6040,  34.8590,2,   -999.0,9,    311.3,2,  -999.00,9,  -999.00,9,  -999.00,9,  -999.00,9,   -999.0,9,   -999.0,9,  -999.00,9,   0.5811
  06AQ20070728,EurArc,   400,  2,     16,     16,2,20070922,0756, 77.3880, 123.4000, 1123,    506.9,   0.5999,  34.8590,2,   -999.0,9,    311.3,2,  -999.00,9,  -999.00,9,  -999.00,9,  -999.00,9,   -999.0,9,   -999.0,9,  -999.00,9,   0.5770
  06AQ20070728,EurArc,   400,  2,     15,     15,2,20070922,0756, 77.3880, 123.4000, 1123,    506.7,   0.5944,  34.8580,2,   -999.0,9,    311.3,2,  -999.00,9,  -999.00,9,  -999.00,9,  -999.00,9,   -999.0,9,   -999.0,9,  -999.00,9,   0.5716
  06AQ20070728,EurArc,   400,  2,     14,     14,2,20070922,0756, 77.3880, 123.4000, 1123,    506.4,   0.5891,  34.8580,2,   -999.0,9,    311.3,2,  -999.00,9,  -999.00,9,  -999.00,9,  -999.00,9,   -999.0,9,   -999.0,9,  -999.00,9,   0.5663
  06AQ20070728,EurArc,   400,  2,     13,     13,2,20070922,0756, 77.3880, 123.4000, 1123,   1012.5,  -0.0665,  34.9000,2,   -999.0,9,    308.7,2,  -999.00,9,  -999.00,9,  -999.00,9,  -999.00,9,   -999.0,9,   -999.0,9,  -999.00,9,  -0.1113
  06AQ20070728,EurArc,   400,  2,     12,     12,2,20070922,0756, 77.3880, 123.4000, 1123,   1012.5,  -0.0663,  34.9000,2,   -999.0,9,    308.7,2,  -999.00,9,  -999.00,9,  -999.00,9,  -999.00,9,   -999.0,9,   -999.0,9,  -999.00,9,  -0.1111
  06AQ20070728,EurArc,   400,  2,     11,     11,2,20070922,0756, 77.3880, 123.4000, 1123,   1012.8,  -0.0674,  34.9000,2,   -999.0,9,    308.7,2,  -999.00,9,  -999.00,9,  -999.00,9,  -999.00,9,   -999.0,9,   -999.0,9,  -999.00,9,  -0.1122
  06AQ20070728,EurArc,   400,  2,     10,     10,2,20070922,0756, 77.3880, 123.4000, 1123,   1012.9,  -0.0655,  34.9000,2,   -999.0,9,    308.7,2,  -999.00,9,  -999.00,9,  -999.00,9,  -999.00,9,   -999.0,9,   -999.0,9,  -999.00,9,  -0.1103
  06AQ20070728,EurArc,   400,  2,      9,      9,2,20070922,0756, 77.3880, 123.4000, 1123,   1012.9,  -0.0678,  34.9000,2,   -999.0,9,    308.7,2,  -999.00,9,  -999.00,9,  -999.00,9,  -999.00,9,   -999.0,9,   -999.0,9,  -999.00,9,  -0.1126
  06AQ20070728,EurArc,   400,  2,      8,      8,2,20070922,0756, 77.3880, 123.4000, 1123,   1029.0,  -0.0723,  34.9000,2,   -999.0,9,    308.4,2,  -999.00,9,  -999.00,9,  -999.00,9,  -999.00,9,   -999.0,9,   -999.0,9,  -999.00,9,  -0.1179
  06AQ20070728,EurArc,   400,  2,      7,      7,2,20070922,0756, 77.3880, 123.4000, 1123,   1029.0,  -0.0729,  34.9000,2,   -999.0,9,    308.4,2,  -999.00,9,  -999.00,9,  -999.00,9,  -999.00,9,   -999.0,9,   -999.0,9,  -999.00,9,  -0.1185
  06AQ20070728,EurArc,   400,  2,      6,      6,2,20070922,0756, 77.3880, 123.4000, 1123,   1029.0,  -0.0742,  34.9010,2,   -999.0,9,    308.4,2,  -999.00,9,  -999.00,9,  -999.00,9,  -999.00,9,   -999.0,9,   -999.0,9,  -999.00,9,  -0.1198
  06AQ20070728,EurArc,   400,  2,      5,      5,2,20070922,0756, 77.3880, 123.4000, 1123,   1028.9,  -0.0759,  34.9010,2,   -999.0,9,    308.4,2,  -999.00,9,  -999.00,9,  -999.00,9,  -999.00,9,   -999.0,9,   -999.0,9,  -999.00,9,  -0.1215
  06AQ20070728,EurArc,   400,  2,      4,      4,2,20070922,0756, 77.3880, 123.4000, 1123,   1028.9,  -0.0765,  34.9010,2,   -999.0,9,    308.4,2,  -999.00,9,  -999.00,9,  -999.00,9,  -999.00,9,   -999.0,9,   -999.0,9,  -999.00,9,  -0.1220
  06AQ20070728,EurArc,   400,  2,      3,      3,2,20070922,0756, 77.3880, 123.4000, 1123,   1029.1,  -0.0739,  34.9010,2,   -999.0,9,    308.4,2,  -999.00,9,  -999.00,9,  -999.00,9,  -999.00,9,   -999.0,9,   -999.0,9,  -999.00,9,  -0.1195
  06AQ20070728,EurArc,   400,  2,      2,      2,2,20070922,0756, 77.3880, 123.4000, 1123,   1029.2,  -0.0737,  34.9010,2,   -999.0,9,    308.4,2,  -999.00,9,  -999.00,9,  -999.00,9,  -999.00,9,   -999.0,9,   -999.0,9,  -999.00,9,  -0.1193
  06AQ20070728,EurArc,   400,  2,      1,      1,2,20070922,0756, 77.3880, 123.4000, 1123,   1029.2,  -0.0736,  34.9010,2,   -999.0,9,    308.4,2,  -999.00,9,  -999.00,9,  -999.00,9,  -999.00,9,   -999.0,9,   -999.0,9,  -999.00,9,  -0.1192