BOTTLE,20220921CCHSIOAMB
EXPOCODE,SECT_ID,STNNBR,CASTNO,SAMPNO,BTLNBR,BTLNBR_FLAG_W,DATE,TIME,LATITUDE,LONGITUDE,DEPTH,CTDPRS,CTDTMP,CTDSAL,CTDSAL_FLAG_W,CTDOXY,CTDOXY_FLAG_W,OXYGEN,OXYGEN_FLAG_W,SILCAT,SILCAT_FLAG_W,NITRAT,NITRAT_FLAG_W,NITRIT,NITRIT_FLAG_W,PHSPHT,PHSPHT_FLAG_W,TCARBN,TCARBN_FLAG_W,ALKALI,ALKALI_FLAG_W,DELO18,DELO18_FLAG_W,THETA
,,,,,,,,,,,METERS,DBAR,ITS-90,PSS-78,,UMOL/KG,,UMOL/KG,,UMOL/KG,,UMOL/KG,,UMOL/KG,,UMOL/KG,,UMOL/KG,,UMOL/KG,,/MILLE,,DEG C
  06AQ20070728,EurArc,   272,  1,      1,      1,2,20070815,2143, 82.2520,  61.9960,  231,    213.0,  -0.3144,  34.7620,2,   -999.0,9,    310.9,2,     4.66,2,    10.26,2,     0.03,2,     0.75,2,   -999.0,9,   -999.0,9,  -999.00,9,  -0.3218
  06AQ20070728,EurArc,   272,  1,     2a,      2,2,20070815,2143, 82.2520,  61.9960,  231,    212.4,  -0.3108,  34.7620,2,   -999.0,9,    311.0,2,     4.67,2,    10.41,2,     0.04,2,     0.75,2,   -999.0,9,   -999.0,9,  -999.00,9,  -0.3182
  06AQ20070728,EurArc,   272,  1,      4,      4,2,20070815,2143, 82.2520,  61.9960,  231,    212.4,  -0.3149,  34.7630,2,   -999.0,9,    311.0,2,     4.67,2,    10.18,2,     0.03,2,     0.74,2,   -999.0,9,   -999.0,9,  -999.00,9,  -0.3223
  06AQ20070728,EurArc,   272,  1,      5,      5,2,20070815,2143, 82.2520,  61.9960,  231,    212.4,  -0.3169,  34.7630,2,   -999.0,9,    311.0,2,     4.67,2,    10.18,2,     0.03,2,     0.75,2,   -999.0,9,   -999.0,9,  -999.00,9,  -0.3243
  06AQ20070728,EurArc,   272,  1,     2b,      2,2,20070815,2143, 82.2520,  61.9960,  231,    212.4,  -0.3108,  34.7630,2,   -999.0,9,    311.0,2,     4.67,2,    10.19,2,     0.03,2,     0.75,2,   -999.0,9,   -999.0,9,  -999.00,9,  -0.3182
  06AQ20070728,EurArc,   272,  1,      6,      6,2,20070815,2143, 82.2520,  61.9960,  231,    212.4,  -0.3213,  34.7630,2,   -999.0,9,    311.0,2,     4.65,2,    10.19,2,     0.03,2,     0.74,2,   -999.0,9,   -999.0,9,  -999.00,9,  -0.3286
  06AQ20070728,EurArc,   272,  1,      7,      7,2,20070815,2143, 82.2520,  61.9960,  231,    212.4,  -0.3282,  34.7620,2,   -999.0,9,    311.0,2,     4.65,2,    10.19,2,     0.02,2,     0.74,2,   -999.0,9,   -999.0,9,  -999.00,9,  -0.3355
  06AQ20070728,EurArc,   272,  1,      8,      8,2,20070815,2143, 82.2520,  61.9960,  231,    212.3,  -0.3246,  34.7620,2,   -999.0,9,    311.0,2,     4.66,2,    10.20,2,     0.03,2,     0.74,2,   -999.0,9,   -999.0,9,  -999.00,9,  -0.3319
  06AQ20070728,EurArc,   272,  1,      9,      9,2,20070815,2143, 82.2520,  61.9960,  231,    212.3,  -0.3248,  34.7630,2,   -999.0,9,    311.0,2,     4.66,2,    10.23,2,     0.03,2,     0.74,2,   -999.0,9,   -999.0,9,  -999.00,9,  -0.3321
  06AQ20070728,EurArc,   272,  1,     10,     10,2,20070815,2143, 82.2520,  61.9960,  231,    212.3,  -0.3248,  34.7620,2,   -999.0,9,    311.0,2,     4.66,2,    10.27,2,     0.03,2,     0.74,2,   -999.0,9,   -999.0,9,  -999.00,9,  -0.3321
  06AQ20070728,EurArc,   272,  1,     11,     11,2,20070815,2143, 82.2520,  61.9960,  231,    212.3,  -0.3280,  34.7620,2,   -999.0,9,    311.0,2,     4.66,2,    10.23,2,     0.03,2,     0.74,2,   -999.0,9,   -999.0,9,  -999.00,9,  -0.3353
  06AQ20070728,EurArc,   272,  1,     12,     12,2,20070815,2143, 82.2520,  61.9960,  231,    212.3,  -0.3303,  34.7620,2,   -999.0,9,    311.0,2,     4.67,2,    10.40,2,     0.03,2,     0.74,2,   -999.0,9,   -999.0,9,  -999.00,9,  -0.3376
  06AQ20070728,EurArc,   272,  1,     13,     13,2,20070815,2143, 82.2520,  61.9960,  231,    212.3,  -0.3288,  34.7620,2,   -999.0,9,    311.0,2,     4.68,2,    10.37,2,     0.03,2,     0.74,2,   2160.7,2,   2291.6,2,  -999.00,9,  -0.3361
  06AQ20070728,EurArc,   272,  1,     14,     14,2,20070815,2143, 82.2520,  61.9960,  231,    202.2,  -0.3293,  34.7620,2,   -999.0,9,    310.0,2,     2.32,3,     4.90,3,     0.03,2,     0.37,3,   2041.8,4,   2213.1,4,  -999.00,9,  -0.3363
  06AQ20070728,EurArc,   272,  1,     15,     15,2,20070815,2143, 82.2520,  61.9960,  231,    143.5,   0.9670,  34.8180,2,   -999.0,9,    305.9,2,     4.69,2,    11.07,2,     0.02,2,     0.77,2,   2156.6,2,   2290.3,2,  -999.00,9,   0.9606
  06AQ20070728,EurArc,   272,  1,     16,     16,2,20070815,2143, 82.2520,  61.9960,  231,    126.4,   1.0829,  34.8140,2,   -999.0,9,    309.0,2,     4.57,2,    11.05,2,     0.03,2,     0.76,2,   -999.0,9,   -999.0,9,  -999.00,9,   1.0771
  06AQ20070728,EurArc,   272,  1,     17,     17,2,20070815,2143, 82.2520,  61.9960,  231,    101.7,   1.2556,  34.8080,2,   -999.0,9,    306.0,2,     4.48,2,    11.04,2,     0.03,2,     0.76,2,   2151.1,2,   2291.6,2,  -999.00,9,   1.2508
  06AQ20070728,EurArc,   272,  1,     18,     18,2,20070815,2143, 82.2520,  61.9960,  231,     75.9,   1.2993,  34.7820,2,   -999.0,9,   -999.0,9,     4.34,2,    10.91,2,     0.04,2,     0.75,2,   -999.0,9,   -999.0,9,  -999.00,9,   1.2957
  06AQ20070728,EurArc,   272,  1,     19,     19,2,20070815,2143, 82.2520,  61.9960,  231,     50.9,   0.8470,  34.6660,2,   -999.0,9,    321.8,2,     4.02,2,    10.43,2,     0.06,2,     0.72,2,   2143.1,2,   2285.9,2,  -999.00,9,   0.8448
  06AQ20070728,EurArc,   272,  1,     21,     21,2,20070815,2143, 82.2520,  61.9960,  231,     25.6,  -1.1787,  34.1910,2,   -999.0,9,    379.4,2,     2.87,2,     7.07,2,     0.22,2,     0.54,2,   -999.0,9,   -999.0,9,  -999.00,9,  -1.1793
  06AQ20070728,EurArc,   272,  1,     23,     23,2,20070815,2143, 82.2520,  61.9960,  231,     25.6,  -1.1449,  34.1970,2,   -999.0,9,    379.4,2,     2.87,2,     7.07,2,     0.22,2,     0.54,2,   2096.4,2,   2256.2,2,  -999.00,9,  -1.1455
  06AQ20070728,EurArc,   272,  1,     22,     22,2,20070815,2143, 82.2520,  61.9960,  231,     25.6,  -1.1507,  34.1950,2,   -999.0,9,    379.4,2,     2.87,2,     7.04,2,     0.21,2,     0.54,2,   -999.0,9,   -999.0,9,  -999.00,9,  -1.1513
  06AQ20070728,EurArc,   272,  1,     20,     20,2,20070815,2143, 82.2520,  61.9960,  231,     25.6,  -1.1963,  34.1960,2,   -999.0,9,    379.4,2,     2.69,2,     6.46,2,     0.16,2,     0.50,2,   -999.0,9,   -999.0,9,  -999.00,9,  -1.1969
  06AQ20070728,EurArc,   272,  1,     24,     24,2,20070815,2143, 82.2520,  61.9960,  231,      4.9,  -1.6348,  32.6610,2,   -999.0,9,    385.6,2,     0.95,2,     1.37,2,     0.04,2,     0.17,2,   -999.0,9,   -999.0,9,  -999.00,9,  -1.6349
  06AQ20070728,EurArc,   273,  1,      1,      1,2,20070816,0303, 82.2120,  64.7530,  489,    488.0,   0.4574,  34.8630,2,   -999.0,9,    311.2,2,     5.41,2,    11.49,2,     0.02,2,     0.79,2,   -999.0,9,   -999.0,9,  -999.00,9,   0.4360
  06AQ20070728,EurArc,   273,  1,      4,      4,2,20070816,0303, 82.2120,  64.7530,  489,    399.9,   0.0216,  34.8110,2,   -999.0,9,    313.7,2,     5.06,2,    10.87,2,     0.02,2,     0.77,2,   -999.0,9,   -999.0,9,  -999.00,9,   0.0059
  06AQ20070728,EurArc,   273,  1,      8,      8,2,20070816,0303, 82.2120,  64.7530,  489,    399.9,   0.0239,  34.8110,2,   -999.0,9,    313.7,2,  -999.00,9,  -999.00,9,  -999.00,9,  -999.00,9,   -999.0,9,   -999.0,9,  -999.00,9,   0.0082
  06AQ20070728,EurArc,   273,  1,      5,      5,2,20070816,0303, 82.2120,  64.7530,  489,    399.9,   0.0239,  34.8110,2,   -999.0,9,    313.7,2,  -999.00,9,  -999.00,9,  -999.00,9,  -999.00,9,   -999.0,9,   -999.0,9,  -999.00,9,   0.0082
  06AQ20070728,EurArc,   273,  1,      6,      6,2,20070816,0303, 82.2120,  64.7530,  489,    399.9,   0.0232,  34.8110,2,   -999.0,9,    313.7,2,  -999.00,9,  -999.00,9,  -999.00,9,  -999.00,9,   -999.0,9,   -999.0,9,  -999.00,9,   0.0075
  06AQ20070728,EurArc,   273,  1,      7,      7,2,20070816,0303, 82.2120,  64.7530,  489,    399.9,   0.0256,  34.8110,2,   -999.0,9,    313.7,2,  -999.00,9,  -999.00,9,  -999.00,9,  -999.00,9,   -999.0,9,   -999.0,9,  -999.00,9,   0.0099
  06AQ20070728,EurArc,   273,  1,      2,      2,2,20070816,0303, 82.2120,  64.7530,  489,    399.8,   0.0209,  34.8110,2,   -999.0,9,    313.7,2,  -999.00,9,  -999.00,9,  -999.00,9,  -999.00,9,   -999.0,9,   -999.0,9,  -999.00,9,   0.0052
  06AQ20070728,EurArc,   273,  1,      3,      3,2,20070816,0303, 82.2120,  64.7530,  489,    399.8,   0.0222,  34.8110,2,   -999.0,9,    313.7,2,  -999.00,9,  -999.00,9,  -999.00,9,  -999.00,9,   -999.0,9,   -999.0,9,  -999.00,9,   0.0065
  06AQ20070728,EurArc,   273,  1,      9,      9,2,20070816,0303, 82.2120,  64.7530,  489,    304.0,   1.6531,  34.9300,2,   -999.0,9,    306.6,2,     5.21,2,    11.98,2,     0.02,2,     0.81,2,   -999.0,9,   -999.0,9,  -999.00,9,   1.6372
  06AQ20070728,EurArc,   273,  1,     10,     10,2,20070816,0303, 82.2120,  64.7530,  489,    202.1,   2.0021,  34.9130,2,   -999.0,9,    303.8,2,     4.85,2,    11.85,2,     0.02,2,     0.80,2,   -999.0,9,   -999.0,9,  -999.00,9,   1.9912
  06AQ20070728,EurArc,   273,  1,     11,     11,2,20070816,0303, 82.2120,  64.7530,  489,    151.5,   2.0409,  34.8940,2,    292.6,2,    303.5,2,     4.59,2,    11.49,2,     0.02,2,     0.77,2,   -999.0,9,   -999.0,9,     0.38,2,   2.0327
  06AQ20070728,EurArc,   273,  1,     12,     12,2,20070816,0303, 82.2120,  64.7530,  489,    125.9,   2.2006,  34.8800,2,    292.4,2,    303.1,2,     4.52,2,    11.46,2,     0.03,2,     0.77,2,   -999.0,9,   -999.0,9,     0.19,2,   2.1937
  06AQ20070728,EurArc,   273,  1,     15,     15,2,20070816,0303, 82.2120,  64.7530,  489,    100.9,   2.4169,  34.8910,2,    291.5,2,    302.4,2,     4.44,2,    11.33,2,     0.02,2,     0.76,2,   -999.0,9,   -999.0,9,     0.18,2,   2.4112
  06AQ20070728,EurArc,   273,  1,     19,     19,2,20070816,0303, 82.2120,  64.7530,  489,    100.9,   2.4253,  34.8920,2,   -999.0,9,    302.4,2,  -999.00,9,  -999.00,9,  -999.00,9,  -999.00,9,   -999.0,9,   -999.0,9,  -999.00,9,   2.4196
  06AQ20070728,EurArc,   273,  1,     16,     16,2,20070816,0303, 82.2120,  64.7530,  489,    100.9,   2.4127,  34.8900,2,   -999.0,9,    302.4,2,  -999.00,9,  -999.00,9,  -999.00,9,  -999.00,9,   -999.0,9,   -999.0,9,  -999.00,9,   2.4070
  06AQ20070728,EurArc,   273,  1,     18,     18,2,20070816,0303, 82.2120,  64.7530,  489,    100.9,   2.4246,  34.8900,2,   -999.0,9,    302.4,2,  -999.00,9,  -999.00,9,  -999.00,9,  -999.00,9,   -999.0,9,   -999.0,9,  -999.00,9,   2.4189
  06AQ20070728,EurArc,   273,  1,     17,     17,2,20070816,0303, 82.2120,  64.7530,  489,    100.9,   2.4081,  34.8910,2,   -999.0,9,    302.4,2,  -999.00,9,  -999.00,9,  -999.00,9,  -999.00,9,   -999.0,9,   -999.0,9,  -999.00,9,   2.4024
  06AQ20070728,EurArc,   273,  1,     13,     13,2,20070816,0303, 82.2120,  64.7530,  489,    100.9,   2.4215,  34.8910,2,   -999.0,9,    302.4,2,  -999.00,9,  -999.00,9,  -999.00,9,  -999.00,9,   -999.0,9,   -999.0,9,  -999.00,9,   2.4158
  06AQ20070728,EurArc,   273,  1,     14,     14,2,20070816,0303, 82.2120,  64.7530,  489,    100.9,   2.4166,  34.8910,2,   -999.0,9,    302.4,2,  -999.00,9,  -999.00,9,  -999.00,9,  -999.00,9,   -999.0,9,   -999.0,9,  -999.00,9,   2.4109
  06AQ20070728,EurArc,   273,  1,     20,     20,2,20070816,0303, 82.2120,  64.7530,  489,     75.5,   2.4438,  34.8780,2,    291.0,2,    302.4,2,     4.34,2,    11.09,2,     0.04,2,     0.75,2,   -999.0,9,   -999.0,9,     0.13,2,   2.4395
  06AQ20070728,EurArc,   273,  1,     21,     21,2,20070816,0303, 82.2120,  64.7530,  489,     50.3,  -0.0374,  34.5280,2,    306.3,2,    319.2,2,     4.12,2,    10.53,2,     0.06,2,     0.74,2,   -999.0,9,   -999.0,9,     0.28,2,  -0.0392
  06AQ20070728,EurArc,   273,  1,     22,     22,2,20070816,0303, 82.2120,  64.7530,  489,     20.5,  -1.4826,  33.5930,2,    371.8,2,    388.9,2,     1.65,2,     4.21,2,     0.17,2,     0.33,2,   -999.0,9,   -999.0,9,    -0.06,2,  -1.4830
  06AQ20070728,EurArc,   273,  1,     23,     23,2,20070816,0303, 82.2120,  64.7530,  489,      9.1,  -1.6525,  32.7620,2,    378.3,2,    385.4,2,     0.53,2,     0.71,2,     0.04,2,     0.12,2,   -999.0,9,   -999.0,9,     0.02,2,  -1.6527
  06AQ20070728,EurArc,   273,  1,     24,     24,2,20070816,0303, 82.2120,  64.7530,  489,      2.0,  -1.6840,  32.7020,2,    377.4,2,    385.7,2,     0.60,2,     0.92,2,     0.04,2,     0.14,2,   -999.0,9,   -999.0,9,     0.09,2,  -1.6840
  06AQ20070728,EurArc,   274,  1,      1,      1,2,20070816,1325, 82.5210,  67.1120, 1140,   1147.3,  -0.4640,  34.9110,2,   -999.0,9,    298.5,2,     9.79,2,    14.49,2,     0.01,2,     0.98,2,   -999.0,9,   -999.0,9,  -999.00,9,  -0.5124
  06AQ20070728,EurArc,   274,  1,      2,      2,2,20070816,1325, 82.5210,  67.1120, 1140,   1013.3,  -0.1631,  34.9110,2,   -999.0,9,    300.4,2,     8.62,2,    14.03,2,     0.01,2,     0.95,2,   -999.0,9,   -999.0,9,  -999.00,9,  -0.2071
  06AQ20070728,EurArc,   274,  1,      3,      3,2,20070816,1325, 82.5210,  67.1120, 1140,    810.1,   0.3748,  34.9170,2,   -999.0,9,    301.4,2,     7.39,2,    13.70,2,     0.01,2,     0.92,2,   -999.0,9,   -999.0,9,  -999.00,9,   0.3375
  06AQ20070728,EurArc,   274,  1,      4,      4,2,20070816,1325, 82.5210,  67.1120, 1140,    709.0,   0.7994,  34.9270,2,   -999.0,9,    301.9,2,     6.79,2,    13.44,2,     0.01,2,     0.89,2,   -999.0,9,   -999.0,9,  -999.00,9,   0.7649
  06AQ20070728,EurArc,   274,  1,      5,      5,2,20070816,1325, 82.5210,  67.1120, 1140,    607.7,   1.0746,  34.9260,2,   -999.0,9,    304.5,2,     6.05,2,    12.64,2,     0.02,2,     0.85,2,   -999.0,9,   -999.0,9,  -999.00,9,   1.0442
  06AQ20070728,EurArc,   274,  1,      6,      6,2,20070816,1325, 82.5210,  67.1120, 1140,    547.1,   1.0060,  34.9050,2,   -999.0,9,    308.2,2,     5.57,2,    12.18,2,     0.01,2,     0.82,2,   -999.0,9,   -999.0,9,  -999.00,9,   0.9792
  06AQ20070728,EurArc,   274,  1,      7,      7,2,20070816,1325, 82.5210,  67.1120, 1140,    506.5,   1.4024,  34.9290,2,   -999.0,9,    305.7,2,     5.57,2,    12.22,2,     0.01,2,     0.82,2,   -999.0,9,   -999.0,9,  -999.00,9,   1.3761
  06AQ20070728,EurArc,   274,  1,      8,      8,2,20070816,1325, 82.5210,  67.1120, 1140,    404.9,   2.0278,  34.9550,2,   -999.0,9,    303.5,2,     5.34,2,    12.32,2,     0.02,2,     0.82,2,   -999.0,9,   -999.0,9,  -999.00,9,   2.0051
  06AQ20070728,EurArc,   274,  1,      9,      9,2,20070816,1325, 82.5210,  67.1120, 1140,    303.8,   2.5349,  34.9690,2,   -999.0,9,    302.2,2,     4.99,2,    11.99,2,     0.02,2,     0.80,2,   -999.0,9,   -999.0,9,  -999.00,9,   2.5168
  06AQ20070728,EurArc,   274,  1,     10,     10,2,20070816,1325, 82.5210,  67.1120, 1140,    202.4,   2.8654,  34.9670,2,   -999.0,9,    299.9,2,     4.77,2,    12.14,2,     0.02,2,     0.79,2,   -999.0,9,   -999.0,9,  -999.00,9,   2.8530
  06AQ20070728,EurArc,   274,  1,     11,     11,2,20070816,1325, 82.5210,  67.1120, 1140,    151.8,   3.0326,  34.9610,2,    288.5,2,    299.8,2,     4.66,2,    11.74,2,     0.02,2,     0.78,2,   -999.0,9,   -999.0,9,     0.18,2,   3.0232
  06AQ20070728,EurArc,   274,  1,     12,     12,2,20070816,1325, 82.5210,  67.1120, 1140,    126.5,   3.0154,  34.9420,2,    288.3,2,    299.6,2,     4.60,2,    11.53,2,     0.02,2,     0.77,2,   -999.0,9,   -999.0,9,     0.16,2,   3.0076
  06AQ20070728,EurArc,   274,  1,     13,     13,2,20070816,1325, 82.5210,  67.1120, 1140,    101.5,   2.8975,  34.9190,2,   -999.0,9,    299.5,2,     4.51,2,    11.24,2,     0.02,2,     0.76,2,   -999.0,9,   -999.0,9,  -999.00,9,   2.8913
  06AQ20070728,EurArc,   274,  1,     14,     14,2,20070816,1325, 82.5210,  67.1120, 1140,    101.4,   2.8986,  34.9190,2,    288.7,2,    299.5,2,     4.49,2,    12.25,2,     0.02,2,     0.76,2,   -999.0,9,   -999.0,9,     0.18,2,   2.8925
  06AQ20070728,EurArc,   274,  1,     15,     15,2,20070816,1325, 82.5210,  67.1120, 1140,     75.0,   2.4307,  34.8460,2,    289.8,2,    301.4,2,     4.38,2,    11.01,2,     0.04,2,     0.74,2,   -999.0,9,   -999.0,9,     0.19,2,   2.4265
  06AQ20070728,EurArc,   274,  1,     16,     16,2,20070816,1325, 82.5210,  67.1120, 1140,     51.3,   1.3023,  34.6800,2,    298.2,2,    315.9,2,     4.23,2,    10.90,2,     0.05,2,     0.73,2,   -999.0,9,   -999.0,9,     0.15,2,   1.2999
  06AQ20070728,EurArc,   274,  1,     17,     17,2,20070816,1325, 82.5210,  67.1120, 1140,     40.0,   0.0655,  34.5200,2,    311.9,2,    333.5,2,     3.57,2,     8.98,2,     0.13,2,     0.65,2,   -999.0,9,   -999.0,9,     0.01,2,   0.0641
  06AQ20070728,EurArc,   274,  1,     18,     18,2,20070816,1325, 82.5210,  67.1120, 1140,     25.4,  -0.7752,  34.3460,2,    326.7,2,    355.7,2,     3.09,2,     7.65,2,     0.19,2,     0.56,2,   -999.0,9,   -999.0,9,    -0.01,2,  -0.7759
  06AQ20070728,EurArc,   274,  1,     19,     19,2,20070816,1325, 82.5210,  67.1120, 1140,     10.3,  -1.3213,  33.9140,2,    346.4,2,    366.1,2,     2.20,2,     5.15,2,     0.08,2,     0.40,2,   -999.0,9,   -999.0,9,     0.01,2,  -1.3215
  06AQ20070728,EurArc,   274,  1,     20,     20,2,20070816,1325, 82.5210,  67.1120, 1140,      1.8,  -1.3673,  33.7450,2,    345.9,2,    366.3,2,     2.17,2,     4.71,2,     0.07,2,     0.40,2,   -999.0,9,   -999.0,9,     0.02,2,  -1.3673
  06AQ20070728,EurArc,   275,  1,      1,      1,2,20070816,2343, 82.1830,  66.9590,  618,    620.0,   0.7331,  34.9140,2,   -999.0,9,    306.5,2,     6.29,2,    12.42,2,     0.02,2,     0.85,2,   -999.0,9,   -999.0,9,  -999.00,9,   0.7038
  06AQ20070728,EurArc,   275,  1,      2,      2,2,20070816,2343, 82.1830,  66.9590,  618,    506.4,   1.0518,  34.9090,2,   -999.0,9,    307.7,2,     5.59,2,    12.04,2,     0.02,2,     0.82,2,   -999.0,9,   -999.0,9,  -999.00,9,   1.0270
  06AQ20070728,EurArc,   275,  1,      3,      3,2,20070816,2343, 82.1830,  66.9590,  618,    404.7,   1.7706,  34.9420,2,   -999.0,9,    303.8,2,     5.47,2,    12.39,2,     0.02,2,     0.83,2,   -999.0,9,   -999.0,9,  -999.00,9,   1.7487
  06AQ20070728,EurArc,   275,  1,      4,      4,2,20070816,2343, 82.1830,  66.9590,  618,    303.2,   2.2964,  34.9580,2,   -999.0,9,    302.5,2,     5.09,2,    12.25,2,     0.02,2,     0.82,2,   -999.0,9,   -999.0,9,  -999.00,9,   2.2790
  06AQ20070728,EurArc,   275,  1,      5,      5,2,20070816,2343, 82.1830,  66.9590,  618,    201.5,   2.5093,  34.9260,2,   -999.0,9,    302.2,2,     4.62,2,    11.62,2,     0.02,2,     0.78,2,   -999.0,9,   -999.0,9,  -999.00,9,   2.4975
  06AQ20070728,EurArc,   275,  1,      6,      6,2,20070816,2343, 82.1830,  66.9590,  618,    152.3,   2.6843,  34.9250,2,    289.9,2,    301.6,2,     4.55,2,    11.50,2,     0.02,2,     0.77,2,   -999.0,9,   -999.0,9,     0.09,2,   2.6753
  06AQ20070728,EurArc,   275,  1,      7,      7,2,20070816,2343, 82.1830,  66.9590,  618,    126.0,   2.7583,  34.9230,2,    289.7,2,    301.1,2,     4.51,2,    11.38,2,     0.02,2,     0.76,2,   -999.0,9,   -999.0,9,     0.03,2,   2.7508
  06AQ20070728,EurArc,   275,  1,      8,      8,2,20070816,2343, 82.1830,  66.9590,  618,    102.1,   2.5289,  34.8870,2,    290.6,2,    302.0,2,     4.39,2,    11.13,2,     0.03,2,     0.75,2,   -999.0,9,   -999.0,9,     0.19,2,   2.5230
  06AQ20070728,EurArc,   275,  1,      9,      9,2,20070816,2343, 82.1830,  66.9590,  618,     76.1,   2.3420,  34.8610,2,    291.2,2,    303.3,2,     4.38,2,    11.15,2,     0.04,2,     0.75,2,   -999.0,9,   -999.0,9,     0.10,2,   2.3378
  06AQ20070728,EurArc,   275,  1,     10,     10,2,20070816,2343, 82.1830,  66.9590,  618,     50.4,   2.0613,  34.8050,2,    292.7,2,    312.6,2,     4.20,2,    10.81,2,     0.06,2,     0.74,2,   -999.0,9,   -999.0,9,     0.18,2,   2.0586
  06AQ20070728,EurArc,   275,  1,     11,     11,2,20070816,2343, 82.1830,  66.9590,  618,     25.6,  -1.1928,  34.2880,2,    327.7,2,    350.7,2,     3.24,2,     8.13,2,     0.17,2,     0.60,2,   -999.0,9,   -999.0,9,     0.07,2,  -1.1934
  06AQ20070728,EurArc,   275,  1,     12,     12,2,20070816,2343, 82.1830,  66.9590,  618,      9.9,  -1.6536,  32.8820,2,    366.0,2,    376.3,2,     1.41,2,     3.04,2,     0.06,2,     0.31,2,   -999.0,9,   -999.0,9,    -0.01,2,  -1.6538
  06AQ20070728,EurArc,   275,  1,     13,     13,2,20070816,2343, 82.1830,  66.9590,  618,      1.8,  -1.6810,  32.7990,2,    368.1,2,    376.8,2,     1.19,2,     2.31,2,     0.06,2,     0.25,2,   -999.0,9,   -999.0,9,     0.00,2,  -1.6810