BOTTLE,20220921CCHSIOAMB
EXPOCODE,SECT_ID,STNNBR,CASTNO,SAMPNO,BTLNBR,BTLNBR_FLAG_W,DATE,TIME,LATITUDE,LONGITUDE,DEPTH,CTDPRS,CTDTMP,CTDSAL,CTDSAL_FLAG_W,CTDOXY,CTDOXY_FLAG_W,OXYGEN,OXYGEN_FLAG_W,SILCAT,SILCAT_FLAG_W,NITRAT,NITRAT_FLAG_W,NITRIT,NITRIT_FLAG_W,PHSPHT,PHSPHT_FLAG_W,TCARBN,TCARBN_FLAG_W,ALKALI,ALKALI_FLAG_W,DELO18,DELO18_FLAG_W,THETA
,,,,,,,,,,,METERS,DBAR,ITS-90,PSS-78,,UMOL/KG,,UMOL/KG,,UMOL/KG,,UMOL/KG,,UMOL/KG,,UMOL/KG,,UMOL/KG,,UMOL/KG,,/MILLE,,DEG C
  06AQ20070728,EurArc,   322,  2,      1,      1,2,20070831,1817, 88.1290, 150.1200, 2709,   2750.2,  -0.3672,  34.9530,2,   -999.0,9,    288.8,2,    12.35,2,    14.69,2,     0.01,2,     1.02,2,   -999.0,9,   -999.0,9,  -999.00,9,  -0.5234
  06AQ20070728,EurArc,   322,  2,      2,      2,2,20070831,1817, 88.1290, 150.1200, 2709,   2541.6,  -0.3757,  34.9530,2,   -999.0,9,    288.1,2,    12.58,2,    14.71,2,     0.01,2,     1.03,2,   -999.0,9,   -999.0,9,  -999.00,9,  -0.5155
  06AQ20070728,EurArc,   322,  2,      4,      4,2,20070831,1817, 88.1290, 150.1200, 2709,   2031.5,  -0.4074,  34.9480,2,   -999.0,9,    289.3,2,    12.13,2,    14.56,2,     0.01,2,     1.02,2,   -999.0,9,   -999.0,9,  -999.00,9,  -0.5098
  06AQ20070728,EurArc,   322,  2,      3,      3,2,20070831,1817, 88.1290, 150.1200, 2709,   2031.4,  -0.4074,  34.9480,2,   -999.0,9,    289.3,2,    12.19,2,    14.60,2,     0.00,2,     1.02,2,   -999.0,9,   -999.0,9,  -999.00,9,  -0.5098
  06AQ20070728,EurArc,   322,  2,      5,      5,2,20070831,1817, 88.1290, 150.1200, 2709,   1521.9,  -0.3843,  34.9290,2,   -999.0,9,    296.0,2,     9.86,2,    14.05,2,     0.00,2,     0.98,2,   -999.0,9,   -999.0,9,  -999.00,9,  -0.4546
  06AQ20070728,EurArc,   322,  2,      6,      6,2,20070831,1817, 88.1290, 150.1200, 2709,   1267.6,  -0.3174,  34.9130,2,   -999.0,9,    299.4,2,     8.37,2,    13.50,2,     0.01,2,     0.94,2,   -999.0,9,   -999.0,9,  -999.00,9,  -0.3737
  06AQ20070728,EurArc,   322,  2,      7,      7,2,20070831,1817, 88.1290, 150.1200, 2709,   1013.5,  -0.1752,  34.8950,2,   -999.0,9,    300.4,2,     7.40,2,    13.14,2,     0.01,2,     0.91,2,   -999.0,9,   -999.0,9,  -999.00,9,  -0.2191
  06AQ20070728,EurArc,   322,  2,      8,      8,2,20070831,1817, 88.1290, 150.1200, 2709,    759.5,   0.0558,  34.8760,2,   -999.0,9,    300.3,2,     6.82,2,    12.80,2,     0.01,2,     0.89,2,   -999.0,9,   -999.0,9,  -999.00,9,   0.0232
  06AQ20070728,EurArc,   322,  2,      9,      9,2,20070831,1817, 88.1290, 150.1200, 2709,    506.4,   0.4732,  34.8650,2,   -999.0,9,    298.0,2,     6.65,2,    12.79,2,     0.01,2,     0.87,2,   -999.0,9,   -999.0,9,  -999.00,9,   0.4509
  06AQ20070728,EurArc,   322,  2,     10,     10,2,20070831,1817, 88.1290, 150.1200, 2709,    405.0,   0.6594,  34.8560,2,   -999.0,9,    297.7,2,     6.49,2,    12.77,2,     0.01,2,     0.87,2,   -999.0,9,   -999.0,9,  -999.00,9,   0.6413
  06AQ20070728,EurArc,   322,  2,     11,     11,2,20070831,1817, 88.1290, 150.1200, 2709,    303.2,   0.9120,  34.8410,2,   -999.0,9,    297.3,2,     6.28,2,    12.51,2,     0.01,2,     0.85,2,   -999.0,9,   -999.0,9,  -999.00,9,   0.8981
  06AQ20070728,EurArc,   322,  2,     12,     12,2,20070831,1817, 88.1290, 150.1200, 2709,    202.0,   0.4869,  34.6810,2,   -999.0,9,    294.7,2,     6.75,2,    12.07,2,     0.01,2,     0.84,2,   -999.0,9,   -999.0,9,  -999.00,9,   0.4786
  06AQ20070728,EurArc,   322,  2,     13,     13,2,20070831,1817, 88.1290, 150.1200, 2709,    151.9,  -0.3236,  34.4320,2,    287.9,2,    301.4,2,     6.12,2,    10.41,2,     0.01,2,     0.76,2,   -999.0,9,   -999.0,9,    -0.07,2,  -0.3287
  06AQ20070728,EurArc,   322,  2,     14,     14,2,20070831,1817, 88.1290, 150.1200, 2709,    126.9,  -0.8476,  34.2810,2,    294.1,2,    308.0,2,     5.81,2,     9.84,2,     0.01,2,     0.73,2,   -999.0,9,   -999.0,9,    -0.18,2,  -0.8512
  06AQ20070728,EurArc,   322,  2,     15,     15,2,20070831,1817, 88.1290, 150.1200, 2709,    100.7,  -1.4317,  34.0770,2,    297.1,2,    310.8,2,     5.75,2,     8.97,2,     0.01,2,     0.70,2,   -999.0,9,   -999.0,9,    -0.30,2,  -1.4340
  06AQ20070728,EurArc,   322,  2,     16,     16,2,20070831,1817, 88.1290, 150.1200, 2709,     75.7,  -1.6375,  33.5630,2,    301.6,2,    321.4,2,     7.06,2,     7.76,2,     0.02,2,     0.68,2,   -999.0,9,   -999.0,9,    -0.99,2,  -1.6390
  06AQ20070728,EurArc,   322,  2,     17,     17,2,20070831,1817, 88.1290, 150.1200, 2709,     50.5,  -1.7148,  32.6310,2,    338.8,2,    358.9,2,     8.21,2,     5.15,2,     0.02,2,     0.63,2,   -999.0,9,   -999.0,9,    -2.23,2,  -1.7156
  06AQ20070728,EurArc,   322,  2,     18,     18,2,20070831,1817, 88.1290, 150.1200, 2709,     35.4,  -1.7214,  31.9420,2,   -999.0,9,    368.4,2,     6.52,2,     3.46,2,     0.02,2,     0.49,2,   -999.0,9,   -999.0,9,  -999.00,9,  -1.7219
  06AQ20070728,EurArc,   322,  2,     19,     19,2,20070831,1817, 88.1290, 150.1200, 2709,     35.4,  -1.7206,  31.9420,2,    352.9,2,    368.4,2,     6.51,2,     3.44,2,     0.03,2,     0.49,2,   -999.0,9,   -999.0,9,    -2.78,2,  -1.7211
  06AQ20070728,EurArc,   322,  2,     21,     21,2,20070831,1817, 88.1290, 150.1200, 2709,     25.2,  -1.6392,  31.1220,2,    358.4,2,    391.1,2,     6.98,2,     3.19,2,     0.04,2,     0.51,2,   -999.0,9,   -999.0,9,    -3.02,2,  -1.6396
  06AQ20070728,EurArc,   322,  2,     20,     20,2,20070831,1817, 88.1290, 150.1200, 2709,     25.2,  -1.6773,  31.5530,2,   -999.0,9,    391.0,2,  -999.00,9,  -999.00,9,  -999.00,9,  -999.00,9,   -999.0,9,   -999.0,9,  -999.00,9,  -1.6777
  06AQ20070728,EurArc,   322,  2,     22,     22,2,20070831,1817, 88.1290, 150.1200, 2709,     10.0,  -1.6365,  30.7580,2,    383.6,2,    396.4,2,     2.30,2,     0.31,2,     0.02,2,     0.30,2,   -999.0,9,   -999.0,9,    -2.93,2,  -1.6366
  06AQ20070728,EurArc,   322,  2,     23,     23,2,20070831,1817, 88.1290, 150.1200, 2709,     10.0,  -1.6365,  30.7480,2,   -999.0,9,    396.4,2,  -999.00,9,  -999.00,9,  -999.00,9,  -999.00,9,   -999.0,9,   -999.0,9,  -999.00,9,  -1.6366
  06AQ20070728,EurArc,   322,  2,     24,     24,2,20070831,1817, 88.1290, 150.1200, 2709,      2.0,  -1.6452,  30.6350,2,    389.2,2,    395.9,2,     1.82,2,     0.14,2,     0.01,2,     0.27,2,   -999.0,9,   -999.0,9,    -2.92,2,  -1.6452
  06AQ20070728,EurArc,   324,  1,      1,      1,2,20070901,0450, 88.0750, 160.6300, 3957,   4031.7,  -0.2623,  34.9530,2,   -999.0,9,    290.0,2,    11.94,2,    14.51,2,     0.01,2,     1.02,2,   -999.0,9,   -999.0,9,  -999.00,9,  -0.5359
  06AQ20070728,EurArc,   324,  1,      2,      2,2,20070901,0450, 88.0750, 160.6300, 3957,   3567.4,  -0.3083,  34.9530,2,   -999.0,9,    290.3,2,    11.92,2,    14.45,2,     0.01,2,     1.03,2,   -999.0,9,   -999.0,9,  -999.00,9,  -0.5362
  06AQ20070728,EurArc,   324,  1,      4,      4,2,20070901,0450, 88.0750, 160.6300, 3957,   3054.6,  -0.3504,  34.9530,2,   -999.0,9,    289.4,2,    12.19,2,    14.49,2,     0.01,2,     1.02,2,   -999.0,9,   -999.0,9,  -999.00,9,  -0.5319
  06AQ20070728,EurArc,   324,  1,      3,      3,2,20070901,0450, 88.0750, 160.6300, 3957,   3054.5,  -0.3498,  34.9530,2,   -999.0,9,    289.4,2,    12.20,2,    14.49,2,     0.01,2,     1.03,2,   -999.0,9,   -999.0,9,  -999.00,9,  -0.5313
  06AQ20070728,EurArc,   324,  1,      5,      5,2,20070901,0450, 88.0750, 160.6300, 3957,   2542.6,  -0.3810,  34.9530,2,   -999.0,9,    288.5,2,    12.43,2,    14.52,2,     0.01,2,     1.03,2,   -999.0,9,   -999.0,9,  -999.00,9,  -0.5208
  06AQ20070728,EurArc,   324,  1,      6,      6,2,20070901,0450, 88.0750, 160.6300, 3957,   2031.7,  -0.4052,  34.9470,2,   -999.0,9,    290.3,2,    11.85,2,    14.34,2,     0.01,2,     1.02,2,   -999.0,9,   -999.0,9,  -999.00,9,  -0.5077
  06AQ20070728,EurArc,   324,  1,      7,      7,2,20070901,0450, 88.0750, 160.6300, 3957,   1522.2,  -0.3690,  34.9270,2,   -999.0,9,    297.0,2,     9.43,2,    13.71,2,     0.01,2,     0.97,2,   -999.0,9,   -999.0,9,  -999.00,9,  -0.4395
  06AQ20070728,EurArc,   324,  1,      8,      8,2,20070901,0450, 88.0750, 160.6300, 3957,   1267.5,  -0.2995,  34.9090,2,   -999.0,9,    300.7,2,     8.10,2,    13.17,2,     0.01,2,     0.93,2,   -999.0,9,   -999.0,9,  -999.00,9,  -0.3560
  06AQ20070728,EurArc,   324,  1,      9,      9,2,20070901,0450, 88.0750, 160.6300, 3957,   1013.5,  -0.1600,  34.8910,2,   -999.0,9,    302.5,2,     7.20,2,    12.74,2,     0.01,2,     0.90,2,   -999.0,9,   -999.0,9,  -999.00,9,  -0.2040
  06AQ20070728,EurArc,   324,  1,     10,     10,2,20070901,0450, 88.0750, 160.6300, 3957,    759.4,   0.0562,  34.8710,2,   -999.0,9,    303.0,2,     6.51,2,    12.35,2,     0.01,2,     0.87,2,   -999.0,9,   -999.0,9,  -999.00,9,   0.0236
  06AQ20070728,EurArc,   324,  1,     11,     11,2,20070901,0450, 88.0750, 160.6300, 3957,    506.4,   0.5172,  34.8630,2,   -999.0,9,    301.3,2,     6.27,2,    12.26,2,     0.01,2,     0.85,2,   -999.0,9,   -999.0,9,  -999.00,9,   0.4947
  06AQ20070728,EurArc,   324,  1,     12,     12,2,20070901,0450, 88.0750, 160.6300, 3957,    405.0,   0.7790,  34.8580,2,   -999.0,9,    301.6,2,     6.01,2,    12.13,2,     0.01,2,     0.84,2,   -999.0,9,   -999.0,9,  -999.00,9,   0.7605
  06AQ20070728,EurArc,   324,  1,     13,     13,2,20070901,0450, 88.0750, 160.6300, 3957,    303.6,   0.8844,  34.8400,2,   -999.0,9,    298.9,2,     6.04,2,    12.06,2,     0.01,2,     0.84,2,   -999.0,9,   -999.0,9,  -999.00,9,   0.8705
  06AQ20070728,EurArc,   324,  1,     14,     14,2,20070901,0450, 88.0750, 160.6300, 3957,    202.4,   0.2681,  34.6270,2,   -999.0,9,    300.8,2,     6.20,2,    11.12,2,     0.01,2,     0.80,2,   -999.0,9,   -999.0,9,  -999.00,9,   0.2602
  06AQ20070728,EurArc,   324,  1,     15,     15,2,20070901,0450, 88.0750, 160.6300, 3957,    151.8,  -0.5954,  34.3570,2,   -999.0,9,    306.8,2,     5.76,2,     9.48,2,     0.01,2,     0.73,2,   -999.0,9,   -999.0,9,  -999.00,9,  -0.6001
  06AQ20070728,EurArc,   324,  1,     16,     16,2,20070901,0450, 88.0750, 160.6300, 3957,    126.5,  -1.2017,  34.1830,2,   -999.0,9,    309.8,2,     5.54,2,     8.76,2,     0.01,2,     0.69,2,   -999.0,9,   -999.0,9,  -999.00,9,  -1.2049
  06AQ20070728,EurArc,   324,  1,     17,     17,2,20070901,0450, 88.0750, 160.6300, 3957,    101.0,  -1.5982,  33.7970,2,   -999.0,9,    315.0,2,     6.34,2,     8.04,2,     0.02,2,     0.68,2,   -999.0,9,   -999.0,9,  -999.00,9,  -1.6003
  06AQ20070728,EurArc,   324,  1,     18,     18,2,20070901,0450, 88.0750, 160.6300, 3957,     76.0,  -1.7348,  33.0220,2,   -999.0,9,    363.4,2,     7.02,2,     5.78,2,     0.02,2,     0.61,2,   -999.0,9,   -999.0,9,  -999.00,9,  -1.7361
  06AQ20070728,EurArc,   324,  1,     19,     19,2,20070901,0450, 88.0750, 160.6300, 3957,     50.6,  -1.7521,  32.4080,2,   -999.0,9,    365.1,2,     6.23,2,     3.88,2,     0.02,2,     0.50,2,   -999.0,9,   -999.0,9,  -999.00,9,  -1.7529
  06AQ20070728,EurArc,   324,  1,     21,     21,2,20070901,0450, 88.0750, 160.6300, 3957,     25.1,  -1.6894,  31.6370,2,   -999.0,9,    371.2,2,     6.59,2,     2.92,2,     0.04,2,     0.48,2,   -999.0,9,   -999.0,9,  -999.00,9,  -1.6898
  06AQ20070728,EurArc,   324,  1,     20,     20,2,20070901,0450, 88.0750, 160.6300, 3957,     25.1,  -1.6889,  31.6260,2,   -999.0,9,    371.2,2,     6.56,2,     2.90,2,     0.03,2,     0.48,2,   -999.0,9,   -999.0,9,  -999.00,9,  -1.6893
  06AQ20070728,EurArc,   324,  1,     22,     22,2,20070901,0450, 88.0750, 160.6300, 3957,     25.1,  -1.7022,  31.7820,2,   -999.0,9,    371.1,2,     6.58,2,     2.95,2,     0.04,2,     0.48,2,   -999.0,9,   -999.0,9,  -999.00,9,  -1.7026
  06AQ20070728,EurArc,   324,  1,     23,     23,2,20070901,0450, 88.0750, 160.6300, 3957,     10.0,  -1.6182,  30.3140,2,   -999.0,9,    390.3,2,     5.48,2,     1.39,2,     0.05,2,     0.57,2,   -999.0,9,   -999.0,9,  -999.00,9,  -1.6183
  06AQ20070728,EurArc,   324,  1,     24,     24,2,20070901,0450, 88.0750, 160.6300, 3957,      1.7,  -1.6139,  30.1740,2,   -999.0,9,    394.7,2,     3.61,2,     0.37,2,     0.02,2,     0.35,2,   -999.0,9,   -999.0,9,  -999.00,9,  -1.6139
  06AQ20070728,EurArc,   326,  1,      1,      1,2,20070901,1837, 88.0280, 170.0800, 4022,   3979.6,  -0.2692,  34.9540,2,   -999.0,9,    289.3,2,    11.86,2,    14.54,2,     0.01,2,     1.01,2,   2153.0,2,   2299.9,2,  -999.00,9,  -0.5375
  06AQ20070728,EurArc,   326,  1,      2,      2,2,20070901,1837, 88.0280, 170.0800, 4022,   3876.5,  -0.2796,  34.9540,2,   -999.0,9,    289.6,2,    11.83,2,    14.47,2,     0.01,2,     1.01,2,   2153.7,2,   2299.3,2,  -999.00,9,  -0.5375
  06AQ20070728,EurArc,   326,  1,      3,      3,2,20070901,1837, 88.0280, 170.0800, 4022,   3773.6,  -0.2898,  34.9540,2,   -999.0,9,    289.6,2,    11.83,2,    14.49,2,     0.01,2,     1.01,2,   2153.9,2,   2299.9,2,  -999.00,9,  -0.5375
  06AQ20070728,EurArc,   326,  1,      4,      4,2,20070901,1837, 88.0280, 170.0800, 4022,   3567.7,  -0.3098,  34.9550,2,   -999.0,9,    289.6,2,    11.84,2,    14.56,2,     0.01,2,     1.01,2,   2150.5,2,   2300.3,2,  -999.00,9,  -0.5377
  06AQ20070728,EurArc,   326,  1,      5,      5,2,20070901,1837, 88.0280, 170.0800, 4022,   3311.7,  -0.3337,  34.9550,2,   -999.0,9,    289.6,2,    11.83,2,    14.40,2,     0.01,2,     1.00,2,   2159.2,2,   2303.9,2,  -999.00,9,  -0.5378
  06AQ20070728,EurArc,   326,  1,      6,      6,2,20070901,1837, 88.0280, 170.0800, 4022,   3055.2,  -0.3524,  34.9550,2,   -999.0,9,    288.7,2,    12.07,2,    14.49,2,     0.01,2,     1.01,2,   2152.4,2,   2301.2,2,  -999.00,9,  -0.5340
  06AQ20070728,EurArc,   326,  1,      7,      7,2,20070901,1837, 88.0280, 170.0800, 4022,   2798.5,  -0.3682,  34.9550,2,   -999.0,9,    288.0,2,    12.21,2,    14.44,2,     0.01,2,     1.01,2,   2156.2,2,   2303.7,2,  -999.00,9,  -0.5283
  06AQ20070728,EurArc,   326,  1,      8,      8,2,20070901,1837, 88.0280, 170.0800, 4022,   2542.5,  -0.3830,  34.9540,2,   -999.0,9,    287.7,2,    12.32,2,    14.49,2,     0.01,2,     1.01,2,   2152.6,2,   2299.3,2,  -999.00,9,  -0.5227
  06AQ20070728,EurArc,   326,  1,      9,      9,2,20070901,1837, 88.0280, 170.0800, 4022,   2285.9,  -0.3977,  34.9530,2,   -999.0,9,    288.1,2,    12.14,2,    14.35,2,     0.01,2,     1.01,2,   -999.0,9,   -999.0,9,  -999.00,9,  -0.5181
  06AQ20070728,EurArc,   326,  1,     10,     10,2,20070901,1837, 88.0280, 170.0800, 4022,   2031.8,  -0.4072,  34.9500,2,   -999.0,9,    289.4,2,    11.65,2,    14.45,2,     0.02,2,     1.00,2,   2153.2,2,   2299.6,2,  -999.00,9,  -0.5097
  06AQ20070728,EurArc,   326,  1,     11,     11,2,20070901,1837, 88.0280, 170.0800, 4022,   1776.4,  -0.3999,  34.9430,2,   -999.0,9,    291.7,2,    10.80,2,    14.55,2,     0.01,2,     0.98,2,   -999.0,9,   -999.0,9,  -999.00,9,  -0.4857
  06AQ20070728,EurArc,   326,  1,     12,     12,2,20070901,1837, 88.0280, 170.0800, 4022,   1522.1,  -0.3700,  34.9300,2,   -999.0,9,    295.6,2,     9.41,2,    14.44,2,     0.01,2,     0.95,2,   2149.5,2,   2296.7,2,  -999.00,9,  -0.4404
  06AQ20070728,EurArc,   326,  1,     13,     13,2,20070901,1837, 88.0280, 170.0800, 4022,   1014.0,  -0.1583,  34.8940,2,   -999.0,9,    299.8,2,     7.09,2,    12.55,2,     0.02,2,     0.88,2,   2155.5,2,   2295.7,2,  -999.00,9,  -0.2024
  06AQ20070728,EurArc,   326,  1,     14,     14,2,20070901,1837, 88.0280, 170.0800, 4022,    760.2,   0.0580,  34.8750,2,   -999.0,9,    300.2,2,     6.53,2,    12.17,2,     0.01,2,     0.86,2,   -999.0,9,   -999.0,9,  -999.00,9,   0.0254
  06AQ20070728,EurArc,   326,  1,     15,     15,2,20070901,1837, 88.0280, 170.0800, 4022,    506.3,   0.5016,  34.8670,2,   -999.0,9,    298.1,2,     6.45,2,    12.17,2,     0.02,2,     0.85,2,   2151.4,2,   2292.1,2,  -999.00,9,   0.4792
  06AQ20070728,EurArc,   326,  1,     16,     16,2,20070901,1837, 88.0280, 170.0800, 4022,    303.9,   0.9063,  34.8420,2,   -999.0,9,    296.6,2,     6.09,2,    11.89,2,     0.01,2,     0.83,2,   -999.0,9,   -999.0,9,  -999.00,9,   0.8924
  06AQ20070728,EurArc,   326,  1,     17,     17,2,20070901,1837, 88.0280, 170.0800, 4022,    202.4,   0.3494,  34.6480,2,   -999.0,9,    297.4,2,     6.27,2,    11.10,2,     0.01,2,     0.80,2,   2157.0,2,   2287.4,2,  -999.00,9,   0.3413
  06AQ20070728,EurArc,   326,  1,     18,     18,2,20070901,1837, 88.0280, 170.0800, 4022,    151.6,  -0.5068,  34.4090,2,   -999.0,9,    306.2,2,     5.62,2,     9.42,2,     0.02,2,     0.72,2,   -999.0,9,   -999.0,9,  -999.00,9,  -0.5116
  06AQ20070728,EurArc,   326,  1,     19,     19,2,20070901,1837, 88.0280, 170.0800, 4022,    101.4,  -1.4970,  34.0320,2,   -999.0,9,    306.0,2,     6.48,2,     8.21,2,     0.02,2,     0.69,2,   2158.2,2,   2252.0,2,  -999.00,9,  -1.4992
  06AQ20070728,EurArc,   326,  1,    20a,     20,2,20070901,1837, 88.0280, 170.0800, 4022,     76.1,  -1.6047,  33.4610,2,   -999.0,9,    357.5,2,     9.83,2,     8.03,2,     0.02,2,     0.76,2,   -999.0,9,   -999.0,9,  -999.00,9,  -1.6062
  06AQ20070728,EurArc,   326,  1,    20b,     20,2,20070901,1837, 88.0280, 170.0800, 4022,     51.0,  -1.6303,  32.1660,2,   -999.0,9,    357.8,2,    12.35,2,     6.05,2,     0.03,2,     0.84,2,   -999.0,9,   -999.0,9,  -999.00,9,  -1.6312
  06AQ20070728,EurArc,   326,  1,     22,     22,2,20070901,1837, 88.0280, 170.0800, 4022,     37.6,  -1.6173,  30.8370,2,   -999.0,9,    382.1,2,     7.23,2,     1.90,2,     0.11,2,     0.54,2,   -999.0,9,   -999.0,9,  -999.00,9,  -1.6178
  06AQ20070728,EurArc,   326,  1,     23,     23,2,20070901,1837, 88.0280, 170.0800, 4022,     24.4,  -1.5328,  30.3680,2,   -999.0,9,    385.1,2,     6.60,2,     1.13,2,     0.10,2,     0.49,2,   -999.0,9,   -999.0,9,  -999.00,9,  -1.5331
  06AQ20070728,EurArc,   326,  1,     24,     24,2,20070901,1837, 88.0280, 170.0800, 4022,      9.7,  -1.5531,  29.2910,2,   -999.0,9,    387.2,2,     6.59,2,     0.67,2,     0.06,2,     0.45,2,   -999.0,9,   -999.0,9,  -999.00,9,  -1.5532