BOTTLE,20220921CCHSIOAMB
EXPOCODE,SECT_ID,STNNBR,CASTNO,SAMPNO,BTLNBR,BTLNBR_FLAG_W,DATE,TIME,LATITUDE,LONGITUDE,DEPTH,CTDPRS,CTDTMP,CTDSAL,CTDSAL_FLAG_W,CTDOXY,CTDOXY_FLAG_W,OXYGEN,OXYGEN_FLAG_W,SILCAT,SILCAT_FLAG_W,NITRAT,NITRAT_FLAG_W,NITRIT,NITRIT_FLAG_W,PHSPHT,PHSPHT_FLAG_W,TCARBN,TCARBN_FLAG_W,ALKALI,ALKALI_FLAG_W,DELO18,DELO18_FLAG_W,THETA
,,,,,,,,,,,METERS,DBAR,ITS-90,PSS-78,,UMOL/KG,,UMOL/KG,,UMOL/KG,,UMOL/KG,,UMOL/KG,,UMOL/KG,,UMOL/KG,,UMOL/KG,,/MILLE,,DEG C
  06AQ20070728,EurArc,   279,  1,      1,      1,2,20070819,1108, 81.2300,  86.1790,  316,    310.2,  -0.7308,  34.8610,2,   -999.0,9,    333.8,2,     4.73,2,     9.87,2,     0.03,2,     0.72,2,   -999.0,9,   -999.0,9,  -999.00,9,  -0.7408
  06AQ20070728,EurArc,   279,  1,      2,      2,2,20070819,1108, 81.2300,  86.1790,  316,    262.9,  -0.8094,  34.8500,2,   -999.0,9,    334.5,2,     4.47,2,     9.79,2,     0.02,2,     0.71,2,   -999.0,9,   -999.0,9,  -999.00,9,  -0.8176
  06AQ20070728,EurArc,   279,  1,      3,      3,2,20070819,1108, 81.2300,  86.1790,  316,    252.5,  -0.8543,  34.8410,2,   -999.0,9,    336.7,2,     4.42,2,     9.75,2,     0.02,2,     0.70,2,   -999.0,9,   -999.0,9,  -999.00,9,  -0.8620
  06AQ20070728,EurArc,   279,  1,      4,      4,2,20070819,1108, 81.2300,  86.1790,  316,    221.9,  -0.9782,  34.8130,2,   -999.0,9,    336.2,2,     4.31,2,     9.90,2,     0.04,2,     0.71,2,   -999.0,9,   -999.0,9,  -999.00,9,  -0.9847
  06AQ20070728,EurArc,   279,  1,      5,      5,2,20070819,1108, 81.2300,  86.1790,  316,    203.2,  -0.6898,  34.8100,2,   -999.0,9,    328.3,2,     4.35,2,    10.11,2,     0.05,2,     0.72,2,   -999.0,9,   -999.0,9,  -999.00,9,  -0.6962
  06AQ20070728,EurArc,   279,  1,      6,      6,2,20070819,1108, 81.2300,  86.1790,  316,    151.9,   0.9139,  34.8730,2,    301.7,2,    312.6,2,     4.99,2,    11.49,2,     0.04,2,     0.79,2,   -999.0,9,   -999.0,9,     0.15,2,   0.9071
  06AQ20070728,EurArc,   279,  1,      7,      7,2,20070819,1108, 81.2300,  86.1790,  316,    126.5,   1.2359,  34.8840,2,    300.4,2,    312.7,2,     4.92,2,    11.52,2,     0.03,2,     0.79,2,   -999.0,9,   -999.0,9,     0.20,2,   1.2299
  06AQ20070728,EurArc,   279,  1,      8,      8,2,20070819,1108, 81.2300,  86.1790,  316,    100.9,   1.2444,  34.8670,2,    301.2,2,    312.8,2,     4.60,2,    11.24,2,     0.02,2,     0.77,2,   -999.0,9,   -999.0,9,     0.17,2,   1.2397
  06AQ20070728,EurArc,   279,  1,      9,      9,2,20070819,1108, 81.2300,  86.1790,  316,     75.2,   0.8197,  34.7520,2,    306.2,2,    322.5,2,     4.19,2,    10.48,2,     0.09,2,     0.73,2,   -999.0,9,   -999.0,9,     0.14,2,   0.8165
  06AQ20070728,EurArc,   279,  1,     10,     10,2,20070819,1108, 81.2300,  86.1790,  316,     50.5,  -0.5725,  34.5340,2,    319.4,2,    336.3,2,     3.43,2,     8.53,2,     0.18,2,     0.64,2,   -999.0,9,   -999.0,9,     0.01,2,  -0.5740
  06AQ20070728,EurArc,   279,  1,     11,     11,2,20070819,1108, 81.2300,  86.1790,  316,     25.3,  -1.6022,  33.9870,2,    348.6,2,    369.8,2,     2.84,2,     5.47,2,     0.18,2,     0.49,2,   -999.0,9,   -999.0,9,    -0.15,2,  -1.6027
  06AQ20070728,EurArc,   279,  1,     13,     13,2,20070819,1108, 81.2300,  86.1790,  316,      9.8,  -1.5568,  30.8460,2,   -999.0,9,    375.9,2,  -999.00,9,  -999.00,9,  -999.00,9,  -999.00,9,   -999.0,9,   -999.0,9,  -999.00,9,  -1.5569
  06AQ20070728,EurArc,   279,  1,     12,     12,2,20070819,1108, 81.2300,  86.1790,  316,      9.8,  -1.5549,  30.8510,2,    362.9,2,    375.9,2,     1.36,2,     0.42,2,     0.03,2,     0.12,2,   -999.0,9,   -999.0,9,    -0.98,2,  -1.5550
  06AQ20070728,EurArc,   279,  1,     14,     14,2,20070819,1108, 81.2300,  86.1790,  316,      1.0,  -1.5421,  31.1660,2,    362.7,2,    372.7,2,     1.35,2,     0.38,2,     0.03,2,     0.12,2,   -999.0,9,   -999.0,9,    -0.93,2,  -1.5421
  06AQ20070728,EurArc,   279,  2,      4,      4,2,20070819,1225, 81.2300,  86.1790,  316,    319.2,  -0.6951,  34.8640,2,   -999.0,9,    327.5,2,     4.64,2,     9.78,2,     0.02,2,     0.72,2,   2174.6,3,   2301.3,2,  -999.00,9,  -0.7055
  06AQ20070728,EurArc,   279,  2,      1,      1,2,20070819,1225, 81.2300,  86.1790,  316,    319.1,  -0.6945,  34.8650,2,   -999.0,9,    327.5,2,     4.69,2,     9.73,2,     0.02,2,     0.72,2,   -999.0,9,   -999.0,9,  -999.00,9,  -0.7049
  06AQ20070728,EurArc,   279,  2,      2,      2,2,20070819,1225, 81.2300,  86.1790,  316,    319.0,  -0.6933,  34.8650,2,   -999.0,9,    327.5,2,     4.68,2,     9.81,2,     0.02,2,     0.72,2,   -999.0,9,   -999.0,9,  -999.00,9,  -0.7037
  06AQ20070728,EurArc,   279,  2,      3,      3,2,20070819,1225, 81.2300,  86.1790,  316,    319.0,  -0.6933,  34.8640,2,   -999.0,9,    327.5,2,     4.74,2,     9.88,2,     0.03,2,     0.72,2,   -999.0,9,   -999.0,9,  -999.00,9,  -0.7037
  06AQ20070728,EurArc,   279,  2,      5,      5,2,20070819,1225, 81.2300,  86.1790,  316,    252.9,  -0.7638,  34.8480,2,   -999.0,9,    326.9,2,     4.48,2,     9.84,2,     0.02,2,     0.71,2,   2170.9,3,   2299.4,2,  -999.00,9,  -0.7717
  06AQ20070728,EurArc,   279,  2,      6,      6,2,20070819,1225, 81.2300,  86.1790,  316,    202.9,  -0.6652,  34.8060,2,   -999.0,9,    321.0,2,     4.27,2,    10.04,2,     0.11,2,     0.72,2,   2174.4,2,   2301.0,2,  -999.00,9,  -0.6716
  06AQ20070728,EurArc,   279,  2,      7,      7,2,20070819,1225, 81.2300,  86.1790,  316,    152.1,   0.8942,  34.8800,2,   -999.0,9,    310.7,2,     5.06,2,    12.07,2,     0.07,2,     0.80,2,   2167.0,2,   2298.4,2,  -999.00,9,   0.8874
  06AQ20070728,EurArc,   279,  2,      8,      8,2,20070819,1225, 81.2300,  86.1790,  316,    125.8,   1.1389,  34.8750,2,   -999.0,9,    310.3,2,     4.73,2,    11.46,2,     0.07,2,     0.78,2,   -999.0,9,   -999.0,9,  -999.00,9,   1.1331
  06AQ20070728,EurArc,   279,  2,     12,     12,2,20070819,1225, 81.2300,  86.1790,  316,    102.0,   1.2258,  34.8460,2,   -999.0,9,    313.2,2,     4.39,2,    11.12,2,     0.10,2,     0.77,2,   -999.0,9,   -999.0,9,  -999.00,9,   1.2210
  06AQ20070728,EurArc,   279,  2,      9,      9,2,20070819,1225, 81.2300,  86.1790,  316,    101.9,   1.2518,  34.8440,2,   -999.0,9,    313.2,2,     4.42,2,    11.21,2,     0.07,2,     0.76,2,   -999.0,9,   -999.0,9,  -999.00,9,   1.2470
  06AQ20070728,EurArc,   279,  2,     10,     10,2,20070819,1225, 81.2300,  86.1790,  316,    101.9,   1.2537,  34.8440,2,   -999.0,9,    313.2,2,     4.44,2,    11.27,2,     0.05,2,     0.76,2,   -999.0,9,   -999.0,9,  -999.00,9,   1.2489
  06AQ20070728,EurArc,   279,  2,     11,     11,2,20070819,1225, 81.2300,  86.1790,  316,    101.9,   1.2288,  34.8480,2,   -999.0,9,    313.2,2,     4.42,2,    11.25,2,     0.08,2,     0.76,2,   -999.0,9,   -999.0,9,  -999.00,9,   1.2240
  06AQ20070728,EurArc,   279,  2,     13,     13,2,20070819,1225, 81.2300,  86.1790,  316,    101.9,   1.2262,  34.8460,2,   -999.0,9,    313.2,2,     4.43,2,    11.35,2,     0.09,2,     0.76,2,   2159.5,3,   2297.8,2,  -999.00,9,   1.2214
  06AQ20070728,EurArc,   279,  2,     14,     14,2,20070819,1225, 81.2300,  86.1790,  316,     75.7,   0.8505,  34.7570,2,   -999.0,9,    318.2,2,     4.10,2,    10.67,2,     0.13,2,     0.73,2,   -999.0,9,   -999.0,9,  -999.00,9,   0.8472
  06AQ20070728,EurArc,   279,  2,     15,     15,2,20070819,1225, 81.2300,  86.1790,  316,     50.5,  -0.7134,  34.5470,2,   -999.0,9,    339.4,2,     3.54,2,     9.02,2,     0.16,2,     0.65,2,   -999.0,9,   -999.0,9,  -999.00,9,  -0.7149
  06AQ20070728,EurArc,   279,  2,     16,     16,2,20070819,1225, 81.2300,  86.1790,  316,     50.0,  -0.7539,  34.5400,2,   -999.0,9,    340.0,2,     3.54,2,     8.99,2,     0.16,2,     0.65,2,   -999.0,9,   -999.0,9,  -999.00,9,  -0.7553
  06AQ20070728,EurArc,   279,  2,     17,     17,2,20070819,1225, 81.2300,  86.1790,  316,     49.8,  -0.8149,  34.5310,2,   -999.0,9,    340.0,2,     3.54,2,     9.02,2,     0.16,2,     0.66,2,   -999.0,9,   -999.0,9,  -999.00,9,  -0.8163
  06AQ20070728,EurArc,   279,  2,     18,     18,2,20070819,1225, 81.2300,  86.1790,  316,     49.8,  -0.7791,  34.5310,2,   -999.0,9,   -999.0,9,     3.46,2,     8.70,2,     0.16,2,     0.64,2,   2151.2,2,   2283.0,2,  -999.00,9,  -0.7805
  06AQ20070728,EurArc,   279,  2,     23,     23,2,20070819,1225, 81.2300,  86.1790,  316,     25.9,  -1.6339,  33.9590,2,   -999.0,9,    361.4,2,     2.68,2,     5.88,2,     0.20,2,     0.52,2,   2111.7,2,   2261.6,2,  -999.00,9,  -1.6344
  06AQ20070728,EurArc,   279,  2,     22,     22,2,20070819,1225, 81.2300,  86.1790,  316,     25.9,  -1.6340,  33.9660,2,   -999.0,9,    361.4,2,     2.61,2,     5.57,2,     0.20,2,     0.50,2,   -999.0,9,   -999.0,9,  -999.00,9,  -1.6345
  06AQ20070728,EurArc,   279,  2,     19,     19,2,20070819,1225, 81.2300,  86.1790,  316,     25.8,  -1.6318,  33.9440,2,   -999.0,9,    361.4,2,     2.55,2,     5.19,2,     0.19,2,     0.47,2,   -999.0,9,   -999.0,9,  -999.00,9,  -1.6323
  06AQ20070728,EurArc,   279,  2,     20,     20,2,20070819,1225, 81.2300,  86.1790,  316,     25.8,  -1.6329,  33.9370,2,   -999.0,9,    361.4,2,     2.38,2,     4.49,2,     0.18,2,     0.43,2,   -999.0,9,   -999.0,9,  -999.00,9,  -1.6334
  06AQ20070728,EurArc,   279,  2,     21,     21,2,20070819,1225, 81.2300,  86.1790,  316,     25.8,  -1.6338,  33.9520,2,   -999.0,9,    361.4,2,     2.38,2,     4.52,2,     0.18,2,     0.42,2,   -999.0,9,   -999.0,9,  -999.00,9,  -1.6343
  06AQ20070728,EurArc,   279,  2,     24,     24,2,20070819,1225, 81.2300,  86.1790,  316,      4.8,  -1.4967,  32.6450,2,   -999.0,9,    363.6,2,     2.17,2,     1.59,2,     0.08,2,     0.24,2,   -999.0,9,   -999.0,9,  -999.00,9,  -1.4968
  06AQ20070728,EurArc,   279,  3,      9,      9,2,20070819,1311, 81.2300,  86.1790,  316,    323.6,  -0.7310,  34.8600,2,   -999.0,9,    331.5,2,  -999.00,9,  -999.00,9,  -999.00,9,  -999.00,9,   -999.0,9,   -999.0,9,  -999.00,9,  -0.7415
  06AQ20070728,EurArc,   279,  3,      8,      8,2,20070819,1311, 81.2300,  86.1790,  316,    323.5,  -0.7431,  34.8600,2,   -999.0,9,    331.4,2,  -999.00,9,  -999.00,9,  -999.00,9,  -999.00,9,   -999.0,9,   -999.0,9,  -999.00,9,  -0.7535
  06AQ20070728,EurArc,   279,  3,      7,      7,2,20070819,1311, 81.2300,  86.1790,  316,    323.4,  -0.7264,  34.8600,2,   -999.0,9,    331.4,2,  -999.00,9,  -999.00,9,  -999.00,9,  -999.00,9,   -999.0,9,   -999.0,9,  -999.00,9,  -0.7369
  06AQ20070728,EurArc,   279,  3,      6,      6,2,20070819,1311, 81.2300,  86.1790,  316,    323.2,  -0.7397,  34.8600,2,   -999.0,9,    331.4,2,  -999.00,9,  -999.00,9,  -999.00,9,  -999.00,9,   -999.0,9,   -999.0,9,  -999.00,9,  -0.7501
  06AQ20070728,EurArc,   279,  3,      5,      5,2,20070819,1311, 81.2300,  86.1790,  316,    323.0,  -0.7413,  34.8600,2,   -999.0,9,    331.3,2,  -999.00,9,  -999.00,9,  -999.00,9,  -999.00,9,   -999.0,9,   -999.0,9,  -999.00,9,  -0.7517
  06AQ20070728,EurArc,   279,  3,      4,      4,2,20070819,1311, 81.2300,  86.1790,  316,    322.9,  -0.7436,  34.8600,2,   -999.0,9,    331.3,2,  -999.00,9,  -999.00,9,  -999.00,9,  -999.00,9,   -999.0,9,   -999.0,9,  -999.00,9,  -0.7540
  06AQ20070728,EurArc,   279,  3,      3,      3,2,20070819,1311, 81.2300,  86.1790,  316,    322.8,  -0.7412,  34.8600,2,   -999.0,9,    331.3,2,  -999.00,9,  -999.00,9,  -999.00,9,  -999.00,9,   -999.0,9,   -999.0,9,  -999.00,9,  -0.7516
  06AQ20070728,EurArc,   279,  3,      2,      2,2,20070819,1311, 81.2300,  86.1790,  316,    322.7,  -0.7438,  34.8600,2,   -999.0,9,    331.3,2,  -999.00,9,  -999.00,9,  -999.00,9,  -999.00,9,   -999.0,9,   -999.0,9,  -999.00,9,  -0.7542
  06AQ20070728,EurArc,   279,  3,      1,      1,2,20070819,1311, 81.2300,  86.1790,  316,    322.6,  -0.7411,  34.8600,2,   -999.0,9,    331.3,2,  -999.00,9,  -999.00,9,  -999.00,9,  -999.00,9,   -999.0,9,   -999.0,9,  -999.00,9,  -0.7515
  06AQ20070728,EurArc,   279,  3,     10,     10,2,20070819,1311, 81.2300,  86.1790,  316,    213.4,  -0.8213,  34.8050,2,   -999.0,9,    330.4,2,  -999.00,9,  -999.00,9,  -999.00,9,  -999.00,9,   -999.0,9,   -999.0,9,  -999.00,9,  -0.8278
  06AQ20070728,EurArc,   279,  3,     11,     11,2,20070819,1311, 81.2300,  86.1790,  316,    213.4,  -0.8154,  34.8060,2,   -999.0,9,    330.4,2,  -999.00,9,  -999.00,9,  -999.00,9,  -999.00,9,   -999.0,9,   -999.0,9,  -999.00,9,  -0.8219
  06AQ20070728,EurArc,   279,  3,     12,     12,2,20070819,1311, 81.2300,  86.1790,  316,    213.4,  -0.8037,  34.8050,2,   -999.0,9,    330.4,2,  -999.00,9,  -999.00,9,  -999.00,9,  -999.00,9,   -999.0,9,   -999.0,9,  -999.00,9,  -0.8102
  06AQ20070728,EurArc,   279,  3,     13,     13,2,20070819,1311, 81.2300,  86.1790,  316,    213.4,  -0.8042,  34.8050,2,   -999.0,9,    330.4,2,  -999.00,9,  -999.00,9,  -999.00,9,  -999.00,9,   -999.0,9,   -999.0,9,  -999.00,9,  -0.8107
  06AQ20070728,EurArc,   279,  3,     15,     15,2,20070819,1311, 81.2300,  86.1790,  316,    213.3,  -0.8172,  34.8040,2,   -999.0,9,    330.4,2,  -999.00,9,  -999.00,9,  -999.00,9,  -999.00,9,   -999.0,9,   -999.0,9,  -999.00,9,  -0.8237
  06AQ20070728,EurArc,   279,  3,     14,     14,2,20070819,1311, 81.2300,  86.1790,  316,    213.3,  -0.8152,  34.8050,2,   -999.0,9,    330.4,2,  -999.00,9,  -999.00,9,  -999.00,9,  -999.00,9,   -999.0,9,   -999.0,9,  -999.00,9,  -0.8217
  06AQ20070728,EurArc,   279,  3,     16,     16,2,20070819,1311, 81.2300,  86.1790,  316,    213.2,  -0.8203,  34.8040,2,   -999.0,9,    330.4,2,  -999.00,9,  -999.00,9,  -999.00,9,  -999.00,9,   -999.0,9,   -999.0,9,  -999.00,9,  -0.8268
  06AQ20070728,EurArc,   279,  3,     17,     17,2,20070819,1311, 81.2300,  86.1790,  316,    213.1,  -0.8234,  34.8040,2,   -999.0,9,    330.4,2,  -999.00,9,  -999.00,9,  -999.00,9,  -999.00,9,   -999.0,9,   -999.0,9,  -999.00,9,  -0.8299
  06AQ20070728,EurArc,   279,  3,     23,     23,2,20070819,1311, 81.2300,  86.1790,  316,     14.3,  -1.5987,  33.5320,2,   -999.0,9,    378.8,2,  -999.00,9,  -999.00,9,  -999.00,9,  -999.00,9,   -999.0,9,   -999.0,9,  -999.00,9,  -1.5990
  06AQ20070728,EurArc,   279,  3,     19,     19,2,20070819,1311, 81.2300,  86.1790,  316,     14.3,  -1.5603,  33.4490,2,   -999.0,9,    378.8,2,  -999.00,9,  -999.00,9,  -999.00,9,  -999.00,9,   -999.0,9,   -999.0,9,  -999.00,9,  -1.5606
  06AQ20070728,EurArc,   279,  3,     22,     22,2,20070819,1311, 81.2300,  86.1790,  316,     14.3,  -1.5916,  33.5240,2,   -999.0,9,    378.8,2,  -999.00,9,  -999.00,9,  -999.00,9,  -999.00,9,   -999.0,9,   -999.0,9,  -999.00,9,  -1.5919
  06AQ20070728,EurArc,   279,  3,     21,     21,2,20070819,1311, 81.2300,  86.1790,  316,     14.3,  -1.5789,  33.4980,2,   -999.0,9,    378.8,2,  -999.00,9,  -999.00,9,  -999.00,9,  -999.00,9,   -999.0,9,   -999.0,9,  -999.00,9,  -1.5792
  06AQ20070728,EurArc,   279,  3,     24,     24,2,20070819,1311, 81.2300,  86.1790,  316,     14.3,  -1.5971,  33.5290,2,   -999.0,9,    378.8,2,  -999.00,9,  -999.00,9,  -999.00,9,  -999.00,9,   -999.0,9,   -999.0,9,  -999.00,9,  -1.5974
  06AQ20070728,EurArc,   279,  3,     18,     18,2,20070819,1311, 81.2300,  86.1790,  316,     14.3,  -1.5451,  33.3950,2,   -999.0,9,    378.8,2,  -999.00,9,  -999.00,9,  -999.00,9,  -999.00,9,   -999.0,9,   -999.0,9,  -999.00,9,  -1.5454
  06AQ20070728,EurArc,   279,  3,     20,     20,2,20070819,1311, 81.2300,  86.1790,  316,     14.3,  -1.5775,  33.4940,2,   -999.0,9,    378.8,2,  -999.00,9,  -999.00,9,  -999.00,9,  -999.00,9,   -999.0,9,   -999.0,9,  -999.00,9,  -1.5778