BOTTLE,20220921CCHSIOAMB
EXPOCODE,SECT_ID,STNNBR,CASTNO,SAMPNO,BTLNBR,BTLNBR_FLAG_W,DATE,TIME,LATITUDE,LONGITUDE,DEPTH,CTDPRS,CTDTMP,CTDSAL,CTDSAL_FLAG_W,CTDOXY,CTDOXY_FLAG_W,OXYGEN,OXYGEN_FLAG_W,SILCAT,SILCAT_FLAG_W,NITRAT,NITRAT_FLAG_W,NITRIT,NITRIT_FLAG_W,PHSPHT,PHSPHT_FLAG_W,TCARBN,TCARBN_FLAG_W,ALKALI,ALKALI_FLAG_W,DELO18,DELO18_FLAG_W,THETA
,,,,,,,,,,,METERS,DBAR,ITS-90,PSS-78,,UMOL/KG,,UMOL/KG,,UMOL/KG,,UMOL/KG,,UMOL/KG,,UMOL/KG,,UMOL/KG,,UMOL/KG,,/MILLE,,DEG C
  06AQ20070728,EurArc,   401,  1,     24,     24,2,20070922,1655, 77.2990, 123.3500,  717,      1.8,  -1.6416,  30.7490,2,    360.5,2,    372.1,2,     2.36,2,     0.30,2,     0.03,2,     0.20,2,   -999.0,9,   -999.0,9,    -1.68,2,  -1.6416
  06AQ20070728,EurArc,   401,  1,     23,     23,2,20070922,1655, 77.2990, 123.3500,  717,      9.9,  -1.6311,  30.9200,2,    358.1,2,    369.4,2,     2.47,2,     0.45,2,     0.04,2,     0.21,2,   -999.0,9,   -999.0,9,    -1.11,2,  -1.6312
  06AQ20070728,EurArc,   401,  1,     22,     22,2,20070922,1655, 77.2990, 123.3500,  717,     25.2,  -1.5207,  33.2620,2,    331.8,2,    346.0,2,     4.13,2,     5.24,2,     0.14,2,     0.50,2,   -999.0,9,   -999.0,9,    -0.63,2,  -1.5212
  06AQ20070728,EurArc,   401,  1,     21,     21,2,20070922,1655, 77.2990, 123.3500,  717,     50.2,  -1.4015,  34.1710,2,    309.5,2,    323.3,2,     4.78,2,     6.96,2,     0.03,2,     0.59,2,   -999.0,9,   -999.0,9,    -0.04,2,  -1.4026
  06AQ20070728,EurArc,   401,  1,     20,     20,2,20070922,1655, 77.2990, 123.3500,  717,     75.5,  -1.4368,  34.3120,2,    309.0,2,    318.7,2,     4.73,2,     7.47,2,     0.03,2,     0.62,2,   -999.0,9,   -999.0,9,    -0.30,2,  -1.4385
  06AQ20070728,EurArc,   401,  1,     19,     19,2,20070922,1655, 77.2990, 123.3500,  717,    101.1,  -1.4047,  34.3890,2,    307.1,2,    320.1,2,     4.74,2,     7.82,2,     0.02,2,     0.64,2,   -999.0,9,   -999.0,9,    -0.28,2,  -1.4071
  06AQ20070728,EurArc,   401,  1,     18,     18,2,20070922,1655, 77.2990, 123.3500,  717,    126.8,  -1.2994,  34.4330,2,    304.7,2,    326.9,2,     4.66,2,     8.30,2,     0.02,2,     0.66,2,   -999.0,9,   -999.0,9,    -0.19,2,  -1.3025
  06AQ20070728,EurArc,   401,  1,     17,     17,2,20070922,1655, 77.2990, 123.3500,  717,    151.5,  -1.1346,  34.4970,2,    304.4,2,    315.7,2,     4.37,2,     8.65,2,     0.02,2,     0.68,2,   -999.0,9,   -999.0,9,    -0.12,2,  -1.1386
  06AQ20070728,EurArc,   401,  1,     16,     16,2,20070922,1655, 77.2990, 123.3500,  717,    177.0,  -0.7120,  34.5640,2,   -999.0,9,    309.9,2,     5.13,2,     9.51,2,     0.02,2,     0.73,2,   -999.0,9,   -999.0,9,  -999.00,9,  -0.7174
  06AQ20070728,EurArc,   401,  1,     15,     15,2,20070922,1655, 77.2990, 123.3500,  717,    202.9,  -0.3216,  34.6190,2,   -999.0,9,    306.4,2,  -999.00,9,  -999.00,9,  -999.00,9,  -999.00,9,   -999.0,9,   -999.0,9,  -999.00,9,  -0.3285
  06AQ20070728,EurArc,   401,  1,     14,     14,2,20070922,1655, 77.2990, 123.3500,  717,    202.7,  -0.3255,  34.5520,2,   -999.0,9,    306.4,2,  -999.00,9,  -999.00,9,  -999.00,9,  -999.00,9,   -999.0,9,   -999.0,9,  -999.00,9,  -0.3324
  06AQ20070728,EurArc,   401,  1,     13,     13,2,20070922,1655, 77.2990, 123.3500,  717,    202.7,  -0.3256,  34.5510,2,   -999.0,9,    306.4,2,  -999.00,9,  -999.00,9,  -999.00,9,  -999.00,9,   -999.0,9,   -999.0,9,  -999.00,9,  -0.3325
  06AQ20070728,EurArc,   401,  1,     12,     12,2,20070922,1655, 77.2990, 123.3500,  717,    202.6,  -0.3227,  34.5500,2,   -999.0,9,    306.4,2,  -999.00,9,  -999.00,9,  -999.00,9,  -999.00,9,   -999.0,9,   -999.0,9,  -999.00,9,  -0.3296
  06AQ20070728,EurArc,   401,  1,     11,     11,2,20070922,1655, 77.2990, 123.3500,  717,    202.4,  -0.3268,  34.5490,2,   -999.0,9,    306.4,2,  -999.00,9,  -999.00,9,  -999.00,9,  -999.00,9,   -999.0,9,   -999.0,9,  -999.00,9,  -0.3337
  06AQ20070728,EurArc,   401,  1,     10,     10,2,20070922,1655, 77.2990, 123.3500,  717,    202.4,  -0.3221,  34.5480,2,   -999.0,9,    306.4,2,  -999.00,9,  -999.00,9,  -999.00,9,  -999.00,9,   -999.0,9,   -999.0,9,  -999.00,9,  -0.3290
  06AQ20070728,EurArc,   401,  1,      9,      9,2,20070922,1655, 77.2990, 123.3500,  717,    202.0,  -0.3355,  34.5460,2,   -999.0,9,    306.5,2,  -999.00,9,  -999.00,9,  -999.00,9,  -999.00,9,   -999.0,9,   -999.0,9,  -999.00,9,  -0.3424
  06AQ20070728,EurArc,   401,  1,      8,      8,2,20070922,1655, 77.2990, 123.3500,  717,    201.7,  -0.3397,  34.5440,2,   -999.0,9,    306.5,2,     5.06,2,     9.82,2,     0.02,2,     0.73,2,   -999.0,9,   -999.0,9,  -999.00,9,  -0.3465
  06AQ20070728,EurArc,   401,  1,      7,      7,2,20070922,1655, 77.2990, 123.3500,  717,    252.8,   0.3835,  34.7260,2,   -999.0,9,    302.2,2,     5.38,2,    10.73,2,     0.02,2,     0.77,2,   -999.0,9,   -999.0,9,  -999.00,9,   0.3732
  06AQ20070728,EurArc,   401,  1,      6,      6,2,20070922,1655, 77.2990, 123.3500,  717,    304.9,   0.7494,  34.7790,2,   -999.0,9,    300.3,2,     5.20,2,    11.04,2,     0.02,2,     0.78,2,   -999.0,9,   -999.0,9,  -999.00,9,   0.7358
  06AQ20070728,EurArc,   401,  1,      5,      5,2,20070922,1655, 77.2990, 123.3500,  717,    404.9,   0.9290,  34.8320,2,   -999.0,9,    300.5,2,     5.91,2,    11.48,2,     0.02,2,     0.81,2,   -999.0,9,   -999.0,9,  -999.00,9,   0.9100
  06AQ20070728,EurArc,   401,  1,      4,      4,2,20070922,1655, 77.2990, 123.3500,  717,    507.4,   0.9989,  34.8650,2,   -999.0,9,    302.7,2,     5.80,2,    11.60,2,     0.02,2,     0.83,2,   -999.0,9,   -999.0,9,  -999.00,9,   0.9743
  06AQ20070728,EurArc,   401,  1,      3,      3,2,20070922,1655, 77.2990, 123.3500,  717,    507.2,   0.9982,  34.8650,2,   -999.0,9,    302.7,2,     5.79,2,    11.60,2,     0.02,2,     0.82,2,   -999.0,9,   -999.0,9,  -999.00,9,   0.9736
  06AQ20070728,EurArc,   401,  1,      2,      2,2,20070922,1655, 77.2990, 123.3500,  717,    608.0,   0.6614,  34.8770,2,   -999.0,9,    307.3,2,     5.62,2,    11.51,2,     0.02,2,     0.81,2,   -999.0,9,   -999.0,9,  -999.00,9,   0.6331
  06AQ20070728,EurArc,   401,  1,      1,      1,2,20070922,1655, 77.2990, 123.3500,  717,    720.3,   0.3242,  34.8820,2,   -999.0,9,    308.6,2,     5.77,2,    11.73,2,     0.02,2,     0.82,2,   -999.0,9,   -999.0,9,  -999.00,9,   0.2919
  06AQ20070728,EurArc,   402,  1,     24,     24,2,20070922,1834, 77.2150, 123.1900,  265,      1.8,  -1.6205,  30.7440,2,    359.6,2,    373.0,2,     1.94,2,     0.42,2,     0.04,2,     0.20,2,   -999.0,9,   -999.0,9,    -1.79,2,  -1.6205
  06AQ20070728,EurArc,   402,  1,     23,     23,2,20070922,1834, 77.2150, 123.1900,  265,     10.4,  -1.6399,  30.7280,2,    357.8,2,    373.2,2,     2.39,2,     0.89,2,     0.05,2,     0.24,2,   -999.0,9,   -999.0,9,    -1.68,2,  -1.6400
  06AQ20070728,EurArc,   402,  1,     22,     22,2,20070922,1834, 77.2150, 123.1900,  265,     24.9,  -1.3837,  33.6980,2,    313.9,2,    337.2,2,     5.07,2,     6.15,2,     0.07,2,     0.56,2,   -999.0,9,   -999.0,9,    -0.57,2,  -1.3842
  06AQ20070728,EurArc,   402,  1,     21,     21,2,20070922,1834, 77.2150, 123.1900,  265,     50.7,  -1.3139,  34.3360,2,    303.8,2,    318.6,2,     5.02,2,     7.45,2,     0.05,2,     0.64,2,   -999.0,9,   -999.0,9,    -0.27,2,  -1.3151
  06AQ20070728,EurArc,   402,  1,     20,     20,2,20070922,1834, 77.2150, 123.1900,  265,     75.8,  -1.3242,  34.3680,2,    304.0,2,    318.3,2,     4.96,2,     7.58,2,     0.05,2,     0.64,2,   -999.0,9,   -999.0,9,    -0.27,2,  -1.3260
  06AQ20070728,EurArc,   402,  1,     19,     19,2,20070922,1834, 77.2150, 123.1900,  265,    100.9,  -1.3319,  34.3880,2,    304.6,2,    318.8,2,     4.90,2,     7.59,2,     0.04,2,     0.65,2,   -999.0,9,   -999.0,9,    -0.31,2,  -1.3343
  06AQ20070728,EurArc,   402,  1,     18,     18,2,20070922,1834, 77.2150, 123.1900,  265,    126.0,  -1.3285,  34.3960,2,    304.3,2,    318.9,2,     4.88,2,     7.65,2,     0.03,2,     0.65,2,   -999.0,9,   -999.0,9,    -0.26,2,  -1.3316
  06AQ20070728,EurArc,   402,  1,     17,     17,2,20070922,1834, 77.2150, 123.1900,  265,    152.1,  -1.3200,  34.4000,2,    304.9,2,    318.7,2,     4.87,2,     7.63,2,     0.03,2,     0.66,2,   -999.0,9,   -999.0,9,    -0.29,2,  -1.3238
  06AQ20070728,EurArc,   402,  1,     16,     16,2,20070922,1834, 77.2150, 123.1900,  265,    176.5,  -1.3186,  34.4010,2,   -999.0,9,    318.7,2,     4.89,2,     7.64,2,     0.03,2,     0.65,2,   -999.0,9,   -999.0,9,  -999.00,9,  -1.3230
  06AQ20070728,EurArc,   402,  1,     15,     15,2,20070922,1834, 77.2150, 123.1900,  265,    204.1,  -1.3116,  34.4010,2,   -999.0,9,    318.5,2,     4.89,2,     7.65,2,     0.03,2,     0.65,2,   -999.0,9,   -999.0,9,  -999.00,9,  -1.3168
  06AQ20070728,EurArc,   402,  1,     14,     14,2,20070922,1834, 77.2150, 123.1900,  265,    204.1,  -1.3145,  34.4010,2,   -999.0,9,    318.5,2,  -999.00,9,  -999.00,9,  -999.00,9,  -999.00,9,   -999.0,9,   -999.0,9,  -999.00,9,  -1.3197
  06AQ20070728,EurArc,   402,  1,     13,     13,2,20070922,1834, 77.2150, 123.1900,  265,    204.1,  -1.3127,  34.4010,2,   -999.0,9,    318.5,2,  -999.00,9,  -999.00,9,  -999.00,9,  -999.00,9,   -999.0,9,   -999.0,9,  -999.00,9,  -1.3179
  06AQ20070728,EurArc,   402,  1,     12,     12,2,20070922,1834, 77.2150, 123.1900,  265,    204.0,  -1.3162,  34.4010,2,   -999.0,9,    318.5,2,  -999.00,9,  -999.00,9,  -999.00,9,  -999.00,9,   -999.0,9,   -999.0,9,  -999.00,9,  -1.3214
  06AQ20070728,EurArc,   402,  1,     11,     11,2,20070922,1834, 77.2150, 123.1900,  265,    203.6,  -1.3162,  34.4020,2,   -999.0,9,    318.6,2,  -999.00,9,  -999.00,9,  -999.00,9,  -999.00,9,   -999.0,9,   -999.0,9,  -999.00,9,  -1.3213
  06AQ20070728,EurArc,   402,  1,     10,     10,2,20070922,1834, 77.2150, 123.1900,  265,    203.6,  -1.3156,  34.4020,2,   -999.0,9,    318.6,2,  -999.00,9,  -999.00,9,  -999.00,9,  -999.00,9,   -999.0,9,   -999.0,9,  -999.00,9,  -1.3207
  06AQ20070728,EurArc,   402,  1,      9,      9,2,20070922,1834, 77.2150, 123.1900,  265,    203.5,  -1.3121,  34.4020,2,   -999.0,9,    318.6,2,  -999.00,9,  -999.00,9,  -999.00,9,  -999.00,9,   -999.0,9,   -999.0,9,  -999.00,9,  -1.3173
  06AQ20070728,EurArc,   402,  1,      8,      8,2,20070922,1834, 77.2150, 123.1900,  265,    203.4,  -1.3130,  34.4010,2,   -999.0,9,    318.6,2,  -999.00,9,  -999.00,9,  -999.00,9,  -999.00,9,   -999.0,9,   -999.0,9,  -999.00,9,  -1.3181
  06AQ20070728,EurArc,   402,  1,      7,      7,2,20070922,1834, 77.2150, 123.1900,  265,    203.2,  -1.3132,  34.4020,2,   -999.0,9,    318.6,2,  -999.00,9,  -999.00,9,  -999.00,9,  -999.00,9,   -999.0,9,   -999.0,9,  -999.00,9,  -1.3183
  06AQ20070728,EurArc,   402,  1,      6,      6,2,20070922,1834, 77.2150, 123.1900,  265,    203.2,  -1.3138,  34.4020,2,   -999.0,9,    318.6,2,  -999.00,9,  -999.00,9,  -999.00,9,  -999.00,9,   -999.0,9,   -999.0,9,  -999.00,9,  -1.3189
  06AQ20070728,EurArc,   402,  1,      5,      5,2,20070922,1834, 77.2150, 123.1900,  265,    203.3,  -1.3135,  34.4020,2,   -999.0,9,    318.6,2,  -999.00,9,  -999.00,9,  -999.00,9,  -999.00,9,   -999.0,9,   -999.0,9,  -999.00,9,  -1.3186
  06AQ20070728,EurArc,   402,  1,      4,      4,2,20070922,1834, 77.2150, 123.1900,  265,    203.0,  -1.3138,  34.4020,2,   -999.0,9,    318.7,2,  -999.00,9,  -999.00,9,  -999.00,9,  -999.00,9,   -999.0,9,   -999.0,9,  -999.00,9,  -1.3189
  06AQ20070728,EurArc,   402,  1,      3,      3,2,20070922,1834, 77.2150, 123.1900,  265,    202.6,  -1.3146,  34.4020,2,   -999.0,9,    318.7,2,     4.88,2,     7.70,2,     0.03,2,     0.65,2,   -999.0,9,   -999.0,9,  -999.00,9,  -1.3197
  06AQ20070728,EurArc,   402,  1,      2,      2,2,20070922,1834, 77.2150, 123.1900,  265,    251.3,  -0.9461,  34.5020,2,   -999.0,9,    315.2,2,     4.91,2,     8.42,2,     0.02,2,     0.69,2,   -999.0,9,   -999.0,9,  -999.00,9,  -0.9534
  06AQ20070728,EurArc,   402,  1,      1,      1,2,20070922,1834, 77.2150, 123.1900,  265,    261.3,  -0.9991,  34.4890,2,   -999.0,9,    314.4,2,     4.91,2,     8.45,2,     0.02,2,     0.68,2,   -999.0,9,   -999.0,9,  -999.00,9,  -1.0066
  06AQ20070728,EurArc,   403,  1,     10,     10,2,20070922,2054, 77.1500, 123.1200,  114,      1.9,  -1.6184,  30.7330,2,    353.7,2,    361.3,2,     2.06,2,     0.65,2,     0.03,2,     0.24,2,   -999.0,9,   -999.0,9,    -1.87,2,  -1.6184
  06AQ20070728,EurArc,   403,  1,      9,      9,2,20070922,2054, 77.1500, 123.1200,  114,      9.8,  -1.3978,  33.1650,2,    310.2,2,    361.6,2,     6.18,2,     4.93,2,     0.11,2,     0.53,2,   -999.0,9,   -999.0,9,    -1.04,2,  -1.3980
  06AQ20070728,EurArc,   403,  1,      8,      8,2,20070922,2054, 77.1500, 123.1200,  114,     25.3,  -1.1310,  33.7610,2,    301.7,2,    314.8,2,     6.09,2,     6.28,2,     0.03,2,     0.59,2,   -999.0,9,   -999.0,9,    -0.62,2,  -1.1316
  06AQ20070728,EurArc,   403,  1,      7,      7,2,20070922,2054, 77.1500, 123.1200,  114,     50.3,  -1.2221,  34.0930,2,   -999.0,9,    311.8,2,  -999.00,9,  -999.00,9,  -999.00,9,  -999.00,9,   -999.0,9,   -999.0,9,  -999.00,9,  -1.2233
  06AQ20070728,EurArc,   403,  1,      6,      6,2,20070922,2054, 77.1500, 123.1200,  114,     50.3,  -1.2215,  34.0810,2,    299.2,2,    311.8,2,     5.64,2,     6.88,2,     0.03,2,     0.62,2,   -999.0,9,   -999.0,9,    -0.33,2,  -1.2227
  06AQ20070728,EurArc,   403,  1,      5,      5,2,20070922,2054, 77.1500, 123.1200,  114,     76.4,  -1.2842,  34.2420,2,    300.2,2,    312.0,2,     5.42,2,     7.26,2,     0.03,2,     0.63,2,   -999.0,9,   -999.0,9,    -0.42,2,  -1.2860
  06AQ20070728,EurArc,   403,  1,      4,      4,2,20070922,2054, 77.1500, 123.1200,  114,     76.3,  -1.2831,  34.2400,2,   -999.0,9,    312.0,2,  -999.00,9,  -999.00,9,  -999.00,9,  -999.00,9,   -999.0,9,   -999.0,9,  -999.00,9,  -1.2849
  06AQ20070728,EurArc,   403,  1,      3,      3,2,20070922,2054, 77.1500, 123.1200,  114,    101.0,  -1.3842,  34.3400,2,    303.0,2,    315.5,2,     5.05,2,     7.70,2,     0.05,2,     0.66,2,   -999.0,9,   -999.0,9,    -0.34,2,  -1.3866
  06AQ20070728,EurArc,   403,  1,      2,      2,2,20070922,2054, 77.1500, 123.1200,  114,    107.9,  -1.3861,  34.3420,2,    302.8,2,    315.7,2,     5.05,2,     7.67,2,     0.05,2,     0.67,2,   -999.0,9,   -999.0,9,    -0.22,2,  -1.3886
  06AQ20070728,EurArc,   403,  1,      1,      1,2,20070922,2054, 77.1500, 123.1200,  114,    107.9,  -1.3854,  34.3410,2,   -999.0,9,    315.7,2,     5.06,2,     7.71,2,     0.05,2,     0.67,2,   -999.0,9,   -999.0,9,  -999.00,9,  -1.3879
  06AQ20070728,EurArc,   404,  1,      7,      7,2,20070923,0022, 76.8920, 122.8800,   90,      1.9,  -1.6315,  30.9840,2,    355.9,2,    367.3,2,     2.64,2,     0.75,2,     0.04,2,     0.23,2,   -999.0,9,   -999.0,9,    -1.75,2,  -1.6315
  06AQ20070728,EurArc,   404,  1,      6,      6,2,20070923,0022, 76.8920, 122.8800,   90,     10.0,  -1.6078,  31.2520,2,    352.0,2,    367.7,2,     3.36,2,     1.99,2,     0.07,2,     0.33,2,   -999.0,9,   -999.0,9,    -1.53,2,  -1.6079
  06AQ20070728,EurArc,   404,  1,      5,      5,2,20070923,0022, 76.8920, 122.8800,   90,     24.9,  -1.4034,  33.4310,2,    307.5,2,    328.7,2,     5.98,2,     5.82,2,     0.07,2,     0.56,2,   -999.0,9,   -999.0,9,    -0.94,2,  -1.4039
  06AQ20070728,EurArc,   404,  1,      4,      4,2,20070923,0022, 76.8920, 122.8800,   90,     50.3,  -1.2821,  34.0530,2,   -999.0,9,    309.8,2,  -999.00,9,  -999.00,9,  -999.00,9,  -999.00,9,   -999.0,9,   -999.0,9,  -999.00,9,  -1.2833
  06AQ20070728,EurArc,   404,  1,      3,      3,2,20070923,0022, 76.8920, 122.8800,   90,     50.3,  -1.2781,  34.0620,2,    295.5,2,    309.8,2,     6.06,2,     7.14,2,     0.03,2,     0.62,2,   -999.0,9,   -999.0,9,    -0.41,2,  -1.2793
  06AQ20070728,EurArc,   404,  1,      2,      2,2,20070923,0022, 76.8920, 122.8800,   90,     75.3,  -1.3127,  34.2370,2,    291.9,2,    305.2,2,     6.41,2,     7.77,2,     0.07,2,     0.70,2,   -999.0,9,   -999.0,9,    -0.37,2,  -1.3145
  06AQ20070728,EurArc,   404,  1,      1,      1,2,20070923,0022, 76.8920, 122.8800,   90,     84.9,  -1.3092,  34.2850,2,    292.0,2,    305.0,2,     6.44,2,     7.81,2,     0.07,2,     0.66,2,   -999.0,9,   -999.0,9,    -0.32,2,  -1.3112
  06AQ20070728,EurArc,   405,  1,      9,      9,2,20070923,0305, 76.6600, 122.6400,   92,      1.8,  -1.4713,  30.3560,2,    362.4,2,    372.6,2,     1.29,2,     0.20,2,     0.01,2,     0.15,2,   -999.0,9,   -999.0,9,    -1.75,2,  -1.4713
  06AQ20070728,EurArc,   405,  1,      8,      8,2,20070923,0305, 76.6600, 122.6400,   92,     10.3,  -1.4728,  30.4500,2,    361.7,2,    371.8,2,     0.91,2,     0.19,2,     0.01,2,     0.17,2,   -999.0,9,   -999.0,9,    -1.52,2,  -1.4729
  06AQ20070728,EurArc,   405,  1,      7,      7,2,20070923,0305, 76.6600, 122.6400,   92,     25.0,  -1.4472,  33.2190,2,    354.0,2,    377.3,2,     0.19,2,     0.41,2,     0.03,2,     0.29,2,   -999.0,9,   -999.0,9,    -1.08,2,  -1.4477
  06AQ20070728,EurArc,   405,  1,      6,      6,2,20070923,0305, 76.6600, 122.6400,   92,     31.0,  -1.5460,  33.3870,2,   -999.0,9,    361.5,2,     0.21,2,     0.70,2,     0.04,2,     0.32,2,   -999.0,9,   -999.0,9,  -999.00,9,  -1.5466
  06AQ20070728,EurArc,   405,  1,      5,      5,2,20070923,0305, 76.6600, 122.6400,   92,     31.0,  -1.5474,  33.3890,2,    340.6,2,    361.5,2,     0.24,2,     0.81,2,     0.04,2,     0.36,2,   -999.0,9,   -999.0,9,  -999.00,9,  -1.5480
  06AQ20070728,EurArc,   405,  1,      4,      4,2,20070923,0305, 76.6600, 122.6400,   92,     50.1,  -1.6400,  33.7250,2,   -999.0,9,    314.2,2,     0.18,3,     0.44,3,     0.03,2,     0.29,3,   -999.0,9,   -999.0,9,  -999.00,9,  -1.6410
  06AQ20070728,EurArc,   405,  1,      3,      3,2,20070923,0305, 76.6600, 122.6400,   92,     50.0,  -1.6401,  33.7260,2,    289.8,2,    314.4,2,     2.93,2,     6.10,2,     0.10,2,     0.67,2,   -999.0,9,   -999.0,9,    -0.68,2,  -1.6411
  06AQ20070728,EurArc,   405,  1,      2,      2,2,20070923,0305, 76.6600, 122.6400,   92,     76.2,  -1.3353,  34.1260,2,    257.3,2,    275.8,2,     9.03,2,     7.65,2,     0.17,2,     0.72,2,   -999.0,9,   -999.0,9,  -999.00,9,  -1.3371
  06AQ20070728,EurArc,   405,  1,      1,      1,2,20070923,0305, 76.6600, 122.6400,   92,     87.1,  -1.3335,  34.1270,2,    258.1,2,    271.4,2,     9.06,2,     7.64,2,     0.16,2,     0.75,2,   -999.0,9,   -999.0,9,    -0.30,2,  -1.3355