BOTTLE,20220921CCHSIOAMB
EXPOCODE,SECT_ID,STNNBR,CASTNO,SAMPNO,BTLNBR,BTLNBR_FLAG_W,DATE,TIME,LATITUDE,LONGITUDE,DEPTH,CTDPRS,CTDTMP,CTDSAL,CTDSAL_FLAG_W,CTDOXY,CTDOXY_FLAG_W,OXYGEN,OXYGEN_FLAG_W,SILCAT,SILCAT_FLAG_W,NITRAT,NITRAT_FLAG_W,NITRIT,NITRIT_FLAG_W,PHSPHT,PHSPHT_FLAG_W,TCARBN,TCARBN_FLAG_W,ALKALI,ALKALI_FLAG_W,DELO18,DELO18_FLAG_W,THETA
,,,,,,,,,,,METERS,DBAR,ITS-90,PSS-78,,UMOL/KG,,UMOL/KG,,UMOL/KG,,UMOL/KG,,UMOL/KG,,UMOL/KG,,UMOL/KG,,UMOL/KG,,/MILLE,,DEG C
  06AQ20070728,EurArc,   358,  1,     24,     24,2,20070911,2309, 86.5040, 151.9800, 1411,      1.3,  -1.6618,  30.8920,2,    372.1,2,    384.6,2,  -999.00,9,  -999.00,9,  -999.00,9,  -999.00,9,   -999.0,9,   -999.0,9,    -2.28,2,  -1.6618
  06AQ20070728,EurArc,   358,  1,     23,     23,2,20070911,2309, 86.5040, 151.9800, 1411,     10.3,  -1.6663,  30.8920,2,    371.9,2,    385.7,2,     2.33,2,     0.27,2,     0.01,2,     0.20,2,   -999.0,9,   -999.0,9,    -2.23,2,  -1.6664
  06AQ20070728,EurArc,   358,  1,     22,     22,2,20070911,2309, 86.5040, 151.9800, 1411,     25.3,  -1.6134,  31.1870,2,   -999.0,9,    385.3,2,     3.16,2,     0.71,2,     0.03,2,     0.28,2,   -999.0,9,   -999.0,9,  -999.00,9,  -1.6138
  06AQ20070728,EurArc,   358,  1,     21,     21,2,20070911,2309, 86.5040, 151.9800, 1411,     25.3,  -1.6134,  31.1850,2,    368.9,2,    385.3,2,     3.16,2,     0.70,2,     0.03,2,     0.28,2,   -999.0,9,   -999.0,9,    -2.35,2,  -1.6138
  06AQ20070728,EurArc,   358,  1,     20,     20,2,20070911,2309, 86.5040, 151.9800, 1411,     40.8,  -1.6956,  32.4590,2,   -999.0,9,    347.9,2,     8.35,2,     5.90,2,     0.03,2,     0.65,2,   -999.0,9,   -999.0,9,  -999.00,9,  -1.6963
  06AQ20070728,EurArc,   358,  1,     19,     19,2,20070911,2309, 86.5040, 151.9800, 1411,     40.8,  -1.6952,  32.4260,2,   -999.0,9,    348.0,2,     8.42,2,     5.89,2,     0.04,2,     0.65,2,   -999.0,9,   -999.0,9,  -999.00,9,  -1.6959
  06AQ20070728,EurArc,   358,  1,     18,     18,2,20070911,2309, 86.5040, 151.9800, 1411,     40.8,  -1.6964,  32.5130,2,    322.9,2,    347.9,2,     8.54,2,     5.80,2,     0.03,2,     0.66,2,   -999.0,9,   -999.0,9,    -1.86,2,  -1.6971
  06AQ20070728,EurArc,   358,  1,     17,     17,2,20070911,2309, 86.5040, 151.9800, 1411,     49.0,  -1.6997,  32.8860,2,    313.1,2,    336.3,2,     8.18,2,     6.18,2,     0.03,2,     0.66,2,   -999.0,9,   -999.0,9,    -1.54,2,  -1.7006
  06AQ20070728,EurArc,   358,  1,     16,     16,2,20070911,2309, 86.5040, 151.9800, 1411,     49.0,  -1.6979,  32.9260,2,   -999.0,9,    336.3,2,     7.72,2,     6.74,2,     0.02,2,     0.66,2,   -999.0,9,   -999.0,9,  -999.00,9,  -1.6988
  06AQ20070728,EurArc,   358,  1,     15,     15,2,20070911,2309, 86.5040, 151.9800, 1411,     76.6,  -1.6110,  33.8100,2,    300.7,2,    314.2,2,     5.34,2,     7.77,2,     0.02,2,     0.65,2,   -999.0,9,   -999.0,9,    -0.64,2,  -1.6126
  06AQ20070728,EurArc,   358,  1,     14,     14,2,20070911,2309, 86.5040, 151.9800, 1411,     76.6,  -1.6117,  33.8120,2,   -999.0,9,    314.2,2,     5.41,2,     7.63,2,     0.02,2,     0.64,2,   -999.0,9,   -999.0,9,  -999.00,9,  -1.6133
  06AQ20070728,EurArc,   358,  1,     13,     13,2,20070911,2309, 86.5040, 151.9800, 1411,    101.6,  -1.3667,  34.1370,2,    296.7,2,    310.5,2,     5.16,2,     8.79,2,     0.02,2,     0.69,2,   -999.0,9,   -999.0,9,    -0.26,2,  -1.3691
  06AQ20070728,EurArc,   358,  1,     12,     12,2,20070911,2309, 86.5040, 151.9800, 1411,    101.6,  -1.3282,  34.1480,2,   -999.0,9,    310.5,2,  -999.00,9,  -999.00,9,  -999.00,9,  -999.00,9,   -999.0,9,   -999.0,9,  -999.00,9,  -1.3306
  06AQ20070728,EurArc,   358,  1,     11,     11,2,20070911,2309, 86.5040, 151.9800, 1411,    101.6,  -1.3332,  34.1500,2,   -999.0,9,    310.5,2,     5.21,2,     8.64,2,     0.02,2,     0.69,2,   -999.0,9,   -999.0,9,  -999.00,9,  -1.3356
  06AQ20070728,EurArc,   358,  1,     10,     10,2,20070911,2309, 86.5040, 151.9800, 1411,    126.4,  -0.7771,  34.3300,2,    290.9,2,    305.1,2,     5.69,2,     9.81,2,     0.02,2,     0.73,2,   -999.0,9,   -999.0,9,    -0.17,2,  -0.7808
  06AQ20070728,EurArc,   358,  1,      9,      9,2,20070911,2309, 86.5040, 151.9800, 1411,    152.1,  -0.2273,  34.4830,2,    285.6,2,    299.3,2,     6.08,2,    10.63,2,     0.02,2,     0.78,2,   -999.0,9,   -999.0,9,    -0.02,2,  -0.2325
  06AQ20070728,EurArc,   358,  1,      8,      8,2,20070911,2309, 86.5040, 151.9800, 1411,    202.9,   0.6914,  34.7310,2,   -999.0,9,    292.6,2,     6.16,2,    11.90,2,     0.02,2,     0.83,2,   -999.0,9,   -999.0,9,  -999.00,9,   0.6827
  06AQ20070728,EurArc,   358,  1,      7,      7,2,20070911,2309, 86.5040, 151.9800, 1411,    304.0,   0.9221,  34.8420,2,   -999.0,9,    295.5,2,     6.29,2,    12.46,2,     0.02,2,     0.86,2,   -999.0,9,   -999.0,9,  -999.00,9,   0.9081
  06AQ20070728,EurArc,   358,  1,      6,      6,2,20070911,2309, 86.5040, 151.9800, 1411,    506.6,   0.4735,  34.8660,2,   -999.0,9,    296.2,2,     6.64,2,    12.70,2,     0.01,2,     0.88,2,   -999.0,9,   -999.0,9,  -999.00,9,   0.4512
  06AQ20070728,EurArc,   358,  1,      5,      5,2,20070911,2309, 86.5040, 151.9800, 1411,    755.8,   0.0513,  34.8750,2,   -999.0,9,    299.5,2,     6.82,2,    12.72,2,     0.01,2,     0.89,2,   -999.0,9,   -999.0,9,  -999.00,9,   0.0189
  06AQ20070728,EurArc,   358,  1,      4,      4,2,20070911,2309, 86.5040, 151.9800, 1411,   1013.3,  -0.2377,  34.8870,2,   -999.0,9,    301.3,2,     7.15,2,    12.77,2,     0.01,2,     0.91,2,   -999.0,9,   -999.0,9,  -999.00,9,  -0.2811
  06AQ20070728,EurArc,   358,  1,      3,      3,2,20070911,2309, 86.5040, 151.9800, 1411,   1013.2,  -0.2377,  34.8870,2,   -999.0,9,    301.3,2,     7.16,2,    12.82,2,     0.01,2,     0.91,2,   -999.0,9,   -999.0,9,  -999.00,9,  -0.2811
  06AQ20070728,EurArc,   358,  1,      2,      2,2,20070911,2309, 86.5040, 151.9800, 1411,   1267.2,  -0.3769,  34.9060,2,   -999.0,9,    299.2,2,     8.43,2,    13.39,2,     0.01,2,     0.94,2,   -999.0,9,   -999.0,9,  -999.00,9,  -0.4326
  06AQ20070728,EurArc,   358,  1,      1,      1,2,20070911,2309, 86.5040, 151.9800, 1411,   1424.0,  -0.4037,  34.9360,2,   -999.0,9,    290.1,3,    11.06,3,    14.13,2,     0.02,2,     1.00,2,   -999.0,9,   -999.0,9,  -999.00,9,  -0.4680
  06AQ20070728,EurArc,   362,  1,     24,     24,2,20070912,1452, 86.4010, 140.9700, 2150,      1.9,  -1.5896,  30.6380,2,   -999.0,9,    386.8,2,     2.58,2,     0.24,2,     0.00,2,     0.19,2,   -999.0,9,   -999.0,9,  -999.00,9,  -1.5896
  06AQ20070728,EurArc,   362,  1,     23,     23,2,20070912,1452, 86.4010, 140.9700, 2150,      9.8,  -1.6502,  30.6920,2,   -999.0,9,    386.4,2,     2.61,2,     0.39,2,     0.02,2,     0.21,2,   -999.0,9,   -999.0,9,  -999.00,9,  -1.6503
  06AQ20070728,EurArc,   362,  1,     22,     22,2,20070912,1452, 86.4010, 140.9700, 2150,     20.3,  -1.6290,  31.9050,2,   -999.0,9,    380.4,2,     4.08,2,     4.79,2,     0.22,2,     0.34,3,   -999.0,9,   -999.0,9,  -999.00,9,  -1.6293
  06AQ20070728,EurArc,   362,  1,     21,     21,2,20070912,1452, 86.4010, 140.9700, 2150,     25.2,  -1.6583,  32.2370,2,   -999.0,9,    375.6,2,     4.25,2,     2.44,2,     0.22,2,     0.36,2,   -999.0,9,   -999.0,9,  -999.00,9,  -1.6587
  06AQ20070728,EurArc,   362,  1,     20,     20,2,20070912,1452, 86.4010, 140.9700, 2150,     25.2,  -1.6600,  32.2420,2,   -999.0,9,    375.6,2,     4.45,2,     2.86,2,     0.20,2,     0.38,2,   -999.0,9,   -999.0,9,  -999.00,9,  -1.6604
  06AQ20070728,EurArc,   362,  1,     19,     19,2,20070912,1452, 86.4010, 140.9700, 2150,     25.2,  -1.6736,  32.2720,2,   -999.0,9,    375.6,2,     4.49,2,     2.38,2,     0.21,2,     0.38,2,   -999.0,9,   -999.0,9,  -999.00,9,  -1.6740
  06AQ20070728,EurArc,   362,  1,     18,     18,2,20070912,1452, 86.4010, 140.9700, 2150,     50.5,  -1.7304,  32.6860,2,   -999.0,9,    353.9,2,     7.04,2,     6.09,2,     0.03,2,     0.58,2,   -999.0,9,   -999.0,9,  -999.00,9,  -1.7312
  06AQ20070728,EurArc,   362,  1,     17,     17,2,20070912,1452, 86.4010, 140.9700, 2150,     54.7,  -1.7051,  32.8830,2,   -999.0,9,    344.3,2,     6.72,2,     5.89,2,     0.03,2,     0.60,2,   -999.0,9,   -999.0,9,  -999.00,9,  -1.7061
  06AQ20070728,EurArc,   362,  1,     16,     16,2,20070912,1452, 86.4010, 140.9700, 2150,     54.8,  -1.6829,  33.1060,2,   -999.0,9,    343.9,2,     6.45,2,     5.99,2,     0.02,2,     0.60,2,   -999.0,9,   -999.0,9,  -999.00,9,  -1.6839
  06AQ20070728,EurArc,   362,  1,     15,     15,2,20070912,1452, 86.4010, 140.9700, 2150,     75.8,  -1.5104,  34.0530,2,   -999.0,9,    321.4,2,     4.50,2,     8.51,2,     0.02,2,     0.62,2,   -999.0,9,   -999.0,9,  -999.00,9,  -1.5120
  06AQ20070728,EurArc,   362,  1,     14,     14,2,20070912,1452, 86.4010, 140.9700, 2150,    101.1,  -1.1535,  34.2780,2,   -999.0,9,    314.1,2,     4.22,2,     8.05,2,     0.02,2,     0.65,2,   -999.0,9,   -999.0,9,  -999.00,9,  -1.1561
  06AQ20070728,EurArc,   362,  1,     13,     13,2,20070912,1452, 86.4010, 140.9700, 2150,    125.8,  -0.5657,  34.4460,2,   -999.0,9,    313.2,2,     4.10,2,     8.59,2,     0.02,2,     0.67,2,   -999.0,9,   -999.0,9,  -999.00,9,  -0.5696
  06AQ20070728,EurArc,   362,  1,     12,     12,2,20070912,1452, 86.4010, 140.9700, 2150,    151.1,   0.0895,  34.5690,2,   -999.0,9,    307.4,2,     4.41,2,     9.61,2,     0.02,2,     0.73,2,   -999.0,9,   -999.0,9,  -999.00,9,   0.0839
  06AQ20070728,EurArc,   362,  1,     11,     11,2,20070912,1452, 86.4010, 140.9700, 2150,    202.2,   1.0535,  34.7820,2,   -999.0,9,    302.5,2,     4.55,2,    10.74,2,     0.02,2,     0.78,2,   -999.0,9,   -999.0,9,  -999.00,9,   1.0442
  06AQ20070728,EurArc,   362,  1,     10,     10,2,20070912,1452, 86.4010, 140.9700, 2150,    303.7,   1.4393,  34.8650,2,   -999.0,9,    302.3,2,     4.92,2,    11.51,2,     0.02,2,     0.82,2,   -999.0,9,   -999.0,9,  -999.00,9,   1.4240
  06AQ20070728,EurArc,   362,  1,      9,      9,2,20070912,1452, 86.4010, 140.9700, 2150,    404.9,   1.1868,  34.8790,2,   -999.0,9,    304.0,2,     5.07,2,    11.54,2,     0.02,2,     0.83,2,   -999.0,9,   -999.0,9,  -999.00,9,   1.1669
  06AQ20070728,EurArc,   362,  1,      8,      8,2,20070912,1452, 86.4010, 140.9700, 2150,    506.5,   0.8392,  34.8770,2,   -999.0,9,    304.9,2,     5.29,2,    11.88,2,     0.01,2,     0.84,2,   -999.0,9,   -999.0,9,  -999.00,9,   0.8153
  06AQ20070728,EurArc,   362,  1,      7,      7,2,20070912,1452, 86.4010, 140.9700, 2150,    759.8,   0.1641,  34.8730,2,   -999.0,9,    307.6,2,     5.68,2,    11.72,2,     0.01,2,     0.86,2,   -999.0,9,   -999.0,9,  -999.00,9,   0.1308
  06AQ20070728,EurArc,   362,  1,      6,      6,2,20070912,1452, 86.4010, 140.9700, 2150,   1013.4,  -0.1068,  34.8860,2,   -999.0,9,    305.0,2,     6.61,2,    12.26,2,     0.02,2,     0.90,2,   -999.0,9,   -999.0,9,  -999.00,9,  -0.1512
  06AQ20070728,EurArc,   362,  1,      5,      5,2,20070912,1452, 86.4010, 140.9700, 2150,   1267.2,  -0.3243,  34.8970,2,   -999.0,9,    302.1,2,     7.83,2,    13.04,2,     0.02,2,     0.94,2,   -999.0,9,   -999.0,9,  -999.00,9,  -0.3805
  06AQ20070728,EurArc,   362,  1,      4,      4,2,20070912,1452, 86.4010, 140.9700, 2150,   1521.8,  -0.4639,  34.9070,2,   -999.0,9,    300.1,2,     8.91,2,    13.59,2,     0.01,2,     0.98,2,   -999.0,9,   -999.0,9,  -999.00,9,  -0.5331
  06AQ20070728,EurArc,   362,  1,      3,      3,2,20070912,1452, 86.4010, 140.9700, 2150,   1521.8,  -0.4639,  34.9070,2,   -999.0,9,    300.1,2,     8.94,2,    14.07,2,     0.01,2,     0.97,2,   -999.0,9,   -999.0,9,  -999.00,9,  -0.5331
  06AQ20070728,EurArc,   362,  1,      2,      2,2,20070912,1452, 86.4010, 140.9700, 2150,   2031.4,  -0.6010,  34.9140,2,   -999.0,9,    298.1,2,    10.18,2,    14.64,2,     0.01,2,     1.01,2,   -999.0,9,   -999.0,9,  -999.00,9,  -0.7002
  06AQ20070728,EurArc,   362,  1,      1,      1,2,20070912,1452, 86.4010, 140.9700, 2150,   2175.9,  -0.6305,  34.9150,2,   -999.0,9,    297.8,2,    10.34,2,    14.44,2,     0.02,2,     1.01,2,   -999.0,9,   -999.0,9,  -999.00,9,  -0.7390
  06AQ20070728,EurArc,   363,  5,     24,     24,2,20070913,0812, 86.4590, 135.0200, 3986,     10.5,  -1.6820,  31.3020,2,   -999.0,9,    386.7,2,     2.33,2,     0.30,2,     0.04,2,     0.21,2,   2017.7,2,   2147.6,2,    -2.14,2,  -1.6821
  06AQ20070728,EurArc,   363,  5,     23,     23,2,20070913,0812, 86.4590, 135.0200, 3986,     25.2,  -1.7257,  32.3690,2,   -999.0,9,    369.2,2,     5.04,2,     3.38,2,     0.06,2,     0.42,2,   -999.0,9,   -999.0,9,    -2.26,2,  -1.7261
  06AQ20070728,EurArc,   363,  5,     22,     22,2,20070913,0812, 86.4590, 135.0200, 3986,     50.1,  -1.6938,  33.0810,2,   -999.0,9,    344.5,2,     6.07,2,     6.07,2,     0.03,2,     0.57,2,   2150.8,2,   2251.8,2,    -1.33,2,  -1.6947
  06AQ20070728,EurArc,   363,  5,     21,     21,2,20070913,0812, 86.4590, 135.0200, 3986,     76.1,  -1.5363,  34.0640,2,   -999.0,9,    322.4,2,     4.28,2,     7.46,2,     0.02,2,     0.61,2,   -999.0,9,   -999.0,9,    -0.31,2,  -1.5379
  06AQ20070728,EurArc,   363,  5,     20,     20,2,20070913,0812, 86.4590, 135.0200, 3986,    101.4,  -1.0864,  34.3020,2,   -999.0,9,    316.7,2,     4.20,2,     8.09,2,     0.02,2,     0.63,2,   2147.4,2,   2264.7,2,    -0.19,2,  -1.0890
  06AQ20070728,EurArc,   363,  5,     19,     19,2,20070913,0812, 86.4590, 135.0200, 3986,    152.2,  -0.1232,  34.5580,2,   -999.0,9,    312.5,2,     4.07,2,     9.01,2,     0.02,2,     0.68,2,   -999.0,9,   -999.0,9,    -0.08,2,  -0.1286
  06AQ20070728,EurArc,   363,  5,     18,     18,2,20070913,0812, 86.4590, 135.0200, 3986,    203.3,   0.7491,  34.7310,2,   -999.0,9,   -999.0,9,     4.42,2,    10.34,2,     0.01,2,     0.75,2,   2160.8,2,   2293.0,2,  -999.00,9,   0.7403
  06AQ20070728,EurArc,   363,  5,     17,     17,2,20070913,0812, 86.4590, 135.0200, 3986,    304.9,   1.2832,  34.8310,2,   -999.0,9,    301.7,2,     4.76,2,    11.19,2,     0.01,2,     0.79,2,   -999.0,9,   -999.0,9,  -999.00,9,   1.2683
  06AQ20070728,EurArc,   363,  5,     16,     16,2,20070913,0812, 86.4590, 135.0200, 3986,    405.1,   1.2700,  34.8770,2,   -999.0,9,    306.8,2,     5.13,2,    11.54,2,     0.01,2,     0.82,2,   -999.0,9,   -999.0,9,  -999.00,9,   1.2498
  06AQ20070728,EurArc,   363,  5,     15,     15,2,20070913,0812, 86.4590, 135.0200, 3986,    508.0,   0.9298,  34.8790,2,   -999.0,9,    304.1,2,     5.24,2,    11.58,2,     0.00,2,     0.82,2,   2164.7,2,   2297.7,2,  -999.00,9,   0.9055
  06AQ20070728,EurArc,   363,  5,     14,     14,2,20070913,0812, 86.4590, 135.0200, 3986,    761.6,   0.1894,  34.8710,2,   -999.0,9,    307.6,2,     5.64,2,    11.66,2,     0.01,2,     0.84,2,   -999.0,9,   -999.0,9,  -999.00,9,   0.1559
  06AQ20070728,EurArc,   363,  5,     13,     13,2,20070913,0812, 86.4590, 135.0200, 3986,   1013.9,  -0.0728,  34.8890,2,   -999.0,9,    304.5,2,     6.49,2,    12.10,2,     0.01,2,     0.87,2,   2176.7,2,   2299.3,2,  -999.00,9,  -0.1176
  06AQ20070728,EurArc,   363,  5,     12,     12,2,20070913,0812, 86.4590, 135.0200, 3986,   1269.9,  -0.3284,  34.9000,2,   -999.0,9,    302.1,2,     7.77,2,    13.00,2,     0.00,2,     0.92,2,   -999.0,9,   -999.0,9,  -999.00,9,  -0.3847
  06AQ20070728,EurArc,   363,  5,     11,     11,2,20070913,0812, 86.4590, 135.0200, 3986,   1523.0,  -0.5025,  34.9110,2,   -999.0,9,    300.2,2,     9.20,2,    13.81,2,     0.00,2,     0.96,2,   2166.9,2,   2298.0,2,  -999.00,9,  -0.5713
  06AQ20070728,EurArc,   363,  5,     10,     10,2,20070913,0812, 86.4590, 135.0200, 3986,   1778.3,  -0.6280,  34.9150,2,   -999.0,9,    299.1,2,     9.99,2,    14.26,2,     0.00,2,     0.98,2,   -999.0,9,   -999.0,9,  -999.00,9,  -0.7106
  06AQ20070728,EurArc,   363,  5,      9,      9,2,20070913,0812, 86.4590, 135.0200, 3986,   2032.5,  -0.6957,  34.9180,2,   -999.0,9,    298.4,2,    10.31,2,    14.38,2,     0.00,2,     1.00,2,   2161.9,2,   2298.1,2,  -999.00,9,  -0.7935
  06AQ20070728,EurArc,   363,  5,      8,      8,2,20070913,0812, 86.4590, 135.0200, 3986,   2286.1,  -0.7368,  34.9210,2,   -999.0,9,    298.6,2,    10.65,2,    14.53,2,     0.00,2,     1.00,2,   -999.0,9,   -999.0,9,  -999.00,9,  -0.8511
  06AQ20070728,EurArc,   363,  5,      7,      7,2,20070913,0812, 86.4590, 135.0200, 3986,   2542.1,  -0.7566,  34.9240,2,   -999.0,9,    298.6,2,    10.77,2,    14.65,2,     0.01,2,     1.00,2,   2159.2,2,   2299.5,2,  -999.00,9,  -0.8888
  06AQ20070728,EurArc,   363,  5,      6,      6,2,20070913,0812, 86.4590, 135.0200, 3986,   2798.5,  -0.7614,  34.9290,2,   -999.0,9,    298.7,2,    10.86,2,    14.56,2,     0.00,2,     1.01,2,   -999.0,9,   -999.0,9,  -999.00,9,  -0.9130
  06AQ20070728,EurArc,   363,  5,      5,      5,2,20070913,0812, 86.4590, 135.0200, 3986,   3054.4,  -0.7526,  34.9330,2,   -999.0,9,    297.9,2,    11.01,2,    14.63,2,     0.00,2,     1.01,2,   2159.3,2,   2301.5,2,  -999.00,9,  -0.9248
  06AQ20070728,EurArc,   363,  5,      4,      4,2,20070913,0812, 86.4590, 135.0200, 3986,   3310.8,  -0.7366,  34.9370,2,   -999.0,9,    297.0,2,    11.14,2,    14.76,2,     0.01,2,     1.01,2,   -999.0,9,   -999.0,9,  -999.00,9,  -0.9306
  06AQ20070728,EurArc,   363,  5,      3,      3,2,20070913,0812, 86.4590, 135.0200, 3986,   3567.7,  -0.7203,  34.9400,2,   -999.0,9,   -999.0,9,    11.16,2,    14.64,2,     0.01,2,     1.01,2,   2153.0,2,   2297.3,2,  -999.00,9,  -0.9373
  06AQ20070728,EurArc,   363,  5,      2,      2,2,20070913,0812, 86.4590, 135.0200, 3986,   3824.9,  -0.6996,  34.9420,2,   -999.0,9,    296.9,2,    11.11,2,    14.73,2,     0.01,2,     1.00,2,   -999.0,9,   -999.0,9,  -999.00,9,  -0.9407
  06AQ20070728,EurArc,   363,  5,      1,      1,2,20070913,0812, 86.4590, 135.0200, 3986,   3927.7,  -0.6892,  34.9420,2,   -999.0,9,    296.8,2,    11.12,2,    14.76,2,     0.01,2,     1.00,2,   2155.2,2,   2300.7,2,  -999.00,9,  -0.9403