BOTTLE,20220921CCHSIOAMB
EXPOCODE,SECT_ID,STNNBR,CASTNO,SAMPNO,BTLNBR,BTLNBR_FLAG_W,DATE,TIME,LATITUDE,LONGITUDE,DEPTH,CTDPRS,CTDTMP,CTDSAL,CTDSAL_FLAG_W,CTDOXY,CTDOXY_FLAG_W,OXYGEN,OXYGEN_FLAG_W,SILCAT,SILCAT_FLAG_W,NITRAT,NITRAT_FLAG_W,NITRIT,NITRIT_FLAG_W,PHSPHT,PHSPHT_FLAG_W,TCARBN,TCARBN_FLAG_W,ALKALI,ALKALI_FLAG_W,DELO18,DELO18_FLAG_W,THETA
,,,,,,,,,,,METERS,DBAR,ITS-90,PSS-78,,UMOL/KG,,UMOL/KG,,UMOL/KG,,UMOL/KG,,UMOL/KG,,UMOL/KG,,UMOL/KG,,UMOL/KG,,/MILLE,,DEG C
  06AQ20070728,EurArc,   352,  2,     24,     24,2,20070910,1212, 86.6380, 177.5600, 4005,      8.3,  -1.5879,  29.5240,2,   -999.0,9,    382.7,2,     5.78,2,     0.60,2,     0.04,2,     0.37,2,   -999.0,9,   -999.0,9,  -999.00,9,  -1.5880
  06AQ20070728,EurArc,   352,  2,     23,     23,2,20070910,1212, 86.6380, 177.5600, 4005,     25.8,  -1.6284,  30.3600,2,   -999.0,9,    382.8,2,     4.74,2,     0.57,2,     0.04,2,     0.30,2,   -999.0,9,   -999.0,9,  -999.00,9,  -1.6287
  06AQ20070728,EurArc,   352,  2,     22,     22,2,20070910,1212, 86.6380, 177.5600, 4005,     50.2,  -1.6589,  32.2120,2,   -999.0,9,    373.1,2,    10.95,2,     6.53,2,     0.05,2,     0.74,2,   -999.0,9,   -999.0,9,  -999.00,9,  -1.6597
  06AQ20070728,EurArc,   352,  2,     21,     21,2,20070910,1212, 86.6380, 177.5600, 4005,     50.2,  -1.6565,  32.1850,2,   -999.0,9,    373.1,2,    11.06,2,     6.75,2,     0.05,2,     0.76,2,   2160.3,2,   2240.0,2,  -999.00,9,  -1.6573
  06AQ20070728,EurArc,   352,  2,     20,     20,2,20070910,1212, 86.6380, 177.5600, 4005,    101.4,  -1.4707,  34.0730,2,   -999.0,9,    308.6,2,     6.14,2,     8.77,2,     0.03,2,     0.69,2,   -999.0,9,   -999.0,9,  -999.00,9,  -1.4730
  06AQ20070728,EurArc,   352,  2,     19,     19,2,20070910,1212, 86.6380, 177.5600, 4005,    101.4,  -1.4702,  34.0760,2,   -999.0,9,    308.6,2,     6.03,2,     8.70,2,     0.03,2,     0.69,2,   2165.9,2,   2273.4,2,  -999.00,9,  -1.4725
  06AQ20070728,EurArc,   352,  2,     18,     18,2,20070910,1212, 86.6380, 177.5600, 4005,    151.8,  -0.3092,  34.4600,2,   -999.0,9,    306.3,2,     6.06,2,    10.43,2,     0.03,2,     0.76,2,   2163.7,2,   2280.7,2,  -999.00,9,  -0.3143
  06AQ20070728,EurArc,   352,  2,     17,     17,2,20070910,1212, 86.6380, 177.5600, 4005,    202.5,   0.4517,  34.6830,2,   -999.0,9,    297.2,2,     6.54,2,    11.93,2,     0.02,2,     0.83,2,   -999.0,9,   -999.0,9,  -999.00,9,   0.4434
  06AQ20070728,EurArc,   352,  2,     16,     16,2,20070910,1212, 86.6380, 177.5600, 4005,    506.1,   0.4818,  34.8680,2,   -999.0,9,    297.3,2,     6.61,2,    12.77,2,     0.02,2,     0.86,2,   2156.2,2,   2292.5,2,  -999.00,9,   0.4594
  06AQ20070728,EurArc,   352,  2,     15,     15,2,20070910,1212, 86.6380, 177.5600, 4005,    760.1,   0.0430,  34.8780,2,   -999.0,9,    300.3,2,     6.72,2,    12.72,2,     0.02,2,     0.88,2,   -999.0,9,   -999.0,9,  -999.00,9,   0.0105
  06AQ20070728,EurArc,   352,  2,     14,     14,2,20070910,1212, 86.6380, 177.5600, 4005,   1014.1,  -0.1736,  34.8960,2,   -999.0,9,    300.3,2,     7.32,2,    13.04,2,     0.02,2,     0.90,2,   2156.8,2,   2296.0,2,  -999.00,9,  -0.2175
  06AQ20070728,EurArc,   352,  2,     13,     13,2,20070910,1212, 86.6380, 177.5600, 4005,   1267.1,  -0.3036,  34.9140,2,   -999.0,9,    298.8,2,     8.30,2,    13.56,2,     0.02,2,     0.93,2,   2154.7,2,   2296.3,2,  -999.00,9,  -0.3600
  06AQ20070728,EurArc,   352,  2,     12,     12,2,20070910,1212, 86.6380, 177.5600, 4005,   1522.1,  -0.3739,  34.9310,2,   -999.0,9,    295.6,2,     9.69,2,    13.99,2,     0.02,2,     0.97,2,   -999.0,9,   -999.0,9,  -999.00,9,  -0.4443
  06AQ20070728,EurArc,   352,  2,     11,     11,2,20070910,1212, 86.6380, 177.5600, 4005,   1777.0,  -0.4025,  34.9430,2,   -999.0,9,    291.3,2,    11.09,2,    14.46,2,     0.02,2,     1.00,2,   -999.0,9,   -999.0,9,  -999.00,9,  -0.4883
  06AQ20070728,EurArc,   352,  2,     10,     10,2,20070910,1212, 86.6380, 177.5600, 4005,   2032.1,  -0.4080,  34.9490,2,   -999.0,9,    289.3,2,    11.92,2,    14.62,2,     0.01,2,     1.02,2,   2154.5,2,   2297.2,2,  -999.00,9,  -0.5105
  06AQ20070728,EurArc,   352,  2,      9,      9,2,20070910,1212, 86.6380, 177.5600, 4005,   2287.3,  -0.3981,  34.9530,2,   -999.0,9,    288.4,2,    12.37,2,    14.71,2,     0.02,2,     1.02,2,   -999.0,9,   -999.0,9,  -999.00,9,  -0.5186
  06AQ20070728,EurArc,   352,  2,      8,      8,2,20070910,1212, 86.6380, 177.5600, 4005,   2542.4,  -0.3833,  34.9540,2,   -999.0,9,    288.2,2,    12.51,2,    14.85,2,     0.01,2,     1.02,2,   2158.9,2,   2300.6,2,  -999.00,9,  -0.5230
  06AQ20070728,EurArc,   352,  2,      7,      7,2,20070910,1212, 86.6380, 177.5600, 4005,   2799.1,  -0.3685,  34.9550,2,   -999.0,9,    288.5,2,    12.39,2,    14.77,2,     0.01,2,     1.03,2,   -999.0,9,   -999.0,9,  -999.00,9,  -0.5286
  06AQ20070728,EurArc,   352,  2,      6,      6,2,20070910,1212, 86.6380, 177.5600, 4005,   3055.6,  -0.3527,  34.9550,2,   -999.0,9,    289.2,2,    12.25,2,    14.84,2,     0.01,2,     1.02,2,   -999.0,9,   -999.0,9,  -999.00,9,  -0.5343
  06AQ20070728,EurArc,   352,  2,      5,      5,2,20070910,1212, 86.6380, 177.5600, 4005,   3311.0,  -0.3335,  34.9540,2,   -999.0,9,    290.0,2,    11.99,2,    14.73,2,     0.01,2,     1.02,2,   2155.1,2,   2299.1,2,  -999.00,9,  -0.5376
  06AQ20070728,EurArc,   352,  2,      4,      4,2,20070910,1212, 86.6380, 177.5600, 4005,   3568.1,  -0.3097,  34.9540,2,   -999.0,9,    290.1,2,    12.03,2,    14.86,2,     0.01,2,     1.02,2,   2158.8,2,   2301.8,2,  -999.00,9,  -0.5376
  06AQ20070728,EurArc,   352,  2,      3,      3,2,20070910,1212, 86.6380, 177.5600, 4005,   3825.3,  -0.2846,  34.9540,2,   -999.0,9,    290.1,2,    12.01,2,    14.89,2,     0.01,2,     1.02,2,   -999.0,9,   -999.0,9,  -999.00,9,  -0.5374
  06AQ20070728,EurArc,   352,  2,      2,      2,2,20070910,1212, 86.6380, 177.5600, 4005,   3979.1,  -0.2686,  34.9540,2,   -999.0,9,    289.8,2,    12.03,2,    16.07,3,     0.01,2,     1.02,2,   -999.0,9,   -999.0,9,  -999.00,9,  -0.5368
  06AQ20070728,EurArc,   352,  2,      1,      1,2,20070910,1212, 86.6380, 177.5600, 4005,   3979.1,  -0.2686,  34.9540,2,   -999.0,9,    289.8,2,    12.02,2,    15.00,2,     0.02,2,     1.02,2,   2155.2,2,   2301.3,2,  -999.00,9,  -0.5368
  06AQ20070728,EurArc,   352,  3,     24,     24,2,20070910,1520, 86.6380, 177.5600, 4005,    151.8,  -0.4045,  34.4430,2,   -999.0,9,    305.9,2,  -999.00,9,  -999.00,9,  -999.00,9,  -999.00,9,   -999.0,9,   -999.0,9,  -999.00,9,  -0.4095
  06AQ20070728,EurArc,   352,  3,     23,     23,2,20070910,1520, 86.6380, 177.5600, 4005,    151.8,  -0.3107,  34.4650,2,    287.4,2,    305.9,2,     5.81,2,    10.09,2,     0.02,2,     0.73,2,   -999.0,9,   -999.0,9,    -0.12,2,  -0.3158
  06AQ20070728,EurArc,   352,  3,     22,     22,2,20070910,1520, 86.6380, 177.5600, 4005,    202.3,   0.4485,  34.6730,2,   -999.0,9,    297.3,2,     6.63,2,    11.97,2,     0.02,2,     0.82,2,   -999.0,9,   -999.0,9,  -999.00,9,   0.4402
  06AQ20070728,EurArc,   352,  3,     21,     21,2,20070910,1520, 86.6380, 177.5600, 4005,    202.3,   0.4448,  34.6740,2,   -999.0,9,    297.3,2,  -999.00,9,  -999.00,9,  -999.00,9,  -999.00,9,   -999.0,9,   -999.0,9,  -999.00,9,   0.4365
  06AQ20070728,EurArc,   352,  3,     20,     20,2,20070910,1520, 86.6380, 177.5600, 4005,    296.4,   0.9277,  34.8410,2,   -999.0,9,    298.7,2,  -999.00,9,  -999.00,9,  -999.00,9,  -999.00,9,   -999.0,9,   -999.0,9,  -999.00,9,   0.9141
  06AQ20070728,EurArc,   352,  3,     19,     19,2,20070910,1520, 86.6380, 177.5600, 4005,    297.5,   0.9278,  34.8410,2,   -999.0,9,    298.7,2,  -999.00,9,  -999.00,9,  -999.00,9,  -999.00,9,   -999.0,9,   -999.0,9,  -999.00,9,   0.9141
  06AQ20070728,EurArc,   352,  3,     18,     18,2,20070910,1520, 86.6380, 177.5600, 4005,    303.2,   0.9251,  34.8410,2,   -999.0,9,    298.6,2,     6.29,2,    12.63,2,     0.02,2,     0.85,2,   -999.0,9,   -999.0,9,  -999.00,9,   0.9111
  06AQ20070728,EurArc,   352,  3,     17,     17,2,20070910,1520, 86.6380, 177.5600, 4005,    506.4,   0.4869,  34.8660,2,   -999.0,9,    299.9,2,  -999.00,9,  -999.00,9,  -999.00,9,  -999.00,9,   -999.0,9,   -999.0,9,  -999.00,9,   0.4645
  06AQ20070728,EurArc,   352,  3,     16,     16,2,20070910,1520, 86.6380, 177.5600, 4005,    506.4,   0.4873,  34.8660,2,   -999.0,9,    299.9,2,  -999.00,9,  -999.00,9,  -999.00,9,  -999.00,9,   -999.0,9,   -999.0,9,  -999.00,9,   0.4649
  06AQ20070728,EurArc,   352,  3,     15,     15,2,20070910,1520, 86.6380, 177.5600, 4005,    506.4,   0.4700,  34.8660,2,   -999.0,9,    299.9,2,     6.65,2,    12.95,2,     0.02,2,     0.87,2,   -999.0,9,   -999.0,9,  -999.00,9,   0.4477
  06AQ20070728,EurArc,   352,  3,     14,     14,2,20070910,1520, 86.6380, 177.5600, 4005,   1013.6,  -0.1695,  34.8940,2,   -999.0,9,    302.5,2,     7.35,2,    13.17,2,     0.02,2,     0.91,2,   -999.0,9,   -999.0,9,  -999.00,9,  -0.2135
  06AQ20070728,EurArc,   352,  3,     13,     13,2,20070910,1520, 86.6380, 177.5600, 4005,   1013.6,  -0.1694,  34.8940,2,   -999.0,9,    302.5,2,  -999.00,9,  -999.00,9,  -999.00,9,  -999.00,9,   -999.0,9,   -999.0,9,  -999.00,9,  -0.2134
  06AQ20070728,EurArc,   352,  3,     12,     12,2,20070910,1520, 86.6380, 177.5600, 4005,   1521.8,  -0.3724,  34.9300,2,   -999.0,9,    296.9,2,  -999.00,9,  -999.00,9,  -999.00,9,  -999.00,9,   -999.0,9,   -999.0,9,  -999.00,9,  -0.4428
  06AQ20070728,EurArc,   352,  3,     11,     11,2,20070910,1520, 86.6380, 177.5600, 4005,   1521.8,  -0.3720,  34.9290,2,   -999.0,9,    296.9,2,  -999.00,9,  -999.00,9,  -999.00,9,  -999.00,9,   -999.0,9,   -999.0,9,  -999.00,9,  -0.4424
  06AQ20070728,EurArc,   352,  3,     10,     10,2,20070910,1520, 86.6380, 177.5600, 4005,   1521.7,  -0.3722,  34.9300,2,   -999.0,9,    296.9,2,     9.74,2,    14.21,2,     0.02,2,     0.98,2,   -999.0,9,   -999.0,9,  -999.00,9,  -0.4426
  06AQ20070728,EurArc,   352,  3,      9,      9,2,20070910,1520, 86.6380, 177.5600, 4005,   2031.5,  -0.4067,  34.9480,2,   -999.0,9,    290.5,2,  -999.00,9,  -999.00,9,  -999.00,9,  -999.00,9,   -999.0,9,   -999.0,9,  -999.00,9,  -0.5092
  06AQ20070728,EurArc,   352,  3,      8,      8,2,20070910,1520, 86.6380, 177.5600, 4005,   2031.5,  -0.4069,  34.9480,2,   -999.0,9,    290.5,2,    11.95,2,    14.73,2,     0.02,2,     1.02,2,   -999.0,9,   -999.0,9,  -999.00,9,  -0.5094
  06AQ20070728,EurArc,   352,  3,      7,      7,2,20070910,1520, 86.6380, 177.5600, 4005,   2542.6,  -0.3815,  34.9520,2,   -999.0,9,    288.7,2,  -999.00,9,  -999.00,9,  -999.00,9,  -999.00,9,   -999.0,9,   -999.0,9,  -999.00,9,  -0.5212
  06AQ20070728,EurArc,   352,  3,      6,      6,2,20070910,1520, 86.6380, 177.5600, 4005,   2542.6,  -0.3817,  34.9520,2,   -999.0,9,    288.7,2,    12.55,2,    14.87,2,     0.02,2,     1.03,2,   -999.0,9,   -999.0,9,  -999.00,9,  -0.5214
  06AQ20070728,EurArc,   352,  3,      5,      5,2,20070910,1520, 86.6380, 177.5600, 4005,   3054.1,  -0.3514,  34.9530,2,   -999.0,9,    289.7,2,    12.24,2,    14.82,2,     0.02,2,     1.03,2,   -999.0,9,   -999.0,9,  -999.00,9,  -0.5329
  06AQ20070728,EurArc,   352,  3,      4,      4,2,20070910,1520, 86.6380, 177.5600, 4005,   3054.1,  -0.3514,  34.9530,2,   -999.0,9,    289.7,2,    12.26,2,    14.73,2,     0.02,2,     1.03,2,   -999.0,9,   -999.0,9,  -999.00,9,  -0.5329
  06AQ20070728,EurArc,   352,  3,      3,      3,2,20070910,1520, 86.6380, 177.5600, 4005,   3987.2,  -0.2668,  34.9530,2,   -999.0,9,    289.8,2,  -999.00,9,  -999.00,9,  -999.00,9,  -999.00,9,   -999.0,9,   -999.0,9,  -999.00,9,  -0.5359
  06AQ20070728,EurArc,   352,  3,      2,      2,2,20070910,1520, 86.6380, 177.5600, 4005,   3987.2,  -0.2668,  34.9530,2,   -999.0,9,    289.8,2,  -999.00,9,  -999.00,9,  -999.00,9,  -999.00,9,   -999.0,9,   -999.0,9,  -999.00,9,  -0.5359
  06AQ20070728,EurArc,   352,  3,      1,      1,2,20070910,1520, 86.6380, 177.5600, 4005,   3987.2,  -0.2666,  34.9530,2,   -999.0,9,    289.8,2,    12.01,2,    14.74,2,     0.02,2,     1.03,2,   -999.0,9,   -999.0,9,  -999.00,9,  -0.5357
  06AQ20070728,EurArc,   352,  5,     22,     22,2,20070910,2157, 86.6380, 177.5600, 4005,     10.3,  -1.6151,  30.1490,2,   -999.0,9,    383.0,2,  -999.00,9,  -999.00,9,  -999.00,9,  -999.00,9,   -999.0,9,   -999.0,9,  -999.00,9,  -1.6152
  06AQ20070728,EurArc,   352,  5,     21,     21,2,20070910,2157, 86.6380, 177.5600, 4005,     10.3,  -1.6075,  30.0150,2,   -999.0,9,    383.1,2,  -999.00,9,  -999.00,9,  -999.00,9,  -999.00,9,   -999.0,9,   -999.0,9,  -999.00,9,  -1.6076
  06AQ20070728,EurArc,   352,  5,     20,     20,2,20070910,2157, 86.6380, 177.5600, 4005,     10.3,  -1.6001,  29.8800,2,    372.3,2,    383.1,2,     4.85,2,     0.56,2,     0.03,2,     0.30,2,   -999.0,9,   -999.0,9,    -3.01,2,  -1.6002
  06AQ20070728,EurArc,   352,  5,     19,     19,2,20070910,2157, 86.6380, 177.5600, 4005,     25.0,  -1.6303,  30.3270,2,   -999.0,9,    381.6,2,  -999.00,9,  -999.00,9,  -999.00,9,  -999.00,9,   -999.0,9,   -999.0,9,  -999.00,9,  -1.6306
  06AQ20070728,EurArc,   352,  5,     18,     18,2,20070910,2157, 86.6380, 177.5600, 4005,     25.0,  -1.6302,  30.3270,2,   -999.0,9,    381.6,2,  -999.00,9,  -999.00,9,  -999.00,9,  -999.00,9,   -999.0,9,   -999.0,9,  -999.00,9,  -1.6305
  06AQ20070728,EurArc,   352,  5,     17,     17,2,20070910,2157, 86.6380, 177.5600, 4005,     25.0,  -1.6301,  30.3270,2,   -999.0,9,    381.6,2,  -999.00,9,  -999.00,9,  -999.00,9,  -999.00,9,   -999.0,9,   -999.0,9,  -999.00,9,  -1.6304
  06AQ20070728,EurArc,   352,  5,     16,     16,2,20070910,2157, 86.6380, 177.5600, 4005,     25.0,  -1.6294,  30.3310,2,    371.0,2,    381.6,2,     4.68,2,     0.58,2,     0.04,2,     0.29,2,   -999.0,9,   -999.0,9,    -2.84,2,  -1.6297
  06AQ20070728,EurArc,   352,  5,     15,     15,2,20070910,2157, 86.6380, 177.5600, 4005,     50.8,  -1.6353,  31.7610,2,   -999.0,9,    369.8,2,  -999.00,9,  -999.00,9,  -999.00,9,  -999.00,9,   -999.0,9,   -999.0,9,  -999.00,9,  -1.6361
  06AQ20070728,EurArc,   352,  5,     14,     14,2,20070910,2157, 86.6380, 177.5600, 4005,     50.8,  -1.6353,  31.7470,2,   -999.0,9,    369.8,2,  -999.00,9,  -999.00,9,  -999.00,9,  -999.00,9,   -999.0,9,   -999.0,9,  -999.00,9,  -1.6361
  06AQ20070728,EurArc,   352,  5,     13,     13,2,20070910,2157, 86.6380, 177.5600, 4005,     50.8,  -1.6358,  31.7940,2,   -999.0,9,    369.8,2,  -999.00,9,  -999.00,9,  -999.00,9,  -999.00,9,   -999.0,9,   -999.0,9,  -999.00,9,  -1.6366
  06AQ20070728,EurArc,   352,  5,     12,     12,2,20070910,2157, 86.6380, 177.5600, 4005,     50.8,  -1.6375,  31.8950,2,   -999.0,9,    369.7,2,  -999.00,9,  -999.00,9,  -999.00,9,  -999.00,9,   -999.0,9,   -999.0,9,  -999.00,9,  -1.6383
  06AQ20070728,EurArc,   352,  5,     11,     11,2,20070910,2157, 86.6380, 177.5600, 4005,     50.8,  -1.6367,  31.7080,2,   -999.0,9,    369.8,2,  -999.00,9,  -999.00,9,  -999.00,9,  -999.00,9,   -999.0,9,   -999.0,9,  -999.00,9,  -1.6375
  06AQ20070728,EurArc,   352,  5,     10,     10,2,20070910,2157, 86.6380, 177.5600, 4005,     50.8,  -1.6403,  32.0110,2,    323.7,2,    369.7,2,    13.11,2,     6.89,2,     0.04,2,     0.82,2,   -999.0,9,   -999.0,9,    -1.76,2,  -1.6411
  06AQ20070728,EurArc,   352,  5,      9,      9,2,20070910,2157, 86.6380, 177.5600, 4005,     75.8,  -1.6001,  33.4770,2,   -999.0,9,    310.6,2,  -999.00,9,  -999.00,9,  -999.00,9,  -999.00,9,   -999.0,9,   -999.0,9,  -999.00,9,  -1.6016
  06AQ20070728,EurArc,   352,  5,      8,      8,2,20070910,2157, 86.6380, 177.5600, 4005,     75.8,  -1.5927,  33.5410,2,   -999.0,9,    310.6,2,  -999.00,9,  -999.00,9,  -999.00,9,  -999.00,9,   -999.0,9,   -999.0,9,  -999.00,9,  -1.5942
  06AQ20070728,EurArc,   352,  5,      7,      7,2,20070910,2157, 86.6380, 177.5600, 4005,     75.8,  -1.6068,  33.4290,2,    294.2,2,    310.6,2,     9.82,2,     8.02,2,     0.03,2,     0.75,2,   -999.0,9,   -999.0,9,    -1.06,2,  -1.6083
  06AQ20070728,EurArc,   352,  5,      6,      6,2,20070910,2157, 86.6380, 177.5600, 4005,    100.9,  -1.4976,  34.0340,2,   -999.0,9,    307.4,2,  -999.00,9,  -999.00,9,  -999.00,9,  -999.00,9,   -999.0,9,   -999.0,9,  -999.00,9,  -1.4998
  06AQ20070728,EurArc,   352,  5,      5,      5,2,20070910,2157, 86.6380, 177.5600, 4005,    100.9,  -1.4977,  34.0330,2,   -999.0,9,    307.4,2,  -999.00,9,  -999.00,9,  -999.00,9,  -999.00,9,   -999.0,9,   -999.0,9,  -999.00,9,  -1.4999
  06AQ20070728,EurArc,   352,  5,      4,      4,2,20070910,2157, 86.6380, 177.5600, 4005,    100.9,  -1.4983,  34.0320,2,   -999.0,9,    307.4,2,  -999.00,9,  -999.00,9,  -999.00,9,  -999.00,9,   -999.0,9,   -999.0,9,  -999.00,9,  -1.5005
  06AQ20070728,EurArc,   352,  5,      3,      3,2,20070910,2157, 86.6380, 177.5600, 4005,    100.9,  -1.4985,  34.0330,2,   -999.0,9,    307.4,2,  -999.00,9,  -999.00,9,  -999.00,9,  -999.00,9,   -999.0,9,   -999.0,9,  -999.00,9,  -1.5007
  06AQ20070728,EurArc,   352,  5,      2,      2,2,20070910,2157, 86.6380, 177.5600, 4005,    100.9,  -1.4950,  34.0360,2,    295.7,2,    307.4,2,     6.43,2,     8.34,2,     0.02,2,     0.68,2,   -999.0,9,   -999.0,9,    -0.44,2,  -1.4972
  06AQ20070728,EurArc,   352,  5,      1,      1,2,20070910,2157, 86.6380, 177.5600, 4005,    126.2,  -0.9630,  34.2750,2,    296.1,2,    308.4,2,     5.55,2,     8.78,2,     0.02,2,     0.70,2,   -999.0,9,   -999.0,9,    -0.38,2,  -0.9665