BOTTLE,20220921CCHSIOAMB
EXPOCODE,SECT_ID,STNNBR,CASTNO,SAMPNO,BTLNBR,BTLNBR_FLAG_W,DATE,TIME,LATITUDE,LONGITUDE,DEPTH,CTDPRS,CTDTMP,CTDSAL,CTDSAL_FLAG_W,CTDOXY,CTDOXY_FLAG_W,OXYGEN,OXYGEN_FLAG_W,SILCAT,SILCAT_FLAG_W,NITRAT,NITRAT_FLAG_W,NITRIT,NITRIT_FLAG_W,PHSPHT,PHSPHT_FLAG_W,TCARBN,TCARBN_FLAG_W,ALKALI,ALKALI_FLAG_W,DELO18,DELO18_FLAG_W,THETA
,,,,,,,,,,,METERS,DBAR,ITS-90,PSS-78,,UMOL/KG,,UMOL/KG,,UMOL/KG,,UMOL/KG,,UMOL/KG,,UMOL/KG,,UMOL/KG,,UMOL/KG,,/MILLE,,DEG C
  06AQ20070728,EurArc,   260,  9,      1,      1,2,20070808,0454, 84.4890,  36.1390, 4109,    202.7,   2.0226,  34.8570,2,   -999.0,9,    297.4,2,     4.77,2,    11.98,2,     0.02,2,     0.81,2,   -999.0,9,   -999.0,9,  -999.00,9,   2.0116
  06AQ20070728,EurArc,   260,  9,      2,      2,2,20070808,0454, 84.4890,  36.1390, 4109,    202.6,   2.0225,  34.8570,2,   -999.0,9,    297.4,2,  -999.00,9,  -999.00,9,  -999.00,9,  -999.00,9,   -999.0,9,   -999.0,9,  -999.00,9,   2.0115
  06AQ20070728,EurArc,   260,  9,      3,      3,2,20070808,0454, 84.4890,  36.1390, 4109,    126.4,   0.0735,  34.5130,2,    302.3,2,    322.6,2,     3.83,2,    10.10,2,     0.03,2,     0.71,2,   -999.0,9,   -999.0,9,     0.02,2,   0.0689
  06AQ20070728,EurArc,   260,  9,      4,      4,2,20070808,0454, 84.4890,  36.1390, 4109,    126.4,   0.1718,  34.4770,2,   -999.0,9,    322.6,2,  -999.00,9,  -999.00,9,  -999.00,9,  -999.00,9,   -999.0,9,   -999.0,9,  -999.00,9,   0.1671
  06AQ20070728,EurArc,   260,  9,      5,      5,2,20070808,0454, 84.4890,  36.1390, 4109,    126.4,   0.2682,  34.4860,2,   -999.0,9,    322.6,2,  -999.00,9,  -999.00,9,  -999.00,9,  -999.00,9,   -999.0,9,   -999.0,9,  -999.00,9,   0.2634
  06AQ20070728,EurArc,   260,  9,      6,      6,2,20070808,0454, 84.4890,  36.1390, 4109,    126.4,   0.2337,  34.4530,2,   -999.0,9,    322.6,2,  -999.00,9,  -999.00,9,  -999.00,9,  -999.00,9,   -999.0,9,   -999.0,9,  -999.00,9,   0.2289
  06AQ20070728,EurArc,   260,  9,      7,      7,2,20070808,0454, 84.4890,  36.1390, 4109,    101.4,  -1.7809,  34.2330,2,    334.4,2,    349.4,2,     2.26,2,     6.60,2,     0.04,2,     0.51,2,   -999.0,9,   -999.0,9,    -0.12,2,  -1.7829
  06AQ20070728,EurArc,   260,  9,      8,      8,2,20070808,0454, 84.4890,  36.1390, 4109,    101.4,  -1.8131,  34.2280,2,   -999.0,9,    349.4,2,  -999.00,9,  -999.00,9,  -999.00,9,  -999.00,9,   -999.0,9,   -999.0,9,  -999.00,9,  -1.8151
  06AQ20070728,EurArc,   260,  9,      9,      9,2,20070808,0454, 84.4890,  36.1390, 4109,    101.4,  -1.8225,  34.2300,2,   -999.0,9,    349.4,2,  -999.00,9,  -999.00,9,  -999.00,9,  -999.00,9,   -999.0,9,   -999.0,9,  -999.00,9,  -1.8245
  06AQ20070728,EurArc,   260,  9,     10,     10,2,20070808,0454, 84.4890,  36.1390, 4109,    101.4,  -1.8251,  34.2250,2,   -999.0,9,    349.4,2,  -999.00,9,  -999.00,9,  -999.00,9,  -999.00,9,   -999.0,9,   -999.0,9,  -999.00,9,  -1.8271
  06AQ20070728,EurArc,   260,  9,     11,     11,2,20070808,0454, 84.4890,  36.1390, 4109,     75.9,  -1.8271,  34.2090,2,   -999.0,9,    353.7,2,     1.95,2,     5.92,2,     0.07,2,     0.47,2,   -999.0,9,   -999.0,9,  -999.00,9,  -1.8286
  06AQ20070728,EurArc,   260,  9,     12,     12,2,20070808,0454, 84.4890,  36.1390, 4109,     75.9,  -1.8291,  34.2040,2,   -999.0,9,    353.7,2,  -999.00,9,  -999.00,9,  -999.00,9,  -999.00,9,   -999.0,9,   -999.0,9,  -999.00,9,  -1.8306
  06AQ20070728,EurArc,   260,  9,     13,     13,2,20070808,0454, 84.4890,  36.1390, 4109,     75.9,  -1.8284,  34.2010,2,   -999.0,9,    353.7,2,  -999.00,9,  -999.00,9,  -999.00,9,  -999.00,9,   -999.0,9,   -999.0,9,  -999.00,9,  -1.8299
  06AQ20070728,EurArc,   260,  9,     14,     14,2,20070808,0454, 84.4890,  36.1390, 4109,     75.9,  -1.8288,  34.1990,2,   -999.0,9,    353.7,2,  -999.00,9,  -999.00,9,  -999.00,9,  -999.00,9,   -999.0,9,   -999.0,9,  -999.00,9,  -1.8303
  06AQ20070728,EurArc,   260,  9,     15,     15,2,20070808,0454, 84.4890,  36.1390, 4109,     50.3,  -1.7959,  34.1680,2,    345.2,2,    360.5,2,     1.80,2,     5.24,2,     0.07,2,     0.43,2,   -999.0,9,   -999.0,9,    -0.07,2,  -1.7969
  06AQ20070728,EurArc,   260,  9,     16,     16,2,20070808,0454, 84.4890,  36.1390, 4109,     50.3,  -1.8039,  34.1730,2,   -999.0,9,    360.5,2,  -999.00,9,  -999.00,9,  -999.00,9,  -999.00,9,   -999.0,9,   -999.0,9,  -999.00,9,  -1.8049
  06AQ20070728,EurArc,   260,  9,     17,     17,2,20070808,0454, 84.4890,  36.1390, 4109,     50.3,  -1.7926,  34.1590,2,   -999.0,9,    360.5,2,  -999.00,9,  -999.00,9,  -999.00,9,  -999.00,9,   -999.0,9,   -999.0,9,  -999.00,9,  -1.7936
  06AQ20070728,EurArc,   260,  9,     18,     18,2,20070808,0454, 84.4890,  36.1390, 4109,     50.3,  -1.7925,  34.1590,2,   -999.0,9,    360.5,2,  -999.00,9,  -999.00,9,  -999.00,9,  -999.00,9,   -999.0,9,   -999.0,9,  -999.00,9,  -1.7935
  06AQ20070728,EurArc,   260,  9,     19,     19,2,20070808,0454, 84.4890,  36.1390, 4109,     25.2,  -1.6902,  33.9930,2,    354.2,2,    364.5,2,     1.69,2,     4.16,2,     0.04,2,     0.37,2,   -999.0,9,   -999.0,9,    -0.12,2,  -1.6907
  06AQ20070728,EurArc,   260,  9,     20,     20,2,20070808,0454, 84.4890,  36.1390, 4109,     25.2,  -1.6942,  34.0040,2,   -999.0,9,    364.5,2,  -999.00,9,  -999.00,9,  -999.00,9,  -999.00,9,   -999.0,9,   -999.0,9,  -999.00,9,  -1.6947
  06AQ20070728,EurArc,   260,  9,     21,     21,2,20070808,0454, 84.4890,  36.1390, 4109,     25.2,  -1.6947,  34.0050,2,   -999.0,9,    364.5,2,  -999.00,9,  -999.00,9,  -999.00,9,  -999.00,9,   -999.0,9,   -999.0,9,  -999.00,9,  -1.6952
  06AQ20070728,EurArc,   260,  9,     22,     22,2,20070808,0454, 84.4890,  36.1390, 4109,     25.2,  -1.6886,  33.9870,2,   -999.0,9,    364.5,2,  -999.00,9,  -999.00,9,  -999.00,9,  -999.00,9,   -999.0,9,   -999.0,9,  -999.00,9,  -1.6891
  06AQ20070728,EurArc,   260,  9,     23,     23,2,20070808,0454, 84.4890,  36.1390, 4109,     10.3,  -1.6628,  33.7630,2,    354.4,2,    364.0,2,     1.62,2,     4.17,2,     0.04,2,     0.36,2,   -999.0,9,   -999.0,9,    -0.19,2,  -1.6630
  06AQ20070728,EurArc,   260,  9,     24,     24,2,20070808,0454, 84.4890,  36.1390, 4109,      2.4,  -1.6600,  33.6650,2,    354.4,2,    362.8,2,     1.58,2,     4.13,2,     0.04,2,     0.36,2,   -999.0,9,   -999.0,9,    -0.11,2,  -1.6600
  06AQ20070728,EurArc,   261,  1,      1,      1,2,20070811,0911, 84.6450,  60.9340, 3854,   3773.0,  -0.6916,  34.9420,2,   -999.0,9,    296.7,2,    11.10,2,    14.87,2,     0.01,2,     1.00,2,   2154.7,3,   2300.0,2,  -999.00,9,  -0.9281
  06AQ20070728,EurArc,   261,  1,      2,      2,2,20070811,0911, 84.6450,  60.9340, 3854,   3362.6,  -0.7360,  34.9400,2,   -999.0,9,    298.5,2,    11.27,2,    14.99,2,     0.01,2,     1.01,2,   2154.3,3,   2298.6,2,  -999.00,9,  -0.9345
  06AQ20070728,EurArc,   261,  1,      3,      3,2,20070811,0911, 84.6450,  60.9340, 3854,   3568.6,  -0.7110,  34.9420,2,   -999.0,9,   -999.0,9,    11.21,2,    14.96,2,     0.01,2,     1.01,2,   2156.3,3,   2300.8,2,  -999.00,9,  -0.9283
  06AQ20070728,EurArc,   261,  1,      4,      4,2,20070811,0911, 84.6450,  60.9340, 3854,   3258.8,  -0.7489,  34.9390,2,   -999.0,9,   -999.0,9,    11.11,2,    15.15,2,     0.01,2,     1.00,2,   2154.4,2,   2298.0,2,  -999.00,9,  -0.9382
  06AQ20070728,EurArc,   261,  1,      5,      5,2,20070811,0911, 84.6450,  60.9340, 3854,   3054.3,  -0.7645,  34.9360,2,   -999.0,9,   -999.0,9,    10.93,2,    14.99,2,     0.01,2,     1.01,2,   2159.7,2,   2298.3,2,  -999.00,9,  -0.9364
  06AQ20070728,EurArc,   261,  1,      6,      6,2,20070811,0911, 84.6450,  60.9340, 3854,   2798.3,  -0.7740,  34.9320,2,   -999.0,9,    299.3,2,    10.87,2,    14.96,2,     0.01,2,     1.01,2,   2155.1,2,   2298.7,2,  -999.00,9,  -0.9253
  06AQ20070728,EurArc,   261,  1,      7,      7,2,20070811,0911, 84.6450,  60.9340, 3854,   2542.5,  -0.7750,  34.9290,2,   -999.0,9,   -999.0,9,    10.84,2,    14.98,2,     0.01,2,     1.01,2,   2160.0,2,   2298.2,2,  -999.00,9,  -0.9069
  06AQ20070728,EurArc,   261,  1,      8,      8,2,20070811,0911, 84.6450,  60.9340, 3854,   2338.5,  -0.7693,  34.9270,2,   -999.0,9,   -999.0,9,    10.75,2,    14.98,2,     0.01,2,     1.01,2,   2160.3,2,   2299.4,2,  -999.00,9,  -0.8867
  06AQ20070728,EurArc,   261,  1,      9,      9,2,20070811,0911, 84.6450,  60.9340, 3854,   2032.4,  -0.7488,  34.9230,2,   -999.0,9,    299.2,2,    10.50,2,    14.88,2,     0.01,2,     1.00,2,   -999.0,9,   -999.0,9,  -999.00,9,  -0.8458
  06AQ20070728,EurArc,   261,  1,     10,     10,2,20070811,0911, 84.6450,  60.9340, 3854,   1777.9,  -0.7052,  34.9200,2,   -999.0,9,    299.0,2,    10.34,2,    14.88,2,     0.01,2,     1.00,2,   2161.3,2,   2297.2,2,  -999.00,9,  -0.7867
  06AQ20070728,EurArc,   261,  1,     11,     11,2,20070811,0911, 84.6450,  60.9340, 3854,   1523.1,  -0.6316,  34.9170,2,   -999.0,9,    299.5,2,     9.92,2,    14.76,2,     0.00,2,     0.99,2,   2160.0,2,   2296.5,2,  -999.00,9,  -0.6989
  06AQ20070728,EurArc,   261,  1,     12,     12,2,20070811,0911, 84.6450,  60.9340, 3854,   1015.2,  -0.2191,  34.9090,2,   -999.0,9,    301.5,2,     7.98,2,    13.93,2,     0.01,2,     0.94,2,   2164.6,2,   2299.2,2,  -999.00,9,  -0.2628
  06AQ20070728,EurArc,   261,  1,     13,     13,2,20070811,0911, 84.6450,  60.9340, 3854,    710.3,   0.5544,  34.9100,2,   -999.0,9,    303.5,2,     6.52,2,    13.30,2,     0.01,2,     0.89,2,   2160.7,2,   2295.1,2,  -999.00,9,   0.5213
  06AQ20070728,EurArc,   261,  1,     14,     14,2,20070811,0911, 84.6450,  60.9340, 3854,    507.7,   1.3702,  34.9300,2,   -999.0,9,    302.6,2,     5.78,2,    13.05,2,     0.01,2,     0.87,2,   2161.8,2,   2299.0,2,  -999.00,9,   1.3440
  06AQ20070728,EurArc,   261,  1,     15,     15,2,20070811,0911, 84.6450,  60.9340, 3854,    355.8,   1.8993,  34.9200,2,   -999.0,9,    300.4,2,     5.33,2,    12.71,2,     0.01,2,     0.84,2,   2156.3,2,   2297.4,2,  -999.00,9,   1.8799
  06AQ20070728,EurArc,   261,  1,     18,     18,2,20070811,0911, 84.6450,  60.9340, 3854,    126.7,   0.2872,  34.5020,2,   -999.0,9,   -999.0,9,     4.74,2,    12.32,2,     0.02,2,     0.82,2,   2146.1,2,   2279.6,2,  -999.00,9,   0.2823
  06AQ20070728,EurArc,   261,  1,     16,     16,2,20070811,0911, 84.6450,  60.9340, 3854,    203.5,   2.2379,  34.8750,2,   -999.0,9,    318.3,3,     4.54,2,    11.59,2,     0.02,2,     0.79,2,   2151.9,2,   2296.3,2,     0.03,2,   2.2265
  06AQ20070728,EurArc,   261,  1,     17,     17,2,20070811,0911, 84.6450,  60.9340, 3854,    152.2,   1.2744,  34.6840,2,   -999.0,9,    305.6,2,     4.28,2,    10.61,2,     0.02,2,     0.74,2,   -999.0,9,   -999.0,9,     0.18,2,   1.2672
  06AQ20070728,EurArc,   261,  1,     19,     19,2,20070811,0911, 84.6450,  60.9340, 3854,    101.6,  -1.1429,  34.2790,2,   -999.0,9,    340.9,2,     3.63,2,     9.15,2,     0.02,2,     0.66,2,   -999.0,9,   -999.0,9,  -999.00,9,  -1.1455
  06AQ20070728,EurArc,   261,  1,     20,     20,2,20070811,0911, 84.6450,  60.9340, 3854,    101.7,  -1.1671,  34.2790,2,   -999.0,9,    340.7,2,     3.58,2,     8.98,2,     0.02,2,     0.65,2,   2134.0,3,   2270.3,2,    -0.09,2,  -1.1697
  06AQ20070728,EurArc,   261,  1,     21,     21,2,20070811,0911, 84.6450,  60.9340, 3854,     76.4,  -1.8357,  34.1840,2,   -999.0,9,    346.7,2,     2.35,2,     6.73,2,     0.03,2,     0.52,2,   -999.0,9,   -999.0,9,    -0.16,2,  -1.8372
  06AQ20070728,EurArc,   261,  1,     22,     22,2,20070811,0911, 84.6450,  60.9340, 3854,     50.7,  -1.8221,  34.1620,2,   -999.0,9,    352.1,2,     2.27,2,     6.41,2,     0.07,2,     0.50,2,   -999.0,9,   -999.0,9,    -0.25,2,  -1.8231
  06AQ20070728,EurArc,   261,  1,     23,     23,2,20070811,0911, 84.6450,  60.9340, 3854,     25.7,  -1.6970,  33.9840,2,   -999.0,9,    371.2,2,     2.22,2,     4.97,2,     0.05,2,     0.42,2,   -999.0,9,   -999.0,9,    -0.39,2,  -1.6975
  06AQ20070728,EurArc,   261,  1,     24,     24,2,20070811,0911, 84.6450,  60.9340, 3854,      4.1,  -1.5897,  33.3820,2,   -999.0,9,    386.0,2,     1.72,2,     2.83,2,     0.02,2,     0.28,2,   -999.0,9,   -999.0,9,    -0.30,2,  -1.5898
  06AQ20070728,EurArc,   263,  1,      1,      1,2,20070811,2210, 84.1720,  60.9980, 3633,   3698.4,  -0.6977,  34.9410,2,   -999.0,9,    295.1,2,    11.35,2,    14.63,2,     0.01,2,     1.01,2,   -999.0,9,   -999.0,9,  -999.00,9,  -0.9272
  06AQ20070728,EurArc,   263,  1,      2,      2,2,20070811,2210, 84.1720,  60.9980, 3633,   3566.1,  -0.7102,  34.9410,2,   -999.0,9,    296.0,2,    11.38,2,    14.68,2,     0.01,2,     1.01,2,   -999.0,9,   -999.0,9,  -999.00,9,  -0.9273
  06AQ20070728,EurArc,   263,  1,      3,      3,2,20070811,2210, 84.1720,  60.9980, 3633,   3053.9,  -0.7653,  34.9350,2,   -999.0,9,    298.1,2,    11.04,2,    14.65,2,     0.01,2,     1.01,2,   -999.0,9,   -999.0,9,  -999.00,9,  -0.9371
  06AQ20070728,EurArc,   263,  1,      4,      4,2,20070811,2210, 84.1720,  60.9980, 3633,   2542.6,  -0.7800,  34.9280,2,   -999.0,9,    298.7,2,    10.93,2,    14.70,2,     0.01,2,     1.01,2,   -999.0,9,   -999.0,9,  -999.00,9,  -0.9118
  06AQ20070728,EurArc,   263,  1,      5,      5,2,20070811,2210, 84.1720,  60.9980, 3633,   2032.1,  -0.7571,  34.9210,2,   -999.0,9,    298.7,2,    10.79,2,    14.67,2,     0.01,2,     1.01,2,   -999.0,9,   -999.0,9,  -999.00,9,  -0.8539
  06AQ20070728,EurArc,   263,  1,      6,      6,2,20070811,2210, 84.1720,  60.9980, 3633,   1777.1,  -0.7180,  34.9180,2,   -999.0,9,    298.8,2,    10.58,2,    14.60,2,     0.01,2,     1.00,2,   -999.0,9,   -999.0,9,  -999.00,9,  -0.7992
  06AQ20070728,EurArc,   263,  1,      7,      7,2,20070811,2210, 84.1720,  60.9980, 3633,   1521.8,  -0.6488,  34.9150,2,   -999.0,9,    299.7,2,    10.18,2,    14.54,2,     0.01,2,     1.00,2,   -999.0,9,   -999.0,9,  -999.00,9,  -0.7158
  06AQ20070728,EurArc,   263,  1,      8,      8,2,20070811,2210, 84.1720,  60.9980, 3633,   1267.7,  -0.5059,  34.9120,2,   -999.0,9,    300.8,2,     9.38,2,    14.22,2,     0.01,2,     0.98,2,   -999.0,9,   -999.0,9,  -999.00,9,  -0.5603
  06AQ20070728,EurArc,   263,  1,      9,      9,2,20070811,2210, 84.1720,  60.9980, 3633,   1013.4,  -0.1970,  34.9090,2,   -999.0,9,    301.8,2,     8.24,2,    13.82,2,     0.00,2,     0.95,2,   -999.0,9,   -999.0,9,  -999.00,9,  -0.2407
  06AQ20070728,EurArc,   263,  1,     10,     10,2,20070811,2210, 84.1720,  60.9980, 3633,    760.3,   0.5433,  34.9180,2,   -999.0,9,    303.1,2,     6.88,2,    13.33,2,     0.01,2,     0.91,2,   -999.0,9,   -999.0,9,  -999.00,9,   0.5076
  06AQ20070728,EurArc,   263,  1,     11,     11,2,20070811,2210, 84.1720,  60.9980, 3633,    607.7,   1.3189,  34.9410,2,   -999.0,9,    305.0,2,     6.05,2,    12.82,2,     0.01,2,     0.88,2,   -999.0,9,   -999.0,9,  -999.00,9,   1.2873
  06AQ20070728,EurArc,   263,  1,     12,     12,2,20070811,2210, 84.1720,  60.9980, 3633,    506.3,   1.9489,  34.9670,2,   -999.0,9,    305.0,2,     5.56,2,    12.63,2,     0.01,2,     0.86,2,   -999.0,9,   -999.0,9,  -999.00,9,   1.9204
  06AQ20070728,EurArc,   263,  1,     13,     13,2,20070811,2210, 84.1720,  60.9980, 3633,    405.0,   2.4002,  34.9830,2,   -999.0,9,    302.9,2,     5.25,2,    12.48,2,     0.01,2,     0.85,2,   -999.0,9,   -999.0,9,  -999.00,9,   2.3762
  06AQ20070728,EurArc,   263,  1,     14,     14,2,20070811,2210, 84.1720,  60.9980, 3633,    303.9,   2.6687,  34.9750,2,   -999.0,9,    301.6,2,     5.01,2,    12.31,2,     0.01,2,     0.83,2,   -999.0,9,   -999.0,9,  -999.00,9,   2.6503
  06AQ20070728,EurArc,   263,  1,     15,     15,2,20070811,2210, 84.1720,  60.9980, 3633,    253.3,   2.7112,  34.9570,2,   -999.0,9,    299.7,2,     4.85,2,    12.22,2,     0.01,2,     0.83,2,   -999.0,9,   -999.0,9,  -999.00,9,   2.6959
  06AQ20070728,EurArc,   263,  1,     16,     16,2,20070811,2210, 84.1720,  60.9980, 3633,    202.3,   2.7066,  34.9240,2,   -999.0,9,    298.9,2,     4.62,2,    12.03,2,     0.01,2,     0.81,2,   -999.0,9,   -999.0,9,  -999.00,9,   2.6945
  06AQ20070728,EurArc,   263,  1,     17,     17,2,20070811,2210, 84.1720,  60.9980, 3633,    152.1,   2.5531,  34.8570,2,    286.5,2,    299.0,2,     4.38,2,    11.55,2,     0.02,2,     0.79,2,   -999.0,9,   -999.0,9,     0.20,2,   2.5443
  06AQ20070728,EurArc,   263,  1,     18,     18,2,20070811,2210, 84.1720,  60.9980, 3633,    126.5,   2.0750,  34.7460,2,    289.4,2,    303.2,2,     4.01,2,    10.96,2,     0.02,2,     0.75,2,   -999.0,9,   -999.0,9,     0.22,2,   2.0682
  06AQ20070728,EurArc,   263,  1,     19,     19,2,20070811,2210, 84.1720,  60.9980, 3633,    100.2,   0.2621,  34.4580,2,    307.2,2,    322.6,2,     3.32,2,     9.83,2,     0.02,2,     0.69,2,   -999.0,9,   -999.0,9,     0.14,2,   0.2583
  06AQ20070728,EurArc,   263,  1,     20,     20,2,20070811,2210, 84.1720,  60.9980, 3633,     76.2,  -1.7236,  34.2170,2,    322.5,2,    337.9,2,     2.88,2,     8.13,2,     0.03,2,     0.60,2,   -999.0,9,   -999.0,9,     0.09,2,  -1.7251
  06AQ20070728,EurArc,   263,  1,     21,     21,2,20070811,2210, 84.1720,  60.9980, 3633,     50.9,  -1.7880,  34.1830,2,    328.2,2,    342.6,2,     2.64,2,     7.40,2,     0.06,2,     0.56,2,   -999.0,9,   -999.0,9,     0.13,2,  -1.7890
  06AQ20070728,EurArc,   263,  1,     22,     22,2,20070811,2210, 84.1720,  60.9980, 3633,     24.6,  -1.6812,  34.0100,2,    339.4,2,    352.2,2,     2.36,2,     5.99,2,     0.03,2,     0.49,2,   -999.0,9,   -999.0,9,     0.08,2,  -1.6817
  06AQ20070728,EurArc,   263,  1,     23,     23,2,20070811,2210, 84.1720,  60.9980, 3633,     20.0,  -1.6628,  33.8980,2,    339.2,2,    350.3,2,     2.34,2,     5.90,2,     0.03,2,     0.48,2,   -999.0,9,   -999.0,9,     0.01,2,  -1.6632
  06AQ20070728,EurArc,   263,  1,     24,     24,2,20070811,2210, 84.1720,  60.9980, 3633,      9.9,  -1.6210,  33.7800,2,    339.0,2,    350.1,2,     2.31,2,     5.84,2,     0.04,2,     0.48,2,   -999.0,9,   -999.0,9,    -0.02,2,  -1.6212