BOTTLE,20220921CCHSIOAMB
EXPOCODE,SECT_ID,STNNBR,CASTNO,SAMPNO,BTLNBR,BTLNBR_FLAG_W,DATE,TIME,LATITUDE,LONGITUDE,DEPTH,CTDPRS,CTDTMP,CTDSAL,CTDSAL_FLAG_W,CTDOXY,CTDOXY_FLAG_W,OXYGEN,OXYGEN_FLAG_W,SILCAT,SILCAT_FLAG_W,NITRAT,NITRAT_FLAG_W,NITRIT,NITRIT_FLAG_W,PHSPHT,PHSPHT_FLAG_W,TCARBN,TCARBN_FLAG_W,ALKALI,ALKALI_FLAG_W,DELO18,DELO18_FLAG_W,THETA
,,,,,,,,,,,METERS,DBAR,ITS-90,PSS-78,,UMOL/KG,,UMOL/KG,,UMOL/KG,,UMOL/KG,,UMOL/KG,,UMOL/KG,,UMOL/KG,,UMOL/KG,,/MILLE,,DEG C
  06AQ20070728,EurArc,   228,  2,      1,      1,2,20070730,1043, 75.0000,  33.9980,  180,    171.6,   0.2385,  35.0060,2,   -999.0,9,    314.8,2,     6.66,2,     9.54,2,     0.41,2,     0.90,2,   -999.0,9,   -999.0,9,  -999.00,9,   0.2317
  06AQ20070728,EurArc,   228,  2,      2,      2,2,20070730,1043, 75.0000,  33.9980,  180,    162.2,   0.2366,  35.0060,2,   -999.0,9,    315.1,2,     6.66,2,     9.56,2,     0.41,2,     0.90,2,   -999.0,9,   -999.0,9,  -999.00,9,   0.2302
  06AQ20070728,EurArc,   228,  2,      3,      3,2,20070730,1043, 75.0000,  33.9980,  180,    151.7,   0.2363,  35.0060,2,    303.6,2,    315.9,2,     6.66,2,     9.58,2,     0.42,2,     0.90,2,   -999.0,9,   -999.0,9,  -999.00,9,   0.2304
  06AQ20070728,EurArc,   228,  2,      4,      4,2,20070730,1043, 75.0000,  33.9980,  180,    126.3,   0.5638,  35.0140,2,    308.7,2,    323.7,2,     5.64,2,     9.56,2,     0.35,2,     0.86,2,   -999.0,9,   -999.0,9,     0.14,2,   0.5585
  06AQ20070728,EurArc,   228,  2,      5,      5,2,20070730,1043, 75.0000,  33.9980,  180,    100.7,   1.3464,  35.0390,2,    317.9,2,    333.7,2,     2.87,2,     6.18,2,     0.26,2,     0.66,2,   -999.0,9,   -999.0,9,     0.20,2,   1.3416
  06AQ20070728,EurArc,   228,  2,      6,      6,2,20070730,1043, 75.0000,  33.9980,  180,    100.8,   1.3389,  35.0480,2,   -999.0,9,    333.7,2,  -999.00,9,  -999.00,9,  -999.00,9,  -999.00,9,   -999.0,9,   -999.0,9,  -999.00,9,   1.3341
  06AQ20070728,EurArc,   228,  2,      7,      7,2,20070730,1043, 75.0000,  33.9980,  180,     75.1,   2.1894,  35.0760,2,    318.1,2,    333.9,2,     2.45,2,     5.41,2,     0.24,2,     0.59,2,   -999.0,9,   -999.0,9,     0.23,2,   2.1853
  06AQ20070728,EurArc,   228,  2,      8,      8,2,20070730,1043, 75.0000,  33.9980,  180,     50.4,   2.6538,  35.0910,2,    314.7,2,    336.2,2,     3.04,3,     7.27,3,     0.29,2,     0.66,3,   -999.0,9,   -999.0,9,     0.22,2,   2.6508
  06AQ20070728,EurArc,   228,  2,      9,      9,2,20070730,1043, 75.0000,  33.9980,  180,     40.1,   3.0167,  35.0870,2,   -999.0,9,    341.0,2,  -999.00,9,  -999.00,9,  -999.00,9,  -999.00,9,   -999.0,9,   -999.0,9,  -999.00,9,   3.0142
  06AQ20070728,EurArc,   228,  2,     10,     10,2,20070730,1043, 75.0000,  33.9980,  180,     40.1,   2.9983,  35.0880,2,   -999.0,9,    341.0,2,  -999.00,9,  -999.00,9,  -999.00,9,  -999.00,9,   -999.0,9,   -999.0,9,  -999.00,9,   2.9958
  06AQ20070728,EurArc,   228,  2,     11,     11,2,20070730,1043, 75.0000,  33.9980,  180,     40.2,   3.0443,  35.0880,2,    324.6,2,    341.1,2,  -999.00,9,  -999.00,9,  -999.00,9,  -999.00,9,   -999.0,9,   -999.0,9,  -999.00,9,   3.0418
  06AQ20070728,EurArc,   228,  2,     12,     12,2,20070730,1043, 75.0000,  33.9980,  180,     40.2,   3.0443,  35.0890,2,   -999.0,9,    341.1,2,  -999.00,9,  -999.00,9,  -999.00,9,  -999.00,9,   -999.0,9,   -999.0,9,  -999.00,9,   3.0418
  06AQ20070728,EurArc,   228,  2,     13,     13,2,20070730,1043, 75.0000,  33.9980,  180,     40.0,   3.0352,  35.0890,2,   -999.0,9,    341.0,2,  -999.00,9,  -999.00,9,  -999.00,9,  -999.00,9,   -999.0,9,   -999.0,9,  -999.00,9,   3.0327
  06AQ20070728,EurArc,   228,  2,     14,     14,2,20070730,1043, 75.0000,  33.9980,  180,     40.0,   3.0445,  35.0900,2,   -999.0,9,    341.0,2,  -999.00,9,  -999.00,9,  -999.00,9,  -999.00,9,   -999.0,9,   -999.0,9,  -999.00,9,   3.0420
  06AQ20070728,EurArc,   228,  2,     15,     15,2,20070730,1043, 75.0000,  33.9980,  180,     40.1,   3.0455,  35.0900,2,   -999.0,9,    341.0,2,  -999.00,9,  -999.00,9,  -999.00,9,  -999.00,9,   -999.0,9,   -999.0,9,  -999.00,9,   3.0430
  06AQ20070728,EurArc,   228,  2,     16,     16,2,20070730,1043, 75.0000,  33.9980,  180,     29.5,   3.4873,  35.0590,2,    330.5,2,    337.7,2,     0.70,2,     0.69,2,     0.06,2,     0.21,2,   -999.0,9,   -999.0,9,  -999.00,9,   3.4854
  06AQ20070728,EurArc,   228,  2,     17,     17,2,20070730,1043, 75.0000,  33.9980,  180,     29.5,   3.4827,  35.0600,2,   -999.0,9,    337.7,2,  -999.00,9,  -999.00,9,  -999.00,9,  -999.00,9,   -999.0,9,   -999.0,9,  -999.00,9,   3.4808
  06AQ20070728,EurArc,   228,  2,     18,     18,2,20070730,1043, 75.0000,  33.9980,  180,     24.7,   3.9915,  35.0280,2,    328.1,2,    335.1,2,     0.61,2,     0.52,2,     0.06,2,     0.18,2,   -999.0,9,   -999.0,9,     0.23,2,   3.9898
  06AQ20070728,EurArc,   228,  2,     19,     19,2,20070730,1043, 75.0000,  33.9980,  180,     24.6,   3.9911,  35.0270,2,   -999.0,9,    335.2,2,  -999.00,9,  -999.00,9,  -999.00,9,  -999.00,9,   -999.0,9,   -999.0,9,  -999.00,9,   3.9894
  06AQ20070728,EurArc,   228,  2,     20,     20,2,20070730,1043, 75.0000,  33.9980,  180,     24.7,   3.9848,  35.0310,2,   -999.0,9,    335.1,2,  -999.00,9,  -999.00,9,  -999.00,9,  -999.00,9,   -999.0,9,   -999.0,9,  -999.00,9,   3.9831
  06AQ20070728,EurArc,   228,  2,     21,     21,2,20070730,1043, 75.0000,  33.9980,  180,     24.7,   3.9774,  35.0300,2,   -999.0,9,    335.1,2,  -999.00,9,  -999.00,9,  -999.00,9,  -999.00,9,   -999.0,9,   -999.0,9,  -999.00,9,   3.9757
  06AQ20070728,EurArc,   228,  2,     22,     22,2,20070730,1043, 75.0000,  33.9980,  180,     24.6,   3.9750,  35.0300,2,   -999.0,9,    335.2,2,  -999.00,9,  -999.00,9,  -999.00,9,  -999.00,9,   -999.0,9,   -999.0,9,  -999.00,9,   3.9733
  06AQ20070728,EurArc,   228,  2,     23,     23,2,20070730,1043, 75.0000,  33.9980,  180,      9.7,   6.3054,  34.9770,2,    318.7,2,    320.0,2,     0.36,2,  -999.00,9,     0.02,2,     0.06,2,   -999.0,9,   -999.0,9,  -999.00,9,   6.3046
  06AQ20070728,EurArc,   228,  2,     24,     24,2,20070730,1043, 75.0000,  33.9980,  180,      3.3,   6.5354,  35.0040,2,    310.8,2,    319.9,2,     0.37,2,  -999.00,9,     0.03,2,     0.04,2,   -999.0,9,   -999.0,9,     0.19,2,   6.5351
  06AQ20070728,EurArc,   229,  1,      1,      1,2,20070730,1325, 75.2510,  34.0010,  157,    152.9,   0.7101,  35.0290,2,   -999.0,9,    315.3,2,     5.76,2,     8.52,2,     0.32,2,     0.87,2,   -999.0,9,   -999.0,9,  -999.00,9,   0.7035
  06AQ20070728,EurArc,   229,  1,      2,      2,2,20070730,1325, 75.2510,  34.0010,  157,    140.0,   1.0803,  35.0370,2,   -999.0,9,    314.8,2,     5.65,2,     8.51,2,     0.31,2,     0.86,2,   -999.0,9,   -999.0,9,  -999.00,9,   1.0738
  06AQ20070728,EurArc,   229,  1,      3,      3,2,20070730,1325, 75.2510,  34.0010,  157,    126.1,   1.7731,  35.0640,2,   -999.0,9,    315.7,2,     4.96,2,     8.75,2,     0.27,2,     0.80,2,   -999.0,9,   -999.0,9,  -999.00,9,   1.7666
  06AQ20070728,EurArc,   229,  1,      4,      4,2,20070730,1325, 75.2510,  34.0010,  157,    102.0,   2.1257,  35.0780,2,   -999.0,9,    314.8,2,     4.33,2,     8.66,2,     0.22,2,     0.74,2,   -999.0,9,   -999.0,9,  -999.00,9,   2.1201
  06AQ20070728,EurArc,   229,  1,      5,      5,2,20070730,1325, 75.2510,  34.0010,  157,     75.5,   2.7510,  35.0920,2,   -999.0,9,    320.9,2,     3.38,2,     8.19,2,     0.29,2,     0.69,2,   -999.0,9,   -999.0,9,  -999.00,9,   2.7465
  06AQ20070728,EurArc,   229,  1,      6,      6,2,20070730,1325, 75.2510,  34.0010,  157,     50.6,   3.4069,  35.1050,2,   -999.0,9,    312.8,2,     4.07,3,    10.16,3,     0.22,2,     0.73,3,   -999.0,9,   -999.0,9,  -999.00,9,   3.4036
  06AQ20070728,EurArc,   229,  1,      7,      7,2,20070730,1325, 75.2510,  34.0010,  157,     35.4,   4.3767,  35.0480,2,   -999.0,9,    321.6,2,     1.46,2,     2.95,2,     0.11,2,     0.35,2,   -999.0,9,   -999.0,9,  -999.00,9,   4.3741
  06AQ20070728,EurArc,   229,  1,      8,      8,2,20070730,1325, 75.2510,  34.0010,  157,     35.4,   4.3219,  35.0600,2,   -999.0,9,    321.6,2,     1.06,2,     1.46,2,     0.06,2,     0.23,2,   -999.0,9,   -999.0,9,  -999.00,9,   4.3194
  06AQ20070728,EurArc,   229,  1,      9,      9,2,20070730,1325, 75.2510,  34.0010,  157,     25.5,   4.5758,  35.0240,2,   -999.0,9,    328.3,2,     0.77,2,     0.91,2,     0.05,2,     0.19,2,   -999.0,9,   -999.0,9,  -999.00,9,   4.5739
  06AQ20070728,EurArc,   229,  1,     10,     10,2,20070730,1325, 75.2510,  34.0010,  157,     10.3,   5.7481,  35.0120,2,   -999.0,9,    326.3,2,     0.53,2,     0.10,2,     0.03,2,     0.07,2,   -999.0,9,   -999.0,9,  -999.00,9,   5.7472
  06AQ20070728,EurArc,   229,  1,     11,     11,2,20070730,1325, 75.2510,  34.0010,  157,      2.4,   6.0583,  35.0180,2,   -999.0,9,    327.2,2,     0.49,2,     0.02,2,     0.02,2,     0.05,2,   -999.0,9,   -999.0,9,  -999.00,9,   6.0581
  06AQ20070728,EurArc,   230,  1,      1,      1,2,20070730,1528, 75.5000,  34.0060,  186,    182.5,   1.7972,  35.0670,2,   -999.0,9,    309.6,2,     6.33,2,    10.21,2,     0.20,2,     0.84,2,   -999.0,9,   -999.0,9,  -999.00,9,   1.7876
  06AQ20070728,EurArc,   230,  1,      2,      2,2,20070730,1528, 75.5000,  34.0060,  186,    171.5,   1.9040,  35.0670,2,   -999.0,9,    311.1,2,     6.21,2,    10.31,2,     0.20,2,     0.84,2,   -999.0,9,   -999.0,9,  -999.00,9,   1.8948
  06AQ20070728,EurArc,   230,  1,      3,      3,2,20070730,1528, 75.5000,  34.0060,  186,    151.7,   2.1050,  35.0740,2,   -999.0,9,    320.5,2,     5.77,2,    10.55,2,     0.18,2,     0.82,2,   -999.0,9,   -999.0,9,  -999.00,9,   2.0967
  06AQ20070728,EurArc,   230,  1,      4,      4,2,20070730,1528, 75.5000,  34.0060,  186,    126.3,   2.5606,  35.0860,2,   -999.0,9,    314.7,2,     3.68,2,     8.88,2,     0.23,2,     0.72,2,   -999.0,9,   -999.0,9,  -999.00,9,   2.5532
  06AQ20070728,EurArc,   230,  1,      5,      5,2,20070730,1528, 75.5000,  34.0060,  186,    101.1,   2.9892,  35.0970,2,   -999.0,9,    317.0,2,     3.50,2,     9.05,2,     0.31,2,     0.74,2,   -999.0,9,   -999.0,9,  -999.00,9,   2.9830
  06AQ20070728,EurArc,   230,  1,      6,      6,2,20070730,1528, 75.5000,  34.0060,  186,     75.5,   3.1814,  35.0980,2,   -999.0,9,    324.3,2,     2.77,2,     6.91,2,     0.24,2,     0.66,2,   -999.0,9,   -999.0,9,  -999.00,9,   3.1766
  06AQ20070728,EurArc,   230,  1,      7,      7,2,20070730,1528, 75.5000,  34.0060,  186,     50.3,   3.6776,  35.0910,2,   -999.0,9,    333.4,2,     1.46,2,     3.01,2,     0.10,2,     0.41,2,   -999.0,9,   -999.0,9,  -999.00,9,   3.6742
  06AQ20070728,EurArc,   230,  1,      8,      8,2,20070730,1528, 75.5000,  34.0060,  186,     25.4,   5.0555,  35.0210,2,   -999.0,9,    323.5,2,     0.56,2,     0.47,2,     0.05,2,     0.13,2,   -999.0,9,   -999.0,9,  -999.00,9,   5.0535
  06AQ20070728,EurArc,   230,  1,      9,      9,2,20070730,1528, 75.5000,  34.0060,  186,     10.2,   6.2635,  35.0350,2,   -999.0,9,    323.2,2,     0.50,2,     0.08,2,     0.03,2,     0.08,2,   -999.0,9,   -999.0,9,  -999.00,9,   6.2626
  06AQ20070728,EurArc,   230,  1,     10,     10,2,20070730,1528, 75.5000,  34.0060,  186,      3.1,   6.3405,  35.0350,2,   -999.0,9,    323.0,2,     0.55,2,     0.05,2,     0.04,2,     0.08,2,   -999.0,9,   -999.0,9,  -999.00,9,   6.3402
  06AQ20070728,EurArc,   231,  1,      1,      1,2,20070730,1727, 75.7490,  34.0000,  211,    207.2,   1.5058,  35.0590,2,   -999.0,9,    305.1,2,     7.27,2,    10.75,2,     0.17,2,     0.90,2,   -999.0,9,   -999.0,9,  -999.00,9,   1.4954
  06AQ20070728,EurArc,   231,  1,      2,      2,2,20070730,1727, 75.7490,  34.0000,  211,    198.2,   1.5107,  35.0590,2,   -999.0,9,    306.0,2,     7.18,2,    10.76,2,     0.17,2,     0.90,2,   -999.0,9,   -999.0,9,  -999.00,9,   1.5007
  06AQ20070728,EurArc,   231,  1,      3,      3,2,20070730,1727, 75.7490,  34.0000,  211,    177.0,   1.7000,  35.0700,2,   -999.0,9,    313.1,2,     5.64,2,    11.06,2,     0.17,2,     0.85,2,   -999.0,9,   -999.0,9,  -999.00,9,   1.6908
  06AQ20070728,EurArc,   231,  1,      4,      4,2,20070730,1727, 75.7490,  34.0000,  211,    152.2,   2.3808,  35.0860,2,    305.2,2,    314.2,2,     4.32,2,    10.49,2,     0.19,2,     0.78,2,   -999.0,9,   -999.0,9,     0.15,2,   2.3721
  06AQ20070728,EurArc,   231,  1,      5,      5,2,20070730,1727, 75.7490,  34.0000,  211,    126.2,   2.5838,  35.0780,2,    302.3,2,    313.0,2,     4.38,2,    10.84,2,     0.23,2,     0.79,2,   -999.0,9,   -999.0,9,  -999.00,9,   2.5764
  06AQ20070728,EurArc,   231,  1,      6,      6,2,20070730,1727, 75.7490,  34.0000,  211,    101.5,   2.6984,  35.0670,2,    302.0,2,    317.1,2,     3.44,2,     8.40,2,     0.31,2,     0.77,2,   -999.0,9,   -999.0,9,     0.28,2,   2.6924
  06AQ20070728,EurArc,   231,  1,      7,      7,2,20070730,1727, 75.7490,  34.0000,  211,     76.4,   3.1163,  35.0910,2,    304.9,2,    318.2,2,     3.05,2,     7.50,2,     0.27,2,     0.74,2,   -999.0,9,   -999.0,9,  -999.00,9,   3.1115
  06AQ20070728,EurArc,   231,  1,      8,      8,2,20070730,1727, 75.7490,  34.0000,  211,     50.6,   3.3731,  35.0850,2,    317.0,2,    326.8,2,     2.14,2,     4.79,2,     0.17,2,     0.56,2,   -999.0,9,   -999.0,9,     0.33,2,   3.3698
  06AQ20070728,EurArc,   231,  1,      9,      9,2,20070730,1727, 75.7490,  34.0000,  211,     25.3,   4.7611,  35.0050,2,    318.5,2,    331.4,2,     0.82,2,     0.99,2,     0.06,2,     0.19,2,   -999.0,9,   -999.0,9,     0.22,2,   4.7592
  06AQ20070728,EurArc,   231,  1,     10,     10,2,20070730,1727, 75.7490,  34.0000,  211,     10.2,   4.9982,  35.0010,2,    319.5,2,    325.8,2,     0.67,2,     0.46,2,     0.03,2,     0.13,2,   -999.0,9,   -999.0,9,  -999.00,9,   4.9974
  06AQ20070728,EurArc,   231,  1,     11,     11,2,20070730,1727, 75.7490,  34.0000,  211,      3.4,   5.2769,  34.9880,2,    317.9,2,    324.8,2,     0.67,2,     0.26,2,     0.03,2,     0.10,2,   -999.0,9,   -999.0,9,     0.20,2,   5.2766
  06AQ20070728,EurArc,   232,  1,      1,      1,2,20070730,1931, 76.0000,  33.9980,  274,    266.7,   1.4629,  35.0560,2,   -999.0,9,    307.6,2,     7.59,2,    11.09,2,     0.18,2,     0.87,2,   -999.0,9,   -999.0,9,  -999.00,9,   1.4494
  06AQ20070728,EurArc,   232,  1,      2,      2,2,20070730,1931, 76.0000,  33.9980,  274,    266.7,   1.4629,  35.0570,2,   -999.0,9,    307.6,2,     7.62,2,    11.12,2,     0.18,2,     0.87,2,   -999.0,9,   -999.0,9,  -999.00,9,   1.4494
  06AQ20070728,EurArc,   232,  1,      3,      3,2,20070730,1931, 76.0000,  33.9980,  274,    255.6,   1.5221,  35.0590,2,   -999.0,9,    310.5,2,     7.39,2,    11.09,2,     0.18,2,     0.86,2,   -999.0,9,   -999.0,9,  -999.00,9,   1.5091
  06AQ20070728,EurArc,   232,  1,      4,      4,2,20070730,1931, 76.0000,  33.9980,  274,    255.5,   1.5197,  35.0590,2,   -999.0,9,    310.5,2,     7.37,2,    11.12,2,     0.18,2,     0.86,2,   -999.0,9,   -999.0,9,  -999.00,9,   1.5067
  06AQ20070728,EurArc,   232,  1,      5,      5,2,20070730,1931, 76.0000,  33.9980,  274,    202.0,   2.3373,  35.0830,2,   -999.0,9,    312.6,2,     4.56,2,    10.91,2,     0.13,2,     0.79,2,   -999.0,9,   -999.0,9,  -999.00,9,   2.3257
  06AQ20070728,EurArc,   232,  1,      6,      6,2,20070730,1931, 76.0000,  33.9980,  274,    202.0,   2.3481,  35.0810,2,   -999.0,9,    312.6,2,     4.51,2,    10.87,2,     0.12,2,     0.78,2,   -999.0,9,   -999.0,9,  -999.00,9,   2.3365
  06AQ20070728,EurArc,   232,  1,      7,      7,2,20070730,1931, 76.0000,  33.9980,  274,    176.5,   2.6319,  35.0870,2,   -999.0,9,    313.7,2,     4.23,2,    10.78,2,     0.18,2,     0.78,2,   -999.0,9,   -999.0,9,  -999.00,9,   2.6214
  06AQ20070728,EurArc,   232,  1,      8,      8,2,20070730,1931, 76.0000,  33.9980,  274,    176.5,   2.6149,  35.0880,2,   -999.0,9,    313.7,2,     4.22,2,    10.83,2,     0.16,2,     0.77,2,   -999.0,9,   -999.0,9,  -999.00,9,   2.6044
  06AQ20070728,EurArc,   232,  1,      9,      9,2,20070730,1931, 76.0000,  33.9980,  274,    151.9,   2.6878,  35.0800,2,   -999.0,9,    312.0,2,     4.41,2,    10.76,2,     0.23,2,     0.78,2,   -999.0,9,   -999.0,9,  -999.00,9,   2.6787
  06AQ20070728,EurArc,   232,  1,     10,     10,2,20070730,1931, 76.0000,  33.9980,  274,    151.9,   2.6962,  35.0800,2,   -999.0,9,    312.0,2,     4.40,2,    10.78,2,     0.23,2,     0.78,2,   -999.0,9,   -999.0,9,  -999.00,9,   2.6871
  06AQ20070728,EurArc,   232,  1,     11,     11,2,20070730,1931, 76.0000,  33.9980,  274,    126.1,   2.8003,  35.0760,2,   -999.0,9,    308.7,2,     4.14,2,    10.01,2,     0.29,2,     0.80,2,   -999.0,9,   -999.0,9,  -999.00,9,   2.7927
  06AQ20070728,EurArc,   232,  1,     12,     12,2,20070730,1931, 76.0000,  33.9980,  274,    126.1,   2.8006,  35.0760,2,   -999.0,9,    308.7,2,     4.14,2,    10.04,2,     0.30,2,     0.81,2,   -999.0,9,   -999.0,9,  -999.00,9,   2.7930
  06AQ20070728,EurArc,   232,  1,     13,     13,2,20070730,1931, 76.0000,  33.9980,  274,    100.9,   2.8322,  35.0540,2,   -999.0,9,    319.7,2,     2.52,2,     5.94,3,     0.21,2,     0.68,2,   -999.0,9,   -999.0,9,  -999.00,9,   2.8261
  06AQ20070728,EurArc,   232,  1,     14,     14,2,20070730,1931, 76.0000,  33.9980,  274,    100.9,   2.8317,  35.0540,2,   -999.0,9,    319.7,2,     2.49,2,     5.83,2,     0.20,2,     0.68,2,   -999.0,9,   -999.0,9,  -999.00,9,   2.8256
  06AQ20070728,EurArc,   232,  1,     15,     15,2,20070730,1931, 76.0000,  33.9980,  274,     75.6,   3.3198,  35.0960,2,   -999.0,9,    324.9,2,     2.73,2,     6.33,2,     0.22,2,     0.65,2,   -999.0,9,   -999.0,9,  -999.00,9,   3.3150
  06AQ20070728,EurArc,   232,  1,     16,     16,2,20070730,1931, 76.0000,  33.9980,  274,     75.7,   3.3069,  35.0960,2,   -999.0,9,    324.9,2,     2.72,2,     6.32,2,     0.22,2,     0.65,2,   -999.0,9,   -999.0,9,  -999.00,9,   3.3021
  06AQ20070728,EurArc,   232,  1,     17,     17,2,20070730,1931, 76.0000,  33.9980,  274,     47.2,   3.6052,  35.0890,2,   -999.0,9,    321.7,2,     1.97,2,     4.29,2,     0.14,2,     0.53,2,   -999.0,9,   -999.0,9,  -999.00,9,   3.6021
  06AQ20070728,EurArc,   232,  1,     18,     18,2,20070730,1931, 76.0000,  33.9980,  274,     47.2,   3.5900,  35.0920,2,   -999.0,9,    321.7,2,     1.95,2,     4.22,2,     0.13,2,     0.53,2,   -999.0,9,   -999.0,9,  -999.00,9,   3.5869
  06AQ20070728,EurArc,   232,  1,     19,     19,2,20070730,1931, 76.0000,  33.9980,  274,     25.0,   4.5260,  35.0210,2,   -999.0,9,    322.6,2,     0.87,2,     0.87,2,     0.05,2,     0.22,2,   -999.0,9,   -999.0,9,  -999.00,9,   4.5242
  06AQ20070728,EurArc,   232,  1,     20,     20,2,20070730,1931, 76.0000,  33.9980,  274,     25.1,   4.5595,  35.0230,2,   -999.0,9,    322.4,2,     0.83,2,     0.96,2,     0.03,2,     0.20,2,   -999.0,9,   -999.0,9,  -999.00,9,   4.5577
  06AQ20070728,EurArc,   232,  1,     21,     21,2,20070730,1931, 76.0000,  33.9980,  274,      9.8,   6.3188,  35.0590,2,   -999.0,9,    321.8,2,     0.58,2,     0.57,2,     0.05,2,     0.07,2,   -999.0,9,   -999.0,9,  -999.00,9,   6.3179
  06AQ20070728,EurArc,   232,  1,     22,     22,2,20070730,1931, 76.0000,  33.9980,  274,      9.9,   6.3225,  35.0590,2,   -999.0,9,    321.8,2,     0.57,2,     0.58,2,     0.03,2,     0.06,2,   -999.0,9,   -999.0,9,  -999.00,9,   6.3216
  06AQ20070728,EurArc,   232,  1,     23,     23,2,20070730,1931, 76.0000,  33.9980,  274,      2.5,   6.3567,  35.0590,2,   -999.0,9,    320.5,2,     0.56,2,     0.55,2,     0.04,2,     0.08,2,   -999.0,9,   -999.0,9,  -999.00,9,   6.3565
  06AQ20070728,EurArc,   232,  1,     24,     24,2,20070730,1931, 76.0000,  33.9980,  274,      2.4,   6.3590,  35.0600,2,   -999.0,9,    320.5,2,     0.57,2,     0.54,2,     0.04,2,     0.06,2,   -999.0,9,   -999.0,9,  -999.00,9,   6.3588