BOTTLE,20220921CCHSIOAMB
EXPOCODE,SECT_ID,STNNBR,CASTNO,SAMPNO,BTLNBR,BTLNBR_FLAG_W,DATE,TIME,LATITUDE,LONGITUDE,DEPTH,CTDPRS,CTDTMP,CTDSAL,CTDSAL_FLAG_W,CTDOXY,CTDOXY_FLAG_W,OXYGEN,OXYGEN_FLAG_W,SILCAT,SILCAT_FLAG_W,NITRAT,NITRAT_FLAG_W,NITRIT,NITRIT_FLAG_W,PHSPHT,PHSPHT_FLAG_W,TCARBN,TCARBN_FLAG_W,ALKALI,ALKALI_FLAG_W,DELO18,DELO18_FLAG_W,THETA
,,,,,,,,,,,METERS,DBAR,ITS-90,PSS-78,,UMOL/KG,,UMOL/KG,,UMOL/KG,,UMOL/KG,,UMOL/KG,,UMOL/KG,,UMOL/KG,,UMOL/KG,,/MILLE,,DEG C
  06AQ20070728,EurArc,   237,  2,      1,      1,2,20070731,1911, 78.9910,  33.9990,  272,    261.4,   1.7138,  34.9610,2,   -999.0,9,    301.6,2,  -999.00,9,  -999.00,9,  -999.00,9,  -999.00,9,   -999.0,9,   -999.0,9,  -999.00,9,   1.7001
  06AQ20070728,EurArc,   237,  2,      2,      2,2,20070731,1911, 78.9910,  33.9990,  272,    261.4,   1.7122,  34.9600,2,   -999.0,9,    301.6,2,  -999.00,9,  -999.00,9,  -999.00,9,  -999.00,9,   -999.0,9,   -999.0,9,  -999.00,9,   1.6985
  06AQ20070728,EurArc,   237,  2,      3,      3,2,20070731,1911, 78.9910,  33.9990,  272,    261.4,   1.7115,  34.9600,2,   -999.0,9,    301.6,2,  -999.00,9,  -999.00,9,  -999.00,9,  -999.00,9,   -999.0,9,   -999.0,9,  -999.00,9,   1.6978
  06AQ20070728,EurArc,   237,  2,      4,      4,2,20070731,1911, 78.9910,  33.9990,  272,    261.4,   1.7113,  34.9600,2,   -999.0,9,    301.6,2,  -999.00,9,  -999.00,9,  -999.00,9,  -999.00,9,   -999.0,9,   -999.0,9,  -999.00,9,   1.6976
  06AQ20070728,EurArc,   237,  2,      5,      5,2,20070731,1911, 78.9910,  33.9990,  272,    202.5,   1.7432,  34.8790,2,   -999.0,9,    298.2,2,  -999.00,9,  -999.00,9,  -999.00,9,  -999.00,9,   -999.0,9,   -999.0,9,  -999.00,9,   1.7327
  06AQ20070728,EurArc,   237,  2,      6,      6,2,20070731,1911, 78.9910,  33.9990,  272,    202.5,   1.5689,  34.8580,2,   -999.0,9,    298.2,2,  -999.00,9,  -999.00,9,  -999.00,9,  -999.00,9,   -999.0,9,   -999.0,9,  -999.00,9,   1.5587
  06AQ20070728,EurArc,   237,  2,      7,      7,2,20070731,1911, 78.9910,  33.9990,  272,    202.4,   1.5931,  34.8530,2,   -999.0,9,    298.2,2,  -999.00,9,  -999.00,9,  -999.00,9,  -999.00,9,   -999.0,9,   -999.0,9,  -999.00,9,   1.5828
  06AQ20070728,EurArc,   237,  2,      8,      8,2,20070731,1911, 78.9910,  33.9990,  272,    202.4,   1.6144,  34.8690,2,   -999.0,9,    298.2,2,  -999.00,9,  -999.00,9,  -999.00,9,  -999.00,9,   -999.0,9,   -999.0,9,  -999.00,9,   1.6041
  06AQ20070728,EurArc,   237,  2,      9,      9,2,20070731,1911, 78.9910,  33.9990,  272,    101.2,  -0.7726,  34.5270,2,   -999.0,9,    328.6,2,  -999.00,9,  -999.00,9,  -999.00,9,  -999.00,9,   -999.0,9,   -999.0,9,  -999.00,9,  -0.7756
  06AQ20070728,EurArc,   237,  2,     10,     10,2,20070731,1911, 78.9910,  33.9990,  272,    101.1,  -0.7755,  34.5210,2,   -999.0,9,    328.6,2,  -999.00,9,  -999.00,9,  -999.00,9,  -999.00,9,   -999.0,9,   -999.0,9,  -999.00,9,  -0.7785
  06AQ20070728,EurArc,   237,  2,     11,     11,2,20070731,1911, 78.9910,  33.9990,  272,    101.1,  -0.7741,  34.5340,2,   -999.0,9,    328.6,2,  -999.00,9,  -999.00,9,  -999.00,9,  -999.00,9,   -999.0,9,   -999.0,9,  -999.00,9,  -0.7771
  06AQ20070728,EurArc,   237,  2,     12,     12,2,20070731,1911, 78.9910,  33.9990,  272,    101.1,  -0.8407,  34.5170,2,   -999.0,9,    328.6,2,  -999.00,9,  -999.00,9,  -999.00,9,  -999.00,9,   -999.0,9,   -999.0,9,  -999.00,9,  -0.8436
  06AQ20070728,EurArc,   237,  2,     13,     13,2,20070731,1911, 78.9910,  33.9990,  272,     76.2,  -1.1913,  34.4480,2,   -999.0,9,    334.5,2,  -999.00,9,  -999.00,9,  -999.00,9,  -999.00,9,   -999.0,9,   -999.0,9,  -999.00,9,  -1.1932
  06AQ20070728,EurArc,   237,  2,     14,     14,2,20070731,1911, 78.9910,  33.9990,  272,     76.1,  -1.2856,  34.4280,2,   -999.0,9,    334.5,2,  -999.00,9,  -999.00,9,  -999.00,9,  -999.00,9,   -999.0,9,   -999.0,9,  -999.00,9,  -1.2875
  06AQ20070728,EurArc,   237,  2,     15,     15,2,20070731,1911, 78.9910,  33.9990,  272,     76.1,  -1.2862,  34.4280,2,   -999.0,9,    334.5,2,  -999.00,9,  -999.00,9,  -999.00,9,  -999.00,9,   -999.0,9,   -999.0,9,  -999.00,9,  -1.2881
  06AQ20070728,EurArc,   237,  2,     16,     16,2,20070731,1911, 78.9910,  33.9990,  272,     76.1,  -1.2739,  34.4380,2,   -999.0,9,    334.5,2,  -999.00,9,  -999.00,9,  -999.00,9,  -999.00,9,   -999.0,9,   -999.0,9,  -999.00,9,  -1.2758
  06AQ20070728,EurArc,   237,  2,     17,     17,2,20070731,1911, 78.9910,  33.9990,  272,     50.5,  -1.6214,  34.3020,2,   -999.0,9,    344.4,2,  -999.00,9,  -999.00,9,  -999.00,9,  -999.00,9,   -999.0,9,   -999.0,9,  -999.00,9,  -1.6225
  06AQ20070728,EurArc,   237,  2,     18,     18,2,20070731,1911, 78.9910,  33.9990,  272,     50.5,  -1.6309,  34.2940,2,   -999.0,9,    344.4,2,  -999.00,9,  -999.00,9,  -999.00,9,  -999.00,9,   -999.0,9,   -999.0,9,  -999.00,9,  -1.6320
  06AQ20070728,EurArc,   237,  2,     19,     19,2,20070731,1911, 78.9910,  33.9990,  272,     50.4,  -1.6174,  34.2970,2,   -999.0,9,    344.5,2,  -999.00,9,  -999.00,9,  -999.00,9,  -999.00,9,   -999.0,9,   -999.0,9,  -999.00,9,  -1.6185
  06AQ20070728,EurArc,   237,  2,     20,     20,2,20070731,1911, 78.9910,  33.9990,  272,     50.4,  -1.6318,  34.2940,2,   -999.0,9,    344.5,2,  -999.00,9,  -999.00,9,  -999.00,9,  -999.00,9,   -999.0,9,   -999.0,9,  -999.00,9,  -1.6328
  06AQ20070728,EurArc,   237,  2,     21,     21,2,20070731,1911, 78.9910,  33.9990,  272,     25.2,  -1.5017,  34.2240,2,   -999.0,9,    376.1,2,  -999.00,9,  -999.00,9,  -999.00,9,  -999.00,9,   -999.0,9,   -999.0,9,  -999.00,9,  -1.5022
  06AQ20070728,EurArc,   237,  2,     22,     22,2,20070731,1911, 78.9910,  33.9990,  272,     25.2,  -1.5032,  34.2280,2,   -999.0,9,    376.1,2,  -999.00,9,  -999.00,9,  -999.00,9,  -999.00,9,   -999.0,9,   -999.0,9,  -999.00,9,  -1.5037
  06AQ20070728,EurArc,   237,  2,     23,     23,2,20070731,1911, 78.9910,  33.9990,  272,     25.4,  -1.5400,  34.2380,2,   -999.0,9,    376.6,2,  -999.00,9,  -999.00,9,  -999.00,9,  -999.00,9,   -999.0,9,   -999.0,9,  -999.00,9,  -1.5405
  06AQ20070728,EurArc,   237,  2,     24,     24,2,20070731,1911, 78.9910,  33.9990,  272,     25.3,  -1.4450,  34.2110,2,   -999.0,9,    376.4,2,  -999.00,9,  -999.00,9,  -999.00,9,  -999.00,9,   -999.0,9,   -999.0,9,  -999.00,9,  -1.4456
  06AQ20070728,EurArc,   237,  3,      1,      1,2,20070731,2007, 78.9910,  33.9990,  272,    258.6,   1.7027,  34.9490,2,   -999.0,9,    297.7,2,  -999.00,9,  -999.00,9,  -999.00,9,  -999.00,9,   -999.0,9,   -999.0,9,  -999.00,9,   1.6892
  06AQ20070728,EurArc,   237,  3,      2,      2,2,20070731,2007, 78.9910,  33.9990,  272,    258.4,   1.6997,  34.9460,2,   -999.0,9,    297.6,2,     6.72,2,    12.16,2,     0.05,2,     0.88,2,   -999.0,9,   -999.0,9,  -999.00,9,   1.6862
  06AQ20070728,EurArc,   237,  3,      3,      3,2,20070731,2007, 78.9910,  33.9990,  272,    248.9,   1.6910,  34.9220,2,   -999.0,9,    293.2,2,  -999.00,9,  -999.00,9,  -999.00,9,  -999.00,9,   -999.0,9,   -999.0,9,  -999.00,9,   1.6781
  06AQ20070728,EurArc,   237,  3,      4,      4,2,20070731,2007, 78.9910,  33.9990,  272,    248.8,   1.6913,  34.9230,2,   -999.0,9,    293.2,2,     6.87,2,    12.29,2,     0.04,2,     0.89,2,   -999.0,9,   -999.0,9,  -999.00,9,   1.6784
  06AQ20070728,EurArc,   237,  3,      5,      5,2,20070731,2007, 78.9910,  33.9990,  272,    202.2,   1.4474,  34.8320,2,   -999.0,9,    301.4,2,  -999.00,9,  -999.00,9,  -999.00,9,  -999.00,9,   -999.0,9,   -999.0,9,  -999.00,9,   1.4374
  06AQ20070728,EurArc,   237,  3,      6,      6,2,20070731,2007, 78.9910,  33.9990,  272,    202.5,   1.4423,  34.8280,2,   -999.0,9,    301.2,2,     5.15,2,    11.64,2,     0.03,2,     0.82,2,   -999.0,9,   -999.0,9,  -999.00,9,   1.4323
  06AQ20070728,EurArc,   237,  3,      7,      7,2,20070731,2007, 78.9910,  33.9990,  272,    176.8,   0.9368,  34.7480,2,   -999.0,9,    305.8,2,     4.88,2,    11.34,2,     0.03,2,     0.80,2,   -999.0,9,   -999.0,9,  -999.00,9,   0.9289
  06AQ20070728,EurArc,   237,  3,      8,      8,2,20070731,2007, 78.9910,  33.9990,  272,    151.8,   0.6928,  34.7040,2,   -999.0,9,    311.9,2,     4.28,2,    10.63,2,     0.04,2,     0.76,2,   -999.0,9,   -999.0,9,  -999.00,9,   0.6864
  06AQ20070728,EurArc,   237,  3,      9,      9,2,20070731,2007, 78.9910,  33.9990,  272,    151.8,   0.6872,  34.7040,2,   -999.0,9,    311.9,2,  -999.00,9,  -999.00,9,  -999.00,9,  -999.00,9,   -999.0,9,   -999.0,9,  -999.00,9,   0.6808
  06AQ20070728,EurArc,   237,  3,     10,     10,2,20070731,2007, 78.9910,  33.9990,  272,    126.4,   0.0939,  34.6300,2,   -999.0,9,    320.6,2,     3.76,2,     9.84,2,     0.05,2,     0.71,2,   -999.0,9,   -999.0,9,  -999.00,9,   0.0892
  06AQ20070728,EurArc,   237,  3,     11,     11,2,20070731,2007, 78.9910,  33.9990,  272,    101.3,  -0.9152,  34.5220,2,   -999.0,9,    329.9,2,  -999.00,9,  -999.00,9,  -999.00,9,  -999.00,9,   -999.0,9,   -999.0,9,  -999.00,9,  -0.9180
  06AQ20070728,EurArc,   237,  3,     12,     12,2,20070731,2007, 78.9910,  33.9990,  272,    101.3,  -0.9637,  34.5160,2,   -999.0,9,    329.9,2,  -999.00,9,  -999.00,9,  -999.00,9,  -999.00,9,   -999.0,9,   -999.0,9,  -999.00,9,  -0.9665
  06AQ20070728,EurArc,   237,  3,     13,     13,2,20070731,2007, 78.9910,  33.9990,  272,    101.3,  -0.9323,  34.5030,2,   -999.0,9,    329.9,2,     3.26,2,     9.00,2,     0.06,2,     0.66,2,   -999.0,9,   -999.0,9,  -999.00,9,  -0.9351
  06AQ20070728,EurArc,   237,  3,     14,     14,2,20070731,2007, 78.9910,  33.9990,  272,     75.8,  -1.1594,  34.4640,2,   -999.0,9,    335.9,2,     2.83,2,     8.24,2,     0.19,2,     0.62,2,   -999.0,9,   -999.0,9,  -999.00,9,  -1.1613
  06AQ20070728,EurArc,   237,  3,     15,     15,2,20070731,2007, 78.9910,  33.9990,  272,     50.9,  -1.5852,  34.3110,2,   -999.0,9,    347.3,2,     2.24,2,     6.81,2,     0.26,2,     0.54,2,   -999.0,9,   -999.0,9,  -999.00,9,  -1.5863
  06AQ20070728,EurArc,   237,  3,     16,     16,2,20070731,2007, 78.9910,  33.9990,  272,     35.2,  -1.6010,  34.2450,2,   -999.0,9,    359.2,2,  -999.00,9,  -999.00,9,  -999.00,9,  -999.00,9,   -999.0,9,   -999.0,9,  -999.00,9,  -1.6017
  06AQ20070728,EurArc,   237,  3,     17,     17,2,20070731,2007, 78.9910,  33.9990,  272,     25.1,  -1.2510,  34.1840,2,   -999.0,9,    382.0,2,  -999.00,9,  -999.00,9,  -999.00,9,  -999.00,9,   -999.0,9,   -999.0,9,  -999.00,9,  -1.2516
  06AQ20070728,EurArc,   237,  3,     18,     18,2,20070731,2007, 78.9910,  33.9990,  272,     25.1,  -1.2450,  34.1840,2,   -999.0,9,    382.0,2,     1.66,2,     2.86,2,     0.08,2,     0.32,2,   -999.0,9,   -999.0,9,  -999.00,9,  -1.2456
  06AQ20070728,EurArc,   237,  3,     19,     19,2,20070731,2007, 78.9910,  33.9990,  272,     10.1,   2.5473,  33.7580,2,   -999.0,9,    346.3,2,     0.65,2,     0.20,2,     0.02,2,     0.06,2,   -999.0,9,   -999.0,9,  -999.00,9,   2.5467
  06AQ20070728,EurArc,   237,  3,     20,     20,2,20070731,2007, 78.9910,  33.9990,  272,      2.0,   2.6996,  33.7520,2,   -999.0,9,    344.6,2,     0.86,2,     0.06,2,     0.02,2,     0.05,2,   -999.0,9,   -999.0,9,  -999.00,9,   2.6995
  06AQ20070728,EurArc,   238,  1,      1,      1,2,20070801,0432, 80.4940,  33.9970,  156,    151.7,   0.2098,  34.5080,2,    297.9,2,    311.0,2,     3.64,2,     9.64,2,     0.13,2,     0.73,2,   -999.0,9,   -999.0,9,     0.23,2,   0.2040
  06AQ20070728,EurArc,   238,  1,      2,      2,2,20070801,0432, 80.4940,  33.9970,  156,    141.5,   0.1860,  34.5050,2,    294.1,2,    312.7,2,     3.56,2,     9.59,2,     0.13,2,     0.72,2,   -999.0,9,   -999.0,9,  -999.00,9,   0.1807
  06AQ20070728,EurArc,   238,  1,      3,      3,2,20070801,0432, 80.4940,  33.9970,  156,    126.4,  -0.1812,  34.4570,2,    302.8,2,    320.2,2,     3.06,2,     9.17,2,     0.14,2,     0.69,2,   -999.0,9,   -999.0,9,     0.23,2,  -0.1855
  06AQ20070728,EurArc,   238,  1,      4,      4,2,20070801,0432, 80.4940,  33.9970,  156,    100.9,  -0.9692,  34.3320,2,    317.8,2,    331.9,2,     1.96,2,     7.59,2,     0.16,2,     0.60,2,   -999.0,9,   -999.0,9,     0.14,2,  -0.9719
  06AQ20070728,EurArc,   238,  1,      5,      5,2,20070801,0432, 80.4940,  33.9970,  156,    100.9,  -0.9725,  34.3310,2,   -999.0,9,    331.9,2,     1.95,2,     7.57,2,     0.16,2,     0.60,2,   -999.0,9,   -999.0,9,  -999.00,9,  -0.9752
  06AQ20070728,EurArc,   238,  1,      6,      6,2,20070801,0432, 80.4940,  33.9970,  156,     76.2,  -1.0937,  34.2350,2,    326.8,2,    348.7,2,     0.99,2,     6.08,2,     0.16,2,     0.51,2,   -999.0,9,   -999.0,9,     0.16,2,  -1.0957
  06AQ20070728,EurArc,   238,  1,      7,      7,2,20070801,0432, 80.4940,  33.9970,  156,     50.5,  -0.5220,  34.0480,2,    376.6,2,    390.2,2,     0.28,2,     1.00,2,     0.06,2,     0.16,2,   -999.0,9,   -999.0,9,     0.20,2,  -0.5235
  06AQ20070728,EurArc,   238,  1,      8,      8,2,20070801,0432, 80.4940,  33.9970,  156,     25.4,   1.1006,  33.7390,2,    372.2,2,    379.8,2,     0.17,2,    -0.02,2,     0.02,2,     0.04,2,   -999.0,9,   -999.0,9,     0.11,2,   1.0995
  06AQ20070728,EurArc,   238,  1,      9,      9,2,20070801,0432, 80.4940,  33.9970,  156,     10.4,   1.3692,  33.7100,2,    362.8,2,    374.3,2,     0.18,2,    -0.02,2,     0.02,2,     0.04,2,   -999.0,9,   -999.0,9,     0.09,2,   1.3687
  06AQ20070728,EurArc,   238,  1,     10,     10,2,20070801,0432, 80.4940,  33.9970,  156,      2.2,   1.3734,  33.7110,2,    362.7,2,    373.5,2,     0.18,2,    -0.01,2,     0.02,2,     0.04,2,   -999.0,9,   -999.0,9,     0.08,2,   1.3733
  06AQ20070728,EurArc,   239,  1,      1,      1,2,20070801,0820, 80.9930,  33.9840,  229,    177.2,   0.8862,  34.7190,2,   -999.0,9,   -999.0,9,     4.69,2,    11.03,2,     0.11,2,     0.78,2,   -999.0,9,   -999.0,9,  -999.00,9,   0.8783
  06AQ20070728,EurArc,   239,  1,      2,      2,2,20070801,0820, 80.9930,  33.9840,  229,    177.2,   0.8934,  34.7220,2,   -999.0,9,   -999.0,9,     4.75,2,    11.11,2,     0.10,2,     0.77,2,   -999.0,9,   -999.0,9,  -999.00,9,   0.8855
  06AQ20070728,EurArc,   239,  1,      3,      3,2,20070801,0820, 80.9930,  33.9840,  229,    177.1,   0.8940,  34.7220,2,   -999.0,9,   -999.0,9,     4.78,2,    11.03,2,     0.10,2,     0.77,2,   -999.0,9,   -999.0,9,  -999.00,9,   0.8861
  06AQ20070728,EurArc,   239,  1,      4,      4,2,20070801,0820, 80.9930,  33.9840,  229,    149.8,   0.8321,  34.6670,2,   -999.0,9,    289.2,2,     4.86,2,    11.18,2,     0.11,2,     0.76,2,   -999.0,9,   -999.0,9,     0.19,2,   0.8256
  06AQ20070728,EurArc,   239,  1,      5,      5,2,20070801,0820, 80.9930,  33.9840,  229,    149.8,   0.8310,  34.6660,2,   -999.0,9,   -999.0,9,     4.83,2,    10.86,2,     0.07,2,     0.76,2,   -999.0,9,   -999.0,9,  -999.00,9,   0.8245
  06AQ20070728,EurArc,   239,  1,      6,      6,2,20070801,0820, 80.9930,  33.9840,  229,    149.8,   0.8300,  34.6660,2,   -999.0,9,   -999.0,9,     4.78,2,    10.84,2,     0.07,2,     0.76,2,   -999.0,9,   -999.0,9,  -999.00,9,   0.8235
  06AQ20070728,EurArc,   239,  1,      7,      7,2,20070801,0820, 80.9930,  33.9840,  229,    126.4,   0.8113,  34.6610,2,   -999.0,9,   -999.0,9,  -999.00,9,  -999.00,9,  -999.00,9,  -999.00,9,   -999.0,9,   -999.0,9,  -999.00,9,   0.8058
  06AQ20070728,EurArc,   239,  1,      8,      8,2,20070801,0820, 80.9930,  33.9840,  229,    126.4,   0.8169,  34.6610,2,   -999.0,9,    288.5,2,     4.70,2,    10.87,2,     0.07,2,     0.76,2,   -999.0,9,   -999.0,9,     0.24,2,   0.8114
  06AQ20070728,EurArc,   239,  1,      9,      9,2,20070801,0820, 80.9930,  33.9840,  229,    126.4,   0.8166,  34.6620,2,   -999.0,9,   -999.0,9,     4.69,2,    10.76,2,     0.07,2,     0.76,2,   -999.0,9,   -999.0,9,  -999.00,9,   0.8111
  06AQ20070728,EurArc,   239,  1,     10,     10,2,20070801,0820, 80.9930,  33.9840,  229,    101.4,   0.5419,  34.6240,2,   -999.0,9,    289.7,2,     4.29,2,    10.63,2,     0.09,2,     0.75,2,   -999.0,9,   -999.0,9,     0.23,2,   0.5378
  06AQ20070728,EurArc,   239,  1,     11,     11,2,20070801,0820, 80.9930,  33.9840,  229,    101.4,   0.4794,  34.6160,2,   -999.0,9,   -999.0,9,     4.08,2,    10.57,2,     0.10,2,     0.74,2,   -999.0,9,   -999.0,9,  -999.00,9,   0.4753
  06AQ20070728,EurArc,   239,  1,     12,     12,2,20070801,0820, 80.9930,  33.9840,  229,    101.3,   0.4428,  34.6130,2,   -999.0,9,   -999.0,9,     4.02,2,    10.53,2,     0.11,2,     0.74,2,   -999.0,9,   -999.0,9,  -999.00,9,   0.4388
  06AQ20070728,EurArc,   239,  1,     13,     13,2,20070801,0820, 80.9930,  33.9840,  229,     76.0,  -0.2388,  34.4800,2,   -999.0,9,    301.4,2,     1.74,2,     9.03,2,     0.14,2,     0.66,2,   -999.0,9,   -999.0,9,     0.24,2,  -0.2413
  06AQ20070728,EurArc,   239,  1,     14,     14,2,20070801,0820, 80.9930,  33.9840,  229,     76.0,  -0.2474,  34.4730,2,   -999.0,9,   -999.0,9,     1.53,2,     8.80,2,     0.14,2,     0.65,2,   -999.0,9,   -999.0,9,  -999.00,9,  -0.2499
  06AQ20070728,EurArc,   239,  1,     15,     15,2,20070801,0820, 80.9930,  33.9840,  229,     75.9,  -0.2298,  34.4760,2,   -999.0,9,   -999.0,9,     1.52,2,     8.75,2,     0.14,2,     0.65,2,   -999.0,9,   -999.0,9,  -999.00,9,  -0.2323
  06AQ20070728,EurArc,   239,  1,     16,     16,2,20070801,0820, 80.9930,  33.9840,  229,     50.6,  -0.7108,  34.3550,2,   -999.0,9,    315.3,2,     0.53,2,     7.09,2,     0.13,2,     0.54,2,   -999.0,9,   -999.0,9,     0.22,2,  -0.7123
  06AQ20070728,EurArc,   239,  1,     17,     17,2,20070801,0820, 80.9930,  33.9840,  229,     50.5,  -0.7415,  34.3440,2,   -999.0,9,   -999.0,9,     0.56,2,     7.19,2,     0.13,2,     0.54,2,   -999.0,9,   -999.0,9,  -999.00,9,  -0.7429
  06AQ20070728,EurArc,   239,  1,     18,     18,2,20070801,0820, 80.9930,  33.9840,  229,     50.6,  -0.7421,  34.3430,2,   -999.0,9,   -999.0,9,     0.48,2,     6.91,2,     0.13,2,     0.52,2,   -999.0,9,   -999.0,9,  -999.00,9,  -0.7435
  06AQ20070728,EurArc,   239,  1,     19,     19,2,20070801,0820, 80.9930,  33.9840,  229,     25.0,  -0.8720,  33.9180,2,   -999.0,9,   -999.0,9,     0.28,2,     1.93,2,     0.07,2,     0.20,2,   -999.0,9,   -999.0,9,  -999.00,9,  -0.8727
  06AQ20070728,EurArc,   239,  1,     20,     20,2,20070801,0820, 80.9930,  33.9840,  229,     25.0,  -0.8744,  33.8980,2,   -999.0,9,   -999.0,9,     0.23,2,     1.09,2,     0.05,2,     0.14,2,   -999.0,9,   -999.0,9,  -999.00,9,  -0.8751
  06AQ20070728,EurArc,   239,  1,     21,     21,2,20070801,0820, 80.9930,  33.9840,  229,     25.0,  -0.8727,  33.9030,2,   -999.0,9,    360.3,2,     0.24,2,     1.17,2,     0.05,2,     0.14,2,   -999.0,9,   -999.0,9,     0.20,2,  -0.8734
  06AQ20070728,EurArc,   239,  1,     22,     22,2,20070801,0820, 80.9930,  33.9840,  229,      4.6,  -0.9704,  32.6640,2,   -999.0,9,    378.5,2,     0.15,2,     0.05,2,     0.02,2,     0.04,2,   -999.0,9,   -999.0,9,     0.22,2,  -0.9705
  06AQ20070728,EurArc,   239,  1,     23,     23,2,20070801,0820, 80.9930,  33.9840,  229,      4.5,  -0.9903,  32.3450,2,   -999.0,9,   -999.0,9,     0.15,2,     0.02,2,     0.02,2,     0.04,2,   -999.0,9,   -999.0,9,  -999.00,9,  -0.9904
  06AQ20070728,EurArc,   239,  1,     24,     24,2,20070801,0820, 80.9930,  33.9840,  229,      4.4,  -1.0010,  32.0650,2,   -999.0,9,   -999.0,9,     0.14,2,     0.00,2,     0.01,2,     0.02,2,   -999.0,9,   -999.0,9,  -999.00,9,  -1.0011