BOTTLE,20220921CCHSIOAMB
EXPOCODE,SECT_ID,STNNBR,CASTNO,SAMPNO,BTLNBR,BTLNBR_FLAG_W,DATE,TIME,LATITUDE,LONGITUDE,DEPTH,CTDPRS,CTDTMP,CTDSAL,CTDSAL_FLAG_W,CTDOXY,CTDOXY_FLAG_W,OXYGEN,OXYGEN_FLAG_W,SILCAT,SILCAT_FLAG_W,NITRAT,NITRAT_FLAG_W,NITRIT,NITRIT_FLAG_W,PHSPHT,PHSPHT_FLAG_W,TCARBN,TCARBN_FLAG_W,ALKALI,ALKALI_FLAG_W,DELO18,DELO18_FLAG_W,THETA
,,,,,,,,,,,METERS,DBAR,ITS-90,PSS-78,,UMOL/KG,,UMOL/KG,,UMOL/KG,,UMOL/KG,,UMOL/KG,,UMOL/KG,,UMOL/KG,,UMOL/KG,,/MILLE,,DEG C
  06AQ20070728,EurArc,   285,  2,      1,      1,2,20070820,1332, 82.1420,  86.3310,  723,    688.9,  -0.4714,  34.8860,2,   -999.0,9,    325.2,2,     4.92,2,    10.57,2,     0.02,2,     0.74,2,   3097.7,4,   2298.3,2,  -999.00,9,  -0.4975
  06AQ20070728,EurArc,   285,  2,      2,      2,2,20070820,1332, 82.1420,  86.3310,  723,    607.9,  -0.4599,  34.8790,2,   -999.0,9,    324.6,2,     4.78,2,    10.09,2,     0.03,2,     0.74,2,   2341.0,4,   2297.7,2,  -999.00,9,  -0.4826
  06AQ20070728,EurArc,   285,  2,      3,      3,2,20070820,1332, 82.1420,  86.3310,  723,    506.2,  -0.2471,  34.8800,2,   -999.0,9,    321.1,2,     5.34,2,    10.87,2,     0.02,2,     0.78,2,   2169.9,2,   2298.0,2,  -999.00,9,  -0.2664
  06AQ20070728,EurArc,   285,  2,      4,      4,2,20070820,1332, 82.1420,  86.3310,  723,    405.0,   0.2537,  34.8680,2,   -999.0,9,    314.6,2,     4.86,2,    10.92,2,     0.03,2,     0.77,2,   2158.8,2,   2296.5,2,  -999.00,9,   0.2369
  06AQ20070728,EurArc,   285,  2,      5,      5,2,20070820,1332, 82.1420,  86.3310,  723,    303.8,   1.2879,  34.8970,2,   -999.0,9,    308.6,2,     4.96,2,    11.77,2,     0.02,2,     0.80,2,   -999.0,9,   -999.0,9,  -999.00,9,   1.2730
  06AQ20070728,EurArc,   285,  2,      6,      6,2,20070820,1332, 82.1420,  86.3310,  723,    253.1,   1.3600,  34.8700,2,   -999.0,9,    309.6,2,     4.59,2,    11.19,2,     0.02,2,     0.78,2,   -999.0,9,   -999.0,9,  -999.00,9,   1.3475
  06AQ20070728,EurArc,   285,  2,      8,      8,2,20070820,1332, 82.1420,  86.3310,  723,    202.2,   1.1118,  34.8150,2,   -999.0,9,    310.8,2,     4.23,2,    10.71,2,     0.02,2,     0.74,2,   -999.0,9,   -999.0,9,  -999.00,9,   1.1024
  06AQ20070728,EurArc,   285,  2,      9,      9,2,20070820,1332, 82.1420,  86.3310,  723,    202.2,   1.1221,  34.8150,2,   -999.0,9,    310.8,2,     4.24,2,    10.65,2,     0.02,2,     0.74,2,   -999.0,9,   -999.0,9,  -999.00,9,   1.1127
  06AQ20070728,EurArc,   285,  2,     10,     10,2,20070820,1332, 82.1420,  86.3310,  723,    202.2,   1.1184,  34.8150,2,   -999.0,9,    310.8,2,     4.21,2,    10.59,2,     0.02,2,     0.74,2,   -999.0,9,   -999.0,9,  -999.00,9,   1.1090
  06AQ20070728,EurArc,   285,  2,      7,      7,2,20070820,1332, 82.1420,  86.3310,  723,    202.2,   1.1076,  34.8150,2,   -999.0,9,    310.8,2,     4.22,2,    10.59,2,     0.02,2,     0.74,2,   2156.2,2,   2291.3,2,  -999.00,9,   1.0982
  06AQ20070728,EurArc,   285,  2,     11,     11,2,20070820,1332, 82.1420,  86.3310,  723,    152.1,   0.1678,  34.6820,2,   -999.0,9,    317.2,2,     3.72,2,     9.60,2,     0.02,2,     0.68,2,   -999.0,9,   -999.0,9,     0.08,2,   0.1620
  06AQ20070728,EurArc,   285,  2,     12,     12,2,20070820,1332, 82.1420,  86.3310,  723,    101.5,  -1.4458,  34.4860,2,   -999.0,9,    329.2,2,     3.12,2,     7.81,2,     0.02,2,     0.60,2,   -999.0,9,   -999.0,9,  -999.00,9,  -1.4482
  06AQ20070728,EurArc,   285,  2,     13,     13,2,20070820,1332, 82.1420,  86.3310,  723,    101.5,  -1.4365,  34.4790,2,   -999.0,9,    329.2,2,     3.02,2,     7.74,2,     0.02,2,     0.59,2,   -999.0,9,   -999.0,9,    -0.12,2,  -1.4389
  06AQ20070728,EurArc,   285,  2,     15,     15,2,20070820,1332, 82.1420,  86.3310,  723,     75.9,  -1.7517,  34.4290,2,   -999.0,9,    336.7,2,     2.44,2,     6.84,2,     0.02,2,     0.54,2,   2187.3,3,   2277.1,2,    -0.03,2,  -1.7532
  06AQ20070728,EurArc,   285,  2,     14,     14,2,20070820,1332, 82.1420,  86.3310,  723,     75.9,  -1.7536,  34.4310,2,   -999.0,9,    336.7,2,     2.42,2,     6.96,2,     0.03,2,     0.54,2,   -999.0,9,   -999.0,9,  -999.00,9,  -1.7551
  06AQ20070728,EurArc,   285,  2,     16,     16,2,20070820,1332, 82.1420,  86.3310,  723,     55.5,  -0.6766,  34.3550,2,   -999.0,9,    339.3,2,     2.83,2,     7.77,2,     0.04,2,     0.58,2,   -999.0,9,   -999.0,9,    -0.01,2,  -0.6782
  06AQ20070728,EurArc,   285,  2,     17,     17,2,20070820,1332, 82.1420,  86.3310,  723,     50.3,  -0.9510,  34.3040,2,   -999.0,9,    340.7,2,     2.69,2,     7.48,2,     0.06,2,     0.57,2,   -999.0,9,   -999.0,9,  -999.00,9,  -0.9523
  06AQ20070728,EurArc,   285,  2,     18,     18,2,20070820,1332, 82.1420,  86.3310,  723,     24.6,  -1.5651,  33.2450,2,   -999.0,9,    367.2,2,     2.83,2,     3.29,2,     0.14,2,     0.39,2,   -999.0,9,   -999.0,9,  -999.00,9,  -1.5656
  06AQ20070728,EurArc,   285,  2,     19,     19,2,20070820,1332, 82.1420,  86.3310,  723,     24.6,  -1.5814,  33.4150,2,   -999.0,9,    367.1,2,     2.07,2,     1.54,2,     0.08,2,     0.28,2,   2100.5,2,   2250.5,2,    -0.67,2,  -1.5819
  06AQ20070728,EurArc,   285,  2,     20,     20,2,20070820,1332, 82.1420,  86.3310,  723,     19.9,  -1.5766,  33.1080,2,   -999.0,9,    367.9,2,     1.86,2,     1.02,2,     0.06,2,     0.25,2,   -999.0,9,   -999.0,9,  -999.00,9,  -1.5770
  06AQ20070728,EurArc,   285,  2,     22,     22,2,20070820,1332, 82.1420,  86.3310,  723,     19.9,  -1.5769,  33.0650,2,   -999.0,9,    367.9,2,     1.84,2,     1.01,2,     0.06,2,     0.25,2,   -999.0,9,   -999.0,9,    -0.74,2,  -1.5773
  06AQ20070728,EurArc,   285,  2,     21,     21,2,20070820,1332, 82.1420,  86.3310,  723,     19.9,  -1.5770,  33.0880,2,   -999.0,9,    367.9,2,     1.82,2,     0.99,2,     0.06,2,     0.24,2,   -999.0,9,   -999.0,9,  -999.00,9,  -1.5774
  06AQ20070728,EurArc,   285,  2,     23,     23,2,20070820,1332, 82.1420,  86.3310,  723,      9.3,  -1.6148,  32.5760,2,   -999.0,9,    371.2,2,     1.59,2,     0.61,2,     0.04,2,     0.20,2,   -999.0,9,   -999.0,9,  -999.00,9,  -1.6150
  06AQ20070728,EurArc,   285,  2,     24,     24,2,20070820,1332, 82.1420,  86.3310,  723,      9.2,  -1.6248,  32.5170,2,   -999.0,9,    371.3,2,     1.60,2,     0.71,2,     0.04,2,     0.20,2,   -999.0,9,   -999.0,9,    -0.79,2,  -1.6250
  06AQ20070728,EurArc,   286,  1,      1,      1,2,20070820,2031, 82.2400,  86.2530, 1013,   1017.9,  -0.5579,  34.8980,2,   -999.0,9,    323.6,2,     6.23,2,    10.76,2,     0.02,2,     0.80,2,   -999.0,9,   -999.0,9,  -999.00,9,  -0.5988
  06AQ20070728,EurArc,   286,  1,      3,      3,2,20070820,2031, 82.2400,  86.2530, 1013,    759.9,  -0.3462,  34.8850,2,   -999.0,9,    319.4,2,     5.63,2,    10.74,2,     0.02,2,     0.79,2,   -999.0,9,   -999.0,9,  -999.00,9,  -0.3763
  06AQ20070728,EurArc,   286,  1,      2,      2,2,20070820,2031, 82.2400,  86.2530, 1013,    759.8,  -0.3464,  34.8850,2,   -999.0,9,    319.4,2,     5.97,2,    11.07,2,     0.02,2,     0.80,2,   -999.0,9,   -999.0,9,  -999.00,9,  -0.3765
  06AQ20070728,EurArc,   286,  1,      4,      4,2,20070820,2031, 82.2400,  86.2530, 1013,    506.3,   0.6332,  34.8850,2,   -999.0,9,    312.8,2,  -999.00,9,  -999.00,9,  -999.00,9,  -999.00,9,   -999.0,9,   -999.0,9,  -999.00,9,   0.6102
  06AQ20070728,EurArc,   286,  1,      5,      5,2,20070820,2031, 82.2400,  86.2530, 1013,    506.3,   0.6355,  34.8860,2,   -999.0,9,    312.8,2,     5.61,2,    11.55,2,     0.01,2,     0.82,2,   -999.0,9,   -999.0,9,  -999.00,9,   0.6125
  06AQ20070728,EurArc,   286,  1,      6,      6,2,20070820,2031, 82.2400,  86.2530, 1013,    303.6,   2.0955,  34.9310,2,   -999.0,9,    307.2,2,     4.72,2,    11.42,2,     0.01,2,     0.80,2,   -999.0,9,   -999.0,9,  -999.00,9,   2.0786
  06AQ20070728,EurArc,   286,  1,      7,      7,2,20070820,2031, 82.2400,  86.2530, 1013,    303.6,   2.0896,  34.9310,2,   -999.0,9,    307.2,2,     4.74,2,    11.47,2,     0.01,2,     0.80,2,   -999.0,9,   -999.0,9,  -999.00,9,   2.0727
  06AQ20070728,EurArc,   286,  1,      8,      8,2,20070820,2031, 82.2400,  86.2530, 1013,    202.3,   2.4178,  34.9380,2,   -999.0,9,    304.6,2,     4.53,2,    11.39,2,     0.02,2,     0.79,2,   -999.0,9,   -999.0,9,  -999.00,9,   2.4061
  06AQ20070728,EurArc,   286,  1,      9,      9,2,20070820,2031, 82.2400,  86.2530, 1013,    151.8,   2.3520,  34.8880,2,    292.9,2,    307.8,2,     4.40,2,    11.18,2,     0.02,2,     0.77,2,   -999.0,9,   -999.0,9,     0.22,2,   2.3434
  06AQ20070728,EurArc,   286,  1,     10,     10,2,20070820,2031, 82.2400,  86.2530, 1013,    126.5,   2.5039,  34.8790,2,    292.4,2,    304.3,2,     4.26,2,    10.81,2,     0.02,2,     0.76,2,   -999.0,9,   -999.0,9,     0.26,2,   2.4966
  06AQ20070728,EurArc,   286,  1,     11,     11,2,20070820,2031, 82.2400,  86.2530, 1013,    101.4,  -0.0493,  34.6940,2,    310.9,2,    323.1,2,     3.94,2,     9.96,2,     0.02,2,     0.71,2,   -999.0,9,   -999.0,9,     0.10,2,  -0.0529
  06AQ20070728,EurArc,   286,  1,     12,     12,2,20070820,2031, 82.2400,  86.2530, 1013,     75.9,  -1.6949,  34.3800,2,    323.2,2,    335.0,2,     3.17,2,     7.67,2,     0.03,2,     0.60,2,   -999.0,9,   -999.0,9,    -0.15,2,  -1.6965
  06AQ20070728,EurArc,   286,  1,     13,     13,2,20070820,2031, 82.2400,  86.2530, 1013,     50.6,  -1.3266,  34.2770,2,    333.0,2,    348.9,2,     2.29,2,     6.92,2,     0.10,2,     0.54,2,   -999.0,9,   -999.0,9,     0.03,2,  -1.3278
  06AQ20070728,EurArc,   287,  1,      1,      1,2,20070820,2053, 82.3340,  86.1940, 1339,   1349.8,  -0.5854,  34.9040,2,   -999.0,9,    314.5,2,     7.68,2,    12.17,2,     0.02,2,     0.87,2,   -999.0,9,   -999.0,9,  -999.00,9,  -0.6434
  06AQ20070728,EurArc,   287,  1,      2,      2,2,20070820,2053, 82.3340,  86.1940, 1339,   1267.1,  -0.5456,  34.8980,2,   -999.0,9,    324.0,2,     6.13,2,    10.85,2,     0.01,2,     0.80,2,   -999.0,9,   -999.0,9,  -999.00,9,  -0.5995
  06AQ20070728,EurArc,   287,  1,      3,      3,2,20070820,2053, 82.3340,  86.1940, 1339,   1013.5,  -0.4288,  34.8900,2,   -999.0,9,    323.9,2,     5.70,2,    10.86,2,     0.01,2,     0.78,2,   -999.0,9,   -999.0,9,  -999.00,9,  -0.4706
  06AQ20070728,EurArc,   287,  1,      5,      5,2,20070820,2053, 82.3340,  86.1940, 1339,    759.6,  -0.0121,  34.8810,2,   -999.0,9,    319.4,2,     5.46,2,    11.24,2,     0.01,2,     0.80,2,   -999.0,9,   -999.0,9,  -999.00,9,  -0.0443
  06AQ20070728,EurArc,   287,  1,      4,      4,2,20070820,2053, 82.3340,  86.1940, 1339,    759.5,  -0.0202,  34.8810,2,   -999.0,9,    319.4,2,     5.46,2,    11.22,2,     0.01,2,     0.80,2,   -999.0,9,   -999.0,9,  -999.00,9,  -0.0523
  06AQ20070728,EurArc,   287,  1,      6,      6,2,20070820,2053, 82.3340,  86.1940, 1339,    506.3,   1.6659,  34.9480,2,   -999.0,9,    307.3,2,     5.55,2,    12.32,2,     0.01,2,     0.84,2,   -999.0,9,   -999.0,9,  -999.00,9,   1.6385
  06AQ20070728,EurArc,   287,  1,      7,      7,2,20070820,2053, 82.3340,  86.1940, 1339,    303.6,   2.7466,  34.9880,2,   -999.0,9,    302.7,2,     5.03,2,    12.20,2,     0.01,2,     0.83,2,   -999.0,9,   -999.0,9,  -999.00,9,   2.7280
  06AQ20070728,EurArc,   287,  1,      8,      8,2,20070820,2053, 82.3340,  86.1940, 1339,    202.4,   2.9995,  34.9770,2,   -999.0,9,    300.9,2,     4.74,2,    11.99,2,     0.01,2,     0.81,2,   -999.0,9,   -999.0,9,  -999.00,9,   2.9869
  06AQ20070728,EurArc,   287,  1,      9,      9,2,20070820,2053, 82.3340,  86.1940, 1339,    151.8,   3.1522,  34.9490,2,    288.6,2,    299.7,2,     4.60,2,    11.74,2,     0.01,2,     0.79,2,   -999.0,9,   -999.0,9,     0.18,2,   3.1426
  06AQ20070728,EurArc,   287,  1,     10,     10,2,20070820,2053, 82.3340,  86.1940, 1339,    126.7,   3.2433,  34.9460,2,    288.8,2,    300.1,2,     4.50,2,    11.38,2,     0.02,2,     0.77,2,   -999.0,9,   -999.0,9,     0.16,2,   3.2352
  06AQ20070728,EurArc,   287,  1,     11,     11,2,20070820,2053, 82.3340,  86.1940, 1339,    101.5,   2.9510,  34.8880,2,    289.4,2,    300.9,2,     4.38,2,    11.20,2,     0.02,2,     0.76,2,   -999.0,9,   -999.0,9,     0.13,2,   2.9448
  06AQ20070728,EurArc,   287,  1,     12,     12,2,20070820,2053, 82.3340,  86.1940, 1339,     76.4,   1.9337,  34.7030,2,    294.7,2,    312.9,2,     4.00,2,    10.68,2,     0.03,2,     0.73,2,   -999.0,9,   -999.0,9,     0.11,2,   1.9297
  06AQ20070728,EurArc,   287,  1,     13,     13,2,20070820,2053, 82.3340,  86.1940, 1339,     50.7,  -1.3264,  34.3150,2,    325.1,2,    340.8,2,     2.90,2,     7.17,2,     0.04,2,     0.55,2,   -999.0,9,   -999.0,9,    -0.17,2,  -1.3276
  06AQ20070728,EurArc,   287,  1,     14,     14,2,20070820,2053, 82.3340,  86.1940, 1339,     25.0,  -1.6081,  33.9000,2,    342.0,2,    364.3,2,     2.24,2,     5.19,2,     0.12,2,     0.45,2,   -999.0,9,   -999.0,9,    -0.07,2,  -1.6086
  06AQ20070728,EurArc,   287,  1,     15,     15,2,20070820,2053, 82.3340,  86.1940, 1339,     10.1,  -1.7155,  32.8790,2,    367.5,2,    376.1,2,     2.12,2,     1.77,2,     0.05,2,     0.25,2,   -999.0,9,   -999.0,9,    -0.36,2,  -1.7157
  06AQ20070728,EurArc,   287,  1,     16,     16,2,20070820,2053, 82.3340,  86.1940, 1339,      2.0,  -1.7224,  32.8550,2,    368.2,2,    373.0,2,     2.12,2,     1.75,2,     0.05,2,     0.24,2,   -999.0,9,   -999.0,9,    -0.39,2,  -1.7224
  06AQ20070728,EurArc,   288,  1,      1,      1,2,20070821,0125, 82.4190,  86.3340, 1617,   1633.6,  -0.7149,  34.9120,2,   -999.0,9,    303.8,2,     9.93,2,    14.04,2,     0.02,2,     0.96,2,   -999.0,9,   -999.0,9,  -999.00,9,  -0.7875
  06AQ20070728,EurArc,   288,  1,      2,      2,2,20070821,0125, 82.4190,  86.3340, 1617,   1191.8,  -0.5129,  34.8950,2,   -999.0,9,    324.0,2,  -999.00,9,  -999.00,9,  -999.00,9,  -999.00,9,   -999.0,9,   -999.0,9,  -999.00,9,  -0.5631
  06AQ20070728,EurArc,   288,  1,      4,      4,2,20070821,0125, 82.4190,  86.3340, 1617,   1191.8,  -0.5144,  34.8950,2,   -999.0,9,    324.0,2,  -999.00,9,  -999.00,9,  -999.00,9,  -999.00,9,   -999.0,9,   -999.0,9,  -999.00,9,  -0.5646
  06AQ20070728,EurArc,   288,  1,      8,      8,2,20070821,0125, 82.4190,  86.3340, 1617,   1191.8,  -0.5127,  34.8950,2,   -999.0,9,    324.0,2,  -999.00,9,  -999.00,9,  -999.00,9,  -999.00,9,   -999.0,9,   -999.0,9,  -999.00,9,  -0.5629
  06AQ20070728,EurArc,   288,  1,      5,      5,2,20070821,0125, 82.4190,  86.3340, 1617,   1191.8,  -0.5138,  34.8950,2,   -999.0,9,    324.0,2,  -999.00,9,  -999.00,9,  -999.00,9,  -999.00,9,   -999.0,9,   -999.0,9,  -999.00,9,  -0.5640
  06AQ20070728,EurArc,   288,  1,      3,      3,2,20070821,0125, 82.4190,  86.3340, 1617,   1191.8,  -0.5136,  34.8950,2,   -999.0,9,    324.0,2,  -999.00,9,  -999.00,9,  -999.00,9,  -999.00,9,   -999.0,9,   -999.0,9,  -999.00,9,  -0.5638
  06AQ20070728,EurArc,   288,  1,      6,      6,2,20070821,0125, 82.4190,  86.3340, 1617,   1191.8,  -0.5147,  34.8950,2,   -999.0,9,    324.0,2,  -999.00,9,  -999.00,9,  -999.00,9,  -999.00,9,   -999.0,9,   -999.0,9,  -999.00,9,  -0.5649
  06AQ20070728,EurArc,   288,  1,      7,      7,2,20070821,0125, 82.4190,  86.3340, 1617,   1191.8,  -0.5137,  34.8950,2,   -999.0,9,    324.0,2,  -999.00,9,  -999.00,9,  -999.00,9,  -999.00,9,   -999.0,9,   -999.0,9,  -999.00,9,  -0.5639
  06AQ20070728,EurArc,   288,  1,      9,      9,2,20070821,0125, 82.4190,  86.3340, 1617,   1191.7,  -0.5126,  34.8950,2,   -999.0,9,    324.0,2,  -999.00,9,  -999.00,9,  -999.00,9,  -999.00,9,   -999.0,9,   -999.0,9,  -999.00,9,  -0.5628
  06AQ20070728,EurArc,   288,  1,     10,     10,2,20070821,0125, 82.4190,  86.3340, 1617,   1013.1,  -0.4156,  34.8870,2,   -999.0,9,    322.1,2,     5.42,2,    10.73,2,     0.02,2,     0.77,2,   -999.0,9,   -999.0,9,  -999.00,9,  -0.4575
  06AQ20070728,EurArc,   288,  1,     11,     11,2,20070821,0125, 82.4190,  86.3340, 1617,    759.7,   0.2436,  34.8950,2,   -999.0,9,    313.7,2,     5.83,2,    11.83,2,     0.01,2,     0.82,2,   -999.0,9,   -999.0,9,  -999.00,9,   0.2098
  06AQ20070728,EurArc,   288,  1,     12,     12,2,20070821,0125, 82.4190,  86.3340, 1617,    505.8,   1.6924,  34.9460,2,   -999.0,9,    307.2,2,     5.50,2,    12.33,2,     0.01,2,     0.84,2,   -999.0,9,   -999.0,9,  -999.00,9,   1.6650
  06AQ20070728,EurArc,   288,  1,     13,     13,2,20070821,0125, 82.4190,  86.3340, 1617,    404.5,   2.3039,  34.9780,2,   -999.0,9,    305.7,2,     5.20,2,    12.40,2,     0.01,2,     0.83,2,   -999.0,9,   -999.0,9,  -999.00,9,   2.2803
  06AQ20070728,EurArc,   288,  1,     14,     14,2,20070821,0125, 82.4190,  86.3340, 1617,    304.4,   2.6800,  34.9770,2,   -999.0,9,    303.9,2,     4.91,2,    12.20,2,     0.01,2,     0.82,2,   -999.0,9,   -999.0,9,  -999.00,9,   2.6615
  06AQ20070728,EurArc,   288,  1,     15,     15,2,20070821,0125, 82.4190,  86.3340, 1617,    253.3,   2.8033,  34.9720,2,   -999.0,9,    302.7,2,     4.78,2,    12.14,2,     0.02,2,     0.80,2,   -999.0,9,   -999.0,9,  -999.00,9,   2.7878
  06AQ20070728,EurArc,   288,  1,     16,     16,2,20070821,0125, 82.4190,  86.3340, 1617,    202.1,   2.8400,  34.9540,2,   -999.0,9,    302.6,2,     4.65,2,    11.95,2,     0.02,2,     0.80,2,   -999.0,9,   -999.0,9,  -999.00,9,   2.8277
  06AQ20070728,EurArc,   288,  1,     17,     17,2,20070821,0125, 82.4190,  86.3340, 1617,    151.6,   2.9028,  34.9250,2,    289.8,2,    301.8,2,     4.54,2,    11.67,2,     0.02,2,     0.78,2,   -999.0,9,   -999.0,9,     0.36,2,   2.8935
  06AQ20070728,EurArc,   288,  1,     18,     18,2,20070821,0125, 82.4190,  86.3340, 1617,    126.6,   3.1539,  34.9460,2,    289.3,2,    301.4,2,     4.50,2,    11.45,2,     0.02,2,     0.77,2,   -999.0,9,   -999.0,9,     0.20,2,   3.1459
  06AQ20070728,EurArc,   288,  1,     19,     19,2,20070821,0125, 82.4190,  86.3340, 1617,    100.9,   2.8096,  34.8760,2,    290.0,2,    303.3,2,     4.32,2,    11.14,2,     0.02,2,     0.75,2,   -999.0,9,   -999.0,9,     0.26,2,   2.8036
  06AQ20070728,EurArc,   288,  1,     20,     20,2,20070821,0125, 82.4190,  86.3340, 1617,     76.8,   1.4970,  34.6970,2,    299.7,2,    317.1,2,     3.87,2,    10.19,2,     0.02,2,     0.70,2,   -999.0,9,   -999.0,9,     0.12,2,   1.4933
  06AQ20070728,EurArc,   288,  1,     21,     21,2,20070821,0125, 82.4190,  86.3340, 1617,     50.3,  -0.7947,  34.3300,2,    324.1,2,    337.2,2,     2.72,2,     7.57,2,     0.09,2,     0.56,2,   -999.0,9,   -999.0,9,    -0.05,2,  -0.7961
  06AQ20070728,EurArc,   288,  1,     22,     22,2,20070821,0125, 82.4190,  86.3340, 1617,     25.4,  -1.6226,  33.5110,2,    352.0,2,    361.7,2,     2.01,2,     4.35,2,     0.06,2,     0.40,2,   -999.0,9,   -999.0,9,    -0.06,2,  -1.6231
  06AQ20070728,EurArc,   288,  1,     23,     23,2,20070821,0125, 82.4190,  86.3340, 1617,     10.0,  -1.6725,  33.1160,2,    356.4,2,    365.5,2,     1.96,2,     3.19,2,     0.05,2,     0.33,2,   -999.0,9,   -999.0,9,    -0.19,2,  -1.6727
  06AQ20070728,EurArc,   288,  1,     24,     24,2,20070821,0125, 82.4190,  86.3340, 1617,      2.2,  -1.6970,  32.9710,2,    355.7,2,    364.5,2,     1.90,2,     3.05,2,     0.05,2,     0.32,2,   -999.0,9,   -999.0,9,    -0.17,2,  -1.6970