BOTTLE,20220921CCHSIOAMB
EXPOCODE,SECT_ID,STNNBR,CASTNO,SAMPNO,BTLNBR,BTLNBR_FLAG_W,DATE,TIME,LATITUDE,LONGITUDE,DEPTH,CTDPRS,CTDTMP,CTDSAL,CTDSAL_FLAG_W,CTDOXY,CTDOXY_FLAG_W,OXYGEN,OXYGEN_FLAG_W,SILCAT,SILCAT_FLAG_W,NITRAT,NITRAT_FLAG_W,NITRIT,NITRIT_FLAG_W,PHSPHT,PHSPHT_FLAG_W,TCARBN,TCARBN_FLAG_W,ALKALI,ALKALI_FLAG_W,DELO18,DELO18_FLAG_W,THETA
,,,,,,,,,,,METERS,DBAR,ITS-90,PSS-78,,UMOL/KG,,UMOL/KG,,UMOL/KG,,UMOL/KG,,UMOL/KG,,UMOL/KG,,UMOL/KG,,UMOL/KG,,/MILLE,,DEG C
  06AQ20070728,EurArc,   280,  1,      1,      1,2,20070819,2308, 81.4150,  86.2490,  379,    375.2,  -0.6099,  34.8750,2,   -999.0,9,    329.7,2,     4.85,2,     9.95,2,     0.03,2,     0.74,2,   -999.0,9,   -999.0,9,  -999.00,9,  -0.6226
  06AQ20070728,EurArc,   280,  1,      2,      2,2,20070819,2308, 81.4150,  86.2490,  379,    303.7,  -0.5885,  34.8620,2,   -999.0,9,    329.4,2,     4.64,2,    10.03,2,     0.02,2,     0.73,2,   -999.0,9,   -999.0,9,  -999.00,9,  -0.5986
  06AQ20070728,EurArc,   280,  1,      3,      3,2,20070819,2308, 81.4150,  86.2490,  379,    278.5,  -0.6461,  34.8390,2,   -999.0,9,    330.3,2,     4.45,2,     9.88,2,     0.02,2,     0.72,2,   -999.0,9,   -999.0,9,  -999.00,9,  -0.6552
  06AQ20070728,EurArc,   280,  1,      4,      4,2,20070819,2308, 81.4150,  86.2490,  379,    202.5,   0.4211,  34.8460,2,   -999.0,9,    313.3,2,     4.77,2,    11.07,2,     0.03,2,     0.78,2,   -999.0,9,   -999.0,9,  -999.00,9,   0.4128
  06AQ20070728,EurArc,   280,  1,      5,      5,2,20070819,2308, 81.4150,  86.2490,  379,    151.7,   1.2156,  34.8690,2,    297.8,2,    309.2,2,     4.65,2,    11.36,2,     0.07,2,     0.79,2,   -999.0,9,   -999.0,9,     0.13,2,   1.2084
  06AQ20070728,EurArc,   280,  1,      6,      6,2,20070819,2308, 81.4150,  86.2490,  379,    124.7,   1.2344,  34.8230,2,    299.0,2,    311.9,2,     4.34,2,    10.96,2,     0.03,2,     0.76,2,   -999.0,9,   -999.0,9,     0.14,2,   1.2285
  06AQ20070728,EurArc,   280,  1,      7,      7,2,20070819,2308, 81.4150,  86.2490,  379,    111.3,   0.3876,  34.7210,2,    305.1,2,    317.4,2,     4.08,2,    10.24,2,     0.02,2,     0.72,2,   -999.0,9,   -999.0,9,  -999.00,9,   0.3832
  06AQ20070728,EurArc,   280,  1,      8,      8,2,20070819,2308, 81.4150,  86.2490,  379,    101.8,   1.0310,  34.7410,2,    300.5,2,    315.5,2,     3.95,2,    10.27,2,     0.05,2,     0.72,2,   -999.0,9,   -999.0,9,     0.09,2,   1.0264
  06AQ20070728,EurArc,   280,  1,      9,      9,2,20070819,2308, 81.4150,  86.2490,  379,     77.3,  -1.4381,  34.4940,2,    317.7,2,    331.2,2,     3.54,2,     8.56,2,     0.02,2,     0.64,2,   -999.0,9,   -999.0,9,    -0.02,2,  -1.4399
  06AQ20070728,EurArc,   280,  1,     10,     10,2,20070819,2308, 81.4150,  86.2490,  379,     50.7,  -1.7951,  34.4140,2,    322.5,2,    335.6,2,     3.07,2,     7.81,2,     0.03,2,     0.59,2,   -999.0,9,   -999.0,9,    -0.17,2,  -1.7961
  06AQ20070728,EurArc,   280,  1,     11,     11,2,20070819,2308, 81.4150,  86.2490,  379,     25.5,  -1.6698,  34.1090,2,    338.0,2,    362.9,2,     3.01,2,     6.87,2,     0.15,2,     0.56,2,   -999.0,9,   -999.0,9,    -0.27,2,  -1.6703
  06AQ20070728,EurArc,   280,  1,     12,     12,2,20070819,2308, 81.4150,  86.2490,  379,     18.4,  -1.4899,  33.1960,2,    369.6,2,    364.0,2,     2.76,2,     4.69,2,     0.14,2,     0.44,2,   -999.0,9,   -999.0,9,  -999.00,9,  -1.4903
  06AQ20070728,EurArc,   280,  1,     13,     13,2,20070819,2308, 81.4150,  86.2490,  379,     10.3,  -1.5466,  30.6250,2,    353.6,2,    363.0,2,     1.08,2,     0.05,2,     0.01,2,     0.09,2,   -999.0,9,   -999.0,9,    -1.07,2,  -1.5467
  06AQ20070728,EurArc,   280,  1,     14,     14,2,20070819,2308, 81.4150,  86.2490,  379,      1.8,  -1.5506,  30.6020,2,    352.6,2,    363.8,2,     1.02,2,     0.03,2,     0.01,2,     0.09,2,   -999.0,9,   -999.0,9,    -0.78,2,  -1.5506
  06AQ20070728,EurArc,   281,  1,      1,      1,2,20070820,0130, 81.5760,  86.2570,  389,    385.7,  -0.6785,  34.8710,2,   -999.0,9,    330.7,2,     5.01,2,     9.94,2,     0.02,2,     0.74,2,   -999.0,9,   -999.0,9,  -999.00,9,  -0.6914
  06AQ20070728,EurArc,   281,  1,      2,      2,2,20070820,0130, 81.5760,  86.2570,  389,    304.0,  -0.6085,  34.8610,2,   -999.0,9,    331.3,2,     4.56,2,     9.95,2,     0.01,2,     0.73,2,   -999.0,9,   -999.0,9,  -999.00,9,  -0.6186
  06AQ20070728,EurArc,   281,  1,      3,      3,2,20070820,0130, 81.5760,  86.2570,  389,    253.3,  -0.8607,  34.8010,2,   -999.0,9,    329.7,2,     4.34,2,     9.98,2,     0.01,2,     0.72,2,   -999.0,9,   -999.0,9,  -999.00,9,  -0.8684
  06AQ20070728,EurArc,   281,  1,      4,      4,2,20070820,0130, 81.5760,  86.2570,  389,    202.8,   0.3415,  34.8410,2,   -999.0,9,    316.8,2,     4.73,2,    10.95,2,     0.01,2,     0.77,2,   -999.0,9,   -999.0,9,  -999.00,9,   0.3333
  06AQ20070728,EurArc,   281,  1,      5,      5,2,20070820,0130, 81.5760,  86.2570,  389,    152.2,   0.9556,  34.8360,2,    301.1,2,    313.5,2,     4.59,2,    11.16,2,     0.01,2,     0.78,2,   -999.0,9,   -999.0,9,     0.19,2,   0.9488
  06AQ20070728,EurArc,   281,  1,      6,      6,2,20070820,0130, 81.5760,  86.2570,  389,    126.7,   0.8935,  34.7960,2,    302.2,2,    315.3,2,     4.31,2,    10.83,2,     0.02,2,     0.75,2,   -999.0,9,   -999.0,9,     0.11,2,   0.8879
  06AQ20070728,EurArc,   281,  1,      7,      7,2,20070820,0130, 81.5760,  86.2570,  389,    101.4,   0.1139,  34.6730,2,    310.7,2,    326.0,2,     3.97,2,    10.03,2,     0.04,2,     0.71,2,   -999.0,9,   -999.0,9,     0.08,2,   0.1101
  06AQ20070728,EurArc,   281,  1,      8,      8,2,20070820,0130, 81.5760,  86.2570,  389,     76.0,  -1.3489,  34.4340,2,    319.9,2,    333.0,2,     3.54,2,     8.59,2,     0.10,2,     0.64,2,   -999.0,9,   -999.0,9,     0.01,2,  -1.3507
  06AQ20070728,EurArc,   281,  1,      9,      9,2,20070820,0130, 81.5760,  86.2570,  389,     50.5,  -1.7494,  34.3820,2,    323.2,2,    337.6,2,     3.31,2,     8.14,2,     0.12,2,     0.62,2,   -999.0,9,   -999.0,9,    -0.07,2,  -1.7504
  06AQ20070728,EurArc,   281,  1,     10,     10,2,20070820,0130, 81.5760,  86.2570,  389,     25.2,  -1.6362,  33.7850,2,    348.8,2,    373.7,2,     2.72,2,     5.32,2,     0.20,2,     0.49,2,   -999.0,9,   -999.0,9,    -0.21,2,  -1.6367
  06AQ20070728,EurArc,   281,  1,     11,     11,2,20070820,0130, 81.5760,  86.2570,  389,     10.0,  -1.4258,  31.5580,2,    358.4,2,    360.3,2,     1.60,2,     1.03,2,     0.04,2,     0.18,2,   -999.0,9,   -999.0,9,    -0.72,2,  -1.4260
  06AQ20070728,EurArc,   281,  1,     12,     12,2,20070820,0130, 81.5760,  86.2570,  389,      2.1,  -1.4680,  30.6550,2,    351.3,2,    362.2,2,     0.87,2,     0.07,2,     0.01,2,     0.08,2,   -999.0,9,   -999.0,9,    -1.01,2,  -1.4680
  06AQ20070728,EurArc,   282,  1,      1,      1,2,20070820,0334, 81.7150,  86.2190,  345,    341.5,  -0.6365,  34.8730,2,   -999.0,9,    330.3,2,     4.94,2,     9.99,2,     0.02,2,     0.74,2,   -999.0,9,   -999.0,9,  -999.00,9,  -0.6479
  06AQ20070728,EurArc,   282,  1,      2,      2,2,20070820,0334, 81.7150,  86.2190,  345,    303.6,  -0.6580,  34.8690,2,   -999.0,9,    331.9,2,     4.74,2,     9.99,2,     0.02,2,     0.72,2,   -999.0,9,   -999.0,9,  -999.00,9,  -0.6679
  06AQ20070728,EurArc,   282,  1,      3,      3,2,20070820,0334, 81.7150,  86.2190,  345,    253.3,  -0.5738,  34.8420,2,   -999.0,9,    328.2,2,     4.55,2,    10.25,2,     0.01,2,     0.73,2,   -999.0,9,   -999.0,9,  -999.00,9,  -0.5821
  06AQ20070728,EurArc,   282,  1,      4,      4,2,20070820,0334, 81.7150,  86.2190,  345,    202.6,   0.1695,  34.8360,2,   -999.0,9,    318.4,2,     4.68,2,    10.96,2,     0.01,2,     0.76,2,   -999.0,9,   -999.0,9,  -999.00,9,   0.1616
  06AQ20070728,EurArc,   282,  1,      5,      5,2,20070820,0334, 81.7150,  86.2190,  345,    151.9,   1.0293,  34.8420,2,    301.6,2,    312.6,2,     4.57,2,    11.34,2,     0.01,2,     0.77,2,   -999.0,9,   -999.0,9,     0.15,2,   1.0224
  06AQ20070728,EurArc,   282,  1,      6,      6,2,20070820,0334, 81.7150,  86.2190,  345,    126.7,   1.0452,  34.8100,2,    301.4,2,    315.4,2,     4.35,2,    11.03,2,     0.02,2,     0.75,2,   -999.0,9,   -999.0,9,     0.15,2,   1.0394
  06AQ20070728,EurArc,   282,  1,      7,      7,2,20070820,0334, 81.7150,  86.2190,  345,    101.7,  -0.1553,  34.6400,2,    313.2,2,    323.8,2,     3.95,2,     9.98,2,     0.03,2,     0.70,2,   -999.0,9,   -999.0,9,     0.12,2,  -0.1588
  06AQ20070728,EurArc,   282,  1,      8,      8,2,20070820,0334, 81.7150,  86.2190,  345,     76.2,  -1.5944,  34.4670,2,    321.6,2,    331.7,2,     3.53,2,     8.83,2,     0.04,2,     0.64,2,   -999.0,9,   -999.0,9,    -0.01,2,  -1.5961
  06AQ20070728,EurArc,   282,  1,      9,      9,2,20070820,0334, 81.7150,  86.2190,  345,     50.5,  -1.7694,  34.3950,2,    324.4,2,    335.3,2,     3.33,2,     8.28,2,     0.15,2,     0.62,2,   -999.0,9,   -999.0,9,    -0.04,2,  -1.7704
  06AQ20070728,EurArc,   282,  1,     10,     10,2,20070820,0334, 81.7150,  86.2190,  345,     25.2,  -1.6592,  33.8900,2,    344.2,2,    369.8,2,     2.91,2,     5.69,2,     0.21,2,     0.50,2,   -999.0,9,   -999.0,9,    -0.30,2,  -1.6597
  06AQ20070728,EurArc,   282,  1,     11,     11,2,20070820,0334, 81.7150,  86.2190,  345,     10.4,  -1.5259,  30.9740,2,    360.1,2,    368.1,2,     1.97,2,     1.92,2,     0.09,2,     0.25,2,   -999.0,9,   -999.0,9,    -0.76,2,  -1.5261
  06AQ20070728,EurArc,   282,  1,     12,     12,2,20070820,0334, 81.7150,  86.2190,  345,      2.0,  -1.5335,  30.8160,2,    358.9,2,    367.5,2,     1.11,2,     0.13,2,     0.01,2,     0.10,2,   -999.0,9,   -999.0,9,    -0.91,2,  -1.5335
  06AQ20070728,EurArc,   283,  1,      1,      1,2,20070820,0704, 81.8690,  86.1120,  425,    424.1,  -0.5564,  34.8780,2,   -999.0,9,    331.9,2,     4.85,2,     9.99,2,     0.02,2,     0.74,2,   -999.0,9,   -999.0,9,  -999.00,9,  -0.5711
  06AQ20070728,EurArc,   283,  1,      2,      2,2,20070820,0704, 81.8690,  86.1120,  425,    404.2,  -0.5362,  34.8790,2,   -999.0,9,    332.0,2,     4.83,2,     9.97,2,     0.02,2,     0.74,2,   -999.0,9,   -999.0,9,  -999.00,9,  -0.5502
  06AQ20070728,EurArc,   283,  1,      3,      3,2,20070820,0704, 81.8690,  86.1120,  425,    404.2,  -0.5372,  34.8790,2,   -999.0,9,    332.0,2,     4.81,2,     9.92,2,     0.02,2,     0.74,2,   -999.0,9,   -999.0,9,  -999.00,9,  -0.5512
  06AQ20070728,EurArc,   283,  1,      4,      4,2,20070820,0704, 81.8690,  86.1120,  425,    303.6,  -0.5667,  34.8430,2,   -999.0,9,    330.5,2,  -999.00,9,  -999.00,9,  -999.00,9,  -999.00,9,   -999.0,9,   -999.0,9,  -999.00,9,  -0.5769
  06AQ20070728,EurArc,   283,  1,      5,      5,2,20070820,0704, 81.8690,  86.1120,  425,    252.4,  -0.2354,  34.8240,2,   -999.0,9,    326.8,2,     4.56,2,    10.54,2,     0.12,2,     0.76,2,   -999.0,9,   -999.0,9,  -999.00,9,  -0.2444
  06AQ20070728,EurArc,   283,  1,      6,      6,2,20070820,0704, 81.8690,  86.1120,  425,    202.2,   0.9172,  34.8700,2,   -999.0,9,    314.6,2,     4.82,2,    11.33,2,     0.06,2,     0.80,2,   -999.0,9,   -999.0,9,  -999.00,9,   0.9081
  06AQ20070728,EurArc,   283,  1,      8,      8,2,20070820,0704, 81.8690,  86.1120,  425,    151.9,   1.3023,  34.8510,2,   -999.0,9,    313.2,2,     4.46,2,    11.14,2,     0.04,2,     0.79,2,   -999.0,9,   -999.0,9,  -999.00,9,   1.2950
  06AQ20070728,EurArc,   283,  1,      7,      7,2,20070820,0704, 81.8690,  86.1120,  425,    151.8,   1.3357,  34.8560,2,    300.3,2,    313.2,2,     4.45,2,    11.09,2,     0.04,2,     0.78,2,   -999.0,9,   -999.0,9,     0.18,2,   1.3284
  06AQ20070728,EurArc,   283,  1,      9,      9,2,20070820,0704, 81.8690,  86.1120,  425,    126.2,   0.2631,  34.7340,2,    308.5,2,    322.5,2,     4.12,2,    10.15,2,     0.02,2,     0.73,2,   -999.0,9,   -999.0,9,     0.21,2,   0.2582
  06AQ20070728,EurArc,   283,  1,     10,     10,2,20070820,0704, 81.8690,  86.1120,  425,    100.7,  -1.2436,  34.5460,2,   -999.0,9,    331.0,2,     3.73,2,     8.82,2,     0.02,2,     0.66,2,   -999.0,9,   -999.0,9,  -999.00,9,  -1.2461
  06AQ20070728,EurArc,   283,  1,     11,     11,2,20070820,0704, 81.8690,  86.1120,  425,    100.7,  -1.2511,  34.5420,2,    318.3,2,    331.0,2,     3.81,2,     9.11,2,     0.03,2,     0.68,2,   -999.0,9,   -999.0,9,     0.09,2,  -1.2536
  06AQ20070728,EurArc,   283,  1,     12,     12,2,20070820,0704, 81.8690,  86.1120,  425,     75.1,  -1.7183,  34.4600,2,    322.3,2,    334.9,2,     3.55,2,     8.36,2,     0.03,2,     0.64,2,   -999.0,9,   -999.0,9,     0.06,2,  -1.7198
  06AQ20070728,EurArc,   283,  1,     13,     13,2,20070820,0704, 81.8690,  86.1120,  425,     50.5,  -1.7776,  34.4120,2,   -999.0,9,    337.2,2,     3.39,2,     8.10,2,     0.06,2,     0.62,2,   -999.0,9,   -999.0,9,  -999.00,9,  -1.7786
  06AQ20070728,EurArc,   283,  1,     14,     14,2,20070820,0704, 81.8690,  86.1120,  425,     50.5,  -1.7779,  34.4120,2,    324.1,2,    337.2,2,     3.38,2,     8.06,2,     0.06,2,     0.63,2,   -999.0,9,   -999.0,9,    -0.02,2,  -1.7789
  06AQ20070728,EurArc,   283,  1,     15,     15,2,20070820,0704, 81.8690,  86.1120,  425,     25.2,  -1.4911,  33.7710,2,    346.2,2,    366.3,2,     3.17,2,     5.77,2,     0.26,2,     0.52,2,   -999.0,9,   -999.0,9,    -0.26,2,  -1.4916
  06AQ20070728,EurArc,   283,  1,     16,     16,2,20070820,0704, 81.8690,  86.1120,  425,     20.2,  -1.5440,  33.4030,2,    359.2,2,    367.1,2,     2.28,2,     2.45,2,     0.15,2,     0.34,2,   -999.0,9,   -999.0,9,    -0.59,2,  -1.5444
  06AQ20070728,EurArc,   283,  1,     18,     18,2,20070820,0704, 81.8690,  86.1120,  425,     10.1,  -1.5886,  30.9720,2,    362.5,2,    370.4,2,     1.15,2,     0.12,2,     0.02,2,     0.13,2,   -999.0,9,   -999.0,9,    -0.86,2,  -1.5887
  06AQ20070728,EurArc,   283,  1,     17,     17,2,20070820,0704, 81.8690,  86.1120,  425,     10.1,  -1.5897,  30.9040,2,   -999.0,9,    370.4,2,     1.20,2,     0.24,2,     0.02,2,     0.14,2,   -999.0,9,   -999.0,9,  -999.00,9,  -1.5898
  06AQ20070728,EurArc,   283,  1,     19,     19,2,20070820,0704, 81.8690,  86.1120,  425,      1.7,  -1.5871,  30.7500,2,    359.3,2,    371.0,2,     1.01,2,  -999.00,9,     0.01,2,     0.10,2,   -999.0,9,   -999.0,9,    -0.97,2,  -1.5871
  06AQ20070728,EurArc,   284,  1,      1,      1,2,20070820,0958, 82.0210,  86.2010,  473,    469.8,  -0.4611,  34.8800,2,   -999.0,9,    328.6,2,     5.08,2,    10.37,2,     0.02,2,     0.75,2,   -999.0,9,   -999.0,9,  -999.00,9,  -0.4780
  06AQ20070728,EurArc,   284,  1,      2,      2,2,20070820,0958, 82.0210,  86.2010,  473,    404.5,  -0.4733,  34.8740,2,   -999.0,9,    327.8,2,     4.96,2,    10.35,2,     0.02,2,     0.75,2,   -999.0,9,   -999.0,9,  -999.00,9,  -0.4876
  06AQ20070728,EurArc,   284,  1,      4,      4,2,20070820,0958, 82.0210,  86.2010,  473,    303.4,   0.0942,  34.8580,2,   -999.0,9,    322.5,2,     4.73,2,    10.75,2,     0.04,2,     0.76,2,   -999.0,9,   -999.0,9,  -999.00,9,   0.0823
  06AQ20070728,EurArc,   284,  1,      3,      3,2,20070820,0958, 82.0210,  86.2010,  473,    303.2,  -0.0166,  34.8770,2,   -999.0,9,    322.4,2,     4.32,2,    10.94,2,     0.02,2,     0.76,2,   -999.0,9,   -999.0,9,  -999.00,9,  -0.0282
  06AQ20070728,EurArc,   284,  1,      5,      5,2,20070820,0958, 82.0210,  86.2010,  473,    201.6,   1.3201,  34.8420,2,   -999.0,9,    312.6,2,     4.31,2,    10.92,2,     0.02,2,     0.75,2,   -999.0,9,   -999.0,9,  -999.00,9,   1.3103
  06AQ20070728,EurArc,   284,  1,      6,      6,2,20070820,0958, 82.0210,  86.2010,  473,    151.3,   0.7381,  34.7520,2,    304.8,2,    317.7,2,     3.84,2,    10.04,2,     0.02,2,     0.71,2,   -999.0,9,   -999.0,9,     0.02,2,   0.7316
  06AQ20070728,EurArc,   284,  1,      7,      7,2,20070820,0958, 82.0210,  86.2010,  473,    126.3,  -0.2619,  34.6100,2,    312.0,2,    324.8,2,     3.63,2,     9.48,2,     0.02,2,     0.68,2,   -999.0,9,   -999.0,9,     0.00,2,  -0.2662
  06AQ20070728,EurArc,   284,  1,      8,      8,2,20070820,0958, 82.0210,  86.2010,  473,    101.2,  -1.4690,  34.4830,2,    321.1,2,    334.1,2,     3.24,2,     8.12,2,     0.02,2,     0.61,2,   -999.0,9,   -999.0,9,    -0.13,2,  -1.4713
  06AQ20070728,EurArc,   284,  1,      9,      9,2,20070820,0958, 82.0210,  86.2010,  473,     75.4,  -1.7308,  34.4240,2,    325.7,2,    336.9,2,     2.65,2,     7.24,2,     0.03,2,     0.56,2,   -999.0,9,   -999.0,9,    -0.15,2,  -1.7323
  06AQ20070728,EurArc,   284,  1,     10,     10,2,20070820,0958, 82.0210,  86.2010,  473,     50.6,  -1.6356,  34.3110,2,    325.9,2,    338.8,2,     2.91,2,     7.14,2,     0.04,2,     0.56,2,   -999.0,9,   -999.0,9,    -0.23,2,  -1.6367
  06AQ20070728,EurArc,   284,  1,     11,     11,2,20070820,0958, 82.0210,  86.2010,  473,     24.9,  -1.5980,  33.7150,2,    355.1,2,    377.0,2,     2.20,2,     4.18,2,     0.21,2,     0.44,2,   -999.0,9,   -999.0,9,    -0.46,2,  -1.5985
  06AQ20070728,EurArc,   284,  1,     12,     12,2,20070820,0958, 82.0210,  86.2010,  473,     20.4,  -1.3762,  33.2720,2,    369.6,2,    375.0,2,     2.06,2,     3.09,2,     0.15,2,     0.37,2,   -999.0,9,   -999.0,9,     0.19,2,  -1.3766
  06AQ20070728,EurArc,   284,  1,     13,     13,2,20070820,0958, 82.0210,  86.2010,  473,     20.4,  -1.3856,  33.2880,2,   -999.0,9,    375.0,2,     1.93,2,     3.01,2,     0.15,2,     0.36,2,   -999.0,9,   -999.0,9,  -999.00,9,  -1.3860
  06AQ20070728,EurArc,   284,  1,     14,     14,2,20070820,0958, 82.0210,  86.2010,  473,     10.5,  -1.3915,  31.3320,2,    361.0,2,    369.6,2,     1.57,2,     0.71,2,     0.04,2,     0.19,2,   -999.0,9,   -999.0,9,    -0.82,2,  -1.3917
  06AQ20070728,EurArc,   284,  1,     15,     15,2,20070820,0958, 82.0210,  86.2010,  473,      1.9,  -1.5463,  30.9100,2,    359.9,2,    369.4,2,     0.93,2,     0.05,2,     0.02,2,     0.10,2,   -999.0,9,   -999.0,9,    -1.04,2,  -1.5463