BOTTLE,20220921CCHSIOAMB
EXPOCODE,SECT_ID,STNNBR,CASTNO,SAMPNO,BTLNBR,BTLNBR_FLAG_W,DATE,TIME,LATITUDE,LONGITUDE,DEPTH,CTDPRS,CTDTMP,CTDSAL,CTDSAL_FLAG_W,CTDOXY,CTDOXY_FLAG_W,OXYGEN,OXYGEN_FLAG_W,SILCAT,SILCAT_FLAG_W,NITRAT,NITRAT_FLAG_W,NITRIT,NITRIT_FLAG_W,PHSPHT,PHSPHT_FLAG_W,TCARBN,TCARBN_FLAG_W,ALKALI,ALKALI_FLAG_W,DELO18,DELO18_FLAG_W,THETA
,,,,,,,,,,,METERS,DBAR,ITS-90,PSS-78,,UMOL/KG,,UMOL/KG,,UMOL/KG,,UMOL/KG,,UMOL/KG,,UMOL/KG,,UMOL/KG,,UMOL/KG,,/MILLE,,DEG C
  06AQ20070728,EurArc,   292,  1,      1,      1,2,20070821,2129, 82.8140,  86.2840, 2584,   2618.5,  -0.7779,  34.9360,2,   -999.0,9,    296.7,2,    11.50,2,    14.69,2,     0.01,2,     1.00,2,   -999.0,9,   -999.0,9,  -999.00,9,  -0.9154
  06AQ20070728,EurArc,   292,  1,      2,      2,2,20070821,2129, 82.8140,  86.2840, 2584,   2541.8,  -0.7683,  34.9280,2,   -999.0,9,    299.0,2,    11.00,2,    14.59,2,     0.01,2,     1.00,2,   -999.0,9,   -999.0,9,  -999.00,9,  -0.9003
  06AQ20070728,EurArc,   292,  1,      4,      4,2,20070821,2129, 82.8140,  86.2840, 2584,   2031.3,  -0.7251,  34.9180,2,   -999.0,9,    299.4,2,    10.75,2,    14.63,2,     0.01,2,     1.00,2,   -999.0,9,   -999.0,9,  -999.00,9,  -0.8223
  06AQ20070728,EurArc,   292,  1,      3,      3,2,20070821,2129, 82.8140,  86.2840, 2584,   2031.3,  -0.7251,  34.9180,2,   -999.0,9,    299.4,2,    10.71,2,    14.59,2,     0.01,2,     0.99,2,   -999.0,9,   -999.0,9,  -999.00,9,  -0.8223
  06AQ20070728,EurArc,   292,  1,      5,      5,2,20070821,2129, 82.8140,  86.2840, 2584,   1521.6,  -0.6312,  34.9110,2,   -999.0,9,    300.4,2,    10.31,2,    14.54,2,     0.01,2,     0.99,2,   -999.0,9,   -999.0,9,  -999.00,9,  -0.6984
  06AQ20070728,EurArc,   292,  1,      6,      6,2,20070821,2129, 82.8140,  86.2840, 2584,   1267.3,  -0.5262,  34.9100,2,   -999.0,9,    301.1,2,     9.81,2,    14.41,2,     0.01,2,     0.98,2,   -999.0,9,   -999.0,9,  -999.00,9,  -0.5804
  06AQ20070728,EurArc,   292,  1,      7,      7,2,20070821,2129, 82.8140,  86.2840, 2584,   1013.0,  -0.2694,  34.9090,2,   -999.0,9,    302.4,2,     8.66,2,    14.49,2,     0.01,2,     0.95,2,   -999.0,9,   -999.0,9,  -999.00,9,  -0.3125
  06AQ20070728,EurArc,   292,  1,      8,      8,2,20070821,2129, 82.8140,  86.2840, 2584,    759.6,   0.4182,  34.9180,2,   -999.0,9,    303.2,2,     7.24,2,    13.44,2,     0.01,2,     0.91,2,   -999.0,9,   -999.0,9,  -999.00,9,   0.3833
  06AQ20070728,EurArc,   292,  1,      9,      9,2,20070821,2129, 82.8140,  86.2840, 2584,    506.2,   1.8285,  34.9620,2,   -999.0,9,    305.1,2,     5.66,2,    12.60,2,     0.01,2,     0.85,2,   -999.0,9,   -999.0,9,  -999.00,9,   1.8005
  06AQ20070728,EurArc,   292,  1,     10,     10,2,20070821,2129, 82.8140,  86.2840, 2584,    404.9,   2.4175,  34.9870,2,   -999.0,9,    303.8,2,     5.26,2,    12.45,2,     0.01,2,     0.84,2,   -999.0,9,   -999.0,9,  -999.00,9,   2.3935
  06AQ20070728,EurArc,   292,  1,     11,     11,2,20070821,2129, 82.8140,  86.2840, 2584,    303.6,   2.7718,  34.9860,2,   -999.0,9,    302.4,2,     5.01,2,    12.28,2,     0.01,2,     0.82,2,   -999.0,9,   -999.0,9,  -999.00,9,   2.7532
  06AQ20070728,EurArc,   292,  1,     12,     12,2,20070821,2129, 82.8140,  86.2840, 2584,    252.7,   2.9306,  34.9830,2,   -999.0,9,    300.7,2,     4.85,2,    12.09,2,     0.01,2,     0.81,2,   -999.0,9,   -999.0,9,  -999.00,9,   2.9149
  06AQ20070728,EurArc,   292,  1,     13,     13,2,20070821,2129, 82.8140,  86.2840, 2584,    202.1,   2.8203,  34.9380,2,   -999.0,9,    300.0,2,     4.70,2,    12.01,2,     0.02,2,     0.80,2,   -999.0,9,   -999.0,9,  -999.00,9,   2.8080
  06AQ20070728,EurArc,   292,  1,     14,     14,2,20070821,2129, 82.8140,  86.2840, 2584,    151.5,   2.8289,  34.8900,2,    287.7,2,    300.6,2,     4.52,2,    11.70,2,     0.02,2,     0.78,2,   -999.0,9,   -999.0,9,     0.20,2,   2.8197
  06AQ20070728,EurArc,   292,  1,     15,     15,2,20070821,2129, 82.8140,  86.2840, 2584,    126.0,   2.3593,  34.7850,2,    290.4,2,    303.9,2,     4.22,2,    11.10,2,     0.02,2,     0.75,2,   -999.0,9,   -999.0,9,     0.18,2,   2.3522
  06AQ20070728,EurArc,   292,  1,     16,     16,2,20070821,2129, 82.8140,  86.2840, 2584,    100.8,   1.4045,  34.5510,2,    299.6,2,    320.2,2,     3.63,2,    10.24,2,     0.02,2,     0.71,2,   -999.0,9,   -999.0,9,     0.20,2,   1.3997
  06AQ20070728,EurArc,   292,  1,     17,     17,2,20070821,2129, 82.8140,  86.2840, 2584,     75.9,  -1.5385,  34.1870,2,    329.8,2,    344.2,2,     2.58,2,     7.92,2,     0.03,2,     0.58,2,   -999.0,9,   -999.0,9,     0.03,2,  -1.5401
  06AQ20070728,EurArc,   292,  1,     18,     18,2,20070821,2129, 82.8140,  86.2840, 2584,     50.5,  -1.8048,  34.1150,2,    329.8,2,    340.0,2,     2.33,2,     6.96,2,     0.10,2,     0.52,2,   -999.0,9,   -999.0,9,     0.08,2,  -1.8058
  06AQ20070728,EurArc,   292,  1,     19,     19,2,20070821,2129, 82.8140,  86.2840, 2584,     25.2,  -1.6922,  34.0080,2,    343.0,2,    361.8,2,     2.16,2,     5.70,2,     0.06,2,     0.47,2,   -999.0,9,   -999.0,9,     0.03,2,  -1.6927
  06AQ20070728,EurArc,   292,  1,     20,     20,2,20070821,2129, 82.8140,  86.2840, 2584,     14.9,  -1.6826,  33.1300,2,    389.9,2,    385.7,2,     1.93,2,     3.73,2,     0.04,2,     0.37,2,   -999.0,9,   -999.0,9,    -0.01,2,  -1.6829
  06AQ20070728,EurArc,   292,  1,     21,     21,2,20070821,2129, 82.8140,  86.2840, 2584,     10.1,  -1.6938,  32.9370,2,    398.0,2,    403.4,2,     1.63,2,     0.57,2,     0.02,2,     0.19,2,   -999.0,9,   -999.0,9,  -999.00,9,  -1.6940
  06AQ20070728,EurArc,   292,  1,     22,     22,2,20070821,2129, 82.8140,  86.2840, 2584,      1.9,  -1.6858,  32.9100,2,    399.8,2,    402.7,2,     1.58,2,     0.17,2,     0.02,2,     0.16,2,   -999.0,9,   -999.0,9,    -0.12,2,  -1.6858
  06AQ20070728,EurArc,   293,  1,      1,      1,2,20070822,0156, 82.9680,  86.2680, 2889,   2932.2,  -0.7580,  34.9370,2,   -999.0,9,    296.8,2,    11.51,2,    14.84,2,     0.02,2,     1.00,2,   -999.0,9,   -999.0,9,  -999.00,9,  -0.9202
  06AQ20070728,EurArc,   293,  1,      2,      2,2,20070822,0156, 82.9680,  86.2680, 2889,   2542.3,  -0.7629,  34.9260,2,   -999.0,9,    299.2,2,    10.92,2,    14.66,2,     0.02,2,     0.99,2,   -999.0,9,   -999.0,9,  -999.00,9,  -0.8950
  06AQ20070728,EurArc,   293,  1,      4,      4,2,20070822,0156, 82.9680,  86.2680, 2889,   2030.9,  -0.7384,  34.9180,2,   -999.0,9,    299.1,2,    10.74,2,    14.68,2,     0.01,2,     0.99,2,   -999.0,9,   -999.0,9,  -999.00,9,  -0.8354
  06AQ20070728,EurArc,   293,  1,      3,      3,2,20070822,0156, 82.9680,  86.2680, 2889,   2030.9,  -0.7385,  34.9180,2,   -999.0,9,    299.1,2,    10.75,2,    14.66,2,     0.01,2,     0.99,2,   -999.0,9,   -999.0,9,  -999.00,9,  -0.8355
  06AQ20070728,EurArc,   293,  1,      5,      5,2,20070822,0156, 82.9680,  86.2680, 2889,   1521.8,  -0.6488,  34.9120,2,   -999.0,9,    299.4,2,    10.24,2,    14.56,2,     0.01,2,     0.98,2,   -999.0,9,   -999.0,9,  -999.00,9,  -0.7158
  06AQ20070728,EurArc,   293,  1,      6,      6,2,20070822,0156, 82.9680,  86.2680, 2889,   1267.8,  -0.5312,  34.9100,2,   -999.0,9,    300.0,2,     9.62,2,    14.38,2,     0.01,2,     0.97,2,   -999.0,9,   -999.0,9,  -999.00,9,  -0.5853
  06AQ20070728,EurArc,   293,  1,      7,      7,2,20070822,0156, 82.9680,  86.2680, 2889,   1013.3,  -0.2686,  34.9090,2,   -999.0,9,    301.2,2,     8.57,2,    13.92,2,     0.02,2,     0.94,2,   -999.0,9,   -999.0,9,  -999.00,9,  -0.3117
  06AQ20070728,EurArc,   293,  1,      8,      8,2,20070822,0156, 82.9680,  86.2680, 2889,    759.5,   0.4261,  34.9170,2,   -999.0,9,    302.1,2,     7.13,2,    13.39,2,     0.02,2,     0.91,2,   -999.0,9,   -999.0,9,  -999.00,9,   0.3911
  06AQ20070728,EurArc,   293,  1,      9,      9,2,20070822,0156, 82.9680,  86.2680, 2889,    506.2,   1.9120,  34.9650,2,   -999.0,9,    304.7,2,     5.56,2,    12.60,2,     0.02,2,     0.85,2,   -999.0,9,   -999.0,9,  -999.00,9,   1.8836
  06AQ20070728,EurArc,   293,  1,     10,     10,2,20070822,0156, 82.9680,  86.2680, 2889,    404.4,   2.4197,  34.9790,2,   -999.0,9,    302.9,2,     5.17,2,    12.40,2,     0.02,2,     0.83,2,   -999.0,9,   -999.0,9,  -999.00,9,   2.3957
  06AQ20070728,EurArc,   293,  1,     11,     11,2,20070822,0156, 82.9680,  86.2680, 2889,    303.5,   2.8022,  34.9790,2,   -999.0,9,    301.3,2,     4.93,2,    12.16,2,     0.02,2,     0.81,2,   -999.0,9,   -999.0,9,  -999.00,9,   2.7835
  06AQ20070728,EurArc,   293,  1,     12,     12,2,20070822,0156, 82.9680,  86.2680, 2889,    252.6,   2.8746,  34.9640,2,   -999.0,9,    301.1,2,     4.72,2,    11.96,2,     0.02,2,     0.80,2,   -999.0,9,   -999.0,9,  -999.00,9,   2.8590
  06AQ20070728,EurArc,   293,  1,     13,     13,2,20070822,0156, 82.9680,  86.2680, 2889,    202.1,   3.1157,  34.9620,2,   -999.0,9,    300.5,2,     4.60,2,    11.70,2,     0.02,2,     0.79,2,   -999.0,9,   -999.0,9,  -999.00,9,   3.1029
  06AQ20070728,EurArc,   293,  1,     14,     14,2,20070822,0156, 82.9680,  86.2680, 2889,    151.7,   3.0835,  34.9350,2,    287.8,2,    300.3,2,     4.46,2,    11.27,2,     0.02,2,     0.76,2,   -999.0,9,   -999.0,9,     0.33,2,   3.0740
  06AQ20070728,EurArc,   293,  1,     15,     15,2,20070822,0156, 82.9680,  86.2680, 2889,    125.4,   2.6136,  34.8340,2,    289.0,2,    302.5,2,     4.30,2,    11.04,2,     0.02,2,     0.75,2,   -999.0,9,   -999.0,9,     0.33,2,   2.6063
  06AQ20070728,EurArc,   293,  1,     16,     16,2,20070822,0156, 82.9680,  86.2680, 2889,    101.0,   0.9223,  34.5270,2,    300.7,2,    315.2,2,     3.66,2,    10.24,2,     0.03,2,     0.71,2,   -999.0,9,   -999.0,9,     0.25,2,   0.9179
  06AQ20070728,EurArc,   293,  1,     17,     17,2,20070822,0156, 82.9680,  86.2680, 2889,     76.0,  -1.7559,  34.1700,2,    319.4,2,    332.9,2,     2.84,2,     8.32,2,     0.03,2,     0.60,2,   -999.0,9,   -999.0,9,     0.16,2,  -1.7574
  06AQ20070728,EurArc,   293,  1,     18,     18,2,20070822,0156, 82.9680,  86.2680, 2889,     49.9,  -1.7958,  34.1350,2,    323.0,2,    338.8,2,     2.57,2,     7.28,2,     0.12,2,     0.55,2,   -999.0,9,   -999.0,9,     0.15,2,  -1.7968
  06AQ20070728,EurArc,   293,  1,     19,     19,2,20070822,0156, 82.9680,  86.2680, 2889,     25.1,  -1.7199,  34.0590,2,    331.1,2,    354.0,2,     2.38,2,     6.09,2,     0.06,2,     0.49,2,   -999.0,9,   -999.0,9,     0.10,2,  -1.7204
  06AQ20070728,EurArc,   293,  1,     20,     20,2,20070822,0156, 82.9680,  86.2680, 2889,     10.5,  -1.6705,  33.3100,2,    374.2,2,    395.9,2,     1.82,2,     1.66,2,     0.04,2,     0.26,2,   -999.0,9,   -999.0,9,     0.10,2,  -1.6707
  06AQ20070728,EurArc,   293,  1,     21,     21,2,20070822,0156, 82.9680,  86.2680, 2889,      2.0,  -1.6710,  33.2570,2,    379.9,2,    395.3,2,     1.79,2,     1.32,2,     0.04,2,     0.24,2,   -999.0,9,   -999.0,9,     0.05,2,  -1.6710
  06AQ20070728,EurArc,   294,  1,      1,      1,2,20070822,0617, 83.1150,  86.2460, 3081,   3130.6,  -0.7435,  34.9390,2,   -999.0,9,    296.3,2,    11.53,2,    14.75,2,     0.02,2,     1.00,2,   -999.0,9,   -999.0,9,  -999.00,9,  -0.9222
  06AQ20070728,EurArc,   294,  1,      2,      2,2,20070822,0617, 83.1150,  86.2460, 3081,   2542.2,  -0.7623,  34.9260,2,   -999.0,9,    299.6,2,    10.89,2,    14.66,2,     0.01,2,     0.99,2,   -999.0,9,   -999.0,9,  -999.00,9,  -0.8944
  06AQ20070728,EurArc,   294,  1,      4,      4,2,20070822,0617, 83.1150,  86.2460, 3081,   2031.8,  -0.7408,  34.9180,2,   -999.0,9,    299.2,2,    10.79,2,    14.74,2,     0.01,2,     0.99,2,   -999.0,9,   -999.0,9,  -999.00,9,  -0.8378
  06AQ20070728,EurArc,   294,  1,      3,      3,2,20070822,0617, 83.1150,  86.2460, 3081,   2031.8,  -0.7408,  34.9180,2,   -999.0,9,    299.2,2,    10.78,2,    14.74,2,     0.01,2,     0.99,2,   -999.0,9,   -999.0,9,  -999.00,9,  -0.8378
  06AQ20070728,EurArc,   294,  1,      5,      5,2,20070822,0617, 83.1150,  86.2460, 3081,   1522.4,  -0.6574,  34.9120,2,   -999.0,9,    299.2,2,    10.31,2,    14.66,2,     0.01,2,     0.98,2,   -999.0,9,   -999.0,9,  -999.00,9,  -0.7243
  06AQ20070728,EurArc,   294,  1,      6,      6,2,20070822,0617, 83.1150,  86.2460, 3081,   1267.5,  -0.5438,  34.9100,2,   -999.0,9,    300.1,2,     9.71,2,    14.52,2,     0.01,2,     0.97,2,   -999.0,9,   -999.0,9,  -999.00,9,  -0.5978
  06AQ20070728,EurArc,   294,  1,      7,      7,2,20070822,0617, 83.1150,  86.2460, 3081,   1013.2,  -0.2862,  34.9080,2,   -999.0,9,    301.7,2,     8.65,2,    14.10,2,     0.01,2,     0.95,2,   -999.0,9,   -999.0,9,  -999.00,9,  -0.3292
  06AQ20070728,EurArc,   294,  1,      8,      8,2,20070822,0617, 83.1150,  86.2460, 3081,    759.8,   0.3786,  34.9160,2,   -999.0,9,    303.0,2,     7.26,2,    13.68,2,     0.02,2,     0.91,2,   -999.0,9,   -999.0,9,  -999.00,9,   0.3439
  06AQ20070728,EurArc,   294,  1,      9,      9,2,20070822,0617, 83.1150,  86.2460, 3081,    505.9,   1.7557,  34.9590,2,   -999.0,9,    305.1,2,     5.74,2,    12.90,2,     0.02,2,     0.85,2,   -999.0,9,   -999.0,9,  -999.00,9,   1.7280
  06AQ20070728,EurArc,   294,  1,     10,     10,2,20070822,0617, 83.1150,  86.2460, 3081,    404.9,   2.3343,  34.9840,2,   -999.0,9,    304.2,2,     5.32,2,    12.73,2,     0.02,2,     0.83,2,   -999.0,9,   -999.0,9,  -999.00,9,   2.3105
  06AQ20070728,EurArc,   294,  1,     11,     11,2,20070822,0617, 83.1150,  86.2460, 3081,    303.5,   2.6153,  34.9740,2,   -999.0,9,    302.7,2,     5.06,2,    12.57,2,     0.02,2,     0.83,2,   -999.0,9,   -999.0,9,  -999.00,9,   2.5971
  06AQ20070728,EurArc,   294,  1,     12,     12,2,20070822,0617, 83.1150,  86.2460, 3081,    252.7,   2.7028,  34.9610,2,   -999.0,9,    301.7,2,     4.85,2,    12.39,2,     0.02,2,     0.81,2,   -999.0,9,   -999.0,9,  -999.00,9,   2.6875
  06AQ20070728,EurArc,   294,  1,     13,     13,2,20070822,0617, 83.1150,  86.2460, 3081,    202.6,   2.7166,  34.9250,2,   -999.0,9,    299.8,2,     4.71,2,    12.23,2,     0.02,2,     0.80,2,   -999.0,9,   -999.0,9,  -999.00,9,   2.7044
  06AQ20070728,EurArc,   294,  1,     14,     14,2,20070822,0617, 83.1150,  86.2460, 3081,    151.6,   2.5545,  34.8730,2,   -999.0,9,    300.5,2,     4.49,2,    11.97,2,     0.02,2,     0.79,2,   -999.0,9,   -999.0,9,  -999.00,9,   2.5457
  06AQ20070728,EurArc,   294,  1,     15,     15,2,20070822,0617, 83.1150,  86.2460, 3081,    126.7,   2.0497,  34.7440,2,   -999.0,9,    304.6,2,     4.21,2,    11.41,2,     0.02,2,     0.75,2,   -999.0,9,   -999.0,9,  -999.00,9,   2.0429
  06AQ20070728,EurArc,   294,  1,     16,     16,2,20070822,0617, 83.1150,  86.2460, 3081,    101.5,   0.8985,  34.5300,2,   -999.0,9,    319.8,2,     3.57,2,    10.40,2,     0.02,2,     0.70,2,   -999.0,9,   -999.0,9,  -999.00,9,   0.8941
  06AQ20070728,EurArc,   294,  1,     17,     17,2,20070822,0617, 83.1150,  86.2460, 3081,     75.9,  -1.5374,  34.2380,2,   -999.0,9,    346.1,2,     2.22,2,     6.92,2,     0.07,2,     0.52,2,   -999.0,9,   -999.0,9,  -999.00,9,  -1.5391
  06AQ20070728,EurArc,   294,  1,     18,     18,2,20070822,0617, 83.1150,  86.2460, 3081,     50.6,  -1.7649,  34.1090,2,   -999.0,9,    346.6,2,     2.01,2,     6.06,2,     0.12,2,     0.47,2,   -999.0,9,   -999.0,9,  -999.00,9,  -1.7659
  06AQ20070728,EurArc,   294,  1,     19,     19,2,20070822,0617, 83.1150,  86.2460, 3081,     50.6,  -1.7651,  34.1090,2,   -999.0,9,    346.6,2,     2.02,2,     6.07,2,     0.11,2,     0.47,2,   -999.0,9,   -999.0,9,  -999.00,9,  -1.7661
  06AQ20070728,EurArc,   294,  1,     21,     21,2,20070822,0617, 83.1150,  86.2460, 3081,     25.1,  -1.6362,  33.6820,2,   -999.0,9,    380.9,2,     1.78,2,     4.06,2,     0.05,2,     0.37,2,   -999.0,9,   -999.0,9,  -999.00,9,  -1.6367
  06AQ20070728,EurArc,   294,  1,     20,     20,2,20070822,0617, 83.1150,  86.2460, 3081,     25.1,  -1.6364,  33.6920,2,   -999.0,9,    380.9,2,     1.75,2,     3.87,2,     0.04,2,     0.36,2,   -999.0,9,   -999.0,9,  -999.00,9,  -1.6369
  06AQ20070728,EurArc,   294,  1,     22,     22,2,20070822,0617, 83.1150,  86.2460, 3081,     20.3,  -1.6588,  33.2250,2,   -999.0,9,    396.8,2,     1.67,2,     2.58,2,     0.03,2,     0.29,2,   -999.0,9,   -999.0,9,  -999.00,9,  -1.6592
  06AQ20070728,EurArc,   294,  1,     23,     23,2,20070822,0617, 83.1150,  86.2460, 3081,      9.9,  -1.6718,  33.0130,2,   -999.0,9,    399.5,2,     1.60,2,     0.69,2,     0.02,2,     0.19,2,   -999.0,9,   -999.0,9,  -999.00,9,  -1.6720
  06AQ20070728,EurArc,   294,  1,     24,     24,2,20070822,0617, 83.1150,  86.2460, 3081,      2.1,  -1.6749,  32.9430,2,   -999.0,9,    398.7,2,     1.58,2,     0.48,2,     0.02,2,     0.18,2,   -999.0,9,   -999.0,9,  -999.00,9,  -1.6749