BOTTLE,20220921CCHSIOAMB
EXPOCODE,SECT_ID,STNNBR,CASTNO,SAMPNO,BTLNBR,BTLNBR_FLAG_W,DATE,TIME,LATITUDE,LONGITUDE,DEPTH,CTDPRS,CTDTMP,CTDSAL,CTDSAL_FLAG_W,CTDOXY,CTDOXY_FLAG_W,OXYGEN,OXYGEN_FLAG_W,SILCAT,SILCAT_FLAG_W,NITRAT,NITRAT_FLAG_W,NITRIT,NITRIT_FLAG_W,PHSPHT,PHSPHT_FLAG_W,TCARBN,TCARBN_FLAG_W,ALKALI,ALKALI_FLAG_W,DELO18,DELO18_FLAG_W,THETA
,,,,,,,,,,,METERS,DBAR,ITS-90,PSS-78,,UMOL/KG,,UMOL/KG,,UMOL/KG,,UMOL/KG,,UMOL/KG,,UMOL/KG,,UMOL/KG,,UMOL/KG,,/MILLE,,DEG C
  06AQ20070728,EurArc,   328, 11,      1,      1,2,20070903,0948, 87.8300,-170.5600, 3992,     75.9,  -1.5979,  33.0260,2,    291.7,2,    304.3,2,    14.85,2,     8.52,2,     0.03,2,     0.94,2,   -999.0,9,   -999.0,9,    -1.48,2,  -1.5993
  06AQ20070728,EurArc,   328, 11,      2,      2,2,20070903,0948, 87.8300,-170.5600, 3992,     75.9,  -1.5979,  33.0240,2,   -999.0,9,    304.3,2,  -999.00,9,  -999.00,9,  -999.00,9,  -999.00,9,   -999.0,9,   -999.0,9,  -999.00,9,  -1.5993
  06AQ20070728,EurArc,   328, 11,      4,      4,2,20070903,0948, 87.8300,-170.5600, 3992,     75.9,  -1.5977,  33.0190,2,   -999.0,9,    304.3,2,  -999.00,9,  -999.00,9,  -999.00,9,  -999.00,9,   -999.0,9,   -999.0,9,  -999.00,9,  -1.5991
  06AQ20070728,EurArc,   328, 11,      8,      8,2,20070903,0948, 87.8300,-170.5600, 3992,     75.9,  -1.5974,  33.0140,2,   -999.0,9,    304.3,2,  -999.00,9,  -999.00,9,  -999.00,9,  -999.00,9,   -999.0,9,   -999.0,9,  -999.00,9,  -1.5988
  06AQ20070728,EurArc,   328, 11,      5,      5,2,20070903,0948, 87.8300,-170.5600, 3992,     75.9,  -1.5977,  33.0190,2,   -999.0,9,    304.3,2,  -999.00,9,  -999.00,9,  -999.00,9,  -999.00,9,   -999.0,9,   -999.0,9,  -999.00,9,  -1.5991
  06AQ20070728,EurArc,   328, 11,      3,      3,2,20070903,0948, 87.8300,-170.5600, 3992,     75.9,  -1.5978,  33.0230,2,   -999.0,9,    304.3,2,  -999.00,9,  -999.00,9,  -999.00,9,  -999.00,9,   -999.0,9,   -999.0,9,  -999.00,9,  -1.5992
  06AQ20070728,EurArc,   328, 11,      6,      6,2,20070903,0948, 87.8300,-170.5600, 3992,     75.9,  -1.5976,  33.0170,2,   -999.0,9,    304.3,2,  -999.00,9,  -999.00,9,  -999.00,9,  -999.00,9,   -999.0,9,   -999.0,9,  -999.00,9,  -1.5990
  06AQ20070728,EurArc,   328, 11,      7,      7,2,20070903,0948, 87.8300,-170.5600, 3992,     75.9,  -1.5975,  33.0170,2,   -999.0,9,    304.3,2,  -999.00,9,  -999.00,9,  -999.00,9,  -999.00,9,   -999.0,9,   -999.0,9,  -999.00,9,  -1.5989
  06AQ20070728,EurArc,   328, 11,     16,     16,2,20070903,0948, 87.8300,-170.5600, 3992,     50.6,  -1.6249,  30.9460,2,    359.1,2,    373.3,2,     8.85,2,     3.46,2,     0.04,2,     0.58,2,   -999.0,9,   -999.0,9,    -3.10,2,  -1.6256
  06AQ20070728,EurArc,   328, 11,     17,     17,2,20070903,0948, 87.8300,-170.5600, 3992,     50.6,  -1.6245,  30.9490,2,   -999.0,9,    373.3,2,  -999.00,9,  -999.00,9,  -999.00,9,  -999.00,9,   -999.0,9,   -999.0,9,  -999.00,9,  -1.6252
  06AQ20070728,EurArc,   328, 11,     15,     15,2,20070903,0948, 87.8300,-170.5600, 3992,     50.6,  -1.6248,  30.9470,2,   -999.0,9,    373.3,2,  -999.00,9,  -999.00,9,  -999.00,9,  -999.00,9,   -999.0,9,   -999.0,9,  -999.00,9,  -1.6255
  06AQ20070728,EurArc,   328, 11,     14,     14,2,20070903,0948, 87.8300,-170.5600, 3992,     50.6,  -1.6250,  30.9580,2,   -999.0,9,    373.3,2,  -999.00,9,  -999.00,9,  -999.00,9,  -999.00,9,   -999.0,9,   -999.0,9,  -999.00,9,  -1.6257
  06AQ20070728,EurArc,   328, 11,     13,     13,2,20070903,0948, 87.8300,-170.5600, 3992,     50.6,  -1.6263,  30.9880,2,   -999.0,9,    373.3,2,  -999.00,9,  -999.00,9,  -999.00,9,  -999.00,9,   -999.0,9,   -999.0,9,  -999.00,9,  -1.6270
  06AQ20070728,EurArc,   328, 11,      9,      9,2,20070903,0948, 87.8300,-170.5600, 3992,     50.6,  -1.6274,  30.9810,2,   -999.0,9,    373.3,2,  -999.00,9,  -999.00,9,  -999.00,9,  -999.00,9,   -999.0,9,   -999.0,9,  -999.00,9,  -1.6281
  06AQ20070728,EurArc,   328, 11,     10,     10,2,20070903,0948, 87.8300,-170.5600, 3992,     50.6,  -1.6306,  31.0490,2,   -999.0,9,    373.3,2,  -999.00,9,  -999.00,9,  -999.00,9,  -999.00,9,   -999.0,9,   -999.0,9,  -999.00,9,  -1.6313
  06AQ20070728,EurArc,   328, 11,     11,     11,2,20070903,0948, 87.8300,-170.5600, 3992,     50.6,  -1.6257,  30.9810,2,   -999.0,9,    373.3,2,  -999.00,9,  -999.00,9,  -999.00,9,  -999.00,9,   -999.0,9,   -999.0,9,  -999.00,9,  -1.6264
  06AQ20070728,EurArc,   328, 11,     18,     18,2,20070903,0948, 87.8300,-170.5600, 3992,     50.6,  -1.6243,  30.9500,2,   -999.0,9,    373.3,2,  -999.00,9,  -999.00,9,  -999.00,9,  -999.00,9,   -999.0,9,   -999.0,9,  -999.00,9,  -1.6250
  06AQ20070728,EurArc,   328, 11,     12,     12,2,20070903,0948, 87.8300,-170.5600, 3992,     50.6,  -1.6247,  30.9570,2,   -999.0,9,    373.3,2,  -999.00,9,  -999.00,9,  -999.00,9,  -999.00,9,   -999.0,9,   -999.0,9,  -999.00,9,  -1.6254
  06AQ20070728,EurArc,   328, 11,     19,     19,2,20070903,0948, 87.8300,-170.5600, 3992,     50.6,  -1.6242,  30.9470,2,   -999.0,9,    373.3,2,  -999.00,9,  -999.00,9,  -999.00,9,  -999.00,9,   -999.0,9,   -999.0,9,  -999.00,9,  -1.6249
  06AQ20070728,EurArc,   328, 11,     22,     22,2,20070903,0948, 87.8300,-170.5600, 3992,     25.2,  -1.5349,  30.3430,2,    369.8,2,    381.9,2,     6.76,2,     1.46,2,     0.07,2,     0.44,2,   -999.0,9,   -999.0,9,    -3.68,2,  -1.5352
  06AQ20070728,EurArc,   328, 11,     20,     20,2,20070903,0948, 87.8300,-170.5600, 3992,     25.2,  -1.5447,  30.3780,2,   -999.0,9,    381.9,2,  -999.00,9,  -999.00,9,  -999.00,9,  -999.00,9,   -999.0,9,   -999.0,9,  -999.00,9,  -1.5450
  06AQ20070728,EurArc,   328, 11,     21,     21,2,20070903,0948, 87.8300,-170.5600, 3992,     25.2,  -1.5497,  30.4010,2,   -999.0,9,    381.9,2,  -999.00,9,  -999.00,9,  -999.00,9,  -999.00,9,   -999.0,9,   -999.0,9,  -999.00,9,  -1.5500
  06AQ20070728,EurArc,   328, 11,     23,     23,2,20070903,0948, 87.8300,-170.5600, 3992,     25.2,  -1.5321,  30.3310,2,   -999.0,9,    381.9,2,  -999.00,9,  -999.00,9,  -999.00,9,  -999.00,9,   -999.0,9,   -999.0,9,  -999.00,9,  -1.5324
  06AQ20070728,EurArc,   328, 11,     24,     24,2,20070903,0948, 87.8300,-170.5600, 3992,     10.4,  -1.5141,  29.1720,2,    377.2,2,    386.9,2,  -999.00,9,  -999.00,9,  -999.00,9,  -999.00,9,   -999.0,9,   -999.0,9,    -3.20,2,  -1.5142
  06AQ20070728,EurArc,   331,  1,      1,      1,2,20070903,1855, 87.6520,-157.6000, 2373,   2406.0,  -0.3797,  34.9520,2,   -999.0,9,    287.7,2,    12.46,2,    14.53,2,     0.01,2,     1.03,2,   -999.0,9,   -999.0,9,  -999.00,9,  -0.5092
  06AQ20070728,EurArc,   331,  1,      2,      2,2,20070903,1855, 87.6520,-157.6000, 2373,   2031.4,  -0.4089,  34.9490,2,   -999.0,9,    289.5,2,    11.97,2,    14.35,2,     0.01,2,     1.02,2,   -999.0,9,   -999.0,9,  -999.00,9,  -0.5113
  06AQ20070728,EurArc,   331,  1,      4,      4,2,20070903,1855, 87.6520,-157.6000, 2373,   1521.7,  -0.3601,  34.9290,2,   -999.0,9,    295.8,2,     9.46,2,    13.72,2,     0.01,2,     0.98,2,   -999.0,9,   -999.0,9,  -999.00,9,  -0.4306
  06AQ20070728,EurArc,   331,  1,      3,      3,2,20070903,1855, 87.6520,-157.6000, 2373,   1521.7,  -0.3601,  34.9290,2,   -999.0,9,    295.8,2,     8.09,3,    13.19,2,     0.01,2,     0.93,2,   -999.0,9,   -999.0,9,  -999.00,9,  -0.4306
  06AQ20070728,EurArc,   331,  1,      5,      5,2,20070903,1855, 87.6520,-157.6000, 2373,   1267.6,  -0.2905,  34.9110,2,   -999.0,9,    300.1,2,     8.08,2,    13.20,2,     0.01,2,     0.93,2,   -999.0,9,   -999.0,9,  -999.00,9,  -0.3471
  06AQ20070728,EurArc,   331,  1,      6,      6,2,20070903,1855, 87.6520,-157.6000, 2373,   1012.9,  -0.1525,  34.8910,2,   -999.0,9,    302.0,2,     7.15,2,    12.65,2,     0.01,2,     0.90,2,   -999.0,9,   -999.0,9,  -999.00,9,  -0.1965
  06AQ20070728,EurArc,   331,  1,      7,      7,2,20070903,1855, 87.6520,-157.6000, 2373,    759.2,   0.0821,  34.8730,2,   -999.0,9,    301.7,2,     6.62,2,    12.41,2,     0.01,2,     0.88,2,   -999.0,9,   -999.0,9,  -999.00,9,   0.0494
  06AQ20070728,EurArc,   331,  1,      8,      8,2,20070903,1855, 87.6520,-157.6000, 2373,    506.1,   0.5455,  34.8630,2,   -999.0,9,    299.9,2,     6.33,2,    12.25,2,     0.01,2,     0.86,2,   -999.0,9,   -999.0,9,  -999.00,9,   0.5229
  06AQ20070728,EurArc,   331,  1,      9,      9,2,20070903,1855, 87.6520,-157.6000, 2373,    404.1,   0.7993,  34.8590,2,   -999.0,9,    299.9,2,     6.12,2,    12.12,2,     0.01,2,     0.85,2,   -999.0,9,   -999.0,9,  -999.00,9,   0.7808
  06AQ20070728,EurArc,   331,  1,     10,     10,2,20070903,1855, 87.6520,-157.6000, 2373,    303.2,   0.9077,  34.8410,2,   -999.0,9,    297.9,2,     6.11,2,    12.13,2,     0.01,2,     0.84,2,   -999.0,9,   -999.0,9,  -999.00,9,   0.8938
  06AQ20070728,EurArc,   331,  1,     11,     11,2,20070903,1855, 87.6520,-157.6000, 2373,    202.2,   0.3360,  34.6520,2,   -999.0,9,    297.2,2,     6.38,2,    11.22,2,     0.01,2,     0.81,2,   -999.0,9,   -999.0,9,  -999.00,9,   0.3279
  06AQ20070728,EurArc,   331,  1,     12,     12,2,20070903,1855, 87.6520,-157.6000, 2373,    151.6,  -0.5044,  34.4140,2,    291.1,2,    305.4,2,     5.74,2,     9.57,2,     0.01,2,     0.73,2,   -999.0,9,   -999.0,9,    -0.12,2,  -0.5092
  06AQ20070728,EurArc,   331,  1,     13,     13,2,20070903,1855, 87.6520,-157.6000, 2373,    126.4,  -1.0351,  34.2410,2,    294.5,2,    307.6,2,     5.74,2,     8.88,2,     0.02,2,     0.71,2,   -999.0,9,   -999.0,9,    -0.20,2,  -1.0385
  06AQ20070728,EurArc,   331,  1,     14,     14,2,20070903,1855, 87.6520,-157.6000, 2373,    101.1,  -1.4645,  34.0340,2,    294.8,2,    306.4,2,     6.36,2,     8.44,2,     0.02,2,     0.70,2,   -999.0,9,   -999.0,9,    -0.44,2,  -1.4668
  06AQ20070728,EurArc,   331,  1,     15,     15,2,20070903,1855, 87.6520,-157.6000, 2373,     75.5,  -1.5923,  33.4680,2,    292.6,2,    307.4,2,     9.61,2,     8.28,2,     0.02,2,     0.78,2,   -999.0,9,   -999.0,9,    -0.86,2,  -1.5938
  06AQ20070728,EurArc,   331,  1,     16,     16,2,20070903,1855, 87.6520,-157.6000, 2373,     70.7,  -1.5923,  33.4410,2,   -999.0,9,    304.2,2,    10.61,2,     8.29,2,     0.02,2,     0.81,2,   -999.0,9,   -999.0,9,  -999.00,9,  -1.5937
  06AQ20070728,EurArc,   331,  1,     17,     17,2,20070903,1855, 87.6520,-157.6000, 2373,     70.7,  -1.6088,  33.1810,2,    292.7,2,    304.3,2,    10.95,2,     8.27,2,     0.02,2,     0.82,2,   -999.0,9,   -999.0,9,    -1.01,2,  -1.6101
  06AQ20070728,EurArc,   331,  1,     18,     18,2,20070903,1855, 87.6520,-157.6000, 2373,     50.8,  -1.5785,  31.8250,2,   -999.0,9,    379.5,2,    15.40,2,     6.89,2,     0.03,2,     1.04,2,   -999.0,9,   -999.0,9,  -999.00,9,  -1.5793
  06AQ20070728,EurArc,   331,  1,     20,     20,2,20070903,1855, 87.6520,-157.6000, 2373,     50.8,  -1.6092,  31.2320,2,    325.3,2,    379.7,2,    15.23,2,     6.81,2,     0.03,2,     1.03,2,   -999.0,9,   -999.0,9,    -2.24,2,  -1.6100
  06AQ20070728,EurArc,   331,  1,     19,     19,2,20070903,1855, 87.6520,-157.6000, 2373,     50.8,  -1.5922,  31.5530,2,   -999.0,9,    379.6,2,    15.60,2,     6.98,2,     0.03,2,     1.04,2,   -999.0,9,   -999.0,9,  -999.00,9,  -1.5930
  06AQ20070728,EurArc,   331,  1,     21,     21,2,20070903,1855, 87.6520,-157.6000, 2373,     24.9,  -1.4961,  29.5990,2,   -999.0,9,    388.9,2,     7.74,2,     0.87,2,     0.10,2,     0.61,2,   -999.0,9,   -999.0,9,  -999.00,9,  -1.4964
  06AQ20070728,EurArc,   331,  1,     22,     22,2,20070903,1855, 87.6520,-157.6000, 2373,     24.9,  -1.4922,  29.5060,2,    376.0,2,    388.9,2,     7.71,2,     0.90,2,     0.10,2,     0.59,2,   -999.0,9,   -999.0,9,    -3.98,2,  -1.4925
  06AQ20070728,EurArc,   331,  1,     23,     23,2,20070903,1855, 87.6520,-157.6000, 2373,     10.3,  -1.5429,  29.0440,2,    380.6,2,    390.6,2,     7.14,2,     0.27,2,     0.04,2,     0.51,2,   -999.0,9,   -999.0,9,    -3.92,2,  -1.5430
  06AQ20070728,EurArc,   331,  1,     24,     24,2,20070903,1855, 87.6520,-157.6000, 2373,      1.8,  -1.5420,  28.9940,2,    381.2,2,    390.0,2,     6.97,2,     0.21,2,     0.03,2,     0.47,2,   -999.0,9,   -999.0,9,    -4.02,2,  -1.5420
  06AQ20070728,EurArc,   333,  1,      1,      1,2,20070904,0710, 87.0280,-146.4000, 3300,   3260.2,  -0.3313,  34.9540,2,   -999.0,9,    288.9,2,    12.05,2,    14.33,2,     0.02,2,     1.04,2,   2152.4,2,   2301.0,2,  -999.00,9,  -0.5310
  06AQ20070728,EurArc,   333,  1,      2,      2,2,20070904,0710, 87.0280,-146.4000, 3300,   3054.4,  -0.3460,  34.9540,2,   -999.0,9,    288.2,2,    12.27,2,    14.41,2,     0.02,2,     1.03,2,   2152.6,2,   2299.0,2,  -999.00,9,  -0.5276
  06AQ20070728,EurArc,   333,  1,      3,      3,2,20070904,0710, 87.0280,-146.4000, 3300,   2798.2,  -0.3598,  34.9540,2,   -999.0,9,    287.0,2,    12.54,2,    14.40,2,     0.02,2,     1.03,2,   -999.0,9,   -999.0,9,  -999.00,9,  -0.5200
  06AQ20070728,EurArc,   333,  1,      4,      4,2,20070904,0710, 87.0280,-146.4000, 3300,   2543.0,  -0.3752,  34.9530,2,   -999.0,9,    287.0,2,    12.54,2,    14.37,2,     0.02,2,     1.03,2,   2156.4,2,   2298.2,2,  -999.00,9,  -0.5151
  06AQ20070728,EurArc,   333,  1,      5,      5,2,20070904,0710, 87.0280,-146.4000, 3300,   2286.6,  -0.3917,  34.9510,2,   -999.0,9,    287.6,2,    12.34,2,    14.35,2,     0.01,2,     1.03,2,   -999.0,9,   -999.0,9,  -999.00,9,  -0.5123
  06AQ20070728,EurArc,   333,  1,      6,      6,2,20070904,0710, 87.0280,-146.4000, 3300,   2031.9,  -0.4052,  34.9470,2,   -999.0,9,    288.6,2,    11.68,2,    14.27,2,     0.02,2,     1.02,2,   2153.4,2,   2295.7,2,  -999.00,9,  -0.5077
  06AQ20070728,EurArc,   333,  1,      7,      7,2,20070904,0710, 87.0280,-146.4000, 3300,   1777.0,  -0.4075,  34.9400,2,   -999.0,9,    291.7,2,    10.98,2,    14.04,2,     0.01,2,     1.00,2,   -999.0,9,   -999.0,9,  -999.00,9,  -0.4932
  06AQ20070728,EurArc,   333,  1,      8,      8,2,20070904,0710, 87.0280,-146.4000, 3300,   1522.7,  -0.3760,  34.9260,2,   -999.0,9,    295.8,2,     9.37,2,    13.59,2,     0.01,2,     0.97,2,   2151.5,2,   2299.3,2,  -999.00,9,  -0.4464
  06AQ20070728,EurArc,   333,  1,      9,      9,2,20070904,0710, 87.0280,-146.4000, 3300,   1267.7,  -0.2919,  34.9080,2,   -999.0,9,    298.7,2,     7.99,2,    13.07,2,     0.01,2,     0.92,2,   -999.0,9,   -999.0,9,  -999.00,9,  -0.3485
  06AQ20070728,EurArc,   333,  1,     10,     10,2,20070904,0710, 87.0280,-146.4000, 3300,   1013.6,  -0.1600,  34.8890,2,   -999.0,9,    300.3,2,     7.05,2,    12.59,2,     0.01,2,     0.89,2,   2159.0,2,   2294.4,2,  -999.00,9,  -0.2040
  06AQ20070728,EurArc,   333,  1,     11,     11,2,20070904,0710, 87.0280,-146.4000, 3300,    759.4,   0.0796,  34.8680,2,   -999.0,9,    300.8,2,     6.34,2,    12.18,2,     0.01,2,     0.86,2,   -999.0,9,   -999.0,9,  -999.00,9,   0.0469
  06AQ20070728,EurArc,   333,  1,     12,     12,2,20070904,0710, 87.0280,-146.4000, 3300,    506.7,   0.5693,  34.8620,2,   -999.0,9,    297.8,2,     6.29,2,    12.25,2,     0.01,2,     0.85,2,   2155.8,2,   2290.9,2,  -999.00,9,   0.5466
  06AQ20070728,EurArc,   333,  1,     13,     13,2,20070904,0710, 87.0280,-146.4000, 3300,    405.2,   0.8071,  34.8590,2,   -999.0,9,    300.5,2,     5.99,2,    12.17,2,     0.01,2,     0.84,2,   -999.0,9,   -999.0,9,  -999.00,9,   0.7885
  06AQ20070728,EurArc,   333,  1,     14,     14,2,20070904,0710, 87.0280,-146.4000, 3300,    304.1,   0.8344,  34.8310,2,   -999.0,9,    297.3,2,     5.79,2,    11.90,2,     0.02,2,     0.82,2,   -999.0,9,   -999.0,9,  -999.00,9,   0.8206
  06AQ20070728,EurArc,   333,  1,     15,     15,2,20070904,0710, 87.0280,-146.4000, 3300,    201.9,   0.0491,  34.5870,2,   -999.0,9,    302.8,2,     5.79,2,    10.66,2,     0.02,2,     0.76,2,   2159.3,2,   2284.9,2,  -999.00,9,   0.0416
  06AQ20070728,EurArc,   333,  1,     16,     16,2,20070904,0710, 87.0280,-146.4000, 3300,    151.5,  -0.7976,  34.3580,2,   -999.0,9,    305.2,2,     5.54,2,     9.17,2,     0.02,2,     0.70,2,   -999.0,9,   -999.0,9,     0.02,2,  -0.8020
  06AQ20070728,EurArc,   333,  1,     17,     17,2,20070904,0710, 87.0280,-146.4000, 3300,    100.9,  -1.5398,  33.9100,2,   -999.0,9,    303.2,2,     7.21,2,     8.54,2,     0.02,2,     0.71,2,   2168.2,2,   2269.6,2,  -999.00,9,  -1.5420
  06AQ20070728,EurArc,   333,  1,     18,     18,2,20070904,0710, 87.0280,-146.4000, 3300,    100.9,  -1.5395,  33.9080,2,   -999.0,9,    303.2,2,     7.20,2,     8.53,2,     0.02,2,     0.72,2,   -999.0,9,   -999.0,9,    -0.41,2,  -1.5417
  06AQ20070728,EurArc,   333,  1,     19,     19,2,20070904,0710, 87.0280,-146.4000, 3300,     75.7,  -1.6073,  33.1660,2,   -999.0,9,    313.2,2,    11.47,2,     8.28,2,     0.02,2,     0.82,2,   -999.0,9,   -999.0,9,    -1.01,2,  -1.6087
  06AQ20070728,EurArc,   333,  1,     21,     21,2,20070904,0710, 87.0280,-146.4000, 3300,     49.9,  -1.5671,  30.1150,2,   -999.0,9,    383.6,2,    11.02,2,     4.00,2,     0.04,2,     0.90,2,   -999.0,9,   -999.0,9,    -2.63,2,  -1.5678
  06AQ20070728,EurArc,   333,  1,     20,     20,2,20070904,0710, 87.0280,-146.4000, 3300,     49.9,  -1.5667,  30.1090,2,   -999.0,9,    383.6,2,    11.32,2,     4.16,2,     0.04,2,     0.90,2,   2081.3,2,   2161.6,2,  -999.00,9,  -1.5674
  06AQ20070728,EurArc,   333,  1,     23,     23,2,20070904,0710, 87.0280,-146.4000, 3300,     24.2,  -1.5379,  28.8440,2,   -999.0,9,    393.8,2,     7.44,2,     0.24,2,     0.04,2,     0.58,2,   -999.0,9,   -999.0,9,    -4.03,2,  -1.5382
  06AQ20070728,EurArc,   333,  1,     22,     22,2,20070904,0710, 87.0280,-146.4000, 3300,     24.2,  -1.5355,  28.8790,2,   -999.0,9,    393.8,2,     7.36,2,     0.23,2,     0.03,2,     0.56,2,   -999.0,9,   -999.0,9,  -999.00,9,  -1.5358
  06AQ20070728,EurArc,   333,  1,     24,     24,2,20070904,0710, 87.0280,-146.4000, 3300,      7.9,  -1.5496,  28.7280,2,   -999.0,9,    393.7,2,     7.17,2,     0.46,2,     0.01,2,     0.52,2,   -999.0,9,   -999.0,9,    -3.96,2,  -1.5497