BOTTLE,20220921CCHSIOAMB
EXPOCODE,SECT_ID,STNNBR,CASTNO,SAMPNO,BTLNBR,BTLNBR_FLAG_W,DATE,TIME,LATITUDE,LONGITUDE,DEPTH,CTDPRS,CTDTMP,CTDSAL,CTDSAL_FLAG_W,CTDOXY,CTDOXY_FLAG_W,OXYGEN,OXYGEN_FLAG_W,SILCAT,SILCAT_FLAG_W,NITRAT,NITRAT_FLAG_W,NITRIT,NITRIT_FLAG_W,PHSPHT,PHSPHT_FLAG_W,TCARBN,TCARBN_FLAG_W,ALKALI,ALKALI_FLAG_W,DELO18,DELO18_FLAG_W,THETA
,,,,,,,,,,,METERS,DBAR,ITS-90,PSS-78,,UMOL/KG,,UMOL/KG,,UMOL/KG,,UMOL/KG,,UMOL/KG,,UMOL/KG,,UMOL/KG,,UMOL/KG,,/MILLE,,DEG C
  06AQ20070728,EurArc,   406,  1,     10,     10,2,20070923,0544, 76.4310, 122.4300,   79,      2.0,  -0.8455,  31.6920,2,   -999.0,9,    372.3,2,     0.67,2,     0.08,2,     0.00,2,     0.19,2,   -999.0,9,   -999.0,9,  -999.00,9,  -0.8455
  06AQ20070728,EurArc,   406,  1,      9,      9,2,20070923,0544, 76.4310, 122.4300,   79,      1.9,  -0.8157,  31.5530,2,    356.6,2,    372.3,2,     0.67,2,     0.08,2,     0.00,2,     0.19,2,   -999.0,9,   -999.0,9,    -1.68,2,  -0.8157
  06AQ20070728,EurArc,   406,  1,      8,      8,2,20070923,0544, 76.4310, 122.4300,   79,     10.6,  -1.2112,  32.9290,2,    364.6,2,    375.9,2,     0.57,2,     0.08,2,     0.01,2,     0.21,2,   -999.0,9,   -999.0,9,    -1.24,2,  -1.2114
  06AQ20070728,EurArc,   406,  1,      7,      7,2,20070923,0544, 76.4310, 122.4300,   79,     10.7,  -1.1029,  32.6140,2,   -999.0,9,    376.2,2,     0.59,2,     0.09,2,     0.00,2,     0.24,2,   -999.0,9,   -999.0,9,  -999.00,9,  -1.1031
  06AQ20070728,EurArc,   406,  1,      6,      6,2,20070923,0544, 76.4310, 122.4300,   79,     25.2,  -1.6410,  33.3820,2,    329.7,2,    363.3,2,     0.97,2,     3.06,2,     0.09,2,     0.46,2,   -999.0,9,   -999.0,9,    -0.99,2,  -1.6415
  06AQ20070728,EurArc,   406,  1,      5,      5,2,20070923,0544, 76.4310, 122.4300,   79,     25.2,  -1.6456,  33.3860,2,   -999.0,9,    363.3,2,     0.99,2,     3.13,2,     0.10,2,     0.47,2,   -999.0,9,   -999.0,9,  -999.00,9,  -1.6461
  06AQ20070728,EurArc,   406,  1,      4,      4,2,20070923,0544, 76.4310, 122.4300,   79,     40.6,  -1.7511,  33.6360,2,    307.8,2,    323.9,2,     4.63,2,     5.39,2,     0.14,2,     0.59,2,   -999.0,9,   -999.0,9,  -999.00,9,  -1.7518
  06AQ20070728,EurArc,   406,  1,      3,      3,2,20070923,0544, 76.4310, 122.4300,   79,     50.3,  -1.7327,  33.7660,2,    300.2,2,    318.8,2,     7.08,2,     6.70,2,     0.12,2,     0.67,2,   -999.0,9,   -999.0,9,    -0.52,2,  -1.7337
  06AQ20070728,EurArc,   406,  1,      2,      2,2,20070923,0544, 76.4310, 122.4300,   79,     50.3,  -1.7360,  33.7660,2,   -999.0,9,    318.8,2,     7.72,2,     6.97,2,     0.13,2,     0.70,2,   -999.0,9,   -999.0,9,  -999.00,9,  -1.7369
  06AQ20070728,EurArc,   406,  1,      1,      1,2,20070923,0544, 76.4310, 122.4300,   79,     63.2,  -1.4727,  34.0120,2,    265.4,2,    291.6,2,     9.74,2,     7.74,2,     0.16,2,     0.79,2,   -999.0,9,   -999.0,9,    -0.51,2,  -1.4741
  06AQ20070728,EurArc,   407,  1,     24,     24,2,20070923,0844, 76.1800, 122.1300,   67,     10.0,  -0.1162,  29.6940,2,   -999.0,9,    358.2,2,     0.44,2,     0.15,2,     0.00,2,     0.11,2,   -999.0,9,   -999.0,9,  -999.00,9,  -0.1164
  06AQ20070728,EurArc,   407,  1,     23,     23,2,20070923,0844, 76.1800, 122.1300,   67,     10.2,  -0.1166,  29.7170,2,   -999.0,9,    358.2,2,     0.44,2,     0.15,2,     0.00,2,     0.11,2,   -999.0,9,   -999.0,9,  -999.00,9,  -0.1169
  06AQ20070728,EurArc,   407,  1,     22,     22,2,20070923,0844, 76.1800, 122.1300,   67,     10.2,  -0.1114,  29.6990,2,   -999.0,9,    358.2,2,     0.43,2,     0.22,2,     0.01,2,     0.11,2,   -999.0,9,   -999.0,9,  -999.00,9,  -0.1117
  06AQ20070728,EurArc,   407,  1,     21,     21,2,20070923,0844, 76.1800, 122.1300,   67,     10.1,  -0.1173,  29.8070,2,   -999.0,9,    358.2,2,     0.45,2,     0.52,2,     0.01,2,     0.12,2,   -999.0,9,   -999.0,9,  -999.00,9,  -0.1176
  06AQ20070728,EurArc,   407,  1,     20,     20,2,20070923,0844, 76.1800, 122.1300,   67,     10.3,  -0.1183,  29.7260,2,   -999.0,9,    358.2,2,     0.44,2,     0.14,2,     0.01,2,     0.11,2,   -999.0,9,   -999.0,9,  -999.00,9,  -0.1186
  06AQ20070728,EurArc,   407,  1,     19,     19,2,20070923,0844, 76.1800, 122.1300,   67,     10.2,  -0.1223,  29.7270,2,   -999.0,9,    358.2,2,     0.43,2,     0.22,2,     0.01,2,     0.11,2,   -999.0,9,   -999.0,9,  -999.00,9,  -0.1226
  06AQ20070728,EurArc,   407,  1,     18,     18,2,20070923,0844, 76.1800, 122.1300,   67,     10.1,  -0.1241,  29.7370,2,   -999.0,9,    358.2,2,     0.43,2,     0.14,2,     0.01,2,     0.11,2,   -999.0,9,   -999.0,9,  -999.00,9,  -0.1244
  06AQ20070728,EurArc,   407,  1,     17,     17,2,20070923,0844, 76.1800, 122.1300,   67,     10.2,  -0.1243,  29.7220,2,   -999.0,9,    358.2,2,     0.43,2,     0.26,2,     0.01,2,     0.14,2,   2000.0,2,   2125.7,2,  -999.00,9,  -0.1246
  06AQ20070728,EurArc,   407,  1,     16,     16,2,20070923,0844, 76.1800, 122.1300,   67,     30.6,  -1.5977,  33.4610,2,   -999.0,9,    382.1,2,     1.03,2,     2.71,2,     0.08,2,     0.43,2,   -999.0,9,   -999.0,9,  -999.00,9,  -1.5983
  06AQ20070728,EurArc,   407,  1,     15,     15,2,20070923,0844, 76.1800, 122.1300,   67,     30.6,  -1.5936,  33.4520,2,   -999.0,9,    382.1,2,     1.03,2,     2.80,2,     0.07,2,     0.43,2,   -999.0,9,   -999.0,9,  -999.00,9,  -1.5942
  06AQ20070728,EurArc,   407,  1,     14,     14,2,20070923,0844, 76.1800, 122.1300,   67,     30.5,  -1.5885,  33.4430,2,   -999.0,9,    382.1,2,     1.04,2,     2.61,2,     0.07,2,     0.43,2,   -999.0,9,   -999.0,9,  -999.00,9,  -1.5891
  06AQ20070728,EurArc,   407,  1,     13,     13,2,20070923,0844, 76.1800, 122.1300,   67,     30.6,  -1.5869,  33.4410,2,   -999.0,9,    382.1,2,     1.07,2,     2.52,2,     0.07,2,     0.43,2,   -999.0,9,   -999.0,9,  -999.00,9,  -1.5875
  06AQ20070728,EurArc,   407,  1,     12,     12,2,20070923,0844, 76.1800, 122.1300,   67,     30.5,  -1.5885,  33.4440,2,   -999.0,9,    382.1,2,     1.66,2,     3.27,2,     0.08,2,     0.47,2,   -999.0,9,   -999.0,9,  -999.00,9,  -1.5891
  06AQ20070728,EurArc,   407,  1,     11,     11,2,20070923,0844, 76.1800, 122.1300,   67,     30.6,  -1.5848,  33.4380,2,   -999.0,9,    382.1,2,     1.16,2,     2.67,2,     0.07,2,     0.44,2,   -999.0,9,   -999.0,9,  -999.00,9,  -1.5854
  06AQ20070728,EurArc,   407,  1,     10,     10,2,20070923,0844, 76.1800, 122.1300,   67,     30.6,  -1.5819,  33.4330,2,   -999.0,9,    382.1,2,     1.41,2,     3.15,2,     0.08,2,     0.46,2,   -999.0,9,   -999.0,9,  -999.00,9,  -1.5825
  06AQ20070728,EurArc,   407,  1,      9,      9,2,20070923,0844, 76.1800, 122.1300,   67,     30.6,  -1.5823,  33.4330,2,   -999.0,9,    382.1,2,     1.40,2,     3.04,2,     0.08,2,     0.46,2,   2144.5,2,   2258.2,2,  -999.00,9,  -1.5829
  06AQ20070728,EurArc,   407,  1,      8,      8,2,20070923,0844, 76.1800, 122.1300,   67,     56.5,  -1.6255,  33.8060,2,   -999.0,9,    303.3,2,     8.25,2,     6.91,2,     0.13,2,     0.70,2,   -999.0,9,   -999.0,9,  -999.00,9,  -1.6266
  06AQ20070728,EurArc,   407,  1,      7,      7,2,20070923,0844, 76.1800, 122.1300,   67,     56.4,  -1.6238,  33.8080,2,   -999.0,9,    304.1,2,     8.25,2,     6.93,2,     0.13,2,     0.69,2,   -999.0,9,   -999.0,9,  -999.00,9,  -1.6249
  06AQ20070728,EurArc,   407,  1,      6,      6,2,20070923,0844, 76.1800, 122.1300,   67,     56.5,  -1.6241,  33.8060,2,   -999.0,9,    303.3,2,     7.97,2,     6.89,2,     0.13,2,     0.69,2,   -999.0,9,   -999.0,9,  -999.00,9,  -1.6252
  06AQ20070728,EurArc,   407,  1,      5,      5,2,20070923,0844, 76.1800, 122.1300,   67,     56.3,  -1.6257,  33.8030,2,   -999.0,9,    304.9,2,     8.28,2,     7.02,2,     0.12,2,     0.70,2,   -999.0,9,   -999.0,9,  -999.00,9,  -1.6268
  06AQ20070728,EurArc,   407,  1,      4,      4,2,20070923,0844, 76.1800, 122.1300,   67,     56.5,  -1.6236,  33.8090,2,   -999.0,9,    303.3,2,     8.26,2,     7.11,2,     0.13,2,     0.70,2,   -999.0,9,   -999.0,9,  -999.00,9,  -1.6247
  06AQ20070728,EurArc,   407,  1,      3,      3,2,20070923,0844, 76.1800, 122.1300,   67,     56.4,  -1.6226,  33.8090,2,   -999.0,9,    304.1,2,     7.84,2,     7.11,2,     0.12,2,     0.68,2,   -999.0,9,   -999.0,9,  -999.00,9,  -1.6237
  06AQ20070728,EurArc,   407,  1,      2,      2,2,20070923,0844, 76.1800, 122.1300,   67,     56.5,  -1.6232,  33.8060,2,   -999.0,9,    303.3,2,     7.02,2,     8.97,3,     0.11,2,     0.65,2,   -999.0,9,   -999.0,9,  -999.00,9,  -1.6243
  06AQ20070728,EurArc,   407,  1,      1,      1,2,20070923,0844, 76.1800, 122.1300,   67,     56.5,  -1.6236,  33.8090,2,   -999.0,9,    303.3,2,     7.00,2,     6.39,2,     0.11,2,     0.65,2,   2176.5,2,   2263.2,2,  -999.00,9,  -1.6247
  06AQ20070728,EurArc,   407,  2,     24,     24,2,20070923,0917, 76.1800, 122.1300,   67,     30.3,  -1.5616,  33.4030,2,   -999.0,9,    382.4,2,  -999.00,9,  -999.00,9,  -999.00,9,  -999.00,9,   -999.0,9,   -999.0,9,  -999.00,9,  -1.5622
  06AQ20070728,EurArc,   407,  2,     23,     23,2,20070923,0917, 76.1800, 122.1300,   67,     30.1,  -1.5376,  33.3750,2,   -999.0,9,    382.7,2,  -999.00,9,  -999.00,9,  -999.00,9,  -999.00,9,   -999.0,9,   -999.0,9,  -999.00,9,  -1.5382
  06AQ20070728,EurArc,   407,  2,     22,     22,2,20070923,0917, 76.1800, 122.1300,   67,     30.3,  -1.5542,  33.3920,2,   -999.0,9,    382.4,2,  -999.00,9,  -999.00,9,  -999.00,9,  -999.00,9,   -999.0,9,   -999.0,9,  -999.00,9,  -1.5548
  06AQ20070728,EurArc,   407,  2,     21,     21,2,20070923,0917, 76.1800, 122.1300,   67,     30.3,  -1.5594,  33.4000,2,   -999.0,9,    382.4,2,  -999.00,9,  -999.00,9,  -999.00,9,  -999.00,9,   -999.0,9,   -999.0,9,  -999.00,9,  -1.5600
  06AQ20070728,EurArc,   407,  2,     20,     20,2,20070923,0917, 76.1800, 122.1300,   67,     30.2,  -1.5551,  33.3960,2,   -999.0,9,    382.6,2,  -999.00,9,  -999.00,9,  -999.00,9,  -999.00,9,   -999.0,9,   -999.0,9,  -999.00,9,  -1.5557
  06AQ20070728,EurArc,   407,  2,     19,     19,2,20070923,0917, 76.1800, 122.1300,   67,     30.2,  -1.5499,  33.3910,2,   -999.0,9,    382.6,2,  -999.00,9,  -999.00,9,  -999.00,9,  -999.00,9,   -999.0,9,   -999.0,9,  -999.00,9,  -1.5505
  06AQ20070728,EurArc,   407,  2,     18,     18,2,20070923,0917, 76.1800, 122.1300,   67,     30.2,  -1.5533,  33.3950,2,   -999.0,9,    382.6,2,  -999.00,9,  -999.00,9,  -999.00,9,  -999.00,9,   -999.0,9,   -999.0,9,  -999.00,9,  -1.5539
  06AQ20070728,EurArc,   407,  2,     17,     17,2,20070923,0917, 76.1800, 122.1300,   67,     30.3,  -1.5626,  33.4050,2,   -999.0,9,    382.4,2,  -999.00,9,  -999.00,9,  -999.00,9,  -999.00,9,   -999.0,9,   -999.0,9,  -999.00,9,  -1.5632
  06AQ20070728,EurArc,   407,  2,     16,     16,2,20070923,0917, 76.1800, 122.1300,   67,     30.2,  -1.5498,  33.3940,2,   -999.0,9,    382.6,2,  -999.00,9,  -999.00,9,  -999.00,9,  -999.00,9,   -999.0,9,   -999.0,9,  -999.00,9,  -1.5504
  06AQ20070728,EurArc,   407,  2,     15,     15,2,20070923,0917, 76.1800, 122.1300,   67,     30.2,  -1.5470,  33.3930,2,   -999.0,9,    382.6,2,  -999.00,9,  -999.00,9,  -999.00,9,  -999.00,9,   -999.0,9,   -999.0,9,  -999.00,9,  -1.5476
  06AQ20070728,EurArc,   407,  2,     14,     14,2,20070923,0917, 76.1800, 122.1300,   67,     30.3,  -1.5517,  33.3970,2,   -999.0,9,    382.4,2,  -999.00,9,  -999.00,9,  -999.00,9,  -999.00,9,   -999.0,9,   -999.0,9,  -999.00,9,  -1.5523
  06AQ20070728,EurArc,   407,  2,     13,     13,2,20070923,0917, 76.1800, 122.1300,   67,     65.2,  -1.6237,  33.8100,2,   -999.0,9,    295.8,2,  -999.00,9,  -999.00,9,  -999.00,9,  -999.00,9,   -999.0,9,   -999.0,9,  -999.00,9,  -1.6250
  06AQ20070728,EurArc,   407,  2,     12,     12,2,20070923,0917, 76.1800, 122.1300,   67,     65.0,  -1.6233,  33.8100,2,   -999.0,9,    295.9,2,  -999.00,9,  -999.00,9,  -999.00,9,  -999.00,9,   -999.0,9,   -999.0,9,  -999.00,9,  -1.6246
  06AQ20070728,EurArc,   407,  2,     11,     11,2,20070923,0917, 76.1800, 122.1300,   67,     65.2,  -1.6232,  33.8110,2,   -999.0,9,    295.8,2,  -999.00,9,  -999.00,9,  -999.00,9,  -999.00,9,   -999.0,9,   -999.0,9,  -999.00,9,  -1.6245
  06AQ20070728,EurArc,   407,  2,     10,     10,2,20070923,0917, 76.1800, 122.1300,   67,     65.0,  -1.6232,  33.8110,2,   -999.0,9,    295.9,2,  -999.00,9,  -999.00,9,  -999.00,9,  -999.00,9,   -999.0,9,   -999.0,9,  -999.00,9,  -1.6245
  06AQ20070728,EurArc,   407,  2,      9,      9,2,20070923,0917, 76.1800, 122.1300,   67,     65.2,  -1.6232,  33.8120,2,   -999.0,9,    295.8,2,  -999.00,9,  -999.00,9,  -999.00,9,  -999.00,9,   -999.0,9,   -999.0,9,  -999.00,9,  -1.6245
  06AQ20070728,EurArc,   407,  2,      8,      8,2,20070923,0917, 76.1800, 122.1300,   67,     65.1,  -1.6232,  33.8110,2,   -999.0,9,    295.9,2,  -999.00,9,  -999.00,9,  -999.00,9,  -999.00,9,   -999.0,9,   -999.0,9,  -999.00,9,  -1.6245
  06AQ20070728,EurArc,   407,  2,      7,      7,2,20070923,0917, 76.1800, 122.1300,   67,     65.2,  -1.6223,  33.8120,2,   -999.0,9,    295.8,2,  -999.00,9,  -999.00,9,  -999.00,9,  -999.00,9,   -999.0,9,   -999.0,9,  -999.00,9,  -1.6236
  06AQ20070728,EurArc,   407,  2,      6,      6,2,20070923,0917, 76.1800, 122.1300,   67,     65.2,  -1.6224,  33.8120,2,   -999.0,9,    295.8,2,  -999.00,9,  -999.00,9,  -999.00,9,  -999.00,9,   -999.0,9,   -999.0,9,  -999.00,9,  -1.6237
  06AQ20070728,EurArc,   407,  2,      5,      5,2,20070923,0917, 76.1800, 122.1300,   67,     65.3,  -1.6231,  33.8120,2,   -999.0,9,    295.8,2,  -999.00,9,  -999.00,9,  -999.00,9,  -999.00,9,   -999.0,9,   -999.0,9,  -999.00,9,  -1.6244
  06AQ20070728,EurArc,   407,  2,      4,      4,2,20070923,0917, 76.1800, 122.1300,   67,     65.3,  -1.6228,  33.8120,2,   -999.0,9,    295.8,2,  -999.00,9,  -999.00,9,  -999.00,9,  -999.00,9,   -999.0,9,   -999.0,9,  -999.00,9,  -1.6241
  06AQ20070728,EurArc,   407,  2,      3,      3,2,20070923,0917, 76.1800, 122.1300,   67,     65.4,  -1.6235,  33.8120,2,    281.5,2,    295.8,2,  -999.00,9,  -999.00,9,  -999.00,9,  -999.00,9,   -999.0,9,   -999.0,9,  -999.00,9,  -1.6248
  06AQ20070728,EurArc,   407,  2,      2,      2,2,20070923,0917, 76.1800, 122.1300,   67,     65.3,  -1.6231,  33.8130,2,   -999.0,9,    295.8,2,     8.49,2,     6.84,2,     0.15,2,     0.73,2,   -999.0,9,   -999.0,9,  -999.00,9,  -1.6244
  06AQ20070728,EurArc,   407,  2,      1,      1,2,20070923,0917, 76.1800, 122.1300,   67,     65.3,  -1.6223,  33.8120,2,   -999.0,9,    295.8,2,  -999.00,9,  -999.00,9,  -999.00,9,  -999.00,9,   -999.0,9,   -999.0,9,  -999.00,9,  -1.6236