BOTTLE,20220921CCHSIOAMB
EXPOCODE,SECT_ID,STNNBR,CASTNO,SAMPNO,BTLNBR,BTLNBR_FLAG_W,DATE,TIME,LATITUDE,LONGITUDE,DEPTH,CTDPRS,CTDTMP,CTDSAL,CTDSAL_FLAG_W,CTDOXY,CTDOXY_FLAG_W,OXYGEN,OXYGEN_FLAG_W,SILCAT,SILCAT_FLAG_W,NITRAT,NITRAT_FLAG_W,NITRIT,NITRIT_FLAG_W,PHSPHT,PHSPHT_FLAG_W,TCARBN,TCARBN_FLAG_W,ALKALI,ALKALI_FLAG_W,DELO18,DELO18_FLAG_W,THETA
,,,,,,,,,,,METERS,DBAR,ITS-90,PSS-78,,UMOL/KG,,UMOL/KG,,UMOL/KG,,UMOL/KG,,UMOL/KG,,UMOL/KG,,UMOL/KG,,UMOL/KG,,/MILLE,,DEG C
  06AQ20070728,EurArc,   289,  1,      1,      1,2,20070821,0348, 82.5010,  86.2630, 1806,   1823.5,  -0.7417,  34.9190,2,   -999.0,9,    299.1,2,    10.94,2,    14.70,2,     0.01,2,     1.00,2,   -999.0,9,   -999.0,9,  -999.00,9,  -0.8255
  06AQ20070728,EurArc,   289,  1,      2,      2,2,20070821,0348, 82.5010,  86.2630, 1806,   1765.5,  -0.6928,  34.9140,2,   -999.0,9,    299.8,2,    10.55,2,    14.67,2,     0.01,2,     1.00,2,   -999.0,9,   -999.0,9,  -999.00,9,  -0.7737
  06AQ20070728,EurArc,   289,  1,      4,      4,2,20070821,0348, 82.5010,  86.2630, 1806,   1522.9,  -0.6150,  34.9120,2,   -999.0,9,    297.4,2,    10.13,2,    14.62,2,     0.01,2,     0.99,2,   -999.0,9,   -999.0,9,  -999.00,9,  -0.6824
  06AQ20070728,EurArc,   289,  1,      3,      3,2,20070821,0348, 82.5010,  86.2630, 1806,   1522.7,  -0.6151,  34.9120,2,   -999.0,9,    297.4,2,     4.56,3,    11.82,3,     0.02,2,     0.79,3,   -999.0,9,   -999.0,9,  -999.00,9,  -0.6825
  06AQ20070728,EurArc,   289,  1,      5,      5,2,20070821,0348, 82.5010,  86.2630, 1806,   1267.7,  -0.5026,  34.9090,2,   -999.0,9,    298.1,2,     9.62,2,    14.57,2,     0.01,2,     0.98,2,   -999.0,9,   -999.0,9,  -999.00,9,  -0.5570
  06AQ20070728,EurArc,   289,  1,      6,      6,2,20070821,0348, 82.5010,  86.2630, 1806,   1013.1,  -0.3558,  34.8970,2,   -999.0,9,    310.0,2,     6.84,2,    12.26,2,     0.01,2,     0.85,2,   -999.0,9,   -999.0,9,  -999.00,9,  -0.3982
  06AQ20070728,EurArc,   289,  1,      7,      7,2,20070821,0348, 82.5010,  86.2630, 1806,    759.7,   0.3962,  34.9130,2,   -999.0,9,    302.0,2,     6.96,2,    13.30,2,     0.02,2,     0.90,2,   -999.0,9,   -999.0,9,  -999.00,9,   0.3614
  06AQ20070728,EurArc,   289,  1,      8,      8,2,20070821,0348, 82.5010,  86.2630, 1806,    506.0,   1.7822,  34.9580,2,   -999.0,9,    301.6,2,     5.73,2,    12.76,2,     0.02,2,     0.86,2,   -999.0,9,   -999.0,9,  -999.00,9,   1.7544
  06AQ20070728,EurArc,   289,  1,      9,      9,2,20070821,0348, 82.5010,  86.2630, 1806,    303.8,   2.7702,  34.9860,2,   -999.0,9,    298.5,2,     5.01,2,    12.47,2,     0.02,2,     0.82,2,   -999.0,9,   -999.0,9,  -999.00,9,   2.7516
  06AQ20070728,EurArc,   289,  1,     10,     10,2,20070821,0348, 82.5010,  86.2630, 1806,    202.3,   2.9785,  34.9540,2,   -999.0,9,    296.8,2,     4.62,2,    12.01,2,     0.02,2,     0.80,2,   -999.0,9,   -999.0,9,  -999.00,9,   2.9659
  06AQ20070728,EurArc,   289,  1,     11,     11,2,20070821,0348, 82.5010,  86.2630, 1806,    151.5,   3.1363,  34.9480,2,    288.4,2,    296.2,2,     4.52,2,    11.77,2,     0.02,2,     0.78,2,   -999.0,9,   -999.0,9,     0.18,2,   3.1268
  06AQ20070728,EurArc,   289,  1,     12,     12,2,20070821,0348, 82.5010,  86.2630, 1806,    126.3,   2.8573,  34.8820,2,    288.7,2,    296.8,2,     4.38,2,    11.53,2,     0.02,2,     0.76,2,   -999.0,9,   -999.0,9,     0.17,2,   2.8497
  06AQ20070728,EurArc,   289,  1,     13,     13,2,20070821,0348, 82.5010,  86.2630, 1806,    100.6,   2.2780,  34.7570,2,    292.7,2,    300.7,2,     4.18,2,    11.14,2,     0.03,2,     0.75,2,   -999.0,9,   -999.0,9,     0.25,2,   2.2724
  06AQ20070728,EurArc,   289,  1,     14,     14,2,20070821,0348, 82.5010,  86.2630, 1806,     75.6,   0.8467,  34.5380,2,    304.7,2,    320.6,2,     3.28,2,     9.70,2,     0.04,2,     0.67,2,   -999.0,9,   -999.0,9,     0.09,2,   0.8435
  06AQ20070728,EurArc,   289,  1,     15,     15,2,20070821,0348, 82.5010,  86.2630, 1806,     50.6,  -1.7051,  34.1280,2,    324.5,2,    333.6,2,     2.49,2,     7.45,2,     0.08,2,     0.55,2,   -999.0,9,   -999.0,9,    -0.02,2,  -1.7061
  06AQ20070728,EurArc,   289,  1,     16,     16,2,20070821,0348, 82.5010,  86.2630, 1806,     25.1,  -1.6759,  34.0450,2,    339.8,2,    350.2,2,     2.25,2,     5.80,2,     0.07,2,     0.46,2,   -999.0,9,   -999.0,9,     0.03,2,  -1.6764
  06AQ20070728,EurArc,   289,  1,     17,     17,2,20070821,0348, 82.5010,  86.2630, 1806,     10.1,  -1.6783,  33.2080,2,    348.8,2,    357.0,2,     1.86,2,     4.22,2,     0.05,2,     0.38,2,   -999.0,9,   -999.0,9,     0.04,2,  -1.6785
  06AQ20070728,EurArc,   289,  1,     18,     18,2,20070821,0348, 82.5010,  86.2630, 1806,      2.0,  -1.6874,  33.1630,2,    350.0,2,    356.1,2,     1.80,2,     3.96,2,     0.05,2,     0.37,2,   -999.0,9,   -999.0,9,    -0.12,2,  -1.6874
  06AQ20070728,EurArc,   290,  1,      1,      1,2,20070821,0636, 82.5800,  86.4230, 2019,   2042.6,  -0.7442,  34.9210,2,   -999.0,9,    298.5,2,    11.15,2,    14.52,2,     0.02,2,     1.00,2,   -999.0,9,   -999.0,9,  -999.00,9,  -0.8419
  06AQ20070728,EurArc,   290,  1,      2,      2,2,20070821,0636, 82.5800,  86.4230, 2019,   1776.5,  -0.6816,  34.9140,2,   -999.0,9,    300.0,2,    10.54,2,    14.40,2,     0.01,2,     0.99,2,   -999.0,9,   -999.0,9,  -999.00,9,  -0.7633
  06AQ20070728,EurArc,   290,  1,      4,      4,2,20070821,0636, 82.5800,  86.4230, 2019,   1521.8,  -0.6241,  34.9120,2,   -999.0,9,    300.2,2,    10.19,2,    14.26,2,     0.01,2,     0.98,2,   -999.0,9,   -999.0,9,  -999.00,9,  -0.6914
  06AQ20070728,EurArc,   290,  1,      3,      3,2,20070821,0636, 82.5800,  86.4230, 2019,   1521.7,  -0.6242,  34.9120,2,   -999.0,9,    300.2,2,    10.23,2,    14.35,2,     0.01,2,     0.98,2,   -999.0,9,   -999.0,9,  -999.00,9,  -0.6915
  06AQ20070728,EurArc,   290,  1,      5,      5,2,20070821,0636, 82.5800,  86.4230, 2019,   1267.7,  -0.5524,  34.9070,2,   -999.0,9,    301.8,2,     8.80,2,    13.30,2,     0.01,2,     0.93,2,   -999.0,9,   -999.0,9,  -999.00,9,  -0.6063
  06AQ20070728,EurArc,   290,  1,      6,      6,2,20070821,0636, 82.5800,  86.4230, 2019,   1013.4,  -0.3582,  34.8960,2,   -999.0,9,    314.8,2,     6.89,2,    11.95,2,     0.01,2,     0.84,2,   -999.0,9,   -999.0,9,  -999.00,9,  -0.4006
  06AQ20070728,EurArc,   290,  1,      7,      7,2,20070821,0636, 82.5800,  86.4230, 2019,    759.7,   0.2427,  34.8990,2,   -999.0,9,    308.5,2,     6.34,2,    12.21,2,     0.01,2,     0.85,2,   -999.0,9,   -999.0,9,  -999.00,9,   0.2089
  06AQ20070728,EurArc,   290,  1,      8,      8,2,20070821,0636, 82.5800,  86.4230, 2019,    505.6,   1.8083,  34.9630,2,   -999.0,9,    306.0,2,     5.65,2,    12.54,2,     0.02,2,     0.85,2,   -999.0,9,   -999.0,9,  -999.00,9,   1.7804
  06AQ20070728,EurArc,   290,  1,      9,      9,2,20070821,0636, 82.5800,  86.4230, 2019,    303.2,   2.6377,  34.9770,2,   -999.0,9,    303.9,2,     5.03,2,    12.25,2,     0.02,2,     0.82,2,   -999.0,9,   -999.0,9,  -999.00,9,   2.6194
  06AQ20070728,EurArc,   290,  1,     10,     10,2,20070821,0636, 82.5800,  86.4230, 2019,    202.8,   2.9903,  34.9750,2,   -999.0,9,    302.3,2,     4.77,2,    12.01,2,     0.02,2,     0.80,2,   -999.0,9,   -999.0,9,  -999.00,9,   2.9777
  06AQ20070728,EurArc,   290,  1,     11,     11,2,20070821,0636, 82.5800,  86.4230, 2019,    151.9,   2.9788,  34.9350,2,    287.6,2,    301.6,2,     4.56,2,    11.81,2,     0.02,2,     0.79,2,   -999.0,9,   -999.0,9,     0.24,2,   2.9694
  06AQ20070728,EurArc,   290,  1,     12,     12,2,20070821,0636, 82.5800,  86.4230, 2019,    126.7,   3.0094,  34.9210,2,    288.5,2,    301.7,2,     4.52,2,    11.65,2,     0.02,2,     0.77,2,   -999.0,9,   -999.0,9,     0.30,2,   3.0016
  06AQ20070728,EurArc,   290,  1,     13,     13,2,20070821,0636, 82.5800,  86.4230, 2019,    100.9,   2.6307,  34.8360,2,   -999.0,9,    303.1,2,     4.35,2,    11.30,2,     0.02,2,     0.76,2,   -999.0,9,   -999.0,9,  -999.00,9,   2.6248
  06AQ20070728,EurArc,   290,  1,     14,     14,2,20070821,0636, 82.5800,  86.4230, 2019,    100.9,   2.6188,  34.8350,2,    289.9,2,    303.1,2,     4.35,2,    11.32,2,     0.02,2,     0.75,2,   -999.0,9,   -999.0,9,     0.19,2,   2.6129
  06AQ20070728,EurArc,   290,  1,     15,     15,2,20070821,0636, 82.5800,  86.4230, 2019,     75.5,   0.7465,  34.5630,2,    308.7,2,    326.4,2,     3.54,2,     9.76,2,     0.04,2,     0.67,2,   -999.0,9,   -999.0,9,     0.25,2,   0.7433
  06AQ20070728,EurArc,   290,  1,     18,     18,2,20070821,0636, 82.5800,  86.4230, 2019,     51.2,  -1.2215,  34.1850,2,   -999.0,9,    347.5,2,     2.67,2,     7.35,2,     0.15,2,     0.55,2,   -999.0,9,   -999.0,9,  -999.00,9,  -1.2227
  06AQ20070728,EurArc,   290,  1,     16,     16,2,20070821,0636, 82.5800,  86.4230, 2019,     50.4,  -1.1390,  34.1990,2,   -999.0,9,    348.5,2,  -999.00,9,  -999.00,9,  -999.00,9,  -999.00,9,   -999.0,9,   -999.0,9,  -999.00,9,  -1.1403
  06AQ20070728,EurArc,   290,  1,     17,     17,2,20070821,0636, 82.5800,  86.4230, 2019,     50.4,  -1.1564,  34.1910,2,    326.1,2,    348.5,2,     2.25,2,     6.48,2,     0.16,2,     0.51,2,   -999.0,9,   -999.0,9,    -0.02,2,  -1.1576
  06AQ20070728,EurArc,   290,  1,     20,     20,2,20070821,0636, 82.5800,  86.4230, 2019,     25.1,  -1.6704,  33.2650,2,   -999.0,9,    370.1,2,  -999.00,9,  -999.00,9,  -999.00,9,  -999.00,9,   -999.0,9,   -999.0,9,  -999.00,9,  -1.6709
  06AQ20070728,EurArc,   290,  1,     21,     21,2,20070821,0636, 82.5800,  86.4230, 2019,     25.1,  -1.6620,  33.2790,2,   -999.0,9,    370.1,2,  -999.00,9,  -999.00,9,  -999.00,9,  -999.00,9,   -999.0,9,   -999.0,9,  -999.00,9,  -1.6625
  06AQ20070728,EurArc,   290,  1,     19,     19,2,20070821,0636, 82.5800,  86.4230, 2019,     25.1,  -1.6386,  33.7490,2,    347.9,2,    370.0,2,     1.83,2,     3.69,2,     0.05,2,     0.36,2,   -999.0,9,   -999.0,9,     0.01,2,  -1.6391
  06AQ20070728,EurArc,   290,  1,     22,     22,2,20070821,0636, 82.5800,  86.4230, 2019,     10.0,  -1.6367,  33.0150,2,    364.4,2,    377.4,2,     1.71,2,     2.45,2,     0.05,2,     0.30,2,   -999.0,9,   -999.0,9,    -0.14,2,  -1.6369
  06AQ20070728,EurArc,   290,  1,     23,     23,2,20070821,0636, 82.5800,  86.4230, 2019,     10.0,  -1.6428,  33.0160,2,   -999.0,9,    377.4,2,     1.72,2,     2.47,2,     0.05,2,     0.29,2,   -999.0,9,   -999.0,9,  -999.00,9,  -1.6430
  06AQ20070728,EurArc,   290,  1,     24,     24,2,20070821,0636, 82.5800,  86.4230, 2019,      2.0,  -1.6256,  33.0160,2,    365.0,2,    376.7,2,     1.71,2,     2.42,2,     0.05,2,     0.29,2,   -999.0,9,   -999.0,9,     0.06,2,  -1.6256
  06AQ20070728,EurArc,   291,  1,      1,      1,2,20070821,1353, 82.7100,  86.2660, 2400,   2235.9,  -0.7398,  34.9220,2,   -999.0,9,    297.5,2,    10.90,2,    15.09,2,     0.01,2,     1.01,2,   2153.1,2,   2295.7,2,  -999.00,9,  -0.8505
  06AQ20070728,EurArc,   291,  1,      2,      2,2,20070821,1353, 82.7100,  86.2660, 2400,   2235.9,  -0.7396,  34.9220,2,   -999.0,9,    297.5,2,    10.86,2,    14.99,2,     0.02,2,     1.01,2,   -999.0,9,   -999.0,9,  -999.00,9,  -0.8503
  06AQ20070728,EurArc,   291,  1,      3,      3,2,20070821,1353, 82.7100,  86.2660, 2400,   2133.7,  -0.7300,  34.9200,2,   -999.0,9,    297.7,2,    10.83,2,    15.05,2,     0.02,2,     1.01,2,   2159.5,2,   2296.2,2,  -999.00,9,  -0.8340
  06AQ20070728,EurArc,   291,  1,      4,      4,2,20070821,1353, 82.7100,  86.2660, 2400,   2031.5,  -0.7171,  34.9190,2,   -999.0,9,    297.9,2,    10.75,2,    15.24,2,     0.02,2,     1.00,2,   -999.0,9,   -999.0,9,  -999.00,9,  -0.8145
  06AQ20070728,EurArc,   291,  1,      5,      5,2,20070821,1353, 82.7100,  86.2660, 2400,   1929.5,  -0.7028,  34.9180,2,   -999.0,9,    297.9,2,    10.68,2,    15.10,2,     0.02,2,     1.00,2,   2158.2,2,   2295.0,2,  -999.00,9,  -0.7938
  06AQ20070728,EurArc,   291,  1,      6,      6,2,20070821,1353, 82.7100,  86.2660, 2400,   1827.0,  -0.6894,  34.9170,2,   -999.0,9,    298.2,2,    10.67,2,    15.06,2,     0.02,2,     1.00,2,   -999.0,9,   -999.0,9,  -999.00,9,  -0.7741
  06AQ20070728,EurArc,   291,  1,      7,      7,2,20070821,1353, 82.7100,  86.2660, 2400,   1725.6,  -0.6695,  34.9160,2,   -999.0,9,    297.6,2,    10.54,2,    15.00,2,     0.02,2,     1.00,2,   2159.0,2,   2295.4,2,  -999.00,9,  -0.7483
  06AQ20070728,EurArc,   291,  1,      8,      8,2,20070821,1353, 82.7100,  86.2660, 2400,   1623.9,  -0.6509,  34.9140,2,   -999.0,9,    298.0,2,    10.41,2,    14.96,2,     0.02,2,     1.00,2,   -999.0,9,   -999.0,9,  -999.00,9,  -0.7238
  06AQ20070728,EurArc,   291,  1,      9,      9,2,20070821,1353, 82.7100,  86.2660, 2400,   1521.9,  -0.6253,  34.9130,2,   -999.0,9,    298.0,2,    10.28,2,    15.09,2,     0.01,2,     0.99,2,   2159.8,2,   2294.6,2,  -999.00,9,  -0.6926
  06AQ20070728,EurArc,   291,  1,     10,     10,2,20070821,1353, 82.7100,  86.2660, 2400,   1521.9,  -0.6253,  34.9130,2,   -999.0,9,    298.0,2,    10.26,2,    14.87,2,     0.02,2,     0.99,2,   -999.0,9,   -999.0,9,  -999.00,9,  -0.6926
  06AQ20070728,EurArc,   291,  1,     11,     11,2,20070821,1353, 82.7100,  86.2660, 2400,   1267.5,  -0.5022,  34.9110,2,   -999.0,9,    298.7,2,     9.79,2,    14.87,2,     0.02,2,     0.99,2,   2163.6,2,   2294.5,2,  -999.00,9,  -0.5566
  06AQ20070728,EurArc,   291,  1,     12,     12,2,20070821,1353, 82.7100,  86.2660, 2400,   1013.3,  -0.2626,  34.9110,2,   -999.0,9,    299.4,2,     8.90,2,    14.50,2,     0.02,2,     0.96,2,   2159.9,2,   2293.7,2,  -999.00,9,  -0.3058
  06AQ20070728,EurArc,   291,  1,     13,     13,2,20070821,1353, 82.7100,  86.2660, 2400,    760.2,   0.4179,  34.9190,2,   -999.0,9,    300.7,2,     7.31,2,    13.93,2,     0.02,2,     0.92,2,   2168.8,2,   2295.0,2,  -999.00,9,   0.3829
  06AQ20070728,EurArc,   291,  1,     14,     14,2,20070821,1353, 82.7100,  86.2660, 2400,    506.2,   1.8793,  34.9670,2,   -999.0,9,    302.7,2,     5.61,2,    12.86,2,     0.02,2,     0.86,2,   2160.3,2,   2298.2,2,  -999.00,9,   1.8511
  06AQ20070728,EurArc,   291,  1,     15,     15,2,20070821,1353, 82.7100,  86.2660, 2400,    405.0,   2.4250,  34.9870,2,   -999.0,9,    301.0,2,     5.28,2,    12.67,2,     0.02,2,     0.84,2,   -999.0,9,   -999.0,9,  -999.00,9,   2.4009
  06AQ20070728,EurArc,   291,  1,     16,     16,2,20070821,1353, 82.7100,  86.2660, 2400,    303.9,   2.7510,  34.9850,2,   -999.0,9,    299.8,2,     5.03,2,    12.49,2,     0.02,2,     0.83,2,   -999.0,9,   -999.0,9,  -999.00,9,   2.7324
  06AQ20070728,EurArc,   291,  1,     17,     17,2,20070821,1353, 82.7100,  86.2660, 2400,    202.9,   2.9297,  34.9490,2,   -999.0,9,    298.6,2,     4.71,2,    12.16,2,     0.02,2,     0.80,2,   2156.9,3,   2298.8,2,  -999.00,9,   2.9172
  06AQ20070728,EurArc,   291,  1,     18,     18,2,20070821,1353, 82.7100,  86.2660, 2400,    151.9,   3.0943,  34.9450,2,   -999.0,9,    297.8,2,     4.56,2,    11.82,2,     0.02,2,     0.79,2,   -999.0,9,   -999.0,9,     0.23,2,   3.0848
  06AQ20070728,EurArc,   291,  1,     19,     19,2,20070821,1353, 82.7100,  86.2660, 2400,    125.7,   2.8537,  34.8830,2,   -999.0,9,    301.0,2,     4.42,2,    11.58,2,     0.02,2,     0.77,2,   -999.0,9,   -999.0,9,     0.22,2,   2.8461
  06AQ20070728,EurArc,   291,  1,     20,     20,2,20070821,1353, 82.7100,  86.2660, 2400,    100.4,   2.1692,  34.7430,2,   -999.0,9,    308.3,2,     4.08,2,    11.02,2,     0.03,2,     0.74,2,   2146.3,3,   2286.8,2,     0.16,2,   2.1637
  06AQ20070728,EurArc,   291,  1,     21,     21,2,20070821,1353, 82.7100,  86.2660, 2400,     76.1,  -0.2428,  34.3370,2,   -999.0,9,    325.3,2,     3.21,2,     9.55,2,     0.02,2,     0.67,2,   -999.0,9,   -999.0,9,     0.03,2,  -0.2453
  06AQ20070728,EurArc,   291,  1,     22,     22,2,20070821,1353, 82.7100,  86.2660, 2400,     50.2,  -1.7959,  34.1200,2,   -999.0,9,    333.2,2,     2.37,2,     7.22,2,     0.07,2,     0.54,2,   2106.6,3,   2245.4,2,     0.09,2,  -1.7969
  06AQ20070728,EurArc,   291,  1,     23,     23,2,20070821,1353, 82.7100,  86.2660, 2400,     25.0,  -1.7357,  34.0580,2,   -999.0,9,    365.6,2,     2.20,2,     6.31,2,     0.05,2,     0.48,2,   -999.0,9,   -999.0,9,     0.06,2,  -1.7362
  06AQ20070728,EurArc,   291,  1,     24,     24,2,20070821,1353, 82.7100,  86.2660, 2400,      8.6,  -1.6423,  33.1260,2,   -999.0,9,    392.1,2,     1.78,2,     1.81,2,     0.04,2,     0.27,2,   -999.0,9,   -999.0,9,    -0.05,2,  -1.6425