BOTTLE,20220921CCHSIOAMB
EXPOCODE,SECT_ID,STNNBR,CASTNO,SAMPNO,BTLNBR,BTLNBR_FLAG_W,DATE,TIME,LATITUDE,LONGITUDE,DEPTH,CTDPRS,CTDTMP,CTDSAL,CTDSAL_FLAG_W,CTDOXY,CTDOXY_FLAG_W,OXYGEN,OXYGEN_FLAG_W,SILCAT,SILCAT_FLAG_W,NITRAT,NITRAT_FLAG_W,NITRIT,NITRIT_FLAG_W,PHSPHT,PHSPHT_FLAG_W,TCARBN,TCARBN_FLAG_W,ALKALI,ALKALI_FLAG_W,DELO18,DELO18_FLAG_W,THETA
,,,,,,,,,,,METERS,DBAR,ITS-90,PSS-78,,UMOL/KG,,UMOL/KG,,UMOL/KG,,UMOL/KG,,UMOL/KG,,UMOL/KG,,UMOL/KG,,UMOL/KG,,/MILLE,,DEG C
  06AQ20070728,EurArc,   252,  1,      1,      1,2,20070803,1017, 82.2510,  34.0370, 2627,   2663.4,  -0.7467,  34.9280,2,   -999.0,9,    297.4,2,    11.09,2,    14.56,2,     0.01,2,     0.99,2,   -999.0,9,   -999.0,9,  -999.00,9,  -0.8882
  06AQ20070728,EurArc,   252,  1,      2,      2,2,20070803,1017, 82.2510,  34.0370, 2627,   2653.1,  -0.7424,  34.9270,2,   -999.0,9,    297.3,2,    11.15,2,    14.54,2,     0.02,2,     0.99,2,   -999.0,9,   -999.0,9,  -999.00,9,  -0.8832
  06AQ20070728,EurArc,   252,  1,      3,      3,2,20070803,1017, 82.2510,  34.0370, 2627,   2541.1,  -0.7297,  34.9230,2,   -999.0,9,    298.1,2,    10.91,2,    14.47,2,     0.01,2,     0.98,2,   -999.0,9,   -999.0,9,  -999.00,9,  -0.8624
  06AQ20070728,EurArc,   252,  1,      4,      4,2,20070803,1017, 82.2510,  34.0370, 2627,   2030.1,  -0.7045,  34.9170,2,   -999.0,9,    297.3,2,  -999.00,9,  -999.00,9,  -999.00,9,  -999.00,9,   -999.0,9,   -999.0,9,  -999.00,9,  -0.8020
  06AQ20070728,EurArc,   252,  1,      5,      5,2,20070803,1017, 82.2510,  34.0370, 2627,   1775.7,  -0.6776,  34.9140,2,   -999.0,9,    297.3,2,    10.54,2,    14.34,2,     0.01,2,     0.97,2,   -999.0,9,   -999.0,9,  -999.00,9,  -0.7593
  06AQ20070728,EurArc,   252,  1,      6,      6,2,20070803,1017, 82.2510,  34.0370, 2627,   1521.4,  -0.6306,  34.9110,2,   -999.0,9,    298.1,2,    10.32,2,    14.30,2,     0.01,2,     0.97,2,   -999.0,9,   -999.0,9,  -999.00,9,  -0.6978
  06AQ20070728,EurArc,   252,  1,      7,      7,2,20070803,1017, 82.2510,  34.0370, 2627,   1267.1,  -0.5057,  34.9090,2,   -999.0,9,    299.4,2,     9.50,2,    13.96,2,     0.00,2,     0.94,2,   -999.0,9,   -999.0,9,  -999.00,9,  -0.5601
  06AQ20070728,EurArc,   252,  1,      8,      8,2,20070803,1017, 82.2510,  34.0370, 2627,   1013.0,  -0.1518,  34.9110,2,   -999.0,9,    301.7,2,     8.37,2,    13.52,2,     0.01,2,     0.91,2,   -999.0,9,   -999.0,9,  -999.00,9,  -0.1959
  06AQ20070728,EurArc,   252,  1,      9,      9,2,20070803,1017, 82.2510,  34.0370, 2627,    759.5,   1.1431,  34.9600,2,   -999.0,9,    310.6,2,     5.99,2,    12.18,2,     0.01,2,     0.81,2,   -999.0,9,   -999.0,9,  -999.00,9,   1.1036
  06AQ20070728,EurArc,   252,  1,     10,     10,2,20070803,1017, 82.2510,  34.0370, 2627,    505.8,   1.9942,  35.0020,2,   -999.0,9,    312.3,2,     5.03,2,    11.51,2,     0.01,2,     0.77,2,   -999.0,9,   -999.0,9,  -999.00,9,   1.9655
  06AQ20070728,EurArc,   252,  1,     11,     11,2,20070803,1017, 82.2510,  34.0370, 2627,    404.7,   2.4146,  35.0260,2,   -999.0,9,    309.3,2,     4.96,2,    11.74,2,     0.02,2,     0.78,2,   -999.0,9,   -999.0,9,  -999.00,9,   2.3906
  06AQ20070728,EurArc,   252,  1,     12,     12,2,20070803,1017, 82.2510,  34.0370, 2627,    303.3,   2.4465,  34.9930,2,   -999.0,9,    304.9,2,     5.06,2,    11.83,2,     0.01,2,     0.79,2,   -999.0,9,   -999.0,9,  -999.00,9,   2.4287
  06AQ20070728,EurArc,   252,  1,     13,     13,2,20070803,1017, 82.2510,  34.0370, 2627,    253.2,   2.5756,  34.9810,2,   -999.0,9,    304.5,2,     4.96,2,    11.74,2,     0.01,2,     0.78,2,   -999.0,9,   -999.0,9,  -999.00,9,   2.5606
  06AQ20070728,EurArc,   252,  1,     14,     14,2,20070803,1017, 82.2510,  34.0370, 2627,    202.3,   2.8106,  34.9770,2,   -999.0,9,    304.1,2,     4.80,2,    11.57,2,     0.00,2,     0.77,2,   -999.0,9,   -999.0,9,  -999.00,9,   2.7983
  06AQ20070728,EurArc,   252,  1,     15,     15,2,20070803,1017, 82.2510,  34.0370, 2627,    177.5,   2.8158,  34.9750,2,   -999.0,9,    303.4,2,     4.78,2,    11.59,2,     0.01,2,     0.77,2,   -999.0,9,   -999.0,9,  -999.00,9,   2.8050
  06AQ20070728,EurArc,   252,  1,     16,     16,2,20070803,1017, 82.2510,  34.0370, 2627,    151.2,   2.8593,  34.9620,2,    291.4,2,    302.8,2,     4.81,2,    11.66,2,     0.01,2,     0.77,2,   -999.0,9,   -999.0,9,     0.29,2,   2.8501
  06AQ20070728,EurArc,   252,  1,     17,     17,2,20070803,1017, 82.2510,  34.0370, 2627,    126.1,   2.8690,  34.9450,2,    291.2,2,    302.0,2,     4.76,2,    11.54,2,     0.01,2,     0.76,2,   -999.0,9,   -999.0,9,     0.38,2,   2.8614
  06AQ20070728,EurArc,   252,  1,     18,     18,2,20070803,1017, 82.2510,  34.0370, 2627,    101.1,   2.6683,  34.8920,2,    290.7,2,    303.5,2,     4.76,2,    11.54,2,     0.02,2,     0.76,2,   -999.0,9,   -999.0,9,     0.20,2,   2.6624
  06AQ20070728,EurArc,   252,  1,     19,     19,2,20070803,1017, 82.2510,  34.0370, 2627,    101.1,   2.6085,  34.8800,2,   -999.0,9,    303.5,2,     4.75,2,    11.51,2,     0.02,2,     0.76,2,   -999.0,9,   -999.0,9,  -999.00,9,   2.6026
  06AQ20070728,EurArc,   252,  1,     20,     20,2,20070803,1017, 82.2510,  34.0370, 2627,     75.0,   1.3834,  34.6850,2,    297.4,2,    314.9,2,     4.53,2,    11.08,2,     0.03,2,     0.74,2,   -999.0,9,   -999.0,9,     0.17,2,   1.3798
  06AQ20070728,EurArc,   252,  1,     21,     21,2,20070803,1017, 82.2510,  34.0370, 2627,     50.3,  -1.3365,  34.3210,2,    320.2,2,    331.8,2,     3.86,2,     9.41,2,     0.12,2,     0.66,2,   -999.0,9,   -999.0,9,     0.11,2,  -1.3377
  06AQ20070728,EurArc,   252,  1,     22,     22,2,20070803,1017, 82.2510,  34.0370, 2627,     25.4,  -1.6325,  34.1380,2,    332.8,2,    350.3,2,     3.28,2,     7.87,2,     0.06,2,     0.57,2,   -999.0,9,   -999.0,9,     0.08,2,  -1.6330
  06AQ20070728,EurArc,   252,  1,     23,     23,2,20070803,1017, 82.2510,  34.0370, 2627,     10.0,  -1.4862,  33.5150,2,    356.6,2,    367.7,2,     1.81,2,     5.44,2,     0.05,2,     0.46,2,   -999.0,9,   -999.0,9,    -0.01,2,  -1.4864
  06AQ20070728,EurArc,   252,  1,     24,     24,2,20070803,1017, 82.2510,  34.0370, 2627,      2.3,  -1.5122,  33.1450,2,    360.7,2,    365.5,2,     0.98,2,     3.96,2,     0.06,2,     0.36,2,   -999.0,9,   -999.0,9,     0.08,2,  -1.5122
  06AQ20070728,EurArc,   255,  1,      1,      1,2,20070804,1935, 82.5030,  33.9520, 3078,   2996.9,  -0.7576,  34.9360,2,   -999.0,9,    300.3,2,    11.06,2,    14.75,2,     0.04,2,     1.00,2,   -999.0,9,   -999.0,9,  -999.00,9,  -0.9250
  06AQ20070728,EurArc,   255,  1,     2a,      2,2,20070804,1935, 82.5030,  33.9520, 3078,   2842.6,  -0.7546,  34.9320,2,   -999.0,9,   -999.0,9,    11.03,2,    14.75,2,     0.04,2,     1.01,2,   -999.0,9,   -999.0,9,  -999.00,9,  -0.9098
  06AQ20070728,EurArc,   255,  1,     2b,      2,2,20070804,1935, 82.5030,  33.9520, 3078,   2944.2,  -0.7558,  34.9340,2,   -999.0,9,   -999.0,9,    10.99,2,    14.71,2,     0.04,2,     1.01,2,   -999.0,9,   -999.0,9,  -999.00,9,  -0.9190
  06AQ20070728,EurArc,   255,  1,      4,      4,2,20070804,1935, 82.5030,  33.9520, 3078,   2740.5,  -0.7549,  34.9310,2,   -999.0,9,   -999.0,9,    10.98,2,    14.81,2,     0.03,2,     1.01,2,   -999.0,9,   -999.0,9,  -999.00,9,  -0.9021
  06AQ20070728,EurArc,   255,  1,      5,      5,2,20070804,1935, 82.5030,  33.9520, 3078,   2536.6,  -0.7572,  34.9280,2,   -999.0,9,   -999.0,9,    10.92,2,    14.77,2,     0.03,2,     1.01,2,   -999.0,9,   -999.0,9,  -999.00,9,  -0.8890
  06AQ20070728,EurArc,   255,  1,      6,      6,2,20070804,1935, 82.5030,  33.9520, 3078,   2332.5,  -0.7551,  34.9260,2,   -999.0,9,    299.6,2,    10.87,2,    14.73,2,     0.04,2,     1.01,2,   -999.0,9,   -999.0,9,  -999.00,9,  -0.8723
  06AQ20070728,EurArc,   255,  1,      7,      7,2,20070804,1935, 82.5030,  33.9520, 3078,   2128.8,  -0.7495,  34.9230,2,   -999.0,9,    299.3,2,    10.78,2,    14.80,2,     0.03,2,     1.01,2,   -999.0,9,   -999.0,9,  -999.00,9,  -0.8528
  06AQ20070728,EurArc,   255,  1,      8,      8,2,20070804,1935, 82.5030,  33.9520, 3078,   2027.0,  -0.7395,  34.9220,2,   -999.0,9,    299.0,2,    10.74,2,    14.77,2,     0.03,2,     1.01,2,   -999.0,9,   -999.0,9,  -999.00,9,  -0.8362
  06AQ20070728,EurArc,   255,  1,      9,      9,2,20070804,1935, 82.5030,  33.9520, 3078,   1925.3,  -0.7230,  34.9200,2,   -999.0,9,    299.0,2,    10.62,2,    14.73,2,     0.03,2,     1.01,2,   -999.0,9,   -999.0,9,  -999.00,9,  -0.8134
  06AQ20070728,EurArc,   255,  1,     10,     10,2,20070804,1935, 82.5030,  33.9520, 3078,   1823.1,  -0.7019,  34.9190,2,   -999.0,9,    298.9,2,    10.50,2,    14.72,2,     0.03,2,     1.01,2,   -999.0,9,   -999.0,9,  -999.00,9,  -0.7862
  06AQ20070728,EurArc,   255,  1,     11,     11,2,20070804,1935, 82.5030,  33.9520, 3078,   1620.1,  -0.6519,  34.9170,2,   -999.0,9,    298.8,2,    10.15,2,    14.55,2,     0.04,2,     1.00,2,   -999.0,9,   -999.0,9,  -999.00,9,  -0.7246
  06AQ20070728,EurArc,   255,  1,     12,     12,2,20070804,1935, 82.5030,  33.9520, 3078,   1417.2,  -0.5850,  34.9130,2,   -999.0,9,    299.2,2,     9.90,2,    14.52,2,     0.03,2,     0.99,2,   -999.0,9,   -999.0,9,  -999.00,9,  -0.6468
  06AQ20070728,EurArc,   255,  1,     13,     13,2,20070804,1935, 82.5030,  33.9520, 3078,   1213.9,  -0.4466,  34.9110,2,   -999.0,9,    299.5,2,     9.31,2,    14.32,2,     0.03,2,     0.98,2,   -999.0,9,   -999.0,9,  -999.00,9,  -0.4987
  06AQ20070728,EurArc,   255,  1,     14,     14,2,20070804,1935, 82.5030,  33.9520, 3078,   1011.4,  -0.1963,  34.9110,2,   -999.0,9,    300.6,2,     8.49,2,    13.92,2,     0.03,2,     0.96,2,   -999.0,9,   -999.0,9,  -999.00,9,  -0.2399
  06AQ20070728,EurArc,   255,  1,     15,     15,2,20070804,1935, 82.5030,  33.9520, 3078,    808.2,   0.3499,  34.9230,2,   -999.0,9,    303.0,2,     7.31,2,    13.41,2,     0.03,2,     0.92,2,   -999.0,9,   -999.0,9,  -999.00,9,   0.3128
  06AQ20070728,EurArc,   255,  1,    16a,     16,2,20070804,1935, 82.5030,  33.9520, 3078,    754.5,   0.6179,  34.9290,2,   -999.0,9,    302.5,2,     6.50,2,    12.98,2,     0.03,2,     0.88,2,   -999.0,9,   -999.0,9,  -999.00,9,   0.5820
  06AQ20070728,EurArc,   255,  1,     17,     17,2,20070804,1935, 82.5030,  33.9520, 3078,    706.8,   0.8377,  34.9360,2,   -999.0,9,    304.3,2,     5.76,2,    12.78,2,     0.02,2,     0.86,2,   -999.0,9,   -999.0,9,  -999.00,9,   0.8031
  06AQ20070728,EurArc,   255,  1,    16b,     16,2,20070804,1935, 82.5030,  33.9520, 3078,    504.9,   1.6553,  34.9520,2,   -999.0,9,    302.5,2,     6.94,2,    13.21,2,     0.03,2,     0.90,2,   -999.0,9,   -999.0,9,  -999.00,9,   1.6281
  06AQ20070728,EurArc,   255,  1,     19,     19,2,20070804,1935, 82.5030,  33.9520, 3078,    295.7,   2.3817,  34.9590,2,   -999.0,9,    302.3,2,     5.07,2,    12.12,2,     0.03,2,     0.82,2,   -999.0,9,   -999.0,9,  -999.00,9,   2.3645
  06AQ20070728,EurArc,   255,  1,     20,     20,2,20070804,1935, 82.5030,  33.9520, 3078,    201.7,   2.6914,  34.9580,2,   -999.0,9,    302.2,2,     4.88,2,    11.99,2,     0.04,2,     0.80,2,   -999.0,9,   -999.0,9,  -999.00,9,   2.6793
  06AQ20070728,EurArc,   255,  1,     21,     21,2,20070804,1935, 82.5030,  33.9520, 3078,     99.2,   1.9553,  34.7920,2,   -999.0,9,    306.9,2,     4.64,2,    11.46,2,     0.08,2,     0.78,2,   -999.0,9,   -999.0,9,  -999.00,9,   1.9501
  06AQ20070728,EurArc,   255,  1,     22,     22,2,20070804,1935, 82.5030,  33.9520, 3078,     37.8,  -1.7694,  34.2650,2,   -999.0,9,    347.2,2,     3.64,2,     8.64,2,     0.10,2,     0.63,2,   -999.0,9,   -999.0,9,  -999.00,9,  -1.7701
  06AQ20070728,EurArc,   255,  1,     23,     23,2,20070804,1935, 82.5030,  33.9520, 3078,     18.8,  -1.6693,  34.0830,2,   -999.0,9,    364.8,2,     3.41,2,     7.36,2,     0.08,2,     0.55,2,   -999.0,9,   -999.0,9,  -999.00,9,  -1.6697
  06AQ20070728,EurArc,   255,  1,     24,     24,2,20070804,1935, 82.5030,  33.9520, 3078,      4.4,  -1.4674,  33.0750,2,   -999.0,9,    373.3,2,  -999.00,9,  -999.00,9,  -999.00,9,  -999.00,9,   -999.0,9,   -999.0,9,  -999.00,9,  -1.4675
  06AQ20070728,EurArc,   255,  3,      1,      1,2,20070804,0153, 82.5030,  33.9520, 3078,   3114.4,  -0.7487,  34.9400,2,   -999.0,9,    296.3,2,    11.53,2,    14.53,2,     0.03,2,     1.00,2,   -999.0,9,   -999.0,9,  -999.00,9,  -0.9259
  06AQ20070728,EurArc,   255,  3,      2,      2,2,20070804,0153, 82.5030,  33.9520, 3078,   3053.3,  -0.7552,  34.9380,2,   -999.0,9,    297.8,2,    11.35,2,    14.48,2,     0.03,2,     1.00,2,   -999.0,9,   -999.0,9,  -999.00,9,  -0.9272
  06AQ20070728,EurArc,   255,  3,      3,      3,2,20070804,0153, 82.5030,  33.9520, 3078,   2541.8,  -0.7567,  34.9260,2,   -999.0,9,    298.7,2,    10.85,2,    14.41,2,     0.02,2,     0.99,2,   -999.0,9,   -999.0,9,  -999.00,9,  -0.8889
  06AQ20070728,EurArc,   255,  3,      4,      4,2,20070804,0153, 82.5030,  33.9520, 3078,   2030.8,  -0.7335,  34.9200,2,   -999.0,9,    298.9,2,    10.59,2,    14.31,2,     0.02,2,     0.99,2,   -999.0,9,   -999.0,9,  -999.00,9,  -0.8306
  06AQ20070728,EurArc,   255,  3,      5,      5,2,20070804,0153, 82.5030,  33.9520, 3078,   1521.3,  -0.6002,  34.9160,2,   -999.0,9,    300.0,2,     9.64,2,    14.02,2,     0.02,2,     0.97,2,   -999.0,9,   -999.0,9,  -999.00,9,  -0.6677
  06AQ20070728,EurArc,   255,  3,      6,      6,2,20070804,0153, 82.5030,  33.9520, 3078,   1216.0,  -0.4406,  34.9100,2,   -999.0,9,    300.8,2,     9.26,2,    13.90,2,     0.02,2,     0.96,2,   -999.0,9,   -999.0,9,  -999.00,9,  -0.4929
  06AQ20070728,EurArc,   255,  3,      7,      7,2,20070804,0153, 82.5030,  33.9520, 3078,   1012.5,  -0.1874,  34.9120,2,   -999.0,9,    302.4,2,     8.41,2,    13.55,2,     0.03,2,     0.94,2,   -999.0,9,   -999.0,9,  -999.00,9,  -0.2312
  06AQ20070728,EurArc,   255,  3,      8,      8,2,20070804,0153, 82.5030,  33.9520, 3078,    911.5,   0.0079,  34.9130,2,   -999.0,9,    303.8,2,     7.89,2,    13.32,2,     0.03,2,     0.93,2,   -999.0,9,   -999.0,9,  -999.00,9,  -0.0322
  06AQ20070728,EurArc,   255,  3,      9,      9,2,20070804,0153, 82.5030,  33.9520, 3078,    810.2,   0.3379,  34.9200,2,   -999.0,9,    305.3,2,     7.14,2,    12.91,2,     0.03,2,     0.90,2,   -999.0,9,   -999.0,9,  -999.00,9,   0.3008
  06AQ20070728,EurArc,   255,  3,     10,     10,2,20070804,0153, 82.5030,  33.9520, 3078,    708.5,   0.8083,  34.9330,2,   -999.0,9,    305.1,2,     6.42,2,    12.57,2,     0.02,2,     0.87,2,   -999.0,9,   -999.0,9,  -999.00,9,   0.7738
  06AQ20070728,EurArc,   255,  3,     11,     11,2,20070804,0153, 82.5030,  33.9520, 3078,    607.4,   1.1330,  34.9310,2,   -999.0,9,    305.0,2,     6.11,2,    12.54,2,     0.03,2,     0.86,2,   -999.0,9,   -999.0,9,  -999.00,9,   1.1023
  06AQ20070728,EurArc,   255,  3,     12,     12,2,20070804,0153, 82.5030,  33.9520, 3078,    505.2,   1.6927,  34.9570,2,   -999.0,9,    306.1,2,     5.62,2,    12.23,2,     0.03,2,     0.84,2,   -999.0,9,   -999.0,9,  -999.00,9,   1.6653
  06AQ20070728,EurArc,   255,  3,     13,     13,2,20070804,0153, 82.5030,  33.9520, 3078,    404.5,   2.1704,  34.9700,2,   -999.0,9,    306.3,2,     5.23,2,    11.91,2,     0.03,2,     0.82,2,   -999.0,9,   -999.0,9,  -999.00,9,   2.1472
  06AQ20070728,EurArc,   255,  3,     14,     14,2,20070804,0153, 82.5030,  33.9520, 3078,    303.4,   2.4148,  34.9630,2,   -999.0,9,    305.5,2,     4.95,2,    11.63,2,     0.02,2,     0.80,2,   -999.0,9,   -999.0,9,  -999.00,9,   2.3971
  06AQ20070728,EurArc,   255,  3,     15,     15,2,20070804,0153, 82.5030,  33.9520, 3078,    202.0,   2.6598,  34.9620,2,   -999.0,9,    304.2,2,     4.79,2,    11.47,2,     0.03,2,     0.78,2,   -999.0,9,   -999.0,9,  -999.00,9,   2.6478
  06AQ20070728,EurArc,   255,  3,     16,     16,2,20070804,0153, 82.5030,  33.9520, 3078,    151.6,   2.6618,  34.9320,2,   -999.0,9,    303.3,2,     4.73,2,    11.34,2,     0.03,2,     0.78,2,   -999.0,9,   -999.0,9,  -999.00,9,   2.6528
  06AQ20070728,EurArc,   255,  3,     17,     17,2,20070804,0153, 82.5030,  33.9520, 3078,    126.3,   2.5420,  34.8980,2,   -999.0,9,    303.4,2,     4.68,2,    11.23,2,     0.03,2,     0.77,2,   -999.0,9,   -999.0,9,  -999.00,9,   2.5347
  06AQ20070728,EurArc,   255,  3,     18,     18,2,20070804,0153, 82.5030,  33.9520, 3078,    100.7,   2.0853,  34.8580,2,   -999.0,9,    305.8,2,     4.55,2,    10.91,2,     0.04,2,     0.76,2,   -999.0,9,   -999.0,9,  -999.00,9,   2.0799
  06AQ20070728,EurArc,   255,  3,     19,     19,2,20070804,0153, 82.5030,  33.9520, 3078,    100.7,   2.1600,  34.8110,2,   -999.0,9,    305.8,2,  -999.00,9,  -999.00,9,  -999.00,9,  -999.00,9,   -999.0,9,   -999.0,9,  -999.00,9,   2.1545
  06AQ20070728,EurArc,   255,  3,     20,     20,2,20070804,0153, 82.5030,  33.9520, 3078,     76.2,   0.9258,  34.6180,2,   -999.0,9,    324.9,2,     4.25,2,    10.29,2,     0.06,2,     0.72,2,   -999.0,9,   -999.0,9,  -999.00,9,   0.9225
  06AQ20070728,EurArc,   255,  3,     21,     21,2,20070804,0153, 82.5030,  33.9520, 3078,     50.5,  -1.5853,  34.3030,2,   -999.0,9,    335.7,2,     3.84,2,     8.94,2,     0.09,2,     0.65,2,   -999.0,9,   -999.0,9,  -999.00,9,  -1.5864
  06AQ20070728,EurArc,   255,  3,     22,     22,2,20070804,0153, 82.5030,  33.9520, 3078,     25.0,  -1.6305,  34.2120,2,   -999.0,9,    345.9,2,     3.43,2,     7.58,2,     0.07,2,     0.58,2,   -999.0,9,   -999.0,9,  -999.00,9,  -1.6310
  06AQ20070728,EurArc,   255,  3,     23,     23,2,20070804,0153, 82.5030,  33.9520, 3078,      9.9,  -1.4735,  33.1210,2,   -999.0,9,    364.6,2,     0.95,2,     4.04,2,     0.08,2,     0.36,2,   -999.0,9,   -999.0,9,  -999.00,9,  -1.4737
  06AQ20070728,EurArc,   255,  3,     24,     24,2,20070804,0153, 82.5030,  33.9520, 3078,      2.4,  -1.4848,  33.1810,2,   -999.0,9,    367.9,2,     0.84,2,     3.98,2,     0.10,2,     0.36,2,   -999.0,9,   -999.0,9,  -999.00,9,  -1.4848