BOTTLE,20220921CCHSIOAMB
EXPOCODE,SECT_ID,STNNBR,CASTNO,SAMPNO,BTLNBR,BTLNBR_FLAG_W,DATE,TIME,LATITUDE,LONGITUDE,DEPTH,CTDPRS,CTDTMP,CTDSAL,CTDSAL_FLAG_W,CTDOXY,CTDOXY_FLAG_W,OXYGEN,OXYGEN_FLAG_W,SILCAT,SILCAT_FLAG_W,NITRAT,NITRAT_FLAG_W,NITRIT,NITRIT_FLAG_W,PHSPHT,PHSPHT_FLAG_W,TCARBN,TCARBN_FLAG_W,ALKALI,ALKALI_FLAG_W,DELO18,DELO18_FLAG_W,THETA
,,,,,,,,,,,METERS,DBAR,ITS-90,PSS-78,,UMOL/KG,,UMOL/KG,,UMOL/KG,,UMOL/KG,,UMOL/KG,,UMOL/KG,,UMOL/KG,,UMOL/KG,,/MILLE,,DEG C
  06AQ20070728,EurArc,   377,  2,     23,     23,2,20070918,0744, 83.4150, 115.4800, 4200,      1.8,  -1.5728,  31.1930,2,    361.8,2,    375.2,2,  -999.00,9,  -999.00,9,  -999.00,9,  -999.00,9,   -999.0,9,   -999.0,9,    -2.03,2,  -1.5728
  06AQ20070728,EurArc,   377,  2,     22,     22,2,20070918,0744, 83.4150, 115.4800, 4200,     10.5,  -1.6436,  31.1870,2,    362.2,2,    375.4,2,  -999.00,9,  -999.00,9,  -999.00,9,  -999.00,9,   -999.0,9,   -999.0,9,    -2.04,2,  -1.6437
  06AQ20070728,EurArc,   377,  2,     21,     21,2,20070918,0744, 83.4150, 115.4800, 4200,     24.2,  -1.6601,  32.7130,2,    363.3,2,    379.2,2,  -999.00,9,  -999.00,9,  -999.00,9,  -999.00,9,   -999.0,9,   -999.0,9,    -1.93,2,  -1.6605
  06AQ20070728,EurArc,   377,  2,     20,     20,2,20070918,0744, 83.4150, 115.4800, 4200,     39.8,  -1.7577,  33.1100,2,    348.6,2,    370.8,2,  -999.00,9,  -999.00,9,  -999.00,9,  -999.00,9,   -999.0,9,   -999.0,9,  -999.00,9,  -1.7584
  06AQ20070728,EurArc,   377,  2,     19,     19,2,20070918,0744, 83.4150, 115.4800, 4200,     50.3,  -1.6904,  33.7030,2,    314.9,2,    346.4,2,  -999.00,9,  -999.00,9,  -999.00,9,  -999.00,9,   -999.0,9,   -999.0,9,    -0.80,2,  -1.6914
  06AQ20070728,EurArc,   377,  2,     18,     18,2,20070918,0744, 83.4150, 115.4800, 4200,     75.3,  -1.5420,  34.0930,2,    305.8,2,    324.1,2,  -999.00,9,  -999.00,9,  -999.00,9,  -999.00,9,   -999.0,9,   -999.0,9,    -0.45,2,  -1.5436
  06AQ20070728,EurArc,   377,  2,     17,     17,2,20070918,0744, 83.4150, 115.4800, 4200,    100.9,  -0.6550,  34.3680,2,    298.6,2,    315.6,2,  -999.00,9,  -999.00,9,  -999.00,9,  -999.00,9,   -999.0,9,   -999.0,9,    -0.12,2,  -0.6580
  06AQ20070728,EurArc,   377,  2,     16,     16,2,20070918,0744, 83.4150, 115.4800, 4200,    125.9,   0.1127,  34.5190,2,    293.8,2,    309.7,2,  -999.00,9,  -999.00,9,  -999.00,9,  -999.00,9,   -999.0,9,   -999.0,9,    -0.07,2,   0.1080
  06AQ20070728,EurArc,   377,  2,     15,     15,2,20070918,0744, 83.4150, 115.4800, 4200,    151.5,   0.6755,  34.6560,2,    288.7,2,    304.5,2,  -999.00,9,  -999.00,9,  -999.00,9,  -999.00,9,   -999.0,9,   -999.0,9,    -0.01,2,   0.6691
  06AQ20070728,EurArc,   377,  2,     14,     14,2,20070918,0744, 83.4150, 115.4800, 4200,    202.1,   1.2911,  34.8350,2,   -999.0,9,    300.0,2,  -999.00,9,  -999.00,9,  -999.00,9,  -999.00,9,   -999.0,9,   -999.0,9,  -999.00,9,   1.2814
  06AQ20070728,EurArc,   377,  2,     13,     13,2,20070918,0744, 83.4150, 115.4800, 4200,    304.6,   1.1674,  34.8600,2,   -999.0,9,    301.7,2,  -999.00,9,  -999.00,9,  -999.00,9,  -999.00,9,   -999.0,9,   -999.0,9,  -999.00,9,   1.1528
  06AQ20070728,EurArc,   377,  2,     12,     12,2,20070918,0744, 83.4150, 115.4800, 4200,    506.5,   0.4930,  34.8740,2,   -999.0,9,    305.2,2,  -999.00,9,  -999.00,9,  -999.00,9,  -999.00,9,   -999.0,9,   -999.0,9,  -999.00,9,   0.4706
  06AQ20070728,EurArc,   377,  2,     11,     11,2,20070918,0744, 83.4150, 115.4800, 4200,    759.2,  -0.0847,  34.8820,2,   -999.0,9,    301.2,2,  -999.00,9,  -999.00,9,  -999.00,9,  -999.00,9,   -999.0,9,   -999.0,9,  -999.00,9,  -0.1164
  06AQ20070728,EurArc,   377,  2,     10,     10,2,20070918,0744, 83.4150, 115.4800, 4200,   1013.6,  -0.2930,  34.8850,2,   -999.0,9,    302.6,2,  -999.00,9,  -999.00,9,  -999.00,9,  -999.00,9,   -999.0,9,   -999.0,9,  -999.00,9,  -0.3359
  06AQ20070728,EurArc,   377,  2,      9,      9,2,20070918,0744, 83.4150, 115.4800, 4200,   1267.1,  -0.4130,  34.8900,2,   -999.0,9,    305.4,2,  -999.00,9,  -999.00,9,  -999.00,9,  -999.00,9,   -999.0,9,   -999.0,9,  -999.00,9,  -0.4683
  06AQ20070728,EurArc,   377,  2,      8,      8,2,20070918,0744, 83.4150, 115.4800, 4200,   1523.5,  -0.5044,  34.9100,2,   -999.0,9,    300.9,2,  -999.00,9,  -999.00,9,  -999.00,9,  -999.00,9,   -999.0,9,   -999.0,9,  -999.00,9,  -0.5732
  06AQ20070728,EurArc,   377,  2,      7,      7,2,20070918,0744, 83.4150, 115.4800, 4200,   2031.2,  -0.7142,  34.9190,2,   -999.0,9,    299.4,2,  -999.00,9,  -999.00,9,  -999.00,9,  -999.00,9,   -999.0,9,   -999.0,9,  -999.00,9,  -0.8116
  06AQ20070728,EurArc,   377,  2,      6,      6,2,20070918,0744, 83.4150, 115.4800, 4200,   2542.3,  -0.7701,  34.9250,2,   -999.0,9,    299.6,2,  -999.00,9,  -999.00,9,  -999.00,9,  -999.00,9,   -999.0,9,   -999.0,9,  -999.00,9,  -0.9021
  06AQ20070728,EurArc,   377,  2,      5,      5,2,20070918,0744, 83.4150, 115.4800, 4200,   3054.4,  -0.7637,  34.9330,2,   -999.0,9,    298.9,2,  -999.00,9,  -999.00,9,  -999.00,9,  -999.00,9,   -999.0,9,   -999.0,9,  -999.00,9,  -0.9356
  06AQ20070728,EurArc,   377,  2,      3,      3,2,20070918,0744, 83.4150, 115.4800, 4200,   3567.6,  -0.7141,  34.9390,2,   -999.0,9,    296.9,2,  -999.00,9,  -999.00,9,  -999.00,9,  -999.00,9,   -999.0,9,   -999.0,9,  -999.00,9,  -0.9312
  06AQ20070728,EurArc,   377,  2,      4,      4,2,20070918,0744, 83.4150, 115.4800, 4200,   3567.7,  -0.7141,  34.9390,2,   -999.0,9,    296.9,2,  -999.00,9,  -999.00,9,  -999.00,9,  -999.00,9,   -999.0,9,   -999.0,9,  -999.00,9,  -0.9312
  06AQ20070728,EurArc,   377,  2,      2,      2,2,20070918,0744, 83.4150, 115.4800, 4200,   4081.7,  -0.6625,  34.9400,2,   -999.0,9,    297.6,2,  -999.00,9,  -999.00,9,  -999.00,9,  -999.00,9,   -999.0,9,   -999.0,9,  -999.00,9,  -0.9292
  06AQ20070728,EurArc,   377,  2,      1,      1,2,20070918,0744, 83.4150, 115.4800, 4200,   4284.1,  -0.6415,  34.9400,2,   -999.0,9,    296.2,2,  -999.00,9,  -999.00,9,  -999.00,9,  -999.00,9,   -999.0,9,   -999.0,9,  -999.00,9,  -0.9289
  06AQ20070728,EurArc,   379,  1,     24,     24,2,20070918,1822, 82.8650, 117.8300, 4413,      9.3,  -1.6622,  31.1070,2,   -999.0,9,    370.0,2,     2.42,2,     0.28,2,     0.02,2,     0.15,2,   -999.0,9,   -999.0,9,  -999.00,9,  -1.6623
  06AQ20070728,EurArc,   379,  1,     23,     23,2,20070918,1822, 82.8650, 117.8300, 4413,     24.7,  -1.6798,  32.6980,2,   -999.0,9,    370.2,2,     3.45,2,     2.50,2,     0.12,2,     0.32,2,   2125.1,3,   2244.7,2,  -999.00,9,  -1.6802
  06AQ20070728,EurArc,   379,  1,     22,     22,2,20070918,1822, 82.8650, 117.8300, 4413,     31.2,  -1.7435,  32.9690,2,   -999.0,9,    370.8,2,     3.58,2,     3.45,2,     0.06,2,     0.37,2,   -999.0,9,   -999.0,9,  -999.00,9,  -1.7440
  06AQ20070728,EurArc,   379,  1,     21,     21,2,20070918,1822, 82.8650, 117.8300, 4413,     50.8,  -1.7277,  33.4840,2,   -999.0,9,    360.0,2,     4.22,2,     6.39,2,     0.04,2,     0.54,2,   2153.0,2,   2261.6,2,  -999.00,9,  -1.7286
  06AQ20070728,EurArc,   379,  1,     20,     20,2,20070918,1822, 82.8650, 117.8300, 4413,     76.1,  -1.5897,  34.0560,2,   -999.0,9,    325.5,2,     3.96,2,     7.53,2,     0.03,2,     0.60,2,   -999.0,9,   -999.0,9,  -999.00,9,  -1.5913
  06AQ20070728,EurArc,   379,  1,     19,     19,2,20070918,1822, 82.8650, 117.8300, 4413,    101.1,  -1.0186,  34.2790,2,   -999.0,9,    318.0,2,     4.08,2,     8.46,2,     0.02,2,     0.65,2,   -999.0,9,   -999.0,9,  -999.00,9,  -1.0213
  06AQ20070728,EurArc,   379,  1,     18,     18,2,20070918,1822, 82.8650, 117.8300, 4413,    101.1,  -1.0232,  34.2810,2,   -999.0,9,    318.0,2,     4.08,2,     8.41,2,     0.02,2,     0.65,2,   2155.1,2,   2274.8,2,  -999.00,9,  -1.0259
  06AQ20070728,EurArc,   379,  1,     17,     17,2,20070918,1822, 82.8650, 117.8300, 4413,    150.8,   0.5095,  34.6330,2,   -999.0,9,    308.3,2,     4.76,2,    10.63,2,     0.02,2,     0.74,2,   -999.0,9,   -999.0,9,  -999.00,9,   0.5033
  06AQ20070728,EurArc,   379,  1,     16,     16,2,20070918,1822, 82.8650, 117.8300, 4413,    202.5,   1.1690,  34.8270,2,   -999.0,9,    299.2,2,     5.21,2,    11.89,2,     0.01,2,     0.82,2,   -999.0,9,   -999.0,9,  -999.00,9,   1.1595
  06AQ20070728,EurArc,   379,  1,     15,     15,2,20070918,1822, 82.8650, 117.8300, 4413,    507.7,   0.6367,  34.8850,2,   -999.0,9,    302.5,2,     5.83,2,    12.30,2,     0.02,2,     0.85,2,   2160.6,2,   2296.4,2,  -999.00,9,   0.6136
  06AQ20070728,EurArc,   379,  1,     14,     14,2,20070918,1822, 82.8650, 117.8300, 4413,    755.8,  -0.0898,  34.8790,2,   -999.0,9,    303.5,2,     6.38,2,    12.41,2,     0.01,2,     0.87,2,   -999.0,9,   -999.0,9,  -999.00,9,  -0.1213
  06AQ20070728,EurArc,   379,  1,     13,     13,2,20070918,1822, 82.8650, 117.8300, 4413,   1013.8,  -0.3537,  34.8950,2,   -999.0,9,    302.3,2,     7.43,2,    13.02,2,     0.01,2,     0.91,2,   2169.2,2,   2296.5,2,  -999.00,9,  -0.3961
  06AQ20070728,EurArc,   379,  1,     12,     12,2,20070918,1822, 82.8650, 117.8300, 4413,   1522.6,  -0.6142,  34.9160,2,   -999.0,9,    298.5,2,     9.63,2,    14.31,2,     0.01,2,     0.98,2,   2163.2,2,   2295.7,2,  -999.00,9,  -0.6816
  06AQ20070728,EurArc,   379,  1,     11,     11,2,20070918,1822, 82.8650, 117.8300, 4413,   1777.2,  -0.6798,  34.9190,2,   -999.0,9,    298.0,2,    10.08,2,    14.41,2,     0.01,2,     0.99,2,   -999.0,9,   -999.0,9,  -999.00,9,  -0.7616
  06AQ20070728,EurArc,   379,  1,     10,     10,2,20070918,1822, 82.8650, 117.8300, 4413,   2032.9,  -0.7247,  34.9210,2,   -999.0,9,    298.3,2,    10.33,2,    14.51,2,     0.01,2,     1.00,2,   2161.7,2,   2297.7,2,  -999.00,9,  -0.8221
  06AQ20070728,EurArc,   379,  1,      9,      9,2,20070918,1822, 82.8650, 117.8300, 4413,   2287.5,  -0.7573,  34.9240,2,   -999.0,9,    298.8,2,    10.45,2,    14.59,2,     0.01,2,     1.00,2,   -999.0,9,   -999.0,9,  -999.00,9,  -0.8713
  06AQ20070728,EurArc,   379,  1,      8,      8,2,20070918,1822, 82.8650, 117.8300, 4413,   2543.0,  -0.7711,  34.9270,2,   -999.0,9,    298.8,2,    10.58,2,    14.61,2,     0.01,2,     1.01,2,   2158.3,2,   2297.5,2,  -999.00,9,  -0.9031
  06AQ20070728,EurArc,   379,  1,      7,      7,2,20070918,1822, 82.8650, 117.8300, 4413,   2798.9,  -0.7736,  34.9310,2,   -999.0,9,    298.9,2,    10.69,2,    14.62,2,     0.01,2,     1.00,2,   -999.0,9,   -999.0,9,  -999.00,9,  -0.9249
  06AQ20070728,EurArc,   379,  1,      6,      6,2,20070918,1822, 82.8650, 117.8300, 4413,   3053.8,  -0.7649,  34.9350,2,   -999.0,9,    298.4,2,    10.80,2,    14.56,2,     0.00,2,     1.02,2,   2152.5,2,   2297.1,2,  -999.00,9,  -0.9367
  06AQ20070728,EurArc,   379,  1,      5,      5,2,20070918,1822, 82.8650, 117.8300, 4413,   3310.0,  -0.7416,  34.9390,2,   -999.0,9,    297.1,2,    11.03,2,    14.66,2,     0.01,2,     1.00,2,   -999.0,9,   -999.0,9,  -999.00,9,  -0.9354
  06AQ20070728,EurArc,   379,  1,      4,      4,2,20070918,1822, 82.8650, 117.8300, 4413,   3567.5,  -0.7156,  34.9410,2,   -999.0,9,    296.3,2,    11.09,2,    14.61,2,     0.01,2,     1.00,2,   2152.7,3,   2298.5,2,  -999.00,9,  -0.9327
  06AQ20070728,EurArc,   379,  1,      3,      3,2,20070918,1822, 82.8650, 117.8300, 4413,   3825.0,  -0.6897,  34.9420,2,   -999.0,9,    296.7,2,    11.09,2,    14.55,2,     0.01,2,     1.00,2,   -999.0,9,   -999.0,9,  -999.00,9,  -0.9311
  06AQ20070728,EurArc,   379,  1,      2,      2,2,20070918,1822, 82.8650, 117.8300, 4413,   4081.8,  -0.6643,  34.9410,2,   -999.0,9,    296.6,2,    11.12,2,    14.74,2,     0.01,2,     1.01,2,   2154.0,2,   2298.6,2,  -999.00,9,  -0.9310
  06AQ20070728,EurArc,   379,  1,      1,      1,2,20070918,1822, 82.8650, 117.8300, 4413,   4417.4,  -0.6291,  34.9410,2,   -999.0,9,    296.1,2,    11.09,2,  -999.00,9,     0.01,2,     1.01,2,   2154.7,2,   2297.6,2,  -999.00,9,  -0.9304
  06AQ20070728,EurArc,   381,  1,     24,     24,2,20070919,0442, 82.1950, 119.5600, 3951,      1.7,  -1.6579,  31.0720,2,   -999.0,9,    370.8,2,     0.86,2,     0.01,2,     0.01,2,     0.10,2,   -999.0,9,   -999.0,9,  -999.00,9,  -1.6579
  06AQ20070728,EurArc,   381,  1,     23,     23,2,20070919,0442, 82.1950, 119.5600, 3951,     10.5,  -1.6599,  31.0790,2,   -999.0,9,    370.5,2,     0.95,2,     0.03,2,     0.02,2,     0.10,2,   -999.0,9,   -999.0,9,  -999.00,9,  -1.6600
  06AQ20070728,EurArc,   381,  1,     22,     22,2,20070919,0442, 82.1950, 119.5600, 3951,     25.2,  -1.6512,  32.5710,2,   -999.0,9,    364.8,2,  -999.00,9,  -999.00,9,  -999.00,9,  -999.00,9,   -999.0,9,   -999.0,9,  -999.00,9,  -1.6516
  06AQ20070728,EurArc,   381,  1,     20,     20,2,20070919,0442, 82.1950, 119.5600, 3951,     25.3,  -1.6663,  32.6070,2,   -999.0,9,    364.7,2,  -999.00,9,  -999.00,9,  -999.00,9,  -999.00,9,   -999.0,9,   -999.0,9,  -999.00,9,  -1.6667
  06AQ20070728,EurArc,   381,  1,     21,     21,2,20070919,0442, 82.1950, 119.5600, 3951,     25.3,  -1.6506,  32.5720,2,   -999.0,9,    364.8,2,     4.02,2,     2.69,2,     0.17,2,     0.35,2,   -999.0,9,   -999.0,9,  -999.00,9,  -1.6510
  06AQ20070728,EurArc,   381,  1,     19,     19,2,20070919,0442, 82.1950, 119.5600, 3951,     39.8,  -1.7153,  32.7440,2,   -999.0,9,    363.0,2,     4.02,2,     3.70,2,     0.05,2,     0.40,2,   -999.0,9,   -999.0,9,  -999.00,9,  -1.7160
  06AQ20070728,EurArc,   381,  1,     18,     18,2,20070919,0442, 82.1950, 119.5600, 3951,     50.8,  -1.6914,  33.6800,2,   -999.0,9,    347.6,2,     4.19,2,     6.60,2,     0.04,2,     0.56,2,   -999.0,9,   -999.0,9,  -999.00,9,  -1.6924
  06AQ20070728,EurArc,   381,  1,     17,     17,2,20070919,0442, 82.1950, 119.5600, 3951,     76.5,  -1.4018,  34.1570,2,   -999.0,9,    322.1,2,     4.01,2,     7.74,2,     0.02,2,     0.62,2,   -999.0,9,   -999.0,9,  -999.00,9,  -1.4035
  06AQ20070728,EurArc,   381,  1,     16,     16,2,20070919,0442, 82.1950, 119.5600, 3951,    101.8,  -0.7922,  34.3270,2,   -999.0,9,    315.6,2,     4.12,2,     8.60,2,     0.02,2,     0.66,2,   -999.0,9,   -999.0,9,  -999.00,9,  -0.7951
  06AQ20070728,EurArc,   381,  1,     15,     15,2,20070919,0442, 82.1950, 119.5600, 3951,    127.2,   0.0331,  34.5080,2,   -999.0,9,    310.8,2,     4.46,2,     9.52,2,     0.02,2,     0.71,2,   -999.0,9,   -999.0,9,  -999.00,9,   0.0285
  06AQ20070728,EurArc,   381,  1,     14,     14,2,20070919,0442, 82.1950, 119.5600, 3951,    152.0,   0.6453,  34.6560,2,   -999.0,9,    304.6,2,     4.75,2,    10.48,2,     0.02,2,     0.75,2,   -999.0,9,   -999.0,9,  -999.00,9,   0.6389
  06AQ20070728,EurArc,   381,  1,     13,     13,2,20070919,0442, 82.1950, 119.5600, 3951,    201.9,   1.2481,  34.8320,2,   -999.0,9,    299.3,2,     5.20,2,    11.67,2,     0.02,2,     0.82,2,   -999.0,9,   -999.0,9,  -999.00,9,   1.2385
  06AQ20070728,EurArc,   381,  1,     12,     12,2,20070919,0442, 82.1950, 119.5600, 3951,    303.5,   1.2130,  34.8640,2,   -999.0,9,    300.9,2,     5.34,2,    11.83,2,     0.02,2,     0.82,2,   -999.0,9,   -999.0,9,  -999.00,9,   1.1983
  06AQ20070728,EurArc,   381,  1,     11,     11,2,20070919,0442, 82.1950, 119.5600, 3951,    506.3,   0.7027,  34.8830,2,   -999.0,9,    304.8,2,     5.73,2,    11.99,2,     0.02,2,     0.84,2,   -999.0,9,   -999.0,9,  -999.00,9,   0.6794
  06AQ20070728,EurArc,   381,  1,     10,     10,2,20070919,0442, 82.1950, 119.5600, 3951,    759.6,  -0.0294,  34.8800,2,   -999.0,9,    305.5,2,     6.41,2,    12.30,2,     0.01,2,     0.87,2,   -999.0,9,   -999.0,9,  -999.00,9,  -0.0615
  06AQ20070728,EurArc,   381,  1,      9,      9,2,20070919,0442, 82.1950, 119.5600, 3951,   1013.4,  -0.3353,  34.8940,2,   -999.0,9,    304.0,2,     7.44,2,    12.80,2,     0.01,2,     0.90,2,   -999.0,9,   -999.0,9,  -999.00,9,  -0.3779
  06AQ20070728,EurArc,   381,  1,      8,      8,2,20070919,0442, 82.1950, 119.5600, 3951,   1267.7,  -0.4955,  34.9080,2,   -999.0,9,    301.0,2,     8.76,2,    13.71,2,     0.01,2,     0.95,2,   -999.0,9,   -999.0,9,  -999.00,9,  -0.5500
  06AQ20070728,EurArc,   381,  1,      7,      7,2,20070919,0442, 82.1950, 119.5600, 3951,   1521.9,  -0.6219,  34.9140,2,   -999.0,9,    299.4,2,     9.72,2,    14.12,2,     0.01,2,     0.97,2,   -999.0,9,   -999.0,9,  -999.00,9,  -0.6892
  06AQ20070728,EurArc,   381,  1,      6,      6,2,20070919,0442, 82.1950, 119.5600, 3951,   2031.4,  -0.7449,  34.9200,2,   -999.0,9,    299.3,2,    10.39,2,    14.46,2,     0.01,2,     0.99,2,   -999.0,9,   -999.0,9,  -999.00,9,  -0.8418
  06AQ20070728,EurArc,   381,  1,      5,      5,2,20070919,0442, 82.1950, 119.5600, 3951,   2542.5,  -0.7819,  34.9270,2,   -999.0,9,    299.4,2,    10.65,2,    14.33,2,     0.01,2,     1.00,2,   -999.0,9,   -999.0,9,  -999.00,9,  -0.9137
  06AQ20070728,EurArc,   381,  1,      3,      3,2,20070919,0442, 82.1950, 119.5600, 3951,   3054.5,  -0.7638,  34.9360,2,   -999.0,9,    298.1,2,    10.98,2,    14.55,2,     0.01,2,     0.99,2,   -999.0,9,   -999.0,9,  -999.00,9,  -0.9357
  06AQ20070728,EurArc,   381,  1,      4,      4,2,20070919,0442, 82.1950, 119.5600, 3951,   3054.9,  -0.7644,  34.9360,2,   -999.0,9,    298.2,2,    10.98,2,    14.38,2,     0.01,2,     1.00,2,   -999.0,9,   -999.0,9,  -999.00,9,  -0.9363
  06AQ20070728,EurArc,   381,  1,      2,      2,2,20070919,0442, 82.1950, 119.5600, 3951,   3567.2,  -0.7126,  34.9400,2,   -999.0,9,    297.3,2,    11.15,2,    14.36,2,     0.01,2,     1.00,2,   -999.0,9,   -999.0,9,  -999.00,9,  -0.9297
  06AQ20070728,EurArc,   381,  1,      1,      1,2,20070919,0442, 82.1950, 119.5600, 3951,   4023.7,  -0.6679,  34.9400,2,   -999.0,9,    296.7,2,    11.13,2,    14.36,2,     0.01,2,     1.00,2,   -999.0,9,   -999.0,9,  -999.00,9,  -0.9288