BOTTLE,20220921CCHSIOAMB
EXPOCODE,SECT_ID,STNNBR,CASTNO,SAMPNO,BTLNBR,BTLNBR_FLAG_W,DATE,TIME,LATITUDE,LONGITUDE,DEPTH,CTDPRS,CTDTMP,CTDSAL,CTDSAL_FLAG_W,CTDOXY,CTDOXY_FLAG_W,OXYGEN,OXYGEN_FLAG_W,SILCAT,SILCAT_FLAG_W,NITRAT,NITRAT_FLAG_W,NITRIT,NITRIT_FLAG_W,PHSPHT,PHSPHT_FLAG_W,TCARBN,TCARBN_FLAG_W,ALKALI,ALKALI_FLAG_W,DELO18,DELO18_FLAG_W,THETA
,,,,,,,,,,,METERS,DBAR,ITS-90,PSS-78,,UMOL/KG,,UMOL/KG,,UMOL/KG,,UMOL/KG,,UMOL/KG,,UMOL/KG,,UMOL/KG,,UMOL/KG,,/MILLE,,DEG C
  06AQ20070728,EurArc,   266,  4,      1,      1,2,20070814,0738, 83.1380,  61.7410, 3040,   1014.0,  -0.0732,  34.9130,2,   -999.0,9,    299.5,2,     8.29,2,    13.57,2,     0.01,2,     0.94,2,   -999.0,9,   -999.0,9,  -999.00,9,  -0.1180
  06AQ20070728,EurArc,   266,  4,      2,      2,2,20070814,0738, 83.1380,  61.7410, 3040,   1014.0,  -0.0812,  34.9130,2,   -999.0,9,    299.5,2,  -999.00,9,  -999.00,9,  -999.00,9,  -999.00,9,   -999.0,9,   -999.0,9,  -999.00,9,  -0.1259
  06AQ20070728,EurArc,   266,  4,      3,      3,2,20070814,0738, 83.1380,  61.7410, 3040,   1014.0,  -0.0804,  34.9130,2,   -999.0,9,    299.5,2,  -999.00,9,  -999.00,9,  -999.00,9,  -999.00,9,   -999.0,9,   -999.0,9,  -999.00,9,  -0.1251
  06AQ20070728,EurArc,   266,  4,      4,      4,2,20070814,0738, 83.1380,  61.7410, 3040,   1014.0,  -0.0822,  34.9120,2,   -999.0,9,    299.5,2,  -999.00,9,  -999.00,9,  -999.00,9,  -999.00,9,   -999.0,9,   -999.0,9,  -999.00,9,  -0.1269
  06AQ20070728,EurArc,   266,  4,      5,      5,2,20070814,0738, 83.1380,  61.7410, 3040,   1014.0,  -0.0791,  34.9120,2,   -999.0,9,    299.5,2,  -999.00,9,  -999.00,9,  -999.00,9,  -999.00,9,   -999.0,9,   -999.0,9,  -999.00,9,  -0.1239
  06AQ20070728,EurArc,   266,  4,      6,      6,2,20070814,0738, 83.1380,  61.7410, 3040,   1014.0,  -0.0803,  34.9130,2,   -999.0,9,    299.5,2,  -999.00,9,  -999.00,9,  -999.00,9,  -999.00,9,   -999.0,9,   -999.0,9,  -999.00,9,  -0.1250
  06AQ20070728,EurArc,   266,  4,      7,      7,2,20070814,0738, 83.1380,  61.7410, 3040,   1014.0,  -0.0775,  34.9120,2,   -999.0,9,    299.5,2,  -999.00,9,  -999.00,9,  -999.00,9,  -999.00,9,   -999.0,9,   -999.0,9,  -999.00,9,  -0.1223
  06AQ20070728,EurArc,   266,  4,      8,      8,2,20070814,0738, 83.1380,  61.7410, 3040,   1014.0,  -0.0826,  34.9120,2,   -999.0,9,    299.5,2,  -999.00,9,  -999.00,9,  -999.00,9,  -999.00,9,   -999.0,9,   -999.0,9,  -999.00,9,  -0.1273
  06AQ20070728,EurArc,   266,  4,      9,      9,2,20070814,0738, 83.1380,  61.7410, 3040,    505.9,   1.3596,  34.9380,2,   -999.0,9,    306.5,2,  -999.00,9,  -999.00,9,  -999.00,9,  -999.00,9,   -999.0,9,   -999.0,9,  -999.00,9,   1.3335
  06AQ20070728,EurArc,   266,  4,     10,     10,2,20070814,0738, 83.1380,  61.7410, 3040,    505.9,   1.3568,  34.9340,2,   -999.0,9,    306.5,2,     5.49,2,    11.84,2,     0.02,2,     0.82,2,   -999.0,9,   -999.0,9,  -999.00,9,   1.3308
  06AQ20070728,EurArc,   266,  4,     11,     11,2,20070814,0738, 83.1380,  61.7410, 3040,    505.9,   1.3834,  34.9380,2,   -999.0,9,    306.5,2,  -999.00,9,  -999.00,9,  -999.00,9,  -999.00,9,   -999.0,9,   -999.0,9,  -999.00,9,   1.3572
  06AQ20070728,EurArc,   266,  4,     12,     12,2,20070814,0738, 83.1380,  61.7410, 3040,    505.9,   1.3931,  34.9380,2,   -999.0,9,    306.5,2,  -999.00,9,  -999.00,9,  -999.00,9,  -999.00,9,   -999.0,9,   -999.0,9,  -999.00,9,   1.3669
  06AQ20070728,EurArc,   266,  4,     13,     13,2,20070814,0738, 83.1380,  61.7410, 3040,    505.9,   1.3789,  34.9400,2,   -999.0,9,    306.5,2,  -999.00,9,  -999.00,9,  -999.00,9,  -999.00,9,   -999.0,9,   -999.0,9,  -999.00,9,   1.3528
  06AQ20070728,EurArc,   266,  4,     14,     14,2,20070814,0738, 83.1380,  61.7410, 3040,    303.5,   2.2743,  34.9540,2,   -999.0,9,    303.8,2,     4.86,2,    11.60,2,  -999.00,9,     0.80,2,   -999.0,9,   -999.0,9,  -999.00,9,   2.2569
  06AQ20070728,EurArc,   266,  4,     15,     15,2,20070814,0738, 83.1380,  61.7410, 3040,    303.5,   2.2737,  34.9540,2,   -999.0,9,    303.8,2,  -999.00,9,  -999.00,9,  -999.00,9,  -999.00,9,   -999.0,9,   -999.0,9,  -999.00,9,   2.2563
  06AQ20070728,EurArc,   266,  4,     16,     16,2,20070814,0738, 83.1380,  61.7410, 3040,    303.5,   2.2732,  34.9540,2,   -999.0,9,    303.8,2,  -999.00,9,  -999.00,9,  -999.00,9,  -999.00,9,   -999.0,9,   -999.0,9,  -999.00,9,   2.2558
  06AQ20070728,EurArc,   266,  4,     17,     17,2,20070814,0738, 83.1380,  61.7410, 3040,    303.5,   2.2761,  34.9540,2,   -999.0,9,    303.8,2,  -999.00,9,  -999.00,9,  -999.00,9,  -999.00,9,   -999.0,9,   -999.0,9,  -999.00,9,   2.2587
  06AQ20070728,EurArc,   266,  4,     18,     18,2,20070814,0738, 83.1380,  61.7410, 3040,    202.2,   2.7089,  34.9600,2,   -999.0,9,    302.2,2,     4.68,2,    11.52,2,     0.02,2,     0.78,2,   -999.0,9,   -999.0,9,  -999.00,9,   2.6968
  06AQ20070728,EurArc,   266,  4,     19,     19,2,20070814,0738, 83.1380,  61.7410, 3040,    202.2,   2.7071,  34.9630,2,   -999.0,9,    302.2,2,  -999.00,9,  -999.00,9,  -999.00,9,  -999.00,9,   -999.0,9,   -999.0,9,  -999.00,9,   2.6950
  06AQ20070728,EurArc,   266,  4,     20,     20,2,20070814,0738, 83.1380,  61.7410, 3040,    202.2,   2.7115,  34.9620,2,   -999.0,9,    302.2,2,  -999.00,9,  -999.00,9,  -999.00,9,  -999.00,9,   -999.0,9,   -999.0,9,  -999.00,9,   2.6994
  06AQ20070728,EurArc,   266,  4,     21,     21,2,20070814,0738, 83.1380,  61.7410, 3040,    202.2,   2.7074,  34.9620,2,   -999.0,9,    302.2,2,  -999.00,9,  -999.00,9,  -999.00,9,  -999.00,9,   -999.0,9,   -999.0,9,  -999.00,9,   2.6953
  06AQ20070728,EurArc,   266,  4,     22,     22,2,20070814,0738, 83.1380,  61.7410, 3040,    202.2,   2.7068,  34.9620,2,   -999.0,9,    302.2,2,  -999.00,9,  -999.00,9,  -999.00,9,  -999.00,9,   -999.0,9,   -999.0,9,  -999.00,9,   2.6947
  06AQ20070728,EurArc,   266,  4,     23,     23,2,20070814,0738, 83.1380,  61.7410, 3040,    202.2,   2.7059,  34.9620,2,   -999.0,9,    302.2,2,  -999.00,9,  -999.00,9,  -999.00,9,  -999.00,9,   -999.0,9,   -999.0,9,  -999.00,9,   2.6938
  06AQ20070728,EurArc,   266,  4,     24,     24,2,20070814,0738, 83.1380,  61.7410, 3040,    151.7,   2.7149,  34.9360,2,    290.1,2,    300.9,2,     4.55,2,    11.30,2,     0.02,2,     0.77,2,   -999.0,9,   -999.0,9,     0.16,2,   2.7059
  06AQ20070728,EurArc,   266,  6,      1,      1,2,20070814,0906, 83.1380,  61.7410, 3040,    101.0,   2.5363,  34.8830,2,    286.8,2,    299.8,2,     4.42,2,    11.13,2,     0.02,2,     0.76,2,   -999.0,9,   -999.0,9,     0.12,2,   2.5305
  06AQ20070728,EurArc,   266,  6,      2,      2,2,20070814,0906, 83.1380,  61.7410, 3040,    101.0,   2.5363,  34.8830,2,   -999.0,9,    299.8,2,  -999.00,9,  -999.00,9,  -999.00,9,  -999.00,9,   -999.0,9,   -999.0,9,  -999.00,9,   2.5305
  06AQ20070728,EurArc,   266,  6,      3,      3,2,20070814,0906, 83.1380,  61.7410, 3040,    101.0,   2.5370,  34.8830,2,   -999.0,9,    299.8,2,  -999.00,9,  -999.00,9,  -999.00,9,  -999.00,9,   -999.0,9,   -999.0,9,  -999.00,9,   2.5312
  06AQ20070728,EurArc,   266,  6,      4,      4,2,20070814,0906, 83.1380,  61.7410, 3040,    101.0,   2.5359,  34.8830,2,   -999.0,9,    299.8,2,  -999.00,9,  -999.00,9,  -999.00,9,  -999.00,9,   -999.0,9,   -999.0,9,  -999.00,9,   2.5301
  06AQ20070728,EurArc,   266,  6,      5,      5,2,20070814,0906, 83.1380,  61.7410, 3040,    101.0,   2.5355,  34.8830,2,   -999.0,9,    299.8,2,  -999.00,9,  -999.00,9,  -999.00,9,  -999.00,9,   -999.0,9,   -999.0,9,  -999.00,9,   2.5297
  06AQ20070728,EurArc,   266,  6,      6,      6,2,20070814,0906, 83.1380,  61.7410, 3040,    101.0,   2.5386,  34.8830,2,   -999.0,9,    299.8,2,  -999.00,9,  -999.00,9,  -999.00,9,  -999.00,9,   -999.0,9,   -999.0,9,  -999.00,9,   2.5328
  06AQ20070728,EurArc,   266,  6,      7,      7,2,20070814,0906, 83.1380,  61.7410, 3040,     75.0,   2.3033,  34.8360,2,   -999.0,9,    301.1,2,  -999.00,9,  -999.00,9,  -999.00,9,  -999.00,9,   -999.0,9,   -999.0,9,  -999.00,9,   2.2991
  06AQ20070728,EurArc,   266,  6,      8,      8,2,20070814,0906, 83.1380,  61.7410, 3040,     75.0,   2.3354,  34.8410,2,    287.3,2,    301.1,2,     4.36,2,    10.98,2,     0.03,2,     0.76,2,   -999.0,9,   -999.0,9,     0.11,2,   2.3312
  06AQ20070728,EurArc,   266,  6,      9,      9,2,20070814,0906, 83.1380,  61.7410, 3040,     75.0,   2.3249,  34.8380,2,   -999.0,9,    301.1,2,  -999.00,9,  -999.00,9,  -999.00,9,  -999.00,9,   -999.0,9,   -999.0,9,  -999.00,9,   2.3207
  06AQ20070728,EurArc,   266,  6,     10,     10,2,20070814,0906, 83.1380,  61.7410, 3040,     75.0,   2.2931,  34.8370,2,   -999.0,9,    301.1,2,  -999.00,9,  -999.00,9,  -999.00,9,  -999.00,9,   -999.0,9,   -999.0,9,  -999.00,9,   2.2889
  06AQ20070728,EurArc,   266,  6,     11,     11,2,20070814,0906, 83.1380,  61.7410, 3040,     75.0,   2.2800,  34.8340,2,   -999.0,9,    301.1,2,  -999.00,9,  -999.00,9,  -999.00,9,  -999.00,9,   -999.0,9,   -999.0,9,  -999.00,9,   2.2759
  06AQ20070728,EurArc,   266,  6,     12,     12,2,20070814,0906, 83.1380,  61.7410, 3040,     50.3,   1.1544,  34.6410,2,   -999.0,9,    314.7,2,  -999.00,9,  -999.00,9,  -999.00,9,  -999.00,9,   -999.0,9,   -999.0,9,  -999.00,9,   1.1521
  06AQ20070728,EurArc,   266,  6,     13,     13,2,20070814,0906, 83.1380,  61.7410, 3040,     50.3,   0.6551,  34.5820,2,    299.6,2,    314.7,2,     4.03,2,    10.31,2,     0.07,2,     0.72,2,   -999.0,9,   -999.0,9,     0.04,2,   0.6530
  06AQ20070728,EurArc,   266,  6,     14,     14,2,20070814,0906, 83.1380,  61.7410, 3040,     50.3,   0.6535,  34.5810,2,   -999.0,9,    314.7,2,  -999.00,9,  -999.00,9,  -999.00,9,  -999.00,9,   -999.0,9,   -999.0,9,  -999.00,9,   0.6514
  06AQ20070728,EurArc,   266,  6,     15,     15,2,20070814,0906, 83.1380,  61.7410, 3040,     50.3,   0.6559,  34.5810,2,   -999.0,9,    314.7,2,  -999.00,9,  -999.00,9,  -999.00,9,  -999.00,9,   -999.0,9,   -999.0,9,  -999.00,9,   0.6538
  06AQ20070728,EurArc,   266,  6,     16,     16,2,20070814,0906, 83.1380,  61.7410, 3040,     50.3,   0.6553,  34.5800,2,   -999.0,9,    314.7,2,  -999.00,9,  -999.00,9,  -999.00,9,  -999.00,9,   -999.0,9,   -999.0,9,  -999.00,9,   0.6532
  06AQ20070728,EurArc,   266,  6,     17,     17,2,20070814,0906, 83.1380,  61.7410, 3040,     25.1,  -1.2084,  34.1100,2,   -999.0,9,    355.2,2,  -999.00,9,  -999.00,9,  -999.00,9,  -999.00,9,   -999.0,9,   -999.0,9,  -999.00,9,  -1.2090
  06AQ20070728,EurArc,   266,  6,     18,     18,2,20070814,0906, 83.1380,  61.7410, 3040,     25.1,  -1.3293,  34.0800,2,   -999.0,9,    355.2,2,  -999.00,9,  -999.00,9,  -999.00,9,  -999.00,9,   -999.0,9,   -999.0,9,  -999.00,9,  -1.3299
  06AQ20070728,EurArc,   266,  6,     19,     19,2,20070814,0906, 83.1380,  61.7410, 3040,     25.1,  -1.3179,  34.0720,2,    327.3,2,    355.2,2,     3.01,2,     7.32,2,     0.17,2,     0.56,2,   -999.0,9,   -999.0,9,    -0.05,2,  -1.3185
  06AQ20070728,EurArc,   266,  6,     20,     20,2,20070814,0906, 83.1380,  61.7410, 3040,     25.1,  -1.1629,  34.1080,2,   -999.0,9,    355.2,2,  -999.00,9,  -999.00,9,  -999.00,9,  -999.00,9,   -999.0,9,   -999.0,9,  -999.00,9,  -1.1635
  06AQ20070728,EurArc,   266,  6,     21,     21,2,20070814,0906, 83.1380,  61.7410, 3040,     25.1,  -1.3187,  34.0690,2,   -999.0,9,    355.2,2,  -999.00,9,  -999.00,9,  -999.00,9,  -999.00,9,   -999.0,9,   -999.0,9,  -999.00,9,  -1.3193
  06AQ20070728,EurArc,   266,  6,     22,     22,2,20070814,0906, 83.1380,  61.7410, 3040,     25.1,  -1.3213,  34.0600,2,   -999.0,9,    355.2,2,  -999.00,9,  -999.00,9,  -999.00,9,  -999.00,9,   -999.0,9,   -999.0,9,  -999.00,9,  -1.3219
  06AQ20070728,EurArc,   266,  6,     23,     23,2,20070814,0906, 83.1380,  61.7410, 3040,      5.1,  -1.6300,  33.0570,2,    368.6,2,    379.3,2,     0.82,2,     1.40,2,     0.04,2,     0.18,2,   -999.0,9,   -999.0,9,     0.03,2,  -1.6301
  06AQ20070728,EurArc,   267,  1,      1,      1,2,20070814,1629, 82.9660,  61.2830, 2680,   2719.4,  -0.7520,  34.9280,2,   -999.0,9,    294.3,2,    11.05,2,    14.97,2,     0.01,2,     1.01,2,   -999.0,9,   -999.0,9,  -999.00,9,  -0.8977
  06AQ20070728,EurArc,   267,  1,      2,      2,2,20070814,1629, 82.9660,  61.2830, 2680,   2542.1,  -0.7415,  34.9240,2,   -999.0,9,    294.6,2,    10.91,2,    14.96,2,     0.01,2,     1.01,2,   -999.0,9,   -999.0,9,  -999.00,9,  -0.8740
  06AQ20070728,EurArc,   267,  1,      3,      3,2,20070814,1629, 82.9660,  61.2830, 2680,   2031.4,  -0.6963,  34.9180,2,   -999.0,9,    294.0,2,    10.60,2,    14.89,2,     0.01,2,     1.00,2,   -999.0,9,   -999.0,9,  -999.00,9,  -0.7940
  06AQ20070728,EurArc,   267,  1,      4,      4,2,20070814,1629, 82.9660,  61.2830, 2680,   1776.2,  -0.6517,  34.9150,2,   -999.0,9,    294.5,2,    10.42,2,    14.84,2,     0.01,2,     1.00,2,   -999.0,9,   -999.0,9,  -999.00,9,  -0.7338
  06AQ20070728,EurArc,   267,  1,      5,      5,2,20070814,1629, 82.9660,  61.2830, 2680,   1521.5,  -0.5863,  34.9130,2,   -999.0,9,    294.1,2,    10.09,2,    14.72,2,     0.01,2,     0.99,2,   -999.0,9,   -999.0,9,  -999.00,9,  -0.6540
  06AQ20070728,EurArc,   267,  1,      6,      6,2,20070814,1629, 82.9660,  61.2830, 2680,   1267.3,  -0.4578,  34.9110,2,   -999.0,9,    295.1,2,     9.46,2,    14.52,2,     0.01,2,     0.98,2,   -999.0,9,   -999.0,9,  -999.00,9,  -0.5127
  06AQ20070728,EurArc,   267,  1,      7,      7,2,20070814,1629, 82.9660,  61.2830, 2680,   1013.3,  -0.1523,  34.9110,2,   -999.0,9,    294.9,2,     8.54,2,    14.14,2,     0.01,2,     0.96,2,   -999.0,9,   -999.0,9,  -999.00,9,  -0.1964
  06AQ20070728,EurArc,   267,  1,      8,      8,2,20070814,1629, 82.9660,  61.2830, 2680,    758.9,   0.6272,  34.9290,2,   -999.0,9,    300.6,2,     6.97,2,    13.36,2,     0.01,2,     0.90,2,   -999.0,9,   -999.0,9,  -999.00,9,   0.5910
  06AQ20070728,EurArc,   267,  1,      9,      9,2,20070814,1629, 82.9660,  61.2830, 2680,    607.0,   0.9720,  34.9320,2,   -999.0,9,    301.4,2,     6.27,2,    12.70,2,     0.01,2,     0.86,2,   -999.0,9,   -999.0,9,  -999.00,9,   0.9421
  06AQ20070728,EurArc,   267,  1,     10,     10,2,20070814,1629, 82.9660,  61.2830, 2680,    505.8,   1.1955,  34.9240,2,   -999.0,9,    302.8,2,     5.77,2,    12.59,2,     0.01,2,     0.85,2,   -999.0,9,   -999.0,9,  -999.00,9,   1.1701
  06AQ20070728,EurArc,   267,  1,     11,     11,2,20070814,1629, 82.9660,  61.2830, 2680,    404.6,   1.7392,  34.9460,2,   -999.0,9,    303.2,2,     5.30,2,    12.20,2,     0.01,2,     0.82,2,   -999.0,9,   -999.0,9,  -999.00,9,   1.7174
  06AQ20070728,EurArc,   267,  1,     12,     12,2,20070814,1629, 82.9660,  61.2830, 2680,    303.6,   1.8548,  34.9170,2,   -999.0,9,    301.3,2,     4.90,2,    11.74,2,     0.02,2,     0.80,2,   -999.0,9,   -999.0,9,  -999.00,9,   1.8385
  06AQ20070728,EurArc,   267,  1,     13,     13,2,20070814,1629, 82.9660,  61.2830, 2680,    253.1,   1.8264,  34.8880,2,   -999.0,9,    299.9,2,     4.73,2,    11.50,2,     0.01,2,     0.79,2,   -999.0,9,   -999.0,9,  -999.00,9,   1.8130
  06AQ20070728,EurArc,   267,  1,     14,     14,2,20070814,1629, 82.9660,  61.2830, 2680,    202.3,   2.1187,  34.8920,2,   -999.0,9,    298.7,2,     4.62,2,    11.50,2,     0.01,2,     0.79,2,   -999.0,9,   -999.0,9,  -999.00,9,   2.1076
  06AQ20070728,EurArc,   267,  1,     15,     15,2,20070814,1629, 82.9660,  61.2830, 2680,    151.5,   2.2730,  34.8850,2,    285.7,2,    297.8,2,     4.46,2,    11.32,2,     0.02,2,     0.77,2,   -999.0,9,   -999.0,9,     0.10,2,   2.2645
  06AQ20070728,EurArc,   267,  1,     16,     16,2,20070814,1629, 82.9660,  61.2830, 2680,    126.2,   2.4133,  34.8790,2,    284.9,2,    296.9,2,     4.43,2,    11.31,2,     0.02,2,     0.77,2,   -999.0,9,   -999.0,9,     0.03,2,   2.4061
  06AQ20070728,EurArc,   267,  1,     17,     17,2,20070814,1629, 82.9660,  61.2830, 2680,    101.1,   2.5759,  34.8850,2,    283.6,2,    296.1,2,     4.43,2,    11.34,2,     0.02,2,     0.77,2,   -999.0,9,   -999.0,9,     0.06,2,   2.5700
  06AQ20070728,EurArc,   267,  1,     18,     18,2,20070814,1629, 82.9660,  61.2830, 2680,    101.1,   2.5765,  34.8850,2,   -999.0,9,    296.1,2,     4.42,2,    11.31,2,     0.02,2,     0.77,2,   -999.0,9,   -999.0,9,  -999.00,9,   2.5706
  06AQ20070728,EurArc,   267,  1,     19,     19,2,20070814,1629, 82.9660,  61.2830, 2680,     75.8,   2.3833,  34.8440,2,    284.0,2,    296.1,2,     4.33,2,    11.20,2,     0.02,2,     0.76,2,   -999.0,9,   -999.0,9,     0.06,2,   2.3790
  06AQ20070728,EurArc,   267,  1,     20,     20,2,20070814,1629, 82.9660,  61.2830, 2680,     50.6,   0.8998,  34.6370,2,    293.6,2,    317.5,2,     3.54,2,     9.43,2,     0.17,2,     0.68,2,   -999.0,9,   -999.0,9,     0.03,2,   0.8976
  06AQ20070728,EurArc,   267,  1,     21,     21,2,20070814,1629, 82.9660,  61.2830, 2680,     24.8,  -1.5127,  33.3310,2,    358.4,2,    369.4,2,     2.23,2,     4.56,2,     0.07,2,     0.41,2,   -999.0,9,   -999.0,9,    -0.03,2,  -1.5132
  06AQ20070728,EurArc,   267,  1,     22,     22,2,20070814,1629, 82.9660,  61.2830, 2680,     19.9,  -1.5463,  33.0780,2,    366.2,2,    388.5,2,     1.48,2,     2.45,2,     0.04,2,     0.29,2,   -999.0,9,   -999.0,9,    -0.06,2,  -1.5467
  06AQ20070728,EurArc,   267,  1,     23,     23,2,20070814,1629, 82.9660,  61.2830, 2680,     10.0,  -1.6585,  32.6580,2,    377.6,2,    389.0,2,     0.88,2,     1.13,2,     0.02,2,     0.18,2,   -999.0,9,   -999.0,9,    -0.14,2,  -1.6587
  06AQ20070728,EurArc,   267,  1,     24,     24,2,20070814,1629, 82.9660,  61.2830, 2680,      1.5,  -1.6456,  32.6840,2,    382.1,2,    387.0,2,     0.60,2,     0.52,2,     0.02,2,     0.12,2,   -999.0,9,   -999.0,9,    -0.14,2,  -1.6456