BOTTLE,20220921CCHSIOAMB
EXPOCODE,SECT_ID,STNNBR,CASTNO,SAMPNO,BTLNBR,BTLNBR_FLAG_W,DATE,TIME,LATITUDE,LONGITUDE,DEPTH,CTDPRS,CTDTMP,CTDSAL,CTDSAL_FLAG_W,CTDOXY,CTDOXY_FLAG_W,OXYGEN,OXYGEN_FLAG_W,SILCAT,SILCAT_FLAG_W,NITRAT,NITRAT_FLAG_W,NITRIT,NITRIT_FLAG_W,PHSPHT,PHSPHT_FLAG_W,TCARBN,TCARBN_FLAG_W,ALKALI,ALKALI_FLAG_W,DELO18,DELO18_FLAG_W,THETA
,,,,,,,,,,,METERS,DBAR,ITS-90,PSS-78,,UMOL/KG,,UMOL/KG,,UMOL/KG,,UMOL/KG,,UMOL/KG,,UMOL/KG,,UMOL/KG,,UMOL/KG,,/MILLE,,DEG C
  06AQ20070728,EurArc,   312,  1,      1,      1,2,20070829,1322, 88.1180, 120.1800, 2954,   2998.6,  -0.7464,  34.9300,2,   -999.0,9,    298.1,2,    10.99,2,    14.45,2,     0.00,2,     1.01,2,   -999.0,9,   -999.0,9,  -999.00,9,  -0.9141
  06AQ20070728,EurArc,   312,  1,      2,      2,2,20070829,1322, 88.1180, 120.1800, 2954,   2542.5,  -0.7473,  34.9230,2,   -999.0,9,    298.8,2,    10.81,2,    14.55,2,     0.00,2,     1.02,2,   -999.0,9,   -999.0,9,  -999.00,9,  -0.8797
  06AQ20070728,EurArc,   312,  1,      4,      4,2,20070829,1322, 88.1180, 120.1800, 2954,   2031.7,  -0.6985,  34.9160,2,   -999.0,9,    299.0,2,    10.43,2,    14.52,2,     0.00,2,     1.01,2,   -999.0,9,   -999.0,9,  -999.00,9,  -0.7962
  06AQ20070728,EurArc,   312,  1,      3,      3,2,20070829,1322, 88.1180, 120.1800, 2954,   2031.7,  -0.6985,  34.9160,2,   -999.0,9,    299.0,2,    10.39,2,    14.36,2,     0.00,2,     1.01,2,   -999.0,9,   -999.0,9,  -999.00,9,  -0.7962
  06AQ20070728,EurArc,   312,  1,      5,      5,2,20070829,1322, 88.1180, 120.1800, 2954,   1522.5,  -0.5408,  34.9090,2,   -999.0,9,    300.9,2,     9.21,2,    13.86,2,     0.00,2,     0.97,2,   -999.0,9,   -999.0,9,  -999.00,9,  -0.6091
  06AQ20070728,EurArc,   312,  1,      6,      6,2,20070829,1322, 88.1180, 120.1800, 2954,   1013.6,  -0.2041,  34.8870,2,   -999.0,9,    304.7,2,     6.87,2,    12.64,2,     0.00,2,     0.90,2,   -999.0,9,   -999.0,9,  -999.00,9,  -0.2478
  06AQ20070728,EurArc,   312,  1,      7,      7,2,20070829,1322, 88.1180, 120.1800, 2954,    759.8,   0.1119,  34.8750,2,   -999.0,9,    305.8,2,     5.94,2,    12.12,2,     0.00,2,     0.86,2,   -999.0,9,   -999.0,9,  -999.00,9,   0.0789
  06AQ20070728,EurArc,   312,  1,      8,      8,2,20070829,1322, 88.1180, 120.1800, 2954,    506.7,   0.7790,  34.8810,2,   -999.0,9,    305.3,2,     5.43,2,    11.88,2,     0.01,2,     0.84,2,   -999.0,9,   -999.0,9,  -999.00,9,   0.7554
  06AQ20070728,EurArc,   312,  1,      9,      9,2,20070829,1322, 88.1180, 120.1800, 2954,    404.5,   1.1953,  34.8880,2,   -999.0,9,    304.9,2,     5.28,2,    11.96,2,     0.01,2,     0.83,2,   -999.0,9,   -999.0,9,  -999.00,9,   1.1754
  06AQ20070728,EurArc,   312,  1,     10,     10,2,20070829,1322, 88.1180, 120.1800, 2954,    302.9,   1.4100,  34.8700,2,   -999.0,9,    303.0,2,     5.08,2,    11.86,2,     0.01,2,     0.82,2,   -999.0,9,   -999.0,9,  -999.00,9,   1.3948
  06AQ20070728,EurArc,   312,  1,     11,     11,2,20070829,1322, 88.1180, 120.1800, 2954,    201.7,   1.1712,  34.7930,2,   -999.0,9,    302.9,2,     4.61,2,    11.10,2,     0.01,2,     0.78,2,   -999.0,9,   -999.0,9,  -999.00,9,   1.1617
  06AQ20070728,EurArc,   312,  1,     12,     12,2,20070829,1322, 88.1180, 120.1800, 2954,    152.0,   0.3325,  34.5920,2,    292.6,2,    309.3,2,     4.63,2,    10.24,2,     0.01,2,     0.74,2,   -999.0,9,   -999.0,9,     0.13,2,   0.3265
  06AQ20070728,EurArc,   312,  1,     13,     13,2,20070829,1322, 88.1180, 120.1800, 2954,    126.6,  -0.3762,  34.4500,2,    300.7,2,    312.8,2,     4.33,2,     9.34,2,     0.01,2,     0.70,2,   -999.0,9,   -999.0,9,     0.04,2,  -0.3803
  06AQ20070728,EurArc,   312,  1,     14,     14,2,20070829,1322, 88.1180, 120.1800, 2954,    100.9,  -1.0580,  34.2710,2,    302.2,2,    317.0,2,     4.42,2,     8.73,2,     0.01,2,     0.67,2,   -999.0,9,   -999.0,9,    -0.16,2,  -1.0607
  06AQ20070728,EurArc,   312,  1,     15,     15,2,20070829,1322, 88.1180, 120.1800, 2954,     75.9,  -1.5808,  34.0080,2,    308.7,2,    323.6,2,     4.21,2,     7.45,2,     0.01,2,     0.61,2,   -999.0,9,   -999.0,9,    -0.37,2,  -1.5824
  06AQ20070728,EurArc,   312,  1,     16,     16,2,20070829,1322, 88.1180, 120.1800, 2954,     50.5,  -1.7234,  32.4390,2,   -999.0,9,    364.5,2,     4.73,2,     4.83,2,     0.02,2,     0.49,2,   -999.0,9,   -999.0,9,  -999.00,9,  -1.7242
  06AQ20070728,EurArc,   312,  1,     18,     18,2,20070829,1322, 88.1180, 120.1800, 2954,     50.5,  -1.7231,  32.4500,2,   -999.0,9,    364.5,2,     4.55,2,     3.70,2,     0.02,2,     0.42,2,   -999.0,9,   -999.0,9,  -999.00,9,  -1.7239
  06AQ20070728,EurArc,   312,  1,     17,     17,2,20070829,1322, 88.1180, 120.1800, 2954,     50.4,  -1.7233,  32.4450,2,    350.4,2,    364.6,2,     4.60,2,     3.85,2,     0.02,2,     0.43,2,   -999.0,9,   -999.0,9,    -1.41,2,  -1.7241
  06AQ20070728,EurArc,   312,  1,     20,     20,2,20070829,1322, 88.1180, 120.1800, 2954,     45.3,  -1.7131,  32.3560,2,    354.3,2,    367.2,2,     4.46,2,     3.40,2,     0.03,2,     0.41,2,   -999.0,9,   -999.0,9,    -1.85,2,  -1.7138
  06AQ20070728,EurArc,   312,  1,     19,     19,2,20070829,1322, 88.1180, 120.1800, 2954,     45.3,  -1.7135,  32.3660,2,   -999.0,9,    367.2,2,     4.40,2,     3.23,2,     0.03,2,     0.40,2,   -999.0,9,   -999.0,9,  -999.00,9,  -1.7142
  06AQ20070728,EurArc,   312,  1,     21,     21,2,20070829,1322, 88.1180, 120.1800, 2954,     25.5,  -1.6410,  32.1620,2,   -999.0,9,    394.4,2,     3.92,2,     2.03,2,     0.14,2,     0.34,2,   -999.0,9,   -999.0,9,  -999.00,9,  -1.6414
  06AQ20070728,EurArc,   312,  1,     22,     22,2,20070829,1322, 88.1180, 120.1800, 2954,     25.5,  -1.6421,  32.1650,2,    360.1,2,    394.4,2,     3.84,2,     1.89,2,     0.14,2,     0.33,2,   -999.0,9,   -999.0,9,    -2.07,2,  -1.6425
  06AQ20070728,EurArc,   312,  1,     23,     23,2,20070829,1322, 88.1180, 120.1800, 2954,     10.2,  -1.6797,  31.3110,2,    383.7,2,    393.9,2,     2.48,2,     0.18,2,     0.03,2,     0.18,2,   -999.0,9,   -999.0,9,    -2.23,2,  -1.6798
  06AQ20070728,EurArc,   312,  1,     24,     24,2,20070829,1322, 88.1180, 120.1800, 2954,      1.7,  -1.6812,  31.3100,2,    384.1,2,    392.5,2,     2.46,2,     0.16,2,     0.03,2,     0.18,2,   -999.0,9,   -999.0,9,    -2.18,2,  -1.6812
  06AQ20070728,EurArc,   314,  1,      1,      1,2,20070830,0047, 88.1620, 130.1000, 2512,   2545.4,  -0.6880,  34.9180,2,   -999.0,9,    298.6,2,    10.62,2,    14.84,2,     0.00,2,     1.01,2,   -999.0,9,   -999.0,9,  -999.00,9,  -0.8218
  06AQ20070728,EurArc,   314,  1,      2,      2,2,20070830,0047, 88.1620, 130.1000, 2512,   2031.4,  -0.6416,  34.9140,2,   -999.0,9,    299.5,2,    10.20,2,    14.70,2,     0.00,2,     0.99,2,   -999.0,9,   -999.0,9,  -999.00,9,  -0.7402
  06AQ20070728,EurArc,   314,  1,      4,      4,2,20070830,0047, 88.1620, 130.1000, 2512,   1522.1,  -0.4865,  34.9060,2,   -999.0,9,    301.6,2,     8.87,2,    13.99,2,     0.00,2,     0.96,2,   -999.0,9,   -999.0,9,  -999.00,9,  -0.5555
  06AQ20070728,EurArc,   314,  1,      3,      3,2,20070830,0047, 88.1620, 130.1000, 2512,   1522.0,  -0.4862,  34.9060,2,   -999.0,9,    301.6,2,  -999.00,9,  -999.00,9,  -999.00,9,  -999.00,9,   -999.0,9,   -999.0,9,  -999.00,9,  -0.5552
  06AQ20070728,EurArc,   314,  1,      5,      5,2,20070830,0047, 88.1620, 130.1000, 2512,   1267.7,  -0.3953,  34.8970,2,   -999.0,9,    303.5,2,     7.95,2,    13.37,2,     0.00,2,     0.92,2,   -999.0,9,   -999.0,9,  -999.00,9,  -0.4508
  06AQ20070728,EurArc,   314,  1,      6,      6,2,20070830,0047, 88.1620, 130.1000, 2512,   1013.2,  -0.2037,  34.8830,2,   -999.0,9,    305.2,2,     6.82,2,    12.80,2,     0.00,2,     0.89,2,   -999.0,9,   -999.0,9,  -999.00,9,  -0.2473
  06AQ20070728,EurArc,   314,  1,      7,      7,2,20070830,0047, 88.1620, 130.1000, 2512,    759.5,   0.0895,  34.8670,2,   -999.0,9,    306.3,2,     6.12,2,    12.47,2,     0.00,2,     0.86,2,   -999.0,9,   -999.0,9,  -999.00,9,   0.0567
  06AQ20070728,EurArc,   314,  1,      8,      8,2,20070830,0047, 88.1620, 130.1000, 2512,    506.5,   0.8343,  34.8800,2,   -999.0,9,    306.0,2,     5.47,2,    12.20,2,     0.00,2,     0.84,2,   -999.0,9,   -999.0,9,  -999.00,9,   0.8104
  06AQ20070728,EurArc,   314,  1,      9,      9,2,20070830,0047, 88.1620, 130.1000, 2512,    404.7,   1.2590,  34.8850,2,   -999.0,9,    304.9,2,     5.17,2,    12.11,2,     0.00,2,     0.83,2,   -999.0,9,   -999.0,9,  -999.00,9,   1.2389
  06AQ20070728,EurArc,   314,  1,     10,     10,2,20070830,0047, 88.1620, 130.1000, 2512,    303.5,   1.4335,  34.8680,2,   -999.0,9,    303.0,2,     5.05,2,    12.05,2,     0.01,2,     0.82,2,   -999.0,9,   -999.0,9,  -999.00,9,   1.4182
  06AQ20070728,EurArc,   314,  1,     11,     11,2,20070830,0047, 88.1620, 130.1000, 2512,    252.8,   1.3869,  34.8360,2,   -999.0,9,    301.8,2,     4.92,2,    11.82,2,     0.00,2,     0.80,2,   -999.0,9,   -999.0,9,  -999.00,9,   1.3744
  06AQ20070728,EurArc,   314,  1,     12,     12,2,20070830,0047, 88.1620, 130.1000, 2512,    201.4,   0.8881,  34.7510,2,   -999.0,9,    305.0,2,     4.49,2,    10.94,2,     0.01,2,     0.76,2,   -999.0,9,   -999.0,9,  -999.00,9,   0.8791
  06AQ20070728,EurArc,   314,  1,     13,     13,2,20070830,0047, 88.1620, 130.1000, 2512,    151.6,  -0.2256,  34.5250,2,   -999.0,9,    313.6,2,     4.09,2,     9.35,2,     0.01,2,     0.68,2,   -999.0,9,   -999.0,9,  -999.00,9,  -0.2308
  06AQ20070728,EurArc,   314,  1,     14,     14,2,20070830,0047, 88.1620, 130.1000, 2512,    126.5,  -0.8024,  34.3850,2,   -999.0,9,    314.8,2,     4.01,2,     8.69,2,     0.01,2,     0.65,2,   -999.0,9,   -999.0,9,  -999.00,9,  -0.8061
  06AQ20070728,EurArc,   314,  1,     15,     15,2,20070830,0047, 88.1620, 130.1000, 2512,    101.6,  -1.2139,  34.2430,2,   -999.0,9,    317.9,2,     4.10,2,     8.37,2,     0.01,2,     0.64,2,   -999.0,9,   -999.0,9,  -999.00,9,  -1.2164
  06AQ20070728,EurArc,   314,  1,     16,     16,2,20070830,0047, 88.1620, 130.1000, 2512,     76.2,  -1.5801,  33.9990,2,   -999.0,9,    323.4,2,     4.24,2,     7.53,2,     0.01,2,     0.60,2,   -999.0,9,   -999.0,9,  -999.00,9,  -1.5817
  06AQ20070728,EurArc,   314,  1,     17,     17,2,20070830,0047, 88.1620, 130.1000, 2512,     48.8,  -1.7302,  32.5980,2,   -999.0,9,    359.9,2,  -999.00,9,  -999.00,9,  -999.00,9,  -999.00,9,   -999.0,9,   -999.0,9,  -999.00,9,  -1.7310
  06AQ20070728,EurArc,   314,  1,     18,     18,2,20070830,0047, 88.1620, 130.1000, 2512,     48.8,  -1.7298,  32.5940,2,   -999.0,9,    359.9,2,  -999.00,9,  -999.00,9,  -999.00,9,  -999.00,9,   -999.0,9,   -999.0,9,  -999.00,9,  -1.7306
  06AQ20070728,EurArc,   314,  1,     19,     19,2,20070830,0047, 88.1620, 130.1000, 2512,     25.2,  -1.6526,  32.1830,2,   -999.0,9,    379.8,2,     3.98,2,     2.24,2,     0.14,2,     0.36,2,   -999.0,9,   -999.0,9,  -999.00,9,  -1.6530
  06AQ20070728,EurArc,   314,  1,     20,     20,2,20070830,0047, 88.1620, 130.1000, 2512,     10.6,  -1.6784,  31.2100,2,   -999.0,9,    393.0,2,     2.59,2,     0.28,2,     0.02,2,     0.21,2,   -999.0,9,   -999.0,9,  -999.00,9,  -1.6785
  06AQ20070728,EurArc,   314,  1,     21,     21,2,20070830,0047, 88.1620, 130.1000, 2512,      1.6,  -1.6734,  31.2050,2,   -999.0,9,    392.1,2,     2.49,2,     0.15,2,     0.02,2,     0.20,2,   -999.0,9,   -999.0,9,  -999.00,9,  -1.6734
  06AQ20070728,EurArc,   316,  1,      1,      1,2,20070830,0917, 88.1770, 139.6200, 1298,   1267.0,  -0.3831,  34.9000,2,   -999.0,9,    301.0,2,     7.93,2,    15.06,2,     0.00,2,     0.94,2,   2168.2,2,   2297.7,2,  -999.00,9,  -0.4387
  06AQ20070728,EurArc,   316,  1,      2,      2,2,20070830,0917, 88.1770, 139.6200, 1298,   1014.4,  -0.2479,  34.8820,2,   -999.0,9,    303.2,2,     6.70,2,    12.63,2,     0.00,2,     0.89,2,   2167.1,2,   2298.1,2,  -999.00,9,  -0.2912
  06AQ20070728,EurArc,   316,  1,      3,      3,2,20070830,0917, 88.1770, 139.6200, 1298,    811.2,  -0.0408,  34.8690,2,   -999.0,9,   -999.0,9,     6.14,2,    12.26,2,     0.00,2,     0.87,2,   -999.0,9,   -999.0,9,  -999.00,9,  -0.0753
  06AQ20070728,EurArc,   316,  1,      4,      4,2,20070830,0917, 88.1770, 139.6200, 1298,    759.9,   0.0308,  34.8680,2,   -999.0,9,    303.1,2,     6.11,2,    12.32,2,     0.00,2,     0.87,2,   2165.1,2,   2296.9,2,  -999.00,9,  -0.0016
  06AQ20070728,EurArc,   316,  1,      5,      5,2,20070830,0917, 88.1770, 139.6200, 1298,    608.1,   0.3726,  34.8690,2,   -999.0,9,    303.5,2,     5.74,2,    12.18,2,     0.00,2,     0.86,2,   -999.0,9,   -999.0,9,  -999.00,9,   0.3457
  06AQ20070728,EurArc,   316,  1,      6,      6,2,20070830,0917, 88.1770, 139.6200, 1298,    506.9,   0.5984,  34.8670,2,   -999.0,9,    301.7,2,     5.93,2,    12.31,2,     0.00,2,     0.86,2,   2167.5,3,   2293.8,2,  -999.00,9,   0.5755
  06AQ20070728,EurArc,   316,  1,      7,      7,2,20070830,0917, 88.1770, 139.6200, 1298,    304.1,   1.3073,  34.8640,2,   -999.0,9,    301.8,2,     5.22,2,    12.00,2,     0.01,2,     0.83,2,   -999.0,9,   -999.0,9,  -999.00,9,   1.2923
  06AQ20070728,EurArc,   316,  1,      8,      8,2,20070830,0917, 88.1770, 139.6200, 1298,    253.2,   1.2263,  34.8280,2,   -999.0,9,    300.9,2,     5.08,2,    11.74,2,     0.00,2,     0.82,2,   -999.0,9,   -999.0,9,  -999.00,9,   1.2141
  06AQ20070728,EurArc,   316,  1,      9,      9,2,20070830,0917, 88.1770, 139.6200, 1298,    202.8,   1.0642,  34.7820,2,   -999.0,9,    301.6,2,     4.87,2,    11.42,2,     0.01,2,     0.80,2,   2165.7,3,   2289.9,2,  -999.00,9,   1.0548
  06AQ20070728,EurArc,   316,  1,     11,     11,2,20070830,0917, 88.1770, 139.6200, 1298,    152.1,  -0.0194,  34.5120,2,   -999.0,9,    304.2,2,     4.52,2,     9.70,2,     0.01,2,     0.72,2,   -999.0,9,   -999.0,9,  -999.00,9,  -0.0249
  06AQ20070728,EurArc,   316,  1,     10,     10,2,20070830,0917, 88.1770, 139.6200, 1298,    152.0,  -0.0415,  34.5040,2,   -999.0,9,    304.2,2,     4.47,2,     9.61,2,     0.01,2,     0.71,2,   -999.0,9,   -999.0,9,     0.09,2,  -0.0470
  06AQ20070728,EurArc,   316,  1,     12,     12,2,20070830,0917, 88.1770, 139.6200, 1298,    101.3,  -1.3198,  34.1770,2,   -999.0,9,    316.1,2,     4.80,2,     8.48,2,     0.01,2,     0.67,2,   2159.5,3,   2270.9,2,  -999.00,9,  -1.3222
  06AQ20070728,EurArc,   316,  1,     13,     13,2,20070830,0917, 88.1770, 139.6200, 1298,    101.3,  -1.3155,  34.1770,2,   -999.0,9,    316.1,2,     4.88,2,     8.42,2,     0.01,2,     0.67,2,   -999.0,9,   -999.0,9,  -999.00,9,  -1.3179
  06AQ20070728,EurArc,   316,  1,     14,     14,2,20070830,0917, 88.1770, 139.6200, 1298,    101.3,  -1.3101,  34.1800,2,   -999.0,9,    316.1,2,     4.85,2,     8.40,2,     0.01,2,     0.68,2,   -999.0,9,   -999.0,9,    -0.23,2,  -1.3125
  06AQ20070728,EurArc,   316,  1,     15,     15,2,20070830,0917, 88.1770, 139.6200, 1298,     76.0,  -1.6032,  33.8430,2,   -999.0,9,    323.2,2,     5.46,2,     7.52,2,     0.01,2,     0.64,2,   -999.0,9,   -999.0,9,  -999.00,9,  -1.6048
  06AQ20070728,EurArc,   316,  1,     16,     16,2,20070830,0917, 88.1770, 139.6200, 1298,     76.0,  -1.6042,  33.8420,2,   -999.0,9,    357.8,2,     5.46,2,     7.46,2,     0.01,2,     0.64,2,   -999.0,9,   -999.0,9,  -999.00,9,  -1.6058
  06AQ20070728,EurArc,   316,  1,     17,     17,2,20070830,0917, 88.1770, 139.6200, 1298,     54.6,  -1.7102,  32.6530,2,   -999.0,9,    358.2,2,     6.95,2,     6.47,2,     0.02,2,     0.63,2,   -999.0,9,   -999.0,9,  -999.00,9,  -1.7111
  06AQ20070728,EurArc,   316,  1,     18,     18,2,20070830,0917, 88.1770, 139.6200, 1298,     54.6,  -1.7103,  32.6500,2,   -999.0,9,   -999.0,9,     6.93,2,     5.83,2,     0.02,2,     0.60,2,   -999.0,9,   -999.0,9,  -999.00,9,  -1.7112
  06AQ20070728,EurArc,   316,  1,     19,     19,2,20070830,0917, 88.1770, 139.6200, 1298,     50.4,  -1.7168,  32.5010,2,   -999.0,9,    361.4,2,     6.73,2,     4.84,2,     0.02,2,     0.55,2,   2141.5,2,   2236.2,2,    -1.83,2,  -1.7176
  06AQ20070728,EurArc,   316,  1,     20,     20,2,20070830,0917, 88.1770, 139.6200, 1298,     50.4,  -1.7168,  32.5180,2,   -999.0,9,    361.4,2,     6.06,2,     4.17,2,     0.02,2,     0.49,2,   -999.0,9,   -999.0,9,  -999.00,9,  -1.7176
  06AQ20070728,EurArc,   316,  1,     21,     21,2,20070830,0917, 88.1770, 139.6200, 1298,     25.2,  -1.6422,  31.8110,2,   -999.0,9,    391.8,2,     4.97,2,     2.46,2,     0.10,2,     0.39,2,   -999.0,9,   -999.0,9,    -2.14,2,  -1.6426
  06AQ20070728,EurArc,   316,  1,     22,     22,2,20070830,0917, 88.1770, 139.6200, 1298,     25.2,  -1.6402,  31.8820,2,   -999.0,9,    391.8,2,     4.22,2,     1.72,2,     0.08,2,     0.34,2,   -999.0,9,   -999.0,9,  -999.00,9,  -1.6406
  06AQ20070728,EurArc,   316,  1,     24,     24,2,20070830,0917, 88.1770, 139.6200, 1298,      4.9,  -1.6769,  31.1640,2,   -999.0,9,    393.8,2,     2.46,2,     0.11,2,     0.02,2,     0.21,2,   -999.0,9,   -999.0,9,  -999.00,9,  -1.6770
  06AQ20070728,EurArc,   316,  1,     23,     23,2,20070830,0917, 88.1770, 139.6200, 1298,      4.8,  -1.6764,  31.1640,2,   -999.0,9,    393.8,2,     2.48,2,     0.14,2,     0.02,2,     0.21,2,   -999.0,9,   -999.0,9,    -2.06,2,  -1.6765