BOTTLE,20220921CCHSIOAMB
EXPOCODE,SECT_ID,STNNBR,CASTNO,SAMPNO,BTLNBR,BTLNBR_FLAG_W,DATE,TIME,LATITUDE,LONGITUDE,DEPTH,CTDPRS,CTDTMP,CTDSAL,CTDSAL_FLAG_W,CTDOXY,CTDOXY_FLAG_W,OXYGEN,OXYGEN_FLAG_W,SILCAT,SILCAT_FLAG_W,NITRAT,NITRAT_FLAG_W,NITRIT,NITRIT_FLAG_W,PHSPHT,PHSPHT_FLAG_W,TCARBN,TCARBN_FLAG_W,ALKALI,ALKALI_FLAG_W,DELO18,DELO18_FLAG_W,THETA
,,,,,,,,,,,METERS,DBAR,ITS-90,PSS-78,,UMOL/KG,,UMOL/KG,,UMOL/KG,,UMOL/KG,,UMOL/KG,,UMOL/KG,,UMOL/KG,,UMOL/KG,,/MILLE,,DEG C
  06AQ20070728,EurArc,   382,  1,     24,     24,2,20070919,1158, 81.3580, 120.7200, 5343,     10.3,  -1.6545,  31.2710,2,   -999.0,9,    369.6,2,     1.91,2,     0.50,2,     0.04,2,     0.14,2,   -999.0,9,   -999.0,9,    -1.84,2,  -1.6546
  06AQ20070728,EurArc,   382,  1,     23,     23,2,20070919,1158, 81.3580, 120.7200, 5343,     25.2,  -1.6690,  32.6920,2,   -999.0,9,    367.6,2,     3.80,2,     3.20,2,     0.13,2,     0.37,2,   -999.0,9,   -999.0,9,    -1.79,2,  -1.6694
  06AQ20070728,EurArc,   382,  1,     22,     22,2,20070919,1158, 81.3580, 120.7200, 5343,     50.5,  -1.6787,  33.8550,2,   -999.0,9,    334.0,2,     3.95,2,     7.05,2,     0.03,2,     0.57,2,   2149.9,2,   2266.5,2,    -0.55,2,  -1.6797
  06AQ20070728,EurArc,   382,  1,     21,     21,2,20070919,1158, 81.3580, 120.7200, 5343,     76.2,  -1.3598,  34.1940,2,   -999.0,9,    320.1,2,     4.15,2,     8.37,2,     0.02,2,     0.64,2,   -999.0,9,   -999.0,9,    -0.20,2,  -1.3616
  06AQ20070728,EurArc,   382,  1,     20,     20,2,20070919,1158, 81.3580, 120.7200, 5343,    102.0,  -0.6064,  34.3760,2,   -999.0,9,    315.1,2,     4.25,2,     9.00,2,     0.02,2,     0.68,2,   2155.0,2,   2278.2,2,    -0.12,2,  -0.6095
  06AQ20070728,EurArc,   382,  1,     19,     19,2,20070919,1158, 81.3580, 120.7200, 5343,    151.4,   0.6357,  34.6690,2,   -999.0,9,    305.6,2,     4.91,2,    11.08,2,     0.02,2,     0.78,2,   -999.0,9,   -999.0,9,     0.12,2,   0.6294
  06AQ20070728,EurArc,   382,  1,     18,     18,2,20070919,1158, 81.3580, 120.7200, 5343,    202.3,   1.1987,  34.8320,2,   -999.0,9,   -999.0,9,     5.25,2,    11.96,2,     0.02,2,     0.83,2,   -999.0,9,   -999.0,9,  -999.00,9,   1.1891
  06AQ20070728,EurArc,   382,  1,     17,     17,2,20070919,1158, 81.3580, 120.7200, 5343,    506.3,   0.5366,  34.8860,2,   -999.0,9,    302.5,2,     5.97,2,    12.49,2,     0.01,2,     0.86,2,   2160.8,2,   2297.3,2,  -999.00,9,   0.5140
  06AQ20070728,EurArc,   382,  1,     16,     16,2,20070919,1158, 81.3580, 120.7200, 5343,   1013.5,  -0.3880,  34.9010,2,   -999.0,9,    299.3,2,     7.96,2,    13.47,2,     0.01,2,     0.94,2,   -999.0,9,   -999.0,9,  -999.00,9,  -0.4301
  06AQ20070728,EurArc,   382,  1,     15,     15,2,20070919,1158, 81.3580, 120.7200, 5343,   1522.6,  -0.6623,  34.9170,2,   -999.0,9,    298.0,2,     9.93,2,    14.50,2,     0.02,2,     1.00,2,   2160.0,2,   2297.1,2,  -999.00,9,  -0.7292
  06AQ20070728,EurArc,   382,  1,     14,     14,2,20070919,1158, 81.3580, 120.7200, 5343,   1521.7,  -0.6624,  34.9170,2,   -999.0,9,    298.0,2,     9.96,2,    14.49,2,     0.01,2,     1.00,2,   -999.0,9,   -999.0,9,  -999.00,9,  -0.7292
  06AQ20070728,EurArc,   382,  1,     13,     13,2,20070919,1158, 81.3580, 120.7200, 5343,   2032.0,  -0.7652,  34.9230,2,   -999.0,9,    298.4,2,    10.47,2,    14.72,2,     0.01,2,     1.01,2,   2155.2,2,   2298.6,2,  -999.00,9,  -0.8619
  06AQ20070728,EurArc,   382,  1,     12,     12,2,20070919,1158, 81.3580, 120.7200, 5343,   2541.6,  -0.7938,  34.9300,2,   -999.0,9,    298.6,2,    10.75,2,    14.72,2,     0.02,2,     1.01,2,   2154.1,2,   2298.0,2,  -999.00,9,  -0.9253
  06AQ20070728,EurArc,   382,  1,     11,     11,2,20070919,1158, 81.3580, 120.7200, 5343,   2798.3,  -0.7867,  34.9340,2,   -999.0,9,    298.1,2,    10.73,2,    14.80,2,     0.01,2,     1.01,2,   -999.0,9,   -999.0,9,  -999.00,9,  -0.9377
  06AQ20070728,EurArc,   382,  1,     10,     10,2,20070919,1158, 81.3580, 120.7200, 5343,   3054.2,  -0.7625,  34.9390,2,   -999.0,9,    297.1,2,    11.15,2,    14.70,2,     0.02,2,     1.01,2,   2156.3,2,   2300.6,2,  -999.00,9,  -0.9344
  06AQ20070728,EurArc,   382,  1,      9,      9,2,20070919,1158, 81.3580, 120.7200, 5343,   3310.8,  -0.7365,  34.9410,2,   -999.0,9,    296.4,2,    11.36,2,    14.94,2,     0.02,2,     1.02,2,   -999.0,9,   -999.0,9,  -999.00,9,  -0.9305
  06AQ20070728,EurArc,   382,  1,      8,      8,2,20070919,1158, 81.3580, 120.7200, 5343,   3567.8,  -0.7088,  34.9420,2,   -999.0,9,    296.3,2,    11.56,2,    14.80,2,     0.02,2,     1.01,2,   -999.0,9,   -999.0,9,  -999.00,9,  -0.9261
  06AQ20070728,EurArc,   382,  1,      7,      7,2,20070919,1158, 81.3580, 120.7200, 5343,   3824.3,  -0.6846,  34.9420,2,   -999.0,9,    296.3,2,    11.60,2,    14.86,2,     0.02,2,     1.01,2,   -999.0,9,   -999.0,9,  -999.00,9,  -0.9261
  06AQ20070728,EurArc,   382,  1,      6,      6,2,20070919,1158, 81.3580, 120.7200, 5343,   4082.7,  -0.6589,  34.9420,2,   -999.0,9,    296.2,2,    11.57,2,    15.07,2,     0.02,2,     1.02,2,   2156.4,2,   2299.5,2,  -999.00,9,  -0.9258
  06AQ20070728,EurArc,   382,  1,      5,      5,2,20070919,1158, 81.3580, 120.7200, 5343,   4337.0,  -0.6327,  34.9420,2,   -999.0,9,    296.3,2,    11.57,2,    14.90,2,     0.02,2,     1.01,2,   -999.0,9,   -999.0,9,  -999.00,9,  -0.9257
  06AQ20070728,EurArc,   382,  1,      4,      4,2,20070919,1158, 81.3580, 120.7200, 5343,   4597.4,  -0.6047,  34.9420,2,   -999.0,9,    296.2,2,    11.55,2,    14.80,2,     0.02,2,     1.01,2,   2157.6,2,   2302.3,2,  -999.00,9,  -0.9255
  06AQ20070728,EurArc,   382,  1,      3,      3,2,20070919,1158, 81.3580, 120.7200, 5343,   4854.9,  -0.5759,  34.9410,2,   -999.0,9,   -999.0,9,    11.55,2,    15.59,2,     0.02,2,     1.01,2,   -999.0,9,   -999.0,9,  -999.00,9,  -0.9252
  06AQ20070728,EurArc,   382,  1,      2,      2,2,20070919,1158, 81.3580, 120.7200, 5343,   5114.0,  -0.5460,  34.9410,2,   -999.0,9,    295.7,2,    11.56,2,    14.83,2,     0.02,2,     1.01,2,   2155.8,2,   2300.5,2,  -999.00,9,  -0.9249
  06AQ20070728,EurArc,   382,  1,      1,      1,2,20070919,1158, 81.3580, 120.7200, 5343,   5321.7,  -0.5212,  34.9410,2,   -999.0,9,    294.2,2,    11.54,2,    14.88,2,     0.02,2,     1.01,2,   2155.9,2,   2298.6,2,  -999.00,9,  -0.9246
  06AQ20070728,EurArc,   383,  1,     24,     24,2,20070919,1938, 80.6590, 122.2200, 3830,      2.0,  -1.5025,  31.5030,2,    361.6,2,    373.9,2,     2.00,2,    -0.01,2,     0.01,2,     0.10,2,   -999.0,9,   -999.0,9,    -1.64,2,  -1.5025
  06AQ20070728,EurArc,   383,  1,     23,     23,2,20070919,1938, 80.6590, 122.2200, 3830,     10.0,  -1.4934,  31.5090,2,    361.1,2,    373.8,2,     2.02,2,     0.00,2,     0.01,2,     0.11,2,   -999.0,9,   -999.0,9,    -1.69,2,  -1.4936
  06AQ20070728,EurArc,   383,  1,     22,     22,2,20070919,1938, 80.6590, 122.2200, 3830,     25.6,  -1.6704,  32.9500,2,    350.3,2,    368.9,2,     3.43,2,     3.27,2,     0.14,2,     0.36,2,   -999.0,9,   -999.0,9,    -1.53,2,  -1.6709
  06AQ20070728,EurArc,   383,  1,     21,     21,2,20070919,1938, 80.6590, 122.2200, 3830,     29.9,  -1.7131,  33.1870,2,    341.4,2,    361.6,2,     3.40,2,     3.78,2,     0.15,2,     0.40,2,   -999.0,9,   -999.0,9,    -1.39,2,  -1.7136
  06AQ20070728,EurArc,   383,  1,     20,     20,2,20070919,1938, 80.6590, 122.2200, 3830,     50.6,  -1.7873,  33.7490,2,    335.7,2,    351.0,2,     2.78,2,     4.59,2,     0.04,2,     0.43,2,   -999.0,9,   -999.0,9,    -0.96,2,  -1.7882
  06AQ20070728,EurArc,   383,  1,     19,     19,2,20070919,1938, 80.6590, 122.2200, 3830,     76.2,  -1.6713,  34.0790,2,    313.4,2,    344.9,2,     3.58,2,     7.36,2,     0.03,2,     0.59,2,   -999.0,9,   -999.0,9,    -0.24,2,  -1.6728
  06AQ20070728,EurArc,   383,  1,     18,     18,2,20070919,1938, 80.6590, 122.2200, 3830,     85.4,  -1.3202,  34.2050,2,    303.7,2,    324.4,2,     3.96,2,     8.14,2,     0.03,2,     0.64,2,   -999.0,9,   -999.0,9,    -0.20,2,  -1.3222
  06AQ20070728,EurArc,   383,  1,     17,     17,2,20070919,1938, 80.6590, 122.2200, 3830,     85.4,  -1.3197,  34.2070,2,   -999.0,9,    324.4,2,     3.97,2,     8.26,2,     0.03,2,     0.64,2,   -999.0,9,   -999.0,9,  -999.00,9,  -1.3217
  06AQ20070728,EurArc,   383,  1,     16,     16,2,20070919,1938, 80.6590, 122.2200, 3830,    100.9,  -0.8907,  34.3120,2,   -999.0,9,    317.1,2,  -999.00,9,  -999.00,9,  -999.00,9,  -999.00,9,   -999.0,9,   -999.0,9,  -999.00,9,  -0.8935
  06AQ20070728,EurArc,   383,  1,     15,     15,2,20070919,1938, 80.6590, 122.2200, 3830,    101.0,  -0.8669,  34.3120,2,    301.9,2,    317.0,2,     3.99,2,     8.71,2,     0.03,2,     0.67,2,   -999.0,9,   -999.0,9,    -0.08,2,  -0.8697
  06AQ20070728,EurArc,   383,  1,     14,     14,2,20070919,1938, 80.6590, 122.2200, 3830,    126.0,   0.0807,  34.5090,2,    294.6,2,    311.1,2,     4.40,2,     9.94,2,     0.03,2,     0.72,2,   -999.0,9,   -999.0,9,    -0.02,2,   0.0761
  06AQ20070728,EurArc,   383,  1,     13,     13,2,20070919,1938, 80.6590, 122.2200, 3830,    151.4,   0.8446,  34.6680,2,    288.7,2,    304.5,2,     4.76,2,    10.96,2,     0.02,2,     0.78,2,   -999.0,9,   -999.0,9,     0.13,2,   0.8380
  06AQ20070728,EurArc,   383,  1,     12,     12,2,20070919,1938, 80.6590, 122.2200, 3830,    202.1,   1.2950,  34.8360,2,   -999.0,9,    300.0,2,     5.25,2,    12.09,2,     0.02,2,     0.83,2,   -999.0,9,   -999.0,9,  -999.00,9,   1.2853
  06AQ20070728,EurArc,   383,  1,     11,     11,2,20070919,1938, 80.6590, 122.2200, 3830,    302.8,   1.3153,  34.8800,2,   -999.0,9,    302.1,2,     5.45,2,    12.31,2,     0.02,2,     0.84,2,   -999.0,9,   -999.0,9,  -999.00,9,   1.3004
  06AQ20070728,EurArc,   383,  1,     10,     10,2,20070919,1938, 80.6590, 122.2200, 3830,    505.7,   0.6893,  34.8890,2,   -999.0,9,    304.8,2,     5.91,2,    12.58,2,     0.01,2,     0.87,2,   -999.0,9,   -999.0,9,  -999.00,9,   0.6661
  06AQ20070728,EurArc,   383,  1,      9,      9,2,20070919,1938, 80.6590, 122.2200, 3830,    759.4,  -0.0824,  34.8840,2,   -999.0,9,    305.3,2,     6.67,2,    12.76,2,     0.02,2,     0.89,2,   -999.0,9,   -999.0,9,  -999.00,9,  -0.1141
  06AQ20070728,EurArc,   383,  1,      8,      8,2,20070919,1938, 80.6590, 122.2200, 3830,   1012.4,  -0.3450,  34.9000,2,   -999.0,9,    303.2,2,     7.88,2,    13.52,2,     0.02,2,     0.94,2,   -999.0,9,   -999.0,9,  -999.00,9,  -0.3874
  06AQ20070728,EurArc,   383,  1,      7,      7,2,20070919,1938, 80.6590, 122.2200, 3830,   1266.8,  -0.5271,  34.9100,2,   -999.0,9,    300.7,2,     9.10,2,    14.15,2,     0.01,2,     0.98,2,   -999.0,9,   -999.0,9,  -999.00,9,  -0.5812
  06AQ20070728,EurArc,   383,  1,      6,      6,2,20070919,1938, 80.6590, 122.2200, 3830,   1521.7,  -0.6421,  34.9150,2,   -999.0,9,    299.5,2,     9.82,2,    14.43,2,     0.02,2,     0.99,2,   -999.0,9,   -999.0,9,  -999.00,9,  -0.7092
  06AQ20070728,EurArc,   383,  1,      5,      5,2,20070919,1938, 80.6590, 122.2200, 3830,   2030.8,  -0.7596,  34.9200,2,   -999.0,9,    299.2,2,    10.56,2,    14.71,2,     0.01,2,     1.01,2,   -999.0,9,   -999.0,9,  -999.00,9,  -0.8563
  06AQ20070728,EurArc,   383,  1,      4,      4,2,20070919,1938, 80.6590, 122.2200, 3830,   2541.7,  -0.7854,  34.9270,2,   -999.0,9,    299.3,2,    10.57,2,    14.77,2,     0.02,2,     1.01,2,   -999.0,9,   -999.0,9,  -999.00,9,  -0.9171
  06AQ20070728,EurArc,   383,  1,      3,      3,2,20070919,1938, 80.6590, 122.2200, 3830,   3054.1,  -0.7597,  34.9360,2,   -999.0,9,    297.5,2,    11.12,2,    14.74,2,     0.02,2,     1.02,2,   -999.0,9,   -999.0,9,  -999.00,9,  -0.9317
  06AQ20070728,EurArc,   383,  1,      2,      2,2,20070919,1938, 80.6590, 122.2200, 3830,   3567.8,  -0.7089,  34.9400,2,   -999.0,9,    296.7,2,    11.28,2,    14.79,2,     0.02,2,     1.01,2,   -999.0,9,   -999.0,9,  -999.00,9,  -0.9262
  06AQ20070728,EurArc,   383,  1,      1,      1,2,20070919,1938, 80.6590, 122.2200, 3830,   3889.6,  -0.6783,  34.9400,2,   -999.0,9,    295.7,2,    11.25,2,    14.71,2,     0.02,2,     1.02,2,   -999.0,9,   -999.0,9,  -999.00,9,  -0.9261
  06AQ20070728,EurArc,   384,  1,     23,     23,2,20070920,0214, 79.9960, 123.4500, 3584,      2.6,  -1.2293,  31.5880,2,   -999.0,9,    370.2,2,     2.11,2,     0.14,2,     0.01,2,     0.11,2,   -999.0,9,   -999.0,9,  -999.00,9,  -1.2293
  06AQ20070728,EurArc,   384,  1,     22,     22,2,20070920,0214, 79.9960, 123.4500, 3584,      9.5,  -1.4490,  32.2390,2,   -999.0,9,    370.3,2,     2.60,2,     1.61,2,     0.08,2,     0.23,2,   -999.0,9,   -999.0,9,  -999.00,9,  -1.4492
  06AQ20070728,EurArc,   384,  1,     21,     21,2,20070920,0214, 79.9960, 123.4500, 3584,     23.8,  -1.7024,  33.5000,2,   -999.0,9,    357.4,2,     3.07,2,     4.68,2,     0.08,2,     0.43,2,   -999.0,9,   -999.0,9,  -999.00,9,  -1.7028
  06AQ20070728,EurArc,   384,  1,     20,     20,2,20070920,0214, 79.9960, 123.4500, 3584,     23.7,  -1.7163,  33.5630,2,   -999.0,9,    357.6,2,     3.05,2,     4.76,2,     0.07,2,     0.44,2,   -999.0,9,   -999.0,9,  -999.00,9,  -1.7167
  06AQ20070728,EurArc,   384,  1,     19,     19,2,20070920,0214, 79.9960, 123.4500, 3584,     23.8,  -1.7444,  33.6850,2,   -999.0,9,    357.4,2,     3.11,2,     4.76,2,     0.07,2,     0.45,2,   -999.0,9,   -999.0,9,  -999.00,9,  -1.7448
  06AQ20070728,EurArc,   384,  1,     18,     18,2,20070920,0214, 79.9960, 123.4500, 3584,     50.1,  -1.7247,  33.9780,2,   -999.0,9,    347.3,2,     3.03,2,     5.78,2,     0.03,2,     0.50,2,   -999.0,9,   -999.0,9,  -999.00,9,  -1.7257
  06AQ20070728,EurArc,   384,  1,     17,     17,2,20070920,0214, 79.9960, 123.4500, 3584,     75.4,  -1.2982,  34.2250,2,   -999.0,9,    322.4,2,     3.68,2,     7.87,2,     0.02,2,     0.62,2,   -999.0,9,   -999.0,9,  -999.00,9,  -1.3000
  06AQ20070728,EurArc,   384,  1,     16,     16,2,20070920,0214, 79.9960, 123.4500, 3584,    101.4,  -0.4314,  34.4080,2,   -999.0,9,    314.7,2,     4.01,2,     8.97,2,     0.02,2,     0.68,2,   -999.0,9,   -999.0,9,  -999.00,9,  -0.4346
  06AQ20070728,EurArc,   384,  1,     15,     15,2,20070920,0214, 79.9960, 123.4500, 3584,    126.4,   0.2932,  34.5440,2,   -999.0,9,    308.9,2,     4.33,2,     9.82,2,     0.02,2,     0.72,2,   -999.0,9,   -999.0,9,  -999.00,9,   0.2883
  06AQ20070728,EurArc,   384,  1,     14,     14,2,20070920,0214, 79.9960, 123.4500, 3584,    152.0,   1.2173,  34.7310,2,   -999.0,9,    302.9,2,     4.66,2,    11.09,2,     0.02,2,     0.78,2,   -999.0,9,   -999.0,9,  -999.00,9,   1.2102
  06AQ20070728,EurArc,   384,  1,     13,     13,2,20070920,0214, 79.9960, 123.4500, 3584,    202.7,   1.6612,  34.8630,2,   -999.0,9,    299.9,2,     5.05,2,    11.78,2,     0.01,2,     0.82,2,   -999.0,9,   -999.0,9,  -999.00,9,   1.6508
  06AQ20070728,EurArc,   384,  1,     12,     12,2,20070920,0214, 79.9960, 123.4500, 3584,    252.9,   1.7315,  34.9010,2,   -999.0,9,    300.5,2,     5.20,2,    12.01,2,     0.01,2,     0.84,2,   -999.0,9,   -999.0,9,  -999.00,9,   1.7183
  06AQ20070728,EurArc,   384,  1,     11,     11,2,20070920,0214, 79.9960, 123.4500, 3584,    303.3,   1.4200,  34.8800,2,   -999.0,9,    301.4,2,     5.35,2,    12.02,2,     0.01,2,     0.84,2,   -999.0,9,   -999.0,9,  -999.00,9,   1.4048
  06AQ20070728,EurArc,   384,  1,     10,     10,2,20070920,0214, 79.9960, 123.4500, 3584,    505.8,   0.8834,  34.8980,2,   -999.0,9,    304.7,2,     5.83,2,    12.15,2,     0.01,2,     0.86,2,   -999.0,9,   -999.0,9,  -999.00,9,   0.8594
  06AQ20070728,EurArc,   384,  1,      9,      9,2,20070920,0214, 79.9960, 123.4500, 3584,    759.0,   0.0195,  34.8870,2,   -999.0,9,    305.4,2,     6.59,2,    12.51,2,     0.01,2,     0.89,2,   -999.0,9,   -999.0,9,  -999.00,9,  -0.0129
  06AQ20070728,EurArc,   384,  1,      8,      8,2,20070920,0214, 79.9960, 123.4500, 3584,   1013.1,  -0.3110,  34.9000,2,   -999.0,9,    303.9,2,     7.78,2,    13.11,2,     0.01,2,     0.92,2,   -999.0,9,   -999.0,9,  -999.00,9,  -0.3538
  06AQ20070728,EurArc,   384,  1,      7,      7,2,20070920,0214, 79.9960, 123.4500, 3584,   1267.1,  -0.5061,  34.9090,2,   -999.0,9,    301.1,2,     9.07,2,    13.84,2,     0.01,2,     0.97,2,   -999.0,9,   -999.0,9,  -999.00,9,  -0.5605
  06AQ20070728,EurArc,   384,  1,      6,      6,2,20070920,0214, 79.9960, 123.4500, 3584,   1521.8,  -0.6295,  34.9130,2,   -999.0,9,    299.5,2,     9.88,2,    14.23,2,     0.01,2,     0.99,2,   -999.0,9,   -999.0,9,  -999.00,9,  -0.6967
  06AQ20070728,EurArc,   384,  1,      5,      5,2,20070920,0214, 79.9960, 123.4500, 3584,   2031.7,  -0.7421,  34.9180,2,   -999.0,9,    298.9,2,    10.60,2,    14.47,2,     0.01,2,     1.00,2,   -999.0,9,   -999.0,9,  -999.00,9,  -0.8391
  06AQ20070728,EurArc,   384,  1,      4,      4,2,20070920,0214, 79.9960, 123.4500, 3584,   2031.9,  -0.7428,  34.9180,2,   -999.0,9,    298.9,2,    10.61,2,    14.42,2,     0.01,2,     1.01,2,   -999.0,9,   -999.0,9,  -999.00,9,  -0.8398
  06AQ20070728,EurArc,   384,  1,      3,      3,2,20070920,0214, 79.9960, 123.4500, 3584,   2542.5,  -0.7762,  34.9260,2,   -999.0,9,    299.2,2,    10.85,2,    14.53,2,     0.01,2,     1.01,2,   -999.0,9,   -999.0,9,  -999.00,9,  -0.9081
  06AQ20070728,EurArc,   384,  1,      2,      2,2,20070920,0214, 79.9960, 123.4500, 3584,   3054.2,  -0.7576,  34.9340,2,   -999.0,9,    297.8,2,    11.05,2,    14.44,2,     0.00,2,     1.01,2,   -999.0,9,   -999.0,9,  -999.00,9,  -0.9296
  06AQ20070728,EurArc,   384,  1,      1,      1,2,20070920,0214, 79.9960, 123.4500, 3584,   3629.9,  -0.6991,  34.9380,2,   -999.0,9,    295.0,2,    11.34,2,    14.56,2,     0.01,2,     1.01,2,   -999.0,9,   -999.0,9,  -999.00,9,  -0.9222