BOTTLE,20220921CCHSIOAMB
EXPOCODE,SECT_ID,STNNBR,CASTNO,SAMPNO,BTLNBR,BTLNBR_FLAG_W,DATE,TIME,LATITUDE,LONGITUDE,DEPTH,CTDPRS,CTDTMP,CTDSAL,CTDSAL_FLAG_W,CTDOXY,CTDOXY_FLAG_W,OXYGEN,OXYGEN_FLAG_W,SILCAT,SILCAT_FLAG_W,NITRAT,NITRAT_FLAG_W,NITRIT,NITRIT_FLAG_W,PHSPHT,PHSPHT_FLAG_W,TCARBN,TCARBN_FLAG_W,ALKALI,ALKALI_FLAG_W,DELO18,DELO18_FLAG_W,THETA
,,,,,,,,,,,METERS,DBAR,ITS-90,PSS-78,,UMOL/KG,,UMOL/KG,,UMOL/KG,,UMOL/KG,,UMOL/KG,,UMOL/KG,,UMOL/KG,,UMOL/KG,,/MILLE,,DEG C
  06AQ20070728,EurArc,   400,  5,     24,     24,2,20070922,1230, 77.3880, 123.4000, 1123,      1.6,  -1.6036,  30.7230,2,    360.6,2,    368.8,2,     2.57,2,     0.23,2,     0.02,2,     0.18,2,   -999.0,9,   -999.0,9,    -1.60,2,  -1.6036
  06AQ20070728,EurArc,   400,  5,     23,     23,2,20070922,1230, 77.3880, 123.4000, 1123,     10.3,  -1.6082,  31.1640,2,    359.2,2,    367.8,2,     2.94,2,     0.56,2,     0.04,2,     0.22,2,   -999.0,9,   -999.0,9,    -1.58,2,  -1.6083
  06AQ20070728,EurArc,   400,  5,     22,     22,2,20070922,1230, 77.3880, 123.4000, 1123,     19.8,  -1.4559,  32.9940,2,   -999.0,9,    357.1,2,  -999.00,9,  -999.00,9,  -999.00,9,  -999.00,9,   -999.0,9,   -999.0,9,  -999.00,9,  -1.4563
  06AQ20070728,EurArc,   400,  5,     21,     21,2,20070922,1230, 77.3880, 123.4000, 1123,     20.0,  -1.4545,  33.0570,2,    326.1,2,    356.5,2,  -999.00,9,  -999.00,9,  -999.00,9,  -999.00,9,   -999.0,9,   -999.0,9,  -999.00,9,  -1.4549
  06AQ20070728,EurArc,   400,  5,     20,     20,2,20070922,1230, 77.3880, 123.4000, 1123,     19.9,  -1.4550,  33.0530,2,   -999.0,9,    356.8,2,     5.52,2,     4.18,2,     0.15,2,     0.48,2,   -999.0,9,   -999.0,9,  -999.00,9,  -1.4554
  06AQ20070728,EurArc,   400,  5,     19,     19,2,20070922,1230, 77.3880, 123.4000, 1123,     19.7,  -1.4519,  33.0560,2,   -999.0,9,    357.4,2,     5.53,2,     4.31,2,     0.14,2,     0.49,2,   -999.0,9,   -999.0,9,  -999.00,9,  -1.4523
  06AQ20070728,EurArc,   400,  5,     18,     18,2,20070922,1230, 77.3880, 123.4000, 1123,     25.1,  -1.3946,  33.4420,2,    315.4,2,    340.8,2,     5.55,2,     5.43,2,     0.11,2,     0.54,2,   -999.0,9,   -999.0,9,    -0.79,2,  -1.3951
  06AQ20070728,EurArc,   400,  5,     17,     17,2,20070922,1230, 77.3880, 123.4000, 1123,     50.6,  -1.3482,  34.1920,2,   -999.0,9,    319.8,2,  -999.00,9,  -999.00,9,  -999.00,9,  -999.00,9,   -999.0,9,   -999.0,9,  -999.00,9,  -1.3494
  06AQ20070728,EurArc,   400,  5,     16,     16,2,20070922,1230, 77.3880, 123.4000, 1123,     50.7,  -1.3373,  34.1910,2,   -999.0,9,    319.8,2,  -999.00,9,  -999.00,9,  -999.00,9,  -999.00,9,   -999.0,9,   -999.0,9,  -999.00,9,  -1.3385
  06AQ20070728,EurArc,   400,  5,     15,     15,2,20070922,1230, 77.3880, 123.4000, 1123,     50.6,  -1.3405,  34.1920,2,   -999.0,9,    319.8,2,  -999.00,9,  -999.00,9,  -999.00,9,  -999.00,9,   -999.0,9,   -999.0,9,  -999.00,9,  -1.3417
  06AQ20070728,EurArc,   400,  5,     14,     14,2,20070922,1230, 77.3880, 123.4000, 1123,     50.4,  -1.3435,  34.1980,2,   -999.0,9,    319.7,2,  -999.00,9,  -999.00,9,  -999.00,9,  -999.00,9,   -999.0,9,   -999.0,9,  -999.00,9,  -1.3447
  06AQ20070728,EurArc,   400,  5,     13,     13,2,20070922,1230, 77.3880, 123.4000, 1123,     50.2,  -1.3425,  34.2050,2,    306.7,2,    319.6,2,     5.06,2,     7.12,2,     0.02,2,     0.61,2,   -999.0,9,   -999.0,9,    -0.36,2,  -1.3437
  06AQ20070728,EurArc,   400,  5,     12,     12,2,20070922,1230, 77.3880, 123.4000, 1123,     76.3,  -1.4953,  34.3570,2,    313.2,2,    324.8,2,     4.20,2,     7.40,2,     0.01,2,     0.61,2,   -999.0,9,   -999.0,9,    -0.26,2,  -1.4970
  06AQ20070728,EurArc,   400,  5,     11,     11,2,20070922,1230, 77.3880, 123.4000, 1123,    101.8,  -1.3542,  34.4200,2,    314.1,2,    327.2,2,     3.90,2,     7.71,2,     0.02,2,     0.62,2,   -999.0,9,   -999.0,9,    -0.29,2,  -1.3566
  06AQ20070728,EurArc,   400,  5,     10,     10,2,20070922,1230, 77.3880, 123.4000, 1123,    127.0,  -0.2673,  34.5440,2,    301.5,2,    315.0,2,     3.88,2,     9.07,2,     0.01,2,     0.67,2,   -999.0,9,   -999.0,9,    -0.01,2,  -0.2716
  06AQ20070728,EurArc,   400,  5,      9,      9,2,20070922,1230, 77.3880, 123.4000, 1123,    152.1,  -0.0019,  34.6160,2,    301.0,2,    315.5,2,     3.92,2,     9.34,2,     0.01,2,     0.68,2,   -999.0,9,   -999.0,9,     0.07,2,  -0.0074
  06AQ20070728,EurArc,   400,  5,      8,      8,2,20070922,1230, 77.3880, 123.4000, 1123,    203.1,   1.2139,  34.7920,2,   -999.0,9,    307.4,2,     4.17,2,    10.67,2,     0.01,2,     0.75,2,   -999.0,9,   -999.0,9,  -999.00,9,   1.2043
  06AQ20070728,EurArc,   400,  5,      7,      7,2,20070922,1230, 77.3880, 123.4000, 1123,    305.8,   1.4370,  34.8610,2,   -999.0,9,    306.2,2,  -999.00,9,  -999.00,9,  -999.00,9,  -999.00,9,   -999.0,9,   -999.0,9,  -999.00,9,   1.4216
  06AQ20070728,EurArc,   400,  5,      6,      6,2,20070922,1230, 77.3880, 123.4000, 1123,    305.8,   1.4276,  34.8600,2,   -999.0,9,    306.2,2,  -999.00,9,  -999.00,9,  -999.00,9,  -999.00,9,   -999.0,9,   -999.0,9,  -999.00,9,   1.4122
  06AQ20070728,EurArc,   400,  5,      5,      5,2,20070922,1230, 77.3880, 123.4000, 1123,    305.6,   1.4309,  34.8610,2,   -999.0,9,    306.3,2,  -999.00,9,  -999.00,9,  -999.00,9,  -999.00,9,   -999.0,9,   -999.0,9,  -999.00,9,   1.4155
  06AQ20070728,EurArc,   400,  5,      4,      4,2,20070922,1230, 77.3880, 123.4000, 1123,    305.6,   1.4315,  34.8610,2,   -999.0,9,    306.3,2,  -999.00,9,  -999.00,9,  -999.00,9,  -999.00,9,   -999.0,9,   -999.0,9,  -999.00,9,   1.4161
  06AQ20070728,EurArc,   400,  5,      3,      3,2,20070922,1230, 77.3880, 123.4000, 1123,    305.9,   1.4358,  34.8610,2,   -999.0,9,    306.1,2,  -999.00,9,  -999.00,9,  -999.00,9,  -999.00,9,   -999.0,9,   -999.0,9,  -999.00,9,   1.4204
  06AQ20070728,EurArc,   400,  5,      2,      2,2,20070922,1230, 77.3880, 123.4000, 1123,    305.6,   1.4331,  34.8600,2,   -999.0,9,    306.3,2,  -999.00,9,  -999.00,9,  -999.00,9,  -999.00,9,   -999.0,9,   -999.0,9,  -999.00,9,   1.4177
  06AQ20070728,EurArc,   400,  5,      1,      1,2,20070922,1230, 77.3880, 123.4000, 1123,    305.9,   1.4271,  34.8600,2,   -999.0,9,    306.1,2,     4.55,2,    11.13,2,     0.01,2,     0.78,2,   -999.0,9,   -999.0,9,  -999.00,9,   1.4117
  06AQ20070728,EurArc,   400,  7,     24,     24,2,20070922,1356, 77.3880, 123.4000, 1123,      9.1,  -1.5868,  32.1470,2,    354.4,2,    368.9,2,  -999.00,9,  -999.00,9,  -999.00,9,  -999.00,9,   -999.0,9,   -999.0,9,  -999.00,9,  -1.5870
  06AQ20070728,EurArc,   400,  7,     23,     23,2,20070922,1356, 77.3880, 123.4000, 1123,     25.7,  -1.3410,  33.8010,2,   -999.0,9,    333.0,2,  -999.00,9,  -999.00,9,  -999.00,9,  -999.00,9,   -999.0,9,   -999.0,9,  -999.00,9,  -1.3416
  06AQ20070728,EurArc,   400,  7,     22,     22,2,20070922,1356, 77.3880, 123.4000, 1123,     50.8,  -1.3878,  34.2370,2,   -999.0,9,    320.4,2,  -999.00,9,  -999.00,9,  -999.00,9,  -999.00,9,   -999.0,9,   -999.0,9,  -999.00,9,  -1.3890
  06AQ20070728,EurArc,   400,  7,     21,     21,2,20070922,1356, 77.3880, 123.4000, 1123,     76.1,  -1.4485,  34.3590,2,   -999.0,9,    321.6,2,  -999.00,9,  -999.00,9,  -999.00,9,  -999.00,9,   -999.0,9,   -999.0,9,  -999.00,9,  -1.4502
  06AQ20070728,EurArc,   400,  7,     20,     20,2,20070922,1356, 77.3880, 123.4000, 1123,    101.6,  -1.5479,  34.4060,2,   -999.0,9,    326.3,2,  -999.00,9,  -999.00,9,  -999.00,9,  -999.00,9,   -999.0,9,   -999.0,9,  -999.00,9,  -1.5502
  06AQ20070728,EurArc,   400,  7,     19,     19,2,20070922,1356, 77.3880, 123.4000, 1123,    101.5,  -1.5459,  34.4070,2,   -999.0,9,    326.2,2,  -999.00,9,  -999.00,9,  -999.00,9,  -999.00,9,   -999.0,9,   -999.0,9,  -999.00,9,  -1.5482
  06AQ20070728,EurArc,   400,  7,     18,     18,2,20070922,1356, 77.3880, 123.4000, 1123,    101.5,  -1.5508,  34.4060,2,   -999.0,9,    326.2,2,  -999.00,9,  -999.00,9,  -999.00,9,  -999.00,9,   -999.0,9,   -999.0,9,  -999.00,9,  -1.5531
  06AQ20070728,EurArc,   400,  7,     17,     17,2,20070922,1356, 77.3880, 123.4000, 1123,    101.6,  -1.5510,  34.4080,2,   -999.0,9,    326.3,2,  -999.00,9,  -999.00,9,  -999.00,9,  -999.00,9,   -999.0,9,   -999.0,9,  -999.00,9,  -1.5533
  06AQ20070728,EurArc,   400,  7,     16,     16,2,20070922,1356, 77.3880, 123.4000, 1123,    101.0,  -1.5481,  34.4090,2,   -999.0,9,    325.9,2,  -999.00,9,  -999.00,9,  -999.00,9,  -999.00,9,   -999.0,9,   -999.0,9,  -999.00,9,  -1.5503
  06AQ20070728,EurArc,   400,  7,     15,     15,2,20070922,1356, 77.3880, 123.4000, 1123,    152.5,   0.4455,  34.6360,2,   -999.0,9,    309.9,2,  -999.00,9,  -999.00,9,  -999.00,9,  -999.00,9,   -999.0,9,   -999.0,9,  -999.00,9,   0.4394
  06AQ20070728,EurArc,   400,  7,     14,     14,2,20070922,1356, 77.3880, 123.4000, 1123,    152.6,   0.4537,  34.6370,2,   -999.0,9,    309.9,2,  -999.00,9,  -999.00,9,  -999.00,9,  -999.00,9,   -999.0,9,   -999.0,9,  -999.00,9,   0.4475
  06AQ20070728,EurArc,   400,  7,     13,     13,2,20070922,1356, 77.3880, 123.4000, 1123,    152.5,   0.4451,  34.6360,2,   -999.0,9,    309.9,2,  -999.00,9,  -999.00,9,  -999.00,9,  -999.00,9,   -999.0,9,   -999.0,9,  -999.00,9,   0.4390
  06AQ20070728,EurArc,   400,  7,     12,     12,2,20070922,1356, 77.3880, 123.4000, 1123,    152.8,   0.4454,  34.6360,2,   -999.0,9,    309.8,2,  -999.00,9,  -999.00,9,  -999.00,9,  -999.00,9,   -999.0,9,   -999.0,9,  -999.00,9,   0.4392
  06AQ20070728,EurArc,   400,  7,     11,     11,2,20070922,1356, 77.3880, 123.4000, 1123,    152.8,   0.4465,  34.6360,2,   -999.0,9,    309.8,2,  -999.00,9,  -999.00,9,  -999.00,9,  -999.00,9,   -999.0,9,   -999.0,9,  -999.00,9,   0.4403
  06AQ20070728,EurArc,   400,  7,     10,     10,2,20070922,1356, 77.3880, 123.4000, 1123,    152.6,   0.4452,  34.6370,2,   -999.0,9,    309.9,2,  -999.00,9,  -999.00,9,  -999.00,9,  -999.00,9,   -999.0,9,   -999.0,9,  -999.00,9,   0.4391
  06AQ20070728,EurArc,   400,  7,      9,      9,2,20070922,1356, 77.3880, 123.4000, 1123,    152.6,   0.4451,  34.6360,2,   -999.0,9,    309.9,2,  -999.00,9,  -999.00,9,  -999.00,9,  -999.00,9,   -999.0,9,   -999.0,9,  -999.00,9,   0.4390
  06AQ20070728,EurArc,   400,  7,      8,      8,2,20070922,1356, 77.3880, 123.4000, 1123,    152.6,   0.4452,  34.6370,2,   -999.0,9,    309.9,2,  -999.00,9,  -999.00,9,  -999.00,9,  -999.00,9,   -999.0,9,   -999.0,9,  -999.00,9,   0.4391
  06AQ20070728,EurArc,   400,  7,      7,      7,2,20070922,1356, 77.3880, 123.4000, 1123,    152.5,   0.4460,  34.6370,2,   -999.0,9,    309.9,2,  -999.00,9,  -999.00,9,  -999.00,9,  -999.00,9,   -999.0,9,   -999.0,9,  -999.00,9,   0.4399
  06AQ20070728,EurArc,   400,  7,      6,      6,2,20070922,1356, 77.3880, 123.4000, 1123,    152.5,   0.4693,  34.6390,2,   -999.0,9,    309.9,2,  -999.00,9,  -999.00,9,  -999.00,9,  -999.00,9,   -999.0,9,   -999.0,9,  -999.00,9,   0.4631
  06AQ20070728,EurArc,   400,  7,      5,      5,2,20070922,1356, 77.3880, 123.4000, 1123,    203.0,   1.1644,  34.7880,2,   -999.0,9,    306.9,2,  -999.00,9,  -999.00,9,  -999.00,9,  -999.00,9,   -999.0,9,   -999.0,9,  -999.00,9,   1.1549
  06AQ20070728,EurArc,   400,  7,      4,      4,2,20070922,1356, 77.3880, 123.4000, 1123,    203.1,   1.1636,  34.7870,2,   -999.0,9,    306.9,2,  -999.00,9,  -999.00,9,  -999.00,9,  -999.00,9,   -999.0,9,   -999.0,9,  -999.00,9,   1.1541
  06AQ20070728,EurArc,   400,  7,      3,      3,2,20070922,1356, 77.3880, 123.4000, 1123,    202.4,   1.1628,  34.7880,2,   -999.0,9,    306.9,2,  -999.00,9,  -999.00,9,  -999.00,9,  -999.00,9,   -999.0,9,   -999.0,9,  -999.00,9,   1.1533
  06AQ20070728,EurArc,   400,  7,      2,      2,2,20070922,1356, 77.3880, 123.4000, 1123,    202.8,   1.1633,  34.7870,2,   -999.0,9,    306.9,2,  -999.00,9,  -999.00,9,  -999.00,9,  -999.00,9,   -999.0,9,   -999.0,9,  -999.00,9,   1.1538
  06AQ20070728,EurArc,   400,  7,      1,      1,2,20070922,1356, 77.3880, 123.4000, 1123,    202.6,   1.1599,  34.7870,2,   -999.0,9,    306.9,2,  -999.00,9,  -999.00,9,  -999.00,9,  -999.00,9,   -999.0,9,   -999.0,9,  -999.00,9,   1.1504
  06AQ20070728,EurArc,   400,  9,     24,     24,2,20070922,1548, 77.3880, 123.4000, 1123,     20.5,  -1.4307,  33.3000,2,   -999.0,9,    358.6,2,  -999.00,9,  -999.00,9,  -999.00,9,  -999.00,9,   -999.0,9,   -999.0,9,  -999.00,9,  -1.4311
  06AQ20070728,EurArc,   400,  9,     23,     23,2,20070922,1548, 77.3880, 123.4000, 1123,     20.4,  -1.4371,  33.2880,2,   -999.0,9,    359.1,2,  -999.00,9,  -999.00,9,  -999.00,9,  -999.00,9,   -999.0,9,   -999.0,9,  -999.00,9,  -1.4375
  06AQ20070728,EurArc,   400,  9,     22,     22,2,20070922,1548, 77.3880, 123.4000, 1123,     20.4,  -1.4420,  33.2760,2,   -999.0,9,    359.1,2,  -999.00,9,  -999.00,9,  -999.00,9,  -999.00,9,   -999.0,9,   -999.0,9,  -999.00,9,  -1.4424
  06AQ20070728,EurArc,   400,  9,     21,     21,2,20070922,1548, 77.3880, 123.4000, 1123,     20.5,  -1.4406,  33.2800,2,   -999.0,9,    358.6,2,  -999.00,9,  -999.00,9,  -999.00,9,  -999.00,9,   -999.0,9,   -999.0,9,  -999.00,9,  -1.4410
  06AQ20070728,EurArc,   400,  9,     20,     20,2,20070922,1548, 77.3880, 123.4000, 1123,     20.5,  -1.4430,  33.2740,2,   -999.0,9,    358.6,2,  -999.00,9,  -999.00,9,  -999.00,9,  -999.00,9,   -999.0,9,   -999.0,9,  -999.00,9,  -1.4434
  06AQ20070728,EurArc,   400,  9,     19,     19,2,20070922,1548, 77.3880, 123.4000, 1123,     20.3,  -1.4492,  33.2580,2,   -999.0,9,    359.7,2,  -999.00,9,  -999.00,9,  -999.00,9,  -999.00,9,   -999.0,9,   -999.0,9,  -999.00,9,  -1.4496
  06AQ20070728,EurArc,   400,  9,     18,     18,2,20070922,1548, 77.3880, 123.4000, 1123,     20.7,  -1.4350,  33.2960,2,   -999.0,9,    357.6,2,  -999.00,9,  -999.00,9,  -999.00,9,  -999.00,9,   -999.0,9,   -999.0,9,  -999.00,9,  -1.4354
  06AQ20070728,EurArc,   400,  9,     17,     17,2,20070922,1548, 77.3880, 123.4000, 1123,     20.4,  -1.4744,  33.1970,2,   -999.0,9,    359.2,2,  -999.00,9,  -999.00,9,  -999.00,9,  -999.00,9,   -999.0,9,   -999.0,9,  -999.00,9,  -1.4748
  06AQ20070728,EurArc,   400,  9,     16,     16,2,20070922,1548, 77.3880, 123.4000, 1123,     20.6,  -1.4692,  33.1930,2,   -999.0,9,    358.1,2,  -999.00,9,  -999.00,9,  -999.00,9,  -999.00,9,   -999.0,9,   -999.0,9,  -999.00,9,  -1.4696
  06AQ20070728,EurArc,   400,  9,     15,     15,2,20070922,1548, 77.3880, 123.4000, 1123,     20.6,  -1.4831,  33.1070,2,   -999.0,9,    358.1,2,  -999.00,9,  -999.00,9,  -999.00,9,  -999.00,9,   -999.0,9,   -999.0,9,  -999.00,9,  -1.4835
  06AQ20070728,EurArc,   400,  9,     14,     14,2,20070922,1548, 77.3880, 123.4000, 1123,     20.5,  -1.4748,  33.1350,2,   -999.0,9,    358.7,2,  -999.00,9,  -999.00,9,  -999.00,9,  -999.00,9,   -999.0,9,   -999.0,9,  -999.00,9,  -1.4752
  06AQ20070728,EurArc,   400,  9,     13,     13,2,20070922,1548, 77.3880, 123.4000, 1123,     25.6,  -1.3866,  33.5340,2,   -999.0,9,    336.2,2,  -999.00,9,  -999.00,9,  -999.00,9,  -999.00,9,   -999.0,9,   -999.0,9,  -999.00,9,  -1.3871
  06AQ20070728,EurArc,   400,  9,     12,     12,2,20070922,1548, 77.3880, 123.4000, 1123,     25.7,  -1.3864,  33.5360,2,   -999.0,9,    336.0,2,  -999.00,9,  -999.00,9,  -999.00,9,  -999.00,9,   -999.0,9,   -999.0,9,  -999.00,9,  -1.3869
  06AQ20070728,EurArc,   400,  9,     11,     11,2,20070922,1548, 77.3880, 123.4000, 1123,     25.9,  -1.3848,  33.5380,2,   -999.0,9,    335.4,2,  -999.00,9,  -999.00,9,  -999.00,9,  -999.00,9,   -999.0,9,   -999.0,9,  -999.00,9,  -1.3854
  06AQ20070728,EurArc,   400,  9,     10,     10,2,20070922,1548, 77.3880, 123.4000, 1123,     26.0,  -1.3832,  33.5380,2,   -999.0,9,    335.2,2,  -999.00,9,  -999.00,9,  -999.00,9,  -999.00,9,   -999.0,9,   -999.0,9,  -999.00,9,  -1.3838
  06AQ20070728,EurArc,   400,  9,      9,      9,2,20070922,1548, 77.3880, 123.4000, 1123,     51.2,  -1.2762,  34.2350,2,   -999.0,9,    314.5,2,  -999.00,9,  -999.00,9,  -999.00,9,  -999.00,9,   -999.0,9,   -999.0,9,  -999.00,9,  -1.2774
  06AQ20070728,EurArc,   400,  9,      8,      8,2,20070922,1548, 77.3880, 123.4000, 1123,     51.0,  -1.2886,  34.2350,2,   -999.0,9,    314.4,2,  -999.00,9,  -999.00,9,  -999.00,9,  -999.00,9,   -999.0,9,   -999.0,9,  -999.00,9,  -1.2898
  06AQ20070728,EurArc,   400,  9,      7,      7,2,20070922,1548, 77.3880, 123.4000, 1123,     51.1,  -1.2884,  34.2350,2,   -999.0,9,    314.4,2,  -999.00,9,  -999.00,9,  -999.00,9,  -999.00,9,   -999.0,9,   -999.0,9,  -999.00,9,  -1.2896
  06AQ20070728,EurArc,   400,  9,      6,      6,2,20070922,1548, 77.3880, 123.4000, 1123,     51.2,  -1.2803,  34.2340,2,   -999.0,9,    314.5,2,  -999.00,9,  -999.00,9,  -999.00,9,  -999.00,9,   -999.0,9,   -999.0,9,  -999.00,9,  -1.2815
  06AQ20070728,EurArc,   400,  9,      5,      5,2,20070922,1548, 77.3880, 123.4000, 1123,     77.3,  -1.4330,  34.3620,2,   -999.0,9,    321.5,2,  -999.00,9,  -999.00,9,  -999.00,9,  -999.00,9,   -999.0,9,   -999.0,9,  -999.00,9,  -1.4348
  06AQ20070728,EurArc,   400,  9,      4,      4,2,20070922,1548, 77.3880, 123.4000, 1123,     77.2,  -1.4333,  34.3620,2,   -999.0,9,    321.5,2,  -999.00,9,  -999.00,9,  -999.00,9,  -999.00,9,   -999.0,9,   -999.0,9,  -999.00,9,  -1.4351
  06AQ20070728,EurArc,   400,  9,      3,      3,2,20070922,1548, 77.3880, 123.4000, 1123,     77.1,  -1.4324,  34.3620,2,   -999.0,9,    321.6,2,  -999.00,9,  -999.00,9,  -999.00,9,  -999.00,9,   -999.0,9,   -999.0,9,  -999.00,9,  -1.4342
  06AQ20070728,EurArc,   400,  9,      2,      2,2,20070922,1548, 77.3880, 123.4000, 1123,     77.2,  -1.4323,  34.3620,2,   -999.0,9,    321.5,2,  -999.00,9,  -999.00,9,  -999.00,9,  -999.00,9,   -999.0,9,   -999.0,9,  -999.00,9,  -1.4341
  06AQ20070728,EurArc,   400,  9,      1,      1,2,20070922,1548, 77.3880, 123.4000, 1123,     77.4,  -1.4319,  34.3620,2,   -999.0,9,    321.5,2,  -999.00,9,  -999.00,9,  -999.00,9,  -999.00,9,   -999.0,9,   -999.0,9,  -999.00,9,  -1.4337