BOTTLE,20220921CCHSIOAMB
EXPOCODE,SECT_ID,STNNBR,CASTNO,SAMPNO,BTLNBR,BTLNBR_FLAG_W,DATE,TIME,LATITUDE,LONGITUDE,DEPTH,CTDPRS,CTDTMP,CTDSAL,CTDSAL_FLAG_W,CTDOXY,CTDOXY_FLAG_W,OXYGEN,OXYGEN_FLAG_W,SILCAT,SILCAT_FLAG_W,NITRAT,NITRAT_FLAG_W,NITRIT,NITRIT_FLAG_W,PHSPHT,PHSPHT_FLAG_W,TCARBN,TCARBN_FLAG_W,ALKALI,ALKALI_FLAG_W,DELO18,DELO18_FLAG_W,THETA
,,,,,,,,,,,METERS,DBAR,ITS-90,PSS-78,,UMOL/KG,,UMOL/KG,,UMOL/KG,,UMOL/KG,,UMOL/KG,,UMOL/KG,,UMOL/KG,,UMOL/KG,,/MILLE,,DEG C
  06AQ20070728,EurArc,   385,  8,     24,     24,2,20070920,1900, 79.3520, 124.3600, 3529,     10.7,  -1.2621,  31.6780,2,   -999.0,9,    364.6,2,  -999.00,9,  -999.00,9,  -999.00,9,  -999.00,9,   -999.0,9,   -999.0,9,  -999.00,9,  -1.2623
  06AQ20070728,EurArc,   385,  8,     23,     23,2,20070920,1900, 79.3520, 124.3600, 3529,     25.1,  -1.7162,  33.8480,2,   -999.0,9,    367.7,2,  -999.00,9,  -999.00,9,  -999.00,9,  -999.00,9,   -999.0,9,   -999.0,9,  -999.00,9,  -1.7167
  06AQ20070728,EurArc,   385,  8,     22,     22,2,20070920,1900, 79.3520, 124.3600, 3529,     25.1,  -1.7173,  33.8480,2,   -999.0,9,    367.7,2,  -999.00,9,  -999.00,9,  -999.00,9,  -999.00,9,   -999.0,9,   -999.0,9,  -999.00,9,  -1.7178
  06AQ20070728,EurArc,   385,  8,     21,     21,2,20070920,1900, 79.3520, 124.3600, 3529,     25.1,  -1.7148,  33.8430,2,   -999.0,9,    367.7,2,  -999.00,9,  -999.00,9,  -999.00,9,  -999.00,9,   -999.0,9,   -999.0,9,  -999.00,9,  -1.7153
  06AQ20070728,EurArc,   385,  8,     20,     20,2,20070920,1900, 79.3520, 124.3600, 3529,     25.0,  -1.7394,  33.8740,2,   -999.0,9,    368.1,2,  -999.00,9,  -999.00,9,  -999.00,9,  -999.00,9,   -999.0,9,   -999.0,9,  -999.00,9,  -1.7399
  06AQ20070728,EurArc,   385,  8,     19,     19,2,20070920,1900, 79.3520, 124.3600, 3529,     25.0,  -1.7394,  33.8750,2,   -999.0,9,    368.1,2,  -999.00,9,  -999.00,9,  -999.00,9,  -999.00,9,   -999.0,9,   -999.0,9,  -999.00,9,  -1.7399
  06AQ20070728,EurArc,   385,  8,     18,     18,2,20070920,1900, 79.3520, 124.3600, 3529,     41.0,  -1.7974,  33.9380,2,   -999.0,9,    350.9,2,     2.05,2,     4.63,2,     0.03,2,     0.42,2,   -999.0,9,   -999.0,9,  -999.00,9,  -1.7982
  06AQ20070728,EurArc,   385,  8,     17,     17,2,20070920,1900, 79.3520, 124.3600, 3529,     50.8,  -1.7730,  33.9850,2,   -999.0,9,    349.0,2,  -999.00,9,  -999.00,9,  -999.00,9,  -999.00,9,   -999.0,9,   -999.0,9,  -999.00,9,  -1.7740
  06AQ20070728,EurArc,   385,  8,     16,     16,2,20070920,1900, 79.3520, 124.3600, 3529,     50.8,  -1.7717,  33.9840,2,   -999.0,9,    349.0,2,  -999.00,9,  -999.00,9,  -999.00,9,  -999.00,9,   -999.0,9,   -999.0,9,  -999.00,9,  -1.7727
  06AQ20070728,EurArc,   385,  8,     15,     15,2,20070920,1900, 79.3520, 124.3600, 3529,     50.7,  -1.7747,  33.9790,2,   -999.0,9,    349.1,2,  -999.00,9,  -999.00,9,  -999.00,9,  -999.00,9,   -999.0,9,   -999.0,9,  -999.00,9,  -1.7757
  06AQ20070728,EurArc,   385,  8,     14,     14,2,20070920,1900, 79.3520, 124.3600, 3529,     50.9,  -1.7779,  33.9750,2,   -999.0,9,    349.0,2,  -999.00,9,  -999.00,9,  -999.00,9,  -999.00,9,   -999.0,9,   -999.0,9,  -999.00,9,  -1.7789
  06AQ20070728,EurArc,   385,  8,     13,     13,2,20070920,1900, 79.3520, 124.3600, 3529,     50.7,  -1.7523,  34.0170,2,   -999.0,9,    349.1,2,  -999.00,9,  -999.00,9,  -999.00,9,  -999.00,9,   -999.0,9,   -999.0,9,  -999.00,9,  -1.7533
  06AQ20070728,EurArc,   385,  8,     12,     12,2,20070920,1900, 79.3520, 124.3600, 3529,     61.0,  -1.6979,  34.0890,2,   -999.0,9,    342.0,2,     2.31,2,     5.97,2,     0.02,2,     0.49,2,   -999.0,9,   -999.0,9,  -999.00,9,  -1.6991
  06AQ20070728,EurArc,   385,  8,     11,     11,2,20070920,1900, 79.3520, 124.3600, 3529,     76.1,  -1.4294,  34.2040,2,   -999.0,9,    330.0,2,  -999.00,9,  -999.00,9,  -999.00,9,  -999.00,9,   -999.0,9,   -999.0,9,  -999.00,9,  -1.4311
  06AQ20070728,EurArc,   385,  8,     10,     10,2,20070920,1900, 79.3520, 124.3600, 3529,     76.2,  -1.4102,  34.2130,2,   -999.0,9,    330.0,2,  -999.00,9,  -999.00,9,  -999.00,9,  -999.00,9,   -999.0,9,   -999.0,9,  -999.00,9,  -1.4119
  06AQ20070728,EurArc,   385,  8,      9,      9,2,20070920,1900, 79.3520, 124.3600, 3529,     76.1,  -1.5088,  34.1860,2,   -999.0,9,    330.0,2,  -999.00,9,  -999.00,9,  -999.00,9,  -999.00,9,   -999.0,9,   -999.0,9,  -999.00,9,  -1.5105
  06AQ20070728,EurArc,   385,  8,      8,      8,2,20070920,1900, 79.3520, 124.3600, 3529,     76.2,  -1.4210,  34.2120,2,   -999.0,9,    330.0,2,  -999.00,9,  -999.00,9,  -999.00,9,  -999.00,9,   -999.0,9,   -999.0,9,  -999.00,9,  -1.4227
  06AQ20070728,EurArc,   385,  8,      7,      7,2,20070920,1900, 79.3520, 124.3600, 3529,     76.0,  -1.3741,  34.2170,2,   -999.0,9,    330.0,2,     2.86,2,     7.61,2,     0.02,2,     0.58,2,   -999.0,9,   -999.0,9,  -999.00,9,  -1.3759
  06AQ20070728,EurArc,   385,  8,      6,      6,2,20070920,1900, 79.3520, 124.3600, 3529,    100.8,  -0.5788,  34.3770,2,   -999.0,9,    317.3,2,  -999.00,9,  -999.00,9,  -999.00,9,  -999.00,9,   -999.0,9,   -999.0,9,  -999.00,9,  -0.5819
  06AQ20070728,EurArc,   385,  8,      5,      5,2,20070920,1900, 79.3520, 124.3600, 3529,    100.9,  -0.5849,  34.3780,2,   -999.0,9,    317.3,2,  -999.00,9,  -999.00,9,  -999.00,9,  -999.00,9,   -999.0,9,   -999.0,9,  -999.00,9,  -0.5880
  06AQ20070728,EurArc,   385,  8,      4,      4,2,20070920,1900, 79.3520, 124.3600, 3529,    101.0,  -0.5444,  34.3790,2,   -999.0,9,    317.3,2,  -999.00,9,  -999.00,9,  -999.00,9,  -999.00,9,   -999.0,9,   -999.0,9,  -999.00,9,  -0.5475
  06AQ20070728,EurArc,   385,  8,      3,      3,2,20070920,1900, 79.3520, 124.3600, 3529,    100.8,  -0.5781,  34.3630,2,   -999.0,9,    317.3,2,  -999.00,9,  -999.00,9,  -999.00,9,  -999.00,9,   -999.0,9,   -999.0,9,  -999.00,9,  -0.5812
  06AQ20070728,EurArc,   385,  8,      2,      2,2,20070920,1900, 79.3520, 124.3600, 3529,    100.7,  -0.5735,  34.3730,2,   -999.0,9,    317.3,2,  -999.00,9,  -999.00,9,  -999.00,9,  -999.00,9,   -999.0,9,   -999.0,9,  -999.00,9,  -0.5766
  06AQ20070728,EurArc,   385,  8,      1,      1,2,20070920,1900, 79.3520, 124.3600, 3529,    101.0,  -0.5621,  34.3750,2,   -999.0,9,    317.3,2,  -999.00,9,  -999.00,9,  -999.00,9,  -999.00,9,   -999.0,9,   -999.0,9,  -999.00,9,  -0.5652
  06AQ20070728,EurArc,   386,  1,     21,     21,2,20070920,2320, 78.9390, 124.5500, 2998,      2.7,  -1.3244,  30.6740,2,    359.1,2,    372.2,2,     1.45,2,     0.04,2,     0.01,2,     0.13,2,   -999.0,9,   -999.0,9,    -1.23,2,  -1.3244
  06AQ20070728,EurArc,   386,  1,     20,     20,2,20070920,2320, 78.9390, 124.5500, 2998,     10.0,  -1.3339,  30.7320,2,    358.4,2,    371.6,2,     1.42,2,     0.44,2,     0.04,2,     0.16,2,   -999.0,9,   -999.0,9,    -1.08,2,  -1.3341
  06AQ20070728,EurArc,   386,  1,     19,     19,2,20070920,2320, 78.9390, 124.5500, 2998,     25.0,  -1.6762,  33.8550,2,    344.5,2,    365.0,2,     2.12,2,     3.43,2,     0.20,2,     0.38,2,   -999.0,9,   -999.0,9,  -999.00,9,  -1.6767
  06AQ20070728,EurArc,   386,  1,     18,     18,2,20070920,2320, 78.9390, 124.5500, 2998,     49.9,  -1.7862,  34.0350,2,    331.9,2,    348.0,2,     1.96,2,     5.19,2,     0.02,2,     0.45,2,   -999.0,9,   -999.0,9,    -0.62,2,  -1.7871
  06AQ20070728,EurArc,   386,  1,     17,     17,2,20070920,2320, 78.9390, 124.5500, 2998,     75.8,  -1.4799,  34.2620,2,    314.1,2,    333.6,2,     2.89,2,     7.54,2,     0.02,2,     0.58,2,   -999.0,9,   -999.0,9,    -0.30,2,  -1.4816
  06AQ20070728,EurArc,   386,  1,     16,     16,2,20070920,2320, 78.9390, 124.5500, 2998,    101.1,  -0.2483,  34.4340,2,    302.2,2,    319.3,2,     3.50,2,     8.79,2,     0.02,2,     0.66,2,   -999.0,9,   -999.0,9,    -0.25,2,  -0.2517
  06AQ20070728,EurArc,   386,  1,     15,     15,2,20070920,2320, 78.9390, 124.5500, 2998,    126.3,   0.8738,  34.6320,2,    292.7,2,    307.8,2,     4.14,2,    10.23,2,     0.02,2,     0.74,2,   -999.0,9,   -999.0,9,    -0.01,2,   0.8683
  06AQ20070728,EurArc,   386,  1,     14,     14,2,20070920,2320, 78.9390, 124.5500, 2998,    151.7,   1.7942,  34.8200,2,    287.0,2,    300.9,2,     4.39,2,    11.23,2,     0.02,2,     0.79,2,   -999.0,9,   -999.0,9,     0.08,2,   1.7863
  06AQ20070728,EurArc,   386,  1,     13,     13,2,20070920,2320, 78.9390, 124.5500, 2998,    177.2,   1.9273,  34.8500,2,   -999.0,9,    299.8,2,     4.58,2,    11.36,2,     0.01,2,     0.79,2,   -999.0,9,   -999.0,9,  -999.00,9,   1.9179
  06AQ20070728,EurArc,   386,  1,     12,     12,2,20070920,2320, 78.9390, 124.5500, 2998,    202.8,   2.1359,  34.9000,2,   -999.0,9,    299.9,2,     4.77,2,    11.60,2,     0.01,2,     0.81,2,   -999.0,9,   -999.0,9,  -999.00,9,   2.1247
  06AQ20070728,EurArc,   386,  1,     11,     11,2,20070920,2320, 78.9390, 124.5500, 2998,    253.4,   2.0781,  34.9170,2,   -999.0,9,    299.9,2,     4.99,2,    11.78,2,     0.01,2,     0.82,2,   -999.0,9,   -999.0,9,  -999.00,9,   2.0641
  06AQ20070728,EurArc,   386,  1,     10,     10,2,20070920,2320, 78.9390, 124.5500, 2998,    303.6,   1.8698,  34.9130,2,   -999.0,9,    301.2,2,     5.18,2,    11.86,2,     0.01,2,     0.83,2,   -999.0,9,   -999.0,9,  -999.00,9,   1.8534
  06AQ20070728,EurArc,   386,  1,      9,      9,2,20070920,2320, 78.9390, 124.5500, 2998,    506.5,   1.1344,  34.9160,2,   -999.0,9,    304.5,2,     5.70,2,    12.08,2,     0.01,2,     0.85,2,   -999.0,9,   -999.0,9,  -999.00,9,   1.1093
  06AQ20070728,EurArc,   386,  1,      8,      8,2,20070920,2320, 78.9390, 124.5500, 2998,    759.3,   0.1634,  34.9040,2,   -999.0,9,    306.2,2,     6.73,2,    12.59,2,     0.01,2,     0.89,2,   -999.0,9,   -999.0,9,  -999.00,9,   0.1301
  06AQ20070728,EurArc,   386,  1,      7,      7,2,20070920,2320, 78.9390, 124.5500, 2998,   1013.4,  -0.3100,  34.9020,2,   -999.0,9,    306.5,2,     7.69,2,    12.94,2,     0.01,2,     0.91,2,   -999.0,9,   -999.0,9,  -999.00,9,  -0.3528
  06AQ20070728,EurArc,   386,  1,      6,      6,2,20070920,2320, 78.9390, 124.5500, 2998,   1267.4,  -0.5171,  34.9090,2,   -999.0,9,    302.0,2,     9.00,2,    13.67,2,     0.01,2,     0.96,2,   -999.0,9,   -999.0,9,  -999.00,9,  -0.5714
  06AQ20070728,EurArc,   386,  1,      5,      5,2,20070920,2320, 78.9390, 124.5500, 2998,   1522.2,  -0.6434,  34.9130,2,   -999.0,9,    299.4,2,    10.04,2,    14.18,2,     0.01,2,     0.99,2,   -999.0,9,   -999.0,9,  -999.00,9,  -0.7105
  06AQ20070728,EurArc,   386,  1,      4,      4,2,20070920,2320, 78.9390, 124.5500, 2998,   2031.1,  -0.7559,  34.9190,2,   -999.0,9,    298.7,2,    10.04,2,    14.30,2,     0.01,2,     0.99,2,   -999.0,9,   -999.0,9,  -999.00,9,  -0.8526
  06AQ20070728,EurArc,   386,  1,      3,      3,2,20070920,2320, 78.9390, 124.5500, 2998,   2031.3,  -0.7563,  34.9190,2,   -999.0,9,    298.7,2,    10.66,2,    14.46,2,     0.01,2,     1.00,2,   -999.0,9,   -999.0,9,  -999.00,9,  -0.8530
  06AQ20070728,EurArc,   386,  1,      2,      2,2,20070920,2320, 78.9390, 124.5500, 2998,   2541.9,  -0.7826,  34.9280,2,   -999.0,9,    298.6,2,    10.88,2,    14.49,2,     0.01,2,     1.00,2,   -999.0,9,   -999.0,9,  -999.00,9,  -0.9143
  06AQ20070728,EurArc,   386,  1,      1,      1,2,20070920,2320, 78.9390, 124.5500, 2998,   3045.4,  -0.7474,  34.9380,2,   -999.0,9,    295.3,2,    11.38,2,    14.54,2,     0.01,2,     1.01,2,   -999.0,9,   -999.0,9,  -999.00,9,  -0.9190
  06AQ20070728,EurArc,   387,  1,     23,     23,2,20070921,0317, 78.6380, 124.6100, 2808,      2.4,  -0.7555,  30.9650,2,    354.6,2,    365.9,2,     1.47,2,     0.06,2,     0.02,2,     0.14,2,   -999.0,9,   -999.0,9,    -1.21,2,  -0.7556
  06AQ20070728,EurArc,   387,  1,     22,     22,2,20070921,0317, 78.6380, 124.6100, 2808,     10.2,  -0.9216,  31.6290,2,    358.4,2,    365.8,2,     2.41,2,     1.06,2,     0.08,2,     0.25,2,   -999.0,9,   -999.0,9,    -1.23,2,  -0.9218
  06AQ20070728,EurArc,   387,  1,     21,     21,2,20070921,0317, 78.6380, 124.6100, 2808,     24.9,  -1.6960,  33.6110,2,    338.2,2,    361.4,2,  -999.00,9,  -999.00,9,  -999.00,9,  -999.00,9,   -999.0,9,   -999.0,9,  -999.00,9,  -1.6965
  06AQ20070728,EurArc,   387,  1,     20,     20,2,20070921,0317, 78.6380, 124.6100, 2808,     24.5,  -1.6915,  33.5990,2,    337.9,2,    362.8,2,  -999.00,9,  -999.00,9,  -999.00,9,  -999.00,9,   -999.0,9,   -999.0,9,  -999.00,9,  -1.6920
  06AQ20070728,EurArc,   387,  1,     19,     19,2,20070921,0317, 78.6380, 124.6100, 2808,     24.7,  -1.6917,  33.5900,2,    338.0,2,    362.1,2,     3.49,2,     4.37,2,     0.08,2,     0.45,2,   -999.0,9,   -999.0,9,    -0.88,2,  -1.6922
  06AQ20070728,EurArc,   387,  1,     18,     18,2,20070921,0317, 78.6380, 124.6100, 2808,     50.6,  -1.8082,  34.0720,2,    329.3,2,    346.6,2,     1.91,2,     5.22,2,     0.02,2,     0.45,2,   -999.0,9,   -999.0,9,    -0.43,2,  -1.8092
  06AQ20070728,EurArc,   387,  1,     17,     17,2,20070921,0317, 78.6380, 124.6100, 2808,     75.7,  -1.6236,  34.2070,2,    318.2,2,    334.4,2,     2.60,2,     6.78,2,     0.02,2,     0.54,2,   -999.0,9,   -999.0,9,    -0.24,2,  -1.6252
  06AQ20070728,EurArc,   387,  1,     16,     16,2,20070921,0317, 78.6380, 124.6100, 2808,    100.9,  -0.9356,  34.3820,2,    311.0,2,    326.1,2,     3.27,2,     8.28,2,     0.02,2,     0.62,2,   -999.0,9,   -999.0,9,    -0.18,2,  -0.9384
  06AQ20070728,EurArc,   387,  1,     15,     15,2,20070921,0317, 78.6380, 124.6100, 2808,    126.1,   0.2458,  34.5680,2,    299.1,2,    313.1,2,     3.63,2,     9.67,2,     0.02,2,     0.69,2,   -999.0,9,   -999.0,9,     0.10,2,   0.2410
  06AQ20070728,EurArc,   387,  1,     14,     14,2,20070921,0317, 78.6380, 124.6100, 2808,    152.3,   1.5398,  34.7720,2,    290.3,2,    302.9,2,     4.09,2,    11.04,2,     0.02,2,     0.76,2,   -999.0,9,   -999.0,9,     0.08,2,   1.5322
  06AQ20070728,EurArc,   387,  1,     13,     13,2,20070921,0317, 78.6380, 124.6100, 2808,    177.1,   1.9832,  34.8530,2,   -999.0,9,    301.3,2,     4.39,2,    11.53,2,     0.02,2,     0.78,2,   -999.0,9,   -999.0,9,  -999.00,9,   1.9737
  06AQ20070728,EurArc,   387,  1,     12,     12,2,20070921,0317, 78.6380, 124.6100, 2808,    202.0,   1.9613,  34.8550,2,   -999.0,9,    302.2,2,     4.42,2,    11.50,2,     0.01,2,     0.79,2,   -999.0,9,   -999.0,9,  -999.00,9,   1.9504
  06AQ20070728,EurArc,   387,  1,     11,     11,2,20070921,0317, 78.6380, 124.6100, 2808,    252.9,   2.0640,  34.8940,2,   -999.0,9,    301.5,2,     4.67,2,    11.83,2,     0.02,2,     0.80,2,   -999.0,9,   -999.0,9,  -999.00,9,   2.0501
  06AQ20070728,EurArc,   387,  1,     10,     10,2,20070921,0317, 78.6380, 124.6100, 2808,    302.7,   2.1116,  34.9300,2,   -999.0,9,    301.2,2,     5.09,2,    12.34,2,     0.01,2,     0.83,2,   -999.0,9,   -999.0,9,  -999.00,9,   2.0947
  06AQ20070728,EurArc,   387,  1,      9,      9,2,20070921,0317, 78.6380, 124.6100, 2808,    506.1,   1.1648,  34.9190,2,   -999.0,9,    304.8,2,     5.64,2,    12.42,2,     0.02,2,     0.85,2,   -999.0,9,   -999.0,9,  -999.00,9,   1.1395
  06AQ20070728,EurArc,   387,  1,      8,      8,2,20070921,0317, 78.6380, 124.6100, 2808,    759.4,   0.1297,  34.8940,2,   -999.0,9,    310.9,2,     6.04,2,    12.27,2,     0.02,2,     0.85,2,   -999.0,9,   -999.0,9,  -999.00,9,   0.0966
  06AQ20070728,EurArc,   387,  1,      7,      7,2,20070921,0317, 78.6380, 124.6100, 2808,   1013.5,  -0.2542,  34.8930,2,   -999.0,9,    313.5,2,     6.31,2,    12.17,2,     0.02,2,     0.85,2,   -999.0,9,   -999.0,9,  -999.00,9,  -0.2974
  06AQ20070728,EurArc,   387,  1,      6,      6,2,20070921,0317, 78.6380, 124.6100, 2808,   1267.0,  -0.4179,  34.9050,2,   -999.0,9,    308.7,2,     7.51,2,    12.95,2,     0.02,2,     0.90,2,   -999.0,9,   -999.0,9,  -999.00,9,  -0.4731
  06AQ20070728,EurArc,   387,  1,      5,      5,2,20070921,0317, 78.6380, 124.6100, 2808,   1522.1,  -0.5816,  34.9100,2,   -999.0,9,    304.2,2,     9.47,2,    14.09,2,     0.02,2,     0.97,2,   -999.0,9,   -999.0,9,  -999.00,9,  -0.6494
  06AQ20070728,EurArc,   387,  1,      4,      4,2,20070921,0317, 78.6380, 124.6100, 2808,   2030.7,  -0.7224,  34.9180,2,   -999.0,9,    298.6,2,    10.61,2,    14.70,2,     0.02,2,     0.99,2,   -999.0,9,   -999.0,9,  -999.00,9,  -0.8196
  06AQ20070728,EurArc,   387,  1,      3,      3,2,20070921,0317, 78.6380, 124.6100, 2808,   2030.1,  -0.7233,  34.9180,2,   -999.0,9,    298.6,2,    10.59,2,    14.66,2,     0.02,2,     1.00,2,   -999.0,9,   -999.0,9,  -999.00,9,  -0.8205
  06AQ20070728,EurArc,   387,  1,      2,      2,2,20070921,0317, 78.6380, 124.6100, 2808,   2542.5,  -0.7674,  34.9260,2,   -999.0,9,    298.3,2,    10.93,2,    14.79,2,     0.02,2,     1.00,2,   -999.0,9,   -999.0,9,  -999.00,9,  -0.8995
  06AQ20070728,EurArc,   387,  1,      1,      1,2,20070921,0317, 78.6380, 124.6100, 2808,   2850.1,  -0.7593,  34.9370,2,   -999.0,9,    294.7,2,    11.54,2,    14.85,2,     0.03,2,     1.01,2,   -999.0,9,   -999.0,9,  -999.00,9,  -0.9150