BOTTLE,20220921CCHSIOAMB
EXPOCODE,SECT_ID,STNNBR,CASTNO,SAMPNO,BTLNBR,BTLNBR_FLAG_W,DATE,TIME,LATITUDE,LONGITUDE,DEPTH,CTDPRS,CTDTMP,CTDSAL,CTDSAL_FLAG_W,CTDOXY,CTDOXY_FLAG_W,OXYGEN,OXYGEN_FLAG_W,SILCAT,SILCAT_FLAG_W,NITRAT,NITRAT_FLAG_W,NITRIT,NITRIT_FLAG_W,PHSPHT,PHSPHT_FLAG_W,TCARBN,TCARBN_FLAG_W,ALKALI,ALKALI_FLAG_W,DELO18,DELO18_FLAG_W,THETA
,,,,,,,,,,,METERS,DBAR,ITS-90,PSS-78,,UMOL/KG,,UMOL/KG,,UMOL/KG,,UMOL/KG,,UMOL/KG,,UMOL/KG,,UMOL/KG,,UMOL/KG,,/MILLE,,DEG C
  06AQ20070728,EurArc,   233,  1,      1,      1,2,20070730,2222, 76.2610,  34.0010,  299,    293.1,   1.4551,  35.0640,2,   -999.0,9,    312.4,2,     7.05,2,     9.88,2,     0.31,2,     0.87,2,   -999.0,9,   -999.0,9,  -999.00,9,   1.4402
  06AQ20070728,EurArc,   233,  1,      2,      2,2,20070730,2222, 76.2610,  34.0010,  299,    283.0,   1.4598,  35.0630,2,   -999.0,9,    313.4,2,  -999.00,9,  -999.00,9,  -999.00,9,  -999.00,9,   -999.0,9,   -999.0,9,  -999.00,9,   1.4455
  06AQ20070728,EurArc,   233,  1,      3,      3,2,20070730,2222, 76.2610,  34.0010,  299,    252.9,   1.7203,  35.0680,2,   -999.0,9,    318.3,2,     5.06,2,    10.09,2,     0.30,2,     0.79,2,   -999.0,9,   -999.0,9,  -999.00,9,   1.7070
  06AQ20070728,EurArc,   233,  1,      4,      4,2,20070730,2222, 76.2610,  34.0010,  299,    202.8,   2.2413,  35.0720,2,   -999.0,9,    316.6,2,     4.57,2,    10.73,2,     0.31,2,     0.78,2,   -999.0,9,   -999.0,9,  -999.00,9,   2.2299
  06AQ20070728,EurArc,   233,  1,      5,      5,2,20070730,2222, 76.2610,  34.0010,  299,    176.8,   2.2661,  35.0600,2,   -999.0,9,    315.3,2,     4.61,2,    10.83,2,     0.25,2,     0.78,2,   -999.0,9,   -999.0,9,  -999.00,9,   2.2561
  06AQ20070728,EurArc,   233,  1,      6,      6,2,20070730,2222, 76.2610,  34.0010,  299,    151.8,   2.2726,  35.0500,2,   -999.0,9,    314.6,2,     4.68,2,    11.09,2,     0.22,2,     0.79,2,   -999.0,9,   -999.0,9,  -999.00,9,   2.2641
  06AQ20070728,EurArc,   233,  1,      7,      7,2,20070730,2222, 76.2610,  34.0010,  299,    100.8,   2.3057,  35.0360,2,   -999.0,9,    311.0,2,     4.16,2,    10.01,2,     0.29,2,     0.80,2,   -999.0,9,   -999.0,9,  -999.00,9,   2.3001
  06AQ20070728,EurArc,   233,  1,      8,      8,2,20070730,2222, 76.2610,  34.0010,  299,     75.9,   2.5512,  35.0430,2,   -999.0,9,    311.0,2,     3.77,2,     8.89,2,     0.28,2,     0.82,2,   -999.0,9,   -999.0,9,  -999.00,9,   2.5468
  06AQ20070728,EurArc,   233,  1,      9,      9,2,20070730,2222, 76.2610,  34.0010,  299,     50.4,   2.9743,  35.0650,2,   -999.0,9,    327.6,2,     2.15,2,     4.88,2,     0.17,2,     0.60,2,   -999.0,9,   -999.0,9,  -999.00,9,   2.9712
  06AQ20070728,EurArc,   233,  1,     10,     10,2,20070730,2222, 76.2610,  34.0010,  299,     25.6,   3.6574,  34.9440,2,   -999.0,9,    340.2,2,     1.02,2,     0.51,2,     0.04,2,     0.18,2,   -999.0,9,   -999.0,9,  -999.00,9,   3.6557
  06AQ20070728,EurArc,   233,  1,     11,     11,2,20070730,2222, 76.2610,  34.0010,  299,      9.4,   4.4525,  34.8710,2,   -999.0,9,    330.1,2,     1.04,2,    -0.02,2,     0.02,2,     0.09,2,   -999.0,9,   -999.0,9,  -999.00,9,   4.4518
  06AQ20070728,EurArc,   233,  1,     12,     12,2,20070730,2222, 76.2610,  34.0010,  299,      3.4,   4.4837,  34.8710,2,   -999.0,9,    330.4,2,     1.04,2,  -999.00,9,     0.02,2,     0.09,2,   -999.0,9,   -999.0,9,  -999.00,9,   4.4835
  06AQ20070728,EurArc,   234,  1,      1,      1,2,20070731,0031, 76.5030,  34.0010,  200,    194.8,   1.7530,  35.0510,2,   -999.0,9,    306.2,2,     6.65,2,    10.67,2,     0.27,2,     0.86,2,   -999.0,9,   -999.0,9,  -999.00,9,   1.7428
  06AQ20070728,EurArc,   234,  1,      2,      2,2,20070731,0031, 76.5030,  34.0010,  200,    184.4,   1.6855,  35.0260,2,   -999.0,9,    298.0,2,     6.84,2,    10.92,2,     0.25,2,     0.86,2,   -999.0,9,   -999.0,9,  -999.00,9,   1.6760
  06AQ20070728,EurArc,   234,  1,      3,      3,2,20070731,0031, 76.5030,  34.0010,  200,    176.7,   1.6926,  35.0100,2,   -999.0,9,    295.2,2,     7.31,2,    11.49,2,     0.19,2,     0.88,2,   -999.0,9,   -999.0,9,  -999.00,9,   1.6835
  06AQ20070728,EurArc,   234,  1,      4,      4,2,20070731,0031, 76.5030,  34.0010,  200,    152.1,   1.7129,  34.9900,2,    287.7,2,    301.1,2,     6.00,2,    12.01,2,     0.10,2,     0.85,2,   -999.0,9,   -999.0,9,     0.17,2,   1.7051
  06AQ20070728,EurArc,   234,  1,      5,      5,2,20070731,0031, 76.5030,  34.0010,  200,    126.4,   0.9910,  34.8860,2,    289.7,2,    298.2,2,     5.70,2,    11.80,2,     0.11,2,     0.84,2,   -999.0,9,   -999.0,9,  -999.00,9,   0.9853
  06AQ20070728,EurArc,   234,  1,      6,      6,2,20070731,0031, 76.5030,  34.0010,  200,    101.9,   0.3713,  34.8120,2,    288.4,2,    301.5,2,     5.78,2,    11.89,2,     0.10,2,     0.85,2,   -999.0,9,   -999.0,9,     0.17,2,   0.3673
  06AQ20070728,EurArc,   234,  1,      7,      7,2,20070731,0031, 76.5030,  34.0010,  200,     76.3,  -0.2816,  34.7210,2,    299.8,2,    314.6,2,     3.82,2,     9.34,2,     0.22,2,     0.75,2,   -999.0,9,   -999.0,9,     0.16,2,  -0.2842
  06AQ20070728,EurArc,   234,  1,      8,      8,2,20070731,0031, 76.5030,  34.0010,  200,     50.2,  -0.7580,  34.6370,2,    320.6,2,    340.5,2,     2.15,2,     6.00,2,     0.24,2,     0.60,2,   -999.0,9,   -999.0,9,  -999.00,9,  -0.7595
  06AQ20070728,EurArc,   234,  1,      9,      9,2,20070731,0031, 76.5030,  34.0010,  200,     25.0,   3.7713,  34.7490,2,    328.5,2,    335.9,2,     1.06,2,     0.01,2,     0.02,2,     0.10,2,   -999.0,9,   -999.0,9,     0.25,2,   3.7696
  06AQ20070728,EurArc,   234,  1,     10,     10,2,20070731,0031, 76.5030,  34.0010,  200,     10.8,   4.3956,  34.7420,2,    322.1,2,    327.6,2,     1.17,2,  -999.00,9,     0.02,2,     0.09,2,   -999.0,9,   -999.0,9,  -999.00,9,   4.3948
  06AQ20070728,EurArc,   234,  1,     11,     11,2,20070731,0031, 76.5030,  34.0010,  200,      2.8,   4.3285,  34.7440,2,    322.5,2,    327.6,2,     1.18,2,  -999.00,9,     0.02,2,     0.10,2,   -999.0,9,   -999.0,9,     0.15,2,   4.3283
  06AQ20070728,EurArc,   235,  1,      1,      1,2,20070731,0402, 76.9990,  34.0050,  152,    146.7,   1.1894,  34.9220,2,   -999.0,9,    298.3,2,     6.71,2,    12.31,2,     0.06,2,     0.86,2,   -999.0,9,   -999.0,9,  -999.00,9,   1.1825
  06AQ20070728,EurArc,   235,  1,      2,      2,2,20070731,0402, 76.9990,  34.0050,  152,    136.9,   1.1747,  34.9200,2,   -999.0,9,    298.8,2,     6.69,2,    12.28,2,     0.06,2,     0.86,2,   -999.0,9,   -999.0,9,  -999.00,9,   1.1683
  06AQ20070728,EurArc,   235,  1,      3,      3,2,20070731,0402, 76.9990,  34.0050,  152,    126.3,   1.1553,  34.9160,2,   -999.0,9,    299.1,2,     6.63,2,    12.31,2,     0.06,2,     0.85,2,   -999.0,9,   -999.0,9,  -999.00,9,   1.1494
  06AQ20070728,EurArc,   235,  1,      4,      4,2,20070731,0402, 76.9990,  34.0050,  152,    101.4,   1.1511,  34.9040,2,   -999.0,9,    304.2,2,     4.25,2,    10.32,2,     0.17,2,     0.79,2,   -999.0,9,   -999.0,9,  -999.00,9,   1.1464
  06AQ20070728,EurArc,   235,  1,      5,      5,2,20070731,0402, 76.9990,  34.0050,  152,     75.9,  -0.4901,  34.7230,2,   -999.0,9,    313.1,2,     4.16,2,    10.20,2,     0.17,2,     0.79,2,   -999.0,9,   -999.0,9,  -999.00,9,  -0.4925
  06AQ20070728,EurArc,   235,  1,      6,      6,2,20070731,0402, 76.9990,  34.0050,  152,     50.9,  -1.1247,  34.5920,2,   -999.0,9,    359.5,2,     2.12,2,     6.46,2,     0.15,2,     0.66,2,   -999.0,9,   -999.0,9,  -999.00,9,  -1.1260
  06AQ20070728,EurArc,   235,  1,      7,      7,2,20070731,0402, 76.9990,  34.0050,  152,     25.6,   1.6687,  34.4380,2,   -999.0,9,    343.3,2,     0.57,2,     0.21,2,     0.03,2,     0.15,2,   -999.0,9,   -999.0,9,  -999.00,9,   1.6674
  06AQ20070728,EurArc,   235,  1,      8,      8,2,20070731,0402, 76.9990,  34.0050,  152,     10.4,   2.5747,  34.3720,2,   -999.0,9,    345.9,2,     0.46,2,  -999.00,9,     0.02,2,     0.07,2,   -999.0,9,   -999.0,9,  -999.00,9,   2.5741
  06AQ20070728,EurArc,   235,  1,      9,      9,2,20070731,0402, 76.9990,  34.0050,  152,      2.4,   2.6499,  34.3730,2,   -999.0,9,    344.9,2,     0.46,2,  -999.00,9,     0.02,2,     0.07,2,   -999.0,9,   -999.0,9,  -999.00,9,   2.6498
  06AQ20070728,EurArc,   236,  1,      1,      1,2,20070731,0736, 77.4970,  34.0000,  192,    152.2,   1.6797,  34.9760,2,   -999.0,9,   -999.0,9,     5.69,2,    11.78,2,     0.04,2,     0.82,2,   -999.0,9,   -999.0,9,  -999.00,9,   1.6719
  06AQ20070728,EurArc,   236,  1,      2,      2,2,20070731,0736, 77.4970,  34.0000,  192,    152.2,   1.6790,  34.9770,2,   -999.0,9,   -999.0,9,     5.74,2,    11.84,2,     0.04,2,     0.82,2,   -999.0,9,   -999.0,9,  -999.00,9,   1.6712
  06AQ20070728,EurArc,   236,  1,      3,      3,2,20070731,0736, 77.4970,  34.0000,  192,    152.5,   1.6794,  34.9770,2,   -999.0,9,    301.2,2,     5.66,2,    11.63,2,     0.04,2,     0.81,2,   -999.0,9,   -999.0,9,     0.19,2,   1.6716
  06AQ20070728,EurArc,   236,  1,      4,      4,2,20070731,0736, 77.4970,  34.0000,  192,    126.9,   1.1927,  34.8830,2,   -999.0,9,   -999.0,9,  -999.00,9,  -999.00,9,  -999.00,9,  -999.00,9,   -999.0,9,   -999.0,9,  -999.00,9,   1.1868
  06AQ20070728,EurArc,   236,  1,      5,      5,2,20070731,0736, 77.4970,  34.0000,  192,    126.9,   1.1942,  34.8820,2,   -999.0,9,    293.7,2,  -999.00,9,  -999.00,9,  -999.00,9,  -999.00,9,   -999.0,9,   -999.0,9,  -999.00,9,   1.1883
  06AQ20070728,EurArc,   236,  1,      6,      6,2,20070731,0736, 77.4970,  34.0000,  192,    127.0,   1.1487,  34.8810,2,   -999.0,9,   -999.0,9,     4.85,2,    11.37,2,     0.06,2,     0.80,2,   -999.0,9,   -999.0,9,  -999.00,9,   1.1428
  06AQ20070728,EurArc,   236,  1,      7,      7,2,20070731,0736, 77.4970,  34.0000,  192,    101.4,   0.3147,  34.7320,2,   -999.0,9,   -999.0,9,     4.19,2,    11.03,2,     0.14,2,     0.78,2,   -999.0,9,   -999.0,9,  -999.00,9,   0.3108
  06AQ20070728,EurArc,   236,  1,      8,      8,2,20070731,0736, 77.4970,  34.0000,  192,    101.5,   0.3325,  34.7340,2,   -999.0,9,    285.8,2,     4.07,2,    10.76,2,     0.16,2,     0.78,2,   -999.0,9,   -999.0,9,     0.18,2,   0.3285
  06AQ20070728,EurArc,   236,  1,      9,      9,2,20070731,0736, 77.4970,  34.0000,  192,    101.5,   0.3236,  34.7330,2,   -999.0,9,   -999.0,9,     4.05,2,    10.73,2,     0.16,2,     0.78,2,   -999.0,9,   -999.0,9,  -999.00,9,   0.3196
  06AQ20070728,EurArc,   236,  1,     10,     10,2,20070731,0736, 77.4970,  34.0000,  192,     75.7,  -1.4798,  34.5730,2,   -999.0,9,   -999.0,9,     3.06,2,     8.32,2,     0.12,2,     0.65,2,   -999.0,9,   -999.0,9,  -999.00,9,  -1.4815
  06AQ20070728,EurArc,   236,  1,     11,     11,2,20070731,0736, 77.4970,  34.0000,  192,     75.8,  -1.4731,  34.5650,2,   -999.0,9,    308.3,2,     3.01,2,     8.24,2,     0.13,2,     0.64,2,   -999.0,9,   -999.0,9,     0.18,2,  -1.4748
  06AQ20070728,EurArc,   236,  1,     12,     12,2,20070731,0736, 77.4970,  34.0000,  192,     75.7,  -1.4653,  34.5640,2,   -999.0,9,   -999.0,9,     3.00,2,     8.20,2,     0.13,2,     0.64,2,   -999.0,9,   -999.0,9,  -999.00,9,  -1.4670
  06AQ20070728,EurArc,   236,  1,     13,     13,2,20070731,0736, 77.4970,  34.0000,  192,     51.1,  -1.5700,  34.5180,2,   -999.0,9,   -999.0,9,     2.53,2,     7.53,2,     0.38,2,     0.64,2,   -999.0,9,   -999.0,9,  -999.00,9,  -1.5711
  06AQ20070728,EurArc,   236,  1,     14,     14,2,20070731,0736, 77.4970,  34.0000,  192,     51.3,  -1.5627,  34.5170,2,   -999.0,9,    318.8,2,     2.11,2,     6.71,2,     0.35,2,     0.60,2,   -999.0,9,   -999.0,9,     0.06,2,  -1.5638
  06AQ20070728,EurArc,   236,  1,     15,     15,2,20070731,0736, 77.4970,  34.0000,  192,     51.1,  -1.5566,  34.5170,2,   -999.0,9,   -999.0,9,     2.07,2,     6.56,2,     0.35,2,     0.59,2,   -999.0,9,   -999.0,9,  -999.00,9,  -1.5577
  06AQ20070728,EurArc,   236,  1,     16,     16,2,20070731,0736, 77.4970,  34.0000,  192,     25.1,  -0.1154,  34.2690,2,   -999.0,9,   -999.0,9,     1.03,2,     0.22,2,     0.02,2,     0.16,2,   -999.0,9,   -999.0,9,  -999.00,9,  -0.1162
  06AQ20070728,EurArc,   236,  1,     17,     17,2,20070731,0736, 77.4970,  34.0000,  192,     25.1,  -0.1166,  34.2800,2,   -999.0,9,   -999.0,9,  -999.00,9,  -999.00,9,  -999.00,9,  -999.00,9,   -999.0,9,   -999.0,9,  -999.00,9,  -0.1174
  06AQ20070728,EurArc,   236,  1,     18,     18,2,20070731,0736, 77.4970,  34.0000,  192,     25.1,  -0.1279,  34.2830,2,   -999.0,9,   -999.0,9,  -999.00,9,  -999.00,9,  -999.00,9,  -999.00,9,   -999.0,9,   -999.0,9,  -999.00,9,  -0.1287
  06AQ20070728,EurArc,   236,  1,     19,     19,2,20070731,0736, 77.4970,  34.0000,  192,     25.3,  -0.1547,  34.2870,2,   -999.0,9,    375.5,2,     1.04,2,     0.08,2,     0.01,2,     0.14,2,   -999.0,9,   -999.0,9,     0.14,2,  -0.1555
  06AQ20070728,EurArc,   236,  1,     20,     20,2,20070731,0736, 77.4970,  34.0000,  192,      4.7,   2.6546,  33.9550,2,   -999.0,9,   -999.0,9,     0.78,2,  -999.00,9,  -999.00,9,     0.06,2,   -999.0,9,   -999.0,9,  -999.00,9,   2.6543
  06AQ20070728,EurArc,   236,  1,     21,     21,2,20070731,0736, 77.4970,  34.0000,  192,      4.7,   2.6498,  33.9630,2,   -999.0,9,   -999.0,9,  -999.00,9,  -999.00,9,  -999.00,9,  -999.00,9,   -999.0,9,   -999.0,9,  -999.00,9,   2.6495
  06AQ20070728,EurArc,   236,  1,     22,     22,2,20070731,0736, 77.4970,  34.0000,  192,      4.6,   2.7292,  33.9450,2,   -999.0,9,   -999.0,9,  -999.00,9,  -999.00,9,  -999.00,9,  -999.00,9,   -999.0,9,   -999.0,9,  -999.00,9,   2.7289
  06AQ20070728,EurArc,   236,  1,     23,     23,2,20070731,0736, 77.4970,  34.0000,  192,      4.7,   2.7996,  33.9380,2,   -999.0,9,    319.1,2,     0.75,2,  -999.00,9,  -999.00,9,     0.05,2,   -999.0,9,   -999.0,9,     0.05,2,   2.7993
  06AQ20070728,EurArc,   236,  1,     24,     24,2,20070731,0736, 77.4970,  34.0000,  192,      4.7,   2.8961,  33.9240,2,   -999.0,9,   -999.0,9,     0.74,2,  -999.00,9,  -999.00,9,     0.06,2,   -999.0,9,   -999.0,9,  -999.00,9,   2.8958
  06AQ20070728,EurArc,   236,  2,      1,      1,2,20070731,0816, 77.4970,  34.0000,  192,    151.4,   1.6680,  34.9670,2,   -999.0,9,    307.9,2,  -999.00,9,  -999.00,9,  -999.00,9,  -999.00,9,   -999.0,9,   -999.0,9,  -999.00,9,   1.6603
  06AQ20070728,EurArc,   236,  2,      2,      2,2,20070731,0816, 77.4970,  34.0000,  192,    151.5,   1.6675,  34.9670,2,   -999.0,9,    307.9,2,  -999.00,9,  -999.00,9,  -999.00,9,  -999.00,9,   -999.0,9,   -999.0,9,  -999.00,9,   1.6598
  06AQ20070728,EurArc,   236,  2,      3,      3,2,20070731,0816, 77.4970,  34.0000,  192,    151.6,   1.6653,  34.9670,2,   -999.0,9,    307.9,2,  -999.00,9,  -999.00,9,  -999.00,9,  -999.00,9,   -999.0,9,   -999.0,9,  -999.00,9,   1.6576
  06AQ20070728,EurArc,   236,  2,      4,      4,2,20070731,0816, 77.4970,  34.0000,  192,    151.6,   1.6642,  34.9660,2,   -999.0,9,    307.9,2,  -999.00,9,  -999.00,9,  -999.00,9,  -999.00,9,   -999.0,9,   -999.0,9,  -999.00,9,   1.6565
  06AQ20070728,EurArc,   236,  2,      5,      5,2,20070731,0816, 77.4970,  34.0000,  192,    100.9,   0.3804,  34.7330,2,   -999.0,9,    306.7,2,  -999.00,9,  -999.00,9,  -999.00,9,  -999.00,9,   -999.0,9,   -999.0,9,  -999.00,9,   0.3764
  06AQ20070728,EurArc,   236,  2,      6,      6,2,20070731,0816, 77.4970,  34.0000,  192,    100.7,   0.3772,  34.7320,2,   -999.0,9,    306.6,2,  -999.00,9,  -999.00,9,  -999.00,9,  -999.00,9,   -999.0,9,   -999.0,9,  -999.00,9,   0.3732
  06AQ20070728,EurArc,   236,  2,      7,      7,2,20070731,0816, 77.4970,  34.0000,  192,    100.6,   0.3817,  34.7320,2,   -999.0,9,    306.6,2,     5.93,2,    11.80,2,     0.05,2,     0.83,2,   -999.0,9,   -999.0,9,  -999.00,9,   0.3777
  06AQ20070728,EurArc,   236,  2,      8,      8,2,20070731,0816, 77.4970,  34.0000,  192,    100.6,   0.3785,  34.7310,2,   -999.0,9,    306.6,2,     5.88,2,    11.77,2,     0.05,2,     0.82,2,   -999.0,9,   -999.0,9,  -999.00,9,   0.3745
  06AQ20070728,EurArc,   236,  2,      9,      9,2,20070731,0816, 77.4970,  34.0000,  192,    100.5,   0.3992,  34.7330,2,   -999.0,9,    306.6,2,     5.29,2,    11.55,2,     0.05,2,     0.80,2,   -999.0,9,   -999.0,9,  -999.00,9,   0.3952
  06AQ20070728,EurArc,   236,  2,     10,     10,2,20070731,0816, 77.4970,  34.0000,  192,     75.1,  -1.5676,  34.5530,2,   -999.0,9,    333.9,2,  -999.00,9,  -999.00,9,  -999.00,9,  -999.00,9,   -999.0,9,   -999.0,9,  -999.00,9,  -1.5693
  06AQ20070728,EurArc,   236,  2,     11,     11,2,20070731,0816, 77.4970,  34.0000,  192,     75.2,  -1.5885,  34.5520,2,   -999.0,9,    334.0,2,     4.06,2,     9.70,2,     0.09,2,     0.71,2,   -999.0,9,   -999.0,9,  -999.00,9,  -1.5902
  06AQ20070728,EurArc,   236,  2,     12,     12,2,20070731,0816, 77.4970,  34.0000,  192,     75.3,  -1.5887,  34.5520,2,   -999.0,9,    334.0,2,  -999.00,9,  -999.00,9,  -999.00,9,  -999.00,9,   -999.0,9,   -999.0,9,  -999.00,9,  -1.5904
  06AQ20070728,EurArc,   236,  2,     13,     13,2,20070731,0816, 77.4970,  34.0000,  192,     75.2,  -1.5647,  34.5480,2,   -999.0,9,    334.0,2,  -999.00,9,  -999.00,9,  -999.00,9,  -999.00,9,   -999.0,9,   -999.0,9,  -999.00,9,  -1.5664
  06AQ20070728,EurArc,   236,  2,     14,     14,2,20070731,0816, 77.4970,  34.0000,  192,     75.1,  -1.5872,  34.5540,2,   -999.0,9,    333.9,2,     3.46,2,     8.85,2,     0.10,2,     0.65,2,   -999.0,9,   -999.0,9,  -999.00,9,  -1.5888
  06AQ20070728,EurArc,   236,  2,     15,     15,2,20070731,0816, 77.4970,  34.0000,  192,     49.9,  -1.4390,  34.5070,2,   -999.0,9,    377.2,2,  -999.00,9,  -999.00,9,  -999.00,9,  -999.00,9,   -999.0,9,   -999.0,9,  -999.00,9,  -1.4401
  06AQ20070728,EurArc,   236,  2,     16,     16,2,20070731,0816, 77.4970,  34.0000,  192,     49.9,  -1.3057,  34.5010,2,   -999.0,9,    377.2,2,     3.30,2,     8.61,2,     0.25,2,     0.66,2,   -999.0,9,   -999.0,9,  -999.00,9,  -1.3069
  06AQ20070728,EurArc,   236,  2,     17,     17,2,20070731,0816, 77.4970,  34.0000,  192,     49.6,  -1.2289,  34.5080,2,   -999.0,9,    377.2,2,     1.12,2,     4.73,2,     0.27,2,     0.50,2,   -999.0,9,   -999.0,9,  -999.00,9,  -1.2301
  06AQ20070728,EurArc,   236,  2,     18,     18,2,20070731,0816, 77.4970,  34.0000,  192,     49.7,  -1.1413,  34.4960,2,   -999.0,9,    377.2,2,  -999.00,9,  -999.00,9,  -999.00,9,  -999.00,9,   -999.0,9,   -999.0,9,  -999.00,9,  -1.1426
  06AQ20070728,EurArc,   236,  2,     19,     19,2,20070731,0816, 77.4970,  34.0000,  192,     49.7,  -1.0675,  34.4960,2,   -999.0,9,    377.2,2,     1.03,2,     0.96,3,     0.09,2,     0.23,3,   -999.0,9,   -999.0,9,  -999.00,9,  -1.0688
  06AQ20070728,EurArc,   236,  2,     20,     20,2,20070731,0816, 77.4970,  34.0000,  192,     20.1,   1.1770,  34.1740,2,   -999.0,9,    361.1,2,     1.01,2,     0.20,2,     0.04,2,     0.16,2,   -999.0,9,   -999.0,9,  -999.00,9,   1.1761
  06AQ20070728,EurArc,   236,  2,     21,     21,2,20070731,0816, 77.4970,  34.0000,  192,     20.1,   1.5846,  34.1520,2,   -999.0,9,    361.1,2,  -999.00,9,  -999.00,9,  -999.00,9,  -999.00,9,   -999.0,9,   -999.0,9,  -999.00,9,   1.5836
  06AQ20070728,EurArc,   236,  2,     22,     22,2,20070731,0816, 77.4970,  34.0000,  192,     20.0,   1.5950,  34.1380,2,   -999.0,9,    360.9,2,  -999.00,9,  -999.00,9,  -999.00,9,  -999.00,9,   -999.0,9,   -999.0,9,  -999.00,9,   1.5940
  06AQ20070728,EurArc,   236,  2,     23,     23,2,20070731,0816, 77.4970,  34.0000,  192,     20.0,   1.5949,  34.1380,2,   -999.0,9,    360.9,2,     0.82,2,  -999.00,9,     0.03,2,     0.07,2,   -999.0,9,   -999.0,9,  -999.00,9,   1.5939
  06AQ20070728,EurArc,   236,  2,     24,     24,2,20070731,0816, 77.4970,  34.0000,  192,     20.0,   1.5944,  34.1420,2,   -999.0,9,    360.9,2,     0.76,2,  -999.00,9,     0.02,2,     0.06,2,   -999.0,9,   -999.0,9,  -999.00,9,   1.5934