BOTTLE,20220921CCHSIOAMB
EXPOCODE,SECT_ID,STNNBR,CASTNO,SAMPNO,BTLNBR,BTLNBR_FLAG_W,DATE,TIME,LATITUDE,LONGITUDE,DEPTH,CTDPRS,CTDTMP,CTDSAL,CTDSAL_FLAG_W,CTDOXY,CTDOXY_FLAG_W,OXYGEN,OXYGEN_FLAG_W,SILCAT,SILCAT_FLAG_W,NITRAT,NITRAT_FLAG_W,NITRIT,NITRIT_FLAG_W,PHSPHT,PHSPHT_FLAG_W,TCARBN,TCARBN_FLAG_W,ALKALI,ALKALI_FLAG_W,DELO18,DELO18_FLAG_W,THETA
,,,,,,,,,,,METERS,DBAR,ITS-90,PSS-78,,UMOL/KG,,UMOL/KG,,UMOL/KG,,UMOL/KG,,UMOL/KG,,UMOL/KG,,UMOL/KG,,UMOL/KG,,/MILLE,,DEG C
  06AQ20070728,EurArc,   268,  1,      1,      1,2,20070814,2106, 82.8060,  60.7970, 1575,   1521.6,  -0.5552,  34.9140,2,   -999.0,9,    291.9,2,     9.86,2,    14.31,2,     0.01,2,     0.99,2,   2162.8,2,   2297.7,2,  -999.00,9,  -0.6233
  06AQ20070728,EurArc,   268,  1,      2,      2,2,20070814,2106, 82.8060,  60.7970, 1575,   1268.7,  -0.4433,  34.9120,2,   -999.0,9,    291.9,2,     9.53,2,    14.35,2,     0.02,2,     0.98,2,   2160.8,2,   2294.8,2,  -999.00,9,  -0.4984
  06AQ20070728,EurArc,   268,  1,      3,      3,2,20070814,2106, 82.8060,  60.7970, 1575,   1013.8,  -0.1593,  34.9130,2,   -999.0,9,    292.6,2,     8.54,2,    13.89,2,     0.01,2,     0.96,2,   2161.4,2,   2295.5,2,  -999.00,9,  -0.2034
  06AQ20070728,EurArc,   268,  1,      4,      4,2,20070814,2106, 82.8060,  60.7970, 1575,    760.5,   0.6011,  34.9270,2,   -999.0,9,    296.0,2,     6.93,2,    13.26,2,     0.01,2,     0.90,2,   2159.4,2,   2295.6,2,  -999.00,9,   0.5650
  06AQ20070728,EurArc,   268,  1,      5,      5,2,20070814,2106, 82.8060,  60.7970, 1575,    506.9,   1.0976,  34.9230,2,   -999.0,9,    299.7,2,     5.59,2,    12.05,2,     0.01,2,     0.83,2,   2157.5,2,   2294.8,2,  -999.00,9,   1.0726
  06AQ20070728,EurArc,   268,  1,      6,      6,2,20070814,2106, 82.8060,  60.7970, 1575,    304.2,   2.1329,  34.9460,2,   -999.0,9,    295.5,2,     4.90,2,    11.78,2,     0.02,2,     0.80,2,   2152.6,2,   2297.1,2,  -999.00,9,   2.1158
  06AQ20070728,EurArc,   268,  1,      7,      7,2,20070814,2106, 82.8060,  60.7970, 1575,    202.8,   2.4966,  34.9530,2,   -999.0,9,    295.7,2,     4.71,2,    11.63,2,     0.02,2,     0.80,2,   2147.3,2,   2296.6,2,  -999.00,9,   2.4848
  06AQ20070728,EurArc,   268,  1,      8,      8,2,20070814,2106, 82.8060,  60.7970, 1575,    203.0,   2.4963,  34.9530,2,   -999.0,9,    295.7,2,     4.71,2,    11.62,2,     0.02,2,     0.79,2,   2145.8,2,   2296.1,2,  -999.00,9,   2.4845
  06AQ20070728,EurArc,   268,  1,      9,      9,2,20070814,2106, 82.8060,  60.7970, 1575,    151.8,   2.5836,  34.9350,2,   -999.0,9,    297.9,2,     4.64,2,    11.59,2,     0.02,2,     0.78,2,   2146.3,2,   2296.4,2,     0.19,2,   2.5747
  06AQ20070728,EurArc,   268,  1,     10,     10,2,20070814,2106, 82.8060,  60.7970, 1575,    151.9,   2.5898,  34.9360,2,   -999.0,9,    297.9,2,     4.64,2,    11.56,2,     0.02,2,     0.79,2,   -999.0,9,   -999.0,9,  -999.00,9,   2.5809
  06AQ20070728,EurArc,   268,  1,     11,     11,2,20070814,2106, 82.8060,  60.7970, 1575,    125.9,   2.5466,  34.9140,2,   -999.0,9,    297.8,2,     4.54,2,    11.32,2,     0.02,2,     0.78,2,   2149.8,2,   2297.4,2,     0.16,2,   2.5393
  06AQ20070728,EurArc,   268,  1,     12,     12,2,20070814,2106, 82.8060,  60.7970, 1575,    101.2,   2.4208,  34.8860,2,   -999.0,9,    299.9,2,     4.53,2,    11.43,2,     0.02,2,     0.77,2,   2143.2,2,   2294.1,2,     0.16,2,   2.4151
  06AQ20070728,EurArc,   268,  1,     13,     13,2,20070814,2106, 82.8060,  60.7970, 1575,    101.3,   2.4207,  34.8840,2,   -999.0,9,    299.9,2,     4.50,2,    11.31,2,     0.02,2,     0.77,2,   2419.1,4,   2294.7,2,  -999.00,9,   2.4150
  06AQ20070728,EurArc,   268,  1,     14,     14,2,20070814,2106, 82.8060,  60.7970, 1575,    101.3,   2.4216,  34.8840,2,   -999.0,9,    299.9,2,     4.52,2,    11.35,2,     0.03,2,     0.77,2,   -999.0,9,   -999.0,9,  -999.00,9,   2.4159
  06AQ20070728,EurArc,   268,  1,     15,     15,2,20070814,2106, 82.8060,  60.7970, 1575,     75.8,   1.9882,  34.8240,2,   -999.0,9,    302.2,2,     4.37,2,    11.19,2,     0.03,2,     0.76,2,   2162.8,3,   2290.1,2,  -999.00,9,   1.9842
  06AQ20070728,EurArc,   268,  1,     16,     16,2,20070814,2106, 82.8060,  60.7970, 1575,     75.8,   1.9954,  34.8200,2,   -999.0,9,    302.2,2,     4.35,2,    11.04,2,     0.03,2,     0.76,2,   -999.0,9,   -999.0,9,     0.11,2,   1.9914
  06AQ20070728,EurArc,   268,  1,     17,     17,2,20070814,2106, 82.8060,  60.7970, 1575,     50.7,   0.1774,  34.5450,2,   -999.0,9,    335.4,2,     3.63,2,     9.76,2,     0.10,2,     0.69,2,   2135.4,2,   2276.5,2,  -999.00,9,   0.1755
  06AQ20070728,EurArc,   268,  1,     18,     18,2,20070814,2106, 82.8060,  60.7970, 1575,     50.7,   0.1512,  34.5360,2,   -999.0,9,    335.4,2,     3.58,2,     9.68,2,     0.12,2,     0.68,2,   -999.0,9,   -999.0,9,     0.05,2,   0.1493
  06AQ20070728,EurArc,   268,  1,     19,     19,2,20070814,2106, 82.8060,  60.7970, 1575,     25.6,  -1.5031,  33.8640,2,   -999.0,9,    366.7,2,     2.66,2,     5.98,2,     0.11,2,     0.49,2,   2086.4,3,   2244.2,2,  -999.00,9,  -1.5036
  06AQ20070728,EurArc,   268,  1,     20,     20,2,20070814,2106, 82.8060,  60.7970, 1575,     25.6,  -1.5081,  33.8380,2,   -999.0,9,    366.8,2,     2.24,2,     5.74,2,     0.07,2,     0.44,2,   -999.0,9,   -999.0,9,  -999.00,9,  -1.5086
  06AQ20070728,EurArc,   268,  1,     21,     21,2,20070814,2106, 82.8060,  60.7970, 1575,     25.6,  -1.5177,  33.8210,2,   -999.0,9,    366.8,2,     2.21,2,     4.93,2,     0.07,2,     0.44,2,   -999.0,9,   -999.0,9,     0.00,2,  -1.5182
  06AQ20070728,EurArc,   268,  1,     22,     22,2,20070814,2106, 82.8060,  60.7970, 1575,     25.6,  -1.5025,  33.8500,2,   -999.0,9,    366.8,2,     1.90,2,     4.52,2,     0.06,2,     0.43,2,   -999.0,9,   -999.0,9,  -999.00,9,  -1.5030
  06AQ20070728,EurArc,   268,  1,     23,     23,2,20070814,2106, 82.8060,  60.7970, 1575,      4.4,  -1.6130,  32.8560,2,   -999.0,9,    372.6,2,     0.81,2,     1.29,2,     0.03,2,     0.16,2,   1970.1,2,   2177.2,2,    -0.04,2,  -1.6131
  06AQ20070728,EurArc,   268,  1,     24,     24,2,20070814,2106, 82.8060,  60.7970, 1575,      4.4,  -1.6185,  32.8300,2,   -999.0,9,    372.6,2,     0.84,2,     3.51,2,     0.03,2,     0.18,3,   -999.0,9,   -999.0,9,  -999.00,9,  -1.6186
  06AQ20070728,EurArc,   269,  1,      1,      1,2,20070815,0504, 82.7330,  60.6050,  837,    840.2,   0.2721,  34.9190,2,   -999.0,9,    300.3,2,     7.56,2,    13.31,2,     0.02,2,     0.91,2,   -999.0,9,   -999.0,9,  -999.00,9,   0.2339
  06AQ20070728,EurArc,   269,  1,      2,      2,2,20070815,0504, 82.7330,  60.6050,  837,    810.1,   0.3561,  34.9210,2,   -999.0,9,    301.4,2,     7.49,2,    13.25,2,     0.02,2,     0.91,2,   -999.0,9,   -999.0,9,  -999.00,9,   0.3189
  06AQ20070728,EurArc,   269,  1,      3,      3,2,20070815,0504, 82.7330,  60.6050,  837,    708.5,   0.6979,  34.9200,2,   -999.0,9,    304.7,2,     6.38,2,    12.06,2,     0.02,2,     0.85,2,   -999.0,9,   -999.0,9,  -999.00,9,   0.6640
  06AQ20070728,EurArc,   269,  1,      4,      4,2,20070815,0504, 82.7330,  60.6050,  837,    607.1,   1.0701,  34.9390,2,   -999.0,9,    306.9,2,     5.81,2,    11.97,2,     0.02,2,     0.83,2,   -999.0,9,   -999.0,9,  -999.00,9,   1.0397
  06AQ20070728,EurArc,   269,  1,      5,      5,2,20070815,0504, 82.7330,  60.6050,  837,    505.9,   0.8730,  34.9020,2,   -999.0,9,    307.6,2,     5.46,2,    11.41,2,     0.02,2,     0.81,2,   -999.0,9,   -999.0,9,  -999.00,9,   0.8490
  06AQ20070728,EurArc,   269,  1,      6,      6,2,20070815,0504, 82.7330,  60.6050,  837,    404.7,   1.4494,  34.9320,2,   -999.0,9,    307.5,2,     5.18,2,    11.51,2,     0.01,2,     0.80,2,   -999.0,9,   -999.0,9,  -999.00,9,   1.4286
  06AQ20070728,EurArc,   269,  1,      7,      7,2,20070815,0504, 82.7330,  60.6050,  837,    303.3,   1.4132,  34.8830,2,   -999.0,9,    306.6,2,     4.95,2,    11.45,2,     0.02,2,     0.79,2,   -999.0,9,   -999.0,9,  -999.00,9,   1.3980
  06AQ20070728,EurArc,   269,  1,      8,      8,2,20070815,0504, 82.7330,  60.6050,  837,    253.0,   2.1580,  34.9340,2,   -999.0,9,    305.1,2,     4.67,2,    11.23,2,     0.02,2,     0.78,2,   -999.0,9,   -999.0,9,  -999.00,9,   2.1439
  06AQ20070728,EurArc,   269,  1,      9,      9,2,20070815,0504, 82.7330,  60.6050,  837,    202.1,   2.2852,  34.9170,2,   -999.0,9,    304.1,2,     4.56,2,    11.12,2,     0.02,2,     0.77,2,   -999.0,9,   -999.0,9,  -999.00,9,   2.2738
  06AQ20070728,EurArc,   269,  1,     10,     10,2,20070815,0504, 82.7330,  60.6050,  837,    151.2,   2.3772,  34.8980,2,    292.1,2,    303.8,2,     4.49,2,    11.07,2,     0.02,2,     0.76,2,   -999.0,9,   -999.0,9,     0.12,2,   2.3686
  06AQ20070728,EurArc,   269,  1,     11,     11,2,20070815,0504, 82.7330,  60.6050,  837,    125.8,   2.3070,  34.8720,2,    292.0,2,    302.3,2,     4.36,2,    10.84,2,     0.02,2,     0.75,2,   -999.0,9,   -999.0,9,     0.07,2,   2.3000
  06AQ20070728,EurArc,   269,  1,     12,     12,2,20070815,0504, 82.7330,  60.6050,  837,    101.3,   2.2547,  34.8590,2,    291.4,2,    302.1,2,     4.34,2,    10.85,2,     0.02,2,     0.74,2,   -999.0,9,   -999.0,9,     0.13,2,   2.2491
  06AQ20070728,EurArc,   269,  1,     13,     13,2,20070815,0504, 82.7330,  60.6050,  837,     75.7,   1.1759,  34.7150,2,    298.4,2,    313.7,2,     4.09,2,    10.26,2,     0.03,2,     0.71,2,   -999.0,9,   -999.0,9,     0.06,2,   1.1724
  06AQ20070728,EurArc,   269,  1,     14,     14,2,20070815,0504, 82.7330,  60.6050,  837,     50.4,  -0.7286,  34.4310,2,    311.2,2,    326.8,2,     3.46,2,     8.72,2,     0.20,2,     0.64,2,   -999.0,9,   -999.0,9,     0.10,2,  -0.7301
  06AQ20070728,EurArc,   269,  1,     15,     15,2,20070815,0504, 82.7330,  60.6050,  837,     25.0,  -1.6307,  33.9980,2,    334.2,2,    378.7,2,     2.96,2,     7.09,2,     0.14,2,     0.54,2,   -999.0,9,   -999.0,9,    -0.13,2,  -1.6312
  06AQ20070728,EurArc,   269,  1,     16,     16,2,20070815,0504, 82.7330,  60.6050,  837,      9.5,  -1.6225,  33.0530,2,    367.7,2,    385.7,2,     1.36,2,     2.48,2,     0.04,2,     0.26,2,   -999.0,9,   -999.0,9,  -999.00,9,  -1.6227
  06AQ20070728,EurArc,   269,  1,     17,     17,2,20070815,0504, 82.7330,  60.6050,  837,      2.1,  -1.6315,  32.8530,2,    377.8,2,    382.3,2,     1.04,2,     1.50,2,     0.03,2,     0.19,2,   -999.0,9,   -999.0,9,    -0.15,2,  -1.6315
  06AQ20070728,EurArc,   271,  2,      1,      1,2,20070815,1259, 82.5030,  60.7950,  327,    304.1,  -0.5544,  34.7740,2,   -999.0,9,    309.2,2,     4.96,2,    11.42,2,     0.02,2,     0.78,2,   2158.9,2,   2295.9,2,  -999.00,9,  -0.5646
  06AQ20070728,EurArc,   271,  2,      2,      2,2,20070815,1259, 82.5030,  60.7950,  327,    304.1,  -0.5783,  34.7650,2,   -999.0,9,    309.2,2,     4.91,2,    11.03,2,     0.03,2,     0.76,2,   2146.7,2,   2294.9,2,  -999.00,9,  -0.5884
  06AQ20070728,EurArc,   271,  2,      3,      3,2,20070815,1259, 82.5030,  60.7950,  327,    253.5,   1.6012,  34.9130,2,   -999.0,9,    303.1,2,     4.93,2,    11.78,2,     0.02,2,     0.79,2,   -999.0,9,   -999.0,9,  -999.00,9,   1.5882
  06AQ20070728,EurArc,   271,  2,      4,      4,2,20070815,1259, 82.5030,  60.7950,  327,    253.6,   1.6022,  34.9140,2,   -999.0,9,    303.0,2,     4.96,2,    11.90,2,     0.02,2,     0.79,2,   -999.0,9,   -999.0,9,  -999.00,9,   1.5892
  06AQ20070728,EurArc,   271,  2,      5,      5,2,20070815,1259, 82.5030,  60.7950,  327,    202.2,   2.0467,  34.9310,2,   -999.0,9,    300.5,2,     4.83,2,    11.81,2,     0.02,2,     0.79,2,   2152.7,2,   2297.7,2,  -999.00,9,   2.0357
  06AQ20070728,EurArc,   271,  2,      6,      6,2,20070815,1259, 82.5030,  60.7950,  327,    202.3,   2.0591,  34.9340,2,   -999.0,9,    300.5,2,     4.81,2,    11.81,2,     0.02,2,     0.79,2,   -999.0,9,   -999.0,9,  -999.00,9,   2.0480
  06AQ20070728,EurArc,   271,  2,      7,      7,2,20070815,1259, 82.5030,  60.7950,  327,    151.8,   2.1238,  34.9090,2,   -999.0,9,    302.0,2,     4.71,2,    11.72,2,     0.02,2,     0.78,2,   -999.0,9,   -999.0,9,     0.15,2,   2.1155
  06AQ20070728,EurArc,   271,  2,      8,      8,2,20070815,1259, 82.5030,  60.7950,  327,    151.9,   2.1258,  34.9090,2,   -999.0,9,    302.0,2,     4.63,2,    11.61,2,     0.02,2,     0.78,2,   -999.0,9,   -999.0,9,  -999.00,9,   2.1175
  06AQ20070728,EurArc,   271,  2,      9,      9,2,20070815,1259, 82.5030,  60.7950,  327,    151.9,   2.1278,  34.9090,2,   -999.0,9,    302.0,2,     4.66,2,    11.62,2,     0.02,2,     0.78,2,   -999.0,9,   -999.0,9,  -999.00,9,   2.1195
  06AQ20070728,EurArc,   271,  2,     10,     10,2,20070815,1259, 82.5030,  60.7950,  327,    151.9,   2.1418,  34.9100,2,   -999.0,9,    302.0,2,     4.64,2,    11.64,2,     0.02,2,     0.78,2,   -999.0,9,   -999.0,9,  -999.00,9,   2.1335
  06AQ20070728,EurArc,   271,  2,     11,     11,2,20070815,1259, 82.5030,  60.7950,  327,    151.9,   2.1563,  34.9110,2,   -999.0,9,    302.0,2,     4.63,2,    11.64,2,     0.02,2,     0.78,2,   2153.1,2,   2296.1,2,  -999.00,9,   2.1479
  06AQ20070728,EurArc,   271,  2,     12,     12,2,20070815,1259, 82.5030,  60.7950,  327,    151.9,   2.1727,  34.9120,2,   -999.0,9,    302.0,2,     4.64,2,    11.65,2,     0.02,2,     0.78,2,   -999.0,9,   -999.0,9,  -999.00,9,   2.1643
  06AQ20070728,EurArc,   271,  2,     13,     13,2,20070815,1259, 82.5030,  60.7950,  327,    126.7,   1.9464,  34.8670,2,   -999.0,9,    300.9,2,     4.41,2,    11.31,2,     0.02,2,     0.76,2,   -999.0,9,   -999.0,9,     0.17,2,   1.9397
  06AQ20070728,EurArc,   271,  2,     14,     14,2,20070815,1259, 82.5030,  60.7950,  327,    126.8,   1.9488,  34.8660,2,   -999.0,9,    300.9,2,     4.43,2,    11.34,2,     0.02,2,     0.76,2,   -999.0,9,   -999.0,9,  -999.00,9,   1.9421
  06AQ20070728,EurArc,   271,  2,     15,     15,2,20070815,1259, 82.5030,  60.7950,  327,    101.8,   2.0565,  34.8610,2,   -999.0,9,    302.8,2,     4.34,2,    11.26,2,     0.02,2,     0.76,2,   -999.0,9,   -999.0,9,     0.14,2,   2.0510
  06AQ20070728,EurArc,   271,  2,     16,     16,2,20070815,1259, 82.5030,  60.7950,  327,    101.8,   2.0493,  34.8610,2,   -999.0,9,    302.8,2,     4.34,2,    11.24,2,     0.03,2,     0.76,2,   -999.0,9,   -999.0,9,  -999.00,9,   2.0438
  06AQ20070728,EurArc,   271,  2,     17,     17,2,20070815,1259, 82.5030,  60.7950,  327,    101.8,   2.0565,  34.8610,2,   -999.0,9,    302.8,2,     4.34,2,    11.33,2,     0.03,2,     0.75,2,   2148.7,2,   2293.0,2,  -999.00,9,   2.0510
  06AQ20070728,EurArc,   271,  2,     18,     18,2,20070815,1259, 82.5030,  60.7950,  327,    101.8,   2.0510,  34.8610,2,   -999.0,9,    302.8,2,     4.32,2,    11.19,2,     0.02,2,     0.75,2,   -999.0,9,   -999.0,9,  -999.00,9,   2.0455
  06AQ20070728,EurArc,   271,  2,     19,     19,2,20070815,1259, 82.5030,  60.7950,  327,     75.7,   1.4924,  34.7930,2,   -999.0,9,    305.2,2,     4.23,2,    11.04,2,     0.04,2,     0.74,2,   -999.0,9,   -999.0,9,     0.12,2,   1.4887
  06AQ20070728,EurArc,   271,  2,     20,     20,2,20070815,1259, 82.5030,  60.7950,  327,     50.6,   0.6907,  34.6340,2,   -999.0,9,    318.4,2,     3.74,2,    10.09,2,     0.08,2,     0.70,2,   2088.7,2,   2251.6,2,     0.04,2,   0.6886
  06AQ20070728,EurArc,   271,  2,     21,     21,2,20070815,1259, 82.5030,  60.7950,  327,     25.6,  -1.4809,  34.0380,2,   -999.0,9,    377.1,2,     2.83,2,     6.58,2,     0.12,2,     0.50,2,   -999.0,9,   -999.0,9,     0.01,2,  -1.4814
  06AQ20070728,EurArc,   271,  2,     22,     22,2,20070815,1259, 82.5030,  60.7950,  327,     25.6,  -1.5565,  33.9710,2,   -999.0,9,    377.1,2,     2.65,2,     5.98,2,     0.10,2,     0.47,2,   2089.1,2,   2252.7,2,  -999.00,9,  -1.5570
  06AQ20070728,EurArc,   271,  2,     23,     23,2,20070815,1259, 82.5030,  60.7950,  327,      5.1,  -1.5282,  32.9450,2,   -999.0,9,    380.2,2,     0.86,2,     1.15,2,     0.04,2,     0.16,2,   -999.0,9,   -999.0,9,    -0.07,2,  -1.5283
  06AQ20070728,EurArc,   271,  2,     24,     24,2,20070815,1259, 82.5030,  60.7950,  327,      5.2,  -1.5182,  32.8460,2,   -999.0,9,    380.3,2,     0.86,2,     1.23,2,     0.04,2,     0.16,2,   -999.0,9,   -999.0,9,  -999.00,9,  -1.5183