BOTTLE,20220921CCHSIOAMB
EXPOCODE,SECT_ID,STNNBR,CASTNO,SAMPNO,BTLNBR,BTLNBR_FLAG_W,DATE,TIME,LATITUDE,LONGITUDE,DEPTH,CTDPRS,CTDTMP,CTDSAL,CTDSAL_FLAG_W,CTDOXY,CTDOXY_FLAG_W,OXYGEN,OXYGEN_FLAG_W,SILCAT,SILCAT_FLAG_W,NITRAT,NITRAT_FLAG_W,NITRIT,NITRIT_FLAG_W,PHSPHT,PHSPHT_FLAG_W,TCARBN,TCARBN_FLAG_W,ALKALI,ALKALI_FLAG_W,DELO18,DELO18_FLAG_W,THETA
,,,,,,,,,,,METERS,DBAR,ITS-90,PSS-78,,UMOL/KG,,UMOL/KG,,UMOL/KG,,UMOL/KG,,UMOL/KG,,UMOL/KG,,UMOL/KG,,UMOL/KG,,/MILLE,,DEG C
  06AQ20070728,EurArc,   307,  1,      1,      1,2,20070826,2042, 86.3030,  94.2870, 3921,   3992.7,  -0.6800,  34.9410,2,   -999.0,9,    297.4,2,    10.97,2,    14.57,2,     0.01,2,     1.00,2,   -999.0,9,   -999.0,9,  -999.00,9,  -0.9376
  06AQ20070728,EurArc,   307,  1,      2,      2,2,20070826,2042, 86.3030,  94.2870, 3921,   3567.3,  -0.7249,  34.9390,2,   -999.0,9,    298.5,2,    10.97,2,    14.62,2,     0.01,2,     1.00,2,   -999.0,9,   -999.0,9,  -999.00,9,  -0.9417
  06AQ20070728,EurArc,   307,  1,      4,      4,2,20070826,2042, 86.3030,  94.2870, 3921,   3054.2,  -0.7596,  34.9330,2,   -999.0,9,    298.8,2,    10.90,2,    14.71,2,     0.01,2,     1.01,2,   -999.0,9,   -999.0,9,  -999.00,9,  -0.9316
  06AQ20070728,EurArc,   307,  1,      3,      3,2,20070826,2042, 86.3030,  94.2870, 3921,   3054.2,  -0.7596,  34.9330,2,   -999.0,9,    298.8,2,  -999.00,9,  -999.00,9,  -999.00,9,  -999.00,9,   -999.0,9,   -999.0,9,  -999.00,9,  -0.9316
  06AQ20070728,EurArc,   307,  1,      5,      5,2,20070826,2042, 86.3030,  94.2870, 3921,   2542.1,  -0.7662,  34.9250,2,   -999.0,9,    299.4,2,    10.66,2,    14.66,2,     0.01,2,     1.00,2,   -999.0,9,   -999.0,9,  -999.00,9,  -0.8983
  06AQ20070728,EurArc,   307,  1,      6,      6,2,20070826,2042, 86.3030,  94.2870, 3921,   2031.4,  -0.7069,  34.9190,2,   -999.0,9,    299.0,2,  -999.00,9,  -999.00,9,  -999.00,9,  -999.00,9,   -999.0,9,   -999.0,9,  -999.00,9,  -0.8044
  06AQ20070728,EurArc,   307,  1,      7,      7,2,20070826,2042, 86.3030,  94.2870, 3921,   1521.7,  -0.5578,  34.9110,2,   -999.0,9,    300.2,2,     9.23,2,    14.07,2,     0.01,2,     0.96,2,   -999.0,9,   -999.0,9,  -999.00,9,  -0.6259
  06AQ20070728,EurArc,   307,  1,      8,      8,2,20070826,2042, 86.3030,  94.2870, 3921,   1265.3,  -0.4409,  34.9000,2,   -999.0,9,    303.2,2,     7.95,2,    13.40,2,     0.01,2,     0.92,2,   -999.0,9,   -999.0,9,  -999.00,9,  -0.4958
  06AQ20070728,EurArc,   307,  1,      9,      9,2,20070826,2042, 86.3030,  94.2870, 3921,   1013.2,  -0.2941,  34.8830,2,   -999.0,9,    305.6,2,     6.81,2,    12.68,2,     0.01,2,     0.88,2,   -999.0,9,   -999.0,9,  -999.00,9,  -0.3370
  06AQ20070728,EurArc,   307,  1,     10,     10,2,20070826,2042, 86.3030,  94.2870, 3921,    759.7,  -0.0263,  34.8700,2,   -999.0,9,    305.8,2,     6.18,2,    12.42,2,     0.01,2,     0.86,2,   -999.0,9,   -999.0,9,  -999.00,9,  -0.0584
  06AQ20070728,EurArc,   307,  1,     11,     11,2,20070826,2042, 86.3030,  94.2870, 3921,    506.0,   0.6261,  34.8730,2,   -999.0,9,    303.4,2,     5.73,2,    12.38,2,     0.01,2,     0.85,2,   -999.0,9,   -999.0,9,  -999.00,9,   0.6031
  06AQ20070728,EurArc,   307,  1,     13,     13,2,20070826,2042, 86.3030,  94.2870, 3921,    303.5,   1.1477,  34.8550,2,   -999.0,9,    300.3,2,  -999.00,9,  -999.00,9,  -999.00,9,  -999.00,9,   -999.0,9,   -999.0,9,  -999.00,9,   1.1332
  06AQ20070728,EurArc,   307,  1,     12,     12,2,20070826,2042, 86.3030,  94.2870, 3921,    303.4,   1.1478,  34.8550,2,   -999.0,9,    300.3,2,     5.46,2,    12.29,2,     0.01,2,     0.83,2,   -999.0,9,   -999.0,9,  -999.00,9,   1.1333
  06AQ20070728,EurArc,   307,  1,     14,     14,2,20070826,2042, 86.3030,  94.2870, 3921,    201.8,   0.9331,  34.7650,2,   -999.0,9,    298.8,2,     5.36,2,    11.99,2,     0.01,2,     0.82,2,   -999.0,9,   -999.0,9,  -999.00,9,   0.9240
  06AQ20070728,EurArc,   307,  1,     15,     15,2,20070826,2042, 86.3030,  94.2870, 3921,    151.6,  -0.1257,  34.5110,2,    293.0,2,    307.9,2,     4.89,2,    10.15,2,     0.01,2,     0.74,2,   -999.0,9,   -999.0,9,     0.09,2,  -0.1310
  06AQ20070728,EurArc,   307,  1,     16,     16,2,20070826,2042, 86.3030,  94.2870, 3921,    126.4,  -0.8724,  34.3420,2,    299.3,2,    313.7,2,     4.73,2,     9.17,2,     0.02,2,     0.69,2,   -999.0,9,   -999.0,9,    -0.06,2,  -0.8760
  06AQ20070728,EurArc,   307,  1,     17,     17,2,20070826,2042, 86.3030,  94.2870, 3921,    101.2,  -1.4069,  34.1690,2,    304.0,2,    319.9,2,     4.62,2,     8.34,2,     0.02,2,     0.65,2,   -999.0,9,   -999.0,9,    -0.27,2,  -1.4092
  06AQ20070728,EurArc,   307,  1,     18,     18,2,20070826,2042, 86.3030,  94.2870, 3921,     80.9,  -1.7607,  33.8050,2,    333.2,2,    357.7,2,     4.41,2,     7.15,2,     0.02,2,     0.59,2,   -999.0,9,   -999.0,9,  -999.00,9,  -1.7622
  06AQ20070728,EurArc,   307,  1,     19,     19,2,20070826,2042, 86.3030,  94.2870, 3921,     75.8,  -1.7888,  33.7390,2,    343.9,2,    358.9,2,     3.59,2,     4.70,2,     0.03,2,     0.45,2,   -999.0,9,   -999.0,9,    -1.16,2,  -1.7902
  06AQ20070728,EurArc,   307,  1,     20,     20,2,20070826,2042, 86.3030,  94.2870, 3921,     50.4,  -1.8209,  33.4890,2,    348.9,2,    363.0,2,     3.87,2,     4.09,2,     0.03,2,     0.42,2,   -999.0,9,   -999.0,9,    -1.54,2,  -1.8218
  06AQ20070728,EurArc,   307,  1,     21,     21,2,20070826,2042, 86.3030,  94.2870, 3921,     30.4,  -1.7708,  33.3940,2,    351.2,2,    367.8,2,     3.86,2,     3.99,2,     0.03,2,     0.42,2,   -999.0,9,   -999.0,9,  -999.00,9,  -1.7713
  06AQ20070728,EurArc,   307,  1,     23,     23,2,20070826,2042, 86.3030,  94.2870, 3921,     25.2,  -1.7631,  33.2760,2,   -999.0,9,    375.3,2,     3.89,2,     3.75,2,     0.06,2,     0.41,2,   -999.0,9,   -999.0,9,  -999.00,9,  -1.7635
  06AQ20070728,EurArc,   307,  1,     22,     22,2,20070826,2042, 86.3030,  94.2870, 3921,     25.2,  -1.7637,  33.2740,2,    352.8,2,    375.3,2,     3.87,2,     3.72,2,     0.06,2,     0.40,2,   -999.0,9,   -999.0,9,    -1.70,2,  -1.7641
  06AQ20070728,EurArc,   307,  1,     24,     24,2,20070826,2042, 86.3030,  94.2870, 3921,     10.1,  -1.6791,  32.0830,2,    370.6,2,    378.8,2,     2.34,2,     1.55,2,     0.05,2,     0.28,2,   -999.0,9,   -999.0,9,    -1.93,2,  -1.6793
  06AQ20070728,EurArc,   308,  1,      1,      1,2,20070827,1144, 86.7060,  99.2830, 4377,   4463.9,  -0.6322,  34.9410,2,   -999.0,9,    296.9,2,    10.95,2,    14.19,2,     0.01,2,     1.00,2,   -999.0,9,   -999.0,9,  -999.00,9,  -0.9382
  06AQ20070728,EurArc,   308,  1,      2,      2,2,20070827,1144, 86.7060,  99.2830, 4377,   4082.6,  -0.6721,  34.9410,2,   -999.0,9,    298.0,2,    10.95,2,    14.20,2,     0.01,2,     1.00,2,   -999.0,9,   -999.0,9,  -999.00,9,  -0.9386
  06AQ20070728,EurArc,   308,  1,      4,      4,2,20070827,1144, 86.7060,  99.2830, 4377,   3054.7,  -0.7569,  34.9310,2,   -999.0,9,    298.9,2,    10.84,2,    14.29,2,     0.01,2,     1.00,2,   -999.0,9,   -999.0,9,  -999.00,9,  -0.9290
  06AQ20070728,EurArc,   308,  1,      3,      3,2,20070827,1144, 86.7060,  99.2830, 4377,   3054.4,  -0.7569,  34.9310,2,   -999.0,9,    298.9,2,    10.81,2,    14.22,2,     0.02,2,     1.00,2,   -999.0,9,   -999.0,9,  -999.00,9,  -0.9289
  06AQ20070728,EurArc,   308,  1,      5,      5,2,20070827,1144, 86.7060,  99.2830, 4377,   2031.5,  -0.7046,  34.9180,2,   -999.0,9,    299.0,2,    10.29,2,    14.12,2,     0.01,2,     0.99,2,   -999.0,9,   -999.0,9,  -999.00,9,  -0.8022
  06AQ20070728,EurArc,   308,  1,      6,      6,2,20070827,1144, 86.7060,  99.2830, 4377,   1522.0,  -0.5534,  34.9100,2,   -999.0,9,    300.6,2,     9.09,2,    13.50,2,     0.01,2,     0.96,2,   -999.0,9,   -999.0,9,  -999.00,9,  -0.6215
  06AQ20070728,EurArc,   308,  1,      7,      7,2,20070827,1144, 86.7060,  99.2830, 4377,   1251.1,  -0.4262,  34.8980,2,   -999.0,9,    303.6,2,     7.73,2,    12.70,2,     0.02,2,     0.91,2,   -999.0,9,   -999.0,9,  -999.00,9,  -0.4805
  06AQ20070728,EurArc,   308,  1,      8,      8,2,20070827,1144, 86.7060,  99.2830, 4377,   1014.0,  -0.2959,  34.8830,2,   -999.0,9,    305.4,2,     6.77,2,    12.13,2,     0.01,2,     0.88,2,   -999.0,9,   -999.0,9,  -999.00,9,  -0.3388
  06AQ20070728,EurArc,   308,  1,      9,      9,2,20070827,1144, 86.7060,  99.2830, 4377,    759.9,  -0.0239,  34.8690,2,   -999.0,9,    306.0,2,     6.02,2,    11.73,2,     0.01,2,     0.85,2,   -999.0,9,   -999.0,9,  -999.00,9,  -0.0560
  06AQ20070728,EurArc,   308,  1,     10,     10,2,20070827,1144, 86.7060,  99.2830, 4377,    506.3,   0.6411,  34.8740,2,   -999.0,9,    304.4,2,     5.66,2,    11.75,2,     0.01,2,     0.83,2,   -999.0,9,   -999.0,9,  -999.00,9,   0.6181
  06AQ20070728,EurArc,   308,  1,     11,     11,2,20070827,1144, 86.7060,  99.2830, 4377,    404.8,   0.9740,  34.8740,2,   -999.0,9,    302.8,2,     5.54,2,    11.83,2,     0.01,2,     0.83,2,   -999.0,9,   -999.0,9,  -999.00,9,   0.9548
  06AQ20070728,EurArc,   308,  1,     12,     12,2,20070827,1144, 86.7060,  99.2830, 4377,    303.3,   1.1750,  34.8560,2,   -999.0,9,    300.5,2,     5.31,2,    11.64,2,     0.02,2,     0.82,2,   -999.0,9,   -999.0,9,  -999.00,9,   1.1604
  06AQ20070728,EurArc,   308,  1,     13,     13,2,20070827,1144, 86.7060,  99.2830, 4377,    253.1,   1.0678,  34.8190,2,   -999.0,9,    299.6,2,     5.23,2,    11.53,2,     0.01,2,     0.81,2,   -999.0,9,   -999.0,9,  -999.00,9,   1.0560
  06AQ20070728,EurArc,   308,  1,     14,     14,2,20070827,1144, 86.7060,  99.2830, 4377,    201.2,   0.9049,  34.7640,2,   -999.0,9,    299.2,2,     5.18,2,    11.26,2,     0.02,2,     0.80,2,   -999.0,9,   -999.0,9,  -999.00,9,   0.8959
  06AQ20070728,EurArc,   308,  1,     15,     15,2,20070827,1144, 86.7060,  99.2830, 4377,    151.9,  -0.1011,  34.5110,2,   -999.0,9,    306.8,2,     4.81,2,     9.69,2,     0.02,2,     0.72,2,   -999.0,9,   -999.0,9,  -999.00,9,  -0.1065
  06AQ20070728,EurArc,   308,  1,     16,     16,2,20070827,1144, 86.7060,  99.2830, 4377,    126.4,  -0.7233,  34.3720,2,   -999.0,9,    312.4,2,     4.58,2,     8.77,2,     0.02,2,     0.68,2,   -999.0,9,   -999.0,9,  -999.00,9,  -0.7270
  06AQ20070728,EurArc,   308,  1,     17,     17,2,20070827,1144, 86.7060,  99.2830, 4377,    101.5,  -1.3813,  34.1930,2,   -999.0,9,    317.7,2,     4.43,2,     7.99,2,     0.01,2,     0.64,2,   -999.0,9,   -999.0,9,  -999.00,9,  -1.3837
  06AQ20070728,EurArc,   308,  1,     18,     18,2,20070827,1144, 86.7060,  99.2830, 4377,     76.0,  -1.6278,  33.8780,2,   -999.0,9,    325.4,2,     4.79,2,     7.17,2,     0.02,2,     0.61,2,   -999.0,9,   -999.0,9,  -999.00,9,  -1.6293
  06AQ20070728,EurArc,   308,  1,     19,     19,2,20070827,1144, 86.7060,  99.2830, 4377,     50.9,  -1.7649,  33.3250,2,   -999.0,9,    360.7,2,     4.15,2,     4.25,2,     0.04,2,     0.45,2,   -999.0,9,   -999.0,9,  -999.00,9,  -1.7658
  06AQ20070728,EurArc,   308,  1,     21,     21,2,20070827,1144, 86.7060,  99.2830, 4377,     36.4,  -1.7200,  32.8760,2,   -999.0,9,    372.0,2,     3.96,2,     3.39,2,     0.06,2,     0.40,2,   -999.0,9,   -999.0,9,  -999.00,9,  -1.7206
  06AQ20070728,EurArc,   308,  1,     20,     20,2,20070827,1144, 86.7060,  99.2830, 4377,     36.4,  -1.7211,  32.9350,2,   -999.0,9,    371.9,2,     3.88,2,     3.09,2,     0.08,2,     0.38,2,   -999.0,9,   -999.0,9,  -999.00,9,  -1.7217
  06AQ20070728,EurArc,   308,  1,     22,     22,2,20070827,1144, 86.7060,  99.2830, 4377,     25.4,  -1.6761,  32.0470,2,   -999.0,9,    385.1,2,     2.51,2,     1.53,2,     0.05,2,     0.28,2,   -999.0,9,   -999.0,9,  -999.00,9,  -1.6765
  06AQ20070728,EurArc,   308,  1,     23,     23,2,20070827,1144, 86.7060,  99.2830, 4377,     10.2,  -1.6891,  31.8580,2,   -999.0,9,    385.0,2,     1.72,2,     0.71,2,     0.04,2,     0.21,2,   -999.0,9,   -999.0,9,  -999.00,9,  -1.6893
  06AQ20070728,EurArc,   308,  1,     24,     24,2,20070827,1144, 86.7060,  99.2830, 4377,      1.7,  -1.6889,  31.8290,2,   -999.0,9,    385.3,2,     1.72,2,     0.72,2,     0.03,2,     0.21,2,   -999.0,9,   -999.0,9,  -999.00,9,  -1.6889
  06AQ20070728,EurArc,   309,  2,      1,      1,2,20070828,2144, 87.0460, 104.7900, 4444,   1522.1,  -0.5552,  34.9130,2,   -999.0,9,    299.8,2,     9.13,2,    13.90,2,     0.00,2,     0.96,2,   2159.7,2,   2296.1,2,  -999.00,9,  -0.6233
  06AQ20070728,EurArc,   309,  2,      5,      5,2,20070828,2144, 87.0460, 104.7900, 4444,   1015.0,  -0.3017,  34.8850,2,   -999.0,9,    304.0,2,     6.81,2,    12.56,2,     0.00,2,     0.88,2,   -999.0,9,   -999.0,9,  -999.00,9,  -0.3446
  06AQ20070728,EurArc,   309,  2,      4,      4,2,20070828,2144, 87.0460, 104.7900, 4444,   1014.8,  -0.3012,  34.8850,2,   -999.0,9,    304.0,2,     6.81,2,    12.53,2,     0.00,2,     0.88,2,   -999.0,9,   -999.0,9,  -999.00,9,  -0.3441
  06AQ20070728,EurArc,   309,  2,      3,      3,2,20070828,2144, 87.0460, 104.7900, 4444,   1014.5,  -0.2988,  34.8850,2,   -999.0,9,    304.0,2,     6.84,2,    12.52,2,     0.00,2,     0.88,2,   -999.0,9,   -999.0,9,  -999.00,9,  -0.3417
  06AQ20070728,EurArc,   309,  2,      2,      2,2,20070828,2144, 87.0460, 104.7900, 4444,   1014.2,  -0.2979,  34.8850,2,   -999.0,9,    304.0,2,     6.79,2,    12.48,2,     0.00,2,     0.88,2,   2167.3,2,   2295.3,2,  -999.00,9,  -0.3408
  06AQ20070728,EurArc,   309,  2,      7,      7,2,20070828,2144, 87.0460, 104.7900, 4444,    507.7,   0.6167,  34.8750,2,   -999.0,9,    303.5,2,     5.68,2,    12.11,2,     0.00,2,     0.84,2,   -999.0,9,   -999.0,9,  -999.00,9,   0.5937
  06AQ20070728,EurArc,   309,  2,      6,      6,2,20070828,2144, 87.0460, 104.7900, 4444,    507.2,   0.6183,  34.8750,2,   -999.0,9,    303.5,2,     5.68,2,    12.06,2,     0.00,2,     0.84,2,   2158.7,2,   2295.2,2,  -999.00,9,   0.5953
  06AQ20070728,EurArc,   309,  2,      8,      8,2,20070828,2144, 87.0460, 104.7900, 4444,    304.5,   1.1450,  34.8560,2,   -999.0,9,    301.3,2,     5.34,2,    11.97,2,     0.01,2,     0.82,2,   -999.0,9,   -999.0,9,  -999.00,9,   1.1304
  06AQ20070728,EurArc,   309,  2,     10,     10,2,20070828,2144, 87.0460, 104.7900, 4444,    203.1,   1.0392,  34.7910,2,   -999.0,9,    301.8,2,     4.92,2,    11.31,2,     0.01,2,     0.79,2,   -999.0,9,   -999.0,9,  -999.00,9,   1.0299
  06AQ20070728,EurArc,   309,  2,     11,     11,2,20070828,2144, 87.0460, 104.7900, 4444,    203.1,   1.0383,  34.7910,2,   -999.0,9,    301.8,2,     4.92,2,    11.27,2,     0.01,2,     0.79,2,   -999.0,9,   -999.0,9,  -999.00,9,   1.0290
  06AQ20070728,EurArc,   309,  2,     12,     12,2,20070828,2144, 87.0460, 104.7900, 4444,    203.1,   1.0371,  34.7910,2,   -999.0,9,    301.8,2,     4.91,2,    11.22,2,     0.01,2,     0.79,2,   -999.0,9,   -999.0,9,  -999.00,9,   1.0278
  06AQ20070728,EurArc,   309,  2,      9,      9,2,20070828,2144, 87.0460, 104.7900, 4444,    202.9,   1.0410,  34.7910,2,   -999.0,9,    301.8,2,     4.92,2,    11.23,2,     0.01,2,     0.79,2,   2153.1,2,   2291.4,2,  -999.00,9,   1.0317
  06AQ20070728,EurArc,   309,  2,     13,     13,2,20070828,2144, 87.0460, 104.7900, 4444,    150.1,  -0.0164,  34.5280,2,   -999.0,9,    309.9,2,     4.61,2,     9.60,2,     0.01,2,     0.71,2,   -999.0,9,   -999.0,9,     0.10,2,  -0.0218
  06AQ20070728,EurArc,   309,  2,     14,     14,2,20070828,2144, 87.0460, 104.7900, 4444,    126.6,  -0.6545,  34.3790,2,   -999.0,9,    311.2,2,     4.49,2,     8.74,2,     0.01,2,     0.67,2,   -999.0,9,   -999.0,9,    -0.13,2,  -0.6583
  06AQ20070728,EurArc,   309,  2,     16,     16,2,20070828,2144, 87.0460, 104.7900, 4444,    101.8,  -1.2849,  34.2130,2,   -999.0,9,    317.4,2,     4.35,2,     7.95,2,     0.01,2,     0.64,2,   -999.0,9,   -999.0,9,  -999.00,9,  -1.2874
  06AQ20070728,EurArc,   309,  2,     17,     17,2,20070828,2144, 87.0460, 104.7900, 4444,    101.8,  -1.2962,  34.2110,2,   -999.0,9,    317.4,2,     4.34,2,     7.91,2,     0.01,2,     0.64,2,   -999.0,9,   -999.0,9,  -999.00,9,  -1.2987
  06AQ20070728,EurArc,   309,  2,     15,     15,2,20070828,2144, 87.0460, 104.7900, 4444,    101.7,  -1.2821,  34.2180,2,   -999.0,9,    317.4,2,     4.34,2,     8.05,2,     0.01,2,     0.64,2,   2153.4,2,   2275.8,2,    -0.30,2,  -1.2846
  06AQ20070728,EurArc,   309,  2,     18,     18,2,20070828,2144, 87.0460, 104.7900, 4444,     76.1,  -1.6313,  33.8730,2,   -999.0,9,    335.5,2,     4.68,2,     7.18,2,     0.01,2,     0.60,2,   -999.0,9,   -999.0,9,    -0.53,2,  -1.6328
  06AQ20070728,EurArc,   309,  2,     19,     19,2,20070828,2144, 87.0460, 104.7900, 4444,     50.7,  -1.7606,  33.1330,2,   -999.0,9,    366.4,2,     4.35,2,     4.23,2,     0.02,2,     0.44,2,   2144.2,2,   2265.1,2,  -999.00,9,  -1.7615
  06AQ20070728,EurArc,   309,  2,     20,     20,2,20070828,2144, 87.0460, 104.7900, 4444,     50.7,  -1.7594,  33.1340,2,   -999.0,9,    366.4,2,     4.32,2,     4.44,2,     0.02,2,     0.44,2,   -999.0,9,   -999.0,9,    -1.69,2,  -1.7603
  06AQ20070728,EurArc,   309,  2,     21,     21,2,20070828,2144, 87.0460, 104.7900, 4444,     50.7,  -1.7592,  33.1340,2,   -999.0,9,    366.4,2,     4.33,2,     4.42,2,     0.02,2,     0.44,2,   -999.0,9,   -999.0,9,  -999.00,9,  -1.7601
  06AQ20070728,EurArc,   309,  2,     22,     22,2,20070828,2144, 87.0460, 104.7900, 4444,     50.7,  -1.7584,  33.1350,2,   -999.0,9,    366.4,2,     4.27,2,     5.88,2,     0.02,2,     0.43,2,   -999.0,9,   -999.0,9,  -999.00,9,  -1.7593
  06AQ20070728,EurArc,   309,  2,     23,     23,2,20070828,2144, 87.0460, 104.7900, 4444,     25.5,  -1.6847,  32.6500,2,   -999.0,9,    379.6,2,     3.71,2,     2.77,2,     0.06,2,     0.35,2,   -999.0,9,   -999.0,9,    -2.16,2,  -1.6851
  06AQ20070728,EurArc,   309,  2,     24,     24,2,20070828,2144, 87.0460, 104.7900, 4444,      5.2,  -1.6876,  31.7580,2,   -999.0,9,    381.9,2,     2.07,2,     1.20,2,     0.03,2,     0.22,2,   -999.0,9,   -999.0,9,    -2.13,2,  -1.6877