BOTTLE,20220921CCHSIOAMB
EXPOCODE,SECT_ID,STNNBR,CASTNO,SAMPNO,BTLNBR,BTLNBR_FLAG_W,DATE,TIME,LATITUDE,LONGITUDE,DEPTH,CTDPRS,CTDTMP,CTDSAL,CTDSAL_FLAG_W,CTDOXY,CTDOXY_FLAG_W,OXYGEN,OXYGEN_FLAG_W,SILCAT,SILCAT_FLAG_W,NITRAT,NITRAT_FLAG_W,NITRIT,NITRIT_FLAG_W,PHSPHT,PHSPHT_FLAG_W,TCARBN,TCARBN_FLAG_W,ALKALI,ALKALI_FLAG_W,DELO18,DELO18_FLAG_W,THETA
,,,,,,,,,,,METERS,DBAR,ITS-90,PSS-78,,UMOL/KG,,UMOL/KG,,UMOL/KG,,UMOL/KG,,UMOL/KG,,UMOL/KG,,UMOL/KG,,UMOL/KG,,/MILLE,,DEG C
  06AQ20070728,EurArc,   389,  1,     24,     24,2,20070921,0726, 78.3550, 124.5200, 2600,      9.7,   0.0408,  31.2270,2,   -999.0,9,    358.0,2,     2.19,2,     0.23,2,     0.04,2,     0.20,2,   -999.0,9,   -999.0,9,  -999.00,9,   0.0405
  06AQ20070728,EurArc,   389,  1,     23,     23,2,20070921,0726, 78.3550, 124.5200, 2600,      9.7,  -0.0897,  31.4660,2,   -999.0,9,    357.9,2,     2.48,2,     0.30,2,     0.06,2,     0.23,2,   -999.0,9,   -999.0,9,    -1.23,2,  -0.0900
  06AQ20070728,EurArc,   389,  1,     22,     22,2,20070921,0726, 78.3550, 124.5200, 2600,     24.1,  -1.6165,  33.4610,2,   -999.0,9,    370.7,2,     3.58,2,     3.65,2,     0.26,2,     0.42,2,   -999.0,9,   -999.0,9,    -0.87,2,  -1.6170
  06AQ20070728,EurArc,   389,  1,     21,     21,2,20070921,0726, 78.3550, 124.5200, 2600,     24.3,  -1.6203,  33.4680,2,   -999.0,9,    370.7,2,     3.51,2,     3.80,2,     0.21,2,     0.43,2,   -999.0,9,   -999.0,9,  -999.00,9,  -1.6208
  06AQ20070728,EurArc,   389,  1,     20,     20,2,20070921,0726, 78.3550, 124.5200, 2600,     51.3,  -1.7382,  34.0230,2,   -999.0,9,    343.5,2,     2.40,2,     5.22,2,     0.03,2,     0.47,2,   2131.0,2,   2266.7,2,    -0.31,2,  -1.7392
  06AQ20070728,EurArc,   389,  1,     19,     19,2,20070921,0726, 78.3550, 124.5200, 2600,     77.1,  -1.6317,  34.2020,2,   -999.0,9,    336.6,2,     2.61,2,     6.29,2,     0.03,2,     0.53,2,   -999.0,9,   -999.0,9,    -0.15,2,  -1.6333
  06AQ20070728,EurArc,   389,  1,     18,     18,2,20070921,0726, 78.3550, 124.5200, 2600,    100.9,  -1.1191,  34.3490,2,   -999.0,9,    326.9,2,     3.02,2,     7.58,2,     0.02,2,     0.60,2,   -999.0,9,   -999.0,9,  -999.00,9,  -1.1217
  06AQ20070728,EurArc,   389,  1,     17,     17,2,20070921,0726, 78.3550, 124.5200, 2600,    100.6,  -1.1272,  34.3530,2,   -999.0,9,    327.0,2,     3.07,2,     7.74,2,     0.02,2,     0.60,2,   1973.2,3,   2274.3,2,    -0.08,2,  -1.1298
  06AQ20070728,EurArc,   389,  1,     16,     16,2,20070921,0726, 78.3550, 124.5200, 2600,    151.3,   1.0584,  34.6960,2,   -999.0,9,    310.1,2,     3.86,2,    10.39,2,     0.02,2,     0.74,2,   -999.0,9,   -999.0,9,     0.17,2,   1.0515
  06AQ20070728,EurArc,   389,  1,     15,     15,2,20070921,0726, 78.3550, 124.5200, 2600,    202.3,   1.8562,  34.8460,2,   -999.0,9,    301.5,2,     4.33,2,    11.28,2,     0.01,2,     0.78,2,   -999.0,9,   -999.0,9,  -999.00,9,   1.8455
  06AQ20070728,EurArc,   389,  1,     14,     14,2,20070921,0726, 78.3550, 124.5200, 2600,    252.5,   1.9280,  34.8850,2,   -999.0,9,    300.3,2,     4.60,2,    11.61,2,     0.01,2,     0.80,2,   -999.0,9,   -999.0,9,  -999.00,9,   1.9144
  06AQ20070728,EurArc,   389,  1,     13,     13,2,20070921,0726, 78.3550, 124.5200, 2600,    303.7,   1.9308,  34.9170,2,   -999.0,9,    300.4,2,     4.92,2,    11.87,2,     0.01,2,     0.82,2,   -999.0,9,   -999.0,9,  -999.00,9,   1.9143
  06AQ20070728,EurArc,   389,  1,     12,     12,2,20070921,0726, 78.3550, 124.5200, 2600,    405.1,   1.4358,  34.9150,2,   -999.0,9,    302.3,2,     5.21,2,    11.95,2,     0.01,2,     0.83,2,   -999.0,9,   -999.0,9,  -999.00,9,   1.4150
  06AQ20070728,EurArc,   389,  1,     11,     11,2,20070921,0726, 78.3550, 124.5200, 2600,    505.5,   0.8357,  34.8990,2,   -999.0,9,    304.1,2,     5.48,2,    12.07,2,     0.01,2,     0.84,2,   2170.0,3,   2296.0,2,  -999.00,9,   0.8119
  06AQ20070728,EurArc,   389,  1,     10,     10,2,20070921,0726, 78.3550, 124.5200, 2600,    607.0,   0.3525,  34.8850,2,   -999.0,9,    307.1,2,     5.43,2,    11.69,2,     0.01,2,     0.83,2,   -999.0,9,   -999.0,9,  -999.00,9,   0.3258
  06AQ20070728,EurArc,   389,  1,      9,      9,2,20070921,0726, 78.3550, 124.5200, 2600,    758.8,  -0.0151,  34.8830,2,   -999.0,9,    311.0,2,     5.49,2,    11.52,2,     0.02,2,     0.82,2,   -999.0,9,   -999.0,9,  -999.00,9,  -0.0472
  06AQ20070728,EurArc,   389,  1,      8,      8,2,20070921,0726, 78.3550, 124.5200, 2600,    912.7,  -0.1706,  34.8910,2,   -999.0,9,    311.7,2,     5.84,2,    11.73,2,     0.01,2,     0.84,2,   -999.0,9,   -999.0,9,  -999.00,9,  -0.2093
  06AQ20070728,EurArc,   389,  1,      7,      7,2,20070921,0726, 78.3550, 124.5200, 2600,   1013.3,  -0.2748,  34.8950,2,   -999.0,9,    312.3,2,     6.15,2,    12.12,2,     0.02,2,     0.85,2,   2176.2,2,   2295.9,2,  -999.00,9,  -0.3179
  06AQ20070728,EurArc,   389,  1,      6,      6,2,20070921,0726, 78.3550, 124.5200, 2600,   1267.9,  -0.4540,  34.9050,2,   -999.0,9,    307.0,2,     7.62,2,    12.94,2,     0.02,2,     0.90,2,   -999.0,9,   -999.0,9,  -999.00,9,  -0.5089
  06AQ20070728,EurArc,   389,  1,      5,      5,2,20070921,0726, 78.3550, 124.5200, 2600,   1520.8,  -0.5952,  34.9110,2,   -999.0,9,    302.9,2,     9.03,2,    13.86,2,     0.02,2,     0.96,2,   2170.5,3,   2297.8,2,  -999.00,9,  -0.6628
  06AQ20070728,EurArc,   389,  1,      4,      4,2,20070921,0726, 78.3550, 124.5200, 2600,   1777.1,  -0.6922,  34.9130,2,   -999.0,9,    301.6,2,     9.51,2,    13.92,2,     0.02,2,     0.96,2,   -999.0,9,   -999.0,9,  -999.00,9,  -0.7738
  06AQ20070728,EurArc,   389,  1,      3,      3,2,20070921,0726, 78.3550, 124.5200, 2600,   2030.9,  -0.7212,  34.9190,2,   -999.0,9,    297.8,2,    10.53,2,    14.66,2,     0.02,2,     1.00,2,   2159.5,2,   2294.2,2,  -999.00,9,  -0.8185
  06AQ20070728,EurArc,   389,  1,      2,      2,2,20070921,0726, 78.3550, 124.5200, 2600,   2285.9,  -0.7593,  34.9230,2,   -999.0,9,    297.7,2,    10.79,2,    15.10,2,     0.02,2,     1.01,2,   -999.0,9,   -999.0,9,  -999.00,9,  -0.8732
  06AQ20070728,EurArc,   389,  1,      1,      1,2,20070921,0726, 78.3550, 124.5200, 2600,   2543.8,  -0.7832,  34.9340,2,   -999.0,9,    296.3,2,    11.26,2,    16.26,3,     0.02,2,     1.01,2,   2160.4,2,   2296.8,2,  -999.00,9,  -0.9151
  06AQ20070728,EurArc,   391,  1,     21,     21,2,20070921,1605, 78.1300, 124.2400, 2382,      2.1,  -0.8336,  30.1720,2,    354.9,2,    366.4,2,     2.30,2,     0.02,2,     0.02,2,     0.16,2,   -999.0,9,   -999.0,9,    -1.54,2,  -0.8336
  06AQ20070728,EurArc,   391,  1,     20,     20,2,20070921,1605, 78.1300, 124.2400, 2382,     10.7,  -0.8132,  30.2190,2,    354.4,2,    367.0,2,     2.46,2,     0.26,2,     0.04,2,     0.19,2,   -999.0,9,   -999.0,9,    -1.48,2,  -0.8134
  06AQ20070728,EurArc,   391,  1,     19,     19,2,20070921,1605, 78.1300, 124.2400, 2382,     25.2,  -1.5338,  33.1810,2,    333.6,2,    359.6,2,     4.27,2,     4.09,2,     0.16,2,     0.47,2,   -999.0,9,   -999.0,9,    -0.98,2,  -1.5343
  06AQ20070728,EurArc,   391,  1,     18,     18,2,20070921,1605, 78.1300, 124.2400, 2382,     25.5,  -1.5388,  33.2240,2,   -999.0,9,    358.7,2,     4.31,2,     4.19,2,     0.15,2,     0.48,2,   -999.0,9,   -999.0,9,  -999.00,9,  -1.5393
  06AQ20070728,EurArc,   391,  1,     17,     17,2,20070921,1605, 78.1300, 124.2400, 2382,     25.5,  -1.5464,  33.3100,2,   -999.0,9,    358.7,2,     4.39,2,     4.30,2,     0.14,2,     0.50,2,   -999.0,9,   -999.0,9,  -999.00,9,  -1.5469
  06AQ20070728,EurArc,   391,  1,     16,     16,2,20070921,1605, 78.1300, 124.2400, 2382,     50.8,  -1.5670,  34.2670,2,    316.8,2,    336.5,2,     3.55,2,     7.06,2,     0.03,2,     0.59,2,   -999.0,9,   -999.0,9,    -0.23,2,  -1.5681
  06AQ20070728,EurArc,   391,  1,     15,     15,2,20070921,1605, 78.1300, 124.2400, 2382,     76.2,  -1.1242,  34.3940,2,    312.5,2,    326.1,2,     3.48,2,     7.60,2,     0.02,2,     0.62,2,   -999.0,9,   -999.0,9,    -0.22,2,  -1.1262
  06AQ20070728,EurArc,   391,  1,     14,     14,2,20070921,1605, 78.1300, 124.2400, 2382,    100.9,  -0.5433,  34.5050,2,    307.1,2,    324.0,2,     3.61,2,     8.90,2,     0.02,2,     0.68,2,   -999.0,9,   -999.0,9,    -0.14,2,  -0.5464
  06AQ20070728,EurArc,   391,  1,     13,     13,2,20070921,1605, 78.1300, 124.2400, 2382,    126.5,   0.8972,  34.6800,2,    294.2,2,    309.2,2,     3.89,2,    10.35,2,     0.02,2,     0.74,2,   -999.0,9,   -999.0,9,    -0.03,2,   0.8916
  06AQ20070728,EurArc,   391,  1,     12,     12,2,20070921,1605, 78.1300, 124.2400, 2382,    151.7,   1.5403,  34.8040,2,    289.6,2,    302.5,2,     4.17,2,    10.85,2,     0.02,2,     0.77,2,   -999.0,9,   -999.0,9,     0.11,2,   1.5328
  06AQ20070728,EurArc,   391,  1,     11,     11,2,20070921,1605, 78.1300, 124.2400, 2382,    202.7,   2.0383,  34.8910,2,   -999.0,9,    301.2,2,     4.58,2,    11.45,2,     0.01,2,     0.81,2,   -999.0,9,   -999.0,9,  -999.00,9,   2.0273
  06AQ20070728,EurArc,   391,  1,     10,     10,2,20070921,1605, 78.1300, 124.2400, 2382,    303.1,   1.8251,  34.9110,2,   -999.0,9,    301.9,2,     4.98,2,    11.71,2,     0.01,2,     0.83,2,   -999.0,9,   -999.0,9,  -999.00,9,   1.8089
  06AQ20070728,EurArc,   391,  1,      9,      9,2,20070921,1605, 78.1300, 124.2400, 2382,    405.2,   1.3485,  34.9120,2,   -999.0,9,    304.7,2,     5.29,2,    11.74,2,     0.01,2,     0.84,2,   -999.0,9,   -999.0,9,  -999.00,9,   1.3280
  06AQ20070728,EurArc,   391,  1,      8,      8,2,20070921,1605, 78.1300, 124.2400, 2382,    506.4,   0.7923,  34.8960,2,   -999.0,9,    307.2,2,     5.48,2,    11.59,2,     0.00,2,     0.84,2,   -999.0,9,   -999.0,9,  -999.00,9,   0.7686
  06AQ20070728,EurArc,   391,  1,      7,      7,2,20070921,1605, 78.1300, 124.2400, 2382,    759.7,   0.0709,  34.8910,2,   -999.0,9,    310.4,2,     5.76,2,    11.36,2,     0.01,2,     0.84,2,   -999.0,9,   -999.0,9,  -999.00,9,   0.0382
  06AQ20070728,EurArc,   391,  1,      6,      6,2,20070921,1605, 78.1300, 124.2400, 2382,   1014.1,  -0.2854,  34.8920,2,   -999.0,9,    313.1,2,     6.32,2,    11.72,2,     0.01,2,     0.86,2,   -999.0,9,   -999.0,9,  -999.00,9,  -0.3284
  06AQ20070728,EurArc,   391,  1,      5,      5,2,20070921,1605, 78.1300, 124.2400, 2382,   1267.9,  -0.4503,  34.9040,2,   -999.0,9,    308.3,2,     7.74,2,    12.63,2,     0.01,2,     0.91,2,   -999.0,9,   -999.0,9,  -999.00,9,  -0.5053
  06AQ20070728,EurArc,   391,  1,      4,      4,2,20070921,1605, 78.1300, 124.2400, 2382,   1521.2,  -0.5706,  34.9110,2,   -999.0,9,    306.4,2,     8.50,2,    13.01,2,     0.01,2,     0.94,2,   -999.0,9,   -999.0,9,  -999.00,9,  -0.6385
  06AQ20070728,EurArc,   391,  1,      3,      3,2,20070921,1605, 78.1300, 124.2400, 2382,   1521.8,  -0.5769,  34.9100,2,   -999.0,9,    306.4,2,     8.53,2,    13.08,2,     0.01,2,     0.93,2,   -999.0,9,   -999.0,9,  -999.00,9,  -0.6447
  06AQ20070728,EurArc,   391,  1,      2,      2,2,20070921,1605, 78.1300, 124.2400, 2382,   2031.1,  -0.7177,  34.9170,2,   -999.0,9,    299.1,2,    10.52,2,    14.25,2,     0.01,2,     1.00,2,   -999.0,9,   -999.0,9,  -999.00,9,  -0.8150
  06AQ20070728,EurArc,   391,  1,      1,      1,2,20070921,1605, 78.1300, 124.2400, 2382,   2413.6,  -0.7814,  34.9290,2,   -999.0,9,    295.3,2,    11.51,2,    14.35,2,     0.02,2,     1.01,2,   -999.0,9,   -999.0,9,  -999.00,9,  -0.9039
  06AQ20070728,EurArc,   394,  1,     18,     18,2,20070921,1949, 77.8630, 123.9300, 2091,      1.9,  -1.3735,  30.0310,2,    359.1,2,    370.6,2,     2.21,2,     0.18,2,     0.02,2,     0.17,2,   -999.0,9,   -999.0,9,    -1.71,2,  -1.3735
  06AQ20070728,EurArc,   394,  1,     17,     17,2,20070921,1949, 77.8630, 123.9300, 2091,      9.8,  -1.3444,  30.0470,2,    357.8,2,    370.9,2,     2.49,2,     0.69,2,     0.07,2,     0.22,2,   -999.0,9,   -999.0,9,    -1.57,2,  -1.3445
  06AQ20070728,EurArc,   394,  1,     16,     16,2,20070921,1949, 77.8630, 123.9300, 2091,     24.9,  -1.5191,  33.9560,2,    320.6,2,    355.4,2,     4.24,2,     6.08,2,     0.03,2,     0.55,2,   -999.0,9,   -999.0,9,    -0.62,2,  -1.5196
  06AQ20070728,EurArc,   394,  1,     15,     15,2,20070921,1949, 77.8630, 123.9300, 2091,     50.4,  -1.5318,  34.3220,2,    317.1,2,    331.0,2,     3.45,2,     7.32,2,     0.01,2,     0.59,2,   -999.0,9,   -999.0,9,    -0.30,2,  -1.5329
  06AQ20070728,EurArc,   394,  1,     14,     14,2,20070921,1949, 77.8630, 123.9300, 2091,     75.8,  -1.1562,  34.4340,2,    313.9,2,    327.7,2,     3.59,2,     7.91,2,     0.01,2,     0.62,2,   -999.0,9,   -999.0,9,    -0.24,2,  -1.1581
  06AQ20070728,EurArc,   394,  1,     13,     13,2,20070921,1949, 77.8630, 123.9300, 2091,    101.2,  -0.4131,  34.5360,2,    304.5,2,    323.0,2,     3.63,2,     9.00,2,     0.01,2,     0.67,2,   -999.0,9,   -999.0,9,     0.03,2,  -0.4164
  06AQ20070728,EurArc,   394,  1,     12,     12,2,20070921,1949, 77.8630, 123.9300, 2091,    127.1,   0.0821,  34.6250,2,    301.4,2,    315.8,2,     3.81,2,     9.73,2,     0.01,2,     0.71,2,   -999.0,9,   -999.0,9,     0.06,2,   0.0774
  06AQ20070728,EurArc,   394,  1,     11,     11,2,20070921,1949, 77.8630, 123.9300, 2091,    151.4,   1.2698,  34.7890,2,    291.8,2,    306.0,2,     4.27,2,    11.03,2,     0.01,2,     0.77,2,   -999.0,9,   -999.0,9,     0.16,2,   1.2626
  06AQ20070728,EurArc,   394,  1,     10,     10,2,20070921,1949, 77.8630, 123.9300, 2091,    201.6,   1.6612,  34.8560,2,   -999.0,9,    304.0,2,     4.43,2,    11.34,2,     0.00,2,     0.78,2,   -999.0,9,   -999.0,9,  -999.00,9,   1.6509
  06AQ20070728,EurArc,   394,  1,      9,      9,2,20070921,1949, 77.8630, 123.9300, 2091,    303.7,   1.4575,  34.8800,2,   -999.0,9,    305.2,2,     4.74,2,    11.54,2,     0.00,2,     0.80,2,   -999.0,9,   -999.0,9,  -999.00,9,   1.4422
  06AQ20070728,EurArc,   394,  1,      8,      8,2,20070921,1949, 77.8630, 123.9300, 2091,    506.0,   0.5858,  34.8700,2,   -999.0,9,    309.7,2,     4.94,2,    11.24,2,     0.00,2,     0.80,2,   -999.0,9,   -999.0,9,  -999.00,9,   0.5630
  06AQ20070728,EurArc,   394,  1,      7,      7,2,20070921,1949, 77.8630, 123.9300, 2091,    759.7,   0.0778,  34.8740,2,   -999.0,9,    312.3,2,     5.26,2,    11.20,2,     0.00,2,     0.80,2,   -999.0,9,   -999.0,9,  -999.00,9,   0.0451
  06AQ20070728,EurArc,   394,  1,      6,      6,2,20070921,1949, 77.8630, 123.9300, 2091,   1014.2,  -0.0548,  34.9040,2,   -999.0,9,    309.2,2,     6.37,2,    12.11,2,     0.00,2,     0.86,2,   -999.0,9,   -999.0,9,  -999.00,9,  -0.0998
  06AQ20070728,EurArc,   394,  1,      5,      5,2,20070921,1949, 77.8630, 123.9300, 2091,   1267.7,  -0.2549,  34.9150,2,   -999.0,9,    306.6,2,     7.28,2,    12.69,2,     0.00,2,     0.90,2,   -999.0,9,   -999.0,9,  -999.00,9,  -0.3119
  06AQ20070728,EurArc,   394,  1,      4,      4,2,20070921,1949, 77.8630, 123.9300, 2091,   1267.9,  -0.2551,  34.9140,2,   -999.0,9,    306.5,2,     7.29,2,    12.72,2,     0.00,2,     0.90,2,   -999.0,9,   -999.0,9,  -999.00,9,  -0.3121
  06AQ20070728,EurArc,   394,  1,      3,      3,2,20070921,1949, 77.8630, 123.9300, 2091,   1522.1,  -0.4566,  34.9150,2,   -999.0,9,    305.3,2,     8.17,2,    13.21,2,     0.00,2,     0.92,2,   -999.0,9,   -999.0,9,  -999.00,9,  -0.5259
  06AQ20070728,EurArc,   394,  1,      2,      2,2,20070921,1949, 77.8630, 123.9300, 2091,   2030.6,  -0.7288,  34.9150,2,   -999.0,9,    304.8,2,     9.34,2,    13.63,2,     0.00,2,     0.95,2,   -999.0,9,   -999.0,9,  -999.00,9,  -0.8259
  06AQ20070728,EurArc,   394,  1,      1,      1,2,20070921,1949, 77.8630, 123.9300, 2091,   2116.0,  -0.7872,  34.9270,2,   -999.0,9,    295.3,3,    11.53,3,    14.60,3,     0.01,2,     1.01,2,   -999.0,9,   -999.0,9,  -999.00,9,  -0.8890