BOTTLE,20220921CCHSIOAMB
EXPOCODE,SECT_ID,STNNBR,CASTNO,SAMPNO,BTLNBR,BTLNBR_FLAG_W,DATE,TIME,LATITUDE,LONGITUDE,DEPTH,CTDPRS,CTDTMP,CTDSAL,CTDSAL_FLAG_W,CTDOXY,CTDOXY_FLAG_W,OXYGEN,OXYGEN_FLAG_W,SILCAT,SILCAT_FLAG_W,NITRAT,NITRAT_FLAG_W,NITRIT,NITRIT_FLAG_W,PHSPHT,PHSPHT_FLAG_W,TCARBN,TCARBN_FLAG_W,ALKALI,ALKALI_FLAG_W,DELO18,DELO18_FLAG_W,THETA
,,,,,,,,,,,METERS,DBAR,ITS-90,PSS-78,,UMOL/KG,,UMOL/KG,,UMOL/KG,,UMOL/KG,,UMOL/KG,,UMOL/KG,,UMOL/KG,,UMOL/KG,,/MILLE,,DEG C
  06AQ20070728,EurArc,   342,  9,      1,      1,2,20070907,1516, 84.5000,-138.4200, 2190,    151.7,  -1.4488,  33.9960,2,   -999.0,9,    298.2,2,     9.91,2,     9.41,2,     0.01,2,     0.82,2,   -999.0,9,   -999.0,9,  -999.00,9,  -1.4523
  06AQ20070728,EurArc,   342,  9,      2,      2,2,20070907,1516, 84.5000,-138.4200, 2190,    151.7,  -1.4502,  33.9950,2,   -999.0,9,    298.2,2,  -999.00,9,  -999.00,9,  -999.00,9,  -999.00,9,   -999.0,9,   -999.0,9,  -999.00,9,  -1.4537
  06AQ20070728,EurArc,   342,  9,      4,      4,2,20070907,1516, 84.5000,-138.4200, 2190,    151.7,  -1.4536,  33.9880,2,   -999.0,9,    298.2,2,  -999.00,9,  -999.00,9,  -999.00,9,  -999.00,9,   -999.0,9,   -999.0,9,  -999.00,9,  -1.4571
  06AQ20070728,EurArc,   342,  9,      5,      5,2,20070907,1516, 84.5000,-138.4200, 2190,    151.7,  -1.4500,  33.9920,2,   -999.0,9,    298.2,2,  -999.00,9,  -999.00,9,  -999.00,9,  -999.00,9,   -999.0,9,   -999.0,9,  -999.00,9,  -1.4535
  06AQ20070728,EurArc,   342,  9,      3,      3,2,20070907,1516, 84.5000,-138.4200, 2190,    151.7,  -1.4529,  33.9900,2,   -999.0,9,    298.2,2,  -999.00,9,  -999.00,9,  -999.00,9,  -999.00,9,   -999.0,9,   -999.0,9,  -999.00,9,  -1.4564
  06AQ20070728,EurArc,   342,  9,      8,      8,2,20070907,1516, 84.5000,-138.4200, 2190,    132.1,  -1.4429,  33.5620,2,   -999.0,9,    267.9,2,    15.15,2,    10.50,2,     0.01,2,     1.00,2,   -999.0,9,   -999.0,9,  -999.00,9,  -1.4458
  06AQ20070728,EurArc,   342,  9,     16,     16,2,20070907,1516, 84.5000,-138.4200, 2190,    132.1,  -1.4447,  33.5750,2,   -999.0,9,    267.9,2,  -999.00,9,  -999.00,9,  -999.00,9,  -999.00,9,   -999.0,9,   -999.0,9,  -999.00,9,  -1.4476
  06AQ20070728,EurArc,   342,  9,     17,     17,2,20070907,1516, 84.5000,-138.4200, 2190,    132.1,  -1.4462,  33.5830,2,   -999.0,9,    267.9,2,  -999.00,9,  -999.00,9,  -999.00,9,  -999.00,9,   -999.0,9,   -999.0,9,  -999.00,9,  -1.4491
  06AQ20070728,EurArc,   342,  9,      9,      9,2,20070907,1516, 84.5000,-138.4200, 2190,    132.1,  -1.4427,  33.5600,2,   -999.0,9,    267.9,2,  -999.00,9,  -999.00,9,  -999.00,9,  -999.00,9,   -999.0,9,   -999.0,9,  -999.00,9,  -1.4456
  06AQ20070728,EurArc,   342,  9,     18,     18,2,20070907,1516, 84.5000,-138.4200, 2190,    132.1,  -1.4445,  33.5730,2,   -999.0,9,    267.9,2,  -999.00,9,  -999.00,9,  -999.00,9,  -999.00,9,   -999.0,9,   -999.0,9,  -999.00,9,  -1.4474
  06AQ20070728,EurArc,   342,  9,     15,     15,2,20070907,1516, 84.5000,-138.4200, 2190,    132.1,  -1.4457,  33.5770,2,   -999.0,9,    267.9,2,  -999.00,9,  -999.00,9,  -999.00,9,  -999.00,9,   -999.0,9,   -999.0,9,  -999.00,9,  -1.4486
  06AQ20070728,EurArc,   342,  9,     14,     14,2,20070907,1516, 84.5000,-138.4200, 2190,    132.1,  -1.4445,  33.5740,2,   -999.0,9,    267.9,2,  -999.00,9,  -999.00,9,  -999.00,9,  -999.00,9,   -999.0,9,   -999.0,9,  -999.00,9,  -1.4474
  06AQ20070728,EurArc,   342,  9,     13,     13,2,20070907,1516, 84.5000,-138.4200, 2190,    132.1,  -1.4448,  33.5740,2,   -999.0,9,    267.9,2,  -999.00,9,  -999.00,9,  -999.00,9,  -999.00,9,   -999.0,9,   -999.0,9,  -999.00,9,  -1.4477
  06AQ20070728,EurArc,   342,  9,     10,     10,2,20070907,1516, 84.5000,-138.4200, 2190,    132.1,  -1.4547,  33.5960,2,   -999.0,9,    267.9,2,  -999.00,9,  -999.00,9,  -999.00,9,  -999.00,9,   -999.0,9,   -999.0,9,  -999.00,9,  -1.4576
  06AQ20070728,EurArc,   342,  9,     11,     11,2,20070907,1516, 84.5000,-138.4200, 2190,    132.1,  -1.4499,  33.5950,2,   -999.0,9,    267.9,2,  -999.00,9,  -999.00,9,  -999.00,9,  -999.00,9,   -999.0,9,   -999.0,9,  -999.00,9,  -1.4528
  06AQ20070728,EurArc,   342,  9,      6,      6,2,20070907,1516, 84.5000,-138.4200, 2190,    132.1,  -1.4435,  33.5670,2,   -999.0,9,    267.9,2,  -999.00,9,  -999.00,9,  -999.00,9,  -999.00,9,   -999.0,9,   -999.0,9,  -999.00,9,  -1.4464
  06AQ20070728,EurArc,   342,  9,     12,     12,2,20070907,1516, 84.5000,-138.4200, 2190,    132.1,  -1.4471,  33.5890,2,   -999.0,9,    267.9,2,  -999.00,9,  -999.00,9,  -999.00,9,  -999.00,9,   -999.0,9,   -999.0,9,  -999.00,9,  -1.4500
  06AQ20070728,EurArc,   342,  9,      7,      7,2,20070907,1516, 84.5000,-138.4200, 2190,    132.1,  -1.4440,  33.5690,2,   -999.0,9,    267.9,2,  -999.00,9,  -999.00,9,  -999.00,9,  -999.00,9,   -999.0,9,   -999.0,9,  -999.00,9,  -1.4469
  06AQ20070728,EurArc,   342,  9,     19,     19,2,20070907,1516, 84.5000,-138.4200, 2190,    118.9,  -1.3776,  32.9530,2,   -999.0,9,    253.5,2,    30.01,2,    13.66,2,     0.01,2,     1.61,2,   -999.0,9,   -999.0,9,  -999.00,9,  -1.3801
  06AQ20070728,EurArc,   342,  9,     22,     22,2,20070907,1516, 84.5000,-138.4200, 2190,    101.6,  -1.4115,  32.4290,2,   -999.0,9,    284.9,2,    34.41,2,    14.59,2,     0.02,2,     1.94,2,   -999.0,9,   -999.0,9,  -999.00,9,  -1.4135
  06AQ20070728,EurArc,   342,  9,     21,     21,2,20070907,1516, 84.5000,-138.4200, 2190,    101.6,  -1.4277,  32.3960,2,   -999.0,9,    284.9,2,  -999.00,9,  -999.00,9,  -999.00,9,  -999.00,9,   -999.0,9,   -999.0,9,  -999.00,9,  -1.4297
  06AQ20070728,EurArc,   342,  9,     20,     20,2,20070907,1516, 84.5000,-138.4200, 2190,    101.6,  -1.4035,  32.4380,2,   -999.0,9,    284.9,2,  -999.00,9,  -999.00,9,  -999.00,9,  -999.00,9,   -999.0,9,   -999.0,9,  -999.00,9,  -1.4055
  06AQ20070728,EurArc,   342,  9,     23,     23,2,20070907,1516, 84.5000,-138.4200, 2190,    101.6,  -1.3895,  32.4770,2,   -999.0,9,    284.9,2,  -999.00,9,  -999.00,9,  -999.00,9,  -999.00,9,   -999.0,9,   -999.0,9,  -999.00,9,  -1.3915
  06AQ20070728,EurArc,   342,  9,     24,     24,2,20070907,1516, 84.5000,-138.4200, 2190,      2.4,  -1.4920,  29.0660,2,   -999.0,9,    395.1,2,     4.77,2,     0.17,2,     0.00,2,     0.80,2,   -999.0,9,   -999.0,9,  -999.00,9,  -1.4920
  06AQ20070728,EurArc,   345,  1,     21,     21,2,20070908,0728, 84.6930,-145.4400, 2295,      1.4,  -1.4783,  28.2120,2,    381.2,2,    390.6,2,     5.79,2,     0.02,2,     0.00,2,     0.78,2,   -999.0,9,   -999.0,9,  -999.00,9,  -1.4783
  06AQ20070728,EurArc,   345,  1,     20,     20,2,20070908,0728, 84.6930,-145.4400, 2295,     10.1,  -1.4793,  28.2670,2,    381.5,2,    391.9,2,     5.71,2,     0.03,2,     0.00,2,     0.79,2,   -999.0,9,   -999.0,9,    -2.92,2,  -1.4794
  06AQ20070728,EurArc,   345,  1,     19,     19,2,20070908,0728, 84.6930,-145.4400, 2295,     25.0,  -1.3443,  29.7290,2,    385.1,2,    391.0,2,     5.02,2,     0.03,2,     0.00,2,     0.84,2,   -999.0,9,   -999.0,9,    -2.55,2,  -1.3447
  06AQ20070728,EurArc,   345,  1,     18,     18,2,20070908,0728, 84.6930,-145.4400, 2295,     50.5,  -1.4966,  30.3060,2,    383.4,2,    399.1,2,     5.00,2,     0.44,2,     0.05,2,     0.87,2,   -999.0,9,   -999.0,9,    -2.34,2,  -1.4973
  06AQ20070728,EurArc,   345,  1,     17,     17,2,20070908,0728, 84.6930,-145.4400, 2295,     75.6,  -1.5263,  32.1430,2,    292.1,2,    350.3,2,    23.35,2,    10.38,2,     0.03,2,     1.58,2,   -999.0,9,   -999.0,9,    -1.53,2,  -1.5276
  06AQ20070728,EurArc,   345,  1,     16,     16,2,20070908,0728, 84.6930,-145.4400, 2295,     99.4,  -1.4616,  32.9280,2,    259.0,2,    276.6,2,    26.09,2,    12.04,2,     0.02,2,     1.42,2,   -999.0,9,   -999.0,9,    -1.37,2,  -1.4636
  06AQ20070728,EurArc,   345,  1,     15,     15,2,20070908,0728, 84.6930,-145.4400, 2295,     99.4,  -1.4615,  32.9310,2,   -999.0,9,    276.6,2,    26.11,2,    12.05,2,     0.02,2,     1.42,2,   -999.0,9,   -999.0,9,  -999.00,9,  -1.4635
  06AQ20070728,EurArc,   345,  1,     14,     14,2,20070908,0728, 84.6930,-145.4400, 2295,     99.4,  -1.4612,  32.9330,2,   -999.0,9,    276.6,2,    26.97,2,    12.17,2,     0.02,2,     1.46,2,   -999.0,9,   -999.0,9,  -999.00,9,  -1.4632
  06AQ20070728,EurArc,   345,  1,     13,     13,2,20070908,0728, 84.6930,-145.4400, 2295,    126.7,  -1.5094,  33.8670,2,    284.8,2,    294.5,2,    10.32,2,     9.21,2,     0.02,2,     0.83,2,   -999.0,9,   -999.0,9,    -0.74,2,  -1.5122
  06AQ20070728,EurArc,   345,  1,     12,     12,2,20070908,0728, 84.6930,-145.4400, 2295,    151.9,  -0.9953,  34.1660,2,    291.4,2,    303.9,2,     6.30,2,     9.08,2,     0.02,2,     0.72,2,   -999.0,9,   -999.0,9,    -0.28,2,  -0.9994
  06AQ20070728,EurArc,   345,  1,     11,     11,2,20070908,0728, 84.6930,-145.4400, 2295,    202.4,  -0.0986,  34.5050,2,   -999.0,9,    296.3,2,     6.93,2,    10.92,2,     0.02,2,     0.80,2,   -999.0,9,   -999.0,9,  -999.00,9,  -0.1059
  06AQ20070728,EurArc,   345,  1,     10,     10,2,20070908,0728, 84.6930,-145.4400, 2295,    303.7,   0.5967,  34.7790,2,   -999.0,9,    291.6,2,     6.95,2,    12.31,2,     0.02,2,     0.85,2,   -999.0,9,   -999.0,9,  -999.00,9,   0.5836
  06AQ20070728,EurArc,   345,  1,      9,      9,2,20070908,0728, 84.6930,-145.4400, 2295,    506.2,   0.4830,  34.8590,2,   -999.0,9,    294.8,2,     6.99,2,    12.51,2,     0.02,2,     0.87,2,   -999.0,9,   -999.0,9,  -999.00,9,   0.4606
  06AQ20070728,EurArc,   345,  1,      8,      8,2,20070908,0728, 84.6930,-145.4400, 2295,    760.0,   0.1257,  34.8760,2,   -999.0,9,    298.9,2,     6.97,2,    12.42,2,     0.02,2,     0.88,2,   -999.0,9,   -999.0,9,  -999.00,9,   0.0926
  06AQ20070728,EurArc,   345,  1,      7,      7,2,20070908,0728, 84.6930,-145.4400, 2295,   1013.2,  -0.1077,  34.8940,2,   -999.0,9,    299.9,2,     7.51,2,    12.69,2,     0.02,2,     0.90,2,   -999.0,9,   -999.0,9,  -999.00,9,  -0.1521
  06AQ20070728,EurArc,   345,  1,      6,      6,2,20070908,0728, 84.6930,-145.4400, 2295,   1267.4,  -0.2398,  34.9130,2,   -999.0,9,    298.2,2,     8.61,2,    13.09,2,     0.01,2,     0.92,2,   -999.0,9,   -999.0,9,  -999.00,9,  -0.2969
  06AQ20070728,EurArc,   345,  1,      5,      5,2,20070908,0728, 84.6930,-145.4400, 2295,   1521.8,  -0.3338,  34.9260,2,   -999.0,9,    295.7,2,     9.79,2,    13.41,2,     0.01,2,     0.96,2,   -999.0,9,   -999.0,9,  -999.00,9,  -0.4047
  06AQ20070728,EurArc,   345,  1,      4,      4,2,20070908,0728, 84.6930,-145.4400, 2295,   1521.8,  -0.3337,  34.9250,2,   -999.0,9,    295.7,2,     9.79,2,    13.48,2,     0.01,2,     0.96,2,   -999.0,9,   -999.0,9,  -999.00,9,  -0.4046
  06AQ20070728,EurArc,   345,  1,      3,      3,2,20070908,0728, 84.6930,-145.4400, 2295,   1776.2,  -0.3859,  34.9370,2,   -999.0,9,    292.1,2,    11.34,2,    13.78,2,     0.01,2,     0.99,2,   -999.0,9,   -999.0,9,  -999.00,9,  -0.4718
  06AQ20070728,EurArc,   345,  1,      2,      2,2,20070908,0728, 84.6930,-145.4400, 2295,   2031.2,  -0.3919,  34.9450,2,   -999.0,9,    288.5,2,    12.65,2,    14.05,2,     0.01,2,     1.01,2,   -999.0,9,   -999.0,9,  -999.00,9,  -0.4946
  06AQ20070728,EurArc,   345,  1,      1,      1,2,20070908,0728, 84.6930,-145.4400, 2295,   2324.7,  -0.3758,  34.9520,2,   -999.0,9,    285.2,2,    13.28,2,    14.26,2,     0.01,2,     1.02,2,   -999.0,9,   -999.0,9,  -999.00,9,  -0.4994
  06AQ20070728,EurArc,   346,  1,     20,     20,2,20070908,1338, 84.7940,-149.1200, 2290,      1.6,  -1.4864,  27.9640,2,   -999.0,9,    392.1,2,     6.83,2,     0.02,2,     0.00,2,     0.69,2,   -999.0,9,   -999.0,9,  -999.00,9,  -1.4864
  06AQ20070728,EurArc,   346,  1,     19,     19,2,20070908,1338, 84.7940,-149.1200, 2290,     10.2,  -1.4710,  28.0590,2,   -999.0,9,    392.1,2,     6.80,2,     0.02,2,     0.00,2,     0.70,2,   -999.0,9,   -999.0,9,  -999.00,9,  -1.4711
  06AQ20070728,EurArc,   346,  1,     18,     18,2,20070908,1338, 84.7940,-149.1200, 2290,     24.9,  -1.3539,  29.3840,2,   -999.0,9,    392.8,2,     5.10,2,     0.06,2,     0.00,2,     0.85,2,   -999.0,9,   -999.0,9,  -999.00,9,  -1.3542
  06AQ20070728,EurArc,   346,  1,     17,     17,2,20070908,1338, 84.7940,-149.1200, 2290,     50.3,  -1.5278,  30.2320,2,   -999.0,9,    399.9,2,     4.75,2,     0.31,2,     0.04,2,     0.88,2,   -999.0,9,   -999.0,9,  -999.00,9,  -1.5285
  06AQ20070728,EurArc,   346,  1,     16,     16,2,20070908,1338, 84.7940,-149.1200, 2290,     76.0,  -1.5209,  31.9800,2,   -999.0,9,    340.0,2,    24.18,2,    10.92,2,     0.02,2,     1.62,2,   -999.0,9,   -999.0,9,  -999.00,9,  -1.5222
  06AQ20070728,EurArc,   346,  1,     15,     15,2,20070908,1338, 84.7940,-149.1200, 2290,    101.4,  -1.5058,  33.2490,2,   -999.0,9,    280.3,2,    18.06,2,    10.27,2,     0.01,2,     1.11,2,   -999.0,9,   -999.0,9,  -999.00,9,  -1.5079
  06AQ20070728,EurArc,   346,  1,     14,     14,2,20070908,1338, 84.7940,-149.1200, 2290,    126.3,  -1.4326,  34.0070,2,   -999.0,9,    302.4,2,     7.26,2,     8.85,2,     0.01,2,     0.73,2,   -999.0,9,   -999.0,9,  -999.00,9,  -1.4355
  06AQ20070728,EurArc,   346,  1,     13,     13,2,20070908,1338, 84.7940,-149.1200, 2290,    151.8,  -1.0041,  34.2120,2,   -999.0,9,    305.6,2,     5.97,2,     9.28,2,     0.01,2,     0.72,2,   -999.0,9,   -999.0,9,  -999.00,9,  -1.0082
  06AQ20070728,EurArc,   346,  1,     12,     12,2,20070908,1338, 84.7940,-149.1200, 2290,    202.3,  -0.1474,  34.4980,2,   -999.0,9,    297.7,2,     7.17,2,    11.12,2,     0.01,2,     0.81,2,   -999.0,9,   -999.0,9,  -999.00,9,  -0.1546
  06AQ20070728,EurArc,   346,  1,     11,     11,2,20070908,1338, 84.7940,-149.1200, 2290,    253.4,   0.4068,  34.7090,2,   -999.0,9,    286.9,2,     7.61,2,    12.45,2,     0.01,2,     0.86,2,   -999.0,9,   -999.0,9,  -999.00,9,   0.3964
  06AQ20070728,EurArc,   346,  1,     10,     10,2,20070908,1338, 84.7940,-149.1200, 2290,    303.9,   0.6682,  34.8040,2,   -999.0,9,    292.1,2,     6.76,2,    12.47,2,     0.01,2,     0.86,2,   -999.0,9,   -999.0,9,  -999.00,9,   0.6549
  06AQ20070728,EurArc,   346,  1,      9,      9,2,20070908,1338, 84.7940,-149.1200, 2290,    405.0,   0.5762,  34.8490,2,   -999.0,9,    296.3,2,     6.90,2,    12.72,2,     0.01,2,     0.87,2,   -999.0,9,   -999.0,9,  -999.00,9,   0.5584
  06AQ20070728,EurArc,   346,  1,      8,      8,2,20070908,1338, 84.7940,-149.1200, 2290,    506.2,   0.4467,  34.8610,2,   -999.0,9,    295.4,2,     7.28,2,    12.97,2,     0.01,2,     0.89,2,   -999.0,9,   -999.0,9,  -999.00,9,   0.4245
  06AQ20070728,EurArc,   346,  1,      7,      7,2,20070908,1338, 84.7940,-149.1200, 2290,    760.1,   0.1172,  34.8790,2,   -999.0,9,    299.1,2,     7.23,2,    12.87,2,     0.01,2,     0.90,2,   -999.0,9,   -999.0,9,  -999.00,9,   0.0842
  06AQ20070728,EurArc,   346,  1,      6,      6,2,20070908,1338, 84.7940,-149.1200, 2290,   1013.6,  -0.1158,  34.8950,2,   -999.0,9,    300.3,2,     7.60,2,    13.02,2,     0.01,2,     0.91,2,   -999.0,9,   -999.0,9,  -999.00,9,  -0.1602
  06AQ20070728,EurArc,   346,  1,      5,      5,2,20070908,1338, 84.7940,-149.1200, 2290,   1267.7,  -0.2482,  34.9130,2,   -999.0,9,    298.8,2,     8.67,2,    13.31,2,     0.01,2,     0.94,2,   -999.0,9,   -999.0,9,  -999.00,9,  -0.3052
  06AQ20070728,EurArc,   346,  1,      3,      3,2,20070908,1338, 84.7940,-149.1200, 2290,   1522.4,  -0.3480,  34.9270,2,   -999.0,9,    296.3,2,  -999.00,9,  -999.00,9,  -999.00,9,  -999.00,9,   -999.0,9,   -999.0,9,  -999.00,9,  -0.4187
  06AQ20070728,EurArc,   346,  1,      4,      4,2,20070908,1338, 84.7940,-149.1200, 2290,   1522.4,  -0.3480,  34.9270,2,   -999.0,9,    296.3,2,     9.93,2,    14.05,2,     0.01,2,     0.97,2,   -999.0,9,   -999.0,9,  -999.00,9,  -0.4187
  06AQ20070728,EurArc,   346,  1,      2,      2,2,20070908,1338, 84.7940,-149.1200, 2290,   2031.8,  -0.3912,  34.9450,2,   -999.0,9,    289.5,2,    12.41,2,    14.31,2,     0.01,2,     1.02,2,   -999.0,9,   -999.0,9,  -999.00,9,  -0.4939
  06AQ20070728,EurArc,   346,  1,      1,      1,2,20070908,1338, 84.7940,-149.1200, 2290,   2321.1,  -0.3749,  34.9520,2,   -999.0,9,    286.5,2,    13.21,2,    14.62,2,     0.01,2,     1.03,2,   -999.0,9,   -999.0,9,  -999.00,9,  -0.4983