BOTTLE,20220921CCHSIOAMB
EXPOCODE,SECT_ID,STNNBR,CASTNO,SAMPNO,BTLNBR,BTLNBR_FLAG_W,DATE,TIME,LATITUDE,LONGITUDE,DEPTH,CTDPRS,CTDTMP,CTDSAL,CTDSAL_FLAG_W,CTDOXY,CTDOXY_FLAG_W,OXYGEN,OXYGEN_FLAG_W,SILCAT,SILCAT_FLAG_W,NITRAT,NITRAT_FLAG_W,NITRIT,NITRIT_FLAG_W,PHSPHT,PHSPHT_FLAG_W,TCARBN,TCARBN_FLAG_W,ALKALI,ALKALI_FLAG_W,DELO18,DELO18_FLAG_W,THETA
,,,,,,,,,,,METERS,DBAR,ITS-90,PSS-78,,UMOL/KG,,UMOL/KG,,UMOL/KG,,UMOL/KG,,UMOL/KG,,UMOL/KG,,UMOL/KG,,UMOL/KG,,/MILLE,,DEG C
  06AQ20070728,EurArc,   349,  1,     24,     24,2,20070909,0818, 85.0640,-164.4700, 1996,      9.3,  -1.3983,  26.9660,2,   -999.0,9,    382.2,2,     9.22,2,     0.11,2,     0.02,2,     0.68,2,   -999.0,9,   -999.0,9,  -999.00,9,  -1.3984
  06AQ20070728,EurArc,   349,  1,     23,     23,2,20070909,0818, 85.0640,-164.4700, 1996,     25.2,  -1.4828,  29.0030,2,   -999.0,9,    389.5,2,     8.22,2,     0.56,2,     0.07,2,     0.70,2,   -999.0,9,   -999.0,9,  -999.00,9,  -1.4831
  06AQ20070728,EurArc,   349,  1,     22,     22,2,20070909,0818, 85.0640,-164.4700, 1996,     25.2,  -1.4828,  29.0030,2,   -999.0,9,    389.5,2,     7.91,2,     0.52,2,     0.08,2,     0.73,2,   -999.0,9,   -999.0,9,  -999.00,9,  -1.4831
  06AQ20070728,EurArc,   349,  1,     21,     21,2,20070909,0818, 85.0640,-164.4700, 1996,     50.7,  -1.5414,  31.1270,2,   -999.0,9,    381.8,2,    13.84,2,     6.03,2,     0.02,2,     1.14,2,   2111.8,2,   2189.7,2,  -999.00,9,  -1.5422
  06AQ20070728,EurArc,   349,  1,     20,     20,2,20070909,0818, 85.0640,-164.4700, 1996,     75.9,  -1.5513,  32.8900,2,   -999.0,9,    309.4,2,    17.50,2,     9.53,2,     0.02,2,     1.07,2,   -999.0,9,   -999.0,9,  -999.00,9,  -1.5527
  06AQ20070728,EurArc,   349,  1,     19,     19,2,20070909,0818, 85.0640,-164.4700, 1996,    101.8,  -1.5422,  33.8690,2,   -999.0,9,    297.3,2,     8.12,2,     8.81,2,     0.02,2,     0.75,2,   2168.0,2,   2268.0,2,  -999.00,9,  -1.5444
  06AQ20070728,EurArc,   349,  1,     18,     18,2,20070909,0818, 85.0640,-164.4700, 1996,    125.8,  -1.1478,  34.1610,2,   -999.0,9,    303.3,2,     6.18,2,     9.00,2,     0.02,2,     0.72,2,   -999.0,9,   -999.0,9,  -999.00,9,  -1.1510
  06AQ20070728,EurArc,   349,  1,     17,     17,2,20070909,0818, 85.0640,-164.4700, 1996,    152.0,  -0.6942,  34.3370,2,   -999.0,9,    304.7,2,     6.08,2,     9.82,2,     0.02,2,     0.74,2,   -999.0,9,   -999.0,9,  -999.00,9,  -0.6988
  06AQ20070728,EurArc,   349,  1,     16,     16,2,20070909,0818, 85.0640,-164.4700, 1996,    177.0,  -0.2430,  34.4710,2,   -999.0,9,    300.9,2,     6.26,2,    10.49,2,     0.02,2,     0.76,2,   -999.0,9,   -999.0,9,  -999.00,9,  -0.2491
  06AQ20070728,EurArc,   349,  1,     15,     15,2,20070909,0818, 85.0640,-164.4700, 1996,    202.9,   0.1651,  34.5990,2,   -999.0,9,    298.2,2,     6.46,2,    11.19,2,     0.02,2,     0.80,2,   2162.0,2,   2284.0,2,  -999.00,9,   0.1573
  06AQ20070728,EurArc,   349,  1,     14,     14,2,20070909,0818, 85.0640,-164.4700, 1996,    227.9,   0.4554,  34.7010,2,   -999.0,9,    295.5,2,     6.75,2,    11.84,2,     0.02,2,     0.83,2,   -999.0,9,   -999.0,9,  -999.00,9,   0.4460
  06AQ20070728,EurArc,   349,  1,     13,     13,2,20070909,0818, 85.0640,-164.4700, 1996,    253.5,   0.7070,  34.7890,2,   -999.0,9,    295.0,2,     6.31,2,    12.17,2,     0.02,2,     0.84,2,   -999.0,9,   -999.0,9,  -999.00,9,   0.6959
  06AQ20070728,EurArc,   349,  1,     12,     12,2,20070909,0818, 85.0640,-164.4700, 1996,    303.6,   0.8363,  34.8300,2,   -999.0,9,    296.2,2,     5.83,2,    12.12,2,     0.02,2,     0.83,2,   -999.0,9,   -999.0,9,  -999.00,9,   0.8226
  06AQ20070728,EurArc,   349,  1,     11,     11,2,20070909,0818, 85.0640,-164.4700, 1996,    405.3,   0.8345,  34.8590,2,   -999.0,9,    299.9,2,     5.95,2,    12.36,2,     0.02,2,     0.84,2,   -999.0,9,   -999.0,9,  -999.00,9,   0.8158
  06AQ20070728,EurArc,   349,  1,     10,     10,2,20070909,0818, 85.0640,-164.4700, 1996,    507.0,   0.5645,  34.8610,2,   -999.0,9,    298.6,2,     6.28,2,    12.55,2,     0.01,2,     0.85,2,   2159.3,2,   2294.6,2,  -999.00,9,   0.5418
  06AQ20070728,EurArc,   349,  1,      9,      9,2,20070909,0818, 85.0640,-164.4700, 1996,    760.6,   0.1033,  34.8700,2,   -999.0,9,    300.1,2,     6.49,2,    12.58,2,     0.01,2,     0.87,2,   -999.0,9,   -999.0,9,  -999.00,9,   0.0704
  06AQ20070728,EurArc,   349,  1,      8,      8,2,20070909,0818, 85.0640,-164.4700, 1996,    912.7,  -0.0788,  34.8790,2,   -999.0,9,    301.1,2,     6.76,2,    12.71,2,     0.02,2,     0.88,2,   -999.0,9,   -999.0,9,  -999.00,9,  -0.1182
  06AQ20070728,EurArc,   349,  1,      7,      7,2,20070909,0818, 85.0640,-164.4700, 1996,   1014.1,  -0.1678,  34.8870,2,   -999.0,9,    301.0,2,     7.02,2,    12.76,2,     0.01,2,     0.89,2,   2162.7,2,   2296.4,2,  -999.00,9,  -0.2118
  06AQ20070728,EurArc,   349,  1,      6,      6,2,20070909,0818, 85.0640,-164.4700, 1996,   1268.0,  -0.2873,  34.9080,2,   -999.0,9,    298.9,2,     8.10,2,    13.42,2,     0.01,2,     0.93,2,   -999.0,9,   -999.0,9,  -999.00,9,  -0.3440
  06AQ20070728,EurArc,   349,  1,      5,      5,2,20070909,0818, 85.0640,-164.4700, 1996,   1523.0,  -0.3646,  34.9270,2,   -999.0,9,    295.7,2,     9.50,2,    13.83,2,     0.02,2,     0.97,2,   2154.4,2,   2298.2,2,  -999.00,9,  -0.4352
  06AQ20070728,EurArc,   349,  1,      4,      4,2,20070909,0818, 85.0640,-164.4700, 1996,   1777.0,  -0.4024,  34.9420,2,   -999.0,9,    290.7,2,    11.48,2,    14.31,2,     0.01,2,     1.00,2,   -999.0,9,   -999.0,9,  -999.00,9,  -0.4882
  06AQ20070728,EurArc,   349,  1,      3,      3,2,20070909,0818, 85.0640,-164.4700, 1996,   1827.6,  -0.4030,  34.9440,2,   -999.0,9,    290.1,2,    11.80,2,    14.56,2,     0.02,2,     1.01,2,   -999.0,9,   -999.0,9,  -999.00,9,  -0.4920
  06AQ20070728,EurArc,   349,  1,      2,      2,2,20070909,0818, 85.0640,-164.4700, 1996,   1929.0,  -0.4034,  34.9470,2,   -999.0,9,    288.7,2,    12.26,2,    14.63,2,     0.02,2,     1.02,2,   -999.0,9,   -999.0,9,  -999.00,9,  -0.4990
  06AQ20070728,EurArc,   349,  1,      1,      1,2,20070909,0818, 85.0640,-164.4700, 1996,   1981.1,  -0.4028,  34.9490,2,   -999.0,9,    288.0,2,    12.43,2,    14.65,2,     0.02,2,     1.02,2,   2160.7,2,   2300.9,2,  -999.00,9,  -0.5019
  06AQ20070728,EurArc,   349,  2,     24,     24,2,20070909,1012, 85.0640,-164.4700, 1996,      4.9,  -1.4119,  26.9110,2,    374.4,2,    385.3,2,     9.39,2,     0.08,2,     0.00,2,     0.68,2,   -999.0,9,   -999.0,9,    -4.53,2,  -1.4119
  06AQ20070728,EurArc,   349,  2,     23,     23,2,20070909,1012, 85.0640,-164.4700, 1996,      9.8,  -1.4114,  26.9320,2,    374.9,2,    385.1,2,     9.35,2,     0.11,2,     0.00,2,     0.69,2,   -999.0,9,   -999.0,9,    -4.51,2,  -1.4115
  06AQ20070728,EurArc,   349,  2,     22,     22,2,20070909,1012, 85.0640,-164.4700, 1996,     25.3,  -1.4809,  29.0610,2,   -999.0,9,    389.4,2,  -999.00,9,  -999.00,9,  -999.00,9,  -999.00,9,   -999.0,9,   -999.0,9,  -999.00,9,  -1.4812
  06AQ20070728,EurArc,   349,  2,     21,     21,2,20070909,1012, 85.0640,-164.4700, 1996,     25.3,  -1.4710,  28.9940,2,   -999.0,9,    389.4,2,  -999.00,9,  -999.00,9,  -999.00,9,  -999.00,9,   -999.0,9,   -999.0,9,  -999.00,9,  -1.4713
  06AQ20070728,EurArc,   349,  2,     20,     20,2,20070909,1012, 85.0640,-164.4700, 1996,     25.3,  -1.4767,  29.0300,2,    377.9,2,    389.4,2,     8.15,2,     0.70,2,     0.07,2,     0.71,2,   -999.0,9,   -999.0,9,    -4.10,2,  -1.4770
  06AQ20070728,EurArc,   349,  2,     19,     19,2,20070909,1012, 85.0640,-164.4700, 1996,     50.5,  -1.5450,  31.0600,2,    330.8,2,    379.7,2,    11.83,2,     4.83,2,     0.02,2,     1.08,2,   -999.0,9,   -999.0,9,    -2.30,2,  -1.5458
  06AQ20070728,EurArc,   349,  2,     18,     18,2,20070909,1012, 85.0640,-164.4700, 1996,     75.6,  -1.5628,  32.9190,2,   -999.0,9,    303.7,2,  -999.00,9,  -999.00,9,  -999.00,9,  -999.00,9,   -999.0,9,   -999.0,9,  -999.00,9,  -1.5642
  06AQ20070728,EurArc,   349,  2,     17,     17,2,20070909,1012, 85.0640,-164.4700, 1996,     75.6,  -1.5618,  32.9080,2,   -999.0,9,    303.7,2,  -999.00,9,  -999.00,9,  -999.00,9,  -999.00,9,   -999.0,9,   -999.0,9,  -999.00,9,  -1.5632
  06AQ20070728,EurArc,   349,  2,     16,     16,2,20070909,1012, 85.0640,-164.4700, 1996,     75.6,  -1.5618,  32.9230,2,    283.8,2,    303.7,2,    17.71,2,     9.09,2,     0.03,2,     1.07,2,   -999.0,9,   -999.0,9,    -0.43,2,  -1.5632
  06AQ20070728,EurArc,   349,  2,     15,     15,2,20070909,1012, 85.0640,-164.4700, 1996,    101.1,  -1.5410,  33.8310,2,   -999.0,9,    298.5,2,  -999.00,9,  -999.00,9,  -999.00,9,  -999.00,9,   -999.0,9,   -999.0,9,  -999.00,9,  -1.5431
  06AQ20070728,EurArc,   349,  2,     14,     14,2,20070909,1012, 85.0640,-164.4700, 1996,    101.1,  -1.5381,  33.8450,2,    290.1,2,    298.5,2,     8.21,2,     8.89,2,     0.02,2,     0.76,2,   -999.0,9,   -999.0,9,    -0.65,2,  -1.5402
  06AQ20070728,EurArc,   349,  2,     13,     13,2,20070909,1012, 85.0640,-164.4700, 1996,    126.4,  -1.1225,  34.1710,2,    292.8,2,    305.2,2,     6.05,2,     9.21,2,     0.02,2,     0.71,2,   -999.0,9,   -999.0,9,    -0.42,2,  -1.1258
  06AQ20070728,EurArc,   349,  2,     12,     12,2,20070909,1012, 85.0640,-164.4700, 1996,    151.6,  -0.6603,  34.3430,2,    289.5,2,    304.2,2,     6.14,2,    10.05,2,     0.02,2,     0.74,2,   -999.0,9,   -999.0,9,    -0.20,2,  -0.6649
  06AQ20070728,EurArc,   349,  2,     11,     11,2,20070909,1012, 85.0640,-164.4700, 1996,    202.1,   0.1671,  34.5970,2,   -999.0,9,    296.7,2,     6.45,2,    11.22,2,     0.02,2,     0.80,2,   -999.0,9,   -999.0,9,  -999.00,9,   0.1594
  06AQ20070728,EurArc,   349,  2,     10,     10,2,20070909,1012, 85.0640,-164.4700, 1996,    303.6,   0.8386,  34.8280,2,   -999.0,9,    298.9,2,     5.82,2,    12.11,2,     0.02,2,     0.82,2,   -999.0,9,   -999.0,9,  -999.00,9,   0.8249
  06AQ20070728,EurArc,   349,  2,      9,      9,2,20070909,1012, 85.0640,-164.4700, 1996,    505.9,   0.5672,  34.8600,2,   -999.0,9,    300.7,2,     6.29,2,    12.38,2,     0.02,2,     0.85,2,   -999.0,9,   -999.0,9,  -999.00,9,   0.5445
  06AQ20070728,EurArc,   349,  2,      8,      8,2,20070909,1012, 85.0640,-164.4700, 1996,    759.7,   0.1065,  34.8690,2,   -999.0,9,    302.2,2,     6.49,2,    12.42,2,     0.02,2,     0.86,2,   -999.0,9,   -999.0,9,  -999.00,9,   0.0736
  06AQ20070728,EurArc,   349,  2,      7,      7,2,20070909,1012, 85.0640,-164.4700, 1996,   1013.5,  -0.1278,  34.8880,2,   -999.0,9,    301.8,2,     7.13,2,    12.81,2,     0.02,2,     0.89,2,   -999.0,9,   -999.0,9,  -999.00,9,  -0.1721
  06AQ20070728,EurArc,   349,  2,      6,      6,2,20070909,1012, 85.0640,-164.4700, 1996,   1267.6,  -0.2877,  34.9070,2,   -999.0,9,    300.4,2,     8.05,2,    13.23,2,     0.02,2,     0.92,2,   -999.0,9,   -999.0,9,  -999.00,9,  -0.3443
  06AQ20070728,EurArc,   349,  2,      5,      5,2,20070909,1012, 85.0640,-164.4700, 1996,   1521.6,  -0.3637,  34.9260,2,   -999.0,9,    296.6,2,     9.57,2,    13.84,2,     0.02,2,     0.96,2,   -999.0,9,   -999.0,9,  -999.00,9,  -0.4342
  06AQ20070728,EurArc,   349,  2,      4,      4,2,20070909,1012, 85.0640,-164.4700, 1996,   1521.6,  -0.3637,  34.9260,2,   -999.0,9,    296.6,2,     9.58,2,    14.07,2,     0.02,2,     0.96,2,   -999.0,9,   -999.0,9,  -999.00,9,  -0.4342
  06AQ20070728,EurArc,   349,  2,      3,      3,2,20070909,1012, 85.0640,-164.4700, 1996,   1967.5,  -0.4036,  34.9490,2,   -999.0,9,    287.6,2,  -999.00,9,  -999.00,9,  -999.00,9,  -999.00,9,   -999.0,9,   -999.0,9,  -999.00,9,  -0.5018
  06AQ20070728,EurArc,   349,  2,      2,      2,2,20070909,1012, 85.0640,-164.4700, 1996,   1967.5,  -0.4039,  34.9480,2,   -999.0,9,    287.6,2,  -999.00,9,  -999.00,9,  -999.00,9,  -999.00,9,   -999.0,9,   -999.0,9,  -999.00,9,  -0.5021
  06AQ20070728,EurArc,   349,  2,      1,      1,2,20070909,1012, 85.0640,-164.4700, 1996,   1967.5,  -0.4038,  34.9480,2,   -999.0,9,    287.6,2,    12.47,2,    14.44,2,     0.02,2,     1.01,2,   -999.0,9,   -999.0,9,  -999.00,9,  -0.5020
  06AQ20070728,EurArc,   351,  1,     21,     21,2,20070909,2038, 85.7460,-170.7600, 2635,      1.8,  -1.4984,  28.4950,2,    373.6,2,    385.1,2,     7.71,2,     0.16,2,     0.04,2,     0.52,2,   -999.0,9,   -999.0,9,    -3.90,2,  -1.4984
  06AQ20070728,EurArc,   351,  1,     20,     20,2,20070909,2038, 85.7460,-170.7600, 2635,      9.9,  -1.4957,  28.4000,2,    373.3,2,    385.9,2,     7.68,2,     0.20,2,     0.05,2,     0.49,2,   -999.0,9,   -999.0,9,    -3.91,2,  -1.4958
  06AQ20070728,EurArc,   351,  1,     19,     19,2,20070909,2038, 85.7460,-170.7600, 2635,     25.2,  -1.5313,  28.8000,2,    370.4,2,    386.3,2,     7.79,2,     0.70,2,     0.08,2,     0.56,2,   -999.0,9,   -999.0,9,    -3.58,2,  -1.5316
  06AQ20070728,EurArc,   351,  1,     18,     18,2,20070909,2038, 85.7460,-170.7600, 2635,     27.7,  -1.4536,  29.1910,2,    366.6,2,    386.2,2,    10.06,2,     2.94,2,     0.06,2,     1.00,2,   -999.0,9,   -999.0,9,  -999.00,9,  -1.4539
  06AQ20070728,EurArc,   351,  1,     17,     17,2,20070909,2038, 85.7460,-170.7600, 2635,     50.3,  -1.5251,  32.3100,2,    275.3,2,    317.6,2,    26.55,2,    11.42,2,     0.03,2,     1.62,2,   -999.0,9,   -999.0,9,    -1.14,2,  -1.5260
  06AQ20070728,EurArc,   351,  1,     16,     16,2,20070909,2038, 85.7460,-170.7600, 2635,     66.7,  -1.5475,  33.1620,2,    283.5,2,    293.1,2,    11.96,2,     8.91,2,     0.02,2,     0.86,2,   -999.0,9,   -999.0,9,  -999.00,9,  -1.5488
  06AQ20070728,EurArc,   351,  1,     15,     15,2,20070909,2038, 85.7460,-170.7600, 2635,     76.1,  -1.5532,  33.5290,2,    286.7,2,    298.0,2,     8.62,2,     8.72,2,     0.02,2,     0.77,2,   -999.0,9,   -999.0,9,    -0.64,2,  -1.5547
  06AQ20070728,EurArc,   351,  1,     14,     14,2,20070909,2038, 85.7460,-170.7600, 2635,    100.9,  -1.3652,  34.0900,2,    292.6,2,    305.5,2,     6.29,2,     8.79,2,     0.02,2,     0.71,2,   -999.0,9,   -999.0,9,    -0.44,2,  -1.3675
  06AQ20070728,EurArc,   351,  1,     13,     13,2,20070909,2038, 85.7460,-170.7600, 2635,    126.3,  -0.8576,  34.2920,2,    292.3,2,    306.3,2,     5.97,2,     9.54,2,     0.02,2,     0.73,2,   -999.0,9,   -999.0,9,    -0.24,2,  -0.8612
  06AQ20070728,EurArc,   351,  1,     12,     12,2,20070909,2038, 85.7460,-170.7600, 2635,    151.5,  -0.4176,  34.4190,2,    288.3,2,    302.1,2,     6.16,2,    10.26,2,     0.02,2,     0.76,2,   -999.0,9,   -999.0,9,    -0.08,2,  -0.4225
  06AQ20070728,EurArc,   351,  1,     11,     11,2,20070909,2038, 85.7460,-170.7600, 2635,    202.2,   0.2829,  34.6460,2,   -999.0,9,    300.5,2,     5.94,2,    11.24,2,     0.02,2,     0.80,2,   -999.0,9,   -999.0,9,  -999.00,9,   0.2749
  06AQ20070728,EurArc,   351,  1,     10,     10,2,20070909,2038, 85.7460,-170.7600, 2635,    303.6,   0.8107,  34.8270,2,   -999.0,9,    300.9,2,     5.68,2,    11.83,2,     0.02,2,     0.82,2,   -999.0,9,   -999.0,9,  -999.00,9,   0.7970
  06AQ20070728,EurArc,   351,  1,      9,      9,2,20070909,2038, 85.7460,-170.7600, 2635,    506.1,   0.5503,  34.8600,2,   -999.0,9,    301.4,2,     6.33,2,    12.30,2,     0.02,2,     0.86,2,   -999.0,9,   -999.0,9,  -999.00,9,   0.5277
  06AQ20070728,EurArc,   351,  1,      8,      8,2,20070909,2038, 85.7460,-170.7600, 2635,    759.7,   0.0995,  34.8690,2,   -999.0,9,    302.3,2,     6.56,2,    12.44,2,     0.02,2,     0.87,2,   -999.0,9,   -999.0,9,  -999.00,9,   0.0666
  06AQ20070728,EurArc,   351,  1,      7,      7,2,20070909,2038, 85.7460,-170.7600, 2635,   1013.2,  -0.1434,  34.8890,2,   -999.0,9,    302.2,2,     7.16,2,    12.73,2,     0.02,2,     0.90,2,   -999.0,9,   -999.0,9,  -999.00,9,  -0.1875
  06AQ20070728,EurArc,   351,  1,      6,      6,2,20070909,2038, 85.7460,-170.7600, 2635,   1267.4,  -0.2877,  34.9080,2,   -999.0,9,    299.9,2,     8.17,2,    13.20,2,     0.02,2,     0.93,2,   -999.0,9,   -999.0,9,  -999.00,9,  -0.3443
  06AQ20070728,EurArc,   351,  1,      5,      5,2,20070909,2038, 85.7460,-170.7600, 2635,   1521.6,  -0.3796,  34.9260,2,   -999.0,9,    299.7,2,     9.68,2,    13.72,2,     0.02,2,     0.97,2,   -999.0,9,   -999.0,9,  -999.00,9,  -0.4499
  06AQ20070728,EurArc,   351,  1,      4,      4,2,20070909,2038, 85.7460,-170.7600, 2635,   2031.2,  -0.4031,  34.9480,2,   -999.0,9,    299.7,2,  -999.00,9,  -999.00,9,  -999.00,9,  -999.00,9,   -999.0,9,   -999.0,9,  -999.00,9,  -0.5056
  06AQ20070728,EurArc,   351,  1,      3,      3,2,20070909,2038, 85.7460,-170.7600, 2635,   2031.2,  -0.4033,  34.9480,2,   -999.0,9,    299.7,2,    12.28,2,    14.39,2,     0.02,2,     1.01,2,   -999.0,9,   -999.0,9,  -999.00,9,  -0.5058
  06AQ20070728,EurArc,   351,  1,      2,      2,2,20070909,2038, 85.7460,-170.7600, 2635,   2542.1,  -0.3688,  34.9530,2,   -999.0,9,    299.7,2,    12.85,2,    14.48,2,     0.02,2,     1.02,2,   -999.0,9,   -999.0,9,  -999.00,9,  -0.5088
  06AQ20070728,EurArc,   351,  1,      1,      1,2,20070909,2038, 85.7460,-170.7600, 2635,   2672.8,  -0.3585,  34.9530,2,   -999.0,9,    299.7,2,    12.94,2,    14.56,2,     0.02,2,     1.02,2,   -999.0,9,   -999.0,9,  -999.00,9,  -0.5088