BOTTLE,20220921CCHSIOAMB
EXPOCODE,SECT_ID,STNNBR,CASTNO,SAMPNO,BTLNBR,BTLNBR_FLAG_W,DATE,TIME,LATITUDE,LONGITUDE,DEPTH,CTDPRS,CTDTMP,CTDSAL,CTDSAL_FLAG_W,CTDOXY,CTDOXY_FLAG_W,OXYGEN,OXYGEN_FLAG_W,SILCAT,SILCAT_FLAG_W,NITRAT,NITRAT_FLAG_W,NITRIT,NITRIT_FLAG_W,PHSPHT,PHSPHT_FLAG_W,TCARBN,TCARBN_FLAG_W,ALKALI,ALKALI_FLAG_W,DELO18,DELO18_FLAG_W,THETA
,,,,,,,,,,,METERS,DBAR,ITS-90,PSS-78,,UMOL/KG,,UMOL/KG,,UMOL/KG,,UMOL/KG,,UMOL/KG,,UMOL/KG,,UMOL/KG,,UMOL/KG,,/MILLE,,DEG C
  06AQ20070728,EurArc,   246,  1,      1,      1,2,20070802,0800, 81.8680,  34.0130, 1969,   1771.7,  -0.6573,  34.9190,2,   -999.0,9,   -999.0,9,    10.82,2,    14.87,2,     0.01,2,     1.01,2,   -999.0,9,   -999.0,9,  -999.00,9,  -0.7391
  06AQ20070728,EurArc,   246,  1,      2,      2,2,20070802,0800, 81.8680,  34.0130, 1969,   1770.7,  -0.6573,  34.9190,2,   -999.0,9,   -999.0,9,    10.82,2,    14.96,2,     0.01,2,     1.01,2,   -999.0,9,   -999.0,9,  -999.00,9,  -0.7390
  06AQ20070728,EurArc,   246,  1,      3,      3,2,20070802,0800, 81.8680,  34.0130, 1969,   1512.3,  -0.6364,  34.9180,2,   -999.0,9,   -999.0,9,    10.65,2,    14.74,2,     0.00,2,     1.01,2,   -999.0,9,   -999.0,9,  -999.00,9,  -0.7030
  06AQ20070728,EurArc,   246,  1,      4,      4,2,20070802,0800, 81.8680,  34.0130, 1969,   1512.5,  -0.6366,  34.9180,2,   -999.0,9,   -999.0,9,    10.67,2,    15.06,2,     0.00,2,     1.01,2,   -999.0,9,   -999.0,9,  -999.00,9,  -0.7032
  06AQ20070728,EurArc,   246,  1,      5,      5,2,20070802,0800, 81.8680,  34.0130, 1969,   1416.9,  -0.6187,  34.9170,2,   -999.0,9,   -999.0,9,    10.53,2,    14.73,2,     0.00,2,     1.01,2,   -999.0,9,   -999.0,9,  -999.00,9,  -0.6801
  06AQ20070728,EurArc,   246,  1,      6,      6,2,20070802,0800, 81.8680,  34.0130, 1969,   1315.8,  -0.5838,  34.9170,2,   -999.0,9,   -999.0,9,    10.31,2,    14.74,2,     0.00,2,     1.00,2,   -999.0,9,   -999.0,9,  -999.00,9,  -0.6400
  06AQ20070728,EurArc,   246,  1,      7,      7,2,20070802,0800, 81.8680,  34.0130, 1969,   1213.3,  -0.5288,  34.9160,2,   -999.0,9,   -999.0,9,     9.91,2,    14.54,2,  -999.00,9,     1.00,2,   -999.0,9,   -999.0,9,  -999.00,9,  -0.5801
  06AQ20070728,EurArc,   246,  1,      8,      8,2,20070802,0800, 81.8680,  34.0130, 1969,   1111.6,  -0.4534,  34.9160,2,   -999.0,9,   -999.0,9,     9.50,2,    14.33,2,  -999.00,9,     0.98,2,   -999.0,9,   -999.0,9,  -999.00,9,  -0.5000
  06AQ20070728,EurArc,   246,  1,      9,      9,2,20070802,0800, 81.8680,  34.0130, 1969,   1011.4,  -0.3634,  34.9160,2,   -999.0,9,   -999.0,9,     9.04,2,    14.13,2,  -999.00,9,     0.97,2,   -999.0,9,   -999.0,9,  -999.00,9,  -0.4057
  06AQ20070728,EurArc,   246,  1,     10,     10,2,20070802,0800, 81.8680,  34.0130, 1969,    910.4,  -0.2017,  34.9170,2,   -999.0,9,   -999.0,9,     8.66,2,    14.00,2,  -999.00,9,     0.96,2,   -999.0,9,   -999.0,9,  -999.00,9,  -0.2401
  06AQ20070728,EurArc,   246,  1,     11,     11,2,20070802,0800, 81.8680,  34.0130, 1969,    809.4,   0.1267,  34.9250,2,   -999.0,9,   -999.0,9,     8.07,2,    13.72,2,  -999.00,9,     0.94,2,   -999.0,9,   -999.0,9,  -999.00,9,   0.0911
  06AQ20070728,EurArc,   246,  1,     12,     12,2,20070802,0800, 81.8680,  34.0130, 1969,    707.1,   0.5926,  34.9320,2,   -999.0,9,   -999.0,9,     6.92,2,    13.15,2,  -999.00,9,     0.90,2,   -999.0,9,   -999.0,9,  -999.00,9,   0.5594
  06AQ20070728,EurArc,   246,  1,     13,     13,2,20070802,0800, 81.8680,  34.0130, 1969,    656.9,   0.7906,  34.9340,2,   -999.0,9,   -999.0,9,     6.55,2,    13.05,2,     0.00,2,     0.89,2,   -999.0,9,   -999.0,9,  -999.00,9,   0.7590
  06AQ20070728,EurArc,   246,  1,     14,     14,2,20070802,0800, 81.8680,  34.0130, 1969,    582.6,   1.2069,  34.9530,2,   -999.0,9,   -999.0,9,     5.61,2,    12.13,2,     0.01,2,     0.84,2,   -999.0,9,   -999.0,9,  -999.00,9,   1.1772
  06AQ20070728,EurArc,   246,  1,     15,     15,2,20070802,0800, 81.8680,  34.0130, 1969,    555.4,   1.3368,  34.9590,2,   -999.0,9,   -999.0,9,     5.70,2,    12.34,2,     0.01,2,     0.85,2,   -999.0,9,   -999.0,9,  -999.00,9,   1.3080
  06AQ20070728,EurArc,   246,  1,     16,     16,2,20070802,0800, 81.8680,  34.0130, 1969,    504.8,   1.6690,  34.9790,2,   -999.0,9,   -999.0,9,     5.42,2,    12.14,2,     0.00,2,     0.83,2,   -999.0,9,   -999.0,9,  -999.00,9,   1.6417
  06AQ20070728,EurArc,   246,  1,     17,     17,2,20070802,0800, 81.8680,  34.0130, 1969,    404.1,   1.8067,  34.9620,2,   -999.0,9,   -999.0,9,     5.63,2,    12.61,2,     0.00,2,     0.86,2,   -999.0,9,   -999.0,9,  -999.00,9,   1.7847
  06AQ20070728,EurArc,   246,  1,     18,     18,2,20070802,0800, 81.8680,  34.0130, 1969,    303.9,   2.3794,  34.9870,2,   -999.0,9,   -999.0,9,     5.17,2,    12.13,2,     0.00,2,     0.83,2,   -999.0,9,   -999.0,9,  -999.00,9,   2.3617
  06AQ20070728,EurArc,   246,  1,     19,     19,2,20070802,0800, 81.8680,  34.0130, 1969,    252.2,   2.5975,  34.9910,2,   -999.0,9,   -999.0,9,     5.01,2,    11.95,2,     0.00,2,     0.82,2,   -999.0,9,   -999.0,9,  -999.00,9,   2.5825
  06AQ20070728,EurArc,   246,  1,     20,     20,2,20070802,0800, 81.8680,  34.0130, 1969,    203.0,   2.7628,  34.9900,2,   -999.0,9,   -999.0,9,     4.88,2,    11.87,2,     0.01,2,     0.80,2,   -999.0,9,   -999.0,9,  -999.00,9,   2.7505
  06AQ20070728,EurArc,   246,  1,     21,     21,2,20070802,0800, 81.8680,  34.0130, 1969,    101.3,   2.0208,  34.8280,2,   -999.0,9,   -999.0,9,     4.64,2,    11.32,2,     0.01,2,     0.78,2,   -999.0,9,   -999.0,9,  -999.00,9,   2.0154
  06AQ20070728,EurArc,   246,  1,     22,     22,2,20070802,0800, 81.8680,  34.0130, 1969,     50.7,  -1.3636,  34.3530,2,   -999.0,9,   -999.0,9,     3.97,2,     9.50,2,     0.10,2,     0.68,2,   -999.0,9,   -999.0,9,  -999.00,9,  -1.3648
  06AQ20070728,EurArc,   246,  1,     23,     23,2,20070802,0800, 81.8680,  34.0130, 1969,     25.0,  -1.5982,  34.0840,2,   -999.0,9,   -999.0,9,     3.10,2,     7.55,2,     0.04,2,     0.57,2,   -999.0,9,   -999.0,9,  -999.00,9,  -1.5987
  06AQ20070728,EurArc,   246,  1,     24,     24,2,20070802,0800, 81.8680,  34.0130, 1969,      4.4,  -1.3879,  32.9360,2,   -999.0,9,   -999.0,9,     0.11,2,     0.88,2,     0.02,2,     0.11,2,   -999.0,9,   -999.0,9,  -999.00,9,  -1.3880
  06AQ20070728,EurArc,   246,  2,      1,      1,2,20070802,0944, 81.8680,  34.0130, 1969,   2004.1,  -0.7000,  34.9150,2,   -999.0,9,    297.4,2,    10.83,2,    14.30,2,     0.01,2,     1.01,2,   -999.0,9,   -999.0,9,  -999.00,9,  -0.7959
  06AQ20070728,EurArc,   246,  2,      2,      2,2,20070802,0944, 81.8680,  34.0130, 1969,   1994.3,  -0.6919,  34.9140,2,   -999.0,9,    297.0,2,    10.84,2,    14.27,2,     0.01,2,     1.01,2,   -999.0,9,   -999.0,9,  -999.00,9,  -0.7872
  06AQ20070728,EurArc,   246,  2,      3,      3,2,20070802,0944, 81.8680,  34.0130, 1969,   1775.6,  -0.6773,  34.9110,2,   -999.0,9,    297.3,2,    10.76,2,    14.39,2,     0.01,2,     1.01,2,   -999.0,9,   -999.0,9,  -999.00,9,  -0.7590
  06AQ20070728,EurArc,   246,  2,      4,      4,2,20070802,0944, 81.8680,  34.0130, 1969,   1522.0,  -0.6401,  34.9100,2,   -999.0,9,    297.2,2,    10.48,2,    14.25,2,     0.00,2,     0.99,2,   -999.0,9,   -999.0,9,  -999.00,9,  -0.7072
  06AQ20070728,EurArc,   246,  2,      5,      5,2,20070802,0944, 81.8680,  34.0130, 1969,   1267.3,  -0.5612,  34.9080,2,   -999.0,9,    297.4,2,    10.04,2,    14.20,2,     0.01,2,     0.98,2,   -999.0,9,   -999.0,9,  -999.00,9,  -0.6150
  06AQ20070728,EurArc,   246,  2,      6,      6,2,20070802,0944, 81.8680,  34.0130, 1969,   1013.2,  -0.3448,  34.9080,2,   -999.0,9,    298.6,2,     9.03,2,    13.78,2,     0.00,2,     0.96,2,   -999.0,9,   -999.0,9,  -999.00,9,  -0.3873
  06AQ20070728,EurArc,   246,  2,      7,      7,2,20070802,0944, 81.8680,  34.0130, 1969,    758.3,   0.3121,  34.9150,2,   -999.0,9,    302.1,2,     7.13,2,    13.02,2,     0.00,2,     0.90,2,   -999.0,9,   -999.0,9,  -999.00,9,   0.2779
  06AQ20070728,EurArc,   246,  2,      8,      8,2,20070802,0944, 81.8680,  34.0130, 1969,    506.4,   1.7563,  34.9800,2,   -999.0,9,    307.1,2,     5.16,2,    11.66,2,     0.00,2,     0.80,2,   -999.0,9,   -999.0,9,  -999.00,9,   1.7285
  06AQ20070728,EurArc,   246,  2,      9,      9,2,20070802,0944, 81.8680,  34.0130, 1969,    405.2,   1.8696,  34.9590,2,   -999.0,9,    302.1,2,     5.48,2,    12.28,2,     0.01,2,     0.83,2,   -999.0,9,   -999.0,9,  -999.00,9,   1.8474
  06AQ20070728,EurArc,   246,  2,     10,     10,2,20070802,0944, 81.8680,  34.0130, 1969,    303.1,   2.4173,  34.9790,2,   -999.0,9,    302.0,2,     4.99,2,    11.87,2,     0.00,2,     0.80,2,   -999.0,9,   -999.0,9,  -999.00,9,   2.3996
  06AQ20070728,EurArc,   246,  2,     11,     11,2,20070802,0944, 81.8680,  34.0130, 1969,    303.0,   2.4172,  34.9800,2,   -999.0,9,    302.0,2,  -999.00,9,  -999.00,9,  -999.00,9,  -999.00,9,   -999.0,9,   -999.0,9,  -999.00,9,   2.3995
  06AQ20070728,EurArc,   246,  2,     12,     12,2,20070802,0944, 81.8680,  34.0130, 1969,    252.5,   2.6251,  34.9840,2,   -999.0,9,    301.4,2,     4.89,2,    11.84,2,     0.00,2,     0.79,2,   -999.0,9,   -999.0,9,  -999.00,9,   2.6100
  06AQ20070728,EurArc,   246,  2,     13,     13,2,20070802,0944, 81.8680,  34.0130, 1969,    201.9,   2.7266,  34.9730,2,   -999.0,9,    301.6,2,     4.80,2,    11.82,2,     0.01,2,     0.78,2,   -999.0,9,   -999.0,9,  -999.00,9,   2.7145
  06AQ20070728,EurArc,   246,  2,     14,     14,2,20070802,0944, 81.8680,  34.0130, 1969,    177.0,   2.7109,  34.9620,2,   -999.0,9,    300.9,2,     4.79,2,    11.83,2,     0.00,2,     0.78,2,   -999.0,9,   -999.0,9,  -999.00,9,   2.7003
  06AQ20070728,EurArc,   246,  2,     15,     15,2,20070802,0944, 81.8680,  34.0130, 1969,    151.5,   2.6502,  34.9370,2,   -999.0,9,    300.3,2,     4.75,2,    11.86,2,     0.01,2,     0.77,2,   -999.0,9,   -999.0,9,  -999.00,9,   2.6413
  06AQ20070728,EurArc,   246,  2,     16,     16,2,20070802,0944, 81.8680,  34.0130, 1969,    126.2,   2.5682,  34.9010,2,   -999.0,9,    299.4,2,     4.69,2,    11.71,2,     0.01,2,     0.76,2,   -999.0,9,   -999.0,9,  -999.00,9,   2.5609
  06AQ20070728,EurArc,   246,  2,     17,     17,2,20070802,0944, 81.8680,  34.0130, 1969,    101.3,   2.1515,  34.8310,2,   -999.0,9,    302.0,2,  -999.00,9,  -999.00,9,  -999.00,9,  -999.00,9,   -999.0,9,   -999.0,9,  -999.00,9,   2.1460
  06AQ20070728,EurArc,   246,  2,     18,     18,2,20070802,0944, 81.8680,  34.0130, 1969,    101.3,   2.1831,  34.8360,2,   -999.0,9,    302.0,2,     4.63,2,    11.66,2,     0.03,2,     0.76,2,   -999.0,9,   -999.0,9,  -999.00,9,   2.1776
  06AQ20070728,EurArc,   246,  2,     19,     19,2,20070802,0944, 81.8680,  34.0130, 1969,     75.8,   1.0800,  34.6480,2,   -999.0,9,    309.2,2,     4.29,2,    11.04,2,     0.03,2,     0.72,2,   -999.0,9,   -999.0,9,  -999.00,9,   1.0766
  06AQ20070728,EurArc,   246,  2,     20,     20,2,20070802,0944, 81.8680,  34.0130, 1969,     49.8,  -1.2385,  34.3440,2,   -999.0,9,    328.6,2,     3.86,2,     9.38,2,     0.10,2,     0.64,2,   -999.0,9,   -999.0,9,  -999.00,9,  -1.2397
  06AQ20070728,EurArc,   246,  2,     21,     21,2,20070802,0944, 81.8680,  34.0130, 1969,     25.6,  -1.5960,  33.8420,2,   -999.0,9,    381.0,2,     2.23,2,     7.18,2,     0.04,2,     0.52,2,   -999.0,9,   -999.0,9,  -999.00,9,  -1.5965
  06AQ20070728,EurArc,   246,  2,     22,     22,2,20070802,0944, 81.8680,  34.0130, 1969,     25.6,  -1.6024,  34.0300,2,   -999.0,9,    380.9,2,     2.19,2,     7.12,2,     0.05,2,     0.52,2,   -999.0,9,   -999.0,9,  -999.00,9,  -1.6029
  06AQ20070728,EurArc,   246,  2,     23,     23,2,20070802,0944, 81.8680,  34.0130, 1969,     10.1,  -1.4634,  33.5330,2,   -999.0,9,    407.7,2,     0.02,2,     0.15,2,     0.02,2,     0.07,2,   -999.0,9,   -999.0,9,  -999.00,9,  -1.4636
  06AQ20070728,EurArc,   246,  2,     24,     24,2,20070802,0944, 81.8680,  34.0130, 1969,      2.2,  -1.4005,  32.7100,2,   -999.0,9,    407.5,2,     0.02,2,     0.04,2,     0.01,2,     0.04,2,   -999.0,9,   -999.0,9,  -999.00,9,  -1.4005
  06AQ20070728,EurArc,   249,  1,      1,      1,2,20070802,2202, 81.9960,  33.9910, 2221,   2250.6,  -0.7661,  34.9250,2,   -999.0,9,    297.7,2,    11.12,2,    14.65,2,     0.01,2,     1.00,2,   -999.0,9,   -999.0,9,  -999.00,9,  -0.8774
  06AQ20070728,EurArc,   249,  1,      2,      2,2,20070802,2202, 81.9960,  33.9910, 2221,   2215.1,  -0.7485,  34.9220,2,   -999.0,9,    298.0,2,    11.03,2,    14.66,2,     0.01,2,     1.00,2,   -999.0,9,   -999.0,9,  -999.00,9,  -0.8577
  06AQ20070728,EurArc,   249,  1,      3,      3,2,20070802,2202, 81.9960,  33.9910, 2221,   2026.7,  -0.7244,  34.9170,2,   -999.0,9,    297.8,2,    10.91,2,    14.64,2,     0.01,2,     1.00,2,   -999.0,9,   -999.0,9,  -999.00,9,  -0.8213
  06AQ20070728,EurArc,   249,  1,      4,      4,2,20070802,2202, 81.9960,  33.9910, 2221,   1774.3,  -0.6933,  34.9140,2,   -999.0,9,    297.9,2,    10.45,2,    14.56,2,     0.01,2,     0.99,2,   -999.0,9,   -999.0,9,  -999.00,9,  -0.7747
  06AQ20070728,EurArc,   249,  1,      5,      5,2,20070802,2202, 81.9960,  33.9910, 2221,   1521.0,  -0.6551,  34.9110,2,   -999.0,9,    298.0,2,    10.43,2,    14.55,2,     0.01,2,     0.99,2,   -999.0,9,   -999.0,9,  -999.00,9,  -0.7219
  06AQ20070728,EurArc,   249,  1,      6,      6,2,20070802,2202, 81.9960,  33.9910, 2221,   1266.6,  -0.5540,  34.9090,2,   -999.0,9,    299.5,2,     9.92,2,    14.41,2,     0.01,2,     0.98,2,   -999.0,9,   -999.0,9,  -999.00,9,  -0.6078
  06AQ20070728,EurArc,   249,  1,      7,      7,2,20070802,2202, 81.9960,  33.9910, 2221,   1012.9,  -0.3179,  34.9080,2,   -999.0,9,    301.0,2,     8.87,2,    13.98,2,     0.01,2,     0.96,2,   -999.0,9,   -999.0,9,  -999.00,9,  -0.3606
  06AQ20070728,EurArc,   249,  1,      8,      8,2,20070802,2202, 81.9960,  33.9910, 2221,    759.3,   0.4652,  34.9240,2,   -999.0,9,    305.1,2,     7.08,2,    13.08,2,     0.01,2,     0.90,2,   -999.0,9,   -999.0,9,  -999.00,9,   0.4300
  06AQ20070728,EurArc,   249,  1,      9,      9,2,20070802,2202, 81.9960,  33.9910, 2221,    505.8,   1.7640,  34.9740,2,   -999.0,9,    307.3,2,     5.48,2,    12.24,2,     0.01,2,     0.83,2,   -999.0,9,   -999.0,9,  -999.00,9,   1.7362
  06AQ20070728,EurArc,   249,  1,     10,     10,2,20070802,2202, 81.9960,  33.9910, 2221,    404.3,   2.1934,  34.9860,2,   -999.0,9,    305.9,2,     5.24,2,    12.11,2,     0.02,2,     0.82,2,   -999.0,9,   -999.0,9,  -999.00,9,   2.1701
  06AQ20070728,EurArc,   249,  1,     11,     11,2,20070802,2202, 81.9960,  33.9910, 2221,    302.9,   2.4319,  34.9790,2,   -999.0,9,    304.4,2,     5.11,2,    12.03,2,     0.01,2,     0.81,2,   -999.0,9,   -999.0,9,  -999.00,9,   2.4141
  06AQ20070728,EurArc,   249,  1,     12,     12,2,20070802,2202, 81.9960,  33.9910, 2221,    253.2,   2.6120,  34.9780,2,   -999.0,9,    304.6,2,     4.94,2,    11.83,2,     0.02,2,     0.80,2,   -999.0,9,   -999.0,9,  -999.00,9,   2.5969
  06AQ20070728,EurArc,   249,  1,     13,     13,2,20070802,2202, 81.9960,  33.9910, 2221,    202.2,   2.8310,  34.9830,2,   -999.0,9,    303.6,2,     4.83,2,    11.70,2,     0.01,2,     0.79,2,   -999.0,9,   -999.0,9,  -999.00,9,   2.8187
  06AQ20070728,EurArc,   249,  1,     14,     14,2,20070802,2202, 81.9960,  33.9910, 2221,    176.6,   2.8562,  34.9740,2,   -999.0,9,    303.4,2,     4.82,2,    11.72,2,     0.01,2,     0.79,2,   -999.0,9,   -999.0,9,  -999.00,9,   2.8454
  06AQ20070728,EurArc,   249,  1,     15,     15,2,20070802,2202, 81.9960,  33.9910, 2221,    151.9,   2.8783,  34.9620,2,    290.2,2,    302.1,2,     4.79,2,    11.65,2,     0.02,2,     0.79,2,   -999.0,9,   -999.0,9,     0.25,2,   2.8690
  06AQ20070728,EurArc,   249,  1,     16,     16,2,20070802,2202, 81.9960,  33.9910, 2221,    126.1,   2.7982,  34.9370,2,    289.5,2,    302.7,2,     4.78,2,    11.63,2,     0.02,2,     0.79,2,   -999.0,9,   -999.0,9,     0.24,2,   2.7906
  06AQ20070728,EurArc,   249,  1,     17,     17,2,20070802,2202, 81.9960,  33.9910, 2221,     99.1,   2.6010,  34.8760,2,   -999.0,9,    303.1,2,     4.72,2,    11.35,2,     0.04,2,     0.78,2,   -999.0,9,   -999.0,9,  -999.00,9,   2.5952
  06AQ20070728,EurArc,   249,  1,     18,     18,2,20070802,2202, 81.9960,  33.9910, 2221,     99.1,   2.5195,  34.8630,2,    290.4,2,    303.1,2,     4.71,2,    11.38,2,     0.03,2,     0.77,2,   -999.0,9,   -999.0,9,     0.22,2,   2.5138
  06AQ20070728,EurArc,   249,  1,     19,     19,2,20070802,2202, 81.9960,  33.9910, 2221,     76.2,   0.9887,  34.6410,2,    298.1,2,    313.5,2,     4.48,2,    10.82,2,     0.04,2,     0.74,2,   -999.0,9,   -999.0,9,     0.14,2,   0.9853
  06AQ20070728,EurArc,   249,  1,     20,     20,2,20070802,2202, 81.9960,  33.9910, 2221,     50.5,  -0.4887,  34.4250,2,    310.8,2,    330.9,2,     3.98,2,     9.67,2,     0.11,2,     0.68,2,   -999.0,9,   -999.0,9,     0.10,2,  -0.4903
  06AQ20070728,EurArc,   249,  1,     21,     21,2,20070802,2202, 81.9960,  33.9910, 2221,     25.3,  -1.5703,  34.2610,2,    325.0,2,    359.4,2,     3.36,2,     7.91,2,     0.06,2,     0.58,2,   -999.0,9,   -999.0,9,     0.06,2,  -1.5708
  06AQ20070728,EurArc,   249,  1,     22,     22,2,20070802,2202, 81.9960,  33.9910, 2221,      9.4,  -1.4032,  33.1100,2,    371.8,2,    401.9,2,     1.29,2,     3.41,2,     0.04,2,     0.31,2,   -999.0,9,   -999.0,9,    -0.01,2,  -1.4034
  06AQ20070728,EurArc,   249,  1,     23,     23,2,20070802,2202, 81.9960,  33.9910, 2221,      2.9,  -1.4723,  32.6720,2,    391.7,2,    401.5,2,     0.33,2,     0.50,2,     0.03,2,     0.12,2,   -999.0,9,   -999.0,9,     0.09,2,  -1.4724