BOTTLE,20220921CCHSIOAMB
EXPOCODE,SECT_ID,STNNBR,CASTNO,SAMPNO,BTLNBR,BTLNBR_FLAG_W,DATE,TIME,LATITUDE,LONGITUDE,DEPTH,CTDPRS,CTDTMP,CTDSAL,CTDSAL_FLAG_W,CTDOXY,CTDOXY_FLAG_W,OXYGEN,OXYGEN_FLAG_W,SILCAT,SILCAT_FLAG_W,NITRAT,NITRAT_FLAG_W,NITRIT,NITRIT_FLAG_W,PHSPHT,PHSPHT_FLAG_W,TCARBN,TCARBN_FLAG_W,ALKALI,ALKALI_FLAG_W,DELO18,DELO18_FLAG_W,THETA
,,,,,,,,,,,METERS,DBAR,ITS-90,PSS-78,,UMOL/KG,,UMOL/KG,,UMOL/KG,,UMOL/KG,,UMOL/KG,,UMOL/KG,,UMOL/KG,,UMOL/KG,,/MILLE,,DEG C
  06AQ20070728,EurArc,   407,  4,     24,     24,2,20070923,1222, 76.1800, 122.1300,   67,      1.7,  -0.4384,  29.5310,2,    342.6,2,    353.6,2,     0.60,2,     0.03,2,     0.01,2,     0.12,2,   -999.0,9,   -999.0,9,    -2.27,2,  -0.4384
  06AQ20070728,EurArc,   407,  4,     23,     23,2,20070923,1222, 76.1800, 122.1300,   67,     10.3,  -0.4543,  29.5290,2,   -999.0,9,    353.0,2,  -999.00,9,  -999.00,9,  -999.00,9,  -999.00,9,   -999.0,9,   -999.0,9,  -999.00,9,  -0.4545
  06AQ20070728,EurArc,   407,  4,     22,     22,2,20070923,1222, 76.1800, 122.1300,   67,     10.4,  -0.4545,  29.5310,2,   -999.0,9,    353.0,2,  -999.00,9,  -999.00,9,  -999.00,9,  -999.00,9,   -999.0,9,   -999.0,9,  -999.00,9,  -0.4547
  06AQ20070728,EurArc,   407,  4,     21,     21,2,20070923,1222, 76.1800, 122.1300,   67,     10.4,  -0.4558,  29.5350,2,   -999.0,9,    353.0,2,  -999.00,9,  -999.00,9,  -999.00,9,  -999.00,9,   -999.0,9,   -999.0,9,  -999.00,9,  -0.4560
  06AQ20070728,EurArc,   407,  4,     20,     20,2,20070923,1222, 76.1800, 122.1300,   67,     10.4,  -0.4548,  29.5290,2,   -999.0,9,    353.0,2,  -999.00,9,  -999.00,9,  -999.00,9,  -999.00,9,   -999.0,9,   -999.0,9,  -999.00,9,  -0.4550
  06AQ20070728,EurArc,   407,  4,     19,     19,2,20070923,1222, 76.1800, 122.1300,   67,     10.4,  -0.4539,  29.5340,2,   -999.0,9,    353.0,2,  -999.00,9,  -999.00,9,  -999.00,9,  -999.00,9,   -999.0,9,   -999.0,9,  -999.00,9,  -0.4541
  06AQ20070728,EurArc,   407,  4,     18,     18,2,20070923,1222, 76.1800, 122.1300,   67,     10.3,  -0.4576,  29.5270,2,    342.4,2,    353.0,2,     0.60,2,    -0.01,2,     0.01,2,     0.13,2,   -999.0,9,   -999.0,9,    -2.20,2,  -0.4578
  06AQ20070728,EurArc,   407,  4,     17,     17,2,20070923,1222, 76.1800, 122.1300,   67,     16.4,  -0.1944,  30.0570,2,   -999.0,9,    352.8,2,     0.53,2,    -0.01,2,     0.02,2,     0.15,2,   -999.0,9,   -999.0,9,  -999.00,9,  -0.1948
  06AQ20070728,EurArc,   407,  4,     16,     16,2,20070923,1222, 76.1800, 122.1300,   67,     16.4,  -0.0970,  30.4340,2,   -999.0,9,    352.7,2,     0.54,2,     0.00,2,     0.01,2,     0.16,2,   -999.0,9,   -999.0,9,  -999.00,9,  -0.0974
  06AQ20070728,EurArc,   407,  4,     15,     15,2,20070923,1222, 76.1800, 122.1300,   67,     25.5,  -1.5334,  33.3610,2,   -999.0,9,    379.0,2,  -999.00,9,  -999.00,9,  -999.00,9,  -999.00,9,   -999.0,9,   -999.0,9,  -999.00,9,  -1.5339
  06AQ20070728,EurArc,   407,  4,     14,     14,2,20070923,1222, 76.1800, 122.1300,   67,     25.5,  -1.5328,  33.3630,2,   -999.0,9,    379.0,2,  -999.00,9,  -999.00,9,  -999.00,9,  -999.00,9,   -999.0,9,   -999.0,9,  -999.00,9,  -1.5333
  06AQ20070728,EurArc,   407,  4,     13,     13,2,20070923,1222, 76.1800, 122.1300,   67,     25.5,  -1.5310,  33.3650,2,   -999.0,9,    379.0,2,  -999.00,9,  -999.00,9,  -999.00,9,  -999.00,9,   -999.0,9,   -999.0,9,  -999.00,9,  -1.5315
  06AQ20070728,EurArc,   407,  4,     12,     12,2,20070923,1222, 76.1800, 122.1300,   67,     25.4,  -1.5335,  33.3710,2,   -999.0,9,    379.0,2,  -999.00,9,  -999.00,9,  -999.00,9,  -999.00,9,   -999.0,9,   -999.0,9,  -999.00,9,  -1.5340
  06AQ20070728,EurArc,   407,  4,     11,     11,2,20070923,1222, 76.1800, 122.1300,   67,     25.5,  -1.5332,  33.3660,2,   -999.0,9,    379.0,2,  -999.00,9,  -999.00,9,  -999.00,9,  -999.00,9,   -999.0,9,   -999.0,9,  -999.00,9,  -1.5337
  06AQ20070728,EurArc,   407,  4,     10,     10,2,20070923,1222, 76.1800, 122.1300,   67,     25.5,  -1.5391,  33.3580,2,    354.9,2,    379.0,2,     1.46,2,     1.96,2,     0.05,2,     0.38,2,   -999.0,9,   -999.0,9,    -0.98,2,  -1.5396
  06AQ20070728,EurArc,   407,  4,      9,      9,2,20070923,1222, 76.1800, 122.1300,   67,     30.1,  -1.5861,  33.4510,2,   -999.0,9,    381.4,2,     2.83,2,     3.82,2,     0.07,2,     0.51,2,   -999.0,9,   -999.0,9,  -999.00,9,  -1.5867
  06AQ20070728,EurArc,   407,  4,      8,      8,2,20070923,1222, 76.1800, 122.1300,   67,     30.2,  -1.5857,  33.4540,2,   -999.0,9,    381.0,2,     2.52,2,     3.64,2,     0.07,2,     0.50,2,   -999.0,9,   -999.0,9,  -999.00,9,  -1.5863
  06AQ20070728,EurArc,   407,  4,      7,      7,2,20070923,1222, 76.1800, 122.1300,   67,     51.2,  -1.6388,  33.7590,2,   -999.0,9,    309.9,2,  -999.00,9,  -999.00,9,  -999.00,9,  -999.00,9,   -999.0,9,   -999.0,9,  -999.00,9,  -1.6398
  06AQ20070728,EurArc,   407,  4,      6,      6,2,20070923,1222, 76.1800, 122.1300,   67,     51.2,  -1.6386,  33.7590,2,   -999.0,9,    309.9,2,  -999.00,9,  -999.00,9,  -999.00,9,  -999.00,9,   -999.0,9,   -999.0,9,  -999.00,9,  -1.6396
  06AQ20070728,EurArc,   407,  4,      5,      5,2,20070923,1222, 76.1800, 122.1300,   67,     51.3,  -1.6391,  33.7610,2,   -999.0,9,    309.7,2,  -999.00,9,  -999.00,9,  -999.00,9,  -999.00,9,   -999.0,9,   -999.0,9,  -999.00,9,  -1.6401
  06AQ20070728,EurArc,   407,  4,      4,      4,2,20070923,1222, 76.1800, 122.1300,   67,     51.3,  -1.6379,  33.7590,2,   -999.0,9,    309.7,2,  -999.00,9,  -999.00,9,  -999.00,9,  -999.00,9,   -999.0,9,   -999.0,9,  -999.00,9,  -1.6389
  06AQ20070728,EurArc,   407,  4,      3,      3,2,20070923,1222, 76.1800, 122.1300,   67,     51.4,  -1.6390,  33.7610,2,   -999.0,9,    309.5,2,  -999.00,9,  -999.00,9,  -999.00,9,  -999.00,9,   -999.0,9,   -999.0,9,  -999.00,9,  -1.6400
  06AQ20070728,EurArc,   407,  4,      2,      2,2,20070923,1222, 76.1800, 122.1300,   67,     51.3,  -1.6387,  33.7630,2,   -999.0,9,    309.7,2,  -999.00,9,  -999.00,9,  -999.00,9,  -999.00,9,   -999.0,9,   -999.0,9,  -999.00,9,  -1.6397
  06AQ20070728,EurArc,   407,  4,      1,      1,2,20070923,1222, 76.1800, 122.1300,   67,     51.3,  -1.6382,  33.7560,2,    288.3,2,    309.7,2,     7.27,2,     6.30,2,     0.10,2,     0.67,2,   -999.0,9,   -999.0,9,    -0.70,2,  -1.6392
  06AQ20070728,EurArc,   408,  1,      8,      8,2,20070923,1534, 75.9310, 121.9600,   62,      1.9,   0.9649,  30.0480,2,    338.9,2,    349.4,2,     0.52,2,     0.00,2,     0.00,2,     0.11,2,   -999.0,9,   -999.0,9,    -2.49,2,   0.9648
  06AQ20070728,EurArc,   408,  1,      7,      7,2,20070923,1534, 75.9310, 121.9600,   62,     10.2,   0.8904,  30.0420,2,    339.2,2,    349.5,2,     0.54,2,    -0.01,2,     0.01,2,     0.12,2,   -999.0,9,   -999.0,9,    -2.41,2,   0.8901
  06AQ20070728,EurArc,   408,  1,      6,      6,2,20070923,1534, 75.9310, 121.9600,   62,     19.9,  -1.2779,  32.7840,2,    367.0,2,    369.8,2,     1.07,2,     0.75,2,     0.04,2,     0.27,2,   -999.0,9,   -999.0,9,    -1.24,2,  -1.2783
  06AQ20070728,EurArc,   408,  1,      5,      5,2,20070923,1534, 75.9310, 121.9600,   62,     25.6,  -1.5826,  33.2360,2,    327.3,2,    356.6,2,     1.54,2,     3.55,2,     0.13,2,     0.50,2,   -999.0,9,   -999.0,9,  -999.00,9,  -1.5831
  06AQ20070728,EurArc,   408,  1,      4,      4,2,20070923,1534, 75.9310, 121.9600,   62,     30.7,  -1.5795,  33.3580,2,   -999.0,9,    334.2,2,  -999.00,9,  -999.00,9,  -999.00,9,  -999.00,9,   -999.0,9,   -999.0,9,  -999.00,9,  -1.5801
  06AQ20070728,EurArc,   408,  1,      3,      3,2,20070923,1534, 75.9310, 121.9600,   62,     30.7,  -1.5894,  33.3530,2,    318.2,2,    334.2,2,     5.76,2,     4.76,2,     0.10,2,     0.56,2,   -999.0,9,   -999.0,9,    -0.99,2,  -1.5900
  06AQ20070728,EurArc,   408,  1,      2,      2,2,20070923,1534, 75.9310, 121.9600,   62,     41.0,  -1.6366,  33.4860,2,    303.4,2,    324.1,2,     7.88,2,     5.83,2,     0.11,2,     0.67,2,   -999.0,9,   -999.0,9,  -999.00,9,  -1.6374
  06AQ20070728,EurArc,   408,  1,      1,      1,2,20070923,1534, 75.9310, 121.9600,   62,     57.1,  -1.6440,  33.6270,2,    289.4,2,    303.2,2,     8.44,2,     6.07,2,     0.12,2,     0.71,2,   -999.0,9,   -999.0,9,    -0.87,2,  -1.6451
  06AQ20070728,EurArc,   409,  1,     24,     24,2,20070923,1851, 75.7060, 121.7700,   62,      1.6,   0.7818,  30.0730,2,    342.8,2,    354.4,2,     0.40,2,     0.06,2,     0.02,2,     0.11,2,   -999.0,9,   -999.0,9,    -2.31,2,   0.7817
  06AQ20070728,EurArc,   409,  1,     23,     23,2,20070923,1851, 75.7060, 121.7700,   62,     10.2,   0.7430,  30.1140,2,    343.8,2,    354.1,2,     0.40,2,     0.05,2,     0.01,2,     0.10,2,   -999.0,9,   -999.0,9,    -2.17,2,   0.7427
  06AQ20070728,EurArc,   409,  1,     22,     22,2,20070923,1851, 75.7060, 121.7700,   62,     20.4,  -0.9540,  32.6510,2,    377.6,2,    356.9,2,     0.40,2,     0.19,2,     0.02,2,     0.21,2,   -999.0,9,   -999.0,9,    -1.33,2,  -0.9545
  06AQ20070728,EurArc,   409,  1,     21,     21,2,20070923,1851, 75.7060, 121.7700,   62,     25.3,  -1.3283,  33.0540,2,    370.2,2,    381.9,2,     1.34,2,     0.90,2,     0.06,2,     0.31,2,   -999.0,9,   -999.0,9,    -1.30,2,  -1.3288
  06AQ20070728,EurArc,   409,  1,     20,     20,2,20070923,1851, 75.7060, 121.7700,   62,     30.7,  -1.5616,  33.2900,2,    330.1,2,    368.7,2,     4.82,2,     3.08,2,     0.14,2,     0.54,2,   -999.0,9,   -999.0,9,    -1.62,2,  -1.5622
  06AQ20070728,EurArc,   409,  1,     19,     19,2,20070923,1851, 75.7060, 121.7700,   62,     40.7,  -1.6512,  33.4030,2,    321.0,2,    337.5,2,     5.13,2,     3.19,2,     0.15,2,     0.58,2,   -999.0,9,   -999.0,9,    -1.49,2,  -1.6520
  06AQ20070728,EurArc,   409,  1,     18,     18,2,20070923,1851, 75.7060, 121.7700,   62,     50.5,  -1.6515,  33.4030,2,    320.9,2,    335.5,2,     5.17,2,     3.20,2,     0.16,2,     0.58,2,   -999.0,9,   -999.0,9,    -1.60,2,  -1.6525
  06AQ20070728,EurArc,   409,  1,     17,     17,2,20070923,1851, 75.7060, 121.7700,   62,     55.2,  -1.6504,  33.4030,2,    320.9,2,    335.1,2,     5.19,2,     3.19,2,     0.16,2,     0.59,2,   -999.0,9,   -999.0,9,    -1.36,2,  -1.6514
  06AQ20070728,EurArc,   409,  1,     16,     16,2,20070923,1851, 75.7060, 121.7700,   62,     55.2,  -1.6503,  33.4030,2,   -999.0,9,    335.1,2,  -999.00,9,  -999.00,9,  -999.00,9,  -999.00,9,   -999.0,9,   -999.0,9,  -999.00,9,  -1.6513
  06AQ20070728,EurArc,   409,  1,     15,     15,2,20070923,1851, 75.7060, 121.7700,   62,     55.2,  -1.6509,  33.4030,2,   -999.0,9,    335.1,2,  -999.00,9,  -999.00,9,  -999.00,9,  -999.00,9,   -999.0,9,   -999.0,9,  -999.00,9,  -1.6519
  06AQ20070728,EurArc,   409,  1,     14,     14,2,20070923,1851, 75.7060, 121.7700,   62,     55.1,  -1.6507,  33.4030,2,   -999.0,9,    335.1,2,  -999.00,9,  -999.00,9,  -999.00,9,  -999.00,9,   -999.0,9,   -999.0,9,  -999.00,9,  -1.6517
  06AQ20070728,EurArc,   409,  1,     13,     13,2,20070923,1851, 75.7060, 121.7700,   62,     55.2,  -1.6509,  33.4030,2,   -999.0,9,    335.1,2,  -999.00,9,  -999.00,9,  -999.00,9,  -999.00,9,   -999.0,9,   -999.0,9,  -999.00,9,  -1.6519
  06AQ20070728,EurArc,   409,  1,     12,     12,2,20070923,1851, 75.7060, 121.7700,   62,     55.3,  -1.6505,  33.4030,2,   -999.0,9,    335.1,2,  -999.00,9,  -999.00,9,  -999.00,9,  -999.00,9,   -999.0,9,   -999.0,9,  -999.00,9,  -1.6515
  06AQ20070728,EurArc,   409,  1,     11,     11,2,20070923,1851, 75.7060, 121.7700,   62,     55.3,  -1.6502,  33.4030,2,   -999.0,9,    335.1,2,  -999.00,9,  -999.00,9,  -999.00,9,  -999.00,9,   -999.0,9,   -999.0,9,  -999.00,9,  -1.6512
  06AQ20070728,EurArc,   409,  1,     10,     10,2,20070923,1851, 75.7060, 121.7700,   62,     55.3,  -1.6509,  33.4030,2,   -999.0,9,    335.1,2,  -999.00,9,  -999.00,9,  -999.00,9,  -999.00,9,   -999.0,9,   -999.0,9,  -999.00,9,  -1.6519
  06AQ20070728,EurArc,   409,  1,      9,      9,2,20070923,1851, 75.7060, 121.7700,   62,     55.3,  -1.6486,  33.4030,2,   -999.0,9,    335.1,2,  -999.00,9,  -999.00,9,  -999.00,9,  -999.00,9,   -999.0,9,   -999.0,9,  -999.00,9,  -1.6496
  06AQ20070728,EurArc,   409,  1,      8,      8,2,20070923,1851, 75.7060, 121.7700,   62,     55.3,  -1.6510,  33.4030,2,   -999.0,9,    335.1,2,  -999.00,9,  -999.00,9,  -999.00,9,  -999.00,9,   -999.0,9,   -999.0,9,  -999.00,9,  -1.6520
  06AQ20070728,EurArc,   409,  1,      7,      7,2,20070923,1851, 75.7060, 121.7700,   62,     55.4,  -1.6502,  33.4030,2,   -999.0,9,    335.1,2,  -999.00,9,  -999.00,9,  -999.00,9,  -999.00,9,   -999.0,9,   -999.0,9,  -999.00,9,  -1.6513
  06AQ20070728,EurArc,   409,  1,      6,      6,2,20070923,1851, 75.7060, 121.7700,   62,     55.3,  -1.6489,  33.4030,2,   -999.0,9,    335.1,2,  -999.00,9,  -999.00,9,  -999.00,9,  -999.00,9,   -999.0,9,   -999.0,9,  -999.00,9,  -1.6499
  06AQ20070728,EurArc,   409,  1,      5,      5,2,20070923,1851, 75.7060, 121.7700,   62,     55.5,  -1.6510,  33.4030,2,   -999.0,9,    335.1,2,  -999.00,9,  -999.00,9,  -999.00,9,  -999.00,9,   -999.0,9,   -999.0,9,  -999.00,9,  -1.6521
  06AQ20070728,EurArc,   409,  1,      4,      4,2,20070923,1851, 75.7060, 121.7700,   62,     55.4,  -1.6484,  33.4030,2,   -999.0,9,    335.1,2,  -999.00,9,  -999.00,9,  -999.00,9,  -999.00,9,   -999.0,9,   -999.0,9,  -999.00,9,  -1.6495
  06AQ20070728,EurArc,   409,  1,      3,      3,2,20070923,1851, 75.7060, 121.7700,   62,     55.4,  -1.6453,  33.4030,2,   -999.0,9,    335.1,2,     5.20,2,     3.24,2,     0.15,2,     0.59,2,   -999.0,9,   -999.0,9,  -999.00,9,  -1.6464
  06AQ20070728,EurArc,   409,  1,      2,      2,2,20070923,1851, 75.7060, 121.7700,   62,     55.5,  -1.6501,  33.4030,2,   -999.0,9,    335.1,2,     5.20,2,     3.20,2,     0.16,2,     0.60,2,   -999.0,9,   -999.0,9,  -999.00,9,  -1.6512
  06AQ20070728,EurArc,   409,  1,      1,      1,2,20070923,1851, 75.7060, 121.7700,   62,     55.3,  -1.6485,  33.4030,2,   -999.0,9,    335.1,2,  -999.00,9,  -999.00,9,  -999.00,9,  -999.00,9,   -999.0,9,   -999.0,9,  -999.00,9,  -1.6495
  06AQ20070728,EurArc,   410,  1,      8,      8,2,20070923,2048, 75.4600, 121.5800,   57,      2.2,   0.4146,  29.5700,2,    342.2,2,    353.5,2,     0.57,2,     0.03,2,     0.00,2,     0.13,2,   -999.0,9,   -999.0,9,    -2.34,2,   0.4145
  06AQ20070728,EurArc,   410,  1,      7,      7,2,20070923,2048, 75.4600, 121.5800,   57,      9.8,   0.3667,  29.7680,2,    343.1,2,    353.8,2,     0.57,2,     0.05,2,     0.00,2,     0.15,2,   -999.0,9,   -999.0,9,    -2.37,2,   0.3664
  06AQ20070728,EurArc,   410,  1,      6,      6,2,20070923,2048, 75.4600, 121.5800,   57,     20.4,  -0.4809,  32.1230,2,    344.1,2,    355.2,2,     0.76,2,     0.31,2,     0.02,2,     0.31,2,   -999.0,9,   -999.0,9,    -2.46,2,  -0.4814
  06AQ20070728,EurArc,   410,  1,      5,      5,2,20070923,2048, 75.4600, 121.5800,   57,     25.1,  -1.4650,  33.2040,2,    326.6,2,    355.6,2,     3.76,2,     1.77,2,     0.09,2,     0.48,2,   -999.0,9,   -999.0,9,    -2.02,2,  -1.4655
  06AQ20070728,EurArc,   410,  1,      4,      4,2,20070923,2048, 75.4600, 121.5800,   57,     30.2,  -1.5272,  33.3350,2,    325.1,2,    341.0,2,     3.78,2,     1.78,2,     0.09,2,     0.48,2,   -999.0,9,   -999.0,9,    -2.08,2,  -1.5278
  06AQ20070728,EurArc,   410,  1,      3,      3,2,20070923,2048, 75.4600, 121.5800,   57,     30.2,  -1.5268,  33.3360,2,   -999.0,9,    341.0,2,     4.42,2,     1.82,2,     0.10,2,     0.49,2,   -999.0,9,   -999.0,9,  -999.00,9,  -1.5274
  06AQ20070728,EurArc,   410,  1,      2,      2,2,20070923,2048, 75.4600, 121.5800,   57,     40.1,  -1.5251,  33.3380,2,    325.3,2,    338.7,2,     4.50,2,     1.80,2,     0.10,2,     0.50,2,   -999.0,9,   -999.0,9,    -2.04,2,  -1.5259
  06AQ20070728,EurArc,   410,  1,      1,      1,2,20070923,2048, 75.4600, 121.5800,   57,     50.8,  -1.5268,  33.3390,2,    325.5,2,    338.4,2,     4.51,2,     1.81,2,     0.10,2,     0.50,2,   -999.0,9,   -999.0,9,    -1.87,2,  -1.5278