BOTTLE,20220921CCHSIOAMB
EXPOCODE,SECT_ID,STNNBR,CASTNO,SAMPNO,BTLNBR,BTLNBR_FLAG_W,DATE,TIME,LATITUDE,LONGITUDE,DEPTH,CTDPRS,CTDTMP,CTDSAL,CTDSAL_FLAG_W,CTDOXY,CTDOXY_FLAG_W,OXYGEN,OXYGEN_FLAG_W,SILCAT,SILCAT_FLAG_W,NITRAT,NITRAT_FLAG_W,NITRIT,NITRIT_FLAG_W,PHSPHT,PHSPHT_FLAG_W,TCARBN,TCARBN_FLAG_W,ALKALI,ALKALI_FLAG_W,DELO18,DELO18_FLAG_W,THETA
,,,,,,,,,,,METERS,DBAR,ITS-90,PSS-78,,UMOL/KG,,UMOL/KG,,UMOL/KG,,UMOL/KG,,UMOL/KG,,UMOL/KG,,UMOL/KG,,UMOL/KG,,/MILLE,,DEG C
  06AQ20070728,EurArc,   295,  1,      1,      1,2,20070822,1926, 83.2720,  86.2840, 3357,   3259.1,  -0.7393,  34.9400,2,   -999.0,9,    297.5,2,    11.20,2,    14.45,2,     0.01,2,     0.99,2,   2154.2,2,   2299.4,2,  -999.00,9,  -0.9289
  06AQ20070728,EurArc,   295,  1,      2,      2,2,20070822,1926, 83.2720,  86.2840, 3357,   3156.7,  -0.7503,  34.9380,2,   -999.0,9,    298.8,2,    11.02,2,    14.39,2,     0.02,2,     0.99,2,   -999.0,9,   -999.0,9,  -999.00,9,  -0.9310
  06AQ20070728,EurArc,   295,  1,      3,      3,2,20070822,1926, 83.2720,  86.2840, 3357,   3054.4,  -0.7547,  34.9360,2,   -999.0,9,   -999.0,9,    10.96,2,    14.41,2,     0.02,2,     0.99,2,   2153.2,2,   2297.8,2,  -999.00,9,  -0.9268
  06AQ20070728,EurArc,   295,  1,      4,      4,2,20070822,1926, 83.2720,  86.2840, 3357,   2797.9,  -0.7637,  34.9320,2,   -999.0,9,    298.7,2,    10.85,2,    14.41,2,     0.02,2,     0.99,2,   -999.0,9,   -999.0,9,  -999.00,9,  -0.9152
  06AQ20070728,EurArc,   295,  1,      5,      5,2,20070822,1926, 83.2720,  86.2840, 3357,   2542.3,  -0.7681,  34.9290,2,   -999.0,9,    298.6,2,    10.82,2,    14.36,2,     0.01,2,     0.99,2,   2153.9,2,   2298.1,2,  -999.00,9,  -0.9001
  06AQ20070728,EurArc,   295,  1,      6,      6,2,20070822,1926, 83.2720,  86.2840, 3357,   2286.5,  -0.7641,  34.9250,2,   -999.0,9,    298.4,2,    10.73,2,    14.30,2,     0.02,2,     0.99,2,   -999.0,9,   -999.0,9,  -999.00,9,  -0.8779
  06AQ20070728,EurArc,   295,  1,      7,      7,2,20070822,1926, 83.2720,  86.2840, 3357,   2031.5,  -0.7469,  34.9220,2,   -999.0,9,    298.2,2,    10.66,2,    14.29,2,     0.02,2,     0.99,2,   2158.3,2,   2299.0,2,  -999.00,9,  -0.8438
  06AQ20070728,EurArc,   295,  1,      8,      8,2,20070822,1926, 83.2720,  86.2840, 3357,   1776.7,  -0.7109,  34.9190,2,   -999.0,9,    298.3,2,    10.44,2,    14.25,2,     0.02,2,     0.98,2,   -999.0,9,   -999.0,9,  -999.00,9,  -0.7922
  06AQ20070728,EurArc,   295,  1,      9,      9,2,20070822,1926, 83.2720,  86.2840, 3357,   1521.9,  -0.6512,  34.9160,2,   -999.0,9,    298.5,2,    10.08,2,    14.09,2,     0.02,2,     0.98,2,   2164.4,3,   2298.0,2,  -999.00,9,  -0.7182
  06AQ20070728,EurArc,   295,  1,     10,     10,2,20070822,1926, 83.2720,  86.2840, 3357,   1267.8,  -0.5137,  34.9130,2,   -999.0,9,    299.6,2,     9.25,2,    13.89,2,     0.02,2,     0.95,2,   2165.8,3,   2293.7,2,  -999.00,9,  -0.5680
  06AQ20070728,EurArc,   295,  1,     11,     11,2,20070822,1926, 83.2720,  86.2840, 3357,   1013.5,  -0.2543,  34.9100,2,   -999.0,9,    300.6,2,     8.17,2,    13.42,2,     0.02,2,     0.92,2,   2165.2,2,   2295.1,2,  -999.00,9,  -0.2976
  06AQ20070728,EurArc,   295,  1,     12,     12,2,20070822,1926, 83.2720,  86.2840, 3357,    912.4,  -0.0561,  34.9120,2,   -999.0,9,    300.0,2,     7.92,2,    13.42,2,     0.02,2,     0.92,2,   -999.0,9,   -999.0,9,  -999.00,9,  -0.0957
  06AQ20070728,EurArc,   295,  1,     13,     13,2,20070822,1926, 83.2720,  86.2840, 3357,    759.6,   0.4414,  34.9180,2,   -999.0,9,    300.9,2,     7.04,2,    13.11,2,     0.02,2,     0.89,2,   2159.8,2,   2296.2,2,  -999.00,9,   0.4063
  06AQ20070728,EurArc,   295,  1,     14,     14,2,20070822,1926, 83.2720,  86.2840, 3357,    505.6,   1.7903,  34.9580,2,   -999.0,9,    303.1,2,     5.49,2,    12.31,2,     0.02,2,     0.83,2,   2153.3,2,   2295.9,2,  -999.00,9,   1.7625
  06AQ20070728,EurArc,   295,  1,     15,     15,2,20070822,1926, 83.2720,  86.2840, 3357,    252.5,   2.7566,  34.9570,2,   -999.0,9,    299.3,2,     4.74,2,    11.82,2,     0.02,2,     0.80,2,   -999.0,9,   -999.0,9,  -999.00,9,   2.7413
  06AQ20070728,EurArc,   295,  1,     16,     16,2,20070822,1926, 83.2720,  86.2840, 3357,    201.8,   2.8677,  34.9390,2,   -999.0,9,    324.5,3,     4.59,2,    11.75,2,     0.02,2,     0.79,2,   2147.9,2,   2297.2,2,     0.15,2,   2.8553
  06AQ20070728,EurArc,   295,  1,     17,     17,2,20070822,1926, 83.2720,  86.2840, 3357,    151.6,   2.7128,  34.8720,2,   -999.0,9,    302.1,2,     4.35,2,    11.30,2,     0.03,2,     0.76,2,   -999.0,9,   -999.0,9,     0.15,2,   2.7038
  06AQ20070728,EurArc,   295,  1,     18,     18,2,20070822,1926, 83.2720,  86.2840, 3357,    115.3,   0.8170,  34.5450,2,   -999.0,9,   -999.0,9,     3.69,2,    10.15,2,     0.03,2,     0.70,2,   -999.0,9,   -999.0,9,  -999.00,9,   0.8121
  06AQ20070728,EurArc,   295,  1,     19,     19,2,20070822,1926, 83.2720,  86.2840, 3357,    115.3,   0.8131,  34.5420,2,   -999.0,9,    324.6,2,     3.64,2,     9.95,2,     0.03,2,     0.70,2,   -999.0,9,   -999.0,9,     0.11,2,   0.8082
  06AQ20070728,EurArc,   295,  1,     20,     20,2,20070822,1926, 83.2720,  86.2840, 3357,     99.4,  -1.3588,  34.3240,2,   -999.0,9,    342.9,2,     3.00,2,     8.82,2,     0.03,2,     0.63,2,   2122.2,2,   2268.9,2,     0.04,2,  -1.3612
  06AQ20070728,EurArc,   295,  1,     21,     21,2,20070822,1926, 83.2720,  86.2840, 3357,     76.0,  -1.7669,  34.2250,2,   -999.0,9,    343.6,2,     2.23,2,     7.02,2,     0.04,2,     0.53,2,   -999.0,9,   -999.0,9,    -0.06,2,  -1.7684
  06AQ20070728,EurArc,   295,  1,     22,     22,2,20070822,1926, 83.2720,  86.2840, 3357,     50.5,  -1.7553,  34.1800,2,   -999.0,9,    347.3,2,     2.10,2,     6.34,2,     0.11,2,     0.49,2,   2116.2,3,   2260.7,2,    -0.10,2,  -1.7563
  06AQ20070728,EurArc,   295,  1,     23,     23,2,20070822,1926, 83.2720,  86.2840, 3357,     29.3,  -1.6420,  33.9980,2,   -999.0,9,    360.7,2,     1.91,2,     4.47,2,     0.05,2,     0.39,2,   -999.0,9,   -999.0,9,    -0.07,2,  -1.6426
  06AQ20070728,EurArc,   295,  1,     24,     24,2,20070822,1926, 83.2720,  86.2840, 3357,      9.8,  -1.6476,  33.3320,2,   -999.0,9,    363.3,2,     1.70,2,     3.61,2,     0.04,2,     0.35,2,   -999.0,9,   -999.0,9,    -0.22,2,  -1.6478
  06AQ20070728,EurArc,   296,  1,      1,      1,2,20070823,0019, 83.4350,  86.7460, 3438,   3497.2,  -0.7139,  34.9400,2,   -999.0,9,    297.1,2,    11.19,2,    14.30,2,     0.01,2,     0.99,2,   -999.0,9,   -999.0,9,  -999.00,9,  -0.9248
  06AQ20070728,EurArc,   296,  1,      2,      2,2,20070823,0019, 83.4350,  86.7460, 3438,   3054.0,  -0.7557,  34.9340,2,   -999.0,9,    299.0,2,    10.93,2,    14.29,2,     0.01,2,     0.99,2,   -999.0,9,   -999.0,9,  -999.00,9,  -0.9278
  06AQ20070728,EurArc,   296,  1,      4,      4,2,20070823,0019, 83.4350,  86.7460, 3438,   2542.0,  -0.7716,  34.9270,2,   -999.0,9,    299.8,2,    10.73,2,    14.26,2,     0.01,2,     0.98,2,   -999.0,9,   -999.0,9,  -999.00,9,  -0.9035
  06AQ20070728,EurArc,   296,  1,      3,      3,2,20070823,0019, 83.4350,  86.7460, 3438,   2542.0,  -0.7716,  34.9270,2,   -999.0,9,    299.8,2,    10.76,2,    14.32,2,     0.01,2,     0.98,2,   -999.0,9,   -999.0,9,  -999.00,9,  -0.9035
  06AQ20070728,EurArc,   296,  1,      5,      5,2,20070823,0019, 83.4350,  86.7460, 3438,   2031.1,  -0.7483,  34.9200,2,   -999.0,9,    299.4,2,    10.61,2,    14.34,2,     0.01,2,     0.98,2,   -999.0,9,   -999.0,9,  -999.00,9,  -0.8452
  06AQ20070728,EurArc,   296,  1,      6,      6,2,20070823,0019, 83.4350,  86.7460, 3438,   1521.7,  -0.6415,  34.9140,2,   -999.0,9,    299.9,2,     9.94,2,    14.18,2,     0.01,2,     0.97,2,   -999.0,9,   -999.0,9,  -999.00,9,  -0.7086
  06AQ20070728,EurArc,   296,  1,      7,      7,2,20070823,0019, 83.4350,  86.7460, 3438,   1267.3,  -0.5092,  34.9110,2,   -999.0,9,    300.9,2,     9.21,2,    13.89,2,     0.01,2,     0.95,2,   -999.0,9,   -999.0,9,  -999.00,9,  -0.5635
  06AQ20070728,EurArc,   296,  1,      8,      8,2,20070823,0019, 83.4350,  86.7460, 3438,   1013.5,  -0.2441,  34.9090,2,   -999.0,9,    301.7,2,     8.49,2,    13.66,2,     0.01,2,     0.94,2,   -999.0,9,   -999.0,9,  -999.00,9,  -0.2875
  06AQ20070728,EurArc,   296,  1,      9,      9,2,20070823,0019, 83.4350,  86.7460, 3438,    760.0,   0.4661,  34.9160,2,   -999.0,9,    302.4,2,     7.01,2,    13.17,2,     0.01,2,     0.90,2,   -999.0,9,   -999.0,9,  -999.00,9,   0.4309
  06AQ20070728,EurArc,   296,  1,     10,     10,2,20070823,0019, 83.4350,  86.7460, 3438,    506.9,   1.7198,  34.9490,2,   -999.0,9,    303.7,2,     5.57,2,    12.46,2,     0.02,2,     0.84,2,   -999.0,9,   -999.0,9,  -999.00,9,   1.6922
  06AQ20070728,EurArc,   296,  1,     11,     11,2,20070823,0019, 83.4350,  86.7460, 3438,    404.7,   2.3486,  34.9700,2,   -999.0,9,    301.8,2,  -999.00,9,  -999.00,9,  -999.00,9,  -999.00,9,   -999.0,9,   -999.0,9,  -999.00,9,   2.3248
  06AQ20070728,EurArc,   296,  1,     12,     12,2,20070823,0019, 83.4350,  86.7460, 3438,    303.2,   2.6173,  34.9720,2,   -999.0,9,    300.5,2,     4.96,2,    12.12,2,     0.02,2,     0.81,2,   -999.0,9,   -999.0,9,  -999.00,9,   2.5991
  06AQ20070728,EurArc,   296,  1,     13,     13,2,20070823,0019, 83.4350,  86.7460, 3438,    252.2,   2.6764,  34.9510,2,   -999.0,9,    299.0,2,     4.84,2,    12.09,2,     0.02,2,     0.81,2,   -999.0,9,   -999.0,9,  -999.00,9,   2.6612
  06AQ20070728,EurArc,   296,  1,     14,     14,2,20070823,0019, 83.4350,  86.7460, 3438,    202.0,   2.6399,  34.9160,2,   -999.0,9,    298.1,2,     4.60,2,    11.94,2,     0.02,2,     0.80,2,   -999.0,9,   -999.0,9,  -999.00,9,   2.6279
  06AQ20070728,EurArc,   296,  1,     15,     15,2,20070823,0019, 83.4350,  86.7460, 3438,    151.6,   2.6860,  34.8680,2,   -999.0,9,    298.8,2,     4.35,2,    11.47,2,     0.03,2,     0.77,2,   -999.0,9,   -999.0,9,  -999.00,9,   2.6770
  06AQ20070728,EurArc,   296,  1,     16,     16,2,20070823,0019, 83.4350,  86.7460, 3438,    125.4,   1.4904,  34.6480,2,   -999.0,9,    307.2,2,     3.96,2,    10.78,2,     0.02,2,     0.73,2,   -999.0,9,   -999.0,9,  -999.00,9,   1.4843
  06AQ20070728,EurArc,   296,  1,     17,     17,2,20070823,0019, 83.4350,  86.7460, 3438,    101.2,  -0.6330,  34.3540,2,   -999.0,9,    339.1,2,     3.14,2,     9.16,2,     0.03,2,     0.65,2,   -999.0,9,   -999.0,9,  -999.00,9,  -0.6360
  06AQ20070728,EurArc,   296,  1,     18,     18,2,20070823,0019, 83.4350,  86.7460, 3438,     75.9,  -1.6852,  34.2390,2,   -999.0,9,    347.1,2,     2.24,2,     7.17,2,     0.04,2,     0.54,2,   -999.0,9,   -999.0,9,  -999.00,9,  -1.6868
  06AQ20070728,EurArc,   296,  1,     19,     19,2,20070823,0019, 83.4350,  86.7460, 3438,     50.2,  -1.7709,  34.1880,2,   -999.0,9,    350.7,2,     2.06,2,     6.13,2,     0.11,2,     0.49,2,   -999.0,9,   -999.0,9,  -999.00,9,  -1.7719
  06AQ20070728,EurArc,   296,  1,     20,     20,2,20070823,0019, 83.4350,  86.7460, 3438,     25.3,  -1.6301,  33.8210,2,   -999.0,9,    363.0,2,     1.91,2,     4.88,2,     0.06,2,     0.42,2,   -999.0,9,   -999.0,9,  -999.00,9,  -1.6306
  06AQ20070728,EurArc,   296,  1,     21,     21,2,20070823,0019, 83.4350,  86.7460, 3438,      9.8,  -1.6731,  33.2170,2,   -999.0,9,    360.2,2,     1.75,2,     4.03,2,     0.04,2,     0.38,2,   -999.0,9,   -999.0,9,  -999.00,9,  -1.6733
  06AQ20070728,EurArc,   296,  1,     22,     22,2,20070823,0019, 83.4350,  86.7460, 3438,      1.7,  -1.6928,  33.0890,2,   -999.0,9,    359.8,2,     1.74,2,     3.94,2,     0.04,2,     0.38,2,   -999.0,9,   -999.0,9,  -999.00,9,  -1.6928
  06AQ20070728,EurArc,   297,  1,      1,      1,2,20070823,0438, 83.5880,  87.2370, 3493,   3552.8,  -0.7101,  34.9400,2,   -999.0,9,    296.9,2,    11.16,2,    14.52,2,     0.01,2,     0.99,2,   -999.0,9,   -999.0,9,  -999.00,9,  -0.9260
  06AQ20070728,EurArc,   297,  1,      2,      2,2,20070823,0438, 83.5880,  87.2370, 3493,   3053.9,  -0.7637,  34.9350,2,   -999.0,9,    299.0,2,    10.69,2,    14.47,2,     0.01,2,     1.00,2,   -999.0,9,   -999.0,9,  -999.00,9,  -0.9356
  06AQ20070728,EurArc,   297,  1,      4,      4,2,20070823,0438, 83.5880,  87.2370, 3493,   2542.0,  -0.7767,  34.9270,2,   -999.0,9,    299.5,2,    10.71,2,    14.53,2,     0.01,2,     1.00,2,   -999.0,9,   -999.0,9,  -999.00,9,  -0.9085
  06AQ20070728,EurArc,   297,  1,      3,      3,2,20070823,0438, 83.5880,  87.2370, 3493,   2542.0,  -0.7774,  34.9270,2,   -999.0,9,    299.5,2,  -999.00,9,  -999.00,9,  -999.00,9,  -999.00,9,   -999.0,9,   -999.0,9,  -999.00,9,  -0.9092
  06AQ20070728,EurArc,   297,  1,      5,      5,2,20070823,0438, 83.5880,  87.2370, 3493,   2031.3,  -0.7504,  34.9200,2,   -999.0,9,    299.0,2,    10.39,2,    14.48,2,     0.01,2,     0.99,2,   -999.0,9,   -999.0,9,  -999.00,9,  -0.8472
  06AQ20070728,EurArc,   297,  1,      6,      6,2,20070823,0438, 83.5880,  87.2370, 3493,   1521.7,  -0.6484,  34.9140,2,   -999.0,9,    298.5,2,    10.01,2,    14.41,2,     0.01,2,     0.98,2,   -999.0,9,   -999.0,9,  -999.00,9,  -0.7154
  06AQ20070728,EurArc,   297,  1,      7,      7,2,20070823,0438, 83.5880,  87.2370, 3493,   1267.0,  -0.5021,  34.9110,2,   -999.0,9,    299.4,2,     9.11,2,    14.03,2,     0.01,2,     0.97,2,   -999.0,9,   -999.0,9,  -999.00,9,  -0.5565
  06AQ20070728,EurArc,   297,  1,      8,      8,2,20070823,0438, 83.5880,  87.2370, 3493,   1013.2,  -0.2244,  34.9080,2,   -999.0,9,    299.6,2,     8.25,2,    13.75,2,     0.01,2,     0.94,2,   -999.0,9,   -999.0,9,  -999.00,9,  -0.2679
  06AQ20070728,EurArc,   297,  1,      9,      9,2,20070823,0438, 83.5880,  87.2370, 3493,    759.4,   0.5064,  34.9160,2,   -999.0,9,    301.0,2,     6.90,2,    13.22,2,     0.01,2,     0.90,2,   -999.0,9,   -999.0,9,  -999.00,9,   0.4709
  06AQ20070728,EurArc,   297,  1,     10,     10,2,20070823,0438, 83.5880,  87.2370, 3493,    506.4,   1.6174,  34.9380,2,   -999.0,9,    301.8,2,     5.46,2,    12.39,2,     0.01,2,     0.84,2,   -999.0,9,   -999.0,9,  -999.00,9,   1.5902
  06AQ20070728,EurArc,   297,  1,     11,     11,2,20070823,0438, 83.5880,  87.2370, 3493,    404.9,   2.2089,  34.9670,2,   -999.0,9,    301.1,2,     5.20,2,    12.36,2,     0.01,2,     0.83,2,   -999.0,9,   -999.0,9,  -999.00,9,   2.1856
  06AQ20070728,EurArc,   297,  1,     12,     12,2,20070823,0438, 83.5880,  87.2370, 3493,    303.5,   2.6204,  34.9720,2,   -999.0,9,    299.5,2,     4.92,2,    12.11,2,     0.02,2,     0.82,2,   -999.0,9,   -999.0,9,  -999.00,9,   2.6021
  06AQ20070728,EurArc,   297,  1,     13,     13,2,20070823,0438, 83.5880,  87.2370, 3493,    252.8,   2.7309,  34.9580,2,   -999.0,9,    299.3,2,     4.75,2,    12.02,2,     0.02,2,     0.81,2,   -999.0,9,   -999.0,9,  -999.00,9,   2.7156
  06AQ20070728,EurArc,   297,  1,     14,     14,2,20070823,0438, 83.5880,  87.2370, 3493,    202.2,   2.6998,  34.9220,2,   -999.0,9,    298.0,2,     4.54,2,    11.88,2,     0.02,2,     0.80,2,   -999.0,9,   -999.0,9,  -999.00,9,   2.6877
  06AQ20070728,EurArc,   297,  1,     15,     15,2,20070823,0438, 83.5880,  87.2370, 3493,    152.1,   2.4907,  34.8450,2,    286.3,2,    299.5,2,     4.30,2,    11.35,2,     0.02,2,     0.77,2,   -999.0,9,   -999.0,9,     0.17,2,   2.4819
  06AQ20070728,EurArc,   297,  1,     16,     16,2,20070823,0438, 83.5880,  87.2370, 3493,    126.4,   1.5961,  34.6710,2,    292.1,2,    314.5,2,     3.92,2,    10.58,2,     0.02,2,     0.73,2,   -999.0,9,   -999.0,9,     0.14,2,   1.5898
  06AQ20070728,EurArc,   297,  1,     17,     17,2,20070823,0438, 83.5880,  87.2370, 3493,    101.2,  -1.4566,  34.2910,2,    322.4,2,    338.7,2,     2.63,2,     7.92,2,     0.02,2,     0.59,2,   -999.0,9,   -999.0,9,    -0.04,2,  -1.4589
  06AQ20070728,EurArc,   297,  1,     18,     18,2,20070823,0438, 83.5880,  87.2370, 3493,     75.8,  -1.7431,  34.2360,2,    332.4,2,    346.3,2,     2.27,2,     6.98,2,     0.02,2,     0.53,2,   -999.0,9,   -999.0,9,    -0.10,2,  -1.7446
  06AQ20070728,EurArc,   297,  1,     19,     19,2,20070823,0438, 83.5880,  87.2370, 3493,     51.1,  -1.7950,  34.1960,2,    334.7,2,    351.6,2,     2.27,2,     6.60,2,     0.06,2,     0.52,2,   -999.0,9,   -999.0,9,    -0.20,2,  -1.7960
  06AQ20070728,EurArc,   297,  1,     21,     21,2,20070823,0438, 83.5880,  87.2370, 3493,     25.6,  -1.6689,  34.0370,2,   -999.0,9,    353.5,2,     2.01,2,     5.44,2,     0.06,2,     0.45,2,   -999.0,9,   -999.0,9,  -999.00,9,  -1.6694
  06AQ20070728,EurArc,   297,  1,     20,     20,2,20070823,0438, 83.5880,  87.2370, 3493,     25.5,  -1.7017,  34.0730,2,    335.9,2,    353.7,2,     1.98,2,     5.12,2,     0.05,2,     0.44,2,   -999.0,9,   -999.0,9,    -0.04,2,  -1.7022
  06AQ20070728,EurArc,   297,  1,     23,     23,2,20070823,0438, 83.5880,  87.2370, 3493,     10.1,  -1.6313,  33.3340,2,   -999.0,9,    365.2,2,     1.82,2,     3.92,2,     0.04,2,     0.37,2,   -999.0,9,   -999.0,9,  -999.00,9,  -1.6315
  06AQ20070728,EurArc,   297,  1,     22,     22,2,20070823,0438, 83.5880,  87.2370, 3493,     10.1,  -1.6353,  33.2370,2,    353.8,2,    365.3,2,     1.77,2,     3.75,2,     0.04,2,     0.36,2,   -999.0,9,   -999.0,9,    -0.22,2,  -1.6355
  06AQ20070728,EurArc,   297,  1,     24,     24,2,20070823,0438, 83.5880,  87.2370, 3493,      2.0,  -1.6590,  33.0470,2,    351.2,2,    365.7,2,     1.72,2,     3.70,2,     0.04,2,     0.36,2,   -999.0,9,   -999.0,9,    -0.39,2,  -1.6590