BOTTLE,20220819CCHSIOAMB
EXPOCODE,SECT_ID,STNNBR,CASTNO,SAMPNO,BTLNBR,BTLNBR_FLAG_W,DATE,TIME,LATITUDE,LONGITUDE,CTDPRS,CTDTMP,CTDSAL,CTDSAL_FLAG_W,SALNTY,SALNTY_FLAG_W,CTDOXY,CTDOXY_FLAG_W,OXYGEN,OXYGEN_FLAG_W,SILCAT,SILCAT_FLAG_W,NITRAT,NITRAT_FLAG_W,NITRIT,NITRIT_FLAG_W,PHSPHT,PHSPHT_FLAG_W,CFC-11,CFC-11_FLAG_W,CFC-12,CFC-12_FLAG_W,CFC113,CFC113_FLAG_W,CCL4,CCL4_FLAG_W,TCARBN,TCARBN_FLAG_W,ALKALI,ALKALI_FLAG_W,PCO2,PCO2_FLAG_W,PH_SWS,PH_SWS_FLAG_W,BTL_DATE,BTL_TIME,BTL_LAT,BTL_LON
,,,,,,,,,,,DBAR,ITS-90,PSS-78,,PSS-78,,UMOL/KG,,UMOL/KG,,UMOL/KG,,UMOL/KG,,UMOL/KG,,UMOL/KG,,PMOL/KG,,PMOL/KG,,PMOL/KG,,PMOL/KG,,UMOL/KG,,UMOL/KG,,UATM,,,,,,,
316N20050821,AAIW,64,1,24,24,2,20050911,1220,-53.0502,-91.9639,7.8,5.3475,34.1733,2,34.1733,2,303.0,2,302.4,2,4.22,2,19.66,2,0.15,2,1.39,2,4.667,2,2.629,2,0.464,2,6.054,2,2118.9,6,2274.9,2,-999.0,9,-999.00,1,20050911,1426,-53.0502,-91.9639
316N20050821,AAIW,64,1,23,23,2,20050911,1220,-53.0502,-91.9639,36.9,5.3460,34.1735,2,34.1726,2,303.0,2,302.2,2,4.19,2,19.61,2,0.15,2,1.39,2,4.666,2,2.626,2,0.459,2,6.084,2,2121.1,2,2271.9,2,-999.0,9,-999.00,1,20050911,1424,-53.0504,-91.9637
316N20050821,AAIW,64,1,22,22,2,20050911,1220,-53.0502,-91.9639,72.0,5.3503,34.1734,2,34.1731,2,303.2,2,302.2,2,4.15,2,19.70,2,0.15,2,1.39,2,4.693,2,2.615,2,0.459,2,6.122,2,2120.3,2,2273.6,2,-999.0,9,-999.00,1,20050911,1422,-53.0504,-91.9634
316N20050821,AAIW,64,1,21,21,2,20050911,1220,-53.0502,-91.9639,107.1,5.3121,34.1754,2,34.1767,2,302.0,2,301.0,2,4.11,2,19.76,2,0.14,2,1.39,2,4.579,2,2.584,2,0.457,2,5.947,2,2121.6,2,2272.7,2,-999.0,9,-999.00,1,20050911,1419,-53.0505,-91.9631
316N20050821,AAIW,64,1,20,20,2,20050911,1220,-53.0502,-91.9639,156.2,5.2996,34.1758,2,34.1765,2,300.4,2,300.5,2,4.07,2,19.76,2,0.15,2,1.40,2,4.649,2,2.551,2,0.452,2,6.072,2,2121.3,2,2274.4,2,-999.0,9,-999.00,1,20050911,1416,-53.0506,-91.9627
316N20050821,AAIW,64,1,19,19,2,20050911,1220,-53.0502,-91.9639,206.0,5.3008,34.1758,2,34.1763,2,300.8,2,300.1,2,4.23,2,19.85,2,0.15,2,1.40,2,4.680,2,2.540,2,0.444,2,5.954,2,2122.1,2,2272.7,2,-999.0,9,-999.00,1,20050911,1414,-53.0506,-91.9622
316N20050821,AAIW,64,1,18,18,2,20050911,1220,-53.0502,-91.9639,256.0,5.3042,34.1775,2,34.1781,2,298.7,2,298.7,2,4.20,2,19.82,2,0.14,2,1.40,2,4.571,2,2.519,2,0.455,2,5.693,2,2123.3,2,2273.2,2,-999.0,9,-999.00,1,20050911,1411,-53.0506,-91.9620
316N20050821,AAIW,64,1,17,17,2,20050911,1220,-53.0502,-91.9639,306.2,5.3035,34.1777,2,34.1787,2,298.3,2,298.6,2,4.36,2,19.98,2,0.12,2,1.41,2,4.607,2,2.571,2,0.450,2,5.789,2,2121.5,2,2272.7,2,-999.0,9,-999.00,1,20050911,1408,-53.0506,-91.9616
316N20050821,AAIW,64,1,16,16,2,20050911,1220,-53.0502,-91.9639,355.9,5.3531,34.1872,2,34.1867,2,295.8,2,295.4,2,4.72,2,20.34,2,0.09,2,1.43,2,4.482,2,2.567,2,0.460,2,5.588,2,2123.6,2,2274.8,2,-999.0,9,-999.00,1,20050911,1406,-53.0506,-91.9613
316N20050821,AAIW,64,1,15,15,2,20050911,1220,-53.0502,-91.9639,455.5,5.3507,34.2057,2,34.2053,2,283.5,2,283.2,2,6.90,2,22.09,2,0.00,2,1.53,2,4.343,2,2.448,2,0.441,2,4.978,2,2133.7,2,2275.3,2,-999.0,9,-999.00,1,20050911,1403,-53.0507,-91.9610
316N20050821,AAIW,64,1,14,14,2,20050911,1220,-53.0502,-91.9639,554.2,5.0974,34.1907,2,34.1902,2,271.1,2,271.5,2,9.49,2,23.86,2,0.00,2,1.63,2,4.062,2,2.226,2,0.385,2,4.570,2,2145.1,2,2278.3,2,-999.0,9,-999.00,1,20050911,1359,-53.0508,-91.9606
316N20050821,AAIW,64,1,13,13,2,20050911,1220,-53.0502,-91.9639,652.8,4.9117,34.2136,2,34.2131,2,251.6,2,251.4,2,13.90,2,25.95,2,0.00,2,1.77,2,3.740,2,1.878,2,0.292,2,4.253,2,2157.4,2,2280.1,2,-999.0,9,-999.00,1,20050911,1355,-53.0509,-91.9600
316N20050821,AAIW,64,1,12,12,2,20050911,1220,-53.0502,-91.9639,753.2,4.6142,34.2419,2,34.2433,2,234.5,2,234.1,2,19.52,2,28.02,2,0.00,2,1.92,2,2.905,6,1.524,6,0.222,6,3.202,6,2173.3,2,2285.0,2,-999.0,9,-999.00,1,20050911,1352,-53.0512,-91.9594
316N20050821,AAIW,64,1,11,11,2,20050911,1220,-53.0502,-91.9639,952.6,3.9158,34.2941,2,34.2938,2,212.9,2,212.3,2,31.84,2,30.86,2,0.00,2,2.11,2,2.076,2,1.081,2,0.157,2,2.391,2,2197.5,2,2295.5,2,-999.0,9,-999.00,1,20050911,1346,-53.0515,-91.9583
316N20050821,AAIW,64,1,10,10,2,20050911,1220,-53.0502,-91.9639,1146.4,3.2526,34.3593,2,34.3595,2,196.5,2,196.3,2,46.01,2,32.84,2,0.00,2,2.25,2,1.381,2,0.697,2,0.079,2,1.750,2,2220.4,2,2307.7,2,-999.0,9,-999.00,1,20050911,1341,-53.0510,-91.9581
316N20050821,AAIW,64,1,9,9,2,20050911,1220,-53.0502,-91.9639,1338.2,2.8591,34.4403,2,34.4412,2,181.6,2,181.9,2,59.00,2,33.71,2,0.00,2,2.33,2,0.854,2,0.418,2,0.033,2,1.169,2,2237.7,2,2322.1,2,-999.0,9,-999.00,1,20050911,1336,-53.0504,-91.9578
316N20050821,AAIW,64,1,8,8,2,20050911,1220,-53.0502,-91.9639,1581.8,2.5800,34.5401,2,34.5414,2,171.3,2,171.4,2,71.00,2,34.06,2,0.00,2,2.34,2,0.486,2,0.236,2,0.020,2,0.717,2,2252.3,2,2333.2,2,-999.0,9,-999.00,1,20050911,1330,-53.0503,-91.9565
316N20050821,AAIW,64,1,7,7,2,20050911,1220,-53.0502,-91.9639,1873.4,2.3847,34.6258,2,34.6275,3,169.0,2,169.2,2,80.17,2,33.48,2,0.00,2,2.30,2,0.224,2,0.106,2,0.000,2,0.337,2,2261.1,2,2344.8,2,-999.0,9,-999.00,1,20050911,1323,-53.0497,-91.9553
316N20050821,AAIW,64,1,6,6,2,20050911,1220,-53.0502,-91.9639,2368.7,2.0506,34.7024,2,34.7042,3,175.7,2,175.9,2,92.02,2,32.33,2,0.00,2,2.23,2,0.075,2,0.045,2,0.000,2,0.089,2,2265.9,2,2356.3,2,-999.0,9,-999.00,1,20050911,1313,-53.0490,-91.9528
316N20050821,AAIW,64,1,5,5,2,20050911,1220,-53.0502,-91.9639,2865.7,1.6946,34.7150,2,34.7180,3,181.4,2,181.2,2,104.94,2,32.33,2,0.00,2,2.23,2,0.031,2,0.018,2,0.000,2,0.030,2,2274.4,2,2369.6,2,-999.0,9,-999.00,1,20050911,1303,-53.0483,-91.9505
316N20050821,AAIW,64,1,4,4,2,20050911,1220,-53.0502,-91.9639,3359.2,1.4162,34.7219,2,34.7213,2,192.3,2,192.7,2,109.44,2,31.80,2,0.00,2,2.19,2,0.033,2,0.018,2,0.000,2,0.034,2,2265.8,2,2362.6,2,-999.0,9,-999.00,1,20050911,1252,-53.0477,-91.9482
316N20050821,AAIW,64,1,3,3,2,20050911,1220,-53.0502,-91.9639,3855.2,1.0283,34.7146,2,34.7142,2,200.2,2,200.8,2,120.98,2,32.14,2,0.00,2,2.20,2,0.027,2,0.028,2,0.000,2,0.055,2,2267.5,2,2366.0,2,-999.0,9,-999.00,1,20050911,1241,-53.0470,-91.9462
316N20050821,AAIW,64,1,2,2,2,20050911,1220,-53.0502,-91.9639,4356.7,0.7217,34.7089,2,34.7086,2,206.3,2,207.0,2,129.85,2,32.44,2,0.00,2,2.22,2,0.024,2,0.011,2,0.000,2,0.073,2,2269.5,2,2367.8,2,-999.0,9,-999.00,1,20050911,1231,-53.0462,-91.9442
316N20050821,AAIW,64,1,1,1,2,20050911,1220,-53.0502,-91.9639,4868.0,0.6610,34.7070,2,34.7068,2,210.5,2,209.1,2,135.21,2,32.44,2,0.00,2,2.23,2,0.034,2,0.034,2,0.000,2,0.155,2,2268.3,2,2370.0,2,-999.0,9,-999.00,1,20050911,1220,-53.0454,-91.9417
316N20050821,AAIW,65,1,24,24,2,20050911,2325,-53.3761,-93.9062,26.3,5.3434,34.1797,2,34.1817,2,302.5,2,302.2,2,4.05,2,19.81,2,0.14,2,1.40,2,4.747,2,2.602,2,0.452,2,6.235,2,2117.5,6,2271.8,2,-999.0,9,-999.00,1,20050912,130,-53.3761,-93.9062
316N20050821,AAIW,65,1,23,23,2,20050911,2325,-53.3761,-93.9062,56.3,5.3381,34.1796,2,34.1821,2,302.6,2,302.0,2,3.99,2,19.91,2,0.14,2,1.41,2,4.669,2,2.519,2,0.455,2,6.142,2,2118.5,2,2273.9,2,-999.0,9,-999.00,1,20050912,127,-53.3763,-93.9060
316N20050821,AAIW,65,1,22,22,2,20050911,2325,-53.3761,-93.9062,96.0,5.2925,34.1778,2,34.1782,2,302.3,2,300.7,2,3.93,2,19.90,2,0.14,2,1.41,2,4.696,2,2.534,2,0.447,2,6.148,2,2120.3,2,2273.2,2,-999.0,9,-999.00,1,20050912,125,-53.3765,-93.9058
316N20050821,AAIW,65,1,21,21,2,20050911,2325,-53.3761,-93.9062,125.9,5.2743,34.1780,2,34.1778,2,300.4,2,299.7,2,3.87,2,20.03,2,0.15,2,1.41,2,4.703,2,2.554,2,0.443,2,6.041,2,2118.7,2,2273.5,2,-999.0,9,-999.00,1,20050912,123,-53.3766,-93.9055
316N20050821,AAIW,65,1,20,20,2,20050911,2325,-53.3761,-93.9062,175.8,5.2774,34.1779,2,34.1802,2,300.0,2,300.8,2,4.01,2,19.99,2,0.15,2,1.42,2,4.694,2,2.551,2,0.438,2,6.116,2,2119.3,2,2272.5,2,-999.0,9,-999.00,1,20050912,120,-53.3770,-93.9052
316N20050821,AAIW,65,1,19,19,2,20050911,2325,-53.3761,-93.9062,235.9,5.2852,34.1785,2,34.1808,2,299.8,2,299.1,2,3.95,2,20.00,2,0.14,2,1.42,2,4.721,2,2.569,2,0.442,2,6.176,2,2119.1,2,2273.5,2,-999.0,9,-999.00,1,20050912,118,-53.3773,-93.9050
316N20050821,AAIW,65,1,18,18,2,20050911,2325,-53.3761,-93.9062,336.0,5.3180,34.1835,2,34.1861,2,297.8,2,297.4,2,4.30,2,20.29,2,0.13,2,1.43,2,4.674,2,2.562,2,0.440,2,5.936,2,2120.7,2,2273.2,2,-999.0,9,-999.00,1,20050912,114,-53.3776,-93.9047
316N20050821,AAIW,65,1,17,17,2,20050911,2325,-53.3761,-93.9062,385.5,5.4446,34.2140,2,34.2178,2,284.8,2,284.9,2,6.26,2,21.78,2,0.01,2,1.52,2,4.517,2,2.408,2,0.407,2,5.390,2,2129.2,2,2276.4,3,-999.0,9,-999.00,1,20050912,111,-53.3778,-93.9047
316N20050821,AAIW,65,1,16,16,2,20050911,2325,-53.3761,-93.9062,435.5,5.3380,34.2049,2,34.2070,2,284.0,2,285.0,2,6.40,2,22.06,2,0.00,2,1.54,2,4.496,2,2.414,2,0.397,2,5.387,2,2130.2,2,2275.1,2,-999.0,9,-999.00,1,20050912,109,-53.3780,-93.9047
316N20050821,AAIW,65,1,15,15,2,20050911,2325,-53.3761,-93.9062,535.1,5.1374,34.1928,2,34.1969,2,280.7,2,281.0,2,7.76,2,23.01,2,0.00,2,1.59,2,4.388,2,2.369,2,0.388,2,5.118,2,2134.2,2,2276.7,2,-999.0,9,-999.00,1,20050912,106,-53.3784,-93.9044
316N20050821,AAIW,65,1,14,14,2,20050911,2325,-53.3761,-93.9062,635.2,4.8897,34.1935,2,34.1943,2,262.7,2,262.7,2,11.34,2,25.19,2,0.00,2,1.72,2,3.982,6,2.082,6,0.324,6,4.495,6,2148.4,2,2278.1,2,-999.0,9,-999.00,1,20050912,102,-53.3788,-93.9041
316N20050821,AAIW,65,1,13,13,2,20050911,2325,-53.3761,-93.9062,735.0,4.6601,34.2235,2,34.2262,2,241.7,2,242.0,2,16.93,2,27.47,2,0.00,2,1.88,2,3.368,2,1.670,2,0.238,2,3.619,2,2163.3,2,2283.3,2,-999.0,9,-999.00,1,20050912,58,-53.3791,-93.9038
316N20050821,AAIW,65,1,12,12,2,20050911,2325,-53.3761,-93.9062,835.1,4.3355,34.2560,2,34.2594,2,225.5,2,225.1,2,23.14,2,29.34,2,0.00,2,2.01,2,2.668,2,1.511,2,0.194,2,2.928,2,2177.2,2,2288.9,2,-999.0,9,-999.00,1,20050912,55,-53.3793,-93.9035
316N20050821,AAIW,65,1,11,11,2,20050911,2325,-53.3761,-93.9062,983.5,3.7313,34.3044,2,34.3054,2,209.2,2,208.8,2,34.44,2,31.58,2,0.00,2,2.16,2,1.925,2,0.953,2,0.117,2,2.310,2,2199.4,2,2296.8,2,-999.0,9,-999.00,1,20050912,51,-53.3796,-93.9031
316N20050821,AAIW,65,1,10,10,2,20050911,2325,-53.3761,-93.9062,1182.1,3.1614,34.3736,2,34.3783,2,193.9,2,193.8,2,48.00,2,33.17,2,0.00,2,2.29,2,1.276,2,0.632,2,0.061,2,1.704,2,2220.9,2,2312.0,2,-999.0,9,-999.00,1,20050912,46,-53.3799,-93.9025
316N20050821,AAIW,65,1,9,9,2,20050911,2325,-53.3761,-93.9062,1482.5,2.6875,34.5023,2,34.5051,2,174.1,2,173.0,2,66.48,2,34.27,2,0.00,2,2.37,2,0.548,2,0.275,2,0.014,2,0.824,2,2249.3,2,2328.2,2,-999.0,9,-999.00,1,20050912,40,-53.3804,-93.9016
316N20050821,AAIW,65,1,8,8,2,20050911,2325,-53.3761,-93.9062,1731.9,2.4695,34.5904,2,34.5840,3,168.7,2,168.3,2,75.61,2,33.97,2,0.00,2,2.35,2,0.310,2,0.140,2,0.000,2,0.492,2,2256.5,2,2339.7,2,-999.0,9,-999.00,1,20050912,34,-53.3809,-93.9009
316N20050821,AAIW,65,1,7,7,2,20050911,2325,-53.3761,-93.9062,2029.2,2.2756,34.6636,2,34.6656,3,171.8,2,171.9,2,82.72,2,33.00,2,0.00,2,2.27,2,0.179,2,0.081,2,0.000,2,0.251,2,2259.5,2,2346.7,2,-999.0,9,-999.00,1,20050912,28,-53.3811,-93.9002
316N20050821,AAIW,65,1,6,6,2,20050911,2325,-53.3761,-93.9062,2528.3,1.9096,34.7055,2,34.7084,3,175.3,2,175.1,2,99.30,2,32.72,2,0.00,2,2.26,2,0.045,2,0.019,2,0.000,2,0.065,2,2269.2,2,2365.4,2,-999.0,9,-999.00,1,20050912,18,-53.3814,-93.8988
316N20050821,AAIW,65,1,5,5,2,20050911,2325,-53.3761,-93.9062,3045.6,1.6017,34.7181,2,34.7190,3,185.3,2,185.4,2,105.84,2,32.24,2,0.00,2,2.24,2,0.028,2,0.012,2,0.000,2,0.039,2,2268.0,2,2366.1,2,-999.0,9,-999.00,1,20050912,8,-53.3819,-93.8974
316N20050821,AAIW,65,1,4,4,2,20050911,2325,-53.3761,-93.9062,3529.1,1.2728,34.7194,2,34.7192,2,195.7,2,195.8,2,112.81,2,31.95,2,0.00,2,2.18,2,0.040,2,0.018,2,0.000,2,0.074,2,2263.4,2,2364.4,2,-999.0,9,-999.00,1,20050911,2358,-53.3821,-93.8956
316N20050821,AAIW,65,1,3,3,2,20050911,2325,-53.3761,-93.9062,4032.1,0.8608,34.7114,2,34.7117,2,203.8,2,203.9,2,125.78,2,32.28,2,0.00,2,2.22,2,0.043,2,0.030,2,0.000,2,0.117,2,2265.6,2,2366.5,2,-999.0,9,-999.00,1,20050911,2348,-53.3820,-93.8940
316N20050821,AAIW,65,1,2,2,2,20050911,2325,-53.3761,-93.9062,4538.1,0.6775,34.7076,2,34.7099,3,208.0,2,208.1,2,133.19,2,32.47,2,0.00,2,2.23,2,0.068,2,0.037,2,0.000,2,0.216,2,2267.2,2,2369.0,2,-999.0,9,-999.00,1,20050911,2339,-53.3820,-93.8924
316N20050821,AAIW,65,1,1,1,2,20050911,2325,-53.3761,-93.9062,5292.6,0.6835,34.7062,2,34.7066,2,212.7,2,211.0,2,134.81,2,32.43,2,0.00,2,2.23,2,0.069,2,0.051,2,0.000,2,0.313,2,2265.4,6,2365.9,2,-999.0,9,-999.00,1,20050911,2325,-53.3822,-93.8900
316N20050821,AAIW,66,1,24,24,4,20050912,1056,-53.7639,-95.8887,4.9,5.5184,34.1948,2,34.1972,2,301.3,2,300.8,2,4.50,2,19.42,2,0.15,2,1.38,2,4.738,2,2.678,2,0.429,2,5.935,2,2118.0,6,2272.8,2,-999.0,9,-999.00,1,20050912,1250,-53.7639,-95.8887
316N20050821,AAIW,66,1,23,23,2,20050912,1056,-53.7639,-95.8887,41.6,5.5169,34.1949,2,34.1954,2,301.7,2,300.9,2,4.29,2,19.52,2,0.15,2,1.38,2,4.715,2,2.723,2,0.435,2,5.944,2,2118.5,2,2273.4,2,-999.0,9,-999.00,1,20050912,1248,-53.7638,-95.8885
316N20050821,AAIW,66,1,22,22,2,20050912,1056,-53.7639,-95.8887,81.8,5.5218,34.1951,2,34.1980,2,301.2,2,300.8,2,4.10,2,19.52,2,0.15,2,1.38,2,4.697,2,2.727,2,0.440,2,5.947,2,2119.0,2,2272.5,2,-999.0,9,-999.00,1,20050912,1246,-53.7637,-95.8882
316N20050821,AAIW,66,1,21,21,2,20050912,1056,-53.7639,-95.8887,121.0,5.5227,34.1951,2,34.1963,2,301.1,2,300.5,2,3.89,2,19.53,2,0.15,2,1.37,2,4.687,6,2.692,6,0.434,6,5.938,6,2118.6,2,2273.7,2,-999.0,9,-999.00,1,20050912,1245,-53.7636,-95.8880
316N20050821,AAIW,66,1,20,20,2,20050912,1056,-53.7639,-95.8887,171.0,5.4955,34.1975,2,34.2014,2,298.7,2,298.3,2,3.88,2,19.63,2,0.15,2,1.38,2,4.639,2,2.666,2,0.440,2,5.810,2,2119.0,2,2272.5,2,-999.0,9,-999.00,1,20050912,1243,-53.7635,-95.8875
316N20050821,AAIW,66,1,19,19,2,20050912,1056,-53.7639,-95.8887,220.7,5.4918,34.1975,2,34.1977,2,298.4,2,299.1,2,3.88,2,19.67,2,0.15,2,1.38,2,4.628,2,2.622,2,0.446,2,5.852,2,2117.4,2,2274.5,2,-999.0,9,-999.00,1,20050912,1240,-53.7633,-95.8870
316N20050821,AAIW,66,1,18,18,2,20050912,1056,-53.7639,-95.8887,271.1,5.4943,34.1979,2,34.1981,2,297.5,2,297.5,2,4.08,2,19.67,2,0.15,2,1.39,2,4.642,2,2.617,2,0.443,2,5.926,2,2118.7,2,2272.1,2,-999.0,9,-999.00,1,20050912,1238,-53.7633,-95.8865
316N20050821,AAIW,66,1,17,17,2,20050912,1056,-53.7639,-95.8887,320.9,5.5015,34.1988,2,34.1994,2,298.4,2,298.0,2,4.27,2,19.68,2,0.15,2,1.39,2,4.715,2,2.611,2,0.445,2,5.891,2,2118.5,2,2273.9,2,-999.0,9,-999.00,1,20050912,1236,-53.7631,-95.8864
316N20050821,AAIW,66,1,16,16,2,20050912,1056,-53.7639,-95.8887,370.4,5.6052,34.2279,2,34.2323,2,285.4,2,285.5,2,5.68,2,21.25,2,0.01,2,1.48,2,4.515,2,2.524,2,0.388,2,5.225,2,2131.2,2,2274.7,2,-999.0,9,-999.00,1,20050912,1233,-53.7629,-95.8859
316N20050821,AAIW,66,1,15,15,2,20050912,1056,-53.7639,-95.8887,418.7,5.5381,34.2231,2,34.2263,2,284.6,2,284.4,2,6.08,2,21.53,2,0.00,2,1.49,2,4.465,2,2.482,2,0.400,2,5.186,2,2131.0,2,2276.7,2,-999.0,9,-999.00,1,20050912,1231,-53.7627,-95.8858
316N20050821,AAIW,66,1,14,14,2,20050912,1056,-53.7639,-95.8887,518.3,5.2974,34.2017,2,34.2065,2,284.5,2,284.1,2,6.68,2,22.16,2,0.00,2,1.53,2,4.474,2,2.495,2,0.391,2,5.182,2,2133.1,2,2275.8,3,-999.0,9,-999.00,1,20050912,1227,-53.7626,-95.8850
316N20050821,AAIW,66,1,13,13,2,20050912,1056,-53.7639,-95.8887,615.9,5.1005,34.2106,2,34.2134,2,258.9,2,258.7,2,11.50,2,25.06,2,0.00,2,1.70,2,3.822,2,2.070,2,0.314,2,4.072,2,2149.8,2,2280.0,2,-999.0,9,-999.00,1,20050912,1224,-53.7625,-95.8843
316N20050821,AAIW,66,1,12,12,2,20050912,1056,-53.7639,-95.8887,715.2,4.8298,34.2390,2,34.2431,2,238.3,2,238.1,2,17.54,2,27.26,2,0.00,2,1.86,2,3.136,2,1.638,2,0.219,2,3.451,2,2166.3,2,2284.4,2,-999.0,9,-999.00,1,20050912,1221,-53.7625,-95.8836
316N20050821,AAIW,66,1,11,11,2,20050912,1056,-53.7639,-95.8887,811.6,4.5148,34.2647,2,34.2680,2,224.6,2,224.1,2,22.38,2,28.93,2,0.00,2,1.97,2,2.675,2,1.404,2,0.175,2,3.027,2,2176.9,2,2287.6,2,-999.0,9,-999.00,1,20050912,1218,-53.7623,-95.8830
316N20050821,AAIW,66,1,10,10,2,20050912,1056,-53.7639,-95.8887,1004.2,3.7126,34.3108,2,34.3117,2,207.9,2,207.8,2,35.11,2,31.49,2,0.00,2,2.15,2,2.016,2,0.980,2,0.119,2,2.319,2,2201.9,2,2299.4,2,-999.0,9,-999.00,1,20050912,1213,-53.7620,-95.8821
316N20050821,AAIW,66,1,9,9,2,20050912,1056,-53.7639,-95.8887,1241.2,3.0120,34.3995,2,34.4022,2,188.7,2,188.8,2,52.35,2,33.57,2,0.00,2,2.30,2,1.168,2,0.603,2,0.062,2,1.638,2,2229.0,2,2314.2,2,-999.0,9,-999.00,1,20050912,1208,-53.7615,-95.8813
316N20050821,AAIW,66,1,8,8,2,20050912,1056,-53.7639,-95.8887,1471.8,2.6786,34.4990,2,34.4987,2,174.7,2,175.0,2,65.57,2,34.15,2,0.00,2,2.35,2,0.660,2,0.328,2,0.019,2,0.987,2,2247.0,2,2329.0,2,-999.0,9,-999.00,1,20050912,1202,-53.7611,-95.8803
316N20050821,AAIW,66,1,7,7,2,20050912,1056,-53.7639,-95.8887,1749.9,2.4474,34.5993,2,34.6001,2,168.2,2,168.1,2,77.83,2,33.91,2,0.00,2,2.34,2,0.254,2,0.118,2,0.000,2,0.443,2,2257.2,2,2341.5,2,-999.0,9,-999.00,1,20050912,1155,-53.7608,-95.8788
316N20050821,AAIW,66,1,6,6,2,20050912,1056,-53.7639,-95.8887,2223.4,2.1459,34.6898,2,34.6899,2,173.9,2,173.8,2,88.28,2,32.61,2,0.00,2,2.24,2,0.111,2,0.052,2,0.000,2,0.177,2,2266.5,2,2354.7,2,-999.0,9,-999.00,1,20050912,1145,-53.7600,-95.8762
316N20050821,AAIW,66,1,5,5,2,20050912,1056,-53.7639,-95.8887,2711.9,1.7757,34.7143,2,34.7141,2,180.5,2,180.1,2,101.64,2,32.47,2,0.00,2,2.22,2,0.047,2,0.020,2,0.000,2,0.066,2,2268.9,2,2365.1,2,-999.0,9,-999.00,1,20050912,1136,-53.7586,-95.8742
316N20050821,AAIW,66,1,4,4,2,20050912,1056,-53.7639,-95.8887,3214.2,1.5257,34.7225,2,34.7239,3,190.0,2,190.2,2,106.20,2,31.94,2,0.00,2,2.18,2,0.043,2,0.017,2,0.000,2,0.070,2,2266.5,2,2364.7,2,-999.0,9,-999.00,1,20050912,1126,-53.7567,-95.8725
316N20050821,AAIW,66,1,3,3,2,20050912,1056,-53.7639,-95.8887,3718.7,1.1511,34.7166,2,34.7166,2,197.9,2,198.2,2,117.37,2,32.14,2,0.00,2,2.19,2,0.046,2,0.011,2,0.000,2,0.087,2,2263.1,2,2364.9,2,-999.0,9,-999.00,1,20050912,1116,-53.7549,-95.8711
316N20050821,AAIW,66,1,2,2,2,20050912,1056,-53.7639,-95.8887,4224.1,0.7673,34.7093,2,34.7117,3,205.2,2,205.9,2,129.82,2,32.34,2,0.00,2,2.21,2,0.056,2,0.040,2,0.000,2,0.158,2,2267.6,2,2370.5,2,-999.0,9,-999.00,1,20050912,1106,-53.7535,-95.8693
316N20050821,AAIW,66,1,1,1,2,20050912,1056,-53.7639,-95.8887,4745.6,0.6899,34.7072,2,34.7082,2,209.6,2,208.4,2,134.22,2,32.44,2,0.00,2,2.22,2,0.060,2,0.048,2,0.000,2,0.224,2,2269.7,6,2369.5,2,-999.0,9,-999.00,1,20050912,1056,-53.7522,-95.8663