BOTTLE,20220819CCHSIOAMB
EXPOCODE,SECT_ID,STNNBR,CASTNO,SAMPNO,BTLNBR,BTLNBR_FLAG_W,DATE,TIME,LATITUDE,LONGITUDE,CTDPRS,CTDTMP,CTDSAL,CTDSAL_FLAG_W,SALNTY,SALNTY_FLAG_W,CTDOXY,CTDOXY_FLAG_W,OXYGEN,OXYGEN_FLAG_W,SILCAT,SILCAT_FLAG_W,NITRAT,NITRAT_FLAG_W,NITRIT,NITRIT_FLAG_W,PHSPHT,PHSPHT_FLAG_W,CFC-11,CFC-11_FLAG_W,CFC-12,CFC-12_FLAG_W,CFC113,CFC113_FLAG_W,CCL4,CCL4_FLAG_W,TCARBN,TCARBN_FLAG_W,ALKALI,ALKALI_FLAG_W,PCO2,PCO2_FLAG_W,PH_SWS,PH_SWS_FLAG_W,BTL_DATE,BTL_TIME,BTL_LAT,BTL_LON
,,,,,,,,,,,DBAR,ITS-90,PSS-78,,PSS-78,,UMOL/KG,,UMOL/KG,,UMOL/KG,,UMOL/KG,,UMOL/KG,,UMOL/KG,,PMOL/KG,,PMOL/KG,,PMOL/KG,,PMOL/KG,,UMOL/KG,,UMOL/KG,,UATM,,,,,,,
316N20050821,AAIW,43,1,24,24,2,20050905,9,-61.5374,-88.4751,12.6,2.2984,34.0121,2,34.0150,2,318.0,2,318.4,2,13.48,2,26.14,2,0.05,2,1.83,2,5.193,2,2.703,2,0.498,2,6.986,2,2147.9,6,2277.0,2,-999.0,9,-999.00,1,20050905,205,-61.5374,-88.4751
316N20050821,AAIW,43,1,23,23,2,20050905,9,-61.5374,-88.4751,46.5,2.2969,34.0126,2,34.0154,2,317.3,2,318.3,2,13.47,2,26.09,2,0.05,2,1.83,2,5.132,2,2.690,2,0.506,2,6.919,2,2149.4,2,2277.3,2,-999.0,9,-999.00,1,20050905,203,-61.5374,-88.4748
316N20050821,AAIW,43,1,22,22,2,20050905,9,-61.5374,-88.4751,75.9,2.5240,34.0616,2,34.0625,2,318.1,2,291.7,3,17.96,2,27.74,2,0.02,2,1.94,2,4.651,2,2.417,2,0.459,2,5.904,2,2165.5,2,2280.3,2,-999.0,9,-999.00,1,20050905,201,-61.5373,-88.4746
316N20050821,AAIW,43,1,21,21,2,20050905,9,-61.5374,-88.4751,115.9,2.5473,34.0832,2,34.0864,2,326.3,2,281.8,3,20.30,2,28.43,2,0.01,2,1.98,2,4.427,2,2.318,2,0.387,2,5.697,2,2169.3,2,2282.0,2,-999.0,9,-999.00,1,20050905,158,-61.5372,-88.4743
316N20050821,AAIW,43,1,20,20,2,20050905,9,-61.5374,-88.4751,156.1,2.3107,34.0769,2,34.0785,2,322.5,2,287.1,3,20.68,2,28.43,2,0.01,2,1.99,2,4.565,2,2.351,2,0.417,2,5.920,2,2169.0,2,2281.7,2,-999.0,9,-999.00,1,20050905,156,-61.5371,-88.4741
316N20050821,AAIW,43,1,19,19,2,20050905,9,-61.5374,-88.4751,215.2,2.2814,34.1031,2,34.1012,2,318.3,2,279.4,3,23.80,2,29.12,2,0.01,2,2.03,2,4.390,2,2.270,2,0.402,2,5.740,2,2174.5,2,2284.4,2,-999.0,9,-999.00,1,20050905,154,-61.5370,-88.4737
316N20050821,AAIW,43,1,18,18,2,20050905,9,-61.5374,-88.4751,304.9,1.7113,34.0776,2,34.0798,2,306.4,2,290.6,3,24.97,2,29.26,2,0.01,2,2.04,2,4.702,2,2.437,2,0.485,2,6.044,2,2174.0,2,2284.8,2,-999.0,9,-999.00,1,20050905,151,-61.5369,-88.4733
316N20050821,AAIW,43,1,17,17,2,20050905,9,-61.5374,-88.4751,394.9,1.9214,34.1546,2,34.1575,2,254.4,2,264.1,3,33.22,2,31.04,2,0.00,2,2.14,2,3.955,2,2.020,2,0.363,2,5.035,2,2191.4,2,2291.0,2,-999.0,9,-999.00,1,20050905,149,-61.5368,-88.4730
316N20050821,AAIW,43,1,16,16,2,20050905,9,-61.5374,-88.4751,484.4,2.4651,34.2901,2,34.2904,2,227.9,2,216.1,3,45.04,2,32.91,2,0.00,2,2.28,2,2.455,6,1.232,6,0.208,6,3.177,6,2216.3,2,2302.6,2,-999.0,9,-999.00,1,20050905,146,-61.5368,-88.4727
316N20050821,AAIW,43,1,15,15,2,20050905,9,-61.5374,-88.4751,574.4,2.5820,34.3593,2,34.3596,2,200.4,2,201.9,3,52.13,2,33.70,2,0.00,2,2.34,2,1.774,2,0.888,2,0.154,2,2.314,2,2228.4,2,2310.6,2,-999.0,9,-999.00,1,20050905,143,-61.5367,-88.4724
316N20050821,AAIW,43,1,14,14,2,20050905,9,-61.5374,-88.4751,663.6,2.5255,34.4201,2,34.4201,2,188.8,2,188.1,3,58.84,2,34.28,2,0.00,2,2.38,2,1.362,2,0.667,2,0.122,2,1.903,2,2634.1,4,2316.5,2,-999.0,9,-999.00,1,20050905,140,-61.5366,-88.4720
316N20050821,AAIW,43,1,13,13,2,20050905,9,-61.5374,-88.4751,754.2,2.4716,34.4841,2,34.4846,2,181.0,2,179.0,3,66.21,2,34.49,2,0.00,2,2.38,2,0.967,2,0.463,2,0.072,2,1.390,2,2247.1,2,2325.1,2,-999.0,9,-999.00,1,20050905,137,-61.5365,-88.4716
316N20050821,AAIW,43,1,12,12,2,20050905,9,-61.5374,-88.4751,843.8,2.3906,34.5263,2,34.5271,2,178.4,2,176.9,3,69.73,2,34.29,2,0.00,2,2.38,2,0.783,2,0.375,2,0.068,2,1.107,2,2251.5,2,2325.2,2,-999.0,9,-999.00,1,20050905,134,-61.5364,-88.4712
316N20050821,AAIW,43,1,11,11,2,20050905,9,-61.5374,-88.4751,933.8,2.3448,34.5692,2,34.5687,2,175.4,2,172.5,3,73.49,2,34.04,2,0.00,2,2.36,2,0.604,2,0.271,2,0.040,2,0.893,2,2254.3,2,2332.4,2,-999.0,9,-999.00,1,20050905,131,-61.5362,-88.4709
316N20050821,AAIW,43,1,10,10,2,20050905,9,-61.5374,-88.4751,1084.3,2.2951,34.6277,2,34.6279,2,173.1,2,172.4,3,78.44,2,33.35,2,0.00,2,2.32,2,0.358,2,0.149,2,0.017,2,0.513,2,2256.5,2,2339.5,2,-999.0,9,-999.00,1,20050905,127,-61.5361,-88.4702
316N20050821,AAIW,43,1,9,9,2,20050905,9,-61.5374,-88.4751,1285.0,2.1689,34.6729,2,34.6724,2,176.2,2,175.2,3,82.22,2,32.60,2,0.00,2,2.27,2,0.266,2,0.109,2,0.014,2,0.377,2,2258.8,2,2342.8,2,-999.0,9,-999.00,1,20050905,122,-61.5360,-88.4699
316N20050821,AAIW,43,1,8,8,2,20050905,9,-61.5374,-88.4751,1536.1,2.0181,34.7096,2,34.7093,2,181.8,2,181.1,3,85.59,2,31.86,2,0.00,2,2.21,2,0.197,2,0.077,2,0.002,2,0.247,2,2256.5,2,2346.7,2,-999.0,9,-999.00,1,20050905,117,-61.5358,-88.4693
316N20050821,AAIW,43,1,7,7,2,20050905,9,-61.5374,-88.4751,1838.3,1.7811,34.7253,2,34.7252,2,187.0,2,185.5,3,94.37,2,31.62,2,0.00,2,2.19,2,0.120,2,0.043,2,0.002,2,0.127,2,2258.7,2,2353.8,2,-999.0,9,-999.00,1,20050905,110,-61.5356,-88.4687
316N20050821,AAIW,43,1,6,6,2,20050905,9,-61.5374,-88.4751,2342.1,1.4406,34.7268,2,34.7269,2,194.5,2,201.6,4,104.76,2,31.66,2,0.00,2,2.19,2,0.078,2,0.032,2,0.002,2,0.068,2,2259.9,2,2359.7,2,-999.0,9,-999.00,1,20050905,101,-61.5354,-88.4682
316N20050821,AAIW,43,1,5,5,2,20050905,9,-61.5374,-88.4751,2847.8,1.1548,34.7208,2,34.7201,2,200.6,2,198.9,3,113.18,2,31.86,2,0.00,2,2.20,2,0.082,2,0.032,2,0.002,2,0.117,2,2260.9,2,2359.0,2,-999.0,9,-999.00,1,20050905,51,-61.5353,-88.4675
316N20050821,AAIW,43,1,4,4,2,20050905,9,-61.5374,-88.4751,3353.1,0.8670,34.7121,2,34.7116,2,205.8,2,203.7,3,123.24,2,32.11,2,0.00,2,2.22,2,0.116,2,0.039,2,0.002,2,0.172,2,2261.3,2,2360.6,2,-999.0,9,-999.00,1,20050905,41,-61.5352,-88.4673
316N20050821,AAIW,43,1,3,3,2,20050905,9,-61.5374,-88.4751,3860.2,0.6232,34.7070,2,34.7059,2,210.6,2,208.7,3,129.69,2,32.41,2,0.00,2,2.24,2,0.125,2,0.063,2,0.002,2,0.238,2,2266.8,2,2360.3,2,-999.0,9,-999.00,1,20050905,31,-61.5350,-88.4666
316N20050821,AAIW,43,1,2,2,2,20050905,9,-61.5374,-88.4751,4368.6,0.5042,34.7054,2,34.7041,2,212.8,2,215.3,4,136.16,2,32.51,2,0.00,2,2.25,2,0.136,2,0.056,2,0.002,2,0.258,2,2263.1,2,2361.7,2,-999.0,9,-999.00,1,20050905,21,-61.5349,-88.4661
316N20050821,AAIW,43,1,1,1,2,20050905,9,-61.5374,-88.4751,4938.6,0.5028,34.7043,2,34.7037,2,-999.0,9,-999.0,5,138.98,2,32.51,2,0.00,2,2.26,2,0.178,2,0.085,2,0.002,2,0.394,2,2264.5,6,2360.6,2,-999.0,9,-999.00,1,20050905,9,-61.5347,-88.4656
316N20050821,AAIW,44,1,24,24,2,20050905,639,-62.0093,-89.0635,13.4,0.4852,33.9375,2,33.9409,2,337.3,2,338.6,2,18.13,2,27.05,2,0.11,2,1.91,2,6.286,6,3.325,6,0.664,6,8.603,6,2154.4,6,2276.5,2,-999.0,9,-999.00,1,20050905,837,-62.0093,-89.0635
316N20050821,AAIW,44,1,23,23,2,20050905,639,-62.0093,-89.0635,58.2,0.4920,33.9385,2,33.9399,2,338.2,2,338.3,2,18.10,2,27.10,2,0.11,2,1.91,2,6.351,2,3.288,2,0.645,2,8.541,2,2154.1,2,2276.4,2,-999.0,9,-999.00,1,20050905,834,-62.0092,-89.0627
316N20050821,AAIW,44,1,22,22,2,20050905,639,-62.0093,-89.0635,107.8,0.5829,33.9691,2,33.9722,2,329.9,2,331.2,2,19.04,2,27.62,2,0.03,2,1.93,2,6.148,2,3.212,2,0.638,2,8.359,2,2158.4,2,2278.5,2,-999.0,9,-999.00,1,20050905,831,-62.0090,-89.0618
316N20050821,AAIW,44,1,21,21,2,20050905,639,-62.0093,-89.0635,157.4,0.5288,33.9663,2,33.9689,2,330.6,2,331.8,2,19.01,2,27.68,2,0.02,2,1.93,2,5.847,2,3.106,2,0.599,2,8.003,2,2158.1,2,2278.3,2,-999.0,9,-999.00,1,20050905,829,-62.0088,-89.0609
316N20050821,AAIW,44,1,20,20,2,20050905,639,-62.0093,-89.0635,207.0,0.5169,33.9666,2,33.9680,2,328.7,2,329.2,2,19.36,2,27.79,2,0.01,2,1.94,2,5.789,2,3.058,2,0.585,2,7.827,2,2158.8,2,2278.6,2,-999.0,9,-999.00,1,20050905,826,-62.0087,-89.0599
316N20050821,AAIW,44,1,19,19,2,20050905,639,-62.0093,-89.0635,257.3,1.5903,34.1226,2,34.1237,2,279.4,2,278.6,2,32.01,2,30.46,2,0.00,2,2.10,2,4.398,2,2.253,2,0.413,2,5.731,2,2185.8,2,2288.8,2,-999.0,9,-999.00,1,20050905,824,-62.0087,-89.0591
316N20050821,AAIW,44,1,18,18,2,20050905,639,-62.0093,-89.0635,306.5,1.5096,34.1505,2,34.1525,2,269.6,2,269.0,2,35.88,2,31.15,2,0.00,2,2.15,2,4.105,2,2.162,2,0.398,2,5.302,2,2194.6,2,2292.7,2,-999.0,9,-999.00,1,20050905,821,-62.0086,-89.0585
316N20050821,AAIW,44,1,17,17,2,20050905,639,-62.0093,-89.0635,403.5,2.1273,34.2846,2,34.2851,2,223.1,2,223.1,2,47.21,2,32.98,2,0.00,2,2.28,2,2.705,2,1.406,2,0.240,2,3.536,2,-999.0,9,2303.3,2,-999.0,9,-999.00,1,20050905,818,-62.0084,-89.0573
316N20050821,AAIW,44,1,16,16,2,20050905,639,-62.0093,-89.0635,501.1,2.4238,34.3984,2,34.3981,2,190.0,2,190.4,2,57.76,2,34.23,2,0.00,2,2.36,2,1.563,2,0.804,2,0.143,2,2.212,2,2238.8,2,2314.0,2,-999.0,9,-999.00,1,20050905,815,-62.0081,-89.0562
316N20050821,AAIW,44,1,15,15,2,20050905,639,-62.0093,-89.0635,598.7,2.3873,34.4593,2,34.4597,2,181.0,2,181.3,2,63.82,2,34.32,2,0.00,2,2.39,2,1.189,2,0.581,2,0.093,2,1.685,2,-999.0,9,2320.0,2,-999.0,9,-999.00,1,20050905,812,-62.0079,-89.0550
316N20050821,AAIW,44,1,14,14,2,20050905,639,-62.0093,-89.0635,692.8,2.3465,34.5185,2,34.5177,2,175.9,2,175.8,2,68.90,2,34.27,2,0.00,2,2.38,2,0.891,2,0.425,2,0.074,2,1.342,2,-999.0,9,2327.4,2,-999.0,9,-999.00,1,20050905,809,-62.0077,-89.0540
316N20050821,AAIW,44,1,13,13,2,20050905,639,-62.0093,-89.0635,831.1,2.3081,34.5797,2,34.5801,2,172.7,2,172.6,2,73.99,2,33.83,2,0.00,2,2.35,2,0.615,2,0.287,2,0.048,2,0.974,2,2253.5,2,2332.8,2,-999.0,9,-999.00,1,20050905,805,-62.0077,-89.0527
316N20050821,AAIW,44,1,12,12,2,20050905,639,-62.0093,-89.0635,1067.3,2.1848,34.6562,2,34.6560,2,174.3,2,174.4,2,79.88,2,32.83,2,0.00,2,2.28,2,0.163,2,0.080,2,0.002,2,0.267,2,-999.0,9,2339.3,2,-999.0,9,-999.00,1,20050905,759,-62.0079,-89.0509
316N20050821,AAIW,44,1,11,11,4,20050905,639,-62.0093,-89.0635,1297.4,2.0513,34.6999,2,34.6996,2,178.9,2,178.9,2,84.19,2,31.99,2,0.00,2,2.22,2,0.230,2,0.107,2,0.002,2,0.390,2,-999.0,9,2345.6,2,-999.0,9,-999.00,1,20050905,754,-62.0077,-89.0495
316N20050821,AAIW,44,1,10,10,2,20050905,639,-62.0093,-89.0635,1353.2,2.0096,34.7079,2,34.7069,2,180.5,2,180.3,2,85.53,2,31.90,2,0.00,2,2.20,2,0.207,2,0.088,2,0.002,2,0.359,2,-999.0,9,2345.9,2,-999.0,9,-999.00,1,20050905,752,-62.0075,-89.0492
316N20050821,AAIW,44,1,9,9,2,20050905,639,-62.0093,-89.0635,1569.5,1.8846,34.7231,2,34.7236,2,184.3,2,184.4,2,89.06,2,31.50,2,0.00,2,2.18,2,0.370,2,0.166,2,0.022,2,0.590,2,-999.0,9,2348.9,2,-999.0,9,-999.00,1,20050905,747,-62.0071,-89.0474
316N20050821,AAIW,44,1,8,8,2,20050905,639,-62.0093,-89.0635,1785.6,1.7088,34.7301,2,34.7287,2,188.9,2,188.4,2,94.37,2,31.21,2,0.00,2,2.17,2,0.137,2,0.072,2,0.002,2,0.256,2,-999.0,9,2351.8,2,-999.0,9,-999.00,1,20050905,742,-62.0066,-89.0456
316N20050821,AAIW,44,1,7,7,2,20050905,639,-62.0093,-89.0635,2012.6,1.5322,34.7285,2,34.7291,2,191.3,2,190.7,2,100.69,2,31.56,2,0.00,2,2.18,2,0.100,2,0.043,2,0.002,2,0.199,2,-999.0,9,2356.5,2,-999.0,9,-999.00,1,20050905,737,-62.0063,-89.0437
316N20050821,AAIW,44,1,6,6,2,20050905,639,-62.0093,-89.0635,2496.8,1.2530,34.7237,2,34.7238,2,196.7,2,196.2,2,108.61,2,31.70,2,0.00,2,2.19,2,0.087,2,0.049,2,0.002,2,0.180,2,-999.0,9,2358.7,2,-999.0,9,-999.00,1,20050905,727,-62.0059,-89.0409
316N20050821,AAIW,44,1,5,5,2,20050905,639,-62.0093,-89.0635,3007.0,0.9785,34.7156,2,34.7146,2,201.7,2,201.4,2,116.95,2,31.96,2,0.00,2,2.21,2,0.104,2,0.053,2,0.002,2,0.219,2,-999.0,9,2359.2,2,-999.0,9,-999.00,1,20050905,717,-62.0048,-89.0371
316N20050821,AAIW,44,1,4,4,2,20050905,639,-62.0093,-89.0635,3519.4,0.7265,34.7086,2,34.7087,2,205.9,2,206.6,2,125.49,2,32.11,2,0.00,2,2.22,2,0.144,2,0.077,2,0.002,2,0.331,2,-999.0,9,2359.4,2,-999.0,9,-999.00,1,20050905,707,-62.0041,-89.0333
316N20050821,AAIW,44,1,3,3,2,20050905,639,-62.0093,-89.0635,4029.1,0.5237,34.7055,2,34.7050,2,209.7,2,210.8,2,132.07,2,32.31,2,0.00,2,2.24,2,0.165,2,0.080,2,0.002,2,0.386,2,-999.0,9,2361.6,2,-999.0,9,-999.00,1,20050905,657,-62.0035,-89.0301
316N20050821,AAIW,44,1,2,2,2,20050905,639,-62.0093,-89.0635,4540.9,0.4727,34.7045,2,34.7031,2,211.6,2,212.7,2,136.04,2,32.46,2,0.00,2,2.24,2,0.184,2,0.089,2,0.002,2,0.472,2,-999.0,9,2360.4,2,-999.0,9,-999.00,1,20050905,647,-62.0031,-89.0272
316N20050821,AAIW,44,1,1,1,2,20050905,639,-62.0093,-89.0635,4937.2,0.4707,34.7037,2,34.7031,2,213.0,2,213.6,2,139.02,2,32.61,2,0.00,2,2.24,2,0.225,2,0.106,2,0.002,2,0.565,2,-999.0,9,2360.6,2,-999.0,9,-999.00,1,20050905,639,-62.0026,-89.0248
316N20050821,AAIW,45,1,24,24,2,20050905,1404,-61.4997,-89.0350,11.5,1.7517,34.0142,2,34.0168,2,321.7,2,321.5,2,16.79,2,27.09,2,0.04,2,1.89,2,5.274,2,2.897,2,0.555,2,6.749,2,2154.2,6,2280.1,2,-999.0,9,-999.00,1,20050905,1602,-61.4997,-89.0350
316N20050821,AAIW,45,1,23,23,2,20050905,1404,-61.4997,-89.0350,81.5,1.5453,34.0108,2,34.0144,2,321.2,2,320.2,2,17.55,2,27.34,2,0.03,2,1.91,2,5.390,2,2.876,2,0.552,2,6.852,2,2157.0,2,2280.0,2,-999.0,9,-999.00,1,20050905,1559,-61.4998,-89.0346
316N20050821,AAIW,45,1,22,22,2,20050905,1404,-61.4997,-89.0350,145.7,1.0629,34.0016,2,34.0064,2,321.6,2,321.3,2,19.08,2,27.84,2,0.01,2,1.93,2,5.559,2,2.960,2,0.567,2,7.164,2,2160.5,2,2280.9,2,-999.0,9,-999.00,1,20050905,1556,-61.4997,-89.0342
316N20050821,AAIW,45,1,21,21,2,20050905,1404,-61.4997,-89.0350,214.8,1.2375,34.0317,2,34.0335,2,309.8,2,308.8,2,21.98,2,28.43,2,0.01,2,1.99,2,5.238,2,2.833,2,0.535,2,6.492,2,2167.1,2,2282.3,2,-999.0,9,-999.00,1,20050905,1553,-61.4997,-89.0338
316N20050821,AAIW,45,1,20,20,2,20050905,1404,-61.4997,-89.0350,264.9,1.8094,34.1105,2,34.1128,2,283.6,2,282.5,2,28.40,2,29.94,2,0.00,2,2.07,2,4.491,2,2.436,2,0.433,2,5.344,2,2180.5,2,2288.6,2,-999.0,9,-999.00,1,20050905,1551,-61.4996,-89.0334
316N20050821,AAIW,45,1,19,19,2,20050905,1404,-61.4997,-89.0350,314.5,2.0891,34.1766,2,34.1801,2,257.5,2,258.0,2,34.83,2,31.15,2,0.00,2,2.14,2,3.724,2,1.995,2,0.384,2,4.492,2,2193.5,2,2292.8,2,-999.0,9,-999.00,1,20050905,1549,-61.4996,-89.0332
316N20050821,AAIW,45,1,18,18,2,20050905,1404,-61.4997,-89.0350,364.5,1.8918,34.1922,2,34.1944,2,254.2,2,253.6,2,38.14,2,31.69,2,0.00,2,2.18,2,3.589,2,1.946,2,0.358,2,4.341,2,2199.1,2,2296.3,2,-999.0,9,-999.00,1,20050905,1546,-61.4997,-89.0329
316N20050821,AAIW,45,1,17,17,3,20050905,1404,-61.4997,-89.0350,415.1,1.9196,34.2339,2,34.1956,4,236.2,2,253.5,4,38.10,4,31.64,4,0.00,4,2.19,4,3.579,4,1.904,4,0.345,4,4.248,4,2199.2,4,2297.2,4,-999.0,9,-999.00,1,20050905,1544,-61.4997,-89.0328
316N20050821,AAIW,45,1,16,16,2,20050905,1404,-61.4997,-89.0350,463.7,2.2266,34.3073,2,34.3101,2,214.4,2,215.3,2,49.46,2,33.41,2,0.00,2,2.30,2,2.385,2,1.248,2,0.237,2,2.921,2,2220.8,2,2307.5,2,-999.0,9,-999.00,1,20050905,1541,-61.4996,-89.0327
316N20050821,AAIW,45,1,15,15,2,20050905,1404,-61.4997,-89.0350,512.7,2.5477,34.3786,2,34.3791,2,195.2,2,194.4,2,54.35,2,33.69,2,0.00,2,2.35,2,1.684,2,0.850,2,0.147,2,2.007,2,2230.8,2,2313.2,2,-999.0,9,-999.00,1,20050905,1539,-61.4996,-89.0324
316N20050821,AAIW,45,1,14,14,2,20050905,1404,-61.4997,-89.0350,611.8,2.5195,34.4503,2,34.4522,2,182.7,2,184.6,2,61.81,2,34.23,2,0.00,2,2.37,2,1.151,2,0.572,2,0.094,2,1.510,2,2240.8,2,2322.0,2,-999.0,9,-999.00,1,20050905,1535,-61.4994,-89.0317
316N20050821,AAIW,45,1,13,13,2,20050905,1404,-61.4997,-89.0350,711.6,2.4142,34.5021,2,34.5041,2,-999.0,9,208.2,4,67.30,2,34.28,2,0.00,2,2.37,2,0.914,2,0.454,2,0.095,2,1.239,2,2247.2,2,2325.5,2,-999.0,9,-999.00,1,20050905,1532,-61.4992,-89.0311
316N20050821,AAIW,45,1,12,12,2,20050905,1404,-61.4997,-89.0350,811.9,2.3779,34.5525,2,34.5545,2,174.5,2,173.6,2,71.62,2,34.03,2,0.00,2,2.36,2,0.656,2,0.314,2,0.046,2,0.893,2,2250.8,2,2332.3,2,-999.0,9,-999.00,1,20050905,1528,-61.4991,-89.0304
316N20050821,AAIW,45,1,11,11,2,20050905,1404,-61.4997,-89.0350,1002.1,2.2954,34.6212,2,34.6231,2,173.4,2,172.7,2,77.32,2,33.43,2,0.00,2,2.31,2,0.394,2,0.172,2,0.036,2,0.542,2,2255.5,2,2339.7,2,-999.0,9,-999.00,1,20050905,1523,-61.4987,-89.0296
316N20050821,AAIW,45,1,10,10,2,20050905,1404,-61.4997,-89.0350,1173.4,2.1957,34.6669,2,34.6710,2,176.1,2,175.4,2,80.86,2,32.59,2,0.00,2,2.26,2,0.284,2,0.123,2,0.016,2,0.394,2,2255.0,2,2343.1,2,-999.0,9,-999.00,1,20050905,1518,-61.4984,-89.0288
316N20050821,AAIW,45,1,9,9,2,20050905,1404,-61.4997,-89.0350,1351.6,2.0692,34.6983,2,34.6996,2,180.3,2,179.9,2,83.61,2,32.00,2,0.00,2,2.22,2,0.233,2,0.114,2,0.017,2,0.345,2,2253.7,2,2345.8,2,-999.0,9,-999.00,1,20050905,1513,-61.4982,-89.0283
316N20050821,AAIW,45,1,8,8,2,20050905,1404,-61.4997,-89.0350,1670.9,1.8443,34.7242,2,34.7257,2,186.2,2,185.8,2,90.92,2,31.60,2,0.00,2,2.18,2,0.136,2,0.051,2,0.002,2,0.194,2,2254.6,2,2352.6,2,-999.0,9,-999.00,1,20050905,1506,-61.4983,-89.0279
316N20050821,AAIW,45,1,7,7,2,20050905,1404,-61.4997,-89.0350,2160.2,1.4781,34.7290,2,34.7302,3,193.4,2,193.0,2,102.05,2,31.55,2,0.00,2,2.18,2,0.091,2,0.046,2,0.002,2,0.132,2,2257.1,2,2357.9,2,-999.0,9,-999.00,1,20050905,1455,-61.4981,-89.0269
316N20050821,AAIW,45,1,6,6,2,20050905,1404,-61.4997,-89.0350,2620.4,1.2328,34.7238,2,34.7245,2,197.9,2,197.6,2,109.80,2,31.65,2,0.00,2,2.19,2,0.086,2,0.045,2,0.002,2,0.157,2,2257.7,2,2359.3,2,-999.0,9,-999.00,1,20050905,1445,-61.4975,-89.0253
316N20050821,AAIW,45,1,4,4,2,20050905,1404,-61.4997,-89.0350,3156.0,0.9395,34.7141,2,34.7149,2,202.8,2,202.8,2,120.56,2,31.93,2,0.00,2,2.21,2,0.097,2,0.042,2,0.002,2,0.205,2,2261.2,2,2361.5,2,-999.0,9,-999.00,1,20050905,1434,-61.4968,-89.0237
316N20050821,AAIW,45,1,5,5,2,20050905,1404,-61.4997,-89.0350,3157.0,0.9397,34.7141,2,34.7147,2,202.8,2,202.8,2,120.18,2,31.89,2,0.00,2,2.21,2,0.096,2,0.043,2,0.002,2,0.207,2,-999.0,5,2361.8,2,-999.0,9,-999.00,1,20050905,1435,-61.4968,-89.0238
316N20050821,AAIW,45,1,3,3,2,20050905,1404,-61.4997,-89.0350,3660.1,0.6667,34.7071,2,34.7071,2,207.8,2,207.9,2,127.36,2,32.23,2,0.00,2,2.23,2,0.156,2,0.077,2,0.002,2,0.295,2,2261.7,2,2360.9,2,-999.0,9,-999.00,1,20050905,1424,-61.4973,-89.0227
316N20050821,AAIW,45,1,2,2,2,20050905,1404,-61.4997,-89.0350,4159.4,0.4778,34.7049,2,34.7053,2,210.9,2,214.1,3,134.78,2,32.36,2,0.00,2,2.24,2,0.153,2,0.076,2,0.002,2,0.367,2,2262.7,2,2361.7,2,-999.0,9,-999.00,1,20050905,1414,-61.4972,-89.0215
316N20050821,AAIW,45,1,1,1,2,20050905,1404,-61.4997,-89.0350,4662.0,0.4461,34.7038,2,34.7043,2,214.7,2,214.4,2,138.78,2,32.51,2,0.00,2,2.25,2,0.197,2,0.093,2,0.002,2,0.468,2,2263.8,6,2362.8,2,-999.0,9,-999.00,1,20050905,1404,-61.4973,-89.0200