BOTTLE,20220819CCHSIOAMB
EXPOCODE,SECT_ID,STNNBR,CASTNO,SAMPNO,BTLNBR,BTLNBR_FLAG_W,DATE,TIME,LATITUDE,LONGITUDE,CTDPRS,CTDTMP,CTDSAL,CTDSAL_FLAG_W,SALNTY,SALNTY_FLAG_W,CTDOXY,CTDOXY_FLAG_W,OXYGEN,OXYGEN_FLAG_W,SILCAT,SILCAT_FLAG_W,NITRAT,NITRAT_FLAG_W,NITRIT,NITRIT_FLAG_W,PHSPHT,PHSPHT_FLAG_W,CFC-11,CFC-11_FLAG_W,CFC-12,CFC-12_FLAG_W,CFC113,CFC113_FLAG_W,CCL4,CCL4_FLAG_W,TCARBN,TCARBN_FLAG_W,ALKALI,ALKALI_FLAG_W,PCO2,PCO2_FLAG_W,PH_SWS,PH_SWS_FLAG_W,BTL_DATE,BTL_TIME,BTL_LAT,BTL_LON
,,,,,,,,,,,DBAR,ITS-90,PSS-78,,PSS-78,,UMOL/KG,,UMOL/KG,,UMOL/KG,,UMOL/KG,,UMOL/KG,,UMOL/KG,,PMOL/KG,,PMOL/KG,,PMOL/KG,,PMOL/KG,,UMOL/KG,,UMOL/KG,,UATM,,,,,,,
316N20050821,AAIW,103,1,24,24,2,20050925,1337,-53.5892,-78.9476,8.4,6.1348,33.9411,2,33.9440,2,295.7,2,296.6,2,2.94,2,18.36,2,0.20,2,1.38,2,4.448,2,2.513,2,0.408,2,5.400,2,2104.5,6,2254.2,2,-999.0,9,-999.00,9,20050925,1522,-53.5892,-78.9476
316N20050821,AAIW,103,1,23,23,2,20050925,1337,-53.5892,-78.9476,35.5,6.1266,33.9418,2,33.9447,2,295.9,2,297.0,2,2.94,2,18.31,2,0.20,2,1.38,2,4.531,2,2.478,2,0.405,2,5.436,2,2103.9,2,2255.2,2,-999.0,9,-999.00,9,20050925,1520,-53.5889,-78.9475
316N20050821,AAIW,103,1,22,22,2,20050925,1337,-53.5892,-78.9476,65.7,5.7523,34.0086,2,34.0131,2,294.4,2,294.5,2,3.73,2,19.62,2,0.22,2,1.46,2,4.534,2,2.524,2,0.419,2,5.394,2,2113.4,2,2258.4,2,-999.0,9,-999.00,9,20050925,1518,-53.5888,-78.9474
316N20050821,AAIW,103,1,21,21,2,20050925,1337,-53.5892,-78.9476,95.3,5.6889,34.0087,2,34.0109,2,296.5,2,297.8,2,3.73,2,19.69,2,0.20,2,1.46,2,4.596,2,2.500,2,0.404,2,5.562,2,2113.9,2,2258.8,2,-999.0,9,-999.00,9,20050925,1516,-53.5885,-78.9473
316N20050821,AAIW,103,1,20,20,2,20050925,1337,-53.5892,-78.9476,145.3,5.4777,34.0823,2,34.0870,2,290.3,2,287.8,2,4.52,2,20.93,2,0.14,2,1.51,2,4.566,2,2.524,2,0.412,2,5.291,2,2122.1,2,2263.3,2,-999.0,9,-999.00,9,20050925,1514,-53.5883,-78.9472
316N20050821,AAIW,103,1,19,19,2,20050925,1337,-53.5892,-78.9476,194.9,5.3343,34.1429,2,34.1484,2,278.9,2,278.9,2,5.52,2,21.94,2,0.03,2,1.56,2,4.531,2,2.489,2,0.403,2,5.025,2,2131.0,2,2268.4,2,-999.0,9,-999.00,9,20050925,1512,-53.5880,-78.9471
316N20050821,AAIW,103,1,18,18,2,20050925,1337,-53.5892,-78.9476,245.0,5.4190,34.1760,2,34.1797,2,271.5,2,271.5,2,6.72,2,22.76,2,0.01,2,1.59,2,4.512,2,2.428,2,0.384,2,4.713,2,2135.7,2,2270.3,2,-999.0,9,-999.00,9,20050925,1510,-53.5878,-78.9470
316N20050821,AAIW,103,1,17,17,2,20050925,1337,-53.5892,-78.9476,295.1,5.3979,34.1952,2,34.1977,2,272.2,2,271.7,2,7.32,2,22.99,2,0.00,2,1.60,2,4.546,2,2.437,2,0.383,2,4.664,2,2137.3,2,2272.3,2,-999.0,9,-999.00,9,20050925,1507,-53.5876,-78.9469
316N20050821,AAIW,103,1,16,16,2,20050925,1337,-53.5892,-78.9476,344.8,5.2842,34.1960,2,34.2009,2,281.4,2,281.5,2,7.32,2,22.33,2,0.00,2,1.57,2,4.536,2,2.454,2,0.383,2,4.837,2,2134.6,2,2273.5,2,-999.0,9,-999.00,9,20050925,1505,-53.5873,-78.9468
316N20050821,AAIW,103,1,15,15,2,20050925,1337,-53.5892,-78.9476,394.2,5.1653,34.1927,2,34.1941,2,281.5,2,282.3,2,7.71,2,22.61,2,0.00,2,1.59,2,4.593,2,2.389,2,0.374,2,4.855,2,2136.5,2,2274.4,2,-999.0,9,-999.00,9,20050925,1503,-53.5871,-78.9466
316N20050821,AAIW,103,1,14,14,2,20050925,1337,-53.5892,-78.9476,454.0,5.0583,34.1888,2,34.1892,2,279.8,2,279.7,2,8.32,2,23.08,2,0.00,2,1.60,2,4.643,2,2.332,2,0.382,2,4.861,2,2138.6,2,2274.4,2,-999.0,9,-999.00,9,20050925,1500,-53.5868,-78.9465
316N20050821,AAIW,103,1,13,13,2,20050925,1337,-53.5892,-78.9476,554.3,4.8746,34.1797,2,34.1812,2,274.9,2,275.3,2,9.71,2,23.94,2,0.00,2,1.66,2,4.382,2,2.320,2,0.359,2,4.611,2,2143.4,2,2276.1,2,-999.0,9,-999.00,9,20050925,1457,-53.5867,-78.9463
316N20050821,AAIW,103,1,12,12,2,20050925,1337,-53.5892,-78.9476,654.0,4.6734,34.1892,2,34.1904,2,260.9,2,260.2,2,12.90,2,25.69,2,0.00,2,1.78,2,3.948,2,2.067,2,0.315,2,4.323,2,2153.3,2,2278.6,2,-999.0,9,-999.00,9,20050925,1454,-53.5864,-78.9462
316N20050821,AAIW,103,1,11,11,3,20050925,1337,-53.5892,-78.9476,753.6,4.3761,34.2267,2,34.2601,4,-999.0,9,216.4,4,27.69,4,29.86,4,0.00,4,2.05,4,2.208,4,1.106,4,0.149,4,2.476,4,2190.6,4,2292.9,4,-999.0,9,-999.00,9,20050925,1451,-53.5859,-78.9459
316N20050821,AAIW,103,1,10,10,2,20050925,1337,-53.5892,-78.9476,853.0,3.9816,34.2657,2,34.2662,2,218.2,2,218.1,2,28.49,2,30.48,2,0.00,2,2.10,2,2.265,2,1.140,2,0.151,2,2.482,2,2190.4,2,2291.9,2,-999.0,9,-999.00,9,20050925,1447,-53.5855,-78.9457
316N20050821,AAIW,103,1,9,9,2,20050925,1337,-53.5892,-78.9476,1003.3,3.4429,34.3397,2,34.3390,2,193.6,2,192.8,2,42.71,2,32.98,2,0.00,2,2.28,2,1.209,2,0.600,2,0.066,2,1.629,2,2216.3,2,2304.3,2,-999.0,9,-999.00,9,20050925,1443,-53.5851,-78.9454
316N20050821,AAIW,103,1,8,8,3,20050925,1337,-53.5892,-78.9476,1252.3,2.9412,34.4500,2,34.2662,4,-999.0,9,217.4,4,28.68,4,30.32,4,0.00,4,2.10,4,2.235,4,1.128,4,0.148,4,2.426,4,2189.3,3,2291.7,3,-999.0,9,-999.00,9,20050925,1437,-53.5845,-78.9450
316N20050821,AAIW,103,1,7,7,2,20050925,1337,-53.5892,-78.9476,1501.6,2.7038,34.5407,2,34.3704,4,143.2,2,142.8,2,81.79,2,36.20,2,0.00,2,2.53,2,0.087,2,0.044,2,0.002,2,0.207,2,2277.7,2,2348.0,2,-999.0,9,-999.00,9,20050925,1432,-53.5840,-78.9447
316N20050821,AAIW,103,1,6,6,2,20050925,1337,-53.5892,-78.9476,1774.6,2.4221,34.6022,2,34.6013,2,141.8,2,141.5,2,95.57,2,35.96,2,0.00,2,2.52,2,0.014,2,0.007,2,-0.001,2,0.054,2,2296.3,2,2364.7,2,-999.0,9,-999.00,9,20050925,1425,-53.5834,-78.9443
316N20050821,AAIW,103,1,5,5,2,20050925,1337,-53.5892,-78.9476,2121.4,2.1148,34.6492,2,34.6487,2,148.7,2,148.2,2,107.35,2,35.21,2,0.00,2,2.46,2,0.001,2,0.004,2,-0.002,2,0.015,2,2297.2,2,2377.4,2,-999.0,9,-999.00,9,20050925,1417,-53.5827,-78.9438
316N20050821,AAIW,103,1,4,4,2,20050925,1337,-53.5892,-78.9476,2621.8,1.8769,34.6768,2,34.6756,2,155.5,2,154.4,2,116.33,2,34.77,2,0.00,2,2.44,2,-0.001,2,0.004,2,-0.001,2,0.000,2,2302.2,2,2388.5,2,-999.0,9,-999.00,9,20050925,1407,-53.5814,-78.9431
316N20050821,AAIW,103,1,3,3,2,20050925,1337,-53.5892,-78.9476,3116.3,1.7097,34.6962,2,34.6936,3,168.7,2,168.0,2,114.89,2,33.70,2,0.00,2,2.35,2,0.002,2,0.002,2,-0.001,2,0.023,2,2290.2,2,2381.4,2,-999.0,9,-999.00,9,20050925,1357,-53.5806,-78.9427
316N20050821,AAIW,103,1,2,2,2,20050925,1337,-53.5892,-78.9476,3624.4,1.3448,34.7188,2,34.7181,2,193.5,2,192.5,2,112.03,2,31.91,2,0.00,2,2.22,2,0.021,2,0.009,2,-0.003,2,0.102,2,2265.5,2,2365.4,2,-999.0,9,-999.00,9,20050925,1347,-53.5791,-78.9417
316N20050821,AAIW,103,1,1,1,2,20050925,1337,-53.5892,-78.9476,4135.1,0.8230,34.7106,2,34.7097,2,204.1,2,202.3,2,130.23,2,32.43,2,0.00,2,2.25,2,0.024,2,0.016,2,-0.002,2,0.210,2,2272.8,6,2373.4,2,-999.0,9,-999.00,9,20050925,1337,-53.5775,-78.9407
316N20050821,AAIW,104,1,24,24,2,20050925,2059,-53.4345,-77.9691,37.5,6.0723,34.0043,2,34.0078,2,285.2,2,285.2,2,3.91,2,20.02,2,0.17,2,1.48,2,4.523,2,2.492,2,0.400,2,5.419,2,2115.2,2,2258.4,2,-999.0,9,-999.00,9,20050925,2230,-53.4345,-77.9691
316N20050821,AAIW,104,1,23,23,2,20050925,2059,-53.4345,-77.9691,57.5,6.0780,34.0064,2,34.0097,2,282.2,2,284.1,2,3.90,2,20.03,2,0.16,2,1.48,2,4.511,2,2.485,2,0.401,2,5.377,2,2116.8,2,2258.0,2,-999.0,9,-999.00,9,20050925,2229,-53.4344,-77.9690
316N20050821,AAIW,104,1,22,22,2,20050925,2059,-53.4345,-77.9691,77.3,6.1418,34.0635,2,34.0640,2,262.3,2,261.7,2,4.90,2,21.79,2,0.10,2,1.58,2,4.345,2,2.371,2,0.372,2,4.803,2,2130.0,2,2259.7,2,-999.0,9,-999.00,9,20050925,2228,-53.4342,-77.9690
316N20050821,AAIW,104,1,21,21,2,20050925,2059,-53.4345,-77.9691,131.7,5.3515,34.0743,2,34.0807,2,298.2,2,297.9,2,4.10,2,20.15,2,0.22,2,1.48,2,4.740,2,2.618,2,0.422,2,5.979,2,2118.1,2,2264.3,2,-999.0,9,-999.00,9,20050925,2225,-53.4340,-77.9688
316N20050821,AAIW,104,1,20,20,2,20050925,2059,-53.4345,-77.9691,167.0,5.4162,34.1382,2,34.1411,2,278.7,2,277.0,2,5.70,2,22.17,2,0.04,2,1.59,2,4.624,2,2.490,2,0.398,2,5.327,2,2133.7,2,2267.7,2,-999.0,9,-999.00,9,20050925,2223,-53.4338,-77.9685
316N20050821,AAIW,104,1,19,19,2,20050925,2059,-53.4345,-77.9691,215.6,5.1177,34.1257,2,34.1313,2,294.8,2,295.2,2,4.89,2,20.90,2,0.03,2,1.48,2,4.833,2,2.648,2,0.419,2,6.003,2,2121.1,2,2268.4,2,-999.0,9,-999.00,9,20050925,2221,-53.4337,-77.9685
316N20050821,AAIW,104,1,18,18,2,20050925,2059,-53.4345,-77.9691,295.1,5.0172,34.1339,2,34.1377,2,300.1,2,299.3,2,4.88,2,20.52,2,0.08,2,1.47,2,4.413,2,2.460,2,0.396,2,4.088,2,2120.7,2,2270.2,2,-999.0,9,-999.00,9,20050925,2218,-53.4334,-77.9685
316N20050821,AAIW,104,1,17,17,2,20050925,2059,-53.4345,-77.9691,295.6,5.0159,34.1338,2,34.1391,2,300.1,2,300.1,2,4.88,2,20.62,2,0.08,2,1.47,2,4.721,2,2.571,2,0.417,2,5.455,2,2120.9,2,2269.6,2,-999.0,9,-999.00,9,20050925,2218,-53.4333,-77.9685
316N20050821,AAIW,104,1,16,16,2,20050925,2059,-53.4345,-77.9691,395.1,5.1848,34.1920,2,34.1960,2,283.0,2,282.3,2,7.68,2,22.39,2,0.00,2,1.57,2,4.237,2,2.404,2,0.384,2,4.078,2,2134.2,2,2274.7,2,-999.0,9,-999.00,9,20050925,2215,-53.4331,-77.9686
316N20050821,AAIW,104,1,15,15,2,20050925,2059,-53.4345,-77.9691,495.0,5.0211,34.1903,2,34.1933,3,275.5,2,275.9,2,8.68,2,23.61,2,0.00,2,1.62,2,4.445,2,2.381,2,0.371,2,4.633,2,2138.5,2,2274.5,2,-999.0,9,-999.00,9,20050925,2213,-53.4329,-77.9688
316N20050821,AAIW,104,1,14,14,2,20050925,2059,-53.4345,-77.9691,693.7,4.5389,34.2027,2,34.2057,2,249.9,2,249.4,2,16.31,2,26.88,2,0.00,2,1.85,2,3.594,2,1.879,2,0.283,2,3.833,2,2160.6,2,2280.9,2,-999.0,9,-999.00,9,20050925,2208,-53.4325,-77.9688
316N20050821,AAIW,104,1,13,13,2,20050925,2059,-53.4345,-77.9691,792.9,4.2585,34.2344,2,34.2378,2,231.9,2,232.3,2,22.34,2,28.88,2,0.00,2,2.00,2,2.969,2,1.477,2,0.213,2,3.244,2,2178.5,2,2285.7,2,-999.0,9,-999.00,9,20050925,2206,-53.4324,-77.9686
316N20050821,AAIW,104,1,12,12,2,20050925,2059,-53.4345,-77.9691,885.9,3.9531,34.2701,2,34.2732,2,216.1,2,216.2,2,29.38,2,30.69,2,0.00,2,2.11,2,2.224,6,1.083,6,0.149,6,2.659,6,2192.1,2,2292.0,2,-999.0,9,-999.00,9,20050925,2203,-53.4321,-77.9685
316N20050821,AAIW,104,1,11,11,2,20050925,2059,-53.4345,-77.9691,992.9,3.5636,34.3087,2,34.3120,2,206.8,2,206.4,2,37.64,2,31.89,2,0.00,2,2.20,2,1.855,2,0.896,2,0.131,2,2.316,2,2207.0,2,2299.6,2,-999.0,9,-999.00,9,20050925,2200,-53.4318,-77.9685
316N20050821,AAIW,104,1,10,10,2,20050925,2059,-53.4345,-77.9691,1051.8,3.3824,34.3398,2,34.3424,2,196.1,2,195.7,2,43.28,2,32.65,2,0.00,2,2.26,2,1.333,2,0.655,2,0.082,2,1.841,2,2216.5,6,2304.5,2,-999.0,9,-999.00,9,20050925,2158,-53.4317,-77.9686
316N20050821,AAIW,104,1,9,9,2,20050925,2059,-53.4345,-77.9691,1154.1,3.1170,34.3949,2,34.3972,2,180.9,2,180.5,2,53.18,2,34.04,2,0.00,2,2.35,2,0.844,2,0.391,2,0.046,2,1.297,2,-999.0,9,2314.8,2,-999.0,9,-999.00,9,20050925,2156,-53.4315,-77.9690
316N20050821,AAIW,104,1,8,8,2,20050925,2059,-53.4345,-77.9691,1303.9,2.9140,34.4578,2,34.4610,2,165.8,2,165.0,2,64.31,2,35.05,2,0.00,2,2.44,2,0.412,2,0.202,2,0.024,2,0.762,2,-999.0,9,2325.7,2,-999.0,9,-999.00,9,20050925,2152,-53.4312,-77.9690
316N20050821,AAIW,104,1,7,7,2,20050925,2059,-53.4345,-77.9691,1501.3,2.7167,34.5299,2,34.5327,2,149.5,2,150.7,2,77.70,2,35.77,2,0.00,2,2.48,2,0.149,2,0.073,2,0.005,2,0.334,2,-999.0,9,2341.6,2,-999.0,9,-999.00,9,20050925,2148,-53.4309,-77.9694
316N20050821,AAIW,104,1,6,6,2,20050925,2059,-53.4345,-77.9691,1748.9,2.4772,34.5920,2,34.5950,2,146.6,2,145.0,2,91.34,2,35.76,2,0.00,2,2.48,2,0.043,2,0.018,2,0.001,2,0.123,2,-999.0,9,2358.0,2,-999.0,9,-999.00,9,20050925,2142,-53.4305,-77.9689
316N20050821,AAIW,104,1,5,5,2,20050925,2059,-53.4345,-77.9691,2048.5,2.2502,34.6358,2,34.6390,3,151.4,2,150.6,2,99.29,2,35.04,2,0.00,2,2.44,2,0.019,2,0.008,2,-0.001,2,0.071,2,-999.0,9,2367.7,2,-999.0,9,-999.00,9,20050925,2136,-53.4303,-77.9677
316N20050821,AAIW,104,1,4,4,2,20050925,2059,-53.4345,-77.9691,2550.3,1.9411,34.6716,2,34.6738,3,154.5,2,153.8,2,113.82,2,34.88,2,0.00,2,2.43,2,0.004,2,0.001,2,0.002,2,0.014,2,-999.0,9,2384.0,2,-999.0,9,-999.00,9,20050925,2127,-53.4300,-77.9659
316N20050821,AAIW,104,1,3,3,2,20050925,2059,-53.4345,-77.9691,3043.4,1.8354,34.7039,2,34.7060,3,172.6,2,172.4,2,107.24,2,32.87,2,0.00,2,2.30,2,0.024,2,0.012,2,0.002,2,0.066,2,-999.0,9,2371.3,2,-999.0,9,-999.00,9,20050925,2118,-53.4295,-77.9659
316N20050821,AAIW,104,1,2,2,2,20050925,2059,-53.4345,-77.9691,3549.4,1.3953,34.7179,2,34.5905,4,191.2,2,190.8,2,112.35,2,32.14,2,0.00,2,2.22,2,0.024,2,0.015,2,0.002,2,0.110,2,-999.0,9,2365.2,2,-999.0,9,-999.00,9,20050925,2109,-53.4289,-77.9643
316N20050821,AAIW,104,1,1,1,2,20050925,2059,-53.4345,-77.9691,4093.8,0.9180,34.7121,2,34.7151,3,203.2,2,201.4,2,126.51,2,32.33,2,0.00,2,2.22,2,0.045,2,0.023,2,-0.002,2,0.188,2,-999.0,9,2368.4,2,-999.0,9,-999.00,9,20050925,2059,-53.4283,-77.9642
316N20050821,AAIW,105,1,24,24,2,20050926,353,-53.2957,-76.9972,12.2,6.0000,33.8924,2,33.8956,2,300.5,2,300.1,2,2.74,2,18.05,2,0.26,2,1.39,2,4.596,2,2.527,2,0.419,2,5.936,2,2100.8,6,2250.3,2,-999.0,9,-999.00,9,20050926,537,-53.2957,-76.9972
316N20050821,AAIW,105,1,23,23,2,20050926,353,-53.2957,-76.9972,47.4,6.0035,33.8935,2,33.8970,2,299.8,2,300.0,2,2.52,2,18.10,2,0.26,2,1.39,2,4.645,2,2.554,2,0.417,2,5.959,2,2100.0,2,2251.1,2,-999.0,9,-999.00,9,20050926,535,-53.2956,-76.9968
316N20050821,AAIW,105,1,22,22,2,20050926,353,-53.2957,-76.9972,87.2,5.9856,33.9070,2,33.9087,2,297.7,2,297.7,2,3.53,2,19.76,2,0.15,2,1.49,2,4.584,2,2.529,2,0.412,2,5.764,2,2103.5,2,2251.2,2,-999.0,9,-999.00,9,20050926,532,-53.2955,-76.9970
316N20050821,AAIW,105,1,21,21,2,20050926,353,-53.2957,-76.9972,125.6,5.9203,33.9720,2,33.9744,2,288.4,2,288.2,2,2.72,2,18.39,2,0.26,2,1.41,2,4.556,2,2.489,2,0.405,2,5.567,2,2113.7,2,2255.0,2,-999.0,9,-999.00,9,20050926,530,-53.2954,-76.9964
316N20050821,AAIW,105,1,20,20,2,20050926,353,-53.2957,-76.9972,175.3,5.7696,34.0287,2,34.0324,2,286.1,2,286.0,2,3.92,2,20.67,2,0.02,2,1.52,2,4.580,2,2.532,2,0.411,2,5.548,2,2118.9,2,2260.0,2,-999.0,9,-999.00,9,20050926,528,-53.2953,-76.9955
316N20050821,AAIW,105,1,19,19,2,20050926,353,-53.2957,-76.9972,226.2,5.7561,34.0509,2,34.0533,2,280.7,2,280.8,2,4.31,2,21.06,2,0.02,2,1.54,2,4.574,2,2.494,2,0.405,2,5.537,2,2122.1,2,2261.1,2,-999.0,9,-999.00,9,20050926,525,-53.2953,-76.9946
316N20050821,AAIW,105,1,18,18,2,20050926,353,-53.2957,-76.9972,276.0,5.5928,34.0841,2,34.0870,2,280.4,2,280.6,2,4.51,2,21.25,2,0.01,2,1.54,2,4.604,2,2.517,2,0.409,2,5.457,2,2123.3,2,2264.5,2,-999.0,9,-999.00,9,20050926,523,-53.2952,-76.9938
316N20050821,AAIW,105,1,17,17,2,20050926,353,-53.2957,-76.9972,325.3,5.3430,34.1336,2,34.1370,2,282.5,2,282.1,2,5.51,2,21.72,2,0.01,2,1.55,2,4.694,2,2.532,2,0.418,2,5.517,2,2127.8,2,2268.6,2,-999.0,9,-999.00,9,20050926,520,-53.2951,-76.9933
316N20050821,AAIW,105,1,16,16,2,20050926,353,-53.2957,-76.9972,386.7,5.2958,34.1597,2,34.1529,2,281.5,2,281.2,2,6.10,2,22.10,2,0.01,2,1.57,2,4.707,2,2.488,2,0.406,2,5.390,2,2131.1,2,2271.3,2,-999.0,9,-999.00,9,20050926,518,-53.2950,-76.9926
316N20050821,AAIW,105,1,15,15,2,20050926,353,-53.2957,-76.9972,475.3,5.2506,34.1840,2,34.1876,2,279.4,2,279.1,2,7.11,2,22.48,2,0.00,2,1.58,2,4.619,2,2.452,2,0.398,2,5.132,2,2134.9,2,2272.4,2,-999.0,9,-999.00,9,20050926,514,-53.2948,-76.9919
316N20050821,AAIW,105,1,14,14,2,20050926,353,-53.2957,-76.9972,564.4,5.0893,34.1895,2,34.1921,2,278.7,2,278.5,2,8.11,2,23.09,2,0.00,2,1.62,2,4.552,2,2.416,2,0.385,2,5.070,2,2138.3,2,2274.6,2,-999.0,9,-999.00,9,20050926,511,-53.2946,-76.9915
316N20050821,AAIW,105,1,13,13,2,20050926,353,-53.2957,-76.9972,662.7,4.8480,34.1829,2,34.1859,2,270.8,2,270.8,2,10.31,2,24.42,2,0.00,2,1.70,2,4.360,2,2.254,2,0.353,2,4.760,2,2144.6,2,2276.1,2,-999.0,9,-999.00,9,20050926,507,-53.2943,-76.9910
316N20050821,AAIW,105,1,12,12,2,20050926,353,-53.2957,-76.9972,760.8,4.5597,34.2009,2,34.2039,2,251.4,2,251.0,2,15.32,2,26.69,2,0.00,2,1.87,2,3.664,2,1.876,2,0.281,2,4.045,2,2160.6,2,2279.8,2,-999.0,9,-999.00,9,20050926,504,-53.2941,-76.9902
316N20050821,AAIW,105,1,11,11,2,20050926,353,-53.2957,-76.9972,856.9,4.2442,34.2322,2,34.2351,2,231.4,2,231.8,2,22.32,2,28.84,2,0.00,2,2.00,2,2.897,2,1.448,2,0.213,2,3.306,2,2176.8,2,2285.8,2,-999.0,9,-999.00,9,20050926,501,-53.2939,-76.9898
316N20050821,AAIW,105,1,10,10,2,20050926,353,-53.2957,-76.9972,1053.9,3.4426,34.3343,2,34.3364,2,196.0,2,195.6,2,42.13,2,32.78,2,0.00,2,2.28,2,1.352,2,0.668,2,0.083,2,1.852,2,2215.1,2,2303.4,2,-999.0,9,-999.00,9,20050926,456,-53.2935,-76.9890
316N20050821,AAIW,105,1,9,9,2,20050926,353,-53.2957,-76.9972,1251.7,3.0015,34.4329,2,34.4363,2,169.2,2,169.6,2,60.18,2,34.71,2,0.00,2,2.43,2,0.556,2,0.272,2,0.031,2,0.954,2,2243.0,2,2323.2,2,-999.0,9,-999.00,9,20050926,451,-53.2932,-76.9878
316N20050821,AAIW,105,1,8,8,2,20050926,353,-53.2957,-76.9972,1445.7,2.7464,34.5150,2,34.5179,2,152.9,2,153.4,2,74.26,2,35.54,2,0.00,2,2.49,2,0.218,2,0.107,2,0.003,2,0.457,2,2265.9,2,2338.2,2,-999.0,9,-999.00,9,20050926,446,-53.2929,-76.9871
316N20050821,AAIW,105,1,7,7,2,20050926,353,-53.2957,-76.9972,1646.8,2.5876,34.5668,2,34.5680,2,144.8,2,144.3,2,85.78,2,35.97,2,0.00,2,2.52,2,0.072,2,0.038,2,0.002,2,0.203,2,2281.2,2,2351.8,2,-999.0,9,-999.00,9,20050926,441,-53.2926,-76.9859
316N20050821,AAIW,105,1,6,6,2,20050926,353,-53.2957,-76.9972,1842.4,2.3950,34.6073,2,34.6089,2,144.8,2,144.5,2,95.32,2,35.73,2,0.00,2,2.50,2,0.026,2,0.016,2,0.002,2,0.090,2,2287.3,2,2363.5,2,-999.0,9,-999.00,9,20050926,436,-53.2924,-76.9851
316N20050821,AAIW,105,1,5,5,2,20050926,353,-53.2957,-76.9972,2146.3,2.1544,34.6521,2,34.6535,3,154.0,2,154.5,2,101.43,2,34.56,2,0.00,2,2.43,2,0.019,2,0.006,2,-0.001,2,0.080,2,2287.2,2,2370.2,2,-999.0,9,-999.00,9,20050926,430,-53.2920,-76.9836
316N20050821,AAIW,105,1,4,4,2,20050926,353,-53.2957,-76.9972,2659.3,1.8844,34.6779,2,34.6789,3,156.0,2,156.0,2,114.76,2,34.56,2,0.00,2,2.44,2,0.000,2,0.000,2,-0.001,2,0.015,2,2296.8,2,2386.4,2,-999.0,9,-999.00,9,20050926,420,-53.2911,-76.9810
316N20050821,AAIW,105,1,3,3,2,20050926,353,-53.2957,-76.9972,3165.3,1.7633,34.7085,2,34.7093,3,175.9,2,176.1,2,106.91,2,32.71,2,0.00,2,2.29,2,0.025,2,0.011,2,-0.002,2,0.074,2,2277.6,2,2371.6,2,-999.0,9,-999.00,9,20050926,410,-53.2903,-76.9800
316N20050821,AAIW,105,1,2,2,2,20050926,353,-53.2957,-76.9972,3670.2,1.2729,34.7171,2,34.7190,3,194.1,2,193.8,2,115.15,2,32.09,2,0.00,2,2.24,2,0.024,2,0.011,2,-0.001,2,0.123,2,2267.5,2,2365.0,2,-999.0,9,-999.00,9,20050926,400,-53.2896,-76.9793
316N20050821,AAIW,105,1,1,1,2,20050926,353,-53.2957,-76.9972,4051.1,0.9259,34.7120,2,34.7135,3,202.3,2,201.2,2,125.48,2,32.04,2,0.00,2,2.25,2,0.041,6,0.021,6,0.000,6,0.175,6,2271.3,6,2368.5,2,-999.0,9,-999.00,9,20050926,353,-53.2892,-76.9778