BOTTLE,20220819CCHSIOAMB
EXPOCODE,SECT_ID,STNNBR,CASTNO,SAMPNO,BTLNBR,BTLNBR_FLAG_W,DATE,TIME,LATITUDE,LONGITUDE,CTDPRS,CTDTMP,CTDSAL,CTDSAL_FLAG_W,SALNTY,SALNTY_FLAG_W,CTDOXY,CTDOXY_FLAG_W,OXYGEN,OXYGEN_FLAG_W,SILCAT,SILCAT_FLAG_W,NITRAT,NITRAT_FLAG_W,NITRIT,NITRIT_FLAG_W,PHSPHT,PHSPHT_FLAG_W,CFC-11,CFC-11_FLAG_W,CFC-12,CFC-12_FLAG_W,CFC113,CFC113_FLAG_W,CCL4,CCL4_FLAG_W,TCARBN,TCARBN_FLAG_W,ALKALI,ALKALI_FLAG_W,PCO2,PCO2_FLAG_W,PH_SWS,PH_SWS_FLAG_W,BTL_DATE,BTL_TIME,BTL_LAT,BTL_LON
,,,,,,,,,,,DBAR,ITS-90,PSS-78,,PSS-78,,UMOL/KG,,UMOL/KG,,UMOL/KG,,UMOL/KG,,UMOL/KG,,UMOL/KG,,PMOL/KG,,PMOL/KG,,PMOL/KG,,PMOL/KG,,UMOL/KG,,UMOL/KG,,UATM,,,,,,,
316N20050821,AAIW,88,1,24,24,2,20050921,545,-56.2533,-93.1532,3.5,5.0870,34.1500,2,34.1289,4,302.2,2,301.2,2,5.34,2,20.58,2,0.07,2,1.45,2,4.521,2,2.569,2,0.442,2,5.597,2,2122.4,2,2274.5,2,-999.0,9,-999.00,1,20050921,751,-56.2533,-93.1532
316N20050821,AAIW,88,1,23,23,2,20050921,545,-56.2533,-93.1532,42.0,5.0910,34.1500,2,34.1514,2,301.3,2,301.2,2,5.13,2,20.48,2,0.07,2,1.45,2,4.532,2,2.562,2,0.445,2,5.590,2,-999.0,1,2274.8,2,-999.0,9,-999.00,1,20050921,748,-56.2532,-93.1536
316N20050821,AAIW,88,1,22,22,2,20050921,545,-56.2533,-93.1532,82.2,5.1039,34.1500,2,34.1508,2,301.0,2,301.0,2,5.13,2,20.54,2,0.07,2,1.45,2,4.538,2,2.569,2,0.442,2,5.580,2,2123.2,2,2274.2,2,-999.0,9,-999.00,1,20050921,746,-56.2531,-93.1540
316N20050821,AAIW,88,1,21,21,9,20050921,545,-56.2533,-93.1532,121.9,5.1062,34.1499,2,-999.0000,9,-999.0,9,-999.0,9,-999.00,9,-999.00,9,-999.00,9,-999.00,9,-999.000,9,-999.000,9,-999.000,9,-999.000,9,-999.0,9,-999.0,9,-999.0,9,-999.00,9,20050921,743,-56.2528,-93.1542
316N20050821,AAIW,88,1,20,20,2,20050921,545,-56.2533,-93.1532,172.2,5.1138,34.1516,2,34.1519,2,300.1,2,300.1,2,5.33,2,20.54,2,0.07,2,1.45,2,4.521,6,2.573,6,0.442,6,5.528,6,-999.0,9,2273.9,2,-999.0,9,-999.00,1,20050921,741,-56.2528,-93.1544
316N20050821,AAIW,88,1,19,19,2,20050921,545,-56.2533,-93.1532,222.0,5.1090,34.1570,2,34.1585,2,297.2,2,297.4,2,5.53,2,20.85,2,0.05,2,1.47,2,4.543,2,2.572,2,0.443,2,5.422,2,2126.2,2,2274.7,2,-999.0,9,-999.00,1,20050921,739,-56.2527,-93.1546
316N20050821,AAIW,88,1,18,18,2,20050921,545,-56.2533,-93.1532,322.1,4.9614,34.1394,2,34.1406,2,295.6,2,296.1,2,5.93,2,21.41,2,0.03,2,1.50,2,4.523,2,2.544,2,0.448,2,5.416,2,2128.4,2,2273.3,2,-999.0,9,-999.00,1,20050921,736,-56.2526,-93.1548
316N20050821,AAIW,88,1,17,17,2,20050921,545,-56.2533,-93.1532,421.3,4.8178,34.1244,2,34.1255,2,292.2,2,294.4,2,6.53,2,22.00,2,0.02,2,1.53,2,4.544,2,2.516,2,0.441,2,5.325,2,2130.2,2,2274.5,2,-999.0,9,-999.00,1,20050921,733,-56.2526,-93.1550
316N20050821,AAIW,88,1,16,16,2,20050921,545,-56.2533,-93.1532,521.5,4.6992,34.1753,2,34.1768,2,258.8,2,259.5,2,13.52,2,25.54,2,0.01,2,1.76,2,3.835,2,2.121,2,0.334,2,4.058,2,2153.8,2,2278.9,2,-999.0,9,-999.00,1,20050921,731,-56.2525,-93.1553
316N20050821,AAIW,88,1,15,15,2,20050921,545,-56.2533,-93.1532,620.2,4.2622,34.1866,2,34.1817,2,247.3,2,247.2,2,18.92,2,27.65,2,0.00,2,1.91,2,3.573,2,1.938,2,0.317,2,3.726,2,2168.9,2,2283.1,2,-999.0,9,-999.00,1,20050921,728,-56.2525,-93.1557
316N20050821,AAIW,88,1,14,14,2,20050921,545,-56.2533,-93.1532,719.2,4.2242,34.2637,2,34.2627,2,222.2,2,223.4,2,26.12,2,29.47,2,0.00,2,2.02,2,2.718,2,1.435,2,0.235,2,2.920,2,2184.4,2,2288.4,2,-999.0,9,-999.00,1,20050921,725,-56.2525,-93.1562
316N20050821,AAIW,88,1,13,13,2,20050921,545,-56.2533,-93.1532,817.9,3.7999,34.2871,2,34.2874,2,213.3,2,214.0,2,32.73,2,30.90,2,0.00,2,2.12,2,2.330,2,1.227,2,0.200,2,2.511,2,2196.5,2,2295.1,2,-999.0,9,-999.00,1,20050921,722,-56.2525,-93.1569
316N20050821,AAIW,88,1,12,12,2,20050921,545,-56.2533,-93.1532,916.5,3.4578,34.3166,2,34.3166,2,206.5,2,206.4,2,39.54,2,32.04,2,0.00,2,2.19,2,2.002,2,1.038,2,0.163,2,2.287,2,2207.6,6,2300.8,2,-999.0,9,-999.00,1,20050921,719,-56.2524,-93.1574
316N20050821,AAIW,88,1,11,11,2,20050921,545,-56.2533,-93.1532,1115.2,2.9022,34.4054,2,34.4063,2,189.0,2,188.2,2,54.41,2,33.62,2,0.00,2,2.32,2,1.247,2,0.634,2,0.082,2,1.559,2,-999.0,9,2315.0,2,-999.0,9,-999.00,1,20050921,714,-56.2524,-93.1586
316N20050821,AAIW,88,1,10,10,2,20050921,545,-56.2533,-93.1532,1314.9,2.6368,34.4986,2,34.4993,2,176.8,2,176.1,2,66.30,2,34.12,2,0.00,2,2.36,2,0.741,2,0.355,2,0.037,2,1.019,2,-999.0,9,2327.4,2,-999.0,9,-999.00,1,20050921,710,-56.2523,-93.1598
316N20050821,AAIW,88,1,9,9,2,20050921,545,-56.2533,-93.1532,1563.1,2.4494,34.5932,2,34.5936,2,169.9,2,169.8,2,76.59,2,33.33,2,0.00,2,2.33,2,0.352,2,0.167,2,0.019,2,0.495,2,-999.0,9,2339.4,2,-999.0,9,-999.00,1,20050921,705,-56.2521,-93.1609
316N20050821,AAIW,88,1,8,8,2,20050921,545,-56.2533,-93.1532,1856.9,2.2658,34.6623,2,34.6625,2,171.6,2,171.4,2,83.86,2,33.02,2,0.00,2,2.29,2,0.161,2,0.075,2,0.003,2,0.227,2,-999.0,9,2347.5,2,-999.0,9,-999.00,1,20050921,658,-56.2520,-93.1616
316N20050821,AAIW,88,1,7,7,2,20050921,545,-56.2533,-93.1532,2353.3,1.9017,34.7129,2,34.7143,2,178.5,2,178.6,2,96.23,2,32.23,2,0.00,2,2.23,2,0.059,2,0.029,2,0.003,2,0.033,2,-999.0,9,2359.2,2,-999.0,9,-999.00,1,20050921,648,-56.2521,-93.1638
316N20050821,AAIW,88,1,6,6,2,20050921,545,-56.2533,-93.1532,2855.8,1.5837,34.7203,2,34.7200,2,186.5,2,186.3,2,105.77,2,32.08,2,0.00,2,2.23,2,0.038,2,0.017,2,0.003,2,0.010,2,-999.0,9,2366.0,2,-999.0,9,-999.00,1,20050921,638,-56.2521,-93.1661
316N20050821,AAIW,88,1,5,5,2,20050921,545,-56.2533,-93.1532,3357.4,1.2996,34.7204,2,34.7200,2,194.8,2,194.8,2,112.08,2,31.98,2,0.00,2,2.20,2,0.031,2,0.015,2,0.003,2,-0.009,2,-999.0,9,2364.7,2,-999.0,9,-999.00,1,20050921,628,-56.2518,-93.1679
316N20050821,AAIW,88,1,4,4,2,20050921,545,-56.2533,-93.1532,3860.0,0.9139,34.7128,2,34.7120,2,203.6,2,203.2,2,123.50,2,31.89,2,0.00,2,2.22,2,0.064,2,0.024,2,0.003,2,0.126,2,-999.0,9,2364.6,2,-999.0,9,-999.00,1,20050921,618,-56.2512,-93.1696
316N20050821,AAIW,88,1,3,3,2,20050921,545,-56.2533,-93.1532,4355.0,0.6551,34.7080,2,34.7075,2,208.5,2,208.5,2,132.09,2,32.39,2,0.00,2,2.23,2,0.062,2,0.032,2,0.003,2,0.171,2,-999.0,9,2363.2,2,-999.0,9,-999.00,1,20050921,608,-56.2507,-93.1706
316N20050821,AAIW,88,1,2,2,2,20050921,545,-56.2533,-93.1532,4857.2,0.6078,34.7066,2,34.7058,2,209.8,2,210.7,2,134.96,2,32.43,2,0.00,2,2.24,2,0.084,2,0.041,2,0.003,2,0.231,2,-999.0,1,2364.5,2,-999.0,9,-999.00,1,20050921,558,-56.2503,-93.1723
316N20050821,AAIW,88,1,1,1,2,20050921,545,-56.2533,-93.1532,5370.6,0.6407,34.7057,2,34.7050,2,211.7,2,211.0,2,137.19,2,32.48,2,0.00,2,2.24,2,0.103,2,0.061,2,0.003,2,0.360,2,-999.0,9,2362.7,2,-999.0,9,-999.00,1,20050921,545,-56.2498,-93.1753
316N20050821,AAIW,89,1,24,24,2,20050921,1226,-55.9880,-92.3104,6.0,4.7092,34.1113,2,34.1130,2,303.7,2,302.9,2,5.87,2,21.10,2,0.07,2,1.53,2,4.733,2,2.604,2,0.456,2,5.741,2,2126.0,6,2273.6,2,-999.0,9,-999.00,1,20050921,1432,-55.9880,-92.3104
316N20050821,AAIW,89,1,23,23,2,20050921,1226,-55.9880,-92.3104,36.5,4.7080,34.1113,2,34.1104,2,303.7,2,302.8,2,5.87,2,21.05,2,0.07,2,1.53,2,4.741,2,2.579,2,0.462,2,5.695,2,2126.3,2,2273.2,2,-999.0,9,-999.00,1,20050921,1431,-55.9879,-92.3105
316N20050821,AAIW,89,1,22,22,2,20050921,1226,-55.9880,-92.3104,64.9,4.7049,34.1107,2,34.1116,2,303.2,2,302.6,2,5.67,2,21.14,2,0.07,2,1.52,2,4.711,2,2.588,2,0.456,2,5.689,2,2126.5,2,2273.9,2,-999.0,9,-999.00,1,20050921,1429,-55.9880,-92.3104
316N20050821,AAIW,89,1,21,21,2,20050921,1226,-55.9880,-92.3104,95.8,4.6991,34.1095,2,34.1102,2,302.1,2,302.1,2,5.87,2,21.15,2,0.06,2,1.52,2,4.689,2,2.595,2,0.459,2,5.746,2,2127.8,2,2275.1,2,-999.0,9,-999.00,1,20050921,1427,-55.9880,-92.3106
316N20050821,AAIW,89,1,20,20,2,20050921,1226,-55.9880,-92.3104,145.8,4.6669,34.1055,2,34.1065,2,301.9,2,301.7,2,5.87,2,21.36,2,0.04,2,1.53,2,4.721,2,2.576,2,0.454,2,5.700,2,2126.6,2,2273.4,2,-999.0,9,-999.00,1,20050921,1425,-55.9881,-92.3109
316N20050821,AAIW,89,1,19,19,2,20050921,1226,-55.9880,-92.3104,195.3,4.5969,34.0967,2,34.0975,2,301.8,2,301.1,2,5.87,2,21.46,2,0.04,2,1.54,2,4.715,2,2.566,2,0.457,2,5.659,2,2128.6,2,2274.1,2,-999.0,9,-999.00,1,20050921,1422,-55.9883,-92.3111
316N20050821,AAIW,89,1,18,18,2,20050921,1226,-55.9880,-92.3104,245.6,4.5672,34.0927,2,34.0949,2,305.3,2,305.4,2,5.87,2,21.22,2,0.09,2,1.52,2,4.798,2,2.573,2,0.459,2,5.772,2,2126.4,2,2273.8,2,-999.0,9,-999.00,1,20050921,1420,-55.9884,-92.3112
316N20050821,AAIW,89,1,17,17,2,20050921,1226,-55.9880,-92.3104,294.5,4.5487,34.0909,2,34.0921,2,304.0,2,304.1,2,6.07,2,21.38,2,0.07,2,1.54,2,4.782,2,2.582,2,0.451,2,5.861,2,2127.0,2,2273.7,2,-999.0,9,-999.00,1,20050921,1418,-55.9883,-92.3113
316N20050821,AAIW,89,1,16,16,2,20050921,1226,-55.9880,-92.3104,354.4,4.4191,34.0842,2,34.0853,2,304.4,2,302.4,2,6.46,2,21.88,2,0.05,2,1.56,2,4.753,2,2.573,2,0.449,2,5.626,2,2130.2,2,2273.0,2,-999.0,9,-999.00,1,20050921,1415,-55.9884,-92.3116
316N20050821,AAIW,89,1,15,15,2,20050921,1226,-55.9880,-92.3104,453.1,4.2337,34.0881,2,34.0891,2,288.9,2,289.4,2,9.43,2,23.68,2,0.01,2,1.68,2,4.543,2,2.419,2,0.431,2,5.113,2,2140.6,2,2275.3,2,-999.0,9,-999.00,1,20050921,1412,-55.9886,-92.3120
316N20050821,AAIW,89,1,14,14,2,20050921,1226,-55.9880,-92.3104,553.1,4.4012,34.1734,2,34.1792,2,255.9,2,253.4,2,16.36,2,26.42,2,0.00,2,1.85,2,3.732,2,1.991,2,0.329,2,3.948,2,2162.8,2,2281.1,2,-999.0,9,-999.00,1,20050921,1409,-55.9887,-92.3129
316N20050821,AAIW,89,1,13,13,2,20050921,1226,-55.9880,-92.3104,654.7,3.6608,34.1503,2,34.1511,2,258.2,2,258.4,2,19.93,2,27.78,2,0.00,2,1.95,2,3.869,2,2.027,2,0.306,2,4.058,2,2169.4,2,2283.3,2,-999.0,9,-999.00,1,20050921,1406,-55.9888,-92.3135
316N20050821,AAIW,89,1,12,12,2,20050921,1226,-55.9880,-92.3104,805.6,3.6538,34.2814,2,34.2831,2,216.0,2,216.2,2,33.62,2,30.76,2,0.00,2,2.15,2,2.413,6,1.239,6,0.184,6,2.587,6,2196.7,2,2296.7,2,-999.0,9,-999.00,1,20050921,1402,-55.9890,-92.3143
316N20050821,AAIW,89,1,11,11,2,20050921,1226,-55.9880,-92.3104,1005.0,3.0945,34.3744,2,34.3753,2,194.1,2,193.6,2,49.15,2,32.80,2,0.00,2,2.30,2,1.450,2,0.738,2,0.111,2,1.822,2,2225.3,2,2310.8,2,-999.0,9,-999.00,1,20050921,1357,-55.9892,-92.3150
316N20050821,AAIW,89,1,10,10,2,20050921,1226,-55.9880,-92.3104,1204.0,2.7529,34.4631,2,34.4645,2,180.3,2,179.7,2,62.12,2,33.67,2,0.00,2,2.36,2,0.887,2,0.453,2,0.051,2,1.175,2,2240.4,2,2324.4,2,-999.0,9,-999.00,1,20050921,1352,-55.9891,-92.3153
316N20050821,AAIW,89,1,9,9,2,20050921,1226,-55.9880,-92.3104,1456.6,2.4897,34.5725,2,34.5723,2,170.8,2,170.7,2,74.53,2,33.57,2,0.00,2,2.36,2,0.431,2,0.216,2,0.012,2,0.616,2,2257.7,2,2337.3,2,-999.0,9,-999.00,1,20050921,1346,-55.9890,-92.3156
316N20050821,AAIW,89,1,8,8,2,20050921,1226,-55.9880,-92.3104,1706.3,2.3253,34.6405,2,34.6411,2,170.1,2,169.8,2,82.15,2,32.99,2,0.00,2,2.32,2,0.208,2,0.106,2,0.003,2,0.287,2,2260.1,2,2345.8,2,-999.0,9,-999.00,1,20050921,1340,-55.9893,-92.3166
316N20050821,AAIW,89,1,7,7,2,20050921,1226,-55.9880,-92.3104,2210.7,1.9847,34.7076,2,34.7076,2,177.3,2,177.6,2,93.61,2,31.97,2,0.00,2,2.24,2,0.085,2,0.041,2,0.003,2,0.073,2,2264.5,2,2357.2,2,-999.0,9,-999.00,1,20050921,1329,-55.9898,-92.3184
316N20050821,AAIW,89,1,6,6,2,20050921,1226,-55.9880,-92.3104,2714.5,1.6301,34.7212,2,34.7207,2,185.8,2,185.9,2,104.09,2,31.68,2,0.00,2,2.23,2,0.057,2,0.026,2,0.003,2,0.037,2,2267.9,2,2364.1,2,-999.0,9,-999.00,1,20050921,1319,-55.9902,-92.3187
316N20050821,AAIW,89,1,5,5,2,20050921,1226,-55.9880,-92.3104,3216.5,1.3408,34.7235,2,34.7225,2,196.2,2,195.0,2,110.37,2,31.54,2,0.00,2,2.22,2,0.066,2,0.034,2,0.003,2,0.055,2,2264.6,2,2362.1,2,-999.0,9,-999.00,1,20050921,1309,-55.9907,-92.3187
316N20050821,AAIW,89,1,4,4,2,20050921,1226,-55.9880,-92.3104,3718.0,1.0210,34.7154,2,34.7152,2,200.2,2,227.6,4,119.48,2,31.68,2,0.00,2,2.22,2,0.099,2,0.048,2,0.003,2,0.132,2,2262.3,2,2361.6,2,-999.0,9,-999.00,1,20050921,1259,-55.9913,-92.3191
316N20050821,AAIW,89,1,3,3,2,20050921,1226,-55.9880,-92.3104,4218.5,0.7236,34.7090,2,34.7083,2,207.8,2,207.7,2,130.05,2,32.03,2,0.00,2,2.24,2,0.093,2,0.046,2,0.003,2,0.186,2,2266.5,2,2364.8,2,-999.0,9,-999.00,1,20050921,1249,-55.9922,-92.3198
316N20050821,AAIW,89,1,2,2,2,20050921,1226,-55.9880,-92.3104,4722.0,0.6047,34.7067,2,34.7046,3,210.0,2,210.6,2,134.94,2,32.12,2,0.00,2,2.25,2,0.090,2,0.040,2,0.003,2,0.233,2,2266.8,2,2365.1,2,-999.0,9,-999.00,1,20050921,1238,-55.9929,-92.3213
316N20050821,AAIW,89,1,1,1,2,20050921,1226,-55.9880,-92.3104,5230.9,0.6190,34.7059,2,34.7051,2,211.6,2,211.6,2,136.77,2,32.27,2,0.00,2,2.25,2,0.118,2,0.049,2,0.003,2,0.293,2,2266.1,6,2363.6,2,-999.0,9,-999.00,1,20050921,1226,-55.9941,-92.3233
316N20050821,AAIW,90,1,24,24,2,20050921,1914,-55.7663,-91.4121,9.9,5.0369,34.1449,2,34.1442,2,303.6,2,301.8,2,5.65,2,20.76,2,0.07,2,1.47,2,4.608,2,2.572,2,0.450,2,5.610,2,2125.9,2,2273.2,2,-999.0,9,-999.00,1,20050921,2107,-55.7663,-91.4121
316N20050821,AAIW,90,1,23,23,2,20050921,1914,-55.7663,-91.4121,28.3,5.0346,34.1444,2,34.1444,2,303.4,2,301.7,2,5.64,2,20.77,2,0.07,2,1.47,2,4.522,2,2.517,2,0.436,2,5.430,2,-999.0,9,2270.8,2,-999.0,9,-999.00,1,20050921,2106,-55.7662,-91.4128
316N20050821,AAIW,90,1,22,22,2,20050921,1914,-55.7663,-91.4121,58.0,5.0366,34.1448,2,34.1438,2,303.1,2,302.2,2,5.64,2,20.72,2,0.07,2,1.47,2,4.391,4,2.520,2,0.433,2,4.548,4,-999.0,9,-999.0,1,-999.0,9,-999.00,1,20050921,2104,-55.7661,-91.4135
316N20050821,AAIW,90,1,21,21,2,20050921,1914,-55.7663,-91.4121,117.9,5.0394,34.1446,2,34.1446,2,302.2,2,303.2,2,5.63,2,20.72,2,0.07,2,1.46,2,4.500,2,2.524,2,0.432,2,5.025,2,2125.3,2,2273.7,2,-999.0,9,-999.00,1,20050921,2102,-55.7659,-91.4148
316N20050821,AAIW,90,1,20,20,2,20050921,1914,-55.7663,-91.4121,177.3,5.0439,34.1448,2,34.1454,2,301.7,2,301.0,2,5.62,2,20.78,2,0.07,2,1.45,2,4.503,2,2.523,2,0.436,2,5.132,2,-999.0,9,2274.2,2,-999.0,9,-999.00,1,20050921,2100,-55.7658,-91.4156
316N20050821,AAIW,90,1,19,19,2,20050921,1914,-55.7663,-91.4121,257.7,5.0294,34.1462,2,34.1480,2,298.5,2,298.6,2,5.82,2,21.08,2,0.05,2,1.48,2,4.485,2,2.523,2,0.435,2,5.107,2,2127.7,2,2272.6,2,-999.0,9,-999.00,1,20050921,2058,-55.7657,-91.4164
316N20050821,AAIW,90,1,18,18,2,20050921,1914,-55.7663,-91.4121,337.3,4.8592,34.1262,2,34.1270,2,298.1,2,298.9,2,6.02,2,21.59,2,0.03,2,1.50,2,4.369,2,2.500,2,0.423,2,5.089,2,2129.7,2,2273.2,2,-999.0,9,-999.00,1,20050921,2055,-55.7657,-91.4172
316N20050821,AAIW,90,1,17,17,2,20050921,1914,-55.7663,-91.4121,436.1,4.7409,34.1163,2,34.1182,2,294.7,2,293.1,2,7.25,2,22.42,2,0.02,2,1.56,2,4.384,2,2.472,2,0.413,2,4.633,2,2133.7,2,2273.5,2,-999.0,9,-999.00,1,20050921,2053,-55.7657,-91.4185
316N20050821,AAIW,90,1,16,16,2,20050921,1914,-55.7663,-91.4121,495.5,4.9700,34.1889,2,34.1879,2,258.5,2,258.1,2,12.78,2,25.23,2,0.00,2,1.74,2,2.599,4,1.757,2,0.292,2,2.115,4,2151.6,2,2279.5,2,-999.0,9,-999.00,1,20050921,2050,-55.7656,-91.4196
316N20050821,AAIW,90,1,15,15,2,20050921,1914,-55.7663,-91.4121,596.0,4.7245,34.2238,2,34.2228,2,238.7,2,240.4,2,18.12,2,27.27,2,0.00,2,1.87,2,3.191,2,1.739,2,0.280,2,3.144,2,2168.6,2,2281.0,2,-999.0,9,-999.00,1,20050921,2048,-55.7654,-91.4206
316N20050821,AAIW,90,1,14,14,2,20050921,1914,-55.7663,-91.4121,694.7,4.3434,34.2610,2,34.2610,2,224.6,2,223.7,2,25.10,2,29.17,2,0.00,2,2.02,2,2.650,2,1.430,2,0.227,2,2.819,2,2183.7,2,2288.1,2,-999.0,9,-999.00,1,20050921,2046,-55.7652,-91.4214
316N20050821,AAIW,90,1,13,13,2,20050921,1914,-55.7663,-91.4121,793.9,3.8000,34.2695,2,34.2694,2,219.2,2,220.0,2,31.06,2,30.58,2,0.00,2,2.07,2,2.520,2,1.306,2,0.196,2,2.768,2,2193.9,2,2292.4,2,-999.0,9,-999.00,1,20050921,2043,-55.7650,-91.4223
316N20050821,AAIW,90,1,12,12,2,20050921,1914,-55.7663,-91.4121,890.7,3.4282,34.3141,2,34.3078,2,207.5,2,206.9,2,39.91,2,31.90,2,0.00,2,2.18,2,1.993,2,1.016,2,0.157,2,2.284,2,2208.3,2,2301.0,2,-999.0,9,-999.00,1,20050921,2041,-55.7649,-91.4232
316N20050821,AAIW,90,1,11,11,2,20050921,1914,-55.7663,-91.4121,1021.1,3.1033,34.3698,2,34.3688,2,194.9,2,194.4,2,49.19,2,33.03,2,0.00,2,2.28,2,1.463,2,0.744,2,0.113,2,1.687,2,2224.0,2,2309.6,2,-999.0,9,-999.00,1,20050921,2038,-55.7647,-91.4243
316N20050821,AAIW,90,1,10,10,2,20050921,1914,-55.7663,-91.4121,1167.9,2.8317,34.4379,2,34.4368,2,183.4,2,183.7,2,59.31,2,33.87,2,0.00,2,2.34,2,1.017,2,0.526,2,0.055,2,1.415,2,2237.7,2,2320.5,2,-999.0,9,-999.00,1,20050921,2035,-55.7645,-91.4254
316N20050821,AAIW,90,1,9,9,2,20050921,1914,-55.7663,-91.4121,1362.8,2.5857,34.5180,2,34.5172,2,175.1,2,174.4,2,69.03,2,34.02,2,0.00,2,2.34,2,0.669,2,0.332,2,0.024,2,0.896,2,2250.5,6,2328.8,2,-999.0,9,-999.00,1,20050921,2030,-55.7642,-91.4267
316N20050821,AAIW,90,1,8,8,2,20050921,1914,-55.7663,-91.4121,1597.5,2.4308,34.6007,2,34.6005,2,170.3,2,170.3,2,77.51,2,33.63,2,0.00,2,2.32,2,0.350,2,0.162,2,0.003,2,0.506,2,-999.0,9,2339.5,2,-999.0,9,-999.00,1,20050921,2025,-55.7640,-91.4282
316N20050821,AAIW,90,1,7,7,2,20050921,1914,-55.7663,-91.4121,2069.8,2.1399,34.6957,2,34.6953,2,176.9,2,177.2,2,86.85,2,32.22,2,0.00,2,2.25,2,0.160,2,0.078,2,0.003,2,0.223,2,-999.0,9,2348.4,2,-999.0,9,-999.00,1,20050921,2015,-55.7631,-91.4305
316N20050821,AAIW,90,1,6,6,2,20050921,1914,-55.7663,-91.4121,2544.0,1.7906,34.7232,2,34.7230,2,185.2,2,185.4,2,97.45,2,31.68,2,0.00,2,2.19,2,0.089,2,0.035,2,0.003,2,0.104,2,-999.0,9,2357.7,2,-999.0,9,-999.00,1,20050921,2006,-55.7620,-91.4328
316N20050821,AAIW,90,1,5,5,2,20050921,1914,-55.7663,-91.4121,3014.9,1.4919,34.7271,2,34.7266,2,193.0,2,192.8,2,104.95,2,31.64,2,0.00,2,2.18,2,0.069,6,0.034,6,0.003,6,0.059,6,-999.0,9,2359.2,2,-999.0,9,-999.00,1,20050921,1957,-55.7614,-91.4356
316N20050821,AAIW,90,1,4,4,2,20050921,1914,-55.7663,-91.4121,3509.2,1.1935,34.7197,2,34.7189,2,198.6,2,198.8,2,114.75,2,31.74,2,0.00,2,2.23,3,0.055,2,0.028,2,0.003,2,0.055,2,-999.0,9,2362.5,2,-999.0,9,-999.00,1,20050921,1948,-55.7606,-91.4393
316N20050821,AAIW,90,1,3,3,2,20050921,1914,-55.7663,-91.4121,4013.1,0.8237,34.7107,2,34.7097,2,204.5,2,205.2,2,126.69,2,32.19,2,0.00,2,2.21,2,0.055,2,0.025,2,0.003,2,0.086,2,-999.0,9,2365.2,2,-999.0,9,-999.00,1,20050921,1938,-55.7601,-91.4430
316N20050821,AAIW,90,1,2,2,2,20050921,1914,-55.7663,-91.4121,4533.6,0.6128,34.7067,2,34.7064,2,208.7,2,209.9,2,134.02,2,32.34,2,0.00,2,2.23,2,0.069,2,0.029,2,0.003,2,0.213,2,-999.0,9,2364.6,2,-999.0,9,-999.00,1,20050921,1929,-55.7595,-91.4474
316N20050821,AAIW,90,1,1,1,2,20050921,1914,-55.7663,-91.4121,5253.2,0.6185,34.7054,2,34.7052,2,212.9,2,211.3,2,136.73,2,32.34,2,0.00,2,2.23,2,0.105,2,0.054,2,0.003,2,0.324,2,-999.0,9,2363.5,2,-999.0,9,-999.00,1,20050921,1914,-55.7587,-91.4532