BOTTLE,20220819CCHSIOAMB
EXPOCODE,SECT_ID,STNNBR,CASTNO,SAMPNO,BTLNBR,BTLNBR_FLAG_W,DATE,TIME,LATITUDE,LONGITUDE,CTDPRS,CTDTMP,CTDSAL,CTDSAL_FLAG_W,SALNTY,SALNTY_FLAG_W,CTDOXY,CTDOXY_FLAG_W,OXYGEN,OXYGEN_FLAG_W,SILCAT,SILCAT_FLAG_W,NITRAT,NITRAT_FLAG_W,NITRIT,NITRIT_FLAG_W,PHSPHT,PHSPHT_FLAG_W,CFC-11,CFC-11_FLAG_W,CFC-12,CFC-12_FLAG_W,CFC113,CFC113_FLAG_W,CCL4,CCL4_FLAG_W,TCARBN,TCARBN_FLAG_W,ALKALI,ALKALI_FLAG_W,PCO2,PCO2_FLAG_W,PH_SWS,PH_SWS_FLAG_W,BTL_DATE,BTL_TIME,BTL_LAT,BTL_LON
,,,,,,,,,,,DBAR,ITS-90,PSS-78,,PSS-78,,UMOL/KG,,UMOL/KG,,UMOL/KG,,UMOL/KG,,UMOL/KG,,UMOL/KG,,PMOL/KG,,PMOL/KG,,PMOL/KG,,PMOL/KG,,UMOL/KG,,UMOL/KG,,UATM,,,,,,,
316N20050821,AAIW,110,1,24,24,2,20050928,2229,-52.5104,-89.0344,7.6,5.4470,34.1357,2,34.1381,2,304.8,2,304.6,2,4.27,2,18.90,2,0.18,2,1.29,2,4.779,2,2.642,2,0.412,2,6.160,2,2113.0,6,2269.7,2,-999.0,9,-999.00,9,20050929,15,-52.5104,-89.0344
316N20050821,AAIW,110,1,23,23,2,20050928,2229,-52.5104,-89.0344,32.5,5.4314,34.1349,2,34.1385,2,305.0,2,304.6,2,4.04,2,18.93,2,0.20,2,1.30,2,4.767,2,2.629,2,0.420,2,6.158,2,2113.6,2,2270.4,2,-999.0,9,-999.00,9,20050929,13,-52.5102,-89.0341
316N20050821,AAIW,110,1,22,22,2,20050928,2229,-52.5104,-89.0344,57.4,5.3933,34.1332,2,34.1362,2,304.3,2,304.5,2,4.02,2,18.89,2,0.20,2,1.30,2,4.768,2,2.635,2,0.417,2,6.135,2,2113.4,2,2269.4,2,-999.0,9,-999.00,9,20050929,12,-52.5101,-89.0338
316N20050821,AAIW,110,1,21,21,2,20050928,2229,-52.5104,-89.0344,107.2,5.3936,34.1338,2,34.1373,2,304.7,2,303.8,2,3.99,2,18.92,2,0.18,2,1.27,2,4.764,2,2.615,2,0.416,2,6.072,2,2114.2,2,2270.6,2,-999.0,9,-999.00,9,20050929,10,-52.5100,-89.0335
316N20050821,AAIW,110,1,20,20,2,20050928,2229,-52.5104,-89.0344,157.4,5.4177,34.1795,2,34.1820,2,291.2,2,291.0,2,5.35,2,20.46,2,0.06,2,1.42,2,4.652,2,2.553,2,0.402,2,5.543,2,2124.1,2,2272.8,2,-999.0,9,-999.00,9,20050929,8,-52.5100,-89.0330
316N20050821,AAIW,110,1,19,19,2,20050928,2229,-52.5104,-89.0344,231.1,5.4604,34.2065,2,34.2117,2,283.8,2,284.3,2,6.71,2,21.35,2,0.01,2,1.54,2,4.548,2,2.468,2,0.379,2,5.101,2,2127.8,2,2273.6,2,-999.0,9,-999.00,9,20050929,5,-52.5100,-89.0325
316N20050821,AAIW,110,1,18,18,2,20050928,2229,-52.5104,-89.0344,331.1,5.3434,34.2091,2,34.2120,2,280.4,2,281.2,2,7.67,2,22.31,2,0.00,2,1.52,2,4.487,2,2.386,2,0.359,2,4.893,2,2133.3,2,2275.7,2,-999.0,9,-999.00,9,20050929,3,-52.5102,-89.0321
316N20050821,AAIW,110,1,17,17,2,20050928,2229,-52.5104,-89.0344,430.2,5.1745,34.2025,2,34.2054,2,275.3,2,275.5,2,9.03,2,23.31,2,0.00,2,1.56,2,4.347,2,2.315,2,0.338,2,4.714,2,2138.1,2,2276.1,2,-999.0,9,-999.00,9,20050929,0,-52.5103,-89.0314
316N20050821,AAIW,110,1,16,16,2,20050928,2229,-52.5104,-89.0344,529.8,4.9029,34.2018,2,34.2042,2,262.1,2,261.0,2,12.36,2,25.30,2,0.00,2,1.69,2,3.936,2,2.047,2,0.290,2,4.137,2,2148.9,2,2278.3,2,-999.0,9,-999.00,9,20050928,2357,-52.5103,-89.0310
316N20050821,AAIW,110,1,15,15,2,20050928,2229,-52.5104,-89.0344,629.0,4.6614,34.2241,2,34.2266,2,242.0,2,242.5,2,17.08,2,27.43,2,0.00,2,1.81,2,3.284,2,1.656,2,0.228,2,3.582,2,2162.9,2,2282.8,2,-999.0,9,-999.00,9,20050928,2355,-52.5104,-89.0303
316N20050821,AAIW,110,1,14,14,2,20050928,2229,-52.5104,-89.0344,727.5,4.3543,34.2555,2,34.2583,2,224.8,2,225.0,2,23.39,2,29.34,2,0.00,2,1.99,2,2.571,2,1.273,2,0.163,2,2.917,2,2177.9,2,2287.3,2,-999.0,9,-999.00,9,20050928,2352,-52.5105,-89.0298
316N20050821,AAIW,110,1,13,13,2,20050928,2229,-52.5104,-89.0344,825.9,4.0669,34.2803,2,34.2832,2,214.0,2,214.2,2,28.91,2,30.69,2,0.00,2,2.06,2,2.051,2,1.004,2,0.121,2,2.480,2,2191.1,2,2292.9,2,-999.0,9,-999.00,9,20050928,2349,-52.5107,-89.0292
316N20050821,AAIW,110,1,12,12,2,20050928,2229,-52.5104,-89.0344,924.2,3.7387,34.3119,2,34.3146,2,203.5,2,203.2,2,36.03,2,31.94,2,0.00,2,2.15,2,1.464,2,0.714,2,0.084,2,2.035,2,2202.1,2,2298.1,2,-999.0,9,-999.00,9,20050928,2346,-52.5110,-89.0285
316N20050821,AAIW,110,1,11,11,2,20050928,2229,-52.5104,-89.0344,1073.5,3.2844,34.3649,2,34.3670,2,190.5,2,190.7,2,46.93,2,33.30,2,0.00,2,2.26,2,1.035,2,0.500,2,0.054,2,1.586,2,2220.0,2,2308.3,2,-999.0,9,-999.00,9,20050928,2343,-52.5114,-89.0277
316N20050821,AAIW,110,1,10,10,2,20050928,2229,-52.5104,-89.0344,1223.2,2.9431,34.4238,2,34.4263,2,181.1,2,181.8,2,57.07,2,34.08,2,0.00,2,2.33,2,0.823,2,0.396,2,0.048,2,1.283,2,2234.7,2,2318.8,2,-999.0,9,-999.00,9,20050928,2339,-52.5118,-89.0268
316N20050821,AAIW,110,1,9,9,2,20050928,2229,-52.5104,-89.0344,1421.1,2.7046,34.5136,2,34.5152,2,164.0,2,165.5,2,70.42,2,34.81,2,0.00,2,2.33,3,0.333,2,0.159,2,0.015,2,0.632,2,2254.3,2,2333.4,2,-999.0,9,-999.00,9,20050928,2335,-52.5123,-89.0260
316N20050821,AAIW,110,1,8,8,2,20050928,2229,-52.5104,-89.0344,1672.1,2.4916,34.5870,2,34.5887,2,155.9,2,156.2,2,83.81,2,35.01,2,0.00,2,2.38,3,0.086,2,0.044,2,0.000,2,0.226,2,2270.5,2,2349.7,2,-999.0,9,-999.00,9,20050928,2330,-52.5130,-89.0249
316N20050821,AAIW,110,1,7,7,2,20050928,2229,-52.5104,-89.0344,1967.3,2.2437,34.6433,2,34.6457,3,159.2,2,159.1,2,93.83,2,34.40,2,0.00,2,2.35,3,0.027,2,0.016,2,-0.001,2,0.079,2,2277.4,2,2361.2,2,-999.0,9,-999.00,9,20050928,2324,-52.5135,-89.0236
316N20050821,AAIW,110,1,6,6,2,20050928,2229,-52.5104,-89.0344,2446.8,1.9269,34.6870,2,34.6899,3,165.1,2,165.0,2,105.90,2,33.75,2,0.00,2,2.33,3,0.009,2,0.008,2,-0.001,2,0.027,2,2284.8,2,2374.0,2,-999.0,9,-999.00,9,20050928,2315,-52.5140,-89.0220
316N20050821,AAIW,110,1,5,5,2,20050928,2229,-52.5104,-89.0344,2959.0,1.6985,34.7071,2,34.7083,2,176.3,2,176.4,2,109.31,2,33.04,2,0.00,2,2.26,3,0.006,6,0.002,6,0.000,6,0.026,6,2279.0,2,2373.9,2,-999.0,9,-999.00,9,20050928,2306,-52.5125,-89.0210
316N20050821,AAIW,110,1,4,4,2,20050928,2229,-52.5104,-89.0344,3455.9,1.4240,34.7213,2,34.7225,2,191.4,2,191.8,2,109.69,2,32.05,2,0.00,2,2.16,3,0.025,2,0.012,2,0.000,2,0.076,2,2266.9,2,2364.4,2,-999.0,9,-999.00,9,20050928,2256,-52.5111,-89.0211
316N20050821,AAIW,110,1,3,3,2,20050928,2229,-52.5104,-89.0344,3960.8,0.9640,34.7136,2,34.7136,2,201.0,2,201.7,2,123.43,2,32.26,2,0.00,2,2.22,2,0.015,2,0.009,2,0.001,2,0.096,2,2267.6,2,2367.0,2,-999.0,9,-999.00,9,20050928,2247,-52.5103,-89.0197
316N20050821,AAIW,110,1,2,2,2,20050928,2229,-52.5104,-89.0344,4465.7,0.7020,34.7089,2,34.7099,2,206.2,2,207.4,2,131.73,2,32.51,2,0.00,2,2.20,2,0.014,2,0.010,2,0.000,2,0.142,2,2268.8,6,2368.8,2,-999.0,9,-999.00,9,20050928,2238,-52.5097,-89.0183
316N20050821,AAIW,110,1,1,1,2,20050928,2229,-52.5104,-89.0344,4976.9,0.6713,34.7073,2,34.7085,2,209.3,2,208.8,2,134.76,2,32.63,2,0.00,2,2.18,2,0.036,2,0.019,2,-0.001,2,0.277,2,2269.3,2,2367.9,2,-999.0,9,-999.00,9,20050928,2229,-52.5091,-89.0167
316N20050821,AAIW,111,1,24,24,2,20050929,518,-51.9369,-89.0199,7.6,5.4977,34.1329,2,34.1375,3,304.4,2,304.2,2,3.82,2,18.96,2,0.16,2,1.37,2,4.761,2,2.669,2,0.425,2,6.222,2,2113.3,2,2269.9,2,-999.0,9,-999.00,9,20050929,712,-51.9369,-89.0199
316N20050821,AAIW,111,1,23,23,2,20050929,518,-51.9369,-89.0199,42.4,5.4285,34.1402,2,34.1452,3,304.8,2,304.1,2,4.02,2,19.10,2,0.15,2,1.37,2,4.750,2,2.687,2,0.421,2,6.165,2,2116.0,2,2270.8,2,-999.0,9,-999.00,9,20050929,710,-51.9368,-89.0198
316N20050821,AAIW,111,1,22,22,2,20050929,518,-51.9369,-89.0199,82.1,5.3851,34.1444,2,34.1490,3,303.4,2,303.2,2,4.01,2,19.20,2,0.15,2,1.38,2,4.726,2,2.684,2,0.426,2,5.941,2,2117.3,2,2271.3,2,-999.0,9,-999.00,9,20050929,708,-51.9368,-89.0200
316N20050821,AAIW,111,1,21,21,2,20050929,518,-51.9369,-89.0199,121.9,5.3229,34.1559,2,34.1600,3,303.4,2,302.9,2,4.21,2,19.23,2,0.17,2,1.39,2,4.753,2,2.695,2,0.424,2,5.976,2,2118.1,2,2271.3,2,-999.0,9,-999.00,9,20050929,707,-51.9368,-89.0199
316N20050821,AAIW,111,1,20,20,2,20050929,518,-51.9369,-89.0199,172.1,5.2996,34.1573,2,34.1644,3,303.0,2,302.8,2,4.20,2,19.31,2,0.17,2,1.39,2,4.782,2,2.703,2,0.420,2,6.011,2,2119.5,2,2271.9,2,-999.0,9,-999.00,9,20050929,704,-51.9367,-89.0198
316N20050821,AAIW,111,1,19,19,2,20050929,518,-51.9369,-89.0199,221.4,5.2759,34.1639,2,34.1648,3,299.3,2,299.3,2,4.39,2,19.76,2,0.15,2,1.41,2,4.728,2,2.678,2,0.422,2,5.846,2,2121.7,2,2272.0,2,-999.0,9,-999.00,9,20050929,702,-51.9367,-89.0197
316N20050821,AAIW,111,1,18,18,2,20050929,518,-51.9369,-89.0199,271.2,5.4607,34.2024,2,34.2075,3,289.1,2,289.1,2,5.76,2,20.84,2,0.01,2,1.47,2,4.586,2,2.617,2,0.397,2,5.264,2,2128.7,2,2274.2,2,-999.0,9,-999.00,9,20050929,700,-51.9368,-89.0195
316N20050821,AAIW,111,1,17,17,2,20050929,518,-51.9369,-89.0199,361.6,5.4088,34.2123,2,34.2164,3,284.7,2,285.4,2,6.93,2,21.65,2,0.00,2,1.52,2,4.521,6,2.519,6,0.386,6,5.061,6,2133.5,2,2275.4,2,-999.0,9,-999.00,9,20050929,657,-51.9367,-89.0191
316N20050821,AAIW,111,1,16,16,2,20050929,518,-51.9369,-89.0199,461.2,5.2607,34.2044,2,34.2084,3,278.0,2,279.4,2,7.91,2,22.74,2,0.00,2,1.57,2,4.424,2,2.434,2,0.362,2,4.870,2,2137.1,2,2276.0,2,-999.0,9,-999.00,9,20050929,654,-51.9368,-89.0191
316N20050821,AAIW,111,1,15,15,2,20050929,518,-51.9369,-89.0199,561.0,4.9322,34.1913,2,34.1956,3,265.4,2,266.0,2,11.25,2,24.69,2,0.00,2,1.71,2,4.051,2,2.208,2,0.327,2,4.360,2,2148.9,2,2278.1,2,-999.0,9,-999.00,9,20050929,651,-51.9366,-89.0189
316N20050821,AAIW,111,1,14,14,2,20050929,518,-51.9369,-89.0199,660.5,4.7430,34.2228,2,34.2268,3,244.8,2,243.9,2,16.36,2,27.02,2,0.00,2,1.86,2,3.375,2,1.763,2,0.244,2,3.593,2,2164.0,2,2282.8,2,-999.0,9,-999.00,9,20050929,648,-51.9365,-89.0185
316N20050821,AAIW,111,1,13,13,2,20050929,518,-51.9369,-89.0199,760.6,4.4437,34.2494,2,34.2550,3,230.1,2,229.3,2,21.87,2,28.50,2,0.00,2,1.99,2,2.786,2,1.447,2,0.199,2,3.012,2,2178.6,2,2286.4,2,-999.0,9,-999.00,9,20050929,645,-51.9366,-89.0183
316N20050821,AAIW,111,1,12,12,2,20050929,518,-51.9369,-89.0199,860.1,4.0996,34.2751,2,34.2791,3,217.5,2,217.7,2,27.78,2,30.27,2,0.00,2,2.08,2,2.285,2,1.163,2,0.151,2,2.727,2,2191.7,2,2290.9,2,-999.0,9,-999.00,9,20050929,642,-51.9366,-89.0180
316N20050821,AAIW,111,1,11,11,2,20050929,518,-51.9369,-89.0199,960.5,3.7133,34.3073,2,34.3118,3,207.6,2,207.3,2,35.28,2,31.57,2,0.00,2,2.18,2,1.774,2,0.883,2,0.111,2,2.264,2,2204.5,2,2297.3,2,-999.0,9,-999.00,9,20050929,639,-51.9367,-89.0178
316N20050821,AAIW,111,1,10,10,2,20050929,518,-51.9369,-89.0199,1160.0,3.1665,34.3868,2,34.3906,3,185.7,2,186.5,2,49.91,2,33.63,2,0.00,2,2.33,2,0.873,2,0.440,2,0.045,2,1.389,2,-999.0,9,2312.7,2,-999.0,9,-999.00,9,20050929,634,-51.9369,-89.0172
316N20050821,AAIW,111,1,9,9,2,20050929,518,-51.9369,-89.0199,1361.1,2.8650,34.4720,2,34.4760,3,167.9,2,168.0,2,64.20,2,34.79,2,0.00,2,2.41,2,0.406,2,0.207,2,0.019,2,0.776,2,2251.2,2,2327.3,2,-999.0,9,-999.00,9,20050929,629,-51.9365,-89.0166
316N20050821,AAIW,111,1,8,8,2,20050929,518,-51.9369,-89.0199,1611.9,2.5802,34.5640,2,34.5674,3,157.7,2,157.8,2,79.12,2,34.98,2,0.00,2,2.43,2,0.128,2,0.062,2,-0.001,2,0.318,2,-999.0,9,2344.4,2,-999.0,9,-999.00,9,20050929,624,-51.9366,-89.0163
316N20050821,AAIW,111,1,7,7,2,20050929,518,-51.9369,-89.0199,1910.7,2.3237,34.6287,2,34.6321,3,159.5,2,159.5,2,89.70,2,34.45,2,0.00,2,2.40,2,0.042,2,0.023,2,-0.001,2,0.140,2,2276.6,2,2356.8,2,-999.0,9,-999.00,9,20050929,617,-51.9365,-89.0163
316N20050821,AAIW,111,1,6,6,2,20050929,518,-51.9369,-89.0199,2410.9,1.9929,34.6865,2,34.6907,3,166.5,2,166.9,2,101.11,2,33.48,2,0.00,2,2.34,2,0.012,2,0.008,2,0.000,2,0.051,2,2282.3,2,2369.0,2,-999.0,9,-999.00,9,20050929,608,-51.9364,-89.0155
316N20050821,AAIW,111,1,5,5,2,20050929,518,-51.9369,-89.0199,2911.7,1.7339,34.7023,2,34.7053,3,172.7,2,172.7,2,109.74,2,33.43,2,0.00,2,2.32,2,0.005,2,0.004,2,0.000,2,0.035,2,2285.9,6,2376.3,2,-999.0,9,-999.00,9,20050929,558,-51.9361,-89.0145
316N20050821,AAIW,111,1,4,4,2,20050929,518,-51.9369,-89.0199,3414.3,1.4456,34.7182,2,34.7213,3,188.8,2,188.9,2,110.34,2,32.31,2,0.00,2,2.24,2,0.013,2,0.006,2,0.000,2,0.057,2,-999.0,9,2367.9,2,-999.0,9,-999.00,9,20050929,548,-51.9358,-89.0138
316N20050821,AAIW,111,1,3,3,2,20050929,518,-51.9369,-89.0199,3920.5,0.9713,34.7137,2,34.7165,3,200.5,2,201.0,2,122.63,2,32.41,2,0.00,2,2.23,2,0.009,2,0.008,2,0.001,2,0.070,2,-999.0,9,2369.3,2,-999.0,9,-999.00,9,20050929,538,-51.9352,-89.0128
316N20050821,AAIW,111,1,2,2,2,20050929,518,-51.9369,-89.0199,4426.3,0.7131,34.7094,2,34.7124,3,206.6,2,207.6,2,131.11,2,32.46,2,0.00,2,2.24,2,0.011,2,0.006,2,0.001,2,0.124,2,-999.0,9,2369.4,2,-999.0,9,-999.00,9,20050929,529,-51.9348,-89.0118
316N20050821,AAIW,111,1,1,1,2,20050929,518,-51.9369,-89.0199,4937.3,0.6724,34.7077,2,34.7106,3,210.4,2,209.1,2,133.94,2,32.60,2,0.00,2,2.24,2,0.033,2,0.018,2,0.000,2,0.218,2,-999.0,9,2369.0,2,-999.0,9,-999.00,9,20050929,518,-51.9341,-89.0105
316N20050821,AAIW,112,1,24,24,2,20050929,1504,-51.3594,-89.0204,11.0,5.8027,34.0685,2,34.0705,2,302.8,2,302.9,3,2.71,2,18.04,2,0.20,2,1.34,2,4.598,2,2.596,2,0.408,2,6.005,2,2104.8,6,2266.1,2,-999.0,9,-999.00,9,20050929,1651,-51.3594,-89.0204
316N20050821,AAIW,112,1,23,23,2,20050929,1504,-51.3594,-89.0204,35.8,5.8000,34.0695,2,34.0709,2,303.3,2,303.0,3,2.52,2,18.02,2,0.23,2,1.33,2,4.609,2,2.603,2,0.413,2,5.883,2,2103.2,2,2267.4,2,-999.0,9,-999.00,9,20050929,1650,-51.3596,-89.0201
316N20050821,AAIW,112,1,22,22,2,20050929,1504,-51.3594,-89.0204,65.9,5.8048,34.0691,2,34.0701,2,302.1,2,302.8,3,2.52,2,18.06,2,0.23,2,1.32,2,4.571,2,2.607,2,0.408,2,5.789,2,2104.3,2,2268.3,2,-999.0,9,-999.00,9,20050929,1648,-51.3598,-89.0199
316N20050821,AAIW,112,1,21,21,2,20050929,1504,-51.3594,-89.0204,105.6,5.7452,34.0806,2,34.0830,2,301.9,2,302.0,3,2.52,2,18.16,2,0.21,2,1.34,2,4.541,2,2.586,2,0.416,2,5.712,2,2106.0,2,2265.5,2,-999.0,9,-999.00,9,20050929,1647,-51.3599,-89.0196
316N20050821,AAIW,112,1,20,20,2,20050929,1504,-51.3594,-89.0204,155.1,5.6725,34.1120,2,34.1132,2,299.8,2,298.9,3,3.10,2,18.61,2,0.22,2,1.37,2,4.549,2,2.591,2,0.410,2,5.627,2,2110.6,2,2268.9,2,-999.0,9,-999.00,9,20050929,1645,-51.3601,-89.0193
316N20050821,AAIW,112,1,19,19,2,20050929,1504,-51.3594,-89.0204,205.1,5.6882,34.1885,2,34.1906,2,282.9,2,283.5,3,5.09,2,20.76,2,0.05,2,1.44,2,4.491,2,2.493,2,0.384,2,5.018,2,2124.1,2,2272.2,2,-999.0,9,-999.00,9,20050929,1643,-51.3602,-89.0189
316N20050821,AAIW,112,1,18,18,2,20050929,1504,-51.3594,-89.0204,254.4,5.6607,34.2216,2,34.2233,2,276.5,2,277.0,2,6.67,2,21.98,2,0.00,2,1.55,2,4.421,2,2.429,2,0.362,2,4.622,2,2131.6,2,2274.2,2,-999.0,9,-999.00,9,20050929,1641,-51.3603,-89.0186
316N20050821,AAIW,112,1,17,17,2,20050929,1504,-51.3594,-89.0204,333.8,5.4503,34.2138,2,34.2157,2,278.3,2,277.9,2,7.26,2,22.44,2,0.00,2,1.58,2,4.452,2,2.434,2,0.363,2,4.740,2,2132.2,2,2274.4,2,-999.0,9,-999.00,9,20050929,1639,-51.3605,-89.0180
316N20050821,AAIW,112,1,16,16,2,20050929,1504,-51.3594,-89.0204,433.3,5.2202,34.2034,2,34.2055,2,278.5,2,278.4,2,7.86,2,22.94,2,0.00,2,1.61,2,4.540,2,2.365,2,0.355,2,4.781,2,2135.0,2,2274.5,2,-999.0,9,-999.00,9,20050929,1637,-51.3607,-89.0174
316N20050821,AAIW,112,1,15,15,2,20050929,1504,-51.3594,-89.0204,532.2,5.0744,34.2113,2,34.2135,2,264.3,2,264.3,2,10.43,2,24.71,2,0.00,2,1.68,2,4.053,2,2.125,2,0.290,2,4.179,2,2145.1,2,2277.3,2,-999.0,9,-999.00,9,20050929,1634,-51.3609,-89.0170
316N20050821,AAIW,112,1,14,14,2,20050929,1504,-51.3594,-89.0204,631.8,4.7400,34.2052,2,34.2076,2,254.8,2,255.8,2,13.60,2,26.21,2,0.00,2,1.83,2,3.710,2,1.974,2,0.279,2,4.037,2,2154.6,2,2279.2,2,-999.0,9,-999.00,9,20050929,1631,-51.3609,-89.0165
316N20050821,AAIW,112,1,13,13,2,20050929,1504,-51.3594,-89.0204,731.7,4.4997,34.2365,2,34.2383,2,234.3,2,234.1,2,19.56,2,28.36,2,0.00,2,1.97,2,2.882,2,1.494,2,0.198,2,3.252,2,2171.0,2,2284.1,2,-999.0,9,-999.00,9,20050929,1628,-51.3611,-89.0161
316N20050821,AAIW,112,1,12,12,2,20050929,1504,-51.3594,-89.0204,831.2,4.1610,34.2652,2,34.2654,2,220.0,2,219.7,2,26.10,2,29.97,2,0.00,2,2.07,2,2.270,2,1.171,2,0.148,2,2.746,2,2185.2,2,2289.9,2,-999.0,9,-999.00,9,20050929,1626,-51.3611,-89.0155
316N20050821,AAIW,112,1,11,11,2,20050929,1504,-51.3594,-89.0204,930.6,3.8128,34.3014,2,34.3027,2,207.6,2,207.0,2,33.66,2,31.48,2,0.00,2,2.19,2,1.649,6,0.824,6,0.101,6,2.261,6,2199.0,2,2296.1,2,-999.0,9,-999.00,9,20050929,1623,-51.3613,-89.0150
316N20050821,AAIW,112,1,10,10,2,20050929,1504,-51.3594,-89.0204,1130.2,3.2503,34.3854,2,34.3866,2,180.4,2,180.3,2,50.18,2,33.92,2,0.00,2,2.32,2,0.620,2,0.306,2,0.029,2,1.149,2,2228.1,2,2312.5,2,-999.0,9,-999.00,9,20050929,1618,-51.3614,-89.0143
316N20050821,AAIW,112,1,9,9,2,20050929,1504,-51.3594,-89.0204,1331.1,2.9150,34.4823,2,34.4830,2,154.7,2,156.0,2,68.19,2,35.68,2,0.00,2,2.51,2,0.189,2,0.095,2,0.008,2,0.477,2,2256.9,2,2332.8,2,-999.0,9,-999.00,9,20050929,1614,-51.3615,-89.0135
316N20050821,AAIW,112,1,8,8,2,20050929,1504,-51.3594,-89.0204,1583.6,2.6404,34.5647,2,34.5647,2,140.9,2,141.5,2,86.05,2,36.37,2,0.00,2,2.55,2,0.026,2,0.013,2,0.001,2,0.104,2,2280.7,2,2352.5,2,-999.0,9,-999.00,9,20050929,1608,-51.3620,-89.0126
316N20050821,AAIW,112,1,7,7,2,20050929,1504,-51.3594,-89.0204,1885.1,2.3463,34.6175,2,34.6179,2,145.0,2,145.1,2,97.93,2,35.66,2,0.00,2,2.51,2,0.005,2,0.005,2,0.000,2,0.040,2,2290.1,2,2367.6,2,-999.0,9,-999.00,9,20050929,1602,-51.3621,-89.0116
316N20050821,AAIW,112,1,6,6,2,20050929,1504,-51.3594,-89.0204,2285.7,2.0392,34.6616,2,34.6617,2,153.9,2,154.0,2,107.82,2,34.87,2,0.00,2,2.45,2,-0.001,2,-0.001,2,0.001,2,0.017,2,2292.7,2,2383.1,2,-999.0,9,-999.00,9,20050929,1554,-51.3619,-89.0109
316N20050821,AAIW,112,1,5,5,2,20050929,1504,-51.3594,-89.0204,2789.7,1.8331,34.6889,2,34.6892,2,163.5,2,163.8,2,112.27,2,33.89,2,0.00,2,2.37,2,0.003,2,0.005,2,0.000,2,0.014,2,2289.7,2,2381.4,2,-999.0,9,-999.00,9,20050929,1544,-51.3628,-89.0101
316N20050821,AAIW,112,1,4,4,2,20050929,1504,-51.3594,-89.0204,3293.6,1.6296,34.7118,2,34.7114,2,180.1,2,181.1,2,109.84,2,32.69,2,0.00,2,2.28,2,0.009,2,0.007,2,0.001,2,0.046,2,2274.2,2,2372.0,2,-999.0,9,-999.00,9,20050929,1535,-51.3632,-89.0092
316N20050821,AAIW,112,1,3,3,2,20050929,1504,-51.3594,-89.0204,3801.7,1.1655,34.7162,2,34.7157,2,196.2,2,196.8,2,117.94,2,32.18,2,0.00,2,2.24,2,0.009,2,0.004,2,0.004,2,0.068,2,2266.3,2,2367.9,2,-999.0,9,-999.00,9,20050929,1524,-51.3641,-89.0083
316N20050821,AAIW,112,1,2,2,2,20050929,1504,-51.3594,-89.0204,4309.5,0.7785,34.7105,2,34.7105,2,204.2,2,205.3,2,130.34,2,32.40,2,0.00,2,2.25,2,0.009,2,0.009,2,0.001,2,0.097,2,2266.9,2,2370.8,2,-999.0,9,-999.00,9,20050929,1515,-51.3646,-89.0075
316N20050821,AAIW,112,1,1,1,2,20050929,1504,-51.3594,-89.0204,4815.3,0.6957,34.7083,2,34.7082,2,207.8,2,207.2,2,133.39,2,32.49,2,0.00,2,2.22,2,0.023,2,0.018,2,0.002,2,0.172,2,2267.9,6,2370.4,2,-999.0,9,-999.00,9,20050929,1504,-51.3650,-89.0070