BOTTLE,20220819CCHSIOAMB
EXPOCODE,SECT_ID,STNNBR,CASTNO,SAMPNO,BTLNBR,BTLNBR_FLAG_W,DATE,TIME,LATITUDE,LONGITUDE,CTDPRS,CTDTMP,CTDSAL,CTDSAL_FLAG_W,SALNTY,SALNTY_FLAG_W,CTDOXY,CTDOXY_FLAG_W,OXYGEN,OXYGEN_FLAG_W,SILCAT,SILCAT_FLAG_W,NITRAT,NITRAT_FLAG_W,NITRIT,NITRIT_FLAG_W,PHSPHT,PHSPHT_FLAG_W,CFC-11,CFC-11_FLAG_W,CFC-12,CFC-12_FLAG_W,CFC113,CFC113_FLAG_W,CCL4,CCL4_FLAG_W,TCARBN,TCARBN_FLAG_W,ALKALI,ALKALI_FLAG_W,PCO2,PCO2_FLAG_W,PH_SWS,PH_SWS_FLAG_W,BTL_DATE,BTL_TIME,BTL_LAT,BTL_LON
,,,,,,,,,,,DBAR,ITS-90,PSS-78,,PSS-78,,UMOL/KG,,UMOL/KG,,UMOL/KG,,UMOL/KG,,UMOL/KG,,UMOL/KG,,PMOL/KG,,PMOL/KG,,PMOL/KG,,PMOL/KG,,UMOL/KG,,UMOL/KG,,UATM,,,,,,,
316N20050821,AAIW,119,1,24,24,2,20051001,1343,-47.8244,-88.1415,6.0,6.3508,34.0843,2,34.0872,2,301.8,2,301.8,2,2.30,2,17.44,2,0.19,2,1.28,2,4.552,2,2.583,2,0.421,2,5.979,2,2100.8,2,2266.5,2,-999.0,9,-999.00,9,20051001,1515,-47.8244,-88.1415
316N20050821,AAIW,119,1,23,23,2,20051001,1343,-47.8244,-88.1415,36.0,6.3095,34.0844,2,34.0868,2,301.9,2,301.9,2,2.30,2,17.40,2,0.19,2,1.30,2,4.553,2,2.572,2,0.414,2,5.990,2,2101.7,2,2266.1,2,-999.0,9,-999.00,9,20051001,1514,-47.8244,-88.1416
316N20050821,AAIW,119,1,22,22,2,20051001,1343,-47.8244,-88.1415,71.3,6.2652,34.0858,2,34.0868,2,301.2,2,301.8,2,2.30,2,17.35,2,0.19,2,1.28,2,4.543,2,2.577,2,0.420,2,5.983,2,2100.9,2,2267.1,2,-999.0,9,-999.00,9,20051001,1512,-47.8243,-88.1418
316N20050821,AAIW,119,1,21,21,2,20051001,1343,-47.8244,-88.1415,106.3,6.0493,34.1012,2,34.1046,2,300.6,2,300.1,2,2.30,2,17.51,2,0.21,2,1.28,2,4.547,2,2.589,2,0.431,2,5.928,2,2103.7,2,2267.7,2,-999.0,9,-999.00,9,20051001,1510,-47.8242,-88.1420
316N20050821,AAIW,119,1,20,20,2,20051001,1343,-47.8244,-88.1415,155.7,5.8933,34.1216,2,34.1220,2,298.2,2,297.7,2,2.69,2,17.88,2,0.22,2,1.32,2,4.552,2,2.600,2,0.438,2,5.755,2,2107.0,2,2269.3,2,-999.0,9,-999.00,9,20051001,1508,-47.8242,-88.1422
316N20050821,AAIW,119,1,19,19,2,20051001,1343,-47.8244,-88.1415,205.1,5.8974,34.1601,2,34.1604,2,291.7,2,290.9,2,3.68,2,19.04,2,0.15,2,1.37,2,4.523,2,2.538,2,0.402,2,5.467,2,2113.7,2,2270.2,2,-999.0,9,-999.00,9,20051001,1506,-47.8241,-88.1422
316N20050821,AAIW,119,1,18,18,2,20051001,1343,-47.8244,-88.1415,255.6,5.9856,34.2506,2,34.2507,2,278.4,2,278.6,2,6.82,2,21.46,2,0.00,2,1.50,2,4.411,2,2.446,2,0.385,2,4.712,2,2127.7,2,2274.5,2,-999.0,9,-999.00,9,20051001,1503,-47.8240,-88.1423
316N20050821,AAIW,119,1,17,17,2,20051001,1343,-47.8244,-88.1415,304.9,5.8383,34.2475,2,34.2483,2,277.1,2,277.3,2,6.23,2,20.88,2,0.00,2,1.50,2,4.386,2,2.401,2,0.371,2,4.644,2,2130.5,2,2275.7,2,-999.0,9,-999.00,9,20051001,1501,-47.8239,-88.1424
316N20050821,AAIW,119,1,16,16,2,20051001,1343,-47.8244,-88.1415,354.3,5.6836,34.2370,2,34.2387,2,278.1,2,278.3,2,7.01,2,21.79,2,0.00,2,1.52,2,4.330,2,2.366,2,0.360,2,4.632,2,2131.0,2,2275.9,2,-999.0,9,-999.00,9,20051001,1459,-47.8239,-88.1425
316N20050821,AAIW,119,1,15,15,2,20051001,1343,-47.8244,-88.1415,404.5,5.6164,34.2350,2,34.2379,2,275.1,2,275.7,2,7.60,2,22.35,2,0.00,2,1.54,2,4.328,2,2.347,2,0.347,2,4.551,2,2132.9,2,2276.7,2,-999.0,9,-999.00,9,20051001,1457,-47.8238,-88.1426
316N20050821,AAIW,119,1,14,14,2,20051001,1343,-47.8244,-88.1415,495.1,5.3678,34.2233,2,34.2230,2,269.0,2,269.9,2,9.18,2,23.54,2,0.00,2,1.62,2,4.189,2,2.238,2,0.319,2,4.358,2,2140.9,2,2277.2,2,-999.0,9,-999.00,9,20051001,1454,-47.8237,-88.1428
316N20050821,AAIW,119,1,13,13,2,20051001,1343,-47.8244,-88.1415,584.5,5.0936,34.2174,2,34.2174,2,259.8,2,259.6,2,11.54,2,25.01,2,0.00,2,1.72,2,3.900,2,2.048,2,0.283,2,4.129,2,2148.6,2,2279.4,2,-999.0,9,-999.00,9,20051001,1451,-47.8236,-88.1430
316N20050821,AAIW,119,1,12,12,2,20051001,1343,-47.8244,-88.1415,623.7,4.9364,34.2235,2,34.2238,2,251.1,2,250.5,2,13.90,2,26.16,2,0.00,2,1.87,3,3.510,2,1.831,2,0.249,2,3.804,2,2156.3,2,2280.6,2,-999.0,9,-999.00,9,20051001,1449,-47.8235,-88.1431
316N20050821,AAIW,119,1,11,11,2,20051001,1343,-47.8244,-88.1415,724.5,4.6550,34.2412,2,34.2407,2,234.1,2,234.8,2,18.63,2,27.91,2,0.00,2,1.92,2,2.880,2,1.490,2,0.194,2,3.299,2,2169.0,2,2284.4,2,-999.0,9,-999.00,9,20051001,1446,-47.8235,-88.1431
316N20050821,AAIW,119,1,10,10,2,20051001,1343,-47.8244,-88.1415,823.5,4.2585,34.2705,2,34.2702,2,218.3,2,217.7,2,25.34,2,29.87,2,0.00,2,2.04,2,2.120,6,1.065,6,0.127,6,2.662,6,2184.8,2,2289.8,2,-999.0,9,-999.00,9,20051001,1443,-47.8234,-88.1432
316N20050821,AAIW,119,1,9,9,2,20051001,1343,-47.8244,-88.1415,924.3,3.8775,34.3045,2,34.3049,2,206.0,2,206.6,2,33.44,2,31.49,2,0.00,2,2.19,2,1.543,2,0.765,2,0.087,2,2.132,2,-999.0,9,2296.6,2,-999.0,9,-999.00,9,20051001,1439,-47.8233,-88.1433
316N20050821,AAIW,119,1,8,8,2,20051001,1343,-47.8244,-88.1415,1124.7,3.2306,34.3853,2,34.3860,2,183.1,2,182.8,2,50.07,2,33.64,2,0.00,2,2.33,2,0.696,2,0.337,2,0.034,2,1.272,2,2227.0,6,2312.2,2,-999.0,9,-999.00,9,20051001,1435,-47.8232,-88.1433
316N20050821,AAIW,119,1,7,7,2,20051001,1343,-47.8244,-88.1415,1324.3,2.9174,34.4828,2,34.4848,2,155.0,2,155.7,2,68.16,2,35.70,2,0.00,2,2.48,2,0.173,2,0.089,2,0.011,2,0.438,2,-999.0,9,2331.7,2,-999.0,9,-999.00,9,20051001,1430,-47.8231,-88.1434
316N20050821,AAIW,119,1,6,6,2,20051001,1343,-47.8244,-88.1415,1525.1,2.6941,34.5539,2,34.5456,3,142.9,2,143.7,2,81.32,2,36.32,2,0.00,2,2.54,2,0.043,2,0.024,2,0.002,2,0.151,2,-999.0,9,2348.8,2,-999.0,9,-999.00,9,20051001,1426,-47.8229,-88.1435
316N20050821,AAIW,119,1,5,5,2,20051001,1343,-47.8244,-88.1415,1826.8,2.3754,34.6126,2,34.6117,2,147.2,2,147.0,2,95.73,2,35.66,2,0.00,2,2.49,2,0.011,2,0.008,2,0.000,2,0.054,2,-999.0,9,2364.4,2,-999.0,9,-999.00,9,20051001,1419,-47.8228,-88.1435
316N20050821,AAIW,119,1,4,4,2,20051001,1343,-47.8244,-88.1415,2128.6,2.1364,34.6477,2,34.6474,2,151.5,2,150.9,2,104.97,2,35.04,2,0.00,2,2.47,2,-0.004,2,-0.002,2,0.003,2,0.017,2,-999.0,9,2376.0,2,-999.0,9,-999.00,9,20051001,1412,-47.8226,-88.1436
316N20050821,AAIW,119,1,3,3,2,20051001,1343,-47.8244,-88.1415,2632.1,1.8774,34.6827,2,34.6819,2,160.7,2,160.7,2,112.42,2,34.30,2,0.00,2,2.42,2,0.000,2,-0.003,2,0.000,2,0.009,2,-999.0,9,2382.4,2,-999.0,9,-999.00,9,20051001,1403,-47.8224,-88.1432
316N20050821,AAIW,119,1,2,2,2,20051001,1343,-47.8244,-88.1415,3135.8,1.6597,34.7027,2,34.7019,2,174.6,2,174.0,2,113.64,2,33.41,2,0.00,2,2.40,2,-0.003,2,-0.002,2,0.000,2,0.024,2,-999.0,9,2378.5,2,-999.0,9,-999.00,9,20051001,1353,-47.8222,-88.1434
316N20050821,AAIW,119,1,1,1,2,20051001,1343,-47.8244,-88.1415,3641.2,1.2282,34.7133,2,34.7133,2,193.2,2,192.3,2,119.09,2,32.57,2,0.00,2,2.27,2,0.005,2,0.002,2,0.001,2,0.095,2,-999.0,1,2371.3,2,-999.0,9,-999.00,9,20051001,1343,-47.8218,-88.1438
316N20050821,AAIW,120,1,24,24,2,20051001,1951,-47.6553,-87.2901,4.4,6.5672,34.0597,2,34.0598,2,300.9,2,301.2,2,2.25,2,17.59,2,-999.00,5,1.32,2,4.446,2,2.549,2,0.417,2,5.721,2,2101.8,6,2263.8,2,-999.0,9,-999.00,9,20051001,2127,-47.6553,-87.2901
316N20050821,AAIW,120,1,23,23,2,20051001,1951,-47.6553,-87.2901,46.6,6.4788,34.0582,2,34.0595,2,300.7,2,301.2,2,2.03,2,17.59,2,-999.00,5,1.31,2,4.528,2,2.572,2,0.425,2,5.848,2,2101.5,2,2263.1,2,-999.0,9,-999.00,9,20051001,2125,-47.6550,-87.2900
316N20050821,AAIW,120,1,22,22,2,20051001,1951,-47.6553,-87.2901,77.0,6.2732,34.0721,2,34.0718,3,300.6,2,300.9,2,2.21,2,17.79,2,-999.00,5,1.27,2,4.499,2,2.555,2,0.421,2,5.730,2,2102.1,2,2264.0,2,-999.0,9,-999.00,9,20051001,2123,-47.6548,-87.2900
316N20050821,AAIW,120,1,21,21,2,20051001,1951,-47.6553,-87.2901,106.6,6.1037,34.0970,2,34.0947,2,298.8,2,298.8,2,2.18,2,17.79,2,-999.00,5,1.26,2,4.500,2,2.563,2,0.413,2,5.682,2,2106.3,2,2265.8,2,-999.0,9,-999.00,9,20051001,2122,-47.6546,-87.2900
316N20050821,AAIW,120,1,20,20,2,20051001,1951,-47.6553,-87.2901,156.5,5.8874,34.1215,2,34.1228,3,297.8,2,297.8,2,2.54,2,18.28,2,-999.00,5,1.37,2,4.510,2,2.590,2,0.416,2,5.603,2,2110.8,2,2267.8,2,-999.0,9,-999.00,9,20051001,2120,-47.6544,-87.2899
316N20050821,AAIW,120,1,19,19,2,20051001,1951,-47.6553,-87.2901,197.1,5.9628,34.2062,2,34.2056,2,276.6,2,277.2,2,5.04,2,20.82,2,-999.00,5,1.44,2,4.446,6,2.506,6,0.395,6,4.764,6,2129.8,2,2269.9,2,-999.0,9,-999.00,9,20051001,2118,-47.6542,-87.2899
316N20050821,AAIW,120,1,18,18,2,20051001,1951,-47.6553,-87.2901,246.3,5.8830,34.2342,2,34.2328,2,275.3,2,276.0,2,6.19,2,21.60,2,0.00,2,1.55,2,4.445,2,2.440,2,0.390,2,4.763,2,2133.3,2,2272.5,2,-999.0,9,-999.00,9,20051001,2116,-47.6540,-87.2900
316N20050821,AAIW,120,1,17,17,2,20051001,1951,-47.6553,-87.2901,346.3,5.6263,34.2340,2,34.2323,2,273.3,2,274.2,2,7.33,2,22.58,2,0.00,2,1.61,2,4.332,2,2.382,2,0.350,2,4.507,2,2136.9,2,2274.0,2,-999.0,9,-999.00,9,20051001,2114,-47.6536,-87.2900
316N20050821,AAIW,120,1,16,16,2,20051001,1951,-47.6553,-87.2901,446.4,5.4007,34.2237,2,34.2227,2,269.9,2,270.8,2,8.47,2,23.46,2,0.00,2,1.65,2,4.225,2,2.279,2,0.325,2,4.323,2,2141.5,2,2274.7,2,-999.0,9,-999.00,9,20051001,2111,-47.6533,-87.2899
316N20050821,AAIW,120,1,15,15,2,20051001,1951,-47.6553,-87.2901,544.8,5.0838,34.2109,2,34.2113,2,263.3,2,264.6,2,10.58,2,24.82,2,0.00,2,1.74,2,4.013,2,2.149,2,0.301,2,4.260,2,2148.8,2,2275.5,2,-999.0,9,-999.00,9,20051001,2108,-47.6529,-87.2900
316N20050821,AAIW,120,1,14,14,2,20051001,1951,-47.6553,-87.2901,644.3,4.8600,34.2226,2,34.2227,2,248.5,2,248.9,2,14.25,2,26.60,2,0.00,2,1.86,2,3.487,2,1.812,2,0.245,2,3.845,2,2159.2,2,2278.7,2,-999.0,9,-999.00,9,20051001,2106,-47.6526,-87.2900
316N20050821,AAIW,120,1,13,13,2,20051001,1951,-47.6553,-87.2901,742.9,4.5289,34.2482,2,34.2478,2,228.7,2,230.0,2,20.26,2,28.95,2,0.00,2,2.00,2,2.636,2,1.351,2,0.171,2,3.070,2,2176.5,2,2283.7,2,-999.0,9,-999.00,9,20051001,2103,-47.6522,-87.2900
316N20050821,AAIW,120,1,12,12,2,20051001,1951,-47.6553,-87.2901,841.4,4.1849,34.2783,2,34.2801,2,214.9,2,215.2,2,27.26,2,30.56,2,0.00,2,2.11,2,1.965,2,1.007,2,0.119,2,2.506,2,2190.1,2,2289.5,2,-999.0,9,-999.00,9,20051001,2100,-47.6519,-87.2901
316N20050821,AAIW,120,1,11,11,2,20051001,1951,-47.6553,-87.2901,940.9,3.7948,34.3139,2,34.3142,2,202.8,2,202.6,2,35.42,2,32.02,2,0.00,2,2.23,2,1.362,2,0.686,2,0.074,2,1.985,2,2204.7,2,2297.4,2,-999.0,9,-999.00,9,20051001,2058,-47.6515,-87.2902
316N20050821,AAIW,120,1,10,10,2,20051001,1951,-47.6553,-87.2901,1040.0,3.4380,34.3559,2,34.3552,2,189.4,2,189.8,2,44.20,2,33.30,2,0.00,2,2.29,2,0.843,2,0.419,2,0.036,2,1.427,2,2219.9,2,2305.5,2,-999.0,9,-999.00,9,20051001,2055,-47.6511,-87.2903
316N20050821,AAIW,120,1,9,9,2,20051001,1951,-47.6553,-87.2901,1177.9,3.1173,34.4185,2,34.4197,2,168.6,2,170.5,2,56.70,2,34.87,2,0.00,2,2.43,2,0.398,2,0.208,2,0.015,2,0.867,2,2242.0,2,2318.9,2,-999.0,9,-999.00,9,20051001,2051,-47.6506,-87.2903
316N20050821,AAIW,120,1,8,8,2,20051001,1951,-47.6553,-87.2901,1375.5,2.8621,34.5037,2,34.5032,2,147.0,2,148.5,2,73.39,2,36.36,2,0.00,2,2.54,2,0.107,2,0.057,2,-0.001,2,0.300,2,2267.6,2,2336.9,2,-999.0,9,-999.00,9,20051001,2047,-47.6501,-87.2906
316N20050821,AAIW,120,1,7,7,2,20051001,1951,-47.6553,-87.2901,1574.5,2.6341,34.5659,2,34.5650,2,139.6,2,140.3,2,86.98,2,36.50,2,0.00,2,2.53,2,0.028,2,0.014,2,0.002,2,0.098,2,2284.9,2,2353.9,2,-999.0,9,-999.00,9,20051001,2043,-47.6497,-87.2912
316N20050821,AAIW,120,1,6,6,2,20051001,1951,-47.6553,-87.2901,1872.0,2.3344,34.6185,2,34.6170,3,143.3,2,143.6,2,99.82,2,35.98,2,0.00,2,2.43,2,0.002,2,0.003,2,-0.001,2,0.028,2,2294.2,2,2368.7,2,-999.0,9,-999.00,9,20051001,2037,-47.6491,-87.2918
316N20050821,AAIW,120,1,5,5,2,20051001,1951,-47.6553,-87.2901,2368.3,1.9967,34.6671,2,34.6665,2,155.3,2,154.9,2,109.72,2,34.89,2,0.00,2,2.41,2,-0.003,2,-0.002,2,-0.001,2,0.007,2,2296.5,2,2379.2,2,-999.0,9,-999.00,9,20051001,2028,-47.6482,-87.2929
316N20050821,AAIW,120,1,4,4,2,20051001,1951,-47.6553,-87.2901,2865.4,1.8103,34.6900,2,34.6900,2,164.0,2,163.7,2,113.88,2,34.41,2,0.00,2,2.40,2,0.001,2,0.001,2,0.000,2,0.009,2,2292.6,2,2382.2,2,-999.0,9,-999.00,9,20051001,2019,-47.6472,-87.2939
316N20050821,AAIW,120,1,3,3,2,20051001,1951,-47.6553,-87.2901,3369.5,1.4943,34.7113,2,34.7089,3,183.6,2,182.9,2,114.26,2,32.98,2,0.00,2,2.25,2,0.005,2,0.004,2,0.000,2,0.040,2,2278.1,2,2372.3,2,-999.0,9,-999.00,9,20051001,2010,-47.6460,-87.2939
316N20050821,AAIW,120,1,2,2,2,20051001,1951,-47.6553,-87.2901,3877.1,0.9526,34.7124,2,34.7111,2,199.6,2,200.2,2,126.01,2,32.66,2,0.00,2,2.26,2,0.003,2,0.000,2,0.000,2,0.052,2,2273.5,2,2371.7,2,-999.0,9,-999.00,9,20051001,2001,-47.6444,-87.2930
316N20050821,AAIW,120,1,1,1,2,20051001,1951,-47.6553,-87.2901,4403.5,0.8148,34.7105,2,34.7088,3,204.9,2,204.1,2,130.59,2,32.66,2,0.00,2,2.24,2,0.006,2,0.005,2,0.000,2,0.103,2,2272.4,2,2373.1,2,-999.0,9,-999.00,9,20051001,1951,-47.6434,-87.2944
316N20050821,AAIW,121,1,24,24,2,20051002,209,-47.4750,-86.4567,6.5,7.5523,33.9422,2,33.9453,2,294.2,2,294.6,2,0.67,2,15.57,2,0.18,2,1.18,2,4.262,6,2.380,6,0.389,6,5.242,6,2083.0,2,2255.1,2,-999.0,9,-999.00,9,20051002,354,-47.4750,-86.4567
316N20050821,AAIW,121,1,23,23,2,20051002,209,-47.4750,-86.4567,46.5,7.5520,33.9457,2,33.9453,2,293.3,2,294.1,2,0.63,2,15.58,2,0.18,2,1.18,2,4.216,2,2.386,2,0.376,2,5.289,2,-999.0,9,2255.8,2,-999.0,9,-999.00,9,20051002,352,-47.4749,-86.4567
316N20050821,AAIW,121,1,22,22,2,20051002,209,-47.4750,-86.4567,96.2,7.4961,33.9636,2,33.9630,2,290.8,2,291.7,2,0.77,2,15.70,2,0.21,2,1.19,2,4.230,2,2.379,2,0.383,2,5.230,2,2088.2,2,2257.5,2,-999.0,9,-999.00,9,20051002,349,-47.4749,-86.4566
316N20050821,AAIW,121,1,21,21,2,20051002,209,-47.4750,-86.4567,165.5,6.9710,34.0204,2,34.0189,2,284.9,2,286.9,2,1.50,2,17.10,2,0.23,2,1.28,2,4.324,2,2.416,2,0.379,2,5.019,2,-999.0,9,2260.0,2,-999.0,9,-999.00,9,20051002,347,-47.4748,-86.4566
316N20050821,AAIW,121,1,20,20,2,20051002,209,-47.4750,-86.4567,205.9,6.4493,34.1312,2,34.1287,2,261.5,2,260.7,2,3.96,2,21.36,2,0.00,2,1.53,2,4.333,2,2.371,2,0.360,2,4.007,2,2126.1,2,2264.4,2,-999.0,9,-999.00,9,20051002,345,-47.4747,-86.4567
316N20050821,AAIW,121,1,19,19,2,20051002,209,-47.4750,-86.4567,264.7,6.0125,34.2167,2,34.2171,2,258.4,2,258.5,2,5.85,2,22.61,2,0.00,2,1.59,2,4.336,2,2.331,2,0.344,2,4.059,2,-999.0,9,2270.0,2,-999.0,9,-999.00,9,20051002,343,-47.4747,-86.4567
316N20050821,AAIW,121,1,18,18,2,20051002,209,-47.4750,-86.4567,324.9,5.8592,34.2413,2,34.2419,2,265.9,2,266.5,2,6.57,2,22.34,2,0.00,2,1.57,2,4.365,2,2.322,2,0.341,2,4.156,2,2134.7,2,2273.0,2,-999.0,9,-999.00,9,20051002,341,-47.4746,-86.4568
316N20050821,AAIW,121,1,17,17,2,20051002,209,-47.4750,-86.4567,423.4,5.5266,34.2317,2,34.2331,2,268.2,2,268.9,2,7.68,2,22.95,2,0.00,2,1.61,2,4.291,2,2.263,2,0.322,2,4.148,2,-999.0,9,2273.9,2,-999.0,9,-999.00,9,20051002,338,-47.4745,-86.4571
316N20050821,AAIW,121,1,16,16,2,20051002,209,-47.4750,-86.4567,523.9,5.2902,34.2266,2,34.2302,2,263.8,2,263.2,2,9.18,2,24.02,2,0.00,2,1.67,2,4.029,2,2.083,2,0.290,2,3.883,2,2141.7,2,2275.3,2,-999.0,9,-999.00,9,20051002,334,-47.4746,-86.4578
316N20050821,AAIW,121,1,15,15,2,20051002,209,-47.4750,-86.4567,624.6,5.0068,34.2207,2,34.2210,2,256.4,2,255.9,2,11.64,2,25.42,2,0.00,2,1.77,2,3.716,2,1.918,2,0.257,2,3.764,2,-999.0,9,2277.0,2,-999.0,9,-999.00,9,20051002,331,-47.4745,-86.4583
316N20050821,AAIW,121,1,14,14,2,20051002,209,-47.4750,-86.4567,723.7,4.7069,34.2360,2,34.2375,2,237.8,2,236.7,2,16.77,2,27.53,2,0.00,2,1.92,2,2.947,2,1.496,2,0.201,2,3.190,2,2167.3,2,2281.8,2,-999.0,9,-999.00,9,20051002,328,-47.4744,-86.4586
316N20050821,AAIW,121,1,13,13,2,20051002,209,-47.4750,-86.4567,824.0,4.3585,34.2660,2,34.2658,2,218.1,2,218.5,2,23.40,2,29.61,2,0.00,2,2.06,2,2.092,2,1.037,2,0.131,2,2.481,2,-999.0,9,2286.8,2,-999.0,9,-999.00,9,20051002,325,-47.4743,-86.4590
316N20050821,AAIW,121,1,12,12,2,20051002,209,-47.4750,-86.4567,923.8,3.9714,34.2981,2,34.2953,2,203.0,2,202.7,2,31.45,2,31.46,2,0.00,2,2.20,2,1.411,2,0.694,2,0.071,2,2.006,2,2197.5,2,2294.5,2,-999.0,9,-999.00,9,20051002,322,-47.4742,-86.4593
316N20050821,AAIW,121,1,11,11,2,20051002,209,-47.4750,-86.4567,1043.9,3.5353,34.3462,2,34.3483,2,190.2,2,190.7,2,41.70,2,32.83,2,0.00,2,2.30,2,0.814,2,0.410,2,0.030,2,1.414,2,-999.0,9,2304.0,2,-999.0,9,-999.00,9,20051002,318,-47.4743,-86.4598
316N20050821,AAIW,121,1,10,10,2,20051002,209,-47.4750,-86.4567,1194.5,3.1737,34.4213,2,34.4225,2,163.4,2,165.8,2,56.27,2,34.87,2,0.00,2,2.44,2,0.276,2,0.128,2,0.013,2,0.625,2,2240.1,2,2319.6,2,-999.0,9,-999.00,9,20051002,314,-47.4742,-86.4602
316N20050821,AAIW,121,1,9,9,2,20051002,209,-47.4750,-86.4567,1344.7,2.9714,34.4939,2,34.4956,2,144.0,2,144.4,2,71.28,2,36.35,2,0.00,2,2.55,2,0.059,2,0.033,2,0.002,2,0.224,2,-999.0,9,2336.2,2,-999.0,9,-999.00,9,20051002,311,-47.4740,-86.4605
316N20050821,AAIW,121,1,8,8,2,20051002,209,-47.4750,-86.4567,1494.5,2.8252,34.5360,2,34.5374,2,136.9,2,136.7,2,80.84,2,36.75,2,0.00,2,2.59,2,0.023,2,0.011,2,0.001,2,0.091,2,2279.1,2,2347.8,2,-999.0,9,-999.00,9,20051002,307,-47.4739,-86.4604
316N20050821,AAIW,121,1,7,7,2,20051002,209,-47.4750,-86.4567,1697.0,2.6014,34.5802,2,34.5781,3,136.4,2,135.8,2,91.22,2,36.58,2,0.00,2,2.59,2,0.007,2,0.002,2,0.002,2,0.040,2,-999.0,9,2360.6,2,-999.0,9,-999.00,9,20051002,302,-47.4737,-86.4606
316N20050821,AAIW,121,1,6,6,2,20051002,209,-47.4750,-86.4567,1947.1,2.3418,34.6183,2,34.6171,2,143.5,2,142.8,2,99.65,2,35.84,2,0.00,2,2.54,2,0.005,2,0.002,2,0.002,2,0.033,2,2292.5,2,2369.9,2,-999.0,9,-999.00,9,20051002,256,-47.4735,-86.4606
316N20050821,AAIW,121,1,5,5,2,20051002,209,-47.4750,-86.4567,2449.5,1.9736,34.6683,2,34.6680,2,154.7,2,154.2,2,110.48,2,34.77,2,0.00,2,2.45,2,-0.001,2,0.001,2,0.001,2,0.009,2,-999.0,9,2382.0,2,-999.0,9,-999.00,9,20051002,246,-47.4731,-86.4614
316N20050821,AAIW,121,1,4,4,2,20051002,209,-47.4750,-86.4567,2953.2,1.7896,34.6900,2,34.6898,2,163.8,2,164.2,2,114.01,2,34.08,2,0.00,2,2.38,2,-0.001,2,0.002,2,0.001,2,0.013,2,2292.1,2,2383.9,2,-999.0,9,-999.00,9,20051002,236,-47.4728,-86.4624
316N20050821,AAIW,121,1,3,3,2,20051002,209,-47.4750,-86.4567,3460.7,1.4344,34.7074,2,34.7072,2,182.4,2,182.7,2,116.34,2,32.97,2,0.00,2,2.31,2,0.000,2,0.002,2,0.002,2,0.033,2,-999.0,9,2376.8,2,-999.0,9,-999.00,9,20051002,227,-47.4733,-86.4613
316N20050821,AAIW,121,1,2,2,2,20051002,209,-47.4750,-86.4567,3967.7,0.9670,34.7124,2,34.7122,2,199.2,2,199.0,2,124.64,2,32.47,2,0.00,2,2.26,2,0.000,2,0.001,2,0.002,2,0.076,2,2271.0,6,2368.9,2,-999.0,9,-999.00,9,20051002,217,-47.4736,-86.4607
316N20050821,AAIW,121,1,1,1,2,20051002,209,-47.4750,-86.4567,4388.6,0.8572,34.7111,2,34.7094,3,204.1,2,202.8,2,128.58,2,32.44,2,0.00,2,2.25,2,0.011,2,0.006,2,0.002,2,0.131,2,-999.0,9,2372.2,2,-999.0,9,-999.00,9,20051002,209,-47.4738,-86.4603