BOTTLE,20220819CCHSIOAMB
EXPOCODE,SECT_ID,STNNBR,CASTNO,SAMPNO,BTLNBR,BTLNBR_FLAG_W,DATE,TIME,LATITUDE,LONGITUDE,CTDPRS,CTDTMP,CTDSAL,CTDSAL_FLAG_W,SALNTY,SALNTY_FLAG_W,CTDOXY,CTDOXY_FLAG_W,OXYGEN,OXYGEN_FLAG_W,SILCAT,SILCAT_FLAG_W,NITRAT,NITRAT_FLAG_W,NITRIT,NITRIT_FLAG_W,PHSPHT,PHSPHT_FLAG_W,CFC-11,CFC-11_FLAG_W,CFC-12,CFC-12_FLAG_W,CFC113,CFC113_FLAG_W,CCL4,CCL4_FLAG_W,TCARBN,TCARBN_FLAG_W,ALKALI,ALKALI_FLAG_W,PCO2,PCO2_FLAG_W,PH_SWS,PH_SWS_FLAG_W,BTL_DATE,BTL_TIME,BTL_LAT,BTL_LON
,,,,,,,,,,,DBAR,ITS-90,PSS-78,,PSS-78,,UMOL/KG,,UMOL/KG,,UMOL/KG,,UMOL/KG,,UMOL/KG,,UMOL/KG,,PMOL/KG,,PMOL/KG,,PMOL/KG,,PMOL/KG,,UMOL/KG,,UMOL/KG,,UATM,,,,,,,
316N20050821,AAIW,94,1,24,24,2,20050922,2124,-54.8730,-87.9904,3.1,5.1294,34.1664,2,34.1655,2,303.1,2,301.7,2,5.35,2,20.16,2,0.11,2,1.45,2,4.665,2,2.593,2,0.461,2,5.716,2,2121.4,6,2273.1,2,-999.0,9,-999.00,1,20050922,2320,-54.8730,-87.9904
316N20050821,AAIW,94,1,23,23,2,20050922,2124,-54.8730,-87.9904,41.7,5.1330,34.1669,2,34.1151,4,302.6,2,302.1,2,5.14,2,20.16,2,0.11,2,1.44,2,4.691,2,2.589,2,0.454,2,5.848,2,2121.1,2,2272.6,2,-999.0,9,-999.00,1,20050922,2317,-54.8728,-87.9900
316N20050821,AAIW,94,1,22,22,2,20050922,2124,-54.8730,-87.9904,85.9,5.1343,34.1678,2,34.1666,2,301.7,2,301.7,2,5.35,2,20.21,2,0.11,2,1.44,2,4.616,2,2.571,2,0.446,2,5.713,2,2120.6,2,2273.2,2,-999.0,9,-999.00,1,20050922,2315,-54.8729,-87.9899
316N20050821,AAIW,94,1,21,21,2,20050922,2124,-54.8730,-87.9904,186.3,5.1482,34.1697,2,34.1685,2,299.9,2,300.1,2,5.35,2,20.32,2,0.09,2,1.44,2,4.612,2,2.562,2,0.453,2,5.679,2,2121.4,2,2273.1,2,-999.0,9,-999.00,1,20050922,2312,-54.8729,-87.9900
316N20050821,AAIW,94,1,20,20,2,20050922,2124,-54.8730,-87.9904,226.0,5.1515,34.1698,2,34.1689,2,300.1,2,299.8,2,5.35,2,20.32,2,0.09,2,1.44,2,4.625,2,2.565,2,0.449,2,5.751,2,2121.7,2,2273.2,2,-999.0,9,-999.00,1,20050922,2311,-54.8728,-87.9900
316N20050821,AAIW,94,1,19,19,2,20050922,2124,-54.8730,-87.9904,365.2,5.1906,34.1779,2,34.1799,2,295.2,2,294.5,2,5.75,2,20.75,2,0.04,2,1.52,2,4.600,2,2.559,2,0.451,2,5.559,2,2124.6,2,2273.7,2,-999.0,9,-999.00,1,20050922,2307,-54.8724,-87.9897
316N20050821,AAIW,94,1,18,18,2,20050922,2124,-54.8730,-87.9904,414.1,5.2393,34.1958,2,34.1965,2,283.7,2,283.9,2,7.75,2,22.22,2,0.01,2,1.55,2,4.433,2,2.425,2,0.411,2,4.947,2,2132.2,2,2275.8,2,-999.0,9,-999.00,1,20050922,2305,-54.8724,-87.9900
316N20050821,AAIW,94,1,17,17,2,20050922,2124,-54.8730,-87.9904,504.4,5.0813,34.1909,2,34.1914,2,276.6,2,276.0,2,9.56,2,23.39,2,0.01,2,1.62,2,4.230,2,2.317,2,0.394,2,4.625,2,2139.5,2,2276.2,2,-999.0,9,-999.00,1,20050922,2303,-54.8727,-87.9906
316N20050821,AAIW,94,1,16,16,2,20050922,2124,-54.8730,-87.9904,585.3,4.8588,34.1896,2,34.1894,2,263.5,2,263.9,2,12.37,2,24.93,2,0.00,2,1.73,2,3.897,2,2.100,2,0.347,2,4.146,2,2151.5,2,2279.8,2,-999.0,9,-999.00,1,20050922,2301,-54.8729,-87.9907
316N20050821,AAIW,94,1,15,15,2,20050922,2124,-54.8730,-87.9904,685.1,4.6336,34.2266,2,34.2255,2,239.1,2,239.8,2,18.18,2,27.35,2,0.00,2,1.88,2,3.215,2,1.688,2,0.259,2,3.444,2,2166.8,2,2283.0,2,-999.0,9,-999.00,1,20050922,2258,-54.8730,-87.9910
316N20050821,AAIW,94,1,14,14,2,20050922,2124,-54.8730,-87.9904,785.2,4.3504,34.2540,2,34.2526,2,226.5,2,226.2,2,23.82,2,28.91,2,0.00,2,1.99,2,2.692,2,1.459,2,0.214,2,2.902,2,2183.2,2,-999.0,1,-999.0,9,-999.00,1,20050922,2256,-54.8730,-87.9912
316N20050821,AAIW,94,1,13,13,2,20050922,2124,-54.8730,-87.9904,885.0,3.9266,34.2868,2,34.2852,2,214.1,2,214.3,2,31.25,2,30.56,2,0.00,2,2.10,2,2.176,2,1.114,2,0.179,2,2.571,2,2194.3,6,2294.7,2,-999.0,9,-999.00,1,20050922,2252,-54.8731,-87.9911
316N20050821,AAIW,94,1,12,12,2,20050922,2124,-54.8730,-87.9904,985.6,3.5853,34.3144,2,34.3144,2,206.2,2,206.6,2,37.90,2,31.59,2,0.00,2,2.18,2,1.927,2,1.020,2,0.147,2,2.301,2,2205.4,2,2300.0,2,-999.0,9,-999.00,1,20050922,2250,-54.8730,-87.9907
316N20050821,AAIW,94,1,11,11,2,20050922,2124,-54.8730,-87.9904,1105.1,3.2684,34.3540,2,34.3548,2,197.3,2,197.1,2,45.56,2,32.71,2,0.00,2,2.26,2,1.446,2,0.710,2,0.103,2,1.835,2,2218.0,2,2308.7,2,-999.0,9,-999.00,1,20050922,2247,-54.8729,-87.9906
316N20050821,AAIW,94,1,10,10,2,20050922,2124,-54.8730,-87.9904,1305.1,2.8584,34.4360,2,34.4356,2,182.1,2,182.3,2,58.50,2,33.78,2,0.00,2,2.35,2,0.896,2,0.467,2,0.041,2,1.280,2,2236.0,2,2320.0,2,-999.0,9,-999.00,1,20050922,2243,-54.8730,-87.9905
316N20050821,AAIW,94,1,9,9,2,20050922,2124,-54.8730,-87.9904,1504.5,2.6231,34.5249,2,34.5235,2,170.7,2,171.0,2,70.05,2,34.02,2,0.00,2,2.36,2,0.474,2,0.238,2,0.022,2,0.740,2,2254.0,2,2331.9,2,-999.0,9,-999.00,1,20050922,2238,-54.8732,-87.9907
316N20050821,AAIW,94,1,8,8,2,20050922,2124,-54.8730,-87.9904,1998.4,2.2624,34.6616,2,34.6606,2,169.5,2,169.8,2,85.09,2,32.99,2,0.00,2,2.28,2,0.135,2,0.060,2,0.003,2,0.240,2,2261.5,2,2350.6,2,-999.0,9,-999.00,1,20050922,2229,-54.8737,-87.9904
316N20050821,AAIW,94,1,7,7,2,20050922,2124,-54.8730,-87.9904,2490.6,1.9368,34.7093,2,34.7083,2,176.6,2,176.7,2,97.11,2,32.21,2,0.00,2,2.23,2,0.059,2,0.032,2,0.003,2,0.075,2,2266.5,2,2360.8,2,-999.0,9,-999.00,1,20050922,2220,-54.8737,-87.9889
316N20050821,AAIW,94,1,6,6,2,20050922,2124,-54.8730,-87.9904,2979.1,1.6128,34.7221,2,34.7213,2,186.8,2,186.6,2,104.69,2,31.87,2,0.00,2,2.19,2,0.040,2,0.021,2,0.003,2,0.021,2,2265.2,2,2363.8,2,-999.0,9,-999.00,1,20050922,2210,-54.8732,-87.9881
316N20050821,AAIW,94,1,5,5,2,20050922,2124,-54.8730,-87.9904,3464.3,1.3153,34.7220,2,34.7201,2,195.8,2,195.7,2,111.45,2,31.63,2,0.00,2,2.19,2,0.047,2,0.027,2,0.003,2,0.056,2,2263.4,2,2362.6,2,-999.0,9,-999.00,1,20050922,2201,-54.8726,-87.9871
316N20050821,AAIW,94,1,4,4,2,20050922,2124,-54.8730,-87.9904,3919.8,0.9831,34.7144,2,34.7140,2,202.2,2,202.0,2,122.34,2,31.97,2,0.00,2,2.21,2,0.048,2,0.027,2,0.003,2,0.103,2,2264.9,2,2364.7,2,-999.0,9,-999.00,1,20050922,2151,-54.8730,-87.9866
316N20050821,AAIW,94,1,3,3,2,20050922,2124,-54.8730,-87.9904,4393.4,0.7027,34.7090,2,34.7086,2,207.1,2,207.5,2,131.19,2,32.11,2,0.00,2,2.22,2,0.045,2,0.026,2,0.003,2,0.144,2,2266.2,2,2366.6,2,-999.0,9,-999.00,1,20050922,2142,-54.8725,-87.9863
316N20050821,AAIW,94,1,2,2,2,20050922,2124,-54.8730,-87.9904,4935.4,0.6659,34.7077,2,34.7064,2,208.4,2,209.3,2,134.09,2,32.26,2,0.00,2,2.23,2,0.049,6,0.028,6,0.003,6,0.193,6,2265.6,2,2366.6,2,-999.0,9,-999.00,1,20050922,2133,-54.8700,-87.9850
316N20050821,AAIW,94,1,1,1,2,20050922,2124,-54.8730,-87.9904,5412.4,0.6992,34.7071,2,34.7066,2,210.4,2,209.6,2,134.30,2,32.26,2,0.00,2,2.23,2,0.058,2,0.034,2,0.003,2,0.264,2,2265.5,2,2365.8,2,-999.0,9,-999.00,1,20050922,2124,-54.8680,-87.9838
316N20050821,AAIW,95,1,24,24,2,20050923,428,-54.7299,-86.9434,6.3,5.0857,34.1531,2,34.1510,2,304.5,2,303.7,2,5.29,2,19.76,2,0.16,2,1.42,2,4.624,2,2.579,2,0.460,2,5.830,2,2117.7,2,2271.0,2,-999.0,9,-999.00,9,20050923,631,-54.7299,-86.9434
316N20050821,AAIW,95,1,23,23,2,20050923,428,-54.7299,-86.9434,27.3,5.0839,34.1528,2,34.1544,2,304.4,2,303.4,2,5.09,2,19.76,2,0.16,2,1.42,2,4.641,2,2.566,2,0.463,2,5.803,2,2117.7,2,2271.2,2,-999.0,9,-999.00,9,20050923,629,-54.7298,-86.9434
316N20050821,AAIW,95,1,22,22,2,20050923,428,-54.7299,-86.9434,66.5,5.0886,34.1535,2,34.1546,2,303.6,2,303.4,2,5.09,2,19.71,2,0.16,2,1.42,2,4.691,2,2.562,2,0.465,2,5.771,2,2117.2,2,2271.8,2,-999.0,9,-999.00,9,20050923,627,-54.7294,-86.9434
316N20050821,AAIW,95,1,21,21,2,20050923,428,-54.7299,-86.9434,106.5,5.0923,34.1564,2,34.1560,2,303.5,2,303.1,2,5.29,2,19.76,2,0.15,2,1.43,2,4.657,2,2.572,2,0.460,2,5.778,2,2118.1,2,2271.7,2,-999.0,9,-999.00,9,20050923,625,-54.7291,-86.9434
316N20050821,AAIW,95,1,20,20,2,20050923,428,-54.7299,-86.9434,157.0,5.0961,34.1570,2,34.1568,2,302.9,2,302.6,2,5.29,2,19.91,2,0.15,2,1.43,2,4.646,2,2.553,2,0.464,2,5.771,2,2118.5,2,2271.3,2,-999.0,9,-999.00,9,20050923,623,-54.7288,-86.9432
316N20050821,AAIW,95,1,19,19,2,20050923,428,-54.7299,-86.9434,255.9,5.0772,34.1603,2,34.1607,2,299.6,2,299.7,2,5.29,2,20.19,2,0.15,2,1.44,2,4.642,6,2.549,6,0.463,6,5.796,6,2121.5,2,2272.1,2,-999.0,9,-999.00,9,20050923,620,-54.7284,-86.9430
316N20050821,AAIW,95,1,18,18,2,20050923,428,-54.7299,-86.9434,354.8,5.1239,34.1707,2,34.1705,2,296.8,2,296.2,2,5.68,2,20.54,2,0.04,2,1.47,2,4.474,2,2.511,2,0.445,2,5.412,2,2121.9,2,2272.9,2,-999.0,9,-999.00,9,20050923,617,-54.7280,-86.9428
316N20050821,AAIW,95,1,17,17,2,20050923,428,-54.7299,-86.9434,453.5,5.1371,34.1928,2,34.1919,2,283.7,2,284.3,2,7.86,2,22.19,2,0.00,2,1.56,2,4.346,2,2.377,2,0.404,2,4.833,2,2133.3,2,2274.7,2,-999.0,9,-999.00,9,20050923,614,-54.7276,-86.9427
316N20050821,AAIW,95,1,16,16,2,20050923,428,-54.7299,-86.9434,552.3,4.9229,34.1852,2,34.1837,2,272.8,2,271.8,2,10.64,2,23.94,2,0.00,2,1.66,2,4.099,2,2.284,2,0.372,2,4.496,2,2142.2,2,2276.4,2,-999.0,9,-999.00,9,20050923,611,-54.7270,-86.9428
316N20050821,AAIW,95,1,15,15,2,20050923,428,-54.7299,-86.9434,650.4,4.7137,34.2000,2,34.1994,2,254.3,2,254.3,2,14.40,2,25.94,2,0.00,2,1.79,2,3.598,2,1.953,2,0.316,2,3.940,2,2156.9,2,2279.4,2,-999.0,9,-999.00,9,20050923,607,-54.7265,-86.9431
316N20050821,AAIW,95,1,14,14,2,20050923,428,-54.7299,-86.9434,747.2,4.4433,34.2288,2,34.2290,2,236.5,2,236.2,2,20.15,2,27.85,2,0.00,2,1.93,2,2.977,2,1.604,2,0.244,2,3.328,2,2171.2,2,2284.6,2,-999.0,9,-999.00,9,20050923,604,-54.7261,-86.9431
316N20050821,AAIW,95,1,13,13,2,20050923,428,-54.7299,-86.9434,842.0,4.1683,34.2617,2,34.2610,2,222.3,2,222.3,2,25.90,2,29.34,2,0.00,2,2.03,2,2.481,2,1.220,2,0.173,2,2.697,2,2181.6,2,2289.1,2,-999.0,9,-999.00,9,20050923,601,-54.7256,-86.9431
316N20050821,AAIW,95,1,12,12,2,20050923,428,-54.7299,-86.9434,936.0,3.7826,34.2949,2,34.2933,2,210.6,2,211.1,2,33.45,2,30.92,2,0.00,2,2.14,2,1.916,2,1.003,2,0.137,2,2.488,2,2196.7,2,2296.1,2,-999.0,9,-999.00,9,20050923,558,-54.7252,-86.9429
316N20050821,AAIW,95,1,11,11,2,20050923,428,-54.7299,-86.9434,1030.3,3.4955,34.3247,2,34.3251,2,202.8,2,202.2,2,39.82,2,31.78,2,0.00,2,2.22,2,1.582,2,0.810,2,0.105,2,2.154,2,2207.7,2,2301.0,2,-999.0,9,-999.00,9,20050923,555,-54.7247,-86.9429
316N20050821,AAIW,95,1,10,10,2,20050923,428,-54.7299,-86.9434,1175.3,3.0971,34.3809,2,34.3815,2,190.8,2,191.0,2,49.97,2,32.88,2,0.00,2,2.29,2,1.158,2,0.602,2,0.059,2,1.664,2,2223.9,2,2311.9,2,-999.0,9,-999.00,9,20050923,551,-54.7239,-86.9432
316N20050821,AAIW,95,1,9,9,2,20050923,428,-54.7299,-86.9434,1372.8,2.7618,34.4781,2,34.4792,2,173.0,2,172.7,2,64.15,2,33.95,2,0.00,2,2.37,2,0.575,2,0.280,2,0.037,2,0.975,2,2245.3,2,2326.5,2,-999.0,9,-999.00,9,20050923,547,-54.7229,-86.9439
316N20050821,AAIW,95,1,8,8,2,20050923,428,-54.7299,-86.9434,1779.7,2.4030,34.6093,2,34.6082,2,156.4,2,156.8,2,86.39,2,34.23,2,0.00,2,2.40,2,0.078,2,0.032,2,0.003,2,0.175,2,2271.2,2,2353.6,2,-999.0,9,-999.00,9,20050923,538,-54.7212,-86.9450
316N20050821,AAIW,95,1,7,7,2,20050923,428,-54.7299,-86.9434,2284.6,2.0770,34.6921,2,34.6918,2,171.3,2,171.7,2,92.61,2,32.35,2,0.00,2,2.26,2,0.076,2,0.035,2,0.003,2,0.168,2,-999.0,1,2358.6,2,-999.0,9,-999.00,9,20050923,528,-54.7194,-86.9458
316N20050821,AAIW,95,1,6,6,2,20050923,428,-54.7299,-86.9434,2789.3,1.7585,34.7082,2,34.7083,2,175.6,2,176.1,2,104.69,2,32.39,2,0.00,2,2.27,2,0.030,2,0.016,2,0.003,2,0.054,2,2274.7,2,2370.0,2,-999.0,9,-999.00,9,20050923,518,-54.7177,-86.9465
316N20050821,AAIW,95,1,5,5,2,20050923,428,-54.7299,-86.9434,3294.9,1.5013,34.7229,2,34.7222,2,189.9,2,190.3,2,106.50,2,31.51,2,0.00,2,2.19,2,0.036,2,0.016,2,0.003,2,0.100,2,-999.0,1,2363.3,2,-999.0,9,-999.00,9,20050923,508,-54.7163,-86.9470
316N20050821,AAIW,95,1,4,4,2,20050923,428,-54.7299,-86.9434,3796.2,1.1330,34.7173,2,34.7158,2,198.7,2,199.0,2,115.99,2,31.61,2,0.00,2,2.19,2,0.029,2,0.015,2,0.003,2,0.124,2,2263.3,2,2364.0,2,-999.0,9,-999.00,9,20050923,458,-54.7152,-86.9478
316N20050821,AAIW,95,1,3,3,2,20050923,428,-54.7299,-86.9434,4299.1,0.7705,34.7102,2,34.7095,2,205.3,2,206.1,2,127.73,2,31.90,2,0.00,2,2.21,2,0.027,2,0.012,2,0.003,2,0.138,2,-999.0,1,2365.9,2,-999.0,9,-999.00,9,20050923,447,-54.7141,-86.9484
316N20050821,AAIW,95,1,2,2,2,20050923,428,-54.7299,-86.9434,4705.0,0.6590,34.7078,2,34.7069,2,207.9,2,208.8,2,132.59,2,31.95,2,0.00,2,2.22,2,0.036,2,0.017,2,0.003,2,0.247,2,-999.0,1,2366.2,2,-999.0,9,-999.00,9,20050923,438,-54.7131,-86.9488
316N20050821,AAIW,95,1,1,1,2,20050923,428,-54.7299,-86.9434,5127.2,0.6775,34.7071,2,34.7046,3,210.1,2,209.3,2,134.00,2,32.04,2,0.00,2,2.22,2,0.052,2,0.023,2,0.003,2,0.288,2,2265.3,6,2365.8,2,-999.0,9,-999.00,9,20050923,428,-54.7117,-86.9496
316N20050821,AAIW,96,1,24,24,2,20050923,1152,-54.6055,-85.9514,8.2,5.1354,34.1236,2,34.1270,2,304.0,2,304.5,2,4.51,2,19.44,2,0.22,2,1.40,2,4.643,2,2.560,2,0.442,2,5.901,2,2115.5,2,2268.0,2,-999.0,9,-999.00,9,20050923,1407,-54.6055,-85.9514
316N20050821,AAIW,96,1,23,23,2,20050923,1152,-54.6055,-85.9514,48.2,5.1313,34.1241,2,34.1271,2,304.1,2,304.7,2,4.50,2,19.44,2,0.22,2,1.40,2,4.699,2,2.587,2,0.457,2,6.070,2,2115.3,2,2268.8,2,-999.0,9,-999.00,9,20050923,1405,-54.6052,-85.9512
316N20050821,AAIW,96,1,22,22,2,20050923,1152,-54.6055,-85.9514,98.0,5.1384,34.1246,2,34.1265,2,304.2,2,304.5,2,4.50,2,19.49,2,0.22,2,1.40,2,4.695,2,2.596,2,0.458,2,6.065,2,-999.0,9,2269.4,2,-999.0,9,-999.00,9,20050923,1402,-54.6050,-85.9509
316N20050821,AAIW,96,1,21,21,2,20050923,1152,-54.6055,-85.9514,137.5,5.1431,34.1251,2,34.1271,2,304.1,2,305.5,2,4.29,2,19.48,2,0.22,2,1.40,2,4.706,2,2.606,2,0.461,2,6.007,2,2115.3,2,2270.2,2,-999.0,9,-999.00,9,20050923,1400,-54.6048,-85.9505
316N20050821,AAIW,96,1,20,20,2,20050923,1152,-54.6055,-85.9514,181.4,5.1802,34.1452,2,34.1471,2,298.1,2,299.0,2,4.89,2,19.93,2,0.20,2,1.42,2,4.637,2,2.546,2,0.456,2,5.795,2,-999.0,9,2272.4,2,-999.0,9,-999.00,9,20050923,1357,-54.6044,-85.9503
316N20050821,AAIW,96,1,19,19,2,20050923,1152,-54.6055,-85.9514,232.1,5.3351,34.1884,2,34.1906,2,287.4,2,287.8,2,6.29,2,21.24,2,0.04,2,1.50,2,4.477,2,2.516,2,0.426,2,5.197,2,2127.1,2,2272.8,2,-999.0,9,-999.00,9,20050923,1355,-54.6040,-85.9503
316N20050821,AAIW,96,1,18,18,2,20050923,1152,-54.6055,-85.9514,282.1,5.3742,34.2084,2,34.2116,2,281.0,2,282.1,2,7.29,2,22.05,2,0.01,2,1.54,2,4.440,2,2.418,2,0.423,2,4.914,2,2144.1,3,2273.7,2,-999.0,9,-999.00,9,20050923,1352,-54.6036,-85.9501
316N20050821,AAIW,96,1,17,17,2,20050923,1152,-54.6055,-85.9514,331.5,5.2877,34.2043,2,34.2072,2,279.3,2,280.7,2,7.88,2,22.38,2,0.00,2,1.56,2,4.357,2,2.388,2,0.387,2,4.786,2,2133.8,2,2274.8,2,-999.0,9,-999.00,9,20050923,1349,-54.6032,-85.9497
316N20050821,AAIW,96,1,16,16,2,20050923,1152,-54.6055,-85.9514,415.9,5.1673,34.2012,2,34.2037,2,276.2,2,277.7,2,8.68,2,23.01,2,0.00,2,1.59,2,4.277,2,2.300,2,0.371,2,4.653,2,2137.0,2,2275.8,2,-999.0,9,-999.00,9,20050923,1345,-54.6028,-85.9496
316N20050821,AAIW,96,1,15,15,2,20050923,1152,-54.6055,-85.9514,516.1,4.9578,34.1938,2,34.1964,2,268.6,2,270.4,2,10.48,2,24.08,2,0.00,2,1.67,2,4.183,2,2.249,2,0.358,2,4.466,2,2143.2,2,2276.1,2,-999.0,9,-999.00,9,20050923,1342,-54.6024,-85.9494
316N20050821,AAIW,96,1,14,14,2,20050923,1152,-54.6055,-85.9514,615.3,4.7446,34.2023,2,34.2042,2,254.2,2,255.6,2,14.09,2,25.95,2,0.00,2,1.79,2,3.799,2,1.918,2,0.309,2,3.981,2,2154.2,2,2279.2,2,-999.0,9,-999.00,9,20050923,1339,-54.6020,-85.9490
316N20050821,AAIW,96,1,13,13,2,20050923,1152,-54.6055,-85.9514,714.6,4.4746,34.2262,2,34.2276,2,237.9,2,238.4,2,19.52,2,27.99,2,0.00,2,1.93,2,-999.000,5,-999.000,5,-999.000,5,-999.000,5,-999.0,9,2283.7,2,-999.0,9,-999.00,9,20050923,1335,-54.6016,-85.9490
316N20050821,AAIW,96,1,12,12,2,20050923,1152,-54.6055,-85.9514,813.5,4.1756,34.2594,2,34.2593,2,222.1,2,222.4,2,25.95,2,29.69,2,0.00,2,2.04,2,2.421,2,1.275,2,0.201,2,2.854,2,2182.1,2,2289.4,2,-999.0,9,-999.00,9,20050923,1332,-54.6011,-85.9488
316N20050821,AAIW,96,1,11,11,2,20050923,1152,-54.6055,-85.9514,1062.6,3.3524,34.3439,2,34.3472,2,197.5,2,197.4,2,43.88,2,32.62,2,0.00,2,2.26,2,1.343,2,0.678,2,0.084,2,1.837,2,2214.7,6,2305.9,2,-999.0,9,-999.00,9,20050923,1326,-54.6004,-85.9487
316N20050821,AAIW,96,1,10,10,2,20050923,1152,-54.6055,-85.9514,1309.7,2.9074,34.4544,2,34.4535,2,169.2,2,170.0,2,62.70,2,34.52,2,0.00,2,2.41,2,0.470,2,0.234,2,0.014,2,0.862,2,-999.0,9,2324.9,2,-999.0,9,-999.00,9,20050923,1320,-54.5997,-85.9484
316N20050821,AAIW,96,1,9,9,2,20050923,1152,-54.6055,-85.9514,1553.9,2.6152,34.5436,2,34.5456,2,162.6,2,161.7,2,75.90,2,34.67,2,0.00,2,2.41,2,0.285,2,0.127,2,0.003,2,0.475,2,-999.0,9,2339.5,2,-999.0,9,-999.00,9,20050923,1315,-54.5993,-85.9479
316N20050821,AAIW,96,1,8,8,2,20050923,1152,-54.6055,-85.9514,1795.7,2.4237,34.6056,2,34.6061,2,159.9,2,160.5,2,84.85,2,34.31,2,0.00,2,2.38,2,0.138,2,0.068,2,0.003,2,0.251,2,-999.0,9,2349.7,2,-999.0,9,-999.00,9,20050923,1309,-54.5987,-85.9477
316N20050821,AAIW,96,1,7,7,2,20050923,1152,-54.6055,-85.9514,2294.4,2.1226,34.6903,2,34.6900,2,172.3,2,172.0,2,92.18,2,32.69,2,0.00,2,2.26,2,0.100,2,0.044,2,0.003,2,0.115,2,-999.0,9,2355.0,2,-999.0,9,-999.00,9,20050923,1259,-54.5973,-85.9463
316N20050821,AAIW,96,1,6,6,2,20050923,1152,-54.6055,-85.9514,2793.4,1.8155,34.7176,2,34.7175,2,180.7,2,181.0,2,100.57,2,32.00,2,0.00,2,2.22,2,0.058,2,0.027,2,0.003,2,0.072,2,-999.0,9,2361.7,2,-999.0,9,-999.00,9,20050923,1249,-54.5960,-85.9451
316N20050821,AAIW,96,1,5,5,2,20050923,1152,-54.6055,-85.9514,3289.8,1.5165,34.7222,2,34.7220,2,189.0,2,189.3,2,107.94,2,31.85,2,0.00,2,2.20,2,0.036,2,0.014,2,0.003,2,0.048,2,-999.0,9,2363.3,2,-999.0,9,-999.00,9,20050923,1239,-54.5947,-85.9446
316N20050821,AAIW,96,1,4,4,2,20050923,1152,-54.6055,-85.9514,3786.8,1.1465,34.7176,2,34.7161,2,198.4,2,198.7,2,118.00,2,31.90,2,0.00,2,2.21,2,0.041,2,0.020,2,0.003,2,0.055,2,-999.0,9,2362.9,2,-999.0,9,-999.00,9,20050923,1229,-54.5934,-85.9441
316N20050821,AAIW,96,1,3,3,2,20050923,1152,-54.6055,-85.9514,4288.5,0.7884,34.7104,2,34.7090,2,205.5,2,205.4,2,129.32,2,32.23,2,0.00,2,2.23,2,0.023,6,0.015,6,0.003,6,0.074,6,-999.0,9,2366.7,2,-999.0,9,-999.00,9,20050923,1218,-54.5919,-85.9433
316N20050821,AAIW,96,1,2,2,2,20050923,1152,-54.6055,-85.9514,4790.9,0.6712,34.7076,2,34.7060,2,208.3,2,208.7,2,134.28,2,32.33,2,0.00,2,2.23,2,0.032,2,0.014,2,0.003,2,0.174,2,-999.0,9,2365.5,2,-999.0,9,-999.00,9,20050923,1207,-54.5907,-85.9419
316N20050821,AAIW,96,1,1,1,2,20050923,1152,-54.6055,-85.9514,5400.7,0.7200,34.7070,2,34.7066,2,210.6,2,209.2,2,135.52,2,32.22,2,0.00,2,2.24,2,0.054,2,0.021,2,0.003,2,0.214,2,-999.0,9,2366.2,2,-999.0,9,-999.00,9,20050923,1152,-54.5891,-85.9401