BOTTLE,20220819CCHSIOAMB
EXPOCODE,SECT_ID,STNNBR,CASTNO,SAMPNO,BTLNBR,BTLNBR_FLAG_W,DATE,TIME,LATITUDE,LONGITUDE,CTDPRS,CTDTMP,CTDSAL,CTDSAL_FLAG_W,SALNTY,SALNTY_FLAG_W,CTDOXY,CTDOXY_FLAG_W,OXYGEN,OXYGEN_FLAG_W,SILCAT,SILCAT_FLAG_W,NITRAT,NITRAT_FLAG_W,NITRIT,NITRIT_FLAG_W,PHSPHT,PHSPHT_FLAG_W,CFC-11,CFC-11_FLAG_W,CFC-12,CFC-12_FLAG_W,CFC113,CFC113_FLAG_W,CCL4,CCL4_FLAG_W,TCARBN,TCARBN_FLAG_W,ALKALI,ALKALI_FLAG_W,PCO2,PCO2_FLAG_W,PH_SWS,PH_SWS_FLAG_W,BTL_DATE,BTL_TIME,BTL_LAT,BTL_LON
,,,,,,,,,,,DBAR,ITS-90,PSS-78,,PSS-78,,UMOL/KG,,UMOL/KG,,UMOL/KG,,UMOL/KG,,UMOL/KG,,UMOL/KG,,PMOL/KG,,PMOL/KG,,PMOL/KG,,PMOL/KG,,UMOL/KG,,UMOL/KG,,UATM,,,,,,,
316N20050821,AAIW,131,1,24,24,2,20051004,2333,-45.3242,-75.9721,4.7,10.4072,32.9943,2,32.9948,3,347.4,2,351.2,2,0.00,2,0.30,2,0.06,2,0.39,2,3.719,2,2.156,2,0.348,2,4.506,2,1931.7,6,2209.8,2,-999.0,9,-999.00,9,20051005,102,-45.3242,-75.9721
316N20050821,AAIW,131,1,23,30,2,20051004,2333,-45.3242,-75.9721,36.0,9.8314,33.5480,2,33.5382,3,259.3,2,252.1,2,1.57,2,10.27,2,0.38,2,1.14,2,3.623,2,2.087,2,0.331,2,3.931,2,2062.4,2,2231.5,2,-999.0,9,-999.00,9,20051005,100,-45.3241,-75.9722
316N20050821,AAIW,131,1,22,22,2,20051004,2333,-45.3242,-75.9721,55.5,9.5841,33.6583,2,33.6578,2,254.5,2,255.7,2,1.74,2,12.23,2,0.33,2,1.16,2,3.702,2,2.143,2,0.339,2,4.069,2,2067.7,2,2235.7,2,-999.0,9,-999.00,9,20051005,59,-45.3240,-75.9723
316N20050821,AAIW,131,1,21,29,2,20051004,2333,-45.3242,-75.9721,84.1,8.9544,33.7967,2,33.7797,3,255.0,2,256.6,2,1.54,2,14.43,2,0.24,2,1.26,2,3.826,2,2.182,2,0.344,2,3.858,2,2083.3,2,2243.0,2,-999.0,9,-999.00,9,20051005,57,-45.3239,-75.9723
316N20050821,AAIW,131,1,20,20,2,20051004,2333,-45.3242,-75.9721,124.9,8.9792,34.1362,2,34.1346,2,162.8,2,158.2,2,8.58,2,23.90,2,0.00,2,2.00,2,3.260,2,1.811,2,0.237,2,1.675,2,2171.1,2,2259.1,2,-999.0,9,-999.00,9,20051005,55,-45.3238,-75.9724
316N20050821,AAIW,131,1,19,28,2,20051004,2333,-45.3242,-75.9721,174.8,8.6705,34.2980,2,34.2978,2,112.0,2,109.5,2,13.08,2,28.09,2,0.00,2,2.37,2,2.769,2,1.502,2,0.182,2,1.323,2,2214.0,2,2267.7,2,-999.0,9,-999.00,9,20051005,53,-45.3237,-75.9725
316N20050821,AAIW,131,1,18,18,2,20051004,2333,-45.3242,-75.9721,254.5,7.0764,34.2471,2,34.2983,3,161.4,2,163.8,2,10.11,2,28.58,2,0.00,2,2.16,2,3.365,2,1.783,2,0.256,2,2.491,2,2189.6,2,2266.7,2,-999.0,9,-999.00,9,20051005,50,-45.3235,-75.9726
316N20050821,AAIW,131,1,17,17,2,20051004,2333,-45.3242,-75.9721,323.4,6.3026,34.2539,2,34.2546,2,191.7,2,191.3,2,9.70,2,28.31,2,0.00,2,2.03,2,3.649,2,1.890,2,0.269,2,2.981,2,2179.2,2,2270.3,2,-999.0,9,-999.00,9,20051005,48,-45.3233,-75.9728
316N20050821,AAIW,131,1,16,16,2,20051004,2333,-45.3242,-75.9721,422.8,5.6493,34.2377,2,34.2379,2,238.2,2,238.9,2,8.71,2,25.55,2,0.00,2,1.82,2,4.066,2,2.091,2,0.307,2,3.771,2,2155.2,2,2272.5,2,-999.0,9,-999.00,9,20051005,45,-45.3232,-75.9731
316N20050821,AAIW,131,1,15,15,2,20051004,2333,-45.3242,-75.9721,521.7,5.2739,34.2259,2,34.2254,2,250.3,2,250.6,2,9.48,2,25.41,2,0.00,2,1.80,2,4.018,2,2.088,2,0.295,2,3.912,2,2151.2,2,2274.6,2,-999.0,9,-999.00,9,20051005,42,-45.3230,-75.9734
316N20050821,AAIW,131,1,14,14,2,20051004,2333,-45.3242,-75.9721,620.6,4.9372,34.2253,2,34.2258,2,245.7,2,245.0,2,12.60,2,26.56,2,0.00,2,1.88,2,3.575,2,1.843,2,0.250,2,3.730,2,2158.2,2,2277.8,2,-999.0,9,-999.00,9,20051005,39,-45.3227,-75.9737
316N20050821,AAIW,131,1,13,13,2,20051004,2333,-45.3242,-75.9721,720.1,4.5843,34.2425,2,34.2428,2,229.7,2,228.8,2,18.47,2,28.67,2,0.00,2,2.04,2,2.783,2,1.399,2,0.190,2,3.132,2,2174.1,2,2282.9,2,-999.0,9,-999.00,9,20051005,36,-45.3225,-75.9740
316N20050821,AAIW,131,1,12,12,2,20051004,2333,-45.3242,-75.9721,818.4,4.1000,34.2828,2,34.2821,2,209.7,2,207.5,2,28.66,2,31.36,2,0.00,2,2.24,2,1.796,2,0.892,2,0.108,2,2.421,2,2196.2,2,2290.9,2,-999.0,9,-999.00,9,20051005,33,-45.3223,-75.9744
316N20050821,AAIW,131,1,11,11,2,20051004,2333,-45.3242,-75.9721,918.0,3.7120,34.3340,2,34.3331,2,186.7,2,186.5,2,39.65,2,33.44,2,0.00,2,2.38,2,1.009,2,0.514,2,0.057,2,1.628,2,2217.0,2,2302.9,2,-999.0,9,-999.00,9,20051005,29,-45.3221,-75.9747
316N20050821,AAIW,131,1,10,10,2,20051004,2333,-45.3242,-75.9721,1018.8,3.4172,34.3843,2,34.3833,2,168.8,2,169.1,2,50.66,2,35.14,2,0.00,2,2.49,2,0.551,2,0.277,2,0.032,2,1.054,2,2236.7,2,2313.6,2,-999.0,9,-999.00,9,20051005,26,-45.3218,-75.9749
316N20050821,AAIW,131,1,9,9,2,20051004,2333,-45.3242,-75.9721,1170.2,3.1560,34.4520,2,34.4504,2,145.5,2,147.1,2,65.65,2,37.00,2,0.00,2,2.64,2,0.197,2,0.099,2,0.012,2,0.482,2,2261.5,2,2329.2,2,-999.0,9,-999.00,9,20051005,22,-45.3214,-75.9749
316N20050821,AAIW,131,1,8,8,2,20051004,2333,-45.3242,-75.9721,1368.8,2.8778,34.5208,2,34.5209,2,131.3,2,133.6,2,80.90,2,37.73,2,0.00,2,2.70,2,0.052,2,0.029,2,0.006,2,0.184,2,2282.0,2,2346.3,2,-999.0,9,-999.00,9,20051005,17,-45.3210,-75.9749
316N20050821,AAIW,131,1,7,7,2,20051004,2333,-45.3242,-75.9721,1517.9,2.6858,34.5626,2,34.5618,2,128.5,2,129.6,2,90.80,2,37.88,2,0.00,2,2.72,2,0.016,2,0.003,2,0.001,2,0.061,2,2293.2,2,2359.1,2,-999.0,9,-999.00,9,20051005,11,-45.3207,-75.9752
316N20050821,AAIW,131,1,6,6,2,20051004,2333,-45.3242,-75.9721,1820.5,2.3486,34.6147,2,34.6140,2,133.2,2,134.2,2,104.53,2,37.27,2,0.00,2,2.68,2,0.001,2,0.001,2,0.001,2,0.012,2,2304.0,2,2374.6,2,-999.0,9,-999.00,9,20051005,5,-45.3199,-75.9751
316N20050821,AAIW,131,1,5,27,2,20051004,2333,-45.3242,-75.9721,2123.2,2.0545,34.6494,2,34.6478,3,140.6,2,140.9,2,115.29,2,36.59,2,0.00,2,2.63,2,-0.002,2,-0.002,2,0.000,2,-0.008,2,2310.0,2,2387.8,2,-999.0,9,-999.00,9,20051004,2358,-45.3192,-75.9750
316N20050821,AAIW,131,1,4,4,2,20051004,2333,-45.3242,-75.9721,2424.6,1.8849,34.6681,2,34.6675,2,146.2,2,146.5,2,121.46,2,36.26,2,0.00,2,2.60,2,-0.002,2,-0.003,2,0.000,2,-0.006,2,2312.8,2,2396.1,2,-999.0,9,-999.00,9,20051004,2352,-45.3190,-75.9757
316N20050821,AAIW,131,1,3,26,2,20051004,2333,-45.3242,-75.9721,2727.3,1.8395,34.6745,2,34.6739,2,148.1,2,148.4,2,123.82,2,36.07,2,0.00,2,2.60,2,-0.003,2,0.000,2,0.000,2,-0.006,2,2314.5,2,2399.1,2,-999.0,9,-999.00,9,20051004,2346,-45.3188,-75.9762
316N20050821,AAIW,131,1,2,2,2,20051004,2333,-45.3242,-75.9721,3030.9,1.7965,34.6805,2,34.6795,2,150.0,2,149.7,2,125.98,2,36.03,2,0.00,2,2.59,2,-0.001,2,0.002,2,0.001,2,-0.006,2,2315.8,2,2401.0,2,-999.0,9,-999.00,9,20051004,2339,-45.3186,-75.9768
316N20050821,AAIW,131,1,1,25,2,20051004,2333,-45.3242,-75.9721,3335.9,1.7595,34.6854,2,34.6859,2,153.5,2,151.3,2,126.75,2,35.60,2,0.00,2,2.57,2,-0.003,2,0.001,2,0.002,2,0.001,2,2316.7,6,2405.3,2,-999.0,9,-999.00,9,20051004,2333,-45.3183,-75.9775
316N20050821,AAIW,132,1,24,24,2,20051005,250,-45.3182,-75.8284,5.5,10.1859,33.1268,2,33.0523,3,343.3,2,341.5,2,0.00,2,0.72,2,0.06,2,0.39,2,3.714,2,2.134,2,0.344,2,4.437,2,1948.8,2,2213.2,2,-999.0,9,-999.00,9,20051005,351,-45.3182,-75.8284
316N20050821,AAIW,132,1,23,30,2,20051005,250,-45.3182,-75.8284,44.6,9.6046,33.6390,2,33.6377,2,248.8,2,247.0,2,2.46,2,12.70,2,0.28,2,1.21,2,3.607,2,2.084,2,0.326,2,3.785,2,2073.9,2,2235.3,2,-999.0,9,-999.00,9,20051005,349,-45.3182,-75.8283
316N20050821,AAIW,132,1,22,22,2,20051005,250,-45.3182,-75.8284,95.0,8.5332,33.8538,2,-999.0000,9,-999.0,9,-999.0,9,-999.00,9,-999.00,9,-999.00,9,-999.00,9,-999.000,9,-999.000,9,-999.000,9,-999.000,9,-999.0,9,-999.0,9,-999.0,9,-999.00,9,20051005,346,-45.3183,-75.8284
316N20050821,AAIW,132,1,21,29,2,20051005,250,-45.3182,-75.8284,95.5,8.5333,33.8523,2,33.8558,2,253.4,2,256.7,2,2.06,2,15.94,2,0.01,2,1.30,2,3.878,2,2.215,2,0.340,2,3.915,2,2092.8,2,2247.1,2,-999.0,9,-999.00,9,20051005,346,-45.3183,-75.8284
316N20050821,AAIW,132,1,20,20,2,20051005,250,-45.3182,-75.8284,124.5,8.2677,33.9131,2,33.9083,2,241.1,2,249.2,2,2.64,2,17.49,2,0.01,2,1.40,2,3.893,2,2.212,2,0.337,2,3.663,2,2104.8,2,2250.4,2,-999.0,9,-999.00,9,20051005,344,-45.3182,-75.8284
316N20050821,AAIW,132,1,19,28,2,20051005,250,-45.3182,-75.8284,154.7,8.8063,34.2014,2,34.2026,2,138.4,2,138.1,2,10.96,2,25.71,2,0.00,2,2.13,2,3.088,2,1.716,2,0.221,2,1.571,2,2190.9,2,2262.8,2,-999.0,9,-999.00,9,20051005,343,-45.3182,-75.8285
316N20050821,AAIW,132,1,17,17,2,20051005,250,-45.3182,-75.8284,224.2,7.7186,34.2659,2,34.2666,2,141.7,2,137.8,2,11.73,2,28.87,2,0.01,2,2.20,2,3.086,2,1.641,2,0.220,2,1.940,2,2202.3,2,2268.6,2,-999.0,9,-999.00,9,20051005,340,-45.3181,-75.8287
316N20050821,AAIW,132,1,18,18,2,20051005,250,-45.3182,-75.8284,224.3,7.7251,34.2660,2,-999.0000,9,-999.0,9,-999.0,9,-999.00,9,-999.00,9,-999.00,9,-999.00,9,-999.000,9,-999.000,9,-999.000,9,-999.000,9,-999.0,9,-999.0,9,-999.0,9,-999.00,9,20051005,340,-45.3181,-75.8287
316N20050821,AAIW,132,1,16,16,2,20051005,250,-45.3182,-75.8284,314.6,6.6582,34.2647,2,34.2632,2,177.7,2,172.1,2,11.15,2,29.06,2,0.00,2,2.09,2,3.392,2,1.774,2,0.246,2,2.624,2,2190.0,2,2270.5,2,-999.0,9,-999.00,9,20051005,337,-45.3181,-75.8288
316N20050821,AAIW,132,1,15,15,2,20051005,250,-45.3182,-75.8284,402.9,5.9075,34.2480,2,34.2479,2,222.0,2,216.7,2,10.18,2,26.92,2,0.00,2,1.93,2,3.839,2,1.972,2,0.273,2,3.426,2,2169.0,2,2273.4,2,-999.0,9,-999.00,9,20051005,334,-45.3181,-75.8289
316N20050821,AAIW,132,1,14,14,2,20051005,250,-45.3182,-75.8284,503.4,5.3213,34.2342,2,34.2346,2,244.8,2,241.5,2,11.15,2,26.11,2,0.00,2,1.83,2,3.863,2,1.988,2,0.284,2,3.711,2,2160.4,2,2274.9,2,-999.0,9,-999.00,9,20051005,331,-45.3179,-75.8292
316N20050821,AAIW,132,1,13,13,2,20051005,250,-45.3182,-75.8284,602.8,4.8381,34.2312,2,-999.0000,9,-999.0,9,-999.0,9,-999.00,9,-999.00,9,-999.00,9,-999.00,9,-999.000,9,-999.000,9,-999.000,9,-999.000,9,-999.0,9,-999.0,9,-999.0,9,-999.00,9,20051005,328,-45.3179,-75.8293
316N20050821,AAIW,132,1,12,12,2,20051005,250,-45.3182,-75.8284,603.9,4.8365,34.2312,2,34.2328,2,241.8,2,238.9,2,15.02,2,27.41,2,0.00,2,1.91,2,3.320,2,1.679,2,0.224,2,3.602,2,2165.7,2,2280.0,2,-999.0,9,-999.00,9,20051005,328,-45.3179,-75.8293
316N20050821,AAIW,132,1,11,11,2,20051005,250,-45.3182,-75.8284,702.0,4.5283,34.2502,2,34.2505,2,224.4,2,223.8,2,20.24,2,29.28,2,0.00,2,2.04,2,2.558,2,1.277,2,0.167,2,2.974,2,-999.0,9,2284.4,2,-999.0,9,-999.00,9,20051005,324,-45.3179,-75.8294
316N20050821,AAIW,132,1,10,10,2,20051005,250,-45.3182,-75.8284,801.6,4.0488,34.2906,2,34.2905,2,203.5,2,203.6,2,30.52,2,31.79,2,0.00,2,2.22,2,1.606,2,0.795,2,0.098,2,2.208,2,2206.6,2,2293.6,2,-999.0,9,-999.00,9,20051005,321,-45.3178,-75.8295
316N20050821,AAIW,132,1,9,9,2,20051005,250,-45.3182,-75.8284,903.5,3.6571,34.3413,2,34.3411,2,182.2,2,183.4,2,41.79,2,33.92,2,0.00,2,2.36,2,0.921,2,0.458,2,0.053,2,1.507,2,-999.0,9,2304.7,2,-999.0,9,-999.00,9,20051005,318,-45.3178,-75.8298
316N20050821,AAIW,132,1,8,8,2,20051005,250,-45.3182,-75.8284,1002.6,3.4377,34.3815,2,34.3798,2,167.5,2,169.6,2,49.77,2,35.13,2,0.00,2,2.45,2,0.589,2,0.278,2,0.029,2,1.047,2,2237.0,2,2312.5,2,-999.0,9,-999.00,9,20051005,315,-45.3177,-75.8299
316N20050821,AAIW,132,1,7,7,2,20051005,250,-45.3182,-75.8284,1122.7,3.1738,34.4494,2,34.4491,2,144.9,2,146.5,2,64.21,2,36.94,2,0.00,2,2.60,2,0.195,2,0.097,2,0.016,2,0.461,2,-999.0,9,2328.8,2,-999.0,9,-999.00,9,20051005,311,-45.3176,-75.8302
316N20050821,AAIW,132,1,6,6,2,20051005,250,-45.3182,-75.8284,1272.0,2.9983,34.5089,2,-999.0000,9,-999.0,9,-999.0,9,-999.00,9,-999.00,9,-999.00,9,-999.00,9,-999.000,9,-999.000,9,-999.000,9,-999.000,9,-999.0,9,-999.0,9,-999.0,9,-999.00,9,20051005,307,-45.3176,-75.8303
316N20050821,AAIW,132,1,5,27,2,20051005,250,-45.3182,-75.8284,1272.4,2.9962,34.5094,2,34.5107,2,128.1,2,129.2,2,77.92,2,38.17,2,0.00,2,2.70,2,0.047,2,0.026,2,0.003,2,0.156,2,2289.5,2,2345.0,2,-999.0,9,-999.00,9,20051005,307,-45.3176,-75.8303
316N20050821,AAIW,132,1,4,4,2,20051005,250,-45.3182,-75.8284,1422.6,2.7912,34.5514,2,34.5516,2,124.0,2,124.6,2,88.32,2,38.22,2,0.00,2,2.72,2,0.009,2,0.008,2,0.003,2,0.059,2,2295.3,2,2357.3,2,-999.0,9,-999.00,9,20051005,303,-45.3176,-75.8303
316N20050821,AAIW,132,1,3,26,2,20051005,250,-45.3182,-75.8284,1623.4,2.5755,34.5861,2,34.5855,2,125.8,2,126.0,2,97.39,2,38.08,2,0.00,2,2.70,2,0.000,2,0.003,2,0.003,2,0.031,2,2303.3,2,2367.6,2,-999.0,9,-999.00,9,20051005,259,-45.3176,-75.8303
316N20050821,AAIW,132,1,2,2,2,20051005,250,-45.3182,-75.8284,1824.0,2.3467,34.6150,2,34.6136,2,132.4,2,131.8,2,104.48,2,37.50,2,0.00,2,2.64,2,-0.001,2,0.001,2,0.002,2,0.013,2,2307.3,2,2377.4,2,-999.0,9,-999.00,9,20051005,254,-45.3177,-75.8302
316N20050821,AAIW,132,1,1,25,2,20051005,250,-45.3182,-75.8284,2013.4,2.1715,34.6357,2,34.6352,2,138.2,2,136.7,2,111.21,2,37.07,2,0.00,2,2.60,2,0.004,2,0.007,2,0.008,2,0.035,2,2309.7,6,2384.0,2,-999.0,9,-999.00,9,20051005,250,-45.3177,-75.8300
316N20050821,AAIW,133,1,18,18,2,20051005,528,-45.3207,-75.6194,5.5,10.0571,32.8670,2,32.8670,2,327.3,2,327.9,2,0.55,2,1.73,2,0.09,2,0.55,2,3.712,2,2.164,2,0.345,2,4.487,2,1958.2,2,2201.7,2,-999.0,9,-999.00,9,20051005,607,-45.3207,-75.6194
316N20050821,AAIW,133,1,17,17,2,20051005,528,-45.3207,-75.6194,25.3,9.9537,33.1710,2,33.1719,2,294.7,2,288.6,2,1.02,2,3.13,2,0.13,2,0.67,2,3.715,2,2.164,2,0.345,2,4.397,2,2002.3,2,2219.2,2,-999.0,9,-999.00,9,20051005,605,-45.3206,-75.6194
316N20050821,AAIW,133,1,16,16,2,20051005,528,-45.3207,-75.6194,55.1,9.7266,33.4461,2,33.4453,2,279.6,2,288.7,2,1.50,2,7.71,2,0.27,2,0.93,2,3.712,2,2.172,2,0.341,2,4.408,2,2037.3,2,2228.8,2,-999.0,9,-999.00,9,20051005,603,-45.3205,-75.6195
316N20050821,AAIW,133,1,15,15,2,20051005,528,-45.3207,-75.6194,84.4,9.5288,33.6273,2,33.6271,2,263.6,2,257.9,2,2.54,2,12.51,2,0.12,2,1.15,2,3.699,2,2.156,2,0.338,2,3.994,2,2064.8,2,2234.6,2,-999.0,9,-999.00,9,20051005,601,-45.3205,-75.6196
316N20050821,AAIW,133,1,14,14,2,20051005,528,-45.3207,-75.6194,124.6,9.1654,33.8515,2,33.8515,2,241.0,2,237.0,2,4.37,2,16.44,2,0.00,2,1.38,2,3.648,2,2.083,2,0.317,2,3.103,2,2097.4,2,2247.7,2,-999.0,9,-999.00,9,20051005,558,-45.3203,-75.6199
316N20050821,AAIW,133,1,13,13,2,20051005,528,-45.3207,-75.6194,163.7,8.9964,34.1495,2,34.1458,2,154.0,2,153.8,2,10.84,2,24.35,2,0.00,2,2.03,2,3.153,2,1.784,2,0.238,2,1.575,2,2173.2,2,2260.5,2,-999.0,9,-999.00,9,20051005,556,-45.3203,-75.6198
316N20050821,AAIW,133,1,12,12,2,20051005,528,-45.3207,-75.6194,204.6,8.4005,34.2649,2,34.2646,2,123.6,2,124.5,2,13.83,2,28.02,2,0.01,2,2.29,2,2.912,2,1.595,2,0.206,2,1.546,2,2200.9,2,2266.5,2,-999.0,9,-999.00,9,20051005,555,-45.3202,-75.6198
316N20050821,AAIW,133,1,11,11,2,20051005,528,-45.3207,-75.6194,244.7,7.6339,34.2812,2,34.2862,2,137.0,2,131.1,2,14.30,2,29.81,2,0.00,2,2.30,2,2.952,2,1.571,2,0.209,2,1.851,2,2208.7,2,2269.3,2,-999.0,9,-999.00,9,20051005,553,-45.3203,-75.6197
316N20050821,AAIW,133,1,10,10,2,20051005,528,-45.3207,-75.6194,294.5,6.8694,34.2726,2,34.2740,2,158.4,2,159.4,2,13.62,2,29.67,2,0.00,2,2.20,2,3.254,2,1.694,2,0.233,2,2.425,2,-999.0,9,2271.2,2,-999.0,9,-999.00,9,20051005,551,-45.3203,-75.6196
316N20050821,AAIW,133,1,9,9,2,20051005,528,-45.3207,-75.6194,364.4,6.2438,34.2682,2,34.2687,2,188.5,2,187.3,2,14.29,2,28.66,2,0.00,2,2.10,2,3.414,2,1.777,2,0.245,2,2.796,2,2184.0,2,2273.7,2,-999.0,9,-999.00,9,20051005,548,-45.3203,-75.6195
316N20050821,AAIW,133,1,8,8,2,20051005,528,-45.3207,-75.6194,424.0,5.5963,34.2405,2,34.2399,2,237.5,2,234.4,2,12.06,2,26.27,2,0.00,2,1.87,2,3.923,2,2.024,2,0.293,2,3.677,2,2156.2,2,2274.4,2,-999.0,9,-999.00,9,20051005,546,-45.3202,-75.6195
316N20050821,AAIW,133,1,7,7,2,20051005,528,-45.3207,-75.6194,484.1,5.2128,34.2276,2,34.2305,2,253.5,2,248.3,2,12.73,2,25.85,2,0.00,2,1.85,2,3.895,2,2.006,2,0.295,2,3.894,2,2152.3,2,2275.9,2,-999.0,9,-999.00,9,20051005,544,-45.3201,-75.6194
316N20050821,AAIW,133,1,6,6,2,20051005,528,-45.3207,-75.6194,544.8,5.0005,34.2293,2,34.2305,2,245.2,2,242.6,2,15.13,2,26.86,2,0.00,2,1.90,2,3.594,2,1.821,2,0.251,2,3.736,2,2158.0,6,2276.0,2,-999.0,9,-999.00,9,20051005,542,-45.3201,-75.6193
316N20050821,AAIW,133,1,5,27,2,20051005,528,-45.3207,-75.6194,609.0,4.7779,34.2366,2,34.2371,2,235.8,2,235.2,2,18.32,2,27.97,2,0.00,2,1.98,2,3.185,2,1.608,2,0.222,2,3.458,2,-999.0,9,2280.6,2,-999.0,9,-999.00,9,20051005,539,-45.3201,-75.6192
316N20050821,AAIW,133,1,4,4,2,20051005,528,-45.3207,-75.6194,708.9,4.4131,34.2611,2,34.2615,2,219.6,2,218.2,2,25.59,2,30.23,2,0.00,2,2.12,2,2.358,2,1.174,2,0.155,2,2.809,2,-999.0,9,2287.8,2,-999.0,9,-999.00,9,20051005,536,-45.3199,-75.6193
316N20050821,AAIW,133,1,3,26,2,20051005,528,-45.3207,-75.6194,807.8,4.0520,34.2963,2,34.2978,2,201.8,2,200.8,2,34.02,2,32.16,2,0.00,2,2.27,2,1.566,2,0.781,2,0.098,2,2.103,2,-999.0,9,2294.9,2,-999.0,9,-999.00,9,20051005,533,-45.3198,-75.6193
316N20050821,AAIW,133,1,2,2,2,20051005,528,-45.3207,-75.6194,908.3,3.7109,34.3348,2,34.3360,2,185.9,2,186.2,2,42.86,2,33.72,2,0.00,2,2.36,2,0.997,2,0.500,2,0.055,2,1.531,2,-999.0,9,2302.9,2,-999.0,9,-999.00,9,20051005,530,-45.3197,-75.6193
316N20050821,AAIW,133,1,1,25,2,20051005,528,-45.3207,-75.6194,1007.7,3.4343,34.3958,2,34.3965,2,162.2,2,161.9,2,56.02,2,35.86,2,0.00,2,2.53,2,0.481,2,0.245,2,0.030,2,0.933,2,-999.0,9,2317.9,2,-999.0,9,-999.00,9,20051005,528,-45.3196,-75.6193
316N20050821,AAIW,134,1,12,12,2,20051005,714,-45.3197,-75.5434,5.6,10.1726,32.9087,2,32.9114,2,335.2,2,337.0,2,0.00,2,0.46,2,0.14,2,0.43,2,3.728,2,2.162,2,0.339,2,4.626,2,1946.9,2,2205.2,2,-999.0,9,-999.00,9,20051005,735,-45.3197,-75.5434
316N20050821,AAIW,134,1,11,11,2,20051005,714,-45.3197,-75.5434,35.4,9.8862,33.0252,2,33.0229,2,293.0,2,290.7,2,0.19,2,3.96,2,0.29,2,0.74,2,3.702,2,2.150,2,0.346,2,4.507,2,2001.0,2,2208.7,2,-999.0,9,-999.00,9,20051005,733,-45.3196,-75.5435
316N20050821,AAIW,134,1,10,10,2,20051005,714,-45.3197,-75.5434,65.3,9.6639,33.4836,2,33.4825,2,269.9,2,267.7,2,1.15,2,9.79,2,0.54,2,1.07,2,3.747,2,2.194,2,0.351,2,4.440,2,2048.6,2,2227.3,2,-999.0,9,-999.00,9,20051005,732,-45.3195,-75.5437
316N20050821,AAIW,134,1,9,9,2,20051005,714,-45.3197,-75.5434,95.0,9.5449,33.6460,2,33.6367,3,263.7,2,263.0,2,1.15,2,11.24,2,0.35,2,1.09,2,3.750,2,2.186,2,0.354,2,4.256,2,2058.8,2,2234.6,2,-999.0,9,-999.00,9,20051005,730,-45.3195,-75.5439
316N20050821,AAIW,134,1,8,8,2,20051005,714,-45.3197,-75.5434,133.9,8.9051,33.8400,2,33.8392,2,247.7,2,245.8,2,2.51,2,15.44,2,0.02,2,1.31,2,3.795,2,2.187,2,0.334,2,3.581,2,2092.1,2,2246.2,2,-999.0,9,-999.00,9,20051005,728,-45.3195,-75.5440
316N20050821,AAIW,134,1,7,7,2,20051005,714,-45.3197,-75.5434,174.3,8.1507,33.9254,2,33.9218,2,253.0,2,252.5,2,2.71,2,16.63,2,0.02,2,1.37,2,3.934,2,2.202,2,0.343,2,4.004,2,-999.0,9,2251.3,2,-999.0,9,-999.00,9,20051005,726,-45.3195,-75.5440
316N20050821,AAIW,134,1,6,6,2,20051005,714,-45.3197,-75.5434,214.0,7.8970,34.1431,2,34.1279,3,186.9,2,187.7,2,7.54,2,23.13,2,0.00,2,1.84,2,3.559,2,1.972,2,0.291,2,2.501,2,2159.9,2,2260.9,2,-999.0,9,-999.00,9,20051005,724,-45.3196,-75.5439
316N20050821,AAIW,134,1,5,27,2,20051005,714,-45.3197,-75.5434,263.7,7.3150,34.2734,2,34.2725,2,147.4,2,146.5,2,11.80,2,28.03,2,0.00,2,2.17,2,3.155,2,1.684,2,0.229,2,2.197,2,-999.0,9,2268.2,2,-999.0,9,-999.00,9,20051005,722,-45.3197,-75.5436
316N20050821,AAIW,134,1,4,4,2,20051005,714,-45.3197,-75.5434,328.9,6.0995,34.2527,2,34.2528,2,205.1,2,205.2,2,10.45,2,26.29,2,0.00,2,1.93,2,3.692,2,1.957,2,0.275,2,3.157,2,-999.0,9,2271.6,2,-999.0,9,-999.00,9,20051005,720,-45.3197,-75.5433
316N20050821,AAIW,134,1,3,26,2,20051005,714,-45.3197,-75.5434,379.1,5.8408,34.2459,2,34.2479,2,228.5,2,222.0,2,10.07,2,25.41,2,0.00,2,1.86,2,3.861,2,2.026,2,0.287,2,3.437,2,2163.8,2,2272.3,2,-999.0,9,-999.00,9,20051005,718,-45.3198,-75.5432
316N20050821,AAIW,134,1,2,2,2,20051005,714,-45.3197,-75.5434,427.8,5.5135,34.2370,2,34.2385,2,245.2,2,239.1,2,10.08,2,24.58,2,0.00,2,1.80,2,3.947,2,2.059,2,0.288,2,3.729,2,-999.0,9,2274.5,2,-999.0,9,-999.00,9,20051005,716,-45.3197,-75.5432
316N20050821,AAIW,134,1,1,25,2,20051005,714,-45.3197,-75.5434,479.0,5.3714,34.2338,2,34.2354,2,247.6,2,241.7,2,10.65,2,24.57,2,0.00,2,1.79,2,3.907,2,2.037,2,0.286,2,3.826,2,2155.2,6,2274.8,2,-999.0,9,-999.00,9,20051005,714,-45.3197,-75.5432