BOTTLE,20220819CCHSIOAMB
EXPOCODE,SECT_ID,STNNBR,CASTNO,SAMPNO,BTLNBR,BTLNBR_FLAG_W,DATE,TIME,LATITUDE,LONGITUDE,CTDPRS,CTDTMP,CTDSAL,CTDSAL_FLAG_W,SALNTY,SALNTY_FLAG_W,CTDOXY,CTDOXY_FLAG_W,OXYGEN,OXYGEN_FLAG_W,SILCAT,SILCAT_FLAG_W,NITRAT,NITRAT_FLAG_W,NITRIT,NITRIT_FLAG_W,PHSPHT,PHSPHT_FLAG_W,CFC-11,CFC-11_FLAG_W,CFC-12,CFC-12_FLAG_W,CFC113,CFC113_FLAG_W,CCL4,CCL4_FLAG_W,TCARBN,TCARBN_FLAG_W,ALKALI,ALKALI_FLAG_W,PCO2,PCO2_FLAG_W,PH_SWS,PH_SWS_FLAG_W,BTL_DATE,BTL_TIME,BTL_LAT,BTL_LON
,,,,,,,,,,,DBAR,ITS-90,PSS-78,,PSS-78,,UMOL/KG,,UMOL/KG,,UMOL/KG,,UMOL/KG,,UMOL/KG,,UMOL/KG,,PMOL/KG,,PMOL/KG,,PMOL/KG,,PMOL/KG,,UMOL/KG,,UMOL/KG,,UATM,,,,,,,
316N20050821,AAIW,61,1,24,24,2,20050910,1005,-53.5250,-89.0190,7.3,5.1850,34.1713,2,34.1713,2,302.3,2,301.7,2,4.72,2,20.26,2,0.11,2,1.43,2,4.635,2,2.598,2,0.428,2,6.078,2,2120.1,6,2272.8,2,-999.0,9,-999.00,1,20050910,1205,-53.5250,-89.0190
316N20050821,AAIW,61,1,23,23,2,20050910,1005,-53.5250,-89.0190,37.2,5.1842,34.1713,2,34.1721,2,302.3,2,301.6,2,4.70,2,20.21,2,0.11,2,1.43,2,4.563,2,2.589,2,0.452,2,5.995,2,2123.2,2,2273.7,2,-999.0,9,-999.00,1,20050910,1203,-53.5246,-89.0186
316N20050821,AAIW,61,1,22,22,2,20050910,1005,-53.5250,-89.0190,76.8,5.1795,34.1722,2,34.1749,2,301.4,2,300.7,2,4.68,2,20.21,2,0.11,2,1.43,2,4.558,2,2.596,2,0.451,2,6.310,2,2122.4,2,2272.4,2,-999.0,9,-999.00,1,20050910,1200,-53.5243,-89.0182
316N20050821,AAIW,61,1,21,21,2,20050910,1005,-53.5250,-89.0190,116.8,5.1803,34.1726,2,34.1731,2,300.9,2,300.4,2,4.67,2,20.21,2,0.11,2,1.43,2,4.563,2,2.588,2,0.430,2,6.189,2,2125.1,2,2272.3,2,-999.0,9,-999.00,1,20050910,1158,-53.5239,-89.0177
316N20050821,AAIW,61,1,20,20,2,20050910,1005,-53.5250,-89.0190,166.0,5.1842,34.1729,2,34.1739,2,301.1,2,300.4,2,4.65,2,20.21,2,0.11,2,1.43,2,4.570,2,2.586,2,0.433,2,6.050,2,2121.0,2,2272.5,2,-999.0,9,-999.00,1,20050910,1155,-53.5236,-89.0173
316N20050821,AAIW,61,1,19,19,2,20050910,1005,-53.5250,-89.0190,215.5,5.1884,34.1731,2,34.1745,2,300.3,2,299.6,2,4.85,2,20.26,2,0.11,2,1.43,2,4.617,2,2.557,2,0.432,2,6.095,2,2122.5,2,2273.1,2,-999.0,9,-999.00,1,20050910,1153,-53.5233,-89.0169
316N20050821,AAIW,61,1,18,18,2,20050910,1005,-53.5250,-89.0190,264.3,5.1931,34.1736,2,34.1743,2,300.2,2,299.7,2,4.83,2,20.31,2,0.11,2,1.44,2,4.732,2,2.549,2,0.419,2,6.014,2,2122.1,2,2273.0,2,-999.0,9,-999.00,1,20050910,1150,-53.5230,-89.0165
316N20050821,AAIW,61,1,17,17,2,20050910,1005,-53.5250,-89.0190,363.0,5.2034,34.1744,2,34.1743,2,299.6,2,299.6,2,4.82,2,20.21,2,0.11,2,1.43,2,4.586,2,2.562,2,0.390,2,5.802,2,2122.6,2,2273.3,2,-999.0,9,-999.00,1,20050910,1147,-53.5226,-89.0160
316N20050821,AAIW,61,1,16,16,2,20050910,1005,-53.5250,-89.0190,461.9,5.2994,34.2012,2,34.2013,2,284.4,2,284.8,2,7.06,2,22.15,2,0.01,2,1.55,2,4.426,2,2.391,2,0.384,2,5.167,2,2133.0,2,2274.9,2,-999.0,9,-999.00,1,20050910,1144,-53.5222,-89.0154
316N20050821,AAIW,61,1,15,15,2,20050910,1005,-53.5250,-89.0190,560.4,5.1006,34.1959,2,34.1960,2,276.9,2,276.0,2,9.09,2,23.46,2,0.00,2,1.62,2,4.248,2,2.283,2,0.358,2,4.761,2,2139.5,2,2276.0,2,-999.0,9,-999.00,1,20050910,1141,-53.5219,-89.0149
316N20050821,AAIW,61,1,14,14,2,20050910,1005,-53.5250,-89.0190,658.6,4.8140,34.1983,2,34.2012,2,256.1,2,256.2,2,13.58,2,25.88,2,0.00,2,1.77,2,3.700,2,1.931,2,0.308,2,4.102,2,2154.1,2,2279.5,2,-999.0,9,-999.00,1,20050910,1138,-53.5216,-89.0144
316N20050821,AAIW,61,1,13,13,2,20050910,1005,-53.5250,-89.0190,757.5,4.6111,34.2342,2,34.2347,2,235.6,2,236.1,2,19.11,2,27.83,2,0.00,2,1.90,2,3.078,2,1.618,2,0.237,2,3.360,2,2169.8,2,2284.0,2,-999.0,9,-999.00,1,20050910,1135,-53.5212,-89.0138
316N20050821,AAIW,61,1,12,12,2,20050910,1005,-53.5250,-89.0190,856.0,4.1890,34.2665,2,34.2668,2,221.3,2,221.6,2,26.28,2,29.78,2,0.00,2,2.03,2,2.551,6,1.322,6,0.195,6,2.937,6,2184.8,2,2290.6,2,-999.0,9,-999.00,1,20050910,1132,-53.5207,-89.0136
316N20050821,AAIW,61,1,11,11,2,20050910,1005,-53.5250,-89.0190,1055.1,3.5201,34.3232,2,34.3232,2,204.7,2,204.3,2,39.23,2,32.03,2,0.00,2,2.20,2,1.792,2,0.893,2,0.131,2,2.220,2,2206.8,2,2300.7,2,-999.0,9,-999.00,1,20050910,1127,-53.5200,-89.0133
316N20050821,AAIW,61,1,10,10,2,20050910,1005,-53.5250,-89.0190,1254.5,2.9766,34.4033,2,34.4018,2,189.2,2,188.1,2,53.86,2,33.51,2,0.00,2,2.31,2,1.142,2,0.596,2,0.083,2,1.570,2,2229.8,2,2316.5,2,-999.0,9,-999.00,1,20050910,1123,-53.5193,-89.0131
316N20050821,AAIW,61,1,9,9,2,20050910,1005,-53.5250,-89.0190,1503.0,2.6769,34.5143,2,34.5131,2,170.5,2,169.7,2,69.36,2,34.49,2,0.00,2,2.38,2,0.429,2,0.225,2,0.012,2,0.679,2,2250.4,2,2332.2,2,-999.0,9,-999.00,1,20050910,1117,-53.5186,-89.0125
316N20050821,AAIW,61,1,8,8,3,20050910,1005,-53.5250,-89.0190,1753.0,2.4416,34.6004,2,34.1736,4,164.9,2,299.9,4,5.50,4,20.30,4,0.11,4,1.44,4,-999.000,5,-999.000,5,-999.000,5,-999.000,5,2120.0,4,-999.0,1,-999.0,9,-999.00,1,20050910,1111,-53.5179,-89.0119
316N20050821,AAIW,61,1,7,7,2,20050910,1005,-53.5250,-89.0190,2054.1,2.2556,34.6600,2,34.6598,2,169.1,2,168.2,2,86.15,2,33.27,2,0.00,2,2.30,2,0.107,2,0.060,2,0.000,2,0.188,2,2265.6,2,2353.2,2,-999.0,9,-999.00,1,20050910,1105,-53.5169,-89.0112
316N20050821,AAIW,61,1,6,6,2,20050910,1005,-53.5250,-89.0190,2557.9,1.9243,34.7067,2,34.7076,3,175.8,2,175.5,2,99.06,2,32.67,2,0.00,2,2.25,2,0.055,2,0.033,2,0.000,2,0.083,2,2269.5,2,2363.5,2,-999.0,9,-999.00,1,20050910,1055,-53.5157,-89.0104
316N20050821,AAIW,61,1,5,5,2,20050910,1005,-53.5250,-89.0190,3060.6,1.6323,34.7191,2,34.7196,2,185.0,2,184.9,2,105.52,2,32.08,2,0.00,2,2.21,2,0.034,2,0.032,2,0.000,2,0.043,2,2268.5,2,2367.2,2,-999.0,9,-999.00,1,20050910,1045,-53.5146,-89.0094
316N20050821,AAIW,61,1,4,4,2,20050910,1005,-53.5250,-89.0190,3565.8,1.2583,34.7194,2,34.7182,2,196.0,2,195.8,2,114.08,2,31.98,2,0.00,2,2.20,2,0.033,2,0.025,2,0.000,2,0.065,2,2264.2,2,2364.1,2,-999.0,9,-999.00,1,20050910,1035,-53.5133,-89.0088
316N20050821,AAIW,61,1,3,3,2,20050910,1005,-53.5250,-89.0190,4073.2,0.8405,34.7115,2,34.7110,2,204.3,2,204.3,2,127.29,2,32.28,2,0.00,2,2.21,2,0.029,2,0.029,2,0.000,2,0.089,2,-999.0,5,2367.5,2,-999.0,9,-999.00,1,20050910,1025,-53.5121,-89.0080
316N20050821,AAIW,61,1,2,2,2,20050910,1005,-53.5250,-89.0190,4581.1,0.6640,34.7081,2,34.7092,3,208.7,2,209.1,2,133.38,2,32.38,2,0.00,2,2.23,2,0.038,2,0.026,2,0.000,2,0.138,2,2266.7,2,2367.4,2,-999.0,9,-999.00,1,20050910,1015,-53.5111,-89.0074
316N20050821,AAIW,61,1,1,1,2,20050910,1005,-53.5250,-89.0190,5092.4,0.6784,34.7071,2,34.7066,2,211.7,2,209.1,2,135.48,2,32.48,2,0.00,2,2.23,2,0.050,2,0.036,2,0.000,2,0.192,2,2268.0,6,2366.8,2,-999.0,9,-999.00,1,20050910,1005,-53.5102,-89.0065
316N20050821,AAIW,62,1,24,24,2,20050910,1651,-53.0129,-89.0312,11.2,5.3125,34.1487,2,34.1504,2,303.9,2,303.5,2,3.66,2,19.48,2,0.17,2,1.40,2,4.698,2,2.630,2,0.433,2,5.759,2,2115.7,2,2270.1,2,-999.0,9,-999.00,1,20050910,1846,-53.0129,-89.0312
316N20050821,AAIW,62,1,23,23,2,20050910,1651,-53.0129,-89.0312,49.1,5.1940,34.1725,2,34.1770,2,302.3,2,301.6,2,4.41,2,20.15,2,0.11,2,1.43,2,4.632,2,2.583,2,0.434,2,5.636,2,2120.9,2,2273.4,2,-999.0,9,-999.00,1,20050910,1844,-53.0129,-89.0307
316N20050821,AAIW,62,1,22,22,2,20050910,1651,-53.0129,-89.0312,99.1,5.1950,34.1726,2,34.1741,2,301.7,2,301.0,2,4.35,2,20.21,2,0.11,2,1.43,2,4.653,2,2.592,2,0.435,2,5.691,2,2120.6,2,2270.6,2,-999.0,9,-999.00,1,20050910,1842,-53.0129,-89.0302
316N20050821,AAIW,62,1,21,21,2,20050910,1651,-53.0129,-89.0312,148.9,5.1964,34.1727,2,34.1739,2,301.4,2,300.5,2,4.29,2,20.16,2,0.11,2,1.43,2,4.766,2,2.563,2,0.442,2,5.510,2,2121.0,2,2272.0,2,-999.0,9,-999.00,1,20050910,1840,-53.0129,-89.0298
316N20050821,AAIW,62,1,20,20,2,20050910,1651,-53.0129,-89.0312,248.5,5.2021,34.1729,2,34.1745,2,300.6,2,299.8,2,4.43,2,20.21,2,0.11,2,1.43,2,4.681,2,2.615,2,0.448,2,5.656,2,2119.3,2,2270.8,2,-999.0,9,-999.00,1,20050910,1836,-53.0128,-89.0290
316N20050821,AAIW,62,1,19,19,2,20050910,1651,-53.0129,-89.0312,348.0,5.2144,34.1737,2,34.1772,2,299.3,2,299.9,2,4.37,2,20.26,2,0.11,2,1.43,2,4.608,2,2.601,2,0.433,2,5.425,2,2121.6,2,2272.2,2,-999.0,9,-999.00,1,20050910,1833,-53.0130,-89.0285
316N20050821,AAIW,62,1,18,18,2,20050910,1651,-53.0129,-89.0312,428.4,5.2371,34.1953,2,34.1993,2,283.8,2,283.4,2,7.15,2,22.32,2,0.01,2,1.55,2,4.357,2,2.431,2,0.394,2,4.777,2,2131.9,2,2274.6,2,-999.0,9,-999.00,1,20050910,1830,-53.0133,-89.0280
316N20050821,AAIW,62,1,17,17,2,20050910,1651,-53.0129,-89.0312,508.1,5.0785,34.1923,2,34.1921,2,275.5,2,275.3,2,8.91,2,23.47,2,0.00,2,1.63,2,4.198,2,2.283,2,0.365,2,4.496,2,2140.1,2,2276.4,2,-999.0,9,-999.00,1,20050910,1827,-53.0134,-89.0277
316N20050821,AAIW,62,1,16,16,2,20050910,1651,-53.0129,-89.0312,588.5,4.7965,34.1969,2,34.1979,2,255.0,2,254.8,2,13.72,2,25.92,2,0.00,2,1.78,2,3.657,2,2.000,2,0.291,2,3.910,2,2155.7,2,2283.8,3,-999.0,9,-999.00,1,20050910,1825,-53.0134,-89.0275
316N20050821,AAIW,62,1,15,15,2,20050910,1651,-53.0129,-89.0312,687.9,4.5011,34.2062,2,34.2069,2,245.7,2,245.5,2,17.30,2,27.23,2,0.00,2,1.88,2,3.416,2,1.794,2,0.285,2,3.724,2,2164.3,2,2281.7,2,-999.0,9,-999.00,1,20050910,1822,-53.0134,-89.0273
316N20050821,AAIW,62,1,14,14,2,20050910,1651,-53.0129,-89.0312,738.3,4.5234,34.2345,2,34.2353,2,235.6,2,234.7,2,19.68,2,28.00,2,0.00,2,1.93,2,3.053,2,1.590,2,0.233,2,3.302,2,2171.8,2,2283.0,2,-999.0,9,-999.00,1,20050910,1820,-53.0136,-89.0272
316N20050821,AAIW,62,1,13,13,2,20050910,1651,-53.0129,-89.0312,838.0,4.3292,34.2658,2,34.2678,2,222.2,2,222.9,2,24.69,2,29.40,2,0.00,2,2.01,2,2.593,2,1.343,2,0.193,2,2.916,2,2182.3,2,2288.1,2,-999.0,9,-999.00,1,20050910,1817,-53.0137,-89.0272
316N20050821,AAIW,62,1,12,12,2,20050910,1651,-53.0129,-89.0312,937.0,3.9734,34.2897,2,34.2903,2,214.2,2,214.6,2,30.53,2,30.57,2,0.00,2,2.10,2,2.246,2,1.189,2,0.164,2,2.564,2,2193.2,2,2291.8,2,-999.0,9,-999.00,1,20050910,1814,-53.0138,-89.0272
316N20050821,AAIW,62,1,11,11,2,20050910,1651,-53.0129,-89.0312,1074.6,3.4462,34.3331,2,34.3314,2,202.7,2,201.9,2,40.84,2,32.22,2,0.00,2,2.24,2,1.576,6,0.785,6,0.088,6,1.943,6,2211.4,2,2302.4,2,-999.0,9,-999.00,1,20050910,1811,-53.0139,-89.0271
316N20050821,AAIW,62,1,10,10,2,20050910,1651,-53.0129,-89.0312,1219.8,3.0733,34.3962,2,34.3971,2,187.1,2,186.4,2,52.00,2,33.72,2,0.00,2,2.30,2,0.930,2,0.467,2,0.039,2,1.389,2,2228.6,2,2314.1,2,-999.0,9,-999.00,1,20050910,1807,-53.0143,-89.0271
316N20050821,AAIW,62,1,9,9,2,20050910,1651,-53.0129,-89.0312,1503.7,2.6962,34.5273,2,34.5282,2,160.0,2,160.0,2,73.62,2,35.05,2,0.00,2,2.43,2,1.260,4,0.128,2,0.012,2,0.408,2,2260.9,2,2335.6,2,-999.0,9,-999.00,1,20050910,1801,-53.0151,-89.0265
316N20050821,AAIW,62,1,8,8,2,20050910,1651,-53.0129,-89.0312,1711.0,2.4923,34.5861,2,34.5861,2,160.2,2,159.5,2,81.76,2,34.66,2,0.00,2,2.39,2,0.142,2,0.104,2,0.000,2,0.247,2,2267.3,2,2345.8,2,-999.0,9,-999.00,1,20050910,1756,-53.0155,-89.0259
316N20050821,AAIW,62,1,7,7,2,20050910,1651,-53.0129,-89.0312,2130.8,2.1576,34.6648,2,34.6671,3,164.3,2,164.0,2,94.47,2,33.78,2,0.00,2,2.33,2,0.030,2,0.033,2,0.000,2,0.079,2,2274.2,2,2361.6,2,-999.0,9,-999.00,1,20050910,1747,-53.0162,-89.0239
316N20050821,AAIW,62,1,6,6,2,20050910,1651,-53.0129,-89.0312,2579.7,1.8809,34.6966,2,34.6981,3,170.1,2,170.0,2,105.13,3,33.15,2,0.00,2,2.30,2,0.019,2,0.025,2,0.000,2,0.061,2,2280.1,2,2371.2,2,-999.0,9,-999.00,1,20050910,1738,-53.0156,-89.0218
316N20050821,AAIW,62,1,5,5,2,20050910,1651,-53.0129,-89.0312,3066.8,1.6463,34.7160,2,34.7171,3,183.0,2,182.8,2,106.93,2,32.43,2,0.00,2,2.24,2,0.031,2,0.030,2,0.000,2,0.061,2,2270.8,2,2366.5,2,-999.0,9,-999.00,1,20050910,1729,-53.0140,-89.0193
316N20050821,AAIW,62,1,4,4,2,20050910,1651,-53.0129,-89.0312,3557.3,1.3349,34.7205,2,34.7231,3,194.5,2,194.8,2,111.63,2,31.95,2,0.00,2,2.20,2,0.024,2,0.022,2,0.000,2,0.118,2,2264.5,2,2363.5,2,-999.0,9,-999.00,1,20050910,1720,-53.0126,-89.0172
316N20050821,AAIW,62,1,3,3,2,20050910,1651,-53.0129,-89.0312,4048.7,0.9291,34.7127,2,34.7147,3,203.0,2,202.9,2,123.81,2,32.24,2,0.00,2,2.22,2,0.026,2,0.029,2,0.000,2,0.110,2,2280.9,4,2369.2,2,-999.0,9,-999.00,1,20050910,1711,-53.0113,-89.0149
316N20050821,AAIW,62,1,2,2,2,20050910,1651,-53.0129,-89.0312,4541.1,0.6821,34.7081,2,34.7082,2,208.0,2,208.2,2,132.27,2,32.48,2,0.00,2,2.24,2,0.034,2,0.031,2,0.000,2,0.173,2,2278.5,4,2366.4,2,-999.0,9,-999.00,1,20050910,1702,-53.0100,-89.0129
316N20050821,AAIW,62,1,1,1,2,20050910,1651,-53.0129,-89.0312,5049.0,0.6765,34.7068,2,34.7078,3,211.1,2,209.4,2,135.33,2,32.53,2,0.00,2,2.24,2,0.040,2,0.031,2,0.000,2,0.208,2,2282.7,4,2366.8,2,-999.0,9,-999.00,1,20050910,1651,-53.0086,-89.0106
316N20050821,AAIW,63,1,23,23,2,20050911,109,-52.6679,-89.9705,7.6,5.2708,34.1591,2,34.1617,2,-999.0,9,-999.0,5,3.83,2,19.56,2,0.18,2,1.40,2,4.734,2,2.688,2,0.450,2,6.092,2,2117.9,6,2272.5,2,-999.0,9,-999.00,1,20050911,312,-52.6679,-89.9705
316N20050821,AAIW,63,1,22,22,2,20050911,109,-52.6679,-89.9705,37.2,5.2659,34.1594,2,34.1598,2,304.5,2,303.5,2,3.62,2,19.62,2,0.18,2,1.40,2,4.625,2,2.653,2,0.446,2,5.911,2,2114.2,2,2271.8,2,-999.0,9,-999.00,1,20050911,310,-52.6679,-89.9704
316N20050821,AAIW,63,1,21,21,2,20050911,109,-52.6679,-89.9705,66.9,5.2658,34.1603,2,34.1597,2,304.1,2,303.3,2,3.60,2,19.71,2,0.18,2,1.40,2,4.546,2,2.684,2,0.448,2,5.835,2,2115.1,2,2272.5,2,-999.0,9,-999.00,1,20050911,308,-52.6679,-89.9703
316N20050821,AAIW,63,1,20,20,2,20050911,109,-52.6679,-89.9705,97.0,5.2507,34.1618,2,34.1638,2,303.2,2,302.5,2,3.59,2,19.77,2,0.18,2,1.40,2,4.637,2,2.631,2,0.447,2,6.033,2,2115.2,2,2271.8,2,-999.0,9,-999.00,1,20050911,306,-52.6679,-89.9703
316N20050821,AAIW,63,1,19,19,2,20050911,109,-52.6679,-89.9705,156.0,5.2408,34.1648,2,34.1646,2,301.7,2,301.0,2,3.58,2,19.83,2,0.17,2,1.40,2,4.633,2,2.609,2,0.446,2,6.117,2,2115.8,2,2272.8,2,-999.0,9,-999.00,1,20050911,304,-52.6679,-89.9701
316N20050821,AAIW,63,1,18,18,2,20050911,109,-52.6679,-89.9705,226.4,5.2393,34.1683,2,34.1700,2,300.0,2,299.7,2,3.77,2,19.95,2,0.14,2,1.42,2,4.669,2,2.648,2,0.443,2,5.982,2,2116.7,2,2275.5,2,-999.0,9,-999.00,1,20050911,301,-52.6679,-89.9698
316N20050821,AAIW,63,1,17,17,2,20050911,109,-52.6679,-89.9705,326.1,5.3494,34.1935,2,34.1925,2,293.2,2,292.8,2,4.96,2,20.67,2,0.04,2,1.46,2,4.516,2,2.574,2,0.442,2,5.615,2,2122.3,2,2275.7,2,-999.0,9,-999.00,1,20050911,257,-52.6678,-89.9699
316N20050821,AAIW,63,1,16,16,2,20050911,109,-52.6679,-89.9705,387.0,5.3761,34.2092,2,34.2119,2,284.8,2,285.6,2,6.36,2,21.89,2,0.00,2,1.52,2,4.471,2,2.488,2,0.406,2,5.308,2,2130.5,2,2274.8,2,-999.0,9,-999.00,1,20050911,255,-52.6678,-89.9702
316N20050821,AAIW,63,1,15,15,2,20050911,109,-52.6679,-89.9705,446.2,5.2699,34.2000,2,34.1993,2,284.0,2,284.8,2,6.76,2,22.22,2,0.00,2,1.55,2,4.448,2,2.483,2,0.431,2,5.273,2,2130.5,2,2275.7,2,-999.0,9,-999.00,1,20050911,252,-52.6678,-89.9702
316N20050821,AAIW,63,1,14,14,2,20050911,109,-52.6679,-89.9705,546.3,5.0273,34.1961,2,34.1949,2,270.2,2,270.0,2,9.37,2,24.18,2,0.00,2,1.66,2,4.096,2,2.230,2,0.352,2,4.646,2,2142.7,2,2275.6,2,-999.0,9,-999.00,1,20050911,249,-52.6678,-89.9704
316N20050821,AAIW,63,1,13,13,2,20050911,109,-52.6679,-89.9705,645.8,4.7862,34.2017,2,34.2014,2,255.8,2,255.1,2,13.41,2,25.99,2,0.00,2,1.78,2,3.709,2,1.946,2,0.303,2,4.166,2,2155.9,2,2279.3,2,-999.0,9,-999.00,1,20050911,245,-52.6678,-89.9705
316N20050821,AAIW,63,1,12,12,2,20050911,109,-52.6679,-89.9705,745.9,4.5469,34.2372,2,34.2366,2,235.2,2,234.6,2,19.28,2,28.19,2,0.00,2,1.93,2,3.011,2,1.605,2,0.226,2,3.412,2,2169.7,2,2280.1,2,-999.0,9,-999.00,1,20050911,241,-52.6678,-89.9707
316N20050821,AAIW,63,1,11,11,2,20050911,109,-52.6679,-89.9705,845.9,4.1729,34.2724,2,34.2736,2,219.9,2,219.3,2,26.38,2,29.97,2,0.00,2,2.05,2,2.419,2,1.266,2,0.167,2,2.885,2,2184.9,2,2290.5,2,-999.0,9,-999.00,1,20050911,238,-52.6678,-89.9710
316N20050821,AAIW,63,1,10,10,2,20050911,109,-52.6679,-89.9705,995.7,3.5937,34.3180,2,34.3178,2,204.7,2,204.7,2,37.16,2,31.95,2,0.00,2,2.18,2,1.682,2,0.838,2,0.095,2,2.176,2,2204.8,2,2301.2,2,-999.0,9,-999.00,1,20050911,233,-52.6678,-89.9711
316N20050821,AAIW,63,1,9,9,2,20050911,109,-52.6679,-89.9705,1397.3,2.8060,34.4826,2,34.4816,2,168.2,2,168.5,2,65.55,2,34.81,2,0.00,2,2.41,2,0.468,2,0.199,2,0.016,2,0.751,2,2252.2,2,2328.4,2,-999.0,9,-999.00,1,20050911,224,-52.6678,-89.9707
316N20050821,AAIW,63,1,8,8,2,20050911,109,-52.6679,-89.9705,1849.0,2.3674,34.6227,2,34.6230,2,163.6,2,163.5,2,84.25,2,34.03,2,0.00,2,2.35,2,0.123,2,0.061,2,0.000,2,0.246,2,2265.1,2,2347.4,2,-999.0,9,-999.00,1,20050911,215,-52.6678,-89.9706
316N20050821,AAIW,63,1,7,7,2,20050911,109,-52.6679,-89.9705,2302.4,2.0656,34.6827,2,34.6843,2,167.3,2,167.3,2,97.06,2,33.46,2,0.00,2,2.30,2,0.039,2,0.032,2,0.000,2,0.090,2,2273.5,2,2362.5,2,-999.0,9,-999.00,1,20050911,205,-52.6678,-89.9703
316N20050821,AAIW,63,1,6,6,2,20050911,109,-52.6679,-89.9705,2776.0,1.7835,34.6980,2,34.6980,2,170.6,2,170.2,2,107.64,3,33.57,2,0.00,2,2.30,2,0.007,2,0.014,2,0.000,2,0.024,2,2283.6,2,2376.8,2,-999.0,9,-999.00,1,20050911,155,-52.6678,-89.9706
316N20050821,AAIW,63,1,5,5,2,20050911,109,-52.6679,-89.9705,3150.2,1.6182,34.7122,2,34.7145,2,181.2,2,181.2,2,108.91,2,32.76,2,0.00,2,2.24,2,0.012,2,0.011,2,0.000,2,0.052,2,2276.2,2,2372.1,2,-999.0,9,-999.00,1,20050911,148,-52.6678,-89.9708
316N20050821,AAIW,63,1,4,4,2,20050911,109,-52.6679,-89.9705,3626.3,1.2925,34.7193,2,34.7182,2,194.6,2,195.0,2,113.51,2,32.08,2,0.00,2,2.20,2,0.033,2,0.014,2,0.000,2,0.116,2,2267.0,2,2364.5,2,-999.0,9,-999.00,1,20050911,138,-52.6677,-89.9706
316N20050821,AAIW,63,1,3,3,2,20050911,109,-52.6679,-89.9705,4103.9,0.8761,34.7118,2,34.7107,2,203.0,2,204.0,2,125.62,2,32.43,2,0.00,2,2.21,2,0.028,2,0.019,2,0.000,2,0.120,2,2266.7,2,2366.0,2,-999.0,9,-999.00,1,20050911,128,-52.6677,-89.9707
316N20050821,AAIW,63,1,2,2,2,20050911,109,-52.6679,-89.9705,4581.4,0.6908,34.7084,2,34.7079,2,207.3,2,208.5,2,132.34,2,32.43,2,0.00,2,2.24,2,0.023,2,0.021,2,0.000,2,0.181,2,2273.3,2,2367.3,2,-999.0,9,-999.00,1,20050911,119,-52.6677,-89.9704
316N20050821,AAIW,63,1,1,1,2,20050911,109,-52.6679,-89.9705,5019.9,0.6750,34.7070,2,34.7073,2,211.0,2,209.1,2,135.10,2,32.49,2,0.00,2,2.22,2,0.036,6,0.029,6,0.000,6,0.249,6,2266.6,6,2366.6,2,-999.0,9,-999.00,1,20050911,109,-52.6677,-89.9701