BOTTLE,20220819CCHSIOAMB
EXPOCODE,SECT_ID,STNNBR,CASTNO,SAMPNO,BTLNBR,BTLNBR_FLAG_W,DATE,TIME,LATITUDE,LONGITUDE,CTDPRS,CTDTMP,CTDSAL,CTDSAL_FLAG_W,SALNTY,SALNTY_FLAG_W,CTDOXY,CTDOXY_FLAG_W,OXYGEN,OXYGEN_FLAG_W,SILCAT,SILCAT_FLAG_W,NITRAT,NITRAT_FLAG_W,NITRIT,NITRIT_FLAG_W,PHSPHT,PHSPHT_FLAG_W,CFC-11,CFC-11_FLAG_W,CFC-12,CFC-12_FLAG_W,CFC113,CFC113_FLAG_W,CCL4,CCL4_FLAG_W,TCARBN,TCARBN_FLAG_W,ALKALI,ALKALI_FLAG_W,PCO2,PCO2_FLAG_W,PH_SWS,PH_SWS_FLAG_W,BTL_DATE,BTL_TIME,BTL_LAT,BTL_LON
,,,,,,,,,,,DBAR,ITS-90,PSS-78,,PSS-78,,UMOL/KG,,UMOL/KG,,UMOL/KG,,UMOL/KG,,UMOL/KG,,UMOL/KG,,PMOL/KG,,PMOL/KG,,PMOL/KG,,PMOL/KG,,UMOL/KG,,UMOL/KG,,UATM,,,,,,,
316N20050821,AAIW,31,1,24,24,2,20050901,1351,-57.6627,-82.0688,13.8,4.2187,34.0874,2,34.0892,2,303.8,2,303.1,2,6.44,2,22.46,2,0.04,2,1.59,2,4.943,2,2.709,2,0.436,2,5.754,2,2130.4,6,2273.3,2,-999.0,9,-999.00,1,20050901,1554,-57.6627,-82.0688
316N20050821,AAIW,31,1,23,23,2,20050901,1351,-57.6627,-82.0688,48.9,4.2190,34.0890,2,34.0906,2,303.2,2,302.7,2,6.37,2,22.49,2,0.04,2,1.59,2,4.965,2,2.770,2,0.447,2,5.872,2,2131.3,2,2274.9,2,-999.0,9,-999.00,1,20050901,1552,-57.6626,-82.0683
316N20050821,AAIW,31,1,22,22,2,20050901,1351,-57.6627,-82.0688,77.6,4.2241,34.0896,2,34.0898,2,302.5,2,302.7,2,6.30,2,22.53,2,0.04,2,1.59,2,4.973,2,2.690,2,0.454,2,5.838,2,2131.6,2,2272.9,2,-999.0,9,-999.00,1,20050901,1551,-57.6627,-82.0678
316N20050821,AAIW,31,1,21,21,2,20050901,1351,-57.6627,-82.0688,108.5,4.2177,34.0893,2,34.0884,2,302.8,2,303.1,2,6.23,2,22.51,2,0.04,2,1.59,2,4.981,2,2.720,2,0.449,2,5.806,2,2131.3,2,2274.0,2,-999.0,9,-999.00,1,20050901,1549,-57.6627,-82.0674
316N20050821,AAIW,31,1,20,20,2,20050901,1351,-57.6627,-82.0688,157.6,4.1914,34.0886,2,34.0892,2,302.5,2,302.8,2,6.37,2,22.66,2,0.04,2,1.59,2,4.948,2,2.728,2,0.450,2,5.794,2,2131.7,2,2274.1,2,-999.0,9,-999.00,1,20050901,1548,-57.6628,-82.0667
316N20050821,AAIW,31,1,19,19,2,20050901,1351,-57.6627,-82.0688,207.4,4.1748,34.0874,2,34.0865,2,302.2,2,302.7,2,6.30,2,22.70,2,0.04,2,1.59,2,4.918,2,2.698,2,0.448,2,5.669,2,2131.9,2,2274.0,2,-999.0,9,-999.00,1,20050901,1546,-57.6628,-82.0662
316N20050821,AAIW,31,1,18,18,2,20050901,1351,-57.6627,-82.0688,255.4,4.0557,34.0770,2,34.0763,2,302.8,2,300.2,2,7.61,2,23.38,2,0.04,2,1.63,2,4.968,2,2.709,2,0.456,2,5.798,2,2135.2,2,2274.2,2,-999.0,9,-999.00,1,20050901,1544,-57.6628,-82.0658
316N20050821,AAIW,31,1,17,17,2,20050901,1351,-57.6627,-82.0688,305.0,4.0115,34.0763,2,34.0777,2,298.4,2,299.7,2,7.35,2,23.54,2,0.03,2,1.64,2,4.963,6,2.726,6,0.449,6,5.682,6,2135.9,2,2274.6,2,-999.0,9,-999.00,1,20050901,1539,-57.6629,-82.0643
316N20050821,AAIW,31,1,16,16,2,20050901,1351,-57.6627,-82.0688,393.3,3.8474,34.0624,2,34.0675,2,297.8,2,297.5,2,8.28,2,24.23,2,0.02,2,1.68,2,4.940,2,2.689,2,0.456,2,5.636,2,2139.2,2,2273.9,2,-999.0,9,-999.00,1,20050901,1536,-57.6631,-82.0636
316N20050821,AAIW,31,1,15,15,2,20050901,1351,-57.6627,-82.0688,491.8,4.0584,34.1236,2,34.1227,2,271.3,2,271.4,2,13.15,2,26.40,2,0.01,2,1.81,2,4.326,2,2.310,2,0.350,2,4.594,2,2154.8,2,2278.0,2,-999.0,9,-999.00,1,20050901,1532,-57.6633,-82.0627
316N20050821,AAIW,31,1,14,14,2,20050901,1351,-57.6627,-82.0688,592.7,4.1443,34.1959,2,34.1981,2,242.5,2,243.6,2,19.61,2,28.84,2,0.00,2,1.95,2,3.555,2,1.838,2,0.292,2,3.534,2,2172.9,2,2283.4,2,-999.0,9,-999.00,1,20050901,1529,-57.6636,-82.0618
316N20050821,AAIW,31,1,13,13,2,20050901,1351,-57.6627,-82.0688,693.4,3.6700,34.2232,2,34.2222,2,233.8,2,234.6,2,26.48,2,30.69,2,0.00,2,2.07,2,3.199,2,1.654,2,0.252,2,3.224,2,2186.4,2,2289.4,2,-999.0,9,-999.00,1,20050901,1526,-57.6639,-82.0607
316N20050821,AAIW,31,1,12,12,2,20050901,1351,-57.6627,-82.0688,791.2,3.2900,34.2610,2,34.2604,2,222.5,2,222.8,2,34.36,2,31.36,2,0.00,2,2.17,2,2.735,2,1.410,2,0.201,2,2.877,2,2199.7,2,2296.6,2,-999.0,9,-999.00,1,20050901,1522,-57.6640,-82.0599
316N20050821,AAIW,31,1,11,11,2,20050901,1351,-57.6627,-82.0688,891.2,3.1686,34.3175,2,34.3192,2,207.6,2,206.7,2,41.85,2,32.51,2,0.00,2,2.25,2,2.020,2,1.036,2,0.146,2,2.277,2,2213.1,2,2302.4,2,-999.0,9,-999.00,1,20050901,1519,-57.6643,-82.0590
316N20050821,AAIW,31,1,10,10,2,20050901,1351,-57.6627,-82.0688,1148.3,2.7536,34.4514,2,34.4515,2,181.7,2,181.3,2,60.32,2,34.12,2,0.00,2,2.37,2,0.975,2,0.482,2,0.055,2,1.215,2,2240.7,2,2323.2,2,-999.0,9,-999.00,1,20050901,1512,-57.6646,-82.0571
316N20050821,AAIW,31,1,9,9,2,20050901,1351,-57.6627,-82.0688,1444.4,2.4476,34.5755,2,34.5766,2,171.5,2,170.9,2,74.25,2,34.13,2,0.00,2,2.37,2,0.460,2,0.227,2,0.029,2,0.614,2,2256.3,2,2337.2,2,-999.0,9,-999.00,1,20050901,1505,-57.6646,-82.0554
316N20050821,AAIW,31,1,8,8,2,20050901,1351,-57.6627,-82.0688,1745.2,2.2691,34.6569,2,34.6572,2,172.2,2,171.7,2,82.41,2,33.10,2,0.00,2,2.31,2,0.206,2,0.092,2,0.009,2,0.293,2,2261.7,2,2345.9,2,-999.0,9,-999.00,1,20050901,1457,-57.6648,-82.0531
316N20050821,AAIW,31,1,7,7,2,20050901,1351,-57.6627,-82.0688,2044.2,2.0756,34.7000,2,34.6996,2,176.4,2,176.0,2,89.19,2,32.36,2,0.00,2,2.26,2,0.109,2,0.046,2,0.000,2,0.165,2,2261.6,2,2352.9,2,-999.0,9,-999.00,1,20050901,1450,-57.6647,-82.0512
316N20050821,AAIW,31,1,6,6,2,20050901,1351,-57.6627,-82.0688,2389.8,1.8218,34.7253,2,34.7271,2,185.3,2,185.4,2,94.36,2,31.68,2,0.00,2,2.20,2,0.099,2,0.041,2,0.000,2,0.128,2,2259.6,2,2355.8,2,-999.0,9,-999.00,1,20050901,1442,-57.6648,-82.0493
316N20050821,AAIW,31,1,5,5,2,20050901,1351,-57.6627,-82.0688,2886.9,1.4944,34.7242,2,34.7275,3,191.0,2,190.8,2,106.01,2,31.82,2,0.00,2,2.22,2,0.048,2,0.020,2,0.000,2,0.083,2,2263.3,2,2360.7,2,-999.0,9,-999.00,1,20050901,1432,-57.6651,-82.0469
316N20050821,AAIW,31,1,4,4,2,20050901,1351,-57.6627,-82.0688,3387.8,1.1908,34.7195,2,34.7212,2,197.9,2,197.8,2,114.05,2,31.91,2,0.00,2,2.22,2,0.043,2,0.017,2,0.000,2,0.099,2,2262.7,2,2362.5,2,-999.0,9,-999.00,1,20050901,1422,-57.6649,-82.0441
316N20050821,AAIW,31,1,3,3,2,20050901,1351,-57.6627,-82.0688,3892.1,0.8246,34.7107,2,34.7104,2,204.7,2,204.7,2,126.17,2,32.28,2,0.00,2,2.24,2,0.048,2,0.021,2,0.000,2,0.160,2,2265.4,2,2363.7,2,-999.0,9,-999.00,1,20050901,1411,-57.6649,-82.0416
316N20050821,AAIW,31,1,2,2,2,20050901,1351,-57.6627,-82.0688,4405.8,0.6141,34.7069,2,34.7091,3,208.9,2,209.2,2,134.25,2,32.42,2,0.00,2,2.25,2,0.067,2,0.033,2,0.000,2,0.228,2,2264.9,2,2364.6,2,-999.0,9,-999.00,1,20050901,1401,-57.6649,-82.0384
316N20050821,AAIW,31,1,1,1,2,20050901,1351,-57.6627,-82.0688,4914.4,0.6212,34.7060,2,34.7105,3,211.1,2,210.1,2,135.22,2,32.51,2,0.00,2,2.26,2,0.084,2,0.043,2,0.000,2,0.261,2,2264.9,2,2364.5,2,-999.0,9,-999.00,1,20050901,1351,-57.6649,-82.0360
316N20050821,AAIW,32,1,24,24,2,20050901,2133,-57.3241,-83.0734,19.5,4.5743,34.1058,2,34.1220,4,303.6,2,303.2,2,5.86,2,21.81,2,0.04,2,1.55,2,4.963,2,2.746,2,0.456,2,5.986,2,2126.9,2,2273.7,2,-999.0,9,-999.00,1,20050901,2330,-57.3241,-83.0734
316N20050821,AAIW,32,1,23,23,2,20050901,2133,-57.3241,-83.0734,39.3,4.5704,34.1065,2,34.1213,4,303.2,2,302.6,2,5.83,2,21.80,2,0.04,2,1.55,2,4.968,2,2.701,2,0.434,2,5.890,2,-999.0,9,2272.7,2,-999.0,9,-999.00,1,20050901,2328,-57.3242,-83.0726
316N20050821,AAIW,32,1,22,22,2,20050901,2133,-57.3241,-83.0734,68.8,4.5442,34.1067,2,34.1204,4,303.0,2,302.5,2,5.81,2,21.97,2,0.04,2,1.55,2,4.979,2,2.770,2,0.438,2,6.025,2,-999.0,9,2274.1,2,-999.0,9,-999.00,1,20050901,2326,-57.3244,-83.0719
316N20050821,AAIW,32,1,21,21,2,20050901,2133,-57.3241,-83.0734,118.5,4.5126,34.1041,2,34.1163,4,302.4,2,302.2,2,5.98,2,22.01,2,0.04,2,1.55,2,4.972,2,2.729,2,0.441,2,5.945,2,2128.5,2,2273.7,2,-999.0,9,-999.00,1,20050901,2324,-57.3245,-83.0713
316N20050821,AAIW,32,1,20,20,2,20050901,2133,-57.3241,-83.0734,178.4,4.5103,34.1037,2,34.1144,4,301.0,2,301.2,2,5.96,2,22.11,2,0.04,2,1.56,2,4.911,2,2.758,2,0.441,2,5.835,2,-999.0,9,2273.8,2,-999.0,9,-999.00,1,20050901,2321,-57.3248,-83.0707
316N20050821,AAIW,32,1,19,19,2,20050901,2133,-57.3241,-83.0734,238.7,4.5021,34.1022,2,34.1119,4,300.8,2,300.1,2,5.93,2,22.17,2,0.03,2,1.56,2,4.884,2,2.682,2,0.422,2,5.753,2,2128.0,2,2273.8,2,-999.0,9,-999.00,1,20050901,2319,-57.3250,-83.0702
316N20050821,AAIW,32,1,18,18,2,20050901,2133,-57.3241,-83.0734,337.7,4.3816,34.1057,2,34.1148,4,285.9,2,284.5,2,9.27,2,24.14,2,0.01,2,1.68,2,4.599,2,2.567,2,0.397,2,5.124,2,2140.8,2,2276.4,2,-999.0,9,-999.00,1,20050901,2316,-57.3253,-83.0696
316N20050821,AAIW,32,1,17,17,2,20050901,2133,-57.3241,-83.0734,436.9,4.5861,34.1778,2,34.1853,4,254.9,2,255.5,2,14.98,2,26.52,2,0.01,2,1.83,2,3.894,2,2.091,2,0.317,2,4.026,2,2158.8,2,2280.2,2,-999.0,9,-999.00,1,20050901,2313,-57.3256,-83.0691
316N20050821,AAIW,32,1,16,16,2,20050901,2133,-57.3241,-83.0734,537.0,4.3244,34.1931,2,34.1988,4,245.1,2,245.4,2,18.73,2,27.93,2,0.00,2,1.92,2,3.648,2,1.903,2,0.274,2,3.676,2,2169.5,2,2282.9,2,-999.0,9,-999.00,1,20050901,2311,-57.3258,-83.0687
316N20050821,AAIW,32,1,15,15,2,20050901,2133,-57.3241,-83.0734,633.7,4.1527,34.2335,2,34.2374,4,230.8,2,232.7,2,23.46,2,29.18,2,0.00,2,2.00,2,3.139,2,1.842,2,0.250,2,3.277,2,2178.4,2,2286.8,2,-999.0,9,-999.00,1,20050901,2308,-57.3260,-83.0683
316N20050821,AAIW,32,1,14,14,2,20050901,2133,-57.3241,-83.0734,733.0,3.9129,34.2717,2,34.2766,4,219.0,2,218.9,2,29.79,2,30.75,2,0.00,2,2.10,2,2.542,2,1.307,2,0.167,2,2.705,2,2192.0,2,2291.0,2,-999.0,9,-999.00,1,20050901,2305,-57.3261,-83.0678
316N20050821,AAIW,32,1,13,13,2,20050901,2133,-57.3241,-83.0734,829.8,3.5402,34.2973,2,34.3005,4,211.2,2,212.0,2,36.12,2,31.90,2,0.00,2,2.19,2,2.213,2,1.121,2,0.161,2,2.436,2,2203.1,2,2297.5,2,-999.0,9,-999.00,1,20050901,2302,-57.3262,-83.0674
316N20050821,AAIW,32,1,12,12,2,20050901,2133,-57.3241,-83.0734,926.5,3.2808,34.3378,2,34.3396,4,201.7,2,201.6,2,43.45,2,32.87,2,0.00,2,2.26,2,1.752,2,0.881,2,0.117,2,2.031,2,2214.7,2,2303.7,2,-999.0,9,-999.00,1,20050901,2259,-57.3263,-83.0669
316N20050821,AAIW,32,1,11,11,2,20050901,2133,-57.3241,-83.0734,1043.5,2.9612,34.3877,2,34.3926,4,192.0,2,191.2,2,52.40,2,33.85,2,0.00,2,2.33,2,1.382,2,0.684,2,0.093,2,1.684,2,2227.5,2,2313.1,2,-999.0,9,-999.00,1,20050901,2256,-57.3265,-83.0663
316N20050821,AAIW,32,1,10,10,2,20050901,2133,-57.3241,-83.0734,1239.6,2.7010,34.4767,2,34.4772,2,179.3,2,179.0,2,63.96,2,34.55,2,0.00,2,2.38,2,0.798,2,0.388,2,0.039,2,1.102,2,-999.0,9,2325.3,2,-999.0,9,-999.00,1,20050901,2251,-57.3269,-83.0651
316N20050821,AAIW,32,1,9,9,2,20050901,2133,-57.3241,-83.0734,1527.9,2.4528,34.5869,2,34.5877,2,172.0,2,171.5,2,75.75,2,34.11,2,0.00,2,2.36,2,0.399,2,0.176,2,0.019,2,0.570,2,-999.0,9,2338.2,2,-999.0,9,-999.00,1,20050901,2245,-57.3273,-83.0643
316N20050821,AAIW,32,1,8,8,2,20050901,2133,-57.3241,-83.0734,1810.9,2.2802,34.6572,2,34.6584,2,172.9,2,171.9,2,82.94,2,33.44,2,0.00,2,2.30,2,0.197,2,0.089,2,0.000,2,0.328,2,-999.0,9,-999.0,9,-999.0,9,-999.00,9,20050901,2239,-57.3278,-83.0634
316N20050821,AAIW,32,1,7,7,2,20050901,2133,-57.3241,-83.0734,2092.4,2.1051,34.6996,2,34.7008,2,178.3,2,178.3,2,87.94,2,32.45,2,0.00,2,2.25,2,0.130,2,0.058,2,0.000,2,0.214,2,-999.0,9,-999.0,9,-999.0,9,-999.00,9,20050901,2233,-57.3285,-83.0624
316N20050821,AAIW,32,1,6,6,2,20050901,2133,-57.3241,-83.0734,2559.6,1.7409,34.7214,2,34.7219,2,184.9,2,184.4,2,100.20,2,32.28,2,0.00,2,2.23,2,0.057,2,0.023,2,0.000,2,0.091,2,-999.0,9,2360.4,2,-999.0,9,-999.00,1,20050901,2223,-57.3294,-83.0607
316N20050821,AAIW,32,1,5,5,2,20050901,2133,-57.3241,-83.0734,3056.1,1.4529,34.7239,2,34.7243,2,192.7,2,192.9,2,107.64,2,32.16,2,0.00,2,2.21,2,0.041,2,0.016,2,0.000,2,0.091,2,-999.0,9,-999.0,9,-999.0,9,-999.00,9,20050901,2214,-57.3302,-83.0580
316N20050821,AAIW,32,1,4,4,2,20050901,2133,-57.3241,-83.0734,3558.7,1.1290,34.7180,2,34.7183,2,199.8,2,199.8,2,116.73,2,32.16,2,0.00,2,2.23,2,0.054,2,0.024,2,0.000,2,0.133,2,-999.0,9,-999.0,9,-999.0,9,-999.00,9,20050901,2205,-57.3308,-83.0550
316N20050821,AAIW,32,1,3,3,2,20050901,2133,-57.3241,-83.0734,4069.0,0.8020,34.7096,2,34.7102,2,205.9,2,206.1,2,126.43,2,32.53,2,0.00,2,2.24,2,0.077,2,0.032,2,0.000,2,0.194,2,-999.0,9,-999.0,9,-999.0,9,-999.00,9,20050901,2156,-57.3318,-83.0520
316N20050821,AAIW,32,1,2,2,2,20050901,2133,-57.3241,-83.0734,4573.2,0.6301,34.7069,2,34.7079,2,209.2,2,210.4,2,134.14,2,32.75,2,0.00,2,2.25,2,0.063,2,0.036,2,0.000,2,0.234,2,-999.0,9,-999.0,9,-999.0,9,-999.00,9,20050901,2146,-57.3326,-83.0494
316N20050821,AAIW,32,1,1,1,2,20050901,2133,-57.3241,-83.0734,5334.2,0.6670,34.7058,2,34.7065,2,212.5,2,210.8,2,136.36,2,32.74,2,0.00,2,2.25,2,0.080,6,0.039,6,0.000,6,0.273,6,-999.0,9,2364.1,2,-999.0,9,-999.00,1,20050901,2133,-57.3333,-83.0456
316N20050821,AAIW,33,1,24,24,2,20050902,502,-56.9792,-84.0253,12.9,4.8960,34.1359,2,34.1348,2,-999.0,9,299.7,2,5.33,2,21.13,2,0.04,2,1.51,2,4.841,2,2.640,2,0.421,2,5.900,2,2126.3,2,2272.9,2,-999.0,9,-999.00,1,20050902,709,-56.9792,-84.0253
316N20050821,AAIW,33,1,23,23,2,20050902,502,-56.9792,-84.0253,27.7,4.9321,34.1429,2,34.1452,2,-999.0,9,299.3,2,5.12,2,20.96,2,0.04,2,1.50,2,4.830,2,2.643,2,0.429,2,5.882,2,2125.1,2,2272.5,2,-999.0,9,-999.00,1,20050902,708,-56.9793,-84.0248
316N20050821,AAIW,33,1,22,22,2,20050902,502,-56.9792,-84.0253,57.2,4.9674,34.1486,2,34.1493,2,-999.0,9,298.6,2,5.11,2,20.91,2,0.04,2,1.49,2,4.807,2,2.693,2,0.422,2,5.806,2,2124.7,2,2273.6,2,-999.0,9,-999.00,1,20050902,705,-56.9795,-84.0241
316N20050821,AAIW,33,1,21,21,2,20050902,502,-56.9792,-84.0253,87.0,4.9689,34.1487,2,34.1497,2,-999.0,9,298.3,2,5.09,2,20.91,2,0.04,2,1.49,2,4.832,6,2.682,6,0.419,6,5.780,6,2125.5,2,2272.7,2,-999.0,9,-999.00,1,20050902,703,-56.9796,-84.0234
316N20050821,AAIW,33,1,20,20,2,20050902,502,-56.9792,-84.0253,156.3,4.9527,34.1469,2,34.1119,4,-999.0,5,-999.0,5,5.08,2,20.96,2,0.04,2,1.49,2,4.814,2,2.628,2,0.417,2,5.874,2,2124.8,2,2272.8,2,-999.0,9,-999.00,1,20050902,700,-56.9799,-84.0226
316N20050821,AAIW,33,1,19,19,2,20050902,502,-56.9792,-84.0253,225.2,4.9534,34.1466,2,34.1484,2,-999.0,9,298.9,2,5.06,2,20.96,2,0.04,2,1.49,2,4.803,2,2.637,2,0.430,2,5.992,2,2125.3,2,2272.9,2,-999.0,9,-999.00,1,20050902,657,-56.9802,-84.0221
316N20050821,AAIW,33,1,18,18,2,20050902,502,-56.9792,-84.0253,323.8,4.8873,34.1386,2,34.1396,2,-999.0,9,299.2,2,5.63,2,21.12,2,0.04,2,1.50,2,4.940,2,2.588,2,0.413,2,5.832,2,2126.3,2,2273.0,2,-999.0,9,-999.00,1,20050902,654,-56.9804,-84.0214
316N20050821,AAIW,33,1,17,17,2,20050902,502,-56.9792,-84.0253,422.9,4.7826,34.1377,2,34.1331,2,-999.0,9,288.9,2,7.40,2,22.79,2,0.02,2,1.59,2,4.703,2,2.594,2,0.394,2,5.471,2,41.1,3,2273.5,2,-999.0,9,-999.00,1,20050902,651,-56.9806,-84.0207
316N20050821,AAIW,33,1,16,16,2,20050902,502,-56.9792,-84.0253,522.0,4.8047,34.1799,2,34.1813,2,-999.0,9,263.1,2,12.12,2,25.21,2,0.01,2,1.75,2,4.095,2,2.158,2,0.325,2,4.408,2,2149.8,2,2278.2,2,-999.0,9,-999.00,1,20050902,649,-56.9809,-84.0202
316N20050821,AAIW,33,1,15,15,2,20050902,502,-56.9792,-84.0253,622.2,4.5193,34.2123,2,34.2138,2,-999.0,9,241.8,2,18.04,2,27.56,2,0.01,2,1.90,2,3.510,2,1.841,2,0.243,2,3.725,2,2169.0,2,2281.9,2,-999.0,9,-999.00,1,20050902,646,-56.9811,-84.0195
316N20050821,AAIW,33,1,14,14,2,20050902,502,-56.9792,-84.0253,722.4,4.1684,34.2435,2,34.2459,2,-999.0,9,227.6,2,24.55,2,29.39,2,0.00,2,2.02,2,3.017,2,1.543,2,0.199,2,3.233,2,2182.3,2,2287.7,2,-999.0,9,-999.00,1,20050902,643,-56.9813,-84.0189
316N20050821,AAIW,33,1,13,13,2,20050902,502,-56.9792,-84.0253,820.0,3.8146,34.2666,2,34.2679,2,-999.0,9,219.5,2,30.49,2,30.72,2,0.00,2,2.11,2,2.707,2,1.390,2,0.173,2,2.960,2,2192.9,2,2291.2,2,-999.0,9,-999.00,1,20050902,639,-56.9813,-84.0184
316N20050821,AAIW,33,1,12,12,2,20050902,502,-56.9792,-84.0253,919.5,3.4126,34.3000,2,34.3012,2,-999.0,9,210.4,2,37.82,2,31.86,2,0.00,2,2.20,2,2.243,2,1.121,2,0.151,2,2.606,2,2205.7,2,2299.0,2,-999.0,9,-999.00,1,20050902,636,-56.9815,-84.0178
316N20050821,AAIW,33,1,11,11,2,20050902,502,-56.9792,-84.0253,1167.4,2.8695,34.4124,2,34.4139,2,-999.0,9,186.9,2,55.71,2,33.96,2,0.00,2,2.34,2,1.250,2,0.603,2,0.072,2,1.634,2,2235.6,2,2316.4,2,-999.0,9,-999.00,1,20050902,630,-56.9818,-84.0167
316N20050821,AAIW,33,1,10,10,2,20050902,502,-56.9792,-84.0253,1394.4,2.5988,34.5206,2,34.5233,2,-999.0,9,173.5,2,69.26,2,34.22,2,0.00,2,2.37,2,0.638,2,0.291,2,0.039,2,0.930,2,2249.3,2,2328.9,2,-999.0,9,-999.00,1,20050902,624,-56.9821,-84.0158
316N20050821,AAIW,33,1,9,9,2,20050902,502,-56.9792,-84.0253,1689.8,2.3884,34.6191,2,34.6204,2,-999.0,9,170.1,2,79.26,2,33.89,2,0.00,2,2.34,2,0.307,2,0.142,2,0.011,2,0.473,2,2259.1,2,2341.4,2,-999.0,9,-999.00,1,20050902,617,-56.9827,-84.0150
316N20050821,AAIW,33,1,8,8,2,20050902,502,-56.9792,-84.0253,1982.5,2.2034,34.6732,2,34.6743,2,-999.0,5,170.6,3,87.47,2,33.19,2,0.00,2,2.30,2,0.131,2,0.064,2,0.000,2,0.225,2,2263.8,2,2350.1,2,-999.0,9,-999.00,1,20050902,610,-56.9832,-84.0143
316N20050821,AAIW,33,1,7,7,2,20050902,502,-56.9792,-84.0253,2376.9,1.9471,34.7110,2,34.7118,2,-999.0,5,177.9,3,95.30,2,32.44,2,0.00,2,2.25,2,0.070,2,0.034,2,0.000,2,0.142,2,2265.7,2,2357.8,2,-999.0,9,-999.00,1,20050902,602,-56.9840,-84.0132
316N20050821,AAIW,33,1,6,6,2,20050902,502,-56.9792,-84.0253,2877.0,1.6019,34.7231,2,34.7244,2,-999.0,9,187.6,2,104.77,2,32.10,2,0.00,2,2.22,2,0.061,2,0.032,2,0.000,2,0.112,2,2265.2,2,2361.7,2,-999.0,9,-999.00,1,20050902,552,-56.9853,-84.0126
316N20050821,AAIW,33,1,5,5,2,20050902,502,-56.9792,-84.0253,3385.4,1.3122,34.7223,2,34.7236,2,-999.0,9,196.0,2,-999.00,9,-999.00,9,-999.00,9,-999.00,9,0.060,2,0.039,2,0.000,2,0.134,2,2262.4,2,2361.4,2,-999.0,9,-999.00,1,20050902,543,-56.9867,-84.0117
316N20050821,AAIW,33,1,4,4,2,20050902,502,-56.9792,-84.0253,3891.7,0.9902,34.7137,2,34.7150,2,-999.0,9,202.3,2,121.34,2,32.21,2,0.00,2,2.23,2,0.079,2,0.040,2,0.000,2,0.193,2,2263.1,2,2360.4,2,-999.0,9,-999.00,1,20050902,533,-56.9879,-84.0108
316N20050821,AAIW,33,1,3,3,2,20050902,502,-56.9792,-84.0253,4404.0,0.7011,34.7081,2,34.7095,2,-999.0,9,207.6,2,131.49,2,32.48,2,0.00,2,2.24,2,0.055,2,0.028,2,0.000,2,0.199,2,2265.3,2,2364.2,2,-999.0,9,-999.00,1,20050902,523,-56.9892,-84.0099
316N20050821,AAIW,33,1,2,2,2,20050902,502,-56.9792,-84.0253,4915.5,0.6431,34.7065,2,34.7084,3,-999.0,9,210.2,2,135.76,2,32.53,2,0.00,2,2.26,2,0.065,2,0.035,2,0.000,2,0.264,2,2265.8,2,2363.3,2,-999.0,9,-999.00,1,20050902,513,-56.9902,-84.0085
316N20050821,AAIW,33,1,1,1,2,20050902,502,-56.9792,-84.0253,5365.4,0.6767,34.7061,2,34.7076,3,-999.0,9,210.0,2,135.96,2,32.58,2,0.00,2,2.25,2,0.073,2,0.036,2,0.000,2,0.270,2,2266.8,2,2363.7,2,-999.0,9,-999.00,1,20050902,502,-56.9916,-84.0073