BOTTLE,20220819CCHSIOAMB
EXPOCODE,SECT_ID,STNNBR,CASTNO,SAMPNO,BTLNBR,BTLNBR_FLAG_W,DATE,TIME,LATITUDE,LONGITUDE,CTDPRS,CTDTMP,CTDSAL,CTDSAL_FLAG_W,SALNTY,SALNTY_FLAG_W,CTDOXY,CTDOXY_FLAG_W,OXYGEN,OXYGEN_FLAG_W,SILCAT,SILCAT_FLAG_W,NITRAT,NITRAT_FLAG_W,NITRIT,NITRIT_FLAG_W,PHSPHT,PHSPHT_FLAG_W,CFC-11,CFC-11_FLAG_W,CFC-12,CFC-12_FLAG_W,CFC113,CFC113_FLAG_W,CCL4,CCL4_FLAG_W,TCARBN,TCARBN_FLAG_W,ALKALI,ALKALI_FLAG_W,PCO2,PCO2_FLAG_W,PH_SWS,PH_SWS_FLAG_W,BTL_DATE,BTL_TIME,BTL_LAT,BTL_LON
,,,,,,,,,,,DBAR,ITS-90,PSS-78,,PSS-78,,UMOL/KG,,UMOL/KG,,UMOL/KG,,UMOL/KG,,UMOL/KG,,UMOL/KG,,PMOL/KG,,PMOL/KG,,PMOL/KG,,PMOL/KG,,UMOL/KG,,UMOL/KG,,UATM,,,,,,,
316N20050821,AAIW,70,1,24,24,4,20050915,1347,-55.0298,-103.0352,7.6,5.7038,34.1924,2,34.1941,2,297.8,2,297.1,2,3.80,2,19.24,2,0.09,2,1.36,2,4.735,2,2.643,2,0.425,2,6.104,2,2116.0,6,2273.4,2,-999.0,9,-999.00,1,20050915,1548,-55.0298,-103.0352
316N20050821,AAIW,70,1,23,23,4,20050915,1347,-55.0298,-103.0352,48.9,5.7039,34.1925,2,34.1931,2,297.9,2,297.3,2,3.80,2,19.24,2,0.09,2,1.35,2,4.651,2,2.611,2,0.414,2,6.119,2,2116.8,2,2274.9,2,-999.0,9,-999.00,1,20050915,1546,-55.0295,-103.0349
316N20050821,AAIW,70,1,22,22,4,20050915,1347,-55.0298,-103.0352,98.2,5.7081,34.1926,2,34.1943,2,297.6,2,297.5,2,3.81,2,19.24,2,0.09,2,1.35,2,4.683,2,2.604,2,0.423,2,6.143,2,2116.2,2,2273.7,2,-999.0,9,-999.00,1,20050915,1544,-55.0292,-103.0345
316N20050821,AAIW,70,1,21,21,4,20050915,1347,-55.0298,-103.0352,156.6,5.7166,34.1927,2,34.1939,2,297.1,2,297.2,2,3.81,2,19.28,2,0.09,2,1.35,2,4.900,4,2.604,2,0.413,2,6.155,2,2115.6,2,2272.5,2,-999.0,9,-999.00,1,20050915,1541,-55.0287,-103.0341
316N20050821,AAIW,70,1,20,20,2,20050915,1347,-55.0298,-103.0352,256.7,5.7172,34.1930,2,34.1930,2,298.4,2,296.7,2,4.03,2,19.34,2,0.07,2,1.36,2,4.672,2,2.607,2,0.416,2,6.034,2,2117.1,2,2273.7,2,-999.0,9,-999.00,1,20050915,1537,-55.0282,-103.0336
316N20050821,AAIW,70,1,19,19,2,20050915,1347,-55.0298,-103.0352,305.7,5.4604,34.1716,2,34.1718,2,291.6,2,290.7,2,4.83,2,20.68,2,0.01,2,1.44,2,4.663,2,2.634,2,0.419,2,5.881,2,2126.5,3,2273.1,2,-999.0,9,-999.00,1,20050915,1534,-55.0277,-103.0331
316N20050821,AAIW,70,1,18,18,2,20050915,1347,-55.0298,-103.0352,355.5,5.3335,34.1556,2,34.1566,2,294.1,2,293.6,2,4.64,2,20.69,2,0.01,2,1.45,2,4.685,2,2.638,2,0.421,2,5.853,2,2122.4,2,2273.3,2,-999.0,9,-999.00,1,20050915,1531,-55.0274,-103.0327
316N20050821,AAIW,70,1,17,17,3,20050915,1347,-55.0298,-103.0352,404.8,5.3050,34.1551,2,34.1869,2,-999.0,9,234.2,4,8.87,4,22.25,4,0.01,4,1.55,4,0.333,4,0.166,4,0.000,4,0.751,4,2151.6,3,2278.9,3,-999.0,9,-999.00,1,20050915,1528,-55.0271,-103.0324
316N20050821,AAIW,70,1,16,16,2,20050915,1347,-55.0298,-103.0352,456.0,5.3267,34.1626,2,34.1638,2,290.9,2,290.8,2,5.46,2,21.15,2,0.01,2,1.47,2,4.673,2,2.652,2,0.401,2,5.942,2,2125.0,2,2273.9,2,-999.0,9,-999.00,1,20050915,1525,-55.0266,-103.0321
316N20050821,AAIW,70,1,15,15,2,20050915,1347,-55.0298,-103.0352,504.4,5.5499,34.2146,2,34.2155,2,275.7,2,275.6,2,7.68,2,22.40,2,0.00,2,1.55,2,4.350,2,2.430,2,0.355,2,5.052,2,2133.0,2,2274.5,2,-999.0,9,-999.00,1,20050915,1523,-55.0263,-103.0318
316N20050821,AAIW,70,1,14,14,2,20050915,1347,-55.0298,-103.0352,605.2,5.2623,34.2150,2,34.2167,2,251.7,2,251.7,2,12.52,2,25.12,2,0.00,2,1.72,2,3.829,2,2.080,2,0.283,2,4.247,2,2151.1,2,2279.4,2,-999.0,9,-999.00,1,20050915,1519,-55.0258,-103.0313
316N20050821,AAIW,70,1,13,13,2,20050915,1347,-55.0298,-103.0352,706.1,4.9497,34.2471,2,34.2455,2,234.6,2,234.9,2,17.77,2,27.28,2,0.00,2,1.85,2,3.243,2,1.703,2,0.243,2,3.603,2,2166.1,2,2284.6,2,-999.0,9,-999.00,1,20050915,1516,-55.0255,-103.0309
316N20050821,AAIW,70,1,12,12,2,20050915,1347,-55.0298,-103.0352,804.0,4.4908,34.2719,2,34.2714,2,221.6,2,221.0,2,24.44,2,29.24,2,0.00,2,1.99,2,2.807,2,1.446,2,0.188,2,3.113,2,2179.9,2,2287.8,2,-999.0,9,-999.00,1,20050915,1512,-55.0252,-103.0306
316N20050821,AAIW,70,1,11,11,2,20050915,1347,-55.0298,-103.0352,900.5,4.0382,34.2931,2,34.2922,2,213.7,2,212.9,2,31.12,2,30.59,2,0.00,2,2.09,2,2.395,2,1.246,2,0.167,2,2.830,2,2192.9,2,2292.8,3,-999.0,9,-999.00,1,20050915,1508,-55.0251,-103.0305
316N20050821,AAIW,70,1,10,10,2,20050915,1347,-55.0298,-103.0352,1099.9,3.2790,34.3600,2,34.3590,2,196.3,2,196.9,2,46.13,2,32.91,2,0.00,2,2.25,2,1.584,2,0.827,2,0.101,2,2.162,2,2216.9,2,2307.9,2,-999.0,9,-999.00,1,20050915,1503,-55.0245,-103.0296
316N20050821,AAIW,70,1,9,9,2,20050915,1347,-55.0298,-103.0352,1298.8,2.8640,34.4420,2,34.4400,2,182.6,2,182.4,2,59.15,2,34.02,2,0.00,2,2.33,2,1.027,6,0.512,6,0.041,6,1.401,6,2235.9,2,2319.5,2,-999.0,9,-999.00,1,20050915,1458,-55.0238,-103.0291
316N20050821,AAIW,70,1,8,8,2,20050915,1347,-55.0298,-103.0352,1496.7,2.6148,34.5267,2,34.5264,2,173.8,2,173.2,2,69.76,2,34.25,2,0.00,2,2.35,2,0.602,2,0.297,2,0.029,2,0.935,2,2247.7,2,2331.1,2,-999.0,9,-999.00,1,20050915,1453,-55.0233,-103.0283
316N20050821,AAIW,70,1,7,7,2,20050915,1347,-55.0298,-103.0352,1795.6,2.3718,34.6273,2,34.6275,2,172.0,2,171.8,2,78.76,2,33.52,2,0.00,2,2.30,2,0.328,2,0.162,2,0.000,2,0.532,2,2254.4,2,2339.5,2,-999.0,9,-999.00,1,20050915,1446,-55.0226,-103.0278
316N20050821,AAIW,70,1,6,6,2,20050915,1347,-55.0298,-103.0352,2197.7,2.1250,34.6999,2,34.7004,2,177.5,2,177.6,2,87.59,2,32.45,2,0.00,2,2.21,2,0.136,2,0.070,2,0.000,2,0.219,2,2255.7,2,2349.8,2,-999.0,9,-999.00,1,20050915,1437,-55.0214,-103.0271
316N20050821,AAIW,70,1,5,5,2,20050915,1347,-55.0298,-103.0352,2700.9,1.7031,34.7172,2,34.7169,2,183.3,2,182.9,2,103.63,2,32.25,2,0.00,2,2.22,2,0.046,2,0.024,2,0.000,2,0.087,2,2266.3,2,2363.3,2,-999.0,9,-999.00,1,20050915,1428,-55.0203,-103.0257
316N20050821,AAIW,70,1,4,4,2,20050915,1347,-55.0298,-103.0352,3201.7,1.4515,34.7208,2,34.7207,2,191.1,2,191.1,2,109.63,2,32.06,2,0.00,2,2.20,2,0.042,2,0.024,2,0.000,2,0.152,2,2264.3,2,2364.1,2,-999.0,9,-999.00,1,20050915,1418,-55.0194,-103.0250
316N20050821,AAIW,70,1,3,3,2,20050915,1347,-55.0298,-103.0352,3703.7,1.0270,34.7142,2,34.7129,2,200.5,2,200.5,2,122.88,2,32.29,2,0.00,2,2.22,2,0.066,2,0.034,2,0.000,2,0.262,2,2264.1,2,2363.8,2,-999.0,9,-999.00,1,20050915,1407,-55.0185,-103.0241
316N20050821,AAIW,70,1,2,2,2,20050915,1347,-55.0298,-103.0352,4205.5,0.7740,34.7091,2,34.7103,2,205.4,2,205.3,2,131.20,2,32.44,2,0.00,2,2.22,2,0.086,2,0.041,2,0.000,2,0.151,2,2267.5,2,2362.7,2,-999.0,9,-999.00,1,20050915,1357,-55.0178,-103.0231
316N20050821,AAIW,70,1,1,1,2,20050915,1347,-55.0298,-103.0352,4715.4,0.7305,34.7071,2,34.7096,3,208.9,2,207.9,2,133.30,2,32.48,2,0.00,2,2.24,2,0.131,2,0.064,2,0.000,2,0.253,4,2267.1,6,2365.7,2,-999.0,9,-999.00,1,20050915,1347,-55.0167,-103.0225
316N20050821,AAIW,71,1,24,24,4,20050915,2213,-55.5761,-103.0618,14.6,5.4684,34.1653,2,34.1678,2,299.9,2,298.8,2,4.56,2,19.73,2,0.08,2,1.40,2,4.773,2,2.694,2,0.439,2,6.093,2,2120.9,6,2273.9,2,-999.0,9,-999.00,1,20050916,7,-55.5761,-103.0618
316N20050821,AAIW,71,1,23,23,4,20050915,2213,-55.5761,-103.0618,37.1,5.4716,34.1653,2,34.1681,2,300.3,2,298.9,2,4.56,2,19.77,2,0.08,2,1.40,2,4.790,2,2.692,2,0.439,2,6.122,2,2122.6,2,2274.3,2,-999.0,9,-999.00,1,20050916,6,-55.5761,-103.0618
316N20050821,AAIW,71,1,22,22,4,20050915,2213,-55.5761,-103.0618,67.1,5.4832,34.1663,2,34.1703,2,299.8,2,298.4,2,4.36,2,19.77,2,0.08,2,1.40,2,4.770,2,2.678,2,0.439,2,6.136,2,2119.9,2,2273.5,2,-999.0,9,-999.00,1,20050916,5,-55.5761,-103.0616
316N20050821,AAIW,71,1,21,21,4,20050915,2213,-55.5761,-103.0618,116.9,5.4893,34.1665,2,34.1687,2,300.1,2,298.3,2,4.56,2,19.72,2,0.08,2,1.40,2,4.762,2,2.701,2,0.437,2,6.149,2,2120.0,2,2273.8,2,-999.0,9,-999.00,1,20050916,2,-55.5760,-103.0611
316N20050821,AAIW,71,1,20,20,4,20050915,2213,-55.5761,-103.0618,167.3,5.4922,34.1669,2,34.1702,2,299.6,2,297.4,2,4.36,2,19.77,2,0.08,2,1.40,2,4.760,2,2.683,2,0.435,2,6.173,2,2120.5,2,2272.8,2,-999.0,9,-999.00,1,20050915,2400,-55.5759,-103.0605
316N20050821,AAIW,71,1,19,19,2,20050915,2213,-55.5761,-103.0618,266.4,5.4849,34.1854,2,34.1688,3,291.0,2,297.9,2,4.57,2,19.76,2,0.08,2,1.40,2,4.771,2,2.703,2,0.441,2,6.188,2,2119.7,2,2273.9,2,-999.0,9,-999.00,1,20050915,2356,-55.5759,-103.0603
316N20050821,AAIW,71,1,18,18,2,20050915,2213,-55.5761,-103.0618,366.1,5.1729,34.1451,2,34.1479,2,295.8,2,294.8,2,5.37,2,20.86,2,0.02,2,1.47,2,4.777,2,2.664,2,0.440,2,6.103,2,2125.5,2,2272.9,2,-999.0,9,-999.00,1,20050915,2351,-55.5758,-103.0600
316N20050821,AAIW,71,1,17,17,2,20050915,2213,-55.5761,-103.0618,425.1,5.1966,34.1587,2,34.1596,2,286.0,2,286.3,2,6.78,2,21.86,2,0.01,2,1.53,2,4.614,2,2.551,2,0.415,2,5.635,2,2131.7,2,2274.6,2,-999.0,9,-999.00,1,20050915,2348,-55.5757,-103.0596
316N20050821,AAIW,71,1,16,16,2,20050915,2213,-55.5761,-103.0618,443.9,5.3255,34.1886,2,34.1917,2,272.8,2,271.8,2,8.78,2,23.04,2,0.00,2,1.59,2,4.308,2,2.376,2,0.352,2,4.935,2,2140.3,2,2276.2,2,-999.0,9,-999.00,1,20050915,2346,-55.5757,-103.0595
316N20050821,AAIW,71,1,15,15,2,20050915,2213,-55.5761,-103.0618,544.5,5.0302,34.2048,2,34.2089,2,251.7,2,250.6,2,13.81,2,25.66,2,0.00,2,1.77,2,3.815,2,2.064,2,0.281,2,4.020,2,2156.3,2,2279.7,2,-999.0,9,-999.00,1,20050915,2343,-55.5757,-103.0589
316N20050821,AAIW,71,1,14,14,2,20050915,2213,-55.5761,-103.0618,644.8,4.8397,34.2630,2,34.2662,2,229.3,2,227.8,2,20.26,2,27.80,2,0.00,2,1.91,2,2.972,2,1.547,2,0.186,2,3.065,2,2175.3,2,2284.3,2,-999.0,9,-999.00,1,20050915,2339,-55.5755,-103.0584
316N20050821,AAIW,71,1,13,13,2,20050915,2213,-55.5761,-103.0618,745.0,4.4751,34.2806,2,34.2850,2,219.8,2,218.7,2,25.50,2,29.34,2,0.00,2,2.00,2,2.676,2,1.394,2,0.180,2,2.873,2,2183.8,2,2289.7,2,-999.0,9,-999.00,1,20050915,2336,-55.5755,-103.0579
316N20050821,AAIW,71,1,12,12,2,20050915,2213,-55.5761,-103.0618,844.1,3.9745,34.2972,2,34.3018,2,211.1,2,211.7,2,31.96,2,30.77,2,0.00,2,2.10,2,2.329,2,1.173,2,0.167,2,2.880,2,2194.9,2,2294.3,2,-999.0,9,-999.00,1,20050915,2332,-55.5754,-103.0576
316N20050821,AAIW,71,1,11,11,2,20050915,2213,-55.5761,-103.0618,943.2,3.5834,34.3219,2,34.3269,2,204.9,2,204.6,2,38.83,2,31.82,2,0.00,2,2.18,2,1.983,2,0.998,2,0.145,2,2.581,2,2207.3,2,2299.5,2,-999.0,9,-999.00,1,20050915,2329,-55.5753,-103.0572
316N20050821,AAIW,71,1,10,10,2,20050915,2213,-55.5761,-103.0618,1088.9,3.1739,34.3811,2,34.3833,2,192.8,2,192.1,2,49.55,2,33.12,2,0.00,2,2.28,2,1.410,2,0.702,2,0.086,2,1.910,2,2223.6,2,2312.1,2,-999.0,9,-999.00,1,20050915,2324,-55.5751,-103.0570
316N20050821,AAIW,71,1,9,9,2,20050915,2213,-55.5761,-103.0618,1280.5,2.7713,34.4613,2,34.4626,2,180.9,2,180.5,2,61.52,2,33.98,2,0.00,2,2.34,2,0.925,2,0.467,2,0.055,2,1.398,2,2247.3,2,2322.3,2,-999.0,9,-999.00,1,20050915,2319,-55.5745,-103.0566
316N20050821,AAIW,71,1,8,8,2,20050915,2213,-55.5761,-103.0618,1470.2,2.5818,34.5393,2,34.5418,2,173.3,2,172.1,2,71.28,2,33.93,2,0.00,2,2.35,2,0.545,2,0.255,2,0.018,2,0.889,2,2251.3,2,2334.3,2,-999.0,9,-999.00,1,20050915,2314,-55.5747,-103.0561
316N20050821,AAIW,71,1,7,7,2,20050915,2213,-55.5761,-103.0618,1705.9,2.4188,34.6135,2,34.6177,2,170.5,2,169.5,2,78.82,2,33.63,2,0.00,2,2.31,2,0.311,6,0.150,6,0.008,6,0.551,6,2257.7,2,2340.4,2,-999.0,9,-999.00,1,20050915,2308,-55.5746,-103.0552
316N20050821,AAIW,71,1,6,6,2,20050915,2213,-55.5761,-103.0618,1999.6,2.2211,34.6791,2,34.6812,2,174.3,2,174.4,2,84.54,2,32.56,2,0.00,2,2.25,2,0.177,2,0.084,2,0.000,2,0.343,2,2258.0,2,2347.7,2,-999.0,9,-999.00,1,20050915,2302,-55.5746,-103.0538
316N20050821,AAIW,71,1,5,5,2,20050915,2213,-55.5761,-103.0618,2496.7,1.8424,34.7171,2,34.7195,3,181.4,2,181.6,2,97.83,2,32.08,2,0.00,2,2.21,2,0.072,2,0.036,2,0.000,2,0.129,2,2265.0,2,2358.9,2,-999.0,9,-999.00,1,20050915,2253,-55.5744,-103.0513
316N20050821,AAIW,71,1,4,4,2,20050915,2213,-55.5761,-103.0618,2992.2,1.5445,34.7226,2,34.7245,3,189.4,2,189.0,2,106.45,2,31.84,2,0.00,2,2.20,2,0.047,2,0.024,2,0.000,2,0.107,2,2265.0,2,2363.3,2,-999.0,9,-999.00,1,20050915,2243,-55.5741,-103.0491
316N20050821,AAIW,71,1,3,3,2,20050915,2213,-55.5761,-103.0618,3494.5,1.1914,34.7175,2,34.7223,3,196.7,2,196.9,2,116.54,2,31.98,2,0.00,2,2.21,2,0.053,2,0.025,2,0.000,2,0.141,2,2265.3,2,2364.6,2,-999.0,9,-999.00,1,20050915,2234,-55.5741,-103.0465
316N20050821,AAIW,71,1,2,2,2,20050915,2213,-55.5761,-103.0618,3997.6,0.8237,34.7104,2,34.7105,2,203.9,2,204.3,2,128.92,2,32.41,2,0.00,2,2.23,2,0.076,2,0.032,2,0.000,2,0.230,2,2271.1,2,2370.7,2,-999.0,9,-999.00,1,20050915,2225,-55.5731,-103.0444
316N20050821,AAIW,71,1,1,1,2,20050915,2213,-55.5761,-103.0618,4650.9,0.7144,34.7073,2,34.7101,3,211.3,2,208.0,2,132.03,2,32.26,2,0.00,2,2.23,2,0.140,2,0.064,2,0.000,2,0.408,2,2267.0,6,2366.1,2,-999.0,9,-999.00,1,20050915,2213,-55.5726,-103.0409
316N20050821,AAIW,72,1,24,24,4,20050916,604,-56.1448,-103.0273,5.6,5.0291,34.1330,2,34.1369,2,301.3,2,300.6,2,5.13,2,20.75,2,0.06,2,1.46,2,4.935,2,2.753,2,0.459,2,6.455,2,2124.1,6,2273.0,2,-999.0,9,-999.00,1,20050916,751,-56.1448,-103.0273
316N20050821,AAIW,72,1,23,23,4,20050916,604,-56.1448,-103.0273,38.1,5.0325,34.1330,2,34.1368,2,301.6,2,300.6,2,5.13,2,20.75,2,0.06,2,1.47,2,4.848,2,2.788,2,0.463,2,6.435,2,2123.0,2,2272.3,2,-999.0,9,-999.00,1,20050916,750,-56.1448,-103.0271
316N20050821,AAIW,72,1,22,22,4,20050916,604,-56.1448,-103.0273,67.8,5.0341,34.1325,2,34.1360,2,301.5,2,300.6,2,5.13,2,20.75,2,0.06,2,1.47,2,4.855,2,2.780,2,0.464,2,6.485,2,2123.0,2,2272.9,2,-999.0,9,-999.00,1,20050916,748,-56.1447,-103.0269
316N20050821,AAIW,72,1,21,21,4,20050916,604,-56.1448,-103.0273,103.0,5.0370,34.1327,2,34.1373,2,301.4,2,300.5,2,5.13,2,20.81,2,0.06,2,1.46,2,4.861,2,2.795,2,0.453,2,6.428,2,2123.7,2,2271.8,2,-999.0,9,-999.00,1,20050916,747,-56.1446,-103.0267
316N20050821,AAIW,72,1,20,20,4,20050916,604,-56.1448,-103.0273,152.3,5.0424,34.1329,2,34.1365,2,300.9,2,300.1,2,5.13,2,20.81,2,0.05,2,1.46,2,4.870,2,2.771,2,0.460,2,6.426,2,2123.7,2,2273.3,2,-999.0,9,-999.00,1,20050916,744,-56.1444,-103.0264
316N20050821,AAIW,72,1,19,19,4,20050916,604,-56.1448,-103.0273,201.9,5.0493,34.1334,2,34.1355,2,300.2,2,300.0,2,5.13,2,20.72,2,0.05,2,1.46,2,4.845,2,2.747,2,0.456,2,6.221,2,2123.9,2,2272.3,2,-999.0,9,-999.00,1,20050916,742,-56.1443,-103.0261
316N20050821,AAIW,72,1,18,18,2,20050916,604,-56.1448,-103.0273,251.5,5.0537,34.1346,2,34.1357,2,299.6,2,298.4,2,5.13,2,20.97,2,0.05,2,1.46,2,4.853,2,2.669,2,0.466,2,6.158,2,2124.0,2,2273.6,2,-999.0,9,-999.00,1,20050916,739,-56.1442,-103.0256
316N20050821,AAIW,72,1,17,17,2,20050916,604,-56.1448,-103.0273,302.9,5.0391,34.1379,2,34.1412,2,295.5,2,295.8,2,5.53,2,21.33,2,0.02,2,1.48,2,4.801,2,2.652,2,0.424,2,5.994,2,2125.3,2,2272.6,2,-999.0,9,-999.00,1,20050916,737,-56.1440,-103.0256
316N20050821,AAIW,72,1,16,16,2,20050916,604,-56.1448,-103.0273,351.2,5.0190,34.1387,2,34.1439,2,292.6,2,293.5,2,5.93,2,21.62,2,0.02,2,1.51,2,4.742,2,2.640,2,0.422,2,5.854,2,2129.6,2,2273.3,2,-999.0,9,-999.00,1,20050916,735,-56.1439,-103.0255
316N20050821,AAIW,72,1,15,15,2,20050916,604,-56.1448,-103.0273,400.2,5.2094,34.1870,2,34.1893,2,270.0,2,266.7,2,10.13,2,23.81,2,0.00,2,1.63,2,4.218,2,2.314,2,0.344,2,4.683,2,2144.9,2,2276.3,2,-999.0,9,-999.00,1,20050916,733,-56.1439,-103.0253
316N20050821,AAIW,72,1,14,14,2,20050916,604,-56.1448,-103.0273,451.3,5.0731,34.2076,2,34.2114,2,250.8,2,250.3,2,13.72,2,25.58,2,0.00,2,1.75,2,3.834,2,2.100,2,0.320,2,4.117,2,2155.5,2,2279.6,2,-999.0,9,-999.00,1,20050916,731,-56.1440,-103.0251
316N20050821,AAIW,72,1,13,13,2,20050916,604,-56.1448,-103.0273,549.6,4.7287,34.2351,2,34.2392,2,237.1,2,235.8,2,18.92,2,27.67,2,0.00,2,1.88,2,3.390,2,1.797,2,0.257,2,3.686,2,2169.8,2,2282.1,2,-999.0,9,-999.00,1,20050916,728,-56.1440,-103.0249
316N20050821,AAIW,72,1,12,12,2,20050916,604,-56.1448,-103.0273,646.9,4.3734,34.2649,2,34.2654,2,223.1,2,223.0,2,24.93,2,29.26,2,0.00,2,1.99,2,2.913,2,1.484,2,0.202,2,3.289,2,2180.6,2,2288.0,2,-999.0,9,-999.00,1,20050916,725,-56.1440,-103.0247
316N20050821,AAIW,72,1,11,11,2,20050916,604,-56.1448,-103.0273,744.3,4.0071,34.2903,2,34.2902,2,213.8,2,213.4,2,30.94,2,30.65,2,0.00,2,2.09,2,2.416,2,1.262,2,0.185,2,2.808,2,2191.9,2,2293.5,2,-999.0,9,-999.00,1,20050916,721,-56.1439,-103.0243
316N20050821,AAIW,72,1,10,10,2,20050916,604,-56.1448,-103.0273,843.1,3.5596,34.3148,2,34.3153,2,206.9,2,206.5,2,37.95,2,31.81,2,0.00,2,2.18,2,2.063,2,1.059,2,0.139,2,2.445,2,2204.6,2,2298.2,2,-999.0,9,-999.00,1,20050916,719,-56.1439,-103.0237
316N20050821,AAIW,72,1,9,9,2,20050916,604,-56.1448,-103.0273,1041.4,3.0392,34.3842,2,34.3871,2,192.1,2,191.7,2,50.82,2,33.45,2,0.00,2,2.29,2,1.429,2,0.728,2,0.078,2,1.864,2,2225.4,2,2312.0,2,-999.0,9,-999.00,1,20050916,714,-56.1438,-103.0229
316N20050821,AAIW,72,1,8,8,2,20050916,604,-56.1448,-103.0273,1287.2,2.6359,34.4974,2,34.4994,2,176.7,2,176.2,2,65.73,2,34.17,2,0.00,2,2.35,2,0.783,2,0.398,2,0.038,2,1.077,2,2243.7,2,2325.7,2,-999.0,9,-999.00,1,20050916,708,-56.1433,-103.0219
316N20050821,AAIW,72,1,7,7,2,20050916,604,-56.1448,-103.0273,1540.0,2.4188,34.5964,2,34.5968,2,171.8,2,171.6,2,75.43,2,33.79,2,0.00,2,2.31,2,0.425,2,0.216,2,0.016,2,0.628,2,2255.1,2,2336.7,2,-999.0,9,-999.00,1,20050916,702,-56.1431,-103.0205
316N20050821,AAIW,72,1,6,6,2,20050916,604,-56.1448,-103.0273,1895.6,2.2064,34.6792,2,34.6794,2,173.7,2,173.7,2,84.94,2,32.64,2,0.00,2,2.25,2,0.153,2,0.088,2,0.000,2,0.275,2,2258.6,2,2346.8,2,-999.0,9,-999.00,1,20050916,655,-56.1428,-103.0187
316N20050821,AAIW,72,1,5,5,2,20050916,604,-56.1448,-103.0273,2401.8,1.8507,34.7194,2,34.7198,2,182.5,2,182.4,2,95.70,2,31.87,2,0.00,2,2.19,2,0.079,6,0.038,6,0.000,6,0.122,6,2261.9,2,2357.5,2,-999.0,9,-999.00,1,20050916,645,-56.1424,-103.0167
316N20050821,AAIW,72,1,4,4,2,20050916,604,-56.1448,-103.0273,2910.8,1.5329,34.7220,2,34.7225,2,189.1,2,189.1,2,106.08,2,31.92,2,0.00,2,2.19,2,0.040,2,0.011,2,0.000,2,0.081,2,2265.1,2,2362.0,2,-999.0,9,-999.00,1,20050916,635,-56.1420,-103.0147
316N20050821,AAIW,72,1,3,3,2,20050916,604,-56.1448,-103.0273,3416.4,1.2033,34.7182,2,34.7180,2,196.8,2,196.6,2,115.25,2,32.07,2,0.00,2,2.20,2,0.047,2,0.022,2,0.000,2,0.118,2,2265.4,2,2364.7,2,-999.0,9,-999.00,1,20050916,625,-56.1411,-103.0141
316N20050821,AAIW,72,1,2,2,2,20050916,604,-56.1448,-103.0273,3922.3,0.8234,34.7108,2,34.7115,2,203.8,2,203.7,2,128.36,2,32.46,2,0.00,2,2.22,2,0.059,2,0.027,2,0.000,2,0.163,2,2269.3,2,2369.0,2,-999.0,9,-999.00,1,20050916,614,-56.1412,-103.0127
316N20050821,AAIW,72,1,1,1,2,20050916,604,-56.1448,-103.0273,4430.5,0.6757,34.7072,2,34.7070,2,209.4,2,208.2,2,132.45,2,32.42,2,0.00,2,2.22,2,0.132,2,0.062,2,0.000,2,0.294,2,2264.8,2,2365.3,2,-999.0,9,-999.00,1,20050916,604,-56.1416,-103.0121