BOTTLE,20220819CCHSIOAMB
EXPOCODE,SECT_ID,STNNBR,CASTNO,SAMPNO,BTLNBR,BTLNBR_FLAG_W,DATE,TIME,LATITUDE,LONGITUDE,CTDPRS,CTDTMP,CTDSAL,CTDSAL_FLAG_W,SALNTY,SALNTY_FLAG_W,CTDOXY,CTDOXY_FLAG_W,OXYGEN,OXYGEN_FLAG_W,SILCAT,SILCAT_FLAG_W,NITRAT,NITRAT_FLAG_W,NITRIT,NITRIT_FLAG_W,PHSPHT,PHSPHT_FLAG_W,CFC-11,CFC-11_FLAG_W,CFC-12,CFC-12_FLAG_W,CFC113,CFC113_FLAG_W,CCL4,CCL4_FLAG_W,TCARBN,TCARBN_FLAG_W,ALKALI,ALKALI_FLAG_W,PCO2,PCO2_FLAG_W,PH_SWS,PH_SWS_FLAG_W,BTL_DATE,BTL_TIME,BTL_LAT,BTL_LON
,,,,,,,,,,,DBAR,ITS-90,PSS-78,,PSS-78,,UMOL/KG,,UMOL/KG,,UMOL/KG,,UMOL/KG,,UMOL/KG,,UMOL/KG,,PMOL/KG,,PMOL/KG,,PMOL/KG,,PMOL/KG,,UMOL/KG,,UMOL/KG,,UATM,,,,,,,
316N20050821,AAIW,116,1,24,24,2,20050930,1835,-49.1245,-89.0109,4.2,6.4067,34.0993,2,34.0977,2,300.5,2,301.1,2,2.25,2,17.33,2,0.24,2,1.36,2,4.479,2,2.544,2,0.393,2,5.810,2,2102.7,6,2265.5,2,-999.0,9,-999.00,9,20050930,2016,-49.1245,-89.0109
316N20050821,AAIW,116,1,23,23,2,20050930,1835,-49.1245,-89.0109,39.7,6.2712,34.0996,2,34.0993,2,300.5,2,301.2,2,2.25,2,17.46,2,0.24,2,1.32,2,4.498,2,2.531,2,0.400,2,5.849,2,2104.2,2,2265.8,2,-999.0,9,-999.00,9,20050930,2014,-49.1243,-89.0108
316N20050821,AAIW,116,1,22,22,2,20050930,1835,-49.1245,-89.0109,85.2,5.9780,34.1293,2,34.1287,2,299.5,2,299.4,2,2.63,2,17.89,2,0.22,2,1.33,2,4.511,2,2.557,2,0.400,2,5.774,2,2108.5,2,2267.5,2,-999.0,9,-999.00,9,20050930,2012,-49.1242,-89.0107
316N20050821,AAIW,116,1,21,21,2,20050930,1835,-49.1245,-89.0109,128.4,5.7690,34.1319,2,34.1324,2,300.5,2,300.0,2,2.83,2,18.14,2,0.24,2,1.30,2,4.551,2,2.559,2,0.397,2,5.689,2,2109.3,2,2268.2,2,-999.0,9,-999.00,9,20050930,2010,-49.1240,-89.0105
316N20050821,AAIW,116,1,20,20,2,20050930,1835,-49.1245,-89.0109,150.0,5.6867,34.1329,2,34.1336,2,299.7,2,299.1,2,3.01,2,18.41,2,0.23,2,1.33,2,4.547,2,2.568,2,0.395,2,5.676,2,2111.2,2,2268.1,2,-999.0,9,-999.00,9,20050930,2009,-49.1240,-89.0105
316N20050821,AAIW,116,1,19,19,2,20050930,1835,-49.1245,-89.0109,164.8,5.6664,34.1446,2,34.1477,2,297.3,2,295.9,2,3.60,2,18.88,2,0.22,2,1.38,2,4.562,2,2.552,2,0.398,2,5.705,2,2114.6,2,2268.9,2,-999.0,9,-999.00,9,20050930,2008,-49.1239,-89.0104
316N20050821,AAIW,116,1,18,18,2,20050930,1835,-49.1245,-89.0109,264.5,5.8583,34.2452,2,34.2450,2,277.5,2,276.8,2,6.53,2,21.50,2,0.00,2,1.56,2,4.343,2,2.381,2,0.353,2,4.548,2,2130.5,2,2273.5,2,-999.0,9,-999.00,9,20050930,2006,-49.1238,-89.0102
316N20050821,AAIW,116,1,17,17,2,20050930,1835,-49.1245,-89.0109,363.9,5.5644,34.2243,2,34.2244,2,280.8,2,280.1,2,6.93,2,21.78,2,0.00,2,1.51,2,4.396,2,2.417,2,0.359,2,4.810,2,2130.4,2,2274.0,2,-999.0,9,-999.00,9,20050930,2003,-49.1236,-89.0101
316N20050821,AAIW,116,1,16,16,2,20050930,1835,-49.1245,-89.0109,463.7,5.3635,34.2145,2,34.2143,2,277.0,2,276.4,2,8.10,2,22.72,2,0.00,2,1.58,2,4.312,2,2.335,2,0.346,2,4.621,2,2135.2,2,2274.4,2,-999.0,9,-999.00,9,20050930,2001,-49.1234,-89.0099
316N20050821,AAIW,116,1,15,15,2,20050930,1835,-49.1245,-89.0109,563.4,5.1731,34.2138,2,34.2141,2,265.0,2,265.8,2,10.06,2,24.27,2,0.00,2,1.67,2,4.057,2,2.155,2,0.294,2,4.235,2,2143.4,2,2276.3,2,-999.0,9,-999.00,9,20050930,1958,-49.1232,-89.0097
316N20050821,AAIW,116,1,14,14,2,20050930,1835,-49.1245,-89.0109,663.4,4.9067,34.2228,2,34.2208,2,249.6,2,250.2,2,14.18,2,26.15,2,0.00,2,1.80,2,3.491,2,1.827,2,0.245,2,3.704,2,2156.6,2,2279.5,2,-999.0,9,-999.00,9,20050930,1956,-49.1230,-89.0095
316N20050821,AAIW,116,1,13,13,2,20050930,1835,-49.1245,-89.0109,763.2,4.5981,34.2522,2,34.2520,2,229.6,2,229.5,2,20.28,2,28.30,2,0.00,2,1.92,2,2.665,2,1.348,2,0.171,2,3.011,2,2173.1,2,2284.8,2,-999.0,9,-999.00,9,20050930,1953,-49.1228,-89.0095
316N20050821,AAIW,116,1,12,12,2,20050930,1835,-49.1245,-89.0109,863.2,4.2109,34.2800,2,34.2792,2,215.6,2,215.6,2,27.16,2,30.09,2,0.00,2,2.12,2,2.006,2,1.023,2,0.123,2,2.565,2,2188.1,2,2290.5,2,-999.0,9,-999.00,9,20050930,1951,-49.1226,-89.0095
316N20050821,AAIW,116,1,11,11,2,20050930,1835,-49.1245,-89.0109,963.1,3.8084,34.3125,2,34.3118,2,204.4,2,204.2,2,35.05,2,31.56,2,0.00,2,2.19,2,1.451,2,0.725,2,0.081,2,2.056,2,2202.4,2,2297.4,2,-999.0,9,-999.00,9,20050930,1948,-49.1224,-89.0095
316N20050821,AAIW,116,1,10,10,2,20050930,1835,-49.1245,-89.0109,1104.0,3.3238,34.3704,2,34.3701,2,187.8,2,187.3,2,47.10,2,33.22,2,0.00,2,2.28,2,0.810,2,0.399,2,0.039,2,1.399,2,2222.7,2,2309.0,2,-999.0,9,-999.00,9,20050930,1945,-49.1222,-89.0096
316N20050821,AAIW,116,1,9,9,2,20050930,1835,-49.1245,-89.0109,1305.3,2.9644,34.4679,2,34.4656,2,160.3,2,160.8,2,64.74,2,35.11,2,0.00,2,2.45,2,0.236,2,0.117,2,0.012,2,0.566,2,2252.9,2,2327.4,2,-999.0,9,-999.00,9,20050930,1940,-49.1220,-89.0095
316N20050821,AAIW,116,1,8,8,2,20050930,1835,-49.1245,-89.0109,1556.1,2.6946,34.5530,2,34.5516,2,144.7,2,144.4,2,82.64,2,35.94,2,0.00,2,2.49,2,0.040,2,0.021,2,0.001,2,0.161,2,2276.7,2,2348.7,2,-999.0,9,-999.00,9,20050930,1935,-49.1217,-89.0095
316N20050821,AAIW,116,1,7,7,2,20050930,1835,-49.1245,-89.0109,1807.3,2.4308,34.6039,2,34.6029,2,147.2,2,146.2,2,93.63,2,35.51,2,0.00,2,2.46,2,0.010,2,0.008,2,0.005,2,0.060,2,2285.5,2,2361.1,2,-999.0,9,-999.00,9,20050930,1930,-49.1216,-89.0094
316N20050821,AAIW,116,1,6,6,2,20050930,1835,-49.1245,-89.0109,2109.4,2.1685,34.6478,2,34.6469,2,155.1,2,154.3,2,101.04,2,34.67,2,0.00,2,2.43,2,0.004,2,0.003,2,0.000,2,0.032,2,2287.8,2,2370.1,2,-999.0,9,-999.00,9,20050930,1924,-49.1214,-89.0094
316N20050821,AAIW,116,1,5,5,2,20050930,1835,-49.1245,-89.0109,2613.3,1.8852,34.6839,2,34.6807,3,162.5,2,161.9,2,110.87,2,33.95,2,0.00,2,2.36,2,0.001,2,0.004,2,0.000,2,0.017,2,2290.6,2,2380.2,2,-999.0,9,-999.00,9,20050930,1915,-49.1212,-89.0093
316N20050821,AAIW,116,1,4,4,2,20050930,1835,-49.1245,-89.0109,3117.5,1.6932,34.7061,2,34.7045,3,176.3,2,176.4,2,110.67,2,32.89,2,0.00,2,2.27,2,0.004,2,0.002,2,0.000,2,0.024,2,2280.2,2,2374.5,2,-999.0,9,-999.00,9,20050930,1905,-49.1212,-89.0090
316N20050821,AAIW,116,1,3,3,2,20050930,1835,-49.1245,-89.0109,3622.0,1.2521,34.7162,2,34.7143,3,193.7,2,193.8,2,116.51,2,32.18,2,0.00,2,2.32,3,0.007,6,0.006,6,0.002,6,0.060,6,2269.1,2,2367.2,2,-999.0,9,-999.00,9,20050930,1856,-49.1210,-89.0088
316N20050821,AAIW,116,1,2,2,2,20050930,1835,-49.1245,-89.0109,4127.7,0.8345,34.7111,2,34.7101,2,203.6,2,203.2,2,128.81,2,32.27,2,0.00,2,2.22,2,0.002,2,0.004,2,0.000,2,0.090,2,2269.9,2,2372.2,2,-999.0,9,-999.00,9,20050930,1846,-49.1208,-89.0083
316N20050821,AAIW,116,1,1,1,2,20050930,1835,-49.1245,-89.0109,4726.2,0.7649,34.7094,2,34.7091,2,207.9,2,206.2,2,132.05,2,32.36,2,0.00,2,2.30,3,0.009,2,0.010,2,0.001,2,0.178,2,2269.3,2,2371.8,2,-999.0,9,-999.00,9,20050930,1835,-49.1203,-89.0079
316N20050821,AAIW,117,1,24,24,2,20051001,101,-48.5597,-89.0087,9.7,6.5051,34.0733,2,34.0736,2,301.1,2,301.2,2,2.05,2,17.10,2,0.22,2,1.25,2,4.506,2,2.541,2,0.398,2,5.877,2,2098.8,2,2265.1,2,-999.0,9,-999.00,9,20051001,247,-48.5597,-89.0087
316N20050821,AAIW,117,1,23,23,2,20051001,101,-48.5597,-89.0087,41.9,6.3936,34.0766,2,34.0767,2,301.0,2,301.2,2,1.85,2,17.15,2,0.21,2,1.25,2,4.474,2,2.528,2,0.396,2,5.732,2,-999.0,9,2265.7,2,-999.0,9,-999.00,9,20051001,245,-48.5598,-89.0087
316N20050821,AAIW,117,1,22,22,2,20051001,101,-48.5597,-89.0087,76.7,6.2794,34.0843,2,34.0857,2,-999.0,9,-999.0,5,2.04,2,17.29,2,0.21,2,1.26,2,4.489,2,2.546,2,0.398,2,5.760,2,2100.4,2,2266.8,2,-999.0,9,-999.00,9,20051001,243,-48.5598,-89.0086
316N20050821,AAIW,117,1,21,21,2,20051001,101,-48.5597,-89.0087,111.2,6.0560,34.1102,2,34.1116,2,297.9,2,297.8,2,2.43,2,17.79,2,0.22,2,1.31,2,4.505,2,2.554,2,0.395,2,5.609,2,2105.2,2,2267.7,2,-999.0,9,-999.00,9,20051001,241,-48.5598,-89.0086
316N20050821,AAIW,117,1,20,20,2,20051001,101,-48.5597,-89.0087,165.9,5.9830,34.1558,2,34.1553,2,289.4,2,288.9,2,3.40,2,19.09,2,0.15,2,1.35,2,4.625,2,2.458,2,0.386,2,5.243,2,2113.4,2,2268.5,2,-999.0,9,-999.00,9,20051001,239,-48.5597,-89.0087
316N20050821,AAIW,117,1,19,19,2,20051001,101,-48.5597,-89.0087,265.4,5.9905,34.2536,2,34.2546,2,274.9,2,274.4,2,6.32,2,21.44,2,0.00,2,1.49,2,4.380,2,2.396,2,0.356,2,4.480,2,2129.1,2,2274.6,2,-999.0,9,-999.00,9,20051001,237,-48.5597,-89.0086
316N20050821,AAIW,117,1,18,18,2,20051001,101,-48.5597,-89.0087,335.6,5.8585,34.2556,2,34.2546,2,272.6,2,273.0,2,7.10,2,22.08,2,0.00,2,1.53,2,4.238,2,2.313,2,0.330,2,4.313,2,2133.5,2,2275.7,2,-999.0,9,-999.00,9,20051001,235,-48.5597,-89.0087
316N20050821,AAIW,117,1,17,17,2,20051001,101,-48.5597,-89.0087,434.9,5.5694,34.2355,2,34.2352,2,271.5,2,271.5,2,8.07,2,22.86,2,0.00,2,1.57,2,4.211,2,2.297,2,0.327,2,4.317,2,2136.0,2,2275.1,2,-999.0,9,-999.00,9,20051001,233,-48.5596,-89.0087
316N20050821,AAIW,117,1,16,16,2,20051001,101,-48.5597,-89.0087,534.2,5.3024,34.2242,2,34.2243,2,266.5,2,266.2,2,9.63,2,24.01,2,0.00,2,1.61,2,4.080,2,2.181,2,0.301,2,4.174,2,2141.9,2,2277.2,2,-999.0,9,-999.00,9,20051001,230,-48.5596,-89.0087
316N20050821,AAIW,117,1,15,15,2,20051001,101,-48.5597,-89.0087,634.7,5.0578,34.2243,2,34.2239,2,254.8,2,255.3,2,12.17,2,25.49,2,0.00,2,1.71,2,3.645,2,1.934,2,0.259,2,3.782,2,2150.7,2,2279.3,2,-999.0,9,-999.00,9,20051001,227,-48.5596,-89.0082
316N20050821,AAIW,117,1,14,14,2,20051001,101,-48.5597,-89.0087,735.0,4.7454,34.2341,2,34.2337,2,240.1,2,240.0,2,16.87,2,27.29,2,0.00,2,1.88,2,3.079,2,1.609,2,0.213,2,3.354,2,-999.0,9,2282.9,2,-999.0,9,-999.00,9,20051001,225,-48.5596,-89.0082
316N20050821,AAIW,117,1,13,13,2,20051001,101,-48.5597,-89.0087,835.3,4.4028,34.2669,2,34.2660,2,221.9,2,221.7,2,23.73,2,29.51,2,0.00,2,2.04,2,2.270,6,1.156,6,0.142,6,2.713,6,2180.5,2,2287.7,2,-999.0,9,-999.00,9,20051001,222,-48.5597,-89.0082
316N20050821,AAIW,117,1,12,12,2,20051001,101,-48.5597,-89.0087,935.0,4.0230,34.2960,2,34.2958,2,210.2,2,209.4,2,30.97,2,31.09,2,0.00,2,2.12,2,1.689,2,0.854,2,0.102,2,2.265,2,-999.0,9,2294.6,2,-999.0,9,-999.00,9,20051001,220,-48.5598,-89.0079
316N20050821,AAIW,117,1,11,11,2,20051001,101,-48.5597,-89.0087,1054.3,3.5901,34.3351,2,34.3340,2,199.2,2,198.7,2,39.62,2,32.39,2,0.00,2,2.24,2,1.235,2,0.628,2,0.071,2,1.854,2,2209.2,2,2302.5,2,-999.0,9,-999.00,9,20051001,217,-48.5599,-89.0077
316N20050821,AAIW,117,1,10,10,2,20051001,101,-48.5597,-89.0087,1254.4,3.0551,34.4347,2,34.4327,2,170.1,2,170.6,2,58.16,2,34.74,2,0.00,2,2.40,2,0.390,2,0.198,2,0.015,2,0.850,2,-999.0,9,2321.4,2,-999.0,9,-999.00,9,20051001,212,-48.5600,-89.0076
316N20050821,AAIW,117,1,9,9,2,20051001,101,-48.5597,-89.0087,1454.3,2.7948,34.5171,2,34.5146,2,153.1,2,153.9,2,73.39,2,35.71,2,0.00,2,2.45,2,0.136,2,0.067,2,-0.001,2,0.356,2,2263.0,2,2338.4,2,-999.0,9,-999.00,9,20051001,208,-48.5600,-89.0073
316N20050821,AAIW,117,1,8,8,2,20051001,101,-48.5597,-89.0087,1697.9,2.5404,34.5834,2,34.5811,2,147.5,2,147.7,2,87.29,2,35.72,2,0.00,2,2.47,2,0.023,2,0.013,2,-0.001,2,0.112,2,2280.4,2,2355.0,2,-999.0,9,-999.00,9,20051001,203,-48.5599,-89.0074
316N20050821,AAIW,117,1,7,7,2,20051001,101,-48.5597,-89.0087,1957.3,2.2981,34.6258,2,34.6231,2,150.0,2,149.8,2,97.45,2,35.35,2,0.00,2,2.43,2,0.001,2,0.003,2,-0.001,2,0.043,2,2286.1,2,2367.4,2,-999.0,9,-999.00,9,20051001,157,-48.5596,-89.0055
316N20050821,AAIW,117,1,6,6,3,20051001,101,-48.5597,-89.0087,2259.4,2.0898,34.6596,2,34.5050,4,156.9,2,155.0,4,72.00,4,35.72,4,0.00,4,2.46,4,0.156,4,0.079,4,0.010,4,0.401,4,-999.0,1,2336.4,4,-999.0,9,-999.00,9,20051001,151,-48.5593,-89.0052
316N20050821,AAIW,117,1,5,5,2,20051001,101,-48.5597,-89.0087,2762.6,1.8386,34.6960,2,34.6924,3,168.8,2,169.1,2,107.84,2,33.62,2,0.00,2,2.35,2,0.002,2,0.005,2,0.000,2,0.031,2,2284.2,6,2376.5,2,-999.0,9,-999.00,9,20051001,142,-48.5588,-89.0050
316N20050821,AAIW,117,1,4,4,2,20051001,101,-48.5597,-89.0087,3266.8,1.5809,34.7079,2,34.7058,3,178.9,2,178.9,2,112.45,2,33.06,2,0.00,2,2.29,2,0.003,2,0.001,2,-0.001,2,0.033,2,-999.0,9,2375.1,2,-999.0,9,-999.00,9,20051001,132,-48.5583,-89.0050
316N20050821,AAIW,117,1,3,3,2,20051001,101,-48.5597,-89.0087,3769.6,1.0505,34.7138,2,34.7114,3,198.3,2,197.7,2,121.47,2,32.45,2,0.00,2,2.25,2,0.005,2,0.004,2,0.000,2,0.054,2,-999.0,9,2372.6,2,-999.0,9,-999.00,9,20051001,122,-48.5582,-89.0046
316N20050821,AAIW,117,1,2,2,2,20051001,101,-48.5597,-89.0087,4274.5,0.8022,34.7107,2,34.7110,2,204.8,2,204.5,2,129.52,2,32.56,2,0.00,2,2.20,2,0.001,2,0.003,2,0.001,2,0.112,2,-999.0,9,2371.8,2,-999.0,9,-999.00,9,20051001,113,-48.5579,-89.0039
316N20050821,AAIW,117,1,1,1,2,20051001,101,-48.5597,-89.0087,4898.0,0.7811,34.7094,2,34.7098,2,207.0,2,206.1,2,131.95,2,32.42,2,0.00,2,2.22,2,0.006,2,0.007,2,0.003,2,0.193,2,-999.0,9,2371.2,2,-999.0,9,-999.00,9,20051001,101,-48.5571,-89.0043
316N20050821,AAIW,118,1,24,24,2,20051001,721,-48.0093,-88.9846,3.6,6.4021,34.0799,2,34.0849,2,301.5,2,302.7,2,2.40,2,17.38,2,0.21,2,1.28,2,4.557,2,2.567,2,0.405,2,6.030,2,2103.6,6,2266.3,2,-999.0,9,-999.00,9,20051001,910,-48.0093,-88.9846
316N20050821,AAIW,118,1,23,23,2,20051001,721,-48.0093,-88.9846,36.9,6.3114,34.0861,2,34.0854,2,301.5,2,301.9,2,2.19,2,17.44,2,0.20,2,1.28,2,4.547,2,2.557,2,0.412,2,5.995,2,2105.2,2,2266.3,2,-999.0,9,-999.00,9,20051001,908,-48.0092,-88.9850
316N20050821,AAIW,118,1,22,22,2,20051001,721,-48.0093,-88.9846,66.7,6.1904,34.0898,2,34.0888,2,302.1,2,301.5,2,2.18,2,17.49,2,0.20,2,1.28,2,4.548,2,2.571,2,0.409,2,5.963,2,2105.9,2,2266.6,2,-999.0,9,-999.00,9,20051001,906,-48.0091,-88.9852
316N20050821,AAIW,118,1,21,21,2,20051001,721,-48.0093,-88.9846,96.7,6.0113,34.1032,2,34.1028,2,301.3,2,301.1,2,2.37,2,17.66,2,0.20,2,1.30,2,4.583,2,2.568,2,0.413,2,5.939,2,2105.3,2,2267.3,2,-999.0,9,-999.00,9,20051001,904,-48.0089,-88.9855
316N20050821,AAIW,118,1,20,20,2,20051001,721,-48.0093,-88.9846,145.8,5.8842,34.1462,2,34.1453,2,293.3,2,292.5,2,3.34,2,18.87,2,0.18,2,1.37,2,4.546,2,2.536,2,0.404,2,5.570,2,2114.1,2,2268.8,2,-999.0,9,-999.00,9,20051001,902,-48.0087,-88.9858
316N20050821,AAIW,118,1,19,19,2,20051001,721,-48.0093,-88.9846,195.8,5.9137,34.2255,2,34.2240,2,276.3,2,275.7,2,5.87,2,21.23,2,0.00,2,1.50,2,4.448,2,2.425,2,0.380,2,4.774,2,2131.1,2,2273.3,2,-999.0,9,-999.00,9,20051001,900,-48.0086,-88.9860
316N20050821,AAIW,118,1,18,18,2,20051001,721,-48.0093,-88.9846,244.9,5.8515,34.2390,2,34.2389,2,277.9,2,277.3,2,6.44,2,21.33,2,0.00,2,1.50,2,4.406,2,2.416,2,0.368,2,4.695,2,2131.7,2,2274.1,2,-999.0,9,-999.00,9,20051001,858,-48.0084,-88.9862
316N20050821,AAIW,118,1,17,17,2,20051001,721,-48.0093,-88.9846,295.5,5.7681,34.2399,2,34.2395,2,275.7,2,275.7,2,6.82,2,21.79,2,0.00,2,1.53,2,4.326,2,2.352,2,0.354,2,4.569,2,2133.1,2,2275.5,2,-999.0,9,-999.00,9,20051001,856,-48.0081,-88.9865
316N20050821,AAIW,118,1,16,16,2,20051001,721,-48.0093,-88.9846,345.3,5.6346,34.2339,2,34.2332,2,276.9,2,276.6,2,7.20,2,22.07,2,0.00,2,1.55,2,4.298,2,2.335,2,0.343,2,4.551,2,2134.6,2,2275.7,2,-999.0,9,-999.00,9,20051001,853,-48.0080,-88.9866
316N20050821,AAIW,118,1,15,15,2,20051001,721,-48.0093,-88.9846,405.0,5.4848,34.2249,2,34.2246,2,274.6,2,274.4,2,7.78,2,22.53,2,0.00,2,1.59,2,4.275,2,2.299,2,0.335,2,4.516,2,2135.2,2,2275.0,2,-999.0,9,-999.00,9,20051001,851,-48.0078,-88.9867
316N20050821,AAIW,118,1,14,14,2,20051001,721,-48.0093,-88.9846,504.2,5.2754,34.2202,2,34.2187,2,267.9,2,267.5,2,9.34,2,23.91,2,0.00,2,1.66,2,4.106,2,2.189,2,0.303,2,4.286,2,2143.0,2,2277.5,2,-999.0,9,-999.00,9,20051001,848,-48.0076,-88.9869
316N20050821,AAIW,118,1,13,13,2,20051001,721,-48.0093,-88.9846,603.3,4.9983,34.2184,2,34.2172,3,256.6,2,257.0,2,12.25,2,25.56,2,0.00,2,1.77,2,3.726,2,1.938,2,0.273,2,3.988,2,2151.1,2,2278.3,2,-999.0,9,-999.00,9,20051001,845,-48.0075,-88.9871
316N20050821,AAIW,118,1,12,12,2,20051001,721,-48.0093,-88.9846,701.4,4.6974,34.2409,2,34.2395,3,236.2,2,236.0,2,17.92,2,27.82,2,0.00,2,1.93,2,2.871,2,1.453,2,0.188,2,3.268,2,2168.5,2,2282.9,2,-999.0,9,-999.00,9,20051001,842,-48.0073,-88.9873
316N20050821,AAIW,118,1,11,11,2,20051001,721,-48.0093,-88.9846,802.0,4.3909,34.2674,2,34.2651,3,221.1,2,221.3,2,23.58,2,29.44,2,0.00,2,2.04,2,2.250,2,1.136,2,0.135,2,2.745,2,2179.6,2,2287.9,2,-999.0,9,-999.00,9,20051001,839,-48.0072,-88.9877
316N20050821,AAIW,118,1,10,10,2,20051001,721,-48.0093,-88.9846,994.8,3.6341,34.3274,2,34.3261,3,200.9,2,200.9,2,38.08,2,32.13,2,0.00,2,2.24,2,1.330,2,0.661,2,0.077,2,1.941,2,2207.2,2,2301.3,2,-999.0,9,-999.00,9,20051001,835,-48.0069,-88.9883
316N20050821,AAIW,118,1,9,9,2,20051001,721,-48.0093,-88.9846,1195.0,3.1040,34.4267,2,34.4252,3,169.0,2,169.6,2,56.95,2,34.61,2,0.00,2,2.42,2,0.357,2,0.176,2,0.015,2,0.791,2,2241.2,2,2319.6,2,-999.0,9,-999.00,9,20051001,831,-48.0067,-88.9890
316N20050821,AAIW,118,1,8,8,2,20051001,721,-48.0093,-88.9846,1445.1,2.8238,34.5303,2,34.5285,3,141.2,2,142.3,2,78.27,2,36.43,2,0.00,2,2.56,2,0.036,6,0.020,6,0.001,6,0.149,6,2273.8,2,2345.6,2,-999.0,9,-999.00,9,20051001,825,-48.0064,-88.9899
316N20050821,AAIW,118,1,7,7,2,20051001,721,-48.0093,-88.9846,1745.8,2.4893,34.5948,2,34.5926,3,143.9,2,143.7,2,92.13,2,35.97,2,0.00,2,2.52,2,0.007,2,0.005,2,0.001,2,0.051,2,2286.3,2,2362.0,2,-999.0,9,-999.00,9,20051001,819,-48.0060,-88.9907
316N20050821,AAIW,118,1,6,6,2,20051001,721,-48.0093,-88.9846,2046.8,2.2253,34.6362,2,34.6336,3,150.4,2,150.1,2,100.86,2,35.23,2,0.00,2,2.47,2,0.001,2,0.002,2,0.000,2,0.030,2,2289.8,2,2371.9,2,-999.0,9,-999.00,9,20051001,812,-48.0058,-88.9916
316N20050821,AAIW,118,1,5,5,2,20051001,721,-48.0093,-88.9846,2552.1,1.9206,34.6798,2,34.6776,3,161.8,2,160.9,2,109.21,2,34.20,2,0.00,2,2.40,2,-0.004,2,0.002,2,0.000,2,0.021,2,2291.2,2,2379.5,2,-999.0,9,-999.00,9,20051001,803,-48.0053,-88.9931
316N20050821,AAIW,118,1,4,4,2,20051001,721,-48.0093,-88.9846,3058.4,1.7251,34.6986,2,34.6966,3,170.8,2,170.7,2,111.78,2,33.50,2,0.00,2,2.35,2,-0.004,2,0.001,2,0.001,2,0.023,2,2286.4,2,2380.5,2,-999.0,9,-999.00,9,20051001,753,-48.0048,-88.9943
316N20050821,AAIW,118,1,3,3,2,20051001,721,-48.0093,-88.9846,3563.9,1.3145,34.7117,2,34.7100,3,189.4,2,188.8,2,116.74,2,32.62,2,0.00,2,2.27,2,-0.003,2,-0.001,2,0.001,2,0.062,2,2275.0,2,2372.8,2,-999.0,9,-999.00,9,20051001,741,-48.0044,-88.9951
316N20050821,AAIW,118,1,2,2,2,20051001,721,-48.0093,-88.9846,4070.9,0.8584,34.7116,2,34.7090,3,203.0,2,203.2,2,126.93,2,32.39,2,0.00,2,2.25,2,0.000,2,0.000,2,-0.001,2,0.180,2,2269.7,2,2371.4,2,-999.0,9,-999.00,9,20051001,732,-48.0040,-88.9957
316N20050821,AAIW,118,1,1,1,2,20051001,721,-48.0093,-88.9846,4578.1,0.7915,34.7100,2,34.7092,2,205.6,2,205.2,2,130.11,2,32.49,2,0.00,2,2.24,2,0.007,2,0.009,2,0.001,2,0.178,2,2271.7,6,2372.6,2,-999.0,9,-999.00,9,20051001,721,-48.0036,-88.9964