BOTTLE,20220819CCHSIOAMB
EXPOCODE,SECT_ID,STNNBR,CASTNO,SAMPNO,BTLNBR,BTLNBR_FLAG_W,DATE,TIME,LATITUDE,LONGITUDE,CTDPRS,CTDTMP,CTDSAL,CTDSAL_FLAG_W,SALNTY,SALNTY_FLAG_W,CTDOXY,CTDOXY_FLAG_W,OXYGEN,OXYGEN_FLAG_W,SILCAT,SILCAT_FLAG_W,NITRAT,NITRAT_FLAG_W,NITRIT,NITRIT_FLAG_W,PHSPHT,PHSPHT_FLAG_W,CFC-11,CFC-11_FLAG_W,CFC-12,CFC-12_FLAG_W,CFC113,CFC113_FLAG_W,CCL4,CCL4_FLAG_W,TCARBN,TCARBN_FLAG_W,ALKALI,ALKALI_FLAG_W,PCO2,PCO2_FLAG_W,PH_SWS,PH_SWS_FLAG_W,BTL_DATE,BTL_TIME,BTL_LAT,BTL_LON
,,,,,,,,,,,DBAR,ITS-90,PSS-78,,PSS-78,,UMOL/KG,,UMOL/KG,,UMOL/KG,,UMOL/KG,,UMOL/KG,,UMOL/KG,,PMOL/KG,,PMOL/KG,,PMOL/KG,,PMOL/KG,,UMOL/KG,,UMOL/KG,,UATM,,,,,,,
316N20050821,AAIW,106,1,24,24,2,20050926,1047,-53.1724,-76.0289,5.8,7.2473,33.7308,2,33.7322,2,289.9,2,291.3,2,1.92,2,15.65,2,0.18,2,1.26,2,4.246,2,2.409,2,0.383,2,5.250,2,2082.2,2,2240.7,2,-999.0,9,-999.00,9,20050926,1216,-53.1724,-76.0289
316N20050821,AAIW,106,1,23,23,2,20050926,1047,-53.1724,-76.0289,45.5,6.9830,33.8010,2,33.8040,2,291.7,2,292.6,2,2.11,2,16.47,2,0.20,2,1.30,2,4.340,2,2.447,2,0.393,2,5.357,2,2091.1,2,2244.7,2,-999.0,9,-999.00,9,20050926,1214,-53.1721,-76.0282
316N20050821,AAIW,106,1,22,22,2,20050926,1047,-53.1724,-76.0289,85.3,6.5125,33.8859,2,33.8822,2,291.2,2,291.1,2,2.52,2,17.69,2,0.22,2,1.38,2,4.462,2,2.490,2,0.404,2,5.455,2,2101.6,2,2249.0,2,-999.0,9,-999.00,9,20050926,1212,-53.1718,-76.0276
316N20050821,AAIW,106,1,21,21,2,20050926,1047,-53.1724,-76.0289,125.0,6.3318,33.9178,2,33.9206,2,288.1,2,288.2,2,2.91,2,18.59,2,0.20,2,1.43,2,4.468,2,2.509,2,0.394,2,5.439,2,2106.8,2,2251.6,2,-999.0,9,-999.00,9,20050926,1210,-53.1715,-76.0268
316N20050821,AAIW,106,1,20,20,2,20050926,1047,-53.1724,-76.0289,174.1,6.2592,33.9797,2,33.9821,2,273.3,2,274.2,2,3.90,2,20.07,2,0.12,2,1.51,2,4.422,2,2.483,2,0.391,2,5.111,2,2119.7,2,2255.0,2,-999.0,9,-999.00,9,20050926,1208,-53.1711,-76.0261
316N20050821,AAIW,106,1,19,19,2,20050926,1047,-53.1724,-76.0289,224.9,6.0606,34.0601,2,34.0626,2,262.6,2,263.0,2,4.69,2,21.64,2,0.03,2,1.59,2,4.408,2,2.430,2,0.378,2,4.924,2,-999.0,1,2260.9,2,-999.0,9,-999.00,9,20050926,1206,-53.1707,-76.0255
316N20050821,AAIW,106,1,18,18,2,20050926,1047,-53.1724,-76.0289,274.5,5.7933,34.1270,2,34.1311,2,258.8,2,258.4,2,5.87,2,22.82,2,0.01,2,1.62,2,4.504,2,2.454,2,0.377,2,4.823,2,2139.1,2,2265.9,2,-999.0,9,-999.00,9,20050926,1204,-53.1703,-76.0249
316N20050821,AAIW,106,1,17,17,2,20050926,1047,-53.1724,-76.0289,323.8,5.4526,34.1427,2,34.1446,2,273.7,2,274.1,2,5.87,2,22.12,2,0.01,2,1.57,2,4.671,2,2.524,2,0.399,2,5.277,2,2135.7,2,2268.2,2,-999.0,9,-999.00,9,20050926,1201,-53.1700,-76.0241
316N20050821,AAIW,106,1,16,16,2,20050926,1047,-53.1724,-76.0289,372.7,5.3126,34.1731,2,34.1819,3,276.6,2,277.8,2,7.26,2,22.50,2,0.01,2,1.59,2,4.692,2,2.514,2,0.395,2,5.235,2,2136.3,2,2271.9,2,-999.0,9,-999.00,9,20050926,1159,-53.1696,-76.0234
316N20050821,AAIW,106,1,15,15,2,20050926,1047,-53.1724,-76.0289,422.2,5.2872,34.1845,2,34.1857,2,279.0,2,279.9,2,6.86,2,22.13,2,0.00,2,1.58,2,4.689,2,2.531,2,0.394,2,5.287,2,2134.6,2,2273.1,2,-999.0,9,-999.00,9,20050926,1157,-53.1692,-76.0227
316N20050821,AAIW,106,1,14,14,2,20050926,1047,-53.1724,-76.0289,498.1,5.1491,34.1888,2,34.1914,2,279.9,2,280.1,2,7.65,2,22.55,2,0.00,2,1.59,2,4.648,2,2.508,2,0.399,2,5.256,2,2134.5,2,2274.5,2,-999.0,9,-999.00,9,20050926,1154,-53.1688,-76.0218
316N20050821,AAIW,106,1,13,13,2,20050926,1047,-53.1724,-76.0289,586.1,4.9720,34.1819,2,34.1857,2,280.4,2,280.2,2,8.64,2,23.11,2,0.00,2,1.61,2,4.634,2,2.412,2,0.363,2,5.194,2,2139.6,2,2276.4,2,-999.0,9,-999.00,9,20050926,1151,-53.1683,-76.0210
316N20050821,AAIW,106,1,12,12,2,20050926,1047,-53.1724,-76.0289,679.5,4.6853,34.1812,2,34.1844,2,265.7,2,267.0,2,11.81,2,24.93,2,0.00,2,1.73,2,4.162,2,2.190,2,0.337,2,4.735,2,2150.7,2,2277.7,2,-999.0,9,-999.00,9,20050926,1148,-53.1677,-76.0200
316N20050821,AAIW,106,1,11,11,2,20050926,1047,-53.1724,-76.0289,770.1,4.3666,34.2152,2,34.2165,2,239.9,2,241.4,2,18.75,2,27.46,2,0.00,2,1.92,2,3.296,2,1.706,2,0.243,2,3.768,2,2167.6,2,2283.8,2,-999.0,9,-999.00,9,20050926,1145,-53.1671,-76.0191
316N20050821,AAIW,106,1,10,10,2,20050926,1047,-53.1724,-76.0289,863.4,4.1274,34.2405,2,34.2435,2,226.9,2,228.4,2,24.10,2,29.11,2,0.00,2,2.02,2,2.772,2,1.397,2,0.196,2,3.258,2,2181.3,2,2288.2,2,-999.0,9,-999.00,9,20050926,1142,-53.1665,-76.0180
316N20050821,AAIW,106,1,9,9,2,20050926,1047,-53.1724,-76.0289,957.3,3.7022,34.2935,2,34.2961,2,208.6,2,209.1,2,34.23,2,31.13,2,0.00,2,2.15,2,1.935,6,0.965,6,0.127,6,2.481,6,2200.9,2,2297.4,2,-999.0,9,-999.00,9,20050926,1139,-53.1660,-76.0170
316N20050821,AAIW,106,1,8,8,2,20050926,1047,-53.1724,-76.0289,1039.9,3.4076,34.3386,2,34.3410,2,194.7,2,196.6,2,42.78,2,32.31,2,0.00,2,2.24,2,1.460,2,0.725,2,0.096,2,1.991,2,2214.6,2,2306.1,2,-999.0,9,-999.00,9,20050926,1136,-53.1656,-76.0163
316N20050821,AAIW,106,1,7,7,2,20050926,1047,-53.1724,-76.0289,1213.0,2.9783,34.4318,2,34.4342,2,171.4,2,172.9,2,59.14,2,34.01,2,0.00,2,2.38,2,0.671,2,0.326,2,0.047,2,1.093,2,2241.4,2,2323.0,2,-999.0,9,-999.00,9,20050926,1132,-53.1649,-76.0149
316N20050821,AAIW,106,1,6,6,2,20050926,1047,-53.1724,-76.0289,1390.2,2.7384,34.5143,2,34.5148,2,152.5,2,154.2,2,73.76,2,35.16,2,0.00,2,2.47,2,0.237,2,0.116,2,0.016,2,0.508,2,2265.6,2,2339.6,2,-999.0,9,-999.00,9,20050926,1127,-53.1639,-76.0137
316N20050821,AAIW,106,1,5,5,2,20050926,1047,-53.1724,-76.0289,1612.1,2.5086,34.5805,2,34.5824,2,145.6,2,145.3,2,88.22,2,35.44,2,0.00,2,2.49,2,0.068,2,0.030,2,0.000,2,0.171,2,2281.2,2,2356.9,2,-999.0,9,-999.00,9,20050926,1122,-53.1629,-76.0120
316N20050821,AAIW,106,1,4,4,2,20050926,1047,-53.1724,-76.0289,2003.2,2.1909,34.6406,2,34.6415,3,149.8,2,149.3,2,101.11,2,34.71,2,0.00,2,2.44,2,0.017,2,0.011,2,0.000,2,0.065,2,2294.3,2,2372.6,2,-999.0,9,-999.00,9,20050926,1114,-53.1610,-76.0094
316N20050821,AAIW,106,1,3,3,2,20050926,1047,-53.1724,-76.0289,2420.3,1.9674,34.6706,2,34.6708,2,154.9,2,154.5,2,110.40,2,34.23,2,0.00,2,2.42,2,0.008,2,0.007,2,0.001,2,0.027,2,2296.2,2,2382.3,2,-999.0,9,-999.00,9,20050926,1106,-53.1589,-76.0063
316N20050821,AAIW,106,1,2,2,2,20050926,1047,-53.1724,-76.0289,2940.0,1.8131,34.6882,2,34.6887,3,162.1,2,162.2,2,113.64,2,33.75,2,0.00,2,2.37,2,0.002,2,0.002,2,-0.001,2,-0.019,2,2294.6,2,2385.0,2,-999.0,9,-999.00,9,20050926,1056,-53.1567,-76.0030
316N20050821,AAIW,106,1,1,1,2,20050926,1047,-53.1724,-76.0289,3466.8,1.6025,34.7146,2,34.7163,3,183.7,2,184.0,2,108.17,2,32.14,2,0.00,2,2.23,2,0.025,2,0.015,2,0.000,2,0.101,2,2272.4,6,2369.9,2,-999.0,9,-999.00,9,20050926,1047,-53.1546,-75.9998
316N20050821,AAIW,107,1,24,24,2,20050926,1437,-53.1178,-75.7736,5.4,7.3367,33.7143,2,33.7187,2,289.0,2,289.4,2,1.75,2,15.37,2,0.17,2,1.24,2,4.354,2,2.474,2,0.388,2,5.329,2,2077.7,2,2241.1,2,-999.0,9,-999.00,9,20050926,1543,-53.1178,-75.7736
316N20050821,AAIW,107,1,23,23,9,20050926,1437,-53.1178,-75.7736,35.0,7.2430,33.7394,2,-999.0000,9,-999.0,9,-999.0,9,-999.00,9,-999.00,9,-999.00,9,-999.00,9,-999.000,9,-999.000,9,-999.000,9,-999.000,9,-999.0,9,-999.0,9,-999.0,9,-999.00,9,20050926,1542,-53.1176,-75.7732
316N20050821,AAIW,107,1,22,22,2,20050926,1437,-53.1178,-75.7736,70.3,6.9439,33.8120,2,33.8140,2,289.1,2,290.5,2,2.14,2,16.58,2,0.20,2,1.31,2,4.459,2,2.513,2,0.393,2,5.486,2,2089.4,2,2245.8,2,-999.0,9,-999.00,9,20050926,1540,-53.1174,-75.7726
316N20050821,AAIW,107,1,21,21,2,20050926,1437,-53.1178,-75.7736,104.9,6.5448,33.8914,2,33.8946,2,288.5,2,288.2,2,2.54,2,17.86,2,0.21,2,1.38,2,4.529,2,2.569,2,0.400,2,5.527,2,2100.8,2,2251.9,2,-999.0,9,-999.00,9,20050926,1538,-53.1171,-75.7720
316N20050821,AAIW,107,1,20,20,9,20050926,1437,-53.1178,-75.7736,105.1,6.5413,33.8917,2,-999.0000,9,-999.0,9,-999.0,9,-999.00,9,-999.00,9,-999.00,9,-999.00,9,-999.000,9,-999.000,9,-999.000,9,-999.000,9,-999.0,9,-999.0,9,-999.0,9,-999.00,9,20050926,1538,-53.1170,-75.7718
316N20050821,AAIW,107,1,19,19,2,20050926,1437,-53.1178,-75.7736,154.8,6.4211,33.9193,2,33.9216,2,282.7,2,284.0,2,2.93,2,18.50,2,0.17,2,1.42,2,4.515,2,2.537,2,0.393,2,5.384,2,2105.5,2,2251.7,2,-999.0,9,-999.00,9,20050926,1535,-53.1167,-75.7710
316N20050821,AAIW,107,1,18,18,2,20050926,1437,-53.1178,-75.7736,203.8,6.2289,33.9854,2,33.9868,2,272.3,2,273.1,2,3.72,2,19.98,2,0.08,2,1.48,2,4.487,2,2.502,2,0.386,2,5.171,2,2118.4,2,2255.9,2,-999.0,9,-999.00,9,20050926,1533,-53.1163,-75.7703
316N20050821,AAIW,107,1,17,17,2,20050926,1437,-53.1178,-75.7736,303.9,5.6539,34.1566,2,34.1588,2,259.1,2,259.5,2,6.06,2,22.81,2,0.01,2,1.60,2,4.568,2,2.476,2,0.371,2,4.903,2,2138.5,2,2267.9,2,-999.0,9,-999.00,9,20050926,1529,-53.1159,-75.7695
316N20050821,AAIW,107,1,16,16,9,20050926,1437,-53.1178,-75.7736,304.1,5.6552,34.1561,2,-999.0000,9,-999.0,9,-999.0,9,-999.00,9,-999.00,9,-999.00,9,-999.00,9,-999.000,9,-999.000,9,-999.000,9,-999.000,9,-999.0,9,-999.0,9,-999.0,9,-999.00,9,20050926,1529,-53.1159,-75.7695
316N20050821,AAIW,107,1,15,15,2,20050926,1437,-53.1178,-75.7736,382.9,5.3866,34.1864,2,34.1897,2,272.6,2,273.1,2,6.86,2,22.31,2,0.01,2,1.56,2,4.798,2,2.475,2,0.392,2,5.114,2,2137.3,2,2271.9,2,-999.0,9,-999.00,9,20050926,1526,-53.1155,-75.7685
316N20050821,AAIW,107,1,14,14,2,20050926,1437,-53.1178,-75.7736,460.0,5.2711,34.1951,2,34.1985,2,277.7,2,278.6,2,7.25,2,22.17,2,0.00,2,1.55,2,4.607,6,2.507,6,0.384,6,5.139,6,2134.4,2,2273.9,2,-999.0,9,-999.00,9,20050926,1523,-53.1151,-75.7677
316N20050821,AAIW,107,1,13,13,2,20050926,1437,-53.1178,-75.7736,538.1,5.1041,34.1918,2,34.1950,2,275.7,2,277.1,2,8.04,2,22.59,2,0.00,2,1.58,2,4.541,2,2.460,2,0.376,2,5.050,2,2137.6,2,2274.8,2,-999.0,9,-999.00,9,20050926,1520,-53.1146,-75.7669
316N20050821,AAIW,107,1,12,12,9,20050926,1437,-53.1178,-75.7736,538.2,5.1046,34.1918,2,-999.0000,9,-999.0,9,-999.0,9,-999.00,9,-999.00,9,-999.00,9,-999.00,9,-999.000,9,-999.000,9,-999.000,9,-999.000,9,-999.0,9,-999.0,9,-999.0,9,-999.00,9,20050926,1520,-53.1145,-75.7668
316N20050821,AAIW,107,1,11,11,2,20050926,1437,-53.1178,-75.7736,615.9,4.7845,34.1766,2,34.1799,2,270.9,2,272.0,2,10.19,2,23.86,2,0.00,2,1.65,2,4.328,2,2.330,2,0.354,2,4.834,2,2144.2,2,2278.2,2,-999.0,9,-999.00,9,20050926,1518,-53.1141,-75.7662
316N20050821,AAIW,107,1,10,10,2,20050926,1437,-53.1178,-75.7736,694.8,4.6180,34.1873,2,34.1910,2,257.7,2,259.5,2,13.32,2,25.34,2,0.00,2,1.75,2,3.965,2,2.072,2,0.319,2,4.424,2,2154.9,2,2279.9,2,-999.0,9,-999.00,9,20050926,1515,-53.1137,-75.7654
316N20050821,AAIW,107,1,9,9,2,20050926,1437,-53.1178,-75.7736,792.8,4.2680,34.2140,2,34.2169,2,240.1,2,241.4,2,19.39,2,27.40,2,0.00,2,1.89,2,3.338,2,1.728,2,0.254,2,3.857,2,2170.2,2,2285.0,2,-999.0,9,-999.00,9,20050926,1511,-53.1132,-75.7645
316N20050821,AAIW,107,1,8,8,3,20050926,1437,-53.1178,-75.7736,889.2,3.9720,34.2565,2,34.1812,4,-999.0,9,272.0,4,10.40,4,23.95,4,0.00,4,1.66,4,4.393,4,2.329,4,0.361,4,4.884,4,-999.0,1,2276.6,4,-999.0,9,-999.00,9,20050926,1508,-53.1127,-75.7638
316N20050821,AAIW,107,1,7,7,2,20050926,1437,-53.1178,-75.7736,1077.0,3.3394,34.3465,2,34.3488,2,192.2,2,194.2,2,43.32,2,32.18,2,0.00,2,2.22,2,1.343,2,0.670,2,0.085,2,1.889,2,2217.1,6,2307.1,2,-999.0,9,-999.00,9,20050926,1503,-53.1121,-75.7624
316N20050821,AAIW,107,1,6,6,2,20050926,1437,-53.1178,-75.7736,1263.4,2.8819,34.4548,2,34.4575,2,166.5,2,168.6,2,61.84,2,33.89,2,0.00,2,2.37,2,-999.000,5,-999.000,5,-999.000,5,-999.000,5,-999.0,9,2326.0,2,-999.0,9,-999.00,9,20050926,1458,-53.1114,-75.7610
316N20050821,AAIW,107,1,4,4,9,20050926,1437,-53.1178,-75.7736,1452.8,2.6680,34.5384,2,-999.0000,9,-999.0,9,-999.0,9,-999.00,9,-999.00,9,-999.00,9,-999.00,9,-999.000,9,-999.000,9,-999.000,9,-999.000,9,-999.0,9,-999.0,9,-999.0,9,-999.00,9,20050926,1453,-53.1106,-75.7597
316N20050821,AAIW,107,1,5,5,2,20050926,1437,-53.1178,-75.7736,1453.1,2.6683,34.5383,2,34.5435,3,148.4,2,149.9,2,78.06,2,34.89,2,0.00,2,2.43,2,0.157,2,0.077,2,0.004,2,0.308,2,-999.0,9,2345.4,2,-999.0,9,-999.00,9,20050926,1453,-53.1106,-75.7598
316N20050821,AAIW,107,1,3,3,2,20050926,1437,-53.1178,-75.7736,1649.3,2.4800,34.5870,2,34.5902,2,144.5,2,145.2,2,88.77,2,34.85,2,0.00,2,2.45,2,0.058,2,0.030,2,0.001,2,0.118,2,-999.0,9,2358.4,2,-999.0,9,-999.00,9,20050926,1448,-53.1096,-75.7584
316N20050821,AAIW,107,1,2,2,2,20050926,1437,-53.1178,-75.7736,1851.0,2.3303,34.6175,2,34.6196,2,145.8,2,146.9,2,95.14,2,34.61,2,0.00,2,2.42,2,0.032,2,0.011,2,-0.001,2,0.065,2,-999.0,9,2366.7,2,-999.0,9,-999.00,9,20050926,1443,-53.1088,-75.7568
316N20050821,AAIW,107,1,1,1,2,20050926,1437,-53.1178,-75.7736,2140.4,2.0461,34.6551,2,34.6579,3,149.1,2,149.9,2,107.30,2,34.34,2,0.00,2,2.41,2,0.006,2,0.005,2,-0.001,2,0.024,2,-999.0,9,2380.4,2,-999.0,9,-999.00,9,20050926,1437,-53.1080,-75.7550
316N20050821,AAIW,108,1,18,18,2,20050926,1903,-53.0358,-75.1081,6.6,7.4655,33.7109,2,33.7145,2,285.5,2,285.3,2,2.84,2,15.87,2,0.22,2,1.27,2,4.220,6,2.403,6,0.370,6,5.140,6,2082.8,2,2239.5,2,-999.0,9,-999.00,9,20050926,1940,-53.0358,-75.1081
316N20050821,AAIW,108,1,17,17,2,20050926,1903,-53.0358,-75.1081,26.7,7.3827,33.7393,2,33.7421,2,285.7,2,287.2,2,2.93,2,16.02,2,0.21,2,1.26,2,4.240,2,2.421,2,0.375,2,5.189,2,2084.2,2,2240.7,2,-999.0,9,-999.00,9,20050926,1938,-53.0352,-75.1080
316N20050821,AAIW,108,1,16,16,2,20050926,1903,-53.0358,-75.1081,56.6,7.2969,33.7858,2,33.7884,2,283.8,2,283.5,2,3.00,2,16.29,2,0.17,2,1.32,2,4.239,2,2.418,2,0.377,2,5.189,2,2088.8,2,2243.9,2,-999.0,9,-999.00,9,20050926,1937,-53.0348,-75.1075
316N20050821,AAIW,108,1,15,15,2,20050926,1903,-53.0358,-75.1081,75.9,7.3249,33.7932,2,33.7943,2,282.1,2,282.3,2,3.08,2,16.41,2,0.19,2,1.27,2,4.246,2,2.434,2,0.372,2,5.219,2,2089.0,2,2244.6,2,-999.0,9,-999.00,9,20050926,1936,-53.0346,-75.1072
316N20050821,AAIW,108,1,14,14,2,20050926,1903,-53.0358,-75.1081,105.8,7.3085,33.8045,2,33.8070,2,280.4,2,281.7,2,3.36,2,16.65,2,0.19,2,1.30,2,4.223,2,2.420,2,0.372,2,5.124,2,2092.6,2,2244.8,2,-999.0,9,-999.00,9,20050926,1934,-53.0344,-75.1065
316N20050821,AAIW,108,1,13,13,2,20050926,1903,-53.0358,-75.1081,146.1,7.1407,33.8373,2,33.8402,2,279.5,2,280.0,2,3.64,2,17.16,2,0.18,2,1.32,2,4.262,2,2.474,2,0.379,2,5.194,2,2096.7,2,2246.7,2,-999.0,9,-999.00,9,20050926,1933,-53.0343,-75.1059
316N20050821,AAIW,108,1,12,12,2,20050926,1903,-53.0358,-75.1081,194.7,6.8322,33.8715,2,33.8740,2,282.8,2,283.7,2,3.91,2,17.66,2,0.20,2,1.36,2,4.357,2,2.502,2,0.388,2,5.393,2,2100.7,2,2248.4,2,-999.0,9,-999.00,9,20050926,1931,-53.0342,-75.1054
316N20050821,AAIW,108,1,11,11,2,20050926,1903,-53.0358,-75.1081,244.6,6.1645,33.8993,2,33.9001,2,292.8,2,293.1,2,3.99,2,18.26,2,0.21,2,1.37,2,4.524,2,2.603,2,0.411,2,5.856,2,2102.0,2,2251.4,2,-999.0,9,-999.00,9,20050926,1929,-53.0341,-75.1049
316N20050821,AAIW,108,1,10,10,2,20050926,1903,-53.0358,-75.1081,342.7,5.5725,34.1534,2,34.1573,2,265.2,2,264.0,2,7.64,2,22.89,2,0.01,2,1.60,2,4.497,2,2.531,2,0.383,2,5.029,2,2137.6,2,2268.0,2,-999.0,9,-999.00,9,20050926,1927,-53.0340,-75.1041
316N20050821,AAIW,108,1,8,8,2,20050926,1903,-53.0358,-75.1081,441.4,5.1726,34.1646,2,-999.0000,9,285.5,2,285.7,2,8.00,2,21.80,2,0.01,2,1.53,2,4.694,2,2.683,2,0.406,2,5.664,2,-999.0,9,-999.0,9,-999.0,9,-999.00,9,20050926,1924,-53.0337,-75.1034
316N20050821,AAIW,108,1,9,9,2,20050926,1903,-53.0358,-75.1081,441.7,5.1733,34.1648,2,34.1688,2,285.5,2,285.7,2,7.92,2,21.85,2,0.01,2,1.54,2,4.627,2,2.663,2,0.405,2,5.579,2,2130.1,2,2271.7,2,-999.0,9,-999.00,9,20050926,1924,-53.0337,-75.1034
316N20050821,AAIW,108,1,7,7,2,20050926,1903,-53.0358,-75.1081,538.1,5.0555,34.1831,2,34.1882,3,283.3,2,283.6,2,9.47,2,22.51,2,0.01,2,1.57,2,4.626,2,2.587,2,0.390,2,5.368,2,2134.9,2,2274.7,2,-999.0,9,-999.00,9,20050926,1922,-53.0336,-75.1028
316N20050821,AAIW,108,1,6,6,2,20050926,1903,-53.0358,-75.1081,632.9,4.7594,34.1795,2,34.1844,2,271.4,2,270.9,2,12.72,2,24.41,2,0.00,2,1.68,2,4.330,2,2.352,2,0.351,2,4.912,2,2146.2,2,2277.4,2,-999.0,9,-999.00,9,20050926,1919,-53.0334,-75.1021
316N20050821,AAIW,108,1,5,5,2,20050926,1903,-53.0358,-75.1081,730.0,4.3174,34.2100,2,34.2146,2,243.1,2,243.8,2,20.54,2,27.50,2,0.00,2,1.96,2,3.392,2,1.812,2,0.256,2,3.817,2,2168.8,6,2282.8,2,-999.0,9,-999.00,9,20050926,1916,-53.0331,-75.1015
316N20050821,AAIW,108,1,4,4,2,20050926,1903,-53.0358,-75.1081,829.1,3.8977,34.2683,2,34.2730,2,217.2,2,219.0,2,31.56,2,30.17,2,0.00,2,2.05,2,2.381,2,1.212,2,0.171,2,2.808,2,2191.3,2,2293.3,2,-999.0,9,-999.00,9,20050926,1914,-53.0327,-75.1010
316N20050821,AAIW,108,1,3,3,2,20050926,1903,-53.0358,-75.1081,929.8,3.5014,34.3215,2,34.3252,2,199.4,2,201.8,2,41.80,2,31.99,2,0.00,2,2.19,2,1.640,2,0.828,2,0.109,2,2.109,2,2210.0,2,2301.9,2,-999.0,9,-999.00,9,20050926,1911,-53.0322,-75.1004
316N20050821,AAIW,108,1,2,2,2,20050926,1903,-53.0358,-75.1081,1025.5,3.2057,34.3786,2,34.3824,3,184.6,2,185.8,2,52.26,2,33.18,2,0.00,2,2.33,2,1.108,2,0.544,2,0.074,2,1.537,2,2228.6,2,2312.8,2,-999.0,9,-999.00,9,20050926,1909,-53.0321,-75.0997
316N20050821,AAIW,108,1,1,1,2,20050926,1903,-53.0358,-75.1081,1261.0,2.8189,34.4843,2,34.4874,2,160.0,2,160.6,2,71.37,2,34.86,2,0.00,2,2.43,2,0.399,2,0.203,2,0.026,2,0.669,2,2257.3,2,2333.5,2,-999.0,9,-999.00,9,20050926,1903,-53.0318,-75.0986
316N20050821,AAIW,109,1,7,7,2,20050926,2053,-52.9958,-74.9819,5.9,7.6012,33.7140,2,33.7173,2,282.3,2,281.6,2,4.88,2,15.84,2,0.21,2,1.26,2,4.237,2,2.395,2,0.386,2,5.010,2,2082.9,2,2240.1,2,-999.0,9,-999.00,9,20050926,2105,-52.9958,-74.9819
316N20050821,AAIW,109,1,6,6,2,20050926,2053,-52.9958,-74.9819,28.5,7.5357,33.7374,2,33.7404,2,281.9,2,281.3,2,4.36,2,16.02,2,0.21,2,1.26,2,4.238,2,2.391,2,0.386,2,5.088,2,2085.5,2,2240.3,2,-999.0,9,-999.00,9,20050926,2104,-52.9956,-74.9818
316N20050821,AAIW,109,1,5,5,2,20050926,2053,-52.9958,-74.9819,53.6,7.5356,33.7410,2,33.7437,2,281.9,2,281.3,2,4.44,2,16.02,2,0.21,2,1.27,2,4.230,2,2.392,2,0.377,2,4.956,2,2085.6,2,2241.3,2,-999.0,9,-999.00,9,20050926,2102,-52.9955,-74.9816
316N20050821,AAIW,109,1,4,4,2,20050926,2053,-52.9958,-74.9819,78.7,7.5454,33.7435,2,33.7471,2,281.8,2,280.9,2,4.53,2,16.02,2,0.21,2,1.28,2,4.189,2,2.383,2,0.378,2,4.963,2,2084.5,2,2241.4,2,-999.0,9,-999.00,9,20050926,2100,-52.9953,-74.9815
316N20050821,AAIW,109,1,3,3,2,20050926,2053,-52.9958,-74.9819,128.2,7.5123,33.7526,2,33.7563,2,281.8,2,281.3,2,4.61,2,16.17,2,0.20,2,1.27,2,4.206,2,2.378,2,0.373,2,5.005,2,2085.6,2,2242.8,2,-999.0,9,-999.00,9,20050926,2058,-52.9950,-74.9814
316N20050821,AAIW,109,1,2,2,2,20050926,2053,-52.9958,-74.9819,177.3,7.4890,33.7678,2,33.7710,2,281.7,2,281.9,2,4.69,2,16.22,2,0.20,2,1.28,2,4.215,2,2.374,2,0.376,2,5.030,2,2087.2,2,2242.9,2,-999.0,9,-999.00,9,20050926,2055,-52.9947,-74.9813
316N20050821,AAIW,109,1,1,1,2,20050926,2053,-52.9958,-74.9819,216.7,7.3190,33.8039,2,33.8070,2,281.0,2,280.4,2,4.96,2,16.78,2,0.19,2,1.31,2,4.280,2,2.379,2,0.369,2,5.114,2,2092.8,2,2245.5,2,-999.0,9,-999.00,9,20050926,2053,-52.9944,-74.9812