BOTTLE,20220819CCHSIOAMB
EXPOCODE,SECT_ID,STNNBR,CASTNO,SAMPNO,BTLNBR,BTLNBR_FLAG_W,DATE,TIME,LATITUDE,LONGITUDE,CTDPRS,CTDTMP,CTDSAL,CTDSAL_FLAG_W,SALNTY,SALNTY_FLAG_W,CTDOXY,CTDOXY_FLAG_W,OXYGEN,OXYGEN_FLAG_W,SILCAT,SILCAT_FLAG_W,NITRAT,NITRAT_FLAG_W,NITRIT,NITRIT_FLAG_W,PHSPHT,PHSPHT_FLAG_W,CFC-11,CFC-11_FLAG_W,CFC-12,CFC-12_FLAG_W,CFC113,CFC113_FLAG_W,CCL4,CCL4_FLAG_W,TCARBN,TCARBN_FLAG_W,ALKALI,ALKALI_FLAG_W,PCO2,PCO2_FLAG_W,PH_SWS,PH_SWS_FLAG_W,BTL_DATE,BTL_TIME,BTL_LAT,BTL_LON
,,,,,,,,,,,DBAR,ITS-90,PSS-78,,PSS-78,,UMOL/KG,,UMOL/KG,,UMOL/KG,,UMOL/KG,,UMOL/KG,,UMOL/KG,,PMOL/KG,,PMOL/KG,,PMOL/KG,,PMOL/KG,,UMOL/KG,,UMOL/KG,,UATM,,,,,,,
316N20050821,AAIW,37,1,24,24,2,20050903,849,-58.8393,-85.7339,12.9,4.1022,34.0684,2,34.0710,2,-999.0,9,-999.0,5,6.78,2,22.40,2,0.05,2,1.59,2,4.579,2,2.658,2,0.467,2,5.936,2,2128.6,2,2273.0,2,-999.0,9,-999.00,1,20050903,1058,-58.8393,-85.7339
316N20050821,AAIW,37,1,23,23,2,20050903,849,-58.8393,-85.7339,62.7,4.0066,34.0660,2,34.0684,2,306.0,2,305.4,2,6.96,2,22.78,2,0.05,2,1.61,2,4.638,2,2.688,2,0.460,2,5.859,2,-999.0,5,2273.5,2,-999.0,9,-999.00,1,20050903,1055,-58.8389,-85.7335
316N20050821,AAIW,37,1,22,22,2,20050903,849,-58.8393,-85.7339,116.4,4.0077,34.0658,2,34.0688,2,304.7,2,305.1,2,7.36,2,22.72,2,0.05,2,1.61,2,4.699,2,2.667,2,0.466,2,6.121,2,2130.3,2,2273.5,2,-999.0,9,-999.00,1,20050903,1051,-58.8383,-85.7331
316N20050821,AAIW,37,1,21,21,2,20050903,849,-58.8393,-85.7339,216.4,3.8929,34.0534,2,34.0565,2,303.4,2,303.4,2,7.36,2,23.10,2,0.05,2,1.63,2,4.674,2,2.627,2,0.470,2,5.974,2,2131.9,2,2273.9,2,-999.0,9,-999.00,1,20050903,1048,-58.8377,-85.7327
316N20050821,AAIW,37,1,20,20,2,20050903,849,-58.8393,-85.7339,314.4,3.6161,34.0503,2,34.0527,2,297.9,2,299.2,2,9.51,2,24.26,2,0.03,2,1.71,2,4.646,2,2.645,2,0.444,2,5.902,2,2137.6,2,2274.8,2,-999.0,9,-999.00,1,20050903,1045,-58.8372,-85.7323
316N20050821,AAIW,37,1,19,19,2,20050903,849,-58.8393,-85.7339,414.2,3.5391,34.0806,2,34.0883,2,283.4,2,281.9,2,13.64,2,25.96,2,0.01,2,1.82,2,4.314,2,2.460,2,0.363,2,5.186,2,2153.8,2,2277.9,2,-999.0,9,-999.00,1,20050903,1042,-58.8367,-85.7320
316N20050821,AAIW,37,1,18,18,2,20050903,849,-58.8393,-85.7339,513.6,3.6370,34.1733,2,34.1772,2,247.8,2,248.0,2,22.30,2,28.35,2,0.00,2,1.99,2,3.481,2,1.931,2,0.270,2,3.908,2,2172.1,2,2284.7,2,-999.0,9,-999.00,1,20050903,1038,-58.8362,-85.7316
316N20050821,AAIW,37,1,17,17,2,20050903,849,-58.8393,-85.7339,611.3,3.3585,34.2388,2,34.2412,2,228.5,2,229.2,2,31.17,2,30.64,2,0.00,2,2.11,2,2.787,2,1.516,2,0.208,2,3.295,2,2191.4,2,2292.9,2,-999.0,9,-999.00,1,20050903,1035,-58.8357,-85.7312
316N20050821,AAIW,37,1,16,16,2,20050903,849,-58.8393,-85.7339,708.5,3.1526,34.2977,2,34.3025,2,211.3,2,211.6,2,40.45,2,31.89,2,0.00,2,2.22,2,2.124,2,1.178,2,0.147,2,2.624,2,2205.8,2,2300.7,2,-999.0,9,-999.00,1,20050903,1032,-58.8352,-85.7308
316N20050821,AAIW,37,1,15,15,2,20050903,849,-58.8393,-85.7339,806.6,3.0296,34.3546,2,34.3554,2,196.3,2,197.5,2,47.37,2,32.88,2,0.00,2,2.28,2,1.586,2,0.863,2,0.112,2,2.024,2,2217.8,2,2309.6,2,-999.0,9,-999.00,1,20050903,1029,-58.8346,-85.7305
316N20050821,AAIW,37,1,14,14,2,20050903,849,-58.8393,-85.7339,906.5,2.7756,34.3969,2,34.3992,2,189.1,2,189.7,2,54.70,2,33.64,2,0.00,2,2.34,2,1.337,2,0.721,2,0.083,2,1.773,2,2229.2,2,2314.8,2,-999.0,9,-999.00,1,20050903,1026,-58.8341,-85.7301
316N20050821,AAIW,37,1,13,13,2,20050903,849,-58.8393,-85.7339,1004.5,2.7075,34.4548,2,34.4566,2,180.7,2,181.2,2,60.65,2,33.85,2,0.00,2,2.36,2,0.955,2,0.510,2,0.050,2,1.323,2,2238.1,2,2322.2,2,-999.0,9,-999.00,1,20050903,1023,-58.8336,-85.7299
316N20050821,AAIW,37,1,12,12,2,20050903,849,-58.8393,-85.7339,1101.7,2.5713,34.4981,2,34.4988,2,176.3,2,176.7,2,66.60,2,33.96,2,0.00,2,2.37,2,0.791,2,0.439,2,0.039,2,1.146,2,-999.0,5,2326.7,2,-999.0,9,-999.00,1,20050903,1019,-58.8329,-85.7294
316N20050821,AAIW,37,1,11,11,2,20050903,849,-58.8393,-85.7339,1198.4,2.5109,34.5413,2,34.5425,2,172.9,2,172.9,2,70.57,2,33.85,2,0.00,2,2.36,2,0.577,2,0.303,2,0.028,2,0.846,2,-999.0,5,2331.7,2,-999.0,9,-999.00,1,20050903,1016,-58.8324,-85.7293
316N20050821,AAIW,37,1,10,10,2,20050903,849,-58.8393,-85.7339,1435.8,2.3367,34.6230,2,34.6223,2,171.2,2,171.3,2,78.13,2,33.08,2,0.00,2,2.31,2,0.347,2,0.185,2,0.002,2,0.509,2,2254.5,2,2341.0,2,-999.0,9,-999.00,1,20050903,1010,-58.8314,-85.7285
316N20050821,AAIW,37,1,9,9,2,20050903,849,-58.8393,-85.7339,1678.0,2.1899,34.6793,2,34.6814,2,175.1,2,174.9,2,83.71,2,32.37,2,0.00,2,2.25,2,0.199,2,0.095,2,0.002,2,0.314,2,-999.0,5,2346.6,2,-999.0,9,-999.00,1,20050903,1005,-58.8306,-85.7281
316N20050821,AAIW,37,1,8,8,2,20050903,849,-58.8393,-85.7339,1968.9,2.0011,34.7131,2,34.7139,2,180.7,2,180.6,2,88.29,2,31.66,2,0.00,2,2.20,2,0.133,6,0.077,6,0.002,6,0.213,6,-999.0,5,2352.4,2,-999.0,9,-999.00,1,20050903,958,-58.8297,-85.7275
316N20050821,AAIW,37,1,7,7,2,20050903,849,-58.8393,-85.7339,2460.9,1.6284,34.7220,2,34.7241,2,186.2,2,185.9,2,102.11,2,31.76,2,0.00,2,2.21,2,0.051,2,0.036,2,0.002,2,0.090,2,2262.7,2,2363.0,2,-999.0,9,-999.00,1,20050903,948,-58.8282,-85.7265
316N20050821,AAIW,37,1,6,6,2,20050903,849,-58.8393,-85.7339,2957.3,1.3743,34.7249,2,34.7257,2,194.3,2,194.7,2,107.93,2,31.49,2,0.00,2,2.20,2,0.057,2,0.033,2,0.002,2,0.126,2,-999.0,5,2361.9,2,-999.0,9,-999.00,1,20050903,938,-58.8266,-85.7253
316N20050821,AAIW,37,1,5,5,2,20050903,849,-58.8393,-85.7339,3452.8,1.0731,34.7168,2,34.7171,2,200.6,2,200.4,2,117.98,2,31.71,2,0.00,2,2.21,2,0.071,2,0.048,2,0.002,2,0.129,2,-999.0,5,2361.6,2,-999.0,9,-999.00,1,20050903,928,-58.8252,-85.7242
316N20050821,AAIW,37,1,4,4,2,20050903,849,-58.8393,-85.7339,3960.3,0.7813,34.7092,2,34.7096,2,206.1,2,206.2,2,126.85,2,31.92,2,0.00,2,2.23,2,0.090,2,0.048,2,0.002,2,0.190,2,2259.5,2,2362.9,2,-999.0,9,-999.00,1,20050903,919,-58.8237,-85.7227
316N20050821,AAIW,37,1,3,3,2,20050903,849,-58.8393,-85.7339,4462.4,0.5997,34.7065,2,34.7069,2,209.5,2,209.8,2,132.70,2,32.20,2,0.00,2,2.24,2,0.093,2,0.048,2,0.002,2,0.258,2,-999.0,5,2365.3,2,-999.0,9,-999.00,1,20050903,909,-58.8222,-85.7226
316N20050821,AAIW,37,1,2,2,2,20050903,849,-58.8393,-85.7339,4971.1,0.5826,34.7056,2,34.7053,2,210.7,2,212.5,2,136.53,2,32.15,2,0.00,2,2.24,2,0.117,2,0.073,2,0.002,2,0.292,2,-999.0,5,2364.1,2,-999.0,9,-999.00,1,20050903,859,-58.8207,-85.7223
316N20050821,AAIW,37,1,1,1,2,20050903,849,-58.8393,-85.7339,5454.7,0.6196,34.7048,2,34.7049,2,212.2,2,212.1,2,137.94,2,32.20,2,0.00,2,2.24,2,0.120,2,0.064,2,0.002,2,0.290,2,2263.2,6,2365.6,2,-999.0,9,-999.00,1,20050903,849,-58.8194,-85.7210
316N20050821,AAIW,38,1,24,24,2,20050903,1545,-59.3100,-86.1861,18.5,3.7073,34.0458,2,34.0479,2,311.1,2,311.6,2,7.77,2,23.20,2,0.06,2,1.63,2,-999.000,9,-999.000,9,-999.000,9,-999.000,9,2131.9,6,2275.8,2,-999.0,9,-999.00,1,20050903,1747,-59.3100,-86.1861
316N20050821,AAIW,38,1,23,23,2,20050903,1545,-59.3100,-86.1861,53.9,3.6805,34.0442,2,34.0454,2,311.3,2,311.7,2,7.76,2,23.19,2,0.06,2,1.64,2,-999.000,9,-999.000,9,-999.000,9,-999.000,9,-999.0,5,2275.0,2,-999.0,9,-999.00,1,20050903,1745,-59.3094,-86.1862
316N20050821,AAIW,38,1,22,22,2,20050903,1545,-59.3100,-86.1861,98.4,3.6815,34.0511,2,34.0522,2,308.4,2,309.9,2,7.95,2,23.46,2,0.06,2,1.64,2,-999.000,9,-999.000,9,-999.000,9,-999.000,9,2136.2,2,2275.5,2,-999.0,9,-999.00,1,20050903,1743,-59.3088,-86.1863
316N20050821,AAIW,38,1,21,21,2,20050903,1545,-59.3100,-86.1861,141.8,3.3444,34.0241,2,34.0391,2,308.2,2,307.9,2,8.54,2,23.94,2,0.05,2,1.68,2,-999.000,9,-999.000,9,-999.000,9,-999.000,9,2136.9,2,2274.5,2,-999.0,9,-999.00,1,20050903,1741,-59.3081,-86.1865
316N20050821,AAIW,38,1,20,20,2,20050903,1545,-59.3100,-86.1861,241.0,3.0779,34.0211,2,34.0237,2,305.7,2,306.2,2,10.50,2,25.18,2,0.02,2,1.76,2,-999.000,9,-999.000,9,-999.000,9,-999.000,9,2143.6,2,2276.7,2,-999.0,9,-999.00,1,20050903,1738,-59.3073,-86.1868
316N20050821,AAIW,38,1,19,19,2,20050903,1545,-59.3100,-86.1861,340.1,3.3533,34.1017,2,34.1072,2,273.7,2,271.9,2,17.59,2,27.42,2,0.01,2,1.91,2,-999.000,9,-999.000,9,-999.000,9,-999.000,9,2162.4,2,2282.9,2,-999.0,9,-999.00,1,20050903,1736,-59.3063,-86.1870
316N20050821,AAIW,38,1,18,18,2,20050903,1545,-59.3100,-86.1861,439.2,3.7261,34.2320,2,34.2333,2,230.0,2,230.7,2,27.24,2,30.02,2,0.00,2,2.06,2,-999.000,9,-999.000,9,-999.000,9,-999.000,9,2190.6,2,2290.9,2,-999.0,9,-999.00,1,20050903,1733,-59.3055,-86.1869
316N20050821,AAIW,38,1,17,17,2,20050903,1545,-59.3100,-86.1861,537.0,3.3122,34.2499,2,34.2512,2,226.2,2,226.2,2,32.76,2,30.91,2,0.00,2,2.13,2,-999.000,9,-999.000,9,-999.000,9,-999.000,9,2195.2,2,2294.4,2,-999.0,9,-999.00,1,20050903,1730,-59.3048,-86.1867
316N20050821,AAIW,38,1,16,16,2,20050903,1545,-59.3100,-86.1861,634.6,2.8742,34.2697,2,34.2719,2,220.8,2,221.6,2,39.08,2,31.87,2,0.00,2,2.21,2,-999.000,9,-999.000,9,-999.000,9,-999.000,9,2204.5,2,2300.5,2,-999.0,9,-999.00,1,20050903,1727,-59.3042,-86.1864
316N20050821,AAIW,38,1,15,15,2,20050903,1545,-59.3100,-86.1861,732.2,2.8499,34.3381,2,34.3405,2,202.6,2,203.0,2,47.39,2,33.15,2,0.00,2,2.29,2,-999.000,9,-999.000,9,-999.000,9,-999.000,9,2218.9,2,2307.5,2,-999.0,9,-999.00,1,20050903,1725,-59.3036,-86.1863
316N20050821,AAIW,38,1,14,14,2,20050903,1545,-59.3100,-86.1861,830.3,2.7618,34.4013,2,34.4024,2,190.2,2,190.6,2,55.11,2,33.79,2,0.00,2,2.34,2,-999.000,9,-999.000,9,-999.000,9,-999.000,9,2231.1,2,2317.1,2,-999.0,9,-999.00,1,20050903,1722,-59.3029,-86.1867
316N20050821,AAIW,38,1,13,13,2,20050903,1545,-59.3100,-86.1861,928.6,2.6627,34.4546,2,34.4540,2,182.4,2,182.1,2,61.47,2,33.94,2,0.00,2,2.36,2,-999.000,9,-999.000,9,-999.000,9,-999.000,9,2240.9,2,2323.5,2,-999.0,9,-999.00,1,20050903,1719,-59.3023,-86.1870
316N20050821,AAIW,38,1,12,12,2,20050903,1545,-59.3100,-86.1861,1023.9,2.5729,34.4964,2,34.4979,2,178.2,2,177.5,2,66.03,2,34.09,2,0.00,2,2.37,2,-999.000,9,-999.000,9,-999.000,9,-999.000,9,2247.0,2,2328.1,2,-999.0,9,-999.00,1,20050903,1717,-59.3017,-86.1873
316N20050821,AAIW,38,1,11,11,2,20050903,1545,-59.3100,-86.1861,1217.0,2.3989,34.5721,2,34.5715,2,173.7,2,173.1,2,73.78,2,33.87,2,0.00,2,2.35,2,-999.000,9,-999.000,9,-999.000,9,-999.000,9,-999.0,9,-999.0,9,-999.0,9,-999.00,9,20050903,1712,-59.3007,-86.1879
316N20050821,AAIW,38,1,10,10,2,20050903,1545,-59.3100,-86.1861,1398.8,2.3131,34.6306,2,34.6329,2,173.4,2,172.4,2,78.96,2,33.22,2,0.00,2,2.31,2,-999.000,9,-999.000,9,-999.000,9,-999.000,9,-999.0,9,2342.9,2,-999.0,9,-999.00,1,20050903,1708,-59.2999,-86.1882
316N20050821,AAIW,38,1,9,9,2,20050903,1545,-59.3100,-86.1861,1589.4,2.1961,34.6739,2,34.6749,2,176.5,2,176.3,2,82.34,2,32.52,2,0.00,2,2.25,2,-999.000,9,-999.000,9,-999.000,9,-999.000,9,-999.0,9,-999.0,9,-999.0,9,-999.00,9,20050903,1703,-59.2991,-86.1877
316N20050821,AAIW,38,1,8,8,2,20050903,1545,-59.3100,-86.1861,1793.6,2.0684,34.7014,2,34.7034,2,179.0,2,178.8,2,87.73,2,32.09,2,0.00,2,2.23,2,-999.000,9,-999.000,9,-999.000,9,-999.000,9,-999.0,9,2353.9,2,-999.0,9,-999.00,1,20050903,1658,-59.2980,-86.1866
316N20050821,AAIW,38,1,7,7,2,20050903,1545,-59.3100,-86.1861,2095.5,1.8407,34.7197,2,34.7193,2,184.0,2,184.0,2,95.32,2,31.87,2,0.00,2,2.21,2,-999.000,9,-999.000,9,-999.000,9,-999.000,9,-999.0,9,-999.0,9,-999.0,9,-999.00,9,20050903,1652,-59.2966,-86.1855
316N20050821,AAIW,38,1,6,6,2,20050903,1545,-59.3100,-86.1861,2600.4,1.5182,34.7263,2,34.7263,2,192.2,2,192.1,2,103.73,2,31.60,2,0.00,2,2.20,2,-999.000,9,-999.000,9,-999.000,9,-999.000,9,-999.0,9,2361.7,2,-999.0,9,-999.00,1,20050903,1643,-59.2947,-86.1837
316N20050821,AAIW,38,1,5,5,2,20050903,1545,-59.3100,-86.1861,3097.9,1.2248,34.7214,2,34.7214,2,198.5,2,198.5,2,112.37,2,31.75,2,0.00,2,2.20,2,-999.000,9,-999.000,9,-999.000,9,-999.000,9,-999.0,9,-999.0,9,-999.0,9,-999.00,9,20050903,1633,-59.2933,-86.1819
316N20050821,AAIW,38,1,4,4,2,20050903,1545,-59.3100,-86.1861,3600.9,0.9238,34.7129,2,34.7132,2,204.4,2,204.3,2,121.83,2,32.01,2,0.00,2,2.22,2,-999.000,9,-999.000,9,-999.000,9,-999.000,9,-999.0,9,2362.8,2,-999.0,9,-999.00,1,20050903,1624,-59.2919,-86.1803
316N20050821,AAIW,38,1,3,3,2,20050903,1545,-59.3100,-86.1861,4097.1,0.6478,34.7074,2,34.7073,2,209.5,2,210.0,2,130.71,2,32.27,2,0.00,2,2.24,2,-999.000,9,-999.000,9,-999.000,9,-999.000,9,-999.0,9,-999.0,9,-999.0,9,-999.00,9,20050903,1614,-59.2906,-86.1800
316N20050821,AAIW,38,1,2,2,2,20050903,1545,-59.3100,-86.1861,4601.9,0.5621,34.7059,2,34.7062,2,211.6,2,211.3,2,135.76,2,32.37,2,0.00,2,2.24,2,-999.000,9,-999.000,9,-999.000,9,-999.000,9,-999.0,9,2365.1,2,-999.0,9,-999.00,1,20050903,1605,-59.2890,-86.1793
316N20050821,AAIW,38,1,1,1,2,20050903,1545,-59.3100,-86.1861,5160.1,0.5771,34.7048,2,34.7044,2,214.0,2,213.9,2,137.98,2,32.53,2,0.00,2,2.25,2,-999.000,9,-999.000,9,-999.000,9,-999.000,9,-999.0,9,2366.0,2,-999.0,9,-999.00,1,20050903,1545,-59.2869,-86.1742
316N20050821,AAIW,39,1,24,24,2,20050903,2221,-59.7486,-86.6069,15.9,3.6341,34.0496,2,34.0530,2,309.7,2,309.4,2,8.35,2,24.07,2,0.06,2,1.65,2,-999.000,9,-999.000,9,-999.000,9,-999.000,9,2135.4,6,2275.7,2,-999.0,9,-999.00,1,20050904,13,-59.7486,-86.6069
316N20050821,AAIW,39,1,23,23,2,20050903,2221,-59.7486,-86.6069,39.1,3.6221,34.0490,2,34.0518,2,308.9,2,309.2,2,8.34,2,24.13,2,0.06,2,1.66,2,-999.000,9,-999.000,9,-999.000,9,-999.000,9,2135.8,2,2276.1,2,-999.0,9,-999.00,1,20050904,12,-59.7484,-86.6071
316N20050821,AAIW,39,1,22,22,2,20050903,2221,-59.7486,-86.6069,68.3,3.5681,34.0458,2,34.0461,2,308.5,2,311.5,2,8.34,2,24.24,2,0.06,2,1.66,2,-999.000,9,-999.000,9,-999.000,9,-999.000,9,2137.3,2,2274.5,2,-999.0,9,-999.00,1,20050904,10,-59.7482,-86.6071
316N20050821,AAIW,39,1,21,21,2,20050903,2221,-59.7486,-86.6069,99.0,3.4689,34.0396,2,34.0406,2,308.3,2,308.5,2,8.74,2,24.55,2,0.05,2,1.68,2,-999.000,9,-999.000,9,-999.000,9,-999.000,9,2136.5,2,2273.9,2,-999.0,9,-999.00,1,20050904,8,-59.7481,-86.6072
316N20050821,AAIW,39,1,20,20,2,20050903,2221,-59.7486,-86.6069,128.5,3.2656,34.0372,2,34.0388,2,306.5,2,306.4,2,9.91,2,25.38,2,0.05,2,1.73,2,-999.000,9,-999.000,9,-999.000,9,-999.000,9,2140.5,2,2277.1,2,-999.0,9,-999.00,1,20050904,7,-59.7479,-86.6073
316N20050821,AAIW,39,1,19,19,2,20050903,2221,-59.7486,-86.6069,186.8,2.8893,34.0211,2,34.0218,2,306.6,2,307.1,2,10.89,2,26.06,2,0.04,2,1.77,2,-999.000,9,-999.000,9,-999.000,9,-999.000,9,2142.8,2,2276.5,2,-999.0,9,-999.00,1,20050904,5,-59.7477,-86.6075
316N20050821,AAIW,39,1,18,18,2,20050903,2221,-59.7486,-86.6069,275.4,2.4961,33.9989,2,34.0008,2,314.3,2,313.5,2,11.28,2,26.42,2,0.03,2,1.79,2,-999.000,9,-999.000,9,-999.000,9,-999.000,9,2142.5,2,2275.8,2,-999.0,9,-999.00,1,20050904,2,-59.7475,-86.6076
316N20050821,AAIW,39,1,17,17,2,20050903,2221,-59.7486,-86.6069,374.0,2.4214,34.0251,2,34.0368,2,301.2,2,300.7,2,15.21,2,28.00,2,0.02,2,1.87,2,-999.000,9,-999.000,9,-999.000,9,-999.000,9,2154.1,2,2278.9,2,-999.0,9,-999.00,1,20050903,2359,-59.7472,-86.6077
316N20050821,AAIW,39,1,16,16,2,20050903,2221,-59.7486,-86.6069,473.7,2.5366,34.1378,2,34.1329,2,269.1,2,269.1,2,26.65,2,31.39,2,0.01,2,2.05,2,-999.000,9,-999.000,9,-999.000,9,-999.000,9,2178.8,2,2287.2,2,-999.0,9,-999.00,1,20050903,2357,-59.7469,-86.6078
316N20050821,AAIW,39,1,15,15,2,20050903,2221,-59.7486,-86.6069,570.9,1.9753,34.1461,2,34.1507,2,269.5,2,269.0,2,31.18,2,32.15,2,0.01,2,2.10,2,-999.000,9,-999.000,9,-999.000,9,-999.000,9,2186.4,2,2290.7,2,-999.0,9,-999.00,1,20050903,2354,-59.7465,-86.6080
316N20050821,AAIW,39,1,14,14,2,20050903,2221,-59.7486,-86.6069,669.1,2.6931,34.3036,2,34.3044,2,215.4,2,213.7,2,44.63,2,33.23,2,0.01,2,2.26,2,-999.000,9,-999.000,9,-999.000,9,-999.000,9,2215.6,2,2304.0,2,-999.0,9,-999.00,1,20050903,2351,-59.7462,-86.6082
316N20050821,AAIW,39,1,13,13,2,20050903,2221,-59.7486,-86.6069,763.9,2.7210,34.3794,2,34.3798,2,195.0,2,194.1,2,53.14,2,34.24,2,0.00,2,2.33,2,-999.000,9,-999.000,9,-999.000,9,-999.000,9,2229.9,2,2312.8,2,-999.0,9,-999.00,1,20050903,2349,-59.7459,-86.6083
316N20050821,AAIW,39,1,12,12,2,20050903,2221,-59.7486,-86.6069,862.6,2.6478,34.4463,2,34.4481,2,184.0,2,182.7,2,60.89,2,34.67,2,0.00,2,2.36,2,-999.000,9,-999.000,9,-999.000,9,-999.000,9,2240.2,2,2320.6,2,-999.0,9,-999.00,1,20050903,2346,-59.7455,-86.6086
316N20050821,AAIW,39,1,11,11,2,20050903,2221,-59.7486,-86.6069,992.7,2.5080,34.5105,2,34.5108,2,176.7,2,175.8,2,68.04,2,34.78,2,0.00,2,2.36,2,-999.000,9,-999.000,9,-999.000,9,-999.000,9,2248.7,2,2329.6,2,-999.0,9,-999.00,1,20050903,2343,-59.7450,-86.6088
316N20050821,AAIW,39,1,10,10,2,20050903,2221,-59.7486,-86.6069,1236.8,2.3613,34.6036,2,34.6047,2,173.1,2,171.8,2,76.81,2,34.03,2,0.00,2,2.32,2,-999.000,9,-999.000,9,-999.000,9,-999.000,9,2256.3,2,2338.4,2,-999.0,9,-999.00,1,20050903,2337,-59.7443,-86.6092
316N20050821,AAIW,39,1,9,9,2,20050903,2221,-59.7486,-86.6069,1532.0,2.1663,34.6803,2,34.6798,2,177.6,2,177.6,2,83.59,2,32.60,2,0.00,2,2.25,2,-999.000,9,-999.000,9,-999.000,9,-999.000,9,-999.0,5,2346.5,2,-999.0,9,-999.00,1,20050903,2331,-59.7434,-86.6097
316N20050821,AAIW,39,1,8,8,2,20050903,2221,-59.7486,-86.6069,1813.4,2.0029,34.7119,2,34.7126,2,182.5,2,182.3,2,88.59,2,32.04,2,0.00,2,2.20,2,-999.000,9,-999.000,9,-999.000,9,-999.000,9,2255.9,2,2350.1,2,-999.0,9,-999.00,1,20050903,2325,-59.7429,-86.6101
316N20050821,AAIW,39,1,7,7,2,20050903,2221,-59.7486,-86.6069,2309.9,1.6128,34.7248,2,34.7244,2,189.7,2,187.8,2,101.81,2,31.91,2,0.00,2,2.20,2,-999.000,9,-999.000,9,-999.000,9,-999.000,9,2259.8,2,2361.6,2,-999.0,9,-999.00,1,20050903,2316,-59.7416,-86.6083
316N20050821,AAIW,39,1,6,6,2,20050903,2221,-59.7486,-86.6069,2810.9,1.3348,34.7237,2,34.7228,2,196.3,2,195.9,2,109.45,2,31.86,2,0.00,2,2.20,2,-999.000,9,-999.000,9,-999.000,9,-999.000,9,2260.9,2,2361.5,2,-999.0,9,-999.00,1,20050903,2307,-59.7401,-86.6085
316N20050821,AAIW,39,1,5,5,2,20050903,2221,-59.7486,-86.6069,3312.1,1.0274,34.7161,2,34.7159,2,202.4,2,202.4,2,118.72,2,32.03,2,0.00,2,2.21,2,-999.000,9,-999.000,9,-999.000,9,-999.000,9,2260.5,2,2361.3,2,-999.0,9,-999.00,1,20050903,2257,-59.7387,-86.6095
316N20050821,AAIW,39,1,4,4,2,20050903,2221,-59.7486,-86.6069,3821.2,0.7324,34.7087,2,34.7080,2,207.4,2,207.3,2,127.80,2,32.27,2,0.00,2,2.23,2,-999.000,9,-999.000,9,-999.000,9,-999.000,9,2263.0,2,2362.2,2,-999.0,9,-999.00,1,20050903,2248,-59.7372,-86.6095
316N20050821,AAIW,39,1,3,3,2,20050903,2221,-59.7486,-86.6069,4329.0,0.5634,34.7061,2,34.7067,2,210.5,2,211.8,2,134.89,2,32.38,2,0.00,2,2.24,2,-999.000,9,-999.000,9,-999.000,9,-999.000,9,2264.5,2,2363.0,2,-999.0,9,-999.00,1,20050903,2239,-59.7359,-86.6091
316N20050821,AAIW,39,1,2,2,2,20050903,2221,-59.7486,-86.6069,4838.5,0.5493,34.7053,2,34.7045,2,213.7,2,214.7,3,137.93,2,32.43,2,0.00,2,2.25,2,-999.000,9,-999.000,9,-999.000,9,-999.000,9,2264.5,2,2362.0,2,-999.0,9,-999.00,1,20050903,2229,-59.7346,-86.6082
316N20050821,AAIW,39,1,1,1,2,20050903,2221,-59.7486,-86.6069,5293.8,0.5685,34.7044,2,34.7055,2,216.7,2,213.9,2,139.55,2,32.41,2,0.00,2,2.26,2,-999.000,9,-999.000,9,-999.000,9,-999.000,9,2267.4,6,2362.8,2,-999.0,9,-999.00,1,20050903,2221,-59.7336,-86.6077