BOTTLE,20220819CCHSIOAMB
EXPOCODE,SECT_ID,STNNBR,CASTNO,SAMPNO,BTLNBR,BTLNBR_FLAG_W,DATE,TIME,LATITUDE,LONGITUDE,CTDPRS,CTDTMP,CTDSAL,CTDSAL_FLAG_W,SALNTY,SALNTY_FLAG_W,CTDOXY,CTDOXY_FLAG_W,OXYGEN,OXYGEN_FLAG_W,SILCAT,SILCAT_FLAG_W,NITRAT,NITRAT_FLAG_W,NITRIT,NITRIT_FLAG_W,PHSPHT,PHSPHT_FLAG_W,CFC-11,CFC-11_FLAG_W,CFC-12,CFC-12_FLAG_W,CFC113,CFC113_FLAG_W,CCL4,CCL4_FLAG_W,TCARBN,TCARBN_FLAG_W,ALKALI,ALKALI_FLAG_W,PCO2,PCO2_FLAG_W,PH_SWS,PH_SWS_FLAG_W,BTL_DATE,BTL_TIME,BTL_LAT,BTL_LON
,,,,,,,,,,,DBAR,ITS-90,PSS-78,,PSS-78,,UMOL/KG,,UMOL/KG,,UMOL/KG,,UMOL/KG,,UMOL/KG,,UMOL/KG,,PMOL/KG,,PMOL/KG,,PMOL/KG,,PMOL/KG,,UMOL/KG,,UMOL/KG,,UATM,,,,,,,
316N20050821,AAIW,46,1,24,24,2,20050905,2136,-60.9916,-89.0453,15.1,2.4392,34.0011,2,34.0068,3,320.7,2,320.5,2,11.89,2,25.56,2,0.05,2,1.80,2,5.367,2,2.846,2,0.534,2,6.808,2,2139.6,2,2276.2,2,-999.0,9,-999.00,1,20050905,2326,-60.9916,-89.0453
316N20050821,AAIW,46,1,23,23,2,20050905,2136,-60.9916,-89.0453,39.7,2.4387,34.0013,2,34.0085,3,319.6,2,320.4,2,11.88,2,25.56,2,0.05,2,1.79,2,5.388,2,2.860,2,0.523,2,6.751,2,-999.0,9,-999.0,9,-999.0,9,-999.00,9,20050905,2324,-60.9918,-89.0449
316N20050821,AAIW,46,1,22,22,2,20050905,2136,-60.9916,-89.0453,79.5,2.2720,34.0051,2,34.0128,3,317.0,2,316.1,2,13.23,2,26.16,2,0.04,2,1.83,2,5.326,2,2.806,2,0.522,2,6.656,2,-999.0,9,-999.0,9,-999.0,9,-999.00,9,20050905,2322,-60.9920,-89.0446
316N20050821,AAIW,46,1,21,21,2,20050905,2136,-60.9916,-89.0453,129.2,2.0494,34.0072,2,34.0136,3,318.2,2,318.6,2,14.58,2,26.44,2,0.05,2,1.86,2,5.360,2,2.883,2,0.518,2,6.690,2,2148.8,2,2279.1,2,-999.0,9,-999.00,1,20050905,2320,-60.9921,-89.0443
316N20050821,AAIW,46,1,20,20,2,20050905,2136,-60.9916,-89.0453,178.3,1.9284,34.0109,2,34.0177,3,313.9,2,314.3,2,15.73,2,27.06,2,0.01,2,1.90,2,5.299,2,2.851,2,0.513,2,6.559,2,-999.0,9,-999.0,9,-999.0,9,-999.00,9,20050905,2318,-60.9922,-89.0441
316N20050821,AAIW,46,1,19,19,2,20050905,2136,-60.9916,-89.0453,238.1,1.9066,34.0380,2,34.0413,3,306.0,2,307.2,2,18.83,2,27.83,2,0.02,2,1.95,2,5.209,2,2.751,2,0.517,2,6.432,2,2157.0,2,2281.2,2,-999.0,9,-999.00,1,20050905,2316,-60.9922,-89.0438
316N20050821,AAIW,46,1,18,18,2,20050905,2136,-60.9916,-89.0453,336.9,1.9042,34.0933,2,34.0988,3,288.2,2,285.5,2,26.23,2,29.55,2,0.00,2,2.05,2,4.663,2,2.470,2,0.427,2,5.587,2,-999.0,9,2285.2,2,-999.0,9,-999.00,1,20050905,2313,-60.9923,-89.0433
316N20050821,AAIW,46,1,17,17,2,20050905,2136,-60.9916,-89.0453,376.2,2.0453,34.1327,2,34.1368,3,274.1,2,272.1,2,29.34,2,30.18,2,0.00,2,2.10,2,4.189,2,2.258,2,0.390,2,4.932,2,-999.0,9,2290.3,2,-999.0,9,-999.00,1,20050905,2312,-60.9924,-89.0431
316N20050821,AAIW,46,1,16,16,2,20050905,2136,-60.9916,-89.0453,444.8,2.1448,34.1974,2,34.2017,3,248.6,2,248.9,2,36.94,2,31.50,2,0.00,2,2.20,2,3.500,2,1.839,2,0.321,2,4.113,2,2193.6,2,2294.0,2,-999.0,9,-999.00,1,20050905,2310,-60.9925,-89.0428
316N20050821,AAIW,46,1,15,15,2,20050905,2136,-60.9916,-89.0453,473.4,2.2194,34.2253,2,34.2295,3,238.6,2,240.4,2,39.67,2,32.09,2,0.00,2,2.22,2,3.209,2,1.694,2,0.282,2,3.766,2,-999.0,9,2297.0,2,-999.0,9,-999.00,1,20050905,2308,-60.9926,-89.0426
316N20050821,AAIW,46,1,14,14,2,20050905,2136,-60.9916,-89.0453,532.5,2.5294,34.3157,2,34.3217,3,209.7,2,209.7,2,48.28,2,33.21,2,0.00,2,2.31,2,2.200,2,1.153,2,0.172,2,2.704,2,2216.7,2,2307.1,2,-999.0,9,-999.00,1,20050905,2306,-60.9926,-89.0421
316N20050821,AAIW,46,1,13,13,2,20050905,2136,-60.9916,-89.0453,629.8,2.6330,34.4045,2,34.4085,3,187.4,2,188.4,2,57.09,2,34.00,2,0.00,2,2.36,2,1.408,2,0.726,2,0.129,2,1.849,2,-999.0,9,2315.8,2,-999.0,9,-999.00,1,20050905,2303,-60.9926,-89.0415
316N20050821,AAIW,46,1,12,12,2,20050905,2136,-60.9916,-89.0453,727.4,2.5538,34.4542,2,34.4575,3,180.7,2,180.7,2,62.38,2,34.34,2,0.00,2,2.39,2,1.115,6,0.542,6,0.090,6,1.518,6,2239.6,2,2321.7,2,-999.0,9,-999.00,1,20050905,2301,-60.9925,-89.0407
316N20050821,AAIW,46,1,11,11,2,20050905,2136,-60.9916,-89.0453,825.4,2.4432,34.5107,2,34.5143,3,175.5,2,175.1,2,68.27,2,34.20,2,0.00,2,2.39,2,0.826,2,0.400,2,0.072,2,1.152,2,-999.0,9,2328.1,2,-999.0,9,-999.00,1,20050905,2258,-60.9925,-89.0400
316N20050821,AAIW,46,1,10,10,2,20050905,2136,-60.9916,-89.0453,918.0,2.3854,34.5528,2,34.5580,3,173.0,2,173.3,2,72.20,2,34.10,2,0.00,2,2.38,2,0.653,2,0.333,2,0.046,2,0.919,2,2251.3,2,2332.0,2,-999.0,9,-999.00,1,20050905,2253,-60.9927,-89.0392
316N20050821,AAIW,46,1,9,9,2,20050905,2136,-60.9916,-89.0453,1212.1,2.2355,34.6506,2,34.6519,3,173.6,2,172.9,2,79.87,2,33.01,2,0.00,2,2.31,2,0.321,2,0.152,2,0.017,2,0.466,2,-999.0,9,2341.3,2,-999.0,9,-999.00,1,20050905,2247,-60.9931,-89.0381
316N20050821,AAIW,46,1,8,8,2,20050905,2136,-60.9916,-89.0453,1507.9,2.0628,34.7010,2,34.7121,4,179.0,2,178.3,2,86.18,2,32.18,2,0.00,2,2.24,2,0.182,2,0.082,2,0.008,2,0.272,2,-999.0,9,2348.2,2,-999.0,9,-999.00,1,20050905,2241,-60.9936,-89.0372
316N20050821,AAIW,46,1,7,7,2,20050905,2136,-60.9916,-89.0453,2003.4,1.7148,34.7290,2,34.7364,4,188.4,2,187.5,2,93.88,2,31.54,2,0.00,2,2.20,2,0.111,2,0.060,2,0.002,2,0.160,2,-999.0,9,2354.6,2,-999.0,9,-999.00,1,20050905,2232,-60.9938,-89.0350
316N20050821,AAIW,46,1,6,6,2,20050905,2136,-60.9916,-89.0453,2605.9,1.3183,34.7253,2,34.7291,3,195.8,2,195.2,2,107.97,2,31.69,2,0.00,2,2.21,2,0.074,2,0.038,2,0.002,2,0.141,2,-999.0,9,-999.0,9,-999.0,9,-999.00,9,20050905,2221,-60.9939,-89.0322
316N20050821,AAIW,46,1,5,5,2,20050905,2136,-60.9916,-89.0453,3207.6,0.9819,34.7152,2,34.7168,3,201.7,2,201.8,2,119.12,2,32.03,2,0.00,2,2.22,2,0.093,2,0.046,2,0.002,2,0.205,2,-999.0,9,-999.0,9,-999.0,9,-999.00,9,20050905,2210,-60.9945,-89.0304
316N20050821,AAIW,46,1,4,4,2,20050905,2136,-60.9916,-89.0453,4015.9,0.5800,34.7062,2,34.7089,3,208.5,2,209.7,2,131.90,2,32.37,2,0.00,2,2.25,2,0.133,2,0.068,2,0.002,2,0.291,2,-999.0,9,-999.0,9,-999.0,9,-999.00,9,20050905,2155,-60.9949,-89.0273
316N20050821,AAIW,46,1,3,3,2,20050905,2136,-60.9916,-89.0453,4016.2,0.5805,34.7063,2,34.7085,3,208.5,2,209.6,2,131.28,2,32.42,2,0.00,2,2.26,2,0.129,2,0.064,2,0.002,2,0.279,2,-999.0,9,-999.0,9,-999.0,9,-999.00,9,20050905,2154,-60.9949,-89.0272
316N20050821,AAIW,46,1,2,2,2,20050905,2136,-60.9916,-89.0453,4522.3,0.4859,34.7048,2,34.7075,3,211.2,2,212.1,2,136.68,2,32.62,2,0.00,2,2.26,2,0.155,2,0.079,2,0.002,2,0.378,2,-999.0,9,-999.0,9,-999.0,9,-999.00,9,20050905,2145,-60.9952,-89.0252
316N20050821,AAIW,46,1,1,1,2,20050905,2136,-60.9916,-89.0453,4927.6,0.4850,34.7040,2,34.7041,2,213.7,2,213.3,2,138.67,2,32.57,2,0.00,2,2.27,2,0.194,2,0.099,2,0.002,2,0.436,2,-999.0,9,-999.0,9,-999.0,9,-999.00,9,20050905,2136,-60.9957,-89.0235
316N20050821,AAIW,47,1,24,24,2,20050906,502,-60.4908,-89.0330,12.0,2.8416,34.0071,2,34.0095,2,316.8,2,317.1,2,10.24,2,24.87,2,0.06,2,1.74,2,5.213,2,2.900,2,0.491,2,6.934,2,2141.4,6,2274.2,2,-999.0,9,-999.00,1,20050906,702,-60.4908,-89.0330
316N20050821,AAIW,47,1,23,23,2,20050906,502,-60.4908,-89.0330,47.2,2.8429,34.0072,2,34.0082,2,316.3,2,317.3,2,10.23,2,24.73,2,0.06,2,1.74,2,5.157,2,2.866,2,0.492,2,6.855,2,2140.3,2,2274.2,2,-999.0,9,-999.00,1,20050906,700,-60.4909,-89.0329
316N20050821,AAIW,47,1,22,22,2,20050906,502,-60.4908,-89.0330,87.1,2.7047,34.0062,2,34.0091,2,313.7,2,314.3,2,11.18,2,25.13,2,0.05,2,1.77,2,5.210,2,2.845,2,0.493,2,6.733,2,2142.8,2,2274.2,2,-999.0,9,-999.00,1,20050906,657,-60.4909,-89.0329
316N20050821,AAIW,47,1,21,21,2,20050906,502,-60.4908,-89.0330,126.7,2.6065,34.0005,2,34.0025,2,313.5,2,312.2,2,11.55,2,25.53,2,0.03,2,1.78,2,5.195,2,2.902,2,0.482,2,6.734,2,2144.7,2,2275.2,2,-999.0,9,-999.00,1,20050906,654,-60.4910,-89.0327
316N20050821,AAIW,47,1,20,20,2,20050906,502,-60.4908,-89.0330,176.6,3.3148,34.1095,2,34.1118,2,268.6,2,268.4,2,19.67,2,28.03,2,0.01,2,1.94,2,4.217,2,2.299,2,0.360,2,4.874,2,2170.0,2,2281.5,2,-999.0,9,-999.00,1,20050906,652,-60.4911,-89.0325
316N20050821,AAIW,47,1,19,19,2,20050906,502,-60.4908,-89.0330,225.9,3.0249,34.1124,2,34.1154,2,268.0,2,268.9,2,21.01,2,28.46,2,0.00,2,1.98,2,4.240,2,2.319,2,0.371,2,5.027,2,2170.8,2,2283.0,2,-999.0,9,-999.00,1,20050906,649,-60.4911,-89.0324
316N20050821,AAIW,47,1,18,18,2,20050906,502,-60.4908,-89.0330,274.5,2.8306,34.1267,2,34.1281,2,264.5,2,264.6,2,24.87,2,29.20,2,0.00,2,2.02,2,4.103,2,2.228,2,0.338,2,4.809,2,2176.9,2,2284.3,2,-999.0,9,-999.00,1,20050906,647,-60.4911,-89.0323
316N20050821,AAIW,47,1,17,17,2,20050906,502,-60.4908,-89.0330,322.4,2.8230,34.1625,2,34.1641,2,255.6,2,255.0,2,28.35,2,30.08,2,0.00,2,2.07,2,3.792,2,2.017,2,0.322,2,4.443,2,2184.7,2,2287.4,2,-999.0,9,-999.00,1,20050906,645,-60.4912,-89.0321
316N20050821,AAIW,47,1,16,16,2,20050906,502,-60.4908,-89.0330,420.0,2.5913,34.2087,2,34.2091,2,241.1,2,243.2,2,39.10,2,31.04,2,0.00,2,2.15,2,3.410,2,1.778,2,0.298,2,3.941,2,2197.7,2,2292.9,2,-999.0,9,-999.00,1,20050906,641,-60.4914,-89.0315
316N20050821,AAIW,47,1,15,15,2,20050906,502,-60.4908,-89.0330,518.0,2.8174,34.2992,2,34.2996,2,210.7,2,212.4,2,42.77,2,32.57,2,0.00,2,2.25,2,2.245,2,1.182,2,0.186,2,2.835,2,2214.5,2,2302.1,2,-999.0,9,-999.00,1,20050906,638,-60.4916,-89.0310
316N20050821,AAIW,47,1,14,14,2,20050906,502,-60.4908,-89.0330,616.3,2.8473,34.3828,2,34.3845,2,190.9,2,191.6,2,52.29,2,33.40,2,0.00,2,2.32,2,1.481,2,0.763,2,0.118,2,1.957,2,2229.6,2,2312.0,2,-999.0,9,-999.00,1,20050906,635,-60.4919,-89.0302
316N20050821,AAIW,47,1,13,13,2,20050906,502,-60.4908,-89.0330,715.4,2.6705,34.4329,2,34.4336,2,183.0,2,183.4,2,58.90,2,33.98,2,0.00,2,2.36,2,1.168,2,0.591,2,0.089,2,1.624,2,2238.6,2,2320.6,2,-999.0,9,-999.00,1,20050906,631,-60.4921,-89.0296
316N20050821,AAIW,47,1,12,12,2,20050906,502,-60.4908,-89.0330,814.0,2.5561,34.4871,2,34.4891,2,176.8,2,176.9,2,65.12,2,34.08,2,0.00,2,2.37,2,0.876,6,0.442,6,0.069,6,1.242,6,2247.8,2,2325.9,2,-999.0,9,-999.00,1,20050906,628,-60.4924,-89.0290
316N20050821,AAIW,47,1,11,11,2,20050906,502,-60.4908,-89.0330,991.7,2.4189,34.5644,2,34.5646,2,171.9,2,171.7,2,72.13,2,33.93,2,0.00,2,2.36,2,0.559,2,0.266,2,0.038,2,0.806,2,2253.8,2,2332.9,2,-999.0,9,-999.00,1,20050906,624,-60.4926,-89.0280
316N20050821,AAIW,47,1,10,10,2,20050906,502,-60.4908,-89.0330,1188.2,2.3005,34.6290,2,34.6301,2,172.0,2,171.2,2,78.37,2,33.23,2,0.00,2,2.31,2,0.342,2,0.157,2,0.017,2,0.525,2,2260.1,2,2340.2,2,-999.0,9,-999.00,1,20050906,619,-60.4930,-89.0271
316N20050821,AAIW,47,1,9,9,2,20050906,502,-60.4908,-89.0330,1437.7,2.1493,34.6828,2,34.6831,2,176.3,2,175.7,2,85.20,2,32.30,2,0.00,2,-999.00,5,0.222,2,0.067,2,0.002,2,0.320,2,2263.1,2,2345.1,2,-999.0,9,-999.00,1,20050906,613,-60.4934,-89.0258
316N20050821,AAIW,47,1,8,8,2,20050906,502,-60.4908,-89.0330,1687.3,1.9870,34.7128,2,34.7133,2,181.8,2,180.6,2,89.10,2,31.61,2,0.00,2,-999.00,5,0.155,2,0.074,2,0.002,2,0.196,2,2260.5,2,2349.5,2,-999.0,9,-999.00,1,20050906,607,-60.4938,-89.0246
316N20050821,AAIW,47,1,7,7,2,20050906,502,-60.4908,-89.0330,1936.2,1.8111,34.7260,2,34.7276,3,186.4,2,185.5,2,93.02,2,31.46,2,0.00,2,2.16,2,0.124,2,0.057,2,0.002,2,0.175,2,2259.9,2,2353.2,2,-999.0,9,-999.00,1,20050906,601,-60.4942,-89.0233
316N20050821,AAIW,47,1,6,6,2,20050906,502,-60.4908,-89.0330,2365.1,1.4990,34.7276,2,34.7290,2,192.5,2,191.4,2,101.67,2,31.41,2,0.00,2,2.18,2,-999.000,5,-999.000,5,-999.000,5,-999.000,5,2263.0,2,2359.0,2,-999.0,9,-999.00,1,20050906,553,-60.4947,-89.0217
316N20050821,AAIW,47,1,5,5,2,20050906,502,-60.4908,-89.0330,2872.2,1.1961,34.7218,2,34.7233,2,198.5,2,197.6,2,111.92,2,31.61,2,0.00,2,2.19,2,0.086,2,0.042,2,0.002,2,0.146,2,2262.7,2,2360.0,2,-999.0,9,-999.00,1,20050906,543,-60.4955,-89.0195
316N20050821,AAIW,47,1,4,4,2,20050906,502,-60.4908,-89.0330,3379.1,0.9446,34.7137,2,34.7147,2,202.7,2,202.4,2,120.03,2,31.90,2,0.00,2,2.21,2,0.105,2,0.044,2,0.002,2,0.202,2,2264.1,2,2359.6,2,-999.0,9,-999.00,1,20050906,533,-60.4961,-89.0174
316N20050821,AAIW,47,1,3,3,2,20050906,502,-60.4908,-89.0330,3888.8,0.6881,34.7072,2,34.7086,2,207.2,2,207.5,2,126.95,2,32.15,2,0.00,2,2.25,2,0.156,2,0.075,2,0.002,2,0.300,2,2264.7,2,2360.0,2,-999.0,9,-999.00,1,20050906,523,-60.4968,-89.0154
316N20050821,AAIW,47,1,2,2,2,20050906,502,-60.4908,-89.0330,4406.6,0.5098,34.7051,2,34.7058,2,210.5,2,212.2,2,133.29,2,32.39,2,0.00,2,2.25,2,0.144,2,0.076,2,0.002,2,0.350,2,2265.3,2,2362.0,2,-999.0,9,-999.00,1,20050906,513,-60.4975,-89.0127
316N20050821,AAIW,47,1,1,1,2,20050906,502,-60.4908,-89.0330,4927.4,0.4883,34.7039,2,34.7064,3,213.4,2,212.7,2,138.05,2,32.44,2,0.00,2,2.26,2,0.194,2,0.094,2,0.002,2,0.447,2,2265.7,6,2361.2,2,-999.0,9,-999.00,1,20050906,502,-60.4982,-89.0102
316N20050821,AAIW,48,1,24,24,2,20050906,1241,-59.9641,-89.0181,17.8,3.0426,34.0134,2,34.0144,2,315.7,2,316.5,2,9.29,2,24.31,2,0.06,2,1.71,2,5.198,2,2.838,2,0.538,2,6.532,2,2134.3,6,2274.0,2,-999.0,9,-999.00,1,20050906,1449,-59.9641,-89.0181
316N20050821,AAIW,48,1,23,23,2,20050906,1241,-59.9641,-89.0181,62.7,3.0462,34.0134,2,34.0148,2,315.4,2,316.1,2,9.29,2,24.32,2,0.06,2,1.70,2,5.236,2,2.861,2,0.530,2,6.690,2,-999.0,9,2275.2,2,-999.0,9,-999.00,1,20050906,1447,-59.9645,-89.0181
316N20050821,AAIW,48,1,22,22,2,20050906,1241,-59.9641,-89.0181,117.4,2.8442,34.0131,2,34.0148,2,307.7,2,307.8,2,10.72,2,25.17,2,0.02,2,1.76,2,5.174,2,2.857,2,0.515,2,6.473,2,2140.9,2,2275.2,2,-999.0,9,-999.00,1,20050906,1444,-59.9649,-89.0182
316N20050821,AAIW,48,1,21,21,2,20050906,1241,-59.9641,-89.0181,176.8,2.6586,34.0087,2,34.0104,2,313.7,2,313.8,2,11.12,2,25.24,2,0.05,2,1.76,2,5.239,2,2.885,2,0.522,2,6.685,2,2141.2,2,2275.8,2,-999.0,9,-999.00,1,20050906,1441,-59.9652,-89.0181
316N20050821,AAIW,48,1,20,20,2,20050906,1241,-59.9641,-89.0181,236.6,2.3691,33.9953,2,33.9971,2,319.2,2,319.9,2,11.13,2,25.34,2,0.05,2,1.77,2,5.329,6,3.015,6,0.532,6,7.049,6,2138.6,2,2274.6,2,-999.0,9,-999.00,1,20050906,1438,-59.9656,-89.0178
316N20050821,AAIW,48,1,19,19,2,20050906,1241,-59.9641,-89.0181,296.5,2.8560,34.0944,2,33.9979,4,271.3,2,320.2,4,11.13,2,25.24,2,0.05,2,1.77,2,5.381,2,2.975,2,0.529,2,6.879,2,-999.0,9,2275.7,2,-999.0,9,-999.00,1,20050906,1436,-59.9660,-89.0177
316N20050821,AAIW,48,1,18,18,2,20050906,1241,-59.9641,-89.0181,356.5,2.1345,34.0497,2,34.0511,2,297.7,2,298.7,2,18.63,2,27.73,2,0.01,2,1.93,2,4.996,2,2.781,2,0.500,2,6.316,2,2140.4,2,2280.5,2,-999.0,9,-999.00,1,20050906,1433,-59.9663,-89.0177
316N20050821,AAIW,48,1,17,17,2,20050906,1241,-59.9641,-89.0181,396.6,1.6700,34.0195,2,34.0214,2,314.2,2,314.2,2,17.82,2,27.39,2,0.01,2,1.92,2,5.327,2,2.956,2,0.509,2,6.863,2,2154.2,2,2280.8,2,-999.0,9,-999.00,1,20050906,1431,-59.9666,-89.0177
316N20050821,AAIW,48,1,16,16,2,20050906,1241,-59.9641,-89.0181,486.1,2.1637,34.1318,2,34.1333,2,273.7,2,271.8,2,28.16,2,29.80,2,0.01,2,2.06,2,4.297,2,2.323,2,0.405,2,5.122,2,2177.6,2,2288.0,2,-999.0,9,-999.00,1,20050906,1428,-59.9669,-89.0173
316N20050821,AAIW,48,1,15,15,2,20050906,1241,-59.9641,-89.0181,574.3,2.5703,34.2476,2,34.2482,2,228.8,2,229.9,2,38.73,2,31.83,2,0.00,2,2.20,2,2.868,2,1.588,2,0.239,2,3.468,2,-999.0,9,2298.1,2,-999.0,9,-999.00,1,20050906,1424,-59.9673,-89.0172
316N20050821,AAIW,48,1,14,14,2,20050906,1241,-59.9641,-89.0181,663.0,2.7047,34.3297,2,34.3317,2,205.3,2,204.9,2,47.28,2,33.04,2,0.00,2,2.28,2,2.026,2,1.038,2,0.169,2,2.504,2,2214.8,2,2305.7,2,-999.0,9,-999.00,1,20050906,1421,-59.9678,-89.0169
316N20050821,AAIW,48,1,13,13,2,20050906,1241,-59.9641,-89.0181,750.2,2.7274,34.4085,2,34.4089,2,187.9,2,188.2,2,55.84,2,33.72,2,0.00,2,2.34,2,1.317,2,0.679,2,0.110,2,1.729,2,-999.0,9,2315.9,2,-999.0,9,-999.00,1,20050906,1418,-59.9682,-89.0166
316N20050821,AAIW,48,1,12,12,2,20050906,1241,-59.9641,-89.0181,837.3,2.6218,34.4579,2,34.4573,2,180.1,2,181.4,2,61.55,2,34.01,2,0.00,2,2.36,2,1.049,2,0.553,2,0.075,2,1.386,2,2237.4,2,2322.8,2,-999.0,9,-999.00,1,20050906,1415,-59.9686,-89.0162
316N20050821,AAIW,48,1,11,11,2,20050906,1241,-59.9641,-89.0181,1012.3,2.4493,34.5489,2,34.5507,2,173.3,2,172.9,2,71.15,2,34.01,2,0.00,2,2.35,2,0.621,2,0.313,2,0.043,2,0.893,2,-999.0,9,2332.3,2,-999.0,9,-999.00,1,20050906,1410,-59.9693,-89.0155
316N20050821,AAIW,48,1,10,10,2,20050906,1241,-59.9641,-89.0181,1187.6,2.3278,34.6153,2,34.6168,2,172.3,2,171.4,2,76.89,2,33.38,2,0.00,2,2.32,2,0.396,2,0.188,2,0.013,2,0.591,2,2252.2,2,2339.7,2,-999.0,9,-999.00,1,20050906,1405,-59.9699,-89.0148
316N20050821,AAIW,48,1,9,9,2,20050906,1241,-59.9641,-89.0181,1479.7,2.1749,34.6791,2,34.6792,2,176.1,2,174.9,2,83.03,2,32.47,2,0.00,2,2.25,2,0.208,2,0.095,2,0.013,2,0.328,2,2253.8,2,2346.8,2,-999.0,9,-999.00,1,20050906,1359,-59.9708,-89.0145
316N20050821,AAIW,48,1,8,8,2,20050906,1241,-59.9641,-89.0181,1791.8,1.9563,34.7184,2,34.7187,2,183.8,2,183.1,2,87.75,2,31.55,2,0.00,2,2.18,2,0.169,2,0.088,2,0.002,2,0.252,2,-999.0,9,2350.0,2,-999.0,9,-999.00,1,20050906,1352,-59.9716,-89.0139
316N20050821,AAIW,48,1,7,7,2,20050906,1241,-59.9641,-89.0181,2181.9,1.6512,34.7295,2,34.7304,2,190.2,2,189.7,2,97.20,2,31.36,2,0.00,2,2.17,2,0.112,2,0.054,2,0.002,2,0.152,2,-999.0,9,2355.6,2,-999.0,9,-999.00,1,20050906,1343,-59.9728,-89.0131
316N20050821,AAIW,48,1,6,6,2,20050906,1241,-59.9641,-89.0181,2668.6,1.3332,34.7259,2,34.7265,2,196.3,2,195.8,2,106.27,2,31.60,2,0.00,2,2.18,2,0.086,2,0.048,2,0.002,2,0.135,2,-999.0,9,2359.3,2,-999.0,9,-999.00,1,20050906,1333,-59.9742,-89.0126
316N20050821,AAIW,48,1,5,5,2,20050906,1241,-59.9641,-89.0181,3151.8,1.0563,34.7174,2,34.7185,2,201.0,2,201.0,2,115.56,2,31.85,2,0.00,2,2.19,2,0.101,2,0.056,2,0.002,2,0.189,2,-999.0,9,2359.4,2,-999.0,9,-999.00,1,20050906,1323,-59.9757,-89.0125
316N20050821,AAIW,48,1,4,4,2,20050906,1241,-59.9641,-89.0181,3638.1,0.7991,34.7099,2,34.7101,2,205.3,2,206.0,2,124.26,2,32.14,2,0.00,2,2.21,2,0.122,2,0.064,2,0.002,2,0.272,2,-999.0,9,2361.1,2,-999.0,9,-999.00,1,20050906,1313,-59.9770,-89.0119
316N20050821,AAIW,48,1,3,3,2,20050906,1241,-59.9641,-89.0181,4120.7,0.5748,34.7059,2,34.7062,2,209.1,2,210.4,2,130.27,2,32.25,2,0.00,2,2.22,2,0.151,2,0.072,2,0.002,2,0.362,2,-999.0,9,2361.3,2,-999.0,9,-999.00,1,20050906,1302,-59.9783,-89.0109
316N20050821,AAIW,48,1,2,2,2,20050906,1241,-59.9641,-89.0181,4618.0,0.4935,34.7047,2,34.7042,2,211.6,2,213.0,2,135.87,2,32.49,2,0.00,2,2.23,2,0.172,2,0.093,2,0.002,2,0.391,2,-999.0,9,2362.2,2,-999.0,9,-999.00,1,20050906,1251,-59.9799,-89.0107
316N20050821,AAIW,48,1,1,1,2,20050906,1241,-59.9641,-89.0181,5123.5,0.5053,34.7038,2,34.7043,2,214.5,2,213.9,2,136.91,2,32.49,2,0.00,2,2.23,2,0.204,2,0.099,2,0.002,2,0.455,2,-999.0,9,2361.7,2,-999.0,9,-999.00,1,20050906,1241,-59.9815,-89.0098