BOTTLE,20220819CCHSIOAMB
EXPOCODE,SECT_ID,STNNBR,CASTNO,SAMPNO,BTLNBR,BTLNBR_FLAG_W,DATE,TIME,LATITUDE,LONGITUDE,CTDPRS,CTDTMP,CTDSAL,CTDSAL_FLAG_W,SALNTY,SALNTY_FLAG_W,CTDOXY,CTDOXY_FLAG_W,OXYGEN,OXYGEN_FLAG_W,SILCAT,SILCAT_FLAG_W,NITRAT,NITRAT_FLAG_W,NITRIT,NITRIT_FLAG_W,PHSPHT,PHSPHT_FLAG_W,CFC-11,CFC-11_FLAG_W,CFC-12,CFC-12_FLAG_W,CFC113,CFC113_FLAG_W,CCL4,CCL4_FLAG_W,TCARBN,TCARBN_FLAG_W,ALKALI,ALKALI_FLAG_W,PCO2,PCO2_FLAG_W,PH_SWS,PH_SWS_FLAG_W,BTL_DATE,BTL_TIME,BTL_LAT,BTL_LON
,,,,,,,,,,,DBAR,ITS-90,PSS-78,,PSS-78,,UMOL/KG,,UMOL/KG,,UMOL/KG,,UMOL/KG,,UMOL/KG,,UMOL/KG,,PMOL/KG,,PMOL/KG,,PMOL/KG,,PMOL/KG,,UMOL/KG,,UMOL/KG,,UATM,,,,,,,
316N20050821,AAIW,91,1,24,24,2,20050922,128,-55.5194,-90.6242,6.4,5.2624,34.1754,2,34.1398,3,302.4,2,301.1,2,5.12,2,20.12,2,0.08,2,1.45,2,4.553,2,2.578,2,0.449,2,5.470,2,2120.9,2,2273.4,2,-999.0,9,-999.00,1,20050922,320,-55.5194,-90.6242
316N20050821,AAIW,91,1,23,23,2,20050922,128,-55.5194,-90.6242,25.6,5.2641,34.1755,2,34.1749,2,302.0,2,301.3,2,4.93,2,20.07,2,0.08,2,1.41,2,4.561,2,2.547,2,0.451,2,5.528,2,2122.5,2,2274.5,2,-999.0,9,-999.00,1,20050922,318,-55.5192,-90.6242
316N20050821,AAIW,91,1,22,22,2,20050922,128,-55.5194,-90.6242,56.3,5.2709,34.1752,2,34.1672,2,301.5,2,301.5,2,4.94,2,20.12,2,0.08,2,1.43,2,4.548,2,2.552,2,0.447,2,5.488,2,2122.5,2,2272.8,2,-999.0,9,-999.00,1,20050922,316,-55.5191,-90.6242
316N20050821,AAIW,91,1,21,21,2,20050922,128,-55.5194,-90.6242,85.8,5.2752,34.1756,2,34.1819,2,301.5,2,300.8,2,4.95,2,20.12,2,0.08,2,1.42,2,4.574,2,2.572,2,0.451,2,5.561,2,2122.5,2,2274.3,2,-999.0,9,-999.00,1,20050922,314,-55.5190,-90.6242
316N20050821,AAIW,91,1,20,20,2,20050922,128,-55.5194,-90.6242,106.0,5.2750,34.1752,2,34.1787,2,301.1,2,300.6,2,4.96,2,20.17,2,0.08,2,1.43,2,4.563,2,2.546,2,0.450,2,5.522,2,2122.9,6,2274.0,2,-999.0,9,-999.00,1,20050922,313,-55.5188,-90.6241
316N20050821,AAIW,91,1,19,19,2,20050922,128,-55.5194,-90.6242,155.6,5.2810,34.1759,2,34.1766,2,301.1,2,300.1,2,4.96,2,20.11,2,0.08,2,1.43,2,4.550,6,2.553,6,0.450,6,5.482,6,2122.4,2,2274.3,2,-999.0,9,-999.00,1,20050922,311,-55.5186,-90.6242
316N20050821,AAIW,91,1,18,18,2,20050922,128,-55.5194,-90.6242,204.2,5.2783,34.1770,2,34.1799,2,299.9,2,299.4,2,5.17,2,20.37,2,0.07,2,1.44,2,4.516,2,2.536,2,0.451,2,5.474,2,2124.1,2,2273.6,2,-999.0,9,-999.00,1,20050922,309,-55.5183,-90.6242
316N20050821,AAIW,91,1,17,17,2,20050922,128,-55.5194,-90.6242,253.5,5.3018,34.1838,2,34.1871,2,298.1,2,298.0,2,5.18,2,20.39,2,0.05,2,1.44,2,4.513,2,2.541,2,0.449,2,5.380,2,2123.4,2,2274.3,2,-999.0,9,-999.00,1,20050922,306,-55.5180,-90.6242
316N20050821,AAIW,91,1,16,16,2,20050922,128,-55.5194,-90.6242,352.1,5.3136,34.1869,2,34.1904,2,296.6,2,297.0,2,5.19,2,20.46,2,0.03,2,1.44,2,4.541,2,2.547,2,0.438,2,5.323,2,2125.3,2,2273.8,2,-999.0,9,-999.00,1,20050922,303,-55.5175,-90.6241
316N20050821,AAIW,91,1,15,15,2,20050922,128,-55.5194,-90.6242,452.0,5.3435,34.1975,2,34.2004,2,287.9,2,287.5,2,6.63,2,21.39,2,0.02,2,1.51,2,4.361,2,2.413,2,0.415,2,4.903,2,2131.4,2,2276.1,2,-999.0,9,-999.00,1,20050922,301,-55.5170,-90.6240
316N20050821,AAIW,91,1,14,14,2,20050922,128,-55.5194,-90.6242,553.0,5.1417,34.2052,2,34.2094,2,266.0,2,265.6,2,10.70,2,24.22,2,0.00,2,1.67,2,3.954,2,2.190,2,0.325,2,4.103,2,2145.2,2,2277.5,2,-999.0,9,-999.00,1,20050922,257,-55.5163,-90.6240
316N20050821,AAIW,91,1,13,13,2,20050922,128,-55.5194,-90.6242,654.2,4.8910,34.2317,2,34.2346,2,240.5,2,240.4,2,17.01,2,26.80,2,0.00,2,1.84,2,3.207,2,1.797,2,0.266,2,3.318,2,2164.4,2,2283.4,2,-999.0,9,-999.00,1,20050922,254,-55.5160,-90.6243
316N20050821,AAIW,91,1,12,12,2,20050922,128,-55.5194,-90.6242,752.4,4.5737,34.2598,2,34.2617,2,226.9,2,226.1,2,22.53,2,28.51,2,0.00,2,1.95,2,2.792,2,1.473,2,0.219,2,2.866,2,2177.6,2,2257.8,4,-999.0,9,-999.00,1,20050922,251,-55.5159,-90.6243
316N20050821,AAIW,91,1,11,11,2,20050922,128,-55.5194,-90.6242,852.0,4.1796,34.2867,2,34.2863,2,215.8,2,215.3,2,29.05,2,30.07,2,0.00,2,2.06,2,2.268,2,1.228,2,0.173,2,2.487,2,2190.2,2,2292.0,2,-999.0,9,-999.00,1,20050922,249,-55.5156,-90.6244
316N20050821,AAIW,91,1,10,10,2,20050922,128,-55.5194,-90.6242,951.5,3.7573,34.3069,2,34.3098,2,208.4,2,208.5,2,35.59,2,31.24,2,0.00,2,2.14,2,1.962,2,1.017,2,0.154,2,2.270,2,2203.9,2,2298.1,2,-999.0,9,-999.00,1,20050922,246,-55.5152,-90.6247
316N20050821,AAIW,91,1,9,9,2,20050922,128,-55.5194,-90.6242,1051.4,3.3872,34.3376,2,34.3376,2,201.5,2,201.9,2,42.75,2,32.23,2,0.00,2,2.21,2,1.729,2,0.891,2,0.134,2,1.990,2,2213.9,2,2304.1,2,-999.0,9,-999.00,1,20050922,243,-55.5149,-90.6251
316N20050821,AAIW,91,1,8,8,2,20050922,128,-55.5194,-90.6242,1301.1,2.7930,34.4545,2,34.4554,2,180.7,2,180.8,2,61.19,2,33.75,2,0.00,2,2.34,2,0.876,2,0.448,2,0.053,2,1.209,2,2240.6,2,2323.2,2,-999.0,9,-999.00,1,20050922,237,-55.5143,-90.6263
316N20050821,AAIW,91,1,7,7,2,20050922,128,-55.5194,-90.6242,1602.3,2.5000,34.5752,2,34.5761,2,170.0,2,169.0,2,75.57,2,33.80,2,0.00,2,2.34,2,0.360,2,0.175,2,0.003,2,0.533,2,2257.1,2,2337.7,2,-999.0,9,-999.00,1,20050922,230,-55.5136,-90.6270
316N20050821,AAIW,91,1,6,6,2,20050922,128,-55.5194,-90.6242,2104.0,2.1570,34.6881,2,34.6891,3,174.3,2,174.1,2,88.34,2,32.42,2,0.00,2,2.24,2,0.117,2,0.045,2,0.003,2,0.135,2,2262.9,2,2352.4,2,-999.0,9,-999.00,1,20050922,220,-55.5126,-90.6284
316N20050821,AAIW,91,1,5,5,2,20050922,128,-55.5194,-90.6242,2603.0,1.7743,34.7101,2,34.7105,2,177.9,2,177.5,2,104.46,2,32.41,2,0.00,2,2.25,2,0.036,2,0.018,2,0.003,2,0.005,2,2274.7,2,2368.1,2,-999.0,9,-999.00,1,20050922,210,-55.5120,-90.6299
316N20050821,AAIW,91,1,4,4,2,20050922,128,-55.5194,-90.6242,3091.8,1.5285,34.7240,2,34.7232,2,190.6,2,190.5,2,106.32,2,31.67,2,0.00,2,2.19,2,0.050,2,0.020,2,0.003,2,0.024,2,2265.3,2,2362.9,2,-999.0,9,-999.00,1,20050922,159,-55.5123,-90.6324
316N20050821,AAIW,91,1,3,3,2,20050922,128,-55.5194,-90.6242,3595.9,1.2125,34.7205,2,34.7206,2,198.9,2,199.1,2,113.57,2,31.62,2,0.00,2,2.19,2,0.070,2,0.031,2,0.003,2,0.098,2,2262.6,2,2360.8,2,-999.0,9,-999.00,1,20050922,149,-55.5110,-90.6339
316N20050821,AAIW,91,1,2,2,2,20050922,128,-55.5194,-90.6242,4114.0,0.8124,34.7104,2,34.7122,3,205.2,2,205.4,2,128.13,2,32.16,2,0.00,2,2.23,2,0.054,2,0.026,2,0.003,2,0.104,2,2267.6,2,2366.5,2,-999.0,9,-999.00,1,20050922,139,-55.5092,-90.6351
316N20050821,AAIW,91,1,1,1,2,20050922,128,-55.5194,-90.6242,4604.8,0.6664,34.7075,2,34.7065,2,210.6,2,208.7,2,133.75,2,32.31,2,0.00,2,2.23,2,0.052,2,0.030,2,0.003,2,0.198,2,2267.8,6,2366.6,2,-999.0,9,-999.00,1,20050922,128,-55.5083,-90.6360
316N20050821,AAIW,92,1,24,24,2,20050922,753,-55.2521,-89.8068,3.2,5.2069,34.1708,2,34.1737,2,302.1,2,301.6,2,5.25,2,20.05,2,0.12,2,1.43,2,4.598,2,2.644,2,0.464,2,5.722,2,2119.4,2,2272.9,2,-999.0,9,-999.00,1,20050922,947,-55.2521,-89.8068
316N20050821,AAIW,92,1,23,23,2,20050922,753,-55.2521,-89.8068,33.1,5.2168,34.1707,2,34.1737,2,302.2,2,301.5,2,5.06,2,20.05,2,0.12,2,1.42,2,4.540,2,2.614,2,0.460,2,5.603,2,2120.1,2,2273.5,2,-999.0,9,-999.00,1,20050922,945,-55.2519,-89.8071
316N20050821,AAIW,92,1,22,22,2,20050922,753,-55.2521,-89.8068,62.7,5.2201,34.1708,2,34.1733,2,302.5,2,301.3,2,5.07,2,20.04,2,0.12,2,1.42,2,4.565,2,2.627,2,0.459,2,5.564,2,-999.0,9,2272.6,2,-999.0,9,-999.00,1,20050922,943,-55.2518,-89.8073
316N20050821,AAIW,92,1,21,21,2,20050922,753,-55.2521,-89.8068,93.1,5.2223,34.1706,2,34.1745,2,302.1,2,301.4,2,5.08,2,20.03,2,0.12,2,1.43,2,4.565,2,2.609,2,0.457,2,5.596,2,-999.0,9,2273.3,2,-999.0,9,-999.00,1,20050922,941,-55.2516,-89.8078
316N20050821,AAIW,92,1,20,20,2,20050922,753,-55.2521,-89.8068,133.1,5.2253,34.1706,2,34.1727,2,301.9,2,301.6,2,5.09,2,20.03,2,0.12,2,1.42,2,4.570,2,2.615,2,0.453,2,5.558,2,2122.9,2,2273.0,2,-999.0,9,-999.00,1,20050922,938,-55.2514,-89.8081
316N20050821,AAIW,92,1,19,19,2,20050922,753,-55.2521,-89.8068,182.6,5.2293,34.1706,2,34.1731,2,302.1,2,300.6,2,5.10,2,20.02,2,0.12,2,1.42,2,4.564,2,2.618,2,0.458,2,5.532,2,-999.0,9,2273.9,2,-999.0,9,-999.00,1,20050922,936,-55.2513,-89.8084
316N20050821,AAIW,92,1,18,18,2,20050922,753,-55.2521,-89.8068,232.2,5.2341,34.1706,2,34.1340,4,301.6,2,301.2,2,5.11,2,20.06,2,0.12,2,1.42,2,4.524,2,2.597,2,0.451,2,5.575,2,2124.6,2,2272.6,2,-999.0,9,-999.00,1,20050922,934,-55.2511,-89.8086
316N20050821,AAIW,92,1,17,17,2,20050922,753,-55.2521,-89.8068,282.6,5.2529,34.1751,2,34.1757,2,299.5,2,299.3,2,5.13,2,20.12,2,0.11,2,1.43,2,4.487,2,2.577,2,0.452,2,5.461,2,2121.7,2,2273.1,2,-999.0,9,-999.00,1,20050922,932,-55.2509,-89.8087
316N20050821,AAIW,92,1,16,16,2,20050922,753,-55.2521,-89.8068,382.5,5.2636,34.1817,2,34.1134,4,295.4,2,295.8,2,5.74,2,20.78,2,0.03,2,1.46,2,4.493,2,2.599,2,0.449,2,5.370,2,2127.4,2,2274.1,2,-999.0,9,-999.00,1,20050922,929,-55.2507,-89.8089
316N20050821,AAIW,92,1,15,15,2,20050922,753,-55.2521,-89.8068,481.2,5.2687,34.1996,2,34.2021,2,283.7,2,284.0,2,7.77,2,22.21,2,0.00,2,1.54,2,4.363,6,2.466,6,0.415,6,4.665,6,2135.7,2,2276.3,2,-999.0,9,-999.00,1,20050922,926,-55.2505,-89.8090
316N20050821,AAIW,92,1,14,14,2,20050922,753,-55.2521,-89.8068,581.5,5.0499,34.1937,2,34.1960,2,272.9,2,272.1,2,10.19,2,23.78,2,0.00,2,1.65,2,4.118,2,2.283,2,0.371,2,4.387,2,2142.0,2,2276.3,2,-999.0,9,-999.00,1,20050922,923,-55.2503,-89.8093
316N20050821,AAIW,92,1,13,13,2,20050922,753,-55.2521,-89.8068,681.7,4.7712,34.2060,2,34.2084,2,251.8,2,252.9,2,14.84,2,26.23,2,0.00,2,1.80,2,3.562,2,1.945,2,0.309,2,3.646,2,2155.7,2,2280.7,2,-999.0,9,-999.00,1,20050922,920,-55.2499,-89.8092
316N20050821,AAIW,92,1,12,12,2,20050922,753,-55.2521,-89.8068,781.4,4.4900,34.2532,2,34.2553,2,228.2,2,228.1,2,22.53,2,28.58,2,0.00,2,1.96,2,2.625,2,1.437,2,0.212,2,2.857,2,-999.0,9,2286.6,2,-999.0,9,-999.00,1,20050922,917,-55.2498,-89.8092
316N20050821,AAIW,92,1,11,11,2,20050922,753,-55.2521,-89.8068,880.7,4.0228,34.2793,2,34.2816,2,216.0,2,216.0,2,29.81,2,30.45,2,0.00,2,2.09,2,2.115,2,1.112,2,0.157,2,2.399,2,2192.3,2,2292.2,2,-999.0,9,-999.00,1,20050922,914,-55.2497,-89.8091
316N20050821,AAIW,92,1,10,10,2,20050922,753,-55.2521,-89.8068,1080.2,3.3696,34.3445,2,34.3464,2,199.2,2,199.1,2,43.60,2,32.52,2,0.00,2,2.24,2,1.464,2,0.766,2,0.096,2,1.823,2,2214.5,6,2305.8,2,-999.0,9,-999.00,1,20050922,909,-55.2497,-89.8087
316N20050821,AAIW,92,1,9,9,2,20050922,753,-55.2521,-89.8068,1275.6,2.8922,34.4256,2,34.4272,2,185.3,2,184.7,2,57.43,2,33.70,2,0.00,2,2.33,2,1.061,2,0.530,2,0.070,2,1.396,2,-999.0,9,2317.6,2,-999.0,9,-999.00,1,20050922,905,-55.2498,-89.8089
316N20050821,AAIW,92,1,8,8,2,20050922,753,-55.2521,-89.8068,1568.5,2.5516,34.5520,2,34.5532,2,170.1,2,169.2,2,73.55,2,34.14,2,0.00,2,2.35,2,0.399,2,0.200,2,0.003,2,0.628,2,-999.0,9,2335.5,2,-999.0,9,-999.00,1,20050922,858,-55.2496,-89.8100
316N20050821,AAIW,92,1,7,7,2,20050922,753,-55.2521,-89.8068,1925.9,2.3009,34.6477,2,34.6486,2,168.2,2,167.7,2,85.23,2,33.37,2,0.00,2,2.31,2,0.124,2,0.063,2,0.003,2,0.208,2,-999.0,9,2349.2,2,-999.0,9,-999.00,1,20050922,851,-55.2493,-89.8124
316N20050821,AAIW,92,1,6,6,2,20050922,753,-55.2521,-89.8068,2434.6,1.9559,34.7054,2,34.7058,2,175.4,2,175.2,2,97.96,2,32.52,2,0.00,2,2.25,2,0.044,2,0.026,2,0.003,2,0.045,2,-999.0,9,2349.2,3,-999.0,9,-999.00,1,20050922,842,-55.2489,-89.8151
316N20050821,AAIW,92,1,5,5,2,20050922,753,-55.2521,-89.8068,2942.6,1.6297,34.7209,2,34.7208,2,186.1,2,185.9,2,104.99,2,31.96,2,0.00,2,2.21,2,0.040,2,0.023,2,0.003,2,0.044,2,-999.0,9,2361.2,2,-999.0,9,-999.00,1,20050922,832,-55.2486,-89.8175
316N20050821,AAIW,92,1,4,4,2,20050922,753,-55.2521,-89.8068,3443.2,1.3618,34.7236,2,34.7247,3,195.3,2,195.5,2,110.16,2,31.71,2,0.00,2,2.19,2,0.058,2,0.025,2,0.003,2,0.103,2,-999.0,9,2363.7,2,-999.0,9,-999.00,1,20050922,822,-55.2482,-89.8191
316N20050821,AAIW,92,1,3,3,2,20050922,753,-55.2521,-89.8068,3951.2,0.9891,34.7141,2,34.7145,2,202.2,2,202.0,2,121.97,2,32.05,2,0.00,2,2.21,2,0.054,2,0.025,2,0.003,2,0.141,2,-999.0,9,2363.1,2,-999.0,9,-999.00,1,20050922,813,-55.2490,-89.8183
316N20050821,AAIW,92,1,2,2,2,20050922,753,-55.2521,-89.8068,4464.1,0.6964,34.7085,2,34.7086,2,207.5,2,207.4,2,132.78,2,32.34,2,0.00,2,2.23,2,0.029,2,0.018,2,0.003,2,0.146,2,-999.0,9,2367.9,2,-999.0,9,-999.00,1,20050922,803,-55.2500,-89.8173
316N20050821,AAIW,92,1,1,1,2,20050922,753,-55.2521,-89.8068,4972.2,0.6564,34.7069,2,34.7074,2,211.1,2,209.2,2,135.72,2,32.37,2,0.00,2,2.24,2,0.057,2,0.029,2,0.003,2,0.233,2,-999.0,9,2365.2,2,-999.0,9,-999.00,1,20050922,753,-55.2501,-89.8165
316N20050821,AAIW,93,1,24,24,2,20050922,1421,-55.0126,-89.0121,5.9,5.2176,34.1730,2,34.1756,2,301.9,2,301.0,2,5.42,2,20.23,2,0.08,2,1.44,2,4.581,2,2.617,2,0.463,2,5.774,2,2123.4,2,2274.8,2,-999.0,9,-999.00,1,20050922,1609,-55.0126,-89.0121
316N20050821,AAIW,93,1,23,23,2,20050922,1421,-55.0126,-89.0121,41.7,5.2121,34.1732,2,34.1737,2,301.8,2,301.2,2,5.42,2,20.28,2,0.08,2,1.44,2,4.611,2,2.595,2,0.453,2,5.799,2,-999.0,9,2274.5,2,-999.0,9,-999.00,1,20050922,1607,-55.0123,-89.0122
316N20050821,AAIW,93,1,22,22,2,20050922,1421,-55.0126,-89.0121,81.9,5.2080,34.1727,2,34.1757,2,300.9,2,300.7,2,5.43,2,20.34,2,0.08,2,1.44,2,4.615,2,2.613,2,0.462,2,5.759,2,-999.0,9,2274.7,2,-999.0,9,-999.00,1,20050922,1605,-55.0120,-89.0123
316N20050821,AAIW,93,1,21,21,2,20050922,1421,-55.0126,-89.0121,121.6,5.2159,34.1733,2,34.1744,4,301.3,2,302.4,2,5.43,2,20.19,2,0.08,2,1.45,2,4.582,2,2.584,2,0.451,2,5.684,2,-999.0,9,2274.4,2,-999.0,9,-999.00,1,20050922,1604,-55.0117,-89.0122
316N20050821,AAIW,93,1,20,20,2,20050922,1421,-55.0126,-89.0121,170.8,5.1750,34.1683,2,34.1690,2,298.6,2,297.6,2,5.44,2,20.77,2,0.04,2,1.43,2,4.557,2,2.535,2,0.438,2,5.456,2,-999.0,9,2275.3,2,-999.0,9,-999.00,1,20050922,1602,-55.0115,-89.0123
316N20050821,AAIW,93,1,19,19,2,20050922,1421,-55.0126,-89.0121,221.0,5.1417,34.1630,2,34.1656,2,298.6,2,297.7,2,5.44,2,20.86,2,0.04,2,1.46,2,4.618,2,2.552,2,0.434,2,5.582,2,-999.0,9,2273.4,2,-999.0,9,-999.00,1,20050922,1600,-55.0112,-89.0124
316N20050821,AAIW,93,1,18,18,2,20050922,1421,-55.0126,-89.0121,269.9,5.2088,34.1736,2,34.1757,2,297.4,2,297.2,2,5.45,2,20.72,2,0.04,2,1.45,2,4.566,2,2.557,2,0.424,2,5.517,2,-999.0,9,2274.3,2,-999.0,9,-999.00,1,20050922,1559,-55.0110,-89.0125
316N20050821,AAIW,93,1,17,17,2,20050922,1421,-55.0126,-89.0121,369.9,5.1777,34.1724,2,34.1735,2,295.0,2,294.9,2,6.06,2,21.02,2,0.03,2,1.49,2,4.569,2,2.505,2,0.426,2,5.517,2,-999.0,9,2274.7,2,-999.0,9,-999.00,1,20050922,1556,-55.0106,-89.0125
316N20050821,AAIW,93,1,16,16,2,20050922,1421,-55.0126,-89.0121,419.7,5.2596,34.1896,2,34.1932,2,288.5,2,287.6,2,7.07,2,21.72,2,0.01,2,1.50,2,4.378,2,2.437,2,0.420,2,4.998,2,-999.0,9,2276.3,2,-999.0,9,-999.00,1,20050922,1554,-55.0103,-89.0125
316N20050821,AAIW,93,1,15,15,2,20050922,1421,-55.0126,-89.0121,469.5,5.2606,34.1977,2,34.1999,2,283.2,2,283.9,2,8.08,2,22.32,2,0.01,2,1.53,2,4.338,2,2.443,2,0.383,2,4.876,2,-999.0,9,2275.7,2,-999.0,9,-999.00,1,20050922,1552,-55.0100,-89.0125
316N20050821,AAIW,93,1,14,14,2,20050922,1421,-55.0126,-89.0121,569.4,5.1022,34.1919,2,34.1918,2,277.0,2,277.6,2,9.29,2,23.26,2,0.00,2,1.60,2,4.295,2,2.339,2,0.373,2,4.710,2,-999.0,9,2277.1,2,-999.0,9,-999.00,1,20050922,1550,-55.0097,-89.0123
316N20050821,AAIW,93,1,13,13,2,20050922,1421,-55.0126,-89.0121,669.8,4.7828,34.1939,2,34.1954,2,259.0,2,259.5,2,13.73,2,25.66,2,0.00,2,1.76,2,3.806,2,2.041,2,0.338,2,4.038,2,-999.0,9,2280.3,2,-999.0,9,-999.00,1,20050922,1547,-55.0093,-89.0123
316N20050821,AAIW,93,1,12,12,2,20050922,1421,-55.0126,-89.0121,768.5,4.5234,34.2307,2,34.2333,2,238.1,2,236.6,2,19.99,2,27.98,2,0.00,2,1.92,2,3.088,2,1.655,2,0.245,2,3.405,2,-999.0,9,2285.4,2,-999.0,9,-999.00,1,20050922,1544,-55.0090,-89.0122
316N20050821,AAIW,93,1,11,11,2,20050922,1421,-55.0126,-89.0121,866.7,4.2015,34.2635,2,34.2631,2,222.3,2,221.9,2,26.45,2,29.66,2,0.00,2,2.03,2,2.483,2,1.346,2,0.189,2,2.854,2,-999.0,9,2289.3,2,-999.0,9,-999.00,1,20050922,1541,-55.0087,-89.0119
316N20050821,AAIW,93,1,10,10,2,20050922,1421,-55.0126,-89.0121,1067.5,3.4993,34.3261,2,34.3271,2,203.2,2,204.4,2,40.22,2,32.23,2,0.00,2,2.20,2,1.706,2,0.905,2,0.113,2,2.208,2,-999.0,9,2302.2,2,-999.0,9,-999.00,1,20050922,1536,-55.0082,-89.0116
316N20050821,AAIW,93,1,9,9,2,20050922,1421,-55.0126,-89.0121,1266.6,2.9548,34.4104,2,34.4113,2,186.6,2,186.3,2,55.22,2,33.72,2,0.00,2,2.32,2,1.000,2,0.507,2,0.068,2,1.451,2,-999.0,9,2317.3,2,-999.0,9,-999.00,1,20050922,1532,-55.0077,-89.0114
316N20050821,AAIW,93,1,8,8,2,20050922,1421,-55.0126,-89.0121,1517.7,2.6180,34.5222,2,34.5231,2,172.5,2,172.3,2,69.67,2,34.27,2,0.00,2,2.36,2,0.543,2,0.257,2,0.007,2,0.831,2,-999.0,9,2332.9,2,-999.0,9,-999.00,1,20050922,1526,-55.0071,-89.0109
316N20050821,AAIW,93,1,7,7,2,20050922,1421,-55.0126,-89.0121,1817.9,2.3887,34.6219,2,34.6254,4,168.9,2,168.5,2,80.27,2,33.61,2,0.00,2,2.31,2,0.218,2,0.114,2,0.003,2,0.425,2,-999.0,9,2344.3,2,-999.0,9,-999.00,1,20050922,1520,-55.0066,-89.0105
316N20050821,AAIW,93,1,6,6,2,20050922,1421,-55.0126,-89.0121,2221.2,2.1082,34.6899,2,34.6904,4,172.0,2,172.2,2,92.13,2,32.82,2,0.00,2,2.27,2,0.071,2,0.047,2,0.003,2,0.148,2,-999.0,9,2358.2,2,-999.0,9,-999.00,1,20050922,1512,-55.0058,-89.0099
316N20050821,AAIW,93,1,5,5,2,20050922,1421,-55.0126,-89.0121,2725.7,1.7559,34.7126,2,34.7135,4,178.9,2,178.6,2,104.65,2,32.58,2,0.00,2,2.25,2,0.025,2,0.021,2,0.003,2,0.094,2,-999.0,9,2368.5,2,-999.0,9,-999.00,1,20050922,1502,-55.0049,-89.0090
316N20050821,AAIW,93,1,4,4,2,20050922,1421,-55.0126,-89.0121,3233.8,1.4863,34.7251,2,34.7257,4,192.2,2,192.3,2,106.90,2,31.79,2,0.00,2,2.21,2,0.054,2,0.028,2,0.003,2,0.108,2,-999.0,9,2362.7,2,-999.0,9,-999.00,1,20050922,1452,-55.0040,-89.0081
316N20050821,AAIW,93,1,3,3,2,20050922,1421,-55.0126,-89.0121,3739.2,1.1376,34.7181,2,34.7190,4,199.6,2,199.8,2,117.20,2,32.08,2,0.00,2,2.19,2,0.055,2,0.027,2,0.003,2,0.146,2,-999.0,9,2362.3,2,-999.0,9,-999.00,1,20050922,1442,-55.0032,-89.0081
316N20050821,AAIW,93,1,2,2,2,20050922,1421,-55.0126,-89.0121,4240.3,0.8077,34.7106,2,34.7098,2,205.5,2,205.9,2,128.34,2,32.28,2,0.00,2,2.22,2,0.031,2,0.023,2,0.003,2,0.146,2,2265.2,2,2366.7,2,-999.0,9,-999.00,1,20050922,1432,-55.0025,-89.0088
316N20050821,AAIW,93,1,1,1,2,20050922,1421,-55.0126,-89.0121,4749.6,0.6707,34.7078,2,34.7120,4,210.3,2,208.7,2,134.14,2,32.48,2,0.00,2,2.23,2,0.034,6,0.030,6,0.003,6,0.225,6,-999.0,1,2368.6,2,-999.0,9,-999.00,1,20050922,1421,-55.0027,-89.0069