BOTTLE,20220819CCHSIOAMB
EXPOCODE,SECT_ID,STNNBR,CASTNO,SAMPNO,BTLNBR,BTLNBR_FLAG_W,DATE,TIME,LATITUDE,LONGITUDE,CTDPRS,CTDTMP,CTDSAL,CTDSAL_FLAG_W,SALNTY,SALNTY_FLAG_W,CTDOXY,CTDOXY_FLAG_W,OXYGEN,OXYGEN_FLAG_W,SILCAT,SILCAT_FLAG_W,NITRAT,NITRAT_FLAG_W,NITRIT,NITRIT_FLAG_W,PHSPHT,PHSPHT_FLAG_W,CFC-11,CFC-11_FLAG_W,CFC-12,CFC-12_FLAG_W,CFC113,CFC113_FLAG_W,CCL4,CCL4_FLAG_W,TCARBN,TCARBN_FLAG_W,ALKALI,ALKALI_FLAG_W,PCO2,PCO2_FLAG_W,PH_SWS,PH_SWS_FLAG_W,BTL_DATE,BTL_TIME,BTL_LAT,BTL_LON
,,,,,,,,,,,DBAR,ITS-90,PSS-78,,PSS-78,,UMOL/KG,,UMOL/KG,,UMOL/KG,,UMOL/KG,,UMOL/KG,,UMOL/KG,,PMOL/KG,,PMOL/KG,,PMOL/KG,,PMOL/KG,,UMOL/KG,,UMOL/KG,,UATM,,,,,,,
316N20050821,AAIW,135,1,8,8,2,20051005,824,-45.3151,-75.4514,3.7,9.9688,32.9226,2,-999.0000,9,308.3,2,315.3,2,0.00,2,1.46,2,0.25,2,0.60,2,3.745,2,2.148,2,0.341,2,4.536,2,1971.9,2,2203.0,2,-999.0,9,-999.00,9,20051005,839,-45.3151,-75.4514
316N20050821,AAIW,135,1,7,7,2,20051005,824,-45.3151,-75.4514,24.0,9.9122,32.9640,2,-999.0000,9,294.4,2,293.9,2,0.04,2,3.33,2,0.31,2,0.71,2,3.817,2,2.097,2,0.340,2,4.504,2,1996.4,2,2203.7,2,-999.0,9,-999.00,9,20051005,838,-45.3151,-75.4516
316N20050821,AAIW,135,1,6,6,2,20051005,824,-45.3151,-75.4514,48.5,9.7436,33.2459,2,-999.0000,9,265.1,2,262.9,2,1.98,2,9.41,2,0.48,2,1.11,2,-999.000,5,-999.000,5,-999.000,5,-999.000,5,2043.2,2,2212.2,2,-999.0,9,-999.00,9,20051005,835,-45.3153,-75.4520
316N20050821,AAIW,135,1,5,27,2,20051005,824,-45.3151,-75.4514,78.1,9.6313,33.5139,2,-999.0000,9,257.2,2,260.9,2,1.40,2,10.09,2,0.41,2,1.11,2,3.694,2,2.141,2,0.340,2,4.107,2,-999.0,9,2227.4,2,-999.0,9,-999.00,9,20051005,833,-45.3155,-75.4524
316N20050821,AAIW,135,1,4,4,2,20051005,824,-45.3151,-75.4514,107.4,9.3718,33.7046,2,-999.0000,9,250.5,2,252.1,2,1.99,2,12.25,2,0.07,2,1.18,2,3.706,2,2.147,2,0.333,2,3.823,2,-999.0,9,2237.6,2,-999.0,9,-999.00,9,20051005,831,-45.3157,-75.4527
316N20050821,AAIW,135,1,3,26,2,20051005,824,-45.3151,-75.4514,137.1,8.8392,33.8652,2,-999.0000,9,237.8,2,238.5,2,3.15,2,15.17,2,0.02,2,1.35,2,3.721,2,2.130,2,0.320,2,3.323,2,2098.9,2,2246.7,2,-999.0,9,-999.00,9,20051005,828,-45.3158,-75.4530
316N20050821,AAIW,135,1,2,2,2,20051005,824,-45.3151,-75.4514,166.9,8.3072,33.8934,2,-999.0000,9,254.0,2,254.2,2,2.57,2,13.03,2,0.02,2,1.33,2,3.874,2,2.211,2,0.336,2,3.781,2,2098.6,2,2249.8,2,-999.0,9,-999.00,9,20051005,826,-45.3160,-75.4532
316N20050821,AAIW,135,1,1,25,2,20051005,824,-45.3151,-75.4514,198.5,7.8896,34.2417,2,-999.0000,9,150.6,2,146.6,2,11.65,2,27.70,2,0.02,2,2.10,2,3.083,2,1.674,2,0.223,2,2.021,2,2194.0,2,2266.2,2,-999.0,9,-999.00,9,20051005,824,-45.3160,-75.4535
316N20050821,AAIW,136,1,5,27,2,20051005,1116,-45.3164,-74.8481,3.1,10.1108,32.0035,2,-999.0000,9,312.0,2,317.4,2,1.81,2,7.32,2,0.24,2,0.83,2,3.747,2,2.179,2,0.334,2,4.511,2,1959.6,2,2145.7,2,-999.0,9,-999.00,9,20051005,1124,-45.3164,-74.8481
316N20050821,AAIW,136,1,4,4,2,20051005,1116,-45.3164,-74.8481,28.3,9.8969,32.1524,2,-999.0000,9,296.8,2,298.4,2,2.78,2,9.61,2,0.27,2,1.08,2,3.767,2,2.194,2,0.341,2,4.430,2,1986.6,2,2152.9,2,-999.0,9,-999.00,9,20051005,1122,-45.3164,-74.8482
316N20050821,AAIW,136,1,3,26,2,20051005,1116,-45.3164,-74.8481,52.2,9.8683,32.6444,2,-999.0000,9,270.0,2,269.4,2,11.29,2,23.17,2,0.08,2,1.93,2,3.693,2,2.159,2,0.314,2,4.131,2,2025.7,2,2180.2,2,-999.0,9,-999.00,9,20051005,1120,-45.3163,-74.8484
316N20050821,AAIW,136,1,2,2,2,20051005,1116,-45.3164,-74.8481,78.0,9.5899,33.5928,2,-999.0000,9,239.0,2,223.5,2,5.49,2,16.43,2,0.26,2,1.41,2,3.489,2,2.021,2,0.298,2,3.288,2,2091.5,2,2230.1,2,-999.0,9,-999.00,9,20051005,1118,-45.3162,-74.8486
316N20050821,AAIW,136,1,1,25,2,20051005,1116,-45.3164,-74.8481,107.7,9.1011,34.0362,2,-999.0000,9,164.6,2,160.9,2,4.53,2,11.41,2,0.34,2,1.30,2,3.172,2,1.773,2,0.241,2,2.143,2,2161.7,6,2254.6,2,-999.0,9,-999.00,9,20051005,1116,-45.3160,-74.8488