BOTTLE,20220819CCHSIOAMB
EXPOCODE,SECT_ID,STNNBR,CASTNO,SAMPNO,BTLNBR,BTLNBR_FLAG_W,DATE,TIME,LATITUDE,LONGITUDE,CTDPRS,CTDTMP,CTDSAL,CTDSAL_FLAG_W,SALNTY,SALNTY_FLAG_W,CTDOXY,CTDOXY_FLAG_W,OXYGEN,OXYGEN_FLAG_W,SILCAT,SILCAT_FLAG_W,NITRAT,NITRAT_FLAG_W,NITRIT,NITRIT_FLAG_W,PHSPHT,PHSPHT_FLAG_W,CFC-11,CFC-11_FLAG_W,CFC-12,CFC-12_FLAG_W,CFC113,CFC113_FLAG_W,CCL4,CCL4_FLAG_W,TCARBN,TCARBN_FLAG_W,ALKALI,ALKALI_FLAG_W,PCO2,PCO2_FLAG_W,PH_SWS,PH_SWS_FLAG_W,BTL_DATE,BTL_TIME,BTL_LAT,BTL_LON
,,,,,,,,,,,DBAR,ITS-90,PSS-78,,PSS-78,,UMOL/KG,,UMOL/KG,,UMOL/KG,,UMOL/KG,,UMOL/KG,,UMOL/KG,,PMOL/KG,,PMOL/KG,,PMOL/KG,,PMOL/KG,,UMOL/KG,,UMOL/KG,,UATM,,,,,,,
316N20050821,AAIW,113,1,24,24,2,20050929,2216,-50.7980,-89.0401,11.3,5.8906,34.0647,2,34.0674,2,303.4,2,303.2,2,2.52,2,18.11,2,0.25,2,1.33,2,4.597,2,2.621,2,0.407,2,6.189,2,2105.5,6,2264.0,2,-999.0,9,-999.00,9,20050929,2358,-50.7980,-89.0401
316N20050821,AAIW,113,1,23,23,2,20050929,2216,-50.7980,-89.0401,47.5,5.8637,34.0651,2,34.0686,2,303.3,2,303.3,2,2.32,2,18.06,2,0.25,2,1.32,2,4.626,2,2.603,2,0.404,2,6.124,2,2107.0,2,2263.8,2,-999.0,9,-999.00,9,20050929,2356,-50.7979,-89.0399
316N20050821,AAIW,113,1,22,22,2,20050929,2216,-50.7980,-89.0401,77.5,5.8430,34.0662,2,34.0692,2,302.8,2,303.0,2,2.32,2,18.06,2,0.25,2,1.32,2,4.604,2,2.600,2,0.400,2,6.060,2,2105.5,2,2264.5,2,-999.0,9,-999.00,9,20050929,2354,-50.7978,-89.0396
316N20050821,AAIW,113,1,21,21,2,20050929,2216,-50.7980,-89.0401,107.2,5.7914,34.0679,2,34.0699,2,301.8,2,302.0,2,2.32,2,18.12,2,0.22,2,1.33,2,4.587,2,2.610,2,0.405,2,6.043,2,2105.7,2,2264.0,2,-999.0,9,-999.00,9,20050929,2353,-50.7978,-89.0393
316N20050821,AAIW,113,1,20,20,2,20050929,2216,-50.7980,-89.0401,157.1,5.7310,34.0724,2,34.0750,2,300.4,2,300.8,2,2.32,2,18.22,2,0.26,2,1.30,2,4.629,2,2.591,2,0.403,2,6.042,2,2107.2,2,2264.1,2,-999.0,9,-999.00,9,20050929,2351,-50.7977,-89.0390
316N20050821,AAIW,113,1,19,19,2,20050929,2216,-50.7980,-89.0401,206.8,5.6715,34.1052,2,34.1069,2,294.2,2,293.8,2,3.12,2,19.27,2,0.20,2,1.37,2,4.576,2,2.578,2,0.397,2,5.688,2,2112.8,2,2265.6,2,-999.0,9,-999.00,9,20050929,2349,-50.7976,-89.0386
316N20050821,AAIW,113,1,18,18,2,20050929,2216,-50.7980,-89.0401,305.4,5.5263,34.2076,2,34.2111,2,280.0,2,279.6,2,6.49,2,21.79,2,0.01,2,1.53,2,4.504,2,2.492,2,0.375,2,4.971,2,2131.0,2,2272.6,2,-999.0,9,-999.00,9,20050929,2346,-50.7976,-89.0380
316N20050821,AAIW,113,1,17,17,2,20050929,2216,-50.7980,-89.0401,402.3,5.4011,34.2126,2,34.2148,2,276.4,2,277.1,2,7.48,2,22.74,2,0.01,2,1.56,2,4.451,2,2.414,2,0.355,2,4.726,2,2134.5,2,2273.0,2,-999.0,9,-999.00,9,20050929,2343,-50.7978,-89.0373
316N20050821,AAIW,113,1,16,16,2,20050929,2216,-50.7980,-89.0401,501.7,5.2049,34.2046,2,34.2074,2,276.3,2,277.1,2,8.28,2,23.24,2,0.00,2,1.58,2,4.393,2,2.375,2,0.348,2,4.783,2,2135.8,2,2274.5,2,-999.0,9,-999.00,9,20050929,2341,-50.7979,-89.0366
316N20050821,AAIW,113,1,15,15,2,20050929,2216,-50.7980,-89.0401,601.0,5.0107,34.2086,2,34.2117,2,263.0,2,263.2,2,10.86,2,25.12,2,0.00,2,1.73,2,4.014,2,2.135,2,0.293,2,4.177,2,2146.3,2,2276.9,2,-999.0,9,-999.00,9,20050929,2338,-50.7980,-89.0358
316N20050821,AAIW,113,1,14,14,2,20050929,2216,-50.7980,-89.0401,700.9,4.7017,34.2124,2,34.2151,2,249.6,2,249.6,2,14.84,2,26.82,2,0.00,2,1.82,2,3.548,2,1.852,2,0.255,2,3.811,2,2159.7,2,2278.5,2,-999.0,9,-999.00,9,20050929,2336,-50.7982,-89.0350
316N20050821,AAIW,113,1,13,13,2,20050929,2216,-50.7980,-89.0401,799.8,4.4141,34.2400,2,34.2400,2,231.5,2,232.0,2,21.00,2,28.85,2,0.00,2,2.00,2,2.783,2,1.425,2,0.192,2,3.135,2,2175.4,2,2285.2,2,-999.0,9,-999.00,9,20050929,2333,-50.7983,-89.0344
316N20050821,AAIW,113,1,12,12,2,20050929,2216,-50.7980,-89.0401,899.4,4.1074,34.2718,2,34.2726,2,217.0,2,217.3,2,27.58,2,30.41,2,0.00,2,2.07,2,2.162,2,1.100,2,0.132,2,2.570,2,2191.3,2,2290.7,2,-999.0,9,-999.00,9,20050929,2330,-50.7984,-89.0337
316N20050821,AAIW,113,1,11,11,2,20050929,2216,-50.7980,-89.0401,999.0,3.7232,34.3088,2,34.3112,2,204.9,2,204.8,2,35.75,2,31.95,2,0.00,2,2.21,2,1.593,2,0.799,2,0.084,2,2.220,2,2206.1,2,2297.6,2,-999.0,9,-999.00,9,20050929,2328,-50.7985,-89.0331
316N20050821,AAIW,113,1,10,10,2,20050929,2216,-50.7980,-89.0401,1098.2,3.4116,34.3472,2,34.3495,2,194.7,2,194.3,2,43.55,2,33.01,2,0.00,2,2.25,2,1.113,2,0.561,2,0.049,2,1.727,2,2218.9,2,2306.0,2,-999.0,9,-999.00,9,20050929,2325,-50.7986,-89.0324
316N20050821,AAIW,113,1,9,9,2,20050929,2216,-50.7980,-89.0401,1248.1,3.0473,34.4187,2,34.4192,2,178.4,2,178.2,2,55.96,2,34.21,2,0.00,2,2.38,2,0.647,2,0.315,2,0.034,2,1.127,2,2238.1,2,2318.0,2,-999.0,9,-999.00,9,20050929,2322,-50.7987,-89.0317
316N20050821,AAIW,113,1,8,8,2,20050929,2216,-50.7980,-89.0401,1497.5,2.7472,34.5235,2,34.5239,2,155.1,2,155.3,2,74.63,2,35.52,2,0.00,2,2.44,2,0.162,2,0.080,2,0.002,2,0.412,2,2266.3,2,2339.0,2,-999.0,9,-999.00,9,20050929,2317,-50.7989,-89.0304
316N20050821,AAIW,113,1,7,7,2,20050929,2216,-50.7980,-89.0401,1797.9,2.4499,34.6002,2,34.6003,2,150.3,2,150.6,2,90.16,2,35.37,2,0.00,2,2.44,2,0.034,2,0.017,2,0.002,2,0.121,2,2281.7,2,2357.9,2,-999.0,9,-999.00,9,20050929,2311,-50.7993,-89.0292
316N20050821,AAIW,113,1,6,6,2,20050929,2216,-50.7980,-89.0401,2297.4,2.1081,34.6687,2,34.6701,2,161.9,2,162.3,2,99.66,2,34.01,2,0.00,2,2.37,2,0.011,2,0.009,2,0.003,2,0.059,2,2282.6,2,2367.4,2,-999.0,9,-999.00,9,20050929,2302,-50.7996,-89.0274
316N20050821,AAIW,113,1,5,5,2,20050929,2216,-50.7980,-89.0401,2798.2,1.8183,34.6938,2,34.6947,2,166.3,2,166.7,2,111.22,2,33.82,2,0.00,2,2.36,2,0.002,2,0.003,2,0.001,2,0.027,2,2289.5,2,2379.3,2,-999.0,9,-999.00,9,20050929,2253,-50.8000,-89.0256
316N20050821,AAIW,113,1,4,4,2,20050929,2216,-50.7980,-89.0401,3294.7,1.5932,34.7173,2,34.7186,2,184.6,2,184.4,2,108.78,2,32.37,2,0.00,2,2.24,2,0.020,2,0.010,2,0.004,2,0.070,2,2273.2,2,2368.0,2,-999.0,9,-999.00,9,20050929,2244,-50.8000,-89.0243
316N20050821,AAIW,113,1,3,3,2,20050929,2216,-50.7980,-89.0401,3796.6,1.1388,34.7168,2,34.7171,2,197.7,2,197.6,2,118.74,2,32.18,2,0.00,2,2.23,2,0.015,2,0.010,2,0.003,2,0.094,2,2268.3,2,2366.6,2,-999.0,9,-999.00,9,20050929,2234,-50.8002,-89.0225
316N20050821,AAIW,113,1,2,2,2,20050929,2216,-50.7980,-89.0401,4299.7,0.8011,34.7110,2,34.7114,2,204.6,2,205.4,2,129.96,2,32.41,2,0.00,2,2.28,2,0.010,2,0.010,2,0.003,2,0.129,2,2270.6,2,2371.2,2,-999.0,9,-999.00,9,20050929,2225,-50.8004,-89.0209
316N20050821,AAIW,113,1,1,1,2,20050929,2216,-50.7980,-89.0401,4827.6,0.7025,34.7085,2,34.7083,2,208.8,2,207.8,2,134.46,2,32.45,2,0.00,2,2.26,2,0.023,2,0.016,2,0.005,2,0.243,2,2270.4,2,2370.2,2,-999.0,9,-999.00,9,20050929,2216,-50.8006,-89.0192
316N20050821,AAIW,114,1,24,24,2,20050930,500,-50.2490,-89.0036,7.4,5.8941,34.0621,2,34.0650,2,303.3,2,303.1,2,2.45,2,17.75,2,0.22,2,1.33,2,4.634,2,2.588,2,0.405,2,6.122,2,2104.3,6,2264.9,2,-999.0,9,-999.00,9,20050930,656,-50.2490,-89.0036
316N20050821,AAIW,114,1,23,23,2,20050930,500,-50.2490,-89.0036,37.2,5.8846,34.0627,2,34.0650,2,303.0,2,303.5,2,2.44,2,17.75,2,0.22,2,1.33,2,4.609,2,2.605,2,0.416,2,6.034,2,-999.0,1,2264.7,2,-999.0,9,-999.00,9,20050930,653,-50.2493,-89.0045
316N20050821,AAIW,114,1,22,22,2,20050930,500,-50.2490,-89.0036,67.0,5.8479,34.0660,2,34.0678,2,303.0,2,303.2,2,2.44,2,17.75,2,0.22,2,1.33,2,4.632,2,2.606,2,0.413,2,6.103,2,2103.1,2,2265.0,2,-999.0,9,-999.00,9,20050930,651,-50.2495,-89.0054
316N20050821,AAIW,114,1,21,21,2,20050930,500,-50.2490,-89.0036,102.1,5.7767,34.0731,2,34.0758,2,301.8,2,302.1,2,2.43,2,17.85,2,0.22,2,1.34,2,4.623,2,2.596,2,0.415,2,5.982,2,2106.5,2,2265.3,2,-999.0,9,-999.00,9,20050930,649,-50.2498,-89.0062
316N20050821,AAIW,114,1,20,20,2,20050930,500,-50.2490,-89.0036,151.9,5.6034,34.1157,2,34.1181,2,295.7,2,295.7,2,3.22,2,18.71,2,0.22,2,1.39,2,4.578,2,2.585,2,0.405,2,5.631,2,2111.8,2,2267.8,2,-999.0,9,-999.00,9,20050930,647,-50.2499,-89.0066
316N20050821,AAIW,114,1,19,19,2,20050930,500,-50.2490,-89.0036,201.6,5.4326,34.1445,2,34.1476,2,294.3,2,294.2,2,4.19,2,19.51,2,0.19,2,1.43,2,4.597,2,2.568,2,0.401,2,5.643,2,2118.8,2,2270.0,2,-999.0,9,-999.00,9,20050930,645,-50.2501,-89.0066
316N20050821,AAIW,114,1,18,18,2,20050930,500,-50.2490,-89.0036,291.8,5.5025,34.2161,2,34.2183,2,283.3,2,282.7,2,6.74,2,21.44,2,0.00,2,1.54,2,4.482,2,2.468,2,0.375,2,4.984,2,2130.9,2,2273.6,2,-999.0,9,-999.00,9,20050930,642,-50.2502,-89.0064
316N20050821,AAIW,114,1,17,17,2,20050930,500,-50.2490,-89.0036,381.3,5.3735,34.2162,2,34.2185,2,274.8,2,275.0,2,8.11,2,22.63,2,0.00,2,1.60,2,4.075,4,2.543,4,0.362,4,4.348,4,2136.2,2,2274.6,2,-999.0,9,-999.00,9,20050930,639,-50.2503,-89.0063
316N20050821,AAIW,114,1,16,16,2,20050930,500,-50.2490,-89.0036,471.4,5.1943,34.2106,2,34.2126,2,270.1,2,270.7,2,9.27,2,23.46,2,0.00,2,1.66,2,4.282,2,2.285,2,0.337,2,4.522,2,2141.1,2,2275.3,2,-999.0,9,-999.00,9,20050930,636,-50.2504,-89.0063
316N20050821,AAIW,114,1,15,15,2,20050930,500,-50.2490,-89.0036,561.1,5.0424,34.2127,2,34.2148,2,261.4,2,262.9,2,11.05,2,24.57,2,0.00,2,1.74,2,4.016,2,2.073,2,0.290,2,4.253,2,2148.7,2,2277.2,2,-999.0,9,-999.00,9,20050930,633,-50.2505,-89.0063
316N20050821,AAIW,114,1,14,14,2,20050930,500,-50.2490,-89.0036,651.5,4.8066,34.2211,2,34.2225,2,247.3,2,248.2,2,14.38,2,26.24,2,0.00,2,1.86,2,3.472,2,1.791,2,0.246,2,3.737,2,2160.3,2,2278.6,2,-999.0,9,-999.00,9,20050930,630,-50.2505,-89.0062
316N20050821,AAIW,114,1,13,13,2,20050930,500,-50.2490,-89.0036,741.0,4.4745,34.2463,2,34.2473,2,230.1,2,229.5,2,20.86,2,28.33,2,0.00,2,2.00,2,2.704,2,1.378,2,0.186,2,3.102,2,2173.5,2,2284.8,2,-999.0,9,-999.00,9,20050930,627,-50.2506,-89.0060
316N20050821,AAIW,114,1,12,12,2,20050930,500,-50.2490,-89.0036,831.1,4.0866,34.2716,2,34.2726,2,217.5,2,217.0,2,27.56,2,29.91,2,0.00,2,2.13,2,2.219,2,1.054,2,0.136,2,2.659,2,2189.3,2,2290.3,2,-999.0,9,-999.00,9,20050930,624,-50.2507,-89.0058
316N20050821,AAIW,114,1,11,11,2,20050930,500,-50.2490,-89.0036,930.7,3.7660,34.3046,2,34.3056,2,206.4,2,205.9,2,34.45,2,31.23,2,0.00,2,2.21,2,1.630,2,0.823,2,0.101,2,2.227,2,2200.6,2,2296.2,2,-999.0,9,-999.00,9,20050930,621,-50.2508,-89.0057
316N20050821,AAIW,114,1,10,10,2,20050930,500,-50.2490,-89.0036,1131.3,3.1954,34.3862,2,34.3866,2,183.7,2,183.5,2,50.06,2,33.24,2,0.00,2,2.35,2,0.763,2,0.382,2,0.042,2,1.342,2,2226.9,2,2312.1,2,-999.0,9,-999.00,9,20050930,616,-50.2509,-89.0054
316N20050821,AAIW,114,1,9,9,2,20050930,500,-50.2490,-89.0036,1331.2,2.8873,34.4777,2,34.4787,2,161.2,2,161.6,2,66.30,2,34.66,2,0.00,2,2.48,2,0.267,2,0.135,2,0.014,2,0.607,2,2253.7,2,2328.7,2,-999.0,9,-999.00,9,20050930,610,-50.2510,-89.0052
316N20050821,AAIW,114,1,8,8,2,20050930,500,-50.2490,-89.0036,1582.5,2.6176,34.5632,2,34.5633,2,147.4,2,146.9,2,83.21,2,35.42,2,0.00,2,2.54,2,0.061,2,0.033,2,0.001,2,0.194,2,2276.7,2,2349.8,2,-999.0,9,-999.00,9,20050930,605,-50.2512,-89.0050
316N20050821,AAIW,114,1,7,7,2,20050930,500,-50.2490,-89.0036,1833.3,2.3813,34.6133,2,34.6130,2,154.5,2,154.1,2,89.97,2,34.39,2,0.00,2,2.46,2,0.036,2,0.022,2,0.001,2,0.128,2,2279.8,2,2357.7,2,-999.0,9,-999.00,9,20050930,559,-50.2512,-89.0049
316N20050821,AAIW,114,1,6,6,2,20050930,500,-50.2490,-89.0036,2336.2,1.9943,34.6730,2,34.6728,2,160.0,2,159.9,2,105.38,2,33.73,2,0.00,2,2.42,2,0.004,2,0.005,2,0.001,2,0.040,2,2290.9,2,2375.6,2,-999.0,9,-999.00,9,20050930,549,-50.2513,-89.0052
316N20050821,AAIW,114,1,5,5,2,20050930,500,-50.2490,-89.0036,2840.6,1.7890,34.6932,2,34.6922,2,166.4,2,166.3,2,111.59,2,33.46,2,0.00,2,2.37,2,0.001,2,0.002,2,0.002,2,0.016,2,2290.3,2,2380.1,2,-999.0,9,-999.00,9,20050930,539,-50.2512,-89.0054
316N20050821,AAIW,114,1,4,4,2,20050930,500,-50.2490,-89.0036,3346.1,1.5449,34.7138,2,34.7119,3,183.2,2,183.3,2,110.76,2,32.15,2,0.00,2,2.29,2,0.009,2,0.010,2,0.002,2,0.042,2,2275.1,2,2370.1,2,-999.0,9,-999.00,9,20050930,530,-50.2513,-89.0054
316N20050821,AAIW,114,1,3,3,2,20050930,500,-50.2490,-89.0036,3852.7,1.0397,34.7143,2,34.7115,3,198.7,2,198.5,2,121.22,2,31.83,2,0.00,2,2.26,2,0.008,2,0.012,2,0.003,2,0.073,2,2269.4,2,2368.8,2,-999.0,9,-999.00,9,20050930,520,-50.2513,-89.0054
316N20050821,AAIW,114,1,2,2,2,20050930,500,-50.2490,-89.0036,4361.5,0.7638,34.7100,2,34.7083,3,205.2,2,205.3,2,130.08,2,32.02,2,0.00,2,2.27,2,0.011,2,0.012,2,0.002,2,0.117,2,2270.1,2,2370.8,2,-999.0,9,-999.00,9,20050930,510,-50.2512,-89.0053
316N20050821,AAIW,114,1,1,1,2,20050930,500,-50.2490,-89.0036,4869.3,0.7362,34.7089,2,34.7087,2,208.3,2,207.1,2,132.49,2,32.03,2,0.00,2,2.27,2,0.017,6,0.015,6,0.003,6,0.177,6,2269.4,6,2370.1,2,-999.0,9,-999.00,9,20050930,500,-50.2511,-89.0054
316N20050821,AAIW,115,1,24,24,2,20050930,1149,-49.6927,-89.0187,10.6,6.0437,34.0649,2,34.0665,2,302.1,2,302.7,2,2.46,2,17.77,2,0.22,2,1.30,2,4.608,2,2.592,2,0.407,2,6.084,2,2104.6,2,2264.9,2,-999.0,9,-999.00,9,20050930,1340,-49.6927,-89.0187
316N20050821,AAIW,115,1,23,23,2,20050930,1149,-49.6927,-89.0187,32.4,6.0243,34.0658,2,34.0671,2,302.6,2,303.4,2,2.26,2,17.77,2,0.22,2,1.30,2,4.584,2,2.580,2,0.411,2,6.146,2,2106.5,2,2264.5,2,-999.0,9,-999.00,9,20050930,1339,-49.6928,-89.0186
316N20050821,AAIW,115,1,22,22,2,20050930,1149,-49.6927,-89.0187,62.3,5.9736,34.0722,2,34.0728,2,303.4,2,302.8,2,2.45,2,17.77,2,0.21,2,1.31,2,4.579,2,2.585,2,0.413,2,6.047,2,2103.2,2,2264.8,2,-999.0,9,-999.00,9,20050930,1337,-49.6928,-89.0185
316N20050821,AAIW,115,1,21,21,2,20050930,1149,-49.6927,-89.0187,92.3,5.8097,34.1062,2,34.1070,2,303.0,2,302.6,2,2.84,2,18.06,2,0.20,2,1.31,2,4.580,2,2.585,2,0.403,2,5.929,2,2109.7,2,2267.0,2,-999.0,9,-999.00,9,20050930,1335,-49.6928,-89.0183
316N20050821,AAIW,115,1,20,20,2,20050930,1149,-49.6927,-89.0187,137.4,5.7085,34.1294,2,34.1301,2,300.0,2,299.5,2,3.03,2,18.34,2,0.22,2,1.34,2,4.559,2,2.562,2,0.406,2,5.752,2,2112.1,2,2268.2,2,-999.0,9,-999.00,9,20050930,1333,-49.6928,-89.0182
316N20050821,AAIW,115,1,19,19,2,20050930,1149,-49.6927,-89.0187,186.5,5.7618,34.1837,2,34.1831,2,288.8,2,288.9,2,4.40,2,19.71,2,0.12,2,1.41,2,4.483,2,2.511,2,0.389,2,5.207,2,2120.9,2,2270.3,2,-999.0,9,-999.00,9,20050930,1330,-49.6928,-89.0180
316N20050821,AAIW,115,1,18,18,2,20050930,1149,-49.6927,-89.0187,231.3,5.8635,34.2463,2,34.2471,2,277.6,2,277.3,2,6.56,2,21.23,2,0.00,2,1.50,2,4.381,2,2.408,2,0.364,2,4.637,2,2132.8,2,2274.5,2,-999.0,9,-999.00,9,20050930,1328,-49.6928,-89.0179
316N20050821,AAIW,115,1,17,17,2,20050930,1149,-49.6927,-89.0187,286.6,5.7166,34.2373,2,34.2375,2,278.1,2,278.9,2,6.95,2,21.56,2,0.00,2,1.52,2,4.360,2,2.421,2,0.358,2,4.610,2,2133.3,2,2273.6,2,-999.0,9,-999.00,9,20050930,1326,-49.6928,-89.0178
316N20050821,AAIW,115,1,16,16,2,20050930,1149,-49.6927,-89.0187,336.9,5.5927,34.2317,2,34.2334,2,276.8,2,277.5,2,7.35,2,21.96,2,0.00,2,1.55,2,4.342,2,2.362,2,0.347,2,4.673,2,2134.9,2,2274.7,2,-999.0,9,-999.00,9,20050930,1324,-49.6928,-89.0178
316N20050821,AAIW,115,1,15,15,2,20050930,1149,-49.6927,-89.0187,435.2,5.3635,34.2196,2,34.2204,2,272.4,2,273.4,2,8.71,2,23.05,2,0.00,2,1.61,2,4.205,2,2.276,2,0.324,2,4.431,2,2140.6,2,2275.5,2,-999.0,9,-999.00,9,20050930,1321,-49.6927,-89.0176
316N20050821,AAIW,115,1,14,14,2,20050930,1149,-49.6927,-89.0187,535.8,5.1303,34.2150,2,34.2155,2,262.8,2,262.7,2,10.88,2,24.51,2,0.00,2,1.70,2,3.962,2,2.128,2,0.301,2,4.197,2,2148.4,2,2278.2,2,-999.0,9,-999.00,9,20050930,1318,-49.6923,-89.0173
316N20050821,AAIW,115,1,13,13,2,20050930,1149,-49.6927,-89.0187,636.1,4.8471,34.2163,2,34.2174,2,252.8,2,253.3,2,13.44,2,26.02,2,0.00,2,1.81,2,3.677,6,1.887,6,0.264,6,3.920,6,2155.3,2,2279.3,2,-999.0,9,-999.00,9,20050930,1315,-49.6922,-89.0171
316N20050821,AAIW,115,1,12,12,2,20050930,1149,-49.6927,-89.0187,815.4,4.2019,34.2672,2,34.2688,2,220.2,2,219.2,2,25.87,2,29.77,2,0.00,2,2.06,2,2.263,2,1.148,2,0.149,2,2.762,2,2187.6,2,2289.2,2,-999.0,9,-999.00,9,20050930,1311,-49.6920,-89.0170
316N20050821,AAIW,115,1,11,11,2,20050930,1149,-49.6927,-89.0187,1065.3,3.3861,34.3552,2,34.3560,2,193.6,2,193.8,2,44.09,2,32.73,2,0.00,2,2.28,2,1.102,2,0.542,2,0.060,2,1.715,2,2218.3,2,2306.6,2,-999.0,9,-999.00,9,20050930,1306,-49.6919,-89.0164
316N20050821,AAIW,115,1,10,10,2,20050930,1149,-49.6927,-89.0187,1315.6,2.8603,34.4567,2,34.4579,2,174.2,2,174.4,2,61.57,2,34.16,2,0.00,2,2.40,2,0.577,2,0.291,2,0.031,2,1.032,2,-999.0,9,2324.3,2,-999.0,9,-999.00,9,20050930,1300,-49.6916,-89.0160
316N20050821,AAIW,115,1,9,9,2,20050930,1149,-49.6927,-89.0187,1565.8,2.6229,34.5660,2,34.5668,2,145.7,2,146.7,2,84.52,2,35.65,2,0.00,2,2.51,2,0.050,2,0.030,2,0.001,2,0.165,2,2278.0,6,2351.3,2,-999.0,9,-999.00,9,20050930,1254,-49.6913,-89.0155
316N20050821,AAIW,115,1,8,8,2,20050930,1149,-49.6927,-89.0187,1816.7,2.3844,34.6115,2,34.6096,2,150.5,2,150.0,2,93.54,2,35.03,2,0.00,2,2.47,2,0.015,2,0.007,2,0.001,2,0.077,2,-999.0,9,2361.6,2,-999.0,9,-999.00,9,20050930,1249,-49.6911,-89.0150
316N20050821,AAIW,115,1,7,7,2,20050930,1149,-49.6927,-89.0187,2066.5,2.1943,34.6494,2,34.6500,2,158.6,2,158.5,2,97.35,2,34.10,2,0.00,2,2.41,2,0.010,2,0.006,2,0.000,2,0.066,2,-999.0,9,2364.8,2,-999.0,9,-999.00,9,20050930,1243,-49.6909,-89.0144
316N20050821,AAIW,115,1,6,6,2,20050930,1149,-49.6927,-89.0187,2317.0,2.0362,34.6776,2,34.6775,2,163.9,2,163.8,2,101.36,2,33.50,2,0.00,2,2.36,2,0.008,2,0.005,2,0.000,2,0.061,2,-999.0,9,2369.8,2,-999.0,9,-999.00,9,20050930,1238,-49.6906,-89.0139
316N20050821,AAIW,115,1,5,5,2,20050930,1149,-49.6927,-89.0187,2819.1,1.7858,34.7006,2,34.7009,2,171.5,2,171.5,2,108.80,2,33.13,2,0.00,2,2.32,2,0.004,2,0.001,2,0.000,2,0.033,2,-999.0,9,2375.0,2,-999.0,9,-999.00,9,20050930,1228,-49.6899,-89.0130
316N20050821,AAIW,115,1,4,4,2,20050930,1149,-49.6927,-89.0187,3325.2,1.4752,34.7137,2,34.7130,2,185.2,2,184.9,2,112.83,2,32.38,2,0.00,2,2.27,2,0.010,2,0.005,2,0.001,2,0.042,2,-999.0,9,2371.3,2,-999.0,9,-999.00,9,20050930,1218,-49.6893,-89.0116
316N20050821,AAIW,115,1,3,3,2,20050930,1149,-49.6927,-89.0187,3831.9,0.9877,34.7133,2,34.7130,2,199.4,2,199.3,2,123.94,2,32.19,2,0.00,2,2.25,2,0.008,2,0.004,2,-0.001,2,0.060,2,-999.0,9,2370.3,2,-999.0,9,-999.00,9,20050930,1209,-49.6887,-89.0105
316N20050821,AAIW,115,1,2,2,2,20050930,1149,-49.6927,-89.0187,4339.4,0.7599,34.7102,2,34.7088,2,204.9,2,206.0,2,131.02,2,32.32,2,0.00,2,2.25,2,0.008,2,0.005,2,0.001,2,0.106,2,-999.0,9,2371.9,2,-999.0,9,-999.00,9,20050930,1159,-49.6882,-89.0094
316N20050821,AAIW,115,1,1,1,2,20050930,1149,-49.6927,-89.0187,4846.6,0.7636,34.7095,2,34.7098,2,207.7,2,206.6,2,132.44,2,32.37,2,0.00,2,2.25,2,0.015,2,0.010,2,-0.001,2,0.141,2,-999.0,9,2371.0,2,-999.0,9,-999.00,9,20050930,1149,-49.6877,-89.0084