BOTTLE,20220819CCHSIOAMB
EXPOCODE,SECT_ID,STNNBR,CASTNO,SAMPNO,BTLNBR,BTLNBR_FLAG_W,DATE,TIME,LATITUDE,LONGITUDE,CTDPRS,CTDTMP,CTDSAL,CTDSAL_FLAG_W,SALNTY,SALNTY_FLAG_W,CTDOXY,CTDOXY_FLAG_W,OXYGEN,OXYGEN_FLAG_W,SILCAT,SILCAT_FLAG_W,NITRAT,NITRAT_FLAG_W,NITRIT,NITRIT_FLAG_W,PHSPHT,PHSPHT_FLAG_W,CFC-11,CFC-11_FLAG_W,CFC-12,CFC-12_FLAG_W,CFC113,CFC113_FLAG_W,CCL4,CCL4_FLAG_W,TCARBN,TCARBN_FLAG_W,ALKALI,ALKALI_FLAG_W,PCO2,PCO2_FLAG_W,PH_SWS,PH_SWS_FLAG_W,BTL_DATE,BTL_TIME,BTL_LAT,BTL_LON
,,,,,,,,,,,DBAR,ITS-90,PSS-78,,PSS-78,,UMOL/KG,,UMOL/KG,,UMOL/KG,,UMOL/KG,,UMOL/KG,,UMOL/KG,,PMOL/KG,,PMOL/KG,,PMOL/KG,,PMOL/KG,,UMOL/KG,,UMOL/KG,,UATM,,,,,,,
316N20050821,AAIW,73,1,24,24,4,20050916,1933,-56.7246,-103.0888,10.9,5.1939,34.1430,2,34.1437,2,298.5,2,298.1,2,4.92,2,20.52,2,0.06,2,1.45,2,4.762,2,2.712,2,0.443,2,6.000,2,2121.0,6,2272.5,2,-999.0,9,-999.00,1,20050916,2119,-56.7246,-103.0888
316N20050821,AAIW,73,1,23,23,4,20050916,1933,-56.7246,-103.0888,36.3,5.1977,34.1431,2,34.1440,2,298.8,2,298.3,2,4.91,2,20.61,2,0.06,2,1.45,2,4.763,2,2.721,2,0.441,2,6.005,2,2117.0,2,2273.7,2,-999.0,9,-999.00,1,20050916,2118,-56.7245,-103.0886
316N20050821,AAIW,73,1,22,22,4,20050916,1933,-56.7246,-103.0888,55.5,5.1983,34.1432,2,34.1465,2,298.8,2,298.3,2,4.91,2,20.61,2,0.06,2,1.44,2,4.782,2,2.718,2,0.441,2,5.993,2,2118.9,2,2273.4,2,-999.0,9,-999.00,1,20050916,2117,-56.7244,-103.0886
316N20050821,AAIW,73,1,21,21,4,20050916,1933,-56.7246,-103.0888,85.9,5.2005,34.1430,2,34.1469,2,298.8,2,299.3,2,4.90,2,20.66,2,0.06,2,1.45,2,4.763,2,2.725,2,0.440,2,5.937,2,2123.2,3,2273.3,2,-999.0,9,-999.00,1,20050916,2116,-56.7243,-103.0888
316N20050821,AAIW,73,1,20,20,4,20050916,1933,-56.7246,-103.0888,113.2,5.2041,34.1433,2,34.1461,2,298.7,2,298.0,2,4.90,2,20.66,2,0.06,2,1.44,2,4.741,2,2.683,2,0.443,2,5.948,2,2117.1,2,2273.1,2,-999.0,9,-999.00,1,20050916,2114,-56.7241,-103.0888
316N20050821,AAIW,73,1,19,19,9,20050916,1933,-56.7246,-103.0888,144.4,5.2081,34.1433,2,-999.0000,9,-999.0,9,-999.0,9,-999.00,9,-999.00,9,-999.00,9,-999.00,9,-999.000,9,-999.000,9,-999.000,9,-999.000,9,-999.0,9,-999.0,9,-999.0,9,-999.00,9,20050916,2113,-56.7240,-103.0888
316N20050821,AAIW,73,1,18,18,4,20050916,1933,-56.7246,-103.0888,194.9,5.2128,34.1432,2,34.1459,2,298.7,2,298.1,2,4.89,2,20.61,2,0.06,2,1.44,2,4.717,2,2.695,2,0.440,2,5.916,2,2117.6,2,2273.7,2,-999.0,9,-999.00,1,20050916,2110,-56.7237,-103.0888
316N20050821,AAIW,73,1,17,17,2,20050916,1933,-56.7246,-103.0888,243.3,5.2187,34.1436,2,34.1471,2,298.7,2,298.2,2,4.89,2,20.60,2,0.06,2,1.44,2,4.730,6,2.679,6,0.436,6,5.917,6,2120.6,2,2273.1,2,-999.0,9,-999.00,1,20050916,2108,-56.7234,-103.0885
316N20050821,AAIW,73,1,16,16,2,20050916,1933,-56.7246,-103.0888,294.7,5.1598,34.1376,2,34.1374,2,298.4,2,296.1,2,5.08,2,21.10,2,0.04,2,1.47,2,4.706,2,2.666,2,0.430,2,5.903,2,2118.2,2,2274.0,2,-999.0,9,-999.00,1,20050916,2105,-56.7231,-103.0883
316N20050821,AAIW,73,1,15,15,2,20050916,1933,-56.7246,-103.0888,360.2,5.0958,34.1396,2,34.1409,2,293.3,2,293.1,2,5.87,2,21.60,2,0.02,2,1.50,2,4.708,2,2.685,2,0.418,2,5.688,2,2123.6,2,2274.0,2,-999.0,9,-999.00,1,20050916,2101,-56.7228,-103.0882
316N20050821,AAIW,73,1,14,14,2,20050916,1933,-56.7246,-103.0888,444.9,5.2184,34.1793,2,34.1793,2,270.1,2,269.7,2,9.49,2,23.66,2,0.01,2,1.63,2,4.276,2,2.374,2,0.365,2,4.795,2,2139.3,2,2276.7,2,-999.0,9,-999.00,1,20050916,2058,-56.7225,-103.0874
316N20050821,AAIW,73,1,13,13,2,20050916,1933,-56.7246,-103.0888,534.7,4.8567,34.1861,2,34.1885,2,254.8,2,254.9,2,13.70,2,25.77,2,0.00,2,1.76,2,3.909,2,2.109,2,0.325,2,4.222,2,2153.2,2,2278.6,2,-999.0,9,-999.00,1,20050916,2054,-56.7223,-103.0867
316N20050821,AAIW,73,1,12,12,2,20050916,1933,-56.7246,-103.0888,626.8,4.7196,34.2599,2,34.2617,2,227.7,2,226.7,2,21.34,2,28.31,2,0.00,2,1.93,2,3.077,2,1.600,2,0.219,2,3.442,2,2172.5,2,2285.2,2,-999.0,9,-999.00,1,20050916,2051,-56.7221,-103.0856
316N20050821,AAIW,73,1,11,11,2,20050916,1933,-56.7246,-103.0888,717.1,4.3230,34.2876,2,34.2883,2,216.0,2,216.0,2,27.38,2,30.00,2,0.00,2,2.03,2,2.644,2,1.351,2,0.178,2,2.995,2,2185.3,2,2290.9,2,-999.0,9,-999.00,1,20050916,2048,-56.7219,-103.0852
316N20050821,AAIW,73,1,10,10,2,20050916,1933,-56.7246,-103.0888,806.0,3.8223,34.2892,2,34.2912,2,214.5,2,214.1,2,32.81,2,31.10,2,0.00,2,2.12,2,2.437,2,1.240,2,0.174,2,2.830,2,2194.0,2,2293.4,2,-999.0,9,-999.00,1,20050916,2045,-56.7216,-103.0850
316N20050821,AAIW,73,1,9,9,2,20050916,1933,-56.7246,-103.0888,898.4,3.5558,34.3251,2,34.3243,2,203.8,2,204.1,2,39.27,2,32.07,2,0.00,2,2.19,2,1.970,2,0.989,2,0.111,2,2.423,2,2206.0,2,2300.8,2,-999.0,9,-999.00,1,20050916,2041,-56.7212,-103.0845
316N20050821,AAIW,73,1,8,8,2,20050916,1933,-56.7246,-103.0888,1102.0,2.9907,34.4001,2,34.4007,2,188.3,2,188.6,2,53.21,2,33.67,2,0.00,2,2.31,2,1.319,2,0.656,2,0.072,2,1.705,2,2226.4,2,2312.7,2,-999.0,9,-999.00,1,20050916,2037,-56.7207,-103.0842
316N20050821,AAIW,73,1,7,7,2,20050916,1933,-56.7246,-103.0888,1302.0,2.6525,34.4948,2,34.4961,2,177.5,2,176.6,2,65.37,2,34.20,2,0.00,2,2.34,2,0.821,2,0.414,2,0.052,2,1.143,2,2243.4,2,2325.9,2,-999.0,9,-999.00,1,20050916,2032,-56.7205,-103.0840
316N20050821,AAIW,73,1,6,6,2,20050916,1933,-56.7246,-103.0888,1796.0,2.2828,34.6608,2,34.6616,2,174.0,2,172.8,2,81.85,2,32.98,2,0.00,2,2.26,2,0.243,2,0.103,2,-0.001,2,0.375,2,2257.1,2,2344.0,2,-999.0,9,-999.00,1,20050916,2023,-56.7203,-103.0835
316N20050821,AAIW,73,1,5,5,2,20050916,1933,-56.7246,-103.0888,2294.7,1.9279,34.7178,2,34.7211,2,182.2,2,181.8,2,93.26,2,32.01,2,0.00,2,2.19,2,0.100,2,0.038,2,-0.001,2,0.173,2,2259.3,2,2355.3,2,-999.0,9,-999.00,1,20050916,2014,-56.7196,-103.0827
316N20050821,AAIW,73,1,4,4,2,20050916,1933,-56.7246,-103.0888,2795.1,1.5465,34.7226,2,34.7259,3,189.3,2,188.5,2,105.13,2,32.00,2,0.00,2,2.20,2,0.043,2,0.022,2,-0.001,2,0.112,2,2264.0,2,2362.8,2,-999.0,9,-999.00,1,20050916,2004,-56.7188,-103.0816
316N20050821,AAIW,73,1,3,3,2,20050916,1933,-56.7246,-103.0888,3299.3,1.2884,34.7228,2,34.7267,3,197.3,2,197.0,2,111.08,2,31.86,2,0.00,2,2.17,2,0.081,2,0.035,2,-0.001,2,0.193,2,2261.5,2,2360.4,2,-999.0,9,-999.00,1,20050916,1955,-56.7184,-103.0803
316N20050821,AAIW,73,1,2,2,2,20050916,1933,-56.7246,-103.0888,3798.4,0.8719,34.7122,2,34.7122,2,204.2,2,204.3,2,125.06,2,32.30,2,0.00,2,2.21,2,0.112,2,0.055,2,0.000,2,0.270,2,2263.1,2,2362.4,2,-999.0,9,-999.00,1,20050916,1946,-56.7180,-103.0793
316N20050821,AAIW,73,1,1,1,2,20050916,1933,-56.7246,-103.0888,4228.6,0.6668,34.7077,2,34.7104,3,209.4,2,208.3,2,132.08,2,32.53,2,0.00,2,2.23,2,0.137,2,0.071,2,0.000,2,0.387,2,2266.2,2,2366.5,2,-999.0,9,-999.00,1,20050916,1933,-56.7173,-103.0768
316N20050821,AAIW,74,1,24,24,4,20050917,304,-57.2894,-102.9805,7.3,3.9655,34.0257,2,34.0263,2,308.8,2,309.1,2,6.63,2,22.73,2,0.08,2,1.58,2,5.165,2,2.922,2,0.495,2,6.744,2,2131.0,6,2272.5,2,-999.0,9,-999.00,1,20050917,502,-57.2894,-102.9805
316N20050821,AAIW,74,1,23,23,4,20050917,304,-57.2894,-102.9805,27.5,3.9643,34.0254,2,34.0257,2,309.0,2,309.1,2,6.62,2,22.67,2,0.08,2,1.58,2,5.150,2,2.927,2,0.496,2,6.654,2,2129.6,2,2271.7,2,-999.0,9,-999.00,1,20050917,501,-57.2892,-102.9809
316N20050821,AAIW,74,1,22,22,4,20050917,304,-57.2894,-102.9805,77.2,3.9681,34.0253,2,34.0265,2,309.0,2,309.3,2,6.62,2,22.72,2,0.08,2,1.58,2,5.157,2,2.902,2,0.493,2,6.720,2,2131.1,2,2272.0,2,-999.0,9,-999.00,1,20050917,458,-57.2888,-102.9815
316N20050821,AAIW,74,1,21,21,4,20050917,304,-57.2894,-102.9805,106.9,3.9691,34.0251,2,34.0271,2,308.9,2,308.9,2,6.61,2,22.76,2,0.08,2,1.58,2,5.158,2,2.922,2,0.497,2,6.796,2,2130.3,2,2272.0,2,-999.0,9,-999.00,1,20050917,457,-57.2886,-102.9819
316N20050821,AAIW,74,1,20,20,4,20050917,304,-57.2894,-102.9805,155.8,3.9783,34.0265,2,34.0268,2,308.7,2,308.4,2,6.60,2,22.71,2,0.08,2,1.58,2,5.141,2,2.908,2,0.496,2,6.643,2,2133.1,2,2272.0,2,-999.0,9,-999.00,1,20050917,454,-57.2882,-102.9828
316N20050821,AAIW,74,1,19,19,2,20050917,304,-57.2894,-102.9805,203.2,3.8596,34.0178,2,34.0188,2,308.7,2,308.4,2,6.98,2,23.05,2,0.07,2,1.59,2,5.153,2,2.900,2,0.487,2,6.690,2,2132.5,2,2270.7,2,-999.0,9,-999.00,1,20050917,452,-57.2878,-102.9833
316N20050821,AAIW,74,1,18,18,2,20050917,304,-57.2894,-102.9805,284.9,3.6781,34.0197,2,34.0211,2,302.1,2,301.0,2,8.76,2,24.19,2,0.02,2,1.67,2,5.115,2,2.936,2,0.489,2,6.523,2,2142.5,2,2274.0,2,-999.0,9,-999.00,1,20050917,448,-57.2872,-102.9834
316N20050821,AAIW,74,1,17,17,2,20050917,304,-57.2894,-102.9805,323.2,3.8993,34.0683,2,34.0686,2,284.2,2,284.0,2,11.55,2,25.30,2,0.01,2,1.74,2,4.718,2,2.697,2,0.427,2,5.717,2,2147.5,2,2274.8,2,-999.0,9,-999.00,1,20050917,446,-57.2869,-102.9837
316N20050821,AAIW,74,1,16,16,2,20050917,304,-57.2894,-102.9805,381.7,3.5413,34.0565,2,34.0553,2,285.3,2,286.0,2,12.94,2,26.02,2,0.01,2,1.78,2,4.824,2,2.761,2,0.428,2,5.915,2,2151.5,2,2276.5,2,-999.0,9,-999.00,1,20050917,442,-57.2863,-102.9844
316N20050821,AAIW,74,1,15,15,2,20050917,304,-57.2894,-102.9805,421.7,3.2305,34.0311,2,34.0326,2,286.8,2,291.6,2,13.32,2,26.06,2,0.01,2,1.80,2,4.992,2,2.803,2,0.466,2,5.995,2,2151.4,2,2275.3,2,-999.0,9,-999.00,1,20050917,440,-57.2859,-102.9850
316N20050821,AAIW,74,1,14,14,2,20050917,304,-57.2894,-102.9805,482.6,3.2220,34.0753,2,34.0758,2,281.0,2,276.8,2,17.50,2,27.51,2,0.00,2,1.89,2,4.599,2,2.603,2,0.422,2,5.418,2,2163.8,2,2279.7,2,-999.0,9,-999.00,1,20050917,437,-57.2855,-102.9855
316N20050821,AAIW,74,1,13,13,2,20050917,304,-57.2894,-102.9805,582.0,3.7867,34.2443,2,34.2435,2,227.4,2,225.1,2,28.48,2,30.20,2,0.00,2,2.07,2,3.021,2,1.590,2,0.230,2,3.300,2,2191.4,2,2288.8,2,-999.0,9,-999.00,1,20050917,433,-57.2850,-102.9863
316N20050821,AAIW,74,1,12,12,2,20050917,304,-57.2894,-102.9805,684.1,3.4181,34.2835,2,34.2870,2,212.8,2,213.1,2,36.07,2,31.55,2,0.00,2,2.16,2,2.473,2,1.289,2,0.186,2,2.764,2,2205.8,2,2295.4,2,-999.0,9,-999.00,1,20050917,429,-57.2845,-102.9867
316N20050821,AAIW,74,1,11,11,2,20050917,304,-57.2894,-102.9805,782.3,3.1459,34.3266,2,34.3246,2,202.9,2,203.2,2,43.47,2,32.70,2,0.00,2,2.23,2,2.025,6,1.072,6,0.159,6,2.358,6,2218.1,2,2302.7,2,-999.0,9,-999.00,1,20050917,425,-57.2840,-102.9884
316N20050821,AAIW,74,1,10,10,2,20050917,304,-57.2894,-102.9805,980.4,2.7712,34.4395,2,34.4398,2,182.4,2,182.0,2,58.91,2,33.86,2,0.00,2,2.32,2,1.114,2,0.598,2,0.074,2,1.387,2,2240.7,2,2317.8,2,-999.0,9,-999.00,1,20050917,419,-57.2834,-102.9894
316N20050821,AAIW,74,1,9,9,2,20050917,304,-57.2894,-102.9805,1076.7,2.6467,34.4855,2,34.4864,2,177.9,2,177.9,2,64.54,2,34.14,2,0.00,2,2.32,2,0.864,2,0.468,2,0.054,2,1.061,2,2246.1,2,2324.8,2,-999.0,9,-999.00,1,20050917,415,-57.2832,-102.9904
316N20050821,AAIW,74,1,8,8,2,20050917,304,-57.2894,-102.9805,1250.2,2.4640,34.5564,2,34.5576,2,173.3,2,172.8,2,71.97,2,33.89,2,0.00,2,2.32,2,0.609,2,0.316,2,0.035,2,0.764,2,2254.7,2,2331.6,2,-999.0,9,-999.00,1,20050917,410,-57.2825,-102.9913
316N20050821,AAIW,74,1,7,7,2,20050917,304,-57.2894,-102.9805,1431.1,2.3584,34.6165,2,34.6178,2,172.5,2,172.2,2,77.20,2,33.16,2,0.00,2,2.29,2,0.405,2,0.189,2,0.000,2,0.499,2,2257.6,2,2338.2,2,-999.0,9,-999.00,1,20050917,405,-57.2820,-102.9920
316N20050821,AAIW,74,1,6,6,2,20050917,304,-57.2894,-102.9805,1954.4,2.0432,34.7120,2,34.7135,2,181.5,2,181.1,2,86.27,2,31.64,2,0.00,2,2.18,2,0.164,2,0.089,2,0.000,2,0.163,2,2258.6,2,2346.9,2,-999.0,9,-999.00,1,20050917,356,-57.2806,-102.9899
316N20050821,AAIW,74,1,5,5,2,20050917,304,-57.2894,-102.9805,2457.3,1.6158,34.7269,2,34.7289,3,190.0,2,189.4,2,100.44,2,31.45,2,0.00,2,2.17,2,0.089,2,0.050,2,0.000,2,0.068,2,2263.2,2,2358.5,2,-999.0,9,-999.00,1,20050917,346,-57.2800,-102.9904
316N20050821,AAIW,74,1,4,4,2,20050917,304,-57.2894,-102.9805,2962.4,1.3327,34.7227,2,34.7223,2,195.3,2,194.8,2,109.56,2,31.73,2,0.00,2,2.19,2,0.081,2,0.052,2,0.000,2,0.081,2,2266.1,2,2360.4,2,-999.0,9,-999.00,1,20050917,336,-57.2788,-102.9913
316N20050821,AAIW,74,1,3,3,2,20050917,304,-57.2894,-102.9805,3471.1,1.0427,34.7167,2,34.7189,3,201.5,2,201.6,2,117.89,2,31.97,2,0.00,2,2.19,2,0.124,2,0.069,2,0.000,2,0.162,2,2265.3,2,2359.5,2,-999.0,9,-999.00,1,20050917,326,-57.2777,-102.9921
316N20050821,AAIW,74,1,2,2,2,20050917,304,-57.2894,-102.9805,3977.5,0.7054,34.7091,2,34.7094,2,-999.0,9,-999.0,5,129.31,2,32.35,2,0.00,2,2.21,2,0.158,2,0.078,2,0.000,2,0.246,2,2268.5,2,2362.4,2,-999.0,9,-999.00,1,20050917,316,-57.2773,-102.9921
316N20050821,AAIW,74,1,1,1,2,20050917,304,-57.2894,-102.9805,4508.4,0.5232,34.7050,2,34.7049,2,212.2,2,211.9,2,134.40,2,32.40,2,0.00,2,2.23,2,0.226,2,0.120,2,0.000,2,0.409,2,2266.4,6,2360.3,2,-999.0,9,-999.00,1,20050917,304,-57.2769,-102.9920
316N20050821,AAIW,75,2,24,24,4,20050917,1459,-57.8496,-103.0040,7.9,3.7507,34.0124,2,34.0123,2,308.1,2,309.2,2,7.61,2,23.35,2,0.07,2,1.61,2,4.997,2,2.860,2,0.474,2,6.222,2,2131.7,6,2272.8,2,-999.0,9,-999.00,1,20050917,1657,-57.8496,-103.0040
316N20050821,AAIW,75,2,23,23,4,20050917,1459,-57.8496,-103.0040,47.7,3.7511,34.0126,2,34.0125,2,308.4,2,309.2,2,7.61,2,23.31,2,0.07,2,1.62,2,5.045,2,2.846,2,0.479,2,6.235,2,2130.7,2,2272.3,2,-999.0,9,-999.00,1,20050917,1655,-57.8494,-103.0037
316N20050821,AAIW,75,2,22,22,4,20050917,1459,-57.8496,-103.0040,96.8,3.7508,34.0124,2,34.0129,2,308.7,2,309.3,2,7.42,2,23.35,2,0.07,2,1.60,2,4.999,2,2.820,2,0.474,2,6.284,2,2130.4,2,2272.8,2,-999.0,9,-999.00,1,20050917,1653,-57.8493,-103.0034
316N20050821,AAIW,75,2,21,21,4,20050917,1459,-57.8496,-103.0040,146.1,3.7529,34.0120,2,34.0117,2,308.7,2,309.0,2,7.43,2,23.31,2,0.07,2,1.61,2,5.002,2,2.854,2,0.470,2,6.290,2,2131.1,2,2271.9,2,-999.0,9,-999.00,1,20050917,1651,-57.8492,-103.0033
316N20050821,AAIW,75,2,20,20,2,20050917,1459,-57.8496,-103.0040,227.0,3.1729,34.0061,2,34.0058,2,300.4,2,300.2,2,11.44,2,25.57,2,0.01,2,1.75,2,4.993,2,2.748,2,0.469,2,6.095,2,2143.8,2,2275.5,2,-999.0,9,-999.00,1,20050917,1646,-57.8490,-103.0030
316N20050821,AAIW,75,2,19,19,2,20050917,1459,-57.8496,-103.0040,277.2,3.2712,34.0513,2,34.0543,2,284.0,2,283.9,2,15.26,2,26.78,2,0.01,2,1.84,2,4.678,2,2.568,2,0.423,2,5.318,2,2154.8,2,2277.3,2,-999.0,9,-999.00,1,20050917,1643,-57.8488,-103.0029
316N20050821,AAIW,75,2,18,18,2,20050917,1459,-57.8496,-103.0040,336.9,3.3395,34.1104,2,34.1107,2,263.3,2,264.8,2,19.89,2,28.32,2,0.00,2,1.93,2,4.214,2,2.325,2,0.358,2,4.638,2,2166.9,2,2282.0,2,-999.0,9,-999.00,1,20050917,1640,-57.8488,-103.0030
316N20050821,AAIW,75,2,17,17,2,20050917,1459,-57.8496,-103.0040,385.9,3.4788,34.1767,2,34.1765,2,244.3,2,243.7,2,25.12,2,29.62,2,0.00,2,2.01,2,3.578,2,1.993,2,0.302,2,3.794,2,2180.3,2,2285.2,2,-999.0,9,-999.00,1,20050917,1638,-57.8487,-103.0030
316N20050821,AAIW,75,2,16,16,2,20050917,1459,-57.8496,-103.0040,485.3,3.2251,34.2250,2,34.2240,2,228.7,2,229.8,2,31.97,2,31.17,2,0.00,2,2.12,2,3.152,2,1.604,2,0.228,2,3.256,2,2192.6,2,2292.3,2,-999.0,9,-999.00,1,20050917,1634,-57.8488,-103.0028
316N20050821,AAIW,75,2,15,15,2,20050917,1459,-57.8496,-103.0040,584.0,2.9893,34.2844,2,34.2847,2,212.4,2,213.7,2,40.24,2,32.58,2,0.00,2,2.20,2,2.421,2,1.287,2,0.208,2,2.757,2,2208.0,2,2299.3,2,-999.0,9,-999.00,1,20050917,1630,-57.8487,-103.0031
316N20050821,AAIW,75,2,14,14,2,20050917,1459,-57.8496,-103.0040,683.0,2.9053,34.3510,2,34.3492,2,197.4,2,197.4,2,48.72,2,33.39,2,0.00,2,2.28,2,1.735,2,0.932,2,0.128,2,2.140,2,2221.4,2,2308.2,2,-999.0,9,-999.00,1,20050917,1627,-57.8485,-103.0032
316N20050821,AAIW,75,2,13,13,2,20050917,1459,-57.8496,-103.0040,783.3,2.7332,34.4073,2,34.4069,2,186.7,2,187.0,2,56.21,2,34.03,2,0.00,2,2.33,2,1.331,2,0.686,2,0.083,2,1.646,2,2233.1,2,2314.1,2,-999.0,9,-999.00,1,20050917,1624,-57.8482,-103.0033
316N20050821,AAIW,75,2,12,12,2,20050917,1459,-57.8496,-103.0040,886.3,2.6161,34.4652,2,34.4636,2,180.1,2,180.0,2,62.48,2,34.27,2,0.00,2,2.34,2,0.987,2,0.507,2,0.053,2,1.344,2,2242.2,2,2321.9,2,-999.0,9,-999.00,1,20050917,1621,-57.8479,-103.0031
316N20050821,AAIW,75,2,11,11,2,20050917,1459,-57.8496,-103.0040,986.9,2.5478,34.5156,2,34.5140,2,175.7,2,174.9,2,67.35,2,34.17,2,0.00,2,2.33,2,0.726,2,0.357,2,0.041,2,1.021,2,2248.1,2,2328.8,2,-999.0,9,-999.00,1,20050917,1618,-57.8477,-103.0030
316N20050821,AAIW,75,2,10,10,2,20050917,1459,-57.8496,-103.0040,1087.3,2.4385,34.5529,2,34.5513,2,173.9,2,173.3,2,71.60,2,33.99,2,0.00,2,2.33,2,0.623,2,0.328,2,0.035,2,0.857,2,2251.9,2,2332.2,2,-999.0,9,-999.00,1,20050917,1615,-57.8475,-103.0030
316N20050821,AAIW,75,2,9,9,2,20050917,1459,-57.8496,-103.0040,1288.0,2.3356,34.6242,2,34.6230,2,172.7,2,172.0,2,77.89,2,33.25,2,0.00,2,2.29,2,0.346,2,0.155,2,0.019,2,0.518,2,2257.2,2,2340.1,2,-999.0,9,-999.00,1,20050917,1611,-57.8475,-103.0035
316N20050821,AAIW,75,2,8,8,2,20050917,1459,-57.8496,-103.0040,1488.2,2.2121,34.6730,2,34.6727,2,175.7,2,174.8,2,82.17,2,32.62,2,0.00,2,2.22,2,0.219,2,0.114,2,0.003,2,0.321,2,2258.0,2,2345.5,2,-999.0,9,-999.00,1,20050917,1606,-57.8475,-103.0037
316N20050821,AAIW,75,2,7,7,2,20050917,1459,-57.8496,-103.0040,1789.3,2.0300,34.7132,2,34.7168,2,182.2,2,182.0,2,86.23,2,31.66,2,0.00,2,2.18,2,0.172,2,0.086,2,0.003,2,0.248,2,2255.5,2,2350.4,2,-999.0,9,-999.00,1,20050917,1601,-57.8474,-103.0037
316N20050821,AAIW,75,2,6,6,2,20050917,1459,-57.8496,-103.0040,2190.7,1.7039,34.7267,2,34.7261,2,188.8,2,187.8,2,97.24,2,31.51,2,0.00,2,2.17,2,0.092,2,0.043,2,0.003,2,0.125,2,2260.4,2,2356.8,2,-999.0,9,-999.00,1,20050917,1553,-57.8474,-103.0045
316N20050821,AAIW,75,2,5,5,2,20050917,1459,-57.8496,-103.0040,2695.6,1.3984,34.7246,2,34.7233,2,194.5,2,193.6,2,106.85,2,31.61,2,0.00,2,2.16,2,0.072,2,0.044,2,0.003,2,0.098,2,2263.1,2,2360.9,2,-999.0,9,-999.00,1,20050917,1543,-57.8469,-103.0032
316N20050821,AAIW,75,2,4,4,2,20050917,1459,-57.8496,-103.0040,3202.3,1.1225,34.7192,2,34.7190,2,200.3,2,200.1,2,115.04,2,31.67,2,0.00,2,2.18,2,0.101,2,0.058,2,0.003,2,0.184,2,2261.2,2,2361.3,2,-999.0,9,-999.00,1,20050917,1533,-57.8471,-103.0025
316N20050821,AAIW,75,2,3,3,2,20050917,1459,-57.8496,-103.0040,3706.3,0.8104,34.7109,2,34.7092,2,205.7,2,205.8,2,124.68,2,32.10,2,0.00,2,2.20,2,0.142,2,0.082,2,0.003,2,0.256,2,2262.0,2,2359.0,2,-999.0,9,-999.00,1,20050917,1522,-57.8473,-103.0024
316N20050821,AAIW,75,2,2,2,2,20050917,1459,-57.8496,-103.0040,4214.6,0.5885,34.7065,2,34.7052,2,209.5,2,210.3,2,131.88,2,32.34,2,0.00,2,2.21,2,0.195,2,0.088,2,0.003,2,0.389,2,2263.7,2,2359.5,2,-999.0,9,-999.00,1,20050917,1511,-57.8471,-103.0026
316N20050821,AAIW,75,2,1,1,2,20050917,1459,-57.8496,-103.0040,4724.4,0.5378,34.7048,2,34.7041,2,212.9,2,212.2,2,134.56,2,32.39,2,0.00,2,2.22,2,0.223,2,0.110,2,0.003,2,0.537,2,2263.8,6,2360.1,2,-999.0,9,-999.00,1,20050917,1459,-57.8471,-103.0026