BOTTLE,20220819CCHSIOAMB
EXPOCODE,SECT_ID,STNNBR,CASTNO,SAMPNO,BTLNBR,BTLNBR_FLAG_W,DATE,TIME,LATITUDE,LONGITUDE,CTDPRS,CTDTMP,CTDSAL,CTDSAL_FLAG_W,SALNTY,SALNTY_FLAG_W,CTDOXY,CTDOXY_FLAG_W,OXYGEN,OXYGEN_FLAG_W,SILCAT,SILCAT_FLAG_W,NITRAT,NITRAT_FLAG_W,NITRIT,NITRIT_FLAG_W,PHSPHT,PHSPHT_FLAG_W,CFC-11,CFC-11_FLAG_W,CFC-12,CFC-12_FLAG_W,CFC113,CFC113_FLAG_W,CCL4,CCL4_FLAG_W,TCARBN,TCARBN_FLAG_W,ALKALI,ALKALI_FLAG_W,PCO2,PCO2_FLAG_W,PH_SWS,PH_SWS_FLAG_W,BTL_DATE,BTL_TIME,BTL_LAT,BTL_LON
,,,,,,,,,,,DBAR,ITS-90,PSS-78,,PSS-78,,UMOL/KG,,UMOL/KG,,UMOL/KG,,UMOL/KG,,UMOL/KG,,UMOL/KG,,PMOL/KG,,PMOL/KG,,PMOL/KG,,PMOL/KG,,UMOL/KG,,UMOL/KG,,UATM,,,,,,,
316N20050821,AAIW,125,1,24,24,2,20051003,346,-46.7561,-83.1260,6.2,7.2033,33.9593,2,33.9635,2,296.7,2,297.4,2,1.26,2,16.32,2,0.17,2,1.24,2,4.351,2,2.458,2,0.407,2,5.697,2,2088.4,2,2258.1,2,-999.0,9,-999.00,9,20051003,516,-46.7561,-83.1260
316N20050821,AAIW,125,1,23,23,2,20051003,346,-46.7561,-83.1260,26.5,7.2030,33.9596,2,33.9588,2,297.4,2,297.5,2,1.04,2,16.32,2,0.16,2,1.24,2,4.357,2,2.470,2,0.397,2,5.775,2,2089.4,2,2257.3,2,-999.0,9,-999.00,9,20051003,514,-46.7564,-83.1258
316N20050821,AAIW,125,1,22,22,2,20051003,346,-46.7561,-83.1260,65.5,7.1615,33.9599,2,33.9598,2,296.0,2,296.9,2,1.02,2,16.33,2,0.16,2,1.23,2,4.353,2,2.453,2,0.398,2,5.644,2,2090.6,2,2257.7,2,-999.0,9,-999.00,9,20051003,512,-46.7569,-83.1256
316N20050821,AAIW,125,1,21,21,2,20051003,346,-46.7561,-83.1260,105.5,6.8490,33.9791,2,33.9833,2,294.1,2,295.5,2,1.19,2,16.56,2,0.18,2,1.26,2,4.366,2,2.473,2,0.389,2,5.524,2,2093.5,2,2259.5,2,-999.0,9,-999.00,9,20051003,510,-46.7574,-83.1253
316N20050821,AAIW,125,1,20,20,2,20051003,346,-46.7561,-83.1260,155.2,6.2736,34.1188,2,34.1213,2,269.2,2,269.6,2,3.89,2,20.88,2,0.01,2,1.51,2,4.419,2,2.437,2,0.384,2,4.551,2,2124.5,2,2264.3,2,-999.0,9,-999.00,9,20051003,508,-46.7576,-83.1251
316N20050821,AAIW,125,1,19,19,2,20051003,346,-46.7561,-83.1260,205.7,5.9527,34.2228,2,34.2250,2,257.8,2,257.6,2,6.41,2,23.03,2,0.00,2,1.62,2,4.333,2,2.342,2,0.346,2,4.131,2,2139.4,2,2270.6,2,-999.0,9,-999.00,9,20051003,506,-46.7578,-83.1250
316N20050821,AAIW,125,1,18,18,2,20051003,346,-46.7561,-83.1260,255.7,5.8036,34.2417,2,34.2424,2,266.9,2,267.4,2,6.97,2,22.53,2,0.00,2,1.58,2,4.369,2,2.332,2,0.343,2,4.280,2,2135.8,2,2273.7,2,-999.0,9,-999.00,9,20051003,504,-46.7580,-83.1252
316N20050821,AAIW,125,1,17,17,2,20051003,346,-46.7561,-83.1260,304.9,5.6759,34.2382,2,34.2393,2,268.0,2,268.6,2,7.34,2,22.81,2,0.00,2,1.59,2,4.355,2,2.299,2,0.338,2,4.319,2,2136.1,2,2274.6,2,-999.0,9,-999.00,9,20051003,502,-46.7581,-83.1252
316N20050821,AAIW,125,1,16,16,2,20051003,346,-46.7561,-83.1260,404.7,5.4251,34.2236,2,34.2244,2,269.8,2,270.0,2,8.29,2,23.29,2,0.00,2,1.62,2,4.319,2,2.297,2,0.337,2,4.355,2,2140.0,2,2275.0,2,-999.0,9,-999.00,9,20051003,459,-46.7583,-83.1255
316N20050821,AAIW,125,1,15,15,2,20051003,346,-46.7561,-83.1260,503.7,5.2067,34.2162,2,34.2168,2,267.3,2,266.7,2,9.44,2,24.18,2,0.00,2,1.68,2,4.162,2,2.204,2,0.317,2,4.256,2,2143.2,2,2276.1,2,-999.0,9,-999.00,9,20051003,456,-46.7585,-83.1260
316N20050821,AAIW,125,1,14,14,2,20051003,346,-46.7561,-83.1260,603.0,4.9148,34.2150,2,34.2162,2,255.8,2,255.6,2,12.34,2,25.92,2,0.00,2,1.79,2,3.767,2,1.961,2,0.267,2,3.948,2,2152.2,2,2277.5,2,-999.0,9,-999.00,9,20051003,454,-46.7586,-83.1265
316N20050821,AAIW,125,1,13,13,2,20051003,346,-46.7561,-83.1260,702.3,4.6407,34.2362,2,34.2375,2,236.4,2,236.6,2,17.79,2,28.04,2,0.00,2,1.95,2,2.945,2,1.510,2,0.194,2,3.305,2,2173.0,2,2282.6,2,-999.0,9,-999.00,9,20051003,451,-46.7588,-83.1269
316N20050821,AAIW,125,1,12,12,2,20051003,346,-46.7561,-83.1260,801.0,4.3006,34.2683,2,34.2679,2,217.9,2,218.5,2,24.99,2,29.97,2,0.00,2,2.09,2,2.117,2,1.073,2,0.131,2,2.657,2,2182.9,2,2289.0,2,-999.0,9,-999.00,9,20051003,448,-46.7589,-83.1271
316N20050821,AAIW,125,1,11,11,2,20051003,346,-46.7561,-83.1260,899.8,3.8469,34.3082,2,34.3082,2,202.2,2,202.3,2,34.18,2,32.02,2,0.00,2,2.23,2,1.359,2,0.677,2,0.070,2,2.026,2,2200.6,2,2297.0,2,-999.0,9,-999.00,9,20051003,445,-46.7590,-83.1275
316N20050821,AAIW,125,1,10,10,2,20051003,346,-46.7561,-83.1260,999.2,3.4973,34.3441,2,34.3433,2,-999.0,9,-999.0,5,42.39,2,32.98,2,0.00,2,2.32,2,0.958,2,0.480,2,0.053,2,1.604,2,2214.9,2,2304.6,2,-999.0,9,-999.00,9,20051003,442,-46.7592,-83.1281
316N20050821,AAIW,125,1,9,9,2,20051003,346,-46.7561,-83.1260,1199.5,3.0726,34.4430,2,34.4436,2,-999.0,9,-999.0,5,61.64,2,35.80,2,0.00,2,2.50,2,0.232,2,0.115,2,0.010,2,0.573,2,2251.3,2,2324.6,2,-999.0,9,-999.00,9,20051003,437,-46.7594,-83.1289
316N20050821,AAIW,125,1,8,8,2,20051003,346,-46.7561,-83.1260,1451.5,2.7685,34.5405,2,34.5408,2,138.0,2,138.5,2,81.76,2,37.05,2,0.00,2,2.59,2,0.029,2,0.017,2,0.002,2,0.119,2,2278.0,2,2348.7,2,-999.0,9,-999.00,9,20051003,432,-46.7592,-83.1302
316N20050821,AAIW,125,1,7,7,2,20051003,346,-46.7561,-83.1260,1754.4,2.4407,34.6028,2,34.6024,2,138.3,2,138.4,2,97.41,2,36.45,2,0.00,2,2.57,2,0.002,2,0.003,2,0.000,2,0.038,2,2294.5,2,2366.0,2,-999.0,9,-999.00,9,20051003,425,-46.7594,-83.1317
316N20050821,AAIW,125,1,6,6,2,20051003,346,-46.7561,-83.1260,2007.0,2.2099,34.6340,2,34.6348,2,143.4,2,142.9,2,105.55,2,35.79,2,0.00,2,2.56,2,-0.003,2,-0.001,2,0.000,2,0.002,2,2298.8,2,2376.6,2,-999.0,9,-999.00,9,20051003,420,-46.7600,-83.1318
316N20050821,AAIW,125,1,5,5,2,20051003,346,-46.7561,-83.1260,2359.9,1.9856,34.6636,2,34.6639,2,152.0,2,151.6,2,111.98,2,35.25,2,0.00,2,2.49,2,-0.001,2,0.000,2,0.000,2,0.005,2,2299.0,2,2383.0,2,-999.0,9,-999.00,9,20051003,413,-46.7601,-83.1321
316N20050821,AAIW,125,1,4,4,2,20051003,346,-46.7561,-83.1260,2762.8,1.8367,34.6820,2,34.6822,2,158.3,2,158.0,2,115.87,2,34.68,2,0.00,2,2.46,2,0.000,2,0.002,2,0.001,2,0.006,2,2299.6,2,2387.5,2,-999.0,9,-999.00,9,20051003,405,-46.7602,-83.1320
316N20050821,AAIW,125,1,3,3,2,20051003,346,-46.7561,-83.1260,3014.7,1.7671,34.6894,2,34.6895,2,163.0,2,162.9,2,116.24,2,34.35,2,0.00,2,2.43,2,0.000,6,0.002,6,0.001,6,0.010,6,2294.4,2,2386.1,2,-999.0,9,-999.00,9,20051003,359,-46.7603,-83.1320
316N20050821,AAIW,125,1,2,2,2,20051003,346,-46.7561,-83.1260,3267.1,1.5676,34.6988,2,34.6979,2,173.7,2,173.4,2,118.42,2,33.79,2,0.00,2,2.39,2,0.001,2,0.002,2,0.000,2,0.033,2,2288.6,2,2383.9,2,-999.0,9,-999.00,9,20051003,354,-46.7603,-83.1325
316N20050821,AAIW,125,1,1,1,2,20051003,346,-46.7561,-83.1260,3681.7,1.1829,34.7095,2,34.7095,2,190.6,2,189.7,2,122.60,2,33.00,2,0.00,2,2.31,2,0.004,2,0.004,2,0.000,2,0.114,2,2279.5,6,2377.1,2,-999.0,9,-999.00,9,20051003,346,-46.7606,-83.1325
316N20050821,AAIW,126,1,24,24,2,20051003,1305,-46.4061,-81.4803,4.7,7.9054,33.9229,2,33.9234,2,291.8,2,292.6,2,1.61,2,15.23,2,0.17,2,1.20,2,4.200,2,2.358,2,0.372,2,5.461,2,2081.6,6,2255.3,2,-999.0,9,-999.00,9,20051003,1438,-46.4061,-81.4803
316N20050821,AAIW,126,1,23,30,2,20051003,1305,-46.4061,-81.4803,50.6,7.6732,33.9263,2,33.9285,2,292.7,2,294.0,2,1.69,2,15.46,2,0.18,2,1.21,2,4.259,2,2.396,2,0.379,2,5.608,2,2085.4,2,2255.7,2,-999.0,9,-999.00,9,20051003,1437,-46.4061,-81.4804
316N20050821,AAIW,126,1,22,22,2,20051003,1305,-46.4061,-81.4803,94.5,7.6325,33.9276,2,33.9285,2,292.5,2,293.2,2,1.77,2,15.54,2,0.19,2,1.21,2,4.259,2,2.393,2,0.378,2,5.525,2,2086.5,2,2255.8,2,-999.0,9,-999.00,9,20051003,1434,-46.4061,-81.4806
316N20050821,AAIW,126,1,21,29,2,20051003,1305,-46.4061,-81.4803,155.2,6.8990,34.0594,2,34.0607,2,261.7,2,262.4,2,4.01,2,20.21,2,0.06,2,1.50,2,4.280,2,2.330,2,0.359,2,4.293,2,2120.9,2,2261.6,2,-999.0,9,-999.00,9,20051003,1432,-46.4060,-81.4808
316N20050821,AAIW,126,1,20,20,2,20051003,1305,-46.4061,-81.4803,195.2,6.4900,34.1715,2,34.1713,2,236.7,2,236.6,2,6.85,2,23.69,2,0.00,2,1.71,2,4.198,2,2.229,2,0.336,2,3.760,2,2147.8,2,2266.8,2,-999.0,9,-999.00,9,20051003,1430,-46.4060,-81.4808
316N20050821,AAIW,126,1,19,28,2,20051003,1305,-46.4061,-81.4803,245.4,6.0046,34.2119,2,34.2122,2,257.5,2,259.7,2,7.33,2,22.84,2,0.00,2,1.63,2,4.413,2,2.311,2,0.347,2,4.341,2,2140.2,2,2271.1,2,-999.0,9,-999.00,9,20051003,1428,-46.4060,-81.4809
316N20050821,AAIW,126,1,18,18,2,20051003,1305,-46.4061,-81.4803,344.3,5.6988,34.2369,2,34.2383,2,266.3,2,265.2,2,8.58,2,23.03,2,0.00,2,1.63,2,4.360,2,2.283,2,0.332,2,4.349,2,2140.9,2,2273.9,2,-999.0,9,-999.00,9,20051003,1425,-46.4059,-81.4810
316N20050821,AAIW,126,1,17,17,2,20051003,1305,-46.4061,-81.4803,414.2,5.4833,34.2304,2,34.2313,2,269.3,2,268.4,2,9.45,2,23.33,2,0.00,2,1.65,2,4.266,2,2.225,2,0.310,2,4.302,2,2141.6,2,2275.5,2,-999.0,9,-999.00,9,20051003,1422,-46.4058,-81.4810
316N20050821,AAIW,126,1,16,16,2,20051003,1305,-46.4061,-81.4803,484.8,5.3091,34.2233,2,34.2240,2,267.4,2,266.4,2,10.32,2,24.04,2,0.00,2,1.69,2,4.192,2,2.172,2,0.307,2,4.285,2,2143.6,2,2276.1,2,-999.0,9,-999.00,9,20051003,1420,-46.4057,-81.4811
316N20050821,AAIW,126,1,15,15,2,20051003,1305,-46.4061,-81.4803,554.0,5.1404,34.2190,2,34.2207,2,263.5,2,262.5,2,11.57,2,24.71,2,0.00,2,1.73,2,4.043,2,2.093,2,0.291,2,4.163,2,2148.9,2,2276.2,2,-999.0,9,-999.00,9,20051003,1417,-46.4057,-81.4812
316N20050821,AAIW,126,1,14,14,2,20051003,1305,-46.4061,-81.4803,623.2,4.9534,34.2200,2,34.2219,2,255.0,2,254.2,2,13.82,2,26.02,2,0.00,2,1.81,2,3.687,2,1.876,2,0.260,2,3.920,2,2157.2,2,2278.7,2,-999.0,9,-999.00,9,20051003,1415,-46.4056,-81.4813
316N20050821,AAIW,126,1,13,13,2,20051003,1305,-46.4061,-81.4803,694.4,4.7412,34.2308,2,34.2328,2,240.9,2,241.2,2,17.46,2,27.64,2,0.00,2,1.93,2,3.121,2,1.580,2,0.207,2,3.495,2,2166.1,2,2281.7,2,-999.0,9,-999.00,9,20051003,1412,-46.4056,-81.4813
316N20050821,AAIW,126,1,12,12,2,20051003,1305,-46.4061,-81.4803,794.2,4.4059,34.2588,2,34.2593,2,221.0,2,221.7,2,24.25,2,29.81,2,0.00,2,2.08,2,2.250,2,1.116,2,0.138,2,2.780,2,2183.8,2,2287.3,2,-999.0,9,-999.00,9,20051003,1409,-46.4056,-81.4815
316N20050821,AAIW,126,1,11,11,2,20051003,1305,-46.4061,-81.4803,893.4,3.9737,34.2994,2,34.3001,2,203.5,2,203.1,2,33.83,2,31.93,2,0.00,2,2.24,2,1.349,6,0.665,6,0.066,6,2.016,6,2201.8,2,2295.4,2,-999.0,9,-999.00,9,20051003,1406,-46.4057,-81.4817
316N20050821,AAIW,126,1,10,10,2,20051003,1305,-46.4061,-81.4803,993.6,3.6488,34.3321,2,34.3333,2,191.5,2,191.9,2,41.25,2,33.29,2,0.00,2,2.33,2,0.911,2,0.451,2,0.042,2,1.548,2,2214.1,2,2302.6,2,-999.0,9,-999.00,9,20051003,1403,-46.4055,-81.4817
316N20050821,AAIW,126,1,9,9,2,20051003,1305,-46.4061,-81.4803,1191.7,3.1270,34.4321,2,34.4320,2,160.0,2,161.3,2,61.20,2,36.01,2,0.00,2,2.52,2,0.246,2,0.119,2,0.010,2,0.617,2,2253.4,2,2322.9,2,-999.0,9,-999.00,9,20051003,1358,-46.4052,-81.4821
316N20050821,AAIW,126,1,8,8,2,20051003,1305,-46.4061,-81.4803,1392.5,2.8806,34.5190,2,34.5195,2,138.3,2,138.4,2,79.46,2,37.43,2,0.00,2,2.64,2,0.035,2,0.017,2,0.001,2,0.131,2,2279.4,2,2344.4,2,-999.0,9,-999.00,9,20051003,1354,-46.4048,-81.4824
316N20050821,AAIW,126,1,7,7,2,20051003,1305,-46.4061,-81.4803,1592.7,2.6518,34.5715,2,34.5724,2,133.4,2,133.3,2,92.57,2,37.59,2,0.00,2,2.68,2,0.005,2,0.005,2,0.001,2,0.032,2,2295.0,2,2360.3,2,-999.0,9,-999.00,9,20051003,1349,-46.4045,-81.4827
316N20050821,AAIW,126,1,6,6,2,20051003,1305,-46.4061,-81.4803,1804.1,2.4470,34.6036,2,34.6038,2,136.4,2,136.0,2,100.89,2,37.25,2,0.00,2,2.66,2,-0.001,2,0.004,2,0.001,2,0.012,2,2299.6,2,2370.0,2,-999.0,9,-999.00,9,20051003,1344,-46.4042,-81.4830
316N20050821,AAIW,126,1,5,27,2,20051003,1305,-46.4061,-81.4803,2056.1,2.2157,34.6332,2,34.6335,2,142.7,2,142.6,2,108.64,2,36.63,2,0.00,2,2.60,2,-0.002,2,0.002,2,0.001,2,0.006,2,2303.7,2,2378.9,2,-999.0,9,-999.00,9,20051003,1338,-46.4038,-81.4834
316N20050821,AAIW,126,1,4,4,2,20051003,1305,-46.4061,-81.4803,2458.7,1.9475,34.6661,2,34.6653,2,151.5,2,151.1,2,116.59,2,35.56,2,0.00,2,2.54,2,-0.002,2,0.002,2,0.001,2,0.005,2,2308.6,2,2388.4,2,-999.0,9,-999.00,9,20051003,1329,-46.4034,-81.4838
316N20050821,AAIW,126,1,3,26,2,20051003,1305,-46.4061,-81.4803,2860.2,1.8187,34.6806,2,34.6808,2,156.6,2,156.0,2,120.92,2,35.51,2,0.00,2,2.51,2,-0.001,2,0.000,2,0.000,2,0.009,2,2310.7,2,2392.7,2,-999.0,9,-999.00,9,20051003,1321,-46.4029,-81.4840
316N20050821,AAIW,126,1,2,2,2,20051003,1305,-46.4061,-81.4803,3264.0,1.6571,34.6929,2,34.6930,2,167.7,2,167.4,2,121.20,2,34.65,2,0.00,2,2.45,2,0.000,2,0.002,2,-0.001,2,0.033,2,2297.2,2,2388.5,2,-999.0,9,-999.00,9,20051003,1313,-46.4023,-81.4843
316N20050821,AAIW,126,1,1,25,2,20051003,1305,-46.4061,-81.4803,3676.9,1.3151,34.7061,2,34.7062,2,185.2,2,184.6,2,124.13,2,33.73,2,0.00,2,2.38,2,0.010,2,0.010,2,0.001,2,0.099,2,2286.2,2,2390.8,2,-999.0,9,-999.00,9,20051003,1305,-46.4018,-81.4846
316N20050821,AAIW,127,1,24,24,2,20051003,2223,-46.0581,-79.8559,5.6,8.7670,33.4515,2,33.4520,2,289.1,2,289.5,2,0.98,2,11.32,2,0.25,2,1.12,2,3.970,2,2.270,2,0.364,2,4.901,2,2047.8,2,2224.7,2,-999.0,9,-999.00,9,20051003,2354,-46.0581,-79.8559
316N20050821,AAIW,127,1,23,30,2,20051003,2223,-46.0581,-79.8559,32.2,8.7537,33.6533,2,33.6540,2,266.3,2,265.9,2,1.58,2,14.15,2,0.10,2,1.23,2,3.846,2,2.213,2,0.332,2,3.969,2,-999.0,9,2236.6,2,-999.0,9,-999.00,9,20051003,2352,-46.0579,-79.8559
316N20050821,AAIW,127,1,22,22,2,20051003,2223,-46.0581,-79.8559,57.1,8.5639,33.7641,2,33.7679,2,266.2,2,263.3,2,1.58,2,15.02,2,0.03,2,1.26,2,3.854,2,2.215,2,0.333,2,3.901,2,2082.2,2,2243.3,2,-999.0,9,-999.00,9,20051003,2351,-46.0577,-79.8559
316N20050821,AAIW,127,1,21,29,2,20051003,2223,-46.0581,-79.8559,97.4,8.2362,33.8422,2,33.8439,2,264.6,2,264.2,2,1.78,2,15.78,2,0.04,2,1.29,2,3.947,2,2.260,2,0.348,2,4.119,2,-999.0,9,2245.9,2,-999.0,9,-999.00,9,20051003,2349,-46.0575,-79.8559
316N20050821,AAIW,127,1,20,20,2,20051003,2223,-46.0581,-79.8559,126.5,8.0571,33.8669,2,33.8678,2,275.1,2,278.7,2,1.19,2,14.89,2,0.17,2,1.21,2,4.056,2,2.312,2,0.365,2,4.758,2,2083.5,2,2250.1,2,-999.0,9,-999.00,9,20051003,2347,-46.0573,-79.8559
316N20050821,AAIW,127,1,19,28,2,20051003,2223,-46.0581,-79.8559,146.1,8.0024,33.8826,2,33.8948,2,267.6,2,269.3,2,1.79,2,15.88,2,0.13,2,1.28,2,4.021,2,2.290,2,0.352,2,4.475,2,2092.4,2,2250.5,2,-999.0,9,-999.00,9,20051003,2346,-46.0572,-79.8559
316N20050821,AAIW,127,1,18,18,2,20051003,2223,-46.0581,-79.8559,186.3,8.2614,34.1606,2,34.1614,2,162.3,2,162.5,2,9.13,2,25.06,2,0.00,2,2.00,2,3.305,2,1.828,2,0.237,2,2.056,2,2175.7,2,2261.7,2,-999.0,9,-999.00,9,20051003,2345,-46.0570,-79.8559
316N20050821,AAIW,127,1,17,17,2,20051003,2223,-46.0581,-79.8559,244.4,7.4794,34.2448,2,34.2473,2,152.4,2,151.8,2,10.52,2,28.41,2,0.00,2,2.12,2,3.245,2,1.731,2,0.232,2,2.209,2,2192.8,2,2266.2,2,-999.0,9,-999.00,9,20051003,2343,-46.0568,-79.8559
316N20050821,AAIW,127,1,16,16,2,20051003,2223,-46.0581,-79.8559,344.5,6.1124,34.2292,2,34.2296,2,218.2,2,218.9,2,8.35,2,26.27,2,0.00,2,1.83,2,3.971,6,2.097,6,0.302,6,3.466,6,-999.0,9,2268.8,2,-999.0,9,-999.00,9,20051003,2340,-46.0566,-79.8559
316N20050821,AAIW,127,1,15,15,2,20051003,2223,-46.0581,-79.8559,444.9,5.5748,34.2283,2,34.2302,2,260.3,2,260.6,2,7.94,2,23.74,2,0.00,2,1.65,2,4.348,2,2.278,2,0.329,2,4.264,2,2142.5,2,2273.4,2,-999.0,9,-999.00,9,20051003,2338,-46.0563,-79.8558
316N20050821,AAIW,127,1,14,14,2,20051003,2223,-46.0581,-79.8559,474.6,5.4879,34.2299,2,34.2314,2,253.7,2,254.1,2,8.35,2,24.61,2,0.00,2,1.71,2,4.233,2,2.212,2,0.308,2,4.052,2,-999.0,9,2272.7,2,-999.0,9,-999.00,9,20051003,2336,-46.0561,-79.8558
316N20050821,AAIW,127,1,13,13,2,20051003,2223,-46.0581,-79.8559,612.4,5.0988,34.2236,2,34.2257,2,250.7,2,250.1,2,10.93,2,25.96,2,0.00,2,1.80,2,3.836,2,1.986,2,0.268,2,3.933,2,2154.2,2,2275.9,2,-999.0,9,-999.00,9,20051003,2333,-46.0558,-79.8558
316N20050821,AAIW,127,1,12,12,2,20051003,2223,-46.0581,-79.8559,742.9,4.6609,34.2320,2,34.2338,2,236.0,2,235.6,2,16.88,2,28.12,2,0.00,2,1.96,2,3.074,2,1.566,2,0.205,2,3.414,2,-999.0,9,2281.3,2,-999.0,9,-999.00,9,20051003,2330,-46.0555,-79.8557
316N20050821,AAIW,127,1,11,11,2,20051003,2223,-46.0581,-79.8559,842.1,4.3114,34.2623,2,34.2651,2,216.5,2,217.4,2,24.03,2,30.24,2,0.00,2,2.10,2,2.123,2,1.061,2,0.128,2,2.699,2,2184.4,2,2287.6,2,-999.0,9,-999.00,9,20051003,2327,-46.0552,-79.8557
316N20050821,AAIW,127,1,10,10,2,20051003,2223,-46.0581,-79.8559,942.5,3.8690,34.3098,2,34.3120,2,196.6,2,196.0,2,34.37,2,32.71,2,0.00,2,2.28,2,1.227,2,0.612,2,0.062,2,1.849,2,-999.0,9,2296.8,2,-999.0,9,-999.00,9,20051003,2325,-46.0550,-79.8557
316N20050821,AAIW,127,1,9,9,2,20051003,2223,-46.0581,-79.8559,1092.7,3.3806,34.3742,2,34.3753,2,175.7,2,176.7,2,48.31,2,34.71,2,0.00,2,2.42,2,0.573,2,0.289,2,0.027,2,1.123,2,-999.0,9,2310.4,2,-999.0,9,-999.00,9,20051003,2321,-46.0547,-79.8558
316N20050821,AAIW,127,1,8,8,2,20051003,2223,-46.0581,-79.8559,1293.3,2.9806,34.4846,2,34.4860,2,142.3,2,144.5,2,70.11,2,37.10,2,0.00,2,2.60,2,0.094,2,0.048,2,0.002,2,0.284,2,-999.0,9,2334.8,2,-999.0,9,-999.00,9,20051003,2317,-46.0542,-79.8558
316N20050821,AAIW,127,1,7,7,2,20051003,2223,-46.0581,-79.8559,1545.1,2.7027,34.5604,2,34.5606,2,131.4,2,132.3,2,87.98,2,37.74,2,0.00,2,2.66,2,0.006,2,0.004,2,0.002,2,0.052,2,2289.5,2,2356.4,2,-999.0,9,-999.00,9,20051003,2312,-46.0538,-79.8559
316N20050821,AAIW,127,1,6,6,2,20051003,2223,-46.0581,-79.8559,1846.2,2.3684,34.6132,2,34.6144,2,136.7,2,137.2,2,101.27,2,37.02,2,0.00,2,2.61,2,-0.004,2,0.000,2,0.001,2,0.009,2,2299.7,2,2372.8,2,-999.0,9,-999.00,9,20051003,2306,-46.0534,-79.8562
316N20050821,AAIW,127,1,5,27,2,20051003,2223,-46.0581,-79.8559,2248.7,2.0388,34.6527,2,34.6534,2,146.4,2,146.2,2,112.57,2,36.20,2,0.00,2,2.55,2,-0.005,2,0.000,2,0.002,2,-0.001,2,2306.2,6,2386.0,2,-999.0,9,-999.00,9,20051003,2258,-46.0531,-79.8564
316N20050821,AAIW,127,1,4,4,2,20051003,2223,-46.0581,-79.8559,2651.3,1.8748,34.6730,2,34.6750,3,152.6,2,152.3,2,117.21,2,35.43,2,0.00,2,2.51,2,-0.004,2,-0.001,2,0.001,2,-0.002,2,-999.0,9,2391.0,2,-999.0,9,-999.00,9,20051003,2250,-46.0529,-79.8567
316N20050821,AAIW,127,1,3,26,2,20051003,2223,-46.0581,-79.8559,3052.7,1.7715,34.6856,2,34.6873,3,159.9,2,160.0,2,119.22,2,35.20,2,0.00,2,2.47,2,0.000,2,-0.001,2,0.001,2,0.002,2,-999.0,9,2390.8,2,-999.0,9,-999.00,9,20051003,2243,-46.0525,-79.8568
316N20050821,AAIW,127,1,2,2,2,20051003,2223,-46.0581,-79.8559,3456.6,1.5561,34.6975,2,34.6981,2,173.0,2,172.6,2,119.00,2,34.38,2,0.00,2,2.41,2,-0.001,2,-0.001,2,0.001,2,0.016,2,-999.0,9,2385.2,2,-999.0,9,-999.00,9,20051003,2235,-46.0521,-79.8568
316N20050821,AAIW,127,1,1,25,2,20051003,2223,-46.0581,-79.8559,4068.1,1.4372,34.7037,2,34.7064,3,181.4,2,180.2,2,120.81,2,33.80,2,0.00,2,2.37,2,-999.000,5,-999.000,5,-999.000,5,-999.000,5,-999.0,9,2382.7,2,-999.0,9,-999.00,9,20051003,2223,-46.0513,-79.8567