BOTTLE,20220819CCHSIOAMB
EXPOCODE,SECT_ID,STNNBR,CASTNO,SAMPNO,BTLNBR,BTLNBR_FLAG_W,DATE,TIME,LATITUDE,LONGITUDE,CTDPRS,CTDTMP,CTDSAL,CTDSAL_FLAG_W,SALNTY,SALNTY_FLAG_W,CTDOXY,CTDOXY_FLAG_W,OXYGEN,OXYGEN_FLAG_W,SILCAT,SILCAT_FLAG_W,NITRAT,NITRAT_FLAG_W,NITRIT,NITRIT_FLAG_W,PHSPHT,PHSPHT_FLAG_W,CFC-11,CFC-11_FLAG_W,CFC-12,CFC-12_FLAG_W,CFC113,CFC113_FLAG_W,CCL4,CCL4_FLAG_W,TCARBN,TCARBN_FLAG_W,ALKALI,ALKALI_FLAG_W,PCO2,PCO2_FLAG_W,PH_SWS,PH_SWS_FLAG_W,BTL_DATE,BTL_TIME,BTL_LAT,BTL_LON
,,,,,,,,,,,DBAR,ITS-90,PSS-78,,PSS-78,,UMOL/KG,,UMOL/KG,,UMOL/KG,,UMOL/KG,,UMOL/KG,,UMOL/KG,,PMOL/KG,,PMOL/KG,,PMOL/KG,,PMOL/KG,,UMOL/KG,,UMOL/KG,,UATM,,,,,,,
316N20050821,AAIW,122,1,24,24,2,20051002,840,-47.2812,-85.6372,3.9,7.4923,33.9374,2,33.9396,2,293.9,2,294.7,2,0.56,2,15.60,2,0.16,2,1.21,2,4.227,2,2.413,2,0.384,2,5.355,2,2084.2,6,2255.9,2,-999.0,9,-999.00,9,20051002,1019,-47.2812,-85.6372
316N20050821,AAIW,122,1,23,23,2,20051002,840,-47.2812,-85.6372,48.8,7.4974,33.9374,2,33.9380,2,293.3,2,294.6,2,0.49,2,15.64,2,0.16,2,1.21,2,4.221,2,2.395,2,0.386,2,5.372,2,2084.0,2,2256.1,2,-999.0,9,-999.00,9,20051002,1017,-47.2812,-85.6372
316N20050821,AAIW,122,1,22,22,2,20051002,840,-47.2812,-85.6372,88.5,7.4837,33.9372,2,33.9378,2,293.0,2,294.3,2,0.23,2,15.68,2,0.16,2,1.21,2,4.185,2,2.414,2,0.384,2,5.310,2,2084.5,2,2255.9,2,-999.0,9,-999.00,9,20051002,1015,-47.2811,-85.6371
316N20050821,AAIW,122,1,21,21,2,20051002,840,-47.2812,-85.6372,127.8,7.4215,33.9483,2,33.9493,2,291.7,2,292.5,2,0.37,2,15.75,2,0.18,2,1.21,2,4.186,2,2.391,2,0.378,2,5.214,2,2086.7,2,2257.1,2,-999.0,9,-999.00,9,20051002,1012,-47.2810,-85.6371
316N20050821,AAIW,122,1,20,20,2,20051002,840,-47.2812,-85.6372,177.7,6.9434,34.0222,2,34.0232,2,288.3,2,288.8,2,0.89,2,16.83,2,0.22,2,1.29,2,4.271,2,2.420,2,0.383,2,5.004,2,2099.2,2,2261.3,2,-999.0,9,-999.00,9,20051002,1010,-47.2809,-85.6372
316N20050821,AAIW,122,1,19,19,2,20051002,840,-47.2812,-85.6372,227.4,6.2469,34.1711,2,34.1735,2,269.9,2,270.5,2,3.74,2,20.89,2,0.00,2,1.50,2,4.369,2,2.428,2,0.373,2,4.282,2,2127.5,2,2267.4,2,-999.0,9,-999.00,9,20051002,1008,-47.2807,-85.6373
316N20050821,AAIW,122,1,18,18,2,20051002,840,-47.2812,-85.6372,277.9,6.0984,34.2478,2,34.2477,2,-999.0,9,-999.0,5,5.62,2,22.02,2,0.00,2,1.56,2,4.295,2,2.341,2,0.348,2,3.997,2,2135.0,2,2273.3,2,-999.0,9,-999.00,9,20051002,1005,-47.2806,-85.6374
316N20050821,AAIW,122,1,17,17,2,20051002,840,-47.2812,-85.6372,326.3,6.0335,34.2652,2,34.2655,2,268.1,2,267.9,2,6.53,2,22.01,2,0.00,2,1.54,2,4.274,2,2.295,2,0.335,2,3.994,2,2135.2,2,2274.8,2,-999.0,9,-999.00,9,20051002,1003,-47.2806,-85.6376
316N20050821,AAIW,122,1,16,16,2,20051002,840,-47.2812,-85.6372,377.2,5.7935,34.2455,2,34.2461,2,271.7,2,271.6,2,6.86,2,22.23,2,0.00,2,1.56,2,4.270,2,2.321,2,0.347,2,4.139,2,2135.4,2,2274.5,2,-999.0,9,-999.00,9,20051002,1001,-47.2805,-85.6376
316N20050821,AAIW,122,1,15,15,2,20051002,840,-47.2812,-85.6372,427.5,5.6429,34.2361,2,34.2365,2,271.7,2,271.1,2,7.00,2,22.70,2,0.00,2,1.59,2,4.247,2,2.294,2,0.335,2,4.091,2,2136.6,2,2273.9,2,-999.0,9,-999.00,9,20051002,959,-47.2804,-85.6376
316N20050821,AAIW,122,1,14,14,2,20051002,840,-47.2812,-85.6372,525.4,5.4536,34.2381,2,34.2386,2,263.4,2,262.5,2,8.30,2,23.97,2,0.00,2,1.66,2,4.042,2,2.122,2,0.291,2,3.786,2,2142.9,2,2275.5,2,-999.0,9,-999.00,9,20051002,956,-47.2803,-85.6374
316N20050821,AAIW,122,1,13,13,2,20051002,840,-47.2812,-85.6372,626.4,5.1067,34.2241,2,34.2255,2,258.2,2,258.9,2,10.77,2,25.15,2,0.00,2,1.75,2,3.749,2,1.954,2,0.262,2,3.693,2,2150.2,2,2277.7,2,-999.0,9,-999.00,9,20051002,953,-47.2802,-85.6374
316N20050821,AAIW,122,1,12,12,2,20051002,840,-47.2812,-85.6372,725.6,4.8618,34.2372,2,34.2384,2,242.2,2,240.8,2,14.80,2,27.10,2,0.00,2,1.91,2,3.049,2,1.571,2,0.191,2,3.246,2,2161.2,2,2280.1,2,-999.0,9,-999.00,9,20051002,951,-47.2800,-85.6374
316N20050821,AAIW,122,1,11,11,2,20051002,840,-47.2812,-85.6372,826.0,4.4859,34.2675,2,34.2679,2,220.8,2,220.8,2,22.34,2,29.35,2,0.00,2,2.02,2,2.130,2,1.092,2,0.128,2,2.526,2,2182.1,2,2287.3,2,-999.0,9,-999.00,9,20051002,948,-47.2798,-85.6374
316N20050821,AAIW,122,1,10,10,2,20051002,840,-47.2812,-85.6372,926.2,4.0353,34.2989,2,34.3007,2,-999.0,9,-999.0,9,30.68,2,31.40,2,0.00,2,2.17,2,1.389,2,0.700,2,0.076,2,1.946,2,2197.1,2,2293.5,2,-999.0,9,-999.00,9,20051002,945,-47.2797,-85.6374
316N20050821,AAIW,122,1,9,9,2,20051002,840,-47.2812,-85.6372,1125.4,3.3348,34.3750,2,34.3750,2,179.9,2,182.6,2,47.28,2,33.99,2,0.00,2,2.37,2,0.620,2,0.309,2,0.031,2,1.142,2,2225.0,2,2310.6,2,-999.0,9,-999.00,9,20051002,940,-47.2797,-85.6375
316N20050821,AAIW,122,1,8,8,2,20051002,840,-47.2812,-85.6372,1326.2,3.0050,34.4714,2,34.4707,2,152.6,2,152.7,2,66.29,2,36.19,2,0.00,2,2.53,2,0.128,2,0.071,2,0.009,2,0.366,2,2258.4,2,2331.6,2,-999.0,9,-999.00,9,20051002,936,-47.2794,-85.6379
316N20050821,AAIW,122,1,7,7,2,20051002,840,-47.2812,-85.6372,1526.1,2.7662,34.5474,2,34.5482,2,137.5,2,137.1,2,83.42,2,37.05,2,0.00,2,2.61,2,0.016,2,0.010,2,0.005,2,0.089,2,2282.3,2,2351.3,2,-999.0,9,-999.00,9,20051002,932,-47.2793,-85.6380
316N20050821,AAIW,122,1,6,6,2,20051002,840,-47.2812,-85.6372,1828.4,2.4313,34.6055,2,34.6054,2,139.8,2,139.4,2,97.05,2,36.50,2,0.00,2,2.57,2,0.002,2,0.005,2,0.000,2,0.037,2,2295.3,2,2367.6,2,-999.0,9,-999.00,9,20051002,925,-47.2790,-85.6382
316N20050821,AAIW,122,1,5,5,2,20051002,840,-47.2812,-85.6372,2230.6,2.1072,34.6486,2,34.6482,2,148.1,2,147.6,2,108.15,2,35.76,2,0.00,2,2.51,2,-0.004,2,-0.001,2,0.001,2,0.012,2,2297.6,2,2379.7,2,-999.0,9,-999.00,9,20051002,918,-47.2785,-85.6386
316N20050821,AAIW,122,1,4,4,2,20051002,840,-47.2812,-85.6372,2733.2,1.8566,34.6812,2,34.6821,2,158.7,2,158.2,2,114.09,2,34.82,2,0.00,2,2.47,2,0.000,2,0.006,2,0.001,2,0.012,2,2297.4,2,2386.1,2,-999.0,9,-999.00,9,20051002,908,-47.2783,-85.6387
316N20050821,AAIW,122,1,3,3,2,20051002,840,-47.2812,-85.6372,3235.7,1.6764,34.6981,2,34.7002,3,170.8,2,170.4,2,115.04,2,33.79,2,0.00,2,2.39,2,-0.002,2,0.007,2,0.001,2,0.010,2,2288.6,2,2381.3,2,-999.0,9,-999.00,9,20051002,859,-47.2780,-85.6388
316N20050821,AAIW,122,1,2,2,2,20051002,840,-47.2812,-85.6372,3739.9,1.1688,34.7115,2,34.7102,2,192.3,2,192.7,2,121.20,2,32.72,2,0.00,2,2.31,2,0.000,2,0.004,2,0.000,2,0.068,2,2274.3,2,2373.8,2,-999.0,9,-999.00,9,20051002,849,-47.2779,-85.6377
316N20050821,AAIW,122,1,1,1,2,20051002,840,-47.2812,-85.6372,4250.5,0.9205,34.7122,2,34.7115,2,202.1,2,201.0,2,126.97,2,32.55,2,0.00,2,2.28,2,0.003,6,0.007,6,0.002,6,0.115,6,2273.4,6,2373.6,2,-999.0,9,-999.00,9,20051002,840,-47.2783,-85.6363
316N20050821,AAIW,123,1,24,24,2,20051002,1527,-47.1238,-84.7964,3.4,7.4693,33.9692,2,33.9673,2,294.3,2,295.0,2,1.23,2,16.06,2,0.21,2,1.24,2,4.197,2,2.388,2,0.378,2,5.426,2,2086.8,2,2258.8,2,-999.0,9,-999.00,9,20051002,1703,-47.1238,-84.7964
316N20050821,AAIW,123,1,23,23,2,20051002,1527,-47.1238,-84.7964,29.1,7.4483,33.9691,2,33.9712,3,294.1,2,295.2,2,0.81,2,15.80,2,0.28,2,1.18,2,4.217,2,2.416,2,0.374,2,5.394,2,-999.0,9,2258.9,2,-999.0,9,-999.00,9,20051002,1701,-47.1235,-84.7965
316N20050821,AAIW,123,1,22,22,2,20051002,1527,-47.1238,-84.7964,58.2,7.2314,33.9751,2,33.9759,2,295.9,2,296.6,2,0.98,2,16.32,2,0.14,2,1.24,2,4.273,2,2.427,2,0.375,2,5.475,2,2088.8,2,2260.6,2,-999.0,9,-999.00,9,20051002,1659,-47.1233,-84.7966
316N20050821,AAIW,123,1,21,21,2,20051002,1527,-47.1238,-84.7964,88.7,7.1420,33.9799,2,33.9814,2,294.6,2,295.7,2,0.95,2,16.07,2,0.27,2,1.20,2,4.327,2,2.425,2,0.379,2,5.554,2,2089.4,2,2259.9,2,-999.0,9,-999.00,9,20051002,1657,-47.1230,-84.7968
316N20050821,AAIW,123,1,20,20,2,20051002,1527,-47.1238,-84.7964,123.8,6.8726,34.0011,2,34.0043,3,292.8,2,293.4,2,1.12,2,16.87,2,0.14,2,1.29,2,4.350,2,2.439,2,0.383,2,5.460,2,2096.0,2,2261.7,2,-999.0,9,-999.00,9,20051002,1655,-47.1228,-84.7969
316N20050821,AAIW,123,1,19,19,2,20051002,1527,-47.1238,-84.7964,168.2,6.2928,34.1331,2,34.1315,2,272.4,2,273.4,2,3.43,2,20.46,2,0.15,2,1.50,2,4.426,2,2.429,2,0.371,2,4.585,2,2120.3,2,2266.1,2,-999.0,9,-999.00,9,20051002,1653,-47.1226,-84.7971
316N20050821,AAIW,123,1,18,18,2,20051002,1527,-47.1238,-84.7964,213.3,6.0398,34.2083,2,34.2097,2,259.7,2,259.1,2,5.75,2,22.83,2,0.02,2,1.49,2,4.478,2,2.269,2,0.343,2,4.132,2,2136.6,2,2271.3,2,-999.0,9,-999.00,9,20051002,1652,-47.1223,-84.7972
316N20050821,AAIW,123,1,17,17,2,20051002,1527,-47.1238,-84.7964,252.1,5.9090,34.2327,2,34.2340,2,259.4,2,259.5,2,6.50,2,23.41,3,0.00,2,1.64,3,4.424,2,2.278,2,0.331,2,4.072,2,2139.0,2,2272.8,2,-999.0,9,-999.00,9,20051002,1650,-47.1222,-84.7973
316N20050821,AAIW,123,1,16,16,2,20051002,1527,-47.1238,-84.7964,290.9,5.8220,34.2427,2,34.2444,2,265.4,2,266.5,2,6.87,2,22.65,2,0.00,2,1.50,2,4.363,2,2.309,2,0.331,2,4.149,2,2136.4,2,2273.9,2,-999.0,9,-999.00,9,20051002,1648,-47.1219,-84.7974
316N20050821,AAIW,123,1,15,15,2,20051002,1527,-47.1238,-84.7964,342.4,5.6217,34.2358,2,34.2356,2,266.5,2,267.5,2,7.42,2,23.03,2,0.00,2,1.57,2,4.334,2,2.252,2,0.328,2,4.111,2,2137.3,2,2275.4,2,-999.0,9,-999.00,9,20051002,1647,-47.1217,-84.7974
316N20050821,AAIW,123,1,14,14,2,20051002,1527,-47.1238,-84.7964,442.7,5.4258,34.2280,2,34.2311,3,266.4,2,266.6,2,8.18,2,23.67,2,0.00,2,1.68,2,4.276,6,2.224,6,0.304,6,4.118,6,2139.3,2,2275.1,2,-999.0,9,-999.00,9,20051002,1644,-47.1214,-84.7977
316N20050821,AAIW,123,1,13,13,2,20051002,1527,-47.1238,-84.7964,541.1,5.1869,34.2236,2,34.2256,2,260.4,2,260.6,2,9.91,2,24.59,2,0.00,2,1.72,2,4.023,2,2.068,2,0.281,2,4.061,2,-999.0,9,2276.4,2,-999.0,9,-999.00,9,20051002,1641,-47.1211,-84.7978
316N20050821,AAIW,123,1,12,12,2,20051002,1527,-47.1238,-84.7964,640.0,4.9152,34.2270,2,34.2297,3,248.8,2,248.9,2,13.41,2,26.64,2,0.00,2,1.86,2,3.455,2,1.764,2,0.231,2,3.625,2,2156.4,2,2280.1,2,-999.0,9,-999.00,9,20051002,1638,-47.1208,-84.7978
316N20050821,AAIW,123,1,11,11,2,20051002,1527,-47.1238,-84.7964,745.8,4.6391,34.2468,2,34.2475,2,231.6,2,231.8,2,18.88,2,28.59,2,0.00,2,1.98,2,2.722,2,1.361,2,0.167,2,3.063,2,-999.0,9,2284.3,2,-999.0,9,-999.00,9,20051002,1635,-47.1204,-84.7979
316N20050821,AAIW,123,1,10,10,2,20051002,1527,-47.1238,-84.7964,845.9,4.2397,34.2783,2,34.2776,2,213.4,2,214.1,2,26.31,2,30.68,2,0.00,2,1.95,2,1.885,2,0.928,2,0.103,2,2.371,2,2187.3,6,2291.7,2,-999.0,9,-999.00,9,20051002,1633,-47.1201,-84.7981
316N20050821,AAIW,123,1,9,9,2,20051002,1527,-47.1238,-84.7964,950.1,3.8361,34.3161,2,34.3164,2,199.0,2,200.3,2,34.95,2,32.23,2,0.00,2,2.16,2,1.143,2,0.563,2,0.056,2,1.744,2,-999.0,9,2298.3,2,-999.0,9,-999.00,9,20051002,1630,-47.1199,-84.7984
316N20050821,AAIW,123,1,8,8,2,20051002,1527,-47.1238,-84.7964,1302.8,2.9948,34.4745,2,34.4775,3,149.7,2,151.3,2,67.13,2,36.37,2,0.00,2,2.35,2,0.117,2,0.062,2,0.011,2,0.364,2,-999.0,9,2331.8,2,-999.0,9,-999.00,9,20051002,1623,-47.1192,-84.7989
316N20050821,AAIW,123,1,7,7,2,20051002,1527,-47.1238,-84.7964,1452.7,2.8355,34.5280,2,34.5288,2,139.1,2,139.5,2,78.82,2,36.98,2,0.00,2,2.57,2,0.027,2,0.016,2,0.004,2,0.142,2,-999.0,9,2346.4,2,-999.0,9,-999.00,9,20051002,1619,-47.1189,-84.7990
316N20050821,AAIW,123,1,6,6,2,20051002,1527,-47.1238,-84.7964,1704.9,2.5445,34.5878,2,34.5881,2,137.7,2,137.5,2,93.34,2,37.01,2,0.00,2,2.60,2,0.001,2,0.004,2,0.004,2,0.033,2,-999.0,9,2362.3,2,-999.0,9,-999.00,9,20051002,1614,-47.1187,-84.7992
316N20050821,AAIW,123,1,5,5,2,20051002,1527,-47.1238,-84.7964,2131.3,2.1669,34.6416,2,34.6399,3,147.8,2,147.0,2,105.72,2,35.82,2,0.00,2,2.52,2,-0.003,2,0.006,2,0.003,2,0.012,2,-999.0,9,2377.6,2,-999.0,9,-999.00,9,20051002,1606,-47.1182,-84.7994
316N20050821,AAIW,123,1,4,4,2,20051002,1527,-47.1238,-84.7964,2635.8,1.8993,34.6763,2,34.6765,2,156.6,2,156.1,2,113.72,2,35.19,2,0.00,2,2.46,2,-0.004,2,-0.002,2,0.004,2,0.008,2,-999.0,9,2386.1,2,-999.0,9,-999.00,9,20051002,1556,-47.1179,-84.7999
316N20050821,AAIW,123,1,3,3,2,20051002,1527,-47.1238,-84.7964,3139.3,1.7333,34.6947,2,34.6952,2,167.8,2,167.4,2,114.90,2,34.28,2,0.00,2,2.38,2,-0.002,2,0.000,2,0.004,2,0.015,2,-999.0,9,2383.7,2,-999.0,9,-999.00,9,20051002,1547,-47.1178,-84.7998
316N20050821,AAIW,123,1,2,2,2,20051002,1527,-47.1238,-84.7964,3646.2,1.2843,34.7092,2,34.7093,2,187.4,2,187.2,2,119.89,2,33.33,2,0.00,2,2.31,2,-0.004,2,0.001,2,0.003,2,0.037,2,-999.0,9,2376.0,2,-999.0,9,-999.00,9,20051002,1537,-47.1179,-84.8002
316N20050821,AAIW,123,1,1,1,2,20051002,1527,-47.1238,-84.7964,4151.6,0.9212,34.7122,2,34.7166,3,200.9,2,200.4,2,128.13,2,32.81,2,0.00,2,2.27,2,0.002,2,0.004,2,0.003,2,0.083,2,-999.0,9,2375.2,2,-999.0,9,-999.00,9,20051002,1527,-47.1182,-84.8002
316N20050821,AAIW,124,1,21,21,2,20051002,2134,-46.9169,-83.9692,4.2,7.1486,33.9607,2,33.9606,2,297.7,2,298.2,2,1.30,2,16.54,2,-999.00,5,1.15,2,4.369,6,2.469,6,0.397,6,5.753,6,2090.0,6,2257.5,2,-999.0,9,-999.00,9,20051002,2256,-46.9169,-83.9692
316N20050821,AAIW,124,1,20,20,2,20051002,2134,-46.9169,-83.9692,45.8,7.0668,33.9571,2,33.9583,2,297.5,2,298.2,2,1.27,2,16.54,2,-999.00,5,1.14,2,4.351,2,2.462,2,0.395,2,5.620,2,2090.3,2,2256.9,2,-999.0,9,-999.00,9,20051002,2254,-46.9171,-83.9690
316N20050821,AAIW,124,1,19,19,2,20051002,2134,-46.9169,-83.9692,75.9,6.9644,33.9687,2,33.9718,3,296.4,2,297.1,2,1.25,2,16.54,2,-999.00,5,1.19,2,4.390,2,2.477,2,0.399,2,5.706,2,2092.6,2,2258.1,2,-999.0,9,-999.00,9,20051002,2252,-46.9173,-83.9690
316N20050821,AAIW,124,1,18,18,2,20051002,2134,-46.9169,-83.9692,116.0,6.6963,33.9936,2,33.9975,3,291.4,2,293.4,2,1.43,2,17.14,2,0.17,2,1.24,2,4.383,2,2.478,2,0.392,2,5.427,2,2098.2,2,2259.9,2,-999.0,9,-999.00,9,20051002,2250,-46.9174,-83.9689
316N20050821,AAIW,124,1,17,17,2,20051002,2134,-46.9169,-83.9692,145.7,6.2556,34.1049,2,34.1090,3,272.9,2,272.6,2,3.76,2,20.64,2,0.15,2,1.43,2,4.424,2,2.453,2,0.384,2,4.723,2,2121.8,2,2264.1,2,-999.0,9,-999.00,9,20051002,2248,-46.9174,-83.9689
316N20050821,AAIW,124,1,16,16,2,20051002,2134,-46.9169,-83.9692,214.9,5.8402,34.2046,2,34.2071,3,265.4,2,265.8,2,6.30,2,22.40,2,0.13,2,1.58,2,4.406,2,2.419,2,0.375,2,4.428,2,2135.6,2,2271.7,2,-999.0,9,-999.00,9,20051002,2246,-46.9173,-83.9690
316N20050821,AAIW,124,1,15,15,2,20051002,2134,-46.9169,-83.9692,284.8,5.6887,34.2296,2,34.2298,2,270.4,2,270.7,2,7.26,2,22.40,2,0.10,2,1.49,2,4.401,2,2.386,2,0.358,2,4.487,2,2135.6,2,2273.3,2,-999.0,9,-999.00,9,20051002,2243,-46.9172,-83.9690
316N20050821,AAIW,124,1,14,14,2,20051002,2134,-46.9169,-83.9692,385.0,5.3949,34.2205,2,34.2218,2,270.9,2,270.6,2,8.22,2,23.28,2,0.00,2,1.65,2,4.326,2,2.304,2,0.345,2,4.369,2,2140.6,2,2275.2,2,-999.0,9,-999.00,9,20051002,2241,-46.9171,-83.9690
316N20050821,AAIW,124,1,13,13,2,20051002,2134,-46.9169,-83.9692,482.9,5.2196,34.2190,2,34.2181,2,265.8,2,266.0,2,9.57,2,24.08,2,0.00,2,1.65,2,4.142,2,2.165,2,0.306,2,4.208,2,2143.3,2,2275.6,2,-999.0,9,-999.00,9,20051002,2238,-46.9171,-83.9691
316N20050821,AAIW,124,1,12,12,2,20051002,2134,-46.9169,-83.9692,584.6,4.9492,34.2178,2,34.2187,2,255.5,2,255.4,2,12.31,2,25.77,2,0.00,2,1.81,2,3.748,2,1.922,2,0.268,2,4.066,2,2156.2,2,2279.0,2,-999.0,9,-999.00,9,20051002,2236,-46.9170,-83.9691
316N20050821,AAIW,124,1,11,11,2,20051002,2134,-46.9169,-83.9692,684.6,4.6430,34.2288,2,34.2299,2,239.4,2,239.8,2,17.01,2,27.70,2,0.00,2,1.80,3,3.109,2,1.601,2,0.210,2,3.552,2,2165.2,2,2281.5,2,-999.0,9,-999.00,9,20051002,2233,-46.9171,-83.9690
316N20050821,AAIW,124,1,10,10,2,20051002,2134,-46.9169,-83.9692,784.7,4.2855,34.2623,2,34.2622,2,-999.0,9,-999.0,5,24.49,2,29.92,2,0.00,2,1.96,3,2.225,2,1.127,2,0.138,2,2.776,2,2183.2,2,2288.9,2,-999.0,9,-999.00,9,20051002,2231,-46.9172,-83.9690
316N20050821,AAIW,124,1,9,9,2,20051002,2134,-46.9169,-83.9692,884.2,3.9630,34.2934,2,34.2936,2,206.6,2,207.4,2,31.58,2,31.48,2,0.00,2,2.20,2,1.614,2,0.821,2,0.094,2,2.251,2,2196.5,2,2294.1,2,-999.0,9,-999.00,9,20051002,2228,-46.9172,-83.9690
316N20050821,AAIW,124,1,8,8,2,20051002,2134,-46.9169,-83.9692,982.9,3.5509,34.3379,2,34.3359,3,193.2,2,194.0,2,41.06,2,33.00,2,0.00,2,2.25,2,1.005,2,0.501,2,0.049,2,1.669,2,2213.7,2,2302.7,2,-999.0,9,-999.00,9,20051002,2226,-46.9173,-83.9690
316N20050821,AAIW,124,1,7,7,2,20051002,2134,-46.9169,-83.9692,1132.3,3.1780,34.4097,2,34.4086,2,169.8,2,170.8,2,55.11,2,34.90,2,0.00,2,2.46,2,0.373,2,0.186,2,0.019,2,0.841,2,2238.8,2,2318.2,2,-999.0,9,-999.00,9,20051002,2222,-46.9176,-83.9688
316N20050821,AAIW,124,1,6,6,2,20051002,2134,-46.9169,-83.9692,1382.3,2.8582,34.5163,2,34.5174,2,141.6,2,142.1,2,77.00,2,36.82,2,0.00,2,2.61,2,0.052,2,0.029,2,0.005,2,0.186,2,2272.4,2,2342.2,2,-999.0,9,-999.00,9,20051002,2217,-46.9181,-83.9685
316N20050821,AAIW,124,1,5,5,2,20051002,2134,-46.9169,-83.9692,1678.8,2.5332,34.5889,2,34.5884,2,136.6,2,136.3,2,94.59,2,36.86,2,0.00,2,2.62,2,0.003,2,0.000,2,0.000,2,0.032,2,2292.1,2,2363.6,2,-999.0,9,-999.00,9,20051002,2211,-46.9186,-83.9682
316N20050821,AAIW,124,1,4,4,2,20051002,2134,-46.9169,-83.9692,2158.3,2.1204,34.6458,2,34.6451,2,147.0,2,146.7,2,109.03,2,35.80,2,0.00,2,2.53,2,-0.002,2,0.004,2,0.000,2,0.008,2,2302.6,2,2380.4,2,-999.0,9,-999.00,9,20051002,2202,-46.9192,-83.9680
316N20050821,AAIW,124,1,3,3,2,20051002,2134,-46.9169,-83.9692,2635.6,1.8808,34.6769,2,34.6765,2,156.7,2,156.5,2,115.65,2,34.94,2,0.00,2,2.47,2,0.000,2,0.002,2,0.003,2,0.003,2,2299.3,2,2387.8,2,-999.0,9,-999.00,9,20051002,2153,-46.9200,-83.9686
316N20050821,AAIW,124,1,2,2,2,20051002,2134,-46.9169,-83.9692,3130.3,1.6931,34.6945,2,34.6932,3,168.0,2,167.8,2,117.43,2,33.90,2,0.00,2,2.39,2,0.001,2,0.005,2,0.000,2,0.017,2,2291.1,2,2384.8,2,-999.0,9,-999.00,9,20051002,2143,-46.9217,-83.9688
316N20050821,AAIW,124,1,1,1,2,20051002,2134,-46.9169,-83.9692,3621.2,1.2440,34.7087,2,34.7072,3,188.8,2,188.0,2,122.25,2,33.13,2,0.00,2,2.30,2,0.005,2,0.005,2,0.001,2,0.087,2,2278.9,6,2376.8,2,-999.0,9,-999.00,9,20051002,2134,-46.9238,-83.9706