BOTTLE,20220819CCHSIOAMB
EXPOCODE,SECT_ID,STNNBR,CASTNO,SAMPNO,BTLNBR,BTLNBR_FLAG_W,DATE,TIME,LATITUDE,LONGITUDE,CTDPRS,CTDTMP,CTDSAL,CTDSAL_FLAG_W,SALNTY,SALNTY_FLAG_W,CTDOXY,CTDOXY_FLAG_W,OXYGEN,OXYGEN_FLAG_W,SILCAT,SILCAT_FLAG_W,NITRAT,NITRAT_FLAG_W,NITRIT,NITRIT_FLAG_W,PHSPHT,PHSPHT_FLAG_W,CFC-11,CFC-11_FLAG_W,CFC-12,CFC-12_FLAG_W,CFC113,CFC113_FLAG_W,CCL4,CCL4_FLAG_W,TCARBN,TCARBN_FLAG_W,ALKALI,ALKALI_FLAG_W,PCO2,PCO2_FLAG_W,PH_SWS,PH_SWS_FLAG_W,BTL_DATE,BTL_TIME,BTL_LAT,BTL_LON
,,,,,,,,,,,DBAR,ITS-90,PSS-78,,PSS-78,,UMOL/KG,,UMOL/KG,,UMOL/KG,,UMOL/KG,,UMOL/KG,,UMOL/KG,,PMOL/KG,,PMOL/KG,,PMOL/KG,,PMOL/KG,,UMOL/KG,,UMOL/KG,,UATM,,,,,,,
316N20050821,AAIW,67,1,24,24,2,20050912,2322,-54.1211,-97.8753,24.3,5.4576,34.1791,2,34.1782,2,300.5,2,300.1,2,4.03,2,19.72,2,0.06,2,1.39,2,4.697,2,2.700,2,0.444,2,6.027,2,2120.7,6,2276.2,2,-999.0,9,-999.00,1,20050913,132,-54.1211,-97.8753
316N20050821,AAIW,67,1,23,23,2,20050912,2322,-54.1211,-97.8753,64.5,5.4450,34.1771,2,34.1760,2,300.4,2,300.3,2,4.04,2,19.82,2,0.06,2,1.40,2,4.689,2,2.693,2,0.444,2,6.130,2,2120.2,2,2273.7,2,-999.0,9,-999.00,1,20050913,129,-54.1210,-97.8749
316N20050821,AAIW,67,1,22,22,2,20050912,2322,-54.1211,-97.8753,113.4,5.4446,34.1769,2,34.1788,2,300.3,2,300.0,2,4.04,2,19.73,2,0.06,2,1.41,2,4.686,2,2.706,2,0.440,2,6.067,2,2119.9,2,2276.8,3,-999.0,9,-999.00,1,20050913,127,-54.1208,-97.8747
316N20050821,AAIW,67,1,21,21,2,20050912,2322,-54.1211,-97.8753,152.5,5.4381,34.1773,2,34.1763,3,299.8,2,299.2,2,3.84,2,19.82,2,0.06,2,1.38,2,4.715,2,2.704,2,0.453,2,6.089,2,2120.4,2,2273.8,2,-999.0,9,-999.00,1,20050913,125,-54.1206,-97.8741
316N20050821,AAIW,67,1,20,20,2,20050912,2322,-54.1211,-97.8753,252.8,5.3658,34.1722,2,34.1721,2,296.8,2,296.1,2,4.05,2,20.25,2,0.05,2,1.41,2,4.672,2,2.687,2,0.433,2,5.935,2,2122.3,2,2274.9,2,-999.0,9,-999.00,1,20050913,121,-54.1203,-97.8735
316N20050821,AAIW,67,1,19,19,2,20050912,2322,-54.1211,-97.8753,320.8,5.4653,34.1894,2,34.1892,4,297.5,2,297.2,2,3.85,2,19.83,2,0.06,2,1.40,2,4.692,2,2.653,2,0.436,2,6.103,2,2120.9,2,2274.2,2,-999.0,9,-999.00,1,20050913,118,-54.1201,-97.8730
316N20050821,AAIW,67,1,18,18,2,20050912,2322,-54.1211,-97.8753,370.0,5.4986,34.1967,2,34.1997,2,295.1,2,294.9,2,4.06,2,20.00,2,0.03,2,1.40,2,4.648,2,2.613,2,0.436,2,5.853,2,2122.2,2,2275.7,2,-999.0,9,-999.00,1,20050913,116,-54.1198,-97.8727
316N20050821,AAIW,67,1,17,17,2,20050912,2322,-54.1211,-97.8753,410.5,5.5342,34.2052,2,34.2052,2,289.7,2,289.0,2,5.08,2,20.66,2,0.01,2,1.44,2,4.604,2,2.511,2,0.435,2,5.611,2,2126.3,2,2276.5,2,-999.0,9,-999.00,1,20050913,113,-54.1195,-97.8725
316N20050821,AAIW,67,1,16,16,2,20050912,2322,-54.1211,-97.8753,487.4,5.4558,34.2125,2,34.2125,2,275.4,2,275.8,2,7.51,2,22.30,2,0.01,2,1.55,2,4.358,2,2.382,2,0.396,2,4.910,2,2136.6,2,2277.3,2,-999.0,9,-999.00,1,20050913,110,-54.1191,-97.8721
316N20050821,AAIW,67,1,15,15,2,20050912,2322,-54.1211,-97.8753,556.8,5.2175,34.2174,2,34.2166,2,256.3,2,255.3,2,11.57,2,24.67,2,0.00,2,1.70,2,3.833,2,2.066,2,0.318,2,4.196,2,2150.0,2,2279.6,2,-999.0,9,-999.00,1,20050913,107,-54.1187,-97.8718
316N20050821,AAIW,67,1,14,14,2,20050912,2322,-54.1211,-97.8753,639.9,4.9796,34.2386,2,34.1927,4,239.6,2,239.4,2,16.04,2,26.45,2,0.00,2,1.81,2,3.414,2,1.718,2,0.255,2,3.567,2,2166.9,3,2282.0,2,-999.0,9,-999.00,1,20050913,104,-54.1182,-97.8714
316N20050821,AAIW,67,1,13,13,2,20050912,2322,-54.1211,-97.8753,708.0,4.7385,34.2549,2,34.2383,4,229.6,2,229.5,2,19.70,2,27.72,2,0.00,2,1.91,2,3.029,2,1.559,2,0.235,2,3.263,2,2172.9,2,2284.3,2,-999.0,9,-999.00,1,20050913,101,-54.1180,-97.8711
316N20050821,AAIW,67,1,12,12,2,20050912,2322,-54.1211,-97.8753,776.9,4.4862,34.2745,2,34.2761,2,221.7,2,220.8,2,23.97,2,28.95,2,0.00,2,1.96,2,2.681,2,1.363,2,0.183,2,3.056,2,2181.8,2,2288.9,2,-999.0,9,-999.00,1,20050913,57,-54.1176,-97.8709
316N20050821,AAIW,67,1,11,11,2,20050912,2322,-54.1211,-97.8753,856.6,4.0989,34.2950,2,34.2955,2,213.3,2,213.0,2,30.07,2,30.22,2,0.00,2,2.06,2,2.341,2,1.154,2,0.154,2,2.752,2,2192.6,2,2293.3,2,-999.0,9,-999.00,1,20050913,54,-54.1172,-97.8705
316N20050821,AAIW,67,1,10,10,2,20050912,2322,-54.1211,-97.8753,959.2,3.6871,34.3169,2,34.3153,2,206.2,2,206.3,2,36.79,2,31.45,2,0.00,2,2.15,2,1.957,2,0.981,2,0.114,2,2.413,2,2213.5,3,2297.9,2,-999.0,9,-999.00,1,20050913,49,-54.1166,-97.8699
316N20050821,AAIW,67,1,9,9,2,20050912,2322,-54.1211,-97.8753,1127.6,3.1384,34.3773,2,34.3752,2,193.1,2,193.9,2,49.23,2,32.82,2,0.00,2,2.26,2,1.384,2,0.707,2,0.077,2,1.917,2,2222.8,2,2311.2,2,-999.0,9,-999.00,1,20050913,43,-54.1161,-97.8694
316N20050821,AAIW,67,1,8,8,2,20050912,2322,-54.1211,-97.8753,1298.2,2.8056,34.4510,2,34.4497,2,181.5,2,181.5,2,60.48,2,33.73,2,0.00,2,2.33,2,0.958,2,0.469,2,0.033,2,1.383,2,2238.0,2,2320.8,2,-999.0,9,-999.00,1,20050913,37,-54.1153,-97.8688
316N20050821,AAIW,67,1,7,7,2,20050912,2322,-54.1211,-97.8753,1500.0,2.5739,34.5388,2,34.5367,2,173.0,2,172.6,2,70.92,2,33.82,2,0.00,2,2.33,2,0.564,2,0.268,2,0.016,2,0.881,2,2251.1,2,2332.5,2,-999.0,9,-999.00,1,20050913,30,-54.1147,-97.8678
316N20050821,AAIW,67,1,6,6,2,20050912,2322,-54.1211,-97.8753,1834.2,2.3311,34.6448,2,34.6429,2,171.2,2,170.9,2,81.39,2,32.92,2,0.00,2,2.26,2,0.228,2,0.105,2,0.000,2,0.431,2,2259.4,2,2343.9,2,-999.0,9,-999.00,1,20050913,20,-54.1140,-97.8665
316N20050821,AAIW,67,1,5,5,2,20050912,2322,-54.1211,-97.8753,2177.3,2.1047,34.6949,2,34.6947,2,174.8,2,174.7,2,90.65,2,32.35,2,0.00,2,2.24,2,0.093,2,0.043,2,0.000,2,0.175,2,2264.6,2,2355.3,2,-999.0,9,-999.00,1,20050913,10,-54.1132,-97.8659
316N20050821,AAIW,67,1,4,4,2,20050912,2322,-54.1211,-97.8753,2683.1,1.7494,34.7131,2,34.7129,2,180.2,2,179.6,2,104.06,2,31.93,2,0.00,2,2.20,2,0.038,2,0.013,2,0.000,2,0.061,2,2271.9,2,2364.2,2,-999.0,9,-999.00,1,20050912,2356,-54.1125,-97.8652
316N20050821,AAIW,67,1,3,3,2,20050912,2322,-54.1211,-97.8753,3184.7,1.4836,34.7196,2,34.7198,2,189.8,2,189.5,2,109.66,2,31.89,2,0.00,2,2.18,2,0.026,6,0.011,6,0.000,6,0.070,6,2268.5,2,2366.1,2,-999.0,9,-999.00,1,20050912,2342,-54.1119,-97.8650
316N20050821,AAIW,67,1,2,2,2,20050912,2322,-54.1211,-97.8753,3684.0,1.0721,34.7152,2,34.7141,2,200.5,2,200.2,2,119.81,2,31.99,2,0.00,2,2.19,2,0.050,2,0.030,2,0.000,2,0.148,2,2267.1,2,2365.1,2,-999.0,9,-999.00,1,20050912,2329,-54.1116,-97.8649
316N20050821,AAIW,67,1,1,1,2,20050912,2322,-54.1211,-97.8753,3898.2,0.9004,34.7119,2,34.7131,2,204.4,2,203.1,2,125.42,2,32.04,2,0.00,2,2.20,2,0.055,2,0.026,2,0.000,2,0.139,2,2267.4,6,2368.2,2,-999.0,9,-999.00,1,20050912,2322,-54.1117,-97.8637
316N20050821,AAIW,68,1,23,23,2,20050913,1412,-54.4631,-99.8627,84.5,5.6193,34.1905,2,34.1934,2,299.3,2,299.0,2,3.71,2,19.39,2,0.07,2,1.37,2,4.575,2,2.646,2,0.444,2,5.672,2,2117.5,6,2274.9,2,-999.0,9,-999.00,1,20050913,1606,-54.4631,-99.8627
316N20050821,AAIW,68,1,22,22,2,20050913,1412,-54.4631,-99.8627,103.6,5.6138,34.1909,2,34.1930,2,299.1,2,298.9,2,3.70,2,19.44,2,0.07,2,1.38,2,4.615,2,2.578,2,0.444,2,5.642,2,2117.6,2,2275.2,2,-999.0,9,-999.00,1,20050913,1604,-54.4630,-99.8629
316N20050821,AAIW,68,1,21,21,2,20050913,1412,-54.4631,-99.8627,133.8,5.6097,34.1913,2,34.1951,2,298.8,2,298.6,2,3.70,2,19.44,2,0.08,2,1.38,2,4.543,2,2.573,2,0.442,2,5.642,2,2117.7,2,2274.7,2,-999.0,9,-999.00,1,20050913,1602,-54.4629,-99.8635
316N20050821,AAIW,68,1,20,20,2,20050913,1412,-54.4631,-99.8627,174.3,5.6101,34.1918,2,34.1941,2,298.8,2,298.4,2,3.69,2,19.48,2,0.08,2,1.37,2,4.568,2,2.613,2,0.434,2,5.436,2,2117.3,2,2273.7,2,-999.0,9,-999.00,1,20050913,1600,-54.4628,-99.8639
316N20050821,AAIW,68,1,19,19,2,20050913,1412,-54.4631,-99.8627,214.3,5.6121,34.1923,2,34.1947,2,298.6,2,298.4,2,3.69,2,19.48,2,0.07,2,1.38,2,4.571,2,2.631,2,0.429,2,5.523,2,2117.8,2,2274.7,2,-999.0,9,-999.00,1,20050913,1558,-54.4627,-99.8644
316N20050821,AAIW,68,1,18,18,2,20050913,1412,-54.4631,-99.8627,273.2,5.6232,34.2016,2,34.2044,2,296.4,2,295.4,2,3.69,2,19.54,2,0.06,2,1.37,2,4.551,2,2.631,2,0.432,2,5.342,2,2118.7,2,2274.0,2,-999.0,9,-999.00,1,20050913,1555,-54.4625,-99.8649
316N20050821,AAIW,68,1,17,17,2,20050913,1412,-54.4631,-99.8627,334.1,5.6469,34.2098,2,34.2114,2,296.1,2,296.2,2,3.89,2,19.54,2,0.06,2,1.37,2,4.566,2,2.601,2,0.423,2,5.269,2,2118.5,2,2274.9,2,-999.0,9,-999.00,1,20050913,1553,-54.4623,-99.8655
316N20050821,AAIW,68,1,16,16,2,20050913,1412,-54.4631,-99.8627,422.9,5.6332,34.2118,2,34.2139,2,293.7,2,293.4,2,4.09,2,19.86,2,0.02,2,1.40,2,4.501,2,2.575,2,0.433,2,5.307,2,2119.9,2,2273.3,2,-999.0,9,-999.00,1,20050913,1550,-54.4620,-99.8660
316N20050821,AAIW,68,1,15,15,2,20050913,1412,-54.4631,-99.8627,511.6,5.6226,34.2169,2,34.2163,2,287.7,2,288.8,2,4.88,2,20.54,2,0.01,2,1.44,2,4.462,2,2.564,2,0.423,2,5.047,2,2124.2,2,2275.8,2,-999.0,9,-999.00,1,20050913,1546,-54.4617,-99.8663
316N20050821,AAIW,68,1,14,14,2,20050913,1412,-54.4631,-99.8627,601.9,5.3711,34.2155,2,34.2182,2,268.3,2,267.1,2,9.30,2,23.49,2,0.00,2,1.62,2,4.063,2,2.279,2,0.360,2,4.261,2,2140.8,2,2277.7,2,-999.0,9,-999.00,1,20050913,1543,-54.4613,-99.8663
316N20050821,AAIW,68,1,13,13,2,20050913,1412,-54.4631,-99.8627,691.1,5.1096,34.2548,2,34.2546,2,237.1,2,236.2,2,16.14,2,26.68,2,0.00,2,1.83,2,3.209,6,1.710,6,0.250,6,3.249,6,2162.5,2,2284.0,2,-999.0,9,-999.00,1,20050913,1540,-54.4611,-99.8663
316N20050821,AAIW,68,1,12,12,2,20050913,1412,-54.4631,-99.8627,780.0,4.6569,34.2714,2,34.2732,2,223.3,2,223.7,2,22.18,2,28.50,2,0.00,2,1.95,2,2.744,2,1.454,2,0.221,2,2.957,2,2176.7,2,2288.5,2,-999.0,9,-999.00,1,20050913,1537,-54.4611,-99.8664
316N20050821,AAIW,68,1,11,11,2,20050913,1412,-54.4631,-99.8627,867.9,4.2735,34.2894,2,34.2905,2,215.7,2,215.1,2,27.62,2,29.89,2,0.00,2,2.03,2,2.395,2,1.266,2,0.184,2,2.687,2,2188.3,2,2291.2,2,-999.0,9,-999.00,1,20050913,1534,-54.4608,-99.8666
316N20050821,AAIW,68,1,10,10,2,20050913,1412,-54.4631,-99.8627,962.4,3.8304,34.3076,2,34.3100,2,208.7,2,208.6,2,33.88,2,31.04,2,0.00,2,2.13,2,2.030,2,1.039,2,0.138,2,2.464,2,2197.9,2,2299.3,2,-999.0,9,-999.00,1,20050913,1530,-54.4606,-99.8667
316N20050821,AAIW,68,1,9,9,2,20050913,1412,-54.4631,-99.8627,1161.6,3.1607,34.3779,2,34.3782,2,192.3,2,193.1,2,48.64,2,32.97,2,0.00,2,2.27,2,1.376,2,0.714,2,0.090,2,1.798,2,2221.8,2,2310.3,2,-999.0,9,-999.00,1,20050913,1525,-54.4597,-99.8668
316N20050821,AAIW,68,1,8,8,2,20050913,1412,-54.4631,-99.8627,1365.2,2.7618,34.4667,2,34.4675,2,179.7,2,179.3,2,61.82,2,33.97,2,0.00,2,2.34,2,0.892,2,0.429,2,0.038,2,1.240,2,2239.9,2,2325.1,2,-999.0,9,-999.00,1,20050913,1520,-54.4588,-99.8666
316N20050821,AAIW,68,1,7,7,2,20050913,1412,-54.4631,-99.8627,1619.3,2.5084,34.5686,2,34.5688,2,171.8,2,171.3,2,73.01,2,33.82,2,0.00,2,2.33,2,0.460,2,0.221,2,0.020,2,0.754,2,2253.0,2,2335.6,2,-999.0,9,-999.00,1,20050913,1513,-54.4579,-99.8662
316N20050821,AAIW,68,1,6,6,2,20050913,1412,-54.4631,-99.8627,1917.6,2.3021,34.6563,2,34.6568,2,172.9,2,172.3,2,80.95,2,32.85,2,0.00,2,2.27,2,0.243,2,0.116,2,0.000,2,0.419,2,2256.9,2,2345.6,2,-999.0,9,-999.00,1,20050913,1506,-54.4573,-99.8663
316N20050821,AAIW,68,1,5,5,2,20050913,1412,-54.4631,-99.8627,2322.1,2.0293,34.7084,2,34.7111,3,178.6,2,178.6,2,90.33,2,32.07,2,0.00,2,2.21,2,0.110,2,0.055,2,0.000,2,0.230,2,2259.8,2,2353.8,2,-999.0,9,-999.00,1,20050913,1457,-54.4560,-99.8663
316N20050821,AAIW,68,1,4,4,2,20050913,1412,-54.4631,-99.8627,2831.5,1.6355,34.7189,2,34.7196,2,185.2,2,185.3,2,104.27,2,32.02,2,0.00,2,2.20,2,0.050,2,0.032,2,0.000,2,0.154,2,2266.7,2,2365.5,2,-999.0,9,-999.00,1,20050913,1447,-54.4548,-99.8661
316N20050821,AAIW,68,1,3,3,2,20050913,1412,-54.4631,-99.8627,3336.0,1.3614,34.7215,2,34.7217,2,194.7,2,194.5,2,109.81,2,31.73,2,0.00,2,2.19,2,0.048,2,0.036,2,0.000,2,0.146,2,2263.1,2,2363.0,2,-999.0,9,-999.00,1,20050913,1436,-54.4541,-99.8652
316N20050821,AAIW,68,1,2,2,2,20050913,1412,-54.4631,-99.8627,3846.0,0.9333,34.7123,2,34.7148,3,202.4,2,202.2,2,123.80,2,32.16,2,0.00,2,2.23,2,0.047,2,0.029,2,0.000,2,0.181,2,2266.1,2,2369.2,2,-999.0,9,-999.00,1,20050913,1424,-54.4538,-99.8635
316N20050821,AAIW,68,1,1,1,2,20050913,1412,-54.4631,-99.8627,4353.9,0.7052,34.7075,2,34.7092,3,209.0,2,207.9,2,132.06,2,32.29,2,0.00,2,2.23,2,0.103,2,0.042,2,0.000,2,0.341,2,2266.9,6,2369.7,2,-999.0,9,-999.00,1,20050913,1412,-54.4539,-99.8631
316N20050821,AAIW,69,1,22,22,2,20050914,238,-54.8047,-101.9227,87.0,5.6740,34.1892,2,34.1901,2,298.9,2,298.5,2,3.50,2,19.31,2,0.09,2,1.37,2,4.568,2,2.660,2,0.458,2,5.574,2,2118.8,6,2274.0,2,-999.0,9,-999.00,1,20050914,435,-54.8047,-101.9227
316N20050821,AAIW,69,1,21,21,2,20050914,238,-54.8047,-101.9227,117.8,5.6803,34.1921,2,34.1942,2,-999.0,9,-999.0,5,3.50,2,19.36,2,0.09,2,1.36,2,4.587,2,2.681,2,0.463,2,5.652,2,2117.8,2,2274.1,2,-999.0,9,-999.00,1,20050914,433,-54.8047,-101.9225
316N20050821,AAIW,69,1,20,20,2,20050914,238,-54.8047,-101.9227,147.4,5.6800,34.1924,2,34.1917,2,298.1,2,298.7,2,3.49,2,19.30,2,0.09,2,1.36,2,4.666,2,2.712,2,0.449,2,5.651,2,2117.4,2,2274.0,2,-999.0,9,-999.00,1,20050914,431,-54.8045,-101.9224
316N20050821,AAIW,69,1,19,19,2,20050914,238,-54.8047,-101.9227,176.8,5.6772,34.1925,2,34.1920,2,298.2,2,296.9,2,3.49,2,19.35,2,0.09,2,1.37,2,4.614,2,2.697,2,0.443,2,5.605,2,2118.2,2,2274.5,2,-999.0,9,-999.00,1,20050914,429,-54.8046,-101.9222
316N20050821,AAIW,69,1,18,18,2,20050914,238,-54.8047,-101.9227,206.0,5.6692,34.1928,2,34.1922,2,296.9,2,296.5,2,3.48,2,19.41,2,0.08,2,1.37,2,4.831,4,2.661,4,0.447,4,5.922,4,2118.5,2,2274.1,2,-999.0,9,-999.00,1,20050914,427,-54.8045,-101.9220
316N20050821,AAIW,69,1,17,17,2,20050914,238,-54.8047,-101.9227,256.9,5.6258,34.1948,2,34.1949,2,295.1,2,293.5,2,3.88,2,19.82,2,0.04,2,1.38,2,4.634,2,2.670,2,0.444,2,5.607,2,2120.7,2,2274.3,2,-999.0,9,-999.00,1,20050914,424,-54.8043,-101.9219
316N20050821,AAIW,69,1,16,16,2,20050914,238,-54.8047,-101.9227,306.1,5.3219,34.1538,2,34.1546,2,296.2,2,295.6,2,3.87,2,20.51,2,0.02,2,1.43,2,4.648,2,2.740,2,0.451,2,5.617,2,2121.1,2,2273.6,2,-999.0,9,-999.00,1,20050914,422,-54.8044,-101.9215
316N20050821,AAIW,69,1,15,15,2,20050914,238,-54.8047,-101.9227,405.2,5.2425,34.1472,2,34.1471,2,296.0,2,296.5,2,4.27,2,20.74,2,0.01,2,1.45,2,4.700,2,2.734,2,0.453,2,5.681,2,2124.8,2,2273.2,2,-999.0,9,-999.00,1,20050914,417,-54.8042,-101.9212
316N20050821,AAIW,69,1,14,14,2,20050914,238,-54.8047,-101.9227,504.1,5.1888,34.1453,2,34.1473,2,296.1,2,295.0,2,4.47,2,20.74,2,0.01,2,1.46,2,4.678,2,2.689,2,0.428,2,5.563,2,2126.3,2,2273.9,2,-999.0,9,-999.00,1,20050914,413,-54.8037,-101.9209
316N20050821,AAIW,69,1,13,13,2,20050914,238,-54.8047,-101.9227,604.9,5.3494,34.2297,2,34.2346,2,252.7,2,252.4,2,11.68,2,24.88,2,0.00,2,1.71,2,3.703,2,2.077,2,0.321,2,3.867,2,2152.7,2,2279.6,2,-999.0,9,-999.00,1,20050914,409,-54.8036,-101.9203
316N20050821,AAIW,69,1,12,12,2,20050914,238,-54.8047,-101.9227,703.9,4.9766,34.2568,2,34.2561,2,232.1,2,232.0,2,17.49,2,27.16,2,0.00,2,1.87,2,3.128,2,1.625,2,0.231,2,3.565,2,2169.2,2,2283.8,2,-999.0,9,-999.00,1,20050914,405,-54.8036,-101.9200
316N20050821,AAIW,69,1,11,11,2,20050914,238,-54.8047,-101.9227,802.2,4.5332,34.2798,2,34.2796,2,220.0,2,219.2,2,23.92,2,29.17,2,0.00,2,1.98,2,2.594,2,1.359,2,0.186,2,3.204,2,2183.1,2,2288.8,2,-999.0,9,-999.00,1,20050914,401,-54.8034,-101.9200
316N20050821,AAIW,69,1,10,10,2,20050914,238,-54.8047,-101.9227,900.1,4.0607,34.3013,2,34.3021,2,211.5,2,211.6,2,30.75,2,30.61,2,0.00,2,2.09,2,2.183,2,1.148,2,0.168,2,2.650,2,2195.7,2,2295.0,2,-999.0,9,-999.00,1,20050914,358,-54.8032,-101.9196
316N20050821,AAIW,69,1,9,9,2,20050914,238,-54.8047,-101.9227,1000.1,3.6520,34.3236,2,34.3240,2,204.8,2,204.6,2,37.38,2,31.67,2,0.00,2,2.17,2,1.882,2,0.972,2,0.145,2,2.421,2,2207.3,2,2300.0,2,-999.0,9,-999.00,1,20050914,354,-54.8031,-101.9192
316N20050821,AAIW,69,1,8,8,2,20050914,238,-54.8047,-101.9227,1096.5,3.3468,34.3525,2,34.3522,2,198.3,2,197.9,2,43.83,2,32.48,2,0.00,2,2.24,2,1.602,2,0.824,2,0.112,2,2.028,2,2217.8,2,2305.9,2,-999.0,9,-999.00,1,20050914,351,-54.8030,-101.9189
316N20050821,AAIW,69,1,7,7,2,20050914,238,-54.8047,-101.9227,1292.3,2.8984,34.4292,2,34.4297,2,184.7,2,184.2,2,56.54,2,33.53,2,0.00,2,2.32,2,1.066,2,0.535,2,0.048,2,1.436,2,2235.9,2,2318.1,2,-999.0,9,-999.00,1,20050914,346,-54.8028,-101.9183
316N20050821,AAIW,69,1,6,6,2,20050914,238,-54.8047,-101.9227,1797.0,2.3933,34.6234,2,34.6236,2,170.7,2,170.1,2,78.63,2,33.28,2,0.00,2,2.29,2,0.286,2,0.125,2,0.000,2,0.480,2,2260.3,2,2342.2,2,-999.0,9,-999.00,1,20050914,335,-54.8027,-101.9163
316N20050821,AAIW,69,1,5,5,2,20050914,238,-54.8047,-101.9227,2303.2,2.0495,34.7055,2,34.7070,2,177.5,2,177.3,2,90.22,2,32.17,2,0.00,2,2.21,2,0.096,2,0.055,2,0.000,2,0.182,2,2264.3,2,2355.2,2,-999.0,9,-999.00,1,20050914,324,-54.8028,-101.9142
316N20050821,AAIW,69,1,4,4,2,20050914,238,-54.8047,-101.9227,2806.9,1.6694,34.7192,2,34.7187,2,184.8,2,184.8,2,102.66,2,31.97,2,0.00,2,2.20,2,0.047,2,0.034,2,0.000,2,0.108,2,2268.3,2,2354.5,3,-999.0,9,-999.00,1,20050914,313,-54.8021,-101.9130
316N20050821,AAIW,69,1,3,3,2,20050914,238,-54.8047,-101.9227,3313.0,1.4140,34.7205,2,34.7208,2,192.0,2,192.1,2,109.61,2,31.87,2,0.00,2,2.20,2,0.036,2,0.028,2,0.000,2,0.110,2,2268.8,2,2365.5,2,-999.0,9,-999.00,1,20050914,302,-54.8026,-101.9115
316N20050821,AAIW,69,1,2,2,2,20050914,238,-54.8047,-101.9227,3820.6,0.9642,34.7129,2,34.7140,2,201.6,2,201.4,2,122.32,2,32.16,2,0.00,2,2.21,2,0.055,6,0.035,6,0.000,6,0.150,6,2267.9,2,2365.8,2,-999.0,9,-999.00,1,20050914,251,-54.8021,-101.9103
316N20050821,AAIW,69,1,1,1,2,20050914,238,-54.8047,-101.9227,4325.0,0.7335,34.7083,2,34.7082,2,207.6,2,206.3,2,130.95,2,32.30,2,0.00,2,2.23,2,0.078,2,0.049,2,0.000,2,0.239,2,2270.9,6,2370.3,2,-999.0,9,-999.00,1,20050914,238,-54.8019,-101.9094