BOTTLE,20220819CCHSIOAMB
EXPOCODE,SECT_ID,STNNBR,CASTNO,SAMPNO,BTLNBR,BTLNBR_FLAG_W,DATE,TIME,LATITUDE,LONGITUDE,CTDPRS,CTDTMP,CTDSAL,CTDSAL_FLAG_W,SALNTY,SALNTY_FLAG_W,CTDOXY,CTDOXY_FLAG_W,OXYGEN,OXYGEN_FLAG_W,SILCAT,SILCAT_FLAG_W,NITRAT,NITRAT_FLAG_W,NITRIT,NITRIT_FLAG_W,PHSPHT,PHSPHT_FLAG_W,CFC-11,CFC-11_FLAG_W,CFC-12,CFC-12_FLAG_W,CFC113,CFC113_FLAG_W,CCL4,CCL4_FLAG_W,TCARBN,TCARBN_FLAG_W,ALKALI,ALKALI_FLAG_W,PCO2,PCO2_FLAG_W,PH_SWS,PH_SWS_FLAG_W,BTL_DATE,BTL_TIME,BTL_LAT,BTL_LON
,,,,,,,,,,,DBAR,ITS-90,PSS-78,,PSS-78,,UMOL/KG,,UMOL/KG,,UMOL/KG,,UMOL/KG,,UMOL/KG,,UMOL/KG,,PMOL/KG,,PMOL/KG,,PMOL/KG,,PMOL/KG,,UMOL/KG,,UMOL/KG,,UATM,,,,,,,
316N20050821,AAIW,128,1,24,24,2,20051004,426,-45.8919,-79.0213,5.1,8.7879,33.5884,2,33.5888,2,292.2,2,291.5,2,0.82,2,11.57,2,0.17,2,1.09,2,4.061,2,2.252,2,0.371,2,5.033,2,2053.2,6,2233.1,2,-999.0,9,-999.00,9,20051004,601,-45.8919,-79.0213
316N20050821,AAIW,128,1,23,30,2,20051004,426,-45.8919,-79.0213,26.1,8.5312,33.5970,2,33.5976,2,291.2,2,291.5,2,0.82,2,11.73,2,0.17,2,1.10,2,4.090,2,2.255,2,0.372,2,5.042,2,2055.1,2,2234.9,2,-999.0,9,-999.00,9,20051004,559,-45.8920,-79.0213
316N20050821,AAIW,128,1,22,22,2,20051004,426,-45.8919,-79.0213,65.4,8.3073,33.8675,2,33.8646,2,276.6,2,276.5,2,1.00,2,14.47,2,0.17,2,1.20,2,4.015,2,2.270,2,0.363,2,4.665,2,2079.9,2,2250.6,2,-999.0,9,-999.00,9,20051004,556,-45.8921,-79.0212
316N20050821,AAIW,128,1,21,29,2,20051004,426,-45.8919,-79.0213,104.9,7.9130,33.9936,2,33.9936,2,239.4,2,239.6,2,3.51,2,19.29,2,0.01,2,1.51,2,3.877,2,2.177,2,0.326,2,3.529,2,2116.6,2,2255.7,2,-999.0,9,-999.00,9,20051004,554,-45.8922,-79.0212
316N20050821,AAIW,128,1,20,20,2,20051004,426,-45.8919,-79.0213,155.2,7.4933,34.1131,2,34.1158,2,210.8,2,212.2,2,5.63,2,23.10,2,0.00,2,1.71,2,3.856,2,2.099,2,0.305,2,2.856,2,2146.1,2,2261.6,2,-999.0,9,-999.00,9,20051004,552,-45.8923,-79.0212
316N20050821,AAIW,128,1,19,28,2,20051004,426,-45.8919,-79.0213,224.0,6.7194,34.2398,2,34.2425,2,178.8,2,178.6,2,9.50,2,27.87,2,0.00,2,2.00,2,3.548,2,1.863,2,0.262,2,2.792,2,2181.8,2,2267.7,2,-999.0,9,-999.00,9,20051004,549,-45.8924,-79.0212
316N20050821,AAIW,128,1,18,18,2,20051004,426,-45.8919,-79.0213,294.6,6.0389,34.2425,2,34.2445,2,206.5,2,207.4,2,9.29,2,27.22,2,0.00,2,1.90,2,3.850,2,2.003,2,0.278,2,3.327,2,2171.2,2,2269.8,2,-999.0,9,-999.00,9,20051004,547,-45.8924,-79.0212
316N20050821,AAIW,128,1,17,17,2,20051004,426,-45.8919,-79.0213,384.1,5.5873,34.2348,2,34.2376,2,246.1,2,247.3,2,8.31,2,24.67,2,0.00,2,1.71,2,4.140,2,2.170,2,0.308,2,3.953,2,2150.2,2,2272.7,2,-999.0,9,-999.00,9,20051004,544,-45.8924,-79.0214
316N20050821,AAIW,128,1,16,16,2,20051004,426,-45.8919,-79.0213,464.6,5.3261,34.2265,2,34.2284,2,255.3,2,254.5,2,9.27,2,24.63,2,0.00,2,1.69,2,4.120,2,2.125,2,0.301,2,4.072,2,2147.9,2,2274.5,2,-999.0,9,-999.00,9,20051004,542,-45.8924,-79.0215
316N20050821,AAIW,128,1,15,15,2,20051004,426,-45.8919,-79.0213,554.2,5.0904,34.2238,2,34.2253,2,250.4,2,249.5,2,11.00,2,25.58,2,0.00,2,1.76,2,3.849,2,1.965,2,0.273,2,3.950,2,2153.3,2,2275.3,2,-999.0,9,-999.00,9,20051004,539,-45.8924,-79.0216
316N20050821,AAIW,128,1,14,14,2,20051004,426,-45.8919,-79.0213,663.4,4.6028,34.2382,2,34.2404,2,231.2,2,231.2,2,17.96,2,28.11,2,0.00,2,1.91,2,2.883,2,1.448,2,0.195,2,3.234,2,2171.3,2,2282.3,2,-999.0,9,-999.00,9,20051004,536,-45.8924,-79.0215
316N20050821,AAIW,128,1,13,13,2,20051004,426,-45.8919,-79.0213,764.0,4.2332,34.2736,2,34.2749,2,211.5,2,211.0,2,26.10,2,30.11,2,0.00,2,2.08,2,1.859,2,0.925,2,0.102,2,2.415,2,-999.0,1,2289.5,2,-999.0,9,-999.00,9,20051004,533,-45.8925,-79.0215
316N20050821,AAIW,128,1,12,12,2,20051004,426,-45.8919,-79.0213,863.5,3.7969,34.3143,2,34.3163,2,194.5,2,194.9,2,35.60,2,32.21,2,0.00,2,2.23,2,1.180,6,0.578,6,0.060,6,1.825,6,2207.6,2,2298.1,2,-999.0,9,-999.00,9,20051004,530,-45.8924,-79.0218
316N20050821,AAIW,128,1,11,11,2,20051004,426,-45.8919,-79.0213,963.0,3.4564,34.3577,2,34.3581,2,180.6,2,181.5,2,44.74,2,33.57,2,0.00,2,2.32,2,0.736,2,0.362,2,0.034,2,1.340,2,-999.0,1,2308.4,2,-999.0,9,-999.00,9,20051004,527,-45.8921,-79.0222
316N20050821,AAIW,128,1,10,10,2,20051004,426,-45.8919,-79.0213,1063.8,3.2018,34.4110,2,34.4135,2,163.9,2,165.2,2,55.25,2,34.77,2,0.00,2,2.43,2,0.371,2,0.183,2,0.018,2,0.826,2,2242.8,2,2318.8,2,-999.0,9,-999.00,9,20051004,524,-45.8918,-79.0227
316N20050821,AAIW,128,1,9,9,2,20051004,426,-45.8919,-79.0213,1213.9,2.9638,34.4883,2,34.4896,2,142.7,2,142.6,2,71.06,2,36.52,2,0.00,2,2.59,2,0.100,2,0.051,2,0.007,2,0.291,2,-999.0,1,2337.7,2,-999.0,9,-999.00,9,20051004,521,-45.8916,-79.0232
316N20050821,AAIW,128,1,8,8,2,20051004,426,-45.8919,-79.0213,1413.3,2.7193,34.5538,2,34.5560,2,131.8,2,131.6,2,86.35,2,37.15,2,0.00,2,2.63,2,0.016,2,0.011,2,0.000,2,0.073,2,2288.7,2,2355.4,2,-999.0,9,-999.00,9,20051004,516,-45.8913,-79.0237
316N20050821,AAIW,128,1,7,7,2,20051004,426,-45.8919,-79.0213,1714.1,2.3916,34.6089,2,34.6105,2,135.1,2,134.6,2,100.50,2,36.78,2,0.00,2,2.61,2,0.001,2,0.001,2,0.002,2,0.010,2,-999.0,1,2372.3,2,-999.0,9,-999.00,9,20051004,510,-45.8909,-79.0243
316N20050821,AAIW,128,1,6,6,2,20051004,426,-45.8919,-79.0213,2013.6,2.1580,34.6382,2,34.6394,2,140.9,2,140.7,2,108.37,2,36.26,2,0.00,2,2.57,2,-0.002,2,0.002,2,0.000,2,0.006,2,2304.1,2,2381.8,2,-999.0,9,-999.00,9,20051004,504,-45.8907,-79.0248
316N20050821,AAIW,128,1,5,27,2,20051004,426,-45.8919,-79.0213,2314.6,1.9620,34.6606,2,34.6594,2,147.2,2,146.7,2,114.86,2,35.79,2,0.00,2,2.52,2,0.003,2,0.001,2,0.000,2,0.002,2,-999.0,1,2390.1,2,-999.0,9,-999.00,9,20051004,457,-45.8903,-79.0255
316N20050821,AAIW,128,1,4,4,2,20051004,426,-45.8919,-79.0213,2617.4,1.8734,34.6717,2,34.6728,2,150.0,2,150.3,2,117.40,2,35.26,2,0.00,2,2.50,2,0.002,2,-0.001,2,0.001,2,0.007,2,2310.7,2,2393.5,2,-999.0,9,-999.00,9,20051004,451,-45.8897,-79.0262
316N20050821,AAIW,128,1,3,26,2,20051004,426,-45.8919,-79.0213,2920.4,1.8103,34.6795,2,34.6799,2,154.4,2,154.7,2,119.55,2,35.14,2,0.00,2,2.49,2,0.001,2,0.003,2,0.001,2,0.013,2,2309.2,2,2394.5,2,-999.0,9,-999.00,9,20051004,444,-45.8893,-79.0269
316N20050821,AAIW,128,1,2,2,2,20051004,426,-45.8919,-79.0213,3323.3,1.6880,34.6894,2,34.6910,3,163.7,2,163.4,2,118.92,2,34.28,2,0.00,2,2.43,2,0.001,2,0.003,2,0.001,2,0.039,2,-999.0,1,2390.8,2,-999.0,9,-999.00,9,20051004,436,-45.8888,-79.0277
316N20050821,AAIW,128,1,1,25,2,20051004,426,-45.8919,-79.0213,3848.3,1.4359,34.7026,2,34.7046,3,179.7,2,178.6,2,119.47,2,33.61,2,0.00,2,2.36,2,0.008,2,0.006,2,0.003,2,0.091,2,2286.5,2,2384.3,2,-999.0,9,-999.00,9,20051004,426,-45.8882,-79.0285
316N20050821,AAIW,129,1,24,24,2,20051004,1003,-45.6999,-78.2086,3.6,9.3057,33.7207,2,33.7219,2,-999.0,9,-999.0,5,0.68,2,11.44,2,0.15,2,1.05,2,3.926,2,2.252,2,0.361,2,4.965,2,2059.5,2,2242.9,2,-999.0,9,-999.00,9,20051004,1118,-45.6999,-78.2086
316N20050821,AAIW,129,1,23,30,2,20051004,1003,-45.6999,-78.2086,35.0,9.0338,33.7333,2,33.7338,2,-999.0,9,-999.0,5,0.68,2,11.67,2,0.15,2,1.05,2,3.912,2,2.230,2,0.366,2,4.854,2,2057.9,2,2242.9,2,-999.0,9,-999.00,9,20051004,1116,-45.6998,-78.2085
316N20050821,AAIW,129,1,22,22,2,20051004,1003,-45.6999,-78.2086,64.4,9.0183,33.7348,2,33.7353,2,284.8,2,284.5,2,0.47,2,11.86,2,0.15,2,1.06,2,3.897,6,2.217,6,0.364,6,4.800,6,2060.7,2,2242.9,2,-999.0,9,-999.00,9,20051004,1113,-45.6997,-78.2085
316N20050821,AAIW,129,1,21,29,2,20051004,1003,-45.6999,-78.2086,100.0,8.5594,33.9583,2,33.9479,2,239.6,2,238.9,2,2.60,2,18.21,2,0.01,2,1.43,2,3.784,2,2.130,2,0.305,2,3.092,2,2107.6,2,2251.7,2,-999.0,9,-999.00,9,20051004,1111,-45.6996,-78.2086
316N20050821,AAIW,129,1,20,20,2,20051004,1003,-45.6999,-78.2086,139.1,8.1523,34.1414,2,34.1421,2,186.2,2,185.2,2,6.88,2,23.90,2,0.00,2,1.86,2,3.556,2,1.960,2,0.260,2,2.103,2,-999.0,9,2261.3,2,-999.0,9,-999.00,9,20051004,1109,-45.6995,-78.2088
316N20050821,AAIW,129,1,19,28,2,20051004,1003,-45.6999,-78.2086,189.0,7.4147,34.2030,2,34.2011,2,175.3,2,178.5,2,8.03,2,26.24,2,0.00,2,1.96,2,3.541,2,1.916,2,0.264,2,2.425,2,2173.9,2,2264.8,2,-999.0,9,-999.00,9,20051004,1107,-45.6995,-78.2091
316N20050821,AAIW,129,1,18,18,2,20051004,1003,-45.6999,-78.2086,238.3,7.0127,34.2732,2,34.2719,2,156.4,2,155.8,2,10.94,2,29.35,2,0.00,2,2.14,2,3.226,2,1.694,2,0.225,2,2.369,2,-999.0,9,2269.2,2,-999.0,9,-999.00,9,20051004,1105,-45.6995,-78.2094
316N20050821,AAIW,129,1,17,17,2,20051004,1003,-45.6999,-78.2086,278.0,6.6515,34.2572,2,34.2584,2,176.0,2,177.3,2,9.97,2,28.51,2,0.00,2,2.04,2,3.468,2,1.803,2,0.246,2,2.753,2,2185.0,2,2268.6,2,-999.0,9,-999.00,9,20051004,1103,-45.6995,-78.2096
316N20050821,AAIW,129,1,16,16,2,20051004,1003,-45.6999,-78.2086,317.1,6.2231,34.2554,2,34.2552,2,196.1,2,197.1,2,9.77,2,27.84,2,0.00,2,1.96,2,3.648,2,1.915,2,0.267,2,3.114,2,-999.0,9,2270.7,2,-999.0,9,-999.00,9,20051004,1101,-45.6996,-78.2099
316N20050821,AAIW,129,1,15,15,2,20051004,1003,-45.6999,-78.2086,392.1,5.8228,34.2494,2,34.2488,2,225.4,2,224.3,2,9.18,2,26.39,2,0.00,2,1.85,2,3.890,2,2.017,2,0.283,2,3.548,2,2160.3,2,2271.6,2,-999.0,9,-999.00,9,20051004,1058,-45.6998,-78.2105
316N20050821,AAIW,129,1,14,14,2,20051004,1003,-45.6999,-78.2086,481.1,5.4885,34.2378,2,34.2380,2,242.6,2,242.2,2,9.37,2,25.55,2,0.00,2,1.79,2,3.986,2,2.061,2,0.281,2,3.803,2,2155.6,2,2273.2,2,-999.0,9,-999.00,9,20051004,1055,-45.7000,-78.2111
316N20050821,AAIW,129,1,13,13,2,20051004,1003,-45.6999,-78.2086,570.7,5.1042,34.2305,2,34.2323,2,244.8,2,244.1,2,11.50,2,26.21,2,0.00,2,1.84,2,3.666,2,1.880,2,0.254,2,3.766,2,2157.8,2,2275.8,2,-999.0,9,-999.00,9,20051004,1053,-45.7002,-78.2115
316N20050821,AAIW,129,1,12,12,2,20051004,1003,-45.6999,-78.2086,659.5,4.7874,34.2358,2,34.2360,2,235.6,2,234.9,2,15.59,2,27.57,2,0.00,2,1.94,2,2.281,4,1.284,4,0.172,4,1.979,4,2168.9,2,2279.2,2,-999.0,9,-999.00,9,20051004,1050,-45.7003,-78.2121
316N20050821,AAIW,129,1,11,11,2,20051004,1003,-45.6999,-78.2086,750.4,4.4235,34.2574,2,34.2589,2,220.2,2,219.8,2,22.01,2,29.65,2,0.00,2,2.07,2,2.244,2,1.137,2,0.146,2,2.719,2,-999.0,9,2286.1,2,-999.0,9,-999.00,9,20051004,1047,-45.7005,-78.2125
316N20050821,AAIW,129,1,10,10,2,20051004,1003,-45.6999,-78.2086,841.0,3.9981,34.2975,2,34.2990,2,200.5,2,200.0,2,31.56,2,31.88,2,0.00,2,2.23,2,1.466,2,0.731,2,0.078,2,2.057,2,2199.3,2,2294.1,2,-999.0,9,-999.00,9,20051004,1044,-45.7007,-78.2131
316N20050821,AAIW,129,1,9,9,2,20051004,1003,-45.6999,-78.2086,931.4,3.6657,34.3355,2,34.3382,2,185.5,2,186.5,2,40.16,2,33.40,2,0.00,2,2.33,2,0.940,2,0.467,2,0.049,2,1.548,2,-999.0,9,2302.7,2,-999.0,9,-999.00,9,20051004,1042,-45.7009,-78.2136
316N20050821,AAIW,129,1,8,8,2,20051004,1003,-45.6999,-78.2086,1031.7,3.3943,34.3806,2,34.3820,2,170.9,2,171.4,2,49.54,2,34.74,2,0.00,2,2.43,2,0.542,2,0.271,2,0.027,2,1.069,2,2235.4,6,2312.5,2,-999.0,9,-999.00,9,20051004,1039,-45.7009,-78.2141
316N20050821,AAIW,129,1,7,7,2,20051004,1003,-45.6999,-78.2086,1182.4,3.0684,34.4614,2,34.4618,2,148.2,2,147.8,2,66.04,2,36.50,2,0.00,2,2.57,2,0.176,2,0.090,2,0.009,2,0.454,2,-999.0,9,2330.7,2,-999.0,9,-999.00,9,20051004,1035,-45.7009,-78.2146
316N20050821,AAIW,129,1,6,6,2,20051004,1003,-45.6999,-78.2086,1332.8,2.8943,34.5138,2,34.5149,2,134.7,2,136.3,2,77.46,2,37.18,2,0.00,2,2.64,2,0.067,2,0.034,2,0.007,2,0.225,2,-999.0,9,2344.2,2,-999.0,9,-999.00,9,20051004,1032,-45.7007,-78.2147
316N20050821,AAIW,129,1,5,27,2,20051004,1003,-45.6999,-78.2086,1512.6,2.6642,34.5626,2,34.5628,2,132.7,2,132.5,2,89.10,2,37.27,2,0.00,2,2.65,2,0.019,2,0.014,2,0.001,2,0.080,2,-999.0,9,2358.2,2,-999.0,9,-999.00,9,20051004,1027,-45.7006,-78.2145
316N20050821,AAIW,129,1,4,4,2,20051004,1003,-45.6999,-78.2086,1784.5,2.3436,34.6142,2,34.6152,2,135.1,2,134.6,2,102.97,2,36.84,2,0.00,2,2.62,2,0.000,2,0.006,2,0.001,2,0.013,2,-999.0,9,2374.5,2,-999.0,9,-999.00,9,20051004,1022,-45.7004,-78.2144
316N20050821,AAIW,129,1,3,26,2,20051004,1003,-45.6999,-78.2086,2085.2,2.0899,34.6452,2,34.6451,2,141.3,2,140.9,2,111.71,2,36.13,2,0.00,2,2.57,2,-0.002,2,0.000,2,0.002,2,0.001,2,-999.0,9,2386.4,2,-999.0,9,-999.00,9,20051004,1015,-45.7002,-78.2141
316N20050821,AAIW,129,1,2,2,2,20051004,1003,-45.6999,-78.2086,2386.9,1.9564,34.6616,2,34.6614,2,145.2,2,145.1,2,117.08,2,35.84,2,0.00,2,2.54,2,0.001,2,0.004,2,0.000,2,0.022,2,-999.0,9,2392.0,2,-999.0,9,-999.00,9,20051004,1009,-45.7002,-78.2143
316N20050821,AAIW,129,1,1,25,2,20051004,1003,-45.6999,-78.2086,2638.6,1.8915,34.6700,2,34.6700,2,148.5,2,148.1,2,119.07,2,35.55,2,0.00,2,2.51,2,0.001,2,0.003,2,0.003,2,0.047,2,-999.0,9,2394.0,2,-999.0,9,-999.00,9,20051004,1003,-45.6999,-78.2149
316N20050821,AAIW,130,1,24,24,2,20051004,1522,-45.5364,-77.4148,3.3,9.5493,33.6245,2,33.6238,2,289.5,2,287.8,2,0.53,2,9.17,2,0.16,2,0.94,2,3.831,2,2.225,2,0.348,2,4.715,2,2041.2,2,2236.9,2,-999.0,9,-999.00,9,20051004,1634,-45.5364,-77.4148
316N20050821,AAIW,130,1,23,30,2,20051004,1522,-45.5364,-77.4148,33.6,9.2425,33.6155,2,33.6140,2,285.2,2,283.8,2,0.53,2,10.06,2,0.20,2,1.01,2,3.863,2,2.228,2,0.349,2,4.750,2,-999.0,9,2235.3,2,-999.0,9,-999.00,9,20051004,1632,-45.5363,-77.4149
316N20050821,AAIW,130,1,22,22,2,20051004,1522,-45.5364,-77.4148,69.4,9.0181,33.7840,2,33.7830,2,269.0,2,267.0,2,0.92,2,13.68,2,0.04,2,1.15,2,3.822,2,2.198,2,0.346,2,4.080,2,2073.1,2,2243.8,2,-999.0,9,-999.00,9,20051004,1630,-45.5363,-77.4151
316N20050821,AAIW,130,1,21,29,2,20051004,1522,-45.5364,-77.4148,103.7,8.5964,33.8684,2,33.8654,2,259.4,2,261.1,2,1.51,2,15.69,2,0.00,2,1.24,2,3.846,2,2.228,2,0.326,2,3.679,2,-999.0,9,2249.3,2,-999.0,9,-999.00,9,20051004,1628,-45.5363,-77.4151
316N20050821,AAIW,130,1,20,20,2,20051004,1522,-45.5364,-77.4148,153.3,8.6610,34.1830,2,34.1787,2,157.8,2,157.7,2,8.92,2,24.73,2,0.00,2,2.01,2,3.248,2,1.808,2,0.234,2,1.617,2,2176.0,2,2262.8,2,-999.0,9,-999.00,9,20051004,1626,-45.5362,-77.4152
316N20050821,AAIW,130,1,19,28,2,20051004,1522,-45.5364,-77.4148,204.1,7.9693,34.2897,2,34.2903,2,128.2,2,127.6,2,12.24,2,28.97,2,0.00,2,2.26,2,2.922,2,1.546,2,0.200,2,1.664,2,-999.0,9,2268.9,2,-999.0,9,-999.00,9,20051004,1624,-45.5361,-77.4153
316N20050821,AAIW,130,1,18,18,2,20051004,1522,-45.5364,-77.4148,253.5,7.0931,34.2578,2,34.2575,2,163.0,2,163.1,2,10.28,2,28.60,2,0.00,2,2.10,2,3.352,2,1.738,2,0.237,2,2.329,2,2188.5,2,2268.6,2,-999.0,9,-999.00,9,20051004,1622,-45.5361,-77.4153
316N20050821,AAIW,130,1,17,17,2,20051004,1522,-45.5364,-77.4148,303.5,6.5324,34.2583,2,34.2561,2,182.3,2,182.5,2,10.09,2,28.51,2,0.00,2,2.03,2,3.515,2,1.849,2,0.246,2,2.738,2,-999.0,9,2269.2,2,-999.0,9,-999.00,9,20051004,1621,-45.5360,-77.4154
316N20050821,AAIW,130,1,16,16,2,20051004,1522,-45.5364,-77.4148,352.4,6.1212,34.2435,2,34.2420,2,211.0,2,210.8,2,8.91,2,27.03,2,0.00,2,1.90,2,3.850,2,1.998,2,0.277,2,3.250,2,2167.7,2,2270.7,2,-999.0,9,-999.00,9,20051004,1619,-45.5360,-77.4154
316N20050821,AAIW,130,1,15,15,2,20051004,1522,-45.5364,-77.4148,403.1,5.7443,34.2412,2,34.2401,2,235.5,2,237.1,2,8.52,2,25.61,2,0.00,2,1.78,2,4.099,2,2.103,2,0.297,2,3.647,2,-999.0,9,2272.6,2,-999.0,9,-999.00,9,20051004,1617,-45.5360,-77.4155
316N20050821,AAIW,130,1,14,14,2,20051004,1522,-45.5364,-77.4148,504.5,5.4117,34.2308,2,34.2301,2,250.0,2,251.0,2,8.91,2,25.14,2,0.00,2,1.75,2,4.117,2,2.114,2,0.295,2,3.877,2,2149.2,2,2273.6,2,-999.0,9,-999.00,9,20051004,1614,-45.5359,-77.4155
316N20050821,AAIW,130,1,13,13,2,20051004,1522,-45.5364,-77.4148,602.8,5.1492,34.2244,2,34.2242,2,251.6,2,251.7,2,10.66,2,25.72,2,0.00,2,1.80,2,3.930,2,1.982,2,0.277,2,3.847,2,-999.0,9,2276.1,2,-999.0,9,-999.00,9,20051004,1612,-45.5359,-77.4156
316N20050821,AAIW,130,1,12,12,2,20051004,1522,-45.5364,-77.4148,703.2,4.7954,34.2336,2,34.2337,2,238.1,2,236.7,2,15.55,2,27.77,2,0.00,2,1.94,2,3.147,2,1.583,2,0.206,2,3.354,2,2165.0,2,2280.7,2,-999.0,9,-999.00,9,20051004,1609,-45.5358,-77.4157
316N20050821,AAIW,130,1,11,11,2,20051004,1522,-45.5364,-77.4148,803.3,4.3420,34.2639,2,34.2624,3,215.2,2,216.7,2,23.75,2,30.17,2,0.00,2,2.11,2,2.194,2,1.095,2,0.133,2,2.708,2,-999.0,9,2288.1,2,-999.0,9,-999.00,9,20051004,1606,-45.5357,-77.4157
316N20050821,AAIW,130,1,10,10,2,20051004,1522,-45.5364,-77.4148,903.5,3.9605,34.3013,2,34.3012,2,198.7,2,198.9,2,32.75,2,32.24,2,0.00,2,2.26,2,1.397,2,0.697,2,0.080,2,1.973,2,2201.5,2,2296.3,2,-999.0,9,-999.00,9,20051004,1603,-45.5356,-77.4157
316N20050821,AAIW,130,1,9,9,2,20051004,1522,-45.5364,-77.4148,1002.1,3.5493,34.3486,2,34.3469,2,183.0,2,182.9,2,43.14,2,33.98,2,0.00,2,2.38,2,0.802,2,0.408,2,0.039,2,1.390,2,-999.0,9,2306.2,2,-999.0,9,-999.00,9,20051004,1601,-45.5356,-77.4155
316N20050821,AAIW,130,1,8,8,2,20051004,1522,-45.5364,-77.4148,1143.0,3.1999,34.4286,2,34.4284,2,155.1,2,156.5,2,59.45,2,36.21,2,0.00,2,2.54,2,0.279,2,0.139,2,0.013,2,0.635,2,2250.6,2,2323.6,2,-999.0,9,-999.00,9,20051004,1557,-45.5355,-77.4154
316N20050821,AAIW,130,1,7,7,2,20051004,1522,-45.5364,-77.4148,1282.8,2.9962,34.4903,2,34.4900,2,137.9,2,139.1,2,73.07,2,37.58,2,0.00,2,2.65,2,0.105,2,0.045,2,0.010,2,0.278,2,-999.0,9,2339.3,2,-999.0,9,-999.00,9,20051004,1554,-45.5354,-77.4153
316N20050821,AAIW,130,1,6,6,2,20051004,1522,-45.5364,-77.4148,1483.0,2.7168,34.5549,2,34.5550,2,131.0,2,131.5,2,87.50,2,37.69,2,0.00,2,2.68,2,0.015,2,0.011,2,-0.002,2,0.079,2,2289.8,2,2355.9,2,-999.0,9,-999.00,9,20051004,1549,-45.5353,-77.4150
316N20050821,AAIW,130,1,5,27,2,20051004,1522,-45.5364,-77.4148,1682.4,2.5114,34.5921,2,34.5911,2,130.9,2,131.0,2,97.41,2,37.60,2,0.00,2,2.67,2,0.005,2,0.003,2,-0.001,2,0.032,2,-999.0,9,2368.2,2,-999.0,9,-999.00,9,20051004,1545,-45.5352,-77.4147
316N20050821,AAIW,130,1,4,4,2,20051004,1522,-45.5364,-77.4148,1883.7,2.2849,34.6225,2,34.6222,2,136.0,2,136.3,2,105.16,2,37.02,2,0.00,2,2.63,2,-0.005,2,-0.002,2,-0.001,2,0.005,2,2303.5,2,2376.9,2,-999.0,9,-999.00,9,20051004,1540,-45.5351,-77.4143
316N20050821,AAIW,130,1,3,26,2,20051004,1522,-45.5364,-77.4148,2083.9,2.1079,34.6436,2,34.6428,2,141.1,2,140.7,2,111.92,2,36.54,2,0.00,2,2.60,2,-0.004,2,-0.001,2,-0.002,2,0.003,2,-999.0,9,2384.0,2,-999.0,9,-999.00,9,20051004,1535,-45.5349,-77.4142
316N20050821,AAIW,130,1,2,2,2,20051004,1522,-45.5364,-77.4148,2388.4,1.9320,34.6640,2,34.6624,3,146.1,2,146.4,2,118.30,2,36.21,2,0.00,2,2.56,2,-0.001,2,0.001,2,-0.001,2,0.012,2,2309.1,6,2392.5,2,-999.0,9,-999.00,9,20051004,1528,-45.5346,-77.4140
316N20050821,AAIW,130,1,1,25,2,20051004,1522,-45.5364,-77.4148,2689.3,1.9007,34.6700,2,34.6695,2,147.7,2,147.1,2,119.89,2,36.07,2,0.00,2,2.55,2,-0.004,2,0.002,2,-0.001,2,-0.017,2,-999.0,9,2396.1,2,-999.0,9,-999.00,9,20051004,1522,-45.5344,-77.4136