BOTTLE,20220819CCHSIOAMB
EXPOCODE,SECT_ID,STNNBR,CASTNO,SAMPNO,BTLNBR,BTLNBR_FLAG_W,DATE,TIME,LATITUDE,LONGITUDE,CTDPRS,CTDTMP,CTDSAL,CTDSAL_FLAG_W,SALNTY,SALNTY_FLAG_W,CTDOXY,CTDOXY_FLAG_W,OXYGEN,OXYGEN_FLAG_W,SILCAT,SILCAT_FLAG_W,NITRAT,NITRAT_FLAG_W,NITRIT,NITRIT_FLAG_W,PHSPHT,PHSPHT_FLAG_W,CFC-11,CFC-11_FLAG_W,CFC-12,CFC-12_FLAG_W,CFC113,CFC113_FLAG_W,CCL4,CCL4_FLAG_W,TCARBN,TCARBN_FLAG_W,ALKALI,ALKALI_FLAG_W,PCO2,PCO2_FLAG_W,PH_SWS,PH_SWS_FLAG_W,BTL_DATE,BTL_TIME,BTL_LAT,BTL_LON
,,,,,,,,,,,DBAR,ITS-90,PSS-78,,PSS-78,,UMOL/KG,,UMOL/KG,,UMOL/KG,,UMOL/KG,,UMOL/KG,,UMOL/KG,,PMOL/KG,,PMOL/KG,,PMOL/KG,,PMOL/KG,,UMOL/KG,,UMOL/KG,,UATM,,,,,,,
316N20050821,AAIW,76,1,24,24,4,20050917,2255,-58.4237,-102.9818,10.6,3.9323,34.0263,2,34.0256,2,308.5,2,308.3,2,7.18,2,23.01,2,0.07,2,1.62,2,4.915,2,2.730,2,0.479,2,6.154,2,2131.1,6,2271.9,2,-999.0,9,-999.00,1,20050918,48,-58.4237,-102.9818
316N20050821,AAIW,76,1,23,23,4,20050917,2255,-58.4237,-102.9818,46.7,3.9394,34.0267,2,34.0262,2,308.4,2,308.2,2,7.18,2,22.91,2,0.07,2,1.62,2,4.882,2,2.711,2,0.472,2,6.233,2,2130.3,2,2271.7,2,-999.0,9,-999.00,1,20050918,46,-58.4237,-102.9819
316N20050821,AAIW,76,1,22,22,4,20050917,2255,-58.4237,-102.9818,76.0,3.9442,34.0270,2,34.0258,2,307.9,2,308.6,2,7.19,2,22.92,2,0.07,2,1.60,2,4.911,2,2.714,2,0.471,2,6.100,2,2132.1,2,2271.0,2,-999.0,9,-999.00,1,20050918,45,-58.4237,-102.9819
316N20050821,AAIW,76,1,21,21,4,20050917,2255,-58.4237,-102.9818,115.2,3.9455,34.0293,2,34.0289,2,306.8,2,307.6,2,7.19,2,23.06,2,0.07,2,1.60,2,4.922,2,2.695,2,0.475,2,6.082,2,2132.3,2,2272.1,2,-999.0,9,-999.00,1,20050918,43,-58.4236,-102.9819
316N20050821,AAIW,76,1,20,20,4,20050917,2255,-58.4237,-102.9818,161.4,3.7641,34.0361,2,34.0365,2,299.1,2,300.5,2,9.19,2,24.26,2,0.04,2,1.68,2,4.779,2,2.639,2,0.459,2,5.781,2,2140.7,2,2272.2,2,-999.0,9,-999.00,1,20050918,40,-58.4237,-102.9820
316N20050821,AAIW,76,1,19,19,4,20050917,2255,-58.4237,-102.9818,205.4,3.9642,34.0967,2,34.0966,2,272.9,2,274.2,2,13.60,2,26.09,2,0.00,2,1.80,2,4.272,4,2.332,4,0.384,4,4.832,4,2154.6,3,2276.5,3,-999.0,9,-999.00,1,20050918,38,-58.4237,-102.9820
316N20050821,AAIW,76,1,18,18,2,20050917,2255,-58.4237,-102.9818,244.9,3.2615,34.0323,2,34.0352,2,292.5,2,291.7,2,13.00,2,26.04,2,0.01,2,1.81,2,4.663,2,2.596,2,0.457,2,5.471,2,2151.9,2,2275.3,2,-999.0,9,-999.00,1,20050918,35,-58.4235,-102.9819
316N20050821,AAIW,76,1,17,17,2,20050917,2255,-58.4237,-102.9818,315.9,4.0035,34.1924,2,34.1931,2,242.3,2,241.8,2,21.61,2,28.65,2,0.00,2,1.96,2,3.490,2,1.854,2,0.305,2,3.722,2,2178.1,2,2283.5,2,-999.0,9,-999.00,1,20050918,32,-58.4233,-102.9820
316N20050821,AAIW,76,1,16,16,2,20050917,2255,-58.4237,-102.9818,414.8,3.6509,34.2229,2,34.2230,2,230.3,2,231.2,2,27.82,2,30.26,2,0.00,2,2.06,2,3.107,2,1.677,2,0.270,2,3.394,2,2188.0,2,2287.2,2,-999.0,9,-999.00,1,20050918,29,-58.4234,-102.9822
316N20050821,AAIW,76,1,15,15,2,20050917,2255,-58.4237,-102.9818,516.0,3.2293,34.2663,2,34.2663,2,217.6,2,219.1,2,36.05,2,31.77,2,0.00,2,2.18,2,2.633,2,1.351,2,0.220,2,2.972,2,2203.2,2,2296.3,2,-999.0,9,-999.00,1,20050918,25,-58.4236,-102.9822
316N20050821,AAIW,76,1,14,14,2,20050917,2255,-58.4237,-102.9818,615.9,3.1554,34.3327,2,34.3331,2,201.1,2,201.5,2,43.89,2,32.78,2,0.00,2,2.26,2,1.876,2,0.958,2,0.150,2,2.303,2,2216.2,2,2302.6,2,-999.0,9,-999.00,1,20050918,21,-58.4237,-102.9819
316N20050821,AAIW,76,1,13,13,2,20050917,2255,-58.4237,-102.9818,715.9,2.8377,34.3734,2,34.3729,2,192.8,2,193.3,2,51.75,2,33.72,2,0.00,2,2.32,2,1.611,2,0.807,2,0.128,2,2.039,2,2228.8,2,2311.3,2,-999.0,9,-999.00,1,20050918,18,-58.4236,-102.9817
316N20050821,AAIW,76,1,12,12,2,20050917,2255,-58.4237,-102.9818,815.8,2.7552,34.4368,2,34.4362,2,183.0,2,182.7,2,58.81,2,34.06,2,0.00,2,2.35,2,1.098,2,0.572,2,0.067,2,1.463,2,2239.0,2,2317.9,2,-999.0,9,-999.00,1,20050918,14,-58.4238,-102.9817
316N20050821,AAIW,76,1,11,11,2,20050917,2255,-58.4237,-102.9818,912.2,2.6157,34.4845,2,34.4838,2,178.1,2,177.6,2,64.66,2,34.24,2,0.00,2,2.36,2,0.884,2,0.445,2,0.058,2,1.258,2,2245.9,2,2323.6,2,-999.0,9,-999.00,1,20050918,11,-58.4238,-102.9815
316N20050821,AAIW,76,1,10,10,2,20050917,2255,-58.4237,-102.9818,1013.0,2.4992,34.5271,2,34.5254,2,174.9,2,175.3,2,69.31,2,34.24,2,0.00,2,2.36,2,0.745,2,0.366,2,0.038,2,1.055,2,2250.8,2,2328.7,2,-999.0,9,-999.00,1,20050918,7,-58.4236,-102.9812
316N20050821,AAIW,76,1,9,9,2,20050917,2255,-58.4237,-102.9818,1158.7,2.4018,34.5857,2,34.5852,2,172.5,2,172.1,2,74.37,2,33.86,2,0.00,2,2.34,2,0.520,2,0.232,2,0.024,2,0.756,2,2255.5,2,2334.1,2,-999.0,9,-999.00,1,20050918,3,-58.4234,-102.9813
316N20050821,AAIW,76,1,8,8,2,20050917,2255,-58.4237,-102.9818,1350.9,2.3079,34.6387,2,34.6370,2,172.2,2,172.2,2,79.23,2,33.19,2,0.00,2,2.30,2,0.310,2,0.143,2,0.003,2,0.443,2,2257.5,2,2340.6,2,-999.0,9,-999.00,1,20050917,2358,-58.4234,-102.9816
316N20050821,AAIW,76,1,7,7,2,20050917,2255,-58.4237,-102.9818,1650.7,2.1166,34.6992,2,34.6984,2,178.9,2,179.0,2,84.51,2,32.28,2,0.00,2,2.21,2,0.199,2,0.098,2,0.003,2,0.308,2,2256.0,2,2344.6,2,-999.0,9,-999.00,1,20050917,2350,-58.4232,-102.9832
316N20050821,AAIW,76,1,6,6,2,20050917,2255,-58.4237,-102.9818,2148.7,1.7319,34.7290,2,34.7274,2,188.5,2,188.5,2,95.27,2,31.76,2,0.00,2,2.17,2,0.101,2,0.052,2,0.003,2,0.146,2,2258.4,2,2354.5,2,-999.0,9,-999.00,1,20050917,2341,-58.4227,-102.9849
316N20050821,AAIW,76,1,5,5,2,20050917,2255,-58.4237,-102.9818,2661.3,1.3816,34.7259,2,34.7255,2,194.7,2,194.3,2,106.89,2,31.90,2,0.00,2,2.18,2,0.075,2,0.040,2,0.003,2,0.128,2,2262.9,2,2358.5,2,-999.0,9,-999.00,1,20050917,2332,-58.4218,-102.9866
316N20050821,AAIW,76,1,4,4,2,20050917,2255,-58.4237,-102.9818,3168.1,1.1220,34.7199,2,34.7192,2,200.2,2,200.2,2,114.45,2,32.09,2,0.00,2,2.20,2,0.101,2,0.051,2,0.003,2,0.198,2,2262.3,2,2358.7,2,-999.0,9,-999.00,1,20050917,2322,-58.4213,-102.9881
316N20050821,AAIW,76,1,3,3,2,20050917,2255,-58.4237,-102.9818,3678.5,0.8162,34.7107,2,34.7100,2,205.2,2,205.6,2,124.28,2,32.48,2,0.00,2,2.22,2,0.145,6,0.059,6,0.003,6,0.281,6,2263.0,2,2361.4,2,-999.0,9,-999.00,1,20050917,2313,-58.4208,-102.9897
316N20050821,AAIW,76,1,2,2,2,20050917,2255,-58.4237,-102.9818,4187.9,0.5644,34.7063,2,34.7054,2,209.9,2,210.7,2,132.70,2,32.71,2,0.00,2,2.24,2,0.194,2,0.089,2,0.003,2,0.453,2,2264.1,2,2361.5,2,-999.0,9,-999.00,1,20050917,2304,-58.4202,-102.9907
316N20050821,AAIW,76,1,1,1,2,20050917,2255,-58.4237,-102.9818,4618.3,0.5222,34.7048,2,34.7041,2,212.5,2,212.4,2,134.76,2,32.81,2,0.00,2,2.24,2,0.220,2,0.107,2,0.003,2,0.528,2,2264.8,6,2360.2,2,-999.0,9,-999.00,1,20050917,2255,-58.4205,-102.9916
316N20050821,AAIW,77,1,24,24,2,20050918,635,-58.9946,-102.9777,13.1,3.5565,33.9992,2,33.9992,2,311.3,2,311.2,2,7.89,2,23.65,2,0.08,2,1.64,2,4.987,2,2.805,2,0.486,2,6.287,2,2132.7,2,2272.4,2,-999.0,9,-999.00,1,20050918,830,-58.9946,-102.9777
316N20050821,AAIW,77,1,23,23,2,20050918,635,-58.9946,-102.9777,47.9,3.5596,33.9990,2,33.9978,2,311.1,2,311.4,2,7.88,2,23.60,2,0.08,2,1.65,2,5.040,2,2.779,2,0.482,2,6.378,2,-999.0,1,2272.6,2,-999.0,9,-999.00,1,20050918,828,-58.9946,-102.9778
316N20050821,AAIW,77,1,22,22,2,20050918,635,-58.9946,-102.9777,92.0,3.5525,33.9980,2,33.9970,2,311.2,2,311.6,2,7.88,2,23.64,2,0.08,2,1.64,2,4.988,2,2.812,2,0.480,2,6.324,2,2132.6,2,2271.8,2,-999.0,9,-999.00,1,20050918,823,-58.9945,-102.9781
316N20050821,AAIW,77,1,21,21,2,20050918,635,-58.9946,-102.9777,142.5,3.5071,33.9955,2,33.9958,2,311.4,2,312.2,2,7.87,2,23.69,2,0.09,2,1.65,2,5.001,2,2.772,2,0.473,2,6.340,2,2134.6,2,2273.3,2,-999.0,9,-999.00,1,20050918,820,-58.9947,-102.9781
316N20050821,AAIW,77,1,20,20,2,20050918,635,-58.9946,-102.9777,241.3,3.0419,33.9935,2,33.9927,2,304.1,2,304.2,2,11.86,2,25.65,2,0.03,2,1.78,2,5.042,2,2.760,2,0.469,2,6.204,2,2146.8,2,2274.8,2,-999.0,9,-999.00,1,20050918,817,-58.9946,-102.9783
316N20050821,AAIW,77,1,19,19,2,20050918,635,-58.9946,-102.9777,291.7,2.8857,33.9942,2,33.9941,2,302.0,2,302.6,2,12.86,2,26.10,2,0.01,2,1.81,2,5.023,2,2.768,2,0.457,2,6.130,2,2148.2,2,2276.0,6,-999.0,9,-999.00,1,20050918,815,-58.9944,-102.9786
316N20050821,AAIW,77,1,18,18,2,20050918,635,-58.9946,-102.9777,341.4,2.9390,34.0276,2,34.0248,2,292.1,2,292.4,2,15.45,2,26.96,2,0.01,2,1.86,2,4.865,2,2.635,2,0.438,2,5.822,2,2155.4,2,2276.9,2,-999.0,9,-999.00,1,20050918,813,-58.9942,-102.9786
316N20050821,AAIW,77,1,17,17,2,20050918,635,-58.9946,-102.9777,391.5,3.7696,34.1805,2,34.1798,2,243.5,2,243.7,2,23.05,2,29.27,2,0.00,2,1.99,2,3.591,2,1.933,2,0.308,2,3.851,2,2178.4,2,2283.1,2,-999.0,9,-999.00,1,20050918,810,-58.9940,-102.9787
316N20050821,AAIW,77,1,16,16,2,20050918,635,-58.9946,-102.9777,491.9,3.5135,34.2368,2,34.2358,2,225.3,2,226.1,2,30.86,2,30.95,2,0.00,2,2.11,2,2.904,2,1.579,2,0.245,2,3.310,2,2193.8,2,2290.4,2,-999.0,9,-999.00,1,20050918,807,-58.9939,-102.9789
316N20050821,AAIW,77,1,15,15,2,20050918,635,-58.9946,-102.9777,590.7,3.1595,34.2767,2,34.2767,2,214.1,2,214.8,2,38.28,2,32.25,2,0.00,2,2.21,2,2.449,2,1.330,2,0.208,2,2.817,2,2207.2,2,2296.1,2,-999.0,9,-999.00,1,20050918,804,-58.9939,-102.9791
316N20050821,AAIW,77,1,14,14,2,20050918,635,-58.9946,-102.9777,690.5,3.0630,34.3533,2,34.3519,2,196.5,2,197.3,2,47.32,2,33.26,2,0.00,2,2.29,2,1.673,2,0.905,2,0.121,2,2.084,2,-999.0,1,2306.5,2,-999.0,9,-999.00,1,20050918,801,-58.9941,-102.9794
316N20050821,AAIW,77,1,13,13,2,20050918,635,-58.9946,-102.9777,791.6,2.8863,34.4029,2,34.4027,2,187.3,2,187.5,2,54.56,2,33.84,2,0.00,2,2.34,2,1.275,2,0.699,2,0.086,2,1.684,2,2232.3,6,2312.6,2,-999.0,9,-999.00,1,20050918,758,-58.9941,-102.9797
316N20050821,AAIW,77,1,12,12,2,20050918,635,-58.9946,-102.9777,992.3,2.5882,34.4942,2,34.4940,2,176.6,2,176.6,2,66.26,2,34.22,2,0.00,2,2.36,2,0.807,6,0.419,6,0.052,6,1.195,6,2246.8,2,2325.0,2,-999.0,9,-999.00,1,20050918,754,-58.9940,-102.9800
316N20050821,AAIW,77,1,11,11,2,20050918,635,-58.9946,-102.9777,1192.8,2.3960,34.5767,2,34.5750,2,172.6,2,172.5,2,73.73,2,33.98,2,0.00,2,2.33,2,0.532,2,0.278,2,0.039,2,0.799,2,-999.0,1,2334.0,2,-999.0,9,-999.00,1,20050918,749,-58.9942,-102.9800
316N20050821,AAIW,77,1,10,10,2,20050918,635,-58.9946,-102.9777,1444.2,2.2498,34.6554,2,34.6350,2,174.2,2,173.2,2,78.98,2,33.34,2,0.00,2,2.30,2,0.351,2,0.176,2,0.014,2,0.571,2,-999.0,1,2338.6,2,-999.0,9,-999.00,1,20050918,744,-58.9942,-102.9802
316N20050821,AAIW,77,1,9,9,2,20050918,635,-58.9946,-102.9777,1694.7,2.0988,34.7018,2,34.6992,2,179.0,2,179.6,2,84.85,2,32.08,2,0.00,2,2.22,2,0.201,2,0.094,2,0.003,2,0.332,2,-999.0,1,2345.9,2,-999.0,9,-999.00,1,20050918,738,-58.9943,-102.9805
316N20050821,AAIW,77,1,8,8,2,20050918,635,-58.9946,-102.9777,1946.8,1.9187,34.7231,2,34.7208,2,184.0,2,184.6,2,90.32,2,31.70,2,0.00,2,2.20,2,0.134,2,0.065,2,0.003,2,0.216,2,-999.0,1,2349.3,2,-999.0,9,-999.00,1,20050918,732,-58.9945,-102.9808
316N20050821,AAIW,77,1,7,7,2,20050918,635,-58.9946,-102.9777,2198.0,1.7275,34.7307,2,34.7300,2,188.4,2,189.1,2,95.60,2,31.45,2,0.00,2,2.17,2,0.112,2,0.059,2,0.003,2,0.171,2,-999.0,1,2353.2,2,-999.0,9,-999.00,1,20050918,727,-58.9945,-102.9814
316N20050821,AAIW,77,1,6,6,2,20050918,635,-58.9946,-102.9777,2702.2,1.3854,34.7271,2,34.7266,2,194.2,2,194.8,2,107.01,2,31.69,2,0.00,2,2.19,2,0.073,2,0.047,2,0.003,2,0.117,2,-999.0,1,2357.7,2,-999.0,9,-999.00,1,20050918,717,-58.9946,-102.9821
316N20050821,AAIW,77,1,5,5,2,20050918,635,-58.9946,-102.9777,3209.1,1.0939,34.7191,2,34.7186,2,200.1,2,200.9,2,116.60,2,31.83,2,0.00,2,2.20,2,0.096,2,0.057,2,0.003,2,0.209,2,-999.0,1,2359.2,2,-999.0,9,-999.00,1,20050918,708,-58.9948,-102.9828
316N20050821,AAIW,77,1,4,4,2,20050918,635,-58.9946,-102.9777,3714.7,0.8272,34.7105,2,34.7082,3,205.0,2,205.8,2,125.39,2,32.21,2,0.00,2,2.22,2,0.144,2,0.073,2,0.003,2,0.297,2,-999.0,1,2358.3,2,-999.0,9,-999.00,1,20050918,658,-58.9950,-102.9832
316N20050821,AAIW,77,1,3,3,2,20050918,635,-58.9946,-102.9777,4220.3,0.5798,34.7060,2,34.7035,3,210.2,2,210.8,2,131.75,2,32.45,2,0.00,2,2.24,2,0.202,2,0.104,2,0.003,2,0.398,2,-999.0,1,2359.2,2,-999.0,9,-999.00,1,20050918,648,-58.9953,-102.9839
316N20050821,AAIW,77,1,2,2,4,20050918,635,-58.9946,-102.9777,4571.5,0.5209,34.7049,2,34.7045,2,212.7,2,213.0,2,134.21,2,32.50,2,0.00,2,2.25,2,0.225,2,0.115,2,0.003,2,0.453,2,-999.0,1,2359.0,2,-999.0,9,-999.00,1,20050918,640,-58.9957,-102.9846
316N20050821,AAIW,77,1,1,1,3,20050918,635,-58.9946,-102.9777,4728.2,0.5040,34.7045,2,34.7176,4,-999.0,9,200.8,4,116.78,4,31.96,4,0.00,4,2.21,4,0.099,4,0.039,4,0.003,4,0.263,4,-999.0,1,2359.3,4,-999.0,9,-999.00,1,20050918,635,-58.9960,-102.9852
316N20050821,AAIW,78,1,24,24,2,20050918,1328,-58.7369,-102.0422,7.3,3.9758,34.0418,2,34.0426,2,307.7,2,307.2,2,7.45,2,22.96,2,0.07,2,1.60,2,4.884,2,2.652,2,0.456,2,5.876,2,2131.5,6,2270.5,2,-999.0,9,-999.00,1,20050918,1540,-58.7369,-102.0422
316N20050821,AAIW,78,1,23,23,2,20050918,1328,-58.7369,-102.0422,37.7,3.9727,34.0419,2,34.0404,2,307.5,2,307.1,2,7.44,2,22.96,2,0.07,2,1.60,2,4.909,2,2.647,2,0.459,2,5.813,2,2131.1,2,2270.0,2,-999.0,9,-999.00,1,20050918,1538,-58.7372,-102.0424
316N20050821,AAIW,78,1,22,22,2,20050918,1328,-58.7369,-102.0422,71.3,3.9759,34.0420,2,34.0434,2,307.0,2,307.0,2,7.44,2,22.86,2,0.07,2,1.60,2,4.896,2,2.611,2,0.456,2,5.880,2,2131.1,2,2271.9,2,-999.0,9,-999.00,1,20050918,1535,-58.7374,-102.0424
316N20050821,AAIW,78,1,21,21,2,20050918,1328,-58.7369,-102.0422,121.1,3.9842,34.0450,2,34.0453,2,306.3,2,306.6,2,7.44,2,23.01,2,0.07,2,1.60,2,4.841,2,2.593,2,0.457,2,5.855,2,2132.2,2,2270.4,2,-999.0,9,-999.00,1,20050918,1532,-58.7373,-102.0424
316N20050821,AAIW,78,1,20,20,2,20050918,1328,-58.7369,-102.0422,151.4,3.9493,34.0440,2,34.0429,2,305.9,2,306.1,2,7.63,2,23.11,2,0.06,2,1.61,2,4.862,2,2.604,2,0.462,2,5.864,2,2133.4,2,2271.5,2,-999.0,9,-999.00,1,20050918,1530,-58.7373,-102.0424
316N20050821,AAIW,78,1,19,19,2,20050918,1328,-58.7369,-102.0422,190.7,3.7969,34.0427,2,34.0440,2,302.9,2,303.7,2,8.42,2,23.78,2,0.04,2,1.65,2,4.729,2,2.589,2,0.458,2,5.618,2,2136.2,2,2270.9,2,-999.0,9,-999.00,1,20050918,1528,-58.7375,-102.0425
316N20050821,AAIW,78,1,18,18,2,20050918,1328,-58.7369,-102.0422,230.6,3.6491,34.0513,2,34.0518,2,295.4,2,295.2,2,10.61,2,24.79,2,0.03,2,1.73,2,4.712,2,2.527,2,0.446,2,5.485,2,2143.2,2,2272.8,2,-999.0,9,-999.00,1,20050918,1525,-58.7375,-102.0426
316N20050821,AAIW,78,1,17,17,2,20050918,1328,-58.7369,-102.0422,360.6,3.8756,34.1602,2,34.1588,2,252.8,2,253.5,2,19.77,2,28.02,2,0.01,2,1.94,2,3.760,2,1.996,2,0.317,2,4.063,2,2169.8,2,2278.6,2,-999.0,9,-999.00,1,20050918,1521,-58.7377,-102.0427
316N20050821,AAIW,78,1,16,16,2,20050918,1328,-58.7369,-102.0422,450.5,3.1615,34.1418,2,34.1422,2,258.7,2,259.1,2,23.36,2,29.11,2,0.00,2,2.00,2,3.830,2,2.062,2,0.353,2,4.237,2,2176.1,2,2282.4,2,-999.0,9,-999.00,1,20050918,1518,-58.7378,-102.0427
316N20050821,AAIW,78,1,15,15,2,20050918,1328,-58.7369,-102.0422,540.0,3.2187,34.2204,2,34.2205,2,233.1,2,232.7,2,31.74,2,30.92,2,0.00,2,2.12,2,3.065,2,1.608,2,0.259,2,3.414,2,2193.5,2,2289.1,2,-999.0,9,-999.00,1,20050918,1514,-58.7380,-102.0429
316N20050821,AAIW,78,1,14,14,2,20050918,1328,-58.7369,-102.0422,628.8,2.9479,34.2657,2,34.2644,2,221.8,2,221.7,2,38.54,2,31.73,2,0.00,2,2.19,2,2.601,2,1.328,2,0.228,2,2.994,2,2205.8,2,2297.5,2,-999.0,9,-999.00,1,20050918,1510,-58.7382,-102.0432
316N20050821,AAIW,78,1,13,13,2,20050918,1328,-58.7369,-102.0422,728.1,2.8843,34.3302,2,34.3296,2,203.5,2,204.3,2,46.55,2,33.05,2,0.00,2,2.27,2,1.940,2,0.974,2,0.152,2,2.410,2,2219.5,2,2303.7,2,-999.0,9,-999.00,1,20050918,1506,-58.7384,-102.0434
316N20050821,AAIW,78,1,12,12,2,20050918,1328,-58.7369,-102.0422,827.3,2.7608,34.3969,2,34.3976,2,189.6,2,189.9,2,55.17,2,33.77,2,0.00,2,2.33,2,1.413,2,0.712,2,0.108,2,1.822,2,2232.5,2,2312.0,2,-999.0,9,-999.00,1,20050918,1503,-58.7386,-102.0438
316N20050821,AAIW,78,1,11,11,2,20050918,1328,-58.7369,-102.0422,926.8,2.7036,34.4649,2,34.4652,2,180.1,2,181.8,2,62.42,2,34.06,2,0.00,2,2.35,2,0.923,2,0.443,2,0.049,2,1.267,2,2242.0,2,2320.3,2,-999.0,9,-999.00,1,20050918,1459,-58.7388,-102.0442
316N20050821,AAIW,78,1,10,10,2,20050918,1328,-58.7369,-102.0422,1127.3,2.4563,34.5470,2,34.5473,2,174.2,2,173.7,2,71.07,2,33.95,2,0.00,2,2.37,2,0.636,2,0.318,2,0.028,2,0.888,2,2251.6,2,2328.0,2,-999.0,9,-999.00,1,20050918,1453,-58.7390,-102.0451
316N20050821,AAIW,78,1,9,9,2,20050918,1328,-58.7369,-102.0422,1325.6,2.3422,34.6181,2,34.6162,2,172.6,2,172.1,2,77.33,2,33.42,2,0.00,2,2.28,2,0.388,2,0.188,2,0.016,2,0.575,2,2256.8,2,2336.5,2,-999.0,9,-999.00,1,20050918,1447,-58.7390,-102.0459
316N20050821,AAIW,78,1,8,8,2,20050918,1328,-58.7369,-102.0422,1522.5,2.2409,34.6664,2,34.6668,2,174.3,2,173.7,2,82.18,2,32.75,2,0.00,2,2.25,2,0.226,2,0.106,2,0.003,2,0.332,2,2258.1,2,2340.0,2,-999.0,9,-999.00,1,20050918,1441,-58.7391,-102.0467
316N20050821,AAIW,78,1,7,7,2,20050918,1328,-58.7369,-102.0422,1819.5,2.0712,34.7058,2,34.7070,2,179.5,2,179.2,2,87.44,2,31.89,2,0.00,2,2.21,2,0.147,2,0.073,2,0.003,2,0.210,2,2258.9,2,2346.9,2,-999.0,9,-999.00,1,20050918,1433,-58.7395,-102.0474
316N20050821,AAIW,78,1,6,6,2,20050918,1328,-58.7369,-102.0422,2121.3,1.8023,34.7254,2,34.7264,3,186.2,2,185.9,2,94.54,2,31.60,2,0.00,2,2.16,2,0.100,6,0.046,6,0.003,6,0.123,6,2259.4,2,2351.3,2,-999.0,9,-999.00,1,20050918,1426,-58.7402,-102.0482
316N20050821,AAIW,78,1,5,5,2,20050918,1328,-58.7369,-102.0422,2624.0,1.4801,34.7258,2,34.7239,3,191.6,2,191.3,2,105.51,2,31.70,2,0.00,2,2.19,2,0.060,2,0.034,2,0.003,2,0.084,2,2262.8,2,2359.4,2,-999.0,9,-999.00,1,20050918,1415,-58.7412,-102.0490
316N20050821,AAIW,78,1,4,4,2,20050918,1328,-58.7369,-102.0422,3129.6,1.1796,34.7213,2,34.7217,2,198.7,2,198.7,2,113.87,2,31.83,2,0.00,2,2.18,2,0.069,2,0.044,2,0.003,2,0.120,2,2262.2,2,2359.1,2,-999.0,9,-999.00,1,20050918,1403,-58.7423,-102.0501
316N20050821,AAIW,78,1,3,3,2,20050918,1328,-58.7369,-102.0422,3631.6,0.9016,34.7129,2,34.7104,3,203.7,2,204.2,2,122.46,2,31.97,2,0.00,2,2.21,2,0.117,2,0.063,2,0.003,2,0.243,2,2261.7,2,2361.0,2,-999.0,9,-999.00,1,20050918,1351,-58.7431,-102.0507
316N20050821,AAIW,78,1,2,2,2,20050918,1328,-58.7369,-102.0422,4136.0,0.6212,34.7074,2,34.7045,3,208.8,2,209.5,2,130.86,2,32.25,2,0.00,2,2.22,2,0.168,2,0.088,2,0.003,2,0.371,2,2264.9,2,2360.2,2,-999.0,9,-999.00,1,20050918,1340,-58.7441,-102.0513
316N20050821,AAIW,78,1,1,1,2,20050918,1328,-58.7369,-102.0422,4636.8,0.5253,34.7051,2,34.7049,2,212.7,2,212.4,2,135.79,2,32.34,2,0.00,2,2.23,2,0.209,2,0.112,2,0.003,2,0.467,2,2264.1,6,2359.5,2,-999.0,9,-999.00,1,20050918,1328,-58.7448,-102.0520