BOTTLE,20220819CCHSIOAMB
EXPOCODE,SECT_ID,STNNBR,CASTNO,SAMPNO,BTLNBR,BTLNBR_FLAG_W,DATE,TIME,LATITUDE,LONGITUDE,CTDPRS,CTDTMP,CTDSAL,CTDSAL_FLAG_W,SALNTY,SALNTY_FLAG_W,CTDOXY,CTDOXY_FLAG_W,OXYGEN,OXYGEN_FLAG_W,SILCAT,SILCAT_FLAG_W,NITRAT,NITRAT_FLAG_W,NITRIT,NITRIT_FLAG_W,PHSPHT,PHSPHT_FLAG_W,CFC-11,CFC-11_FLAG_W,CFC-12,CFC-12_FLAG_W,CFC113,CFC113_FLAG_W,CCL4,CCL4_FLAG_W,TCARBN,TCARBN_FLAG_W,ALKALI,ALKALI_FLAG_W,PCO2,PCO2_FLAG_W,PH_SWS,PH_SWS_FLAG_W,BTL_DATE,BTL_TIME,BTL_LAT,BTL_LON
,,,,,,,,,,,DBAR,ITS-90,PSS-78,,PSS-78,,UMOL/KG,,UMOL/KG,,UMOL/KG,,UMOL/KG,,UMOL/KG,,UMOL/KG,,PMOL/KG,,PMOL/KG,,PMOL/KG,,PMOL/KG,,UMOL/KG,,UMOL/KG,,UATM,,,,,,,
316N20050821,AAIW,52,1,24,24,2,20050907,1852,-58.0217,-89.0091,25.8,4.7369,34.1266,2,34.1280,2,301.8,2,301.3,2,5.90,2,21.54,2,0.04,2,1.52,2,4.701,2,2.634,2,0.431,2,5.855,2,2125.5,6,2272.8,2,-999.0,9,-999.00,1,20050907,2042,-58.0217,-89.0091
316N20050821,AAIW,52,1,23,23,2,20050907,1852,-58.0217,-89.0091,66.0,4.7277,34.1260,2,34.1282,2,301.7,2,301.2,2,5.69,2,21.54,2,0.04,2,1.52,2,4.741,2,2.681,2,0.414,2,5.928,2,-999.0,9,-999.0,9,-999.0,9,-999.00,9,20050907,2040,-58.0216,-89.0090
316N20050821,AAIW,52,1,22,22,2,20050907,1852,-58.0217,-89.0091,94.5,4.7197,34.1250,2,34.1262,2,301.6,2,301.0,2,5.68,2,21.54,2,0.04,2,1.52,2,4.682,2,2.661,2,0.415,2,6.244,4,-999.0,9,-999.0,9,-999.0,9,-999.00,9,20050907,2038,-58.0215,-89.0091
316N20050821,AAIW,52,1,21,21,2,20050907,1852,-58.0217,-89.0091,135.8,4.7120,34.1236,2,34.1262,2,301.0,2,302.0,2,5.67,2,21.58,2,0.04,2,1.53,2,4.696,2,2.631,2,0.424,2,7.248,4,2127.1,2,-999.0,1,-999.0,9,-999.00,1,20050907,2036,-58.0213,-89.0091
316N20050821,AAIW,52,1,20,20,2,20050907,1852,-58.0217,-89.0091,185.8,4.7099,34.1230,2,34.1251,2,300.8,2,300.6,2,5.66,2,21.53,2,0.04,2,1.52,2,4.717,2,2.721,2,0.422,2,6.688,4,-999.0,9,2274.2,2,-999.0,9,-999.00,1,20050907,2034,-58.0210,-89.0090
316N20050821,AAIW,52,1,19,19,2,20050907,1852,-58.0217,-89.0091,235.4,4.7108,34.1227,2,34.1253,2,300.4,2,300.6,2,5.65,2,21.63,2,0.03,2,1.53,2,4.680,2,2.689,2,0.421,2,6.139,2,2126.9,2,2272.3,2,-999.0,9,-999.00,1,20050907,2032,-58.0209,-89.0087
316N20050821,AAIW,52,1,18,18,2,20050907,1852,-58.0217,-89.0091,355.0,4.7236,34.1235,2,34.1258,2,299.7,2,300.3,2,5.64,2,21.67,2,0.03,2,1.52,2,4.680,6,2.684,6,0.430,6,5.782,6,2126.7,2,2274.5,2,-999.0,9,-999.00,1,20050907,2029,-58.0206,-89.0085
316N20050821,AAIW,52,1,17,17,9,20050907,1852,-58.0217,-89.0091,476.2,4.7416,34.1252,2,-999.0000,9,-999.0,9,-999.0,9,-999.00,9,-999.00,9,-999.00,9,-999.00,9,-999.000,9,-999.000,9,-999.000,9,-999.000,9,-999.0,9,-999.0,9,-999.0,9,-999.00,9,20050907,2026,-58.0204,-89.0084
316N20050821,AAIW,52,1,16,16,2,20050907,1852,-58.0217,-89.0091,494.6,4.7329,34.1348,2,34.1373,2,281.9,2,284.1,2,8.26,2,23.26,2,0.02,2,1.62,2,4.422,2,2.520,2,0.407,2,5.051,2,2137.5,2,2275.4,2,-999.0,9,-999.00,1,20050907,2023,-58.0203,-89.0084
316N20050821,AAIW,52,1,15,15,2,20050907,1852,-58.0217,-89.0091,585.1,4.6736,34.2048,2,34.2053,2,247.2,2,247.8,2,16.12,2,26.63,2,0.01,2,1.84,2,3.534,2,1.957,2,0.289,2,3.681,2,2162.4,2,2281.5,2,-999.0,9,-999.00,1,20050907,2021,-58.0201,-89.0083
316N20050821,AAIW,52,1,14,14,2,20050907,1852,-58.0217,-89.0091,684.5,4.3615,34.2477,2,34.2501,2,227.7,2,228.1,2,23.19,2,28.90,2,0.00,2,2.00,2,2.879,2,1.602,2,0.221,2,3.098,2,-999.0,9,2286.3,2,-999.0,9,-999.00,1,20050907,2018,-58.0198,-89.0082
316N20050821,AAIW,52,1,13,13,2,20050907,1852,-58.0217,-89.0091,784.3,4.0349,34.2756,2,34.2797,2,217.5,2,218.5,2,28.85,2,30.25,2,0.00,2,2.08,2,2.503,2,1.283,2,0.163,2,2.744,2,2188.5,2,2292.6,2,-999.0,9,-999.00,1,20050907,2015,-58.0196,-89.0079
316N20050821,AAIW,52,1,12,12,2,20050907,1852,-58.0217,-89.0091,885.7,3.6132,34.3087,2,34.3090,2,208.7,2,208.2,2,36.55,2,31.60,2,0.00,2,2.19,2,2.103,2,1.076,2,0.143,2,2.373,2,-999.0,9,2298.4,2,-999.0,9,-999.00,1,20050907,2013,-58.0194,-89.0075
316N20050821,AAIW,52,1,11,11,2,20050907,1852,-58.0217,-89.0091,984.8,3.2586,34.3473,2,34.3505,2,199.7,2,199.2,2,44.45,2,32.71,2,0.00,2,2.27,2,1.707,2,0.848,2,0.108,2,1.973,2,2216.6,2,2306.0,2,-999.0,9,-999.00,1,20050907,2010,-58.0193,-89.0071
316N20050821,AAIW,52,1,10,10,2,20050907,1852,-58.0217,-89.0091,1182.2,2.8140,34.4305,2,34.4320,2,185.0,2,185.2,2,57.86,2,33.88,2,0.00,2,2.35,2,1.120,2,0.567,2,0.077,2,1.412,2,-999.0,9,2319.1,2,-999.0,9,-999.00,1,20050907,2006,-58.0196,-89.0073
316N20050821,AAIW,52,1,9,9,2,20050907,1852,-58.0217,-89.0091,1377.2,2.5741,34.5221,2,34.5215,3,174.9,2,174.4,2,68.67,2,34.06,2,0.00,2,2.37,2,0.664,2,0.337,2,0.028,2,0.922,2,2249.0,2,2330.3,2,-999.0,9,-999.00,1,20050907,2001,-58.0198,-89.0068
316N20050821,AAIW,52,1,8,8,2,20050907,1852,-58.0217,-89.0091,1683.3,2.3712,34.6246,2,34.6246,2,170.9,2,170.6,2,78.88,2,33.42,2,0.00,2,2.32,2,0.303,2,0.145,2,0.002,2,0.476,2,-999.0,9,2342.2,2,-999.0,9,-999.00,1,20050907,1955,-58.0189,-89.0054
316N20050821,AAIW,52,1,7,7,2,20050907,1852,-58.0217,-89.0091,1987.5,2.1721,34.6866,2,34.6860,2,175.2,2,174.9,2,85.83,2,32.59,2,0.00,2,2.26,2,0.156,2,0.090,2,0.002,2,0.323,2,2259.9,2,2349.6,2,-999.0,9,-999.00,1,20050907,1948,-58.0181,-89.0042
316N20050821,AAIW,52,1,6,6,2,20050907,1852,-58.0217,-89.0091,2491.1,1.7870,34.7209,2,34.7221,3,183.3,2,183.8,2,98.13,2,31.94,2,0.00,2,2.22,2,0.075,2,0.046,2,0.002,2,0.246,2,-999.0,9,-999.0,9,-999.0,9,-999.00,9,20050907,1939,-58.0174,-89.0041
316N20050821,AAIW,52,1,5,5,2,20050907,1852,-58.0217,-89.0091,2993.4,1.5117,34.7251,2,34.7267,3,191.0,2,191.5,2,105.13,2,31.84,2,0.00,2,2.20,2,0.060,2,0.039,2,0.002,2,0.463,4,-999.0,9,-999.0,9,-999.0,9,-999.00,9,20050907,1929,-58.0170,-89.0042
316N20050821,AAIW,52,1,4,4,2,20050907,1852,-58.0217,-89.0091,3500.1,1.2103,34.7202,2,34.7202,2,198.3,2,198.6,2,111.50,4,31.93,2,0.00,2,2.21,2,0.082,2,0.050,2,0.002,2,0.301,2,-999.0,9,-999.0,9,-999.0,9,-999.00,9,20050907,1920,-58.0162,-89.0037
316N20050821,AAIW,52,1,3,3,2,20050907,1852,-58.0217,-89.0091,3999.2,0.8590,34.7112,2,34.7103,2,204.4,2,204.8,2,124.52,2,32.22,2,0.00,2,2.22,2,0.081,2,0.048,2,0.002,2,1.557,4,-999.0,9,-999.0,9,-999.0,9,-999.00,9,20050907,1910,-58.0159,-89.0049
316N20050821,AAIW,52,1,2,2,2,20050907,1852,-58.0217,-89.0091,4473.5,0.6086,34.7065,2,34.7056,2,209.3,2,210.0,2,133.00,2,32.41,2,0.00,2,2.24,2,0.058,4,0.043,4,0.002,4,0.088,4,-999.0,9,-999.0,9,-999.0,9,-999.00,9,20050907,1901,-58.0169,-89.0069
316N20050821,AAIW,52,1,1,1,2,20050907,1852,-58.0217,-89.0091,4895.6,0.5833,34.7056,2,34.7073,3,212.3,2,211.2,2,136.32,2,32.40,2,0.00,2,2.24,2,0.052,4,0.037,4,0.002,4,0.082,4,-999.0,9,2362.8,2,-999.0,9,-999.00,1,20050907,1852,-58.0162,-89.0078
316N20050821,AAIW,53,1,24,24,2,20050908,158,-57.5105,-88.9775,27.1,4.7180,34.1266,2,34.1310,2,301.4,2,301.1,2,5.75,2,21.69,2,0.04,2,1.54,2,4.658,2,2.678,2,0.462,2,5.883,2,2128.5,6,2273.2,2,-999.0,9,-999.00,1,20050908,410,-57.5105,-88.9775
316N20050821,AAIW,53,1,23,23,2,20050908,158,-57.5105,-88.9775,46.7,4.7251,34.1263,2,34.1342,2,301.1,2,300.9,2,5.52,2,21.64,2,0.04,2,1.54,2,4.625,2,2.637,2,0.457,2,5.864,2,-999.0,5,2274.2,2,-999.0,9,-999.00,1,20050908,408,-57.5104,-88.9780
316N20050821,AAIW,53,1,22,22,2,20050908,158,-57.5105,-88.9775,76.4,4.7226,34.1265,2,34.1318,2,302.0,2,300.9,2,5.68,2,21.69,2,0.04,2,1.54,2,4.618,2,2.655,2,0.454,2,5.647,2,2122.5,2,2273.3,2,-999.0,9,-999.00,1,20050908,405,-57.5101,-88.9786
316N20050821,AAIW,53,1,21,21,9,20050908,158,-57.5105,-88.9775,126.1,4.7327,34.1258,2,-999.0000,9,-999.0,9,-999.0,9,-999.00,9,-999.00,9,-999.00,9,-999.00,9,-999.000,9,-999.000,9,-999.000,9,-999.000,9,-999.0,9,-999.0,9,-999.0,9,-999.00,9,20050908,402,-57.5099,-88.9795
316N20050821,AAIW,53,1,20,20,2,20050908,158,-57.5105,-88.9775,175.8,4.7276,34.1248,2,34.1273,2,299.9,2,300.2,2,5.65,2,21.74,2,0.04,2,1.55,2,4.683,2,2.719,2,0.451,2,5.664,2,2124.4,2,2272.9,2,-999.0,9,-999.00,1,20050908,400,-57.5097,-88.9800
316N20050821,AAIW,53,1,19,19,2,20050908,158,-57.5105,-88.9775,226.1,4.7354,34.1253,2,34.1279,2,301.6,2,300.8,2,5.62,2,21.64,2,0.04,2,1.54,2,4.654,2,2.687,2,0.457,2,5.628,2,-999.0,5,2272.8,2,-999.0,9,-999.00,1,20050908,357,-57.5095,-88.9804
316N20050821,AAIW,53,1,18,18,2,20050908,158,-57.5105,-88.9775,295.6,4.7339,34.1248,2,34.1301,2,299.8,2,300.1,2,5.59,2,21.69,2,0.03,2,1.54,2,4.678,2,2.736,2,0.451,2,5.647,2,2125.6,2,2273.6,2,-999.0,9,-999.00,1,20050908,353,-57.5091,-88.9808
316N20050821,AAIW,53,1,17,17,2,20050908,158,-57.5105,-88.9775,386.2,4.7245,34.1226,2,34.1289,2,299.1,2,300.2,2,5.76,2,21.79,2,0.03,2,1.54,2,4.667,2,2.696,2,0.450,2,5.604,2,-999.0,5,2273.0,2,-999.0,9,-999.00,1,20050908,349,-57.5088,-88.9815
316N20050821,AAIW,53,1,16,16,2,20050908,158,-57.5105,-88.9775,475.8,4.6974,34.1210,2,34.1281,2,294.9,2,295.1,2,6.54,2,22.47,2,0.02,2,1.58,2,4.548,2,2.603,2,0.435,2,5.513,2,2128.2,2,2274.1,2,-999.0,9,-999.00,1,20050908,345,-57.5088,-88.9817
316N20050821,AAIW,53,1,15,15,2,20050908,158,-57.5105,-88.9775,565.2,4.7084,34.1840,2,34.1877,2,256.0,2,255.5,2,14.23,2,26.22,2,0.00,2,1.82,2,3.768,2,2.047,2,0.305,2,4.009,2,2153.2,2,2279.0,2,-999.0,9,-999.00,1,20050908,342,-57.5087,-88.9817
316N20050821,AAIW,53,1,14,14,2,20050908,158,-57.5105,-88.9775,654.5,4.5663,34.2239,2,34.2274,2,237.8,2,238.8,2,18.88,2,27.78,2,0.00,2,1.93,2,3.210,2,1.766,2,0.261,2,3.380,2,2166.5,2,2283.8,2,-999.0,9,-999.00,1,20050908,339,-57.5086,-88.9818
316N20050821,AAIW,53,1,13,13,2,20050908,158,-57.5105,-88.9775,746.2,4.2207,34.2650,2,34.2685,2,221.7,2,222.4,2,25.97,2,29.82,2,0.00,2,2.05,2,2.638,2,1.415,2,0.216,2,2.851,2,2183.1,2,2289.6,2,-999.0,9,-999.00,1,20050908,335,-57.5084,-88.9818
316N20050821,AAIW,53,1,12,12,2,20050908,158,-57.5105,-88.9775,835.7,3.8792,34.2896,2,34.2932,2,213.8,2,214.3,2,32.05,2,31.04,2,0.00,2,2.15,2,2.326,2,1.174,2,0.162,2,2.471,2,2193.8,2,2294.0,2,-999.0,9,-999.00,1,20050908,332,-57.5081,-88.9818
316N20050821,AAIW,53,1,11,11,2,20050908,158,-57.5105,-88.9775,925.9,3.5292,34.3193,2,34.3222,3,206.0,2,205.5,2,38.76,2,32.02,2,0.00,2,2.22,2,1.895,2,1.010,2,0.138,2,2.173,2,2206.3,2,2300.9,2,-999.0,9,-999.00,1,20050908,328,-57.5079,-88.9817
316N20050821,AAIW,53,1,10,10,2,20050908,158,-57.5105,-88.9775,1124.2,2.9584,34.3985,2,34.4028,3,190.3,2,189.5,2,53.23,2,33.74,2,0.00,2,2.34,2,1.259,2,0.668,2,0.084,2,1.520,2,2228.9,2,2314.0,2,-999.0,9,-999.00,1,20050908,323,-57.5077,-88.9816
316N20050821,AAIW,53,1,9,9,2,20050908,158,-57.5105,-88.9775,1427.1,2.5572,34.5365,2,34.5390,3,173.0,2,172.6,2,70.63,2,34.33,2,0.00,2,2.38,2,0.560,2,0.273,2,0.026,2,0.770,2,2250.8,2,2332.0,2,-999.0,9,-999.00,1,20050908,316,-57.5071,-88.9821
316N20050821,AAIW,53,1,8,8,2,20050908,158,-57.5105,-88.9775,1726.9,2.3435,34.6341,2,34.6381,3,170.6,2,170.8,2,80.47,2,33.59,2,0.00,2,2.34,2,0.280,2,0.120,2,0.012,2,0.397,2,2257.6,2,2343.1,2,-999.0,9,-999.00,1,20050908,309,-57.5069,-88.9822
316N20050821,AAIW,53,1,7,7,2,20050908,158,-57.5105,-88.9775,2230.2,2.0105,34.7101,2,34.7115,3,178.9,2,179.0,2,91.16,2,32.30,2,0.00,2,2.25,2,0.109,2,0.044,2,0.002,2,0.132,2,2260.3,2,2354.5,2,-999.0,9,-999.00,1,20050908,258,-57.5067,-88.9833
316N20050821,AAIW,53,1,6,6,2,20050908,158,-57.5105,-88.9775,2735.0,1.6466,34.7233,2,34.7238,3,186.8,2,187.2,2,102.71,2,31.86,2,0.00,2,2.23,2,0.073,2,0.030,2,0.002,2,0.083,2,-999.0,5,2360.8,2,-999.0,9,-999.00,1,20050908,248,-57.5065,-88.9851
316N20050821,AAIW,53,1,5,5,2,20050908,158,-57.5105,-88.9775,3238.4,1.3836,34.7238,2,34.7258,3,194.1,2,194.3,2,108.89,2,31.72,2,0.00,2,2.22,2,0.062,2,0.033,2,0.002,2,0.108,2,2263.8,2,2361.5,2,-999.0,9,-999.00,1,20050908,238,-57.5064,-88.9851
316N20050821,AAIW,53,1,4,4,2,20050908,158,-57.5105,-88.9775,3739.8,1.0679,34.7160,2,34.7191,3,200.5,2,201.2,2,118.62,2,32.16,2,0.00,2,2.23,2,0.069,2,0.031,2,0.002,2,0.193,2,-999.0,5,2361.1,2,-999.0,9,-999.00,1,20050908,228,-57.5063,-88.9849
316N20050821,AAIW,53,1,3,3,2,20050908,158,-57.5105,-88.9775,4249.1,0.7355,34.7088,2,34.7113,3,206.6,2,207.3,2,129.21,2,32.55,2,0.00,2,2.25,2,0.076,2,0.034,2,0.002,2,0.279,2,2264.1,2,2364.4,2,-999.0,9,-999.00,1,20050908,218,-57.5057,-88.9865
316N20050821,AAIW,53,1,2,2,2,20050908,158,-57.5105,-88.9775,4762.3,0.5944,34.7060,2,34.7080,3,210.2,2,210.7,2,135.65,2,32.55,2,0.00,2,2.27,2,0.103,2,0.042,2,0.002,2,0.337,2,2263.4,2,2362.9,2,-999.0,9,-999.00,1,20050908,208,-57.5049,-88.9881
316N20050821,AAIW,53,1,1,1,2,20050908,158,-57.5105,-88.9775,5216.0,0.6048,34.7052,2,34.7062,3,212.8,2,211.6,2,-999.00,9,-999.00,9,-999.00,9,-999.00,9,0.128,6,0.069,6,0.002,6,0.455,6,2263.4,6,2363.2,2,-999.0,9,-999.00,1,20050908,158,-57.5048,-88.9896
316N20050821,AAIW,54,1,24,24,4,20050908,939,-57.0292,-88.9810,5.0,4.7136,34.1233,2,34.1291,2,302.2,2,301.8,2,5.72,2,21.65,2,0.04,2,1.52,2,4.769,2,2.641,2,0.427,2,5.921,2,2126.7,2,2273.0,2,-999.0,9,-999.00,1,20050908,1228,-57.0292,-88.9810
316N20050821,AAIW,54,1,23,23,4,20050908,939,-57.0292,-88.9810,35.3,4.7185,34.1233,2,34.1259,2,302.2,2,301.9,2,5.68,2,21.60,2,0.04,2,1.51,2,4.774,2,2.679,2,0.435,2,6.170,2,2129.4,2,2272.5,2,-999.0,9,-999.00,1,20050908,1227,-57.0292,-88.9811
316N20050821,AAIW,54,1,22,22,2,20050908,939,-57.0292,-88.9810,77.3,4.7231,34.1234,2,34.1255,2,302.3,2,301.5,2,6.05,2,21.70,2,0.04,2,1.50,2,4.787,2,2.671,2,0.430,2,6.078,2,-999.0,9,2273.6,2,-999.0,9,-999.00,1,20050908,1225,-57.0292,-88.9812
316N20050821,AAIW,54,1,21,21,2,20050908,939,-57.0292,-88.9810,125.5,4.7276,34.1238,2,34.1261,2,301.1,2,300.9,2,6.01,2,21.75,2,0.04,2,1.49,2,4.755,2,2.599,2,0.432,2,6.085,2,2127.4,2,2272.6,2,-999.0,9,-999.00,1,20050908,1221,-57.0286,-88.9807
316N20050821,AAIW,54,1,20,20,2,20050908,939,-57.0292,-88.9810,176.0,4.7288,34.1237,2,34.1273,2,300.7,2,300.5,2,5.97,2,21.80,2,0.04,2,1.49,2,4.717,2,2.633,2,0.442,2,5.954,2,-999.0,9,2272.9,2,-999.0,9,-999.00,1,20050908,1219,-57.0283,-88.9811
316N20050821,AAIW,54,1,19,19,2,20050908,939,-57.0292,-88.9810,225.8,4.7305,34.1239,2,34.1295,2,300.2,2,299.9,2,6.13,2,21.85,2,0.04,2,1.49,2,4.786,2,2.682,2,0.436,2,6.108,2,2134.1,3,2273.3,2,-999.0,9,-999.00,1,20050908,1216,-57.0281,-88.9818
316N20050821,AAIW,54,1,18,18,2,20050908,939,-57.0292,-88.9810,324.7,4.7270,34.1229,2,34.1250,2,299.8,2,300.4,2,6.08,2,21.85,2,0.04,2,1.49,2,4.786,2,2.648,2,0.441,2,6.038,2,-999.0,9,2273.7,2,-999.0,9,-999.00,1,20050908,1212,-57.0278,-88.9825
316N20050821,AAIW,54,1,17,17,2,20050908,939,-57.0292,-88.9810,423.7,4.7096,34.1200,2,34.1232,2,298.3,2,299.3,2,6.25,2,21.94,2,0.03,2,1.50,2,4.761,2,2.651,2,0.447,2,5.979,2,2134.9,2,2273.5,2,-999.0,9,-999.00,1,20050908,1208,-57.0275,-88.9832
316N20050821,AAIW,54,1,16,16,2,20050908,939,-57.0292,-88.9810,475.5,4.7139,34.1220,2,34.1281,2,294.8,2,296.2,2,6.62,2,22.33,2,0.02,2,1.52,2,4.669,2,2.620,2,0.384,2,5.813,2,-999.0,9,2274.4,2,-999.0,9,-999.00,1,20050908,1206,-57.0272,-88.9838
316N20050821,AAIW,54,1,15,15,2,20050908,939,-57.0292,-88.9810,524.5,4.7739,34.1697,2,34.1749,2,263.6,2,263.2,2,12.52,2,25.35,2,0.00,2,-999.00,5,4.085,2,2.172,2,0.332,2,4.492,2,-999.0,9,2278.4,2,-999.0,9,-999.00,1,20050908,1203,-57.0268,-88.9839
316N20050821,AAIW,54,1,14,14,2,20050908,939,-57.0292,-88.9810,625.2,4.3510,34.1857,2,34.1864,2,-999.0,9,250.1,3,17.81,2,27.53,2,0.00,2,-999.00,5,3.657,2,1.935,2,0.277,2,4.040,2,2165.7,2,2283.7,2,-999.0,9,-999.00,1,20050908,1159,-57.0263,-88.9843
316N20050821,AAIW,54,1,13,13,2,20050908,939,-57.0292,-88.9810,725.1,4.2159,34.2607,2,34.2630,3,223.4,2,223.2,2,25.99,2,29.76,2,0.00,2,-999.00,5,2.739,2,1.436,2,0.186,2,2.940,2,-999.0,9,2289.9,2,-999.0,9,-999.00,1,20050908,1155,-57.0258,-88.9845
316N20050821,AAIW,54,1,12,12,2,20050908,939,-57.0292,-88.9810,824.6,3.7674,34.2814,2,34.2879,3,214.9,2,215.5,2,32.73,2,31.08,2,0.00,2,-999.00,5,2.451,2,1.198,2,0.169,2,2.516,2,-999.0,9,2295.0,2,-999.0,9,-999.00,1,20050908,1150,-57.0255,-88.9849
316N20050821,AAIW,54,1,11,11,2,20050908,939,-57.0292,-88.9810,1024.3,3.1128,34.3593,2,34.3619,3,197.3,2,196.7,2,47.93,2,33.22,2,0.00,2,-999.00,5,1.577,2,0.806,2,0.114,2,1.847,2,-999.0,9,2309.7,2,-999.0,9,-999.00,1,20050908,1144,-57.0249,-88.9850
316N20050821,AAIW,54,1,10,10,2,20050908,939,-57.0292,-88.9810,1224.1,2.7713,34.4508,2,34.4521,3,182.5,2,181.6,2,61.11,2,34.14,2,0.00,2,2.35,2,0.962,2,0.466,2,0.050,2,1.203,2,-999.0,9,2322.7,2,-999.0,9,-999.00,1,20050908,1127,-57.0237,-88.9860
316N20050821,AAIW,54,1,9,9,2,20050908,939,-57.0292,-88.9810,1522.0,2.4781,34.5739,2,34.5754,3,170.6,2,171.3,2,74.73,2,34.09,2,0.00,2,2.34,2,0.442,2,0.213,2,0.010,2,0.577,2,-999.0,9,2336.8,2,-999.0,9,-999.00,1,20050908,1116,-57.0229,-88.9867
316N20050821,AAIW,54,1,8,8,2,20050908,939,-57.0292,-88.9810,1825.2,2.2816,34.6574,2,34.6593,3,172.1,2,172.9,2,82.35,2,33.20,2,0.00,2,2.28,2,0.251,2,0.115,2,0.000,2,0.306,2,-999.0,9,2345.3,2,-999.0,9,-999.00,1,20050908,1108,-57.0224,-88.9872
316N20050821,AAIW,54,1,7,7,2,20050908,939,-57.0292,-88.9810,2326.2,1.9667,34.7184,2,34.7196,3,181.7,2,182.4,2,91.66,2,32.02,2,0.00,2,-999.00,5,0.126,2,0.055,2,0.000,2,0.121,2,-999.0,9,2353.5,2,-999.0,9,-999.00,1,20050908,1059,-57.0217,-88.9882
316N20050821,AAIW,54,1,6,6,2,20050908,939,-57.0292,-88.9810,2832.4,1.5893,34.7243,2,34.7257,3,188.8,2,188.6,2,104.33,2,31.98,2,0.00,2,2.20,2,0.057,2,0.027,2,0.000,2,0.032,2,-999.0,9,2363.2,2,-999.0,9,-999.00,1,20050908,1048,-57.0203,-88.9869
316N20050821,AAIW,54,1,5,5,2,20050908,939,-57.0292,-88.9810,3335.9,1.2844,34.7220,2,34.7231,3,196.8,2,196.5,2,112.43,2,31.97,2,0.00,2,2.19,2,0.056,2,0.024,2,0.000,2,0.065,2,-999.0,9,2362.4,2,-999.0,9,-999.00,1,20050908,1037,-57.0195,-88.9874
316N20050821,AAIW,54,1,4,4,2,20050908,939,-57.0292,-88.9810,3840.9,0.9522,34.7133,2,34.7151,3,203.5,2,203.1,2,122.64,2,32.11,2,0.00,2,2.20,2,0.076,2,0.040,2,0.000,2,0.124,2,-999.0,9,2362.9,2,-999.0,9,-999.00,1,20050908,1024,-57.0186,-88.9874
316N20050821,AAIW,54,1,3,3,2,20050908,939,-57.0292,-88.9810,4341.6,0.6704,34.7077,2,34.7090,3,208.4,2,208.6,2,131.84,2,32.60,2,0.00,2,-999.00,5,0.082,2,0.040,2,0.000,2,0.193,2,-999.0,9,2364.0,2,-999.0,9,-999.00,1,20050908,1009,-57.0179,-88.9881
316N20050821,AAIW,54,1,2,2,2,20050908,939,-57.0292,-88.9810,4843.3,0.5961,34.7061,2,34.7072,3,-999.0,9,211.7,3,136.20,2,32.74,2,0.00,2,-999.00,5,0.094,6,0.051,6,0.000,6,0.243,6,-999.0,9,2364.9,2,-999.0,9,-999.00,1,20050908,954,-57.0167,-88.9888
316N20050821,AAIW,54,1,1,1,2,20050908,939,-57.0292,-88.9810,5342.2,0.6219,34.7052,2,34.7064,3,211.5,2,211.4,2,138.25,2,32.59,2,0.00,2,2.28,2,0.121,2,0.064,2,0.000,2,0.314,2,2267.8,2,2364.2,2,-999.0,9,-999.00,1,20050908,939,-57.0157,-88.9885