BOTTLE,20220819CCHSIOAMB
EXPOCODE,SECT_ID,STNNBR,CASTNO,SAMPNO,BTLNBR,BTLNBR_FLAG_W,DATE,TIME,LATITUDE,LONGITUDE,CTDPRS,CTDTMP,CTDSAL,CTDSAL_FLAG_W,SALNTY,SALNTY_FLAG_W,CTDOXY,CTDOXY_FLAG_W,OXYGEN,OXYGEN_FLAG_W,SILCAT,SILCAT_FLAG_W,NITRAT,NITRAT_FLAG_W,NITRIT,NITRIT_FLAG_W,PHSPHT,PHSPHT_FLAG_W,CFC-11,CFC-11_FLAG_W,CFC-12,CFC-12_FLAG_W,CFC113,CFC113_FLAG_W,CCL4,CCL4_FLAG_W,TCARBN,TCARBN_FLAG_W,ALKALI,ALKALI_FLAG_W,PCO2,PCO2_FLAG_W,PH_SWS,PH_SWS_FLAG_W,BTL_DATE,BTL_TIME,BTL_LAT,BTL_LON
,,,,,,,,,,,DBAR,ITS-90,PSS-78,,PSS-78,,UMOL/KG,,UMOL/KG,,UMOL/KG,,UMOL/KG,,UMOL/KG,,UMOL/KG,,PMOL/KG,,PMOL/KG,,PMOL/KG,,PMOL/KG,,UMOL/KG,,UMOL/KG,,UATM,,,,,,,
316N20050821,AAIW,82,1,24,24,2,20050919,1521,-57.7433,-98.4372,5.9,5.0384,34.1454,2,34.1471,2,300.3,2,300.4,2,5.23,2,20.73,2,0.06,2,1.47,2,4.583,2,2.588,2,0.439,2,5.501,2,2123.3,6,2274.4,2,-999.0,9,-999.00,1,20050919,1703,-57.7433,-98.4372
316N20050821,AAIW,82,1,23,23,2,20050919,1521,-57.7433,-98.4372,36.5,5.0416,34.1454,2,34.1451,2,301.0,2,300.4,2,5.23,2,20.73,2,0.06,2,1.47,2,4.585,2,2.591,2,0.437,2,5.479,2,2123.9,2,2272.7,2,-999.0,9,-999.00,1,20050919,1701,-57.7433,-98.4377
316N20050821,AAIW,82,1,22,22,2,20050919,1521,-57.7433,-98.4372,66.0,5.0424,34.1454,2,34.1473,2,301.0,2,300.2,2,5.42,2,20.78,2,0.06,2,1.46,2,4.564,2,2.599,2,0.438,2,5.518,2,2124.0,2,2273.7,2,-999.0,9,-999.00,1,20050919,1700,-57.7433,-98.4380
316N20050821,AAIW,82,1,21,21,2,20050919,1521,-57.7433,-98.4372,116.4,5.0449,34.1450,2,34.1434,2,300.4,2,300.0,2,5.41,2,20.83,2,0.06,2,1.47,2,4.567,2,2.575,2,0.441,2,5.537,2,2124.0,2,2272.9,2,-999.0,9,-999.00,1,20050919,1658,-57.7434,-98.4384
316N20050821,AAIW,82,1,20,20,2,20050919,1521,-57.7433,-98.4372,165.9,5.0480,34.1451,2,34.1459,2,300.6,2,300.0,2,5.41,2,20.78,2,0.06,2,1.46,2,4.578,2,2.577,2,0.435,2,5.516,2,2124.3,2,2273.9,2,-999.0,9,-999.00,1,20050919,1656,-57.7434,-98.4387
316N20050821,AAIW,82,1,19,19,2,20050919,1521,-57.7433,-98.4372,225.7,5.0526,34.1451,2,34.1434,2,300.3,2,299.6,2,5.41,2,20.73,2,0.06,2,1.47,2,4.558,2,2.596,2,0.435,2,5.511,2,2123.4,2,2273.5,2,-999.0,9,-999.00,1,20050919,1654,-57.7435,-98.4391
316N20050821,AAIW,82,1,18,18,9,20050919,1521,-57.7433,-98.4372,285.2,5.0565,34.1451,2,-999.0000,9,-999.0,9,-999.0,9,-999.00,9,-999.00,9,-999.00,9,-999.00,9,-999.000,9,-999.000,9,-999.000,9,-999.000,9,-999.0,9,-999.0,9,-999.0,9,-999.00,9,20050919,1652,-57.7437,-98.4393
316N20050821,AAIW,82,1,17,17,2,20050919,1521,-57.7433,-98.4372,345.3,5.0598,34.1452,2,34.1436,2,299.5,2,300.3,2,5.40,2,20.74,2,0.06,2,1.46,2,4.537,2,2.595,2,0.434,2,5.466,2,2123.5,2,2274.2,2,-999.0,9,-999.00,1,20050919,1650,-57.7438,-98.4395
316N20050821,AAIW,82,1,16,16,2,20050919,1521,-57.7433,-98.4372,394.7,4.9415,34.1372,2,34.1353,2,297.3,2,297.5,2,5.79,2,21.19,2,0.03,2,1.49,2,4.519,2,2.510,2,0.428,2,5.378,2,2125.2,2,2274.2,2,-999.0,9,-999.00,1,20050919,1649,-57.7440,-98.4397
316N20050821,AAIW,82,1,15,15,2,20050919,1521,-57.7433,-98.4372,464.4,4.8853,34.1317,2,34.1318,2,297.5,2,297.6,2,5.79,2,21.48,2,0.02,2,1.51,2,4.576,2,2.528,2,0.445,2,5.389,2,2127.8,2,2273.8,2,-999.0,9,-999.00,1,20050919,1647,-57.7442,-98.4400
316N20050821,AAIW,82,1,14,14,2,20050919,1521,-57.7433,-98.4372,554.2,5.0130,34.2130,2,34.2138,2,249.8,2,249.3,2,14.28,2,25.79,2,0.00,2,1.77,2,3.528,6,1.936,6,0.308,6,3.583,6,2155.6,2,2280.3,2,-999.0,9,-999.00,1,20050919,1644,-57.7444,-98.4403
316N20050821,AAIW,82,1,13,13,2,20050919,1521,-57.7433,-98.4372,652.5,4.6278,34.2533,2,34.2516,2,229.1,2,229.5,2,21.40,2,28.25,2,0.00,2,1.93,2,2.863,2,1.572,2,0.232,2,2.996,2,2174.9,2,2285.9,2,-999.0,9,-999.00,1,20050919,1642,-57.7446,-98.4407
316N20050821,AAIW,82,1,12,12,2,20050919,1521,-57.7433,-98.4372,750.5,4.1292,34.2774,2,34.2749,2,219.0,2,218.9,2,28.33,2,30.01,2,0.00,2,2.05,2,2.528,2,1.311,2,0.203,2,2.706,2,2189.3,2,2291.8,2,-999.0,9,-999.00,1,20050919,1639,-57.7448,-98.4409
316N20050821,AAIW,82,1,11,11,2,20050919,1521,-57.7433,-98.4372,848.8,3.6247,34.2983,2,34.2996,2,210.7,2,210.8,2,35.87,2,31.39,2,0.00,2,2.16,2,2.221,2,1.142,2,0.179,2,2.555,2,2202.0,2,2297.0,2,-999.0,9,-999.00,1,20050919,1636,-57.7450,-98.4412
316N20050821,AAIW,82,1,10,10,2,20050919,1521,-57.7433,-98.4372,1049.6,3.0951,34.3851,2,34.3841,2,192.0,2,191.7,2,50.78,2,33.11,2,0.00,2,2.29,2,1.303,2,0.728,2,0.095,2,1.673,2,2225.0,2,2313.2,2,-999.0,9,-999.00,1,20050919,1632,-57.7456,-98.4412
316N20050821,AAIW,82,1,9,9,2,20050919,1521,-57.7433,-98.4372,1253.5,2.7112,34.4793,2,34.4795,2,178.4,2,178.1,2,63.93,2,33.93,2,0.00,2,2.35,2,0.794,2,0.401,2,0.051,2,1.124,2,2243.1,2,2326.0,2,-999.0,9,-999.00,1,20050919,1628,-57.7462,-98.4413
316N20050821,AAIW,82,1,8,8,2,20050919,1521,-57.7433,-98.4372,1444.7,2.5072,34.5599,2,34.5583,2,172.2,2,171.6,2,72.91,2,33.97,2,0.00,2,2.33,2,0.527,2,0.244,2,0.030,2,0.768,2,2251.5,2,2334.2,2,-999.0,9,-999.00,1,20050919,1624,-57.7465,-98.4414
316N20050821,AAIW,82,1,7,7,2,20050919,1521,-57.7433,-98.4372,1747.0,2.3029,34.6510,2,34.6505,2,172.9,2,172.6,2,80.51,2,33.06,2,0.00,2,2.27,2,0.257,2,0.126,2,0.003,2,0.419,2,2256.1,2,2343.3,2,-999.0,9,-999.00,1,20050919,1618,-57.7470,-98.4421
316N20050821,AAIW,82,1,6,6,2,20050919,1521,-57.7433,-98.4372,2049.3,2.1206,34.7007,2,34.7009,2,178.2,2,178.3,2,86.31,2,32.06,2,0.00,2,2.21,2,0.170,2,0.093,2,0.003,2,0.269,2,2258.3,2,2348.6,2,-999.0,9,-999.00,1,20050919,1611,-57.7472,-98.4424
316N20050821,AAIW,82,1,5,5,2,20050919,1521,-57.7433,-98.4372,2553.6,1.7055,34.7247,2,34.7253,2,186.5,2,186.7,2,99.57,2,31.72,2,0.00,2,2.18,2,0.076,2,0.036,2,0.003,2,0.086,2,2260.6,2,2359.7,2,-999.0,9,-999.00,1,20050919,1602,-57.7475,-98.4429
316N20050821,AAIW,82,1,4,4,2,20050919,1521,-57.7433,-98.4372,3055.9,1.4113,34.7256,2,34.7241,2,194.3,2,194.2,2,107.63,2,31.63,2,0.00,2,2.18,2,0.073,2,0.038,2,0.003,2,0.097,2,2261.5,2,2360.0,2,-999.0,9,-999.00,1,20050919,1552,-57.7475,-98.4432
316N20050821,AAIW,82,1,3,3,2,20050919,1521,-57.7433,-98.4372,3562.6,1.0854,34.7177,2,34.7164,2,200.8,2,200.8,2,117.51,2,31.91,2,0.00,2,2.19,2,0.086,2,0.047,2,0.003,2,0.201,2,2260.6,2,2361.2,2,-999.0,9,-999.00,1,20050919,1542,-57.7482,-98.4439
316N20050821,AAIW,82,1,2,2,2,20050919,1521,-57.7433,-98.4372,4071.3,0.7614,34.7095,2,34.7082,2,206.5,2,206.4,2,128.24,2,32.24,2,0.00,2,2.22,2,0.126,2,0.062,2,0.003,2,0.285,2,2263.7,2,2364.0,2,-999.0,9,-999.00,1,20050919,1532,-57.7488,-98.4449
316N20050821,AAIW,82,1,1,1,2,20050919,1521,-57.7433,-98.4372,4583.1,0.5807,34.7061,2,34.7062,2,211.8,2,210.7,2,135.34,2,32.39,2,0.00,2,2.23,2,0.156,2,0.082,2,0.003,2,0.416,2,2264.9,6,2364.8,2,-999.0,9,-999.00,1,20050919,1521,-57.7489,-98.4460
316N20050821,AAIW,83,1,24,24,2,20050919,2135,-57.4809,-97.5373,3.2,4.9885,34.1333,2,34.1322,2,301.8,2,300.6,2,5.43,2,20.86,2,0.08,2,1.47,2,4.573,2,2.578,2,0.449,2,5.391,2,2125.0,6,2273.8,2,-999.0,9,-999.00,1,20050919,2315,-57.4809,-97.5373
316N20050821,AAIW,83,1,23,23,2,20050919,2135,-57.4809,-97.5373,57.1,4.9908,34.1328,2,34.1320,2,301.1,2,300.6,2,5.43,2,20.77,2,0.07,2,1.47,2,4.567,2,2.572,2,0.448,2,5.397,2,2126.0,2,2273.1,2,-999.0,9,-999.00,1,20050919,2312,-57.4814,-97.5376
316N20050821,AAIW,83,1,22,22,2,20050919,2135,-57.4809,-97.5373,126.8,4.9911,34.1327,2,34.1328,2,300.0,2,300.4,2,5.22,2,20.87,2,0.07,2,1.47,2,4.572,2,2.573,2,0.450,2,5.407,2,2127.1,2,2273.6,2,-999.0,9,-999.00,1,20050919,2309,-57.4817,-97.5380
316N20050821,AAIW,83,1,21,21,2,20050919,2135,-57.4809,-97.5373,226.3,4.9874,34.1317,2,34.1324,2,299.2,2,300.1,2,5.22,2,20.88,2,0.07,2,1.48,2,4.571,2,2.562,2,0.451,2,5.410,2,2127.1,2,2273.6,2,-999.0,9,-999.00,1,20050919,2307,-57.4821,-97.5382
316N20050821,AAIW,83,1,20,20,2,20050919,2135,-57.4809,-97.5373,325.6,4.9817,34.1330,2,34.1318,2,297.2,2,296.9,2,6.00,2,21.27,2,0.05,2,1.49,2,4.497,2,2.525,2,0.442,2,5.244,2,2128.3,2,2271.9,2,-999.0,9,-999.00,1,20050919,2304,-57.4824,-97.5384
316N20050821,AAIW,83,1,19,19,2,20050919,2135,-57.4809,-97.5373,385.2,4.8275,34.1375,2,34.1359,2,279.3,2,278.1,2,8.96,2,23.53,2,0.01,2,1.64,2,4.241,2,2.366,2,0.411,2,4.701,2,2143.3,2,2275.6,2,-999.0,9,-999.00,1,20050919,2302,-57.4827,-97.5386
316N20050821,AAIW,83,1,18,18,2,20050919,2135,-57.4809,-97.5373,435.7,4.3717,34.0883,2,34.0891,2,286.0,2,286.0,2,8.96,2,23.86,2,0.01,2,1.65,2,4.479,2,2.422,2,0.412,2,4.998,2,2142.2,2,2275.1,2,-999.0,9,-999.00,1,20050919,2301,-57.4829,-97.5387
316N20050821,AAIW,83,1,17,17,2,20050919,2135,-57.4809,-97.5373,485.1,4.3130,34.1060,2,34.1058,2,277.2,2,277.3,2,11.13,2,24.82,2,0.01,2,1.71,2,1.923,4,1.431,4,0.241,4,1.505,4,2146.8,2,2276.9,2,-999.0,9,-999.00,1,20050919,2259,-57.4831,-97.5388
316N20050821,AAIW,83,1,16,16,2,20050919,2135,-57.4809,-97.5373,535.4,4.3556,34.1419,2,34.1424,2,263.3,2,263.2,2,14.10,2,25.73,2,0.00,2,1.79,2,3.486,2,2.083,2,0.339,2,3.290,2,2157.5,2,2279.0,2,-999.0,9,-999.00,1,20050919,2257,-57.4833,-97.5388
316N20050821,AAIW,83,1,15,15,2,20050919,2135,-57.4809,-97.5373,584.5,4.4982,34.1895,2,34.1905,2,247.5,2,247.8,2,17.06,2,27.06,2,0.00,2,1.86,2,3.489,2,1.960,2,0.314,2,3.276,2,2166.2,2,2282.0,2,-999.0,9,-999.00,1,20050919,2255,-57.4836,-97.5391
316N20050821,AAIW,83,1,14,14,2,20050919,2135,-57.4809,-97.5373,685.0,4.3967,34.2652,2,34.2646,2,222.5,2,223.0,2,24.58,2,29.21,2,0.00,2,1.99,2,2.744,2,1.480,2,0.222,2,2.706,2,2183.6,2,2288.8,2,-999.0,9,-999.00,1,20050919,2253,-57.4839,-97.5392
316N20050821,AAIW,83,1,13,13,2,20050919,2135,-57.4809,-97.5373,784.7,3.9876,34.2896,2,34.2886,2,213.6,2,214.2,2,30.92,2,30.40,2,0.00,2,2.09,2,2.350,2,1.229,2,0.185,2,2.549,2,2195.9,2,2292.8,2,-999.0,9,-999.00,1,20050919,2250,-57.4842,-97.5393
316N20050821,AAIW,83,1,12,12,2,20050919,2135,-57.4809,-97.5373,884.9,3.5743,34.3123,2,34.3098,2,206.9,2,207.4,2,37.47,2,31.70,2,0.00,2,2.18,2,2.005,6,1.062,6,0.163,6,2.421,6,2207.3,2,2299.0,2,-999.0,9,-999.00,1,20050919,2248,-57.4845,-97.5395
316N20050821,AAIW,83,1,11,11,2,20050919,2135,-57.4809,-97.5373,984.9,3.2539,34.3527,2,34.3521,2,197.4,2,197.6,2,45.43,2,32.61,2,0.00,2,2.25,2,1.629,2,0.824,2,0.132,2,2.085,2,2220.0,2,2307.7,2,-999.0,9,-999.00,1,20050919,2245,-57.4848,-97.5398
316N20050821,AAIW,83,1,10,10,2,20050919,2135,-57.4809,-97.5373,1114.6,2.9820,34.4059,2,34.4052,2,187.3,2,188.2,2,53.99,2,33.34,2,0.00,2,2.30,2,1.223,2,0.635,2,0.071,2,1.617,2,2231.3,2,2315.3,2,-999.0,9,-999.00,1,20050919,2242,-57.4851,-97.5402
316N20050821,AAIW,83,1,9,9,2,20050919,2135,-57.4809,-97.5373,1314.6,2.6444,34.4969,2,34.4971,2,176.1,2,176.7,2,65.76,2,34.12,2,0.00,2,2.35,2,0.747,2,0.400,2,0.042,2,1.004,2,2248.1,2,2327.7,2,-999.0,9,-999.00,1,20050919,2238,-57.4855,-97.5410
316N20050821,AAIW,83,1,8,8,2,20050919,2135,-57.4809,-97.5373,1563.4,2.4296,34.5903,2,34.5893,2,171.2,2,171.3,2,75.15,2,33.73,2,0.00,2,2.32,2,0.443,2,0.226,2,0.021,2,0.667,2,2257.1,2,2336.6,2,-999.0,9,-999.00,1,20050919,2233,-57.4859,-97.5416
316N20050821,AAIW,83,1,7,7,2,20050919,2135,-57.4809,-97.5373,1860.7,2.2589,34.6673,2,34.6678,2,173.2,2,173.3,2,82.57,2,32.78,2,0.00,2,2.28,2,0.209,2,0.102,2,0.003,2,0.338,2,2261.3,2,2346.8,2,-999.0,9,-999.00,1,20050919,2227,-57.4863,-97.5424
316N20050821,AAIW,83,1,6,6,2,20050919,2135,-57.4809,-97.5373,2158.8,2.0541,34.7104,2,34.7096,2,180.1,2,180.4,2,87.58,2,31.69,2,0.00,2,2.19,2,0.150,2,0.074,2,0.003,2,0.216,2,2259.2,2,2349.3,2,-999.0,9,-999.00,1,20050919,2221,-57.4869,-97.5433
316N20050821,AAIW,83,1,5,5,2,20050919,2135,-57.4809,-97.5373,2656.5,1.6705,34.7245,2,34.7237,2,187.1,2,187.3,2,100.26,2,31.79,2,0.00,2,2.19,2,0.077,2,0.036,2,0.003,2,0.118,2,2264.5,2,2360.8,2,-999.0,9,-999.00,1,20050919,2212,-57.4877,-97.5449
316N20050821,AAIW,83,1,4,4,2,20050919,2135,-57.4809,-97.5373,3157.1,1.3914,34.7252,2,34.7231,3,194.4,2,194.7,2,107.52,2,31.71,2,0.00,2,2.16,2,0.064,2,0.031,2,0.003,2,0.097,2,2262.8,2,2360.2,2,-999.0,9,-999.00,1,20050919,2202,-57.4885,-97.5465
316N20050821,AAIW,83,1,3,3,2,20050919,2135,-57.4809,-97.5373,3659.4,1.0990,34.7177,2,34.7155,3,200.4,2,201.0,2,116.61,2,31.95,2,0.00,2,2.20,2,0.097,2,0.053,2,0.003,2,0.177,2,2262.9,2,2361.1,2,-999.0,9,-999.00,1,20050919,2153,-57.4894,-97.5479
316N20050821,AAIW,83,1,2,2,2,20050919,2135,-57.4809,-97.5373,4165.0,0.7590,34.7093,2,34.7072,2,205.8,2,206.9,2,128.17,2,32.25,2,0.00,2,2.22,2,0.133,2,0.062,2,0.003,2,0.262,2,2265.9,2,2363.4,2,-999.0,9,-999.00,1,20050919,2144,-57.4902,-97.5494
316N20050821,AAIW,83,1,1,1,2,20050919,2135,-57.4809,-97.5373,4660.2,0.6099,34.7062,2,34.7051,2,210.6,2,210.3,2,134.26,2,32.40,2,0.00,2,2.23,2,0.139,2,0.069,2,0.003,2,0.351,2,2266.0,6,2364.2,2,-999.0,9,-999.00,1,20050919,2135,-57.4912,-97.5504
316N20050821,AAIW,84,1,24,24,2,20050920,355,-57.2420,-96.6393,7.0,4.9293,34.1277,2,34.1281,2,301.5,2,300.4,2,5.50,2,21.15,2,0.07,2,1.49,2,4.569,2,2.521,2,0.453,2,5.423,2,2124.3,2,2273.2,2,-999.0,9,-999.00,1,20050920,550,-57.2420,-96.6393
316N20050821,AAIW,84,1,23,23,2,20050920,355,-57.2420,-96.6393,46.1,4.9366,34.1279,2,34.1272,2,301.9,2,300.7,2,5.50,2,21.11,2,0.07,2,1.49,2,4.563,2,2.552,2,0.448,2,5.326,2,-999.0,9,2274.6,2,-999.0,9,-999.00,1,20050920,547,-57.2419,-96.6395
316N20050821,AAIW,84,1,22,22,2,20050920,355,-57.2420,-96.6393,76.1,4.9399,34.1280,2,34.1272,2,301.3,2,300.7,2,5.50,2,21.16,2,0.07,2,1.49,2,4.565,2,2.540,2,0.453,2,5.375,2,2124.1,2,2273.8,2,-999.0,9,-999.00,1,20050920,545,-57.2419,-96.6395
316N20050821,AAIW,84,1,21,21,2,20050920,355,-57.2420,-96.6393,105.8,4.9405,34.1281,2,34.1270,2,301.2,2,301.9,2,5.50,2,21.16,2,0.07,2,1.50,2,4.582,2,2.545,2,0.452,2,5.389,2,-999.0,9,2274.0,2,-999.0,9,-999.00,1,20050920,543,-57.2418,-96.6397
316N20050821,AAIW,84,1,20,20,2,20050920,355,-57.2420,-96.6393,155.8,4.9390,34.1276,2,34.1276,2,300.6,2,300.0,2,5.50,2,21.16,2,0.07,2,1.50,2,4.517,2,2.533,2,0.449,2,5.355,2,2125.0,2,2273.1,2,-999.0,9,-999.00,1,20050920,540,-57.2418,-96.6400
316N20050821,AAIW,84,1,19,19,2,20050920,355,-57.2420,-96.6393,204.8,4.9321,34.1269,2,34.1277,2,300.2,2,300.2,2,5.50,2,21.24,2,0.07,2,1.50,2,4.547,2,2.531,2,0.457,2,5.394,2,2124.7,2,2274.2,2,-999.0,9,-999.00,1,20050920,538,-57.2418,-96.6401
316N20050821,AAIW,84,1,18,18,2,20050920,355,-57.2420,-96.6393,304.6,4.9394,34.1280,2,34.1281,2,300.1,2,300.5,2,5.50,2,21.20,2,0.07,2,1.49,2,4.494,2,2.534,2,0.449,2,5.373,2,2124.3,2,2273.1,2,-999.0,9,-999.00,1,20050920,535,-57.2415,-96.6404
316N20050821,AAIW,84,1,17,17,2,20050920,355,-57.2420,-96.6393,404.3,4.6620,34.1021,2,34.1026,2,291.4,2,291.7,2,7.08,2,22.79,2,0.01,2,1.59,2,4.518,2,2.472,2,0.432,2,5.069,2,2132.1,2,2275.0,2,-999.0,9,-999.00,1,20050920,532,-57.2413,-96.6404
316N20050821,AAIW,84,1,16,16,2,20050920,355,-57.2420,-96.6393,474.0,4.7738,34.1493,2,34.1472,2,271.5,2,271.1,2,10.66,2,24.57,2,0.01,2,1.70,2,4.006,2,2.209,2,0.373,2,4.253,2,2145.2,2,2276.8,2,-999.0,9,-999.00,1,20050920,529,-57.2412,-96.6404
316N20050821,AAIW,84,1,15,15,2,20050920,355,-57.2420,-96.6393,563.8,4.8552,34.2331,2,34.2326,2,238.4,2,238.6,2,17.62,2,27.16,2,0.00,2,1.87,2,3.229,2,1.694,2,0.266,2,3.201,2,2165.1,2,2283.5,2,-999.0,9,-999.00,1,20050920,526,-57.2410,-96.6406
316N20050821,AAIW,84,1,14,14,2,20050920,355,-57.2420,-96.6393,664.5,4.4325,34.2546,2,34.2528,2,226.5,2,226.3,2,23.39,2,28.99,2,0.00,2,1.99,2,2.865,2,1.467,2,0.236,2,2.888,2,2179.9,2,2287.1,2,-999.0,9,-999.00,1,20050920,523,-57.2410,-96.6409
316N20050821,AAIW,84,1,13,13,2,20050920,355,-57.2420,-96.6393,763.3,3.9640,34.2743,2,34.2728,2,218.1,2,218.9,2,29.76,2,30.53,2,0.00,2,2.09,2,2.503,2,1.311,2,0.210,2,2.627,2,2191.0,2,2292.6,2,-999.0,9,-999.00,1,20050920,520,-57.2410,-96.6411
316N20050821,AAIW,84,1,12,12,2,20050920,355,-57.2420,-96.6393,863.0,3.4641,34.2974,2,34.2975,2,211.4,2,210.6,2,37.34,2,31.89,2,0.00,2,2.20,2,2.188,2,1.136,2,0.179,2,2.572,2,2205.2,2,2298.8,2,-999.0,9,-999.00,1,20050920,517,-57.2413,-96.6415
316N20050821,AAIW,84,1,11,11,2,20050920,355,-57.2420,-96.6393,962.7,3.0822,34.3271,2,34.3291,2,204.1,2,204.1,2,44.34,2,32.92,2,0.00,2,2.26,2,1.908,2,0.976,2,0.159,2,2.386,2,2216.2,2,2303.7,2,-999.0,9,-999.00,1,20050920,514,-57.2416,-96.6417
316N20050821,AAIW,84,1,10,10,2,20050920,355,-57.2420,-96.6393,1063.0,2.9579,34.3868,2,34.3855,2,190.8,2,191.6,2,52.35,2,33.64,2,0.00,2,2.32,2,1.408,2,0.717,2,0.106,2,1.844,2,2227.7,2,2313.3,2,-999.0,9,-999.00,1,20050920,511,-57.2419,-96.6420
316N20050821,AAIW,84,1,9,9,2,20050920,355,-57.2420,-96.6393,1240.7,2.7065,34.4748,2,34.4732,2,179.2,2,178.6,2,63.57,2,34.12,2,0.00,2,2.36,2,0.882,2,0.436,2,0.078,2,1.424,2,2242.7,2,2324.4,2,-999.0,9,-999.00,1,20050920,506,-57.2422,-96.6423
316N20050821,AAIW,84,1,8,8,3,20050920,355,-57.2420,-96.6393,1539.9,2.4398,34.5867,2,34.1271,4,-999.0,9,300.6,4,6.10,4,21.15,4,0.07,4,1.49,4,4.593,4,2.536,4,0.463,4,5.258,4,-999.0,9,2276.3,4,-999.0,9,-999.00,1,20050920,500,-57.2425,-96.6433
316N20050821,AAIW,84,1,7,7,2,20050920,355,-57.2420,-96.6393,1838.2,2.2524,34.6691,2,34.6696,2,174.4,2,174.0,2,81.87,2,32.86,2,0.00,2,2.26,2,0.223,2,0.097,2,0.003,2,0.388,2,-999.0,9,2344.6,2,-999.0,9,-999.00,1,20050920,453,-57.2429,-96.6442
316N20050821,AAIW,84,1,6,6,2,20050920,355,-57.2420,-96.6393,2340.4,1.9110,34.7243,2,34.7247,2,185.0,2,185.1,2,91.36,2,31.65,2,0.00,2,2.18,2,0.123,2,0.055,2,0.003,2,0.224,2,-999.0,9,2352.2,2,-999.0,9,-999.00,1,20050920,443,-57.2434,-96.6460
316N20050821,AAIW,84,1,5,5,2,20050920,355,-57.2420,-96.6393,2843.1,1.5412,34.7262,2,34.7267,2,190.9,2,190.8,2,104.31,2,31.89,2,0.00,2,2.20,2,0.065,6,0.032,6,0.003,6,0.162,6,-999.0,9,2360.4,2,-999.0,9,-999.00,1,20050920,434,-57.2433,-96.6480
316N20050821,AAIW,84,1,4,4,2,20050920,355,-57.2420,-96.6393,3348.8,1.2645,34.7227,2,34.7224,2,197.4,2,197.6,2,111.82,2,31.89,2,0.00,2,2.20,2,0.075,2,0.030,2,0.003,2,0.201,2,-999.0,9,2360.5,2,-999.0,9,-999.00,1,20050920,424,-57.2440,-96.6496
316N20050821,AAIW,84,1,3,3,2,20050920,355,-57.2420,-96.6393,3854.1,0.9404,34.7132,2,34.7130,2,203.1,2,203.7,2,122.81,2,32.04,2,0.00,2,2.21,2,0.110,2,0.056,2,0.003,2,0.260,2,-999.0,9,2361.0,2,-999.0,9,-999.00,1,20050920,414,-57.2445,-96.6511
316N20050821,AAIW,84,1,2,2,2,20050920,355,-57.2420,-96.6393,4364.5,0.6615,34.7078,2,34.7073,2,208.2,2,208.7,2,131.59,2,32.47,2,0.00,2,2.24,2,0.133,2,0.064,2,0.003,2,0.350,2,-999.0,9,2364.8,2,-999.0,9,-999.00,1,20050920,405,-57.2452,-96.6529
316N20050821,AAIW,84,1,1,1,2,20050920,355,-57.2420,-96.6393,4867.4,0.6060,34.7060,2,34.7056,2,212.5,2,211.0,2,135.26,2,32.61,2,0.00,2,2.25,2,0.157,2,0.080,2,0.003,2,0.419,2,-999.0,9,2362.6,2,-999.0,9,-999.00,1,20050920,355,-57.2458,-96.6544