BOTTLE,20220819CCHSIOAMB
EXPOCODE,SECT_ID,STNNBR,CASTNO,SAMPNO,BTLNBR,BTLNBR_FLAG_W,DATE,TIME,LATITUDE,LONGITUDE,CTDPRS,CTDTMP,CTDSAL,CTDSAL_FLAG_W,SALNTY,SALNTY_FLAG_W,CTDOXY,CTDOXY_FLAG_W,OXYGEN,OXYGEN_FLAG_W,SILCAT,SILCAT_FLAG_W,NITRAT,NITRAT_FLAG_W,NITRIT,NITRIT_FLAG_W,PHSPHT,PHSPHT_FLAG_W,CFC-11,CFC-11_FLAG_W,CFC-12,CFC-12_FLAG_W,CFC113,CFC113_FLAG_W,CCL4,CCL4_FLAG_W,TCARBN,TCARBN_FLAG_W,ALKALI,ALKALI_FLAG_W,PCO2,PCO2_FLAG_W,PH_SWS,PH_SWS_FLAG_W,BTL_DATE,BTL_TIME,BTL_LAT,BTL_LON
,,,,,,,,,,,DBAR,ITS-90,PSS-78,,PSS-78,,UMOL/KG,,UMOL/KG,,UMOL/KG,,UMOL/KG,,UMOL/KG,,UMOL/KG,,PMOL/KG,,PMOL/KG,,PMOL/KG,,PMOL/KG,,UMOL/KG,,UMOL/KG,,UATM,,,,,,,
316N20050821,AAIW,16,1,24,24,2,20050827,1923,-58.1048,-76.1077,12.8,4.8091,34.1578,2,34.1577,2,299.9,2,298.9,2,6.79,2,21.10,2,0.05,2,1.49,2,4.517,2,2.471,2,0.439,2,5.723,2,2125.5,2,2272.9,2,-999.0,9,-999.00,1,20050827,2116,-58.1048,-76.1077
316N20050821,AAIW,16,1,23,23,2,20050827,1923,-58.1048,-76.1077,47.7,4.8113,34.1579,2,34.1581,2,299.7,2,299.1,2,6.60,2,21.10,2,0.05,2,1.49,2,4.501,2,2.468,2,0.439,2,5.640,2,-999.0,5,2269.8,3,-999.0,9,-999.00,1,20050827,2114,-58.1054,-76.1085
316N20050821,AAIW,16,1,22,22,2,20050827,1923,-58.1048,-76.1077,77.3,4.8191,34.1582,2,34.1577,2,299.4,2,298.8,2,6.59,2,21.10,2,0.05,2,1.49,2,4.498,2,2.477,2,0.438,2,5.726,2,2126.3,2,2273.1,2,-999.0,9,-999.00,1,20050827,2112,-58.1056,-76.1093
316N20050821,AAIW,16,1,21,21,2,20050827,1923,-58.1048,-76.1077,117.1,4.8301,34.1583,2,34.1573,2,299.1,2,298.5,2,6.75,2,21.14,2,0.05,2,1.50,2,4.518,2,2.475,2,0.440,2,5.639,2,2125.9,2,2273.4,2,-999.0,9,-999.00,1,20050827,2109,-58.1061,-76.1100
316N20050821,AAIW,16,1,20,20,2,20050827,1923,-58.1048,-76.1077,146.7,4.8371,34.1590,2,34.1589,2,299.1,2,298.7,2,6.74,2,21.14,2,0.04,2,1.49,2,4.499,2,2.462,2,0.441,2,5.721,2,2125.5,2,-999.0,1,-999.0,9,-999.00,1,20050827,2107,-58.1065,-76.1107
316N20050821,AAIW,16,1,19,19,2,20050827,1923,-58.1048,-76.1077,193.4,4.8280,34.1575,2,34.1570,2,299.1,2,298.0,2,6.72,2,21.13,2,0.05,2,1.49,2,4.503,2,2.497,2,0.437,2,5.760,2,2125.6,2,2273.6,2,-999.0,9,-999.00,1,20050827,2105,-58.1069,-76.1113
316N20050821,AAIW,16,1,18,18,2,20050827,1923,-58.1048,-76.1077,242.8,4.8305,34.1572,2,34.1588,2,299.2,2,298.8,2,6.71,2,21.13,2,0.05,2,1.49,2,4.508,2,2.486,2,0.442,2,5.704,2,2126.2,2,2273.2,2,-999.0,9,-999.00,1,20050827,2103,-58.1074,-76.1120
316N20050821,AAIW,16,1,17,17,2,20050827,1923,-58.1048,-76.1077,293.3,4.8259,34.1561,2,34.1551,2,298.4,2,298.5,2,6.69,2,21.25,2,0.04,2,1.50,2,4.519,2,2.484,2,0.438,2,5.748,2,2126.0,2,2273.7,2,-999.0,9,-999.00,1,20050827,2101,-58.1080,-76.1130
316N20050821,AAIW,16,1,16,16,2,20050827,1923,-58.1048,-76.1077,390.9,4.8485,34.1586,2,34.1582,2,297.7,2,297.7,2,6.87,2,21.25,2,0.04,2,1.49,2,4.452,2,2.444,2,0.441,2,5.562,2,2126.4,2,2273.9,2,-999.0,9,-999.00,1,20050827,2057,-58.1085,-76.1142
316N20050821,AAIW,16,1,15,15,2,20050827,1923,-58.1048,-76.1077,491.2,4.8748,34.1627,2,34.1676,2,294.0,2,295.9,2,7.22,2,21.47,2,0.03,2,1.50,2,4.471,2,2.462,2,0.435,2,5.547,2,2127.5,2,2274.4,2,-999.0,9,-999.00,1,20050827,2054,-58.1090,-76.1154
316N20050821,AAIW,16,1,14,14,2,20050827,1923,-58.1048,-76.1077,541.7,4.7335,34.1655,2,34.1655,2,277.3,2,278.1,2,11.04,2,24.08,2,0.00,2,1.67,2,4.135,2,2.248,2,0.388,2,4.833,2,2144.1,2,2277.1,2,-999.0,9,-999.00,1,20050827,2052,-58.1094,-76.1159
316N20050821,AAIW,16,1,13,13,2,20050827,1923,-58.1048,-76.1077,637.6,4.5137,34.1900,2,34.1922,2,254.4,2,255.5,2,16.32,2,26.51,2,0.00,2,1.83,2,3.553,2,1.847,2,0.299,2,4.055,2,2159.6,2,2281.0,2,-999.0,9,-999.00,1,20050827,2050,-58.1097,-76.1165
316N20050821,AAIW,16,1,12,12,2,20050827,1923,-58.1048,-76.1077,734.7,4.2760,34.2287,2,34.2284,2,235.0,2,235.9,2,22.51,2,28.48,2,0.00,2,1.96,2,2.949,2,1.517,2,0.235,2,3.389,2,2841.6,4,2285.8,2,-999.0,9,-999.00,1,20050827,2047,-58.1102,-76.1172
316N20050821,AAIW,16,1,11,11,2,20050827,1923,-58.1048,-76.1077,833.1,3.9638,34.2703,2,34.2725,2,220.2,2,219.3,2,29.97,2,30.25,2,0.00,2,2.08,2,2.377,2,1.196,2,0.182,2,2.808,2,2189.7,2,2291.1,2,-999.0,9,-999.00,1,20050827,2044,-58.1107,-76.1180
316N20050821,AAIW,16,1,10,10,2,20050827,1923,-58.1048,-76.1077,925.7,3.5687,34.3107,2,34.3097,2,206.9,2,209.2,2,38.54,2,31.64,2,0.00,2,2.19,2,1.915,2,0.953,2,0.136,2,2.380,2,2204.2,2,2299.7,2,-999.0,9,-999.00,1,20050827,2042,-58.1111,-76.1185
316N20050821,AAIW,16,1,9,9,2,20050827,1923,-58.1048,-76.1077,1169.8,2.7762,34.4314,2,34.4316,2,-999.0,9,187.6,3,59.51,2,33.72,2,0.00,2,2.33,2,1.070,2,0.532,2,0.074,2,1.551,2,2236.8,2,2319.1,2,-999.0,9,-999.00,1,20050827,2037,-58.1122,-76.1199
316N20050821,AAIW,16,1,8,8,2,20050827,1923,-58.1048,-76.1077,1411.9,2.6347,34.4888,2,34.4883,2,-999.0,9,180.6,3,66.25,2,33.89,2,0.00,2,2.35,2,0.780,2,0.393,2,0.052,2,1.169,2,2245.4,2,2326.9,2,-999.0,9,-999.00,1,20050827,2031,-58.1127,-76.1214
316N20050821,AAIW,16,1,7,7,2,20050827,1923,-58.1048,-76.1077,1889.9,2.4609,34.5960,2,34.5954,2,170.3,2,170.4,2,78.09,2,33.58,2,0.00,2,2.33,2,0.327,2,0.153,2,0.011,2,0.556,2,-999.0,5,2341.0,2,-999.0,9,-999.00,1,20050827,2022,-58.1132,-76.1232
316N20050821,AAIW,16,1,6,6,2,20050827,1923,-58.1048,-76.1077,2373.0,2.0494,34.7098,2,34.7077,2,179.3,2,179.6,2,90.48,2,31.78,2,0.00,2,2.22,2,0.115,6,0.057,6,0.005,6,0.207,6,-999.0,5,2352.4,2,-999.0,9,-999.00,1,20050827,2013,-58.1142,-76.1253
316N20050821,AAIW,16,1,5,5,2,20050827,1923,-58.1048,-76.1077,2855.7,1.6812,34.7223,2,34.7216,2,185.7,2,187.0,2,102.69,2,31.69,2,0.00,2,2.20,2,0.048,2,0.029,2,0.001,2,0.097,2,-999.0,5,2362.0,2,-999.0,9,-999.00,1,20050827,2003,-58.1152,-76.1276
316N20050821,AAIW,16,1,4,4,9,20050827,1923,-58.1048,-76.1077,3338.1,1.3996,34.7247,2,-999.0000,9,-999.0,9,-999.0,9,-999.00,9,-999.00,9,-999.00,9,-999.00,9,-999.000,9,-999.000,9,-999.000,9,-999.000,9,-999.0,9,-999.0,9,-999.0,9,-999.00,9,20050827,1954,-58.1156,-76.1299
316N20050821,AAIW,16,1,3,3,2,20050827,1923,-58.1048,-76.1077,3821.6,1.0630,34.7158,2,34.7170,2,200.7,2,202.1,2,118.74,2,31.68,2,0.00,2,2.21,2,0.067,2,0.030,2,0.002,2,0.172,2,-999.0,5,2360.5,2,-999.0,9,-999.00,1,20050827,1944,-58.1164,-76.1319
316N20050821,AAIW,16,1,2,2,2,20050827,1923,-58.1048,-76.1077,4315.2,0.7514,34.7084,2,34.7068,3,206.3,2,208.8,2,128.95,2,31.98,2,0.00,2,2.24,2,0.071,2,0.035,2,0.003,2,0.239,2,-999.0,5,2363.9,2,-999.0,9,-999.00,1,20050827,1935,-58.1171,-76.1341
316N20050821,AAIW,16,1,1,1,2,20050827,1923,-58.1048,-76.1077,4962.4,0.6076,34.7054,2,34.7052,2,-999.0,9,297.8,4,136.22,2,31.93,2,0.00,2,2.26,2,0.093,2,0.048,2,0.004,2,0.312,2,2265.9,2,2361.5,2,-999.0,9,-999.00,1,20050827,1923,-58.1178,-76.1384
316N20050821,AAIW,17,1,24,24,2,20050828,743,-59.2593,-76.9507,3.6,3.2454,34.0496,2,-999.0000,9,308.2,2,309.3,2,9.97,2,23.95,2,0.03,2,1.68,2,4.992,2,2.819,2,0.464,2,6.951,2,2136.7,2,2274.7,2,-999.0,9,-999.00,1,20050828,939,-59.2593,-76.9507
316N20050821,AAIW,17,1,23,23,2,20050828,743,-59.2593,-76.9507,44.5,3.0869,34.0379,2,-999.0000,9,310.9,2,310.4,2,10.30,2,24.38,2,0.03,2,1.70,2,5.050,2,2.858,2,0.469,2,7.114,2,2148.2,3,2274.1,2,-999.0,9,-999.00,1,20050828,937,-59.2592,-76.9515
316N20050821,AAIW,17,1,22,22,2,20050828,743,-59.2593,-76.9507,91.6,3.0773,34.0366,2,-999.0000,9,310.6,2,310.2,2,10.45,2,24.37,2,0.03,2,1.70,2,5.099,2,2.828,2,0.457,2,7.236,2,2139.5,2,2275.2,2,-999.0,9,-999.00,1,20050828,934,-59.2593,-76.9524
316N20050821,AAIW,17,1,21,21,2,20050828,743,-59.2593,-76.9507,116.5,3.0787,34.0365,2,-999.0000,9,310.5,2,310.2,2,10.42,2,24.41,2,0.03,2,1.70,2,5.060,2,2.879,2,0.466,2,7.229,2,2138.5,2,2274.1,2,-999.0,9,-999.00,1,20050828,932,-59.2593,-76.9530
316N20050821,AAIW,17,1,20,20,2,20050828,743,-59.2593,-76.9507,185.9,3.0813,34.0366,2,-999.0000,9,309.6,2,310.0,2,10.38,2,24.44,2,0.03,2,1.70,2,5.088,2,2.866,2,0.471,2,7.218,2,2139.4,2,2274.0,2,-999.0,9,-999.00,1,20050828,929,-59.2593,-76.9536
316N20050821,AAIW,17,1,19,19,2,20050828,743,-59.2593,-76.9507,285.1,3.1009,34.0398,2,-999.0000,9,308.2,2,307.5,2,11.07,2,24.66,2,0.02,2,1.72,2,5.035,2,2.796,2,0.455,2,7.055,2,2139.8,2,2274.6,2,-999.0,9,-999.00,1,20050828,927,-59.2594,-76.9544
316N20050821,AAIW,17,1,18,18,2,20050828,743,-59.2593,-76.9507,384.8,3.2743,34.1505,2,-999.0000,9,259.3,2,259.4,2,23.29,2,28.63,2,0.00,2,1.97,2,3.912,2,2.137,2,0.311,2,4.953,2,2173.4,2,2284.2,2,-999.0,9,-999.00,1,20050828,924,-59.2595,-76.9553
316N20050821,AAIW,17,1,17,17,2,20050828,743,-59.2593,-76.9507,483.5,3.1459,34.2072,2,34.2099,2,240.1,2,240.4,2,30.10,2,30.23,2,0.00,2,2.07,2,3.274,2,1.739,2,0.256,2,4.144,2,2190.9,2,2290.1,2,-999.0,9,-999.00,1,20050828,921,-59.2597,-76.9561
316N20050821,AAIW,17,1,16,16,2,20050828,743,-59.2593,-76.9507,581.5,2.9802,34.2673,2,34.2682,2,220.1,2,221.9,2,38.72,2,31.71,2,0.00,2,2.18,2,2.590,2,1.348,2,0.202,2,3.422,2,2203.2,2,2298.3,2,-999.0,9,-999.00,1,20050828,918,-59.2597,-76.9570
316N20050821,AAIW,17,1,15,15,2,20050828,743,-59.2593,-76.9507,681.4,2.9295,34.3265,2,34.3288,2,204.2,2,204.4,2,46.43,2,32.77,2,0.00,2,2.26,2,1.950,2,1.006,2,0.145,2,2.681,2,2216.3,2,2304.5,2,-999.0,9,-999.00,1,20050828,915,-59.2599,-76.9578
316N20050821,AAIW,17,1,14,14,2,20050828,743,-59.2593,-76.9507,821.0,2.7750,34.4084,2,34.4110,2,187.7,2,187.6,2,57.02,2,33.70,2,0.00,2,2.33,2,1.280,2,0.647,2,0.088,2,1.927,2,2232.5,2,2315.6,2,-999.0,9,-999.00,1,20050828,911,-59.2600,-76.9589
316N20050821,AAIW,17,1,13,13,2,20050828,743,-59.2593,-76.9507,999.0,2.5665,34.4948,2,34.4981,2,177.2,2,177.0,2,67.07,2,33.94,2,0.00,2,2.35,2,0.813,2,0.405,2,0.062,2,1.294,2,2244.9,2,2325.7,2,-999.0,9,-999.00,1,20050828,907,-59.2602,-76.9598
316N20050821,AAIW,17,1,12,12,2,20050828,743,-59.2593,-76.9507,1194.1,2.4141,34.5730,2,34.5747,2,172.4,2,171.9,2,74.78,2,33.80,2,0.00,2,2.34,2,0.513,2,0.253,2,0.036,2,0.863,2,2253.8,2,2333.6,2,-999.0,9,-999.00,1,20050828,902,-59.2602,-76.9609
316N20050821,AAIW,17,1,11,11,2,20050828,743,-59.2593,-76.9507,1393.1,2.2969,34.6327,2,34.6330,2,172.7,2,171.5,2,79.97,2,32.99,2,0.00,2,2.30,2,0.332,6,0.149,6,0.007,6,0.589,6,2255.1,2,2341.1,2,-999.0,9,-999.00,1,20050828,858,-59.2604,-76.9621
316N20050821,AAIW,17,1,10,10,2,20050828,743,-59.2593,-76.9507,1592.0,2.1780,34.6775,2,34.6797,2,175.6,2,174.0,2,84.80,2,32.52,2,0.00,2,2.24,2,0.195,2,0.093,2,0.004,2,0.385,2,2256.8,2,2347.0,2,-999.0,9,-999.00,1,20050828,853,-59.2606,-76.9632
316N20050821,AAIW,17,1,9,9,2,20050828,743,-59.2593,-76.9507,1799.7,2.0526,34.7045,2,34.7059,2,179.6,2,178.4,2,88.37,2,31.93,2,0.00,2,2.20,2,0.138,2,0.069,2,0.000,2,0.286,2,2256.8,2,2349.7,2,-999.0,9,-999.00,1,20050828,849,-59.2606,-76.9643
316N20050821,AAIW,17,1,8,8,2,20050828,743,-59.2593,-76.9507,1995.5,1.9132,34.7159,2,34.7179,2,181.8,2,180.6,2,93.56,2,31.80,2,0.00,2,2.20,2,0.099,2,0.046,2,0.002,2,0.211,2,2260.7,2,2354.3,2,-999.0,9,-999.00,1,20050828,844,-59.2606,-76.9651
316N20050821,AAIW,17,1,7,7,2,20050828,743,-59.2593,-76.9507,2294.9,1.6876,34.7237,2,34.7257,2,187.4,2,185.5,2,100.19,2,31.53,2,0.00,2,2.19,2,0.070,2,0.036,2,-0.003,2,0.149,2,2262.6,2,2358.9,2,-999.0,9,-999.00,1,20050828,838,-59.2608,-76.9666
316N20050821,AAIW,17,1,6,6,2,20050828,743,-59.2593,-76.9507,2596.5,1.5016,34.7262,2,34.7263,2,192.4,2,191.2,2,104.30,2,31.53,2,0.00,2,2.18,2,0.065,2,0.032,2,0.003,2,0.149,2,2260.9,2,2358.7,2,-999.0,9,-999.00,1,20050828,832,-59.2611,-76.9683
316N20050821,AAIW,17,1,5,5,2,20050828,743,-59.2593,-76.9507,3093.2,1.2114,34.7215,2,34.7214,2,198.8,2,198.1,2,112.38,2,31.61,2,0.00,2,2.19,2,0.066,2,0.032,2,0.003,2,0.168,2,2260.5,2,2360.0,2,-999.0,9,-999.00,1,20050828,822,-59.2610,-76.9704
316N20050821,AAIW,17,1,4,4,2,20050828,743,-59.2593,-76.9507,3590.8,0.9318,34.7128,2,34.7122,2,203.6,2,203.2,2,121.54,2,31.87,2,0.00,2,2.21,2,0.084,2,0.038,2,0.004,2,0.233,2,2261.5,2,2359.7,2,-999.0,9,-999.00,1,20050828,812,-59.2613,-76.9724
316N20050821,AAIW,17,1,3,3,2,20050828,743,-59.2593,-76.9507,4096.9,0.6640,34.7074,2,34.7067,2,208.6,2,208.2,2,129.79,2,32.20,2,0.00,2,2.22,2,0.087,2,0.049,2,0.000,2,0.286,2,2261.7,2,2361.8,2,-999.0,9,-999.00,1,20050828,802,-59.2619,-76.9748
316N20050821,AAIW,17,1,2,2,2,20050828,743,-59.2593,-76.9507,4608.7,0.5775,34.7059,2,34.7055,2,210.3,2,210.5,2,134.82,2,32.33,2,0.00,2,2.24,2,0.096,2,0.049,2,0.005,2,0.334,2,2263.7,2,2361.8,2,-999.0,9,-999.00,1,20050828,753,-59.2625,-76.9774
316N20050821,AAIW,17,1,1,1,2,20050828,743,-59.2593,-76.9507,5111.7,0.5881,34.7050,2,34.7055,2,212.9,2,211.7,2,137.12,2,32.37,2,0.00,2,2.24,2,0.110,2,0.054,2,0.001,2,0.379,2,2264.6,2,2363.4,2,-999.0,9,-999.00,1,20050828,743,-59.2632,-76.9796
316N20050821,AAIW,18,1,24,24,2,20050828,1443,-59.8646,-76.9657,16.0,3.0585,34.0366,2,34.0393,2,309.6,2,309.9,2,10.68,2,24.38,2,0.03,2,1.71,2,5.050,2,2.861,2,0.458,2,7.036,2,2141.0,2,2274.6,2,-999.0,9,-999.00,9,20050828,1637,-59.8646,-76.9657
316N20050821,AAIW,18,1,23,23,2,20050828,1443,-59.8646,-76.9657,33.8,3.0316,34.0367,2,34.0371,2,310.0,2,310.0,2,10.66,2,24.38,2,0.03,2,1.71,2,5.054,2,2.888,2,0.465,2,7.078,2,-999.0,9,-999.0,9,-999.0,9,-999.00,9,20050828,1635,-59.8646,-76.9663
316N20050821,AAIW,18,1,22,22,2,20050828,1443,-59.8646,-76.9657,58.6,3.0145,34.0369,2,34.0373,2,309.3,2,309.9,2,10.65,2,24.42,2,0.03,2,1.71,2,5.044,2,2.880,2,0.467,2,7.023,2,-999.0,9,-999.0,9,-999.0,9,-999.00,9,20050828,1633,-59.8647,-76.9668
316N20050821,AAIW,18,1,21,21,2,20050828,1443,-59.8646,-76.9657,88.6,3.0154,34.0371,2,34.0372,2,309.0,2,309.6,2,10.82,2,24.41,2,0.03,2,1.71,2,5.054,2,2.882,2,0.465,2,7.066,2,-999.0,9,-999.0,9,-999.0,9,-999.00,9,20050828,1631,-59.8647,-76.9674
316N20050821,AAIW,18,1,20,20,2,20050828,1443,-59.8646,-76.9657,128.2,3.0122,34.0377,2,34.0391,2,309.3,2,309.5,2,10.80,2,24.41,2,0.03,2,1.71,2,5.054,2,2.861,2,0.473,2,7.186,2,2141.2,2,2272.7,2,-999.0,9,-999.00,9,20050828,1629,-59.8647,-76.9681
316N20050821,AAIW,18,1,19,19,2,20050828,1443,-59.8646,-76.9657,168.2,3.0161,34.0381,2,34.0399,2,308.7,2,309.3,2,10.79,2,24.45,2,0.03,2,1.71,2,5.161,2,2.779,2,0.466,2,7.106,2,-999.0,9,-999.0,9,-999.0,9,-999.00,9,20050828,1627,-59.8648,-76.9688
316N20050821,AAIW,18,1,18,18,2,20050828,1443,-59.8646,-76.9657,218.4,3.0176,34.0380,2,34.0393,2,309.9,2,310.1,2,10.77,2,24.48,2,0.03,2,1.71,2,5.092,2,2.884,2,0.474,2,7.026,2,-999.0,9,2273.8,2,-999.0,9,-999.00,1,20050828,1625,-59.8648,-76.9694
316N20050821,AAIW,18,1,17,17,2,20050828,1443,-59.8646,-76.9657,287.9,3.0211,34.0392,2,34.0406,2,309.6,2,309.8,2,10.94,2,24.44,2,0.03,2,1.71,2,5.054,2,2.879,2,0.461,2,6.978,2,2142.8,2,2274.2,2,-999.0,9,-999.00,1,20050828,1621,-59.8648,-76.9702
316N20050821,AAIW,18,1,16,16,2,20050828,1443,-59.8646,-76.9657,337.3,3.3912,34.1295,2,34.1295,2,266.6,2,266.8,2,20.30,2,27.70,2,0.01,2,1.93,2,4.089,2,2.259,2,0.351,2,5.043,2,2166.6,2,2277.9,2,-999.0,9,-999.00,1,20050828,1619,-59.8647,-76.9707
316N20050821,AAIW,18,1,15,15,2,20050828,1443,-59.8646,-76.9657,436.4,3.1710,34.1723,2,34.1729,2,251.8,2,252.7,2,26.05,2,29.08,2,0.00,2,2.02,2,3.637,2,1.978,2,0.309,2,4.589,2,-999.0,9,-999.0,9,-999.0,9,-999.00,9,20050828,1616,-59.8648,-76.9715
316N20050821,AAIW,18,1,14,14,2,20050828,1443,-59.8646,-76.9657,534.3,2.8016,34.1948,2,34.1957,2,245.7,2,245.9,2,31.62,2,30.20,2,0.00,2,2.09,2,3.396,2,1.859,2,0.291,2,4.295,2,2190.0,2,2291.6,2,-999.0,9,-999.00,1,20050828,1614,-59.8648,-76.9721
316N20050821,AAIW,18,1,13,13,2,20050828,1443,-59.8646,-76.9657,633.0,3.0474,34.3079,2,34.3102,2,208.6,2,209.9,2,42.77,2,32.09,2,0.00,2,2.22,2,2.082,2,1.102,2,0.175,2,2.795,2,-999.0,9,-999.0,9,-999.0,9,-999.00,9,20050828,1611,-59.8648,-76.9729
316N20050821,AAIW,18,1,12,12,2,20050828,1443,-59.8646,-76.9657,733.2,2.8041,34.3416,2,34.3426,2,200.9,2,201.1,2,49.24,2,32.84,2,0.00,2,2.28,2,1.865,2,0.950,2,0.140,2,2.439,2,2223.1,2,2307.1,2,-999.0,9,-999.00,1,20050828,1608,-59.8649,-76.9737
316N20050821,AAIW,18,1,11,11,2,20050828,1443,-59.8646,-76.9657,832.2,2.7255,34.4194,2,34.4200,2,185.7,2,185.8,2,58.23,2,33.59,2,0.00,2,2.34,2,1.215,2,0.592,2,0.097,2,1.684,2,-999.0,9,2316.7,2,-999.0,9,-999.00,1,20050828,1605,-59.8650,-76.9745
316N20050821,AAIW,18,1,10,10,2,20050828,1443,-59.8646,-76.9657,1027.7,2.5280,34.5125,2,34.5137,2,174.9,2,175.1,2,68.65,2,33.58,2,0.00,2,2.35,2,0.723,2,0.337,2,0.046,2,1.099,2,2250.0,2,2328.8,2,-999.0,9,-999.00,1,20050828,1601,-59.8651,-76.9756
316N20050821,AAIW,18,1,9,9,2,20050828,1443,-59.8646,-76.9657,1217.9,2.3957,34.5854,2,34.5859,2,171.4,2,171.3,2,75.66,2,33.45,2,0.00,2,2.33,2,0.450,2,0.208,2,0.032,2,0.704,2,2258.8,2,2335.3,2,-999.0,9,-999.00,1,20050828,1557,-59.8650,-76.9763
316N20050821,AAIW,18,1,8,8,2,20050828,1443,-59.8646,-76.9657,1564.5,2.2010,34.6703,2,34.6706,2,174.9,2,174.0,2,83.37,2,32.39,2,0.00,2,2.25,2,0.217,2,0.100,2,0.010,2,0.363,2,2257.7,2,2345.3,2,-999.0,9,-999.00,1,20050828,1550,-59.8641,-76.9771
316N20050821,AAIW,18,1,7,7,2,20050828,1443,-59.8646,-76.9657,1912.5,1.9668,34.7105,2,34.7114,2,179.9,2,178.6,2,92.18,2,31.71,2,0.00,2,2.21,2,0.095,2,0.046,2,0.004,2,0.152,2,-999.0,9,-999.0,9,-999.0,9,-999.00,9,20050828,1542,-59.8632,-76.9780
316N20050821,AAIW,18,1,6,6,2,20050828,1443,-59.8646,-76.9657,2410.7,1.6214,34.7257,2,34.7277,2,189.4,2,188.1,2,101.17,2,31.32,2,0.00,2,2.17,2,0.056,2,0.029,2,0.005,2,0.106,2,-999.0,9,-999.0,9,-999.0,9,-999.00,9,20050828,1532,-59.8621,-76.9790
316N20050821,AAIW,18,1,5,5,2,20050828,1443,-59.8646,-76.9657,2912.2,1.3286,34.7246,2,34.7248,2,196.8,2,195.5,2,108.53,2,31.32,2,0.00,2,2.17,2,0.056,2,0.025,2,0.002,2,0.106,2,-999.0,9,-999.0,9,-999.0,9,-999.00,9,20050828,1522,-59.8608,-76.9797
316N20050821,AAIW,18,1,4,4,2,20050828,1443,-59.8646,-76.9657,3419.6,1.0296,34.7161,2,34.7162,2,202.3,2,201.5,2,117.70,2,31.56,2,0.00,2,2.19,2,0.070,2,0.033,2,0.003,2,0.162,2,-999.0,9,-999.0,9,-999.0,9,-999.00,9,20050828,1512,-59.8594,-76.9808
316N20050821,AAIW,18,1,3,3,2,20050828,1443,-59.8646,-76.9657,3932.3,0.7585,34.7090,2,34.7086,2,207.0,2,206.8,2,126.14,2,31.81,2,0.00,2,2.22,2,0.080,2,0.036,2,0.002,2,0.201,2,-999.0,9,-999.0,9,-999.0,9,-999.00,9,20050828,1503,-59.8580,-76.9820
316N20050821,AAIW,18,1,2,2,2,20050828,1443,-59.8646,-76.9657,4446.6,0.5914,34.7064,2,34.7062,2,210.1,2,210.7,2,133.51,2,32.01,2,0.00,2,2.23,2,0.074,2,0.037,2,0.001,2,0.233,2,-999.0,9,-999.0,9,-999.0,9,-999.00,9,20050828,1453,-59.8567,-76.9838
316N20050821,AAIW,18,1,1,1,2,20050828,1443,-59.8646,-76.9657,4962.4,0.5635,34.7052,2,34.7049,2,212.9,2,211.6,2,137.09,2,32.09,2,0.00,2,2.23,2,0.101,2,0.054,2,-0.002,2,0.282,2,2265.4,2,2363.9,2,-999.0,9,-999.00,1,20050828,1443,-59.8558,-76.9852