BOTTLE,20220819CCHSIOAMB
EXPOCODE,SECT_ID,STNNBR,CASTNO,SAMPNO,BTLNBR,BTLNBR_FLAG_W,DATE,TIME,LATITUDE,LONGITUDE,CTDPRS,CTDTMP,CTDSAL,CTDSAL_FLAG_W,SALNTY,SALNTY_FLAG_W,CTDOXY,CTDOXY_FLAG_W,OXYGEN,OXYGEN_FLAG_W,SILCAT,SILCAT_FLAG_W,NITRAT,NITRAT_FLAG_W,NITRIT,NITRIT_FLAG_W,PHSPHT,PHSPHT_FLAG_W,CFC-11,CFC-11_FLAG_W,CFC-12,CFC-12_FLAG_W,CFC113,CFC113_FLAG_W,CCL4,CCL4_FLAG_W,TCARBN,TCARBN_FLAG_W,ALKALI,ALKALI_FLAG_W,PCO2,PCO2_FLAG_W,PH_SWS,PH_SWS_FLAG_W,BTL_DATE,BTL_TIME,BTL_LAT,BTL_LON
,,,,,,,,,,,DBAR,ITS-90,PSS-78,,PSS-78,,UMOL/KG,,UMOL/KG,,UMOL/KG,,UMOL/KG,,UMOL/KG,,UMOL/KG,,PMOL/KG,,PMOL/KG,,PMOL/KG,,PMOL/KG,,UMOL/KG,,UMOL/KG,,UATM,,,,,,,
316N20050821,AAIW,19,1,24,24,2,20050828,2132,-60.4343,-76.9788,8.3,3.3635,34.0446,2,34.0446,2,308.7,2,309.2,2,9.35,2,23.87,2,0.03,2,1.68,2,5.022,2,2.826,2,0.464,2,6.972,2,2136.6,2,2274.1,2,-999.0,9,-999.00,1,20050828,2319,-60.4343,-76.9788
316N20050821,AAIW,19,1,23,23,2,20050828,2132,-60.4343,-76.9788,31.7,3.3641,34.0446,2,34.0450,2,309.0,2,309.2,2,9.35,2,23.87,2,0.03,2,1.68,2,5.056,2,2.826,2,0.471,2,6.956,2,2136.3,2,2274.1,2,-999.0,9,-999.00,1,20050828,2317,-60.4341,-76.9788
316N20050821,AAIW,19,1,22,22,2,20050828,2132,-60.4343,-76.9788,55.9,3.3542,34.0443,2,34.0460,2,308.8,2,309.5,2,9.53,2,23.95,2,0.03,2,1.68,2,5.056,2,2.841,2,0.449,2,6.893,2,2136.6,2,2273.8,2,-999.0,9,-999.00,1,20050828,2315,-60.4338,-76.9790
316N20050821,AAIW,19,1,21,21,2,20050828,2132,-60.4343,-76.9788,80.7,3.3437,34.0442,2,34.0448,2,307.1,2,307.5,2,9.52,2,24.08,2,0.03,2,1.69,2,5.009,2,2.832,2,0.456,2,6.849,2,2137.7,2,2274.4,2,-999.0,9,-999.00,1,20050828,2314,-60.4336,-76.9790
316N20050821,AAIW,19,1,20,20,2,20050828,2132,-60.4343,-76.9788,105.3,3.3431,34.0442,2,34.0457,2,307.6,2,308.9,2,9.52,2,24.03,2,0.03,2,1.68,2,5.035,2,2.856,2,0.454,2,6.856,2,2135.4,2,2274.8,2,-999.0,9,-999.00,1,20050828,2312,-60.4333,-76.9793
316N20050821,AAIW,19,1,19,19,2,20050828,2132,-60.4343,-76.9788,145.5,3.3406,34.0526,2,34.0533,2,298.6,2,297.8,2,11.87,2,25.09,2,0.01,2,1.74,2,4.895,2,2.752,2,0.432,2,6.391,2,2142.8,2,2275.8,2,-999.0,9,-999.00,1,20050828,2310,-60.4330,-76.9797
316N20050821,AAIW,19,1,18,18,2,20050828,2132,-60.4343,-76.9788,194.6,3.1037,34.0371,2,34.0381,2,308.4,2,308.0,2,10.96,2,24.69,2,0.02,2,1.73,2,5.093,2,2.871,2,0.463,2,6.902,2,2139.8,2,2273.9,2,-999.0,9,-999.00,1,20050828,2308,-60.4329,-76.9799
316N20050821,AAIW,19,1,17,17,2,20050828,2132,-60.4343,-76.9788,293.3,2.6942,34.0161,2,34.0170,2,282.3,2,311.1,3,11.50,2,25.20,2,0.02,2,1.76,2,5.269,2,2.940,2,0.493,2,7.201,2,2141.9,2,2276.5,2,-999.0,9,-999.00,1,20050828,2306,-60.4326,-76.9803
316N20050821,AAIW,19,1,16,16,2,20050828,2132,-60.4343,-76.9788,363.4,2.5724,34.0139,2,34.0147,2,314.5,2,314.1,2,11.67,2,25.37,2,0.02,2,1.77,2,5.293,2,2.984,2,0.486,2,7.199,2,2142.1,2,2275.6,2,-999.0,9,-999.00,1,20050828,2303,-60.4323,-76.9806
316N20050821,AAIW,19,1,15,15,2,20050828,2132,-60.4343,-76.9788,463.5,3.3224,34.1632,2,34.1585,2,277.3,2,256.6,3,24.16,2,28.90,2,0.00,2,1.99,2,3.840,2,2.062,2,0.328,2,4.696,2,2173.7,2,2285.8,2,-999.0,9,-999.00,1,20050828,2301,-60.4320,-76.9809
316N20050821,AAIW,19,1,14,14,2,20050828,2132,-60.4343,-76.9788,562.0,2.8118,34.1932,2,34.1897,2,247.0,2,248.8,2,31.40,2,30.38,2,0.00,2,2.10,2,3.561,2,1.926,2,0.314,2,4.435,2,2188.1,2,2290.6,2,-999.0,9,-999.00,1,20050828,2258,-60.4316,-76.9811
316N20050821,AAIW,19,1,13,13,2,20050828,2132,-60.4343,-76.9788,661.1,2.8592,34.2893,2,34.2904,2,216.5,2,215.9,2,42.45,2,32.23,2,0.00,2,2.23,2,2.405,2,1.273,2,0.216,2,3.135,2,2210.3,2,2301.4,2,-999.0,9,-999.00,1,20050828,2255,-60.4313,-76.9815
316N20050821,AAIW,19,1,12,12,2,20050828,2132,-60.4343,-76.9788,759.0,2.9117,34.3625,2,34.3619,2,196.7,2,196.5,2,50.41,2,33.25,2,0.00,2,2.30,2,1.643,2,0.819,2,0.116,2,2.246,2,2223.8,2,2309.9,2,-999.0,9,-999.00,1,20050828,2253,-60.4312,-76.9821
316N20050821,AAIW,19,1,11,11,2,20050828,2132,-60.4343,-76.9788,854.8,2.7573,34.4272,2,34.4285,2,185.2,2,184.8,2,59.09,2,33.79,2,0.00,2,2.35,2,1.149,2,0.555,2,0.086,2,1.679,2,2235.8,2,2319.1,2,-999.0,9,-999.00,1,20050828,2250,-60.4309,-76.9825
316N20050821,AAIW,19,1,10,10,2,20050828,2132,-60.4343,-76.9788,1048.2,2.5409,34.5239,2,34.5244,2,174.5,2,173.9,2,70.13,2,34.00,2,0.00,2,2.36,2,0.627,2,0.298,2,0.043,2,1.014,2,2249.9,2,2329.9,2,-999.0,9,-999.00,1,20050828,2246,-60.4305,-76.9831
316N20050821,AAIW,19,1,9,9,2,20050828,2132,-60.4343,-76.9788,1290.2,2.3866,34.6037,2,34.6047,2,171.3,2,171.1,2,78.09,2,33.53,2,0.00,2,2.34,2,0.341,2,0.164,2,0.017,2,0.596,2,2257.5,2,2339.5,2,-999.0,9,-999.00,1,20050828,2240,-60.4299,-76.9839
316N20050821,AAIW,19,1,8,8,2,20050828,2132,-60.4343,-76.9788,1583.3,2.2505,34.6601,2,34.6610,2,173.6,2,172.8,2,83.34,2,32.84,2,0.00,2,2.28,2,0.214,2,0.096,2,0.010,2,0.382,2,2259.2,2,2345.0,2,-999.0,9,-999.00,1,20050828,2234,-60.4292,-76.9843
316N20050821,AAIW,19,1,7,7,2,20050828,2132,-60.4343,-76.9788,1881.0,2.0769,34.7010,2,34.7020,2,178.9,2,178.1,2,88.21,2,31.99,2,0.00,2,2.22,2,0.142,2,0.067,2,0.010,2,0.266,2,2258.9,2,2352.1,2,-999.0,9,-999.00,1,20050828,2228,-60.4284,-76.9843
316N20050821,AAIW,19,1,6,6,2,20050828,2132,-60.4343,-76.9788,2390.4,1.6907,34.7247,2,34.7262,2,187.5,2,186.7,2,100.16,2,31.69,2,0.00,2,2.20,2,0.068,2,0.040,2,0.006,2,0.126,2,2262.6,2,2356.6,2,-999.0,9,-999.00,1,20050828,2218,-60.4271,-76.9839
316N20050821,AAIW,19,1,5,5,2,20050828,2132,-60.4343,-76.9788,2893.8,1.3695,34.7251,2,34.7292,3,195.6,2,195.2,2,108.30,2,31.56,2,0.00,2,2.19,2,0.055,6,0.031,6,0.005,6,0.114,6,2262.3,2,2360.2,2,-999.0,9,-999.00,1,20050828,2209,-60.4261,-76.9840
316N20050821,AAIW,19,1,4,4,2,20050828,2132,-60.4343,-76.9788,3400.6,1.0860,34.7177,2,34.7179,2,201.1,2,200.7,2,116.82,2,31.80,2,0.00,2,2.19,2,0.072,2,0.036,2,0.007,2,0.178,2,2261.1,2,2359.9,2,-999.0,9,-999.00,1,20050828,2159,-60.4250,-76.9841
316N20050821,AAIW,19,1,3,3,2,20050828,2132,-60.4343,-76.9788,3912.5,0.8015,34.7099,2,34.7085,2,205.9,2,205.9,2,125.87,2,32.10,2,0.00,2,2.21,2,0.085,2,0.043,2,0.005,2,0.234,2,2263.2,2,2361.2,2,-999.0,9,-999.00,1,20050828,2150,-60.4237,-76.9833
316N20050821,AAIW,19,1,2,2,2,20050828,2132,-60.4343,-76.9788,4420.4,0.6171,34.7068,2,34.7062,2,209.3,2,209.6,2,132.39,2,32.26,2,0.00,2,2.23,2,0.083,2,0.044,2,0.007,2,0.290,2,2266.2,2,2362.9,2,-999.0,9,-999.00,1,20050828,2141,-60.4231,-76.9843
316N20050821,AAIW,19,1,1,1,2,20050828,2132,-60.4343,-76.9788,4912.1,0.5359,34.7050,2,34.7054,2,213.2,2,211.8,2,139.45,2,32.39,2,0.00,2,2.24,2,0.128,2,0.063,2,0.004,2,0.363,2,2265.7,2,2362.5,2,-999.0,9,-999.00,1,20050828,2132,-60.4225,-76.9849
316N20050821,AAIW,20,1,24,24,2,20050829,455,-61.0371,-76.9398,1.8,3.0666,23.5187,4,34.0449,2,307.7,2,297.1,4,10.17,2,24.18,2,0.03,2,1.70,2,-999.000,9,-999.000,9,-999.000,9,-999.000,9,-999.0,9,2274.2,2,-999.0,9,-999.00,1,20050829,655,-61.0371,-76.9398
316N20050821,AAIW,20,1,23,23,2,20050829,455,-61.0371,-76.9398,59.7,3.2600,34.0407,2,34.0414,2,306.5,2,307.6,2,10.15,2,24.17,2,0.03,2,1.70,2,5.034,2,2.892,2,0.453,2,6.506,2,2139.9,2,2274.4,2,-999.0,9,-999.00,1,20050829,650,-61.0366,-76.9405
316N20050821,AAIW,20,1,22,22,2,20050829,455,-61.0371,-76.9398,109.7,3.2605,34.0406,2,34.0357,2,304.9,2,306.4,2,10.32,2,24.30,2,0.03,2,1.69,2,5.022,2,2.880,2,0.454,2,6.563,2,2140.5,2,2274.3,2,-999.0,9,-999.00,1,20050829,648,-61.0363,-76.9412
316N20050821,AAIW,20,1,21,21,2,20050829,455,-61.0371,-76.9398,159.7,3.1191,34.0546,2,34.0600,2,293.3,2,292.6,2,13.98,2,25.81,2,0.01,2,1.79,2,4.778,2,2.673,2,0.417,2,6.059,2,2150.6,2,2276.8,2,-999.0,9,-999.00,1,20050829,645,-61.0358,-76.9421
316N20050821,AAIW,20,1,20,20,2,20050829,455,-61.0371,-76.9398,209.4,3.1104,34.0768,2,34.0778,2,286.1,2,286.4,2,15.98,2,26.40,2,0.01,2,1.84,2,4.633,2,2.563,2,0.416,2,5.749,2,-999.0,9,2278.5,2,-999.0,9,-999.00,1,20050829,643,-61.0354,-76.9428
316N20050821,AAIW,20,1,19,19,2,20050829,455,-61.0371,-76.9398,259.1,2.5025,34.0132,2,34.0153,2,311.7,2,313.1,2,12.31,2,25.29,2,0.02,2,1.77,2,5.349,2,2.925,2,0.491,2,6.963,2,2145.9,2,2275.1,3,-999.0,9,-999.00,1,20050829,641,-61.0350,-76.9435
316N20050821,AAIW,20,1,18,18,2,20050829,455,-61.0371,-76.9398,336.9,2.5015,34.0515,2,34.0535,2,295.2,2,294.4,2,18.16,2,27.24,2,0.01,2,1.89,2,4.888,2,2.735,2,0.434,2,6.200,2,-999.0,9,2279.3,2,-999.0,9,-999.00,1,20050829,638,-61.0346,-76.9444
316N20050821,AAIW,20,1,17,17,2,20050829,455,-61.0371,-76.9398,405.3,2.9280,34.1451,2,34.1459,2,263.4,2,262.0,2,25.49,2,29.04,2,0.00,2,2.00,2,4.003,2,2.153,2,0.341,2,4.788,2,2178.0,2,2286.9,2,-999.0,9,-999.00,1,20050829,636,-61.0340,-76.9454
316N20050821,AAIW,20,1,16,16,2,20050829,455,-61.0371,-76.9398,475.4,2.5673,34.1572,2,34.1596,2,261.0,2,260.2,2,29.32,2,29.92,2,0.00,2,2.07,2,3.935,2,2.130,2,0.334,2,4.824,2,-999.0,9,2287.4,2,-999.0,9,-999.00,1,20050829,633,-61.0335,-76.9463
316N20050821,AAIW,20,1,15,15,2,20050829,455,-61.0371,-76.9398,524.5,2.2900,34.1553,2,34.1701,4,262.5,2,263.7,2,30.95,2,30.09,2,0.00,2,2.08,2,4.023,6,2.169,6,0.354,6,5.063,6,2186.1,2,2289.0,2,-999.0,9,-999.00,1,20050829,631,-61.0331,-76.9471
316N20050821,AAIW,20,1,14,14,2,20050829,455,-61.0371,-76.9398,623.4,2.7713,34.2856,2,34.2976,4,216.6,2,216.6,2,42.48,2,32.11,2,0.00,2,2.23,2,2.436,2,1.257,2,0.208,2,3.161,2,2211.5,2,2300.3,2,-999.0,9,-999.00,1,20050829,628,-61.0325,-76.9481
316N20050821,AAIW,20,1,13,13,2,20050829,455,-61.0371,-76.9398,715.5,2.7718,34.3518,2,34.3572,4,198.4,2,198.7,2,50.70,2,33.13,2,0.00,2,2.29,2,1.792,2,0.922,2,0.142,2,2.412,2,-999.0,9,2309.1,2,-999.0,9,-999.00,1,20050829,625,-61.0321,-76.9486
316N20050821,AAIW,20,1,12,12,2,20050829,455,-61.0371,-76.9398,812.9,2.5927,34.4107,2,34.4140,4,187.1,2,187.1,2,58.93,2,33.93,2,0.00,2,2.35,2,1.387,2,0.693,2,0.104,2,1.907,2,-999.0,9,2316.3,2,-999.0,9,-999.00,1,20050829,622,-61.0316,-76.9496
316N20050821,AAIW,20,1,11,11,2,20050829,455,-61.0371,-76.9398,911.1,2.5754,34.4716,2,34.4773,4,178.7,2,178.7,2,64.58,2,33.96,2,0.00,2,2.35,2,0.966,2,0.468,2,0.073,2,1.431,2,-999.0,9,2323.5,2,-999.0,9,-999.00,1,20050829,618,-61.0311,-76.9506
316N20050821,AAIW,20,1,10,10,2,20050829,455,-61.0371,-76.9398,1099.7,2.4647,34.5608,2,34.5687,4,171.7,2,171.9,2,73.54,2,33.70,2,0.00,2,2.35,2,0.509,2,0.245,2,0.034,2,0.850,2,2253.8,2,2333.9,2,-999.0,9,-999.00,1,20050829,614,-61.0305,-76.9516
316N20050821,AAIW,20,1,9,9,2,20050829,455,-61.0371,-76.9398,1343.8,2.3076,34.6354,2,34.6415,4,170.9,2,170.6,2,81.21,2,32.97,2,0.00,2,2.30,2,0.256,2,0.109,2,0.009,2,0.470,2,-999.0,9,2343.5,2,-999.0,9,-999.00,1,20050829,608,-61.0296,-76.9531
316N20050821,AAIW,20,1,8,8,2,20050829,455,-61.0371,-76.9398,1597.0,2.1587,34.6829,2,34.6884,4,175.6,2,175.1,2,84.85,2,32.28,2,0.00,2,2.24,2,0.182,2,0.081,2,0.004,2,0.346,2,-999.0,9,2346.5,2,-999.0,9,-999.00,1,20050829,603,-61.0285,-76.9549
316N20050821,AAIW,20,1,7,7,2,20050829,455,-61.0371,-76.9398,1833.6,2.0147,34.7121,2,34.7168,4,180.9,2,180.6,2,87.95,2,31.59,2,0.00,2,2.19,2,0.150,2,0.069,2,0.001,2,0.275,2,-999.0,9,2348.1,2,-999.0,9,-999.00,1,20050829,557,-61.0280,-76.9559
316N20050821,AAIW,20,1,6,6,2,20050829,455,-61.0371,-76.9398,2301.3,1.6784,34.7299,2,34.7351,4,189.3,2,188.9,2,97.63,2,31.21,2,0.00,2,2.16,2,0.093,2,0.044,2,-0.004,2,0.178,2,-999.0,9,2355.2,2,-999.0,9,-999.00,1,20050829,547,-61.0269,-76.9577
316N20050821,AAIW,20,1,5,5,9,20050829,455,-61.0371,-76.9398,2772.9,1.3784,34.7256,2,-999.0000,9,-999.0,9,-999.0,9,-999.00,9,-999.00,9,-999.00,9,-999.00,9,-999.000,9,-999.000,9,-999.000,9,-999.000,9,-999.0,9,-999.0,9,-999.0,9,-999.00,9,20050829,537,-61.0257,-76.9598
316N20050821,AAIW,20,1,4,4,2,20050829,455,-61.0371,-76.9398,3269.6,1.0872,34.7182,2,34.7592,4,200.1,2,200.0,2,115.91,2,31.62,2,0.00,2,2.20,2,0.069,2,0.038,2,-0.004,2,0.202,2,-999.0,9,2359.0,2,-999.0,9,-999.00,1,20050829,528,-61.0241,-76.9623
316N20050821,AAIW,20,1,3,3,2,20050829,455,-61.0371,-76.9398,3759.6,0.8292,34.7109,2,34.7149,4,204.6,2,205.0,2,124.68,2,31.84,2,0.00,2,2.22,2,0.080,2,0.033,2,0.000,2,0.246,2,-999.0,9,2360.2,2,-999.0,9,-999.00,1,20050829,518,-61.0227,-76.9645
316N20050821,AAIW,20,1,2,2,2,20050829,455,-61.0371,-76.9398,4258.0,0.6231,34.7072,2,34.7514,4,208.3,2,209.4,2,132.35,2,32.12,2,0.00,2,2.23,2,0.076,2,0.035,2,-0.001,2,0.301,2,-999.0,9,2362.1,2,-999.0,9,-999.00,1,20050829,508,-61.0212,-76.9671
316N20050821,AAIW,20,1,1,1,2,20050829,455,-61.0371,-76.9398,4907.2,0.5454,34.7050,2,34.7092,4,212.2,2,211.3,2,138.37,2,32.25,2,0.00,2,2.24,2,0.126,2,0.060,2,0.004,2,0.406,2,-999.0,9,2362.8,2,-999.0,9,-999.00,1,20050829,455,-61.0194,-76.9702
316N20050821,AAIW,21,1,24,24,4,20050829,1251,-61.0312,-77.9371,5.4,2.2875,34.0168,2,34.0186,2,315.6,2,315.5,2,13.31,2,25.65,2,0.03,2,1.80,2,5.273,2,2.882,2,0.509,2,6.501,2,2145.8,2,2277.3,2,-999.0,9,-999.00,1,20050829,1453,-61.0312,-77.9371
316N20050821,AAIW,21,1,23,23,2,20050829,1251,-61.0312,-77.9371,63.3,2.2890,34.0170,2,34.0198,2,315.1,2,315.4,2,13.30,2,25.69,2,0.03,2,1.79,2,5.252,2,2.863,2,0.515,2,6.451,2,2146.5,2,2277.2,2,-999.0,9,-999.00,1,20050829,1451,-61.0311,-77.9376
316N20050821,AAIW,21,1,22,22,2,20050829,1251,-61.0312,-77.9371,152.9,2.0659,34.0164,2,34.0186,2,315.3,2,315.6,2,14.74,2,26.19,2,0.03,2,1.83,2,5.424,2,2.874,2,0.522,2,6.486,2,2149.2,2,2277.5,2,-999.0,9,-999.00,1,20050829,1445,-61.0306,-77.9390
316N20050821,AAIW,21,1,21,21,2,20050829,1251,-61.0312,-77.9371,252.6,1.8698,34.0088,2,34.0113,2,316.6,2,315.9,2,15.45,2,26.49,2,0.02,2,1.84,2,5.378,6,2.956,6,0.520,6,6.653,6,2150.4,2,2277.1,2,-999.0,9,-999.00,1,20050829,1442,-61.0302,-77.9400
316N20050821,AAIW,21,1,20,20,2,20050829,1251,-61.0312,-77.9371,352.8,1.6267,34.0106,2,34.0110,2,312.6,2,312.4,2,17.98,2,27.16,2,0.02,2,1.89,2,5.384,2,2.934,2,0.507,2,6.634,2,2155.9,2,2279.3,2,-999.0,9,-999.00,1,20050829,1439,-61.0298,-77.9410
316N20050821,AAIW,21,1,19,19,2,20050829,1251,-61.0312,-77.9371,452.4,2.0729,34.1227,2,34.1244,2,276.7,2,276.3,2,28.89,2,29.65,2,0.00,2,2.05,2,4.378,2,2.355,2,0.402,2,5.025,2,2179.6,2,2287.8,2,-999.0,9,-999.00,1,20050829,1436,-61.0296,-77.9417
316N20050821,AAIW,21,1,18,18,2,20050829,1251,-61.0312,-77.9371,541.8,2.2735,34.1999,2,34.2008,2,-999.0,9,-999.0,5,36.33,2,31.12,2,0.00,2,2.14,2,3.510,2,1.833,2,0.320,2,4.021,2,2195.7,2,2294.5,2,-999.0,9,-999.00,1,20050829,1433,-61.0294,-77.9425
316N20050821,AAIW,21,1,17,17,2,20050829,1251,-61.0312,-77.9371,640.5,2.7105,34.3242,2,34.3254,2,205.8,2,206.3,2,47.95,2,32.99,2,0.00,2,2.27,2,2.078,2,1.066,2,0.187,2,2.487,2,2219.1,2,2306.0,2,-999.0,9,-999.00,1,20050829,1430,-61.0290,-77.9435
316N20050821,AAIW,21,1,16,16,2,20050829,1251,-61.0312,-77.9371,739.2,2.6761,34.4028,2,34.4038,2,187.8,2,188.5,2,57.20,2,33.80,2,0.00,2,2.33,2,1.414,2,0.713,2,0.111,2,1.758,2,2233.2,2,2316.3,2,-999.0,9,-999.00,1,20050829,1427,-61.0287,-77.9444
316N20050821,AAIW,21,1,15,15,2,20050829,1251,-61.0312,-77.9371,837.3,2.6280,34.4682,2,34.4696,2,178.9,2,179.2,2,64.10,2,33.91,2,0.00,2,2.35,2,0.938,2,0.458,2,0.069,2,1.293,2,2241.9,2,2323.3,2,-999.0,9,-999.00,1,20050829,1424,-61.0284,-77.9453
316N20050821,AAIW,21,1,14,14,2,20050829,1251,-61.0312,-77.9371,1031.2,2.4754,34.5472,2,34.5486,2,172.6,2,172.4,2,72.46,2,33.78,2,0.00,2,2.35,2,0.582,2,0.280,2,0.054,2,0.846,2,2252.4,2,2333.6,2,-999.0,9,-999.00,1,20050829,1419,-61.0279,-77.9465
316N20050821,AAIW,21,1,13,13,2,20050829,1251,-61.0312,-77.9371,1226.9,2.2814,34.6181,2,34.6196,2,172.9,2,172.6,2,78.62,2,33.23,2,0.00,2,2.31,2,0.424,2,0.203,2,0.037,2,0.629,2,2255.2,2,2339.5,2,-999.0,9,-999.00,1,20050829,1414,-61.0274,-77.9481
316N20050821,AAIW,21,1,12,12,2,20050829,1251,-61.0312,-77.9371,1419.7,2.2092,34.6649,2,34.6663,2,174.4,2,173.9,2,83.34,2,32.76,2,0.00,2,2.26,2,0.232,2,0.103,2,0.006,2,0.387,2,2257.5,2,2345.9,2,-999.0,9,-999.00,1,20050829,1409,-61.0269,-77.9494
316N20050821,AAIW,21,1,11,11,2,20050829,1251,-61.0312,-77.9371,1618.0,2.0995,34.6951,2,34.6962,2,177.8,2,177.2,2,86.42,2,32.07,2,0.00,2,2.22,2,0.173,2,0.084,2,0.006,2,0.290,2,2257.0,2,2348.3,2,-999.0,9,-999.00,1,20050829,1405,-61.0263,-77.9510
316N20050821,AAIW,21,1,10,10,2,20050829,1251,-61.0312,-77.9371,1815.3,1.9691,34.7156,2,34.7156,2,181.7,2,181.4,2,90.04,2,31.60,2,0.00,2,2.19,2,0.129,2,0.060,2,0.003,2,0.219,2,2256.4,2,2351.6,2,-999.0,9,-999.00,1,20050829,1400,-61.0258,-77.9526
316N20050821,AAIW,21,1,9,9,2,20050829,1251,-61.0312,-77.9371,2011.3,1.8150,34.7224,2,34.7217,2,184.1,2,184.1,2,95.67,2,31.64,2,0.00,2,2.19,2,0.086,2,0.045,2,0.001,2,0.149,2,2259.9,2,2357.0,2,-999.0,9,-999.00,1,20050829,1355,-61.0253,-77.9538
316N20050821,AAIW,21,1,8,8,2,20050829,1251,-61.0312,-77.9371,2209.7,1.6559,34.7268,2,34.7270,2,188.0,2,187.5,2,99.84,2,31.46,2,0.00,2,2.18,2,0.079,2,0.040,2,0.004,2,0.160,2,2259.5,2,2359.0,2,-999.0,9,-999.00,1,20050829,1351,-61.0248,-77.9551
316N20050821,AAIW,21,1,7,7,2,20050829,1251,-61.0312,-77.9371,2404.3,1.5370,34.7273,2,34.7272,2,191.0,2,190.4,2,103.29,2,31.42,2,0.00,2,2.18,2,0.061,2,0.025,2,0.000,2,0.116,2,2259.9,2,2359.9,2,-999.0,9,-999.00,1,20050829,1346,-61.0244,-77.9564
316N20050821,AAIW,21,1,6,6,2,20050829,1251,-61.0312,-77.9371,2561.8,1.4579,34.7266,2,34.7272,2,192.9,2,192.3,2,105.46,2,31.46,2,0.00,2,2.17,2,0.057,2,0.030,2,-0.004,2,0.119,2,2260.0,2,2360.8,2,-999.0,9,-999.00,1,20050829,1341,-61.0237,-77.9568
316N20050821,AAIW,21,1,5,5,2,20050829,1251,-61.0312,-77.9371,2903.8,1.2521,34.7233,2,34.7234,2,197.3,2,197.0,2,110.73,2,31.54,2,0.00,2,2.18,2,0.060,2,0.031,2,0.000,2,0.150,2,2259.9,2,2360.7,2,-999.0,9,-999.00,1,20050829,1334,-61.0231,-77.9590
316N20050821,AAIW,21,1,4,4,2,20050829,1251,-61.0312,-77.9371,3384.6,0.9844,34.7150,2,34.7154,2,-999.0,9,-999.0,5,119.82,2,31.75,2,0.00,2,2.20,2,0.079,2,0.040,2,0.003,2,0.232,2,2260.9,2,2360.6,2,-999.0,9,-999.00,1,20050829,1324,-61.0219,-77.9605
316N20050821,AAIW,21,1,3,3,2,20050829,1251,-61.0312,-77.9371,3867.3,0.7419,34.7087,2,34.7081,2,206.8,2,207.2,2,127.10,2,32.00,2,0.00,2,2.22,2,0.095,2,0.046,2,0.000,2,0.257,2,2263.1,2,2362.2,2,-999.0,9,-999.00,1,20050829,1314,-61.0206,-77.9623
316N20050821,AAIW,21,1,2,2,2,20050829,1251,-61.0312,-77.9371,4362.1,0.5574,34.7063,2,34.7058,2,210.3,2,211.9,2,133.82,2,32.21,2,0.00,2,2.23,2,0.096,2,0.050,2,-0.001,2,0.291,2,2263.9,2,2363.0,2,-999.0,9,-999.00,1,20050829,1304,-61.0191,-77.9638
316N20050821,AAIW,21,1,1,1,2,20050829,1251,-61.0312,-77.9371,5022.0,0.5092,34.7045,2,34.7042,2,213.0,2,212.9,2,139.28,2,32.33,2,0.00,2,2.24,2,0.151,2,0.067,2,0.006,2,0.384,2,2264.2,2,2363.4,2,-999.0,9,-999.00,1,20050829,1251,-61.0172,-77.9670