BOTTLE,20220819CCHSIOAMB
EXPOCODE,SECT_ID,STNNBR,CASTNO,SAMPNO,BTLNBR,BTLNBR_FLAG_W,DATE,TIME,LATITUDE,LONGITUDE,CTDPRS,CTDTMP,CTDSAL,CTDSAL_FLAG_W,SALNTY,SALNTY_FLAG_W,CTDOXY,CTDOXY_FLAG_W,OXYGEN,OXYGEN_FLAG_W,SILCAT,SILCAT_FLAG_W,NITRAT,NITRAT_FLAG_W,NITRIT,NITRIT_FLAG_W,PHSPHT,PHSPHT_FLAG_W,CFC-11,CFC-11_FLAG_W,CFC-12,CFC-12_FLAG_W,CFC113,CFC113_FLAG_W,CCL4,CCL4_FLAG_W,TCARBN,TCARBN_FLAG_W,ALKALI,ALKALI_FLAG_W,PCO2,PCO2_FLAG_W,PH_SWS,PH_SWS_FLAG_W,BTL_DATE,BTL_TIME,BTL_LAT,BTL_LON
,,,,,,,,,,,DBAR,ITS-90,PSS-78,,PSS-78,,UMOL/KG,,UMOL/KG,,UMOL/KG,,UMOL/KG,,UMOL/KG,,UMOL/KG,,PMOL/KG,,PMOL/KG,,PMOL/KG,,PMOL/KG,,UMOL/KG,,UMOL/KG,,UATM,,,,,,,
316N20050821,AAIW,40,1,24,24,2,20050904,502,-60.2013,-87.0885,12.0,3.0818,34.0122,2,34.0170,2,315.2,2,315.5,2,9.44,2,24.23,2,0.06,2,1.63,2,4.969,2,2.768,2,0.519,2,6.259,2,2137.3,2,2273.3,2,-999.0,9,-999.00,1,20050904,702,-60.2013,-87.0885
316N20050821,AAIW,40,1,23,23,2,20050904,502,-60.2013,-87.0885,37.1,3.0755,34.0122,2,34.0152,2,314.5,2,315.7,2,9.44,2,24.17,2,0.06,2,1.62,2,5.315,2,2.762,2,0.498,2,6.729,2,-999.0,9,2273.9,2,-999.0,9,-999.00,1,20050904,659,-60.2008,-87.0883
316N20050821,AAIW,40,1,22,22,2,20050904,502,-60.2013,-87.0885,72.2,3.0282,34.0176,2,34.0213,2,313.0,2,312.8,2,9.63,2,24.54,2,0.06,2,1.63,2,5.109,2,2.721,2,0.502,2,6.504,2,2138.6,2,2274.3,2,-999.0,9,-999.00,1,20050904,656,-60.2002,-87.0879
316N20050821,AAIW,40,1,21,21,2,20050904,502,-60.2013,-87.0885,106.6,2.8913,34.0148,2,34.0176,2,313.5,2,314.2,2,10.02,2,24.63,2,0.06,2,1.63,2,5.147,2,2.767,2,0.511,2,6.461,2,-999.0,9,2275.3,2,-999.0,9,-999.00,1,20050904,653,-60.1996,-87.0877
316N20050821,AAIW,40,1,20,20,2,20050904,502,-60.2013,-87.0885,156.3,2.8619,34.0145,2,34.0178,2,312.7,2,312.7,2,10.40,2,24.95,2,0.05,2,1.64,2,5.069,2,2.704,2,0.506,2,6.375,2,2145.3,2,2274.9,2,-999.0,9,-999.00,1,20050904,651,-60.1991,-87.0874
316N20050821,AAIW,40,1,19,19,2,20050904,502,-60.2013,-87.0885,255.1,3.0600,34.0908,2,34.0941,2,275.9,2,275.7,2,18.98,2,28.00,2,0.01,2,1.94,2,4.341,2,2.295,2,0.361,2,5.037,2,-999.0,9,2281.6,2,-999.0,9,-999.00,1,20050904,647,-60.1985,-87.0871
316N20050821,AAIW,40,1,18,18,2,20050904,502,-60.2013,-87.0885,352.7,2.9528,34.1527,2,34.1544,2,257.4,2,257.9,2,25.61,2,29.63,2,0.00,2,2.03,2,3.870,2,1.992,2,0.307,2,4.363,2,2179.1,2,2285.8,2,-999.0,9,-999.00,1,20050904,643,-60.1977,-87.0867
316N20050821,AAIW,40,1,17,17,2,20050904,502,-60.2013,-87.0885,449.1,2.6035,34.1863,2,34.1875,2,248.9,2,249.1,2,31.47,2,30.91,2,0.00,2,2.21,2,3.488,2,1.816,2,0.279,2,4.146,2,-999.0,9,2291.5,2,-999.0,9,-999.00,1,20050904,640,-60.1970,-87.0865
316N20050821,AAIW,40,1,16,16,2,20050904,502,-60.2013,-87.0885,545.7,2.7247,34.2627,2,34.2635,2,223.7,2,223.5,2,39.29,2,32.19,2,0.00,2,2.28,2,2.649,2,1.403,2,0.250,2,3.128,2,2207.0,2,2298.9,2,-999.0,9,-999.00,1,20050904,636,-60.1963,-87.0862
316N20050821,AAIW,40,1,15,15,2,20050904,502,-60.2013,-87.0885,642.9,2.7924,34.3493,2,34.3493,2,198.4,2,199.2,2,48.90,2,33.63,2,0.00,2,2.37,2,1.751,2,0.928,2,0.159,2,2.144,2,-999.0,9,2310.0,2,-999.0,9,-999.00,1,20050904,633,-60.1957,-87.0861
316N20050821,AAIW,40,1,14,14,2,20050904,502,-60.2013,-87.0885,737.8,2.7115,34.4152,2,34.4162,2,185.9,2,186.0,2,56.95,2,34.13,2,0.00,2,2.40,2,1.290,2,0.627,2,0.089,2,1.631,2,2236.0,2,2316.7,2,-999.0,9,-999.00,1,20050904,629,-60.1950,-87.0860
316N20050821,AAIW,40,1,13,13,2,20050904,502,-60.2013,-87.0885,836.6,2.6595,34.4682,2,34.4701,2,178.9,2,179.3,2,62.65,2,34.34,2,0.00,2,2.40,2,0.911,2,0.450,2,0.053,2,1.175,2,-999.0,9,2323.8,2,-999.0,9,-999.00,1,20050904,626,-60.1943,-87.0857
316N20050821,AAIW,40,1,12,12,2,20050904,502,-60.2013,-87.0885,936.7,2.4972,34.5080,2,34.5113,2,175.4,2,175.2,2,67.57,2,34.43,2,0.00,2,2.41,2,0.796,2,0.387,2,0.049,2,1.044,2,2249.3,6,2328.0,2,-999.0,9,-999.00,1,20050904,623,-60.1936,-87.0855
316N20050821,AAIW,40,1,10,10,2,20050904,502,-60.2013,-87.0885,1257.1,2.3093,34.6296,2,34.6321,2,172.2,2,171.9,2,77.81,2,33.30,2,0.00,2,2.34,2,-999.000,9,-999.000,9,-999.000,9,-999.000,9,-999.0,9,2341.8,2,-999.0,9,-999.00,1,20050904,615,-60.1925,-87.0849
316N20050821,AAIW,40,1,11,11,4,20050904,502,-60.2013,-87.0885,1257.8,2.3095,34.6296,2,34.6301,3,172.2,2,171.4,2,78.81,2,33.50,2,0.00,2,2.35,2,0.340,6,0.155,6,0.023,6,0.468,6,-999.0,9,2341.0,2,-999.0,9,-999.00,1,20050904,616,-60.1925,-87.0849
316N20050821,AAIW,40,1,9,9,2,20050904,502,-60.2013,-87.0885,1449.7,2.1960,34.6709,2,34.6721,2,175.2,2,174.1,2,82.15,2,32.78,2,0.00,2,2.29,2,0.240,2,0.121,2,0.002,2,0.335,2,-999.0,9,2344.6,2,-999.0,9,-999.00,1,20050904,610,-60.1916,-87.0844
316N20050821,AAIW,40,1,8,8,2,20050904,502,-60.2013,-87.0885,1646.5,2.0585,34.7022,2,34.7039,2,178.9,2,178.2,2,86.50,2,32.27,2,0.00,2,2.25,2,0.163,2,0.080,2,0.002,2,0.201,2,-999.0,9,2350.3,2,-999.0,9,-999.00,1,20050904,605,-60.1908,-87.0840
316N20050821,AAIW,40,1,7,7,2,20050904,502,-60.2013,-87.0885,1893.4,1.9097,34.7181,2,34.7210,3,182.5,2,182.0,2,91.64,2,31.91,2,0.00,2,2.22,2,0.122,2,0.068,2,0.002,2,0.154,2,-999.0,9,2355.3,2,-999.0,9,-999.00,1,20050904,559,-60.1897,-87.0835
316N20050821,AAIW,40,1,6,6,2,20050904,502,-60.2013,-87.0885,2142.7,1.6910,34.7217,2,34.7238,2,185.6,2,184.7,2,99.38,2,32.00,2,0.00,2,2.22,2,0.078,2,0.045,2,0.002,2,0.087,2,-999.0,9,2361.0,2,-999.0,9,-999.00,1,20050904,553,-60.1886,-87.0829
316N20050821,AAIW,40,1,5,5,2,20050904,502,-60.2013,-87.0885,2645.5,1.4612,34.7248,2,34.7285,3,192.3,2,191.4,2,105.54,2,31.85,2,0.00,2,2.21,2,0.064,2,0.038,2,0.002,2,0.091,2,-999.0,9,2361.1,2,-999.0,9,-999.00,1,20050904,543,-60.1868,-87.0820
316N20050821,AAIW,40,1,4,4,2,20050904,502,-60.2013,-87.0885,3148.4,1.1290,34.7192,2,34.7199,2,199.6,2,199.1,2,114.50,2,31.95,2,0.00,2,2.21,2,0.079,2,0.051,2,0.002,2,0.123,2,-999.0,9,2360.5,2,-999.0,9,-999.00,1,20050904,532,-60.1853,-87.0814
316N20050821,AAIW,40,1,3,3,2,20050904,502,-60.2013,-87.0885,3657.5,0.8375,34.7107,2,34.7136,3,205.2,2,204.6,2,123.48,2,32.20,2,0.00,2,2.23,2,0.104,2,0.055,2,0.002,2,0.184,2,-999.0,9,2360.9,2,-999.0,9,-999.00,1,20050904,522,-60.1836,-87.0806
316N20050821,AAIW,40,1,2,2,2,20050904,502,-60.2013,-87.0885,4165.0,0.5843,34.7065,2,34.7068,2,209.5,2,209.7,2,132.69,2,32.55,2,0.00,2,2.23,2,0.110,2,0.058,2,0.002,2,0.239,2,-999.0,9,2362.9,2,-999.0,9,-999.00,1,20050904,512,-60.1823,-87.0798
316N20050821,AAIW,40,1,1,1,2,20050904,502,-60.2013,-87.0885,4668.2,0.5283,34.7049,2,34.7050,2,211.7,2,211.5,2,136.70,2,32.60,2,0.00,2,2.24,2,0.141,2,0.068,2,0.002,2,0.320,2,-999.0,9,2362.3,2,-999.0,9,-999.00,1,20050904,502,-60.1812,-87.0786
316N20050821,AAIW,41,1,24,24,2,20050904,1122,-60.6314,-87.5847,15.0,2.5324,34.0034,2,34.0085,2,317.4,2,317.6,2,10.87,2,25.56,2,0.05,2,1.80,2,5.393,6,2.693,6,0.523,6,7.023,6,2144.2,6,2274.9,2,-999.0,9,-999.00,1,20050904,1323,-60.6314,-87.5847
316N20050821,AAIW,41,1,23,23,2,20050904,1122,-60.6314,-87.5847,40.0,2.5316,34.0033,2,34.0060,2,317.1,2,317.5,2,10.89,2,25.51,2,0.05,2,1.80,2,5.302,2,2.732,2,0.497,2,7.011,2,2144.9,2,2275.0,2,-999.0,9,-999.00,1,20050904,1321,-60.6313,-87.5841
316N20050821,AAIW,41,1,22,22,2,20050904,1122,-60.6314,-87.5847,69.8,2.5407,34.0072,2,34.0103,2,313.6,2,313.4,2,11.11,2,25.76,2,0.04,2,1.81,2,5.297,2,2.718,2,0.509,2,6.938,2,2143.8,2,2275.8,2,-999.0,9,-999.00,1,20050904,1319,-60.6311,-87.5834
316N20050821,AAIW,41,1,21,21,2,20050904,1122,-60.6314,-87.5847,109.4,2.4364,34.0052,2,34.0084,2,315.2,2,316.7,2,11.32,2,25.66,2,0.05,2,1.81,2,5.349,2,2.792,2,0.498,2,7.045,2,2147.5,2,2275.7,2,-999.0,9,-999.00,1,20050904,1317,-60.6308,-87.5826
316N20050821,AAIW,41,1,20,20,2,20050904,1122,-60.6314,-87.5847,207.1,2.4277,34.0410,2,34.0428,2,300.5,2,299.7,2,15.45,2,27.23,2,0.01,2,1.92,2,4.975,2,2.566,2,0.484,2,6.496,2,2159.2,2,2279.0,2,-999.0,9,-999.00,1,20050904,1313,-60.6304,-87.5817
316N20050821,AAIW,41,1,19,19,2,20050904,1122,-60.6314,-87.5847,255.6,2.5360,34.0751,2,34.0760,2,285.8,2,286.7,2,18.80,2,28.23,2,0.01,2,1.97,2,4.677,2,2.445,2,0.437,2,5.712,2,2168.8,2,2280.1,2,-999.0,9,-999.00,1,20050904,1311,-60.6302,-87.5809
316N20050821,AAIW,41,1,18,18,2,20050904,1122,-60.6314,-87.5847,305.7,2.4341,34.1026,2,34.1056,2,276.9,2,276.3,2,23.33,2,29.27,2,0.00,2,2.04,2,4.272,2,2.335,2,0.426,2,5.157,2,2176.8,2,2284.5,2,-999.0,9,-999.00,1,20050904,1309,-60.6300,-87.5801
316N20050821,AAIW,41,1,17,17,2,20050904,1122,-60.6314,-87.5847,401.5,1.9748,34.1215,2,34.1246,2,-999.0,9,278.7,3,28.05,2,30.13,2,0.00,2,2.07,2,4.344,2,2.317,2,0.433,2,5.182,2,2183.2,2,2287.9,2,-999.0,9,-999.00,1,20050904,1306,-60.6297,-87.5792
316N20050821,AAIW,41,1,16,16,2,20050904,1122,-60.6314,-87.5847,498.0,2.1677,34.1983,2,34.2005,2,249.9,2,249.2,2,35.93,2,31.67,2,0.00,2,2.20,2,3.440,2,1.813,2,0.304,2,4.121,2,2206.2,2,2295.2,2,-999.0,9,-999.00,1,20050904,1302,-60.6295,-87.5783
316N20050821,AAIW,41,1,15,15,2,20050904,1122,-60.6314,-87.5847,595.1,2.5136,34.3128,2,34.3147,2,-999.0,9,189.9,3,53.47,2,33.47,2,0.00,2,2.31,2,2.228,2,1.166,2,0.172,2,2.758,2,2221.0,2,2305.8,2,-999.0,9,-999.00,1,20050904,1259,-60.6291,-87.5774
316N20050821,AAIW,41,1,14,14,2,20050904,1122,-60.6314,-87.5847,692.7,2.5536,34.3976,2,34.3989,2,190.2,2,190.0,2,56.65,2,34.22,2,0.00,2,2.38,2,1.462,2,0.762,2,0.105,2,1.855,2,2237.9,2,2317.1,2,-999.0,9,-999.00,1,20050904,1256,-60.6288,-87.5766
316N20050821,AAIW,41,1,13,13,2,20050904,1122,-60.6314,-87.5847,791.5,2.5199,34.4599,2,34.4646,2,180.3,2,181.0,2,63.78,2,34.46,2,0.00,2,2.40,2,1.103,2,0.541,2,0.081,2,1.498,2,2245.4,2,2322.1,2,-999.0,9,-999.00,1,20050904,1253,-60.6287,-87.5756
316N20050821,AAIW,41,1,12,12,2,20050904,1122,-60.6314,-87.5847,988.4,2.4050,34.5604,2,34.5628,2,172.3,2,172.7,2,72.30,2,34.20,2,0.00,2,2.39,2,0.591,2,0.297,2,0.049,2,0.840,2,2252.3,2,2334.1,2,-999.0,9,-999.00,1,20050904,1248,-60.6284,-87.5741
316N20050821,AAIW,41,1,11,11,2,20050904,1122,-60.6314,-87.5847,1188.6,2.2900,34.6259,2,34.6272,2,172.2,2,171.9,2,77.86,2,33.45,2,0.00,2,2.29,2,0.372,2,0.190,2,0.018,2,0.547,2,2256.1,2,2340.7,2,-999.0,9,-999.00,1,20050904,1243,-60.6281,-87.5726
316N20050821,AAIW,41,1,10,10,2,20050904,1122,-60.6314,-87.5847,1388.2,2.1784,34.6717,2,34.6746,2,175.4,2,175.2,2,81.84,2,32.74,2,0.00,2,2.24,2,0.268,2,0.126,2,0.018,2,0.384,2,2256.1,2,2344.7,2,-999.0,9,-999.00,1,20050904,1238,-60.6278,-87.5712
316N20050821,AAIW,41,1,9,9,2,20050904,1122,-60.6314,-87.5847,1588.4,2.0661,34.7017,2,34.7013,2,179.5,2,179.2,2,85.04,2,32.20,2,0.00,2,2.21,2,-999.000,5,-999.000,5,-999.000,5,-999.000,5,2260.2,2,2347.2,2,-999.0,9,-999.00,1,20050904,1233,-60.6277,-87.5697
316N20050821,AAIW,41,1,8,8,2,20050904,1122,-60.6314,-87.5847,1881.8,1.8445,34.7234,2,34.7253,2,184.8,2,184.6,2,92.61,2,31.84,2,0.00,2,2.18,2,0.122,2,0.064,2,0.011,2,0.169,2,2257.0,2,2354.0,2,-999.0,9,-999.00,1,20050904,1227,-60.6277,-87.5681
316N20050821,AAIW,41,1,7,7,2,20050904,1122,-60.6314,-87.5847,2178.1,1.6179,34.7250,2,34.7284,3,188.4,2,187.4,2,100.79,2,31.74,2,0.00,2,2.19,2,0.083,2,0.036,2,0.002,2,0.106,2,2260.2,2,2360.8,2,-999.0,9,-999.00,1,20050904,1220,-60.6275,-87.5662
316N20050821,AAIW,41,1,6,6,2,20050904,1122,-60.6314,-87.5847,2672.9,1.3308,34.7256,2,34.7280,3,196.3,2,195.6,2,107.40,2,31.78,2,0.00,2,2.18,2,0.082,2,0.038,2,0.002,2,0.140,2,2260.2,2,2358.9,2,-999.0,9,-999.00,1,20050904,1210,-60.6272,-87.5637
316N20050821,AAIW,41,1,5,5,2,20050904,1122,-60.6314,-87.5847,3168.3,1.0433,34.7169,2,34.7178,2,201.4,2,201.0,2,116.82,2,32.09,2,0.00,2,2.20,2,0.093,2,0.045,2,0.002,2,0.185,2,2261.8,2,2360.4,2,-999.0,9,-999.00,1,20050904,1200,-60.6270,-87.5610
316N20050821,AAIW,41,1,4,4,2,20050904,1122,-60.6314,-87.5847,3664.1,0.7740,34.7093,2,34.7098,2,206.2,2,206.1,2,125.06,2,32.33,2,0.00,2,2.21,2,0.124,2,0.070,2,0.002,2,0.234,2,2263.7,2,2360.4,2,-999.0,9,-999.00,1,20050904,1150,-60.6272,-87.5580
316N20050821,AAIW,41,1,3,3,2,20050904,1122,-60.6314,-87.5847,4163.9,0.5421,34.7055,2,34.7074,3,210.5,2,210.9,2,132.51,2,32.48,2,0.00,2,2.24,2,0.143,2,0.077,2,0.002,2,0.303,2,2262.1,2,2362.3,2,-999.0,9,-999.00,1,20050904,1140,-60.6276,-87.5543
316N20050821,AAIW,41,1,2,2,2,20050904,1122,-60.6314,-87.5847,4681.6,0.4935,34.7046,2,34.7076,3,212.0,2,213.0,2,137.76,2,32.68,2,0.00,2,2.24,2,0.162,2,0.099,2,0.002,2,0.335,2,2265.3,2,2362.0,2,-999.0,9,-999.00,1,20050904,1130,-60.6266,-87.5512
316N20050821,AAIW,41,1,1,1,2,20050904,1122,-60.6314,-87.5847,5068.2,0.5072,34.7041,2,34.7054,3,213.3,2,213.6,2,139.59,2,32.58,2,0.00,2,2.25,2,0.183,2,0.098,2,0.002,2,0.398,2,2265.0,6,2362.6,2,-999.0,9,-999.00,1,20050904,1122,-60.6252,-87.5500
316N20050821,AAIW,42,1,24,24,2,20050904,1757,-61.0942,-88.0732,17.3,2.5359,34.0022,2,34.0025,2,318.7,2,318.4,2,11.18,2,25.50,2,0.05,2,1.80,2,5.385,2,2.818,2,0.518,2,7.042,2,2142.8,2,2275.7,2,-999.0,9,-999.00,1,20050904,1947,-61.0942,-88.0732
316N20050821,AAIW,42,1,23,23,2,20050904,1757,-61.0942,-88.0732,57.1,2.5208,34.0028,2,34.0048,2,318.1,2,318.2,2,11.19,2,25.59,2,0.05,2,1.80,2,5.376,2,2.788,2,0.518,2,7.364,2,-999.0,9,-999.0,9,-999.0,9,-999.00,9,20050904,1945,-61.0936,-88.0725
316N20050821,AAIW,42,1,22,22,2,20050904,1757,-61.0942,-88.0732,106.4,2.4832,34.0037,2,34.0031,2,317.0,2,317.3,2,11.41,2,25.69,2,0.05,2,1.80,2,5.363,2,2.813,2,0.528,2,7.287,2,-999.0,9,2276.4,2,-999.0,9,-999.00,1,20050904,1942,-61.0928,-88.0720
316N20050821,AAIW,42,1,21,21,2,20050904,1757,-61.0942,-88.0732,166.4,2.4666,34.0032,2,34.0039,2,316.8,2,317.3,2,11.42,2,25.68,2,0.06,2,1.80,2,5.347,2,2.796,2,0.515,2,7.178,2,-999.0,9,2276.1,2,-999.0,9,-999.00,1,20050904,1940,-61.0923,-88.0712
316N20050821,AAIW,42,1,20,20,2,20050904,1757,-61.0942,-88.0732,206.0,2.4666,34.0047,2,34.0060,2,316.3,2,316.0,2,11.62,2,25.78,2,0.06,2,1.81,2,5.355,2,2.817,2,0.524,2,7.094,2,-999.0,9,2276.4,2,-999.0,9,-999.00,1,20050904,1939,-61.0919,-88.0707
316N20050821,AAIW,42,1,19,19,2,20050904,1757,-61.0942,-88.0732,275.9,2.8435,34.0898,2,34.0906,2,277.5,2,277.8,2,19.83,2,28.30,2,0.00,2,1.97,2,4.453,2,2.323,2,0.398,2,5.578,2,2164.4,2,2282.1,2,-999.0,9,-999.00,1,20050904,1936,-61.0917,-88.0699
316N20050821,AAIW,42,1,18,18,2,20050904,1757,-61.0942,-88.0732,364.8,2.9595,34.1802,2,34.1835,2,248.9,2,249.6,2,28.24,2,30.27,2,0.00,2,2.10,2,3.602,2,1.847,2,0.313,2,4.439,2,2183.9,2,2288.9,2,-999.0,9,-999.00,1,20050904,1934,-61.0913,-88.0691
316N20050821,AAIW,42,1,17,17,2,20050904,1757,-61.0942,-88.0732,450.9,2.5261,34.1902,2,34.1910,2,249.5,2,250.4,2,32.36,2,30.87,2,0.00,2,2.14,2,3.512,2,1.816,2,0.316,2,4.438,2,2190.9,2,2292.5,2,-999.0,9,-999.00,1,20050904,1931,-61.0910,-88.0686
316N20050821,AAIW,42,1,16,16,2,20050904,1757,-61.0942,-88.0732,537.4,2.1757,34.2061,2,34.2047,2,246.6,2,246.8,2,37.26,2,31.66,2,0.00,2,2.21,2,3.423,2,1.806,2,0.306,2,4.352,2,2198.4,2,2295.6,2,-999.0,9,-999.00,1,20050904,1929,-61.0906,-88.0677
316N20050821,AAIW,42,1,15,15,2,20050904,1757,-61.0942,-88.0732,577.8,2.3454,34.2613,2,34.2587,2,228.3,2,228.4,2,42.55,2,32.50,2,0.00,2,2.26,2,2.847,2,1.444,2,0.251,2,3.529,2,2208.7,2,2302.7,2,-999.0,9,-999.00,1,20050904,1927,-61.0903,-88.0671
316N20050821,AAIW,42,1,14,14,2,20050904,1757,-61.0942,-88.0732,647.1,2.6855,34.3651,2,34.3655,2,197.4,2,198.1,2,51.78,2,33.69,2,0.00,2,2.34,2,1.714,2,0.886,2,0.164,2,2.269,2,2225.9,2,2310.9,2,-999.0,9,-999.00,1,20050904,1924,-61.0900,-88.0663
316N20050821,AAIW,42,1,13,13,2,20050904,1757,-61.0942,-88.0732,737.4,2.5776,34.4135,2,34.4124,2,188.1,2,189.6,2,58.07,2,34.19,2,0.00,2,2.38,2,1.392,2,0.704,2,0.119,2,1.912,2,2236.6,2,2316.8,2,-999.0,9,-999.00,1,20050904,1922,-61.0895,-88.0656
316N20050821,AAIW,42,1,12,12,2,20050904,1757,-61.0942,-88.0732,825.5,2.5723,34.4785,2,34.4774,2,179.5,2,179.9,2,67.13,2,34.28,2,0.00,2,2.39,2,0.938,2,0.453,2,0.082,2,1.303,2,2243.7,2,2325.6,2,-999.0,9,-999.00,1,20050904,1919,-61.0892,-88.0650
316N20050821,AAIW,42,1,11,11,2,20050904,1757,-61.0942,-88.0732,900.2,2.5019,34.5117,2,34.5129,2,176.6,2,176.8,2,69.89,2,34.27,2,0.00,2,2.39,2,0.790,2,0.386,2,0.050,2,1.100,2,-999.0,9,-999.0,9,-999.0,9,-999.00,9,20050904,1917,-61.0890,-88.0645
316N20050821,AAIW,42,1,10,10,2,20050904,1757,-61.0942,-88.0732,1027.6,2.4064,34.5725,2,34.5706,2,173.6,2,173.4,2,73.24,2,33.97,2,0.00,2,2.37,2,0.542,2,0.250,2,0.034,2,0.753,2,-999.0,9,2335.8,2,-999.0,9,-999.00,1,20050904,1913,-61.0887,-88.0638
316N20050821,AAIW,42,1,9,9,2,20050904,1757,-61.0942,-88.0732,1262.5,2.2692,34.6459,2,34.6479,2,174.3,2,173.0,2,80.34,2,33.07,2,0.00,2,2.31,2,0.305,2,0.144,2,0.020,2,0.433,2,-999.0,9,-999.0,9,-999.0,9,-999.00,9,20050904,1908,-61.0883,-88.0624
316N20050821,AAIW,42,1,8,8,2,20050904,1757,-61.0942,-88.0732,1551.3,2.0809,34.6988,2,34.6995,2,180.3,2,179.6,2,84.09,2,32.17,2,0.00,2,2.24,2,0.198,2,0.092,2,0.012,2,0.246,2,-999.0,9,2347.3,2,-999.0,9,-999.00,1,20050904,1902,-61.0877,-88.0607
316N20050821,AAIW,42,1,7,7,2,20050904,1757,-61.0942,-88.0732,1839.0,1.8825,34.7220,2,34.7209,2,185.7,2,184.5,2,90.62,2,31.62,2,0.00,2,2.21,2,0.136,2,0.063,2,0.002,2,0.165,2,-999.0,9,-999.0,9,-999.0,9,-999.00,9,20050904,1856,-61.0870,-88.0592
316N20050821,AAIW,42,1,6,6,2,20050904,1757,-61.0942,-88.0732,2315.9,1.5284,34.7290,2,34.7297,2,193.4,2,193.3,2,99.34,2,31.46,2,0.00,2,2.20,2,0.096,2,0.049,2,0.002,2,0.087,2,-999.0,9,2356.3,2,-999.0,9,-999.00,1,20050904,1846,-61.0861,-88.0568
316N20050821,AAIW,42,1,5,5,2,20050904,1757,-61.0942,-88.0732,3051.2,1.1047,34.7186,2,34.7176,2,200.6,2,200.2,2,114.85,2,31.71,2,0.00,2,2.22,2,0.084,2,0.043,2,0.002,2,0.115,2,-999.0,9,-999.0,9,-999.0,9,-999.00,9,20050904,1832,-61.0845,-88.0532
316N20050821,AAIW,42,1,4,4,2,20050904,1757,-61.0942,-88.0732,3800.1,0.7195,34.7083,2,34.7078,2,207.4,2,208.0,2,126.61,2,32.10,2,0.00,2,2.24,2,0.131,2,0.056,2,0.002,2,0.205,2,-999.0,9,2361.0,2,-999.0,9,-999.00,1,20050904,1819,-61.0827,-88.0493
316N20050821,AAIW,42,1,3,3,2,20050904,1757,-61.0942,-88.0732,4285.5,0.5362,34.7057,2,34.7050,2,210.9,2,212.3,2,133.21,2,32.34,2,0.00,2,2.25,2,0.138,2,0.058,2,0.002,2,0.258,2,-999.0,9,-999.0,9,-999.0,9,-999.00,9,20050904,1810,-61.0821,-88.0472
316N20050821,AAIW,42,1,2,2,2,20050904,1757,-61.0942,-88.0732,4291.7,0.5361,34.7058,2,34.7047,2,211.7,2,214.5,3,133.41,2,32.34,2,0.00,2,2.26,2,0.133,2,0.058,2,0.002,2,0.258,2,-999.0,9,2361.9,2,-999.0,9,-999.00,1,20050904,1809,-61.0820,-88.0470
316N20050821,AAIW,42,1,1,1,2,20050904,1757,-61.0942,-88.0732,4960.7,0.4971,34.7043,2,34.7047,2,213.8,2,213.9,2,139.01,2,32.49,2,0.00,2,2.28,2,0.198,2,0.086,2,0.002,2,0.424,2,-999.0,9,2362.4,2,-999.0,9,-999.00,1,20050904,1757,-61.0808,-88.0432