BOTTLE,20220819CCHSIOAMB
EXPOCODE,SECT_ID,STNNBR,CASTNO,SAMPNO,BTLNBR,BTLNBR_FLAG_W,DATE,TIME,LATITUDE,LONGITUDE,CTDPRS,CTDTMP,CTDSAL,CTDSAL_FLAG_W,SALNTY,SALNTY_FLAG_W,CTDOXY,CTDOXY_FLAG_W,OXYGEN,OXYGEN_FLAG_W,SILCAT,SILCAT_FLAG_W,NITRAT,NITRAT_FLAG_W,NITRIT,NITRIT_FLAG_W,PHSPHT,PHSPHT_FLAG_W,CFC-11,CFC-11_FLAG_W,CFC-12,CFC-12_FLAG_W,CFC113,CFC113_FLAG_W,CCL4,CCL4_FLAG_W,TCARBN,TCARBN_FLAG_W,ALKALI,ALKALI_FLAG_W,PCO2,PCO2_FLAG_W,PH_SWS,PH_SWS_FLAG_W,BTL_DATE,BTL_TIME,BTL_LAT,BTL_LON
,,,,,,,,,,,DBAR,ITS-90,PSS-78,,PSS-78,,UMOL/KG,,UMOL/KG,,UMOL/KG,,UMOL/KG,,UMOL/KG,,UMOL/KG,,PMOL/KG,,PMOL/KG,,PMOL/KG,,PMOL/KG,,UMOL/KG,,UMOL/KG,,UATM,,,,,,,
316N20050821,AAIW,79,1,23,23,2,20050918,2012,-58.4864,-101.1495,3.0,4.2486,34.0632,2,34.0618,2,306.6,2,306.2,2,6.73,2,22.57,2,0.07,2,1.58,2,4.838,6,2.651,6,0.471,6,5.995,6,2130.2,2,2271.7,2,-999.0,9,-999.00,1,20050918,2154,-58.4864,-101.1495
316N20050821,AAIW,79,1,22,22,2,20050918,2012,-58.4864,-101.1495,25.3,4.1568,34.0601,2,34.0592,2,307.6,2,306.7,2,6.73,2,22.58,2,0.07,2,1.58,2,4.822,2,2.653,2,0.468,2,6.123,2,2129.1,2,2272.1,2,-999.0,9,-999.00,1,20050918,2153,-58.4866,-101.1493
316N20050821,AAIW,79,1,21,21,2,20050918,2012,-58.4864,-101.1495,65.7,4.1375,34.0591,2,34.0563,2,306.6,2,306.6,2,6.73,2,22.63,2,0.07,2,1.58,2,4.857,2,2.638,2,0.469,2,5.615,4,2129.5,2,2272.1,2,-999.0,9,-999.00,1,20050918,2151,-58.4870,-101.1491
316N20050821,AAIW,79,1,20,20,2,20050918,2012,-58.4864,-101.1495,105.5,3.9774,34.0450,2,34.0442,2,307.1,2,308.6,2,7.34,2,23.05,2,0.07,2,1.60,2,4.835,2,2.636,2,0.473,2,5.986,2,2131.1,2,2271.8,2,-999.0,9,-999.00,1,20050918,2149,-58.4873,-101.1489
316N20050821,AAIW,79,1,19,19,2,20050918,2012,-58.4864,-101.1495,154.9,3.9681,34.0442,2,34.0420,2,306.1,2,306.9,2,7.34,2,23.05,2,0.07,2,1.61,2,4.841,2,2.630,2,0.468,2,5.839,2,2131.3,2,2271.8,2,-999.0,9,-999.00,1,20050918,2147,-58.4876,-101.1486
316N20050821,AAIW,79,1,18,18,2,20050918,2012,-58.4864,-101.1495,235.2,3.5952,34.0342,2,34.0324,2,298.5,2,299.3,2,9.94,2,24.74,2,0.02,2,1.72,2,4.776,2,2.592,2,0.470,2,5.792,2,2141.2,3,2272.4,2,-999.0,9,-999.00,1,20050918,2145,-58.4879,-101.1485
316N20050821,AAIW,79,1,17,17,2,20050918,2012,-58.4864,-101.1495,334.0,2.9451,33.9842,2,33.9839,2,316.4,2,315.8,2,9.54,2,24.73,2,0.04,2,1.72,2,5.197,2,2.811,2,0.488,2,6.442,2,2138.8,2,2272.6,2,-999.0,9,-999.00,1,20050918,2142,-58.4882,-101.1482
316N20050821,AAIW,79,1,16,16,2,20050918,2012,-58.4864,-101.1495,431.5,2.7593,33.9877,2,33.9870,2,313.5,2,313.5,2,10.94,2,25.39,2,0.03,2,1.78,2,5.128,2,2.804,2,0.501,2,6.322,2,2142.5,2,2273.8,2,-999.0,9,-999.00,1,20050918,2139,-58.4884,-101.1480
316N20050821,AAIW,79,1,15,15,2,20050918,2012,-58.4864,-101.1495,502.6,3.1899,34.0935,2,34.0927,2,274.9,2,276.0,2,18.35,2,27.78,2,0.01,2,1.92,2,4.285,2,2.379,2,0.391,2,4.928,2,2163.3,2,2279.1,2,-999.0,9,-999.00,1,20050918,2137,-58.4887,-101.1480
316N20050821,AAIW,79,1,14,14,2,20050918,2012,-58.4864,-101.1495,562.7,3.4404,34.1980,2,34.1962,2,239.5,2,239.2,2,27.37,2,30.15,2,0.00,2,2.07,2,3.313,2,1.820,2,0.291,2,3.529,2,2185.9,2,2287.9,2,-999.0,9,-999.00,1,20050918,2135,-58.4888,-101.1480
316N20050821,AAIW,79,1,13,13,2,20050918,2012,-58.4864,-101.1495,663.2,3.2346,34.2710,2,34.2716,2,219.2,2,219.9,2,36.41,2,31.82,2,0.00,2,2.18,2,2.548,2,1.334,2,0.220,2,2.889,2,-999.0,9,2295.8,2,-999.0,9,-999.00,1,20050918,2132,-58.4891,-101.1479
316N20050821,AAIW,79,1,12,12,2,20050918,2012,-58.4864,-101.1495,762.1,3.0753,34.3386,2,34.3386,2,200.4,2,201.0,2,45.87,2,33.01,2,0.00,2,2.28,2,1.812,2,0.978,2,0.152,2,2.128,2,2218.1,2,2303.8,2,-999.0,9,-999.00,1,20050918,2129,-58.4893,-101.1479
316N20050821,AAIW,79,1,11,11,2,20050918,2012,-58.4864,-101.1495,861.5,2.9644,34.3987,2,34.3986,2,188.9,2,188.8,2,53.53,2,33.63,2,0.00,2,2.33,2,1.279,2,0.672,2,0.098,2,1.662,2,-999.0,9,2313.7,2,-999.0,9,-999.00,1,20050918,2127,-58.4894,-101.1478
316N20050821,AAIW,79,1,10,10,2,20050918,2012,-58.4864,-101.1495,961.5,2.7188,34.4338,2,34.4340,2,183.6,2,184.1,2,59.60,2,34.30,2,0.00,2,2.36,2,1.151,2,0.583,2,0.069,2,1.455,2,2237.7,6,2316.8,2,-999.0,9,-999.00,1,20050918,2124,-58.4896,-101.1478
316N20050821,AAIW,79,1,9,9,2,20050918,2012,-58.4864,-101.1495,1272.1,2.4410,34.5717,2,34.5707,2,172.2,2,171.9,2,73.55,2,33.92,2,0.00,2,2.37,2,0.523,2,0.253,2,0.019,2,0.715,2,-999.0,9,2333.9,2,-999.0,9,-999.00,1,20050918,2117,-58.4902,-101.1478
316N20050821,AAIW,79,1,8,8,2,20050918,2012,-58.4864,-101.1495,1472.0,2.3242,34.6338,2,34.6330,2,172.3,2,172.4,2,79.24,2,33.29,2,0.00,2,2.31,2,0.321,2,0.156,2,0.003,2,0.443,2,-999.0,9,-999.0,9,-999.0,9,-999.00,9,20050918,2113,-58.4905,-101.1477
316N20050821,AAIW,79,1,7,7,2,20050918,2012,-58.4864,-101.1495,1874.6,2.0745,34.7084,2,34.7064,2,180.2,2,181.1,2,86.54,2,31.96,2,0.00,2,2.20,2,0.164,2,0.073,2,0.003,2,0.189,2,-999.0,9,2346.4,2,-999.0,9,-999.00,1,20050918,2105,-58.4911,-101.1477
316N20050821,AAIW,79,1,6,6,2,20050918,2012,-58.4864,-101.1495,2375.0,1.6652,34.7258,2,34.7237,3,187.4,2,187.8,2,100.20,2,31.81,2,0.00,2,2.20,2,0.083,2,0.037,2,0.003,2,0.060,2,-999.0,9,-999.0,9,-999.0,9,-999.00,9,20050918,2056,-58.4917,-101.1475
316N20050821,AAIW,79,1,5,5,2,20050918,2012,-58.4864,-101.1495,2879.6,1.3564,34.7254,2,34.7237,2,194.5,2,195.3,2,107.97,2,31.66,2,0.00,2,2.19,2,0.079,2,0.038,2,0.003,2,0.074,2,-999.0,9,2359.1,2,-999.0,9,-999.00,1,20050918,2046,-58.4924,-101.1471
316N20050821,AAIW,79,1,4,4,2,20050918,2012,-58.4864,-101.1495,3386.9,1.0848,34.7182,2,34.7149,3,200.1,2,200.9,2,117.81,2,31.96,2,0.00,2,2.21,2,0.101,2,0.047,2,0.003,2,0.112,2,-999.0,9,-999.0,9,-999.0,9,-999.00,9,20050918,2037,-58.4932,-101.1469
316N20050821,AAIW,79,1,3,3,2,20050918,2012,-58.4864,-101.1495,3892.1,0.7763,34.7097,2,34.7056,3,205.7,2,206.7,2,126.85,2,32.34,2,0.00,2,2.23,2,0.142,2,0.066,2,0.003,2,0.244,2,-999.0,9,2359.8,2,-999.0,9,-999.00,1,20050918,2028,-58.4937,-101.1468
316N20050821,AAIW,79,1,2,2,2,20050918,2012,-58.4864,-101.1495,4400.4,0.5501,34.7058,2,34.7023,3,210.4,2,211.4,2,134.06,2,32.62,2,0.00,2,2.25,2,0.185,2,0.086,2,0.003,2,0.321,2,-999.0,9,-999.0,9,-999.0,9,-999.00,9,20050918,2019,-58.4943,-101.1465
316N20050821,AAIW,79,1,1,1,2,20050918,2012,-58.4864,-101.1495,4767.3,0.4884,34.7044,2,34.7015,3,213.8,2,213.5,2,137.78,2,32.67,2,0.00,2,2.25,2,0.226,2,0.106,2,0.003,2,0.371,2,-999.0,9,2359.7,2,-999.0,9,-999.00,1,20050918,2012,-58.4947,-101.1467
316N20050821,AAIW,80,1,24,24,2,20050919,232,-58.2502,-100.2509,6.0,3.9346,34.0307,2,34.0293,2,307.7,2,307.7,2,7.73,2,22.55,2,0.07,2,1.62,2,4.865,2,2.729,2,0.470,2,6.193,2,2131.1,6,2272.4,2,-999.0,9,-999.00,1,20050919,414,-58.2502,-100.2509
316N20050821,AAIW,80,1,23,23,2,20050919,232,-58.2502,-100.2509,36.4,3.9370,34.0316,2,34.0336,2,306.6,2,307.1,2,7.74,2,22.62,2,0.07,2,1.62,2,4.885,2,2.713,2,0.466,2,6.177,2,2131.0,2,2271.9,2,-999.0,9,-999.00,1,20050919,413,-58.2501,-100.2508
316N20050821,AAIW,80,1,22,22,2,20050919,232,-58.2502,-100.2509,75.9,3.9248,34.0317,2,34.0318,2,305.7,2,306.5,2,7.74,2,22.58,2,0.07,2,1.62,2,4.854,2,2.680,2,0.465,2,6.154,2,2141.7,3,2272.5,2,-999.0,9,-999.00,1,20050919,411,-58.2501,-100.2508
316N20050821,AAIW,80,1,21,21,2,20050919,232,-58.2502,-100.2509,115.9,3.8436,34.0282,2,34.0283,2,304.8,2,305.1,2,8.15,2,22.86,2,0.07,2,1.64,2,4.900,6,2.702,6,0.459,6,6.112,6,2135.2,2,2272.6,2,-999.0,9,-999.00,1,20050919,410,-58.2500,-100.2507
316N20050821,AAIW,80,1,20,20,2,20050919,232,-58.2502,-100.2509,155.7,3.6090,34.0250,2,34.0256,2,302.1,2,300.8,2,9.94,2,24.00,2,0.05,2,1.71,2,4.812,2,2.714,2,0.459,2,5.923,2,2138.7,2,2273.6,2,-999.0,9,-999.00,1,20050919,408,-58.2500,-100.2506
316N20050821,AAIW,80,1,19,19,2,20050919,232,-58.2502,-100.2509,205.7,3.4380,34.0239,2,34.0228,2,297.2,2,296.3,2,11.53,2,24.95,2,0.02,2,1.76,2,4.844,2,2.614,2,0.458,2,5.796,2,2144.2,2,2273.5,2,-999.0,9,-999.00,1,20050919,407,-58.2499,-100.2505
316N20050821,AAIW,80,1,18,18,2,20050919,232,-58.2502,-100.2509,255.5,3.2834,34.0236,2,34.0232,2,294.4,2,294.6,2,12.54,2,25.38,2,0.01,2,1.79,2,4.788,2,2.608,2,0.455,2,5.790,2,2145.7,2,2274.8,2,-999.0,9,-999.00,1,20050919,405,-58.2498,-100.2505
316N20050821,AAIW,80,1,17,17,2,20050919,232,-58.2502,-100.2509,325.6,3.0776,34.0253,2,34.0252,2,292.6,2,293.9,2,14.33,2,26.09,2,0.01,2,1.84,2,4.788,2,2.646,2,0.452,2,5.810,2,2152.0,2,2275.3,2,-999.0,9,-999.00,1,20050919,403,-58.2498,-100.2504
316N20050821,AAIW,80,1,16,16,2,20050919,232,-58.2502,-100.2509,405.1,4.0673,34.2270,2,34.2324,2,231.7,2,231.3,2,24.50,2,29.18,2,0.01,2,2.01,2,3.097,2,1.607,2,0.256,2,3.267,2,2181.3,2,2286.4,2,-999.0,9,-999.00,1,20050919,401,-58.2497,-100.2503
316N20050821,AAIW,80,1,15,15,2,20050919,232,-58.2502,-100.2509,494.9,3.7295,34.2580,2,34.2571,2,219.7,2,221.6,2,30.88,2,30.76,2,0.00,2,2.11,2,2.735,2,1.432,2,0.235,2,3.070,2,2193.0,2,2290.5,2,-999.0,9,-999.00,1,20050919,358,-58.2497,-100.2502
316N20050821,AAIW,80,1,14,14,2,20050919,232,-58.2502,-100.2509,595.6,3.1222,34.2592,2,34.2589,2,221.3,2,222.4,2,36.48,2,31.72,2,0.00,2,2.19,2,2.662,2,1.431,2,0.230,2,3.068,2,2201.6,2,2295.5,2,-999.0,9,-999.00,1,20050919,356,-58.2497,-100.2502
316N20050821,AAIW,80,1,13,13,2,20050919,232,-58.2502,-100.2509,695.5,2.9617,34.3118,2,34.3102,2,206.3,2,207.8,2,43.89,2,32.89,2,0.00,2,2.27,2,2.148,2,1.122,2,0.168,2,2.597,2,2217.3,2,2301.5,2,-999.0,9,-999.00,1,20050919,353,-58.2497,-100.2501
316N20050821,AAIW,80,1,12,12,2,20050919,232,-58.2502,-100.2509,795.6,2.8449,34.3698,2,34.3682,2,193.5,2,194.6,2,51.71,2,33.70,2,0.00,2,2.32,2,1.592,2,0.827,2,0.117,2,2.042,2,2227.1,2,2309.4,2,-999.0,9,-999.00,1,20050919,350,-58.2497,-100.2500
316N20050821,AAIW,80,1,11,11,2,20050919,232,-58.2502,-100.2509,895.5,2.7183,34.4248,2,34.4250,2,184.6,2,184.8,2,58.73,2,34.15,2,0.00,2,2.36,2,1.242,2,0.623,2,0.081,2,1.635,2,2236.4,2,2317.6,2,-999.0,9,-999.00,1,20050919,347,-58.2497,-100.2499
316N20050821,AAIW,80,1,10,10,2,20050919,232,-58.2502,-100.2509,995.0,2.6038,34.4773,2,34.4758,2,178.3,2,178.4,2,64.57,2,34.31,2,0.00,2,2.38,2,0.934,2,0.495,2,0.056,2,1.269,2,2243.8,2,2322.4,2,-999.0,9,-999.00,1,20050919,344,-58.2496,-100.2499
316N20050821,AAIW,80,1,9,9,2,20050919,232,-58.2502,-100.2509,1175.3,2.4790,34.5532,2,34.5519,2,172.4,2,172.8,2,72.42,2,34.05,2,0.00,2,2.36,2,0.579,2,0.296,2,0.021,2,0.872,2,2251.9,2,2331.9,2,-999.0,9,-999.00,1,20050919,340,-58.2495,-100.2498
316N20050821,AAIW,80,1,8,8,2,20050919,232,-58.2502,-100.2509,1345.7,2.3577,34.6134,2,34.6127,2,171.9,2,171.7,2,77.66,2,33.64,2,0.00,2,2.33,2,0.397,2,0.184,2,0.013,2,0.592,2,2255.3,2,2338.1,2,-999.0,9,-999.00,1,20050919,336,-58.2493,-100.2495
316N20050821,AAIW,80,1,7,7,2,20050919,232,-58.2502,-100.2509,1647.5,2.1925,34.6826,2,34.6827,2,176.0,2,176.0,2,83.32,2,32.44,2,0.00,2,2.25,2,0.221,2,0.098,2,0.003,2,0.326,2,2267.6,3,2344.6,2,-999.0,9,-999.00,1,20050919,330,-58.2494,-100.2496
316N20050821,AAIW,80,1,6,6,2,20050919,232,-58.2502,-100.2509,2150.1,1.8383,34.7239,2,34.7237,2,184.5,2,184.9,2,94.45,2,31.58,2,0.00,2,2.20,2,0.107,2,0.051,2,0.003,2,0.141,2,2257.7,2,2354.0,2,-999.0,9,-999.00,1,20050919,320,-58.2497,-100.2498
316N20050821,AAIW,80,1,5,5,2,20050919,232,-58.2502,-100.2509,2654.3,1.4869,34.7270,2,34.7243,3,191.5,2,192.3,2,105.01,2,31.58,2,0.00,2,2.19,2,0.081,2,0.033,2,0.003,2,0.112,2,2264.0,2,2359.3,2,-999.0,9,-999.00,1,20050919,311,-58.2499,-100.2501
316N20050821,AAIW,80,1,4,4,2,20050919,232,-58.2502,-100.2509,3159.5,1.2046,34.7214,2,34.7206,2,197.4,2,197.9,2,113.56,2,31.69,2,0.00,2,2.21,2,0.077,2,0.034,2,0.003,2,0.138,2,2261.1,2,2359.8,2,-999.0,9,-999.00,1,20050919,301,-58.2497,-100.2499
316N20050821,AAIW,80,1,3,3,2,20050919,232,-58.2502,-100.2509,3663.1,0.8828,34.7127,2,34.7119,2,203.0,2,203.8,2,124.58,2,32.09,2,0.00,2,2.23,2,0.114,2,0.055,2,0.003,2,0.221,2,2261.6,2,2362.7,2,-999.0,9,-999.00,1,20050919,252,-58.2498,-100.2501
316N20050821,AAIW,80,1,2,2,2,20050919,232,-58.2502,-100.2509,4170.6,0.6077,34.7069,2,34.7047,3,208.7,2,209.8,2,132.15,2,32.29,2,0.00,2,2.24,2,0.172,2,0.079,2,0.003,2,0.360,2,2257.9,3,2361.0,2,-999.0,9,-999.00,1,20050919,242,-58.2492,-100.2499
316N20050821,AAIW,80,1,1,1,2,20050919,232,-58.2502,-100.2509,4704.9,0.5092,34.7047,2,34.7039,2,212.4,2,212.6,2,136.67,2,32.29,2,0.00,2,2.25,2,0.213,2,0.101,2,0.003,2,0.462,2,2263.8,6,2359.7,2,-999.0,9,-999.00,1,20050919,232,-58.2488,-100.2504
316N20050821,AAIW,81,1,24,24,2,20050919,901,-57.9860,-99.2878,4.7,4.6063,34.0912,2,34.0957,2,301.7,2,302.1,2,6.68,2,22.08,2,0.07,2,1.55,2,4.588,2,2.582,2,0.451,2,5.763,2,2129.5,2,2271.9,2,-999.0,9,-999.00,1,20050919,1058,-57.9860,-99.2878
316N20050821,AAIW,81,1,23,23,2,20050919,901,-57.9860,-99.2878,44.3,4.6155,34.0913,2,34.0933,2,301.3,2,302.1,2,6.68,2,22.03,2,0.07,2,1.54,2,4.576,2,2.593,2,0.458,2,5.689,2,-999.0,9,2272.8,2,-999.0,9,-999.00,1,20050919,1056,-57.9863,-99.2883
316N20050821,AAIW,81,1,22,22,2,20050919,901,-57.9860,-99.2878,78.9,4.6136,34.0914,2,34.0911,2,301.4,2,302.0,2,6.68,2,21.98,2,0.07,2,1.54,2,4.634,6,2.576,6,0.448,6,5.738,6,2127.9,2,2272.0,2,-999.0,9,-999.00,1,20050919,1053,-57.9865,-99.2890
316N20050821,AAIW,81,1,21,21,2,20050919,901,-57.9860,-99.2878,119.0,4.6174,34.0915,2,34.0934,2,301.4,2,303.3,2,6.48,2,22.12,2,0.07,2,1.54,2,4.637,2,2.585,2,0.445,2,5.742,2,-999.0,9,2272.8,2,-999.0,9,-999.00,1,20050919,1051,-57.9868,-99.2896
316N20050821,AAIW,81,1,20,20,2,20050919,901,-57.9860,-99.2878,168.4,4.6017,34.0894,2,34.0888,2,300.9,2,301.3,2,6.68,2,22.17,2,0.07,2,1.54,2,4.646,2,2.557,2,0.452,2,5.760,2,2129.3,2,2272.4,2,-999.0,9,-999.00,1,20050919,1048,-57.9871,-99.2904
316N20050821,AAIW,81,1,19,19,9,20050919,901,-57.9860,-99.2878,217.5,4.4050,34.0696,2,-999.0000,9,-999.0,9,-999.0,9,-999.00,9,-999.00,9,-999.00,9,-999.00,9,-999.000,9,-999.000,9,-999.000,9,-999.000,9,-999.0,9,-999.0,9,-999.0,9,-999.00,9,20050919,1046,-57.9874,-99.2911
316N20050821,AAIW,81,1,18,18,2,20050919,901,-57.9860,-99.2878,267.7,4.2963,34.0591,2,34.0592,2,303.9,2,304.8,2,6.88,2,22.73,2,0.08,2,1.58,2,4.777,2,2.594,2,0.448,2,5.876,2,2130.1,2,2272.7,2,-999.0,9,-999.00,1,20050919,1044,-57.9876,-99.2916
316N20050821,AAIW,81,1,17,17,2,20050919,901,-57.9860,-99.2878,317.6,4.1180,34.0516,2,34.0527,2,300.5,2,300.6,2,8.27,2,23.55,2,0.06,2,1.63,2,4.715,2,2.578,2,0.447,2,5.787,2,2135.3,2,2271.7,2,-999.0,9,-999.00,1,20050919,1042,-57.9879,-99.2922
316N20050821,AAIW,81,1,16,16,2,20050919,901,-57.9860,-99.2878,416.0,4.3396,34.1450,2,34.1459,2,260.0,2,260.6,2,15.22,2,26.65,2,0.01,2,1.83,2,3.936,2,2.091,2,0.343,2,4.365,2,2160.3,2,2278.2,2,-999.0,9,-999.00,1,20050919,1038,-57.9882,-99.2930
316N20050821,AAIW,81,1,15,15,2,20050919,901,-57.9860,-99.2878,513.0,3.7618,34.1665,2,34.1662,2,252.0,2,253.3,2,20.97,2,28.57,2,0.00,2,1.94,2,3.676,2,1.963,2,0.315,2,4.091,2,2171.4,2,2281.9,2,-999.0,9,-999.00,1,20050919,1035,-57.9885,-99.2938
316N20050821,AAIW,81,1,14,14,2,20050919,901,-57.9860,-99.2878,611.9,3.6341,34.2268,2,34.2255,2,229.5,2,231.8,2,28.54,2,30.43,2,0.00,2,2.08,2,3.128,2,1.600,2,0.256,2,3.373,2,2188.9,2,2288.1,2,-999.0,9,-999.00,1,20050919,1033,-57.9888,-99.2942
316N20050821,AAIW,81,1,13,13,2,20050919,901,-57.9860,-99.2878,711.2,3.5457,34.3065,2,34.3065,2,208.5,2,209.8,2,37.31,2,31.83,2,0.00,2,2.19,2,2.164,2,1.070,2,0.173,2,2.472,2,2205.1,2,2296.7,2,-999.0,9,-999.00,1,20050919,1030,-57.9891,-99.2948
316N20050821,AAIW,81,1,12,12,2,20050919,901,-57.9860,-99.2878,811.6,3.2555,34.3460,2,34.3466,2,199.3,2,199.5,2,44.70,2,32.84,2,0.00,2,2.26,2,1.690,2,0.863,2,0.124,2,2.091,2,2217.1,2,2304.2,2,-999.0,9,-999.00,1,20050919,1027,-57.9895,-99.2953
316N20050821,AAIW,81,1,11,11,2,20050919,901,-57.9860,-99.2878,1012.6,2.8020,34.4427,2,34.4429,2,182.8,2,183.0,2,59.70,2,34.04,2,0.00,2,2.35,2,1.000,2,0.505,2,0.075,2,1.343,2,2238.5,6,2319.8,2,-999.0,9,-999.00,1,20050919,1022,-57.9901,-99.2961
316N20050821,AAIW,81,1,10,10,2,20050919,901,-57.9860,-99.2878,1213.0,2.5576,34.5286,2,34.5293,2,174.0,2,175.1,2,69.73,2,34.24,2,0.00,2,2.35,2,0.641,2,0.303,2,0.026,2,0.912,2,-999.0,9,2328.9,2,-999.0,9,-999.00,1,20050919,1018,-57.9905,-99.2971
316N20050821,AAIW,81,1,9,9,2,20050919,901,-57.9860,-99.2878,1412.9,2.4038,34.6008,2,34.6014,2,171.9,2,172.3,2,76.37,2,33.70,2,0.00,2,2.32,2,0.419,2,0.201,2,0.017,2,0.601,2,-999.0,9,2335.8,2,-999.0,9,-999.00,1,20050919,1012,-57.9911,-99.2982
316N20050821,AAIW,81,1,8,8,2,20050919,901,-57.9860,-99.2878,1713.9,2.2406,34.6712,2,34.6717,2,174.7,2,175.3,2,82.21,2,32.73,2,0.00,2,2.26,2,0.243,2,0.110,2,0.003,2,0.329,2,-999.0,9,2342.3,2,-999.0,9,-999.00,1,20050919,1005,-57.9918,-99.2999
316N20050821,AAIW,81,1,7,7,2,20050919,901,-57.9860,-99.2878,2014.5,2.0379,34.7138,2,34.7142,2,181.4,2,182.2,2,87.86,2,31.96,2,0.00,2,2.19,2,0.151,2,0.075,2,0.003,2,0.181,2,-999.0,9,2347.7,2,-999.0,9,-999.00,1,20050919,959,-57.9920,-99.3018
316N20050821,AAIW,81,1,6,6,2,20050919,901,-57.9860,-99.2878,2515.0,1.6181,34.7264,2,34.7267,2,189.2,2,189.5,2,101.82,2,31.96,2,0.00,2,2.19,2,0.069,2,0.032,2,0.003,2,0.071,2,-999.0,9,2358.3,2,-999.0,9,-999.00,1,20050919,949,-57.9918,-99.3045
316N20050821,AAIW,81,1,5,5,2,20050919,901,-57.9860,-99.2878,3017.2,1.3316,34.7241,2,34.7245,2,195.4,2,196.0,2,110.34,2,31.96,2,0.00,2,2.19,2,0.065,2,0.032,2,0.003,2,0.108,2,-999.0,9,2360.8,2,-999.0,9,-999.00,1,20050919,939,-57.9918,-99.3071
316N20050821,AAIW,81,1,4,4,2,20050919,901,-57.9860,-99.2878,3515.2,0.9927,34.7155,2,34.7166,2,202.2,2,203.2,2,120.30,2,32.24,2,0.00,2,2.21,2,0.105,2,0.059,2,0.003,2,0.192,2,-999.0,9,2359.6,2,-999.0,9,-999.00,1,20050919,930,-57.9915,-99.3091
316N20050821,AAIW,81,1,3,3,2,20050919,901,-57.9860,-99.2878,4011.0,0.6782,34.7087,2,34.7075,2,207.3,2,208.6,2,130.71,2,32.58,2,0.00,2,2.24,2,0.131,2,0.064,2,0.003,2,0.270,2,-999.0,9,2364.1,2,-999.0,9,-999.00,1,20050919,920,-57.9910,-99.3114
316N20050821,AAIW,81,1,2,2,2,20050919,901,-57.9860,-99.2878,4506.9,0.5314,34.7056,2,34.7051,2,211.7,2,212.7,2,135.83,2,32.63,2,0.00,2,2.24,2,0.197,2,0.090,2,0.003,2,0.387,2,-999.0,9,2361.4,2,-999.0,9,-999.00,1,20050919,910,-57.9909,-99.3134
316N20050821,AAIW,81,1,1,1,2,20050919,901,-57.9860,-99.2878,5007.1,0.5332,34.7046,2,34.7046,2,215.0,2,213.7,3,136.45,2,32.67,2,0.00,2,2.24,2,0.205,2,0.096,2,0.003,2,0.456,2,-999.0,9,2360.6,2,-999.0,9,-999.00,1,20050919,901,-57.9913,-99.3152