BOTTLE,20220819CCHSIOAMB
EXPOCODE,SECT_ID,STNNBR,CASTNO,SAMPNO,BTLNBR,BTLNBR_FLAG_W,DATE,TIME,LATITUDE,LONGITUDE,CTDPRS,CTDTMP,CTDSAL,CTDSAL_FLAG_W,SALNTY,SALNTY_FLAG_W,CTDOXY,CTDOXY_FLAG_W,OXYGEN,OXYGEN_FLAG_W,SILCAT,SILCAT_FLAG_W,NITRAT,NITRAT_FLAG_W,NITRIT,NITRIT_FLAG_W,PHSPHT,PHSPHT_FLAG_W,CFC-11,CFC-11_FLAG_W,CFC-12,CFC-12_FLAG_W,CFC113,CFC113_FLAG_W,CCL4,CCL4_FLAG_W,TCARBN,TCARBN_FLAG_W,ALKALI,ALKALI_FLAG_W,PCO2,PCO2_FLAG_W,PH_SWS,PH_SWS_FLAG_W,BTL_DATE,BTL_TIME,BTL_LAT,BTL_LON
,,,,,,,,,,,DBAR,ITS-90,PSS-78,,PSS-78,,UMOL/KG,,UMOL/KG,,UMOL/KG,,UMOL/KG,,UMOL/KG,,UMOL/KG,,PMOL/KG,,PMOL/KG,,PMOL/KG,,PMOL/KG,,UMOL/KG,,UMOL/KG,,UATM,,,,,,,
316N20050821,AAIW,55,1,24,24,2,20050908,1740,-56.5185,-89.0057,28.5,5.1324,34.1669,2,34.1671,2,299.2,2,298.6,2,5.10,2,21.04,2,0.05,2,1.48,2,4.555,2,2.605,2,0.415,2,6.154,2,2124.8,6,2273.1,2,-999.0,9,-999.00,1,20050908,1954,-56.5185,-89.0057
316N20050821,AAIW,55,1,23,23,2,20050908,1740,-56.5185,-89.0057,58.7,5.1377,34.1691,2,34.1684,2,299.1,2,298.1,2,5.08,2,20.99,2,0.04,2,1.48,2,4.584,2,2.561,2,0.434,2,6.069,2,2125.6,2,2275.0,2,-999.0,9,-999.00,1,20050908,1952,-56.5183,-89.0053
316N20050821,AAIW,55,1,22,22,2,20050908,1740,-56.5185,-89.0057,108.2,5.1390,34.1688,2,34.1684,2,298.6,2,298.2,2,5.06,2,21.04,2,0.04,2,1.47,2,4.626,2,2.576,2,0.423,2,5.881,2,2124.4,2,2273.7,2,-999.0,9,-999.00,1,20050908,1947,-56.5179,-89.0049
316N20050821,AAIW,55,1,21,21,2,20050908,1740,-56.5185,-89.0057,208.1,5.1466,34.1688,2,34.1690,2,298.6,2,299.3,2,5.04,2,20.95,2,0.04,2,1.47,2,4.618,2,2.577,2,0.429,2,5.981,2,2125.6,2,2273.9,2,-999.0,9,-999.00,1,20050908,1942,-56.5174,-89.0043
316N20050821,AAIW,55,1,20,20,2,20050908,1740,-56.5185,-89.0057,308.6,5.1525,34.1685,2,34.1690,2,298.6,2,297.9,2,5.03,2,20.99,2,0.04,2,1.47,2,4.604,2,2.545,2,0.431,2,5.940,2,2127.0,2,2275.6,2,-999.0,9,-999.00,1,20050908,1939,-56.5171,-89.0039
316N20050821,AAIW,55,1,19,19,9,20050908,1740,-56.5185,-89.0057,409.0,5.0942,34.1593,2,-999.0000,9,-999.0,9,-999.0,9,-999.00,9,-999.00,9,-999.00,9,-999.00,9,-999.000,9,-999.000,9,-999.000,9,-999.000,9,-999.0,9,-999.0,9,-999.0,9,-999.00,9,20050908,1937,-56.5168,-89.0036
316N20050821,AAIW,55,1,18,18,2,20050908,1740,-56.5185,-89.0057,468.4,4.7725,34.1288,2,34.1265,2,289.3,2,288.9,2,7.26,2,22.99,2,0.01,2,1.60,2,4.502,2,2.473,2,0.400,2,5.537,2,2135.7,2,2275.8,2,-999.0,9,-999.00,1,20050908,1934,-56.5166,-89.0033
316N20050821,AAIW,55,1,17,17,2,20050908,1740,-56.5185,-89.0057,518.0,5.0624,34.1943,2,34.1991,2,261.2,2,260.5,2,11.54,2,24.98,2,0.00,2,1.71,2,3.855,2,2.088,2,0.309,2,4.329,2,2151.0,2,2279.6,2,-999.0,9,-999.00,1,20050908,1932,-56.5165,-89.0031
316N20050821,AAIW,55,1,16,16,2,20050908,1740,-56.5185,-89.0057,558.4,5.0602,34.2151,2,34.2165,2,249.7,2,249.9,2,13.77,2,25.95,2,0.00,2,1.78,2,3.618,2,1.900,2,0.288,2,3.949,2,2158.4,2,2280.5,2,-999.0,9,-999.00,1,20050908,1931,-56.5164,-89.0028
316N20050821,AAIW,55,1,15,15,2,20050908,1740,-56.5185,-89.0057,647.3,4.6673,34.2245,2,34.2224,2,238.5,2,240.8,2,18.06,2,27.49,2,0.00,2,1.89,2,3.317,2,1.713,2,0.268,2,3.655,2,2169.3,2,2282.2,2,-999.0,9,-999.00,1,20050908,1928,-56.5162,-89.0026
316N20050821,AAIW,55,1,14,14,2,20050908,1740,-56.5185,-89.0057,747.3,4.3164,34.2714,2,34.2718,2,220.4,2,220.6,2,26.04,2,29.82,2,0.00,2,2.04,2,2.645,2,1.365,2,0.200,2,2.994,2,2187.0,2,2294.5,2,-999.0,9,-999.00,1,20050908,1926,-56.5159,-89.0024
316N20050821,AAIW,55,1,13,13,2,20050908,1740,-56.5185,-89.0057,848.8,3.9143,34.2999,2,34.3013,2,211.9,2,211.5,2,32.81,2,31.24,2,0.00,2,2.15,2,2.205,2,1.096,2,0.143,2,2.585,2,2198.8,2,2296.4,2,-999.0,9,-999.00,1,20050908,1922,-56.5157,-89.0019
316N20050821,AAIW,55,1,12,12,2,20050908,1740,-56.5185,-89.0057,948.7,3.4583,34.3220,2,34.3244,4,205.4,2,204.7,2,40.18,2,32.50,2,0.00,2,2.19,2,1.916,2,0.979,2,0.146,2,2.404,2,2211.4,2,2302.6,2,-999.0,9,-999.00,1,20050908,1920,-56.5154,-89.0016
316N20050821,AAIW,55,1,11,11,2,20050908,1740,-56.5185,-89.0057,1147.3,2.9482,34.4096,2,34.4124,4,189.1,2,187.5,2,54.80,2,33.87,2,0.00,2,2.32,2,1.194,2,0.601,2,0.080,2,1.580,2,2232.2,2,2316.7,2,-999.0,9,-999.00,1,20050908,1915,-56.5152,-89.0016
316N20050821,AAIW,55,1,10,10,2,20050908,1740,-56.5185,-89.0057,1350.5,2.6622,34.4998,2,34.5033,4,176.3,2,175.9,2,66.97,2,34.31,2,0.00,2,2.36,2,0.649,2,0.332,2,0.027,2,0.909,2,2248.4,2,2328.8,2,-999.0,9,-999.00,1,20050908,1910,-56.5150,-89.0017
316N20050821,AAIW,55,1,9,9,2,20050908,1740,-56.5185,-89.0057,1650.8,2.4123,34.6076,2,34.6128,4,171.2,2,170.5,2,77.52,2,33.82,2,0.00,2,2.34,2,0.352,6,0.180,6,0.015,6,0.514,6,2258.2,2,2340.1,2,-999.0,9,-999.00,1,20050908,1904,-56.5148,-89.0020
316N20050821,AAIW,55,1,8,8,2,20050908,1740,-56.5185,-89.0057,1952.1,2.2305,34.6737,2,34.6775,4,173.2,2,173.0,2,85.39,2,33.07,2,0.00,2,2.26,2,0.164,2,0.070,2,0.015,2,0.231,2,2261.3,2,2348.0,2,-999.0,9,-999.00,1,20050908,1858,-56.5146,-89.0025
316N20050821,AAIW,55,1,7,7,2,20050908,1740,-56.5185,-89.0057,2455.2,1.8925,34.7180,2,34.7175,4,182.0,2,181.5,2,95.77,2,32.24,2,0.00,2,2.22,2,0.087,2,0.040,2,0.000,2,0.115,2,2263.2,2,2358.0,2,-999.0,9,-999.00,1,20050908,1849,-56.5140,-89.0031
316N20050821,AAIW,55,1,6,6,2,20050908,1740,-56.5185,-89.0057,2960.9,1.5413,34.7238,2,34.7312,4,190.2,2,189.7,2,106.18,2,32.14,2,0.00,2,2.21,2,0.047,2,0.026,2,0.000,2,0.042,2,2264.1,2,2363.8,2,-999.0,9,-999.00,1,20050908,1839,-56.5133,-89.0034
316N20050821,AAIW,55,1,5,5,2,20050908,1740,-56.5185,-89.0057,3465.8,1.2430,34.7212,2,34.7336,4,198.0,2,197.8,2,113.28,2,31.99,2,0.00,2,2.19,2,0.071,2,0.035,2,0.000,2,0.089,2,2263.5,2,2363.7,2,-999.0,9,-999.00,1,20050908,1830,-56.5128,-89.0033
316N20050821,AAIW,55,1,4,4,2,20050908,1740,-56.5185,-89.0057,3966.6,0.9179,34.7126,2,34.7202,4,203.9,2,203.9,2,124.16,2,32.48,2,0.00,2,2.22,2,0.076,2,0.041,2,0.000,2,0.126,2,2264.4,2,2362.6,2,-999.0,9,-999.00,1,20050908,1820,-56.5131,-89.0027
316N20050821,AAIW,55,1,3,3,2,20050908,1740,-56.5185,-89.0057,4472.8,0.6515,34.7076,2,34.7137,4,209.2,2,209.1,2,132.76,2,32.62,2,0.00,2,2.24,2,0.078,2,0.034,2,0.000,2,0.200,2,2265.9,2,2364.5,2,-999.0,9,-999.00,1,20050908,1810,-56.5123,-89.0032
316N20050821,AAIW,55,1,2,2,2,20050908,1740,-56.5185,-89.0057,4979.8,0.6115,34.7063,2,34.7117,4,210.7,2,210.8,2,136.74,2,32.82,2,0.00,2,2.25,2,0.087,2,0.048,2,0.000,2,0.240,2,2266.1,2,2364.4,2,-999.0,9,-999.00,1,20050908,1759,-56.5115,-89.0023
316N20050821,AAIW,55,1,1,1,2,20050908,1740,-56.5185,-89.0057,5504.0,0.6402,34.7053,2,34.7088,4,212.9,2,211.5,2,137.99,2,32.67,2,0.00,2,2.25,2,0.120,2,0.077,2,0.000,2,0.330,2,2265.7,6,2363.9,2,-999.0,9,-999.00,1,20050908,1740,-56.5103,-88.9995
316N20050821,AAIW,56,1,24,24,2,20050909,50,-56.0221,-88.9777,17.2,5.0470,34.1540,2,34.1551,2,301.6,2,300.4,2,5.14,2,20.99,2,0.05,2,1.51,2,4.712,2,2.539,2,0.450,2,6.102,2,2125.1,2,2273.7,2,-999.0,9,-999.00,1,20050909,254,-56.0221,-88.9777
316N20050821,AAIW,56,1,23,23,2,20050909,50,-56.0221,-88.9777,66.9,5.0473,34.1537,2,34.1547,2,301.6,2,300.2,2,4.92,2,20.94,2,0.05,2,1.47,2,4.663,2,2.582,2,0.445,2,6.134,2,-999.0,9,2273.2,2,-999.0,9,-999.00,1,20050909,252,-56.0219,-88.9779
316N20050821,AAIW,56,1,22,22,2,20050909,50,-56.0221,-88.9777,126.6,5.0440,34.1530,2,34.1555,2,300.7,2,300.0,2,4.90,2,20.99,2,0.05,2,1.48,2,4.639,2,2.584,2,0.448,2,6.115,2,-999.0,9,2273.2,2,-999.0,9,-999.00,1,20050909,249,-56.0215,-88.9781
316N20050821,AAIW,56,1,21,21,2,20050909,50,-56.0221,-88.9777,226.3,5.0504,34.1529,2,34.1537,2,299.8,2,300.1,2,4.89,2,20.99,2,0.05,2,1.48,2,4.648,2,2.589,2,0.445,2,5.987,2,-999.0,9,2273.3,2,-999.0,9,-999.00,1,20050909,245,-56.0213,-88.9783
316N20050821,AAIW,56,1,20,20,2,20050909,50,-56.0221,-88.9777,326.3,4.8460,34.1306,2,34.1326,2,295.4,2,294.9,2,5.90,2,22.06,2,0.03,2,1.54,2,4.636,2,2.460,2,0.425,2,5.952,2,2127.1,2,2274.1,2,-999.0,9,-999.00,1,20050909,242,-56.0209,-88.9787
316N20050821,AAIW,56,1,19,19,2,20050909,50,-56.0221,-88.9777,386.0,4.7550,34.1319,2,34.1330,2,284.5,2,284.9,2,7.94,2,23.24,2,0.01,2,1.61,2,4.445,2,2.420,2,0.424,2,5.537,2,2134.4,2,2274.5,2,-999.0,9,-999.00,1,20050909,239,-56.0205,-88.9790
316N20050821,AAIW,56,1,18,18,2,20050909,50,-56.0221,-88.9777,436.1,4.8925,34.1691,2,34.1699,2,267.6,2,266.9,2,10.59,2,24.54,2,0.01,2,1.70,2,4.080,2,2.182,2,0.342,2,4.731,2,2144.5,2,2277.5,2,-999.0,9,-999.00,1,20050909,236,-56.0203,-88.9792
316N20050821,AAIW,56,1,17,17,2,20050909,50,-56.0221,-88.9777,486.5,4.9265,34.1946,2,34.1940,2,255.7,2,255.4,2,13.03,2,25.65,2,0.00,2,1.76,2,3.833,2,2.039,2,0.336,2,4.324,2,2152.6,2,2278.4,2,-999.0,9,-999.00,1,20050909,234,-56.0200,-88.9794
316N20050821,AAIW,56,1,16,16,2,20050909,50,-56.0221,-88.9777,516.5,4.8970,34.2091,2,34.2063,2,250.2,2,250.3,2,14.45,2,26.18,2,0.00,2,1.80,2,3.624,2,1.924,2,0.295,2,4.037,2,2156.4,2,2280.0,2,-999.0,9,-999.00,1,20050909,232,-56.0198,-88.9796
316N20050821,AAIW,56,1,15,15,2,20050909,50,-56.0221,-88.9777,586.2,4.8016,34.2406,2,34.2424,2,235.2,2,235.7,2,18.13,2,27.49,2,0.00,2,1.88,2,3.160,2,1.656,2,0.245,2,3.488,2,2166.8,2,2283.9,2,-999.0,9,-999.00,1,20050909,229,-56.0195,-88.9799
316N20050821,AAIW,56,1,14,14,2,20050909,50,-56.0221,-88.9777,656.0,4.5403,34.2476,2,34.2520,2,229.7,2,229.5,2,21.40,2,28.56,2,0.00,2,1.94,2,2.994,2,1.544,2,0.241,2,3.395,2,2174.3,2,2285.1,2,-999.0,9,-999.00,1,20050909,226,-56.0192,-88.9801
316N20050821,AAIW,56,1,13,13,2,20050909,50,-56.0221,-88.9777,715.4,4.4083,34.2683,2,34.2715,2,222.1,2,222.7,2,24.46,2,29.19,2,0.00,2,2.01,2,2.690,2,1.381,2,0.220,2,3.078,2,2181.7,2,2288.2,2,-999.0,9,-999.00,1,20050909,224,-56.0190,-88.9803
316N20050821,AAIW,56,1,12,12,2,20050909,50,-56.0221,-88.9777,815.4,4.0289,34.2923,2,34.2927,2,214.1,2,214.0,2,30.61,2,30.65,2,0.00,2,2.10,2,2.287,2,1.167,2,0.179,2,2.669,2,2192.6,2,2293.8,2,-999.0,9,-999.00,1,20050909,221,-56.0185,-88.9806
316N20050821,AAIW,56,1,11,11,2,20050909,50,-56.0221,-88.9777,914.5,3.6174,34.3152,2,34.3164,2,207.5,2,206.8,2,37.39,2,31.87,2,0.00,2,2.18,2,1.970,2,0.981,2,0.167,2,2.367,2,2203.8,2,2298.9,2,-999.0,9,-999.00,1,20050909,217,-56.0182,-88.9810
316N20050821,AAIW,56,1,10,10,2,20050909,50,-56.0221,-88.9777,1064.2,3.1696,34.3624,2,34.3616,2,196.6,2,196.1,2,47.26,2,33.10,2,0.00,2,2.26,2,1.490,2,0.761,2,0.121,2,1.869,2,2218.4,6,2309.1,2,-999.0,9,-999.00,1,20050909,213,-56.0176,-88.9816
316N20050821,AAIW,56,1,9,9,2,20050909,50,-56.0221,-88.9777,1312.4,2.7410,34.4698,2,34.4725,3,179.2,2,179.0,2,62.73,2,34.12,2,0.00,2,2.35,2,0.848,2,0.432,2,0.060,2,1.118,2,-999.0,9,2324.2,2,-999.0,9,-999.00,1,20050909,207,-56.0169,-88.9823
316N20050821,AAIW,56,1,8,8,2,20050909,50,-56.0221,-88.9777,1611.6,2.4630,34.5881,2,34.5910,2,170.3,2,169.9,2,76.18,2,33.97,2,0.00,2,2.34,2,0.359,6,0.174,6,0.008,6,0.553,6,-999.0,9,2338.4,2,-999.0,9,-999.00,1,20050909,200,-56.0161,-88.9832
316N20050821,AAIW,56,1,7,7,2,20050909,50,-56.0221,-88.9777,2111.2,2.1441,34.6930,2,34.6963,3,175.6,2,175.7,2,87.58,2,32.45,2,0.00,2,2.25,2,0.134,2,0.066,2,0.000,2,0.188,2,-999.0,9,2350.2,2,-999.0,9,-999.00,1,20050909,150,-56.0151,-88.9843
316N20050821,AAIW,56,1,6,6,2,20050909,50,-56.0221,-88.9777,2612.2,1.7778,34.7192,2,34.7193,2,182.7,2,182.8,2,100.05,2,32.16,2,0.00,2,2.19,2,0.056,2,0.036,2,0.000,2,0.050,2,-999.0,9,2361.1,2,-999.0,9,-999.00,1,20050909,140,-56.0140,-88.9853
316N20050821,AAIW,56,1,5,5,2,20050909,50,-56.0221,-88.9777,3117.4,1.4963,34.7235,2,34.7222,2,191.0,2,191.1,2,107.13,2,32.01,2,0.00,2,2.19,2,0.043,2,0.031,2,0.000,2,0.029,2,-999.0,9,2362.4,2,-999.0,9,-999.00,1,20050909,130,-56.0129,-88.9865
316N20050821,AAIW,56,1,4,4,2,20050909,50,-56.0221,-88.9777,3625.1,1.1552,34.7183,2,34.7183,2,198.6,2,199.3,2,116.31,2,31.96,2,0.00,2,2.21,2,0.064,2,0.039,2,0.000,2,0.062,2,-999.0,9,2362.0,2,-999.0,9,-999.00,1,20050909,120,-56.0118,-88.9877
316N20050821,AAIW,56,1,3,3,2,20050909,50,-56.0221,-88.9777,4137.0,0.7894,34.7099,2,34.7094,2,204.8,2,206.0,2,128.46,2,32.45,2,0.00,2,2.20,2,0.069,2,0.040,2,0.000,2,0.295,4,-999.0,9,2364.0,2,-999.0,9,-999.00,1,20050909,110,-56.0106,-88.9890
316N20050821,AAIW,56,1,2,2,2,20050909,50,-56.0221,-88.9777,4647.7,0.6271,34.7070,2,34.7063,2,208.6,2,209.7,2,134.32,2,32.60,2,0.00,2,2.22,2,0.062,2,0.039,2,0.000,2,0.161,2,-999.0,9,2364.5,2,-999.0,9,-999.00,1,20050909,101,-56.0097,-88.9899
316N20050821,AAIW,56,1,1,1,2,20050909,50,-56.0221,-88.9777,5144.6,0.6360,34.7059,2,34.7041,2,212.5,2,210.6,2,136.40,2,32.60,2,0.00,2,2.22,2,0.084,2,0.046,2,0.000,2,0.186,2,-999.0,9,2364.0,2,-999.0,9,-999.00,1,20050909,50,-56.0089,-88.9907
316N20050821,AAIW,57,1,24,24,2,20050909,748,-55.5320,-88.9957,11.8,5.1645,34.1737,2,34.1753,2,301.3,2,300.1,2,5.01,2,20.44,2,0.07,2,1.44,2,4.638,2,2.508,2,0.433,2,6.073,2,2122.5,2,2273.0,2,-999.0,9,-999.00,1,20050909,948,-55.5320,-88.9957
316N20050821,AAIW,57,1,23,23,2,20050909,748,-55.5320,-88.9957,51.8,5.1649,34.1735,2,34.1747,2,299.6,2,300.0,2,4.96,2,20.54,2,0.07,2,1.43,2,4.630,2,2.517,2,0.438,2,5.928,2,2122.8,2,2273.5,2,-999.0,9,-999.00,1,20050909,945,-55.5316,-88.9955
316N20050821,AAIW,57,1,22,22,2,20050909,748,-55.5320,-88.9957,96.0,5.1605,34.1740,2,34.1766,2,299.6,2,299.6,2,4.91,2,20.49,2,0.07,2,1.44,2,4.637,2,2.576,2,0.443,2,5.838,2,2124.0,2,2272.7,2,-999.0,9,-999.00,1,20050909,943,-55.5311,-88.9952
316N20050821,AAIW,57,1,21,21,2,20050909,748,-55.5320,-88.9957,146.2,5.1574,34.1736,2,34.1743,2,299.9,2,299.0,2,5.07,2,20.58,2,0.07,2,1.44,2,4.584,2,2.555,2,0.439,2,5.750,2,2123.3,2,2273.8,2,-999.0,9,-999.00,1,20050909,941,-55.5307,-88.9950
316N20050821,AAIW,57,1,20,20,2,20050909,748,-55.5320,-88.9957,195.8,5.1617,34.1738,2,34.1750,2,299.7,2,298.9,2,5.02,2,20.53,2,0.07,2,1.44,2,4.664,2,2.590,2,0.435,2,5.892,2,2121.9,2,2273.9,2,-999.0,9,-999.00,1,20050909,938,-55.5302,-88.9950
316N20050821,AAIW,57,1,19,19,2,20050909,748,-55.5320,-88.9957,245.5,5.1677,34.1743,2,34.1754,2,299.1,2,298.4,2,4.97,2,20.53,2,0.07,2,1.44,2,4.607,2,2.579,2,0.429,2,5.799,2,2121.5,2,2273.3,2,-999.0,9,-999.00,1,20050909,935,-55.5299,-88.9952
316N20050821,AAIW,57,1,18,18,2,20050909,748,-55.5320,-88.9957,344.4,5.1824,34.1776,2,34.1784,2,296.6,2,297.4,2,5.12,2,20.73,2,0.07,2,1.44,2,4.587,2,2.579,2,0.409,2,5.688,2,2123.2,2,2272.8,2,-999.0,9,-999.00,1,20050909,932,-55.5293,-88.9958
316N20050821,AAIW,57,1,17,17,2,20050909,748,-55.5320,-88.9957,443.4,5.2086,34.1933,2,34.1952,2,284.8,2,285.6,2,7.32,2,22.23,2,0.01,2,1.54,2,4.456,2,2.449,2,0.392,2,5.053,2,2132.6,2,2275.6,2,-999.0,9,-999.00,1,20050909,929,-55.5287,-88.9961
316N20050821,AAIW,57,1,16,16,2,20050909,748,-55.5320,-88.9957,541.8,5.0458,34.1914,2,34.1911,2,273.9,2,274.8,2,9.52,2,23.69,2,0.00,2,1.62,2,4.206,2,2.288,2,0.360,2,4.601,2,2139.8,2,2276.1,2,-999.0,9,-999.00,1,20050909,925,-55.5281,-88.9963
316N20050821,AAIW,57,1,15,15,2,20050909,748,-55.5320,-88.9957,640.2,4.7656,34.1952,2,34.1952,2,258.4,2,258.2,2,13.36,2,25.78,2,0.00,2,1.76,2,3.755,2,1.996,2,0.307,2,4.034,2,2152.1,2,2279.0,2,-999.0,9,-999.00,1,20050909,922,-55.5276,-88.9964
316N20050821,AAIW,57,1,14,14,2,20050909,748,-55.5320,-88.9957,738.5,4.5290,34.2299,2,34.2322,2,236.9,2,236.9,2,19.45,2,28.07,2,0.00,2,1.90,2,3.129,2,1.615,2,0.231,2,3.348,2,2169.9,2,2283.2,2,-999.0,9,-999.00,1,20050909,919,-55.5270,-88.9966
316N20050821,AAIW,57,1,13,13,2,20050909,748,-55.5320,-88.9957,834.7,4.3103,34.2775,2,34.2772,2,218.5,2,218.4,2,26.38,2,29.73,2,0.00,2,2.01,2,2.523,2,1.271,2,0.186,2,2.772,2,2185.2,2,2289.7,2,-999.0,9,-999.00,1,20050909,916,-55.5265,-88.9968
316N20050821,AAIW,57,1,12,12,2,20050909,748,-55.5320,-88.9957,933.1,3.8333,34.2953,2,34.2952,2,211.7,2,211.7,2,32.90,2,31.15,2,0.00,2,2.12,2,2.074,2,1.075,2,0.146,2,2.367,2,2195.0,2,2295.9,2,-999.0,9,-999.00,1,20050909,912,-55.5259,-88.9968
316N20050821,AAIW,57,1,11,11,2,20050909,748,-55.5320,-88.9957,1129.3,3.1765,34.3674,2,34.3673,2,194.5,2,194.5,2,47.66,2,33.02,2,0.00,2,2.27,2,1.327,2,0.662,2,0.079,2,1.674,2,2220.1,2,2309.5,2,-999.0,9,-999.00,1,20050909,908,-55.5251,-88.9966
316N20050821,AAIW,57,1,10,10,2,20050909,748,-55.5320,-88.9957,1325.3,2.8126,34.4474,2,34.4484,2,182.9,2,181.6,2,60.40,2,33.95,2,0.00,2,2.32,2,0.918,2,0.452,2,0.060,2,1.233,2,2237.9,2,2322.0,2,-999.0,9,-999.00,1,20050909,903,-55.5244,-88.9967
316N20050821,AAIW,57,1,9,9,2,20050909,748,-55.5320,-88.9957,1522.0,2.5748,34.5376,2,34.5370,2,173.1,2,172.2,2,71.31,2,34.19,2,0.00,2,2.35,2,0.527,2,0.254,2,0.010,2,0.687,2,2251.7,2,2331.9,2,-999.0,9,-999.00,1,20050909,858,-55.5237,-88.9966
316N20050821,AAIW,57,1,8,8,2,20050909,748,-55.5320,-88.9957,1718.2,2.4354,34.6016,2,34.6014,2,169.4,2,168.3,2,78.31,2,33.83,2,0.00,2,2.33,2,0.298,2,0.147,2,0.000,2,0.372,2,2258.3,2,2341.8,2,-999.0,9,-999.00,1,20050909,853,-55.5229,-88.9969
316N20050821,AAIW,57,1,7,7,2,20050909,748,-55.5320,-88.9957,2014.7,2.2354,34.6676,2,34.6682,3,170.6,2,170.1,2,86.98,2,33.15,2,0.00,2,2.27,2,0.116,2,0.070,2,0.000,2,0.144,2,2265.0,2,2350.3,2,-999.0,9,-999.00,1,20050909,847,-55.5219,-88.9973
316N20050821,AAIW,57,1,6,6,2,20050909,748,-55.5320,-88.9957,2515.2,1.9042,34.7160,2,34.7171,3,181.0,2,180.5,2,96.09,2,32.11,2,0.00,2,2.20,2,0.071,2,0.048,2,0.000,2,0.052,2,2264.3,2,2358.9,2,-999.0,9,-999.00,1,20050909,837,-55.5204,-88.9978
316N20050821,AAIW,57,1,5,5,2,20050909,748,-55.5320,-88.9957,3017.5,1.5679,34.7243,2,34.7249,3,189.9,2,189.6,2,104.80,2,31.90,2,0.00,2,2.18,2,0.059,2,0.038,2,0.000,2,0.031,2,2264.2,2,2361.2,2,-999.0,9,-999.00,1,20050909,827,-55.5188,-88.9980
316N20050821,AAIW,57,1,4,4,2,20050909,748,-55.5320,-88.9957,3521.9,1.2863,34.7218,2,34.7224,3,197.0,2,197.1,2,112.27,2,31.95,2,0.00,2,2.19,2,0.080,6,0.039,6,0.000,6,0.057,6,2262.5,2,2361.4,2,-999.0,9,-999.00,1,20050909,818,-55.5174,-88.9980
316N20050821,AAIW,57,1,3,3,2,20050909,748,-55.5320,-88.9957,4027.6,0.9039,34.7121,2,34.7118,2,203.6,2,203.5,2,125.01,2,32.25,2,0.00,2,2.21,2,0.057,2,0.035,2,0.000,2,0.078,2,2266.1,2,2365.5,2,-999.0,9,-999.00,1,20050909,808,-55.5162,-88.9983
316N20050821,AAIW,57,1,2,2,2,20050909,748,-55.5320,-88.9957,4540.6,0.6684,34.7079,2,34.7071,2,209.1,2,208.9,2,133.36,2,32.49,2,0.00,2,2.22,2,0.045,2,0.028,2,0.000,2,0.109,2,2266.5,2,2367.3,2,-999.0,9,-999.00,1,20050909,758,-55.5148,-88.9996
316N20050821,AAIW,57,1,1,1,2,20050909,748,-55.5320,-88.9957,5050.5,0.6548,34.7065,2,34.7064,2,212.8,2,210.0,2,135.64,2,32.53,2,0.00,2,2.23,2,0.060,2,0.037,2,0.000,2,0.156,2,2267.2,2,2366.0,2,-999.0,9,-999.00,1,20050909,748,-55.5134,-89.0008