BOTTLE,20220819CCHSIOAMB
EXPOCODE,SECT_ID,STNNBR,CASTNO,SAMPNO,BTLNBR,BTLNBR_FLAG_W,DATE,TIME,LATITUDE,LONGITUDE,CTDPRS,CTDTMP,CTDSAL,CTDSAL_FLAG_W,SALNTY,SALNTY_FLAG_W,CTDOXY,CTDOXY_FLAG_W,OXYGEN,OXYGEN_FLAG_W,SILCAT,SILCAT_FLAG_W,NITRAT,NITRAT_FLAG_W,NITRIT,NITRIT_FLAG_W,PHSPHT,PHSPHT_FLAG_W,CFC-11,CFC-11_FLAG_W,CFC-12,CFC-12_FLAG_W,CFC113,CFC113_FLAG_W,CCL4,CCL4_FLAG_W,TCARBN,TCARBN_FLAG_W,ALKALI,ALKALI_FLAG_W,PCO2,PCO2_FLAG_W,PH_SWS,PH_SWS_FLAG_W,BTL_DATE,BTL_TIME,BTL_LAT,BTL_LON
,,,,,,,,,,,DBAR,ITS-90,PSS-78,,PSS-78,,UMOL/KG,,UMOL/KG,,UMOL/KG,,UMOL/KG,,UMOL/KG,,UMOL/KG,,PMOL/KG,,PMOL/KG,,PMOL/KG,,PMOL/KG,,UMOL/KG,,UMOL/KG,,UATM,,,,,,,
316N20050821,AAIW,49,1,24,24,2,20050906,2028,-59.4644,-89.0464,18.0,3.2330,34.0269,2,34.0285,2,313.3,2,314.6,2,9.26,2,24.02,2,0.06,2,1.71,2,5.192,2,2.855,2,0.555,2,6.743,2,2137.5,6,2275.1,2,-999.0,9,-999.00,1,20050906,2224,-59.4644,-89.0464
316N20050821,AAIW,49,1,23,23,2,20050906,2028,-59.4644,-89.0464,37.6,3.2408,34.0274,2,34.0291,2,313.7,2,313.9,2,9.26,2,24.12,2,0.06,2,1.70,2,5.143,2,2.934,2,0.542,2,6.846,2,2137.2,2,2275.0,2,-999.0,9,-999.00,1,20050906,2222,-59.4647,-89.0461
316N20050821,AAIW,49,1,22,22,2,20050906,2028,-59.4644,-89.0464,76.3,2.8638,34.0068,2,34.0082,2,316.5,2,317.2,2,9.67,2,24.51,2,0.05,2,1.72,2,5.256,2,2.968,2,0.555,2,6.932,2,2177.0,3,2274.4,2,-999.0,9,-999.00,1,20050906,2219,-59.4651,-89.0456
316N20050821,AAIW,49,1,21,21,2,20050906,2028,-59.4644,-89.0464,115.2,2.8273,34.0084,2,34.0105,2,314.0,2,313.8,2,9.48,2,24.71,2,0.04,2,1.74,2,5.181,2,2.891,2,0.546,2,6.729,2,2141.8,2,2275.9,2,-999.0,9,-999.00,1,20050906,2217,-59.4656,-89.0457
316N20050821,AAIW,49,1,20,20,2,20050906,2028,-59.4644,-89.0464,165.9,2.8001,34.0093,2,34.0111,2,312.8,2,312.7,2,10.09,2,24.89,2,0.05,2,1.75,2,5.177,2,2.941,2,0.540,2,6.874,2,2141.1,2,2275.1,2,-999.0,9,-999.00,1,20050906,2214,-59.4662,-89.0457
316N20050821,AAIW,49,1,19,19,2,20050906,2028,-59.4644,-89.0464,215.2,2.7267,34.0057,2,34.0074,2,312.8,2,313.2,2,10.30,2,25.01,2,0.04,2,1.76,2,5.233,2,2.905,2,0.543,2,6.913,2,2143.4,2,2274.0,2,-999.0,9,-999.00,1,20050906,2211,-59.4667,-89.0453
316N20050821,AAIW,49,1,18,18,2,20050906,2028,-59.4644,-89.0464,265.2,2.6902,34.0109,2,34.0115,2,307.5,2,308.5,2,11.72,2,25.55,2,0.02,2,1.79,2,5.125,2,2.838,2,0.545,2,6.676,2,2146.5,2,2275.9,2,-999.0,9,-999.00,1,20050906,2207,-59.4673,-89.0451
316N20050821,AAIW,49,1,17,17,3,20050906,2028,-59.4644,-89.0464,321.8,3.0318,34.0796,2,34.0113,4,279.1,2,306.5,4,11.72,4,25.59,4,0.02,4,1.80,4,5.126,4,2.917,4,0.528,4,6.492,4,2145.9,4,2275.5,4,-999.0,9,-999.00,1,20050906,2204,-59.4677,-89.0447
316N20050821,AAIW,49,1,16,16,2,20050906,2028,-59.4644,-89.0464,419.3,2.9761,34.1454,2,34.1504,2,258.8,2,260.3,2,24.67,2,29.20,2,0.00,2,2.03,2,3.942,2,2.166,2,0.369,2,4.619,2,2178.4,2,2285.6,2,-999.0,9,-999.00,1,20050906,2201,-59.4682,-89.0444
316N20050821,AAIW,49,1,15,15,2,20050906,2028,-59.4644,-89.0464,496.8,2.3401,34.1409,2,34.1430,2,-999.0,9,268.3,3,28.73,2,29.92,2,0.00,2,2.09,2,4.126,2,2.275,2,0.382,2,4.885,2,2183.4,2,2288.0,2,-999.0,9,-999.00,1,20050906,2158,-59.4687,-89.0442
316N20050821,AAIW,49,1,14,14,2,20050906,2028,-59.4644,-89.0464,574.2,2.4342,34.2061,2,34.2074,2,245.3,2,245.4,2,34.61,2,31.08,2,0.00,2,2.16,2,3.416,2,1.853,2,0.307,2,4.102,2,2196.7,2,2293.6,2,-999.0,9,-999.00,1,20050906,2156,-59.4691,-89.0437
316N20050821,AAIW,49,1,13,13,2,20050906,2028,-59.4644,-89.0464,669.6,2.7481,34.3220,2,34.3220,2,207.4,2,207.3,2,46.39,2,32.94,2,0.00,2,2.29,2,2.092,2,1.100,2,0.170,2,2.524,2,2219.8,2,2305.4,2,-999.0,9,-999.00,1,20050906,2153,-59.4694,-89.0432
316N20050821,AAIW,49,1,12,12,2,20050906,2028,-59.4644,-89.0464,765.9,2.7172,34.3953,2,34.3948,2,190.7,2,191.0,2,54.54,2,33.57,2,0.00,2,2.35,2,1.472,2,0.738,2,0.107,2,1.854,2,2232.7,2,2315.1,2,-999.0,9,-999.00,1,20050906,2150,-59.4699,-89.0428
316N20050821,AAIW,49,1,11,11,2,20050906,2028,-59.4644,-89.0464,860.6,2.6270,34.4542,2,34.4519,2,182.1,2,183.0,2,60.87,2,33.91,2,0.00,2,2.37,2,1.063,2,0.536,2,0.057,2,1.389,2,2241.0,2,2321.6,2,-999.0,9,-999.00,1,20050906,2148,-59.4701,-89.0420
316N20050821,AAIW,49,1,10,10,2,20050906,2028,-59.4644,-89.0464,958.3,2.5210,34.5049,2,34.5044,2,177.0,2,176.7,2,66.99,2,33.86,2,0.00,2,2.38,2,0.811,2,0.402,2,0.055,2,1.085,2,2248.5,2,2327.8,2,-999.0,9,-999.00,1,20050906,2145,-59.4706,-89.0416
316N20050821,AAIW,49,1,9,9,2,20050906,2028,-59.4644,-89.0464,1226.0,2.3358,34.6130,2,34.6121,2,172.9,2,172.5,2,77.03,2,33.42,2,0.00,2,2.34,2,0.394,6,0.197,6,0.013,6,0.565,6,2257.4,2,2339.1,2,-999.0,9,-999.00,1,20050906,2139,-59.4716,-89.0409
316N20050821,AAIW,49,1,8,8,9,20050906,2028,-59.4644,-89.0464,1521.5,2.1576,34.6815,2,-999.0000,9,-999.0,9,-999.0,9,-999.00,9,-999.00,9,-999.00,9,-999.00,9,-999.000,9,-999.000,9,-999.000,9,-999.000,9,-999.0,9,-999.0,9,-999.0,9,-999.00,9,20050906,2133,-59.4725,-89.0395
316N20050821,AAIW,49,1,7,7,2,20050906,2028,-59.4644,-89.0464,2010.4,1.8158,34.7275,2,34.7276,2,187.2,2,187.3,2,92.00,2,31.22,2,0.00,2,2.20,2,0.129,2,0.061,2,0.002,2,0.128,2,2256.6,2,2351.5,2,-999.0,9,-999.00,1,20050906,2124,-59.4739,-89.0380
316N20050821,AAIW,49,1,6,6,2,20050906,2028,-59.4644,-89.0464,2989.0,1.1610,34.7202,2,34.7196,2,198.6,2,198.4,2,113.03,2,31.61,2,0.00,2,2.22,2,0.068,2,0.039,2,0.002,2,0.071,2,2263.0,2,2360.8,2,-999.0,9,-999.00,1,20050906,2106,-59.4759,-89.0346
316N20050821,AAIW,49,1,5,5,9,20050906,2028,-59.4644,-89.0464,3288.0,0.9825,34.7150,2,-999.0000,9,-999.0,9,-999.0,9,-999.00,9,-999.00,9,-999.00,9,-999.00,9,-999.000,9,-999.000,9,-999.000,9,-999.000,9,-999.0,9,-999.0,9,-999.0,9,-999.00,9,20050906,2101,-59.4767,-89.0334
316N20050821,AAIW,49,1,4,4,2,20050906,2028,-59.4644,-89.0464,3486.1,0.8932,34.7123,2,34.7119,2,203.8,2,203.3,2,121.52,2,31.90,2,0.00,2,2.23,2,0.103,2,0.056,2,0.002,2,0.138,2,2263.4,2,2360.7,2,-999.0,9,-999.00,1,20050906,2057,-59.4772,-89.0329
316N20050821,AAIW,49,1,3,3,2,20050906,2028,-59.4644,-89.0464,3992.7,0.6226,34.7064,2,34.7068,2,208.7,2,210.2,2,129.21,2,32.10,2,0.00,2,2.25,2,0.141,2,0.069,2,0.002,2,0.249,2,2263.9,2,2360.9,2,-999.0,9,-999.00,1,20050906,2047,-59.4783,-89.0304
316N20050821,AAIW,49,1,2,2,2,20050906,2028,-59.4644,-89.0464,4501.5,0.5085,34.7051,2,34.7041,2,211.6,2,213.5,2,135.26,2,32.25,2,0.00,2,2.26,2,0.150,2,0.071,2,0.002,2,0.280,2,2264.5,2,2361.8,2,-999.0,9,-999.00,1,20050906,2038,-59.4794,-89.0279
316N20050821,AAIW,49,1,1,1,2,20050906,2028,-59.4644,-89.0464,5066.6,0.5304,34.7044,2,34.7047,2,214.7,2,214.4,2,137.14,2,32.19,2,0.00,2,2.26,2,0.175,2,0.083,2,0.002,2,0.336,2,2265.0,6,2361.8,2,-999.0,9,-999.00,1,20050906,2028,-59.4807,-89.0256
316N20050821,AAIW,50,1,24,24,4,20050907,413,-58.9864,-88.9863,10.9,3.1235,33.9968,2,34.0093,3,316.9,2,318.6,2,9.22,2,24.11,2,0.06,2,1.70,2,5.294,2,2.978,2,0.533,2,7.337,2,2135.7,6,2273.5,2,-999.0,9,-999.00,1,20050907,636,-58.9864,-88.9863
316N20050821,AAIW,50,1,23,23,4,20050907,413,-58.9864,-88.9863,32.3,3.0427,34.0074,2,34.0119,2,316.8,2,318.0,2,9.43,2,24.46,2,0.06,2,1.71,2,5.235,2,2.949,2,0.535,2,7.046,2,2138.8,2,2274.4,2,-999.0,9,-999.00,1,20050907,635,-58.9865,-88.9863
316N20050821,AAIW,50,1,22,22,4,20050907,413,-58.9864,-88.9863,61.5,3.0179,34.0068,2,34.0113,2,317.1,2,318.2,2,9.43,2,24.32,2,0.06,2,1.71,2,5.269,2,2.981,2,0.525,2,7.233,2,2136.4,2,2273.9,2,-999.0,9,-999.00,1,20050907,634,-58.9866,-88.9864
316N20050821,AAIW,50,1,21,21,4,20050907,413,-58.9864,-88.9863,92.3,2.9642,34.0059,2,34.0111,2,317.3,2,318.2,2,9.83,2,24.42,2,0.06,2,1.72,2,5.270,2,2.978,2,0.528,2,7.292,2,2138.5,2,2273.9,2,-999.0,9,-999.00,1,20050907,632,-58.9867,-88.9864
316N20050821,AAIW,50,1,20,20,4,20050907,413,-58.9864,-88.9863,121.7,2.8118,34.0053,2,34.0091,2,314.3,2,314.8,2,10.63,2,24.99,2,0.06,2,1.76,2,5.266,2,3.002,2,0.531,2,7.122,2,2141.3,2,2274.9,2,-999.0,9,-999.00,1,20050907,631,-58.9869,-88.9864
316N20050821,AAIW,50,1,19,19,2,20050907,413,-58.9864,-88.9863,185.8,2.7439,34.0231,2,34.0254,2,303.2,2,304.0,2,12.85,2,25.91,2,0.01,2,1.82,2,5.093,2,2.818,2,0.514,2,6.701,2,2147.8,2,2275.7,2,-999.0,9,-999.00,1,20050907,628,-58.9872,-88.9863
316N20050821,AAIW,50,1,18,18,2,20050907,413,-58.9864,-88.9863,244.3,2.6128,34.0279,2,34.0314,2,302.5,2,301.4,2,14.06,2,26.30,2,0.01,2,1.85,2,5.199,2,2.722,2,0.488,2,6.454,2,2150.2,2,2276.8,2,-999.0,9,-999.00,1,20050907,621,-58.9878,-88.9864
316N20050821,AAIW,50,1,17,17,2,20050907,413,-58.9864,-88.9863,296.5,2.6270,34.0589,2,34.0598,2,291.3,2,291.7,2,17.29,2,27.28,2,0.01,2,1.91,2,4.773,2,2.674,2,0.454,2,5.974,2,2158.3,2,2279.3,2,-999.0,9,-999.00,1,20050907,616,-58.9883,-88.9864
316N20050821,AAIW,50,1,16,16,2,20050907,413,-58.9864,-88.9863,396.6,3.0084,34.1867,2,34.1896,2,246.6,2,246.9,2,28.61,2,30.05,2,0.00,2,2.08,2,3.556,2,1.897,2,0.311,2,4.229,2,2185.1,2,2289.0,2,-999.0,9,-999.00,1,20050907,610,-58.9883,-88.9874
316N20050821,AAIW,50,1,15,15,2,20050907,413,-58.9864,-88.9863,496.4,2.6011,34.2033,2,34.2076,2,244.5,2,245.3,2,33.06,2,30.78,2,0.00,2,2.14,2,3.468,2,1.825,2,0.302,2,4.205,2,2192.9,2,2292.5,2,-999.0,9,-999.00,1,20050907,604,-58.9885,-88.9879
316N20050821,AAIW,50,1,14,14,2,20050907,413,-58.9864,-88.9863,596.8,2.6744,34.2839,2,34.2861,2,218.0,2,218.1,2,42.38,2,32.25,2,0.00,2,2.25,2,2.544,2,1.340,2,0.237,2,3.183,2,2210.6,2,2301.3,2,-999.0,9,-999.00,1,20050907,600,-58.9886,-88.9885
316N20050821,AAIW,50,1,13,13,2,20050907,413,-58.9864,-88.9863,696.8,2.7139,34.3566,2,34.3594,2,198.8,2,199.1,2,50.49,2,33.18,2,0.00,2,2.32,2,1.836,2,0.921,2,0.137,2,2.397,2,2223.2,2,2310.0,2,-999.0,9,-999.00,1,20050907,555,-58.9887,-88.9891
316N20050821,AAIW,50,1,12,12,2,20050907,413,-58.9864,-88.9863,796.1,2.6951,34.4208,2,34.4231,2,185.9,2,186.1,2,57.60,2,33.72,2,0.00,2,2.36,2,1.255,2,0.653,2,0.097,2,1.663,2,2235.4,2,2316.8,2,-999.0,9,-999.00,1,20050907,550,-58.9888,-88.9897
316N20050821,AAIW,50,1,11,11,2,20050907,413,-58.9864,-88.9863,895.3,2.5884,34.4749,2,34.4772,2,178.8,2,178.9,2,63.69,2,33.97,2,0.00,2,2.37,2,0.957,6,0.483,6,0.073,6,1.316,6,2241.8,2,2323.5,2,-999.0,9,-999.00,1,20050907,545,-58.9887,-88.9900
316N20050821,AAIW,50,1,10,10,2,20050907,413,-58.9864,-88.9863,995.8,2.5091,34.5216,2,34.5228,2,174.9,2,174.9,2,68.37,2,33.77,2,0.00,2,2.36,2,0.729,2,0.359,2,0.050,2,1.054,2,2250.4,2,2327.9,2,-999.0,9,-999.00,1,20050907,540,-58.9885,-88.9902
316N20050821,AAIW,50,1,9,9,2,20050907,413,-58.9864,-88.9863,1233.7,2.3523,34.6111,2,34.6121,2,171.3,2,171.4,2,76.72,2,33.28,2,0.00,2,2.32,2,0.407,2,0.205,2,0.029,2,0.596,2,2254.9,2,2338.8,2,-999.0,9,-999.00,1,20050907,534,-58.9884,-88.9904
316N20050821,AAIW,50,1,8,8,2,20050907,413,-58.9864,-88.9863,1528.2,2.1906,34.6752,2,34.6766,3,175.4,2,175.0,2,82.64,2,32.36,2,0.00,2,2.26,2,0.234,2,0.106,2,0.016,2,0.338,2,2254.2,2,2343.8,2,-999.0,9,-999.00,1,20050907,527,-58.9893,-88.9912
316N20050821,AAIW,50,1,7,7,2,20050907,413,-58.9864,-88.9863,2043.4,1.7838,34.7264,2,34.7268,2,187.1,2,186.3,2,93.68,2,31.33,2,0.00,2,2.18,2,0.117,2,0.055,2,0.002,2,0.134,2,2256.3,2,2354.6,2,-999.0,9,-999.00,1,20050907,517,-58.9914,-88.9932
316N20050821,AAIW,50,1,6,6,2,20050907,413,-58.9864,-88.9863,2555.9,1.4388,34.7252,2,34.7266,3,193.3,2,192.5,2,105.15,2,31.58,2,0.00,2,2.19,2,0.065,2,0.037,2,0.002,2,0.099,2,2262.0,2,2360.6,2,-999.0,9,-999.00,1,20050907,507,-58.9933,-88.9949
316N20050821,AAIW,50,1,5,5,2,20050907,413,-58.9864,-88.9863,3060.9,1.1540,34.7201,2,34.7196,2,199.3,2,198.8,2,113.58,2,31.64,2,0.00,2,2.21,2,0.079,2,0.046,2,0.002,2,0.122,2,2261.9,2,2360.8,2,-999.0,9,-999.00,1,20050907,457,-58.9938,-88.9956
316N20050821,AAIW,50,1,4,4,2,20050907,413,-58.9864,-88.9863,3567.8,0.8804,34.7123,2,34.7113,2,203.6,2,204.1,2,122.01,2,31.93,2,0.00,2,2.25,2,0.092,2,0.050,2,0.002,2,0.129,2,2263.1,2,2361.7,2,-999.0,9,-999.00,1,20050907,447,-58.9942,-88.9960
316N20050821,AAIW,50,1,3,3,2,20050907,413,-58.9864,-88.9863,4075.6,0.6088,34.7071,2,34.7066,2,208.1,2,209.2,2,131.09,2,32.22,2,0.00,2,2.24,2,0.107,2,0.048,2,0.002,2,0.245,2,2264.5,2,2362.8,2,-999.0,9,-999.00,1,20050907,436,-58.9946,-88.9968
316N20050821,AAIW,50,1,2,2,2,20050907,413,-58.9864,-88.9863,4583.9,0.5407,34.7057,2,34.7060,2,210.3,2,211.7,2,135.84,2,32.28,2,0.00,2,2.25,2,0.139,2,0.067,2,0.002,2,0.295,2,2263.7,2,2361.8,2,-999.0,9,-999.00,1,20050907,426,-58.9951,-88.9977
316N20050821,AAIW,50,1,1,1,2,20050907,413,-58.9864,-88.9863,5123.4,0.5602,34.7047,2,34.7072,3,213.5,2,212.7,2,136.44,2,32.09,2,0.00,2,2.25,2,0.160,2,0.079,2,0.002,2,0.355,2,2263.2,6,2361.6,2,-999.0,9,-999.00,1,20050907,413,-58.9956,-88.9987
316N20050821,AAIW,51,1,24,24,4,20050907,1146,-58.5234,-88.9653,5.6,4.6097,34.1097,2,34.1121,2,302.4,2,302.4,2,5.75,2,21.73,2,0.04,2,1.54,2,4.755,2,2.739,2,0.423,2,5.786,2,2125.5,6,2272.1,2,-999.0,9,-999.00,1,20050907,1343,-58.5234,-88.9653
316N20050821,AAIW,51,1,23,23,2,20050907,1146,-58.5234,-88.9653,45.1,4.6218,34.1104,2,34.1142,2,302.5,2,302.2,2,5.75,2,21.64,2,0.04,2,1.54,2,4.711,2,2.699,2,0.432,2,5.680,2,2127.2,2,2272.8,2,-999.0,9,-999.00,1,20050907,1341,-58.5232,-88.9658
316N20050821,AAIW,51,1,22,22,2,20050907,1146,-58.5234,-88.9653,84.0,4.6308,34.1117,2,34.1136,2,302.1,2,301.9,2,5.95,2,21.64,2,0.04,2,1.54,2,4.607,6,2.706,6,0.426,6,5.373,6,2126.7,2,2272.1,2,-999.0,9,-999.00,1,20050907,1338,-58.5228,-88.9664
316N20050821,AAIW,51,1,21,21,2,20050907,1146,-58.5234,-88.9653,115.0,4.6353,34.1119,2,34.1148,2,301.7,2,301.6,2,5.74,2,21.70,2,0.04,2,1.54,2,4.561,2,2.664,2,0.430,2,5.408,2,2127.4,2,2273.4,2,-999.0,9,-999.00,1,20050907,1336,-58.5225,-88.9666
316N20050821,AAIW,51,1,20,20,2,20050907,1146,-58.5234,-88.9653,174.4,4.6404,34.1119,2,34.0183,4,301.7,2,301.6,2,5.73,2,21.75,2,0.04,2,1.54,2,4.664,2,2.656,2,0.429,2,5.428,2,2127.1,2,2273.0,2,-999.0,9,-999.00,1,20050907,1333,-58.5222,-88.9671
316N20050821,AAIW,51,1,19,19,2,20050907,1146,-58.5234,-88.9653,233.2,4.6466,34.1126,2,34.1165,2,301.4,2,301.3,2,5.73,2,21.70,2,0.04,2,1.54,2,4.608,2,2.684,2,0.436,2,5.398,2,2127.9,2,2274.0,2,-999.0,9,-999.00,1,20050907,1330,-58.5219,-88.9677
316N20050821,AAIW,51,1,18,18,2,20050907,1146,-58.5234,-88.9653,301.4,4.6556,34.1139,2,34.1160,2,301.0,2,301.0,2,5.93,2,21.76,2,0.03,2,1.54,2,4.546,2,2.636,2,0.437,2,5.124,2,2127.4,2,2272.5,2,-999.0,9,-999.00,1,20050907,1328,-58.5216,-88.9684
316N20050821,AAIW,51,1,17,17,2,20050907,1146,-58.5234,-88.9653,371.6,4.6540,34.1131,2,34.1152,2,299.8,2,301.1,2,5.92,2,21.76,2,0.03,2,1.55,2,4.345,2,2.618,2,0.435,2,4.701,2,2127.1,2,2273.4,2,-999.0,9,-999.00,1,20050907,1325,-58.5211,-88.9689
316N20050821,AAIW,51,1,16,16,2,20050907,1146,-58.5234,-88.9653,438.9,4.6559,34.1442,2,34.1479,2,273.0,2,272.5,2,10.77,2,24.58,2,0.01,2,1.72,2,3.961,2,2.275,2,0.363,2,4.060,2,2265.6,3,2276.6,2,-999.0,9,-999.00,1,20050907,1322,-58.5209,-88.9692
316N20050821,AAIW,51,1,15,15,2,20050907,1146,-58.5234,-88.9653,521.0,4.5017,34.1825,2,34.1843,2,251.4,2,252.1,2,16.02,2,26.72,2,0.00,2,1.85,2,3.547,2,2.002,2,0.305,2,3.516,2,2161.2,2,2281.4,2,-999.0,9,-999.00,1,20050907,1319,-58.5208,-88.9691
316N20050821,AAIW,51,1,14,14,2,20050907,1146,-58.5234,-88.9653,617.4,4.3212,34.2427,2,34.2448,2,229.3,2,229.5,2,23.10,2,28.82,2,0.00,2,1.98,2,2.974,2,1.623,2,0.234,2,3.018,2,2178.2,2,2286.4,2,-999.0,9,-999.00,1,20050907,1316,-58.5207,-88.9692
316N20050821,AAIW,51,1,13,13,2,20050907,1146,-58.5234,-88.9653,713.0,3.8175,34.2685,2,34.2704,2,220.5,2,220.3,2,30.38,2,30.53,2,0.00,2,2.10,2,2.589,2,1.387,2,0.205,2,2.824,2,2191.3,2,2293.3,2,-999.0,9,-999.00,1,20050907,1313,-58.5206,-88.9694
316N20050821,AAIW,51,1,12,12,2,20050907,1146,-58.5234,-88.9653,806.4,3.4590,34.2952,2,34.2992,2,210.9,2,211.8,2,36.67,2,31.70,2,0.00,2,2.19,2,2.119,2,1.147,2,0.175,2,2.331,2,2203.3,2,2299.2,2,-999.0,9,-999.00,1,20050907,1309,-58.5206,-88.9696
316N20050821,AAIW,51,1,11,11,2,20050907,1146,-58.5234,-88.9653,900.3,3.2520,34.3491,2,34.3523,2,198.6,2,198.8,2,44.99,2,32.64,2,0.00,2,2.26,2,1.625,2,0.838,2,0.124,2,1.920,2,2216.8,2,2306.1,2,-999.0,9,-999.00,1,20050907,1306,-58.5206,-88.9699
316N20050821,AAIW,51,1,10,10,2,20050907,1146,-58.5234,-88.9653,1047.7,2.8791,34.4166,2,34.4176,2,186.2,2,186.4,2,55.98,2,33.71,2,0.00,2,2.34,2,1.204,2,0.570,2,0.074,2,1.528,2,2232.4,2,2317.6,2,-999.0,9,-999.00,1,20050907,1303,-58.5203,-88.9706
316N20050821,AAIW,51,1,9,9,2,20050907,1146,-58.5234,-88.9653,1193.4,2.6735,34.4873,2,34.4889,2,177.5,2,177.4,2,65.16,2,34.06,2,0.00,2,2.37,2,0.761,2,0.386,2,0.048,2,1.095,2,2243.9,2,2326.2,2,-999.0,9,-999.00,1,20050907,1259,-58.5201,-88.9714
316N20050821,AAIW,51,1,8,8,3,20050907,1146,-58.5234,-88.9653,1501.8,2.4121,34.6025,2,34.4140,4,-999.0,9,186.9,4,55.77,4,33.57,4,0.00,4,2.34,4,1.189,4,0.597,4,0.062,4,1.502,4,2232.2,4,2316.7,4,-999.0,9,-999.00,1,20050907,1252,-58.5197,-88.9722
316N20050821,AAIW,51,1,7,7,2,20050907,1146,-58.5234,-88.9653,1804.6,2.2079,34.6772,2,34.6786,2,175.0,2,174.2,2,83.56,2,32.64,2,0.00,2,2.26,2,0.190,2,0.094,2,0.002,2,0.247,2,2259.2,2,2347.2,2,-999.0,9,-999.00,1,20050907,1244,-58.5191,-88.9746
316N20050821,AAIW,51,1,6,6,2,20050907,1146,-58.5234,-88.9653,2248.6,1.8850,34.7146,2,34.7174,3,180.4,2,179.8,2,96.08,2,32.00,2,0.00,2,2.23,2,0.075,2,0.048,2,0.002,2,0.076,2,2264.5,2,2360.1,2,-999.0,9,-999.00,1,20050907,1234,-58.5177,-88.9751
316N20050821,AAIW,51,1,5,5,2,20050907,1146,-58.5234,-88.9653,2684.8,1.6045,34.7233,2,34.7231,2,187.5,2,187.5,2,102.46,2,31.86,2,0.00,2,2.21,2,0.060,2,0.026,2,0.002,2,0.036,2,2264.2,2,2363.2,2,-999.0,9,-999.00,1,20050907,1225,-58.5165,-88.9762
316N20050821,AAIW,51,1,4,4,2,20050907,1146,-58.5234,-88.9653,3136.6,1.3514,34.7238,2,34.7264,3,194.8,2,195.1,2,108.85,2,31.77,2,0.00,2,2.19,2,0.066,2,0.033,2,0.002,2,0.084,2,2261.4,2,2361.8,2,-999.0,9,-999.00,1,20050907,1215,-58.5149,-88.9760
316N20050821,AAIW,51,1,3,3,2,20050907,1146,-58.5234,-88.9653,3591.6,1.0692,34.7167,2,34.7161,2,200.5,2,201.0,2,117.73,2,31.96,2,0.00,2,2.22,2,0.081,2,0.043,2,0.002,2,0.131,2,2262.1,2,2361.5,2,-999.0,9,-999.00,1,20050907,1206,-58.5134,-88.9778
316N20050821,AAIW,51,1,2,2,2,20050907,1146,-58.5234,-88.9653,4059.5,0.8123,34.7104,2,34.7133,3,205.4,2,206.3,2,126.63,2,32.21,2,0.00,2,2.23,2,0.079,2,0.039,2,0.002,2,0.170,2,2264.2,2,2364.3,2,-999.0,9,-999.00,1,20050907,1156,-58.5114,-88.9782
316N20050821,AAIW,51,1,1,1,2,20050907,1146,-58.5234,-88.9653,4546.1,0.5978,34.7065,2,34.7072,2,211.8,2,210.0,2,134.10,2,32.41,2,0.00,2,2.25,2,0.102,2,0.052,2,0.002,2,0.254,2,2265.6,6,2364.8,2,-999.0,9,-999.00,1,20050907,1146,-58.5095,-88.9794