BOTTLE,20220819CCHSIOAMB
EXPOCODE,SECT_ID,STNNBR,CASTNO,SAMPNO,BTLNBR,BTLNBR_FLAG_W,DATE,TIME,LATITUDE,LONGITUDE,CTDPRS,CTDTMP,CTDSAL,CTDSAL_FLAG_W,SALNTY,SALNTY_FLAG_W,CTDOXY,CTDOXY_FLAG_W,OXYGEN,OXYGEN_FLAG_W,SILCAT,SILCAT_FLAG_W,NITRAT,NITRAT_FLAG_W,NITRIT,NITRIT_FLAG_W,PHSPHT,PHSPHT_FLAG_W,CFC-11,CFC-11_FLAG_W,CFC-12,CFC-12_FLAG_W,CFC113,CFC113_FLAG_W,CCL4,CCL4_FLAG_W,TCARBN,TCARBN_FLAG_W,ALKALI,ALKALI_FLAG_W,PCO2,PCO2_FLAG_W,PH_SWS,PH_SWS_FLAG_W,BTL_DATE,BTL_TIME,BTL_LAT,BTL_LON
,,,,,,,,,,,DBAR,ITS-90,PSS-78,,PSS-78,,UMOL/KG,,UMOL/KG,,UMOL/KG,,UMOL/KG,,UMOL/KG,,UMOL/KG,,PMOL/KG,,PMOL/KG,,PMOL/KG,,PMOL/KG,,UMOL/KG,,UMOL/KG,,UATM,,,,,,,
316N20050821,AAIW,7,1,24,24,2,20050824,615,-56.3102,-75.4902,3.1,4.7763,34.1395,2,34.1410,2,300.5,2,300.1,2,6.70,2,21.43,2,0.03,2,1.51,2,4.639,2,2.612,2,0.451,2,5.982,2,2122.4,2,2272.6,2,-999.0,9,-999.00,1,20050824,805,-56.3102,-75.4902
316N20050821,AAIW,7,1,23,23,2,20050824,615,-56.3102,-75.4902,31.3,4.7834,34.1405,2,34.1403,2,300.5,2,300.0,2,6.70,2,21.46,2,0.03,2,1.51,2,4.661,2,2.603,2,0.461,2,6.011,2,2122.4,2,2272.1,2,-999.0,9,-999.00,1,20050824,803,-56.3100,-75.4906
316N20050821,AAIW,7,1,22,22,2,20050824,615,-56.3102,-75.4902,60.9,4.7872,34.1406,2,34.1424,2,300.3,2,299.8,2,6.70,2,21.50,2,0.03,2,1.50,2,4.638,2,2.638,2,0.458,2,6.030,2,2123.7,2,2272.6,2,-999.0,9,-999.00,1,20050824,801,-56.3096,-75.4909
316N20050821,AAIW,7,1,21,21,2,20050824,615,-56.3102,-75.4902,85.8,4.7878,34.1405,2,34.1417,2,300.4,2,299.8,2,6.71,2,21.49,2,0.03,2,1.50,2,4.642,2,2.647,2,0.454,2,5.952,2,-999.0,9,2270.7,3,-999.0,9,-999.00,1,20050824,759,-56.3094,-75.4911
316N20050821,AAIW,7,1,20,20,2,20050824,615,-56.3102,-75.4902,135.4,4.7919,34.1406,2,34.1419,2,299.9,2,299.6,2,6.53,2,21.44,2,0.03,2,1.50,2,4.656,2,2.624,2,0.456,2,6.003,2,-999.0,9,2272.4,2,-999.0,9,-999.00,1,20050824,757,-56.3092,-75.4914
316N20050821,AAIW,7,1,19,19,2,20050824,615,-56.3102,-75.4902,184.5,4.7981,34.1408,2,34.1413,2,299.4,2,299.3,2,6.53,2,21.39,2,0.03,2,1.50,2,4.648,2,2.625,2,0.452,2,5.966,2,-999.0,9,2272.1,2,-999.0,9,-999.00,1,20050824,755,-56.3090,-75.4917
316N20050821,AAIW,7,1,18,18,2,20050824,615,-56.3102,-75.4902,234.7,4.8006,34.1406,2,34.1415,2,300.0,2,299.7,2,6.54,2,21.43,2,0.03,2,1.51,2,4.639,2,2.635,2,0.451,2,5.945,2,-999.0,9,2272.7,2,-999.0,9,-999.00,1,20050824,753,-56.3088,-75.4921
316N20050821,AAIW,7,1,17,17,2,20050824,615,-56.3102,-75.4902,284.9,4.8056,34.1408,2,34.1406,2,299.6,2,299.7,2,6.54,2,21.47,2,0.03,2,1.51,2,4.656,2,2.643,2,0.449,2,5.986,2,-999.0,9,2271.9,2,-999.0,9,-999.00,1,20050824,750,-56.3085,-75.4925
316N20050821,AAIW,7,1,16,16,2,20050824,615,-56.3102,-75.4902,348.7,4.8200,34.1427,2,34.1437,2,298.3,2,298.3,2,6.90,2,21.59,2,0.03,2,1.52,2,4.631,2,2.621,2,0.432,2,5.951,2,-999.0,9,2272.3,2,-999.0,9,-999.00,1,20050824,748,-56.3083,-75.4929
316N20050821,AAIW,7,1,15,15,2,20050824,615,-56.3102,-75.4902,397.8,4.8150,34.1442,2,34.1449,2,298.3,2,297.3,2,7.09,2,21.75,2,0.03,2,1.53,2,4.621,2,2.650,2,0.446,2,5.862,2,-999.0,9,2272.4,2,-999.0,9,-999.00,1,20050824,745,-56.3081,-75.4933
316N20050821,AAIW,7,1,14,14,2,20050824,615,-56.3102,-75.4902,447.5,4.8682,34.1678,2,34.1686,2,280.8,2,280.8,2,10.16,2,23.90,2,0.01,2,1.64,2,4.325,2,2.434,2,0.395,2,5.156,2,-999.0,9,2276.3,2,-999.0,9,-999.00,1,20050824,743,-56.3078,-75.4938
316N20050821,AAIW,7,1,13,13,2,20050824,615,-56.3102,-75.4902,497.0,4.7046,34.1590,2,34.1596,2,276.6,2,276.2,2,11.42,2,24.58,2,0.00,2,1.70,2,4.253,2,2.392,2,0.399,2,5.074,2,-999.0,9,2277.0,2,-999.0,9,-999.00,1,20050824,741,-56.3076,-75.4944
316N20050821,AAIW,7,1,12,12,2,20050824,615,-56.3102,-75.4902,595.5,4.5309,34.1881,2,34.1894,2,253.8,2,253.6,2,16.66,2,26.59,2,0.00,2,1.85,2,3.660,2,2.012,2,0.308,2,4.171,2,-999.0,9,2281.3,2,-999.0,9,-999.00,1,20050824,737,-56.3073,-75.4952
316N20050821,AAIW,7,1,11,11,2,20050824,615,-56.3102,-75.4902,693.8,4.3048,34.2286,2,34.2284,2,235.1,2,234.8,2,22.61,2,28.65,2,0.00,2,1.97,2,3.066,2,1.659,2,0.247,2,3.537,2,-999.0,9,2285.6,2,-999.0,9,-999.00,1,20050824,733,-56.3069,-75.4962
316N20050821,AAIW,7,1,10,10,2,20050824,615,-56.3102,-75.4902,789.6,3.9662,34.2609,2,34.2605,2,222.9,2,222.6,2,29.10,2,30.15,2,0.00,2,2.08,2,2.614,2,1.399,2,0.203,2,3.087,2,-999.0,9,2291.2,2,-999.0,9,-999.00,1,20050824,729,-56.3066,-75.4969
316N20050821,AAIW,7,1,9,9,2,20050824,615,-56.3102,-75.4902,915.6,3.6129,34.3089,2,34.3099,2,207.9,2,208.1,2,37.94,2,31.82,2,0.00,2,2.20,2,1.933,2,0.999,2,0.138,2,2.415,2,-999.0,9,2298.6,2,-999.0,9,-999.00,1,20050824,725,-56.3064,-75.4978
316N20050821,AAIW,7,1,8,8,2,20050824,615,-56.3102,-75.4902,1161.7,2.9765,34.4003,2,34.4007,2,187.0,2,187.3,2,55.05,2,33.86,2,0.00,2,2.35,2,1.139,2,0.563,2,0.080,2,1.615,2,-999.0,9,2313.1,2,-999.0,9,-999.00,1,20050824,719,-56.3060,-75.4992
316N20050821,AAIW,7,1,7,7,2,20050824,615,-56.3102,-75.4902,1439.0,2.6525,34.5325,2,34.5334,2,157.7,2,157.6,2,76.86,2,35.42,2,0.00,2,2.47,2,0.267,2,0.131,2,0.005,2,0.501,2,-999.0,9,2340.4,2,-999.0,9,-999.00,1,20050824,712,-56.3054,-75.5005
316N20050821,AAIW,7,1,6,6,2,20050824,615,-56.3102,-75.4902,1690.2,2.4135,34.6038,2,34.6048,2,153.6,2,153.2,2,90.02,2,35.27,2,0.00,2,2.47,2,0.095,2,0.053,2,0.003,2,0.201,2,-999.0,9,2354.3,2,-999.0,9,-999.00,1,20050824,706,-56.3049,-75.5018
316N20050821,AAIW,7,1,5,5,2,20050824,615,-56.3102,-75.4902,2239.0,2.0038,34.6720,2,34.6747,2,157.8,2,157.3,2,108.04,2,34.78,2,0.00,2,2.42,2,0.020,2,0.014,2,0.002,2,0.026,2,-999.0,9,2377.3,2,-999.0,9,-999.00,1,20050824,655,-56.3044,-75.5037
316N20050821,AAIW,7,1,4,4,2,20050824,615,-56.3102,-75.4902,2743.4,1.8139,34.7005,2,34.7024,2,170.7,2,170.0,2,109.29,2,33.50,2,0.00,2,2.34,2,0.021,2,0.016,2,-0.001,2,0.028,2,-999.0,9,2374.5,2,-999.0,9,-999.00,1,20050824,645,-56.3038,-75.5058
316N20050821,AAIW,7,1,3,3,2,20050824,615,-56.3102,-75.4902,3251.0,1.5517,34.7240,2,34.7244,2,190.0,2,189.7,2,106.94,2,31.98,2,0.00,2,2.23,2,0.045,2,0.027,2,0.001,2,0.096,2,-999.0,9,2363.5,2,-999.0,9,-999.00,1,20050824,635,-56.3032,-75.5079
316N20050821,AAIW,7,1,2,2,2,20050824,615,-56.3102,-75.4902,3753.5,1.1762,34.7187,2,34.7201,2,199.3,2,199.6,2,117.03,2,32.10,2,0.00,2,2.23,2,0.050,2,0.029,2,0.008,2,0.128,2,-999.0,9,2362.5,2,-999.0,9,-999.00,1,20050824,625,-56.3029,-75.5098
316N20050821,AAIW,7,1,1,1,2,20050824,615,-56.3102,-75.4902,4237.2,0.8777,34.7114,2,34.7121,2,206.3,2,204.4,2,126.95,2,32.39,2,0.00,2,2.25,2,0.062,6,0.035,6,0.003,6,0.194,6,-999.0,9,2364.7,2,-999.0,9,-999.00,1,20050824,615,-56.3025,-75.5116
316N20050821,AAIW,8,1,24,24,2,20050824,1246,-56.6685,-76.2088,6.6,4.8952,34.1337,2,34.1348,2,301.2,2,300.6,2,5.96,2,20.72,2,0.06,2,1.48,2,4.676,2,2.606,2,0.453,2,6.185,2,2120.0,2,2271.8,2,-999.0,9,-999.00,1,20050824,1440,-56.6685,-76.2088
316N20050821,AAIW,8,1,23,23,2,20050824,1246,-56.6685,-76.2088,25.6,4.8864,34.1343,2,34.1349,2,301.5,2,300.5,2,5.97,2,20.76,2,0.06,2,1.48,2,4.640,2,2.602,2,0.451,2,6.078,2,2119.8,2,2270.7,2,-999.0,9,-999.00,1,20050824,1439,-56.6685,-76.2089
316N20050821,AAIW,8,1,22,22,2,20050824,1246,-56.6685,-76.2088,50.8,4.8876,34.1344,2,34.1334,2,301.2,2,300.5,2,5.98,2,20.71,2,0.06,2,1.47,2,4.639,2,2.617,2,0.453,2,6.110,2,2119.7,2,2270.1,2,-999.0,9,-999.00,1,20050824,1437,-56.6684,-76.2091
316N20050821,AAIW,8,1,21,21,2,20050824,1246,-56.6685,-76.2088,80.6,4.8918,34.1347,2,34.1356,2,301.2,2,300.6,2,5.99,2,20.79,2,0.06,2,1.47,2,4.651,2,2.603,2,0.447,2,6.046,2,-999.0,1,2271.4,2,-999.0,9,-999.00,1,20050824,1435,-56.6683,-76.2092
316N20050821,AAIW,8,1,20,20,2,20050824,1246,-56.6685,-76.2088,130.6,4.8932,34.1343,2,34.1351,2,300.9,2,300.7,2,5.99,2,20.78,2,0.06,2,1.47,2,4.649,2,2.599,2,0.452,2,6.112,2,-999.0,1,2271.5,2,-999.0,9,-999.00,1,20050824,1432,-56.6681,-76.2095
316N20050821,AAIW,8,1,19,19,2,20050824,1246,-56.6685,-76.2088,180.5,4.9095,34.1363,2,34.1354,2,300.1,2,299.5,2,6.00,2,20.82,2,0.06,2,1.48,2,4.641,2,2.620,2,0.451,2,6.034,2,-999.0,1,2270.8,2,-999.0,9,-999.00,1,20050824,1429,-56.6680,-76.2097
316N20050821,AAIW,8,1,18,18,2,20050824,1246,-56.6685,-76.2088,229.9,4.9224,34.1381,2,34.1382,2,299.5,2,300.0,2,6.01,2,20.87,2,0.06,2,1.47,2,4.655,2,2.603,2,0.449,2,5.961,2,-999.0,1,2271.5,2,-999.0,9,-999.00,1,20050824,1427,-56.6679,-76.2098
316N20050821,AAIW,8,1,17,17,3,20050824,1246,-56.6685,-76.2088,289.6,5.0484,34.1642,2,34.1849,4,-999.0,9,262.6,4,14.95,4,24.68,4,0.01,4,1.72,4,2.646,4,1.363,4,0.210,4,3.257,4,-999.0,1,2278.9,4,-999.0,9,-999.00,1,20050824,1424,-56.6678,-76.2100
316N20050821,AAIW,8,1,16,16,2,20050824,1246,-56.6685,-76.2088,330.2,5.1222,34.1842,2,34.1825,2,286.6,2,286.5,2,8.17,2,22.12,2,0.01,2,1.55,2,4.465,2,2.477,2,0.404,2,5.325,2,-999.0,1,2272.3,2,-999.0,9,-999.00,1,20050824,1422,-56.6677,-76.2101
316N20050821,AAIW,8,1,15,15,2,20050824,1246,-56.6685,-76.2088,375.0,5.0526,34.1840,2,34.1851,2,284.8,2,284.5,2,8.71,2,22.54,2,0.01,2,1.57,2,4.457,2,2.444,2,0.418,2,5.255,2,-999.0,1,2276.3,2,-999.0,9,-999.00,1,20050824,1420,-56.6675,-76.2103
316N20050821,AAIW,8,1,14,14,2,20050824,1246,-56.6685,-76.2088,424.9,4.9742,34.1804,2,34.1799,2,283.2,2,283.3,2,9.08,2,22.87,2,0.00,2,1.59,2,4.416,2,2.411,2,0.401,2,5.231,2,-999.0,1,2277.9,2,-999.0,9,-999.00,1,20050824,1418,-56.6675,-76.2104
316N20050821,AAIW,8,1,13,13,2,20050824,1246,-56.6685,-76.2088,524.6,4.7033,34.1662,2,34.1645,2,278.1,2,276.9,2,11.06,2,24.17,2,0.00,2,1.68,2,4.265,2,2.326,2,0.383,2,4.985,2,-999.0,1,2276.9,2,-999.0,9,-999.00,1,20050824,1415,-56.6674,-76.2104
316N20050821,AAIW,8,1,12,12,2,20050824,1246,-56.6685,-76.2088,624.1,4.5694,34.1926,2,34.1914,2,255.9,2,255.5,2,15.53,2,26.19,2,0.00,2,1.82,2,3.716,2,1.990,2,0.311,2,4.213,2,-999.0,1,2280.7,2,-999.0,9,-999.00,1,20050824,1411,-56.6673,-76.2106
316N20050821,AAIW,8,1,11,11,2,20050824,1246,-56.6685,-76.2088,724.3,4.2837,34.2282,2,34.2261,2,235.2,2,235.6,2,22.15,2,28.32,2,0.00,2,1.95,2,3.045,2,1.603,2,0.235,2,3.491,2,-999.0,1,2285.2,2,-999.0,9,-999.00,1,20050824,1408,-56.6671,-76.2109
316N20050821,AAIW,8,1,10,10,2,20050824,1246,-56.6685,-76.2088,823.4,3.9518,34.2626,2,34.2657,2,221.6,2,220.8,2,29.12,2,30.01,2,0.00,2,2.07,2,2.459,2,1.262,2,0.179,2,2.956,2,-999.0,1,2292.4,2,-999.0,9,-999.00,1,20050824,1405,-56.6669,-76.2111
316N20050821,AAIW,8,1,9,9,2,20050824,1246,-56.6685,-76.2088,973.3,3.5114,34.3184,2,34.3173,2,205.4,2,205.5,2,39.67,2,31.70,2,0.00,2,2.20,2,1.816,6,0.928,6,0.125,6,2.343,6,-999.0,1,2300.7,2,-999.0,9,-999.00,1,20050824,1401,-56.6666,-76.2114
316N20050821,AAIW,8,1,8,8,2,20050824,1246,-56.6685,-76.2088,1122.1,3.0871,34.3770,2,34.3766,2,191.6,2,192.5,2,50.75,2,32.80,2,0.00,2,2.29,2,1.294,2,0.649,2,0.090,2,1.788,2,-999.0,1,2312.0,2,-999.0,9,-999.00,1,20050824,1357,-56.6663,-76.2115
316N20050821,AAIW,8,1,7,7,2,20050824,1246,-56.6685,-76.2088,1371.5,2.7831,34.4863,2,34.4846,2,167.1,2,166.8,2,67.90,2,34.51,2,0.00,2,2.41,2,0.414,2,0.208,2,0.011,2,0.735,2,-999.0,1,2333.6,2,-999.0,9,-999.00,1,20050824,1352,-56.6659,-76.2121
316N20050821,AAIW,8,1,6,6,2,20050824,1246,-56.6685,-76.2088,1618.6,2.5403,34.5704,2,34.5705,2,158.4,2,158.1,2,80.94,2,34.63,2,0.00,2,2.42,2,0.166,2,0.081,2,0.006,2,0.326,2,-999.0,1,2346.7,2,-999.0,9,-999.00,1,20050824,1346,-56.6656,-76.2127
316N20050821,AAIW,8,1,5,5,2,20050824,1246,-56.6685,-76.2088,2110.2,2.1998,34.6723,2,34.6729,2,169.1,2,169.7,2,89.16,2,32.87,2,0.00,2,2.28,2,0.109,2,0.055,2,0.003,2,0.192,2,-999.0,1,2355.1,2,-999.0,9,-999.00,1,20050824,1336,-56.6651,-76.2133
316N20050821,AAIW,8,1,4,4,9,20050824,1246,-56.6685,-76.2088,2604.4,1.9062,34.7100,2,-999.0000,9,-999.0,9,-999.0,9,-999.00,9,-999.00,9,-999.00,9,-999.00,9,-999.000,9,-999.000,9,-999.000,9,-999.000,9,-999.0,9,-999.0,9,-999.0,9,-999.00,9,20050824,1326,-56.6645,-76.2141
316N20050821,AAIW,8,1,3,3,2,20050824,1246,-56.6685,-76.2088,3099.2,1.5716,34.7204,2,34.7216,2,186.5,2,187.2,2,105.77,2,31.80,2,0.00,2,2.21,2,0.031,2,0.018,2,0.001,2,0.060,2,-999.0,1,2366.5,2,-999.0,9,-999.00,1,20050824,1316,-56.6638,-76.2152
316N20050821,AAIW,8,1,2,2,2,20050824,1246,-56.6685,-76.2088,3605.1,1.2785,34.7208,2,34.7227,2,195.8,2,196.7,2,112.39,2,31.58,2,0.00,2,2.20,2,0.043,2,0.022,2,0.001,2,0.094,2,-999.0,1,2363.3,2,-999.0,9,-999.00,1,20050824,1307,-56.6624,-76.2157
316N20050821,AAIW,8,1,1,1,2,20050824,1246,-56.6685,-76.2088,4736.8,0.7025,34.7075,2,34.7079,2,209.5,2,208.6,2,131.52,2,32.09,2,0.00,2,2.23,2,0.072,2,0.048,2,0.002,2,0.240,2,-999.0,1,2366.2,2,-999.0,9,-999.00,1,20050824,1246,-56.6601,-76.2172
316N20050821,AAIW,9,1,24,24,2,20050824,1919,-57.0127,-76.9851,36.3,4.8436,34.1483,2,34.1498,2,301.5,2,300.1,2,6.45,2,21.12,2,0.04,2,1.50,2,4.700,2,2.670,2,0.451,2,6.167,2,2124.4,2,2274.8,2,-999.0,9,-999.00,1,20050824,2104,-57.0127,-76.9851
316N20050821,AAIW,9,1,23,23,2,20050824,1919,-57.0127,-76.9851,66.5,4.8432,34.1481,2,34.1505,2,301.2,2,300.2,2,6.45,2,21.19,2,0.04,2,1.50,2,4.684,2,2.663,2,0.455,2,6.193,2,2124.7,2,2271.8,2,-999.0,9,-999.00,1,20050824,2102,-57.0126,-76.9852
316N20050821,AAIW,9,1,22,22,2,20050824,1919,-57.0127,-76.9851,96.0,4.8433,34.1480,2,34.1544,2,300.8,2,300.8,2,6.45,2,21.15,2,0.04,2,1.50,2,4.688,2,2.672,2,0.451,2,6.081,2,2124.9,2,2272.9,2,-999.0,9,-999.00,1,20050824,2059,-57.0125,-76.9852
316N20050821,AAIW,9,1,21,21,2,20050824,1919,-57.0127,-76.9851,125.8,4.8370,34.1471,2,34.1503,2,301.1,2,301.0,2,6.45,2,21.03,2,0.04,2,1.50,2,4.711,2,2.652,2,0.454,2,6.136,2,2124.6,2,2272.7,2,-999.0,9,-999.00,1,20050824,2058,-57.0125,-76.9852
316N20050821,AAIW,9,1,20,20,2,20050824,1919,-57.0127,-76.9851,155.6,4.8032,34.1429,2,34.1460,2,301.1,2,301.0,2,6.45,2,21.11,2,0.04,2,1.50,2,4.694,2,2.676,2,0.450,2,6.154,2,2125.0,2,2271.6,2,-999.0,9,-999.00,1,20050824,2056,-57.0124,-76.9853
316N20050821,AAIW,9,1,19,19,2,20050824,1919,-57.0127,-76.9851,180.2,4.7934,34.1416,2,34.1440,2,301.1,2,299.7,2,6.45,2,21.11,2,0.04,2,1.51,2,4.718,2,2.669,2,0.453,2,6.129,2,2125.0,2,2272.0,2,-999.0,9,-999.00,1,20050824,2055,-57.0123,-76.9854
316N20050821,AAIW,9,1,18,18,2,20050824,1919,-57.0127,-76.9851,205.7,4.7944,34.1424,2,34.1451,2,301.0,2,300.6,2,6.45,2,21.14,2,0.04,2,1.51,2,4.724,2,2.663,2,0.461,2,6.210,2,2124.6,2,2274.4,2,-999.0,9,-999.00,1,20050824,2053,-57.0122,-76.9855
316N20050821,AAIW,9,1,17,17,2,20050824,1919,-57.0127,-76.9851,255.8,4.7969,34.1423,2,34.1433,2,301.1,2,300.1,2,6.45,2,21.18,2,0.04,2,1.50,2,4.659,2,2.672,2,0.453,2,6.111,2,2124.4,2,2274.2,2,-999.0,9,-999.00,1,20050824,2051,-57.0121,-76.9856
316N20050821,AAIW,9,1,16,16,2,20050824,1919,-57.0127,-76.9851,305.5,4.7950,34.1417,2,34.1429,2,300.9,2,300.0,2,6.45,2,21.18,2,0.04,2,1.50,2,4.714,2,2.667,2,0.453,2,6.180,2,2124.3,2,2273.5,2,-999.0,9,-999.00,1,20050824,2050,-57.0119,-76.9858
316N20050821,AAIW,9,1,15,15,2,20050824,1919,-57.0127,-76.9851,405.4,4.7898,34.1402,2,34.1435,2,300.0,2,300.0,2,6.45,2,21.22,2,0.03,2,1.51,2,4.691,2,2.656,2,0.455,2,6.128,2,2124.5,2,2272.8,2,-999.0,9,-999.00,1,20050824,2047,-57.0118,-76.9860
316N20050821,AAIW,9,1,14,14,2,20050824,1919,-57.0127,-76.9851,505.1,4.7742,34.1654,2,34.1675,2,279.1,2,277.9,2,10.75,2,23.97,2,0.00,2,1.68,2,4.323,2,2.408,2,0.386,2,5.167,2,2141.4,2,2276.7,2,-999.0,9,-999.00,1,20050824,2044,-57.0116,-76.9861
316N20050821,AAIW,9,1,13,13,2,20050824,1919,-57.0127,-76.9851,605.2,4.5892,34.1888,2,34.1936,2,257.6,2,256.1,2,15.78,2,26.30,2,0.00,2,1.84,2,3.755,2,2.056,2,0.327,2,4.345,2,2158.0,2,2280.2,2,-999.0,9,-999.00,1,20050824,2042,-57.0115,-76.9863
316N20050821,AAIW,9,1,12,12,2,20050824,1919,-57.0127,-76.9851,705.1,4.4284,34.2335,2,34.2343,2,236.3,2,234.4,2,21.89,2,28.35,2,0.00,2,1.97,2,3.032,2,1.632,2,0.252,2,3.535,2,2172.7,2,2285.9,2,-999.0,9,-999.00,1,20050824,2039,-57.0114,-76.9864
316N20050821,AAIW,9,1,11,11,2,20050824,1919,-57.0127,-76.9851,805.6,4.0736,34.2684,2,34.2754,2,221.3,2,219.5,2,29.25,2,30.15,2,0.00,2,2.09,2,2.432,2,1.288,2,0.186,2,2.914,2,2187.3,2,2290.7,2,-999.0,9,-999.00,1,20050824,2037,-57.0113,-76.9865
316N20050821,AAIW,9,1,10,10,2,20050824,1919,-57.0127,-76.9851,1005.6,3.3826,34.3284,2,34.3327,2,204.5,2,203.6,2,42.71,2,32.13,2,0.00,2,2.25,2,1.749,2,0.897,2,0.131,2,2.342,2,2209.5,2,2303.1,2,-999.0,9,-999.00,1,20050824,2032,-57.0111,-76.9868
316N20050821,AAIW,9,1,9,9,2,20050824,1919,-57.0127,-76.9851,1256.1,2.7819,34.4451,2,34.4495,2,183.9,2,183.2,2,61.02,2,33.89,2,0.00,2,2.36,2,0.982,2,0.499,2,0.067,2,1.465,2,2236.6,2,2320.6,2,-999.0,9,-999.00,1,20050824,2027,-57.0108,-76.9872
316N20050821,AAIW,9,1,8,8,2,20050824,1919,-57.0127,-76.9851,1506.8,2.5261,34.5568,2,34.5661,3,171.1,2,169.5,2,75.02,2,34.14,2,0.00,2,2.38,2,0.409,2,0.201,2,0.031,2,0.736,2,2254.3,2,2335.4,2,-999.0,9,-999.00,1,20050824,2022,-57.0105,-76.9877
316N20050821,AAIW,9,1,7,7,2,20050824,1919,-57.0127,-76.9851,1756.5,2.3508,34.6197,2,34.6216,2,159.0,2,157.7,2,90.63,2,34.66,2,0.00,2,2.43,2,0.073,6,0.038,6,0.003,6,0.182,6,2274.4,2,2355.7,2,-999.0,9,-999.00,1,20050824,2016,-57.0102,-76.9881
316N20050821,AAIW,9,1,6,6,2,20050824,1919,-57.0127,-76.9851,2258.5,1.9961,34.6865,2,34.6859,2,167.5,2,166.8,2,102.12,2,33.53,2,0.00,2,2.34,2,0.030,2,0.017,2,0.001,2,0.074,2,2277.4,2,2367.8,2,-999.0,9,-999.00,1,20050824,2007,-57.0096,-76.9891
316N20050821,AAIW,9,1,5,5,2,20050824,1919,-57.0127,-76.9851,2761.2,1.7766,34.7110,2,34.7122,2,179.2,2,178.2,2,105.52,2,32.62,2,0.00,2,2.26,2,0.030,2,0.015,2,-0.001,2,0.082,2,2273.9,2,2367.7,2,-999.0,9,-999.00,1,20050824,1958,-57.0089,-76.9900
316N20050821,AAIW,9,1,4,4,2,20050824,1919,-57.0127,-76.9851,3265.2,1.4691,34.7218,2,34.7224,2,191.1,2,192.2,2,109.64,2,31.97,2,0.00,2,2.23,2,0.028,2,0.014,2,0.000,2,0.100,2,2265.3,2,2363.7,2,-999.0,9,-999.00,1,20050824,1949,-57.0083,-76.9909
316N20050821,AAIW,9,1,3,3,2,20050824,1919,-57.0127,-76.9851,3771.2,1.0695,34.7162,2,34.7169,2,-999.0,9,207.8,4,120.41,2,32.01,2,0.00,2,2.23,2,0.041,2,0.026,2,0.001,2,0.159,2,2263.2,2,2363.5,2,-999.0,9,-999.00,1,20050824,1939,-57.0077,-76.9916
316N20050821,AAIW,9,1,2,2,2,20050824,1919,-57.0127,-76.9851,4277.6,0.7457,34.7092,2,34.7094,2,208.0,2,207.7,3,130.82,2,32.26,2,0.00,2,2.25,2,0.059,2,0.034,2,0.004,2,0.236,2,2264.5,2,2364.7,2,-999.0,9,-999.00,1,20050824,1930,-57.0071,-76.9924
316N20050821,AAIW,9,1,1,1,2,20050824,1919,-57.0127,-76.9851,4840.8,0.6597,34.7067,2,34.7088,3,-999.0,9,220.3,4,134.58,2,32.48,2,0.00,2,2.25,2,0.077,2,0.042,2,0.003,2,0.310,2,2264.7,2,2362.4,2,-999.0,9,-999.00,1,20050824,1919,-57.0064,-76.9930