BOTTLE,20220819CCHSIOAMB
EXPOCODE,SECT_ID,STNNBR,CASTNO,SAMPNO,BTLNBR,BTLNBR_FLAG_W,DATE,TIME,LATITUDE,LONGITUDE,CTDPRS,CTDTMP,CTDSAL,CTDSAL_FLAG_W,SALNTY,SALNTY_FLAG_W,CTDOXY,CTDOXY_FLAG_W,OXYGEN,OXYGEN_FLAG_W,SILCAT,SILCAT_FLAG_W,NITRAT,NITRAT_FLAG_W,NITRIT,NITRIT_FLAG_W,PHSPHT,PHSPHT_FLAG_W,CFC-11,CFC-11_FLAG_W,CFC-12,CFC-12_FLAG_W,CFC113,CFC113_FLAG_W,CCL4,CCL4_FLAG_W,TCARBN,TCARBN_FLAG_W,ALKALI,ALKALI_FLAG_W,PCO2,PCO2_FLAG_W,PH_SWS,PH_SWS_FLAG_W,BTL_DATE,BTL_TIME,BTL_LAT,BTL_LON
,,,,,,,,,,,DBAR,ITS-90,PSS-78,,PSS-78,,UMOL/KG,,UMOL/KG,,UMOL/KG,,UMOL/KG,,UMOL/KG,,UMOL/KG,,PMOL/KG,,PMOL/KG,,PMOL/KG,,PMOL/KG,,UMOL/KG,,UMOL/KG,,UATM,,,,,,,
316N20050821,AAIW,22,1,24,24,2,20050829,2049,-61.0168,-78.9404,18.2,2.3657,34.0148,2,34.0172,2,314.4,2,314.9,2,13.06,2,25.63,2,0.04,2,1.80,2,5.311,2,2.862,2,0.524,2,7.024,2,2146.0,2,2275.5,2,-999.0,9,-999.00,1,20050829,2239,-61.0168,-78.9404
316N20050821,AAIW,22,1,23,23,2,20050829,2049,-61.0168,-78.9404,48.5,2.3242,34.0129,2,34.0160,2,315.6,2,315.7,2,13.03,2,25.62,2,0.04,2,1.78,2,5.284,6,2.896,6,0.507,6,6.853,6,2146.7,2,2275.4,2,-999.0,9,-999.00,1,20050829,2237,-61.0166,-78.9409
316N20050821,AAIW,22,1,22,22,2,20050829,2049,-61.0168,-78.9404,86.9,2.1077,34.0054,2,34.0087,2,317.3,2,315.5,2,14.09,2,26.03,2,0.04,2,1.82,2,5.325,2,2.929,2,0.510,2,6.912,2,2148.3,2,2276.7,2,-999.0,9,-999.00,1,20050829,2235,-61.0165,-78.9416
316N20050821,AAIW,22,1,21,21,2,20050829,2049,-61.0168,-78.9404,137.2,2.3854,34.0488,2,34.0506,2,295.2,2,296.5,2,18.07,2,27.31,2,0.01,2,1.90,2,4.875,2,2.627,2,0.458,2,6.033,2,2159.2,2,2279.2,2,-999.0,9,-999.00,1,20050829,2233,-61.0163,-78.9423
316N20050821,AAIW,22,1,20,20,2,20050829,2049,-61.0168,-78.9404,187.5,1.8814,34.0021,2,34.0074,2,315.5,2,314.3,2,15.68,2,26.63,2,0.02,2,1.86,2,5.314,2,2.881,2,0.503,2,6.822,2,2153.1,2,2277.1,2,-999.0,9,-999.00,1,20050829,2231,-61.0161,-78.9429
316N20050821,AAIW,22,1,19,19,9,20050829,2049,-61.0168,-78.9404,257.8,2.7034,34.1339,2,-999.0000,9,-999.0,9,-999.0,9,-999.00,9,-999.00,9,-999.00,9,-999.00,9,-999.000,9,-999.000,9,-999.000,9,-999.000,9,-999.0,9,-999.0,9,-999.0,9,-999.00,9,20050829,2229,-61.0160,-78.9436
316N20050821,AAIW,22,1,18,18,2,20050829,2049,-61.0168,-78.9404,326.3,1.8818,34.0855,2,34.0868,2,288.5,2,289.5,2,26.24,2,29.20,2,0.00,2,2.02,2,4.797,2,2.540,2,0.469,2,5.718,2,2174.8,2,2283.2,2,-999.0,9,-999.00,1,20050829,2226,-61.0158,-78.9442
316N20050821,AAIW,22,1,17,17,2,20050829,2049,-61.0168,-78.9404,425.8,2.3276,34.1978,2,34.1988,2,248.5,2,248.2,2,35.70,2,31.16,2,0.00,2,2.15,2,3.479,2,1.801,2,0.323,2,4.110,2,2196.2,2,2292.5,2,-999.0,9,-999.00,1,20050829,2224,-61.0157,-78.9450
316N20050821,AAIW,22,1,16,16,2,20050829,2049,-61.0168,-78.9404,525.0,2.6594,34.2974,2,34.2985,2,213.7,2,213.3,2,45.34,2,32.73,2,0.00,2,2.26,2,2.302,2,1.143,2,0.204,2,2.822,2,2216.6,2,2302.8,2,-999.0,9,-999.00,1,20050829,2221,-61.0155,-78.9458
316N20050821,AAIW,22,1,15,15,2,20050829,2049,-61.0168,-78.9404,625.2,2.6452,34.3660,2,34.3659,2,195.9,2,196.8,2,53.34,2,33.60,2,0.00,2,2.33,2,1.708,2,0.844,2,0.140,2,2.204,2,2229.1,2,2311.1,2,-999.0,9,-999.00,1,20050829,2218,-61.0152,-78.9466
316N20050821,AAIW,22,1,14,14,9,20050829,2049,-61.0168,-78.9404,723.3,2.5641,34.4250,2,-999.0000,9,-999.0,9,-999.0,9,-999.00,9,-999.00,9,-999.00,9,-999.00,9,-999.000,9,-999.000,9,-999.000,9,-999.000,9,-999.0,9,-999.0,9,-999.0,9,-999.00,9,20050829,2215,-61.0150,-78.9474
316N20050821,AAIW,22,1,13,13,2,20050829,2049,-61.0168,-78.9404,822.4,2.5549,34.4830,2,34.4838,2,177.2,2,177.8,2,65.91,2,34.24,2,0.00,2,2.37,2,0.887,2,0.430,2,0.090,2,1.249,2,2246.5,2,2323.7,2,-999.0,9,-999.00,1,20050829,2212,-61.0148,-78.9481
316N20050821,AAIW,22,1,12,12,2,20050829,2049,-61.0168,-78.9404,921.5,2.4615,34.5283,2,34.5297,2,174.0,2,173.7,2,70.62,2,34.19,2,0.00,2,2.37,2,0.689,2,0.312,2,0.065,2,0.994,2,2251.6,2,2328.9,2,-999.0,9,-999.00,1,20050829,2210,-61.0146,-78.9489
316N20050821,AAIW,22,1,11,11,2,20050829,2049,-61.0168,-78.9404,1040.5,2.3696,34.5801,2,34.5797,2,171.9,2,171.5,2,75.33,2,33.88,2,0.00,2,2.35,2,0.498,2,0.232,2,0.053,2,0.755,2,-999.0,9,2335.5,2,-999.0,9,-999.00,1,20050829,2207,-61.0144,-78.9496
316N20050821,AAIW,22,1,10,10,2,20050829,2049,-61.0168,-78.9404,1266.8,2.2542,34.6468,2,34.6476,2,172.9,2,173.0,2,81.33,2,32.99,2,0.00,2,2.30,2,0.277,2,0.123,2,0.025,2,0.451,2,-999.0,9,-999.0,9,-999.0,9,-999.00,9,20050829,2159,-61.0139,-78.9515
316N20050821,AAIW,22,1,9,9,2,20050829,2049,-61.0168,-78.9404,1462.9,2.1292,34.6840,2,34.6849,2,177.1,2,176.9,2,83.48,2,32.31,2,0.00,2,2.24,2,0.242,2,0.114,2,0.017,2,0.387,2,-999.0,9,2342.7,2,-999.0,9,-999.00,1,20050829,2155,-61.0136,-78.9526
316N20050821,AAIW,22,1,8,8,2,20050829,2049,-61.0168,-78.9404,1722.6,1.9693,34.7161,2,34.7167,2,182.6,2,182.3,2,88.93,2,31.71,2,0.00,2,2.19,2,0.143,2,0.067,2,0.011,2,0.245,2,-999.0,9,-999.0,9,-999.0,9,-999.00,9,20050829,2150,-61.0132,-78.9539
316N20050821,AAIW,22,1,7,7,2,20050829,2049,-61.0168,-78.9404,2089.5,1.7033,34.7285,2,34.7290,2,188.6,2,188.1,2,97.11,2,31.42,2,0.00,2,2.18,2,0.088,2,0.043,2,0.007,2,0.161,2,-999.0,9,2355.5,2,-999.0,9,-999.00,1,20050829,2143,-61.0126,-78.9558
316N20050821,AAIW,22,1,6,6,2,20050829,2049,-61.0168,-78.9404,2587.7,1.3752,34.7270,2,34.7273,2,195.4,2,194.7,2,106.39,2,31.45,2,0.00,2,2.18,2,0.065,2,0.036,2,0.008,2,0.154,2,-999.0,9,-999.0,9,-999.0,9,-999.00,9,20050829,2133,-61.0119,-78.9584
316N20050821,AAIW,22,1,5,5,2,20050829,2049,-61.0168,-78.9404,3093.9,1.0898,34.7186,2,34.7214,2,201.0,2,200.4,2,115.13,2,31.70,2,0.00,2,2.20,2,0.065,2,0.037,2,0.002,2,0.190,2,-999.0,9,2359.6,2,-999.0,9,-999.00,1,20050829,2124,-61.0112,-78.9610
316N20050821,AAIW,22,1,4,4,2,20050829,2049,-61.0168,-78.9404,3598.2,0.8394,34.7105,2,34.7104,2,205.2,2,205.0,2,123.67,2,32.03,2,0.00,2,2.21,2,0.103,2,0.052,2,0.004,2,0.257,2,-999.0,9,-999.0,9,-999.0,9,-999.00,9,20050829,2115,-61.0104,-78.9637
316N20050821,AAIW,22,1,3,3,2,20050829,2049,-61.0168,-78.9404,4107.5,0.6088,34.7062,2,34.7057,2,209.2,2,210.5,2,130.22,2,32.12,2,0.00,2,2.23,2,0.111,2,0.061,2,0.004,2,0.310,2,-999.0,9,2360.6,2,-999.0,9,-999.00,1,20050829,2105,-61.0097,-78.9663
316N20050821,AAIW,22,1,2,2,9,20050829,2049,-61.0168,-78.9404,4895.1,0.4944,34.7042,2,-999.0000,9,-999.0,9,-999.0,9,-999.00,9,-999.00,9,-999.00,9,-999.00,9,-999.000,9,-999.000,9,-999.000,9,-999.000,9,-999.0,9,-999.0,9,-999.0,9,-999.00,9,20050829,2051,-61.0088,-78.9697
316N20050821,AAIW,22,1,1,1,2,20050829,2049,-61.0168,-78.9404,5027.7,0.4972,34.7040,2,34.7045,2,212.5,2,212.7,2,140.41,2,32.32,2,0.00,2,2.25,2,0.166,2,0.083,2,0.009,2,0.417,2,-999.0,9,2361.7,2,-999.0,9,-999.00,1,20050829,2049,-61.0086,-78.9703
316N20050821,AAIW,23,1,24,24,4,20050830,415,-60.4306,-78.9449,5.5,2.8844,34.0348,2,34.0397,2,308.9,2,309.4,2,11.71,2,24.89,2,0.03,2,1.74,2,4.957,6,2.782,6,0.477,6,6.473,6,2143.0,2,2276.8,2,-999.0,9,-999.00,1,20050830,615,-60.4306,-78.9449
316N20050821,AAIW,23,1,23,23,2,20050830,415,-60.4306,-78.9449,27.3,2.8970,34.0353,2,34.0391,2,308.9,2,308.8,2,11.60,2,24.89,2,0.03,2,1.74,2,4.943,2,2.772,2,0.473,2,6.482,2,2142.2,2,2276.4,2,-999.0,9,-999.00,1,20050830,613,-60.4303,-78.9452
316N20050821,AAIW,23,1,22,22,2,20050830,415,-60.4306,-78.9449,57.2,2.8890,34.0342,2,34.0367,2,308.5,2,308.6,2,11.67,2,24.90,2,0.03,2,1.74,2,4.955,2,2.774,2,0.478,2,6.421,2,2142.1,2,2276.1,2,-999.0,9,-999.00,1,20050830,611,-60.4300,-78.9455
316N20050821,AAIW,23,1,21,21,2,20050830,415,-60.4306,-78.9449,86.3,2.8458,34.0304,2,34.0340,2,308.9,2,308.1,2,11.93,2,25.03,2,0.03,2,1.75,2,4.916,2,2.763,2,0.476,2,6.284,2,2143.9,2,2275.1,2,-999.0,9,-999.00,1,20050830,609,-60.4297,-78.9458
316N20050821,AAIW,23,1,20,20,2,20050830,415,-60.4306,-78.9449,116.4,2.8426,34.0311,2,34.0332,2,309.1,2,309.8,2,11.64,2,24.91,2,0.03,2,1.74,2,4.983,2,2.812,2,0.484,2,6.506,2,2144.4,2,2275.5,2,-999.0,9,-999.00,1,20050830,606,-60.4293,-78.9462
316N20050821,AAIW,23,1,19,19,2,20050830,415,-60.4306,-78.9449,175.8,2.6970,34.0185,2,34.0197,2,309.2,2,309.9,2,11.70,2,25.18,2,0.03,2,1.76,2,5.014,2,2.790,2,0.479,2,6.584,2,2142.7,2,2275.7,2,-999.0,9,-999.00,1,20050830,604,-60.4289,-78.9468
316N20050821,AAIW,23,1,18,18,2,20050830,415,-60.4306,-78.9449,234.4,3.0326,34.0671,2,34.0712,2,287.3,2,287.6,2,15.77,2,26.44,2,0.01,2,1.85,2,4.550,2,2.507,2,0.430,2,5.605,2,2154.3,2,2278.6,2,-999.0,9,-999.00,1,20050830,602,-60.4286,-78.9472
316N20050821,AAIW,23,1,17,17,3,20050830,415,-60.4306,-78.9449,302.3,2.9187,34.0949,2,34.0254,4,267.8,2,310.0,4,11.84,4,25.18,4,0.03,4,1.76,4,4.978,4,2.811,4,0.478,4,6.422,4,2143.1,4,2274.2,4,-999.0,9,-999.00,1,20050830,559,-60.4282,-78.9478
316N20050821,AAIW,23,1,16,16,2,20050830,415,-60.4306,-78.9449,399.7,2.8814,34.1506,2,34.1545,2,258.9,2,260.2,2,25.92,2,29.23,2,0.00,2,2.02,2,3.822,2,2.058,2,0.336,2,4.513,2,2177.1,2,2287.0,2,-999.0,9,-999.00,1,20050830,556,-60.4276,-78.9483
316N20050821,AAIW,23,1,15,15,2,20050830,415,-60.4306,-78.9449,494.9,2.3794,34.1645,2,34.1671,2,259.0,2,259.0,2,30.72,2,30.12,2,0.00,2,2.08,2,3.789,2,2.050,2,0.357,2,4.568,2,2184.9,2,2289.1,2,-999.0,9,-999.00,1,20050830,553,-60.4271,-78.9488
316N20050821,AAIW,23,1,14,14,2,20050830,415,-60.4306,-78.9449,590.0,2.6120,34.2564,2,34.2600,2,226.9,2,226.3,2,40.25,2,31.80,2,0.00,2,2.20,2,2.693,2,1.412,2,0.241,2,3.254,2,2205.4,2,2299.0,2,-999.0,9,-999.00,1,20050830,550,-60.4266,-78.9496
316N20050821,AAIW,23,1,13,13,2,20050830,415,-60.4306,-78.9449,682.0,2.6798,34.3304,2,34.3312,2,204.1,2,205.1,2,48.68,2,32.99,2,0.00,2,2.29,2,1.983,2,1.027,2,0.171,2,2.496,2,2219.1,2,2306.5,2,-999.0,9,-999.00,1,20050830,546,-60.4261,-78.9502
316N20050821,AAIW,23,1,12,12,2,20050830,415,-60.4306,-78.9449,774.1,2.6921,34.3977,2,34.3987,2,189.1,2,190.1,2,56.03,2,33.63,2,0.00,2,2.33,2,1.417,2,0.762,2,0.123,2,1.890,2,2230.4,2,2314.8,2,-999.0,9,-999.00,1,20050830,543,-60.4256,-78.9507
316N20050821,AAIW,23,1,11,11,2,20050830,415,-60.4306,-78.9449,862.0,2.6207,34.4491,2,34.4511,2,181.3,2,181.7,2,61.73,2,33.89,2,0.00,2,2.36,2,1.063,2,0.521,2,0.078,2,1.481,2,2239.0,2,2321.2,2,-999.0,9,-999.00,1,20050830,540,-60.4250,-78.9513
316N20050821,AAIW,23,1,10,10,2,20050830,415,-60.4306,-78.9449,1103.1,2.4218,34.5661,2,34.5671,2,172.1,2,171.7,2,73.62,2,33.72,2,0.00,2,2.34,2,0.527,2,0.251,2,0.038,2,0.805,2,2251.0,2,2333.7,2,-999.0,9,-999.00,1,20050830,534,-60.4240,-78.9529
316N20050821,AAIW,23,1,9,9,2,20050830,415,-60.4306,-78.9449,1341.8,2.2835,34.6392,2,34.6403,2,172.3,2,171.7,2,80.61,2,32.96,2,0.00,2,2.30,2,0.274,2,0.125,2,0.009,2,0.486,2,2255.3,2,2342.3,2,-999.0,9,-999.00,1,20050830,529,-60.4231,-78.9542
316N20050821,AAIW,23,1,8,8,2,20050830,415,-60.4306,-78.9449,1624.5,2.1164,34.6913,2,34.6925,2,177.9,2,177.1,2,84.68,2,32.08,2,0.00,2,2.23,2,0.202,2,0.100,2,0.008,2,0.347,2,2255.2,2,2346.4,2,-999.0,9,-999.00,1,20050830,523,-60.4220,-78.9555
316N20050821,AAIW,23,1,7,7,2,20050830,415,-60.4306,-78.9449,1911.4,1.9232,34.7189,2,34.7210,2,183.1,2,182.5,2,90.93,2,31.51,2,0.00,2,2.19,2,0.117,2,0.053,2,0.003,2,0.225,2,2255.1,2,2351.7,2,-999.0,9,-999.00,1,20050830,516,-60.4211,-78.9569
316N20050821,AAIW,23,1,6,6,2,20050830,415,-60.4306,-78.9449,2395.6,1.5770,34.7277,2,34.7327,3,190.9,2,190.2,2,101.01,2,31.39,2,0.00,2,2.19,2,0.071,2,0.037,2,-0.003,2,0.154,2,2260.0,2,2358.4,2,-999.0,9,-999.00,1,20050830,506,-60.4197,-78.9592
316N20050821,AAIW,23,1,5,5,2,20050830,415,-60.4306,-78.9449,2896.9,1.2879,34.7246,2,34.7263,2,197.2,2,196.4,2,109.09,2,31.48,2,0.00,2,2.18,2,0.066,2,0.029,2,0.004,2,0.170,2,2258.4,2,2359.0,2,-999.0,9,-999.00,1,20050830,457,-60.4184,-78.9620
316N20050821,AAIW,23,1,4,4,2,20050830,415,-60.4306,-78.9449,3399.1,1.0061,34.7154,2,34.7180,3,202.0,2,201.8,2,118.26,2,31.78,2,0.00,2,2.21,2,0.071,2,0.033,2,0.002,2,0.210,2,2259.9,2,2358.3,2,-999.0,9,-999.00,1,20050830,446,-60.4169,-78.9642
316N20050821,AAIW,23,1,3,3,2,20050830,415,-60.4306,-78.9449,3907.9,0.7507,34.7082,2,34.7092,2,206.4,2,206.7,2,125.98,2,32.00,2,0.00,2,2.23,2,0.141,4,0.082,4,0.006,4,0.303,4,2260.5,2,2360.4,2,-999.0,9,-999.00,1,20050830,437,-60.4156,-78.9665
316N20050821,AAIW,23,1,2,2,2,20050830,415,-60.4306,-78.9449,4421.6,0.5566,34.7057,2,34.7064,2,209.7,2,210.7,2,134.06,2,32.17,2,0.00,2,2.24,2,0.089,2,0.048,2,0.003,2,0.318,2,2263.7,2,2358.9,2,-999.0,9,-999.00,1,20050830,427,-60.4140,-78.9681
316N20050821,AAIW,23,1,1,1,2,20050830,415,-60.4306,-78.9449,5069.4,0.5035,34.7040,2,34.7053,2,212.7,2,212.6,2,140.69,2,32.35,2,0.00,2,2.24,2,0.168,2,0.082,2,0.000,2,0.414,2,2264.0,2,2361.2,2,-999.0,9,-999.00,1,20050830,415,-60.4124,-78.9705
316N20050821,AAIW,24,1,24,24,4,20050830,1131,-59.8304,-78.9793,5.7,3.6778,34.0606,2,34.0620,2,305.8,2,305.7,2,8.96,2,23.70,2,0.04,2,1.66,2,4.998,2,2.675,2,0.495,2,6.383,2,2134.4,2,2273.4,2,-999.0,9,-999.00,1,20050830,1332,-59.8304,-78.9793
316N20050821,AAIW,24,1,23,23,2,20050830,1131,-59.8304,-78.9793,42.3,3.6781,34.0610,2,34.0624,2,305.6,2,305.2,2,8.95,2,23.70,2,0.04,2,1.66,2,4.976,2,2.652,2,0.451,2,6.335,2,-999.0,5,2273.4,2,-999.0,9,-999.00,1,20050830,1330,-59.8301,-78.9796
316N20050821,AAIW,24,1,22,22,2,20050830,1131,-59.8304,-78.9793,67.4,3.6809,34.0610,2,34.0628,2,305.6,2,306.0,2,8.93,2,23.70,2,0.04,2,1.66,2,4.957,2,2.643,2,0.462,2,6.195,2,2133.8,2,2272.8,2,-999.0,9,-999.00,1,20050830,1328,-59.8297,-78.9800
316N20050821,AAIW,24,1,21,21,2,20050830,1131,-59.8304,-78.9793,97.0,3.6786,34.0606,2,34.0617,2,305.2,2,305.3,2,8.92,2,23.69,2,0.04,2,1.66,2,4.942,2,2.684,2,0.461,2,6.025,2,2134.0,2,2271.8,2,-999.0,9,-999.00,1,20050830,1326,-59.8294,-78.9802
316N20050821,AAIW,24,1,20,20,2,20050830,1131,-59.8304,-78.9793,156.7,3.6055,34.0579,2,34.0588,2,306.1,2,307.2,2,9.08,2,23.86,2,0.04,2,1.67,2,5.000,2,2.690,2,0.473,2,6.113,2,2135.1,2,2274.2,2,-999.0,9,-999.00,1,20050830,1324,-59.8290,-78.9804
316N20050821,AAIW,24,1,19,19,2,20050830,1131,-59.8304,-78.9793,235.3,3.4267,34.0441,2,34.0461,2,306.2,2,305.1,2,9.62,2,24.28,2,0.03,2,1.69,2,5.039,2,2.676,2,0.478,2,6.265,2,2136.5,2,2274.9,2,-999.0,9,-999.00,1,20050830,1321,-59.8286,-78.9806
316N20050821,AAIW,24,1,18,18,2,20050830,1131,-59.8304,-78.9793,283.2,3.2907,34.0330,2,34.0347,2,307.3,2,307.3,2,9.79,2,24.46,2,0.03,2,1.71,2,5.092,2,2.730,2,0.472,2,6.187,2,2137.2,2,2274.5,2,-999.0,9,-999.00,1,20050830,1319,-59.8283,-78.9809
316N20050821,AAIW,24,1,17,17,2,20050830,1131,-59.8304,-78.9793,361.0,3.1355,34.0436,2,34.0457,2,298.8,2,299.8,2,12.32,2,25.54,2,0.02,2,1.78,2,4.954,2,2.667,2,0.454,2,5.939,2,2146.2,2,2276.2,2,-999.0,9,-999.00,1,20050830,1316,-59.8278,-78.9811
316N20050821,AAIW,24,1,16,16,2,20050830,1131,-59.8304,-78.9793,430.9,2.7390,34.0205,2,34.0224,2,-999.0,9,309.0,3,11.94,2,25.47,2,0.02,2,1.77,2,5.222,2,2.814,2,0.503,2,6.385,2,2142.6,2,2276.8,2,-999.0,9,-999.00,1,20050830,1314,-59.8274,-78.9811
316N20050821,AAIW,24,1,15,15,2,20050830,1131,-59.8304,-78.9793,530.0,3.3967,34.1895,2,34.1900,2,246.6,2,246.3,2,26.49,2,29.58,2,0.00,2,2.04,2,3.542,2,1.803,2,0.296,2,3.854,2,2179.8,2,2287.0,2,-999.0,9,-999.00,1,20050830,1310,-59.8267,-78.9810
316N20050821,AAIW,24,1,14,14,2,20050830,1131,-59.8304,-78.9793,569.0,3.4168,34.2326,2,34.2350,2,231.6,2,232.1,2,30.84,2,30.54,2,0.00,2,2.11,2,3.012,2,1.508,2,0.245,2,3.352,2,2190.1,2,2291.6,2,-999.0,9,-999.00,1,20050830,1308,-59.8264,-78.9813
316N20050821,AAIW,24,1,13,13,2,20050830,1131,-59.8304,-78.9793,608.6,3.4131,34.2624,2,34.2638,2,220.9,2,222.5,2,34.28,2,31.08,2,0.00,2,2.15,2,2.627,2,1.340,2,0.232,2,2.964,2,2196.6,2,2298.3,2,-999.0,9,-999.00,1,20050830,1306,-59.8260,-78.9814
316N20050821,AAIW,24,1,12,12,2,20050830,1131,-59.8304,-78.9793,715.3,2.8801,34.2701,2,34.2724,2,222.7,2,222.0,2,40.09,2,32.01,2,0.00,2,2.22,2,2.560,2,1.302,2,0.234,2,2.728,2,2204.1,2,2300.5,2,-999.0,9,-999.00,1,20050830,1302,-59.8254,-78.9818
316N20050821,AAIW,24,1,11,11,2,20050830,1131,-59.8304,-78.9793,809.9,2.8643,34.3367,2,34.3379,2,203.1,2,202.8,2,48.26,2,33.15,2,0.00,2,2.30,2,1.868,2,0.932,2,0.112,2,2.041,2,2218.4,2,2308.7,2,-999.0,9,-999.00,1,20050830,1259,-59.8250,-78.9826
316N20050821,AAIW,24,1,10,10,2,20050830,1131,-59.8304,-78.9793,1219.7,2.4646,34.5530,2,34.5533,2,172.6,2,172.4,2,73.35,2,34.13,2,0.00,2,2.37,2,0.551,2,0.255,2,0.023,2,0.667,2,2251.4,2,2334.8,2,-999.0,9,-999.00,1,20050830,1251,-59.8237,-78.9832
316N20050821,AAIW,24,1,9,9,2,20050830,1131,-59.8304,-78.9793,1532.0,2.2680,34.6483,2,34.6498,2,172.1,2,172.4,2,82.78,2,33.19,2,0.00,2,2.31,2,0.251,2,0.106,2,0.009,2,0.314,2,-999.0,5,2345.4,2,-999.0,9,-999.00,1,20050830,1244,-59.8228,-78.9837
316N20050821,AAIW,24,1,8,8,2,20050830,1131,-59.8304,-78.9793,1799.1,2.1016,34.6941,2,34.6942,2,176.1,2,175.5,2,88.59,2,32.55,2,0.00,2,2.26,2,0.135,2,0.053,2,0.006,2,0.169,2,-999.0,5,-999.0,1,-999.0,9,-999.00,1,20050830,1238,-59.8221,-78.9846
316N20050821,AAIW,24,1,7,7,2,20050830,1131,-59.8304,-78.9793,2085.4,1.8955,34.7145,2,34.7168,3,179.9,2,179.3,2,95.66,2,32.21,2,0.00,2,2.24,2,0.080,6,0.034,6,0.008,6,0.111,6,-999.0,5,2359.8,2,-999.0,9,-999.00,1,20050830,1232,-59.8213,-78.9857
316N20050821,AAIW,24,1,6,6,2,20050830,1131,-59.8304,-78.9793,2571.9,1.5697,34.7268,2,34.7290,2,190.5,2,190.5,2,103.29,2,31.75,2,0.00,2,2.20,2,0.064,2,0.029,2,0.005,2,0.097,2,-999.0,5,-999.0,1,-999.0,9,-999.00,1,20050830,1222,-59.8200,-78.9873
316N20050821,AAIW,24,1,5,5,2,20050830,1131,-59.8304,-78.9793,3072.0,1.2749,34.7232,2,34.7239,2,197.3,2,196.8,2,111.28,2,31.75,2,0.00,2,2.21,2,0.057,2,0.021,2,0.003,2,0.118,2,-999.0,5,2361.1,2,-999.0,9,-999.00,1,20050830,1212,-59.8194,-78.9904
316N20050821,AAIW,24,1,4,4,2,20050830,1131,-59.8304,-78.9793,3508.2,1.0194,34.7154,2,34.7162,2,202.2,2,201.8,2,118.54,2,32.04,2,0.00,2,2.23,2,0.070,2,0.028,2,0.007,2,0.167,2,-999.0,5,-999.0,1,-999.0,9,-999.00,1,20050830,1203,-59.8184,-78.9917
316N20050821,AAIW,24,1,3,3,2,20050830,1131,-59.8304,-78.9793,4012.7,0.7565,34.7086,2,34.7100,2,206.7,2,206.9,2,127.26,2,32.33,2,0.00,2,2.24,2,0.086,2,0.033,2,0.007,2,0.210,2,-999.0,5,2362.6,2,-999.0,9,-999.00,1,20050830,1153,-59.8170,-78.9927
316N20050821,AAIW,24,1,2,2,2,20050830,1131,-59.8304,-78.9793,4532.5,0.5821,34.7062,2,34.7066,2,209.8,2,210.4,2,134.89,2,32.50,2,0.00,2,2.26,2,0.098,2,0.045,2,0.004,2,0.282,2,-999.0,5,-999.0,1,-999.0,9,-999.00,1,20050830,1143,-59.8156,-78.9933
316N20050821,AAIW,24,1,1,1,2,20050830,1131,-59.8304,-78.9793,5134.2,0.5710,34.7049,2,34.7060,2,211.8,2,211.8,2,137.42,2,32.54,2,0.00,2,2.27,2,0.130,2,0.081,2,0.000,2,0.341,2,2263.1,2,2362.7,2,-999.0,9,-999.00,1,20050830,1131,-59.8141,-78.9938