BOTTLE,20220819CCHSIOAMB
EXPOCODE,SECT_ID,STNNBR,CASTNO,SAMPNO,BTLNBR,BTLNBR_FLAG_W,DATE,TIME,LATITUDE,LONGITUDE,CTDPRS,CTDTMP,CTDSAL,CTDSAL_FLAG_W,SALNTY,SALNTY_FLAG_W,CTDOXY,CTDOXY_FLAG_W,OXYGEN,OXYGEN_FLAG_W,SILCAT,SILCAT_FLAG_W,NITRAT,NITRAT_FLAG_W,NITRIT,NITRIT_FLAG_W,PHSPHT,PHSPHT_FLAG_W,CFC-11,CFC-11_FLAG_W,CFC-12,CFC-12_FLAG_W,CFC113,CFC113_FLAG_W,CCL4,CCL4_FLAG_W,TCARBN,TCARBN_FLAG_W,ALKALI,ALKALI_FLAG_W,PCO2,PCO2_FLAG_W,PH_SWS,PH_SWS_FLAG_W,BTL_DATE,BTL_TIME,BTL_LAT,BTL_LON
,,,,,,,,,,,DBAR,ITS-90,PSS-78,,PSS-78,,UMOL/KG,,UMOL/KG,,UMOL/KG,,UMOL/KG,,UMOL/KG,,UMOL/KG,,PMOL/KG,,PMOL/KG,,PMOL/KG,,PMOL/KG,,UMOL/KG,,UMOL/KG,,UATM,,,,,,,
316N20050821,AAIW,34,1,24,24,2,20050902,1141,-57.4747,-84.4477,12.2,4.6048,34.1042,2,34.1054,2,303.7,2,302.2,2,5.68,2,21.47,2,0.04,2,1.53,2,4.909,2,2.719,2,0.462,2,6.000,2,2124.9,2,2274.2,2,-999.0,9,-999.00,1,20050902,1351,-57.4747,-84.4477
316N20050821,AAIW,34,1,23,23,2,20050902,1141,-57.4747,-84.4477,57.4,4.6083,34.1101,2,34.1114,2,303.1,2,301.5,2,5.69,2,21.42,2,0.04,2,1.53,2,4.902,2,2.713,2,0.478,4,6.038,2,2126.0,2,2273.0,2,-999.0,9,-999.00,1,20050902,1349,-57.4748,-84.4479
316N20050821,AAIW,34,1,22,22,2,20050902,1141,-57.4747,-84.4477,106.7,4.6135,34.1137,2,34.1161,2,301.3,2,301.0,2,5.69,2,21.43,2,0.04,2,1.53,2,4.885,2,2.702,2,0.510,4,5.980,2,-999.0,5,2272.5,2,-999.0,9,-999.00,1,20050902,1346,-57.4748,-84.4484
316N20050821,AAIW,34,1,21,21,2,20050902,1141,-57.4747,-84.4477,206.7,4.6105,34.1133,2,34.1149,2,300.0,2,300.9,2,5.70,2,21.53,2,0.04,2,1.53,2,4.893,2,2.694,2,0.452,2,5.865,2,2126.7,2,2272.6,2,-999.0,9,-999.00,1,20050902,1342,-57.4749,-84.4488
316N20050821,AAIW,34,1,20,20,2,20050902,1141,-57.4747,-84.4477,306.4,4.5546,34.1068,2,34.1089,2,298.5,2,300.2,2,5.90,2,21.69,2,0.04,2,1.54,2,4.864,2,2.691,2,0.445,2,5.898,2,-999.0,9,2273.7,2,-999.0,9,-999.00,1,20050902,1339,-57.4749,-84.4486
316N20050821,AAIW,34,1,19,19,2,20050902,1141,-57.4747,-84.4477,406.6,4.3545,34.0852,2,34.0864,2,299.1,2,297.6,2,6.69,2,22.45,2,0.03,2,1.58,2,4.905,6,2.661,6,0.425,6,5.865,6,2132.5,2,2275.2,2,-999.0,9,-999.00,1,20050902,1335,-57.4749,-84.4487
316N20050821,AAIW,34,1,18,18,2,20050902,1141,-57.4747,-84.4477,506.6,4.6886,34.1834,2,34.1855,2,255.7,2,255.5,2,14.18,2,25.79,2,0.01,2,1.79,2,3.919,2,2.056,2,0.306,2,4.136,2,-999.0,9,2281.4,2,-999.0,9,-999.00,1,20050902,1332,-57.4749,-84.4489
316N20050821,AAIW,34,1,17,17,2,20050902,1141,-57.4747,-84.4477,606.2,4.4036,34.2135,2,34.2155,2,239.8,2,240.0,2,19.30,2,27.66,2,0.00,2,1.91,2,3.452,2,1.789,2,0.270,2,3.675,2,2170.4,2,2284.5,2,-999.0,9,-999.00,1,20050902,1329,-57.4749,-84.4491
316N20050821,AAIW,34,1,16,16,2,20050902,1141,-57.4747,-84.4477,705.9,3.8274,34.2132,2,34.2165,2,235.4,2,235.5,2,24.62,2,28.47,2,0.00,2,2.01,2,3.349,2,1.716,2,0.267,2,3.632,2,-999.0,9,2286.9,2,-999.0,9,-999.00,1,20050902,1325,-57.4749,-84.4493
316N20050821,AAIW,34,1,15,15,9,20050902,1141,-57.4747,-84.4477,806.5,3.5882,34.2590,2,-999.0000,9,-999.0,9,-999.0,9,-999.00,9,-999.00,9,-999.00,9,-999.00,9,-999.000,9,-999.000,9,-999.000,9,-999.000,9,-999.0,9,-999.0,9,-999.0,9,-999.00,9,20050902,1322,-57.4749,-84.4497
316N20050821,AAIW,34,1,14,14,2,20050902,1141,-57.4747,-84.4477,906.5,3.3236,34.3255,2,34.3268,2,204.9,2,205.1,2,41.21,2,32.02,2,0.00,2,2.21,2,1.954,2,0.969,2,0.146,2,2.333,2,2211.5,2,2303.8,2,-999.0,9,-999.00,1,20050902,1319,-57.4749,-84.4501
316N20050821,AAIW,34,1,13,13,2,20050902,1141,-57.4747,-84.4477,1004.2,3.1071,34.3686,2,34.3695,2,195.0,2,195.5,2,48.34,2,32.88,2,0.00,2,2.27,2,1.523,2,0.743,2,0.107,2,1.936,2,2211.5,2,2311.2,2,-999.0,9,-999.00,1,20050902,1315,-57.4750,-84.4502
316N20050821,AAIW,34,1,12,12,2,20050902,1141,-57.4747,-84.4477,1095.5,2.9054,34.4081,2,34.4096,2,188.1,2,188.4,2,54.69,2,33.54,2,0.00,2,2.31,2,1.247,2,0.599,2,0.096,2,1.626,2,2232.0,2,2316.9,2,-999.0,9,-999.00,1,20050902,1311,-57.4751,-84.4502
316N20050821,AAIW,34,1,11,11,2,20050902,1141,-57.4747,-84.4477,1278.2,2.6513,34.4921,2,34.4945,2,177.6,2,176.7,2,65.41,2,33.92,2,0.00,2,2.34,2,0.774,2,0.376,2,0.040,2,1.085,2,-999.0,9,2327.7,2,-999.0,9,-999.00,1,20050902,1305,-57.4749,-84.4499
316N20050821,AAIW,34,1,10,10,2,20050902,1141,-57.4747,-84.4477,1465.5,2.5230,34.5507,2,34.5529,2,172.5,2,172.2,2,71.57,2,33.76,2,0.00,2,2.34,2,0.543,2,0.252,2,0.021,2,0.746,2,2251.9,2,2333.9,2,-999.0,9,-999.00,1,20050902,1259,-57.4743,-84.4492
316N20050821,AAIW,34,1,9,9,2,20050902,1141,-57.4747,-84.4477,1660.4,2.3985,34.6121,2,34.6143,2,170.8,2,170.7,2,77.35,2,33.39,2,0.00,2,2.31,2,0.354,2,0.164,2,0.020,2,0.517,2,-999.0,9,2341.1,2,-999.0,9,-999.00,1,20050902,1254,-57.4735,-84.4486
316N20050821,AAIW,34,1,8,8,2,20050902,1141,-57.4747,-84.4477,1854.1,2.2814,34.6591,2,34.6614,2,172.1,2,172.2,2,82.33,2,32.90,2,0.00,2,2.27,2,0.208,2,0.096,2,0.000,2,0.316,2,-999.0,9,-999.0,1,-999.0,9,-999.00,1,20050902,1249,-57.4728,-84.4477
316N20050821,AAIW,34,1,7,7,2,20050902,1141,-57.4747,-84.4477,2097.7,2.1153,34.6992,2,34.7005,3,177.2,2,177.4,2,86.91,2,31.93,2,0.00,2,2.21,2,0.135,2,0.060,2,0.000,2,0.203,2,-999.0,9,2350.8,2,-999.0,9,-999.00,1,20050902,1243,-57.4720,-84.4465
316N20050821,AAIW,34,1,6,6,2,20050902,1141,-57.4747,-84.4477,2592.5,1.7258,34.7216,2,34.7233,3,184.5,2,184.7,2,100.12,2,31.66,2,0.00,2,2.19,2,0.069,2,0.035,2,0.000,2,0.092,2,-999.0,9,-999.0,1,-999.0,9,-999.00,1,20050902,1232,-57.4706,-84.4447
316N20050821,AAIW,34,1,5,5,2,20050902,1141,-57.4747,-84.4477,3090.5,1.4474,34.7236,2,34.7259,3,191.9,2,192.2,2,106.54,2,31.57,2,0.00,2,2.18,2,0.043,2,0.027,2,0.000,2,0.072,2,-999.0,9,2363.7,2,-999.0,9,-999.00,1,20050902,1222,-57.4693,-84.4424
316N20050821,AAIW,34,1,4,4,2,20050902,1141,-57.4747,-84.4477,3589.0,1.1214,34.7178,2,34.7184,2,199.7,2,200.1,2,115.78,2,31.72,2,0.00,2,2.19,2,0.065,2,0.026,2,0.000,2,0.119,2,-999.0,9,-999.0,1,-999.0,9,-999.00,1,20050902,1212,-57.4682,-84.4404
316N20050821,AAIW,34,1,3,3,2,20050902,1141,-57.4747,-84.4477,4096.0,0.7937,34.7097,2,34.7099,2,205.8,2,206.0,2,126.26,2,32.00,2,0.00,2,2.21,2,0.069,2,0.033,2,0.000,2,0.169,2,-999.0,9,2364.1,2,-999.0,9,-999.00,1,20050902,1202,-57.4668,-84.4387
316N20050821,AAIW,34,1,2,2,2,20050902,1141,-57.4747,-84.4477,4603.2,0.6177,34.7066,2,34.7075,2,209.5,2,209.8,2,133.53,2,32.16,2,0.00,2,2.22,2,0.073,2,0.036,2,0.000,2,0.230,2,-999.0,9,-999.0,1,-999.0,9,-999.00,1,20050902,1152,-57.4656,-84.4369
316N20050821,AAIW,34,1,1,1,2,20050902,1141,-57.4747,-84.4477,5175.5,0.6176,34.7055,2,34.7076,3,211.9,2,211.1,2,136.36,2,32.17,2,0.00,2,2.23,2,0.095,2,0.044,2,0.005,2,0.261,2,-999.0,9,2363.7,2,-999.0,9,-999.00,1,20050902,1141,-57.4643,-84.4348
316N20050821,AAIW,35,1,24,24,2,20050902,1836,-57.9041,-84.7776,16.6,4.3615,34.0768,2,34.0801,2,307.1,2,305.8,2,6.04,2,22.02,2,0.05,2,1.56,2,4.937,2,2.739,2,0.458,2,6.108,2,2127.4,6,2273.0,2,-999.0,9,-999.00,1,20050902,2030,-57.9041,-84.7776
316N20050821,AAIW,35,1,23,23,2,20050902,1836,-57.9041,-84.7776,36.7,4.3587,34.0843,2,34.0868,2,306.3,2,306.2,2,6.04,2,22.02,2,0.05,2,1.56,2,4.901,2,2.728,2,0.459,2,6.120,2,2130.2,2,2273.4,2,-999.0,9,-999.00,1,20050902,2028,-57.9040,-84.7784
316N20050821,AAIW,35,1,22,22,2,20050902,1836,-57.9041,-84.7776,56.4,4.3665,34.0913,2,34.0934,2,305.7,2,306.1,2,6.04,2,22.01,2,0.05,2,1.56,2,4.922,2,2.736,2,0.465,2,6.006,2,2129.5,2,2274.1,2,-999.0,9,-999.00,1,20050902,2027,-57.9040,-84.7792
316N20050821,AAIW,35,1,21,21,2,20050902,1836,-57.9041,-84.7776,111.4,4.3045,34.0873,2,34.0904,2,304.9,2,305.1,2,6.24,2,22.12,2,0.05,2,1.56,2,4.951,2,2.746,2,0.463,2,6.216,2,2130.1,2,2273.3,2,-999.0,9,-999.00,1,20050902,2025,-57.9041,-84.7807
316N20050821,AAIW,35,1,20,20,2,20050902,1836,-57.9041,-84.7776,165.6,4.0599,34.0721,2,34.0748,2,306.5,2,307.3,2,6.83,2,22.82,2,0.06,2,1.61,2,4.983,2,2.748,2,0.468,2,6.122,2,2132.1,2,2274.5,2,-999.0,9,-999.00,1,20050902,2023,-57.9041,-84.7819
316N20050821,AAIW,35,1,19,19,2,20050902,1836,-57.9041,-84.7776,215.7,3.9933,34.0662,2,34.0689,2,306.3,2,305.7,2,7.03,2,22.92,2,0.06,2,1.62,2,5.032,2,2.785,2,0.467,2,6.207,2,2132.8,2,2274.4,2,-999.0,9,-999.00,1,20050902,2021,-57.9040,-84.7829
316N20050821,AAIW,35,1,18,18,2,20050902,1836,-57.9041,-84.7776,265.0,3.9190,34.0597,2,34.0628,2,305.1,2,304.3,2,7.42,2,23.25,2,0.06,2,1.64,2,5.012,2,2.773,2,0.463,2,6.142,2,2133.6,2,2274.2,2,-999.0,9,-999.00,1,20050902,2019,-57.9040,-84.7837
316N20050821,AAIW,35,1,17,17,2,20050902,1836,-57.9041,-84.7776,364.2,3.8531,34.0713,2,34.0718,2,292.4,2,292.8,2,9.79,2,24.55,2,0.02,2,1.72,2,4.811,2,2.607,2,0.418,2,5.812,2,2142.2,2,2275.9,2,-999.0,9,-999.00,1,20050902,2017,-57.9038,-84.7848
316N20050821,AAIW,35,1,16,16,2,20050902,1836,-57.9041,-84.7776,463.1,3.8322,34.1343,2,34.1352,2,264.6,2,264.1,2,16.88,2,27.22,2,0.01,2,1.89,2,4.156,2,2.249,2,0.345,2,4.603,2,2162.8,2,2280.7,2,-999.0,9,-999.00,1,20050902,2014,-57.9036,-84.7858
316N20050821,AAIW,35,1,15,15,2,20050902,1836,-57.9041,-84.7776,561.9,3.9875,34.2340,2,34.2360,2,230.7,2,231.0,2,25.37,2,29.54,2,0.00,2,2.03,2,3.052,2,1.572,2,0.231,2,3.267,2,2183.1,2,2288.3,2,-999.0,9,-999.00,1,20050902,2012,-57.9034,-84.7868
316N20050821,AAIW,35,1,14,14,2,20050902,1836,-57.9041,-84.7776,657.6,3.7627,34.2860,2,34.2879,2,213.2,2,215.4,2,31.69,2,30.92,2,0.00,2,2.13,2,2.382,2,1.204,2,0.169,2,2.644,2,2195.9,2,2295.0,2,-999.0,9,-999.00,1,20050902,2009,-57.9034,-84.7881
316N20050821,AAIW,35,1,13,13,2,20050902,1836,-57.9041,-84.7776,761.1,3.3581,34.3032,2,34.3053,2,209.8,2,210.5,2,38.82,2,32.02,2,0.00,2,2.21,2,2.170,2,1.086,2,0.166,2,2.490,2,2208.1,2,2300.0,2,-999.0,9,-999.00,1,20050902,2006,-57.9033,-84.7894
316N20050821,AAIW,35,1,12,12,2,20050902,1836,-57.9041,-84.7776,865.4,2.9785,34.3253,2,34.3276,2,205.3,2,205.0,2,44.77,2,32.91,2,0.00,2,2.27,2,1.999,2,1.006,2,0.135,2,2.368,2,2216.7,2,2305.3,2,-999.0,9,-999.00,1,20050902,2004,-57.9032,-84.7908
316N20050821,AAIW,35,1,11,11,2,20050902,1836,-57.9041,-84.7776,970.1,2.9038,34.3986,2,34.3985,2,190.4,2,190.0,2,53.49,2,33.63,2,0.00,2,2.32,2,1.352,2,0.667,2,0.080,2,1.693,2,2229.7,2,2314.4,2,-999.0,9,-999.00,1,20050902,2001,-57.9029,-84.7920
316N20050821,AAIW,35,1,10,10,2,20050902,1836,-57.9041,-84.7776,1167.6,2.6431,34.4890,2,34.4918,2,178.6,2,178.2,2,65.22,2,34.23,2,0.00,2,2.38,2,0.810,2,0.395,2,0.047,2,1.083,2,2245.5,2,2326.7,2,-999.0,9,-999.00,1,20050902,1956,-57.9025,-84.7941
316N20050821,AAIW,35,1,9,9,2,20050902,1836,-57.9041,-84.7776,1497.2,2.3851,34.6113,2,34.6120,2,172.7,2,171.6,2,77.18,2,33.60,2,0.00,2,2.34,2,0.362,6,0.167,6,0.000,6,0.509,6,2258.6,2,2340.4,2,-999.0,9,-999.00,1,20050902,1949,-57.9017,-84.7968
316N20050821,AAIW,35,1,8,8,2,20050902,1836,-57.9041,-84.7776,1738.0,2.2436,34.6673,2,34.6699,2,175.0,2,174.7,2,81.37,2,32.76,2,0.00,2,2.28,2,0.219,2,0.095,2,0.000,2,0.319,2,2259.5,2,2346.6,2,-999.0,9,-999.00,1,20050902,1944,-57.9010,-84.7988
316N20050821,AAIW,35,1,7,7,2,20050902,1836,-57.9041,-84.7776,2168.7,1.9506,34.7169,2,34.7168,2,182.9,2,182.2,2,91.98,2,31.92,2,0.00,2,2.21,2,0.113,2,0.056,2,0.000,2,0.160,2,2259.1,2,2353.8,2,-999.0,9,-999.00,1,20050902,1935,-57.9001,-84.8024
316N20050821,AAIW,35,1,6,6,2,20050902,1836,-57.9041,-84.7776,2652.1,1.6046,34.7254,2,34.7274,2,190.1,2,190.0,2,102.42,2,31.85,2,0.00,2,2.21,2,0.065,2,0.035,2,0.000,2,0.103,2,2263.4,2,2360.2,2,-999.0,9,-999.00,1,20050902,1926,-57.8993,-84.8062
316N20050821,AAIW,35,1,5,5,2,20050902,1836,-57.9041,-84.7776,3164.6,1.3077,34.7223,2,34.7234,2,196.4,2,196.8,2,109.86,2,31.84,2,0.00,2,2.21,2,0.052,2,0.028,2,0.000,2,0.100,2,2262.9,2,2362.2,2,-999.0,9,-999.00,1,20050902,1917,-57.8976,-84.8096
316N20050821,AAIW,35,1,4,4,2,20050902,1836,-57.9041,-84.7776,3686.7,0.9788,34.7141,2,34.7167,3,202.8,2,202.9,2,121.35,2,32.17,2,0.00,2,2.23,2,0.074,2,0.041,2,0.000,2,0.163,2,2263.2,2,2362.8,2,-999.0,9,-999.00,1,20050902,1908,-57.8960,-84.8132
316N20050821,AAIW,35,1,3,3,2,20050902,1836,-57.9041,-84.7776,4224.3,0.6640,34.7073,2,34.7081,2,209.1,2,210.4,2,130.25,2,32.21,2,0.00,2,2.24,2,0.105,2,0.056,2,0.000,2,0.250,2,2264.5,2,2362.6,2,-999.0,9,-999.00,1,20050902,1857,-57.8939,-84.8174
316N20050821,AAIW,35,1,2,2,2,20050902,1836,-57.9041,-84.7776,4764.3,0.5790,34.7057,2,34.7059,2,211.6,2,212.6,2,136.54,2,32.54,2,0.00,2,2.25,2,0.102,2,0.047,2,0.000,2,0.296,2,2264.7,2,2363.7,2,-999.0,9,-999.00,1,20050902,1846,-57.8914,-84.8225
316N20050821,AAIW,35,1,1,1,2,20050902,1836,-57.9041,-84.7776,5228.1,0.5910,34.7048,2,34.7053,2,213.7,2,212.1,2,137.95,2,32.59,2,0.00,2,2.26,2,0.125,2,0.069,2,0.000,2,0.328,2,2265.8,6,2363.1,2,-999.0,9,-999.00,1,20050902,1836,-57.8886,-84.8257
316N20050821,AAIW,36,1,24,24,2,20050903,210,-58.3738,-85.2492,18.4,4.1818,34.0751,2,34.0795,2,305.9,2,305.6,2,6.60,2,22.31,2,0.05,2,1.57,2,4.878,2,2.604,2,0.523,2,6.126,2,2131.4,2,2273.1,2,-999.0,9,-999.00,1,20050903,405,-58.3738,-85.2492
316N20050821,AAIW,36,1,23,23,2,20050903,210,-58.3738,-85.2492,48.1,4.1760,34.0751,2,34.0779,2,305.3,2,305.2,2,6.60,2,22.19,2,0.05,2,1.57,2,4.873,2,2.633,2,0.505,2,6.117,2,-999.0,9,2272.8,2,-999.0,9,-999.00,1,20050903,404,-58.3736,-85.2494
316N20050821,AAIW,36,1,22,22,2,20050903,210,-58.3738,-85.2492,79.0,4.0911,34.0737,2,34.0754,2,304.0,2,303.6,2,6.99,2,22.57,2,0.05,2,1.58,2,4.848,2,2.624,2,0.494,2,5.940,2,2133.1,2,2274.4,2,-999.0,9,-999.00,1,20050903,402,-58.3733,-85.2494
316N20050821,AAIW,36,1,21,21,2,20050903,210,-58.3738,-85.2492,128.1,3.9932,34.0693,2,34.0712,2,301.8,2,301.0,2,7.78,2,23.00,2,0.05,2,1.61,2,4.853,2,2.582,2,0.470,2,5.959,2,2139.4,2,2273.8,2,-999.0,9,-999.00,1,20050903,400,-58.3730,-85.2495
316N20050821,AAIW,36,1,20,20,2,20050903,210,-58.3738,-85.2492,178.8,4.1922,34.1094,2,34.1103,2,279.8,2,279.9,2,10.13,2,24.62,2,0.02,2,1.75,2,4.423,6,2.319,6,0.399,6,5.129,6,2148.3,4,2277.0,3,-999.0,9,-999.00,1,20050903,358,-58.3728,-85.2495
316N20050821,AAIW,36,1,19,19,2,20050903,210,-58.3738,-85.2492,226.9,3.6735,34.0538,2,34.0561,2,297.6,2,298.1,2,12.09,2,24.11,2,0.03,2,1.72,2,4.848,3,2.573,3,0.454,3,5.944,3,2143.0,2,2274.3,2,-999.0,9,-999.00,1,20050903,356,-58.3725,-85.2495
316N20050821,AAIW,36,1,18,18,9,20050903,210,-58.3738,-85.2492,278.1,3.3364,34.0198,2,-999.0000,9,-999.0,9,-999.0,9,-999.00,9,-999.00,9,-999.00,9,-999.00,9,-999.000,9,-999.000,9,-999.000,9,-999.000,9,-999.0,9,-999.0,9,-999.0,9,-999.00,9,20050903,354,-58.3722,-85.2495
316N20050821,AAIW,36,1,17,17,9,20050903,210,-58.3738,-85.2492,377.1,3.7496,34.1173,2,-999.0000,9,-999.0,9,-999.0,9,-999.00,9,-999.00,9,-999.00,9,-999.00,9,-999.000,9,-999.000,9,-999.000,9,-999.000,9,-999.0,9,-999.0,9,-999.0,9,-999.00,9,20050903,352,-58.3720,-85.2496
316N20050821,AAIW,36,1,16,16,2,20050903,210,-58.3738,-85.2492,475.6,3.4656,34.1476,2,34.1474,2,256.5,2,257.9,2,21.12,2,28.19,2,0.00,2,1.98,2,3.953,2,2.064,2,0.347,2,4.426,2,2170.7,2,2283.3,2,-999.0,9,-999.00,1,20050903,349,-58.3717,-85.2499
316N20050821,AAIW,36,1,15,15,2,20050903,210,-58.3738,-85.2492,574.9,3.2581,34.2012,2,34.2041,2,240.3,2,240.1,2,28.39,2,29.90,2,0.00,2,2.09,2,3.358,2,1.726,2,0.274,2,3.789,2,2187.7,2,2288.9,2,-999.0,9,-999.00,1,20050903,346,-58.3713,-85.2502
316N20050821,AAIW,36,1,14,14,2,20050903,210,-58.3738,-85.2492,675.6,3.1850,34.2681,2,34.2721,2,220.8,2,220.4,2,36.07,2,31.26,2,0.00,2,2.19,2,2.593,2,1.299,2,0.212,2,2.974,2,2200.1,2,2296.5,2,-999.0,9,-999.00,1,20050903,342,-58.3709,-85.2507
316N20050821,AAIW,36,1,13,13,2,20050903,210,-58.3738,-85.2492,771.5,2.9695,34.3166,2,34.3195,2,205.8,2,206.6,2,43.95,2,32.43,2,0.00,2,2.33,2,2.073,2,1.055,2,0.149,2,2.532,2,2214.0,2,2303.3,2,-999.0,9,-999.00,1,20050903,339,-58.3708,-85.2508
316N20050821,AAIW,36,1,12,12,2,20050903,210,-58.3738,-85.2492,867.5,2.8192,34.3626,2,34.3622,2,196.0,2,196.8,2,50.07,2,32.85,2,0.00,2,2.36,2,1.704,2,0.862,2,0.133,2,2.117,2,2224.6,2,2309.5,2,-999.0,9,-999.00,1,20050903,337,-58.3705,-85.2511
316N20050821,AAIW,36,1,11,11,2,20050903,210,-58.3738,-85.2492,991.2,2.6923,34.4384,2,34.4398,2,182.7,2,182.7,2,59.37,2,33.73,2,0.00,2,2.39,2,1.150,2,0.556,2,0.071,2,1.528,2,2237.5,2,2320.1,2,-999.0,9,-999.00,1,20050903,333,-58.3701,-85.2515
316N20050821,AAIW,36,1,10,10,2,20050903,210,-58.3738,-85.2492,1130.0,2.5560,34.4954,2,34.4944,2,176.1,2,176.5,2,65.91,2,33.95,2,0.00,2,2.41,2,0.868,2,0.415,2,0.051,2,1.183,2,2246.5,2,2326.4,2,-999.0,9,-999.00,1,20050903,329,-58.3696,-85.2519
316N20050821,AAIW,36,1,9,9,2,20050903,210,-58.3738,-85.2492,1326.7,2.4200,34.5810,2,34.5810,2,171.1,2,171.5,2,74.64,2,33.48,2,0.00,2,2.38,2,0.490,2,0.222,2,0.031,2,0.700,2,-999.0,9,2334.8,2,-999.0,9,-999.00,1,20050903,325,-58.3690,-85.2529
316N20050821,AAIW,36,1,8,8,2,20050903,210,-58.3738,-85.2492,1623.2,2.2438,34.6604,2,34.6608,2,172.8,2,173.1,2,81.40,2,32.59,2,0.00,2,2.30,2,0.265,2,0.119,2,0.020,2,0.408,2,2256.2,2,2343.5,2,-999.0,9,-999.00,1,20050903,318,-58.3681,-85.2542
316N20050821,AAIW,36,1,7,7,2,20050903,210,-58.3738,-85.2492,2027.9,2.0015,34.7141,2,34.7142,2,180.4,2,181.0,2,88.37,2,31.54,2,0.00,2,2.22,2,0.148,2,0.056,2,0.001,2,0.227,2,2257.3,2,2349.8,2,-999.0,9,-999.00,1,20050903,310,-58.3668,-85.2561
316N20050821,AAIW,36,1,6,6,9,20050903,210,-58.3738,-85.2492,2528.5,1.6238,34.7260,2,-999.0000,9,-999.0,9,-999.0,9,-999.00,9,-999.00,9,-999.00,9,-999.00,9,-999.000,9,-999.000,9,-999.000,9,-999.000,9,-999.0,9,-999.0,9,-999.0,9,-999.00,9,20050903,301,-58.3655,-85.2580
316N20050821,AAIW,36,1,5,5,2,20050903,210,-58.3738,-85.2492,3036.4,1.3414,34.7234,2,34.7229,2,194.6,2,194.8,2,108.36,2,31.42,2,0.00,2,2.22,2,0.062,2,0.026,2,0.001,2,0.134,2,-999.0,9,2361.4,2,-999.0,9,-999.00,1,20050903,251,-58.3643,-85.2599
316N20050821,AAIW,36,1,4,4,2,20050903,210,-58.3738,-85.2492,3540.7,1.0370,34.7157,2,34.7160,2,201.2,2,201.1,2,118.20,2,31.68,2,0.00,2,2.23,2,0.068,2,0.029,2,0.001,2,0.199,2,-999.0,9,2360.8,2,-999.0,9,-999.00,1,20050903,241,-58.3631,-85.2614
316N20050821,AAIW,36,1,3,3,2,20050903,210,-58.3738,-85.2492,4046.9,0.7400,34.7087,2,34.7081,2,206.7,2,206.7,2,127.26,2,31.79,2,0.00,2,2.25,2,0.082,2,0.034,2,0.001,2,0.241,2,-999.0,9,2362.4,2,-999.0,9,-999.00,1,20050903,231,-58.3621,-85.2631
316N20050821,AAIW,36,1,2,2,2,20050903,210,-58.3738,-85.2492,4557.9,0.5709,34.7059,2,34.7067,2,210.2,2,211.0,2,134.72,2,32.05,2,0.00,2,2.26,2,0.092,2,0.036,2,0.001,2,0.307,2,-999.0,9,2363.3,2,-999.0,9,-999.00,1,20050903,221,-58.3610,-85.2648
316N20050821,AAIW,36,1,1,1,2,20050903,210,-58.3738,-85.2492,5146.8,0.5840,34.7050,2,34.7045,2,210.2,2,211.3,2,137.35,2,32.15,2,0.00,2,2.26,2,0.119,2,0.056,2,0.001,2,0.348,2,-999.0,9,2362.8,2,-999.0,9,-999.00,1,20050903,210,-58.3601,-85.2661