BOTTLE,20220819CCHSIOAMB
EXPOCODE,SECT_ID,STNNBR,CASTNO,SAMPNO,BTLNBR,BTLNBR_FLAG_W,DATE,TIME,LATITUDE,LONGITUDE,CTDPRS,CTDTMP,CTDSAL,CTDSAL_FLAG_W,SALNTY,SALNTY_FLAG_W,CTDOXY,CTDOXY_FLAG_W,OXYGEN,OXYGEN_FLAG_W,SILCAT,SILCAT_FLAG_W,NITRAT,NITRAT_FLAG_W,NITRIT,NITRIT_FLAG_W,PHSPHT,PHSPHT_FLAG_W,CFC-11,CFC-11_FLAG_W,CFC-12,CFC-12_FLAG_W,CFC113,CFC113_FLAG_W,CCL4,CCL4_FLAG_W,TCARBN,TCARBN_FLAG_W,ALKALI,ALKALI_FLAG_W,PCO2,PCO2_FLAG_W,PH_SWS,PH_SWS_FLAG_W,BTL_DATE,BTL_TIME,BTL_LAT,BTL_LON
,,,,,,,,,,,DBAR,ITS-90,PSS-78,,PSS-78,,UMOL/KG,,UMOL/KG,,UMOL/KG,,UMOL/KG,,UMOL/KG,,UMOL/KG,,PMOL/KG,,PMOL/KG,,PMOL/KG,,PMOL/KG,,UMOL/KG,,UMOL/KG,,UATM,,,,,,,
316N20050821,AAIW,28,1,24,24,2,20050831,1626,-57.6046,-79.0045,13.2,4.8782,34.1508,2,34.1493,2,299.8,2,299.2,2,5.32,2,21.12,2,0.05,2,1.51,2,4.750,2,2.627,2,0.425,2,5.507,2,2124.4,2,2274.1,2,-999.0,9,-999.00,1,20050831,1814,-57.6046,-79.0045
316N20050821,AAIW,28,1,23,23,2,20050831,1626,-57.6046,-79.0045,42.4,4.8746,34.1507,2,34.1463,2,299.5,2,298.8,2,5.30,2,21.12,2,0.05,2,1.51,2,4.726,2,2.650,2,0.423,2,5.549,2,-999.0,9,2273.2,2,-999.0,9,-999.00,1,20050831,1812,-57.6043,-79.0042
316N20050821,AAIW,28,1,22,22,2,20050831,1626,-57.6046,-79.0045,82.1,4.8777,34.1508,2,34.1477,2,299.7,2,299.8,2,5.28,2,21.07,2,0.05,2,1.51,2,4.724,2,2.621,2,0.425,2,5.479,2,2124.7,2,2273.1,2,-999.0,9,-999.00,1,20050831,1811,-57.6040,-79.0041
316N20050821,AAIW,28,1,21,21,2,20050831,1626,-57.6046,-79.0045,107.3,4.8790,34.1507,2,34.1462,2,299.8,2,299.0,2,5.25,2,21.18,2,0.05,2,1.51,2,4.731,2,2.575,2,0.430,2,5.673,2,2124.8,2,2274.1,2,-999.0,9,-999.00,1,20050831,1810,-57.6038,-79.0040
316N20050821,AAIW,28,1,20,20,2,20050831,1626,-57.6046,-79.0045,156.4,4.8846,34.1510,2,34.1480,2,299.5,2,299.9,2,5.23,2,21.07,2,0.05,2,1.50,2,4.701,2,2.591,2,0.428,2,5.433,2,2124.7,2,2274.7,2,-999.0,9,-999.00,1,20050831,1807,-57.6034,-79.0039
316N20050821,AAIW,28,1,19,19,2,20050831,1626,-57.6046,-79.0045,205.8,4.8873,34.1509,2,34.1474,2,299.5,2,298.5,2,5.21,2,21.18,2,0.05,2,1.51,2,4.748,2,2.653,2,0.432,2,5.498,2,2124.5,2,2274.0,2,-999.0,9,-999.00,1,20050831,1805,-57.6031,-79.0039
316N20050821,AAIW,28,1,18,18,2,20050831,1626,-57.6046,-79.0045,303.3,4.8766,34.1482,2,34.1478,2,299.2,2,299.5,2,5.19,2,21.18,2,0.04,2,1.51,2,4.766,2,2.587,2,0.428,2,5.506,2,2125.2,2,2273.7,2,-999.0,9,-999.00,1,20050831,1803,-57.6024,-79.0039
316N20050821,AAIW,28,1,17,17,2,20050831,1626,-57.6046,-79.0045,352.7,4.9038,34.1524,2,34.1508,2,297.1,2,297.4,2,5.37,2,21.34,2,0.04,2,1.51,2,4.703,2,2.602,2,0.419,2,5.317,2,2126.0,2,2274.0,2,-999.0,9,-999.00,1,20050831,1801,-57.6020,-79.0038
316N20050821,AAIW,28,1,16,16,2,20050831,1626,-57.6046,-79.0045,400.5,4.9729,34.1680,2,34.1647,2,289.0,2,289.3,2,6.74,2,22.17,2,0.02,2,1.55,2,4.561,2,2.476,2,0.407,2,4.994,2,2134.1,2,2275.3,2,-999.0,9,-999.00,1,20050831,1759,-57.6016,-79.0037
316N20050821,AAIW,28,1,15,15,2,20050831,1626,-57.6046,-79.0045,499.1,4.7323,34.1766,2,34.1716,2,267.2,2,266.5,2,11.71,2,25.10,2,0.00,2,1.74,2,4.047,2,2.185,2,0.326,2,4.184,2,2149.1,2,2278.9,2,-999.0,9,-999.00,1,20050831,1756,-57.6012,-79.0035
316N20050821,AAIW,28,1,14,14,2,20050831,1626,-57.6046,-79.0045,596.6,4.5948,34.2139,2,34.2125,2,244.2,2,244.6,2,16.66,2,27.30,2,0.00,2,1.88,2,3.378,2,1.779,2,0.260,2,3.409,2,2165.6,2,2281.9,2,-999.0,9,-999.00,1,20050831,1753,-57.6007,-79.0033
316N20050821,AAIW,28,1,13,13,2,20050831,1626,-57.6046,-79.0045,693.1,4.1504,34.2113,2,34.2130,2,238.4,2,239.4,2,21.03,2,28.48,2,0.00,2,1.97,2,3.274,2,1.720,2,0.235,2,3.363,2,2174.7,2,2287.1,2,-999.0,9,-999.00,1,20050831,1751,-57.6002,-79.0032
316N20050821,AAIW,28,1,12,12,2,20050831,1626,-57.6046,-79.0045,790.5,3.8856,34.2564,2,34.2535,2,224.0,2,223.9,2,28.00,2,30.13,2,0.00,2,2.07,2,2.694,2,1.404,2,0.187,2,2.887,2,2188.9,2,2291.0,2,-999.0,9,-999.00,1,20050831,1748,-57.5997,-79.0029
316N20050821,AAIW,28,1,11,11,2,20050831,1626,-57.6046,-79.0045,885.0,3.5888,34.2960,2,34.2914,2,211.8,2,211.4,2,35.40,2,31.63,2,0.00,2,2.17,2,2.175,2,1.114,2,0.165,2,2.391,2,-999.0,9,2298.1,2,-999.0,9,-999.00,1,20050831,1745,-57.5992,-79.0028
316N20050821,AAIW,28,1,10,10,2,20050831,1626,-57.6046,-79.0045,1076.1,3.0653,34.3729,2,34.3717,2,194.6,2,193.5,2,49.41,2,33.28,2,0.00,2,2.31,2,1.410,2,0.693,2,0.094,2,1.715,2,-999.0,9,-999.0,9,-999.0,9,-999.00,9,20050831,1741,-57.5984,-79.0026
316N20050821,AAIW,28,1,9,9,2,20050831,1626,-57.6046,-79.0045,1268.8,2.7212,34.4671,2,34.4644,2,180.1,2,179.7,2,62.65,2,34.11,2,0.00,2,2.36,2,0.859,2,0.408,2,0.051,2,1.081,2,-999.0,9,2324.1,2,-999.0,9,-999.00,1,20050831,1736,-57.5976,-79.0026
316N20050821,AAIW,28,1,8,8,2,20050831,1626,-57.6046,-79.0045,1511.1,2.5079,34.5652,2,34.5636,2,170.1,2,168.9,2,74.33,2,33.84,2,0.00,2,2.37,2,0.396,2,0.192,2,0.020,2,0.565,2,-999.0,9,-999.0,9,-999.0,9,-999.00,9,20050831,1731,-57.5966,-79.0026
316N20050821,AAIW,28,1,7,7,2,20050831,1626,-57.6046,-79.0045,1705.2,2.3542,34.6263,2,34.6264,2,170.7,2,169.8,2,79.76,2,33.48,2,0.00,2,2.33,2,0.285,2,0.131,2,0.015,2,0.408,2,-999.0,9,2342.6,2,-999.0,9,-999.00,1,20050831,1726,-57.5958,-79.0025
316N20050821,AAIW,28,1,6,6,2,20050831,1626,-57.6046,-79.0045,2142.9,2.0700,34.6976,2,34.6973,2,174.5,2,174.4,2,91.27,2,32.55,2,0.00,2,2.26,2,0.088,2,0.039,2,0.000,2,0.128,2,-999.0,9,-999.0,9,-999.0,9,-999.00,9,20050831,1718,-57.5942,-79.0026
316N20050821,AAIW,28,1,5,5,2,20050831,1626,-57.6046,-79.0045,2737.1,1.6720,34.7201,2,34.7185,3,184.6,2,184.1,2,103.43,2,32.19,2,0.00,2,2.23,2,0.041,2,0.019,2,0.000,2,0.051,2,-999.0,9,2364.1,2,-999.0,9,-999.00,1,20050831,1707,-57.5924,-79.0019
316N20050821,AAIW,28,1,4,4,2,20050831,1626,-57.6046,-79.0045,3234.7,1.3892,34.7238,2,34.7214,3,194.3,2,194.1,2,108.71,2,31.83,2,0.00,2,2.21,2,0.043,2,0.023,2,0.000,2,0.070,2,-999.0,9,-999.0,9,-999.0,9,-999.00,9,20050831,1657,-57.5908,-79.0014
316N20050821,AAIW,28,1,3,3,2,20050831,1626,-57.6046,-79.0045,3729.3,1.0239,34.7151,2,34.7142,2,201.8,2,201.4,2,119.90,2,32.09,2,0.00,2,2.22,2,0.052,2,0.028,2,0.000,2,0.124,2,-999.0,9,2362.7,2,-999.0,9,-999.00,1,20050831,1648,-57.5894,-79.0013
316N20050821,AAIW,28,1,2,2,2,20050831,1626,-57.6046,-79.0045,4232.0,0.7006,34.7084,2,34.7070,2,208.0,2,207.6,2,130.91,2,32.40,2,0.00,2,2.24,2,0.061,6,0.026,6,0.000,6,0.193,6,-999.0,9,-999.0,9,-999.0,9,-999.00,9,20050831,1638,-57.5879,-79.0009
316N20050821,AAIW,28,1,1,1,2,20050831,1626,-57.6046,-79.0045,4838.7,0.6789,34.7070,2,34.7060,2,210.7,2,208.8,3,133.80,2,32.56,2,0.00,2,2.24,2,0.080,2,0.046,2,0.000,2,0.224,2,-999.0,9,2364.7,2,-999.0,9,-999.00,1,20050831,1626,-57.5861,-79.0005
316N20050821,AAIW,29,1,24,24,2,20050831,2315,-57.8120,-80.0150,8.4,4.0632,34.0803,2,34.0799,2,305.0,2,304.5,2,6.61,2,22.93,2,0.04,2,1.60,2,4.955,2,2.687,2,0.456,2,5.760,2,2133.0,2,2273.5,2,-999.0,9,-999.00,1,20050901,109,-57.8120,-80.0150
316N20050821,AAIW,29,1,23,23,2,20050831,2315,-57.8120,-80.0150,37.3,4.0188,34.0778,2,34.0784,2,304.4,2,304.5,2,6.46,2,23.04,2,0.04,2,1.61,2,4.978,2,2.723,2,0.464,2,5.754,2,2133.5,2,2273.1,2,-999.0,9,-999.00,1,20050901,106,-57.8118,-80.0148
316N20050821,AAIW,29,1,22,22,2,20050831,2315,-57.8120,-80.0150,67.2,3.9745,34.0737,2,34.0749,2,304.6,2,304.5,2,6.50,2,23.04,2,0.04,2,1.61,2,4.989,2,2.701,2,0.457,2,5.861,2,2134.7,2,2273.9,2,-999.0,9,-999.00,1,20050901,105,-57.8117,-80.0146
316N20050821,AAIW,29,1,21,21,2,20050831,2315,-57.8120,-80.0150,96.6,3.9425,34.0704,2,34.0723,2,304.7,2,304.5,2,6.54,2,23.14,2,0.04,2,1.61,2,4.953,2,2.717,2,0.450,2,5.716,2,2135.3,2,2273.8,2,-999.0,9,-999.00,1,20050901,103,-57.8115,-80.0144
316N20050821,AAIW,29,1,20,20,2,20050831,2315,-57.8120,-80.0150,145.2,3.8611,34.0607,2,34.0610,2,304.0,2,303.8,2,6.37,2,23.35,2,0.03,2,1.62,2,5.006,2,2.767,2,0.463,2,5.756,2,2135.7,2,2272.7,2,-999.0,9,-999.00,1,20050901,100,-57.8112,-80.0142
316N20050821,AAIW,29,1,19,19,2,20050831,2315,-57.8120,-80.0150,195.0,3.8493,34.0641,2,34.0645,2,304.8,2,304.5,2,6.60,2,23.19,2,0.04,2,1.62,2,5.002,2,2.767,2,0.464,2,5.853,2,0.4,3,2273.4,2,-999.0,9,-999.00,1,20050901,58,-57.8110,-80.0139
316N20050821,AAIW,29,1,18,18,2,20050831,2315,-57.8120,-80.0150,244.0,3.8390,34.0634,2,34.0647,2,304.7,2,305.0,2,6.45,2,23.29,2,0.04,2,1.63,2,4.990,2,2.722,2,0.460,2,5.763,2,2135.5,2,2272.5,2,-999.0,9,-999.00,1,20050901,55,-57.8108,-80.0137
316N20050821,AAIW,29,1,17,17,2,20050831,2315,-57.8120,-80.0150,342.7,3.8219,34.0616,2,34.0625,2,304.3,2,304.9,2,6.49,2,23.33,2,0.04,2,1.63,2,4.997,2,2.744,2,0.455,2,5.755,2,2136.4,2,2273.9,2,-999.0,9,-999.00,1,20050901,52,-57.8106,-80.0134
316N20050821,AAIW,29,1,16,16,2,20050831,2315,-57.8120,-80.0150,440.9,4.0486,34.1530,2,34.1500,2,258.7,2,259.0,2,15.88,2,27.09,2,0.00,2,1.88,2,4.018,2,2.085,2,0.334,2,4.176,2,2164.2,2,2280.7,2,-999.0,9,-999.00,1,20050901,49,-57.8105,-80.0132
316N20050821,AAIW,29,1,15,15,2,20050831,2315,-57.8120,-80.0150,539.8,3.6652,34.1808,2,34.1810,2,246.5,2,247.4,2,21.70,2,28.94,2,0.00,2,1.99,2,3.647,2,1.928,2,0.296,2,3.736,2,2177.8,2,2284.9,2,-999.0,9,-999.00,1,20050901,47,-57.8101,-80.0130
316N20050821,AAIW,29,1,14,14,2,20050831,2315,-57.8120,-80.0150,638.7,3.0947,34.1756,2,34.1788,2,250.6,2,250.9,2,25.33,2,29.70,2,0.00,2,2.04,2,3.702,2,1.930,2,0.319,2,3.955,2,2182.6,2,2286.7,2,-999.0,9,-999.00,1,20050901,44,-57.8098,-80.0126
316N20050821,AAIW,29,1,13,13,2,20050831,2315,-57.8120,-80.0150,738.4,2.9051,34.2236,2,34.2248,2,237.3,2,236.5,2,32.17,2,30.73,2,0.00,2,2.14,2,3.125,2,1.647,2,0.272,2,3.399,2,2197.2,2,2293.1,2,-999.0,9,-999.00,1,20050901,41,-57.8096,-80.0125
316N20050821,AAIW,29,1,12,12,2,20050831,2315,-57.8120,-80.0150,836.2,3.0859,34.3116,2,34.3114,2,208.8,2,208.8,2,61.28,3,32.48,2,0.00,2,2.23,2,2.128,2,1.115,2,0.160,2,2.384,2,2213.3,2,2302.3,2,-999.0,9,-999.00,1,20050901,38,-57.8094,-80.0122
316N20050821,AAIW,29,1,11,11,2,20050831,2315,-57.8120,-80.0150,933.8,2.9392,34.3699,2,34.3695,2,195.1,2,194.3,2,49.48,2,33.39,2,0.00,2,2.29,2,1.567,2,0.781,2,0.114,2,1.823,2,2226.7,2,2309.6,2,-999.0,9,-999.00,1,20050901,34,-57.8091,-80.0119
316N20050821,AAIW,29,1,10,10,2,20050831,2315,-57.8120,-80.0150,1131.1,2.6684,34.4573,2,34.4572,2,180.7,2,180.3,2,60.97,2,34.12,2,0.00,2,2.35,2,1.002,2,0.500,2,0.067,2,1.255,2,2242.4,2,2322.0,2,-999.0,9,-999.00,1,20050901,29,-57.8086,-80.0114
316N20050821,AAIW,29,1,9,9,2,20050831,2315,-57.8120,-80.0150,1328.3,2.4910,34.5449,2,34.5448,2,172.9,2,172.5,2,70.49,2,34.07,2,0.00,2,2.35,2,0.588,6,0.286,6,0.030,6,0.768,6,2253.4,2,2331.0,2,-999.0,9,-999.00,1,20050901,25,-57.8082,-80.0109
316N20050821,AAIW,29,1,8,8,2,20050831,2315,-57.8120,-80.0150,1573.5,2.3329,34.6314,2,34.6313,2,170.4,2,169.6,2,80.23,2,33.54,2,0.00,2,2.31,2,0.247,2,0.120,2,0.013,2,0.349,2,2260.9,2,2343.3,2,-999.0,9,-999.00,1,20050901,20,-57.8077,-80.0104
316N20050821,AAIW,29,1,7,7,2,20050831,2315,-57.8120,-80.0150,1865.5,2.1647,34.6859,2,34.6854,2,175.7,2,175.1,2,84.53,2,32.56,2,0.00,2,2.24,2,0.165,2,0.075,2,0.000,2,0.227,2,2260.7,2,2347.1,2,-999.0,9,-999.00,1,20050901,13,-57.8071,-80.0097
316N20050821,AAIW,29,1,6,6,2,20050831,2315,-57.8120,-80.0150,2304.9,1.8631,34.7201,2,34.7198,2,182.8,2,182.5,2,94.11,2,31.78,2,0.00,2,6.30,4,0.081,2,0.044,2,0.000,2,0.118,2,2261.9,2,2356.9,2,-999.0,9,-999.00,1,20050901,5,-57.8062,-80.0088
316N20050821,AAIW,29,1,5,5,2,20050831,2315,-57.8120,-80.0150,2691.2,1.5671,34.7214,2,34.7206,2,187.5,2,187.0,2,104.33,2,31.99,2,0.00,2,3.31,4,0.039,2,0.021,2,0.000,2,0.052,2,2267.8,2,2362.8,2,-999.0,9,-999.00,1,20050831,2357,-57.8055,-80.0080
316N20050821,AAIW,29,1,4,4,2,20050831,2315,-57.8120,-80.0150,3179.4,1.3161,34.7230,2,34.7223,2,195.8,2,195.7,2,109.49,2,31.78,2,0.00,2,4.62,4,0.049,2,0.027,2,0.000,2,0.095,2,2263.5,2,2361.0,2,-999.0,9,-999.00,1,20050831,2347,-57.8045,-80.0070
316N20050821,AAIW,29,1,3,3,2,20050831,2315,-57.8120,-80.0150,3668.2,1.0152,34.7151,2,34.7143,2,201.3,2,201.3,2,119.55,2,32.04,2,0.00,2,2.21,2,0.048,2,0.030,2,0.000,2,0.126,2,2264.7,2,2361.5,2,-999.0,9,-999.00,1,20050831,2337,-57.8035,-80.0058
316N20050821,AAIW,29,1,2,2,2,20050831,2315,-57.8120,-80.0150,4162.8,0.6906,34.7082,2,34.7074,2,207.5,2,208.1,2,129.64,2,32.34,2,0.00,2,4.96,4,0.060,2,0.033,2,0.000,2,0.184,2,2265.9,2,2362.9,2,-999.0,9,-999.00,1,20050831,2328,-57.8025,-80.0048
316N20050821,AAIW,29,1,1,1,2,20050831,2315,-57.8120,-80.0150,4915.9,0.5907,34.7057,2,34.7039,3,212.4,2,210.6,2,136.08,2,32.39,2,0.00,2,4.39,4,0.095,2,0.052,2,0.000,2,0.263,2,2266.3,2,2363.2,2,-999.0,9,-999.00,1,20050831,2315,-57.8004,-80.0033
316N20050821,AAIW,30,1,24,24,2,20050901,615,-57.9982,-81.0839,13.5,4.1361,34.0859,2,34.0889,2,304.5,2,304.0,2,6.69,2,22.70,2,0.04,2,1.59,2,4.909,2,2.681,2,0.463,2,5.699,2,2128.1,2,2273.1,2,-999.0,9,-999.00,1,20050901,813,-57.9982,-81.0839
316N20050821,AAIW,30,1,23,23,2,20050901,615,-57.9982,-81.0839,58.4,4.1430,34.0862,2,34.0897,2,304.1,2,303.7,2,6.50,2,22.75,2,0.04,2,1.59,2,4.887,2,2.704,2,0.452,2,5.656,2,2129.6,2,2273.1,2,-999.0,9,-999.00,1,20050901,810,-57.9983,-81.0828
316N20050821,AAIW,30,1,22,22,2,20050901,615,-57.9982,-81.0839,108.2,4.0889,34.0842,2,34.0881,2,303.5,2,303.8,2,6.31,2,22.80,2,0.04,2,1.61,2,4.929,2,2.657,2,0.455,2,5.820,2,2130.0,2,2272.9,2,-999.0,9,-999.00,1,20050901,807,-57.9984,-81.0817
316N20050821,AAIW,30,1,21,21,2,20050901,615,-57.9982,-81.0839,157.3,4.0743,34.0838,2,34.0885,2,301.9,2,302.0,2,6.51,2,23.01,2,0.04,2,1.61,2,4.908,6,2.654,6,0.454,6,5.698,6,2131.5,2,2273.7,2,-999.0,9,-999.00,1,20050901,805,-57.9986,-81.0808
316N20050821,AAIW,30,1,20,20,2,20050901,615,-57.9982,-81.0839,207.1,4.0280,34.0827,2,34.0866,2,301.2,2,302.4,2,6.72,2,23.16,2,0.04,2,1.62,2,4.840,2,2.638,2,0.451,2,5.601,2,2132.7,2,2273.4,2,-999.0,9,-999.00,1,20050901,803,-57.9987,-81.0799
316N20050821,AAIW,30,1,19,19,2,20050901,615,-57.9982,-81.0839,306.3,3.7825,34.0598,2,34.0615,2,302.9,2,302.1,2,7.12,2,23.73,2,0.03,2,1.65,2,4.983,2,2.694,2,0.458,2,5.773,2,-999.0,9,2274.1,2,-999.0,9,-999.00,1,20050901,800,-57.9987,-81.0786
316N20050821,AAIW,30,1,18,18,2,20050901,615,-57.9982,-81.0839,405.7,3.7563,34.0708,2,34.0732,2,294.1,2,293.2,2,9.51,2,24.82,2,0.01,2,1.72,2,4.781,2,2.594,2,0.439,2,5.441,2,2143.3,2,2274.6,2,-999.0,9,-999.00,1,20050901,757,-57.9987,-81.0775
316N20050821,AAIW,30,1,17,17,2,20050901,615,-57.9982,-81.0839,455.9,4.2103,34.1567,2,34.1574,2,259.5,2,259.9,2,15.06,2,26.86,2,0.01,2,1.85,2,3.818,2,2.032,2,0.317,2,4.025,2,-999.0,9,2280.3,2,-999.0,9,-999.00,1,20050901,755,-57.9987,-81.0765
316N20050821,AAIW,30,1,16,16,2,20050901,615,-57.9982,-81.0839,506.1,3.7219,34.1130,2,34.1155,2,271.7,2,272.5,2,14.28,2,26.65,2,0.01,2,1.84,2,4.252,2,2.306,2,0.355,2,4.590,2,2156.5,2,2278.3,2,-999.0,9,-999.00,1,20050901,753,-57.9988,-81.0756
316N20050821,AAIW,30,1,15,15,2,20050901,615,-57.9982,-81.0839,603.8,3.6743,34.1907,2,34.1967,2,243.7,2,243.6,2,23.42,2,29.21,2,0.00,2,2.01,2,3.495,2,1.823,2,0.260,2,3.624,2,-999.0,9,2285.8,2,-999.0,9,-999.00,1,20050901,750,-57.9990,-81.0747
316N20050821,AAIW,30,1,14,14,2,20050901,615,-57.9982,-81.0839,697.7,3.3396,34.2204,2,34.2200,2,235.3,2,235.9,2,28.61,2,30.45,2,0.00,2,2.10,2,3.163,2,1.648,2,0.236,2,3.332,2,2190.0,2,2290.2,2,-999.0,9,-999.00,1,20050901,747,-57.9992,-81.0738
316N20050821,AAIW,30,1,13,13,2,20050901,615,-57.9982,-81.0839,795.1,3.0777,34.2730,2,34.2727,2,220.7,2,220.9,2,36.79,2,31.99,2,0.00,2,2.20,2,2.567,2,1.336,2,0.186,2,2.841,2,-999.0,9,2297.6,2,-999.0,9,-999.00,1,20050901,744,-57.9995,-81.0726
316N20050821,AAIW,30,1,12,12,2,20050901,615,-57.9982,-81.0839,890.7,3.0839,34.3471,2,34.3487,2,199.5,2,199.1,2,45.99,2,33.03,2,0.00,2,2.28,2,1.703,2,0.852,2,0.110,2,1.988,2,-999.0,9,2306.8,2,-999.0,9,-999.00,1,20050901,741,-57.9998,-81.0716
316N20050821,AAIW,30,1,11,11,2,20050901,615,-57.9982,-81.0839,981.6,2.8787,34.3796,2,34.3832,2,192.4,2,192.4,2,51.02,2,33.59,2,0.00,2,2.32,2,1.503,2,0.751,2,0.101,2,1.780,2,2226.0,2,2311.8,2,-999.0,9,-999.00,1,20050901,738,-57.9999,-81.0706
316N20050821,AAIW,30,1,10,10,2,20050901,615,-57.9982,-81.0839,1164.1,2.6434,34.4741,2,34.4762,2,178.6,2,178.2,2,63.28,2,34.21,2,0.00,2,2.37,2,0.899,2,0.447,2,0.053,2,1.149,2,-999.0,9,2323.9,2,-999.0,9,-999.00,1,20050901,733,-58.0001,-81.0690
316N20050821,AAIW,30,1,9,9,2,20050901,615,-57.9982,-81.0839,1443.0,2.4094,34.5893,2,34.5907,2,171.2,2,171.1,2,75.16,2,33.89,2,0.00,2,2.35,2,0.426,2,0.201,2,0.020,2,0.577,2,-999.0,9,2336.5,2,-999.0,9,-999.00,1,20050901,727,-58.0005,-81.0668
316N20050821,AAIW,30,1,8,8,2,20050901,615,-57.9982,-81.0839,1719.5,2.2446,34.6621,2,34.6655,3,173.5,2,173.0,2,81.44,2,32.91,2,0.00,2,2.28,2,0.236,2,0.111,2,0.009,2,0.354,2,-999.0,9,2344.1,2,-999.0,9,-999.00,1,20050901,721,-58.0011,-81.0645
316N20050821,AAIW,30,1,7,7,2,20050901,615,-57.9982,-81.0839,1999.3,2.0726,34.7047,2,34.7075,3,178.7,2,178.5,2,86.74,2,32.04,2,0.00,2,2.22,2,0.145,2,0.066,2,0.006,2,0.217,2,-999.0,9,2348.6,2,-999.0,9,-999.00,1,20050901,714,-58.0013,-81.0619
316N20050821,AAIW,30,1,6,6,2,20050901,615,-57.9982,-81.0839,2476.8,1.6962,34.7240,2,34.7273,3,186.4,2,185.7,2,99.54,2,31.82,2,0.00,2,2.21,2,0.061,2,0.026,2,0.000,2,0.113,2,-999.0,9,2359.0,2,-999.0,9,-999.00,1,20050901,704,-58.0012,-81.0582
316N20050821,AAIW,30,1,5,5,2,20050901,615,-57.9982,-81.0839,2953.4,1.4019,34.7245,2,34.7263,2,193.8,2,193.4,2,107.31,2,31.77,2,0.00,2,2.20,2,0.055,2,0.030,2,0.000,2,0.099,2,-999.0,9,2359.8,2,-999.0,9,-999.00,1,20050901,655,-58.0014,-81.0548
316N20050821,AAIW,30,1,4,4,2,20050901,615,-57.9982,-81.0839,3439.6,1.0875,34.7172,2,34.7194,3,200.2,2,200.2,2,116.73,2,31.73,2,0.00,2,2.22,2,0.064,2,0.036,2,0.000,2,0.145,2,-999.0,9,2360.2,2,-999.0,9,-999.00,1,20050901,645,-58.0011,-81.0511
316N20050821,AAIW,30,1,3,3,2,20050901,615,-57.9982,-81.0839,3937.4,0.7856,34.7095,2,34.7112,2,205.7,2,206.0,2,126.59,2,32.24,2,0.00,2,2.23,2,0.070,2,0.041,2,0.000,2,0.193,2,-999.0,9,2362.0,2,-999.0,9,-999.00,1,20050901,635,-58.0005,-81.0476
316N20050821,AAIW,30,1,2,2,2,20050901,615,-57.9982,-81.0839,4450.2,0.5909,34.7063,2,34.7086,3,209.4,2,209.8,2,134.23,2,32.34,2,0.00,2,2.24,2,0.082,2,0.039,2,0.000,2,0.256,2,-999.0,9,2363.1,2,-999.0,9,-999.00,1,20050901,625,-58.0004,-81.0438
316N20050821,AAIW,30,1,1,1,2,20050901,615,-57.9982,-81.0839,4969.3,0.5915,34.7053,2,34.7066,2,211.4,2,210.8,2,137.37,2,32.55,2,0.00,2,2.25,2,0.093,2,0.054,2,0.000,2,0.290,2,-999.0,9,2362.9,2,-999.0,9,-999.00,1,20050901,615,-58.0003,-81.0397