BOTTLE,20220819CCHSIOAMB
EXPOCODE,SECT_ID,STNNBR,CASTNO,SAMPNO,BTLNBR,BTLNBR_FLAG_W,DATE,TIME,LATITUDE,LONGITUDE,CTDPRS,CTDTMP,CTDSAL,CTDSAL_FLAG_W,SALNTY,SALNTY_FLAG_W,CTDOXY,CTDOXY_FLAG_W,OXYGEN,OXYGEN_FLAG_W,SILCAT,SILCAT_FLAG_W,NITRAT,NITRAT_FLAG_W,NITRIT,NITRIT_FLAG_W,PHSPHT,PHSPHT_FLAG_W,CFC-11,CFC-11_FLAG_W,CFC-12,CFC-12_FLAG_W,CFC113,CFC113_FLAG_W,CCL4,CCL4_FLAG_W,TCARBN,TCARBN_FLAG_W,ALKALI,ALKALI_FLAG_W,PCO2,PCO2_FLAG_W,PH_SWS,PH_SWS_FLAG_W,BTL_DATE,BTL_TIME,BTL_LAT,BTL_LON
,,,,,,,,,,,DBAR,ITS-90,PSS-78,,PSS-78,,UMOL/KG,,UMOL/KG,,UMOL/KG,,UMOL/KG,,UMOL/KG,,UMOL/KG,,PMOL/KG,,PMOL/KG,,PMOL/KG,,PMOL/KG,,UMOL/KG,,UMOL/KG,,UATM,,,,,,,
316N20050821,AAIW,85,1,24,24,2,20050920,1015,-56.9955,-95.7916,6.3,4.9554,34.1334,2,34.1338,2,301.0,2,300.1,2,5.51,2,21.06,2,0.07,2,1.49,2,4.544,2,2.545,2,0.453,2,5.614,2,2124.8,6,2273.9,2,-999.0,9,-999.00,1,20050920,1200,-56.9955,-95.7916
316N20050821,AAIW,85,1,23,23,2,20050920,1015,-56.9955,-95.7916,46.1,4.9712,34.1330,2,34.1326,2,300.9,2,300.2,2,5.51,2,21.02,2,0.07,2,1.49,2,4.574,2,2.567,2,0.461,2,5.641,2,2125.6,2,2273.8,2,-999.0,9,-999.00,1,20050920,1158,-56.9955,-95.7917
316N20050821,AAIW,85,1,22,22,2,20050920,1015,-56.9955,-95.7916,76.1,4.9704,34.1325,2,34.1305,2,300.7,2,300.1,2,5.51,2,21.03,2,0.07,2,1.49,2,4.539,2,2.576,2,0.459,2,5.598,2,2125.7,2,2273.4,2,-999.0,9,-999.00,1,20050920,1156,-56.9955,-95.7917
316N20050821,AAIW,85,1,21,21,2,20050920,1015,-56.9955,-95.7916,110.9,4.9658,34.1317,2,34.1279,2,300.2,2,299.5,2,5.71,2,21.17,2,0.07,2,1.49,2,4.536,6,2.588,6,0.446,6,5.502,6,2126.7,2,2274.0,2,-999.0,9,-999.00,1,20050920,1154,-56.9955,-95.7915
316N20050821,AAIW,85,1,20,20,2,20050920,1015,-56.9955,-95.7916,160.1,4.9769,34.1330,2,34.1302,2,299.9,2,299.7,2,5.51,2,21.03,2,0.07,2,1.49,2,4.602,2,2.572,2,0.451,2,5.502,2,2125.7,2,2273.7,2,-999.0,9,-999.00,1,20050920,1151,-56.9955,-95.7915
316N20050821,AAIW,85,1,19,19,2,20050920,1015,-56.9955,-95.7916,214.4,4.9340,34.1266,2,34.1261,2,299.5,2,299.4,2,5.71,2,21.27,2,0.07,2,1.50,2,4.585,2,2.563,2,0.457,2,5.587,2,2127.4,2,2275.2,2,-999.0,9,-999.00,1,20050920,1149,-56.9955,-95.7916
316N20050821,AAIW,85,1,18,18,2,20050920,1015,-56.9955,-95.7916,313.6,4.7488,34.1029,2,34.1032,2,300.0,2,301.4,2,6.31,2,21.85,2,0.08,2,1.52,2,4.597,2,2.603,2,0.458,2,5.463,2,2129.2,2,2274.0,2,-999.0,9,-999.00,1,20050920,1146,-56.9956,-95.7918
316N20050821,AAIW,85,1,17,17,2,20050920,1015,-56.9955,-95.7916,413.1,4.3287,34.0828,2,34.0839,2,287.1,2,286.8,2,9.10,2,24.10,2,0.01,2,1.67,2,4.408,2,2.464,2,0.418,2,4.979,2,2140.2,2,2275.3,2,-999.0,9,-999.00,1,20050920,1142,-56.9956,-95.7920
316N20050821,AAIW,85,1,16,16,2,20050920,1015,-56.9955,-95.7916,512.9,4.8587,34.2378,2,34.2354,2,236.6,2,236.4,2,17.87,2,27.26,2,0.00,2,1.88,2,3.178,2,1.694,2,0.256,2,3.227,2,2168.3,2,2282.8,2,-999.0,9,-999.00,1,20050920,1139,-56.9956,-95.7922
316N20050821,AAIW,85,1,15,15,2,20050920,1015,-56.9955,-95.7916,612.4,4.3640,34.2685,2,34.2687,2,221.8,2,221.6,2,25.45,2,29.41,2,0.00,2,2.02,2,2.694,2,1.418,2,0.212,2,2.774,2,2184.2,2,2288.9,2,-999.0,9,-999.00,1,20050920,1136,-56.9957,-95.7924
316N20050821,AAIW,85,1,14,14,2,20050920,1015,-56.9955,-95.7916,711.5,3.8447,34.2961,2,34.2930,2,211.8,2,212.0,2,33.45,2,31.12,2,0.00,2,2.14,2,2.236,2,1.184,2,0.183,2,2.441,2,2198.1,2,2295.2,2,-999.0,9,-999.00,1,20050920,1133,-56.9957,-95.7925
316N20050821,AAIW,85,1,13,13,2,20050920,1015,-56.9955,-95.7916,809.2,3.2708,34.2891,2,34.2881,2,213.4,2,213.6,2,38.46,2,31.96,2,0.00,2,2.21,2,2.243,2,1.202,2,0.190,2,2.510,2,2205.7,2,2299.6,2,-999.0,9,-999.00,1,20050920,1131,-56.9958,-95.7927
316N20050821,AAIW,85,1,12,12,2,20050920,1015,-56.9955,-95.7916,911.4,3.0262,34.3389,2,34.3374,2,200.6,2,200.7,2,46.28,2,33.14,2,0.00,2,2.28,2,1.782,2,0.927,2,0.156,2,2.071,2,2219.8,2,2306.6,2,-999.0,9,-999.00,1,20050920,1127,-56.9959,-95.7931
316N20050821,AAIW,85,1,11,11,2,20050920,1015,-56.9955,-95.7916,1021.1,2.8571,34.4069,2,34.4062,2,187.5,2,187.5,2,55.51,2,33.93,2,0.00,2,2.35,2,1.233,2,0.653,2,0.083,2,1.576,2,2232.8,2,2316.1,2,-999.0,9,-999.00,1,20050920,1124,-56.9959,-95.7933
316N20050821,AAIW,85,1,10,10,2,20050920,1015,-56.9955,-95.7916,1122.2,2.7082,34.4565,2,34.4568,2,180.4,2,181.2,2,61.74,2,34.22,2,0.00,2,2.36,2,1.004,2,0.539,2,0.066,2,1.310,2,2241.7,2,2322.4,2,-999.0,9,-999.00,1,20050920,1121,-56.9960,-95.7937
316N20050821,AAIW,85,1,9,9,2,20050920,1015,-56.9955,-95.7916,1373.2,2.4888,34.5657,2,34.5624,2,171.4,2,171.9,2,73.83,2,34.02,2,0.00,2,2.35,2,0.488,2,0.241,2,0.021,2,0.732,2,2255.2,2,2335.1,2,-999.0,9,-999.00,1,20050920,1116,-56.9962,-95.7943
316N20050821,AAIW,85,1,8,8,2,20050920,1015,-56.9955,-95.7916,1624.0,2.3142,34.6438,2,34.6415,2,171.4,2,172.1,2,81.10,2,33.34,2,0.00,2,2.30,2,0.266,2,0.145,2,0.003,2,0.428,2,2257.7,2,2343.8,2,-999.0,9,-999.00,1,20050920,1110,-56.9963,-95.7947
316N20050821,AAIW,85,1,7,7,2,20050920,1015,-56.9955,-95.7916,1874.8,2.1597,34.6888,2,34.6858,2,175.2,2,175.2,2,86.56,2,32.60,2,0.00,2,2.27,2,0.153,2,0.083,2,0.003,2,0.296,2,2259.7,2,2349.5,2,-999.0,9,-999.00,1,20050920,1105,-56.9964,-95.7951
316N20050821,AAIW,85,1,6,6,2,20050920,1015,-56.9955,-95.7916,2126.9,1.9969,34.7149,2,34.7156,2,181.1,2,181.2,2,89.60,2,31.97,2,0.00,2,2.21,2,0.122,2,0.060,2,0.003,2,0.237,2,2258.9,2,2352.8,2,-999.0,9,-999.00,1,20050920,1059,-56.9965,-95.7956
316N20050821,AAIW,85,1,5,5,2,20050920,1015,-56.9955,-95.7916,2380.1,1.7990,34.7245,2,34.7229,2,185.0,2,185.2,2,96.49,2,31.72,2,0.00,2,2.20,2,0.086,2,0.047,2,0.003,2,0.143,2,2261.9,2,2357.0,2,-999.0,9,-999.00,1,20050920,1053,-56.9967,-95.7962
316N20050821,AAIW,85,1,4,4,2,20050920,1015,-56.9955,-95.7916,2885.1,1.4780,34.7261,2,34.7231,3,191.9,2,192.3,2,105.84,2,31.69,2,0.00,2,2.21,2,0.062,2,0.032,2,0.003,2,0.157,2,2262.1,2,2361.3,2,-999.0,9,-999.00,1,20050920,1044,-56.9968,-95.7967
316N20050821,AAIW,85,1,3,3,2,20050920,1015,-56.9955,-95.7916,3390.5,1.1845,34.7206,2,34.7198,2,198.7,2,198.8,2,114.40,2,31.93,2,0.00,2,2.21,2,0.069,2,0.039,2,0.003,2,0.173,2,2263.0,2,2360.4,2,-999.0,9,-999.00,1,20050920,1034,-56.9969,-95.7972
316N20050821,AAIW,85,1,2,2,2,20050920,1015,-56.9955,-95.7916,3898.4,0.8650,34.7119,2,34.7109,2,204.1,2,204.4,2,125.64,2,32.33,2,0.00,2,2.25,2,0.296,4,0.597,4,0.093,4,0.154,4,2266.0,2,2361.1,2,-999.0,9,-999.00,1,20050920,1025,-56.9971,-95.7978
316N20050821,AAIW,85,1,1,1,2,20050920,1015,-56.9955,-95.7916,4406.2,0.5661,34.7064,2,34.7047,2,210.6,2,210.5,2,135.26,2,32.58,2,0.00,2,2.27,2,0.147,2,0.073,2,0.003,2,0.385,2,2265.7,6,2363.6,2,-999.0,9,-999.00,1,20050920,1015,-56.9971,-95.7980
316N20050821,AAIW,86,1,24,24,2,20050920,1634,-56.7670,-94.8857,7.4,4.6889,34.1076,2,34.1058,2,305.4,2,304.5,2,6.03,2,21.40,2,0.08,2,1.50,2,4.786,2,2.667,2,0.477,2,5.834,2,2125.2,6,2274.4,2,-999.0,9,-999.00,1,20050920,1813,-56.7670,-94.8857
316N20050821,AAIW,86,1,23,23,9,20050920,1634,-56.7670,-94.8857,47.4,4.6925,34.1078,2,-999.0000,9,-999.0,9,-999.0,9,-999.00,9,-999.00,9,-999.00,9,-999.00,9,-999.000,9,-999.000,9,-999.000,9,-999.000,9,-999.0,9,-999.0,9,-999.0,9,-999.00,9,20050920,1811,-56.7667,-94.8862
316N20050821,AAIW,86,1,22,22,2,20050920,1634,-56.7670,-94.8857,77.7,4.6965,34.1084,2,34.1062,2,304.6,2,304.1,2,5.83,2,21.45,2,0.08,2,1.50,2,4.770,2,2.651,2,0.474,2,5.707,2,2126.2,2,2275.0,2,-999.0,9,-999.00,1,20050920,1810,-56.7664,-94.8866
316N20050821,AAIW,86,1,21,21,2,20050920,1634,-56.7670,-94.8857,117.0,4.7006,34.1087,2,34.1066,2,304.1,2,304.3,2,5.83,2,21.45,2,0.08,2,1.51,2,4.735,2,2.635,2,0.471,2,5.699,2,-999.0,9,2274.2,2,-999.0,9,-999.00,1,20050920,1808,-56.7662,-94.8869
316N20050821,AAIW,86,1,20,20,2,20050920,1634,-56.7670,-94.8857,186.4,4.7039,34.1087,2,34.1062,2,303.3,2,304.1,2,5.82,2,21.49,2,0.08,2,1.51,2,4.706,2,2.628,2,0.473,2,5.639,2,2126.6,2,2275.4,2,-999.0,9,-999.00,1,20050920,1806,-56.7659,-94.8875
316N20050821,AAIW,86,1,19,19,2,20050920,1634,-56.7670,-94.8857,245.9,4.4197,34.0850,2,34.0843,2,295.8,2,296.4,2,7.20,2,22.83,2,0.03,2,1.58,2,4.691,2,2.610,2,0.457,2,5.503,2,2133.3,2,2274.2,2,-999.0,9,-999.00,1,20050920,1805,-56.7657,-94.8881
316N20050821,AAIW,86,1,18,18,2,20050920,1634,-56.7670,-94.8857,295.7,4.3257,34.0933,2,34.0911,2,288.4,2,287.9,2,9.18,2,23.99,2,0.01,2,1.66,2,4.457,2,2.522,2,0.411,2,4.987,2,2140.2,2,2276.7,2,-999.0,9,-999.00,1,20050920,1803,-56.7657,-94.8886
316N20050821,AAIW,86,1,17,17,2,20050920,1634,-56.7670,-94.8857,344.6,4.3665,34.1237,2,34.1228,2,276.2,2,275.8,2,11.35,2,24.96,2,0.01,2,1.72,2,4.229,2,2.397,2,0.380,2,4.699,2,2147.1,2,2278.0,2,-999.0,9,-999.00,1,20050920,1801,-56.7656,-94.8890
316N20050821,AAIW,86,1,16,16,2,20050920,1634,-56.7670,-94.8857,385.2,4.3706,34.1458,2,34.1426,2,265.1,2,265.6,2,13.73,2,25.92,2,0.00,2,1.78,2,4.032,6,2.187,6,0.375,6,4.296,6,2154.5,2,2280.9,2,-999.0,9,-999.00,1,20050920,1800,-56.7655,-94.8895
316N20050821,AAIW,86,1,15,15,2,20050920,1634,-56.7670,-94.8857,493.5,4.2179,34.2144,2,34.2142,2,236.9,2,237.8,2,21.46,2,28.42,2,0.00,2,1.94,2,3.312,2,1.758,2,0.272,2,3.404,2,2175.6,2,2285.2,2,-999.0,9,-999.00,1,20050920,1757,-56.7651,-94.8902
316N20050821,AAIW,86,1,14,14,2,20050920,1634,-56.7670,-94.8857,593.7,3.6391,34.2268,2,34.2274,2,231.9,2,231.7,2,27.81,2,30.10,2,0.00,2,2.06,2,3.097,2,1.647,2,0.257,2,3.324,2,2188.7,2,2290.9,2,-999.0,9,-999.00,1,20050920,1754,-56.7649,-94.8911
316N20050821,AAIW,86,1,13,13,2,20050920,1634,-56.7670,-94.8857,692.3,3.4329,34.2834,2,34.2826,2,214.9,2,216.2,2,35.56,2,31.41,2,0.00,2,2.17,2,2.372,2,1.262,2,0.206,2,2.618,2,-999.0,9,2296.6,2,-999.0,9,-999.00,1,20050920,1752,-56.7647,-94.8917
316N20050821,AAIW,86,1,12,12,2,20050920,1634,-56.7670,-94.8857,790.5,3.0630,34.3131,2,34.3127,2,207.8,2,208.1,2,42.93,2,32.51,2,0.00,2,2.24,2,2.050,2,1.073,2,0.171,2,2.454,2,2211.8,2,2303.9,2,-999.0,9,-999.00,1,20050920,1749,-56.7643,-94.8923
316N20050821,AAIW,86,1,11,11,2,20050920,1634,-56.7670,-94.8857,888.1,2.9732,34.3756,2,34.3741,2,193.0,2,193.4,2,50.70,2,33.24,2,0.00,2,2.30,2,1.516,2,0.759,2,0.109,2,1.984,2,-999.0,9,2312.1,2,-999.0,9,-999.00,1,20050920,1747,-56.7638,-94.8928
316N20050821,AAIW,86,1,10,10,2,20050920,1634,-56.7670,-94.8857,985.7,2.8086,34.4212,2,34.4234,2,185.2,2,185.5,2,57.29,2,33.87,2,0.00,2,2.34,2,1.191,2,0.596,2,0.086,2,1.617,2,2234.7,2,2317.2,2,-999.0,9,-999.00,1,20050920,1744,-56.7634,-94.8934
316N20050821,AAIW,86,1,9,9,2,20050920,1634,-56.7670,-94.8857,1386.1,2.4137,34.5885,2,34.5870,2,171.5,2,171.7,2,74.71,2,33.76,2,0.00,2,2.33,2,0.463,2,0.222,2,0.003,2,0.720,2,-999.0,9,2336.5,2,-999.0,9,-999.00,1,20050920,1737,-56.7630,-94.8954
316N20050821,AAIW,86,1,8,8,2,20050920,1634,-56.7670,-94.8857,1631.8,2.2789,34.6559,2,34.6548,2,172.9,2,173.0,2,80.93,2,32.88,2,0.00,2,2.27,2,0.255,2,0.130,2,0.003,2,0.442,2,2257.7,2,2343.3,2,-999.0,9,-999.00,1,20050920,1732,-56.7629,-94.8963
316N20050821,AAIW,86,1,7,7,2,20050920,1634,-56.7670,-94.8857,1914.4,2.1095,34.7013,2,34.7002,2,178.5,2,178.7,2,85.36,2,32.05,2,0.00,2,2.21,2,0.184,2,0.083,2,0.003,2,0.290,2,-999.0,9,2348.2,2,-999.0,9,-999.00,1,20050920,1726,-56.7628,-94.8969
316N20050821,AAIW,86,1,6,6,2,20050920,1634,-56.7670,-94.8857,2383.3,1.7211,34.7240,2,34.7223,2,185.3,2,185.9,2,98.86,2,31.71,2,0.00,2,2.18,2,0.084,2,0.043,2,0.003,2,0.147,2,-999.0,9,2359.4,2,-999.0,9,-999.00,1,20050920,1716,-56.7628,-94.8985
316N20050821,AAIW,86,1,5,5,2,20050920,1634,-56.7670,-94.8857,2864.2,1.4463,34.7262,2,34.7251,2,192.9,2,192.8,2,106.33,2,31.56,2,0.00,2,2.17,2,0.068,2,0.034,2,0.003,2,0.122,2,-999.0,9,2361.5,2,-999.0,9,-999.00,1,20050920,1707,-56.7621,-94.9008
316N20050821,AAIW,86,1,4,4,2,20050920,1634,-56.7670,-94.8857,3366.2,1.1331,34.7192,2,34.7151,3,199.3,2,199.7,2,115.65,2,31.80,2,0.00,2,2.18,2,0.074,2,0.035,2,0.003,2,0.178,2,-999.0,9,2360.8,2,-999.0,9,-999.00,1,20050920,1658,-56.7613,-94.9039
316N20050821,AAIW,86,1,3,3,2,20050920,1634,-56.7670,-94.8857,3880.0,0.7756,34.7106,2,34.7084,3,204.8,2,206.1,2,126.62,2,32.18,2,0.00,2,2.22,2,0.070,2,0.033,2,0.003,2,0.204,2,-999.0,9,2366.1,2,-999.0,9,-999.00,1,20050920,1649,-56.7604,-94.9071
316N20050821,AAIW,86,1,2,2,2,20050920,1634,-56.7670,-94.8857,4400.1,0.6064,34.7075,2,34.7051,3,208.4,2,209.4,2,134.15,2,32.42,2,0.00,2,2.23,2,0.079,2,0.035,2,0.003,2,0.278,2,-999.0,9,2364.4,2,-999.0,9,-999.00,1,20050920,1640,-56.7593,-94.9102
316N20050821,AAIW,86,1,1,1,2,20050920,1634,-56.7670,-94.8857,4667.7,0.6003,34.7069,2,34.7041,3,210.5,2,210.2,2,135.58,2,32.37,2,0.00,2,2.23,2,0.079,2,0.037,2,0.003,2,0.358,2,-999.0,9,2365.2,2,-999.0,9,-999.00,1,20050920,1634,-56.7587,-94.9121
316N20050821,AAIW,87,1,24,24,2,20050920,2258,-56.5127,-94.0319,8.7,5.1426,34.1545,2,34.1561,2,302.4,2,301.6,2,5.40,2,20.11,2,0.07,2,1.45,2,4.673,2,2.568,2,0.448,2,5.552,2,2122.2,6,2272.7,2,-999.0,9,-999.00,1,20050921,57,-56.5127,-94.0319
316N20050821,AAIW,87,1,23,23,2,20050920,2258,-56.5127,-94.0319,47.1,5.1449,34.1545,2,34.1539,2,302.2,2,301.8,2,5.19,2,20.19,2,0.07,2,1.42,2,4.630,2,2.555,2,0.454,2,5.544,2,2122.6,2,2272.5,2,-999.0,9,-999.00,1,20050921,55,-56.5128,-94.0319
316N20050821,AAIW,87,1,22,22,2,20050920,2258,-56.5127,-94.0319,86.6,5.1252,34.1547,2,34.1559,2,301.7,2,302.3,2,5.19,2,20.19,2,0.07,2,1.43,2,4.593,2,2.559,2,0.451,2,5.550,2,-999.0,1,2272.7,2,-999.0,9,-999.00,1,20050921,52,-56.5128,-94.0324
316N20050821,AAIW,87,1,21,21,2,20050920,2258,-56.5127,-94.0319,146.7,5.1253,34.1548,2,34.1541,2,301.2,2,300.6,2,5.18,2,20.19,2,0.07,2,1.43,2,4.577,2,2.580,2,0.453,2,5.517,2,-999.0,1,2272.9,2,-999.0,9,-999.00,1,20050921,50,-56.5127,-94.0330
316N20050821,AAIW,87,1,20,20,2,20050920,2258,-56.5127,-94.0319,226.2,5.1280,34.1548,2,34.1551,2,301.1,2,301.0,2,5.18,2,20.25,2,0.06,2,1.45,2,4.540,2,2.569,2,0.453,2,5.434,2,2122.7,2,2272.9,2,-999.0,9,-999.00,1,20050921,47,-56.5125,-94.0337
316N20050821,AAIW,87,1,19,19,2,20050920,2258,-56.5127,-94.0319,305.9,5.0681,34.1500,2,34.1500,2,297.1,2,297.6,2,5.76,2,20.85,2,0.03,2,1.48,2,4.576,2,2.531,2,0.443,2,5.375,2,2125.2,2,2273.5,2,-999.0,9,-999.00,1,20050921,44,-56.5124,-94.0345
316N20050821,AAIW,87,1,18,18,2,20050920,2258,-56.5127,-94.0319,385.7,5.0275,34.1483,2,34.1475,2,293.8,2,293.0,2,6.34,2,21.28,2,0.02,2,1.48,2,4.499,2,2.514,2,0.436,2,5.264,2,2130.6,2,2273.5,2,-999.0,9,-999.00,1,20050921,41,-56.5122,-94.0350
316N20050821,AAIW,87,1,17,17,2,20050920,2258,-56.5127,-94.0319,445.9,5.0573,34.1692,2,34.1645,2,274.6,2,274.9,2,9.29,2,23.15,2,0.01,2,1.56,2,4.133,2,2.297,2,0.384,2,4.466,2,2139.3,2,2274.1,2,-999.0,9,-999.00,1,20050921,39,-56.5121,-94.0354
316N20050821,AAIW,87,1,16,16,2,20050920,2258,-56.5127,-94.0319,535.6,4.8883,34.1989,2,34.1980,2,251.9,2,253.2,2,14.19,2,25.53,2,0.00,2,1.76,2,3.644,2,2.000,2,0.310,2,3.760,2,2155.5,2,2279.1,2,-999.0,9,-999.00,1,20050921,36,-56.5120,-94.0360
316N20050821,AAIW,87,1,15,15,2,20050920,2258,-56.5127,-94.0319,635.6,4.6883,34.2470,2,34.2452,2,230.4,2,231.4,2,20.09,2,27.58,2,0.00,2,1.91,2,3.026,2,1.623,2,0.236,2,3.023,2,2171.5,2,2283.6,2,-999.0,9,-999.00,1,20050921,33,-56.5119,-94.0366
316N20050821,AAIW,87,1,14,14,2,20050920,2258,-56.5127,-94.0319,735.5,4.2488,34.2734,2,34.2730,2,218.8,2,220.1,2,26.78,2,29.40,2,0.00,2,2.01,2,2.585,2,1.375,2,0.203,2,2.672,2,2186.4,2,2289.9,2,-999.0,9,-999.00,1,20050921,30,-56.5117,-94.0372
316N20050821,AAIW,87,1,13,13,2,20050920,2258,-56.5127,-94.0319,835.4,3.7575,34.2931,2,34.2941,2,212.8,2,212.2,2,33.47,2,30.36,2,0.00,2,2.11,2,2.261,2,1.155,2,0.181,2,2.455,2,2199.6,2,2294.7,2,-999.0,9,-999.00,1,20050921,27,-56.5115,-94.0377
316N20050821,AAIW,87,1,12,12,2,20050920,2258,-56.5127,-94.0319,936.0,3.3946,34.3308,2,34.3308,2,203.4,2,202.7,2,41.37,2,31.90,2,0.00,2,2.19,2,1.753,2,0.926,2,0.121,2,2.090,2,2212.5,2,2301.5,2,-999.0,9,-999.00,1,20050921,25,-56.5114,-94.0381
316N20050821,AAIW,87,1,11,11,2,20050920,2258,-56.5127,-94.0319,1035.8,3.1106,34.3689,2,34.3707,2,195.3,2,195.4,2,48.48,2,32.56,2,0.00,2,2.26,2,1.489,2,0.782,2,0.096,2,1.766,2,2222.9,2,2310.0,2,-999.0,9,-999.00,1,20050921,22,-56.5112,-94.0385
316N20050821,AAIW,87,1,10,10,9,20050920,2258,-56.5127,-94.0319,1206.4,2.7897,34.4494,2,-999.0000,9,-999.0,9,-999.0,9,-999.00,9,-999.00,9,-999.00,9,-999.00,9,-999.000,9,-999.000,9,-999.000,9,-999.000,9,-999.0,9,-999.0,9,-999.0,9,-999.00,9,20050921,18,-56.5108,-94.0390
316N20050821,AAIW,87,1,9,9,2,20050920,2258,-56.5127,-94.0319,1507.4,2.4734,34.5744,2,34.5748,2,171.6,2,171.4,2,73.29,2,33.38,2,0.00,2,2.31,2,0.468,2,0.222,2,0.003,2,0.653,2,2255.7,2,2333.2,2,-999.0,9,-999.00,1,20050921,12,-56.5103,-94.0395
316N20050821,AAIW,87,1,8,8,2,20050920,2258,-56.5127,-94.0319,1908.6,2.2243,34.6777,2,34.6772,2,174.8,2,174.8,2,82.84,2,32.12,2,0.00,2,2.22,2,0.210,6,0.094,6,0.003,6,0.297,6,2261.3,2,2345.7,2,-999.0,9,-999.00,1,20050921,4,-56.5099,-94.0399
316N20050821,AAIW,87,1,7,7,2,20050920,2258,-56.5127,-94.0319,2407.4,1.8507,34.7228,2,34.7202,2,184.4,2,184.2,2,94.23,2,31.29,2,0.00,2,2.16,2,0.107,2,0.038,2,0.003,2,0.120,2,2262.9,2,2354.1,2,-999.0,9,-999.00,1,20050920,2354,-56.5096,-94.0399
316N20050821,AAIW,87,1,6,6,2,20050920,2258,-56.5127,-94.0319,2905.3,1.5179,34.7244,2,34.7227,2,190.7,2,190.7,2,104.64,2,31.38,2,0.00,2,2.16,2,0.055,2,0.038,2,0.003,2,0.061,2,2264.7,2,2361.1,2,-999.0,9,-999.00,1,20050920,2344,-56.5091,-94.0409
316N20050821,AAIW,87,1,5,5,2,20050920,2258,-56.5127,-94.0319,3404.9,1.2024,34.7193,2,34.7162,3,197.4,2,197.7,2,113.68,2,31.58,2,0.00,2,2.18,2,0.058,2,0.024,2,0.003,2,0.076,2,2265.4,2,2361.2,2,-999.0,9,-999.00,1,20050920,2335,-56.5089,-94.0422
316N20050821,AAIW,87,1,4,4,2,20050920,2258,-56.5127,-94.0319,3907.6,0.8440,34.7112,2,34.7076,3,204.0,2,204.8,2,125.16,2,31.76,2,0.00,2,2.19,2,0.068,2,0.030,2,0.003,2,0.120,2,2265.5,2,2364.2,2,-999.0,9,-999.00,1,20050920,2326,-56.5087,-94.0437
316N20050821,AAIW,87,1,3,3,2,20050920,2258,-56.5127,-94.0319,4421.9,0.6198,34.7072,2,34.7052,2,208.3,2,209.3,2,133.04,2,32.00,2,0.00,2,2.23,2,0.070,2,0.029,2,0.003,2,0.174,2,2265.2,2,2363.4,2,-999.0,9,-999.00,1,20050920,2317,-56.5077,-94.0458
316N20050821,AAIW,87,1,2,2,2,20050920,2258,-56.5127,-94.0319,4939.7,0.6122,34.7062,2,34.7056,2,209.7,2,210.6,2,135.26,2,32.00,2,0.00,2,2.22,2,0.068,2,0.033,2,0.003,2,0.229,2,2265.8,2,2363.9,2,-999.0,9,-999.00,1,20050920,2308,-56.5077,-94.0492
316N20050821,AAIW,87,1,1,1,2,20050920,2258,-56.5127,-94.0319,5382.7,0.6571,34.7057,2,34.7045,2,211.7,2,210.6,2,135.87,2,32.14,2,0.00,2,2.23,2,0.084,2,0.049,2,0.003,2,0.284,2,2265.3,6,2362.8,2,-999.0,9,-999.00,1,20050920,2258,-56.5085,-94.0510