BOTTLE,20220819CCHSIOAMB
EXPOCODE,SECT_ID,STNNBR,CASTNO,SAMPNO,BTLNBR,BTLNBR_FLAG_W,DATE,TIME,LATITUDE,LONGITUDE,CTDPRS,CTDTMP,CTDSAL,CTDSAL_FLAG_W,SALNTY,SALNTY_FLAG_W,CTDOXY,CTDOXY_FLAG_W,OXYGEN,OXYGEN_FLAG_W,SILCAT,SILCAT_FLAG_W,NITRAT,NITRAT_FLAG_W,NITRIT,NITRIT_FLAG_W,PHSPHT,PHSPHT_FLAG_W,CFC-11,CFC-11_FLAG_W,CFC-12,CFC-12_FLAG_W,CFC113,CFC113_FLAG_W,CCL4,CCL4_FLAG_W,TCARBN,TCARBN_FLAG_W,ALKALI,ALKALI_FLAG_W,PCO2,PCO2_FLAG_W,PH_SWS,PH_SWS_FLAG_W,BTL_DATE,BTL_TIME,BTL_LAT,BTL_LON
,,,,,,,,,,,DBAR,ITS-90,PSS-78,,PSS-78,,UMOL/KG,,UMOL/KG,,UMOL/KG,,UMOL/KG,,UMOL/KG,,UMOL/KG,,PMOL/KG,,PMOL/KG,,PMOL/KG,,PMOL/KG,,UMOL/KG,,UMOL/KG,,UATM,,,,,,,
316N20050821,AAIW,25,1,24,24,2,20050830,1924,-59.2265,-78.9900,20.2,3.3533,34.0433,2,34.0458,2,309.8,2,309.9,2,8.34,2,24.10,2,0.04,2,1.68,2,5.034,2,2.745,2,0.470,2,6.311,2,2135.6,2,2275.2,2,-999.0,9,-999.00,1,20050830,2123,-59.2265,-78.9900
316N20050821,AAIW,25,1,23,23,2,20050830,1924,-59.2265,-78.9900,40.4,3.3517,34.0433,2,34.0454,2,309.6,2,309.9,2,8.27,2,24.14,2,0.04,2,1.68,2,5.101,2,2.768,2,0.465,2,6.410,2,2136.3,2,2274.6,2,-999.0,9,-999.00,1,20050830,2121,-59.2263,-78.9901
316N20050821,AAIW,25,1,22,22,2,20050830,1924,-59.2265,-78.9900,70.2,3.3534,34.0433,2,34.0449,2,309.6,2,309.9,2,8.39,2,24.18,2,0.04,2,1.68,2,5.100,2,2.766,2,0.468,2,6.465,2,2136.2,2,2273.6,2,-999.0,9,-999.00,1,20050830,2119,-59.2262,-78.9901
316N20050821,AAIW,25,1,21,21,2,20050830,1924,-59.2265,-78.9900,100.0,3.3526,34.0432,2,34.0466,2,308.9,2,309.3,2,8.14,2,24.09,2,0.03,2,1.68,2,5.109,2,2.773,2,0.466,2,6.414,2,2139.0,2,2272.6,2,-999.0,9,-999.00,1,20050830,2117,-59.2260,-78.9902
316N20050821,AAIW,25,1,20,20,2,20050830,1924,-59.2265,-78.9900,129.5,3.3450,34.0431,2,34.0444,2,308.4,2,308.8,2,8.07,2,24.14,2,0.03,2,1.68,2,5.120,2,2.769,2,0.464,2,6.430,2,2138.2,2,2274.2,2,-999.0,9,-999.00,1,20050830,2115,-59.2259,-78.9901
316N20050821,AAIW,25,1,19,19,2,20050830,1924,-59.2265,-78.9900,169.6,3.2366,34.0399,2,34.0412,2,307.6,2,307.3,2,8.73,2,24.58,2,0.03,2,1.71,2,5.084,2,2.742,2,0.464,2,6.367,2,2138.6,2,2273.6,2,-999.0,9,-999.00,1,20050830,2113,-59.2258,-78.9901
316N20050821,AAIW,25,1,18,18,2,20050830,1924,-59.2265,-78.9900,218.7,3.1298,34.0339,2,34.0360,2,307.1,2,307.8,2,9.22,2,24.82,2,0.03,2,1.72,2,5.086,2,2.718,2,0.463,2,6.296,2,2140.6,2,2274.4,2,-999.0,9,-999.00,1,20050830,2111,-59.2256,-78.9901
316N20050821,AAIW,25,1,17,17,2,20050830,1924,-59.2265,-78.9900,275.0,3.1312,34.0378,2,34.0395,2,306.7,2,307.0,2,9.34,2,24.82,2,0.03,2,1.73,2,5.077,2,2.721,2,0.452,2,6.262,2,2140.5,2,2274.2,2,-999.0,9,-999.00,1,20050830,2108,-59.2255,-78.9901
316N20050821,AAIW,25,1,16,16,2,20050830,1924,-59.2265,-78.9900,372.0,3.2250,34.0753,2,34.0727,2,286.9,2,287.1,2,14.07,2,26.73,2,0.00,2,1.84,2,4.670,2,2.500,2,0.410,2,5.485,2,2154.2,2,2277.3,2,-999.0,9,-999.00,1,20050830,2105,-59.2252,-78.9903
316N20050821,AAIW,25,1,15,15,2,20050830,1924,-59.2265,-78.9900,471.5,3.1051,34.1383,2,34.1388,2,263.4,2,264.3,2,21.94,2,28.99,2,0.00,2,1.99,2,4.090,2,2.132,2,0.361,2,4.582,2,2172.2,2,2282.8,2,-999.0,9,-999.00,1,20050830,2102,-59.2248,-78.9905
316N20050821,AAIW,25,1,14,14,2,20050830,1924,-59.2265,-78.9900,573.0,2.9711,34.1954,2,34.1959,2,244.3,2,245.4,2,28.91,2,30.49,2,0.00,2,2.10,2,3.409,2,1.753,2,0.290,2,3.822,2,2187.6,2,2290.3,2,-999.0,9,-999.00,1,20050830,2059,-59.2244,-78.9908
316N20050821,AAIW,25,1,13,13,2,20050830,1924,-59.2265,-78.9900,671.1,2.9654,34.2738,2,34.2744,2,219.7,2,219.5,2,37.71,2,32.07,2,0.00,2,2.22,2,2.488,2,1.253,2,0.206,2,2.860,2,2205.3,2,2298.8,2,-999.0,9,-999.00,1,20050830,2057,-59.2240,-78.9908
316N20050821,AAIW,25,1,12,12,2,20050830,1924,-59.2265,-78.9900,772.0,2.9424,34.3349,2,34.3364,2,202.3,2,202.9,2,45.79,2,33.21,2,0.00,2,2.28,2,1.874,2,0.935,2,0.155,2,2.153,2,2218.4,2,2306.2,2,-999.0,9,-999.00,1,20050830,2053,-59.2237,-78.9911
316N20050821,AAIW,25,1,11,11,2,20050830,1924,-59.2265,-78.9900,870.4,2.8633,34.4041,2,34.4038,2,187.6,2,188.1,2,54.43,2,33.78,2,0.00,2,2.34,2,1.234,2,0.610,2,0.093,2,1.518,2,2231.2,2,2315.1,2,-999.0,9,-999.00,1,20050830,2050,-59.2233,-78.9913
316N20050821,AAIW,25,1,10,10,2,20050830,1924,-59.2265,-78.9900,1050.5,2.6054,34.4841,2,34.4843,2,177.1,2,177.3,2,65.11,2,34.28,2,0.00,2,2.38,2,0.822,2,0.384,2,0.056,2,1.042,2,2244.9,2,2325.2,2,-999.0,9,-999.00,1,20050830,2046,-59.2229,-78.9915
316N20050821,AAIW,25,1,9,9,2,20050830,1924,-59.2265,-78.9900,1250.8,2.4204,34.5687,2,34.5695,2,172.0,2,171.9,2,73.77,2,34.07,2,0.00,2,2.36,2,0.523,2,0.236,2,0.040,2,0.728,2,2253.5,2,2336.8,2,-999.0,9,-999.00,1,20050830,2042,-59.2224,-78.9913
316N20050821,AAIW,25,1,8,8,2,20050830,1924,-59.2265,-78.9900,1747.9,2.1251,34.6922,2,34.6919,2,178.2,2,177.3,2,84.47,2,32.38,2,0.00,2,2.24,2,0.198,2,0.082,2,0.011,2,0.267,2,2255.9,2,2346.6,2,-999.0,9,-999.00,1,20050830,2033,-59.2216,-78.9913
316N20050821,AAIW,25,1,7,7,2,20050830,1924,-59.2265,-78.9900,2250.3,1.7761,34.7223,2,34.7218,2,185.0,2,183.9,2,97.04,2,31.90,2,0.00,2,2.21,2,0.078,2,0.024,2,0.008,2,0.098,2,2261.7,2,2358.6,2,-999.0,9,-999.00,1,20050830,2024,-59.2207,-78.9915
316N20050821,AAIW,25,1,6,6,2,20050830,1924,-59.2265,-78.9900,2757.6,1.4517,34.7260,2,34.7255,2,193.8,2,192.5,2,105.91,2,31.81,2,0.00,2,2.20,2,0.056,2,0.019,2,0.007,2,0.079,2,2260.8,2,2360.2,2,-999.0,9,-999.00,1,20050830,2015,-59.2197,-78.9922
316N20050821,AAIW,25,1,5,5,2,20050830,1924,-59.2265,-78.9900,3260.7,1.1595,34.7197,2,34.7209,2,199.7,2,198.9,2,113.86,2,31.85,2,0.00,2,-999.00,5,0.062,2,0.022,2,0.005,2,0.121,2,2261.3,2,2361.1,2,-999.0,9,-999.00,1,20050830,2005,-59.2189,-78.9926
316N20050821,AAIW,25,1,4,4,2,20050830,1924,-59.2265,-78.9900,3767.9,0.8742,34.7112,2,34.7112,2,204.7,2,204.3,2,123.87,2,32.22,2,0.00,2,-999.00,5,0.082,2,0.032,2,0.007,2,0.178,2,2261.9,2,2361.3,2,-999.0,9,-999.00,1,20050830,1956,-59.2184,-78.9941
316N20050821,AAIW,25,1,3,3,2,20050830,1924,-59.2265,-78.9900,4275.2,0.6276,34.7069,2,34.7059,2,208.8,2,209.2,2,131.84,2,32.46,2,0.00,2,-999.00,5,0.086,2,0.037,2,0.008,2,0.245,2,2263.1,2,2362.5,2,-999.0,9,-999.00,1,20050830,1946,-59.2177,-78.9950
316N20050821,AAIW,25,1,2,2,2,20050830,1924,-59.2265,-78.9900,4782.3,0.5643,34.7055,2,34.7046,2,210.5,2,211.6,2,136.84,2,32.58,2,0.00,2,2.27,2,0.103,2,0.043,2,0.007,2,0.284,2,2264.5,2,2363.2,2,-999.0,9,-999.00,1,20050830,1935,-59.2171,-78.9963
316N20050821,AAIW,25,1,1,1,2,20050830,1924,-59.2265,-78.9900,5287.5,0.5949,34.7049,2,34.7043,2,211.9,2,211.6,2,137.76,2,32.70,2,0.00,2,2.26,2,0.119,2,0.052,2,0.005,2,0.309,2,2265.3,2,2361.9,2,-999.0,9,-999.00,1,20050830,1924,-59.2163,-78.9977
316N20050821,AAIW,26,1,24,24,2,20050831,247,-58.6443,-78.9798,15.0,4.0980,34.0834,2,34.0816,2,305.2,2,304.0,2,7.28,2,22.87,2,0.03,2,1.59,2,5.005,2,2.606,2,0.429,2,5.914,2,2129.6,2,2272.9,2,-999.0,9,-999.00,1,20050831,446,-58.6443,-78.9798
316N20050821,AAIW,26,1,23,23,2,20050831,247,-58.6443,-78.9798,49.0,4.1085,34.0842,2,34.0821,2,305.0,2,304.2,2,7.37,2,22.79,2,0.03,2,1.59,2,4.922,2,2.704,2,0.451,2,6.064,2,2130.5,2,2272.9,2,-999.0,9,-999.00,1,20050831,444,-58.6438,-78.9799
316N20050821,AAIW,26,1,22,22,2,20050831,247,-58.6443,-78.9798,89.3,3.8619,34.0677,2,34.0677,2,303.0,2,301.8,2,8.20,2,23.54,2,0.03,2,1.63,2,4.859,2,2.705,2,0.441,2,5.912,2,-999.0,9,2273.7,2,-999.0,9,-999.00,1,20050831,441,-58.6433,-78.9799
316N20050821,AAIW,26,1,21,21,2,20050831,247,-58.6443,-78.9798,138.8,3.6089,34.0525,2,34.0504,2,303.1,2,301.4,2,9.23,2,24.23,2,0.02,2,1.68,2,4.915,2,2.694,2,0.433,2,5.984,2,2136.8,2,2274.3,2,-999.0,9,-999.00,1,20050831,439,-58.6428,-78.9800
316N20050821,AAIW,26,1,20,20,2,20050831,247,-58.6443,-78.9798,188.6,3.5850,34.0550,2,34.0522,2,309.6,2,306.7,2,8.58,2,23.82,2,0.04,2,1.65,2,4.988,2,2.749,2,0.435,2,6.117,2,2133.6,2,2274.4,2,-999.0,9,-999.00,1,20050831,437,-58.6423,-78.9801
316N20050821,AAIW,26,1,19,19,2,20050831,247,-58.6443,-78.9798,238.4,3.4987,34.0478,2,34.0462,2,309.4,2,306.2,2,8.86,2,24.02,2,0.03,2,1.67,2,4.961,2,2.727,2,0.432,2,6.129,2,2134.0,2,2273.7,2,-999.0,9,-999.00,1,20050831,434,-58.6417,-78.9805
316N20050821,AAIW,26,1,18,18,2,20050831,247,-58.6443,-78.9798,288.0,3.4617,34.0472,2,34.0479,2,308.3,2,304.6,2,9.14,2,24.23,2,0.02,2,1.68,2,4.963,2,2.731,2,0.439,2,5.984,2,2137.1,2,2274.1,2,-999.0,9,-999.00,1,20050831,432,-58.6413,-78.9807
316N20050821,AAIW,26,1,17,17,2,20050831,247,-58.6443,-78.9798,387.4,3.6342,34.1171,2,34.1170,2,271.7,2,269.1,2,17.35,2,27.30,2,0.00,2,1.88,2,4.238,2,2.261,2,0.339,2,4.664,2,2160.3,2,2279.5,2,-999.0,9,-999.00,1,20050831,429,-58.6407,-78.9807
316N20050821,AAIW,26,1,16,16,2,20050831,247,-58.6443,-78.9798,447.0,3.7579,34.1769,2,34.1749,2,253.0,2,249.7,2,21.88,2,28.67,2,0.00,2,1.97,2,3.651,2,1.909,2,0.292,2,3.946,2,2172.2,2,2284.4,2,-999.0,9,-999.00,1,20050831,426,-58.6402,-78.9807
316N20050821,AAIW,26,1,15,15,2,20050831,247,-58.6443,-78.9798,487.0,3.4965,34.1786,2,34.1797,2,248.4,2,247.7,2,24.56,2,29.07,2,0.00,2,2.00,2,3.630,2,1.894,2,0.299,2,4.006,2,2177.2,2,2284.9,2,-999.0,9,-999.00,1,20050831,424,-58.6398,-78.9808
316N20050821,AAIW,26,1,14,14,2,20050831,247,-58.6443,-78.9798,587.9,3.1009,34.2077,2,34.2076,2,240.0,2,240.6,2,30.38,2,30.57,2,0.00,2,2.10,2,3.346,2,1.680,2,0.244,2,3.725,2,2188.3,2,2290.5,2,-999.0,9,-999.00,1,20050831,421,-58.6392,-78.9809
316N20050821,AAIW,26,1,13,13,2,20050831,247,-58.6443,-78.9798,687.6,3.0980,34.2841,2,34.2831,2,218.7,2,216.9,2,39.33,2,32.03,2,0.00,2,2.21,2,2.409,2,1.209,2,0.188,2,2.821,2,2204.8,2,2298.4,2,-999.0,9,-999.00,1,20050831,418,-58.6388,-78.9813
316N20050821,AAIW,26,1,12,12,2,20050831,247,-58.6443,-78.9798,785.8,3.0580,34.3435,2,34.3417,2,202.3,2,200.7,2,46.62,2,32.85,2,0.00,2,2.28,2,1.764,2,0.896,2,0.117,2,2.099,2,2216.6,2,2306.4,2,-999.0,9,-999.00,1,20050831,415,-58.6384,-78.9818
316N20050821,AAIW,26,1,11,11,2,20050831,247,-58.6443,-78.9798,886.4,2.8866,34.3972,2,34.3961,2,191.3,2,189.4,2,54.29,2,33.71,2,0.00,2,2.33,2,1.334,2,0.642,2,0.082,2,1.652,2,-999.0,9,2314.0,2,-999.0,9,-999.00,1,20050831,412,-58.6379,-78.9819
316N20050821,AAIW,26,1,10,10,2,20050831,247,-58.6443,-78.9798,996.0,2.6716,34.4476,2,34.4458,2,183.9,2,181.6,2,61.58,2,34.11,2,0.00,2,2.36,2,1.066,2,0.516,2,0.063,2,1.398,2,2239.4,2,2320.5,2,-999.0,9,-999.00,1,20050831,409,-58.6374,-78.9820
316N20050821,AAIW,26,1,9,9,2,20050831,247,-58.6443,-78.9798,1143.5,2.5429,34.5083,2,34.5078,2,177.2,2,175.0,2,68.51,2,34.19,2,0.00,2,2.37,2,0.756,2,0.367,2,0.042,2,1.015,2,2248.3,2,2328.0,2,-999.0,9,-999.00,1,20050831,405,-58.6370,-78.9821
316N20050821,AAIW,26,1,8,8,2,20050831,247,-58.6443,-78.9798,1434.9,2.3398,34.6156,2,34.6143,2,173.9,2,171.1,2,78.02,2,33.61,2,0.00,2,2.32,2,0.394,2,0.184,2,0.018,2,0.568,2,-999.0,9,2338.0,2,-999.0,9,-999.00,1,20050831,359,-58.6364,-78.9822
316N20050821,AAIW,26,1,7,7,2,20050831,247,-58.6443,-78.9798,1901.3,2.0705,34.7034,2,34.7027,2,180.6,2,178.1,2,88.47,2,32.14,2,0.00,2,2.23,2,0.145,2,0.072,2,0.000,2,0.246,2,-999.0,9,2348.8,2,-999.0,9,-999.00,1,20050831,349,-58.6357,-78.9823
316N20050821,AAIW,26,1,6,6,2,20050831,247,-58.6443,-78.9798,2346.3,1.7568,34.7241,2,34.7267,3,187.1,2,184.9,2,98.17,2,31.89,2,0.00,2,2.20,2,0.076,2,0.034,2,0.000,2,0.131,2,-999.0,9,2357.8,2,-999.0,9,-999.00,1,20050831,339,-58.6349,-78.9825
316N20050821,AAIW,26,1,5,5,2,20050831,247,-58.6443,-78.9798,2804.7,1.4637,34.7253,2,34.7245,2,193.7,2,191.8,2,106.40,2,31.73,2,0.00,2,2.20,2,0.049,6,0.028,6,0.000,6,0.115,6,-999.0,9,2360.8,2,-999.0,9,-999.00,1,20050831,330,-58.6336,-78.9828
316N20050821,AAIW,26,1,4,4,2,20050831,247,-58.6443,-78.9798,3310.1,1.1654,34.7198,2,34.7189,2,200.0,2,198.6,2,114.45,2,31.89,2,0.00,2,2.21,2,0.070,2,0.041,2,0.000,2,0.170,2,-999.0,9,2360.6,2,-999.0,9,-999.00,1,20050831,320,-58.6313,-78.9843
316N20050821,AAIW,26,1,3,3,2,20050831,247,-58.6443,-78.9798,3809.7,0.8735,34.7113,2,34.7127,2,205.3,2,204.4,2,123.61,2,32.13,2,0.00,2,2.22,2,0.088,2,0.050,2,0.000,2,0.229,2,-999.0,9,2360.2,2,-999.0,9,-999.00,1,20050831,310,-58.6294,-78.9857
316N20050821,AAIW,26,1,2,2,2,20050831,247,-58.6443,-78.9798,4318.7,0.6326,34.7072,2,34.7069,2,209.5,2,209.0,2,132.03,2,32.09,2,0.00,2,2.25,2,0.086,2,0.047,2,0.000,2,0.277,2,-999.0,9,2362.3,2,-999.0,9,-999.00,1,20050831,301,-58.6273,-78.9866
316N20050821,AAIW,26,1,1,1,2,20050831,247,-58.6443,-78.9798,5065.9,0.5897,34.7055,2,34.7055,2,212.5,2,211.0,2,136.95,2,32.50,2,0.00,2,2.26,2,0.111,2,0.063,2,0.010,2,0.341,2,2265.2,2,2363.0,2,-999.0,9,-999.00,1,20050831,247,-58.6243,-78.9860
316N20050821,AAIW,27,1,24,24,2,20050831,1006,-58.0423,-79.0246,12.1,4.7179,34.1349,2,34.1336,2,301.1,2,300.3,2,6.70,2,21.51,2,0.04,2,1.52,2,4.841,2,2.573,2,0.427,2,5.689,2,2126.0,2,2272.6,2,-999.0,9,-999.00,1,20050831,1201,-58.0423,-79.0246
316N20050821,AAIW,27,1,23,23,2,20050831,1006,-58.0423,-79.0246,32.1,4.7135,34.1343,2,34.1341,2,301.1,2,300.3,2,6.60,2,21.46,2,0.04,2,1.52,2,4.787,2,2.658,2,0.439,2,5.693,2,2126.7,2,2273.1,2,-999.0,9,-999.00,1,20050831,1159,-58.0419,-79.0245
316N20050821,AAIW,27,1,22,22,2,20050831,1006,-58.0423,-79.0246,56.8,4.7175,34.1347,2,34.1345,2,301.0,2,300.4,2,6.71,2,21.56,2,0.04,2,1.52,2,4.818,2,2.621,2,0.430,2,5.665,2,2126.7,2,2272.7,2,-999.0,9,-999.00,1,20050831,1157,-58.0414,-79.0245
316N20050821,AAIW,27,1,21,21,2,20050831,1006,-58.0423,-79.0246,156.5,4.6232,34.1238,2,34.1228,2,300.6,2,300.3,2,6.81,2,21.77,2,0.04,2,1.53,2,4.813,2,2.608,2,0.425,2,5.721,2,2128.1,2,2272.7,2,-999.0,9,-999.00,1,20050831,1153,-58.0405,-79.0244
316N20050821,AAIW,27,1,20,20,2,20050831,1006,-58.0423,-79.0246,206.2,4.4644,34.1067,2,34.1065,2,301.0,2,300.8,2,7.11,2,22.13,2,0.04,2,1.56,2,4.782,2,2.651,2,0.428,2,5.580,2,2128.9,2,2272.4,2,-999.0,9,-999.00,1,20050831,1150,-58.0398,-79.0243
316N20050821,AAIW,27,1,19,19,2,20050831,1006,-58.0423,-79.0246,250.9,4.2865,34.0863,2,34.0887,2,299.7,2,299.7,2,7.42,2,22.60,2,0.03,2,1.58,2,4.851,2,2.656,2,0.426,2,5.776,2,2131.5,2,2273.0,2,-999.0,9,-999.00,1,20050831,1147,-58.0392,-79.0242
316N20050821,AAIW,27,1,18,18,2,20050831,1006,-58.0423,-79.0246,300.7,4.4448,34.1102,2,34.1122,2,293.5,2,292.7,2,8.53,2,23.11,2,0.02,2,1.61,2,4.658,2,2.544,2,0.402,2,5.425,2,2135.2,2,2273.4,2,-999.0,9,-999.00,1,20050831,1145,-58.0385,-79.0241
316N20050821,AAIW,27,1,17,17,2,20050831,1006,-58.0423,-79.0246,336.0,4.7288,34.1586,2,34.1566,2,274.8,2,275.1,2,11.25,2,24.29,2,0.01,2,1.69,2,4.294,2,2.312,2,0.358,2,4.625,2,2145.0,2,2276.1,2,-999.0,9,-999.00,1,20050831,1142,-58.0381,-79.0241
316N20050821,AAIW,27,1,16,16,2,20050831,1006,-58.0423,-79.0246,414.9,4.5894,34.1586,2,34.1570,2,270.6,2,270.7,2,12.56,2,25.05,2,0.00,2,1.74,2,4.184,2,2.269,2,0.356,2,4.549,2,2151.9,2,2277.0,2,-999.0,9,-999.00,1,20050831,1139,-58.0374,-79.0240
316N20050821,AAIW,27,1,15,15,2,20050831,1006,-58.0423,-79.0246,515.4,4.4632,34.1960,2,34.1944,2,248.2,2,248.4,2,17.71,2,27.15,2,0.00,2,1.87,2,3.574,2,1.862,2,0.262,2,3.753,2,2164.9,2,2281.3,2,-999.0,9,-999.00,1,20050831,1136,-58.0366,-79.0240
316N20050821,AAIW,27,1,14,14,2,20050831,1006,-58.0423,-79.0246,578.1,4.2663,34.2150,2,34.2141,2,239.0,2,239.0,2,21.43,2,28.32,2,0.00,2,1.95,2,3.296,2,1.724,2,0.238,2,3.461,2,2173.3,2,2283.4,2,-999.0,9,-999.00,1,20050831,1133,-58.0359,-79.0239
316N20050821,AAIW,27,1,13,13,2,20050831,1006,-58.0423,-79.0246,676.4,3.9278,34.2456,2,34.2429,2,227.2,2,227.2,2,27.39,2,29.91,2,0.00,2,2.06,2,2.839,2,1.480,2,0.202,2,3.056,2,2186.3,2,2289.0,2,-999.0,9,-999.00,1,20050831,1130,-58.0354,-79.0238
316N20050821,AAIW,27,1,12,12,2,20050831,1006,-58.0423,-79.0246,775.0,3.7647,34.2984,2,34.2983,2,210.7,2,210.5,2,34.76,2,31.29,2,0.00,2,2.16,2,2.152,6,1.105,6,0.144,6,2.383,6,2200.5,2,2296.8,2,-999.0,9,-999.00,1,20050831,1127,-58.0346,-79.0235
316N20050821,AAIW,27,1,11,11,2,20050831,1006,-58.0423,-79.0246,973.0,3.0241,34.3531,2,34.3510,2,197.8,2,197.9,2,48.02,2,33.20,2,0.00,2,2.30,2,1.655,2,0.848,2,0.124,2,1.995,2,2221.7,2,2308.0,2,-999.0,9,-999.00,1,20050831,1123,-58.0336,-79.0231
316N20050821,AAIW,27,1,10,10,2,20050831,1006,-58.0423,-79.0246,1144.8,2.7685,34.4385,2,34.4365,2,182.5,2,182.8,2,59.89,2,34.16,2,0.00,2,2.37,2,1.054,2,0.517,2,0.071,2,1.384,2,2239.7,2,2320.5,2,-999.0,9,-999.00,1,20050831,1118,-58.0328,-79.0228
316N20050821,AAIW,27,1,9,9,2,20050831,1006,-58.0423,-79.0246,1483.6,2.4551,34.5803,2,34.5780,2,170.3,2,170.4,2,75.67,2,34.00,2,0.00,2,2.36,2,0.405,2,0.194,2,0.020,2,0.600,2,2256.3,2,2337.5,2,-999.0,9,-999.00,1,20050831,1111,-58.0314,-79.0227
316N20050821,AAIW,27,1,8,8,2,20050831,1006,-58.0423,-79.0246,1772.6,2.2662,34.6587,2,34.6588,2,172.4,2,172.2,2,82.91,2,33.07,2,0.00,2,2.30,2,0.225,2,0.103,2,0.009,2,0.339,2,2259.7,2,2345.9,2,-999.0,9,-999.00,1,20050831,1105,-58.0305,-79.0219
316N20050821,AAIW,27,1,7,7,2,20050831,1006,-58.0423,-79.0246,2077.4,2.0667,34.7015,2,34.7014,2,176.5,2,176.2,2,90.17,2,32.50,2,0.00,2,2.25,2,0.104,2,0.047,2,0.001,2,0.175,2,2263.1,2,2354.3,2,-999.0,9,-999.00,1,20050831,1058,-58.0293,-79.0212
316N20050821,AAIW,27,1,6,6,2,20050831,1006,-58.0423,-79.0246,2549.8,1.7411,34.7221,2,34.7243,3,183.9,2,184.2,2,100.31,2,31.98,2,0.00,2,2.22,2,0.065,2,0.027,2,0.001,2,0.107,2,2264.6,2,2360.9,2,-999.0,9,-999.00,1,20050831,1049,-58.0275,-79.0201
316N20050821,AAIW,27,1,5,5,2,20050831,1006,-58.0423,-79.0246,3031.3,1.4577,34.7244,2,34.7233,2,191.9,2,192.1,2,107.18,2,31.94,2,0.00,2,2.21,2,0.050,2,0.030,2,0.001,2,0.112,2,2263.8,2,2362.2,2,-999.0,9,-999.00,1,20050831,1039,-58.0260,-79.0193
316N20050821,AAIW,27,1,4,4,2,20050831,1006,-58.0423,-79.0246,3452.3,1.1998,34.7205,2,34.7196,2,198.1,2,198.4,2,113.65,2,31.98,2,0.00,2,2.21,2,0.062,2,0.025,2,0.001,2,0.140,2,2261.6,2,2361.6,2,-999.0,9,-999.00,1,20050831,1031,-58.0247,-79.0184
316N20050821,AAIW,27,1,3,3,2,20050831,1006,-58.0423,-79.0246,3949.3,0.8729,34.7115,2,34.7102,2,203.9,2,204.2,2,124.27,2,32.29,2,0.00,2,2.23,2,0.061,2,0.032,2,0.001,2,0.181,2,2263.5,2,2362.2,2,-999.0,9,-999.00,1,20050831,1021,-58.0232,-79.0178
316N20050821,AAIW,27,1,2,2,2,20050831,1006,-58.0423,-79.0246,4456.4,0.6391,34.7073,2,34.7062,2,208.6,2,209.4,2,133.26,2,32.60,2,0.00,2,2.27,2,0.065,2,0.028,2,0.001,2,0.241,2,2263.8,2,2364.8,2,-999.0,9,-999.00,1,20050831,1012,-58.0215,-79.0171
316N20050821,AAIW,27,1,1,1,2,20050831,1006,-58.0423,-79.0246,4719.6,0.6112,34.7063,2,34.7066,2,211.0,2,210.0,2,135.23,2,32.44,2,0.00,2,2.25,2,0.082,2,0.033,2,0.001,2,0.273,2,2263.9,2,2364.1,2,-999.0,9,-999.00,1,20050831,1006,-58.0204,-79.0166