BOTTLE,20220816CCHSIOAMB
EXPOCODE,SECT_ID,STNNBR,CASTNO,SAMPNO,BTLNBR,BTLNBR_FLAG_W,DATE,TIME,LATITUDE,LONGITUDE,DEPTH,CTDPRS,CTDTMP,CTDSAL,CTDSAL_FLAG_W,SALNTY,SALNTY_FLAG_W,CTDOXY,CTDOXY_FLAG_W,OXYGEN,OXYGEN_FLAG_W,SILCAT,SILCAT_FLAG_W,NITRAT,NITRAT_FLAG_W,TCARBN,TCARBN_FLAG_W,ALKALI,ALKALI_FLAG_W,FLUOR_FLAG_W,XMISS,XMISS_FLAG_W,FLUOR,PAR,PAR_FLAG_W,THETA
,,,,,,,,,,,METERS,DBAR,ITS-90,PSS-78,,PSS-78,,UMOL/KG,,UMOL/KG,,UMOL/KG,,UMOL/KG,,UMOL/KG,,UMOL/KG,,,%TRANS,,VOLTS,VOLTS,,DEG C
  09AR20060102,  S04I,    81,  1,     24,     24,2,20060210,2309,-66.5568,  59.9880, 1327,      9.5,  -0.3605,  34.0447,2,  34.0467,2,    343.0,2,    344.3,2,    53.60,2,    26.42,2,   2177.8,2,   2303.6,2,2,     0.46,2,    2.496,    0.014,2,  -0.3608
  09AR20060102,  S04I,    81,  1,     23,     23,2,20060210,2309,-66.5568,  59.9880, 1327,     20.1,  -0.4155,  34.1018,2,-999.0000,9,    342.0,2,   -999.0,9,  -999.00,9,  -999.00,9,   -999.0,9,   -999.0,9,2,     0.70,2,    2.557,    0.005,2,  -0.4161
  09AR20060102,  S04I,    81,  1,     22,     22,2,20060210,2309,-66.5568,  59.9880, 1327,     20.1,  -0.4159,  34.1018,2,-999.0000,9,    342.0,2,   -999.0,9,  -999.00,9,  -999.00,9,   -999.0,9,   -999.0,9,2,     0.71,2,    2.398,    0.005,2,  -0.4165
  09AR20060102,  S04I,    81,  1,     21,     21,2,20060210,2309,-66.5568,  59.9880, 1327,     20.1,  -0.4232,  34.1041,2,  34.1036,2,    342.0,2,    342.2,2,    54.10,2,    27.92,2,   2185.1,6,   -999.0,9,2,     0.69,2,    2.485,    0.005,2,  -0.4238
  09AR20060102,  S04I,    81,  1,     20,     20,2,20060210,2309,-66.5568,  59.9880, 1327,     39.6,  -0.4617,  34.1086,2,  34.1109,2,    336.8,2,    339.9,2,    54.40,2,    27.77,2,   2184.5,2,   -999.0,9,2,     0.95,2,    2.423,    0.001,2,  -0.4629
  09AR20060102,  S04I,    81,  1,     19,     19,2,20060210,2309,-66.5568,  59.9880, 1327,     49.5,  -0.4864,  34.1136,2,  34.1152,2,    335.4,2,    338.5,2,    55.40,2,    27.47,2,   2188.3,2,   -999.0,9,2,     0.96,2,    1.745,    0.000,2,  -0.4879
  09AR20060102,  S04I,    81,  1,     18,     18,2,20060210,2309,-66.5568,  59.9880, 1327,     59.1,  -0.5557,  34.1193,2,  34.1310,2,    334.9,2,    336.4,2,    55.80,2,    26.37,2,   2187.9,2,   -999.0,9,2,     0.96,2,    1.908,    0.000,2,  -0.5575
  09AR20060102,  S04I,    81,  1,     17,     17,2,20060210,2309,-66.5568,  59.9880, 1327,     70.1,  -0.8057,  34.1610,2,  34.1623,2,    334.4,2,    330.6,2,    56.60,2,    28.44,2,   2192.8,2,   -999.0,9,2,     0.97,2,    1.478,    0.000,2,  -0.8077
  09AR20060102,  S04I,    81,  1,     16,     16,2,20060210,2309,-66.5568,  59.9880, 1327,     88.6,  -1.3624,  34.2197,2,  34.2197,2,    320.9,2,    317.5,2,    58.50,2,    29.75,2,   2204.8,2,   -999.0,9,2,     0.98,2,    0.971,    0.000,2,  -1.3645
  09AR20060102,  S04I,    81,  1,     15,     15,2,20060210,2309,-66.5568,  59.9880, 1327,    119.4,  -1.6441,  34.2978,2,  34.2992,2,    305.5,2,    307.6,2,    61.20,2,    30.48,2,   2214.4,2,   -999.0,9,2,     0.98,2,    0.559,    0.000,2,  -1.6467
  09AR20060102,  S04I,    81,  1,     14,     14,2,20060210,2309,-66.5568,  59.9880, 1327,    147.6,  -1.5976,  34.3466,2,  34.3476,2,    298.0,2,    299.9,2,    63.30,2,    31.01,2,   2219.4,2,   -999.0,9,2,     0.99,2,    0.171,    0.000,2,  -1.6009
  09AR20060102,  S04I,    81,  1,     13,     13,2,20060210,2309,-66.5568,  59.9880, 1327,    199.6,  -1.5858,  34.3817,2,  34.3831,2,    293.4,2,    294.4,2,    64.50,2,    31.32,2,   2221.9,2,   -999.0,9,2,     0.99,2,    0.031,    0.000,2,  -1.5904
  09AR20060102,  S04I,    81,  1,     12,     12,2,20060210,2309,-66.5568,  59.9880, 1327,    300.5,  -0.5328,  34.5093,2,  34.5091,2,    258.4,2,    260.0,2,    73.70,2,    31.70,2,   2236.8,2,   -999.0,9,2,     0.99,2,   -0.040,    0.000,2,  -0.5428
  09AR20060102,  S04I,    81,  1,     11,     11,2,20060210,2309,-66.5568,  59.9880, 1327,    449.3,   0.4377,  34.6381,2,  34.6380,2,    227.8,2,    225.7,2,    85.80,2,    31.81,2,   2247.5,2,   -999.0,9,2,     0.99,2,   -0.046,    0.000,2,   0.4184
  09AR20060102,  S04I,    81,  1,     10,     10,2,20060210,2309,-66.5568,  59.9880, 1327,    573.9,   0.5385,  34.6639,2,  34.6642,2,    220.3,2,    219.6,2,    91.50,2,    31.93,2,   2248.9,2,   -999.0,9,2,     0.99,2,   -0.039,    0.000,2,   0.5127
  09AR20060102,  S04I,    81,  1,      9,      9,2,20060210,2309,-66.5568,  59.9880, 1327,    749.1,   0.4553,  34.6683,2,  34.6684,2,    221.0,2,    221.0,2,    94.90,2,    31.90,2,   2251.9,2,   -999.0,9,2,     0.99,2,   -0.044,    0.000,2,   0.4210
  09AR20060102,  S04I,    81,  1,      8,      8,2,20060210,2309,-66.5568,  59.9880, 1327,    874.3,   0.3491,  34.6699,2,  34.6705,2,    223.2,2,    221.8,2,    98.70,2,    31.87,2,   2253.8,2,   -999.0,9,2,     0.99,2,   -0.043,    0.000,2,   0.3089
  09AR20060102,  S04I,    81,  1,      7,      7,2,20060210,2309,-66.5568,  59.9880, 1327,    949.5,   0.2199,  34.6607,2,  34.6607,2,    227.2,2,    226.9,2,   101.00,2,    32.31,3,   2252.3,2,   -999.0,9,2,     0.99,2,   -0.043,    0.000,2,   0.1766
  09AR20060102,  S04I,    81,  1,      6,      6,2,20060210,2309,-66.5568,  59.9880, 1327,    999.9,   0.2074,  34.6647,2,  34.6650,2,    225.8,2,    225.7,2,   103.80,2,    31.69,2,   2255.2,2,   -999.0,9,2,     0.99,2,   -0.043,    0.000,2,   0.1615
  09AR20060102,  S04I,    81,  1,      5,      5,2,20060210,2309,-66.5568,  59.9880, 1327,   1149.8,   0.0717,  34.6551,2,  34.6554,2,    229.2,2,    231.0,2,   101.60,2,    31.80,2,   2254.0,2,   -999.0,9,2,     0.99,2,   -0.046,    0.000,2,   0.0187
  09AR20060102,  S04I,    81,  1,      4,      4,2,20060210,2309,-66.5568,  59.9880, 1327,   1275.5,  -0.0097,  34.6504,2,  34.6507,2,    234.9,2,    234.8,2,    99.90,2,    31.80,2,   2254.5,2,   -999.0,9,2,     0.99,2,   -0.047,    0.000,2,  -0.0690
  09AR20060102,  S04I,    81,  1,      3,      3,2,20060210,2309,-66.5568,  59.9880, 1327,   1350.2,  -0.0681,  34.6462,2,  34.6470,2,    238.6,2,    237.7,2,    98.50,2,    32.07,2,   -999.0,9,   -999.0,9,2,     0.99,2,   -0.047,    0.000,2,  -0.1312
  09AR20060102,  S04I,    81,  1,      2,      2,2,20060210,2309,-66.5568,  59.9880, 1327,   1370.4,  -0.0893,  34.6446,2,  34.6456,2,    238.9,2,    239.2,2,    97.20,2,    31.88,2,   2250.1,2,   -999.0,9,2,     0.99,2,   -0.045,    0.000,2,  -0.1533
  09AR20060102,  S04I,    81,  1,      1,      1,2,20060210,2309,-66.5568,  59.9880, 1327,   1398.9,  -0.0752,  34.6468,2,  34.6466,2,    238.6,2,    238.4,2,    98.50,2,    31.42,2,   2251.0,6,   -999.0,9,2,     0.99,2,   -0.045,    0.000,2,  -0.1410
  09AR20060102,  S04I,    82,  1,     24,     24,2,20060211,0210,-66.6617,  59.9952,  895,     10.1,  -1.0582,  33.5191,2,  33.5220,2,    356.7,2,    364.3,2,    50.80,2,  -999.00,9,   2132.5,2,   -999.0,9,2,     0.88,2,    9.091,    0.082,2,  -1.0584
  09AR20060102,  S04I,    82,  1,     23,     23,2,20060211,0210,-66.6617,  59.9952,  895,     19.5,  -1.0229,  33.6915,2,-999.0000,9,    347.8,2,   -999.0,9,  -999.00,9,  -999.00,9,   -999.0,9,   -999.0,9,2,     0.92,2,    5.175,    0.016,2,  -1.0234
  09AR20060102,  S04I,    82,  1,     22,     22,2,20060211,0210,-66.6617,  59.9952,  895,     19.7,  -1.0136,  33.7040,2,-999.0000,9,    347.8,2,   -999.0,9,  -999.00,9,  -999.00,9,   -999.0,9,   -999.0,9,2,     0.92,2,    5.491,    0.017,2,  -1.0141
  09AR20060102,  S04I,    82,  1,     21,     21,2,20060211,0210,-66.6617,  59.9952,  895,     19.6,  -1.0064,  33.7096,2,  33.7075,2,    347.8,2,    350.7,2,    53.50,2,  -999.00,9,   2155.2,2,   -999.0,9,2,     0.93,2,    4.960,    0.016,2,  -1.0069
  09AR20060102,  S04I,    82,  1,     20,     20,2,20060211,0210,-66.6617,  59.9952,  895,     29.2,  -0.9982,  33.9061,2,  33.9102,2,    344.4,2,    342.7,2,    54.70,2,  -999.00,9,   2173.1,2,   -999.0,9,2,     0.95,2,    2.636,    0.004,2,  -0.9989
  09AR20060102,  S04I,    82,  1,     19,     19,2,20060211,0210,-66.6617,  59.9952,  895,     39.1,  -0.9368,  34.0237,2,  34.0256,2,    341.5,2,    339.1,2,    55.70,2,  -999.00,9,   -999.0,9,   -999.0,9,2,     0.95,2,    2.494,    0.001,2,  -0.9378
  09AR20060102,  S04I,    82,  1,     18,     18,2,20060211,0210,-66.6617,  59.9952,  895,     50.2,  -1.0450,  34.0899,2,  34.0899,2,    336.6,2,    336.5,2,    55.90,2,  -999.00,9,   -999.0,9,   -999.0,9,2,     0.96,2,    1.700,    0.000,2,  -1.0463
  09AR20060102,  S04I,    82,  1,     17,     17,2,20060211,0210,-66.6617,  59.9952,  895,     59.6,  -0.8768,  34.1627,2,  34.1643,2,    331.7,2,    332.3,2,    56.90,2,  -999.00,9,   2196.3,2,   -999.0,9,2,     0.96,2,    1.328,    0.000,2,  -0.8784
  09AR20060102,  S04I,    82,  1,     16,     16,2,20060211,0210,-66.6617,  59.9952,  895,     69.2,  -1.0583,  34.1972,2,  34.1945,2,    328.2,2,    329.2,2,    57.40,2,  -999.00,9,   -999.0,9,   -999.0,9,2,     0.96,2,    1.162,    0.000,2,  -1.0601
  09AR20060102,  S04I,    82,  1,     15,     15,2,20060211,0210,-66.6617,  59.9952,  895,     89.4,  -1.4697,  34.2507,2,  34.2495,2,    324.3,2,    323.1,2,    58.20,2,  -999.00,9,   2207.5,2,   -999.0,9,2,     0.98,2,    0.655,    0.000,2,  -1.4717
  09AR20060102,  S04I,    82,  1,     14,     14,2,20060211,0210,-66.6617,  59.9952,  895,    109.2,  -1.5919,  34.3015,2,  34.3020,2,    318.9,2,    315.9,2,    60.10,2,  -999.00,9,   -999.0,9,   -999.0,9,2,     0.98,2,    0.377,    0.000,2,  -1.5943
  09AR20060102,  S04I,    82,  1,     13,     13,2,20060211,0210,-66.6617,  59.9952,  895,    139.6,  -1.6003,  34.3287,2,-999.0000,9,    315.4,2,   -999.0,9,  -999.00,9,  -999.00,9,   -999.0,9,   -999.0,9,2,     0.99,2,    0.217,    0.000,2,  -1.6034
  09AR20060102,  S04I,    82,  1,     12,     12,2,20060211,0210,-66.6617,  59.9952,  895,    139.4,  -1.6027,  34.3292,2,  34.3298,2,    315.4,2,    313.0,2,    60.70,2,  -999.00,9,   2229.6,2,   -999.0,9,2,     0.99,2,    0.180,    0.000,2,  -1.6058
  09AR20060102,  S04I,    82,  1,     11,     11,2,20060211,0210,-66.6617,  59.9952,  895,    199.8,  -1.6416,  34.3588,2,-999.0000,9,    314.1,2,   -999.0,9,  -999.00,9,  -999.00,9,   -999.0,9,   -999.0,9,2,     0.99,2,    0.111,    0.000,2,  -1.6461
  09AR20060102,  S04I,    82,  1,     10,     10,2,20060211,0210,-66.6617,  59.9952,  895,    199.7,  -1.6432,  34.3593,2,-999.0000,9,    314.1,2,   -999.0,9,  -999.00,9,  -999.00,9,   -999.0,9,   -999.0,9,2,     0.99,2,    0.122,    0.000,2,  -1.6477
  09AR20060102,  S04I,    82,  1,      9,      9,2,20060211,0210,-66.6617,  59.9952,  895,    200.6,  -1.6419,  34.3591,2,-999.0000,9,    314.1,2,   -999.0,9,  -999.00,9,  -999.00,9,   -999.0,9,   -999.0,9,2,     0.98,2,    0.119,    0.000,2,  -1.6464
  09AR20060102,  S04I,    82,  1,      8,      8,2,20060211,0210,-66.6617,  59.9952,  895,    200.4,  -1.6342,  34.3590,2,  34.3586,2,    314.1,2,    313.9,2,    61.60,2,  -999.00,9,   2220.6,2,   -999.0,9,2,     0.99,2,    0.097,    0.000,2,  -1.6387
  09AR20060102,  S04I,    82,  1,      7,      7,2,20060211,0210,-66.6617,  59.9952,  895,    302.5,  -1.6379,  34.4038,2,  34.4035,2,    307.2,2,    309.0,2,    64.90,2,  -999.00,9,   -999.0,9,   -999.0,9,2,     0.99,2,    0.018,    0.000,2,  -1.6450
  09AR20060102,  S04I,    82,  1,      6,      6,2,20060211,0210,-66.6617,  59.9952,  895,    459.8,  -1.3763,  34.4572,2,  34.4570,2,    295.0,2,    298.8,2,    67.90,2,  -999.00,9,   -999.0,9,   -999.0,9,2,     0.99,2,   -0.005,    0.000,2,  -1.3889
  09AR20060102,  S04I,    82,  1,      5,      5,2,20060211,0210,-66.6617,  59.9952,  895,    615.0,  -0.9490,  34.5164,2,  34.5205,2,    284.6,2,    281.2,2,    73.60,2,  -999.00,9,   -999.0,9,   -999.0,9,2,     0.99,2,   -0.020,    0.000,2,  -0.9690
  09AR20060102,  S04I,    82,  1,      4,      4,2,20060211,0210,-66.6617,  59.9952,  895,    649.6,  -0.5714,  34.5529,2,  34.5530,2,    265.7,2,    267.9,2,    77.70,2,  -999.00,9,   -999.0,9,   -999.0,9,2,     0.99,2,   -0.014,    0.000,2,  -0.5949
  09AR20060102,  S04I,    82,  1,      3,      3,2,20060211,0210,-66.6617,  59.9952,  895,    740.7,  -0.2886,  34.5842,2,  34.5832,2,    259.5,2,    255.8,2,    81.30,2,  -999.00,9,   -999.0,9,   -999.0,9,2,     0.99,2,   -0.033,    0.000,2,  -0.3178
  09AR20060102,  S04I,    82,  1,      2,      2,2,20060211,0210,-66.6617,  59.9952,  895,    830.0,  -0.0296,  34.6140,2,  34.6146,2,    244.1,2,    243.2,2,    87.10,2,  -999.00,9,   -999.0,9,   -999.0,9,2,     0.99,2,   -0.038,    0.000,2,  -0.0648
  09AR20060102,  S04I,    82,  1,      1,      1,2,20060211,0210,-66.6617,  59.9952,  895,    936.1,   0.0041,  34.6193,2,  34.6205,2,    241.0,2,    241.5,2,    87.50,2,  -999.00,9,   -999.0,9,   -999.0,9,2,     0.99,2,   -0.036,    0.000,2,  -0.0367
  09AR20060102,  S04I,    83,  1,     24,     24,2,20060211,0517,-66.6823,  59.9930,  453,      3.8,  -1.2116,  33.2636,2,  33.2778,2,   -999.0,5,    375.8,2,    47.50,2,  -999.00,9,   2101.3,2,   2256.3,2,2,     0.08,2,    5.169,    0.543,2,  -1.2117
  09AR20060102,  S04I,    83,  1,     23,     23,2,20060211,0517,-66.6823,  59.9930,  453,     15.1,  -1.2000,  33.3348,2,-999.0000,9,    369.6,2,   -999.0,9,  -999.00,9,  -999.00,9,   -999.0,9,   -999.0,9,2,     0.30,2,   13.609,    0.041,2,  -1.2003
  09AR20060102,  S04I,    83,  1,     22,     22,2,20060211,0517,-66.6823,  59.9930,  453,     15.0,  -1.2012,  33.3315,2,-999.0000,9,    369.6,2,   -999.0,9,  -999.00,9,  -999.00,9,   -999.0,9,   -999.0,9,2,     0.30,2,   11.503,    0.041,2,  -1.2015
  09AR20060102,  S04I,    83,  1,     21,     21,2,20060211,0517,-66.6823,  59.9930,  453,     14.8,  -1.1962,  33.3410,2,-999.0000,9,    371.3,2,   -999.0,9,  -999.00,9,  -999.00,9,   -999.0,9,   -999.0,9,2,     0.38,2,   11.025,    0.043,2,  -1.1965
  09AR20060102,  S04I,    83,  1,     20,     20,2,20060211,0517,-66.6823,  59.9930,  453,     14.8,  -1.1947,  33.3444,2,  33.3495,2,    371.3,2,    370.8,2,    47.70,2,  -999.00,9,   2109.0,2,   -999.0,9,2,     0.31,2,   11.821,    0.046,2,  -1.1950
  09AR20060102,  S04I,    83,  1,     19,     19,2,20060211,0517,-66.6823,  59.9930,  453,     18.8,  -1.0311,  33.5267,2,  33.4951,2,    364.9,2,    361.5,2,    49.30,2,  -999.00,9,   -999.0,9,   -999.0,9,2,     0.27,2,    8.640,    0.020,2,  -1.0316
  09AR20060102,  S04I,    83,  1,     18,     18,2,20060211,0517,-66.6823,  59.9930,  453,     29.0,  -0.9543,  33.7782,2,-999.0000,9,    349.7,2,   -999.0,9,  -999.00,9,  -999.00,9,   -999.0,9,   -999.0,9,2,     0.54,2,    3.483,    0.005,2,  -0.9550
  09AR20060102,  S04I,    83,  1,     17,     17,2,20060211,0517,-66.6823,  59.9930,  453,     29.0,  -0.9558,  33.7809,2,  33.7685,2,    349.7,2,    346.8,2,    52.80,2,  -999.00,9,   2159.5,2,   -999.0,9,2,     0.50,2,    3.685,    0.005,2,  -0.9565
  09AR20060102,  S04I,    83,  1,     16,     16,2,20060211,0517,-66.6823,  59.9930,  453,     45.4,  -0.9926,  33.8956,2,  33.8855,2,    342.5,2,    343.5,2,    53.70,2,  -999.00,9,   2170.1,2,   -999.0,9,2,     0.58,2,    2.886,    0.000,2,  -0.9938
  09AR20060102,  S04I,    83,  1,     15,     15,2,20060211,0517,-66.6823,  59.9930,  453,     60.2,  -0.8309,  34.0781,2,-999.0000,9,    336.1,2,   -999.0,9,  -999.00,9,  -999.00,9,   -999.0,9,   -999.0,9,2,     0.80,2,    2.223,    0.000,2,  -0.8326
  09AR20060102,  S04I,    83,  1,     14,     14,2,20060211,0517,-66.6823,  59.9930,  453,     60.1,  -0.8314,  34.0768,2,  34.0755,2,    336.1,2,    339.0,2,    56.20,2,  -999.00,9,   2185.8,2,   -999.0,9,2,     0.79,2,    2.225,    0.000,2,  -0.8331
  09AR20060102,  S04I,    83,  1,     13,     13,2,20060211,0517,-66.6823,  59.9930,  453,     69.7,  -0.8520,  34.1505,2,  34.1539,2,    334.4,2,    333.7,2,    57.70,2,  -999.00,9,   2193.9,2,   -999.0,9,2,     0.89,2,    1.541,    0.000,2,  -0.8539
  09AR20060102,  S04I,    83,  1,     12,     12,2,20060211,0517,-66.6823,  59.9930,  453,     79.5,  -1.1418,  34.2099,2,  34.2037,2,    328.7,2,    328.8,2,    58.70,2,  -999.00,9,   -999.0,9,   -999.0,9,2,     0.91,2,    0.998,    0.000,2,  -1.1438
  09AR20060102,  S04I,    83,  1,     11,     11,2,20060211,0517,-66.6823,  59.9930,  453,     90.2,  -1.5184,  34.2726,2,  34.2714,2,    323.0,2,    322.0,2,    59.60,2,  -999.00,9,   2211.4,2,   -999.0,9,2,     0.94,2,    0.420,    0.000,2,  -1.5204
  09AR20060102,  S04I,    83,  1,     10,     10,2,20060211,0517,-66.6823,  59.9930,  453,    119.7,  -1.6713,  34.3103,2,  34.3096,2,    314.8,2,    316.6,2,    60.70,2,  -999.00,9,   2214.9,2,   -999.0,9,2,     0.96,2,    0.187,    0.000,2,  -1.6738
  09AR20060102,  S04I,    83,  1,      9,      9,2,20060211,0517,-66.6823,  59.9930,  453,    149.8,  -1.7364,  34.3358,2,  34.3364,2,    309.0,2,    310.4,2,    61.70,2,  -999.00,9,   2219.9,2,   -999.0,9,2,     0.99,2,    0.018,    0.000,2,  -1.7395
  09AR20060102,  S04I,    83,  1,      8,      8,2,20060211,0517,-66.6823,  59.9930,  453,    199.7,  -1.6676,  34.3619,2,-999.0000,9,    307.4,2,   -999.0,9,  -999.00,9,  -999.00,9,   -999.0,9,   -999.0,9,2,     0.99,2,    0.026,    0.000,2,  -1.6720
  09AR20060102,  S04I,    83,  1,      7,      7,2,20060211,0517,-66.6823,  59.9930,  453,    199.5,  -1.6666,  34.3621,2,  34.3621,2,    307.4,2,    308.0,2,    63.20,2,  -999.00,9,   2222.4,2,   -999.0,9,2,     0.99,2,    0.016,    0.000,2,  -1.6710
  09AR20060102,  S04I,    83,  1,      6,      6,2,20060211,0517,-66.6823,  59.9930,  453,    249.8,  -1.6321,  34.3791,2,  34.3790,2,    306.4,2,    306.2,2,    64.80,2,  -999.00,9,   2225.2,2,   -999.0,9,2,     0.99,2,    0.019,    0.000,2,  -1.6378
  09AR20060102,  S04I,    83,  1,      5,      5,2,20060211,0517,-66.6823,  59.9930,  453,    274.6,  -1.6212,  34.3852,2,  34.3850,2,    306.0,2,    305.9,2,    63.80,2,  -999.00,9,   2225.3,2,   -999.0,9,2,     0.99,2,    0.020,    0.000,2,  -1.6276
  09AR20060102,  S04I,    83,  1,      4,      4,2,20060211,0517,-66.6823,  59.9930,  453,    299.9,  -1.6075,  34.3929,2,  34.3925,2,    304.8,2,    305.0,2,    64.40,2,  -999.00,9,   2225.6,2,   -999.0,9,2,     0.99,2,    0.006,    0.000,2,  -1.6146
  09AR20060102,  S04I,    83,  1,      3,      3,2,20060211,0517,-66.6823,  59.9930,  453,    374.8,  -1.5803,  34.4134,2,  34.4117,2,    304.2,2,    304.6,2,    64.10,2,  -999.00,9,   2229.2,2,   -999.0,9,2,     0.99,2,   -0.010,    0.000,2,  -1.5895
  09AR20060102,  S04I,    83,  1,      2,      2,2,20060211,0517,-66.6823,  59.9930,  453,    449.6,  -1.5563,  34.4206,2,  34.4207,2,    303.4,2,    304.0,2,    64.80,2,  -999.00,9,   2228.0,2,   -999.0,9,2,     0.99,2,   -0.005,    0.000,2,  -1.5678
  09AR20060102,  S04I,    83,  1,      1,      1,2,20060211,0517,-66.6823,  59.9930,  453,    466.7,  -1.5579,  34.4200,2,  34.4201,2,    303.5,2,    304.6,2,    66.20,2,  -999.00,9,   2228.1,6,   -999.0,9,2,     0.99,2,   -0.002,    0.000,2,  -1.5699