BOTTLE,20220816CCHSIOAMB
EXPOCODE,SECT_ID,STNNBR,CASTNO,SAMPNO,BTLNBR,BTLNBR_FLAG_W,DATE,TIME,LATITUDE,LONGITUDE,DEPTH,CTDPRS,CTDTMP,CTDSAL,CTDSAL_FLAG_W,SALNTY,SALNTY_FLAG_W,CTDOXY,CTDOXY_FLAG_W,OXYGEN,OXYGEN_FLAG_W,SILCAT,SILCAT_FLAG_W,NITRAT,NITRAT_FLAG_W,TCARBN,TCARBN_FLAG_W,ALKALI,ALKALI_FLAG_W,FLUOR_FLAG_W,XMISS,XMISS_FLAG_W,FLUOR,PAR,PAR_FLAG_W,THETA
,,,,,,,,,,,METERS,DBAR,ITS-90,PSS-78,,PSS-78,,UMOL/KG,,UMOL/KG,,UMOL/KG,,UMOL/KG,,UMOL/KG,,UMOL/KG,,,%TRANS,,VOLTS,VOLTS,,DEG C
  09AR20060102,  S04I,     3,  1,     24,     24,2,20060111,0033,-60.2017,  77.0648, 2478,     10.0,   0.5548,  33.8332,2,  33.8339,2,    347.7,2,    347.7,2,    35.70,2,    26.54,2,   -999.0,9,   -999.0,9,2,     0.94,2,    1.516,    0.140,2,   0.5544
  09AR20060102,  S04I,     3,  1,     23,     23,2,20060111,0033,-60.2017,  77.0648, 2478,     30.5,   0.5487,  33.8337,2,-999.0000,9,    348.6,2,   -999.0,9,  -999.00,9,  -999.00,9,   -999.0,9,   -999.0,9,2,     0.94,2,    2.081,    0.027,2,   0.5475
  09AR20060102,  S04I,     3,  1,     22,     22,2,20060111,0033,-60.2017,  77.0648, 2478,     30.0,   0.5470,  33.8343,2,-999.0000,9,    348.6,2,   -999.0,9,  -999.00,9,  -999.00,9,   -999.0,9,   -999.0,9,2,     0.94,2,    2.037,    0.028,2,   0.5458
  09AR20060102,  S04I,     3,  1,     21,     21,2,20060111,0033,-60.2017,  77.0648, 2478,     30.2,   0.5446,  33.8343,2,  33.8355,2,    348.6,2,    347.4,2,    35.90,2,    26.60,2,   -999.0,9,   -999.0,9,2,     0.94,2,    2.067,    0.029,2,   0.5434
  09AR20060102,  S04I,     3,  1,     20,     20,2,20060111,0033,-60.2017,  77.0648, 2478,     39.8,   0.2499,  33.8488,2,  33.8529,2,    347.3,2,    347.1,2,    37.30,2,    26.91,2,   -999.0,9,   -999.0,9,2,     0.94,2,    2.061,    0.015,2,   0.2485
  09AR20060102,  S04I,     3,  1,     19,     19,2,20060111,0033,-60.2017,  77.0648, 2478,     51.4,  -1.1568,  33.9385,2,  33.9262,2,    341.1,2,    337.5,2,    44.00,2,    28.65,2,   -999.0,9,   -999.0,9,2,     0.97,2,    1.247,    0.005,2,  -1.1580
  09AR20060102,  S04I,     3,  1,     18,     18,2,20060111,0033,-60.2017,  77.0648, 2478,     58.2,  -1.3922,  33.9667,2,  33.9671,2,    335.0,2,    329.5,2,    47.40,2,    29.42,2,   -999.0,9,   -999.0,9,2,     0.98,2,    0.930,    0.003,2,  -1.3935
  09AR20060102,  S04I,     3,  1,     17,     17,2,20060111,0033,-60.2017,  77.0648, 2478,     69.5,  -1.4440,  33.9922,2,-999.0000,9,    315.0,2,   -999.0,9,  -999.00,9,  -999.00,9,   -999.0,9,   -999.0,9,2,     0.98,2,    0.643,    0.001,2,  -1.4455
  09AR20060102,  S04I,     3,  1,     16,     16,2,20060111,0033,-60.2017,  77.0648, 2478,     79.6,  -1.4018,  34.0024,2,  34.0005,2,    305.8,2,    320.0,3,    51.00,2,    30.04,2,   -999.0,9,   -999.0,9,2,     0.98,2,    0.571,    0.001,2,  -1.4036
  09AR20060102,  S04I,     3,  1,     15,     15,2,20060111,0033,-60.2017,  77.0648, 2478,     91.0,  -1.0301,  34.0745,2,  34.0778,2,    298.2,2,    295.1,2,    52.90,2,    31.23,2,   -999.0,9,   -999.0,9,2,     0.98,2,    0.365,    0.000,2,  -1.0325
  09AR20060102,  S04I,     3,  1,     14,     14,2,20060111,0033,-60.2017,  77.0648, 2478,    100.3,  -0.8278,  34.1042,2,  34.1029,2,    289.8,2,    287.9,2,    54.80,2,    31.66,2,   -999.0,9,   -999.0,9,2,     0.98,2,    0.321,    0.000,2,  -0.8306
  09AR20060102,  S04I,     3,  1,     13,     13,2,20060111,0033,-60.2017,  77.0648, 2478,    152.2,   1.6345,  34.4637,2,  34.4624,2,    205.4,2,    188.7,3,    71.00,2,    34.92,2,   -999.0,9,   -999.0,9,2,     0.99,2,    0.022,    0.000,2,   1.6269
  09AR20060102,  S04I,     3,  1,     12,     12,2,20060111,0033,-60.2017,  77.0648, 2478,    200.0,   1.8772,  34.5359,2,  34.5350,2,    182.2,2,    177.7,2,    75.20,2,    34.68,2,   -999.0,9,   -999.0,9,2,     0.99,2,   -0.006,    0.000,2,   1.8667
  09AR20060102,  S04I,     3,  1,     11,     11,2,20060111,0033,-60.2017,  77.0648, 2478,    400.4,   2.0125,  34.6588,2,  34.6438,2,    173.5,2,    175.7,2,    81.10,2,    33.40,2,   -999.0,9,   -999.0,9,2,     0.99,2,   -0.021,    0.000,2,   1.9903
  09AR20060102,  S04I,     3,  1,     10,     10,2,20060111,0033,-60.2017,  77.0648, 2478,    601.9,   1.9805,  34.7197,2,  34.7196,2,    180.8,2,    183.8,2,    80.90,2,    31.70,2,   -999.0,9,   -999.0,9,2,     0.99,2,   -0.025,    0.000,2,   1.9462
  09AR20060102,  S04I,     3,  1,      9,      9,2,20060111,0033,-60.2017,  77.0648, 2478,    798.9,   1.8430,  34.7418,2,  34.7418,2,    191.0,2,    192.8,2,    82.50,2,    30.74,2,   -999.0,9,   -999.0,9,2,     0.99,2,   -0.031,    0.000,2,   1.7970
  09AR20060102,  S04I,     3,  1,      8,      8,2,20060111,0033,-60.2017,  77.0648, 2478,   1001.7,   1.6960,  34.7491,2,  34.7496,2,    198.5,2,    198.0,2,    86.00,2,    30.45,2,   -999.0,9,   -999.0,9,2,     1.00,2,   -0.029,    0.000,2,   1.6378
  09AR20060102,  S04I,     3,  1,      7,      7,2,20060111,0033,-60.2017,  77.0648, 2478,   1249.1,   1.4739,  34.7459,2,  34.7457,2,    203.3,2,    202.0,2,    91.70,2,    30.44,2,   -999.0,9,   -999.0,9,2,     1.00,2,   -0.036,    0.000,2,   1.4010
  09AR20060102,  S04I,     3,  1,      6,      6,2,20060111,0033,-60.2017,  77.0648, 2478,   1500.9,   1.2180,  34.7339,2,  34.7339,2,    205.1,2,    206.0,3,    98.00,2,    30.80,2,   -999.0,9,   -999.0,9,2,     1.00,2,   -0.034,    0.000,2,   1.1304
  09AR20060102,  S04I,     3,  1,      5,      5,2,20060111,0033,-60.2017,  77.0648, 2478,   1751.5,   0.9734,  34.7202,2,  34.7202,2,    205.5,2,    204.9,2,   107.70,2,    31.40,2,   -999.0,9,   -999.0,9,2,     1.00,2,   -0.037,    0.000,2,   0.8710
  09AR20060102,  S04I,     3,  1,      4,      4,2,20060111,0033,-60.2017,  77.0648, 2478,   2000.4,   0.7295,  34.7063,2,  34.7062,2,    206.4,2,    207.1,2,   115.90,2,    31.89,2,   -999.0,9,   -999.0,9,2,     1.00,2,   -0.037,    0.000,2,   0.6123
  09AR20060102,  S04I,     3,  1,      3,      3,2,20060111,0033,-60.2017,  77.0648, 2478,   2199.1,   0.5718,  34.6977,2,  34.6978,2,    210.0,2,   -999.0,9,   120.00,2,    32.09,2,   -999.0,9,   -999.0,9,2,     1.00,2,   -0.035,    0.000,2,   0.4420
  09AR20060102,  S04I,     3,  1,      2,      2,2,20060111,0033,-60.2017,  77.0648, 2478,   2400.7,   0.4169,  34.6898,2,  34.6898,2,    212.8,2,    213.0,2,   124.70,2,    32.39,2,   -999.0,9,   -999.0,9,2,     0.99,2,   -0.032,    0.000,2,   0.2742
  09AR20060102,  S04I,     3,  1,      1,      1,2,20060111,0033,-60.2017,  77.0648, 2478,   2459.6,   0.4189,  34.6895,2,  34.6899,2,    210.7,2,   -999.0,9,   124.40,2,    32.41,2,   -999.0,9,   -999.0,9,2,     0.99,2,   -0.026,    0.000,2,   0.2714
  09AR20060102,  S04I,     4,  1,     24,     24,2,20060111,0708,-59.7982,  75.6005, 1730,     10.0,   0.6533,  33.9020,2,  33.9031,2,    345.3,2,    346.4,2,    39.90,2,    27.36,2,   2163.0,3,   2289.4,2,2,     0.87,2,    1.338,    0.351,2,   0.6529
  09AR20060102,  S04I,     4,  1,     23,     23,2,20060111,0708,-59.7982,  75.6005, 1730,     19.9,   0.6494,  33.9026,2,-999.0000,9,    345.9,2,   -999.0,9,  -999.00,9,  -999.00,9,   -999.0,9,   -999.0,9,2,     0.79,2,    2.398,    0.127,2,   0.6486
  09AR20060102,  S04I,     4,  1,     22,     22,2,20060111,0708,-59.7982,  75.6005, 1730,     20.0,   0.6340,  33.9028,2,-999.0000,9,    345.9,2,   -999.0,9,  -999.00,9,  -999.00,9,   -999.0,9,   -999.0,9,2,     0.80,2,    2.435,    0.118,2,   0.6332
  09AR20060102,  S04I,     4,  1,     21,     21,2,20060111,0708,-59.7982,  75.6005, 1730,     19.9,   0.6408,  33.9027,2,  33.9043,2,    345.9,2,    345.9,2,    39.90,2,    27.48,2,   2163.5,3,   -999.0,9,2,     0.74,2,    2.394,    0.129,2,   0.6400
  09AR20060102,  S04I,     4,  1,     20,     20,2,20060111,0708,-59.7982,  75.6005, 1730,     29.3,   0.5926,  33.9039,2,  33.9063,2,    346.6,2,    345.4,2,    40.00,2,    27.63,2,   2164.1,3,   -999.0,9,2,     0.91,2,    2.584,    0.060,2,   0.5915
  09AR20060102,  S04I,     4,  1,     19,     19,2,20060111,0708,-59.7982,  75.6005, 1730,     40.4,   0.2713,  33.9280,2,  33.9287,2,    346.2,2,    344.6,2,    42.10,2,    27.93,2,   2166.5,3,   -999.0,9,2,     0.93,2,    2.806,    0.026,2,   0.2698
  09AR20060102,  S04I,     4,  1,     18,     18,2,20060111,0708,-59.7982,  75.6005, 1730,     49.7,   0.1849,  33.9439,2,  33.9442,2,    344.0,2,    342.0,2,    44.70,2,    28.34,2,   2169.6,3,   -999.0,9,2,     0.94,2,    2.762,    0.013,2,   0.1831
  09AR20060102,  S04I,     4,  1,     17,     17,2,20060111,0708,-59.7982,  75.6005, 1730,     60.0,  -0.1282,  33.9852,2,  33.9813,2,    329.7,2,    333.7,2,    46.70,2,    28.71,2,   2176.8,3,   -999.0,9,2,     0.95,2,    2.511,    0.005,2,  -0.1302
  09AR20060102,  S04I,     4,  1,     16,     16,2,20060111,0708,-59.7982,  75.6005, 1730,     71.7,  -0.8492,  34.0708,2,  34.0712,2,    313.6,2,    317.5,2,    53.60,2,    30.34,2,   2195.4,3,   -999.0,9,2,     0.97,2,    1.700,    0.001,2,  -0.8512
  09AR20060102,  S04I,     4,  1,     15,     15,2,20060111,0708,-59.7982,  75.6005, 1730,     79.9,  -1.0589,  34.1238,2,  34.1260,2,    303.2,2,    302.9,2,    57.00,2,    31.43,2,   2203.4,3,   -999.0,9,2,     0.97,2,    1.365,    0.001,2,  -1.0610
  09AR20060102,  S04I,     4,  1,     14,     14,2,20060111,0708,-59.7982,  75.6005, 1730,     89.0,  -0.6411,  34.1988,2,  34.1915,2,    284.8,2,    280.1,2,    60.00,2,    32.20,2,   2213.9,3,   -999.0,9,2,     0.98,2,    0.820,    0.000,2,  -0.6437
  09AR20060102,  S04I,     4,  1,     13,     13,2,20060111,0708,-59.7982,  75.6005, 1730,    102.8,   0.2343,  34.3377,2,  34.3171,2,    261.6,2,    240.5,3,    66.30,2,    33.85,2,   2230.0,3,   -999.0,9,2,     0.99,2,    0.280,    0.000,2,   0.2304
  09AR20060102,  S04I,     4,  1,     12,     12,2,20060111,0708,-59.7982,  75.6005, 1730,    131.0,   1.3543,  34.4916,2,  34.4903,2,    217.6,2,    192.9,3,    75.60,2,    34.77,2,   2253.9,3,   -999.0,9,2,     0.99,2,    0.049,    0.000,2,   1.3481
  09AR20060102,  S04I,     4,  1,     11,     11,2,20060111,0708,-59.7982,  75.6005, 1730,    150.8,   1.5325,  34.5241,2,  34.5222,2,    202.9,2,    185.5,3,    77.70,2,    34.92,2,   2254.3,6,   -999.0,9,2,     0.99,2,    0.024,    0.000,2,   1.5251
  09AR20060102,  S04I,     4,  1,     10,     10,2,20060111,0708,-59.7982,  75.6005, 1730,    198.4,   1.8099,  34.5874,2,  34.5866,2,    181.2,2,    176.7,2,    77.20,2,    34.80,2,   2258.2,3,   -999.0,9,2,     0.99,2,   -0.014,    0.000,2,   1.7996
  09AR20060102,  S04I,     4,  1,      9,      9,2,20060111,0708,-59.7982,  75.6005, 1730,    298.6,   1.9494,  34.6578,2,  34.6582,2,    172.7,2,    174.6,2,    80.90,2,    33.74,2,   2259.1,3,   -999.0,9,2,     0.99,2,   -0.026,    0.000,2,   1.9333
  09AR20060102,  S04I,     4,  1,      8,      8,2,20060111,0708,-59.7982,  75.6005, 1730,    499.8,   1.9320,  34.7191,2,  34.7192,2,    181.3,2,    183.4,2,    81.60,2,    32.23,2,   2252.8,3,   -999.0,9,2,     0.99,2,   -0.028,    0.000,2,   1.9041
  09AR20060102,  S04I,     4,  1,      7,      7,2,20060111,0708,-59.7982,  75.6005, 1730,    701.8,   1.7732,  34.7412,2,  34.7414,2,    192.2,2,    193.8,2,    81.90,2,    31.21,2,   2250.9,3,   -999.0,9,2,     0.99,2,   -0.032,    0.000,2,   1.7338
  09AR20060102,  S04I,     4,  1,      6,      6,2,20060111,0708,-59.7982,  75.6005, 1730,    900.0,   1.6157,  34.7478,2,  34.7488,2,    201.2,2,    201.1,2,    88.90,2,    30.68,2,   2247.9,6,   -999.0,9,2,     0.99,2,   -0.032,    0.000,2,   1.5648
  09AR20060102,  S04I,     4,  1,      5,      5,2,20060111,0708,-59.7982,  75.6005, 1730,   1099.9,   1.4105,  34.7406,2,  34.7412,2,    201.3,2,    202.0,2,    94.10,2,    31.40,2,   2254.5,3,   -999.0,9,2,     0.99,2,   -0.033,    0.000,2,   1.3483
  09AR20060102,  S04I,     4,  1,      4,      4,2,20060111,0708,-59.7982,  75.6005, 1730,   1301.2,   1.2288,  34.7338,2,  34.7341,2,    203.4,2,    204.2,2,    98.00,2,    31.56,2,   2256.5,3,   -999.0,9,2,     0.99,2,   -0.034,    0.000,2,   1.1549
  09AR20060102,  S04I,     4,  1,      3,      3,2,20060111,0708,-59.7982,  75.6005, 1730,   1500.1,   0.9986,  34.7215,2,  34.7219,2,    205.1,2,    204.6,2,   106.20,2,    32.00,2,   2257.4,3,   -999.0,9,2,     0.99,2,   -0.033,    0.000,2,   0.9137
  09AR20060102,  S04I,     4,  1,      2,      2,2,20060111,0708,-59.7982,  75.6005, 1730,   1641.7,   0.7502,  34.7083,2,  34.7086,2,    207.8,2,    207.3,2,   114.30,2,    31.73,2,   2259.2,3,   -999.0,9,2,     0.99,2,   -0.037,    0.000,2,   0.6586
  09AR20060102,  S04I,     4,  1,      1,      1,2,20060111,0708,-59.7982,  75.6005, 1730,   1695.8,   0.6811,  34.7044,2,  34.7054,2,    208.4,2,    208.3,2,   115.80,2,    32.59,2,   2262.3,6,   -999.0,9,2,     0.99,2,   -0.030,    0.000,2,   0.5866
  09AR20060102,  S04I,     5,  1,     24,     24,2,20060111,1202,-59.9947,  75.2187, 2091,      9.0,   0.5477,  33.8047,2,  33.8058,2,    346.6,2,    347.3,2,    35.60,2,    26.50,2,   -999.0,9,   -999.0,9,2,     0.40,2,    2.003,    0.076,2,   0.5474
  09AR20060102,  S04I,     5,  1,     23,     23,2,20060111,1202,-59.9947,  75.2187, 2091,     30.0,   0.5070,  33.8229,2,-999.0000,9,    347.7,2,   -999.0,9,  -999.00,9,  -999.00,9,   -999.0,9,   -999.0,9,2,     0.84,2,    2.370,    0.016,2,   0.5059
  09AR20060102,  S04I,     5,  1,     22,     22,2,20060111,1202,-59.9947,  75.2187, 2091,     29.8,   0.5038,  33.8233,2,-999.0000,9,    347.7,2,   -999.0,9,  -999.00,9,  -999.00,9,   -999.0,9,   -999.0,9,2,     0.81,2,    2.448,    0.017,2,   0.5027
  09AR20060102,  S04I,     5,  1,     21,     21,2,20060111,1202,-59.9947,  75.2187, 2091,     29.5,   0.4971,  33.8227,2,  33.8279,2,    347.7,2,    346.9,2,    35.80,2,    26.72,2,   -999.0,9,   -999.0,9,2,     0.80,2,    2.447,    0.017,2,   0.4960
  09AR20060102,  S04I,     5,  1,     20,     20,2,20060111,1202,-59.9947,  75.2187, 2091,     49.9,  -1.3280,  33.9605,2,  33.9593,2,    338.4,2,    334.4,2,    47.50,2,    29.39,2,   -999.0,9,   -999.0,9,2,     0.97,2,    1.404,    0.002,2,  -1.3291
  09AR20060102,  S04I,     5,  1,     19,     19,2,20060111,1202,-59.9947,  75.2187, 2091,     58.1,  -1.5228,  33.9831,2,  33.9868,2,    325.4,2,    327.2,2,    49.60,2,    29.90,2,   -999.0,9,   -999.0,9,2,     0.98,2,    0.912,    0.001,2,  -1.5240
  09AR20060102,  S04I,     5,  1,     18,     18,2,20060111,1202,-59.9947,  75.2187, 2091,     68.1,  -1.4034,  34.0167,2,  34.0162,2,    318.8,2,    317.3,2,    51.80,2,    30.43,2,   -999.0,9,   -999.0,9,2,     0.98,2,    0.571,    0.001,2,  -1.4049
  09AR20060102,  S04I,     5,  1,     17,     17,2,20060111,1202,-59.9947,  75.2187, 2091,     89.4,  -0.8256,  34.1368,2,  34.1334,2,    299.2,2,    282.2,3,    57.30,2,    32.11,2,   -999.0,9,   -999.0,9,2,     0.98,2,    0.371,    0.000,2,  -0.8281
  09AR20060102,  S04I,     5,  1,     16,     16,2,20060111,1202,-59.9947,  75.2187, 2091,    119.8,   0.9403,  34.3832,2,  34.3825,2,    260.8,2,    211.1,3,    68.90,2,    34.54,2,   -999.0,9,   -999.0,9,2,     0.99,2,    0.065,    0.000,2,   0.9351
  09AR20060102,  S04I,     5,  1,     15,     15,2,20060111,1202,-59.9947,  75.2187, 2091,    149.0,   1.6423,  34.4880,2,  34.4879,2,    223.0,2,    185.5,3,    74.00,2,    35.40,2,   -999.0,9,   -999.0,9,2,     0.99,2,    0.014,    0.000,2,   1.6349
  09AR20060102,  S04I,     5,  1,     14,     14,2,20060111,1202,-59.9947,  75.2187, 2091,    169.8,   1.7657,  34.5135,2,  34.5095,2,    206.6,2,    181.6,3,    76.70,2,    35.29,2,   -999.0,9,   -999.0,9,2,     0.99,2,   -0.004,    0.000,2,   1.7570
  09AR20060102,  S04I,     5,  1,     13,     13,2,20060111,1202,-59.9947,  75.2187, 2091,    199.7,   1.9027,  34.5547,2,  34.5530,2,    193.2,2,    176.2,3,    78.90,2,    35.20,2,   -999.0,9,   -999.0,9,2,     0.99,2,   -0.012,    0.000,2,   1.8922
  09AR20060102,  S04I,     5,  1,     12,     12,2,20060111,1202,-59.9947,  75.2187, 2091,    300.4,   1.9878,  34.6185,2,  34.6172,2,    176.7,2,    173.1,2,    81.30,2,    34.45,2,   -999.0,9,   -999.0,9,2,     0.99,2,   -0.021,    0.000,2,   1.9715
  09AR20060102,  S04I,     5,  1,     11,     11,2,20060111,1202,-59.9947,  75.2187, 2091,    400.0,   2.0183,  34.6686,2,  34.6686,2,    175.6,2,    176.3,2,    82.20,2,    33.36,2,   -999.0,9,   -999.0,9,2,     0.99,2,   -0.026,    0.000,2,   1.9961
  09AR20060102,  S04I,     5,  1,     10,     10,2,20060111,1202,-59.9947,  75.2187, 2091,    499.6,   2.0089,  34.6997,2,  34.6996,2,    178.8,2,    180.1,2,    83.10,2,    32.64,2,   -999.0,9,   -999.0,9,2,     0.99,2,   -0.026,    0.000,2,   1.9808
  09AR20060102,  S04I,     5,  1,      9,      9,2,20060111,1202,-59.9947,  75.2187, 2091,    599.5,   1.9612,  34.7186,2,  34.7182,2,    183.5,2,    185.6,2,    83.80,2,    31.98,2,   -999.0,9,   -999.0,9,2,     0.99,2,   -0.028,    0.000,2,   1.9271
  09AR20060102,  S04I,     5,  1,      8,      8,2,20060111,1202,-59.9947,  75.2187, 2091,    799.3,   1.8421,  34.7431,2,  34.7431,2,    193.1,2,    193.8,2,    84.30,2,    31.10,2,   -999.0,9,   -999.0,9,2,     0.99,2,   -0.030,    0.000,2,   1.7961
  09AR20060102,  S04I,     5,  1,      7,      7,2,20060111,1202,-59.9947,  75.2187, 2091,    999.8,   1.6519,  34.7472,2,  34.7475,2,    197.5,2,    196.7,2,    88.90,2,    30.65,2,   -999.0,9,   -999.0,9,2,     1.00,2,   -0.032,    0.000,2,   1.5942
  09AR20060102,  S04I,     5,  1,      6,      6,2,20060111,1202,-59.9947,  75.2187, 2091,   1198.2,   1.4557,  34.7424,2,  34.7425,2,    199.6,2,    200.9,2,    97.00,2,    31.39,2,   -999.0,9,   -999.0,9,2,     1.00,2,   -0.033,    0.000,2,   1.3865
  09AR20060102,  S04I,     5,  1,      5,      5,2,20060111,1202,-59.9947,  75.2187, 2091,   1402.3,   1.2847,  34.7373,2,  34.7378,2,    204.4,2,    204.0,2,   101.60,2,    32.11,3,   -999.0,9,   -999.0,9,2,     1.00,2,   -0.034,    0.000,2,   1.2032
  09AR20060102,  S04I,     5,  1,      4,      4,2,20060111,1202,-59.9947,  75.2187, 2091,   1599.2,   1.1088,  34.7278,2,  34.7278,2,    205.7,2,    204.6,2,   103.60,2,    31.41,2,   -999.0,9,   -999.0,9,2,     1.00,2,   -0.035,    0.000,2,   1.0156
  09AR20060102,  S04I,     5,  1,      3,      3,2,20060111,1202,-59.9947,  75.2187, 2091,   1784.4,   0.8676,  34.7140,2,  34.7145,2,    207.0,2,    206.6,2,   110.90,2,    32.05,2,   -999.0,9,   -999.0,9,2,     1.00,2,   -0.036,    0.000,2,   0.7642
  09AR20060102,  S04I,     5,  1,      2,      2,2,20060111,1202,-59.9947,  75.2187, 2091,   2025.4,   0.6417,  34.7016,2,  34.7017,2,    209.6,2,    208.9,2,   122.30,2,    32.48,2,   -999.0,9,   -999.0,9,2,     0.99,2,   -0.034,    0.000,2,   0.5240
  09AR20060102,  S04I,     5,  1,      1,      1,2,20060111,1202,-59.9947,  75.2187, 2091,   2065.0,   0.5966,  34.6992,2,  34.6994,2,    209.9,2,    210.4,2,   126.00,2,    32.40,2,   -999.0,9,   -999.0,9,2,     0.99,2,   -0.031,    0.000,2,   0.4766