BOTTLE,20220816CCHSIOAMB
EXPOCODE,SECT_ID,STNNBR,CASTNO,SAMPNO,BTLNBR,BTLNBR_FLAG_W,DATE,TIME,LATITUDE,LONGITUDE,DEPTH,CTDPRS,CTDTMP,CTDSAL,CTDSAL_FLAG_W,SALNTY,SALNTY_FLAG_W,CTDOXY,CTDOXY_FLAG_W,OXYGEN,OXYGEN_FLAG_W,SILCAT,SILCAT_FLAG_W,NITRAT,NITRAT_FLAG_W,TCARBN,TCARBN_FLAG_W,ALKALI,ALKALI_FLAG_W,FLUOR_FLAG_W,XMISS,XMISS_FLAG_W,FLUOR,PAR,PAR_FLAG_W,THETA
,,,,,,,,,,,METERS,DBAR,ITS-90,PSS-78,,PSS-78,,UMOL/KG,,UMOL/KG,,UMOL/KG,,UMOL/KG,,UMOL/KG,,UMOL/KG,,,%TRANS,,VOLTS,VOLTS,,DEG C
  09AR20060102,  S04I,    27,  1,     24,     24,2,20060119,1335,-62.6667,  30.0060, 5160,      9.0,   0.9635,  33.7116,2,  33.7198,2,    346.3,2,    343.6,2,    49.30,2,    26.07,2,   -999.0,9,   -999.0,9,2,     0.21,2,    0.200,    0.142,2,   0.9631
  09AR20060102,  S04I,    27,  1,     23,     23,2,20060119,1335,-62.6667,  30.0060, 5160,      8.9,   0.9581,  33.7114,2,-999.0000,9,    346.3,2,   -999.0,9,  -999.00,9,  -999.00,9,   -999.0,9,   -999.0,9,2,     0.17,2,    0.196,    0.143,2,   0.9577
  09AR20060102,  S04I,    27,  1,     22,     22,2,20060119,1335,-62.6667,  30.0060, 5160,      8.8,   0.9420,  33.7142,2,-999.0000,9,    346.3,2,   -999.0,9,  -999.00,9,  -999.00,9,   -999.0,9,   -999.0,9,2,     0.09,2,    0.236,    0.138,2,   0.9416
  09AR20060102,  S04I,    27,  1,     21,     21,2,20060119,1335,-62.6667,  30.0060, 5160,     29.2,  -0.2571,  33.8265,2,  33.8410,2,    352.7,2,    354.8,2,    49.00,2,    26.13,2,   -999.0,9,   -999.0,9,2,     0.57,2,    0.452,    0.055,2,  -0.2580
  09AR20060102,  S04I,    27,  1,     20,     20,2,20060119,1335,-62.6667,  30.0060, 5160,     60.6,  -1.5066,  34.0354,2,  34.0324,2,    350.4,2,    351.5,2,    52.80,2,    26.63,2,   -999.0,9,   -999.0,9,2,     0.85,2,    1.323,    0.016,2,  -1.5079
  09AR20060102,  S04I,    27,  1,     19,     19,2,20060119,1335,-62.6667,  30.0060, 5160,     74.9,  -1.5594,  34.0824,2,  34.0811,2,    344.6,2,    341.4,2,    55.80,2,    27.43,2,   -999.0,9,   -999.0,9,2,     0.93,2,    1.509,    0.007,2,  -1.5610
  09AR20060102,  S04I,    27,  1,     18,     18,2,20060119,1335,-62.6667,  30.0060, 5160,     90.0,  -1.5877,  34.1297,2,  34.1279,2,    335.0,2,    335.4,2,    56.30,2,    27.65,2,   -999.0,9,   -999.0,9,2,     0.97,2,    1.480,    0.002,2,  -1.5896
  09AR20060102,  S04I,    27,  1,     17,     17,2,20060119,1335,-62.6667,  30.0060, 5160,    119.7,  -1.6284,  34.1770,2,  34.1735,2,    324.8,2,    323.7,2,    58.80,2,    28.57,2,   -999.0,9,   -999.0,9,2,     0.99,2,    0.376,    0.000,2,  -1.6309
  09AR20060102,  S04I,    27,  1,     16,     16,2,20060119,1335,-62.6667,  30.0060, 5160,    148.8,  -0.6597,  34.3126,2,  34.3121,2,    276.6,2,    279.5,2,    68.30,2,    30.58,2,   -999.0,9,   -999.0,9,2,     0.99,2,    0.141,    0.000,2,  -0.6642
  09AR20060102,  S04I,    27,  1,     15,     15,2,20060119,1335,-62.6667,  30.0060, 5160,    200.2,   0.9549,  34.5423,2,  34.5415,2,    202.8,2,    208.9,2,    84.60,2,    32.77,2,   -999.0,9,   -999.0,9,2,     0.99,2,   -0.019,    0.000,2,   0.9459
  09AR20060102,  S04I,    27,  1,     14,     14,2,20060119,1335,-62.6667,  30.0060, 5160,    299.7,   1.3821,  34.6594,2,  34.6591,2,    193.8,2,    193.1,2,    91.60,2,    32.25,2,   -999.0,9,   -999.0,9,2,     0.99,2,   -0.037,    0.000,2,   1.3673
  09AR20060102,  S04I,    27,  1,     13,     13,2,20060119,1335,-62.6667,  30.0060, 5160,    399.4,   1.3612,  34.6903,2,  34.6896,2,    195.8,2,    194.0,2,    94.00,2,    31.76,2,   -999.0,9,   -999.0,9,2,     0.99,2,   -0.037,    0.000,2,   1.3412
  09AR20060102,  S04I,    27,  1,     12,     12,2,20060119,1335,-62.6667,  30.0060, 5160,    501.0,   1.2971,  34.7044,2,  34.7043,2,    197.9,2,    196.2,2,    98.20,2,    31.45,2,   -999.0,9,   -999.0,9,2,     0.99,2,   -0.036,    0.000,2,   1.2718
  09AR20060102,  S04I,    27,  1,     11,     11,2,20060119,1335,-62.6667,  30.0060, 5160,    699.3,   1.0751,  34.7084,2,  34.7088,2,    201.0,2,    199.8,2,   105.90,2,    31.31,2,   -999.0,9,   -999.0,9,2,     0.99,2,   -0.037,    0.000,2,   1.0398
  09AR20060102,  S04I,    27,  1,     10,     10,2,20060119,1335,-62.6667,  30.0060, 5160,   1198.6,   0.6528,  34.6977,2,  34.6974,2,    205.6,2,    205.6,2,   118.40,2,    32.04,2,   -999.0,9,   -999.0,9,2,     0.99,2,   -0.042,    0.000,2,   0.5913
  09AR20060102,  S04I,    27,  1,      9,      9,2,20060119,1335,-62.6667,  30.0060, 5160,   1698.5,   0.3980,  34.6873,2,  34.6864,2,    209.3,2,    209.8,2,   127.90,2,    32.35,2,   -999.0,9,   -999.0,9,2,     0.99,2,   -0.043,    0.000,2,   0.3072
  09AR20060102,  S04I,    27,  1,      8,      8,2,20060119,1335,-62.6667,  30.0060, 5160,   2198.2,   0.1910,  34.6775,2,  34.6768,2,    216.0,2,    216.1,2,   128.20,2,    32.43,2,   -999.0,9,   -999.0,9,2,     0.99,2,   -0.043,    0.000,2,   0.0678
  09AR20060102,  S04I,    27,  1,      7,      7,2,20060119,1335,-62.6667,  30.0060, 5160,   2689.4,   0.0221,  34.6700,2,  34.6707,2,    223.2,2,    223.2,2,   129.20,2,    32.37,2,   -999.0,9,   -999.0,9,2,     0.99,2,   -0.044,    0.000,2,  -0.1360
  09AR20060102,  S04I,    27,  1,      6,      6,2,20060119,1335,-62.6667,  30.0060, 5160,   3201.1,  -0.1044,  34.6644,2,  34.6637,2,    230.1,2,    230.4,2,   129.10,2,    32.29,2,   -999.0,9,   -999.0,9,2,     0.99,2,   -0.047,    0.000,2,  -0.3028
  09AR20060102,  S04I,    27,  1,      5,      5,2,20060119,1335,-62.6667,  30.0060, 5160,   3699.4,  -0.1861,  34.6606,2,  34.6619,2,    235.6,2,    236.5,2,   128.60,2,    32.18,2,   -999.0,9,   -999.0,9,2,     0.99,2,   -0.048,    0.000,2,  -0.4278
  09AR20060102,  S04I,    27,  1,      4,      4,2,20060119,1335,-62.6667,  30.0060, 5160,   4198.3,  -0.2363,  34.6574,2,  34.6587,2,    239.8,2,    239.8,2,   128.60,2,    32.09,2,   -999.0,9,   -999.0,9,2,     0.99,2,   -0.047,    0.000,2,  -0.5254
  09AR20060102,  S04I,    27,  1,      3,      3,2,20060119,1335,-62.6667,  30.0060, 5160,   4666.9,  -0.2637,  34.6551,2,-999.0000,9,    242.4,2,   -999.0,9,  -999.00,9,  -999.00,9,   -999.0,9,   -999.0,9,2,     0.99,2,   -0.047,    0.000,2,  -0.6008
  09AR20060102,  S04I,    27,  1,      2,      2,2,20060119,1335,-62.6667,  30.0060, 5160,   5198.7,  -0.2875,  34.6517,2,  34.6956,3,    244.6,2,   -999.0,9,  -999.00,9,    32.04,2,   -999.0,9,   -999.0,9,2,     0.98,2,   -0.053,    0.000,2,  -0.6828
  09AR20060102,  S04I,    27,  1,      1,      1,2,20060119,1335,-62.6667,  30.0060, 5160,   5256.6,  -0.2805,  34.6515,2,  34.6513,2,    244.5,2,    245.0,2,   136.30,2,    31.97,2,   -999.0,9,   -999.0,9,2,     0.98,2,   -0.046,    0.000,2,  -0.6827
  09AR20060102,  S04I,    28,  1,     24,     24,2,20060119,2130,-63.3318,  30.0107, 5131,      8.0,   0.7679,  33.6873,2,  33.6829,2,    307.3,2,    306.6,2,    44.10,2,    23.73,2,   2144.1,2,   2282.0,2,2,     0.15,2,    2.493,    0.001,2,   0.7676
  09AR20060102,  S04I,    28,  1,     23,     23,2,20060119,2130,-63.3318,  30.0107, 5131,     18.9,   0.7788,  33.6891,2,-999.0000,9,    307.2,2,   -999.0,9,  -999.00,9,  -999.00,9,   -999.0,9,   -999.0,9,2,     0.43,2,    2.404,    0.000,2,   0.7780
  09AR20060102,  S04I,    28,  1,     22,     22,2,20060119,2130,-63.3318,  30.0107, 5131,     18.9,   0.7793,  33.6889,2,-999.0000,9,    307.2,2,   -999.0,9,  -999.00,9,  -999.00,9,   -999.0,9,   -999.0,9,2,     0.46,2,    2.364,    0.000,2,   0.7785
  09AR20060102,  S04I,    28,  1,     21,     21,2,20060119,2130,-63.3318,  30.0107, 5131,     19.0,   0.7790,  33.6883,2,  33.6907,2,    307.2,2,    308.6,2,    44.00,2,    23.73,2,   2145.1,6,   -999.0,9,2,     0.48,2,    2.342,    0.000,2,   0.7782
  09AR20060102,  S04I,    28,  1,     20,     20,2,20060119,2130,-63.3318,  30.0107, 5131,     40.4,  -1.6041,  34.0464,2,  34.0442,2,    354.4,2,    349.7,2,    51.10,2,    25.87,2,   2178.2,2,   -999.0,9,2,     0.80,2,    4.637,    0.000,2,  -1.6049
  09AR20060102,  S04I,    28,  1,     19,     19,2,20060119,2130,-63.3318,  30.0107, 5131,     69.5,  -1.5638,  34.1290,2,  34.1293,2,    327.2,2,    330.1,2,    55.70,2,    27.01,2,   2194.5,2,   -999.0,9,2,     0.96,2,    1.865,    0.000,2,  -1.5653
  09AR20060102,  S04I,    28,  1,     18,     18,2,20060119,2130,-63.3318,  30.0107, 5131,    108.7,  -1.5686,  34.2118,2,  34.2117,2,    317.1,2,    312.9,2,    60.20,2,    28.21,2,   2206.5,2,   -999.0,9,2,     0.98,2,    0.531,    0.000,2,  -1.5710
  09AR20060102,  S04I,    28,  1,     17,     17,2,20060119,2130,-63.3318,  30.0107, 5131,    141.0,   0.2230,  34.4323,2,  34.4285,2,    262.9,2,    223.5,3,    81.70,2,    31.40,2,   2239.2,2,   -999.0,9,2,     0.99,2,    0.090,    0.000,2,   0.2177
  09AR20060102,  S04I,    28,  1,     16,     16,2,20060119,2130,-63.3318,  30.0107, 5131,    169.5,   0.7838,  34.5352,2,  34.5309,2,    216.3,2,    209.8,2,    87.50,2,    32.32,2,   2250.2,2,   -999.0,9,2,     0.99,2,   -0.008,    0.000,2,   0.7765
  09AR20060102,  S04I,    28,  1,     15,     15,2,20060119,2130,-63.3318,  30.0107, 5131,    198.7,   1.0848,  34.5998,2,  34.5974,2,    196.3,2,    201.2,2,    91.40,2,    32.34,2,   2254.9,2,   -999.0,9,2,     0.99,2,   -0.023,    0.000,2,   1.0757
  09AR20060102,  S04I,    28,  1,     14,     14,2,20060119,2130,-63.3318,  30.0107, 5131,    300.4,   1.4073,  34.6902,2,  34.6899,2,    194.0,2,   -999.0,9,    94.00,2,    31.32,2,   2256.1,2,   -999.0,9,2,     0.99,2,   -0.033,    0.000,2,   1.3924
  09AR20060102,  S04I,    28,  1,     13,     13,2,20060119,2130,-63.3318,  30.0107, 5131,    398.2,   1.2841,  34.7041,2,  34.7049,2,    193.6,2,   -999.0,9,    97.80,2,    31.10,2,   2256.9,2,   -999.0,9,2,     0.99,2,   -0.034,    0.000,2,   1.2644
  09AR20060102,  S04I,    28,  1,     12,     12,2,20060119,2130,-63.3318,  30.0107, 5131,    498.8,   1.0645,  34.6993,2,  34.7000,2,    196.2,2,    199.1,2,   103.10,2,    31.32,2,   2261.3,2,   -999.0,9,2,     0.99,2,   -0.034,    0.000,2,   1.0403
  09AR20060102,  S04I,    28,  1,     11,     11,2,20060119,2130,-63.3318,  30.0107, 5131,    701.0,   0.8750,  34.7014,2,  34.7017,2,    199.9,2,    201.4,2,   108.40,2,    31.50,2,   2259.9,2,   -999.0,9,2,     0.99,2,   -0.042,    0.000,2,   0.8408
  09AR20060102,  S04I,    28,  1,     10,     10,2,20060119,2130,-63.3318,  30.0107, 5131,   1200.2,   0.5195,  34.6916,2,  34.6917,2,    204.4,2,    204.9,2,   120.40,2,    32.32,2,   2264.3,2,   -999.0,9,2,     0.99,2,   -0.043,    0.000,2,   0.4592
  09AR20060102,  S04I,    28,  1,      9,      9,2,20060119,2130,-63.3318,  30.0107, 5131,   1699.3,   0.3067,  34.6832,2,  34.6829,2,    210.6,2,   -999.0,9,   126.30,2,    32.50,2,   2263.6,6,   -999.0,9,2,     0.99,2,   -0.040,    0.000,2,   0.2171
  09AR20060102,  S04I,    28,  1,      8,      8,2,20060119,2130,-63.3318,  30.0107, 5131,   2200.4,   0.1119,  34.6742,2,  34.6743,2,    217.7,2,    218.1,2,   127.00,2,    32.49,2,   2261.2,2,   -999.0,9,2,     0.99,2,   -0.044,    0.000,2,  -0.0101
  09AR20060102,  S04I,    28,  1,      7,      7,2,20060119,2130,-63.3318,  30.0107, 5131,   2697.9,  -0.0327,  34.6680,2,  34.6674,2,    225.3,2,    225.6,2,   127.70,2,    32.15,2,   2258.3,2,   -999.0,9,2,     0.99,2,   -0.044,    0.000,2,  -0.1903
  09AR20060102,  S04I,    28,  1,      6,      6,2,20060119,2130,-63.3318,  30.0107, 5131,   3201.0,  -0.1403,  34.6635,2,  34.6625,2,    231.4,2,   -999.0,9,   127.10,2,    32.04,2,   2256.6,2,   -999.0,9,2,     0.99,2,   -0.047,    0.000,2,  -0.3378
  09AR20060102,  S04I,    28,  1,      5,      5,2,20060119,2130,-63.3318,  30.0107, 5131,   3700.7,  -0.2080,  34.6600,2,  34.6591,2,    236.1,2,    236.6,2,   126.60,2,    31.95,2,   2254.4,2,   -999.0,9,2,     0.99,2,   -0.050,    0.000,2,  -0.4492
  09AR20060102,  S04I,    28,  1,      4,      4,2,20060119,2130,-63.3318,  30.0107, 5131,   4200.4,  -0.2537,  34.6571,2,  34.6562,2,    239.5,2,    240.5,2,   133.20,2,    31.93,2,   2252.0,2,   -999.0,9,2,     0.99,2,   -0.051,    0.000,2,  -0.5424
  09AR20060102,  S04I,    28,  1,      3,      3,2,20060119,2130,-63.3318,  30.0107, 5131,   4700.9,  -0.2841,  34.6545,2,  34.6556,2,    242.2,2,    241.2,3,   135.20,2,    31.80,2,   2252.7,2,   -999.0,9,2,     0.99,2,   -0.047,    0.000,2,  -0.6242
  09AR20060102,  S04I,    28,  1,      2,      2,2,20060119,2130,-63.3318,  30.0107, 5131,   5216.8,  -0.2979,  34.6514,2,-999.0000,9,    243.8,2,   -999.0,9,  -999.00,9,  -999.00,9,   -999.0,9,   -999.0,9,2,     0.99,2,   -0.050,    0.000,2,  -0.6949
  09AR20060102,  S04I,    28,  1,      1,      1,2,20060119,2130,-63.3318,  30.0107, 5131,   5237.1,  -0.2955,  34.6511,2,  34.6509,2,    244.0,2,    245.3,2,   148.40,2,    31.74,2,   2251.9,6,   -999.0,9,2,     0.99,2,   -0.049,    0.000,2,  -0.6949
  09AR20060102,  S04I,    29,  1,     24,     24,2,20060120,0626,-64.0000,  30.0008, 5088,      9.3,   1.0065,  33.6101,2,  33.6110,2,    337.2,2,    336.3,2,    56.40,2,    26.04,2,   2156.7,2,   -999.0,9,2,     0.98,2,   -0.002,    0.451,2,   1.0061
  09AR20060102,  S04I,    29,  1,     23,     23,2,20060120,0626,-64.0000,  30.0008, 5088,     14.8,   0.9703,  33.6192,2,-999.0000,9,    337.0,2,   -999.0,9,  -999.00,9,  -999.00,9,   -999.0,9,   -999.0,9,2,     0.98,2,    0.055,    0.298,2,   0.9697
  09AR20060102,  S04I,    29,  1,     22,     22,2,20060120,0626,-64.0000,  30.0008, 5088,     26.8,  -0.4309,  34.0529,2,-999.0000,9,    339.0,2,   -999.0,9,  -999.00,9,  -999.00,9,   -999.0,9,   -999.0,9,2,     0.96,2,    0.171,    0.173,2,  -0.4317
  09AR20060102,  S04I,    29,  1,     21,     21,2,20060120,0626,-64.0000,  30.0008, 5088,     29.9,  -0.9060,  34.2109,2,  34.1692,3,    338.7,2,    337.6,2,    55.30,2,    26.11,2,   2192.2,2,   -999.0,9,2,     0.96,2,    0.177,    0.156,2,  -0.9068
  09AR20060102,  S04I,    29,  1,     20,     20,2,20060120,0626,-64.0000,  30.0008, 5088,     49.5,  -1.4010,  34.2680,2,  34.2675,2,    326.7,2,    324.4,2,    58.80,2,    27.21,2,   2208.3,2,   -999.0,9,2,     0.96,2,    0.553,    0.062,2,  -1.4021
  09AR20060102,  S04I,    29,  1,     19,     19,2,20060120,0626,-64.0000,  30.0008, 5088,     69.0,  -1.6237,  34.2884,2,  34.2869,2,    317.8,2,    315.9,2,    60.00,2,    27.97,2,   2210.9,2,   -999.0,9,2,     0.97,2,    0.980,    0.028,2,  -1.6252
  09AR20060102,  S04I,    29,  1,     18,     18,2,20060120,0626,-64.0000,  30.0008, 5088,     99.8,  -1.7676,  34.3044,2,  34.3047,2,    307.0,2,    307.9,2,    61.20,2,    28.78,2,   2218.9,2,   -999.0,9,2,     0.99,2,    0.606,    0.006,2,  -1.7696
  09AR20060102,  S04I,    29,  1,     17,     17,2,20060120,0626,-64.0000,  30.0008, 5088,    119.8,  -1.7311,  34.3155,2,  34.3176,2,    283.6,2,    301.6,3,    62.30,2,    29.17,2,   2220.2,2,   -999.0,9,2,     0.99,2,    0.406,    0.003,2,  -1.7336
  09AR20060102,  S04I,    29,  1,     16,     16,2,20060120,0626,-64.0000,  30.0008, 5088,    149.2,   0.5750,  34.5548,2,  34.5575,2,    201.4,2,    211.0,2,    87.40,2,    32.48,2,   -999.0,9,   -999.0,9,2,     0.99,2,    0.124,    0.001,2,   0.5689
  09AR20060102,  S04I,    29,  1,     15,     15,2,20060120,0626,-64.0000,  30.0008, 5088,    200.1,   1.1425,  34.6422,2,  34.6460,2,    193.8,2,    195.1,2,    93.90,2,    32.45,2,   -999.0,9,   -999.0,9,2,     0.99,2,   -0.030,    0.000,2,   1.1332
  09AR20060102,  S04I,    29,  1,     14,     14,2,20060120,0626,-64.0000,  30.0008, 5088,    298.0,   1.1672,  34.6847,2,  34.6848,2,    194.9,2,    194.7,2,    97.50,2,    31.86,2,   -999.0,9,   -999.0,9,2,     0.99,2,   -0.032,    0.000,2,   1.1530
  09AR20060102,  S04I,    29,  1,     13,     13,2,20060120,0626,-64.0000,  30.0008, 5088,    398.8,   1.1193,  34.7011,2,  34.7021,2,    197.0,2,    196.4,2,   100.70,2,    31.44,2,   -999.0,9,   -999.0,9,2,     0.99,2,   -0.037,    0.000,2,   1.1001
  09AR20060102,  S04I,    29,  1,     12,     12,2,20060120,0626,-64.0000,  30.0008, 5088,    499.2,   0.9927,  34.7017,2,  34.7023,2,    198.6,2,    198.3,2,   104.20,2,    31.54,2,   -999.0,9,   -999.0,9,2,     0.99,2,   -0.036,    0.000,2,   0.9687
  09AR20060102,  S04I,    29,  1,     11,     11,2,20060120,0626,-64.0000,  30.0008, 5088,    699.6,   0.7997,  34.6999,2,  34.7000,2,    201.1,2,    200.7,2,   110.00,2,    31.71,2,   -999.0,9,   -999.0,9,2,     0.99,2,   -0.037,    0.000,2,   0.7660
  09AR20060102,  S04I,    29,  1,     10,     10,2,20060120,0626,-64.0000,  30.0008, 5088,   1098.5,   0.5391,  34.6926,2,  34.6929,2,    203.7,2,    203.8,2,   117.90,2,    32.06,2,   -999.0,9,   -999.0,9,2,     0.99,2,   -0.042,    0.000,2,   0.4847
  09AR20060102,  S04I,    29,  1,      9,      9,2,20060120,0626,-64.0000,  30.0008, 5088,   1598.9,   0.3042,  34.6828,2,  34.6823,2,    210.0,2,    210.2,2,   124.30,2,    32.19,2,   -999.0,9,   -999.0,9,2,     0.99,2,   -0.042,    0.000,2,   0.2212
  09AR20060102,  S04I,    29,  1,      8,      8,2,20060120,0626,-64.0000,  30.0008, 5088,   2098.5,   0.1187,  34.6748,2,  34.6744,2,    217.5,2,    217.7,2,   126.00,2,    32.09,2,   -999.0,9,   -999.0,9,2,     0.99,2,   -0.046,    0.000,2,   0.0041
  09AR20060102,  S04I,    29,  1,      7,      7,2,20060120,0626,-64.0000,  30.0008, 5088,   2598.3,  -0.0307,  34.6683,2,  34.6682,2,    225.1,2,    225.4,2,   126.10,2,    31.99,2,   -999.0,9,   -999.0,9,2,     0.99,2,   -0.046,    0.000,2,  -0.1804
  09AR20060102,  S04I,    29,  1,      6,      6,2,20060120,0626,-64.0000,  30.0008, 5088,   3099.3,  -0.1346,  34.6638,2,  34.6635,2,    231.2,2,    231.6,2,   125.80,2,    31.92,2,   -999.0,9,   -999.0,9,2,     0.99,2,   -0.049,    0.000,2,  -0.3234
  09AR20060102,  S04I,    29,  1,      5,      5,2,20060120,0626,-64.0000,  30.0008, 5088,   3599.2,  -0.2060,  34.6602,2,  34.6591,2,    236.5,2,    236.8,2,   125.00,2,    31.82,2,   -999.0,9,   -999.0,9,2,     0.99,2,   -0.049,    0.000,2,  -0.4377
  09AR20060102,  S04I,    29,  1,      4,      4,2,20060120,0626,-64.0000,  30.0008, 5088,   4098.6,  -0.2527,  34.6574,2,  34.6568,2,    240.5,2,    240.5,2,   127.70,2,    31.65,2,   -999.0,9,   -999.0,9,2,     0.99,2,   -0.047,    0.000,2,  -0.5312
  09AR20060102,  S04I,    29,  1,      3,      3,2,20060120,0626,-64.0000,  30.0008, 5088,   4600.4,  -0.2853,  34.6548,2,  34.6539,2,    242.8,2,    243.5,2,   130.90,2,    31.56,2,   -999.0,9,   -999.0,9,2,     0.99,2,   -0.049,    0.000,2,  -0.6146
  09AR20060102,  S04I,    29,  1,      2,      2,2,20060120,0626,-64.0000,  30.0008, 5088,   5100.3,  -0.3062,  34.6518,2,  34.6515,2,    244.4,2,    245.0,2,   134.80,2,    31.66,2,   -999.0,9,   -999.0,9,2,     0.99,2,   -0.047,    0.000,2,  -0.6897
  09AR20060102,  S04I,    29,  1,      1,      1,2,20060120,0626,-64.0000,  30.0008, 5088,   5182.3,  -0.3017,  34.6513,2,  34.6515,2,    244.2,2,    244.5,2,   136.70,2,    31.75,2,   -999.0,9,   -999.0,9,2,     0.99,2,   -0.050,    0.000,2,  -0.6947