BOTTLE,20220816CCHSIOAMB
EXPOCODE,SECT_ID,STNNBR,CASTNO,SAMPNO,BTLNBR,BTLNBR_FLAG_W,DATE,TIME,LATITUDE,LONGITUDE,DEPTH,CTDPRS,CTDTMP,CTDSAL,CTDSAL_FLAG_W,SALNTY,SALNTY_FLAG_W,CTDOXY,CTDOXY_FLAG_W,OXYGEN,OXYGEN_FLAG_W,SILCAT,SILCAT_FLAG_W,NITRAT,NITRAT_FLAG_W,TCARBN,TCARBN_FLAG_W,ALKALI,ALKALI_FLAG_W,FLUOR_FLAG_W,XMISS,XMISS_FLAG_W,FLUOR,PAR,PAR_FLAG_W,THETA
,,,,,,,,,,,METERS,DBAR,ITS-90,PSS-78,,PSS-78,,UMOL/KG,,UMOL/KG,,UMOL/KG,,UMOL/KG,,UMOL/KG,,UMOL/KG,,,%TRANS,,VOLTS,VOLTS,,DEG C
  09AR20060102,  S04I,    78,  1,     24,     24,2,20060210,0832,-65.9998,  59.9973, 2676,      7.9,   0.0637,  33.8440,2,  33.8459,2,    338.4,2,    340.3,2,    52.80,2,    27.28,2,   2180.7,2,   -999.0,9,2,     0.46,2,    0.339,    0.361,2,   0.0634
  09AR20060102,  S04I,    78,  1,     23,     23,2,20060210,0832,-65.9998,  59.9973, 2676,      9.2,   0.0690,  33.8441,2,-999.0000,9,    338.5,2,   -999.0,9,  -999.00,9,  -999.00,9,   -999.0,9,   -999.0,9,2,     0.50,2,    0.299,    0.319,2,   0.0687
  09AR20060102,  S04I,    78,  1,     22,     22,2,20060210,0832,-65.9998,  59.9973, 2676,      9.0,   0.0647,  33.8438,2,-999.0000,9,    338.5,2,   -999.0,9,  -999.00,9,  -999.00,9,   -999.0,9,   -999.0,9,2,     0.48,2,    0.324,    0.326,2,   0.0644
  09AR20060102,  S04I,    78,  1,     21,     21,2,20060210,0832,-65.9998,  59.9973, 2676,     19.3,   0.0920,  33.8774,2,  33.8779,2,    338.2,2,    339.5,2,    52.90,2,    27.30,2,   2178.7,2,   -999.0,9,2,     0.92,2,    0.468,    0.163,2,   0.0913
  09AR20060102,  S04I,    78,  1,     20,     20,2,20060210,0832,-65.9998,  59.9973, 2676,     29.2,   0.0005,  33.8865,2,  33.8920,2,    337.6,2,    338.7,2,    53.00,2,    27.48,2,   2179.7,2,   -999.0,9,2,     0.96,2,    0.584,    0.095,2,  -0.0005
  09AR20060102,  S04I,    78,  1,     19,     19,2,20060210,0832,-65.9998,  59.9973, 2676,     44.1,  -1.0292,  34.0716,2,  34.0709,2,    326.6,2,    325.7,2,    55.10,2,    28.19,2,   -999.0,9,   -999.0,9,2,     0.79,2,    0.766,    0.046,2,  -1.0303
  09AR20060102,  S04I,    78,  1,     18,     18,2,20060210,0832,-65.9998,  59.9973, 2676,     59.6,  -1.6449,  34.2346,2,  34.2352,2,    311.8,2,    313.3,2,    58.70,2,    29.29,2,   2215.1,2,   -999.0,9,2,     0.96,2,    1.380,    0.020,2,  -1.6461
  09AR20060102,  S04I,    78,  1,     17,     17,2,20060210,0832,-65.9998,  59.9973, 2676,     69.0,  -1.7009,  34.2663,2,  34.2677,2,    306.9,2,    307.7,2,    60.90,2,    29.59,2,   -999.0,9,   -999.0,9,2,     0.97,2,    1.604,    0.011,2,  -1.7023
  09AR20060102,  S04I,    78,  1,     16,     16,2,20060210,0832,-65.9998,  59.9973, 2676,     80.5,  -1.7390,  34.2992,2,  34.2988,2,    302.8,2,    303.7,2,    62.90,2,    30.30,2,   2224.0,2,   -999.0,9,2,     0.98,2,    0.921,    0.005,2,  -1.7406
  09AR20060102,  S04I,    78,  1,     15,     15,2,20060210,0832,-65.9998,  59.9973, 2676,     99.7,  -1.7415,  34.3432,2,  34.3435,2,    300.1,2,    300.5,2,    63.70,2,    30.49,2,   -999.0,9,   -999.0,9,2,     0.99,2,    0.190,    0.002,2,  -1.7435
  09AR20060102,  S04I,    78,  1,     14,     14,2,20060210,0832,-65.9998,  59.9973, 2676,    120.1,  -1.7397,  34.3479,2,  34.3484,2,    299.3,2,    301.3,2,    63.80,2,    30.08,2,   2226.7,2,   -999.0,9,2,     0.99,2,    0.145,    0.000,2,  -1.7422
  09AR20060102,  S04I,    78,  1,     13,     13,2,20060210,0832,-65.9998,  59.9973, 2676,    150.4,  -1.7233,  34.3671,2,  34.3672,2,    297.9,2,    298.4,2,    65.60,2,    30.65,2,   2222.9,2,   -999.0,9,2,     0.99,2,    0.040,    0.000,2,  -1.7265
  09AR20060102,  S04I,    78,  1,     12,     12,2,20060210,0832,-65.9998,  59.9973, 2676,    199.2,  -1.5070,  34.3991,2,  34.3997,2,    291.2,2,    291.4,2,    67.20,2,    30.83,2,   -999.0,9,   -999.0,9,2,     0.99,2,   -0.005,    0.000,2,  -1.5117
  09AR20060102,  S04I,    78,  1,     11,     11,2,20060210,0832,-65.9998,  59.9973, 2676,    300.5,  -0.6635,  34.5033,2,  34.5040,2,    269.5,2,    266.0,2,    73.90,2,    30.54,2,   -999.0,9,   -999.0,9,2,     0.99,2,   -0.045,    0.000,2,  -0.6731
  09AR20060102,  S04I,    78,  1,     10,     10,2,20060210,0832,-65.9998,  59.9973, 2676,    399.2,  -0.1270,  34.5734,2,  34.5738,2,    248.3,2,    247.1,2,    79.90,2,    30.68,2,   -999.0,9,   -999.0,9,2,     0.99,2,   -0.049,    0.000,2,  -0.1420
  09AR20060102,  S04I,    78,  1,      9,      9,2,20060210,0832,-65.9998,  59.9973, 2676,    498.3,   0.4064,  34.6372,2,  34.6385,2,    227.3,2,    227.1,2,    88.00,2,    31.20,2,   -999.0,9,   -999.0,9,2,     0.99,2,   -0.044,    0.000,2,   0.3849
  09AR20060102,  S04I,    78,  1,      8,      8,2,20060210,0832,-65.9998,  59.9973, 2676,    699.7,   0.5430,  34.6719,2,  34.6727,2,    217.7,2,    219.2,2,    96.90,2,    31.21,2,   -999.0,9,   -999.0,9,2,     0.99,2,   -0.040,    0.000,2,   0.5108
  09AR20060102,  S04I,    78,  1,      7,      7,2,20060210,0832,-65.9998,  59.9973, 2676,    900.5,   0.5462,  34.6853,2,  34.6866,2,    213.7,2,    214.3,2,   104.40,2,    31.68,2,   -999.0,9,   -999.0,9,2,     0.99,2,   -0.040,    0.000,2,   0.5031
  09AR20060102,  S04I,    78,  1,      6,      6,2,20060210,0832,-65.9998,  59.9973, 2676,   1100.2,   0.3780,  34.6785,2,  34.6797,2,    219.0,2,    217.2,2,   108.40,2,    31.92,2,   -999.0,9,   -999.0,9,2,     0.99,2,   -0.045,    0.000,2,   0.3250
  09AR20060102,  S04I,    78,  1,      5,      5,2,20060210,0832,-65.9998,  59.9973, 2676,   1400.5,   0.1732,  34.6732,2,  34.6748,2,    221.4,2,    221.8,2,   112.80,2,    32.07,2,   -999.0,9,   -999.0,9,2,     0.99,2,   -0.046,    0.000,2,   0.1044
  09AR20060102,  S04I,    78,  1,      4,      4,2,20060210,0832,-65.9998,  59.9973, 2676,   1799.9,   0.0115,  34.6723,2,  34.6735,2,    225.4,2,    225.2,2,   119.50,2,    31.86,2,   -999.0,9,   -999.0,9,2,     0.99,2,   -0.048,    0.000,2,  -0.0808
  09AR20060102,  S04I,    78,  1,      3,      3,2,20060210,0832,-65.9998,  59.9973, 2676,   2203.1,  -0.0995,  34.6707,2,  34.6717,2,    228.7,2,    228.7,2,   121.60,2,    31.92,2,   -999.0,9,   -999.0,9,2,     0.99,2,   -0.049,    0.000,2,  -0.2180
  09AR20060102,  S04I,    78,  1,      2,      2,2,20060210,0832,-65.9998,  59.9973, 2676,   2651.4,  -0.3581,  34.6475,2,  34.6482,2,    248.6,2,    248.9,2,   104.90,2,    31.14,2,   -999.0,9,   -999.0,9,2,     0.99,2,   -0.047,    0.000,2,  -0.5053
  09AR20060102,  S04I,    78,  1,      1,      1,2,20060210,0832,-65.9998,  59.9973, 2676,   2706.2,  -0.3543,  34.6478,2,  34.6283,3,    248.7,2,    248.8,2,   106.80,2,    31.30,2,   -999.0,9,   -999.0,9,2,     0.99,2,   -0.052,    0.000,2,  -0.5059
  09AR20060102,  S04I,    79,  1,     24,     24,2,20060210,1413,-66.3148,  59.9992, 2675,      9.8,   0.1020,  33.7378,2,  33.7376,2,    342.1,2,    341.1,2,    51.90,2,    26.61,2,   2157.9,2,   2284.2,2,2,     0.18,2,    0.741,    0.011,2,   0.1017
  09AR20060102,  S04I,    79,  1,     23,     23,2,20060210,1413,-66.3148,  59.9992, 2675,      9.9,   0.1029,  33.7374,2,-999.0000,9,    342.1,2,   -999.0,9,  -999.00,9,  -999.00,9,   -999.0,9,   -999.0,9,2,     0.16,2,    0.732,    0.011,2,   0.1026
  09AR20060102,  S04I,    79,  1,     22,     22,2,20060210,1413,-66.3148,  59.9992, 2675,      9.5,   0.1023,  33.7373,2,-999.0000,9,    342.1,2,   -999.0,9,  -999.00,9,  -999.00,9,   -999.0,9,   -999.0,9,2,     0.10,2,    0.721,    0.013,2,   0.1020
  09AR20060102,  S04I,    79,  1,     21,     21,2,20060210,1413,-66.3148,  59.9992, 2675,     29.9,   0.0065,  33.7427,2,  33.7653,2,    341.1,2,    340.6,2,    52.60,2,    27.18,2,   2159.0,2,   -999.0,9,2,     0.43,2,    0.860,    0.004,2,   0.0055
  09AR20060102,  S04I,    79,  1,     20,     20,2,20060210,1413,-66.3148,  59.9992, 2675,     38.6,  -0.2624,  33.8284,2,  33.8384,2,    334.2,2,    337.6,2,    52.90,2,    27.24,2,   2169.5,2,   -999.0,9,2,     0.56,2,    0.914,    0.002,2,  -0.2636
  09AR20060102,  S04I,    79,  1,     19,     19,2,20060210,1413,-66.3148,  59.9992, 2675,     48.9,  -0.9254,  34.0346,2,  34.0359,2,    325.9,2,    328.5,2,    54.90,2,    27.80,2,   2185.7,2,   -999.0,9,2,     0.76,2,    0.984,    0.001,2,  -0.9267
  09AR20060102,  S04I,    79,  1,     18,     18,2,20060210,1413,-66.3148,  59.9992, 2675,     59.7,  -1.4604,  34.1701,2,  34.1731,2,    319.9,2,    320.0,2,    56.20,2,    28.91,2,   2200.5,2,   -999.0,9,2,     0.94,2,    1.241,    0.000,2,  -1.4617
  09AR20060102,  S04I,    79,  1,     17,     17,2,20060210,1413,-66.3148,  59.9992, 2675,     69.6,  -1.6483,  34.2436,2,  34.2422,2,    314.1,2,    309.5,2,    59.60,2,    29.93,2,   2207.2,2,   -999.0,9,2,     0.96,2,    1.630,    0.000,2,  -1.6497
  09AR20060102,  S04I,    79,  1,     16,     16,2,20060210,1413,-66.3148,  59.9992, 2675,     79.3,  -1.7195,  34.2874,2,  34.2837,2,    307.3,2,    306.2,2,    61.90,2,    30.03,2,   2211.9,2,   -999.0,9,2,     0.98,2,    1.132,    0.000,2,  -1.7211
  09AR20060102,  S04I,    79,  1,     15,     15,2,20060210,1413,-66.3148,  59.9992, 2675,     99.2,  -1.7370,  34.3180,2,  34.3218,2,    302.1,2,    302.0,2,    64.30,2,    30.72,2,   2215.3,2,   -999.0,9,2,     0.98,2,    0.470,    0.000,2,  -1.7390
  09AR20060102,  S04I,    79,  1,     14,     14,2,20060210,1413,-66.3148,  59.9992, 2675,    119.8,  -1.7299,  34.3414,2,  34.3415,2,    299.9,2,    299.7,2,    64.50,2,    30.45,2,   2216.5,2,   -999.0,9,2,     0.99,2,    0.186,    0.000,2,  -1.7324
  09AR20060102,  S04I,    79,  1,     13,     13,2,20060210,1413,-66.3148,  59.9992, 2675,    137.1,  -1.7522,  34.3532,2,  34.3519,2,    298.8,2,    299.4,2,    64.20,2,    30.58,2,   2218.3,2,   -999.0,9,2,     0.99,2,    0.101,    0.000,2,  -1.7550
  09AR20060102,  S04I,    79,  1,     12,     12,2,20060210,1413,-66.3148,  59.9992, 2675,    200.2,  -1.5248,  34.3998,2,  34.4019,2,    289.2,2,    290.6,2,    66.80,2,    31.04,2,   2226.1,2,   -999.0,9,2,     0.99,2,   -0.019,    0.000,2,  -1.5295
  09AR20060102,  S04I,    79,  1,     11,     11,2,20060210,1413,-66.3148,  59.9992, 2675,    301.0,  -0.7103,  34.5032,2,  34.5030,2,    264.4,2,    267.1,2,    72.70,2,    31.05,2,   2235.0,6,   -999.0,9,2,     0.99,2,   -0.045,    0.000,2,  -0.7198
  09AR20060102,  S04I,    79,  1,     10,     10,2,20060210,1413,-66.3148,  59.9992, 2675,    399.6,  -0.2574,  34.5632,2,  34.5628,2,    249.8,2,    251.3,2,    79.20,2,    31.09,2,   2238.6,2,   -999.0,9,2,     0.99,2,   -0.042,    0.000,2,  -0.2720
  09AR20060102,  S04I,    79,  1,      9,      9,2,20060210,1413,-66.3148,  59.9992, 2675,    499.1,   0.2182,  34.6245,2,  34.6248,2,    234.3,2,    233.9,2,    87.00,2,    31.15,2,   2247.3,2,   -999.0,9,2,     0.99,2,   -0.044,    0.000,2,   0.1975
  09AR20060102,  S04I,    79,  1,      8,      8,2,20060210,1413,-66.3148,  59.9992, 2675,    699.4,   0.4256,  34.6629,2,  34.6629,2,    223.6,2,    222.7,2,    94.70,2,    31.21,2,   2252.3,2,   -999.0,9,2,     0.99,2,   -0.042,    0.000,2,   0.3941
  09AR20060102,  S04I,    79,  1,      7,      7,2,20060210,1413,-66.3148,  59.9992, 2675,    899.6,   0.3748,  34.6730,2,  34.6731,2,    219.7,2,    219.3,2,   103.30,2,    31.29,2,   2253.6,2,   -999.0,9,2,     0.99,2,   -0.048,    0.000,2,   0.3331
  09AR20060102,  S04I,    79,  1,      6,      6,2,20060210,1413,-66.3148,  59.9992, 2675,   1100.1,   0.3335,  34.6787,2,  34.6790,2,    216.1,2,    217.1,2,   109.00,2,    31.65,2,   2254.5,2,   -999.0,9,2,     0.99,2,   -0.049,    0.000,2,   0.2809
  09AR20060102,  S04I,    79,  1,      5,      5,2,20060210,1413,-66.3148,  59.9992, 2675,   1399.7,   0.1672,  34.6737,2,  34.6739,2,    220.3,2,    221.1,2,   112.50,2,    32.18,2,   2257.3,2,   -999.0,9,2,     0.99,2,   -0.046,    0.000,2,   0.0985
  09AR20060102,  S04I,    79,  1,      4,      4,2,20060210,1413,-66.3148,  59.9992, 2675,   1799.6,  -0.0341,  34.6662,2,  34.6654,2,    233.7,2,    228.8,2,   114.20,2,    31.79,2,   2252.9,2,   -999.0,9,2,     0.99,2,   -0.053,    0.000,2,  -0.1257
  09AR20060102,  S04I,    79,  1,      3,      3,2,20060210,1413,-66.3148,  59.9992, 2675,   2200.7,  -0.2686,  34.6471,2,  34.6462,2,    243.1,2,    243.6,2,   111.30,2,    31.71,2,   2249.8,2,   -999.0,9,2,     0.99,2,   -0.049,    0.000,2,  -0.3840
  09AR20060102,  S04I,    79,  1,      2,      2,2,20060210,1413,-66.3148,  59.9992, 2675,   2649.9,  -0.3105,  34.6470,2,  34.6464,2,    246.7,2,    246.2,2,   107.10,2,    31.13,2,   2251.9,2,   -999.0,9,2,     0.99,2,   -0.053,    0.000,2,  -0.4585
  09AR20060102,  S04I,    79,  1,      1,      1,2,20060210,1413,-66.3148,  59.9992, 2675,   2705.1,  -0.3052,  34.6472,2,  34.6464,2,    246.7,2,    246.2,2,   106.90,2,    31.23,2,   2249.0,6,   -999.0,9,2,     0.99,2,   -0.050,    0.000,2,  -0.4577
  09AR20060102,  S04I,    80,  1,     24,     24,2,20060210,1932,-66.5005,  59.9935, 1783,      9.7,   0.0992,  33.9175,2,  33.9178,2,    340.6,2,    339.9,2,    54.50,2,    26.67,2,   2185.7,2,   -999.0,9,2,     0.03,2,    0.490,    0.000,2,   0.0989
  09AR20060102,  S04I,    80,  1,     23,     23,2,20060210,1932,-66.5005,  59.9935, 1783,     29.6,   0.0941,  33.9195,2,-999.0000,9,    340.4,2,   -999.0,9,  -999.00,9,  -999.00,9,   -999.0,9,   -999.0,9,2,     0.32,2,    0.522,    0.000,2,   0.0931
  09AR20060102,  S04I,    80,  1,     22,     22,2,20060210,1932,-66.5005,  59.9935, 1783,     29.6,   0.1018,  33.9181,2,-999.0000,9,    340.4,2,   -999.0,9,  -999.00,9,  -999.00,9,   -999.0,9,   -999.0,9,2,     0.34,2,    0.490,    0.000,2,   0.1008
  09AR20060102,  S04I,    80,  1,     21,     21,2,20060210,1932,-66.5005,  59.9935, 1783,     29.7,   0.1014,  33.9178,2,  33.9184,2,    340.4,2,    340.1,2,    54.30,2,    27.60,2,   2169.4,2,   -999.0,9,2,     0.29,2,    0.496,    0.000,2,   0.1004
  09AR20060102,  S04I,    80,  1,     20,     20,2,20060210,1932,-66.5005,  59.9935, 1783,     49.8,   0.0761,  33.9204,2,  33.9223,2,    339.4,2,    339.8,2,    54.30,2,    27.41,2,   2177.3,2,   -999.0,9,2,     0.57,2,    0.511,    0.000,2,   0.0744
  09AR20060102,  S04I,    80,  1,     19,     19,2,20060210,1932,-66.5005,  59.9935, 1783,     70.2,  -1.2090,  34.1613,2,  34.0725,2,    322.6,2,    322.2,2,    57.00,2,    28.39,2,   2211.8,2,   -999.0,9,2,     0.72,2,    1.176,    0.000,2,  -1.2107
  09AR20060102,  S04I,    80,  1,     18,     18,2,20060210,1932,-66.5005,  59.9935, 1783,     79.5,  -1.6093,  34.2564,2,  34.2552,2,    313.5,2,    313.0,2,    59.10,2,    29.81,2,   -999.0,9,   -999.0,9,2,     0.78,2,    1.425,    0.000,2,  -1.6110
  09AR20060102,  S04I,    80,  1,     17,     17,2,20060210,1932,-66.5005,  59.9935, 1783,     89.5,  -1.6606,  34.2782,2,  34.2771,2,    309.4,2,    309.5,2,    61.80,2,    29.91,2,   -999.0,9,   -999.0,9,2,     0.87,2,    1.387,    0.000,2,  -1.6625
  09AR20060102,  S04I,    80,  1,     16,     16,2,20060210,1932,-66.5005,  59.9935, 1783,    100.0,  -1.6820,  34.2966,2,  34.2955,2,    305.0,2,    306.0,2,    62.40,2,    29.90,2,   -999.0,9,   -999.0,9,2,     0.89,2,    1.099,    0.000,2,  -1.6841
  09AR20060102,  S04I,    80,  1,     15,     15,2,20060210,1932,-66.5005,  59.9935, 1783,    119.8,  -1.6600,  34.3310,2,  34.3290,2,    299.2,2,    298.6,2,    64.30,2,    30.79,2,   2223.1,2,   -999.0,9,2,     0.95,2,    0.514,    0.000,2,  -1.6626
  09AR20060102,  S04I,    80,  1,     14,     14,2,20060210,1932,-66.5005,  59.9935, 1783,    148.2,  -1.5303,  34.3703,2,  34.3676,2,    291.2,2,    291.9,2,    65.70,2,    30.97,2,   -999.0,9,   -999.0,9,2,     0.99,2,    0.131,    0.000,2,  -1.5337
  09AR20060102,  S04I,    80,  1,     13,     13,2,20060210,1932,-66.5005,  59.9935, 1783,    169.6,  -1.4412,  34.4076,2,  34.3864,2,    287.0,2,    288.1,2,    66.60,2,    30.86,2,   2227.1,2,   -999.0,9,2,     0.99,2,    0.065,    0.017,2,  -1.4452
  09AR20060102,  S04I,    80,  1,     12,     12,2,20060210,1932,-66.5005,  59.9935, 1783,    199.7,  -1.1927,  34.4261,2,  34.4244,2,    280.1,2,    280.3,2,    68.80,2,    31.34,2,   2231.3,2,   -999.0,9,2,     0.99,2,   -0.011,    0.000,2,  -1.1980
  09AR20060102,  S04I,    80,  1,     11,     11,2,20060210,1932,-66.5005,  59.9935, 1783,    299.6,  -0.1147,  34.5603,2,  34.5591,2,    255.0,2,    245.5,2,    78.50,2,    31.36,2,   -999.0,9,   -999.0,9,2,     0.99,2,   -0.042,    0.000,2,  -0.1257
  09AR20060102,  S04I,    80,  1,     10,     10,2,20060210,1932,-66.5005,  59.9935, 1783,    499.9,   0.5428,  34.6568,2,  34.6566,2,    220.7,2,    221.0,2,    89.90,2,    31.46,2,   -999.0,9,   -999.0,9,2,     0.99,2,   -0.043,    0.000,2,   0.5207
  09AR20060102,  S04I,    80,  1,      9,      9,2,20060210,1932,-66.5005,  59.9935, 1783,    700.7,   0.4842,  34.6749,2,  34.6743,2,    217.1,2,    218.1,2,    98.80,2,    32.75,3,   -999.0,9,   -999.0,9,2,     0.99,2,   -0.045,    0.000,2,   0.4523
  09AR20060102,  S04I,    80,  1,      8,      8,2,20060210,1932,-66.5005,  59.9935, 1783,    800.0,   0.3335,  34.6653,2,  34.6650,2,    220.9,2,    223.7,2,    98.00,2,    31.50,2,   -999.0,9,   -999.0,9,2,     0.99,2,   -0.043,    0.000,2,   0.2974
  09AR20060102,  S04I,    80,  1,      7,      7,2,20060210,1932,-66.5005,  59.9935, 1783,    999.5,   0.2788,  34.6714,2,  34.6697,2,    225.9,2,    221.5,2,   104.30,2,    31.89,2,   -999.0,9,   -999.0,9,2,     0.99,2,   -0.046,    0.000,2,   0.2323
  09AR20060102,  S04I,    80,  1,      6,      6,2,20060210,1932,-66.5005,  59.9935, 1783,   1050.0,   0.1609,  34.6627,2,  34.6625,2,    220.2,2,    226.0,2,   103.20,2,    31.99,2,   -999.0,9,   -999.0,9,2,     0.99,2,   -0.042,    0.000,2,   0.1126
  09AR20060102,  S04I,    80,  1,      5,      5,2,20060210,1932,-66.5005,  59.9935, 1783,   1249.2,  -0.0964,  34.6432,2,  34.6423,2,    238.4,2,    239.2,2,    98.00,2,    31.75,2,   -999.0,9,   -999.0,9,2,     0.99,2,   -0.046,    0.000,2,  -0.1533
  09AR20060102,  S04I,    80,  1,      4,      4,2,20060210,1932,-66.5005,  59.9935, 1783,   1374.7,  -0.1268,  34.6414,2,  34.6407,2,    241.6,2,    241.3,2,    97.60,2,    31.81,2,   -999.0,9,   -999.0,9,2,     0.99,2,   -0.045,    0.000,2,  -0.1906
  09AR20060102,  S04I,    80,  1,      3,      3,2,20060210,1932,-66.5005,  59.9935, 1783,   1623.7,  -0.1093,  34.6444,2,  34.6442,2,    239.8,2,    239.5,2,    99.40,2,    31.54,2,   -999.0,9,   -999.0,9,2,     0.99,2,   -0.046,    0.000,2,  -0.1884
  09AR20060102,  S04I,    80,  1,      2,      2,2,20060210,1932,-66.5005,  59.9935, 1783,   1830.3,  -0.1395,  34.6457,2,  34.6452,2,    241.0,2,    240.7,2,   100.30,2,    31.56,2,   -999.0,9,   -999.0,9,2,     0.99,2,   -0.047,    0.000,2,  -0.2315
  09AR20060102,  S04I,    80,  1,      1,      1,2,20060210,1932,-66.5005,  59.9935, 1783,   1855.1,  -0.1533,  34.6450,2,  34.6448,2,    241.1,2,    241.4,2,   100.20,2,    31.70,2,   -999.0,9,   -999.0,9,2,     0.99,2,   -0.045,    0.000,2,  -0.2468