BOTTLE,20220816CCHSIOAMB
EXPOCODE,SECT_ID,STNNBR,CASTNO,SAMPNO,BTLNBR,BTLNBR_FLAG_W,DATE,TIME,LATITUDE,LONGITUDE,DEPTH,CTDPRS,CTDTMP,CTDSAL,CTDSAL_FLAG_W,SALNTY,SALNTY_FLAG_W,CTDOXY,CTDOXY_FLAG_W,OXYGEN,OXYGEN_FLAG_W,SILCAT,SILCAT_FLAG_W,NITRAT,NITRAT_FLAG_W,TCARBN,TCARBN_FLAG_W,ALKALI,ALKALI_FLAG_W,FLUOR_FLAG_W,XMISS,XMISS_FLAG_W,FLUOR,PAR,PAR_FLAG_W,THETA
,,,,,,,,,,,METERS,DBAR,ITS-90,PSS-78,,PSS-78,,UMOL/KG,,UMOL/KG,,UMOL/KG,,UMOL/KG,,UMOL/KG,,UMOL/KG,,,%TRANS,,VOLTS,VOLTS,,DEG C
  09AR20060102,  S04I,    51,  1,     24,     24,2,20060129,1257,-66.5005,  40.0007, 4520,      8.5,   1.4245,  33.5590,2,  33.5606,2,    337.1,2,    336.8,2,    47.00,2,    25.43,2,   2147.6,2,   -999.0,9,2,     0.17,2,    0.340,    0.045,2,   1.4241
  09AR20060102,  S04I,    51,  1,     23,     23,2,20060129,1257,-66.5005,  40.0007, 4520,      8.7,   1.4254,  33.5575,2,-999.0000,9,    337.1,2,   -999.0,9,  -999.00,9,  -999.00,9,   -999.0,9,   -999.0,9,2,     0.16,2,    0.349,    0.042,2,   1.4250
  09AR20060102,  S04I,    51,  1,     22,     22,2,20060129,1257,-66.5005,  40.0007, 4520,      8.8,   1.4293,  33.5564,2,-999.0000,9,    337.1,2,   -999.0,9,  -999.00,9,  -999.00,9,   -999.0,9,   -999.0,9,2,     0.12,2,    0.332,    0.045,2,   1.4289
  09AR20060102,  S04I,    51,  1,     21,     21,2,20060129,1257,-66.5005,  40.0007, 4520,     28.8,  -1.0102,  34.1982,2,  34.2040,2,    324.9,2,    323.9,2,    56.30,2,    27.87,2,   2193.5,2,   -999.0,9,2,     0.58,2,    0.615,    0.020,2,  -1.0109
  09AR20060102,  S04I,    51,  1,     20,     20,2,20060129,1257,-66.5005,  40.0007, 4520,     44.0,  -1.5205,  34.2536,2,  34.2559,2,    311.5,2,    311.1,2,    58.90,2,    28.71,2,   2207.0,2,   -999.0,9,2,     0.87,2,    0.953,    0.012,2,  -1.5215
  09AR20060102,  S04I,    51,  1,     19,     19,2,20060129,1257,-66.5005,  40.0007, 4520,     59.7,  -1.5366,  34.2949,2,  34.2965,2,    302.7,2,    302.3,2,    62.30,2,    29.36,2,   2213.8,2,   -999.0,9,2,     0.96,2,    1.339,    0.006,2,  -1.5379
  09AR20060102,  S04I,    51,  1,     18,     18,2,20060129,1257,-66.5005,  40.0007, 4520,     84.9,   0.6552,  34.5509,2,  34.5662,2,    220.9,2,    208.8,2,    83.50,2,    32.71,2,   2251.5,2,   -999.0,9,2,     0.98,2,    0.930,    0.001,2,   0.6517
  09AR20060102,  S04I,    51,  1,     17,     17,2,20060129,1257,-66.5005,  40.0007, 4520,    109.4,   1.1705,  34.6207,2,  34.6211,2,    192.2,2,    190.6,2,    87.40,2,    32.78,2,   -999.0,9,   -999.0,9,2,     0.99,2,    0.394,    0.000,2,   1.1655
  09AR20060102,  S04I,    51,  1,     16,     16,2,20060129,1257,-66.5005,  40.0007, 4520,    148.4,   1.3326,  34.6532,2,  34.6544,2,    188.8,2,    189.0,2,    89.10,2,    32.66,2,   -999.0,9,   -999.0,9,2,     0.99,2,    0.039,    0.000,2,   1.3255
  09AR20060102,  S04I,    51,  1,     15,     15,2,20060129,1257,-66.5005,  40.0007, 4520,    200.5,   1.4176,  34.6798,2,  34.6803,2,    189.2,2,    189.5,2,    90.20,2,    32.05,2,   -999.0,9,   -999.0,9,2,     0.99,2,   -0.030,    0.000,2,   1.4078
  09AR20060102,  S04I,    51,  1,     14,     14,2,20060129,1257,-66.5005,  40.0007, 4520,    298.8,   1.4194,  34.7064,2,  34.7060,2,    191.6,2,    191.8,2,    92.60,2,    31.61,2,   -999.0,9,   -999.0,9,2,     0.99,2,   -0.042,    0.000,2,   1.4045
  09AR20060102,  S04I,    51,  1,     13,     13,2,20060129,1257,-66.5005,  40.0007, 4520,    399.6,   1.3384,  34.7157,2,  34.7156,2,    194.7,2,    194.8,2,    94.80,2,    31.22,2,   -999.0,9,   -999.0,9,2,     0.99,2,   -0.041,    0.000,2,   1.3184
  09AR20060102,  S04I,    51,  1,     12,     12,2,20060129,1257,-66.5005,  40.0007, 4520,    481.4,   1.2586,  34.7176,2,  34.7176,2,    196.6,2,    196.9,2,    97.00,2,    31.15,2,   -999.0,9,   -999.0,9,2,     0.99,2,   -0.045,    0.000,2,   1.2345
  09AR20060102,  S04I,    51,  1,     11,     11,2,20060129,1257,-66.5005,  40.0007, 4520,    699.3,   1.0459,  34.7160,2,  34.7155,2,    200.4,2,    200.7,2,   103.90,2,    31.18,2,   -999.0,9,   -999.0,9,2,     0.99,2,   -0.045,    0.000,2,   1.0108
  09AR20060102,  S04I,    51,  1,     10,     10,2,20060129,1257,-66.5005,  40.0007, 4520,    899.1,   0.8577,  34.7086,2,  34.7094,2,    202.5,2,    202.9,2,   108.60,2,    31.55,2,   -999.0,9,   -999.0,9,2,     0.99,2,   -0.047,    0.000,2,   0.8124
  09AR20060102,  S04I,    51,  1,      9,      9,2,20060129,1257,-66.5005,  40.0007, 4520,   1201.0,   0.6254,  34.6986,2,  34.6982,2,    204.9,2,    205.7,2,   114.90,2,    31.97,2,   -999.0,9,   -999.0,9,2,     0.99,2,   -0.045,    0.000,2,   0.5641
  09AR20060102,  S04I,    51,  1,      8,      8,2,20060129,1257,-66.5005,  40.0007, 4520,   1500.3,   0.4577,  34.6901,2,  34.6901,2,    208.0,2,    208.3,2,   119.20,2,    32.15,2,   -999.0,9,   -999.0,9,2,     0.99,2,   -0.049,    0.000,2,   0.3793
  09AR20060102,  S04I,    51,  1,      7,      7,2,20060129,1257,-66.5005,  40.0007, 4520,   2000.1,   0.2395,  34.6802,2,  34.6797,2,    215.6,2,    214.7,2,   123.30,2,    32.02,2,   -999.0,9,   -999.0,9,2,     0.99,2,   -0.051,    0.000,2,   0.1300
  09AR20060102,  S04I,    51,  1,      6,      6,2,20060129,1257,-66.5005,  40.0007, 4520,   2501.2,   0.0339,  34.6685,2,  34.6680,2,    225.7,2,    225.3,2,   122.40,2,    31.80,2,   -999.0,9,   -999.0,9,2,     0.99,2,   -0.053,    0.000,2,  -0.1094
  09AR20060102,  S04I,    51,  1,      5,      5,2,20060129,1257,-66.5005,  40.0007, 4520,   3000.5,  -0.1051,  34.6624,2,  34.6619,2,    232.5,2,    232.9,2,   120.80,2,    31.86,2,   -999.0,9,   -999.0,9,2,     0.99,2,   -0.055,    0.000,2,  -0.2861
  09AR20060102,  S04I,    51,  1,      4,      4,2,20060129,1257,-66.5005,  40.0007, 4520,   3500.1,  -0.2008,  34.6581,2,  34.6576,2,    238.1,2,    237.8,2,   122.30,2,    31.70,2,   -999.0,9,   -999.0,9,2,     0.99,2,   -0.052,    0.000,2,  -0.4235
  09AR20060102,  S04I,    51,  1,      3,      3,2,20060129,1257,-66.5005,  40.0007, 4520,   4000.4,  -0.2595,  34.6556,2,  34.6544,2,    242.3,2,    242.0,2,   124.50,2,    31.67,2,   -999.0,9,   -999.0,9,2,     0.99,2,   -0.054,    0.000,2,  -0.5281
  09AR20060102,  S04I,    51,  1,      2,      2,2,20060129,1257,-66.5005,  40.0007, 4520,   4499.8,  -0.3114,  34.6503,2,  34.6495,2,    246.7,2,    246.1,2,   127.30,2,    31.51,2,   -999.0,9,   -999.0,9,2,     0.99,2,   -0.054,    0.000,2,  -0.6292
  09AR20060102,  S04I,    51,  1,      1,      1,2,20060129,1257,-66.5005,  40.0007, 4520,   4608.7,  -0.3073,  34.6512,2,  34.6499,2,    245.0,2,    245.0,2,   133.70,2,    31.82,2,   -999.0,9,   -999.0,9,2,     0.99,2,   -0.052,    0.000,2,  -0.6367
  09AR20060102,  S04I,    52,  1,     24,     24,2,20060129,1932,-67.0013,  39.9968, 3632,      9.7,   0.2388,  33.1052,2,  33.1147,2,    345.1,2,    343.8,2,    51.10,2,    25.41,2,   2118.8,2,   2240.2,2,2,     0.05,2,    1.128,    0.000,2,   0.2385
  09AR20060102,  S04I,    52,  1,     23,     23,2,20060129,1932,-67.0013,  39.9968, 3632,     30.0,  -1.4719,  34.1698,2,-999.0000,9,    351.9,2,   -999.0,9,  -999.00,9,  -999.00,9,   -999.0,9,   -999.0,9,2,     0.29,2,    2.443,    0.000,2,  -1.4726
  09AR20060102,  S04I,    52,  1,     22,     22,2,20060129,1932,-67.0013,  39.9968, 3632,     30.0,  -1.4731,  34.1707,2,-999.0000,9,    351.9,2,   -999.0,9,  -999.00,9,  -999.00,9,   -999.0,9,   -999.0,9,2,     0.30,2,    2.489,    0.000,2,  -1.4738
  09AR20060102,  S04I,    52,  1,     21,     21,2,20060129,1932,-67.0013,  39.9968, 3632,     29.9,  -1.4734,  34.1710,2,  34.1490,2,    351.9,2,   -999.0,9,    61.10,2,    28.61,2,   2194.4,6,   -999.0,9,2,     0.25,2,    2.474,    0.000,2,  -1.4740
  09AR20060102,  S04I,    52,  1,     20,     20,2,20060129,1932,-67.0013,  39.9968, 3632,     50.1,  -1.6878,  34.2662,2,  34.2622,2,    320.2,2,   -999.0,9,    67.20,2,    29.62,2,   2208.8,2,   -999.0,9,2,     0.54,2,    1.641,    0.000,2,  -1.6888
  09AR20060102,  S04I,    52,  1,     19,     19,2,20060129,1932,-67.0013,  39.9968, 3632,     70.2,  -1.7650,  34.2889,2,  34.2853,2,    314.2,2,   -999.0,9,    65.00,2,    30.35,2,   2217.4,2,   -999.0,9,2,     0.86,2,    0.608,    0.000,2,  -1.7664
  09AR20060102,  S04I,    52,  1,     18,     18,2,20060129,1932,-67.0013,  39.9968, 3632,     89.6,  -1.7991,  34.2992,2,  34.2975,2,    311.2,2,    306.5,2,    66.90,2,    30.60,2,   2216.5,2,   -999.0,9,2,     0.98,2,    0.442,    0.000,2,  -1.8009
  09AR20060102,  S04I,    52,  1,     17,     17,2,20060129,1932,-67.0013,  39.9968, 3632,    100.2,  -1.8141,  34.3027,2,  34.2961,2,    311.2,2,    309.8,2,    64.40,2,    30.60,2,   2218.1,2,   -999.0,9,2,     0.99,2,    0.423,    0.000,2,  -1.8161
  09AR20060102,  S04I,    52,  1,     16,     16,2,20060129,1932,-67.0013,  39.9968, 3632,    119.3,  -1.8275,  34.3096,2,  34.3080,2,    311.4,2,   -999.0,9,    64.80,2,    30.82,2,   2218.5,2,   -999.0,9,2,     0.99,2,    0.151,    0.000,2,  -1.8299
  09AR20060102,  S04I,    52,  1,     15,     15,2,20060129,1932,-67.0013,  39.9968, 3632,    149.7,  -1.7971,  34.3211,2,  34.3190,2,    305.2,2,    313.2,2,    67.60,2,    30.44,2,   2219.0,2,   -999.0,9,2,     0.99,2,    0.051,    0.000,2,  -1.8002
  09AR20060102,  S04I,    52,  1,     14,     14,2,20060129,1932,-67.0013,  39.9968, 3632,    200.3,  -0.2682,  34.4786,2,  34.4803,2,    267.9,2,    252.1,3,    75.70,2,    31.68,2,   2238.4,6,   -999.0,9,2,     0.99,2,    0.059,    0.000,2,  -0.2751
  09AR20060102,  S04I,    52,  1,     13,     13,2,20060129,1932,-67.0013,  39.9968, 3632,    300.1,   1.3246,  34.6745,2,  34.6744,2,    192.6,2,    194.3,2,    90.00,2,    32.13,2,   2258.1,2,   -999.0,9,2,     0.99,2,   -0.035,    0.000,2,   1.3099
  09AR20060102,  S04I,    52,  1,     12,     12,2,20060129,1932,-67.0013,  39.9968, 3632,    401.0,   1.4224,  34.7080,2,  34.7078,2,    190.7,2,    190.9,2,    92.50,2,    31.64,2,   2257.6,2,   -999.0,9,2,     0.99,2,   -0.038,    0.000,2,   1.4021
  09AR20060102,  S04I,    52,  1,     11,     11,2,20060129,1932,-67.0013,  39.9968, 3632,    499.7,   1.0746,  34.6920,2,  34.6917,2,    204.0,2,    203.8,2,    92.80,2,    31.07,2,   2255.4,2,   -999.0,9,2,     0.99,2,   -0.044,    0.000,2,   1.0503
  09AR20060102,  S04I,    52,  1,     10,     10,2,20060129,1932,-67.0013,  39.9968, 3632,    699.7,   0.8388,  34.6911,2,  34.6917,2,    208.5,2,    210.7,2,    97.30,2,    31.02,2,   2255.6,2,   -999.0,9,2,     0.99,2,   -0.043,    0.000,2,   0.8049
  09AR20060102,  S04I,    52,  1,      9,      9,2,20060129,1932,-67.0013,  39.9968, 3632,    799.9,   0.8237,  34.6989,2,  34.6972,2,    210.7,2,    204.2,2,   102.50,2,    31.27,2,   2256.2,2,   -999.0,9,2,     0.99,2,   -0.043,    0.000,2,   0.7843
  09AR20060102,  S04I,    52,  1,      8,      8,2,20060129,1932,-67.0013,  39.9968, 3632,   1000.1,   0.7747,  34.7050,2,  34.7057,2,    206.6,2,    206.5,2,   110.00,2,    31.65,2,   2260.8,2,   -999.0,9,2,     0.99,2,   -0.047,    0.000,2,   0.7241
  09AR20060102,  S04I,    52,  1,      7,      7,2,20060129,1932,-67.0013,  39.9968, 3632,   1249.1,   0.5834,  34.6955,2,  34.6962,2,    208.5,2,    209.6,2,   113.90,2,    31.91,2,   2262.3,2,   -999.0,9,2,     0.99,2,   -0.050,    0.000,2,   0.5195
  09AR20060102,  S04I,    52,  1,      6,      6,2,20060129,1932,-67.0013,  39.9968, 3632,   1500.0,   0.4172,  34.6877,2,  34.6880,2,    211.2,2,    211.2,2,   119.00,2,    32.05,2,   2259.1,2,   -999.0,9,2,     0.99,2,   -0.049,    0.000,2,   0.3393
  09AR20060102,  S04I,    52,  1,      5,      5,2,20060129,1932,-67.0013,  39.9968, 3632,   1998.8,   0.1639,  34.6746,2,  34.6707,2,    220.0,2,    221.0,2,   120.50,2,    31.92,2,   2262.1,2,   -999.0,9,2,     0.99,2,   -0.048,    0.000,2,   0.0557
  09AR20060102,  S04I,    52,  1,      4,      4,2,20060129,1932,-67.0013,  39.9968, 3632,   2501.1,   0.0086,  34.6707,2,  34.6670,2,    225.5,2,    224.6,2,   123.30,2,    31.90,2,   -999.0,9,   -999.0,9,2,     0.99,2,   -0.052,    0.000,2,  -0.1343
  09AR20060102,  S04I,    52,  1,      3,      3,2,20060129,1932,-67.0013,  39.9968, 3632,   3000.1,  -0.1036,  34.6653,2,  34.6625,2,    232.2,2,   -999.0,9,   121.40,2,    31.81,2,   2258.3,2,   -999.0,9,2,     0.99,2,   -0.052,    0.000,2,  -0.2846
  09AR20060102,  S04I,    52,  1,      2,      2,2,20060129,1932,-67.0013,  39.9968, 3632,   3499.9,  -0.1353,  34.6646,2,  34.6641,2,    234.4,2,    233.6,2,   126.20,2,    31.89,2,   2260.4,2,   -999.0,9,2,     0.99,2,   -0.050,    0.000,2,  -0.3597
  09AR20060102,  S04I,    52,  1,      1,      1,2,20060129,1932,-67.0013,  39.9968, 3632,   3715.5,  -0.1538,  34.6624,2,  34.6623,2,    236.3,2,    237.3,2,   128.20,2,    32.16,2,   2256.5,6,   -999.0,9,2,     0.99,2,   -0.054,    0.000,2,  -0.3979
  09AR20060102,  S04I,    53,  1,     24,     24,2,20060130,0307,-67.4993,  39.9927, 3222,      9.3,  -0.3934,  33.0779,2,  33.0732,2,    354.8,2,   -999.0,9,    49.90,2,    24.26,2,   2109.3,2,   -999.0,9,2,     0.44,2,    0.469,    0.308,2,  -0.3937
  09AR20060102,  S04I,    53,  1,     23,     23,2,20060130,0307,-67.4993,  39.9927, 3222,     19.4,  -0.9228,  33.2001,2,-999.0000,9,    354.6,2,   -999.0,9,  -999.00,9,  -999.00,9,   -999.0,9,   -999.0,9,2,     0.73,2,    1.102,    0.138,2,  -0.9233
  09AR20060102,  S04I,    53,  1,     22,     22,2,20060130,0307,-67.4993,  39.9927, 3222,     19.4,  -0.8649,  33.1854,2,-999.0000,9,    354.6,2,   -999.0,9,  -999.00,9,  -999.00,9,   -999.0,9,   -999.0,9,2,     0.74,2,    1.130,    0.142,2,  -0.8654
  09AR20060102,  S04I,    53,  1,     21,     21,2,20060130,0307,-67.4993,  39.9927, 3222,     19.7,  -0.5371,  33.0991,2,  33.0866,2,    354.6,2,    356.6,2,    47.60,2,    23.71,2,   2109.3,2,   -999.0,9,2,     0.74,2,    0.795,    0.128,2,  -0.5376
  09AR20060102,  S04I,    53,  1,     20,     20,2,20060130,0307,-67.4993,  39.9927, 3222,     29.3,  -1.2832,  33.7259,2,  33.7272,2,    348.4,2,   -999.0,9,    51.00,2,    24.52,2,   2151.0,2,   -999.0,9,2,     0.94,2,    1.193,    0.050,2,  -1.2839
  09AR20060102,  S04I,    53,  1,     19,     19,2,20060130,0307,-67.4993,  39.9927, 3222,     39.4,  -1.4983,  34.0349,2,  34.0162,2,    334.1,2,   -999.0,9,    55.90,2,    26.88,2,   2184.2,2,   -999.0,9,2,     0.95,2,    0.868,    0.026,2,  -1.4991
  09AR20060102,  S04I,    53,  1,     18,     18,2,20060130,0307,-67.4993,  39.9927, 3222,     59.4,  -1.6458,  34.2269,2,  34.2268,2,    314.2,2,    311.2,2,    60.30,2,    29.49,2,   2205.2,2,   -999.0,9,2,     0.93,2,    3.599,    0.006,2,  -1.6470
  09AR20060102,  S04I,    53,  1,     17,     17,2,20060130,0307,-67.4993,  39.9927, 3222,     79.6,  -1.6941,  34.2683,2,  34.2599,2,    306.7,2,   -999.0,9,    65.30,2,    29.99,2,   2209.2,2,   -999.0,9,2,     0.97,2,    1.592,    0.001,2,  -1.6957
  09AR20060102,  S04I,    53,  1,     16,     16,2,20060130,0307,-67.4993,  39.9927, 3222,    109.4,  -1.8012,  34.2971,2,  34.2963,2,    307.6,2,    309.6,2,    69.10,2,    30.71,2,   2217.1,2,   -999.0,9,2,     0.99,2,    0.344,    0.000,2,  -1.8034
  09AR20060102,  S04I,    53,  1,     15,     15,2,20060130,0307,-67.4993,  39.9927, 3222,    139.3,  -1.7955,  34.3110,2,  34.3016,2,    307.7,2,    307.3,2,    64.70,2,    30.86,2,   2220.5,2,   -999.0,9,2,     0.99,2,    0.157,    0.000,2,  -1.7983
  09AR20060102,  S04I,    53,  1,     14,     14,2,20060130,0307,-67.4993,  39.9927, 3222,    199.3,   0.3950,  34.5443,2,  34.5495,2,    236.4,2,    225.4,2,    82.10,2,    32.39,2,   2247.9,2,   -999.0,9,2,     0.99,2,    0.180,    0.000,2,   0.3870
  09AR20060102,  S04I,    53,  1,     13,     13,2,20060130,0307,-67.4993,  39.9927, 3222,    299.5,   0.9189,  34.6454,2,  34.6478,2,    206.6,2,    208.9,2,    87.10,2,    31.96,2,   -999.0,9,   -999.0,9,2,     0.99,2,   -0.033,    0.000,2,   0.9053
  09AR20060102,  S04I,    53,  1,     12,     12,2,20060130,0307,-67.4993,  39.9927, 3222,    374.6,   0.6407,  34.6413,2,  34.6407,2,    216.7,2,    220.0,2,    87.40,2,    31.54,2,   -999.0,9,   -999.0,9,2,     0.99,2,   -0.038,    0.000,2,   0.6243
  09AR20060102,  S04I,    53,  1,     11,     11,2,20060130,0307,-67.4993,  39.9927, 3222,    449.7,   0.7109,  34.6618,2,  34.6605,2,    215.4,2,    215.9,2,    89.80,2,    31.38,2,   -999.0,9,   -999.0,9,2,     0.99,2,   -0.041,    0.000,2,   0.6906
  09AR20060102,  S04I,    53,  1,     10,     10,2,20060130,0307,-67.4993,  39.9927, 3222,    649.4,   0.6367,  34.6772,2,  34.6770,2,    214.6,2,    216.0,2,    97.20,2,    31.34,2,   -999.0,9,   -999.0,9,2,     0.99,2,   -0.040,    0.000,2,   0.6066
  09AR20060102,  S04I,    53,  1,      9,      9,2,20060130,0307,-67.4993,  39.9927, 3222,    799.4,   0.5719,  34.6802,2,  34.6797,2,    213.4,2,   -999.0,9,   101.40,2,    31.63,2,   -999.0,9,   -999.0,9,2,     0.99,2,   -0.045,    0.000,2,   0.5342
  09AR20060102,  S04I,    53,  1,      8,      8,2,20060130,0307,-67.4993,  39.9927, 3222,    999.5,   0.4855,  34.6817,2,  34.6819,2,    214.3,2,    213.8,2,   108.10,2,    31.80,2,   -999.0,9,   -999.0,9,2,     0.99,2,   -0.045,    0.000,2,   0.4373
  09AR20060102,  S04I,    53,  1,      7,      7,2,20060130,0307,-67.4993,  39.9927, 3222,   1249.5,   0.3616,  34.6788,2,  34.6786,2,    215.8,2,    215.9,2,   115.70,2,    32.40,2,   -999.0,9,   -999.0,9,2,     0.99,2,   -0.047,    0.000,2,   0.2999
  09AR20060102,  S04I,    53,  1,      6,      6,2,20060130,0307,-67.4993,  39.9927, 3222,   1499.5,   0.2660,  34.6774,2,  34.6774,2,    216.9,2,    216.5,2,   118.90,2,    32.35,2,   -999.0,9,   -999.0,9,2,     0.99,2,   -0.049,    0.000,2,   0.1899
  09AR20060102,  S04I,    53,  1,      5,      5,2,20060130,0307,-67.4993,  39.9927, 3222,   1749.2,   0.1378,  34.6711,2,  34.6699,2,    220.1,2,   -999.0,9,   119.10,2,    32.63,2,   -999.0,9,   -999.0,9,2,     0.99,2,   -0.051,    0.000,2,   0.0472
  09AR20060102,  S04I,    53,  1,      4,      4,2,20060130,0307,-67.4993,  39.9927, 3222,   2000.0,   0.0704,  34.6690,2,  34.6676,2,    224.2,2,   -999.0,9,   120.20,2,    32.19,2,   -999.0,9,   -999.0,9,2,     0.99,2,   -0.050,    0.000,2,  -0.0364
  09AR20060102,  S04I,    53,  1,      3,      3,2,20060130,0307,-67.4993,  39.9927, 3222,   2499.5,  -0.0691,  34.6649,2,  34.6638,2,    230.3,2,    230.6,2,   119.90,2,    32.33,2,   -999.0,9,   -999.0,9,2,     0.99,2,   -0.050,    0.000,2,  -0.2103
  09AR20060102,  S04I,    53,  1,      2,      2,2,20060130,0307,-67.4993,  39.9927, 3222,   2999.7,  -0.1234,  34.6610,2,  34.6597,2,    234.7,2,    234.9,2,   118.30,2,    32.00,2,   -999.0,9,   -999.0,9,2,     0.99,2,   -0.052,    0.000,2,  -0.3039
  09AR20060102,  S04I,    53,  1,      1,      1,2,20060130,0307,-67.4993,  39.9927, 3222,   3292.7,  -0.1219,  34.6602,2,  34.6587,2,    235.8,2,    236.1,2,   118.30,2,    32.10,2,   -999.0,9,   -999.0,9,2,     0.99,2,   -0.053,    0.000,2,  -0.3279