BOTTLE,20220816CCHSIOAMB
EXPOCODE,SECT_ID,STNNBR,CASTNO,SAMPNO,BTLNBR,BTLNBR_FLAG_W,DATE,TIME,LATITUDE,LONGITUDE,DEPTH,CTDPRS,CTDTMP,CTDSAL,CTDSAL_FLAG_W,SALNTY,SALNTY_FLAG_W,CTDOXY,CTDOXY_FLAG_W,OXYGEN,OXYGEN_FLAG_W,SILCAT,SILCAT_FLAG_W,NITRAT,NITRAT_FLAG_W,TCARBN,TCARBN_FLAG_W,ALKALI,ALKALI_FLAG_W,FLUOR_FLAG_W,XMISS,XMISS_FLAG_W,FLUOR,PAR,PAR_FLAG_W,THETA
,,,,,,,,,,,METERS,DBAR,ITS-90,PSS-78,,PSS-78,,UMOL/KG,,UMOL/KG,,UMOL/KG,,UMOL/KG,,UMOL/KG,,UMOL/KG,,,%TRANS,,VOLTS,VOLTS,,DEG C
  09AR20060102,  S04I,    18,  1,     24,     24,2,20060115,2021,-61.9998,  49.9940, 5123,      7.9,   0.2627,  33.8234,2,  33.8148,2,    351.4,2,    350.5,2,    42.10,2,    26.19,2,   2163.1,2,   2284.6,2,2,     0.15,2,    1.229,    0.003,2,   0.2624
  09AR20060102,  S04I,    18,  1,     23,     23,2,20060115,2021,-61.9998,  49.9940, 5123,     29.1,   0.2612,  33.8236,2,-999.0000,9,    351.4,2,   -999.0,9,  -999.00,9,  -999.00,9,   -999.0,9,   -999.0,9,2,     0.62,2,    1.282,    0.000,2,   0.2602
  09AR20060102,  S04I,    18,  1,     22,     22,2,20060115,2021,-61.9998,  49.9940, 5123,     29.2,   0.2593,  33.8236,2,-999.0000,9,    351.4,2,   -999.0,9,  -999.00,9,  -999.00,9,   -999.0,9,   -999.0,9,2,     0.63,2,    1.307,    0.000,2,   0.2582
  09AR20060102,  S04I,    18,  1,     21,     21,2,20060115,2021,-61.9998,  49.9940, 5123,     29.0,   0.2580,  33.8236,2,  33.8246,2,    351.3,2,    350.8,2,    42.00,2,    25.97,2,   2162.4,6,   -999.0,9,2,     0.57,2,    1.266,    0.000,2,   0.2570
  09AR20060102,  S04I,    18,  1,     20,     20,2,20060115,2021,-61.9998,  49.9940, 5123,     49.8,  -0.1421,  33.8458,2,  33.8476,2,    352.6,2,    352.7,2,    42.90,2,    26.37,2,   2165.4,2,   -999.0,9,2,     0.94,2,    1.492,    0.000,2,  -0.1437
  09AR20060102,  S04I,    18,  1,     19,     19,2,20060115,2021,-61.9998,  49.9940, 5123,     70.8,  -1.5536,  33.9895,2,  33.9837,2,    339.3,2,    338.2,2,    49.20,2,    27.47,2,   2183.7,2,   -999.0,9,2,     0.97,2,    1.902,    0.000,2,  -1.5551
  09AR20060102,  S04I,    18,  1,     18,     18,2,20060115,2021,-61.9998,  49.9940, 5123,     97.4,  -1.3066,  34.1037,2,  34.1019,2,    317.2,2,    318.2,2,    54.60,2,    28.67,2,   2200.4,2,   -999.0,9,2,     0.98,2,    0.853,    0.000,2,  -1.3089
  09AR20060102,  S04I,    18,  1,     17,     17,2,20060115,2021,-61.9998,  49.9940, 5123,    149.9,   1.0038,  34.4336,2,  34.4299,2,    212.9,2,    212.5,2,    73.50,2,    33.31,2,   2247.0,2,   -999.0,9,2,     0.99,2,    0.103,    0.000,2,   0.9971
  09AR20060102,  S04I,    18,  1,     16,     16,2,20060115,2021,-61.9998,  49.9940, 5123,    201.8,   1.5429,  34.5489,2,  34.5434,2,    185.0,2,    187.3,2,    80.40,2,    33.44,2,   2257.1,2,   -999.0,9,2,     0.99,2,   -0.026,    0.000,2,   1.5329
  09AR20060102,  S04I,    18,  1,     15,     15,2,20060115,2021,-61.9998,  49.9940, 5123,    300.6,   1.7578,  34.6407,2,  34.6417,2,    180.9,2,    180.8,2,    83.90,2,    32.73,2,   2260.2,2,   -999.0,9,2,     0.99,2,   -0.031,    0.000,2,   1.7420
  09AR20060102,  S04I,    18,  1,     14,     14,2,20060115,2021,-61.9998,  49.9940, 5123,    401.1,   1.7423,  34.6791,2,  34.6797,2,    184.3,2,   -999.0,9,    87.40,2,    31.72,2,   2257.7,2,   -999.0,9,2,     0.99,2,   -0.031,    0.000,2,   1.7209
  09AR20060102,  S04I,    18,  1,     13,     13,2,20060115,2021,-61.9998,  49.9940, 5123,    499.7,   1.7166,  34.7029,2,  34.7037,2,    188.0,2,    186.8,2,    88.50,2,    31.39,2,   1437.7,4,   -999.0,9,2,     0.99,2,   -0.033,    0.000,2,   1.6896
  09AR20060102,  S04I,    18,  1,     12,     12,2,20060115,2021,-61.9998,  49.9940, 5123,    600.3,   1.6325,  34.7156,2,  34.7170,2,    191.8,2,    191.1,2,    90.10,2,    30.75,2,   2253.9,2,   -999.0,9,2,     0.99,2,   -0.033,    0.000,2,   1.6000
  09AR20060102,  S04I,    18,  1,     11,     11,2,20060115,2021,-61.9998,  49.9940, 5123,    800.4,   1.4470,  34.7270,2,  34.7274,2,    197.6,2,    197.9,2,    93.50,2,    30.08,2,   2254.2,2,   -999.0,9,2,     0.99,2,   -0.035,    0.000,2,   1.4035
  09AR20060102,  S04I,    18,  1,     10,     10,2,20060115,2021,-61.9998,  49.9940, 5123,    999.8,   1.2228,  34.7218,2,  34.7227,2,    201.0,2,   -999.0,9,    99.50,2,    30.17,2,   2255.8,6,   -999.0,9,2,     0.99,2,   -0.034,    0.000,2,   1.1686
  09AR20060102,  S04I,    18,  1,      9,      9,2,20060115,2021,-61.9998,  49.9940, 5123,   1499.1,   0.7853,  34.7036,2,  34.7043,2,    205.4,2,   -999.0,9,   112.10,2,    31.52,2,   2261.0,2,   -999.0,9,2,     0.99,2,   -0.039,    0.000,2,   0.7030
  09AR20060102,  S04I,    18,  1,      8,      8,2,20060115,2021,-61.9998,  49.9940, 5123,   2000.8,   0.5049,  34.6910,2,  34.6917,2,   -999.0,5,   -999.0,9,   119.80,2,    31.80,2,   2262.5,2,   -999.0,9,2,     0.99,2,   -0.040,    0.000,2,   0.3912
  09AR20060102,  S04I,    18,  1,      7,      7,2,20060115,2021,-61.9998,  49.9940, 5123,   2502.7,   0.2859,  34.6801,2,  34.6807,2,    214.1,2,    214.4,2,   124.40,2,    31.94,2,   2263.6,2,   -999.0,9,2,     0.99,2,   -0.041,    0.000,2,   0.1376
  09AR20060102,  S04I,    18,  1,      6,      6,2,20060115,2021,-61.9998,  49.9940, 5123,   3000.9,   0.1164,  34.6724,2,  34.6723,2,    220.9,2,    221.3,2,   125.90,2,    31.73,2,   2260.0,2,   -999.0,9,2,     0.99,2,   -0.044,    0.000,2,  -0.0697
  09AR20060102,  S04I,    18,  1,      5,      5,2,20060115,2021,-61.9998,  49.9940, 5123,   3500.2,  -0.0137,  34.6663,2,  34.6660,2,    228.0,2,    228.5,2,   126.10,2,    31.59,2,   2259.2,2,   -999.0,9,2,     0.99,2,   -0.044,    0.000,2,  -0.2413
  09AR20060102,  S04I,    18,  1,      4,      4,2,20060115,2021,-61.9998,  49.9940, 5123,   4001.0,  -0.1026,  34.6623,2,  34.6619,2,    234.0,2,    233.7,2,   128.00,2,    31.51,2,   2257.2,2,   -999.0,9,2,     0.99,2,   -0.047,    0.000,2,  -0.3758
  09AR20060102,  S04I,    18,  1,      3,      3,2,20060115,2021,-61.9998,  49.9940, 5123,   4500.7,  -0.1754,  34.6583,2,  34.6586,2,    239.4,2,    237.4,2,   127.70,2,    31.25,2,   2253.8,2,   -999.0,9,2,     0.99,2,   -0.045,    0.000,2,  -0.4977
  09AR20060102,  S04I,    18,  1,      2,      2,2,20060115,2021,-61.9998,  49.9940, 5123,   5183.8,  -0.2263,  34.6533,2,  34.6535,2,    244.4,2,    243.6,2,   140.90,2,    31.45,2,   2254.0,2,   -999.0,9,2,     0.99,2,   -0.045,    0.000,2,  -0.6221
  09AR20060102,  S04I,    18,  1,      1,      1,2,20060115,2021,-61.9998,  49.9940, 5123,   5224.1,  -0.2219,  34.6531,2,  34.6503,2,    244.6,2,    246.0,2,   141.10,2,    31.35,2,   2253.2,6,   -999.0,9,2,     0.99,2,   -0.044,    0.000,2,  -0.6225
  09AR20060102,  S04I,    19,  1,     24,     24,2,20060116,0746,-61.9998,  47.5017, 5067,      9.0,   0.8554,  33.7479,2,  33.7499,2,    355.4,2,    352.1,2,    51.80,3,    21.40,3,   -999.0,9,   -999.0,9,2,     0.94,2,    0.164,    0.359,2,   0.8550
  09AR20060102,  S04I,    19,  1,     23,     23,2,20060116,0746,-61.9998,  47.5017, 5067,     14.5,   0.7473,  33.7490,2,-999.0000,9,    355.4,2,   -999.0,9,  -999.00,9,  -999.00,9,   -999.0,9,   -999.0,9,2,     0.94,2,    0.546,    0.249,2,   0.7467
  09AR20060102,  S04I,    19,  1,     22,     22,2,20060116,0746,-61.9998,  47.5017, 5067,     30.1,   0.5904,  33.7516,2,-999.0000,9,    355.2,2,   -999.0,9,  -999.00,9,  -999.00,9,   -999.0,9,   -999.0,9,2,     0.94,2,    1.291,    0.091,2,   0.5892
  09AR20060102,  S04I,    19,  1,     21,     21,2,20060116,0746,-61.9998,  47.5017, 5067,     38.9,   0.5283,  33.7611,2,  33.7669,2,    354.8,2,    356.7,2,    44.90,2,    23.83,3,   -999.0,9,   -999.0,9,2,     0.94,2,    1.371,    0.062,2,   0.5268
  09AR20060102,  S04I,    19,  1,     20,     20,2,20060116,0746,-61.9998,  47.5017, 5067,     53.3,  -1.4296,  33.9539,2,  33.9630,2,    362.8,2,    354.1,2,    57.90,2,    26.02,2,   -999.0,9,   -999.0,9,2,     0.94,2,    3.839,    0.022,2,  -1.4308
  09AR20060102,  S04I,    19,  1,     19,     19,2,20060116,0746,-61.9998,  47.5017, 5067,     78.8,  -1.7089,  34.0561,2,  34.0578,2,    337.3,2,    338.6,2,    61.50,2,    27.14,2,   -999.0,9,   -999.0,9,2,     0.98,2,    1.360,    0.003,2,  -1.7105
  09AR20060102,  S04I,    19,  1,     18,     18,2,20060116,0746,-61.9998,  47.5017, 5067,    101.1,  -1.5781,  34.0971,2,  34.0991,2,    329.3,2,    326.9,2,    59.00,2,    27.39,2,   -999.0,9,   -999.0,9,2,     0.98,2,    0.701,    0.000,2,  -1.5803
  09AR20060102,  S04I,    19,  1,     17,     17,2,20060116,0746,-61.9998,  47.5017, 5067,    128.4,  -0.1872,  34.2668,2,  34.2689,2,    309.8,2,    265.5,3,    68.30,2,    31.22,2,   -999.0,9,   -999.0,9,2,     0.99,2,    0.248,    0.000,2,  -0.1916
  09AR20060102,  S04I,    19,  1,     16,     16,2,20060116,0746,-61.9998,  47.5017, 5067,    169.2,   1.2765,  34.4888,2,  34.4873,2,    213.1,2,    201.9,3,  -999.00,9,    32.43,2,   -999.0,9,   -999.0,9,2,     0.99,2,    0.011,    0.000,2,   1.2685
  09AR20060102,  S04I,    19,  1,     15,     15,2,20060116,0746,-61.9998,  47.5017, 5067,    199.2,   1.5438,  34.5461,2,  34.5460,2,    191.2,2,    188.4,2,    86.20,3,    33.23,2,   -999.0,9,   -999.0,9,2,     0.99,2,   -0.020,    0.000,2,   1.5339
  09AR20060102,  S04I,    19,  1,     14,     14,2,20060116,0746,-61.9998,  47.5017, 5067,    300.3,   1.7323,  34.6336,2,  34.6334,2,    180.4,2,    181.2,2,    86.70,2,    32.63,2,   -999.0,9,   -999.0,9,2,     0.99,2,   -0.031,    0.000,2,   1.7166
  09AR20060102,  S04I,    19,  1,     13,     13,2,20060116,0746,-61.9998,  47.5017, 5067,    399.5,   1.7269,  34.6772,2,  34.6792,2,    183.2,2,    184.3,2,    88.40,2,    31.80,2,   -999.0,9,   -999.0,9,2,     0.99,2,   -0.031,    0.000,2,   1.7057
  09AR20060102,  S04I,    19,  1,     12,     12,2,20060116,0746,-61.9998,  47.5017, 5067,    598.6,   1.6199,  34.7164,2,  34.7174,2,    190.7,2,    191.8,2,    89.90,2,    30.64,2,   -999.0,9,   -999.0,9,2,     0.99,2,   -0.033,    0.000,2,   1.5876
  09AR20060102,  S04I,    19,  1,     11,     11,2,20060116,0746,-61.9998,  47.5017, 5067,    800.0,   1.4376,  34.7265,2,  34.7276,2,    197.1,2,    197.6,2,  -999.00,9,    29.81,2,   -999.0,9,   -999.0,9,2,     0.99,2,   -0.035,    0.000,2,   1.3942
  09AR20060102,  S04I,    19,  1,     10,     10,2,20060116,0746,-61.9998,  47.5017, 5067,   1598.5,   0.7307,  34.7027,2,  34.7035,2,    206.2,2,    207.3,2,   113.50,2,    31.24,2,   -999.0,9,   -999.0,9,2,     0.99,2,   -0.041,    0.000,2,   0.6423
  09AR20060102,  S04I,    19,  1,      9,      9,2,20060116,0746,-61.9998,  47.5017, 5067,   2099.8,   0.4525,  34.6885,2,  34.6888,2,    210.8,2,    210.3,2,   121.20,2,    31.55,2,   -999.0,9,   -999.0,9,2,     0.99,2,   -0.039,    0.000,2,   0.3323
  09AR20060102,  S04I,    19,  1,      8,      8,2,20060116,0746,-61.9998,  47.5017, 5067,   2599.5,   0.2380,  34.6779,2,  34.6778,2,    215.7,2,    215.8,2,   123.60,2,    31.75,2,   -999.0,9,   -999.0,9,2,     0.99,2,   -0.045,    0.000,2,   0.0828
  09AR20060102,  S04I,    19,  1,      7,      7,2,20060116,0746,-61.9998,  47.5017, 5067,   3100.2,   0.0835,  34.6710,2,  34.6707,2,    222.8,2,    222.6,2,   125.50,2,    31.68,2,   -999.0,9,   -999.0,9,2,     0.99,2,   -0.044,    0.000,2,  -0.1105
  09AR20060102,  S04I,    19,  1,      6,      6,2,20060116,0746,-61.9998,  47.5017, 5067,   3599.3,  -0.0373,  34.6662,2,  34.6660,2,    229.5,2,    229.4,2,   128.00,2,    31.81,2,   -999.0,9,   -999.0,9,2,     0.99,2,   -0.045,    0.000,2,  -0.2735
  09AR20060102,  S04I,    19,  1,      5,      5,2,20060116,0746,-61.9998,  47.5017, 5067,   3599.3,  -0.0373,  34.6660,2,  34.6660,2,    229.5,2,    230.4,2,   127.90,2,    31.73,2,   -999.0,9,   -999.0,9,2,     0.99,2,   -0.047,    0.000,2,  -0.2735
  09AR20060102,  S04I,    19,  1,      4,      4,2,20060116,0746,-61.9998,  47.5017, 5067,   4098.7,  -0.1333,  34.6611,2,  34.6609,2,    234.9,2,    235.3,2,   130.10,2,    31.68,2,   -999.0,9,   -999.0,9,2,     0.99,2,   -0.047,    0.000,2,  -0.4154
  09AR20060102,  S04I,    19,  1,      3,      3,2,20060116,0746,-61.9998,  47.5017, 5067,   4598.9,  -0.1939,  34.6575,2,  34.6578,2,    239.4,2,    239.0,2,   133.30,2,    31.39,2,   -999.0,9,   -999.0,9,2,     0.99,2,   -0.047,    0.000,2,  -0.5260
  09AR20060102,  S04I,    19,  1,      2,      2,2,20060116,0746,-61.9998,  47.5017, 5067,   5129.4,  -0.2412,  34.6524,2,  34.6531,2,    242.6,2,    242.5,2,   139.60,2,    31.39,2,   -999.0,9,   -999.0,9,2,     0.99,2,   -0.051,    0.000,2,  -0.6303
  09AR20060102,  S04I,    19,  1,      1,      1,2,20060116,0746,-61.9998,  47.5017, 5067,   5165.7,  -0.2389,  34.6524,2,  34.6527,2,    242.9,2,    243.1,2,   140.30,2,    31.59,2,   -999.0,9,   -999.0,9,2,     0.99,2,   -0.051,    0.000,2,  -0.6322
  09AR20060102,  S04I,    20,  1,     24,     24,2,20060116,1801,-61.9998,  45.0003, 5012,     11.0,   0.6649,  33.7964,2,  33.7944,2,    352.2,2,    352.0,2,  -999.00,9,  -999.00,9,   2154.9,2,   2285.5,2,2,     0.10,2,    2.486,    0.000,2,   0.6645
  09AR20060102,  S04I,    20,  1,     23,     23,2,20060116,1801,-61.9998,  45.0003, 5012,     19.6,   0.6549,  33.7967,2,-999.0000,9,    352.6,2,   -999.0,9,  -999.00,9,  -999.00,9,   -999.0,9,   -999.0,9,2,     0.14,2,    2.541,    0.000,2,   0.6541
  09AR20060102,  S04I,    20,  1,     22,     22,2,20060116,1801,-61.9998,  45.0003, 5012,     19.5,   0.6455,  33.7968,2,-999.0000,9,    352.6,2,   -999.0,9,  -999.00,9,  -999.00,9,   -999.0,9,   -999.0,9,2,     0.06,2,    2.444,    0.000,2,   0.6447
  09AR20060102,  S04I,    20,  1,     21,     21,2,20060116,1801,-61.9998,  45.0003, 5012,     19.4,   0.6330,  33.7967,2,  33.7988,2,    352.6,2,    353.2,2,  -999.00,9,  -999.00,9,   2154.9,6,   -999.0,9,2,     0.07,2,    2.611,    0.000,2,   0.6322
  09AR20060102,  S04I,    20,  1,     20,     20,2,20060116,1801,-61.9998,  45.0003, 5012,     50.6,  -1.4098,  33.9545,2,  33.9450,2,    359.7,2,    359.1,2,  -999.00,9,  -999.00,9,   2169.3,2,   -999.0,9,2,     0.64,2,    5.116,    0.000,2,  -1.4109
  09AR20060102,  S04I,    20,  1,     19,     19,2,20060116,1801,-61.9998,  45.0003, 5012,     78.4,  -1.6775,  34.0559,2,  34.0494,2,    338.1,2,    339.0,2,  -999.00,9,  -999.00,9,   2190.1,2,   -999.0,9,2,     0.94,2,    2.206,    0.000,2,  -1.6791
  09AR20060102,  S04I,    20,  1,     18,     18,2,20060116,1801,-61.9998,  45.0003, 5012,    110.6,  -1.5014,  34.1398,2,  34.1377,2,    322.4,2,    322.3,2,  -999.00,9,  -999.00,9,   2198.2,2,   -999.0,9,2,     0.99,2,    0.518,    0.000,2,  -1.5039
  09AR20060102,  S04I,    20,  1,     17,     17,2,20060116,1801,-61.9998,  45.0003, 5012,    128.2,  -0.3863,  34.2572,2,  34.2597,2,    264.6,2,    272.8,2,  -999.00,9,  -999.00,9,   2222.7,2,   -999.0,9,2,     0.99,2,    0.256,    0.000,2,  -0.3904
  09AR20060102,  S04I,    20,  1,     16,     16,2,20060116,1801,-61.9998,  45.0003, 5012,    150.5,   0.8150,  34.4236,2,  34.4201,2,    219.0,2,    220.4,2,  -999.00,9,  -999.00,9,   2244.4,2,   -999.0,9,2,     0.99,2,    0.095,    0.000,2,   0.8085
  09AR20060102,  S04I,    20,  1,     15,     15,2,20060116,1801,-61.9998,  45.0003, 5012,    199.8,   1.4620,  34.5552,2,  34.5524,2,    190.6,2,    191.6,2,  -999.00,9,  -999.00,9,   2252.2,2,   -999.0,9,2,     0.99,2,   -0.026,    0.000,2,   1.4522
  09AR20060102,  S04I,    20,  1,     14,     14,2,20060116,1801,-61.9998,  45.0003, 5012,    299.6,   1.6898,  34.6494,2,  34.6483,2,    184.6,2,    183.1,2,  -999.00,9,  -999.00,9,   2257.9,2,   -999.0,9,2,     0.99,2,   -0.032,    0.000,2,   1.6742
  09AR20060102,  S04I,    20,  1,     13,     13,2,20060116,1801,-61.9998,  45.0003, 5012,    402.2,   1.7028,  34.6858,2,  34.6864,2,    187.4,2,    186.2,2,  -999.00,9,  -999.00,9,   2256.4,2,   -999.0,9,2,     0.99,2,   -0.036,    0.000,2,   1.6815
  09AR20060102,  S04I,    20,  1,     12,     12,2,20060116,1801,-61.9998,  45.0003, 5012,    600.0,   1.5771,  34.7180,2,  34.7190,2,    193.8,2,    193.0,2,  -999.00,9,  -999.00,9,   2254.0,2,   -999.0,9,2,     0.99,2,   -0.032,    0.000,2,   1.5449
  09AR20060102,  S04I,    20,  1,     11,     11,2,20060116,1801,-61.9998,  45.0003, 5012,    800.3,   1.3295,  34.7231,2,  34.7206,2,    199.1,2,    199.0,2,  -999.00,9,  -999.00,9,   2252.6,2,   -999.0,9,2,     0.99,2,   -0.036,    0.000,2,   1.2868
  09AR20060102,  S04I,    20,  1,     10,     10,2,20060116,1801,-61.9998,  45.0003, 5012,   1098.9,   1.0326,  34.7167,2,  34.7172,2,    203.2,2,    203.2,2,  -999.00,9,  -999.00,9,   2251.2,2,   -999.0,9,2,     0.99,2,   -0.039,    0.000,2,   0.9738
  09AR20060102,  S04I,    20,  1,      9,      9,2,20060116,1801,-61.9998,  45.0003, 5012,   1600.9,   0.6313,  34.6981,2,  34.6964,2,    207.3,2,    207.0,2,  -999.00,9,  -999.00,9,   2261.5,2,   -999.0,9,2,     0.99,2,   -0.040,    0.000,2,   0.5440
  09AR20060102,  S04I,    20,  1,      8,      8,2,20060116,1801,-61.9998,  45.0003, 5012,   2100.4,   0.3754,  34.6855,2,  34.6854,2,    211.3,2,    212.0,2,  -999.00,9,  -999.00,9,   2257.3,2,   -999.0,9,2,     0.99,2,   -0.042,    0.000,2,   0.2564
  09AR20060102,  S04I,    20,  1,      7,      7,2,20060116,1801,-61.9998,  45.0003, 5012,   2600.6,   0.1773,  34.6759,2,  34.6760,2,    217.8,2,    217.9,2,  -999.00,9,  -999.00,9,   -999.0,9,   -999.0,9,2,     0.99,2,   -0.045,    0.000,2,   0.0232
  09AR20060102,  S04I,    20,  1,      6,      6,2,20060116,1801,-61.9998,  45.0003, 5012,   3100.7,   0.0205,  34.6689,2,  34.6688,2,    225.1,2,    225.4,2,  -999.00,9,  -999.00,9,   2256.9,2,   -999.0,9,2,     0.99,2,   -0.041,    0.000,2,  -0.1720
  09AR20060102,  S04I,    20,  1,      5,      5,2,20060116,1801,-61.9998,  45.0003, 5012,   3600.1,  -0.1021,  34.6635,2,  34.6613,2,    232.0,2,    232.4,2,  -999.00,9,  -999.00,9,   2256.1,2,   -999.0,9,2,     0.99,2,   -0.046,    0.000,2,  -0.3367
  09AR20060102,  S04I,    20,  1,      4,      4,2,20060116,1801,-61.9998,  45.0003, 5012,   4098.9,  -0.1831,  34.6596,2,  34.6587,2,    236.9,2,    237.5,2,  -999.00,9,  -999.00,9,   2256.8,2,   -999.0,9,2,     0.99,2,   -0.048,    0.000,2,  -0.4637
  09AR20060102,  S04I,    20,  1,      3,      3,2,20060116,1801,-61.9998,  45.0003, 5012,   4599.2,  -0.2333,  34.6562,2,  34.6562,2,    240.8,2,    240.9,2,  -999.00,9,  -999.00,9,   2254.8,2,   -999.0,9,2,     0.99,2,   -0.049,    0.000,2,  -0.5642
  09AR20060102,  S04I,    20,  1,      2,      2,2,20060116,1801,-61.9998,  45.0003, 5012,   5107.1,  -0.2594,  34.6527,2,  34.6521,2,    242.6,2,    243.1,2,  -999.00,9,  -999.00,9,   2251.9,2,   -999.0,9,2,     0.99,2,   -0.049,    0.000,2,  -0.6453
  09AR20060102,  S04I,    20,  1,      1,      1,2,20060116,1801,-61.9998,  45.0003, 5012,   5113.6,  -0.2587,  34.6527,2,  34.6533,2,    242.6,2,    243.2,2,  -999.00,9,  -999.00,9,   2253.1,6,   -999.0,9,2,     0.99,2,   -0.047,    0.000,2,  -0.6454