BOTTLE,20220816CCHSIOAMB
EXPOCODE,SECT_ID,STNNBR,CASTNO,SAMPNO,BTLNBR,BTLNBR_FLAG_W,DATE,TIME,LATITUDE,LONGITUDE,DEPTH,CTDPRS,CTDTMP,CTDSAL,CTDSAL_FLAG_W,SALNTY,SALNTY_FLAG_W,CTDOXY,CTDOXY_FLAG_W,OXYGEN,OXYGEN_FLAG_W,SILCAT,SILCAT_FLAG_W,NITRAT,NITRAT_FLAG_W,TCARBN,TCARBN_FLAG_W,ALKALI,ALKALI_FLAG_W,FLUOR_FLAG_W,XMISS,XMISS_FLAG_W,FLUOR,PAR,PAR_FLAG_W,THETA
,,,,,,,,,,,METERS,DBAR,ITS-90,PSS-78,,PSS-78,,UMOL/KG,,UMOL/KG,,UMOL/KG,,UMOL/KG,,UMOL/KG,,UMOL/KG,,,%TRANS,,VOLTS,VOLTS,,DEG C
  09AR20060102,  S04I,    99,  1,     24,     24,2,20060220,1050,-67.1807,  70.0058,  267,      9.0,  -1.5957,  33.2209,2,-999.0000,9,    366.9,2,   -999.0,9,  -999.00,9,  -999.00,9,   -999.0,9,   -999.0,9,2,     0.02,2,    5.778,    0.075,2,  -1.5959
  09AR20060102,  S04I,    99,  1,     23,     23,2,20060220,1050,-67.1807,  70.0058,  267,      9.0,  -1.5953,  33.2215,2,-999.0000,9,    367.0,2,   -999.0,9,  -999.00,9,  -999.00,9,   -999.0,9,   -999.0,9,2,     0.02,2,    6.391,    0.072,2,  -1.5955
  09AR20060102,  S04I,    99,  1,     22,     22,2,20060220,1050,-67.1807,  70.0058,  267,      8.9,  -1.5944,  33.2225,2,-999.0000,9,    367.0,2,   -999.0,9,  -999.00,9,  -999.00,9,   -999.0,9,   -999.0,9,2,     0.03,2,    6.589,    0.072,2,  -1.5946
  09AR20060102,  S04I,    99,  1,     21,     21,2,20060220,1050,-67.1807,  70.0058,  267,      8.9,  -1.5948,  33.2228,2,  33.3470,2,    367.0,2,    366.3,2,    35.60,2,    20.31,2,   2108.6,2,   2260.9,2,2,     0.03,2,    6.486,    0.076,2,  -1.5950
  09AR20060102,  S04I,    99,  1,     20,     20,2,20060220,1050,-67.1807,  70.0058,  267,     19.2,  -1.4332,  33.6050,2,-999.0000,9,    348.0,2,   -999.0,9,  -999.00,9,  -999.00,9,   -999.0,9,   -999.0,9,2,     0.04,2,    4.414,    0.016,2,  -1.4336
  09AR20060102,  S04I,    99,  1,     19,     19,2,20060220,1050,-67.1807,  70.0058,  267,     19.0,  -1.4329,  33.6329,2,  33.7007,2,    348.0,2,    349.7,2,    44.00,2,    23.73,2,   2155.2,2,   -999.0,9,2,     0.04,2,    5.813,    0.017,2,  -1.4333
  09AR20060102,  S04I,    99,  1,     18,     18,2,20060220,1050,-67.1807,  70.0058,  267,     30.2,  -1.4604,  33.8608,2,-999.0000,9,    342.2,2,   -999.0,9,  -999.00,9,  -999.00,9,   -999.0,9,   -999.0,9,2,     0.12,2,    4.592,    0.005,2,  -1.4610
  09AR20060102,  S04I,    99,  1,     17,     17,2,20060220,1050,-67.1807,  70.0058,  267,     30.0,  -1.4568,  33.8555,2,  33.8971,2,    342.2,2,    343.4,2,    48.00,2,    24.55,2,   2162.6,2,   -999.0,9,2,     0.05,2,    4.454,    0.005,2,  -1.4574
  09AR20060102,  S04I,    99,  1,     16,     16,2,20060220,1050,-67.1807,  70.0058,  267,     39.7,  -1.5346,  34.0762,2,-999.0000,9,    333.7,2,   -999.0,9,  -999.00,9,  -999.00,9,   -999.0,9,   -999.0,9,2,     0.14,2,    3.305,    0.002,2,  -1.5354
  09AR20060102,  S04I,    99,  1,     15,     15,2,20060220,1050,-67.1807,  70.0058,  267,     39.6,  -1.5285,  34.0589,2,  34.0739,2,    333.7,2,    334.0,2,    53.10,2,    26.40,2,   2183.2,2,   -999.0,9,2,     0.10,2,    3.606,    0.002,2,  -1.5293
  09AR20060102,  S04I,    99,  1,     14,     14,2,20060220,1050,-67.1807,  70.0058,  267,     49.7,  -1.5241,  34.2672,2,-999.0000,9,    322.7,2,   -999.0,9,  -999.00,9,  -999.00,9,   -999.0,9,   -999.0,9,2,     0.22,2,    1.706,    0.001,2,  -1.5252
  09AR20060102,  S04I,    99,  1,     13,     13,2,20060220,1050,-67.1807,  70.0058,  267,     49.6,  -1.5245,  34.2689,2,  34.2879,2,    322.7,2,    320.2,2,    60.80,2,    28.63,2,   2208.9,2,   -999.0,9,2,     0.22,2,    1.658,    0.001,2,  -1.5256
  09AR20060102,  S04I,    99,  1,     12,     12,2,20060220,1050,-67.1807,  70.0058,  267,     60.0,  -1.7184,  34.3388,2,-999.0000,9,    318.3,2,   -999.0,9,  -999.00,9,  -999.00,9,   -999.0,9,   -999.0,9,2,     0.33,2,    0.603,    0.000,2,  -1.7196
  09AR20060102,  S04I,    99,  1,     11,     11,2,20060220,1050,-67.1807,  70.0058,  267,     59.9,  -1.7204,  34.3385,2,  34.3531,2,    318.3,2,    316.3,2,    63.20,2,    29.06,2,   2213.6,2,   -999.0,9,2,     0.33,2,    0.549,    0.000,2,  -1.7216
  09AR20060102,  S04I,    99,  1,     10,     10,2,20060220,1050,-67.1807,  70.0058,  267,     70.0,  -1.4887,  34.3876,2,-999.0000,9,    310.8,2,   -999.0,9,  -999.00,9,  -999.00,9,   -999.0,9,   -999.0,9,2,     0.40,2,    0.404,    0.000,2,  -1.4903
  09AR20060102,  S04I,    99,  1,      9,      9,2,20060220,1050,-67.1807,  70.0058,  267,     69.9,  -1.4862,  34.3878,2,  34.3921,2,    310.8,2,    307.9,2,    65.40,2,    29.79,2,   2217.3,2,   -999.0,9,2,     0.37,2,    0.383,    0.000,2,  -1.4878
  09AR20060102,  S04I,    99,  1,      8,      8,2,20060220,1050,-67.1807,  70.0058,  267,     79.6,  -1.5057,  34.3994,2,-999.0000,9,    310.2,2,   -999.0,9,  -999.00,9,  -999.00,9,   -999.0,9,   -999.0,9,2,     0.41,2,    0.268,    0.000,2,  -1.5075
  09AR20060102,  S04I,    99,  1,      7,      7,2,20060220,1050,-67.1807,  70.0058,  267,     79.5,  -1.5015,  34.4003,2,  34.4009,2,    310.2,2,    308.3,2,    65.00,2,    29.68,2,   2219.8,2,   -999.0,9,2,     0.36,2,    0.272,    0.000,2,  -1.5033
  09AR20060102,  S04I,    99,  1,      6,      6,2,20060220,1050,-67.1807,  70.0058,  267,    100.2,  -1.6167,  34.4121,2,-999.0000,9,    307.9,2,   -999.0,9,  -999.00,9,  -999.00,9,   -999.0,9,   -999.0,9,2,     0.46,2,    0.134,    0.000,2,  -1.6189
  09AR20060102,  S04I,    99,  1,      5,      5,2,20060220,1050,-67.1807,  70.0058,  267,    100.1,  -1.6094,  34.4132,2,  34.4140,2,    307.9,2,    315.5,2,    63.50,2,    29.61,2,   2217.5,2,   -999.0,9,2,     0.45,2,    0.121,    0.000,2,  -1.6116
  09AR20060102,  S04I,    99,  1,      4,      4,2,20060220,1050,-67.1807,  70.0058,  267,    120.0,  -1.5509,  34.4391,2,  34.4395,2,    314.6,2,    311.1,2,    64.90,2,    29.96,2,   2223.8,2,   -999.0,9,2,     0.55,2,    0.089,    0.000,2,  -1.5536
  09AR20060102,  S04I,    99,  1,      3,      3,2,20060220,1050,-67.1807,  70.0058,  267,    149.6,  -1.6540,  34.4538,2,  34.4546,2,    312.2,2,    313.1,2,    64.20,2,    30.10,2,   2217.5,2,   -999.0,9,2,     0.69,2,    0.056,    0.000,2,  -1.6573
  09AR20060102,  S04I,    99,  1,      2,      2,2,20060220,1050,-67.1807,  70.0058,  267,    200.9,  -1.7599,  34.4729,2,  34.4748,2,    309.8,2,    314.5,2,    64.30,2,    29.96,2,   2217.8,2,   -999.0,9,2,     0.86,2,   -0.022,    0.000,2,  -1.7642
  09AR20060102,  S04I,    99,  1,      1,      1,2,20060220,1050,-67.1807,  70.0058,  267,    260.1,  -1.6015,  34.4994,2,  34.4985,2,    309.4,2,    308.0,2,    66.80,2,    30.33,2,   2236.1,6,   -999.0,9,2,     0.91,2,   -0.031,    0.000,2,  -1.6076
  09AR20060102,  S04I,   100,  1,     24,     24,2,20060220,1817,-67.3133,  70.9912,  383,      9.2,  -1.2997,  33.6210,2,-999.0000,9,    377.2,2,   -999.0,9,  -999.00,9,  -999.00,9,   -999.0,9,   -999.0,9,2,     0.81,2,   19.198,    0.000,2,  -1.2999
  09AR20060102,  S04I,   100,  1,     23,     23,2,20060220,1817,-67.3133,  70.9912,  383,      9.1,  -1.2876,  33.6277,2,-999.0000,9,    377.2,2,   -999.0,9,  -999.00,9,  -999.00,9,   -999.0,9,   -999.0,9,2,     0.81,2,   18.466,    0.000,2,  -1.2878
  09AR20060102,  S04I,   100,  1,     22,     22,2,20060220,1817,-67.3133,  70.9912,  383,      9.1,  -1.2961,  33.6226,2,-999.0000,9,    377.2,2,   -999.0,9,  -999.00,9,  -999.00,9,   -999.0,9,   -999.0,9,2,     0.81,2,   19.362,    0.000,2,  -1.2963
  09AR20060102,  S04I,   100,  1,     21,     21,2,20060220,1817,-67.3133,  70.9912,  383,      9.1,  -1.2696,  33.6433,2,  33.6399,2,    377.2,2,    375.3,2,    17.90,2,    15.35,2,   2108.0,2,   -999.0,9,2,     0.82,2,   18.782,    0.000,2,  -1.2698
  09AR20060102,  S04I,   100,  1,     20,     20,2,20060220,1817,-67.3133,  70.9912,  383,     19.2,  -1.2705,  33.6438,2,-999.0000,9,    371.1,2,   -999.0,9,  -999.00,9,  -999.00,9,   -999.0,9,   -999.0,9,2,     0.82,2,   18.677,    0.000,2,  -1.2709
  09AR20060102,  S04I,   100,  1,     19,     19,2,20060220,1817,-67.3133,  70.9912,  383,     19.2,  -1.2694,  33.6424,2,  33.6471,2,    371.1,2,    373.8,2,    18.60,2,    15.49,2,   2112.3,2,   -999.0,9,2,     0.82,2,   19.375,    0.000,2,  -1.2698
  09AR20060102,  S04I,   100,  1,     18,     18,2,20060220,1817,-67.3133,  70.9912,  383,     29.5,  -1.2858,  33.6757,2,-999.0000,9,    361.7,2,   -999.0,9,  -999.00,9,  -999.00,9,   -999.0,9,   -999.0,9,2,     0.80,2,   12.557,    0.000,2,  -1.2865
  09AR20060102,  S04I,   100,  1,     17,     17,2,20060220,1817,-67.3133,  70.9912,  383,     29.5,  -1.2854,  33.6756,2,  33.6870,2,    361.7,2,    363.0,2,    24.60,2,    16.83,2,   -999.0,9,   -999.0,9,2,     0.86,2,   12.793,    0.000,2,  -1.2861
  09AR20060102,  S04I,   100,  1,     16,     16,2,20060220,1817,-67.3133,  70.9912,  383,     39.9,  -1.3962,  33.7502,2,-999.0000,9,    354.1,2,   -999.0,9,  -999.00,9,  -999.00,9,   -999.0,9,   -999.0,9,2,     0.92,2,    4.408,    0.000,2,  -1.3971
  09AR20060102,  S04I,   100,  1,     15,     15,2,20060220,1817,-67.3133,  70.9912,  383,     39.8,  -1.3754,  33.7403,2,  33.7466,2,    354.1,2,    352.6,2,    31.30,2,    18.51,2,   2147.0,2,   -999.0,9,2,     0.82,2,    5.471,    0.000,2,  -1.3763
  09AR20060102,  S04I,   100,  1,     14,     14,2,20060220,1817,-67.3133,  70.9912,  383,     49.1,  -1.4006,  33.8030,2,-999.0000,9,    345.9,2,   -999.0,9,  -999.00,9,  -999.00,9,   -999.0,9,   -999.0,9,2,     0.92,2,    3.177,    0.000,2,  -1.4017
  09AR20060102,  S04I,   100,  1,     13,     13,2,20060220,1817,-67.3133,  70.9912,  383,     49.0,  -1.4190,  33.8016,2,  33.7946,2,    347.9,2,    349.4,2,    33.70,2,    19.20,2,   -999.0,9,   -999.0,9,2,     0.91,2,    3.006,    0.000,2,  -1.4201
  09AR20060102,  S04I,   100,  1,     12,     12,2,20060220,1817,-67.3133,  70.9912,  383,     59.6,  -1.5690,  34.0155,2,  34.0040,2,    334.0,2,    339.4,2,    43.50,2,    22.55,2,   2181.9,2,   -999.0,9,2,     0.94,2,    1.892,    0.000,2,  -1.5702
  09AR20060102,  S04I,   100,  1,     11,     11,2,20060220,1817,-67.3133,  70.9912,  383,     69.5,  -1.7538,  34.2381,2,  34.2622,2,    328.8,2,    326.4,2,    58.50,2,    27.28,2,   -999.0,9,   -999.0,9,2,     0.96,2,    0.656,    0.000,2,  -1.7552
  09AR20060102,  S04I,   100,  1,     10,     10,2,20060220,1817,-67.3133,  70.9912,  383,     79.0,  -1.7536,  34.3102,2,  34.3268,2,    325.2,2,    324.0,2,    59.60,2,    27.77,2,   -999.0,9,   -999.0,9,2,     0.97,2,    0.606,    0.000,2,  -1.7552
  09AR20060102,  S04I,   100,  1,      9,      9,2,20060220,1817,-67.3133,  70.9912,  383,    100.2,  -1.8019,  34.3805,2,-999.0000,9,    322.7,2,   -999.0,9,  -999.00,9,  -999.00,9,   2220.0,2,   -999.0,9,2,     0.96,2,    0.204,    0.000,2,  -1.8039
  09AR20060102,  S04I,   100,  1,      8,      8,2,20060220,1817,-67.3133,  70.9912,  383,    108.7,  -1.8035,  34.3959,2,  34.3954,2,    322.9,2,    322.7,2,    61.30,2,    28.85,2,   -999.0,9,   -999.0,9,2,     0.93,2,    0.175,    0.000,2,  -1.8057
  09AR20060102,  S04I,   100,  1,      7,      7,2,20060220,1817,-67.3133,  70.9912,  383,    119.9,  -1.8040,  34.3976,2,  34.3982,2,    323.0,2,    322.3,2,    60.90,2,    28.74,2,   2231.1,2,   -999.0,9,2,     0.94,2,    0.191,    0.000,2,  -1.8064
  09AR20060102,  S04I,   100,  1,      6,      6,2,20060220,1817,-67.3133,  70.9912,  383,    139.6,  -1.8325,  34.4157,2,  34.4103,2,    322.8,2,    322.3,2,    61.40,2,    29.04,2,   -999.0,9,   -999.0,9,2,     0.98,2,    0.106,    0.000,2,  -1.8353
  09AR20060102,  S04I,   100,  1,      5,      5,2,20060220,1817,-67.3133,  70.9912,  383,    199.9,  -1.9326,  34.4423,2,  34.4428,2,    320.3,2,    320.8,2,    61.40,2,    29.55,2,   2228.4,2,   -999.0,9,2,     0.99,2,    0.018,    0.000,2,  -1.9366
  09AR20060102,  S04I,   100,  1,      4,      4,2,20060220,1817,-67.3133,  70.9912,  383,    250.0,  -1.9855,  34.4513,2,  34.4513,2,    319.7,2,    320.7,2,    62.00,2,    29.74,2,   -999.0,9,   -999.0,9,2,     0.98,2,   -0.002,    0.000,2,  -1.9905
  09AR20060102,  S04I,   100,  1,      3,      3,2,20060220,1817,-67.3133,  70.9912,  383,    298.3,  -2.0133,  34.4593,2,  34.4593,2,    319.9,2,    320.7,2,    61.90,2,    29.84,2,   -999.0,9,   -999.0,9,2,     0.99,2,   -0.006,    0.000,2,  -2.0193
  09AR20060102,  S04I,   100,  1,      2,      2,2,20060220,1817,-67.3133,  70.9912,  383,    350.9,  -2.0079,  34.4649,2,  34.4654,2,    320.4,2,    319.9,2,    63.20,2,    29.94,2,   -999.0,9,   -999.0,9,2,     0.99,2,   -0.005,    0.000,2,  -2.0152
  09AR20060102,  S04I,   100,  1,      1,      1,2,20060220,1817,-67.3133,  70.9912,  383,    389.4,  -2.0034,  34.4661,2,  34.4648,2,    321.1,2,    319.4,2,    63.50,2,    29.99,2,   -999.0,9,   -999.0,9,2,     0.98,2,    0.001,    0.000,2,  -2.0117
  09AR20060102,  S04I,   101,  1,     24,     24,2,20060220,2344,-67.3215,  71.9782,  565,      9.3,  -1.6114,  32.9864,2,  32.9958,2,    373.1,3,    376.3,2,    31.40,2,    19.57,2,   2089.1,2,   2237.6,2,2,     0.08,2,   12.583,    0.014,2,  -1.6116
  09AR20060102,  S04I,   101,  1,     23,     23,2,20060220,2344,-67.3215,  71.9782,  565,      9.3,  -1.6187,  32.9786,2,-999.0000,9,    373.1,3,   -999.0,9,  -999.00,9,  -999.00,9,   -999.0,9,   -999.0,9,2,     0.10,2,   12.270,    0.014,2,  -1.6189
  09AR20060102,  S04I,   101,  1,     22,     22,2,20060220,2344,-67.3215,  71.9782,  565,      9.3,  -1.6114,  32.9896,2,-999.0000,9,    373.1,3,   -999.0,9,  -999.00,9,  -999.00,9,   -999.0,9,   -999.0,9,2,     0.10,2,   12.569,    0.014,2,  -1.6116
  09AR20060102,  S04I,   101,  1,     21,     21,2,20060220,2344,-67.3215,  71.9782,  565,      9.2,  -1.6138,  32.9876,2,-999.0000,9,    373.1,3,   -999.0,9,  -999.00,9,  -999.00,9,   -999.0,9,   -999.0,9,2,     0.09,2,   11.867,    0.014,2,  -1.6140
  09AR20060102,  S04I,   101,  1,     20,     20,2,20060220,2344,-67.3215,  71.9782,  565,     19.7,  -1.5153,  33.1036,2,  33.1328,2,    375.4,2,    375.8,2,    31.10,2,    19.55,2,   2092.8,2,   -999.0,9,2,     0.17,2,   16.015,    0.001,2,  -1.5157
  09AR20060102,  S04I,   101,  1,     19,     19,2,20060220,2344,-67.3215,  71.9782,  565,     19.7,  -1.5703,  33.0404,2,-999.0000,9,    375.4,2,   -999.0,9,  -999.00,9,  -999.00,9,   -999.0,9,   -999.0,9,2,     0.16,2,   15.186,    0.001,2,  -1.5707
  09AR20060102,  S04I,   101,  1,     18,     18,2,20060220,2344,-67.3215,  71.9782,  565,     29.2,  -1.6997,  33.4513,2,  33.6327,2,    358.1,2,    354.2,2,    40.10,2,    22.34,2,   2149.3,2,   -999.0,9,2,     0.31,2,   21.904,    0.000,2,  -1.7002
  09AR20060102,  S04I,   101,  1,     17,     17,2,20060220,2344,-67.3215,  71.9782,  565,     29.1,  -1.6721,  33.4248,2,-999.0000,9,    358.1,2,   -999.0,9,  -999.00,9,  -999.00,9,   -999.0,9,   -999.0,9,2,     0.28,2,   22.075,    0.000,2,  -1.6726
  09AR20060102,  S04I,   101,  1,     16,     16,2,20060220,2344,-67.3215,  71.9782,  565,     59.9,  -1.6965,  34.3126,2,  34.3102,2,    321.0,2,    320.6,2,    59.30,2,    28.51,2,   2211.0,2,   -999.0,9,2,     0.59,2,    1.700,    0.000,2,  -1.6977
  09AR20060102,  S04I,   101,  1,     15,     15,2,20060220,2344,-67.3215,  71.9782,  565,     59.6,  -1.6981,  34.3112,2,-999.0000,9,    321.0,2,   -999.0,9,  -999.00,9,  -999.00,9,   -999.0,9,   -999.0,9,2,     0.64,2,    1.696,    0.000,2,  -1.6993
  09AR20060102,  S04I,   101,  1,     14,     14,2,20060220,2344,-67.3215,  71.9782,  565,     79.5,  -1.7225,  34.3394,2,  34.3390,2,    314.7,2,    316.6,2,    60.50,2,    29.11,2,   2211.5,2,   -999.0,9,2,     0.78,2,    0.375,    0.000,2,  -1.7241
  09AR20060102,  S04I,   101,  1,     13,     13,2,20060220,2344,-67.3215,  71.9782,  565,     79.4,  -1.7223,  34.3396,2,-999.0000,9,    314.7,2,   -999.0,9,  -999.00,9,  -999.00,9,   -999.0,9,   -999.0,9,2,     0.79,2,    0.406,    0.000,2,  -1.7239
  09AR20060102,  S04I,   101,  1,     12,     12,2,20060220,2344,-67.3215,  71.9782,  565,    100.9,  -1.6752,  34.3789,2,  34.3776,2,    313.8,2,    314.3,2,    61.90,2,    29.27,2,   2223.9,2,   -999.0,9,2,     0.97,2,    0.116,    0.000,2,  -1.6773
  09AR20060102,  S04I,   101,  1,     11,     11,2,20060220,2344,-67.3215,  71.9782,  565,    100.9,  -1.6765,  34.3785,2,-999.0000,9,    313.8,2,   -999.0,9,  -999.00,9,  -999.00,9,   -999.0,9,   -999.0,9,2,     0.94,2,    0.113,    0.000,2,  -1.6786
  09AR20060102,  S04I,   101,  1,     10,     10,2,20060220,2344,-67.3215,  71.9782,  565,    100.9,  -1.6770,  34.3785,2,-999.0000,9,    313.8,2,   -999.0,9,  -999.00,9,  -999.00,9,   -999.0,9,   -999.0,9,2,     0.91,2,    0.089,    0.000,2,  -1.6791
  09AR20060102,  S04I,   101,  1,      9,      9,2,20060220,2344,-67.3215,  71.9782,  565,    100.9,  -1.6764,  34.3786,2,-999.0000,9,    313.8,2,   -999.0,9,  -999.00,9,  -999.00,9,   -999.0,9,   -999.0,9,2,     0.89,2,    0.112,    0.000,2,  -1.6785
  09AR20060102,  S04I,   101,  1,      8,      8,2,20060220,2344,-67.3215,  71.9782,  565,    100.9,  -1.6750,  34.3787,2,-999.0000,9,    313.8,2,   -999.0,9,  -999.00,9,  -999.00,9,   -999.0,9,   -999.0,9,2,     0.87,2,    0.098,    0.000,2,  -1.6771
  09AR20060102,  S04I,   101,  1,      7,      7,2,20060220,2344,-67.3215,  71.9782,  565,    100.7,  -1.6738,  34.3788,2,-999.0000,9,    313.8,2,   -999.0,9,  -999.00,9,  -999.00,9,   -999.0,9,   -999.0,9,2,     0.83,2,    0.106,    0.000,2,  -1.6759
  09AR20060102,  S04I,   101,  1,      6,      6,2,20060220,2344,-67.3215,  71.9782,  565,    139.9,  -1.6277,  34.4285,2,  34.4297,2,    314.0,2,    313.9,2,    64.30,2,    29.65,2,   2221.3,2,   -999.0,9,2,     0.97,2,    0.049,    0.000,2,  -1.6308
  09AR20060102,  S04I,   101,  1,      5,      5,2,20060220,2344,-67.3215,  71.9782,  565,    170.4,  -1.6820,  34.4528,2,  34.4550,2,    313.2,2,    312.6,2,    64.50,2,    29.81,2,   2223.3,2,   -999.0,9,2,     0.99,2,    0.033,    0.000,2,  -1.6857
  09AR20060102,  S04I,   101,  1,      4,      4,2,20060220,2344,-67.3215,  71.9782,  565,    298.6,  -1.6503,  34.4934,2,  34.4921,2,    313.3,2,    312.2,2,    65.90,2,    30.05,2,   2227.4,2,   -999.0,9,2,     0.99,2,   -0.038,    0.000,2,  -1.6573
  09AR20060102,  S04I,   101,  1,      3,      3,2,20060220,2344,-67.3215,  71.9782,  565,    399.2,  -1.8414,  34.5174,2,  34.5185,2,    315.4,2,    317.2,2,    64.10,2,    30.03,2,   2232.5,2,   -999.0,9,2,     0.99,2,   -0.047,    0.000,2,  -1.8505
  09AR20060102,  S04I,   101,  1,      2,      2,2,20060220,2344,-67.3215,  71.9782,  565,    540.2,  -1.8856,  34.5962,2,  34.5966,2,    317.5,2,    317.8,2,    66.40,2,    30.23,2,   2240.5,2,   -999.0,9,2,     0.99,2,   -0.040,    0.000,2,  -1.8986
  09AR20060102,  S04I,   101,  1,      1,      1,2,20060220,2344,-67.3215,  71.9782,  565,    570.1,  -1.8874,  34.6036,2,  34.6026,2,    317.4,2,    317.6,2,    66.80,2,    30.04,2,   2239.1,6,   -999.0,9,2,     0.98,2,   -0.038,    0.000,2,  -1.9012