BOTTLE,20220816CCHSIOAMB
EXPOCODE,SECT_ID,STNNBR,CASTNO,SAMPNO,BTLNBR,BTLNBR_FLAG_W,DATE,TIME,LATITUDE,LONGITUDE,DEPTH,CTDPRS,CTDTMP,CTDSAL,CTDSAL_FLAG_W,SALNTY,SALNTY_FLAG_W,CTDOXY,CTDOXY_FLAG_W,OXYGEN,OXYGEN_FLAG_W,SILCAT,SILCAT_FLAG_W,NITRAT,NITRAT_FLAG_W,TCARBN,TCARBN_FLAG_W,ALKALI,ALKALI_FLAG_W,FLUOR_FLAG_W,XMISS,XMISS_FLAG_W,FLUOR,PAR,PAR_FLAG_W,THETA
,,,,,,,,,,,METERS,DBAR,ITS-90,PSS-78,,PSS-78,,UMOL/KG,,UMOL/KG,,UMOL/KG,,UMOL/KG,,UMOL/KG,,UMOL/KG,,,%TRANS,,VOLTS,VOLTS,,DEG C
  09AR20060102,  S04I,   111,  1,     24,     24,2,20060226,1941,-65.5047,  80.0020, 3221,      8.9,   0.3894,  33.7562,2,  33.7571,2,    338.1,2,    338.0,2,    50.10,2,    27.20,2,   2169.6,2,   -999.0,9,2,     0.02,2,    1.248,    0.000,2,   0.3891
  09AR20060102,  S04I,   111,  1,     23,     23,2,20060226,1941,-65.5047,  80.0020, 3221,     39.5,   0.4622,  33.7947,2,-999.0000,9,    337.0,2,   -999.0,9,  -999.00,9,  -999.00,9,   -999.0,9,   -999.0,9,2,     0.76,2,    1.662,    0.000,2,   0.4607
  09AR20060102,  S04I,   111,  1,     22,     22,2,20060226,1941,-65.5047,  80.0020, 3221,     39.5,   0.4611,  33.7942,2,-999.0000,9,    337.0,2,   -999.0,9,  -999.00,9,  -999.00,9,   -999.0,9,   -999.0,9,2,     0.79,2,    1.658,    0.000,2,   0.4596
  09AR20060102,  S04I,   111,  1,     21,     21,2,20060226,1941,-65.5047,  80.0020, 3221,     39.4,   0.4616,  33.7948,2,  33.7978,2,    337.0,2,    337.0,2,    51.80,2,    27.25,2,   2167.4,2,   -999.0,9,2,     0.76,2,    1.653,    0.000,2,   0.4601
  09AR20060102,  S04I,   111,  1,     20,     20,2,20060226,1941,-65.5047,  80.0020, 3221,     59.2,  -1.0438,  34.0004,2,  33.9927,2,    333.6,2,    335.4,2,    56.10,2,    27.53,2,   -999.0,9,   -999.0,9,2,     0.94,2,    3.104,    0.000,2,  -1.0453
  09AR20060102,  S04I,   111,  1,     19,     19,2,20060226,1941,-65.5047,  80.0020, 3221,     69.8,  -1.3648,  34.1287,2,  34.1297,2,    321.0,2,    314.3,2,    59.00,2,    28.96,2,   2197.9,2,   -999.0,9,2,     0.96,2,    2.180,    0.000,2,  -1.3664
  09AR20060102,  S04I,   111,  1,     18,     18,2,20060226,1941,-65.5047,  80.0020, 3221,     77.9,  -1.5463,  34.1845,2,  34.1806,2,    312.5,2,    306.9,2,    63.50,2,    29.44,2,   -999.0,9,   -999.0,9,2,     0.97,2,    1.451,    0.000,2,  -1.5480
  09AR20060102,  S04I,   111,  1,     17,     17,2,20060226,1941,-65.5047,  80.0020, 3221,     87.9,  -1.6090,  34.2082,2,  34.2082,2,    306.0,2,    305.9,2,    63.10,2,    29.57,2,   2208.9,2,   -999.0,9,2,     0.98,2,    1.045,    0.000,2,  -1.6109
  09AR20060102,  S04I,   111,  1,     16,     16,2,20060226,1941,-65.5047,  80.0020, 3221,     99.6,  -1.7080,  34.2539,2,  34.2538,2,    305.7,2,    307.4,2,    64.20,2,    29.62,2,   -999.0,9,   -999.0,9,2,     0.99,2,    0.372,    0.000,2,  -1.7100
  09AR20060102,  S04I,   111,  1,     15,     15,2,20060226,1941,-65.5047,  80.0020, 3221,    119.3,  -1.7139,  34.2757,2,  34.2755,2,    303.4,2,    304.6,2,    65.60,2,    29.88,2,   2215.6,2,   -999.0,9,2,     0.99,2,    0.231,    0.000,2,  -1.7164
  09AR20060102,  S04I,   111,  1,     14,     14,2,20060226,1941,-65.5047,  80.0020, 3221,    149.6,  -1.6510,  34.3073,2,  34.3094,2,    301.5,2,    303.3,2,    65.40,2,    29.98,2,   2215.8,2,   -999.0,9,2,     0.99,2,    0.098,    0.000,2,  -1.6542
  09AR20060102,  S04I,   111,  1,     13,     13,2,20060226,1941,-65.5047,  80.0020, 3221,    200.4,  -1.4256,  34.3610,2,  34.3607,2,    292.2,2,    296.3,2,    67.30,2,    30.10,2,   2223.1,2,   -999.0,9,2,     0.99,2,   -0.014,    0.000,2,  -1.4305
  09AR20060102,  S04I,   111,  1,     12,     12,2,20060226,1941,-65.5047,  80.0020, 3221,    299.3,  -0.5333,  34.4736,2,  34.4732,2,    258.3,2,    265.5,2,    79.50,2,    30.67,2,   -999.0,9,   -999.0,9,2,     0.99,2,   -0.045,    0.000,2,  -0.5432
  09AR20060102,  S04I,   111,  1,     11,     11,2,20060226,1941,-65.5047,  80.0020, 3221,    400.0,   0.0462,  34.5688,2,  34.5672,2,    229.5,2,    242.3,3,    82.30,2,    30.61,2,   -999.0,9,   -999.0,9,2,     0.99,2,   -0.041,    0.000,2,   0.0306
  09AR20060102,  S04I,   111,  1,     10,     10,2,20060226,1941,-65.5047,  80.0020, 3221,    602.4,   1.1123,  34.7178,2,  34.7182,2,    204.5,2,    203.4,2,    95.80,2,    30.49,2,   -999.0,9,   -999.0,9,2,     0.99,2,   -0.045,    0.000,2,   1.0822
  09AR20060102,  S04I,   111,  1,      9,      9,2,20060226,1941,-65.5047,  80.0020, 3221,    800.3,   0.8725,  34.7071,2,  34.7072,2,    207.6,2,    206.4,2,   109.00,2,    31.26,2,   -999.0,9,   -999.0,9,2,     0.99,2,   -0.042,    0.000,2,   0.8328
  09AR20060102,  S04I,   111,  1,      8,      8,2,20060226,1941,-65.5047,  80.0020, 3221,    998.5,   0.6292,  34.6958,2,  34.6958,2,    211.1,2,    210.8,2,   108.20,2,    31.14,2,   -999.0,9,   -999.0,9,2,     0.99,2,   -0.043,    0.000,2,   0.5799
  09AR20060102,  S04I,   111,  1,      7,      7,2,20060226,1941,-65.5047,  80.0020, 3221,   1249.3,   0.4342,  34.6884,2,  34.6884,2,    214.7,2,    214.4,2,   114.00,2,    31.38,2,   -999.0,9,   -999.0,9,2,     0.99,2,   -0.045,    0.000,2,   0.3718
  09AR20060102,  S04I,   111,  1,      6,      6,2,20060226,1941,-65.5047,  80.0020, 3221,   1500.3,   0.2746,  34.6833,2,  34.6837,2,    217.1,2,    217.2,2,   121.10,2,    31.41,2,   -999.0,9,   -999.0,9,2,     0.99,2,   -0.048,    0.000,2,   0.1984
  09AR20060102,  S04I,   111,  1,      5,      5,2,20060226,1941,-65.5047,  80.0020, 3221,   1749.3,   0.1667,  34.6792,2,  34.6797,2,    220.6,2,    220.7,2,   118.20,2,    31.57,2,   -999.0,9,   -999.0,9,2,     0.99,2,   -0.051,    0.000,2,   0.0756
  09AR20060102,  S04I,   111,  1,      4,      4,2,20060226,1941,-65.5047,  80.0020, 3221,   2001.8,   0.1076,  34.6784,2,  34.6782,2,    220.3,2,    220.0,2,   124.10,2,    31.83,2,   -999.0,9,   -999.0,9,2,     0.99,2,   -0.046,    0.000,2,   0.0000
  09AR20060102,  S04I,   111,  1,      3,      3,2,20060226,1941,-65.5047,  80.0020, 3221,   2499.0,  -0.0393,  34.6732,2,  34.6735,2,    226.6,2,    226.9,2,   131.70,2,    31.57,2,   -999.0,9,   -999.0,9,2,     0.99,2,   -0.048,    0.000,2,  -0.1811
  09AR20060102,  S04I,   111,  1,      2,      2,2,20060226,1941,-65.5047,  80.0020, 3221,   2998.5,  -0.1417,  34.6689,2,  34.6684,2,    231.6,2,    232.0,2,   124.50,2,    31.57,2,   -999.0,9,   -999.0,9,2,     0.99,2,   -0.050,    0.000,2,  -0.3218
  09AR20060102,  S04I,   111,  1,      1,      1,2,20060226,1941,-65.5047,  80.0020, 3221,   3273.8,  -0.1884,  34.6654,2,  34.6642,2,    233.2,2,    233.2,2,   129.50,2,    31.57,2,   -999.0,9,   -999.0,9,2,     0.99,2,   -0.049,    0.000,2,  -0.3911
  09AR20060102,  S04I,   112,  1,     24,     24,2,20060227,0149,-65.8188,  79.9940, 2223,      9.5,  -0.5775,  33.4877,2,  33.4951,2,    346.2,2,    346.6,2,    53.60,2,    25.57,2,   2143.0,2,   2265.2,6,2,     0.96,2,    0.358,    0.464,2,  -0.5778
  09AR20060102,  S04I,   112,  1,     23,     23,2,20060227,0149,-65.8188,  79.9940, 2223,     29.3,  -0.6817,  33.6428,2,-999.0000,9,    345.3,2,   -999.0,9,  -999.00,9,  -999.00,9,   -999.0,9,   -999.0,9,2,     0.95,2,    1.534,    0.095,2,  -0.6825
  09AR20060102,  S04I,   112,  1,     22,     22,2,20060227,0149,-65.8188,  79.9940, 2223,     29.3,  -0.7198,  33.6544,2,-999.0000,9,    345.3,2,   -999.0,9,  -999.00,9,  -999.00,9,   -999.0,9,   -999.0,9,2,     0.95,2,    1.648,    0.099,2,  -0.7206
  09AR20060102,  S04I,   112,  1,     21,     21,2,20060227,0149,-65.8188,  79.9940, 2223,     29.3,  -0.7580,  33.6603,2,  33.6669,2,    345.3,2,    346.3,2,    51.30,2,    25.97,2,   2158.2,2,   2274.2,2,2,     0.95,2,    1.648,    0.104,2,  -0.7588
  09AR20060102,  S04I,   112,  1,     20,     20,2,20060227,0149,-65.8188,  79.9940, 2223,     39.2,  -1.2444,  33.9019,2,  33.8822,2,    342.8,2,    343.7,2,    52.40,2,    26.61,2,   2168.4,2,   2288.5,2,2,     0.96,2,    2.552,    0.046,2,  -1.2453
  09AR20060102,  S04I,   112,  1,     19,     19,2,20060227,0149,-65.8188,  79.9940, 2223,     44.5,  -1.3235,  33.9207,2,  33.9067,2,    343.1,2,    343.6,2,    51.90,2,    26.62,2,   2170.5,2,   2292.4,2,2,     0.96,2,    2.956,    0.032,2,  -1.3245
  09AR20060102,  S04I,   112,  1,     18,     18,2,20060227,0149,-65.8188,  79.9940, 2223,     49.1,  -1.4570,  33.9847,2,  33.9827,2,    341.2,2,    340.5,2,    52.70,2,    27.00,2,   2181.4,2,   2296.9,2,2,     0.96,2,    2.667,    0.020,2,  -1.4581
  09AR20060102,  S04I,   112,  1,     17,     17,2,20060227,0149,-65.8188,  79.9940, 2223,     59.5,  -1.5965,  34.0873,2,  34.0878,2,    332.5,2,    334.3,2,    55.30,2,    27.69,2,   2197.0,2,   2301.1,2,2,     0.96,2,    2.947,    0.007,2,  -1.5977
  09AR20060102,  S04I,   112,  1,     16,     16,2,20060227,0149,-65.8188,  79.9940, 2223,     69.1,  -1.6684,  34.1527,2,  34.1512,2,    326.4,2,    328.6,2,    57.90,2,    28.29,2,   2196.5,2,   2307.0,2,2,     0.96,2,    2.431,    0.002,2,  -1.6698
  09AR20060102,  S04I,   112,  1,     15,     15,2,20060227,0149,-65.8188,  79.9940, 2223,     89.6,  -1.7642,  34.2310,2,  34.2311,2,    321.6,2,    321.2,2,    61.00,2,    29.13,2,   2208.6,2,   2311.6,2,2,     0.98,2,    0.822,    0.000,2,  -1.7660
  09AR20060102,  S04I,   112,  1,     14,     14,2,20060227,0149,-65.8188,  79.9940, 2223,    119.4,  -1.7921,  34.2650,2,  34.2655,2,    319.7,2,    318.6,2,    62.00,2,    29.48,2,   2213.8,2,   2312.9,2,2,     0.99,2,    0.097,    0.000,2,  -1.7945
  09AR20060102,  S04I,   112,  1,     13,     13,2,20060227,0149,-65.8188,  79.9940, 2223,    140.1,  -1.7938,  34.2778,2,  34.2771,2,    318.5,2,    318.0,2,    61.80,2,    29.56,2,   2213.5,2,   2313.5,2,2,     0.99,2,    0.032,    0.000,2,  -1.7966
  09AR20060102,  S04I,   112,  1,     12,     12,2,20060227,0149,-65.8188,  79.9940, 2223,    200.3,  -1.7686,  34.3072,2,  34.3065,2,    316.0,2,    315.9,2,    63.50,2,    29.85,2,   2213.9,2,   2318.0,2,2,     0.99,2,   -0.007,    0.000,2,  -1.7728
  09AR20060102,  S04I,   112,  1,     11,     11,2,20060227,0149,-65.8188,  79.9940, 2223,    299.8,  -1.6833,  34.3554,2,  34.3560,2,    312.4,2,    312.1,2,    65.70,2,    29.92,2,   2224.7,2,   2320.1,2,2,     0.99,2,   -0.038,    0.000,2,  -1.6902
  09AR20060102,  S04I,   112,  1,     10,     10,2,20060227,0149,-65.8188,  79.9940, 2223,    400.1,  -1.1116,  34.4329,2,  34.4381,2,    280.6,2,    285.9,2,    71.50,2,    30.28,2,   2226.6,2,   2325.2,2,2,     0.99,2,   -0.046,    0.000,2,  -1.1232
  09AR20060102,  S04I,   112,  1,      9,      9,2,20060227,0149,-65.8188,  79.9940, 2223,    499.9,   0.3240,  34.6103,2,  34.6093,2,    230.9,2,    231.4,2,    86.80,2,    30.87,2,   2246.0,2,   2338.1,2,2,     0.99,2,   -0.036,    0.000,2,   0.3028
  09AR20060102,  S04I,   112,  1,      8,      8,2,20060227,0149,-65.8188,  79.9940, 2223,    599.9,   0.7686,  34.6758,2,  34.6764,2,    212.5,2,    213.7,2,    98.50,2,    30.84,2,   2249.1,2,   2346.3,2,2,     0.99,2,   -0.038,    0.000,2,   0.7404
  09AR20060102,  S04I,   112,  1,      7,      7,2,20060227,0149,-65.8188,  79.9940, 2223,    799.9,   0.7627,  34.6995,2,  34.6996,2,    209.0,2,    209.3,2,   107.90,2,    31.04,2,   2260.9,2,   2349.3,2,2,     0.99,2,   -0.041,    0.000,2,   0.7237
  09AR20060102,  S04I,   112,  1,      6,      6,2,20060227,0149,-65.8188,  79.9940, 2223,    999.7,   0.5891,  34.6946,2,  34.6945,2,    211.2,2,    211.1,2,   109.70,2,    31.35,2,   2265.8,6,   2356.6,3,2,     0.99,2,   -0.047,    0.000,2,   0.5401
  09AR20060102,  S04I,   112,  1,      5,      5,2,20060227,0149,-65.8188,  79.9940, 2223,   1300.1,   0.3956,  34.6873,2,  34.6866,2,    215.4,2,    215.0,2,   113.80,2,    31.43,2,   2259.1,2,   2350.4,2,2,     0.99,2,   -0.047,    0.000,2,   0.3305
  09AR20060102,  S04I,   112,  1,      4,      4,2,20060227,0149,-65.8188,  79.9940, 2223,   1701.1,   0.2032,  34.6803,2,  34.6799,2,    219.0,2,    219.9,2,   116.30,2,    31.57,2,   2269.8,2,   2351.4,6,2,     0.99,2,   -0.047,    0.000,2,   0.1148
  09AR20060102,  S04I,   112,  1,      3,      3,2,20060227,0149,-65.8188,  79.9940, 2223,   2000.1,   0.1291,  34.6774,2,  34.6764,2,    224.3,2,    222.8,2,   117.60,2,    31.52,2,   2263.8,2,   2350.1,2,2,     0.99,2,   -0.045,    0.000,2,   0.0213
  09AR20060102,  S04I,   112,  1,      2,      2,2,20060227,0149,-65.8188,  79.9940, 2223,   2219.6,   0.0991,  34.6761,2,  34.6760,2,    223.6,2,    223.6,2,   118.30,2,    31.53,2,   2259.9,2,   2350.0,6,2,     0.99,2,   -0.048,    0.000,2,  -0.0241
  09AR20060102,  S04I,   112,  1,      1,      1,2,20060227,0149,-65.8188,  79.9940, 2223,   2245.2,   0.1046,  34.6762,2,  34.6760,2,    223.6,2,    223.3,2,   116.80,2,    31.48,2,   2261.7,6,   2351.1,2,2,     0.99,2,   -0.047,    0.000,2,  -0.0206
  09AR20060102,  S04I,   113,  1,     24,     24,2,20060227,0532,-65.8517,  79.9993, 1962,      9.0,  -0.5664,  33.4860,2,  33.4869,2,    351.5,2,    349.9,2,    51.30,2,    25.25,2,   2143.3,2,   -999.0,9,2,     0.95,2,    0.117,    0.675,2,  -0.5667
  09AR20060102,  S04I,   113,  1,     23,     23,2,20060227,0532,-65.8517,  79.9993, 1962,      9.0,  -0.5677,  33.4857,2,-999.0000,9,    351.5,2,   -999.0,9,  -999.00,9,  -999.00,9,   -999.0,9,   -999.0,9,2,     0.95,2,    0.097,    0.786,2,  -0.5680
  09AR20060102,  S04I,   113,  1,     22,     22,2,20060227,0532,-65.8517,  79.9993, 1962,      8.9,  -0.5668,  33.4855,2,-999.0000,9,    351.4,2,   -999.0,9,  -999.00,9,  -999.00,9,   -999.0,9,   -999.0,9,2,     0.73,2,    0.101,    0.813,2,  -0.5671
  09AR20060102,  S04I,   113,  1,     21,     21,2,20060227,0532,-65.8517,  79.9993, 1962,     19.1,  -0.5884,  33.4854,2,  33.4863,2,    351.1,2,    349.5,2,    49.80,2,    25.17,2,   -999.0,9,   -999.0,9,2,     0.94,2,    0.225,    0.340,2,  -0.5889
  09AR20060102,  S04I,   113,  1,     20,     20,2,20060227,0532,-65.8517,  79.9993, 1962,     28.9,  -0.6284,  33.4896,2,  33.4939,2,    351.0,2,    349.9,2,    49.30,2,    25.14,2,   2151.0,2,   -999.0,9,2,     0.95,2,    0.559,    0.172,2,  -0.6292
  09AR20060102,  S04I,   113,  1,     19,     19,2,20060227,0532,-65.8517,  79.9993, 1962,     39.4,  -0.7770,  33.6382,2,  33.6610,2,    348.2,2,    349.2,2,    49.20,2,    25.71,2,   -999.0,9,   -999.0,9,2,     0.68,2,    1.786,    0.092,2,  -0.7781
  09AR20060102,  S04I,   113,  1,     18,     18,2,20060227,0532,-65.8517,  79.9993, 1962,     49.7,  -1.3963,  33.9613,2,  33.9978,2,    339.8,2,    340.6,2,    52.70,2,    27.05,2,   2183.2,2,   -999.0,9,2,     0.94,2,    3.924,    0.036,2,  -1.3974
  09AR20060102,  S04I,   113,  1,     17,     17,2,20060227,0532,-65.8517,  79.9993, 1962,     59.6,  -1.6812,  34.1551,2,  34.1508,2,    329.2,2,    330.9,2,    57.10,2,    28.26,2,   -999.0,9,   -999.0,9,2,     0.96,2,    2.616,    0.013,2,  -1.6824
  09AR20060102,  S04I,   113,  1,     16,     16,2,20060227,0532,-65.8517,  79.9993, 1962,     70.6,  -1.7465,  34.2185,2,  34.2164,2,    323.6,2,    323.5,2,    60.00,2,    28.88,2,   2208.0,2,   -999.0,9,2,     0.98,2,    0.978,    0.006,2,  -1.7479
  09AR20060102,  S04I,   113,  1,     15,     15,2,20060227,0532,-65.8517,  79.9993, 1962,     77.8,  -1.7574,  34.2299,2,  34.2311,2,    321.6,2,    321.5,2,    59.90,2,    28.99,2,   -999.0,9,   -999.0,9,2,     0.98,2,    0.880,    0.004,2,  -1.7589
  09AR20060102,  S04I,   113,  1,     14,     14,2,20060227,0532,-65.8517,  79.9993, 1962,     89.2,  -1.7780,  34.2597,2,  34.2603,2,    320.1,2,    317.2,2,    65.60,2,    29.50,2,   2213.1,2,   -999.0,9,2,     0.99,2,    0.159,    0.002,2,  -1.7798
  09AR20060102,  S04I,   113,  1,     13,     13,2,20060227,0532,-65.8517,  79.9993, 1962,    119.4,  -1.7949,  34.2748,2,  34.2747,2,    317.1,2,    318.6,2,    62.20,2,    29.53,2,   2224.1,2,   -999.0,9,2,     0.99,2,    0.044,    0.000,2,  -1.7973
  09AR20060102,  S04I,   113,  1,     12,     12,2,20060227,0532,-65.8517,  79.9993, 1962,    149.7,  -1.7802,  34.2878,2,  34.2877,2,    317.3,2,    316.0,2,    63.70,2,    29.69,2,   2217.6,2,   -999.0,9,2,     0.99,2,    0.027,    0.000,2,  -1.7833
  09AR20060102,  S04I,   113,  1,     11,     11,2,20060227,0532,-65.8517,  79.9993, 1962,    199.7,  -1.7654,  34.3074,2,  34.3077,2,    314.8,2,    315.3,2,    63.70,2,    29.66,2,   2218.5,2,   -999.0,9,2,     0.99,2,   -0.015,    0.000,2,  -1.7696
  09AR20060102,  S04I,   113,  1,     10,     10,2,20060227,0532,-65.8517,  79.9993, 1962,    300.3,  -1.6675,  34.3690,2,  34.3674,2,    311.4,2,    312.8,2,    66.30,2,    29.76,2,   -999.0,9,   -999.0,9,2,     0.99,2,   -0.043,    0.000,2,  -1.6744
  09AR20060102,  S04I,   113,  1,      9,      9,2,20060227,0532,-65.8517,  79.9993, 1962,    399.6,  -1.2442,  34.4181,2,  34.4246,2,    295.7,2,    291.1,2,    70.00,2,    30.15,2,   -999.0,9,   -999.0,9,2,     0.99,2,   -0.042,    0.000,2,  -1.2553
  09AR20060102,  S04I,   113,  1,      8,      8,2,20060227,0532,-65.8517,  79.9993, 1962,    500.1,   0.0995,  34.5810,2,  34.5824,2,    252.8,2,    239.2,3,    82.90,2,    30.65,2,   -999.0,9,   -999.0,9,2,     0.99,2,   -0.038,    0.000,2,   0.0793
  09AR20060102,  S04I,   113,  1,      7,      7,2,20060227,0532,-65.8517,  79.9993, 1962,    700.4,   0.8369,  34.6946,2,  34.6949,2,    209.7,2,    209.4,2,    97.80,2,    30.77,2,   -999.0,9,   -999.0,9,2,     0.99,2,   -0.041,    0.000,2,   0.8029
  09AR20060102,  S04I,   113,  1,      6,      6,2,20060227,0532,-65.8517,  79.9993, 1962,    899.8,   0.6731,  34.6976,2,  34.6976,2,    209.6,2,    210.0,2,   105.80,2,    31.11,2,   -999.0,9,   -999.0,9,2,     0.99,2,   -0.041,    0.000,2,   0.6291
  09AR20060102,  S04I,   113,  1,      5,      5,2,20060227,0532,-65.8517,  79.9993, 1962,   1099.2,   0.5649,  34.6936,2,  34.6939,2,    211.9,2,    211.7,2,   109.20,2,    31.28,2,   -999.0,9,   -999.0,9,2,     0.99,2,   -0.045,    0.000,2,   0.5103
  09AR20060102,  S04I,   113,  1,      4,      4,2,20060227,0532,-65.8517,  79.9993, 1962,   1299.8,   0.4041,  34.6879,2,  34.6878,2,    214.4,2,    215.0,2,   112.10,2,    31.44,2,   -999.0,9,   -999.0,9,2,     0.99,2,   -0.042,    0.000,2,   0.3389
  09AR20060102,  S04I,   113,  1,      3,      3,2,20060227,0532,-65.8517,  79.9993, 1962,   1599.3,   0.2404,  34.6817,2,  34.6811,2,    218.6,2,    219.0,2,   114.90,2,    31.59,2,   -999.0,9,   -999.0,9,2,     0.99,2,   -0.047,    0.000,2,   0.1582
  09AR20060102,  S04I,   113,  1,      2,      2,2,20060227,0532,-65.8517,  79.9993, 1962,   1999.4,   0.1380,  34.6778,2,  34.6778,2,    222.0,2,    222.1,2,   130.80,2,    31.64,2,   -999.0,9,   -999.0,9,2,     0.99,2,   -0.047,    0.000,2,   0.0301
  09AR20060102,  S04I,   113,  1,      1,      1,2,20060227,0532,-65.8517,  79.9993, 1962,   2020.4,   0.1380,  34.6778,2,  34.6766,2,    222.0,2,    222.1,2,   119.10,2,    31.60,2,   -999.0,9,   -999.0,9,2,     0.99,2,   -0.048,    0.000,2,   0.0286