BOTTLE,20220816CCHSIOAMB
EXPOCODE,SECT_ID,STNNBR,CASTNO,SAMPNO,BTLNBR,BTLNBR_FLAG_W,DATE,TIME,LATITUDE,LONGITUDE,DEPTH,CTDPRS,CTDTMP,CTDSAL,CTDSAL_FLAG_W,SALNTY,SALNTY_FLAG_W,CTDOXY,CTDOXY_FLAG_W,OXYGEN,OXYGEN_FLAG_W,SILCAT,SILCAT_FLAG_W,NITRAT,NITRAT_FLAG_W,TCARBN,TCARBN_FLAG_W,ALKALI,ALKALI_FLAG_W,FLUOR_FLAG_W,XMISS,XMISS_FLAG_W,FLUOR,PAR,PAR_FLAG_W,THETA
,,,,,,,,,,,METERS,DBAR,ITS-90,PSS-78,,PSS-78,,UMOL/KG,,UMOL/KG,,UMOL/KG,,UMOL/KG,,UMOL/KG,,UMOL/KG,,,%TRANS,,VOLTS,VOLTS,,DEG C
  09AR20060102,  S04I,    87,  1,     24,     24,2,20060217,1003,-62.6673,  70.0002, 4036,      9.1,   0.5738,  33.6271,2,  33.6274,2,    342.2,2,    342.0,2,    27.50,2,  -999.00,9,   2131.9,2,   2276.7,2,2,     0.93,2,    2.320,    0.046,2,   0.5735
  09AR20060102,  S04I,    87,  1,     23,     23,2,20060217,1003,-62.6673,  70.0002, 4036,      9.0,   0.5747,  33.6271,2,-999.0000,9,    342.2,2,   -999.0,9,  -999.00,9,  -999.00,9,   -999.0,9,   -999.0,9,2,     0.93,2,    2.332,    0.047,2,   0.5744
  09AR20060102,  S04I,    87,  1,     22,     22,2,20060217,1003,-62.6673,  70.0002, 4036,      8.9,   0.5757,  33.6275,2,-999.0000,9,    342.2,2,   -999.0,9,  -999.00,9,  -999.00,9,   -999.0,9,   -999.0,9,2,     0.93,2,    2.374,    0.049,2,   0.5754
  09AR20060102,  S04I,    87,  1,     21,     21,2,20060217,1003,-62.6673,  70.0002, 4036,     24.5,   0.5727,  33.6279,2,  33.6292,2,    342.0,2,    341.8,2,    27.60,2,  -999.00,9,   2138.6,6,   -999.0,9,2,     0.93,2,    2.564,    0.012,2,   0.5718
  09AR20060102,  S04I,    87,  1,     20,     20,2,20060217,1003,-62.6673,  70.0002, 4036,     39.0,   0.5360,  33.6302,2,  33.6311,2,    340.6,2,    341.2,2,    27.60,2,  -999.00,9,   2138.1,2,   -999.0,9,2,     0.93,2,    2.850,    0.003,2,   0.5345
  09AR20060102,  S04I,    87,  1,     19,     19,2,20060217,1003,-62.6673,  70.0002, 4036,     49.8,   0.4164,  33.6491,2,  33.6544,2,    313.5,2,    339.9,3,    29.10,2,  -999.00,9,   2143.2,2,   -999.0,9,2,     0.93,2,    3.028,    0.000,2,   0.4145
  09AR20060102,  S04I,    87,  1,     18,     18,2,20060217,1003,-62.6673,  70.0002, 4036,     69.7,  -1.4304,  34.0298,2,  34.0285,2,    293.6,2,    312.2,3,    51.90,2,  -999.00,9,   2195.9,2,   -999.0,9,2,     0.98,2,    0.643,    0.000,2,  -1.4320
  09AR20060102,  S04I,    87,  1,     17,     17,2,20060217,1003,-62.6673,  70.0002, 4036,     90.6,  -0.7156,  34.1526,2,  34.1516,2,    276.8,2,    277.2,2,    58.40,2,  -999.00,9,   2213.1,2,   -999.0,9,2,     0.98,2,    0.361,    0.000,2,  -0.7182
  09AR20060102,  S04I,    87,  1,     16,     16,2,20060217,1003,-62.6673,  70.0002, 4036,    114.3,   0.7273,  34.3696,2,  34.3682,2,    241.6,2,    219.7,3,    68.30,2,  -999.00,9,   2239.0,2,   -999.0,9,2,     0.99,2,    0.151,    0.000,2,   0.7225
  09AR20060102,  S04I,    87,  1,     15,     15,2,20060217,1003,-62.6673,  70.0002, 4036,    149.6,   1.3350,  34.4696,2,  34.4695,2,    204.6,2,    196.2,3,    73.00,2,  -999.00,9,   2249.8,2,   -999.0,9,2,     0.99,2,    0.040,    0.000,2,   1.3279
  09AR20060102,  S04I,    87,  1,     14,     14,2,20060217,1003,-62.6673,  70.0002, 4036,    200.8,   1.6574,  34.5328,2,  34.5307,2,    185.9,2,    184.4,2,    79.20,2,  -999.00,9,   2250.6,2,   -999.0,9,2,     0.99,2,    0.022,    0.000,2,   1.6472
  09AR20060102,  S04I,    87,  1,     13,     13,2,20060217,1003,-62.6673,  70.0002, 4036,    299.6,   1.8909,  34.6187,2,  34.6185,2,    173.5,2,    176.5,2,    81.20,2,  -999.00,9,   2259.3,2,   -999.0,9,2,     0.99,2,   -0.005,    0.000,2,   1.8749
  09AR20060102,  S04I,    87,  1,     12,     12,2,20060217,1003,-62.6673,  70.0002, 4036,    399.2,   1.9305,  34.6684,2,  34.6684,2,    175.5,2,    177.8,2,    82.50,2,  -999.00,9,   2258.4,2,   -999.0,9,2,     0.99,2,   -0.021,    0.000,2,   1.9086
  09AR20060102,  S04I,    87,  1,     11,     11,2,20060217,1003,-62.6673,  70.0002, 4036,    501.4,   1.9229,  34.6980,2,  34.6982,2,    179.5,2,    181.8,2,    83.20,2,  -999.00,9,   2255.7,6,   -999.0,9,2,     0.99,2,   -0.030,    0.000,2,   1.8950
  09AR20060102,  S04I,    87,  1,     10,     10,2,20060217,1003,-62.6673,  70.0002, 4036,    749.7,   1.7584,  34.7392,2,  34.7394,2,    190.9,2,    192.7,2,    85.70,2,  -999.00,9,   2251.0,2,   -999.0,9,2,     0.99,2,   -0.038,    0.000,2,   1.7161
  09AR20060102,  S04I,    87,  1,      9,      9,2,20060217,1003,-62.6673,  70.0002, 4036,   1001.1,   1.5632,  34.7441,2,  34.7441,2,    198.7,2,    199.0,2,    89.30,2,  -999.00,9,   2244.8,2,   -999.0,9,2,     0.99,2,   -0.041,    0.000,2,   1.5062
  09AR20060102,  S04I,    87,  1,      8,      8,2,20060217,1003,-62.6673,  70.0002, 4036,   1401.1,   1.1852,  34.7320,2,  34.7319,2,    204.1,2,    203.8,2,    99.30,2,  -999.00,9,   2252.9,2,   -999.0,9,2,     0.99,2,   -0.043,    0.000,2,   1.1049
  09AR20060102,  S04I,    87,  1,      7,      7,2,20060217,1003,-62.6673,  70.0002, 4036,   1800.4,   0.8617,  34.7136,2,  34.7131,2,    207.5,2,    206.9,2,   108.10,2,  -999.00,9,   2258.0,2,   -999.0,9,2,     0.99,2,   -0.045,    0.000,2,   0.7573
  09AR20060102,  S04I,    87,  1,      6,      6,2,20060217,1003,-62.6673,  70.0002, 4036,   2199.7,   0.5753,  34.6976,2,  34.6976,2,    209.4,2,    209.8,2,   116.40,2,  -999.00,9,   2262.8,2,   -999.0,9,2,     0.99,2,   -0.046,    0.000,2,   0.4454
  09AR20060102,  S04I,    87,  1,      5,      5,2,20060217,1003,-62.6673,  70.0002, 4036,   2598.5,   0.3726,  34.6870,2,  34.6866,2,    213.3,2,    213.6,2,   121.80,2,  -999.00,9,   2262.1,2,   -999.0,9,2,     0.99,2,   -0.049,    0.000,2,   0.2148
  09AR20060102,  S04I,    87,  1,      4,      4,2,20060217,1003,-62.6673,  70.0002, 4036,   3100.0,   0.1577,  34.6771,2,  34.6766,2,    220.5,2,    221.0,2,   126.80,2,  -999.00,9,   2260.8,2,   -999.0,9,2,     0.99,2,   -0.054,    0.000,2,  -0.0380
  09AR20060102,  S04I,    87,  1,      3,      3,2,20060217,1003,-62.6673,  70.0002, 4036,   3600.6,  -0.0184,  34.6691,2,  34.6688,2,    228.2,2,    228.6,2,   126.70,2,  -999.00,9,   2258.4,2,   -999.0,9,2,     0.99,2,   -0.049,    0.000,2,  -0.2553
  09AR20060102,  S04I,    87,  1,      2,      2,2,20060217,1003,-62.6673,  70.0002, 4036,   4051.1,  -0.1642,  34.6627,2,  34.6621,2,    233.7,2,    234.3,2,   142.90,2,  -999.00,9,   2259.9,2,   -999.0,9,2,     0.99,2,   -0.050,    0.000,2,  -0.4406
  09AR20060102,  S04I,    87,  1,      1,      1,2,20060217,1003,-62.6673,  70.0002, 4036,   4111.7,  -0.1825,  34.6614,2,  34.6607,2,    234.4,2,    234.7,2,   144.20,2,  -999.00,9,   2258.4,6,   -999.0,9,2,     0.99,2,   -0.053,    0.000,2,  -0.4645
  09AR20060102,  S04I,    88,  1,     24,     24,2,20060217,2020,-63.3368,  69.9893, 3830,     13.7,   0.6374,  33.7389,2,  33.7393,2,    338.3,2,    338.4,2,    36.50,2,  -999.00,9,   2161.2,2,   -999.0,9,2,     0.87,2,    2.706,    0.000,2,   0.6369
  09AR20060102,  S04I,    88,  1,     23,     23,2,20060217,2020,-63.3368,  69.9893, 3830,     28.9,   0.6423,  33.7389,2,-999.0000,9,    338.4,2,   -999.0,9,  -999.00,9,  -999.00,9,   -999.0,9,   -999.0,9,2,     0.82,2,    2.763,    0.000,2,   0.6412
  09AR20060102,  S04I,    88,  1,     22,     22,2,20060217,2020,-63.3368,  69.9893, 3830,     28.5,   0.6423,  33.7387,2,-999.0000,9,    338.4,2,   -999.0,9,  -999.00,9,  -999.00,9,   -999.0,9,   -999.0,9,2,     0.80,2,    2.806,    0.000,2,   0.6412
  09AR20060102,  S04I,    88,  1,     21,     21,2,20060217,2020,-63.3368,  69.9893, 3830,     28.8,   0.6451,  33.7388,2,  33.7405,2,    338.4,2,    338.5,2,    33.70,2,  -999.00,9,   2153.6,2,   -999.0,9,2,     0.78,2,    2.693,    0.000,2,   0.6440
  09AR20060102,  S04I,    88,  1,     20,     20,2,20060217,2020,-63.3368,  69.9893, 3830,     49.3,   0.4842,  33.7600,2,  33.7493,2,    336.2,2,    337.4,2,    34.70,2,  -999.00,9,   2156.7,2,   -999.0,9,2,     0.94,2,    2.377,    0.000,2,   0.4823
  09AR20060102,  S04I,    88,  1,     19,     19,2,20060217,2020,-63.3368,  69.9893, 3830,     69.7,  -1.4516,  34.0746,2,  34.0715,2,    313.4,2,    312.0,2,    54.40,2,  -999.00,9,   2202.3,2,   -999.0,9,2,     0.98,2,    0.852,    0.000,2,  -1.4531
  09AR20060102,  S04I,    88,  1,     18,     18,2,20060217,2020,-63.3368,  69.9893, 3830,    109.8,  -0.3290,  34.2786,2,  34.2716,2,    238.6,2,    258.1,3,    65.40,2,  -999.00,9,   -999.0,9,   -999.0,9,2,     0.98,2,    0.526,    0.000,2,  -0.3326
  09AR20060102,  S04I,    88,  1,     17,     17,2,20060217,2020,-63.3368,  69.9893, 3830,    149.8,   1.1595,  34.5080,2,  34.5052,2,    190.9,2,    197.4,2,    76.90,2,  -999.00,9,   2255.9,2,   -999.0,9,2,     0.99,2,    0.089,    0.000,2,   1.1526
  09AR20060102,  S04I,    88,  1,     16,     16,2,20060217,2020,-63.3368,  69.9893, 3830,    198.8,   1.6137,  34.6034,2,  34.6025,2,    184.5,2,    182.1,2,    87.40,2,  -999.00,9,   2258.4,2,   -999.0,9,2,     0.99,2,   -0.007,    0.000,2,   1.6037
  09AR20060102,  S04I,    88,  1,     15,     15,2,20060217,2020,-63.3368,  69.9893, 3830,    299.9,   1.7743,  34.6721,2,  34.6721,2,    181.6,2,    180.2,2,    85.30,2,  -999.00,9,   -999.0,9,   -999.0,9,2,     0.99,2,   -0.027,    0.000,2,   1.7585
  09AR20060102,  S04I,    88,  1,     14,     14,2,20060217,2020,-63.3368,  69.9893, 3830,    398.4,   1.7604,  34.7018,2,  34.7013,2,    185.5,2,    184.7,2,    86.10,2,  -999.00,9,   -999.0,9,   -999.0,9,2,     0.99,2,   -0.033,    0.000,2,   1.7391
  09AR20060102,  S04I,    88,  1,     13,     13,2,20060217,2020,-63.3368,  69.9893, 3830,    498.9,   1.7096,  34.7192,2,  34.7192,2,    189.1,2,    188.3,2,    87.20,2,  -999.00,9,   -999.0,9,   -999.0,9,2,     0.99,2,   -0.036,    0.000,2,   1.6827
  09AR20060102,  S04I,    88,  1,     12,     12,2,20060217,2020,-63.3368,  69.9893, 3830,    650.7,   1.6213,  34.7344,2,  34.7343,2,    194.2,2,    193.5,2,    88.40,2,  -999.00,9,   -999.0,9,   -999.0,9,2,     0.99,2,   -0.035,    0.000,2,   1.5858
  09AR20060102,  S04I,    88,  1,     11,     11,2,20060217,2020,-63.3368,  69.9893, 3830,    799.4,   1.4742,  34.7352,2,  34.7355,2,    197.5,2,    197.0,2,    91.50,2,  -999.00,9,   -999.0,9,   -999.0,9,2,     0.99,2,   -0.043,    0.000,2,   1.4306
  09AR20060102,  S04I,    88,  1,     10,     10,2,20060217,2020,-63.3368,  69.9893, 3830,    998.7,   1.2800,  34.7326,2,  34.7327,2,    200.9,2,    201.4,2,    96.00,2,  -999.00,9,   -999.0,9,   -999.0,9,2,     0.99,2,   -0.040,    0.000,2,   1.2254
  09AR20060102,  S04I,    88,  1,      9,      9,2,20060217,2020,-63.3368,  69.9893, 3830,   1247.7,   1.0560,  34.7241,2,  34.7245,2,    203.6,2,    204.0,2,   101.70,2,  -999.00,9,   -999.0,9,   -999.0,9,2,     0.99,2,   -0.047,    0.000,2,   0.9874
  09AR20060102,  S04I,    88,  1,      8,      8,2,20060217,2020,-63.3368,  69.9893, 3830,   1499.7,   0.8520,  34.7130,2,  34.7129,2,    205.5,2,    205.7,2,   107.20,2,  -999.00,9,   -999.0,9,   -999.0,9,2,     0.99,2,   -0.044,    0.000,2,   0.7689
  09AR20060102,  S04I,    88,  1,      7,      7,2,20060217,2020,-63.3368,  69.9893, 3830,   1749.9,   0.6518,  34.7007,2,  34.7007,2,   -999.0,5,    207.1,2,   111.60,2,  -999.00,9,   -999.0,9,   -999.0,9,2,     0.99,2,   -0.042,    0.000,2,   0.5539
  09AR20060102,  S04I,    88,  1,      6,      6,2,20060217,2020,-63.3368,  69.9893, 3830,   2000.0,   0.4903,  34.6927,2,  34.6923,2,    209.6,2,    209.7,2,   116.10,2,  -999.00,9,   -999.0,9,   -999.0,9,2,     0.99,2,   -0.046,    0.000,2,   0.3768
  09AR20060102,  S04I,    88,  1,      5,      5,2,20060217,2020,-63.3368,  69.9893, 3830,   2500.4,   0.2452,  34.6814,2,  34.6811,2,    217.0,2,    216.8,2,   122.00,2,  -999.00,9,   -999.0,9,   -999.0,9,2,     0.99,2,   -0.047,    0.000,2,   0.0978
  09AR20060102,  S04I,    88,  1,      4,      4,2,20060217,2020,-63.3368,  69.9893, 3830,   3000.3,   0.0710,  34.6745,2,  34.6740,2,    225.0,2,    225.1,2,   123.90,2,  -999.00,9,   -999.0,9,   -999.0,9,2,     0.99,2,   -0.048,    0.000,2,  -0.1140
  09AR20060102,  S04I,    88,  1,      3,      3,2,20060217,2020,-63.3368,  69.9893, 3830,   3499.6,  -0.0691,  34.6687,2,  34.6672,2,    230.9,2,    230.3,2,   127.20,2,  -999.00,9,   -999.0,9,   -999.0,9,2,     0.99,2,   -0.049,    0.000,2,  -0.2952
  09AR20060102,  S04I,    88,  1,      2,      2,2,20060217,2020,-63.3368,  69.9893, 3830,   3880.6,  -0.2073,  34.6614,2,  34.6601,2,    234.9,2,    235.0,2,   143.20,2,  -999.00,9,   -999.0,9,   -999.0,9,2,     0.99,2,   -0.053,    0.000,2,  -0.4657
  09AR20060102,  S04I,    88,  1,      1,      1,2,20060217,2020,-63.3368,  69.9893, 3830,   3905.7,  -0.2081,  34.6611,2,  34.6597,2,    235.4,2,    235.0,2,   143.20,2,  -999.00,9,   -999.0,9,   -999.0,9,2,     0.99,2,   -0.053,    0.000,2,  -0.4689
  09AR20060102,  S04I,    89,  1,     24,     24,2,20060218,0630,-63.9962,  70.0007, 3506,      9.7,   0.3785,  33.8114,2,  33.8122,2,    336.6,2,    337.2,2,    43.10,2,    26.28,2,   2157.5,2,   2285.1,2,2,     0.94,2,    0.586,    0.232,2,   0.3781
  09AR20060102,  S04I,    89,  1,     23,     23,2,20060218,0630,-63.9962,  70.0007, 3506,      9.3,   0.3787,  33.8113,2,-999.0000,9,    336.6,2,   -999.0,9,  -999.00,9,  -999.00,9,   -999.0,9,   -999.0,9,2,     0.94,2,    0.634,    0.260,2,   0.3784
  09AR20060102,  S04I,    89,  1,     22,     22,2,20060218,0630,-63.9962,  70.0007, 3506,      9.3,   0.3776,  33.8113,2,-999.0000,9,    336.6,2,   -999.0,9,  -999.00,9,  -999.00,9,   -999.0,9,   -999.0,9,2,     0.94,2,    0.829,    0.285,2,   0.3773
  09AR20060102,  S04I,    89,  1,     21,     21,2,20060218,0630,-63.9962,  70.0007, 3506,     22.9,   0.3671,  33.8139,2,  33.8158,2,    336.4,2,    336.9,2,    44.40,2,    26.48,2,   2160.5,6,   -999.0,9,2,     0.88,2,    1.105,    0.105,2,   0.3663
  09AR20060102,  S04I,    89,  1,     20,     20,2,20060218,0630,-63.9962,  70.0007, 3506,     39.6,   0.3324,  33.8178,2,  33.8200,2,    336.0,2,    336.4,2,    44.90,2,    26.70,2,   2161.4,2,   -999.0,9,2,     0.67,2,    1.279,    0.042,2,   0.3309
  09AR20060102,  S04I,    89,  1,     19,     19,2,20060218,0630,-63.9962,  70.0007, 3506,     49.3,  -0.9719,  34.0694,2,  34.0463,2,    332.2,2,    318.5,2,    54.40,2,    28.29,2,   2187.3,2,   -999.0,9,2,     0.83,2,    1.638,    0.028,2,  -0.9732
  09AR20060102,  S04I,    89,  1,     18,     18,2,20060218,0630,-63.9962,  70.0007, 3506,     60.0,  -1.6124,  34.2112,2,  34.2115,2,    310.7,2,    299.6,2,    63.10,2,    30.06,2,   2207.9,2,   -999.0,9,2,     0.97,2,    1.088,    0.015,2,  -1.6137
  09AR20060102,  S04I,    89,  1,     17,     17,2,20060218,0630,-63.9962,  70.0007, 3506,     68.8,  -1.6585,  34.2253,2,  34.2240,2,    299.9,2,    296.2,2,    64.20,2,    30.17,2,   2211.3,2,   -999.0,9,2,     0.98,2,    0.852,    0.010,2,  -1.6599
  09AR20060102,  S04I,    89,  1,     16,     16,2,20060218,0630,-63.9962,  70.0007, 3506,     84.3,  -1.7111,  34.2384,2,  34.2375,2,    289.8,2,    292.7,2,    64.70,2,    30.63,2,   2212.4,2,   -999.0,9,2,     0.98,2,    0.836,    0.004,2,  -1.7128
  09AR20060102,  S04I,    89,  1,     15,     15,2,20060218,0630,-63.9962,  70.0007, 3506,    100.7,  -1.6385,  34.2568,2,  34.2556,2,    285.3,2,    286.4,2,    66.70,2,    30.91,2,   2215.2,2,   -999.0,9,2,     0.98,2,    0.501,    0.001,2,  -1.6406
  09AR20060102,  S04I,    89,  1,     14,     14,2,20060218,0630,-63.9962,  70.0007, 3506,    151.1,   0.3053,  34.4898,2,  34.4871,2,    244.5,2,    227.4,3,    78.20,2,    32.07,2,   2242.8,2,   -999.0,9,2,     0.99,2,    0.141,    0.000,2,   0.2994
  09AR20060102,  S04I,    89,  1,     13,     13,2,20060218,0630,-63.9962,  70.0007, 3506,    200.6,   0.6892,  34.5721,2,  34.5723,2,    218.8,2,    216.9,2,    81.50,2,    31.79,2,   2248.2,2,   -999.0,9,2,     0.99,2,    0.013,    0.000,2,   0.6806
  09AR20060102,  S04I,    89,  1,     12,     12,2,20060218,0630,-63.9962,  70.0007, 3506,    300.0,   1.3162,  34.6771,2,  34.6768,2,    197.1,2,    196.7,2,    87.40,2,    31.39,2,   2252.8,2,   -999.0,9,2,     0.99,2,   -0.018,    0.000,2,   1.3015
  09AR20060102,  S04I,    89,  1,     11,     11,2,20060218,0630,-63.9962,  70.0007, 3506,    399.9,   1.2747,  34.6974,2,  34.6982,2,    199.2,2,    199.6,2,    89.10,2,    31.09,2,   2251.8,6,   -999.0,9,2,     0.99,2,   -0.031,    0.000,2,   1.2549
  09AR20060102,  S04I,    89,  1,     10,     10,2,20060218,0630,-63.9962,  70.0007, 3506,    600.6,   1.1711,  34.7151,2,  34.7147,2,    202.1,2,    202.4,2,    94.10,2,    30.73,2,   2251.1,2,   -999.0,9,2,     0.99,2,   -0.036,    0.000,2,   1.1408
  09AR20060102,  S04I,    89,  1,      9,      9,2,20060218,0630,-63.9962,  70.0007, 3506,    900.2,   0.8938,  34.7082,2,  34.7080,2,    205.4,2,    206.2,2,   104.60,2,    31.20,2,   2254.4,2,   -999.0,9,2,     0.99,2,   -0.039,    0.000,2,   0.8482
  09AR20060102,  S04I,    89,  1,      8,      8,2,20060218,0630,-63.9962,  70.0007, 3506,   1200.0,   0.6681,  34.7002,2,  34.7000,2,    207.8,2,    207.8,2,   111.80,2,    31.45,2,   2257.1,2,   -999.0,9,2,     0.99,2,   -0.046,    0.000,2,   0.6064
  09AR20060102,  S04I,    89,  1,      7,      7,2,20060218,0630,-63.9962,  70.0007, 3506,   1498.7,   0.5066,  34.6952,2,  34.6947,2,    208.9,2,    208.9,2,   119.70,2,    31.85,2,   2261.8,2,   -999.0,9,2,     0.99,2,   -0.042,    0.000,2,   0.4277
  09AR20060102,  S04I,    89,  1,      6,      6,2,20060218,0630,-63.9962,  70.0007, 3506,   1898.7,   0.3041,  34.6848,2,  34.6843,2,    214.9,2,    215.0,2,   121.70,2,    31.91,2,   2259.8,2,   -999.0,9,2,     0.99,2,   -0.048,    0.000,2,   0.2008
  09AR20060102,  S04I,    89,  1,      5,      5,2,20060218,0630,-63.9962,  70.0007, 3506,   2298.6,   0.1462,  34.6786,2,  34.6792,2,    219.4,2,    219.5,2,   125.70,2,    31.93,2,   2258.4,2,   -999.0,9,2,     0.99,2,   -0.047,    0.000,2,   0.0163
  09AR20060102,  S04I,    89,  1,      4,      4,2,20060218,0630,-63.9962,  70.0007, 3506,   2699.0,   0.0214,  34.6740,2,  34.6735,2,    226.4,2,    226.3,2,   123.10,2,    31.76,2,   2256.9,2,   -999.0,9,2,     0.99,2,   -0.048,    0.000,2,  -0.1374
  09AR20060102,  S04I,    89,  1,      3,      3,2,20060218,0630,-63.9962,  70.0007, 3506,   3100.7,  -0.0822,  34.6698,2,  34.6688,2,    229.8,2,    230.3,2,   124.30,2,    31.63,2,   2257.9,2,   -999.0,9,2,     0.99,2,   -0.053,    0.000,2,  -0.2724
  09AR20060102,  S04I,    89,  1,      2,      2,2,20060218,0630,-63.9962,  70.0007, 3506,   3501.0,  -0.2066,  34.6635,2,  34.6625,2,    233.1,2,    233.1,2,   141.70,2,    32.13,2,   2257.1,2,   -999.0,9,2,     0.99,2,   -0.048,    0.000,2,  -0.4293
  09AR20060102,  S04I,    89,  1,      1,      1,2,20060218,0630,-63.9962,  70.0007, 3506,   3566.9,  -0.2223,  34.6621,2,  34.6609,2,    233.6,2,    233.9,2,   143.10,2,    31.99,2,   2258.4,6,   -999.0,9,2,     0.99,2,   -0.052,    0.000,2,  -0.4506