BOTTLE,20220816CCHSIOAMB
EXPOCODE,SECT_ID,STNNBR,CASTNO,SAMPNO,BTLNBR,BTLNBR_FLAG_W,DATE,TIME,LATITUDE,LONGITUDE,DEPTH,CTDPRS,CTDTMP,CTDSAL,CTDSAL_FLAG_W,SALNTY,SALNTY_FLAG_W,CTDOXY,CTDOXY_FLAG_W,OXYGEN,OXYGEN_FLAG_W,SILCAT,SILCAT_FLAG_W,NITRAT,NITRAT_FLAG_W,TCARBN,TCARBN_FLAG_W,ALKALI,ALKALI_FLAG_W,FLUOR_FLAG_W,XMISS,XMISS_FLAG_W,FLUOR,PAR,PAR_FLAG_W,THETA
,,,,,,,,,,,METERS,DBAR,ITS-90,PSS-78,,PSS-78,,UMOL/KG,,UMOL/KG,,UMOL/KG,,UMOL/KG,,UMOL/KG,,UMOL/KG,,,%TRANS,,VOLTS,VOLTS,,DEG C
  09AR20060102,  S04I,    93,  1,     24,     24,2,20060219,1135,-66.0007,  69.9963, 2409,      8.2,   0.2312,  33.9621,2,  33.9624,2,   -999.0,5,    339.4,2,    45.60,2,    26.58,2,   2172.8,2,   2295.0,2,2,     0.93,2,    0.993,    0.049,2,   0.2309
  09AR20060102,  S04I,    93,  1,     23,     23,2,20060219,1135,-66.0007,  69.9963, 2409,     19.4,   0.2334,  33.9618,2,-999.0000,9,    338.1,2,   -999.0,9,  -999.00,9,  -999.00,9,   -999.0,9,   -999.0,9,2,     0.95,2,    1.071,    0.025,2,   0.2327
  09AR20060102,  S04I,    93,  1,     22,     22,2,20060219,1135,-66.0007,  69.9963, 2409,     19.4,   0.2332,  33.9618,2,-999.0000,9,    338.1,2,   -999.0,9,  -999.00,9,  -999.00,9,   -999.0,9,   -999.0,9,2,     0.94,2,    1.098,    0.026,2,   0.2325
  09AR20060102,  S04I,    93,  1,     21,     21,2,20060219,1135,-66.0007,  69.9963, 2409,     19.4,   0.2339,  33.9618,2,  33.9624,2,    338.1,2,    338.7,2,    46.10,2,    26.66,2,   2172.9,6,   -999.0,9,2,     0.94,2,    1.058,    0.026,2,   0.2332
  09AR20060102,  S04I,    93,  1,     20,     20,2,20060219,1135,-66.0007,  69.9963, 2409,     29.3,   0.2359,  33.9631,2,  33.9634,2,    338.0,2,    339.8,2,    45.90,2,    26.56,2,   2172.7,2,   -999.0,9,2,     0.94,2,    1.168,    0.014,2,   0.2348
  09AR20060102,  S04I,    93,  1,     19,     19,2,20060219,1135,-66.0007,  69.9963, 2409,     39.3,   0.2189,  33.9638,2,  33.9671,2,    337.9,2,    338.8,2,    46.00,2,    26.56,2,   2172.6,2,   -999.0,9,2,     0.93,2,    1.303,    0.009,2,   0.2175
  09AR20060102,  S04I,    93,  1,     18,     18,2,20060219,1135,-66.0007,  69.9963, 2409,     49.9,  -0.6968,  34.0897,2,  34.0876,2,    334.3,2,    332.5,2,    48.60,2,    27.07,2,   2186.7,2,   -999.0,9,2,     0.93,2,    2.066,    0.005,2,  -0.6982
  09AR20060102,  S04I,    93,  1,     17,     17,2,20060219,1135,-66.0007,  69.9963, 2409,     59.7,  -1.4870,  34.2251,2,  34.2238,2,    330.3,2,    326.0,2,    54.10,2,    27.55,2,   2198.8,2,   -999.0,9,2,     0.96,2,    1.865,    0.002,2,  -1.4883
  09AR20060102,  S04I,    93,  1,     16,     16,2,20060219,1135,-66.0007,  69.9963, 2409,     69.7,  -1.7017,  34.2661,2,  34.2669,2,    327.4,2,    319.1,2,    57.70,2,    28.29,2,   2206.8,2,   -999.0,9,2,     0.97,2,    2.179,    0.001,2,  -1.7031
  09AR20060102,  S04I,    93,  1,     15,     15,2,20060219,1135,-66.0007,  69.9963, 2409,     85.0,  -1.7602,  34.2755,2,  34.2759,2,    318.1,2,    311.0,2,    59.50,2,    28.68,2,   2211.0,2,   -999.0,9,2,     0.98,2,    1.334,    0.000,2,  -1.7619
  09AR20060102,  S04I,    93,  1,     14,     14,2,20060219,1135,-66.0007,  69.9963, 2409,     99.9,  -1.7855,  34.2892,2,  34.2887,2,    308.8,2,    306.3,2,    60.70,2,    29.28,2,   2214.9,2,   -999.0,9,2,     0.99,2,    0.389,    0.000,2,  -1.7875
  09AR20060102,  S04I,    93,  1,     13,     13,2,20060219,1135,-66.0007,  69.9963, 2409,    120.3,  -1.7905,  34.3022,2,  34.3014,2,    306.9,2,    308.3,2,    60.50,2,    29.11,2,   2215.3,2,   -999.0,9,2,     0.99,2,    0.186,    0.000,2,  -1.7929
  09AR20060102,  S04I,    93,  1,     12,     12,2,20060219,1135,-66.0007,  69.9963, 2409,    150.2,  -1.7308,  34.3171,2,  34.3155,2,    308.0,2,    308.9,2,    61.10,2,    29.07,2,   2215.5,2,   -999.0,9,2,     0.98,2,    0.041,    0.000,2,  -1.7340
  09AR20060102,  S04I,    93,  1,     11,     11,2,20060219,1135,-66.0007,  69.9963, 2409,    199.1,  -1.6521,  34.3476,2,  34.3472,2,    300.7,2,    307.1,2,    62.40,2,    29.22,2,   2217.8,2,   -999.0,9,2,     0.99,2,   -0.007,    0.000,2,  -1.6565
  09AR20060102,  S04I,    93,  1,     10,     10,2,20060219,1135,-66.0007,  69.9963, 2409,    299.8,  -0.1794,  34.5373,2,  34.5373,2,    252.4,2,    249.6,2,    78.50,2,    30.03,2,   2239.9,2,   -999.0,9,2,     0.99,2,   -0.046,    0.000,2,  -0.1902
  09AR20060102,  S04I,    93,  1,      9,      9,2,20060219,1135,-66.0007,  69.9963, 2409,    400.5,   0.0244,  34.5883,2,  34.5875,2,    243.9,2,    241.7,2,    83.10,2,    30.13,2,   2244.1,2,   -999.0,9,2,     0.99,2,   -0.044,    0.000,2,   0.0088
  09AR20060102,  S04I,    93,  1,      8,      8,2,20060219,1135,-66.0007,  69.9963, 2409,    500.7,   0.6694,  34.6693,2,  34.6701,2,    217.2,2,    216.1,2,    91.60,2,    30.03,2,   2253.3,2,   -999.0,9,2,     0.99,2,   -0.044,    0.000,2,   0.6467
  09AR20060102,  S04I,    93,  1,      7,      7,2,20060219,1135,-66.0007,  69.9963, 2409,    599.5,   0.7434,  34.6887,2,  34.6886,2,    210.6,2,    211.7,2,    97.60,2,    30.28,2,   2254.3,2,   -999.0,9,2,     0.99,2,   -0.042,    0.000,2,   0.7153
  09AR20060102,  S04I,    93,  1,      6,      6,2,20060219,1135,-66.0007,  69.9963, 2409,    699.8,   0.7412,  34.6967,2,  34.6968,2,    207.7,2,    209.1,2,   101.00,2,    30.34,2,   2256.5,2,   -999.0,9,2,     0.99,2,   -0.044,    0.000,2,   0.7078
  09AR20060102,  S04I,    93,  1,      5,      5,2,20060219,1135,-66.0007,  69.9963, 2409,   1099.9,   0.4428,  34.6890,2,  34.6890,2,    212.2,2,    213.0,2,   114.00,2,    30.72,2,   2260.2,2,   -999.0,9,2,     0.99,2,   -0.044,    0.000,2,   0.3892
  09AR20060102,  S04I,    93,  1,      4,      4,2,20060219,1135,-66.0007,  69.9963, 2409,   1500.9,   0.2347,  34.6824,2,  34.6825,2,    217.9,2,    217.9,2,   117.70,2,    30.98,2,   2259.7,2,   -999.0,9,2,     0.99,2,   -0.045,    0.000,2,   0.1589
  09AR20060102,  S04I,    93,  1,      3,      3,2,20060219,1135,-66.0007,  69.9963, 2409,   1997.8,   0.0632,  34.6765,2,  34.6756,2,    224.0,2,    223.9,2,   119.60,2,    30.78,2,   2259.8,2,   -999.0,9,2,     0.99,2,   -0.046,    0.000,2,  -0.0434
  09AR20060102,  S04I,    93,  1,      2,      2,2,20060219,1135,-66.0007,  69.9963, 2409,   2399.2,  -0.0888,  34.6710,2,  34.6701,2,    229.6,2,    229.6,2,   120.90,2,    30.88,2,   2259.4,2,   -999.0,9,2,     0.99,2,   -0.051,    0.000,2,  -0.2220
  09AR20060102,  S04I,    93,  1,      1,      1,2,20060219,1135,-66.0007,  69.9963, 2409,   2450.1,  -0.1377,  34.6697,2,  34.6692,2,    229.9,2,    229.9,2,   123.90,2,    30.97,2,   2261.2,2,   -999.0,9,2,     0.99,2,   -0.049,    0.000,2,  -0.2739
  09AR20060102,  S04I,    94,  1,     24,     24,2,20060219,1543,-66.2498,  69.9948, 2291,      9.4,   0.1965,  33.9752,2,  33.9749,2,    340.3,2,    339.9,2,    45.20,2,    26.19,2,   2172.3,2,   -999.0,9,2,     0.95,2,    1.127,    0.000,2,   0.1962
  09AR20060102,  S04I,    94,  1,     23,     23,2,20060219,1543,-66.2498,  69.9948, 2291,      9.3,   0.1968,  33.9751,2,-999.0000,9,    340.3,2,   -999.0,9,  -999.00,9,  -999.00,9,   -999.0,9,   -999.0,9,2,     0.94,2,    1.163,    0.000,2,   0.1965
  09AR20060102,  S04I,    94,  1,     22,     22,2,20060219,1543,-66.2498,  69.9948, 2291,      9.3,   0.1971,  33.9751,2,-999.0000,9,    340.3,2,   -999.0,9,  -999.00,9,  -999.00,9,   -999.0,9,   -999.0,9,2,     0.95,2,    1.143,    0.000,2,   0.1968
  09AR20060102,  S04I,    94,  1,     21,     21,2,20060219,1543,-66.2498,  69.9948, 2291,     20.6,   0.1981,  33.9756,2,  33.9755,2,    340.3,2,    340.3,2,    45.20,2,    26.36,2,   -999.0,9,   -999.0,9,2,     0.95,2,    1.061,    0.000,2,   0.1974
  09AR20060102,  S04I,    94,  1,     20,     20,2,20060219,1543,-66.2498,  69.9948, 2291,     30.1,   0.1971,  33.9757,2,  33.9763,2,    340.1,2,    340.0,2,    44.60,2,    26.26,2,   2173.4,2,   -999.0,9,2,     0.95,2,    1.089,    0.000,2,   0.1960
  09AR20060102,  S04I,    94,  1,     19,     19,2,20060219,1543,-66.2498,  69.9948, 2291,     40.1,   0.1652,  33.9800,2,  33.9810,2,    340.1,2,    340.3,2,    45.60,2,    26.43,2,   -999.0,9,   -999.0,9,2,     0.94,2,    1.401,    0.000,2,   0.1638
  09AR20060102,  S04I,    94,  1,     18,     18,2,20060219,1543,-66.2498,  69.9948, 2291,     49.1,  -1.4749,  34.2157,2,  34.1984,2,    336.4,2,    329.4,2,    52.50,2,    27.44,2,   2199.0,2,   -999.0,9,2,     0.96,2,    1.769,    0.000,2,  -1.4760
  09AR20060102,  S04I,    94,  1,     17,     17,2,20060219,1543,-66.2498,  69.9948, 2291,     59.8,  -1.6939,  34.2548,2,  34.2528,2,    332.3,2,    319.9,2,    56.00,2,    28.22,2,   -999.0,9,   -999.0,9,2,     0.97,2,    2.211,    0.000,2,  -1.6951
  09AR20060102,  S04I,    94,  1,     16,     16,2,20060219,1543,-66.2498,  69.9948, 2291,     69.3,  -1.7608,  34.2705,2,  34.2693,2,    315.4,2,    305.8,2,    59.80,2,    29.23,2,   2214.0,2,   -999.0,9,2,     0.98,2,    1.089,    0.000,2,  -1.7622
  09AR20060102,  S04I,    94,  1,     15,     15,2,20060219,1543,-66.2498,  69.9948, 2291,     78.8,  -1.7894,  34.2813,2,  34.2812,2,    306.3,2,    302.8,2,    60.90,2,    29.47,2,   -999.0,9,   -999.0,9,2,     0.98,2,    0.374,    0.000,2,  -1.7910
  09AR20060102,  S04I,    94,  1,     14,     14,2,20060219,1543,-66.2498,  69.9948, 2291,     89.8,  -1.7847,  34.2854,2,  34.2841,2,    304.8,2,    302.7,2,    60.70,2,    29.62,2,   2214.6,2,   -999.0,9,2,     0.98,2,    0.336,    0.000,2,  -1.7865
  09AR20060102,  S04I,    94,  1,     13,     13,2,20060219,1543,-66.2498,  69.9948, 2291,    121.0,  -1.6958,  34.3047,2,  34.3031,2,    302.1,2,    303.7,2,    61.00,2,    29.31,2,   2217.8,2,   -999.0,9,2,     0.98,2,    0.072,    0.000,2,  -1.6983
  09AR20060102,  S04I,    94,  1,     12,     12,2,20060219,1543,-66.2498,  69.9948, 2291,    150.0,  -1.6493,  34.3218,2,  34.3192,2,    301.6,2,    304.4,2,    61.20,2,    29.43,2,   -999.0,9,   -999.0,9,2,     0.99,2,    0.032,    0.000,2,  -1.6526
  09AR20060102,  S04I,    94,  1,     11,     11,2,20060219,1543,-66.2498,  69.9948, 2291,    200.4,  -1.1036,  34.3933,2,  34.3913,2,    283.8,2,    285.2,2,    67.20,2,    29.77,2,   -999.0,9,   -999.0,9,2,     0.99,2,   -0.027,    0.000,2,  -1.1090
  09AR20060102,  S04I,    94,  1,     10,     10,2,20060219,1543,-66.2498,  69.9948, 2291,    299.2,  -0.6235,  34.4862,2,  34.4862,2,    267.9,2,    266.8,2,    73.80,2,    29.98,2,   -999.0,9,   -999.0,9,2,     0.99,2,   -0.047,    0.000,2,  -0.6332
  09AR20060102,  S04I,    94,  1,      9,      9,2,20060219,1543,-66.2498,  69.9948, 2291,    400.0,  -0.0432,  34.5700,2,  34.5715,2,    242.4,2,    244.5,2,    79.90,2,    30.12,2,   -999.0,9,   -999.0,9,2,     0.99,2,   -0.046,    0.000,2,  -0.0585
  09AR20060102,  S04I,    94,  1,      8,      8,2,20060219,1543,-66.2498,  69.9948, 2291,    598.6,   0.5943,  34.6700,2,  34.6693,2,    217.2,2,    217.9,2,    93.70,2,    30.17,2,   -999.0,9,   -999.0,9,2,     0.99,2,   -0.044,    0.000,2,   0.5670
  09AR20060102,  S04I,    94,  1,      7,      7,2,20060219,1543,-66.2498,  69.9948, 2291,    800.1,   0.6530,  34.6934,2,  34.6927,2,    212.4,2,    211.1,2,   105.70,2,    30.35,2,   -999.0,9,   -999.0,9,2,     0.99,2,   -0.040,    0.000,2,   0.6147
  09AR20060102,  S04I,    94,  1,      6,      6,2,20060219,1543,-66.2498,  69.9948, 2291,   1001.3,   0.5085,  34.6909,2,  34.6907,2,    213.3,2,    212.4,2,   111.10,2,    30.71,2,   -999.0,9,   -999.0,9,2,     0.99,2,   -0.042,    0.000,2,   0.4600
  09AR20060102,  S04I,    94,  1,      5,      5,2,20060219,1543,-66.2498,  69.9948, 2291,   1301.3,   0.3090,  34.6852,2,  34.6847,2,    216.2,2,    216.7,2,   115.90,2,    30.84,2,   -999.0,9,   -999.0,9,2,     0.99,2,   -0.047,    0.000,2,   0.2447
  09AR20060102,  S04I,    94,  1,      4,      4,2,20060219,1543,-66.2498,  69.9948, 2291,   1601.4,   0.1745,  34.6810,2,  34.6794,2,    220.1,2,    219.5,2,   116.50,2,    30.75,2,   -999.0,9,   -999.0,9,2,     0.99,2,   -0.047,    0.000,2,   0.0930
  09AR20060102,  S04I,    94,  1,      3,      3,2,20060219,1543,-66.2498,  69.9948, 2291,   1901.4,   0.0622,  34.6767,2,  34.6760,2,    223.9,2,    224.1,2,   117.70,2,    30.83,2,   -999.0,9,   -999.0,9,2,     0.99,2,   -0.050,    0.000,2,  -0.0377
  09AR20060102,  S04I,    94,  1,      2,      2,2,20060219,1543,-66.2498,  69.9948, 2291,   2299.1,  -0.1087,  34.6710,2,  34.6692,2,    228.6,2,    228.3,2,   121.60,2,    30.79,2,   -999.0,9,   -999.0,9,2,     0.99,2,   -0.050,    0.000,2,  -0.2341
  09AR20060102,  S04I,    94,  1,      1,      1,2,20060219,1543,-66.2498,  69.9948, 2291,   2321.0,  -0.1569,  34.6695,2,  34.6682,2,    229.5,2,    230.1,2,   123.90,2,    31.06,2,   -999.0,9,   -999.0,9,2,     0.99,2,   -0.051,    0.000,2,  -0.2830
  09AR20060102,  S04I,    95,  1,     24,     24,2,20060219,2028,-66.5063,  69.9998, 1984,      9.6,  -0.0352,  34.0071,2,  34.0080,2,    341.1,2,    341.2,2,    47.30,2,    26.78,2,   2174.4,2,   2308.0,2,2,     0.96,2,    0.864,    0.000,2,  -0.0355
  09AR20060102,  S04I,    95,  1,     23,     23,2,20060219,2028,-66.5063,  69.9998, 1984,     29.2,  -0.0306,  34.0075,2,-999.0000,9,    340.8,2,   -999.0,9,  -999.00,9,  -999.00,9,   -999.0,9,   -999.0,9,2,     0.96,2,    0.867,    0.000,2,  -0.0316
  09AR20060102,  S04I,    95,  1,     22,     22,2,20060219,2028,-66.5063,  69.9998, 1984,     29.3,  -0.0316,  34.0081,2,-999.0000,9,    340.8,2,   -999.0,9,  -999.00,9,  -999.00,9,   -999.0,9,   -999.0,9,2,     0.96,2,    0.887,    0.000,2,  -0.0326
  09AR20060102,  S04I,    95,  1,     21,     21,2,20060219,2028,-66.5063,  69.9998, 1984,     29.1,  -0.0336,  34.0076,2,  34.0091,2,    340.8,2,    341.8,2,  -999.00,9,  -999.00,9,   2175.4,6,   -999.0,9,2,     0.96,2,    0.877,    0.000,2,  -0.0346
  09AR20060102,  S04I,    95,  1,     20,     20,2,20060219,2028,-66.5063,  69.9998, 1984,     49.2,  -1.4998,  34.2520,2,  34.2546,2,    334.4,2,    324.2,2,    56.70,2,    28.70,2,   2206.1,2,   -999.0,9,2,     0.96,2,    1.491,    0.000,2,  -1.5009
  09AR20060102,  S04I,    95,  1,     19,     19,2,20060219,2028,-66.5063,  69.9998, 1984,     69.0,  -1.7914,  34.3026,2,  34.3020,2,    314.8,2,    312.2,2,    61.10,2,    29.84,2,   2211.1,2,   -999.0,9,2,     0.98,2,    0.789,    0.000,2,  -1.7928
  09AR20060102,  S04I,    95,  1,     18,     18,2,20060219,2028,-66.5063,  69.9998, 1984,     79.6,  -1.8040,  34.3083,2,  34.3074,2,    312.6,2,    312.8,2,    61.30,2,    29.95,2,   2214.0,2,   -999.0,9,2,     0.99,2,    0.389,    0.000,2,  -1.8056
  09AR20060102,  S04I,    95,  1,     17,     17,2,20060219,2028,-66.5063,  69.9998, 1984,     88.4,  -1.8002,  34.3117,2,  34.3114,2,    312.2,2,    312.8,2,    61.30,2,    29.91,2,   2213.7,2,   -999.0,9,2,     0.99,2,    0.349,    0.000,2,  -1.8019
  09AR20060102,  S04I,    95,  1,     16,     16,2,20060219,2028,-66.5063,  69.9998, 1984,     99.8,  -1.7938,  34.3156,2,  34.3149,2,    311.9,2,    313.0,2,    61.40,2,    30.15,2,   2214.7,2,   -999.0,9,2,     0.99,2,    0.277,    0.000,2,  -1.7958
  09AR20060102,  S04I,    95,  1,     15,     15,2,20060219,2028,-66.5063,  69.9998, 1984,    129.2,  -1.8033,  34.3306,2,  34.3304,2,    312.2,2,    312.7,2,    61.60,2,    30.06,2,   2214.7,2,   -999.0,9,2,     0.99,2,    0.094,    0.000,2,  -1.8059
  09AR20060102,  S04I,    95,  1,     14,     14,2,20060219,2028,-66.5063,  69.9998, 1984,    150.1,  -1.7975,  34.3378,2,  34.3372,2,    312.0,2,    313.2,2,    62.00,2,    30.06,2,   2213.8,2,   -999.0,9,2,     0.99,2,    0.046,    0.000,2,  -1.8006
  09AR20060102,  S04I,    95,  1,     13,     13,2,20060219,2028,-66.5063,  69.9998, 1984,    199.9,  -1.7455,  34.3517,2,  34.3507,2,    313.2,2,   -999.0,9,    62.30,2,    30.10,2,   2217.2,2,   -999.0,9,2,     0.99,2,   -0.006,    0.000,2,  -1.7498
  09AR20060102,  S04I,    95,  1,     12,     12,2,20060219,2028,-66.5063,  69.9998, 1984,    299.7,  -1.0992,  34.4256,2,  34.4250,2,    287.1,2,    286.2,2,    70.10,2,    30.63,2,   2227.6,2,   -999.0,9,2,     0.99,2,   -0.051,    0.000,2,  -1.1076
  09AR20060102,  S04I,    95,  1,     11,     11,2,20060219,2028,-66.5063,  69.9998, 1984,    401.0,   0.0075,  34.5628,2,  34.5589,2,    250.9,2,    243.8,2,    80.40,2,    31.29,2,   2238.6,2,   -999.0,9,2,     0.99,2,   -0.042,    0.000,2,  -0.0080
  09AR20060102,  S04I,    95,  1,     10,     10,2,20060219,2028,-66.5063,  69.9998, 1984,    499.1,   0.8167,  34.6681,2,  34.6682,2,    212.9,2,    213.3,2,    89.50,2,    31.14,2,   2254.2,2,   -999.0,9,2,     0.99,2,   -0.043,    0.000,2,   0.7935
  09AR20060102,  S04I,    95,  1,      9,      9,2,20060219,2028,-66.5063,  69.9998, 1984,    599.6,   0.8454,  34.6878,2,  34.6874,2,    209.8,2,    210.6,2,    98.50,2,    31.05,2,   2252.6,2,   -999.0,9,2,     0.99,2,   -0.043,    0.000,2,   0.8168
  09AR20060102,  S04I,    95,  1,      8,      8,2,20060219,2028,-66.5063,  69.9998, 1984,    699.9,   0.8348,  34.6985,2,  34.6988,2,    207.4,2,    208.1,2,   101.70,2,    31.43,2,   2256.6,2,   -999.0,9,2,     0.99,2,   -0.047,    0.000,2,   0.8009
  09AR20060102,  S04I,    95,  1,      7,      7,2,20060219,2028,-66.5063,  69.9998, 1984,    901.5,   0.6642,  34.6966,2,  34.6970,2,    209.0,2,    210.2,2,   109.10,2,    31.42,2,   2258.0,2,   -999.0,9,2,     0.99,2,   -0.043,    0.000,2,   0.6202
  09AR20060102,  S04I,    95,  1,      6,      6,2,20060219,2028,-66.5063,  69.9998, 1984,   1000.7,   0.5650,  34.6935,2,  34.6937,2,    210.2,2,    210.9,2,   111.90,2,    31.80,2,   2260.1,2,   -999.0,9,2,     0.99,2,   -0.044,    0.000,2,   0.5161
  09AR20060102,  S04I,    95,  1,      5,      5,2,20060219,2028,-66.5063,  69.9998, 1984,   1249.4,   0.3820,  34.6871,2,  34.6866,2,    213.8,2,    215.5,2,   116.20,2,    31.79,2,   2259.9,2,   -999.0,9,2,     0.99,2,   -0.043,    0.000,2,   0.3201
  09AR20060102,  S04I,    95,  1,      4,      4,2,20060219,2028,-66.5063,  69.9998, 1984,   1500.3,   0.2521,  34.6829,2,  34.6829,2,    218.2,2,    217.7,2,   118.60,2,    31.70,2,   2257.4,2,   -999.0,9,2,     0.99,2,   -0.047,    0.000,2,   0.1761
  09AR20060102,  S04I,    95,  1,      3,      3,2,20060219,2028,-66.5063,  69.9998, 1984,   1749.2,   0.1346,  34.6789,2,  34.6786,2,    221.0,2,    221.1,2,   119.80,2,    31.93,2,   2262.2,2,   -999.0,9,2,     0.99,2,   -0.046,    0.000,2,   0.0440
  09AR20060102,  S04I,    95,  1,      2,      2,2,20060219,2028,-66.5063,  69.9998, 1984,   1975.4,   0.0358,  34.6758,2,  34.6748,2,   -999.0,5,    224.2,2,   120.80,2,    31.74,2,   2259.3,2,   -999.0,9,2,     0.99,2,   -0.048,    0.000,2,  -0.0688
  09AR20060102,  S04I,    95,  1,      1,      1,2,20060219,2028,-66.5063,  69.9998, 1984,   2008.2,  -0.0863,  34.6657,2,  34.6682,2,    231.0,2,    229.0,2,   122.20,2,    31.73,2,   2258.2,6,   -999.0,9,2,     0.99,2,   -0.046,    0.000,2,  -0.1912