BOTTLE,20220816CCHSIOAMB
EXPOCODE,SECT_ID,STNNBR,CASTNO,SAMPNO,BTLNBR,BTLNBR_FLAG_W,DATE,TIME,LATITUDE,LONGITUDE,DEPTH,CTDPRS,CTDTMP,CTDSAL,CTDSAL_FLAG_W,SALNTY,SALNTY_FLAG_W,CTDOXY,CTDOXY_FLAG_W,OXYGEN,OXYGEN_FLAG_W,SILCAT,SILCAT_FLAG_W,NITRAT,NITRAT_FLAG_W,TCARBN,TCARBN_FLAG_W,ALKALI,ALKALI_FLAG_W,FLUOR_FLAG_W,XMISS,XMISS_FLAG_W,FLUOR,PAR,PAR_FLAG_W,THETA
,,,,,,,,,,,METERS,DBAR,ITS-90,PSS-78,,PSS-78,,UMOL/KG,,UMOL/KG,,UMOL/KG,,UMOL/KG,,UMOL/KG,,UMOL/KG,,,%TRANS,,VOLTS,VOLTS,,DEG C
  09AR20060102,  S04I,    75,  1,     24,     24,2,20060209,0901,-64.3332,  59.9998, 4226,     10.0,   0.4302,  33.8349,2,  33.8359,2,    339.4,2,    338.3,2,    48.30,2,    27.92,2,   2168.3,2,   2286.7,6,2,     0.08,2,    0.055,    0.267,2,   0.4298
  09AR20060102,  S04I,    75,  1,     23,     23,2,20060209,0901,-64.3332,  59.9998, 4226,     10.1,   0.4216,  33.8349,2,-999.0000,9,    339.4,2,   -999.0,9,  -999.00,9,  -999.00,9,   -999.0,9,   -999.0,9,2,     0.01,2,    0.095,    0.248,2,   0.4212
  09AR20060102,  S04I,    75,  1,     22,     22,2,20060209,0901,-64.3332,  59.9998, 4226,     21.0,   0.4072,  33.8351,2,-999.0000,9,    339.2,2,   -999.0,9,  -999.00,9,  -999.00,9,   -999.0,9,   -999.0,9,2,     0.27,2,    0.265,    0.132,2,   0.4064
  09AR20060102,  S04I,    75,  1,     21,     21,2,20060209,0901,-64.3332,  59.9998, 4226,     29.9,   0.3897,  33.8350,2,  33.8359,2,    339.3,2,    338.3,2,    48.30,2,    27.52,2,   2168.7,6,   2284.8,2,2,     0.46,2,    0.356,    0.089,2,   0.3886
  09AR20060102,  S04I,    75,  1,     20,     20,2,20060209,0901,-64.3332,  59.9998, 4226,     49.9,   0.2397,  33.8510,2,  33.8505,2,    336.0,2,    337.5,2,    48.90,2,    28.21,2,   2168.8,2,   2287.1,6,2,     0.86,2,    0.730,    0.047,2,   0.2379
  09AR20060102,  S04I,    75,  1,     19,     19,2,20060209,0901,-64.3332,  59.9998, 4226,     65.7,  -1.3077,  34.0670,2,  34.0659,2,    321.5,2,    322.2,2,    54.60,2,    28.70,2,   2193.0,2,   2301.3,2,2,     0.96,2,    1.107,    0.028,2,  -1.3092
  09AR20060102,  S04I,    75,  1,     18,     18,2,20060209,0901,-64.3332,  59.9998, 4226,     80.1,  -0.5678,  34.2439,2,  34.2338,2,    299.8,2,    280.1,3,    63.40,2,    30.56,2,   2185.5,2,   2310.0,2,2,     0.97,2,    1.441,    0.013,2,  -0.5702
  09AR20060102,  S04I,    75,  1,     17,     17,2,20060209,0901,-64.3332,  59.9998, 4226,     89.6,   0.0370,  34.3400,2,  34.3451,2,    276.6,2,    242.4,3,    70.70,2,    32.14,2,   2232.4,2,   2316.8,2,2,     0.98,2,    0.927,    0.008,2,   0.0338
  09AR20060102,  S04I,    75,  1,     16,     16,2,20060209,0901,-64.3332,  59.9998, 4226,    110.8,   0.6335,  34.4342,2,  34.4342,2,    227.9,2,    218.7,2,    75.20,2,    32.94,2,   2242.2,2,   2322.3,2,2,     0.98,2,    0.543,    0.002,2,   0.6289
  09AR20060102,  S04I,    75,  1,     15,     15,2,20060209,0901,-64.3332,  59.9998, 4226,    150.1,   1.2996,  34.5469,2,  34.5466,2,    196.7,2,    192.1,2,    82.80,2,    34.01,2,   2257.0,2,   2328.9,2,2,     0.99,2,    0.170,    0.000,2,   1.2925
  09AR20060102,  S04I,    75,  1,     14,     14,2,20060209,0901,-64.3332,  59.9998, 4226,    200.5,   1.5774,  34.6165,2,  34.6160,2,    183.6,2,    182.8,2,    85.80,2,    33.87,2,   2259.3,2,   2334.4,2,2,     0.99,2,   -0.013,    0.000,2,   1.5674
  09AR20060102,  S04I,    75,  1,     13,     13,2,20060209,0901,-64.3332,  59.9998, 4226,    297.7,   1.6757,  34.6708,2,  34.6719,2,    181.0,2,    182.7,2,    88.30,2,    32.14,2,   2258.7,2,   2339.8,2,2,     0.99,2,   -0.033,    0.000,2,   1.6603
  09AR20060102,  S04I,    75,  1,     12,     12,2,20060209,0901,-64.3332,  59.9998, 4226,    400.9,   1.6493,  34.7023,2,  34.7035,2,    185.2,2,    186.9,2,    89.00,2,    31.59,2,   2258.7,2,   2344.5,2,2,     0.99,2,   -0.038,    0.000,2,   1.6282
  09AR20060102,  S04I,    75,  1,     11,     11,2,20060209,0901,-64.3332,  59.9998, 4226,    500.2,   1.5836,  34.7183,2,  34.7192,2,    189.1,2,    190.3,2,    91.00,2,    31.83,2,   2255.5,6,   2349.0,2,2,     0.99,2,   -0.037,    0.000,2,   1.5571
  09AR20060102,  S04I,    75,  1,     10,     10,2,20060209,0901,-64.3332,  59.9998, 4226,    799.7,   1.2873,  34.7252,2,  34.7259,2,    196.8,2,    197.5,2,    97.20,2,    31.08,2,   2255.4,2,   2351.8,2,2,     0.99,2,   -0.041,    0.000,2,   1.2449
  09AR20060102,  S04I,    75,  1,      9,      9,2,20060209,0901,-64.3332,  59.9998, 4226,   1099.1,   1.0047,  34.7166,2,  34.7174,2,    200.7,2,    201.4,2,   105.40,2,    31.46,2,   2256.5,2,   2351.2,2,2,     0.99,2,   -0.043,    0.000,2,   0.9461
  09AR20060102,  S04I,    75,  1,      8,      8,2,20060209,0901,-64.3332,  59.9998, 4226,   1600.3,   0.6379,  34.7002,2,  34.7011,2,    204.9,2,    205.7,2,   116.10,2,    32.20,2,   2264.1,2,   2353.5,2,2,     0.99,2,   -0.046,    0.000,2,   0.5506
  09AR20060102,  S04I,    75,  1,      7,      7,2,20060209,0901,-64.3332,  59.9998, 4226,   2098.8,   0.3800,  34.6866,2,  34.6870,2,    210.3,2,    210.6,2,   122.20,2,    32.59,2,   2262.4,2,   2352.5,2,2,     0.99,2,   -0.047,    0.000,2,   0.2610
  09AR20060102,  S04I,    75,  1,      6,      6,2,20060209,0901,-64.3332,  59.9998, 4226,   2600.3,   0.1644,  34.6772,2,  34.6768,2,    218.2,2,    218.0,2,   125.30,2,    32.65,2,   2261.7,2,   2351.3,2,2,     0.99,2,   -0.045,    0.000,2,   0.0106
  09AR20060102,  S04I,    75,  1,      5,      5,2,20060209,0901,-64.3332,  59.9998, 4226,   3100.0,   0.0149,  34.6705,2,  34.6701,2,    224.7,2,    224.2,2,   127.60,2,    32.93,2,   2259.9,2,   2351.7,2,2,     0.99,2,   -0.050,    0.000,2,  -0.1775
  09AR20060102,  S04I,    75,  1,      4,      4,2,20060209,0901,-64.3332,  59.9998, 4226,   3599.6,  -0.1172,  34.6644,2,  34.6637,2,    231.3,2,    231.3,2,   128.10,2,    32.21,2,   2256.8,2,   2352.2,2,2,     0.99,2,   -0.052,    0.000,2,  -0.3513
  09AR20060102,  S04I,    75,  1,      3,      3,2,20060209,0901,-64.3332,  59.9998, 4226,   4100.9,  -0.2445,  34.6561,2,  34.6558,2,    239.2,2,    239.5,2,   131.90,2,    32.24,2,   2254.4,2,   2349.4,2,2,     0.99,2,   -0.052,    0.000,2,  -0.5235
  09AR20060102,  S04I,    75,  1,      2,      2,2,20060209,0901,-64.3332,  59.9998, 4226,   4292.2,  -0.3296,  34.6485,2,  34.6483,2,    247.7,2,    248.2,2,   122.70,2,    32.00,2,   2252.1,2,   2347.2,6,2,     0.99,2,   -0.050,    0.000,2,  -0.6253
  09AR20060102,  S04I,    75,  1,      1,      1,2,20060209,0901,-64.3332,  59.9998, 4226,   4302.7,  -0.3382,  34.6474,2,  34.6466,2,    248.6,2,    249.6,2,   120.40,2,    31.78,2,   2251.3,6,   2347.1,2,2,     0.99,2,   -0.053,    0.000,2,  -0.6347
  09AR20060102,  S04I,    76,  1,     24,     24,2,20060209,1824,-65.0023,  60.0042, 4039,      9.9,   0.4896,  33.8538,2,  33.8550,2,    337.0,2,    337.4,2,    47.30,2,    24.53,2,   2174.9,2,   -999.0,9,2,     0.02,2,    0.774,    0.000,2,   0.4892
  09AR20060102,  S04I,    76,  1,     23,     23,2,20060209,1824,-65.0023,  60.0042, 4039,     31.3,   0.4710,  33.8536,2,-999.0000,9,    337.3,2,   -999.0,9,  -999.00,9,  -999.00,9,   -999.0,9,   -999.0,9,2,     0.42,2,    0.786,    0.000,2,   0.4698
  09AR20060102,  S04I,    76,  1,     22,     22,2,20060209,1824,-65.0023,  60.0042, 4039,     31.3,   0.4655,  33.8533,2,-999.0000,9,    337.3,2,   -999.0,9,  -999.00,9,  -999.00,9,   -999.0,9,   -999.0,9,2,     0.41,2,    0.821,    0.000,2,   0.4643
  09AR20060102,  S04I,    76,  1,     21,     21,2,20060209,1824,-65.0023,  60.0042, 4039,     31.0,   0.4556,  33.8532,2,  33.8548,2,    337.2,2,    337.5,2,    48.00,2,    26.28,2,   2174.5,2,   -999.0,9,2,     0.37,2,    0.806,    0.000,2,   0.4544
  09AR20060102,  S04I,    76,  1,     20,     20,2,20060209,1824,-65.0023,  60.0042, 4039,     49.7,   0.4080,  33.8552,2,  33.8625,2,    337.0,2,    336.7,2,    48.40,2,    25.26,2,   2177.1,2,   -999.0,9,2,     0.70,2,    0.886,    0.000,2,   0.4061
  09AR20060102,  S04I,    76,  1,     19,     19,2,20060209,1824,-65.0023,  60.0042, 4039,     70.3,  -1.1476,  34.0984,2,  34.0946,2,    309.9,2,    312.7,2,    57.90,2,    29.78,2,   2195.9,2,   -999.0,9,2,     0.94,2,    1.301,    0.000,2,  -1.1493
  09AR20060102,  S04I,    76,  1,     18,     18,2,20060209,1824,-65.0023,  60.0042, 4039,     91.1,  -0.4950,  34.2833,2,  34.2773,2,    269.7,2,    269.7,2,    67.10,2,    31.56,2,   2222.7,2,   -999.0,9,2,     0.97,2,    1.450,    0.000,2,  -0.4978
  09AR20060102,  S04I,    76,  1,     17,     17,2,20060209,1824,-65.0023,  60.0042, 4039,    105.2,   0.1688,  34.3977,2,  34.3954,2,    243.0,2,    237.5,2,    73.20,2,    32.31,2,   -999.0,9,   -999.0,9,2,     0.98,2,    0.685,    0.000,2,   0.1649
  09AR20060102,  S04I,    76,  1,     16,     16,2,20060209,1824,-65.0023,  60.0042, 4039,    129.0,   0.9617,  34.5284,2,  34.4070,4,    213.9,2,    205.9,3,    79.90,2,    33.66,2,   2253.0,2,   -999.0,9,2,     0.99,2,    0.296,    0.000,2,   0.9560
  09AR20060102,  S04I,    76,  1,     15,     15,2,20060209,1824,-65.0023,  60.0042, 4039,    149.8,   1.1897,  34.5746,2,  34.5746,2,    197.1,2,    196.6,2,    82.40,2,    33.67,2,   -999.0,9,   -999.0,9,2,     0.99,2,    0.093,    0.000,2,   1.1828
  09AR20060102,  S04I,    76,  1,     14,     14,2,20060209,1824,-65.0023,  60.0042, 4039,    200.3,   1.5485,  34.6444,2,  34.6482,2,    182.1,2,    185.4,2,    86.00,2,    32.97,2,   2262.2,2,   -999.0,9,2,     0.99,2,   -0.024,    0.000,2,   1.5385
  09AR20060102,  S04I,    76,  1,     13,     13,2,20060209,1824,-65.0023,  60.0042, 4039,    300.6,   1.6584,  34.6936,2,  34.6949,2,    183.2,2,    185.7,2,    89.60,2,    32.59,2,   -999.0,9,   -999.0,9,2,     0.99,2,   -0.034,    0.000,2,   1.6428
  09AR20060102,  S04I,    76,  1,     12,     12,2,20060209,1824,-65.0023,  60.0042, 4039,    397.8,   1.6219,  34.7151,2,  34.7159,2,    187.1,2,    189.6,2,    87.60,2,    32.00,2,   -999.0,9,   -999.0,9,2,     0.99,2,   -0.038,    0.000,2,   1.6011
  09AR20060102,  S04I,    76,  1,     11,     11,2,20060209,1824,-65.0023,  60.0042, 4039,    499.3,   1.5342,  34.7234,2,  34.7245,2,    191.3,2,    192.8,2,    89.70,2,    31.19,2,   -999.0,9,   -999.0,9,2,     0.99,2,   -0.036,    0.000,2,   1.5080
  09AR20060102,  S04I,    76,  1,     10,     10,2,20060209,1824,-65.0023,  60.0042, 4039,    801.3,   1.2357,  34.7270,2,  34.7302,2,    199.1,2,    200.0,2,    96.20,2,    30.96,2,   -999.0,9,   -999.0,9,2,     0.99,2,   -0.039,    0.000,2,   1.1935
  09AR20060102,  S04I,    76,  1,      9,      9,2,20060209,1824,-65.0023,  60.0042, 4039,   1200.3,   0.8804,  34.7135,2,  34.7174,2,    204.0,2,    204.6,2,   107.80,2,    32.08,2,   -999.0,9,   -999.0,9,2,     0.99,2,   -0.046,    0.000,2,   0.8166
  09AR20060102,  S04I,    76,  1,      8,      8,2,20060209,1824,-65.0023,  60.0042, 4039,   1750.9,   0.5182,  34.6944,2,  34.6954,2,    208.7,2,    208.9,2,   117.80,2,    32.72,2,   -999.0,9,   -999.0,9,2,     0.99,2,   -0.044,    0.000,2,   0.4221
  09AR20060102,  S04I,    76,  1,      7,      7,2,20060209,1824,-65.0023,  60.0042, 4039,   2248.9,   0.2624,  34.6806,2,  34.6809,2,    215.7,2,    216.0,2,   121.60,2,    32.94,2,   -999.0,9,   -999.0,9,2,     0.99,2,   -0.046,    0.000,2,   0.1342
  09AR20060102,  S04I,    76,  1,      6,      6,2,20060209,1824,-65.0023,  60.0042, 4039,   2599.0,   0.1355,  34.6760,2,  34.6756,2,    220.8,2,    220.2,2,   124.50,2,    33.31,2,   -999.0,9,   -999.0,9,2,     0.99,2,   -0.047,    0.000,2,  -0.0176
  09AR20060102,  S04I,    76,  1,      5,      5,2,20060209,1824,-65.0023,  60.0042, 4039,   3096.3,  -0.0316,  34.6691,2,  34.6689,2,    227.6,2,    227.6,2,   127.20,2,    32.84,2,   -999.0,9,   -999.0,9,2,     0.99,2,   -0.052,    0.000,2,  -0.2226
  09AR20060102,  S04I,    76,  1,      4,      4,2,20060209,1824,-65.0023,  60.0042, 4039,   3679.1,  -0.1967,  34.6606,2,  34.6597,2,    238.6,2,    237.3,2,   130.40,2,    32.62,2,   -999.0,9,   -999.0,9,2,     0.99,2,   -0.051,    0.000,2,  -0.4362
  09AR20060102,  S04I,    76,  1,      3,      3,2,20060209,1824,-65.0023,  60.0042, 4039,   4047.9,  -0.2596,  34.6576,2,  34.6566,2,    240.3,2,    240.8,2,   144.20,2,    32.71,2,   -999.0,9,   -999.0,9,2,     0.99,2,   -0.053,    0.000,2,  -0.5329
  09AR20060102,  S04I,    76,  1,      2,      2,2,20060209,1824,-65.0023,  60.0042, 4039,   4099.0,  -0.3021,  34.6531,2,  34.6525,2,    245.5,2,    245.4,2,   126.10,2,    32.32,2,   -999.0,9,   -999.0,9,2,     0.99,2,   -0.052,    0.000,2,  -0.5792
  09AR20060102,  S04I,    76,  1,      1,      1,2,20060209,1824,-65.0023,  60.0042, 4039,   4116.2,  -0.3340,  34.6506,2,  34.6493,2,    250.6,2,    250.9,2,   113.40,2,    32.49,2,   -999.0,9,   -999.0,9,2,     0.99,2,   -0.050,    0.000,2,  -0.6119
  09AR20060102,  S04I,    77,  1,     24,     24,2,20060210,0056,-65.4992,  59.9977, 3801,     10.4,   0.3922,  33.8530,2,  33.8546,2,    338.6,2,    338.8,2,    49.10,2,    27.43,2,   2169.9,2,   2290.6,2,2,     0.95,2,    0.412,    0.128,2,   0.3918
  09AR20060102,  S04I,    77,  1,     23,     23,2,20060210,0056,-65.4992,  59.9977, 3801,     50.5,   0.3026,  33.8511,2,-999.0000,9,    338.3,2,   -999.0,9,  -999.00,9,  -999.00,9,   -999.0,9,   -999.0,9,2,     0.96,2,    0.758,    0.019,2,   0.3007
  09AR20060102,  S04I,    77,  1,     22,     22,2,20060210,0056,-65.4992,  59.9977, 3801,     50.6,   0.3018,  33.8511,2,-999.0000,9,    338.3,2,   -999.0,9,  -999.00,9,  -999.00,9,   -999.0,9,   -999.0,9,2,     0.96,2,    0.832,    0.019,2,   0.2999
  09AR20060102,  S04I,    77,  1,     21,     21,2,20060210,0056,-65.4992,  59.9977, 3801,     50.6,   0.3020,  33.8509,2,  33.8533,2,    338.3,2,    338.9,2,    49.30,2,    27.56,2,   2174.7,6,   -999.0,9,2,     0.96,2,    0.777,    0.018,2,   0.3001
  09AR20060102,  S04I,    77,  1,     20,     20,2,20060210,0056,-65.4992,  59.9977, 3801,     70.5,  -1.0257,  34.1630,2,  34.1526,2,    302.3,2,    300.8,2,    60.70,2,    29.94,2,   2202.3,2,   -999.0,9,2,     0.97,2,    1.599,    0.007,2,  -1.0275
  09AR20060102,  S04I,    77,  1,     19,     19,2,20060210,0056,-65.4992,  59.9977, 3801,     89.6,  -0.3141,  34.3156,2,  34.3133,2,    260.9,2,    261.1,2,    69.10,2,    31.31,2,   2222.9,2,   -999.0,9,2,     0.97,2,    1.630,    0.002,2,  -0.3170
  09AR20060102,  S04I,    77,  1,     18,     18,2,20060210,0056,-65.4992,  59.9977, 3801,    110.5,   0.6270,  34.4770,2,  34.4836,2,    218.0,2,    217.4,2,    77.80,2,    32.80,2,   2246.2,2,   -999.0,9,2,     0.98,2,    0.618,    0.000,2,   0.6225
  09AR20060102,  S04I,    77,  1,     17,     17,2,20060210,0056,-65.4992,  59.9977, 3801,    120.7,   0.7704,  34.5030,2,  34.5034,2,    209.1,2,    214.0,2,    78.80,2,    33.16,2,   2248.0,2,   -999.0,9,2,     0.98,2,    0.549,    0.000,2,   0.7653
  09AR20060102,  S04I,    77,  1,     16,     16,2,20060210,0056,-65.4992,  59.9977, 3801,    150.2,   1.3561,  34.5991,2,  34.5975,2,    188.2,2,    191.3,2,    83.00,2,    33.67,2,   2256.1,2,   -999.0,9,2,     0.99,2,    0.025,    0.000,2,   1.3489
  09AR20060102,  S04I,    77,  1,     15,     15,2,20060210,0056,-65.4992,  59.9977, 3801,    199.1,   1.5991,  34.6564,2,  34.6556,2,    185.6,2,    184.5,2,    86.20,2,    32.23,2,   2258.3,2,   -999.0,9,2,     0.99,2,   -0.028,    0.000,2,   1.5891
  09AR20060102,  S04I,    77,  1,     14,     14,2,20060210,0056,-65.4992,  59.9977, 3801,    300.6,   1.5755,  34.6928,2,  34.6935,2,    190.0,2,    188.4,2,    87.10,2,    32.31,2,   2257.6,6,   -999.0,9,2,     0.99,2,   -0.035,    0.000,2,   1.5601
  09AR20060102,  S04I,    77,  1,     13,     13,2,20060210,0056,-65.4992,  59.9977, 3801,    400.0,   1.5316,  34.7101,2,  34.7104,2,    192.7,2,    191.8,2,    88.10,2,    31.49,2,   2253.3,2,   -999.0,9,2,     0.99,2,   -0.040,    0.000,2,   1.5110
  09AR20060102,  S04I,    77,  1,     12,     12,2,20060210,0056,-65.4992,  59.9977, 3801,    501.1,   1.4788,  34.7230,2,  34.7241,2,    196.0,2,    194.6,2,    90.30,2,    31.24,2,   2252.8,2,   -999.0,9,2,     0.99,2,   -0.042,    0.000,2,   1.4527
  09AR20060102,  S04I,    77,  1,     11,     11,2,20060210,0056,-65.4992,  59.9977, 3801,    750.2,   1.2375,  34.7270,2,  34.7284,2,    200.7,2,    199.9,2,    98.40,2,    31.47,2,   2256.2,2,   -999.0,9,2,     0.99,2,   -0.039,    0.000,2,   1.1983
  09AR20060102,  S04I,    77,  1,     10,     10,2,20060210,0056,-65.4992,  59.9977, 3801,   1001.3,   1.0075,  34.7196,2,  34.7198,2,    203.5,2,    203.2,2,   104.50,2,    31.23,2,   2256.6,2,   -999.0,9,2,     0.99,2,   -0.040,    0.000,2,   0.9549
  09AR20060102,  S04I,    77,  1,      9,      9,2,20060210,0056,-65.4992,  59.9977, 3801,   1250.0,   0.7898,  34.7083,2,  34.7092,2,    205.2,2,    205.5,2,   110.00,2,    31.89,2,   2257.4,2,   -999.0,9,2,     0.99,2,   -0.042,    0.000,2,   0.7238
  09AR20060102,  S04I,    77,  1,      8,      8,2,20060210,0056,-65.4992,  59.9977, 3801,   1876.2,   0.3891,  34.6872,2,  34.6878,2,    212.1,2,    211.8,2,   119.80,2,    32.74,2,   2262.3,2,   -999.0,9,2,     0.99,2,   -0.045,    0.000,2,   0.2861
  09AR20060102,  S04I,    77,  1,      7,      7,2,20060210,0056,-65.4992,  59.9977, 3801,   2000.9,   0.3412,  34.6852,2,  34.6858,2,    212.4,2,    212.7,2,   121.70,2,    32.58,2,   2263.3,2,   -999.0,9,2,     0.99,2,   -0.045,    0.000,2,   0.2300
  09AR20060102,  S04I,    77,  1,      6,      6,2,20060210,0056,-65.4992,  59.9977, 3801,   2500.1,   0.1380,  34.6765,2,  34.6766,2,    221.0,2,    219.8,2,   124.30,2,    32.28,2,   2263.3,2,   -999.0,9,2,     0.99,2,   -0.047,    0.000,2,  -0.0073
  09AR20060102,  S04I,    77,  1,      5,      5,2,20060210,0056,-65.4992,  59.9977, 3801,   3000.8,  -0.0169,  34.6704,2,  34.6703,2,    227.2,2,    227.2,2,   124.90,2,    32.62,2,   2258.8,2,   -999.0,9,2,     0.99,2,   -0.051,    0.000,2,  -0.2000
  09AR20060102,  S04I,    77,  1,      4,      4,2,20060210,0056,-65.4992,  59.9977, 3801,   3499.9,  -0.1659,  34.6640,2,  34.6635,2,    235.5,2,    235.2,2,   126.80,2,    32.47,2,   2254.6,2,   -999.0,9,2,     0.99,2,   -0.050,    0.000,2,  -0.3895
  09AR20060102,  S04I,    77,  1,      3,      3,2,20060210,0056,-65.4992,  59.9977, 3801,   3750.4,  -0.2708,  34.6579,2,  34.6572,2,    240.3,2,    240.2,2,   131.70,2,    32.13,2,   2257.6,2,   -999.0,9,2,     0.99,2,   -0.052,    0.000,2,  -0.5150
  09AR20060102,  S04I,    77,  1,      2,      2,2,20060210,0056,-65.4992,  59.9977, 3801,   3865.5,  -0.3923,  34.6504,2,  34.6499,2,    256.3,2,    256.8,2,   103.50,2,    31.68,2,   2250.5,2,   -999.0,9,2,     0.99,2,   -0.052,    0.000,2,  -0.6440
  09AR20060102,  S04I,    77,  1,      1,      1,2,20060210,0056,-65.4992,  59.9977, 3801,   3877.4,  -0.3909,  34.6503,2,  34.6497,2,    257.0,2,    256.4,2,   102.60,2,    31.44,2,   2250.8,6,   -999.0,9,2,     0.99,2,   -0.051,    0.000,2,  -0.6438