BOTTLE,20220816CCHSIOAMB
EXPOCODE,SECT_ID,STNNBR,CASTNO,SAMPNO,BTLNBR,BTLNBR_FLAG_W,DATE,TIME,LATITUDE,LONGITUDE,DEPTH,CTDPRS,CTDTMP,CTDSAL,CTDSAL_FLAG_W,SALNTY,SALNTY_FLAG_W,CTDOXY,CTDOXY_FLAG_W,OXYGEN,OXYGEN_FLAG_W,SILCAT,SILCAT_FLAG_W,NITRAT,NITRAT_FLAG_W,TCARBN,TCARBN_FLAG_W,ALKALI,ALKALI_FLAG_W,FLUOR_FLAG_W,XMISS,XMISS_FLAG_W,FLUOR,PAR,PAR_FLAG_W,THETA
,,,,,,,,,,,METERS,DBAR,ITS-90,PSS-78,,PSS-78,,UMOL/KG,,UMOL/KG,,UMOL/KG,,UMOL/KG,,UMOL/KG,,UMOL/KG,,,%TRANS,,VOLTS,VOLTS,,DEG C
  09AR20060102,  S04I,    54,  1,     24,     24,2,20060130,0948,-67.9415,  39.9963, 2216,      9.5,  -0.6719,  32.9090,2,  32.9721,3,    355.8,2,    357.2,2,    48.60,2,    24.64,2,   2104.9,2,   2233.6,2,2,     0.90,2,    0.301,    0.607,2,  -0.6721
  09AR20060102,  S04I,    54,  1,     23,     23,2,20060130,0948,-67.9415,  39.9963, 2216,     10.2,  -0.6604,  32.9245,2,-999.0000,9,    355.8,2,   -999.0,9,  -999.00,9,  -999.00,9,   -999.0,9,   -999.0,9,2,     0.90,2,    0.501,    0.744,2,  -0.6607
  09AR20060102,  S04I,    54,  1,     22,     22,2,20060130,0948,-67.9415,  39.9963, 2216,     23.3,  -1.1620,  33.1987,2,-999.0000,9,    360.0,2,   -999.0,9,  -999.00,9,  -999.00,9,   -999.0,9,   -999.0,9,2,     0.87,2,    1.563,    0.278,2,  -1.1625
  09AR20060102,  S04I,    54,  1,     21,     21,2,20060130,0948,-67.9415,  39.9963, 2216,     29.0,  -1.3664,  33.2884,2,  33.3328,3,    356.4,2,    353.0,2,    51.90,2,    25.69,2,   2130.1,6,   -999.0,9,2,     0.85,2,    2.320,    0.122,2,  -1.3670
  09AR20060102,  S04I,    54,  1,     20,     20,2,20060130,0948,-67.9415,  39.9963, 2216,     39.4,  -1.5890,  33.7942,2,  33.7946,2,    337.3,2,    339.0,2,    57.40,2,    26.97,2,   2165.1,2,   -999.0,9,2,     0.89,2,    3.557,    0.040,2,  -1.5898
  09AR20060102,  S04I,    54,  1,     19,     19,2,20060130,0948,-67.9415,  39.9963, 2216,     54.2,  -1.6490,  34.2196,2,  34.2223,2,    311.7,2,    310.2,2,    63.50,2,    29.56,2,   2204.0,2,   -999.0,9,2,     0.96,2,    2.452,    0.015,2,  -1.6501
  09AR20060102,  S04I,    54,  1,     18,     18,2,20060130,0948,-67.9415,  39.9963, 2216,     70.1,  -1.6882,  34.2554,2,  34.2550,2,    311.5,2,    308.2,2,    65.80,2,    29.84,2,   2211.7,2,   -999.0,9,2,     0.97,2,    1.565,    0.005,2,  -1.6896
  09AR20060102,  S04I,    54,  1,     17,     17,2,20060130,0948,-67.9415,  39.9963, 2216,     89.7,  -1.7531,  34.2816,2,  34.2806,2,    309.8,2,    310.7,2,    65.20,2,    30.43,2,   2213.6,2,   -999.0,9,2,     0.98,2,    0.745,    0.001,2,  -1.7549
  09AR20060102,  S04I,    54,  1,     16,     16,2,20060130,0948,-67.9415,  39.9963, 2216,    109.9,  -1.7626,  34.2937,2,  34.2928,2,    309.4,2,    309.2,2,    65.80,2,    30.60,2,   2216.0,2,   -999.0,9,2,     0.99,2,    0.327,    0.000,2,  -1.7648
  09AR20060102,  S04I,    54,  1,     15,     15,2,20060130,0948,-67.9415,  39.9963, 2216,    150.3,  -1.7826,  34.3087,2,  34.3074,2,    311.2,2,    310.7,2,    65.50,2,    30.81,2,   2217.1,2,   -999.0,9,2,     0.99,2,    0.123,    0.000,2,  -1.7857
  09AR20060102,  S04I,    54,  1,     14,     14,2,20060130,0948,-67.9415,  39.9963, 2216,    200.0,  -1.7694,  34.3279,2,  34.3292,2,    313.4,2,    311.6,2,    63.40,2,    30.47,2,   2218.0,2,   -999.0,9,2,     0.99,2,    0.017,    0.000,2,  -1.7736
  09AR20060102,  S04I,    54,  1,     13,     13,2,20060130,0948,-67.9415,  39.9963, 2216,    250.2,  -1.2987,  34.3893,2,  34.3921,2,    281.9,2,    291.7,2,    68.00,2,    30.80,2,   2223.3,2,   -999.0,9,2,     0.99,2,   -0.022,    0.000,2,  -1.3052
  09AR20060102,  S04I,    54,  1,     12,     12,2,20060130,0948,-67.9415,  39.9963, 2216,    299.2,  -0.0533,  34.5311,2,  34.5340,2,    249.5,2,    246.1,2,    79.90,2,    31.39,2,   2238.8,2,   -999.0,9,2,     0.99,2,   -0.031,    0.000,2,  -0.0644
  09AR20060102,  S04I,    54,  1,     11,     11,2,20060130,0948,-67.9415,  39.9963, 2216,    399.8,   0.4625,  34.6190,2,  34.6215,2,    224.2,2,    226.0,2,    86.80,2,    31.47,2,   2247.3,6,   -999.0,9,2,     0.99,2,   -0.039,    0.000,2,   0.4455
  09AR20060102,  S04I,    54,  1,     10,     10,2,20060130,0948,-67.9415,  39.9963, 2216,    500.5,   0.6999,  34.6632,2,  34.6625,2,    218.4,2,    218.0,2,    91.70,2,    31.30,2,   2251.2,2,   -999.0,9,2,     0.99,2,   -0.041,    0.000,2,   0.6771
  09AR20060102,  S04I,    54,  1,      9,      9,2,20060130,0948,-67.9415,  39.9963, 2216,    600.2,   0.5889,  34.6654,2,  34.6664,2,    222.0,2,    219.0,2,    94.60,2,    31.28,2,   2250.6,2,   -999.0,9,2,     0.99,2,   -0.043,    0.000,2,   0.5616
  09AR20060102,  S04I,    54,  1,      8,      8,2,20060130,0948,-67.9415,  39.9963, 2216,    699.4,   0.6641,  34.6818,2,  34.6819,2,    214.2,2,    214.5,2,    99.50,2,    31.43,2,   2255.9,2,   -999.0,9,2,     0.99,2,   -0.047,    0.000,2,   0.6312
  09AR20060102,  S04I,    54,  1,      7,      7,2,20060130,0948,-67.9415,  39.9963, 2216,    900.0,   0.5862,  34.6846,2,  34.6850,2,    212.8,2,    213.8,2,   104.80,2,    31.55,2,   2257.9,2,   -999.0,9,2,     0.99,2,   -0.046,    0.000,2,   0.5429
  09AR20060102,  S04I,    54,  1,      6,      6,2,20060130,0948,-67.9415,  39.9963, 2216,   1099.5,   0.4733,  34.6840,2,  34.6841,2,    212.5,2,    213.5,2,   110.80,2,    31.85,2,   2262.0,6,   -999.0,9,2,     0.99,2,   -0.045,    0.000,2,   0.4195
  09AR20060102,  S04I,    54,  1,      5,      5,2,20060130,0948,-67.9415,  39.9963, 2216,   1300.0,   0.3676,  34.6802,2,  34.6792,2,    215.2,2,    216.0,2,   114.30,2,    31.91,2,   2259.6,2,   -999.0,9,2,     0.99,2,   -0.047,    0.000,2,   0.3028
  09AR20060102,  S04I,    54,  1,      4,      4,2,20060130,0948,-67.9415,  39.9963, 2216,   1600.6,   0.2009,  34.6736,2,  34.6731,2,    219.4,2,    219.5,2,   117.40,2,    32.23,2,   2260.3,2,   -999.0,9,2,     0.99,2,   -0.047,    0.000,2,   0.1192
  09AR20060102,  S04I,    54,  1,      3,      3,2,20060130,0948,-67.9415,  39.9963, 2216,   1900.0,   0.0946,  34.6701,2,  34.6692,2,    223.0,2,    222.9,2,   119.30,2,    32.03,2,   2259.0,2,   -999.0,9,2,     0.99,2,   -0.051,    0.000,2,  -0.0056
  09AR20060102,  S04I,    54,  1,      2,      2,2,20060130,0948,-67.9415,  39.9963, 2216,   2200.1,  -0.0027,  34.6643,2,  34.6637,2,    227.9,2,    228.0,2,   117.90,2,    32.09,2,   2258.0,2,   -999.0,9,2,     0.99,2,   -0.050,    0.000,2,  -0.1226
  09AR20060102,  S04I,    54,  1,      1,      1,2,20060130,0948,-67.9415,  39.9963, 2216,   2264.3,  -0.0174,  34.6638,2,  34.6623,2,    228.9,2,    229.0,2,   118.20,2,    31.95,2,   2257.8,6,   -999.0,9,2,     0.99,2,   -0.051,    0.000,2,  -0.1418
  09AR20060102,  S04I,    55,  1,     24,     24,2,20060130,1323,-68.0478,  39.9992, 1521,      9.9,  -0.7967,  33.1176,2,  33.1308,2,    355.6,2,    357.8,2,    48.30,2,    24.83,2,   2116.4,2,   -999.0,9,2,     0.89,2,    0.714,    0.307,2,  -0.7970
  09AR20060102,  S04I,    55,  1,     23,     23,2,20060130,1323,-68.0478,  39.9992, 1521,      9.9,  -0.8253,  33.1192,2,-999.0000,9,    355.6,2,   -999.0,9,  -999.00,9,  -999.00,9,   -999.0,9,   -999.0,9,2,     0.89,2,    0.738,    0.318,2,  -0.8255
  09AR20060102,  S04I,    55,  1,     22,     22,2,20060130,1323,-68.0478,  39.9992, 1521,     10.8,  -0.8216,  33.1289,2,-999.0000,9,    355.6,2,   -999.0,9,  -999.00,9,  -999.00,9,   -999.0,9,   -999.0,9,2,     0.90,2,    0.978,    0.286,2,  -0.8219
  09AR20060102,  S04I,    55,  1,     21,     21,2,20060130,1323,-68.0478,  39.9992, 1521,     19.0,  -0.7260,  33.1616,2,  33.2057,3,    357.6,2,    357.1,2,    48.60,2,    25.15,2,   2122.9,2,   -999.0,9,2,     0.91,2,    0.977,    0.145,2,  -0.7265
  09AR20060102,  S04I,    55,  1,     20,     20,2,20060130,1323,-68.0478,  39.9992, 1521,     34.9,  -1.4466,  33.3878,2,  33.4289,3,    352.3,2,    348.9,2,    51.80,2,    25.43,2,   2137.0,2,   -999.0,9,2,     0.88,2,    2.535,    0.043,2,  -1.4473
  09AR20060102,  S04I,    55,  1,     19,     19,2,20060130,1323,-68.0478,  39.9992, 1521,     45.2,  -1.5145,  33.9346,2,  33.9851,3,    337.0,2,    334.3,2,    57.50,2,    27.29,2,   2179.3,2,   -999.0,9,2,     0.94,2,    2.011,    0.019,2,  -1.5155
  09AR20060102,  S04I,    55,  1,     18,     18,2,20060130,1323,-68.0478,  39.9992, 1521,     54.3,  -1.6918,  34.2359,2,  34.2362,2,    324.8,2,    321.0,2,    63.10,2,    28.85,2,   2202.0,2,   -999.0,9,2,     0.94,2,    2.674,    0.010,2,  -1.6929
  09AR20060102,  S04I,    55,  1,     17,     17,2,20060130,1323,-68.0478,  39.9992, 1521,     64.5,  -1.7586,  34.2640,2,  34.2675,2,    318.8,2,    318.2,2,    62.90,2,    29.96,2,   2210.0,2,   -999.0,9,2,     0.96,2,    1.592,    0.004,2,  -1.7599
  09AR20060102,  S04I,    55,  1,     16,     16,2,20060130,1323,-68.0478,  39.9992, 1521,     79.8,  -1.7906,  34.2847,2,  34.2849,2,    312.7,2,    314.5,2,    63.80,2,    30.06,2,   -999.0,9,   -999.0,9,2,     0.98,2,    0.495,    0.001,2,  -1.7922
  09AR20060102,  S04I,    55,  1,     15,     15,2,20060130,1323,-68.0478,  39.9992, 1521,     99.8,  -1.7773,  34.2961,2,  34.2961,2,    310.0,2,    311.2,2,    64.50,2,    30.56,2,   -999.0,9,   -999.0,9,2,     0.99,2,    0.318,    0.000,2,  -1.7793
  09AR20060102,  S04I,    55,  1,     14,     14,2,20060130,1323,-68.0478,  39.9992, 1521,    120.1,  -1.8165,  34.3009,2,  34.2994,2,    310.0,2,    312.7,2,    64.20,2,    30.55,2,   -999.0,9,   -999.0,9,2,     0.99,2,    0.194,    0.000,2,  -1.8189
  09AR20060102,  S04I,    55,  1,     13,     13,2,20060130,1323,-68.0478,  39.9992, 1521,    140.0,  -1.7912,  34.3065,2,  34.3041,2,    311.8,2,    312.1,2,    65.20,2,    30.76,2,   -999.0,9,   -999.0,9,2,     0.99,2,    0.157,    0.000,2,  -1.7940
  09AR20060102,  S04I,    55,  1,     12,     12,2,20060130,1323,-68.0478,  39.9992, 1521,    159.5,  -1.8144,  34.3102,2,  34.3108,2,    311.9,2,    314.2,2,    63.90,2,    30.42,2,   -999.0,9,   -999.0,9,2,     0.99,2,    0.101,    0.000,2,  -1.8176
  09AR20060102,  S04I,    55,  1,     11,     11,2,20060130,1323,-68.0478,  39.9992, 1521,    200.6,  -1.8150,  34.3242,2,  34.3241,2,    312.2,2,    314.0,2,    62.60,2,    30.58,2,   -999.0,9,   -999.0,9,2,     0.99,2,    0.028,    0.000,2,  -1.8192
  09AR20060102,  S04I,    55,  1,     10,     10,2,20060130,1323,-68.0478,  39.9992, 1521,    299.3,  -0.7836,  34.4362,2,  34.4421,2,    279.8,2,    273.0,2,    72.90,2,    31.18,2,   -999.0,9,   -999.0,9,2,     0.99,2,   -0.004,    0.000,2,  -0.7928
  09AR20060102,  S04I,    55,  1,      9,      9,2,20060130,1323,-68.0478,  39.9992, 1521,    399.0,   0.4028,  34.6040,2,  34.6103,2,    227.1,2,    226.8,2,    85.20,2,    31.59,2,   -999.0,9,   -999.0,9,2,     0.99,2,   -0.041,    0.000,2,   0.3860
  09AR20060102,  S04I,    55,  1,      8,      8,2,20060130,1323,-68.0478,  39.9992, 1521,    498.8,   0.7082,  34.6593,2,  34.6605,2,    216.3,2,    216.7,2,    90.20,2,    31.41,2,   -999.0,9,   -999.0,9,2,     0.99,2,   -0.043,    0.000,2,   0.6855
  09AR20060102,  S04I,    55,  1,      7,      7,2,20060130,1323,-68.0478,  39.9992, 1521,    601.4,   0.6359,  34.6654,2,  34.6670,2,    217.3,2,    218.0,2,    93.30,2,    31.46,2,   -999.0,9,   -999.0,9,2,     0.99,2,   -0.040,    0.000,2,   0.6083
  09AR20060102,  S04I,    55,  1,      6,      6,2,20060130,1323,-68.0478,  39.9992, 1521,    800.8,   0.6087,  34.6821,2,  34.6841,2,    214.4,2,    214.4,2,   101.80,2,    31.73,2,   -999.0,9,   -999.0,9,2,     0.99,2,   -0.048,    0.000,2,   0.5707
  09AR20060102,  S04I,    55,  1,      5,      5,2,20060130,1323,-68.0478,  39.9992, 1521,    999.6,   0.5203,  34.6831,2,  34.6837,2,    213.9,2,    214.0,2,   106.90,2,    31.86,2,   -999.0,9,   -999.0,9,2,     0.99,2,   -0.045,    0.000,2,   0.4718
  09AR20060102,  S04I,    55,  1,      4,      4,2,20060130,1323,-68.0478,  39.9992, 1521,   1200.9,   0.4262,  34.6825,2,  34.6847,2,    211.8,2,    212.6,2,   113.10,2,    32.24,2,   -999.0,9,   -999.0,9,2,     0.99,2,   -0.048,    0.000,2,   0.3668
  09AR20060102,  S04I,    55,  1,      3,      3,2,20060130,1323,-68.0478,  39.9992, 1521,   1499.6,   0.2348,  34.6744,2,  34.6748,2,    217.8,2,    218.5,2,   115.60,2,    32.19,2,   -999.0,9,   -999.0,9,2,     0.99,2,   -0.047,    0.000,2,   0.1591
  09AR20060102,  S04I,    55,  1,      2,      2,2,20060130,1323,-68.0478,  39.9992, 1521,   1749.6,   0.1639,  34.6710,2,  34.6719,2,    220.8,2,    220.8,2,   117.40,2,    32.41,2,   -999.0,9,   -999.0,9,2,     0.99,2,   -0.048,    0.000,2,   0.0729
  09AR20060102,  S04I,    55,  1,      1,      1,2,20060130,1323,-68.0478,  39.9992, 1521,   1815.0,   0.1147,  34.6688,2,  34.6682,2,    223.0,2,    223.1,2,   117.50,2,    32.09,2,   -999.0,9,   -999.0,9,2,     0.99,2,   -0.049,    0.000,2,   0.0200
  09AR20060102,  S04I,    56,  1,     24,     24,2,20060130,1642,-68.1315,  40.0018,  979,      9.5,  -0.4126,  32.9058,2,  32.9810,3,    358.5,2,    357.6,2,    49.40,2,    23.52,2,   2102.2,2,   2233.6,2,2,     0.02,2,    1.136,    0.038,2,  -0.4129
  09AR20060102,  S04I,    56,  1,     23,     23,2,20060130,1642,-68.1315,  40.0018,  979,      9.4,  -0.4138,  32.8997,2,-999.0000,9,    358.5,2,   -999.0,9,  -999.00,9,  -999.00,9,   -999.0,9,   -999.0,9,2,     0.01,2,    1.117,    0.038,2,  -0.4141
  09AR20060102,  S04I,    56,  1,     22,     22,2,20060130,1642,-68.1315,  40.0018,  979,      9.3,  -0.4920,  32.9336,2,-999.0000,9,    358.5,2,   -999.0,9,  -999.00,9,  -999.00,9,   -999.0,9,   -999.0,9,2,     0.01,2,    1.272,    0.039,2,  -0.4923
  09AR20060102,  S04I,    56,  1,     21,     21,2,20060130,1642,-68.1315,  40.0018,  979,     19.7,  -1.1420,  33.2200,2,  33.2431,2,    361.9,2,    360.9,2,    47.70,2,    23.35,2,   2117.6,6,   -999.0,9,2,     0.02,2,    2.046,    0.015,2,  -1.1424
  09AR20060102,  S04I,    56,  1,     20,     20,2,20060130,1642,-68.1315,  40.0018,  979,     29.7,  -1.4820,  33.3062,2,  33.3322,2,    363.1,2,    358.6,2,    48.20,2,    23.83,2,   2124.3,2,   -999.0,9,2,     0.18,2,    2.068,    0.006,2,  -1.4826
  09AR20060102,  S04I,    56,  1,     19,     19,2,20060130,1642,-68.1315,  40.0018,  979,     39.9,  -1.0281,  33.4656,2,  33.4644,2,    356.5,2,    356.8,2,    53.40,2,    23.69,2,   2132.5,2,   -999.0,9,2,     0.26,2,    3.010,    0.003,2,  -1.0291
  09AR20060102,  S04I,    56,  1,     18,     18,2,20060130,1642,-68.1315,  40.0018,  979,     49.9,  -1.5711,  33.9529,2,  33.5411,4,    342.0,2,    329.7,2,    59.60,2,    27.98,2,   2193.2,2,   -999.0,9,2,     0.36,2,    2.728,    0.001,2,  -1.5721
  09AR20060102,  S04I,    56,  1,     17,     17,2,20060130,1642,-68.1315,  40.0018,  979,     59.3,  -1.6977,  34.2279,2,  34.2516,2,    325.6,2,    321.6,2,    61.40,2,    28.99,2,   2205.2,2,   -999.0,9,2,     0.48,2,    0.706,    0.000,2,  -1.6989
  09AR20060102,  S04I,    56,  1,     16,     16,2,20060130,1642,-68.1315,  40.0018,  979,     79.1,  -1.7729,  34.2671,2,  34.2689,2,    313.0,2,    314.0,2,    63.50,2,    29.78,2,   2214.6,2,   -999.0,9,2,     0.62,2,    0.635,    0.000,2,  -1.7745
  09AR20060102,  S04I,    56,  1,     15,     15,2,20060130,1642,-68.1315,  40.0018,  979,     99.8,  -1.8000,  34.2836,2,  34.2837,2,    310.7,2,    312.9,2,    64.80,2,    30.20,2,   2215.6,2,   -999.0,9,2,     0.79,2,    0.285,    0.000,2,  -1.8020
  09AR20060102,  S04I,    56,  1,     14,     14,2,20060130,1642,-68.1315,  40.0018,  979,    119.7,  -1.8181,  34.2935,2,  34.2943,2,    311.8,2,    313.4,2,    63.60,2,    30.20,2,   2217.3,2,   -999.0,9,2,     0.92,2,    0.150,    0.000,2,  -1.8205
  09AR20060102,  S04I,    56,  1,     13,     13,2,20060130,1642,-68.1315,  40.0018,  979,    139.9,  -1.8231,  34.2974,2,  34.2977,2,    315.0,2,    312.8,2,    64.20,2,    30.40,2,   2218.0,2,   -999.0,9,2,     0.98,2,    0.124,    0.000,2,  -1.8259
  09AR20060102,  S04I,    56,  1,     12,     12,2,20060130,1642,-68.1315,  40.0018,  979,    160.3,  -1.8275,  34.3031,2,  34.3024,2,    311.7,2,    312.6,2,    64.70,2,    30.26,2,   2218.6,2,   -999.0,9,2,     0.99,2,    0.078,    0.000,2,  -1.8307
  09AR20060102,  S04I,    56,  1,     11,     11,2,20060130,1642,-68.1315,  40.0018,  979,    199.7,  -1.8094,  34.3111,2,  34.3114,2,    311.5,2,    313.8,2,    63.00,2,    30.47,2,   2217.1,6,   -999.0,9,2,     0.99,2,    0.050,    0.000,2,  -1.8135
  09AR20060102,  S04I,    56,  1,     10,     10,2,20060130,1642,-68.1315,  40.0018,  979,    249.9,  -1.7970,  34.3250,2,  34.3268,2,    310.6,2,    312.2,2,    62.80,2,    30.29,2,   2219.3,2,   -999.0,9,2,     0.99,2,    0.008,    0.000,2,  -1.8023
  09AR20060102,  S04I,    56,  1,      9,      9,2,20060130,1642,-68.1315,  40.0018,  979,    300.1,  -1.7228,  34.3451,2,  34.3484,2,    306.4,2,    308.4,2,    63.60,2,    30.33,2,   2219.9,2,   -999.0,9,2,     0.99,2,   -0.008,    0.000,2,  -1.7296
  09AR20060102,  S04I,    56,  1,      8,      8,2,20060130,1642,-68.1315,  40.0018,  979,    350.6,  -0.9440,  34.4342,2,  34.4376,2,    283.9,2,   -999.0,9,    71.40,2,    30.63,2,   2230.3,2,   -999.0,9,2,     0.99,2,   -0.028,    0.000,2,  -0.9545
  09AR20060102,  S04I,    56,  1,      7,      7,2,20060130,1642,-68.1315,  40.0018,  979,    400.6,   0.1233,  34.5538,2,  34.5548,2,    243.4,2,   -999.0,9,    80.60,2,    31.20,2,   2241.7,2,   -999.0,9,2,     0.99,2,   -0.034,    0.000,2,   0.1074
  09AR20060102,  S04I,    56,  1,      6,      6,2,20060130,1642,-68.1315,  40.0018,  979,    498.8,   0.6444,  34.6350,2,  34.6356,2,    219.5,2,    220.3,2,    86.80,2,    31.43,2,   2249.6,2,   -999.0,9,2,     0.99,2,   -0.043,    0.000,2,   0.6219
  09AR20060102,  S04I,    56,  1,      5,      5,2,20060130,1642,-68.1315,  40.0018,  979,    600.1,   0.6234,  34.6500,2,  34.6517,2,    221.8,2,    220.5,2,    89.10,2,    31.06,2,   2249.9,2,   -999.0,9,2,     0.99,2,   -0.043,    0.000,2,   0.5959
  09AR20060102,  S04I,    56,  1,      4,      4,2,20060130,1642,-68.1315,  40.0018,  979,    699.6,   0.6987,  34.6716,2,  34.6725,2,    217.7,2,    216.9,2,    94.30,2,    31.26,2,   2255.0,2,   -999.0,9,2,     0.99,2,   -0.038,    0.000,2,   0.6656
  09AR20060102,  S04I,    56,  1,      3,      3,2,20060130,1642,-68.1315,  40.0018,  979,    800.7,   0.5660,  34.6682,2,  34.6692,2,    218.9,2,    218.8,2,    98.80,2,    31.21,2,   2252.3,2,   -999.0,9,2,     0.99,2,   -0.044,    0.000,2,   0.5283
  09AR20060102,  S04I,    56,  1,      2,      2,2,20060130,1642,-68.1315,  40.0018,  979,    900.6,   0.5202,  34.6729,2,  34.6744,2,    218.1,2,    217.9,2,   102.50,2,    31.40,2,   2254.7,2,   -999.0,9,2,     0.99,2,   -0.040,    0.000,2,   0.4773
  09AR20060102,  S04I,    56,  1,      1,      1,2,20060130,1642,-68.1315,  40.0018,  979,   1001.1,   0.4604,  34.6759,2,  32.9756,4,    216.7,2,    216.9,2,   104.90,2,    31.76,2,   2258.1,6,   -999.0,9,2,     0.99,2,   -0.038,    0.000,2,   0.4124