BOTTLE,20220816CCHSIOAMB
EXPOCODE,SECT_ID,STNNBR,CASTNO,SAMPNO,BTLNBR,BTLNBR_FLAG_W,DATE,TIME,LATITUDE,LONGITUDE,DEPTH,CTDPRS,CTDTMP,CTDSAL,CTDSAL_FLAG_W,SALNTY,SALNTY_FLAG_W,CTDOXY,CTDOXY_FLAG_W,OXYGEN,OXYGEN_FLAG_W,SILCAT,SILCAT_FLAG_W,NITRAT,NITRAT_FLAG_W,TCARBN,TCARBN_FLAG_W,ALKALI,ALKALI_FLAG_W,FLUOR_FLAG_W,XMISS,XMISS_FLAG_W,FLUOR,PAR,PAR_FLAG_W,THETA
,,,,,,,,,,,METERS,DBAR,ITS-90,PSS-78,,PSS-78,,UMOL/KG,,UMOL/KG,,UMOL/KG,,UMOL/KG,,UMOL/KG,,UMOL/KG,,,%TRANS,,VOLTS,VOLTS,,DEG C
  09AR20060102,  S04I,    45,  1,     24,     24,2,20060127,1219,-62.6660,  40.0028, 5014,      8.4,   1.1952,  33.9038,2,  33.9059,2,    337.1,2,    337.4,2,    49.60,2,    26.80,2,   2173.2,2,   -999.0,9,2,     0.71,2,    0.276,    0.054,2,   1.1948
  09AR20060102,  S04I,    45,  1,     23,     23,2,20060127,1219,-62.6660,  40.0028, 5014,      8.2,   1.1856,  33.9029,2,-999.0000,9,    337.1,2,   -999.0,9,  -999.00,9,  -999.00,9,   -999.0,9,   -999.0,9,2,     0.68,2,    0.287,    0.058,2,   1.1852
  09AR20060102,  S04I,    45,  1,     22,     22,2,20060127,1219,-62.6660,  40.0028, 5014,     27.3,   0.3357,  33.9655,2,-999.0000,9,    337.5,2,   -999.0,9,  -999.00,9,  -999.00,9,   -999.0,9,   -999.0,9,2,     0.77,2,    0.794,    0.023,2,   0.3347
  09AR20060102,  S04I,    45,  1,     21,     21,2,20060127,1219,-62.6660,  40.0028, 5014,     38.5,  -1.1578,  34.0497,2,  34.0516,2,    334.2,2,    349.7,2,    50.50,2,    26.66,2,   2182.1,2,   -999.0,9,2,     0.95,2,    1.134,    0.014,2,  -1.1587
  09AR20060102,  S04I,    45,  1,     20,     20,2,20060127,1219,-62.6660,  40.0028, 5014,     59.1,  -1.5594,  34.1119,2,  34.1126,2,    340.5,2,    344.0,2,    52.10,2,    27.17,2,   2188.5,2,   -999.0,9,2,     0.96,2,    2.181,    0.005,2,  -1.5607
  09AR20060102,  S04I,    45,  1,     19,     19,2,20060127,1219,-62.6660,  40.0028, 5014,     80.7,  -1.6884,  34.1459,2,  34.1459,2,    330.4,2,    334.1,2,    55.00,2,    28.07,2,   2197.2,2,   -999.0,9,2,     0.97,2,    1.875,    0.001,2,  -1.6900
  09AR20060102,  S04I,    45,  1,     18,     18,2,20060127,1219,-62.6660,  40.0028, 5014,     99.0,  -1.4159,  34.2122,2,  34.2084,2,    317.5,2,    313.3,2,    59.30,2,    29.40,2,   2208.3,2,   -999.0,9,2,     0.99,2,    0.572,    0.000,2,  -1.4182
  09AR20060102,  S04I,    45,  1,     17,     17,2,20060127,1219,-62.6660,  40.0028, 5014,    120.1,  -0.8188,  34.3140,2,  34.3063,2,    261.2,2,    285.6,3,    65.40,2,    30.54,2,   2222.1,2,   -999.0,9,2,     0.99,2,    0.445,    0.000,2,  -0.8222
  09AR20060102,  S04I,    45,  1,     16,     16,2,20060127,1219,-62.6660,  40.0028, 5014,    149.4,   1.2512,  34.5499,2,  34.5481,2,    195.9,2,    197.8,2,    82.90,2,    33.63,2,   -999.0,9,   -999.0,9,2,     0.99,2,    0.158,    0.000,2,   1.2442
  09AR20060102,  S04I,    45,  1,     15,     15,2,20060127,1219,-62.6660,  40.0028, 5014,    199.8,   1.4953,  34.6256,2,  34.6278,2,    187.7,2,    187.9,2,    89.70,2,    34.46,2,   -999.0,9,   -999.0,9,2,     0.99,2,   -0.018,    0.000,2,   1.4854
  09AR20060102,  S04I,    45,  1,     14,     14,2,20060127,1219,-62.6660,  40.0028, 5014,    299.2,   1.5810,  34.6803,2,  34.6809,2,    188.2,2,    187.6,2,    91.10,2,    32.48,2,   -999.0,9,   -999.0,9,2,     0.99,2,   -0.040,    0.000,2,   1.5657
  09AR20060102,  S04I,    45,  1,     13,     13,2,20060127,1219,-62.6660,  40.0028, 5014,    402.4,   1.4657,  34.7008,2,  34.7007,2,    192.6,2,    192.6,2,    94.30,2,    31.90,2,   -999.0,9,   -999.0,9,2,     0.99,2,   -0.042,    0.000,2,   1.4451
  09AR20060102,  S04I,    45,  1,     12,     12,2,20060127,1219,-62.6660,  40.0028, 5014,    600.5,   1.2919,  34.7156,2,  34.7172,2,    197.6,2,    197.3,2,    95.40,3,    31.45,2,   -999.0,9,   -999.0,9,2,     0.99,2,   -0.041,    0.000,2,   1.2610
  09AR20060102,  S04I,    45,  1,     11,     11,2,20060127,1219,-62.6660,  40.0028, 5014,    898.9,   0.9907,  34.7119,2,  34.7127,2,    202.1,2,    201.6,2,   107.40,2,    31.65,2,   -999.0,9,   -999.0,9,2,     0.99,2,   -0.046,    0.000,2,   0.9444
  09AR20060102,  S04I,    45,  1,     10,     10,2,20060127,1219,-62.6660,  40.0028, 5014,   1197.9,   0.7113,  34.7012,2,  34.7011,2,    204.4,2,    204.5,2,   115.20,2,    32.12,2,   -999.0,9,   -999.0,9,2,     0.99,2,   -0.045,    0.000,2,   0.6493
  09AR20060102,  S04I,    45,  1,      9,      9,2,20060127,1219,-62.6660,  40.0028, 5014,   1499.6,   0.5202,  34.6925,2,  34.6929,2,    205.7,2,    205.6,2,   120.30,2,    32.53,2,   -999.0,9,   -999.0,9,2,     0.99,2,   -0.047,    0.000,2,   0.4411
  09AR20060102,  S04I,    45,  1,      8,      8,2,20060127,1219,-62.6660,  40.0028, 5014,   1998.1,   0.2964,  34.6824,2,  34.6821,2,    211.3,2,    211.9,2,   124.60,2,    32.80,2,   -999.0,9,   -999.0,9,2,     0.99,2,   -0.049,    0.000,2,   0.1861
  09AR20060102,  S04I,    45,  1,      7,      7,2,20060127,1219,-62.6660,  40.0028, 5014,   2501.6,   0.1162,  34.6742,2,  34.6746,2,    218.9,2,    219.1,2,   126.70,2,    32.69,2,   -999.0,9,   -999.0,9,2,     0.99,2,   -0.050,    0.000,2,  -0.0288
  09AR20060102,  S04I,    45,  1,      6,      6,2,20060127,1219,-62.6660,  40.0028, 5014,   2997.6,  -0.0333,  34.6679,2,  34.6674,2,    226.4,2,    226.5,2,   127.50,2,    32.38,2,   -999.0,9,   -999.0,9,2,     0.99,2,   -0.051,    0.000,2,  -0.2157
  09AR20060102,  S04I,    45,  1,      5,      5,2,20060127,1219,-62.6660,  40.0028, 5014,   3499.9,  -0.1330,  34.6637,2,  34.6627,2,    232.3,2,    232.3,2,   127.80,2,    32.36,2,   -999.0,9,   -999.0,9,2,     0.99,2,   -0.054,    0.000,2,  -0.3575
  09AR20060102,  S04I,    45,  1,      4,      4,2,20060127,1219,-62.6660,  40.0028, 5014,   3999.9,  -0.2020,  34.6598,2,  34.6591,2,    237.3,2,    237.7,2,   127.30,2,    32.26,2,   -999.0,9,   -999.0,9,2,     0.99,2,   -0.054,    0.000,2,  -0.4722
  09AR20060102,  S04I,    45,  1,      3,      3,2,20060127,1219,-62.6660,  40.0028, 5014,   4498.4,  -0.2498,  34.6569,2,  34.6564,2,    241.0,2,    240.8,2,   131.20,2,    32.11,2,   -999.0,9,   -999.0,9,2,     0.99,2,   -0.053,    0.000,2,  -0.5695
  09AR20060102,  S04I,    45,  1,      2,      2,2,20060127,1219,-62.6660,  40.0028, 5014,   4998.6,  -0.2696,  34.6539,2,  34.6535,2,    242.4,2,    243.2,2,   133.20,2,    32.17,2,   -999.0,9,   -999.0,9,2,     0.99,2,   -0.054,    0.000,2,  -0.6429
  09AR20060102,  S04I,    45,  1,      1,      1,2,20060127,1219,-62.6660,  40.0028, 5014,   5110.9,  -0.2700,  34.6531,2,  34.6529,2,    242.7,2,    242.6,2,   135.90,2,    32.26,2,   -999.0,9,   -999.0,9,2,     0.99,2,   -0.054,    0.000,2,  -0.6560
  09AR20060102,  S04I,    46,  1,     24,     24,2,20060127,2026,-63.3315,  39.9957, 4930,      9.5,   1.2543,  33.9019,2,  33.8928,2,    315.9,2,   -999.0,9,    50.50,2,    26.54,3,   2169.8,2,   2292.7,2,2,     0.28,2,    0.324,    0.000,2,   1.2539
  09AR20060102,  S04I,    46,  1,     23,     23,2,20060127,2026,-63.3315,  39.9957, 4930,     30.2,   1.1354,  33.9117,2,-999.0000,9,    319.4,2,   -999.0,9,  -999.00,9,  -999.00,9,   -999.0,9,   -999.0,9,2,     0.36,2,    0.356,    0.000,2,   1.1341
  09AR20060102,  S04I,    46,  1,     22,     22,2,20060127,2026,-63.3315,  39.9957, 4930,     30.0,   1.2025,  33.9053,2,-999.0000,9,    319.4,2,   -999.0,9,  -999.00,9,  -999.00,9,   -999.0,9,   -999.0,9,2,     0.27,2,    0.327,    0.000,2,   1.2012
  09AR20060102,  S04I,    46,  1,     21,     21,2,20060127,2026,-63.3315,  39.9957, 4930,     29.8,   1.0127,  33.9171,2,  33.9186,2,    319.4,2,    315.9,2,    50.60,2,    26.54,3,   2172.3,6,   -999.0,9,2,     0.22,2,    0.410,    0.000,2,   1.0114
  09AR20060102,  S04I,    46,  1,     20,     20,2,20060127,2026,-63.3315,  39.9957, 4930,     60.5,  -1.4470,  34.1664,2,  34.1643,2,    328.2,2,    324.5,2,    53.40,2,    27.11,3,   2191.7,2,   -999.0,9,2,     0.67,2,    1.777,    0.000,2,  -1.4483
  09AR20060102,  S04I,    46,  1,     19,     19,2,20060127,2026,-63.3315,  39.9957, 4930,     80.1,  -1.5875,  34.2223,2,  34.2176,2,    315.6,2,    321.8,2,    56.30,2,    27.98,3,   2201.5,2,   -999.0,9,2,     0.89,2,    2.124,    0.000,2,  -1.5892
  09AR20060102,  S04I,    46,  1,     18,     18,2,20060127,2026,-63.3315,  39.9957, 4930,     90.1,  -1.3831,  34.2657,2,  34.2644,2,    300.0,2,    299.2,2,    62.00,2,    28.84,3,   2210.2,2,   -999.0,9,2,     0.95,2,    2.182,    0.000,2,  -1.3852
  09AR20060102,  S04I,    46,  1,     17,     17,2,20060127,2026,-63.3315,  39.9957, 4930,    110.8,  -0.0112,  34.4398,2,  34.4344,2,    254.0,2,    245.6,2,    76.90,2,    31.21,3,   2236.7,2,   -999.0,9,2,     0.99,2,    0.404,    0.000,2,  -0.0152
  09AR20060102,  S04I,    46,  1,     16,     16,2,20060127,2026,-63.3315,  39.9957, 4930,    119.9,   0.5608,  34.5081,2,  34.5017,2,    222.5,2,    213.3,2,    84.70,2,    32.03,3,   2245.3,2,   -999.0,9,2,     0.98,2,    0.521,    0.000,2,   0.5559
  09AR20060102,  S04I,    46,  1,     15,     15,2,20060127,2026,-63.3315,  39.9957, 4930,    200.9,   1.2390,  34.6377,2,  34.6372,2,    196.3,2,   -999.0,9,    95.40,3,    32.09,3,   2255.4,2,   -999.0,9,2,     0.99,2,   -0.040,    0.000,2,   1.2295
  09AR20060102,  S04I,    46,  1,     14,     14,2,20060127,2026,-63.3315,  39.9957, 4930,    300.4,   1.3336,  34.6804,2,  34.6811,2,    193.5,2,   -999.0,9,    93.90,2,    31.24,3,   2256.4,6,   -999.0,9,2,     0.99,2,   -0.010,    0.000,2,   1.3189
  09AR20060102,  S04I,    46,  1,     13,     13,2,20060127,2026,-63.3315,  39.9957, 4930,    400.4,   1.3260,  34.7004,2,  34.6884,2,    195.0,2,    195.1,2,    95.90,2,    31.02,3,   2255.4,2,   -999.0,9,2,     0.99,2,   -0.043,    0.000,2,   1.3060
  09AR20060102,  S04I,    46,  1,     12,     12,2,20060127,2026,-63.3315,  39.9957, 4930,    600.8,   1.1407,  34.7112,2,  34.7117,2,    198.7,2,    198.8,2,   102.40,2,    30.77,3,   2254.3,2,   -999.0,9,2,     0.99,2,   -0.044,    0.000,2,   1.1106
  09AR20060102,  S04I,    46,  1,     11,     11,2,20060127,2026,-63.3315,  39.9957, 4930,    899.5,   0.8497,  34.7057,2,  34.7066,2,    203.3,2,    202.7,2,   109.00,2,    31.16,3,   2257.1,2,   -999.0,9,2,     0.99,2,   -0.043,    0.000,2,   0.8044
  09AR20060102,  S04I,    46,  1,     10,     10,2,20060127,2026,-63.3315,  39.9957, 4930,   1199.7,   0.6449,  34.6984,2,  34.7066,2,    205.4,2,    205.1,2,   115.90,2,    31.45,3,   2260.1,2,   -999.0,9,2,     0.99,2,   -0.047,    0.000,2,   0.5834
  09AR20060102,  S04I,    46,  1,      9,      9,2,20060127,2026,-63.3315,  39.9957, 4930,   1500.6,   0.4708,  34.6909,2,  34.6917,2,    207.5,2,    208.2,2,   119.10,2,    31.82,3,   2261.8,2,   -999.0,9,2,     0.99,2,   -0.048,    0.000,2,   0.3922
  09AR20060102,  S04I,    46,  1,      8,      8,2,20060127,2026,-63.3315,  39.9957, 4930,   1998.5,   0.2640,  34.6812,2,  34.6815,2,    212.8,2,    213.2,2,   124.20,2,    31.69,3,   2261.3,2,   -999.0,9,2,     0.99,2,   -0.050,    0.000,2,   0.1542
  09AR20060102,  S04I,    46,  1,      7,      7,2,20060127,2026,-63.3315,  39.9957, 4930,   2501.2,   0.0881,  34.6733,2,  34.6737,2,    219.4,2,   -999.0,9,   127.60,2,    31.58,3,   2260.7,2,   -999.0,9,2,     0.99,2,   -0.050,    0.000,2,  -0.0563
  09AR20060102,  S04I,    46,  1,      6,      6,2,20060127,2026,-63.3315,  39.9957, 4930,   3000.8,  -0.0530,  34.6672,2,  34.6674,2,    226.4,2,    225.0,2,   129.60,2,    31.68,3,   2256.4,2,   -999.0,9,2,     0.99,2,   -0.051,    0.000,2,  -0.2353
  09AR20060102,  S04I,    46,  1,      5,      5,2,20060127,2026,-63.3315,  39.9957, 4930,   3500.4,  -0.1489,  34.6630,2,  34.6627,2,    232.8,2,    233.8,2,   130.10,2,    31.54,3,   2254.2,2,   -999.0,9,2,     0.99,2,   -0.052,    0.000,2,  -0.3730
  09AR20060102,  S04I,    46,  1,      4,      4,2,20060127,2026,-63.3315,  39.9957, 4930,   4000.0,  -0.2140,  34.6593,2,  34.6591,2,    238.3,2,    237.3,2,   130.20,2,    31.49,3,   2251.7,2,   -999.0,9,2,     0.99,2,   -0.053,    0.000,2,  -0.4839
  09AR20060102,  S04I,    46,  1,      3,      3,2,20060127,2026,-63.3315,  39.9957, 4930,   4498.3,  -0.2569,  34.6565,2,  34.6540,2,    242.1,2,    241.7,2,   133.40,2,    31.64,3,   2250.8,2,   -999.0,9,2,     0.99,2,   -0.054,    0.000,2,  -0.5763
  09AR20060102,  S04I,    46,  1,      2,      2,2,20060127,2026,-63.3315,  39.9957, 4930,   5004.3,  -0.2855,  34.6532,2,  34.6488,2,    243.2,2,    242.2,2,   142.60,2,    32.25,3,   2251.9,2,   -999.0,9,2,     0.99,2,   -0.052,    0.000,2,  -0.6589
  09AR20060102,  S04I,    46,  1,      1,      1,2,20060127,2026,-63.3315,  39.9957, 4930,   5033.4,  -0.2823,  34.6531,2,  34.6525,2,    243.2,2,    243.5,2,   141.50,2,    32.42,3,   2252.1,6,   -999.0,9,2,     0.99,2,   -0.058,    0.000,2,  -0.6591
  09AR20060102,  S04I,    47,  1,     24,     24,2,20060128,0447,-63.9997,  40.0008, 4829,     10.5,   1.0558,  33.9092,2,  33.9082,2,    339.8,2,    336.8,2,    52.00,2,    26.62,2,   2176.3,2,   -999.0,9,2,     0.80,2,    0.102,    0.177,2,   1.0554
  09AR20060102,  S04I,    47,  1,     23,     23,2,20060128,0447,-63.9997,  40.0008, 4829,     10.5,   1.1038,  33.9048,2,-999.0000,9,    339.8,2,   -999.0,9,  -999.00,9,  -999.00,9,   -999.0,9,   -999.0,9,2,     0.79,2,    0.110,    0.173,2,   1.1033
  09AR20060102,  S04I,    47,  1,     22,     22,2,20060128,0447,-63.9997,  40.0008, 4829,     15.3,   1.0470,  33.9103,2,-999.0000,9,    339.8,2,   -999.0,9,  -999.00,9,  -999.00,9,   -999.0,9,   -999.0,9,2,     0.95,2,    0.161,    0.126,2,   1.0463
  09AR20060102,  S04I,    47,  1,     21,     21,2,20060128,0447,-63.9997,  40.0008, 4829,     37.7,   0.4635,  33.9561,2,  33.9739,2,    342.5,2,    340.9,2,    52.30,2,    26.66,2,   2181.4,2,   -999.0,9,2,     0.98,2,    0.252,    0.058,2,   0.4621
  09AR20060102,  S04I,    47,  1,     20,     20,2,20060128,0447,-63.9997,  40.0008, 4829,     59.3,  -1.5715,  34.1812,2,  34.1808,2,    332.9,2,    331.9,2,    56.90,2,    27.57,2,   2198.0,2,   -999.0,9,2,     0.97,2,    0.879,    0.027,2,  -1.5728
  09AR20060102,  S04I,    47,  1,     19,     19,2,20060128,0447,-63.9997,  40.0008, 4829,     83.9,  -1.7275,  34.2292,2,  34.2276,2,    320.1,2,    319.7,2,    59.00,2,    28.65,2,   2205.0,2,   -999.0,9,2,     0.98,2,    1.297,    0.009,2,  -1.7292
  09AR20060102,  S04I,    47,  1,     18,     18,2,20060128,0447,-63.9997,  40.0008, 4829,    100.0,  -1.7272,  34.2401,2,  34.2418,2,    314.0,2,    315.9,2,    60.00,2,    29.13,2,   2210.9,2,   -999.0,9,2,     0.98,2,    0.619,    0.004,2,  -1.7292
  09AR20060102,  S04I,    47,  1,     17,     17,2,20060128,0447,-63.9997,  40.0008, 4829,    129.3,   0.2073,  34.4484,2,  34.4321,2,    246.0,2,    240.3,2,    76.70,2,    32.37,2,   2240.2,2,   -999.0,9,2,     0.99,2,    0.291,    0.001,2,   0.2024
  09AR20060102,  S04I,    47,  1,     16,     16,2,20060128,0447,-63.9997,  40.0008, 4829,    147.7,   1.0366,  34.5585,2,  34.5593,2,    201.8,2,    200.3,2,    87.30,2,    33.53,2,   2255.6,2,   -999.0,9,2,     0.99,2,    0.102,    0.000,2,   1.0299
  09AR20060102,  S04I,    47,  1,     15,     15,2,20060128,0447,-63.9997,  40.0008, 4829,    199.8,   1.3894,  34.6348,2,  34.6354,2,    189.3,2,    189.6,2,    90.20,2,    33.02,2,   2255.2,2,   -999.0,9,2,     0.99,2,   -0.030,    0.000,2,   1.3797
  09AR20060102,  S04I,    47,  1,     14,     14,2,20060128,0447,-63.9997,  40.0008, 4829,    301.5,   1.4459,  34.6809,2,  34.6819,2,    190.0,2,    189.9,2,    99.90,3,    33.02,3,   -999.0,9,   -999.0,9,2,     0.99,2,   -0.039,    0.000,2,   1.4308
  09AR20060102,  S04I,    47,  1,     13,     13,2,20060128,0447,-63.9997,  40.0008, 4829,    401.6,   1.3480,  34.6997,2,  34.7005,2,    193.4,2,    193.7,2,    96.30,2,    31.59,2,   -999.0,9,   -999.0,9,2,     0.99,2,   -0.042,    0.000,2,   1.3279
  09AR20060102,  S04I,    47,  1,     12,     12,2,20060128,0447,-63.9997,  40.0008, 4829,    599.7,   1.1189,  34.7085,2,  34.7098,2,    197.6,2,    199.1,2,   102.10,2,    31.83,2,   -999.0,9,   -999.0,9,2,     0.99,2,   -0.042,    0.000,2,   1.0889
  09AR20060102,  S04I,    47,  1,     11,     11,2,20060128,0447,-63.9997,  40.0008, 4829,    898.4,   0.8562,  34.7061,2,  34.7072,2,    201.5,2,    202.9,2,   111.30,2,    31.93,2,   -999.0,9,   -999.0,9,2,     0.99,2,   -0.044,    0.000,2,   0.8109
  09AR20060102,  S04I,    47,  1,     10,     10,2,20060128,0447,-63.9997,  40.0008, 4829,   1249.4,   0.6135,  34.6973,2,  34.6984,2,    204.7,2,    204.9,2,   118.10,2,    32.27,2,   -999.0,9,   -999.0,9,2,     0.99,2,   -0.048,    0.000,2,   0.5493
  09AR20060102,  S04I,    47,  1,      9,      9,2,20060128,0447,-63.9997,  40.0008, 4829,   1499.3,   0.4760,  34.6912,2,  34.6921,2,    207.2,2,    207.3,2,   123.70,2,    32.46,2,   -999.0,9,   -999.0,9,2,     0.99,2,   -0.050,    0.000,2,   0.3974
  09AR20060102,  S04I,    47,  1,      8,      8,2,20060128,0447,-63.9997,  40.0008, 4829,   2000.4,   0.2611,  34.6811,2,  34.6817,2,    213.2,2,    213.1,2,   129.60,2,    32.61,2,   -999.0,9,   -999.0,9,2,     0.99,2,   -0.049,    0.000,2,   0.1512
  09AR20060102,  S04I,    47,  1,      7,      7,2,20060128,0447,-63.9997,  40.0008, 4829,   2500.6,   0.0863,  34.6733,2,  34.6733,2,    220.2,2,    220.2,2,   129.20,2,    32.50,2,   -999.0,9,   -999.0,9,2,     0.99,2,   -0.051,    0.000,2,  -0.0580
  09AR20060102,  S04I,    47,  1,      6,      6,2,20060128,0447,-63.9997,  40.0008, 4829,   2999.1,  -0.0561,  34.6673,2,  34.6672,2,    227.2,2,    227.4,2,   129.20,2,    32.29,2,   -999.0,9,   -999.0,9,2,     0.99,2,   -0.052,    0.000,2,  -0.2381
  09AR20060102,  S04I,    47,  1,      5,      5,2,20060128,0447,-63.9997,  40.0008, 4829,   3497.4,  -0.1554,  34.6626,2,  34.6621,2,    233.8,2,    233.5,2,   131.40,2,    32.10,2,   -999.0,9,   -999.0,9,2,     0.99,2,   -0.055,    0.000,2,  -0.3791
  09AR20060102,  S04I,    47,  1,      4,      4,2,20060128,0447,-63.9997,  40.0008, 4829,   3999.8,  -0.2239,  34.6591,2,  34.6586,2,    238.4,2,    238.2,2,   130.10,2,    32.12,2,   -999.0,9,   -999.0,9,2,     0.99,2,   -0.053,    0.000,2,  -0.4935
  09AR20060102,  S04I,    47,  1,      3,      3,2,20060128,0447,-63.9997,  40.0008, 4829,   4500.9,  -0.2649,  34.6558,2,  34.6558,2,    241.8,2,    241.8,2,   133.00,2,    31.97,2,   -999.0,9,   -999.0,9,2,     0.99,2,   -0.052,    0.000,2,  -0.5843
  09AR20060102,  S04I,    47,  1,      2,      2,2,20060128,0447,-63.9997,  40.0008, 4829,   4899.0,  -0.2928,  34.6533,2,  34.6536,2,    242.7,2,    242.4,2,   142.90,2,    32.06,2,   -999.0,9,   -999.0,9,2,     0.99,2,   -0.056,    0.000,2,  -0.6543
  09AR20060102,  S04I,    47,  1,      1,      1,2,20060128,0447,-63.9997,  40.0008, 4829,   4924.8,  -0.2914,  34.6533,2,  34.6531,2,    242.8,2,    243.0,2,   139.40,2,    32.01,2,   -999.0,9,   -999.0,9,2,     0.99,2,   -0.053,    0.000,2,  -0.6558