BOTTLE,20220816CCHSIOAMB
EXPOCODE,SECT_ID,STNNBR,CASTNO,SAMPNO,BTLNBR,BTLNBR_FLAG_W,DATE,TIME,LATITUDE,LONGITUDE,DEPTH,CTDPRS,CTDTMP,CTDSAL,CTDSAL_FLAG_W,SALNTY,SALNTY_FLAG_W,CTDOXY,CTDOXY_FLAG_W,OXYGEN,OXYGEN_FLAG_W,SILCAT,SILCAT_FLAG_W,NITRAT,NITRAT_FLAG_W,TCARBN,TCARBN_FLAG_W,ALKALI,ALKALI_FLAG_W,FLUOR_FLAG_W,XMISS,XMISS_FLAG_W,FLUOR,PAR,PAR_FLAG_W,THETA
,,,,,,,,,,,METERS,DBAR,ITS-90,PSS-78,,PSS-78,,UMOL/KG,,UMOL/KG,,UMOL/KG,,UMOL/KG,,UMOL/KG,,UMOL/KG,,,%TRANS,,VOLTS,VOLTS,,DEG C
  09AR20060102,  S04I,   117,  1,     24,     24,2,20060227,2109,-66.4105,  79.9900,  223,      8.9,  -1.5162,  33.0099,2,  33.0161,2,    349.7,3,    348.5,2,    49.70,2,    25.37,2,   2119.3,2,   2232.8,6,2,     0.02,2,    1.309,    0.000,2,  -1.5164
  09AR20060102,  S04I,   117,  1,     23,     23,2,20060227,2109,-66.4105,  79.9900,  223,      8.8,  -1.5122,  33.0133,2,-999.0000,9,    349.7,3,   -999.0,9,  -999.00,9,  -999.00,9,   -999.0,9,   -999.0,9,2,     0.03,2,    1.339,    0.000,2,  -1.5124
  09AR20060102,  S04I,   117,  1,     22,     22,2,20060227,2109,-66.4105,  79.9900,  223,      8.8,  -1.5196,  33.0122,2,-999.0000,9,    349.7,3,   -999.0,9,  -999.00,9,  -999.00,9,   -999.0,9,   -999.0,9,2,     0.02,2,    1.330,    0.000,2,  -1.5198
  09AR20060102,  S04I,   117,  1,     21,     21,2,20060227,2109,-66.4105,  79.9900,  223,      8.7,  -1.5121,  33.0143,2,-999.0000,9,    349.7,3,   -999.0,9,  -999.00,9,  -999.00,9,   -999.0,9,   -999.0,9,2,     0.05,2,    1.339,    0.000,2,  -1.5123
  09AR20060102,  S04I,   117,  1,     20,     20,2,20060227,2109,-66.4105,  79.9900,  223,     19.8,  -1.4804,  33.0430,2,  33.0874,2,    348.1,3,    347.8,2,    49.20,2,    25.44,2,   2121.1,2,   2237.9,2,2,     0.15,2,    1.327,    0.000,2,  -1.4808
  09AR20060102,  S04I,   117,  1,     19,     19,2,20060227,2109,-66.4105,  79.9900,  223,     28.9,  -1.4491,  33.6782,2,-999.0000,9,    341.6,2,   -999.0,9,  -999.00,9,  -999.00,9,   -999.0,9,   -999.0,9,2,     0.23,2,    1.808,    0.000,2,  -1.4497
  09AR20060102,  S04I,   117,  1,     18,     18,2,20060227,2109,-66.4105,  79.9900,  223,     28.9,  -1.4476,  33.6776,2,  33.8320,3,    341.6,2,    341.2,2,    52.90,2,    26.95,2,   2182.0,2,   2285.5,2,2,     0.22,2,    1.795,    0.000,2,  -1.4482
  09AR20060102,  S04I,   117,  1,     17,     17,2,20060227,2109,-66.4105,  79.9900,  223,     39.5,  -1.5475,  33.9828,2,-999.0000,9,    336.0,2,   -999.0,9,  -999.00,9,  -999.00,9,   -999.0,9,   -999.0,9,2,     0.30,2,    2.819,    0.000,2,  -1.5483
  09AR20060102,  S04I,   117,  1,     16,     16,2,20060227,2109,-66.4105,  79.9900,  223,     39.5,  -1.5432,  33.9733,2,  34.0416,3,    336.0,2,    333.1,2,    57.20,2,    27.80,2,   2190.0,2,   2300.4,6,2,     0.37,2,    2.835,    0.000,2,  -1.5440
  09AR20060102,  S04I,   117,  1,     15,     15,2,20060227,2109,-66.4105,  79.9900,  223,     50.3,  -1.6234,  34.1986,2,-999.0000,9,    326.4,2,   -999.0,9,  -999.00,9,  -999.00,9,   -999.0,9,   -999.0,9,2,     0.47,2,    0.860,    0.000,2,  -1.6244
  09AR20060102,  S04I,   117,  1,     14,     14,2,20060227,2109,-66.4105,  79.9900,  223,     50.2,  -1.6292,  34.1977,2,  34.1937,2,    326.4,2,    323.1,2,    59.30,2,    28.80,2,   2207.7,2,   2310.3,2,2,     0.46,2,    0.904,    0.000,2,  -1.6302
  09AR20060102,  S04I,   117,  1,     13,     13,2,20060227,2109,-66.4105,  79.9900,  223,     59.6,  -1.7078,  34.2356,2,  34.2365,2,    319.0,2,    318.2,2,    66.20,2,    29.31,2,   2213.3,2,   2310.4,2,2,     0.54,2,    0.845,    0.000,2,  -1.7090
  09AR20060102,  S04I,   117,  1,     12,     12,2,20060227,2109,-66.4105,  79.9900,  223,     69.4,  -1.7210,  34.2623,2,-999.0000,9,    315.8,2,   -999.0,9,  -999.00,9,  -999.00,9,   -999.0,9,   -999.0,9,2,     0.59,2,    0.384,    0.000,2,  -1.7224
  09AR20060102,  S04I,   117,  1,     11,     11,2,20060227,2109,-66.4105,  79.9900,  223,     69.3,  -1.7201,  34.2614,2,  34.2665,2,    315.8,2,    318.2,2,    61.40,2,    29.61,2,   2211.7,2,   2313.5,2,2,     0.57,2,    0.409,    0.000,2,  -1.7215
  09AR20060102,  S04I,   117,  1,     10,     10,2,20060227,2109,-66.4105,  79.9900,  223,    120.2,  -1.7443,  34.2992,2,-999.0000,9,    317.2,2,   -999.0,9,  -999.00,9,  -999.00,9,   -999.0,9,   -999.0,9,2,     0.95,2,    0.117,    0.000,2,  -1.7468
  09AR20060102,  S04I,   117,  1,      9,      9,2,20060227,2109,-66.4105,  79.9900,  223,    120.1,  -1.7443,  34.2990,2,  34.3041,2,    317.2,2,    318.6,2,    62.50,2,    29.80,2,   2218.6,2,   2318.9,2,2,     0.91,2,    0.119,    0.000,2,  -1.7468
  09AR20060102,  S04I,   117,  1,      8,      8,2,20060227,2109,-66.4105,  79.9900,  223,    151.4,  -1.7656,  34.3230,2,-999.0000,9,    318.9,2,   -999.0,9,  -999.00,9,  -999.00,9,   -999.0,9,   -999.0,9,2,     0.99,2,    0.013,    0.000,2,  -1.7687
  09AR20060102,  S04I,   117,  1,      7,      7,2,20060227,2109,-66.4105,  79.9900,  223,    150.9,  -1.7664,  34.3224,2,-999.0000,9,    318.6,2,   -999.0,9,  -999.00,9,  -999.00,9,   -999.0,9,   -999.0,9,2,     0.98,2,    0.008,    0.000,2,  -1.7695
  09AR20060102,  S04I,   117,  1,      6,      6,2,20060227,2109,-66.4105,  79.9900,  223,    150.1,  -1.7658,  34.3218,2,  34.3239,2,    318.6,2,    319.6,2,    61.70,2,    29.92,2,   2218.7,2,   2318.0,2,2,     0.98,2,    0.003,    0.000,2,  -1.7689
  09AR20060102,  S04I,   117,  1,      5,      5,2,20060227,2109,-66.4105,  79.9900,  223,    198.9,  -1.7728,  34.3426,2,-999.0000,9,    319.0,2,   -999.0,9,  -999.00,9,  -999.00,9,   -999.0,9,   -999.0,9,2,     0.99,2,   -0.015,    0.000,2,  -1.7770
  09AR20060102,  S04I,   117,  1,      4,      4,2,20060227,2109,-66.4105,  79.9900,  223,    199.0,  -1.7731,  34.3423,2,-999.0000,9,    319.0,2,   -999.0,9,  -999.00,9,  -999.00,9,   -999.0,9,   -999.0,9,2,     0.99,2,   -0.013,    0.000,2,  -1.7773
  09AR20060102,  S04I,   117,  1,      3,      3,2,20060227,2109,-66.4105,  79.9900,  223,    199.1,  -1.7723,  34.3433,2,-999.0000,9,    319.0,2,   -999.0,9,  -999.00,9,  -999.00,9,   -999.0,9,   -999.0,9,2,     0.99,2,   -0.014,    0.000,2,  -1.7765
  09AR20060102,  S04I,   117,  1,      2,      2,2,20060227,2109,-66.4105,  79.9900,  223,    199.4,  -1.7729,  34.3425,2,  34.3427,2,    319.0,2,    318.1,2,    64.30,2,    30.23,2,   2221.9,2,   2320.8,2,2,     0.99,2,   -0.014,    0.000,2,  -1.7771
  09AR20060102,  S04I,   117,  1,      1,      1,2,20060227,2109,-66.4105,  79.9900,  223,    219.4,  -1.7679,  34.3452,2,  34.3447,2,    318.4,2,    319.0,2,    63.50,2,    30.37,2,   2231.3,2,   2320.9,2,2,     0.99,2,   -0.012,    0.000,2,  -1.7726
  09AR20060102,  S04I,   118,  1,     24,     24,2,20060228,0144,-66.7452,  80.0103,  324,      9.4,  -1.7531,  32.9796,2,-999.0000,9,    362.1,2,   -999.0,9,  -999.00,9,  -999.00,9,   -999.0,9,   -999.0,9,2,     0.79,2,    1.444,    0.162,2,  -1.7533
  09AR20060102,  S04I,   118,  1,     23,     23,2,20060228,0144,-66.7452,  80.0103,  324,      9.3,  -1.7528,  32.9793,2,-999.0000,9,    362.1,2,   -999.0,9,  -999.00,9,  -999.00,9,   -999.0,9,   -999.0,9,2,     0.76,2,    1.592,    0.158,2,  -1.7530
  09AR20060102,  S04I,   118,  1,     22,     22,2,20060228,0144,-66.7452,  80.0103,  324,      9.3,  -1.7488,  32.9800,2,-999.0000,9,    362.1,2,   -999.0,9,  -999.00,9,  -999.00,9,   -999.0,9,   -999.0,9,2,     0.74,2,    1.434,    0.165,2,  -1.7490
  09AR20060102,  S04I,   118,  1,     21,     21,2,20060228,0144,-66.7452,  80.0103,  324,      9.2,  -1.7504,  32.9802,2,  32.9838,2,    362.1,2,    363.8,2,    46.50,2,    24.28,2,   2105.2,2,   2232.3,6,2,     0.64,2,    1.565,    0.173,2,  -1.7506
  09AR20060102,  S04I,   118,  1,     20,     20,2,20060228,0144,-66.7452,  80.0103,  324,     19.8,  -1.7475,  32.9855,2,  33.0733,3,    361.6,2,    361.5,2,    46.20,2,    24.32,2,   2119.7,2,   2239.5,2,2,     0.94,2,    2.017,    0.060,2,  -1.7478
  09AR20060102,  S04I,   118,  1,     19,     19,2,20060228,0144,-66.7452,  80.0103,  324,     29.5,  -1.4736,  33.5163,2,-999.0000,9,    348.4,2,   -999.0,9,  -999.00,9,  -999.00,9,   -999.0,9,   -999.0,9,2,     0.94,2,    3.369,    0.026,2,  -1.4742
  09AR20060102,  S04I,   118,  1,     18,     18,2,20060228,0144,-66.7452,  80.0103,  324,     29.5,  -1.5092,  33.4471,2,  33.7001,2,    348.4,2,    342.0,2,    48.60,2,    24.96,2,   2163.3,2,   2284.8,2,2,     0.94,2,    3.531,    0.027,2,  -1.5098
  09AR20060102,  S04I,   118,  1,     17,     17,2,20060228,0144,-66.7452,  80.0103,  324,     39.9,  -1.2253,  34.0994,2,  34.1042,2,    329.4,2,    329.8,2,    51.60,2,    26.23,2,   2197.6,2,   2307.5,2,2,     0.97,2,    1.473,    0.011,2,  -1.2263
  09AR20060102,  S04I,   118,  1,     16,     16,2,20060228,0144,-66.7452,  80.0103,  324,     49.5,  -1.2929,  34.2374,2,-999.0000,9,    325.6,2,   -999.0,9,  -999.00,9,  -999.00,9,   -999.0,9,   -999.0,9,2,     0.98,2,    0.564,    0.006,2,  -1.2941
  09AR20060102,  S04I,   118,  1,     15,     15,2,20060228,0144,-66.7452,  80.0103,  324,     49.4,  -1.2964,  34.2358,2,  34.2287,2,    325.6,2,    327.4,2,    56.10,2,    27.51,2,   2207.3,2,   2313.6,2,2,     0.98,2,    0.549,    0.006,2,  -1.2976
  09AR20060102,  S04I,   118,  1,     14,     14,2,20060228,0144,-66.7452,  80.0103,  324,     59.8,  -1.4063,  34.2669,2,-999.0000,9,    325.3,2,   -999.0,9,  -999.00,9,  -999.00,9,   -999.0,9,   -999.0,9,2,     0.98,2,    0.394,    0.004,2,  -1.4077
  09AR20060102,  S04I,   118,  1,     13,     13,2,20060228,0144,-66.7452,  80.0103,  324,     59.7,  -1.4096,  34.2663,2,  34.2663,2,    325.3,2,    323.8,2,    59.10,2,    27.93,2,   2217.1,2,   2316.2,2,2,     0.98,2,    0.431,    0.003,2,  -1.4110
  09AR20060102,  S04I,   118,  1,     12,     12,2,20060228,0144,-66.7452,  80.0103,  324,     69.3,  -1.5195,  34.2900,2,  34.2904,2,    324.5,2,    321.9,2,    60.10,2,    28.46,2,   2218.4,2,   2319.3,2,2,     0.98,2,    0.294,    0.002,2,  -1.5210
  09AR20060102,  S04I,   118,  1,     11,     11,2,20060228,0144,-66.7452,  80.0103,  324,     79.4,  -1.5575,  34.3142,2,-999.0000,9,    322.6,2,   -999.0,9,  -999.00,9,  -999.00,9,   -999.0,9,   -999.0,9,2,     0.98,2,    0.237,    0.001,2,  -1.5592
  09AR20060102,  S04I,   118,  1,     10,     10,2,20060228,0144,-66.7452,  80.0103,  324,     79.4,  -1.5591,  34.3141,2,  34.3206,2,    322.6,2,    323.7,2,    61.00,2,    29.07,2,   2226.2,2,   2318.5,2,2,     0.98,2,    0.247,    0.001,2,  -1.5608
  09AR20060102,  S04I,   118,  1,      9,      9,2,20060228,0144,-66.7452,  80.0103,  324,     90.3,  -1.6132,  34.3253,2,  34.3263,2,    321.0,2,    319.2,2,    61.40,2,    29.26,2,   2222.7,2,   2319.7,2,2,     0.98,2,    0.156,    0.000,2,  -1.6151
  09AR20060102,  S04I,   118,  1,      8,      8,2,20060228,0144,-66.7452,  80.0103,  324,     99.2,  -1.6137,  34.3288,2,  34.3306,2,    320.8,2,    319.1,2,    61.20,2,    29.20,2,   2220.1,2,   2316.0,2,2,     0.99,2,    0.131,    0.000,2,  -1.6158
  09AR20060102,  S04I,   118,  1,      7,      7,2,20060228,0144,-66.7452,  80.0103,  324,    150.4,  -1.6484,  34.3605,2,-999.0000,9,    321.1,2,   -999.0,9,  -999.00,9,  -999.00,9,   -999.0,9,   -999.0,9,2,     0.98,2,    0.103,    0.000,2,  -1.6517
  09AR20060102,  S04I,   118,  1,      6,      6,2,20060228,0144,-66.7452,  80.0103,  324,    150.4,  -1.6482,  34.3605,2,  34.3639,2,    321.1,2,    317.5,2,    63.20,2,    29.61,2,   2219.4,2,   2322.7,2,2,     0.99,2,    0.138,    0.000,2,  -1.6515
  09AR20060102,  S04I,   118,  1,      5,      5,2,20060228,0144,-66.7452,  80.0103,  324,    199.7,  -1.6669,  34.3872,2,-999.0000,9,    314.5,2,   -999.0,9,  -999.00,9,  -999.00,9,   -999.0,9,   -999.0,9,2,     0.98,2,    0.146,    0.000,2,  -1.6713
  09AR20060102,  S04I,   118,  1,      4,      4,2,20060228,0144,-66.7452,  80.0103,  324,    199.7,  -1.6669,  34.3873,2,-999.0000,9,    314.5,2,   -999.0,9,  -999.00,9,  -999.00,9,   -999.0,9,   -999.0,9,2,     0.98,2,    0.114,    0.000,2,  -1.6713
  09AR20060102,  S04I,   118,  1,      3,      3,2,20060228,0144,-66.7452,  80.0103,  324,    199.6,  -1.6663,  34.3868,2,  34.3895,2,    314.5,2,    315.4,2,    62.30,2,    30.08,2,   2224.5,2,   2325.9,6,2,     0.98,2,    0.105,    0.000,2,  -1.6707
  09AR20060102,  S04I,   118,  1,      2,      2,2,20060228,0144,-66.7452,  80.0103,  324,    300.7,  -1.7945,  34.4383,2,  34.4372,2,    317.4,2,    316.9,2,    63.80,2,    30.26,2,   2231.0,2,   2324.7,2,2,     0.98,2,    0.180,    0.000,2,  -1.8012
  09AR20060102,  S04I,   118,  1,      1,      1,2,20060228,0144,-66.7452,  80.0103,  324,    324.0,  -1.8049,  34.4442,2,  34.4428,2,    313.3,2,    315.4,2,    64.80,2,    30.36,2,   2235.1,6,   2323.7,2,2,     0.97,2,    0.214,    0.000,2,  -1.8121
  09AR20060102,  S04I,   119,  1,     24,     24,2,20060303,0736,-66.0828,  79.4652, 1497,      5.7,  -0.7217,  33.4696,2,  33.4703,2,   -999.0,5,   -999.0,9,  -999.00,9,  -999.00,9,   -999.0,9,   -999.0,9,2,     0.96,2,    0.279,    0.169,2,  -0.7219
  09AR20060102,  S04I,   119,  1,     23,     23,2,20060303,0736,-66.0828,  79.4652, 1497,      5.5,  -0.7200,  33.4694,2,-999.0000,9,   -999.0,5,   -999.0,9,  -999.00,9,  -999.00,9,   -999.0,9,   -999.0,9,2,     0.96,2,    0.306,    0.175,2,  -0.7201
  09AR20060102,  S04I,   119,  1,     22,     22,2,20060303,0736,-66.0828,  79.4652, 1497,      5.6,  -0.7185,  33.4693,2,-999.0000,9,   -999.0,5,   -999.0,9,  -999.00,9,  -999.00,9,   -999.0,9,   -999.0,9,2,     0.96,2,    0.295,    0.166,2,  -0.7186
  09AR20060102,  S04I,   119,  1,     21,     21,2,20060303,0736,-66.0828,  79.4652, 1497,      8.4,  -0.7281,  33.4689,2,  33.4689,2,   -999.0,5,   -999.0,9,  -999.00,9,  -999.00,9,   -999.0,9,   -999.0,9,2,     0.96,2,    0.267,    0.117,2,  -0.7283
  09AR20060102,  S04I,   119,  1,     20,     20,2,20060303,0736,-66.0828,  79.4652, 1497,     49.1,  -1.2874,  33.8885,2,-999.0000,9,   -999.0,5,   -999.0,9,  -999.00,9,  -999.00,9,   -999.0,9,   -999.0,9,2,     0.95,2,    1.837,    0.020,2,  -1.2885
  09AR20060102,  S04I,   119,  1,     19,     19,2,20060303,0736,-66.0828,  79.4652, 1497,     49.0,  -1.2800,  33.8835,2,-999.0000,9,   -999.0,5,   -999.0,9,  -999.00,9,  -999.00,9,   -999.0,9,   -999.0,9,2,     0.56,2,    1.795,    0.018,2,  -1.2811
  09AR20060102,  S04I,   119,  1,     18,     18,2,20060303,0736,-66.0828,  79.4652, 1497,     48.9,  -1.2730,  33.8778,2,  33.8871,2,   -999.0,5,   -999.0,9,  -999.00,9,  -999.00,9,   -999.0,9,   -999.0,9,2,     0.49,2,    1.800,    0.034,2,  -1.2741
  09AR20060102,  S04I,   119,  1,     17,     17,2,20060303,0736,-66.0828,  79.4652, 1497,     99.3,  -1.7755,  34.2453,2,  34.2454,2,   -999.0,5,   -999.0,9,  -999.00,9,  -999.00,9,   -999.0,9,   -999.0,9,2,     0.91,2,    0.350,    0.000,2,  -1.7775
  09AR20060102,  S04I,   119,  1,     16,     16,2,20060303,0736,-66.0828,  79.4652, 1497,    149.4,  -1.7949,  34.2796,2,  34.2790,2,   -999.0,5,   -999.0,9,  -999.00,9,  -999.00,9,   -999.0,9,   -999.0,9,2,     0.99,2,    0.007,    0.000,2,  -1.7979
  09AR20060102,  S04I,   119,  1,     15,     15,2,20060303,0736,-66.0828,  79.4652, 1497,    201.0,  -1.7865,  34.3013,2,  34.3014,2,   -999.0,5,   -999.0,9,  -999.00,9,  -999.00,9,   -999.0,9,   -999.0,9,2,     0.99,2,   -0.021,    0.000,2,  -1.7907
  09AR20060102,  S04I,   119,  1,     14,     14,2,20060303,0736,-66.0828,  79.4652, 1497,    247.7,  -1.7878,  34.3193,2,  34.3198,2,   -999.0,5,   -999.0,9,  -999.00,9,  -999.00,9,   -999.0,9,   -999.0,9,2,     0.99,2,   -0.038,    0.000,2,  -1.7931
  09AR20060102,  S04I,   119,  1,     13,     13,2,20060303,0736,-66.0828,  79.4652, 1497,    300.0,  -1.7343,  34.3485,2,  34.3496,2,   -999.0,5,   -999.0,9,  -999.00,9,  -999.00,9,   -999.0,9,   -999.0,9,2,     0.99,2,   -0.045,    0.000,2,  -1.7410
  09AR20060102,  S04I,   119,  1,     12,     12,2,20060303,0736,-66.0828,  79.4652, 1497,    399.5,  -1.5329,  34.3967,2,  34.3956,2,   -999.0,5,   -999.0,9,  -999.00,9,  -999.00,9,   -999.0,9,   -999.0,9,2,     0.99,2,   -0.049,    0.000,2,  -1.5430
  09AR20060102,  S04I,   119,  1,     11,     11,2,20060303,0736,-66.0828,  79.4652, 1497,    499.7,  -0.3653,  34.5163,2,  34.5166,2,   -999.0,5,   -999.0,9,  -999.00,9,  -999.00,9,   -999.0,9,   -999.0,9,2,     0.99,2,   -0.037,    0.000,2,  -0.3835
  09AR20060102,  S04I,   119,  1,     10,     10,2,20060303,0736,-66.0828,  79.4652, 1497,    599.9,   0.4489,  34.6279,2,  34.6276,2,   -999.0,5,   -999.0,9,  -999.00,9,  -999.00,9,   -999.0,9,   -999.0,9,2,     0.99,2,   -0.037,    0.000,2,   0.4223
  09AR20060102,  S04I,   119,  1,      9,      9,2,20060303,0736,-66.0828,  79.4652, 1497,    699.1,   0.8218,  34.6839,2,  34.6844,2,   -999.0,5,   -999.0,9,  -999.00,9,  -999.00,9,   -999.0,9,   -999.0,9,2,     0.99,2,   -0.040,    0.000,2,   0.7880
  09AR20060102,  S04I,   119,  1,      8,      8,2,20060303,0736,-66.0828,  79.4652, 1497,    801.1,   0.8550,  34.6982,2,  34.6986,2,   -999.0,5,   -999.0,9,  -999.00,9,  -999.00,9,   -999.0,9,   -999.0,9,2,     0.99,2,   -0.043,    0.000,2,   0.8153
  09AR20060102,  S04I,   119,  1,      7,      7,2,20060303,0736,-66.0828,  79.4652, 1497,    899.6,   0.7860,  34.6999,2,  34.7001,2,   -999.0,5,   -999.0,9,  -999.00,9,  -999.00,9,   -999.0,9,   -999.0,9,2,     0.99,2,   -0.042,    0.000,2,   0.7412
  09AR20060102,  S04I,   119,  1,      6,      6,2,20060303,0736,-66.0828,  79.4652, 1497,   1000.4,   0.7025,  34.6982,2,-999.0000,9,   -999.0,5,   -999.0,9,  -999.00,9,  -999.00,9,   -999.0,9,   -999.0,9,2,     0.99,2,   -0.042,    0.000,2,   0.6525
  09AR20060102,  S04I,   119,  1,      5,      5,2,20060303,0736,-66.0828,  79.4652, 1497,   1000.0,   0.7054,  34.6983,2,  34.6984,2,   -999.0,5,   -999.0,9,  -999.00,9,  -999.00,9,   -999.0,9,   -999.0,9,2,     0.99,2,   -0.042,    0.000,2,   0.6554
  09AR20060102,  S04I,   119,  1,      4,      4,2,20060303,0736,-66.0828,  79.4652, 1497,   1199.8,   0.5019,  34.6914,2,  34.6923,2,   -999.0,5,   -999.0,9,  -999.00,9,  -999.00,9,   -999.0,9,   -999.0,9,2,     0.99,2,   -0.048,    0.000,2,   0.4418
  09AR20060102,  S04I,   119,  1,      3,      3,2,20060303,0736,-66.0828,  79.4652, 1497,   1401.6,   0.3412,  34.6850,2,  34.6856,2,   -999.0,5,   -999.0,9,  -999.00,9,  -999.00,9,   -999.0,9,   -999.0,9,2,     0.99,2,   -0.048,    0.000,2,   0.2704
  09AR20060102,  S04I,   119,  1,      2,      2,2,20060303,0736,-66.0828,  79.4652, 1497,   1499.7,   0.3018,  34.6838,2,  34.6839,2,   -999.0,5,   -999.0,9,  -999.00,9,  -999.00,9,   -999.0,9,   -999.0,9,2,     0.99,2,   -0.048,    0.000,2,   0.2253
  09AR20060102,  S04I,   119,  1,      1,      1,2,20060303,0736,-66.0828,  79.4652, 1497,   1550.9,   0.2890,  34.6833,2,  34.6837,2,   -999.0,5,   -999.0,9,  -999.00,9,  -999.00,9,   -999.0,9,   -999.0,9,2,     0.99,2,   -0.046,    0.000,2,   0.2094