BOTTLE,20220816CCHSIOAMB
EXPOCODE,SECT_ID,STNNBR,CASTNO,SAMPNO,BTLNBR,BTLNBR_FLAG_W,DATE,TIME,LATITUDE,LONGITUDE,DEPTH,CTDPRS,CTDTMP,CTDSAL,CTDSAL_FLAG_W,SALNTY,SALNTY_FLAG_W,CTDOXY,CTDOXY_FLAG_W,OXYGEN,OXYGEN_FLAG_W,SILCAT,SILCAT_FLAG_W,NITRAT,NITRAT_FLAG_W,TCARBN,TCARBN_FLAG_W,ALKALI,ALKALI_FLAG_W,FLUOR_FLAG_W,XMISS,XMISS_FLAG_W,FLUOR,PAR,PAR_FLAG_W,THETA
,,,,,,,,,,,METERS,DBAR,ITS-90,PSS-78,,PSS-78,,UMOL/KG,,UMOL/KG,,UMOL/KG,,UMOL/KG,,UMOL/KG,,UMOL/KG,,,%TRANS,,VOLTS,VOLTS,,DEG C
  09AR20060102,  S04I,    96,  1,     24,     24,2,20060219,2359,-66.7280,  69.9992, 1520,     10.1,   0.0061,  33.9036,2,  33.9027,2,    341.1,2,   -999.0,9,    48.50,2,    26.59,2,   2175.4,2,   -999.0,9,2,     0.96,2,    0.555,    0.084,2,   0.0058
  09AR20060102,  S04I,    96,  1,     23,     23,2,20060219,2359,-66.7280,  69.9992, 1520,     20.2,   0.0058,  33.9038,2,-999.0000,9,    341.0,2,   -999.0,9,  -999.00,9,  -999.00,9,   -999.0,9,   -999.0,9,2,     0.96,2,    0.582,    0.041,2,   0.0051
  09AR20060102,  S04I,    96,  1,     22,     22,2,20060219,2359,-66.7280,  69.9992, 1520,     20.2,   0.0076,  33.9039,2,-999.0000,9,    341.0,2,   -999.0,9,  -999.00,9,  -999.00,9,   -999.0,9,   -999.0,9,2,     0.96,2,    0.581,    0.039,2,   0.0069
  09AR20060102,  S04I,    96,  1,     21,     21,2,20060219,2359,-66.7280,  69.9992, 1520,     20.0,   0.0094,  33.9041,2,  33.9037,2,    341.0,2,   -999.0,9,    48.60,2,    26.48,2,   -999.0,9,   -999.0,9,2,     0.96,2,    0.609,    0.040,2,   0.0087
  09AR20060102,  S04I,    96,  1,     20,     20,2,20060219,2359,-66.7280,  69.9992, 1520,     29.5,   0.0115,  33.9043,2,  33.9039,2,    339.0,2,    340.0,2,    48.40,2,    26.56,2,   2176.5,2,   -999.0,9,2,     0.96,2,    0.600,    0.021,2,   0.0105
  09AR20060102,  S04I,    96,  1,     19,     19,2,20060219,2359,-66.7280,  69.9992, 1520,     39.9,   0.0502,  33.9106,2,  33.9094,2,    336.0,2,    340.5,2,    48.10,2,    26.52,2,   2172.5,2,   -999.0,9,2,     0.96,2,    0.666,    0.013,2,   0.0488
  09AR20060102,  S04I,    96,  1,     18,     18,2,20060219,2359,-66.7280,  69.9992, 1520,     49.8,  -0.5611,  34.0276,2,  34.0148,2,    327.9,2,    338.0,2,    50.10,2,    27.09,2,   -999.0,9,   -999.0,9,2,     0.96,2,    1.199,    0.009,2,  -0.5626
  09AR20060102,  S04I,    96,  1,     17,     17,2,20060219,2359,-66.7280,  69.9992, 1520,     59.4,  -1.4635,  34.2014,2,  34.2043,2,    321.9,2,    327.9,2,    55.60,2,    28.24,2,   2207.5,2,   -999.0,9,2,     0.96,2,    1.381,    0.004,2,  -1.4648
  09AR20060102,  S04I,    96,  1,     16,     16,2,20060219,2359,-66.7280,  69.9992, 1520,     70.6,  -1.6901,  34.2610,2,  34.2599,2,    317.6,2,    317.2,2,    59.30,2,    29.07,2,   -999.0,9,   -999.0,9,2,     0.97,2,    1.645,    0.001,2,  -1.6915
  09AR20060102,  S04I,    96,  1,     15,     15,2,20060219,2359,-66.7280,  69.9992, 1520,     89.4,  -1.7600,  34.2877,2,  34.2865,2,    312.6,2,    311.8,2,    60.80,2,    29.84,2,   2215.1,2,   -999.0,9,2,     0.98,2,    0.760,    0.000,2,  -1.7618
  09AR20060102,  S04I,    96,  1,     14,     14,2,20060219,2359,-66.7280,  69.9992, 1520,    100.6,  -1.7699,  34.2951,2,  34.2943,2,    310.2,2,    310.9,2,    60.30,2,    29.72,2,   2211.0,2,   -999.0,9,2,     0.98,2,    0.667,    0.000,2,  -1.7719
  09AR20060102,  S04I,    96,  1,     13,     13,2,20060219,2359,-66.7280,  69.9992, 1520,    140.0,  -1.7880,  34.3100,2,  34.3092,2,    311.4,2,    311.5,2,    60.90,2,    29.99,2,   2216.1,2,   -999.0,9,2,     0.99,2,    0.226,    0.000,2,  -1.7909
  09AR20060102,  S04I,    96,  1,     12,     12,2,20060219,2359,-66.7280,  69.9992, 1520,    250.6,  -1.6859,  34.3552,2,  34.3537,2,    310.1,2,    309.6,2,    63.10,2,    30.00,2,   -999.0,9,   -999.0,9,2,     0.99,2,   -0.020,    0.000,2,  -1.6915
  09AR20060102,  S04I,    96,  1,     11,     11,2,20060219,2359,-66.7280,  69.9992, 1520,    326.7,  -1.2797,  34.4149,2,  34.4134,2,    292.5,2,    294.1,2,    71.40,2,    30.74,2,   -999.0,9,   -999.0,9,2,     0.99,2,   -0.051,    0.000,2,  -1.2885
  09AR20060102,  S04I,    96,  1,     10,     10,2,20060219,2359,-66.7280,  69.9992, 1520,    425.1,  -0.6300,  34.5020,2,  34.4995,2,    269.1,2,    268.2,2,    77.40,2,    30.85,2,   -999.0,9,   -999.0,9,2,     0.99,2,   -0.045,    0.000,2,  -0.6442
  09AR20060102,  S04I,    96,  1,      9,      9,2,20060219,2359,-66.7280,  69.9992, 1520,    493.8,  -0.2486,  34.5582,2,  34.5577,2,    253.2,2,    252.8,2,    83.20,2,    30.81,2,   -999.0,9,   -999.0,9,2,     0.99,2,   -0.042,    0.000,2,  -0.2671
  09AR20060102,  S04I,    96,  1,      8,      8,2,20060219,2359,-66.7280,  69.9992, 1520,    573.1,   0.2394,  34.6205,2,  34.6201,2,    235.6,2,    233.0,2,    93.50,2,    31.56,2,   -999.0,9,   -999.0,9,2,     0.99,2,   -0.046,    0.000,2,   0.2152
  09AR20060102,  S04I,    96,  1,      7,      7,2,20060219,2359,-66.7280,  69.9992, 1520,    699.9,   0.5727,  34.6675,2,  34.6678,2,    217.7,2,    218.4,2,    98.80,2,    31.12,2,   -999.0,9,   -999.0,9,2,     0.99,2,   -0.047,    0.000,2,   0.5403
  09AR20060102,  S04I,    96,  1,      6,      6,2,20060219,2359,-66.7280,  69.9992, 1520,    899.6,   0.6286,  34.6900,2,  34.6898,2,    211.4,2,    212.1,2,   106.10,2,    31.50,2,   -999.0,9,   -999.0,9,2,     0.99,2,   -0.045,    0.000,2,   0.5850
  09AR20060102,  S04I,    96,  1,      5,      5,2,20060219,2359,-66.7280,  69.9992, 1520,   1249.6,   0.4830,  34.6898,2,  34.6894,2,    213.4,2,    213.2,2,   112.80,2,    31.60,2,   -999.0,9,   -999.0,9,2,     0.99,2,   -0.047,    0.000,2,   0.4201
  09AR20060102,  S04I,    96,  1,      4,      4,2,20060219,2359,-66.7280,  69.9992, 1520,   1401.1,   0.3014,  34.6769,2,  34.6764,2,    220.0,2,    220.4,2,   110.60,2,    31.68,2,   -999.0,9,   -999.0,9,2,     0.99,2,   -0.042,    0.000,2,   0.2311
  09AR20060102,  S04I,    96,  1,      3,      3,2,20060219,2359,-66.7280,  69.9992, 1520,   1449.5,   0.0321,  34.6502,2,  34.6511,2,    232.9,2,    234.1,2,   101.40,2,    31.34,2,   -999.0,9,   -999.0,9,2,     0.99,2,   -0.033,    0.000,2,  -0.0380
  09AR20060102,  S04I,    96,  1,      2,      2,2,20060219,2359,-66.7280,  69.9992, 1520,   1500.6,  -0.1224,  34.6337,2,  34.6327,2,    242.8,2,    243.1,2,    96.10,2,    31.23,2,   -999.0,9,   -999.0,9,2,     0.99,2,   -0.027,    0.000,2,  -0.1937
  09AR20060102,  S04I,    96,  1,      1,      1,2,20060219,2359,-66.7280,  69.9992, 1520,   1545.5,  -0.1882,  34.6272,2,  34.6262,2,    246.7,2,    246.5,2,    93.60,2,    31.08,2,   -999.0,9,   -999.0,9,2,     0.98,2,   -0.016,    0.000,2,  -0.2615
  09AR20060102,  S04I,    97,  1,     24,     24,2,20060220,0412,-66.8198,  70.0045, 1039,      8.9,  -0.1722,  33.8484,2,  33.8494,2,    340.6,2,    341.7,2,    51.40,2,    26.22,2,   2167.3,2,   2287.2,2,2,     0.96,2,    0.115,    0.435,2,  -0.1725
  09AR20060102,  S04I,    97,  1,     23,     23,2,20060220,0412,-66.8198,  70.0045, 1039,     30.9,  -0.1398,  33.8939,2,-999.0000,9,    341.2,2,   -999.0,9,  -999.00,9,  -999.00,9,   -999.0,9,   -999.0,9,2,     0.96,2,    0.498,    0.120,2,  -0.1408
  09AR20060102,  S04I,    97,  1,     22,     22,2,20060220,0412,-66.8198,  70.0045, 1039,     30.9,  -0.1377,  33.8931,2,-999.0000,9,    341.2,2,   -999.0,9,  -999.00,9,  -999.00,9,   -999.0,9,   -999.0,9,2,     0.96,2,    0.506,    0.147,2,  -0.1387
  09AR20060102,  S04I,    97,  1,     21,     21,2,20060220,0412,-66.8198,  70.0045, 1039,     30.8,  -0.1401,  33.8933,2,-999.0000,9,    341.2,2,   -999.0,9,  -999.00,9,  -999.00,9,   -999.0,9,   -999.0,9,2,     0.96,2,    0.556,    0.154,2,  -0.1411
  09AR20060102,  S04I,    97,  1,     20,     20,2,20060220,0412,-66.8198,  70.0045, 1039,     30.8,  -0.1441,  33.8970,2,  33.9045,2,    341.2,2,    340.9,2,    50.10,2,    26.30,2,   2171.0,6,   -999.0,9,2,     0.96,2,    0.575,    0.149,2,  -0.1451
  09AR20060102,  S04I,    97,  1,     19,     19,2,20060220,0412,-66.8198,  70.0045, 1039,     49.1,  -1.0712,  34.1288,2,  34.1275,2,    352.4,3,    332.9,3,    54.30,2,    27.59,2,   2191.9,2,   -999.0,9,2,     0.96,2,    1.012,    0.049,2,  -1.0724
  09AR20060102,  S04I,    97,  1,     18,     18,2,20060220,0412,-66.8198,  70.0045, 1039,     59.4,  -1.4525,  34.2034,2,-999.0000,9,    336.3,3,   -999.0,9,  -999.00,9,  -999.00,9,   -999.0,9,   -999.0,9,2,     0.97,2,    1.128,    0.031,2,  -1.4538
  09AR20060102,  S04I,    97,  1,     17,     17,2,20060220,0412,-66.8198,  70.0045, 1039,     59.3,  -1.4623,  34.2079,2,  34.2038,2,    336.3,3,    326.3,2,    55.10,2,    28.34,2,   2201.0,2,   -999.0,9,2,     0.97,2,    1.183,    0.034,2,  -1.4636
  09AR20060102,  S04I,    97,  1,     16,     16,2,20060220,0412,-66.8198,  70.0045, 1039,     80.7,  -1.7661,  34.2947,2,  34.2932,2,    310.8,2,    309.8,2,    61.20,2,    30.02,2,   2215.5,2,   -999.0,9,2,     0.99,2,    0.512,    0.011,2,  -1.7677
  09AR20060102,  S04I,    97,  1,     15,     15,2,20060220,0412,-66.8198,  70.0045, 1039,     99.4,  -1.7822,  34.3036,2,-999.0000,9,    308.2,2,   -999.0,9,  -999.00,9,  -999.00,9,   -999.0,9,   -999.0,9,2,     0.99,2,    0.347,    0.005,2,  -1.7842
  09AR20060102,  S04I,    97,  1,     14,     14,2,20060220,0412,-66.8198,  70.0045, 1039,     99.4,  -1.7834,  34.3040,2,  34.3033,2,    308.2,2,    310.4,2,    61.90,2,    29.93,2,   2215.1,2,   -999.0,9,2,     0.99,2,    0.308,    0.005,2,  -1.7854
  09AR20060102,  S04I,    97,  1,     13,     13,2,20060220,0412,-66.8198,  70.0045, 1039,    120.2,  -1.7865,  34.3122,2,-999.0000,9,    308.0,2,   -999.0,9,  -999.00,9,  -999.00,9,   -999.0,9,   -999.0,9,2,     0.99,2,    0.182,    0.001,2,  -1.7889
  09AR20060102,  S04I,    97,  1,     12,     12,2,20060220,0412,-66.8198,  70.0045, 1039,    120.0,  -1.7859,  34.3124,2,  34.3112,2,    308.0,2,    310.2,2,    62.20,2,    30.14,2,   2215.6,2,   -999.0,9,2,     0.99,2,    0.186,    0.001,2,  -1.7883
  09AR20060102,  S04I,    97,  1,     11,     11,2,20060220,0412,-66.8198,  70.0045, 1039,    139.5,  -1.7725,  34.3189,2,  34.3180,2,    308.9,2,    310.0,2,    62.00,2,    29.99,2,   2216.8,2,   -999.0,9,2,     0.99,2,    0.126,    0.000,2,  -1.7754
  09AR20060102,  S04I,    97,  1,     10,     10,2,20060220,0412,-66.8198,  70.0045, 1039,    201.4,  -1.6292,  34.3587,2,  34.3600,2,    306.5,2,    307.7,2,    64.50,2,    30.14,2,   2221.1,2,   -999.0,9,2,     0.99,2,   -0.003,    0.000,2,  -1.6337
  09AR20060102,  S04I,    97,  1,      9,      9,2,20060220,0412,-66.8198,  70.0045, 1039,    223.9,  -1.5908,  34.3680,2,  34.3684,2,    310.8,2,    305.6,2,    65.60,2,    30.21,2,   2219.5,2,   -999.0,9,2,     0.99,2,   -0.033,    0.000,2,  -1.5960
  09AR20060102,  S04I,    97,  1,      8,      8,2,20060220,0412,-66.8198,  70.0045, 1039,    249.7,  -1.4120,  34.3893,2,  34.3866,2,   -999.0,5,   -999.0,9,    66.90,2,    30.39,2,   2224.3,2,   -999.0,9,2,     0.99,2,   -0.043,    0.000,2,  -1.4182
  09AR20060102,  S04I,    97,  1,      7,      7,2,20060220,0412,-66.8198,  70.0045, 1039,    300.2,  -1.1614,  34.4223,2,  34.4250,2,   -999.0,5,   -999.0,9,    70.30,2,    30.71,2,   2227.8,2,   -999.0,9,2,     0.99,2,   -0.046,    0.000,2,  -1.1697
  09AR20060102,  S04I,    97,  1,      6,      6,2,20060220,0412,-66.8198,  70.0045, 1039,    399.5,  -0.4295,  34.5304,2,  34.5303,2,   -999.0,5,   -999.0,9,    79.40,2,    30.86,2,   2240.0,2,   -999.0,9,2,     0.99,2,   -0.046,    0.000,2,  -0.4435
  09AR20060102,  S04I,    97,  1,      5,      5,2,20060220,0412,-66.8198,  70.0045, 1039,    448.9,  -0.1197,  34.5737,2,  34.5734,2,   -999.0,5,   -999.0,9,    83.10,2,    31.13,2,   2244.0,2,   -999.0,9,2,     0.99,2,   -0.048,    0.000,2,  -0.1368
  09AR20060102,  S04I,    97,  1,      4,      4,2,20060220,0412,-66.8198,  70.0045, 1039,    649.2,   0.1947,  34.6346,2,  34.6342,2,   -999.0,5,   -999.0,9,    92.80,2,    30.96,2,   2250.7,2,   -999.0,9,2,     0.99,2,   -0.038,    0.000,2,   0.1670
  09AR20060102,  S04I,    97,  1,      3,      3,2,20060220,0412,-66.8198,  70.0045, 1039,    731.0,  -0.2027,  34.6059,2,  34.6046,2,   -999.0,5,   -999.0,9,    85.30,2,    30.84,2,   2247.3,2,   -999.0,9,2,     0.99,2,   -0.032,    0.000,2,  -0.2320
  09AR20060102,  S04I,    97,  1,      2,      2,2,20060220,0412,-66.8198,  70.0045, 1039,    999.2,  -0.2278,  34.6038,2,  34.6028,2,   -999.0,5,   -999.0,9,    84.90,2,    30.89,2,   2244.9,2,   -999.0,9,2,     0.99,2,   -0.032,    0.000,2,  -0.2700
  09AR20060102,  S04I,    97,  1,      1,      1,2,20060220,0412,-66.8198,  70.0045, 1039,   1036.0,  -0.2233,  34.6037,2,  34.6032,2,   -999.0,5,   -999.0,9,    87.30,2,    30.80,2,   2246.1,6,   -999.0,9,2,     0.99,2,   -0.030,    0.000,2,  -0.2674
  09AR20060102,  S04I,    98,  1,     24,     24,2,20060220,0724,-66.8760,  69.9993,  500,      9.7,  -0.2176,  33.8027,2,-999.0000,9,    341.4,2,   -999.0,9,  -999.00,9,  -999.00,9,   -999.0,9,   -999.0,9,2,     0.46,2,    0.079,    0.925,2,  -0.2179
  09AR20060102,  S04I,    98,  1,     23,     23,2,20060220,0724,-66.8760,  69.9993,  500,      9.5,  -0.2169,  33.8026,2,-999.0000,9,    341.4,2,   -999.0,9,  -999.00,9,  -999.00,9,   -999.0,9,   -999.0,9,2,     0.45,2,    0.059,    0.534,2,  -0.2172
  09AR20060102,  S04I,    98,  1,     22,     22,2,20060220,0724,-66.8760,  69.9993,  500,      9.6,  -0.2160,  33.8025,2,-999.0000,9,    341.4,2,   -999.0,9,  -999.00,9,  -999.00,9,   -999.0,9,   -999.0,9,2,     0.45,2,    0.055,    0.503,2,  -0.2163
  09AR20060102,  S04I,    98,  1,     21,     21,2,20060220,0724,-66.8760,  69.9993,  500,      9.4,  -0.2137,  33.8026,2,  33.8046,2,    341.4,2,    342.3,2,    47.40,2,    25.94,2,   2170.0,2,   -999.0,9,2,     0.36,2,    0.047,    0.447,2,  -0.2140
  09AR20060102,  S04I,    98,  1,     20,     20,2,20060220,0724,-66.8760,  69.9993,  500,     19.3,  -0.2173,  33.8249,2,  33.8343,2,    340.9,2,    342.0,2,    48.80,2,    26.23,2,   -999.0,9,   -999.0,9,2,     0.63,2,    0.168,    0.230,2,  -0.2179
  09AR20060102,  S04I,    98,  1,     19,     19,2,20060220,0724,-66.8760,  69.9993,  500,     28.8,  -0.1721,  33.8683,2,  33.8746,2,    340.4,2,    341.1,2,    48.70,2,    26.31,2,   2171.9,2,   -999.0,9,2,     0.28,2,    0.288,    0.155,2,  -0.1730
  09AR20060102,  S04I,    98,  1,     18,     18,2,20060220,0724,-66.8760,  69.9993,  500,     39.8,  -0.6446,  33.9481,2,  33.9505,2,    337.3,2,    340.3,2,    49.30,2,    26.39,2,   -999.0,9,   -999.0,9,2,     0.33,2,    0.663,    0.095,2,  -0.6457
  09AR20060102,  S04I,    98,  1,     17,     17,2,20060220,0724,-66.8760,  69.9993,  500,     50.4,  -0.9889,  34.1000,2,  34.1224,2,    335.8,2,    331.4,2,    52.80,2,    27.72,2,   2195.5,2,   -999.0,9,2,     0.25,2,    0.791,    0.103,2,  -0.9902
  09AR20060102,  S04I,    98,  1,     16,     16,2,20060220,0724,-66.8760,  69.9993,  500,     60.0,  -1.6012,  34.2362,2,-999.0000,9,    328.2,2,   -999.0,9,  -999.00,9,  -999.00,9,   -999.0,9,   -999.0,9,2,     0.34,2,    1.097,    0.036,2,  -1.6025
  09AR20060102,  S04I,    98,  1,     15,     15,2,20060220,0724,-66.8760,  69.9993,  500,     60.0,  -1.6027,  34.2361,2,  34.2389,2,    328.2,2,    320.4,2,    57.90,2,    28.86,2,   -999.0,9,   -999.0,9,2,     0.33,2,    1.060,    0.038,2,  -1.6040
  09AR20060102,  S04I,    98,  1,     14,     14,2,20060220,0724,-66.8760,  69.9993,  500,     69.5,  -1.6935,  34.2626,2,  34.2649,2,    318.2,2,    314.7,2,    59.70,2,    29.54,2,   2214.6,2,   -999.0,9,2,     0.42,2,    1.016,    0.022,2,  -1.6949
  09AR20060102,  S04I,    98,  1,     13,     13,2,20060220,0724,-66.8760,  69.9993,  500,     79.3,  -1.7235,  34.2804,2,  34.2841,2,    313.9,2,    313.6,2,    59.70,2,    29.55,2,   -999.0,9,   -999.0,9,2,     0.50,2,    0.811,    0.015,2,  -1.7251
  09AR20060102,  S04I,    98,  1,     12,     12,2,20060220,0724,-66.8760,  69.9993,  500,     90.6,  -1.7685,  34.3034,2,  34.2994,2,    311.7,2,    311.1,2,    60.70,2,    29.87,2,   -999.0,9,   -999.0,9,2,     0.60,2,    0.375,    0.013,2,  -1.7703
  09AR20060102,  S04I,    98,  1,     11,     11,2,20060220,0724,-66.8760,  69.9993,  500,    119.7,  -1.7342,  34.3244,2,  34.3251,2,    308.8,2,    309.6,2,    62.30,2,    29.95,2,   2224.5,2,   -999.0,9,2,     0.83,2,    0.098,    0.002,2,  -1.7367
  09AR20060102,  S04I,    98,  1,     10,     10,2,20060220,0724,-66.8760,  69.9993,  500,    149.4,  -1.7018,  34.3405,2,  34.3413,2,    308.1,2,    309.4,2,    62.90,2,    29.95,2,   -999.0,9,   -999.0,9,2,     0.93,2,    0.040,    0.000,2,  -1.7050
  09AR20060102,  S04I,    98,  1,      9,      9,2,20060220,0724,-66.8760,  69.9993,  500,    199.1,  -1.5412,  34.3758,2,  34.3792,2,    303.0,2,    304.0,2,    64.40,2,    30.22,2,   -999.0,9,   -999.0,9,2,     0.99,2,   -0.031,    0.000,2,  -1.5458
  09AR20060102,  S04I,    98,  1,      8,      8,2,20060220,0724,-66.8760,  69.9993,  500,    229.9,  -1.2615,  34.4122,2,  34.4160,2,    294.0,2,    292.0,2,    68.40,2,    30.47,2,   -999.0,9,   -999.0,9,2,     0.99,2,   -0.047,    0.000,2,  -1.2675
  09AR20060102,  S04I,    98,  1,      7,      7,2,20060220,0724,-66.8760,  69.9993,  500,    279.3,  -1.0332,  34.4544,2,  34.4554,2,    282.4,2,    286.3,2,    72.20,2,    30.61,2,   -999.0,9,   -999.0,9,2,     0.99,2,   -0.043,    0.000,2,  -1.0412
  09AR20060102,  S04I,    98,  1,      6,      6,2,20060220,0724,-66.8760,  69.9993,  500,    328.7,  -1.1549,  34.4898,2,  34.4901,2,    296.6,2,    291.8,2,    71.50,2,    30.20,2,   -999.0,9,   -999.0,9,2,     0.99,2,   -0.011,    0.000,2,  -1.1641
  09AR20060102,  S04I,    98,  1,      5,      5,2,20060220,0724,-66.8760,  69.9993,  500,    379.5,  -0.3682,  34.5555,2,  34.5568,2,    260.8,2,    258.1,2,    82.80,2,    30.95,2,   -999.0,9,   -999.0,9,2,     0.99,2,   -0.034,    0.000,2,  -0.3816
  09AR20060102,  S04I,    98,  1,      4,      4,2,20060220,0724,-66.8760,  69.9993,  500,    409.3,  -0.1835,  34.5775,2,  34.5799,2,    254.7,2,    248.7,2,    85.40,2,    30.85,2,   -999.0,9,   -999.0,9,2,     0.99,2,   -0.036,    0.000,2,  -0.1987
  09AR20060102,  S04I,    98,  1,      3,      3,2,20060220,0724,-66.8760,  69.9993,  500,    459.1,  -0.1877,  34.5904,2,  34.5868,2,    250.4,2,    254.0,2,    86.80,2,    30.76,2,   -999.0,9,   -999.0,9,2,     0.99,2,   -0.034,    0.000,2,  -0.2050
  09AR20060102,  S04I,    98,  1,      2,      2,2,20060220,0724,-66.8760,  69.9993,  500,    485.9,  -0.4560,  34.5824,2,  34.5824,2,    258.6,2,    260.7,2,    83.40,2,    30.81,2,   -999.0,9,   -999.0,9,2,     0.99,2,   -0.033,    0.000,2,  -0.4733
  09AR20060102,  S04I,    98,  1,      1,      1,2,20060220,0724,-66.8760,  69.9993,  500,    500.5,  -0.4821,  34.5802,2,  34.5813,2,    258.1,2,    261.6,2,    82.80,2,    30.62,2,   -999.0,9,   -999.0,9,2,     0.99,2,   -0.032,    0.000,2,  -0.4999