BOTTLE,20220816CCHSIOAMB
EXPOCODE,SECT_ID,STNNBR,CASTNO,SAMPNO,BTLNBR,BTLNBR_FLAG_W,DATE,TIME,LATITUDE,LONGITUDE,DEPTH,CTDPRS,CTDTMP,CTDSAL,CTDSAL_FLAG_W,SALNTY,SALNTY_FLAG_W,CTDOXY,CTDOXY_FLAG_W,OXYGEN,OXYGEN_FLAG_W,SILCAT,SILCAT_FLAG_W,NITRAT,NITRAT_FLAG_W,TCARBN,TCARBN_FLAG_W,ALKALI,ALKALI_FLAG_W,FLUOR_FLAG_W,XMISS,XMISS_FLAG_W,FLUOR,PAR,PAR_FLAG_W,THETA
,,,,,,,,,,,METERS,DBAR,ITS-90,PSS-78,,PSS-78,,UMOL/KG,,UMOL/KG,,UMOL/KG,,UMOL/KG,,UMOL/KG,,UMOL/KG,,,%TRANS,,VOLTS,VOLTS,,DEG C
  09AR20060102,  S04I,    21,  1,     24,     24,2,20060117,0331,-61.9988,  42.5037, 5142,      9.0,   0.8824,  33.7842,2,  33.7851,2,    343.4,2,    342.0,2,    46.90,2,    26.17,2,   -999.0,9,   -999.0,9,2,     0.29,2,   -0.035,    0.550,2,   0.8820
  09AR20060102,  S04I,    21,  1,     23,     23,2,20060117,0331,-61.9988,  42.5037, 5142,      9.0,   0.8881,  33.7842,2,-999.0000,9,    343.2,2,   -999.0,9,  -999.00,9,  -999.00,9,   -999.0,9,   -999.0,9,2,     0.33,2,   -0.034,    0.568,2,   0.8877
  09AR20060102,  S04I,    21,  1,     22,     22,2,20060117,0331,-61.9988,  42.5037, 5142,      9.1,   0.8969,  33.7842,2,-999.0000,9,    343.4,2,   -999.0,9,  -999.00,9,  -999.00,9,   -999.0,9,   -999.0,9,2,     0.36,2,   -0.034,    0.579,2,   0.8965
  09AR20060102,  S04I,    21,  1,     21,     21,2,20060117,0331,-61.9988,  42.5037, 5142,     19.6,   0.8155,  33.7830,2,  33.7941,2,    343.2,2,    343.8,2,    46.60,2,    26.39,2,   -999.0,9,   -999.0,9,2,     0.63,2,   -0.001,    0.297,2,   0.8147
  09AR20060102,  S04I,    21,  1,     20,     20,2,20060117,0331,-61.9988,  42.5037, 5142,     49.6,  -1.4302,  34.0025,2,  33.9974,2,    351.5,2,    352.1,2,    49.30,2,    26.73,2,   -999.0,9,   -999.0,9,2,     0.97,2,    0.268,    0.141,2,  -1.4313
  09AR20060102,  S04I,    21,  1,     19,     19,2,20060117,0331,-61.9988,  42.5037, 5142,     69.4,  -1.6208,  34.0704,2,  34.0684,2,    344.3,2,    344.0,2,    51.70,2,    27.35,2,   -999.0,9,   -999.0,9,2,     0.97,2,    0.956,    0.061,2,  -1.6222
  09AR20060102,  S04I,    21,  1,     18,     18,2,20060117,0331,-61.9988,  42.5037, 5142,     89.6,  -1.4238,  34.1367,2,  34.1334,2,    337.0,2,    323.2,3,    55.80,2,    28.61,2,   -999.0,9,   -999.0,9,2,     0.98,2,    0.681,    0.023,2,  -1.4258
  09AR20060102,  S04I,    21,  1,     17,     17,2,20060117,0331,-61.9988,  42.5037, 5142,    120.1,   0.0202,  34.3340,2,  34.3316,2,    289.2,2,    258.2,3,    68.50,2,    31.28,2,   -999.0,9,   -999.0,9,2,     0.99,2,    0.260,    0.005,2,   0.0159
  09AR20060102,  S04I,    21,  1,     16,     16,2,20060117,0331,-61.9988,  42.5037, 5142,    139.2,   0.7146,  34.4295,2,  34.4321,2,    248.6,2,    225.7,3,    74.10,2,    32.78,2,   -999.0,9,   -999.0,9,2,     0.99,2,    0.096,    0.002,2,   0.7087
  09AR20060102,  S04I,    21,  1,     15,     15,2,20060117,0331,-61.9988,  42.5037, 5142,    199.4,   1.4377,  34.5792,2,  34.5791,2,    194.3,2,    193.1,2,    82.40,2,    33.06,2,   -999.0,9,   -999.0,9,2,     0.99,2,   -0.035,    0.000,2,   1.4280
  09AR20060102,  S04I,    21,  1,     14,     14,2,20060117,0331,-61.9988,  42.5037, 5142,    299.1,   1.5966,  34.6566,2,  34.6580,2,    186.5,2,    187.7,2,    86.10,2,    32.33,2,   -999.0,9,   -999.0,9,2,     0.99,2,   -0.032,    0.000,2,   1.5813
  09AR20060102,  S04I,    21,  1,     13,     13,2,20060117,0331,-61.9988,  42.5037, 5142,    399.3,   1.6352,  34.6931,2,  34.6935,2,    188.0,2,    188.3,2,    87.90,2,    31.70,2,   -999.0,9,   -999.0,9,2,     0.99,2,   -0.035,    0.000,2,   1.6143
  09AR20060102,  S04I,    21,  1,     12,     12,2,20060117,0331,-61.9988,  42.5037, 5142,    597.4,   1.5130,  34.7226,2,  34.7237,2,    195.3,2,    195.0,2,    91.00,2,    30.81,2,   -999.0,9,   -999.0,9,2,     0.99,2,   -0.036,    0.000,2,   1.4812
  09AR20060102,  S04I,    21,  1,     11,     11,2,20060117,0331,-61.9988,  42.5037, 5142,    798.7,   1.3100,  34.7272,2,  34.7280,2,    200.0,2,    199.6,2,    95.40,2,    30.62,2,   -999.0,9,   -999.0,9,2,     0.99,2,   -0.036,    0.000,2,   1.2675
  09AR20060102,  S04I,    21,  1,     10,     10,2,20060117,0331,-61.9988,  42.5037, 5142,   1100.1,   0.9601,  34.7139,2,  34.7141,2,    204.0,2,    203.9,2,   104.50,2,    30.96,2,   -999.0,9,   -999.0,9,2,     0.99,2,   -0.040,    0.000,2,   0.9019
  09AR20060102,  S04I,    21,  1,      9,      9,2,20060117,0331,-61.9988,  42.5037, 5142,   1600.9,   0.5696,  34.6943,2,  34.6943,2,    206.9,2,    206.6,2,   115.80,2,    31.86,2,   -999.0,9,   -999.0,9,2,     0.99,2,   -0.039,    0.000,2,   0.4831
  09AR20060102,  S04I,    21,  1,      8,      8,2,20060117,0331,-61.9988,  42.5037, 5142,   2099.7,   0.3339,  34.6833,2,  34.6835,2,    212.0,2,    212.0,2,   124.20,2,    32.13,2,   -999.0,9,   -999.0,9,2,     0.99,2,   -0.041,    0.000,2,   0.2156
  09AR20060102,  S04I,    21,  1,      7,      7,2,20060117,0331,-61.9988,  42.5037, 5142,   2599.4,   0.1353,  34.6742,2,  34.6737,2,    219.1,2,    219.2,2,   126.60,2,    32.50,2,   -999.0,9,   -999.0,9,2,     0.99,2,   -0.045,    0.000,2,  -0.0178
  09AR20060102,  S04I,    21,  1,      6,      6,2,20060117,0331,-61.9988,  42.5037, 5142,   3100.1,  -0.0166,  34.6674,2,  34.6668,2,    226.8,2,    226.3,2,   126.20,2,    32.11,2,   -999.0,9,   -999.0,9,2,     0.99,2,   -0.046,    0.000,2,  -0.2082
  09AR20060102,  S04I,    21,  1,      5,      5,2,20060117,0331,-61.9988,  42.5037, 5142,   3601.2,  -0.1265,  34.6626,2,  34.6619,2,    233.6,2,    232.7,2,   126.70,2,    31.86,2,   -999.0,9,   -999.0,9,2,     0.99,2,   -0.047,    0.000,2,  -0.3605
  09AR20060102,  S04I,    21,  1,      4,      4,2,20060117,0331,-61.9988,  42.5037, 5142,   3999.9,  -0.1833,  34.6594,2,  34.6587,2,    237.8,2,    237.6,2,   125.40,2,    31.74,2,   -999.0,9,   -999.0,9,2,     0.99,2,   -0.048,    0.000,2,  -0.4541
  09AR20060102,  S04I,    21,  1,      3,      3,2,20060117,0331,-61.9988,  42.5037, 5142,   4574.8,  -0.2406,  34.6559,2,  34.6550,2,    242.2,2,    241.5,2,   126.60,2,    31.56,2,   -999.0,9,   -999.0,9,2,     0.99,2,   -0.048,    0.000,2,  -0.5686
  09AR20060102,  S04I,    21,  1,      2,      2,2,20060117,0331,-61.9988,  42.5037, 5142,   5219.2,  -0.2698,  34.6520,2,  34.6523,2,    244.8,2,    244.0,2,   135.50,2,    31.45,2,   -999.0,9,   -999.0,9,2,     0.99,2,   -0.050,    0.000,2,  -0.6681
  09AR20060102,  S04I,    21,  1,      1,      1,2,20060117,0331,-61.9988,  42.5037, 5142,   5241.6,  -0.2670,  34.6519,2,  34.6517,2,    244.8,2,    244.1,2,   135.10,2,    31.32,2,   -999.0,9,   -999.0,9,2,     0.99,2,   -0.049,    0.000,2,  -0.6680
  09AR20060102,  S04I,    22,  1,     24,     24,2,20060117,1313,-62.0003,  40.0017, 5170,     10.1,   0.8002,  33.8429,2,  33.8433,2,    342.9,2,    345.4,2,    50.10,2,    25.92,2,   2168.9,2,   2289.9,2,2,     0.97,2,    0.535,    0.052,2,   0.7998
  09AR20060102,  S04I,    22,  1,     23,     23,2,20060117,1313,-62.0003,  40.0017, 5170,     28.7,   0.5777,  33.8630,2,-999.0000,9,    339.0,2,   -999.0,9,  -999.00,9,  -999.00,9,   -999.0,9,   -999.0,9,2,     0.96,2,    0.707,    0.018,2,   0.5766
  09AR20060102,  S04I,    22,  1,     22,     22,2,20060117,1313,-62.0003,  40.0017, 5170,     28.8,   0.5672,  33.8636,2,-999.0000,9,    339.0,2,   -999.0,9,  -999.00,9,  -999.00,9,   -999.0,9,   -999.0,9,2,     0.97,2,    0.715,    0.019,2,   0.5661
  09AR20060102,  S04I,    22,  1,     21,     21,2,20060117,1313,-62.0003,  40.0017, 5170,     28.7,   0.6022,  33.8596,2,  33.8597,2,    339.0,2,    349.7,2,    49.80,2,    25.87,2,   2169.7,6,   -999.0,9,2,     0.97,2,    0.681,    0.020,2,   0.6011
  09AR20060102,  S04I,    22,  1,     20,     20,2,20060117,1313,-62.0003,  40.0017, 5170,     54.4,  -1.4471,  34.0654,2,  34.0667,2,    359.8,2,    354.4,2,    51.50,2,    25.99,2,   2179.8,2,   -999.0,9,2,     0.95,2,    2.047,    0.004,2,  -1.4483
  09AR20060102,  S04I,    22,  1,     19,     19,2,20060117,1313,-62.0003,  40.0017, 5170,     69.4,  -1.6372,  34.0981,2,  34.0976,2,    346.0,2,    349.5,2,    51.30,2,    26.58,2,   2185.7,2,   -999.0,9,2,     0.95,2,    3.426,    0.001,2,  -1.6386
  09AR20060102,  S04I,    22,  1,     18,     18,2,20060117,1313,-62.0003,  40.0017, 5170,     89.0,  -1.7578,  34.1305,2,  34.1299,2,    336.5,2,    336.3,2,    55.10,2,    27.46,2,   2197.1,2,   -999.0,9,2,     0.98,2,    0.817,    0.000,2,  -1.7596
  09AR20060102,  S04I,    22,  1,     17,     17,2,20060117,1313,-62.0003,  40.0017, 5170,    119.2,  -1.6778,  34.1653,2,  34.1629,2,    324.1,2,    325.3,2,    57.50,2,    28.19,2,   2203.9,2,   -999.0,9,2,     0.99,2,    0.309,    0.000,2,  -1.6803
  09AR20060102,  S04I,    22,  1,     16,     16,2,20060117,1313,-62.0003,  40.0017, 5170,    148.2,  -0.5838,  34.3096,2,  34.3077,2,    294.6,2,    277.7,3,    67.50,2,    30.29,2,   2224.3,2,   -999.0,9,2,     0.99,2,    0.221,    0.000,2,  -0.5884
  09AR20060102,  S04I,    22,  1,     15,     15,2,20060117,1313,-62.0003,  40.0017, 5170,    199.3,   1.1316,  34.5643,2,  34.5624,2,    203.5,2,    201.6,2,    85.20,2,    32.72,2,   2255.4,2,   -999.0,9,2,     0.99,2,    0.001,    0.000,2,   1.1224
  09AR20060102,  S04I,    22,  1,     14,     14,2,20060117,1313,-62.0003,  40.0017, 5170,    299.6,   1.4432,  34.6609,2,  34.6615,2,    190.6,2,    190.9,2,    88.80,2,    31.90,2,   2258.8,2,   -999.0,9,2,     0.99,2,   -0.033,    0.000,2,   1.4282
  09AR20060102,  S04I,    22,  1,     13,     13,2,20060117,1313,-62.0003,  40.0017, 5170,    397.5,   1.4049,  34.6873,2,  34.6878,2,    192.1,2,    192.2,2,    91.50,2,    31.48,2,   2257.5,2,   -999.0,9,2,     0.99,2,   -0.032,    0.000,2,   1.3848
  09AR20060102,  S04I,    22,  1,     12,     12,2,20060117,1313,-62.0003,  40.0017, 5170,    499.3,   1.3588,  34.7034,2,  34.7045,2,    194.5,2,    194.5,2,    93.70,2,    31.15,2,   2254.9,2,   -999.0,9,2,     0.99,2,   -0.036,    0.000,2,   1.3333
  09AR20060102,  S04I,    22,  1,     11,     11,2,20060117,1313,-62.0003,  40.0017, 5170,    799.8,   1.0839,  34.7119,2,  34.7125,2,    200.0,2,    200.5,2,   100.80,2,    30.98,2,   2257.1,2,   -999.0,9,2,     0.99,2,   -0.041,    0.000,2,   1.0428
  09AR20060102,  S04I,    22,  1,     10,     10,2,20060117,1313,-62.0003,  40.0017, 5170,   1199.6,   0.7434,  34.7015,2,  34.7019,2,    204.7,2,    205.1,2,   114.40,2,    31.44,2,   2260.1,2,   -999.0,9,2,     0.99,2,   -0.041,    0.000,2,   0.6810
  09AR20060102,  S04I,    22,  1,      9,      9,2,20060117,1313,-62.0003,  40.0017, 5170,   1701.0,   0.4662,  34.6898,2,  34.6901,2,    208.2,2,    208.3,2,   121.80,2,    31.85,2,   2263.4,2,   -999.0,9,2,     0.99,2,   -0.043,    0.000,2,   0.3743
  09AR20060102,  S04I,    22,  1,      8,      8,2,20060117,1313,-62.0003,  40.0017, 5170,   2199.9,   0.2555,  34.6798,2,  34.6799,2,    213.8,2,    214.0,2,   125.60,2,    32.13,2,   2262.3,2,   -999.0,9,2,     0.99,2,   -0.043,    0.000,2,   0.1311
  09AR20060102,  S04I,    22,  1,      7,      7,2,20060117,1313,-62.0003,  40.0017, 5170,   2697.9,   0.0899,  34.6721,2,  34.6719,2,    221.0,2,    221.1,2,   127.60,2,    32.07,2,   2262.6,6,   -999.0,9,2,     0.99,2,   -0.047,    0.000,2,  -0.0702
  09AR20060102,  S04I,    22,  1,      6,      6,2,20060117,1313,-62.0003,  40.0017, 5170,   3201.3,  -0.0473,  34.6662,2,  34.6656,2,    228.6,2,    228.4,2,   129.90,2,    31.99,2,   2257.6,2,   -999.0,9,2,     0.99,2,   -0.047,    0.000,2,  -0.2470
  09AR20060102,  S04I,    22,  1,      5,      5,2,20060117,1313,-62.0003,  40.0017, 5170,   3700.1,  -0.1376,  34.6619,2,  34.6615,2,    235.0,2,    235.6,2,   132.90,3,    32.10,3,   2258.0,2,   -999.0,9,2,     0.99,2,   -0.049,    0.000,2,  -0.3806
  09AR20060102,  S04I,    22,  1,      4,      4,2,20060117,1313,-62.0003,  40.0017, 5170,   4201.4,  -0.1960,  34.6586,2,  34.6587,2,    240.0,2,    240.2,2,   132.20,2,    31.46,2,   2254.5,2,   -999.0,9,2,     0.99,2,   -0.045,    0.000,2,  -0.4866
  09AR20060102,  S04I,    22,  1,      3,      3,2,20060117,1313,-62.0003,  40.0017, 5170,   4697.8,  -0.2347,  34.6557,2,  34.6554,2,    243.4,2,    243.4,2,  -999.00,9,  -999.00,9,   2251.7,2,   -999.0,9,2,     0.99,2,   -0.048,    0.000,2,  -0.5761
  09AR20060102,  S04I,    22,  1,      2,      2,2,20060117,1313,-62.0003,  40.0017, 5170,   5200.4,  -0.2576,  34.6526,2,  34.6527,2,    244.4,2,    244.0,2,   141.30,2,    31.76,2,   2255.7,2,   -999.0,9,2,     0.99,2,   -0.047,    0.000,2,  -0.6542
  09AR20060102,  S04I,    22,  1,      1,      1,2,20060117,1313,-62.0003,  40.0017, 5170,   5268.7,  -0.2540,  34.6522,2,  34.6525,2,    244.4,2,    246.0,2,   141.20,2,    31.68,2,   2254.0,6,   -999.0,9,2,     0.99,2,   -0.051,    0.000,2,  -0.6586
  09AR20060102,  S04I,    23,  1,     24,     24,2,20060117,2326,-61.9978,  37.5008, 5159,     10.2,   1.0936,  33.6572,2,  33.6483,2,    314.5,3,    290.5,3,    50.10,2,    25.83,2,   -999.0,9,   -999.0,9,2,     0.98,2,    0.182,    0.079,2,   1.0932
  09AR20060102,  S04I,    23,  1,     23,     23,2,20060117,2326,-61.9978,  37.5008, 5159,     29.1,   0.6849,  33.7077,2,-999.0000,9,    342.2,2,   -999.0,9,  -999.00,9,  -999.00,9,   -999.0,9,   -999.0,9,2,     0.98,2,    0.234,    0.029,2,   0.6838
  09AR20060102,  S04I,    23,  1,     22,     22,2,20060117,2326,-61.9978,  37.5008, 5159,     29.2,   0.3537,  33.7483,2,-999.0000,9,    342.2,2,   -999.0,9,  -999.00,9,  -999.00,9,   -999.0,9,   -999.0,9,2,     0.98,2,    0.326,    0.029,2,   0.3526
  09AR20060102,  S04I,    23,  1,     21,     21,2,20060117,2326,-61.9978,  37.5008, 5159,     29.2,  -0.0984,  33.8000,2,  33.7687,3,    342.2,2,    325.6,3,    49.30,2,    25.78,2,   -999.0,9,   -999.0,9,2,     0.98,2,    0.352,    0.029,2,  -0.0994
  09AR20060102,  S04I,    23,  1,     20,     20,2,20060117,2326,-61.9978,  37.5008, 5159,     49.4,  -1.4418,  33.9855,2,  33.9839,2,    338.3,2,    355.7,3,    48.80,2,    26.08,2,   -999.0,9,   -999.0,9,2,     0.97,2,    0.847,    0.013,2,  -1.4429
  09AR20060102,  S04I,    23,  1,     19,     19,2,20060117,2326,-61.9978,  37.5008, 5159,     69.2,  -1.5391,  34.0676,2,  34.0627,2,    334.8,2,    334.9,2,    51.90,2,    26.59,2,   -999.0,9,   -999.0,9,2,     0.97,2,    1.185,    0.004,2,  -1.5406
  09AR20060102,  S04I,    23,  1,     18,     18,2,20060117,2326,-61.9978,  37.5008, 5159,     88.7,  -1.6309,  34.1288,2,  34.1258,2,    326.3,2,    319.6,2,    55.40,2,    27.97,2,   -999.0,9,   -999.0,9,2,     0.99,2,    0.587,    0.001,2,  -1.6328
  09AR20060102,  S04I,    23,  1,     17,     17,2,20060117,2326,-61.9978,  37.5008, 5159,    120.6,  -0.3826,  34.2960,2,  34.2935,2,    303.2,2,    251.9,3,    65.80,2,    30.43,2,   -999.0,9,   -999.0,9,2,     0.99,2,    0.259,    0.000,2,  -0.3865
  09AR20060102,  S04I,    23,  1,     16,     16,2,20060117,2326,-61.9978,  37.5008, 5159,    149.4,   0.9299,  34.4599,2,  34.4630,2,    232.0,2,    214.9,3,    76.60,2,    32.61,2,   -999.0,9,   -999.0,9,2,     0.99,2,    0.110,    0.000,2,   0.9233
  09AR20060102,  S04I,    23,  1,     15,     15,2,20060117,2326,-61.9978,  37.5008, 5159,    198.8,   1.4032,  34.5750,2,  34.5736,2,    193.8,2,    194.7,2,    82.20,2,    32.67,2,   -999.0,9,   -999.0,9,2,     0.99,2,   -0.033,    0.000,2,   1.3935
  09AR20060102,  S04I,    23,  1,     14,     14,2,20060117,2326,-61.9978,  37.5008, 5159,    299.2,   1.5245,  34.6563,2,  34.6554,2,    190.0,2,    189.4,2,    87.30,2,    32.11,2,   -999.0,9,   -999.0,9,2,     0.99,2,   -0.035,    0.000,2,   1.5094
  09AR20060102,  S04I,    23,  1,     13,     13,2,20060117,2326,-61.9978,  37.5008, 5159,    399.7,   1.6394,  34.7060,2,  34.7072,2,    191.3,2,    190.9,2,    87.70,2,    31.07,2,   -999.0,9,   -999.0,9,2,     0.99,2,   -0.035,    0.000,2,   1.6184
  09AR20060102,  S04I,    23,  1,     12,     12,2,20060117,2326,-61.9978,  37.5008, 5159,    500.0,   1.4412,  34.7097,2,  34.7105,2,    193.6,2,    194.4,2,    93.20,2,    30.85,2,   -999.0,9,   -999.0,9,2,     0.99,2,   -0.037,    0.000,2,   1.4153
  09AR20060102,  S04I,    23,  1,     11,     11,2,20060117,2326,-61.9978,  37.5008, 5159,    799.5,   1.1581,  34.7216,2,  34.7204,2,    200.3,2,    201.4,2,   100.80,2,    30.49,2,   -999.0,9,   -999.0,9,2,     0.99,2,   -0.036,    0.000,2,   1.1165
  09AR20060102,  S04I,    23,  1,     10,     10,2,20060117,2326,-61.9978,  37.5008, 5159,   1202.0,   0.7591,  34.7043,2,  34.7027,2,    205.0,2,    205.5,2,   114.70,2,    31.18,2,   -999.0,9,   -999.0,9,2,     0.99,2,   -0.039,    0.000,2,   0.6964
  09AR20060102,  S04I,    23,  1,      9,      9,2,20060117,2326,-61.9978,  37.5008, 5159,   1699.7,   0.4420,  34.6886,2,  34.6870,2,    209.1,2,    208.7,2,   122.00,2,    31.97,2,   -999.0,9,   -999.0,9,2,     0.99,2,   -0.040,    0.000,2,   0.3505
  09AR20060102,  S04I,    23,  1,      8,      8,2,20060117,2326,-61.9978,  37.5008, 5159,   2199.0,   0.2263,  34.6786,2,  34.6784,2,    214.9,2,    215.0,2,   125.80,2,    32.01,2,   -999.0,9,   -999.0,9,2,     0.99,2,   -0.043,    0.000,2,   0.1025
  09AR20060102,  S04I,    23,  1,      7,      7,2,20060117,2326,-61.9978,  37.5008, 5159,   2701.0,   0.0232,  34.6684,2,  34.6678,2,    224.6,2,    225.4,2,   125.20,2,    31.82,2,   -999.0,9,   -999.0,9,2,     0.99,2,   -0.046,    0.000,2,  -0.1358
  09AR20060102,  S04I,    23,  1,      6,      6,2,20060117,2326,-61.9978,  37.5008, 5159,   3199.0,  -0.0973,  34.6625,2,  34.6613,2,    232.1,2,    232.2,2,   124.30,2,    31.67,2,   -999.0,9,   -999.0,9,2,     0.99,2,   -0.048,    0.000,2,  -0.2956
  09AR20060102,  S04I,    23,  1,      5,      5,2,20060117,2326,-61.9978,  37.5008, 5159,   3702.1,  -0.1647,  34.6593,2,  34.6582,2,    236.7,2,    237.0,2,   125.00,2,    31.60,2,   -999.0,9,   -999.0,9,2,     0.99,2,   -0.046,    0.000,2,  -0.4072
  09AR20060102,  S04I,    23,  1,      4,      4,2,20060117,2326,-61.9978,  37.5008, 5159,   4201.3,  -0.2045,  34.6560,2,  34.6548,2,    240.2,2,    240.8,2,   124.00,2,    31.50,2,   -999.0,9,   -999.0,9,2,     0.99,2,   -0.048,    0.000,2,  -0.4948
  09AR20060102,  S04I,    23,  1,      3,      3,2,20060117,2326,-61.9978,  37.5008, 5159,   4701.4,  -0.2240,  34.6550,2,  34.6544,2,    241.9,2,    242.1,2,   127.20,2,    31.52,2,   -999.0,9,   -999.0,9,2,     0.99,2,   -0.049,    0.000,2,  -0.5662
  09AR20060102,  S04I,    23,  1,      2,      2,2,20060117,2326,-61.9978,  37.5008, 5159,   5237.3,  -0.2432,  34.6530,2,  34.6525,2,    243.0,2,    243.2,2,   134.00,2,    31.66,2,   -999.0,9,   -999.0,9,2,     0.98,2,   -0.046,    0.000,2,  -0.6446
  09AR20060102,  S04I,    23,  1,      1,      1,2,20060117,2326,-61.9978,  37.5008, 5159,   5264.5,  -0.2420,  34.6529,2,  34.6523,2,    243.0,2,    243.9,2,   134.20,2,    31.71,2,   -999.0,9,   -999.0,9,2,     0.98,2,   -0.045,    0.000,2,  -0.6465