BOTTLE,20220816CCHSIOAMB
EXPOCODE,SECT_ID,STNNBR,CASTNO,SAMPNO,BTLNBR,BTLNBR_FLAG_W,DATE,TIME,LATITUDE,LONGITUDE,DEPTH,CTDPRS,CTDTMP,CTDSAL,CTDSAL_FLAG_W,SALNTY,SALNTY_FLAG_W,CTDOXY,CTDOXY_FLAG_W,OXYGEN,OXYGEN_FLAG_W,SILCAT,SILCAT_FLAG_W,NITRAT,NITRAT_FLAG_W,TCARBN,TCARBN_FLAG_W,ALKALI,ALKALI_FLAG_W,FLUOR_FLAG_W,XMISS,XMISS_FLAG_W,FLUOR,PAR,PAR_FLAG_W,THETA
,,,,,,,,,,,METERS,DBAR,ITS-90,PSS-78,,PSS-78,,UMOL/KG,,UMOL/KG,,UMOL/KG,,UMOL/KG,,UMOL/KG,,UMOL/KG,,,%TRANS,,VOLTS,VOLTS,,DEG C
  09AR20060102,  S04I,    24,  1,     24,     24,2,20060118,0850,-62.0003,  34.9983, 5094,     11.0,   1.1808,  33.5019,2,  33.5101,2,    337.9,2,    337.8,2,    54.00,2,    25.08,2,   2148.3,2,   2268.3,2,2,     0.98,2,    0.111,    0.278,2,   1.1803
  09AR20060102,  S04I,    24,  1,     23,     23,2,20060118,0850,-62.0003,  34.9983, 5094,     11.0,   1.1739,  33.5027,2,-999.0000,9,    337.8,2,   -999.0,9,  -999.00,9,  -999.00,9,   -999.0,9,   -999.0,9,2,     0.98,2,    0.142,    0.250,2,   1.1734
  09AR20060102,  S04I,    24,  1,     22,     22,2,20060118,0850,-62.0003,  34.9983, 5094,     18.7,   0.6740,  33.6405,2,-999.0000,9,    337.5,2,   -999.0,9,  -999.00,9,  -999.00,9,   -999.0,9,   -999.0,9,2,     0.97,2,    0.286,    0.169,2,   0.6733
  09AR20060102,  S04I,    24,  1,     21,     21,2,20060118,0850,-62.0003,  34.9983, 5094,     39.6,  -1.2795,  34.2305,2,  34.2354,2,    331.9,2,    329.9,2,    56.80,2,    26.28,2,   2197.7,6,   -999.0,9,2,     0.96,2,    0.645,    0.070,2,  -1.2804
  09AR20060102,  S04I,    24,  1,     20,     20,2,20060118,0850,-62.0003,  34.9983, 5094,     60.2,  -1.5984,  34.2737,2,  34.2755,2,    322.5,2,    322.1,2,    58.00,2,    27.08,2,   2203.7,2,   -999.0,9,2,     0.96,2,    1.473,    0.026,2,  -1.5997
  09AR20060102,  S04I,    24,  1,     19,     19,2,20060118,0850,-62.0003,  34.9983, 5094,     68.9,  -1.6511,  34.2793,2,  34.2798,2,    319.8,2,    318.4,2,    58.40,2,    27.33,2,   2208.5,2,   -999.0,9,2,     0.96,2,    1.624,    0.016,2,  -1.6525
  09AR20060102,  S04I,    24,  1,     18,     18,2,20060118,0850,-62.0003,  34.9983, 5094,     88.7,  -1.7048,  34.2909,2,  34.2910,2,    310.8,2,    311.2,2,    60.10,2,    28.00,2,   2212.4,2,   -999.0,9,2,     0.98,2,    1.425,    0.004,2,  -1.7066
  09AR20060102,  S04I,    24,  1,     17,     17,2,20060118,0850,-62.0003,  34.9983, 5094,    125.1,  -0.7596,  34.3949,2,  34.3833,2,    266.0,2,    272.7,2,    69.20,2,    30.09,2,   2229.4,2,   -999.0,9,2,     0.99,2,    0.296,    0.000,2,  -0.7633
  09AR20060102,  S04I,    24,  1,     16,     16,2,20060118,0850,-62.0003,  34.9983, 5094,    146.0,   0.6173,  34.5545,2,  34.5532,2,    214.0,2,    213.0,2,    84.50,2,    32.35,2,   2253.2,2,   -999.0,9,2,     0.99,2,    0.123,    0.000,2,   0.6112
  09AR20060102,  S04I,    24,  1,     15,     15,2,20060118,0850,-62.0003,  34.9983, 5094,    200.8,   1.2259,  34.6433,2,  34.6440,2,    192.4,2,    192.2,2,    91.40,2,    32.33,2,   2260.0,2,   -999.0,9,2,     0.99,2,   -0.024,    0.000,2,   1.2164
  09AR20060102,  S04I,    24,  1,     14,     14,2,20060118,0850,-62.0003,  34.9983, 5094,    300.7,   1.1958,  34.6805,2,  34.6801,2,    196.5,2,    196.0,2,    95.30,2,    31.37,2,   2258.1,2,   -999.0,9,2,     0.99,2,   -0.034,    0.000,2,   1.1814
  09AR20060102,  S04I,    24,  1,     13,     13,2,20060118,0850,-62.0003,  34.9983, 5094,    400.7,   1.1287,  34.6950,2,  34.6958,2,    198.2,2,    197.6,2,    97.00,2,    31.07,2,   2257.3,2,   -999.0,9,2,     0.99,2,   -0.039,    0.000,2,   1.1094
  09AR20060102,  S04I,    24,  1,     12,     12,2,20060118,0850,-62.0003,  34.9983, 5094,    500.1,   1.0787,  34.7035,2,  34.7039,2,    197.8,2,    197.9,2,   100.80,2,    31.17,2,   2262.8,2,   -999.0,9,2,     0.99,2,   -0.038,    0.000,2,   1.0543
  09AR20060102,  S04I,    24,  1,     11,     11,2,20060118,0850,-62.0003,  34.9983, 5094,    698.3,   0.8732,  34.7026,2,  34.7031,2,    200.7,2,    200.7,2,   107.30,2,    31.42,2,   2261.2,2,   -999.0,9,2,     0.99,2,   -0.039,    0.000,2,   0.8391
  09AR20060102,  S04I,    24,  1,     10,     10,2,20060118,0850,-62.0003,  34.9983, 5094,   1101.0,   0.5893,  34.6944,2,  34.6947,2,    204.3,2,    205.3,2,   114.90,2,    31.74,2,   2264.9,2,   -999.0,9,2,     0.99,2,   -0.040,    0.000,2,   0.5343
  09AR20060102,  S04I,    24,  1,      9,      9,2,20060118,0850,-62.0003,  34.9983, 5094,   1600.3,   0.3481,  34.6845,2,  34.6843,2,    209.6,2,    209.3,2,   122.50,2,    32.01,2,   2264.7,2,   -999.0,9,2,     0.99,2,   -0.039,    0.000,2,   0.2645
  09AR20060102,  S04I,    24,  1,      8,      8,2,20060118,0850,-62.0003,  34.9983, 5094,   2100.0,   0.1520,  34.6757,2,  34.6758,2,    216.6,2,    216.8,2,   125.30,2,    32.03,2,   2263.4,2,   -999.0,9,2,     0.99,2,   -0.044,    0.000,2,   0.0367
  09AR20060102,  S04I,    24,  1,      7,      7,2,20060118,0850,-62.0003,  34.9983, 5094,   2599.7,  -0.0002,  34.6692,2,  34.6689,2,    224.1,2,    224.2,2,   125.10,2,    31.71,2,   2259.0,6,   -999.0,9,2,     0.99,2,   -0.046,    0.000,2,  -0.1506
  09AR20060102,  S04I,    24,  1,      6,      6,2,20060118,0850,-62.0003,  34.9983, 5094,   3101.3,  -0.1132,  34.6644,2,  34.6638,2,    230.7,2,    230.5,2,   123.80,2,    31.58,2,   2256.6,2,   -999.0,9,2,     0.99,2,   -0.045,    0.000,2,  -0.3027
  09AR20060102,  S04I,    24,  1,      5,      5,2,20060118,0850,-62.0003,  34.9983, 5094,   3599.9,  -0.1878,  34.6609,2,  34.6597,2,    235.7,2,    235.8,2,   124.20,2,    31.59,2,   2254.1,2,   -999.0,9,2,     0.99,2,   -0.049,    0.000,2,  -0.4201
  09AR20060102,  S04I,    24,  1,      4,      4,2,20060118,0850,-62.0003,  34.9983, 5094,   4098.8,  -0.2369,  34.6579,2,  34.6572,2,    239.5,2,    239.7,2,   124.60,2,    31.59,2,   2254.9,2,   -999.0,9,2,     0.99,2,   -0.049,    0.000,2,  -0.5159
  09AR20060102,  S04I,    24,  1,      3,      3,2,20060118,0850,-62.0003,  34.9983, 5094,   4499.3,  -0.2669,  34.6557,2,  34.6548,2,    241.9,2,    242.4,2,   127.40,2,    31.58,2,   2252.5,2,   -999.0,9,2,     0.99,2,   -0.051,    0.000,2,  -0.5861
  09AR20060102,  S04I,    24,  1,      2,      2,2,20060118,0850,-62.0003,  34.9983, 5094,   5099.1,  -0.2945,  34.6520,2,  34.6517,2,    244.2,2,    244.9,2,   137.00,2,    31.56,2,   2254.3,2,   -999.0,9,2,     0.99,2,   -0.048,    0.000,2,  -0.6783
  09AR20060102,  S04I,    24,  1,      1,      1,2,20060118,0850,-62.0003,  34.9983, 5094,   5184.0,  -0.2850,  34.6517,2,  34.6519,2,    244.3,2,    244.3,2,   137.90,2,    31.55,2,   2252.8,6,   -999.0,9,2,     0.99,2,   -0.051,    0.000,2,  -0.6787
  09AR20060102,  S04I,    25,  1,     24,     24,2,20060118,1755,-61.9952,  32.4860, 5150,     10.3,   1.1801,  33.5315,2,  33.5251,2,    338.0,2,    337.0,2,    55.80,2,    24.07,2,   -999.0,9,   -999.0,9,2,     0.89,2,    0.453,    0.000,2,   1.1797
  09AR20060102,  S04I,    25,  1,     23,     23,2,20060118,1755,-61.9952,  32.4860, 5150,     29.0,   0.6292,  33.6678,2,-999.0000,9,    345.8,2,   -999.0,9,  -999.00,9,  -999.00,9,   -999.0,9,   -999.0,9,2,     0.97,2,    0.615,    0.000,2,   0.6281
  09AR20060102,  S04I,    25,  1,     22,     22,2,20060118,1755,-61.9952,  32.4860, 5150,     29.4,   0.2336,  33.7633,2,-999.0000,9,    347.9,2,   -999.0,9,  -999.00,9,  -999.00,9,   -999.0,9,   -999.0,9,2,     0.96,2,    0.737,    0.000,2,   0.2325
  09AR20060102,  S04I,    25,  1,     21,     21,2,20060118,1755,-61.9952,  32.4860, 5150,     29.3,  -0.4481,  33.9941,2,  33.9407,3,    347.9,2,    344.6,2,    61.70,2,    23.77,2,   -999.0,9,   -999.0,9,2,     0.94,2,    0.760,    0.000,2,  -0.4490
  09AR20060102,  S04I,    25,  1,     20,     20,2,20060118,1755,-61.9952,  32.4860, 5150,     50.1,  -1.2664,  34.2311,2,  34.2277,2,    337.4,2,   -999.0,9,    66.50,2,    24.89,2,   -999.0,9,   -999.0,9,2,     0.96,2,    0.886,    0.000,2,  -1.2676
  09AR20060102,  S04I,    25,  1,     19,     19,2,20060118,1755,-61.9952,  32.4860, 5150,     69.1,  -1.5179,  34.2485,2,  34.2462,2,    318.8,2,    324.6,2,    60.10,2,    26.68,2,   -999.0,9,   -999.0,9,2,     0.96,2,    1.344,    0.000,2,  -1.5194
  09AR20060102,  S04I,    25,  1,     18,     18,2,20060118,1755,-61.9952,  32.4860, 5150,     89.2,  -1.5675,  34.2657,2,  34.2618,2,    312.0,2,    292.8,3,    65.70,2,    27.01,2,   -999.0,9,   -999.0,9,2,     0.98,2,    1.035,    0.000,2,  -1.5694
  09AR20060102,  S04I,    25,  1,     17,     17,2,20060118,1755,-61.9952,  32.4860, 5150,    108.2,  -1.4182,  34.2942,2,  34.2918,2,    285.7,2,    284.9,2,    67.70,2,    28.85,2,   -999.0,9,   -999.0,9,2,     0.99,2,    0.455,    0.000,2,  -1.4207
  09AR20060102,  S04I,    25,  1,     16,     16,2,20060118,1755,-61.9952,  32.4860, 5150,    149.9,   0.8922,  34.5500,2,  34.5379,2,    206.9,2,    209.6,2,    85.10,2,    31.97,2,   -999.0,9,   -999.0,9,2,     0.99,2,    0.045,    0.000,2,   0.8856
  09AR20060102,  S04I,    25,  1,     15,     15,2,20060118,1755,-61.9952,  32.4860, 5150,    200.1,   1.0479,  34.6158,2,  34.6148,2,    194.2,2,    196.8,2,    90.80,2,    31.99,2,   -999.0,9,   -999.0,9,2,     0.99,2,   -0.014,    0.000,2,   1.0388
  09AR20060102,  S04I,    25,  1,     14,     14,2,20060118,1755,-61.9952,  32.4860, 5150,    301.6,   1.2255,  34.6726,2,  34.6727,2,    194.2,2,    193.2,2,    94.50,2,    31.32,2,   -999.0,9,   -999.0,9,2,     0.99,2,    0.041,    0.005,2,   1.2110
  09AR20060102,  S04I,    25,  1,     13,     13,2,20060118,1755,-61.9952,  32.4860, 5150,    397.6,   1.1878,  34.6922,2,  34.6927,2,    195.6,2,    195.3,2,    97.00,2,    31.10,2,   -999.0,9,   -999.0,9,2,     0.99,2,   -0.038,    0.000,2,   1.1684
  09AR20060102,  S04I,    25,  1,     12,     12,2,20060118,1755,-61.9952,  32.4860, 5150,    498.2,   1.0750,  34.6990,2,  34.6994,2,    197.4,2,    197.1,2,   100.10,2,    31.10,2,   -999.0,9,   -999.0,9,2,     0.99,2,   -0.036,    0.000,2,   1.0507
  09AR20060102,  S04I,    25,  1,     11,     11,2,20060118,1755,-61.9952,  32.4860, 5150,    706.4,   0.8799,  34.7015,2,  34.7147,2,    200.2,2,    199.7,2,   106.80,2,    31.12,2,   -999.0,9,   -999.0,9,2,     0.99,2,   -0.038,    0.000,2,   0.8453
  09AR20060102,  S04I,    25,  1,     10,     10,2,20060118,1755,-61.9952,  32.4860, 5150,   1001.0,   0.6599,  34.6961,2,  34.7052,2,    202.5,2,    202.7,2,   112.20,2,    31.37,2,   -999.0,9,   -999.0,9,2,     0.99,2,   -0.039,    0.000,2,   0.6102
  09AR20060102,  S04I,    25,  1,      9,      9,2,20060118,1755,-61.9952,  32.4860, 5150,   1500.8,   0.3907,  34.6863,2,  34.6913,2,    207.3,2,    206.8,2,   120.40,2,    31.80,2,   -999.0,9,   -999.0,9,2,     0.99,2,   -0.037,    0.000,2,   0.3130
  09AR20060102,  S04I,    25,  1,      8,      8,2,20060118,1755,-61.9952,  32.4860, 5150,   2000.9,   0.1982,  34.6776,2,  34.6819,2,    214.6,2,    215.0,2,   123.40,2,    31.81,2,   -999.0,9,   -999.0,9,2,     0.99,2,   -0.043,    0.000,2,   0.0893
  09AR20060102,  S04I,    25,  1,      7,      7,2,20060118,1755,-61.9952,  32.4860, 5150,   2499.7,   0.0306,  34.6706,2,  34.6735,2,    222.5,2,    222.0,2,   123.90,2,    31.78,2,   -999.0,9,   -999.0,9,2,     0.99,2,   -0.048,    0.000,2,  -0.1126
  09AR20060102,  S04I,    25,  1,      6,      6,2,20060118,1755,-61.9952,  32.4860, 5150,   2999.1,  -0.0910,  34.6654,2,  34.6664,2,    229.0,2,    229.2,2,   124.10,2,    31.56,2,   -999.0,9,   -999.0,9,2,     0.99,2,   -0.047,    0.000,2,  -0.2723
  09AR20060102,  S04I,    25,  1,      5,      5,2,20060118,1755,-61.9952,  32.4860, 5150,   3502.4,  -0.1744,  34.6615,2,  34.6568,2,    234.8,2,    235.0,2,   123.90,2,    31.32,2,   -999.0,9,   -999.0,9,2,     0.99,2,   -0.048,    0.000,2,  -0.3980
  09AR20060102,  S04I,    25,  1,      4,      4,2,20060118,1755,-61.9952,  32.4860, 5150,   3997.5,  -0.2313,  34.6585,2,  34.6578,2,    239.2,2,    239.1,2,   128.50,2,    31.26,2,   -999.0,9,   -999.0,9,2,     0.99,2,   -0.047,    0.000,2,  -0.5005
  09AR20060102,  S04I,    25,  1,      3,      3,2,20060118,1755,-61.9952,  32.4860, 5150,   4498.7,  -0.2691,  34.6556,2,  34.6546,2,    242.6,2,    242.6,2,   129.20,2,    31.31,2,   -999.0,9,   -999.0,9,2,     0.99,2,   -0.051,    0.000,2,  -0.5882
  09AR20060102,  S04I,    25,  1,      2,      2,2,20060118,1755,-61.9952,  32.4860, 5150,   4998.9,  -0.2874,  34.6530,2,  34.6525,2,    244.6,2,    244.7,2,   132.90,2,    31.35,2,   -999.0,9,   -999.0,9,2,     0.99,2,   -0.051,    0.000,2,  -0.6601
  09AR20060102,  S04I,    25,  1,      1,      1,2,20060118,1755,-61.9952,  32.4860, 5150,   5248.8,  -0.2878,  34.6513,2,  34.6515,2,    245.0,2,    245.1,2,   137.00,2,    31.41,2,   -999.0,9,   -999.0,9,2,     0.99,2,   -0.049,    0.000,2,  -0.6889
  09AR20060102,  S04I,    26,  1,     24,     24,2,20060119,0424,-62.0002,  30.0008, 5175,      8.8,   0.8330,  33.6760,2,  33.6782,2,    341.2,2,    341.3,2,    53.20,2,    26.16,2,   2158.5,2,   2278.4,2,2,     0.24,2,   -0.011,    0.594,2,   0.8326
  09AR20060102,  S04I,    26,  1,     23,     23,2,20060119,0424,-62.0002,  30.0008, 5175,     28.8,  -1.0925,  33.9137,2,-999.0000,9,    339.4,2,   -999.0,9,  -999.00,9,  -999.00,9,   -999.0,9,   -999.0,9,2,     0.67,2,    0.240,    0.210,2,  -1.0932
  09AR20060102,  S04I,    26,  1,     22,     22,2,20060119,0424,-62.0002,  30.0008, 5175,     29.1,  -1.1575,  33.9195,2,-999.0000,9,    336.7,2,   -999.0,9,  -999.00,9,  -999.00,9,   -999.0,9,   -999.0,9,2,     0.66,2,    0.240,    0.199,2,  -1.1582
  09AR20060102,  S04I,    26,  1,     21,     21,2,20060119,0424,-62.0002,  30.0008, 5175,     29.0,  -1.2673,  33.9300,2,  33.9254,2,    336.7,2,    356.9,3,    51.80,2,    26.22,2,   2171.6,6,   -999.0,9,2,     0.55,2,    0.257,    0.193,2,  -1.2680
  09AR20060102,  S04I,    26,  1,     20,     20,2,20060119,0424,-62.0002,  30.0008, 5175,     50.0,  -1.4586,  33.9907,2,  33.9925,2,    352.6,2,    353.4,2,    52.70,2,    26.53,2,   2179.7,2,   -999.0,9,2,     0.81,2,    0.736,    0.081,2,  -1.4597
  09AR20060102,  S04I,    26,  1,     19,     19,2,20060119,0424,-62.0002,  30.0008, 5175,     69.8,  -1.4309,  34.0785,2,  34.0798,2,    344.5,2,    341.2,2,    57.10,2,    27.53,2,   2188.6,2,   -999.0,9,2,     0.90,2,    1.449,    0.033,2,  -1.4325
  09AR20060102,  S04I,    26,  1,     18,     18,2,20060119,0424,-62.0002,  30.0008, 5175,     89.3,  -1.6311,  34.1307,2,  34.1320,2,    329.4,2,    337.7,2,    56.20,2,    27.32,2,   2195.3,2,   -999.0,9,2,     0.98,2,    1.251,    0.012,2,  -1.6330
  09AR20060102,  S04I,    26,  1,     17,     17,2,20060119,0424,-62.0002,  30.0008, 5175,    107.5,  -1.6262,  34.1649,2,  34.1633,2,    330.1,2,    327.4,2,    58.30,2,    28.06,2,   2201.2,2,   -999.0,9,2,     0.99,2,    0.572,    0.004,2,  -1.6285
  09AR20060102,  S04I,    26,  1,     16,     16,2,20060119,0424,-62.0002,  30.0008, 5175,    148.6,  -0.7377,  34.2892,2,  34.2957,2,    291.5,2,    282.8,2,    67.80,2,    30.32,2,   2220.6,2,   -999.0,9,2,     0.99,2,    0.199,    0.000,2,  -0.7421
  09AR20060102,  S04I,    26,  1,     15,     15,2,20060119,0424,-62.0002,  30.0008, 5175,    199.3,   1.1043,  34.5490,2,  34.5483,2,    206.3,2,    205.8,2,    84.80,2,    32.77,2,   2254.9,2,   -999.0,9,2,     0.99,2,   -0.024,    0.000,2,   1.0951
  09AR20060102,  S04I,    26,  1,     14,     14,2,20060119,0424,-62.0002,  30.0008, 5175,    297.4,   1.3628,  34.6509,2,  34.6509,2,    191.6,2,    192.4,2,    91.80,2,    32.27,2,   2257.6,2,   -999.0,9,2,     0.99,2,   -0.032,    0.000,2,   1.3482
  09AR20060102,  S04I,    26,  1,     13,     13,2,20060119,0424,-62.0002,  30.0008, 5175,    399.4,   1.3157,  34.6834,2,  34.6848,2,    192.6,2,    195.1,2,    94.80,2,    31.72,2,   2256.5,2,   -999.0,9,2,     0.99,2,   -0.036,    0.000,2,   1.2958
  09AR20060102,  S04I,    26,  1,     12,     12,2,20060119,0424,-62.0002,  30.0008, 5175,    498.1,   1.2566,  34.6997,2,  34.7000,2,    196.0,2,    195.9,2,    99.30,2,    31.51,2,   2256.5,2,   -999.0,9,2,     0.99,2,   -0.040,    0.000,2,   1.2316
  09AR20060102,  S04I,    26,  1,     11,     11,2,20060119,0424,-62.0002,  30.0008, 5175,    698.6,   1.1130,  34.7119,2,  34.7127,2,    199.3,2,    200.4,2,   102.00,2,    31.16,2,   2255.6,6,   -999.0,9,2,     0.99,2,   -0.038,    0.000,2,   1.0775
  09AR20060102,  S04I,    26,  1,     10,     10,2,20060119,0424,-62.0002,  30.0008, 5175,   1000.3,   0.7951,  34.7014,2,  34.7019,2,    202.5,2,    202.5,2,   113.60,2,    31.68,2,   2259.2,2,   -999.0,9,2,     0.99,2,   -0.038,    0.000,2,   0.7443
  09AR20060102,  S04I,    26,  1,      9,      9,2,20060119,0424,-62.0002,  30.0008, 5175,   1501.1,   0.4878,  34.6908,2,  34.6911,2,    206.3,2,    207.1,2,   123.70,2,    32.21,2,   2264.8,2,   -999.0,9,2,     0.99,2,   -0.042,    0.000,2,   0.4090
  09AR20060102,  S04I,    26,  1,      8,      8,2,20060119,0424,-62.0002,  30.0008, 5175,   1999.0,   0.2746,  34.6811,2,  34.6815,2,    212.9,2,    212.5,2,   130.30,2,    32.31,2,   2263.8,2,   -999.0,9,2,     0.99,2,   -0.039,    0.000,2,   0.1646
  09AR20060102,  S04I,    26,  1,      7,      7,2,20060119,0424,-62.0002,  30.0008, 5175,   2499.6,   0.0908,  34.6729,2,  34.6727,2,    220.3,2,    220.6,2,   131.00,2,    32.26,2,   2259.5,2,   -999.0,9,2,     0.99,2,   -0.045,    0.000,2,  -0.0535
  09AR20060102,  S04I,    26,  1,      6,      6,2,20060119,0424,-62.0002,  30.0008, 5175,   3000.0,  -0.0553,  34.6666,2,  34.6662,2,    227.7,2,    227.6,2,   130.60,2,    32.20,2,   2259.2,2,   -999.0,9,2,     0.99,2,   -0.041,    0.000,2,  -0.2374
  09AR20060102,  S04I,    26,  1,      5,      5,2,20060119,0424,-62.0002,  30.0008, 5175,   3500.3,  -0.1451,  34.6625,2,  34.6619,2,    233.9,2,    233.3,2,   135.50,3,    31.82,3,   2257.4,2,   -999.0,9,2,     0.99,2,   -0.048,    0.000,2,  -0.3693
  09AR20060102,  S04I,    26,  1,      4,      4,2,20060119,0424,-62.0002,  30.0008, 5175,   4000.5,  -0.2073,  34.6591,2,  34.6582,2,    238.3,2,    238.3,2,   129.50,2,    31.83,2,   2254.1,2,   -999.0,9,2,     0.99,2,   -0.047,    0.000,2,  -0.4774
  09AR20060102,  S04I,    26,  1,      3,      3,2,20060119,0424,-62.0002,  30.0008, 5175,   4499.6,  -0.2507,  34.6561,2,  34.6560,2,    241.9,2,    241.4,2,   131.60,2,    31.86,2,   2252.3,2,   -999.0,9,2,     0.99,2,   -0.047,    0.000,2,  -0.5704
  09AR20060102,  S04I,    26,  1,      2,      2,2,20060119,0424,-62.0002,  30.0008, 5175,   5243.9,  -0.2826,  34.6516,2,  34.6519,2,    245.3,2,    244.9,2,   142.50,2,    32.02,2,   2253.9,2,   -999.0,9,2,     0.99,2,   -0.049,    0.000,2,  -0.6833
  09AR20060102,  S04I,    26,  1,      1,      1,2,20060119,0424,-62.0002,  30.0008, 5175,   5272.6,  -0.2796,  34.6515,2,  34.6517,2,    245.4,2,    245.1,2,   137.60,2,    31.82,2,   2252.5,6,   -999.0,9,2,     0.99,2,   -0.047,    0.000,2,  -0.6837