BOTTLE,20220816CCHSIOAMB
EXPOCODE,SECT_ID,STNNBR,CASTNO,SAMPNO,BTLNBR,BTLNBR_FLAG_W,DATE,TIME,LATITUDE,LONGITUDE,DEPTH,CTDPRS,CTDTMP,CTDSAL,CTDSAL_FLAG_W,SALNTY,SALNTY_FLAG_W,CTDOXY,CTDOXY_FLAG_W,OXYGEN,OXYGEN_FLAG_W,SILCAT,SILCAT_FLAG_W,NITRAT,NITRAT_FLAG_W,TCARBN,TCARBN_FLAG_W,ALKALI,ALKALI_FLAG_W,FLUOR_FLAG_W,XMISS,XMISS_FLAG_W,FLUOR,PAR,PAR_FLAG_W,THETA
,,,,,,,,,,,METERS,DBAR,ITS-90,PSS-78,,PSS-78,,UMOL/KG,,UMOL/KG,,UMOL/KG,,UMOL/KG,,UMOL/KG,,UMOL/KG,,,%TRANS,,VOLTS,VOLTS,,DEG C
  09AR20060102,  S04I,   108,  1,     24,     24,2,20060225,2322,-64.0008,  79.9942, 3642,     10.0,   0.3023,  33.6823,2,  33.6880,2,    340.0,2,    342.4,2,    54.30,2,    26.84,2,   2156.0,2,   2277.9,6,2,     0.94,2,    1.365,    0.088,2,   0.3019
  09AR20060102,  S04I,   108,  1,     23,     23,2,20060225,2322,-64.0008,  79.9942, 3642,     29.9,   0.4402,  33.8284,2,-999.0000,9,    339.6,2,   -999.0,9,  -999.00,9,  -999.00,9,   -999.0,9,   -999.0,9,2,     0.93,2,    2.393,    0.016,2,   0.4391
  09AR20060102,  S04I,   108,  1,     22,     22,2,20060225,2322,-64.0008,  79.9942, 3642,     29.8,   0.4397,  33.8259,2,-999.0000,9,    339.6,2,   -999.0,9,  -999.00,9,  -999.00,9,   -999.0,9,   -999.0,9,2,     0.92,2,    2.518,    0.016,2,   0.4386
  09AR20060102,  S04I,   108,  1,     21,     21,2,20060225,2322,-64.0008,  79.9942, 3642,     29.8,   0.4367,  33.8255,2,  33.8269,2,    339.6,2,    339.9,2,    52.00,2,    27.80,2,   2164.0,2,   2286.6,2,2,     0.92,2,    2.541,    0.016,2,   0.4356
  09AR20060102,  S04I,   108,  1,     20,     20,2,20060225,2322,-64.0008,  79.9942, 3642,     39.3,   0.3104,  33.8706,2,  33.8724,2,    338.8,2,    337.0,2,    49.80,2,    27.78,2,   2168.5,2,   2289.4,6,2,     0.93,2,    3.434,    0.007,2,   0.3090
  09AR20060102,  S04I,   108,  1,     19,     19,2,20060225,2322,-64.0008,  79.9942, 3642,     48.7,  -0.1198,  33.9502,2,  33.9506,2,    335.2,2,    331.4,2,    54.70,2,    28.40,2,   -999.0,9,   2292.2,2,2,     0.90,2,    4.491,    0.003,2,  -0.1214
  09AR20060102,  S04I,   108,  1,     18,     18,2,20060225,2322,-64.0008,  79.9942, 3642,     60.1,  -1.3958,  34.1150,2,  34.1152,2,    320.5,2,    317.4,2,    63.00,2,    29.16,2,   2199.6,2,   2301.9,2,2,     0.96,2,    2.847,    0.001,2,  -1.3972
  09AR20060102,  S04I,   108,  1,     17,     17,2,20060225,2322,-64.0008,  79.9942, 3642,     69.6,  -1.6199,  34.1729,2,  34.1737,2,    309.6,2,    309.8,2,    62.70,2,    29.55,2,   2206.2,2,   2307.9,2,2,     0.97,2,    1.738,    0.000,2,  -1.6214
  09AR20060102,  S04I,   108,  1,     16,     16,2,20060225,2322,-64.0008,  79.9942, 3642,     99.0,  -1.3665,  34.2734,2,  34.2700,2,    288.0,2,    286.3,2,    65.40,2,    30.67,2,   2216.5,2,   2310.3,2,2,     0.98,2,    0.564,    0.000,2,  -1.3688
  09AR20060102,  S04I,   108,  1,     15,     15,2,20060225,2322,-64.0008,  79.9942, 3642,    149.7,  -1.4252,  34.3390,2,  34.3355,2,    256.1,2,    298.2,3,    66.30,2,    30.21,2,   2228.5,2,   2316.0,2,2,     0.99,2,    0.014,    0.000,2,  -1.4287
  09AR20060102,  S04I,   108,  1,     14,     14,2,20060225,2322,-64.0008,  79.9942, 3642,    199.1,   0.2204,  34.4982,2,  34.4938,2,    207.3,2,    235.3,3,    75.60,2,    31.74,2,   2248.1,2,   2326.9,2,2,     0.99,2,    0.011,    0.000,2,   0.2127
  09AR20060102,  S04I,   108,  1,     13,     13,2,20060225,2322,-64.0008,  79.9942, 3642,    300.1,   1.5219,  34.6658,2,  34.6660,2,    188.0,2,    189.4,2,    88.80,2,    31.92,2,   2257.2,6,   2344.1,2,2,     0.99,2,   -0.036,    0.000,2,   1.5067
  09AR20060102,  S04I,   108,  1,     12,     12,2,20060225,2322,-64.0008,  79.9942, 3642,    400.5,   1.5799,  34.7034,2,  34.7049,2,    191.4,2,    190.5,2,    88.40,2,    31.14,2,   2261.3,2,   2339.6,2,2,     0.99,2,   -0.038,    0.000,2,   1.5591
  09AR20060102,  S04I,   108,  1,     11,     11,2,20060225,2322,-64.0008,  79.9942, 3642,    499.9,   1.5497,  34.7213,2,  34.7214,2,    194.0,2,    193.7,2,    89.70,2,    30.77,2,   2253.6,2,   2347.4,2,2,     0.99,2,   -0.036,    0.000,2,   1.5234
  09AR20060102,  S04I,   108,  1,     10,     10,2,20060225,2322,-64.0008,  79.9942, 3642,    748.4,   1.3056,  34.7274,2,  34.7278,2,    200.3,2,    200.1,2,    95.30,2,    30.56,2,   2254.2,2,   2350.8,2,2,     0.99,2,   -0.041,    0.000,2,   1.2661
  09AR20060102,  S04I,   108,  1,      9,      9,2,20060225,2322,-64.0008,  79.9942, 3642,    999.0,   1.0700,  34.7228,2,  34.7229,2,    203.5,2,    203.6,2,   102.70,2,    30.75,2,   2263.2,3,   2351.6,2,2,     0.99,2,   -0.043,    0.000,2,-999.0000
  09AR20060102,  S04I,   108,  1,      8,      8,2,20060225,2322,-64.0008,  79.9942, 3642,   1250.2,   0.8116,  34.7096,2,  34.7096,2,    206.1,2,    206.2,2,   113.00,2,    31.34,2,   2255.9,2,   2355.6,2,2,     0.99,2,   -0.047,    0.000,2,   0.7453
  09AR20060102,  S04I,   108,  1,      7,      7,2,20060225,2322,-64.0008,  79.9942, 3642,   1498.5,   0.6266,  34.7003,2,  34.6994,2,    207.3,2,    207.4,2,  -999.00,9,    30.94,3,   2276.0,3,   2353.4,2,2,     0.99,2,   -0.054,    0.000,2,   0.5463
  09AR20060102,  S04I,   108,  1,      6,      6,2,20060225,2322,-64.0008,  79.9942, 3642,   1749.0,   0.4711,  34.6921,2,  34.6923,2,    210.4,2,    210.7,2,   122.60,2,    31.75,2,   2263.8,6,   2353.4,2,2,     0.99,2,   -0.048,    0.000,2,   0.3758
  09AR20060102,  S04I,   108,  1,      5,      5,2,20060225,2322,-64.0008,  79.9942, 3642,   1998.4,   0.3341,  34.6859,2,  34.6860,2,    214.1,2,    213.9,2,  -999.00,9,    31.73,2,   2263.6,2,   2355.1,2,2,     0.99,2,   -0.047,    0.000,2,   0.2232
  09AR20060102,  S04I,   108,  1,      4,      4,2,20060225,2322,-64.0008,  79.9942, 3642,   2498.3,   0.1365,  34.6779,2,  34.6774,2,    220.8,2,    221.0,2,   134.60,3,    31.84,2,   2262.7,2,   2361.3,3,2,     0.99,2,   -0.048,    0.000,2,  -0.0086
  09AR20060102,  S04I,   108,  1,      3,      3,2,20060225,2322,-64.0008,  79.9942, 3642,   2997.7,  -0.0215,  34.6726,2,  34.6721,2,    228.2,2,    228.2,2,   124.00,2,    31.68,2,   2285.3,3,   2351.3,2,2,     0.99,2,   -0.052,    0.000,2,  -0.2042
  09AR20060102,  S04I,   108,  1,      2,      2,2,20060225,2322,-64.0008,  79.9942, 3642,   3497.8,  -0.1109,  34.6683,2,  34.6674,2,    233.2,2,    233.2,2,   131.60,2,    31.55,2,   2259.5,2,   2351.9,6,2,     0.99,2,   -0.050,    0.000,2,  -0.3358
  09AR20060102,  S04I,   108,  1,      1,      1,2,20060225,2322,-64.0008,  79.9942, 3642,   3709.3,  -0.1498,  34.6653,2,  34.6641,2,    232.7,2,    232.5,2,   135.20,2,    31.90,2,   2258.7,6,   2352.7,2,2,     0.99,2,   -0.048,    0.000,2,  -0.3934
  09AR20060102,  S04I,   109,  1,     24,     24,2,20060226,0602,-64.5005,  79.9977, 3603,      8.4,   0.4472,  33.8286,2,  33.8271,2,    337.9,2,    337.2,2,    48.70,2,    27.41,2,   2181.5,2,   -999.0,9,2,     0.94,2,    0.213,    0.492,2,   0.4469
  09AR20060102,  S04I,   109,  1,     23,     23,2,20060226,0602,-64.5005,  79.9977, 3603,      8.3,   0.4458,  33.8295,2,-999.0000,9,    337.9,2,   -999.0,9,  -999.00,9,  -999.00,9,   -999.0,9,   -999.0,9,2,     0.56,2,    0.221,    0.515,2,   0.4455
  09AR20060102,  S04I,   109,  1,     22,     22,2,20060226,0602,-64.5005,  79.9977, 3603,      8.4,   0.4463,  33.8313,2,-999.0000,9,    337.9,2,   -999.0,9,  -999.00,9,  -999.00,9,   -999.0,9,   -999.0,9,2,     0.49,2,    0.259,    0.465,2,   0.4460
  09AR20060102,  S04I,   109,  1,     21,     21,2,20060226,0602,-64.5005,  79.9977, 3603,     19.8,   0.4278,  33.8726,2,  33.8734,2,    338.1,2,    337.7,2,    48.70,2,    27.69,2,   -999.0,9,   -999.0,9,2,     0.91,2,    1.143,    0.163,2,   0.4271
  09AR20060102,  S04I,   109,  1,     20,     20,2,20060226,0602,-64.5005,  79.9977, 3603,     34.8,   0.4290,  33.8776,2,  33.8789,2,    337.5,2,    337.8,2,    47.60,2,    27.67,2,   2171.2,2,   -999.0,9,2,     0.92,2,    2.156,    0.054,2,   0.4277
  09AR20060102,  S04I,   109,  1,     19,     19,2,20060226,0602,-64.5005,  79.9977, 3603,     44.8,   0.3729,  33.8835,2,  33.8896,2,    337.1,2,    336.0,2,    48.80,2,    27.86,2,   -999.0,9,   -999.0,9,2,     0.92,2,    3.133,    0.027,2,   0.3712
  09AR20060102,  S04I,   109,  1,     18,     18,2,20060226,0602,-64.5005,  79.9977, 3603,     57.0,  -0.1002,  33.9604,2,  33.9596,2,    328.2,2,    327.6,2,    52.80,2,    28.37,2,   2180.0,2,   -999.0,9,2,     0.92,2,    3.505,    0.011,2,  -0.1021
  09AR20060102,  S04I,   109,  1,     17,     17,2,20060226,0602,-64.5005,  79.9977, 3603,     68.0,  -1.0033,  34.1054,2,  34.1089,2,    306.1,2,    310.0,2,    63.30,2,    29.28,2,   -999.0,9,   -999.0,9,2,     0.97,2,    1.662,    0.005,2,  -1.0051
  09AR20060102,  S04I,   109,  1,     16,     16,2,20060226,0602,-64.5005,  79.9977, 3603,     88.8,  -1.5294,  34.2470,2,  34.2436,2,    290.9,2,    291.4,2,    62.80,2,    30.33,2,   2219.1,2,   -999.0,9,2,     0.98,2,    0.839,    0.001,2,  -1.5314
  09AR20060102,  S04I,   109,  1,     15,     15,2,20060226,0602,-64.5005,  79.9977, 3603,    109.4,  -0.8602,  34.3231,2,  34.3227,2,    272.0,2,    263.8,3,    67.90,2,    31.35,2,   2230.3,2,   -999.0,9,2,     0.98,2,    0.380,    0.000,2,  -0.8633
  09AR20060102,  S04I,   109,  1,     14,     14,2,20060226,0602,-64.5005,  79.9977, 3603,    150.8,   0.2547,  34.4679,2,  34.4636,2,    226.7,2,    229.8,2,    74.00,2,    32.13,2,   2244.9,2,   -999.0,9,2,     0.99,2,    0.090,    0.000,2,   0.2489
  09AR20060102,  S04I,   109,  1,     13,     13,2,20060226,0602,-64.5005,  79.9977, 3603,    201.4,   1.3736,  34.6166,2,  34.6162,2,    193.9,2,    190.3,2,    84.50,2,    32.54,2,   2260.6,2,   -999.0,9,2,     0.99,2,    0.007,    0.000,2,   1.3638
  09AR20060102,  S04I,   109,  1,     12,     12,2,20060226,0602,-64.5005,  79.9977, 3603,    300.0,   1.3448,  34.6606,2,  34.6601,2,    192.8,2,    196.2,2,    83.10,2,    31.58,2,   -999.0,9,   -999.0,9,2,     0.99,2,   -0.036,    0.000,2,   1.3301
  09AR20060102,  S04I,   109,  1,     11,     11,2,20060226,0602,-64.5005,  79.9977, 3603,    400.3,   1.3948,  34.6942,2,  34.6950,2,    196.4,2,    196.4,2,    87.30,2,    31.05,2,   -999.0,9,   -999.0,9,2,     0.99,2,   -0.039,    0.000,2,   1.3746
  09AR20060102,  S04I,   109,  1,     10,     10,2,20060226,0602,-64.5005,  79.9977, 3603,    500.8,   1.3295,  34.7054,2,  34.7064,2,    198.1,2,    199.1,2,    90.90,2,    30.70,2,   -999.0,9,   -999.0,9,2,     0.99,2,   -0.038,    0.000,2,   1.3041
  09AR20060102,  S04I,   109,  1,      9,      9,2,20060226,0602,-64.5005,  79.9977, 3603,    700.0,   1.2251,  34.7203,2,  34.7202,2,    200.9,2,    201.9,2,    94.10,2,    30.47,2,   -999.0,9,   -999.0,9,2,     0.99,2,   -0.044,    0.000,2,   1.1889
  09AR20060102,  S04I,   109,  1,      8,      8,2,20060226,0602,-64.5005,  79.9977, 3603,    899.3,   1.0817,  34.7214,2,  34.7221,2,    202.8,2,    202.1,2,    98.20,2,    30.55,2,   -999.0,9,   -999.0,9,2,     0.99,2,   -0.043,    0.000,2,   1.0347
  09AR20060102,  S04I,   109,  1,      7,      7,2,20060226,0602,-64.5005,  79.9977, 3603,   1201.0,   0.8062,  34.7089,2,  34.7094,2,    205.1,2,    205.1,2,   106.90,2,    31.17,2,   -999.0,9,   -999.0,9,2,     0.99,2,   -0.040,    0.000,2,   0.7431
  09AR20060102,  S04I,   109,  1,      6,      6,2,20060226,0602,-64.5005,  79.9977, 3603,   1601.3,   0.5157,  34.6936,2,  34.6935,2,    209.9,2,    210.0,2,   113.80,2,    31.65,2,   -999.0,9,   -999.0,9,2,     0.99,2,   -0.047,    0.000,2,   0.4299
  09AR20060102,  S04I,   109,  1,      5,      5,2,20060226,0602,-64.5005,  79.9977, 3603,   2100.1,   0.2696,  34.6835,2,  34.6833,2,    215.3,2,    215.2,2,   117.80,2,    31.88,2,   -999.0,9,   -999.0,9,2,     0.99,2,   -0.049,    0.000,2,   0.1524
  09AR20060102,  S04I,   109,  1,      4,      4,2,20060226,0602,-64.5005,  79.9977, 3603,   2601.0,   0.0780,  34.6756,2,  34.6750,2,    221.8,2,    221.7,2,   126.70,2,    31.93,2,   -999.0,9,   -999.0,9,2,     0.99,2,   -0.047,    0.000,2,  -0.0741
  09AR20060102,  S04I,   109,  1,      3,      3,2,20060226,0602,-64.5005,  79.9977, 3603,   3099.3,  -0.0439,  34.6712,2,  34.6703,2,    228.3,2,    228.8,2,   123.60,2,    31.66,2,   -999.0,9,   -999.0,9,2,     0.99,2,   -0.050,    0.000,2,  -0.2348
  09AR20060102,  S04I,   109,  1,      2,      2,2,20060226,0602,-64.5005,  79.9977, 3603,   3640.3,  -0.1623,  34.6652,2,  34.6642,2,    231.7,2,    232.1,2,   148.00,2,    31.99,2,   -999.0,9,   -999.0,9,2,     0.99,2,   -0.048,    0.000,2,  -0.3991
  09AR20060102,  S04I,   109,  1,      1,      1,2,20060226,0602,-64.5005,  79.9977, 3603,   3661.0,  -0.1600,  34.6651,2,  34.6644,2,    231.7,2,    231.7,2,   138.80,2,    31.94,2,   -999.0,9,   -999.0,9,2,     0.99,2,   -0.053,    0.000,2,  -0.3988
  09AR20060102,  S04I,   110,  1,     24,     24,2,20060226,1247,-65.0003,  79.9993, 3535,      9.9,   0.4169,  33.8696,2,  33.8695,2,    338.0,2,    337.2,2,    49.40,2,    27.70,2,   2168.9,2,   2287.8,2,2,     0.44,2,    2.223,    0.000,2,   0.4165
  09AR20060102,  S04I,   110,  1,     23,     23,2,20060226,1247,-65.0003,  79.9993, 3535,      9.8,   0.4162,  33.8698,2,-999.0000,9,    338.0,2,   -999.0,9,  -999.00,9,  -999.00,9,   -999.0,9,   -999.0,9,2,     0.43,2,    2.199,    0.000,2,   0.4158
  09AR20060102,  S04I,   110,  1,     22,     22,2,20060226,1247,-65.0003,  79.9993, 3535,      9.7,   0.4164,  33.8698,2,-999.0000,9,    338.0,2,   -999.0,9,  -999.00,9,  -999.00,9,   -999.0,9,   -999.0,9,2,     0.41,2,    2.197,    0.000,2,   0.4160
  09AR20060102,  S04I,   110,  1,     21,     21,2,20060226,1247,-65.0003,  79.9993, 3535,     24.7,   0.3929,  33.8847,2,  33.8840,2,    337.6,2,    337.0,2,    53.90,2,    26.40,3,   2167.9,6,   -999.0,9,2,     0.90,2,    2.162,    0.000,2,   0.3920
  09AR20060102,  S04I,   110,  1,     20,     20,2,20060226,1247,-65.0003,  79.9993, 3535,     34.3,   0.3686,  33.8857,2,  33.8861,2,    337.2,2,    336.6,2,    54.80,2,    27.55,2,   2169.2,2,   -999.0,9,2,     0.94,2,    2.360,    0.000,2,   0.3673
  09AR20060102,  S04I,   110,  1,     19,     19,2,20060226,1247,-65.0003,  79.9993, 3535,     45.8,   0.3626,  33.8855,2,  33.8869,2,    337.2,2,    336.6,2,    46.90,2,    27.78,2,   2166.2,2,   -999.0,9,2,     0.94,2,    2.953,    0.000,2,   0.3609
  09AR20060102,  S04I,   110,  1,     18,     18,2,20060226,1247,-65.0003,  79.9993, 3535,     55.4,  -0.3356,  34.0036,2,  33.9487,2,    326.4,2,    329.9,2,    50.60,2,    28.08,2,   2173.9,2,   -999.0,9,2,     0.83,2,    4.831,    0.000,2,  -0.3373
  09AR20060102,  S04I,   110,  1,     17,     17,2,20060226,1247,-65.0003,  79.9993, 3535,     65.6,  -1.3563,  34.1729,2,  34.1739,2,    315.6,2,    312.8,2,    56.20,2,    29.04,2,   2206.2,2,   -999.0,9,2,     0.96,2,    2.311,    0.000,2,  -1.3578
  09AR20060102,  S04I,   110,  1,     16,     16,2,20060226,1247,-65.0003,  79.9993, 3535,     80.0,  -1.6097,  34.2387,2,  34.2375,2,    296.9,2,    298.8,2,    67.00,2,    29.60,2,   2155.2,4,   -999.0,9,2,     0.98,2,    1.276,    0.000,2,  -1.6114
  09AR20060102,  S04I,   110,  1,     15,     15,2,20060226,1247,-65.0003,  79.9993, 3535,    119.8,  -1.4439,  34.3249,2,  34.3253,2,    276.6,2,    292.5,3,    73.30,2,    30.33,2,   2174.4,4,   -999.0,9,2,     0.99,2,    0.064,    0.000,2,  -1.4467
  09AR20060102,  S04I,   110,  1,     14,     14,2,20060226,1247,-65.0003,  79.9993, 3535,    150.3,  -0.9160,  34.3881,2,  34.3874,2,    262.7,2,    275.0,3,    74.70,2,    30.75,2,   2189.6,4,   -999.0,9,2,     0.99,2,    0.009,    0.000,2,  -0.9202
  09AR20060102,  S04I,   110,  1,     13,     13,2,20060226,1247,-65.0003,  79.9993, 3535,    199.4,   0.4842,  34.5338,2,  34.5373,2,    225.6,2,    221.4,2,    80.70,2,    31.93,2,   2187.3,4,   -999.0,9,2,     0.99,2,   -0.013,    0.000,2,   0.4761
  09AR20060102,  S04I,   110,  1,     12,     12,2,20060226,1247,-65.0003,  79.9993, 3535,    301.3,   1.3981,  34.6727,2,  34.6711,2,    194.4,2,    195.6,2,    88.40,2,    31.53,2,   2257.6,2,   -999.0,9,2,     0.99,2,   -0.036,    0.000,2,   1.3832
  09AR20060102,  S04I,   110,  1,     11,     11,2,20060226,1247,-65.0003,  79.9993, 3535,    451.7,   1.4105,  34.7147,2,  34.7147,2,    195.5,2,    197.3,2,    91.60,2,    30.72,2,   2234.5,2,   -999.0,9,2,     0.99,2,   -0.037,    0.000,2,   1.3874
  09AR20060102,  S04I,   110,  1,     10,     10,2,20060226,1247,-65.0003,  79.9993, 3535,    600.8,   1.2835,  34.7215,2,  34.7223,2,    200.5,2,    200.7,2,    91.00,2,    30.54,2,   2243.2,2,   -999.0,9,2,     0.99,2,   -0.044,    0.000,2,   1.2527
  09AR20060102,  S04I,   110,  1,      9,      9,2,20060226,1247,-65.0003,  79.9993, 3535,    901.9,   1.0094,  34.7168,2,  34.7166,2,    204.1,2,    204.1,2,    96.50,2,    30.76,2,   2257.4,2,   -999.0,9,2,     0.99,2,   -0.044,    0.000,2,   0.9628
  09AR20060102,  S04I,   110,  1,      8,      8,2,20060226,1247,-65.0003,  79.9993, 3535,   1199.5,   0.7589,  34.7064,2,  34.7068,2,    206.4,2,    206.8,2,   107.50,2,    31.37,2,   2196.2,4,   -999.0,9,2,     0.99,2,   -0.047,    0.000,2,   0.6963
  09AR20060102,  S04I,   110,  1,      7,      7,2,20060226,1247,-65.0003,  79.9993, 3535,   1499.5,   0.5607,  34.6976,2,  34.6976,2,    208.4,2,    207.9,2,   116.10,2,    31.72,2,   2264.3,2,   -999.0,9,2,     0.99,2,   -0.046,    0.000,2,   0.4811
  09AR20060102,  S04I,   110,  1,      6,      6,2,20060226,1247,-65.0003,  79.9993, 3535,   1899.0,   0.3173,  34.6856,2,  34.6858,2,    213.7,2,    213.8,2,   122.70,2,    32.01,2,   2264.2,2,   -999.0,9,2,     0.99,2,   -0.050,    0.000,2,   0.2138
  09AR20060102,  S04I,   110,  1,      5,      5,2,20060226,1247,-65.0003,  79.9993, 3535,   2300.4,   0.1402,  34.6784,2,  34.6784,2,    220.0,2,    220.3,2,   121.00,2,    31.93,2,   2261.6,2,   -999.0,9,2,     0.99,2,   -0.047,    0.000,2,   0.0103
  09AR20060102,  S04I,   110,  1,      4,      4,2,20060226,1247,-65.0003,  79.9993, 3535,   2699.6,   0.0125,  34.6736,2,  34.6733,2,    226.0,2,    226.6,2,   130.50,2,    31.69,2,   2259.3,2,   -999.0,9,2,     0.99,2,   -0.051,    0.000,2,  -0.1462
  09AR20060102,  S04I,   110,  1,      3,      3,2,20060226,1247,-65.0003,  79.9993, 3535,   3098.5,  -0.0788,  34.6702,2,  34.6695,2,    229.8,2,    229.5,2,   131.70,2,    31.82,2,   2256.9,2,   -999.0,9,2,     0.99,2,   -0.051,    0.000,2,  -0.2689
  09AR20060102,  S04I,   110,  1,      2,      2,2,20060226,1247,-65.0003,  79.9993, 3535,   3549.8,  -0.1720,  34.6649,2,  34.6641,2,    233.5,2,    234.3,2,   126.20,2,    31.66,2,   2249.1,2,   -999.0,9,2,     0.99,2,   -0.049,    0.000,2,  -0.4001
  09AR20060102,  S04I,   110,  1,      1,      1,2,20060226,1247,-65.0003,  79.9993, 3535,   3596.6,  -0.1675,  34.6648,2,  34.6642,2,    233.6,2,    233.4,2,   125.20,2,    31.77,2,   2261.0,6,   -999.0,9,2,     0.99,2,   -0.047,    0.000,2,  -0.4000