BOTTLE,20220816CCHSIOAMB
EXPOCODE,SECT_ID,STNNBR,CASTNO,SAMPNO,BTLNBR,BTLNBR_FLAG_W,DATE,TIME,LATITUDE,LONGITUDE,DEPTH,CTDPRS,CTDTMP,CTDSAL,CTDSAL_FLAG_W,SALNTY,SALNTY_FLAG_W,CTDOXY,CTDOXY_FLAG_W,OXYGEN,OXYGEN_FLAG_W,SILCAT,SILCAT_FLAG_W,NITRAT,NITRAT_FLAG_W,TCARBN,TCARBN_FLAG_W,ALKALI,ALKALI_FLAG_W,FLUOR_FLAG_W,XMISS,XMISS_FLAG_W,FLUOR,PAR,PAR_FLAG_W,THETA
,,,,,,,,,,,METERS,DBAR,ITS-90,PSS-78,,PSS-78,,UMOL/KG,,UMOL/KG,,UMOL/KG,,UMOL/KG,,UMOL/KG,,UMOL/KG,,,%TRANS,,VOLTS,VOLTS,,DEG C
  09AR20060102,  S04I,    72,  1,     24,     24,2,20060208,0455,-62.3318,  59.9985, 4664,      9.7,   1.0056,  33.7481,2,  33.7499,2,    337.7,2,    337.5,2,    38.90,2,    26.25,2,   2162.4,2,   -999.0,9,2,     0.97,2,    0.020,    1.278,2,   1.0052
  09AR20060102,  S04I,    72,  1,     23,     23,2,20060208,0455,-62.3318,  59.9985, 4664,      9.6,   1.0051,  33.7482,2,-999.0000,9,    337.7,2,   -999.0,9,  -999.00,9,  -999.00,9,   -999.0,9,   -999.0,9,2,     0.97,2,    0.012,    1.396,2,   1.0047
  09AR20060102,  S04I,    72,  1,     22,     22,2,20060208,0455,-62.3318,  59.9985, 4664,      9.3,   1.0019,  33.7483,2,-999.0000,9,    337.7,2,   -999.0,9,  -999.00,9,  -999.00,9,   -999.0,9,   -999.0,9,2,     0.97,2,    0.025,    1.464,2,   1.0015
  09AR20060102,  S04I,    72,  1,     21,     21,2,20060208,0455,-62.3318,  59.9985, 4664,     39.0,   0.9600,  33.7479,2,  33.7519,2,    337.8,2,    337.8,2,    38.60,2,    25.95,2,   2159.3,2,   -999.0,9,2,     0.97,2,    0.117,    0.310,2,   0.9584
  09AR20060102,  S04I,    72,  1,     20,     20,2,20060208,0455,-62.3318,  59.9985, 4664,     69.3,  -1.5078,  34.0682,2,  34.0664,2,    323.4,2,    324.1,2,    55.80,2,    28.89,2,   2196.3,2,   -999.0,9,2,     0.97,2,    0.829,    0.077,2,  -1.5093
  09AR20060102,  S04I,    72,  1,     19,     19,2,20060208,0455,-62.3318,  59.9985, 4664,     94.1,  -0.5527,  34.2461,2,  34.2393,2,    302.1,2,    272.0,3,    66.90,2,    31.41,2,   2225.9,2,   -999.0,9,2,     0.98,2,    0.886,    0.025,2,  -0.5556
  09AR20060102,  S04I,    72,  1,     18,     18,2,20060208,0455,-62.3318,  59.9985, 4664,    109.4,   0.0509,  34.3379,2,  34.3343,2,    271.9,2,    243.9,3,    71.80,2,    32.56,2,   2237.5,2,   -999.0,9,2,     0.99,2,    0.501,    0.010,2,   0.0470
  09AR20060102,  S04I,    72,  1,     17,     17,2,20060208,0455,-62.3318,  59.9985, 4664,    149.6,   1.2681,  34.5238,2,  34.5226,2,    202.4,2,    194.9,2,    82.50,2,    34.09,2,   2266.7,2,   -999.0,9,2,     0.99,2,    0.024,    0.002,2,   1.2611
  09AR20060102,  S04I,    72,  1,     16,     16,2,20060208,0455,-62.3318,  59.9985, 4664,    201.3,   1.6261,  34.6028,2,  34.6028,2,    182.5,2,    182.4,2,    87.30,2,    33.06,2,   -999.0,9,   -999.0,9,2,     0.99,2,   -0.023,    0.000,2,   1.6159
  09AR20060102,  S04I,    72,  1,     15,     15,2,20060208,0455,-62.3318,  59.9985, 4664,    299.6,   1.7095,  34.6588,2,  34.6597,2,    180.7,2,    182.4,2,    89.40,2,    32.32,2,   -999.0,9,   -999.0,9,2,     0.99,2,   -0.034,    0.000,2,   1.6939
  09AR20060102,  S04I,    72,  1,     14,     14,2,20060208,0455,-62.3318,  59.9985, 4664,    399.6,   1.6946,  34.6885,2,  34.6896,2,    184.1,2,    185.6,2,    90.40,2,    31.93,2,   -999.0,9,   -999.0,9,2,     0.99,2,   -0.039,    0.000,2,   1.6735
  09AR20060102,  S04I,    72,  1,     13,     13,2,20060208,0455,-62.3318,  59.9985, 4664,    598.6,   1.5953,  34.7201,2,  34.7215,2,    190.8,2,    192.4,2,    91.90,2,    31.07,2,   -999.0,9,   -999.0,9,2,     0.99,2,   -0.039,    0.000,2,   1.5631
  09AR20060102,  S04I,    72,  1,     12,     12,2,20060208,0455,-62.3318,  59.9985, 4664,    799.1,   1.4216,  34.7279,2,  34.7292,2,    196.8,2,    197.2,2,    95.30,2,    30.66,2,   -999.0,9,   -999.0,9,2,     0.99,2,   -0.039,    0.000,2,   1.3783
  09AR20060102,  S04I,    72,  1,     11,     11,2,20060208,0455,-62.3318,  59.9985, 4664,    999.1,   1.2494,  34.7273,2,  34.7286,2,    200.5,2,    200.5,2,   100.10,2,    30.72,2,   -999.0,9,   -999.0,9,2,     0.99,2,   -0.043,    0.000,2,   1.1950
  09AR20060102,  S04I,    72,  1,     10,     10,2,20060208,0455,-62.3318,  59.9985, 4664,   1201.1,   1.0685,  34.7204,2,  34.7217,2,    203.1,2,    203.3,2,   105.80,2,    30.63,2,   -999.0,9,   -999.0,9,2,     0.99,2,   -0.047,    0.000,2,   1.0028
  09AR20060102,  S04I,    72,  1,      9,      9,2,20060208,0455,-62.3318,  59.9985, 4664,   1599.5,   0.7523,  34.7055,2,  34.7062,2,    206.5,2,    208.3,2,   118.70,2,    31.78,2,   -999.0,9,   -999.0,9,2,     0.99,2,   -0.045,    0.000,2,   0.6636
  09AR20060102,  S04I,    72,  1,      8,      8,2,20060208,0455,-62.3318,  59.9985, 4664,   1999.0,   0.5040,  34.6917,2,  34.6921,2,    209.8,2,    208.6,2,   123.10,2,    31.75,2,   -999.0,9,   -999.0,9,2,     0.99,2,   -0.047,    0.000,2,   0.3904
  09AR20060102,  S04I,    72,  1,      7,      7,2,20060208,0455,-62.3318,  59.9985, 4664,   2401.3,   0.3228,  34.6831,2,  34.6837,2,    213.2,2,    213.4,2,   128.10,2,    32.13,2,   -999.0,9,   -999.0,9,2,     0.99,2,   -0.046,    0.000,2,   0.1818
  09AR20060102,  S04I,    72,  1,      6,      6,2,20060208,0455,-62.3318,  59.9985, 4664,   2800.8,   0.1794,  34.6763,2,  34.6764,2,    218.4,2,    218.5,2,   130.70,2,    32.50,2,   -999.0,9,   -999.0,9,2,     0.99,2,   -0.049,    0.000,2,   0.0089
  09AR20060102,  S04I,    72,  1,      5,      5,2,20060208,0455,-62.3318,  59.9985, 4664,   3199.3,   0.0591,  34.6710,2,  34.6711,2,    224.2,2,    224.6,2,   131.60,2,    32.31,2,   -999.0,9,   -999.0,9,2,     0.99,2,   -0.048,    0.000,2,  -0.1430
  09AR20060102,  S04I,    72,  1,      4,      4,2,20060208,0455,-62.3318,  59.9985, 4664,   3699.1,  -0.0684,  34.6649,2,  34.6648,2,    231.1,2,    231.0,2,   132.70,2,    32.13,2,   -999.0,9,   -999.0,9,2,     0.99,2,   -0.050,    0.000,2,  -0.3132
  09AR20060102,  S04I,    72,  1,      3,      3,2,20060208,0455,-62.3318,  59.9985, 4664,   4198.6,  -0.1643,  34.6602,2,  34.6601,2,    236.3,2,    236.3,2,   134.80,2,    32.25,2,   -999.0,9,   -999.0,9,2,     0.99,2,   -0.050,    0.000,2,  -0.4556
  09AR20060102,  S04I,    72,  1,      2,      2,2,20060208,0455,-62.3318,  59.9985, 4664,   4700.0,  -0.2433,  34.6528,2,  34.6533,2,    242.2,2,    243.0,2,   135.90,2,    31.83,2,   -999.0,9,   -999.0,9,2,     0.99,2,   -0.053,    0.000,2,  -0.5847
  09AR20060102,  S04I,    72,  1,      1,      1,2,20060208,0455,-62.3318,  59.9985, 4664,   4752.9,  -0.2559,  34.6509,2,  33.7679,4,    244.5,2,   -999.0,9,  -999.00,9,  -999.00,9,   -999.0,9,   -999.0,9,2,     0.99,2,   -0.052,    0.000,2,  -0.6026
  09AR20060102,  S04I,    73,  1,     24,     24,2,20060208,1532,-62.9993,  60.0047, 4466,      9.9,   0.8447,  33.7472,2,  33.7442,2,    335.0,2,    336.0,2,    42.40,2,    26.52,2,   2157.9,2,   2286.1,2,2,     0.24,2,    0.852,    0.000,2,   0.8443
  09AR20060102,  S04I,    73,  1,     23,     23,2,20060208,1532,-62.9993,  60.0047, 4466,     30.5,   0.7761,  33.7478,2,-999.0000,9,    335.1,2,   -999.0,9,  -999.00,9,  -999.00,9,   -999.0,9,   -999.0,9,2,     0.79,2,    0.955,    0.000,2,   0.7749
  09AR20060102,  S04I,    73,  1,     22,     22,2,20060208,1532,-62.9993,  60.0047, 4466,     30.2,   0.7791,  33.7478,2,-999.0000,9,    335.1,2,   -999.0,9,  -999.00,9,  -999.00,9,   -999.0,9,   -999.0,9,2,     0.80,2,    0.955,    0.000,2,   0.7779
  09AR20060102,  S04I,    73,  1,     21,     21,2,20060208,1532,-62.9993,  60.0047, 4466,     30.3,   0.7795,  33.7476,2,  33.7497,2,    335.1,2,    336.1,2,    41.90,2,    26.55,2,   2156.0,6,   -999.0,9,2,     0.61,2,    0.976,    0.000,2,   0.7783
  09AR20060102,  S04I,    73,  1,     20,     20,2,20060208,1532,-62.9993,  60.0047, 4466,     54.2,  -1.1184,  33.9437,2,  33.9346,2,    325.5,3,    340.8,3,    47.70,2,    27.32,2,   2172.6,2,   -999.0,9,2,     0.95,2,    1.421,    0.000,2,  -1.1197
  09AR20060102,  S04I,    73,  1,     19,     19,2,20060208,1532,-62.9993,  60.0047, 4466,     59.2,  -1.4049,  33.9843,2,  33.9839,2,    338.3,2,    336.8,2,    49.10,2,    27.81,2,   2177.9,2,   -999.0,9,2,     0.95,2,    1.638,    0.000,2,  -1.4062
  09AR20060102,  S04I,    73,  1,     18,     18,2,20060208,1532,-62.9993,  60.0047, 4466,     69.4,  -1.5602,  34.0157,2,  34.0156,2,    329.8,2,    331.0,2,    57.30,2,    28.25,2,   2213.0,2,   -999.0,9,2,     0.97,2,    1.668,    0.000,2,  -1.5617
  09AR20060102,  S04I,    73,  1,     17,     17,2,20060208,1532,-62.9993,  60.0047, 4466,    100.4,  -1.1324,  34.1575,2,  34.1547,2,    290.9,2,    293.2,2,    62.00,2,    30.71,2,   2205.9,2,   -999.0,9,2,     0.98,2,    1.196,    0.000,2,  -1.1349
  09AR20060102,  S04I,    73,  1,     16,     16,2,20060208,1532,-62.9993,  60.0047, 4466,    150.1,   1.2583,  34.5038,2,  34.4997,2,    200.2,2,    194.3,2,    86.90,2,    33.66,2,   2252.1,2,   -999.0,9,2,     0.99,2,    0.092,    0.000,2,   1.2513
  09AR20060102,  S04I,    73,  1,     15,     15,2,20060208,1532,-62.9993,  60.0047, 4466,    200.8,   1.5794,  34.5806,2,  34.5807,2,    180.8,2,    182.6,2,    84.00,2,    33.55,2,   2256.9,6,   -999.0,9,2,     0.99,2,   -0.021,    0.000,2,   1.5693
  09AR20060102,  S04I,    73,  1,     14,     14,2,20060208,1532,-62.9993,  60.0047, 4466,    300.5,   1.7708,  34.6532,2,  34.6491,2,    177.5,2,    178.8,2,    91.40,2,    33.09,2,   2255.4,2,   -999.0,9,2,     0.99,2,   -0.037,    0.000,2,   1.7550
  09AR20060102,  S04I,    73,  1,     13,     13,2,20060208,1532,-62.9993,  60.0047, 4466,    400.0,   1.7585,  34.6894,2,  34.6850,2,    181.0,2,    182.3,2,    89.30,2,    32.16,2,   2254.0,2,   -999.0,9,2,     0.99,2,   -0.035,    0.000,2,   1.7371
  09AR20060102,  S04I,    73,  1,     12,     12,2,20060208,1532,-62.9993,  60.0047, 4466,    599.4,   1.6214,  34.7196,2,  34.7204,2,    189.0,2,    190.0,2,    91.90,2,    31.14,2,   2251.0,2,   -999.0,9,2,     0.99,2,   -0.036,    0.000,2,   1.5890
  09AR20060102,  S04I,    73,  1,     11,     11,2,20060208,1532,-62.9993,  60.0047, 4466,    899.5,   1.4315,  34.7374,2,  34.7386,2,    198.2,2,    198.7,2,    99.40,2,    30.18,2,   2247.7,2,   -999.0,9,2,     0.99,2,   -0.040,    0.000,2,   1.3820
  09AR20060102,  S04I,    73,  1,     10,     10,2,20060208,1532,-62.9993,  60.0047, 4466,   1199.4,   1.0767,  34.7208,2,  34.7217,2,    201.4,2,    201.3,2,   116.10,3,    31.04,2,   2252.1,2,   -999.0,9,2,     0.99,2,   -0.041,    0.000,2,   1.0111
  09AR20060102,  S04I,    73,  1,      9,      9,2,20060208,1532,-62.9993,  60.0047, 4466,   1500.2,   0.8267,  34.7081,2,  34.7064,2,    204.3,2,    203.9,2,   114.00,2,    31.77,2,   2258.3,2,   -999.0,9,2,     0.99,2,   -0.046,    0.000,2,   0.7438
  09AR20060102,  S04I,    73,  1,      8,      8,2,20060208,1532,-62.9993,  60.0047, 4466,   1900.6,   0.5848,  34.6963,2,  34.6956,2,    208.1,2,    206.8,2,   122.90,2,    32.03,2,   2259.5,2,   -999.0,9,2,     0.99,2,   -0.044,    0.000,2,   0.4771
  09AR20060102,  S04I,    73,  1,      7,      7,2,20060208,1532,-62.9993,  60.0047, 4466,   2400.1,   0.3357,  34.6837,2,  34.6837,2,    214.0,2,    215.3,2,   128.30,2,    32.32,2,   2260.1,2,   -999.0,9,2,     0.99,2,   -0.045,    0.000,2,   0.1945
  09AR20060102,  S04I,    73,  1,      6,      6,2,20060208,1532,-62.9993,  60.0047, 4466,   2900.7,   0.1489,  34.6750,2,  34.6748,2,    221.7,2,    221.7,2,   135.10,2,    32.77,2,   2258.5,2,   -999.0,9,2,     0.99,2,   -0.046,    0.000,2,  -0.0294
  09AR20060102,  S04I,    73,  1,      5,      5,2,20060208,1532,-62.9993,  60.0047, 4466,   3399.0,  -0.0031,  34.6684,2,  34.6603,2,    229.5,2,    229.1,2,   131.20,2,    32.44,2,   2254.2,2,   -999.0,9,2,     0.99,2,   -0.052,    0.000,2,  -0.2216
  09AR20060102,  S04I,    73,  1,      4,      4,2,20060208,1532,-62.9993,  60.0047, 4466,   3898.0,  -0.1351,  34.6624,2,  34.6578,2,    236.7,2,    235.9,2,   134.40,2,    32.60,2,   2254.6,2,   -999.0,9,2,     0.99,2,   -0.052,    0.000,2,  -0.3972
  09AR20060102,  S04I,    73,  1,      3,      3,2,20060208,1532,-62.9993,  60.0047, 4466,   4398.2,  -0.2136,  34.6574,2,  34.6525,2,    241.8,2,    241.0,2,   148.90,2,    32.73,2,   2250.2,2,   -999.0,9,2,     0.99,2,   -0.052,    0.000,2,  -0.5239
  09AR20060102,  S04I,    73,  1,      2,      2,2,20060208,1532,-62.9993,  60.0047, 4466,   4527.1,  -0.3087,  34.6469,2,  34.6454,2,    251.6,2,    252.2,2,   137.00,2,    31.87,2,   2249.1,2,   -999.0,9,2,     0.99,2,   -0.053,    0.000,2,  -0.6294
  09AR20060102,  S04I,    73,  1,      1,      1,2,20060208,1532,-62.9993,  60.0047, 4466,   4546.4,  -0.3200,  34.6453,2,  34.6442,2,    255.0,2,    254.2,2,   120.10,2,    31.69,2,   2248.6,6,   -999.0,9,2,     0.99,2,   -0.055,    0.000,2,  -0.6424
  09AR20060102,  S04I,    74,  1,     24,     24,2,20060209,0106,-63.6678,  60.0018, 4368,      9.2,   0.5298,  33.7820,2,  33.7841,2,    338.6,2,    337.8,2,    44.70,2,    27.43,2,   2167.7,2,   -999.0,9,2,     0.96,2,    0.035,    0.320,2,   0.5294
  09AR20060102,  S04I,    74,  1,     23,     23,2,20060209,0106,-63.6678,  60.0018, 4368,     39.9,   0.5641,  33.7976,2,-999.0000,9,    337.6,2,   -999.0,9,  -999.00,9,  -999.00,9,   -999.0,9,   -999.0,9,2,     0.96,2,    0.480,    0.133,2,   0.5626
  09AR20060102,  S04I,    74,  1,     22,     22,2,20060209,0106,-63.6678,  60.0018, 4368,     39.9,   0.5562,  33.8012,2,-999.0000,9,    337.6,2,   -999.0,9,  -999.00,9,  -999.00,9,   -999.0,9,   -999.0,9,2,     0.96,2,    0.499,    0.126,2,   0.5547
  09AR20060102,  S04I,    74,  1,     21,     21,2,20060209,0106,-63.6678,  60.0018, 4368,     39.7,   0.5549,  33.8013,2,  33.8230,2,    337.6,2,    337.6,2,    45.40,2,    27.21,2,   2165.4,2,   -999.0,9,2,     0.96,2,    0.468,    0.067,2,   0.5534
  09AR20060102,  S04I,    74,  1,     20,     20,2,20060209,0106,-63.6678,  60.0018, 4368,     80.0,  -1.1103,  34.1348,2,  34.1293,2,    311.5,2,    311.2,2,    68.40,2,    29.38,2,   2201.2,2,   -999.0,9,2,     0.97,2,    1.568,    0.020,2,  -1.1123
  09AR20060102,  S04I,    74,  1,     19,     19,2,20060209,0106,-63.6678,  60.0018, 4368,     89.7,  -0.6513,  34.2259,2,  34.2195,2,    299.0,2,    284.8,3,    63.30,2,    27.13,3,   2215.4,2,   -999.0,9,2,     0.97,2,    1.516,    0.007,2,  -0.6540
  09AR20060102,  S04I,    74,  1,     18,     18,2,20060209,0106,-63.6678,  60.0018, 4368,    109.1,   0.1172,  34.3536,2,  34.3645,2,    268.3,2,    238.3,3,    74.10,2,    32.02,2,   2237.8,2,   -999.0,9,2,     0.98,2,    0.891,    0.004,2,   0.1132
  09AR20060102,  S04I,    74,  1,     17,     17,2,20060209,0106,-63.6678,  60.0018, 4368,    140.9,   1.2324,  34.5264,2,  34.5264,2,    211.8,2,    194.3,3,    84.80,2,    34.02,2,   2255.5,2,   -999.0,9,2,     0.99,2,    0.141,    0.000,2,   1.2258
  09AR20060102,  S04I,    74,  1,     16,     16,2,20060209,0106,-63.6678,  60.0018, 4368,    200.6,   1.6299,  34.6155,2,  34.6152,2,    181.3,2,    181.2,2,    85.90,2,    33.31,2,   2261.3,2,   -999.0,9,2,     0.99,2,   -0.034,    0.000,2,   1.6198
  09AR20060102,  S04I,    74,  1,     15,     15,2,20060209,0106,-63.6678,  60.0018, 4368,    298.8,   1.7072,  34.6706,2,  34.6713,2,    180.9,2,    181.5,2,    90.20,2,    32.70,2,   -999.0,9,   -999.0,9,2,     0.99,2,   -0.036,    0.000,2,   1.6916
  09AR20060102,  S04I,    74,  1,     14,     14,2,20060209,0106,-63.6678,  60.0018, 4368,    400.7,   1.6841,  34.7007,2,  34.7011,2,    185.4,2,    185.2,2,    88.70,2,    32.26,2,   -999.0,9,   -999.0,9,2,     0.99,2,   -0.042,    0.000,2,   1.6629
  09AR20060102,  S04I,    74,  1,     13,     13,2,20060209,0106,-63.6678,  60.0018, 4368,    499.3,   1.6379,  34.7154,2,  34.7164,2,    188.9,2,    188.6,2,    91.40,2,    31.28,2,   -999.0,9,   -999.0,9,2,     0.99,2,   -0.040,    0.000,2,   1.6113
  09AR20060102,  S04I,    74,  1,     12,     12,2,20060209,0106,-63.6678,  60.0018, 4368,    700.0,   1.4958,  34.7305,2,  34.7312,2,    195.1,2,    194.5,2,    93.80,2,    30.56,2,   -999.0,9,   -999.0,9,2,     0.99,2,   -0.040,    0.000,2,   1.4581
  09AR20060102,  S04I,    74,  1,     11,     11,2,20060209,0106,-63.6678,  60.0018, 4368,   1000.8,   1.1906,  34.7259,2,  34.7270,2,    200.1,2,    200.1,2,   102.50,2,    31.01,2,   -999.0,9,   -999.0,9,2,     0.99,2,   -0.041,    0.000,2,   1.1366
  09AR20060102,  S04I,    74,  1,     10,     10,2,20060209,0106,-63.6678,  60.0018, 4368,   1199.3,   1.0075,  34.7185,2,  34.7194,2,    202.0,2,    202.2,2,   106.80,2,    31.20,2,   -999.0,9,   -999.0,9,2,     0.99,2,   -0.045,    0.000,2,   0.9425
  09AR20060102,  S04I,    74,  1,      9,      9,2,20060209,0106,-63.6678,  60.0018, 4368,   1699.7,   0.6426,  34.7000,2,  34.7004,2,    204.9,2,    205.4,2,   122.20,2,    31.98,2,   -999.0,9,   -999.0,9,2,     0.99,2,   -0.043,    0.000,2,   0.5484
  09AR20060102,  S04I,    74,  1,      8,      8,2,20060209,0106,-63.6678,  60.0018, 4368,   2200.4,   0.3849,  34.6866,2,  34.6860,2,    209.8,2,    209.9,2,   129.40,2,    32.75,2,   -999.0,9,   -999.0,9,2,     0.99,2,   -0.046,    0.000,2,   0.2582
  09AR20060102,  S04I,    74,  1,      7,      7,2,20060209,0106,-63.6678,  60.0018, 4368,   2700.1,   0.1921,  34.6778,2,  34.6770,2,    216.5,2,    216.5,2,   127.90,2,    32.36,2,   -999.0,9,   -999.0,9,2,     0.99,2,   -0.051,    0.000,2,   0.0297
  09AR20060102,  S04I,    74,  1,      6,      6,2,20060209,0106,-63.6678,  60.0018, 4368,   3200.7,   0.0442,  34.6715,2,  34.6711,2,    223.3,2,    223.6,2,   142.00,2,    32.64,2,   -999.0,9,   -999.0,9,2,     0.99,2,   -0.053,    0.000,2,  -0.1577
  09AR20060102,  S04I,    74,  1,      5,      5,2,20060209,0106,-63.6678,  60.0018, 4368,   3800.0,  -0.1446,  34.6600,2,  34.6593,2,    238.9,2,    238.9,2,   127.50,2,    31.43,2,   -999.0,9,   -999.0,9,2,     0.99,2,   -0.049,    0.000,2,  -0.3970
  09AR20060102,  S04I,    74,  1,      4,      4,2,20060209,0106,-63.6678,  60.0018, 4368,   4000.6,  -0.1756,  34.6602,2,  34.6590,2,    236.0,2,    236.2,2,   132.30,2,    31.91,2,   -999.0,9,   -999.0,9,2,     0.99,2,   -0.052,    0.000,2,  -0.4467
  09AR20060102,  S04I,    74,  1,      3,      3,2,20060209,0106,-63.6678,  60.0018, 4368,   4301.2,  -0.2657,  34.6530,2,  34.6533,2,    246.2,2,    247.0,2,   118.10,2,    31.71,2,   -999.0,9,   -999.0,9,2,     0.99,2,   -0.053,    0.000,2,  -0.5643
  09AR20060102,  S04I,    74,  1,      2,      2,2,20060209,0106,-63.6678,  60.0018, 4368,   4430.6,  -0.3126,  34.6492,2,  34.6485,2,    250.2,2,    250.4,2,   114.10,2,    31.16,2,   -999.0,9,   -999.0,9,2,     0.99,2,   -0.053,    0.000,2,  -0.6231
  09AR20060102,  S04I,    74,  1,      1,      1,2,20060209,0106,-63.6678,  60.0018, 4368,   4451.7,  -0.3193,  34.6483,2,  34.6483,2,    250.8,2,    251.1,2,   116.00,2,    31.54,2,   -999.0,9,   -999.0,9,2,     0.99,2,   -0.054,    0.000,2,  -0.6318