BOTTLE,20220816CCHSIOAMB
EXPOCODE,SECT_ID,STNNBR,CASTNO,SAMPNO,BTLNBR,BTLNBR_FLAG_W,DATE,TIME,LATITUDE,LONGITUDE,DEPTH,CTDPRS,CTDTMP,CTDSAL,CTDSAL_FLAG_W,SALNTY,SALNTY_FLAG_W,CTDOXY,CTDOXY_FLAG_W,OXYGEN,OXYGEN_FLAG_W,SILCAT,SILCAT_FLAG_W,NITRAT,NITRAT_FLAG_W,TCARBN,TCARBN_FLAG_W,ALKALI,ALKALI_FLAG_W,FLUOR_FLAG_W,XMISS,XMISS_FLAG_W,FLUOR,PAR,PAR_FLAG_W,THETA
,,,,,,,,,,,METERS,DBAR,ITS-90,PSS-78,,PSS-78,,UMOL/KG,,UMOL/KG,,UMOL/KG,,UMOL/KG,,UMOL/KG,,UMOL/KG,,,%TRANS,,VOLTS,VOLTS,,DEG C
  09AR20060102,  S04I,   102,  1,     24,     24,2,20060221,0425,-67.3193,  73.0020,  546,      9.4,  -1.2379,  33.0165,2,  33.0031,2,    353.7,3,    355.3,2,    46.30,2,    24.50,2,   2116.5,2,   -999.0,9,2,     0.79,2,    0.523,    0.236,2,  -1.2381
  09AR20060102,  S04I,   102,  1,     23,     23,2,20060221,0425,-67.3193,  73.0020,  546,     20.1,  -1.0907,  33.1522,2,-999.0000,9,    358.0,3,   -999.0,9,  -999.00,9,  -999.00,9,   -999.0,9,   -999.0,9,2,     0.85,2,    1.831,    0.095,2,  -1.0912
  09AR20060102,  S04I,   102,  1,     22,     22,2,20060221,0425,-67.3193,  73.0020,  546,     20.1,  -1.1099,  33.1169,2,-999.0000,9,    358.0,3,   -999.0,9,  -999.00,9,  -999.00,9,   -999.0,9,   -999.0,9,2,     0.86,2,    1.276,    0.098,2,  -1.1104
  09AR20060102,  S04I,   102,  1,     21,     21,2,20060221,0425,-67.3193,  73.0020,  546,     20.0,  -1.1672,  33.0807,2,  33.4231,2,    358.0,3,    356.5,2,    45.60,2,    24.62,2,   -999.0,9,   -999.0,9,2,     0.84,2,    1.149,    0.100,2,  -1.1677
  09AR20060102,  S04I,   102,  1,     20,     20,2,20060221,0425,-67.3193,  73.0020,  546,     29.4,  -1.2992,  33.8861,2,  34.0175,2,    352.5,2,    352.6,2,    47.30,2,    25.09,2,   2174.2,2,   -999.0,9,2,     0.80,2,   12.201,    0.026,2,  -1.2999
  09AR20060102,  S04I,   102,  1,     19,     19,2,20060221,0425,-67.3193,  73.0020,  546,     39.7,  -1.5841,  34.2613,2,  34.2947,2,    332.4,2,    331.4,2,    55.50,2,    27.82,2,   -999.0,9,   -999.0,9,2,     0.88,2,    9.368,    0.004,2,  -1.5849
  09AR20060102,  S04I,   102,  1,     18,     18,2,20060221,0425,-67.3193,  73.0020,  546,     49.7,  -1.7142,  34.3236,2,  34.3339,2,    318.5,2,    317.0,2,    60.80,2,    29.00,2,   2215.9,2,   -999.0,9,2,     0.92,2,    3.389,    0.001,2,  -1.7152
  09AR20060102,  S04I,   102,  1,     17,     17,2,20060221,0425,-67.3193,  73.0020,  546,     60.0,  -1.7090,  34.3499,2,  34.3541,2,    315.6,2,    313.5,2,    62.60,2,    29.28,2,   -999.0,9,   -999.0,9,2,     0.95,2,    0.514,    0.000,2,  -1.7102
  09AR20060102,  S04I,   102,  1,     16,     16,2,20060221,0425,-67.3193,  73.0020,  546,     90.2,  -1.5484,  34.3879,2,  34.3848,2,    306.3,2,    307.6,2,    63.80,2,    29.76,2,   2231.2,2,   -999.0,9,2,     0.96,2,    0.053,    0.000,2,  -1.5504
  09AR20060102,  S04I,   102,  1,     15,     15,2,20060221,0425,-67.3193,  73.0020,  546,    109.6,  -1.4260,  34.4133,2,  34.4136,2,    304.9,2,    304.8,2,    65.20,2,    29.72,2,   -999.0,9,   -999.0,9,2,     0.97,2,    0.037,    0.000,2,  -1.4286
  09AR20060102,  S04I,   102,  1,     14,     14,2,20060221,0425,-67.3193,  73.0020,  546,    129.3,  -1.5399,  34.4303,2,  34.4338,2,    310.9,2,   -999.0,9,    63.40,2,    29.72,2,   2227.7,2,   -999.0,9,2,     0.97,2,    0.091,    0.000,2,  -1.5428
  09AR20060102,  S04I,   102,  1,     13,     13,2,20060221,0425,-67.3193,  73.0020,  546,    150.0,  -1.6452,  34.4466,2,  34.4456,2,    314.4,2,    314.5,2,    63.10,2,    29.64,2,   2232.6,2,   -999.0,9,2,     0.97,2,    0.056,    0.000,2,  -1.6485
  09AR20060102,  S04I,   102,  1,     12,     12,2,20060221,0425,-67.3193,  73.0020,  546,    170.1,  -1.6935,  34.4509,2,  34.4495,2,    316.8,2,    316.0,2,    63.00,2,    29.88,2,   -999.0,9,   -999.0,9,2,     0.98,2,    0.039,    0.000,2,  -1.6972
  09AR20060102,  S04I,   102,  1,     11,     11,2,20060221,0425,-67.3193,  73.0020,  546,    210.7,  -1.8351,  34.4552,2,-999.0000,9,    321.0,2,   -999.0,9,  -999.00,9,  -999.00,9,   -999.0,9,   -999.0,9,2,     0.98,2,   -0.009,    0.000,2,  -1.8395
  09AR20060102,  S04I,   102,  1,     10,     10,2,20060221,0425,-67.3193,  73.0020,  546,    210.9,  -1.8353,  34.4550,2,-999.0000,9,    321.0,2,   -999.0,9,  -999.00,9,  -999.00,9,   -999.0,9,   -999.0,9,2,     0.98,2,    0.000,    0.000,2,  -1.8397
  09AR20060102,  S04I,   102,  1,      9,      9,2,20060221,0425,-67.3193,  73.0020,  546,    210.9,  -1.8317,  34.4548,2,-999.0000,9,    321.0,2,   -999.0,9,  -999.00,9,  -999.00,9,   -999.0,9,   -999.0,9,2,     0.98,2,    0.023,    0.000,2,  -1.8361
  09AR20060102,  S04I,   102,  1,      8,      8,2,20060221,0425,-67.3193,  73.0020,  546,    210.9,  -1.8292,  34.4548,2,-999.0000,9,    321.0,2,   -999.0,9,  -999.00,9,  -999.00,9,   -999.0,9,   -999.0,9,2,     0.98,2,    0.007,    0.000,2,  -1.8336
  09AR20060102,  S04I,   102,  1,      7,      7,2,20060221,0425,-67.3193,  73.0020,  546,    210.8,  -1.8292,  34.4548,2,  34.4542,2,    321.0,2,    321.4,2,    61.30,2,    29.70,2,   2231.7,2,   -999.0,9,2,     0.98,2,    0.030,    0.000,2,  -1.8336
  09AR20060102,  S04I,   102,  1,      6,      6,2,20060221,0425,-67.3193,  73.0020,  546,    210.7,  -1.8307,  34.4548,2,  34.4544,2,    321.0,2,    322.0,2,    62.70,2,    29.72,2,   -999.0,9,   -999.0,9,2,     0.98,2,    0.012,    0.000,2,  -1.8351
  09AR20060102,  S04I,   102,  1,      5,      5,2,20060221,0425,-67.3193,  73.0020,  546,    299.7,  -1.8370,  34.4600,2,  34.4593,2,    324.0,2,    324.3,2,    62.00,2,    29.65,2,   -999.0,9,   -999.0,9,2,     0.99,2,   -0.015,    0.000,2,  -1.8435
  09AR20060102,  S04I,   102,  1,      4,      4,2,20060221,0425,-67.3193,  73.0020,  546,    400.7,  -1.8052,  34.4684,2,  34.4691,2,    321.7,2,    320.9,2,    62.60,2,    29.64,2,   -999.0,9,   -999.0,9,2,     0.99,2,   -0.040,    0.000,2,  -1.8145
  09AR20060102,  S04I,   102,  1,      3,      3,2,20060221,0425,-67.3193,  73.0020,  546,    483.3,  -1.8365,  34.5078,2,  34.5168,2,    314.1,2,    314.2,2,    67.00,2,    30.13,2,   -999.0,9,   -999.0,9,2,     0.99,2,   -0.030,    0.000,2,  -1.8480
  09AR20060102,  S04I,   102,  1,      2,      2,2,20060221,0425,-67.3193,  73.0020,  546,    509.8,  -1.8834,  34.5630,2,  34.5662,2,    315.8,2,    315.6,2,    67.20,2,    30.03,2,   -999.0,9,   -999.0,9,2,     0.98,2,    0.004,    0.000,2,  -1.8955
  09AR20060102,  S04I,   102,  1,      1,      1,2,20060221,0425,-67.3193,  73.0020,  546,    552.7,  -1.8900,  34.6051,2,  34.6030,2,    316.0,2,    315.3,2,    69.50,2,    30.43,2,   -999.0,9,   -999.0,9,2,     0.98,2,    0.035,    0.000,2,  -1.9033
  09AR20060102,  S04I,   103,  1,     24,     24,2,20060224,0302,-60.9995,  80.0043, 2628,      9.6,   0.6489,  33.7490,2,  33.7495,2,    340.9,2,    339.8,2,    35.50,2,    26.44,2,   2148.2,2,   2284.4,6,2,     0.00,2,    1.109,    0.175,2,   0.6485
  09AR20060102,  S04I,   103,  1,     23,     23,2,20060224,0302,-60.9995,  80.0043, 2628,      9.4,   0.6494,  33.7476,2,-999.0000,9,    340.9,2,   -999.0,9,  -999.00,9,  -999.00,9,   -999.0,9,   -999.0,9,2,     0.00,2,    1.090,    0.181,2,   0.6490
  09AR20060102,  S04I,   103,  1,     22,     22,2,20060224,0302,-60.9995,  80.0043, 2628,      2.3,   0.6529,  33.7494,2,-999.0000,9,   -999.0,5,   -999.0,9,  -999.00,9,  -999.00,9,   -999.0,9,   -999.0,9,2,     0.09,2,    1.838,    0.487,2,   0.6528
  09AR20060102,  S04I,   103,  1,     21,     21,2,20060224,0302,-60.9995,  80.0043, 2628,      9.2,   0.6482,  33.7495,2,  33.7509,2,    340.9,2,    339.4,2,    35.70,2,    26.43,2,   -999.0,9,   -999.0,9,2,     0.21,2,    1.816,    0.169,2,   0.6478
  09AR20060102,  S04I,   103,  1,     20,     20,2,20060224,0302,-60.9995,  80.0043, 2628,     18.4,   0.6332,  33.7495,2,  33.7501,2,    341.0,2,    339.7,2,    36.10,2,    26.45,2,   2157.6,2,   2286.6,2,2,     0.46,2,    3.633,    0.061,2,   0.6325
  09AR20060102,  S04I,   103,  1,     19,     19,2,20060224,0302,-60.9995,  80.0043, 2628,     30.2,   0.6082,  33.7521,2,  33.7532,2,    340.8,2,    339.8,2,    36.80,2,    26.55,2,   -999.0,9,   -999.0,9,2,     0.73,2,    4.447,    0.022,2,   0.6070
  09AR20060102,  S04I,   103,  1,     18,     18,2,20060224,0302,-60.9995,  80.0043, 2628,     39.7,   0.5885,  33.7567,2,  33.7575,2,    337.5,2,    338.8,2,    37.00,2,    26.59,2,   -999.0,9,   -999.0,9,2,     0.90,2,    4.786,    0.011,2,   0.5870
  09AR20060102,  S04I,   103,  1,     17,     17,2,20060224,0302,-60.9995,  80.0043, 2628,     48.9,   0.3823,  33.8129,2,  33.8130,2,    329.5,2,    330.0,2,    40.90,2,    27.39,2,   -999.0,9,   -999.0,9,2,     0.91,2,    4.886,    0.006,2,   0.3805
  09AR20060102,  S04I,   103,  1,     16,     16,2,20060224,0302,-60.9995,  80.0043, 2628,     70.5,  -0.3339,  34.0126,2,  34.0091,2,    299.6,2,    301.3,2,    52.40,2,    29.75,2,   2196.2,2,   2296.0,2,2,     0.95,2,    1.884,    0.000,2,  -0.3361
  09AR20060102,  S04I,   103,  1,     15,     15,2,20060224,0302,-60.9995,  80.0043, 2628,     90.1,  -0.3912,  34.1697,2,  34.1665,2,    271.8,2,    269.2,2,    60.30,2,    31.91,2,   -999.0,9,   -999.0,9,2,     0.98,2,    0.542,    0.000,2,  -0.3941
  09AR20060102,  S04I,   103,  1,     14,     14,2,20060224,0302,-60.9995,  80.0043, 2628,    129.1,   0.5600,  34.3431,2,  34.3410,2,    216.1,2,    223.7,3,    68.40,2,    33.50,2,   -999.0,9,   -999.0,9,2,     0.99,2,    0.190,    0.000,2,   0.5548
  09AR20060102,  S04I,   103,  1,     13,     13,2,20060224,0302,-60.9995,  80.0043, 2628,    148.5,   1.3001,  34.4515,2,  34.4509,2,    195.8,2,    195.6,2,    73.30,2,    34.50,2,   2249.6,2,   2322.9,2,2,     0.99,2,    0.072,    0.000,2,   1.2931
  09AR20060102,  S04I,   103,  1,     12,     12,2,20060224,0302,-60.9995,  80.0043, 2628,    168.9,   1.4178,  34.4829,2,  34.4823,2,    192.2,2,    190.7,2,    74.30,2,    34.41,2,   2255.9,2,   2328.6,2,2,     0.99,2,    0.050,    0.000,2,   1.4096
  09AR20060102,  S04I,   103,  1,     11,     11,2,20060224,0302,-60.9995,  80.0043, 2628,    200.5,   1.7741,  34.5553,2,  34.5542,2,    179.7,2,    179.0,2,    77.20,2,    34.46,2,   2267.1,2,   2329.0,2,2,     0.99,2,    0.004,    0.000,2,   1.7637
  09AR20060102,  S04I,   103,  1,     10,     10,2,20060224,0302,-60.9995,  80.0043, 2628,    401.2,   1.9548,  34.6832,2,  34.6833,2,    175.8,2,    177.5,2,    81.60,2,    32.73,2,   -999.0,9,   -999.0,9,2,     0.99,2,   -0.029,    0.000,2,   1.9327
  09AR20060102,  S04I,   103,  1,      9,      9,2,20060224,0302,-60.9995,  80.0043, 2628,    499.2,   1.9568,  34.7112,2,  34.7111,2,    182.5,2,    183.2,2,    82.50,2,    31.65,2,   -999.0,9,   -999.0,9,2,     0.99,2,   -0.037,    0.000,2,   1.9289
  09AR20060102,  S04I,   103,  1,      8,      8,2,20060224,0302,-60.9995,  80.0043, 2628,    650.6,   1.8921,  34.7359,2,  34.7366,2,    188.3,2,    189.0,2,    83.40,2,    31.01,2,   -999.0,9,   -999.0,9,2,     0.99,2,   -0.037,    0.000,2,   1.8552
  09AR20060102,  S04I,   103,  1,      7,      7,2,20060224,0302,-60.9995,  80.0043, 2628,    801.1,   1.7864,  34.7455,2,  34.7461,2,    193.3,2,    193.7,2,    85.10,2,    30.44,2,   -999.0,9,   -999.0,9,2,     0.99,2,   -0.040,    0.000,2,   1.7406
  09AR20060102,  S04I,   103,  1,      6,      6,2,20060224,0302,-60.9995,  80.0043, 2628,   1000.5,   1.6081,  34.7484,2,  34.7494,2,    198.8,2,    198.0,2,    89.10,2,    30.41,2,   -999.0,9,   -999.0,9,2,     0.99,2,   -0.040,    0.000,2,   1.5507
  09AR20060102,  S04I,   103,  1,      5,      5,2,20060224,0302,-60.9995,  80.0043, 2628,   1499.3,   1.1633,  34.7315,2,  34.7314,2,    202.6,2,    203.0,2,   102.80,2,    30.92,2,   -999.0,9,   -999.0,9,2,     0.99,2,   -0.042,    0.000,2,   1.0765
  09AR20060102,  S04I,   103,  1,      4,      4,2,20060224,0302,-60.9995,  80.0043, 2628,   1649.7,   1.0428,  34.7251,2,  34.7255,2,    205.4,2,    205.9,2,   103.70,2,    31.06,2,   -999.0,9,   -999.0,9,2,     0.99,2,   -0.045,    0.000,2,   0.9468
  09AR20060102,  S04I,   103,  1,      3,      3,2,20060224,0302,-60.9995,  80.0043, 2628,   2000.0,   0.7507,  34.7080,2,  34.7080,2,    207.9,2,    207.7,2,   112.40,2,    31.72,2,   -999.0,9,   -999.0,9,2,     0.99,2,   -0.046,    0.000,2,   0.6331
  09AR20060102,  S04I,   103,  1,      2,      2,2,20060224,0302,-60.9995,  80.0043, 2628,   2656.3,   0.3595,  34.6870,2,  34.6872,2,    213.8,2,    213.9,2,   130.70,2,    32.46,2,   -999.0,9,   -999.0,9,2,     0.99,2,   -0.041,    0.000,2,   0.1972
  09AR20060102,  S04I,   103,  1,      1,      1,2,20060224,0302,-60.9995,  80.0043, 2628,   2668.1,   0.3601,  34.6869,2,  34.6868,2,    213.8,2,    213.1,2,   130.70,2,    32.52,2,   -999.0,9,   -999.0,9,2,     0.99,2,   -0.042,    0.000,2,   0.1968
  09AR20060102,  S04I,   104,  1,     24,     24,2,20060224,1014,-61.6628,  80.0023, 2328,      9.3,   0.7039,  33.7893,2,  33.7900,2,    340.2,2,    339.1,2,    42.50,2,    26.13,2,   2155.1,2,   2287.6,2,2,     0.93,2,    2.763,    0.111,2,   0.7035
  09AR20060102,  S04I,   104,  1,     23,     23,2,20060224,1014,-61.6628,  80.0023, 2328,      9.1,   0.7107,  33.7886,2,-999.0000,9,    340.2,2,   -999.0,9,  -999.00,9,  -999.00,9,   -999.0,9,   -999.0,9,2,     0.93,2,    2.607,    0.110,2,   0.7103
  09AR20060102,  S04I,   104,  1,     22,     22,2,20060224,1014,-61.6628,  80.0023, 2328,      9.0,   0.6972,  33.7902,2,-999.0000,9,    340.1,2,   -999.0,9,  -999.00,9,  -999.00,9,   -999.0,9,   -999.0,9,2,     0.92,2,    2.732,    0.108,2,   0.6968
  09AR20060102,  S04I,   104,  1,     21,     21,2,20060224,1014,-61.6628,  80.0023, 2328,     19.6,   0.6932,  33.7910,2,  33.7915,2,    339.5,2,    338.5,2,    39.00,2,    26.89,2,   2154.6,6,   -999.0,9,2,     0.93,2,    3.003,    0.034,2,   0.6924
  09AR20060102,  S04I,   104,  1,     20,     20,2,20060224,1014,-61.6628,  80.0023, 2328,     29.6,   0.6941,  33.7923,2,  33.7935,2,    338.6,2,    338.3,2,    38.60,2,    26.89,2,   2155.5,2,   2279.8,2,2,     0.93,2,    3.096,    0.018,2,   0.6929
  09AR20060102,  S04I,   104,  1,     19,     19,2,20060224,1014,-61.6628,  80.0023, 2328,     44.7,   0.6411,  33.8031,2,  33.8050,2,    335.7,2,    336.7,2,    39.70,2,    27.18,2,   2158.2,2,   -999.0,9,2,     0.92,2,    3.696,    0.006,2,   0.6393
  09AR20060102,  S04I,   104,  1,     18,     18,2,20060224,1014,-61.6628,  80.0023, 2328,     49.6,   0.6165,  33.8189,2,  33.8240,2,    332.2,2,    333.6,2,    43.80,2,    26.29,2,   2159.1,2,   -999.0,9,2,     0.92,2,    3.807,    0.004,2,   0.6146
  09AR20060102,  S04I,   104,  1,     17,     17,2,20060224,1014,-61.6628,  80.0023, 2328,     60.9,   0.1855,  33.9128,2,  33.9295,2,    318.3,2,    317.6,2,    51.30,2,    27.98,2,   2177.5,2,   2291.3,2,2,     0.94,2,    3.178,    0.001,2,   0.1833
  09AR20060102,  S04I,   104,  1,     16,     16,2,20060224,1014,-61.6628,  80.0023, 2328,     68.6,  -0.3651,  34.0345,2,  34.0173,2,    302.3,2,    304.7,2,    54.30,2,    29.77,2,   2190.2,2,   -999.0,9,2,     0.96,2,    1.455,    0.000,2,  -0.3673
  09AR20060102,  S04I,   104,  1,     15,     15,2,20060224,1014,-61.6628,  80.0023, 2328,     79.7,  -0.6164,  34.1210,2,  34.1222,2,    287.1,2,    286.7,2,    58.70,2,    31.10,2,   2208.3,2,   2302.6,6,2,     0.97,2,    0.821,    0.000,2,  -0.6188
  09AR20060102,  S04I,   104,  1,     14,     14,2,20060224,1014,-61.6628,  80.0023, 2328,     89.1,  -0.5470,  34.1904,2,  34.1855,2,    272.9,2,    273.4,2,    61.00,2,    31.96,2,   2216.3,2,   -999.0,9,2,     0.98,2,    0.575,    0.000,2,  -0.5497
  09AR20060102,  S04I,   104,  1,     13,     13,2,20060224,1014,-61.6628,  80.0023, 2328,    109.2,  -0.0088,  34.3160,2,  34.3118,2,    241.2,2,    241.0,2,    68.90,2,    32.96,2,   2232.2,2,   2317.7,2,2,     0.98,2,    0.253,    0.000,2,  -0.0127
  09AR20060102,  S04I,   104,  1,     12,     12,2,20060224,1014,-61.6628,  80.0023, 2328,    149.9,   1.2027,  34.5200,2,  34.5187,2,    203.6,2,    192.2,3,    81.80,2,    34.29,2,   2254.7,2,   2326.3,2,2,     0.99,2,    0.042,    0.000,2,   1.1957
  09AR20060102,  S04I,   104,  1,     11,     11,2,20060224,1014,-61.6628,  80.0023, 2328,    200.7,   1.8538,  34.6376,2,  34.6378,2,    172.2,2,    172.5,2,    84.20,2,    34.03,2,   2261.1,2,   2336.1,6,2,     0.99,2,   -0.004,    0.000,2,   1.8433
  09AR20060102,  S04I,   104,  1,     10,     10,2,20060224,1014,-61.6628,  80.0023, 2328,    301.8,   1.9454,  34.6898,2,  34.6899,2,    171.9,2,    174.4,2,    85.10,2,    33.01,2,   2259.5,6,   -999.0,9,2,     0.99,2,   -0.022,    0.000,2,   1.9291
  09AR20060102,  S04I,   104,  1,      9,      9,2,20060224,1014,-61.6628,  80.0023, 2328,    399.9,   1.9192,  34.7147,2,  34.7149,2,    176.6,2,    180.8,2,    84.80,2,    32.19,2,   2255.3,2,   -999.0,9,2,     0.99,2,   -0.031,    0.000,2,   1.8973
  09AR20060102,  S04I,   104,  1,      8,      8,2,20060224,1014,-61.6628,  80.0023, 2328,    500.2,   1.8734,  34.7284,2,  34.7292,2,    182.4,2,    184.9,2,    86.60,2,    31.63,2,   2254.6,2,   -999.0,9,2,     0.99,2,   -0.030,    0.000,2,   1.8457
  09AR20060102,  S04I,   104,  1,      7,      7,2,20060224,1014,-61.6628,  80.0023, 2328,    699.6,   1.7475,  34.7437,2,  34.7443,2,    191.1,2,    191.9,2,    89.90,2,    30.96,2,   2251.7,2,   -999.0,9,2,     0.98,2,   -0.036,    0.000,2,   1.7084
  09AR20060102,  S04I,   104,  1,      6,      6,2,20060224,1014,-61.6628,  80.0023, 2328,    899.0,   1.5684,  34.7474,2,  34.7484,2,    197.7,2,    197.5,2,    90.70,2,    30.57,2,   2250.6,2,   -999.0,9,2,     0.99,2,   -0.041,    0.000,2,   1.5179
  09AR20060102,  S04I,   104,  1,      5,      5,2,20060224,1014,-61.6628,  80.0023, 2328,   1099.8,   1.3777,  34.7427,2,  34.7437,2,    201.8,2,    201.2,2,    95.80,2,    30.68,2,   2254.2,2,   -999.0,9,2,     0.99,2,   -0.041,    0.000,2,   1.3158
  09AR20060102,  S04I,   104,  1,      4,      4,2,20060224,1014,-61.6628,  80.0023, 2328,   1398.7,   1.0976,  34.7289,2,  34.7298,2,    205.0,2,    204.5,2,   103.30,2,    31.03,2,   2254.9,2,   -999.0,9,2,     0.99,2,   -0.045,    0.000,2,   1.0185
  09AR20060102,  S04I,   104,  1,      3,      3,2,20060224,1014,-61.6628,  80.0023, 2328,   1799.1,   0.7757,  34.7101,2,  34.7108,2,    207.4,2,    207.5,2,   115.40,2,    31.85,2,   2257.2,2,   -999.0,9,2,     0.99,2,   -0.048,    0.000,2,   0.6726
  09AR20060102,  S04I,   104,  1,      2,      2,2,20060224,1014,-61.6628,  80.0023, 2328,   2299.4,   0.4386,  34.6924,2,  34.6923,2,    211.4,2,    211.4,2,   130.40,2,    32.30,2,   2261.6,2,   -999.0,9,2,     0.99,2,   -0.045,    0.000,2,   0.3034
  09AR20060102,  S04I,   104,  1,      1,      1,2,20060224,1014,-61.6628,  80.0023, 2328,   2350.2,   0.4074,  34.6904,2,  34.6911,2,    210.9,2,    210.8,2,   132.50,2,    32.55,2,   2262.7,6,   -999.0,9,2,     0.99,2,   -0.046,    0.000,2,   0.2688