BOTTLE,20220816CCHSIOAMB
# Evaluated Bob's submitted file, appears to be more up to date than online Dataset
# Started with Bob's file as a base
# Removed duplicated PAR column
# Removed duplicated XMISS column
# Restored 999 pressure value that was erroneously made into a fill value
#BOTTLE,20180309PRINUNIVRMK
# 3/25/2013 Initialized README file  
# Data source: CCHDO + carbon data from B.Tilbrook 3/25/13 
# SHIP: Aurora Australis 
# Cruise: S04I, BROKE-West Survey, AA0606_V3 
# Region: Southern Ocean, Indian Sector 
# EXPOCODE: 09AR20060102 
# DATES: 1/2 - 3/12/2006 
# Chief Scientist: M.Rosenberg 
# 120 stations with 24 place Rosette 
# Hydro: Who - M.Rosenberg; Status - final 
# 	Notes: 	 
# Nuts: Who - M.Rosenberg; Status - final 
# 	Notes: nitrate is NO3+NO2 
# 	Severe phosphate issues, data omitted 
# O2: Who - M.Rosenberg; Status - final 
# 	Notes: 
# TCO2: Who - B.Tilbrook; Status - final 
# 	Notes: see Roden et al. 2016 
# 	Data from B.T. 3/26/13 
# TA: Who - B.Tilbrook; Status - final 
# 	Notes: see Roden et al. 2016 
# 	mostly surface samples 
# 	Data from B.T. 3/26/13 
# C14: Who - unknown; Status - collected 
# 	Notes: no data in file 
# O18: Who - unknown; Status - collected 
# 	Notes: no data in file 
# References: 
# Nicol, S.,K. Meiners, B. Raymond, BROKE-West, a large ecosystem survey of the South West Indian Ocean sector of the Southern Ocean, 30E-80E (CCAMLR Division 58.4.2), Deep-Sea Res. II, 57(9-10), 693-700, doi:10.1016/j.dsr2.2009.11.002, 2010. 
# Meijers, A.J.S., A. Klocker, N.L. Bindoff, G.D. Williams and S.J. Marsland, The circulation and water masses of the Antarctic shelf and continental slope between do and 80 E, Deep-Sea Res. II, 57,723-737, doi:10.1016/j.dsr2.2009.04.019, 2010. 
# Roden, N. P., B. Tilbrook, T. W. Trull, P. Virtue and G. D. Williams (2016) Carbon cycling dynamics in the seasonal sea-ice zone of East Antarctica, Journal of Geophysical Research: Oceans,121(12), 8749-8769, doi: 10.1002/2016JC01200 
EXPOCODE,SECT_ID,STNNBR,CASTNO,SAMPNO,BTLNBR,BTLNBR_FLAG_W,DATE,TIME,LATITUDE,LONGITUDE,DEPTH,CTDPRS,CTDTMP,CTDSAL,CTDSAL_FLAG_W,SALNTY,SALNTY_FLAG_W,CTDOXY,CTDOXY_FLAG_W,OXYGEN,OXYGEN_FLAG_W,SILCAT,SILCAT_FLAG_W,NITRAT,NITRAT_FLAG_W,TCARBN,TCARBN_FLAG_W,ALKALI,ALKALI_FLAG_W,FLUOR_FLAG_W,XMISS,XMISS_FLAG_W,FLUOR,PAR,PAR_FLAG_W,THETA
,,,,,,,,,,,METERS,DBAR,ITS-90,PSS-78,,PSS-78,,UMOL/KG,,UMOL/KG,,UMOL/KG,,UMOL/KG,,UMOL/KG,,UMOL/KG,,,%TRANS,,VOLTS,VOLTS,,DEG C
  09AR20060102,  S04I,     1,  1,     24,     24,2,20060106,0640,-43.6350,  93.0825, 2679,      8.9,  10.2970,  34.4208,2,  34.4203,2,    284.7,2,    285.0,2,     0.90,2,    13.31,2,   -999.0,9,   -999.0,9,2,     0.96,2,    0.213,    0.616,2,  10.2960
  09AR20060102,  S04I,     1,  1,     23,     23,2,20060106,0640,-43.6350,  93.0825, 2679,      8.8,  10.2955,  34.4205,2,-999.0000,9,    284.7,2,   -999.0,9,  -999.00,9,  -999.00,9,   -999.0,9,   -999.0,9,2,     0.96,2,    0.190,    1.144,2,  10.2945
  09AR20060102,  S04I,     1,  1,     22,     22,2,20060106,0640,-43.6350,  93.0825, 2679,      8.6,  10.2956,  34.4204,2,-999.0000,9,    284.7,2,   -999.0,9,  -999.00,9,  -999.00,9,   -999.0,9,   -999.0,9,2,     0.96,2,    0.200,    1.396,2,  10.2946
  09AR20060102,  S04I,     1,  1,     21,     21,2,20060106,0640,-43.6350,  93.0825, 2679,     19.1,  10.2938,  34.4203,2,  34.4205,2,    285.5,2,   -999.0,9,     0.90,2,    13.24,2,   -999.0,9,   -999.0,9,2,     0.96,2,    0.543,    0.521,2,  10.2916
  09AR20060102,  S04I,     1,  1,     20,     20,2,20060106,0640,-43.6350,  93.0825, 2679,     29.4,  10.2429,  34.4183,2,  34.4187,2,    285.9,2,   -999.0,9,     0.90,2,    13.20,2,   -999.0,9,   -999.0,9,2,     0.96,2,    0.836,    0.168,2,  10.2395
  09AR20060102,  S04I,     1,  1,     19,     19,2,20060106,0640,-43.6350,  93.0825, 2679,     38.2,  10.2215,  34.4184,2,  34.4178,2,    286.5,2,    286.9,2,     0.90,2,    13.14,2,   -999.0,9,   -999.0,9,2,     0.96,2,    0.972,    0.120,2,  10.2171
  09AR20060102,  S04I,     1,  1,     18,     18,2,20060106,0640,-43.6350,  93.0825, 2679,     48.2,  10.2000,  34.4277,2,  34.4272,2,    287.5,2,    285.7,2,     1.00,2,    13.02,2,   -999.0,9,   -999.0,9,2,     0.96,2,    1.184,    0.088,2,  10.1944
  09AR20060102,  S04I,     1,  1,     17,     17,2,20060106,0640,-43.6350,  93.0825, 2679,     59.7,   9.9101,  34.4713,2,  34.4579,2,    282.1,2,    288.7,2,     1.00,2,    12.91,2,   -999.0,9,   -999.0,9,2,     0.95,2,    1.948,    0.047,2,   9.9033
  09AR20060102,  S04I,     1,  1,     16,     16,2,20060106,0640,-43.6350,  93.0825, 2679,     68.8,  11.0070,  34.7850,2,  34.7735,2,    280.5,2,    277.4,2,     2.40,2,    10.49,2,   -999.0,9,   -999.0,9,2,     0.97,2,    1.317,    0.023,2,  10.9986
  09AR20060102,  S04I,     1,  1,     15,     15,2,20060106,0640,-43.6350,  93.0825, 2679,     77.0,  10.4308,  34.6839,2,  34.7027,2,    281.9,2,    281.8,2,     2.30,2,    11.56,2,   -999.0,9,   -999.0,9,2,     0.97,2,    1.046,    0.014,2,  10.4217
  09AR20060102,  S04I,     1,  1,     14,     14,2,20060106,0640,-43.6350,  93.0825, 2679,     99.3,   9.4653,  34.5161,2,  34.5173,2,    279.0,2,    282.5,2,     2.10,2,    13.58,2,   -999.0,9,   -999.0,9,2,     0.98,2,    0.789,    0.006,2,   9.4543
  09AR20060102,  S04I,     1,  1,     13,     13,2,20060106,0640,-43.6350,  93.0825, 2679,    120.8,  10.0973,  34.7041,2,  34.7017,2,    272.1,2,    272.6,2,     3.20,2,    13.00,2,   -999.0,9,   -999.0,9,2,     0.98,2,    0.245,    0.002,2,  10.0833
  09AR20060102,  S04I,     1,  1,     12,     12,2,20060106,0640,-43.6350,  93.0825, 2679,    148.5,  10.3936,  34.7976,2,  34.7942,2,    268.7,2,    265.5,2,     3.40,2,    11.11,2,   -999.0,9,   -999.0,9,2,     0.99,2,    0.022,    0.001,2,  10.3760
  09AR20060102,  S04I,     1,  1,     11,     11,2,20060106,0640,-43.6350,  93.0825, 2679,    201.6,  10.3034,  34.7920,2,  34.7924,2,    269.4,2,    266.7,2,     4.00,2,    12.74,2,   -999.0,9,   -999.0,9,2,     0.99,2,   -0.029,    0.000,2,  10.2796
  09AR20060102,  S04I,     1,  1,     10,     10,2,20060106,0640,-43.6350,  93.0825, 2679,    399.1,   8.3840,  34.4748,2,  34.4750,2,    272.0,2,    270.0,2,     5.00,2,    16.98,2,   -999.0,9,   -999.0,9,2,     0.99,2,   -0.038,    0.000,2,   8.3422
  09AR20060102,  S04I,     1,  1,      9,      9,2,20060106,0640,-43.6350,  93.0825, 2679,    601.3,   6.9334,  34.4559,2,  34.4583,2,    223.1,2,    214.8,2,    15.80,2,    24.55,2,   -999.0,9,   -999.0,9,2,     0.99,2,   -0.039,    0.000,2,   6.8762
  09AR20060102,  S04I,     1,  1,      8,      8,2,20060106,0640,-43.6350,  93.0825, 2679,    799.7,   4.9369,  34.3396,2,  34.3390,2,    223.5,2,   -999.0,9,    25.70,2,    28.74,2,   -999.0,9,   -999.0,9,2,     0.99,2,   -0.037,    0.000,2,   4.8720
  09AR20060102,  S04I,     1,  1,      7,      7,2,20060106,0640,-43.6350,  93.0825, 2679,   1001.3,   3.6508,  34.3413,2,  34.3408,2,    215.7,2,   -999.0,9,    39.10,2,    31.55,2,   -999.0,9,   -999.0,9,2,     0.99,2,   -0.039,    0.000,2,   3.5780
  09AR20060102,  S04I,     1,  1,      6,      6,2,20060106,0640,-43.6350,  93.0825, 2679,   1200.3,   3.2001,  34.4453,2,  34.4448,2,    193.2,2,    191.7,3,    51.90,2,    33.21,2,   -999.0,9,   -999.0,9,2,     0.99,2,   -0.032,    0.000,2,   3.1150
  09AR20060102,  S04I,     1,  1,      5,      5,2,20060106,0640,-43.6350,  93.0825, 2679,   1499.2,   2.7438,  34.5771,2,  34.5775,2,    180.8,2,    181.0,3,    60.70,2,    33.21,2,   -999.0,9,   -999.0,9,2,     0.99,2,   -0.031,    0.000,2,   2.6390
  09AR20060102,  S04I,     1,  1,      4,      4,2,20060106,0640,-43.6350,  93.0825, 2679,   1801.8,   2.5075,  34.6775,2,  34.6764,2,    186.0,2,    186.2,3,    65.90,2,    31.56,2,   -999.0,9,   -999.0,9,2,     0.99,2,   -0.030,    0.000,2,   2.3802
  09AR20060102,  S04I,     1,  1,      3,      3,2,20060106,0640,-43.6350,  93.0825, 2679,   2162.6,   2.2094,  34.7404,2,  34.7414,2,    196.8,2,   -999.0,9,    74.90,2,    30.15,2,   -999.0,9,   -999.0,9,2,     0.99,2,   -0.032,    0.000,2,   2.0553
  09AR20060102,  S04I,     1,  1,      2,      2,2,20060106,0640,-43.6350,  93.0825, 2679,   2574.7,   1.7758,  34.7476,2,  34.7465,2,    204.4,2,    204.9,3,    87.80,2,    30.27,2,   -999.0,9,   -999.0,9,2,     0.99,2,   -0.033,    0.000,2,   1.5925
  09AR20060102,  S04I,     1,  1,      1,      1,2,20060106,0640,-43.6350,  93.0825, 2679,   2681.3,   1.6742,  34.7453,2,  34.7443,2,    206.4,2,   -999.0,9,    86.00,2,    30.20,2,   -999.0,9,   -999.0,9,2,     0.99,2,   -0.035,    0.000,2,   1.4832
  09AR20060102,  S04I,     2,  1,     24,     24,2,20060110,1549,-60.6013,  78.5370, 2971,      8.4,   0.5232,  33.6946,2,  33.6958,2,    351.2,2,    351.1,2,    31.70,2,    25.41,2,   2145.7,3,   2274.1,2,2,     0.93,2,    3.035,    0.000,2,   0.5229
  09AR20060102,  S04I,     2,  1,     23,     23,2,20060110,1549,-60.6013,  78.5370, 2971,     20.3,   0.5127,  33.6955,2,-999.0000,9,    351.7,2,   -999.0,9,  -999.00,9,  -999.00,9,   -999.0,9,   -999.0,9,2,     0.93,2,    2.914,    0.000,2,   0.5119
  09AR20060102,  S04I,     2,  1,     22,     22,2,20060110,1549,-60.6013,  78.5370, 2971,     20.1,   0.5123,  33.6957,2,-999.0000,9,    351.7,2,   -999.0,9,  -999.00,9,  -999.00,9,   -999.0,9,   -999.0,9,2,     0.93,2,    3.003,    0.000,2,   0.5115
  09AR20060102,  S04I,     2,  1,     21,     21,2,20060110,1549,-60.6013,  78.5370, 2971,     20.0,   0.5106,  33.6958,2,  33.6964,2,    351.7,2,    351.5,2,    31.60,2,    25.48,2,   2146.5,3,   -999.0,9,2,     0.93,2,    2.980,    0.000,2,   0.5098
  09AR20060102,  S04I,     2,  1,     20,     20,2,20060110,1549,-60.6013,  78.5370, 2971,     30.7,   0.5012,  33.6961,2,  33.6972,2,    351.9,2,    350.6,2,    31.60,2,    25.44,2,   2145.0,3,   -999.0,9,2,     0.93,2,    2.955,    0.000,2,   0.5000
  09AR20060102,  S04I,     2,  1,     19,     19,2,20060110,1549,-60.6013,  78.5370, 2971,     39.3,   0.2452,  33.7158,2,  33.7147,2,    350.1,2,    351.7,2,    32.40,2,    25.74,2,   2146.9,3,   -999.0,9,2,     0.93,2,    3.262,    0.000,2,   0.2438
  09AR20060102,  S04I,     2,  1,     18,     18,2,20060110,1549,-60.6013,  78.5370, 2971,     49.1,  -1.0772,  33.8388,2,  33.8314,2,    342.2,2,    344.5,2,    39.30,2,    27.58,2,   2168.6,3,   -999.0,9,2,     0.96,2,    1.809,    0.000,2,  -1.0784
  09AR20060102,  S04I,     2,  1,     17,     17,2,20060110,1549,-60.6013,  78.5370, 2971,     60.4,  -1.5576,  33.8923,2,-999.0000,9,    334.0,2,   -999.0,9,  -999.00,9,  -999.00,9,   -999.0,9,   -999.0,9,2,     0.98,2,    0.829,    0.000,2,  -1.5589
  09AR20060102,  S04I,     2,  1,     16,     16,2,20060110,1549,-60.6013,  78.5370, 2971,     81.0,  -1.5610,  33.9418,2,  33.9413,2,    325.1,2,    326.8,2,    45.90,2,    29.38,2,   2186.1,3,   -999.0,9,2,     0.98,2,    0.399,    0.000,2,  -1.5627
  09AR20060102,  S04I,     2,  1,     15,     15,2,20060110,1549,-60.6013,  78.5370, 2971,     99.0,  -1.4997,  33.9794,2,  33.9794,2,    316.6,2,    319.0,2,    49.60,2,    29.92,2,   2190.3,3,   -999.0,9,2,     0.98,2,    0.373,    0.000,2,  -1.5019
  09AR20060102,  S04I,     2,  1,     14,     14,2,20060110,1549,-60.6013,  78.5370, 2971,    121.3,  -0.8813,  34.0846,2,  34.0833,2,    295.2,2,    287.5,2,    56.70,2,    31.46,2,   2209.3,3,   -999.0,9,2,     0.98,2,    0.297,    0.000,2,  -0.8847
  09AR20060102,  S04I,     2,  1,     13,     13,2,20060110,1549,-60.6013,  78.5370, 2971,    148.5,   0.7804,  34.2939,2,  34.2879,2,    255.6,2,    229.1,3,    63.40,2,    33.76,2,   2234.5,3,   -999.0,9,2,     0.99,2,    0.143,    0.000,2,   0.7741
  09AR20060102,  S04I,     2,  1,     12,     12,2,20060110,1549,-60.6013,  78.5370, 2971,    201.3,   1.8240,  34.4838,2,  34.4807,2,    205.6,2,    184.0,3,    72.70,2,    34.86,2,   2254.4,6,   -999.0,9,2,     0.99,2,    0.020,    0.000,2,   1.8136
  09AR20060102,  S04I,     2,  1,     11,     11,2,20060110,1549,-60.6013,  78.5370, 2971,    300.6,   1.9739,  34.5794,2,-999.0000,9,    179.0,2,   -999.0,9,  -999.00,9,  -999.00,9,   -999.0,9,   -999.0,9,2,     0.99,2,   -0.007,    0.000,2,   1.9576
  09AR20060102,  S04I,     2,  1,     10,     10,2,20060110,1549,-60.6013,  78.5370, 2971,    398.4,   2.0202,  34.6389,2,  34.6381,2,    175.4,2,    174.5,2,    77.80,2,    33.49,2,   2260.2,3,   -999.0,9,2,     0.99,2,   -0.013,    0.000,2,   1.9981
  09AR20060102,  S04I,     2,  1,      9,      9,2,20060110,1549,-60.6013,  78.5370, 2971,    598.4,   2.0170,  34.7053,2,  34.7049,2,    180.3,2,    181.3,2,    81.20,2,    31.92,2,   2256.6,3,   -999.0,9,2,     0.99,2,   -0.022,    0.000,2,   1.9828
  09AR20060102,  S04I,     2,  1,      8,      8,2,20060110,1549,-60.6013,  78.5370, 2971,    798.6,   1.9191,  34.7368,2,  34.7369,2,    188.4,2,    189.4,2,    81.70,2,    30.72,2,   2251.7,6,   -999.0,9,2,     0.99,2,   -0.028,    0.000,2,   1.8727
  09AR20060102,  S04I,     2,  1,      7,      7,2,20060110,1549,-60.6013,  78.5370, 2971,   1000.5,   1.7545,  34.7483,2,-999.0000,9,    195.5,2,   -999.0,9,  -999.00,9,  -999.00,9,   -999.0,9,   -999.0,9,2,     0.99,2,   -0.033,    0.000,2,   1.6960
  09AR20060102,  S04I,     2,  1,      6,      6,2,20060110,1549,-60.6013,  78.5370, 2971,   1398.1,   1.4068,  34.7431,2,  34.7445,2,    202.0,2,    202.2,2,    90.90,2,    30.52,2,   2252.8,3,   -999.0,9,2,     0.99,2,   -0.036,    0.000,2,   1.3243
  09AR20060102,  S04I,     2,  1,      5,      5,2,20060110,1549,-60.6013,  78.5370, 2971,   1799.3,   1.0300,  34.7233,2,  34.7229,2,    205.9,2,    205.6,2,   103.40,2,    31.25,2,   2258.4,3,   -999.0,9,2,     0.99,2,   -0.035,    0.000,2,   0.9233
  09AR20060102,  S04I,     2,  1,      4,      4,2,20060110,1549,-60.6013,  78.5370, 2971,   2200.2,   0.7074,  34.7042,2,  34.7043,2,    208.6,2,    208.5,2,   114.90,2,    32.06,2,   2261.5,3,   -999.0,9,2,     0.99,2,   -0.041,    0.000,2,   0.5752
  09AR20060102,  S04I,     2,  1,      3,      3,2,20060110,1549,-60.6013,  78.5370, 2971,   2598.3,   0.4720,  34.6913,2,  34.6915,2,    211.8,2,    211.8,2,   114.80,2,    32.37,2,   2261.8,3,   -999.0,9,2,     0.99,2,   -0.039,    0.000,2,   0.3122
  09AR20060102,  S04I,     2,  1,      2,      2,2,20060110,1549,-60.6013,  78.5370, 2971,   2986.7,   0.3260,  34.6834,2,  34.6835,2,    215.8,2,    215.6,2,   109.70,3,    32.60,2,   2263.2,3,   -999.0,9,2,     0.99,2,   -0.035,    0.000,2,   0.1364
  09AR20060102,  S04I,     2,  1,      1,      1,2,20060110,1549,-60.6013,  78.5370, 2971,   3076.0,   0.3248,  34.6830,2,  34.6827,2,    215.5,2,    215.5,2,   123.70,2,    32.69,2,   2260.1,3,   -999.0,9,2,     0.99,2,   -0.031,    0.000,2,   0.1273