BOTTLE,20220816CCHSIOAMB
EXPOCODE,SECT_ID,STNNBR,CASTNO,SAMPNO,BTLNBR,BTLNBR_FLAG_W,DATE,TIME,LATITUDE,LONGITUDE,DEPTH,CTDPRS,CTDTMP,CTDSAL,CTDSAL_FLAG_W,SALNTY,SALNTY_FLAG_W,CTDOXY,CTDOXY_FLAG_W,OXYGEN,OXYGEN_FLAG_W,SILCAT,SILCAT_FLAG_W,NITRAT,NITRAT_FLAG_W,TCARBN,TCARBN_FLAG_W,ALKALI,ALKALI_FLAG_W,FLUOR_FLAG_W,XMISS,XMISS_FLAG_W,FLUOR,PAR,PAR_FLAG_W,THETA
,,,,,,,,,,,METERS,DBAR,ITS-90,PSS-78,,PSS-78,,UMOL/KG,,UMOL/KG,,UMOL/KG,,UMOL/KG,,UMOL/KG,,UMOL/KG,,,%TRANS,,VOLTS,VOLTS,,DEG C
  09AR20060102,  S04I,    36,  1,     24,     24,2,20060122,1127,-67.9973,  30.0135, 3707,      8.7,  -1.5128,  33.2498,2,  33.3341,3,    342.4,2,    349.4,2,    59.10,2,    26.07,2,   2138.1,2,   2255.8,2,2,     0.10,2,    0.988,    0.193,2,  -1.5130
  09AR20060102,  S04I,    36,  1,     23,     23,2,20060122,1127,-67.9973,  30.0135, 3707,      8.6,  -1.4965,  33.2681,2,-999.0000,9,    342.4,2,   -999.0,9,  -999.00,9,  -999.00,9,   -999.0,9,   -999.0,9,2,     0.12,2,    1.087,    0.197,2,  -1.4967
  09AR20060102,  S04I,    36,  1,     22,     22,2,20060122,1127,-67.9973,  30.0135, 3707,      8.6,  -1.4976,  33.2725,2,-999.0000,9,    342.4,2,   -999.0,9,  -999.00,9,  -999.00,9,   -999.0,9,   -999.0,9,2,     0.08,2,    1.105,    0.196,2,  -1.4978
  09AR20060102,  S04I,    36,  1,     21,     21,2,20060122,1127,-67.9973,  30.0135, 3707,     15.0,  -1.4170,  33.6444,2,  34.0780,3,    342.2,2,    340.0,2,    62.80,2,    27.37,2,   2189.5,6,   -999.0,9,2,     0.07,2,    2.728,    0.112,2,  -1.4173
  09AR20060102,  S04I,    36,  1,     20,     20,2,20060122,1127,-67.9973,  30.0135, 3707,     35.1,  -1.6297,  34.2846,2,  34.2939,2,    329.9,2,    324.7,2,    65.20,2,    28.57,2,   2208.7,2,   -999.0,9,2,     0.42,2,    3.239,    0.021,2,  -1.6304
  09AR20060102,  S04I,    36,  1,     19,     19,2,20060122,1127,-67.9973,  30.0135, 3707,     49.5,  -1.7151,  34.3270,2,  34.3384,2,    319.5,2,    314.3,2,    67.40,2,    29.82,2,   2219.4,2,   -999.0,9,2,     0.52,2,    2.089,    0.006,2,  -1.7161
  09AR20060102,  S04I,    36,  1,     18,     18,2,20060122,1127,-67.9973,  30.0135, 3707,     70.0,  -1.7371,  34.3589,2,  34.3598,2,    307.0,2,    311.4,2,    68.30,2,    30.13,2,   2221.0,2,   -999.0,9,2,     0.70,2,    0.295,    0.001,2,  -1.7385
  09AR20060102,  S04I,    36,  1,     17,     17,2,20060122,1127,-67.9973,  30.0135, 3707,    100.1,  -1.7073,  34.3786,2,  34.3796,2,    304.8,2,    306.7,2,    69.50,2,    30.50,2,   2223.5,2,   -999.0,9,2,     0.94,2,    0.116,    0.000,2,  -1.7094
  09AR20060102,  S04I,    36,  1,     16,     16,2,20060122,1127,-67.9973,  30.0135, 3707,    149.6,  -1.4638,  34.4069,2,  34.4097,2,    296.2,2,    298.1,2,    70.90,2,    30.53,2,   2226.7,2,   -999.0,9,2,     0.99,2,    0.040,    0.000,2,  -1.4673
  09AR20060102,  S04I,    36,  1,     15,     15,2,20060122,1127,-67.9973,  30.0135, 3707,    200.3,  -0.9519,  34.4605,2,  34.4701,2,    279.6,2,    277.4,2,    74.60,2,    30.58,2,   2232.2,2,   -999.0,9,2,     0.99,2,   -0.003,    0.000,2,  -0.9576
  09AR20060102,  S04I,    36,  1,     14,     14,2,20060122,1127,-67.9973,  30.0135, 3707,    298.2,  -0.1869,  34.5573,2,  34.5595,2,    249.3,2,    248.4,2,    80.10,2,    30.91,2,   2242.9,2,   -999.0,9,2,     0.99,2,   -0.023,    0.000,2,  -0.1977
  09AR20060102,  S04I,    36,  1,     13,     13,2,20060122,1127,-67.9973,  30.0135, 3707,    399.9,   0.3210,  34.6220,2,  34.6227,2,    229.0,2,    229.6,2,    87.40,2,    31.02,2,   2248.1,2,   -999.0,9,2,     0.99,2,   -0.036,    0.000,2,   0.3044
  09AR20060102,  S04I,    36,  1,     12,     12,2,20060122,1127,-67.9973,  30.0135, 3707,    499.4,   0.4656,  34.6485,2,  34.6497,2,    223.1,2,    222.8,2,    91.80,2,    31.07,2,   2251.9,2,   -999.0,9,2,     0.99,2,   -0.038,    0.000,2,   0.4438
  09AR20060102,  S04I,    36,  1,     11,     11,2,20060122,1127,-67.9973,  30.0135, 3707,    598.8,   0.5031,  34.6628,2,  34.6637,2,    220.4,2,    220.1,2,    95.00,2,    31.18,2,   2252.5,6,   -999.0,9,2,     0.99,2,   -0.038,    0.000,2,   0.4763
  09AR20060102,  S04I,    36,  1,     10,     10,2,20060122,1127,-67.9973,  30.0135, 3707,    799.6,   0.4424,  34.6705,2,  34.6705,2,    218.1,2,    218.5,2,   101.70,2,    31.33,2,   2255.4,2,   -999.0,9,2,     0.99,2,   -0.041,    0.000,2,   0.4056
  09AR20060102,  S04I,    36,  1,      9,      9,2,20060122,1127,-67.9973,  30.0135, 3707,    999.1,   0.3429,  34.6710,2,  34.6699,2,    219.7,2,    219.3,2,   107.60,2,    31.64,2,   2258.3,2,   -999.0,9,2,     0.99,2,   -0.041,    0.000,2,   0.2959
  09AR20060102,  S04I,    36,  1,      8,      8,2,20060122,1127,-67.9973,  30.0135, 3707,   1200.1,   0.2590,  34.6712,2,  34.6715,2,    219.4,2,    219.5,2,   112.40,2,    31.73,2,   2258.6,2,   -999.0,9,2,     0.99,2,   -0.042,    0.000,2,   0.2013
  09AR20060102,  S04I,    36,  1,      7,      7,2,20060122,1127,-67.9973,  30.0135, 3707,   1399.3,   0.1488,  34.6665,2,  34.6668,2,    222.6,2,    222.4,2,   113.90,2,    31.61,2,   2259.7,2,   -999.0,9,2,     0.99,2,   -0.041,    0.000,2,   0.0804
  09AR20060102,  S04I,    36,  1,      6,      6,2,20060122,1127,-67.9973,  30.0135, 3707,   1798.3,   0.0324,  34.6658,2,  34.6658,2,    225.1,2,    225.1,2,   119.30,2,    31.91,2,   2260.0,2,   -999.0,9,2,     0.99,2,   -0.045,    0.000,2,  -0.0600
  09AR20060102,  S04I,    36,  1,      5,      5,2,20060122,1127,-67.9973,  30.0135, 3707,   2198.7,  -0.0717,  34.6614,2,  34.6607,2,    230.2,2,    230.7,2,   118.40,2,    31.90,2,   2256.3,2,   -999.0,9,2,     0.99,2,   -0.043,    0.000,2,  -0.1903
  09AR20060102,  S04I,    36,  1,      4,      4,2,20060122,1127,-67.9973,  30.0135, 3707,   2698.2,  -0.1437,  34.6583,2,  34.6552,2,    234.7,2,    235.0,2,   117.80,2,    31.68,2,   2255.9,2,   -999.0,9,2,     0.99,2,   -0.048,    0.000,2,  -0.2990
  09AR20060102,  S04I,    36,  1,      3,      3,2,20060122,1127,-67.9973,  30.0135, 3707,   3201.2,  -0.1873,  34.6558,2,  34.6527,2,    238.2,2,    238.5,2,   118.20,2,    31.24,2,   2256.1,2,   -999.0,9,2,     0.99,2,   -0.047,    0.000,2,  -0.3836
  09AR20060102,  S04I,    36,  1,      2,      2,2,20060122,1127,-67.9973,  30.0135, 3707,   3671.3,  -0.2293,  34.6537,2,  34.6629,2,    241.0,2,    241.3,2,   119.60,2,    31.64,2,   2254.2,2,   -999.0,9,2,     0.99,2,   -0.046,    0.000,2,  -0.4672
  09AR20060102,  S04I,    36,  1,      1,      1,2,20060122,1127,-67.9973,  30.0135, 3707,   3771.6,  -0.2814,  34.6531,2,  34.6627,2,    242.3,2,   -999.0,9,   118.60,2,    31.93,2,   2257.6,6,   -999.0,9,2,     0.99,2,   -0.049,    0.000,2,  -0.5273
  09AR20060102,  S04I,    37,  1,     24,     24,2,20060122,2049,-68.4987,  29.9980, 3506,      9.1,  -1.1221,  33.2128,2,  33.2195,2,    388.4,2,    386.6,2,    49.30,2,    17.77,2,   2080.5,2,   -999.0,9,2,     0.14,2,    2.382,    0.001,2,  -1.1223
  09AR20060102,  S04I,    37,  1,     23,     23,2,20060122,2049,-68.4987,  29.9980, 3506,     29.0,  -1.0483,  33.8029,2,-999.0000,9,    395.7,2,   -999.0,9,  -999.00,9,  -999.00,9,   -999.0,9,   -999.0,9,2,     0.26,2,    2.735,    0.000,2,  -1.0490
  09AR20060102,  S04I,    37,  1,     22,     22,2,20060122,2049,-68.4987,  29.9980, 3506,     29.4,  -1.0356,  33.8118,2,-999.0000,9,    393.2,2,   -999.0,9,  -999.00,9,  -999.00,9,   -999.0,9,   -999.0,9,2,     0.28,2,    2.815,    0.000,2,  -1.0363
  09AR20060102,  S04I,    37,  1,     21,     21,2,20060122,2049,-68.4987,  29.9980, 3506,     29.3,  -1.0453,  33.8056,2,  33.8738,3,    393.2,2,    359.6,3,    55.70,2,    22.34,2,   2146.1,2,   -999.0,9,2,     0.26,2,    2.982,    0.000,2,  -1.0460
  09AR20060102,  S04I,    37,  1,     20,     20,2,20060122,2049,-68.4987,  29.9980, 3506,     49.2,  -1.3013,  34.0973,2,  34.1166,2,    339.6,2,   -999.0,9,    60.80,2,    26.86,2,   2192.5,2,   -999.0,9,2,     0.47,2,    3.287,    0.000,2,  -1.3024
  09AR20060102,  S04I,    37,  1,     19,     19,2,20060122,2049,-68.4987,  29.9980, 3506,     59.7,  -1.3999,  34.1693,2,  34.1760,2,    326.8,2,   -999.0,9,    63.90,2,    28.20,2,   2204.2,2,   -999.0,9,2,     0.52,2,    1.842,    0.000,2,  -1.4013
  09AR20060102,  S04I,    37,  1,     18,     18,2,20060122,2049,-68.4987,  29.9980, 3506,     88.6,  -1.3692,  34.2292,2,  34.2360,2,    315.6,2,    322.8,2,    66.90,2,    29.04,2,   2210.7,2,   -999.0,9,2,     0.82,2,    0.638,    0.000,2,  -1.3713
  09AR20060102,  S04I,    37,  1,     17,     17,2,20060122,2049,-68.4987,  29.9980, 3506,    129.8,  -1.4857,  34.2801,2,  34.2747,2,    303.7,2,    308.0,2,    66.90,2,    30.11,2,   2215.7,2,   -999.0,9,2,     0.98,2,    0.245,    0.000,2,  -1.4887
  09AR20060102,  S04I,    37,  1,     16,     16,2,20060122,2049,-68.4987,  29.9980, 3506,    149.5,  -1.7287,  34.2891,2,  34.2892,2,    310.7,2,    310.5,2,    65.90,2,    30.28,2,   2216.7,2,   -999.0,9,2,     0.99,2,    0.296,    0.000,2,  -1.7318
  09AR20060102,  S04I,    37,  1,     15,     15,2,20060122,2049,-68.4987,  29.9980, 3506,    199.5,  -1.5280,  34.3307,2,  34.3347,2,    306.7,2,    298.3,2,    68.40,2,    30.57,2,   -999.0,9,   -999.0,9,2,     0.99,2,    0.237,    0.000,2,  -1.5326
  09AR20060102,  S04I,    37,  1,     14,     14,2,20060122,2049,-68.4987,  29.9980, 3506,    299.4,  -1.0112,  34.4367,2,  34.4366,2,    282.0,2,    280.8,2,    73.70,2,    30.71,2,   -999.0,9,   -999.0,9,2,     0.99,2,    0.016,    0.000,2,  -1.0198
  09AR20060102,  S04I,    37,  1,     13,     13,2,20060122,2049,-68.4987,  29.9980, 3506,    398.5,  -0.2513,  34.5461,2,  34.5426,2,    253.0,2,   -999.0,9,    78.70,2,    30.97,2,   -999.0,9,   -999.0,9,2,     0.99,2,    0.009,    0.000,2,  -0.2658
  09AR20060102,  S04I,    37,  1,     12,     12,2,20060122,2049,-68.4987,  29.9980, 3506,    497.8,   0.1019,  34.6015,2,  34.6052,2,    237.3,2,   -999.0,9,    86.40,2,    31.07,2,   -999.0,9,   -999.0,9,2,     0.99,2,   -0.016,    0.000,2,   0.0818
  09AR20060102,  S04I,    37,  1,     11,     11,2,20060122,2049,-68.4987,  29.9980, 3506,    599.2,   0.4750,  34.6513,2,  34.6539,2,    224.8,2,    221.4,2,    93.60,2,    31.04,2,   -999.0,9,   -999.0,9,2,     0.99,2,   -0.028,    0.000,2,   0.4483
  09AR20060102,  S04I,    37,  1,     10,     10,2,20060122,2049,-68.4987,  29.9980, 3506,    698.2,   0.5754,  34.6713,2,  34.6715,2,    217.1,2,    217.6,2,    97.60,2,    31.07,2,   -999.0,9,   -999.0,9,2,     0.99,2,   -0.026,    0.000,2,   0.5431
  09AR20060102,  S04I,    37,  1,      9,      9,2,20060122,2049,-68.4987,  29.9980, 3506,    798.8,   0.5632,  34.6773,2,  34.6760,2,    215.3,2,   -999.0,9,   101.50,2,    31.40,2,   -999.0,9,   -999.0,9,2,     0.99,2,   -0.033,    0.000,2,   0.5256
  09AR20060102,  S04I,    37,  1,      8,      8,2,20060122,2049,-68.4987,  29.9980, 3506,    897.9,   0.5156,  34.6777,2,  34.6776,2,    215.2,2,    216.6,2,   104.50,2,    31.52,2,   -999.0,9,   -999.0,9,2,     0.99,2,   -0.036,    0.000,2,   0.4729
  09AR20060102,  S04I,    37,  1,      7,      7,2,20060122,2049,-68.4987,  29.9980, 3506,    998.7,   0.4401,  34.6769,2,  34.6768,2,    215.5,2,    217.0,2,   107.10,2,    31.32,2,   -999.0,9,   -999.0,9,2,     0.99,2,   -0.039,    0.000,2,   0.3924
  09AR20060102,  S04I,    37,  1,      6,      6,2,20060122,2049,-68.4987,  29.9980, 3506,   1499.3,   0.2079,  34.6721,2,  34.6727,2,    219.5,2,   -999.0,9,   115.80,2,    31.70,2,   -999.0,9,   -999.0,9,2,     0.99,2,   -0.030,    0.000,2,   0.1326
  09AR20060102,  S04I,    37,  1,      5,      5,2,20060122,2049,-68.4987,  29.9980, 3506,   1997.5,   0.0305,  34.6666,2,  34.6660,2,    225.8,2,    226.3,2,   119.70,2,    31.99,2,   -999.0,9,   -999.0,9,2,     0.99,2,   -0.046,    0.000,2,  -0.0755
  09AR20060102,  S04I,    37,  1,      4,      4,2,20060122,2049,-68.4987,  29.9980, 3506,   2499.5,  -0.0759,  34.6614,2,  34.6613,2,    231.7,2,    231.4,2,   117.90,2,    31.70,2,   -999.0,9,   -999.0,9,2,     0.99,2,   -0.048,    0.000,2,  -0.2170
  09AR20060102,  S04I,    37,  1,      3,      3,2,20060122,2049,-68.4987,  29.9980, 3506,   2999.5,  -0.1404,  34.6579,2,  34.6572,2,    235.6,2,    235.7,2,   116.70,2,    31.60,2,   -999.0,9,   -999.0,9,2,     0.99,2,   -0.048,    0.000,2,  -0.3205
  09AR20060102,  S04I,    37,  1,      2,      2,2,20060122,2049,-68.4987,  29.9980, 3506,   3499.6,  -0.1982,  34.6547,2,  34.6519,2,    239.1,2,    239.1,2,    49.30,4,    17.75,4,   -999.0,9,   -999.0,9,2,     0.99,2,   -0.047,    0.000,2,  -0.4209
  09AR20060102,  S04I,    37,  1,      1,      1,2,20060122,2049,-68.4987,  29.9980, 3506,   3560.2,  -0.1999,  34.6546,2,-999.0000,9,    239.2,2,   -999.0,9,  -999.00,9,  -999.00,9,   -999.0,9,   -999.0,9,2,     0.99,2,   -0.047,    0.000,2,  -0.4282
  09AR20060102,  S04I,    38,  1,     24,     24,2,20060123,0204,-68.6952,  30.0045, 2982,      9.4,  -1.0770,  33.3531,2,-999.0000,9,    379.4,2,    381.4,2,    51.10,2,    20.08,2,   -999.0,9,   -999.0,9,2,     0.70,2,    1.777,    0.129,2,  -1.0772
  09AR20060102,  S04I,    38,  1,     23,     23,2,20060123,0204,-68.6952,  30.0045, 2982,     29.9,  -1.2944,  34.0759,2,-999.0000,9,    360.9,2,   -999.0,9,  -999.00,9,  -999.00,9,   -999.0,9,   -999.0,9,2,     0.90,2,    3.567,    0.018,2,  -1.2951
  09AR20060102,  S04I,    38,  1,     22,     22,2,20060123,0204,-68.6952,  30.0045, 2982,     29.9,  -1.2878,  34.0741,2,-999.0000,9,    360.9,2,   -999.0,9,  -999.00,9,  -999.00,9,   -999.0,9,   -999.0,9,2,     0.89,2,    3.640,    0.019,2,  -1.2885
  09AR20060102,  S04I,    38,  1,     21,     21,2,20060123,0204,-68.6952,  30.0045, 2982,     29.8,  -1.2845,  34.0736,2,  34.0929,2,    360.9,2,    345.5,3,    59.60,2,    26.04,2,   2181.3,2,   2312.9,6,2,     0.90,2,    3.489,    0.020,2,  -1.2852
  09AR20060102,  S04I,    38,  1,     20,     20,2,20060123,0204,-68.6952,  30.0045, 2982,     49.6,  -1.4621,  34.1710,2,  34.1790,2,    326.9,2,    320.3,2,    63.40,2,    28.38,2,   2202.7,6,   -999.0,9,2,     0.96,2,    1.297,    0.002,2,  -1.4632
  09AR20060102,  S04I,    38,  1,     19,     19,2,20060123,0204,-68.6952,  30.0045, 2982,     69.7,  -1.5660,  34.2138,2,  34.2152,2,    320.3,2,    317.4,2,    64.30,2,    29.02,2,   2208.8,2,   -999.0,9,2,     0.97,2,    0.682,    0.000,2,  -1.5675
  09AR20060102,  S04I,    38,  1,     18,     18,2,20060123,0204,-68.6952,  30.0045, 2982,     89.2,  -1.5929,  34.2375,2,  34.2432,2,    313.5,2,    313.7,2,    64.30,2,    29.66,2,   2209.7,2,   -999.0,9,2,     0.98,2,    0.423,    0.000,2,  -1.5948
  09AR20060102,  S04I,    38,  1,     17,     17,2,20060123,0204,-68.6952,  30.0045, 2982,     99.3,  -1.5513,  34.2510,2,  34.2467,2,    313.0,2,    312.7,2,    65.30,2,    29.57,2,   2212.6,2,   -999.0,9,2,     0.98,2,    0.347,    0.000,2,  -1.5535
  09AR20060102,  S04I,    38,  1,     16,     16,2,20060123,0204,-68.6952,  30.0045, 2982,    129.9,  -1.7170,  34.2611,2,  34.2622,2,    317.0,2,    316.9,2,    68.80,2,    30.15,2,   2211.4,2,   -999.0,9,2,     0.99,2,    0.148,    0.000,2,  -1.7197
  09AR20060102,  S04I,    38,  1,     15,     15,2,20060123,0204,-68.6952,  30.0045, 2982,    150.7,  -1.7473,  34.2700,2,  34.2699,2,    315.7,2,    318.0,2,    63.20,2,    30.05,2,   2212.4,2,   -999.0,9,2,     0.99,2,    0.103,    0.000,2,  -1.7504
  09AR20060102,  S04I,    38,  1,     14,     14,2,20060123,0204,-68.6952,  30.0045, 2982,    199.9,  -1.7271,  34.2940,2,  34.2916,2,    316.4,2,   -999.0,9,    64.80,2,    30.11,2,   2216.5,2,   -999.0,9,2,     0.99,2,    0.043,    0.000,2,  -1.7314
  09AR20060102,  S04I,    38,  1,     13,     13,2,20060123,0204,-68.6952,  30.0045, 2982,    300.6,  -1.4112,  34.3753,2,  34.3784,2,    284.2,2,    293.8,2,    72.70,2,    30.59,2,   2223.2,2,   -999.0,9,2,     0.99,2,    0.083,    0.000,2,  -1.4188
  09AR20060102,  S04I,    38,  1,     12,     12,2,20060123,0204,-68.6952,  30.0045, 2982,    399.3,  -0.6317,  34.5022,2,  34.5028,2,    266.3,2,    266.2,2,    77.40,2,    30.81,2,   2236.3,2,   -999.0,9,2,     0.99,2,   -0.009,    0.000,2,  -0.6450
  09AR20060102,  S04I,    38,  1,     11,     11,2,20060123,0204,-68.6952,  30.0045, 2982,    499.7,   0.0692,  34.5919,2,  34.5974,2,    241.1,2,   -999.0,9,    85.30,2,    30.84,2,   2245.2,2,   -999.0,9,2,     0.99,2,   -0.014,    0.000,2,   0.0491
  09AR20060102,  S04I,    38,  1,     10,     10,2,20060123,0204,-68.6952,  30.0045, 2982,    599.5,   0.3155,  34.6300,2,  34.6272,2,    216.5,2,    230.1,3,    90.00,2,    30.83,2,   2248.2,6,   -999.0,9,2,     0.99,2,   -0.012,    0.000,2,   0.2896
  09AR20060102,  S04I,    38,  1,      9,      9,2,20060123,0204,-68.6952,  30.0045, 2982,    699.8,   0.3641,  34.6493,2,  34.6499,2,    224.6,2,    224.8,2,    95.40,2,    31.03,2,   2251.5,2,   -999.0,9,2,     0.99,2,   -0.029,    0.000,2,   0.3329
  09AR20060102,  S04I,    38,  1,      8,      8,2,20060123,0204,-68.6952,  30.0045, 2982,    800.2,   0.3968,  34.6608,2,  34.6621,2,    221.8,2,    221.0,2,    98.80,2,    31.25,2,   2249.9,2,   -999.0,9,2,     0.99,2,   -0.036,    0.000,2,   0.3602
  09AR20060102,  S04I,    38,  1,      7,      7,2,20060123,0204,-68.6952,  30.0045, 2982,    901.2,   0.3840,  34.6674,2,  34.6680,2,    220.2,2,    220.6,2,   103.50,2,    31.35,2,   2253.7,2,   -999.0,9,2,     0.99,2,   -0.030,    0.000,2,   0.3421
  09AR20060102,  S04I,    38,  1,      6,      6,2,20060123,0204,-68.6952,  30.0045, 2982,   1001.4,   0.3664,  34.6702,2,  34.6709,2,    220.0,2,    219.6,2,   105.50,2,    31.64,2,   2254.0,2,   -999.0,9,2,     0.99,2,   -0.034,    0.000,2,   0.3191
  09AR20060102,  S04I,    38,  1,      5,      5,2,20060123,0204,-68.6952,  30.0045, 2982,   1500.9,   0.1719,  34.6714,2,  34.6717,2,    220.3,2,    220.7,2,   115.80,2,    32.05,2,   2257.7,2,   -999.0,9,2,     0.99,2,   -0.040,    0.000,2,   0.0969
  09AR20060102,  S04I,    38,  1,      4,      4,2,20060123,0204,-68.6952,  30.0045, 2982,   2000.5,  -0.0018,  34.6663,2,  34.6664,2,    226.8,2,    226.2,2,   119.00,2,    32.09,2,   2258.0,2,   -999.0,9,2,     0.99,2,   -0.043,    0.000,2,  -0.1075
  09AR20060102,  S04I,    38,  1,      3,      3,2,20060123,0204,-68.6952,  30.0045, 2982,   2500.7,  -0.0997,  34.6612,2,  34.6595,2,    232.8,2,    232.7,2,   117.80,2,    31.92,2,   2254.5,2,   -999.0,9,2,     0.99,2,   -0.048,    0.000,2,  -0.2404
  09AR20060102,  S04I,    38,  1,      2,      2,2,20060123,0204,-68.6952,  30.0045, 2982,   3000.0,  -0.1158,  34.6593,2,  34.6580,2,    234.6,2,   -999.0,9,   117.00,2,    31.84,2,   2257.6,2,   -999.0,9,2,     0.99,2,   -0.045,    0.000,2,  -0.2965
  09AR20060102,  S04I,    38,  1,      1,      1,2,20060123,0204,-68.6952,  30.0045, 2982,   3041.7,  -0.1146,  34.6593,2,  34.6590,2,    234.8,2,    234.5,2,   119.70,2,    31.91,2,   2255.2,6,   -999.0,9,2,     0.99,2,   -0.043,    0.000,2,  -0.2989