BOTTLE,20220816CCHSIOAMB
EXPOCODE,SECT_ID,STNNBR,CASTNO,SAMPNO,BTLNBR,BTLNBR_FLAG_W,DATE,TIME,LATITUDE,LONGITUDE,DEPTH,CTDPRS,CTDTMP,CTDSAL,CTDSAL_FLAG_W,SALNTY,SALNTY_FLAG_W,CTDOXY,CTDOXY_FLAG_W,OXYGEN,OXYGEN_FLAG_W,SILCAT,SILCAT_FLAG_W,NITRAT,NITRAT_FLAG_W,TCARBN,TCARBN_FLAG_W,ALKALI,ALKALI_FLAG_W,FLUOR_FLAG_W,XMISS,XMISS_FLAG_W,FLUOR,PAR,PAR_FLAG_W,THETA
,,,,,,,,,,,METERS,DBAR,ITS-90,PSS-78,,PSS-78,,UMOL/KG,,UMOL/KG,,UMOL/KG,,UMOL/KG,,UMOL/KG,,UMOL/KG,,,%TRANS,,VOLTS,VOLTS,,DEG C
  09AR20060102,  S04I,     6,  1,     24,     24,2,20060111,1649,-60.3207,  74.5925, 2554,      7.6,   0.1694,  33.7953,2,  33.7968,2,    349.6,2,    348.1,2,    35.40,2,    26.87,2,   2154.8,3,   2285.0,2,2,     0.93,2,    3.100,    0.000,2,   0.1691
  09AR20060102,  S04I,     6,  1,     23,     23,2,20060111,1649,-60.3207,  74.5925, 2554,     30.6,   0.1000,  33.7978,2,-999.0000,9,    349.1,2,   -999.0,9,  -999.00,9,  -999.00,9,   -999.0,9,   -999.0,9,2,     0.93,2,    2.989,    0.000,2,   0.0989
  09AR20060102,  S04I,     6,  1,     22,     22,2,20060111,1649,-60.3207,  74.5925, 2554,     29.8,   0.0778,  33.7966,2,-999.0000,9,    349.1,2,   -999.0,9,  -999.00,9,  -999.00,9,   -999.0,9,   -999.0,9,2,     0.93,2,    2.988,    0.000,2,   0.0768
  09AR20060102,  S04I,     6,  1,     21,     21,2,20060111,1649,-60.3207,  74.5925, 2554,     30.3,   0.1178,  33.7977,2,  33.8003,2,    349.1,2,    348.5,2,    35.10,2,    26.84,2,   2157.4,3,   -999.0,9,2,     0.93,2,    2.987,    0.000,2,   0.1167
  09AR20060102,  S04I,     6,  1,     20,     20,2,20060111,1649,-60.3207,  74.5925, 2554,     39.1,  -0.1734,  33.8092,2,  33.8085,2,    343.9,2,    345.9,2,    37.00,2,    27.18,2,   2157.0,3,   -999.0,9,2,     0.94,2,    2.787,    0.000,2,  -0.1747
  09AR20060102,  S04I,     6,  1,     19,     19,2,20060111,1649,-60.3207,  74.5925, 2554,     48.5,  -0.6554,  33.8593,2,  33.8556,2,    336.4,2,    339.8,2,    44.10,2,    27.43,2,   2165.5,3,   -999.0,9,2,     0.96,2,    2.472,    0.000,2,  -0.6568
  09AR20060102,  S04I,     6,  1,     18,     18,2,20060111,1649,-60.3207,  74.5925, 2554,     60.7,  -1.0903,  33.9428,2,  33.9440,2,    325.3,2,    322.9,2,    48.20,2,    29.26,2,   2181.4,3,   -999.0,9,2,     0.97,2,    0.824,    0.000,2,  -1.0918
  09AR20060102,  S04I,     6,  1,     17,     17,2,20060111,1649,-60.3207,  74.5925, 2554,     90.9,  -0.5385,  34.0949,2,  34.0880,2,    307.9,2,    284.2,3,    53.70,2,    31.58,2,   2202.8,3,   -999.0,9,2,     0.98,2,    0.334,    0.000,2,  -0.5413
  09AR20060102,  S04I,     6,  1,     16,     16,2,20060111,1649,-60.3207,  74.5925, 2554,    120.6,   1.0823,  34.3298,2,  34.3308,2,    268.9,2,    216.0,3,    73.30,2,    34.11,2,   2235.2,3,   -999.0,9,2,     0.99,2,    0.084,    0.000,2,   1.0769
  09AR20060102,  S04I,     6,  1,     15,     15,2,20060111,1649,-60.3207,  74.5925, 2554,    149.7,   1.7527,  34.4592,2,  34.4576,2,    221.8,2,    187.3,3,    80.80,2,    35.88,2,   2247.3,3,   -999.0,9,2,     0.99,2,    0.001,    0.000,2,   1.7451
  09AR20060102,  S04I,     6,  1,     14,     14,2,20060111,1649,-60.3207,  74.5925, 2554,    200.3,   1.8963,  34.5184,2,  34.5164,2,    193.8,2,    179.2,3,    86.70,3,    35.05,2,   2256.2,6,   -999.0,9,2,     0.99,2,   -0.001,    0.000,2,   1.8858
  09AR20060102,  S04I,     6,  1,     13,     13,2,20060111,1649,-60.3207,  74.5925, 2554,    299.5,   2.0302,  34.6062,2,  34.6062,2,    177.1,2,    173.8,2,    84.10,2,    33.82,2,   -999.0,9,   -999.0,9,2,     0.99,2,   -0.018,    0.000,2,   2.0138
  09AR20060102,  S04I,     6,  1,     12,     12,2,20060111,1649,-60.3207,  74.5925, 2554,    401.7,   2.0570,  34.6562,2,  34.6560,2,    175.0,2,    175.3,2,    86.60,2,    33.81,2,   2260.4,3,   -999.0,9,2,     0.99,2,   -0.023,    0.000,2,   2.0346
  09AR20060102,  S04I,     6,  1,     11,     11,2,20060111,1649,-60.3207,  74.5925, 2554,    501.2,   2.0472,  34.6893,2,  34.6894,2,    177.5,2,    178.6,2,    86.60,2,    33.08,2,   2252.6,3,   -999.0,9,2,     0.99,2,   -0.027,    0.000,2,   2.0188
  09AR20060102,  S04I,     6,  1,     10,     10,2,20060111,1649,-60.3207,  74.5925, 2554,    600.0,   2.0091,  34.7126,2,  34.7127,2,    181.7,2,    183.4,2,  -999.00,9,    31.90,2,   2250.0,3,   -999.0,9,2,     0.99,2,   -0.026,    0.000,2,   1.9748
  09AR20060102,  S04I,     6,  1,      9,      9,2,20060111,1649,-60.3207,  74.5925, 2554,    802.5,   1.9125,  34.7392,2,  34.7400,2,    191.0,2,    190.6,2,    90.80,3,    31.55,2,   2247.9,3,   -999.0,9,2,     1.00,2,   -0.032,    0.000,2,   1.8659
  09AR20060102,  S04I,     6,  1,      8,      8,2,20060111,1649,-60.3207,  74.5925, 2554,    999.8,   1.7590,  34.7484,2,  34.7488,2,    196.9,2,    196.6,2,    89.40,2,    29.76,2,   2247.8,6,   -999.0,9,2,     1.00,2,   -0.035,    0.000,2,   1.7005
  09AR20060102,  S04I,     6,  1,      7,      7,2,20060111,1649,-60.3207,  74.5925, 2554,   1200.1,   1.5694,  34.7483,2,  34.7488,2,    201.0,2,    200.4,2,    90.70,2,    30.47,2,   2250.7,3,   -999.0,9,2,     1.00,2,   -0.032,    0.000,2,   1.4990
  09AR20060102,  S04I,     6,  1,      6,      6,2,20060111,1649,-60.3207,  74.5925, 2554,   1400.3,   1.3618,  34.7409,2,  34.7416,2,    203.5,2,    202.9,2,    94.50,2,    30.67,2,   2247.6,3,   -999.0,9,2,     1.00,2,   -0.033,    0.000,2,   1.2796
  09AR20060102,  S04I,     6,  1,      5,      5,2,20060111,1649,-60.3207,  74.5925, 2554,   1800.9,   0.9762,  34.7198,2,  34.7196,2,    205.5,2,    206.3,2,   107.90,2,    31.76,2,   2255.7,3,   -999.0,9,2,     1.00,2,   -0.038,    0.000,2,   0.8701
  09AR20060102,  S04I,     6,  1,      4,      4,2,20060111,1649,-60.3207,  74.5925, 2554,   1999.1,   0.7823,  34.7085,2,  34.7086,2,    206.9,2,    206.9,2,   121.00,2,    32.14,2,   2258.4,3,   -999.0,9,2,     1.00,2,   -0.037,    0.000,2,   0.6643
  09AR20060102,  S04I,     6,  1,      3,      3,2,20060111,1649,-60.3207,  74.5925, 2554,   2198.6,   0.6368,  34.7003,2,  34.7004,2,    208.4,2,    208.7,2,   124.00,2,    32.69,2,   2259.7,3,   -999.0,9,2,     1.00,2,   -0.039,    0.000,2,   0.5060
  09AR20060102,  S04I,     6,  1,      2,      2,2,20060111,1649,-60.3207,  74.5925, 2554,   2470.3,   0.4457,  34.6910,2,  34.6913,2,    212.3,2,    212.2,2,   127.70,2,    32.50,2,   2259.1,3,   -999.0,9,2,     0.99,2,   -0.038,    0.000,2,   0.2969
  09AR20060102,  S04I,     6,  1,      1,      1,2,20060111,1649,-60.3207,  74.5925, 2554,   2510.4,   0.4455,  34.6908,2,  34.6907,2,    212.5,2,    212.6,2,   126.80,2,    32.56,2,   2262.2,6,   -999.0,9,2,     0.99,2,   -0.035,    0.000,2,   0.2934
  09AR20060102,  S04I,     7,  1,     24,     24,2,20060111,2039,-60.3918,  74.4627, 2944,      8.9,   0.3601,  33.7047,2,  33.7061,2,    348.4,2,    346.1,2,    37.60,2,  -999.00,9,   -999.0,9,   -999.0,9,2,     0.95,2,    1.331,    0.013,2,   0.3598
  09AR20060102,  S04I,     7,  1,     23,     23,2,20060111,2039,-60.3918,  74.4627, 2944,     29.6,  -0.1861,  33.8168,2,-999.0000,9,    348.5,2,   -999.0,9,  -999.00,9,  -999.00,9,   -999.0,9,   -999.0,9,2,     0.94,2,    2.558,    0.002,2,  -0.1871
  09AR20060102,  S04I,     7,  1,     22,     22,2,20060111,2039,-60.3918,  74.4627, 2944,     29.8,  -0.2048,  33.8196,2,-999.0000,9,    348.5,2,   -999.0,9,  -999.00,9,  -999.00,9,   -999.0,9,   -999.0,9,2,     0.94,2,    2.628,    0.002,2,  -0.2058
  09AR20060102,  S04I,     7,  1,     21,     21,2,20060111,2039,-60.3918,  74.4627, 2944,     29.4,  -0.1802,  33.8165,2,  33.8167,2,    348.5,2,    350.4,2,    36.20,2,    26.93,2,   -999.0,9,   -999.0,9,2,     0.94,2,    2.582,    0.002,2,  -0.1811
  09AR20060102,  S04I,     7,  1,     20,     20,2,20060111,2039,-60.3918,  74.4627, 2944,     40.6,  -0.4287,  33.8407,2,  33.8412,2,    347.8,2,    347.6,2,  -999.00,9,  -999.00,9,   -999.0,9,   -999.0,9,2,     0.95,2,    2.642,    0.000,2,  -0.4299
  09AR20060102,  S04I,     7,  1,     19,     19,2,20060111,2039,-60.3918,  74.4627, 2944,     50.9,  -0.6438,  33.8558,2,  33.8554,2,    345.3,2,    345.3,2,    38.40,2,    27.64,2,   -999.0,9,   -999.0,9,2,     0.96,2,    2.202,    0.000,2,  -0.6453
  09AR20060102,  S04I,     7,  1,     18,     18,2,20060111,2039,-60.3918,  74.4627, 2944,     61.1,  -0.9805,  33.8792,2,  33.8760,2,    337.3,2,    340.7,2,    42.70,2,    28.09,2,   -999.0,9,   -999.0,9,2,     0.97,2,    1.532,    0.000,2,  -0.9821
  09AR20060102,  S04I,     7,  1,     17,     17,2,20060111,2039,-60.3918,  74.4627, 2944,     67.4,  -1.2886,  33.9304,2,  33.9309,2,    332.6,2,    329.1,2,    46.20,2,    29.13,2,   -999.0,9,   -999.0,9,2,     0.98,2,    0.685,    0.000,2,  -1.2902
  09AR20060102,  S04I,     7,  1,     16,     16,2,20060111,2039,-60.3918,  74.4627, 2944,     88.3,  -0.8845,  34.0486,2,  34.0479,2,    316.0,2,    297.3,3,    52.20,2,    31.08,2,   -999.0,9,   -999.0,9,2,     0.99,2,    0.253,    0.000,2,  -0.8869
  09AR20060102,  S04I,     7,  1,     15,     15,2,20060111,2039,-60.3918,  74.4627, 2944,    117.8,   0.0994,  34.2017,2,  34.2038,2,    290.5,2,    256.6,3,    63.20,2,    32.81,2,   -999.0,9,   -999.0,9,2,     0.99,2,    0.128,    0.000,2,   0.0951
  09AR20060102,  S04I,     7,  1,     14,     14,2,20060111,2039,-60.3918,  74.4627, 2944,    155.5,   1.3731,  34.3819,2,  34.3772,2,    225.3,2,    205.0,3,    68.60,2,    34.48,2,   -999.0,9,   -999.0,9,2,     0.99,2,    0.028,    0.000,2,   1.3657
  09AR20060102,  S04I,     7,  1,     13,     13,2,20060111,2039,-60.3918,  74.4627, 2944,    166.7,   1.5175,  34.4065,2,  34.4007,2,    210.2,2,    201.2,2,    69.50,2,    34.81,2,   -999.0,9,   -999.0,9,2,     0.99,2,    0.013,    0.000,2,   1.5093
  09AR20060102,  S04I,     7,  1,     12,     12,2,20060111,2039,-60.3918,  74.4627, 2944,    202.1,   1.7731,  34.4725,2,  34.4725,2,    190.2,2,    185.8,2,    74.20,2,    34.93,2,   -999.0,9,   -999.0,9,2,     0.99,2,   -0.002,    0.000,2,   1.7627
  09AR20060102,  S04I,     7,  1,     11,     11,2,20060111,2039,-60.3918,  74.4627, 2944,    399.4,   2.0413,  34.6362,2,  34.6358,2,    174.5,2,    174.3,2,    81.50,2,    33.50,2,   -999.0,9,   -999.0,9,2,     0.99,2,   -0.028,    0.000,2,   2.0191
  09AR20060102,  S04I,     7,  1,     10,     10,2,20060111,2039,-60.3918,  74.4627, 2944,    596.6,   2.0271,  34.7070,2,  34.7072,2,    180.7,2,    182.9,2,    80.50,2,    31.50,2,   -999.0,9,   -999.0,9,2,     0.99,2,   -0.027,    0.000,2,   1.9929
  09AR20060102,  S04I,     7,  1,      9,      9,2,20060111,2039,-60.3918,  74.4627, 2944,    799.1,   1.9126,  34.7365,2,  34.7363,2,    189.4,2,    190.2,2,    82.20,2,    30.81,2,   -999.0,9,   -999.0,9,2,     0.99,2,   -0.033,    0.000,2,   1.8662
  09AR20060102,  S04I,     7,  1,      8,      8,2,20060111,2039,-60.3918,  74.4627, 2944,   1003.1,   1.7734,  34.7478,2,  34.7482,2,    196.8,2,    199.6,2,    84.60,2,    30.12,2,   -999.0,9,   -999.0,9,2,     1.00,2,   -0.032,    0.000,2,   1.7145
  09AR20060102,  S04I,     7,  1,      7,      7,2,20060111,2039,-60.3918,  74.4627, 2944,   1252.0,   1.5786,  34.7491,2,  34.7496,2,    202.6,2,    203.9,2,    88.80,2,    30.21,2,   -999.0,9,   -999.0,9,2,     1.00,2,   -0.035,    0.000,2,   1.5045
  09AR20060102,  S04I,     7,  1,      6,      6,2,20060111,2039,-60.3918,  74.4627, 2944,   1502.0,   1.3482,  34.7400,2,  34.7406,2,    205.6,2,    205.8,2,  -999.00,9,  -999.00,9,   -999.0,9,   -999.0,9,2,     1.00,2,   -0.037,    0.000,2,   1.2590
  09AR20060102,  S04I,     7,  1,      5,      5,2,20060111,2039,-60.3918,  74.4627, 2944,   1750.3,   1.0918,  34.7259,2,  34.7262,2,    206.0,2,    205.4,2,   109.50,2,    30.83,2,   -999.0,9,   -999.0,9,2,     1.00,2,   -0.038,    0.000,2,   0.9878
  09AR20060102,  S04I,     7,  1,      4,      4,2,20060111,2039,-60.3918,  74.4627, 2944,   2003.1,   0.8611,  34.7126,2,  34.7129,2,    207.0,2,    207.1,2,   124.70,3,    31.63,2,   -999.0,9,   -999.0,9,2,     1.00,2,   -0.037,    0.000,2,   0.7416
  09AR20060102,  S04I,     7,  1,      3,      3,2,20060111,2039,-60.3918,  74.4627, 2944,   2399.1,   0.6113,  34.6985,2,  34.6984,2,    209.7,2,    209.9,2,   119.20,2,    32.04,2,   -999.0,9,   -999.0,9,2,     1.00,2,   -0.041,    0.000,2,   0.4651
  09AR20060102,  S04I,     7,  1,      2,      2,2,20060111,2039,-60.3918,  74.4627, 2944,   2874.7,   0.4182,  34.6883,2,  34.6882,2,    214.6,2,    215.5,2,   129.20,2,    32.63,2,   -999.0,9,   -999.0,9,2,     0.99,2,   -0.040,    0.000,2,   0.2362
  09AR20060102,  S04I,     7,  1,      1,      1,2,20060111,2039,-60.3918,  74.4627, 2944,   2929.2,   0.4145,  34.6879,2,  34.6878,2,    215.0,2,    214.5,2,   139.70,3,    32.30,2,   -999.0,9,   -999.0,9,2,     0.99,2,   -0.038,    0.000,2,   0.2279
  09AR20060102,  S04I,     8,  1,     24,     24,2,20060112,0132,-60.6782,  73.9028, 3247,     11.2,   0.1982,  33.6321,2,  33.6317,2,    353.0,2,    352.8,2,    31.70,2,    25.04,2,   2140.1,2,   2272.0,2,2,     0.93,2,    1.224,    0.148,2,   0.1978
  09AR20060102,  S04I,     8,  1,     23,     23,2,20060112,0132,-60.6782,  73.9028, 3247,     19.9,   0.2432,  33.6742,2,-999.0000,9,    352.8,2,   -999.0,9,  -999.00,9,  -999.00,9,   -999.0,9,   -999.0,9,2,     0.93,2,    1.883,    0.069,2,   0.2425
  09AR20060102,  S04I,     8,  1,     22,     22,2,20060112,0132,-60.6782,  73.9028, 3247,     20.2,   0.2283,  33.6789,2,-999.0000,9,    352.8,2,   -999.0,9,  -999.00,9,  -999.00,9,   -999.0,9,   -999.0,9,2,     0.93,2,    1.980,    0.068,2,   0.2276
  09AR20060102,  S04I,     8,  1,     21,     21,2,20060112,0132,-60.6782,  73.9028, 3247,     19.8,   0.2000,  33.6823,2,  33.6798,2,    352.8,2,    352.4,2,    30.80,2,    25.35,2,   2140.9,6,   -999.0,9,2,     0.93,2,    2.028,    0.076,2,   0.1993
  09AR20060102,  S04I,     8,  1,     20,     20,2,20060112,0132,-60.6782,  73.9028, 3247,     28.7,  -0.0073,  33.7269,2,  33.7261,2,    352.2,2,    352.5,2,    33.80,2,    25.94,2,   2147.8,2,   -999.0,9,2,     0.93,2,    2.552,    0.033,2,  -0.0083
  09AR20060102,  S04I,     8,  1,     19,     19,2,20060112,0132,-60.6782,  73.9028, 3247,     39.5,  -0.0556,  33.7419,2,  33.7431,2,    351.5,2,    351.5,2,    33.90,2,    26.11,2,   2151.2,2,   -999.0,9,2,     0.94,2,    2.689,    0.016,2,  -0.0569
  09AR20060102,  S04I,     8,  1,     18,     18,2,20060112,0132,-60.6782,  73.9028, 3247,     51.5,  -0.5086,  33.8046,2,  33.8019,2,    348.0,2,    348.3,2,    36.70,2,    26.73,2,   2159.9,2,   -999.0,9,2,     0.95,2,    2.365,    0.005,2,  -0.5101
  09AR20060102,  S04I,     8,  1,     17,     17,2,20060112,0132,-60.6782,  73.9028, 3247,     71.1,  -1.4109,  33.8801,2,  33.8801,2,    337.9,2,    338.5,2,    43.00,2,    28.63,2,   2173.5,2,   -999.0,9,2,     0.98,2,    0.678,    0.001,2,  -1.4125
  09AR20060102,  S04I,     8,  1,     16,     16,2,20060112,0132,-60.6782,  73.9028, 3247,     77.8,  -1.4932,  33.8835,2,  33.8822,2,    334.6,2,    340.4,2,    42.80,2,    28.56,2,   2175.1,2,   -999.0,9,2,     0.98,2,    0.567,    0.001,2,  -1.4949
  09AR20060102,  S04I,     8,  1,     15,     15,2,20060112,0132,-60.6782,  73.9028, 3247,     99.7,  -1.3251,  33.9550,2,  33.9536,2,    324.3,2,    322.0,2,    51.10,2,    29.22,2,   2185.9,2,   -999.0,9,2,     0.99,2,    0.337,    0.000,2,  -1.3274
  09AR20060102,  S04I,     8,  1,     14,     14,2,20060112,0132,-60.6782,  73.9028, 3247,    119.3,  -1.0894,  33.9979,2,  33.9972,2,    313.7,2,    310.0,2,    51.00,2,    30.05,2,   2192.7,2,   -999.0,9,2,     0.99,2,    0.286,    0.000,2,  -1.0925
  09AR20060102,  S04I,     8,  1,     13,     13,2,20060112,0132,-60.6782,  73.9028, 3247,    148.3,   0.4412,  34.2180,2,  34.2164,2,    272.0,2,    249.7,3,    58.90,2,    33.04,2,   2222.0,2,   -999.0,9,2,     0.99,2,    0.105,    0.000,2,   0.4354
  09AR20060102,  S04I,     8,  1,     12,     12,2,20060112,0132,-60.6782,  73.9028, 3247,    181.3,   1.5817,  34.3984,2,  34.3980,2,    216.6,2,    199.1,3,    68.70,2,    34.40,2,   2246.4,2,   -999.0,9,2,     0.99,2,    0.007,    0.000,2,   1.5727
  09AR20060102,  S04I,     8,  1,     11,     11,2,20060112,0132,-60.6782,  73.9028, 3247,    198.9,   1.7413,  34.4387,2,  34.4374,2,    205.4,2,    191.6,3,    69.30,2,    34.54,2,   2248.2,6,   -999.0,9,2,     0.99,2,   -0.007,    0.000,2,   1.7311
  09AR20060102,  S04I,     8,  1,     10,     10,2,20060112,0132,-60.6782,  73.9028, 3247,    398.8,   2.0209,  34.6153,2,  34.6152,2,    176.8,2,    175.2,2,    78.60,2,    33.80,2,   2257.4,2,   -999.0,9,2,     0.99,2,   -0.021,    0.000,2,   1.9988
  09AR20060102,  S04I,     8,  1,      9,      9,2,20060112,0132,-60.6782,  73.9028, 3247,    600.5,   2.0278,  34.6919,2,  34.6915,2,    180.8,2,    180.4,2,    82.00,2,    32.11,2,   2255.8,2,   -999.0,9,2,     0.99,2,   -0.024,    0.000,2,   1.9934
  09AR20060102,  S04I,     8,  1,      8,      8,2,20060112,0132,-60.6782,  73.9028, 3247,    799.5,   1.9371,  34.7301,2,  34.7304,2,    188.9,2,    189.8,2,    83.90,2,    30.85,2,   2247.5,2,   -999.0,9,2,     0.99,2,   -0.029,    0.000,2,   1.8905
  09AR20060102,  S04I,     8,  1,      7,      7,2,20060112,0132,-60.6782,  73.9028, 3247,   1000.1,   1.7893,  34.7455,2,  34.7461,2,    195.9,2,    197.3,2,    85.20,2,    30.43,2,   2248.9,2,   -999.0,9,2,     1.00,2,   -0.031,    0.000,2,   1.7305
  09AR20060102,  S04I,     8,  1,      6,      6,2,20060112,0132,-60.6782,  73.9028, 3247,   1401.1,   1.4408,  34.7433,2,  34.7437,2,    204.0,2,    204.4,2,    93.30,2,    30.19,2,   2250.4,2,   -999.0,9,2,     1.00,2,   -0.036,    0.000,2,   1.3577
  09AR20060102,  S04I,     8,  1,      5,      5,2,20060112,0132,-60.6782,  73.9028, 3247,   1801.5,   1.0592,  34.7233,2,  34.7241,2,    207.1,2,    206.8,2,   104.10,2,    31.00,2,   2255.1,2,   -999.0,9,2,     1.00,2,   -0.035,    0.000,2,   0.9519
  09AR20060102,  S04I,     8,  1,      4,      4,2,20060112,0132,-60.6782,  73.9028, 3247,   2197.9,   0.7525,  34.7055,2,  34.7052,2,    209.5,2,    209.4,2,   111.80,2,    31.66,2,   2259.8,2,   -999.0,9,2,     1.00,2,   -0.040,    0.000,2,   0.6197
  09AR20060102,  S04I,     8,  1,      3,      3,2,20060112,0132,-60.6782,  73.9028, 3247,   2705.1,   0.4437,  34.6887,2,  34.6884,2,    214.2,2,    214.9,2,   122.00,2,    32.07,2,   2260.2,2,   -999.0,9,2,     1.00,2,   -0.040,    0.000,2,   0.2756
  09AR20060102,  S04I,     8,  1,      2,      2,2,20060112,0132,-60.6782,  73.9028, 3247,   3212.9,   0.1753,  34.6758,2,  34.6750,2,    222.0,2,    223.1,2,   127.60,2,    32.49,2,   -999.0,9,   -999.0,9,2,     1.00,2,   -0.042,    0.000,2,  -0.0308
  09AR20060102,  S04I,     8,  1,      1,      1,2,20060112,0132,-60.6782,  73.9028, 3247,   3288.8,   0.1483,  34.6743,2,  34.6737,2,    223.2,2,    221.5,2,   130.20,2,    32.46,2,   2259.2,6,   -999.0,9,2,     0.99,2,   -0.040,    0.000,2,  -0.0640