BOTTLE,20220816CCHSIOAMB
EXPOCODE,SECT_ID,STNNBR,CASTNO,SAMPNO,BTLNBR,BTLNBR_FLAG_W,DATE,TIME,LATITUDE,LONGITUDE,DEPTH,CTDPRS,CTDTMP,CTDSAL,CTDSAL_FLAG_W,SALNTY,SALNTY_FLAG_W,CTDOXY,CTDOXY_FLAG_W,OXYGEN,OXYGEN_FLAG_W,SILCAT,SILCAT_FLAG_W,NITRAT,NITRAT_FLAG_W,TCARBN,TCARBN_FLAG_W,ALKALI,ALKALI_FLAG_W,FLUOR_FLAG_W,XMISS,XMISS_FLAG_W,FLUOR,PAR,PAR_FLAG_W,THETA
,,,,,,,,,,,METERS,DBAR,ITS-90,PSS-78,,PSS-78,,UMOL/KG,,UMOL/KG,,UMOL/KG,,UMOL/KG,,UMOL/KG,,UMOL/KG,,,%TRANS,,VOLTS,VOLTS,,DEG C
  09AR20060102,  S04I,   114,  1,     24,     24,2,20060227,0954,-65.9517,  79.9963, 1512,      9.9,  -0.5799,  33.4671,2,  33.4683,2,    348.2,2,    347.8,2,    51.10,2,    25.42,2,   2153.3,2,   2264.0,2,2,     0.96,2,    0.558,    0.194,2,  -0.5802
  09AR20060102,  S04I,   114,  1,     23,     23,2,20060227,0954,-65.9517,  79.9963, 1512,      9.9,  -0.5766,  33.4683,2,-999.0000,9,    348.2,2,   -999.0,9,  -999.00,9,  -999.00,9,   -999.0,9,   -999.0,9,2,     0.96,2,    0.613,    0.193,2,  -0.5769
  09AR20060102,  S04I,   114,  1,     22,     22,2,20060227,0954,-65.9517,  79.9963, 1512,      9.8,  -0.5723,  33.4700,2,-999.0000,9,    348.2,2,   -999.0,9,  -999.00,9,  -999.00,9,   -999.0,9,   -999.0,9,2,     0.96,2,    0.538,    0.190,2,  -0.5726
  09AR20060102,  S04I,   114,  1,     21,     21,2,20060227,0954,-65.9517,  79.9963, 1512,     19.5,  -0.5760,  33.4710,2,  33.4923,2,    348.5,2,    347.1,2,    49.50,2,    25.50,2,   2149.2,6,   -999.0,9,2,     0.96,2,    0.656,    0.089,2,  -0.5765
  09AR20060102,  S04I,   114,  1,     20,     20,2,20060227,0954,-65.9517,  79.9963, 1512,     30.0,  -0.6076,  33.6795,2,  33.6794,2,    340.9,2,    340.2,2,    53.00,2,    26.46,2,   2164.7,2,   -999.0,9,2,     0.96,2,    0.769,    0.045,2,  -0.6085
  09AR20060102,  S04I,   114,  1,     19,     19,2,20060227,0954,-65.9517,  79.9963, 1512,     39.3,  -0.9810,  33.7857,2,  33.7993,2,    333.6,2,    337.1,2,    54.40,2,    26.80,2,   -999.0,9,   -999.0,9,2,     0.96,2,    0.839,    0.030,2,  -0.9820
  09AR20060102,  S04I,   114,  1,     18,     18,2,20060227,0954,-65.9517,  79.9963, 1512,     49.8,  -1.5896,  34.1056,2,  34.1077,2,    327.4,2,    326.5,2,    57.40,2,    28.10,2,   2199.2,2,   -999.0,9,2,     0.98,2,    0.650,    0.019,2,  -1.5906
  09AR20060102,  S04I,   114,  1,     17,     17,2,20060227,0954,-65.9517,  79.9963, 1512,     58.9,  -1.6952,  34.1884,2,  34.1868,2,    324.7,2,    321.8,2,    59.70,2,    28.67,2,   -999.0,9,   -999.0,9,2,     0.98,2,    0.556,    0.013,2,  -1.6964
  09AR20060102,  S04I,   114,  1,     16,     16,2,20060227,0954,-65.9517,  79.9963, 1512,     69.4,  -1.7599,  34.2487,2,  34.2469,2,    319.6,2,    317.9,2,    64.60,2,    29.41,2,   2218.0,2,   -999.0,9,2,     0.99,2,    0.241,    0.009,2,  -1.7613
  09AR20060102,  S04I,   114,  1,     15,     15,2,20060227,0954,-65.9517,  79.9963, 1512,     80.0,  -1.7650,  34.2540,2,  34.2530,2,    317.1,2,    317.6,2,    62.50,2,    29.41,2,   -999.0,9,   -999.0,9,2,     0.99,2,    0.209,    0.006,2,  -1.7666
  09AR20060102,  S04I,   114,  1,     14,     14,2,20060227,0954,-65.9517,  79.9963, 1512,     89.8,  -1.7672,  34.2595,2,  34.2597,2,    316.6,2,    317.2,2,    62.30,2,    29.45,2,   2212.6,2,   -999.0,9,2,     0.99,2,    0.167,    0.004,2,  -1.7690
  09AR20060102,  S04I,   114,  1,     13,     13,2,20060227,0954,-65.9517,  79.9963, 1512,    119.6,  -1.7890,  34.2758,2,  34.2771,2,    317.0,2,    317.2,2,    61.80,2,    29.58,2,   2231.0,2,   -999.0,9,2,     0.99,2,    0.043,    0.001,2,  -1.7914
  09AR20060102,  S04I,   114,  1,     12,     12,2,20060227,0954,-65.9517,  79.9963, 1512,    149.7,  -1.8029,  34.2957,2,  34.2961,2,    317.6,2,    318.4,2,    62.40,2,    29.74,2,   2215.3,2,   -999.0,9,2,     0.99,2,    0.008,    0.000,2,  -1.8059
  09AR20060102,  S04I,   114,  1,     11,     11,2,20060227,0954,-65.9517,  79.9963, 1512,    200.3,  -1.8039,  34.3256,2,  34.3259,2,    317.7,2,    317.9,2,    61.80,2,    29.67,2,   2215.2,2,   -999.0,9,2,     0.99,2,   -0.029,    0.000,2,  -1.8081
  09AR20060102,  S04I,   114,  1,     10,     10,2,20060227,0954,-65.9517,  79.9963, 1512,    351.3,  -1.7837,  34.3669,2,  34.3668,2,    318.0,2,    318.9,2,    64.00,2,    29.62,2,   2223.1,2,   -999.0,9,2,     0.99,2,   -0.054,    0.000,2,  -1.7916
  09AR20060102,  S04I,   114,  1,      9,      9,2,20060227,0954,-65.9517,  79.9963, 1512,    499.5,  -1.5996,  34.4016,2,  34.4025,2,    311.9,2,    312.4,2,    66.90,2,    29.79,2,   2225.1,2,   -999.0,9,2,     0.99,2,   -0.054,    0.000,2,  -1.6124
  09AR20060102,  S04I,   114,  1,      8,      8,2,20060227,0954,-65.9517,  79.9963, 1512,    599.2,  -1.2359,  34.4460,2,  34.4476,2,    297.8,2,    296.0,2,    75.80,2,    30.11,2,   2230.3,2,   -999.0,9,2,     0.99,2,   -0.052,    0.000,2,  -1.2538
  09AR20060102,  S04I,   114,  1,      7,      7,2,20060227,0954,-65.9517,  79.9963, 1512,    699.6,   0.3694,  34.6206,2,  34.6231,2,    233.2,2,    228.4,2,    85.80,2,    30.73,2,   2245.4,2,   -999.0,9,2,     0.99,2,   -0.039,    0.000,2,   0.3383
  09AR20060102,  S04I,   114,  1,      6,      6,2,20060227,0954,-65.9517,  79.9963, 1512,    799.3,   0.8668,  34.6920,2,  34.6923,2,    209.2,2,    209.2,2,    94.20,2,    30.87,2,   2255.9,2,   -999.0,9,2,     0.99,2,   -0.042,    0.000,2,   0.8272
  09AR20060102,  S04I,   114,  1,      5,      5,2,20060227,0954,-65.9517,  79.9963, 1512,   1000.3,   0.7504,  34.7006,2,  34.7007,2,    208.3,2,    209.1,2,   103.50,2,    31.08,2,   2262.0,2,   -999.0,9,2,     0.99,2,   -0.041,    0.000,2,   0.7000
  09AR20060102,  S04I,   114,  1,      4,      4,2,20060227,0954,-65.9517,  79.9963, 1512,   1199.9,   0.5622,  34.6936,2,  34.6937,2,    212.2,2,    212.0,2,   108.20,2,    31.39,2,   2266.3,2,   -999.0,9,2,     0.99,2,   -0.045,    0.000,2,   0.5015
  09AR20060102,  S04I,   114,  1,      3,      3,2,20060227,0954,-65.9517,  79.9963, 1512,   1400.9,   0.4189,  34.6882,2,  34.6880,2,    215.3,2,    214.9,2,   114.10,2,    31.55,2,   2262.6,2,   -999.0,9,2,     0.99,2,   -0.046,    0.000,2,   0.3473
  09AR20060102,  S04I,   114,  1,      2,      2,2,20060227,0954,-65.9517,  79.9963, 1512,   1545.1,   0.3358,  34.6849,2,  34.6847,2,    217.1,2,    216.9,2,   114.50,2,    31.49,2,   2263.6,2,   -999.0,9,2,     0.99,2,   -0.046,    0.000,2,   0.2560
  09AR20060102,  S04I,   114,  1,      1,      1,2,20060227,0954,-65.9517,  79.9963, 1512,   1565.5,   0.3282,  34.6846,2,  34.6848,2,    217.4,2,    216.7,2,   114.90,2,    31.36,2,   2264.1,6,   -999.0,9,2,     0.99,2,   -0.047,    0.000,2,   0.2471
  09AR20060102,  S04I,   115,  1,     24,     24,2,20060227,1313,-66.0237,  79.9962, 1097,     10.4,  -1.2322,  33.2511,2,  33.2520,2,    347.1,3,    350.0,2,    51.00,2,    25.40,2,   2134.4,2,   2250.4,2,2,     0.96,2,    0.726,    0.002,2,  -1.2324
  09AR20060102,  S04I,   115,  1,     23,     23,2,20060227,1313,-66.0237,  79.9962, 1097,     10.2,  -1.2230,  33.2445,2,-999.0000,9,    347.1,3,   -999.0,9,  -999.00,9,  -999.00,9,   -999.0,9,   -999.0,9,2,     0.96,2,    0.729,    0.002,2,  -1.2232
  09AR20060102,  S04I,   115,  1,     22,     22,2,20060227,1313,-66.0237,  79.9962, 1097,     10.1,  -1.2188,  33.2522,2,-999.0000,9,    347.1,3,   -999.0,9,  -999.00,9,  -999.00,9,   -999.0,9,   -999.0,9,2,     0.96,2,    0.726,    0.003,2,  -1.2190
  09AR20060102,  S04I,   115,  1,     21,     21,2,20060227,1313,-66.0237,  79.9962, 1097,     19.7,  -1.1111,  33.3113,2,  33.3080,2,    346.4,2,    347.0,2,    52.10,2,    25.46,2,   -999.0,9,   -999.0,9,2,     0.96,2,    0.703,    0.001,2,  -1.1116
  09AR20060102,  S04I,   115,  1,     20,     20,2,20060227,1313,-66.0237,  79.9962, 1097,     30.2,  -0.9516,  33.4265,2,  33.4235,2,    341.3,2,    341.3,2,    52.80,2,    25.97,2,   2153.8,2,   2260.4,6,2,     0.96,2,    0.754,    0.000,2,  -0.9524
  09AR20060102,  S04I,   115,  1,     19,     19,2,20060227,1313,-66.0237,  79.9962, 1097,     39.1,  -0.9069,  33.8058,2,  33.4231,4,    334.5,2,   -999.0,9,    58.80,2,    27.32,2,   -999.0,9,   -999.0,9,2,     0.97,2,    0.887,    0.000,2,  -0.9079
  09AR20060102,  S04I,   115,  1,     18,     18,2,20060227,1313,-66.0237,  79.9962, 1097,     50.0,  -1.4832,  34.0646,2,  34.0563,2,    330.7,2,    328.2,2,    59.40,2,    28.09,2,   2195.3,2,   2301.0,6,2,     0.97,2,    0.874,    0.000,2,  -1.4843
  09AR20060102,  S04I,   115,  1,     17,     17,2,20060227,1313,-66.0237,  79.9962, 1097,     60.0,  -1.6227,  34.1397,2,  34.1420,2,    326.5,2,    324.5,2,    62.10,2,    28.67,2,   -999.0,9,   -999.0,9,2,     0.98,2,    0.618,    0.000,2,  -1.6239
  09AR20060102,  S04I,   115,  1,     16,     16,2,20060227,1313,-66.0237,  79.9962, 1097,     70.9,  -1.7300,  34.2193,2,  34.2178,2,    321.6,2,    321.2,2,    63.00,2,    29.32,2,   2211.4,2,   2313.5,2,2,     0.98,2,    0.451,    0.000,2,  -1.7314
  09AR20060102,  S04I,   115,  1,     15,     15,2,20060227,1313,-66.0237,  79.9962, 1097,     78.7,  -1.7460,  34.2325,2,  34.2350,2,    319.3,2,    319.9,2,    62.40,2,    29.52,2,   -999.0,9,   -999.0,9,2,     0.99,2,    0.391,    0.000,2,  -1.7476
  09AR20060102,  S04I,   115,  1,     14,     14,2,20060227,1313,-66.0237,  79.9962, 1097,     90.0,  -1.7706,  34.2508,2,  34.2556,2,    318.1,2,    319.9,2,    62.10,2,    29.58,2,   2212.7,2,   2313.2,2,2,     0.99,2,    0.237,    0.000,2,  -1.7724
  09AR20060102,  S04I,   115,  1,     13,     13,2,20060227,1313,-66.0237,  79.9962, 1097,    120.0,  -1.7846,  34.2706,2,  34.2710,2,    318.5,2,    319.3,2,    62.80,2,    29.94,2,   2216.1,2,   2310.8,2,2,     0.99,2,    0.112,    0.000,2,  -1.7870
  09AR20060102,  S04I,   115,  1,     12,     12,2,20060227,1313,-66.0237,  79.9962, 1097,    149.9,  -1.7936,  34.2845,2,  34.2849,2,    317.9,2,    318.5,2,    62.10,2,    29.98,2,   2211.8,2,   2312.6,2,2,     0.99,2,    0.069,    0.000,2,  -1.7967
  09AR20060102,  S04I,   115,  1,     11,     11,2,20060227,1313,-66.0237,  79.9962, 1097,    200.0,  -1.8071,  34.3089,2,  34.3080,2,    317.8,2,   -999.0,9,    61.90,2,    30.04,2,   2236.8,2,   2314.8,2,2,     0.99,2,   -0.003,    0.000,2,  -1.8113
  09AR20060102,  S04I,   115,  1,     10,     10,2,20060227,1313,-66.0237,  79.9962, 1097,    300.1,  -1.8168,  34.3405,2,  34.3417,2,    318.6,2,    319.5,2,    64.50,2,    30.10,2,   -999.0,9,   -999.0,9,2,     0.99,2,   -0.042,    0.000,2,  -1.8233
  09AR20060102,  S04I,   115,  1,      9,      9,2,20060227,1313,-66.0237,  79.9962, 1097,    401.3,  -1.7791,  34.3678,2,  34.3676,2,    317.8,2,    319.6,2,    65.00,2,    30.10,2,   -999.0,9,   -999.0,9,2,     0.99,2,   -0.054,    0.000,2,  -1.7884
  09AR20060102,  S04I,   115,  1,      8,      8,2,20060227,1313,-66.0237,  79.9962, 1097,    498.2,  -1.4735,  34.4101,2,  34.4101,2,    308.6,2,    305.9,2,    68.20,2,    30.30,2,   -999.0,9,   -999.0,9,2,     0.99,2,   -0.052,    0.000,2,  -1.4868
  09AR20060102,  S04I,   115,  1,      7,      7,2,20060227,1313,-66.0237,  79.9962, 1097,    599.1,  -0.2890,  34.5366,2,  34.5407,2,    264.3,2,    253.9,3,    80.30,2,    31.04,2,   -999.0,9,   -999.0,9,2,     0.99,2,   -0.040,    0.000,2,  -0.3118
  09AR20060102,  S04I,   115,  1,      6,      6,2,20060227,1313,-66.0237,  79.9962, 1097,    700.3,   0.6952,  34.6596,2,  34.6587,2,    219.4,2,    218.9,2,    91.20,2,    31.22,2,   -999.0,9,   -999.0,9,2,     0.99,2,   -0.039,    0.000,2,   0.6621
  09AR20060102,  S04I,   115,  1,      5,      5,2,20060227,1313,-66.0237,  79.9962, 1097,    799.9,   0.8703,  34.6922,2,  34.6927,2,    209.6,2,    210.0,2,    96.90,2,    31.16,2,   -999.0,9,   -999.0,9,2,     0.99,2,   -0.043,    0.000,2,   0.8306
  09AR20060102,  S04I,   115,  1,      4,      4,2,20060227,1313,-66.0237,  79.9962, 1097,    900.3,   0.8231,  34.6998,2,  34.6990,2,    208.9,2,    209.6,2,   100.90,2,    31.37,2,   -999.0,9,   -999.0,9,2,     0.99,2,   -0.040,    0.000,2,   0.7780
  09AR20060102,  S04I,   115,  1,      3,      3,2,20060227,1313,-66.0237,  79.9962, 1097,    900.2,   0.8205,  34.7001,2,-999.0000,9,    208.9,2,   -999.0,9,  -999.00,9,  -999.00,9,   -999.0,9,   -999.0,9,2,     0.99,2,   -0.043,    0.000,2,   0.7754
  09AR20060102,  S04I,   115,  1,      2,      2,2,20060227,1313,-66.0237,  79.9962, 1097,   1079.7,   0.6767,  34.6975,2,  34.6974,2,    210.6,2,    211.1,2,   107.20,2,    31.50,2,   -999.0,9,   -999.0,9,2,     0.99,2,   -0.044,    0.000,2,   0.6222
  09AR20060102,  S04I,   115,  1,      1,      1,2,20060227,1313,-66.0237,  79.9962, 1097,   1100.3,   0.6251,  34.6958,2,  34.6966,2,    211.3,2,    210.9,2,   109.20,2,    31.42,2,   -999.0,9,   -999.0,9,2,     0.99,2,   -0.041,    0.000,2,   0.5698
  09AR20060102,  S04I,   116,  1,     24,     24,2,20060227,1611,-66.1318,  79.9750,  518,      9.5,  -1.2262,  33.2233,2,-999.0000,9,    350.6,2,   -999.0,9,  -999.00,9,  -999.00,9,   -999.0,9,   -999.0,9,2,     0.96,2,    0.724,    0.000,2,  -1.2264
  09AR20060102,  S04I,   116,  1,     23,     23,2,20060227,1611,-66.1318,  79.9750,  518,      9.5,  -1.2312,  33.2261,2,-999.0000,9,    350.6,2,   -999.0,9,  -999.00,9,  -999.00,9,   -999.0,9,   -999.0,9,2,     0.96,2,    0.773,    0.000,2,  -1.2314
  09AR20060102,  S04I,   116,  1,     22,     22,2,20060227,1611,-66.1318,  79.9750,  518,      9.5,  -1.2700,  33.2094,2,-999.0000,9,    350.6,2,   -999.0,9,  -999.00,9,  -999.00,9,   -999.0,9,   -999.0,9,2,     0.96,2,    0.724,    0.000,2,  -1.2702
  09AR20060102,  S04I,   116,  1,     21,     21,2,20060227,1611,-66.1318,  79.9750,  518,      9.4,  -1.2795,  33.2069,2,  33.2111,2,    350.6,2,    349.7,2,    50.20,2,    25.30,2,   2146.5,2,   2246.9,6,2,     0.96,2,    0.696,    0.000,2,  -1.2797
  09AR20060102,  S04I,   116,  1,     20,     20,2,20060227,1611,-66.1318,  79.9750,  518,     19.8,  -1.2766,  33.2633,2,-999.0000,9,    347.1,2,   -999.0,9,  -999.00,9,  -999.00,9,   -999.0,9,   -999.0,9,2,     0.97,2,    0.718,    0.000,2,  -1.2770
  09AR20060102,  S04I,   116,  1,     19,     19,2,20060227,1611,-66.1318,  79.9750,  518,     19.6,  -1.2638,  33.2712,2,  33.2694,2,    347.1,2,    344.1,2,    50.00,2,    25.52,2,   2136.5,2,   2249.9,2,2,     0.97,2,    0.711,    0.000,2,  -1.2642
  09AR20060102,  S04I,   116,  1,     18,     18,2,20060227,1611,-66.1318,  79.9750,  518,     34.2,  -0.9501,  33.6991,2,-999.0000,9,    337.6,2,   -999.0,9,  -999.00,9,  -999.00,9,   -999.0,9,   -999.0,9,2,     0.97,2,    0.884,    0.000,2,  -0.9510
  09AR20060102,  S04I,   116,  1,     17,     17,2,20060227,1611,-66.1318,  79.9750,  518,     34.1,  -0.9486,  33.6984,2,  33.6993,2,    337.6,2,    336.2,2,    53.50,2,    26.77,2,   2168.8,2,   2281.8,2,2,     0.97,2,    0.870,    0.000,2,  -0.9495
  09AR20060102,  S04I,   116,  1,     16,     16,2,20060227,1611,-66.1318,  79.9750,  518,     39.0,  -1.0415,  33.8256,2,  33.8705,2,    334.2,2,    334.7,2,    54.80,2,    27.19,2,   2181.8,2,   2294.3,2,2,     0.97,2,    0.995,    0.000,2,  -1.0425
  09AR20060102,  S04I,   116,  1,     15,     15,2,20060227,1611,-66.1318,  79.9750,  518,     49.4,  -1.5016,  34.0635,2,-999.0000,9,    328.4,2,   -999.0,9,  -999.00,9,  -999.00,9,   -999.0,9,   -999.0,9,2,     0.97,2,    0.914,    0.000,2,  -1.5027
  09AR20060102,  S04I,   116,  1,     14,     14,2,20060227,1611,-66.1318,  79.9750,  518,     49.4,  -1.5023,  34.0637,2,  34.0635,2,    328.4,2,    328.0,2,    59.00,2,    28.30,2,   2203.2,2,   2311.5,2,2,     0.97,2,    1.013,    0.000,2,  -1.5034
  09AR20060102,  S04I,   116,  1,     13,     13,2,20060227,1611,-66.1318,  79.9750,  518,     59.6,  -1.6067,  34.1329,2,  34.1314,2,    323.6,2,    324.0,2,    58.90,2,    28.76,2,   2201.7,2,   2306.1,2,2,     0.98,2,    0.731,    0.000,2,  -1.6079
  09AR20060102,  S04I,   116,  1,     12,     12,2,20060227,1611,-66.1318,  79.9750,  518,     70.5,  -1.7340,  34.2262,2,  34.2248,2,    321.5,2,    319.1,3,    61.60,2,    29.40,2,   2212.3,2,   2314.8,2,2,     0.98,2,    0.455,    0.000,2,  -1.7354
  09AR20060102,  S04I,   116,  1,     11,     11,2,20060227,1611,-66.1318,  79.9750,  518,     79.4,  -1.7664,  34.2526,2,-999.0000,9,    321.0,2,   -999.0,9,  -999.00,9,  -999.00,9,   -999.0,9,   -999.0,9,2,     0.99,2,    0.259,    0.000,2,  -1.7680
  09AR20060102,  S04I,   116,  1,     10,     10,2,20060227,1611,-66.1318,  79.9750,  518,     79.3,  -1.7664,  34.2525,2,  34.2516,2,    321.0,2,    323.0,3,    61.70,2,    29.59,2,   2208.8,2,   2313.7,2,2,     0.99,2,    0.286,    0.000,2,  -1.7680
  09AR20060102,  S04I,   116,  1,      9,      9,2,20060227,1611,-66.1318,  79.9750,  518,     90.0,  -1.7733,  34.2588,2,  34.2585,2,    320.8,2,    320.7,2,    62.30,2,    29.84,2,   2213.6,2,   2314.5,2,2,     0.99,2,    0.229,    0.000,2,  -1.7751
  09AR20060102,  S04I,   116,  1,      8,      8,2,20060227,1611,-66.1318,  79.9750,  518,    120.2,  -1.7895,  34.2817,2,-999.0000,9,    320.4,2,   -999.0,9,  -999.00,9,  -999.00,9,   -999.0,9,   -999.0,9,2,     0.99,2,    0.062,    0.000,2,  -1.7919
  09AR20060102,  S04I,   116,  1,      7,      7,2,20060227,1611,-66.1318,  79.9750,  518,    120.1,  -1.7898,  34.2818,2,  34.2812,2,    320.4,2,    317.9,2,    62.50,2,    30.02,2,   2210.4,2,   2312.5,2,2,     0.99,2,    0.062,    0.000,2,  -1.7922
  09AR20060102,  S04I,   116,  1,      6,      6,2,20060227,1611,-66.1318,  79.9750,  518,    149.5,  -1.8034,  34.2979,2,  34.2982,2,    320.3,2,    318.3,2,    62.40,2,    30.02,2,   2222.7,2,   2314.9,2,2,     0.99,2,    0.014,    0.000,2,  -1.8064
  09AR20060102,  S04I,   116,  1,      5,      5,2,20060227,1611,-66.1318,  79.9750,  518,    200.9,  -1.8112,  34.3195,2,  34.3198,2,    320.2,2,    322.0,2,    62.60,2,    30.10,2,   2213.9,2,   2315.3,2,2,     0.99,2,   -0.027,    0.000,2,  -1.8154
  09AR20060102,  S04I,   116,  1,      4,      4,2,20060227,1611,-66.1318,  79.9750,  518,    300.6,  -1.8077,  34.3453,2,  34.3453,2,    320.3,2,    322.1,2,    62.00,2,    30.08,2,   2229.6,2,   2317.3,2,2,     0.99,2,   -0.046,    0.000,2,  -1.8143
  09AR20060102,  S04I,   116,  1,      3,      3,2,20060227,1611,-66.1318,  79.9750,  518,    400.3,  -1.6248,  34.3828,2,  34.3840,2,    311.3,2,    311.3,2,    65.20,2,    30.25,2,   2230.6,2,   2321.4,2,2,     0.99,2,   -0.054,    0.000,2,  -1.6346
  09AR20060102,  S04I,   116,  1,      2,      2,2,20060227,1611,-66.1318,  79.9750,  518,    511.0,  -0.3315,  34.5317,2,  34.5352,2,    261.6,2,    258.2,2,    77.80,2,    30.85,2,   2239.3,2,   2329.8,6,2,     0.99,2,   -0.047,    0.000,2,  -0.3503
  09AR20060102,  S04I,   116,  1,      1,      1,2,20060227,1611,-66.1318,  79.9750,  518,    519.5,  -0.2060,  34.5458,2,  34.5471,2,    253.8,2,    255.0,2,    79.30,2,    31.03,2,   2244.4,6,   2332.5,2,2,     0.99,2,   -0.046,    0.000,2,  -0.2257