BOTTLE,20220816CCHSIOAMB
EXPOCODE,SECT_ID,STNNBR,CASTNO,SAMPNO,BTLNBR,BTLNBR_FLAG_W,DATE,TIME,LATITUDE,LONGITUDE,DEPTH,CTDPRS,CTDTMP,CTDSAL,CTDSAL_FLAG_W,SALNTY,SALNTY_FLAG_W,CTDOXY,CTDOXY_FLAG_W,OXYGEN,OXYGEN_FLAG_W,SILCAT,SILCAT_FLAG_W,NITRAT,NITRAT_FLAG_W,TCARBN,TCARBN_FLAG_W,ALKALI,ALKALI_FLAG_W,FLUOR_FLAG_W,XMISS,XMISS_FLAG_W,FLUOR,PAR,PAR_FLAG_W,THETA
,,,,,,,,,,,METERS,DBAR,ITS-90,PSS-78,,PSS-78,,UMOL/KG,,UMOL/KG,,UMOL/KG,,UMOL/KG,,UMOL/KG,,UMOL/KG,,,%TRANS,,VOLTS,VOLTS,,DEG C
  09AR20060102,  S04I,     9,  1,     24,     24,2,20060112,0745,-61.2018,  72.8998, 4118,      9.1,   0.5509,  33.6668,2,  33.6675,2,    351.8,2,    350.9,2,    31.00,2,    25.64,2,   -999.0,9,   -999.0,9,2,     0.94,2,    0.943,    0.341,2,   0.5506
  09AR20060102,  S04I,     9,  1,     23,     23,2,20060112,0745,-61.2018,  72.8998, 4118,     29.9,   0.4880,  33.6682,2,-999.0000,9,    352.6,2,   -999.0,9,  -999.00,9,  -999.00,9,   -999.0,9,   -999.0,9,2,     0.94,2,    1.845,    0.077,2,   0.4869
  09AR20060102,  S04I,     9,  1,     22,     22,2,20060112,0745,-61.2018,  72.8998, 4118,     30.2,   0.4852,  33.6682,2,-999.0000,9,    352.6,2,   -999.0,9,  -999.00,9,  -999.00,9,   -999.0,9,   -999.0,9,2,     0.94,2,    1.829,    0.077,2,   0.4841
  09AR20060102,  S04I,     9,  1,     21,     21,2,20060112,0745,-61.2018,  72.8998, 4118,     30.3,   0.4912,  33.6679,2,  33.6679,2,    352.6,2,    352.7,2,    31.10,2,    25.52,2,   -999.0,9,   -999.0,9,2,     0.94,2,    1.722,    0.074,2,   0.4901
  09AR20060102,  S04I,     9,  1,     20,     20,2,20060112,0745,-61.2018,  72.8998, 4118,     39.7,   0.4476,  33.6685,2,  33.6690,2,    352.6,2,    353.1,2,    33.00,2,    25.03,2,   -999.0,9,   -999.0,9,2,     0.94,2,    2.060,    0.036,2,   0.4461
  09AR20060102,  S04I,     9,  1,     19,     19,2,20060112,0745,-61.2018,  72.8998, 4118,     59.4,  -0.1793,  33.7031,2,  33.7036,2,    350.8,2,    351.4,2,    34.90,2,    26.23,2,   -999.0,9,   -999.0,9,2,     0.96,2,    1.773,    0.010,2,  -0.1812
  09AR20060102,  S04I,     9,  1,     18,     18,2,20060112,0745,-61.2018,  72.8998, 4118,     79.4,  -1.6171,  33.8732,2,  33.8687,2,    343.1,2,    344.0,2,    42.10,2,    28.00,2,   -999.0,9,   -999.0,9,2,     0.98,2,    0.795,    0.002,2,  -1.6187
  09AR20060102,  S04I,     9,  1,     17,     17,2,20060112,0745,-61.2018,  72.8998, 4118,    100.8,  -1.6947,  33.9477,2,  33.9462,2,    330.3,2,    333.7,2,    45.50,2,    28.62,2,   -999.0,9,   -999.0,9,2,     0.98,2,    0.441,    0.001,2,  -1.6967
  09AR20060102,  S04I,     9,  1,     16,     16,2,20060112,0745,-61.2018,  72.8998, 4118,    120.1,  -1.3912,  34.0133,2,  34.0146,2,    321.9,2,    316.7,2,    49.50,2,    29.71,2,   -999.0,9,   -999.0,9,2,     0.99,2,    0.341,    0.000,2,  -1.3940
  09AR20060102,  S04I,     9,  1,     15,     15,2,20060112,0745,-61.2018,  72.8998, 4118,    179.5,   1.2551,  34.4033,2,  34.3991,2,    236.8,2,    211.7,3,    67.90,2,    33.68,2,   -999.0,9,   -999.0,9,2,     0.99,2,    0.011,    0.000,2,   1.2467
  09AR20060102,  S04I,     9,  1,     14,     14,2,20060112,0745,-61.2018,  72.8998, 4118,    200.0,   1.6327,  34.4708,2,  34.4717,2,    214.2,2,    193.8,3,    71.50,2,    34.18,2,   -999.0,9,   -999.0,9,2,     0.99,2,   -0.005,    0.000,2,   1.6226
  09AR20060102,  S04I,     9,  1,     13,     13,2,20060112,0745,-61.2018,  72.8998, 4118,    299.2,   1.9484,  34.5876,2,  34.5873,2,    182.1,2,    182.9,2,    77.10,2,    33.74,2,   -999.0,9,   -999.0,9,2,     0.99,2,   -0.018,    0.000,2,   1.9323
  09AR20060102,  S04I,     9,  1,     12,     12,2,20060112,0745,-61.2018,  72.8998, 4118,    398.4,   2.0237,  34.6430,2,  34.6431,2,    178.9,2,    178.8,2,    78.20,2,    32.93,2,   -999.0,9,   -999.0,9,2,     0.99,2,   -0.023,    0.000,2,   2.0016
  09AR20060102,  S04I,     9,  1,     11,     11,2,20060112,0745,-61.2018,  72.8998, 4118,    499.5,   1.9987,  34.6758,2,  34.6758,2,    180.6,2,    178.4,2,    79.20,2,    32.04,2,   -999.0,9,   -999.0,9,2,     0.99,2,   -0.030,    0.000,2,   1.9706
  09AR20060102,  S04I,     9,  1,     10,     10,2,20060112,0745,-61.2018,  72.8998, 4118,    606.1,   1.9724,  34.7029,2,  34.7033,2,    184.2,2,    183.1,2,    82.10,2,    31.36,2,   -999.0,9,   -999.0,9,2,     0.99,2,   -0.029,    0.000,2,   1.9379
  09AR20060102,  S04I,     9,  1,      9,      9,2,20060112,0745,-61.2018,  72.8998, 4118,    800.4,   1.8686,  34.7319,2,  34.7323,2,    191.0,2,   -999.0,9,    83.90,2,    30.54,2,   -999.0,9,   -999.0,9,2,     0.99,2,   -0.033,    0.000,2,   1.8224
  09AR20060102,  S04I,     9,  1,      8,      8,2,20060112,0745,-61.2018,  72.8998, 4118,   1201.1,   1.5362,  34.7441,2,  34.7443,2,    200.4,2,    200.8,2,    89.60,2,    30.14,2,   -999.0,9,   -999.0,9,2,     0.99,2,   -0.036,    0.000,2,   1.4660
  09AR20060102,  S04I,     9,  1,      7,      7,2,20060112,0745,-61.2018,  72.8998, 4118,   1601.1,   1.1473,  34.7271,2,  34.7278,2,    204.1,2,   -999.0,9,    99.80,2,    30.44,2,   -999.0,9,   -999.0,9,2,     0.99,2,   -0.035,    0.000,2,   1.0534
  09AR20060102,  S04I,     9,  1,      6,      6,2,20060112,0745,-61.2018,  72.8998, 4118,   2001.4,   0.8283,  34.7097,2,  34.7098,2,    206.9,2,    207.1,2,   109.10,2,    31.14,2,   -999.0,9,   -999.0,9,2,     0.99,2,   -0.039,    0.000,2,   0.7094
  09AR20060102,  S04I,     9,  1,      5,      5,2,20060112,0745,-61.2018,  72.8998, 4118,   2499.4,   0.5075,  34.6914,2,  34.6911,2,    211.2,2,    211.2,2,   118.90,2,    31.96,2,   -999.0,9,   -999.0,9,2,     0.99,2,   -0.043,    0.000,2,   0.3552
  09AR20060102,  S04I,     9,  1,      4,      4,2,20060112,0745,-61.2018,  72.8998, 4118,   2999.4,   0.2788,  34.6803,2,  34.6796,2,    217.8,2,    216.6,2,   124.00,2,    32.18,2,   -999.0,9,   -999.0,9,2,     0.99,2,   -0.047,    0.000,2,   0.0891
  09AR20060102,  S04I,     9,  1,      3,      3,2,20060112,0745,-61.2018,  72.8998, 4118,   3499.2,   0.0647,  34.6704,2,  34.6697,2,    225.4,2,    225.4,2,   140.40,3,    32.73,2,   -999.0,9,   -999.0,9,2,     0.99,2,   -0.041,    0.000,2,  -0.1648
  09AR20060102,  S04I,     9,  1,      2,      2,2,20060112,0745,-61.2018,  72.8998, 4118,   3999.4,  -0.1092,  34.6629,2,  34.6621,2,    233.6,2,    232.2,2,   136.50,2,    32.33,2,   -999.0,9,   -999.0,9,2,     0.99,2,   -0.045,    0.000,2,  -0.3821
  09AR20060102,  S04I,     9,  1,      1,      1,2,20060112,0745,-61.2018,  72.8998, 4118,   4181.9,  -0.1698,  34.6597,2,  34.6591,2,    236.3,2,    237.4,2,   142.70,2,    32.43,2,   -999.0,9,   -999.0,9,2,     0.99,2,   -0.047,    0.000,2,  -0.4592
  09AR20060102,  S04I,    10,  1,     24,     24,2,20060112,1606,-61.3133,  70.3438, 4163,     10.3,   0.5329,  33.6722,2,  33.6733,2,    350.9,2,    349.8,2,    31.60,2,    25.88,2,   2147.7,2,   2273.1,2,2,     0.25,2,    1.997,    0.000,2,   0.5325
  09AR20060102,  S04I,    10,  1,     23,     23,2,20060112,1606,-61.3133,  70.3438, 4163,     39.2,   0.0963,  33.6867,2,-999.0000,9,    352.6,2,   -999.0,9,  -999.00,9,  -999.00,9,   -999.0,9,   -999.0,9,2,     0.62,2,    2.998,    0.000,2,   0.0949
  09AR20060102,  S04I,    10,  1,     22,     22,2,20060112,1606,-61.3133,  70.3438, 4163,     39.2,   0.0800,  33.6874,2,-999.0000,9,    352.6,2,   -999.0,9,  -999.00,9,  -999.00,9,   -999.0,9,   -999.0,9,2,     0.58,2,    3.056,    0.000,2,   0.0787
  09AR20060102,  S04I,    10,  1,     21,     21,2,20060112,1606,-61.3133,  70.3438, 4163,     39.0,   0.0559,  33.6884,2,  33.6927,2,    352.8,2,    353.9,2,    30.60,2,    25.99,2,   2150.8,6,   -999.0,9,2,     0.59,2,    2.886,    0.000,2,   0.0546
  09AR20060102,  S04I,    10,  1,     20,     20,2,20060112,1606,-61.3133,  70.3438, 4163,     59.5,  -1.3870,  33.7953,2,  33.7882,2,    349.3,2,    351.0,2,    37.40,2,    27.55,2,   2163.3,2,   -999.0,9,2,     0.74,2,    1.596,    0.000,2,  -1.3883
  09AR20060102,  S04I,    10,  1,     19,     19,2,20060112,1606,-61.3133,  70.3438, 4163,     79.5,  -1.5263,  33.8661,2,  33.8658,2,    344.5,2,    343.0,2,    40.80,2,    28.57,2,   2173.0,2,   -999.0,9,2,     0.90,2,    0.538,    0.000,2,  -1.5280
  09AR20060102,  S04I,    10,  1,     18,     18,2,20060112,1606,-61.3133,  70.3438, 4163,     99.5,  -1.5053,  33.9077,2,  33.9055,2,    338.2,2,    338.2,2,    43.50,2,    28.62,2,   2194.6,2,   -999.0,9,2,     0.98,2,    0.604,    0.000,2,  -1.5075
  09AR20060102,  S04I,    10,  1,     17,     17,2,20060112,1606,-61.3133,  70.3438, 4163,    117.2,  -1.1755,  33.9785,2,  33.9778,2,    326.8,2,    318.4,2,    47.30,2,    29.50,2,   2187.9,2,   -999.0,9,2,     0.99,2,    0.503,    0.000,2,  -1.1784
  09AR20060102,  S04I,    10,  1,     16,     16,2,20060112,1606,-61.3133,  70.3438, 4163,    138.8,   0.6410,  34.2035,2,  34.1882,2,    273.3,2,    253.8,3,    56.10,2,    32.11,2,   2220.2,2,   -999.0,9,2,     0.99,2,    0.116,    0.000,2,   0.6353
  09AR20060102,  S04I,    10,  1,     15,     15,2,20060112,1606,-61.3133,  70.3438, 4163,    159.2,   1.5129,  34.3578,2,  34.3566,2,    227.3,2,    208.3,3,    63.50,2,    33.81,2,   2242.3,2,   -999.0,9,2,     0.99,2,   -0.003,    0.000,2,   1.5051
  09AR20060102,  S04I,    10,  1,     14,     14,2,20060112,1606,-61.3133,  70.3438, 4163,    200.3,   1.8539,  34.4655,2,  34.4644,2,    194.3,2,    186.0,2,    70.20,2,    34.19,2,   2254.1,2,   -999.0,9,2,     0.99,2,   -0.019,    0.000,2,   1.8435
  09AR20060102,  S04I,    10,  1,     13,     13,2,20060112,1606,-61.3133,  70.3438, 4163,    299.3,   2.0126,  34.5689,2,  34.5683,2,    176.4,2,    174.8,2,    75.30,2,    33.84,2,   2258.9,6,   -999.0,9,2,     0.99,2,   -0.025,    0.000,2,   1.9963
  09AR20060102,  S04I,    10,  1,     12,     12,2,20060112,1606,-61.3133,  70.3438, 4163,    399.7,   2.0282,  34.6260,2,  34.6262,2,    174.4,2,    175.1,2,    80.90,2,    33.35,2,   2258.0,2,   -999.0,9,2,     0.99,2,   -0.030,    0.000,2,   2.0060
  09AR20060102,  S04I,    10,  1,     11,     11,2,20060112,1606,-61.3133,  70.3438, 4163,    600.5,   1.9955,  34.7029,2,  34.7039,2,    181.3,2,    181.9,2,    82.80,2,    31.36,2,   2256.1,2,   -999.0,9,2,     0.99,2,   -0.034,    0.000,2,   1.9612
  09AR20060102,  S04I,    10,  1,     10,     10,2,20060112,1606,-61.3133,  70.3438, 4163,    798.6,   1.9057,  34.7344,2,  34.7351,2,    190.0,2,    190.4,2,    81.60,2,    30.20,2,   2251.0,2,   -999.0,9,2,     0.99,2,   -0.031,    0.000,2,   1.8594
  09AR20060102,  S04I,    10,  1,      9,      9,2,20060112,1606,-61.3133,  70.3438, 4163,    999.8,   1.7401,  34.7458,2,  34.7461,2,    196.6,2,    196.2,2,    84.70,2,    29.82,2,   2249.7,2,   -999.0,9,2,     0.99,2,   -0.036,    0.000,2,   1.6817
  09AR20060102,  S04I,    10,  1,      8,      8,2,20060112,1606,-61.3133,  70.3438, 4163,   1201.2,   1.5568,  34.7466,2,  34.7472,2,    200.1,2,    199.8,2,    88.40,2,    29.86,2,   2250.6,2,   -999.0,9,2,     1.00,2,   -0.035,    0.000,2,   1.4864
  09AR20060102,  S04I,    10,  1,      7,      7,2,20060112,1606,-61.3133,  70.3438, 4163,   1599.7,   1.1689,  34.7289,2,  34.7290,2,    204.0,2,    203.9,2,    99.10,2,    30.23,2,   2253.9,2,   -999.0,9,2,     1.00,2,   -0.037,    0.000,2,   1.0749
  09AR20060102,  S04I,    10,  1,      6,      6,2,20060112,1606,-61.3133,  70.3438, 4163,   2000.0,   0.8177,  34.7097,2,  34.7098,2,    206.7,2,    207.3,2,   112.00,2,    31.01,2,   2258.4,2,   -999.0,9,2,     0.99,2,   -0.038,    0.000,2,   0.6991
  09AR20060102,  S04I,    10,  1,      5,      5,2,20060112,1606,-61.3133,  70.3438, 4163,   2500.5,   0.4807,  34.6903,2,  34.6899,2,    210.1,2,    210.4,2,   123.40,2,    31.36,2,   2262.6,2,   -999.0,9,2,     0.99,2,   -0.042,    0.000,2,   0.3288
  09AR20060102,  S04I,    10,  1,      4,      4,2,20060112,1606,-61.3133,  70.3438, 4163,   2998.6,   0.2354,  34.6787,2,  34.6782,2,    216.8,2,    217.4,2,   126.80,2,    31.91,2,   2262.0,2,   -999.0,9,2,     1.00,2,   -0.041,    0.000,2,   0.0468
  09AR20060102,  S04I,    10,  1,      3,      3,2,20060112,1606,-61.3133,  70.3438, 4163,   3500.3,   0.0302,  34.6692,2,  34.6684,2,    226.1,2,    225.6,2,   132.10,2,    31.92,2,   2259.6,2,   -999.0,9,2,     0.99,2,   -0.043,    0.000,2,  -0.1986
  09AR20060102,  S04I,    10,  1,      2,      2,2,20060112,1606,-61.3133,  70.3438, 4163,   4044.1,  -0.1567,  34.6609,2,  34.6603,2,    234.6,2,    234.1,2,   134.10,2,    31.97,2,   2258.0,6,   -999.0,9,2,     0.99,2,   -0.044,    0.000,2,  -0.4327
  09AR20060102,  S04I,    10,  1,      1,      1,2,20060112,1606,-61.3133,  70.3438, 4163,   4102.3,  -0.1694,  34.6603,2,  34.6591,2,    234.5,2,    235.2,2,   135.80,2,    31.86,2,   2256.1,2,   -999.0,9,2,     0.99,2,   -0.046,    0.000,2,  -0.4508
  09AR20060102,  S04I,    11,  1,     24,     24,2,20060113,0141,-61.4267,  67.7892, 4360,      8.6,   0.4120,  33.5287,2,  33.5382,2,    352.6,2,    353.4,2,    31.60,2,    24.81,2,   -999.0,9,   -999.0,9,2,     0.22,2,    0.406,    0.268,2,   0.4117
  09AR20060102,  S04I,    11,  1,     23,     23,2,20060113,0141,-61.4267,  67.7892, 4360,     29.9,   0.2180,  33.6917,2,-999.0000,9,    354.9,2,   -999.0,9,  -999.00,9,  -999.00,9,   -999.0,9,   -999.0,9,2,     0.56,2,    1.883,    0.049,2,   0.2169
  09AR20060102,  S04I,    11,  1,     22,     22,2,20060113,0141,-61.4267,  67.7892, 4360,     29.7,   0.2182,  33.6916,2,-999.0000,9,    354.9,2,   -999.0,9,  -999.00,9,  -999.00,9,   -999.0,9,   -999.0,9,2,     0.52,2,    1.808,    0.055,2,   0.2171
  09AR20060102,  S04I,    11,  1,     21,     21,2,20060113,0141,-61.4267,  67.7892, 4360,     29.7,   0.2167,  33.6916,2,  33.6919,2,    354.9,2,    356.3,2,    33.20,2,    25.62,2,   -999.0,9,   -999.0,9,2,     0.53,2,    1.712,    0.088,2,   0.2156
  09AR20060102,  S04I,    11,  1,     20,     20,2,20060113,0141,-61.4267,  67.7892, 4360,     39.9,   0.0795,  33.6996,2,  33.7015,2,    355.2,2,    337.9,3,    33.70,2,    25.69,2,   -999.0,9,   -999.0,9,2,     0.67,2,    2.686,    0.088,2,   0.0781
  09AR20060102,  S04I,    11,  1,     19,     19,2,20060113,0141,-61.4267,  67.7892, 4360,     60.0,  -0.9919,  33.7856,2,  33.7976,2,    350.2,2,    340.1,2,    40.00,2,    27.39,2,   -999.0,9,   -999.0,9,2,     0.88,2,    2.207,    0.031,2,  -0.9934
  09AR20060102,  S04I,    11,  1,     18,     18,2,20060113,0141,-61.4267,  67.7892, 4360,     98.6,  -1.6139,  33.9475,2,  33.9489,2,    328.8,2,    330.6,2,    47.80,2,    29.26,2,   -999.0,9,   -999.0,9,2,     0.98,2,    0.739,    0.001,2,  -1.6159
  09AR20060102,  S04I,    11,  1,     17,     17,2,20060113,0141,-61.4267,  67.7892, 4360,    118.5,  -1.5006,  33.9975,2,  34.0017,2,    316.7,2,    320.0,2,    51.10,2,    29.73,2,   -999.0,9,   -999.0,9,2,     0.98,2,    0.811,    0.000,2,  -1.5032
  09AR20060102,  S04I,    11,  1,     16,     16,2,20060113,0141,-61.4267,  67.7892, 4360,    140.0,  -1.3221,  34.0651,2,  34.0645,2,    283.7,2,    306.4,3,    54.40,2,    30.36,2,   -999.0,9,   -999.0,9,2,     0.98,2,    0.676,    0.000,2,  -1.3255
  09AR20060102,  S04I,    11,  1,     15,     15,2,20060113,0141,-61.4267,  67.7892, 4360,    171.1,   0.2863,  34.2869,2,  34.2834,2,    217.4,2,    241.8,3,    65.40,2,    32.91,2,   -999.0,9,   -999.0,9,2,     0.98,2,    0.162,    0.000,2,   0.2797
  09AR20060102,  S04I,    11,  1,     14,     14,2,20060113,0141,-61.4267,  67.7892, 4360,    199.9,   1.3286,  34.4369,2,  34.4352,2,    195.0,2,    200.5,2,    72.60,2,    34.25,2,   -999.0,9,   -999.0,9,2,     0.99,2,    0.073,    0.000,2,   1.3191
  09AR20060102,  S04I,    11,  1,     13,     13,2,20060113,0141,-61.4267,  67.7892, 4360,    399.1,   1.9756,  34.6426,2,  34.6415,2,    178.0,2,    176.0,2,    81.10,2,    33.21,2,   -999.0,9,   -999.0,9,2,     0.99,2,   -0.020,    0.000,2,   1.9536
  09AR20060102,  S04I,    11,  1,     12,     12,2,20060113,0141,-61.4267,  67.7892, 4360,    599.7,   1.9943,  34.7140,2,  34.7139,2,    184.9,2,    184.9,2,    83.30,2,    31.34,2,   -999.0,9,   -999.0,9,2,     0.99,2,   -0.024,    0.000,2,   1.9601
  09AR20060102,  S04I,    11,  1,     11,     11,2,20060113,0141,-61.4267,  67.7892, 4360,    799.7,   1.8239,  34.7336,2,  34.7349,2,    192.6,2,    190.9,2,    86.90,2,    30.71,2,   -999.0,9,   -999.0,9,2,     0.99,2,   -0.032,    0.000,2,   1.7780
  09AR20060102,  S04I,    11,  1,     10,     10,2,20060113,0141,-61.4267,  67.7892, 4360,    799.8,   1.8237,  34.7337,2,  34.7345,2,    192.6,2,    191.6,2,    86.70,2,    30.68,2,   -999.0,9,   -999.0,9,2,     0.99,2,   -0.033,    0.000,2,   1.7778
  09AR20060102,  S04I,    11,  1,      9,      9,2,20060113,0141,-61.4267,  67.7892, 4360,   1000.0,   1.6893,  34.7470,2,  34.7467,2,    198.6,2,    197.9,2,    87.70,2,    30.14,2,   -999.0,9,   -999.0,9,2,     0.99,2,   -0.039,    0.000,2,   1.6313
  09AR20060102,  S04I,    11,  1,      8,      8,2,20060113,0141,-61.4267,  67.7892, 4360,   1400.7,   1.2789,  34.7345,2,  34.7345,2,    203.5,2,    203.0,2,    92.50,2,    30.73,2,   -999.0,9,   -999.0,9,2,     0.99,2,   -0.039,    0.000,2,   1.1976
  09AR20060102,  S04I,    11,  1,      7,      7,2,20060113,0141,-61.4267,  67.7892, 4360,   1900.9,   0.8685,  34.7121,2,  34.7121,2,    206.7,2,    206.4,2,   111.00,2,    31.35,2,   -999.0,9,   -999.0,9,2,     0.99,2,   -0.045,    0.000,2,   0.7566
  09AR20060102,  S04I,    11,  1,      6,      6,2,20060113,0141,-61.4267,  67.7892, 4360,   2401.0,   0.5161,  34.6921,2,  34.6919,2,    209.8,2,    210.0,2,   118.90,2,    32.37,2,   -999.0,9,   -999.0,9,2,     1.00,2,   -0.044,    0.000,2,   0.3715
  09AR20060102,  S04I,    11,  1,      5,      5,2,20060113,0141,-61.4267,  67.7892, 4360,   2900.4,   0.2914,  34.6809,2,  34.6794,2,    215.6,2,    215.2,2,  -999.00,9,    32.69,2,   -999.0,9,   -999.0,9,2,     1.00,2,   -0.040,    0.000,2,   0.1100
  09AR20060102,  S04I,    11,  1,      4,      4,2,20060113,0141,-61.4267,  67.7892, 4360,   3398.1,   0.0900,  34.6718,2,  34.6703,2,    223.5,2,    223.2,2,  -999.00,9,    32.37,2,   -999.0,9,   -999.0,9,2,     0.99,2,   -0.048,    0.000,2,  -0.1308
  09AR20060102,  S04I,    11,  1,      3,      3,2,20060113,0141,-61.4267,  67.7892, 4360,   3897.8,  -0.0858,  34.6642,2,  34.6627,2,    231.6,2,    231.4,2,  -999.00,9,    32.59,2,   -999.0,9,   -999.0,9,2,     0.99,2,   -0.045,    0.000,2,  -0.3493
  09AR20060102,  S04I,    11,  1,      2,      2,2,20060113,0141,-61.4267,  67.7892, 4360,   4390.8,  -0.1921,  34.6581,2,  34.6564,2,    237.3,2,    236.2,2,   129.30,3,    32.54,2,   -999.0,9,   -999.0,9,2,     0.99,2,   -0.048,    0.000,2,  -0.5023
  09AR20060102,  S04I,    11,  1,      1,      1,2,20060113,0141,-61.4267,  67.7892, 4360,   4434.6,  -0.1919,  34.6578,2,  34.6560,2,    237.7,2,    236.8,2,  -999.00,9,    32.55,2,   -999.0,9,   -999.0,9,2,     0.99,2,   -0.042,    0.000,2,  -0.5067