BOTTLE,20220816CCHSIOAMB
EXPOCODE,SECT_ID,STNNBR,CASTNO,SAMPNO,BTLNBR,BTLNBR_FLAG_W,DATE,TIME,LATITUDE,LONGITUDE,DEPTH,CTDPRS,CTDTMP,CTDSAL,CTDSAL_FLAG_W,SALNTY,SALNTY_FLAG_W,CTDOXY,CTDOXY_FLAG_W,OXYGEN,OXYGEN_FLAG_W,SILCAT,SILCAT_FLAG_W,NITRAT,NITRAT_FLAG_W,TCARBN,TCARBN_FLAG_W,ALKALI,ALKALI_FLAG_W,FLUOR_FLAG_W,XMISS,XMISS_FLAG_W,FLUOR,PAR,PAR_FLAG_W,THETA
,,,,,,,,,,,METERS,DBAR,ITS-90,PSS-78,,PSS-78,,UMOL/KG,,UMOL/KG,,UMOL/KG,,UMOL/KG,,UMOL/KG,,UMOL/KG,,,%TRANS,,VOLTS,VOLTS,,DEG C
  09AR20060102,  S04I,    48,  1,     24,     24,2,20060128,1327,-64.6677,  40.0057, 4726,      8.9,   1.0360,  33.8953,2,  33.8992,3,    334.2,2,    333.6,2,    60.00,2,    26.43,2,   2168.3,2,   2295.8,2,2,     0.36,2,    0.409,    0.042,2,   1.0356
  09AR20060102,  S04I,    48,  1,     23,     23,2,20060128,1327,-64.6677,  40.0057, 4726,      8.8,   1.0361,  33.8951,2,-999.0000,9,    334.2,2,   -999.0,9,  -999.00,9,  -999.00,9,   -999.0,9,   -999.0,9,2,     0.24,2,    0.397,    0.047,2,   1.0357
  09AR20060102,  S04I,    48,  1,     22,     22,2,20060128,1327,-64.6677,  40.0057, 4726,     10.3,   1.0356,  33.8950,2,-999.0000,9,    334.2,2,   -999.0,9,  -999.00,9,  -999.00,9,   -999.0,9,   -999.0,9,2,     0.30,2,    0.417,    0.043,2,   1.0352
  09AR20060102,  S04I,    48,  1,     21,     21,2,20060128,1327,-64.6677,  40.0057, 4726,     24.7,   0.8201,  33.9175,2,  33.9370,3,    332.3,2,    334.6,2,    56.80,2,    26.60,2,   2171.0,6,   -999.0,9,2,     0.49,2,    0.421,    0.019,2,   0.8191
  09AR20060102,  S04I,    48,  1,     20,     20,2,20060128,1327,-64.6677,  40.0057, 4726,     39.6,  -1.3397,  34.1576,2,  34.1610,3,    331.0,2,    332.8,2,    55.80,2,    27.03,2,   2186.6,2,   -999.0,9,2,     0.62,2,    0.617,    0.012,2,  -1.3406
  09AR20060102,  S04I,    48,  1,     19,     19,2,20060128,1327,-64.6677,  40.0057, 4726,     59.4,  -1.5779,  34.2031,2,  34.2058,3,    317.1,2,    319.6,2,    60.30,2,    28.15,2,   2197.9,2,   -999.0,9,2,     0.78,2,    0.753,    0.006,2,  -1.5792
  09AR20060102,  S04I,    48,  1,     18,     18,2,20060128,1327,-64.6677,  40.0057, 4726,     69.1,  -1.2501,  34.2675,2,  34.2560,3,    310.3,2,    303.6,2,    63.00,2,    29.26,2,   2210.1,2,   -999.0,9,2,     0.88,2,    0.838,    0.004,2,  -1.2518
  09AR20060102,  S04I,    48,  1,     17,     17,2,20060128,1327,-64.6677,  40.0057, 4726,     89.8,   0.4134,  34.4786,2,  34.4862,3,    227.1,2,    221.4,2,    80.80,2,    32.42,2,   2245.1,2,   -999.0,9,2,     0.97,2,    0.872,    0.001,2,   0.4099
  09AR20060102,  S04I,    48,  1,     16,     16,2,20060128,1327,-64.6677,  40.0057, 4726,    109.1,   1.1706,  34.5798,2,  34.5828,3,    193.4,2,    192.6,2,    87.00,2,    33.50,2,   2254.8,2,   -999.0,9,2,     0.99,2,    0.453,    0.000,2,   1.1656
  09AR20060102,  S04I,    48,  1,     15,     15,2,20060128,1327,-64.6677,  40.0057, 4726,    149.9,   1.4069,  34.6269,2,  34.6303,3,    187.7,2,    187.8,2,    87.90,2,    33.19,2,   2259.1,2,   -999.0,9,2,     0.99,2,    0.087,    0.000,2,   1.3997
  09AR20060102,  S04I,    48,  1,     14,     14,2,20060128,1327,-64.6677,  40.0057, 4726,    201.3,   1.4722,  34.6586,2,  34.6629,3,    187.2,2,    187.6,2,    92.30,2,    32.54,2,   2258.0,2,   -999.0,9,2,     0.99,2,   -0.018,    0.000,2,   1.4623
  09AR20060102,  S04I,    48,  1,     13,     13,2,20060128,1327,-64.6677,  40.0057, 4726,    300.8,   1.4577,  34.6913,2,  34.6953,3,    190.4,2,    190.4,2,    94.10,2,    31.77,2,   2255.5,2,   -999.0,9,2,     0.99,2,   -0.041,    0.000,2,   1.4426
  09AR20060102,  S04I,    48,  1,     12,     12,2,20060128,1327,-64.6677,  40.0057, 4726,    400.0,   1.3865,  34.7076,2,  34.6111,4,    193.2,2,    194.1,2,    95.90,2,    31.43,2,   2254.9,2,   -999.0,9,2,     0.99,2,   -0.042,    0.000,2,   1.3663
  09AR20060102,  S04I,    48,  1,     11,     11,2,20060128,1327,-64.6677,  40.0057, 4726,    600.9,   1.1775,  34.7153,2,  34.7198,3,    197.7,2,    198.0,2,   103.30,2,    31.43,2,   2255.8,6,   -999.0,9,2,     0.99,2,   -0.042,    0.000,2,   1.1472
  09AR20060102,  S04I,    48,  1,     10,     10,2,20060128,1327,-64.6677,  40.0057, 4726,    799.9,   0.9663,  34.7115,2,  34.7155,3,    200.9,2,    201.0,2,   107.50,2,    31.44,2,   2257.5,2,   -999.0,9,2,     0.99,2,   -0.041,    0.000,2,   0.9260
  09AR20060102,  S04I,    48,  1,      9,      9,2,20060128,1327,-64.6677,  40.0057, 4726,   1199.9,   0.6432,  34.6982,2,  34.7025,3,    204.1,2,    204.5,2,   117.00,2,    31.92,2,   2260.3,2,   -999.0,9,2,     0.99,2,   -0.046,    0.000,2,   0.5817
  09AR20060102,  S04I,    48,  1,      8,      8,2,20060128,1327,-64.6677,  40.0057, 4726,   1674.2,   0.3988,  34.6874,2,  34.6915,3,    208.6,2,    209.1,2,   123.70,2,    32.34,2,   2265.0,2,   -999.0,9,2,     0.99,2,   -0.049,    0.000,2,   0.3096
  09AR20060102,  S04I,    48,  1,      7,      7,2,20060128,1327,-64.6677,  40.0057, 4726,   2199.3,   0.1883,  34.6776,2,  34.6811,3,    216.1,2,    215.9,2,   127.90,2,    32.36,2,   2260.0,2,   -999.0,9,2,     0.99,2,   -0.050,    0.000,2,   0.0651
  09AR20060102,  S04I,    48,  1,      6,      6,2,20060128,1327,-64.6677,  40.0057, 4726,   2699.3,   0.0225,  34.6705,2,  34.6739,3,    223.5,2,    223.4,2,   127.90,2,    32.39,2,   2256.0,2,   -999.0,9,2,     0.99,2,   -0.048,    0.000,2,  -0.1364
  09AR20060102,  S04I,    48,  1,      5,      5,2,20060128,1327,-64.6677,  40.0057, 4726,   3199.7,  -0.0989,  34.6651,2,  34.6678,3,    230.4,2,    230.7,2,   129.30,2,    32.22,2,   2257.3,2,   -999.0,9,2,     0.99,2,   -0.052,    0.000,2,  -0.2973
  09AR20060102,  S04I,    48,  1,      4,      4,2,20060128,1327,-64.6677,  40.0057, 4726,   3700.5,  -0.1828,  34.6608,2,  34.6641,3,    236.0,2,    235.9,2,   128.90,2,    32.09,2,   2252.7,2,   -999.0,9,2,     0.99,2,   -0.053,    0.000,2,  -0.4247
  09AR20060102,  S04I,    48,  1,      3,      3,2,20060128,1327,-64.6677,  40.0057, 4726,   4200.2,  -0.2468,  34.6564,2,  34.6597,3,    241.2,2,    241.0,2,   134.00,2,    31.89,2,   2250.3,2,   -999.0,9,2,     0.99,2,   -0.055,    0.000,2,  -0.5357
  09AR20060102,  S04I,    48,  1,      2,      2,2,20060128,1327,-64.6677,  40.0057, 4726,   4750.2,  -0.2906,  34.6525,2,  34.6560,3,    244.4,2,    243.6,2,   139.90,2,    32.06,2,   2251.2,2,   -999.0,9,2,     0.99,2,   -0.055,    0.000,2,  -0.6358
  09AR20060102,  S04I,    48,  1,      1,      1,2,20060128,1327,-64.6677,  40.0057, 4726,   4811.1,  -0.2961,  34.6532,2,  34.6564,3,    243.0,2,    243.0,2,   142.10,2,    32.13,2,   2253.1,6,   -999.0,9,2,     0.99,2,   -0.057,    0.000,2,  -0.6478
  09AR20060102,  S04I,    49,  1,     24,     24,2,20060128,2159,-65.3380,  40.0038, 4735,     10.1,   1.1841,  33.6276,2,  33.6755,3,    326.6,2,    326.2,2,    52.60,2,    26.44,2,   2159.3,2,   -999.0,9,2,     0.31,2,    0.398,    0.015,2,   1.1837
  09AR20060102,  S04I,    49,  1,     23,     23,2,20060128,2159,-65.3380,  40.0038, 4735,     19.8,  -0.4218,  34.0134,2,-999.0000,9,    326.5,2,   -999.0,9,  -999.00,9,  -999.00,9,   -999.0,9,   -999.0,9,2,     0.29,2,    0.772,    0.010,2,  -0.4224
  09AR20060102,  S04I,    49,  1,     22,     22,2,20060128,2159,-65.3380,  40.0038, 4735,     19.8,  -0.3253,  33.9902,2,-999.0000,9,    326.5,2,   -999.0,9,  -999.00,9,  -999.00,9,   -999.0,9,   -999.0,9,2,     0.28,2,    0.825,    0.010,2,  -0.3259
  09AR20060102,  S04I,    49,  1,     21,     21,2,20060128,2159,-65.3380,  40.0038, 4735,     19.8,  -0.2910,  33.9803,2,  34.0277,3,    326.5,2,    328.0,2,    56.20,2,    27.34,2,   2188.0,2,   -999.0,9,2,     0.32,2,    0.772,    0.010,2,  -0.2916
  09AR20060102,  S04I,    49,  1,     20,     20,2,20060128,2159,-65.3380,  40.0038, 4735,     39.8,  -1.4736,  34.2031,2,  34.2044,2,    309.2,2,    313.6,2,    58.80,2,    28.29,2,   2202.7,2,   -999.0,9,2,     0.56,2,    1.268,    0.002,2,  -1.4745
  09AR20060102,  S04I,    49,  1,     19,     19,2,20060128,2159,-65.3380,  40.0038, 4735,     69.5,  -1.6100,  34.2535,2,  34.2522,2,    299.9,2,    295.9,2,    60.80,2,    28.97,2,   2207.3,2,   -999.0,9,2,     0.70,2,    1.497,    0.000,2,  -1.6115
  09AR20060102,  S04I,    49,  1,     18,     18,2,20060128,2159,-65.3380,  40.0038, 4735,     89.4,   0.7502,  34.5362,2,  34.5262,2,    216.9,2,    208.9,2,    83.00,2,    32.63,2,   2250.5,2,   -999.0,9,2,     0.85,2,    0.720,    0.000,2,   0.7464
  09AR20060102,  S04I,    49,  1,     17,     17,2,20060128,2159,-65.3380,  40.0038, 4735,    109.3,   1.0671,  34.5820,2,  34.5813,2,    195.7,2,   -999.0,9,    87.50,2,    32.85,2,   2256.3,2,   -999.0,9,2,     0.96,2,    0.606,    0.000,2,   1.0622
  09AR20060102,  S04I,    49,  1,     16,     16,2,20060128,2159,-65.3380,  40.0038, 4735,    140.0,   1.4218,  34.6372,2,  34.6378,2,    188.7,2,    187.7,2,    91.40,2,    32.69,2,   2259.0,2,   -999.0,9,2,     0.99,2,    0.025,    0.000,2,   1.4150
  09AR20060102,  S04I,    49,  1,     15,     15,2,20060128,2159,-65.3380,  40.0038, 4735,    201.4,   1.4444,  34.6692,2,  34.6692,2,    188.3,2,    188.4,2,    92.90,2,    32.28,2,   2260.0,2,   -999.0,9,2,     0.99,2,   -0.037,    0.000,2,   1.4345
  09AR20060102,  S04I,    49,  1,     14,     14,2,20060128,2159,-65.3380,  40.0038, 4735,    299.9,   1.4150,  34.6965,2,  34.6966,2,    191.1,2,    190.5,2,    95.00,2,    31.61,2,   -999.0,9,   -999.0,9,2,     0.99,2,   -0.042,    0.000,2,   1.4001
  09AR20060102,  S04I,    49,  1,     13,     13,2,20060128,2159,-65.3380,  40.0038, 4735,    399.1,   1.3370,  34.7102,2,  34.6962,2,    194.1,2,    193.9,2,    99.20,2,    31.34,2,   -999.0,9,   -999.0,9,2,     0.99,2,   -0.042,    0.000,2,   1.3171
  09AR20060102,  S04I,    49,  1,     12,     12,2,20060128,2159,-65.3380,  40.0038, 4735,    500.8,   1.2423,  34.7147,2,  34.7151,2,    196.6,2,    197.1,2,   100.10,2,    31.06,2,   -999.0,9,   -999.0,9,2,     0.99,2,   -0.041,    0.000,2,   1.2172
  09AR20060102,  S04I,    49,  1,     11,     11,2,20060128,2159,-65.3380,  40.0038, 4735,    751.8,   0.9766,  34.7115,2,  34.7117,2,    200.7,2,    201.9,2,   107.60,2,    31.34,2,   -999.0,9,   -999.0,9,2,     0.99,2,   -0.043,    0.000,2,   0.9389
  09AR20060102,  S04I,    49,  1,     10,     10,2,20060128,2159,-65.3380,  40.0038, 4735,   1000.1,   0.7595,  34.7033,2,  34.7039,2,    203.1,2,    204.0,2,   113.80,2,    31.74,2,   -999.0,9,   -999.0,9,2,     0.99,2,   -0.042,    0.000,2,   0.7090
  09AR20060102,  S04I,    49,  1,      9,      9,2,20060128,2159,-65.3380,  40.0038, 4735,   1498.6,   0.4599,  34.6904,2,  34.6909,2,    207.2,2,    208.0,2,   122.10,2,    32.21,2,   -999.0,9,   -999.0,9,2,     0.99,2,   -0.048,    0.000,2,   0.3816
  09AR20060102,  S04I,    49,  1,      8,      8,2,20060128,2159,-65.3380,  40.0038, 4735,   2000.0,   0.2454,  34.6804,2,  34.6803,2,    213.2,2,    212.8,2,   127.20,2,    32.34,2,   -999.0,9,   -999.0,9,2,     0.99,2,   -0.045,    0.000,2,   0.1358
  09AR20060102,  S04I,    49,  1,      7,      7,2,20060128,2159,-65.3380,  40.0038, 4735,   2500.9,   0.0732,  34.6729,2,  34.6725,2,    220.5,2,   -999.0,9,   128.90,2,    32.27,2,   -999.0,9,   -999.0,9,2,     0.99,2,   -0.049,    0.000,2,  -0.0709
  09AR20060102,  S04I,    49,  1,      6,      6,2,20060128,2159,-65.3380,  40.0038, 4735,   3001.1,  -0.0599,  34.6670,2,  34.6664,2,    228.0,2,    228.3,2,   129.80,2,    32.31,2,   -999.0,9,   -999.0,9,2,     0.99,2,   -0.058,    0.000,2,  -0.2420
  09AR20060102,  S04I,    49,  1,      5,      5,2,20060128,2159,-65.3380,  40.0038, 4735,   3499.6,  -0.1569,  34.6626,2,  34.6595,2,    234.5,2,    234.7,2,   129.00,2,    32.03,2,   -999.0,9,   -999.0,9,2,     0.99,2,   -0.054,    0.000,2,  -0.3807
  09AR20060102,  S04I,    49,  1,      4,      4,2,20060128,2159,-65.3380,  40.0038, 4735,   4000.7,  -0.2324,  34.6576,2,  34.6548,2,    241.0,2,    240.9,2,   129.10,2,    31.94,2,   -999.0,9,   -999.0,9,2,     0.99,2,   -0.054,    0.000,2,  -0.5018
  09AR20060102,  S04I,    49,  1,      3,      3,2,20060128,2159,-65.3380,  40.0038, 4735,   4500.8,  -0.2711,  34.6550,2,  34.6536,2,    243.3,2,    243.7,2,   131.30,2,    31.80,2,   -999.0,9,   -999.0,9,2,     0.99,2,   -0.053,    0.000,2,  -0.5903
  09AR20060102,  S04I,    49,  1,      2,      2,2,20060128,2159,-65.3380,  40.0038, 4735,   4816.6,  -0.2925,  34.6539,2,  34.6536,2,    241.4,2,    241.5,2,   146.10,2,    32.03,2,   -999.0,9,   -999.0,9,2,     0.99,2,   -0.052,    0.000,2,  -0.6449
  09AR20060102,  S04I,    49,  1,      1,      1,2,20060128,2159,-65.3380,  40.0038, 4735,   4834.6,  -0.2909,  34.6536,2,  34.6478,2,    241.0,2,    241.9,2,   146.20,2,    32.07,2,   -999.0,9,   -999.0,9,2,     0.99,2,   -0.056,    0.000,2,  -0.6453
  09AR20060102,  S04I,    50,  1,     24,     24,2,20060129,0534,-66.0008,  40.0042, 4484,     10.6,   1.2456,  33.5448,2,  33.5493,2,    336.9,2,    336.1,2,    50.30,2,    26.29,2,   2150.9,2,   2274.6,6,2,     0.14,2,    0.027,    0.447,2,   1.2451
  09AR20060102,  S04I,    50,  1,     23,     23,2,20060129,0534,-66.0008,  40.0042, 4484,     21.3,  -0.2962,  33.9441,2,-999.0000,9,    332.5,2,   -999.0,9,  -999.00,9,  -999.00,9,   -999.0,9,   -999.0,9,2,     0.30,2,    0.293,    0.233,2,  -0.2969
  09AR20060102,  S04I,    50,  1,     22,     22,2,20060129,0534,-66.0008,  40.0042, 4484,     32.0,  -1.3276,  34.2174,2,-999.0000,9,    326.4,2,   -999.0,9,  -999.00,9,  -999.00,9,   -999.0,9,   -999.0,9,2,     0.53,2,    0.492,    0.130,2,  -1.3283
  09AR20060102,  S04I,    50,  1,     21,     21,2,20060129,0534,-66.0008,  40.0042, 4484,     39.0,  -1.3428,  34.2299,2,  34.2258,2,    313.6,2,    319.3,2,    56.40,2,    28.11,2,   2202.2,6,   -999.0,9,2,     0.66,2,    0.506,    0.090,2,  -1.3437
  09AR20060102,  S04I,    50,  1,     20,     20,2,20060129,0534,-66.0008,  40.0042, 4484,     59.2,  -1.6059,  34.2771,2,  34.2777,2,    313.8,2,    311.1,2,    59.60,2,    28.75,2,   2208.4,2,   -999.0,9,2,     0.92,2,    0.775,    0.039,2,  -1.6071
  09AR20060102,  S04I,    50,  1,     19,     19,2,20060129,0534,-66.0008,  40.0042, 4484,     59.3,  -1.6060,  34.2771,2,  34.2775,2,    313.8,2,    311.0,2,    59.50,2,    28.77,2,   2211.0,2,   -999.0,9,2,     0.92,2,    0.739,    0.038,2,  -1.6073
  09AR20060102,  S04I,    50,  1,     18,     18,2,20060129,0534,-66.0008,  40.0042, 4484,     68.9,  -1.6672,  34.2874,2,  34.2879,2,    308.7,2,    307.2,2,    61.00,2,    29.16,2,   2214.0,2,   -999.0,9,2,     0.96,2,    1.065,    0.024,2,  -1.6686
  09AR20060102,  S04I,    50,  1,     17,     17,2,20060129,0534,-66.0008,  40.0042, 4484,     89.7,   0.1936,  34.4843,2,  34.4985,2,    198.8,2,    228.5,3,    79.20,2,    31.79,2,   2244.1,2,   -999.0,9,2,     0.98,2,    0.950,    0.009,2,   0.1903
  09AR20060102,  S04I,    50,  1,     16,     16,2,20060129,0534,-66.0008,  40.0042, 4484,    109.4,   1.1116,  34.6097,2,  34.6103,2,    191.7,2,    192.8,2,    87.20,2,    33.07,2,   2262.0,2,   -999.0,9,2,     0.99,2,    0.568,    0.003,2,   1.1066
  09AR20060102,  S04I,    50,  1,     15,     15,2,20060129,0534,-66.0008,  40.0042, 4484,    118.7,   1.1926,  34.6199,2,  34.6228,2,    189.6,2,    189.9,2,    87.50,2,    32.88,2,   2257.3,2,   -999.0,9,2,     0.99,2,    0.395,    0.002,2,   1.1871
  09AR20060102,  S04I,    50,  1,     14,     14,2,20060129,0534,-66.0008,  40.0042, 4484,    201.1,   1.4403,  34.6777,2,  34.6780,2,    188.8,2,    188.7,2,    90.80,2,    32.09,2,   2260.5,2,   -999.0,9,2,     0.99,2,   -0.030,    0.000,2,   1.4304
  09AR20060102,  S04I,    50,  1,     13,     13,2,20060129,0534,-66.0008,  40.0042, 4484,    299.5,   1.4214,  34.7032,2,  34.7041,2,    192.0,2,    192.0,2,    92.40,2,    31.32,2,   2258.5,2,   -999.0,9,2,     0.99,2,   -0.036,    0.000,2,   1.4065
  09AR20060102,  S04I,    50,  1,     12,     12,2,20060129,0534,-66.0008,  40.0042, 4484,    399.8,   1.3466,  34.7130,2,  34.7139,2,    194.8,2,    194.5,2,    95.10,2,    31.11,2,   2255.3,2,   -999.0,9,2,     0.99,2,   -0.040,    0.000,2,   1.3266
  09AR20060102,  S04I,    50,  1,     11,     11,2,20060129,0534,-66.0008,  40.0042, 4484,    599.3,   1.1581,  34.7172,2,  34.7190,2,    199.1,2,    199.2,2,    99.70,2,    31.00,2,   2257.4,6,   -999.0,9,2,     0.99,2,   -0.043,    0.000,2,   1.1280
  09AR20060102,  S04I,    50,  1,     10,     10,2,20060129,0534,-66.0008,  40.0042, 4484,    899.5,   0.8647,  34.7087,2,  34.7096,2,    203.6,2,    203.2,2,   107.60,2,    31.29,2,   2258.9,2,   -999.0,9,2,     0.99,2,   -0.045,    0.000,2,   0.8193
  09AR20060102,  S04I,    50,  1,      9,      9,2,20060129,0534,-66.0008,  40.0042, 4484,   1199.7,   0.6509,  34.6995,2,  34.6998,2,    205.5,2,    205.6,2,   115.20,2,    31.71,2,   2262.1,2,   -999.0,9,2,     0.99,2,   -0.047,    0.000,2,   0.5894
  09AR20060102,  S04I,    50,  1,      8,      8,2,20060129,0534,-66.0008,  40.0042, 4484,   1499.9,   0.4681,  34.6909,2,  34.6915,2,    207.8,2,    208.3,2,   124.10,2,    32.23,2,   2266.3,2,   -999.0,9,2,     0.99,2,   -0.048,    0.000,2,   0.3896
  09AR20060102,  S04I,    50,  1,      7,      7,2,20060129,0534,-66.0008,  40.0042, 4484,   1999.8,   0.2312,  34.6776,2,  34.6782,2,    216.6,2,    216.6,2,   122.80,2,    32.06,2,   2263.3,2,   -999.0,9,2,     0.99,2,   -0.050,    0.000,2,   0.1218
  09AR20060102,  S04I,    50,  1,      6,      6,2,20060129,0534,-66.0008,  40.0042, 4484,   2499.6,   0.0400,  34.6693,2,  34.6693,2,    224.9,2,    225.0,2,   124.30,2,    31.86,2,   2258.6,2,   -999.0,9,2,     0.99,2,   -0.049,    0.000,2,  -0.1033
  09AR20060102,  S04I,    50,  1,      5,      5,2,20060129,0534,-66.0008,  40.0042, 4484,   2999.9,  -0.1003,  34.6633,2,  34.6629,2,    231.6,2,    231.9,2,   123.90,2,    31.85,2,   2256.4,2,   -999.0,9,2,     0.99,2,   -0.051,    0.000,2,  -0.2814
  09AR20060102,  S04I,    50,  1,      4,      4,2,20060129,0534,-66.0008,  40.0042, 4484,   3500.4,  -0.1968,  34.6589,2,  34.6586,2,    237.2,2,    237.5,2,   124.60,2,    31.60,2,   2253.9,2,   -999.0,9,2,     0.99,2,   -0.055,    0.000,2,  -0.4197
  09AR20060102,  S04I,    50,  1,      3,      3,2,20060129,0534,-66.0008,  40.0042, 4484,   4000.0,  -0.2700,  34.6542,2,  34.6535,2,    242.4,2,    242.8,2,   128.70,2,    31.60,2,   2253.4,2,   -999.0,9,2,     0.99,2,   -0.054,    0.000,2,  -0.5383
  09AR20060102,  S04I,    50,  1,      2,      2,2,20060129,0534,-66.0008,  40.0042, 4484,   4497.8,  -0.3210,  34.6507,2,  34.6509,2,    245.3,2,    245.2,2,   132.80,2,    31.62,2,   2255.6,2,   -999.0,9,2,     0.99,2,   -0.055,    0.000,2,  -0.6383
  09AR20060102,  S04I,    50,  1,      1,      1,2,20060129,0534,-66.0008,  40.0042, 4484,   4574.1,  -0.3113,  34.6529,2,  34.6525,2,    242.8,2,    243.5,2,   137.90,2,    31.88,2,   2254.1,6,   -999.0,9,2,     0.99,2,   -0.055,    0.000,2,  -0.6370