BOTTLE,20220816CCHSIOAMB
EXPOCODE,SECT_ID,STNNBR,CASTNO,SAMPNO,BTLNBR,BTLNBR_FLAG_W,DATE,TIME,LATITUDE,LONGITUDE,DEPTH,CTDPRS,CTDTMP,CTDSAL,CTDSAL_FLAG_W,SALNTY,SALNTY_FLAG_W,CTDOXY,CTDOXY_FLAG_W,OXYGEN,OXYGEN_FLAG_W,SILCAT,SILCAT_FLAG_W,NITRAT,NITRAT_FLAG_W,TCARBN,TCARBN_FLAG_W,ALKALI,ALKALI_FLAG_W,FLUOR_FLAG_W,XMISS,XMISS_FLAG_W,FLUOR,PAR,PAR_FLAG_W,THETA
,,,,,,,,,,,METERS,DBAR,ITS-90,PSS-78,,PSS-78,,UMOL/KG,,UMOL/KG,,UMOL/KG,,UMOL/KG,,UMOL/KG,,UMOL/KG,,,%TRANS,,VOLTS,VOLTS,,DEG C
  09AR20060102,  S04I,    12,  1,     24,     24,2,20060113,1010,-61.5433,  65.2297, 4458,      8.0,   0.6874,  33.7064,2,  33.7073,2,    354.0,2,    353.2,2,    33.20,2,    25.22,2,   2143.9,2,   2277.7,2,2,     0.21,2,    1.698,    0.086,2,   0.6871
  09AR20060102,  S04I,    12,  1,     23,     23,2,20060113,1010,-61.5433,  65.2297, 4458,     30.3,   0.4933,  33.7045,2,-999.0000,9,    354.2,2,   -999.0,9,  -999.00,9,  -999.00,9,   -999.0,9,   -999.0,9,2,     0.47,2,    2.746,    0.012,2,   0.4922
  09AR20060102,  S04I,    12,  1,     22,     22,2,20060113,1010,-61.5433,  65.2297, 4458,     30.1,   0.4971,  33.7047,2,-999.0000,9,    354.2,2,   -999.0,9,  -999.00,9,  -999.00,9,   -999.0,9,   -999.0,9,2,     0.45,2,    2.714,    0.012,2,   0.4960
  09AR20060102,  S04I,    12,  1,     21,     21,2,20060113,1010,-61.5433,  65.2297, 4458,     30.4,   0.4667,  33.7036,2,  33.7050,2,    354.2,2,    355.2,2,    32.80,2,    25.32,2,   2141.4,6,   -999.0,9,2,     0.40,2,    2.789,    0.011,2,   0.4656
  09AR20060102,  S04I,    12,  1,     20,     20,2,20060113,1010,-61.5433,  65.2297, 4458,     40.2,  -0.1520,  33.7307,2,  33.7390,2,    353.9,2,    354.9,2,    41.80,2,  -999.00,9,   2149.8,2,   -999.0,9,2,     0.47,2,    3.290,    0.004,2,  -0.1533
  09AR20060102,  S04I,    12,  1,     19,     19,2,20060113,1010,-61.5433,  65.2297, 4458,     69.9,  -1.6253,  33.9372,2,  33.9389,2,    334.0,2,    334.8,2,    47.00,2,    28.76,2,   2177.3,2,   -999.0,9,2,     0.73,2,    0.808,    0.000,2,  -1.6267
  09AR20060102,  S04I,    12,  1,     18,     18,2,20060113,1010,-61.5433,  65.2297, 4458,     89.6,  -1.4670,  34.0186,2,  34.0246,2,    316.7,2,    316.8,2,    51.80,2,    29.79,2,   2188.2,2,   -999.0,9,2,     0.89,2,    0.601,    0.000,2,  -1.4690
  09AR20060102,  S04I,    12,  1,     17,     17,2,20060113,1010,-61.5433,  65.2297, 4458,    120.2,  -0.0193,  34.2303,2,  34.2522,2,    267.7,2,    250.7,3,    62.80,2,    32.57,2,   2223.3,2,   -999.0,9,2,     0.99,2,    0.386,    0.000,2,  -0.0235
  09AR20060102,  S04I,    12,  1,     16,     16,2,20060113,1010,-61.5433,  65.2297, 4458,    149.2,   1.3301,  34.4446,2,  34.4509,2,    213.0,2,    197.9,3,    72.90,2,    33.91,2,   2247.5,2,   -999.0,9,2,     0.99,2,    0.076,    0.000,2,   1.3230
  09AR20060102,  S04I,    12,  1,     15,     15,2,20060113,1010,-61.5433,  65.2297, 4458,    200.3,   1.8131,  34.5508,2,  34.5513,2,    183.8,2,    179.0,2,    77.70,2,    34.15,2,   2257.5,2,   -999.0,9,2,     0.99,2,   -0.002,    0.000,2,   1.8027
  09AR20060102,  S04I,    12,  1,     14,     14,2,20060113,1010,-61.5433,  65.2297, 4458,    298.9,   1.9070,  34.6247,2,  34.6256,2,    175.6,2,    176.0,2,    83.30,2,    33.22,2,   2258.1,2,   -999.0,9,2,     0.99,2,   -0.017,    0.000,2,   1.8910
  09AR20060102,  S04I,    12,  1,     13,     13,2,20060113,1010,-61.5433,  65.2297, 4458,    399.5,   1.9342,  34.6640,2,  34.6648,2,    177.8,2,    179.0,2,    86.50,2,    33.48,2,   2257.1,2,   -999.0,9,2,     0.99,2,   -0.026,    0.000,2,   1.9123
  09AR20060102,  S04I,    12,  1,     12,     12,2,20060113,1010,-61.5433,  65.2297, 4458,    500.4,   1.9176,  34.7023,2,  34.7041,2,    181.9,2,    183.7,2,    84.40,2,    31.77,2,   2248.5,2,   -999.0,9,2,     0.99,2,   -0.029,    0.000,2,   1.8898
  09AR20060102,  S04I,    12,  1,     11,     11,2,20060113,1010,-61.5433,  65.2297, 4458,    699.4,   1.7943,  34.7303,2,  34.7321,2,    190.3,2,    191.3,2,    86.70,2,    30.66,2,   2247.3,2,   -999.0,9,2,     0.99,2,   -0.030,    0.000,2,   1.7549
  09AR20060102,  S04I,    12,  1,     10,     10,2,20060113,1010,-61.5433,  65.2297, 4458,    900.1,   1.5957,  34.7353,2,  34.7366,2,    195.2,2,    195.9,2,    90.90,2,    30.60,2,   2250.2,2,   -999.0,9,2,     0.99,2,   -0.034,    0.000,2,   1.5449
  09AR20060102,  S04I,    12,  1,      9,      9,2,20060113,1010,-61.5433,  65.2297, 4458,   1200.1,   1.3588,  34.7374,2,-999.0000,9,    201.3,2,   -999.0,9,  -999.00,9,  -999.00,9,   -999.0,9,   -999.0,9,2,     1.00,2,   -0.037,    0.000,2,   1.2904
  09AR20060102,  S04I,    12,  1,      8,      8,2,20060113,1010,-61.5433,  65.2297, 4458,   1598.8,   1.0283,  34.7212,2,  34.7219,2,    205.2,2,    205.8,2,   105.30,2,    30.97,2,   2254.4,2,   -999.0,9,2,     0.99,2,   -0.040,    0.000,2,   0.9361
  09AR20060102,  S04I,    12,  1,      7,      7,2,20060113,1010,-61.5433,  65.2297, 4458,   2002.1,   0.7491,  34.7058,2,  34.7060,2,    208.1,2,    207.9,2,   114.10,2,    31.48,2,   2257.6,6,   -999.0,9,2,     0.99,2,   -0.041,    0.000,2,   0.6314
  09AR20060102,  S04I,    12,  1,      6,      6,2,20060113,1010,-61.5433,  65.2297, 4458,   2500.3,   0.4729,  34.6899,2,  34.6903,2,    211.2,2,    211.3,2,   122.70,2,    32.12,2,   2261.4,2,   -999.0,9,2,     0.99,2,   -0.040,    0.000,2,   0.3211
  09AR20060102,  S04I,    12,  1,      5,      5,2,20060113,1010,-61.5433,  65.2297, 4458,   2999.8,   0.2668,  34.6796,2,  34.6796,2,    217.0,2,    217.1,2,   126.40,2,    32.30,2,   2258.5,2,   -999.0,9,2,     0.99,2,   -0.042,    0.000,2,   0.0774
  09AR20060102,  S04I,    12,  1,      4,      4,2,20060113,1010,-61.5433,  65.2297, 4458,   3500.9,   0.0624,  34.6705,2,  34.6701,2,    224.7,2,    225.1,2,   129.30,2,    32.21,2,   2257.8,2,   -999.0,9,2,     0.99,2,   -0.043,    0.000,2,  -0.1672
  09AR20060102,  S04I,    12,  1,      3,      3,2,20060113,1010,-61.5433,  65.2297, 4458,   4000.8,  -0.1096,  34.6629,2,  34.6625,2,    232.5,2,    233.1,2,   128.20,2,    32.34,2,   2255.1,2,   -999.0,9,2,     0.99,2,   -0.047,    0.000,2,  -0.3826
  09AR20060102,  S04I,    12,  1,      2,      2,2,20060113,1010,-61.5433,  65.2297, 4458,   4496.8,  -0.1845,  34.6579,2,  34.6576,2,    237.5,2,    237.8,2,   133.80,2,    31.98,2,   2254.7,2,   -999.0,9,2,     0.99,2,   -0.048,    0.000,2,  -0.5061
  09AR20060102,  S04I,    12,  1,      1,      1,2,20060113,1010,-61.5433,  65.2297, 4458,   4530.8,  -0.1959,  34.6569,2,  34.6591,2,    238.2,2,    238.6,2,   138.00,2,    32.06,2,   2252.7,6,   -999.0,9,2,     0.99,2,   -0.046,    0.000,2,  -0.5207
  09AR20060102,  S04I,    13,  1,     24,     24,2,20060113,1852,-61.6582,  62.6715, 4447,      9.9,   0.5064,  33.7015,2,  33.6983,2,    356.9,2,    356.1,2,    31.60,2,    24.62,2,   -999.0,9,   -999.0,9,2,     0.10,2,    3.096,    0.000,2,   0.5060
  09AR20060102,  S04I,    13,  1,     23,     23,2,20060113,1852,-61.6582,  62.6715, 4447,     20.2,   0.3165,  33.7069,2,-999.0000,9,    356.3,2,   -999.0,9,  -999.00,9,  -999.00,9,   -999.0,9,   -999.0,9,2,     0.13,2,    3.646,    0.000,2,   0.3158
  09AR20060102,  S04I,    13,  1,     22,     22,2,20060113,1852,-61.6582,  62.6715, 4447,     20.2,   0.3356,  33.7052,2,-999.0000,9,    356.3,2,   -999.0,9,  -999.00,9,  -999.00,9,   -999.0,9,   -999.0,9,2,     0.19,2,    3.553,    0.000,2,   0.3349
  09AR20060102,  S04I,    13,  1,     21,     21,2,20060113,1852,-61.6582,  62.6715, 4447,     20.2,   0.4582,  33.7015,2,  33.7020,2,    356.3,2,    355.7,2,    31.40,2,    24.48,2,   -999.0,9,   -999.0,9,2,     0.10,2,    3.274,    0.000,2,   0.4574
  09AR20060102,  S04I,    13,  1,     20,     20,2,20060113,1852,-61.6582,  62.6715, 4447,     48.9,  -0.9384,  33.8234,2,  33.8085,2,    348.2,2,    352.0,2,    38.90,2,    26.41,2,   -999.0,9,   -999.0,9,2,     0.32,2,    2.660,    0.000,2,  -0.9397
  09AR20060102,  S04I,    13,  1,     19,     19,2,20060113,1852,-61.6582,  62.6715, 4447,     79.6,  -1.6464,  33.9610,2,  33.9608,2,    329.6,2,    327.6,2,    53.70,2,    27.78,2,   -999.0,9,   -999.0,9,2,     0.72,2,    0.903,    0.000,2,  -1.6480
  09AR20060102,  S04I,    13,  1,     18,     18,2,20060113,1852,-61.6582,  62.6715, 4447,    100.3,  -1.1854,  34.0634,2,  34.0612,2,    323.4,2,    306.1,3,    58.20,2,    29.54,2,   -999.0,9,   -999.0,9,2,     0.83,2,    0.873,    0.000,2,  -1.1879
  09AR20060102,  S04I,    13,  1,     17,     17,2,20060113,1852,-61.6582,  62.6715, 4447,    149.5,   1.3194,  34.4417,2,  34.4421,2,    244.2,2,    200.1,3,    72.40,2,    33.78,2,   -999.0,9,   -999.0,9,2,     0.99,2,    0.127,    0.000,2,   1.3123
  09AR20060102,  S04I,    13,  1,     16,     16,2,20060113,1852,-61.6582,  62.6715, 4447,    201.7,   1.7847,  34.5555,2,  34.5536,2,    183.7,2,    180.5,2,    87.90,3,    32.96,2,   -999.0,9,   -999.0,9,2,     0.99,2,    0.000,    0.000,2,   1.7743
  09AR20060102,  S04I,    13,  1,     15,     15,2,20060113,1852,-61.6582,  62.6715, 4447,    299.2,   1.8946,  34.6298,2,  34.6313,2,    176.3,2,    176.8,2,    83.40,2,    33.01,2,   -999.0,9,   -999.0,9,2,     0.99,2,   -0.021,    0.000,2,   1.8786
  09AR20060102,  S04I,    13,  1,     14,     14,2,20060113,1852,-61.6582,  62.6715, 4447,    400.3,   1.9229,  34.6725,2,  34.6737,2,    178.2,2,    179.4,2,    84.20,2,    32.08,2,   -999.0,9,   -999.0,9,2,     0.99,2,   -0.026,    0.000,2,   1.9010
  09AR20060102,  S04I,    13,  1,     13,     13,2,20060113,1852,-61.6582,  62.6715, 4447,    499.4,   1.8888,  34.6990,2,  34.6990,2,    182.1,2,    182.9,2,    84.70,2,    31.61,2,   -999.0,9,   -999.0,9,2,     0.99,2,   -0.027,    0.000,2,   1.8612
  09AR20060102,  S04I,    13,  1,     12,     12,2,20060113,1852,-61.6582,  62.6715, 4447,    701.9,   1.7782,  34.7307,2,  34.7312,2,    190.8,2,    191.7,2,    87.00,2,    30.50,2,   -999.0,9,   -999.0,9,2,     0.99,2,   -0.033,    0.000,2,   1.7388
  09AR20060102,  S04I,    13,  1,     11,     11,2,20060113,1852,-61.6582,  62.6715, 4447,    896.8,   1.5999,  34.7397,2,  34.7406,2,    197.5,2,    197.3,2,    89.50,2,    30.16,2,   -999.0,9,   -999.0,9,2,     0.99,2,   -0.034,    0.000,2,   1.5493
  09AR20060102,  S04I,    13,  1,     10,     10,2,20060113,1852,-61.6582,  62.6715, 4447,    998.1,   1.5139,  34.7406,2,  34.7323,2,    199.5,2,    200.2,2,    91.30,2,    29.95,2,   -999.0,9,   -999.0,9,2,     0.99,2,   -0.036,    0.000,2,   1.4575
  09AR20060102,  S04I,    13,  1,      9,      9,2,20060113,1852,-61.6582,  62.6715, 4447,   1200.6,   1.3279,  34.7357,2,  34.7337,2,    202.8,2,    202.6,2,    94.90,2,    30.25,2,   -999.0,9,   -999.0,9,2,     1.00,2,   -0.037,    0.000,2,   1.2598
  09AR20060102,  S04I,    13,  1,      8,      8,2,20060113,1852,-61.6582,  62.6715, 4447,   1605.0,   0.9732,  34.7185,2,  34.7192,2,    206.1,2,    205.8,2,   105.20,2,    30.62,2,   -999.0,9,   -999.0,9,2,     0.99,2,   -0.037,    0.000,2,   0.8813
  09AR20060102,  S04I,    13,  1,      7,      7,2,20060113,1852,-61.6582,  62.6715, 4447,   1998.9,   0.6681,  34.7007,2,  34.7009,2,    208.0,2,    207.3,2,   113.30,2,    31.62,2,   -999.0,9,   -999.0,9,2,     0.99,2,   -0.041,    0.000,2,   0.5519
  09AR20060102,  S04I,    13,  1,      6,      6,2,20060113,1852,-61.6582,  62.6715, 4447,   2499.8,   0.3851,  34.6857,2,  34.6854,2,    213.1,2,    213.2,2,   122.70,2,    31.81,2,   -999.0,9,   -999.0,9,2,     0.99,2,   -0.041,    0.000,2,   0.2351
  09AR20060102,  S04I,    13,  1,      5,      5,2,20060113,1852,-61.6582,  62.6715, 4447,   2998.2,   0.1757,  34.6759,2,  34.6752,2,    220.0,2,    220.8,2,   127.10,2,    32.07,2,   -999.0,9,   -999.0,9,2,     0.99,2,   -0.041,    0.000,2,  -0.0115
  09AR20060102,  S04I,    13,  1,      4,      4,2,20060113,1852,-61.6582,  62.6715, 4447,   3501.7,   0.0100,  34.6683,2,  34.6670,2,    227.7,2,    227.6,2,   131.20,2,    32.21,2,   -999.0,9,   -999.0,9,2,     0.99,2,   -0.044,    0.000,2,  -0.2184
  09AR20060102,  S04I,    13,  1,      3,      3,2,20060113,1852,-61.6582,  62.6715, 4447,   3998.3,  -0.1294,  34.6624,2,  34.6617,2,    234.2,2,    234.0,2,   134.50,2,    32.05,2,   -999.0,9,   -999.0,9,2,     0.99,2,   -0.049,    0.000,2,  -0.4016
  09AR20060102,  S04I,    13,  1,      2,      2,2,20060113,1852,-61.6582,  62.6715, 4447,   4492.0,  -0.2030,  34.6570,2,  34.6542,2,    238.8,2,    238.8,2,   139.70,2,    32.07,2,   -999.0,9,   -999.0,9,2,     0.99,2,   -0.046,    0.000,2,  -0.5234
  09AR20060102,  S04I,    13,  1,      1,      1,2,20060113,1852,-61.6582,  62.6715, 4447,   4533.0,  -0.2210,  34.6556,2,  34.6550,2,    239.8,2,    239.9,2,   137.50,2,    31.86,2,   -999.0,9,   -999.0,9,2,     0.99,2,   -0.047,    0.000,2,  -0.5452
  09AR20060102,  S04I,    14,  1,     24,     24,2,20060114,0329,-61.7698,  60.1168, 4698,      9.0,   0.7117,  33.7185,2,  33.7202,2,    347.5,2,    345.8,2,    37.20,2,    25.39,2,   2152.2,2,   2279.3,2,2,     0.33,2,   -0.007,    0.583,2,   0.7113
  09AR20060102,  S04I,    14,  1,     23,     23,2,20060114,0329,-61.7698,  60.1168, 4698,     28.5,   0.4318,  33.7350,2,-999.0000,9,    348.2,2,   -999.0,9,  -999.00,9,  -999.00,9,   -999.0,9,   -999.0,9,2,     0.52,2,    0.097,    0.211,2,   0.4307
  09AR20060102,  S04I,    14,  1,     22,     22,2,20060114,0329,-61.7698,  60.1168, 4698,     28.4,   0.4310,  33.7349,2,-999.0000,9,    348.2,2,   -999.0,9,  -999.00,9,  -999.00,9,   -999.0,9,   -999.0,9,2,     0.46,2,    0.089,    0.209,2,   0.4299
  09AR20060102,  S04I,    14,  1,     21,     21,2,20060114,0329,-61.7698,  60.1168, 4698,     28.4,   0.4278,  33.7345,2,  33.7364,2,    348.2,2,    346.7,2,    37.50,2,    25.76,2,   2155.4,6,   -999.0,9,2,     0.44,2,    0.089,    0.210,2,   0.4267
  09AR20060102,  S04I,    14,  1,     20,     20,2,20060114,0329,-61.7698,  60.1168, 4698,     49.3,  -0.9915,  33.8328,2,  33.8285,2,    347.7,2,    354.3,2,    40.00,2,    26.24,2,   2165.1,2,   -999.0,9,2,     0.77,2,    0.277,    0.102,2,  -0.9928
  09AR20060102,  S04I,    14,  1,     19,     19,2,20060114,0329,-61.7698,  60.1168, 4698,     79.1,  -1.6182,  33.9739,2,  33.9702,2,    335.0,2,    331.5,2,    47.30,2,    27.99,2,   2185.4,2,   -999.0,9,2,     0.98,2,    0.457,    0.032,2,  -1.6198
  09AR20060102,  S04I,    14,  1,     18,     18,2,20060114,0329,-61.7698,  60.1168, 4698,    101.5,  -0.8461,  34.1116,2,  34.0968,2,    311.2,2,    298.9,2,    56.10,2,    29.87,2,   2202.3,2,   -999.0,9,2,     0.98,2,    0.585,    0.012,2,  -0.8489
  09AR20060102,  S04I,    14,  1,     17,     17,2,20060114,0329,-61.7698,  60.1168, 4698,    149.0,   1.4850,  34.4728,2,  34.4726,2,    215.9,2,    194.6,3,    78.10,2,    32.86,2,   2184.1,4,   -999.0,9,2,     0.99,2,    0.094,    0.001,2,   1.4778
  09AR20060102,  S04I,    14,  1,     16,     16,2,20060114,0329,-61.7698,  60.1168, 4698,    199.2,   1.7457,  34.5521,2,  34.5513,2,    183.9,2,    184.9,2,    78.70,2,    33.43,2,   2257.0,2,   -999.0,9,2,     0.99,2,   -0.019,    0.000,2,   1.7355
  09AR20060102,  S04I,    14,  1,     15,     15,2,20060114,0329,-61.7698,  60.1168, 4698,    300.9,   1.8478,  34.6253,2,  34.6252,2,    178.2,2,    177.9,2,    81.80,2,    32.50,2,   2257.4,2,   -999.0,9,2,     0.99,2,   -0.032,    0.000,2,   1.8318
  09AR20060102,  S04I,    14,  1,     14,     14,2,20060114,0329,-61.7698,  60.1168, 4698,    399.0,   1.8741,  34.6702,2,  34.6707,2,    180.4,2,    179.9,2,    83.90,2,    31.77,2,   2258.3,2,   -999.0,9,2,     0.99,2,   -0.032,    0.000,2,   1.8524
  09AR20060102,  S04I,    14,  1,     13,     13,2,20060114,0329,-61.7698,  60.1168, 4698,    499.4,   1.8275,  34.7008,2,  34.7023,2,    184.2,2,    184.2,2,    83.90,2,    31.21,2,   2253.7,2,   -999.0,9,2,     0.99,2,   -0.031,    0.000,2,   1.8001
  09AR20060102,  S04I,    14,  1,     12,     12,2,20060114,0329,-61.7698,  60.1168, 4698,    702.2,   1.6923,  34.7261,2,  34.7308,2,    192.0,2,    192.4,2,    88.90,2,    30.18,2,   2251.8,2,   -999.0,9,2,     0.99,2,   -0.035,    0.000,2,   1.6533
  09AR20060102,  S04I,    14,  1,     11,     11,2,20060114,0329,-61.7698,  60.1168, 4698,    899.8,   1.4954,  34.7316,2,  34.7327,2,    197.4,2,    197.0,2,    91.50,2,    30.06,2,   2251.6,2,   -999.0,9,2,     0.99,2,   -0.032,    0.000,2,   1.4454
  09AR20060102,  S04I,    14,  1,     10,     10,2,20060114,0329,-61.7698,  60.1168, 4698,    998.0,   1.4224,  34.7318,2,  34.7325,2,    199.4,2,    200.0,2,    94.70,2,    29.74,2,   2250.8,2,   -999.0,9,2,     0.99,2,   -0.037,    0.000,2,   1.3667
  09AR20060102,  S04I,    14,  1,      9,      9,2,20060114,0329,-61.7698,  60.1168, 4698,   1198.5,   1.2501,  34.7298,2,  34.7310,2,    202.8,2,    202.3,2,    95.90,2,    30.02,2,   2252.4,2,   -999.0,9,2,     0.99,2,   -0.043,    0.000,2,   1.1829
  09AR20060102,  S04I,    14,  1,      8,      8,2,20060114,0329,-61.7698,  60.1168, 4698,   1599.1,   0.8796,  34.7114,2,  34.7117,2,    206.9,2,    208.1,2,   106.70,2,    30.59,2,   2191.1,4,   -999.0,9,2,     0.99,2,   -0.039,    0.000,2,   0.7893
  09AR20060102,  S04I,    14,  1,      7,      7,2,20060114,0329,-61.7698,  60.1168, 4698,   2000.0,   0.5987,  34.6958,2,  34.6964,2,    208.5,2,    208.1,2,   115.40,2,    31.36,2,   2261.2,2,   -999.0,9,2,     0.99,2,   -0.040,    0.000,2,   0.4835
  09AR20060102,  S04I,    14,  1,      6,      6,2,20060114,0329,-61.7698,  60.1168, 4698,   2500.6,   0.3557,  34.6839,2,  34.6844,2,    213.6,2,    213.8,2,   125.00,2,    31.67,2,   2261.7,2,   -999.0,9,2,     0.99,2,   -0.043,    0.000,2,   0.2062
  09AR20060102,  S04I,    14,  1,      5,      5,2,20060114,0329,-61.7698,  60.1168, 4698,   2999.5,   0.1544,  34.6748,2,  34.6743,2,    220.6,2,    221.0,2,   128.20,2,    31.98,2,   2259.8,2,   -999.0,9,2,     0.99,2,   -0.043,    0.000,2,  -0.0325
  09AR20060102,  S04I,    14,  1,      4,      4,2,20060114,0329,-61.7698,  60.1168, 4698,   3497.4,   0.0147,  34.6683,2,  34.6674,2,    228.2,2,    227.2,2,   129.50,2,    31.61,2,   2257.8,2,   -999.0,9,2,     0.99,2,   -0.044,    0.000,2,  -0.2134
  09AR20060102,  S04I,    14,  1,      3,      3,2,20060114,0329,-61.7698,  60.1168, 4698,   3999.7,  -0.1151,  34.6624,2,  34.6619,2,    235.5,2,    235.0,2,   132.60,2,    31.61,2,   2188.7,4,   -999.0,9,2,     0.99,2,   -0.046,    0.000,2,  -0.3879
  09AR20060102,  S04I,    14,  1,      2,      2,2,20060114,0329,-61.7698,  60.1168, 4698,   4751.6,  -0.2552,  34.6502,2,  34.6503,2,    248.3,2,    246.6,2,   130.30,2,    31.38,2,   2186.1,4,   -999.0,9,2,     0.99,2,   -0.048,    0.000,2,  -0.6017
  09AR20060102,  S04I,    14,  1,      1,      1,2,20060114,0329,-61.7698,  60.1168, 4698,   4791.8,  -0.2463,  34.6510,2,  34.6533,2,    248.3,2,    248.8,2,   130.60,2,    31.47,2,   2252.7,6,   -999.0,9,2,     0.99,2,   -0.041,    0.000,2,  -0.5975