BOTTLE,20220816CCHSIOAMB
EXPOCODE,SECT_ID,STNNBR,CASTNO,SAMPNO,BTLNBR,BTLNBR_FLAG_W,DATE,TIME,LATITUDE,LONGITUDE,DEPTH,CTDPRS,CTDTMP,CTDSAL,CTDSAL_FLAG_W,SALNTY,SALNTY_FLAG_W,CTDOXY,CTDOXY_FLAG_W,OXYGEN,OXYGEN_FLAG_W,SILCAT,SILCAT_FLAG_W,NITRAT,NITRAT_FLAG_W,TCARBN,TCARBN_FLAG_W,ALKALI,ALKALI_FLAG_W,FLUOR_FLAG_W,XMISS,XMISS_FLAG_W,FLUOR,PAR,PAR_FLAG_W,THETA
,,,,,,,,,,,METERS,DBAR,ITS-90,PSS-78,,PSS-78,,UMOL/KG,,UMOL/KG,,UMOL/KG,,UMOL/KG,,UMOL/KG,,UMOL/KG,,,%TRANS,,VOLTS,VOLTS,,DEG C
  09AR20060102,  S04I,    63,  1,     24,     24,2,20060204,0319,-64.5108,  49.9933, 4272,      9.8,   0.1844,  33.7157,2,  33.7085,2,    343.9,2,    343.7,2,    60.70,2,    27.40,2,   2162.9,2,   2279.4,2,2,     0.95,2,    0.124,    0.595,2,   0.1841
  09AR20060102,  S04I,    63,  1,     23,     23,2,20060204,0319,-64.5108,  49.9933, 4272,     30.5,   0.1840,  33.7160,2,-999.0000,9,    343.7,2,   -999.0,9,  -999.00,9,  -999.00,9,   -999.0,9,   -999.0,9,2,     0.95,2,    0.524,    0.145,2,   0.1829
  09AR20060102,  S04I,    63,  1,     22,     22,2,20060204,0319,-64.5108,  49.9933, 4272,     30.6,   0.1727,  33.7197,2,-999.0000,9,    343.7,2,   -999.0,9,  -999.00,9,  -999.00,9,   -999.0,9,   -999.0,9,2,     0.95,2,    0.502,    0.149,2,   0.1716
  09AR20060102,  S04I,    63,  1,     21,     21,2,20060204,0319,-64.5108,  49.9933, 4272,     30.5,   0.1739,  33.7187,2,  33.7188,2,    343.7,2,    343.5,2,    61.60,2,    27.22,2,   2163.6,6,   -999.0,9,2,     0.95,2,    0.492,    0.132,2,   0.1728
  09AR20060102,  S04I,    63,  1,     20,     20,2,20060204,0319,-64.5108,  49.9933, 4272,     49.9,  -1.2526,  34.0768,2,  34.0731,2,    333.3,2,    333.5,2,    63.40,2,    28.16,2,   2189.7,2,   -999.0,9,2,     0.96,2,    1.037,    0.049,2,  -1.2538
  09AR20060102,  S04I,    63,  1,     19,     19,2,20060204,0319,-64.5108,  49.9933, 4272,     69.5,  -1.3052,  34.2520,2,  34.2524,2,    306.7,2,    308.6,2,    71.10,2,    29.61,2,   2208.6,2,   -999.0,9,2,     0.96,2,    1.863,    0.016,2,  -1.3069
  09AR20060102,  S04I,    63,  1,     18,     18,2,20060204,0319,-64.5108,  49.9933, 4272,     80.2,  -1.1515,  34.3532,2,  34.3527,2,    297.1,2,    288.8,3,    72.00,2,    30.76,2,   2225.1,2,   -999.0,9,2,     0.97,2,    1.355,    0.009,2,  -1.1535
  09AR20060102,  S04I,    63,  1,     17,     17,2,20060204,0319,-64.5108,  49.9933, 4272,    100.3,  -1.1001,  34.3871,2,  34.3856,2,    277.2,2,    282.6,2,    73.00,2,    31.17,2,   2229.0,2,   -999.0,9,2,     0.99,2,    0.517,    0.002,2,  -1.1027
  09AR20060102,  S04I,    63,  1,     16,     16,2,20060204,0319,-64.5108,  49.9933, 4272,    129.0,  -0.5188,  34.4600,2,  34.4436,2,    254.7,2,    268.6,3,    76.40,2,    31.65,2,   2232.1,2,   -999.0,9,2,     0.99,2,    0.099,    0.000,2,  -0.5229
  09AR20060102,  S04I,    63,  1,     15,     15,2,20060204,0319,-64.5108,  49.9933, 4272,    169.8,   0.8578,  34.6027,2,  34.5989,2,    202.7,2,    211.9,2,    83.80,2,    32.20,2,   2252.4,2,   -999.0,9,2,     0.99,2,    0.002,    0.000,2,   0.8504
  09AR20060102,  S04I,    63,  1,     14,     14,2,20060204,0319,-64.5108,  49.9933, 4272,    200.0,   1.3074,  34.6525,2,  34.6450,2,    197.8,2,    194.5,2,    96.90,2,    32.30,2,   2256.2,2,   -999.0,9,2,     0.99,2,   -0.029,    0.000,2,   1.2978
  09AR20060102,  S04I,    63,  1,     13,     13,2,20060204,0319,-64.5108,  49.9933, 4272,    302.3,   1.3084,  34.6823,2,  34.6817,2,    195.0,2,    196.9,2,    95.20,2,    31.86,2,   2255.9,6,   -999.0,9,2,     0.99,2,   -0.038,    0.000,2,   1.2936
  09AR20060102,  S04I,    63,  1,     12,     12,2,20060204,0319,-64.5108,  49.9933, 4272,    400.1,   1.3089,  34.7025,2,  34.7033,2,    198.8,2,    198.7,2,    98.50,2,    31.28,2,   2253.6,2,   -999.0,9,2,     0.99,2,   -0.039,    0.000,2,   1.2890
  09AR20060102,  S04I,    63,  1,     11,     11,2,20060204,0319,-64.5108,  49.9933, 4272,    599.2,   1.2077,  34.7188,2,  34.7192,2,    199.8,2,    199.6,2,   103.40,2,    31.11,2,   2257.9,2,   -999.0,9,2,     0.99,2,   -0.040,    0.000,2,   1.1773
  09AR20060102,  S04I,    63,  1,     10,     10,2,20060204,0319,-64.5108,  49.9933, 4272,    901.3,   0.9181,  34.7112,2,  34.7121,2,    203.2,2,    203.3,2,   113.20,2,    31.39,2,   2258.6,2,   -999.0,9,2,     0.99,2,   -0.042,    0.000,2,   0.8722
  09AR20060102,  S04I,    63,  1,      9,      9,2,20060204,0319,-64.5108,  49.9933, 4272,   1199.9,   0.6617,  34.6998,2,  34.6998,2,    205.5,2,    206.3,2,   118.00,2,    31.76,2,   2263.7,2,   -999.0,9,2,     0.99,2,   -0.043,    0.000,2,   0.6001
  09AR20060102,  S04I,    63,  1,      8,      8,2,20060204,0319,-64.5108,  49.9933, 4272,   1499.1,   0.4819,  34.6907,2,  34.6915,2,    207.4,2,    209.1,2,   121.80,2,    32.41,2,   2264.9,2,   -999.0,9,2,     0.99,2,   -0.045,    0.000,2,   0.4033
  09AR20060102,  S04I,    63,  1,      7,      7,2,20060204,0319,-64.5108,  49.9933, 4272,   1999.4,   0.2212,  34.6770,2,  34.6774,2,    217.2,2,    216.7,2,   126.50,2,    32.26,2,   2262.9,2,   -999.0,9,2,     0.99,2,   -0.048,    0.000,2,   0.1120
  09AR20060102,  S04I,    63,  1,      6,      6,2,20060204,0319,-64.5108,  49.9933, 4272,   2498.2,   0.0244,  34.6674,2,  34.6678,2,    226.7,2,    226.6,2,   125.40,2,    32.02,2,   2260.4,2,   -999.0,9,2,     0.99,2,   -0.050,    0.000,2,  -0.1185
  09AR20060102,  S04I,    63,  1,      5,      5,2,20060204,0319,-64.5108,  49.9933, 4272,   2997.2,  -0.1285,  34.6612,2,  34.6587,2,    234.9,2,    235.0,2,   122.40,2,    32.02,2,   2259.0,2,   -999.0,9,2,     0.99,2,   -0.051,    0.000,2,  -0.3087
  09AR20060102,  S04I,    63,  1,      4,      4,2,20060204,0319,-64.5108,  49.9933, 4272,   3503.0,  -0.2236,  34.6574,2,  34.6560,2,    238.4,2,    238.8,2,   125.60,2,    32.59,2,   2253.8,2,   -999.0,9,2,     0.99,2,   -0.053,    0.000,2,  -0.4460
  09AR20060102,  S04I,    63,  1,      3,      3,2,20060204,0319,-64.5108,  49.9933, 4272,   3998.4,  -0.3074,  34.6503,2,  34.6476,2,    246.1,2,    246.6,2,   121.60,2,    31.81,2,   2251.7,2,   -999.0,9,2,     0.99,2,   -0.053,    0.000,2,  -0.5744
  09AR20060102,  S04I,    63,  1,      2,      2,2,20060204,0319,-64.5108,  49.9933, 4272,   4248.6,  -0.3051,  34.6486,2,  34.6450,2,    249.1,2,    248.8,2,   119.90,2,    31.71,2,   2252.2,2,   -999.0,9,2,     0.99,2,   -0.051,    0.000,2,  -0.5971
  09AR20060102,  S04I,    63,  1,      1,      1,2,20060204,0319,-64.5108,  49.9933, 4272,   4346.4,  -0.3046,  34.6487,2,  34.6476,2,    247.8,2,    248.0,2,   131.50,2,    31.68,2,   2253.0,6,   -999.0,9,2,     0.99,2,   -0.051,    0.000,2,  -0.6066
  09AR20060102,  S04I,    64,  1,     24,     24,2,20060204,1150,-65.0008,  49.9968, 2542,      9.7,  -0.0093,  33.6871,2,  33.6889,2,    344.3,2,    344.2,2,    57.80,2,    27.71,2,   2163.7,2,   -999.0,9,2,     0.95,2,    0.655,    0.147,2,  -0.0096
  09AR20060102,  S04I,    64,  1,     23,     23,2,20060204,1150,-65.0008,  49.9968, 2542,      9.6,  -0.0095,  33.6871,2,-999.0000,9,    344.3,2,   -999.0,9,  -999.00,9,  -999.00,9,   -999.0,9,   -999.0,9,2,     0.95,2,    0.594,    0.150,2,  -0.0098
  09AR20060102,  S04I,    64,  1,     22,     22,2,20060204,1150,-65.0008,  49.9968, 2542,      9.5,  -0.0094,  33.6872,2,-999.0000,9,    344.3,2,   -999.0,9,  -999.00,9,  -999.00,9,   -999.0,9,   -999.0,9,2,     0.95,2,    0.697,    0.154,2,  -0.0097
  09AR20060102,  S04I,    64,  1,     21,     21,2,20060204,1150,-65.0008,  49.9968, 2542,     20.2,  -0.0099,  33.6874,2,  33.6893,2,    344.1,2,    344.4,2,    60.50,2,    27.52,2,   2134.2,2,   -999.0,9,2,     0.96,2,    0.828,    0.076,2,  -0.0106
  09AR20060102,  S04I,    64,  1,     20,     20,2,20060204,1150,-65.0008,  49.9968, 2542,     29.2,  -0.0192,  33.6885,2,  33.6915,2,    344.2,2,    344.5,2,    58.40,2,    27.47,2,   -999.0,9,   -999.0,9,2,     0.95,2,    0.850,    0.049,2,  -0.0202
  09AR20060102,  S04I,    64,  1,     19,     19,2,20060204,1150,-65.0008,  49.9968, 2542,     49.8,  -1.4657,  34.0611,2,  34.0565,2,    336.6,2,    325.3,3,    62.40,2,    29.27,2,   2171.6,2,   -999.0,9,2,     0.96,2,    1.379,    0.017,2,  -1.4668
  09AR20060102,  S04I,    64,  1,     18,     18,2,20060204,1150,-65.0008,  49.9968, 2542,     67.7,  -1.6678,  34.2012,2,  34.1988,2,    310.3,2,    311.7,2,    64.90,2,    30.13,2,   2176.7,2,   -999.0,9,2,     0.97,2,    1.802,    0.006,2,  -1.6692
  09AR20060102,  S04I,    64,  1,     17,     17,2,20060204,1150,-65.0008,  49.9968, 2542,     80.1,  -1.7063,  34.2932,2,  34.2914,2,    304.2,2,    301.5,2,    67.20,2,    31.11,2,   2220.2,2,   -999.0,9,2,     0.99,2,    0.631,    0.002,2,  -1.7079
  09AR20060102,  S04I,    64,  1,     16,     16,2,20060204,1150,-65.0008,  49.9968, 2542,     99.2,  -1.6340,  34.3293,2,  34.3300,2,    297.6,2,    298.4,2,    70.50,2,    30.98,2,   2220.5,2,   -999.0,9,2,     0.99,2,    0.315,    0.001,2,  -1.6361
  09AR20060102,  S04I,    64,  1,     15,     15,2,20060204,1150,-65.0008,  49.9968, 2542,    119.3,  -1.5881,  34.3591,2,  34.3574,2,    296.2,2,    297.3,2,    71.10,2,    30.82,2,   -999.0,9,   -999.0,9,2,     0.99,2,    0.151,    0.000,2,  -1.5907
  09AR20060102,  S04I,    64,  1,     14,     14,2,20060204,1150,-65.0008,  49.9968, 2542,    150.4,  -1.4952,  34.3851,2,  34.3846,2,    296.5,2,    296.2,2,    73.30,2,    30.97,2,   -999.0,9,   -999.0,9,2,     0.99,2,    0.025,    0.000,2,  -1.4987
  09AR20060102,  S04I,    64,  1,     13,     13,2,20060204,1150,-65.0008,  49.9968, 2542,    199.9,  -1.0257,  34.4441,2,  34.4438,2,    284.6,2,    281.9,2,    76.70,2,    30.89,2,   -999.0,9,   -999.0,9,2,     0.99,2,   -0.019,    0.000,2,  -1.0313
  09AR20060102,  S04I,    64,  1,     12,     12,2,20060204,1150,-65.0008,  49.9968, 2542,    299.1,   0.1202,  34.5883,2,  34.5883,2,    243.5,2,    239.9,2,    90.70,2,    31.55,2,   -999.0,9,   -999.0,9,2,     0.99,2,   -0.045,    0.000,2,   0.1086
  09AR20060102,  S04I,    64,  1,     11,     11,2,20060204,1150,-65.0008,  49.9968, 2542,    400.1,   0.4352,  34.6398,2,  34.6399,2,    226.0,2,    226.9,2,    94.10,2,    31.29,2,   -999.0,9,   -999.0,9,2,     0.99,2,   -0.044,    0.000,2,   0.4182
  09AR20060102,  S04I,    64,  1,     10,     10,2,20060204,1150,-65.0008,  49.9968, 2542,    549.8,   0.4865,  34.6617,2,  34.6629,2,    224.8,2,    221.5,2,   102.80,2,    31.55,2,   -999.0,9,   -999.0,9,2,     0.99,2,   -0.047,    0.000,2,   0.4622
  09AR20060102,  S04I,    64,  1,      9,      9,2,20060204,1150,-65.0008,  49.9968, 2542,    699.5,   0.3382,  34.6595,2,  34.6599,2,    223.7,2,    224.8,2,   105.70,2,    31.58,2,   -999.0,9,   -999.0,9,2,     0.99,2,   -0.046,    0.000,2,   0.3072
  09AR20060102,  S04I,    64,  1,      8,      8,2,20060204,1150,-65.0008,  49.9968, 2542,    800.1,   0.3864,  34.6732,2,  34.6735,2,    215.5,2,    219.0,2,   112.60,2,    32.17,2,   -999.0,9,   -999.0,9,2,     0.99,2,   -0.044,    0.000,2,   0.3499
  09AR20060102,  S04I,    64,  1,      7,      7,2,20060204,1150,-65.0008,  49.9968, 2542,    899.2,   0.2683,  34.6672,2,  34.6678,2,    221.2,2,    221.5,2,   112.50,2,    32.00,2,   -999.0,9,   -999.0,9,2,     0.99,2,   -0.046,    0.000,2,   0.2274
  09AR20060102,  S04I,    64,  1,      6,      6,2,20060204,1150,-65.0008,  49.9968, 2542,   1099.8,   0.2257,  34.6729,2,  34.6733,2,    218.9,2,    219.3,2,   123.10,3,    32.57,2,   -999.0,9,   -999.0,9,2,     0.99,2,   -0.045,    0.000,2,   0.1741
  09AR20060102,  S04I,    64,  1,      5,      5,2,20060204,1150,-65.0008,  49.9968, 2542,   1298.6,   0.1196,  34.6703,2,  34.6707,2,    221.8,2,    221.3,2,   119.50,2,    32.43,2,   -999.0,9,   -999.0,9,2,     0.99,2,   -0.050,    0.000,2,   0.0575
  09AR20060102,  S04I,    64,  1,      4,      4,2,20060204,1150,-65.0008,  49.9968, 2542,   1700.0,  -0.1084,  34.6589,2,  34.6587,2,    232.1,2,    232.4,2,   117.80,2,    31.95,2,   -999.0,9,   -999.0,9,2,     0.99,2,   -0.048,    0.000,2,  -0.1924
  09AR20060102,  S04I,    64,  1,      3,      3,2,20060204,1150,-65.0008,  49.9968, 2542,   2102.3,  -0.1767,  34.6584,2,  34.6574,2,    236.3,2,    236.1,2,   115.80,2,    32.19,2,   -999.0,9,   -999.0,9,2,     0.99,2,   -0.049,    0.000,2,  -0.2867
  09AR20060102,  S04I,    64,  1,      2,      2,2,20060204,1150,-65.0008,  49.9968, 2542,   2480.0,  -0.2422,  34.6559,2,  34.6552,2,    240.4,2,    240.3,2,   123.90,2,    31.74,2,   -999.0,9,   -999.0,9,2,     0.99,2,   -0.048,    0.000,2,  -0.3786
  09AR20060102,  S04I,    64,  1,      1,      1,2,20060204,1150,-65.0008,  49.9968, 2542,   2586.3,  -0.2697,  34.6542,2,  34.6535,2,    241.7,2,    242.2,2,   126.30,2,    32.08,2,   -999.0,9,   -999.0,9,2,     0.99,2,   -0.049,    0.000,2,  -0.4137
  09AR20060102,  S04I,    65,  1,     24,     24,2,20060204,1830,-65.3800,  49.9983, 2029,      9.4,  -0.1620,  33.7669,2,  33.7530,2,    347.6,2,    348.2,2,    66.20,2,    23.34,2,   2144.8,2,   2285.6,2,2,     0.92,2,    1.700,    0.000,2,  -0.1623
  09AR20060102,  S04I,    65,  1,     23,     23,2,20060204,1830,-65.3800,  49.9983, 2029,     19.5,  -0.1629,  33.7672,2,-999.0000,9,    347.7,2,   -999.0,9,  -999.00,9,  -999.00,9,   -999.0,9,   -999.0,9,2,     0.93,2,    1.718,    0.000,2,  -0.1635
  09AR20060102,  S04I,    65,  1,     22,     22,2,20060204,1830,-65.3800,  49.9983, 2029,     19.4,  -0.1625,  33.7673,2,-999.0000,9,    347.7,2,   -999.0,9,  -999.00,9,  -999.00,9,   -999.0,9,   -999.0,9,2,     0.93,2,    1.631,    0.000,2,  -0.1631
  09AR20060102,  S04I,    65,  1,     21,     21,2,20060204,1830,-65.3800,  49.9983, 2029,     19.2,  -0.1660,  33.7676,2,  33.7687,2,    347.7,2,    348.6,2,    67.80,2,    24.83,2,   2163.2,6,   -999.0,9,2,     0.93,2,    1.598,    0.000,2,  -0.1666
  09AR20060102,  S04I,    65,  1,     20,     20,2,20060204,1830,-65.3800,  49.9983, 2029,     29.5,  -0.1656,  33.7673,2,  33.7634,2,    347.7,2,    348.4,2,    55.00,2,    27.20,2,   2163.8,2,   -999.0,9,2,     0.94,2,    1.573,    0.000,2,  -0.1666
  09AR20060102,  S04I,    65,  1,     19,     19,2,20060204,1830,-65.3800,  49.9983, 2029,     49.6,  -0.9730,  34.0145,2,  34.0027,2,    341.6,2,    339.3,2,    53.10,2,    27.45,2,   2157.5,3,   -999.0,9,2,     0.94,2,    2.911,    0.000,2,  -0.9743
  09AR20060102,  S04I,    65,  1,     18,     18,2,20060204,1830,-65.3800,  49.9983, 2029,     59.3,  -1.1738,  34.0681,2,  34.0664,2,    334.1,2,    334.2,2,    55.80,2,    27.89,2,   2185.1,2,   -999.0,9,2,     0.95,2,    2.735,    0.000,2,  -1.1753
  09AR20060102,  S04I,    65,  1,     17,     17,2,20060204,1830,-65.3800,  49.9983, 2029,     78.5,  -1.5890,  34.2071,2,  34.1868,2,    321.8,2,    322.5,2,    59.00,2,    28.92,2,   2204.3,3,   -999.0,9,2,     0.98,2,    1.026,    0.000,2,  -1.5907
  09AR20060102,  S04I,    65,  1,     16,     16,2,20060204,1830,-65.3800,  49.9983, 2029,     99.3,  -1.7774,  34.2968,2,  34.2953,2,    315.3,2,    315.1,2,    62.70,2,    29.92,2,   2191.6,2,   -999.0,9,2,     0.99,2,    0.093,    0.000,2,  -1.7794
  09AR20060102,  S04I,    65,  1,     15,     15,2,20060204,1830,-65.3800,  49.9983, 2029,    149.7,  -1.7894,  34.3384,2,  34.3378,2,    311.2,2,    311.4,2,    62.90,2,    30.44,2,   2205.7,2,   -999.0,9,2,     0.99,2,   -0.006,    0.000,2,  -1.7925
  09AR20060102,  S04I,    65,  1,     14,     14,2,20060204,1830,-65.3800,  49.9983, 2029,    199.4,  -1.7529,  34.3591,2,  34.3421,2,    308.8,2,    308.6,2,    67.80,2,    29.72,2,   2192.9,3,   -999.0,9,2,     0.99,2,   -0.028,    0.000,2,  -1.7572
  09AR20060102,  S04I,    65,  1,     13,     13,2,20060204,1830,-65.3800,  49.9983, 2029,    248.8,  -1.6267,  34.3870,2,  34.3727,2,    302.2,2,    302.8,2,    66.00,2,    30.31,2,   2191.5,3,   -999.0,9,2,     0.99,2,   -0.040,    0.000,2,  -1.6324
  09AR20060102,  S04I,    65,  1,     12,     12,2,20060204,1830,-65.3800,  49.9983, 2029,    299.7,  -1.2949,  34.4383,2,  34.4378,2,    287.9,2,    289.1,2,    70.90,2,    30.17,2,   2227.1,2,   -999.0,9,2,     0.99,2,   -0.047,    0.000,2,  -1.3028
  09AR20060102,  S04I,    65,  1,     11,     11,2,20060204,1830,-65.3800,  49.9983, 2029,    399.0,  -0.5271,  34.5299,2,  34.5505,2,    268.8,2,    262.6,2,    86.50,2,    30.21,2,   2231.6,2,   -999.0,9,2,     0.99,2,   -0.050,    0.000,2,  -0.5407
  09AR20060102,  S04I,    65,  1,     10,     10,2,20060204,1830,-65.3800,  49.9983, 2029,    499.2,  -0.2202,  34.5836,2,  34.5844,2,    251.1,2,    249.9,2,    93.10,2,    29.88,2,   2240.1,2,   -999.0,9,2,     0.99,2,   -0.048,    0.000,2,  -0.2390
  09AR20060102,  S04I,    65,  1,      9,      9,2,20060204,1830,-65.3800,  49.9983, 2029,    599.6,  -0.0411,  34.6189,2,  34.6119,2,    241.9,2,    239.9,2,    97.10,2,    31.09,2,   2246.6,2,   -999.0,9,2,     0.99,2,   -0.046,    0.000,2,  -0.0652
  09AR20060102,  S04I,    65,  1,      8,      8,2,20060204,1830,-65.3800,  49.9983, 2029,    699.8,   0.0807,  34.6380,2,  34.6389,2,    232.4,2,    233.4,2,   109.00,2,    31.31,2,   2251.0,2,   -999.0,9,2,     0.99,2,   -0.046,    0.000,2,   0.0512
  09AR20060102,  S04I,    65,  1,      7,      7,2,20060204,1830,-65.3800,  49.9983, 2029,    899.2,   0.0442,  34.6524,2,  34.6529,2,    227.0,2,    230.8,2,   112.10,2,    31.81,2,   2256.3,2,   -999.0,9,2,     0.99,2,   -0.049,    0.000,2,   0.0049
  09AR20060102,  S04I,    65,  1,      6,      6,2,20060204,1830,-65.3800,  49.9983, 2029,   1100.5,   0.0154,  34.6572,2,  34.6582,2,    227.9,2,    229.7,2,   114.90,2,    31.64,2,   2245.8,3,   -999.0,9,2,     0.99,2,   -0.045,    0.000,2,  -0.0344
  09AR20060102,  S04I,    65,  1,      5,      5,2,20060204,1830,-65.3800,  49.9983, 2029,   1300.8,  -0.0117,  34.6629,2,  34.6593,2,    229.3,2,    227.5,2,   118.80,2,    31.99,2,   2253.2,2,   -999.0,9,2,     0.99,2,   -0.049,    0.000,2,  -0.0725
  09AR20060102,  S04I,    65,  1,      4,      4,2,20060204,1830,-65.3800,  49.9983, 2029,   1599.3,  -0.1312,  34.6581,2,  34.6560,2,    233.1,2,    233.4,2,  -999.00,9,  -999.00,9,   2248.9,2,   -999.0,9,2,     0.99,2,   -0.049,    0.000,2,  -0.2086
  09AR20060102,  S04I,    65,  1,      3,      3,2,20060204,1830,-65.3800,  49.9983, 2029,   1900.3,  -0.1908,  34.6567,2,  34.6546,2,    236.9,2,    236.7,2,   118.60,2,    31.57,2,   2252.2,2,   -999.0,9,2,     0.99,2,   -0.049,    0.000,2,  -0.2867
  09AR20060102,  S04I,    65,  1,      2,      2,2,20060204,1830,-65.3800,  49.9983, 2029,   1999.0,  -0.1969,  34.6566,2,  34.6570,2,    237.2,2,    237.6,2,   118.30,2,    31.42,2,   2248.7,2,   -999.0,9,2,     0.99,2,   -0.049,    0.000,2,  -0.2994
  09AR20060102,  S04I,    65,  1,      1,      1,2,20060204,1830,-65.3800,  49.9983, 2029,   2054.2,  -0.2034,  34.6569,2,  34.6572,2,    237.8,2,    237.7,2,   123.10,2,    31.60,2,   2254.5,6,   -999.0,9,2,     0.99,2,   -0.050,    0.000,2,  -0.3096