BOTTLE,20220816CCHSIOAMB
EXPOCODE,SECT_ID,STNNBR,CASTNO,SAMPNO,BTLNBR,BTLNBR_FLAG_W,DATE,TIME,LATITUDE,LONGITUDE,DEPTH,CTDPRS,CTDTMP,CTDSAL,CTDSAL_FLAG_W,SALNTY,SALNTY_FLAG_W,CTDOXY,CTDOXY_FLAG_W,OXYGEN,OXYGEN_FLAG_W,SILCAT,SILCAT_FLAG_W,NITRAT,NITRAT_FLAG_W,TCARBN,TCARBN_FLAG_W,ALKALI,ALKALI_FLAG_W,FLUOR_FLAG_W,XMISS,XMISS_FLAG_W,FLUOR,PAR,PAR_FLAG_W,THETA
,,,,,,,,,,,METERS,DBAR,ITS-90,PSS-78,,PSS-78,,UMOL/KG,,UMOL/KG,,UMOL/KG,,UMOL/KG,,UMOL/KG,,UMOL/KG,,,%TRANS,,VOLTS,VOLTS,,DEG C
  09AR20060102,  S04I,    90,  1,     24,     24,2,20060218,1231,-64.4998,  69.9982, 3237,     10.5,   0.2188,  33.9267,2,  33.9272,2,    336.9,2,    337.7,2,    50.10,2,    27.63,2,   2172.5,2,   -999.0,9,2,     0.94,2,    1.458,    0.019,2,   0.2184
  09AR20060102,  S04I,    90,  1,     23,     23,2,20060218,1231,-64.4998,  69.9982, 3237,     10.4,   0.2186,  33.9267,2,-999.0000,9,    336.9,2,   -999.0,9,  -999.00,9,  -999.00,9,   -999.0,9,   -999.0,9,2,     0.94,2,    1.500,    0.020,2,   0.2182
  09AR20060102,  S04I,    90,  1,     22,     22,2,20060218,1231,-64.4998,  69.9982, 3237,     10.4,   0.2191,  33.9266,2,-999.0000,9,    336.9,2,   -999.0,9,  -999.00,9,  -999.00,9,   -999.0,9,   -999.0,9,2,     0.94,2,    1.507,    0.022,2,   0.2187
  09AR20060102,  S04I,    90,  1,     21,     21,2,20060218,1231,-64.4998,  69.9982, 3237,     24.7,   0.2172,  33.9265,2,  33.9274,2,    336.6,2,    337.1,2,    50.10,2,    27.74,2,   2175.0,2,   -999.0,9,2,     0.93,2,    1.491,    0.008,2,   0.2163
  09AR20060102,  S04I,    90,  1,     20,     20,2,20060218,1231,-64.4998,  69.9982, 3237,     40.0,   0.2046,  33.9308,2,  33.9323,2,    336.2,2,    336.0,2,    51.00,2,    27.85,2,   2175.9,2,   -999.0,9,2,     0.94,2,    1.777,    0.003,2,   0.2032
  09AR20060102,  S04I,    90,  1,     19,     19,2,20060218,1231,-64.4998,  69.9982, 3237,     54.6,  -0.5207,  34.0311,2,  34.0173,2,    331.2,2,    325.3,2,    54.20,2,    28.50,2,   2188.5,2,   -999.0,9,2,     0.56,2,   14.152,    0.001,2,  -0.5223
  09AR20060102,  S04I,    90,  1,     18,     18,2,20060218,1231,-64.4998,  69.9982, 3237,     59.3,  -1.2278,  34.1471,2,  34.1473,2,    316.2,2,    307.9,2,    59.80,2,    29.39,2,   2203.0,2,   -999.0,9,2,     0.92,2,    3.100,    0.000,2,  -1.2292
  09AR20060102,  S04I,    90,  1,     17,     17,2,20060218,1231,-64.4998,  69.9982, 3237,     69.7,  -1.6618,  34.2193,2,  34.2179,2,    298.2,2,    297.5,2,    63.40,2,    30.14,2,   2212.8,2,   -999.0,9,2,     0.97,2,    2.187,    0.000,2,  -1.6632
  09AR20060102,  S04I,    90,  1,     16,     16,2,20060218,1231,-64.4998,  69.9982, 3237,     89.2,  -1.5831,  34.2531,2,  34.2530,2,    282.9,2,    287.2,2,    65.20,2,    30.64,2,   -999.0,9,   -999.0,9,2,     0.98,2,    1.065,    0.000,2,  -1.5850
  09AR20060102,  S04I,    90,  1,     15,     15,2,20060218,1231,-64.4998,  69.9982, 3237,    110.6,  -0.9761,  34.3296,2,  34.3288,2,    269.6,2,    266.7,2,    69.80,2,    31.16,2,   -999.0,9,   -999.0,9,2,     0.98,2,    0.459,    0.000,2,  -0.9791
  09AR20060102,  S04I,    90,  1,     14,     14,2,20060218,1231,-64.4998,  69.9982, 3237,    150.2,   0.2335,  34.4957,2,  34.4962,2,    235.5,2,    232.2,2,    76.30,2,    31.58,2,   -999.0,9,   -999.0,9,2,     0.99,2,    0.050,    0.000,2,   0.2278
  09AR20060102,  S04I,    90,  1,     13,     13,2,20060218,1231,-64.4998,  69.9982, 3237,    199.8,   1.0339,  34.6124,2,  34.6129,2,    203.9,2,    204.4,2,    83.00,2,    31.51,2,   -999.0,9,   -999.0,9,2,     0.99,2,    0.005,    0.000,2,   1.0248
  09AR20060102,  S04I,    90,  1,     12,     12,2,20060218,1231,-64.4998,  69.9982, 3237,    301.8,   1.3846,  34.6934,2,  34.6939,2,    195.2,2,    195.7,2,    87.50,2,    31.02,2,   -999.0,9,   -999.0,9,2,     0.99,2,   -0.036,    0.000,2,   1.3697
  09AR20060102,  S04I,    90,  1,     11,     11,2,20060218,1231,-64.4998,  69.9982, 3237,    401.0,   1.3267,  34.7095,2,  34.7096,2,    198.9,2,    198.8,2,    92.60,2,    30.62,2,   -999.0,9,   -999.0,9,2,     0.99,2,   -0.039,    0.000,2,   1.3067
  09AR20060102,  S04I,    90,  1,     10,     10,2,20060218,1231,-64.4998,  69.9982, 3237,    499.9,   1.2461,  34.7176,2,  34.7184,2,    200.0,2,    200.6,2,    94.80,2,    30.59,2,   -999.0,9,   -999.0,9,2,     0.99,2,   -0.040,    0.000,2,   1.2210
  09AR20060102,  S04I,    90,  1,      9,      9,2,20060218,1231,-64.4998,  69.9982, 3237,    597.8,   1.1696,  34.7203,2,  34.7206,2,    201.7,2,    202.1,2,    99.40,2,    30.51,2,   -999.0,9,   -999.0,9,2,     0.99,2,   -0.042,    0.000,2,   1.1395
  09AR20060102,  S04I,    90,  1,      8,      8,2,20060218,1231,-64.4998,  69.9982, 3237,    900.3,   0.9117,  34.7155,2,  34.7162,2,    204.3,2,    204.9,2,   106.60,2,    30.83,2,   -999.0,9,   -999.0,9,2,     0.99,2,   -0.043,    0.000,2,   0.8659
  09AR20060102,  S04I,    90,  1,      7,      7,2,20060218,1231,-64.4998,  69.9982, 3237,   1199.2,   0.6330,  34.7004,2,  34.7013,2,    207.8,2,    207.8,2,   115.40,2,    31.31,2,   -999.0,9,   -999.0,9,2,     0.99,2,   -0.043,    0.000,2,   0.5717
  09AR20060102,  S04I,    90,  1,      6,      6,2,20060218,1231,-64.4998,  69.9982, 3237,   1602.3,   0.3556,  34.6879,2,  34.6882,2,    212.3,2,    212.4,2,   120.80,2,    31.68,2,   -999.0,9,   -999.0,9,2,     0.99,2,   -0.046,    0.000,2,   0.2718
  09AR20060102,  S04I,    90,  1,      5,      5,2,20060218,1231,-64.4998,  69.9982, 3237,   1999.1,   0.1593,  34.6796,2,  34.6792,2,    219.6,2,    219.7,2,   121.70,2,    31.63,2,   -999.0,9,   -999.0,9,2,     0.99,2,   -0.046,    0.000,2,   0.0511
  09AR20060102,  S04I,    90,  1,      4,      4,2,20060218,1231,-64.4998,  69.9982, 3237,   2399.1,   0.0211,  34.6745,2,  34.6744,2,    225.4,2,    225.1,2,   122.10,2,    31.59,2,   -999.0,9,   -999.0,9,2,     0.99,2,   -0.052,    0.000,2,  -0.1142
  09AR20060102,  S04I,    90,  1,      3,      3,2,20060218,1231,-64.4998,  69.9982, 3237,   2797.5,  -0.0764,  34.6711,2,  34.6703,2,    230.3,2,    230.3,2,   119.20,2,    31.54,2,   -999.0,9,   -999.0,9,2,     0.99,2,   -0.049,    0.000,2,  -0.2412
  09AR20060102,  S04I,    90,  1,      2,      2,2,20060218,1231,-64.4998,  69.9982, 3237,   3199.8,  -0.1913,  34.6659,2,  34.6650,2,    232.5,2,    232.3,2,   134.70,2,    31.71,2,   -999.0,9,   -999.0,9,2,     0.99,2,   -0.049,    0.000,2,  -0.3875
  09AR20060102,  S04I,    90,  1,      1,      1,2,20060218,1231,-64.4998,  69.9982, 3237,   3285.9,  -0.2294,  34.6631,2,  34.6627,2,    233.1,2,    233.1,2,   142.90,2,    32.10,2,   -999.0,9,   -999.0,9,2,     0.99,2,   -0.048,    0.000,2,  -0.4322
  09AR20060102,  S04I,    91,  1,     24,     24,2,20060218,2223,-64.9978,  69.9967, 2907,      9.3,   0.2576,  33.8954,2,  33.8963,2,    339.2,2,    338.7,2,    47.20,2,    27.12,2,   2166.2,2,   2294.8,2,2,     0.36,2,    1.258,    0.018,2,   0.2573
  09AR20060102,  S04I,    91,  1,     23,     23,2,20060218,2223,-64.9978,  69.9967, 2907,     30.1,   0.2732,  33.9181,2,-999.0000,9,    338.9,2,   -999.0,9,  -999.00,9,  -999.00,9,   -999.0,9,   -999.0,9,2,     0.46,2,    1.382,    0.005,2,   0.2721
  09AR20060102,  S04I,    91,  1,     22,     22,2,20060218,2223,-64.9978,  69.9967, 2907,     30.1,   0.2739,  33.9154,2,-999.0000,9,    338.9,2,   -999.0,9,  -999.00,9,  -999.00,9,   -999.0,9,   -999.0,9,2,     0.42,2,    1.477,    0.005,2,   0.2728
  09AR20060102,  S04I,    91,  1,     21,     21,2,20060218,2223,-64.9978,  69.9967, 2907,     30.0,   0.2690,  33.9135,2,  33.9145,2,    338.9,2,    337.9,2,    47.80,2,    27.08,2,   2167.3,6,   -999.0,9,2,     0.26,2,    1.290,    0.005,2,   0.2679
  09AR20060102,  S04I,    91,  1,     20,     20,2,20060218,2223,-64.9978,  69.9967, 2907,     50.7,  -1.5140,  34.1848,2,  34.1694,2,    327.2,2,    315.9,2,    57.00,2,    28.73,2,   2198.3,2,   -999.0,9,2,     0.47,2,    2.016,    0.000,2,  -1.5151
  09AR20060102,  S04I,    91,  1,     19,     19,2,20060218,2223,-64.9978,  69.9967, 2907,     69.4,  -1.7256,  34.2411,2,  34.2403,2,    304.1,2,    302.6,2,    60.20,2,    29.64,2,   2208.2,2,   -999.0,9,2,     0.70,2,    2.013,    0.000,2,  -1.7270
  09AR20060102,  S04I,    91,  1,     18,     18,2,20060218,2223,-64.9978,  69.9967, 2907,     90.5,  -1.7246,  34.2617,2,  34.2608,2,    295.4,2,    291.2,2,    64.00,2,    30.43,2,   2214.5,2,   -999.0,9,2,     0.91,2,    0.535,    0.000,2,  -1.7264
  09AR20060102,  S04I,    91,  1,     17,     17,2,20060218,2223,-64.9978,  69.9967, 2907,    119.0,  -1.7316,  34.2819,2,  34.2816,2,    300.2,2,    298.5,2,    61.30,2,    30.18,2,   2216.1,2,   -999.0,9,2,     0.98,2,    0.268,    0.000,2,  -1.7341
  09AR20060102,  S04I,    91,  1,     16,     16,2,20060218,2223,-64.9978,  69.9967, 2907,    150.5,  -1.3485,  34.3225,2,  34.3263,2,    280.4,2,    285.5,2,    64.70,2,    30.26,2,   2218.1,2,   -999.0,9,2,     0.99,2,    0.116,    0.000,2,  -1.3522
  09AR20060102,  S04I,    91,  1,     15,     15,2,20060218,2223,-64.9978,  69.9967, 2907,    180.0,  -0.5601,  34.4113,2,  34.4076,2,    253.4,2,    262.5,2,    70.50,2,    30.86,2,   2230.5,2,   -999.0,9,2,     0.99,2,    0.040,    0.000,2,  -0.5658
  09AR20060102,  S04I,    91,  1,     14,     14,2,20060218,2223,-64.9978,  69.9967, 2907,    199.7,  -0.2565,  34.4567,2,  34.4542,2,    246.7,2,    253.7,2,    74.60,2,    30.72,2,   2232.2,2,   -999.0,9,2,     0.99,2,    0.005,    0.000,2,  -0.2634
  09AR20060102,  S04I,    91,  1,     13,     13,2,20060218,2223,-64.9978,  69.9967, 2907,    299.1,   0.8444,  34.6316,2,  34.6313,2,    212.2,2,    212.7,2,    86.00,2,    31.01,2,   2248.8,6,   -999.0,9,2,     0.99,2,   -0.026,    0.000,2,   0.8310
  09AR20060102,  S04I,    91,  1,     12,     12,2,20060218,2223,-64.9978,  69.9967, 2907,    401.6,   0.7830,  34.6588,2,  34.6580,2,    215.8,2,    215.4,2,    89.10,2,    30.66,2,   2249.4,2,   -999.0,9,2,     0.99,2,   -0.039,    0.000,2,   0.7648
  09AR20060102,  S04I,    91,  1,     11,     11,2,20060218,2223,-64.9978,  69.9967, 2907,    499.1,   0.8623,  34.6858,2,  34.6860,2,    214.4,2,    211.1,2,    93.90,2,    30.60,2,   2250.2,2,   -999.0,9,2,     0.99,2,   -0.039,    0.000,2,   0.8389
  09AR20060102,  S04I,    91,  1,     10,     10,2,20060218,2223,-64.9978,  69.9967, 2907,    599.4,   0.8192,  34.6936,2,  34.6939,2,    211.5,2,    210.0,2,    98.60,2,    30.61,2,   2252.0,2,   -999.0,9,2,     0.99,2,   -0.043,    0.000,2,   0.7908
  09AR20060102,  S04I,    91,  1,      9,      9,2,20060218,2223,-64.9978,  69.9967, 2907,    699.8,   0.7968,  34.7001,2,  34.6998,2,    210.0,2,    208.7,2,   102.50,2,    30.76,2,   2253.4,2,   -999.0,9,2,     0.99,2,   -0.045,    0.000,2,   0.7631
  09AR20060102,  S04I,    91,  1,      8,      8,2,20060218,2223,-64.9978,  69.9967, 2907,    800.3,   0.7082,  34.6984,2,  34.6986,2,    210.2,2,    209.8,2,   105.90,2,    30.85,2,   2255.5,2,   -999.0,9,2,     0.99,2,   -0.045,    0.000,2,   0.6695
  09AR20060102,  S04I,    91,  1,      7,      7,2,20060218,2223,-64.9978,  69.9967, 2907,    999.6,   0.5771,  34.6966,2,  34.6970,2,    210.5,2,    209.7,2,   112.20,2,    31.27,2,   2258.9,2,   -999.0,9,2,     0.99,2,   -0.044,    0.000,2,   0.5282
  09AR20060102,  S04I,    91,  1,      6,      6,2,20060218,2223,-64.9978,  69.9967, 2907,   1200.3,   0.4257,  34.6900,2,  34.6905,2,    212.1,2,    212.9,2,   115.10,2,    31.52,2,   2259.5,2,   -999.0,9,2,     0.99,2,   -0.045,    0.000,2,   0.3663
  09AR20060102,  S04I,    91,  1,      5,      5,2,20060218,2223,-64.9978,  69.9967, 2907,   1598.6,   0.2239,  34.6824,2,  34.6825,2,    217.1,2,    217.4,2,   121.10,2,    31.66,2,   2259.0,2,   -999.0,9,2,     0.99,2,   -0.047,    0.000,2,   0.1420
  09AR20060102,  S04I,    91,  1,      4,      4,2,20060218,2223,-64.9978,  69.9967, 2907,   2000.7,   0.0723,  34.6768,2,  34.6762,2,    222.3,2,    222.3,2,   121.10,2,    31.66,2,   2257.5,2,   -999.0,9,2,     0.99,2,   -0.050,    0.000,2,  -0.0346
  09AR20060102,  S04I,    91,  1,      3,      3,2,20060218,2223,-64.9978,  69.9967, 2907,   2499.8,  -0.0676,  34.6720,2,  34.6717,2,    228.2,2,    228.2,2,   121.40,2,    31.38,2,   2257.0,2,   -999.0,9,2,     0.99,2,   -0.051,    0.000,2,  -0.2089
  09AR20060102,  S04I,    91,  1,      2,      2,2,20060218,2223,-64.9978,  69.9967, 2907,   2944.2,  -0.1980,  34.6666,2,  34.6656,2,    232.3,2,    232.4,2,   130.90,2,    31.57,2,   2257.8,2,   -999.0,9,2,     0.99,2,   -0.049,    0.000,2,  -0.3722
  09AR20060102,  S04I,    91,  1,      1,      1,2,20060218,2223,-64.9978,  69.9967, 2907,   2962.1,  -0.1964,  34.6666,2,  34.6652,2,    232.3,2,    232.2,2,   133.50,2,    31.52,2,   2257.2,6,   -999.0,9,2,     0.99,2,   -0.049,    0.000,2,  -0.3722
  09AR20060102,  S04I,    92,  1,     24,     24,2,20060219,0356,-65.5017,  69.9963, 2707,      9.0,   0.2683,  33.9518,2,  33.9520,2,    336.9,2,    337.3,2,    48.80,2,    26.58,2,   2177.0,2,   -999.0,9,2,     0.67,2,    0.335,    0.498,2,   0.2680
  09AR20060102,  S04I,    92,  1,     23,     23,2,20060219,0356,-65.5017,  69.9963, 2707,      8.9,   0.2674,  33.9518,2,-999.0000,9,    337.0,2,   -999.0,9,  -999.00,9,  -999.00,9,   -999.0,9,   -999.0,9,2,     0.66,2,    0.235,    0.384,2,   0.2671
  09AR20060102,  S04I,    92,  1,     22,     22,2,20060219,0356,-65.5017,  69.9963, 2707,      8.8,   0.2677,  33.9516,2,-999.0000,9,    337.0,2,   -999.0,9,  -999.00,9,  -999.00,9,   -999.0,9,   -999.0,9,2,     0.62,2,    0.252,    0.337,2,   0.2674
  09AR20060102,  S04I,    92,  1,     21,     21,2,20060219,0356,-65.5017,  69.9963, 2707,     30.1,   0.2546,  33.9518,2,  33.9524,2,    336.9,2,    336.9,2,    47.70,2,    27.04,2,   2176.8,2,   -999.0,9,2,     0.95,2,    0.697,    0.068,2,   0.2535
  09AR20060102,  S04I,    92,  1,     20,     20,2,20060219,0356,-65.5017,  69.9963, 2707,     54.1,  -1.1404,  34.1544,2,  34.1314,2,    329.5,2,    322.5,2,    53.20,2,    27.85,2,   2198.5,2,   -999.0,9,2,     0.94,2,    2.124,    0.022,2,  -1.1417
  09AR20060102,  S04I,    92,  1,     19,     19,2,20060219,0356,-65.5017,  69.9963, 2707,     60.1,  -1.6570,  34.2321,2,  34.2323,2,    316.8,2,    313.7,2,    56.80,2,    28.65,2,   2208.7,2,   -999.0,9,2,     0.97,2,    1.558,    0.023,2,  -1.6582
  09AR20060102,  S04I,    92,  1,     18,     18,2,20060219,0356,-65.5017,  69.9963, 2707,     70.8,  -1.7120,  34.2534,2,  34.2540,2,    303.9,2,    305.6,2,    58.40,2,    29.14,2,   -999.0,9,   -999.0,9,2,     0.97,2,    1.970,    0.012,2,  -1.7134
  09AR20060102,  S04I,    92,  1,     17,     17,2,20060219,0356,-65.5017,  69.9963, 2707,     80.0,  -1.7420,  34.2658,2,  34.2649,2,    300.2,2,    301.4,2,    59.80,2,    29.42,2,   2216.8,2,   -999.0,9,2,     0.97,2,    1.661,    0.007,2,  -1.7436
  09AR20060102,  S04I,    92,  1,     16,     16,2,20060219,0356,-65.5017,  69.9963, 2707,    100.6,  -1.7781,  34.2813,2,  34.2806,2,    300.9,2,    300.8,2,    60.00,2,    29.76,2,   2220.4,2,   -999.0,9,2,     0.98,2,    0.473,    0.002,2,  -1.7801
  09AR20060102,  S04I,    92,  1,     15,     15,2,20060219,0356,-65.5017,  69.9963, 2707,    150.1,  -1.2799,  34.3369,2,  34.3327,2,    286.5,2,    288.4,2,    65.70,2,    29.86,2,   -999.0,9,   -999.0,9,2,     0.99,2,    0.069,    0.000,2,  -1.2836
  09AR20060102,  S04I,    92,  1,     14,     14,2,20060219,0356,-65.5017,  69.9963, 2707,    200.0,  -0.0902,  34.4809,2,  34.4809,2,    248.6,2,    244.4,2,    76.00,2,    30.90,2,   -999.0,9,   -999.0,9,2,     0.99,2,    0.009,    0.000,2,  -0.0974
  09AR20060102,  S04I,    92,  1,     13,     13,2,20060219,0356,-65.5017,  69.9963, 2707,    299.8,   0.6571,  34.6185,2,  34.6181,2,    219.0,2,    218.5,2,    83.60,2,    30.53,2,   -999.0,9,   -999.0,9,2,     0.99,2,   -0.032,    0.000,2,   0.6441
  09AR20060102,  S04I,    92,  1,     12,     12,2,20060219,0356,-65.5017,  69.9963, 2707,    399.3,   0.5923,  34.6443,2,  34.6446,2,    218.3,2,    220.3,2,    88.40,2,    30.33,2,   -999.0,9,   -999.0,9,2,     0.99,2,   -0.043,    0.000,2,   0.5748
  09AR20060102,  S04I,    92,  1,     11,     11,2,20060219,0356,-65.5017,  69.9963, 2707,    499.7,   0.8587,  34.6897,2,  34.6894,2,    209.4,2,    209.5,2,    94.50,2,    30.40,2,   -999.0,9,   -999.0,9,2,     0.99,2,   -0.044,    0.000,2,   0.8353
  09AR20060102,  S04I,    92,  1,     10,     10,2,20060219,0356,-65.5017,  69.9963, 2707,    599.9,   0.8255,  34.6965,2,  34.6970,2,    208.2,2,    208.4,2,    98.90,2,    30.57,2,   -999.0,9,   -999.0,9,2,     0.99,2,   -0.039,    0.000,2,   0.7970
  09AR20060102,  S04I,    92,  1,      9,      9,2,20060219,0356,-65.5017,  69.9963, 2707,    700.1,   0.7449,  34.6985,2,  34.6988,2,    208.2,2,    208.1,2,   102.60,2,    30.78,2,   -999.0,9,   -999.0,9,2,     0.99,2,   -0.039,    0.000,2,   0.7115
  09AR20060102,  S04I,    92,  1,      8,      8,2,20060219,0356,-65.5017,  69.9963, 2707,    799.3,   0.6728,  34.6975,2,  34.6978,2,    208.9,2,    208.9,2,   105.80,2,    30.70,2,   -999.0,9,   -999.0,9,2,     0.99,2,   -0.043,    0.000,2,   0.6344
  09AR20060102,  S04I,    92,  1,      7,      7,2,20060219,0356,-65.5017,  69.9963, 2707,   1000.1,   0.5225,  34.6928,2,  34.6933,2,    210.9,2,    210.7,2,   110.60,2,    31.08,2,   -999.0,9,   -999.0,9,2,     0.99,2,   -0.047,    0.000,2,   0.4740
  09AR20060102,  S04I,    92,  1,      6,      6,2,20060219,0356,-65.5017,  69.9963, 2707,   1499.9,   0.2122,  34.6818,2,  34.6817,2,    218.6,2,    218.9,2,   116.90,2,    31.06,2,   -999.0,9,   -999.0,9,2,     0.99,2,   -0.048,    0.000,2,   0.1367
  09AR20060102,  S04I,    92,  1,      5,      5,2,20060219,0356,-65.5017,  69.9963, 2707,   2200.2,  -0.0003,  34.6742,2,  34.6743,2,    226.2,2,    226.1,2,   119.40,2,    31.16,2,   -999.0,9,   -999.0,9,2,     0.99,2,   -0.050,    0.000,2,  -0.1203
  09AR20060102,  S04I,    92,  1,      4,      4,2,20060219,0356,-65.5017,  69.9963, 2707,   2625.3,  -0.1025,  34.6704,2,  34.6697,2,    230.5,2,    230.3,2,   118.50,2,    31.05,2,   -999.0,9,   -999.0,9,2,     0.99,2,   -0.048,    0.000,2,  -0.2529
  09AR20060102,  S04I,    92,  1,      3,      3,2,20060219,0356,-65.5017,  69.9963, 2707,   2686.1,  -0.1711,  34.6656,2,  34.6648,2,    233.1,2,    233.0,2,   125.10,2,    30.98,2,   -999.0,9,   -999.0,9,2,     0.99,2,   -0.049,    0.000,2,  -0.3249
  09AR20060102,  S04I,    92,  1,      2,      2,2,20060219,0356,-65.5017,  69.9963, 2707,   2745.3,  -0.2530,  34.6616,2,  34.6611,2,    235.4,2,    235.5,2,   127.00,2,    31.26,2,   -999.0,9,   -999.0,9,2,     0.99,2,   -0.048,    0.000,2,  -0.4098
  09AR20060102,  S04I,    92,  1,      1,      1,2,20060219,0356,-65.5017,  69.9963, 2707,   2761.8,  -0.2752,  34.6589,2,  34.6582,2,    237.4,2,    237.0,2,   126.70,2,    31.16,2,   -999.0,9,   -999.0,9,2,     0.99,2,   -0.048,    0.000,2,  -0.4329