BOTTLE,20220816CCHSIOAMB
EXPOCODE,SECT_ID,STNNBR,CASTNO,SAMPNO,BTLNBR,BTLNBR_FLAG_W,DATE,TIME,LATITUDE,LONGITUDE,DEPTH,CTDPRS,CTDTMP,CTDSAL,CTDSAL_FLAG_W,SALNTY,SALNTY_FLAG_W,CTDOXY,CTDOXY_FLAG_W,OXYGEN,OXYGEN_FLAG_W,SILCAT,SILCAT_FLAG_W,NITRAT,NITRAT_FLAG_W,TCARBN,TCARBN_FLAG_W,ALKALI,ALKALI_FLAG_W,FLUOR_FLAG_W,XMISS,XMISS_FLAG_W,FLUOR,PAR,PAR_FLAG_W,THETA
,,,,,,,,,,,METERS,DBAR,ITS-90,PSS-78,,PSS-78,,UMOL/KG,,UMOL/KG,,UMOL/KG,,UMOL/KG,,UMOL/KG,,UMOL/KG,,,%TRANS,,VOLTS,VOLTS,,DEG C
  09AR20060102,  S04I,    69,  1,     24,     24,2,20060205,0854,-66.0272,  49.9970,  489,      9.6,   0.0626,  33.7920,2,-999.0000,9,    351.6,2,   -999.0,9,  -999.00,9,  -999.00,9,   -999.0,9,   -999.0,9,2,     0.90,2,    0.367,    0.395,2,   0.0623
  09AR20060102,  S04I,    69,  1,     23,     23,2,20060205,0854,-66.0272,  49.9970,  489,      9.3,   0.0592,  33.7937,2,-999.0000,9,    351.6,2,   -999.0,9,  -999.00,9,  -999.00,9,   -999.0,9,   -999.0,9,2,     0.89,2,    0.429,    0.404,2,   0.0589
  09AR20060102,  S04I,    69,  1,     22,     22,2,20060205,0854,-66.0272,  49.9970,  489,      9.3,   0.0510,  33.7975,2,-999.0000,9,    351.6,2,   -999.0,9,  -999.00,9,  -999.00,9,   -999.0,9,   -999.0,9,2,     0.88,2,    0.437,    0.409,2,   0.0507
  09AR20060102,  S04I,    69,  1,     21,     21,2,20060205,0854,-66.0272,  49.9970,  489,      9.5,   0.0464,  33.8000,2,  33.8019,2,    351.6,2,    352.0,2,    47.10,2,    26.95,2,   2160.6,2,   2289.0,2,2,     0.89,2,    0.541,    0.392,2,   0.0461
  09AR20060102,  S04I,    69,  1,     20,     20,2,20060205,0854,-66.0272,  49.9970,  489,     18.8,  -0.0178,  33.8288,2,  33.8318,2,    351.4,2,    352.3,2,    46.40,2,    26.78,2,   2160.3,6,   -999.0,9,2,     0.93,2,    1.415,    0.169,2,  -0.0184
  09AR20060102,  S04I,    69,  1,     19,     19,2,20060205,0854,-66.0272,  49.9970,  489,     29.8,  -0.1477,  33.8811,2,  33.8830,2,    350.6,2,    351.8,2,    46.70,2,    26.66,2,   2165.4,2,   -999.0,9,2,     0.93,2,    2.225,    0.069,2,  -0.1487
  09AR20060102,  S04I,    69,  1,     18,     18,2,20060205,0854,-66.0272,  49.9970,  489,     40.4,  -0.4491,  33.9261,2,  33.9235,2,    349.8,2,    347.4,2,    48.60,2,    27.04,2,   2170.1,2,   -999.0,9,2,     0.94,2,    1.805,    0.031,2,  -0.4503
  09AR20060102,  S04I,    69,  1,     17,     17,2,20060205,0854,-66.0272,  49.9970,  489,     51.5,  -0.7301,  33.9699,2,-999.0000,9,    347.2,2,   -999.0,9,  -999.00,9,  -999.00,9,   2178.0,2,   -999.0,9,2,     0.95,2,    1.556,    0.018,2,  -0.7315
  09AR20060102,  S04I,    69,  1,     16,     16,2,20060205,0854,-66.0272,  49.9970,  489,     51.2,  -0.7261,  33.9698,2,  33.9698,2,    347.2,2,    345.7,2,    51.30,2,    27.60,2,   -999.0,9,   -999.0,9,2,     0.95,2,    1.638,    0.018,2,  -0.7275
  09AR20060102,  S04I,    69,  1,     15,     15,2,20060205,0854,-66.0272,  49.9970,  489,     59.0,  -0.7762,  33.9851,2,  33.9855,2,    343.2,2,    344.1,2,    51.80,2,    27.85,2,   2179.8,2,   -999.0,9,2,     0.96,2,    1.326,    0.011,2,  -0.7778
  09AR20060102,  S04I,    69,  1,     14,     14,2,20060205,0854,-66.0272,  49.9970,  489,     69.3,  -0.9673,  34.0399,2,  34.0424,2,    339.0,2,    339.0,2,    53.60,2,    28.23,2,   2186.0,2,   -999.0,9,2,     0.96,2,    1.319,    0.006,2,  -0.9691
  09AR20060102,  S04I,    69,  1,     13,     13,2,20060205,0854,-66.0272,  49.9970,  489,     80.3,  -1.2278,  34.1223,2,  34.1199,2,    334.5,2,    331.2,2,    56.10,2,    29.03,2,   2195.5,2,   -999.0,9,2,     0.97,2,    0.921,    0.002,2,  -1.2298
  09AR20060102,  S04I,    69,  1,     12,     12,2,20060205,0854,-66.0272,  49.9970,  489,    100.2,  -1.5035,  34.2184,2,  34.2189,2,    324.8,2,    323.9,2,    58.80,2,    30.07,2,   2204.1,2,   -999.0,9,2,     0.98,2,    0.495,    0.000,2,  -1.5057
  09AR20060102,  S04I,    69,  1,     11,     11,2,20060205,0854,-66.0272,  49.9970,  489,    119.0,  -1.6360,  34.2655,2,  34.2667,2,    319.8,2,    320.5,2,    60.20,2,    29.95,2,   2210.0,2,   -999.0,9,2,     0.98,2,    0.252,    0.000,2,  -1.6385
  09AR20060102,  S04I,    69,  1,     10,     10,2,20060205,0854,-66.0272,  49.9970,  489,    147.7,  -1.7219,  34.3007,2,  34.3016,2,    316.0,2,   -999.0,9,    61.20,2,    30.88,2,   2213.2,2,   -999.0,9,2,     0.98,2,    0.116,    0.000,2,  -1.7250
  09AR20060102,  S04I,    69,  1,      9,      9,2,20060205,0854,-66.0272,  49.9970,  489,    199.5,  -1.7254,  34.3352,2,  34.3366,2,    311.9,2,    311.9,2,    62.20,2,    30.67,2,   2214.0,2,   -999.0,9,2,     0.99,2,    0.010,    0.000,2,  -1.7297
  09AR20060102,  S04I,    69,  1,      8,      8,2,20060205,0854,-66.0272,  49.9970,  489,    248.8,  -1.7226,  34.3412,2,  34.3425,2,    310.0,2,    310.6,2,    62.10,2,    31.18,2,   2215.1,2,   -999.0,9,2,     0.99,2,   -0.006,    0.000,2,  -1.7281
  09AR20060102,  S04I,    69,  1,      7,      7,2,20060205,0854,-66.0272,  49.9970,  489,    299.1,  -1.7468,  34.3499,2,  34.3500,2,    308.1,2,    310.4,2,    62.30,2,    30.61,2,   2217.2,2,   -999.0,9,2,     0.99,2,   -0.035,    0.000,2,  -1.7535
  09AR20060102,  S04I,    69,  1,      6,      6,2,20060205,0854,-66.0272,  49.9970,  489,    349.5,  -1.6479,  34.3753,2,  34.3764,2,    304.4,2,    306.3,2,    65.30,2,    31.27,2,   2218.8,2,   -999.0,9,2,     0.99,2,   -0.041,    0.000,2,  -1.6562
  09AR20060102,  S04I,    69,  1,      5,      5,2,20060205,0854,-66.0272,  49.9970,  489,    400.0,  -1.5951,  34.3863,2,  34.3870,2,    302.0,2,    301.9,2,    66.70,2,    31.02,2,   2221.0,2,   -999.0,9,2,     0.99,2,   -0.043,    0.000,2,  -1.6050
  09AR20060102,  S04I,    69,  1,      4,      4,2,20060205,0854,-66.0272,  49.9970,  489,    449.4,  -1.4943,  34.4074,2,-999.0000,9,    298.8,2,   -999.0,9,  -999.00,9,  -999.00,9,   2223.2,2,   -999.0,9,2,     0.99,2,   -0.044,    0.000,2,  -1.5060
  09AR20060102,  S04I,    69,  1,      3,      3,2,20060205,0854,-66.0272,  49.9970,  489,    448.7,  -1.4904,  34.4079,2,  34.4093,2,    298.8,2,    299.3,2,    67.60,2,    31.62,2,   -999.0,9,   -999.0,9,2,     0.99,2,   -0.043,    0.000,2,  -1.5021
  09AR20060102,  S04I,    69,  1,      2,      2,2,20060205,0854,-66.0272,  49.9970,  489,    489.7,  -1.4130,  34.4202,2,  34.4217,2,    296.2,2,    295.0,2,    69.40,2,    31.40,2,   2226.5,2,   -999.0,9,2,     0.99,2,   -0.045,    0.000,2,  -1.4263
  09AR20060102,  S04I,    69,  1,      1,      1,2,20060205,0854,-66.0272,  49.9970,  489,    509.6,  -1.3607,  34.4279,2,  34.4289,2,    295.2,2,    295.4,2,    70.10,2,    31.65,2,   2226.6,6,   -999.0,9,2,     0.99,2,   -0.044,    0.000,2,  -1.3749
  09AR20060102,  S04I,    70,  1,     24,     24,2,20060205,1306,-66.0928,  49.9888,  253,      9.6,  -0.3499,  33.8128,2,-999.0000,9,    355.6,2,   -999.0,9,  -999.00,9,  -999.00,9,   -999.0,9,   -999.0,9,2,     0.57,2,    1.598,    0.255,2,  -0.3502
  09AR20060102,  S04I,    70,  1,     23,     23,2,20060205,1306,-66.0928,  49.9888,  253,      9.3,  -0.3494,  33.8130,2,-999.0000,9,    355.6,2,   -999.0,9,  -999.00,9,  -999.00,9,   -999.0,9,   -999.0,9,2,     0.41,2,    1.556,    0.266,2,  -0.3497
  09AR20060102,  S04I,    70,  1,     22,     22,2,20060205,1306,-66.0928,  49.9888,  253,      9.3,  -0.3496,  33.8127,2,-999.0000,9,    355.6,2,   -999.0,9,  -999.00,9,  -999.00,9,   -999.0,9,   -999.0,9,2,     0.13,2,    1.592,    0.270,2,  -0.3499
  09AR20060102,  S04I,    70,  1,     21,     21,2,20060205,1306,-66.0928,  49.9888,  253,      9.3,  -0.3510,  33.8126,2,  33.8140,2,    355.6,2,    357.1,2,    49.60,2,    25.69,2,   2158.2,2,   -999.0,9,2,     0.09,2,    1.623,    0.270,2,  -0.3513
  09AR20060102,  S04I,    70,  1,     20,     20,2,20060205,1306,-66.0928,  49.9888,  253,     20.7,  -0.3254,  33.8178,2,  33.8156,2,    355.2,2,    355.5,2,    49.70,2,    25.67,2,   -999.0,9,   -999.0,9,2,     0.03,2,    2.461,    0.083,2,  -0.3260
  09AR20060102,  S04I,    70,  1,     19,     19,2,20060205,1306,-66.0928,  49.9888,  253,     30.3,  -0.3570,  33.8148,2,-999.0000,9,    354.8,2,   -999.0,9,  -999.00,9,  -999.00,9,   -999.0,9,   -999.0,9,2,     0.06,2,    2.615,    0.034,2,  -0.3579
  09AR20060102,  S04I,    70,  1,     18,     18,2,20060205,1306,-66.0928,  49.9888,  253,     30.2,  -0.3513,  33.8211,2,  33.8238,2,    354.8,2,    354.5,2,    49.70,2,    25.77,2,   2158.6,2,   -999.0,9,2,     0.04,2,    2.658,    0.035,2,  -0.3522
  09AR20060102,  S04I,    70,  1,     17,     17,2,20060205,1306,-66.0928,  49.9888,  253,     39.9,  -0.3211,  33.8256,2,  33.8279,2,    353.4,2,    354.0,2,    48.90,2,    25.88,2,   -999.0,9,   -999.0,9,2,     0.10,2,    2.700,    0.016,2,  -0.3223
  09AR20060102,  S04I,    70,  1,     16,     16,2,20060205,1306,-66.0928,  49.9888,  253,     48.5,  -0.2528,  33.8350,2,-999.0000,9,    351.3,2,   -999.0,9,  -999.00,9,  -999.00,9,   -999.0,9,   -999.0,9,2,     0.22,2,    2.482,    0.008,2,  -0.2543
  09AR20060102,  S04I,    70,  1,     15,     15,2,20060205,1306,-66.0928,  49.9888,  253,     48.5,  -0.2388,  33.8389,2,  33.8394,2,    351.3,2,    352.8,2,    50.20,2,    25.56,2,   -999.0,9,   -999.0,9,2,     0.22,2,    2.471,    0.009,2,  -0.2404
  09AR20060102,  S04I,    70,  1,     14,     14,2,20060205,1306,-66.0928,  49.9888,  253,     59.4,  -0.3398,  33.8442,2,  33.8462,2,    352.2,2,    352.6,2,    51.00,2,    25.89,2,   2163.5,2,   -999.0,9,2,     0.27,2,    2.649,    0.002,2,  -0.3417
  09AR20060102,  S04I,    70,  1,     13,     13,2,20060205,1306,-66.0928,  49.9888,  253,     70.2,  -0.8408,  33.9231,2,-999.0000,9,    348.3,2,   -999.0,9,  -999.00,9,  -999.00,9,   -999.0,9,   -999.0,9,2,     0.41,2,    2.575,    0.000,2,  -0.8427
  09AR20060102,  S04I,    70,  1,     12,     12,2,20060205,1306,-66.0928,  49.9888,  253,     70.2,  -0.8490,  33.9288,2,  33.9239,2,    348.3,2,    346.9,2,    53.70,2,    26.52,2,   -999.0,9,   -999.0,9,2,     0.43,2,    2.523,    0.000,2,  -0.8509
  09AR20060102,  S04I,    70,  1,     11,     11,2,20060205,1306,-66.0928,  49.9888,  253,     79.0,  -1.0956,  34.0326,2,-999.0000,9,    343.2,2,   -999.0,9,  -999.00,9,  -999.00,9,   -999.0,9,   -999.0,9,2,     0.50,2,    1.719,    0.000,2,  -1.0976
  09AR20060102,  S04I,    70,  1,     10,     10,2,20060205,1306,-66.0928,  49.9888,  253,     78.9,  -1.0870,  34.0286,2,  34.0303,2,    343.2,2,    339.0,2,    56.60,2,    27.29,2,   2184.2,2,   -999.0,9,2,     0.51,2,    1.962,    0.000,2,  -1.0890
  09AR20060102,  S04I,    70,  1,      9,      9,2,20060205,1306,-66.0928,  49.9888,  253,    101.2,  -1.4617,  34.1881,2,-999.0000,9,    329.2,2,   -999.0,9,  -999.00,9,  -999.00,9,   -999.0,9,   -999.0,9,2,     0.58,2,    0.857,    0.000,2,  -1.4640
  09AR20060102,  S04I,    70,  1,      8,      8,2,20060205,1306,-66.0928,  49.9888,  253,    100.7,  -1.4499,  34.1825,2,  34.1853,2,    329.9,2,    326.3,2,    61.00,2,    28.61,2,   2203.5,2,   -999.0,9,2,     0.55,2,    0.961,    0.000,2,  -1.4522
  09AR20060102,  S04I,    70,  1,      7,      7,2,20060205,1306,-66.0928,  49.9888,  253,    130.3,  -1.6948,  34.3065,2,-999.0000,9,    315.6,2,   -999.0,9,  -999.00,9,  -999.00,9,   -999.0,9,   -999.0,9,2,     0.74,2,    0.124,    0.000,2,  -1.6975
  09AR20060102,  S04I,    70,  1,      6,      6,2,20060205,1306,-66.0928,  49.9888,  253,    130.0,  -1.6963,  34.3069,2,  34.3078,2,    315.6,2,    316.8,2,    64.80,2,    29.61,2,   2214.5,2,   -999.0,9,2,     0.74,2,    0.150,    0.000,2,  -1.6990
  09AR20060102,  S04I,    70,  1,      5,      5,2,20060205,1306,-66.0928,  49.9888,  253,    150.0,  -1.7255,  34.3218,2,  34.3233,2,    314.3,2,    314.2,2,    65.00,2,    29.62,2,   2214.3,2,   -999.0,9,2,     0.87,2,    0.048,    0.000,2,  -1.7287
  09AR20060102,  S04I,    70,  1,      4,      4,2,20060205,1306,-66.0928,  49.9888,  253,    200.7,  -1.7073,  34.3342,2,-999.0000,9,    312.5,2,   -999.0,9,  -999.00,9,  -999.00,9,   -999.0,9,   -999.0,9,2,     0.98,2,    0.014,    0.000,2,  -1.7117
  09AR20060102,  S04I,    70,  1,      3,      3,2,20060205,1306,-66.0928,  49.9888,  253,    200.6,  -1.7077,  34.3340,2,  34.3341,2,    312.5,2,    313.0,2,    66.20,2,    29.99,2,   -999.0,9,   -999.0,9,2,     0.98,2,    0.033,    0.000,2,  -1.7121
  09AR20060102,  S04I,    70,  1,      2,      2,2,20060205,1306,-66.0928,  49.9888,  253,    242.3,  -1.7012,  34.3418,2,  34.3425,2,    311.2,2,    311.2,2,    66.10,2,    29.87,2,   -999.0,9,   -999.0,9,2,     0.99,2,    0.006,    0.000,2,  -1.7066
  09AR20060102,  S04I,    70,  1,      1,      1,2,20060205,1306,-66.0928,  49.9888,  253,    252.5,  -1.6793,  34.3528,2,  34.3539,2,    310.7,2,    310.0,2,    67.60,2,    29.91,2,   -999.0,9,   -999.0,9,2,     0.99,2,   -0.007,    0.000,2,  -1.6850
  09AR20060102,  S04I,    71,  1,     24,     24,2,20060205,1608,-66.3392,  50.1537,  172,      9.7,  -0.8004,  33.7689,2,-999.0000,9,    362.7,2,   -999.0,9,  -999.00,9,  -999.00,9,   -999.0,9,   -999.0,9,2,     0.23,2,    4.959,    0.025,2,  -0.8007
  09AR20060102,  S04I,    71,  1,     23,     23,2,20060205,1608,-66.3392,  50.1537,  172,      9.4,  -0.8135,  33.7722,2,-999.0000,9,    362.7,2,   -999.0,9,  -999.00,9,  -999.00,9,   -999.0,9,   -999.0,9,2,     0.26,2,    5.161,    0.025,2,  -0.8137
  09AR20060102,  S04I,    71,  1,     22,     22,2,20060205,1608,-66.3392,  50.1537,  172,      9.3,  -0.8125,  33.7721,2,-999.0000,9,    362.7,2,   -999.0,9,  -999.00,9,  -999.00,9,   -999.0,9,   -999.0,9,2,     0.17,2,    4.780,    0.026,2,  -0.8127
  09AR20060102,  S04I,    71,  1,     21,     21,2,20060205,1608,-66.3392,  50.1537,  172,      9.3,  -0.8089,  33.7714,2,  33.7726,2,    362.7,2,    362.1,2,    45.10,2,    22.51,2,   2153.5,2,   2285.6,2,2,     0.22,2,    5.405,    0.026,2,  -0.8091
  09AR20060102,  S04I,    71,  1,     20,     20,2,20060205,1608,-66.3392,  50.1537,  172,     19.9,  -0.8074,  33.7732,2,  33.7765,2,    362.0,2,    361.4,2,    52.50,2,    25.33,2,   2152.7,6,   -999.0,9,2,     0.49,2,    4.901,    0.006,2,  -0.8079
  09AR20060102,  S04I,    71,  1,     19,     19,2,20060205,1608,-66.3392,  50.1537,  172,     30.7,  -0.8389,  33.7777,2,-999.0000,9,    360.2,2,   -999.0,9,  -999.00,9,  -999.00,9,   -999.0,9,   -999.0,9,2,     0.72,2,    4.517,    0.001,2,  -0.8397
  09AR20060102,  S04I,    71,  1,     18,     18,2,20060205,1608,-66.3392,  50.1537,  172,     30.5,  -0.8353,  33.7778,2,  33.7792,2,    360.2,2,    360.9,2,    51.90,2,    25.27,2,   2153.6,2,   -999.0,9,2,     0.71,2,    4.498,    0.001,2,  -0.8361
  09AR20060102,  S04I,    71,  1,     17,     17,2,20060205,1608,-66.3392,  50.1537,  172,     40.7,  -0.8519,  33.7777,2,  33.7802,2,    359.7,2,    360.2,2,    52.00,2,    25.46,2,   2156.2,2,   -999.0,9,2,     0.26,2,    4.339,    0.000,2,  -0.8530
  09AR20060102,  S04I,    71,  1,     16,     16,2,20060205,1608,-66.3392,  50.1537,  172,     50.8,  -0.8521,  33.7786,2,-999.0000,9,    359.4,2,   -999.0,9,  -999.00,9,  -999.00,9,   -999.0,9,   -999.0,9,2,     0.42,2,    4.636,    0.000,2,  -0.8535
  09AR20060102,  S04I,    71,  1,     15,     15,2,20060205,1608,-66.3392,  50.1537,  172,     50.5,  -0.8545,  33.7788,2,  33.7798,2,    359.4,2,    359.9,2,    50.00,2,    24.91,2,   2151.4,2,   -999.0,9,2,     0.31,2,    4.260,    0.000,2,  -0.8558
  09AR20060102,  S04I,    71,  1,     14,     14,2,20060205,1608,-66.3392,  50.1537,  172,     59.2,  -0.8956,  33.7824,2,-999.0000,9,    359.2,2,   -999.0,9,  -999.00,9,  -999.00,9,   -999.0,9,   -999.0,9,2,     0.48,2,    4.587,    0.000,2,  -0.8972
  09AR20060102,  S04I,    71,  1,     13,     13,2,20060205,1608,-66.3392,  50.1537,  172,     59.1,  -0.8972,  33.7822,2,  33.7833,2,    359.2,2,    359.4,2,    44.40,2,    22.00,2,   2155.1,2,   -999.0,9,2,     0.42,2,    4.728,    0.000,2,  -0.8988
  09AR20060102,  S04I,    71,  1,     12,     12,2,20060205,1608,-66.3392,  50.1537,  172,     69.1,  -0.8856,  33.7874,2,  33.7894,2,    358.5,2,    359.4,2,    39.60,2,    19.81,2,   2154.9,2,   -999.0,9,2,     0.53,2,    4.941,    0.000,2,  -0.8874
  09AR20060102,  S04I,    71,  1,     11,     11,2,20060205,1608,-66.3392,  50.1537,  172,     79.4,  -0.8853,  33.7948,2,-999.0000,9,    356.1,2,   -999.0,9,  -999.00,9,  -999.00,9,   -999.0,9,   -999.0,9,2,     0.60,2,    4.188,    0.000,2,  -0.8874
  09AR20060102,  S04I,    71,  1,     10,     10,2,20060205,1608,-66.3392,  50.1537,  172,     79.3,  -0.8943,  33.7949,2,  33.7958,2,    356.1,2,    357.2,2,    54.20,2,    25.25,2,   2157.4,2,   -999.0,9,2,     0.59,2,    4.055,    0.000,2,  -0.8964
  09AR20060102,  S04I,    71,  1,      9,      9,2,20060205,1608,-66.3392,  50.1537,  172,     89.1,  -0.8266,  33.8419,2,  33.8380,2,    352.0,2,    353.2,2,    53.20,2,    25.89,2,   2164.0,2,   -999.0,9,2,     0.66,2,    3.250,    0.000,2,  -0.8290
  09AR20060102,  S04I,    71,  1,      8,      8,2,20060205,1608,-66.3392,  50.1537,  172,    105.1,  -1.0377,  33.9074,2,-999.0000,9,    347.8,2,   -999.0,9,  -999.00,9,  -999.00,9,   -999.0,9,   -999.0,9,2,     0.69,2,    2.273,    0.000,2,  -1.0404
  09AR20060102,  S04I,    71,  1,      7,      7,2,20060205,1608,-66.3392,  50.1537,  172,    105.0,  -1.0399,  33.9075,2,  33.9082,2,    348.6,2,    347.3,2,    55.50,2,    26.70,2,   2173.4,2,   -999.0,9,2,     0.71,2,    2.446,    0.000,2,  -1.0426
  09AR20060102,  S04I,    71,  1,      6,      6,2,20060205,1608,-66.3392,  50.1537,  172,    114.3,  -1.1051,  33.9197,2,  33.9211,2,    346.4,2,    346.2,2,    55.50,2,    26.62,2,   2175.5,2,   -999.0,9,2,     0.74,2,    2.126,    0.000,2,  -1.1080
  09AR20060102,  S04I,    71,  1,      5,      5,2,20060205,1608,-66.3392,  50.1537,  172,    119.3,  -1.1089,  33.9285,2,  33.9438,2,    345.1,2,    344.7,2,    56.30,2,    26.88,2,   2177.5,2,   -999.0,9,2,     0.74,2,    2.335,    0.000,2,  -1.1119
  09AR20060102,  S04I,    71,  1,      4,      4,2,20060205,1608,-66.3392,  50.1537,  172,    144.2,  -1.5556,  34.2009,2,-999.0000,9,    331.4,2,   -999.0,9,  -999.00,9,  -999.00,9,   -999.0,9,   -999.0,9,2,     0.94,2,    0.673,    0.000,2,  -1.5588
  09AR20060102,  S04I,    71,  1,      3,      3,2,20060205,1608,-66.3392,  50.1537,  172,    144.2,  -1.5548,  34.1976,2,  34.2044,2,    331.4,2,    331.7,2,    65.40,2,    28.32,2,   2203.1,2,   -999.0,9,2,     0.93,2,    0.662,    0.000,2,  -1.5580
  09AR20060102,  S04I,    71,  1,      2,      2,2,20060205,1608,-66.3392,  50.1537,  172,    154.5,  -1.6757,  34.2623,2,  34.2616,2,    327.8,2,    327.8,2,    67.80,2,    29.41,2,   2211.5,2,   -999.0,9,2,     0.91,2,    0.370,    0.000,2,  -1.6790
  09AR20060102,  S04I,    71,  1,      1,      1,2,20060205,1608,-66.3392,  50.1537,  172,    169.1,  -1.6799,  34.2743,2,  34.2742,2,    326.8,2,    327.2,2,    66.20,2,    29.46,2,   2210.7,2,   -999.0,9,2,     0.94,2,    0.262,    0.000,2,  -1.6835