BOTTLE,20220816CCHSIOAMB
EXPOCODE,SECT_ID,STNNBR,CASTNO,SAMPNO,BTLNBR,BTLNBR_FLAG_W,DATE,TIME,LATITUDE,LONGITUDE,DEPTH,CTDPRS,CTDTMP,CTDSAL,CTDSAL_FLAG_W,SALNTY,SALNTY_FLAG_W,CTDOXY,CTDOXY_FLAG_W,OXYGEN,OXYGEN_FLAG_W,SILCAT,SILCAT_FLAG_W,NITRAT,NITRAT_FLAG_W,TCARBN,TCARBN_FLAG_W,ALKALI,ALKALI_FLAG_W,FLUOR_FLAG_W,XMISS,XMISS_FLAG_W,FLUOR,PAR,PAR_FLAG_W,THETA
,,,,,,,,,,,METERS,DBAR,ITS-90,PSS-78,,PSS-78,,UMOL/KG,,UMOL/KG,,UMOL/KG,,UMOL/KG,,UMOL/KG,,UMOL/KG,,,%TRANS,,VOLTS,VOLTS,,DEG C
  09AR20060102,  S04I,    15,  1,     24,     24,2,20060114,1224,-61.8845,  57.5555, 4805,      8.9,   0.5389,  33.7188,2,  33.7808,4,    352.6,2,    351.3,2,    37.00,2,    25.35,2,   -999.0,9,   -999.0,9,2,     0.13,2,    0.909,    0.029,2,   0.5386
  09AR20060102,  S04I,    15,  1,     23,     23,2,20060114,1224,-61.8845,  57.5555, 4805,     29.3,   0.3885,  33.7203,2,-999.0000,9,    353.9,2,   -999.0,9,  -999.00,9,  -999.00,9,   -999.0,9,   -999.0,9,2,     0.72,2,    1.101,    0.010,2,   0.3874
  09AR20060102,  S04I,    15,  1,     22,     22,2,20060114,1224,-61.8845,  57.5555, 4805,     29.4,   0.3743,  33.7205,2,-999.0000,9,    353.9,2,   -999.0,9,  -999.00,9,  -999.00,9,   -999.0,9,   -999.0,9,2,     0.67,2,    1.164,    0.009,2,   0.3732
  09AR20060102,  S04I,    15,  1,     21,     21,2,20060114,1224,-61.8845,  57.5555, 4805,     29.3,   0.3836,  33.7194,2,  33.7794,4,    353.9,2,    352.8,2,    37.90,2,    24.73,3,   -999.0,9,   -999.0,9,2,     0.62,2,    1.121,    0.009,2,   0.3825
  09AR20060102,  S04I,    15,  1,     20,     20,2,20060114,1224,-61.8845,  57.5555, 4805,     49.5,  -0.6826,  33.7488,2,  33.8099,4,    355.1,2,    357.4,2,    38.60,2,    25.21,3,   -999.0,9,   -999.0,9,2,     0.80,2,    2.195,    0.002,2,  -0.6840
  09AR20060102,  S04I,    15,  1,     19,     19,2,20060114,1224,-61.8845,  57.5555, 4805,     70.1,  -1.7056,  33.8830,2,  33.9383,4,    344.6,2,    345.8,2,    47.70,2,    25.96,3,   -999.0,9,   -999.0,9,2,     0.97,2,    1.569,    0.001,2,  -1.7070
  09AR20060102,  S04I,    15,  1,     18,     18,2,20060114,1224,-61.8845,  57.5555, 4805,     89.0,  -1.6797,  33.9669,2,  34.0193,4,    334.4,2,    332.7,2,    47.90,2,    27.60,2,   -999.0,9,   -999.0,9,2,     0.98,2,    1.019,    0.000,2,  -1.6815
  09AR20060102,  S04I,    15,  1,     17,     17,2,20060114,1224,-61.8845,  57.5555, 4805,    119.6,  -1.5316,  34.0504,2,  34.0929,4,    302.5,2,    319.9,3,    52.50,2,    28.01,2,   -999.0,9,   -999.0,9,2,     0.98,2,    0.859,    0.000,2,  -1.5342
  09AR20060102,  S04I,    15,  1,     16,     16,2,20060114,1224,-61.8845,  57.5555, 4805,    139.0,  -0.4883,  34.1772,2,  34.2221,4,    254.8,2,    273.8,3,    60.30,2,    30.04,2,   -999.0,9,   -999.0,9,2,     0.99,2,    0.268,    0.000,2,  -0.4927
  09AR20060102,  S04I,    15,  1,     15,     15,2,20060114,1224,-61.8845,  57.5555, 4805,    180.5,   1.3524,  34.4818,2,  34.5189,4,    201.9,2,    195.7,2,    74.70,2,    32.87,2,   -999.0,9,   -999.0,9,2,     0.99,2,   -0.007,    0.000,2,   1.3438
  09AR20060102,  S04I,    15,  1,     14,     14,2,20060114,1224,-61.8845,  57.5555, 4805,    298.4,   1.7985,  34.6192,2,  34.6562,4,    177.0,2,    178.0,2,    82.10,2,    32.24,2,   -999.0,9,   -999.0,9,2,     0.99,2,   -0.029,    0.000,2,   1.7828
  09AR20060102,  S04I,    15,  1,     13,     13,2,20060114,1224,-61.8845,  57.5555, 4805,    399.8,   1.8499,  34.6707,2,  34.7043,4,    178.9,2,    179.9,2,    82.10,2,    31.26,2,   -999.0,9,   -999.0,9,2,     0.99,2,   -0.032,    0.000,2,   1.8283
  09AR20060102,  S04I,    15,  1,     12,     12,2,20060114,1224,-61.8845,  57.5555, 4805,    600.2,   1.7772,  34.7160,2,  34.7461,4,    186.7,2,    188.0,2,    83.80,2,    29.89,2,   -999.0,9,   -999.0,9,2,     0.99,2,   -0.033,    0.000,2,   1.7440
  09AR20060102,  S04I,    15,  1,     11,     11,2,20060114,1224,-61.8845,  57.5555, 4805,    798.7,   1.6368,  34.7338,2,  34.7612,4,    194.2,2,    194.9,2,    86.30,2,    29.42,2,   -999.0,9,   -999.0,9,2,     0.99,2,   -0.036,    0.000,2,   1.5922
  09AR20060102,  S04I,    15,  1,     10,     10,2,20060114,1224,-61.8845,  57.5555, 4805,   1000.0,   1.4562,  34.7366,2,  34.7600,4,    199.0,2,    199.2,2,    92.10,2,    29.36,2,   -999.0,9,   -999.0,9,2,     0.99,2,   -0.033,    0.000,2,   1.4001
  09AR20060102,  S04I,    15,  1,      9,      9,2,20060114,1224,-61.8845,  57.5555, 4805,   1400.9,   1.0634,  34.7216,2,  34.7433,4,    204.3,2,    205.1,2,   101.30,2,    30.03,2,   -999.0,9,   -999.0,9,2,     0.99,2,   -0.037,    0.000,2,   0.9845
  09AR20060102,  S04I,    15,  1,      8,      8,2,20060114,1224,-61.8845,  57.5555, 4805,   1898.4,   0.6953,  34.7014,2,  34.7070,3,    207.4,2,    207.2,2,   114.70,2,    30.88,2,   -999.0,9,   -999.0,9,2,     0.99,2,   -0.042,    0.000,2,   0.5861
  09AR20060102,  S04I,    15,  1,      7,      7,2,20060114,1224,-61.8845,  57.5555, 4805,   2399.1,   0.4237,  34.6871,2,  34.6903,3,    211.1,2,    211.2,2,   121.10,2,    31.48,2,   -999.0,9,   -999.0,9,2,     0.99,2,   -0.040,    0.000,2,   0.2810
  09AR20060102,  S04I,    15,  1,      6,      6,2,20060114,1224,-61.8845,  57.5555, 4805,   2898.9,   0.2215,  34.6777,2,-999.0000,9,    217.3,2,   -999.0,9,  -999.00,9,  -999.00,9,   -999.0,9,   -999.0,9,2,     0.99,2,   -0.041,    0.000,2,   0.0418
  09AR20060102,  S04I,    15,  1,      5,      5,2,20060114,1224,-61.8845,  57.5555, 4805,   3399.2,   0.0603,  34.6700,2,  34.6721,3,    224.6,2,    224.9,2,   131.30,2,    31.57,2,   -999.0,9,   -999.0,9,2,     0.99,2,   -0.048,    0.000,2,  -0.1599
  09AR20060102,  S04I,    15,  1,      4,      4,2,20060114,1224,-61.8845,  57.5555, 4805,   3899.3,  -0.0635,  34.6644,2,  34.6680,3,    231.2,2,    230.9,2,   128.90,2,    31.36,2,   -999.0,9,   -999.0,9,2,     0.99,2,   -0.047,    0.000,2,  -0.3278
  09AR20060102,  S04I,    15,  1,      3,      3,2,20060114,1224,-61.8845,  57.5555, 4805,   4398.9,  -0.1500,  34.6599,2,  34.6631,3,    236.4,2,    236.4,2,   132.20,2,    31.13,2,   -999.0,9,   -999.0,9,2,     0.99,2,   -0.045,    0.000,2,  -0.4624
  09AR20060102,  S04I,    15,  1,      2,      2,2,20060114,1224,-61.8845,  57.5555, 4805,   4883.1,  -0.2271,  34.6547,2,  34.6574,3,    240.6,2,    240.9,2,   141.70,2,    31.50,2,   -999.0,9,   -999.0,9,2,     0.99,2,   -0.048,    0.000,2,  -0.5890
  09AR20060102,  S04I,    15,  1,      1,      1,2,20060114,1224,-61.8845,  57.5555, 4805,   4915.8,  -0.2234,  34.6545,2,  34.6582,3,    240.5,2,    240.2,2,   137.90,2,    31.26,2,   -999.0,9,   -999.0,9,2,     0.99,2,   -0.047,    0.000,2,  -0.5891
  09AR20060102,  S04I,    16,  1,     24,     24,2,20060114,2116,-62.0010,  55.0042, 4984,      9.1,   0.5491,  33.7770,2,  33.7696,2,    347.3,2,    346.2,2,    41.00,2,    26.16,2,   2158.1,2,   2283.4,6,2,     0.97,2,    0.344,    0.086,2,   0.5488
  09AR20060102,  S04I,    16,  1,     23,     23,2,20060114,2116,-62.0010,  55.0042, 4984,     29.1,   0.5040,  33.7782,2,-999.0000,9,    348.2,2,   -999.0,9,  -999.00,9,  -999.00,9,   -999.0,9,   -999.0,9,2,     0.97,2,    0.538,    0.031,2,   0.5029
  09AR20060102,  S04I,    16,  1,     22,     22,2,20060114,2116,-62.0010,  55.0042, 4984,     29.1,   0.4950,  33.7784,2,-999.0000,9,    348.2,2,   -999.0,9,  -999.00,9,  -999.00,9,   -999.0,9,   -999.0,9,2,     0.97,2,    0.539,    0.032,2,   0.4939
  09AR20060102,  S04I,    16,  1,     21,     21,2,20060114,2116,-62.0010,  55.0042, 4984,     29.0,   0.4830,  33.7784,2,  33.7018,3,    348.2,2,    347.0,2,    40.30,2,    26.09,2,   2158.1,6,   -999.0,9,2,     0.97,2,    0.565,    0.033,2,   0.4819
  09AR20060102,  S04I,    16,  1,     20,     20,2,20060114,2116,-62.0010,  55.0042, 4984,     49.9,  -0.9434,  33.8833,2,  33.8799,2,    350.9,2,    353.3,2,    43.00,2,    26.61,2,   2150.4,2,   -999.0,9,2,     0.96,2,    1.331,    0.013,2,  -0.9447
  09AR20060102,  S04I,    16,  1,     19,     19,2,20060114,2116,-62.0010,  55.0042, 4984,     69.9,  -1.5774,  33.9946,2,  34.0048,2,    335.8,2,    333.5,2,    49.00,2,    27.99,2,   2184.1,2,   -999.0,9,2,     0.98,2,    0.767,    0.004,2,  -1.5789
  09AR20060102,  S04I,    16,  1,     18,     18,2,20060114,2116,-62.0010,  55.0042, 4984,     99.5,  -0.8637,  34.1861,2,  34.2138,2,    280.1,2,    278.7,2,    60.90,2,    30.77,2,   2215.2,2,   -999.0,9,2,     0.98,2,    0.666,    0.000,2,  -0.8665
  09AR20060102,  S04I,    16,  1,     17,     17,2,20060114,2116,-62.0010,  55.0042, 4984,    129.0,   0.9698,  34.4464,2,  34.4446,2,    197.9,2,    207.3,3,    73.80,2,    33.44,2,   2247.8,2,   -999.0,9,2,     0.99,2,    0.202,    0.000,2,   0.9641
  09AR20060102,  S04I,    16,  1,     16,     16,2,20060114,2116,-62.0010,  55.0042, 4984,    200.7,   1.6270,  34.5744,2,  34.5615,2,    183.6,2,    182.8,2,    80.80,2,    33.73,2,   -999.0,9,   -999.0,9,2,     0.99,2,   -0.018,    0.000,2,   1.6169
  09AR20060102,  S04I,    16,  1,     15,     15,2,20060114,2116,-62.0010,  55.0042, 4984,    299.2,   1.7794,  34.6521,2,  34.6519,2,    180.6,2,    179.8,2,    83.30,2,    32.68,2,   -999.0,9,   -999.0,9,2,     0.99,2,   -0.028,    0.000,2,   1.7636
  09AR20060102,  S04I,    16,  1,     14,     14,2,20060114,2116,-62.0010,  55.0042, 4984,    400.0,   1.7918,  34.6872,2,  34.6872,2,    183.5,2,    182.5,2,    84.50,2,    31.88,2,   2257.6,2,   -999.0,9,2,     0.99,2,   -0.032,    0.000,2,   1.7703
  09AR20060102,  S04I,    16,  1,     13,     13,2,20060114,2116,-62.0010,  55.0042, 4984,    500.6,   1.7197,  34.7080,2,  34.7088,2,    187.8,2,    187.3,2,    85.80,2,    31.29,2,   2257.7,2,   -999.0,9,2,     0.99,2,   -0.035,    0.000,2,   1.6927
  09AR20060102,  S04I,    16,  1,     12,     12,2,20060114,2116,-62.0010,  55.0042, 4984,    599.4,   1.6621,  34.7203,2,  34.7202,2,    191.3,2,    190.8,2,    85.50,2,    30.85,2,   2253.2,2,   -999.0,9,2,     0.99,2,   -0.032,    0.000,2,   1.6295
  09AR20060102,  S04I,    16,  1,     11,     11,2,20060114,2116,-62.0010,  55.0042, 4984,    798.7,   1.5342,  34.7329,2,  34.7294,2,    197.8,2,    196.5,2,    89.80,2,    30.26,2,   2250.6,6,   -999.0,9,2,     0.99,2,   -0.035,    0.000,2,   1.4902
  09AR20060102,  S04I,    16,  1,     10,     10,2,20060114,2116,-62.0010,  55.0042, 4984,   1000.0,   1.3664,  34.7352,2,  34.7359,2,    201.4,2,    201.4,2,    95.20,2,    30.23,2,   2251.2,2,   -999.0,9,2,     0.99,2,   -0.032,    0.000,2,   1.3110
  09AR20060102,  S04I,    16,  1,      9,      9,2,20060114,2116,-62.0010,  55.0042, 4984,   1500.8,   0.8964,  34.7131,2,  34.7133,2,    205.5,2,    205.6,2,   108.00,2,    30.90,2,   2256.5,2,   -999.0,9,2,     0.99,2,   -0.040,    0.000,2,   0.8127
  09AR20060102,  S04I,    16,  1,      8,      8,2,20060114,2116,-62.0010,  55.0042, 4984,   2000.0,   0.5585,  34.6941,2,  34.6943,2,    208.2,2,    208.6,2,   117.80,2,    31.86,2,   2262.5,2,   -999.0,9,2,     0.99,2,   -0.039,    0.000,2,   0.4440
  09AR20060102,  S04I,    16,  1,      7,      7,2,20060114,2116,-62.0010,  55.0042, 4984,   2501.1,   0.3287,  34.6830,2,  34.6833,2,    213.6,2,    213.6,2,   122.90,2,    31.94,2,   2261.2,2,   -999.0,9,2,     0.99,2,   -0.040,    0.000,2,   0.1797
  09AR20060102,  S04I,    16,  1,      6,      6,2,20060114,2116,-62.0010,  55.0042, 4984,   3000.3,   0.1496,  34.6743,2,  34.6737,2,    220.3,2,    220.2,2,   123.60,2,    32.07,2,   2260.1,2,   -999.0,9,2,     0.99,2,   -0.042,    0.000,2,  -0.0372
  09AR20060102,  S04I,    16,  1,      5,      5,2,20060114,2116,-62.0010,  55.0042, 4984,   3499.8,   0.0067,  34.6680,2,  34.6635,2,    227.2,2,    227.1,2,   127.10,2,    31.94,2,   2256.9,2,   -999.0,9,2,     0.99,2,   -0.045,    0.000,2,  -0.2214
  09AR20060102,  S04I,    16,  1,      4,      4,2,20060114,2116,-62.0010,  55.0042, 4984,   4000.8,  -0.1018,  34.6625,2,  34.6615,2,    233.3,2,    233.2,2,   127.30,2,    31.75,2,   2255.9,2,   -999.0,9,2,     0.99,2,   -0.047,    0.000,2,  -0.3750
  09AR20060102,  S04I,    16,  1,      3,      3,2,20060114,2116,-62.0010,  55.0042, 4984,   4500.7,  -0.1753,  34.6585,2,  34.6576,2,    238.0,2,    238.3,2,   127.90,2,    31.63,2,   2252.7,2,   -999.0,9,2,     0.99,2,   -0.047,    0.000,2,  -0.4976
  09AR20060102,  S04I,    16,  1,      2,      2,2,20060114,2116,-62.0010,  55.0042, 4984,   5053.9,  -0.2258,  34.6538,2,  34.6535,2,    241.7,2,    241.8,2,   134.70,2,    31.69,2,   2254.2,2,   -999.0,9,2,     0.99,2,   -0.048,    0.000,2,  -0.6069
  09AR20060102,  S04I,    16,  1,      1,      1,2,20060114,2116,-62.0010,  55.0042, 4984,   5087.8,  -0.2235,  34.6535,2,  34.6527,2,    241.8,2,    241.8,2,   135.50,2,    31.44,2,   2253.5,6,   -999.0,9,2,     0.99,2,   -0.045,    0.000,2,  -0.6085
  09AR20060102,  S04I,    17,  1,     24,     24,2,20060115,0630,-61.9990,  52.5052, 5137,      8.2,   0.3829,  33.8050,2,  33.8091,2,    347.0,2,    347.0,2,    43.90,2,    26.62,2,   -999.0,9,   -999.0,9,2,     0.59,2,    0.298,    0.151,2,   0.3826
  09AR20060102,  S04I,    17,  1,     23,     23,2,20060115,0630,-61.9990,  52.5052, 5137,     29.3,   0.3500,  33.8068,2,-999.0000,9,    347.2,2,   -999.0,9,  -999.00,9,  -999.00,9,   -999.0,9,   -999.0,9,2,     0.97,2,    0.348,    0.058,2,   0.3489
  09AR20060102,  S04I,    17,  1,     22,     22,2,20060115,0630,-61.9990,  52.5052, 5137,     29.2,   0.3588,  33.8060,2,-999.0000,9,    347.2,2,   -999.0,9,  -999.00,9,  -999.00,9,   -999.0,9,   -999.0,9,2,     0.97,2,    0.346,    0.059,2,   0.3577
  09AR20060102,  S04I,    17,  1,     21,     21,2,20060115,0630,-61.9990,  52.5052, 5137,     29.3,   0.3499,  33.8053,2,  33.8089,2,    347.2,2,    346.8,2,    43.70,2,    26.68,2,   -999.0,9,   -999.0,9,2,     0.97,2,    0.325,    0.057,2,   0.3488
  09AR20060102,  S04I,    17,  1,     20,     20,2,20060115,0630,-61.9990,  52.5052, 5137,     49.2,  -1.2181,  33.8880,2,  33.8806,2,    351.4,2,    352.2,2,    45.00,2,    27.03,2,   -999.0,9,   -999.0,9,2,     0.97,2,    0.542,    0.026,2,  -1.2193
  09AR20060102,  S04I,    17,  1,     19,     19,2,20060115,0630,-61.9990,  52.5052, 5137,     69.7,  -1.6638,  33.9892,2,  33.9943,2,    340.7,2,    338.9,2,    47.80,2,    27.59,2,   -999.0,9,   -999.0,9,2,     0.97,2,    0.924,    0.013,2,  -1.6652
  09AR20060102,  S04I,    17,  1,     18,     18,2,20060115,0630,-61.9990,  52.5052, 5137,     89.7,  -1.7010,  34.0161,2,  34.0168,2,    334.6,2,    334.5,2,    49.40,2,    27.81,2,   -999.0,9,   -999.0,9,2,     0.98,2,    1.114,    0.004,2,  -1.7028
  09AR20060102,  S04I,    17,  1,     17,     17,2,20060115,0630,-61.9990,  52.5052, 5137,    120.1,  -0.6424,  34.1847,2,  34.1876,2,    306.1,2,    283.5,3,    59.40,2,    30.15,2,   -999.0,9,   -999.0,9,2,     0.99,2,    0.621,    0.000,2,  -0.6460
  09AR20060102,  S04I,    17,  1,     16,     16,2,20060115,0630,-61.9990,  52.5052, 5137,    140.0,   0.5725,  34.3447,2,  34.3474,2,    229.9,2,    230.7,2,    67.70,2,    32.48,2,   -999.0,9,   -999.0,9,2,     0.99,2,    0.431,    0.000,2,   0.5668
  09AR20060102,  S04I,    17,  1,     15,     15,2,20060115,0630,-61.9990,  52.5052, 5137,    202.4,   1.6817,  34.5543,2,  34.5542,2,    182.7,2,    182.4,2,    74.90,2,    33.40,2,   -999.0,9,   -999.0,9,2,     0.99,2,   -0.032,    0.000,2,   1.6714
  09AR20060102,  S04I,    17,  1,     14,     14,2,20060115,0630,-61.9990,  52.5052, 5137,    299.1,   1.8195,  34.6337,2,  34.6342,2,    178.2,2,    178.2,2,    81.60,2,    32.28,2,   -999.0,9,   -999.0,9,2,     0.99,2,   -0.035,    0.000,2,   1.8037
  09AR20060102,  S04I,    17,  1,     13,     13,2,20060115,0630,-61.9990,  52.5052, 5137,    449.8,   1.8248,  34.6926,2,  34.6947,2,    183.2,2,    182.8,2,    82.80,2,    31.34,2,   -999.0,9,   -999.0,9,2,     0.99,2,   -0.031,    0.000,2,   1.8003
  09AR20060102,  S04I,    17,  1,     12,     12,2,20060115,0630,-61.9990,  52.5052, 5137,    598.8,   1.7449,  34.7220,2,  34.7231,2,    189.1,2,    189.8,2,    88.20,2,    30.65,2,   -999.0,9,   -999.0,9,2,     0.99,2,   -0.032,    0.000,2,   1.7119
  09AR20060102,  S04I,    17,  1,     11,     11,2,20060115,0630,-61.9990,  52.5052, 5137,    799.7,   1.6156,  34.7348,2,  34.7359,2,    195.4,2,    195.8,2,    90.90,2,    29.80,2,   -999.0,9,   -999.0,9,2,     0.99,2,   -0.035,    0.000,2,   1.5710
  09AR20060102,  S04I,    17,  1,     10,     10,2,20060115,0630,-61.9990,  52.5052, 5137,   1000.0,   1.4037,  34.7337,2,  34.7347,2,    200.0,2,    199.4,2,    91.80,2,    29.93,2,   -999.0,9,   -999.0,9,2,     0.99,2,   -0.035,    0.000,2,   1.3480
  09AR20060102,  S04I,    17,  1,      9,      9,2,20060115,0630,-61.9990,  52.5052, 5137,   1499.4,   0.9299,  34.7152,2,  34.7159,2,    205.1,2,    205.4,2,   100.80,2,    30.69,2,   -999.0,9,   -999.0,9,2,     0.99,2,   -0.041,    0.000,2,   0.8459
  09AR20060102,  S04I,    17,  1,      8,      8,2,20060115,0630,-61.9990,  52.5052, 5137,   2000.2,   0.5752,  34.6952,2,  34.6960,2,    208.5,2,    208.3,2,   114.70,2,    31.70,2,   -999.0,9,   -999.0,9,2,     0.99,2,   -0.043,    0.000,2,   0.4604
  09AR20060102,  S04I,    17,  1,      7,      7,2,20060115,0630,-61.9990,  52.5052, 5137,   2495.9,   0.3198,  34.6817,2,  34.6819,2,    212.8,2,    212.8,2,  -999.00,9,    32.00,2,   -999.0,9,   -999.0,9,2,     0.99,2,   -0.044,    0.000,2,   0.1713
  09AR20060102,  S04I,    17,  1,      6,      6,2,20060115,0630,-61.9990,  52.5052, 5137,   3000.6,   0.1392,  34.6735,2,  34.6731,2,    220.1,2,    220.1,2,  -999.00,9,    31.91,2,   -999.0,9,   -999.0,9,2,     0.99,2,   -0.043,    0.000,2,  -0.0474
  09AR20060102,  S04I,    17,  1,      5,      5,2,20060115,0630,-61.9990,  52.5052, 5137,   3500.1,  -0.0129,  34.6669,2,  34.6658,2,    227.5,2,    228.0,2,   126.30,2,    31.71,2,   -999.0,9,   -999.0,9,2,     0.99,2,   -0.045,    0.000,2,  -0.2405
  09AR20060102,  S04I,    17,  1,      4,      4,2,20060115,0630,-61.9990,  52.5052, 5137,   3998.6,  -0.1126,  34.6620,2,  34.6611,2,    233.3,2,    233.8,2,  -999.00,9,    31.77,2,   -999.0,9,   -999.0,9,2,     0.99,2,   -0.046,    0.000,2,  -0.3853
  09AR20060102,  S04I,    17,  1,      3,      3,2,20060115,0630,-61.9990,  52.5052, 5137,   4499.9,  -0.1824,  34.6582,2,  34.6576,2,    238.1,2,    238.6,2,   127.40,2,    31.88,2,   -999.0,9,   -999.0,9,2,     0.99,2,   -0.048,    0.000,2,  -0.5044
  09AR20060102,  S04I,    17,  1,      2,      2,2,20060115,0630,-61.9990,  52.5052, 5137,   4998.6,  -0.2186,  34.6549,2,  34.6548,2,    241.0,2,    241.2,2,  -999.00,9,    32.15,2,   -999.0,9,   -999.0,9,2,     0.99,2,   -0.048,    0.000,2,  -0.5937
  09AR20060102,  S04I,    17,  1,      1,      1,2,20060115,0630,-61.9990,  52.5052, 5137,   5234.6,  -0.2284,  34.6532,2,  34.6535,2,    241.7,2,    242.1,2,   139.20,2,    31.77,2,   -999.0,9,   -999.0,9,2,     0.99,2,   -0.049,    0.000,2,  -0.6300