BOTTLE,20220816CCHSIOAMB
EXPOCODE,SECT_ID,STNNBR,CASTNO,SAMPNO,BTLNBR,BTLNBR_FLAG_W,DATE,TIME,LATITUDE,LONGITUDE,DEPTH,CTDPRS,CTDTMP,CTDSAL,CTDSAL_FLAG_W,SALNTY,SALNTY_FLAG_W,CTDOXY,CTDOXY_FLAG_W,OXYGEN,OXYGEN_FLAG_W,SILCAT,SILCAT_FLAG_W,NITRAT,NITRAT_FLAG_W,TCARBN,TCARBN_FLAG_W,ALKALI,ALKALI_FLAG_W,FLUOR_FLAG_W,XMISS,XMISS_FLAG_W,FLUOR,PAR,PAR_FLAG_W,THETA
,,,,,,,,,,,METERS,DBAR,ITS-90,PSS-78,,PSS-78,,UMOL/KG,,UMOL/KG,,UMOL/KG,,UMOL/KG,,UMOL/KG,,UMOL/KG,,,%TRANS,,VOLTS,VOLTS,,DEG C
  09AR20060102,  S04I,    66,  1,     24,     24,2,20060204,2315,-65.6190,  49.9867, 2001,      9.6,  -0.0231,  33.7711,2,  33.7648,2,    348.2,2,    347.8,2,    61.30,2,    26.12,2,   2163.8,2,   -999.0,9,2,     0.50,2,    1.480,    0.027,2,  -0.0234
  09AR20060102,  S04I,    66,  1,     23,     23,2,20060204,2315,-65.6190,  49.9867, 2001,     30.0,  -0.0003,  33.8069,2,-999.0000,9,    348.6,2,   -999.0,9,  -999.00,9,  -999.00,9,   -999.0,9,   -999.0,9,2,     0.92,2,    1.271,    0.005,2,  -0.0013
  09AR20060102,  S04I,    66,  1,     22,     22,2,20060204,2315,-65.6190,  49.9867, 2001,     29.9,  -0.0008,  33.8064,2,-999.0000,9,    348.6,2,   -999.0,9,  -999.00,9,  -999.00,9,   -999.0,9,   -999.0,9,2,     0.92,2,    1.321,    0.005,2,  -0.0018
  09AR20060102,  S04I,    66,  1,     21,     21,2,20060204,2315,-65.6190,  49.9867, 2001,     29.9,  -0.0015,  33.8063,2,  33.8032,2,    348.6,2,    347.9,2,    60.60,2,    25.70,2,   2167.2,2,   -999.0,9,2,     0.93,2,    1.261,    0.005,2,  -0.0025
  09AR20060102,  S04I,    66,  1,     20,     20,2,20060204,2315,-65.6190,  49.9867, 2001,     58.8,  -0.1272,  33.8327,2,  33.8285,2,    349.7,2,    348.5,2,    57.40,2,    25.94,2,   2167.6,2,   -999.0,9,2,     0.46,2,    1.632,    0.000,2,  -0.1291
  09AR20060102,  S04I,    66,  1,     19,     19,2,20060204,2315,-65.6190,  49.9867, 2001,     69.9,  -0.1913,  33.8417,2,  33.8369,2,    345.3,2,    348.1,2,    56.50,2,    25.29,2,   -999.0,9,   -999.0,9,2,     0.54,2,    1.759,    0.000,2,  -0.1936
  09AR20060102,  S04I,    66,  1,     18,     18,2,20060204,2315,-65.6190,  49.9867, 2001,     79.3,  -0.3321,  33.8625,2,  33.8891,2,    330.7,2,    344.9,3,    56.20,2,    26.49,2,   2173.6,2,   -999.0,9,2,     0.58,2,    2.161,    0.000,2,  -0.3346
  09AR20060102,  S04I,    66,  1,     17,     17,2,20060204,2315,-65.6190,  49.9867, 2001,     89.4,  -1.3167,  34.0908,2,  34.0843,2,    323.9,2,    329.5,2,    68.10,2,    26.35,2,   -999.0,9,   -999.0,9,2,     0.67,2,    2.255,    0.000,2,  -1.3188
  09AR20060102,  S04I,    66,  1,     16,     16,2,20060204,2315,-65.6190,  49.9867, 2001,    109.7,  -1.7151,  34.2244,2,  34.2330,2,    316.8,2,    315.4,2,    63.30,2,    29.62,2,   2210.4,2,   -999.0,9,2,     0.85,2,    0.986,    0.000,2,  -1.7174
  09AR20060102,  S04I,    66,  1,     15,     15,2,20060204,2315,-65.6190,  49.9867, 2001,    149.7,  -1.7495,  34.3147,2,  34.3184,2,    305.2,2,    302.2,2,    69.50,2,    30.92,2,   2220.0,2,   -999.0,9,2,     0.99,2,    0.172,    0.000,2,  -1.7526
  09AR20060102,  S04I,    66,  1,     14,     14,2,20060204,2315,-65.6190,  49.9867, 2001,    199.9,  -1.7635,  34.3526,2,  34.3292,2,    305.5,2,    304.6,2,    74.30,2,    30.75,2,   -999.0,9,   -999.0,9,2,     0.99,2,    0.018,    0.000,2,  -1.7677
  09AR20060102,  S04I,    66,  1,     13,     13,2,20060204,2315,-65.6190,  49.9867, 2001,    299.0,  -1.2885,  34.4334,2,  34.4368,2,    294.6,2,    292.9,2,    71.80,2,    30.99,2,   -999.0,9,   -999.0,9,2,     0.99,2,   -0.045,    0.000,2,  -1.2964
  09AR20060102,  S04I,    66,  1,     12,     12,2,20060204,2315,-65.6190,  49.9867, 2001,    399.4,  -0.6495,  34.5231,2,  34.5250,2,    266.3,2,    266.1,2,    82.90,2,    31.31,2,   -999.0,9,   -999.0,9,2,     0.99,2,   -0.051,    0.000,2,  -0.6627
  09AR20060102,  S04I,    66,  1,     11,     11,2,20060204,2315,-65.6190,  49.9867, 2001,    499.4,  -0.2145,  34.5859,2,  34.6064,2,    251.7,2,    249.5,2,   100.00,2,    30.63,2,   -999.0,9,   -999.0,9,2,     0.99,2,   -0.043,    0.000,2,  -0.2334
  09AR20060102,  S04I,    66,  1,     10,     10,2,20060204,2315,-65.6190,  49.9867, 2001,    599.3,   0.0121,  34.6214,2,  34.6197,2,    237.6,2,    238.7,2,   104.30,2,    30.97,2,   -999.0,9,   -999.0,9,2,     0.99,2,   -0.045,    0.000,2,  -0.0123
  09AR20060102,  S04I,    66,  1,      9,      9,2,20060204,2315,-65.6190,  49.9867, 2001,    700.2,   0.0675,  34.6366,2,  34.6336,2,    232.8,2,    233.9,2,   113.00,3,    31.61,2,   -999.0,9,   -999.0,9,2,     0.99,2,   -0.045,    0.000,2,   0.0381
  09AR20060102,  S04I,    66,  1,      8,      8,2,20060204,2315,-65.6190,  49.9867, 2001,    800.1,   0.1716,  34.6551,2,  34.6568,2,    226.5,2,    226.9,2,   108.10,2,    31.95,2,   -999.0,9,   -999.0,9,2,     0.99,2,   -0.046,    0.000,2,   0.1365
  09AR20060102,  S04I,    66,  1,      7,      7,2,20060204,2315,-65.6190,  49.9867, 2001,    899.6,   0.1389,  34.6603,2,  34.6617,2,    226.3,2,    226.1,2,   111.00,2,    32.21,2,   -999.0,9,   -999.0,9,2,     0.99,2,   -0.047,    0.000,2,   0.0989
  09AR20060102,  S04I,    66,  1,      6,      6,2,20060204,2315,-65.6190,  49.9867, 2001,   1000.3,   0.0870,  34.6608,2,  34.6627,2,    226.4,2,    226.4,2,   112.70,2,    32.14,2,   -999.0,9,   -999.0,9,2,     0.99,2,   -0.047,    0.000,2,   0.0421
  09AR20060102,  S04I,    66,  1,      5,      5,2,20060204,2315,-65.6190,  49.9867, 2001,   1249.5,   0.0242,  34.6635,2,  34.6652,2,    228.2,2,    226.6,2,   116.90,2,    32.05,2,   -999.0,9,   -999.0,9,2,     0.99,2,   -0.047,    0.000,2,  -0.0340
  09AR20060102,  S04I,    66,  1,      4,      4,2,20060204,2315,-65.6190,  49.9867, 2001,   1500.1,  -0.0786,  34.6598,2,  34.6582,2,    230.4,2,    230.8,2,   123.20,2,    32.42,2,   -999.0,9,   -999.0,9,2,     0.99,2,   -0.051,    0.000,2,  -0.1505
  09AR20060102,  S04I,    66,  1,      3,      3,2,20060204,2315,-65.6190,  49.9867, 2001,   1749.8,  -0.1462,  34.6573,2,  34.6590,2,    234.5,2,    234.4,2,   118.40,2,    32.07,2,   -999.0,9,   -999.0,9,2,     0.99,2,   -0.051,    0.000,2,  -0.2329
  09AR20060102,  S04I,    66,  1,      2,      2,2,20060204,2315,-65.6190,  49.9867, 2001,   2000.1,  -0.1696,  34.6566,2,  34.6582,2,    235.3,2,    235.4,2,   116.30,2,    32.14,2,   -999.0,9,   -999.0,9,2,     0.99,2,   -0.048,    0.000,2,  -0.2726
  09AR20060102,  S04I,    66,  1,      1,      1,2,20060204,2315,-65.6190,  49.9867, 2001,   2036.4,  -0.1753,  34.6565,2,  34.6572,2,    235.8,2,    235.8,2,   116.00,2,    31.86,2,   -999.0,9,   -999.0,9,2,     0.99,2,   -0.052,    0.000,2,  -0.2807
  09AR20060102,  S04I,    67,  1,     24,     24,2,20060205,0257,-65.8627,  49.9848, 1557,      9.7,   0.0777,  33.6572,2,  33.6473,2,    347.6,2,    346.2,2,    52.60,2,    27.06,2,   2118.8,4,   2278.3,2,2,     0.02,2,    0.308,    0.191,2,   0.0774
  09AR20060102,  S04I,    67,  1,     23,     23,2,20060205,0257,-65.8627,  49.9848, 1557,     29.9,   0.0768,  33.6602,2,-999.0000,9,    347.9,2,   -999.0,9,  -999.00,9,  -999.00,9,   -999.0,9,   -999.0,9,2,     0.53,2,    0.793,    0.058,2,   0.0758
  09AR20060102,  S04I,    67,  1,     22,     22,2,20060205,0257,-65.8627,  49.9848, 1557,     29.7,   0.0771,  33.6609,2,-999.0000,9,    347.9,2,   -999.0,9,  -999.00,9,  -999.00,9,   -999.0,9,   -999.0,9,2,     0.49,2,    0.791,    0.059,2,   0.0761
  09AR20060102,  S04I,    67,  1,     21,     21,2,20060205,0257,-65.8627,  49.9848, 1557,     29.6,   0.0771,  33.6602,2,  33.6626,2,    347.9,2,    346.5,2,    52.40,2,    27.07,2,   2156.9,2,   -999.0,9,2,     0.46,2,    0.819,    0.059,2,   0.0761
  09AR20060102,  S04I,    67,  1,     20,     20,2,20060205,0257,-65.8627,  49.9848, 1557,     49.9,   0.0327,  33.7022,2,  33.6571,3,    348.6,2,    347.9,2,    51.30,2,    26.95,2,   2138.9,4,   -999.0,9,2,     0.75,2,    1.203,    0.022,2,   0.0310
  09AR20060102,  S04I,    67,  1,     19,     19,2,20060205,0257,-65.8627,  49.9848, 1557,     59.9,  -0.2561,  33.7887,2,  33.7870,2,    348.4,2,    347.3,2,    50.50,2,    26.98,2,   2086.9,4,   -999.0,9,2,     0.88,2,    1.660,    0.013,2,  -0.2580
  09AR20060102,  S04I,    67,  1,     18,     18,2,20060205,0257,-65.8627,  49.9848, 1557,     70.4,  -0.7544,  33.9343,2,  33.9162,2,    341.0,2,    344.0,2,    50.90,2,    27.47,2,   2136.6,4,   -999.0,9,2,     0.92,2,    2.147,    0.007,2,  -0.7564
  09AR20060102,  S04I,    67,  1,     17,     17,2,20060205,0257,-65.8627,  49.9848, 1557,     79.4,  -0.9986,  34.0320,2,  34.0340,2,    329.6,2,    340.0,2,    51.10,2,    27.59,2,   2106.9,4,   -999.0,9,2,     0.94,2,    2.660,    0.004,2,  -1.0007
  09AR20060102,  S04I,    67,  1,     16,     16,2,20060205,0257,-65.8627,  49.9848, 1557,     89.6,  -1.5488,  34.1702,2,  34.1555,2,    323.4,2,    325.1,2,    56.40,2,    29.21,2,   2190.7,2,   -999.0,9,2,     0.96,2,    1.931,    0.001,2,  -1.5507
  09AR20060102,  S04I,    67,  1,     15,     15,2,20060205,0257,-65.8627,  49.9848, 1557,    108.8,  -1.7285,  34.2566,2,  34.2577,2,    319.3,2,    318.0,2,    59.80,2,    29.52,2,   2171.6,4,   -999.0,9,2,     0.98,2,    0.925,    0.000,2,  -1.7307
  09AR20060102,  S04I,    67,  1,     14,     14,2,20060205,0257,-65.8627,  49.9848, 1557,    149.9,  -1.7620,  34.3096,2,  34.2994,2,    318.6,2,    314.4,2,    61.30,2,    30.47,2,   2202.2,2,   -999.0,9,2,     0.99,2,    0.138,    0.000,2,  -1.7651
  09AR20060102,  S04I,    67,  1,     13,     13,2,20060205,0257,-65.8627,  49.9848, 1557,    200.8,  -1.7639,  34.3368,2,  34.3439,2,    310.8,2,    311.8,2,    63.60,2,    30.46,2,   2070.4,4,   -999.0,9,2,     0.99,2,   -0.002,    0.000,2,  -1.7682
  09AR20060102,  S04I,    67,  1,     12,     12,2,20060205,0257,-65.8627,  49.9848, 1557,    299.0,  -1.6625,  34.3843,2,  34.3831,2,    302.1,2,    303.0,2,    65.70,2,    31.13,2,   2197.6,4,   -999.0,9,2,     0.99,2,   -0.020,    0.000,2,  -1.6694
  09AR20060102,  S04I,    67,  1,     11,     11,2,20060205,0257,-65.8627,  49.9848, 1557,    399.3,  -0.8482,  34.4758,2,  34.4819,2,    272.1,2,    273.5,2,    73.10,2,    30.77,2,   2220.2,2,   -999.0,9,2,     0.99,2,   -0.047,    0.000,2,  -0.8607
  09AR20060102,  S04I,    67,  1,     10,     10,2,20060205,0257,-65.8627,  49.9848, 1557,    499.8,  -0.6486,  34.5256,2,  34.5487,2,    267.1,2,    266.5,2,    77.90,2,    31.42,2,   2235.9,2,   -999.0,9,2,     0.99,2,   -0.048,    0.000,2,  -0.6656
  09AR20060102,  S04I,    67,  1,      9,      9,2,20060205,0257,-65.8627,  49.9848, 1557,    599.4,  -0.0983,  34.5933,2,  34.5970,2,    246.1,2,    245.6,2,    85.80,2,    31.14,2,   2241.4,2,   -999.0,9,2,     0.99,2,   -0.045,    0.000,2,  -0.1221
  09AR20060102,  S04I,    67,  1,      8,      8,2,20060205,0257,-65.8627,  49.9848, 1557,    701.4,  -0.0142,  34.6206,2,  34.6452,2,    239.4,2,    239.5,2,    93.30,2,    31.71,2,   2247.3,2,   -999.0,9,2,     0.99,2,   -0.051,    0.000,2,  -0.0432
  09AR20060102,  S04I,    67,  1,      7,      7,2,20060205,0257,-65.8627,  49.9848, 1557,    799.2,   0.0208,  34.6355,2,  34.6391,2,    237.0,2,    235.2,2,    99.10,2,    31.80,2,   2250.5,2,   -999.0,9,2,     0.99,2,   -0.047,    0.000,2,  -0.0132
  09AR20060102,  S04I,    67,  1,      6,      6,2,20060205,0257,-65.8627,  49.9848, 1557,    898.7,   0.0284,  34.6430,2,  34.6456,2,    233.5,2,    232.9,2,   102.70,2,    32.30,2,   2223.1,4,   -999.0,9,2,     0.99,2,   -0.047,    0.000,2,  -0.0107
  09AR20060102,  S04I,    67,  1,      5,      5,2,20060205,0257,-65.8627,  49.9848, 1557,    999.2,   0.0101,  34.6462,2,-999.0000,9,    232.1,2,   -999.0,9,  -999.00,9,  -999.00,9,   -999.0,9,   -999.0,9,2,     0.99,2,   -0.048,    0.000,2,  -0.0341
  09AR20060102,  S04I,    67,  1,      4,      4,2,20060205,0257,-65.8627,  49.9848, 1557,   1000.0,   0.0093,  34.6462,2,  34.6476,2,    232.1,2,    232.4,2,   104.90,2,    32.01,2,   2250.9,2,   -999.0,9,2,     0.99,2,   -0.046,    0.000,2,  -0.0350
  09AR20060102,  S04I,    67,  1,      3,      3,2,20060205,0257,-65.8627,  49.9848, 1557,   1249.8,  -0.0066,  34.6564,2,  34.6552,2,    229.0,2,    229.9,2,   111.20,2,    32.29,2,   2225.4,4,   -999.0,9,2,     0.99,2,   -0.048,    0.000,2,  -0.0645
  09AR20060102,  S04I,    67,  1,      2,      2,2,20060205,0257,-65.8627,  49.9848, 1557,   1500.4,  -0.0440,  34.6591,2,  34.6603,2,    230.3,2,    229.8,2,   114.20,2,    32.29,2,   2224.2,4,   -999.0,9,2,     0.99,2,   -0.045,    0.000,2,  -0.1164
  09AR20060102,  S04I,    67,  1,      1,      1,2,20060205,0257,-65.8627,  49.9848, 1557,   1669.4,  -0.0606,  34.6591,2,  34.6607,2,    230.1,2,   -999.0,9,   117.60,2,    32.45,2,   2254.2,2,   -999.0,9,2,     0.99,2,   -0.049,    0.000,2,  -0.1433
  09AR20060102,  S04I,    68,  1,     24,     24,2,20060205,0616,-66.0078,  49.9940,  935,     10.1,   0.0263,  33.7908,2,-999.0000,9,    348.7,2,   -999.0,9,  -999.00,9,  -999.00,9,   -999.0,9,   -999.0,9,2,     0.93,2,    0.417,    0.445,2,   0.0260
  09AR20060102,  S04I,    68,  1,     23,     23,2,20060205,0616,-66.0078,  49.9940,  935,      9.8,   0.0364,  33.7895,2,-999.0000,9,    348.7,2,   -999.0,9,  -999.00,9,  -999.00,9,   -999.0,9,   -999.0,9,2,     0.93,2,    0.467,    0.443,2,   0.0361
  09AR20060102,  S04I,    68,  1,     22,     22,2,20060205,0616,-66.0078,  49.9940,  935,      9.9,   0.0246,  33.7909,2,-999.0000,9,    348.7,2,   -999.0,9,  -999.00,9,  -999.00,9,   -999.0,9,   -999.0,9,2,     0.94,2,    0.428,    0.455,2,   0.0243
  09AR20060102,  S04I,    68,  1,     21,     21,2,20060205,0616,-66.0078,  49.9940,  935,      9.9,   0.0014,  33.7962,2,  33.7980,2,    348.7,2,    349.7,2,    48.00,2,    26.71,2,   2176.3,2,   -999.0,9,2,     0.94,2,    0.440,    0.470,2,   0.0011
  09AR20060102,  S04I,    68,  1,     20,     20,2,20060205,0616,-66.0078,  49.9940,  935,     29.8,  -0.1133,  33.8294,2,  33.8292,2,    350.5,2,    350.0,2,    47.40,2,    26.58,2,   2164.3,2,   -999.0,9,2,     0.93,2,    1.412,    0.100,2,  -0.1143
  09AR20060102,  S04I,    68,  1,     19,     19,2,20060205,0616,-66.0078,  49.9940,  935,     39.3,  -0.1310,  33.8358,2,  33.8369,2,    350.7,2,    350.3,2,    47.40,2,    26.11,2,   -999.0,9,   -999.0,9,2,     0.93,2,    1.715,    0.054,2,  -0.1323
  09AR20060102,  S04I,    68,  1,     18,     18,2,20060205,0616,-66.0078,  49.9940,  935,     49.3,  -0.1483,  33.8414,2,  33.8447,2,    349.8,2,    350.0,2,    47.20,2,    26.62,2,   2164.9,2,   -999.0,9,2,     0.93,2,    1.933,    0.028,2,  -0.1499
  09AR20060102,  S04I,    68,  1,     17,     17,2,20060205,0616,-66.0078,  49.9940,  935,     59.6,  -0.4015,  33.9103,2,  33.9113,2,    348.2,2,    347.4,2,    48.00,2,    26.82,2,   -999.0,9,   -999.0,9,2,     0.94,2,    2.025,    0.014,2,  -0.4033
  09AR20060102,  S04I,    68,  1,     16,     16,2,20060205,0616,-66.0078,  49.9940,  935,     71.1,  -0.8019,  34.0075,2,  34.0042,2,    341.6,2,    341.0,2,    51.60,2,    27.49,2,   2183.7,2,   -999.0,9,2,     0.96,2,    1.426,    0.006,2,  -0.8039
  09AR20060102,  S04I,    68,  1,     15,     15,2,20060205,0616,-66.0078,  49.9940,  935,     89.1,  -1.2583,  34.1150,2,  34.1115,2,    331.2,2,    331.2,2,    56.80,2,    28.28,2,   2200.1,2,   -999.0,9,2,     0.97,2,    0.923,    0.002,2,  -1.2604
  09AR20060102,  S04I,    68,  1,     14,     14,2,20060205,0616,-66.0078,  49.9940,  935,    109.8,  -1.6460,  34.2445,2,  34.2387,2,    323.5,2,    320.7,2,    60.20,2,    29.63,2,   2216.6,2,   -999.0,9,2,     0.98,2,    0.363,    0.000,2,  -1.6483
  09AR20060102,  S04I,    68,  1,     13,     13,2,20060205,0616,-66.0078,  49.9940,  935,    138.8,  -1.7570,  34.2890,2,  34.2888,2,    315.4,2,    316.1,2,    61.20,2,    29.77,2,   2211.5,2,   -999.0,9,2,     0.99,2,    0.239,    0.000,2,  -1.7599
  09AR20060102,  S04I,    68,  1,     12,     12,2,20060205,0616,-66.0078,  49.9940,  935,    169.2,  -1.7829,  34.3129,2,  34.3308,2,    313.9,2,    314.4,2,    61.20,2,    30.55,2,   -999.0,9,   -999.0,9,2,     0.99,2,    0.063,    0.000,2,  -1.7864
  09AR20060102,  S04I,    68,  1,     11,     11,2,20060205,0616,-66.0078,  49.9940,  935,    201.5,  -1.7837,  34.3275,2,  34.3249,2,    312.5,2,    313.4,2,    61.70,2,    30.32,2,   -999.0,9,   -999.0,9,2,     0.99,2,   -0.004,    0.000,2,  -1.7879
  09AR20060102,  S04I,    68,  1,     10,     10,2,20060205,0616,-66.0078,  49.9940,  935,    250.0,  -1.7784,  34.3391,2,  34.3386,2,    312.0,2,    312.3,2,    61.90,2,    30.81,2,   -999.0,9,   -999.0,9,2,     0.99,2,   -0.030,    0.000,2,  -1.7838
  09AR20060102,  S04I,    68,  1,      9,      9,2,20060205,0616,-66.0078,  49.9940,  935,    301.0,  -1.7642,  34.3519,2,  34.3511,2,    310.2,2,    310.8,2,    62.40,2,    30.36,2,   -999.0,9,   -999.0,9,2,     0.99,2,   -0.033,    0.000,2,  -1.7709
  09AR20060102,  S04I,    68,  1,      8,      8,2,20060205,0616,-66.0078,  49.9940,  935,    347.8,  -1.7330,  34.3642,2,  34.3827,2,    307.6,2,    308.5,2,    63.10,2,    30.77,2,   -999.0,9,   -999.0,9,2,     0.99,2,   -0.044,    0.000,2,  -1.7410
  09AR20060102,  S04I,    68,  1,      7,      7,2,20060205,0616,-66.0078,  49.9940,  935,    400.2,  -1.6193,  34.3884,2,  34.3878,2,    299.3,2,    302.3,2,    65.10,2,    30.54,2,   -999.0,9,   -999.0,9,2,     0.99,2,   -0.044,    0.000,2,  -1.6291
  09AR20060102,  S04I,    68,  1,      6,      6,2,20060205,0616,-66.0078,  49.9940,  935,    501.9,  -0.9868,  34.4766,2,  34.4756,2,    280.3,2,    278.0,2,    73.20,2,    31.50,2,   -999.0,9,   -999.0,9,2,     0.99,2,   -0.046,    0.000,2,  -1.0024
  09AR20060102,  S04I,    68,  1,      5,      5,2,20060205,0616,-66.0078,  49.9940,  935,    597.9,  -0.7014,  34.5234,2,  34.5232,2,    267.6,2,    266.2,2,    79.60,2,    31.27,2,   -999.0,9,   -999.0,9,2,     0.99,2,   -0.044,    0.000,2,  -0.7220
  09AR20060102,  S04I,    68,  1,      4,      4,2,20060205,0616,-66.0078,  49.9940,  935,    699.3,  -0.6485,  34.5323,2,  34.5313,2,    265.3,2,    264.0,2,    82.00,2,    31.48,2,   -999.0,9,   -999.0,9,2,     0.99,2,   -0.046,    0.000,2,  -0.6736
  09AR20060102,  S04I,    68,  1,      3,      3,2,20060205,0616,-66.0078,  49.9940,  935,    799.8,  -0.4396,  34.5665,2,  34.5658,2,    254.1,2,    254.5,2,    90.40,2,    31.66,2,   -999.0,9,   -999.0,9,2,     0.99,2,   -0.046,    0.000,2,  -0.4705
  09AR20060102,  S04I,    68,  1,      2,      2,2,20060205,0616,-66.0078,  49.9940,  935,    898.9,  -0.3862,  34.5751,2,  34.5748,2,    252.2,2,    251.7,2,    92.00,2,    31.91,2,   -999.0,9,   -999.0,9,2,     0.99,2,   -0.046,    0.000,2,  -0.4221
  09AR20060102,  S04I,    68,  1,      1,      1,2,20060205,0616,-66.0078,  49.9940,  935,    929.7,  -0.3485,  34.5809,2,  34.5824,2,    251.8,2,    249.7,2,    93.20,2,    31.88,2,   -999.0,9,   -999.0,9,2,     0.99,2,   -0.047,    0.000,2,  -0.3862