BOTTLE,20220816CCHSIOAMB
EXPOCODE,SECT_ID,STNNBR,CASTNO,SAMPNO,BTLNBR,BTLNBR_FLAG_W,DATE,TIME,LATITUDE,LONGITUDE,DEPTH,CTDPRS,CTDTMP,CTDSAL,CTDSAL_FLAG_W,SALNTY,SALNTY_FLAG_W,CTDOXY,CTDOXY_FLAG_W,OXYGEN,OXYGEN_FLAG_W,SILCAT,SILCAT_FLAG_W,NITRAT,NITRAT_FLAG_W,TCARBN,TCARBN_FLAG_W,ALKALI,ALKALI_FLAG_W,FLUOR_FLAG_W,XMISS,XMISS_FLAG_W,FLUOR,PAR,PAR_FLAG_W,THETA
,,,,,,,,,,,METERS,DBAR,ITS-90,PSS-78,,PSS-78,,UMOL/KG,,UMOL/KG,,UMOL/KG,,UMOL/KG,,UMOL/KG,,UMOL/KG,,,%TRANS,,VOLTS,VOLTS,,DEG C
  09AR20060102,  S04I,    57,  1,     24,     24,2,20060130,1913,-68.1443,  40.0008,  508,      9.6,  -0.2804,  32.8802,2,  32.8820,2,    354.5,2,    356.6,2,    46.20,2,    22.85,2,   2096.2,2,   -999.0,9,2,     0.91,2,    1.220,    0.000,2,  -0.2807
  09AR20060102,  S04I,    57,  1,     23,     23,2,20060130,1913,-68.1443,  40.0008,  508,     19.5,  -0.6849,  33.1458,2,-999.0000,9,    361.6,2,   -999.0,9,  -999.00,9,  -999.00,9,   -999.0,9,   -999.0,9,2,     0.87,2,    2.322,    0.000,2,  -0.6854
  09AR20060102,  S04I,    57,  1,     22,     22,2,20060130,1913,-68.1443,  40.0008,  508,     19.4,  -0.8715,  33.1246,2,-999.0000,9,    361.6,2,   -999.0,9,  -999.00,9,  -999.00,9,   -999.0,9,   -999.0,9,2,     0.89,2,    2.038,    0.000,2,  -0.8720
  09AR20060102,  S04I,    57,  1,     21,     21,2,20060130,1913,-68.1443,  40.0008,  508,     19.4,  -0.8082,  33.1296,2,  33.1571,2,    361.6,2,    361.7,2,    50.80,2,    23.55,2,   2109.7,2,   -999.0,9,2,     0.89,2,    2.084,    0.000,2,  -0.8087
  09AR20060102,  S04I,    57,  1,     20,     20,2,20060130,1913,-68.1443,  40.0008,  508,     29.3,  -1.1545,  33.3124,2,  33.3558,2,    358.2,2,    358.2,2,    46.50,2,    22.75,2,   2119.6,2,   -999.0,9,2,     0.90,2,    2.645,    0.000,2,  -1.1552
  09AR20060102,  S04I,    57,  1,     19,     19,2,20060130,1913,-68.1443,  40.0008,  508,     39.2,  -1.2286,  33.5270,2,  33.5620,2,    355.9,2,    356.1,2,    49.00,2,    23.42,2,   2137.7,2,   -999.0,9,2,     0.92,2,    3.037,    0.000,2,  -1.2295
  09AR20060102,  S04I,    57,  1,     18,     18,2,20060130,1913,-68.1443,  40.0008,  508,     49.6,  -1.5767,  34.1396,2,  34.1373,2,    340.8,2,   -999.0,9,    58.60,2,    27.47,2,   -999.0,9,   -999.0,9,2,     0.95,2,    0.965,    0.000,2,  -1.5777
  09AR20060102,  S04I,    57,  1,     17,     17,2,20060130,1913,-68.1443,  40.0008,  508,     59.4,  -1.6740,  34.2059,2,  34.1988,2,    328.0,2,    325.7,2,    61.10,2,    28.27,2,   2197.5,2,   -999.0,9,2,     0.98,2,    0.610,    0.000,2,  -1.6752
  09AR20060102,  S04I,    57,  1,     16,     16,2,20060130,1913,-68.1443,  40.0008,  508,     69.4,  -1.7331,  34.2371,2,  34.2373,2,    322.0,2,   -999.0,9,    61.20,2,    29.29,2,   -999.0,9,   -999.0,9,2,     0.98,2,    0.338,    0.000,2,  -1.7345
  09AR20060102,  S04I,    57,  1,     15,     15,2,20060130,1913,-68.1443,  40.0008,  508,     79.6,  -1.7561,  34.2467,2,  34.2379,2,    317.0,2,    314.6,2,    61.50,2,    29.37,2,   2209.9,2,   -999.0,9,2,     0.99,2,    0.255,    0.000,2,  -1.7577
  09AR20060102,  S04I,    57,  1,     14,     14,2,20060130,1913,-68.1443,  40.0008,  508,     99.6,  -1.7775,  34.2650,2,  34.2665,2,    314.8,2,    316.1,2,    63.50,2,    30.07,2,   2211.6,2,   -999.0,9,2,     0.99,2,    0.170,    0.000,2,  -1.7795
  09AR20060102,  S04I,    57,  1,     13,     13,2,20060130,1913,-68.1443,  40.0008,  508,    119.5,  -1.7877,  34.2771,2,  34.2704,2,    313.6,2,    313.3,2,    64.40,2,    29.80,2,   -999.0,9,   -999.0,9,2,     0.99,2,    0.136,    0.000,2,  -1.7901
  09AR20060102,  S04I,    57,  1,     12,     12,2,20060130,1913,-68.1443,  40.0008,  508,    150.1,  -1.7952,  34.2999,2,  34.2988,2,    312.9,2,    315.2,2,    62.80,2,    30.08,2,   2214.1,2,   -999.0,9,2,     0.99,2,    0.019,    0.000,2,  -1.7983
  09AR20060102,  S04I,    57,  1,     11,     11,2,20060130,1913,-68.1443,  40.0008,  508,    179.5,  -1.8035,  34.3114,2,  34.3312,2,    312.4,2,    311.6,2,    62.20,2,    30.09,2,   -999.0,9,   -999.0,9,2,     0.99,2,    0.005,    0.000,2,  -1.8072
  09AR20060102,  S04I,    57,  1,     10,     10,2,20060130,1913,-68.1443,  40.0008,  508,    199.4,  -1.7745,  34.3214,2,  34.3227,2,    310.3,2,   -999.0,9,    63.60,2,    30.06,2,   2212.4,2,   -999.0,9,2,     0.99,2,   -0.003,    0.000,2,  -1.7787
  09AR20060102,  S04I,    57,  1,      9,      9,2,20060130,1913,-68.1443,  40.0008,  508,    224.4,  -1.7375,  34.3280,2,  34.3272,2,    307.9,2,    310.3,2,  -999.00,9,    30.90,2,   -999.0,9,   -999.0,9,2,     0.99,2,   -0.007,    0.000,2,  -1.7424
  09AR20060102,  S04I,    57,  1,      8,      8,2,20060130,1913,-68.1443,  40.0008,  508,    249.5,  -1.7233,  34.3321,2,  34.3319,2,    306.8,2,    307.3,2,    68.10,2,    30.32,2,   -999.0,9,   -999.0,9,2,     0.99,2,   -0.010,    0.000,2,  -1.7288
  09AR20060102,  S04I,    57,  1,      7,      7,2,20060130,1913,-68.1443,  40.0008,  508,    274.7,  -1.6999,  34.3400,2,  34.3396,2,    305.0,2,   -999.0,9,    65.30,2,    30.76,2,   -999.0,9,   -999.0,9,2,     0.99,2,   -0.011,    0.000,2,  -1.7061
  09AR20060102,  S04I,    57,  1,      6,      6,2,20060130,1913,-68.1443,  40.0008,  508,    299.3,  -1.5645,  34.3580,2,  34.3647,2,    297.1,2,    299.1,2,  -999.00,9,    30.63,2,   -999.0,9,   -999.0,9,2,     0.99,2,   -0.016,    0.000,2,  -1.5717
  09AR20060102,  S04I,    57,  1,      5,      5,2,20060130,1913,-68.1443,  40.0008,  508,    329.3,  -1.1181,  34.4116,2,  34.4180,2,    284.6,2,    284.7,2,    75.50,2,    30.89,2,   -999.0,9,   -999.0,9,2,     0.99,2,   -0.019,    0.000,2,  -1.1274
  09AR20060102,  S04I,    57,  1,      4,      4,2,20060130,1913,-68.1443,  40.0008,  508,    359.9,  -0.6130,  34.4671,2,  34.4664,2,    276.0,2,    267.9,2,    74.60,2,    30.76,2,   -999.0,9,   -999.0,9,2,     0.99,2,   -0.032,    0.000,2,  -0.6248
  09AR20060102,  S04I,    57,  1,      3,      3,2,20060130,1913,-68.1443,  40.0008,  508,    399.6,  -0.2148,  34.5178,2,  34.5309,2,    254.8,2,    247.5,2,    79.50,2,    31.07,2,   -999.0,9,   -999.0,9,2,     0.99,2,   -0.036,    0.000,2,  -0.2295
  09AR20060102,  S04I,    57,  1,      2,      2,2,20060130,1913,-68.1443,  40.0008,  508,    444.4,   0.3639,  34.5900,2,  34.5954,2,    227.0,2,    228.6,2,    83.80,2,    31.36,2,   -999.0,9,   -999.0,9,2,     0.99,2,   -0.032,    0.000,2,   0.3452
  09AR20060102,  S04I,    57,  1,      1,      1,2,20060130,1913,-68.1443,  40.0008,  508,    479.0,   0.5135,  34.6162,2,  34.6132,2,    223.9,2,    227.0,2,    87.80,2,    31.15,2,   -999.0,9,   -999.0,9,2,     0.99,2,   -0.036,    0.000,2,   0.4926
  09AR20060102,  S04I,    58,  1,     24,     24,2,20060130,2156,-68.1972,  40.0058,  309,      4.6,  -0.3867,  32.8026,2,  32.7995,2,   -999.0,5,   -999.0,9,    45.70,2,    22.85,2,   2093.2,6,   -999.0,9,2,     0.01,2,    1.102,    0.002,2,  -0.3868
  09AR20060102,  S04I,    58,  1,     23,     23,2,20060130,2156,-68.1972,  40.0058,  309,      9.4,  -0.3967,  32.8174,2,-999.0000,9,   -999.0,5,   -999.0,9,  -999.00,9,  -999.00,9,   -999.0,9,   -999.0,9,2,     0.02,2,    1.141,    0.000,2,  -0.3970
  09AR20060102,  S04I,    58,  1,     22,     22,2,20060130,2156,-68.1972,  40.0058,  309,      9.4,  -0.4082,  32.8229,2,-999.0000,9,   -999.0,5,   -999.0,9,  -999.00,9,  -999.00,9,   -999.0,9,   -999.0,9,2,     0.02,2,    1.201,    0.000,2,  -0.4085
  09AR20060102,  S04I,    58,  1,     21,     21,2,20060130,2156,-68.1972,  40.0058,  309,      9.4,  -0.4199,  32.8275,2,-999.0000,9,   -999.0,5,   -999.0,9,  -999.00,9,  -999.00,9,   -999.0,9,   -999.0,9,2,     0.02,2,    1.209,    0.000,2,  -0.4202
  09AR20060102,  S04I,    58,  1,     20,     20,2,20060130,2156,-68.1972,  40.0058,  309,      9.4,  -0.4437,  32.8397,2,  32.8372,2,   -999.0,5,   -999.0,9,    46.00,2,    23.03,2,   2096.7,2,   -999.0,9,2,     0.02,2,    1.263,    0.000,2,  -0.4440
  09AR20060102,  S04I,    58,  1,     19,     19,2,20060130,2156,-68.1972,  40.0058,  309,     14.6,  -0.5761,  32.9381,2,  32.9287,2,   -999.0,5,   -999.0,9,    45.70,2,    22.28,2,   2095.6,2,   -999.0,9,2,     0.02,2,    1.571,    0.000,2,  -0.5765
  09AR20060102,  S04I,    58,  1,     18,     18,2,20060130,2156,-68.1972,  40.0058,  309,     19.5,  -0.7764,  33.1616,2,-999.0000,9,   -999.0,5,   -999.0,9,  -999.00,9,  -999.00,9,   -999.0,9,   -999.0,9,2,     0.02,2,    2.343,    0.000,2,  -0.7769
  09AR20060102,  S04I,    58,  1,     17,     17,2,20060130,2156,-68.1972,  40.0058,  309,     19.5,  -0.8138,  33.1240,2,  33.0813,2,   -999.0,5,   -999.0,9,    46.20,2,    22.05,2,   2101.9,2,   -999.0,9,2,     0.02,2,    2.267,    0.000,2,  -0.8143
  09AR20060102,  S04I,    58,  1,     16,     16,2,20060130,2156,-68.1972,  40.0058,  309,     29.5,  -1.1914,  33.4124,2,  33.4250,2,   -999.0,5,   -999.0,9,    47.70,2,    23.03,2,   2127.2,2,   -999.0,9,2,     0.10,2,    3.476,    0.000,2,  -1.1921
  09AR20060102,  S04I,    58,  1,     15,     15,2,20060130,2156,-68.1972,  40.0058,  309,     39.6,  -1.3190,  33.7173,2,-999.0000,9,    353.3,2,   -999.0,9,  -999.00,9,  -999.00,9,   -999.0,9,   -999.0,9,2,     0.13,2,    2.365,    0.000,2,  -1.3199
  09AR20060102,  S04I,    58,  1,     14,     14,2,20060130,2156,-68.1972,  40.0058,  309,     39.4,  -1.3182,  33.7180,2,  33.7149,2,    353.3,2,    355.2,2,    50.80,2,    24.00,2,   2150.4,2,   -999.0,9,2,     0.09,2,    2.385,    0.000,2,  -1.3191
  09AR20060102,  S04I,    58,  1,     13,     13,2,20060130,2156,-68.1972,  40.0058,  309,     49.5,  -1.5621,  33.9994,2,-999.0000,9,    342.1,2,   -999.0,9,  -999.00,9,  -999.00,9,   -999.0,9,   -999.0,9,2,     0.33,2,    1.240,    0.000,2,  -1.5631
  09AR20060102,  S04I,    58,  1,     12,     12,2,20060130,2156,-68.1972,  40.0058,  309,     49.6,  -1.5592,  33.9850,2,  33.9596,2,    342.1,2,    341.4,2,    56.10,2,    26.36,2,   2178.6,2,   -999.0,9,2,     0.31,2,    1.492,    0.000,2,  -1.5602
  09AR20060102,  S04I,    58,  1,     11,     11,2,20060130,2156,-68.1972,  40.0058,  309,     59.5,  -1.6637,  34.1839,2,  34.1704,2,    328.4,2,    325.2,2,    58.90,2,    27.98,2,   2202.7,2,   -999.0,9,2,     0.40,2,    0.716,    0.000,2,  -1.6649
  09AR20060102,  S04I,    58,  1,     10,     10,2,20060130,2156,-68.1972,  40.0058,  309,     69.4,  -1.7423,  34.2407,2,-999.0000,9,    320.1,2,   -999.0,9,  -999.00,9,  -999.00,9,   -999.0,9,   -999.0,9,2,     0.50,2,    0.277,    0.000,2,  -1.7437
  09AR20060102,  S04I,    58,  1,      9,      9,2,20060130,2156,-68.1972,  40.0058,  309,     69.5,  -1.7427,  34.2410,2,  34.2395,2,    320.1,2,    319.2,2,    61.50,2,    29.26,2,   2213.1,2,   -999.0,9,2,     0.47,2,    0.268,    0.000,2,  -1.7441
  09AR20060102,  S04I,    58,  1,      8,      8,2,20060130,2156,-68.1972,  40.0058,  309,     99.5,  -1.7811,  34.2657,2,  34.2655,2,    313.8,2,    315.4,2,    62.00,2,    29.88,2,   2216.9,2,   -999.0,9,2,     0.72,2,    0.142,    0.000,2,  -1.7831
  09AR20060102,  S04I,    58,  1,      7,      7,2,20060130,2156,-68.1972,  40.0058,  309,    139.7,  -1.7926,  34.2806,2,  34.2789,2,    312.3,2,    314.4,2,    62.10,2,    29.89,2,   2217.7,2,   -999.0,9,2,     0.88,2,    0.093,    0.000,2,  -1.7954
  09AR20060102,  S04I,    58,  1,      6,      6,2,20060130,2156,-68.1972,  40.0058,  309,    179.5,  -1.8015,  34.2894,2,-999.0000,9,    312.0,2,   -999.0,9,  -999.00,9,  -999.00,9,   -999.0,9,   -999.0,9,2,     0.95,2,    0.101,    0.000,2,  -1.8052
  09AR20060102,  S04I,    58,  1,      5,      5,2,20060130,2156,-68.1972,  40.0058,  309,    179.6,  -1.8008,  34.2891,2,  34.2867,2,    312.0,2,    314.4,2,    64.00,2,    30.17,2,   2218.7,2,   -999.0,9,2,     0.91,2,    0.092,    0.000,2,  -1.8045
  09AR20060102,  S04I,    58,  1,      4,      4,2,20060130,2156,-68.1972,  40.0058,  309,    199.5,  -1.8082,  34.2963,2,  34.2934,2,    310.9,2,    309.3,2,    63.30,2,    30.03,2,   2213.3,2,   -999.0,9,2,     0.94,2,    0.049,    0.000,2,  -1.8123
  09AR20060102,  S04I,    58,  1,      3,      3,2,20060130,2156,-68.1972,  40.0058,  309,    249.7,  -1.8076,  34.3149,2,  34.3155,2,    309.1,2,   -999.0,9,    64.30,2,    30.55,2,   2222.9,2,   -999.0,9,2,     0.99,2,    0.016,    0.000,2,  -1.8129
  09AR20060102,  S04I,    58,  1,      2,      2,2,20060130,2156,-68.1972,  40.0058,  309,    299.2,  -1.6137,  34.3492,2,  34.3492,2,    305.7,2,   -999.0,9,    64.80,2,    29.97,2,   2224.8,2,   -999.0,9,2,     0.99,2,   -0.020,    0.000,2,  -1.6207
  09AR20060102,  S04I,    58,  1,      1,      1,2,20060130,2156,-68.1972,  40.0058,  309,    319.8,  -1.4697,  34.3655,2,  34.3647,2,    300.8,2,    299.8,2,    66.30,2,    30.35,2,   2226.8,2,   -999.0,9,2,     0.99,2,   -0.019,    0.000,2,  -1.4777
  09AR20060102,  S04I,    59,  1,     24,     24,2,20060131,0034,-68.3477,  39.9957,  310,      9.7,  -1.3854,  33.3165,2,  33.1889,3,    385.8,2,    384.8,2,    48.50,2,    20.01,2,   2038.5,2,   -999.0,9,2,     0.92,2,    3.315,    0.052,2,  -1.3856
  09AR20060102,  S04I,    59,  1,     23,     23,2,20060131,0034,-68.3477,  39.9957,  310,      9.6,  -1.3759,  33.2082,2,-999.0000,9,    385.8,2,   -999.0,9,  -999.00,9,  -999.00,9,   -999.0,9,   -999.0,9,2,     0.86,2,    2.877,    0.050,2,  -1.3761
  09AR20060102,  S04I,    59,  1,     22,     22,2,20060131,0034,-68.3477,  39.9957,  310,      9.6,  -1.3887,  33.2029,2,-999.0000,9,    385.8,2,   -999.0,9,  -999.00,9,  -999.00,9,   -999.0,9,   -999.0,9,2,     0.44,2,    3.170,    0.046,2,  -1.3889
  09AR20060102,  S04I,    59,  1,     21,     21,2,20060131,0034,-68.3477,  39.9957,  310,      9.6,  -1.3817,  33.1524,2,-999.0000,9,    385.8,2,   -999.0,9,  -999.00,9,  -999.00,9,   -999.0,9,   -999.0,9,2,     0.38,2,    2.745,    0.043,2,  -1.3819
  09AR20060102,  S04I,    59,  1,     20,     20,2,20060131,0034,-68.3477,  39.9957,  310,     30.2,  -1.5400,  33.4327,2,-999.0000,9,    375.6,2,   -999.0,9,  -999.00,9,  -999.00,9,   -999.0,9,   -999.0,9,2,     0.94,2,    3.570,    0.004,2,  -1.5406
  09AR20060102,  S04I,    59,  1,     19,     19,2,20060131,0034,-68.3477,  39.9957,  310,     30.2,  -1.5121,  33.4210,2,  33.4277,2,    375.6,2,    375.8,2,    51.30,2,    22.04,2,   2117.8,2,   -999.0,9,2,     0.94,2,    2.959,    0.004,2,  -1.5127
  09AR20060102,  S04I,    59,  1,     18,     18,2,20060131,0034,-68.3477,  39.9957,  310,     50.4,  -1.6565,  33.5708,2,-999.0000,9,    355.0,2,   -999.0,9,  -999.00,9,  -999.00,9,   -999.0,9,   -999.0,9,2,     0.96,2,    3.209,    0.000,2,  -1.6575
  09AR20060102,  S04I,    59,  1,     17,     17,2,20060131,0034,-68.3477,  39.9957,  310,     50.3,  -1.6583,  33.5719,2,  33.5735,2,    355.0,2,    356.3,2,    54.70,2,    24.23,2,   2088.3,2,   -999.0,9,2,     0.96,2,    2.626,    0.000,2,  -1.6593
  09AR20060102,  S04I,    59,  1,     16,     16,2,20060131,0034,-68.3477,  39.9957,  310,     65.4,  -1.6703,  33.6925,2,-999.0000,9,    353.1,2,   -999.0,9,  -999.00,9,  -999.00,9,   -999.0,9,   -999.0,9,2,     0.94,2,    3.695,    0.000,2,  -1.6716
  09AR20060102,  S04I,    59,  1,     15,     15,2,20060131,0034,-68.3477,  39.9957,  310,     65.3,  -1.6649,  33.6993,2,  33.7093,2,    353.1,2,    351.2,2,    56.50,2,    24.99,2,   -999.0,9,   -999.0,9,2,     0.95,2,    3.890,    0.000,2,  -1.6662
  09AR20060102,  S04I,    59,  1,     14,     14,2,20060131,0034,-68.3477,  39.9957,  310,     79.9,  -1.7387,  34.1234,2,  34.1281,2,    336.0,2,    328.5,2,    59.70,2,    28.95,2,   2126.1,2,   -999.0,9,2,     0.96,2,    1.554,    0.000,2,  -1.7403
  09AR20060102,  S04I,    59,  1,     13,     13,2,20060131,0034,-68.3477,  39.9957,  310,     79.9,  -1.7463,  34.1277,2,-999.0000,9,    336.0,2,   -999.0,9,  -999.00,9,  -999.00,9,   -999.0,9,   -999.0,9,2,     0.94,2,    1.735,    0.000,2,  -1.7479
  09AR20060102,  S04I,    59,  1,     12,     12,2,20060131,0034,-68.3477,  39.9957,  310,    120.2,  -1.8085,  34.1856,2,-999.0000,9,    322.5,2,   -999.0,9,  -999.00,9,  -999.00,9,   -999.0,9,   -999.0,9,2,     0.97,2,    0.388,    0.000,2,  -1.8109
  09AR20060102,  S04I,    59,  1,     11,     11,2,20060131,0034,-68.3477,  39.9957,  310,    120.1,  -1.8085,  34.1858,2,  34.1892,2,    322.5,2,    323.0,2,    61.60,2,    29.48,2,   2207.6,2,   -999.0,9,2,     0.97,2,    0.454,    0.000,2,  -1.8109
  09AR20060102,  S04I,    59,  1,     10,     10,2,20060131,0034,-68.3477,  39.9957,  310,    139.6,  -1.8057,  34.2046,2,-999.0000,9,    320.8,2,   -999.0,9,  -999.00,9,  -999.00,9,   -999.0,9,   -999.0,9,2,     0.98,2,    0.427,    0.000,2,  -1.8085
  09AR20060102,  S04I,    59,  1,      9,      9,2,20060131,0034,-68.3477,  39.9957,  310,    139.6,  -1.8062,  34.2024,2,  34.2040,2,    320.8,2,    321.0,2,    62.20,2,    29.81,2,   2118.5,3,   -999.0,9,2,     0.99,2,    0.425,    0.000,2,  -1.8090
  09AR20060102,  S04I,    59,  1,      8,      8,2,20060131,0034,-68.3477,  39.9957,  310,    169.8,  -1.8108,  34.2215,2,-999.0000,9,    320.1,2,   -999.0,9,  -999.00,9,  -999.00,9,   -999.0,9,   -999.0,9,2,     0.98,2,    0.225,    0.000,2,  -1.8142
  09AR20060102,  S04I,    59,  1,      7,      7,2,20060131,0034,-68.3477,  39.9957,  310,    169.6,  -1.8088,  34.2218,2,  34.2246,2,    320.1,2,    320.2,2,    63.30,2,    29.89,2,   -999.0,9,   -999.0,9,2,     0.98,2,    0.270,    0.000,2,  -1.8122
  09AR20060102,  S04I,    59,  1,      6,      6,2,20060131,0034,-68.3477,  39.9957,  310,    179.6,  -1.7810,  34.2377,2,-999.0000,9,    320.2,2,   -999.0,9,  -999.00,9,  -999.00,9,   -999.0,9,   -999.0,9,2,     0.98,2,    0.312,    0.000,2,  -1.7847
  09AR20060102,  S04I,    59,  1,      5,      5,2,20060131,0034,-68.3477,  39.9957,  310,    179.5,  -1.7825,  34.2375,2,  34.2383,2,    320.2,2,    319.6,2,    66.70,2,    29.91,2,   2036.6,3,   -999.0,9,2,     0.98,2,    0.329,    0.000,2,  -1.7862
  09AR20060102,  S04I,    59,  1,      4,      4,2,20060131,0034,-68.3477,  39.9957,  310,    199.6,  -1.8079,  34.2516,2,  34.2526,2,    318.7,2,    318.3,2,    63.80,2,    30.11,2,   2170.8,2,   -999.0,9,2,     0.99,2,    0.083,    0.000,2,  -1.8120
  09AR20060102,  S04I,    59,  1,      3,      3,2,20060131,0034,-68.3477,  39.9957,  310,    250.5,  -1.7600,  34.2939,2,  34.2924,2,    315.6,2,   -999.0,9,    63.70,2,    30.18,2,   -999.0,9,   -999.0,9,2,     0.98,2,    0.125,    0.000,2,  -1.7654
  09AR20060102,  S04I,    59,  1,      2,      2,2,20060131,0034,-68.3477,  39.9957,  310,    289.5,  -1.6454,  34.3264,2,  34.3247,2,    308.0,2,    308.4,2,    65.70,2,    30.15,2,   -999.0,9,   -999.0,9,2,     0.98,2,    0.050,    0.000,2,  -1.6521
  09AR20060102,  S04I,    59,  1,      1,      1,2,20060131,0034,-68.3477,  39.9957,  310,    309.7,  -1.6101,  34.3319,2,  34.3294,2,    306.2,2,    306.9,2,    66.60,2,    30.47,2,   -999.0,9,   -999.0,9,2,     0.98,2,    0.033,    0.000,2,  -1.6174