BOTTLE,20220816CCHSIOAMB
EXPOCODE,SECT_ID,STNNBR,CASTNO,SAMPNO,BTLNBR,BTLNBR_FLAG_W,DATE,TIME,LATITUDE,LONGITUDE,DEPTH,CTDPRS,CTDTMP,CTDSAL,CTDSAL_FLAG_W,SALNTY,SALNTY_FLAG_W,CTDOXY,CTDOXY_FLAG_W,OXYGEN,OXYGEN_FLAG_W,SILCAT,SILCAT_FLAG_W,NITRAT,NITRAT_FLAG_W,TCARBN,TCARBN_FLAG_W,ALKALI,ALKALI_FLAG_W,FLUOR_FLAG_W,XMISS,XMISS_FLAG_W,FLUOR,PAR,PAR_FLAG_W,THETA
,,,,,,,,,,,METERS,DBAR,ITS-90,PSS-78,,PSS-78,,UMOL/KG,,UMOL/KG,,UMOL/KG,,UMOL/KG,,UMOL/KG,,UMOL/KG,,,%TRANS,,VOLTS,VOLTS,,DEG C
  09AR20060102,  S04I,   105,  1,     24,     24,2,20060224,1747,-62.3335,  79.9985, 2468,      8.0,   0.7456,  33.7258,2,  33.7257,2,    339.1,2,    337.3,2,    30.30,2,    26.15,2,   2149.7,2,   -999.0,9,2,     0.62,2,    3.388,    0.000,2,   0.7453
  09AR20060102,  S04I,   105,  1,     23,     23,2,20060224,1747,-62.3335,  79.9985, 2468,     18.6,   0.7319,  33.7273,2,-999.0000,9,    339.0,2,   -999.0,9,  -999.00,9,  -999.00,9,   -999.0,9,   -999.0,9,2,     0.93,2,    3.389,    0.000,2,   0.7312
  09AR20060102,  S04I,   105,  1,     22,     22,2,20060224,1747,-62.3335,  79.9985, 2468,     18.5,   0.7318,  33.7275,2,-999.0000,9,    339.0,2,   -999.0,9,  -999.00,9,  -999.00,9,   -999.0,9,   -999.0,9,2,     0.93,2,    3.555,    0.000,2,   0.7311
  09AR20060102,  S04I,   105,  1,     21,     21,2,20060224,1747,-62.3335,  79.9985, 2468,     18.3,   0.7292,  33.7275,2,  33.7286,2,    339.0,2,    339.1,2,    30.60,2,    26.20,2,   2149.8,2,   -999.0,9,2,     0.73,2,    3.390,    0.000,2,   0.7285
  09AR20060102,  S04I,   105,  1,     20,     20,2,20060224,1747,-62.3335,  79.9985, 2468,     28.2,   0.6665,  33.7326,2,  33.7331,2,    339.2,2,    338.8,2,    31.30,2,    26.41,2,   -999.0,9,   -999.0,9,2,     0.92,2,    3.258,    0.000,2,   0.6654
  09AR20060102,  S04I,   105,  1,     19,     19,2,20060224,1747,-62.3335,  79.9985, 2468,     40.1,   0.6615,  33.7360,2,  33.7364,2,    338.6,2,    338.7,2,    31.20,2,    26.40,2,   2155.0,2,   -999.0,9,2,     0.85,2,    3.220,    0.000,2,   0.6599
  09AR20060102,  S04I,   105,  1,     18,     18,2,20060224,1747,-62.3335,  79.9985, 2468,     48.7,   0.6469,  33.7431,2,  33.7429,2,    337.5,2,    338.5,2,    31.60,2,    26.43,2,   2155.4,2,   -999.0,9,2,     0.94,2,    3.325,    0.000,2,   0.6450
  09AR20060102,  S04I,   105,  1,     17,     17,2,20060224,1747,-62.3335,  79.9985, 2468,     58.8,   0.3917,  33.7758,2,  33.7751,2,    331.9,2,    333.1,2,    34.80,2,    27.12,2,   -999.0,9,   -999.0,9,2,     0.91,2,    3.627,    0.000,2,   0.3895
  09AR20060102,  S04I,   105,  1,     16,     16,2,20060224,1747,-62.3335,  79.9985, 2468,     69.3,  -1.0208,  33.9658,2,  33.9594,2,    311.6,2,    313.4,2,    47.70,2,    30.03,2,   2193.2,2,   -999.0,9,2,     0.93,2,    1.566,    0.000,2,  -1.0226
  09AR20060102,  S04I,   105,  1,     15,     15,2,20060224,1747,-62.3335,  79.9985, 2468,     89.1,  -0.6698,  34.1072,2,  34.1048,2,    281.1,2,    280.6,2,    55.80,2,    32.03,2,   -999.0,9,   -999.0,9,2,     0.98,2,    0.512,    0.000,2,  -0.6724
  09AR20060102,  S04I,   105,  1,     14,     14,2,20060224,1747,-62.3335,  79.9985, 2468,     99.3,  -0.1102,  34.2090,2,  34.2095,2,    263.9,2,    252.8,3,    60.60,2,    33.39,2,   -999.0,9,   -999.0,9,2,     0.98,2,    0.386,    0.000,2,  -0.1136
  09AR20060102,  S04I,   105,  1,     13,     13,2,20060224,1747,-62.3335,  79.9985, 2468,    109.3,   0.5353,  34.3104,2,  34.3065,2,    245.0,2,    227.0,3,    65.70,2,    34.16,2,   2239.7,2,   -999.0,9,2,     0.98,2,    0.267,    0.000,2,   0.5309
  09AR20060102,  S04I,   105,  1,     12,     12,2,20060224,1747,-62.3335,  79.9985, 2468,    150.1,   1.5937,  34.4715,2,  34.4717,2,    194.0,2,    187.6,2,    72.90,2,    35.28,2,   2256.9,2,   -999.0,9,2,     0.99,2,    0.073,    0.000,2,   1.5863
  09AR20060102,  S04I,   105,  1,     11,     11,2,20060224,1747,-62.3335,  79.9985, 2468,    200.4,   1.8366,  34.5434,2,  34.5432,2,    177.0,2,    177.8,2,    77.80,2,    35.00,2,   2258.9,2,   -999.0,9,2,     0.99,2,   -0.002,    0.000,2,   1.8262
  09AR20060102,  S04I,   105,  1,     10,     10,2,20060224,1747,-62.3335,  79.9985, 2468,    401.5,   1.9984,  34.6706,2,  34.6715,2,    174.3,2,    176.2,2,    80.60,2,    33.35,2,   -999.0,9,   -999.0,9,2,     0.99,2,   -0.031,    0.000,2,   1.9762
  09AR20060102,  S04I,   105,  1,      9,      9,2,20060224,1747,-62.3335,  79.9985, 2468,    498.9,   1.9863,  34.6968,2,  34.6974,2,    177.4,2,    179.6,2,    81.20,2,    32.69,2,   -999.0,9,   -999.0,9,2,     0.99,2,   -0.039,    0.000,2,   1.9583
  09AR20060102,  S04I,   105,  1,      8,      8,2,20060224,1747,-62.3335,  79.9985, 2468,    699.5,   1.8928,  34.7327,2,  34.7335,2,    187.6,2,    188.7,2,    82.40,2,    31.40,2,   -999.0,9,   -999.0,9,2,     0.98,2,   -0.038,    0.000,2,   1.8529
  09AR20060102,  S04I,   105,  1,      7,      7,2,20060224,1747,-62.3335,  79.9985, 2468,    799.1,   1.8191,  34.7417,2,  34.7427,2,    191.0,2,   -999.0,9,    84.00,2,    31.22,2,   -999.0,9,   -999.0,9,2,     0.99,2,   -0.040,    0.000,2,   1.7733
  09AR20060102,  S04I,   105,  1,      6,      6,2,20060224,1747,-62.3335,  79.9985, 2468,   1001.4,   1.6482,  34.7482,2,  34.7488,2,    197.4,2,    197.7,2,    86.40,2,    30.65,2,   -999.0,9,   -999.0,9,2,     0.99,2,   -0.043,    0.000,2,   1.5904
  09AR20060102,  S04I,   105,  1,      5,      5,2,20060224,1747,-62.3335,  79.9985, 2468,   1197.8,   1.4629,  34.7457,2,  34.7467,2,    200.7,2,    200.6,2,    91.10,2,    30.78,2,   -999.0,9,   -999.0,9,2,     0.99,2,   -0.044,    0.000,2,   1.3936
  09AR20060102,  S04I,   105,  1,      4,      4,2,20060224,1747,-62.3335,  79.9985, 2468,   1498.7,   1.1846,  34.7328,2,  34.7327,2,    203.4,2,    203.2,2,    99.20,2,    31.28,2,   -999.0,9,   -999.0,9,2,     0.99,2,   -0.045,    0.000,2,   1.0976
  09AR20060102,  S04I,   105,  1,      3,      3,2,20060224,1747,-62.3335,  79.9985, 2468,   1999.3,   0.7129,  34.7062,2,  34.7058,2,    207.4,2,    207.6,2,   113.80,2,    32.29,2,   -999.0,9,   -999.0,9,2,     0.99,2,   -0.045,    0.000,2,   0.5960
  09AR20060102,  S04I,   105,  1,      2,      2,2,20060224,1747,-62.3335,  79.9985, 2468,   2490.7,   0.4182,  34.6905,2,  34.6903,2,    211.1,2,    211.3,2,   131.40,2,    32.95,2,   -999.0,9,   -999.0,9,2,     0.99,2,   -0.046,    0.000,2,   0.2683
  09AR20060102,  S04I,   105,  1,      1,      1,2,20060224,1747,-62.3335,  79.9985, 2468,   2511.6,   0.4146,  34.6901,2,  34.6905,2,    210.9,2,    210.2,2,   133.70,2,    32.90,2,   -999.0,9,   -999.0,9,2,     0.99,2,   -0.047,    0.000,2,   0.2630
  09AR20060102,  S04I,   106,  1,     24,     24,2,20060225,1029,-63.0012,  79.9995, 3495,      9.8,   0.7052,  33.7091,2,  33.7093,2,    338.1,2,    339.0,2,    29.90,2,    25.54,2,   2144.0,2,   2278.3,2,2,     0.09,2,    1.589,    0.100,2,   0.7048
  09AR20060102,  S04I,   106,  1,     23,     23,2,20060225,1029,-63.0012,  79.9995, 3495,      9.9,   0.6982,  33.7092,2,-999.0000,9,    338.1,2,   -999.0,9,  -999.00,9,  -999.00,9,   -999.0,9,   -999.0,9,2,     0.08,2,    1.612,    0.110,2,   0.6978
  09AR20060102,  S04I,   106,  1,     22,     22,2,20060225,1029,-63.0012,  79.9995, 3495,      9.6,   0.7314,  33.7088,2,-999.0000,9,    338.1,2,   -999.0,9,  -999.00,9,  -999.00,9,   -999.0,9,   -999.0,9,2,     0.10,2,    1.472,    0.114,2,   0.7310
  09AR20060102,  S04I,   106,  1,     21,     21,2,20060225,1029,-63.0012,  79.9995, 3495,     23.6,   0.6630,  33.7096,2,  33.7102,2,    336.9,2,    339.0,2,    32.00,2,    25.48,2,   2144.2,6,   -999.0,9,2,     0.50,2,    1.966,    0.034,2,   0.6621
  09AR20060102,  S04I,   106,  1,     20,     20,2,20060225,1029,-63.0012,  79.9995, 3495,     43.7,   0.5338,  33.7245,2,  33.7263,2,    336.4,2,    336.6,2,    30.40,2,    25.42,2,   2146.2,2,   -999.0,9,2,     0.71,2,    2.906,    0.008,2,   0.5321
  09AR20060102,  S04I,   106,  1,     19,     19,2,20060225,1029,-63.0012,  79.9995, 3495,     59.2,  -0.0315,  33.8464,2,  33.8462,2,    327.4,2,    320.9,2,    40.20,2,    27.34,2,   2166.7,2,   -999.0,9,2,     0.91,2,    2.638,    0.002,2,  -0.0335
  09AR20060102,  S04I,   106,  1,     18,     18,2,20060225,1029,-63.0012,  79.9995, 3495,     69.3,  -0.7325,  33.9562,2,  33.9565,2,    306.8,2,    308.8,2,    48.80,2,    29.02,2,   2184.4,2,   -999.0,9,2,     0.96,2,    2.002,    0.000,2,  -0.7345
  09AR20060102,  S04I,   106,  1,     17,     17,2,20060225,1029,-63.0012,  79.9995, 3495,     80.1,  -0.8707,  34.0495,2,  34.0473,2,    293.6,2,    293.5,2,    54.60,2,    30.19,2,   2198.4,2,   -999.0,9,2,     0.97,2,    1.057,    0.000,2,  -0.8729
  09AR20060102,  S04I,   106,  1,     16,     16,2,20060225,1029,-63.0012,  79.9995, 3495,    101.3,  -0.2241,  34.1871,2,  34.1864,2,    259.5,2,    259.7,2,    61.70,2,    32.09,2,   2217.5,2,   -999.0,9,2,     0.98,2,    0.323,    0.000,2,  -0.2275
  09AR20060102,  S04I,   106,  1,     15,     15,2,20060225,1029,-63.0012,  79.9995, 3495,    119.5,   0.3244,  34.2687,2,  34.2665,2,    233.8,2,    237.6,2,    67.30,2,    32.87,2,   2226.4,2,   -999.0,9,2,     0.98,2,    0.179,    0.000,2,   0.3198
  09AR20060102,  S04I,   106,  1,     14,     14,2,20060225,1029,-63.0012,  79.9995, 3495,    150.1,   1.2577,  34.4222,2,  34.4199,2,    202.1,2,    200.5,2,    72.10,2,    33.76,2,   2244.3,2,   -999.0,9,2,     0.99,2,    0.037,    0.000,2,   1.2507
  09AR20060102,  S04I,   106,  1,     13,     13,2,20060225,1029,-63.0012,  79.9995, 3495,    201.6,   1.8162,  34.5349,2,  34.5332,2,    178.9,2,    179.0,2,    77.40,2,    34.16,2,   2254.1,2,   -999.0,9,2,     0.99,2,   -0.019,    0.000,2,   1.8057
  09AR20060102,  S04I,   106,  1,     12,     12,2,20060225,1029,-63.0012,  79.9995, 3495,    300.2,   1.9714,  34.6186,2,  34.6185,2,    174.8,2,    174.1,2,    81.40,2,    33.27,2,   2258.2,2,   -999.0,9,2,     0.99,2,   -0.024,    0.000,2,   1.9551
  09AR20060102,  S04I,   106,  1,     11,     11,2,20060225,1029,-63.0012,  79.9995, 3495,    450.0,   2.0071,  34.6865,2,  34.6870,2,    179.0,2,    178.4,2,    82.10,2,    31.95,2,   2253.9,6,   -999.0,9,2,     0.99,2,   -0.036,    0.000,2,   1.9820
  09AR20060102,  S04I,   106,  1,     10,     10,2,20060225,1029,-63.0012,  79.9995, 3495,    600.6,   1.9478,  34.7224,2,  34.7223,2,    185.5,2,    185.1,2,    83.20,2,    30.84,2,   2248.6,2,   -999.0,9,2,     0.99,2,   -0.039,    0.000,2,   1.9137
  09AR20060102,  S04I,   106,  1,      9,      9,2,20060225,1029,-63.0012,  79.9995, 3495,    901.0,   1.7451,  34.7485,2,  34.7490,2,    196.5,2,    195.5,2,    88.00,2,    29.82,2,   2246.0,2,   -999.0,9,2,     0.99,2,   -0.041,    0.000,2,   1.6932
  09AR20060102,  S04I,   106,  1,      8,      8,2,20060225,1029,-63.0012,  79.9995, 3495,   1200.0,   1.4860,  34.7464,2,  34.7472,2,    201.4,2,    200.6,2,    96.40,2,    29.78,2,   2246.6,2,   -999.0,9,2,     0.99,2,   -0.040,    0.000,2,   1.4164
  09AR20060102,  S04I,   106,  1,      7,      7,2,20060225,1029,-63.0012,  79.9995, 3495,   1497.9,   1.2119,  34.7344,2,  34.7349,2,    203.8,2,    203.7,2,   104.70,2,    29.98,2,   2249.1,2,   -999.0,9,2,     0.99,2,   -0.045,    0.000,2,   1.1246
  09AR20060102,  S04I,   106,  1,      6,      6,2,20060225,1029,-63.0012,  79.9995, 3495,   1897.7,   0.8567,  34.7139,2,  34.7141,2,    206.5,2,    206.4,2,   111.60,2,    31.09,2,   2255.2,2,   -999.0,9,2,     0.99,2,   -0.046,    0.000,2,   0.7452
  09AR20060102,  S04I,   106,  1,      5,      5,2,20060225,1029,-63.0012,  79.9995, 3495,   2296.6,   0.5656,  34.6969,2,  34.6968,2,    209.2,2,    209.4,2,   119.80,2,    31.63,2,   2263.3,2,   -999.0,9,2,     0.99,2,   -0.049,    0.000,2,   0.4284
  09AR20060102,  S04I,   106,  1,      4,      4,2,20060225,1029,-63.0012,  79.9995, 3495,   2699.3,   0.3584,  34.6866,2,  34.6864,2,    213.7,2,    213.6,2,   126.10,2,    31.99,2,   1026.4,4,   -999.0,9,2,     0.99,2,   -0.050,    0.000,2,   0.1926
  09AR20060102,  S04I,   106,  1,      3,      3,2,20060225,1029,-63.0012,  79.9995, 3495,   3099.7,   0.1919,  34.6783,2,  34.6778,2,    219.1,2,    219.3,2,   128.80,2,    31.91,2,   2259.0,2,   -999.0,9,2,     0.99,2,   -0.050,    0.000,2,  -0.0046
  09AR20060102,  S04I,   106,  1,      2,      2,2,20060225,1029,-63.0012,  79.9995, 3495,   3499.4,   0.0266,  34.6710,2,  34.6713,2,    225.2,2,    225.6,2,   141.90,2,    31.90,2,   2256.1,2,   -999.0,9,2,     0.99,2,   -0.053,    0.000,2,  -0.2020
  09AR20060102,  S04I,   106,  1,      1,      1,2,20060225,1029,-63.0012,  79.9995, 3495,   3556.4,  -0.0279,  34.6694,2,  34.6686,2,    227.0,2,    227.5,2,   153.40,2,    32.05,2,   2258.8,6,   -999.0,9,2,     0.99,2,   -0.048,    0.000,2,  -0.2604
  09AR20060102,  S04I,   107,  1,     24,     24,2,20060225,1722,-63.4997,  79.9958, 3538,     10.0,   0.7266,  33.8104,2,  33.8111,2,    335.7,2,    336.5,2,    48.10,2,    27.22,2,   2162.2,2,   -999.0,9,2,     0.04,2,    1.898,    0.000,2,   0.7262
  09AR20060102,  S04I,   107,  1,     23,     23,2,20060225,1722,-63.4997,  79.9958, 3538,     27.9,   0.5939,  33.8187,2,-999.0000,9,    336.1,2,   -999.0,9,  -999.00,9,  -999.00,9,   -999.0,9,   -999.0,9,2,     0.57,2,    2.885,    0.000,2,   0.5928
  09AR20060102,  S04I,   107,  1,     22,     22,2,20060225,1722,-63.4997,  79.9958, 3538,     28.0,   0.5927,  33.8187,2,-999.0000,9,    336.1,2,   -999.0,9,  -999.00,9,  -999.00,9,   -999.0,9,   -999.0,9,2,     0.57,2,    2.995,    0.000,2,   0.5916
  09AR20060102,  S04I,   107,  1,     21,     21,2,20060225,1722,-63.4997,  79.9958, 3538,     27.9,   0.5920,  33.8187,2,  33.8187,2,    336.1,2,    336.1,2,    48.20,2,    27.32,2,   2160.5,2,   -999.0,9,2,     0.56,2,    2.859,    0.000,2,   0.5909
  09AR20060102,  S04I,   107,  1,     20,     20,2,20060225,1722,-63.4997,  79.9958, 3538,     38.9,   0.5563,  33.8238,2,  33.8236,2,    335.2,2,    334.2,2,    49.50,2,    27.09,2,   -999.0,9,   -999.0,9,2,     0.76,2,    3.591,    0.000,2,   0.5548
  09AR20060102,  S04I,   107,  1,     19,     19,2,20060225,1722,-63.4997,  79.9958, 3538,     50.1,   0.2829,  33.8813,2,  33.9221,2,    331.7,2,    321.8,2,    55.20,2,    28.23,2,   2178.5,2,   -999.0,9,2,     0.86,2,    3.344,    0.000,2,   0.2811
  09AR20060102,  S04I,   107,  1,     18,     18,2,20060225,1722,-63.4997,  79.9958, 3538,     69.8,  -0.8265,  34.1649,2,  34.1545,2,    295.1,2,    291.6,2,    67.70,2,    29.57,2,   2209.7,2,   -999.0,9,2,     0.83,2,    1.330,    0.000,2,  -0.8284
  09AR20060102,  S04I,   107,  1,     17,     17,2,20060225,1722,-63.4997,  79.9958, 3538,     99.5,  -0.1561,  34.3519,2,  34.3592,2,    234.0,2,    243.3,2,    82.90,2,    31.34,2,   -999.0,9,   -999.0,9,2,     0.97,2,    0.555,    0.000,2,  -0.1595
  09AR20060102,  S04I,   107,  1,     16,     16,2,20060225,1722,-63.4997,  79.9958, 3538,    119.1,   0.6252,  34.4637,2,  34.4617,2,    213.2,2,    215.9,2,    77.10,2,    32.67,2,   2245.2,2,   -999.0,9,2,     0.98,2,    0.285,    0.000,2,   0.6203
  09AR20060102,  S04I,   107,  1,     15,     15,2,20060225,1722,-63.4997,  79.9958, 3538,    149.3,   1.2040,  34.5539,2,  34.5528,2,    195.4,2,    195.9,2,    80.70,2,    32.97,2,   2260.0,2,   -999.0,9,2,     0.99,2,    0.128,    0.000,2,   1.1971
  09AR20060102,  S04I,   107,  1,     14,     14,2,20060225,1722,-63.4997,  79.9958, 3538,    199.1,   1.5755,  34.6282,2,  34.6279,2,    185.6,2,    184.8,2,    84.50,2,    32.73,2,   2265.3,2,   -999.0,9,2,     0.99,2,   -0.005,    0.000,2,   1.5655
  09AR20060102,  S04I,   107,  1,     13,     13,2,20060225,1722,-63.4997,  79.9958, 3538,    300.8,   1.7248,  34.6847,2,  34.6850,2,    183.6,2,    184.2,2,    86.60,2,    31.78,2,   -999.0,9,   -999.0,9,2,     0.99,2,   -0.032,    0.000,2,   1.7091
  09AR20060102,  S04I,   107,  1,     12,     12,2,20060225,1722,-63.4997,  79.9958, 3538,    399.3,   1.7879,  34.7169,2,  34.7164,2,    188.1,2,    185.7,2,    87.20,2,    31.17,2,   -999.0,9,   -999.0,9,2,     0.99,2,   -0.038,    0.000,2,   1.7665
  09AR20060102,  S04I,   107,  1,     11,     11,2,20060225,1722,-63.4997,  79.9958, 3538,    500.9,   1.6810,  34.7282,2,  34.7286,2,    190.7,2,    190.5,2,    94.90,2,    30.58,2,   -999.0,9,   -999.0,9,2,     0.99,2,   -0.036,    0.000,2,   1.6541
  09AR20060102,  S04I,   107,  1,     10,     10,2,20060225,1722,-63.4997,  79.9958, 3538,    749.5,   1.4400,  34.7321,2,  34.7329,2,    197.3,2,    198.1,2,    92.80,2,    30.27,2,   -999.0,9,   -999.0,9,2,     0.99,2,   -0.044,    0.000,2,   1.3996
  09AR20060102,  S04I,   107,  1,      9,      9,2,20060225,1722,-63.4997,  79.9958, 3538,   1000.8,   1.1894,  34.7270,2,  34.7272,2,    202.2,2,    202.3,2,   101.60,2,    30.49,2,   -999.0,9,   -999.0,9,2,     0.99,2,   -0.041,    0.000,2,   1.1354
  09AR20060102,  S04I,   107,  1,      8,      8,2,20060225,1722,-63.4997,  79.9958, 3538,   1199.6,   1.0094,  34.7185,2,  34.7188,2,    204.0,2,    204.5,2,   104.50,2,    30.83,2,   -999.0,9,   -999.0,9,2,     0.99,2,   -0.044,    0.000,2,   0.9444
  09AR20060102,  S04I,   107,  1,      7,      7,2,20060225,1722,-63.4997,  79.9958, 3538,   1502.0,   0.8060,  34.7109,2,  34.7109,2,    205.7,2,    205.7,2,   111.70,2,    31.26,2,   -999.0,9,   -999.0,9,2,     0.99,2,   -0.048,    0.000,2,   0.7233
  09AR20060102,  S04I,   107,  1,      6,      6,2,20060225,1722,-63.4997,  79.9958, 3538,   1751.8,   0.6424,  34.7016,2,  34.7019,2,    207.6,2,    207.3,2,   116.70,2,    31.73,2,   -999.0,9,   -999.0,9,2,     0.99,2,   -0.046,    0.000,2,   0.5445
  09AR20060102,  S04I,   107,  1,      5,      5,2,20060225,1722,-63.4997,  79.9958, 3538,   2001.1,   0.4966,  34.6936,2,  34.6935,2,    209.9,2,    209.5,2,   124.80,2,    31.67,2,   -999.0,9,   -999.0,9,2,     0.99,2,   -0.045,    0.000,2,   0.3830
  09AR20060102,  S04I,   107,  1,      4,      4,2,20060225,1722,-63.4997,  79.9958, 3538,   2498.6,   0.2375,  34.6815,2,  34.6803,2,    216.9,2,    216.8,2,   125.00,2,    32.09,2,   -999.0,9,   -999.0,9,2,     0.99,2,   -0.050,    0.000,2,   0.0904
  09AR20060102,  S04I,   107,  1,      3,      3,2,20060225,1722,-63.4997,  79.9958, 3538,   2998.4,   0.0680,  34.6745,2,  34.6735,2,    223.8,2,    223.9,2,   127.40,2,    31.96,2,   -999.0,9,   -999.0,9,2,     0.99,2,   -0.052,    0.000,2,  -0.1168
  09AR20060102,  S04I,   107,  1,      2,      2,2,20060225,1722,-63.4997,  79.9958, 3538,   3498.6,  -0.0613,  34.6695,2,  34.6688,2,    230.3,2,    230.4,2,   130.00,2,    31.75,2,   -999.0,9,   -999.0,9,2,     0.99,2,   -0.051,    0.000,2,  -0.2875
  09AR20060102,  S04I,   107,  1,      1,      1,2,20060225,1722,-63.4997,  79.9958, 3538,   3591.6,  -0.1325,  34.6668,2,  34.6656,2,    231.8,2,    231.4,2,   135.40,2,    31.95,2,   -999.0,9,   -999.0,9,2,     0.99,2,   -0.049,    0.000,2,  -0.3655