BOTTLE,20220816CCHSIOAMB
EXPOCODE,SECT_ID,STNNBR,CASTNO,SAMPNO,BTLNBR,BTLNBR_FLAG_W,DATE,TIME,LATITUDE,LONGITUDE,DEPTH,CTDPRS,CTDTMP,CTDSAL,CTDSAL_FLAG_W,SALNTY,SALNTY_FLAG_W,CTDOXY,CTDOXY_FLAG_W,OXYGEN,OXYGEN_FLAG_W,SILCAT,SILCAT_FLAG_W,NITRAT,NITRAT_FLAG_W,TCARBN,TCARBN_FLAG_W,ALKALI,ALKALI_FLAG_W,FLUOR_FLAG_W,XMISS,XMISS_FLAG_W,FLUOR,PAR,PAR_FLAG_W,THETA
,,,,,,,,,,,METERS,DBAR,ITS-90,PSS-78,,PSS-78,,UMOL/KG,,UMOL/KG,,UMOL/KG,,UMOL/KG,,UMOL/KG,,UMOL/KG,,,%TRANS,,VOLTS,VOLTS,,DEG C
  09AR20060102,  S04I,    39,  1,     24,     24,2,20060123,0626,-68.8310,  30.0013, 2512,     10.3,  -1.0806,  33.0799,2,  33.1269,2,    377.9,3,    389.2,2,    48.10,2,    16.93,2,   2068.9,2,   -999.0,9,2,     0.90,2,    0.241,    0.854,2,  -1.0808
  09AR20060102,  S04I,    39,  1,     23,     23,2,20060123,0626,-68.8310,  30.0013, 2512,     10.2,  -1.0764,  33.0862,2,-999.0000,9,    377.9,3,   -999.0,9,  -999.00,9,  -999.00,9,   -999.0,9,   -999.0,9,2,     0.90,2,    0.242,    0.844,2,  -1.0766
  09AR20060102,  S04I,    39,  1,     22,     22,2,20060123,0626,-68.8310,  30.0013, 2512,     11.1,  -1.1100,  33.0927,2,-999.0000,9,    378.4,3,   -999.0,9,  -999.00,9,  -999.00,9,   -999.0,9,   -999.0,9,2,     0.90,2,    0.412,    0.666,2,  -1.1103
  09AR20060102,  S04I,    39,  1,     21,     21,2,20060123,0626,-68.8310,  30.0013, 2512,     24.0,  -0.9564,  33.5437,2,  33.7429,3,    385.2,2,    377.6,2,    54.50,2,    21.50,2,   2141.9,2,   -999.0,9,2,     0.94,2,    0.930,    0.195,2,  -0.9570
  09AR20060102,  S04I,    39,  1,     20,     20,2,20060123,0626,-68.8310,  30.0013, 2512,     49.6,  -1.3667,  34.1020,2,  34.1342,2,    337.1,2,    329.0,2,    61.40,2,    27.68,2,   2197.7,2,   -999.0,9,2,     0.94,2,    4.820,    0.020,2,  -1.3678
  09AR20060102,  S04I,    39,  1,     19,     19,2,20060123,0626,-68.8310,  30.0013, 2512,     64.9,  -1.6290,  34.1933,2,  34.1911,2,    323.7,2,    317.2,2,    62.60,2,    29.43,2,   2211.5,2,   -999.0,9,2,     0.96,2,    2.254,    0.004,2,  -1.6303
  09AR20060102,  S04I,    39,  1,     18,     18,2,20060123,0626,-68.8310,  30.0013, 2512,     89.3,  -1.6998,  34.2371,2,  34.2377,2,    313.0,2,    313.2,2,    63.70,2,    30.10,2,   2215.4,2,   -999.0,9,2,     0.96,2,    1.393,    0.000,2,  -1.7016
  09AR20060102,  S04I,    39,  1,     17,     17,2,20060123,0626,-68.8310,  30.0013, 2512,    119.5,  -1.7521,  34.2791,2,  34.2787,2,    311.1,2,    312.1,2,    64.10,2,    30.52,2,   2218.3,2,   -999.0,9,2,     0.98,2,    0.480,    0.000,2,  -1.7545
  09AR20060102,  S04I,    39,  1,     16,     16,2,20060123,0626,-68.8310,  30.0013, 2512,    150.9,  -1.7893,  34.2970,2,  34.2961,2,    312.4,2,    313.0,2,    64.20,2,    30.43,2,   -999.0,9,   -999.0,9,2,     0.99,2,    0.294,    0.000,2,  -1.7924
  09AR20060102,  S04I,    39,  1,     15,     15,2,20060123,0626,-68.8310,  30.0013, 2512,    199.3,  -1.6335,  34.3317,2,  34.3384,2,    307.6,2,    302.7,2,    69.60,2,    30.53,2,   -999.0,9,   -999.0,9,2,     0.99,2,    0.148,    0.000,2,  -1.6380
  09AR20060102,  S04I,    39,  1,     14,     14,2,20060123,0626,-68.8310,  30.0013, 2512,    249.4,  -0.8793,  34.4192,2,  34.4203,2,    275.0,2,    273.4,2,    79.90,3,    30.75,2,   -999.0,9,   -999.0,9,2,     0.99,2,    0.168,    0.000,2,  -0.8867
  09AR20060102,  S04I,    39,  1,     13,     13,2,20060123,0626,-68.8310,  30.0013, 2512,    299.8,  -0.9703,  34.4498,2,  34.4523,2,    274.5,2,    277.1,2,    75.10,2,    30.49,2,   -999.0,9,   -999.0,9,2,     0.99,2,   -0.024,    0.000,2,  -0.9791
  09AR20060102,  S04I,    39,  1,     12,     12,2,20060123,0626,-68.8310,  30.0013, 2512,    399.3,  -0.0708,  34.5715,2,  34.5760,2,    242.2,2,    242.5,2,    84.20,2,    31.11,2,   -999.0,9,   -999.0,9,2,     0.99,2,   -0.012,    0.000,2,  -0.0860
  09AR20060102,  S04I,    39,  1,     11,     11,2,20060123,0626,-68.8310,  30.0013, 2512,    499.3,   0.4543,  34.6416,2,  34.6427,2,    227.9,2,    223.5,2,    89.90,2,    31.02,2,   -999.0,9,   -999.0,9,2,     0.99,2,   -0.021,    0.000,2,   0.4326
  09AR20060102,  S04I,    39,  1,     10,     10,2,20060123,0626,-68.8310,  30.0013, 2512,    600.2,   0.5231,  34.6615,2,  34.6619,2,    219.8,2,    219.5,2,    94.70,2,    30.91,2,   -999.0,9,   -999.0,9,2,     0.99,2,   -0.021,    0.000,2,   0.4961
  09AR20060102,  S04I,    39,  1,      9,      9,2,20060123,0626,-68.8310,  30.0013, 2512,    699.7,   0.3944,  34.6596,2,  34.6601,2,    218.1,2,    221.7,2,    97.10,2,    31.10,2,   -999.0,9,   -999.0,9,2,     0.99,2,    0.009,    0.000,2,   0.3631
  09AR20060102,  S04I,    39,  1,      8,      8,2,20060123,0626,-68.8310,  30.0013, 2512,    800.0,   0.3818,  34.6663,2,  34.6658,2,    219.4,2,    219.8,2,   100.90,2,    31.15,2,   -999.0,9,   -999.0,9,2,     0.99,2,   -0.035,    0.000,2,   0.3453
  09AR20060102,  S04I,    39,  1,      7,      7,2,20060123,0626,-68.8310,  30.0013, 2512,    899.5,   0.3548,  34.6700,2,  34.6693,2,    219.8,2,    221.0,2,   104.00,2,    31.40,2,   -999.0,9,   -999.0,9,2,     0.99,2,   -0.035,    0.000,2,   0.3132
  09AR20060102,  S04I,    39,  1,      6,      6,2,20060123,0626,-68.8310,  30.0013, 2512,   1000.1,   0.3218,  34.6713,2,  34.6703,2,    218.8,2,    219.5,2,   106.20,2,    31.49,2,   -999.0,9,   -999.0,9,2,     0.99,2,   -0.039,    0.000,2,   0.2750
  09AR20060102,  S04I,    39,  1,      5,      5,2,20060123,0626,-68.8310,  30.0013, 2512,   1349.4,   0.1459,  34.6680,2,  34.6672,2,    220.2,2,    222.8,2,   112.20,2,    31.86,2,   -999.0,9,   -999.0,9,2,     0.99,2,   -0.041,    0.000,2,   0.0805
  09AR20060102,  S04I,    39,  1,      4,      4,2,20060123,0626,-68.8310,  30.0013, 2512,   1700.5,   0.0486,  34.6657,2,  34.6646,2,    226.4,2,    225.8,2,   114.40,2,    31.81,2,   -999.0,9,   -999.0,9,2,     0.99,2,   -0.042,    0.000,2,  -0.0376
  09AR20060102,  S04I,    39,  1,      3,      3,2,20060123,0626,-68.8310,  30.0013, 2512,   2098.7,  -0.0201,  34.6652,2,  34.6633,2,    228.0,2,    228.0,2,   120.00,2,    31.65,2,   -999.0,9,   -999.0,9,2,     0.99,2,   -0.045,    0.000,2,  -0.1324
  09AR20060102,  S04I,    39,  1,      2,      2,2,20060123,0626,-68.8310,  30.0013, 2512,   2549.3,  -0.0641,  34.6631,2,  34.6609,2,    231.1,2,    231.2,2,   120.10,2,    31.86,2,   -999.0,9,   -999.0,9,2,     0.99,2,   -0.048,    0.000,2,  -0.2093
  09AR20060102,  S04I,    39,  1,      1,      1,2,20060123,0626,-68.8310,  30.0013, 2512,   2625.4,  -0.0632,  34.6628,2,  33.1263,4,    231.5,2,    231.4,2,   120.00,2,    32.02,2,   -999.0,9,   -999.0,9,2,     0.99,2,   -0.044,    0.000,2,  -0.2144
  09AR20060102,  S04I,    40,  1,     24,     24,2,20060123,1038,-68.9227,  29.9980, 1959,      8.4,  -1.0983,  33.2872,2,  33.2396,3,    380.6,2,    380.0,2,    50.00,2,    19.45,2,   2086.3,2,   2260.0,2,2,     0.06,2,    0.593,    0.367,2,  -1.0985
  09AR20060102,  S04I,    40,  1,     23,     23,2,20060123,1038,-68.9227,  29.9980, 1959,      8.7,  -0.9759,  33.2165,2,-999.0000,9,    380.6,2,   -999.0,9,  -999.00,9,  -999.00,9,   -999.0,9,   -999.0,9,2,     0.04,2,    0.432,    0.347,2,  -0.9761
  09AR20060102,  S04I,    40,  1,     22,     22,2,20060123,1038,-68.9227,  29.9980, 1959,     14.4,  -1.1527,  33.3255,2,-999.0000,9,    379.3,2,   -999.0,9,  -999.00,9,  -999.00,9,   -999.0,9,   -999.0,9,2,     0.16,2,    1.041,    0.187,2,  -1.1530
  09AR20060102,  S04I,    40,  1,     21,     21,2,20060123,1038,-68.9227,  29.9980, 1959,     24.6,  -1.2597,  33.4167,2,  33.4377,2,    368.7,2,    370.0,2,    53.20,2,    22.74,2,   2115.0,6,   -999.0,9,2,     0.44,2,    1.688,    0.076,2,  -1.2602
  09AR20060102,  S04I,    40,  1,     20,     20,2,20060123,1038,-68.9227,  29.9980, 1959,     34.5,  -1.2740,  33.4851,2,  33.6050,3,    357.3,2,    362.0,2,    54.70,2,    23.65,2,   2134.7,2,   -999.0,9,2,     0.56,2,    3.564,    0.042,2,  -1.2748
  09AR20060102,  S04I,    40,  1,     19,     19,2,20060123,1038,-68.9227,  29.9980, 1959,     50.0,  -1.4281,  33.9208,2,  33.9675,3,    341.2,2,    339.2,2,    59.50,2,    26.91,2,   2176.1,2,   -999.0,9,2,     0.82,2,    6.010,    0.010,2,  -1.4292
  09AR20060102,  S04I,    40,  1,     18,     18,2,20060123,1038,-68.9227,  29.9980, 1959,     59.4,  -1.5899,  34.1419,2,  34.1387,2,    330.5,2,    325.0,2,    61.90,2,    28.95,2,   2200.5,2,   -999.0,9,2,     0.94,2,    3.203,    0.004,2,  -1.5911
  09AR20060102,  S04I,    40,  1,     17,     17,2,20060123,1038,-68.9227,  29.9980, 1959,     69.4,  -1.6566,  34.1899,2,  34.2038,2,    320.3,2,    319.4,2,    64.40,2,    29.56,2,   2204.9,2,   -999.0,9,2,     0.95,2,    2.664,    0.001,2,  -1.6580
  09AR20060102,  S04I,    40,  1,     16,     16,2,20060123,1038,-68.9227,  29.9980, 1959,     89.3,  -1.6980,  34.2614,2,  34.2734,2,    312.2,2,    315.7,2,    66.50,2,    30.13,2,   2211.4,2,   -999.0,9,2,     0.97,2,    1.360,    0.000,2,  -1.6998
  09AR20060102,  S04I,    40,  1,     15,     15,2,20060123,1038,-68.9227,  29.9980, 1959,    109.8,  -1.6995,  34.3034,2,  34.3043,2,    309.2,2,    312.5,2,    67.30,2,    30.20,2,   2214.9,2,   -999.0,9,2,     0.98,2,    0.959,    0.000,2,  -1.7018
  09AR20060102,  S04I,    40,  1,     14,     14,2,20060123,1038,-68.9227,  29.9980, 1959,    149.3,  -1.6695,  34.3365,2,  34.3398,2,    307.8,2,    308.6,2,    68.50,2,    30.40,2,   2218.7,2,   -999.0,9,2,     0.98,2,    0.429,    0.000,2,  -1.6727
  09AR20060102,  S04I,    40,  1,     13,     13,2,20060123,1038,-68.9227,  29.9980, 1959,    199.7,  -1.4738,  34.3910,2,  34.3894,2,    300.2,2,    298.5,2,    70.60,2,    31.00,2,   2225.2,2,   -999.0,9,2,     0.99,2,    0.086,    0.000,2,  -1.4786
  09AR20060102,  S04I,    40,  1,     12,     12,2,20060123,1038,-68.9227,  29.9980, 1959,    250.1,  -1.0775,  34.4426,2,  34.4466,2,    282.9,2,    281.1,2,    74.50,2,    31.23,2,   2229.7,2,   -999.0,9,2,     0.99,2,    0.017,    0.000,2,  -1.0845
  09AR20060102,  S04I,    40,  1,     11,     11,2,20060123,1038,-68.9227,  29.9980, 1959,    299.7,  -0.4542,  34.5069,2,  34.5583,3,    263.9,2,    258.9,2,    80.40,2,    31.24,2,   2236.0,6,   -999.0,9,2,     0.99,2,    0.065,    0.000,2,  -0.4643
  09AR20060102,  S04I,    40,  1,     10,     10,2,20060123,1038,-68.9227,  29.9980, 1959,    349.5,  -0.0886,  34.5585,2,  34.5583,2,    247.1,2,    245.1,2,    84.40,2,    31.29,2,   2241.4,2,   -999.0,9,2,     0.99,2,    0.005,    0.000,2,  -0.1017
  09AR20060102,  S04I,    40,  1,      9,      9,2,20060123,1038,-68.9227,  29.9980, 1959,    399.6,   0.0993,  34.5949,2,  34.5974,2,    234.7,2,    236.0,2,    88.10,2,    31.37,2,   2246.4,2,   -999.0,9,2,     0.99,2,   -0.013,    0.000,2,   0.0835
  09AR20060102,  S04I,    40,  1,      8,      8,2,20060123,1038,-68.9227,  29.9980, 1959,    499.1,   0.1894,  34.6168,2,  34.6164,2,    227.5,2,    232.5,2,    89.10,2,    31.50,2,   2246.2,2,   -999.0,9,2,     0.99,2,    0.019,    0.000,2,   0.1688
  09AR20060102,  S04I,    40,  1,      7,      7,2,20060123,1038,-68.9227,  29.9980, 1959,    599.7,   0.3096,  34.6491,2,  34.6489,2,    224.6,2,    224.6,2,    97.90,2,    31.51,2,   2253.4,2,   -999.0,9,2,     0.99,2,   -0.024,    0.000,2,   0.2837
  09AR20060102,  S04I,    40,  1,      6,      6,2,20060123,1038,-68.9227,  29.9980, 1959,    799.5,   0.3082,  34.6617,2,  34.6613,2,    221.9,2,    222.2,2,   103.20,2,    31.78,2,   2252.2,2,   -999.0,9,2,     0.99,2,   -0.036,    0.000,2,   0.2723
  09AR20060102,  S04I,    40,  1,      5,      5,2,20060123,1038,-68.9227,  29.9980, 1959,   1000.0,   0.3272,  34.6754,2,  34.6748,2,    219.0,2,    217.6,2,   113.00,2,    32.00,2,   2257.2,2,   -999.0,9,2,     0.99,2,   -0.040,    0.000,2,   0.2803
  09AR20060102,  S04I,    40,  1,      4,      4,2,20060123,1038,-68.9227,  29.9980, 1959,   1300.0,   0.1759,  34.6690,2,  34.6692,2,    221.4,2,    221.1,2,   115.40,2,    32.34,2,   2255.8,2,   -999.0,9,2,     0.99,2,   -0.039,    0.000,2,   0.1132
  09AR20060102,  S04I,    40,  1,      3,      3,2,20060123,1038,-68.9227,  29.9980, 1959,   1599.9,   0.0981,  34.6682,2,  34.6674,2,    222.9,2,    223.4,2,   117.40,2,    32.11,2,   2257.3,2,   -999.0,9,2,     0.99,2,   -0.043,    0.000,2,   0.0177
  09AR20060102,  S04I,    40,  1,      2,      2,2,20060123,1038,-68.9227,  29.9980, 1959,   1898.6,   0.0386,  34.6652,2,  34.6641,2,    226.4,2,    226.0,2,   119.30,2,    32.13,2,   2256.7,2,   -999.0,9,2,     0.99,2,   -0.042,    0.000,2,  -0.0607
  09AR20060102,  S04I,    40,  1,      1,      1,2,20060123,1038,-68.9227,  29.9980, 1959,   1990.2,   0.0328,  34.6652,2,  34.6642,2,    226.7,2,    226.8,2,   119.10,2,    31.91,2,   2255.9,6,   -999.0,9,2,     0.99,2,   -0.043,    0.000,2,  -0.0727
  09AR20060102,  S04I,    41,  1,     24,     24,2,20060123,1338,-69.0115,  29.9772, 1254,      9.4,  -1.3467,  33.4122,2,  33.4020,2,    355.4,3,    360.2,2,    54.00,2,    24.81,2,   2127.6,2,   -999.0,9,2,     0.81,2,    1.343,    0.253,2,  -1.3469
  09AR20060102,  S04I,    41,  1,     23,     23,2,20060123,1338,-69.0115,  29.9772, 1254,      9.4,  -1.3205,  33.3861,2,-999.0000,9,    355.4,3,   -999.0,9,  -999.00,9,  -999.00,9,   -999.0,9,   -999.0,9,2,     0.81,2,    1.071,    0.247,2,  -1.3207
  09AR20060102,  S04I,    41,  1,     22,     22,2,20060123,1338,-69.0115,  29.9772, 1254,     11.6,  -1.3472,  33.4043,2,-999.0000,9,    355.2,3,   -999.0,9,  -999.00,9,  -999.00,9,   -999.0,9,   -999.0,9,2,     0.84,2,    1.547,    0.198,2,  -1.3474
  09AR20060102,  S04I,    41,  1,     21,     21,2,20060123,1338,-69.0115,  29.9772, 1254,     24.8,  -1.3939,  33.4782,2,  33.5942,3,    355.8,2,    355.4,2,    55.40,2,    25.52,2,   2144.7,2,   -999.0,9,2,     0.88,2,    1.972,    0.062,2,  -1.3944
  09AR20060102,  S04I,    41,  1,     20,     20,2,20060123,1338,-69.0115,  29.9772, 1254,     39.4,  -1.4265,  33.6524,2,  33.7982,3,    348.9,2,    348.7,2,    56.80,2,    26.26,2,   2165.1,2,   -999.0,9,2,     0.90,2,    3.414,    0.020,2,  -1.4273
  09AR20060102,  S04I,    41,  1,     19,     19,2,20060123,1338,-69.0115,  29.9772, 1254,     54.6,  -1.4423,  34.0219,2,  34.0768,3,    333.1,2,    330.9,2,    61.70,2,    27.86,2,   2190.9,2,   -999.0,9,2,     0.90,2,    7.794,    0.003,2,  -1.4435
  09AR20060102,  S04I,    41,  1,     18,     18,2,20060123,1338,-69.0115,  29.9772, 1254,     69.9,  -1.5330,  34.1171,2,  34.1287,2,    325.4,2,    324.3,2,    62.30,2,    28.63,2,   2196.7,2,   -999.0,9,2,     0.92,2,    4.523,    0.000,2,  -1.5345
  09AR20060102,  S04I,    41,  1,     17,     17,2,20060123,1338,-69.0115,  29.9772, 1254,     84.7,  -1.6171,  34.1663,2,  34.1739,2,    319.0,2,    319.6,2,    63.30,2,    29.45,2,   2205.0,2,   -999.0,9,2,     0.94,2,    2.825,    0.000,2,  -1.6189
  09AR20060102,  S04I,    41,  1,     16,     16,2,20060123,1338,-69.0115,  29.9772, 1254,     99.6,  -1.6424,  34.2121,2,  34.2136,2,    316.1,2,    315.7,2,    64.60,2,    29.86,2,   -999.0,9,   -999.0,9,2,     0.97,2,    1.005,    0.000,2,  -1.6445
  09AR20060102,  S04I,    41,  1,     15,     15,2,20060123,1338,-69.0115,  29.9772, 1254,    114.2,  -1.6549,  34.2301,2,  34.2407,2,    316.2,2,    314.0,2,    64.50,2,    30.19,2,   -999.0,9,   -999.0,9,2,     0.98,2,    0.774,    0.000,2,  -1.6573
  09AR20060102,  S04I,    41,  1,     14,     14,2,20060123,1338,-69.0115,  29.9772, 1254,    129.1,  -1.7609,  34.2536,2,  34.2622,2,    314.9,2,    313.4,2,    64.60,2,    30.39,2,   -999.0,9,   -999.0,9,2,     0.98,2,    0.576,    0.000,2,  -1.7635
  09AR20060102,  S04I,    41,  1,     13,     13,2,20060123,1338,-69.0115,  29.9772, 1254,    150.2,  -1.7544,  34.2858,2,  34.2843,2,    314.2,2,    312.9,2,    65.30,2,    30.51,2,   -999.0,9,   -999.0,9,2,     0.99,2,    0.515,    0.000,2,  -1.7575
  09AR20060102,  S04I,    41,  1,     12,     12,2,20060123,1338,-69.0115,  29.9772, 1254,    200.7,  -1.6027,  34.3322,2,  34.3294,2,    303.3,2,    305.4,2,    67.70,2,    30.87,2,   -999.0,9,   -999.0,9,2,     0.99,2,    0.085,    0.000,2,  -1.6072
  09AR20060102,  S04I,    41,  1,     11,     11,2,20060123,1338,-69.0115,  29.9772, 1254,    251.0,  -1.6409,  34.3743,2,  34.3698,2,    304.3,2,    302.6,2,    68.70,2,    30.74,2,   -999.0,9,   -999.0,9,2,     0.99,2,    0.121,    0.000,2,  -1.6466
  09AR20060102,  S04I,    41,  1,     10,     10,2,20060123,1338,-69.0115,  29.9772, 1254,    298.5,  -1.6120,  34.3945,2,  34.3933,2,    297.6,2,    303.5,2,    68.90,2,    31.10,2,   -999.0,9,   -999.0,9,2,     0.99,2,    0.062,    0.000,2,  -1.6190
  09AR20060102,  S04I,    41,  1,      9,      9,2,20060123,1338,-69.0115,  29.9772, 1254,    350.0,  -0.9970,  34.4575,2,  34.4585,2,    278.4,2,    279.8,2,    73.70,2,    31.46,2,   -999.0,9,   -999.0,9,2,     0.99,2,    0.024,    0.000,2,  -1.0073
  09AR20060102,  S04I,    41,  1,      8,      8,2,20060123,1338,-69.0115,  29.9772, 1254,    399.2,  -0.4605,  34.5185,2,  34.5177,2,    258.4,2,    259.7,2,    88.70,2,    31.70,2,   -999.0,9,   -999.0,9,2,     0.99,2,   -0.007,    0.000,2,  -0.4743
  09AR20060102,  S04I,    41,  1,      7,      7,2,20060123,1338,-69.0115,  29.9772, 1254,    500.3,   0.0877,  34.5985,2,  34.6038,2,    233.8,2,    233.6,2,   103.70,3,    31.62,2,   -999.0,9,   -999.0,9,2,     0.99,2,    0.009,    0.000,2,   0.0675
  09AR20060102,  S04I,    41,  1,      6,      6,2,20060123,1338,-69.0115,  29.9772, 1254,    600.7,   0.2334,  34.6374,2,  34.6384,2,    226.6,2,    226.1,2,   102.90,2,    32.01,2,   -999.0,9,   -999.0,9,2,     0.99,2,   -0.004,    0.000,2,   0.2078
  09AR20060102,  S04I,    41,  1,      5,      5,2,20060123,1338,-69.0115,  29.9772, 1254,    699.5,   0.2922,  34.6599,2,  34.6601,2,    222.6,2,    221.7,2,   107.10,2,    32.11,2,   -999.0,9,   -999.0,9,2,     0.99,2,   -0.013,    0.000,2,   0.2615
  09AR20060102,  S04I,    41,  1,      4,      4,2,20060123,1338,-69.0115,  29.9772, 1254,    799.0,   0.2866,  34.6656,2,  34.6656,2,    221.8,2,    220.6,2,   109.00,2,    31.92,2,   -999.0,9,   -999.0,9,2,     0.99,2,   -0.010,    0.000,2,   0.2508
  09AR20060102,  S04I,    41,  1,      3,      3,2,20060123,1338,-69.0115,  29.9772, 1254,    999.1,   0.2820,  34.6692,2,  34.6686,2,    220.5,2,    220.1,2,   110.80,2,    32.28,2,   -999.0,9,   -999.0,9,2,     0.98,2,    0.087,    0.000,2,   0.2355
  09AR20060102,  S04I,    41,  1,      2,      2,2,20060123,1338,-69.0115,  29.9772, 1254,   1200.0,   0.2671,  34.6695,2,  34.6688,2,    220.2,2,    220.2,2,   112.00,2,    32.32,2,   -999.0,9,   -999.0,9,2,     0.99,2,   -0.007,    0.000,2,   0.2093
  09AR20060102,  S04I,    41,  1,      1,      1,2,20060123,1338,-69.0115,  29.9772, 1254,   1335.4,   0.2664,  34.6696,2,  34.6693,2,    220.2,2,    220.6,2,   112.00,2,    32.19,2,   -999.0,9,   -999.0,9,2,     0.99,2,    0.007,    0.000,2,   0.2006