BOTTLE,20220816CCHSIOAMB
EXPOCODE,SECT_ID,STNNBR,CASTNO,SAMPNO,BTLNBR,BTLNBR_FLAG_W,DATE,TIME,LATITUDE,LONGITUDE,DEPTH,CTDPRS,CTDTMP,CTDSAL,CTDSAL_FLAG_W,SALNTY,SALNTY_FLAG_W,CTDOXY,CTDOXY_FLAG_W,OXYGEN,OXYGEN_FLAG_W,SILCAT,SILCAT_FLAG_W,NITRAT,NITRAT_FLAG_W,TCARBN,TCARBN_FLAG_W,ALKALI,ALKALI_FLAG_W,FLUOR_FLAG_W,XMISS,XMISS_FLAG_W,FLUOR,PAR,PAR_FLAG_W,THETA
,,,,,,,,,,,METERS,DBAR,ITS-90,PSS-78,,PSS-78,,UMOL/KG,,UMOL/KG,,UMOL/KG,,UMOL/KG,,UMOL/KG,,UMOL/KG,,,%TRANS,,VOLTS,VOLTS,,DEG C
  09AR20060102,  S04I,    60,  1,     24,     24,2,20060203,0141,-62.6677,  49.9998, 4995,     10.0,   0.7962,  33.8038,2,  33.7944,2,    344.7,2,    342.1,2,    40.80,2,    26.43,2,   2163.3,2,   2285.9,2,2,     0.12,2,    0.471,    0.133,2,   0.7958
  09AR20060102,  S04I,    60,  1,     23,     23,2,20060203,0141,-62.6677,  49.9998, 4995,     29.8,   0.7949,  33.8039,2,-999.0000,9,    344.6,2,   -999.0,9,  -999.00,9,  -999.00,9,   -999.0,9,   -999.0,9,2,     0.40,2,    0.642,    0.044,2,   0.7937
  09AR20060102,  S04I,    60,  1,     22,     22,2,20060203,0141,-62.6677,  49.9998, 4995,     29.7,   0.7952,  33.8039,2,-999.0000,9,    344.6,2,   -999.0,9,  -999.00,9,  -999.00,9,   -999.0,9,   -999.0,9,2,     0.36,2,    0.621,    0.044,2,   0.7940
  09AR20060102,  S04I,    60,  1,     21,     21,2,20060203,0141,-62.6677,  49.9998, 4995,     29.7,   0.7900,  33.8043,2,  33.8052,2,    344.6,2,    343.3,2,    40.50,2,    26.38,2,   2166.3,6,   -999.0,9,2,     0.39,2,    0.637,    0.046,2,   0.7888
  09AR20060102,  S04I,    60,  1,     20,     20,2,20060203,0141,-62.6677,  49.9998, 4995,     49.5,   0.5417,  33.8146,2,  33.7941,2,    353.2,2,    343.1,2,    42.00,2,    26.46,2,   2165.8,2,   -999.0,9,2,     0.60,2,    0.774,    0.020,2,   0.5398
  09AR20060102,  S04I,    60,  1,     19,     19,2,20060203,0141,-62.6677,  49.9998, 4995,     70.5,  -1.4790,  33.9735,2,  33.9722,2,    345.6,2,    345.0,2,    44.30,2,    27.51,2,   2181.6,2,   -999.0,9,2,     0.87,2,    1.764,    0.008,2,  -1.4805
  09AR20060102,  S04I,    60,  1,     18,     18,2,20060203,0141,-62.6677,  49.9998, 4995,     80.8,  -1.5327,  34.0228,2,  34.0191,2,    338.0,2,    338.0,2,    48.40,2,    27.63,2,   2186.4,2,   -999.0,9,2,     0.94,2,    2.176,    0.004,2,  -1.5344
  09AR20060102,  S04I,    60,  1,     17,     17,2,20060203,0141,-62.6677,  49.9998, 4995,    109.4,  -0.5641,  34.2035,2,  34.1943,2,    285.2,2,    285.2,2,    60.80,2,    30.66,2,   2215.1,2,   -999.0,9,2,     0.98,2,    0.940,    0.000,2,  -0.5674
  09AR20060102,  S04I,    60,  1,     16,     16,2,20060203,0141,-62.6677,  49.9998, 4995,    141.3,   0.8593,  34.4090,2,  34.4058,2,    203.1,2,    218.5,3,    73.60,2,    33.32,2,   2244.5,2,   -999.0,9,2,     0.99,2,    0.210,    0.000,2,   0.8532
  09AR20060102,  S04I,    60,  1,     15,     15,2,20060203,0141,-62.6677,  49.9998, 4995,    199.4,   1.6020,  34.5631,2,  34.5648,2,    182.2,2,    184.4,2,    82.20,2,    33.52,2,   2258.9,2,   -999.0,9,2,     0.99,2,   -0.037,    0.000,2,   1.5920
  09AR20060102,  S04I,    60,  1,     14,     14,2,20060203,0141,-62.6677,  49.9998, 4995,    300.3,   1.8128,  34.6482,2,  34.6495,2,    180.4,2,    180.4,2,    85.40,2,    33.17,2,   2260.4,6,   -999.0,9,2,     0.99,2,   -0.040,    0.000,2,   1.7969
  09AR20060102,  S04I,    60,  1,     13,     13,2,20060203,0141,-62.6677,  49.9998, 4995,    401.3,   1.8172,  34.6896,2,  34.6896,2,    183.7,2,    183.2,2,    85.60,2,    31.82,2,   2256.9,2,   -999.0,9,2,     0.99,2,   -0.034,    0.000,2,   1.7956
  09AR20060102,  S04I,    60,  1,     12,     12,2,20060203,0141,-62.6677,  49.9998, 4995,    599.6,   1.7649,  34.7280,2,  34.7276,2,    191.4,2,    191.0,2,    87.10,2,    30.93,2,   2252.0,2,   -999.0,9,2,     0.99,2,   -0.037,    0.000,2,   1.7318
  09AR20060102,  S04I,    60,  1,     11,     11,2,20060203,0141,-62.6677,  49.9998, 4995,    899.6,   1.4482,  34.7344,2,  34.7361,2,    199.3,2,    199.1,2,    97.80,2,    30.22,2,   2251.9,2,   -999.0,9,2,     0.99,2,   -0.043,    0.000,2,   1.3985
  09AR20060102,  S04I,    60,  1,     10,     10,2,20060203,0141,-62.6677,  49.9998, 4995,   1201.2,   1.1071,  34.7218,2,  34.7235,2,    203.4,2,    202.9,2,   102.30,2,    30.98,2,   2254.8,2,   -999.0,9,2,     0.99,2,   -0.045,    0.000,2,   1.0411
  09AR20060102,  S04I,    60,  1,      9,      9,2,20060203,0141,-62.6677,  49.9998, 4995,   1500.3,   0.8463,  34.7089,2,  34.7058,2,    205.9,2,    205.7,2,   102.70,2,    31.47,2,   2258.1,2,   -999.0,9,2,     0.99,2,   -0.042,    0.000,2,   0.7632
  09AR20060102,  S04I,    60,  1,      8,      8,2,20060203,0141,-62.6677,  49.9998, 4995,   2000.4,   0.5146,  34.6918,2,  34.6929,2,    208.7,2,    208.9,2,   117.00,2,    31.79,2,   2260.9,2,   -999.0,9,2,     0.99,2,   -0.048,    0.000,2,   0.4007
  09AR20060102,  S04I,    60,  1,      7,      7,2,20060203,0141,-62.6677,  49.9998, 4995,   2500.2,   0.2887,  34.6808,2,  34.6823,2,    214.4,2,    214.5,2,   122.00,2,    32.47,2,   2263.6,2,   -999.0,9,2,     0.99,2,   -0.046,    0.000,2,   0.1405
  09AR20060102,  S04I,    60,  1,      6,      6,2,20060203,0141,-62.6677,  49.9998, 4995,   2999.5,   0.1162,  34.6727,2,  34.6739,2,    221.2,2,    221.6,2,   123.00,2,    32.12,2,   2260.7,2,   -999.0,9,2,     0.99,2,   -0.050,    0.000,2,  -0.0698
  09AR20060102,  S04I,    60,  1,      5,      5,2,20060203,0141,-62.6677,  49.9998, 4995,   3501.7,  -0.0154,  34.6666,2,  34.6607,2,    227.8,2,    228.0,2,   125.00,2,    32.15,2,   2258.1,2,   -999.0,9,2,     0.99,2,   -0.046,    0.000,2,  -0.2431
  09AR20060102,  S04I,    60,  1,      4,      4,2,20060203,0141,-62.6677,  49.9998, 4995,   3999.9,  -0.1139,  34.6621,2,  34.6564,2,    233.4,2,    233.9,2,   125.30,2,    32.19,2,   2255.7,2,   -999.0,9,2,     0.99,2,   -0.050,    0.000,2,  -0.3867
  09AR20060102,  S04I,    60,  1,      3,      3,2,20060203,0141,-62.6677,  49.9998, 4995,   4500.6,  -0.1886,  34.6579,2,  34.6533,2,    237.9,2,    237.8,2,   134.30,2,    31.90,2,   2254.8,2,   -999.0,9,2,     0.99,2,   -0.048,    0.000,2,  -0.5104
  09AR20060102,  S04I,    60,  1,      2,      2,2,20060203,0141,-62.6677,  49.9998, 4995,   4999.1,  -0.2307,  34.6540,2,  34.6548,2,    240.7,2,    241.2,2,   144.30,2,    32.32,2,   2254.3,2,   -999.0,9,2,     0.99,2,   -0.056,    0.000,2,  -0.6054
  09AR20060102,  S04I,    60,  1,      1,      1,2,20060203,0141,-62.6677,  49.9998, 4995,   5090.6,  -0.2377,  34.6525,2,  34.6540,2,    241.9,2,    242.5,2,   141.70,2,    31.90,2,   2253.7,6,   -999.0,9,2,     0.99,2,   -0.051,    0.000,2,  -0.6225
  09AR20060102,  S04I,    61,  1,     24,     24,2,20060203,0949,-63.3347,  50.0000, 4843,      8.4,   0.9681,  33.8940,2,  33.8965,2,    342.2,2,    340.8,2,    39.50,2,    25.28,2,   2165.9,2,   -999.0,9,2,     0.27,2,    0.744,    0.203,2,   0.9677
  09AR20060102,  S04I,    61,  1,     23,     23,2,20060203,0949,-63.3347,  50.0000, 4843,      8.4,   0.9672,  33.8940,2,-999.0000,9,    342.2,2,   -999.0,9,  -999.00,9,  -999.00,9,   -999.0,9,   -999.0,9,2,     0.29,2,    0.726,    0.216,2,   0.9668
  09AR20060102,  S04I,    61,  1,     22,     22,2,20060203,0949,-63.3347,  50.0000, 4843,      8.1,   0.9659,  33.8940,2,-999.0000,9,    342.2,2,   -999.0,9,  -999.00,9,  -999.00,9,   -999.0,9,   -999.0,9,2,     0.30,2,    0.741,    0.226,2,   0.9656
  09AR20060102,  S04I,    61,  1,     21,     21,2,20060203,0949,-63.3347,  50.0000, 4843,     29.4,   0.9593,  33.8944,2,  33.8971,2,    342.4,2,    341.0,2,    40.40,2,    25.37,2,   2072.2,3,   -999.0,9,2,     0.28,2,    0.893,    0.054,2,   0.9581
  09AR20060102,  S04I,    61,  1,     20,     20,2,20060203,0949,-63.3347,  50.0000, 4843,     43.6,   0.3992,  33.9318,2,  33.9029,3,    335.2,2,    341.8,2,    39.80,2,    25.55,2,   2135.3,2,   -999.0,9,2,     0.36,2,    1.102,    0.028,2,   0.3976
  09AR20060102,  S04I,    61,  1,     19,     19,2,20060203,0949,-63.3347,  50.0000, 4843,     58.7,  -1.6441,  34.0838,2,  34.0837,2,    340.6,2,    341.5,2,    49.00,2,    27.27,2,   2135.6,2,   -999.0,9,2,     0.50,2,    3.863,    0.010,2,  -1.6453
  09AR20060102,  S04I,    61,  1,     18,     18,2,20060203,0949,-63.3347,  50.0000, 4843,     79.0,  -1.7013,  34.1244,2,  34.1254,2,    328.6,2,    330.5,2,    57.70,2,    28.08,2,   2198.3,2,   -999.0,9,2,     0.71,2,    1.709,    0.002,2,  -1.7029
  09AR20060102,  S04I,    61,  1,     17,     17,2,20060203,0949,-63.3347,  50.0000, 4843,    108.9,  -1.4032,  34.1848,2,  34.1919,2,    308.9,2,    306.0,2,    63.90,2,    29.46,2,   2210.2,2,   -999.0,9,2,     0.94,2,    0.726,    0.000,2,  -1.4057
  09AR20060102,  S04I,    61,  1,     16,     16,2,20060203,0949,-63.3347,  50.0000, 4843,    149.6,   1.0764,  34.5061,2,  34.5060,2,    199.3,2,    202.1,2,    84.10,2,    33.35,2,   -999.0,9,   -999.0,9,2,     0.99,2,    0.089,    0.000,2,   1.0696
  09AR20060102,  S04I,    61,  1,     15,     15,2,20060203,0949,-63.3347,  50.0000, 4843,    199.0,   1.4794,  34.5983,2,  34.6003,2,    187.4,2,    186.9,2,    91.80,2,    33.37,2,   -999.0,9,   -999.0,9,2,     0.99,2,   -0.015,    0.000,2,   1.4696
  09AR20060102,  S04I,    61,  1,     14,     14,2,20060203,0949,-63.3347,  50.0000, 4843,    301.4,   1.5973,  34.6651,2,  34.6664,2,    185.9,2,    186.6,2,    93.20,2,    32.27,2,   -999.0,9,   -999.0,9,2,     0.99,2,   -0.038,    0.000,2,   1.5819
  09AR20060102,  S04I,    61,  1,     13,     13,2,20060203,0949,-63.3347,  50.0000, 4843,    399.1,   1.5743,  34.6939,2,  34.6960,2,    189.4,2,    188.9,2,    94.10,2,    31.60,2,   -999.0,9,   -999.0,9,2,     0.99,2,   -0.038,    0.000,2,   1.5536
  09AR20060102,  S04I,    61,  1,     12,     12,2,20060203,0949,-63.3347,  50.0000, 4843,    601.4,   1.4341,  34.7190,2,  34.7208,2,    195.9,2,    194.8,2,    98.40,2,    32.29,2,   -999.0,9,   -999.0,9,2,     0.99,2,   -0.042,    0.000,2,   1.4025
  09AR20060102,  S04I,    61,  1,     11,     11,2,20060203,0949,-63.3347,  50.0000, 4843,    899.1,   1.1559,  34.7195,2,  34.7210,2,    201.0,2,    200.5,2,    98.40,2,    31.16,2,   -999.0,9,   -999.0,9,2,     0.99,2,   -0.040,    0.000,2,   1.1084
  09AR20060102,  S04I,    61,  1,     10,     10,2,20060203,0949,-63.3347,  50.0000, 4843,   1200.8,   0.8693,  34.7089,2,  34.7104,2,    204.2,2,    203.9,2,   111.40,2,    31.12,2,   -999.0,9,   -999.0,9,2,     0.99,2,   -0.045,    0.000,2,   0.8056
  09AR20060102,  S04I,    61,  1,      9,      9,2,20060203,0949,-63.3347,  50.0000, 4843,   1501.6,   0.6386,  34.6969,2,-999.0000,9,    205.4,2,   -999.0,9,  -999.00,9,  -999.00,9,   -999.0,9,   -999.0,9,2,     0.99,2,   -0.043,    0.000,2,   0.5579
  09AR20060102,  S04I,    61,  1,      8,      8,2,20060203,0949,-63.3347,  50.0000, 4843,   2000.0,   0.3883,  34.6848,2,  34.6860,2,    210.3,2,    210.4,2,   124.30,2,    32.27,2,   -999.0,9,   -999.0,9,2,     0.99,2,   -0.044,    0.000,2,   0.2765
  09AR20060102,  S04I,    61,  1,      7,      7,2,20060203,0949,-63.3347,  50.0000, 4843,   2501.1,   0.1778,  34.6757,2,  34.6762,2,    216.7,2,    216.8,2,   127.40,2,    32.24,2,   -999.0,9,   -999.0,9,2,     0.99,2,   -0.048,    0.000,2,   0.0317
  09AR20060102,  S04I,    61,  1,      6,      6,2,20060203,0949,-63.3347,  50.0000, 4843,   2999.6,   0.0208,  34.6686,2,  34.6693,2,    224.6,2,    224.4,2,   127.80,2,    32.06,2,   -999.0,9,   -999.0,9,2,     0.99,2,   -0.048,    0.000,2,  -0.1630
  09AR20060102,  S04I,    61,  1,      5,      5,2,20060203,0949,-63.3347,  50.0000, 4843,   3501.2,  -0.0967,  34.6632,2,  34.6635,2,    231.3,2,    231.4,2,   128.00,2,    32.08,2,   -999.0,9,   -999.0,9,2,     0.99,2,   -0.053,    0.000,2,  -0.3222
  09AR20060102,  S04I,    61,  1,      4,      4,2,20060203,0949,-63.3347,  50.0000, 4843,   3998.3,  -0.1825,  34.6578,2,  34.6584,2,    237.3,2,    237.8,2,   126.70,2,    31.68,2,   -999.0,9,   -999.0,9,2,     0.99,2,   -0.053,    0.000,2,  -0.4531
  09AR20060102,  S04I,    61,  1,      3,      3,2,20060203,0949,-63.3347,  50.0000, 4843,   4399.5,  -0.2272,  34.6557,2,  34.6558,2,    240.6,2,    240.8,2,   129.40,2,    31.68,2,   -999.0,9,   -999.0,9,2,     0.99,2,   -0.051,    0.000,2,  -0.5372
  09AR20060102,  S04I,    61,  1,      2,      2,2,20060203,0949,-63.3347,  50.0000, 4843,   4849.4,  -0.2756,  34.6510,2,  34.6515,2,    244.2,2,    244.2,2,   134.40,2,    31.62,2,   -999.0,9,   -999.0,9,2,     0.99,2,   -0.052,    0.000,2,  -0.6322
  09AR20060102,  S04I,    61,  1,      1,      1,2,20060203,0949,-63.3347,  50.0000, 4843,   4931.3,  -0.2726,  34.6504,2,  34.6513,2,    244.0,2,    244.4,2,   136.70,2,    32.22,2,   -999.0,9,   -999.0,9,2,     0.99,2,   -0.052,    0.000,2,  -0.6383
  09AR20060102,  S04I,    62,  1,     24,     24,2,20060203,1854,-64.0022,  49.9967, 4392,      8.7,   0.7151,  33.9046,2,  33.8910,2,   -999.0,5,    339.8,2,    48.40,2,    26.75,2,   2172.1,2,   -999.0,9,2,     0.41,2,    1.164,    0.000,2,   0.7148
  09AR20060102,  S04I,    62,  1,     23,     23,2,20060203,1854,-64.0022,  49.9967, 4392,     29.7,   0.7137,  33.9046,2,-999.0000,9,    338.7,2,   -999.0,9,  -999.00,9,  -999.00,9,   -999.0,9,   -999.0,9,2,     0.55,2,    1.125,    0.000,2,   0.7125
  09AR20060102,  S04I,    62,  1,     22,     22,2,20060203,1854,-64.0022,  49.9967, 4392,     29.5,   0.7088,  33.9050,2,-999.0000,9,    338.7,2,   -999.0,9,  -999.00,9,  -999.00,9,   -999.0,9,   -999.0,9,2,     0.39,2,    1.136,    0.000,2,   0.7076
  09AR20060102,  S04I,    62,  1,     21,     21,2,20060203,1854,-64.0022,  49.9967, 4392,     29.1,   0.7103,  33.9048,2,  33.9045,2,    338.7,2,    339.9,2,    48.90,2,    26.39,2,   2172.4,2,   -999.0,9,2,     0.37,2,    1.144,    0.000,2,   0.7091
  09AR20060102,  S04I,    62,  1,     20,     20,2,20060203,1854,-64.0022,  49.9967, 4392,     44.9,   0.5896,  33.9130,2,  33.9053,2,    356.8,3,    340.0,3,    48.80,2,    26.50,2,   -999.0,9,   -999.0,9,2,     0.21,2,    1.200,    0.000,2,   0.5878
  09AR20060102,  S04I,    62,  1,     19,     19,2,20060203,1854,-64.0022,  49.9967, 4392,     60.3,  -1.2344,  34.0935,2,  34.0897,2,    344.6,3,    336.3,2,    55.20,2,    27.19,2,   2185.6,2,   -999.0,9,2,     0.49,2,    1.818,    0.000,2,  -1.2358
  09AR20060102,  S04I,    62,  1,     18,     18,2,20060203,1854,-64.0022,  49.9967, 4392,     78.9,  -1.5966,  34.1879,2,  34.1790,2,    300.2,2,    313.8,3,    60.70,2,    28.91,2,   2211.2,2,   -999.0,9,2,     0.67,2,    1.476,    0.000,2,  -1.5983
  09AR20060102,  S04I,    62,  1,     17,     17,2,20060203,1854,-64.0022,  49.9967, 4392,    100.1,  -0.2310,  34.3851,2,  34.3782,2,    207.1,2,    251.9,3,    75.10,2,    31.13,2,   2234.8,3,   -999.0,9,2,     0.82,2,    0.578,    0.000,2,  -0.2344
  09AR20060102,  S04I,    62,  1,     16,     16,2,20060203,1854,-64.0022,  49.9967, 4392,    130.5,   1.3193,  34.5909,2,  34.5893,2,    211.9,2,    189.7,3,    88.40,2,    33.17,2,   2265.5,2,   -999.0,9,2,     0.97,2,    0.155,    0.000,2,   1.3131
  09AR20060102,  S04I,    62,  1,     15,     15,2,20060203,1854,-64.0022,  49.9967, 4392,    169.6,   1.4749,  34.6324,2,  34.6311,2,    207.2,2,    186.0,3,    91.40,2,    32.85,2,   2259.7,2,   -999.0,9,2,     0.99,2,   -0.002,    0.000,2,   1.4666
  09AR20060102,  S04I,    62,  1,     14,     14,2,20060203,1854,-64.0022,  49.9967, 4392,    198.6,   1.5188,  34.6523,2,  34.6464,2,    195.7,2,    185.5,2,    91.40,2,    32.74,2,   -999.0,9,   -999.0,9,2,     0.99,2,   -0.025,    0.000,2,   1.5089
  09AR20060102,  S04I,    62,  1,     13,     13,2,20060203,1854,-64.0022,  49.9967, 4392,    300.3,   1.5402,  34.6923,2,  34.6915,2,    189.1,2,    188.7,2,    89.60,2,    31.94,2,   -999.0,9,   -999.0,9,2,     0.99,2,   -0.038,    0.000,2,   1.5249
  09AR20060102,  S04I,    62,  1,     12,     12,2,20060203,1854,-64.0022,  49.9967, 4392,    402.7,   1.4789,  34.7118,2,  34.7127,2,    192.8,2,    192.8,2,    91.80,2,    31.42,2,   -999.0,9,   -999.0,9,2,     0.99,2,   -0.042,    0.000,2,   1.4583
  09AR20060102,  S04I,    62,  1,     11,     11,2,20060203,1854,-64.0022,  49.9967, 4392,    598.3,   1.2958,  34.7205,2,  34.7219,2,    198.1,2,    197.7,2,    97.10,2,    30.95,2,   -999.0,9,   -999.0,9,2,     0.99,2,   -0.042,    0.000,2,   1.2650
  09AR20060102,  S04I,    62,  1,     10,     10,2,20060203,1854,-64.0022,  49.9967, 4392,    800.5,   1.1106,  34.7182,2,  34.7190,2,    201.6,2,    200.8,2,   109.20,2,    30.67,2,   -999.0,9,   -999.0,9,2,     0.99,2,   -0.040,    0.000,2,   1.0693
  09AR20060102,  S04I,    62,  1,      9,      9,2,20060203,1854,-64.0022,  49.9967, 4392,   1197.1,   0.7482,  34.7030,2,  34.7021,2,    205.3,2,    204.6,2,   119.00,2,    31.55,2,   -999.0,9,   -999.0,9,2,     0.99,2,   -0.047,    0.000,2,   0.6859
  09AR20060102,  S04I,    62,  1,      8,      8,2,20060203,1854,-64.0022,  49.9967, 4392,   1498.0,   0.5527,  34.6938,2,  34.6947,2,    207.4,2,    206.9,2,   124.60,2,    31.86,2,   -999.0,9,   -999.0,9,2,     0.99,2,   -0.043,    0.000,2,   0.4733
  09AR20060102,  S04I,    62,  1,      7,      7,2,20060203,1854,-64.0022,  49.9967, 4392,   2000.1,   0.2991,  34.6814,2,  34.6821,2,    213.2,2,    213.8,2,   129.60,2,    32.20,2,   -999.0,9,   -999.0,9,2,     0.99,2,   -0.049,    0.000,2,   0.1886
  09AR20060102,  S04I,    62,  1,      6,      6,2,20060203,1854,-64.0022,  49.9967, 4392,   2500.0,   0.1024,  34.6723,2,  34.6727,2,    222.9,2,    221.6,2,   129.10,2,    31.88,2,   -999.0,9,   -999.0,9,2,     0.99,2,   -0.047,    0.000,2,  -0.0422
  09AR20060102,  S04I,    62,  1,      5,      5,2,20060203,1854,-64.0022,  49.9967, 4392,   2998.9,  -0.0664,  34.6637,2,  34.6586,2,    232.0,2,    232.5,2,   124.10,2,    31.70,2,   -999.0,9,   -999.0,9,2,     0.99,2,   -0.050,    0.000,2,  -0.2482
  09AR20060102,  S04I,    62,  1,      4,      4,2,20060203,1854,-64.0022,  49.9967, 4392,   3497.7,  -0.2027,  34.6562,2,  34.6519,2,    241.5,2,    242.2,2,   120.00,2,    31.17,2,   -999.0,9,   -999.0,9,2,     0.99,2,   -0.052,    0.000,2,  -0.4251
  09AR20060102,  S04I,    62,  1,      3,      3,2,20060203,1854,-64.0022,  49.9967, 4392,   3998.9,  -0.2446,  34.6551,2,  34.6539,2,    240.0,2,    241.1,2,   133.40,2,    31.94,2,   -999.0,9,   -999.0,9,2,     0.99,2,   -0.050,    0.000,2,  -0.5135
  09AR20060102,  S04I,    62,  1,      2,      2,2,20060203,1854,-64.0022,  49.9967, 4392,   4456.1,  -0.3135,  34.6512,2,  34.6509,2,    245.2,2,    244.2,2,   138.80,2,    31.55,2,   -999.0,9,   -999.0,9,2,     0.99,2,   -0.049,    0.000,2,  -0.6267
  09AR20060102,  S04I,    62,  1,      1,      1,2,20060203,1854,-64.0022,  49.9967, 4392,   4470.1,  -0.3118,  34.6511,2,  34.6517,2,    243.2,2,    244.1,2,   135.00,2,    31.96,2,   -999.0,9,   -999.0,9,2,     0.99,2,   -0.050,    0.000,2,  -0.6265