BOTTLE,20220816CCHSIOAMB
EXPOCODE,SECT_ID,STNNBR,CASTNO,SAMPNO,BTLNBR,BTLNBR_FLAG_W,DATE,TIME,LATITUDE,LONGITUDE,DEPTH,CTDPRS,CTDTMP,CTDSAL,CTDSAL_FLAG_W,SALNTY,SALNTY_FLAG_W,CTDOXY,CTDOXY_FLAG_W,OXYGEN,OXYGEN_FLAG_W,SILCAT,SILCAT_FLAG_W,NITRAT,NITRAT_FLAG_W,TCARBN,TCARBN_FLAG_W,ALKALI,ALKALI_FLAG_W,FLUOR_FLAG_W,XMISS,XMISS_FLAG_W,FLUOR,PAR,PAR_FLAG_W,THETA
,,,,,,,,,,,METERS,DBAR,ITS-90,PSS-78,,PSS-78,,UMOL/KG,,UMOL/KG,,UMOL/KG,,UMOL/KG,,UMOL/KG,,UMOL/KG,,,%TRANS,,VOLTS,VOLTS,,DEG C
  09AR20060102,  S04I,   120,  1,     24,     24,2,20060303,0923,-66.0852,  79.4597, 1476,      8.9,  -0.8609,  33.3724,2,-999.0000,9,   -999.0,5,   -999.0,9,  -999.00,9,  -999.00,9,   -999.0,9,   -999.0,9,2,     0.96,2,    0.213,    0.087,2,  -0.8611
  09AR20060102,  S04I,   120,  1,     23,     23,2,20060303,0923,-66.0852,  79.4597, 1476,      8.7,  -0.8548,  33.3753,2,-999.0000,9,   -999.0,5,   -999.0,9,  -999.00,9,  -999.00,9,   -999.0,9,   -999.0,9,2,     0.96,2,    0.207,    0.090,2,  -0.8550
  09AR20060102,  S04I,   120,  1,     22,     22,2,20060303,0923,-66.0852,  79.4597, 1476,      8.7,  -0.8576,  33.3743,2,-999.0000,9,   -999.0,5,   -999.0,9,  -999.00,9,  -999.00,9,   -999.0,9,   -999.0,9,2,     0.96,2,    0.193,    0.089,2,  -0.8578
  09AR20060102,  S04I,   120,  1,     21,     21,2,20060303,0923,-66.0852,  79.4597, 1476,      8.6,  -0.8477,  33.3787,2,  33.3870,2,   -999.0,5,   -999.0,9,  -999.00,9,  -999.00,9,   -999.0,9,   -999.0,9,2,     0.96,2,    0.242,    0.091,2,  -0.8479
  09AR20060102,  S04I,   120,  1,     20,     20,2,20060303,0923,-66.0852,  79.4597, 1476,     49.0,  -1.2582,  33.8783,2,  33.8742,2,   -999.0,5,   -999.0,9,  -999.00,9,  -999.00,9,   -999.0,9,   -999.0,9,2,     0.96,2,    2.166,    0.011,2,  -1.2593
  09AR20060102,  S04I,   120,  1,     19,     19,2,20060303,0923,-66.0852,  79.4597, 1476,     49.0,  -1.2839,  33.8880,2,  33.8793,2,   -999.0,5,   -999.0,9,  -999.00,9,  -999.00,9,   -999.0,9,   -999.0,9,2,     0.95,2,    2.171,    0.011,2,  -1.2850
  09AR20060102,  S04I,   120,  1,     18,     18,2,20060303,0923,-66.0852,  79.4597, 1476,     49.0,  -1.2909,  33.8909,2,  33.8922,2,   -999.0,5,   -999.0,9,  -999.00,9,  -999.00,9,   -999.0,9,   -999.0,9,2,     0.96,2,    2.201,    0.012,2,  -1.2920
  09AR20060102,  S04I,   120,  1,     17,     17,2,20060303,0923,-66.0852,  79.4597, 1476,     98.8,  -1.7785,  34.2574,2,  34.2563,2,   -999.0,5,   -999.0,9,  -999.00,9,  -999.00,9,   -999.0,9,   -999.0,9,2,     0.99,2,    0.148,    0.001,2,  -1.7805
  09AR20060102,  S04I,   120,  1,     16,     16,2,20060303,0923,-66.0852,  79.4597, 1476,    148.0,  -1.7940,  34.2891,2,  34.2883,2,   -999.0,5,   -999.0,9,  -999.00,9,  -999.00,9,   -999.0,9,   -999.0,9,2,     0.99,2,   -0.012,    0.000,2,  -1.7970
  09AR20060102,  S04I,   120,  1,     15,     15,2,20060303,0923,-66.0852,  79.4597, 1476,    199.5,  -1.7743,  34.3107,2,  34.3110,2,   -999.0,5,   -999.0,9,  -999.00,9,  -999.00,9,   -999.0,9,   -999.0,9,2,     0.99,2,   -0.022,    0.000,2,  -1.7785
  09AR20060102,  S04I,   120,  1,     14,     14,2,20060303,0923,-66.0852,  79.4597, 1476,    251.1,  -1.7768,  34.3285,2,  34.3280,2,   -999.0,5,   -999.0,9,  -999.00,9,  -999.00,9,   -999.0,9,   -999.0,9,2,     0.99,2,   -0.041,    0.000,2,  -1.7822
  09AR20060102,  S04I,   120,  1,     13,     13,2,20060303,0923,-66.0852,  79.4597, 1476,    297.5,  -1.5624,  34.3552,2,  34.3549,2,   -999.0,5,   -999.0,9,  -999.00,9,  -999.00,9,   -999.0,9,   -999.0,9,2,     0.99,2,   -0.041,    0.000,2,  -1.5695
  09AR20060102,  S04I,   120,  1,     12,     12,2,20060303,0923,-66.0852,  79.4597, 1476,    398.0,  -1.6163,  34.3833,2,  34.3835,2,   -999.0,5,   -999.0,9,  -999.00,9,  -999.00,9,   -999.0,9,   -999.0,9,2,     0.99,2,   -0.050,    0.000,2,  -1.6261
  09AR20060102,  S04I,   120,  1,     11,     11,2,20060303,0923,-66.0852,  79.4597, 1476,    499.2,  -0.6105,  34.4902,2,  34.4903,2,   -999.0,5,   -999.0,9,  -999.00,9,  -999.00,9,   -999.0,9,   -999.0,9,2,     0.99,2,   -0.041,    0.000,2,  -0.6276
  09AR20060102,  S04I,   120,  1,     10,     10,2,20060303,0923,-66.0852,  79.4597, 1476,    600.0,   0.2733,  34.6065,2,  34.6066,2,   -999.0,5,   -999.0,9,  -999.00,9,  -999.00,9,   -999.0,9,   -999.0,9,2,     0.99,2,   -0.045,    0.000,2,   0.2476
  09AR20060102,  S04I,   120,  1,      9,      9,2,20060303,0923,-66.0852,  79.4597, 1476,    699.9,   0.7788,  34.6771,2,  34.6766,2,   -999.0,5,   -999.0,9,  -999.00,9,  -999.00,9,   -999.0,9,   -999.0,9,2,     0.99,2,   -0.043,    0.000,2,   0.7452
  09AR20060102,  S04I,   120,  1,      8,      8,2,20060303,0923,-66.0852,  79.4597, 1476,    799.0,   0.8624,  34.6966,2,  34.6968,2,   -999.0,5,   -999.0,9,  -999.00,9,  -999.00,9,   -999.0,9,   -999.0,9,2,     0.99,2,   -0.037,    0.000,2,   0.8228
  09AR20060102,  S04I,   120,  1,      7,      7,2,20060303,0923,-66.0852,  79.4597, 1476,    899.8,   0.7965,  34.7003,2,  34.7004,2,   -999.0,5,   -999.0,9,  -999.00,9,  -999.00,9,   -999.0,9,   -999.0,9,2,     0.99,2,   -0.042,    0.000,2,   0.7516
  09AR20060102,  S04I,   120,  1,      6,      6,2,20060303,0923,-66.0852,  79.4597, 1476,   1003.3,   0.7234,  34.6999,2,-999.0000,9,   -999.0,5,   -999.0,9,  -999.00,9,  -999.00,9,   -999.0,9,   -999.0,9,2,     0.99,2,   -0.040,    0.000,2,   0.6731
  09AR20060102,  S04I,   120,  1,      5,      5,2,20060303,0923,-66.0852,  79.4597, 1476,   1002.1,   0.7319,  34.7002,2,  34.6996,2,   -999.0,5,   -999.0,9,  -999.00,9,  -999.00,9,   -999.0,9,   -999.0,9,2,     0.99,2,   -0.047,    0.000,2,   0.6816
  09AR20060102,  S04I,   120,  1,      4,      4,2,20060303,0923,-66.0852,  79.4597, 1476,   1201.0,   0.5385,  34.6935,2,  34.6931,2,   -999.0,5,   -999.0,9,  -999.00,9,  -999.00,9,   -999.0,9,   -999.0,9,2,     0.99,2,   -0.045,    0.000,2,   0.4780
  09AR20060102,  S04I,   120,  1,      3,      3,2,20060303,0923,-66.0852,  79.4597, 1476,   1400.2,   0.3657,  34.6862,2,  34.6866,2,   -999.0,5,   -999.0,9,  -999.00,9,  -999.00,9,   -999.0,9,   -999.0,9,2,     0.99,2,   -0.045,    0.000,2,   0.2947
  09AR20060102,  S04I,   120,  1,      2,      2,2,20060303,0923,-66.0852,  79.4597, 1476,   1499.8,   0.3258,  34.6849,2,  34.6858,2,   -999.0,5,   -999.0,9,  -999.00,9,  -999.00,9,   -999.0,9,   -999.0,9,2,     0.98,2,   -0.047,    0.000,2,   0.2490
  09AR20060102,  S04I,   120,  1,      1,      1,2,20060303,0923,-66.0852,  79.4597, 1476,   1529.8,   0.2959,  34.6838,2,  34.6837,2,   -999.0,5,   -999.0,9,  -999.00,9,  -999.00,9,   -999.0,9,   -999.0,9,2,     0.99,2,   -0.048,    0.000,2,   0.2175