BOTTLE,20220816CCHSIOAMB
EXPOCODE,SECT_ID,STNNBR,CASTNO,SAMPNO,BTLNBR,BTLNBR_FLAG_W,DATE,TIME,LATITUDE,LONGITUDE,DEPTH,CTDPRS,CTDTMP,CTDSAL,CTDSAL_FLAG_W,SALNTY,SALNTY_FLAG_W,CTDOXY,CTDOXY_FLAG_W,OXYGEN,OXYGEN_FLAG_W,SILCAT,SILCAT_FLAG_W,NITRAT,NITRAT_FLAG_W,TCARBN,TCARBN_FLAG_W,ALKALI,ALKALI_FLAG_W,FLUOR_FLAG_W,XMISS,XMISS_FLAG_W,FLUOR,PAR,PAR_FLAG_W,THETA
,,,,,,,,,,,METERS,DBAR,ITS-90,PSS-78,,PSS-78,,UMOL/KG,,UMOL/KG,,UMOL/KG,,UMOL/KG,,UMOL/KG,,UMOL/KG,,,%TRANS,,VOLTS,VOLTS,,DEG C
  09AR20060102,  S04I,    42,  1,     24,     24,2,20060123,1620,-69.0787,  29.9968,  820,      4.2,  -1.1711,  33.4509,2,-999.0000,9,    372.9,3,   -999.0,9,  -999.00,9,  -999.00,9,   -999.0,9,   -999.0,9,2,     0.11,2,    9.353,    0.139,2,  -1.1712
  09AR20060102,  S04I,    42,  1,     23,     23,2,20060123,1620,-69.0787,  29.9968,  820,      4.2,  -1.1774,  33.4553,2,-999.0000,9,    372.9,3,   -999.0,9,  -999.00,9,  -999.00,9,   -999.0,9,   -999.0,9,2,     0.09,2,    9.572,    0.141,2,  -1.1775
  09AR20060102,  S04I,    42,  1,     22,     22,2,20060123,1620,-69.0787,  29.9968,  820,      4.2,  -1.1701,  33.4502,2,-999.0000,9,    372.9,3,   -999.0,9,  -999.00,9,  -999.00,9,   -999.0,9,   -999.0,9,2,     0.09,2,    9.318,    0.140,2,  -1.1702
  09AR20060102,  S04I,    42,  1,     21,     21,2,20060123,1620,-69.0787,  29.9968,  820,      4.2,  -1.1679,  33.4484,2,  33.4367,2,    372.9,3,    384.0,2,    55.70,2,    18.77,2,   2090.6,2,   2270.5,2,2,     0.09,2,    9.379,    0.142,2,  -1.1680
  09AR20060102,  S04I,    42,  1,     20,     20,2,20060123,1620,-69.0787,  29.9968,  820,     10.0,  -1.2242,  33.4535,2,  33.4356,2,    372.3,3,    383.4,2,    54.20,2,    18.90,2,   2091.5,6,   -999.0,9,2,     0.10,2,   11.004,    0.051,2,  -1.2244
  09AR20060102,  S04I,    42,  1,     19,     19,2,20060123,1620,-69.0787,  29.9968,  820,     20.1,  -1.2334,  33.5405,2,  33.5934,3,    372.5,2,    375.5,2,    55.70,2,    20.07,2,   2110.6,2,   -999.0,9,2,     0.16,2,   13.649,    0.007,2,  -1.2339
  09AR20060102,  S04I,    42,  1,     18,     18,2,20060123,1620,-69.0787,  29.9968,  820,     20.0,  -1.2337,  33.5330,2,  33.6247,3,    372.5,2,    373.0,2,    56.00,2,    20.30,2,   -999.0,9,   -999.0,9,2,     0.11,2,   13.634,    0.007,2,  -1.2342
  09AR20060102,  S04I,    42,  1,     17,     17,2,20060123,1620,-69.0787,  29.9968,  820,     30.2,  -1.1497,  33.8426,2,  33.8578,2,    356.4,2,    352.6,2,    59.80,2,    23.02,2,   2148.8,2,   -999.0,9,2,     0.26,2,    9.773,    0.000,2,  -1.1504
  09AR20060102,  S04I,    42,  1,     16,     16,2,20060123,1620,-69.0787,  29.9968,  820,     39.7,  -1.1628,  33.9219,2,  33.9362,2,    351.5,2,    346.8,2,    61.30,2,    24.16,2,   2160.0,2,   -999.0,9,2,     0.34,2,    7.102,    0.000,2,  -1.1638
  09AR20060102,  S04I,    42,  1,     15,     15,2,20060123,1620,-69.0787,  29.9968,  820,     49.7,  -1.1684,  33.9701,2,  33.9859,2,    346.6,2,    341.4,2,    61.70,2,    24.90,2,   2168.4,2,   -999.0,9,2,     0.45,2,    7.944,    0.000,2,  -1.1696
  09AR20060102,  S04I,    42,  1,     14,     14,2,20060123,1620,-69.0787,  29.9968,  820,     69.6,  -1.1974,  34.0784,2,  34.0845,2,    339.0,2,   -999.0,9,    63.20,2,    26.28,2,   2183.2,2,   -999.0,9,2,     0.69,2,    4.680,    0.000,2,  -1.1991
  09AR20060102,  S04I,    42,  1,     13,     13,2,20060123,1620,-69.0787,  29.9968,  820,     89.4,  -1.2010,  34.1274,2,  34.1438,2,    333.3,2,    332.9,2,    69.70,2,    27.25,2,   2194.0,2,   -999.0,9,2,     0.90,2,    2.939,    0.000,2,  -1.2032
  09AR20060102,  S04I,    42,  1,     12,     12,2,20060123,1620,-69.0787,  29.9968,  820,    104.7,  -1.2104,  34.1727,2,  34.1798,2,    327.8,2,    321.6,2,    65.30,2,    28.03,2,   2198.0,2,   -999.0,9,2,     0.95,2,    1.614,    0.000,2,  -1.2130
  09AR20060102,  S04I,    42,  1,     11,     11,2,20060123,1620,-69.0787,  29.9968,  820,    134.8,  -1.2378,  34.2136,2,  34.2203,2,    312.9,2,    313.5,2,    66.60,2,    28.53,2,   2203.9,2,   -999.0,9,2,     0.96,2,    1.171,    0.000,2,  -1.2412
  09AR20060102,  S04I,    42,  1,     10,     10,2,20060123,1620,-69.0787,  29.9968,  820,    150.0,  -1.2424,  34.2359,2,  34.2405,2,    308.1,2,    310.0,2,    67.60,2,    28.77,2,   2207.8,2,   -999.0,9,2,     0.97,2,    1.101,    0.000,2,  -1.2462
  09AR20060102,  S04I,    42,  1,      9,      9,2,20060123,1620,-69.0787,  29.9968,  820,    199.5,  -1.2526,  34.2691,2,  34.2706,2,    298.8,2,    304.0,2,    70.50,2,    29.51,2,   2210.8,2,   -999.0,9,2,     0.98,2,    0.661,    0.000,2,  -1.2577
  09AR20060102,  S04I,    42,  1,      8,      8,2,20060123,1620,-69.0787,  29.9968,  820,    249.8,  -1.1279,  34.3459,2,  34.3527,2,    288.3,2,    287.8,2,    75.50,2,    30.54,2,   2223.2,2,   -999.0,9,2,     0.98,2,    0.330,    0.000,2,  -1.1347
  09AR20060102,  S04I,    42,  1,      7,      7,2,20060123,1620,-69.0787,  29.9968,  820,    300.0,  -0.7122,  34.4442,2,  34.4487,2,    267.2,2,    267.0,2,    82.80,2,    31.20,2,   2233.8,2,   -999.0,9,2,     0.99,2,    0.127,    0.000,2,  -0.7216
  09AR20060102,  S04I,    42,  1,      6,      6,2,20060123,1620,-69.0787,  29.9968,  820,    399.8,  -0.2045,  34.5378,2,  34.5581,2,    240.1,2,    240.3,2,    94.20,2,    31.24,2,   2244.7,2,   -999.0,9,2,     0.99,2,    0.085,    0.000,2,  -0.2193
  09AR20060102,  S04I,    42,  1,      5,      5,2,20060123,1620,-69.0787,  29.9968,  820,    500.0,   0.1498,  34.6155,2,  34.6152,2,    227.5,2,    229.7,2,    98.50,2,    31.53,2,   2247.5,2,   -999.0,9,2,     0.99,2,    0.041,    0.000,2,   0.1294
  09AR20060102,  S04I,    42,  1,      4,      4,2,20060123,1620,-69.0787,  29.9968,  820,    599.2,   0.2307,  34.6376,2,  34.6384,2,    224.0,2,    225.3,2,   101.70,2,    31.67,2,   2252.9,2,   -999.0,9,2,     0.99,2,    0.024,    0.000,2,   0.2052
  09AR20060102,  S04I,    42,  1,      3,      3,2,20060123,1620,-69.0787,  29.9968,  820,    695.2,   0.2769,  34.6506,2,  34.6507,2,    221.7,2,    222.2,2,   106.10,2,    31.85,2,   2252.4,2,   -999.0,9,2,     0.99,2,    0.012,    0.000,2,   0.2465
  09AR20060102,  S04I,    42,  1,      2,      2,2,20060123,1620,-69.0787,  29.9968,  820,    802.3,   0.2880,  34.6565,2,  34.6564,2,    221.7,2,    221.5,2,   106.80,2,    31.99,2,   2253.6,2,   -999.0,9,2,     0.99,2,    0.003,    0.000,2,   0.2521
  09AR20060102,  S04I,    42,  1,      1,      1,2,20060123,1620,-69.0787,  29.9968,  820,    860.4,   0.3015,  34.6596,2,  34.6591,2,    222.1,2,    221.0,2,   109.20,2,    32.04,2,   2255.1,6,   -999.0,9,2,     0.99,2,    0.004,    0.000,2,   0.2624
  09AR20060102,  S04I,    43,  1,     24,     24,2,20060123,1855,-69.1107,  29.9983,  267,      4.5,  -1.1667,  33.5638,2,  33.5544,2,   -999.0,5,   -999.0,9,    54.90,2,    19.43,2,   2103.1,2,   -999.0,9,2,     0.02,2,   11.869,    0.060,2,  -1.1668
  09AR20060102,  S04I,    43,  1,     23,     23,2,20060123,1855,-69.1107,  29.9983,  267,      9.8,  -1.1769,  33.5666,2,-999.0000,9,   -999.0,5,   -999.0,9,  -999.00,9,  -999.00,9,   -999.0,9,   -999.0,9,2,     0.02,2,   14.075,    0.011,2,  -1.1771
  09AR20060102,  S04I,    43,  1,     22,     22,2,20060123,1855,-69.1107,  29.9983,  267,      9.8,  -1.1608,  33.5440,2,-999.0000,9,   -999.0,5,   -999.0,9,  -999.00,9,  -999.00,9,   -999.0,9,   -999.0,9,2,     0.02,2,   13.862,    0.011,2,  -1.1610
  09AR20060102,  S04I,    43,  1,     21,     21,2,20060123,1855,-69.1107,  29.9983,  267,      9.7,  -1.2109,  33.5890,2,  33.5960,2,   -999.0,5,   -999.0,9,    55.20,2,    19.89,2,   -999.0,9,   -999.0,9,2,     0.03,2,   16.149,    0.011,2,  -1.2111
  09AR20060102,  S04I,    43,  1,     20,     20,2,20060123,1855,-69.1107,  29.9983,  267,     19.6,  -1.2058,  33.6081,2,  33.6493,2,   -999.0,5,   -999.0,9,    56.00,2,    20.60,2,   2117.9,2,   -999.0,9,2,     0.07,2,   17.994,    0.001,2,  -1.2063
  09AR20060102,  S04I,    43,  1,     19,     19,2,20060123,1855,-69.1107,  29.9983,  267,     29.5,  -1.1791,  33.7231,2,  33.7870,3,   -999.0,5,   -999.0,9,    58.20,2,    22.29,2,   -999.0,9,   -999.0,9,2,     0.21,2,   14.216,    0.000,2,  -1.1798
  09AR20060102,  S04I,    43,  1,     18,     18,2,20060123,1855,-69.1107,  29.9983,  267,     39.7,  -1.1589,  33.8416,2,  33.8771,2,   -999.0,5,   -999.0,9,    59.50,2,    23.36,2,   2152.1,2,   -999.0,9,2,     0.36,2,   10.086,    0.000,2,  -1.1599
  09AR20060102,  S04I,    43,  1,     17,     17,2,20060123,1855,-69.1107,  29.9983,  267,     49.6,  -1.1665,  33.9091,2,  33.9280,2,   -999.0,5,   -999.0,9,    60.30,2,    24.22,2,   -999.0,9,   -999.0,9,2,     0.49,2,    8.627,    0.000,2,  -1.1677
  09AR20060102,  S04I,    43,  1,     16,     16,2,20060123,1855,-69.1107,  29.9983,  267,     59.6,  -1.1757,  33.9740,2,  33.9995,2,   -999.0,5,   -999.0,9,    61.20,2,    25.16,2,   2170.3,2,   -999.0,9,2,     0.62,2,    7.598,    0.000,2,  -1.1771
  09AR20060102,  S04I,    43,  1,     15,     15,2,20060123,1855,-69.1107,  29.9983,  267,     69.6,  -1.1757,  34.0253,2,  34.0340,2,   -999.0,5,   -999.0,9,    61.70,2,    25.58,2,   -999.0,9,   -999.0,9,2,     0.69,2,    6.377,    0.000,2,  -1.1774
  09AR20060102,  S04I,    43,  1,     14,     14,2,20060123,1855,-69.1107,  29.9983,  267,     79.5,  -1.1805,  34.0514,2,  34.0577,2,   -999.0,5,   -999.0,9,    67.90,2,    25.96,2,   -999.0,9,   -999.0,9,2,     0.74,2,    5.947,    0.000,2,  -1.1825
  09AR20060102,  S04I,    43,  1,     13,     13,2,20060123,1855,-69.1107,  29.9983,  267,     89.9,  -1.1852,  34.1067,2,  34.1036,2,   -999.0,5,   -999.0,9,    63.10,2,    26.68,2,   2186.8,2,   -999.0,9,2,     0.78,2,    4.065,    0.000,2,  -1.1874
  09AR20060102,  S04I,    43,  1,     12,     12,2,20060123,1855,-69.1107,  29.9983,  267,     99.6,  -1.2055,  34.1342,2,  34.1346,2,   -999.0,5,   -999.0,9,    65.00,2,    26.99,2,   -999.0,9,   -999.0,9,2,     0.82,2,    3.219,    0.000,2,  -1.2080
  09AR20060102,  S04I,    43,  1,     11,     11,2,20060123,1855,-69.1107,  29.9983,  267,    109.7,  -1.1980,  34.1585,2,  34.1512,2,   -999.0,5,   -999.0,9,    65.70,2,    27.52,2,   -999.0,9,   -999.0,9,2,     0.89,2,    1.914,    0.000,2,  -1.2007
  09AR20060102,  S04I,    43,  1,     10,     10,2,20060123,1855,-69.1107,  29.9983,  267,    119.5,  -1.1977,  34.1694,2,  34.1680,2,   -999.0,5,   -999.0,9,    67.90,2,    27.54,2,   2199.7,2,   -999.0,9,2,     0.91,2,    2.174,    0.000,2,  -1.2007
  09AR20060102,  S04I,    43,  1,      9,      9,2,20060123,1855,-69.1107,  29.9983,  267,    129.7,  -1.2354,  34.1733,2,  34.1665,2,   -999.0,5,   -999.0,9,    65.40,2,    27.57,2,   -999.0,9,   -999.0,9,2,     0.93,2,    1.836,    0.000,2,  -1.2386
  09AR20060102,  S04I,    43,  1,      8,      8,2,20060123,1855,-69.1107,  29.9983,  267,    139.7,  -1.2438,  34.1796,2,  34.1835,2,   -999.0,5,   -999.0,9,    65.60,2,    27.93,2,   -999.0,9,   -999.0,9,2,     0.94,2,    2.037,    0.000,2,  -1.2473
  09AR20060102,  S04I,    43,  1,      7,      7,2,20060123,1855,-69.1107,  29.9983,  267,    149.7,  -1.2915,  34.1953,2,  34.1996,2,   -999.0,5,   -999.0,9,    66.00,2,    28.30,2,   2203.2,2,   -999.0,9,2,     0.96,2,    1.293,    0.000,2,  -1.2952
  09AR20060102,  S04I,    43,  1,      6,      6,2,20060123,1855,-69.1107,  29.9983,  267,    169.7,  -1.2405,  34.2097,2,  34.2131,2,   -999.0,5,   -999.0,9,    66.70,2,    28.43,2,   -999.0,9,   -999.0,9,2,     0.97,2,    1.104,    0.000,2,  -1.2448
  09AR20060102,  S04I,    43,  1,      5,      5,2,20060123,1855,-69.1107,  29.9983,  267,    189.6,  -1.2404,  34.2206,2,  34.2205,2,   -999.0,5,   -999.0,9,    66.50,2,    28.33,2,   -999.0,9,   -999.0,9,2,     0.97,2,    1.174,    0.000,2,  -1.2452
  09AR20060102,  S04I,    43,  1,      4,      4,2,20060123,1855,-69.1107,  29.9983,  267,    199.7,  -1.2468,  34.2218,2,  34.2209,2,   -999.0,5,   -999.0,9,    66.30,2,    28.43,2,   2205.5,2,   -999.0,9,2,     0.97,2,    0.991,    0.000,2,  -1.2519
  09AR20060102,  S04I,    43,  1,      3,      3,2,20060123,1855,-69.1107,  29.9983,  267,    224.6,  -1.2576,  34.2214,2,  34.2209,2,   -999.0,5,   -999.0,9,    66.40,2,    28.47,2,   -999.0,9,   -999.0,9,2,     0.97,2,    1.015,    0.000,2,  -1.2634
  09AR20060102,  S04I,    43,  1,      2,      2,2,20060123,1855,-69.1107,  29.9983,  267,    249.6,  -1.2335,  34.2238,2,  34.2256,2,   -999.0,5,   -999.0,9,    66.70,2,    28.63,2,   -999.0,9,   -999.0,9,2,     0.97,2,    1.073,    0.000,2,  -1.2400
  09AR20060102,  S04I,    43,  1,      1,      1,2,20060123,1855,-69.1107,  29.9983,  267,    259.5,  -1.1558,  34.2892,2,  34.2526,3,   -999.0,5,   -999.0,9,    73.80,2,    29.11,2,   -999.0,9,   -999.0,9,2,     0.97,2,    0.722,    0.000,2,  -1.1628
  09AR20060102,  S04I,    44,  1,     24,     24,2,20060123,2350,-69.2072,  29.9345,  211,      4.4,  -1.2381,  33.6677,2,  33.6624,2,    372.5,2,   -999.0,9,    55.40,2,    20.08,2,   2120.9,6,   -999.0,9,2,     0.03,2,    3.974,    0.026,2,  -1.2382
  09AR20060102,  S04I,    44,  1,     23,     23,2,20060123,2350,-69.2072,  29.9345,  211,     10.0,  -1.1910,  33.6769,2,-999.0000,9,    372.2,2,   -999.0,9,  -999.00,9,  -999.00,9,   -999.0,9,   -999.0,9,2,     0.03,2,    4.545,    0.010,2,  -1.1912
  09AR20060102,  S04I,    44,  1,     22,     22,2,20060123,2350,-69.2072,  29.9345,  211,     10.0,  -1.1981,  33.6788,2,-999.0000,9,    372.2,2,   -999.0,9,  -999.00,9,  -999.00,9,   -999.0,9,   -999.0,9,2,     0.02,2,    4.433,    0.010,2,  -1.1983
  09AR20060102,  S04I,    44,  1,     21,     21,2,20060123,2350,-69.2072,  29.9345,  211,     10.0,  -1.1999,  33.6803,2,-999.0000,9,    372.2,2,   -999.0,9,  -999.00,9,  -999.00,9,   -999.0,9,   -999.0,9,2,     0.02,2,    4.384,    0.010,2,  -1.2001
  09AR20060102,  S04I,    44,  1,     20,     20,2,20060123,2350,-69.2072,  29.9345,  211,      9.9,  -1.2043,  33.6668,2,  33.6639,2,    372.2,2,   -999.0,9,    55.40,2,    20.09,2,   2121.3,2,   2290.1,2,2,     0.02,2,    4.436,    0.010,2,  -1.2045
  09AR20060102,  S04I,    44,  1,     19,     19,2,20060123,2350,-69.2072,  29.9345,  211,     19.9,  -1.2046,  33.6745,2,-999.0000,9,    372.2,2,   -999.0,9,  -999.00,9,  -999.00,9,   -999.0,9,   -999.0,9,2,     0.04,2,    4.384,    0.002,2,  -1.2051
  09AR20060102,  S04I,    44,  1,     18,     18,2,20060123,2350,-69.2072,  29.9345,  211,     19.8,  -1.1825,  33.6940,2,  33.7077,2,    372.2,2,    371.8,2,    56.10,2,    20.49,2,   2124.9,2,   -999.0,9,2,     0.04,2,    4.899,    0.002,2,  -1.1830
  09AR20060102,  S04I,    44,  1,     17,     17,2,20060123,2350,-69.2072,  29.9345,  211,     40.1,  -1.1613,  33.8055,2,-999.0000,9,    365.8,2,   -999.0,9,  -999.00,9,  -999.00,9,   -999.0,9,   -999.0,9,2,     0.23,2,    5.736,    0.000,2,  -1.1623
  09AR20060102,  S04I,    44,  1,     16,     16,2,20060123,2350,-69.2072,  29.9345,  211,     40.1,  -1.1695,  33.8141,2,  33.8183,2,    365.8,2,   -999.0,9,    57.70,2,    21.87,2,   2141.8,2,   -999.0,9,2,     0.16,2,    5.508,    0.000,2,  -1.1705
  09AR20060102,  S04I,    44,  1,     15,     15,2,20060123,2350,-69.2072,  29.9345,  211,     59.2,  -1.2620,  33.8817,2,-999.0000,9,    347.3,2,   -999.0,9,  -999.00,9,  -999.00,9,   -999.0,9,   -999.0,9,2,     0.40,2,    4.165,    0.000,2,  -1.2634
  09AR20060102,  S04I,    44,  1,     14,     14,2,20060123,2350,-69.2072,  29.9345,  211,     59.2,  -1.2549,  33.8812,2,  33.8842,2,    347.3,2,    356.9,2,    59.10,2,    23.31,2,   2154.9,2,   -999.0,9,2,     0.38,2,    7.051,    0.000,2,  -1.2563
  09AR20060102,  S04I,    44,  1,     13,     13,2,20060123,2350,-69.2072,  29.9345,  211,     69.3,  -1.3010,  33.9096,2,  33.9325,2,    340.6,2,    352.1,2,    59.60,2,    24.35,2,   2162.9,2,   -999.0,9,2,     0.48,2,    3.989,    0.000,2,  -1.3026
  09AR20060102,  S04I,    44,  1,     12,     12,2,20060123,2350,-69.2072,  29.9345,  211,     90.1,  -1.4812,  34.0121,2,-999.0000,9,    340.0,2,   -999.0,9,  -999.00,9,  -999.00,9,   -999.0,9,   -999.0,9,2,     0.63,2,    3.106,    0.000,2,  -1.4832
  09AR20060102,  S04I,    44,  1,     11,     11,2,20060123,2350,-69.2072,  29.9345,  211,     90.0,  -1.4869,  34.0124,2,  34.0140,2,    340.0,2,   -999.0,9,    60.80,2,    26.43,2,   2181.9,2,   -999.0,9,2,     0.62,2,    2.810,    0.000,2,  -1.4889
  09AR20060102,  S04I,    44,  1,     10,     10,2,20060123,2350,-69.2072,  29.9345,  211,    109.7,  -1.5360,  34.0384,2,  34.0412,2,    330.4,2,    334.5,2,    61.50,2,    27.18,2,   2188.5,2,   -999.0,9,2,     0.78,2,    2.802,    0.000,2,  -1.5384
  09AR20060102,  S04I,    44,  1,      9,      9,2,20060123,2350,-69.2072,  29.9345,  211,    120.1,  -1.5712,  34.0580,2,  34.0530,2,    333.0,2,    332.1,2,    61.50,2,    27.60,2,   2190.4,2,   -999.0,9,2,     0.84,2,    2.809,    0.000,2,  -1.5738
  09AR20060102,  S04I,    44,  1,      8,      8,2,20060123,2350,-69.2072,  29.9345,  211,    150.0,  -1.6184,  34.0905,2,-999.0000,9,    327.6,2,   -999.0,9,  -999.00,9,  -999.00,9,   -999.0,9,   -999.0,9,2,     0.96,2,    1.471,    0.000,2,  -1.6216
  09AR20060102,  S04I,    44,  1,      7,      7,2,20060123,2350,-69.2072,  29.9345,  211,    150.0,  -1.6218,  34.0943,2,  34.0927,2,    327.6,2,    324.6,2,    62.00,2,    28.52,2,   2200.1,2,   -999.0,9,2,     0.96,2,    1.360,    0.000,2,  -1.6250
  09AR20060102,  S04I,    44,  1,      6,      6,2,20060123,2350,-69.2072,  29.9345,  211,    175.5,  -1.6278,  34.0999,2,  34.0966,2,    325.2,2,    324.1,2,    63.60,2,    28.68,2,   2199.0,2,   -999.0,9,2,     0.97,2,    1.237,    0.000,2,  -1.6316
  09AR20060102,  S04I,    44,  1,      5,      5,2,20060123,2350,-69.2072,  29.9345,  211,    199.4,  -1.6313,  34.0959,2,-999.0000,9,    322.0,2,   -999.0,9,  -999.00,9,  -999.00,9,   -999.0,9,   -999.0,9,2,     0.97,2,    1.076,    0.000,2,  -1.6357
  09AR20060102,  S04I,    44,  1,      4,      4,2,20060123,2350,-69.2072,  29.9345,  211,    199.4,  -1.6291,  34.0983,2,-999.0000,9,    322.0,2,   -999.0,9,  -999.00,9,  -999.00,9,   -999.0,9,   -999.0,9,2,     0.97,2,    1.066,    0.000,2,  -1.6335
  09AR20060102,  S04I,    44,  1,      3,      3,2,20060123,2350,-69.2072,  29.9345,  211,    199.7,  -1.6386,  34.1020,2,  34.1019,2,    322.0,2,   -999.0,9,    61.90,2,    28.74,2,   2199.3,2,   -999.0,9,2,     0.97,2,    1.061,    0.000,2,  -1.6430
  09AR20060102,  S04I,    44,  1,      2,      2,2,20060123,2350,-69.2072,  29.9345,  211,    209.7,  -1.6489,  34.1007,2,  34.0984,2,    323.7,2,    322.1,2,    63.70,2,    28.72,2,   2199.6,2,   -999.0,9,2,     0.97,2,    0.816,    0.000,2,  -1.6535
  09AR20060102,  S04I,    44,  1,      1,      1,2,20060123,2350,-69.2072,  29.9345,  211,    223.3,  -1.6205,  34.1042,2,  34.1031,2,    323.5,2,    324.7,2,    63.80,2,    28.53,2,   2198.5,2,   -999.0,9,2,     0.98,2,    1.846,    0.000,2,  -1.6255