BOTTLE,20220816CCHSIOAMB
EXPOCODE,SECT_ID,STNNBR,CASTNO,SAMPNO,BTLNBR,BTLNBR_FLAG_W,DATE,TIME,LATITUDE,LONGITUDE,DEPTH,CTDPRS,CTDTMP,CTDSAL,CTDSAL_FLAG_W,SALNTY,SALNTY_FLAG_W,CTDOXY,CTDOXY_FLAG_W,OXYGEN,OXYGEN_FLAG_W,SILCAT,SILCAT_FLAG_W,NITRAT,NITRAT_FLAG_W,TCARBN,TCARBN_FLAG_W,ALKALI,ALKALI_FLAG_W,FLUOR_FLAG_W,XMISS,XMISS_FLAG_W,FLUOR,PAR,PAR_FLAG_W,THETA
,,,,,,,,,,,METERS,DBAR,ITS-90,PSS-78,,PSS-78,,UMOL/KG,,UMOL/KG,,UMOL/KG,,UMOL/KG,,UMOL/KG,,UMOL/KG,,,%TRANS,,VOLTS,VOLTS,,DEG C
  09AR20060102,  S04I,    33,  1,     24,     24,2,20060121,1444,-66.5002,  29.9982, 4224,      9.4,  -1.2707,  33.3270,2,  33.5364,3,    339.4,2,    342.1,2,    60.50,2,    26.63,2,   2152.9,2,   -999.0,9,2,     0.37,2,    0.531,    0.071,2,  -1.2709
  09AR20060102,  S04I,    33,  1,     23,     23,2,20060121,1444,-66.5002,  29.9982, 4224,     20.2,  -1.4970,  34.2698,2,-999.0000,9,    328.2,2,   -999.0,9,  -999.00,9,  -999.00,9,   -999.0,9,   -999.0,9,2,     0.71,2,    0.709,    0.037,2,  -1.4974
  09AR20060102,  S04I,    33,  1,     22,     22,2,20060121,1444,-66.5002,  29.9982, 4224,     20.2,  -1.4987,  34.2722,2,-999.0000,9,    328.2,2,   -999.0,9,  -999.00,9,  -999.00,9,   -999.0,9,   -999.0,9,2,     0.71,2,    0.693,    0.035,2,  -1.4991
  09AR20060102,  S04I,    33,  1,     21,     21,2,20060121,1444,-66.5002,  29.9982, 4224,     20.1,  -1.4981,  34.2732,2,  34.2859,2,    328.2,2,    328.4,2,    62.10,2,    27.89,2,   2205.8,2,   -999.0,9,2,     0.68,2,    0.672,    0.031,2,  -1.4985
  09AR20060102,  S04I,    33,  1,     20,     20,2,20060121,1444,-66.5002,  29.9982, 4224,     39.8,  -1.6662,  34.3643,2,  34.3668,2,    316.4,2,    318.6,2,    63.50,2,    28.82,2,   2215.2,2,   -999.0,9,2,     0.81,2,    1.166,    0.009,2,  -1.6670
  09AR20060102,  S04I,    33,  1,     19,     19,2,20060121,1444,-66.5002,  29.9982, 4224,     59.9,  -1.7760,  34.3877,2,  34.3868,2,    309.3,2,    308.5,2,    64.10,2,    29.79,2,   2221.3,2,   -999.0,9,2,     0.88,2,    0.902,    0.002,2,  -1.7772
  09AR20060102,  S04I,    33,  1,     18,     18,2,20060121,1444,-66.5002,  29.9982, 4224,     89.5,  -1.7845,  34.3985,2,  34.3974,2,    305.8,2,    304.5,2,    66.20,2,    30.41,2,   2223.0,2,   -999.0,9,2,     0.80,2,    0.349,    0.000,2,  -1.7863
  09AR20060102,  S04I,    33,  1,     17,     17,2,20060121,1444,-66.5002,  29.9982, 4224,    100.2,  -1.7651,  34.4020,2,  34.4035,2,    302.9,2,    302.2,2,    66.40,2,    30.51,2,   2226.5,2,   -999.0,9,2,     0.90,2,    0.313,    0.000,2,  -1.7671
  09AR20060102,  S04I,    33,  1,     16,     16,2,20060121,1444,-66.5002,  29.9982, 4224,    119.2,  -1.6292,  34.4144,2,  34.4166,2,    296.9,2,    297.8,2,    67.50,2,    30.60,2,   -999.0,9,   -999.0,9,2,     0.94,2,    0.191,    0.000,2,  -1.6318
  09AR20060102,  S04I,    33,  1,     15,     15,2,20060121,1444,-66.5002,  29.9982, 4224,    150.5,  -0.5425,  34.4989,2,  34.5017,2,    255.9,2,    257.6,2,    75.50,2,    31.40,2,   -999.0,9,   -999.0,9,2,     0.99,2,   -0.004,    0.000,2,  -0.5473
  09AR20060102,  S04I,    33,  1,     14,     14,2,20060121,1444,-66.5002,  29.9982, 4224,    199.5,   0.5030,  34.6047,2,  34.6076,2,    218.3,2,    218.6,2,    85.10,2,    31.91,2,   -999.0,9,   -999.0,9,2,     0.99,2,   -0.036,    0.000,2,   0.4948
  09AR20060102,  S04I,    33,  1,     13,     13,2,20060121,1444,-66.5002,  29.9982, 4224,    300.5,   0.9386,  34.6671,2,  34.6670,2,    205.7,2,    206.2,2,    90.80,2,    31.62,2,   -999.0,9,   -999.0,9,2,     0.99,2,   -0.035,    0.000,2,   0.9248
  09AR20060102,  S04I,    33,  1,     12,     12,2,20060121,1444,-66.5002,  29.9982, 4224,    399.2,   0.9582,  34.6867,2,  34.6872,2,    205.6,2,    205.7,2,    93.60,2,    31.36,2,   -999.0,9,   -999.0,9,2,     0.99,2,   -0.037,    0.000,2,   0.9395
  09AR20060102,  S04I,    33,  1,     11,     11,2,20060121,1444,-66.5002,  29.9982, 4224,    500.0,   0.9673,  34.6984,2,  34.6986,2,    204.1,2,    204.4,2,    97.50,2,    31.37,2,   -999.0,9,   -999.0,9,2,     0.99,2,   -0.038,    0.000,2,   0.9434
  09AR20060102,  S04I,    33,  1,     10,     10,2,20060121,1444,-66.5002,  29.9982, 4224,    699.2,   0.8061,  34.6996,2,  34.7004,2,    205.8,2,    205.8,2,   104.10,2,    31.56,2,   -999.0,9,   -999.0,9,2,     0.99,2,   -0.043,    0.000,2,   0.7724
  09AR20060102,  S04I,    33,  1,      9,      9,2,20060121,1444,-66.5002,  29.9982, 4224,    899.1,   0.6367,  34.6939,2,  34.6945,2,    208.3,2,    207.3,2,   108.70,2,    31.92,2,   -999.0,9,   -999.0,9,2,     0.99,2,   -0.040,    0.000,2,   0.5930
  09AR20060102,  S04I,    33,  1,      8,      8,2,20060121,1444,-66.5002,  29.9982, 4224,   1301.5,   0.3602,  34.6813,2,  34.6815,2,    213.7,2,    212.9,2,   115.30,2,    32.39,2,   -999.0,9,   -999.0,9,2,     0.99,2,   -0.040,    0.000,2,   0.2954
  09AR20060102,  S04I,    33,  1,      7,      7,2,20060121,1444,-66.5002,  29.9982, 4224,   1800.1,   0.1176,  34.6705,2,  34.6705,2,    221.3,2,    221.4,2,   118.20,2,    32.50,2,   -999.0,9,   -999.0,9,2,     0.99,2,   -0.045,    0.000,2,   0.0238
  09AR20060102,  S04I,    33,  1,      6,      6,2,20060121,1444,-66.5002,  29.9982, 4224,   2298.0,  -0.0303,  34.6656,2,  34.6648,2,    227.8,2,    227.5,2,   122.40,2,    32.35,2,   -999.0,9,   -999.0,9,2,     0.99,2,   -0.045,    0.000,2,  -0.1570
  09AR20060102,  S04I,    33,  1,      5,      5,2,20060121,1444,-66.5002,  29.9982, 4224,   2502.8,  -0.0865,  34.6620,2,  34.6615,2,    230.8,2,    230.7,2,   120.90,2,    32.17,2,   -999.0,9,   -999.0,9,2,     0.99,2,   -0.047,    0.000,2,  -0.2276
  09AR20060102,  S04I,    33,  1,      4,      4,2,20060121,1444,-66.5002,  29.9982, 4224,   3298.8,  -0.1955,  34.6567,2,  34.6556,2,    238.2,2,    238.4,2,   120.50,2,    31.96,2,   -999.0,9,   -999.0,9,2,     0.99,2,   -0.049,    0.000,2,  -0.4002
  09AR20060102,  S04I,    33,  1,      3,      3,2,20060121,1444,-66.5002,  29.9982, 4224,   3800.1,  -0.2437,  34.6534,2,  34.6523,2,    242.2,2,    242.4,2,   120.70,2,    31.89,2,   -999.0,9,   -999.0,9,2,     0.99,2,   -0.050,    0.000,2,  -0.4933
  09AR20060102,  S04I,    33,  1,      2,      2,2,20060121,1444,-66.5002,  29.9982, 4224,   4300.9,  -0.2886,  34.6533,2,  34.6519,2,    243.5,2,    243.5,2,   129.50,2,    32.05,2,   -999.0,9,   -999.0,9,2,     0.99,2,   -0.048,    0.000,2,  -0.5865
  09AR20060102,  S04I,    33,  1,      1,      1,2,20060121,1444,-66.5002,  29.9982, 4224,   4342.0,  -0.3071,  34.6534,2,  34.6531,2,    243.1,2,    242.7,2,   132.40,2,    32.09,2,   -999.0,9,   -999.0,9,2,     0.99,2,   -0.050,    0.000,2,  -0.6086
  09AR20060102,  S04I,    34,  1,     24,     24,2,20060121,2113,-66.9995,  29.9988, 4029,      9.7,  -1.2501,  33.5098,2,  33.6770,3,    343.4,2,    341.9,2,    60.70,2,    26.85,2,   2159.7,2,   2278.2,2,2,     0.96,2,    0.462,    0.001,2,  -1.2503
  09AR20060102,  S04I,    34,  1,     23,     23,2,20060121,2113,-66.9995,  29.9988, 4029,     19.2,  -1.5167,  34.3007,2,-999.0000,9,    325.5,2,   -999.0,9,  -999.00,9,  -999.00,9,   -999.0,9,   -999.0,9,2,     0.96,2,    0.604,    0.000,2,  -1.5171
  09AR20060102,  S04I,    34,  1,     22,     22,2,20060121,2113,-66.9995,  29.9988, 4029,     19.1,  -1.5131,  34.2961,2,-999.0000,9,    325.5,2,   -999.0,9,  -999.00,9,  -999.00,9,   -999.0,9,   -999.0,9,2,     0.96,2,    0.594,    0.000,2,  -1.5135
  09AR20060102,  S04I,    34,  1,     21,     21,2,20060121,2113,-66.9995,  29.9988, 4029,     19.1,  -1.4843,  34.1997,2,  34.2309,3,    325.5,2,    328.6,2,    62.30,2,    28.31,2,   2201.6,6,   -999.0,9,2,     0.96,2,    0.639,    0.000,2,  -1.4847
  09AR20060102,  S04I,    34,  1,     20,     20,2,20060121,2113,-66.9995,  29.9988, 4029,     48.9,  -1.7870,  34.3727,2,  34.3656,2,    317.8,2,    318.7,2,    64.60,2,    29.64,2,   2216.5,2,   -999.0,9,2,     0.98,2,    0.513,    0.000,2,  -1.7880
  09AR20060102,  S04I,    34,  1,     19,     19,2,20060121,2113,-66.9995,  29.9988, 4029,     69.4,  -1.8270,  34.3764,2,  34.3676,2,    310.8,2,    315.6,2,    64.60,2,    30.11,2,   2217.4,2,   -999.0,9,2,     0.98,2,    0.374,    0.000,2,  -1.8283
  09AR20060102,  S04I,    34,  1,     18,     18,2,20060121,2113,-66.9995,  29.9988, 4029,     89.7,  -1.8317,  34.3801,2,  34.3797,2,    307.4,2,    309.0,2,    64.90,2,    30.27,2,   2220.6,2,   -999.0,9,2,     0.99,2,    0.357,    0.000,2,  -1.8335
  09AR20060102,  S04I,    34,  1,     17,     17,2,20060121,2113,-66.9995,  29.9988, 4029,    110.1,  -1.8181,  34.3855,2,  34.3854,2,    301.7,2,    298.2,2,    65.00,2,    30.29,2,   2222.0,2,   -999.0,9,2,     0.99,2,    0.291,    0.000,2,  -1.8203
  09AR20060102,  S04I,    34,  1,     16,     16,2,20060121,2113,-66.9995,  29.9988, 4029,    129.2,  -1.7867,  34.3902,2,  34.3884,2,    304.2,2,    297.8,2,    64.90,2,    30.27,2,   2219.1,2,   -999.0,9,2,     0.99,2,    0.102,    0.000,2,  -1.7893
  09AR20060102,  S04I,    34,  1,     15,     15,2,20060121,2113,-66.9995,  29.9988, 4029,    159.7,  -1.5778,  34.4086,2,  34.4184,2,    301.1,2,    298.0,2,    67.40,2,    30.55,2,   2225.7,2,   -999.0,9,2,     0.99,2,    0.003,    0.000,2,  -1.5814
  09AR20060102,  S04I,    34,  1,     14,     14,2,20060121,2113,-66.9995,  29.9988, 4029,    198.5,  -0.4965,  34.5039,2,  34.5111,2,    263.0,2,    258.2,2,    75.50,2,    31.17,2,   2235.8,2,   -999.0,9,2,     0.99,2,   -0.039,    0.000,2,  -0.5029
  09AR20060102,  S04I,    34,  1,     13,     13,2,20060121,2113,-66.9995,  29.9988, 4029,    300.1,   0.7355,  34.6413,2,  34.6431,2,    211.5,2,    212.7,2,    87.50,2,    31.64,2,   2249.9,2,   -999.0,9,2,     0.99,2,   -0.039,    0.000,2,   0.7223
  09AR20060102,  S04I,    34,  1,     12,     12,2,20060121,2113,-66.9995,  29.9988, 4029,    401.1,   0.8505,  34.6719,2,  34.6727,2,    211.5,2,    208.1,2,    91.50,2,    31.45,2,   2251.7,2,   -999.0,9,2,     0.99,2,   -0.040,    0.000,2,   0.8321
  09AR20060102,  S04I,    34,  1,     11,     11,2,20060121,2113,-66.9995,  29.9988, 4029,    500.9,   0.6330,  34.6658,2,  34.6664,2,    209.7,2,    212.9,2,    92.90,2,    31.25,2,   2250.9,6,   -999.0,9,2,     0.99,2,   -0.036,    0.000,2,   0.6105
  09AR20060102,  S04I,    34,  1,     10,     10,2,20060121,2113,-66.9995,  29.9988, 4029,    598.3,   0.6091,  34.6730,2,  34.6746,2,    213.8,2,    215.0,2,    96.40,2,    31.37,2,   2251.3,2,   -999.0,9,2,     0.99,2,   -0.038,    0.000,2,   0.5818
  09AR20060102,  S04I,    34,  1,      9,      9,2,20060121,2113,-66.9995,  29.9988, 4029,    799.3,   0.6250,  34.6888,2,  34.6884,2,    210.4,2,   -999.0,9,   105.10,2,    31.75,2,   2261.8,2,   -999.0,9,2,     0.99,2,   -0.036,    0.000,2,   0.5870
  09AR20060102,  S04I,    34,  1,      8,      8,2,20060121,2113,-66.9995,  29.9988, 4029,   1000.0,   0.4640,  34.6832,2,  34.6839,2,    209.7,2,    212.4,2,   112.00,2,    32.03,2,   2252.8,2,   -999.0,9,2,     0.99,2,   -0.039,    0.000,2,   0.4160
  09AR20060102,  S04I,    34,  1,      7,      7,2,20060121,2113,-66.9995,  29.9988, 4029,   1499.6,   0.2343,  34.6772,2,  34.6772,2,    213.8,2,    216.4,2,   120.00,2,    32.32,2,   2258.7,2,   -999.0,9,2,     0.99,2,   -0.045,    0.000,2,   0.1586
  09AR20060102,  S04I,    34,  1,      6,      6,2,20060121,2113,-66.9995,  29.9988, 4029,   1999.5,  -0.0042,  34.6646,2,  34.6641,2,    225.8,2,    227.1,2,   119.00,2,    32.06,2,   2255.0,2,   -999.0,9,2,     0.99,2,   -0.045,    0.000,2,  -0.1098
  09AR20060102,  S04I,    34,  1,      5,      5,2,20060121,2113,-66.9995,  29.9988, 4029,   2497.5,  -0.1272,  34.6556,2,  34.6552,2,    234.1,2,    233.2,2,   115.00,3,    31.87,2,   2252.8,2,   -999.0,9,2,     0.99,2,   -0.046,    0.000,2,  -0.2671
  09AR20060102,  S04I,    34,  1,      4,      4,2,20060121,2113,-66.9995,  29.9988, 4029,   2999.7,  -0.1569,  34.6591,2,  34.6582,2,    235.3,2,   -999.0,9,   119.70,2,    31.99,2,   2255.9,2,   -999.0,9,2,     0.99,2,   -0.046,    0.000,2,  -0.3367
  09AR20060102,  S04I,    34,  1,      3,      3,2,20060121,2113,-66.9995,  29.9988, 4029,   3499.8,  -0.2059,  34.6568,2,  34.6525,2,    239.3,2,    238.2,2,   119.90,2,    32.02,2,   2251.6,2,   -999.0,9,2,     0.99,2,   -0.047,    0.000,2,  -0.4284
  09AR20060102,  S04I,    34,  1,      2,      2,2,20060121,2113,-66.9995,  29.9988, 4029,   4000.0,  -0.2620,  34.6530,2,  34.6525,2,    243.4,2,    243.4,2,   122.50,2,    31.99,2,   2251.4,2,   -999.0,9,2,     0.99,2,   -0.046,    0.000,2,  -0.5305
  09AR20060102,  S04I,    34,  1,      1,      1,2,20060121,2113,-66.9995,  29.9988, 4029,   4165.4,  -0.3094,  34.6535,2,  34.6531,2,    243.6,2,   -999.0,9,   130.70,2,    32.12,2,   2252.9,6,   -999.0,9,2,     0.99,2,   -0.049,    0.000,2,  -0.5929
  09AR20060102,  S04I,    35,  1,     24,     24,2,20060122,0441,-67.5007,  29.9995, 3559,      9.4,  -1.3595,  33.4628,2,  33.6102,3,    336.4,2,    340.1,2,    60.80,2,    26.74,2,   2157.5,2,   -999.0,9,2,     0.78,2,    0.646,    0.279,2,  -1.3597
  09AR20060102,  S04I,    35,  1,     23,     23,2,20060122,0441,-67.5007,  29.9995, 3559,     18.9,  -1.3334,  33.8635,2,-999.0000,9,    332.4,2,   -999.0,9,  -999.00,9,  -999.00,9,   -999.0,9,   -999.0,9,2,     0.94,2,    0.961,    0.123,2,  -1.3338
  09AR20060102,  S04I,    35,  1,     22,     22,2,20060122,0441,-67.5007,  29.9995, 3559,     18.9,  -1.3320,  33.8283,2,-999.0000,9,    332.4,2,   -999.0,9,  -999.00,9,  -999.00,9,   -999.0,9,   -999.0,9,2,     0.94,2,    0.946,    0.127,2,  -1.3324
  09AR20060102,  S04I,    35,  1,     21,     21,2,20060122,0441,-67.5007,  29.9995, 3559,     18.8,  -1.3286,  33.8608,2,  34.0764,3,    332.4,2,    327.4,2,    61.80,2,    27.64,2,   2191.0,2,   -999.0,9,2,     0.93,2,    1.036,    0.134,2,  -1.3290
  09AR20060102,  S04I,    35,  1,     20,     20,2,20060122,0441,-67.5007,  29.9995, 3559,     24.8,  -1.3923,  34.2227,2,  34.2336,2,    320.5,2,    322.9,2,    63.20,2,    28.02,2,   2203.1,2,   -999.0,9,2,     0.94,2,    1.237,    0.087,2,  -1.3929
  09AR20060102,  S04I,    35,  1,     19,     19,2,20060122,0441,-67.5007,  29.9995, 3559,     30.2,  -1.5223,  34.2894,2,  34.2977,2,    315.6,2,    322.9,2,    65.00,2,    28.08,2,   2205.6,2,   -999.0,9,2,     0.94,2,    1.281,    0.059,2,  -1.5230
  09AR20060102,  S04I,    35,  1,     18,     18,2,20060122,0441,-67.5007,  29.9995, 3559,     40.2,  -1.5857,  34.3238,2,  34.3263,2,    308.9,2,    325.5,3,    64.80,2,    28.13,2,   2207.3,2,   -999.0,9,2,     0.94,2,    1.543,    0.030,2,  -1.5866
  09AR20060102,  S04I,    35,  1,     17,     17,2,20060122,0441,-67.5007,  29.9995, 3559,     60.5,  -1.7301,  34.3634,2,  34.3678,2,    311.1,2,    318.9,2,    65.40,2,    29.15,2,   2215.6,2,   -999.0,9,2,     0.96,2,    2.326,    0.007,2,  -1.7313
  09AR20060102,  S04I,    35,  1,     16,     16,2,20060122,0441,-67.5007,  29.9995, 3559,     79.3,  -1.8026,  34.3811,2,  34.3813,2,    312.8,2,    312.3,2,    65.80,2,    30.03,2,   -999.0,9,   -999.0,9,2,     0.98,2,    0.766,    0.001,2,  -1.8042
  09AR20060102,  S04I,    35,  1,     15,     15,2,20060122,0441,-67.5007,  29.9995, 3559,     99.4,  -1.8166,  34.3903,2,  34.3915,2,    314.3,2,    308.1,2,    66.70,2,    30.41,2,   -999.0,9,   -999.0,9,2,     0.99,2,    0.292,    0.000,2,  -1.8186
  09AR20060102,  S04I,    35,  1,     14,     14,2,20060122,0441,-67.5007,  29.9995, 3559,    138.9,  -1.7587,  34.4036,2,  34.4025,2,    312.3,2,    305.2,2,    67.00,2,    30.63,2,   -999.0,9,   -999.0,9,2,     0.99,2,    0.086,    0.000,2,  -1.7616
  09AR20060102,  S04I,    35,  1,     13,     13,2,20060122,0441,-67.5007,  29.9995, 3559,    199.6,  -0.3684,  34.5217,2,  34.5270,2,    263.8,2,    253.4,2,    76.00,2,    31.19,2,   -999.0,9,   -999.0,9,2,     0.99,2,   -0.034,    0.000,2,  -0.3751
  09AR20060102,  S04I,    35,  1,     12,     12,2,20060122,0441,-67.5007,  29.9995, 3559,    300.0,   0.6726,  34.6396,2,  34.6417,2,    212.1,2,    216.3,2,    85.60,2,    31.33,2,   -999.0,9,   -999.0,9,2,     0.99,2,   -0.038,    0.000,2,   0.6595
  09AR20060102,  S04I,    35,  1,     11,     11,2,20060122,0441,-67.5007,  29.9995, 3559,    399.4,   0.8699,  34.6745,2,  34.6756,2,    207.8,2,    210.1,2,    91.00,2,    31.21,2,   -999.0,9,   -999.0,9,2,     0.99,2,   -0.035,    0.000,2,   0.8515
  09AR20060102,  S04I,    35,  1,     10,     10,2,20060122,0441,-67.5007,  29.9995, 3559,    500.4,   0.7796,  34.6789,2,  34.6799,2,    214.8,2,    211.7,2,    95.30,2,    31.15,2,   -999.0,9,   -999.0,9,2,     0.99,2,   -0.039,    0.000,2,   0.7565
  09AR20060102,  S04I,    35,  1,      9,      9,2,20060122,0441,-67.5007,  29.9995, 3559,    599.9,   0.8721,  34.6979,2,  34.6978,2,    209.7,2,    206.2,2,   101.70,2,    31.29,2,   -999.0,9,   -999.0,9,2,     0.99,2,   -0.024,    0.000,2,   0.8434
  09AR20060102,  S04I,    35,  1,      8,      8,2,20060122,0441,-67.5007,  29.9995, 3559,    799.6,   0.6954,  34.6938,2,  34.6950,2,    207.0,2,    208.0,2,   106.90,2,    31.55,2,   -999.0,9,   -999.0,9,2,     0.99,2,   -0.037,    0.000,2,   0.6569
  09AR20060102,  S04I,    35,  1,      7,      7,2,20060122,0441,-67.5007,  29.9995, 3559,    999.6,   0.5010,  34.6841,2,  34.6844,2,    211.0,2,    212.2,2,   110.10,2,    31.77,2,   -999.0,9,   -999.0,9,2,     0.99,2,   -0.041,    0.000,2,   0.4527
  09AR20060102,  S04I,    35,  1,      6,      6,2,20060122,0441,-67.5007,  29.9995, 3559,   1500.3,   0.2090,  34.6723,2,  34.6723,2,    218.5,2,    219.2,2,   117.20,2,    32.02,2,   -999.0,9,   -999.0,9,2,     0.99,2,   -0.046,    0.000,2,   0.1336
  09AR20060102,  S04I,    35,  1,      5,      5,2,20060122,0441,-67.5007,  29.9995, 3559,   1999.5,   0.0226,  34.6665,2,  34.6668,2,    225.9,2,    225.5,2,   119.30,2,    31.97,2,   -999.0,9,   -999.0,9,2,     0.99,2,   -0.042,    0.000,2,  -0.0834
  09AR20060102,  S04I,    35,  1,      4,      4,2,20060122,0441,-67.5007,  29.9995, 3559,   2501.0,  -0.0986,  34.6617,2,  34.6615,2,    232.3,2,    231.6,2,   118.90,2,    31.92,2,   -999.0,9,   -999.0,9,2,     0.99,2,   -0.046,    0.000,2,  -0.2394
  09AR20060102,  S04I,    35,  1,      3,      3,2,20060122,0441,-67.5007,  29.9995, 3559,   2999.5,  -0.1761,  34.6572,2,  34.6558,2,    237.1,2,    237.2,2,   117.80,2,    31.81,2,   -999.0,9,   -999.0,9,2,     0.99,2,   -0.046,    0.000,2,  -0.3554
  09AR20060102,  S04I,    35,  1,      2,      2,2,20060122,0441,-67.5007,  29.9995, 3559,   3500.0,  -0.2368,  34.6536,2,  34.6609,2,    241.4,2,   -999.0,9,   118.90,2,    31.93,2,   -999.0,9,   -999.0,9,2,     0.99,2,   -0.047,    0.000,2,  -0.4586
  09AR20060102,  S04I,    35,  1,      1,      1,2,20060122,0441,-67.5007,  29.9995, 3559,   3639.4,  -0.3058,  34.6528,2,  34.6513,2,    242.8,2,    242.9,2,   123.60,2,    31.86,2,   -999.0,9,   -999.0,9,2,     0.99,2,   -0.050,    0.000,2,  -0.5386