BOTTLE,20220816CCHSIOAMB
EXPOCODE,SECT_ID,STNNBR,CASTNO,SAMPNO,BTLNBR,BTLNBR_FLAG_W,DATE,TIME,LATITUDE,LONGITUDE,DEPTH,CTDPRS,CTDTMP,CTDSAL,CTDSAL_FLAG_W,SALNTY,SALNTY_FLAG_W,CTDOXY,CTDOXY_FLAG_W,OXYGEN,OXYGEN_FLAG_W,SILCAT,SILCAT_FLAG_W,NITRAT,NITRAT_FLAG_W,TCARBN,TCARBN_FLAG_W,ALKALI,ALKALI_FLAG_W,FLUOR_FLAG_W,XMISS,XMISS_FLAG_W,FLUOR,PAR,PAR_FLAG_W,THETA
,,,,,,,,,,,METERS,DBAR,ITS-90,PSS-78,,PSS-78,,UMOL/KG,,UMOL/KG,,UMOL/KG,,UMOL/KG,,UMOL/KG,,UMOL/KG,,,%TRANS,,VOLTS,VOLTS,,DEG C
  09AR20060102,  S04I,    30,  1,     24,     24,2,20060120,1504,-64.6665,  30.0033, 4965,      9.5,   0.6571,  33.4355,2,  33.4363,2,    340.0,2,    340.5,2,    56.10,2,    26.33,2,   2148.2,2,   2262.4,2,2,     0.32,2,    0.149,    0.070,2,   0.6567
  09AR20060102,  S04I,    30,  1,     23,     23,2,20060120,1504,-64.6665,  30.0033, 4965,      9.5,   0.6665,  33.4321,2,-999.0000,9,    340.0,2,   -999.0,9,  -999.00,9,  -999.00,9,   -999.0,9,   -999.0,9,2,     0.24,2,    0.137,    0.065,2,   0.6661
  09AR20060102,  S04I,    30,  1,     22,     22,2,20060120,1504,-64.6665,  30.0033, 4965,     18.3,  -0.2582,  33.7938,2,-999.0000,9,    339.4,2,   -999.0,9,  -999.00,9,  -999.00,9,   -999.0,9,   -999.0,9,2,     0.46,2,    0.305,    0.040,2,  -0.2588
  09AR20060102,  S04I,    30,  1,     21,     21,2,20060120,1504,-64.6665,  30.0033, 4965,     39.5,  -1.4346,  34.2486,2,  34.2509,2,    323.2,2,    323.7,2,    58.60,2,    27.52,2,   2202.8,6,   -999.0,9,2,     0.94,2,    0.526,    0.017,2,  -1.4355
  09AR20060102,  S04I,    30,  1,     20,     20,2,20060120,1504,-64.6665,  30.0033, 4965,     59.1,  -1.6147,  34.2806,2,  34.2808,2,    316.2,2,    316.0,2,    61.20,2,    28.12,2,   2207.6,2,   -999.0,9,2,     0.97,2,    0.689,    0.006,2,  -1.6159
  09AR20060102,  S04I,    30,  1,     19,     19,2,20060120,1504,-64.6665,  30.0033, 4965,     79.3,  -1.5768,  34.3169,2,  34.3176,2,    307.5,2,    306.4,2,    63.80,2,    28.96,2,   2213.3,2,   -999.0,9,2,     0.98,2,    0.886,    0.002,2,  -1.5785
  09AR20060102,  S04I,    30,  1,     18,     18,2,20060120,1504,-64.6665,  30.0033, 4965,    100.1,  -1.4375,  34.3735,2,  34.3776,2,    294.0,2,    295.7,2,    67.30,2,    30.02,2,   2222.6,2,   -999.0,9,2,     0.98,2,    1.283,    0.000,2,  -1.4398
  09AR20060102,  S04I,    30,  1,     17,     17,2,20060120,1504,-64.6665,  30.0033, 4965,    129.1,  -0.4482,  34.4797,2,  34.4815,2,    276.4,2,    255.9,3,    75.10,2,    31.58,2,   2239.3,2,   -999.0,9,2,     0.99,2,    0.267,    0.000,2,  -0.4524
  09AR20060102,  S04I,    30,  1,     16,     16,2,20060120,1504,-64.6665,  30.0033, 4965,    151.7,   0.4639,  34.5614,2,  34.5611,2,    229.4,2,    219.6,3,    82.60,2,    32.43,2,   2246.9,2,   -999.0,9,2,     0.99,2,    0.102,    0.000,2,   0.4578
  09AR20060102,  S04I,    30,  1,     15,     15,2,20060120,1504,-64.6665,  30.0033, 4965,    199.0,   1.1041,  34.6357,2,  34.6384,2,    198.3,2,    198.0,2,    88.30,2,    32.40,2,   2256.3,2,   -999.0,9,2,     0.99,2,   -0.034,    0.000,2,   1.0949
  09AR20060102,  S04I,    30,  1,     14,     14,2,20060120,1504,-64.6665,  30.0033, 4965,    300.6,   1.2944,  34.6889,2,  34.6888,2,    195.3,2,    194.9,2,    92.10,2,    31.80,2,   2254.7,2,   -999.0,9,2,     0.99,2,   -0.034,    0.000,2,   1.2797
  09AR20060102,  S04I,    30,  1,     13,     13,2,20060120,1504,-64.6665,  30.0033, 4965,    398.9,   1.2841,  34.7076,2,  34.7082,2,    195.2,2,    196.2,2,    94.20,2,    31.39,2,   2254.5,2,   -999.0,9,2,     0.99,2,   -0.037,    0.000,2,   1.2643
  09AR20060102,  S04I,    30,  1,     12,     12,2,20060120,1504,-64.6665,  30.0033, 4965,    499.5,   1.2013,  34.7145,2,  34.7147,2,    197.4,2,    197.4,2,    99.40,2,    31.36,2,   2257.9,2,   -999.0,9,2,     0.99,2,   -0.038,    0.000,2,   1.1764
  09AR20060102,  S04I,    30,  1,     11,     11,2,20060120,1504,-64.6665,  30.0033, 4965,    699.3,   0.9704,  34.7110,2,  34.7111,2,    201.1,2,    200.8,2,   105.50,2,    31.55,2,   2257.6,6,   -999.0,9,2,     0.99,2,   -0.041,    0.000,2,   0.9357
  09AR20060102,  S04I,    30,  1,     10,     10,2,20060120,1504,-64.6665,  30.0033, 4965,   1099.1,   0.6211,  34.6973,2,  34.6970,2,    204.9,2,    204.6,2,   116.00,2,    32.18,2,   2261.9,2,   -999.0,9,2,     0.99,2,   -0.039,    0.000,2,   0.5660
  09AR20060102,  S04I,    30,  1,      9,      9,2,20060120,1504,-64.6665,  30.0033, 4965,   1498.5,   0.3943,  34.6869,2,  34.6868,2,    209.2,2,    208.6,2,   121.20,2,    32.47,2,   2262.1,2,   -999.0,9,2,     0.99,2,   -0.041,    0.000,2,   0.3168
  09AR20060102,  S04I,    30,  1,      8,      8,2,20060120,1504,-64.6665,  30.0033, 4965,   1999.7,   0.1987,  34.6777,2,  34.6774,2,    216.1,2,    217.2,2,   123.90,2,    32.44,2,   2261.6,2,   -999.0,9,2,     0.99,2,   -0.044,    0.000,2,   0.0899
  09AR20060102,  S04I,    30,  1,      7,      7,2,20060120,1504,-64.6665,  30.0033, 4965,   2499.3,   0.0249,  34.6692,2,  34.6686,2,    224.1,2,    224.2,2,   123.80,2,    32.26,2,   2257.8,2,   -999.0,9,2,     0.99,2,   -0.042,    0.000,2,  -0.1181
  09AR20060102,  S04I,    30,  1,      6,      6,2,20060120,1504,-64.6665,  30.0033, 4965,   2998.6,  -0.1018,  34.6647,2,  34.6638,2,    229.9,2,    230.3,2,   125.50,2,    32.20,2,   2254.8,2,   -999.0,9,2,     0.99,2,   -0.045,    0.000,2,  -0.2828
  09AR20060102,  S04I,    30,  1,      5,      5,2,20060120,1504,-64.6665,  30.0033, 4965,   3498.6,  -0.1821,  34.6611,2,  34.6601,2,    235.3,2,    235.2,2,   124.50,2,    32.09,2,   2255.3,2,   -999.0,9,2,     0.99,2,   -0.048,    0.000,2,  -0.4052
  09AR20060102,  S04I,    30,  1,      4,      4,2,20060120,1504,-64.6665,  30.0033, 4965,   3999.2,  -0.2388,  34.6577,2,  34.6566,2,    239.6,2,    240.0,2,   125.60,2,    32.01,2,   2250.3,2,   -999.0,9,2,     0.99,2,   -0.036,    0.000,2,  -0.5079
  09AR20060102,  S04I,    30,  1,      3,      3,2,20060120,1504,-64.6665,  30.0033, 4965,   4498.4,  -0.2677,  34.6554,2,  34.6546,2,    242.1,2,    242.7,2,   127.30,2,    31.92,2,   2252.1,2,   -999.0,9,2,     0.99,2,   -0.050,    0.000,2,  -0.5868
  09AR20060102,  S04I,    30,  1,      2,      2,2,20060120,1504,-64.6665,  30.0033, 4965,   4998.8,  -0.2952,  34.6527,2,  34.6523,2,    243.9,2,    243.8,2,   134.30,2,    31.97,2,   2253.9,2,   -999.0,9,2,     0.99,2,   -0.049,    0.000,2,  -0.6677
  09AR20060102,  S04I,    30,  1,      1,      1,2,20060120,1504,-64.6665,  30.0033, 4965,   5065.9,  -0.3069,  34.6520,2,  34.6523,2,    244.4,2,    244.7,2,   136.90,2,    31.94,2,   2252.6,6,   -999.0,9,2,     0.99,2,   -0.047,    0.000,2,  -0.6865
  09AR20060102,  S04I,    31,  1,     24,     24,2,20060120,2313,-65.3338,  30.0043, 4804,      9.6,   0.3307,  33.3930,2,  33.4715,3,    317.1,3,   -999.0,9,    57.50,2,    26.70,2,   2156.0,2,   -999.0,9,2,     0.06,2,    0.122,    0.037,2,   0.3304
  09AR20060102,  S04I,    31,  1,     23,     23,2,20060120,2313,-65.3338,  30.0043, 4804,     29.6,  -1.4437,  34.2426,2,-999.0000,9,    320.5,2,   -999.0,9,  -999.00,9,  -999.00,9,   -999.0,9,   -999.0,9,2,     0.44,2,    0.352,    0.013,2,  -1.4444
  09AR20060102,  S04I,    31,  1,     22,     22,2,20060120,2313,-65.3338,  30.0043, 4804,     29.7,  -1.4022,  34.2372,2,-999.0000,9,    320.5,2,   -999.0,9,  -999.00,9,  -999.00,9,   -999.0,9,   -999.0,9,2,     0.45,2,    0.349,    0.013,2,  -1.4029
  09AR20060102,  S04I,    31,  1,     21,     21,2,20060120,2313,-65.3338,  30.0043, 4804,     29.5,  -1.3911,  34.2362,2,  34.2305,2,    320.5,2,   -999.0,9,    57.50,2,    27.75,2,   2205.4,2,   -999.0,9,2,     0.44,2,    0.369,    0.013,2,  -1.3918
  09AR20060102,  S04I,    31,  1,     20,     20,2,20060120,2313,-65.3338,  30.0043, 4804,     70.1,  -1.7010,  34.2782,2,  34.2738,2,    315.3,2,    314.9,2,    60.00,2,    28.76,2,   2212.4,2,   -999.0,9,2,     0.96,2,    0.575,    0.001,2,  -1.7024
  09AR20060102,  S04I,    31,  1,     19,     19,2,20060120,2313,-65.3338,  30.0043, 4804,     49.7,  -1.5926,  34.2618,2,  34.2548,2,    318.8,2,   -999.0,9,    57.90,2,    28.16,2,   2205.2,2,   -999.0,9,2,     0.85,2,    0.480,    0.005,2,  -1.5936
  09AR20060102,  S04I,    31,  1,     18,     18,2,20060120,2313,-65.3338,  30.0043, 4804,     89.1,  -1.6333,  34.3023,2,  34.3027,2,    303.9,2,    308.6,2,    61.00,2,    28.95,2,   2215.4,2,   -999.0,9,2,     0.97,2,    0.867,    0.000,2,  -1.6352
  09AR20060102,  S04I,    31,  1,     17,     17,2,20060120,2313,-65.3338,  30.0043, 4804,    119.9,  -1.0454,  34.4096,2,  34.4009,2,    312.3,2,    292.2,2,    67.50,2,    30.30,2,   2225.5,2,   -999.0,9,2,     0.98,2,    1.019,    0.000,2,  -1.0486
  09AR20060102,  S04I,    31,  1,     16,     16,2,20060120,2313,-65.3338,  30.0043, 4804,    141.4,  -0.7790,  34.4569,2,  34.4495,2,    257.4,2,    275.5,3,    70.80,2,    31.27,2,   2239.0,2,   -999.0,9,2,     0.99,2,    0.366,    0.000,2,  -0.7832
  09AR20060102,  S04I,    31,  1,     15,     15,2,20060120,2313,-65.3338,  30.0043, 4804,    200.1,   1.0042,  34.6285,2,  34.6291,2,    204.9,2,    200.4,2,    87.40,2,    32.50,2,   2256.9,2,   -999.0,9,2,     0.99,2,   -0.030,    0.000,2,   0.9951
  09AR20060102,  S04I,    31,  1,     14,     14,2,20060120,2313,-65.3338,  30.0043, 4804,    300.0,   1.1079,  34.6699,2,  34.6703,2,    199.6,2,   -999.0,9,    91.30,2,    31.90,2,   -999.0,9,   -999.0,9,2,     0.99,2,   -0.037,    0.000,2,   1.0937
  09AR20060102,  S04I,    31,  1,     13,     13,2,20060120,2313,-65.3338,  30.0043, 4804,    401.4,   1.1654,  34.6944,2,  34.6947,2,    198.2,2,    199.5,2,    94.80,2,    31.60,2,   -999.0,9,   -999.0,9,2,     0.99,2,   -0.035,    0.000,2,   1.1459
  09AR20060102,  S04I,    31,  1,     12,     12,2,20060120,2313,-65.3338,  30.0043, 4804,    499.6,   1.1603,  34.7092,2,  34.7100,2,    198.5,2,    199.6,2,    98.70,2,    31.55,2,   -999.0,9,   -999.0,9,2,     0.99,2,   -0.036,    0.000,2,   1.1356
  09AR20060102,  S04I,    31,  1,     11,     11,2,20060120,2313,-65.3338,  30.0043, 4804,    700.1,   0.9694,  34.7092,2,  34.7070,2,    200.8,2,    202.1,2,   105.10,2,    31.70,2,   -999.0,9,   -999.0,9,2,     0.99,2,   -0.039,    0.000,2,   0.9347
  09AR20060102,  S04I,    31,  1,     10,     10,2,20060120,2313,-65.3338,  30.0043, 4804,   1100.9,   0.6388,  34.6974,2,  34.6982,2,    205.2,2,    205.8,2,   112.80,2,    32.23,2,   -999.0,9,   -999.0,9,2,     0.99,2,   -0.038,    0.000,2,   0.5834
  09AR20060102,  S04I,    31,  1,      9,      9,2,20060120,2313,-65.3338,  30.0043, 4804,   1498.6,   0.3988,  34.6861,2,  34.6819,2,    210.2,2,    210.0,2,   120.10,2,    32.55,2,   -999.0,9,   -999.0,9,2,     0.99,2,   -0.041,    0.000,2,   0.3212
  09AR20060102,  S04I,    31,  1,      8,      8,2,20060120,2313,-65.3338,  30.0043, 4804,   2000.6,   0.1963,  34.6775,2,  34.6815,2,    215.5,2,   -999.0,9,   124.40,2,    32.70,2,   -999.0,9,   -999.0,9,2,     0.99,2,   -0.045,    0.000,2,   0.0874
  09AR20060102,  S04I,    31,  1,      7,      7,2,20060120,2313,-65.3338,  30.0043, 4804,   2502.2,   0.0247,  34.6698,2,  34.6693,2,    223.8,2,   -999.0,9,   125.30,2,    32.59,2,   -999.0,9,   -999.0,9,2,     0.99,2,   -0.047,    0.000,2,  -0.1186
  09AR20060102,  S04I,    31,  1,      6,      6,2,20060120,2313,-65.3338,  30.0043, 4804,   2999.7,  -0.1162,  34.6621,2,  34.6611,2,    232.7,2,    232.3,2,   122.20,2,    32.30,2,   -999.0,9,   -999.0,9,2,     0.99,2,   -0.043,    0.000,2,  -0.2969
  09AR20060102,  S04I,    31,  1,      5,      5,2,20060120,2313,-65.3338,  30.0043, 4804,   3500.1,  -0.1808,  34.6604,2,  34.6493,2,    237.2,2,    236.1,2,   123.10,2,    32.19,2,   -999.0,9,   -999.0,9,2,     0.99,2,   -0.050,    0.000,2,  -0.4040
  09AR20060102,  S04I,    31,  1,      4,      4,2,20060120,2313,-65.3338,  30.0043, 4804,   4000.1,  -0.2389,  34.6561,2,  34.6556,2,    242.6,2,    242.9,2,   123.40,2,    32.07,2,   -999.0,9,   -999.0,9,2,     0.99,2,   -0.045,    0.000,2,  -0.5081
  09AR20060102,  S04I,    31,  1,      3,      3,2,20060120,2313,-65.3338,  30.0043, 4804,   4500.7,  -0.2741,  34.6529,2,  34.6527,2,    243.6,2,    243.6,2,   126.50,2,    32.07,2,   -999.0,9,   -999.0,9,2,     0.99,2,   -0.049,    0.000,2,  -0.5932
  09AR20060102,  S04I,    31,  1,      2,      2,2,20060120,2313,-65.3338,  30.0043, 4804,   4887.9,  -0.2987,  34.6529,2,  34.6521,2,    244.5,2,    243.7,2,   137.40,2,    32.20,2,   -999.0,9,   -999.0,9,2,     0.99,2,   -0.049,    0.000,2,  -0.6587
  09AR20060102,  S04I,    31,  1,      1,      1,2,20060120,2313,-65.3338,  30.0043, 4804,   4906.5,  -0.3025,  34.6528,2,  34.6523,2,    244.9,2,    243.7,2,   137.30,2,    32.10,2,   -999.0,9,   -999.0,9,2,     0.99,2,   -0.049,    0.000,2,  -0.6644
  09AR20060102,  S04I,    32,  1,     24,     24,2,20060121,0738,-65.9993,  30.0002, 4484,      9.5,   0.2343,  33.5206,2,  33.5888,3,    341.2,2,    342.8,2,    61.30,2,    27.63,2,   2160.2,2,   2275.0,2,2,     0.32,2,   -0.019,    0.325,2,   0.2340
  09AR20060102,  S04I,    32,  1,     23,     23,2,20060121,0738,-65.9993,  30.0002, 4484,      9.3,   0.1071,  33.5695,2,-999.0000,9,    341.2,2,   -999.0,9,  -999.00,9,  -999.00,9,   -999.0,9,   -999.0,9,2,     0.37,2,    0.000,    0.363,2,   0.1068
  09AR20060102,  S04I,    32,  1,     22,     22,2,20060121,0738,-65.9993,  30.0002, 4484,     10.2,   0.0435,  33.6137,2,-999.0000,9,    341.2,2,   -999.0,9,  -999.00,9,  -999.00,9,   -999.0,9,   -999.0,9,2,     0.47,2,    0.070,    0.369,2,   0.0432
  09AR20060102,  S04I,    32,  1,     21,     21,2,20060121,0738,-65.9993,  30.0002, 4484,     24.8,  -0.9970,  34.1582,2,  34.2080,3,    330.8,2,    330.3,2,    59.20,2,    27.49,2,   2194.2,6,   -999.0,9,2,     0.57,2,    0.124,    0.174,2,  -0.9976
  09AR20060102,  S04I,    32,  1,     20,     20,2,20060121,0738,-65.9993,  30.0002, 4484,     40.2,  -1.4515,  34.3269,2,  34.3261,2,    319.4,2,    323.1,2,    61.60,2,    28.20,2,   2204.6,2,   -999.0,9,2,     0.80,2,    0.413,    0.119,2,  -1.4524
  09AR20060102,  S04I,    32,  1,     19,     19,2,20060121,0738,-65.9993,  30.0002, 4484,     59.9,  -1.6201,  34.3742,2,  34.3746,2,    310.8,2,    311.7,2,    64.30,2,    29.45,2,   2216.0,2,   -999.0,9,2,     0.95,2,    1.176,    0.077,2,  -1.6214
  09AR20060102,  S04I,    32,  1,     18,     18,2,20060121,0738,-65.9993,  30.0002, 4484,     75.9,  -1.7526,  34.3932,2,  34.3919,2,    306.6,2,    307.8,2,    66.00,2,    30.09,2,   2220.0,2,   -999.0,9,2,     0.97,2,    1.599,    0.031,2,  -1.7541
  09AR20060102,  S04I,    32,  1,     17,     17,2,20060121,0738,-65.9993,  30.0002, 4484,    100.4,  -1.7669,  34.4013,2,  34.3991,2,    306.7,2,    305.9,2,    72.10,2,    30.60,2,   2223.6,2,   -999.0,9,2,     0.99,2,    0.469,    0.006,2,  -1.7689
  09AR20060102,  S04I,    32,  1,     16,     16,2,20060121,0738,-65.9993,  30.0002, 4484,    120.3,  -1.6430,  34.4146,2,  34.4136,2,    303.3,2,    302.5,2,    68.00,2,    30.85,2,   2225.8,2,   -999.0,9,2,     0.99,2,    0.200,    0.001,2,  -1.6456
  09AR20060102,  S04I,    32,  1,     15,     15,2,20060121,0738,-65.9993,  30.0002, 4484,    150.6,  -0.0730,  34.5307,2,  34.5166,2,    259.1,2,    249.9,2,    77.80,2,    31.89,2,   2241.7,2,   -999.0,9,2,     0.99,2,    0.095,    0.000,2,  -0.0784
  09AR20060102,  S04I,    32,  1,     14,     14,2,20060121,0738,-65.9993,  30.0002, 4484,    180.0,   0.5638,  34.5936,2,  34.5940,2,    221.4,2,    217.3,2,    84.30,2,    32.39,2,   2250.1,2,   -999.0,9,2,     0.99,2,   -0.010,    0.000,2,   0.5563
  09AR20060102,  S04I,    32,  1,     13,     13,2,20060121,0738,-65.9993,  30.0002, 4484,    299.3,   1.1837,  34.6866,2,  34.6870,2,    201.3,2,    198.0,2,    92.60,2,    32.01,2,   2256.1,2,   -999.0,9,2,     0.99,2,   -0.036,    0.000,2,   1.1694
  09AR20060102,  S04I,    32,  1,     12,     12,2,20060121,0738,-65.9993,  30.0002, 4484,    400.0,   1.1451,  34.7013,2,  34.7005,2,    198.5,2,    200.5,2,    95.40,2,    31.69,2,   2255.3,2,   -999.0,9,2,     0.99,2,   -0.038,    0.000,2,   1.1257
  09AR20060102,  S04I,    32,  1,     11,     11,2,20060121,0738,-65.9993,  30.0002, 4484,    499.3,   1.0414,  34.7029,2,  34.7031,2,    198.6,2,    202.3,2,    98.30,2,    31.73,2,   2256.7,6,   -999.0,9,2,     0.99,2,   -0.035,    0.000,2,   1.0172
  09AR20060102,  S04I,    32,  1,     10,     10,2,20060121,0738,-65.9993,  30.0002, 4484,    598.9,   0.9128,  34.7002,2,  34.7015,2,    199.6,2,    204.3,2,   100.90,2,    31.75,2,   2257.9,2,   -999.0,9,2,     0.99,2,   -0.037,    0.000,2,   0.8839
  09AR20060102,  S04I,    32,  1,      9,      9,2,20060121,0738,-65.9993,  30.0002, 4484,    800.7,   0.8160,  34.7045,2,  34.7047,2,    202.4,2,    203.2,2,   107.50,2,    32.01,2,   2260.9,2,   -999.0,9,2,     0.99,2,   -0.039,    0.000,2,   0.7766
  09AR20060102,  S04I,    32,  1,      8,      8,2,20060121,0738,-65.9993,  30.0002, 4484,   1100.1,   0.5984,  34.6961,2,  34.6964,2,    205.0,2,    205.5,2,   113.90,2,    32.52,2,   2262.5,2,   -999.0,9,2,     0.99,2,   -0.042,    0.000,2,   0.5434
  09AR20060102,  S04I,    32,  1,      7,      7,2,20060121,0738,-65.9993,  30.0002, 4484,   1500.4,   0.3647,  34.6857,2,  34.6858,2,    209.8,2,    209.8,2,   120.20,2,    32.83,2,   2262.2,2,   -999.0,9,2,     0.99,2,   -0.044,    0.000,2,   0.2874
  09AR20060102,  S04I,    32,  1,      6,      6,2,20060121,0738,-65.9993,  30.0002, 4484,   2000.2,   0.1415,  34.6743,2,  34.6740,2,    219.2,2,    218.5,2,   121.80,2,    32.80,2,   2259.0,2,   -999.0,9,2,     0.99,2,   -0.043,    0.000,2,   0.0335
  09AR20060102,  S04I,    32,  1,      5,      5,2,20060121,0738,-65.9993,  30.0002, 4484,   2501.3,  -0.0235,  34.6675,2,  34.6668,2,    226.2,2,    226.4,2,   122.80,2,    32.38,2,   2258.2,2,   -999.0,9,2,     0.99,2,   -0.047,    0.000,2,  -0.1657
  09AR20060102,  S04I,    32,  1,      4,      4,2,20060121,0738,-65.9993,  30.0002, 4484,   3002.3,  -0.1397,  34.6611,2,  34.6603,2,    234.2,2,    234.1,2,   122.50,2,    32.16,2,   2255.1,2,   -999.0,9,2,     0.99,2,   -0.044,    0.000,2,  -0.3201
  09AR20060102,  S04I,    32,  1,      3,      3,2,20060121,0738,-65.9993,  30.0002, 4484,   3998.4,  -0.2486,  34.6531,2,  34.6523,2,    242.6,2,    242.6,2,   122.20,2,    32.06,2,   2250.3,2,   -999.0,9,2,     0.99,2,   -0.049,    0.000,2,  -0.5173
  09AR20060102,  S04I,    32,  1,      2,      2,2,20060121,0738,-65.9993,  30.0002, 4484,   4558.9,  -0.2938,  34.6536,2,  34.6533,2,    243.4,2,    243.2,2,   133.30,2,    32.28,2,   2251.8,2,   -999.0,9,2,     0.99,2,   -0.050,    0.000,2,  -0.6184
  09AR20060102,  S04I,    32,  1,      1,      1,2,20060121,0738,-65.9993,  30.0002, 4484,   4576.4,  -0.2956,  34.6535,2,  34.6544,2,    243.3,2,    243.2,2,   135.80,2,    32.24,2,   2253.3,6,   -999.0,9,2,     0.99,2,   -0.047,    0.000,2,  -0.6220