BOTTLE,20220816CCHSIOAMB
EXPOCODE,SECT_ID,STNNBR,CASTNO,SAMPNO,BTLNBR,BTLNBR_FLAG_W,DATE,TIME,LATITUDE,LONGITUDE,DEPTH,CTDPRS,CTDTMP,CTDSAL,CTDSAL_FLAG_W,SALNTY,SALNTY_FLAG_W,CTDOXY,CTDOXY_FLAG_W,OXYGEN,OXYGEN_FLAG_W,SILCAT,SILCAT_FLAG_W,NITRAT,NITRAT_FLAG_W,TCARBN,TCARBN_FLAG_W,ALKALI,ALKALI_FLAG_W,FLUOR_FLAG_W,XMISS,XMISS_FLAG_W,FLUOR,PAR,PAR_FLAG_W,THETA
,,,,,,,,,,,METERS,DBAR,ITS-90,PSS-78,,PSS-78,,UMOL/KG,,UMOL/KG,,UMOL/KG,,UMOL/KG,,UMOL/KG,,UMOL/KG,,,%TRANS,,VOLTS,VOLTS,,DEG C
  09AR20060102,  S04I,    84,  1,     24,     24,2,20060211,0805,-66.9007,  60.0005,  409,     10.2,  -0.9715,  33.3904,2,  33.3965,2,    380.5,2,    381.8,2,    47.10,2,  -999.00,9,   2105.7,2,   -999.0,9,2,     0.05,2,   12.019,    0.143,2,  -0.9717
  09AR20060102,  S04I,    84,  1,     23,     23,2,20060211,0805,-66.9007,  60.0005,  409,     10.1,  -0.9717,  33.3881,2,-999.0000,9,    380.5,2,   -999.0,9,  -999.00,9,  -999.00,9,   -999.0,9,   -999.0,9,2,     0.06,2,    9.514,    0.155,2,  -0.9719
  09AR20060102,  S04I,    84,  1,     22,     22,2,20060211,0805,-66.9007,  60.0005,  409,     10.0,  -0.9709,  33.3903,2,-999.0000,9,    380.5,2,   -999.0,9,  -999.00,9,  -999.00,9,   -999.0,9,   -999.0,9,2,     0.00,2,   10.297,    0.159,2,  -0.9711
  09AR20060102,  S04I,    84,  1,     21,     21,2,20060211,0805,-66.9007,  60.0005,  409,     20.3,  -0.8874,  33.5877,2,  33.6089,2,    368.4,2,    368.4,2,    48.80,2,  -999.00,9,   2134.1,2,   -999.0,9,2,     0.02,2,   15.786,    0.015,2,  -0.8879
  09AR20060102,  S04I,    84,  1,     20,     20,2,20060211,0805,-66.9007,  60.0005,  409,     29.6,  -0.8038,  33.7277,2,  33.7368,2,    358.5,2,    354.5,2,    51.20,2,  -999.00,9,   -999.0,9,   -999.0,9,2,     0.05,2,    9.550,    0.002,2,  -0.8046
  09AR20060102,  S04I,    84,  1,     19,     19,2,20060211,0805,-66.9007,  60.0005,  409,     39.7,  -0.6171,  33.8166,2,  33.8120,2,    352.5,2,    352.2,2,    51.90,2,  -999.00,9,   2160.2,2,   -999.0,9,2,     0.09,2,    7.533,    0.000,2,  -0.6182
  09AR20060102,  S04I,    84,  1,     18,     18,2,20060211,0805,-66.9007,  60.0005,  409,     49.8,  -0.5792,  33.8980,2,  33.9160,2,    348.0,2,    346.3,2,    53.70,2,  -999.00,9,   -999.0,9,   -999.0,9,2,     0.18,2,    4.330,    0.000,2,  -0.5807
  09AR20060102,  S04I,    84,  1,     17,     17,2,20060211,0805,-66.9007,  60.0005,  409,     59.5,  -0.4445,  33.9551,2,  33.9604,2,    344.7,2,    344.5,2,    53.60,2,  -999.00,9,   2173.9,2,   -999.0,9,2,     0.23,2,    4.132,    0.000,2,  -0.4463
  09AR20060102,  S04I,    84,  1,     16,     16,2,20060211,0805,-66.9007,  60.0005,  409,     70.4,  -0.4118,  33.9825,2,  33.9868,2,    340.6,2,    342.9,2,    56.70,2,  -999.00,9,   -999.0,9,   -999.0,9,2,     0.29,2,    2.855,    0.000,2,  -0.4140
  09AR20060102,  S04I,    84,  1,     15,     15,2,20060211,0805,-66.9007,  60.0005,  409,     79.6,  -0.7638,  34.0545,2,  34.0631,2,    335.8,2,    336.1,2,    55.90,2,  -999.00,9,   2188.6,2,   -999.0,9,2,     0.36,2,    1.392,    0.000,2,  -0.7660
  09AR20060102,  S04I,    84,  1,     14,     14,2,20060211,0805,-66.9007,  60.0005,  409,     89.6,  -1.1767,  34.1558,2,  34.1643,2,    330.1,2,    330.4,2,    56.70,2,  -999.00,9,   -999.0,9,   -999.0,9,2,     0.47,2,    0.805,    0.000,2,  -1.1789
  09AR20060102,  S04I,    84,  1,     13,     13,2,20060211,0805,-66.9007,  60.0005,  409,     99.9,  -1.5810,  34.2269,2,  34.2342,2,    325.7,2,    326.4,2,    58.10,2,  -999.00,9,   2201.8,2,   -999.0,9,2,     0.51,2,    0.311,    0.000,2,  -1.5832
  09AR20060102,  S04I,    84,  1,     12,     12,2,20060211,0805,-66.9007,  60.0005,  409,    150.3,  -1.7893,  34.2901,2,  34.2894,2,    316.3,2,    314.9,2,    58.90,2,  -999.00,9,   -999.0,9,   -999.0,9,2,     0.89,2,    0.521,    0.000,2,  -1.7924
  09AR20060102,  S04I,    84,  1,     11,     11,2,20060211,0805,-66.9007,  60.0005,  409,    199.6,  -1.7528,  34.3110,2,  34.3112,2,    309.4,2,    309.4,2,    62.50,2,  -999.00,9,   -999.0,9,   -999.0,9,2,     0.99,2,   -0.014,    0.000,2,  -1.7570
  09AR20060102,  S04I,    84,  1,     10,     10,2,20060211,0805,-66.9007,  60.0005,  409,    250.5,  -1.7412,  34.3261,2,-999.0000,9,    308.8,2,   -999.0,9,  -999.00,9,  -999.00,9,   -999.0,9,   -999.0,9,2,     0.99,2,   -0.038,    0.000,2,  -1.7467
  09AR20060102,  S04I,    84,  1,      9,      9,2,20060211,0805,-66.9007,  60.0005,  409,    250.6,  -1.7412,  34.3260,2,-999.0000,9,    308.8,2,   -999.0,9,  -999.00,9,  -999.00,9,   -999.0,9,   -999.0,9,2,     0.99,2,   -0.035,    0.000,2,  -1.7467
  09AR20060102,  S04I,    84,  1,      8,      8,2,20060211,0805,-66.9007,  60.0005,  409,    250.4,  -1.7409,  34.3262,2,  34.3265,2,    308.8,2,    308.4,2,    62.70,2,  -999.00,9,   -999.0,9,   -999.0,9,2,     0.99,2,   -0.035,    0.000,2,  -1.7464
  09AR20060102,  S04I,    84,  1,      7,      7,2,20060211,0805,-66.9007,  60.0005,  409,    299.8,  -1.7176,  34.3417,2,-999.0000,9,    306.5,2,   -999.0,9,  -999.00,9,  -999.00,9,   -999.0,9,   -999.0,9,2,     0.99,2,   -0.046,    0.000,2,  -1.7244
  09AR20060102,  S04I,    84,  1,      6,      6,2,20060211,0805,-66.9007,  60.0005,  409,    299.9,  -1.7173,  34.3417,2,  34.3419,2,    306.5,2,    306.3,2,    63.10,2,  -999.00,9,   -999.0,9,   -999.0,9,2,     0.99,2,   -0.046,    0.000,2,  -1.7241
  09AR20060102,  S04I,    84,  1,      5,      5,2,20060211,0805,-66.9007,  60.0005,  409,    350.0,  -1.6942,  34.3526,2,  34.3531,2,    304.0,2,    303.7,2,    63.50,2,  -999.00,9,   -999.0,9,   -999.0,9,2,     0.99,2,   -0.049,    0.000,2,  -1.7024
  09AR20060102,  S04I,    84,  1,      4,      4,2,20060211,0805,-66.9007,  60.0005,  409,    400.2,  -1.6689,  34.3636,2,  34.3641,2,    302.1,2,    300.7,2,    64.40,2,  -999.00,9,   -999.0,9,   -999.0,9,2,     0.99,2,   -0.052,    0.000,2,  -1.6785
  09AR20060102,  S04I,    84,  1,      3,      3,2,20060211,0805,-66.9007,  60.0005,  409,    449.7,  -1.6316,  34.3773,2,-999.0000,9,    300.7,2,   -999.0,9,  -999.00,9,  -999.00,9,   -999.0,9,   -999.0,9,2,     0.99,2,   -0.047,    0.000,2,  -1.6428
  09AR20060102,  S04I,    84,  1,      2,      2,2,20060211,0805,-66.9007,  60.0005,  409,    450.1,  -1.6303,  34.3778,2,  34.3770,2,    300.7,2,    300.8,2,    64.60,2,  -999.00,9,   -999.0,9,   -999.0,9,2,     0.99,2,   -0.051,    0.000,2,  -1.6415
  09AR20060102,  S04I,    84,  1,      1,      1,2,20060211,0805,-66.9007,  60.0005,  409,    464.6,  -1.6324,  34.3769,2,  34.3762,2,    300.3,2,    300.8,2,    64.70,2,  -999.00,9,   -999.0,9,   -999.0,9,2,     0.99,2,   -0.049,    0.000,2,  -1.6440
  09AR20060102,  S04I,    85,  1,     24,     24,2,20060211,1049,-66.9323,  59.9398,  931,      9.8,  -0.9560,  33.3845,2,  33.4410,3,    382.2,2,    383.6,2,    46.20,2,  -999.00,9,   2098.7,2,   2268.7,2,2,     0.83,2,   13.904,    0.084,2,  -0.9562
  09AR20060102,  S04I,    85,  1,     23,     23,2,20060211,1049,-66.9323,  59.9398,  931,      9.8,  -0.9460,  33.3839,2,-999.0000,9,    382.2,2,   -999.0,9,  -999.00,9,  -999.00,9,   -999.0,9,   -999.0,9,2,     0.81,2,   14.102,    0.083,2,  -0.9462
  09AR20060102,  S04I,    85,  1,     22,     22,2,20060211,1049,-66.9323,  59.9398,  931,     16.3,  -0.8852,  33.5513,2,-999.0000,9,    381.3,2,   -999.0,9,  -999.00,9,  -999.00,9,   -999.0,9,   -999.0,9,2,     0.85,2,   12.982,    0.019,2,  -0.8856
  09AR20060102,  S04I,    85,  1,     21,     21,2,20060211,1049,-66.9323,  59.9398,  931,     19.7,  -0.8145,  33.6646,2,-999.0000,9,    379.6,2,   -999.0,9,  -999.00,9,  -999.00,9,   -999.0,9,   -999.0,9,2,     0.85,2,   14.143,    0.007,2,  -0.8150
  09AR20060102,  S04I,    85,  1,     20,     20,2,20060211,1049,-66.9323,  59.9398,  931,     19.6,  -0.7761,  33.7004,2,  33.6968,2,    379.6,2,    368.9,2,    48.30,2,  -999.00,9,   -999.0,9,   -999.0,9,2,     0.85,2,   13.823,    0.008,2,  -0.7766
  09AR20060102,  S04I,    85,  1,     19,     19,2,20060211,1049,-66.9323,  59.9398,  931,     29.8,  -0.6536,  33.8180,2,  33.8335,2,    367.6,2,    355.9,2,    50.50,2,  -999.00,9,   2152.7,2,   -999.0,9,2,     0.89,2,    9.165,    0.001,2,  -0.6544
  09AR20060102,  S04I,    85,  1,     18,     18,2,20060211,1049,-66.9323,  59.9398,  931,     38.9,  -0.8639,  33.8657,2,  33.8675,2,    359.0,2,    349.2,2,    52.70,2,  -999.00,9,   -999.0,9,   -999.0,9,2,     0.92,2,    5.239,    0.000,2,  -0.8649
  09AR20060102,  S04I,    85,  1,     17,     17,2,20060211,1049,-66.9323,  59.9398,  931,     49.8,  -0.7704,  33.9103,2,  33.9158,2,    349.2,2,    347.3,2,    52.60,2,  -999.00,9,   2163.0,2,   -999.0,9,2,     0.92,2,    5.336,    0.000,2,  -0.7718
  09AR20060102,  S04I,    85,  1,     16,     16,2,20060211,1049,-66.9323,  59.9398,  931,     58.9,  -0.6316,  33.9488,2,  33.9522,2,    345.8,2,    347.0,2,    52.50,2,  -999.00,9,   2166.7,2,   -999.0,9,2,     0.92,2,    4.702,    0.000,2,  -0.6333
  09AR20060102,  S04I,    85,  1,     15,     15,2,20060211,1049,-66.9323,  59.9398,  931,     89.1,  -1.7597,  34.2394,2,  34.2412,2,    324.2,2,    322.8,2,    57.50,2,  -999.00,9,   2201.8,2,   -999.0,9,2,     0.98,2,    0.364,    0.000,2,  -1.7615
  09AR20060102,  S04I,    85,  1,     14,     14,2,20060211,1049,-66.9323,  59.9398,  931,    108.9,  -1.8119,  34.2703,2,  34.2704,2,    319.2,2,    319.8,2,    59.70,2,  -999.00,9,   2207.2,2,   -999.0,9,2,     0.99,2,    0.127,    0.000,2,  -1.8141
  09AR20060102,  S04I,    85,  1,     13,     13,2,20060211,1049,-66.9323,  59.9398,  931,    130.1,  -1.8141,  34.2822,2,  34.2834,2,    316.9,2,    317.7,2,    59.60,2,  -999.00,9,   2209.6,2,   -999.0,9,2,     0.99,2,    0.143,    0.000,2,  -1.8167
  09AR20060102,  S04I,    85,  1,     12,     12,2,20060211,1049,-66.9323,  59.9398,  931,    150.0,  -1.7929,  34.2907,2,  34.2924,2,    314.6,2,    315.0,2,    60.10,2,  -999.00,9,   2208.3,2,   -999.0,9,2,     0.99,2,    0.033,    0.000,2,  -1.7960
  09AR20060102,  S04I,    85,  1,     11,     11,2,20060211,1049,-66.9323,  59.9398,  931,    178.3,  -1.7716,  34.3053,2,  34.3084,2,    310.5,2,    309.1,3,    60.70,2,  -999.00,9,   2210.2,2,   -999.0,9,2,     0.99,2,    0.006,    0.000,2,  -1.7753
  09AR20060102,  S04I,    85,  1,     10,     10,2,20060211,1049,-66.9323,  59.9398,  931,    199.9,  -1.7691,  34.3100,2,  34.3106,2,    309.9,2,    310.9,2,    60.80,2,  -999.00,9,   2210.4,2,   -999.0,9,2,     0.99,2,   -0.027,    0.000,2,  -1.7733
  09AR20060102,  S04I,    85,  1,      9,      9,2,20060211,1049,-66.9323,  59.9398,  931,    300.7,  -1.7120,  34.3345,2,  34.3345,2,    304.9,2,    305.6,2,    62.10,2,  -999.00,9,   2214.7,2,   -999.0,9,2,     0.99,2,   -0.027,    0.000,2,  -1.7188
  09AR20060102,  S04I,    85,  1,      8,      8,2,20060211,1049,-66.9323,  59.9398,  931,    400.5,  -1.6931,  34.3599,2,  34.3600,2,    302.9,2,    302.8,2,    63.60,2,  -999.00,9,   2218.8,2,   -999.0,9,2,     0.99,2,   -0.050,    0.000,2,  -1.7026
  09AR20060102,  S04I,    85,  1,      7,      7,2,20060211,1049,-66.9323,  59.9398,  931,    499.8,  -1.6394,  34.3880,2,  34.3888,2,    300.3,2,    299.7,2,    65.40,2,  -999.00,9,   2221.0,2,   -999.0,9,2,     0.99,2,   -0.051,    0.000,2,  -1.6521
  09AR20060102,  S04I,    85,  1,      6,      6,2,20060211,1049,-66.9323,  59.9398,  931,    601.8,  -1.5512,  34.4045,2,  34.4044,2,    297.1,2,    296.9,2,    68.50,2,  -999.00,9,   2222.0,2,   -999.0,9,2,     0.99,2,   -0.052,    0.000,2,  -1.5675
  09AR20060102,  S04I,    85,  1,      5,      5,2,20060211,1049,-66.9323,  59.9398,  931,    700.1,  -1.5297,  34.4101,2,  34.4101,2,    296.5,2,    296.5,2,    67.60,2,  -999.00,9,   2222.1,2,   -999.0,9,2,     0.99,2,   -0.049,    0.000,2,  -1.5495
  09AR20060102,  S04I,    85,  1,      4,      4,2,20060211,1049,-66.9323,  59.9398,  931,    801.3,  -1.5009,  34.4155,2,  34.4152,2,    295.6,2,    295.2,2,    66.10,2,  -999.00,9,   2223.9,2,   -999.0,9,2,     0.99,2,   -0.043,    0.000,2,  -1.5245
  09AR20060102,  S04I,    85,  1,      3,      3,2,20060211,1049,-66.9323,  59.9398,  931,    900.4,  -1.4601,  34.4216,2,-999.0000,9,    295.0,2,   -999.0,9,  -999.00,9,  -999.00,9,   -999.0,9,   -999.0,9,2,     0.99,2,   -0.043,    0.000,2,  -1.4878
  09AR20060102,  S04I,    85,  1,      2,      2,2,20060211,1049,-66.9323,  59.9398,  931,    900.5,  -1.4598,  34.4216,2,  34.4223,2,    295.0,2,    294.0,2,    67.20,2,  -999.00,9,   2223.9,2,   -999.0,9,2,     0.99,2,   -0.040,    0.000,2,  -1.4875
  09AR20060102,  S04I,    85,  1,      1,      1,2,20060211,1049,-66.9323,  59.9398,  931,    934.9,  -1.4475,  34.4233,2,  34.4238,2,    293.7,2,    294.5,2,    69.10,2,  -999.00,9,   2225.2,6,   -999.0,9,2,     0.99,2,   -0.037,    0.000,2,  -1.4766
  09AR20060102,  S04I,    86,  1,     24,     24,2,20060217,0037,-61.9992,  69.9998, 4119,      9.3,   0.5669,  33.6471,2,  33.6473,2,    342.7,2,    342.4,2,    27.30,2,  -999.00,9,   2142.9,2,   -999.0,9,2,     0.53,2,    3.049,    0.096,2,   0.5665
  09AR20060102,  S04I,    86,  1,     23,     23,2,20060217,0037,-61.9992,  69.9998, 4119,     29.3,   0.5717,  33.6468,2,-999.0000,9,    342.8,2,   -999.0,9,  -999.00,9,  -999.00,9,   -999.0,9,   -999.0,9,2,     0.74,2,    3.181,    0.014,2,   0.5706
  09AR20060102,  S04I,    86,  1,     22,     22,2,20060217,0037,-61.9992,  69.9998, 4119,     29.4,   0.5707,  33.6468,2,-999.0000,9,    342.8,2,   -999.0,9,  -999.00,9,  -999.00,9,   -999.0,9,   -999.0,9,2,     0.72,2,    3.190,    0.013,2,   0.5696
  09AR20060102,  S04I,    86,  1,     21,     21,2,20060217,0037,-61.9992,  69.9998, 4119,     29.4,   0.5699,  33.6468,2,  33.6481,2,    342.8,2,    342.0,2,    27.20,2,  -999.00,9,   2142.5,2,   -999.0,9,2,     0.69,2,    3.197,    0.012,2,   0.5688
  09AR20060102,  S04I,    86,  1,     20,     20,2,20060217,0037,-61.9992,  69.9998, 4119,     50.4,  -0.0425,  33.7278,2,  33.7183,2,    337.5,2,    339.3,2,    31.50,2,  -999.00,9,   2151.1,2,   -999.0,9,2,     0.60,2,    4.677,    0.001,2,  -0.0442
  09AR20060102,  S04I,    86,  1,     19,     19,2,20060217,0037,-61.9992,  69.9998, 4119,     59.5,  -1.6442,  33.9401,2,  33.9418,2,    333.7,2,    332.4,2,    46.80,2,  -999.00,9,   2185.0,2,   -999.0,9,2,     0.69,2,    0.841,    0.001,2,  -1.6454
  09AR20060102,  S04I,    86,  1,     18,     18,2,20060217,0037,-61.9992,  69.9998, 4119,     99.3,  -1.2366,  34.0467,2,  34.0457,2,    306.1,2,    306.4,2,    54.60,2,  -999.00,9,   2203.6,2,   -999.0,9,2,     0.98,2,    0.238,    0.000,2,  -1.2390
  09AR20060102,  S04I,    86,  1,     17,     17,2,20060217,0037,-61.9992,  69.9998, 4119,    129.5,   0.1394,  34.2435,2,  34.2428,2,    242.6,2,    249.0,2,    62.80,2,  -999.00,9,   2231.8,2,   -999.0,9,2,     0.99,2,    0.172,    0.000,2,   0.1346
  09AR20060102,  S04I,    86,  1,     16,     16,2,20060217,0037,-61.9992,  69.9998, 4119,    149.1,   0.9649,  34.3807,2,  34.3801,2,    207.6,2,    213.8,2,    69.10,2,  -999.00,9,   2242.8,2,   -999.0,9,2,     0.98,2,    0.203,    0.000,2,   0.9583
  09AR20060102,  S04I,    86,  1,     15,     15,2,20060217,0037,-61.9992,  69.9998, 4119,    200.5,   1.8016,  34.5413,2,  34.5416,2,    181.1,2,    179.0,2,    76.80,2,  -999.00,9,   2258.3,2,   -999.0,9,2,     0.99,2,    0.044,    0.000,2,   1.7912
  09AR20060102,  S04I,    86,  1,     14,     14,2,20060217,0037,-61.9992,  69.9998, 4119,    298.6,   1.9338,  34.6246,2,  34.6244,2,    176.8,2,    175.5,2,    81.20,2,  -999.00,9,   -999.0,9,   -999.0,9,2,     0.99,2,   -0.021,    0.000,2,   1.9177
  09AR20060102,  S04I,    86,  1,     13,     13,2,20060217,0037,-61.9992,  69.9998, 4119,    400.7,   1.9543,  34.6686,2,  34.6684,2,    178.8,2,    177.8,2,    82.70,2,  -999.00,9,   -999.0,9,   -999.0,9,2,     0.99,2,   -0.027,    0.000,2,   1.9323
  09AR20060102,  S04I,    86,  1,     12,     12,2,20060217,0037,-61.9992,  69.9998, 4119,    501.1,   1.9394,  34.6977,2,  34.6980,2,    182.7,2,    181.9,2,    87.60,2,  -999.00,9,   -999.0,9,   -999.0,9,2,     0.99,2,   -0.030,    0.000,2,   1.9115
  09AR20060102,  S04I,    86,  1,     11,     11,2,20060217,0037,-61.9992,  69.9998, 4119,    750.8,   1.7917,  34.7352,2,  34.7351,2,    192.7,2,    191.9,2,    86.20,2,  -999.00,9,   -999.0,9,   -999.0,9,2,     0.99,2,   -0.038,    0.000,2,   1.7491
  09AR20060102,  S04I,    86,  1,     10,     10,2,20060217,0037,-61.9992,  69.9998, 4119,   1000.8,   1.5857,  34.7440,2,  34.7439,2,    198.8,2,    198.9,2,    90.70,2,  -999.00,9,   -999.0,9,   -999.0,9,2,     0.99,2,   -0.039,    0.000,2,   1.5285
  09AR20060102,  S04I,    86,  1,      9,      9,2,20060217,0037,-61.9992,  69.9998, 4119,   1500.6,   1.1216,  34.7277,2,  34.7282,2,    205.0,2,    204.4,2,   102.60,2,  -999.00,9,   -999.0,9,   -999.0,9,2,     0.99,2,   -0.042,    0.000,2,   1.0352
  09AR20060102,  S04I,    86,  1,      8,      8,2,20060217,0037,-61.9992,  69.9998, 4119,   1800.7,   0.8725,  34.7143,2,  34.7147,2,    206.8,2,    206.6,2,   109.30,2,  -999.00,9,   -999.0,9,   -999.0,9,2,     0.99,2,   -0.043,    0.000,2,   0.7679
  09AR20060102,  S04I,    86,  1,      7,      7,2,20060217,0037,-61.9992,  69.9998, 4119,   2250.2,   0.5616,  34.6962,2,  34.6958,2,    209.4,2,    209.7,2,   118.30,2,  -999.00,9,   -999.0,9,   -999.0,9,2,     0.99,2,   -0.043,    0.000,2,   0.4281
  09AR20060102,  S04I,    86,  1,      6,      6,2,20060217,0037,-61.9992,  69.9998, 4119,   2999.9,   0.2057,  34.6791,2,  34.6786,2,    219.3,2,    219.0,2,   128.10,2,  -999.00,9,   -999.0,9,   -999.0,9,2,     0.99,2,   -0.050,    0.000,2,   0.0176
  09AR20060102,  S04I,    86,  1,      5,      5,2,20060217,0037,-61.9992,  69.9998, 4119,   3501.2,  -0.0015,  34.6699,2,  34.6686,2,    227.8,2,    227.8,2,   128.70,2,  -999.00,9,   -999.0,9,   -999.0,9,2,     0.99,2,   -0.051,    0.000,2,  -0.2295
  09AR20060102,  S04I,    86,  1,      4,      4,2,20060217,0037,-61.9992,  69.9998, 4119,   3998.8,  -0.1567,  34.6629,2,  34.6619,2,    234.8,2,    234.7,2,   136.60,2,  -999.00,9,   -999.0,9,   -999.0,9,2,     0.99,2,   -0.049,    0.000,2,  -0.4282
  09AR20060102,  S04I,    86,  1,      3,      3,2,20060217,0037,-61.9992,  69.9998, 4119,   4099.8,  -0.1796,  34.6616,2,  34.6603,2,    235.4,2,    235.2,2,   141.80,2,  -999.00,9,   -999.0,9,   -999.0,9,2,     0.99,2,   -0.054,    0.000,2,  -0.4604
  09AR20060102,  S04I,    86,  1,      2,      2,2,20060217,0037,-61.9992,  69.9998, 4119,   4170.4,  -0.1928,  34.6606,2,  34.6593,2,    235.9,2,    235.5,2,   142.90,2,  -999.00,9,   -999.0,9,   -999.0,9,2,     0.99,2,   -0.049,    0.000,2,  -0.4804
  09AR20060102,  S04I,    86,  1,      1,      1,2,20060217,0037,-61.9992,  69.9998, 4119,   4195.2,  -0.1910,  34.6605,2,  34.6597,2,    235.8,2,    235.9,2,   142.60,2,  -999.00,9,   -999.0,9,   -999.0,9,2,     0.99,2,   -0.050,    0.000,2,  -0.4811