BOTTLE,20220815CCHSIOAMB
EXPOCODE,SECT_ID,STNNBR,CASTNO,BTLNBR,DATE,TIME,LATITUDE,LONGITUDE,DEPTH,CTDPRS,CTDTMP,CTDSAL,CTDSAL_FLAG_W,SALNTY,SALNTY_FLAG_W,CTDOXY,CTDOXY_FLAG_W,OXYGEN,OXYGEN_FLAG_W,SILCAT,SILCAT_FLAG_W,NITRAT,NITRAT_FLAG_W,NITRIT,NITRIT_FLAG_W,PHSPHT,PHSPHT_FLAG_W,ALKALI,ALKALI_FLAG_W,PH_TOT,PH_TOT_FLAG_W,PH_TMP,BTL_DATE,BTL_TIME
,,,,,,,,,METERS,DBAR,ITS-90,PSS-78,,PSS-78,,UMOL/KG,,UMOL/KG,,UMOL/KG,,UMOL/KG,,UMOL/KG,,UMOL/KG,,UMOL/KG,,,,DEG C,,
  096U20160108, HEOBI,    54,  1,     12,20160212,0438,-53.0075,  73.7162,   93,     83.3,   3.1290,  33.8930,2,  33.8900,2,    325.4,2,    326.9,2,    10.49,2,    25.04, 2,     0.29, 2,     1.85,2,   -999.0,9,-999.0000,9,  -999.00,20160212,0441
  096U20160108, HEOBI,    54,  1,      1,20160212,0438,-53.0075,  73.7162,   93,     83.4,   3.1420,  33.8930,2,  33.8850,2,    325.7,2,    327.8,2,    10.30,2,    24.93, 2,     0.29, 2,     1.85,2,   -999.0,9,-999.0000,9,  -999.00,20160212,0246
  096U20160108, HEOBI,    54,  1,      8,20160212,0438,-53.0075,  73.7162,   93,     83.9,   3.1310,  33.8940,2,  33.8850,2,    326.2,2,    327.5,2,    10.38,2,    25.04, 2,     0.29, 2,     1.85,2,   -999.0,9,-999.0000,9,  -999.00,20160212,0353
  096U20160108, HEOBI,    54,  1,      3,20160212,0438,-53.0075,  73.7162,   93,     84.0,   3.1400,  33.8930,2,  33.8850,2,    326.4,2,    327.3,2,    10.30,2,    24.94, 2,     0.29, 2,     1.85,2,   -999.0,9,-999.0000,9,  -999.00,20160212,0323
  096U20160108, HEOBI,    54,  1,      5,20160212,0438,-53.0075,  73.7162,   93,     84.0,   3.1350,  33.8940,2,  33.8860,2,    325.5,2,    327.2,2,    10.45,2,    24.97, 2,     0.29, 2,     1.89,2,   -999.0,9,-999.0000,9,  -999.00,20160212,0339
  096U20160108, HEOBI,    54,  1,      9,20160212,0438,-53.0075,  73.7162,   93,     84.0,   3.1280,  33.8940,2,  33.8910,2,    326.1,2,    327.5,2,    10.52,2,    25.06, 2,     0.29, 2,     1.85,2,   -999.0,9,-999.0000,9,  -999.00,20160212,0417
  096U20160108, HEOBI,    54,  1,      6,20160212,0438,-53.0075,  73.7162,   93,     84.1,   3.1290,  33.8950,2,  33.8870,2,    325.9,2,    327.9,2,    10.50,2,    25.00, 2,     0.29, 2,     1.85,2,   -999.0,9,-999.0000,9,  -999.00,20160212,0344
  096U20160108, HEOBI,    54,  1,      4,20160212,0438,-53.0075,  73.7162,   93,     84.2,   3.1330,  33.8950,2,  33.8860,2,    325.6,2,    327.1,2,    10.40,2,    24.95, 2,     0.29, 2,     1.86,2,   -999.0,9,-999.0000,9,  -999.00,20160212,0331
  096U20160108, HEOBI,    54,  1,      7,20160212,0438,-53.0075,  73.7162,   93,     84.2,   3.1330,  33.8940,2,  33.8860,2,    325.6,2,    327.2,2,    10.40,2,    25.00, 2,     0.29, 2,     1.85,2,   -999.0,9,-999.0000,9,  -999.00,20160212,0349
  096U20160108, HEOBI,    54,  1,      2,20160212,0438,-53.0075,  73.7162,   93,     84.3,   3.1320,  33.8950,2,  33.8850,2,    326.2,2,    326.7,2,    10.38,2,    24.97, 2,     0.29, 2,     1.85,2,   -999.0,9,-999.0000,9,  -999.00,20160212,0257
  096U20160108, HEOBI,    54,  1,     10,20160212,0438,-53.0075,  73.7162,   93,     84.3,   3.1290,  33.8940,2,  33.8870,2,    326.0,2,    327.1,2,    10.55,2,    25.08, 2,     0.30, 2,     1.86,2,   -999.0,9,-999.0000,9,  -999.00,20160212,0423
  096U20160108, HEOBI,    54,  1,     13,20160212,0438,-53.0075,  73.7162,   93,     84.3,   3.1210,  33.8940,2,  33.8860,2,    325.1,2,    326.6,2,    10.41,2,    25.00, 2,     0.29, 2,     1.85,2,   -999.0,9,-999.0000,9,  -999.00,20160212,0542
  096U20160108, HEOBI,    54,  1,     11,20160212,0438,-53.0075,  73.7162,   93,     84.4,   3.1310,  33.8930,2,  33.8860,2,    325.8,2,    327.1,2,    10.61,2,    25.06, 2,     0.29, 2,     1.86,2,   -999.0,9,-999.0000,9,  -999.00,20160212,0438
  096U20160108, HEOBI,    55,  1,      6,20160212,0638,-53.0077,  73.7161,   94,      3.9,   3.1870,  33.8770,2,-999.0000,9,    327.3,2,   -999.0,9,  -999.00,9,  -999.00, 9,  -999.00, 9,  -999.00,9,   -999.0,9,-999.0000,9,  -999.00,20160212,0645
  096U20160108, HEOBI,    55,  1,      5,20160212,0638,-53.0077,  73.7161,   94,      4.3,   3.1860,  33.8770,2,  33.8710,2,    327.4,2,    328.5,2,     9.92,2,    25.02, 2,     0.29, 2,     1.84,2,   -999.0,9,-999.0000,9,  -999.00,20160212,0644
  096U20160108, HEOBI,    55,  1,      4,20160212,0638,-53.0077,  73.7161,   94,     10.0,   3.1860,  33.8780,2,  33.8680,2,    327.4,2,    328.7,2,     9.86,2,    25.00, 2,     0.29, 2,     1.84,2,   -999.0,9,-999.0000,9,  -999.00,20160212,0643
  096U20160108, HEOBI,    55,  1,      3,20160212,0638,-53.0077,  73.7161,   94,     65.5,   3.1320,  33.8920,2,  33.8840,2,    326.4,2,    327.4,2,    10.23,2,    25.06, 2,     0.29, 2,     1.85,2,   -999.0,9,-999.0000,9,  -999.00,20160212,0639
  096U20160108, HEOBI,    55,  1,      2,20160212,0638,-53.0077,  73.7161,   94,     85.2,   3.1210,  33.8940,2,-999.0000,9,    325.1,2,   -999.0,9,  -999.00,9,  -999.00, 9,  -999.00, 9,  -999.00,9,   -999.0,9,-999.0000,9,  -999.00,20160212,0638
  096U20160108, HEOBI,    55,  1,      1,20160212,0638,-53.0077,  73.7161,   94,     85.5,   3.1200,  33.8940,2,  33.8880,2,    325.3,2,   -999.0,9,    10.35,2,    25.09, 2,     0.29, 2,     1.85,2,   -999.0,9,-999.0000,9,  -999.00,20160212,0638