BOTTLE,20220815CCHSIOAMB
# Copy DATE/TIME to new BTL_DATE/BTL_TIME cols, Set DATE/TIME to value at deepest bottle
# Changed instances of CSIRO flags 65 and 69 to woce flag 3 using mapping from Bernadette Sloyan
#BOTTLE,20170321PRINUNIVRMK
# processed by CCHDO 2017-03-27 no changes
# 1/26/16 Initialized README file  
# Data source: http://www.marine.csiro.au/cgi-bin/marlin-dl/Investigator_NF/in2016_v01/data/in2016_v01Hydro_csv.zip 
# SHIP: R/V Investigator 
# Cruise: Heard Island 
# Region: WSW of Fremantle,Aus. 
# EXPOCODE: 096U20160108 
# Alias: 09IN20160108, HEOBI; IN2016_v01 
# DATES: 20160108 - 20160227 
# Chief Scientist: Mike Coffin 
# 49 stations with 24 place Rosette 
# SOCCOM Biogeochemical floats deployed by Isa Rosso 
# Sta   WMO_ID	Lat       Lon       Date       U.W.ID	 
# 2     5904675 -39.4894   99.4930   20160112      9749 
# 4     5904676 -48.2935   79.4470   20160117      9645 
# 6     5904679 -49.8698   78.6182   20160118      9757 
# Supported by NSF Award PLR-1425989 to J.L. Sarmiento et al.  
# CTD: Who - R.Robertson; Status - final 
# 	Includes: CTDSAL, CTDOXY 
# 	Values in bottle file are not calibrated 
# Salinty: Who - R.Robertson; Status - final 
# 	Notes: 	 
# Nutrients: Who - A.Bowie; Status - final 
# 	Includes: nitrate, nitrite, silicate, phopshpate 
# 	converted from umol/L to umol/kg using density calculated with 22C and measured salt 
# O2: Who - A.Bowie; Status - final 
# 	Notes: converted from umol/L to umol/kg using density calculated with 22C and measured salt 
# Alk: Who - Andrew Dickson; Status - final 
# 	Notes: Samples returned for analysis ashore 
# pH: Who - Andrew Dickson; Status - final 
# 	Notes: Samples returned for analysis ashore 
# HPLC: Who - Tom Trull; Status - 
# 	Notes:  
# POC: Who - Tom Trull; Status - 
# 	Notes:  
# Other: Who - ; Status - 
# 	Notes: trace metals Fe,Mn 
# These data should be cited as: 
# References that have used data from this cruise: The dataset in2016_v01Hydro_csv.zip downloaded on 31-Jan-2017 was collected on voyage IN2016_v01 on the RV Investigator granted by the Marine National Facility. It is made available under a Creative Commons Attribution 4.0 International Licence. 
EXPOCODE,SECT_ID,STNNBR,CASTNO,BTLNBR,DATE,TIME,LATITUDE,LONGITUDE,DEPTH,CTDPRS,CTDTMP,CTDSAL,CTDSAL_FLAG_W,SALNTY,SALNTY_FLAG_W,CTDOXY,CTDOXY_FLAG_W,OXYGEN,OXYGEN_FLAG_W,SILCAT,SILCAT_FLAG_W,NITRAT,NITRAT_FLAG_W,NITRIT,NITRIT_FLAG_W,PHSPHT,PHSPHT_FLAG_W,ALKALI,ALKALI_FLAG_W,PH_TOT,PH_TOT_FLAG_W,PH_TMP,BTL_DATE,BTL_TIME
,,,,,,,,,METERS,DBAR,ITS-90,PSS-78,,PSS-78,,UMOL/KG,,UMOL/KG,,UMOL/KG,,UMOL/KG,,UMOL/KG,,UMOL/KG,,UMOL/KG,,,,DEG C,,
  096U20160108, HEOBI,     1,  1,     24,20160110,2100,-36.3641, 103.6461, 4889,     14.1,  18.5410,  35.6610,2,  35.6460,2,    248.4,2,    244.7,2,     1.36,2,     0.04, 2,     0.02, 2,     0.12,2,   -999.0,9,-999.0000,9,  -999.00,20160110,2206
  096U20160108, HEOBI,     1,  1,     23,20160110,2100,-36.3641, 103.6461, 4889,     15.1,  18.4280,  35.6640,2,-999.0000,9,    249.0,2,   -999.0,9,  -999.00,9,  -999.00, 9,  -999.00, 9,  -999.00,9,   -999.0,9,-999.0000,9,  -999.00,20160110,2206
  096U20160108, HEOBI,     1,  1,     22,20160110,2100,-36.3641, 103.6461, 4889,     29.6,  16.9980,  35.6360,2,  35.6180,2,    256.5,2,    252.4,2,     1.53,2,     0.04, 2,     0.02, 2,     0.11,2,   -999.0,9,-999.0000,9,  -999.00,20160110,2205
  096U20160108, HEOBI,     1,  1,     21,20160110,2100,-36.3641, 103.6461, 4889,     30.2,  17.0850,  35.6380,2,-999.0000,9,    256.4,2,   -999.0,9,  -999.00,9,  -999.00, 9,  -999.00, 9,  -999.00,9,   -999.0,9,-999.0000,9,  -999.00,20160110,2204
  096U20160108, HEOBI,     1,  1,     20,20160110,2100,-36.3641, 103.6461, 4889,     50.5,  15.7720,  35.5800,2,  35.5600,2,    268.1,2,    261.3,2,     1.59,2,     0.06, 2,     0.02, 2,     0.12,2,   -999.0,9,-999.0000,9,  -999.00,20160110,2203
  096U20160108, HEOBI,     1,  1,     18,20160110,2100,-36.3641, 103.6461, 4889,     84.2,  14.7010,  35.5700,2,  35.5530,2,    255.7,2,    248.8,2,     1.67,2,     1.62, 2,     0.22, 2,     0.24,2,   -999.0,9,-999.0000,9,  -999.00,20160110,2201
  096U20160108, HEOBI,     1,  1,     19,20160110,2100,-36.3641, 103.6461, 4889,     84.3,  14.7000,  35.5700,2,-999.0000,9,    255.8,2,   -999.0,9,  -999.00,9,  -999.00, 9,  -999.00, 9,  -999.00,9,   -999.0,9,-999.0000,9,  -999.00,20160110,2202
  096U20160108, HEOBI,     1,  1,     17,20160110,2100,-36.3641, 103.6461, 4889,    100.6,  14.6330,  35.5660,2,  35.5500,2,    252.4,2,    247.5,2,     1.68,2,     1.90, 2,     0.06, 2,     0.25,2,   -999.0,9,-999.0000,9,  -999.00,20160110,2200
  096U20160108, HEOBI,     1,  1,     16,20160110,2100,-36.3641, 103.6461, 4889,    150.1,  14.5110,  35.5490,2,  35.5320,2,    252.8,2,    247.9,2,     1.66,2,     2.04, 2,     0.02, 2,     0.27,2,   -999.0,9,-999.0000,9,  -999.00,20160110,2159
  096U20160108, HEOBI,     1,  1,     15,20160110,2100,-36.3641, 103.6461, 4889,    199.9,  14.4050,  35.5310,2,  35.5130,2,    252.6,2,    248.5,2,     1.68,2,     2.20, 2,     0.02, 2,     0.28,2,   -999.0,9,-999.0000,9,  -999.00,20160110,2157
  096U20160108, HEOBI,     1,  1,     14,20160110,2100,-36.3641, 103.6461, 4889,    300.1,  13.6320,  35.3750,2,  35.3550,2,    252.1,2,    248.5,2,     1.81,2,     3.99, 2,     0.03, 2,     0.41,2,   -999.0,9,-999.0000,9,  -999.00,20160110,2154
  096U20160108, HEOBI,     1,  1,     13,20160110,2100,-36.3641, 103.6461, 4889,    399.2,  12.2290,  35.1220,2,  35.0920,2,    257.9,2,    254.9,2,     2.26,2,     7.07, 2,     0.03, 2,     0.63,2,   -999.0,9,-999.0000,9,  -999.00,20160110,2151
  096U20160108, HEOBI,     1,  1,     12,20160110,2100,-36.3641, 103.6461, 4889,    499.8,  11.0430,  34.9310,2,  34.9120,2,    255.8,2,    252.9,2,     3.20,2,    10.49, 2,     0.02, 2,     0.83,2,   -999.0,9,-999.0000,9,  -999.00,20160110,2148
  096U20160108, HEOBI,     1,  1,     11,20160110,2100,-36.3641, 103.6461, 4889,    599.3,  10.1810,  34.7990,2,  34.7850,2,    257.2,2,    254.3,2,     3.88,2,    12.83, 2,     0.02, 2,     0.98,2,   -999.0,9,-999.0000,9,  -999.00,20160110,2145
  096U20160108, HEOBI,     1,  1,     10,20160110,2100,-36.3641, 103.6461, 4889,    698.6,   9.6110,  34.7200,2,  34.7050,2,    252.3,2,    249.9,2,     4.60,2,    15.18, 2,     0.01, 2,     1.12,2,   -999.0,9,-999.0000,9,  -999.00,20160110,2143
  096U20160108, HEOBI,     1,  1,      9,20160110,2100,-36.3641, 103.6461, 4889,    799.1,   9.1270,  34.6540,2,  34.6400,2,    246.3,2,    244.9,2,     5.64,2,    17.34, 2,     0.02, 2,     1.24,2,   -999.0,9,-999.0000,9,  -999.00,20160110,2140
  096U20160108, HEOBI,     1,  1,      8,20160110,2100,-36.3641, 103.6461, 4889,    898.7,   8.3910,  34.5740,2,  34.5520,2,    228.7,2,    228.4,2,     9.15,2,    20.97, 2,     0.02, 2,     1.46,2,   -999.0,9,-999.0000,9,  -999.00,20160110,2137
  096U20160108, HEOBI,     1,  1,      7,20160110,2100,-36.3641, 103.6461, 4889,    999.8,   6.9510,  34.4690,2,  34.4540,2,    208.2,2,    208.0,2,    17.37,2,    26.21, 2,     0.00, 2,     1.80,2,   -999.0,9,-999.0000,9,  -999.00,20160110,2134
  096U20160108, HEOBI,     1,  1,      6,20160110,2100,-36.3641, 103.6461, 4889,   1200.1,   4.5690,  34.3850,2,  34.3710,2,    197.9,2,    199.5,2,    37.26,2,    32.21, 2,     0.01, 2,     2.22,2,   -999.0,9,-999.0000,9,  -999.00,20160110,2129
  096U20160108, HEOBI,     1,  1,      5,20160110,2100,-36.3641, 103.6461, 4889,   1399.2,   3.6630,  34.4580,2,  34.4460,2,    176.0,2,    177.5,2,    58.22,2,    34.98, 2,     0.03, 2,     2.42,2,   -999.0,9,-999.0000,9,  -999.00,20160110,2124
  096U20160108, HEOBI,     1,  1,      4,20160110,2100,-36.3641, 103.6461, 4889,   1600.2,   3.1320,  34.5430,2,  34.5340,2,    164.4,2,    165.8,2,    73.20,2,    35.91, 2,     0.01, 2,     2.50,2,   -999.0,9,-999.0000,9,  -999.00,20160110,2118
  096U20160108, HEOBI,     1,  1,      3,20160110,2100,-36.3641, 103.6461, 4889,   1798.6,   2.9200,  34.6210,2,  34.6080,2,    158.3,2,    161.0,2,    83.38,2,    35.76, 2,     0.03, 2,     2.50,2,   -999.0,9,-999.0000,9,  -999.00,20160110,2113
  096U20160108, HEOBI,     1,  1,      2,20160110,2100,-36.3641, 103.6461, 4889,   1999.0,   2.7030,  34.6730,2,  34.6600,2,    159.5,2,    161.9,2,    91.57,2,    35.35, 2,     0.05, 2,     2.47,2,   -999.0,9,-999.0000,9,  -999.00,20160110,2107
  096U20160108, HEOBI,     1,  1,      1,20160110,2100,-36.3641, 103.6461, 4889,   2300.6,   2.3770,  34.7220,2,  34.7100,2,    168.8,2,    172.4,2,    98.02,2,    34.25, 2,     0.02, 2,     2.39,2,   -999.0,9,-999.0000,9,  -999.00,20160110,2100
  096U20160108, HEOBI,     2,  1,     24,20160112,0912,-39.4835,  99.4129, 4179,      8.0,  15.8160,  35.1900,2,  35.1760,2,    269.8,2,    265.1,2,     0.67,2,     1.71, 2,     0.06, 2,     0.28,2,   2321.5,6,   7.9351,6,    25.00,20160112,1021
  096U20160108, HEOBI,     2,  1,     23,20160112,0912,-39.4835,  99.4129, 4179,      8.1,  15.8120,  35.1890,2,-999.0000,9,    269.1,2,   -999.0,9,  -999.00,9,  -999.00, 9,  -999.00, 9,  -999.00,9,   -999.0,9,-999.0000,9,  -999.00,20160112,1020
  096U20160108, HEOBI,     2,  1,     21,20160112,0912,-39.4835,  99.4129, 4179,     27.4,  15.7560,  35.1890,2,-999.0000,9,    268.8,2,   -999.0,9,  -999.00,9,  -999.00, 9,  -999.00, 9,  -999.00,9,   -999.0,9,-999.0000,9,  -999.00,20160112,1018
  096U20160108, HEOBI,     2,  1,     22,20160112,0912,-39.4835,  99.4129, 4179,     28.2,  15.7580,  35.1880,2,  35.1740,2,    268.8,2,    265.0,2,     0.67,2,     1.74, 2,     0.06, 2,     0.28,2,   2324.9,2,   7.9397,2,    25.00,20160112,1019
  096U20160108, HEOBI,     2,  1,     19,20160112,0912,-39.4835,  99.4129, 4179,     49.9,  15.1770,  35.2020,2,-999.0000,9,    267.5,2,   -999.0,9,  -999.00,9,  -999.00, 9,  -999.00, 9,  -999.00,9,   -999.0,9,-999.0000,9,  -999.00,20160112,1017
  096U20160108, HEOBI,     2,  1,     20,20160112,0912,-39.4835,  99.4129, 4179,     51.0,  15.1770,  35.2030,2,  35.1880,2,    267.7,2,    265.0,2,     1.01,2,     2.25, 2,     0.06, 2,     0.33,2,   2361.2,2,   7.9232,2,    25.00,20160112,1017
  096U20160108, HEOBI,     2,  1,     18,20160112,0912,-39.4835,  99.4129, 4179,     73.8,  13.2030,  35.1670,2,  35.1610,2,    279.9,2,    263.8,2,     1.79,2,     3.30, 2,     0.08, 2,     0.40,2,   2320.9,2,   7.9014,2,    25.00,20160112,1015
  096U20160108, HEOBI,     2,  1,     17,20160112,0912,-39.4835,  99.4129, 4179,     99.9,  12.4680,  35.1670,2,  35.1530,2,    271.2,2,    267.0,2,     2.20,2,     5.12, 2,     0.31, 2,     0.53,2,   2320.0,2,   7.8727,2,    25.00,20160112,1014
  096U20160108, HEOBI,     2,  1,     16,20160112,0912,-39.4835,  99.4129, 4179,    149.2,  12.0760,  35.1810,2,  35.1670,2,    264.2,2,    261.1,2,     2.26,2,     6.56, 2,     0.02, 2,     0.57,2,   2319.1,2,   7.8592,2,    25.00,20160112,1012
  096U20160108, HEOBI,     2,  1,     15,20160112,0912,-39.4835,  99.4129, 4179,    199.3,  12.0030,  35.1700,2,  35.1540,2,    263.4,2,    260.8,2,     2.35,2,     6.82, 2,     0.01, 2,     0.59,2,   2318.8,2,   7.8578,2,    25.00,20160112,1010
  096U20160108, HEOBI,     2,  1,     14,20160112,0912,-39.4835,  99.4129, 4179,    300.0,  12.0000,  35.1660,2,  35.1510,2,    263.0,2,    260.5,2,     2.37,2,     6.89, 2,     0.01, 2,     0.60,2,   2318.4,2,   7.8556,2,    25.00,20160112,1007
  096U20160108, HEOBI,     2,  1,     13,20160112,0912,-39.4835,  99.4129, 4179,    403.1,   9.7740,  34.7900,2,  34.7800,2,    245.1,2,    243.7,2,     4.72,2,    14.90, 2,     0.00, 2,     1.08,2,   2298.5,2,   7.7766,2,    25.00,20160112,1004
  096U20160108, HEOBI,     2,  1,     12,20160112,0912,-39.4835,  99.4129, 4179,    500.5,   8.3360,  34.5790,2,  34.5660,2,    227.5,2,    226.7,2,     9.11,2,    21.34, 2,     0.00, 2,     1.47,2,   2290.2,6,   7.7171,6,    25.00,20160112,1001
  096U20160108, HEOBI,     2,  1,     11,20160112,0912,-39.4835,  99.4129, 4179,    601.8,   7.2440,  34.4910,2,  34.4780,2,    209.7,2,    209.5,2,    15.25,2,    25.63, 2,     0.00, 2,     1.73,2,   2290.6,2,   7.6739,2,    25.00,20160112,0958
  096U20160108, HEOBI,     2,  1,     10,20160112,0912,-39.4835,  99.4129, 4179,    701.0,   6.1080,  34.4270,2,  34.4160,2,    202.8,2,    203.7,2,    22.52,2,    28.92, 2,     0.00, 2,     1.95,2,   2292.7,2,   7.6422,2,    25.00,20160112,0955
  096U20160108, HEOBI,     2,  1,      9,20160112,0912,-39.4835,  99.4129, 4179,    800.9,   5.1770,  34.3920,2,  34.3800,2,    201.6,2,    203.3,2,    29.74,2,    30.99, 2,     0.00, 2,     2.09,2,   2297.0,2,   7.6232,2,    25.00,20160112,0951
  096U20160108, HEOBI,     2,  1,      8,20160112,0912,-39.4835,  99.4129, 4179,    897.6,   4.4890,  34.3820,2,  34.3700,2,    199.7,2,    200.3,2,    36.78,2,    32.45, 2,     0.00, 2,     2.20,2,   2303.1,2,   7.6078,2,    25.00,20160112,0948
  096U20160108, HEOBI,     2,  1,      7,20160112,0912,-39.4835,  99.4129, 4179,    999.5,   3.8890,  34.3920,2,  34.3800,2,    195.5,2,    197.4,2,    44.69,2,    33.69, 2,     0.00, 2,     2.30,2,   2309.5,2,   7.5928,2,    25.00,20160112,0945
  096U20160108, HEOBI,     2,  1,      6,20160112,0912,-39.4835,  99.4129, 4179,   1196.2,   3.3130,  34.4640,2,  34.4510,2,    179.6,2,    181.6,2,    59.46,2,    35.12, 2,     0.00, 2,     2.42,2,   2323.6,2,   7.5698,2,    25.00,20160112,0941
  096U20160108, HEOBI,     2,  1,      5,20160112,0912,-39.4835,  99.4129, 4179,   1397.9,   2.9430,  34.5450,2,  34.5330,2,    171.0,2,    174.3,2,    70.34,2,    35.51, 2,     0.00, 2,     2.46,2,   2335.0,2,   7.5600,2,    25.00,20160112,0934
  096U20160108, HEOBI,     2,  1,      4,20160112,0912,-39.4835,  99.4129, 4179,   1586.7,   2.7150,  34.6080,2,  34.5960,2,    172.5,2,    176.3,2,    74.78,2,    34.86, 2,     0.00, 2,     2.41,2,   2339.8,2,   7.5639,2,    25.00,20160112,0929
  096U20160108, HEOBI,     2,  1,      3,20160112,0912,-39.4835,  99.4129, 4179,   1786.6,   2.5720,  34.6670,2,  34.6550,2,    174.5,2,    181.4,2,    79.83,2,    33.97, 2,     0.00, 2,     2.36,2,   2346.2,6,   7.5751,6,    25.00,20160112,0924
  096U20160108, HEOBI,     2,  1,      2,20160112,0912,-39.4835,  99.4129, 4179,   1983.1,   2.4070,  34.7160,2,  34.7050,2,    181.8,2,   -999.0,9,    82.11,2,    32.73, 2,     0.00, 2,     2.27,2,   2349.1,2,   7.5918,2,    25.00,20160112,0919
  096U20160108, HEOBI,     2,  1,      1,20160112,0912,-39.4835,  99.4129, 4179,   2286.3,   2.1740,  34.7540,2,  34.7420,2,    191.8,2,    196.6,2,    84.87,2,    31.43, 2,     0.00, 2,     2.19,2,   2351.5,2,   7.6098,2,    25.00,20160112,0912