BOTTLE,20220815CCHSIOAMB
EXPOCODE,SECT_ID,STNNBR,CASTNO,BTLNBR,DATE,TIME,LATITUDE,LONGITUDE,DEPTH,CTDPRS,CTDTMP,CTDSAL,CTDSAL_FLAG_W,SALNTY,SALNTY_FLAG_W,CTDOXY,CTDOXY_FLAG_W,OXYGEN,OXYGEN_FLAG_W,SILCAT,SILCAT_FLAG_W,NITRAT,NITRAT_FLAG_W,NITRIT,NITRIT_FLAG_W,PHSPHT,PHSPHT_FLAG_W,ALKALI,ALKALI_FLAG_W,PH_TOT,PH_TOT_FLAG_W,PH_TMP,BTL_DATE,BTL_TIME
,,,,,,,,,METERS,DBAR,ITS-90,PSS-78,,PSS-78,,UMOL/KG,,UMOL/KG,,UMOL/KG,,UMOL/KG,,UMOL/KG,,UMOL/KG,,UMOL/KG,,,,DEG C,,
  096U20160108, HEOBI,     4,  1,     23,20160117,2328,-48.2803,  79.3660, 3358,     14.8,   6.8260,  33.7820,2,-999.0000,9,    320.7,2,   -999.0,9,  -999.00,9,  -999.00, 9,  -999.00, 9,  -999.00,9,   -999.0,9,-999.0000,9,  -999.00,20160117,0038
  096U20160108, HEOBI,     4,  1,     24,20160117,2328,-48.2803,  79.3660, 3358,     15.8,   6.7900,  33.7820,2,  33.7710,2,    320.5,2,    316.3,2,     2.53,2,    20.76, 2,     0.23, 2,     1.44,2,   2272.2,6,   7.7802,6,    25.00,20160117,0038
  096U20160108, HEOBI,     4,  1,     21,20160117,2328,-48.2803,  79.3660, 3358,     29.9,   6.7820,  33.7810,2,-999.0000,9,    320.6,2,   -999.0,9,  -999.00,9,  -999.00, 9,  -999.00, 9,  -999.00,9,   -999.0,9,-999.0000,9,  -999.00,20160117,0037
  096U20160108, HEOBI,     4,  1,     22,20160117,2328,-48.2803,  79.3660, 3358,     30.1,   6.7820,  33.7800,2,  33.7710,2,    321.5,2,    317.5,2,     2.33,2,    20.68, 2,     0.23, 2,     1.42,2,   2262.1,2,   7.7453,2,    25.00,20160117,0037
  096U20160108, HEOBI,     4,  1,     20,20160117,2328,-48.2803,  79.3660, 3358,     49.9,   6.5100,  33.7680,2,  33.7570,2,    328.0,2,    324.4,2,     1.28,2,    19.86, 2,     0.24, 2,     1.38,2,   2274.8,2,   7.7970,4,    25.00,20160117,0035
  096U20160108, HEOBI,     4,  1,     18,20160117,2328,-48.2803,  79.3660, 3358,     70.2,   6.0310,  33.7550,2,  33.7560,2,    335.1,2,    328.4,2,     1.05,2,    19.72, 2,     0.26, 2,     1.37,2,   2276.9,2,   7.8043,2,    25.00,20160117,0033
  096U20160108, HEOBI,     4,  1,     19,20160117,2328,-48.2803,  79.3660, 3358,     70.8,   6.0200,  33.7560,2,-999.0000,9,    335.8,2,   -999.0,9,  -999.00,9,  -999.00, 9,  -999.00, 9,  -999.00,9,   -999.0,9,-999.0000,9,  -999.00,20160117,0034
  096U20160108, HEOBI,     4,  1,     17,20160117,2328,-48.2803,  79.3660, 3358,    101.5,   5.1060,  33.8600,2,  33.8580,2,    312.0,2,    308.4,2,     5.72,2,    23.68, 2,     0.30, 2,     1.65,2,   2273.6,2,   7.7201,2,    25.00,20160117,0032
  096U20160108, HEOBI,     4,  1,     16,20160117,2328,-48.2803,  79.3660, 3358,    150.8,   4.7080,  33.9490,2,  33.9380,2,    301.4,2,    299.6,2,     8.44,2,    25.16, 2,     0.02, 2,     1.72,2,   2276.2,2,   7.6980,2,    25.00,20160117,0030
  096U20160108, HEOBI,     4,  1,     15,20160117,2328,-48.2803,  79.3660, 3358,    199.0,   4.1900,  33.9480,2,  33.9460,2,    303.5,2,    300.9,2,    10.25,2,    26.11, 2,     0.02, 2,     1.78,2,   2277.4,2,   7.6864,2,    25.00,20160117,0028
  096U20160108, HEOBI,     4,  1,     14,20160117,2328,-48.2803,  79.3660, 3358,    299.7,   4.4320,  34.1730,2,  34.1620,2,    259.2,2,    258.5,2,    17.93,2,    28.68, 2,     0.01, 2,     1.94,2,   2281.8,2,   7.6443,2,    25.00,20160117,0025
  096U20160108, HEOBI,     4,  1,     13,20160117,2328,-48.2803,  79.3660, 3358,    400.3,   3.8760,  34.2120,2,  34.2110,2,    247.4,2,    244.5,2,    26.01,2,    30.84, 2,     0.01, 2,     2.08,2,   2288.3,2,   7.6233,2,    25.00,20160117,0022
  096U20160108, HEOBI,     4,  1,     12,20160117,2328,-48.2803,  79.3660, 3358,    500.5,   3.3730,  34.2550,2,  34.2470,2,    230.6,2,    231.5,2,    34.96,2,    32.84, 2,     0.01, 2,     2.21,2,   2295.8,2,   7.5990,2,    25.00,20160117,0019
  096U20160108, HEOBI,     4,  1,     11,20160117,2328,-48.2803,  79.3660, 3358,    600.3,   3.2990,  34.3260,2,  34.3160,2,    212.2,2,    212.9,2,    43.22,2,    34.03, 2,     0.01, 2,     2.30,2,   2303.7,6,   7.5796,6,    25.00,20160117,0015
  096U20160108, HEOBI,     4,  1,     10,20160117,2328,-48.2803,  79.3660, 3358,    700.7,   2.8500,  34.3610,2,  34.3520,2,    201.0,2,    203.5,2,    52.35,2,    35.55, 2,     0.00, 2,     2.39,2,   2311.6,2,   7.5600,2,    25.00,20160117,0013
  096U20160108, HEOBI,     4,  1,      9,20160117,2328,-48.2803,  79.3660, 3358,    800.4,   2.6770,  34.4380,2,  34.4270,2,    186.9,2,    189.0,2,    61.70,2,    36.22, 2,     0.00, 2,     2.44,2,   2319.7,2,   7.5448,2,    25.00,20160117,0010
  096U20160108, HEOBI,     4,  1,      8,20160117,2328,-48.2803,  79.3660, 3358,    899.9,   2.6000,  34.5020,2,  34.4920,2,    180.2,2,    183.2,2,    67.34,2,    36.18, 2,     0.00, 2,     2.44,2,   2326.3,2,   7.5444,2,    25.00,20160117,0007
  096U20160108, HEOBI,     4,  1,      7,20160117,2328,-48.2803,  79.3660, 3358,   1001.2,   2.7580,  34.5910,2,  34.5800,2,    179.1,2,    179.7,2,    69.11,2,    34.77, 2,     0.00, 2,     2.36,2,   2333.4,2,   7.5669,2,    25.00,20160117,0004
  096U20160108, HEOBI,     4,  1,      6,20160117,2328,-48.2803,  79.3660, 3358,   1200.7,   2.5520,  34.6620,2,  34.6520,2,    183.0,2,    185.6,2,    72.98,2,    33.56, 2,     0.00, 2,     2.28,2,   2338.8,2,   7.5796,2,    25.00,20160117,2358
  096U20160108, HEOBI,     4,  1,      5,20160117,2328,-48.2803,  79.3660, 3358,   1397.7,   2.4730,  34.7150,2,  34.7040,2,    189.1,2,    196.7,2,    74.18,2,    32.31, 2,     0.00, 2,     2.20,2,   2341.4,2,   7.5932,2,    25.00,20160117,2353
  096U20160108, HEOBI,     4,  1,      4,20160117,2328,-48.2803,  79.3660, 3358,   1696.4,   2.2190,  34.7520,2,  34.7410,2,    195.5,2,    200.0,2,    79.98,2,    31.45, 2,     0.00, 2,     2.14,2,   2346.2,2,   7.6088,2,    25.00,20160117,2345
  096U20160108, HEOBI,     4,  1,      3,20160117,2328,-48.2803,  79.3660, 3358,   1798.4,   2.1820,  34.7660,2,  34.7600,2,    199.3,2,    206.3,2,    80.12,2,    30.91, 2,     0.00, 2,     2.11,2,   2348.0,2,   7.6186,2,    25.00,20160117,2341
  096U20160108, HEOBI,     4,  1,      2,20160117,2328,-48.2803,  79.3660, 3358,   2001.5,   1.9800,  34.7640,2,  34.7530,2,    199.8,2,    209.8,2,    86.75,2,    31.22, 2,     0.00, 2,     2.13,2,   2350.9,2,   7.6173,2,    25.00,20160117,2335
  096U20160108, HEOBI,     4,  1,      1,20160117,2328,-48.2803,  79.3660, 3358,   2297.8,   1.7370,  34.7640,2,  34.7540,2,    202.8,2,    208.2,2,    94.07,2,    31.33, 2,     0.00, 2,     2.14,2,   2356.1,2,   7.6202,2,    25.00,20160117,2328
  096U20160108, HEOBI,     6,  1,     24,20160118,0154,-49.8940,  78.5992, 3611,     15.6,   5.4070,  33.7630,2,  33.7530,2,    329.2,2,    325.3,2,     1.42,2,    20.47, 2,     0.27, 2,     1.42,2,   2277.5,6,   7.7834,2,    25.00,20160118,0334
  096U20160108, HEOBI,     6,  1,     23,20160118,0154,-49.8940,  78.5992, 3611,     30.2,   5.3790,  33.7640,2,  33.7540,2,    329.0,2,    325.3,2,     1.32,2,    20.50, 2,     0.27, 2,     1.41,2,   2279.0,2,   7.7873,2,    25.00,20160118,0332
  096U20160108, HEOBI,     6,  1,     22,20160118,0154,-49.8940,  78.5992, 3611,     75.3,   4.6430,  33.7880,2,  33.7780,2,    332.2,2,    328.6,2,     1.44,2,    21.39, 2,     0.26, 2,     1.48,2,   2281.5,2,   7.7757,2,    25.00,20160118,0330
  096U20160108, HEOBI,     6,  1,     21,20160118,0154,-49.8940,  78.5992, 3611,     80.0,   4.5940,  33.7880,2,  33.7800,2,    330.5,2,    327.6,2,     1.98,2,    21.60, 2,     0.27, 2,     1.51,2,   2282.0,2,   7.7701,2,    25.00,20160118,0329
  096U20160108, HEOBI,     6,  1,     20,20160118,0154,-49.8940,  78.5992, 3611,     99.5,   3.9950,  33.8110,2,  33.8110,2,    324.8,2,    322.4,2,     6.40,2,    23.49, 2,     0.29, 2,     1.74,2,   2279.5,2,   7.7241,2,    25.00,20160118,0327
  096U20160108, HEOBI,     6,  1,     19,20160118,0154,-49.8940,  78.5992, 3611,    149.6,   3.1700,  33.8670,2,  33.8610,2,    318.7,2,    317.0,2,    13.51,2,    27.19, 2,     0.23, 2,     1.92,2,   2279.4,2,   7.6825,2,    25.00,20160118,0324
  096U20160108, HEOBI,     6,  1,     18,20160118,0154,-49.8940,  78.5992, 3611,    199.5,   2.8270,  33.9070,2,  33.9070,2,    313.6,2,    311.6,2,    16.58,2,    28.55, 2,     0.09, 2,     1.94,2,   2280.0,2,   7.6654,2,    25.00,20160118,0322
  096U20160108, HEOBI,     6,  1,     17,20160118,0154,-49.8940,  78.5992, 3611,    300.4,   2.7290,  34.1050,2,  34.0940,2,    267.4,2,    266.9,2,    29.16,2,    31.73, 2,     0.03, 2,     2.13,2,   2287.2,2,   7.6106,2,    25.00,20160118,0319
  096U20160108, HEOBI,     6,  1,     16,20160118,0154,-49.8940,  78.5992, 3611,    400.1,   2.6370,  34.2260,2,  34.2170,2,    232.1,2,    233.3,2,    41.48,2,    34.20, 2,     0.01, 2,     2.29,2,   2298.6,2,   7.5779,2,    25.00,20160118,0316
  096U20160108, HEOBI,     6,  1,     15,20160118,0154,-49.8940,  78.5992, 3611,    500.9,   2.6030,  34.3450,2,  34.3490,2,    202.2,2,    203.7,2,    54.31,2,    35.98, 2,     0.01, 2,     2.41,2,   2310.0,2,   7.5499,2,    25.00,20160118,0313
  096U20160108, HEOBI,     6,  1,     14,20160118,0154,-49.8940,  78.5992, 3611,    600.5,   2.5130,  34.4350,2,  34.4240,2,    189.5,2,    189.9,2,    62.85,2,    36.17, 2,     0.01, 2,     2.44,2,   2319.6,2,   7.5434,2,    25.00,20160118,0309
  096U20160108, HEOBI,     6,  1,     13,20160118,0154,-49.8940,  78.5992, 3611,    801.2,   2.3940,  34.5540,2,  34.5460,2,    178.7,2,    181.0,2,    73.02,2,    35.88, 2,     0.01, 2,     2.42,2,   2330.6,6,   7.5436,6,    25.00,20160118,0304
  096U20160108, HEOBI,     6,  1,     12,20160118,0154,-49.8940,  78.5992, 3611,    997.1,   2.3960,  34.6570,2,  34.6450,2,    181.5,2,    183.5,2,    76.22,2,    34.13, 2,     0.00, 2,     2.31,2,   2338.2,2,   7.5691,2,    25.00,20160118,0259
  096U20160108, HEOBI,     6,  1,     11,20160118,0154,-49.8940,  78.5992, 3611,   1200.1,   2.3270,  34.7010,2,  34.6900,2,    185.9,2,    189.3,2,    78.06,2,    33.08, 2,     0.00, 2,     2.24,2,   2340.9,2,   7.5807,2,    25.00,20160118,0254
  096U20160108, HEOBI,     6,  1,     10,20160118,0154,-49.8940,  78.5992, 3611,   1399.6,   2.2320,  34.7350,2,  34.7250,2,    191.5,2,    194.3,2,    79.87,2,    32.10, 2,     0.00, 2,     2.18,2,   2344.4,2,   7.5971,2,    25.00,20160118,0249
  096U20160108, HEOBI,     6,  1,      9,20160118,0154,-49.8940,  78.5992, 3611,   1599.2,   2.0990,  34.7550,2,  34.7470,2,    196.3,2,    199.9,2,    82.84,2,    31.44, 2,     0.00, 2,     2.14,2,   2347.6,2,   7.6075,2,    25.00,20160118,0243
  096U20160108, HEOBI,     6,  1,      8,20160118,0154,-49.8940,  78.5992, 3611,   1799.4,   1.9980,  34.7650,2,  34.7530,2,    199.6,2,    203.5,2,    85.30,2,    31.15, 2,     0.00, 2,     2.12,2,   2350.0,2,   7.6152,2,    25.00,20160118,0238
  096U20160108, HEOBI,     6,  1,      7,20160118,0154,-49.8940,  78.5992, 3611,   2000.2,   1.8380,  34.7660,2,  34.7550,2,    201.7,2,    206.3,2,    90.10,2,    31.18, 2,     0.00, 2,     2.13,2,   2354.4,2,   7.6189,2,    25.00,20160118,0233
  096U20160108, HEOBI,     6,  1,      6,20160118,0154,-49.8940,  78.5992, 3611,   2501.2,   1.3590,  34.7480,2,  34.7410,2,    204.9,2,    211.5,2,   104.92,2,    32.02, 2,     0.01, 2,     2.19,2,   -999.0,9,-999.0000,9,  -999.00,20160118,0223
  096U20160108, HEOBI,     6,  1,      5,20160118,0154,-49.8940,  78.5992, 3611,   3001.1,   0.9610,  34.7270,2,  34.7150,2,    208.4,2,    218.1,2,   117.90,2,    32.99, 2,     0.00, 2,     2.26,2,   -999.0,9,-999.0000,9,  -999.00,20160118,0212
  096U20160108, HEOBI,     6,  1,      4,20160118,0154,-49.8940,  78.5992, 3611,   3377.4,   0.6020,  34.7080,2,  34.7010,2,    213.8,2,    221.6,2,   126.29,2,    33.48, 2,     0.00, 2,     2.29,2,   -999.0,9,-999.0000,9,  -999.00,20160118,0203
  096U20160108, HEOBI,     6,  1,      3,20160118,0154,-49.8940,  78.5992, 3611,   3478.0,   0.4970,  34.7020,2,  34.6890,2,    216.1,2,    224.9,2,   128.64,2,    33.56, 2,     0.01, 2,     2.30,2,   -999.0,9,-999.0000,9,  -999.00,20160118,0159
  096U20160108, HEOBI,     6,  1,      2,20160118,0154,-49.8940,  78.5992, 3611,   3536.2,   0.4310,  34.6990,2,  34.6970,2,    217.3,2,    226.6,2,   129.97,2,    33.66, 2,     0.00, 2,     2.31,2,   -999.0,9,-999.0000,9,  -999.00,20160118,0157
  096U20160108, HEOBI,     6,  1,      1,20160118,0154,-49.8940,  78.5992, 3611,   3579.1,   0.4070,  34.6970,2,  34.6870,2,    217.9,2,    228.1,2,   130.48,2,    33.70, 3,     0.00, 2,     2.31,2,   -999.0,9,-999.0000,9,  -999.00,20160118,0154
  096U20160108, HEOBI,     7,  1,     23,20160118,1417,-50.2400,  77.7290, 3519,     14.2,   5.7940,  33.7360,2,  33.7220,2,    325.5,2,    322.7,2,     0.73,2,    19.18, 2,     0.26, 2,     1.33,2,   -999.0,9,-999.0000,9,  -999.00,20160118,1552
  096U20160108, HEOBI,     7,  1,     24,20160118,1417,-50.2400,  77.7290, 3519,     14.6,   5.8000,  33.7290,2,-999.0000,9,    325.5,2,   -999.0,9,  -999.00,9,  -999.00, 9,  -999.00, 9,  -999.00,9,   -999.0,9,-999.0000,9,  -999.00,20160118,1552
  096U20160108, HEOBI,     7,  1,     21,20160118,1417,-50.2400,  77.7290, 3519,     30.2,   5.7520,  33.7460,2,  33.7360,2,    323.7,2,    321.2,2,     0.77,2,    19.31, 2,     0.26, 2,     1.35,2,   -999.0,9,-999.0000,9,  -999.00,20160118,1551
  096U20160108, HEOBI,     7,  1,     22,20160118,1417,-50.2400,  77.7290, 3519,     30.2,   5.7520,  33.7460,2,-999.0000,9,    323.6,2,   -999.0,9,  -999.00,9,  -999.00, 9,  -999.00, 9,  -999.00,9,   -999.0,9,-999.0000,9,  -999.00,20160118,1551
  096U20160108, HEOBI,     7,  1,     20,20160118,1417,-50.2400,  77.7290, 3519,     70.0,   5.3580,  33.7590,2,  33.7510,2,    325.6,2,    323.7,2,     1.19,2,    20.20, 2,     0.26, 2,     1.44,2,   -999.0,9,-999.0000,9,  -999.00,20160118,1549
  096U20160108, HEOBI,     7,  1,     18,20160118,1417,-50.2400,  77.7290, 3519,    100.0,   4.6590,  33.7990,2,-999.0000,9,    321.0,2,   -999.0,9,  -999.00,9,  -999.00, 9,  -999.00, 9,  -999.00,9,   -999.0,9,-999.0000,9,  -999.00,20160118,1547
  096U20160108, HEOBI,     7,  1,     19,20160118,1417,-50.2400,  77.7290, 3519,    101.0,   4.6600,  33.7990,2,  33.7910,2,    320.6,2,    319.3,2,     3.94,2,    22.40, 2,     0.28, 2,     1.64,2,   -999.0,9,-999.0000,9,  -999.00,20160118,1548
  096U20160108, HEOBI,     7,  1,     17,20160118,1417,-50.2400,  77.7290, 3519,    200.0,   3.2710,  33.9530,2,  33.9540,2,    303.7,2,    301.1,2,    14.98,2,    28.11, 2,     0.05, 2,     1.91,2,   -999.0,9,-999.0000,9,  -999.00,20160118,1544
  096U20160108, HEOBI,     7,  1,     16,20160118,1417,-50.2400,  77.7290, 3519,    300.7,   3.2020,  34.1320,2,-999.0000,9,    261.9,2,   -999.0,9,    25.72,2,    31.10, 2,     0.01, 2,     2.10,2,   -999.0,9,-999.0000,9,  -999.00,20160118,1541
  096U20160108, HEOBI,     7,  1,     15,20160118,1417,-50.2400,  77.7290, 3519,    400.1,   2.6050,  34.2110,2,  34.2010,2,    235.8,2,    235.7,2,    39.84,2,    33.88, 2,     0.01, 2,     2.28,2,   -999.0,9,-999.0000,9,  -999.00,20160118,1539
  096U20160108, HEOBI,     7,  1,     14,20160118,1417,-50.2400,  77.7290, 3519,    501.0,   2.7210,  34.3270,2,-999.0000,9,    207.7,2,   -999.0,9,    50.53,2,    35.22, 2,     0.01, 2,     2.37,2,   -999.0,9,-999.0000,9,  -999.00,20160118,1535
  096U20160108, HEOBI,     7,  1,     13,20160118,1417,-50.2400,  77.7290, 3519,    599.0,   2.6900,  34.4120,2,  34.3990,2,    190.3,2,    191.3,2,    58.49,2,    36.06, 2,     0.01, 2,     2.43,2,   -999.0,9,-999.0000,9,  -999.00,20160118,1532
  096U20160108, HEOBI,     7,  1,     12,20160118,1417,-50.2400,  77.7290, 3519,    797.4,   2.6680,  34.5470,2,-999.0000,9,    179.0,2,   -999.0,9,    68.14,2,    35.36, 2,     0.01, 2,     2.40,2,   -999.0,9,-999.0000,9,  -999.00,20160118,1528
  096U20160108, HEOBI,     7,  1,     11,20160118,1417,-50.2400,  77.7290, 3519,   1001.0,   2.5210,  34.6430,2,  34.6330,2,    180.6,2,    183.2,2,    73.15,2,    34.04, 2,     0.00, 2,     2.31,2,   -999.0,9,-999.0000,9,  -999.00,20160118,1522
  096U20160108, HEOBI,     7,  1,     10,20160118,1417,-50.2400,  77.7290, 3519,   1199.1,   2.3110,  34.6910,2,-999.0000,9,    184.0,2,   -999.0,9,    78.60,2,    33.32, 2,     0.00, 2,     2.26,2,   -999.0,9,-999.0000,9,  -999.00,20160118,1517
  096U20160108, HEOBI,     7,  1,      9,20160118,1417,-50.2400,  77.7290, 3519,   1400.6,   2.2170,  34.7250,2,  34.7130,2,    188.7,2,    190.6,2,    80.98,2,    32.42, 2,     0.00, 2,     2.21,2,   -999.0,9,-999.0000,9,  -999.00,20160118,1512
  096U20160108, HEOBI,     7,  1,      8,20160118,1417,-50.2400,  77.7290, 3519,   1600.9,   2.1420,  34.7560,2,-999.0000,9,    196.5,2,   -999.0,9,    81.08,2,    31.24, 2,     0.00, 2,     2.13,2,   -999.0,9,-999.0000,9,  -999.00,20160118,1507
  096U20160108, HEOBI,     7,  1,      7,20160118,1417,-50.2400,  77.7290, 3519,   1799.1,   1.9670,  34.7650,2,  34.7530,2,    199.9,2,    203.6,2,    86.12,2,    31.04, 2,     0.01, 2,     2.12,2,   -999.0,9,-999.0000,9,  -999.00,20160118,1501
  096U20160108, HEOBI,     7,  1,      6,20160118,1417,-50.2400,  77.7290, 3519,   2000.0,   1.7740,  34.7630,2,  34.7510,2,    201.7,2,    205.0,2,    91.00,2,    31.25, 2,     0.00, 2,     2.14,2,   -999.0,9,-999.0000,9,  -999.00,20160118,1456
  096U20160108, HEOBI,     7,  1,      5,20160118,1417,-50.2400,  77.7290, 3519,   2499.8,   1.2630,  34.7440,2,  34.7320,2,    205.6,2,    210.7,2,   107.64,2,    32.18, 2,     0.00, 2,     2.21,2,   -999.0,9,-999.0000,9,  -999.00,20160118,1445
  096U20160108, HEOBI,     7,  1,      4,20160118,1417,-50.2400,  77.7290, 3519,   3309.6,   0.5170,  34.7040,2,  34.6910,2,    215.4,2,    222.0,2,   127.44,2,    33.43, 2,     0.00, 2,     2.30,2,   -999.0,9,-999.0000,9,  -999.00,20160118,1427
  096U20160108, HEOBI,     7,  1,      3,20160118,1417,-50.2400,  77.7290, 3519,   3411.6,   0.4410,  34.6990,2,  34.6900,2,    217.1,2,    223.6,2,   129.36,2,    33.50, 2,     0.01, 2,     2.30,2,   -999.0,9,-999.0000,9,  -999.00,20160118,1424
  096U20160108, HEOBI,     7,  1,      2,20160118,1417,-50.2400,  77.7290, 3519,   3464.5,   0.3930,  34.6970,2,  34.6850,2,    218.3,2,    225.1,2,   130.79,2,    33.56, 2,     0.00, 2,     2.31,2,   -999.0,9,-999.0000,9,  -999.00,20160118,1420
  096U20160108, HEOBI,     7,  1,      1,20160118,1417,-50.2400,  77.7290, 3519,   3509.1,   0.3720,  34.6960,2,  34.6840,2,    218.2,2,    224.9,2,   133.00,2,    33.62, 2,     0.01, 2,     2.32,2,   -999.0,9,-999.0000,9,  -999.00,20160118,1417