BOTTLE,20220815CCHSIOAMB
EXPOCODE,SECT_ID,STNNBR,CASTNO,BTLNBR,DATE,TIME,LATITUDE,LONGITUDE,DEPTH,CTDPRS,CTDTMP,CTDSAL,CTDSAL_FLAG_W,SALNTY,SALNTY_FLAG_W,CTDOXY,CTDOXY_FLAG_W,OXYGEN,OXYGEN_FLAG_W,SILCAT,SILCAT_FLAG_W,NITRAT,NITRAT_FLAG_W,NITRIT,NITRIT_FLAG_W,PHSPHT,PHSPHT_FLAG_W,ALKALI,ALKALI_FLAG_W,PH_TOT,PH_TOT_FLAG_W,PH_TMP,BTL_DATE,BTL_TIME
,,,,,,,,,METERS,DBAR,ITS-90,PSS-78,,PSS-78,,UMOL/KG,,UMOL/KG,,UMOL/KG,,UMOL/KG,,UMOL/KG,,UMOL/KG,,UMOL/KG,,,,DEG C,,
  096U20160108, HEOBI,    14,  1,     13,20160120,1030,-50.8991,  75.3803,  597,     14.0,   4.3890,  33.8030,2,  33.7960,2,    336.7,2,    332.2,2,     3.67,2,    22.97, 2,     0.23, 2,     1.52,2,   -999.0,9,-999.0000,9,  -999.00,20160120,1050
  096U20160108, HEOBI,    14,  1,     12,20160120,1030,-50.8991,  75.3803,  597,     30.4,   4.1100,  33.8110,2,  33.8140,2,    336.3,2,    332.9,2,     4.71,2,    23.45, 2,     0.24, 2,     1.57,2,   -999.0,9,-999.0000,9,  -999.00,20160120,1049
  096U20160108, HEOBI,    14,  1,     11,20160120,1030,-50.8991,  75.3803,  597,     39.9,   3.0960,  33.8650,2,  33.8570,2,    334.3,2,    330.9,2,     8.44,2,    24.79, 2,     0.26, 2,     1.69,2,   -999.0,9,-999.0000,9,  -999.00,20160120,1047
  096U20160108, HEOBI,    14,  1,     10,20160120,1030,-50.8991,  75.3803,  597,     69.6,   2.5480,  33.8960,2,  33.8960,2,    331.6,2,    327.3,2,    13.23,2,    26.14, 2,     0.24, 2,     1.79,2,   -999.0,9,-999.0000,9,  -999.00,20160120,1046
  096U20160108, HEOBI,    14,  1,      9,20160120,1030,-50.8991,  75.3803,  597,    100.0,   2.0460,  33.9840,2,  33.9740,2,    310.3,2,    307.0,2,    23.41,2,    28.67, 2,     0.18, 2,     1.95,2,   -999.0,9,-999.0000,9,  -999.00,20160120,1045
  096U20160108, HEOBI,    14,  1,      8,20160120,1030,-50.8991,  75.3803,  597,    149.2,   1.7720,  34.0380,2,  34.0290,2,    296.4,2,    293.7,2,    31.27,2,    30.14, 2,     0.16, 2,     2.06,2,   -999.0,9,-999.0000,9,  -999.00,20160120,1043
  096U20160108, HEOBI,    14,  1,      7,20160120,1030,-50.8991,  75.3803,  597,    200.2,   1.6730,  34.0780,2,  34.0710,2,    285.2,2,    283.2,2,    36.32,2,    31.05, 2,     0.14, 2,     2.13,2,   -999.0,9,-999.0000,9,  -999.00,20160120,1041
  096U20160108, HEOBI,    14,  1,      6,20160120,1030,-50.8991,  75.3803,  597,    251.2,   1.5370,  34.1100,2,  34.1060,2,    279.1,2,    275.0,2,    40.18,2,    32.16, 2,     0.11, 2,     2.18,2,   -999.0,9,-999.0000,9,  -999.00,20160120,1040
  096U20160108, HEOBI,    14,  1,      5,20160120,1030,-50.8991,  75.3803,  597,    311.4,   2.3390,  34.2780,2,  34.2690,2,    220.1,2,    219.1,2,    50.59,2,    35.09, 2,     0.01, 2,     2.36,2,   -999.0,9,-999.0000,9,  -999.00,20160120,1038
  096U20160108, HEOBI,    14,  1,      4,20160120,1030,-50.8991,  75.3803,  597,    360.6,   2.3100,  34.3550,2,  34.3450,2,    203.9,2,    204.7,2,    58.56,2,    35.91, 2,     0.01, 2,     2.42,2,   -999.0,9,-999.0000,9,  -999.00,20160120,1036
  096U20160108, HEOBI,    14,  1,      3,20160120,1030,-50.8991,  75.3803,  597,    409.7,   2.2720,  34.3920,2,  34.3810,2,    198.1,2,    198.0,2,    62.10,2,    36.05, 2,     0.01, 2,     2.42,2,   -999.0,9,-999.0000,9,  -999.00,20160120,1034
  096U20160108, HEOBI,    14,  1,      2,20160120,1030,-50.8991,  75.3803,  597,    460.4,   2.2250,  34.4150,2,  34.4050,2,    204.1,2,    204.4,2,    63.07,2,    35.08, 2,     0.04, 2,     2.37,2,   -999.0,9,-999.0000,9,  -999.00,20160120,1032
  096U20160108, HEOBI,    14,  1,      1,20160120,1030,-50.8991,  75.3803,  597,    511.1,   2.2620,  34.4540,2,  34.4490,2,    199.0,2,    278.9,2,    65.57,2,    35.17, 3,     0.03, 2,     2.37,2,   -999.0,9,-999.0000,9,  -999.00,20160120,1030
  096U20160108, HEOBI,    15,  1,     16,20160120,1842,-51.0982,  74.5940,  543,     14.3,   3.3160,  33.8740,2,  33.8660,2,    356.3,2,    352.6,2,     2.23,2,    22.14, 2,     0.30, 2,     1.39,2,   -999.0,9,-999.0000,9,  -999.00,20160120,1906
  096U20160108, HEOBI,    15,  1,     18,20160120,1842,-51.0982,  74.5940,  543,     14.3,   3.3140,  33.8740,2,-999.0000,9,    356.5,2,   -999.0,9,  -999.00,9,  -999.00, 9,  -999.00, 9,  -999.00,9,   -999.0,9,-999.0000,9,  -999.00,20160120,1906
  096U20160108, HEOBI,    15,  1,     17,20160120,1842,-51.0982,  74.5940,  543,     14.8,   3.3140,  33.8740,2,-999.0000,9,    356.1,2,   -999.0,9,  -999.00,9,  -999.00, 9,  -999.00, 9,  -999.00,9,   -999.0,9,-999.0000,9,  -999.00,20160120,1906
  096U20160108, HEOBI,    15,  1,     15,20160120,1842,-51.0982,  74.5940,  543,     30.1,   3.0620,  33.8780,2,-999.0000,9,    358.9,2,   -999.0,9,  -999.00,9,  -999.00, 9,  -999.00, 9,  -999.00,9,   -999.0,9,-999.0000,9,  -999.00,20160120,1904
  096U20160108, HEOBI,    15,  1,     14,20160120,1842,-51.0982,  74.5940,  543,     30.2,   3.0590,  33.8780,2,-999.0000,9,    358.9,2,   -999.0,9,  -999.00,9,  -999.00, 9,  -999.00, 9,  -999.00,9,   -999.0,9,-999.0000,9,  -999.00,20160120,1904
  096U20160108, HEOBI,    15,  1,     13,20160120,1842,-51.0982,  74.5940,  543,     30.5,   3.0690,  33.8780,2,  33.8700,2,    358.5,2,    354.8,2,     2.19,2,    22.34, 2,     0.29, 2,     1.41,2,   -999.0,9,-999.0000,9,  -999.00,20160120,1904
  096U20160108, HEOBI,    15,  1,     11,20160120,1842,-51.0982,  74.5940,  543,     75.7,   2.5260,  33.8930,2,-999.0000,9,    346.3,2,   -999.0,9,  -999.00,9,  -999.00, 9,  -999.00, 9,  -999.00,9,   -999.0,9,-999.0000,9,  -999.00,20160120,1902
  096U20160108, HEOBI,    15,  1,     10,20160120,1842,-51.0982,  74.5940,  543,     76.1,   2.5250,  33.8930,2,  33.8850,2,    346.3,2,    343.5,2,     3.89,2,    23.34, 2,     0.29, 2,     1.58,2,   -999.0,9,-999.0000,9,  -999.00,20160120,1902
  096U20160108, HEOBI,    15,  1,     12,20160120,1842,-51.0982,  74.5940,  543,     76.5,   2.5240,  33.8930,2,-999.0000,9,    346.4,2,   -999.0,9,  -999.00,9,  -999.00, 9,  -999.00, 9,  -999.00,9,   -999.0,9,-999.0000,9,  -999.00,20160120,1902
  096U20160108, HEOBI,    15,  1,      9,20160120,1842,-51.0982,  74.5940,  543,    100.1,   1.9370,  33.8940,2,  33.8880,2,    341.6,2,    338.6,2,    12.05,2,    25.28, 2,     0.28, 2,     1.79,2,   -999.0,9,-999.0000,9,  -999.00,20160120,1900
  096U20160108, HEOBI,    15,  1,      8,20160120,1842,-51.0982,  74.5940,  543,    150.8,   1.2600,  33.9540,2,  33.9480,2,    323.4,2,    321.2,2,    25.59,2,    28.60, 2,     0.20, 2,     2.04,2,   -999.0,9,-999.0000,9,  -999.00,20160120,1858
  096U20160108, HEOBI,    15,  1,      7,20160120,1842,-51.0982,  74.5940,  543,    199.6,   1.1120,  33.9750,2,  33.9650,2,    319.3,2,    317.7,2,    28.90,2,    29.65, 2,     0.16, 2,     2.07,2,   -999.0,9,-999.0000,9,  -999.00,20160120,1856
  096U20160108, HEOBI,    15,  1,      6,20160120,1842,-51.0982,  74.5940,  543,    251.3,   1.5840,  34.1180,2,  34.1180,2,    272.5,2,    270.6,2,    41.25,2,    32.48, 2,     0.10, 2,     2.22,2,   -999.0,9,-999.0000,9,  -999.00,20160120,1854
  096U20160108, HEOBI,    15,  1,      5,20160120,1842,-51.0982,  74.5940,  543,    346.7,   2.2330,  34.3560,2,  34.3450,2,    205.4,2,    206.4,2,    59.67,2,    35.56, 2,     0.02, 2,     2.40,2,   -999.0,9,-999.0000,9,  -999.00,20160120,1850
  096U20160108, HEOBI,    15,  1,      4,20160120,1842,-51.0982,  74.5940,  543,    394.9,   2.2190,  34.4420,2,  34.4320,2,    202.5,2,    203.5,2,    66.41,2,    34.64, 2,     0.03, 2,     2.36,2,   -999.0,9,-999.0000,9,  -999.00,20160120,1849
  096U20160108, HEOBI,    15,  1,      3,20160120,1842,-51.0982,  74.5940,  543,    445.7,   2.2280,  34.4650,2,  34.4570,2,    199.4,2,    199.9,2,    68.62,2,    34.58, 2,     0.04, 2,     2.36,2,   -999.0,9,-999.0000,9,  -999.00,20160120,1847
  096U20160108, HEOBI,    15,  1,      2,20160120,1842,-51.0982,  74.5940,  543,    496.1,   2.2880,  34.5190,2,  34.5090,2,    187.5,2,    189.1,2,    72.53,2,    35.01, 2,     0.02, 2,     2.38,2,   -999.0,9,-999.0000,9,  -999.00,20160120,1844
  096U20160108, HEOBI,    15,  1,      1,20160120,1842,-51.0982,  74.5940,  543,    533.4,   2.2940,  34.5340,2,  34.5250,2,    185.8,2,    187.5,2,    74.12,2,    34.93, 2,     0.02, 2,     2.38,2,   -999.0,9,-999.0000,9,  -999.00,20160120,1842
  096U20160108, HEOBI,    16,  1,     18,20160121,0107,-51.2872,  73.8095,  446,     14.2,   3.4470,  33.8570,2,-999.0000,9,    351.8,2,   -999.0,9,  -999.00,9,  -999.00, 9,  -999.00, 9,  -999.00,9,   -999.0,9,-999.0000,9,  -999.00,20160121,0131
  096U20160108, HEOBI,    16,  1,     19,20160121,0107,-51.2872,  73.8095,  446,     14.9,   3.3520,  33.8720,2,-999.0000,9,    352.7,2,   -999.0,9,  -999.00,9,  -999.00, 9,  -999.00, 9,  -999.00,9,   -999.0,9,-999.0000,9,  -999.00,20160121,0131
  096U20160108, HEOBI,    16,  1,     17,20160121,0107,-51.2872,  73.8095,  446,     15.0,   3.4800,  33.8480,2,  33.8560,2,    350.9,2,    348.6,2,     1.52,2,    20.44, 2,     0.35, 2,     1.36,2,   -999.0,9,-999.0000,9,  -999.00,20160121,0130
  096U20160108, HEOBI,    16,  1,     14,20160121,0107,-51.2872,  73.8095,  446,     30.0,   3.1210,  33.8820,2,-999.0000,9,    346.6,2,   -999.0,9,  -999.00,9,  -999.00, 9,  -999.00, 9,  -999.00,9,   -999.0,9,-999.0000,9,  -999.00,20160121,0129
  096U20160108, HEOBI,    16,  1,     15,20160121,0107,-51.2872,  73.8095,  446,     30.1,   3.1340,  33.8810,2,-999.0000,9,    346.1,2,   -999.0,9,  -999.00,9,  -999.00, 9,  -999.00, 9,  -999.00,9,   -999.0,9,-999.0000,9,  -999.00,20160121,0129
  096U20160108, HEOBI,    16,  1,     16,20160121,0107,-51.2872,  73.8095,  446,     30.1,   3.1460,  33.8810,2,-999.0000,9,    346.8,2,   -999.0,9,  -999.00,9,  -999.00, 9,  -999.00, 9,  -999.00,9,   -999.0,9,-999.0000,9,  -999.00,20160121,0129
  096U20160108, HEOBI,    16,  1,     13,20160121,0107,-51.2872,  73.8095,  446,     30.2,   3.1160,  33.8820,2,  33.8750,2,    346.1,2,    343.6,2,     1.56,2,    20.85, 2,     0.34, 2,     1.45,2,   -999.0,9,-999.0000,9,  -999.00,20160121,0128
  096U20160108, HEOBI,    16,  1,      9,20160121,0107,-51.2872,  73.8095,  446,     40.6,   3.0790,  33.8860,2,  33.8760,2,    343.8,2,    341.5,2,     1.67,2,    20.97, 2,     0.33, 2,     1.50,2,   -999.0,9,-999.0000,9,  -999.00,20160121,0126
  096U20160108, HEOBI,    16,  1,     12,20160121,0107,-51.2872,  73.8095,  446,     41.0,   3.0780,  33.8860,2,-999.0000,9,    344.1,2,   -999.0,9,  -999.00,9,  -999.00, 9,  -999.00, 9,  -999.00,9,   -999.0,9,-999.0000,9,  -999.00,20160121,0127
  096U20160108, HEOBI,    16,  1,     10,20160121,0107,-51.2872,  73.8095,  446,     41.2,   3.0790,  33.8860,2,-999.0000,9,    344.1,2,   -999.0,9,  -999.00,9,  -999.00, 9,  -999.00, 9,  -999.00,9,   -999.0,9,-999.0000,9,  -999.00,20160121,0126
  096U20160108, HEOBI,    16,  1,     11,20160121,0107,-51.2872,  73.8095,  446,     41.5,   3.0780,  33.8860,2,-999.0000,9,    344.0,2,   -999.0,9,  -999.00,9,  -999.00, 9,  -999.00, 9,  -999.00,9,   -999.0,9,-999.0000,9,  -999.00,20160121,0126
  096U20160108, HEOBI,    16,  1,      8,20160121,0107,-51.2872,  73.8095,  446,    100.6,   2.4740,  33.9030,2,  33.8950,2,    337.4,2,    335.7,2,     3.80,2,    21.58, 2,     0.30, 2,     1.70,2,   -999.0,9,-999.0000,9,  -999.00,20160121,0123
  096U20160108, HEOBI,    16,  1,      7,20160121,0107,-51.2872,  73.8095,  446,    150.2,   1.3730,  33.9550,2,  33.9470,2,    321.4,2,    320.3,2,    27.05,2,    28.76, 2,     0.19, 2,     2.14,2,   -999.0,9,-999.0000,9,  -999.00,20160121,0121
  096U20160108, HEOBI,    16,  1,      5,20160121,0107,-51.2872,  73.8095,  446,    201.0,   1.5410,  34.0290,2,  34.0210,2,    298.7,2,    299.1,2,    35.13,2,    30.84, 2,     0.06, 2,     2.11,2,   -999.0,9,-999.0000,9,  -999.00,20160121,0119
  096U20160108, HEOBI,    16,  1,      6,20160121,0107,-51.2872,  73.8095,  446,    201.0,   1.5520,  34.0290,2,-999.0000,9,    299.3,2,   -999.0,9,  -999.00,9,  -999.00, 9,  -999.00, 9,  -999.00,9,   -999.0,9,-999.0000,9,  -999.00,20160121,0119
  096U20160108, HEOBI,    16,  1,      3,20160121,0107,-51.2872,  73.8095,  446,    300.1,   1.8710,  34.1630,2,  34.1550,2,    258.8,2,    258.8,2,    47.22,2,    32.68, 2,     0.02, 2,     2.24,2,   -999.0,9,-999.0000,9,  -999.00,20160121,0115
  096U20160108, HEOBI,    16,  1,      4,20160121,0107,-51.2872,  73.8095,  446,    300.4,   1.8700,  34.1630,2,-999.0000,9,    258.9,2,   -999.0,9,  -999.00,9,  -999.00, 9,  -999.00, 9,  -999.00,9,   -999.0,9,-999.0000,9,  -999.00,20160121,0115
  096U20160108, HEOBI,    16,  1,      2,20160121,0107,-51.2872,  73.8095,  446,    399.6,   2.0970,  34.2810,2,  34.2710,2,    228.3,2,    229.4,2,    58.74,2,    33.76, 2,     0.03, 2,     2.33,2,   -999.0,9,-999.0000,9,  -999.00,20160121,0109
  096U20160108, HEOBI,    16,  1,      1,20160121,0107,-51.2872,  73.8095,  446,    438.9,   2.1060,  34.2850,2,  34.2760,2,    226.3,2,    226.8,2,    59.82,2,    33.72, 2,     0.04, 2,     2.34,2,   -999.0,9,-999.0000,9,  -999.00,20160121,0107
  096U20160108, HEOBI,    17,  1,     22,20160121,1230,-51.5064,  73.0005,  404,     15.9,   4.0040,  33.8570,2,-999.0000,9,    352.4,2,   -999.0,9,     1.83,2,    21.02, 2,     0.35, 2,     1.22,2,   -999.0,9,-999.0000,9,  -999.00,20160121,1252
  096U20160108, HEOBI,    17,  1,     21,20160121,1230,-51.5064,  73.0005,  404,     16.3,   3.9610,  33.8610,2,  33.8570,2,    352.4,2,   -999.0,9,     2.00,2,    21.49, 2,     0.33, 2,     1.28,2,   -999.0,9,-999.0000,9,  -999.00,20160121,1252
  096U20160108, HEOBI,    17,  1,     19,20160121,1230,-51.5064,  73.0005,  404,     30.1,   3.5330,  33.8860,2,  33.8770,2,    351.4,2,    328.8,2,     3.12,2,    21.89, 2,     0.33, 2,     1.37,2,   -999.0,9,-999.0000,9,  -999.00,20160121,1250
  096U20160108, HEOBI,    17,  1,     20,20160121,1230,-51.5064,  73.0005,  404,     30.7,   3.5270,  33.8860,2,-999.0000,9,    351.1,2,   -999.0,9,  -999.00,9,  -999.00, 9,  -999.00, 9,  -999.00,9,   -999.0,9,-999.0000,9,  -999.00,20160121,1250
  096U20160108, HEOBI,    17,  1,     16,20160121,1230,-51.5064,  73.0005,  404,     48.7,   3.3680,  33.8940,2,-999.0000,9,    342.9,2,   -999.0,9,  -999.00,9,  -999.00, 9,  -999.00, 9,  -999.00,9,   -999.0,9,-999.0000,9,  -999.00,20160121,1249
  096U20160108, HEOBI,    17,  1,     18,20160121,1230,-51.5064,  73.0005,  404,     49.7,   3.3710,  33.8940,2,-999.0000,9,    342.7,2,   -999.0,9,  -999.00,9,  -999.00, 9,  -999.00, 9,  -999.00,9,   -999.0,9,-999.0000,9,  -999.00,20160121,1249
  096U20160108, HEOBI,    17,  1,     17,20160121,1230,-51.5064,  73.0005,  404,     50.0,   3.3700,  33.8940,2,  33.8850,2,    342.9,2,    339.2,2,  -999.00,9,  -999.00, 9,  -999.00, 9,  -999.00,9,   -999.0,9,-999.0000,9,  -999.00,20160121,1249
  096U20160108, HEOBI,    17,  1,     15,20160121,1230,-51.5064,  73.0005,  404,     75.1,   3.3410,  33.8950,2,-999.0000,9,    340.8,2,   -999.0,9,  -999.00,9,  -999.00, 9,  -999.00, 9,  -999.00,9,   -999.0,9,-999.0000,9,  -999.00,20160121,1247
  096U20160108, HEOBI,    17,  1,     14,20160121,1230,-51.5064,  73.0005,  404,     75.8,   3.3180,  33.8940,2,  33.8880,2,    339.6,2,    357.0,2,     3.82,2,    22.03, 2,     0.33, 2,     1.43,2,   -999.0,9,-999.0000,9,  -999.00,20160121,1247
  096U20160108, HEOBI,    17,  1,     13,20160121,1230,-51.5064,  73.0005,  404,    120.5,   2.5230,  33.9200,2,-999.0000,9,    326.9,2,   -999.0,9,  -999.00,9,  -999.00, 9,  -999.00, 9,  -999.00,9,   -999.0,9,-999.0000,9,  -999.00,20160121,1245
  096U20160108, HEOBI,    17,  1,     12,20160121,1230,-51.5064,  73.0005,  404,    120.8,   2.5140,  33.9190,2,  33.9170,2,    326.8,2,    323.8,2,    16.04,2,    25.68, 2,     0.28, 2,     1.94,2,   -999.0,9,-999.0000,9,  -999.00,20160121,1245
  096U20160108, HEOBI,    17,  1,     11,20160121,1230,-51.5064,  73.0005,  404,    149.6,   2.0420,  33.9480,2,  33.9480,2,    320.2,2,    316.2,2,    24.34,2,    28.23, 2,     0.22, 2,     2.07,2,   -999.0,9,-999.0000,9,  -999.00,20160121,1244
  096U20160108, HEOBI,    17,  1,     10,20160121,1230,-51.5064,  73.0005,  404,    206.1,   1.9620,  34.0240,2,-999.0000,9,    299.1,2,   -999.0,9,  -999.00,9,  -999.00, 9,  -999.00, 9,  -999.00,9,   -999.0,9,-999.0000,9,  -999.00,20160121,1242
  096U20160108, HEOBI,    17,  1,      9,20160121,1230,-51.5064,  73.0005,  404,    206.4,   1.9620,  34.0240,2,  34.0160,2,    299.3,2,    297.9,2,    33.12,2,    29.99, 2,     0.15, 2,     2.11,2,   -999.0,9,-999.0000,9,  -999.00,20160121,1242
  096U20160108, HEOBI,    17,  1,      8,20160121,1230,-51.5064,  73.0005,  404,    254.1,   1.9140,  34.0770,2,-999.0000,9,    283.8,2,   -999.0,9,  -999.00,9,  -999.00, 9,  -999.00, 9,  -999.00,9,   -999.0,9,-999.0000,9,  -999.00,20160121,1240
  096U20160108, HEOBI,    17,  1,      7,20160121,1230,-51.5064,  73.0005,  404,    255.5,   1.9140,  34.0780,2,  34.0670,2,    283.9,2,    283.6,2,    39.14,2,    31.32, 2,     0.11, 2,     2.16,2,   -999.0,9,-999.0000,9,  -999.00,20160121,1240
  096U20160108, HEOBI,    17,  1,      5,20160121,1230,-51.5064,  73.0005,  404,    306.3,   1.9470,  34.1100,2,  34.1000,2,    274.4,2,    274.7,2,    42.25,2,    31.80, 2,     0.08, 2,     2.18,2,   -999.0,9,-999.0000,9,  -999.00,20160121,1237
  096U20160108, HEOBI,    17,  1,      6,20160121,1230,-51.5064,  73.0005,  404,    307.4,   1.9480,  34.1100,2,-999.0000,9,    274.6,2,   -999.0,9,  -999.00,9,  -999.00, 9,  -999.00, 9,  -999.00,9,   -999.0,9,-999.0000,9,  -999.00,20160121,1237
  096U20160108, HEOBI,    17,  1,      4,20160121,1230,-51.5064,  73.0005,  404,    354.2,   1.9580,  34.1340,2,-999.0000,9,    267.7,2,   -999.0,9,  -999.00,9,  -999.00, 9,  -999.00, 9,  -999.00,9,   -999.0,9,-999.0000,9,  -999.00,20160121,1235
  096U20160108, HEOBI,    17,  1,      3,20160121,1230,-51.5064,  73.0005,  404,    354.8,   1.9510,  34.1420,2,  34.1340,2,    266.3,2,    264.8,2,    45.71,2,    32.17, 2,     0.04, 2,     2.21,2,   -999.0,9,-999.0000,9,  -999.00,20160121,1232
  096U20160108, HEOBI,    17,  1,      2,20160121,1230,-51.5064,  73.0005,  404,    393.5,   2.0210,  34.2160,2,-999.0000,9,    247.3,2,   -999.0,9,  -999.00,9,  -999.00, 9,  -999.00, 9,  -999.00,9,   -999.0,9,-999.0000,9,  -999.00,20160121,1231
  096U20160108, HEOBI,    17,  1,      1,20160121,1230,-51.5064,  73.0005,  404,    394.0,   2.0200,  34.2160,2,  34.2050,2,    247.5,2,    248.2,2,    52.52,2,    32.88, 3,     0.05, 2,     2.27,2,   -999.0,9,-999.0000,9,  -999.00,20160121,1230