BOTTLE,20220815CCHSIOAMB
EXPOCODE,SECT_ID,STNNBR,CASTNO,BTLNBR,DATE,TIME,LATITUDE,LONGITUDE,DEPTH,CTDPRS,CTDTMP,CTDSAL,CTDSAL_FLAG_W,SALNTY,SALNTY_FLAG_W,CTDOXY,CTDOXY_FLAG_W,OXYGEN,OXYGEN_FLAG_W,SILCAT,SILCAT_FLAG_W,NITRAT,NITRAT_FLAG_W,NITRIT,NITRIT_FLAG_W,PHSPHT,PHSPHT_FLAG_W,ALKALI,ALKALI_FLAG_W,PH_TOT,PH_TOT_FLAG_W,PH_TMP,BTL_DATE,BTL_TIME
,,,,,,,,,METERS,DBAR,ITS-90,PSS-78,,PSS-78,,UMOL/KG,,UMOL/KG,,UMOL/KG,,UMOL/KG,,UMOL/KG,,UMOL/KG,,UMOL/KG,,,,DEG C,,
  096U20160108, HEOBI,    18,  1,     23,20160123,0845,-52.9271,  71.3619, 2820,     14.8,   3.3100,  33.8790,2,-999.0000,9,    344.3,2,   -999.0,9,  -999.00,9,  -999.00, 9,  -999.00, 9,  -999.00,9,   -999.0,9,-999.0000,9,  -999.00,20160123,1004
  096U20160108, HEOBI,    18,  1,     24,20160123,0845,-52.9271,  71.3619, 2820,     15.3,   3.3180,  33.8790,2,  33.8690,2,    344.8,2,    341.4,2,     0.89,2,    24.62, 2,  -999.00, 9,     1.55,2,   -999.0,9,-999.0000,9,  -999.00,20160123,1004
  096U20160108, HEOBI,    18,  1,     22,20160123,0845,-52.9271,  71.3619, 2820,     30.6,   3.2810,  33.8790,2,  33.8680,2,    344.5,2,    341.1,2,     0.86,2,    24.63, 2,  -999.00, 9,     1.55,2,   -999.0,9,-999.0000,9,  -999.00,20160123,1003
  096U20160108, HEOBI,    18,  1,     20,20160123,0845,-52.9271,  71.3619, 2820,     65.0,   3.1690,  33.8770,2,  33.8670,2,    342.6,2,    340.2,2,     0.80,2,    24.51, 2,  -999.00, 9,     1.56,2,   -999.0,9,-999.0000,9,  -999.00,20160123,1001
  096U20160108, HEOBI,    18,  1,     21,20160123,0845,-52.9271,  71.3619, 2820,     65.5,   3.1610,  33.8770,2,-999.0000,9,    342.8,2,   -999.0,9,  -999.00,9,  -999.00, 9,  -999.00, 9,  -999.00,9,   -999.0,9,-999.0000,9,  -999.00,20160123,1001
  096U20160108, HEOBI,    18,  1,     19,20160123,0845,-52.9271,  71.3619, 2820,    115.7,   2.3970,  33.8960,2,-999.0000,9,    337.7,2,   -999.0,9,  -999.00,9,  -999.00, 9,  -999.00, 9,  -999.00,9,   -999.0,9,-999.0000,9,  -999.00,20160123,0958
  096U20160108, HEOBI,    18,  1,     18,20160123,0845,-52.9271,  71.3619, 2820,    116.0,   2.3930,  33.8930,2,  33.8870,2,    337.3,2,    335.3,2,     6.52,2,    25.72, 2,  -999.00, 9,     1.78,2,   -999.0,9,-999.0000,9,  -999.00,20160123,0958
  096U20160108, HEOBI,    18,  1,     17,20160123,0845,-52.9271,  71.3619, 2820,    200.6,   1.4950,  33.9720,2,  33.9640,2,    326.9,2,    325.8,2,    23.73,2,    30.22, 2,     0.09, 2,     2.00,2,   -999.0,9,-999.0000,9,  -999.00,20160123,0955
  096U20160108, HEOBI,    18,  1,     16,20160123,0845,-52.9271,  71.3619, 2820,    301.3,   1.3670,  34.1020,2,  34.0990,2,    280.1,2,    275.8,2,    38.79,2,    33.50, 2,     0.01, 2,     2.20,2,   -999.0,9,-999.0000,9,  -999.00,20160123,0952
  096U20160108, HEOBI,    18,  1,     15,20160123,0845,-52.9271,  71.3619, 2820,    401.1,   2.2870,  34.3240,2,  34.3140,2,    205.7,2,    205.6,2,    55.63,2,    37.00, 2,     0.00, 2,     2.42,2,   -999.0,9,-999.0000,9,  -999.00,20160123,0949
  096U20160108, HEOBI,    18,  1,     14,20160123,0845,-52.9271,  71.3619, 2820,    498.8,   2.3520,  34.4210,2,  34.4110,2,    191.4,2,    191.7,2,    64.29,2,    36.98, 2,     0.00, 2,     2.43,2,   -999.0,9,-999.0000,9,  -999.00,20160123,0945
  096U20160108, HEOBI,    18,  1,     13,20160123,0845,-52.9271,  71.3619, 2820,    600.9,   2.3450,  34.5010,2,  34.4940,2,    186.0,2,    187.0,2,    69.69,2,    36.46, 2,     0.00, 2,     2.40,2,   -999.0,9,-999.0000,9,  -999.00,20160123,0942
  096U20160108, HEOBI,    18,  1,     12,20160123,0845,-52.9271,  71.3619, 2820,    698.5,   2.3480,  34.5630,2,  34.5520,2,    181.9,2,    182.8,2,    73.10,2,    36.11, 2,     0.00, 2,     2.38,2,   -999.0,9,-999.0000,9,  -999.00,20160123,0939
  096U20160108, HEOBI,    18,  1,     11,20160123,0845,-52.9271,  71.3619, 2820,    799.7,   2.3340,  34.6180,2,  34.6140,2,    180.6,2,    181.7,2,    76.01,2,    35.57, 2,     0.00, 2,     2.34,2,   -999.0,9,-999.0000,9,  -999.00,20160123,0935
  096U20160108, HEOBI,    18,  1,     10,20160123,0845,-52.9271,  71.3619, 2820,    901.4,   2.2990,  34.6640,2,  34.6530,2,    183.0,2,    184.8,2,    77.87,2,    34.62, 2,     0.00, 2,     2.29,2,   -999.0,9,-999.0000,9,  -999.00,20160123,0932
  096U20160108, HEOBI,    18,  1,      9,20160123,0845,-52.9271,  71.3619, 2820,   1000.2,   2.2660,  34.6920,2,  34.6800,2,    185.7,2,    187.5,2,    78.82,2,    33.93, 2,     0.01, 2,     2.25,2,   -999.0,9,-999.0000,9,  -999.00,20160123,0929
  096U20160108, HEOBI,    18,  1,      8,20160123,0845,-52.9271,  71.3619, 2820,   1200.9,   2.1840,  34.7450,2,  34.7330,2,    193.9,2,    196.7,2,    79.39,2,    32.34, 2,     0.00, 2,     2.15,2,   -999.0,9,-999.0000,9,  -999.00,20160123,0923
  096U20160108, HEOBI,    18,  1,      7,20160123,0845,-52.9271,  71.3619, 2820,   1401.0,   2.0520,  34.7650,2,  34.7520,2,    200.2,2,    203.2,2,    81.31,2,    31.56, 2,     0.01, 2,     2.10,2,   -999.0,9,-999.0000,9,  -999.00,20160123,0919
  096U20160108, HEOBI,    18,  1,      6,20160123,0845,-52.9271,  71.3619, 2820,   1600.3,   1.8650,  34.7670,2,  34.7560,2,    203.3,2,    206.7,2,    86.93,2,    31.63, 2,     0.00, 2,     2.10,2,   -999.0,9,-999.0000,9,  -999.00,20160123,0914
  096U20160108, HEOBI,    18,  1,      5,20160123,0845,-52.9271,  71.3619, 2820,   1998.9,   1.5850,  34.7640,2,  34.7540,2,    207.2,2,    211.3,2,    94.26,2,    31.75, 2,     0.01, 2,     2.11,2,   -999.0,9,-999.0000,9,  -999.00,20160123,0905
  096U20160108, HEOBI,    18,  1,      4,20160123,0845,-52.9271,  71.3619, 2820,   2498.7,   1.2370,  34.7450,2,  34.7330,2,    208.3,2,    213.8,2,   107.20,2,    32.66, 2,     0.00, 2,     2.18,2,   -999.0,9,-999.0000,9,  -999.00,20160123,0854
  096U20160108, HEOBI,    18,  1,      3,20160123,0845,-52.9271,  71.3619, 2820,   2725.5,   1.0960,  34.7360,2,  34.7250,2,    209.1,2,    214.2,2,   111.47,2,    33.04, 2,     0.00, 2,     2.21,2,   -999.0,9,-999.0000,9,  -999.00,20160123,0849
  096U20160108, HEOBI,    18,  1,      2,20160123,0845,-52.9271,  71.3619, 2820,   2771.7,   1.0780,  34.7350,2,  34.7230,2,    208.9,2,    215.3,2,   112.02,2,    33.16, 2,     0.00, 2,     2.21,2,   -999.0,9,-999.0000,9,  -999.00,20160123,0847
  096U20160108, HEOBI,    18,  1,      1,20160123,0845,-52.9271,  71.3619, 2820,   2810.4,   1.0550,  34.7340,2,  34.7210,2,    209.2,2,    215.7,2,   112.94,2,    33.17, 2,     0.00, 2,     2.22,2,   -999.0,9,-999.0000,9,  -999.00,20160123,0845
  096U20160108, HEOBI,    20,  1,      7,20160127,0839,-53.0325,  72.6587,  140,     20.1,   2.6580,  33.9210,2,  33.9130,2,    331.1,2,    327.3,2,    13.58,2,    25.55, 2,     0.28, 2,     1.87,2,   -999.0,9,-999.0000,9,  -999.00,20160127,0846
  096U20160108, HEOBI,    20,  1,      6,20160127,0839,-53.0325,  72.6587,  140,     49.9,   2.6030,  33.9250,2,  33.9170,2,    329.7,2,    326.5,2,    14.35,2,    25.64, 2,     0.28, 2,     1.90,2,   -999.0,9,-999.0000,9,  -999.00,20160127,0844
  096U20160108, HEOBI,    20,  1,      5,20160127,0839,-53.0325,  72.6587,  140,     78.3,   2.5730,  33.9280,2,  33.9190,2,    328.9,2,    325.5,2,    14.80,2,    25.72, 2,     0.28, 2,     1.90,2,   -999.0,9,-999.0000,9,  -999.00,20160127,0843
  096U20160108, HEOBI,    20,  1,      4,20160127,0839,-53.0325,  72.6587,  140,    108.7,   2.5300,  33.9310,2,  33.9240,2,    326.8,2,    324.1,2,    15.65,2,    25.89, 2,     0.27, 2,     1.91,2,   -999.0,9,-999.0000,9,  -999.00,20160127,0841
  096U20160108, HEOBI,    20,  1,      3,20160127,0839,-53.0325,  72.6587,  140,    122.2,   2.5090,  33.9340,2,  33.9250,2,    326.9,2,    324.5,2,    15.86,2,    26.00, 2,     0.27, 2,     1.92,2,   -999.0,9,-999.0000,9,  -999.00,20160127,0840
  096U20160108, HEOBI,    20,  1,      2,20160127,0839,-53.0325,  72.6587,  140,    126.6,   2.5150,  33.9330,2,  33.9240,2,    327.2,2,    324.3,2,    15.82,2,    25.94, 2,     0.27, 2,     1.93,2,   -999.0,9,-999.0000,9,  -999.00,20160127,0839
  096U20160108, HEOBI,    20,  1,      1,20160127,0839,-53.0325,  72.6587,  140,    129.6,   2.5190,  33.9320,2,  33.9240,2,    326.5,2,    324.2,2,    15.88,2,    25.94, 2,     0.28, 2,     1.92,2,   -999.0,9,-999.0000,9,  -999.00,20160127,0839
  096U20160108, HEOBI,    21,  1,      7,20160128,1134,-52.9984,  72.6273,  173,     22.2,   2.9780,  33.9030,2,  33.8920,2,    336.0,2,    333.9,2,     7.77,2,    24.19, 2,     0.31, 2,     1.74,2,   -999.0,9,-999.0000,9,  -999.00,20160128,1145
  096U20160108, HEOBI,    21,  1,      6,20160128,1134,-52.9984,  72.6273,  173,     40.1,   2.7890,  33.9130,2,  33.9030,2,    332.9,2,    331.2,2,    11.28,2,    24.91, 2,     0.30, 2,     1.81,2,   -999.0,9,-999.0000,9,  -999.00,20160128,1143
  096U20160108, HEOBI,    21,  1,      5,20160128,1134,-52.9984,  72.6273,  173,     60.0,   2.6760,  33.9220,2,  33.9130,2,    330.0,2,    329.3,2,    13.42,2,    25.37, 2,     0.29, 2,     1.93,2,   -999.0,9,-999.0000,9,  -999.00,20160128,1142
  096U20160108, HEOBI,    21,  1,      4,20160128,1134,-52.9984,  72.6273,  173,     98.7,   2.6370,  33.9250,2,  33.9160,2,    328.8,2,    334.1,2,    14.14,2,    25.49, 2,     0.29, 2,     1.87,2,   -999.0,9,-999.0000,9,  -999.00,20160128,1140
  096U20160108, HEOBI,    21,  1,      3,20160128,1134,-52.9984,  72.6273,  173,    117.7,   2.6550,  33.9230,2,  33.9140,2,    329.3,2,    327.6,2,    13.94,2,    25.42, 2,     0.29, 2,     1.87,2,   -999.0,9,-999.0000,9,  -999.00,20160128,1138
  096U20160108, HEOBI,    21,  1,      2,20160128,1134,-52.9984,  72.6273,  173,    153.3,   2.6290,  33.9250,2,  33.9180,2,    328.9,2,    328.7,2,    14.42,2,    25.50, 2,     0.29, 2,     1.88,2,   -999.0,9,-999.0000,9,  -999.00,20160128,1136
  096U20160108, HEOBI,    21,  1,      1,20160128,1134,-52.9984,  72.6273,  173,    163.1,   2.6230,  33.9260,2,  33.9160,2,    328.3,2,    327.5,2,    14.52,2,    25.61, 3,     0.29, 2,     1.88,2,   -999.0,9,-999.0000,9,  -999.00,20160128,1134
  096U20160108, HEOBI,    22,  1,     10,20160129,0025,-53.0350,  72.5522,  205,     11.0,   2.7660,  33.9140,2,  33.9060,2,    332.0,2,    329.9,2,    11.95,2,    24.97, 2,     0.29, 2,     1.83,2,   -999.0,9,-999.0000,9,  -999.00,20160129,0041
  096U20160108, HEOBI,    22,  1,      9,20160129,0025,-53.0350,  72.5522,  205,     31.9,   2.6550,  33.9230,2,  33.9140,2,    329.5,2,    327.1,2,    13.80,2,    25.40, 2,     0.28, 2,     1.91,2,   -999.0,9,-999.0000,9,  -999.00,20160129,0039
  096U20160108, HEOBI,    22,  1,      8,20160129,0025,-53.0350,  72.5522,  205,     60.8,   2.6270,  33.9250,2,  33.9160,2,    328.5,2,    314.1,2,    14.33,2,    25.54, 2,     0.28, 2,     1.88,2,   -999.0,9,-999.0000,9,  -999.00,20160129,0037
  096U20160108, HEOBI,    22,  1,      7,20160129,0025,-53.0350,  72.5522,  205,     90.5,   2.6260,  33.9250,2,  33.9160,2,    328.1,2,    326.1,2,    14.41,2,    25.50, 2,     0.28, 2,     1.89,2,   -999.0,9,-999.0000,9,  -999.00,20160129,0035
  096U20160108, HEOBI,    22,  1,      6,20160129,0025,-53.0350,  72.5522,  205,    122.7,   2.6210,  33.9260,2,  33.9170,2,    327.5,2,    326.0,2,    14.52,2,    25.49, 2,     0.28, 2,     1.89,2,   -999.0,9,-999.0000,9,  -999.00,20160129,0032
  096U20160108, HEOBI,    22,  1,      5,20160129,0025,-53.0350,  72.5522,  205,    151.8,   2.6120,  33.9270,2,  33.9200,2,    327.5,2,    326.1,2,    14.73,2,    25.58, 2,     0.28, 2,     1.89,2,   -999.0,9,-999.0000,9,  -999.00,20160129,0030
  096U20160108, HEOBI,    22,  1,      4,20160129,0025,-53.0350,  72.5522,  205,    178.7,   2.6030,  33.9270,2,-999.0000,9,    326.8,2,   -999.0,9,  -999.00,9,  -999.00, 9,  -999.00, 9,  -999.00,9,   -999.0,9,-999.0000,9,  -999.00,20160129,0028
  096U20160108, HEOBI,    22,  1,      3,20160129,0025,-53.0350,  72.5522,  205,    178.8,   2.6000,  33.9270,2,  33.9180,2,    326.3,2,    325.1,2,    14.90,2,    25.67, 2,     0.28, 2,     1.90,2,   -999.0,9,-999.0000,9,  -999.00,20160129,0027
  096U20160108, HEOBI,    22,  1,      2,20160129,0025,-53.0350,  72.5522,  205,    191.4,   2.5950,  33.9280,2,-999.0000,9,    326.5,2,   -999.0,9,  -999.00,9,  -999.00, 9,  -999.00, 9,  -999.00,9,   -999.0,9,-999.0000,9,  -999.00,20160129,0025
  096U20160108, HEOBI,    22,  1,      1,20160129,0025,-53.0350,  72.5522,  205,    192.1,   2.5970,  33.9280,2,  33.9210,2,    326.7,2,    325.5,2,    15.01,2,    25.63, 3,     0.28, 2,     1.90,2,   -999.0,9,-999.0000,9,  -999.00,20160129,0025
  096U20160108, HEOBI,    23,  1,      6,20160129,0637,-53.0726,  72.5931,  125,      9.1,   2.7290,  33.9190,2,  33.9170,2,    331.3,2,    329.4,2,    12.93,2,    25.19, 2,     0.28, 2,     1.86,2,   -999.0,9,-999.0000,9,  -999.00,20160129,0644
  096U20160108, HEOBI,    23,  1,      5,20160129,0637,-53.0726,  72.5931,  125,     29.7,   2.7300,  33.9190,2,  33.9100,2,    331.3,2,    329.5,2,    12.91,2,    25.24, 2,     0.29, 2,     1.86,2,   -999.0,9,-999.0000,9,  -999.00,20160129,0642
  096U20160108, HEOBI,    23,  1,      4,20160129,0637,-53.0726,  72.5931,  125,     61.3,   2.7190,  33.9190,2,  33.9100,2,    331.3,2,    329.0,2,    13.00,2,    25.24, 2,     0.28, 2,     1.86,2,   -999.0,9,-999.0000,9,  -999.00,20160129,0641
  096U20160108, HEOBI,    23,  1,      3,20160129,0637,-53.0726,  72.5931,  125,    104.5,   2.6680,  33.9240,2,  33.9140,2,    329.5,2,    327.0,2,    14.07,2,    25.45, 2,     0.28, 2,     1.88,2,   -999.0,9,-999.0000,9,  -999.00,20160129,0638
  096U20160108, HEOBI,    23,  1,      2,20160129,0637,-53.0726,  72.5931,  125,    123.4,   2.6450,  33.9250,2,-999.0000,9,    328.2,2,   -999.0,9,  -999.00,9,  -999.00, 9,  -999.00, 9,  -999.00,9,   -999.0,9,-999.0000,9,  -999.00,20160129,0637
  096U20160108, HEOBI,    23,  1,      1,20160129,0637,-53.0726,  72.5931,  125,    125.4,   2.6440,  33.9250,2,  33.9160,2,    328.2,2,    326.5,2,    14.39,2,    25.54, 2,     0.28, 2,     1.88,2,   -999.0,9,-999.0000,9,  -999.00,20160129,0637
  096U20160108, HEOBI,    24,  1,     11,20160129,1314,-52.9844,  72.5552,  215,     14.1,   2.7500,  33.9210,2,  33.9120,2,    331.2,2,    328.2,2,    13.24,2,    25.31, 2,     0.29, 2,     1.86,2,   -999.0,9,-999.0000,9,  -999.00,20160129,1328
  096U20160108, HEOBI,    24,  1,     10,20160129,1314,-52.9844,  72.5552,  215,     29.6,   2.7410,  33.9210,2,  33.9140,2,    330.9,2,    328.5,2,    13.22,2,    25.24, 2,     0.29, 2,     1.86,2,   -999.0,9,-999.0000,9,  -999.00,20160129,1327
  096U20160108, HEOBI,    24,  1,      9,20160129,1314,-52.9844,  72.5552,  215,     50.0,   2.7910,  33.9190,2,  33.9100,2,    331.5,2,    329.6,2,    12.63,2,    25.12, 2,     0.29, 2,     1.85,2,   -999.0,9,-999.0000,9,  -999.00,20160129,1326
  096U20160108, HEOBI,    24,  1,      8,20160129,1314,-52.9844,  72.5552,  215,     64.6,   2.7610,  33.9210,2,  33.9120,2,    331.0,2,    329.6,2,    12.63,2,    25.11, 2,     0.29, 2,     1.85,2,   -999.0,9,-999.0000,9,  -999.00,20160129,1325
  096U20160108, HEOBI,    24,  1,      7,20160129,1314,-52.9844,  72.5552,  215,     73.9,   2.8000,  33.9180,2,  33.9090,2,    332.0,2,    329.6,2,    12.60,2,    25.15, 2,     0.30, 2,     1.85,2,   -999.0,9,-999.0000,9,  -999.00,20160129,1324
  096U20160108, HEOBI,    24,  1,      6,20160129,1314,-52.9844,  72.5552,  215,     90.1,   2.7070,  33.9220,2,  33.9140,2,    329.8,2,    327.3,2,    13.76,2,    25.38, 2,     0.29, 2,     1.87,2,   -999.0,9,-999.0000,9,  -999.00,20160129,1322
  096U20160108, HEOBI,    24,  1,      5,20160129,1314,-52.9844,  72.5552,  215,    119.6,   2.5930,  33.9290,2,  33.9210,2,    326.6,2,    325.0,2,    15.09,2,    25.64, 2,     0.29, 2,     1.90,2,   -999.0,9,-999.0000,9,  -999.00,20160129,1320
  096U20160108, HEOBI,    24,  1,      4,20160129,1314,-52.9844,  72.5552,  215,    166.0,   2.5750,  33.9300,2,  33.9220,2,    326.2,2,    324.5,2,    15.28,2,    25.70, 2,     0.28, 2,     1.91,2,   -999.0,9,-999.0000,9,  -999.00,20160129,1318
  096U20160108, HEOBI,    24,  1,      3,20160129,1314,-52.9844,  72.5552,  215,    183.7,   2.4950,  33.9360,2,  33.9270,2,    323.7,2,    322.7,2,    16.38,2,    25.90, 2,     0.28, 2,     1.93,2,   -999.0,9,-999.0000,9,  -999.00,20160129,1316
  096U20160108, HEOBI,    24,  1,      2,20160129,1314,-52.9844,  72.5552,  215,    200.3,   2.4890,  33.9370,2,  33.9340,2,    323.5,2,    322.4,2,    16.54,2,    25.92, 2,     0.28, 2,     1.93,2,   -999.0,9,-999.0000,9,  -999.00,20160129,1314
  096U20160108, HEOBI,    24,  1,      1,20160129,1314,-52.9844,  72.5552,  215,    207.3,   2.4880,  33.9370,2,  33.9280,2,    323.5,2,    322.2,2,    16.55,2,    25.87, 2,     0.28, 2,     1.93,2,   -999.0,9,-999.0000,9,  -999.00,20160129,1314