BOTTLE,20220815CCHSIOAMB
EXPOCODE,SECT_ID,STNNBR,CASTNO,BTLNBR,DATE,TIME,LATITUDE,LONGITUDE,DEPTH,CTDPRS,CTDTMP,CTDSAL,CTDSAL_FLAG_W,SALNTY,SALNTY_FLAG_W,CTDOXY,CTDOXY_FLAG_W,OXYGEN,OXYGEN_FLAG_W,SILCAT,SILCAT_FLAG_W,NITRAT,NITRAT_FLAG_W,NITRIT,NITRIT_FLAG_W,PHSPHT,PHSPHT_FLAG_W,ALKALI,ALKALI_FLAG_W,PH_TOT,PH_TOT_FLAG_W,PH_TMP,BTL_DATE,BTL_TIME
,,,,,,,,,METERS,DBAR,ITS-90,PSS-78,,PSS-78,,UMOL/KG,,UMOL/KG,,UMOL/KG,,UMOL/KG,,UMOL/KG,,UMOL/KG,,UMOL/KG,,,,DEG C,,
  096U20160108, HEOBI,    39,  1,      9,20160207,0118,-53.0337,  72.6534,  123,      6.2,   2.7480,  33.9240,2,  33.9160,2,    323.3,2,    317.8,2,    14.51,2,    25.39, 2,     0.29, 2,     1.90,2,   -999.0,9,-999.0000,9,  -999.00,20160207,0128
  096U20160108, HEOBI,    39,  1,      8,20160207,0118,-53.0337,  72.6534,  123,     20.6,   2.6600,  33.9310,2,  33.9220,2,    320.5,2,    322.5,2,    16.03,2,    25.67, 2,     0.28, 2,     1.93,2,   -999.0,9,-999.0000,9,  -999.00,20160207,0127
  096U20160108, HEOBI,    39,  1,      7,20160207,0118,-53.0337,  72.6534,  123,     29.7,   2.6590,  33.9310,2,  33.9250,2,    320.5,2,    320.9,2,    15.94,2,    25.57, 2,     0.28, 2,     1.93,2,   -999.0,9,-999.0000,9,  -999.00,20160207,0125
  096U20160108, HEOBI,    39,  1,      6,20160207,0118,-53.0337,  72.6534,  123,     40.0,   2.6290,  33.9330,2,  33.9240,2,    319.6,2,    320.8,2,    16.50,2,    25.73, 2,     0.28, 2,     1.94,2,   -999.0,9,-999.0000,9,  -999.00,20160207,0124
  096U20160108, HEOBI,    39,  1,      5,20160207,0118,-53.0337,  72.6534,  123,     50.1,   2.6040,  33.9350,2,  33.9260,2,    319.1,2,    316.5,2,    16.86,2,    25.76, 2,     0.28, 2,     1.94,2,   -999.0,9,-999.0000,9,  -999.00,20160207,0123
  096U20160108, HEOBI,    39,  1,      4,20160207,0118,-53.0337,  72.6534,  123,     61.0,   2.6010,  33.9350,2,  33.9260,2,    318.8,2,    320.0,2,    17.02,2,    25.73, 2,     0.28, 2,     1.95,2,   -999.0,9,-999.0000,9,  -999.00,20160207,0122
  096U20160108, HEOBI,    39,  1,      3,20160207,0118,-53.0337,  72.6534,  123,     79.8,   2.5960,  33.9350,2,  33.9280,2,    318.7,2,    319.9,2,    17.22,2,    25.76, 2,     0.27, 2,     1.95,2,   -999.0,9,-999.0000,9,  -999.00,20160207,0121
  096U20160108, HEOBI,    39,  1,      2,20160207,0118,-53.0337,  72.6534,  123,     95.4,   2.5820,  33.9370,2,  33.9280,2,    318.0,2,    319.1,2,    17.41,2,    25.80, 2,     0.27, 2,     1.96,2,   -999.0,9,-999.0000,9,  -999.00,20160207,0119
  096U20160108, HEOBI,    39,  1,      1,20160207,0118,-53.0337,  72.6534,  123,    115.6,   2.5800,  33.9370,2,  33.9290,2,    317.3,2,    319.1,2,    17.43,2,    25.77, 2,     0.27, 2,     1.95,2,   -999.0,9,-999.0000,9,  -999.00,20160207,0118
  096U20160108, HEOBI,    40,  1,      8,20160207,0428,-53.0337,  72.6612,  141,      5.9,   2.9670,  33.9120,2,-999.0000,9,    328.8,2,   -999.0,9,    12.30,2,    24.86, 2,     0.29, 2,     1.85,2,   -999.0,9,-999.0000,9,  -999.00,20160207,0439
  096U20160108, HEOBI,    40,  1,      7,20160207,0428,-53.0337,  72.6612,  141,     19.7,   2.9500,  33.9120,2,-999.0000,9,    328.3,2,   -999.0,9,    12.50,2,    24.80, 2,     0.29, 2,     1.86,2,   -999.0,9,-999.0000,9,  -999.00,20160207,0438
  096U20160108, HEOBI,    40,  1,      6,20160207,0428,-53.0337,  72.6612,  141,     30.2,   2.9040,  33.9150,2,-999.0000,9,    327.4,2,   -999.0,9,    12.76,2,    24.85, 2,     0.29, 2,     1.86,2,   -999.0,9,-999.0000,9,  -999.00,20160207,0437
  096U20160108, HEOBI,    40,  1,      5,20160207,0428,-53.0337,  72.6612,  141,     54.4,   2.8630,  33.9160,2,-999.0000,9,    325.9,2,   -999.0,9,    13.45,2,    25.00, 2,     0.29, 2,     1.88,2,   -999.0,9,-999.0000,9,  -999.00,20160207,0435
  096U20160108, HEOBI,    40,  1,      4,20160207,0428,-53.0337,  72.6612,  141,     80.3,   2.7520,  33.9230,2,-999.0000,9,    322.7,2,   -999.0,9,    15.03,2,    25.34, 2,     0.28, 2,     1.91,2,   -999.0,9,-999.0000,9,  -999.00,20160207,0433
  096U20160108, HEOBI,    40,  1,      3,20160207,0428,-53.0337,  72.6612,  141,     96.2,   2.7340,  33.9230,2,-999.0000,9,    321.9,2,   -999.0,9,    15.10,2,    25.25, 2,     0.28, 2,     1.92,2,   -999.0,9,-999.0000,9,  -999.00,20160207,0432
  096U20160108, HEOBI,    40,  1,      2,20160207,0428,-53.0337,  72.6612,  141,    110.3,   2.6730,  33.9280,2,-999.0000,9,    320.6,2,   -999.0,9,    15.74,2,    25.39, 2,     0.28, 2,     1.93,2,   -999.0,9,-999.0000,9,  -999.00,20160207,0430
  096U20160108, HEOBI,    40,  1,      1,20160207,0428,-53.0337,  72.6612,  141,    133.7,   2.6620,  33.9300,2,-999.0000,9,    320.4,2,   -999.0,9,    15.89,2,    25.42, 2,     0.28, 2,     1.93,2,   -999.0,9,-999.0000,9,  -999.00,20160207,0428
  096U20160108, HEOBI,    41,  1,      9,20160208,1944,-52.9219,  74.0213,  217,      9.8,   3.0560,  33.8970,2,  33.8830,2,    327.0,2,    327.1,2,    11.66,2,    25.40, 2,     0.29, 2,     1.86,2,   -999.0,9,-999.0000,9,  -999.00,20160208,1959
  096U20160108, HEOBI,    41,  1,      8,20160208,1944,-52.9219,  74.0213,  217,     24.7,   3.0550,  33.8960,2,  33.8820,2,    327.3,2,    327.1,2,    11.64,2,    25.40, 2,     0.29, 2,     1.86,2,   -999.0,9,-999.0000,9,  -999.00,20160208,1957
  096U20160108, HEOBI,    41,  1,      7,20160208,1944,-52.9219,  74.0213,  217,     50.4,   3.0540,  33.8970,2,  33.8860,2,    326.6,2,    326.9,2,    11.77,2,    25.43, 2,     0.29, 2,     1.87,2,   -999.0,9,-999.0000,9,  -999.00,20160208,1955
  096U20160108, HEOBI,    41,  1,      6,20160208,1944,-52.9219,  74.0213,  217,     74.6,   3.0520,  33.8970,2,  33.8860,2,    326.6,2,    327.9,2,    11.92,2,    25.47, 2,     0.29, 2,     1.87,2,   -999.0,9,-999.0000,9,  -999.00,20160208,1953
  096U20160108, HEOBI,    41,  1,      5,20160208,1944,-52.9219,  74.0213,  217,     99.4,   3.0550,  33.8970,2,  33.8860,2,    326.6,2,    327.2,2,    11.80,2,    25.44, 2,     0.29, 2,     1.86,2,   -999.0,9,-999.0000,9,  -999.00,20160208,1952
  096U20160108, HEOBI,    41,  1,      4,20160208,1944,-52.9219,  74.0213,  217,    129.9,   3.0290,  33.9020,2,  33.8920,2,    325.3,2,    326.1,2,    11.52,2,    25.40, 2,     0.28, 2,     1.85,2,   -999.0,9,-999.0000,9,  -999.00,20160208,1950
  096U20160108, HEOBI,    41,  1,      3,20160208,1944,-52.9219,  74.0213,  217,    149.8,   2.8190,  33.9230,2,  33.9170,2,    318.6,2,    320.3,2,    14.13,2,    25.94, 2,     0.27, 2,     1.89,2,   -999.0,9,-999.0000,9,  -999.00,20160208,1948
  096U20160108, HEOBI,    41,  1,      2,20160208,1944,-52.9219,  74.0213,  217,    190.3,   2.4830,  33.9740,2,  33.9630,2,    307.8,2,    309.0,2,    21.37,2,    27.13, 2,     0.24, 2,     2.00,2,   -999.0,9,-999.0000,9,  -999.00,20160208,1945
  096U20160108, HEOBI,    41,  1,      1,20160208,1944,-52.9219,  74.0213,  217,    208.2,   2.3730,  34.0030,2,  33.9860,2,    301.1,2,    304.3,2,    24.37,2,    27.61, 2,     0.22, 2,     2.04,2,   -999.0,9,-999.0000,9,  -999.00,20160208,1944
  096U20160108, HEOBI,    43,  1,      8,20160209,0013,-52.8101,  74.4021,  193,      9.9,   2.9030,  33.9240,2,  33.9150,2,    324.2,2,    324.5,2,    13.04,2,    25.73, 2,     0.28, 2,     1.87,2,   -999.0,9,-999.0000,9,  -999.00,20160209,0019
  096U20160108, HEOBI,    43,  1,      7,20160209,0013,-52.8101,  74.4021,  193,     30.0,   2.8770,  33.9280,2,  33.9180,2,    323.0,2,    323.2,2,    13.54,2,    25.85, 2,     0.27, 2,     1.86,2,   -999.0,9,-999.0000,9,  -999.00,20160209,0018
  096U20160108, HEOBI,    43,  1,      6,20160209,0013,-52.8101,  74.4021,  193,     50.8,   2.8740,  33.9300,2,  33.9200,2,    322.6,2,    323.4,2,    13.95,2,    25.93, 2,     0.27, 2,     1.86,2,   -999.0,9,-999.0000,9,  -999.00,20160209,0018
  096U20160108, HEOBI,    43,  1,      5,20160209,0013,-52.8101,  74.4021,  193,     90.7,   2.7980,  33.9380,2,  33.9300,2,    318.9,2,    320.5,2,    15.36,2,    26.17, 2,     0.26, 2,     1.88,2,   -999.0,9,-999.0000,9,  -999.00,20160209,0017
  096U20160108, HEOBI,    43,  1,      4,20160209,0013,-52.8101,  74.4021,  193,    130.5,   2.5630,  33.9660,2,  33.9220,3,    309.3,2,    311.0,2,    20.06,2,    27.09, 2,     0.24, 2,     1.97,2,   -999.0,9,-999.0000,9,  -999.00,20160209,0016
  096U20160108, HEOBI,    43,  1,      3,20160209,0013,-52.8101,  74.4021,  193,    160.9,   2.5070,  33.9790,2,  33.9710,2,    306.2,2,    307.4,2,    21.74,2,    27.37, 2,     0.24, 2,     1.99,2,   -999.0,9,-999.0000,9,  -999.00,20160209,0014
  096U20160108, HEOBI,    43,  1,      1,20160209,0013,-52.8101,  74.4021,  193,    162.7,   2.5060,  33.9800,2,-999.0000,9,    306.2,2,   -999.0,9,  -999.00,9,  -999.00, 9,  -999.00, 9,  -999.00,9,   -999.0,9,-999.0000,9,  -999.00,20160209,0012
  096U20160108, HEOBI,    43,  1,      2,20160209,0013,-52.8101,  74.4021,  193,    174.9,   2.5050,  33.9800,2,  33.9730,2,    306.3,2,    307.4,2,    21.80,2,    27.41, 2,     0.24, 2,     2.00,2,   -999.0,9,-999.0000,9,  -999.00,20160209,0013
  096U20160108, HEOBI,    44,  1,     20,20160209,0736,-52.6971,  74.7924,  542,      6.3,   3.1100,  33.8770,2,-999.0000,9,    333.3,2,   -999.0,9,  -999.00,9,  -999.00, 9,  -999.00, 9,  -999.00,9,   -999.0,9,-999.0000,9,  -999.00,20160209,0804
  096U20160108, HEOBI,    44,  1,     19,20160209,0736,-52.6971,  74.7924,  542,      8.2,   3.1100,  33.8770,2,  33.8680,2,    333.4,2,    311.6,2,     5.49,2,    25.06, 2,     0.31, 2,     1.71,2,   -999.0,9,-999.0000,9,  -999.00,20160209,0804
  096U20160108, HEOBI,    44,  1,     18,20160209,0736,-52.6971,  74.7924,  542,     18.6,   3.0890,  33.8780,2,  33.8670,2,    332.9,2,    333.0,2,     5.60,2,    25.11, 2,     0.31, 2,     1.72,2,   -999.0,9,-999.0000,9,  -999.00,20160209,0803
  096U20160108, HEOBI,    44,  1,     17,20160209,0736,-52.6971,  74.7924,  542,     49.5,   3.0170,  33.8820,2,  33.8720,2,    331.5,2,    331.6,2,     6.48,2,    25.27, 2,     0.31, 2,     1.74,2,   -999.0,9,-999.0000,9,  -999.00,20160209,0801
  096U20160108, HEOBI,    44,  1,     16,20160209,0736,-52.6971,  74.7924,  542,     70.2,   2.9910,  33.8850,2,  33.8780,2,    330.1,2,    330.4,2,     7.59,2,    25.41, 2,     0.30, 2,     1.76,2,   -999.0,9,-999.0000,9,  -999.00,20160209,0800
  096U20160108, HEOBI,    44,  1,     15,20160209,0736,-52.6971,  74.7924,  542,     88.5,   2.8800,  33.8950,2,  33.8860,2,    328.2,2,    328.6,2,     9.22,2,    25.63, 2,     0.30, 2,     1.88,2,   -999.0,9,-999.0000,9,  -999.00,20160209,0759
  096U20160108, HEOBI,    44,  1,     14,20160209,0736,-52.6971,  74.7924,  542,    109.8,   2.6840,  33.9040,2,  33.9010,2,    325.1,2,    325.8,2,    11.88,2,    26.15, 2,     0.30, 2,     1.87,2,   -999.0,9,-999.0000,9,  -999.00,20160209,0757
  096U20160108, HEOBI,    44,  1,     13,20160209,0736,-52.6971,  74.7924,  542,    119.7,   2.4610,  33.9210,2,  33.9160,2,    321.5,2,    321.9,2,    15.65,2,    26.77, 2,     0.30, 2,     1.95,2,   -999.0,9,-999.0000,9,  -999.00,20160209,0756
  096U20160108, HEOBI,    44,  1,     12,20160209,0736,-52.6971,  74.7924,  542,    130.4,   2.3170,  33.9370,2,  33.9300,2,    317.8,2,    318.7,2,    18.36,2,    27.33, 2,     0.29, 2,     1.99,2,   -999.0,9,-999.0000,9,  -999.00,20160209,0755
  096U20160108, HEOBI,    44,  1,     11,20160209,0736,-52.6971,  74.7924,  542,    157.8,   2.2060,  33.9580,2,  33.9500,2,    312.5,2,    313.3,2,    21.72,2,    27.98, 2,     0.26, 2,     2.03,2,   -999.0,9,-999.0000,9,  -999.00,20160209,0754
  096U20160108, HEOBI,    44,  1,     10,20160209,0736,-52.6971,  74.7924,  542,    200.8,   2.1730,  33.9790,2,  33.9700,2,    306.6,2,    309.0,2,    24.43,2,    28.42, 2,     0.24, 2,     2.05,2,   -999.0,9,-999.0000,9,  -999.00,20160209,0752
  096U20160108, HEOBI,    44,  1,      9,20160209,0736,-52.6971,  74.7924,  542,    239.8,   2.1200,  33.9860,2,  33.9810,2,    304.7,2,    306.0,2,    25.80,2,    28.81, 2,     0.24, 2,     2.06,2,   -999.0,9,-999.0000,9,  -999.00,20160209,0750
  096U20160108, HEOBI,    44,  1,      8,20160209,0736,-52.6971,  74.7924,  542,    280.7,   2.0350,  34.0510,2,  34.0420,2,    289.3,2,    291.6,2,    32.70,2,    30.13, 2,     0.19, 2,     2.12,2,   -999.0,9,-999.0000,9,  -999.00,20160209,0748
  096U20160108, HEOBI,    44,  1,      7,20160209,0736,-52.6971,  74.7924,  542,    338.4,   2.1440,  34.1670,2,  34.1550,2,    264.1,2,    266.8,2,    41.97,2,    31.31, 2,     0.14, 2,     2.18,2,   -999.0,9,-999.0000,9,  -999.00,20160209,0746
  096U20160108, HEOBI,    44,  1,      6,20160209,0736,-52.6971,  74.7924,  542,    380.0,   2.1800,  34.1960,2,  34.1860,2,    257.0,2,    260.4,2,    44.31,2,    31.67, 2,     0.14, 2,     2.19,2,   -999.0,9,-999.0000,9,  -999.00,20160209,0744
  096U20160108, HEOBI,    44,  1,      5,20160209,0736,-52.6971,  74.7924,  542,    418.0,   2.1760,  34.2190,2,  34.2080,2,    252.1,2,    255.9,2,    46.43,2,    31.96, 2,     0.12, 2,     2.21,2,   -999.0,9,-999.0000,9,  -999.00,20160209,0742
  096U20160108, HEOBI,    44,  1,      4,20160209,0736,-52.6971,  74.7924,  542,    459.6,   2.2070,  34.4530,2,  34.4430,2,    205.7,2,    210.2,2,    66.32,2,    34.44, 2,     0.04, 2,     2.33,2,   -999.0,9,-999.0000,9,  -999.00,20160209,0740
  096U20160108, HEOBI,    44,  1,      3,20160209,0736,-52.6971,  74.7924,  542,    479.4,   2.2290,  34.5040,2,  34.4930,2,    197.3,2,    201.8,2,    70.03,2,    34.66, 2,     0.03, 2,     2.34,2,   -999.0,9,-999.0000,9,  -999.00,20160209,0739
  096U20160108, HEOBI,    44,  1,      2,20160209,0736,-52.6971,  74.7924,  542,    500.4,   2.2400,  34.5420,2,  34.5390,2,    192.7,2,    197.5,2,    72.59,2,    34.61, 2,     0.03, 2,     2.34,2,   -999.0,9,-999.0000,9,  -999.00,20160209,0738
  096U20160108, HEOBI,    44,  1,      1,20160209,0736,-52.6971,  74.7924,  542,    526.4,   2.2430,  34.5460,2,  34.5440,2,    191.8,2,    196.6,2,    72.94,2,    34.70, 3,     0.03, 2,     2.35,2,   -999.0,9,-999.0000,9,  -999.00,20160209,0736
  096U20160108, HEOBI,    45,  1,     14,20160210,0121,-52.5419,  75.2616,  305,     24.6,   3.1560,  33.8710,2,  33.8630,2,    335.4,2,    336.7,2,     4.15,2,    24.82, 2,     0.31, 2,     1.66,2,   -999.0,9,-999.0000,9,  -999.00,20160210,0141
  096U20160108, HEOBI,    45,  1,     15,20160210,0121,-52.5419,  75.2616,  305,     25.8,   3.1560,  33.8710,2,-999.0000,9,    335.1,2,   -999.0,9,  -999.00,9,  -999.00, 9,  -999.00, 9,  -999.00,9,   -999.0,9,-999.0000,9,  -999.00,20160210,0141
  096U20160108, HEOBI,    45,  1,     12,20160210,0121,-52.5419,  75.2616,  305,     50.6,   3.1360,  33.8730,2,  33.8660,2,    334.7,2,    338.2,2,     4.29,2,    24.81, 2,     0.31, 2,     1.66,2,   -999.0,9,-999.0000,9,  -999.00,20160210,0139
  096U20160108, HEOBI,    45,  1,     13,20160210,0121,-52.5419,  75.2616,  305,     50.6,   3.1510,  33.8720,2,-999.0000,9,    335.1,2,   -999.0,9,  -999.00,9,  -999.00, 9,  -999.00, 9,  -999.00,9,   -999.0,9,-999.0000,9,  -999.00,20160210,0139
  096U20160108, HEOBI,    45,  1,     10,20160210,0121,-52.5419,  75.2616,  305,     74.7,   2.8870,  33.9080,2,  33.9000,2,    325.8,2,    327.1,2,    10.13,2,    25.38, 2,     0.29, 2,     1.82,2,   -999.0,9,-999.0000,9,  -999.00,20160210,0136
  096U20160108, HEOBI,    45,  1,     11,20160210,0121,-52.5419,  75.2616,  305,     76.1,   2.8770,  33.9100,2,-999.0000,9,    325.9,2,   -999.0,9,  -999.00,9,  -999.00, 9,  -999.00, 9,  -999.00,9,   -999.0,9,-999.0000,9,  -999.00,20160210,0137
  096U20160108, HEOBI,    45,  1,      9,20160210,0121,-52.5419,  75.2616,  305,    101.9,   2.5650,  33.9560,2,  33.9450,2,    313.8,2,    315.8,2,    17.62,2,    26.60, 2,     0.25, 2,     1.96,2,   -999.0,9,-999.0000,9,  -999.00,20160210,0135
  096U20160108, HEOBI,    45,  1,      8,20160210,0121,-52.5419,  75.2616,  305,    127.3,   2.4340,  33.9780,2,  33.9690,2,    307.2,2,    309.2,2,    21.24,2,    27.34, 2,     0.24, 2,     2.00,2,   -999.0,9,-999.0000,9,  -999.00,20160210,0132
  096U20160108, HEOBI,    45,  1,      7,20160210,0121,-52.5419,  75.2616,  305,    144.2,   2.3910,  33.9990,2,  33.9920,2,    302.1,2,    303.8,2,    23.68,2,    27.82, 2,     0.22, 2,     2.03,2,   -999.0,9,-999.0000,9,  -999.00,20160210,0130
  096U20160108, HEOBI,    45,  1,      6,20160210,0121,-52.5419,  75.2616,  305,    198.4,   2.2430,  34.0420,2,  34.0360,2,    291.0,2,    293.9,2,    29.25,2,    29.14, 2,     0.19, 2,     2.09,2,   -999.0,9,-999.0000,9,  -999.00,20160210,0128
  096U20160108, HEOBI,    45,  1,      5,20160210,0121,-52.5419,  75.2616,  305,    220.0,   2.2270,  34.0490,2,  34.0410,2,    289.7,2,    291.9,2,    30.33,2,    29.32, 2,     0.19, 2,     2.10,2,   -999.0,9,-999.0000,9,  -999.00,20160210,0126
  096U20160108, HEOBI,    45,  1,      4,20160210,0121,-52.5419,  75.2616,  305,    250.1,   2.1930,  34.1110,2,  34.1050,2,    274.8,2,    238.7,2,    36.74,2,    30.45, 2,     0.16, 2,     2.16,2,   -999.0,9,-999.0000,9,  -999.00,20160210,0124
  096U20160108, HEOBI,    45,  1,      3,20160210,0121,-52.5419,  75.2616,  305,    275.1,   2.1880,  34.1240,2,  34.1170,2,    271.0,2,    273.6,2,    38.31,2,    30.71, 2,     0.15, 2,     2.18,2,   -999.0,9,-999.0000,9,  -999.00,20160210,0122
  096U20160108, HEOBI,    45,  1,      2,20160210,0121,-52.5419,  75.2616,  305,    292.3,   2.1840,  34.1300,2,-999.0000,9,    269.9,2,   -999.0,9,  -999.00,9,  -999.00, 9,  -999.00, 9,  -999.00,9,   -999.0,9,-999.0000,9,  -999.00,20160210,0121
  096U20160108, HEOBI,    45,  1,      1,20160210,0121,-52.5419,  75.2616,  305,    294.1,   2.1820,  34.1320,2,  34.1210,2,    270.4,2,    273.9,2,    38.78,2,    30.80, 2,     0.15, 2,     2.18,2,   -999.0,9,-999.0000,9,  -999.00,20160210,0121