BOTTLE,20140120PRINUNIVRMK
EXPOCODE,SECT_ID,STNNBR,CASTNO,SAMPNO,BTLNBR,BTLNBR_FLAG_W,DATE,TIME,LATITUDE,LONGITUDE,DEPTH,CTDPRS,CTDTMP,CTDSAL,CTDSAL_FLAG_W,SALNTY,SALNTY_FLAG_W,CTDOXY,CTDOXY_FLAG_W,OXYGEN,OXYGEN_FLAG_W,SILCAT,SILCAT_FLAG_W,NITRAT,NITRAT_FLAG_W,PHSPHT,PHSPHT_FLAG_W,CFC-11,CFC-11_FLAG_W,CFC-12,CFC-12_FLAG_W,CFC113,CFC113_FLAG_W,CCL4,CCL4_FLAG_W,TCARBN,TCARBN_FLAG_W,THETA
,,,,,,,,,,,METERS,DBAR,ITS-90,PSS-78,,PSS-78,,UMOL/KG,,UMOL/KG,,UMOL/KG,,UMOL/KG,,UMOL/KG,,PMOL/KG,,PMOL/KG,,PMOL/KG,,PMOL/KG,,UMOL/KG,,DEG C
  18HU19941012, AR13c,    57,  1, 151492,     92,2,19941027,0329, 44.6297, -45.3340, 4126,     13.0,  16.0964,  33.8431,2,  33.8485,2,    181.8,2,    254.7,2,     0.76,2,     0.00,6,     0.18,2,    2.473,2,    1.460,2,    0.204,2,    3.488,2,   -999.0,9,  16.0944
  18HU19941012, AR13c,    57,  1, 151491,     91,2,19941027,0329, 44.6297, -45.3340, 4126,    104.7,   7.2861,  34.4573,2,  34.4605,2,    271.8,2,    262.9,2,     4.85,2,     9.15,6,     0.85,2,    3.623,2,    1.905,2,    0.250,2,    3.381,2,   -999.0,9,   7.2762
  18HU19941012, AR13c,    57,  1, 151490,     90,2,19941027,0329, 44.6297, -45.3340, 4126,    304.8,   6.0073,  34.7680,2,  34.7740,2,    210.1,3,    211.4,2,    11.96,2,    18.29,6,     1.34,2,    2.146,2,    1.146,2,    0.153,2,    2.562,2,   -999.0,9,   5.9809
  18HU19941012, AR13c,    57,  1, 151489,     89,2,19941027,0329, 44.6297, -45.3340, 4126,    455.8,   5.1559,  34.8613,2,  34.8647,2,    232.3,2,    230.9,2,    12.18,2,    17.85,6,     1.31,2,    2.132,2,    1.094,2,    0.159,2,    2.760,2,   -999.0,9,   5.1189
  18HU19941012, AR13c,    57,  1, 151488,     88,2,19941027,0329, 44.6297, -45.3340, 4126,    606.4,   5.0518,  34.9817,2,  34.9892,2,    243.5,2,    242.0,2,    11.96,2,    17.74,6,     1.25,2,    1.791,2,    0.948,2,    0.135,2,    2.478,2,   -999.0,9,   5.0023
  18HU19941012, AR13c,    57,  1, 151487,     87,2,19941027,0329, 44.6297, -45.3340, 4126,    807.2,   4.6110,  34.9905,2,  34.9961,2,    261.0,2,    260.3,2,    11.58,2,    17.38,6,     1.20,2,    1.721,2,    1.032,2,    0.118,2,    2.584,2,   -999.0,9,   4.5466
  18HU19941012, AR13c,    57,  1, 151486,     86,2,19941027,0329, 44.6297, -45.3340, 4126,   1006.3,   4.1477,  34.9588,2,  34.9644,2,    272.7,2,    269.5,2,    11.64,2,    17.04,6,     1.20,2, -999.000,9, -999.000,9, -999.000,9, -999.000,9,   -999.0,9,   4.0696
  18HU19941012, AR13c,    57,  1, 151485,     85,2,19941027,0329, 44.6297, -45.3340, 4126,   1205.5,   3.8267,  34.9294,2,  34.9363,2,    280.7,2,    280.5,2,    11.42,2,    16.70,6,     1.17,2,    1.748,2,    0.914,2,    0.123,2,    2.965,2,   -999.0,9,   3.7344
  18HU19941012, AR13c,    57,  1, 151484,     84,2,19941027,0329, 44.6297, -45.3340, 4126,   1403.0,   3.5741,  34.9069,2,  34.9130,2,    286.1,2,    284.4,2,    11.13,2,    16.26,6,     1.16,2,    1.858,2,    0.946,2,    0.121,2,    3.174,2,   -999.0,9,   3.4673
  18HU19941012, AR13c,    57,  1, 151483,     83,2,19941027,0329, 44.6297, -45.3340, 4126,   1599.5,   3.4584,  34.8990,2,  34.9050,2,    289.7,2,    289.1,2,    11.34,2,    16.13,6,     1.16,2,    1.857,2,    0.996,2,    0.119,2,    3.300,2,   -999.0,9,   3.3357
  18HU19941012, AR13c,    57,  1, 151482,     82,2,19941027,0329, 44.6297, -45.3340, 4126,   1795.9,   3.3331,  34.8919,2,  34.8981,2,    290.2,2,    289.7,2,    11.34,2,    15.90,6,     1.16,2,    1.901,2,    1.060,2,    0.122,2,    3.257,2,   -999.0,9,   3.1945
  18HU19941012, AR13c,    57,  1, 151481,     81,2,19941027,0329, 44.6297, -45.3340, 4126,   1994.4,   3.2902,  34.9016,2,  34.9071,2,    289.0,2,    287.6,2,    12.21,2,    16.01,6,     1.15,2,    1.622,2,    0.870,2,    0.095,2,    2.856,2,   -999.0,9,   3.1339
  18HU19941012, AR13c,    57,  1, 151480,     80,2,19941027,0329, 44.6297, -45.3340, 4126,   2289.3,   3.2130,  34.9116,2,  34.9177,2,    285.1,2,    285.2,2,    12.88,2,    16.09,6,     1.16,2,    1.313,2,    0.734,2,    0.114,2,    2.472,2,   -999.0,9,   3.0299
  18HU19941012, AR13c,    57,  1, 151479,     79,2,19941027,0329, 44.6297, -45.3340, 4126,   2589.6,   3.1017,  34.9217,2,  34.9274,2,    280.9,2,    283.0,2,    13.75,2,    16.11,6,     1.13,2,    0.957,2,    0.541,2,    0.057,2,    1.980,2,   -999.0,9,   2.8910
  18HU19941012, AR13c,    57,  1, 151478,     78,2,19941027,0329, 44.6297, -45.3340, 4126,   2886.4,   2.8082,  34.9189,2,  34.9246,2,    280.1,2,    282.5,2,    15.67,2,    16.08,6,     1.15,2,    0.857,2,    0.467,2,    0.024,2,    1.802,2,   -999.0,9,   2.5733
  18HU19941012, AR13c,    57,  1, 151477,     77,2,19941027,0329, 44.6297, -45.3340, 4126,   3191.0,   2.5938,  34.9113,2,  34.9185,2,    279.9,2,    281.5,2,    16.16,2,    15.77,6,     1.14,2,    1.036,2,    0.520,2,    0.052,2,    1.975,2,   -999.0,9,   2.3321
  18HU19941012, AR13c,    57,  1, 151476,     76,2,19941027,0329, 44.6297, -45.3340, 4126,   3497.0,   2.4295,  34.9035,2,  34.9096,2,    279.5,2,    300.8,2,    19.25,2,    15.87,6,     1.16,2,    0.815,2,    0.528,2,    0.051,2,    1.770,2,   -999.0,9,   2.1391
  18HU19941012, AR13c,    57,  1, 151475,     75,2,19941027,0329, 44.6297, -45.3340, 4126,   3806.6,   2.2159,  34.8904,2,  34.8982,2,    285.7,2,    293.9,2,    15.01,2,    14.89,6,     1.08,2,    1.693,2,    0.878,2,    0.108,2,    2.911,2,   -999.0,9,   1.8972
  18HU19941012, AR13c,    57,  1, 151474,     74,2,19941027,0329, 44.6297, -45.3340, 4126,   4006.2,   2.1738,  34.8895,2,  34.8951,2,    285.5,2,    292.3,2,    15.44,2,    14.74,6,     1.07,2,    1.690,2,    0.877,2,    0.113,2,    2.857,2,   -999.0,9,   1.8339
  18HU19941012, AR13c,    57,  1, 151473,     73,2,19941027,0329, 44.6297, -45.3340, 4126,   4120.4,   2.1804,  34.8889,2,  34.8938,2,    285.4,2,    289.5,2,    15.57,2,    14.68,6,     1.06,2,    1.679,2,    0.887,2,    0.116,2,    2.852,2,   -999.0,9,   1.8273
  18HU19941012, AR13c,    58,  1, 151512,     12,2,19941027,0845, 44.2115, -44.9820, 4329,     12.8,  16.1460,  33.5815,2,  33.5917,2,    205.9,3,    254.3,2,     0.70,2,     0.00,6,     0.17,2,    2.255,2,    1.339,2,    0.141,2,    3.007,2,   1985.5,2,  16.1440
  18HU19941012, AR13c,    58,  1, 151511,     11,2,19941027,0845, 44.2115, -44.9820, 4329,    102.6,  12.0750,  35.3673,2,  35.3330,2,    234.1,3,    201.8,2,     5.60,2,    11.04,6,     0.86,2,    1.983,2,    1.151,2,    0.082,2,    1.245,2,   2126.7,2,  12.0616
  18HU19941012, AR13c,    58,  1, 151510,     10,2,19941027,0845, 44.2115, -44.9820, 4329,    347.3,   6.5594,  34.8185,2,  34.8094,2,    207.9,3,    202.9,2,    12.20,2,    18.18,6,     1.36,2,    1.882,2,    0.941,2,    0.098,2,    2.138,2,   2163.7,2,   6.5278
  18HU19941012, AR13c,    58,  1, 151509,      9,2,19941027,0845, 44.2115, -44.9820, 4329,    447.9,   6.0706,  34.9113,2,  34.9152,2,    214.8,2,    203.2,2,    13.91,2,    19.23,6,     1.42,2,    1.428,2,    0.731,2,    0.067,2,    1.657,2,   2171.7,2,   6.0311
  18HU19941012, AR13c,    58,  1, 151508,      8,2,19941027,0845, 44.2115, -44.9820, 4329,    705.7,   4.8932,  34.9858,2,  34.9909,2,    253.4,3,    247.5,2,    12.30,2,    17.68,6,     1.24,2,    1.655,2,    0.828,2,    0.071,2,    2.239,2,   2161.5,2,   4.8359
  18HU19941012, AR13c,    58,  1, 151507,      7,2,19941027,0845, 44.2115, -44.9820, 4329,    905.4,   4.5397,  34.9963,2,  35.0023,2,    264.6,2,    259.5,2,    12.03,2,    17.49,6,     1.23,2,    1.421,2,    0.686,2,    0.048,2,    2.234,2,   2159.3,2,   4.4673
  18HU19941012, AR13c,    58,  1, 151506,      6,2,19941027,0845, 44.2115, -44.9820, 4329,   1207.0,   3.7890,  34.9233,2,  34.9490,2,    280.7,3,    252.8,2,    11.53,2,    16.76,6,     1.24,2,    1.607,2,    0.868,2,    0.057,2,    2.332,2,   2156.8,2,   3.6969
  18HU19941012, AR13c,    58,  1, 151505,      5,2,19941027,0845, 44.2115, -44.9820, 4329,   1406.6,   3.5970,  34.9104,2,  34.9142,2,    288.1,2,    283.2,2,    11.40,2,    15.79,6,     1.17,2,    1.589,2,    0.733,2,    0.051,2,    2.728,2,   2151.1,2,   3.4897
  18HU19941012, AR13c,    58,  1, 151504,      4,2,19941027,0845, 44.2115, -44.9820, 4329,   1602.9,   3.2950,  34.8752,2,  34.8827,2,    293.8,2,    292.8,2,    10.90,2,    15.57,6,     1.15,2,    2.148,2,    1.159,2,    0.095,2,    3.345,2,   2149.1,2,   3.1741
  18HU19941012, AR13c,    58,  1, 151503,      3,2,19941027,0845, 44.2115, -44.9820, 4329,   1799.9,   3.3878,  34.9052,2,  34.9084,2,    302.9,3,    285.2,2,    12.13,2,    15.77,6,     1.16,2,    1.466,2,    0.711,2,    0.040,2,    2.617,2,   2150.3,2,   3.2480
  18HU19941012, AR13c,    58,  1, 151502,      2,2,19941027,0845, 44.2115, -44.9820, 4329,   1970.5,   3.3282,  34.9090,2,  34.9047,2,    298.4,3,    286.2,2,    12.86,2,    16.34,6,     1.17,2,    1.348,2,    0.631,2,    0.046,2,    2.423,2,   2150.8,2,   3.1736
  18HU19941012, AR13c,    58,  1, 151501,      1,2,19941027,0845, 44.2115, -44.9820, 4329,   2203.0,   3.1979,  34.9022,2,  34.9077,2,    288.2,2,    287.4,2,    12.58,2,    16.07,6,     1.17,2,    1.451,2,    0.748,2,    0.053,2,    2.638,2,   -999.0,9,   3.0234
  18HU19941012, AR13c,    58,  1, 151500,      0,2,19941027,0845, 44.2115, -44.9820, 4329,   2504.0,   3.1472,  34.9275,2,  34.9273,2,    284.2,3,    279.0,2,    14.11,2,    16.10,6,     1.18,2,    0.865,2,    0.460,2,    0.025,2,    1.670,2,   2145.4,2,   2.9442
  18HU19941012, AR13c,    58,  1, 151499,     99,2,19941027,0845, 44.2115, -44.9820, 4329,   2702.8,   2.9734,  34.9178,2,  34.9226,2,    282.3,2,    282.5,2,    13.86,2,    15.61,6,     1.16,2,    0.999,2,    0.462,2,    0.034,2,    1.822,2,   2151.4,2,   2.7538
  18HU19941012, AR13c,    58,  1, 151498,     98,2,19941027,0845, 44.2115, -44.9820, 4329,   3000.9,   2.7464,  34.9175,2,  34.9226,2,    284.0,2,    282.0,2,    16.51,2,    15.62,6,     1.18,2,    0.783,2,    0.382,2,    0.000,2,    1.518,2,   2155.4,2,   2.5011
  18HU19941012, AR13c,    58,  1, 151497,     97,2,19941027,0845, 44.2115, -44.9820, 4329,   3302.1,   2.5053,  34.9080,2,  34.9236,2,    282.1,3,    277.2,2,    11.99,3,    16.16,6,     1.17,2,    1.618,3,    0.809,3,    0.067,2,    2.609,2,   2152.7,2,   2.2339
  18HU19941012, AR13c,    58,  1, 151496,     96,2,19941027,0845, 44.2115, -44.9820, 4329,   3595.2,   2.3801,  34.9010,2,  34.9066,2,    280.1,2,    281.3,2,    21.31,2,    16.11,6,     1.17,2,    0.808,2,    0.378,2,    0.047,2,    1.747,2,   2159.9,2,   2.0803
  18HU19941012, AR13c,    58,  1, 151495,     95,2,19941027,0845, 44.2115, -44.9820, 4329,   3979.3,   2.2732,  34.8932,2,  34.9009,2,    279.5,2,    282.0,2,    22.00,2,    16.01,6,     1.17,2,    0.852,2,    0.394,2,    0.026,2,    1.656,2,   2159.7,2,   1.9335
  18HU19941012, AR13c,    58,  1, 151494,     94,2,19941027,0845, 44.2115, -44.9820, 4329,   4176.2,   2.2335,  34.8896,2,  34.8944,2,    279.6,2,    283.5,2,    22.54,2,    15.76,6,     1.18,2,    0.890,2,    0.428,2,    0.027,2,    1.663,2,   2161.5,2,   1.8725
  18HU19941012, AR13c,    58,  1, 151493,     93,2,19941027,0845, 44.2115, -44.9820, 4329,   4323.7,   2.2311,  34.8893,2,  34.8950,2,    281.2,2,    285.0,2,    20.77,2,    15.57,6,     1.14,2,    1.118,2,    0.590,2,    0.035,2,    1.948,2,   2160.6,2,   1.8529
  18HU19941012, AR13c,    59,  1, 151532,     32,2,19941027,1416, 43.7910, -44.6260, 4506,     12.6,  15.9085,  33.0680,2,  33.0537,2,    172.1,3,    256.7,2,     0.55,2,     0.51,6,     0.23,2,    2.333,2,    1.305,2,    0.228,2,    3.338,2,   1976.4,2,  15.9066
  18HU19941012, AR13c,    59,  1, 151531,     31,2,19941027,1416, 43.7910, -44.6260, 4506,     98.0,  11.5611,  35.2233,2,  35.2677,2,    265.2,3,    207.3,2,     5.40,2,    12.39,6,     0.83,2,    2.123,2,    1.166,2,    0.151,2,    1.568,2,   2127.2,2,  11.5486
  18HU19941012, AR13c,    59,  1, 151530,     30,2,19941027,1416, 43.7910, -44.6260, 4506,    197.2,   8.9238,  34.9418,2,  34.9462,2,    210.1,2,    217.3,2,     7.44,2,    15.02,6,     1.02,2,    2.262,2,    1.148,2,    0.166,2,    2.056,2,   2135.0,2,   8.9025
  18HU19941012, AR13c,    59,  1, 151529,     29,2,19941027,1416, 43.7910, -44.6260, 4506,    262.7,   7.6752,  34.8110,2,  34.8277,2,    207.8,3,    195.9,2,    10.08,2,    17.93,6,     1.20,2, -999.000,9, -999.000,9, -999.000,9, -999.000,9,   2150.0,2,   7.6492
  18HU19941012, AR13c,    59,  1, 151528,     28,2,19941027,1416, 43.7910, -44.6260, 4506,    385.0,   7.0693,  34.9852,2,  34.9868,2,    188.6,3,    190.2,2,    12.77,2,    21.85,6,     1.38,2,    1.234,2,    0.638,2,    0.119,2,    1.442,2,   2172.5,2,   7.0325
  18HU19941012, AR13c,    59,  1, 151527,     27,2,19941027,1416, 43.7910, -44.6260, 4506,    472.9,   5.1797,  34.8382,2,  34.8416,2,    216.0,3,    223.3,2,    12.61,2,    20.23,6,     1.28,2,    1.791,2,    0.889,2,    0.153,2,    2.387,2,   2165.9,2,   5.1412
  18HU19941012, AR13c,    59,  1, 151526,     26,2,19941027,1416, 43.7910, -44.6260, 4506,    660.9,   5.2939,  35.0266,2,  35.0149,2,    240.4,3,    238.8,2,    11.90,2,    19.57,6,     1.24,2,    1.419,2,    0.764,2,    0.112,2,    2.041,2,   2167.9,2,   5.2384
  18HU19941012, AR13c,    59,  1, 151525,     25,2,19941027,1416, 43.7910, -44.6260, 4506,    897.4,   4.6513,  35.0062,2,  35.0133,2,    257.1,2,    255.4,2,    11.51,2,    18.80,6,     1.19,2,    1.315,2,    0.677,2,    0.082,2,    2.135,2,   2161.4,2,   4.5788
  18HU19941012, AR13c,    59,  1, 151524,     24,2,19941027,1416, 43.7910, -44.6260, 4506,   1200.2,   4.0591,  34.9589,2,  34.9658,2,    273.3,2,    270.8,2,    11.27,2,    17.87,6,     1.17,2,    1.345,2,    0.648,2,    0.088,2,    2.385,2,   -999.0,9,   3.9650
  18HU19941012, AR13c,    59,  1, 151523,     23,2,19941027,1416, 43.7910, -44.6260, 4506,   1509.3,   3.5967,  34.9117,2,  34.9174,2,    284.6,2,    282.4,2,    11.27,2,    17.63,6,     1.15,2,    1.533,2,    0.769,2,    0.112,2,    2.744,2,   2150.7,2,   3.4804
  18HU19941012, AR13c,    59,  1, 151522,     22,2,19941027,1416, 43.7910, -44.6260, 4506,   1801.7,   3.4261,  34.9060,2,  34.9103,2,    284.7,2,    283.3,2,    11.70,2,    17.43,6,     1.12,2,    1.414,2,    0.712,2,    0.087,2,    2.610,2,   2151.1,2,   3.2856
  18HU19941012, AR13c,    59,  1, 151521,     21,2,19941027,1416, 43.7910, -44.6260, 4506,   2111.8,   3.3222,  34.9122,2,  34.9181,2,    284.8,2,    283.8,2,    12.49,2,    17.43,6,     1.13,2,    1.222,2,    0.647,2,    0.068,2,    2.302,2,   2150.6,2,   3.1543
  18HU19941012, AR13c,    59,  1, 151520,     20,2,19941027,1416, 43.7910, -44.6260, 4506,   2431.4,   3.1688,  34.9201,2,  34.9208,2,    279.4,3,    281.6,2,    13.32,2,    17.37,6,     1.12,2,    1.052,2,    0.636,2,    0.062,2,    2.031,2,   2154.2,2,   2.9726
  18HU19941012, AR13c,    59,  1, 151519,     19,2,19941027,1416, 43.7910, -44.6260, 4506,   2701.0,   3.0200,  34.9189,2,  34.9178,2,    282.5,3,    283.3,2,    13.80,2,    17.10,6,     1.10,2,    1.043,2,    0.691,2,    0.052,2,    2.004,2,   2152.2,2,   2.7997
  18HU19941012, AR13c,    59,  1, 151518,     18,2,19941027,1416, 43.7910, -44.6260, 4506,   2998.3,   2.8297,  34.9196,2,  34.9259,2,    281.6,2,    281.6,2,    15.96,2,    15.38,6,     1.19,2,    0.833,2,    0.450,2,    0.033,2,    1.705,2,   2153.2,2,   2.5828
  18HU19941012, AR13c,    59,  1, 151517,     17,2,19941027,1416, 43.7910, -44.6260, 4506,   3301.0,   2.6030,  34.9109,2,  34.9276,2,    281.5,3,    276.9,2,    16.57,2,    15.80,6,     1.19,2,    1.155,2,    0.638,2,    0.059,2,    2.115,2,   2151.7,2,   2.3294
  18HU19941012, AR13c,    59,  1, 151516,     16,2,19941027,1416, 43.7910, -44.6260, 4506,   3587.8,   2.4287,  34.9016,2,  34.9081,2,    281.5,2,    286.4,2,    16.98,2,    15.44,6,     1.15,2,    1.133,2,    0.684,2,    0.061,2,    2.130,2,   2155.8,2,   2.1285
  18HU19941012, AR13c,    59,  1, 151515,     15,2,19941027,1416, 43.7910, -44.6260, 4506,   3931.3,   2.3178,  34.8959,2,  34.8982,2,    279.3,2,    282.3,2,    21.96,2,    16.25,6,     1.21,2,    0.841,2,    0.448,2,    0.058,2,    1.689,2,   2161.9,2,   1.9824
  18HU19941012, AR13c,    59,  1, 151514,     14,2,19941027,1416, 43.7910, -44.6260, 4506,   4274.5,   2.2746,  34.8914,2,  34.8960,2,    277.7,2,    281.9,2,    22.82,2,    16.26,6,     1.21,2,    0.930,2,    0.612,2,    0.036,2,    1.819,2,   2160.1,2,   1.9009
  18HU19941012, AR13c,    59,  1, 151513,     13,2,19941027,1416, 43.7910, -44.6260, 4506,   4500.5,   2.2884,  34.8907,2,  34.8919,2,    278.5,2,    281.8,2,    21.27,2,    15.67,6,     1.18,2,    1.004,2,    0.517,2,    0.054,2,    1.888,2,   2161.7,2,   1.8875