BOTTLE,20140120PRINUNIVRMK
EXPOCODE,SECT_ID,STNNBR,CASTNO,SAMPNO,BTLNBR,BTLNBR_FLAG_W,DATE,TIME,LATITUDE,LONGITUDE,DEPTH,CTDPRS,CTDTMP,CTDSAL,CTDSAL_FLAG_W,SALNTY,SALNTY_FLAG_W,CTDOXY,CTDOXY_FLAG_W,OXYGEN,OXYGEN_FLAG_W,SILCAT,SILCAT_FLAG_W,NITRAT,NITRAT_FLAG_W,PHSPHT,PHSPHT_FLAG_W,CFC-11,CFC-11_FLAG_W,CFC-12,CFC-12_FLAG_W,CFC113,CFC113_FLAG_W,CCL4,CCL4_FLAG_W,TCARBN,TCARBN_FLAG_W,THETA
,,,,,,,,,,,METERS,DBAR,ITS-90,PSS-78,,PSS-78,,UMOL/KG,,UMOL/KG,,UMOL/KG,,UMOL/KG,,UMOL/KG,,PMOL/KG,,PMOL/KG,,PMOL/KG,,PMOL/KG,,UMOL/KG,,DEG C
  18HU19941012, AR13c,   102,  1, 152160,     60,2,19941105,0933, 44.0755, -40.1240, 4877,     12.9,  16.6431,  35.4142,2,  35.4204,2,    252.0,3,    243.3,2,     0.91,2,     0.45,6,     0.13,2,    2.332,2,    1.138,2,    0.106,2,    2.983,2,   -999.0,9,  16.6410
  18HU19941012, AR13c,   102,  1, 152159,     59,2,19941105,0933, 44.0755, -40.1240, 4877,     98.6,  16.7843,  36.2030,2,  36.2202,2,    203.0,3,    204.9,2,     1.90,2,     5.62,6,     0.35,2,    2.041,2,    1.008,2,    0.093,2,    0.782,2,   2102.1,2,  16.7681
  18HU19941012, AR13c,   102,  1, 152158,     58,2,19941105,0933, 44.0755, -40.1240, 4877,    345.9,  12.0280,  35.4880,2,  35.5012,2,    227.9,3,    205.7,2,     5.94,2,    13.38,6,     0.83,2,    2.030,2,    0.985,2,    0.111,2,    1.228,2,   2136.5,2,  11.9823
  18HU19941012, AR13c,   102,  1, 152157,     57,2,19941105,0933, 44.0755, -40.1240, 4877,    606.4,   8.2807,  35.0820,2,  35.0880,2,    186.8,2,    199.0,2,    10.75,2,    19.47,6,     1.23,2,    1.686,2,    0.795,2,    0.047,2,    1.578,2,   2167.1,2,   8.2164
  18HU19941012, AR13c,   102,  1, 152156,     56,2,19941105,0933, 44.0755, -40.1240, 4877,    756.1,   6.5369,  34.9722,2,  34.9813,2,    207.2,3,    205.9,2,    12.00,2,    20.34,6,     1.29,2,    1.612,2,    0.780,2,    0.084,2,    1.888,2,   -999.0,9,   6.4658
  18HU19941012, AR13c,   102,  1, 152155,     55,2,19941105,0933, 44.0755, -40.1240, 4877,    985.7,   5.0347,  34.9871,2,  34.9943,2,    241.4,2,    241.9,2,    11.86,2,    18.92,6,     1.21,2,    1.796,2,    0.833,2,    0.103,2,    2.507,2,   2170.5,2,   4.9516
  18HU19941012, AR13c,   102,  1, 152154,     54,2,19941105,0933, 44.0755, -40.1240, 4877,   1208.1,   4.4430,  34.9727,2,  34.9795,2,    260.0,2,    260.1,2,    11.39,2,    18.47,6,     1.17,2,    1.764,2,    0.853,2,    0.044,2,    2.734,2,   2164.2,2,   4.3447
  18HU19941012, AR13c,   102,  1, 152153,     53,2,19941105,0933, 44.0755, -40.1240, 4877,   1407.6,   4.0362,  34.9385,2,  34.9455,2,    272.2,2,    273.2,2,    11.27,2,    17.83,6,     1.15,2,    1.798,2,    0.817,2,    0.089,2,    3.007,2,   2159.1,2,   3.9240
  18HU19941012, AR13c,   102,  1, 152152,     52,2,19941105,0933, 44.0755, -40.1240, 4877,   1671.9,   3.7362,  34.9205,2,  34.9271,2,    280.8,2,    279.4,2,    11.49,2,    17.58,6,     1.13,2,    1.614,2,    0.759,2,    0.079,2,    2.925,2,   2155.7,2,   3.6035
  18HU19941012, AR13c,   102,  1, 152151,     51,2,19941105,0933, 44.0755, -40.1240, 4877,   1916.1,   3.5341,  34.9041,2,  34.9114,2,    281.8,2,    284.4,2,    11.61,2,    17.33,6,     1.10,2,    1.765,2,    0.887,2,    0.049,2,    3.221,2,   2155.1,2,   3.3816
  18HU19941012, AR13c,   102,  1, 152150,     50,2,19941105,0933, 44.0755, -40.1240, 4877,   2135.4,   3.4976,  34.9187,2,  34.9258,2,    284.7,2,    279.0,2,    12.66,2,    17.47,6,     1.11,2,    1.109,2,    0.551,2,    0.054,2,    2.322,2,   2156.1,2,   3.3247
  18HU19941012, AR13c,   102,  1, 152149,     49,2,19941105,0933, 44.0755, -40.1240, 4877,   2404.9,   3.3476,  34.9095,2,  34.9163,2,    283.7,2,    283.5,2,    12.29,2,    17.34,6,     1.11,2,    1.281,2,    0.602,2,    0.047,2,    2.529,2,   2156.5,2,   3.1509
  18HU19941012, AR13c,   102,  1, 152148,     48,2,19941105,0933, 44.0755, -40.1240, 4877,   2625.9,   3.3062,  34.9270,2,  34.9326,2,    279.8,2,    279.7,2,    13.77,2,    17.47,6,     1.12,2,    0.824,2,    0.462,2,    0.078,2,    1.912,2,   2159.2,2,   3.0879
  18HU19941012, AR13c,   102,  1, 152147,     47,2,19941105,0933, 44.0755, -40.1240, 4877,   3042.3,   3.0273,  34.9256,2,  34.9328,2,    279.8,2,    280.1,2,    15.39,2,    17.26,6,     1.11,2,    0.770,2,    0.472,2,    0.031,2,    1.692,2,   -999.0,9,   2.7715
  18HU19941012, AR13c,   102,  1, 152146,     46,2,19941105,0933, 44.0755, -40.1240, 4877,   3533.5,   2.7002,  34.9144,2,  34.9214,2,    281.5,2,    279.9,2,    17.86,2,    17.47,6,     1.12,2,    0.731,2,    0.419,2,    0.026,2,    1.593,2,   2159.2,2,   2.3990
  18HU19941012, AR13c,   102,  1, 152145,     45,2,19941105,0933, 44.0755, -40.1240, 4877,   3808.9,   2.5754,  34.9084,2,  34.9149,2,    282.3,2,    281.5,2,    18.27,2,    17.38,6,     1.14,2,    0.792,2,    0.429,2,    0.038,2,    1.731,2,   2160.4,2,   2.2467
  18HU19941012, AR13c,   102,  1, 152144,     44,2,19941105,0933, 44.0755, -40.1240, 4877,   4204.2,   2.3884,  34.8979,2,  34.9037,2,    282.1,2,    281.8,2,    20.53,2,    17.35,6,     1.13,2,    0.833,2,    0.467,2,    0.063,2,    1.734,2,   2164.5,2,   2.0196
  18HU19941012, AR13c,   102,  1, 152143,     43,2,19941105,0933, 44.0755, -40.1240, 4877,   4497.1,   2.3132,  34.8929,2,  34.9011,2,    283.5,2,    283.3,2,    20.34,2,    17.13,6,     1.11,2,    1.022,2,    0.494,2,    0.049,2,    2.024,2,   2166.2,2,   1.9119
  18HU19941012, AR13c,   102,  1, 152142,     42,2,19941105,0933, 44.0755, -40.1240, 4877,   4786.7,   2.2947,  34.8883,2,  34.8946,2,    281.2,2,    281.3,2,    24.23,2,    17.60,6,     1.15,2,    0.922,2,    0.486,2,    0.037,2,    1.796,2,   2170.3,2,   1.8587
  18HU19941012, AR13c,   102,  1, 152141,     41,2,19941105,0933, 44.0755, -40.1240, 4877,   4872.7,   2.2905,  34.8896,2,  34.8986,2,    283.1,2,    283.7,2,    18.38,2,    16.31,6,     1.07,2,    1.442,2,    0.672,2,    0.070,2,    2.536,2,   -999.0,9,   1.8439
  18HU19941012, AR13c,   103,  1, 152180,     80,2,19941105,1748, 43.5148, -40.6040, 4866,     13.2,  20.2599,  36.0518,2,  36.0582,2,    216.7,3,    227.6,2,     0.93,2,     0.00,6,     0.12,2,    1.760,2,    0.942,2,    0.136,2,    2.201,2,   2042.1,2,  20.2574
  18HU19941012, AR13c,   103,  1, 152179,     79,2,19941105,1748, 43.5148, -40.6040, 4866,    100.3,  19.0887,  36.4824,2,  36.4858,2,    172.9,3,    186.6,2,     1.85,2,     4.46,6,     0.27,2,    1.720,2,    1.046,2,    0.101,2,    0.497,2,   2104.4,2,  19.0706
  18HU19941012, AR13c,   103,  1, 152178,     78,2,19941105,1748, 43.5148, -40.6040, 4866,    200.4,  17.5637,  36.4074,2,  36.4153,2,    183.1,3,    202.7,2,     2.01,2,     5.14,6,     0.31,2,    1.765,2,    0.971,2,    0.093,2,    0.625,2,   2103.3,2,  17.5295
  18HU19941012, AR13c,   103,  1, 152177,     77,2,19941105,1748, 43.5148, -40.6040, 4866,    348.9,  14.4805,  35.8766,2,  35.8885,2,    174.1,3,    186.4,2,     4.58,2,    11.37,6,     0.70,2,    1.553,2,    0.904,2,    0.046,2,    0.600,2,   2132.5,2,  14.4283
  18HU19941012, AR13c,   103,  1, 152176,     76,2,19941105,1748, 43.5148, -40.6040, 4866,    504.0,   9.9551,  35.1238,2,  35.1421,2,    180.5,3,    189.8,2,     8.58,2,    16.55,6,     1.10,2,    1.753,2,    0.841,2,    0.118,2,    1.457,2,   2154.0,2,   9.8958
  18HU19941012, AR13c,   103,  1, 152175,     75,2,19941105,1748, 43.5148, -40.6040, 4866,    647.8,   8.2290,  35.0614,2,  35.0675,2,    164.7,2,    164.2,2,    13.88,2,    23.03,6,     1.47,2,    0.910,2,    0.502,2,    0.050,2,    0.879,2,   2185.1,2,   8.1604
  18HU19941012, AR13c,   103,  1, 152174,     74,2,19941105,1748, 43.5148, -40.6040, 4866,    895.4,   5.7929,  35.0247,2,  35.0319,2,    217.4,2,    220.8,2,    12.77,2,    20.17,6,     1.33,2,    1.253,2,    0.588,2,    0.083,2,    1.663,2,   2175.5,2,   5.7128
  18HU19941012, AR13c,   103,  1, 152173,     73,2,19941105,1748, 43.5148, -40.6040, 4866,   1101.6,   5.0944,  35.0441,2,  35.0520,2,    242.7,2,    245.7,2,    11.71,2,    18.90,6,     1.25,2,    1.315,2,    0.614,2,    0.080,2,    2.015,2,   2169.6,2,   5.0000
  18HU19941012, AR13c,   103,  1, 152172,     72,2,19941105,1748, 43.5148, -40.6040, 4866,   1402.6,   4.2150,  34.9679,2,  34.9750,2,    265.9,2,    267.3,2,    11.49,2,    17.79,6,     1.18,2,    1.363,2,    0.814,2,    0.078,2,    2.378,2,   2161.9,2,   4.1013
  18HU19941012, AR13c,   103,  1, 152171,     71,2,19941105,1748, 43.5148, -40.6040, 4866,   1796.4,   3.4605,  34.8840,2,  34.8917,2,    286.7,2,    288.4,2,    10.78,2,    17.30,6,     1.13,2,    2.160,2,    1.005,2,    0.130,2,    3.531,2,   2156.4,2,   3.3201
  18HU19941012, AR13c,   103,  1, 152170,     70,2,19941105,1748, 43.5148, -40.6040, 4866,   2032.6,   3.3808,  34.8893,2,  34.8995,2,    288.5,3,    286.6,2,    11.17,2,    17.35,6,     1.13,2,    1.879,2,    0.895,2,    0.104,2,    3.257,2,   -999.0,9,   3.2196
  18HU19941012, AR13c,   103,  1, 152169,     69,2,19941105,1748, 43.5148, -40.6040, 4866,   2299.4,   3.3118,  34.8974,2,  34.9045,2,    285.4,2,    287.2,2,    11.69,2,    17.20,6,     1.10,2,    1.566,2,    0.911,2,    0.076,2,    2.825,2,   2154.6,2,   3.1261
  18HU19941012, AR13c,   103,  1, 152168,     68,2,19941105,1748, 43.5148, -40.6040, 4866,   2623.7,   3.3123,  34.9326,2,  34.9407,2,    279.0,2,    276.4,2,    13.88,2,    17.77,6,     1.18,2,    0.743,2,    0.317,2,    0.043,2,    1.579,2,   2157.6,2,   3.0941
  18HU19941012, AR13c,   103,  1, 152167,     67,2,19941105,1748, 43.5148, -40.6040, 4866,   2911.0,   3.0842,  34.9272,2,  34.9289,2,    278.6,2,    276.0,2,    14.60,2,    17.29,6,     1.15,2,    0.796,2,    0.332,2,    0.038,2,    1.626,2,   2159.2,2,   2.8410
  18HU19941012, AR13c,   103,  1, 152166,     66,2,19941105,1748, 43.5148, -40.6040, 4866,   3289.1,   2.8091,  34.9192,2,  34.9258,2,    279.4,2,    275.3,2,    16.37,2,    16.87,2,     1.14,2,    0.710,2,    0.396,2,    0.044,2,    1.537,2,   2161.1,2,   2.5319
  18HU19941012, AR13c,   103,  1, 152165,     65,2,19941105,1748, 43.5148, -40.6040, 4866,   3702.9,   2.5282,  34.9077,2,  34.9213,2,    279.5,3,    278.2,2,    20.21,2,    17.76,6,     1.17,2,    0.639,2,    0.320,2,    0.047,2,    1.327,2,   2163.9,2,   2.2126
  18HU19941012, AR13c,   103,  1, 152164,     64,2,19941105,1748, 43.5148, -40.6040, 4866,   4110.4,   2.3420,  34.8962,2,  34.9025,2,    279.1,2,    270.3,2,    22.64,2,    18.03,6,     1.20,2,    0.676,2,    0.325,2,    0.039,2,    1.412,2,   2168.0,2,   1.9854
  18HU19941012, AR13c,   103,  1, 152163,     63,2,19941105,1748, 43.5148, -40.6040, 4866,   4460.0,   2.2999,  34.8907,2,  34.9011,2,    278.5,3,    279.8,2,    23.62,2,    17.62,6,     1.19,2,    0.748,2,    0.431,2,    0.042,2,    1.510,2,   2171.4,2,   1.9034
  18HU19941012, AR13c,   103,  1, 152162,     62,2,19941105,1748, 43.5148, -40.6040, 4866,   4729.3,   2.2770,  34.8856,2,  34.8907,2,    276.0,2,    276.6,2,    27.88,2,    18.41,6,     1.25,2,    0.668,2,    0.285,2,    0.050,2,    1.320,2,   2175.1,2,   1.8487
  18HU19941012, AR13c,   103,  1, 152161,     61,2,19941105,1748, 43.5148, -40.6040, 4866,   4861.7,   2.2679,  34.8815,2,  34.8882,2,    272.4,2,    270.9,2,    31.67,2,    19.07,6,     1.27,2,    0.556,2,    0.263,2,    0.049,2,    1.137,2,   2178.9,2,   1.8235