BOTTLE,20140120PRINUNIVRMK
EXPOCODE,SECT_ID,STNNBR,CASTNO,SAMPNO,BTLNBR,BTLNBR_FLAG_W,DATE,TIME,LATITUDE,LONGITUDE,DEPTH,CTDPRS,CTDTMP,CTDSAL,CTDSAL_FLAG_W,SALNTY,SALNTY_FLAG_W,CTDOXY,CTDOXY_FLAG_W,OXYGEN,OXYGEN_FLAG_W,SILCAT,SILCAT_FLAG_W,NITRAT,NITRAT_FLAG_W,PHSPHT,PHSPHT_FLAG_W,CFC-11,CFC-11_FLAG_W,CFC-12,CFC-12_FLAG_W,CFC113,CFC113_FLAG_W,CCL4,CCL4_FLAG_W,TCARBN,TCARBN_FLAG_W,THETA
,,,,,,,,,,,METERS,DBAR,ITS-90,PSS-78,,PSS-78,,UMOL/KG,,UMOL/KG,,UMOL/KG,,UMOL/KG,,UMOL/KG,,PMOL/KG,,PMOL/KG,,PMOL/KG,,PMOL/KG,,UMOL/KG,,DEG C
  18HU19941012, AR13c,    68,  1, 151672,     72,2,19941029,1709, 42.0447, -41.7950, 4973,     13.2,  20.4882,  36.1176,2,  36.1256,2,    221.9,3,    227.8,2,     0.88,2,     0.00,6,     0.06,2,    1.824,2,    1.214,2,    0.110,2,    2.463,2,   -999.0,9,  20.4857
  18HU19941012, AR13c,    68,  1, 151671,     71,2,19941029,1709, 42.0447, -41.7950, 4973,    105.0,  18.5467,  36.4889,2,  36.4986,2,    188.4,2,    192.3,2,     1.88,2,     4.54,6,     0.27,2,    1.809,2,    1.044,2,    0.048,2,    0.502,2,   -999.0,9,  18.5281
  18HU19941012, AR13c,    68,  1, 151670,     70,2,19941029,1709, 42.0447, -41.7950, 4973,    205.2,  16.6148,  36.2567,2,  36.2643,2,    196.6,2,    206.6,2,     2.47,2,     6.25,6,     0.39,2,    1.914,2,    1.121,2,    0.056,2,    0.831,2,   -999.0,9,  16.5811
  18HU19941012, AR13c,    68,  1, 151669,     69,2,19941029,1709, 42.0447, -41.7950, 4973,    407.6,  14.6276,  35.9585,2,  35.9763,2,    209.5,3,    214.8,2,     3.59,2,     8.68,6,     0.53,2,    1.998,2,    1.262,2,    0.055,2,    1.075,2,   -999.0,9,  14.5660
  18HU19941012, AR13c,    68,  1, 151668,     68,2,19941029,1709, 42.0447, -41.7950, 4973,    601.0,  11.7442,  35.5207,2,  35.5287,2,    199.0,3,    191.6,2,     7.25,2,    15.35,6,     0.95,2,    1.641,2,    0.858,2,    0.030,2,    0.741,2,   2053.6,3,  11.6651
  18HU19941012, AR13c,    68,  1, 151667,     67,2,19941029,1709, 42.0447, -41.7950, 4973,    799.3,   9.4884,  35.3287,2,  35.3348,2,    192.5,2,    190.2,2,    10.06,2,    18.75,6,     1.16,2,    1.251,2,    0.643,2,    0.032,2,    0.805,2,   2080.9,3,   9.3954
  18HU19941012, AR13c,    68,  1, 151666,     66,2,19941029,1709, 42.0447, -41.7950, 4973,   1004.9,   7.5279,  35.2576,2,  35.2926,2,    204.8,3,    203.6,2,    11.57,2,    19.11,6,     1.18,2,    0.955,2,    0.595,2,    0.000,2,    1.276,2,   2134.0,3,   7.4240
  18HU19941012, AR13c,    68,  1, 151665,     65,2,19941029,1709, 42.0447, -41.7950, 4973,   1199.6,   5.3148,  35.0282,2,  35.0423,2,    237.3,3,    234.8,2,    12.09,2,    19.02,6,     1.19,2,    1.512,2,    0.699,2,    0.058,2,    2.085,2,   -999.0,9,   5.2093
  18HU19941012, AR13c,    68,  1, 151664,     64,2,19941029,1709, 42.0447, -41.7950, 4973,   1399.7,   4.6285,  34.9944,2,  35.0028,2,    254.8,2,    258.4,2,    12.00,2,    18.55,6,     1.16,2,    1.542,2,    0.840,2,    0.037,2,    2.405,2,   -999.0,9,   4.5106
  18HU19941012, AR13c,    68,  1, 151663,     63,2,19941029,1709, 42.0447, -41.7950, 4973,   1694.6,   4.0325,  34.9478,2,  34.9478,2,   -999.0,9,    273.6,2,  -999.00,9,  -999.00,5,  -999.00,9,    1.529,2,    0.753,2,    0.034,2,    2.722,2,   -999.0,9,   3.8939
  18HU19941012, AR13c,    68,  1, 151662,     62,2,19941029,1709, 42.0447, -41.7950, 4973,   1996.6,   3.7373,  34.9320,2,  34.9427,2,    276.8,3,    278.9,2,    12.02,2,    17.64,6,     1.12,2,    1.267,2,    0.781,2,    0.000,2,    2.491,2,   -999.0,9,   3.5741
  18HU19941012, AR13c,    68,  1, 151661,     61,2,19941029,1709, 42.0447, -41.7950, 4973,   2293.3,   3.4469,  34.9081,2,  34.9150,2,    283.8,2,    284.0,2,    12.16,2,    17.24,6,     1.11,2,    1.451,2,    0.741,2,    0.031,2,    2.633,2,   2157.5,2,   3.2595
  18HU19941012, AR13c,    68,  1, 151660,     60,2,19941029,1709, 42.0447, -41.7950, 4973,   2695.5,   3.3405,  34.9242,2,  34.9358,2,    281.9,3,    282.3,2,    13.41,2,    17.27,6,     1.12,2,    1.013,2,    0.503,2,    0.020,2,    2.032,2,   2154.3,2,   3.1144
  18HU19941012, AR13c,    68,  1, 151659,     59,2,19941029,1709, 42.0447, -41.7950, 4973,   3087.9,   3.1081,  34.9259,2,  34.9456,2,    282.9,3,    282.0,2,    14.99,2,    17.03,6,     1.10,2,    0.782,2,    0.512,2,    0.000,2,    1.680,2,   2156.6,2,   2.8456
  18HU19941012, AR13c,    68,  1, 151658,     58,2,19941029,1709, 42.0447, -41.7950, 4973,   3496.6,   2.8120,  34.9179,2,  34.9262,2,    284.7,2,    282.6,2,    16.76,2,    17.18,6,     1.11,2,    0.802,2,    0.436,2,    0.000,2,    1.640,2,   -999.0,9,   2.5121
  18HU19941012, AR13c,    68,  1, 151657,     57,2,19941029,1709, 42.0447, -41.7950, 4973,   3891.3,   2.5580,  34.9083,2,  34.9372,2,    283.1,3,    280.0,2,    15.81,3,    17.59,6,     1.13,2,    0.815,2,    0.530,2,    0.000,2,    1.673,2,   -999.0,9,   2.2203
  18HU19941012, AR13c,    68,  1, 151656,     56,2,19941029,1709, 42.0447, -41.7950, 4973,   4298.1,   2.3819,  34.8967,2,  34.9053,2,    282.7,2,    282.2,2,    22.53,2,    17.66,6,     1.16,2,    0.732,2,    0.305,2,    0.000,2,    1.513,2,   -999.0,9,   2.0022
  18HU19941012, AR13c,    68,  1, 151655,     55,2,19941029,1709, 42.0447, -41.7950, 4973,   4664.5,   2.3197,  34.8909,2,  34.9110,2,    282.4,3,    280.9,2,    22.96,2,    17.18,6,     1.14,2,    0.869,2,    0.445,2,    0.000,2,    1.678,2,   -999.0,9,   1.8978
  18HU19941012, AR13c,    68,  1, 151654,     54,2,19941029,1709, 42.0447, -41.7950, 4973,   4865.2,   2.2921,  34.8848,2,  34.8907,2,    279.0,2,    276.0,2,    29.31,2,    18.25,6,     1.22,2,    0.601,2,    0.308,2,    0.000,2,    1.704,2,   2173.7,2,   1.8465
  18HU19941012, AR13c,    68,  1, 151653,     53,2,19941029,1709, 42.0447, -41.7950, 4973,   4967.6,   2.2973,  34.8836,2,  34.8956,2,    276.7,3,    275.4,2,    29.64,2,    18.20,6,     1.23,2,    0.595,2,    0.317,2,    0.000,2,    1.250,2,   2171.2,2,   1.8387
  18HU19941012, AR13c,    69,  1, 151692,     92,2,19941029,2333, 42.4967, -41.4410, 4940,    146.7,  18.1077,  36.5054,2,  36.5115,2,    196.1,2,    207.2,2,     1.81,2,     3.91,6,     0.24,2,    1.965,2,    1.170,2,    0.054,2,    0.745,2,   -999.0,9,  18.0822
  18HU19941012, AR13c,    69,  1, 151691,     91,2,19941029,2333, 42.4967, -41.4410, 4940,    310.5,  15.7153,  36.1177,2,  36.1221,2,    201.1,2,    211.0,2,     3.04,2,     7.24,6,     0.47,2,    2.020,2,    1.170,2,    0.090,2,    0.990,2,   -999.0,9,  15.6662
  18HU19941012, AR13c,    69,  1, 151690,     90,2,19941029,2333, 42.4967, -41.4410, 4940,    633.0,   9.3944,  35.1518,2,  35.1577,2,    172.0,3,    160.9,2,    12.15,2,    20.86,6,     1.36,2,    1.115,2,    0.619,2,    0.060,2,    0.925,2,   -999.0,9,   9.3219
  18HU19941012, AR13c,    69,  1, 151689,     89,2,19941029,2333, 42.4967, -41.4410, 4940,    708.6,   8.3297,  35.0948,2,  35.1014,2,    174.2,3,    152.3,2,    14.04,2,    22.70,6,     1.46,2,    0.795,2,    0.497,2,    0.036,2,    0.765,2,   -999.0,9,   8.2538
  18HU19941012, AR13c,    69,  1, 151688,     88,2,19941029,2333, 42.4967, -41.4410, 4940,   1008.6,   5.6357,  35.0643,2,  35.0799,2,    228.8,3,    229.7,2,    12.33,2,    18.95,6,     1.25,2,    1.316,2,    0.758,2,    0.062,2,    1.734,2,   -999.0,9,   5.5458
  18HU19941012, AR13c,    69,  1, 151687,     87,2,19941029,2333, 42.4967, -41.4410, 4940,   1256.9,   4.5712,  34.9912,2,  34.9976,2,    255.6,2,    259.6,2,    11.57,2,    17.86,6,     1.19,2,    1.605,2,    0.844,2,    0.061,2,    2.341,2,   -999.0,9,   4.4672
  18HU19941012, AR13c,    69,  1, 151686,     86,2,19941029,2333, 42.4967, -41.4410, 4940,   1489.4,   3.9912,  34.9414,2,  34.9565,2,    270.3,3,    272.8,2,    11.34,2,    17.38,6,     1.15,2,    1.706,2,    0.870,2,    0.084,2,    2.630,2,   -999.0,9,   3.8721
  18HU19941012, AR13c,    69,  1, 151685,     85,2,19941029,2333, 42.4967, -41.4410, 4940,   1719.7,   3.7479,  34.9235,2,  34.9319,2,    279.1,2,    272.8,2,    11.55,2,    17.43,6,     1.14,2,    1.609,2,    0.890,2,    0.065,2,    2.607,2,   -999.0,9,   3.6107
  18HU19941012, AR13c,    69,  1, 151684,     84,2,19941029,2333, 42.4967, -41.4410, 4940,   2007.1,   3.5346,  34.9113,2,  34.9182,2,    282.6,2,    283.7,2,    11.91,2,    17.37,6,     1.15,2,    1.489,2,    0.715,2,    0.046,2,    2.556,2,   -999.0,9,   3.3734
  18HU19941012, AR13c,    69,  1, 151683,     83,2,19941029,2333, 42.4967, -41.4410, 4940,   2331.7,   3.3859,  34.9124,2,  34.9205,2,    285.6,3,    284.4,2,    12.62,2,    17.19,6,     1.12,2,    1.324,2,    0.731,2,    0.075,2,    2.365,2,   -999.0,9,   3.1957
  18HU19941012, AR13c,    69,  1, 151682,     82,2,19941029,2333, 42.4967, -41.4410, 4940,   2612.1,   3.3209,  34.9289,2,  34.9364,2,    281.6,2,    280.6,2,    14.09,2,    17.32,6,     1.13,2,    0.828,2,    0.524,2,    0.051,2,    1.754,2,   -999.0,9,   3.1037
  18HU19941012, AR13c,    69,  1, 151681,     81,2,19941029,2333, 42.4967, -41.4410, 4940,   2841.2,   3.1580,  34.9201,2,  34.9280,2,    281.4,3,   -999.0,9,    13.84,2,    17.11,6,     1.11,2,    1.058,2,    0.600,2,    0.050,2,    1.967,2,   -999.0,9,   2.9205
  18HU19941012, AR13c,    69,  1, 151680,     80,2,19941029,2333, 42.4967, -41.4410, 4940,   3106.8,   2.9555,  34.9202,2,  34.9374,2,    283.2,3,    280.8,2,    14.88,2,    16.81,6,     1.11,2,    0.945,2,    0.571,2,    0.049,2,    1.828,2,   2159.1,2,   2.6944
  18HU19941012, AR13c,    69,  1, 151679,     79,2,19941029,2333, 42.4967, -41.4410, 4940,   3419.1,   2.7469,  34.9161,2,  34.9298,2,    281.9,3,    281.1,2,    16.90,2,    16.65,6,     1.12,2,    0.782,2,    0.475,2,    0.033,2,    1.711,2,   -999.0,9,   2.4571
  18HU19941012, AR13c,    69,  1, 151678,     78,2,19941029,2333, 42.4967, -41.4410, 4940,   3682.4,   2.5371,  34.9077,2,  34.9178,2,    283.3,2,    280.6,2,    19.78,2,    16.80,6,     1.14,2,    0.694,2,    0.384,2,    0.015,2,    1.424,2,   2164.1,2,   2.2236
  18HU19941012, AR13c,    69,  1, 151677,     77,2,19941029,2333, 42.4967, -41.4410, 4940,   3988.5,   2.4049,  34.9000,2,  34.9229,2,    281.7,3,    278.3,2,    20.50,2,    17.51,6,     1.16,2,    0.742,2,    0.478,2,    0.062,2,    1.525,2,   -999.0,9,   2.0604
  18HU19941012, AR13c,    69,  1, 151676,     76,2,19941029,2333, 42.4967, -41.4410, 4940,   4301.2,   2.3300,  34.8936,2,  34.9024,2,    281.6,2,    281.5,2,    24.53,2,    17.92,6,     1.17,2,    0.652,2,    0.388,2,    0.053,2,    1.398,2,   -999.0,9,   1.9515
  18HU19941012, AR13c,    69,  1, 151675,     75,2,19941029,2333, 42.4967, -41.4410, 4940,   4556.8,   2.3150,  34.8912,2,  34.9071,2,    280.8,3,    279.8,2,    24.20,2,    17.79,6,     1.16,2,    0.752,2,    0.399,2,    0.022,2,    1.506,2,   -999.0,9,   1.9064
  18HU19941012, AR13c,    69,  1, 151674,     74,2,19941029,2333, 42.4967, -41.4410, 4940,   4826.3,   2.3114,  34.8878,2,  34.8947,2,    279.2,2,    273.1,2,    26.10,2,    18.14,6,     1.17,2,    0.711,2,    0.447,2,    0.041,2,    1.451,2,   2172.5,2,   1.8700
  18HU19941012, AR13c,    69,  1, 151673,     73,2,19941029,2333, 42.4967, -41.4410, 4940,   4935.0,   2.3089,  34.8859,2,  34.8934,2,    277.8,2,    277.7,2,    27.08,2,    17.86,6,     1.17,2,    0.680,2,    0.445,2,    0.058,2,    1.377,2,   -999.0,9,   1.8540
  18HU19941012, AR13c,    70,  1, 151712,     12,2,19941030,0612, 42.9493, -41.0880, 4917,     13.9,  20.3278,  35.6073,2,  35.6127,2,    156.8,3,    226.5,2,     0.99,2,     0.00,6,     0.06,2,    1.773,2,    1.059,2,    0.093,2,    2.593,2,   2021.7,2,  20.3252
  18HU19941012, AR13c,    70,  1, 151711,     11,2,19941030,0612, 42.9493, -41.0880, 4917,    109.2,  17.4504,  35.8720,2,  35.8811,2,    201.4,3,    195.1,2,     2.28,2,     4.47,6,     0.36,2,    1.799,2,    1.148,2,    0.092,2,    2.593,2,   2101.8,2,  17.4320
  18HU19941012, AR13c,    70,  1, 151710,     10,2,19941030,0612, 42.9493, -41.0880, 4917,    214.1,  14.3987,  35.7759,2,  35.7887,2,    185.0,3,    188.1,2,     4.43,2,    10.56,6,     0.71,2,    1.714,2,    0.893,2,    0.047,2,    1.040,2,   2125.8,2,  14.3669
  18HU19941012, AR13c,    70,  1, 151709,      9,2,19941030,0612, 42.9493, -41.0880, 4917,    405.1,  11.6306,  35.4543,2,  35.4618,2,    171.6,2,    169.7,2,     8.72,2,    17.34,6,     1.14,2,    1.223,2,    0.621,2,    0.011,2,    0.720,2,   2158.9,2,  11.5781
  18HU19941012, AR13c,    70,  1, 151708,      8,2,19941030,0612, 42.9493, -41.0880, 4917,    600.6,   9.4079,  35.2747,2,  35.2882,2,    180.5,3,    181.9,2,    10.68,2,    19.16,6,     1.26,2,    1.126,2,    0.406,2,    0.000,2,    0.722,2,   2169.8,2,   9.3391
  18HU19941012, AR13c,    70,  1, 151707,      7,2,19941030,0612, 42.9493, -41.0880, 4917,    810.7,   6.2163,  35.0354,2,  35.0416,2,    204.2,2,    206.1,2,    13.57,2,    20.54,6,     1.37,2,    1.021,2,    0.346,2,    0.000,2,    1.397,2,   2177.7,2,   6.1417
  18HU19941012, AR13c,    70,  1, 151706,      6,2,19941030,0612, 42.9493, -41.0880, 4917,    988.2,   5.4501,  35.0523,2,  35.0613,2,    231.9,2,    234.0,2,    12.30,2,    18.82,6,     1.26,2,    1.264,2,    0.508,2,    0.000,2,    1.972,2,   2169.1,2,   5.3636
  18HU19941012, AR13c,    70,  1, 151705,      5,2,19941030,0612, 42.9493, -41.0880, 4917,   1153.0,   4.9794,  35.0409,2,  35.0497,2,    246.2,2,    247.6,2,    11.76,2,    18.30,6,     1.23,2,    1.277,2,    0.782,2,    0.000,2,    2.175,2,   2165.9,2,   4.8812
  18HU19941012, AR13c,    70,  1, 151704,      4,2,19941030,0612, 42.9493, -41.0880, 4917,   1340.6,   4.0316,  34.9244,2,  34.9294,2,    269.8,2,    273.7,2,    11.04,2,    17.33,6,     1.19,2,    2.145,3,    1.090,3,    0.081,2,    3.558,3,   2158.7,2,   3.9255
  18HU19941012, AR13c,    70,  1, 151703,      3,2,19941030,0612, 42.9493, -41.0880, 4917,   1495.2,   4.1562,  34.9732,2,  34.9794,2,    266.0,2,    269.0,2,    11.58,2,    17.45,6,     1.19,2,    1.212,2,    0.466,2,    0.084,2,    2.367,2,   -999.0,9,   4.0346
  18HU19941012, AR13c,    70,  1, 151702,      2,2,19941030,0612, 42.9493, -41.0880, 4917,   1804.8,   3.6273,  34.9125,2,  34.9194,2,    279.0,2,    283.4,2,    11.46,2,    16.98,6,     1.17,2,    1.471,2,    0.702,2,    0.028,2,    2.919,2,   2155.9,2,   3.4838
  18HU19941012, AR13c,    70,  1, 151701,      1,2,19941030,0612, 42.9493, -41.0880, 4917,   2191.2,   3.4161,  34.9066,2,  34.9137,2,    284.2,2,    284.5,2,    12.04,2,    17.06,6,     1.15,2,    1.378,2,    0.592,2,    0.000,2,    2.724,2,   2158.0,2,   3.2392
  18HU19941012, AR13c,    70,  1, 151700,      0,2,19941030,0612, 42.9493, -41.0880, 4917,   2594.0,   3.3459,  34.9313,2,  34.9389,2,    278.9,2,    278.6,2,    13.81,2,    17.09,6,     1.17,2,    0.852,2,    0.268,2,    0.022,2,    1.854,2,   2159.7,2,   3.1301
  18HU19941012, AR13c,    70,  1, 151699,     99,2,19941030,0612, 42.9493, -41.0880, 4917,   3000.3,   3.0820,  34.9300,2,  34.9391,2,    278.5,2,    278.1,2,    15.74,2,    17.15,6,     1.15,2,    0.648,2,    0.220,2,    0.000,2,    1.496,2,   2160.2,2,   2.8294
  18HU19941012, AR13c,    70,  1, 151698,     98,2,19941030,0612, 42.9493, -41.0880, 4917,   3394.5,   2.8135,  34.9179,2,  34.9240,2,    282.0,2,    281.9,2,    16.30,2,    16.83,6,     1.14,2,    0.830,2,    0.332,2,    0.000,2,    1.767,2,   2160.2,2,   2.5248
  18HU19941012, AR13c,    70,  1, 151697,     97,2,19941030,0612, 42.9493, -41.0880, 4917,   3800.2,   2.5271,  34.9063,2,  34.9165,2,    282.3,2,    281.2,2,    18.94,2,    17.11,6,     1.16,2,    0.775,2,    0.293,2,    0.023,2,    1.701,2,   2164.7,2,   2.2007
  18HU19941012, AR13c,    70,  1, 151696,     96,2,19941030,0612, 42.9493, -41.0880, 4917,   4180.2,   2.3961,  34.8987,2,  34.9077,2,    282.0,2,    280.9,2,    21.83,2,    17.32,6,     1.17,2,    0.746,2,    0.241,2,    0.000,2,    1.647,2,   2168.0,2,   2.0298
  18HU19941012, AR13c,    70,  1, 151695,     95,2,19941030,0612, 42.9493, -41.0880, 4917,   4642.3,   2.3523,  34.8935,2,  34.9022,2,    282.0,2,    281.4,2,    22.24,2,    17.33,6,     1.16,2,    0.856,2,    0.331,2,    0.000,2,    1.812,2,   2168.6,2,   1.9322
  18HU19941012, AR13c,    70,  1, 151694,     94,2,19941030,0612, 42.9493, -41.0880, 4917,   4815.4,   2.3026,  34.8897,2,  34.8963,2,    283.6,2,    283.5,2,    21.64,2,    16.86,6,     1.14,2,    1.075,2,    0.438,2,    0.000,2,    2.070,2,   2167.9,2,   1.8628
  18HU19941012, AR13c,    70,  1, 151693,     93,2,19941030,0612, 42.9493, -41.0880, 4917,   4912.4,   2.3131,  34.8886,2,  34.8955,2,    281.8,2,    279.8,2,    23.33,2,    17.20,6,     1.19,2,    0.943,2,    0.482,2,    0.000,2,    1.956,2,   -999.0,9,   1.8609