BOTTLE,20140120PRINUNIVRMK
EXPOCODE,SECT_ID,STNNBR,CASTNO,SAMPNO,BTLNBR,BTLNBR_FLAG_W,DATE,TIME,LATITUDE,LONGITUDE,DEPTH,CTDPRS,CTDTMP,CTDSAL,CTDSAL_FLAG_W,SALNTY,SALNTY_FLAG_W,CTDOXY,CTDOXY_FLAG_W,OXYGEN,OXYGEN_FLAG_W,SILCAT,SILCAT_FLAG_W,NITRAT,NITRAT_FLAG_W,PHSPHT,PHSPHT_FLAG_W,CFC-11,CFC-11_FLAG_W,CFC-12,CFC-12_FLAG_W,CFC113,CFC113_FLAG_W,CCL4,CCL4_FLAG_W,TCARBN,TCARBN_FLAG_W,THETA
,,,,,,,,,,,METERS,DBAR,ITS-90,PSS-78,,PSS-78,,UMOL/KG,,UMOL/KG,,UMOL/KG,,UMOL/KG,,UMOL/KG,,PMOL/KG,,PMOL/KG,,PMOL/KG,,PMOL/KG,,UMOL/KG,,DEG C
  18HU19941012, AR13c,    64,  1, 151612,     12,2,19941028,1944, 42.0477, -43.2110, 4957,     13.3,  20.1691,  36.3037,2,  36.3099,2,    226.4,3,    228.2,2,     0.84,2,     0.00,6,     0.07,2,    1.935,2,    1.058,2,    0.183,2,    2.260,2,   2045.8,2,  20.1666
  18HU19941012, AR13c,    64,  1, 151611,     11,2,19941028,1944, 42.0477, -43.2110, 4957,    103.5,  18.2080,  36.5011,2,  36.5075,2,    205.1,2,    208.2,2,     1.63,2,     3.44,6,     0.22,2,    2.008,2,    1.094,2,    0.109,2,    0.860,2,   2084.3,2,  18.1899
  18HU19941012, AR13c,    64,  1, 151610,     10,2,19941028,1944, 42.0477, -43.2110, 4957,    328.5,  16.0744,  36.2478,2,  36.2545,2,    222.5,2,    230.2,2,     2.16,2,     5.32,6,     0.35,2,    2.233,2,    1.183,2,    0.185,2,    1.292,2,   2093.3,2,  16.0216
  18HU19941012, AR13c,    64,  1, 151609,      9,2,19941028,1944, 42.0477, -43.2110, 4957,    493.4,  15.9586,  36.2375,2,  36.2434,2,    227.4,2,    232.0,2,     2.20,2,     5.35,6,     0.37,2,    2.238,2,    1.234,2,    0.187,2,    1.322,2,   2092.2,2,  15.8793
  18HU19941012, AR13c,    64,  1, 151608,      8,2,19941028,1944, 42.0477, -43.2110, 4957,   1010.8,   7.9431,  35.1219,2,  35.1311,2,    190.7,2,    183.6,2,    12.33,2,    21.63,6,     1.36,2,    1.047,2,    0.560,2,    0.045,2,    1.045,2,   2172.1,2,   7.8357
  18HU19941012, AR13c,    64,  1, 151607,      7,2,19941028,1944, 42.0477, -43.2110, 4957,   1094.3,   7.6680,  35.2602,2,  35.2602,2,   -999.0,9,    200.2,2,    11.74,2,    19.87,6,     1.27,2,    0.991,2,    0.463,2,    0.095,2,    1.070,2,   2173.3,2,   7.5531
  18HU19941012, AR13c,    64,  1, 151606,      6,2,19941028,1944, 42.0477, -43.2110, 4957,   1249.3,   5.4845,  35.0257,2,  35.0429,2,    232.5,3,    232.7,2,    12.13,2,    19.30,6,     1.27,2,    1.454,2,    0.722,2,    0.095,2,    1.894,2,   2166.3,2,   5.3726
  18HU19941012, AR13c,    64,  1, 151605,      5,2,19941028,1944, 42.0477, -43.2110, 4957,   1437.5,   4.8645,  35.0235,2,  35.0235,2,   -999.0,9,    253.1,2,    11.24,2,    18.53,6,     1.21,2,    1.479,2,    0.739,2,    0.104,2,    2.150,2,   2161.0,2,   4.7405
  18HU19941012, AR13c,    64,  1, 151604,      4,2,19941028,1944, 42.0477, -43.2110, 4957,   1769.5,   3.9733,  34.9399,2,  34.9481,2,    275.1,2,    275.1,2,    11.15,2,    17.91,6,     1.18,2,    1.608,2,    0.789,2,    0.143,2,    2.565,2,   2152.8,2,   3.8284
  18HU19941012, AR13c,    64,  1, 151603,      3,2,19941028,1944, 42.0477, -43.2110, 4957,   2096.0,   3.6134,  34.9120,2,  34.9099,2,    283.5,3,    281.5,2,    11.57,2,    17.64,6,     1.16,2,    1.557,2,    0.707,2,    0.128,2,    2.602,2,   2150.7,2,   3.4426
  18HU19941012, AR13c,    64,  1, 151602,      2,2,19941028,1944, 42.0477, -43.2110, 4957,   2348.4,   3.4136,  34.9022,2,  34.9274,2,    286.4,3,    286.3,2,    11.77,2,    17.64,6,     1.16,2,    1.574,2,    0.796,2,    0.095,2,    2.626,2,   2151.3,2,   3.2213
  18HU19941012, AR13c,    64,  1, 151601,      1,2,19941028,1944, 42.0477, -43.2110, 4957,   2596.3,   3.3644,  34.9141,2,  34.9227,2,    285.8,2,    283.9,2,    12.36,2,    17.39,6,     1.14,2,    1.259,2,    0.642,2,    0.085,2,    2.245,2,   2152.1,2,   3.1481
  18HU19941012, AR13c,    64,  1, 151600,      0,2,19941028,1944, 42.0477, -43.2110, 4957,   2796.2,   3.3511,  34.9394,2,  34.9534,2,    279.5,3,    276.6,2,    14.47,2,    17.76,6,     1.19,2,    0.621,2,    0.261,2,    0.037,2,    1.414,2,   2152.8,2,   3.1143
  18HU19941012, AR13c,    64,  1, 151599,     99,2,19941028,1944, 42.0477, -43.2110, 4957,   3195.1,   3.0178,  34.9274,2,  34.9447,2,    282.4,3,    281.5,2,    15.29,2,    17.44,6,     1.16,2,    0.640,2,    0.332,2,    0.046,2,    1.448,2,   2152.6,2,   2.7458
  18HU19941012, AR13c,    64,  1, 151598,     98,2,19941028,1944, 42.0477, -43.2110, 4957,   3389.5,   2.8695,  34.9224,2,  34.9300,2,    284.1,2,    280.1,2,    17.00,2,    17.66,6,     1.18,2,    0.663,2,    0.351,2,    0.027,2,    1.455,2,   2155.2,2,   2.5799
  18HU19941012, AR13c,    64,  1, 151597,     97,2,19941028,1944, 42.0477, -43.2110, 4957,   3699.3,   2.6007,  34.9101,2,  34.9215,2,    283.5,3,    281.5,2,    18.32,2,    17.73,6,     1.18,2,    0.718,2,    0.285,2,    0.061,2,    1.523,2,   2154.9,2,   2.2837
  18HU19941012, AR13c,    64,  1, 151596,     96,2,19941028,1944, 42.0477, -43.2110, 4957,   4006.4,   2.4402,  34.9018,2,  34.9093,2,    281.7,2,    279.4,2,    22.81,2,    17.90,6,     1.20,2,    0.521,2,    0.296,2,    0.047,2,    1.239,2,   2162.1,2,   2.0928
  18HU19941012, AR13c,    64,  1, 151595,     95,2,19941028,1944, 42.0477, -43.2110, 4957,   4486.5,   2.3231,  34.8914,2,  34.8914,2,   -999.0,9,    278.7,2,    24.95,2,    17.87,6,     1.22,2,    0.627,2,    0.328,2,    0.011,2,    1.361,2,   2162.4,2,   1.9228
  18HU19941012, AR13c,    64,  1, 151594,     94,2,19941028,1944, 42.0477, -43.2110, 4957,   4806.6,   2.3010,  34.8855,2,  34.8855,2,   -999.0,9,    275.4,2,    30.52,2,    18.74,6,     1.27,2,    0.451,2,    0.195,2,    0.081,2,    1.030,2,   2169.3,2,   1.8624
  18HU19941012, AR13c,    64,  1, 151593,     93,2,19941028,1944, 42.0477, -43.2110, 4957,   4951.6,   2.2999,  34.8838,2,  34.8930,2,    275.5,2,    275.6,2,    28.89,2,    18.51,6,     1.25,2,    0.562,2,    0.294,2,    0.038,2,    1.206,2,   2171.7,2,   1.8432
  18HU19941012, AR13c,    65,  1, 151632,     32,2,19941029,0253, 41.5938, -42.8620, 5012,     10.0,  21.4316,  35.9660,2,  35.9720,2,    214.2,3,    223.4,2,     1.06,2,     0.00,6,     0.09,2,    1.591,2,    0.866,2,    0.062,2,    2.202,2,   2019.1,2,  21.4297
  18HU19941012, AR13c,    65,  1, 151631,     31,2,19941029,0253, 41.5938, -42.8620, 5012,    187.6,  17.8066,  36.4364,2,  36.4228,2,    194.6,3,    201.8,2,     2.06,2,     4.79,6,     0.33,2,    1.736,2,    1.002,2,    0.049,2,    0.671,2,   2092.4,2,  17.7743
  18HU19941012, AR13c,    65,  1, 151630,     30,2,19941029,0253, 41.5938, -42.8620, 5012,    500.2,  13.8129,  35.8310,2,  35.8396,2,    204.7,2,    208.3,2,     4.43,2,    10.60,6,     0.73,2,    1.747,2,    0.966,2,    0.034,2,    0.892,2,   2119.8,2,  13.7400
  18HU19941012, AR13c,    65,  1, 151629,     29,2,19941029,0253, 41.5938, -42.8620, 5012,    803.1,   9.2714,  35.2075,2,  35.2075,2,   -999.0,9,    172.5,2,    11.77,2,    20.91,6,     1.35,2,    1.033,2,    0.688,2,    0.058,2,    0.843,2,   2168.6,2,   9.1793
  18HU19941012, AR13c,    65,  1, 151628,     28,2,19941029,0253, 41.5938, -42.8620, 5012,   1002.1,   6.6004,  35.0303,2,  35.0386,2,    205.1,2,    205.5,2,    12.71,2,    20.45,6,     1.36,2,    1.177,2,    0.671,2,    0.041,2,    1.433,2,   2171.6,2,   6.5040
  18HU19941012, AR13c,    65,  1, 151627,     27,2,19941029,0253, 41.5938, -42.8620, 5012,   1201.8,   5.1687,  35.0019,2,  35.0130,2,    238.9,3,    241.6,2,    11.57,2,    19.01,6,     1.28,2,    1.452,2,    0.706,2,    0.046,2,    2.104,2,   2163.1,2,   5.0643
  18HU19941012, AR13c,    65,  1, 151626,     26,2,19941029,0253, 41.5938, -42.8620, 5012,   1398.0,   4.5068,  34.9832,2,  34.9917,2,    258.7,2,    261.7,2,    11.51,2,    18.26,6,     1.23,2,    1.481,2,    0.756,2,    0.041,2,    2.602,2,   2157.7,2,   4.3904
  18HU19941012, AR13c,    65,  1, 151625,     25,2,19941029,0253, 41.5938, -42.8620, 5012,   1590.4,   4.0269,  34.9413,2,  34.9494,2,    271.7,2,    273.9,2,    11.43,2,    17.84,6,     1.20,2,    1.589,2,    0.885,2,    0.056,2,    2.891,2,   2153.4,2,   3.8981
  18HU19941012, AR13c,    65,  1, 151624,     24,2,19941029,0253, 41.5938, -42.8620, 5012,   1799.2,   3.7922,  34.9273,2,  34.9339,2,    277.8,2,    281.1,2,    11.61,2,    17.73,6,     1.22,2,    1.385,2,    0.696,2,    0.030,2,    2.756,2,   2151.2,2,   3.6470
  18HU19941012, AR13c,    65,  1, 151623,     23,2,19941029,0253, 41.5938, -42.8620, 5012,   1993.7,   3.5040,  34.8979,2,  34.9048,2,    284.6,2,    286.9,2,    11.48,2,    17.33,6,     1.18,2,    1.714,2,    0.849,2,    0.040,2,    3.168,2,   2145.2,2,   3.3446
  18HU19941012, AR13c,    65,  1, 151622,     22,2,19941029,0253, 41.5938, -42.8620, 5012,   2194.8,   3.3469,  34.8870,2,  34.8955,2,    290.1,2,    290.7,2,    11.38,2,    17.21,6,     1.19,2,    1.831,2,    1.054,2,    0.073,2,    3.548,2,   2148.2,2,   3.1708
  18HU19941012, AR13c,    65,  1, 151621,     21,2,19941029,0253, 41.5938, -42.8620, 5012,   2495.8,   3.2590,  34.8979,2,  34.9050,2,    290.3,2,    289.0,2,    11.70,2,    17.09,6,     1.20,2,    1.478,2,    0.739,2,    0.047,2,    2.780,2,   2149.1,2,   3.0549
  18HU19941012, AR13c,    65,  1, 151620,     20,2,19941029,0253, 41.5938, -42.8620, 5012,   2795.6,   3.2998,  34.9460,2,  34.9516,2,    279.4,2,    275.5,2,    15.77,2,    17.89,6,  -999.00,9,    0.432,2,    0.186,2,    0.000,2,    1.175,2,   2155.3,2,   3.0641
  18HU19941012, AR13c,    65,  1, 151619,     19,2,19941029,0253, 41.5938, -42.8620, 5012,   3195.2,   2.9437,  34.9303,2,  34.9443,2,    279.0,3,    276.4,2,    18.43,2,    18.03,6,  -999.00,9,    0.357,2,    0.224,2,    0.027,2,    1.095,2,   2155.8,2,   2.6734
  18HU19941012, AR13c,    65,  1, 151618,     18,2,19941029,0253, 41.5938, -42.8620, 5012,   3595.7,   2.6352,  34.9148,2,  34.9215,2,    280.8,2,    278.9,2,    22.30,2,    18.29,6,  -999.00,9,    0.345,2,    0.156,2,    0.000,2,    0.952,2,   2158.0,2,   2.3288
  18HU19941012, AR13c,    65,  1, 151617,     17,2,19941029,0253, 41.5938, -42.8620, 5012,   3995.4,   2.3886,  34.8990,2,  34.9115,2,    280.9,3,    278.8,2,    23.48,2,    17.94,6,  -999.00,9,    0.448,2,    0.174,2,    0.000,2,    1.078,2,   2161.6,2,   2.0438
  18HU19941012, AR13c,    65,  1, 151616,     16,2,19941029,0253, 41.5938, -42.8620, 5012,   4385.5,   2.3012,  34.8899,2,  34.8973,2,    279.7,2,    276.6,2,    27.72,2,    18.78,6,     1.27,2,    0.473,2,    0.460,2,    0.035,2,    1.438,2,   2165.8,2,   1.9136
  18HU19941012, AR13c,    65,  1, 151615,     15,2,19941029,0253, 41.5938, -42.8620, 5012,   4695.2,   2.2958,  34.8867,2,  34.9008,2,    278.5,3,    276.5,2,    28.05,2,    18.86,6,     1.26,2,    0.539,2,    0.257,2,    0.000,2,    1.199,2,   2166.3,2,   1.8710
  18HU19941012, AR13c,    65,  1, 151614,     14,2,19941029,0253, 41.5938, -42.8620, 5012,   4900.3,   2.2927,  34.8834,2,  34.8900,2,    276.3,2,    273.9,2,    30.27,2,    19.49,6,     1.28,2,    0.421,2,    0.177,2,    0.011,2,    0.913,2,   2172.0,2,   1.8427
  18HU19941012, AR13c,    65,  1, 151613,     13,2,19941029,0253, 41.5938, -42.8620, 5012,   5006.7,   2.2977,  34.8819,2,  34.8947,2,    274.5,2,    273.9,2,    30.13,2,    19.28,6,     1.26,2,    0.424,2,    0.398,2,    0.032,2,    1.010,2,   2172.5,2,   1.8341
  18HU19941012, AR13c,    66,  1, 151652,     52,2,19941029,0931, 41.5932, -42.1510, 5011,     12.5,  21.6046,  35.9788,2,  35.9857,2,    219.0,3,    221.6,2,     0.94,2,     0.00,6,     0.07,2, -999.000,9, -999.000,9, -999.000,9, -999.000,9,   2019.5,2,  21.6022
  18HU19941012, AR13c,    66,  1, 151651,     51,2,19941029,0931, 41.5932, -42.1510, 5011,     95.2,  18.3647,  36.2263,2,  36.2252,2,    199.6,3,    188.7,2,     2.28,2,     5.00,6,     0.38,2,    1.945,2,    1.083,2,    0.090,2,    0.699,2,   2102.3,2,  18.3480
  18HU19941012, AR13c,    66,  1, 151650,     50,2,19941029,0931, 41.5932, -42.1510, 5011,    604.4,  11.9581,  35.5514,2,  35.5575,2,    189.4,3,    191.3,2,     6.78,2,    15.47,6,     1.01,2, -999.000,9, -999.000,9, -999.000,9, -999.000,9,   2142.3,2,  11.8776
  18HU19941012, AR13c,    66,  1, 151649,     49,2,19941029,0931, 41.5932, -42.1510, 5011,    723.0,  10.1192,  35.3133,2,  35.3228,2,    179.6,2,    173.7,2,    10.47,2,    19.92,6,     1.27,2,    1.136,2,    0.711,2,    0.023,2,    0.728,2,   2163.2,2,  10.0321
  18HU19941012, AR13c,    66,  1, 151648,     48,2,19941029,0931, 41.5932, -42.1510, 5011,   1036.7,   6.5589,  35.1482,2,  35.1536,2,    213.3,2,    216.1,2,    12.14,2,    19.38,6,     1.31,2,    1.145,2,    0.596,2,    0.057,2,    1.400,2,   2170.4,2,   6.4591
  18HU19941012, AR13c,    66,  1, 151647,     47,2,19941029,0931, 41.5932, -42.1510, 5011,   1284.0,   5.0227,  35.0398,2,  35.0543,2,    245.6,3,    249.4,2,    11.67,2,    18.60,6,     1.24,2,    1.401,2,    0.744,2,    0.055,2,    2.133,2,   2160.1,2,   4.9117
  18HU19941012, AR13c,    66,  1, 151646,     46,2,19941029,0931, 41.5932, -42.1510, 5011,   1601.5,   4.1061,  34.9568,2,  35.0325,2,    270.3,3,    252.6,0,    11.34,2,    18.54,6,     1.24,2,    1.369,2,    0.789,2,    0.057,2,    2.221,2,   2159.9,2,   3.9751
  18HU19941012, AR13c,    66,  1, 151645,     45,2,19941029,0931, 41.5932, -42.1510, 5011,   1904.9,   3.5815,  34.9029,2,  34.9130,2,    281.8,3,    285.9,2,    11.32,2,    17.40,6,     1.19,2,    1.854,2,    1.070,2,    0.064,2,    3.229,2,   2150.2,2,   3.4293
  18HU19941012, AR13c,    66,  1, 151644,     44,2,19941029,0931, 41.5932, -42.1510, 5011,   2099.5,   3.4499,  34.8957,2,  34.9028,2,    284.7,2,    290.6,2,    11.53,2,    17.10,6,     1.19,2,    1.853,2,    0.980,2,    0.063,2,    3.247,2,   2149.1,2,   3.2813
  18HU19941012, AR13c,    66,  1, 151643,     43,2,19941029,0931, 41.5932, -42.1510, 5011,   2296.9,   3.3648,  34.8987,2,  34.9144,2,    285.8,3,    287.8,2,    11.64,2,    17.10,6,     1.17,2,    1.729,2,    0.939,2,    0.065,2,    3.019,2,   2149.9,2,   3.1784
  18HU19941012, AR13c,    66,  1, 151642,     42,2,19941029,0931, 41.5932, -42.1510, 5011,   2594.3,   3.3198,  34.9202,2,  34.9269,2,    284.3,2,    282.8,2,    13.29,2,    17.22,6,     1.18,2,    1.072,2,    0.607,2,    0.026,2,    2.256,2,   2151.4,2,   3.1045
  18HU19941012, AR13c,    66,  1, 151641,     41,2,19941029,0931, 41.5932, -42.1510, 5011,   2895.3,   3.1778,  34.9286,2,  34.9358,2,    279.7,2,    280.3,2,    14.82,2,    17.27,6,     1.17,2,    0.761,2,    0.455,2,    0.021,2,    1.679,2,   2154.3,2,   2.9342
  18HU19941012, AR13c,    66,  1, 151640,     40,2,19941029,0931, 41.5932, -42.1510, 5011,   3149.8,   2.9899,  34.9255,2,  34.9438,2,    280.2,3,    278.1,2,    15.51,2,    17.05,6,     1.21,2,    0.766,2,    0.405,2,    0.013,2,    1.657,2,   2154.8,2,   2.7234
  18HU19941012, AR13c,    66,  1, 151639,     39,2,19941029,0931, 41.5932, -42.1510, 5011,   3343.4,   2.8530,  34.9230,2,  34.9344,2,    280.9,3,    279.1,2,    17.90,2,    17.24,6,     1.20,2,    0.615,2,    0.468,2,    0.015,2,    1.396,2,   2156.4,2,   2.5688
  18HU19941012, AR13c,    66,  1, 151638,     38,2,19941029,0931, 41.5932, -42.1510, 5011,   3562.9,   2.6575,  34.9145,2,  34.9214,2,    280.8,2,    280.1,2,    19.30,2,    17.38,6,     1.20,2,    0.576,2,    0.328,2,    0.031,2,    1.369,2,   2158.8,2,   2.3542
  18HU19941012, AR13c,    66,  1, 151637,     37,2,19941029,0931, 41.5932, -42.1510, 5011,   3742.7,   2.5378,  34.9083,2,  34.9200,2,    281.5,3,    280.0,2,    20.02,2,    17.55,6,     1.21,2,    0.588,2,    0.357,2,    0.022,2,    1.343,2,   2159.7,2,   2.2175
  18HU19941012, AR13c,    66,  1, 151636,     36,2,19941029,0931, 41.5932, -42.1510, 5011,   3999.8,   2.4208,  34.9011,2,  34.9091,2,    280.4,2,    280.5,2,    22.66,2,    17.76,6,     1.22,2,    0.610,2,    0.319,2,    0.012,2,    1.370,2,   2162.4,2,   2.0747
  18HU19941012, AR13c,    66,  1, 151635,     35,2,19941029,0931, 41.5932, -42.1510, 5011,   4239.3,   2.3538,  34.8961,2,  34.9137,2,    280.8,3,    280.4,2,    22.90,2,    17.72,6,     1.23,2,    0.672,2,    0.385,2,    0.022,2,    1.470,2,   2161.5,2,   1.9818
  18HU19941012, AR13c,    66,  1, 151634,     34,2,19941029,0931, 41.5932, -42.1510, 5011,   4490.8,   2.3203,  34.8917,2,  34.8979,2,    279.3,2,    280.2,2,    24.68,2,    17.68,6,     1.21,2,    0.693,2,    0.385,2,    0.017,2,    1.462,2,   2164.4,2,   1.9195
  18HU19941012, AR13c,    66,  1, 151633,     33,2,19941029,0931, 41.5932, -42.1510, 5011,   5005.2,   2.2992,  34.8831,2,  34.8936,2,    273.5,3,    274.9,2,    30.32,2,    18.49,6,     1.26,2,    0.572,2,    0.324,2,    0.039,2,    1.208,2,   2173.1,2,   1.8358