BOTTLE,20140120PRINUNIVRMK
EXPOCODE,SECT_ID,STNNBR,CASTNO,SAMPNO,BTLNBR,BTLNBR_FLAG_W,DATE,TIME,LATITUDE,LONGITUDE,DEPTH,CTDPRS,CTDTMP,CTDSAL,CTDSAL_FLAG_W,SALNTY,SALNTY_FLAG_W,CTDOXY,CTDOXY_FLAG_W,OXYGEN,OXYGEN_FLAG_W,SILCAT,SILCAT_FLAG_W,NITRAT,NITRAT_FLAG_W,PHSPHT,PHSPHT_FLAG_W,CFC-11,CFC-11_FLAG_W,CFC-12,CFC-12_FLAG_W,CFC113,CFC113_FLAG_W,CCL4,CCL4_FLAG_W,TCARBN,TCARBN_FLAG_W,THETA
,,,,,,,,,,,METERS,DBAR,ITS-90,PSS-78,,PSS-78,,UMOL/KG,,UMOL/KG,,UMOL/KG,,UMOL/KG,,UMOL/KG,,PMOL/KG,,PMOL/KG,,PMOL/KG,,PMOL/KG,,UMOL/KG,,DEG C
  18HU19941012, AR13c,    40,  1, 151350,     50,2,19941024,1744, 43.0830, -48.8330, 2079,     13.1,  13.5932,  32.1817,2,  32.1883,2,    217.8,3,    272.8,2,     0.74,2,     0.00,6,     0.25,2,    2.931,2,    1.632,2,    0.238,2,    4.248,2,   1966.0,2,  13.5914
  18HU19941012, AR13c,    40,  1, 151349,     49,2,19941024,1744, 43.0830, -48.8330, 2079,    106.0,   2.1087,  33.9359,2,  33.8801,2,    316.9,3,    306.1,2,     8.03,2,    10.97,3,     0.97,2,    4.729,2,    2.282,2,    0.326,2,    6.077,2,   2119.3,2,   2.1031
  18HU19941012, AR13c,    40,  1, 151348,     48,2,19941024,1744, 43.0830, -48.8330, 2079,    306.1,   5.9840,  35.0176,2,  35.0232,2,    224.5,2,    214.1,2,    12.58,2,    19.22,6,     1.28,2,    1.368,2,    0.732,2,    0.066,2,    1.745,2,   2171.7,2,   5.9575
  18HU19941012, AR13c,    40,  1, 151347,     47,2,19941024,1744, 43.0830, -48.8330, 2079,    400.0,   5.3495,  35.0209,2,  35.0277,2,    236.2,2,    228.7,2,    12.81,2,    18.70,6,     1.28,2,    1.123,2,    0.653,2,    0.048,2,    1.686,2,   2171.2,2,   5.3165
  18HU19941012, AR13c,    40,  1, 151346,     46,2,19941024,1744, 43.0830, -48.8330, 2079,    514.2,   4.1534,  34.8803,2,  34.8842,2,    266.2,2,    267.0,2,    11.45,2,    16.79,6,     1.16,2,    2.638,2,    1.427,2,    0.165,2,    3.730,2,   2160.5,2,   4.1154
  18HU19941012, AR13c,    40,  1, 151345,     45,2,19941024,1744, 43.0830, -48.8330, 2079,    644.1,   4.5392,  34.9878,2,  34.9861,2,    263.5,3,    258.7,2,    11.78,2,    17.79,6,     1.17,2,    1.808,2,    0.925,2,    0.076,2,    2.785,2,   2161.9,2,   4.4890
  18HU19941012, AR13c,    40,  1, 151344,     44,2,19941024,1744, 43.0830, -48.8330, 2079,    738.9,   3.8091,  34.8939,2,  34.8993,2,    282.8,2,    281.2,2,    10.80,2,    16.86,6,     1.14,2,    2.807,2,    1.537,2,    0.170,2,    4.163,2,   2155.5,2,   3.7553
  18HU19941012, AR13c,    40,  1, 151343,     43,2,19941024,1744, 43.0830, -48.8330, 2079,    809.5,   4.0184,  34.9382,2,  34.9422,2,    278.2,3,    266.5,2,    11.20,2,    17.26,6,     1.15,2,    2.070,2,    1.098,2,    0.094,2,    3.254,2,   2155.9,2,   3.9576
  18HU19941012, AR13c,    40,  1, 151342,     42,2,19941024,1744, 43.0830, -48.8330, 2079,   1006.4,   3.6275,  34.9017,2,  34.9062,2,    286.8,2,    285.1,2,    11.25,2,    16.89,6,     1.12,2,    2.362,2,    1.250,2,    0.123,2,    3.796,2,   2156.3,2,   3.5535
  18HU19941012, AR13c,    40,  1, 151341,     41,2,19941024,1744, 43.0830, -48.8330, 2079,   1204.5,   3.4297,  34.8871,2,  34.8910,2,    288.9,2,    289.7,2,    10.90,2,    16.65,6,     1.10,2,    2.389,2,    1.245,2,    0.129,2,    3.830,2,   2152.6,2,   3.3412
  18HU19941012, AR13c,    40,  1, 151340,     40,2,19941024,1744, 43.0830, -48.8330, 2079,   1565.5,   3.1711,  34.8650,2,  34.8703,2,    292.5,2,    296.2,2,    11.04,2,    16.38,6,     1.09,2,    2.710,2,    1.410,2,    0.149,2,    4.373,2,   2152.2,2,   3.0549
  18HU19941012, AR13c,    40,  1, 151339,     39,2,19941024,1744, 43.0830, -48.8330, 2079,   1839.5,   3.1112,  34.8623,2,  34.8642,2,    290.8,2,    296.8,2,    11.55,2,    16.34,6,     1.09,2,    2.762,2,    1.380,2,    0.143,2,    4.322,2,   2153.7,2,   2.9718
  18HU19941012, AR13c,    40,  1, 151338,     38,2,19941024,1744, 43.0830, -48.8330, 2079,   1972.0,   3.1182,  34.8638,2,  34.8685,2,    289.0,2,    296.8,2,    11.67,2,    16.11,6,     1.09,2,    2.681,2,    1.420,2,    0.156,2,    4.175,2,   2152.7,2,   2.9667
  18HU19941012, AR13c,    40,  1, 151337,     37,2,19941024,1744, 43.0830, -48.8330, 2079,   2070.6,   3.1109,  34.8671,2,  34.8628,2,    288.0,3,    297.8,2,    11.25,2,    15.96,6,     1.08,2,    2.571,2,    1.325,2,    0.129,2,    4.117,2,   2151.3,2,   2.9504
  18HU19941012, AR13c,    41,  1, 151359,     59,2,19941024,2137, 43.1662, -49.1670, 1022,     12.7,   6.7372,  32.3495,2,  32.3634,2,    225.9,3,    328.4,2,     1.36,2,     0.00,6,     0.40,2,    4.289,2,    2.190,2,    0.338,2,    6.090,2,   2014.3,2,   6.7361
  18HU19941012, AR13c,    41,  1, 151358,     58,2,19941024,2137, 43.1662, -49.1670, 1022,     43.8,  -1.0528,  33.3068,2,  33.3092,2,    340.4,3,    328.5,2,    10.00,2,     9.14,6,     1.05,2,    5.300,2,    2.492,2,    0.375,2,    7.223,2,   2121.9,2,  -1.0538
  18HU19941012, AR13c,    41,  1, 151357,     57,2,19941024,2137, 43.1662, -49.1670, 1022,    153.7,   0.6054,  34.0529,2,  34.0462,2,    345.1,3,    306.0,2,    10.98,2,    12.92,6,     1.06,2,    4.644,2,    2.445,2,    0.510,2,    6.376,2,   2132.3,2,   0.5992
  18HU19941012, AR13c,    41,  1, 151356,     56,2,19941024,2137, 43.1662, -49.1670, 1022,    260.6,   2.4921,  34.5283,2,  34.5319,2,    314.4,2,    289.6,2,    11.67,2,    14.77,6,     1.11,2,    4.233,2,    2.163,2,    0.301,2,    5.685,2,   2149.1,2,   2.4770
  18HU19941012, AR13c,    41,  1, 151355,     55,2,19941024,2137, 43.1662, -49.1670, 1022,    447.2,   3.3942,  34.7524,2,  34.7560,2,    293.6,2,    290.9,2,    11.01,2,    15.37,6,     1.11,2,    3.946,2,    1.927,2,    0.247,2,    5.365,2,   2152.5,2,   3.3642
  18HU19941012, AR13c,    41,  1, 151354,     54,2,19941024,2137, 43.1662, -49.1670, 1022,    602.0,   3.4944,  34.8137,2,  34.8180,2,    291.5,2,    295.8,2,    10.31,2,    15.77,6,     1.11,2,    3.778,2,    1.869,2,    0.230,2,    5.299,2,   2151.1,2,   3.4527
  18HU19941012, AR13c,    41,  1, 151353,     53,2,19941024,2137, 43.1662, -49.1670, 1022,    749.0,   3.4614,  34.8323,2,  34.8369,2,    292.2,2,    298.1,2,    10.14,2,    15.60,6,     1.09,2,    3.714,2,    1.887,2,    0.247,2,    5.344,2,   2151.6,2,   3.4089
  18HU19941012, AR13c,    41,  1, 151352,     52,2,19941024,2137, 43.1662, -49.1670, 1022,    901.4,   3.4086,  34.8360,2,  34.8409,2,    292.4,2,    298.5,2,    10.10,2,    15.88,6,     1.09,2,    3.674,2,    1.861,2,    0.226,2,    5.252,2,   2151.5,2,   3.3447
  18HU19941012, AR13c,    41,  1, 151351,     51,2,19941024,2137, 43.1662, -49.1670, 1022,   1003.3,   3.3774,  34.8403,2,  34.8414,2,    292.3,3,    297.1,2,    10.33,2,    15.93,6,     1.09,2,    3.490,2,    1.675,2,    0.292,2,    5.035,2,   2152.2,2,   3.3057
  18HU19941012, AR13c,    42,  1, 151366,     66,2,19941024,0006, 43.2082, -49.3350, 1088,     13.0,   5.4960,  32.4623,2,  32.4610,2,    254.1,3,    326.6,2,     2.14,2,     0.70,6,     0.49,2,    4.429,2,    2.025,2,    0.380,2,    4.898,2,   2031.7,2,   5.4950
  18HU19941012, AR13c,    42,  1, 151365,     65,2,19941024,0006, 43.2082, -49.3350, 1088,     54.5,  -0.9913,  33.2850,2,  33.2965,2,    345.3,3,    330.0,2,     9.76,2,     9.01,6,     1.04,2,    5.310,2,    2.518,2,    0.494,2,    5.960,2,   2119.1,2,  -0.9926
  18HU19941012, AR13c,    42,  1, 151364,     64,2,19941024,0006, 43.2082, -49.3350, 1088,    305.1,   2.6256,  34.5695,2,  34.5710,2,    315.1,3,    292.0,2,    11.40,2,    14.90,6,     1.11,2,    4.150,2,    2.029,2,    0.319,2,    5.086,2,   2149.4,2,   2.6075
  18HU19941012, AR13c,    42,  1, 151363,     63,2,19941024,0006, 43.2082, -49.3350, 1088,    505.4,   3.3915,  34.7488,2,  34.7522,2,    299.6,3,    291.5,2,    10.88,2,    15.59,6,     1.10,2,    3.995,2,    1.973,2,    0.309,2,    4.704,2,   2151.4,2,   3.3574
  18HU19941012, AR13c,    42,  1, 151362,     62,2,19941024,0006, 43.2082, -49.3350, 1088,    808.5,   3.5087,  34.8176,2,  34.8221,2,    296.5,2,    296.2,2,    10.17,2,    15.48,6,     1.10,2,    3.770,2,    1.708,2,    0.294,2,    4.451,2,   2149.9,2,   3.4513
  18HU19941012, AR13c,    42,  1, 151361,     61,2,19941024,0006, 43.2082, -49.3350, 1088,    955.6,   3.5009,  34.8161,2,  34.8230,2,    296.1,2,    295.7,2,    10.27,2,    15.91,6,     1.10,2,    3.682,2,    1.747,2,    0.256,2,    4.300,2,   2151.2,2,   3.4321
  18HU19941012, AR13c,    42,  1, 151360,     60,2,19941024,0006, 43.2082, -49.3350, 1088,   1078.7,   3.4849,  34.8250,2,  34.8281,2,    295.3,2,    295.9,2,    10.32,2,    15.63,6,     1.11,2,    3.699,2,    2.095,2,    0.305,2,    5.027,2,   2151.2,2,   3.4063
  18HU19941012, AR13c,    43,  1, 151370,     70,2,19941025,0149, 43.2468, -49.4670,  541,     54.9,  -0.8920,  33.2359,2,  33.2256,2,    348.8,3,    330.5,2,     9.70,2,     8.37,6,     1.03,2,    5.320,2,    2.715,2,    0.486,2,    5.947,2,   2118.0,2,  -0.8934
  18HU19941012, AR13c,    43,  1, 151369,     69,2,19941025,0149, 43.2468, -49.4670,  541,    247.9,   1.6246,  34.3211,2,  34.3282,2,    335.0,2,    290.9,2,    11.68,2,    14.08,6,     1.10,2,    4.392,2,    2.158,2,    0.370,2,    4.977,2,   2141.0,2,   1.6121
  18HU19941012, AR13c,    43,  1, 151368,     68,2,19941025,0149, 43.2468, -49.4670,  541,    377.4,   2.5422,  34.5453,2,  34.9412,0,    316.7,3,    291.9,2,    11.58,2,    15.05,6,     1.11,2,    4.183,2,    2.191,2,    0.347,2,    4.796,2,   2146.7,2,   2.5198
  18HU19941012, AR13c,    43,  1, 151367,     67,2,19941025,0149, 43.2468, -49.4670,  541,    531.7,   3.1495,  34.7016,2,  34.7022,2,    302.7,3,    291.0,2,    10.88,2,    14.77,6,     1.11,2,    3.873,2,    2.094,2,    0.307,2,    4.573,2,   2149.3,2,   3.1145
  18HU19941012, AR13c,    44,  1, 151373,     73,2,19941025,0310, 43.2817, -49.5880,  194,     12.9,   8.0376,  32.1957,2,  32.1716,2,    188.4,3,    313.8,2,     1.29,2,     0.00,6,     0.36,2,    3.915,2,    1.922,2,    0.333,2,    4.744,2,   1997.1,2,   8.0364
  18HU19941012, AR13c,    44,  1, 151372,     72,2,19941025,0310, 43.2817, -49.5880,  194,    104.6,  -0.4567,  33.5249,2,  33.5264,2,    361.6,3,    320.5,2,     9.98,2,     9.78,6,     1.06,2,    5.127,2,    2.600,2,    0.489,2,    5.721,2,   2122.4,2,  -0.4598
  18HU19941012, AR13c,    44,  1, 151371,     71,2,19941025,0310, 43.2817, -49.5880,  194,    178.5,   0.9356,  34.1358,2,  34.1358,2,   -999.0,9,    301.3,2,    11.36,2,    12.94,6,     1.07,2,    4.477,2,    2.141,2,    0.390,2,    5.103,2,   2134.3,2,   0.9278
  18HU19941012, AR13c,    45,  1, 151376,     76,2,19941025,2131, 46.6168, -48.0050,  120,     13.8,   6.9906,  31.8748,2,  31.9249,2,    203.3,3,    317.9,2,     0.76,2,     0.00,6,     0.34,2,    4.231,2,    2.361,2,    0.341,2,    5.536,2,   1991.5,2,   6.9894
  18HU19941012, AR13c,    45,  1, 151375,     75,2,19941025,2131, 46.6168, -48.0050,  120,     53.0,  -1.2658,  33.1562,2,  33.1589,2,    329.9,2,    331.4,2,     8.70,2,     8.04,6,     1.02,2,    5.163,2,    2.680,2,    0.424,2,    6.306,2,   2126.3,2,  -1.2670
  18HU19941012, AR13c,    45,  1, 151374,     74,2,19941025,2131, 46.6168, -48.0050,  120,    110.7,  -0.8458,  33.5670,2,  33.5741,2,    291.6,2,    303.0,2,    15.07,2,    11.49,6,     1.11,2,    5.221,2,    2.786,2,    0.408,2,    6.061,2,   2137.0,2,  -0.8488
  18HU19941012, AR13c,    46,  1, 151379,     79,2,19941025,2240, 46.5278, -47.7900,  135,     13.3,   6.4448,  31.9964,3,  32.0075,2,     30.9,3,    323.0,2,     0.80,2,    -0.01,3,     0.34,2,    4.370,2,    2.404,2,    0.351,2,    5.663,2,   1991.8,2,   6.4437
  18HU19941012, AR13c,    46,  1, 151378,     78,2,19941025,2240, 46.5278, -47.7900,  135,     41.3,  -1.0439,  33.1144,3,  33.0991,2,    385.4,3,    351.5,2,     5.26,2,     5.85,3,     0.92,2,    5.495,2,    2.879,2,    0.430,2,    6.132,2,   2107.9,2,  -1.0449
  18HU19941012, AR13c,    46,  1, 151377,     77,2,19941025,2240, 46.5278, -47.7900,  135,    121.6,  -0.4399,  33.7554,2,  33.7554,2,    328.5,3,    310.0,2,    11.11,2,    11.81,6,     1.00,2,    5.130,2,    2.571,2,    0.407,2,    6.145,2,   2128.0,2,  -0.4436
  18HU19941012, AR13c,    47,  1, 151382,     82,2,19941025,2355, 46.4417, -47.5820,  164,     46.9,  -1.3752,  33.2308,2,  33.2340,2,    326.9,2,    322.1,2,    10.97,2,     9.35,6,     1.06,2,    5.298,2,    2.706,2,    0.401,2,    6.258,2,   2130.4,2,  -1.3762
  18HU19941012, AR13c,    47,  1, 151381,     81,2,19941025,2355, 46.4417, -47.5820,  164,     77.5,  -1.0873,  33.4931,2,  33.4974,2,    320.0,2,    320.7,2,    10.70,2,    10.83,6,     1.01,2,    5.322,2,    2.703,2,    0.428,2,    6.459,2,   2124.5,2,  -1.0892
  18HU19941012, AR13c,    47,  1, 151380,     80,2,19941025,2355, 46.4417, -47.5820,  164,    153.7,  -0.1117,  33.8404,2,  33.8442,2,    293.0,2,    313.7,2,    10.33,2,    11.82,6,     0.98,2,    5.070,2,    2.582,2,    0.399,2,    6.025,2,   2125.8,2,  -0.1169
  18HU19941012, AR13c,    48,  1, 151386,     86,2,19941026,0246, 46.3510, -47.3740,  303,     12.9,   4.9622,  33.0897,2,  33.0834,2,    316.4,3,    331.1,2,     1.98,2,     0.88,6,     0.41,2,    4.454,2,    3.154,2,    0.392,2,    6.028,2,   2035.9,2,   4.9613
  18HU19941012, AR13c,    48,  1, 151385,     85,2,19941026,0246, 46.3510, -47.3740,  303,     54.1,  -0.6224,  33.5252,2,  33.5235,2,    335.6,3,    325.9,2,     7.97,2,     9.84,6,     0.94,2,    4.728,2,    2.656,2,    0.487,2,    6.705,2,   2117.2,2,  -0.6239
  18HU19941012, AR13c,    48,  1, 151384,     84,2,19941026,0246, 46.3510, -47.3740,  303,    154.9,   1.4154,  34.2709,2,  34.2746,2,    293.9,2,    291.8,2,    12.52,2,    14.32,6,     1.05,2,    4.112,2,    3.135,2,    0.372,2,    5.486,2,   2146.2,2,   1.4080
  18HU19941012, AR13c,    48,  1, 151383,     83,2,19941026,0246, 46.3510, -47.3740,  303,    291.4,   2.0121,  34.4207,2,  34.4264,2,    280.1,2,    281.3,2,    13.19,2,    15.14,6,     1.09,2,    4.071,2,    2.161,2,    0.362,2,    5.445,2,   2151.6,2,   1.9963
  18HU19941012, AR13c,    49,  1, 151391,     91,2,19941026,0410, 46.2642, -47.1680,  821,     12.7,   5.7647,  31.8968,2,  33.2146,2,    181.3,3,    324.0,2,     1.56,2,     0.61,6,     0.34,2,    4.438,2,    2.415,2,    0.348,2,    5.693,2,   2033.3,2,   5.7637
  18HU19941012, AR13c,    49,  1, 151390,     90,2,19941026,0410, 46.2642, -47.1680,  821,     82.2,   2.5232,  34.4279,2,  34.4273,2,    312.6,3,    308.3,2,     6.57,2,    12.66,6,     0.91,2,    4.828,2,    2.490,2,    0.379,2,    5.703,2,   2127.8,2,   2.5186
  18HU19941012, AR13c,    49,  1, 151389,     89,2,19941026,0410, 46.2642, -47.1680,  821,    201.9,   3.5195,  34.7913,2,  34.7967,2,    301.3,2,    298.9,2,     8.71,2,    15.63,6,     1.04,2,    3.668,2,    2.088,2,    0.319,2,    5.105,2,   2147.8,2,   3.5061
  18HU19941012, AR13c,    49,  1, 151388,     88,2,19941026,0410, 46.2642, -47.1680,  821,    509.4,   3.3340,  34.8451,2,  34.8529,2,    301.5,2,    302.0,2,     9.44,2,    16.02,6,     1.05,2,    3.797,2,    1.883,2,    0.260,2,    4.775,2,   2149.5,2,   3.2997
  18HU19941012, AR13c,    49,  1, 151387,     87,2,19941026,0410, 46.2642, -47.1680,  821,    819.7,   3.1098,  34.8434,2,  34.8452,2,    304.2,2,    303.5,2,     9.83,2,    15.74,6,     1.06,2,    3.582,2,    1.814,2,    0.230,2,    4.628,2,   2149.6,2,   3.0541
  18HU19941012, AR13c,    50,  1, 151399,     99,2,19941026,0558, 46.1770, -46.9580, 1333,     13.0,   8.6288,  33.2313,2,  33.2385,2,    293.0,2,    301.6,2,     1.07,2,     0.12,6,     0.22,2,    3.446,2,    2.270,2,    0.297,2,    5.200,2,   2014.5,2,   8.6275
  18HU19941012, AR13c,    50,  1, 151398,     98,2,19941026,0558, 46.1770, -46.9580, 1333,    104.6,   2.3537,  34.5048,2,  34.5068,2,    300.7,3,    306.6,2,     8.39,2,    14.81,6,     1.00,2,    4.197,2,    2.247,2,    0.370,2,    5.406,2,   2138.7,2,   2.3479
  18HU19941012, AR13c,    50,  1, 151397,     97,2,19941026,0558, 46.1770, -46.9580, 1333,    254.4,   3.4441,  34.8055,2,  34.8135,2,    293.0,2,    291.2,2,     9.59,2,    15.91,6,     1.07,2,    3.376,2,    2.091,2,    0.230,2,    4.568,2,   2151.5,2,   3.4273
  18HU19941012, AR13c,    50,  1, 151396,     96,2,19941026,0558, 46.1770, -46.9580, 1333,    504.2,   3.2240,  34.8321,2,  34.8382,2,    297.5,2,    299.1,2,     9.47,2,    16.13,6,     1.06,2,    3.484,2,    1.956,2,    0.249,2,    4.672,2,   2150.1,2,   3.1905
  18HU19941012, AR13c,    50,  1, 151395,     95,2,19941026,0558, 46.1770, -46.9580, 1333,    706.4,   3.1508,  34.8413,2,  34.8481,2,    299.8,2,    299.6,2,     9.69,2,    18.03,3,     1.06,2,    3.083,2,    1.716,2,    0.211,2,    4.269,2,   2151.9,2,   3.1032
  18HU19941012, AR13c,    50,  1, 151394,     94,2,19941026,0558, 46.1770, -46.9580, 1333,    906.9,   3.0535,  34.8389,2,  34.8459,2,    303.8,2,    303.7,2,     9.61,2,    16.27,6,     1.04,2,    3.211,2,    1.841,2,    0.190,2,    4.519,2,   2149.2,2,   2.9917
  18HU19941012, AR13c,    50,  1, 151393,     93,2,19941026,0558, 46.1770, -46.9580, 1333,   1153.9,   2.9669,  34.8423,2,  34.8490,2,    308.0,2,    301.2,2,    10.15,2,    16.21,6,     1.04,2,    3.122,2,    1.747,2,    0.211,2,    4.599,2,   2151.4,2,   2.8868
  18HU19941012, AR13c,    50,  1, 151392,     92,2,19941026,0558, 46.1770, -46.9580, 1333,   1331.6,   2.9548,  34.8480,2,  34.8539,2,    310.3,2,    299.3,2,    12.26,2,    16.03,6,     1.07,2,    2.859,2,    1.699,2,    0.168,2,    4.125,2,   2155.0,2,   2.8606
  18HU19941012, AR13c,    51,  1, 151406,      6,2,19941026,0757, 46.0905, -46.7480, 1164,    110.6,   4.2809,  34.5995,2,  34.5827,2,    270.4,3,    234.9,2,    11.99,2,    17.94,6,     1.21,2,    2.729,2,    1.440,2,    0.168,2,    3.285,2,   2159.2,2,   4.2730
  18HU19941012, AR13c,    51,  1, 151405,      5,2,19941026,0757, 46.0905, -46.7480, 1164,    270.7,   4.4362,  34.8868,2,  34.8927,2,    269.3,3,    256.4,2,    11.04,2,    17.68,6,     1.15,2,    2.626,2,    1.343,2,    0.131,2,    3.197,2,   2158.8,2,   4.4161
  18HU19941012, AR13c,    51,  1, 151404,      4,2,19941026,0757, 46.0905, -46.7480, 1164,    369.1,   4.4460,  34.9625,2,  34.9684,2,    274.1,2,    251.1,2,    10.84,2,    17.51,6,     1.15,2,    2.111,2,    1.144,2,    0.097,2,    2.771,2,   2161.4,2,   4.4183
  18HU19941012, AR13c,    51,  1, 151403,      3,2,19941026,0757, 46.0905, -46.7480, 1164,    755.6,   3.5069,  34.8861,2,  34.8861,2,   -999.0,9,    287.2,2,  -999.00,9,  -999.00,5,  -999.00,9,    2.602,2,    1.395,2,    0.135,2,    3.586,2,   2152.3,2,   3.4535
  18HU19941012, AR13c,    51,  1, 151402,      2,2,19941026,0757, 46.0905, -46.7480, 1164,    885.8,   3.3424,  34.8754,2,  34.8819,2,    291.8,2,    292.1,2,    10.23,2,    16.43,6,     1.10,2,    2.654,2,    1.445,2,    0.146,2,    3.677,2,   2152.0,2,   3.2801
  18HU19941012, AR13c,    51,  1, 151401,      1,2,19941026,0757, 46.0905, -46.7480, 1164,    982.4,   3.2263,  34.8652,2,  34.8721,2,    294.4,2,    294.7,2,    10.31,2,    16.10,6,     1.06,2,    2.853,2,    1.471,2,    0.150,2,    3.924,2,   2152.1,2,   3.1574
  18HU19941012, AR13c,    51,  1, 151400,      0,2,19941026,0757, 46.0905, -46.7480, 1164,   1143.9,   3.1963,  34.8650,2,  34.8707,2,    296.0,2,    296.1,2,    10.46,2,    16.18,6,     1.06,2,    2.744,2,    1.398,2,    0.150,2,    3.839,2,   2150.1,2,   3.1149