BOTTLE,20140120PRINUNIVRMK
EXPOCODE,SECT_ID,STNNBR,CASTNO,SAMPNO,BTLNBR,BTLNBR_FLAG_W,DATE,TIME,LATITUDE,LONGITUDE,DEPTH,CTDPRS,CTDTMP,CTDSAL,CTDSAL_FLAG_W,SALNTY,SALNTY_FLAG_W,CTDOXY,CTDOXY_FLAG_W,OXYGEN,OXYGEN_FLAG_W,SILCAT,SILCAT_FLAG_W,NITRAT,NITRAT_FLAG_W,PHSPHT,PHSPHT_FLAG_W,CFC-11,CFC-11_FLAG_W,CFC-12,CFC-12_FLAG_W,CFC113,CFC113_FLAG_W,CCL4,CCL4_FLAG_W,TCARBN,TCARBN_FLAG_W,THETA
,,,,,,,,,,,METERS,DBAR,ITS-90,PSS-78,,PSS-78,,UMOL/KG,,UMOL/KG,,UMOL/KG,,UMOL/KG,,UMOL/KG,,PMOL/KG,,PMOL/KG,,PMOL/KG,,PMOL/KG,,UMOL/KG,,DEG C
  18HU19941012, AR13c,    81,  1, 151852,     52,2,19941101,0651, 45.8002, -43.5670, 4739,     13.6,  13.2149,  33.3888,2,  33.3924,2,    280.0,3,    269.6,2,     0.85,2,     0.00,6,     0.21,2,    2.942,2,    1.485,2,    0.147,2,    4.092,2,   2003.0,2,  13.2131
  18HU19941012, AR13c,    81,  1, 151851,     51,2,19941101,0651, 45.8002, -43.5670, 4739,    100.6,   8.5154,  34.7638,2,  34.7454,2,    243.2,3,    235.3,2,     6.31,2,    11.88,6,     0.94,2,    3.064,2,    1.443,2,    0.131,2,    2.639,2,   2131.7,2,   8.5049
  18HU19941012, AR13c,    81,  1, 151850,     50,2,19941101,0651, 45.8002, -43.5670, 4739,    197.6,   7.9139,  34.8781,2,  34.8830,2,    194.3,3,    196.3,2,    10.73,2,    18.32,6,     1.26,2,    2.043,2,    0.983,2,    0.068,2,    1.965,2,   2161.6,2,   7.8941
  18HU19941012, AR13c,    81,  1, 151849,     49,2,19941101,0651, 45.8002, -43.5670, 4739,    381.8,   6.3182,  35.0045,2,  34.9784,2,    208.6,3,    211.8,2,    12.48,2,    19.75,6,     1.34,2,    1.584,2,    1.056,2,    0.075,2,    1.862,2,   2175.6,2,   6.2839
  18HU19941012, AR13c,    81,  1, 151848,     48,2,19941101,0651, 45.8002, -43.5670, 4739,    500.3,   5.1964,  34.9495,2,  34.9560,2,    230.2,2,    234.2,2,    12.16,2,    18.74,6,     1.27,2,    1.866,2,    0.887,2,    0.043,2,    2.365,2,   2172.8,2,   5.1554
  18HU19941012, AR13c,    81,  1, 151847,     47,2,19941101,0651, 45.8002, -43.5670, 4739,    598.1,   4.9776,  34.9837,2,  34.9903,2,    241.7,2,    247.5,2,    11.90,2,    18.61,6,     1.24,2,    1.842,2,    0.933,2,    0.027,2,    2.489,2,   2167.3,2,   4.9291
  18HU19941012, AR13c,    81,  1, 151846,     46,2,19941101,0651, 45.8002, -43.5670, 4739,   1012.0,   3.9937,  34.9436,2,  34.9495,2,    271.7,2,    274.2,2,    11.36,2,    17.74,6,     1.20,2,    1.821,2,    0.927,2,    0.065,2,    2.896,2,   2160.6,2,   3.9163
  18HU19941012, AR13c,    81,  1, 151845,     45,2,19941101,0651, 45.8002, -43.5670, 4739,   1296.7,   3.6188,  34.9128,2,  34.9159,2,    281.8,2,    283.6,2,    11.05,2,    17.36,6,     1.18,2,    1.822,2,    0.906,2,    0.029,2,    3.100,2,   2157.4,2,   3.5207
  18HU19941012, AR13c,    81,  1, 151844,     44,2,19941101,0651, 45.8002, -43.5670, 4739,   1495.0,   3.3978,  34.8936,2,  34.9023,2,    286.7,2,    290.1,2,    11.04,2,    17.11,6,     1.15,2,    2.002,2,    0.881,2,    0.037,2,    3.371,2,   2155.6,2,   3.2850
  18HU19941012, AR13c,    81,  1, 151843,     43,2,19941101,0651, 45.8002, -43.5670, 4739,   1698.8,   3.3311,  34.8947,2,  34.9010,2,    289.4,2,    289.4,2,    11.55,2,    17.16,6,     1.15,2,    1.891,2,    0.857,2,    0.056,2,    3.128,2,   2155.0,2,   3.2012
  18HU19941012, AR13c,    81,  1, 151842,     42,2,19941101,0651, 45.8002, -43.5670, 4739,   1992.5,   3.2418,  34.8956,2,  34.9021,2,    289.6,2,    290.0,2,    11.82,2,    16.92,6,     1.14,2,    1.816,2,    0.865,2,    0.030,2,    3.004,2,   2155.6,2,   3.0864
  18HU19941012, AR13c,    81,  1, 151841,     41,2,19941101,0651, 45.8002, -43.5670, 4739,   2395.0,   3.2387,  34.9250,2,  34.9315,2,    281.9,2,    281.8,2,    13.77,2,    16.96,6,     1.15,2,    0.947,2,    0.504,2,    0.019,2,    1.957,2,   2157.4,2,   3.0448
  18HU19941012, AR13c,    81,  1, 151840,     40,2,19941101,0651, 45.8002, -43.5670, 4739,   2726.7,   3.0432,  34.9241,2,  34.9311,2,    282.5,2,    280.7,2,    14.33,2,    16.77,6,     1.14,2,    1.143,2,    0.635,2,    0.029,2,    2.028,2,   2158.0,2,   2.8198
  18HU19941012, AR13c,    81,  1, 151839,     39,2,19941101,0651, 45.8002, -43.5670, 4739,   2993.7,   2.8543,  34.9216,2,  34.9264,2,    282.1,2,    281.8,2,    16.16,2,    16.70,6,     1.17,2,    0.776,2,    0.432,2,    0.000,2,    1.637,2,   2159.0,2,   2.6074
  18HU19941012, AR13c,    81,  1, 151838,     38,2,19941101,0651, 45.8002, -43.5670, 4739,   3287.4,   2.6414,  34.9139,2,  34.9205,2,    282.8,2,    282.5,2,    18.27,2,    16.75,6,     1.17,2,    0.731,2,    0.394,2,    0.037,2,    1.520,2,   2160.0,2,   2.3683
  18HU19941012, AR13c,    81,  1, 151837,     37,2,19941101,0651, 45.8002, -43.5670, 4739,   3597.4,   2.4639,  34.9049,2,  34.9191,2,    283.8,3,    281.0,2,    16.31,2,    16.93,6,     1.17,2,    1.270,2,    0.670,2,    0.050,2,    2.253,2,   2160.2,2,   2.1617
  18HU19941012, AR13c,    81,  1, 151836,     36,2,19941101,0651, 45.8002, -43.5670, 4739,   4001.4,   2.3375,  34.8965,2,  34.9024,2,    282.9,2,    282.7,2,    22.38,2,    17.15,6,     1.23,2,    0.798,2,    0.430,2,    0.021,2,    1.889,2,   2165.8,2,   1.9935
  18HU19941012, AR13c,    81,  1, 151835,     35,2,19941101,0651, 45.8002, -43.5670, 4739,   4410.7,   2.2877,  34.8911,2,  34.8902,2,    282.9,3,    282.7,2,    22.90,2,    17.02,6,     1.19,2,    0.883,2,    0.495,2,    0.045,2,    2.036,2,   2165.7,2,   1.8976
  18HU19941012, AR13c,    81,  1, 151834,     34,2,19941101,0651, 45.8002, -43.5670, 4739,   4603.0,   2.2820,  34.8894,2,  34.8992,2,    283.2,2,    282.6,2,    21.80,2,    17.11,6,     1.19,2,    1.017,2,    0.635,2,    0.044,2,    1.951,2,   2168.1,2,   1.8689
  18HU19941012, AR13c,    81,  1, 151833,     33,2,19941101,0651, 45.8002, -43.5670, 4739,   4735.6,   2.2819,  34.8883,2,  34.8935,2,    282.1,2,    281.3,2,    23.29,2,    17.09,6,     1.18,2,    1.036,2,    0.608,2,    0.115,2,    2.127,2,   2169.5,2,   1.8526
  18HU19941012, AR13c,    82,  1, 151872,     72,2,19941101,1309, 46.1880, -43.9140, 4173,     12.2,  10.5582,  32.9691,2,  32.9734,2,    210.0,2,    286.7,2,     1.04,2,     0.00,6,     0.20,2,    3.227,2,    1.801,2,    0.183,2,    4.963,2,   2002.5,2,  10.5568
  18HU19941012, AR13c,    82,  1, 151871,     71,2,19941101,1309, 46.1880, -43.9140, 4173,    205.8,   3.1726,  34.6528,2,  34.6519,2,    308.0,3,    300.7,2,     8.88,2,    16.21,6,     1.04,2,    3.948,2,    2.083,2,    0.253,2,    5.722,2,   2147.3,2,   3.1596
  18HU19941012, AR13c,    82,  1, 151870,     70,2,19941101,1309, 46.1880, -43.9140, 4173,    404.0,   3.3485,  34.8306,2,  34.8271,2,    297.4,3,    299.4,2,     9.81,2,    17.19,6,     1.05,2,    3.458,2,    1.711,2,    0.164,2,    5.311,2,   2152.9,2,   3.3216
  18HU19941012, AR13c,    82,  1, 151869,     69,2,19941101,1309, 46.1880, -43.9140, 4173,    616.8,   3.2075,  34.8460,2,  34.8517,2,    299.1,2,    300.0,2,     9.79,2,    16.90,6,     1.07,2,    3.297,2,    1.623,2,    0.169,2,    5.098,2,   2152.9,2,   3.1661
  18HU19941012, AR13c,    82,  1, 151868,     68,2,19941101,1309, 46.1880, -43.9140, 4173,    799.6,   3.1309,  34.8497,2,  34.8552,2,    300.4,2,    301.8,2,     9.71,2,    16.72,6,     1.06,2,    3.116,2,    1.568,2,    0.149,2,    4.869,2,   2152.7,2,   3.0766
  18HU19941012, AR13c,    82,  1, 151867,     67,2,19941101,1309, 46.1880, -43.9140, 4173,   1007.4,   3.0350,  34.8439,2,  34.8477,2,    302.0,2,    304.0,2,     9.96,2,    16.67,6,     1.04,2,    3.143,2,    1.575,2,    0.144,2,    5.046,2,   2153.4,2,   2.9657
  18HU19941012, AR13c,    82,  1, 151866,     66,2,19941101,1309, 46.1880, -43.9140, 4173,   1193.3,   2.9813,  34.8425,2,  34.8479,2,    304.5,2,    304.3,2,     9.97,2,    16.83,6,     1.05,2,    3.079,2,    1.571,2,    0.147,2,    4.961,2,   2150.2,2,   2.8979
  18HU19941012, AR13c,    82,  1, 151865,     65,2,19941101,1309, 46.1880, -43.9140, 4173,   1394.4,   3.0563,  34.8611,2,  34.8664,2,    305.3,2,    298.8,2,    10.32,2,    16.92,6,     1.06,2,    2.585,2,    1.277,2,    0.093,2,    4.406,2,   2150.9,2,   2.9559
  18HU19941012, AR13c,    82,  1, 151864,     64,2,19941101,1309, 46.1880, -43.9140, 4173,   1611.1,   3.0517,  34.8691,2,  34.8741,2,    303.5,2,    297.9,2,    10.80,2,    16.84,6,     1.05,2,    2.390,2,    0.569,2,    0.091,2,    4.028,2,   2151.1,2,   2.9331
  18HU19941012, AR13c,    82,  1, 151863,     63,2,19941101,1309, 46.1880, -43.9140, 4173,   1793.6,   3.1305,  34.8936,2,  34.8936,2,   -999.0,9,    290.6,2,    11.66,2,    16.60,6,     1.16,2,    1.738,2,    0.870,2,    0.050,2,    3.198,2,   2152.0,2,   2.9948
  18HU19941012, AR13c,    82,  1, 151862,     62,2,19941101,1309, 46.1880, -43.9140, 4173,   2005.6,   3.0965,  34.9055,2,  34.9128,2,    291.2,2,    289.6,2,    12.34,2,    16.61,6,     1.15,2,    1.469,2,    0.722,2,    0.036,2,    2.825,2,   2152.9,2,   2.9420
  18HU19941012, AR13c,    82,  1, 151861,     61,2,19941101,1309, 46.1880, -43.9140, 4173,   2149.1,   2.9706,  34.8986,2,  34.9032,2,    292.6,2,    291.8,2,    11.65,2,    16.28,6,     1.17,2,    1.774,2,    0.958,2,    0.050,2,    3.131,2,   2152.2,2,   2.8049
  18HU19941012, AR13c,    82,  1, 151860,     60,2,19941101,1309, 46.1880, -43.9140, 4173,   2398.3,   2.9115,  34.9166,2,  34.8964,2,    288.5,3,    288.1,2,    13.08,2,    16.53,6,     1.15,2,    1.142,2,    0.589,2,    0.025,2,    2.441,2,   2153.9,2,   2.7232
  18HU19941012, AR13c,    82,  1, 151859,     59,2,19941101,1309, 46.1880, -43.9140, 4173,   2788.8,   2.6598,  34.9145,2,  34.9123,2,    287.2,3,    288.2,2,    15.28,2,    16.54,6,     1.16,2,    0.954,2,    0.540,2,    0.020,2,    2.033,2,   2156.2,2,   2.4379
  18HU19941012, AR13c,    82,  1, 151858,     58,2,19941101,1309, 46.1880, -43.9140, 4173,   3132.7,   2.4111,  34.8996,2,  34.9054,2,    290.8,2,    292.3,2,    14.37,2,    16.10,6,     1.12,2,    1.431,2,    0.730,2,    0.036,2,    2.583,2,   2155.7,2,   2.1596
  18HU19941012, AR13c,    82,  1, 151857,     57,2,19941101,1309, 46.1880, -43.9140, 4173,   3392.5,   2.2853,  34.8963,2,  34.8963,2,   -999.0,9,    289.7,2,    14.62,2,    16.13,6,     1.13,2,    1.324,2,    0.694,2,    0.043,2,    2.650,2,   2157.5,2,   2.0097
  18HU19941012, AR13c,    82,  1, 151856,     56,2,19941101,1309, 46.1880, -43.9140, 4173,   3698.9,   2.2374,  34.8931,2,  34.8999,2,    284.2,2,    284.2,2,    21.96,2,    17.14,6,     1.19,2,    0.807,2,    0.435,2,    0.016,2,    1.759,2,   2164.8,2,   1.9300
  18HU19941012, AR13c,    82,  1, 151855,     55,2,19941101,1309, 46.1880, -43.9140, 4173,   3972.6,   2.2078,  34.8899,2,  34.8940,2,    284.1,2,    285.1,2,    21.49,2,    16.88,6,     1.20,2,    0.999,2,    0.525,2,    0.014,2,    1.917,2,   2163.6,2,   1.8708
  18HU19941012, AR13c,    82,  1, 151854,     54,2,19941101,1309, 46.1880, -43.9140, 4173,   4063.1,   2.2025,  34.8898,2,  34.8946,2,    285.1,2,    285.6,2,    20.57,2,    16.50,6,     1.16,2,    1.157,2,    0.594,2,    0.023,2,    2.351,2,   2162.7,2,   1.8553
  18HU19941012, AR13c,    82,  1, 151853,     53,2,19941101,1309, 46.1880, -43.9140, 4173,   4168.2,   2.1861,  34.8892,2,  34.8926,2,    289.7,2,    289.1,2,    16.58,2,    15.80,6,     1.11,2,    1.513,2,    0.825,2,    0.054,2,    2.850,2,   2158.1,2,   1.8274
  18HU19941012, AR13c,    83,  1, 151892,     92,2,19941101,1710, 46.3320, -44.0530, 3960,     13.1,   9.3980,  33.0964,2,  33.1005,2,    318.7,3,    295.8,2,     1.37,2,     0.58,6,     0.23,2,    3.510,2,    1.630,2,    0.250,2,    5.246,2,   2007.6,2,   9.3966
  18HU19941012, AR13c,    83,  1, 151891,     91,2,19941101,1710, 46.3320, -44.0530, 3960,     98.1,   3.7331,  34.6007,2,  34.5987,2,    297.4,3,    271.5,2,     9.80,2,    16.86,6,     1.09,2, -999.000,9, -999.000,9, -999.000,9, -999.000,9,   2149.9,2,   3.7265
  18HU19941012, AR13c,    83,  1, 151890,     90,2,19941101,1710, 46.3320, -44.0530, 3960,    193.4,   3.6144,  34.7986,2,  34.8015,2,    290.5,3,    286.5,2,     9.98,2,    17.25,6,     1.08,2,    3.473,2,    1.482,2,    0.251,2,    4.985,2,   2153.4,2,   3.6015
  18HU19941012, AR13c,    83,  1, 151889,     89,2,19941101,1710, 46.3320, -44.0530, 3960,    302.4,   3.4992,  34.8320,2,  34.8375,2,    295.7,2,    292.9,2,     9.78,2,    17.03,6,     1.06,2,    3.523,2,    1.492,2,    0.257,2,    5.073,2,   2153.1,2,   3.4790
  18HU19941012, AR13c,    83,  1, 151888,     88,2,19941101,1710, 46.3320, -44.0530, 3960,    408.7,   3.3835,  34.8507,2,  34.8560,2,    294.0,2,    296.8,2,    10.27,2,    17.02,6,     1.03,2,    3.317,2,    1.451,2,    0.309,2,    5.046,2,   2152.5,2,   3.3562
  18HU19941012, AR13c,    83,  1, 151887,     87,2,19941101,1710, 46.3320, -44.0530, 3960,    504.8,   3.3320,  34.8556,2,  34.8607,2,    297.0,2,    296.8,2,    10.10,2,    17.13,6,     1.06,2,    3.254,2,    1.373,2,    0.234,2,    4.808,2,   2153.7,2,   3.2981
  18HU19941012, AR13c,    83,  1, 151886,     86,2,19941101,1710, 46.3320, -44.0530, 3960,    699.5,   3.0838,  34.8448,2,  34.8391,2,    298.9,3,    303.0,2,     9.94,2,    16.95,6,     1.06,2,    3.400,2,    1.433,2,    0.233,2,    5.139,2,   2150.3,2,   3.0371
  18HU19941012, AR13c,    83,  1, 151885,     85,2,19941101,1710, 46.3320, -44.0530, 3960,    896.3,   2.9998,  34.8445,2,  34.8507,2,    303.0,2,    303.9,2,    10.01,2,    16.57,6,     1.04,2,    3.225,2,    1.536,2,    0.201,2,    4.859,2,   2151.0,2,   2.9391
  18HU19941012, AR13c,    83,  1, 151884,     84,2,19941101,1710, 46.3320, -44.0530, 3960,   1097.2,   2.8948,  34.8387,2,  34.8454,2,    304.2,2,    306.7,2,    10.03,2,    16.40,6,     1.04,2,    3.269,2,    1.399,2,    0.229,2,    5.065,2,   2150.4,2,   2.8197
  18HU19941012, AR13c,    83,  1, 151883,     83,2,19941101,1710, 46.3320, -44.0530, 3960,   1304.0,   2.8676,  34.8384,2,  34.8440,2,    307.4,2,    307.0,2,     9.83,2,    16.69,6,     1.06,2,    3.277,2,    1.371,2,    0.172,2,    4.983,2,   2150.2,2,   2.7765
  18HU19941012, AR13c,    83,  1, 151882,     82,2,19941101,1710, 46.3320, -44.0530, 3960,   1499.5,   2.9188,  34.8593,2,  34.8656,2,    301.9,2,    301.9,2,    10.60,2,    16.70,6,     1.04,2,    2.801,2,    1.213,2,    0.173,2,    4.490,2,   2151.2,2,   2.8112
  18HU19941012, AR13c,    83,  1, 151881,     81,2,19941101,1710, 46.3320, -44.0530, 3960,   1812.0,   2.9663,  34.8815,2,  34.8879,2,    296.4,2,    295.0,2,    11.32,2,    16.73,6,     1.03,2,    2.277,2,    1.053,2,    0.169,2,    3.670,2,   2151.7,2,   2.8312
  18HU19941012, AR13c,    83,  1, 151880,     80,2,19941101,1710, 46.3320, -44.0530, 3960,   2204.4,   2.9631,  34.8915,2,  34.8965,2,    293.0,2,    294.2,2,    11.44,2,    16.22,6,     1.02,2,    2.104,2,    0.948,2,    0.167,2,    3.476,2,   2152.2,2,   2.7923
  18HU19941012, AR13c,    83,  1, 151879,     79,2,19941101,1710, 46.3320, -44.0530, 3960,   2610.4,   2.8159,  34.9052,2,  34.9103,2,    291.1,2,    290.2,2,    12.22,2,    16.51,6,     1.03,2,    1.655,2,    0.842,2,    0.081,2,    2.970,2,   2153.1,2,   2.6086
  18HU19941012, AR13c,    83,  1, 151878,     78,2,19941101,1710, 46.3320, -44.0530, 3960,   3011.6,   2.6756,  34.9153,2,  34.9217,2,    285.0,2,    283.2,2,    17.33,2,    17.39,6,     1.10,2,    0.801,2,    0.434,2,    0.097,2,    1.696,2,   2157.7,2,   2.4307
  18HU19941012, AR13c,    83,  1, 151877,     77,2,19941101,1710, 46.3320, -44.0530, 3960,   3203.4,   2.4014,  34.9031,2,  34.9065,2,    287.7,2,    290.7,2,    15.45,2,    16.68,6,     1.06,2,    1.525,2,    0.742,2,    0.116,2,    2.645,2,   2155.8,2,   2.1428
  18HU19941012, AR13c,    83,  1, 151876,     76,2,19941101,1710, 46.3320, -44.0530, 3960,   3407.4,   2.2899,  34.8978,2,  34.9044,2,    288.5,2,    285.5,2,    18.89,2,    16.81,6,     1.09,2,    1.011,2,    0.506,2,    0.034,2,    2.055,2,   2160.9,2,   2.0126
  18HU19941012, AR13c,    83,  1, 151875,     75,2,19941101,1710, 46.3320, -44.0530, 3960,   3625.7,   2.2406,  34.8947,2,  34.9008,2,    286.7,2,    288.7,2,    20.06,2,    17.13,6,     1.10,2,    1.026,2,    0.590,2,    0.117,2,    2.074,2,   2162.2,2,   1.9411
  18HU19941012, AR13c,    83,  1, 151874,     74,2,19941101,1710, 46.3320, -44.0530, 3960,   3838.6,   2.2106,  34.8922,2,  34.8985,2,    289.1,2,    288.0,2,    19.15,2,    17.01,6,     1.06,2,    1.246,2,    0.628,2,    0.166,2,    2.240,2,   2161.8,2,   1.8885
  18HU19941012, AR13c,    83,  1, 151873,     73,2,19941101,1710, 46.3320, -44.0530, 3960,   3954.7,   2.1730,  34.8888,2,  34.8916,2,    292.7,2,    293.0,2,    15.53,2,    16.14,6,     1.00,2,    1.713,2,    0.787,2,    0.096,2,    2.980,2,   2157.7,2,   1.8390