BOTTLE,20140120PRINUNIVRMK
EXPOCODE,SECT_ID,STNNBR,CASTNO,SAMPNO,BTLNBR,BTLNBR_FLAG_W,DATE,TIME,LATITUDE,LONGITUDE,DEPTH,CTDPRS,CTDTMP,CTDSAL,CTDSAL_FLAG_W,SALNTY,SALNTY_FLAG_W,CTDOXY,CTDOXY_FLAG_W,OXYGEN,OXYGEN_FLAG_W,SILCAT,SILCAT_FLAG_W,NITRAT,NITRAT_FLAG_W,PHSPHT,PHSPHT_FLAG_W,CFC-11,CFC-11_FLAG_W,CFC-12,CFC-12_FLAG_W,CFC113,CFC113_FLAG_W,CCL4,CCL4_FLAG_W,TCARBN,TCARBN_FLAG_W,THETA
,,,,,,,,,,,METERS,DBAR,ITS-90,PSS-78,,PSS-78,,UMOL/KG,,UMOL/KG,,UMOL/KG,,UMOL/KG,,UMOL/KG,,PMOL/KG,,PMOL/KG,,PMOL/KG,,PMOL/KG,,UMOL/KG,,DEG C
  18HU19941012, AR13c,    10,  1, 150756,     56,2,19941016,1546, 40.4178, -50.3040, 4153,     12.2,  23.5146,  36.2517,2,  36.2463,2,     39.2,3,    213.8,2,     0.56,2,     0.33,6,     0.04,2,    1.538,2,    1.100,2,    0.095,2,    1.851,2,   2029.2,2,  23.5121
  18HU19941012, AR13c,    10,  1, 150755,     55,2,19941016,1546, 40.4178, -50.3040, 4153,    110.6,  20.9766,  36.6802,2,  36.6952,2,    155.3,3,    199.0,2,     0.00,2,     2.09,6,     0.11,2,    1.711,2,    1.284,2,    0.136,2,    0.907,2,   2081.8,2,  20.9553
  18HU19941012, AR13c,    10,  1, 150754,     54,2,19941016,1546, 40.4178, -50.3040, 4153,    206.0,  18.4247,  36.5852,2,  36.5744,2,    200.5,2,    210.7,2,     0.57,2,     3.44,6,     0.17,2,    1.835,2,    1.224,2,    0.057,2,    0.795,2,   2087.4,2,  18.3884
  18HU19941012, AR13c,    10,  1, 150753,     53,2,19941016,1546, 40.4178, -50.3040, 4153,    343.9,  16.6569,  36.2692,2,  35.4779,0,    196.6,3,    167.3,2,     3.14,2,    10.60,6,     0.60,2,    1.384,2,    0.831,2,    0.023,2,    0.116,2,   2132.8,2,  16.6002
  18HU19941012, AR13c,    10,  1, 150752,     52,2,19941016,1546, 40.4178, -50.3040, 4153,    501.1,  12.0534,  35.5519,2,  35.5430,2,    162.8,3,    158.7,2,     8.73,2,    19.00,6,     1.15,2,    1.011,2,    0.554,2,    0.023,2,    0.278,2,   2164.7,2,  11.9866
  18HU19941012, AR13c,    10,  1, 150751,     51,2,19941016,1546, 40.4178, -50.3040, 4153,    639.6,   8.3228,  35.0948,2,  35.0944,2,    170.2,3,    163.1,2,    13.55,2,    23.60,6,     1.46,2,    0.848,2,    0.485,2,    0.040,2,    0.811,2,   2185.0,2,   8.2546
  18HU19941012, AR13c,    10,  1, 150750,     50,2,19941016,1546, 40.4178, -50.3040, 4153,    822.3,   5.9908,  35.0505,2,  35.0593,2,    214.9,3,    211.3,2,    13.06,2,    20.83,6,     1.31,2,    1.043,2,    0.590,2,    0.046,2,    1.339,2,   2175.8,2,   5.9164
  18HU19941012, AR13c,    10,  1, 150749,     49,2,19941016,1546, 40.4178, -50.3040, 4153,   1074.4,   4.5710,  34.9942,2,  34.9965,2,    254.7,3,    258.5,2,    11.42,2,    18.63,6,     1.21,2,    1.650,2,    0.997,2,    0.078,2,    2.491,2,   2165.9,2,   4.4835
  18HU19941012, AR13c,    10,  1, 150748,     48,2,19941016,1546, 40.4178, -50.3040, 4153,   1234.9,   3.4133,  34.8526,2,  34.8417,2,    281.0,3,    293.2,2,    10.28,2,    17.24,6,     1.13,2,    3.069,2,    1.693,2,    0.212,2,    4.534,2,   2157.4,2,   3.3225
  18HU19941012, AR13c,    10,  1, 150747,     47,2,19941016,1546, 40.4178, -50.3040, 4153,   1500.9,   3.9054,  34.9656,2,  34.9568,2,    272.9,2,    274.2,2,    11.70,2,    18.21,6,     1.18,2,    1.109,2,    0.553,2,    0.038,2,    2.096,2,   2158.8,2,   3.7862
  18HU19941012, AR13c,    10,  1, 150746,     46,2,19941016,1546, 40.4178, -50.3040, 4153,   1732.8,   3.7148,  34.9567,2,  34.9484,2,    277.7,2,    275.0,2,    11.98,2,    18.21,6,     1.16,2,    1.154,2,    0.688,2,    0.048,2,    2.073,2,   2158.2,2,   3.5767
  18HU19941012, AR13c,    10,  1, 150745,     45,2,19941016,1546, 40.4178, -50.3040, 4153,   2023.1,   3.5929,  34.9605,2,  34.9534,2,    279.5,3,    277.1,2,    13.32,2,    18.03,6,     1.16,2,    0.800,2, -999.000,9,    0.036,2,    1.640,2,   2159.1,2,   3.4292
  18HU19941012, AR13c,    10,  1, 150744,     44,2,19941016,1546, 40.4178, -50.3040, 4153,   2312.1,   3.3279,  34.9423,2,  34.9357,2,    282.9,3,    280.8,2,    13.63,2,    17.30,6,     1.16,2,    0.996,2, -999.000,9,    0.031,2,    1.833,2,   -999.0,9,   3.1406
  18HU19941012, AR13c,    10,  1, 150743,     43,2,19941016,1546, 40.4178, -50.3040, 4153,   2645.6,   3.1545,  34.9480,2,  34.9430,2,    282.9,3,    280.0,2,    14.99,2,    17.74,6,     1.12,2,    0.770,2,    0.503,2,    0.025,2,    1.610,2,   2158.1,2,   2.9371
  18HU19941012, AR13c,    10,  1, 150742,     42,2,19941016,1546, 40.4178, -50.3040, 4153,   2909.4,   2.9304,  34.9445,2,  34.9339,2,    285.6,2,    280.0,2,    16.62,2,    17.79,6,     1.11,2,    0.670,2,    0.484,2,    0.022,2,    1.387,2,   2161.1,2,   2.6905
  18HU19941012, AR13c,    10,  1, 150741,     41,2,19941016,1546, 40.4178, -50.3040, 4153,   3197.5,   2.6858,  34.9329,2,  34.9260,2,    286.7,3,    280.8,2,    17.62,2,    17.92,6,     1.10,2,    0.813,2,    0.528,2,    0.090,3,    1.700,2,   2160.3,2,   2.4212
  18HU19941012, AR13c,    10,  1, 150740,     40,2,19941016,1546, 40.4178, -50.3040, 4153,   3491.9,   2.4684,  34.9227,2,  34.9160,2,    289.0,3,    283.2,2,    18.95,2,    17.83,6,     1.10,2,    0.928,2,    0.449,2,    0.036,2,    1.873,2,   2162.2,2,   2.1776
  18HU19941012, AR13c,    10,  1, 150739,     39,2,19941016,1546, 40.4178, -50.3040, 4153,   3799.6,   2.3077,  34.9147,2,  34.9085,2,    289.5,3,    283.2,2,    20.37,2,    17.53,6,     1.10,2,    0.961,2,    0.595,2,    0.031,2,    2.214,2,   2165.3,2,   1.9873
  18HU19941012, AR13c,    10,  1, 150738,     38,2,19941016,1546, 40.4178, -50.3040, 4153,   4033.4,   2.2489,  34.9104,2,  34.9855,0,    288.6,3,    263.7,0,    15.22,3,    17.98,6,     1.10,2,    1.119,2,    0.654,2,    0.113,3,    1.838,2,   2160.4,2,   1.9037
  18HU19941012, AR13c,    10,  1, 150737,     37,2,19941016,1546, 40.4178, -50.3040, 4153,   4146.0,   2.2531,  34.9082,2,  34.9042,2,    287.7,3,    284.0,2,    20.76,2,    17.74,6,     1.12,2,    0.919,2,    0.530,2,    0.035,2,    1.694,2,   2167.2,2,   1.8949
  18HU19941012, AR13c,    11,  1, 150776,     76,2,19941016,2056, 40.0807, -50.2970, 5513,     11.5,  24.1215,  36.4555,2,  36.4465,2,   -999.0,9,    208.5,2,     1.98,2,     0.31,6,     0.09,2,    1.594,2,    0.947,2,    0.092,2,    1.843,2,   2031.0,2,  24.1191
  18HU19941012, AR13c,    11,  1, 150775,     75,2,19941016,2056, 40.0807, -50.2970, 5513,    104.5,  22.1485,  36.6919,2,  36.7072,2,    106.4,3,    197.5,2,     1.07,2,     1.92,6,     0.15,2,    1.810,2,    0.943,2,    0.122,2,    0.790,2,   2073.3,2,  22.1276
  18HU19941012, AR13c,    11,  1, 150774,     74,2,19941016,2056, 40.0807, -50.2970, 5513,    299.9,  17.8173,  36.4831,2,  36.4689,2,    191.8,3,    186.1,2,     1.09,2,     7.07,6,     0.38,2,    1.746,2,    0.917,2,    0.011,2,    0.375,2,   2113.0,2,  17.7655
  18HU19941012, AR13c,    11,  1, 150773,     73,2,19941016,2056, 40.0807, -50.2970, 5513,    606.8,  10.4619,  35.3589,2,  35.3484,2,    151.9,3,    153.9,2,    10.17,2,    22.79,6,     1.33,2,    0.753,2,    0.387,2,    0.000,2,    0.324,2,   2177.6,2,  10.3877
  18HU19941012, AR13c,    11,  1, 150772,     72,2,19941016,2056, 40.0807, -50.2970, 5513,    853.1,   4.6561,  34.7781,2,  34.7885,0,    229.6,3,    233.0,2,    11.24,2,    20.07,6,     1.27,2,    2.298,3,    1.007,2,    0.077,2,    3.137,3,   2166.8,2,   4.5878
  18HU19941012, AR13c,    11,  1, 150771,     71,2,19941016,2056, 40.0807, -50.2970, 5513,    994.4,   5.2827,  35.0470,2,  35.0374,2,    230.1,2,    240.1,2,    11.13,2,    19.94,6,     1.22,2,    1.404,2,    0.721,2,    0.026,2,    2.071,2,   2170.0,2,   5.1969
  18HU19941012, AR13c,    11,  1, 150770,     70,2,19941016,2056, 40.0807, -50.2970, 5513,   1393.1,   4.1872,  34.9875,2,  35.1419,0,    259.5,3,    243.4,2,    10.16,2,    17.94,6,     1.11,2,    1.301,2,    0.664,2,    0.000,2,    2.059,2,   2156.8,2,   4.0746
  18HU19941012, AR13c,    11,  1, 150769,     69,2,19941016,2056, 40.0807, -50.2970, 5513,   1809.6,   3.6451,  34.9426,2,  34.9414,2,    273.1,3,    280.2,2,    11.20,2,    17.98,6,     1.12,2,    1.315,2,    0.674,2,    0.015,2,    2.606,2,   2155.7,2,   3.5009
  18HU19941012, AR13c,    11,  1, 150768,     68,2,19941016,2056, 40.0807, -50.2970, 5513,   2011.6,   3.5632,  34.9477,2,  34.9370,2,    275.0,2,    278.7,2,    12.11,2,    17.89,6,     1.12,2,    1.165,2,    0.550,2,    0.045,2,    2.444,2,   2155.5,2,   3.4011
  18HU19941012, AR13c,    11,  1, 150767,     67,2,19941016,2056, 40.0807, -50.2970, 5513,   2308.8,   3.5016,  34.9734,2,  34.9648,2,    272.6,2,    273.9,2,    14.38,2,    18.61,6,     1.17,2,    0.462,2,    0.314,2,    0.000,2,    1.292,2,   2158.2,2,   3.3115
  18HU19941012, AR13c,    11,  1, 150766,     66,2,19941016,2056, 40.0807, -50.2970, 5513,   2507.8,   3.3589,  34.9693,2,  35.0106,0,    273.7,3,    265.4,2,    13.72,2,    18.28,6,     1.14,2,    0.695,2,    0.399,2,    0.015,2,    1.468,2,   2159.7,2,   3.1515
  18HU19941012, AR13c,    11,  1, 150765,     65,2,19941016,2056, 40.0807, -50.2970, 5513,   2821.8,   3.0795,  34.9592,2,  34.9478,2,    276.2,2,    273.9,2,    17.70,2,    18.62,6,     1.18,2,    0.337,2,    0.321,2,    0.000,2,    0.957,2,   2160.6,2,   2.8455
  18HU19941012, AR13c,    11,  1, 150764,     64,2,19941016,2056, 40.0807, -50.2970, 5513,   3114.4,   2.8282,  34.9443,2,  35.0842,0,    279.4,3,    266.1,2,    16.92,2,    17.36,6,     1.10,2,    0.457,2,    0.393,2,    0.000,2,    0.985,2,   2154.3,2,   2.5691
  18HU19941012, AR13c,    11,  1, 150763,     63,2,19941016,2056, 40.0807, -50.2970, 5513,   3429.9,   2.5865,  34.9320,2,  34.9276,2,    280.9,3,    276.3,2,    21.22,2,    18.90,6,     1.19,2,    0.346,2,    0.216,2,    0.011,2,    0.927,2,   2164.3,2,   2.2994
  18HU19941012, AR13c,    11,  1, 150762,     62,2,19941016,2056, 40.0807, -50.2970, 5513,   3803.7,   2.3984,  34.9196,2,  34.9209,2,    281.3,3,    276.5,2,    22.05,2,    18.83,6,     1.21,2,    0.348,2,    0.230,2,    0.000,2,    0.944,2,   2167.1,2,   2.0750
  18HU19941012, AR13c,    11,  1, 150761,     61,2,19941016,2056, 40.0807, -50.2970, 5513,   4292.6,   2.2785,  34.9068,2,  34.8975,2,    279.1,2,    273.7,2,    28.82,2,    19.26,6,     1.25,2,    0.347,2,    0.231,2,    0.016,2,    0.904,2,   2176.4,2,   1.9026
  18HU19941012, AR13c,    11,  1, 150760,     60,2,19941016,2056, 40.0807, -50.2970, 5513,   4611.4,   2.2623,  34.8996,2,  34.8959,2,    276.8,3,    272.6,2,    31.20,2,    19.51,6,     1.27,2,    0.340,2,    0.238,2,    0.013,2,    0.843,2,   2177.4,2,   1.8488
  18HU19941012, AR13c,    11,  1, 150759,     59,2,19941016,2056, 40.0807, -50.2970, 5513,   5167.0,   2.2617,  34.8912,2,  34.8882,2,    273.9,3,    268.3,2,    34.81,2,    20.73,6,     1.35,2,    0.253,2,    0.125,2,    0.000,2,    0.614,2,   2184.7,2,   1.7790
  18HU19941012, AR13c,    11,  1, 150758,     58,2,19941016,2056, 40.0807, -50.2970, 5513,   5401.5,   2.2589,  34.8871,2,-999.0000,9,    273.0,3,   -999.0,9,  -999.00,9,    19.70,6,  -999.00,9,    0.419,2,    0.290,2,    0.011,2,    0.739,2,   2176.4,2,   1.7460
  18HU19941012, AR13c,    11,  1, 150757,     57,2,19941016,2056, 40.0807, -50.2970, 5513,   5507.4,   2.2739,  34.8876,2,  34.8798,2,    272.4,2,    267.1,2,    37.13,2,    20.88,6,     1.35,2,    0.193,2,    0.275,2,    0.040,2,    0.520,2,   2188.8,2,   1.7466
  18HU19941012, AR13c,    12,  1, 150796,     96,2,19941017,0307, 39.6633, -50.2990, 5509,     11.2,  21.6717,  35.4996,2,  35.1538,2,    142.3,3,    225.6,2,     0.87,2,     0.00,6,     0.08,2,    1.889,2,    1.099,2,    0.088,2,    2.456,2,   -999.0,9,  21.6695
  18HU19941012, AR13c,    12,  1, 150795,     95,2,19941017,0307, 39.6633, -50.2990, 5509,    104.8,  19.6145,  36.0373,2,  36.0339,2,    189.3,3,    201.8,2,     1.74,2,     2.47,6,     0.22,2,    1.880,2,    1.094,2,    0.083,2,    0.868,2,   -999.0,9,  19.5953
  18HU19941012, AR13c,    12,  1, 150794,     94,2,19941017,0307, 39.6633, -50.2990, 5509,    199.0,  15.2845,  35.8352,2,  35.8291,2,    184.0,3,   -999.0,9,     3.46,2,     9.29,6,     0.51,2,    2.012,2,    1.213,2,    0.052,2,    0.636,2,   -999.0,9,  15.2538
  18HU19941012, AR13c,    12,  1, 150793,     93,2,19941017,0307, 39.6633, -50.2990, 5509,    308.7,  13.5180,  35.6885,2,  36.4687,0,   -999.0,9,    192.9,2,     5.25,2,    12.97,6,     0.76,2,    1.822,2,    1.089,2,    0.047,2,    0.734,2,   -999.0,9,  13.4740
  18HU19941012, AR13c,    12,  1, 150792,     92,2,19941017,0307, 39.6633, -50.2990, 5509,    440.1,  10.9410,  35.3645,2,  35.3565,2,    156.9,2,    162.9,2,     9.98,2,    19.85,6,     1.18,2,    1.175,2,    0.742,2,    0.031,2,    0.767,2,   -999.0,9,  10.8861
  18HU19941012, AR13c,    12,  1, 150791,     91,2,19941017,0307, 39.6633, -50.2990, 5509,    664.5,   7.2230,  35.0454,2,  35.0331,2,    185.5,2,    183.4,2,    13.81,2,    23.32,6,     1.40,2,    1.060,2,    0.514,2,    0.030,2,    1.164,2,   -999.0,9,   7.1575
  18HU19941012, AR13c,    12,  1, 150790,     90,2,19941017,0307, 39.6633, -50.2990, 5509,    908.8,   5.2665,  35.0477,2,  35.0451,2,    231.4,3,    236.1,2,    12.05,2,    20.72,6,     1.22,2,    1.333,2,    0.588,2,    0.027,2,    1.800,2,   -999.0,9,   5.1887
  18HU19941012, AR13c,    12,  1, 150789,     89,2,19941017,0307, 39.6633, -50.2990, 5509,   1308.5,   4.2969,  35.0023,2,  34.9919,2,    257.5,2,    264.0,2,    11.43,2,    18.91,6,     1.15,2,    1.175,2,    0.691,2,    0.024,2,    2.006,2,   -999.0,9,   4.1909
  18HU19941012, AR13c,    12,  1, 150788,     88,2,19941017,0307, 39.6633, -50.2990, 5509,   1704.7,   3.8011,  34.9649,2,  34.9547,2,    270.0,2,    273.9,2,    12.01,2,    18.82,2,     1.14,2,    1.173,2,    0.672,2,    0.024,2,    2.607,2,   -999.0,9,   3.6645
  18HU19941012, AR13c,    12,  1, 150787,     87,2,19941017,0307, 39.6633, -50.2990, 5509,   2102.0,   3.5475,  34.9584,2,  34.9516,2,    273.9,3,    276.8,2,    13.28,2,    18.43,6,     1.13,2,    0.880,2,    0.408,2,    0.030,2,    1.822,2,   -999.0,9,   3.3770
  18HU19941012, AR13c,    12,  1, 150786,     86,2,19941017,0307, 39.6633, -50.2990, 5509,   2433.7,   3.4266,  34.9714,2,  34.9618,2,    274.4,2,    270.7,2,    14.78,2,    18.52,6,     1.14,2,    0.508,2,    0.337,2,    0.000,2,    1.222,2,   -999.0,9,   3.2254
  18HU19941012, AR13c,    12,  1, 150785,     85,2,19941017,0307, 39.6633, -50.2990, 5509,   2842.5,   3.0894,  34.9578,2,  34.9463,2,    275.8,2,    275.8,2,    17.57,2,    18.63,6,     1.15,2,    0.346,2,    0.177,2,    0.000,2,    0.896,2,   -999.0,9,   2.8531
  18HU19941012, AR13c,    12,  1, 150784,     84,2,19941017,0307, 39.6633, -50.2990, 5509,   3259.0,   2.7856,  34.9424,2,  34.9569,2,    278.9,3,    134.2,4,    19.51,2,    18.38,6,     1.14,2,    0.360,2,    0.196,2,    0.000,2,    0.973,2,   -999.0,9,   2.5120
  18HU19941012, AR13c,    12,  1, 150783,     83,2,19941017,0307, 39.6633, -50.2990, 5509,   3657.0,   2.4851,  34.9253,2,  34.9253,2,   -999.0,9,    277.3,2,    23.23,2,    18.99,6,     1.18,2,    0.331,2,    0.232,2,    0.006,2,    0.920,2,   -999.0,9,   2.1757
  18HU19941012, AR13c,    12,  1, 150782,     82,2,19941017,0307, 39.6633, -50.2990, 5509,   4060.8,   2.3393,  34.9121,2,  34.9180,2,    280.1,3,    274.9,2,    23.60,2,    19.24,6,     1.19,2,    0.384,2,    0.181,2,    0.000,2,    0.973,2,   -999.0,9,   1.9884
  18HU19941012, AR13c,    12,  1, 150781,     81,2,19941017,0307, 39.6633, -50.2990, 5509,   4479.2,   2.2752,  34.9033,2,  34.8991,2,    277.9,3,    273.5,2,    29.38,2,    19.99,6,     1.24,2,    0.345,2,    0.238,2,    0.000,2,    0.808,2,   -999.0,9,   1.8772
  18HU19941012, AR13c,    12,  1, 150780,     80,2,19941017,0307, 39.6633, -50.2990, 5509,   4894.4,   2.2725,  34.8975,2,  34.8916,2,    275.2,3,    273.5,2,    32.49,2,    20.41,6,     1.25,2,    0.274,2,    0.170,2,    0.000,2,    0.865,2,   -999.0,9,   1.8239
  18HU19941012, AR13c,    12,  1, 150779,     79,2,19941017,0307, 39.6633, -50.2990, 5509,   5199.5,   2.2806,  34.8943,2,  34.8861,2,    273.7,2,    271.7,2,    35.33,2,    20.66,6,     1.28,2,    0.248,2,    0.140,2,    0.000,2,    0.688,2,   -999.0,9,   1.7931
  18HU19941012, AR13c,    12,  1, 150778,     78,2,19941017,0307, 39.6633, -50.2990, 5509,   5405.9,   2.2575,  34.8865,2,-999.0000,9,    273.1,3,   -999.0,9,  -999.00,9,    19.23,6,     1.08,3, -999.000,9, -999.000,9, -999.000,9, -999.000,9,   -999.0,9,   1.7441
  18HU19941012, AR13c,    12,  1, 150777,     77,2,19941017,0307, 39.6633, -50.2990, 5509,   5503.4,   2.2723,  34.8866,2,  34.8794,2,    272.6,3,    266.3,2,    41.75,2,    21.54,6,     1.33,2,    0.121,2,    0.160,2,    0.000,2,    0.686,2,   -999.0,9,   1.7456