BOTTLE,20140120PRINUNIVRMK
EXPOCODE,SECT_ID,STNNBR,CASTNO,SAMPNO,BTLNBR,BTLNBR_FLAG_W,DATE,TIME,LATITUDE,LONGITUDE,DEPTH,CTDPRS,CTDTMP,CTDSAL,CTDSAL_FLAG_W,SALNTY,SALNTY_FLAG_W,CTDOXY,CTDOXY_FLAG_W,OXYGEN,OXYGEN_FLAG_W,SILCAT,SILCAT_FLAG_W,NITRAT,NITRAT_FLAG_W,PHSPHT,PHSPHT_FLAG_W,CFC-11,CFC-11_FLAG_W,CFC-12,CFC-12_FLAG_W,CFC113,CFC113_FLAG_W,CCL4,CCL4_FLAG_W,TCARBN,TCARBN_FLAG_W,THETA
,,,,,,,,,,,METERS,DBAR,ITS-90,PSS-78,,PSS-78,,UMOL/KG,,UMOL/KG,,UMOL/KG,,UMOL/KG,,UMOL/KG,,PMOL/KG,,PMOL/KG,,PMOL/KG,,PMOL/KG,,UMOL/KG,,DEG C
  18HU19941012, AR13c,    99,  1, 152100,      0,2,19941103,0136, 45.4562, -40.4300, 4671,     96.7,  18.3027,  36.1652,2,  36.1315,2,    204.9,3,    218.4,2,     1.23,2,     1.83,6,     0.16,2,    2.070,2,    1.060,2,    0.160,2,    1.683,2,   2069.4,2,  18.2858
  18HU19941012, AR13c,    99,  1, 152099,     99,2,19941103,0136, 45.4562, -40.4300, 4671,    294.4,  15.1113,  36.0273,2,  36.0400,2,    204.7,3,    220.3,2,     2.94,2,     7.21,6,     0.43,2,    2.141,2,    1.134,2,    0.103,2,    1.088,2,   2106.4,2,  15.0660
  18HU19941012, AR13c,    99,  1, 152098,     98,2,19941103,0136, 45.4562, -40.4300, 4671,    399.7,  13.4092,  35.7427,2,  35.7552,2,    200.7,3,    198.6,2,     5.13,2,    11.90,6,     0.71,2,    1.868,2,    0.989,2,    0.058,2,    0.952,2,   2129.9,2,  13.3523
  18HU19941012, AR13c,    99,  1, 152097,     97,2,19941103,0136, 45.4562, -40.4300, 4671,    613.5,  10.3185,  35.2678,2,  35.2678,2,    202.1,3,    199.6,2,     8.15,2,    16.15,6,     0.98,2,    1.938,2,    0.926,2,    0.121,2,    1.334,2,   2149.4,2,  10.2442
  18HU19941012, AR13c,    99,  1, 152096,     96,2,19941103,0136, 45.4562, -40.4300, 4671,    755.3,   8.5256,  35.1201,2,  35.1270,2,    185.6,3,    179.2,2,    12.00,2,    20.88,6,     1.29,2,    1.232,2,    0.545,2,    0.092,2,    1.037,2,   2171.6,2,   8.4434
  18HU19941012, AR13c,    99,  1, 152095,     95,2,19941103,0136, 45.4562, -40.4300, 4671,   1015.2,   5.7324,  35.0399,2,  35.0427,2,    226.1,3,    226.8,2,    12.21,2,    19.27,6,     1.19,2, -999.000,9, -999.000,9, -999.000,9, -999.000,9,   2171.4,2,   5.6412
  18HU19941012, AR13c,    99,  1, 152094,     94,2,19941103,0136, 45.4562, -40.4300, 4671,   1048.6,   5.8570,  35.0798,2,  35.0897,2,    224.9,2,    226.9,2,    12.00,2,    18.75,6,     1.16,2,    1.389,2,    0.700,2,    0.119,2,    1.808,2,   2171.3,2,   5.7615
  18HU19941012, AR13c,    99,  1, 152093,     93,2,19941103,0136, 45.4562, -40.4300, 4671,   1400.6,   4.2875,  34.9583,2,  34.9649,2,    264.7,2,    266.8,2,    11.30,2,    17.71,6,     1.09,2,    1.870,2,    0.988,2,    0.096,2,    2.957,2,   2158.8,2,   4.1732
  18HU19941012, AR13c,    99,  1, 152092,     92,2,19941103,0136, 45.4562, -40.4300, 4671,   1716.9,   3.7197,  34.9121,2,  34.9187,2,    279.6,2,    281.1,2,    11.06,2,    17.46,6,     1.07,2,    1.877,2,    0.701,2,    0.107,2,    2.727,2,   2154.9,2,   3.5831
  18HU19941012, AR13c,    99,  1, 152091,     91,2,19941103,0136, 45.4562, -40.4300, 4671,   2010.1,   3.4546,  34.8925,2,  34.8986,2,    285.1,2,    286.9,2,    11.33,2,    16.71,6,     1.06,2,    2.004,2,    0.930,2,    0.149,2,    3.449,2,   2153.4,2,   3.2944
  18HU19941012, AR13c,    99,  1, 152090,     90,2,19941103,0136, 45.4562, -40.4300, 4671,   2311.9,   3.3006,  34.8833,2,  34.8911,2,    289.3,2,    289.7,2,    11.23,2,    16.90,6,     1.04,2,    2.003,2,    0.992,2,    0.078,2,    3.480,2,   2149.5,2,   3.1139
  18HU19941012, AR13c,    99,  1, 152089,     89,2,19941103,0136, 45.4562, -40.4300, 4671,   2498.6,   3.3032,  34.8921,2,  34.8996,2,    288.3,2,    288.5,2,    11.59,2,    16.81,6,     1.05,2,    1.750,2,    0.693,2,    0.084,2,    3.051,2,   2153.0,2,   3.0980
  18HU19941012, AR13c,    99,  1, 152088,     88,2,19941103,0136, 45.4562, -40.4300, 4671,   2709.5,   3.2897,  34.9107,2,  34.9188,2,    283.2,2,    284.1,2,    12.77,2,    16.79,6,     1.06,2,    1.318,2,    0.538,2,    0.115,2,    2.520,2,   2154.7,2,   3.0632
  18HU19941012, AR13c,    99,  1, 152087,     87,2,19941103,0136, 45.4562, -40.4300, 4671,   3017.6,   3.1506,  34.9181,2,  34.9297,2,    283.6,3,    280.3,2,    13.13,2,    16.50,6,     1.03,2,    1.129,2,    0.576,2,    0.058,2,    2.225,2,   2152.3,2,   2.8947
  18HU19941012, AR13c,    99,  1, 152086,     86,2,19941103,0136, 45.4562, -40.4300, 4671,   3320.0,   2.9971,  34.9220,2,  34.9283,2,    282.9,2,    280.6,2,    15.08,2,    17.02,6,     1.05,2,    0.865,2,    0.373,2,    0.056,2,    1.774,2,   2155.7,2,   2.7121
  18HU19941012, AR13c,    99,  1, 152085,     85,2,19941103,0136, 45.4562, -40.4300, 4671,   3601.1,   2.6912,  34.9136,2,  34.9210,2,    283.2,2,    281.9,2,    17.04,2,    17.01,6,     1.06,2, -999.000,9, -999.000,9, -999.000,9, -999.000,9,   2159.4,2,   2.3828
  18HU19941012, AR13c,    99,  1, 152084,     84,2,19941103,0136, 45.4562, -40.4300, 4671,   3907.7,   2.5289,  34.9060,2,  34.9119,2,    284.1,2,    282.5,2,    18.25,2,    16.47,6,     1.04,2,    0.877,2,    0.449,2,    0.034,2,    1.862,2,   2159.4,2,   2.1903
  18HU19941012, AR13c,    99,  1, 152083,     83,2,19941103,0136, 45.4562, -40.4300, 4671,   4195.7,   2.3794,  34.8982,2,  34.9121,2,    284.5,3,    282.3,2,    19.26,2,    16.41,6,     1.04,2,    1.013,2,    0.442,2,    0.069,2,    1.922,2,   2158.4,2,   2.0118
  18HU19941012, AR13c,    99,  1, 152082,     82,2,19941103,0136, 45.4562, -40.4300, 4671,   4541.5,   2.2999,  34.8924,2,  34.8975,2,    285.8,2,    285.7,2,    19.37,2,    16.63,6,     1.03,2,    1.189,2,    0.659,2,    0.053,2,    2.288,2,   2159.7,2,   1.8937
  18HU19941012, AR13c,    99,  1, 152081,     81,2,19941103,0136, 45.4562, -40.4300, 4671,   4666.8,   2.2639,  34.8903,2,  34.8971,2,    287.1,2,    287.2,2,    17.31,2,    15.76,6,     0.99,2,    1.504,2,    0.829,2,    0.076,2,    2.681,2,   2160.1,2,   1.8436
  18HU19941012, AR13c,   100,  1, 152120,     20,2,19941104,0615, 45.0495, -40.0490, 3899,     11.4,  16.5904,  35.3355,2,  35.3391,2,    192.8,2,    244.6,2,     0.81,2,     0.00,6,     0.11,2,    2.524,2,    1.322,2,    0.119,2,    2.883,2,   2046.7,2,  16.5886
  18HU19941012, AR13c,   100,  1, 152119,     19,2,19941104,0615, 45.0495, -40.0490, 3899,    104.2,  16.2640,  36.0713,2,  36.0832,2,    200.9,3,    206.4,2,     2.09,2,     5.65,6,     0.36,2,    2.236,2,    1.049,2,    0.064,2,    0.856,2,   2103.5,2,  16.2472
  18HU19941012, AR13c,   100,  1, 152118,     18,2,19941104,0615, 45.0495, -40.0490, 3899,    194.3,  14.5004,  35.8595,2,  35.8662,2,    209.7,3,    216.1,2,     3.29,2,     8.31,6,     0.50,2,    2.324,2,    1.199,2,    0.071,2,    0.988,2,   2112.5,2,  14.4714
  18HU19941012, AR13c,   100,  1, 152117,     17,2,19941104,0615, 45.0495, -40.0490, 3899,    404.1,  11.5826,  35.4391,2,  35.4456,2,    223.9,3,    223.5,2,     5.53,2,    12.07,6,     0.75,2,    2.554,2,    1.362,2,    0.079,2,    1.521,2,   2129.1,2,  11.5304
  18HU19941012, AR13c,   100,  1, 152116,     16,2,19941104,0615, 45.0495, -40.0490, 3899,    546.1,   9.6471,  35.1975,2,  35.2061,2,    206.8,3,    188.7,2,     9.74,2,    18.06,6,     1.12,2,    1.763,2,    0.799,2,    0.057,2,    1.299,2,   2161.0,2,   9.5838
  18HU19941012, AR13c,   100,  1, 152115,     15,2,19941104,0615, 45.0495, -40.0490, 3899,    757.3,   5.2870,  34.7919,2,  34.7936,2,    218.6,3,    223.7,2,    12.14,2,    18.82,6,     1.22,2,    2.405,2,    0.978,2,    0.096,2,    2.625,2,   2167.8,2,   5.2232
  18HU19941012, AR13c,   100,  1, 152114,     14,2,19941104,0615, 45.0495, -40.0490, 3899,    913.8,   5.2134,  34.9816,2,  34.9876,2,    235.0,2,    235.9,2,    11.88,2,    18.69,6,     1.17,2,    1.866,2,    0.855,2,    0.069,2,    2.347,2,   2169.9,2,   5.1356
  18HU19941012, AR13c,   100,  1, 152113,     13,2,19941104,0615, 45.0495, -40.0490, 3899,   1016.3,   4.8314,  34.9768,2,  34.9447,2,    247.6,3,    248.4,2,    11.63,2,    18.10,6,     1.16,2,    2.077,2,    0.910,2,    0.074,2,    2.634,2,   2166.6,2,   4.7472
  18HU19941012, AR13c,   100,  1, 152112,     12,2,19941104,0615, 45.0495, -40.0490, 3899,   1195.7,   4.3485,  34.9586,2,  34.9664,2,    261.5,2,    264.3,2,    11.20,2,    17.70,6,     1.11,2,    2.129,2,    0.945,2,    0.065,2,    2.873,2,   2162.7,2,   4.2522
  18HU19941012, AR13c,   100,  1, 152111,     11,2,19941104,0615, 45.0495, -40.0490, 3899,   1411.9,   3.9230,  34.9292,2,  34.9292,2,   -999.0,9,    276.6,2,    11.05,2,    17.59,2,     1.08,2,    2.121,2,    0.937,2,    0.073,2,    3.024,2,   2158.3,2,   3.8117
  18HU19941012, AR13c,   100,  1, 152110,     10,2,19941104,0615, 45.0495, -40.0490, 3899,   1595.6,   3.6128,  34.9012,2,  34.9060,2,    282.5,2,    283.2,2,    11.06,2,    17.29,6,     1.07,2,    2.249,2,    0.981,2,    0.082,2,    3.346,2,   2155.6,2,   3.4886
  18HU19941012, AR13c,   100,  1, 152109,      9,2,19941104,0615, 45.0495, -40.0490, 3899,   1811.4,   3.4494,  34.8911,2,  34.8991,2,    287.0,2,    286.7,2,    11.09,2,    16.86,6,     1.07,2,    2.170,2,    0.993,2,    0.082,2,    3.304,2,   2155.4,2,   3.3078
  18HU19941012, AR13c,   100,  1, 152108,      8,2,19941104,0615, 45.0495, -40.0490, 3899,   2000.1,   3.2402,  34.8674,2,  34.8799,2,    287.3,3,    293.0,2,    10.68,2,    16.56,6,     1.05,2,    2.696,2,    1.179,2,    0.098,2,    3.732,2,   2154.4,2,   3.0842
  18HU19941012, AR13c,   100,  1, 152107,      7,2,19941104,0615, 45.0495, -40.0490, 3899,   2324.0,   3.2309,  34.8894,2,  34.8657,2,    286.6,3,    288.3,2,    11.55,2,    16.67,6,     1.05,2,    2.103,2,    1.008,2,    0.079,2,    3.283,2,   2153.4,2,   3.0443
  18HU19941012, AR13c,   100,  1, 152106,      6,2,19941104,0615, 45.0495, -40.0490, 3899,   2704.9,   3.1921,  34.9185,2,  34.9185,2,   -999.0,9,    282.0,2,    13.20,2,    16.76,6,     1.06,2,    1.213,2,    0.487,2,    0.020,2,    2.262,2,   2154.3,2,   2.9680
  18HU19941012, AR13c,   100,  1, 152105,      5,2,19941104,0615, 45.0495, -40.0490, 3899,   2976.1,   3.0343,  34.9231,2,  34.9334,2,    280.9,3,    279.9,2,    14.00,2,    16.73,6,     1.06,2,    1.036,2,    0.407,2,    0.031,2,    1.941,2,   2155.5,2,   2.7853
  18HU19941012, AR13c,   100,  1, 152104,      4,2,19941104,0615, 45.0495, -40.0490, 3899,   3252.4,   2.8356,  34.9191,2,  34.9263,2,    281.6,2,    282.0,2,    15.79,2,    16.85,6,     1.06,2,    0.867,2,    0.318,2,    0.000,2,    1.688,2,   2157.2,2,   2.5617
  18HU19941012, AR13c,   100,  1, 152103,      3,2,19941104,0615, 45.0495, -40.0490, 3899,   3509.5,   2.5988,  34.9108,2,  34.9191,2,    281.9,2,    281.5,2,    17.77,2,    16.93,6,     1.07,2,    0.916,2,    0.322,2,    0.020,2,    1.805,2,   2158.6,2,   2.3028
  18HU19941012, AR13c,   100,  1, 152102,      2,2,19941104,0615, 45.0495, -40.0490, 3899,   3757.7,   2.4656,  34.9043,2,  34.9122,2,    282.4,2,    281.9,2,    18.91,2,    16.75,6,     1.08,2,    0.912,2,    0.340,2,    0.018,2,    1.832,2,   2161.3,2,   2.1456
  18HU19941012, AR13c,   100,  1, 152101,      1,2,19941104,0615, 45.0495, -40.0490, 3899,   3893.2,   2.3982,  34.9003,2,  34.9081,2,    282.8,2,    282.6,2,    19.33,2,    16.60,6,     1.05,2,    1.001,2,    0.368,2,    0.016,2,    1.961,2,   2163.5,2,   2.0648
  18HU19941012, AR13c,   101,  1, 152140,     40,2,19941104,1418, 44.6377, -39.6620, 4201,     94.6,  15.3652,  35.9087,2,  35.9078,2,    216.3,3,    211.2,2,     2.13,2,     6.44,6,     0.42,2,    2.196,2,    1.227,2,    0.077,2,    1.043,2,   2103.9,2,  15.3506
  18HU19941012, AR13c,   101,  1, 152139,     39,2,19941104,1418, 44.6377, -39.6620, 4201,    246.1,  12.6728,  35.6171,2,  35.6242,2,    212.0,2,    215.9,2,     4.65,2,    11.25,6,     0.71,2,    2.138,2,    1.152,2,    0.100,2,    1.257,2,   2127.4,2,  12.6392
  18HU19941012, AR13c,   101,  1, 152138,     38,2,19941104,1418, 44.6377, -39.6620, 4201,    496.3,   8.9534,  35.1245,2,  35.1369,2,    178.9,3,    180.3,2,    11.20,2,    20.68,6,     1.29,2,    1.328,2,    0.729,2,    0.047,2,    1.122,2,   2169.3,2,   8.8986
  18HU19941012, AR13c,   101,  1, 152137,     37,2,19941104,1418, 44.6377, -39.6620, 4201,    602.1,   7.9408,  35.1105,2,  35.1201,2,    192.1,3,    191.0,2,    11.57,2,    20.64,6,     1.28,2,    1.281,2,    0.664,2,    0.028,2,    1.224,2,   2172.2,2,   7.8784
  18HU19941012, AR13c,   101,  1, 152136,     36,2,19941104,1418, 44.6377, -39.6620, 4201,    681.8,   6.5746,  35.0097,2,  34.9918,2,    206.5,3,    209.0,2,    11.75,2,    20.42,6,     1.30,2,    1.554,2,    0.791,2,    0.079,2,    1.858,2,   2171.0,2,   6.5107
  18HU19941012, AR13c,   101,  1, 152135,     35,2,19941104,1418, 44.6377, -39.6620, 4201,    854.3,   5.2815,  35.0075,2,  35.0132,2,    234.2,2,    239.0,2,    11.39,2,    19.32,6,     1.22,2,    1.638,2,    0.800,2,    0.027,2,    2.319,2,   2168.1,2,   5.2087
  18HU19941012, AR13c,   101,  1, 152134,     34,2,19941104,1418, 44.6377, -39.6620, 4201,   1110.0,   4.3164,  34.9553,2,  34.9621,2,    264.2,2,    266.1,2,    11.07,2,    18.39,6,     1.15,2,    1.903,2,    0.976,2,    0.088,2,    2.968,2,   2162.0,2,   4.2280
  18HU19941012, AR13c,   101,  1, 152133,     33,2,19941104,1418, 44.6377, -39.6620, 4201,   1305.6,   3.8336,  34.9160,2,  34.9233,2,    276.2,2,    278.2,2,    11.02,2,    17.98,6,     1.14,2,    1.942,2,    0.893,2,    0.053,2,    3.315,2,   2156.2,2,   3.7326
  18HU19941012, AR13c,   101,  1, 152132,     32,2,19941104,1418, 44.6377, -39.6620, 4201,   1510.1,   3.5141,  34.8891,2,  34.8963,2,    286.2,2,    289.5,2,    10.87,2,    17.33,6,     1.11,2,    2.086,2,    1.037,2,    0.101,2,    3.549,2,   2153.9,2,   3.3987
  18HU19941012, AR13c,   101,  1, 152131,     31,2,19941104,1418, 44.6377, -39.6620, 4201,   1754.1,   3.3496,  34.8798,2,  34.8873,2,    290.4,2,    290.1,2,    10.63,2,    16.88,6,     1.11,2,    2.120,2,    1.001,2,    0.084,2,    3.608,2,   2150.3,2,   3.2145
  18HU19941012, AR13c,   101,  1, 152130,     30,2,19941104,1418, 44.6377, -39.6620, 4201,   1999.6,   3.2384,  34.8757,2,  34.8839,2,    292.9,2,    292.5,2,    10.79,2,    17.04,6,     1.10,2,    2.157,2,    1.168,2,    0.057,2,    3.709,2,   2152.8,2,   3.0825
  18HU19941012, AR13c,   101,  1, 152129,     29,2,19941104,1418, 44.6377, -39.6620, 4201,   2245.1,   3.2194,  34.8900,2,  34.8971,2,    291.0,2,    290.3,2,    11.65,2,    17.30,6,     1.12,2,    1.862,2,    0.954,2,    0.080,2,    3.185,2,   2152.1,2,   3.0405
  18HU19941012, AR13c,   101,  1, 152128,     28,2,19941104,1418, 44.6377, -39.6620, 4201,   2470.2,   3.2224,  34.9119,2,  34.9193,2,    285.6,2,    285.7,2,    12.80,2,    17.32,6,     1.14,2,    1.260,2,    0.678,2,    0.034,2,    2.481,2,   2154.0,2,   3.0214
  18HU19941012, AR13c,   101,  1, 152127,     27,2,19941104,1418, 44.6377, -39.6620, 4201,   2698.9,   3.1197,  34.9242,2,  34.8582,2,    281.7,3,    281.6,2,    13.87,2,    17.32,6,     1.12,2,    0.891,2,    0.488,2,    0.018,2,    1.942,2,   2155.1,2,   2.8979
  18HU19941012, AR13c,   101,  1, 152126,     26,2,19941104,1418, 44.6377, -39.6620, 4201,   2996.6,   2.9130,  34.9234,2,  34.9302,2,    281.2,2,    278.9,2,    15.78,2,    17.43,6,     1.12,2,    0.681,2,    0.376,2,    0.026,2,    1.545,2,   2156.3,2,   2.6645
  18HU19941012, AR13c,   101,  1, 152125,     25,2,19941104,1418, 44.6377, -39.6620, 4201,   3196.2,   2.6726,  34.9159,2,  34.9235,2,    280.8,2,    283.9,2,    18.42,2,    17.68,6,     1.16,2,    0.653,2,    0.283,2,    0.019,2,    1.488,2,   2159.8,2,   2.4085
  18HU19941012, AR13c,   101,  1, 152124,     24,2,19941104,1418, 44.6377, -39.6620, 4201,   3494.9,   2.4395,  34.9050,2,  34.9103,2,    280.5,2,    280.6,2,    21.62,2,    17.87,6,     1.16,2,    0.615,2,    0.326,2,    0.000,2,    1.423,2,   2162.7,2,   2.1491
  18HU19941012, AR13c,   101,  1, 152123,     23,2,19941104,1418, 44.6377, -39.6620, 4201,   3753.0,   2.3431,  34.8989,2,  34.9066,2,    281.4,2,    281.0,2,    22.11,2,    17.41,6,     1.16,2,    0.713,2,    0.358,2,    0.017,2,    1.540,2,   2162.5,2,   2.0269
  18HU19941012, AR13c,   101,  1, 152122,     22,2,19941104,1418, 44.6377, -39.6620, 4201,   3995.2,   2.3128,  34.8951,2,  34.9015,2,    280.7,2,    280.6,2,    23.26,2,    17.65,6,     1.14,2,    0.674,2,    0.413,2,    0.000,2,    1.492,2,   2165.9,2,   1.9702
  18HU19941012, AR13c,   101,  1, 152121,     21,2,19941104,1418, 44.6377, -39.6620, 4201,   4196.1,   2.2994,  34.8932,2,  34.8932,2,   -999.0,9,    280.9,2,    22.91,2,    17.23,6,     1.10,2,    0.757,2,    0.375,2,    0.024,2,    1.598,2,   2166.4,2,   1.9341