BOTTLE,20140120PRINUNIVRMK
EXPOCODE,SECT_ID,STNNBR,CASTNO,SAMPNO,BTLNBR,BTLNBR_FLAG_W,DATE,TIME,LATITUDE,LONGITUDE,DEPTH,CTDPRS,CTDTMP,CTDSAL,CTDSAL_FLAG_W,SALNTY,SALNTY_FLAG_W,CTDOXY,CTDOXY_FLAG_W,OXYGEN,OXYGEN_FLAG_W,SILCAT,SILCAT_FLAG_W,NITRAT,NITRAT_FLAG_W,PHSPHT,PHSPHT_FLAG_W,CFC-11,CFC-11_FLAG_W,CFC-12,CFC-12_FLAG_W,CFC113,CFC113_FLAG_W,CCL4,CCL4_FLAG_W,TCARBN,TCARBN_FLAG_W,THETA
,,,,,,,,,,,METERS,DBAR,ITS-90,PSS-78,,PSS-78,,UMOL/KG,,UMOL/KG,,UMOL/KG,,UMOL/KG,,UMOL/KG,,PMOL/KG,,PMOL/KG,,PMOL/KG,,PMOL/KG,,UMOL/KG,,DEG C
  18HU19941012, AR13c,    84,  1, 151909,      9,2,19941101,2053, 46.4773, -44.1940, 3082,     12.4,   9.4294,  33.3023,2,  33.3094,2,    221.1,3,    294.1,2,     1.58,2,     0.96,6,     0.25,2,    3.211,2,    1.765,2,    0.213,2,    4.761,2,   2016.2,2,   9.4281
  18HU19941012, AR13c,    84,  1, 151908,      8,2,19941101,2053, 46.4773, -44.1940, 3082,     70.0,   3.4105,  34.4989,2,  34.9496,2,    325.1,3,    306.8,2,     7.24,2,    13.44,6,     0.90,2,    4.154,2,    2.064,2,    0.332,2,    5.977,2,   -999.0,9,   3.4060
  18HU19941012, AR13c,    84,  1, 151907,      7,2,19941101,2053, 46.4773, -44.1940, 3082,    248.1,   3.3233,  34.8150,2,  34.8218,2,    302.2,2,    298.8,2,     9.74,2,    16.84,6,     1.07,2,    3.402,2,    1.640,2,    0.189,2,    4.979,2,   2150.6,2,   3.3072
  18HU19941012, AR13c,    84,  1, 151906,      6,2,19941101,2053, 46.4773, -44.1940, 3082,    395.1,   3.2487,  34.8510,2,  34.8568,2,    298.6,2,    298.7,2,     9.99,2,    17.07,6,     1.07,2,    3.087,2,    1.502,2,    0.168,2,    4.690,2,   2151.5,2,   3.2227
  18HU19941012, AR13c,    84,  1, 151905,      5,2,19941101,2053, 46.4773, -44.1940, 3082,    602.0,   3.0773,  34.8486,2,  34.8525,2,    301.0,2,    302.6,2,     9.95,2,    16.62,6,     1.04,2,    3.098,2,    1.754,2,    0.179,2,    5.251,2,   2153.7,2,   3.0376
  18HU19941012, AR13c,    84,  1, 151904,      4,2,19941101,2053, 46.4773, -44.1940, 3082,    897.8,   2.9494,  34.8431,2,  34.8495,2,    302.6,2,    303.3,2,    10.15,2,    16.34,6,     1.03,2,    2.956,2,    1.423,2,    0.163,2,    4.386,2,   2149.2,2,   2.8890
  18HU19941012, AR13c,    84,  1, 151903,      3,2,19941101,2053, 46.4773, -44.1940, 3082,   1144.0,   2.8889,  34.8409,2,  34.8462,2,    305.2,2,    306.2,2,    10.04,2,    16.65,6,     1.04,2,    2.949,2,    1.399,2,    0.150,2,    4.654,2,   2150.7,2,   2.8102
  18HU19941012, AR13c,    84,  1, 151902,      2,2,19941101,2053, 46.4773, -44.1940, 3082,   1396.6,   2.8881,  34.8488,2,  34.8542,2,    303.3,2,    303.7,2,    10.38,2,    16.41,6,     1.04,2,    2.771,2,    1.343,2,    0.154,2,    4.447,2,   2150.1,2,   2.7893
  18HU19941012, AR13c,    84,  1, 151901,      1,2,19941101,2053, 46.4773, -44.1940, 3082,   1684.6,   2.9423,  34.8615,2,  34.8660,2,    300.3,2,    300.2,2,    10.79,2,    16.33,6,     1.03,2,    2.538,2,    1.232,2,    0.117,2,    4.061,2,   2151.1,2,   2.8187
  18HU19941012, AR13c,    84,  1, 151900,      0,2,19941101,2053, 46.4773, -44.1940, 3082,   1941.0,   2.9909,  34.8754,2,  34.8816,2,    297.6,2,    296.8,2,    10.89,2,    16.43,6,     1.04,2,    2.205,2,    1.053,2,    0.097,2,    3.567,2,   2149.6,2,   2.8440
  18HU19941012, AR13c,    84,  1, 151899,     99,2,19941101,2053, 46.4773, -44.1940, 3082,   2217.1,   3.0150,  34.8878,2,  34.8912,2,    295.6,2,    296.1,2,    11.26,2,    16.47,6,     1.04,2,    2.015,2,    0.950,2,    0.121,2,    3.697,2,   2151.6,2,   2.8422
  18HU19941012, AR13c,    84,  1, 151898,     98,2,19941101,2053, 46.4773, -44.1940, 3082,   2453.0,   2.9888,  34.9033,2,  34.9091,2,    291.0,2,    290.1,2,    11.80,2,    16.56,6,     1.05,2,    1.594,2,    0.662,2,    0.050,2,    2.826,2,   2154.7,2,   2.7938
  18HU19941012, AR13c,    84,  1, 151897,     97,2,19941101,2053, 46.4773, -44.1940, 3082,   2598.6,   2.7333,  34.9026,2,  34.9085,2,    291.1,2,    290.6,2,    12.70,2,    16.12,6,     1.02,2,    1.581,2,    0.759,2,    0.057,2,    2.872,2,   2153.9,2,   2.5288
  18HU19941012, AR13c,    84,  1, 151896,     96,2,19941101,2053, 46.4773, -44.1940, 3082,   2771.4,   2.5993,  34.9003,2,  34.9060,2,    291.7,2,    291.4,2,    12.86,2,    15.68,6,     1.00,2,    1.581,2,    0.765,2,    0.053,2,    2.869,2,   2152.1,2,   2.3804
  18HU19941012, AR13c,    84,  1, 151895,     95,2,19941101,2053, 46.4773, -44.1940, 3082,   2876.1,   2.5864,  34.9001,2,  34.9048,2,    291.9,2,    291.7,2,    12.63,2,    16.18,6,     1.01,2,    1.646,2,    0.660,2,    0.046,2,    2.754,2,   2154.0,2,   2.3573
  18HU19941012, AR13c,    84,  1, 151894,     94,2,19941101,2053, 46.4773, -44.1940, 3082,   2973.3,   2.6003,  34.8999,2,  34.9065,2,    291.8,2,    291.4,2,    12.80,2,    16.17,6,     1.02,2,    1.596,2,    0.865,2,    0.056,2,    2.707,2,   2156.2,2,   2.3610
  18HU19941012, AR13c,    84,  1, 151893,     93,2,19941101,2053, 46.4773, -44.1940, 3082,   3075.4,   2.5995,  34.8997,2,  34.9054,2,    291.9,2,    293.2,2,    13.09,2,    15.89,6,     1.00,2,    1.598,2,    0.756,2,    0.058,2,    2.896,2,   2154.4,2,   2.3497
  18HU19941012, AR13c,    85,  1, 151914,     14,2,19941101,2358, 46.6102, -44.3220,  882,     28.4,   8.6653,  33.0010,2,  33.0018,2,    294.8,3,    302.2,2,     1.09,2,     0.00,6,     0.24,2,    3.713,2,    1.743,2,    0.252,2,    5.532,2,   -999.0,9,   8.6624
  18HU19941012, AR13c,    85,  1, 151913,     13,2,19941101,2358, 46.6102, -44.3220,  882,    123.5,   2.8342,  34.6489,2,  34.6547,2,    293.8,3,    304.5,2,     8.99,2,    15.94,6,     1.04,2,    4.320,2,    1.810,2,    0.318,2,    6.231,2,   -999.0,9,   2.8268
  18HU19941012, AR13c,    85,  1, 151912,     12,2,19941101,2358, 46.6102, -44.3220,  882,    189.9,   3.4196,  34.8181,2,  34.8231,2,    285.7,2,    286.2,2,    10.96,2,    16.90,6,     1.08,2,    3.612,2,    1.552,2,    0.235,2,    5.163,2,   -999.0,9,   3.4072
  18HU19941012, AR13c,    85,  1, 151911,     11,2,19941101,2358, 46.6102, -44.3220,  882,    305.1,   3.1308,  34.8398,2,  34.8454,2,    286.6,2,    302.0,2,     9.83,2,    16.89,6,     1.05,2,    3.523,2,    1.506,2,    0.277,2,    5.281,2,   -999.0,9,   3.1113
  18HU19941012, AR13c,    85,  1, 151910,     10,2,19941101,2358, 46.6102, -44.3220,  882,    873.3,   2.9876,  34.8437,2,  34.8489,2,    303.0,2,    303.7,2,    10.00,2,    16.49,6,     1.06,2,    3.227,2,    1.354,2,    0.205,2,    4.943,2,   -999.0,9,   2.9287
  18HU19941012, AR13c,    86,  1, 151917,     17,2,19941102,0202, 46.7678, -44.4670,  217,     30.6,   9.6224,  32.8277,2,  32.8018,2,    291.2,3,    293.1,2,     0.90,2,     0.00,6,     0.21,2,    3.536,2,    1.643,2,    0.282,2,    5.179,2,   -999.0,9,   9.6191
  18HU19941012, AR13c,    86,  1, 151916,     16,2,19941102,0202, 46.7678, -44.4670,  217,     98.9,   0.9136,  33.9256,2,  33.9305,2,    305.3,2,    307.3,2,     6.15,2,    12.77,6,     0.95,2,    5.055,2,    2.077,2,    0.395,2,    6.843,2,   -999.0,9,   0.9094
  18HU19941012, AR13c,    86,  1, 151915,     15,2,19941102,0202, 46.7678, -44.4670,  217,    197.5,   2.1794,  34.4078,2,  34.4124,2,    276.4,2,    266.2,2,    12.42,2,    17.13,6,     1.15,2,    4.379,2,    1.834,2,    0.295,2,    5.541,2,   -999.0,9,   2.1686
  18HU19941012, AR13c,    87,  1, 151919,     19,2,19941102,0327, 46.9163, -44.6050,  134,     26.5,  10.0893,  32.6468,2,  32.6543,2,    291.8,2,    295.2,2,     0.75,2,     0.00,6,     0.19,2,    3.453,2,    1.643,2,    0.280,2,    5.161,2,   -999.0,9,  10.0863
  18HU19941012, AR13c,    87,  1, 151918,     18,2,19941102,0327, 46.9163, -44.6050,  134,    112.6,   1.5406,  34.1447,2,  34.1477,2,    289.3,2,    283.4,2,     9.32,2,    15.41,6,     1.08,2,    4.836,2,    1.967,2,    0.373,2,    6.219,2,   -999.0,9,   1.5352
  18HU19941012, AR13c,    88,  1, 151922,     22,2,19941102,0457, 46.9158, -44.3150,  234,     13.7,   9.3937,  32.7450,2,  32.7479,2,    289.5,2,    297.0,2,     0.70,2,     0.00,6,     0.24,2,    3.350,2,    1.636,2,    0.221,2,    4.917,2,   -999.0,9,   9.3922
  18HU19941012, AR13c,    88,  1, 151921,     21,2,19941102,0457, 46.9158, -44.3150,  234,     74.0,   1.1119,  33.6198,2,  33.6220,2,    320.9,3,    320.9,2,     2.68,2,     9.41,6,     0.81,2,    4.997,2,    2.385,2,    0.384,2,    6.754,2,   -999.0,9,   1.1087
  18HU19941012, AR13c,    88,  1, 151920,     20,2,19941102,0457, 46.9158, -44.3150,  234,    217.1,   2.7027,  34.5608,2,  34.5643,2,    268.9,2,    250.4,2,    14.70,2,    18.64,6,     1.25,2,    3.673,2,    1.663,2,    0.246,2,    4.554,2,   -999.0,9,   2.6898
  18HU19941012, AR13c,    89,  1, 151926,     26,2,19941102,0635, 46.9160, -44.0210,  398,     13.1,   8.4760,  33.2621,2,  33.2713,2,    296.2,3,    301.2,2,     1.46,2,     0.48,6,     0.24,2,    3.470,2,    1.708,2,    0.248,2,    4.812,2,   -999.0,9,   8.4747
  18HU19941012, AR13c,    89,  1, 151925,     25,2,19941102,0635, 46.9160, -44.0210,  398,     45.5,   1.9205,  33.8720,2,  33.8369,2,    321.6,3,    328.6,2,     3.80,2,     7.59,6,     0.75,2,    4.868,2,    2.355,2,    0.383,2,    5.924,2,   -999.0,9,   1.9182
  18HU19941012, AR13c,    89,  1, 151924,     24,2,19941102,0635, 46.9160, -44.0210,  398,    194.6,   2.8028,  34.6559,2,  34.6535,2,    292.3,3,    304.0,2,     9.41,2,    15.83,6,     1.04,2,    4.023,2,    1.870,2,    0.282,2,    5.513,2,   -999.0,9,   2.7911
  18HU19941012, AR13c,    89,  1, 151923,     23,2,19941102,0635, 46.9160, -44.0210,  398,    374.6,   3.4429,  34.8610,2,  34.8656,2,    281.8,2,    281.5,2,    12.48,2,    17.13,6,     1.10,2,    3.059,2,    1.466,2,    0.145,2,    4.348,2,   -999.0,9,   3.4178
  18HU19941012, AR13c,    90,  1, 151931,     31,2,19941102,0805, 46.9152, -43.7280,  753,     13.0,   8.1433,  33.3795,2,  33.3814,2,    306.0,2,    301.7,2,     1.54,2,     1.10,6,     0.28,2,    3.506,2,    1.605,2,    0.240,2,    4.942,2,   -999.0,9,   8.1420
  18HU19941012, AR13c,    90,  1, 151930,     30,2,19941102,0805, 46.9152, -43.7280,  753,    184.4,   3.3257,  34.8026,2,  34.8092,2,    287.3,2,    299.2,2,     9.29,2,    16.40,6,     1.07,2,    3.650,2,    1.820,2,    0.247,2,    5.211,2,   -999.0,9,   3.3138
  18HU19941012, AR13c,    90,  1, 151929,     29,2,19941102,0805, 46.9152, -43.7280,  753,    451.9,   3.1779,  34.8488,2,  34.8540,2,    296.7,2,    300.2,2,     9.78,2,    16.69,6,     1.06,2,    3.100,2,    1.424,2,    0.179,2,    4.366,2,   -999.0,9,   3.1483
  18HU19941012, AR13c,    90,  1, 151928,     28,2,19941102,0805, 46.9152, -43.7280,  753,    636.2,   2.9473,  34.8405,2,  34.8471,2,    301.5,2,    303.2,2,     9.77,2,    16.56,6,     1.09,2,    3.064,2,    1.434,2,    0.168,2,    4.374,2,   -999.0,9,   2.9058
  18HU19941012, AR13c,    90,  1, 151927,     27,2,19941102,0805, 46.9152, -43.7280,  753,    729.7,   2.8440,  34.8344,2,  34.8394,2,    303.9,2,    305.4,2,     9.74,2,    16.30,6,     1.05,2,    3.098,2,    1.373,2,    0.176,2,    4.596,2,   -999.0,9,   2.7965
  18HU19941012, AR13c,    91,  1, 151940,     40,2,19941102,1022, 46.9175, -43.4310, 1147,     12.8,  10.7211,  33.0179,3,  33.0252,2,    286.6,3,    284.1,2,     0.91,2,     0.12,3,     0.21,2, -999.000,9, -999.000,9, -999.000,9, -999.000,9,   2000.9,2,  10.7196
  18HU19941012, AR13c,    91,  1, 151939,     39,2,19941102,1022, 46.9175, -43.4310, 1147,    105.9,   3.1506,  34.6418,3,  34.6415,2,    290.3,3,    296.6,2,     8.70,2,    15.54,3,     1.03,2,    4.145,2,    2.100,2,    0.317,2,    5.916,2,   2147.4,2,   3.1440
  18HU19941012, AR13c,    91,  1, 151937,     37,2,19941102,1022, 46.9175, -43.4310, 1147,    253.3,   3.2976,  34.8234,2,  34.8298,2,    295.2,3,    299.3,2,     9.40,2,    16.68,6,     1.06,2,    3.742,2,    1.921,2,    0.259,2,    5.478,2,   2151.1,2,   3.2812
  18HU19941012, AR13c,    91,  1, 151938,     38,2,19941102,1022, 46.9175, -43.4310, 1147,    253.3,   3.2976,  34.8234,3,  34.8308,2,    293.5,2,    299.6,2,     9.46,2,    16.54,3,     1.05,2,    3.758,2,    1.937,2,    0.256,2,    5.497,2,   2150.4,2,   3.2812
  18HU19941012, AR13c,    91,  1, 151936,     36,2,19941102,1022, 46.9175, -43.4310, 1147,    405.7,   3.1924,  34.8464,2,  34.8564,2,    298.7,2,    298.2,2,    10.01,2,    16.77,6,     1.06,2,    3.188,2,    1.439,2,    0.195,2,    4.807,2,   2153.0,2,   3.1659
  18HU19941012, AR13c,    91,  1, 151935,     35,2,19941102,1022, 46.9175, -43.4310, 1147,    550.5,   3.1377,  34.8509,2,  34.8499,2,    302.0,2,    303.1,2,     9.86,2,    16.53,6,     1.06,2,    3.194,2,    1.593,2,    0.205,2,    4.909,2,   2150.4,2,   3.1013
  18HU19941012, AR13c,    91,  1, 151934,     34,2,19941102,1022, 46.9175, -43.4310, 1147,    755.0,   2.9623,  34.8436,2,  34.8405,2,    305.6,2,    305.5,2,     9.69,2,    16.45,6,     1.05,2,    3.351,2,    1.621,2,    0.203,2,    5.182,2,   2150.3,2,   2.9123
  18HU19941012, AR13c,    91,  1, 151933,     33,2,19941102,1022, 46.9175, -43.4310, 1147,    993.5,   2.8386,  34.8348,2,  34.8430,2,    305.4,2,    303.2,2,     9.90,2,    16.54,6,     1.04,2,    2.652,2,    1.523,2,    0.187,2,    3.407,2,   2151.0,2,   2.7719
  18HU19941012, AR13c,    91,  1, 151932,     32,2,19941102,1022, 46.9175, -43.4310, 1147,   1125.4,   2.8390,  34.8367,2,  34.8432,2,    305.4,2,    305.2,2,     9.59,2,    16.24,6,     1.04,2,    1.531,2,    1.398,2,    0.137,2,    1.604,2,   -999.0,9,   2.7622
  18HU19941012, AR13c,    92,  1, 151960,     60,2,19941102,1305, 46.9172, -43.1450, 3350,     74.8,   1.1772,  33.8296,2,  33.7835,2,    338.9,3,    313.9,2,     4.12,2,    11.25,3,     0.94,2,    4.987,2,    3.137,2,    0.374,2,    6.724,2,   2117.4,2,   1.1739
  18HU19941012, AR13c,    92,  1, 151959,     59,2,19941102,1305, 46.9172, -43.1450, 3350,    212.5,   5.2888,  34.9868,2,  34.9898,2,    237.0,2,    233.2,2,    11.85,2,    18.96,6,     1.23,2,    1.639,2,    1.039,2,    0.065,2,    2.297,2,   2169.6,2,   5.2717
  18HU19941012, AR13c,    92,  1, 151958,     58,2,19941102,1305, 46.9172, -43.1450, 3350,    274.8,   4.4293,  34.8894,2,  34.8939,2,    250.5,3,    254.0,2,    12.29,2,    18.44,6,     1.22,2,    2.300,2,    1.187,2,    0.110,2,    3.332,2,   2165.6,2,   4.4089
  18HU19941012, AR13c,    92,  1, 151957,     57,2,19941102,1305, 46.9172, -43.1450, 3350,    303.6,   3.7311,  34.7993,2,  34.8099,2,    262.7,3,    274.1,2,    10.81,2,    17.69,6,     1.16,2,    2.996,2,    1.758,2,    0.191,2,    4.335,2,   2161.7,2,   3.7102
  18HU19941012, AR13c,    92,  1, 151956,     56,2,19941102,1305, 46.9172, -43.1450, 3350,    504.0,   3.2803,  34.8412,2,  34.8473,2,    299.9,2,    303.9,2,     9.28,2,    16.48,6,     1.08,2,    3.464,2,    2.107,2,    0.190,2,    5.280,2,   2154.2,2,   3.2466
  18HU19941012, AR13c,    92,  1, 151955,     55,2,19941102,1305, 46.9172, -43.1450, 3350,    703.4,   3.2425,  34.8489,2,  34.8554,2,    299.5,2,    298.1,2,     9.60,2,    16.80,6,     1.08,2,    3.149,2,    1.632,2,    0.164,2,    4.862,2,   2152.5,2,   3.1946
  18HU19941012, AR13c,    92,  1, 151954,     54,2,19941102,1305, 46.9172, -43.1450, 3350,    901.9,   3.1607,  34.8505,2,  34.8556,2,    299.5,2,    302.3,2,     9.78,2,    16.83,6,     1.07,2,    3.170,2,    1.768,2,    0.191,2,    5.022,2,   2152.4,2,   3.0985
  18HU19941012, AR13c,    92,  1, 151953,     53,2,19941102,1305, 46.9172, -43.1450, 3350,   1103.1,   3.0894,  34.8504,2,  34.8564,2,    301.8,2,    300.0,2,     9.84,2,    16.82,6,     1.08,2,    2.928,2,    1.716,2,    0.124,2,    4.645,2,   2151.3,2,   3.0122
  18HU19941012, AR13c,    92,  1, 151952,     52,2,19941102,1305, 46.9172, -43.1450, 3350,   1304.6,   2.9821,  34.8424,2,  34.8500,2,    303.7,2,    305.0,2,     9.72,2,    16.63,6,     1.07,2,    2.856,2,    1.660,2,    0.133,2,    4.705,2,   2151.0,2,   2.8898
  18HU19941012, AR13c,    92,  1, 151951,     51,2,19941102,1305, 46.9172, -43.1450, 3350,   1508.2,   2.9276,  34.8395,2,  34.8453,2,    304.8,2,    305.7,2,     9.63,2,    16.45,6,     1.07,2,    3.084,2,    1.758,2,    0.178,2,    4.900,2,   2151.1,2,   2.8192
  18HU19941012, AR13c,    92,  1, 151950,     50,2,19941102,1305, 46.9172, -43.1450, 3350,   1701.5,   2.9117,  34.8406,2,  34.8485,2,    302.6,2,    304.7,2,     9.74,2,    16.52,6,     1.05,2,    3.134,2,    1.870,2,    0.142,2,    4.995,2,   2149.0,2,   2.7871
  18HU19941012, AR13c,    92,  1, 151949,     49,2,19941102,1305, 46.9172, -43.1450, 3350,   1905.0,   3.0152,  34.8725,2,  34.8780,2,    293.0,2,    295.7,2,    10.66,2,    16.57,6,     1.08,2,    2.296,2,    1.184,2,    0.094,2,    3.909,2,   2152.0,2,   2.8712
  18HU19941012, AR13c,    92,  1, 151948,     48,2,19941102,1305, 46.9172, -43.1450, 3350,   2097.0,   3.0197,  34.8970,2,  34.9002,2,    289.6,2,    289.3,2,    11.08,2,    16.14,6,     1.06,2,    1.808,2,    1.063,2,    0.064,2,    3.145,2,   2153.1,2,   2.8580
  18HU19941012, AR13c,    92,  1, 151947,     47,2,19941102,1305, 46.9172, -43.1450, 3350,   2301.9,   2.8822,  34.9049,2,  34.8673,2,    289.3,3,    288.1,2,    11.80,2,    16.07,6,     1.04,2,    1.590,2,    1.000,2,    0.036,2,    2.986,2,   2153.2,2,   2.7037
  18HU19941012, AR13c,    92,  1, 151946,     46,2,19941102,1305, 46.9172, -43.1450, 3350,   2498.2,   2.7641,  34.9039,2,  34.9101,2,    288.6,2,    288.3,2,    12.08,2,    16.05,6,     1.04,2,    1.595,2,    0.780,2,    0.052,2,    2.923,2,   2153.6,2,   2.5688
  18HU19941012, AR13c,    92,  1, 151945,     45,2,19941102,1305, 46.9172, -43.1450, 3350,   2697.9,   2.7221,  34.9038,2,  34.9073,2,    288.9,2,    289.2,2,    12.08,2,    16.12,6,     1.04,2,    1.625,2,    1.017,2,    0.047,2,    3.111,2,   2153.9,2,   2.5080
  18HU19941012, AR13c,    92,  1, 151944,     44,2,19941102,1305, 46.9172, -43.1450, 3350,   2896.1,   2.6750,  34.9037,2,  34.9099,2,    289.7,2,    288.9,2,    12.37,2,    15.97,6,     1.04,2,    1.618,2,    1.094,2,    0.047,2,    2.931,2,   2154.2,2,   2.4420
  18HU19941012, AR13c,    92,  1, 151943,     43,2,19941102,1305, 46.9172, -43.1450, 3350,   3097.0,   2.6204,  34.9022,2,  34.9006,2,    288.9,3,    289.1,2,    12.39,2,    15.80,6,     1.03,2,    1.624,2,    0.885,2,    0.049,2,    2.981,2,   2154.0,2,   2.3680
  18HU19941012, AR13c,    92,  1, 151942,     42,2,19941102,1305, 46.9172, -43.1450, 3350,   3157.9,   2.5642,  34.9006,2,  34.9067,2,    290.2,2,    289.8,2,    12.58,2,    15.96,6,     1.02,2,    1.654,2,    0.984,2,    0.047,2,    2.996,2,   2155.1,2,   2.3067
  18HU19941012, AR13c,    92,  1, 151941,     41,2,19941102,1305, 46.9172, -43.1450, 3350,   3204.9,   2.3273,  34.8939,2,  34.8987,2,    291.7,3,   -999.0,9,    13.04,2,    15.67,6,     1.01,2,    1.762,2,    1.182,2,    0.061,2,    3.337,2,   2154.7,2,   2.0703