BOTTLE,20140120PRINUNIVRMK
EXPOCODE,SECT_ID,STNNBR,CASTNO,SAMPNO,BTLNBR,BTLNBR_FLAG_W,DATE,TIME,LATITUDE,LONGITUDE,DEPTH,CTDPRS,CTDTMP,CTDSAL,CTDSAL_FLAG_W,SALNTY,SALNTY_FLAG_W,CTDOXY,CTDOXY_FLAG_W,OXYGEN,OXYGEN_FLAG_W,SILCAT,SILCAT_FLAG_W,NITRAT,NITRAT_FLAG_W,PHSPHT,PHSPHT_FLAG_W,CFC-11,CFC-11_FLAG_W,CFC-12,CFC-12_FLAG_W,CFC113,CFC113_FLAG_W,CCL4,CCL4_FLAG_W,TCARBN,TCARBN_FLAG_W,THETA
,,,,,,,,,,,METERS,DBAR,ITS-90,PSS-78,,PSS-78,,UMOL/KG,,UMOL/KG,,UMOL/KG,,UMOL/KG,,UMOL/KG,,PMOL/KG,,PMOL/KG,,PMOL/KG,,PMOL/KG,,UMOL/KG,,DEG C
  18HU19941012, AR13c,    93,  1, 151980,     80,2,19941102,1654, 46.9182, -42.8520, 3588,     13.2,  10.0263,  32.8942,2,  32.9018,2,    219.8,3,    290.4,2,     1.19,2,     0.00,6,     0.17,2, -999.000,9, -999.000,9, -999.000,9, -999.000,9,   -999.0,9,  10.0248
  18HU19941012, AR13c,    93,  1, 151979,     79,2,19941102,1654, 46.9182, -42.8520, 3588,    200.9,   2.6432,  34.4764,2,  34.4754,2,    293.1,3,    277.6,2,    10.09,2,    16.82,6,     1.05,2, -999.000,9, -999.000,9, -999.000,9, -999.000,9,   -999.0,9,   2.6314
  18HU19941012, AR13c,    93,  1, 151978,     78,2,19941102,1654, 46.9182, -42.8520, 3588,    357.0,   5.1417,  35.0115,2,  35.0111,2,    242.4,3,    240.4,2,    12.31,2,    18.86,6,     1.12,2, -999.000,9, -999.000,9, -999.000,9, -999.000,9,   -999.0,9,   5.1129
  18HU19941012, AR13c,    93,  1, 151977,     77,2,19941102,1654, 46.9182, -42.8520, 3588,    507.3,   4.0078,  34.9004,2,  34.9049,2,    273.2,2,    272.5,2,    10.96,2,    17.74,6,     1.06,2, -999.000,9, -999.000,9, -999.000,9, -999.000,9,   -999.0,9,   3.9709
  18HU19941012, AR13c,    93,  1, 151976,     76,2,19941102,1654, 46.9182, -42.8520, 3588,    706.8,   3.4139,  34.8564,2,  34.8616,2,    292.7,2,    294.5,2,    10.48,2,    17.21,6,     1.01,2, -999.000,9, -999.000,9, -999.000,9, -999.000,9,   -999.0,9,   3.3648
  18HU19941012, AR13c,    93,  1, 151975,     75,2,19941102,1654, 46.9182, -42.8520, 3588,    897.4,   3.3466,  34.8680,2,  34.8733,2,    293.1,2,    292.4,2,    10.78,2,    17.43,6,     1.03,2, -999.000,9, -999.000,9, -999.000,9, -999.000,9,   -999.0,9,   3.2834
  18HU19941012, AR13c,    93,  1, 151974,     74,2,19941102,1654, 46.9182, -42.8520, 3588,   1106.9,   3.1247,  34.8496,2,  34.8536,2,    300.3,2,    299.8,2,    10.44,2,    16.76,6,     1.01,2, -999.000,9, -999.000,9, -999.000,9, -999.000,9,   -999.0,9,   3.0469
  18HU19941012, AR13c,    93,  1, 151973,     73,2,19941102,1654, 46.9182, -42.8520, 3588,   1290.7,   3.0569,  34.8474,2,  34.8534,2,    301.4,2,    301.4,2,    10.35,2,    16.71,6,     1.01,2, -999.000,9, -999.000,9, -999.000,9, -999.000,9,   -999.0,9,   2.9650
  18HU19941012, AR13c,    93,  1, 151972,     72,2,19941102,1654, 46.9182, -42.8520, 3588,   1393.1,   3.2070,  34.8757,2,  34.8814,2,    294.3,2,    292.0,2,    11.49,2,    17.09,6,     1.02,2, -999.000,9, -999.000,9, -999.000,9, -999.000,9,   -999.0,9,   3.1050
  18HU19941012, AR13c,    93,  1, 151971,     71,2,19941102,1654, 46.9182, -42.8520, 3588,   1598.9,   2.9790,  34.8480,2,  34.8533,2,    303.0,2,    301.1,2,    10.81,2,    16.89,6,     1.00,2, -999.000,9, -999.000,9, -999.000,9, -999.000,9,   -999.0,9,   2.8623
  18HU19941012, AR13c,    93,  1, 151970,     70,2,19941102,1654, 46.9182, -42.8520, 3588,   1801.4,   3.0519,  34.8670,2,  34.8732,2,    299.0,2,    298.3,2,    11.40,2,    16.73,6,     1.00,2, -999.000,9, -999.000,9, -999.000,9, -999.000,9,   -999.0,9,   2.9166
  18HU19941012, AR13c,    93,  1, 151969,     69,2,19941102,1654, 46.9182, -42.8520, 3588,   2000.5,   3.1644,  34.9034,2,  34.9098,2,    289.0,2,    286.5,2,    12.64,2,    16.56,6,     1.02,2, -999.000,9, -999.000,9, -999.000,9, -999.000,9,   -999.0,9,   3.0094
  18HU19941012, AR13c,    93,  1, 151968,     68,2,19941102,1654, 46.9182, -42.8520, 3588,   2198.6,   3.1364,  34.9209,2,  34.9154,2,    283.6,3,    285.2,2,    13.51,2,    17.21,6,     1.05,2, -999.000,9, -999.000,9, -999.000,9, -999.000,9,   -999.0,9,   2.9633
  18HU19941012, AR13c,    93,  1, 151967,     67,2,19941102,1654, 46.9182, -42.8520, 3588,   2391.4,   3.0185,  34.9242,2,  34.9246,2,    282.3,3,    281.3,2,    14.66,2,    16.88,6,     1.04,2, -999.000,9, -999.000,9, -999.000,9, -999.000,9,   -999.0,9,   2.8289
  18HU19941012, AR13c,    93,  1, 151966,     66,2,19941102,1654, 46.9182, -42.8520, 3588,   2597.9,   2.8880,  34.9220,2,  34.9276,2,    282.7,2,    281.6,2,    15.20,2,    16.84,6,     1.06,2, -999.000,9, -999.000,9, -999.000,9, -999.000,9,   -999.0,9,   2.6805
  18HU19941012, AR13c,    93,  1, 151965,     65,2,19941102,1654, 46.9182, -42.8520, 3588,   2784.0,   2.7465,  34.9191,2,  34.9233,2,    282.1,2,    282.4,2,    16.78,2,    17.01,6,     1.09,2, -999.000,9, -999.000,9, -999.000,9, -999.000,9,   -999.0,9,   2.5233
  18HU19941012, AR13c,    93,  1, 151964,     64,2,19941102,1654, 46.9182, -42.8520, 3588,   2990.1,   2.5247,  34.9032,2,  34.9084,2,    289.2,2,    288.8,2,    14.02,2,    16.16,6,     1.00,2, -999.000,9, -999.000,9, -999.000,9, -999.000,9,   -999.0,9,   2.2853
  18HU19941012, AR13c,    93,  1, 151963,     63,2,19941102,1654, 46.9182, -42.8520, 3588,   3194.9,   2.2971,  34.8982,2,  34.9072,2,    288.2,2,    286.7,2,    17.25,2,    16.61,6,     1.03,2, -999.000,9, -999.000,9, -999.000,9, -999.000,9,   -999.0,9,   2.0418
  18HU19941012, AR13c,    93,  1, 151962,     62,2,19941102,1654, 46.9182, -42.8520, 3588,   3481.1,   2.1664,  34.8911,2,  34.8971,2,    289.0,2,    290.8,2,    16.05,2,    15.85,6,     1.01,2, -999.000,9, -999.000,9, -999.000,9, -999.000,9,   -999.0,9,   1.8843
  18HU19941012, AR13c,    93,  1, 151961,     61,2,19941102,1654, 46.9182, -42.8520, 3588,   3582.9,   2.0678,  34.8870,2,  34.8910,2,    289.8,2,    293.3,2,    14.48,2,    15.37,6,     1.00,2, -999.000,9, -999.000,9, -999.000,9, -999.000,9,   -999.0,9,   1.7774
  18HU19941012, AR13c,    94,  1, 152000,      0,2,19941102,2136, 46.9207, -42.3350, 3982,     13.5,  15.3152,  34.5360,2,  34.5712,2,    173.5,3,    251.6,2,     0.89,2,     0.55,6,     0.14,2,    2.491,2,    1.474,2,    0.294,2,    3.362,2,   2027.9,2,  15.3131
  18HU19941012, AR13c,    94,  1, 151999,     99,2,19941102,2136, 46.9207, -42.3350, 3982,    107.2,  14.7524,  35.8598,2,  35.8556,2,    187.8,3,    192.9,2,     4.03,2,    10.07,6,     0.57,2,    1.934,2,    1.033,2,    0.113,2,    0.848,2,   2122.2,2,  14.7363
  18HU19941012, AR13c,    94,  1, 151998,     98,2,19941102,2136, 46.9207, -42.3350, 3982,    323.1,   9.5537,  35.2419,2,  35.2469,2,    180.6,3,    180.6,2,    10.31,2,    19.48,6,     1.15,2,    1.407,2,    0.842,2,    0.149,2,    1.009,2,   2166.7,2,   9.5169
  18HU19941012, AR13c,    94,  1, 151997,     97,2,19941102,2136, 46.9207, -42.3350, 3982,    396.2,   7.0667,  34.9131,2,  34.9188,2,    198.8,2,    200.7,2,    11.86,2,    20.17,6,     1.22,2,    1.845,2,    0.961,2,    0.157,2,    2.080,2,   2167.2,2,   7.0289
  18HU19941012, AR13c,    94,  1, 151996,     96,2,19941102,2136, 46.9207, -42.3350, 3982,    517.7,   5.5326,  34.9014,2,  34.9111,2,    218.2,3,    228.1,2,    12.51,2,    20.00,6,     1.19,2,    1.903,2,    0.992,2,    0.191,2,    2.490,2,   2171.6,2,   5.4888
  18HU19941012, AR13c,    94,  1, 151995,     95,2,19941102,2136, 46.9207, -42.3350, 3982,    693.9,   4.9887,  34.9918,2,  34.9973,2,    243.5,2,    243.5,2,    12.09,2,    18.95,6,     1.13,2,    1.793,2,    0.897,2,    0.236,2,    2.487,2,   2167.9,2,   4.9319
  18HU19941012, AR13c,    94,  1, 151994,     94,2,19941102,2136, 46.9207, -42.3350, 3982,    996.0,   4.2490,  34.9666,2,  34.9727,2,    265.5,2,    265.8,2,    11.49,2,    17.74,6,     1.06,2,    1.691,2,    0.865,2,    0.105,2,    2.817,2,   2162.1,2,   4.1710
  18HU19941012, AR13c,    94,  1, 151993,     93,2,19941102,2136, 46.9207, -42.3350, 3982,   1225.1,   3.8362,  34.9310,2,  34.9373,2,    275.2,2,    273.7,2,    11.58,2,    17.84,6,     1.06,2,    1.730,2,    0.867,2,    0.114,2,    3.080,2,   2158.0,2,   3.7421
  18HU19941012, AR13c,    94,  1, 151992,     92,2,19941102,2136, 46.9207, -42.3350, 3982,   1396.8,   3.6450,  34.9140,2,  34.9208,2,    279.1,3,    272.6,2,    11.36,2,    17.68,6,     1.05,2,    1.786,2,    0.841,2,    0.141,2,    3.096,2,   2155.7,2,   3.5380
  18HU19941012, AR13c,    94,  1, 151991,     91,2,19941102,2136, 46.9207, -42.3350, 3982,   1649.9,   3.4180,  34.8957,2,  34.9024,2,    287.5,2,    286.4,2,    11.58,2,    17.45,6,     1.04,2,    1.917,2,    0.897,2,    0.154,2,    3.264,2,   2156.0,2,   3.2914
  18HU19941012, AR13c,    94,  1, 151990,     90,2,19941102,2136, 46.9207, -42.3350, 3982,   1798.0,   3.3567,  34.8941,2,  34.9008,2,    289.2,2,    287.9,2,    11.77,2,    17.47,6,     1.04,2,    1.878,2,    1.058,2,    0.117,2,    3.334,2,   2155.2,2,   3.2175
  18HU19941012, AR13c,    94,  1, 151989,     89,2,19941102,2136, 46.9207, -42.3350, 3982,   2032.0,   3.2802,  34.8969,2,  34.9042,2,    286.5,2,    287.5,2,    12.15,2,    17.07,6,     1.02,2,    1.741,2,    0.835,2,    0.130,2,    3.030,2,   2153.3,2,   3.1206
  18HU19941012, AR13c,    94,  1, 151988,     88,2,19941102,2136, 46.9207, -42.3350, 3982,   2194.8,   3.1780,  34.8922,2,  34.8999,2,    287.0,2,    287.4,2,    11.88,2,    16.72,6,     1.01,2,    1.871,2,    0.819,2,    0.157,2,    3.336,2,   2154.1,2,   3.0046
  18HU19941012, AR13c,    94,  1, 151987,     87,2,19941102,2136, 46.9207, -42.3350, 3982,   2491.4,   3.1540,  34.9165,2,  34.9223,2,    281.6,2,    282.8,2,    13.30,2,    16.59,6,     1.01,2,    1.181,2,    0.680,2,    0.060,2,    2.345,2,   2153.0,2,   2.9521
  18HU19941012, AR13c,    94,  1, 151986,     86,2,19941102,2136, 46.9207, -42.3350, 3982,   2705.3,   3.0525,  34.9189,2,  34.9255,2,    281.8,2,    282.5,2,    13.73,2,    16.59,6,     1.00,2,    1.111,2,    0.537,2,    0.102,2,    2.166,2,   2155.3,2,   2.8311
  18HU19941012, AR13c,    94,  1, 151985,     85,2,19941102,2136, 46.9207, -42.3350, 3982,   2915.5,   2.9095,  34.9175,2,  34.9237,2,    282.7,2,    282.9,2,    13.92,2,    16.81,6,     1.00,2,    1.157,2,    0.561,2,    0.169,2,    2.286,2,   2157.2,2,   2.6695
  18HU19941012, AR13c,    94,  1, 151984,     84,2,19941102,2136, 46.9207, -42.3350, 3982,   3206.2,   2.6565,  34.9068,2,  34.9104,2,    287.7,2,    287.5,2,    13.71,2,    16.45,6,     0.99,2,    1.458,2,    0.812,2,    0.104,2,    2.696,2,   2156.6,2,   2.3918
  18HU19941012, AR13c,    94,  1, 151983,     83,2,19941102,2136, 46.9207, -42.3350, 3982,   3712.4,   2.2061,  34.8911,2,  34.8984,2,    291.1,2,    289.9,2,    15.68,2,    15.90,6,     0.97,2,    1.657,2,    0.826,2,    0.128,2,    2.803,2,   2157.8,2,   1.8980
  18HU19941012, AR13c,    94,  1, 151982,     82,2,19941102,2136, 46.9207, -42.3350, 3982,   3843.1,   2.1937,  34.8918,2,  34.8976,2,    288.1,2,    288.5,2,    17.64,2,    16.23,6,     0.97,2,    1.373,2,    0.852,2,    0.078,2,    2.286,2,   2159.9,2,   1.8715
  18HU19941012, AR13c,    94,  1, 151981,     81,2,19941102,2136, 46.9207, -42.3350, 3982,   3977.8,   2.0876,  34.8853,2,  34.8912,2,    293.0,2,    294.4,2,    14.16,2,    15.47,6,     0.92,2,    2.028,2,    1.001,2,    0.133,2,    3.391,2,   2157.0,2,   1.7533
  18HU19941012, AR13c,    95,  1, 152020,     20,2,19941103,0233, 46.9173, -41.7620, 4273,     47.7,  15.7439,  35.3445,2,  35.3466,2,    249.7,3,    243.2,2,     1.11,2,     1.46,6,     0.19,2,    2.264,2,    1.356,2,    0.102,2,    3.277,2,   -999.0,9,  15.7364
  18HU19941012, AR13c,    95,  1, 152019,     19,2,19941103,0233, 46.9173, -41.7620, 4273,     88.1,  16.2652,  36.0125,2,  36.0182,2,    214.5,3,    198.1,2,     2.47,2,     6.78,6,     0.43,2,    1.931,2,    1.005,2,    0.087,2,    0.869,2,   -999.0,9,  16.2510
  18HU19941012, AR13c,    95,  1, 152018,     18,2,19941103,0233, 46.9173, -41.7620, 4273,    344.2,  10.5950,  35.2571,2,  35.2657,2,    206.8,3,    199.5,2,     7.32,2,    15.17,6,     0.96,2,    1.844,2,    1.070,2,    0.158,2,    1.335,2,   -999.0,9,  10.5531
  18HU19941012, AR13c,    95,  1, 152017,     17,2,19941103,0233, 46.9173, -41.7620, 4273,    493.1,   8.1314,  35.0038,2,  35.0093,2,    197.6,2,    195.1,2,    10.55,2,    19.37,6,     1.21,2,    1.685,2,    0.937,2,    0.073,2,    1.817,2,   -999.0,9,   8.0800
  18HU19941012, AR13c,    95,  1, 152016,     16,2,19941103,0233, 46.9173, -41.7620, 4273,    663.3,   5.5351,  34.8750,2,  34.8753,2,    224.2,3,    226.0,2,    11.74,2,    19.53,6,     1.24,2,    1.880,2,    0.952,2,    0.131,2,    2.690,2,   -999.0,9,   5.4783
  18HU19941012, AR13c,    95,  1, 152015,     15,2,19941103,0233, 46.9173, -41.7620, 4273,    841.3,   4.8530,  34.9517,2,  34.9563,2,    248.8,2,    247.6,2,    11.28,2,    18.61,6,     1.17,2,    1.847,2,    1.131,2, -999.000,9,    2.765,2,   -999.0,9,   4.7842
  18HU19941012, AR13c,    95,  1, 152014,     14,2,19941103,0233, 46.9173, -41.7620, 4273,    996.0,   4.1357,  34.9075,2,  34.9142,2,    268.9,2,    269.2,2,    10.59,2,    17.92,6,     1.13,2,    2.381,2,    1.330,2,    0.090,2,    3.714,2,   -999.0,9,   4.0586
  18HU19941012, AR13c,    95,  1, 152013,     13,2,19941103,0233, 46.9173, -41.7620, 4273,   1174.7,   4.0233,  34.9353,2,  34.9427,2,    271.5,2,    273.5,2,    10.90,2,    17.87,6,     1.10,2,    1.978,2,    1.028,2,    0.085,2,    3.559,2,   -999.0,9,   3.9318
  18HU19941012, AR13c,    95,  1, 152012,     12,2,19941103,0233, 46.9173, -41.7620, 4273,   1390.3,   3.7034,  34.9154,2,  34.9216,2,    278.8,2,    278.8,2,    11.05,2,    17.61,6,     1.10,2,    1.803,2,    1.030,2,    0.068,2,    3.271,2,   -999.0,9,   3.5963
  18HU19941012, AR13c,    95,  1, 152011,     11,2,19941103,0233, 46.9173, -41.7620, 4273,   1600.2,   3.4216,  34.8847,2,  34.8895,2,    282.4,2,    289.0,2,    10.77,2,    17.09,6,     1.07,2,    2.210,2,    1.192,2,    0.086,2,    3.982,2,   -999.0,9,   3.2994
  18HU19941012, AR13c,    95,  1, 152010,     10,2,19941103,0233, 46.9173, -41.7620, 4273,   1800.8,   3.4088,  34.8970,2,  34.9031,2,    285.6,2,    285.1,2,    11.47,2,    17.25,6,     1.07,2,    1.706,2,    0.947,2,    0.081,2,    3.299,2,   -999.0,9,   3.2687
  18HU19941012, AR13c,    95,  1, 152009,      9,2,19941103,0233, 46.9173, -41.7620, 4273,   2011.2,   3.3190,  34.8944,2,  34.9019,2,    286.9,2,    291.7,2,    11.41,2,    17.14,6,     1.08,2,    1.778,2,    0.926,2,    0.055,2,    3.407,2,   -999.0,9,   3.1607
  18HU19941012, AR13c,    95,  1, 152008,      8,2,19941103,0233, 46.9173, -41.7620, 4273,   2305.7,   3.2686,  34.9080,2,  34.9227,2,    284.7,3,    281.7,2,    12.38,2,    17.00,6,     1.08,2,    1.464,2,    0.765,2,    0.056,2,    2.647,2,   -999.0,9,   3.0830
  18HU19941012, AR13c,    95,  1, 152007,      7,2,19941103,0233, 46.9173, -41.7620, 4273,   2660.6,   3.1548,  34.9217,2,  34.9286,2,    281.0,2,    280.3,2,    13.64,2,    16.91,6,     1.06,2,    1.013,2,    0.558,2,    0.033,2,    2.107,2,   -999.0,9,   2.9359
  18HU19941012, AR13c,    95,  1, 152006,      6,2,19941103,0233, 46.9173, -41.7620, 4273,   2921.4,   2.9646,  34.9221,2,  34.9286,2,    281.0,2,    280.7,2,    14.40,2,    16.70,6,     1.05,2,    0.927,2,    0.443,2,    0.033,2,    2.083,2,   -999.0,9,   2.7228
  18HU19941012, AR13c,    95,  1, 152005,      5,2,19941103,0233, 46.9173, -41.7620, 4273,   3079.8,   2.7726,  34.9095,2,  34.9168,2,    282.4,2,    285.3,2,    12.72,2,    16.31,6,     1.02,2,    1.378,2,    0.744,2,    0.039,2,    2.667,2,   -999.0,9,   2.5185
  18HU19941012, AR13c,    95,  1, 152004,      4,2,19941103,0233, 46.9173, -41.7620, 4273,   3464.2,   2.4386,  34.9007,2,  34.9062,2,    287.6,2,    286.4,2,    15.27,2,    16.13,6,     1.02,2,    1.304,2,    0.686,2,    0.085,2,    2.474,2,   -999.0,9,   2.1515
  18HU19941012, AR13c,    95,  1, 152003,      3,2,19941103,0233, 46.9173, -41.7620, 4273,   3780.2,   2.2913,  34.8961,2,  34.9053,2,    283.4,2,    282.0,2,    19.70,2,    16.91,6,     1.06,2,    0.968,2,    0.491,2,    0.050,2,    2.132,2,   -999.0,9,   1.9735
  18HU19941012, AR13c,    95,  1, 152002,      2,2,19941103,0233, 46.9173, -41.7620, 4273,   4072.7,   2.2568,  34.8930,2,  34.8988,2,    284.8,2,    285.2,2,    19.24,2,    16.50,6,     1.03,2,    1.162,2,    0.627,2,    0.040,2,    2.377,2,   -999.0,9,   1.9070
  18HU19941012, AR13c,    95,  1, 152001,      1,2,19941103,0233, 46.9173, -41.7620, 4273,   4268.4,   2.1937,  34.8892,2,  34.8953,2,    289.4,3,    289.7,2,    15.27,2,    15.82,6,     0.99,2,    1.628,2,    0.848,2,    0.070,2,    2.995,2,   -999.0,9,   1.8231