BOTTLE,20140120PRINUNIVRMK
EXPOCODE,SECT_ID,STNNBR,CASTNO,SAMPNO,BTLNBR,BTLNBR_FLAG_W,DATE,TIME,LATITUDE,LONGITUDE,DEPTH,CTDPRS,CTDTMP,CTDSAL,CTDSAL_FLAG_W,SALNTY,SALNTY_FLAG_W,CTDOXY,CTDOXY_FLAG_W,OXYGEN,OXYGEN_FLAG_W,SILCAT,SILCAT_FLAG_W,NITRAT,NITRAT_FLAG_W,PHSPHT,PHSPHT_FLAG_W,CFC-11,CFC-11_FLAG_W,CFC-12,CFC-12_FLAG_W,CFC113,CFC113_FLAG_W,CCL4,CCL4_FLAG_W,TCARBN,TCARBN_FLAG_W,THETA
,,,,,,,,,,,METERS,DBAR,ITS-90,PSS-78,,PSS-78,,UMOL/KG,,UMOL/KG,,UMOL/KG,,UMOL/KG,,UMOL/KG,,PMOL/KG,,PMOL/KG,,PMOL/KG,,PMOL/KG,,UMOL/KG,,DEG C
  18HU19941012, AR13c,    96,  1, 152040,     40,2,19941103,0722, 46.5920, -41.4770, 4391,     13.6,  15.5360,  35.2641,2,  35.2678,2,    250.1,3,    240.1,2,     1.06,2,     1.19,6,     0.19,2,    2.446,2,    1.496,2,    0.150,2,    2.919,2,   2052.6,2,  15.5339
  18HU19941012, AR13c,    96,  1, 152039,     39,2,19941103,0722, 46.5920, -41.4770, 4391,     59.0,  15.7253,  35.3998,2,  35.4030,2,    249.5,3,    241.8,2,     1.02,2,     1.44,6,     0.19,2,    2.379,2,    1.539,2, -999.000,9,    2.781,2,   -999.0,9,  15.7161
  18HU19941012, AR13c,    96,  1, 152038,     38,2,19941103,0722, 46.5920, -41.4770, 4391,    193.7,  14.1154,  35.8885,2,  35.8947,2,    202.1,3,    211.0,2,     3.70,2,     9.58,6,     0.59,2,    2.077,2,    1.217,2,    0.114,2,    1.173,2,   2118.3,2,  14.0870
  18HU19941012, AR13c,    96,  1, 152037,     37,2,19941103,0722, 46.5920, -41.4770, 4391,    397.1,   9.5421,  35.1474,2,  35.1539,2,    200.0,2,    205.6,2,     8.41,2,    16.71,6,     1.04,2,    2.069,2,    1.190,2,    0.096,2,    1.591,2,   2148.1,2,   9.4968
  18HU19941012, AR13c,    96,  1, 152036,     36,2,19941103,0722, 46.5920, -41.4770, 4391,    628.3,   5.4856,  34.8340,2,  34.8406,2,    220.2,2,    223.0,2,    11.46,2,    19.54,6,     1.23,2,    2.173,2,    1.015,2,    0.095,2,    2.674,2,   2167.2,2,   5.4323
  18HU19941012, AR13c,    96,  1, 152035,     35,2,19941103,0722, 46.5920, -41.4770, 4391,    871.8,   4.4394,  34.9236,2,  34.9291,2,    255.3,2,    259.4,2,    10.69,2,    18.25,6,     1.15,2,    2.301,2,    1.174,2,    0.132,2,    3.268,2,   2162.5,2,   4.3707
  18HU19941012, AR13c,    96,  1, 152034,     34,2,19941103,0722, 46.5920, -41.4770, 4391,   1003.9,   3.9606,  34.9011,2,  34.9088,2,    274.6,2,    274.0,2,    10.24,2,    17.63,6,     1.11,2,    2.604,2,    1.363,2,    0.118,2,    3.741,2,   2154.7,2,   3.8842
  18HU19941012, AR13c,    96,  1, 152033,     33,2,19941103,0722, 46.5920, -41.4770, 4391,   1200.1,   3.7211,  34.9003,2,  34.9082,2,    279.1,2,    280.9,2,    10.45,2,    17.64,6,     1.11,2,    2.445,2,    1.243,2,    0.091,2,    3.812,2,   2153.3,2,   3.6302
  18HU19941012, AR13c,    96,  1, 152032,     32,2,19941103,0722, 46.5920, -41.4770, 4391,   1501.4,   3.3577,  34.8712,2,  34.8783,2,    289.2,2,    291.3,2,    10.23,2,    17.23,6,     1.08,2,    2.595,2,    1.353,2,    0.175,2,    4.053,2,   2152.4,2,   3.2449
  18HU19941012, AR13c,    96,  1, 152031,     31,2,19941103,0722, 46.5920, -41.4770, 4391,   1705.9,   3.2346,  34.8649,2,  34.8723,2,    293.0,2,    293.9,2,    10.05,2,    17.10,6,     1.08,2,    2.631,2,    1.333,2,    0.106,2,    4.068,2,   2151.1,2,   3.1054
  18HU19941012, AR13c,    96,  1, 152030,     30,2,19941103,0722, 46.5920, -41.4770, 4391,   1898.5,   3.1358,  34.8590,2,  34.8654,2,    295.3,2,    296.4,2,    10.06,2,    16.91,6,     1.07,2,    2.712,2,    1.448,2,    0.206,2,    4.286,2,   2148.6,2,   2.9907
  18HU19941012, AR13c,    96,  1, 152029,     29,2,19941103,0722, 46.5920, -41.4770, 4391,   2099.5,   3.0900,  34.8608,2,  34.8086,0,    296.5,3,    295.2,2,    10.30,2,    16.86,6,     1.06,2,    2.661,2,    1.365,2,    0.176,2,    4.112,2,   2150.2,2,   2.9271
  18HU19941012, AR13c,    96,  1, 152028,     28,2,19941103,0722, 46.5920, -41.4770, 4391,   2501.2,   3.1784,  34.9027,2,  34.9287,2,    287.3,3,    283.1,2,    11.32,2,    16.75,6,     1.06,2,    1.667,2,    0.739,2,    0.038,2,    2.769,2,   2150.9,2,   2.9751
  18HU19941012, AR13c,    96,  1, 152027,     27,2,19941103,0722, 46.5920, -41.4770, 4391,   2794.5,   3.0810,  34.9183,2,  34.9269,2,    282.3,2,    281.3,2,    12.50,2,    16.74,6,     1.06,2,    1.131,2,    0.591,2,    0.051,2,    2.153,2,   2152.4,2,   2.8499
  18HU19941012, AR13c,    96,  1, 152026,     26,2,19941103,0722, 46.5920, -41.4770, 4391,   3192.2,   2.7384,  34.9158,2,  34.9218,2,    283.3,2,    282.4,2,    14.62,2,    16.58,6,     1.06,2,    1.062,2,    0.553,2,    0.059,2,    2.009,2,   2154.6,2,   2.4732
  18HU19941012, AR13c,    96,  1, 152025,     25,2,19941103,0722, 46.5920, -41.4770, 4391,   3472.8,   2.4937,  34.9066,2,  34.9251,2,    283.2,3,    279.5,2,    16.02,2,    16.85,6,     1.06,2,    1.292,2,    0.646,2,    0.025,2,    2.242,2,   2155.6,2,   2.2043
  18HU19941012, AR13c,    96,  1, 152024,     24,2,19941103,0722, 46.5920, -41.4770, 4391,   3680.4,   2.4285,  34.9031,2,  34.9078,2,    283.8,2,    282.9,2,    17.47,2,    16.91,6,     1.08,2,    1.011,2,    0.525,2,    0.033,2,    1.983,2,   2157.8,2,   2.1181
  18HU19941012, AR13c,    96,  1, 152023,     23,2,19941103,0722, 46.5920, -41.4770, 4391,   3991.5,   2.2905,  34.8948,2,  34.9040,2,    284.3,2,    286.6,2,    15.62,2,    16.26,6,     1.05,2,    1.418,2,    0.786,2,    0.102,2,    2.528,2,   2156.0,2,   1.9490
  18HU19941012, AR13c,    96,  1, 152022,     22,2,19941103,0722, 46.5920, -41.4770, 4391,   4191.8,   2.2310,  34.8912,2,  34.8976,2,    287.6,2,    287.3,2,    15.09,2,    16.07,6,     1.04,2,    1.602,2,    0.782,2,    0.032,2,    2.849,2,   2156.0,2,   1.8682
  18HU19941012, AR13c,    96,  1, 152021,     21,2,19941103,0722, 46.5920, -41.4770, 4391,   4386.9,   2.1408,  34.8856,2,  34.8933,2,    292.2,2,    293.0,2,    13.12,2,    15.34,6,     0.99,2,    1.979,2,    1.014,2,    0.116,2,    3.214,2,   2153.3,2,   1.7579
  18HU19941012, AR13c,    97,  1, 152060,     60,2,19941103,1209, 46.2662, -41.1920, 4618,     13.2,  17.6185,  34.9822,2,  34.9712,2,    244.6,3,    238.6,2,     0.94,2,     0.00,6,     0.10,2, -999.000,9, -999.000,9, -999.000,9, -999.000,9,   2021.5,2,  17.6163
  18HU19941012, AR13c,    97,  1, 152059,     59,2,19941103,1209, 46.2662, -41.1920, 4618,    153.4,  15.6816,  36.0272,2,  36.0330,2,    173.0,3,    183.3,2,     3.71,2,     9.76,6,     0.53,2, -999.000,9, -999.000,9, -999.000,9, -999.000,9,   2123.7,2,  15.6575
  18HU19941012, AR13c,    97,  1, 152058,     58,2,19941103,1209, 46.2662, -41.1920, 4618,    303.1,  13.0562,  35.6894,2,  35.6987,2,    179.4,3,    189.5,2,     5.96,2,    13.61,6,     0.75,2, -999.000,9, -999.000,9, -999.000,9, -999.000,9,   2138.0,2,  13.0139
  18HU19941012, AR13c,    97,  1, 152057,     57,2,19941103,1209, 46.2662, -41.1920, 4618,    607.0,   6.3665,  34.8161,2,  34.8223,2,    199.8,3,    201.3,2,    12.36,2,    20.15,6,     1.27,2, -999.000,9, -999.000,9, -999.000,9, -999.000,9,   2170.5,2,   6.3110
  18HU19941012, AR13c,    97,  1, 152056,     56,2,19941103,1209, 46.2662, -41.1920, 4618,    795.8,   5.5659,  34.9934,2,  34.9993,2,    231.8,3,    225.8,2,    12.25,2,    19.51,6,     1.18,2, -999.000,9, -999.000,9, -999.000,9, -999.000,9,   2171.7,2,   5.4967
  18HU19941012, AR13c,    97,  1, 152055,     55,2,19941103,1209, 46.2662, -41.1920, 4618,   1050.9,   4.5805,  34.9830,2,  34.9893,2,    254.4,2,    255.8,2,    11.38,2,    18.36,6,     1.11,2, -999.000,9, -999.000,9, -999.000,9, -999.000,9,   2164.0,2,   4.4951
  18HU19941012, AR13c,    97,  1, 152054,     54,2,19941103,1209, 46.2662, -41.1920, 4618,   1293.1,   4.1347,  34.9566,2,  34.9625,2,    267.7,2,    269.5,2,    11.30,2,    17.72,6,     1.10,2, -999.000,9, -999.000,9, -999.000,9, -999.000,9,   2161.2,2,   4.0317
  18HU19941012, AR13c,    97,  1, 152053,     53,2,19941103,1209, 46.2662, -41.1920, 4618,   1506.8,   3.3904,  34.8600,2,  34.8669,2,    281.5,3,    293.1,2,    10.13,2,    16.88,6,     1.04,2, -999.000,9, -999.000,9, -999.000,9, -999.000,9,   2154.8,2,   3.2768
  18HU19941012, AR13c,    97,  1, 152052,     52,2,19941103,1209, 46.2662, -41.1920, 4618,   1708.2,   3.3363,  34.8657,2,  34.8709,2,    290.1,2,    301.4,2,    10.93,2,    17.06,6,     1.04,2, -999.000,9, -999.000,9, -999.000,9, -999.000,9,   2153.3,2,   3.2056
  18HU19941012, AR13c,    97,  1, 152051,     51,2,19941103,1209, 46.2662, -41.1920, 4618,   1899.1,   3.2981,  34.8744,2,  34.8797,2,    295.8,3,    290.3,2,    10.72,2,    17.03,6,     1.04,2, -999.000,9, -999.000,9, -999.000,9, -999.000,9,   2151.9,2,   3.1506
  18HU19941012, AR13c,    97,  1, 152050,     50,2,19941103,1209, 46.2662, -41.1920, 4618,   2087.9,   3.1791,  34.8626,2,  34.8687,2,    295.0,2,    293.9,2,    10.43,2,    16.40,6,     1.04,2, -999.000,9, -999.000,9, -999.000,9, -999.000,9,   2151.5,2,   3.0159
  18HU19941012, AR13c,    97,  1, 152049,     49,2,19941103,1209, 46.2662, -41.1920, 4618,   2300.1,   3.1735,  34.8726,2,  34.8778,2,    293.1,2,    291.4,2,    10.82,2,    16.90,6,     1.21,3, -999.000,9, -999.000,9, -999.000,9, -999.000,9,   2151.0,2,   2.9902
  18HU19941012, AR13c,    97,  1, 152048,     48,2,19941103,1209, 46.2662, -41.1920, 4618,   2501.1,   3.0246,  34.8524,2,  34.8607,2,    291.0,3,    297.6,0,    10.13,3,    16.64,6,     1.12,3, -999.000,9, -999.000,9, -999.000,9, -999.000,9,   2150.9,2,   2.8244
  18HU19941012, AR13c,    97,  1, 152047,     47,2,19941103,1209, 46.2662, -41.1920, 4618,   2710.3,   3.1799,  34.8977,2,  34.9055,2,    286.1,2,    286.2,2,    11.65,2,    16.92,6,     1.08,2, -999.000,9, -999.000,9, -999.000,9, -999.000,9,   2152.1,2,   2.9556
  18HU19941012, AR13c,    97,  1, 152046,     46,2,19941103,1209, 46.2662, -41.1920, 4618,   3010.6,   3.0819,  34.9155,2,  34.9231,2,    281.6,2,    282.8,2,    13.00,2,    16.82,6,     1.08,2, -999.000,9, -999.000,9, -999.000,9, -999.000,9,   2153.6,2,   2.8283
  18HU19941012, AR13c,    97,  1, 152045,     45,2,19941103,1209, 46.2662, -41.1920, 4618,   3324.9,   2.8803,  34.9179,2,  34.9242,2,    282.7,2,    282.3,2,    14.33,2,    16.78,6,     1.07,2, -999.000,9, -999.000,9, -999.000,9, -999.000,9,   2155.5,2,   2.5976
  18HU19941012, AR13c,    97,  1, 152044,     44,2,19941103,1209, 46.2662, -41.1920, 4618,   3641.5,   2.6583,  34.9105,2,  34.9161,2,    284.8,2,    282.9,2,    15.02,2,    16.64,6,     1.06,2, -999.000,9, -999.000,9, -999.000,9, -999.000,9,   2155.0,2,   2.3462
  18HU19941012, AR13c,    97,  1, 152043,     43,2,19941103,1209, 46.2662, -41.1920, 4618,   4243.5,   2.3210,  34.8957,2,  34.9036,2,    285.8,2,    285.2,2,    17.22,2,    16.58,6,     1.07,2, -999.000,9, -999.000,9, -999.000,9, -999.000,9,   2159.7,2,   1.9495
  18HU19941012, AR13c,    97,  1, 152042,     42,2,19941103,1209, 46.2662, -41.1920, 4618,   4545.0,   2.1672,  34.8864,2,  34.8916,2,    291.8,2,    292.5,2,    13.82,2,    15.53,6,     1.00,2, -999.000,9, -999.000,9, -999.000,9, -999.000,9,   2157.9,2,   1.7647
  18HU19941012, AR13c,    97,  1, 152041,     41,2,19941103,1209, 46.2662, -41.1920, 4618,   4614.3,   2.1653,  34.8856,2,  34.8916,2,    292.8,2,    292.7,2,    13.78,2,    15.51,6,     0.99,2, -999.000,9, -999.000,9, -999.000,9, -999.000,9,   2157.3,2,   1.7545
  18HU19941012, AR13c,    98,  1, 152080,     80,2,19941103,1810, 45.8648, -40.8120, 4627,     13.9,  17.5674,  35.6664,2,  35.6538,2,    240.9,3,    236.4,2,     0.95,2,     0.00,6,     0.09,2,    2.073,2,    1.337,2,    0.136,2,    2.859,2,   2049.3,2,  17.5651
  18HU19941012, AR13c,    98,  1, 152079,     79,2,19941103,1810, 45.8648, -40.8120, 4627,     90.9,  17.6934,  36.2604,2,  36.2826,2,    204.0,3,    204.8,2,     1.59,2,     3.66,6,     0.23,2,    2.082,2,    1.140,2,    0.132,2,    0.979,2,   2090.3,2,  17.6779
  18HU19941012, AR13c,    98,  1, 152078,     78,2,19941103,1810, 45.8648, -40.8120, 4627,    315.3,  14.1881,  35.8273,2,  35.8412,2,    205.1,3,    207.6,2,     3.97,2,     9.59,6,     0.56,2,    1.948,2,    1.234,2,    0.089,2,    0.889,2,   2118.1,2,  14.1416
  18HU19941012, AR13c,    98,  1, 152077,     77,2,19941103,1810, 45.8648, -40.8120, 4627,    506.0,  11.4499,  35.4396,2,  35.4474,2,    218.8,3,    221.0,2,     5.85,2,    12.39,6,     0.75,2,    2.183,2,    1.394,2,    0.105,2,    1.519,2,   2130.0,2,  11.3847
  18HU19941012, AR13c,    98,  1, 152076,     76,2,19941103,1810, 45.8648, -40.8120, 4627,    717.7,   7.9656,  35.0137,2,  35.0183,2,    187.5,3,    191.8,2,    11.47,2,    19.52,6,     1.20,2,    1.550,2,    0.903,2,    0.071,2,    1.507,2,   2168.2,2,   7.8907
  18HU19941012, AR13c,    98,  1, 152075,     75,2,19941103,1810, 45.8648, -40.8120, 4627,    825.8,   6.5934,  34.9467,2,  34.9518,2,    208.0,2,    204.3,2,    12.10,2,    19.67,6,     1.26,2,    1.558,2,    0.899,2,    0.093,2,    1.862,2,   2171.2,2,   6.5151
  18HU19941012, AR13c,    98,  1, 152074,     74,2,19941103,1810, 45.8648, -40.8120, 4627,   1002.4,   5.6574,  35.0334,2,  35.0632,2,    226.4,3,    226.5,2,    11.76,2,    18.66,6,     1.16,2,    1.480,2,    0.918,2,    0.055,2,    2.023,2,   2169.3,2,   5.5680
  18HU19941012, AR13c,    98,  1, 152073,     73,2,19941103,1810, 45.8648, -40.8120, 4627,   1155.5,   4.8855,  35.0008,2,  35.0105,2,    247.3,2,    247.9,2,    11.59,2,    18.22,6,     1.12,2,    1.611,2,    0.870,2,    0.065,2,    2.394,2,   2166.5,2,   4.7880
  18HU19941012, AR13c,    98,  1, 152072,     72,2,19941103,1810, 45.8648, -40.8120, 4627,   1405.1,   4.1859,  34.9560,2,  34.9619,2,    265.4,2,    266.9,2,    11.33,2,    17.89,6,     1.09,2,    1.696,2,    1.038,2,    0.115,2,    2.810,2,   2153.5,2,   4.0723
  18HU19941012, AR13c,    98,  1, 152071,     71,2,19941103,1810, 45.8648, -40.8120, 4627,   1593.9,   3.8226,  34.9243,2,  34.9310,2,    273.9,2,    275.9,2,    11.19,2,    17.66,6,     1.08,2,    1.760,2,    0.944,2,    0.078,2,    2.973,2,   2156.0,2,   3.6960
  18HU19941012, AR13c,    98,  1, 152070,     70,2,19941103,1810, 45.8648, -40.8120, 4627,   1900.7,   3.5313,  34.9006,2,  34.9064,2,    281.2,2,    283.3,2,    11.41,2,    17.06,6,     1.04,2,    1.838,2,    1.004,2,    0.080,2,    3.134,2,   2152.4,2,   3.3802
  18HU19941012, AR13c,    98,  1, 152069,     69,2,19941103,1810, 45.8648, -40.8120, 4627,   2198.0,   3.3057,  34.8823,2,  34.8823,2,   -999.0,9,    289.4,2,  -999.00,9,  -999.00,5,  -999.00,9,    2.017,2,    1.068,2,    0.118,2,    3.412,2,   2155.0,2,   3.1300
  18HU19941012, AR13c,    98,  1, 152068,     68,2,19941103,1810, 45.8648, -40.8120, 4627,   2492.6,   3.2740,  34.8974,2,  34.9131,2,    286.9,3,    283.4,2,    11.92,2,    16.83,6,     1.04,2,    1.643,2,    0.811,2,    0.091,2,    3.046,2,   -999.0,9,   3.0699
  18HU19941012, AR13c,    98,  1, 152067,     67,2,19941103,1810, 45.8648, -40.8120, 4627,   2697.4,   3.1358,  34.8851,2,  34.8952,2,    288.5,2,    289.4,2,    11.21,2,    16.42,6,     1.02,2,    1.992,2,    1.120,2,    0.082,2,    3.438,2,   2154.6,2,   2.9137
  18HU19941012, AR13c,    98,  1, 152066,     66,2,19941103,1810, 45.8648, -40.8120, 4627,   2910.2,   3.1764,  34.9218,2,  34.9284,2,    281.9,2,    279.7,2,    13.67,2,    16.85,6,     1.03,2,    0.972,2,    0.527,2,    0.024,2,    2.013,2,   2156.3,2,   2.9313
  18HU19941012, AR13c,    98,  1, 152065,     65,2,19941103,1810, 45.8648, -40.8120, 4627,   3424.2,   2.7961,  34.9175,2,  34.9495,2,    280.5,3,    271.6,0,    11.74,3,    17.34,6,     1.04,2,    1.666,2,    0.882,2,    0.059,2,    2.853,2,   2158.7,2,   2.5044
  18HU19941012, AR13c,    98,  1, 152064,     64,2,19941103,1810, 45.8648, -40.8120, 4627,   3891.4,   2.4755,  34.9034,2,  34.9096,2,    281.7,2,    281.0,2,    18.01,2,    16.81,6,     1.04,2,    0.937,2,    0.455,2,    0.039,2,    1.978,2,   2161.5,2,   2.1402
  18HU19941012, AR13c,    98,  1, 152063,     63,2,19941103,1810, 45.8648, -40.8120, 4627,   4281.7,   2.3351,  34.8955,2,  34.8955,2,   -999.0,9,    282.4,2,    19.40,2,    17.00,2,     1.05,2,    1.048,2,    0.631,2,    0.050,2,    2.145,2,   2163.1,2,   1.9588
  18HU19941012, AR13c,    98,  1, 152062,     62,2,19941103,1810, 45.8648, -40.8120, 4627,   4449.6,   2.3111,  34.8936,2,  34.9003,2,    283.0,2,    283.6,2,    18.36,2,    16.62,6,     1.02,2,    1.158,2,    0.671,2,    0.026,2,    2.495,2,   2162.4,2,   1.9155
  18HU19941012, AR13c,    98,  1, 152061,     61,2,19941103,1810, 45.8648, -40.8120, 4627,   4572.3,   2.2944,  34.8920,2,  34.8991,2,    284.5,2,    283.8,2,    18.20,2,    16.32,2,     1.01,2,    1.271,2,    0.620,2,    0.059,2,    2.419,2,   2161.9,2,   1.8846