BOTTLE,20140120PRINUNIVRMK
EXPOCODE,SECT_ID,STNNBR,CASTNO,SAMPNO,BTLNBR,BTLNBR_FLAG_W,DATE,TIME,LATITUDE,LONGITUDE,DEPTH,CTDPRS,CTDTMP,CTDSAL,CTDSAL_FLAG_W,SALNTY,SALNTY_FLAG_W,CTDOXY,CTDOXY_FLAG_W,OXYGEN,OXYGEN_FLAG_W,SILCAT,SILCAT_FLAG_W,NITRAT,NITRAT_FLAG_W,PHSPHT,PHSPHT_FLAG_W,CFC-11,CFC-11_FLAG_W,CFC-12,CFC-12_FLAG_W,CFC113,CFC113_FLAG_W,CCL4,CCL4_FLAG_W,TCARBN,TCARBN_FLAG_W,THETA
,,,,,,,,,,,METERS,DBAR,ITS-90,PSS-78,,PSS-78,,UMOL/KG,,UMOL/KG,,UMOL/KG,,UMOL/KG,,UMOL/KG,,PMOL/KG,,PMOL/KG,,PMOL/KG,,PMOL/KG,,UMOL/KG,,DEG C
  18HU19941012, AR13c,    52,  1, 151410,     10,2,19941026,0935, 46.0005, -46.5400,  537,     13.1,   8.6202,  32.6300,2,  32.6240,2,    229.5,3,    311.1,2,     0.86,2,     0.13,6,     0.28,2,    4.040,2,    2.080,2,    0.281,2,    4.724,2,   1998.4,2,   8.6189
  18HU19941012, AR13c,    52,  1, 151409,      9,2,19941026,0935, 46.0005, -46.5400,  537,    174.1,   3.9270,  34.6061,2,  34.6100,2,    242.3,3,    247.8,2,    11.19,2,    17.70,6,     1.18,2,    3.178,2,    1.499,2,    0.191,2,    3.694,2,   2157.8,2,   3.9150
  18HU19941012, AR13c,    52,  1, 151408,      8,2,19941026,0935, 46.0005, -46.5400,  537,    431.1,   4.4753,  34.9435,2,  34.9488,2,    256.9,2,    257.2,2,    11.19,2,    18.16,6,     1.15,2,    2.306,2,    1.190,2,    0.107,2,    2.943,2,   -999.0,9,   4.4426
  18HU19941012, AR13c,    52,  1, 151407,      7,2,19941026,0935, 46.0005, -46.5400,  537,    527.1,   3.7342,  34.9000,3,  34.8990,2,    269.3,3,    278.9,2,    11.00,2,    16.97,3,     1.11,2,    2.445,2,    1.171,2,    0.115,2,    3.601,2,   2157.5,2,   3.6970
  18HU19941012, AR13c,    53,  1, 151418,     18,2,19941026,1110, 45.8583, -46.4260, 1201,     51.2,   2.3081,  33.9334,2,  33.9203,2,    297.6,3,    297.9,2,     7.32,2,    10.95,6,     0.92,2,    4.073,2,    2.229,2,    0.304,2,    5.016,2,   2115.4,2,   2.3054
  18HU19941012, AR13c,    53,  1, 151417,     17,2,19941026,1110, 45.8583, -46.4260, 1201,    119.3,   3.2362,  34.3220,2,  34.3186,2,    266.7,3,    257.3,2,     9.92,2,    14.93,6,     1.10,2,    3.398,2,    1.769,2,    0.223,2,    4.410,2,   2141.9,2,   3.2287
  18HU19941012, AR13c,    53,  1, 151416,     16,2,19941026,1110, 45.8583, -46.4260, 1201,    345.1,   4.4866,  34.9040,2,  34.9094,2,    257.3,2,    255.0,2,    11.00,2,    17.54,6,     1.15,2,    2.316,2,    1.159,2,    0.131,2,    2.994,2,   2162.3,2,   4.4606
  18HU19941012, AR13c,    53,  1, 151415,     15,2,19941026,1110, 45.8583, -46.4260, 1201,    556.4,   3.4419,  34.8399,2,  34.8449,2,    284.5,2,    294.8,2,     9.90,2,    16.26,6,     1.06,2,    3.126,3,    1.829,3,    0.225,3,    4.513,3,   2150.8,2,   3.4038
  18HU19941012, AR13c,    53,  1, 151414,     14,2,19941026,1110, 45.8583, -46.4260, 1201,    618.8,   3.9061,  34.9242,2,  34.9322,2,    277.6,2,    274.3,2,    10.92,2,    17.47,6,     1.11,2,    2.045,2,    0.985,2,    0.095,2,    3.195,2,   2157.7,2,   3.8611
  18HU19941012, AR13c,    53,  1, 151413,     13,2,19941026,1110, 45.8583, -46.4260, 1201,    803.6,   3.4098,  34.8762,2,  34.8828,2,    286.9,2,    288.1,2,    10.71,2,    17.25,6,     1.09,2,    2.420,2,    1.239,2,    0.086,2,    3.661,2,   2152.9,2,   3.3534
  18HU19941012, AR13c,    53,  1, 151412,     12,2,19941026,1110, 45.8583, -46.4260, 1201,   1006.5,   3.0897,  34.8500,2,  34.8573,2,    296.7,2,    317.3,0,    10.13,2,    16.16,6,     1.06,2,    2.790,2,    1.479,2,    0.162,2,    4.340,2,   -999.0,9,   3.0200
  18HU19941012, AR13c,    53,  1, 151411,     11,2,19941026,1110, 45.8583, -46.4260, 1201,   1192.4,   2.9946,  34.8429,2,  34.8486,2,    301.3,2,    302.3,2,     9.92,2,    15.66,6,     1.04,2,    2.942,2,    1.503,2,    0.159,2,    4.599,2,   2150.7,2,   2.9112
  18HU19941012, AR13c,    54,  1, 151432,     32,2,19941026,1341, 45.7130, -46.3000, 2294,    133.1,   3.6228,  34.5134,2,  34.5165,2,    270.6,2,    258.8,2,    10.63,2,    16.65,6,     1.18,2,    3.047,2,    1.624,2,    0.192,2,    3.979,2,   2153.9,2,   3.6140
  18HU19941012, AR13c,    54,  1, 151431,     31,2,19941026,1341, 45.7130, -46.3000, 2294,    185.5,   3.0828,  34.5431,2,  34.5466,2,    271.4,3,    271.8,2,    10.30,2,    16.19,6,     1.12,2,    3.401,2,    1.743,2,    0.243,2,    4.631,2,   2152.1,2,   3.0713
  18HU19941012, AR13c,    54,  1, 151430,     30,2,19941026,1341, 45.7130, -46.3000, 2294,    235.2,   3.2148,  34.6544,2,  34.6609,2,    270.7,2,    278.9,2,     9.91,2,    16.33,6,     1.13,2,    3.407,2,    1.728,2,    0.237,2,    4.434,2,   2153.7,2,   3.1998
  18HU19941012, AR13c,    54,  1, 151429,     29,2,19941026,1341, 45.7130, -46.3000, 2294,    347.1,   4.0108,  34.8641,2,  34.8713,2,    263.3,3,    267.3,2,    10.71,2,    17.26,6,     1.16,2,    2.656,2,    1.312,2,    0.165,2,    3.550,2,   2159.9,2,   3.9860
  18HU19941012, AR13c,    54,  1, 151428,     28,2,19941026,1341, 45.7130, -46.3000, 2294,    548.9,   3.7299,  34.8919,2,  34.8979,2,    281.3,2,    271.9,2,    10.52,2,    17.11,6,     1.11,2,    2.496,2,    1.176,2,    0.115,2,    3.655,2,   2155.3,2,   3.6910
  18HU19941012, AR13c,    54,  1, 151427,     27,2,19941026,1341, 45.7130, -46.3000, 2294,    742.1,   3.6157,  34.8974,2,  34.9016,2,    282.8,2,    285.4,2,    10.70,2,    17.17,6,     1.10,2,    2.230,2,    1.055,2,    0.080,2,    3.343,2,   2152.8,2,   3.5627
  18HU19941012, AR13c,    54,  1, 151426,     26,2,19941026,1341, 45.7130, -46.3000, 2294,    829.3,   3.5019,  34.8859,2,  34.8910,2,    288.1,2,    287.8,2,    10.35,2,    16.48,6,     1.11,2,    2.354,2,    1.001,2,    0.099,2,    3.644,2,   2152.5,2,   3.4429
  18HU19941012, AR13c,    54,  1, 151425,     25,2,19941026,1341, 45.7130, -46.3000, 2294,    893.5,   3.5246,  34.8956,2,  34.8964,2,    287.1,3,    287.3,2,    10.54,2,    16.31,6,     1.11,2,    2.152,2,    1.021,2,    0.119,2,    3.430,2,   2152.9,2,   3.4604
  18HU19941012, AR13c,    54,  1, 151424,     24,2,19941026,1341, 45.7130, -46.3000, 2294,   1000.4,   3.3912,  34.8829,2,  34.8899,2,    291.6,2,    280.4,2,    10.52,2,    16.06,6,     1.09,2,    2.204,2,    1.043,2,    0.094,2,    3.466,2,   2151.7,2,   3.3196
  18HU19941012, AR13c,    54,  1, 151423,     23,2,19941026,1341, 45.7130, -46.3000, 2294,   1202.1,   3.1546,  34.8621,2,  34.8676,2,    299.5,2,    298.5,2,    10.33,2,    16.04,6,     1.06,2,    2.573,2,    1.201,2,    0.117,2,    3.894,2,   2150.1,2,   3.0689
  18HU19941012, AR13c,    54,  1, 151422,     22,2,19941026,1341, 45.7130, -46.3000, 2294,   1446.0,   3.0888,  34.8620,2,  34.8704,2,    300.3,3,   -999.0,9,    10.39,2,    15.74,6,     1.07,2,    2.420,2,    1.128,2,    0.135,2,    3.764,2,   2150.0,2,   2.9837
  18HU19941012, AR13c,    54,  1, 151421,     21,2,19941026,1341, 45.7130, -46.3000, 2294,   1744.8,   3.0482,  34.8658,2,  34.8718,2,    299.5,2,    299.6,2,    10.67,2,    15.90,6,     1.07,2,    2.346,2,    1.116,2,    0.104,2,    3.578,2,   2148.4,2,   2.9180
  18HU19941012, AR13c,    54,  1, 151420,     20,2,19941026,1341, 45.7130, -46.3000, 2294,   2076.4,   3.0890,  34.8923,2,  34.8968,2,    292.3,2,    292.3,2,    11.37,2,    15.96,6,     1.06,2,    1.791,2,    0.791,2,    0.081,2,    2.912,2,   2150.0,2,   2.9282
  18HU19941012, AR13c,    54,  1, 151419,     19,2,19941026,1341, 45.7130, -46.3000, 2294,   2291.3,   3.0775,  34.8994,2,  34.9052,2,    288.7,2,    286.4,2,    11.89,2,    16.27,6,     1.07,2,    1.560,2,    0.667,2,    0.076,2,    2.593,2,   2149.3,2,   2.8966
  18HU19941012, AR13c,    55,  1, 151452,     52,2,19941026,1712, 45.4752, -46.0980, 3520,     12.7,   9.9484,  32.5603,2,  32.5691,2,    283.6,3,    296.0,2,     0.70,2,     0.00,6,     0.30,2,    3.609,2,    1.998,2,    0.280,2,    4.629,2,   1987.4,2,   9.9470
  18HU19941012, AR13c,    55,  1, 151451,     51,2,19941026,1712, 45.4752, -46.0980, 3520,    100.5,   3.2462,  34.2270,2,  34.2210,2,    294.0,3,    273.3,2,     8.47,2,    13.12,6,     1.08,2,    4.060,2,    2.078,2,    0.289,2,    4.552,2,   2132.7,2,   3.2399
  18HU19941012, AR13c,    55,  1, 151450,     50,2,19941026,1712, 45.4752, -46.0980, 3520,    200.9,   3.9400,  34.6572,2,  34.6652,2,    270.4,3,    250.0,2,    11.24,2,    16.62,6,     1.23,2,    3.046,2,    1.591,2,    0.210,2,    3.628,2,   2158.4,2,   3.9261
  18HU19941012, AR13c,    55,  1, 151449,     49,2,19941026,1712, 45.4752, -46.0980, 3520,    328.5,   3.3609,  34.7404,2,  34.7446,2,    286.0,2,    283.4,2,    10.04,2,    15.97,6,     1.15,2,    3.667,2,    1.888,2,    0.248,2,    4.500,2,   2151.4,2,   3.3393
  18HU19941012, AR13c,    55,  1, 151448,     48,2,19941026,1712, 45.4752, -46.0980, 3520,    468.0,   4.0766,  34.9128,2,  34.9171,2,    276.4,2,    270.5,2,    10.83,2,    16.66,6,     1.15,2,    2.597,2,    1.302,2,    0.129,2,    3.371,2,   2156.7,2,   4.0425
  18HU19941012, AR13c,    55,  1, 151447,     47,2,19941026,1712, 45.4752, -46.0980, 3520,    798.1,   3.4957,  34.8849,2,  34.8896,2,    292.5,2,    287.1,2,    10.47,2,    16.23,6,     1.11,2,    2.625,2,    1.373,2,    0.126,2,    3.680,2,   2151.4,2,   3.4391
  18HU19941012, AR13c,    55,  1, 151446,     46,2,19941026,1712, 45.4752, -46.0980, 3520,    997.8,   3.4164,  34.8870,2,  34.8906,2,    293.0,2,    289.7,2,    10.63,2,    16.13,6,     1.10,2,    2.326,2,    1.154,2,    0.091,2,    3.458,2,   2150.7,2,   3.3448
  18HU19941012, AR13c,    55,  1, 151445,     45,2,19941026,1712, 45.4752, -46.0980, 3520,   1199.0,   3.1899,  34.8637,2,  34.8664,2,    296.2,2,    296.4,2,    10.31,2,    16.16,6,     1.10,2,    2.729,2,    1.367,2,    0.121,2,    3.852,2,   2148.5,2,   3.1041
  18HU19941012, AR13c,    55,  1, 151444,     44,2,19941026,1712, 45.4752, -46.0980, 3520,   1304.5,   3.1209,  34.8569,2,  34.8629,2,    301.4,2,    298.9,2,    10.19,2,    16.06,6,     1.09,2,    2.851,2,    1.465,2,    0.152,2,    4.036,2,   2149.7,2,   3.0272
  18HU19941012, AR13c,    55,  1, 151443,     43,2,19941026,1712, 45.4752, -46.0980, 3520,   1404.6,   3.1317,  34.8637,2,  34.8686,2,    300.7,2,    297.2,2,    10.41,2,    15.82,6,     1.09,2,    2.618,2,    1.292,2,    0.131,2,    3.753,2,   2148.3,2,   3.0296
  18HU19941012, AR13c,    55,  1, 151442,     42,2,19941026,1712, 45.4752, -46.0980, 3520,   1597.2,   3.0937,  34.8652,2,  34.8713,2,    298.2,2,   -999.0,9,    10.44,2,    15.74,6,     1.08,2,    2.533,2,    1.313,2,    0.127,2,    3.627,2,   2149.4,2,   2.9757
  18HU19941012, AR13c,    55,  1, 151441,     41,2,19941026,1712, 45.4752, -46.0980, 3520,   1805.0,   3.1164,  34.8819,2,  34.8875,2,    295.3,2,    295.3,2,    10.92,2,    15.84,6,     1.08,2,    2.123,2,    1.101,2,    0.093,2,    3.223,2,   2149.7,2,   2.9799
  18HU19941012, AR13c,    55,  1, 151440,     40,2,19941026,1712, 45.4752, -46.0980, 3520,   2003.1,   3.1239,  34.8980,2,  34.9021,2,    288.1,2,    289.4,2,    11.58,2,    15.99,6,     1.09,2,    1.685,2,    0.844,2,    0.053,2,    2.744,2,   2150.7,2,   2.9693
  18HU19941012, AR13c,    55,  1, 151439,     39,2,19941026,1712, 45.4752, -46.0980, 3520,   2193.8,   3.1062,  34.9125,2,  34.9178,2,    283.9,2,    285.6,2,    12.63,2,    15.95,6,     1.09,2,    1.314,2,    0.692,2,    0.026,2,    2.281,2,   2149.0,2,   2.9340
  18HU19941012, AR13c,    55,  1, 151438,     38,2,19941026,1712, 45.4752, -46.0980, 3520,   2403.5,   2.9928,  34.9137,2,  34.9188,2,    282.0,2,    283.0,2,    12.99,2,    15.82,6,     1.07,2,    1.282,2,    0.707,2,    0.054,2,    2.233,2,   2151.2,2,   2.8025
  18HU19941012, AR13c,    55,  1, 151437,     37,2,19941026,1712, 45.4752, -46.0980, 3520,   2599.8,   2.8709,  34.9148,2,  34.9202,2,    282.1,2,    284.7,2,    13.70,2,    15.77,6,     1.07,2,    1.185,2,    0.622,2,    0.022,2,    2.125,2,   2152.4,2,   2.6636
  18HU19941012, AR13c,    55,  1, 151436,     36,2,19941026,1712, 45.4752, -46.0980, 3520,   2901.3,   2.6718,  34.9112,2,  34.9163,2,    281.5,2,    285.7,2,    14.78,2,    15.90,6,     1.06,2,    1.189,2,    0.622,2,    0.018,2,    2.098,2,   2153.1,2,   2.4383
  18HU19941012, AR13c,    55,  1, 151435,     35,2,19941026,1712, 45.4752, -46.0980, 3520,   3202.0,   2.4613,  34.9009,2,  34.9039,2,    281.3,2,    289.5,2,    14.24,2,    15.37,6,     1.10,2, -999.000,9, -999.000,9, -999.000,9, -999.000,9,   2153.6,2,   2.2015
  18HU19941012, AR13c,    55,  1, 151434,     34,2,19941026,1712, 45.4752, -46.0980, 3520,   3408.7,   2.3239,  34.8969,2,  34.9033,2,    281.0,2,    289.3,2,    15.40,2,    15.32,6,     1.06,2,    1.437,2,    0.740,2,    0.055,2,    2.456,2,   2155.7,2,   2.0456
  18HU19941012, AR13c,    55,  1, 151433,     33,2,19941026,1712, 45.4752, -46.0980, 3520,   3513.6,   2.2416,  34.8936,2,  34.8947,2,    280.4,3,    289.1,2,    16.34,2,    15.43,6,     1.07,2,    1.430,2,    0.717,2,    0.053,2,    2.465,2,   2156.7,2,   1.9542
  18HU19941012, AR13c,    56,  1, 151472,     72,2,19941026,2209, 45.0520, -45.7160, 3642,     13.1,  12.9168,  32.6834,2,  32.6927,2,    242.4,3,    273.9,2,     0.83,2,     0.00,6,     0.26,2,    2.544,2,    1.641,2,    0.141,2,    3.435,2,   1978.9,2,  12.9151
  18HU19941012, AR13c,    56,  1, 151471,     71,2,19941026,2209, 45.0520, -45.7160, 3642,    200.7,   6.7680,  34.6984,2,  34.7118,2,    224.6,3,    211.0,2,    10.60,2,    16.42,6,     1.22,2,    2.038,2,    1.144,2,    0.087,2,    2.125,2,   2136.7,2,   6.7496
  18HU19941012, AR13c,    56,  1, 151470,     70,2,19941026,2209, 45.0520, -45.7160, 3642,    297.7,   4.9594,  34.5956,2,  32.6489,0,    222.6,3,    225.6,2,    11.90,2,    18.07,6,     1.29,2,    2.267,2,    1.261,2,    0.114,2,    2.642,2,   2158.3,2,   4.9362
  18HU19941012, AR13c,    56,  1, 151469,     69,2,19941026,2209, 45.0520, -45.7160, 3642,    504.6,   4.4060,  34.8413,2,  34.8439,2,    256.7,2,    252.7,2,    11.15,2,    17.79,6,     1.23,2,    2.339,2,    1.520,2,    0.123,2,    3.235,2,   2162.0,2,   4.3678
  18HU19941012, AR13c,    56,  1, 151468,     68,2,19941026,2209, 45.0520, -45.7160, 3642,    601.4,   4.4340,  34.9189,2,  34.9220,2,    260.1,3,    258.5,2,    10.90,2,    17.19,6,     1.20,2,    2.000,2,    1.105,2,    0.096,2,    2.611,2,   2161.7,2,   4.3878
  18HU19941012, AR13c,    56,  1, 151467,     67,2,19941026,2209, 45.0520, -45.7160, 3642,    819.4,   3.8003,  34.8938,2,  34.8974,2,    285.9,2,    280.3,2,    10.47,2,    16.27,6,     1.16,2,    2.447,2,    1.457,2,    0.098,2,    3.750,2,   2154.3,2,   3.7401
  18HU19941012, AR13c,    56,  1, 151466,     66,2,19941026,2209, 45.0520, -45.7160, 3642,    974.2,   3.6458,  34.8931,2,  34.8985,2,    290.0,2,    285.5,2,    10.47,2,    16.13,6,     1.16,2,    2.406,2,    1.432,2,    0.114,2,    3.703,2,   2153.7,2,   3.5743
  18HU19941012, AR13c,    56,  1, 151465,     65,2,19941026,2209, 45.0520, -45.7160, 3642,   1152.3,   3.4849,  34.8873,2,  34.8897,2,    295.1,2,    288.4,2,    10.29,2,    16.00,6,     1.14,2,    2.216,2,    1.089,2,    0.092,2,    3.514,2,   2151.5,2,   3.4002
  18HU19941012, AR13c,    56,  1, 151464,     64,2,19941026,2209, 45.0520, -45.7160, 3642,   1320.2,   3.5069,  34.9035,2,  34.9093,2,    290.4,2,    285.4,2,    10.97,2,    16.02,6,     1.15,2,    1.724,2,    1.053,2,    0.060,2,    3.155,2,   2152.1,2,   3.4079
  18HU19941012, AR13c,    56,  1, 151463,     63,2,19941026,2209, 45.0520, -45.7160, 3642,   1605.6,   3.2127,  34.8719,2,  34.8773,2,    298.1,2,    294.0,2,    10.45,2,    15.61,6,     1.11,2,    2.200,2,    1.321,2,    0.086,2,    3.623,2,   2148.1,2,   3.0926
  18HU19941012, AR13c,    56,  1, 151462,     62,2,19941026,2209, 45.0520, -45.7160, 3642,   1816.1,   3.1003,  34.8616,2,  34.8664,2,    300.9,2,    298.2,2,    10.38,2,    15.56,6,     1.12,2,    2.400,2,    1.154,2,    0.098,2,    3.826,2,   2143.2,2,   2.9631
  18HU19941012, AR13c,    56,  1, 151461,     61,2,19941026,2209, 45.0520, -45.7160, 3642,   2091.4,   3.1765,  34.8919,2,  34.8975,2,    294.6,2,    290.4,2,    11.42,2,    15.83,6,     1.12,2,    1.674,2,    0.994,2,    0.062,2,    3.002,2,   2149.9,2,   3.0129
  18HU19941012, AR13c,    56,  1, 151460,     60,2,19941026,2209, 45.0520, -45.7160, 3642,   2296.3,   3.1130,  34.8991,2,  34.9030,2,    288.3,2,    288.5,2,    11.62,2,    15.54,6,     1.11,2,    1.566,2,    0.912,2,    0.043,2,    2.827,2,   2149.8,2,   2.9310
  18HU19941012, AR13c,    56,  1, 151459,     59,2,19941026,2209, 45.0520, -45.7160, 3642,   2492.5,   3.0466,  34.9116,2,  34.9042,2,    285.7,3,    285.7,2,    12.62,2,    15.47,6,     1.11,2,    1.234,2,    0.584,2,    0.017,2,    2.282,2,   2150.5,2,   2.8467
  18HU19941012, AR13c,    56,  1, 151458,     58,2,19941026,2209, 45.0520, -45.7160, 3642,   2593.5,   2.9897,  34.9147,2,  34.9207,2,    285.0,2,    285.0,2,    12.94,2,    15.38,6,     1.10,2,    1.152,2,    0.422,2,    0.020,2,    2.228,2,   2151.1,2,   2.7808
  18HU19941012, AR13c,    56,  1, 151457,     57,2,19941026,2209, 45.0520, -45.7160, 3642,   2702.7,   2.9249,  34.9149,2,  34.9201,2,    284.8,2,    284.7,2,    13.27,2,    15.03,6,     1.11,2,    1.153,2,    0.519,2,    0.012,2,    2.240,2,   2151.0,2,   2.7063
  18HU19941012, AR13c,    56,  1, 151456,     56,2,19941026,2209, 45.0520, -45.7160, 3642,   2870.6,   2.8072,  34.9119,2,  34.9174,2,    285.2,2,    285.6,2,    13.48,2,    15.06,6,     1.10,2,    1.211,2,    0.606,2,    0.018,2,    2.280,2,   2151.1,2,   2.5740
  18HU19941012, AR13c,    56,  1, 151455,     55,2,19941026,2209, 45.0520, -45.7160, 3642,   3191.6,   2.5151,  34.9039,2,  34.9078,2,    286.4,2,    288.4,2,    14.45,2,    14.93,6,     1.08,2,    1.238,2,    0.514,2,    0.034,2,    2.323,2,   2136.2,3,   2.2551
  18HU19941012, AR13c,    56,  1, 151454,     54,2,19941026,2209, 45.0520, -45.7160, 3642,   3492.9,   2.2788,  34.8941,2,  34.8980,2,    286.5,2,    290.5,2,    15.26,2,    14.73,6,     1.07,2,    1.398,2,    0.696,2,    0.044,2,    2.566,2,   2153.6,2,   1.9927
  18HU19941012, AR13c,    56,  1, 151453,     53,2,19941026,2209, 45.0520, -45.7160, 3642,   3635.8,   2.1994,  34.8921,2,  34.8966,2,    284.0,2,    287.3,2,    18.49,2,    15.29,6,     1.11,2,    1.159,2,    0.498,2,    0.026,2,    2.182,2,   2158.2,2,   1.8999