BOTTLE,20140120PRINUNIVRMK
EXPOCODE,SECT_ID,STNNBR,CASTNO,SAMPNO,BTLNBR,BTLNBR_FLAG_W,DATE,TIME,LATITUDE,LONGITUDE,DEPTH,CTDPRS,CTDTMP,CTDSAL,CTDSAL_FLAG_W,SALNTY,SALNTY_FLAG_W,CTDOXY,CTDOXY_FLAG_W,OXYGEN,OXYGEN_FLAG_W,SILCAT,SILCAT_FLAG_W,NITRAT,NITRAT_FLAG_W,PHSPHT,PHSPHT_FLAG_W,CFC-11,CFC-11_FLAG_W,CFC-12,CFC-12_FLAG_W,CFC113,CFC113_FLAG_W,CCL4,CCL4_FLAG_W,TCARBN,TCARBN_FLAG_W,THETA
,,,,,,,,,,,METERS,DBAR,ITS-90,PSS-78,,PSS-78,,UMOL/KG,,UMOL/KG,,UMOL/KG,,UMOL/KG,,UMOL/KG,,PMOL/KG,,PMOL/KG,,PMOL/KG,,PMOL/KG,,UMOL/KG,,DEG C
  18HU19941012, AR13c,    76,  1, 151792,     92,2,19941031,0905, 44.6325, -42.5030, 4838,     12.8,  19.7185,  35.2819,2,  35.2889,2,    231.8,3,    230.8,2,     0.86,2,     0.00,6,     0.09,2,    1.819,2,    1.046,2,    0.106,2,    2.891,2,   2014.8,2,  19.7162
  18HU19941012, AR13c,    76,  1, 151791,     91,2,19941031,0905, 44.6325, -42.5030, 4838,    130.9,  16.6367,  36.0987,2,  36.1124,2,    186.5,3,    189.6,2,     2.74,2,     7.20,6,     0.47,2,    1.751,2,    0.993,2,    0.036,2,    0.627,2,   2109.7,2,  16.6153
  18HU19941012, AR13c,    76,  1, 151790,     90,2,19941031,0905, 44.6325, -42.5030, 4838,    361.5,  12.4834,  35.5937,2,  35.5821,2,    180.1,3,    176.6,2,     7.38,2,    15.96,6,     1.03,2,    1.342,2,    0.674,2,    0.000,2,    0.839,2,   2148.0,2,  12.4344
  18HU19941012, AR13c,    76,  1, 151789,     89,2,19941031,0905, 44.6325, -42.5030, 4838,    507.7,   9.7536,  35.2382,2,  35.2450,2,    169.4,2,    163.1,2,    11.25,2,    21.10,6,     1.36,2,    0.924,2,    0.379,2,    0.000,2,    0.751,2,   2170.1,2,   9.6945
  18HU19941012, AR13c,    76,  1, 151788,     88,2,19941031,0905, 44.6325, -42.5030, 4838,    704.7,   7.0198,  35.0558,2,  35.0616,2,    192.3,3,    182.2,2,    13.25,2,    21.59,6,     1.38,2,    0.971,2,    0.374,2,    0.020,2,    1.400,2,   2177.6,2,   6.9512
  18HU19941012, AR13c,    76,  1, 151787,     87,2,19941031,0905, 44.6325, -42.5030, 4838,   1022.5,   5.0468,  35.0336,2,  35.0405,2,    243.8,3,    248.6,2,    11.47,2,    18.73,6,     1.22,2,    1.375,2,    0.583,2,    0.024,2,    2.412,2,   2166.3,2,   4.9602
  18HU19941012, AR13c,    76,  1, 151786,     86,2,19941031,0905, 44.6325, -42.5030, 4838,   1324.0,   3.9904,  34.9354,2,  34.9512,2,    276.5,3,    273.5,2,    11.06,2,    17.38,6,     1.18,2,    1.852,2,    0.971,2,    0.074,2,    3.425,2,   2157.8,2,   3.8861
  18HU19941012, AR13c,    76,  1, 151785,     85,2,19941031,0905, 44.6325, -42.5030, 4838,   1432.4,   3.9515,  34.9438,2,  34.9500,2,    278.1,2,    275.2,2,    11.58,2,    17.65,6,     1.19,2,    1.460,2,    0.652,2,    0.056,2,    3.210,2,   2155.0,2,   3.8380
  18HU19941012, AR13c,    76,  1, 151784,     84,2,19941031,0905, 44.6325, -42.5030, 4838,   1722.8,   3.6027,  34.9111,2,  34.9185,2,    283.1,2,    283.8,2,    11.06,2,    17.35,6,     1.16,2,    1.616,2,    0.781,2,    0.035,2,    3.393,2,   2154.5,2,   3.4671
  18HU19941012, AR13c,    76,  1, 151783,     83,2,19941031,0905, 44.6325, -42.5030, 4838,   1995.6,   3.3803,  34.8925,2,  34.9002,2,    289.0,2,    289.6,2,    11.29,2,    17.10,6,     1.13,2,    1.744,2,    0.833,2,    0.053,2,    3.601,2,   2152.6,2,   3.2226
  18HU19941012, AR13c,    76,  1, 151782,     82,2,19941031,0905, 44.6325, -42.5030, 4838,   2173.3,   3.4444,  34.9208,2,  34.9280,2,    291.0,3,    282.1,2,    12.61,2,    17.18,6,     1.16,2,    1.094,2,    0.450,2,    0.000,2,    2.487,2,   2152.2,2,   3.2687
  18HU19941012, AR13c,    76,  1, 151781,     81,2,19941031,0905, 44.6325, -42.5030, 4838,   2468.6,   3.3347,  34.9298,2,  34.9363,2,    280.0,2,    280.2,2,    14.05,2,    17.40,6,     1.17,2,    0.825,2,    0.284,2,    0.000,2,    2.112,2,   2153.0,2,   3.1318
  18HU19941012, AR13c,    76,  1, 151780,     80,2,19941031,0905, 44.6325, -42.5030, 4838,   2654.4,   3.2524,  34.9332,2,  34.9583,2,    280.3,3,    276.6,2,    14.19,2,    17.38,6,     1.15,2,    0.738,2,    0.271,2,    0.000,2,    1.841,2,   2154.3,2,   3.0321
  18HU19941012, AR13c,    76,  1, 151779,     79,2,19941031,0905, 44.6325, -42.5030, 4838,   2999.5,   3.0054,  34.9285,2,  34.9370,2,    281.3,2,    279.1,2,    15.94,2,    17.32,6,     1.16,2,    0.574,2,    0.159,2,    0.000,2,    1.542,2,   2156.1,2,   2.7545
  18HU19941012, AR13c,    76,  1, 151778,     78,2,19941031,0905, 44.6325, -42.5030, 4838,   3415.8,   2.6912,  34.9148,2,  34.9211,2,    284.4,2,    282.1,2,    17.79,2,    17.44,6,     1.16,2,    0.747,2,    0.230,2,    0.000,2,    1.919,2,   2157.2,2,   2.4031
  18HU19941012, AR13c,    76,  1, 151777,     77,2,19941031,0905, 44.6325, -42.5030, 4838,   3810.7,   2.4247,  34.9019,2,  35.0017,0,    283.9,3,    258.8,0,    11.60,3,    17.53,6,     1.17,2,    1.505,3,    0.651,2,    0.047,2,    2.792,2,   2157.4,2,   2.0999
  18HU19941012, AR13c,    76,  1, 151776,     76,2,19941031,0905, 44.6325, -42.5030, 4838,   4065.7,   2.3550,  34.8969,2,  34.9038,2,    283.7,2,    297.6,0,    21.18,2,    17.42,6,     1.17,2,    0.751,2,    0.271,2,    0.000,2,    1.853,2,   2163.1,2,   2.0032
  18HU19941012, AR13c,    76,  1, 151775,     75,2,19941031,0905, 44.6325, -42.5030, 4838,   4414.7,   2.3070,  34.8919,2,  34.9032,2,    283.4,3,    283.6,2,    22.71,2,    17.34,6,     1.17,2,    0.783,2,    0.290,2,    0.000,2,    1.879,2,   2163.9,2,   1.9157
  18HU19941012, AR13c,    76,  1, 151774,     74,2,19941031,0905, 44.6325, -42.5030, 4838,   4707.2,   2.2917,  34.8891,2,  34.8961,2,    283.2,2,    282.6,2,    23.16,2,    17.44,6,     1.17,2,    0.923,2,    0.351,2,    0.024,2,    2.150,2,   2164.0,2,   1.8656
  18HU19941012, AR13c,    76,  1, 151773,     73,2,19941031,0905, 44.6325, -42.5030, 4838,   4833.3,   2.2937,  34.8891,2,  34.8971,2,    284.0,2,    285.2,2,    20.02,2,    16.83,6,     1.15,2,    1.096,2,    0.408,2,    0.000,2,    2.435,2,   2162.6,2,   1.8520
  18HU19941012, AR13c,    78,  1, 151812,     12,2,19941031,1739, 45.0188, -42.8530, 4751,     12.6,  15.7189,  33.9416,2,  33.9485,2,    257.0,3,    256.9,2,     0.80,2,     0.00,6,     0.17,2,    2.576,2,    1.378,2,    0.240,2,    3.530,2,   2003.0,2,  15.7170
  18HU19941012, AR13c,    78,  1, 151811,     11,2,19941031,1739, 45.0188, -42.8530, 4751,    100.1,  15.1079,  35.8096,2,  35.8113,2,    196.2,3,    193.2,2,     3.40,2,     8.28,6,     0.58,2,    2.081,2,    1.069,2,    0.083,2,    0.820,2,   2114.6,2,  15.0926
  18HU19941012, AR13c,    78,  1, 151810,     10,2,19941031,1739, 45.0188, -42.8530, 4751,    195.0,  13.7644,  35.7434,2,  35.7531,2,    194.2,3,    193.4,2,     4.95,2,    11.78,6,     0.78,2,    1.827,2,    1.087,2,    0.114,2,    0.838,2,   2127.5,2,  13.7363
  18HU19941012, AR13c,    78,  1, 151809,      9,2,19941031,1739, 45.0188, -42.8530, 4751,    313.3,   9.6862,  35.0377,2,  35.0441,2,    201.4,3,    203.3,2,     7.45,2,    14.97,6,     1.05,2,    2.243,2,    1.122,2,    0.111,2,    1.823,2,   2143.6,2,   9.6503
  18HU19941012, AR13c,    78,  1, 151808,      8,2,19941031,1739, 45.0188, -42.8530, 4751,    438.5,   7.7527,  34.8987,2,  34.9075,2,    193.1,3,    189.8,2,    11.11,2,    19.30,6,     1.30,2,    1.840,2,    0.970,2,    0.101,2,    1.956,2,   2164.5,2,   7.7085
  18HU19941012, AR13c,    78,  1, 151807,      7,2,19941031,1739, 45.0188, -42.8530, 4751,    612.8,   6.3433,  34.9707,2,  34.9646,2,    207.8,3,    203.9,2,    12.39,2,    20.64,6,     1.36,2,    1.475,2,    0.775,2,    0.079,2,    1.795,2,   2174.7,2,   6.2872
  18HU19941012, AR13c,    78,  1, 151806,      6,2,19941031,1739, 45.0188, -42.8530, 4751,    708.6,   5.2538,  34.9249,2,  34.9249,2,   -999.0,9,    232.0,2,  -999.00,9,  -999.00,5,  -999.00,9,    1.917,2,    0.937,2,    0.104,2,    2.453,2,   -999.0,9,   5.1944
  18HU19941012, AR13c,    78,  1, 151805,      5,2,19941031,1739, 45.0188, -42.8530, 4751,    957.2,   4.6820,  34.9852,2,  34.9906,2,    253.8,2,    253.7,2,    11.32,2,    18.45,6,     1.20,2,    1.833,2,    0.878,2,    0.096,2,    2.711,2,   2163.1,2,   4.6041
  18HU19941012, AR13c,    78,  1, 151804,      4,2,19941031,1739, 45.0188, -42.8530, 4751,   1147.8,   4.2784,  34.9665,2,  34.9728,2,    265.9,2,    266.3,2,    11.28,2,    18.19,6,     1.19,2,    1.735,2,    0.864,2,    0.083,2,    2.769,2,   2162.0,2,   4.1869
  18HU19941012, AR13c,    78,  1, 151803,      3,2,19941031,1739, 45.0188, -42.8530, 4751,   1288.3,   4.0278,  34.9493,2,  34.9567,2,    272.8,2,    272.1,2,    11.04,2,    17.95,6,     1.19,2,    1.619,2,    0.816,2,    0.070,2,    2.803,2,   2158.8,2,   3.9263
  18HU19941012, AR13c,    78,  1, 151802,      2,2,19941031,1739, 45.0188, -42.8530, 4751,   1706.1,   3.5245,  34.9073,2,  34.9144,2,    282.9,2,    283.6,2,    11.21,2,    17.50,6,     1.17,2, -999.000,9, -999.000,9, -999.000,9, -999.000,9,   2153.6,2,   3.3914
  18HU19941012, AR13c,    78,  1, 151801,      1,2,19941031,1739, 45.0188, -42.8530, 4751,   2109.8,   3.3202,  34.8984,2,  34.8984,2,   -999.0,9,    287.6,2,    11.83,2,    17.36,6,     1.15,2,    1.699,2,    0.818,2,    0.078,2,    2.977,2,   2157.1,2,   3.1526
  18HU19941012, AR13c,    78,  1, 151800,      0,2,19941031,1739, 45.0188, -42.8530, 4751,   2544.3,   3.2208,  34.9194,2,  34.9058,2,    281.8,3,    281.7,2,    12.96,2,    17.02,6,     1.19,2,    1.155,2,    0.693,2,    0.056,2,    2.249,2,   2155.3,2,   3.0125
  18HU19941012, AR13c,    78,  1, 151799,     99,2,19941031,1739, 45.0188, -42.8530, 4751,   2946.9,   2.9993,  34.9221,2,  34.9056,2,    282.3,3,    281.8,2,    14.37,2,    16.77,6,     1.14,2,    0.899,2,    0.565,2,    0.032,2,    1.820,2,   2153.9,2,   2.7542
  18HU19941012, AR13c,    78,  1, 151798,     98,2,19941031,1739, 45.0188, -42.8530, 4751,   3307.6,   2.7331,  34.9166,2,  34.9231,2,    282.9,2,    281.2,2,    16.74,2,    16.97,6,     1.15,2,    0.809,2,    0.518,2,    0.080,2,    1.685,2,   2157.4,2,   2.4557
  18HU19941012, AR13c,    78,  1, 151797,     97,2,19941031,1739, 45.0188, -42.8530, 4751,   3720.9,   2.4660,  34.9042,2,  34.9302,2,    284.7,3,    279.8,2,    12.46,3,    17.26,6,     1.16,2,    1.492,3,    0.742,2,    0.043,2,    2.653,2,   2157.3,2,   2.1500
  18HU19941012, AR13c,    78,  1, 151796,     96,2,19941031,1739, 45.0188, -42.8530, 4751,   4072.0,   2.3422,  34.8965,2,  34.9001,2,    283.2,2,    282.5,2,    20.64,2,    17.08,6,     1.17,2,    0.791,2,    0.474,2,    0.044,2,    1.702,2,   2163.2,2,   1.9900
  18HU19941012, AR13c,    78,  1, 151795,     95,2,19941031,1739, 45.0188, -42.8530, 4751,   4407.2,   2.2990,  34.8919,2,  34.8910,2,    282.8,3,    282.2,2,    20.98,2,    17.10,6,     1.16,2,    0.895,2,    0.503,2,    0.023,2,    1.788,2,   2163.1,2,   1.9089
  18HU19941012, AR13c,    78,  1, 151794,     94,2,19941031,1739, 45.0188, -42.8530, 4751,   4598.3,   2.2847,  34.8898,2,  34.8961,2,    282.7,2,    282.6,2,    22.19,2,    17.37,6,     1.17,2,    0.926,2,    0.503,2,    0.000,2,    1.833,2,   2165.7,2,   1.8721
  18HU19941012, AR13c,    78,  1, 151793,     93,2,19941031,1739, 45.0188, -42.8530, 4751,   4753.0,   2.2864,  34.8896,2,  34.8932,2,    283.7,2,    284.2,2,    20.04,2,    16.69,6,     1.14,2,    1.221,2,    0.627,2,    0.055,2,    2.637,2,   2164.1,2,   1.8548
  18HU19941012, AR13c,    80,  1, 151832,     32,2,19941031,0025, 45.4045, -43.2030, 4750,     12.6,  15.5684,  34.0447,2,  34.1189,2,    142.2,3,    252.4,2,     0.80,2,     0.00,6,     0.18,2,    2.233,2,    1.678,2,    0.206,2,    3.635,2,   2009.0,2,  15.5665
  18HU19941012, AR13c,    80,  1, 151831,     31,2,19941031,0025, 45.4045, -43.2030, 4750,    246.6,   7.8706,  34.8595,2,  34.8519,2,    206.9,3,    203.5,2,     9.81,2,    17.37,6,     1.22,2,    2.021,2,    1.220,2,    0.125,2,    2.426,2,   2159.0,2,   7.8458
  18HU19941012, AR13c,    80,  1, 151830,     30,2,19941031,0025, 45.4045, -43.2030, 4750,    499.8,   5.9459,  34.9615,2,  34.9801,2,    209.2,3,    211.7,2,    12.67,2,    20.12,6,     1.33,2,    1.423,2,    0.739,2,    0.104,2,    1.644,2,   2176.5,2,   5.9020
  18HU19941012, AR13c,    80,  1, 151829,     29,2,19941031,0025, 45.4045, -43.2030, 4750,    580.9,   5.7120,  35.0437,2,  35.0374,2,    228.3,3,    227.0,2,    12.16,2,    19.40,6,     1.29,2,    1.379,2, -999.000,9,    0.099,2,    1.699,2,   2172.7,2,   5.6617
  18HU19941012, AR13c,    80,  1, 151828,     28,2,19941031,0025, 45.4045, -43.2030, 4750,    756.8,   5.2001,  35.0502,2,  35.0561,2,    240.1,3,    237.8,2,    11.89,2,    18.55,6,     1.22,2,    1.391,2,    0.713,2,    0.089,2,    2.147,2,   2168.7,2,   5.1365
  18HU19941012, AR13c,    80,  1, 151827,     27,2,19941031,0025, 45.4045, -43.2030, 4750,    900.4,   4.8491,  35.0477,2,  35.0541,2,    249.9,2,    253.2,2,    11.73,2,    17.96,6,     1.21,2,    1.158,2,    0.678,2,    0.092,2,    1.916,2,   2167.1,2,   4.7749
  18HU19941012, AR13c,    80,  1, 151826,     26,2,19941031,0025, 45.4045, -43.2030, 4750,   1108.0,   4.3188,  34.9928,2,  34.9990,2,    263.4,2,    265.4,2,    11.55,2,    17.64,6,     1.19,2,    1.169,2,    0.815,2,    0.086,2,    2.109,2,   2162.3,2,   4.2305
  18HU19941012, AR13c,    80,  1, 151825,     25,2,19941031,0025, 45.4045, -43.2030, 4750,   1306.5,   3.8597,  34.9418,2,  34.9481,2,    274.7,2,    276.6,2,    11.55,2,    17.20,6,     1.19,2,    1.282,2,    0.797,2,    0.062,2,    2.515,2,   2157.7,2,   3.7583
  18HU19941012, AR13c,    80,  1, 151824,     24,2,19941031,0025, 45.4045, -43.2030, 4750,   1620.2,   3.4926,  34.9047,2,  34.9111,2,    282.1,2,    285.3,2,    11.51,2,    16.78,6,     1.16,2,    1.625,2,    0.955,2,    0.092,2,    2.889,2,   2155.0,2,   3.3677
  18HU19941012, AR13c,    80,  1, 151823,     23,2,19941031,0025, 45.4045, -43.2030, 4750,   1901.8,   3.2986,  34.8911,2,  34.8987,2,    288.4,2,    289.2,2,    11.31,2,    17.05,6,     1.15,2,    1.814,2,    1.171,2,    0.137,2,    3.222,2,   2154.4,2,   3.1508
  18HU19941012, AR13c,    80,  1, 151822,     22,2,19941031,0025, 45.4045, -43.2030, 4750,   2221.1,   3.2124,  34.8991,2,  34.8991,2,   -999.0,9,    288.1,2,    11.94,2,    16.84,6,     1.16,2,    1.593,2,    1.043,2,    0.094,2,    2.971,2,   2155.5,2,   3.0359
  18HU19941012, AR13c,    80,  1, 151821,     21,2,19941031,0025, 45.4045, -43.2030, 4750,   2508.9,   3.1470,  34.9171,2,  34.9219,2,    284.7,2,    282.1,2,    13.31,2,    16.83,6,     1.15,2,    1.134,2,    0.593,2,    0.059,2,    1.984,2,   2155.3,2,   2.9435
  18HU19941012, AR13c,    80,  1, 151820,     20,2,19941031,0025, 45.4045, -43.2030, 4750,   2823.4,   2.9997,  34.9231,2,  34.9231,2,   -999.0,9,    277.8,2,    13.61,2,    16.96,6,     1.14,2,    1.139,2,    0.743,2,    0.104,2,    2.126,2,   2154.0,2,   2.7673
  18HU19941012, AR13c,    80,  1, 151819,     19,2,19941031,0025, 45.4045, -43.2030, 4750,   3101.3,   2.8242,  34.9195,2,  34.9223,2,    283.5,2,    281.3,2,    15.68,2,    17.05,6,     1.15,2,    0.788,2,    0.560,2,    0.058,2,    1.609,2,   2157.0,2,   2.5667
  18HU19941012, AR13c,    80,  1, 151818,     18,2,19941031,0025, 45.4045, -43.2030, 4750,   3401.8,   2.6000,  34.9114,2,  34.9185,2,    284.2,2,    281.5,2,    17.64,2,    17.14,6,     1.17,2,    0.774,2,    0.387,2,    0.046,2,    1.466,2,   2158.6,2,   2.3157
  18HU19941012, AR13c,    80,  1, 151817,     17,2,19941031,0025, 45.4045, -43.2030, 4750,   3686.2,   2.4496,  34.9038,2,  34.9138,2,    283.9,2,    280.8,2,    19.27,2,    17.33,6,     1.20,2,    0.819,2,    0.551,2,    0.040,2,    1.559,2,   2162.8,2,   2.1380
  18HU19941012, AR13c,    80,  1, 151816,     16,2,19941031,0025, 45.4045, -43.2030, 4750,   4011.3,   2.3366,  34.8965,2,  34.9026,2,    281.8,2,    281.9,2,    21.42,2,    17.36,6,     1.18,2,    0.787,2,    0.471,2,    0.043,2,    1.603,2,   2165.2,2,   1.9915
  18HU19941012, AR13c,    80,  1, 151815,     15,2,19941031,0025, 45.4045, -43.2030, 4750,   4317.0,   2.3067,  34.8931,2,  34.9075,2,    282.4,3,    279.5,2,    20.06,2,    17.43,6,     1.19,2,    0.957,2,    0.593,2,    0.067,2,    2.196,2,   2163.3,2,   1.9270
  18HU19941012, AR13c,    80,  1, 151814,     14,2,19941031,0025, 45.4045, -43.2030, 4750,   4558.6,   2.2975,  34.8908,2,  34.8959,2,    282.3,2,    282.8,2,    22.27,2,    17.19,6,     1.19,2,    0.915,2,    0.545,2,    0.047,2,    1.783,2,   2166.6,2,   1.8893
  18HU19941012, AR13c,    80,  1, 151813,     13,2,19941031,0025, 45.4045, -43.2030, 4750,   4746.4,   2.2944,  34.8897,2,  34.8955,2,    282.7,2,    282.5,2,    21.05,2,    16.68,6,     1.21,2,    1.069,2,    0.547,2,    0.058,2,    1.925,2,   2166.3,2,   1.8634