BOTTLE,20140120PRINUNIVRMK
EXPOCODE,SECT_ID,STNNBR,CASTNO,SAMPNO,BTLNBR,BTLNBR_FLAG_W,DATE,TIME,LATITUDE,LONGITUDE,DEPTH,CTDPRS,CTDTMP,CTDSAL,CTDSAL_FLAG_W,SALNTY,SALNTY_FLAG_W,CTDOXY,CTDOXY_FLAG_W,OXYGEN,OXYGEN_FLAG_W,SILCAT,SILCAT_FLAG_W,NITRAT,NITRAT_FLAG_W,PHSPHT,PHSPHT_FLAG_W,CFC-11,CFC-11_FLAG_W,CFC-12,CFC-12_FLAG_W,CFC113,CFC113_FLAG_W,CCL4,CCL4_FLAG_W,TCARBN,TCARBN_FLAG_W,THETA
,,,,,,,,,,,METERS,DBAR,ITS-90,PSS-78,,PSS-78,,UMOL/KG,,UMOL/KG,,UMOL/KG,,UMOL/KG,,UMOL/KG,,PMOL/KG,,PMOL/KG,,PMOL/KG,,PMOL/KG,,UMOL/KG,,DEG C
  18HU19941012, AR13c,    19,  1, 150936,     36,2,19941019,1257, 38.1680, -47.0480, 5390,     13.8,  22.7571,  36.1916,2,  36.1967,2,     59.0,3,    218.5,2,     1.41,2,     0.00,6,     0.08,2,    1.759,2,    1.052,2,    0.128,2,    2.327,2,   2024.9,2,  22.7543
  18HU19941012, AR13c,    19,  1, 150935,     35,2,19941019,1257, 38.1680, -47.0480, 5390,    235.2,  18.3230,  36.5392,2,  36.5456,2,    204.1,2,    208.8,2,     2.05,2,     3.55,6,     0.28,2,    1.956,2,    1.136,2,    0.040,2,    0.648,2,   2089.0,2,  18.2817
  18HU19941012, AR13c,    19,  1, 150934,     34,2,19941019,1257, 38.1680, -47.0480, 5390,    264.7,  18.1510,  36.5218,2,  36.5268,2,    204.2,2,    205.2,2,     1.95,2,     4.02,6,     0.29,2,    1.924,2,    1.176,2,    0.043,2,    0.574,2,   2090.2,2,  18.1047
  18HU19941012, AR13c,    19,  1, 150933,     33,2,19941019,1257, 38.1680, -47.0480, 5390,    421.8,  16.5494,  36.2487,2,  36.2588,2,    199.7,2,    204.6,2,     2.92,2,     6.76,6,     0.50,2,    1.904,2,    1.129,2,    0.047,2,    0.774,2,   2104.8,2,  16.4800
  18HU19941012, AR13c,    19,  1, 150932,     32,2,19941019,1257, 38.1680, -47.0480, 5390,    916.0,   8.3742,  35.1393,2,  35.1520,2,    174.0,3,    170.0,2,    13.49,2,    22.19,6,     1.48,2,    0.825,2,    0.500,2,    0.031,2,    0.725,2,   2178.6,2,   8.2745
  18HU19941012, AR13c,    19,  1, 150931,     31,2,19941019,1257, 38.1680, -47.0480, 5390,   1222.4,   5.3475,  35.0457,2,  35.0555,2,    233.3,2,    234.6,2,    12.75,2,    19.39,6,     1.34,2,    1.129,2,    0.607,2,    0.032,2,    1.749,2,   2167.6,2,   5.2394
  18HU19941012, AR13c,    19,  1, 150930,     30,2,19941019,1257, 38.1680, -47.0480, 5390,   1533.2,   4.5595,  35.0191,2,  35.1093,2,    256.7,3,    236.0,2,    12.07,2,    18.80,6,     1.29,2,    1.108,2,    0.617,2,    0.014,2,    1.703,2,   2164.5,2,   4.4295
  18HU19941012, AR13c,    19,  1, 150929,     29,2,19941019,1257, 38.1680, -47.0480, 5390,   1827.7,   4.1799,  35.0019,2,  35.0128,2,    265.5,3,    266.7,2,    12.83,2,    17.79,6,     1.25,2,    0.805,2,    0.480,2,    0.017,2,    1.852,2,   2158.5,2,   4.0265
  18HU19941012, AR13c,    19,  1, 150928,     28,2,19941019,1257, 38.1680, -47.0480, 5390,   2130.9,   3.7437,  34.9705,2,  34.9766,2,    269.9,2,    271.5,2,    14.25,2,    17.62,6,     1.25,2,    0.578,2,    0.319,2,    0.027,2,    1.504,2,   2155.9,2,   3.5672
  18HU19941012, AR13c,    19,  1, 150927,     27,2,19941019,1257, 38.1680, -47.0480, 5390,   2420.7,   3.5511,  34.9730,2,  34.9831,2,    272.4,2,    268.0,2,    16.83,2,    17.84,6,     1.25,2,    0.329,2,    0.189,2,    0.013,2,    0.979,2,   2160.0,2,   3.3489
  18HU19941012, AR13c,    19,  1, 150926,     26,2,19941019,1257, 38.1680, -47.0480, 5390,   2750.3,   3.1030,  34.9300,2,  34.9461,2,    280.1,3,    278.3,2,    14.49,2,    17.26,6,     1.21,2,    0.680,2,    0.373,2,    0.000,2,    1.673,2,   2153.3,2,   2.8759
  18HU19941012, AR13c,    19,  1, 150925,     25,2,19941019,1257, 38.1680, -47.0480, 5390,   3010.1,   3.0589,  34.9354,2,  34.9419,2,    277.9,2,    276.9,2,    17.76,2,    17.76,6,     1.25,2,    0.477,2,    0.244,2,    0.012,2,    1.230,2,   2155.6,2,   2.8057
  18HU19941012, AR13c,    19,  1, 150924,     24,2,19941019,1257, 38.1680, -47.0480, 5390,   3323.5,   2.9038,  34.9361,2,  35.0214,0,    275.7,3,   -999.0,9,    19.96,2,    18.22,6,     1.29,2,    0.457,2,    0.233,2,    0.009,2,    0.804,2,   2161.6,2,   2.6206
  18HU19941012, AR13c,    19,  1, 150923,     23,2,19941019,1257, 38.1680, -47.0480, 5390,   3611.0,   2.5774,  34.9132,2,  34.9669,0,    278.9,3,    275.3,2,    21.88,2,    17.83,6,     1.27,2,    0.398,2,    0.245,2,    0.000,2,    0.879,2,   2159.9,2,   2.2708
  18HU19941012, AR13c,    19,  1, 150922,     22,2,19941019,1257, 38.1680, -47.0480, 5390,   3923.5,   2.4031,  34.9007,2,  34.9136,2,    279.9,3,    275.5,2,    26.06,2,    18.53,6,     1.31,2,    0.352,2,    0.213,2,    0.015,2,    0.891,2,   2165.5,2,   2.0661
  18HU19941012, AR13c,    19,  1, 150921,     21,2,19941019,1257, 38.1680, -47.0480, 5390,   4253.7,   2.2996,  34.8905,2,  34.9563,0,    278.2,3,    269.0,2,    24.99,2,    18.63,6,     1.31,2,    0.484,2,    0.262,2,    0.018,2,    1.030,2,   2166.5,2,   1.9276
  18HU19941012, AR13c,    19,  1, 150920,     20,2,19941019,1257, 38.1680, -47.0480, 5390,   4554.4,   2.2693,  34.8845,2,  34.9010,2,    276.4,3,    272.6,2,    32.13,2,    18.99,6,     1.34,2,    0.336,2,    0.160,2,    0.000,2,    0.792,2,   2174.8,2,   1.8624
  18HU19941012, AR13c,    19,  1, 150919,     19,2,19941019,1257, 38.1680, -47.0480, 5390,   4865.3,   2.2789,  34.8813,2,  34.9049,2,    274.6,3,    272.2,2,    32.21,2,    19.03,6,     1.33,2,    0.346,2,    0.199,2,    0.024,2,    0.782,2,   2172.9,2,   1.8336
  18HU19941012, AR13c,    19,  1, 150918,     18,2,19941019,1257, 38.1680, -47.0480, 5390,   5168.8,   2.2917,  34.8781,2,  34.8848,2,    272.4,2,    273.4,2,    36.15,2,    20.00,6,     1.38,2,    0.284,2,    0.172,2,    0.021,2,    0.646,2,   2179.3,2,   1.8078
  18HU19941012, AR13c,    19,  1, 150917,     17,2,19941019,1257, 38.1680, -47.0480, 5390,   5383.1,   2.3073,  34.8766,2,  34.8878,2,    271.3,3,    264.1,2,    35.48,2,    19.61,6,     1.34,2,    0.281,2,    0.160,2,    0.013,2,    0.623,2,   2182.4,2,   1.7951
  18HU19941012, AR13c,    20,  1, 150956,     56,2,19941019,2051, 38.1693, -46.2450, 5352,     14.4,  23.0730,  36.2508,2,  36.2572,2,     58.3,3,    218.0,2,     0.82,2,     0.00,6,     0.09,2,    1.613,2,    1.335,2,    0.162,2,    1.993,2,   2028.2,2,  23.0700
  18HU19941012, AR13c,    20,  1, 150955,     55,2,19941019,2051, 38.1693, -46.2450, 5352,    169.6,  18.6646,  36.5710,2,  36.5763,2,    196.1,2,    208.9,2,     1.22,2,     2.88,6,     0.22,2,    1.838,2,    1.463,2,    0.083,2,    0.559,2,   2084.1,2,  18.6344
  18HU19941012, AR13c,    20,  1, 150954,     54,2,19941019,2051, 38.1693, -46.2450, 5352,    507.6,  15.8745,  36.1699,2,  36.1785,2,    200.3,2,    218.5,2,     2.54,2,     6.63,6,     0.47,2,    1.934,2,    1.454,2,    0.123,2,    1.212,2,   2104.2,2,  15.7932
  18HU19941012, AR13c,    20,  1, 150953,     53,2,19941019,2051, 38.1693, -46.2450, 5352,    891.3,   9.2389,  35.2451,2,  35.7191,0,    172.0,3,    184.5,2,     5.71,2,    14.18,6,     0.93,2,    1.408,2,    0.822,2, -999.000,9,    0.478,2,   2141.5,3,   9.1364
  18HU19941012, AR13c,    20,  1, 150952,     52,2,19941019,2051, 38.1693, -46.2450, 5352,   1200.8,   5.5071,  35.0405,2,  35.0467,2,    230.0,2,    230.9,2,    11.84,2,    19.22,6,     1.30,2,    1.170,2,    0.664,2,    0.053,2,    1.670,2,   2171.1,2,   5.3997
  18HU19941012, AR13c,    20,  1, 150951,     51,2,19941019,2051, 38.1693, -46.2450, 5352,   1398.9,   5.3387,  35.1222,2,  35.1305,2,    238.6,2,    234.4,2,    12.48,2,    18.47,6,     1.24,2,    0.740,2,    0.517,2,    0.021,2,    1.311,2,   2167.8,2,   5.2132
  18HU19941012, AR13c,    20,  1, 150950,     50,2,19941019,2051, 38.1693, -46.2450, 5352,   1593.9,   4.8000,  35.0783,2,  35.0848,2,    250.0,2,    254.3,2,    12.08,2,    18.20,6,     1.23,2,    0.671,2,    0.446,2,    0.028,2,    1.336,2,   2162.7,2,   4.6614
  18HU19941012, AR13c,    20,  1, 150949,     49,2,19941019,2051, 38.1693, -46.2450, 5352,   1819.3,   4.1804,  35.0077,2,  35.0165,2,    263.1,2,    266.0,2,    12.05,2,    18.12,6,     1.21,2,    0.695,2, -999.000,9,    0.016,2,    1.573,2,   2157.9,2,   4.0278
  18HU19941012, AR13c,    20,  1, 150948,     48,2,19941019,2051, 38.1693, -46.2450, 5352,   2092.1,   3.8043,  34.9689,2,  34.9744,2,    270.8,2,    275.0,2,    13.67,2,    17.83,6,     1.21,2,    0.695,2,    0.442,2,    0.029,2,    1.646,2,   2156.9,2,   3.6307
  18HU19941012, AR13c,    20,  1, 150947,     47,2,19941019,2051, 38.1693, -46.2450, 5352,   2291.6,   3.6859,  34.9723,2,  34.9797,2,    271.7,2,    272.1,2,    14.19,2,    17.81,6,     1.21,2,    0.454,2,    0.327,2,    0.018,2,    1.231,2,   2157.7,2,   3.4944
  18HU19941012, AR13c,    20,  1, 150946,     46,2,19941019,2051, 38.1693, -46.2450, 5352,   2686.4,   3.3991,  34.9666,2,  34.9666,2,   -999.0,9,   -999.0,9,  -999.00,9,  -999.00,5,  -999.00,9,    0.000,3,    0.000,3,    0.000,2,    0.000,3,   -999.0,9,   3.1727
  18HU19941012, AR13c,    20,  1, 150945,     45,2,19941019,2051, 38.1693, -46.2450, 5352,   3000.0,   3.0910,  34.9418,2,  34.9483,2,    276.3,2,    274.2,2,    17.83,2,    17.78,6,     1.22,2,    0.312,2,    0.204,2,    0.013,2,    0.554,2,   2162.4,2,   2.8382
  18HU19941012, AR13c,    20,  1, 150944,     44,2,19941019,2051, 38.1693, -46.2450, 5352,   3196.2,   2.9622,  34.9354,2,  34.9437,2,    277.7,2,    273.4,2,    18.97,2,    18.08,6,     1.24,2,    0.294,2,    0.125,2,    0.014,2,    0.668,2,   2162.2,2,   2.6914
  18HU19941012, AR13c,    20,  1, 150943,     43,2,19941019,2051, 38.1693, -46.2450, 5352,   3612.6,   2.5969,  34.9142,2,  34.9207,2,    280.1,2,    276.2,2,    23.03,2,    18.21,6,     1.24,2,    0.313,2,    0.247,2,    0.000,2,    0.780,2,   2164.9,2,   2.2896
  18HU19941012, AR13c,    20,  1, 150942,     42,2,19941019,2051, 38.1693, -46.2450, 5352,   3890.7,   2.4218,  34.9026,2,  34.9073,2,    279.5,2,    276.4,2,    24.48,2,    18.11,6,     1.27,2,    0.323,2,    0.156,2,    0.014,2,    0.828,2,   2167.6,2,   2.0881
  18HU19941012, AR13c,    20,  1, 150941,     41,2,19941019,2051, 38.1693, -46.2450, 5352,   4182.2,   2.3216,  34.8931,2,  34.8989,2,    278.0,2,    274.4,2,    27.76,2,    18.78,6,     1.28,2,    0.333,2,    0.247,2,    0.020,2,    0.724,2,   2171.3,2,   1.9573
  18HU19941012, AR13c,    20,  1, 150940,     40,2,19941019,2051, 38.1693, -46.2450, 5352,   4595.9,   2.2695,  34.8846,2,  34.8898,2,    274.6,2,    272.0,2,    31.28,2,    19.23,6,     1.32,2,    0.349,2,    0.212,2,    0.000,2,    0.723,2,   2175.1,2,   1.8577
  18HU19941012, AR13c,    20,  1, 150939,     39,2,19941019,2051, 38.1693, -46.2450, 5352,   4986.5,   2.2691,  34.8785,2,  34.8879,2,    271.7,2,    322.6,0,    34.89,2,    19.50,6,     1.35,2,    0.291,2,    0.146,2,    0.025,2,    0.643,2,   2180.6,2,   1.8091
  18HU19941012, AR13c,    20,  1, 150938,     38,2,19941019,2051, 38.1693, -46.2450, 5352,   5188.5,   2.2820,  34.8773,2,  34.8823,2,    270.6,2,    269.1,2,    35.84,2,    19.76,6,     1.37,2,    0.287,2,    0.243,2,    0.000,2,    0.715,2,   2182.7,2,   1.7959
  18HU19941012, AR13c,    20,  1, 150937,     37,2,19941019,2051, 38.1693, -46.2450, 5352,   5345.4,   2.2852,  34.8747,2,  34.8810,2,    269.8,2,    269.0,2,    37.58,2,    19.87,6,     1.36,2,    0.266,2,    0.127,2,    0.013,2,    0.537,2,   2186.5,2,   1.7787
  18HU19941012, AR13c,    21,  1, 150976,     76,2,19941020,0404, 38.1670, -45.4350, 5323,     14.1,  22.7322,  36.2969,2,  36.3016,2,     88.0,3,    221.6,2,     1.07,2,     0.00,6,     0.07,2,    1.708,2,    1.064,2,    0.088,2,    2.214,2,   2031.7,2,  22.7293
  18HU19941012, AR13c,    21,  1, 150975,     75,2,19941020,0404, 38.1670, -45.4350, 5323,    112.2,  19.2855,  36.5814,2,  36.5859,2,    195.7,2,    206.0,2,     1.36,2,     2.35,6,     0.15,2,    1.906,2,    1.103,2,    0.070,2,    0.751,2,   2086.6,2,  19.2651
  18HU19941012, AR13c,    21,  1, 150974,     74,2,19941020,0404, 38.1670, -45.4350, 5323,    337.2,  18.0484,  36.5246,2,  36.5285,2,    213.1,3,   -999.0,9,     1.62,2,     3.42,6,     0.23,2,    2.020,2,    1.155,2,    0.028,2,    0.883,2,   2085.6,2,  17.9896
  18HU19941012, AR13c,    21,  1, 150973,     73,2,19941020,0404, 38.1670, -45.4350, 5323,    508.1,  16.3807,  36.2263,2,  36.2809,2,    208.1,3,    204.6,2,     2.58,2,     6.68,6,     0.44,2,    1.881,2,    0.974,2,    0.030,2,    0.762,2,   2105.1,2,  16.2975
  18HU19941012, AR13c,    21,  1, 150972,     72,2,19941020,0404, 38.1670, -45.4350, 5323,    700.7,  13.9528,  35.8109,2,  35.8153,2,    191.4,2,    187.6,2,     5.43,2,    13.08,6,     0.86,2,    1.536,2,    0.879,2,    0.021,2,    0.592,2,   2135.0,2,  13.8493
  18HU19941012, AR13c,    21,  1, 150971,     71,2,19941020,0404, 38.1670, -45.4350, 5323,    892.7,  10.1649,  35.3046,2,  35.3114,2,    172.3,3,    172.5,2,    10.46,2,    19.90,6,     1.31,2,    1.130,2,    0.657,2,    0.000,2,    0.683,2,   2167.3,2,  10.0562
  18HU19941012, AR13c,    21,  1, 150970,     70,2,19941020,0404, 38.1670, -45.4350, 5323,   1094.9,   6.8971,  35.0801,2,  35.0904,2,    203.8,3,    199.4,2,    12.78,2,    20.74,6,     1.34,2,    1.051,2,    0.552,2,    0.000,2,    1.252,2,   2175.7,2,   6.7886
  18HU19941012, AR13c,    21,  1, 150969,     69,2,19941020,0404, 38.1670, -45.4350, 5323,   1286.7,   5.9219,  35.1462,2,  35.1576,2,    229.2,3,    222.8,2,    11.81,2,    19.27,6,     1.30,2,    0.946,2,    0.520,2,    0.025,2,    1.473,2,   2172.2,2,   5.8019
  18HU19941012, AR13c,    21,  1, 150968,     68,2,19941020,0404, 38.1670, -45.4350, 5323,   1598.8,   4.7277,  35.0475,2,  35.0503,2,    255.6,2,    257.6,2,    11.62,2,    18.50,6,     1.25,2,    0.965,2,    0.544,2,    0.013,2,    1.924,2,   2159.4,2,   4.5895
  18HU19941012, AR13c,    21,  1, 150967,     67,2,19941020,0404, 38.1670, -45.4350, 5323,   1902.9,   4.1419,  34.9959,2,  35.0025,2,    268.1,2,    267.8,2,    12.17,2,    18.19,6,     1.26,2,    0.809,2,    0.429,2,    0.000,2,    1.873,2,   2158.2,2,   3.9817
  18HU19941012, AR13c,    21,  1, 150966,     66,2,19941020,0404, 38.1670, -45.4350, 5323,   2189.0,   3.7656,  34.9622,2,  34.9717,2,    275.3,2,    274.6,2,    12.92,2,    17.59,6,     1.21,2,    0.676,2,    0.415,2,    0.000,2,    1.714,2,   2157.2,2,   3.5830
  18HU19941012, AR13c,    21,  1, 150965,     65,2,19941020,0404, 38.1670, -45.4350, 5323,   2590.4,   3.4041,  34.9463,2,  34.9542,2,    279.6,2,    276.6,2,    14.53,2,    17.55,6,     1.22,2,    0.564,2,    0.361,2,    0.011,2,    1.432,2,   2155.7,2,   3.1875
  18HU19941012, AR13c,    21,  1, 150964,     64,2,19941020,0404, 38.1670, -45.4350, 5323,   2982.9,   3.1173,  34.9436,2,  34.9747,2,    279.9,3,    271.5,2,    17.72,2,    17.81,6,     1.23,2,    0.358,2,    0.288,2,    0.000,2,    0.858,2,   2159.4,2,   2.8656
  18HU19941012, AR13c,    21,  1, 150963,     63,2,19941020,0404, 38.1670, -45.4350, 5323,   3381.9,   2.7628,  34.9230,2,  34.9314,2,    282.8,2,    277.8,2,    19.65,2,    18.08,6,     1.24,2,    0.403,2,    0.274,2,    0.000,2,    1.017,2,   2160.7,2,   2.4766
  18HU19941012, AR13c,    21,  1, 150962,     62,2,19941020,0404, 38.1670, -45.4350, 5323,   3789.6,   2.4586,  34.9056,2,  34.9187,2,    284.3,3,    277.0,2,    23.60,2,    17.36,6,     1.22,2,    0.301,2,    0.210,2,    0.000,2,    0.819,2,   2165.2,2,   2.1352
  18HU19941012, AR13c,    21,  1, 150961,     61,2,19941020,0404, 38.1670, -45.4350, 5323,   4180.5,   2.2865,  34.8910,2,  34.9575,0,    280.8,3,    266.5,2,    23.06,2,    18.55,6,     1.27,2,    0.452,2,    0.274,2,    0.016,2,    1.007,2,   2167.8,2,   1.9234
  18HU19941012, AR13c,    21,  1, 150960,     60,2,19941020,0404, 38.1670, -45.4350, 5323,   4590.5,   2.2573,  34.8829,2,  34.8909,2,    276.8,2,    271.4,2,    34.23,2,    19.48,6,     1.33,2,    0.266,2,    0.249,2,    0.000,2,    0.723,2,   2178.2,2,   1.8465
  18HU19941012, AR13c,    21,  1, 150959,     59,2,19941020,0404, 38.1670, -45.4350, 5323,   4991.5,   2.2722,  34.8790,2,  34.8901,2,    273.2,3,    270.8,2,    33.66,2,    20.16,6,     1.36,2,    0.283,2,    0.192,2,    0.000,2,    0.693,2,   2179.1,2,   1.8114
  18HU19941012, AR13c,    21,  1, 150958,     58,2,19941020,0404, 38.1670, -45.4350, 5323,   5206.0,   2.2874,  34.8776,2,  34.8825,2,    271.9,2,    269.7,2,    36.65,2,    20.11,6,     1.35,2,    0.262,2,    0.213,2,    0.000,2,    0.645,2,   2179.8,2,   1.7989
  18HU19941012, AR13c,    21,  1, 150957,     57,2,19941020,0404, 38.1670, -45.4350, 5323,   5316.5,   2.2739,  34.8739,2,  34.8819,2,    271.4,2,    277.0,2,    38.05,2,    20.22,6,     1.33,2,    0.219,2,    0.192,2,    0.000,2,    0.532,2,   2184.5,2,   1.7716