BOTTLE,20140120PRINUNIVRMK
EXPOCODE,SECT_ID,STNNBR,CASTNO,SAMPNO,BTLNBR,BTLNBR_FLAG_W,DATE,TIME,LATITUDE,LONGITUDE,DEPTH,CTDPRS,CTDTMP,CTDSAL,CTDSAL_FLAG_W,SALNTY,SALNTY_FLAG_W,CTDOXY,CTDOXY_FLAG_W,OXYGEN,OXYGEN_FLAG_W,SILCAT,SILCAT_FLAG_W,NITRAT,NITRAT_FLAG_W,PHSPHT,PHSPHT_FLAG_W,CFC-11,CFC-11_FLAG_W,CFC-12,CFC-12_FLAG_W,CFC113,CFC113_FLAG_W,CCL4,CCL4_FLAG_W,TCARBN,TCARBN_FLAG_W,THETA
,,,,,,,,,,,METERS,DBAR,ITS-90,PSS-78,,PSS-78,,UMOL/KG,,UMOL/KG,,UMOL/KG,,UMOL/KG,,UMOL/KG,,PMOL/KG,,PMOL/KG,,PMOL/KG,,PMOL/KG,,UMOL/KG,,DEG C
  18HU19941012, AR13c,    28,  1, 151116,     16,2,19941021,2256, 40.7160, -42.8320, 5006,     13.1,  22.7228,  36.0438,2,  36.0501,2,     92.3,3,    211.0,2,     0.98,2,     0.00,6,     0.08,2,    1.501,2,    1.005,2,    0.091,2,    2.069,2,   2018.5,2,  22.7201
  18HU19941012, AR13c,    28,  1, 151115,     15,2,19941021,2256, 40.7160, -42.8320, 5006,    155.3,  18.8273,  36.5889,2,  36.5953,2,    202.4,2,    199.2,2,     1.36,2,     3.10,6,     0.22,2,    1.760,2,    1.075,2,    0.035,2,    0.291,2,   2092.1,2,  18.7995
  18HU19941012, AR13c,    28,  1, 151114,     14,2,19941021,2256, 40.7160, -42.8320, 5006,    314.1,  17.8759,  36.4897,2,  36.4949,2,    213.2,2,    202.8,2,     1.81,2,     4.76,6,     0.30,2,    1.720,2,    1.058,2,    0.011,2,    0.387,2,   2094.8,2,  17.8215
  18HU19941012, AR13c,    28,  1, 151113,     13,2,19941021,2256, 40.7160, -42.8320, 5006,    556.2,  13.1528,  35.7016,2,  35.7083,2,    178.0,3,    163.6,2,     7.18,2,    15.99,6,     1.11,2,    1.036,2,    0.754,2,    0.000,2,    0.366,2,   2151.3,2,  13.0742
  18HU19941012, AR13c,    28,  1, 151112,     12,2,19941021,2256, 40.7160, -42.8320, 5006,    701.1,  10.4331,  35.4104,2,  35.4048,2,    173.4,3,    188.0,2,     8.53,2,    17.61,6,     1.18,2,    1.338,2,    0.700,2,    0.028,2,    0.586,2,   2157.7,2,  10.3471
  18HU19941012, AR13c,    28,  1, 151111,     11,2,19941021,2256, 40.7160, -42.8320, 5006,    796.2,   9.1156,  35.3210,2,  35.3220,2,    184.2,3,    187.8,2,    10.21,2,    19.06,6,     1.25,2,    1.073,2,    0.698,2,    0.010,2,    0.702,2,   2167.9,2,   9.0251
  18HU19941012, AR13c,    28,  1, 151110,     10,2,19941021,2256, 40.7160, -42.8320, 5006,    993.4,   6.9485,  35.1598,2,  35.1666,2,    208.1,3,    204.4,2,    12.45,2,    20.38,6,     1.34,2,    0.941,2,    0.597,2,    0.012,2,    1.302,2,   2177.8,2,   6.8502
  18HU19941012, AR13c,    28,  1, 151109,      9,2,19941021,2256, 40.7160, -42.8320, 5006,   1195.9,   5.3617,  35.0677,2,  35.0750,2,    242.7,2,    239.9,2,    11.75,2,    18.70,6,     1.28,2,    1.225,2,    0.613,2,    0.031,2,    1.827,2,   2167.3,2,   5.2560
  18HU19941012, AR13c,    28,  1, 151108,      8,2,19941021,2256, 40.7160, -42.8320, 5006,   1484.3,   4.3315,  34.9814,2,  34.9862,2,    267.9,2,    265.4,2,    11.54,2,    17.96,6,     1.23,2,    1.291,2,    0.993,2,    0.027,2,    2.514,2,   2156.3,2,   4.2090
  18HU19941012, AR13c,    28,  1, 151107,      7,2,19941021,2256, 40.7160, -42.8320, 5006,   1779.6,   3.6658,  34.9075,2,  34.9207,2,    281.6,3,    283.3,2,    11.20,2,    17.41,6,     1.20,2,    1.767,2,    1.205,2,    0.074,2,    3.388,2,   2152.0,2,   3.5241
  18HU19941012, AR13c,    28,  1, 151106,      6,2,19941021,2256, 40.7160, -42.8320, 5006,   2188.4,   3.4840,  34.9137,2,  34.9195,2,    281.5,2,    283.8,2,    11.85,2,    16.93,6,     1.21,2,    1.306,2,    0.740,2,    0.030,2,    2.547,2,   2151.8,2,   3.3062
  18HU19941012, AR13c,    28,  1, 151105,      5,2,19941021,2256, 40.7160, -42.8320, 5006,   2497.2,   3.3760,  34.9219,2,  34.9286,2,    279.2,2,    282.3,2,    13.00,2,    16.90,6,     1.22,2,    1.024,2,    0.716,2,    0.023,2,    2.255,2,   2136.2,3,   3.1695
  18HU19941012, AR13c,    28,  1, 151104,      4,2,19941021,2256, 40.7160, -42.8320, 5006,   2646.5,   3.2625,  34.9152,2,  34.9246,2,    279.0,2,    283.7,2,    12.97,2,    17.07,6,     1.17,2,    1.158,2,    0.795,2,    0.019,2,    2.639,2,   2153.4,2,   3.0430
  18HU19941012, AR13c,    28,  1, 151103,      3,2,19941021,2256, 40.7160, -42.8320, 5006,   2798.8,   3.1937,  34.9170,2,  34.9336,2,    279.0,3,    283.2,2,    13.10,2,    16.72,6,     1.17,2,    1.113,2,    0.560,2,    0.024,2,    2.148,2,   2144.7,3,   2.9599
  18HU19941012, AR13c,    28,  1, 151102,      2,2,19941021,2256, 40.7160, -42.8320, 5006,   3209.5,   2.9535,  34.9229,2,  34.9316,2,    276.9,2,    280.9,2,    14.37,2,    16.67,6,     1.20,2,    0.837,2,    0.544,2,    0.000,2,    1.918,2,   2155.2,2,   2.6815
  18HU19941012, AR13c,    28,  1, 151101,      1,2,19941021,2256, 40.7160, -42.8320, 5006,   3613.6,   2.6648,  34.9154,2,  34.9295,2,    276.7,3,    279.6,2,    16.19,2,    17.23,6,     1.19,2,    0.812,2,    0.450,2,    0.017,2,    1.879,2,   2154.1,2,   2.3556
  18HU19941012, AR13c,    28,  1, 151100,      0,2,19941021,2256, 40.7160, -42.8320, 5006,   4013.0,   2.4211,  34.9015,2,  34.9106,2,    277.3,2,    280.9,2,    21.25,2,    17.41,6,     1.22,2,    0.680,2,    0.366,2,    0.015,2,    1.650,2,   2162.3,2,   2.0734
  18HU19941012, AR13c,    28,  1, 151099,     99,2,19941021,2256, 40.7160, -42.8320, 5006,   4445.9,   2.3262,  34.8938,2,  34.9223,2,    274.9,3,    280.2,2,    21.00,2,    17.09,6,     1.20,2,    0.730,2,    0.361,2,    0.000,2,    1.463,2,   2160.7,2,   1.9305
  18HU19941012, AR13c,    28,  1, 151098,     98,2,19941021,2256, 40.7160, -42.8320, 5006,   4834.1,   2.3102,  34.8897,2,  34.8981,2,    272.4,2,    281.5,2,    23.64,2,    17.66,6,     1.22,2,    0.875,2,    0.563,3,    0.017,2,    1.928,2,   2165.6,2,   1.8678
  18HU19941012, AR13c,    28,  1, 151097,     97,2,19941021,2256, 40.7160, -42.8320, 5006,   5000.3,   2.3092,  34.8895,2,  34.9003,2,    271.8,3,    276.9,2,    21.20,2,    16.79,6,     1.22,2,    1.081,2,    0.610,3,    0.031,2,    2.265,2,   2163.0,2,   1.8460
  18HU19941012, AR13c,    29,  1, 151136,     36,2,19941022,0457, 41.1412, -42.5030, 5003,     12.7,  20.9731,  35.8604,2,  35.8674,2,    169.1,3,    220.3,2,     0.63,2,     0.00,6,     0.07,2,    1.870,2,    1.102,2,    0.202,2,    2.513,2,   -999.0,9,  20.9707
  18HU19941012, AR13c,    29,  1, 151135,     35,2,19941022,0457, 41.1412, -42.5030, 5003,    104.3,  17.9087,  36.4133,2,  36.4186,2,    212.3,2,    205.9,2,     1.50,2,     3.54,6,     0.25,2,    1.971,2,    1.068,2,    0.083,2,    0.867,2,   -999.0,9,  17.8907
  18HU19941012, AR13c,    29,  1, 151134,     34,2,19941022,0457, 41.1412, -42.5030, 5003,    208.3,  16.2481,  36.1873,2,  36.1969,2,    201.2,3,    186.1,2,     3.33,2,     8.74,6,     0.58,2,    1.629,2,    0.947,2,    0.054,2,    0.549,2,   -999.0,9,  16.2145
  18HU19941012, AR13c,    29,  1, 151133,     33,2,19941022,0457, 41.1412, -42.5030, 5003,    402.0,  13.4555,  35.7449,2,  35.7458,2,    186.5,3,    175.5,2,     6.18,2,    14.09,6,     0.96,2,    1.375,2,    0.805,2,    0.048,2,    0.576,2,   -999.0,9,  13.3981
  18HU19941012, AR13c,    29,  1, 151132,     32,2,19941022,0457, 41.1412, -42.5030, 5003,    603.2,  10.0354,  35.2840,2,  35.2911,2,    176.0,2,    176.8,2,     9.91,2,    18.59,6,     1.27,2,    1.302,2,    0.673,2,    0.041,2,    0.902,2,   -999.0,9,   9.9635
  18HU19941012, AR13c,    29,  1, 151131,     31,2,19941022,0457, 41.1412, -42.5030, 5003,    814.4,   7.8794,  35.2338,2,  35.2239,2,    193.3,3,    195.0,2,    11.74,2,    19.57,6,     1.34,2,    0.971,2,    0.532,2,    0.031,2,    0.987,2,   -999.0,9,   7.7942
  18HU19941012, AR13c,    29,  1, 151130,     30,2,19941022,0457, 41.1412, -42.5030, 5003,    996.1,   6.9719,  35.2826,2,  35.2856,2,    210.1,2,    212.7,2,    11.63,2,    18.67,6,     1.29,2,    0.763,2,    0.430,2,    0.041,2,    1.053,2,   -999.0,9,   6.8730
  18HU19941012, AR13c,    29,  1, 151129,     29,2,19941022,0457, 41.1412, -42.5030, 5003,   1197.1,   5.5937,  35.1425,2,  35.0142,2,    236.3,3,    239.1,2,    11.71,2,    18.04,6,     1.28,2,    1.004,2,    0.549,2,    0.029,2,    1.656,2,   -999.0,9,   5.4860
  18HU19941012, AR13c,    29,  1, 151128,     28,2,19941022,0457, 41.1412, -42.5030, 5003,   1500.3,   4.4153,  35.0089,2,  35.0161,2,    262.9,2,    263.4,2,    11.79,2,    17.91,6,     1.22,2,    1.107,2,    0.678,2,    0.034,2,    2.163,2,   -999.0,9,   4.2903
  18HU19941012, AR13c,    29,  1, 151127,     27,2,19941022,0457, 41.1412, -42.5030, 5003,   1799.6,   3.8015,  34.9423,2,  34.9490,2,    275.5,2,    278.1,2,    11.94,2,    17.38,6,     1.22,2,    1.145,2,    0.575,2,    0.044,2,    2.356,2,   -999.0,9,   3.6561
  18HU19941012, AR13c,    29,  1, 151126,     26,2,19941022,0457, 41.1412, -42.5030, 5003,   2098.6,   3.5906,  34.9369,2,  34.9443,2,    277.4,2,    277.5,2,    12.85,2,    17.23,6,     1.21,2,    0.893,2,    0.473,2,    0.021,2,    2.029,2,   -999.0,9,   3.4197
  18HU19941012, AR13c,    29,  1, 151125,     25,2,19941022,0457, 41.1412, -42.5030, 5003,   2401.1,   3.4527,  34.9466,2,  34.9532,2,    275.2,2,    275.3,2,    14.90,2,    17.72,6,     1.23,2,    0.603,2,    0.357,2,    0.035,2,    1.482,2,   2155.7,2,   3.2544
  18HU19941012, AR13c,    29,  1, 151124,     24,2,19941022,0457, 41.1412, -42.5030, 5003,   2710.3,   3.2824,  34.9489,2,  34.9563,2,    274.2,2,    272.5,2,    16.61,2,    17.41,6,     1.24,2,    0.381,2,    0.234,2,    0.046,2,    1.073,2,   2157.8,2,   3.0558
  18HU19941012, AR13c,    29,  1, 151123,     23,2,19941022,0457, 41.1412, -42.5030, 5003,   3144.5,   2.9727,  34.9358,2,  34.9465,2,    274.6,3,    273.1,2,    19.96,2,    17.70,6,     1.27,2,    0.297,2,    0.219,2,    0.028,2,    0.866,2,   2162.7,2,   2.7071
  18HU19941012, AR13c,    29,  1, 151122,     22,2,19941022,0457, 41.1412, -42.5030, 5003,   3501.0,   2.6471,  34.9180,2,  34.9180,2,   -999.0,9,    275.6,2,    22.45,2,    17.95,6,     1.28,2,    0.321,2,    0.207,2,    0.022,2,    0.922,2,   2152.5,2,   2.3508
  18HU19941012, AR13c,    29,  1, 151121,     21,2,19941022,0457, 41.1412, -42.5030, 5003,   3839.9,   2.4235,  34.9031,2,  34.9149,2,    276.7,3,    277.0,2,    23.42,2,    17.45,6,     1.31,2,    0.413,2,    0.240,2,    0.019,2,    1.081,2,   2166.3,2,   2.0954
  18HU19941012, AR13c,    29,  1, 151120,     20,2,19941022,0457, 41.1412, -42.5030, 5003,   4263.6,   2.3066,  34.8924,2,  34.8983,2,    274.5,2,    277.7,2,    26.63,2,    17.83,6,     1.29,2,    0.487,2,    0.277,2,    0.021,2,    1.182,2,   2163.8,2,   1.9332
  18HU19941012, AR13c,    29,  1, 151119,     19,2,19941022,0457, 41.1412, -42.5030, 5003,   4666.5,   2.2939,  34.8877,2,  34.9030,2,    271.2,3,    275.7,2,    27.98,2,    18.36,6,     1.28,2,    0.518,2,    0.318,2,    0.028,2,    1.179,2,   2160.4,2,   1.8726
  18HU19941012, AR13c,    29,  1, 151118,     18,2,19941022,0457, 41.1412, -42.5030, 5003,   4888.8,   2.3026,  34.8857,2,  34.8924,2,    269.4,2,    274.9,2,    29.61,2,    18.60,6,     1.28,2,    0.522,2,    0.275,2,    0.018,2,    1.170,2,   2170.0,2,   1.8537
  18HU19941012, AR13c,    29,  1, 151117,     17,2,19941022,0457, 41.1412, -42.5030, 5003,   4997.0,   2.2667,  34.8790,2,  34.8877,2,    268.7,2,    268.5,2,    34.85,2,    19.33,6,     1.37,2,    0.334,2,    0.274,2,    0.029,2,    0.853,2,   2177.4,2,   1.8054
  18HU19941012, AR13c,    30,  1, 151156,     56,2,19941022,1045, 41.3473, -43.0690, 4988,     12.8,  21.0394,  35.7510,2,  35.7559,2,    170.6,3,    117.6,0,     1.00,2,     0.00,6,     0.11,2,    1.699,2,    1.061,2,    0.125,2,    2.682,2,   -999.0,9,  21.0369
  18HU19941012, AR13c,    30,  1, 151155,     55,2,19941022,1045, 41.3473, -43.0690, 4988,    102.3,  16.9195,  36.0359,2,  36.0396,2,    213.4,3,    199.3,2,     2.19,2,     4.88,6,     0.37,2,    1.917,2,    1.013,2,    0.080,2,    0.888,2,   2099.9,2,  16.9026
  18HU19941012, AR13c,    30,  1, 151154,     54,2,19941022,1045, 41.3473, -43.0690, 4988,    451.1,  11.0548,  35.3656,2,  35.3692,2,    184.3,2,    183.5,2,     7.96,2,    16.58,6,     1.07,2,    1.422,2,    0.726,2,    0.048,2,    1.059,2,   2152.3,2,  10.9981
  18HU19941012, AR13c,    30,  1, 151153,     53,2,19941022,1045, 41.3473, -43.0690, 4988,    652.2,   7.4967,  34.9867,2,  34.9983,2,    202.9,3,    181.9,2,    12.85,2,    21.47,6,     1.39,2,    1.204,2,    0.623,2, -999.000,9,    1.587,2,   2174.0,2,   7.4312
  18HU19941012, AR13c,    30,  1, 151152,     52,2,19941022,1045, 41.3473, -43.0690, 4988,    806.4,   6.1463,  35.0066,2,  35.0147,2,    230.0,2,    183.9,2,    12.55,2,    19.73,6,     1.32,2,    1.275,2,    0.779,2,    0.040,2,    1.950,2,   2171.6,2,   6.0726
  18HU19941012, AR13c,    30,  1, 151151,     51,2,19941022,1045, 41.3473, -43.0690, 4988,    992.4,   5.0058,  34.9872,2,  34.9964,2,    258.5,2,    209.9,2,    11.83,2,    18.53,6,     1.22,2,    1.631,2,    0.826,2,    0.074,2,    2.894,2,   2164.1,2,   4.9223
  18HU19941012, AR13c,    30,  1, 151150,     50,2,19941022,1045, 41.3473, -43.0690, 4988,   1492.1,   3.8712,  34.9282,2,  34.9501,2,    283.7,3,    271.4,2,    10.80,2,    17.43,6,     1.18,2,    1.661,2,    0.979,2,    0.068,2,    3.480,2,   2157.8,2,   3.7532
  18HU19941012, AR13c,    30,  1, 151149,     49,2,19941022,1045, 41.3473, -43.0690, 4988,   1700.0,   3.6433,  34.9129,2,  34.9205,2,    286.6,2,    281.7,2,    10.76,2,    17.01,6,     1.15,2,    1.605,2,    0.844,2,    0.061,2,    3.948,2,   2152.1,2,   3.5092
  18HU19941012, AR13c,    30,  1, 151148,     48,2,19941022,1045, 41.3473, -43.0690, 4988,   1992.7,   3.3985,  34.8940,2,  34.8988,2,    290.0,2,    288.9,2,    11.35,2,    17.04,6,     1.14,2,    1.741,2,    0.870,2,    0.070,2,    3.779,2,   2151.4,2,   3.2408
  18HU19941012, AR13c,    30,  1, 151147,     47,2,19941022,1045, 41.3473, -43.0690, 4988,   2249.9,   3.1510,  34.8697,2,  34.8784,0,    289.8,3,    295.7,2,    10.62,2,    16.67,6,     1.11,2,    2.133,3,    1.134,3,    0.094,2,    4.292,2,   2152.6,2,   2.9729
  18HU19941012, AR13c,    30,  1, 151146,     46,2,19941022,1045, 41.3473, -43.0690, 4988,   2334.2,   3.1015,  34.8653,2,  34.8729,0,    291.7,2,    298.0,2,    10.38,2,    16.08,6,     1.09,2,    2.336,3,    1.275,3,    0.098,2,    4.487,2,   2149.6,2,   2.9162
  18HU19941012, AR13c,    30,  1, 151145,     45,2,19941022,1045, 41.3473, -43.0690, 4988,   2498.8,   3.2298,  34.9015,2,  34.9079,2,    287.4,2,    286.3,2,    12.15,2,    16.78,6,     1.13,2,    1.529,2,    0.785,2,    0.067,2,    3.234,2,   -999.0,9,   3.0259
  18HU19941012, AR13c,    30,  1, 151144,     44,2,19941022,1045, 41.3473, -43.0690, 4988,   2700.2,   3.2958,  34.9436,2,  34.9449,2,    279.2,3,    276.2,2,    15.29,2,    16.82,6,     1.23,2,    0.687,2,    0.315,2,    0.000,2,    1.884,2,   -999.0,9,   3.0701
  18HU19941012, AR13c,    30,  1, 151143,     43,2,19941022,1045, 41.3473, -43.0690, 4988,   2989.7,   3.0601,  34.9305,2,  34.9418,2,    278.9,3,    278.5,2,    16.05,2,    16.73,6,     1.22,2,    0.572,2,    0.267,2,    0.000,2,    1.532,2,   -999.0,9,   2.8091
  18HU19941012, AR13c,    30,  1, 151142,     42,2,19941022,1045, 41.3473, -43.0690, 4988,   3295.2,   2.8489,  34.9253,2,  34.9316,2,    279.5,2,    278.2,2,    18.43,2,    16.99,6,     1.22,2,    0.503,2,    0.207,2,    0.000,2,    1.424,2,   -999.0,9,   2.5701
  18HU19941012, AR13c,    30,  1, 151141,     41,2,19941022,1045, 41.3473, -43.0690, 4988,   3704.3,   2.5484,  34.9105,2,  34.9196,2,    279.6,3,    276.2,2,    21.82,2,    17.30,6,     1.26,2,    0.516,2,    0.237,2,    0.000,2,    1.404,2,   -999.0,9,   2.2322
  18HU19941012, AR13c,    30,  1, 151140,     40,2,19941022,1045, 41.3473, -43.0690, 4988,   4018.6,   2.3858,  34.8994,2,  34.9076,2,    277.9,2,    277.4,2,    25.13,2,    17.61,6,     1.26,2,    0.420,2,    0.190,2,    0.000,2,    1.380,2,   -999.0,9,   2.0385
  18HU19941012, AR13c,    30,  1, 151139,     39,2,19941022,1045, 41.3473, -43.0690, 4988,   4415.0,   2.3056,  34.8909,2,  34.9047,2,    273.5,3,    276.3,2,    27.14,2,    17.92,6,     1.28,2,    0.517,2,    0.197,2,    0.000,2,    1.481,2,   -999.0,9,   1.9143
  18HU19941012, AR13c,    30,  1, 151138,     38,2,19941022,1045, 41.3473, -43.0690, 4988,   4795.2,   2.3043,  34.8872,2,  34.8921,2,    269.0,2,    277.3,2,    29.15,2,    18.26,6,     1.28,2,    0.509,2,    0.255,2,    0.000,2,    1.499,2,   -999.0,9,   1.8670
  18HU19941012, AR13c,    30,  1, 151137,     37,2,19941022,1045, 41.3473, -43.0690, 4988,   4982.5,   2.2951,  34.8832,2,  34.8902,2,    267.1,3,    269.1,2,    31.60,2,    18.52,6,     1.37,2,    0.412,2,    0.181,2,    0.000,2,    1.268,2,   -999.0,9,   1.8347