BOTTLE,20140120PRINUNIVRMK
EXPOCODE,SECT_ID,STNNBR,CASTNO,SAMPNO,BTLNBR,BTLNBR_FLAG_W,DATE,TIME,LATITUDE,LONGITUDE,DEPTH,CTDPRS,CTDTMP,CTDSAL,CTDSAL_FLAG_W,SALNTY,SALNTY_FLAG_W,CTDOXY,CTDOXY_FLAG_W,OXYGEN,OXYGEN_FLAG_W,SILCAT,SILCAT_FLAG_W,NITRAT,NITRAT_FLAG_W,PHSPHT,PHSPHT_FLAG_W,CFC-11,CFC-11_FLAG_W,CFC-12,CFC-12_FLAG_W,CFC113,CFC113_FLAG_W,CCL4,CCL4_FLAG_W,TCARBN,TCARBN_FLAG_W,THETA
,,,,,,,,,,,METERS,DBAR,ITS-90,PSS-78,,PSS-78,,UMOL/KG,,UMOL/KG,,UMOL/KG,,UMOL/KG,,UMOL/KG,,PMOL/KG,,PMOL/KG,,PMOL/KG,,PMOL/KG,,UMOL/KG,,DEG C
  18HU19941012, AR13c,    16,  1, 150876,     76,2,19941018,1028, 38.1657, -49.5270, 5508,     11.9,  21.7724,  35.6346,2,  35.6569,2,    132.7,3,    222.2,2,     1.71,2,     0.00,6,     0.14,2,    1.708,2,    1.168,2,    0.185,2,    1.946,2,   2011.6,2,  21.7701
  18HU19941012, AR13c,    16,  1, 150875,     75,2,19941018,1028, 38.1657, -49.5270, 5508,    205.1,  18.5651,  36.5689,2,  36.5727,2,    200.4,2,    217.4,2,     1.84,2,     2.37,6,     0.20,2,    1.950,2,    1.142,2,    0.083,2,    0.414,2,   2073.5,2,  18.5287
  18HU19941012, AR13c,    16,  1, 150874,     74,2,19941018,1028, 38.1657, -49.5270, 5508,    526.4,  16.0614,  36.1667,2,  36.1711,2,    195.1,3,    183.7,2,     4.24,2,     9.67,6,     0.55,2,    1.512,2,    1.016,2,    0.036,2,    0.080,2,   2115.4,3,  15.9764
  18HU19941012, AR13c,    16,  1, 150873,     73,2,19941018,1028, 38.1657, -49.5270, 5508,    766.9,  10.4976,  35.3291,2,  35.3437,2,    160.1,3,    148.0,2,    12.74,2,    22.27,6,     1.35,2,    0.668,2,    0.310,2,    0.037,2,    0.055,2,   2172.9,2,  10.4029
  18HU19941012, AR13c,    16,  1, 150872,     72,2,19941018,1028, 38.1657, -49.5270, 5508,    994.2,   6.1080,  34.9905,2,  34.9943,2,    212.7,2,    205.2,2,    14.17,2,    21.31,6,     1.36,2,    1.163,2,    0.579,2,    0.053,2,    1.237,2,   2172.0,2,   6.0161
  18HU19941012, AR13c,    16,  1, 150871,     71,2,19941018,1028, 38.1657, -49.5270, 5508,   1189.5,   5.0548,  35.0199,2,  35.0271,2,    239.8,2,    243.4,2,    12.69,2,    19.23,6,     1.22,2,    1.150,2,    0.603,2,    0.062,2,    1.606,2,   2161.3,2,   4.9526
  18HU19941012, AR13c,    16,  1, 150870,     70,2,19941018,1028, 38.1657, -49.5270, 5508,   1515.3,   4.2384,  34.9745,2,  34.9834,2,    263.3,2,    265.2,2,    12.27,2,    18.01,6,     1.24,2,    1.211,2,    0.669,2,    0.077,2,    2.219,2,   2155.0,2,   4.1140
  18HU19941012, AR13c,    16,  1, 150869,     69,2,19941018,1028, 38.1657, -49.5270, 5508,   2019.5,   3.6412,  34.9320,2,  34.9368,2,    276.2,3,    277.7,2,    12.64,2,    17.56,6,     1.14,2,    1.178,2,    0.655,2,    0.057,2,    2.133,2,   2150.5,2,   3.4772
  18HU19941012, AR13c,    16,  1, 150868,     68,2,19941018,1028, 38.1657, -49.5270, 5508,   2210.2,   3.4462,  34.9160,2,  34.9212,2,    277.7,2,    283.9,2,    12.77,2,    17.54,6,     1.13,2,    1.279,2,    0.763,2,    0.089,2,    2.236,2,   2151.1,2,   3.2669
  18HU19941012, AR13c,    16,  1, 150867,     67,2,19941018,1028, 38.1657, -49.5270, 5508,   2496.9,   3.3398,  34.9259,2,  34.9316,2,    278.7,2,    281.7,2,    13.81,2,    17.52,6,     1.12,2,    1.038,3,    0.549,2,    0.039,2,    1.774,2,   2150.6,2,   3.1340
  18HU19941012, AR13c,    16,  1, 150866,     66,2,19941018,1028, 38.1657, -49.5270, 5508,   2811.3,   3.2073,  34.9390,2,  34.9501,2,    276.5,3,    277.2,2,    16.29,2,    17.70,6,     1.12,2,    0.575,2,    0.499,2,    0.018,2,    0.998,2,   2153.2,2,   2.9718
  18HU19941012, AR13c,    16,  1, 150865,     65,2,19941018,1028, 38.1657, -49.5270, 5508,   2992.8,   3.1046,  34.9446,2,  34.9497,2,    276.6,2,    271.6,2,    19.44,2,    18.08,6,     1.17,2,    0.249,2, -999.000,9,    0.012,2,    0.448,2,   2156.5,2,   2.8522
  18HU19941012, AR13c,    16,  1, 150864,     64,2,19941018,1028, 38.1657, -49.5270, 5508,   3315.0,   2.8545,  34.9309,2,  34.9359,2,    278.5,2,    274.9,2,    21.10,2,    18.40,6,     1.19,2,    0.231,2,    0.062,2,    0.000,2,    0.427,2,   2157.4,2,   2.5734
  18HU19941012, AR13c,    16,  1, 150863,     63,2,19941018,1028, 38.1657, -49.5270, 5508,   3717.7,   2.5308,  34.9111,2,  34.9174,2,    279.9,2,    276.7,2,    23.86,2,    18.46,6,     1.19,2,    0.278,2,    0.030,2,    0.000,2,    0.540,2,   2161.5,2,   2.2135
  18HU19941012, AR13c,    16,  1, 150862,     62,2,19941018,1028, 38.1657, -49.5270, 5508,   4102.3,   2.3696,  34.8988,2,  34.9465,2,    279.7,3,    277.4,2,    27.23,2,    18.72,6,     1.29,2,    0.273,2,    0.000,2,    0.000,2,    0.563,2,   2163.1,2,   2.0129
  18HU19941012, AR13c,    16,  1, 150861,     61,2,19941018,1028, 38.1657, -49.5270, 5508,   4392.2,   2.3124,  34.8917,2,  34.8963,2,    278.5,2,    276.1,2,    28.90,2,    18.90,6,     1.21,2,    0.310,2,    0.040,2,    0.000,2,    0.541,2,   2167.4,2,   1.9237
  18HU19941012, AR13c,    16,  1, 150860,     60,2,19941018,1028, 38.1657, -49.5270, 5508,   4690.9,   2.2975,  34.8872,2,  34.8912,2,    276.5,2,    276.7,2,    31.06,2,    19.41,6,     1.24,2,    0.355,2,    0.059,2,    0.022,2,    0.621,2,   2170.2,2,   1.8732
  18HU19941012, AR13c,    16,  1, 150859,     59,2,19941018,1028, 38.1657, -49.5270, 5508,   5004.6,   2.2827,  34.8814,2,  34.8886,2,    274.7,2,    272.2,2,    34.07,2,    19.94,6,     1.26,2,    0.683,3,    0.183,2,    0.032,2,    0.830,2,   2174.1,2,   1.8199
  18HU19941012, AR13c,    16,  1, 150858,     58,2,19941018,1028, 38.1657, -49.5270, 5508,   5389.4,   2.2406,  34.8692,2,  35.0464,0,    273.1,3,    258.3,2,    22.62,3,    18.22,6,     1.11,3,    0.724,3,    0.278,2,    0.016,2,    0.815,2,   2160.9,3,   1.7301
  18HU19941012, AR13c,    16,  1, 150857,     57,2,19941018,1028, 38.1657, -49.5270, 5508,   5501.9,   2.2367,  34.8664,2,  34.8729,2,    272.6,2,    263.3,2,    42.29,2,    21.24,6,     1.42,2,    0.083,2,    0.000,2,    0.000,2,    0.107,2,   2185.4,2,   1.7115
  18HU19941012, AR13c,    17,  1, 150896,     96,2,19941018,2201, 38.1655, -48.6660, 5453,     13.6,  23.0130,  36.2787,2,  36.2834,2,     63.5,2,    218.7,2,     0.76,2,     0.00,6,     0.09,2,    1.729,2,    1.045,2,    0.267,2,    2.262,2,   2032.5,2,  23.0102
  18HU19941012, AR13c,    17,  1, 150895,     95,2,19941018,2201, 38.1655, -48.6660, 5453,    108.5,  19.6188,  36.5711,2,  36.5698,2,    184.0,3,    195.9,2,     1.50,2,     3.13,6,     0.26,2,    1.864,2,    1.147,2,    0.130,2,    0.656,2,   2092.8,2,  19.5989
  18HU19941012, AR13c,    17,  1, 150894,     94,2,19941018,2201, 38.1655, -48.6660, 5453,    206.2,  18.1560,  36.5135,2,  36.5179,2,    202.6,2,    208.2,2,     1.45,2,     3.88,6,     0.27,2,    1.964,2,    1.146,2,    0.084,2,    0.741,2,   2090.0,2,  18.1200
  18HU19941012, AR13c,    17,  1, 150893,     93,2,19941018,2201, 38.1655, -48.6660, 5453,    518.2,  15.1914,  36.0511,2,  36.5179,0,    202.1,3,    208.3,2,     1.76,2,     3.91,3,     0.30,2,    1.975,2,    1.199,2,    0.085,2,    0.749,2,   2092.7,3,  15.1108
  18HU19941012, AR13c,    17,  1, 150892,     92,2,19941018,2201, 38.1655, -48.6660, 5453,    801.4,  10.1737,  35.2893,2,  35.3025,2,    169.3,3,    163.0,2,    10.88,2,    20.69,6,     1.35,2,    0.974,2,    0.593,2,    0.034,2,    0.624,2,   2172.5,2,  10.0765
  18HU19941012, AR13c,    17,  1, 150891,     91,2,19941018,2201, 38.1655, -48.6660, 5453,   1200.3,   5.1148,  35.0040,2,  35.0102,2,    238.8,2,    238.4,2,    12.22,2,    19.39,6,     1.31,2,    1.295,2,    0.635,2,    0.059,2,    1.973,2,   2168.1,2,   5.0110
  18HU19941012, AR13c,    17,  1, 150890,     90,2,19941018,2201, 38.1655, -48.6660, 5453,   1494.8,   4.4242,  34.9930,2,  34.9930,2,   -999.0,9,   -999.0,9,  -999.00,9,  -999.00,5,  -999.00,9,    0.000,4,    0.000,4,    0.000,2,    0.000,4,   -999.0,9,   4.2996
  18HU19941012, AR13c,    17,  1, 150889,     89,2,19941018,2201, 38.1655, -48.6660, 5453,   1811.0,   3.9052,  34.9472,2,  34.9549,2,    271.2,2,    275.6,2,    11.43,2,    17.87,6,     1.19,2,    1.268,2,    0.685,2,    0.089,2,    2.503,2,   2156.8,2,   3.7573
  18HU19941012, AR13c,    17,  1, 150888,     88,2,19941018,2201, 38.1655, -48.6660, 5453,   2120.4,   3.5341,  34.9179,2,  34.9227,2,    277.0,2,    284.1,2,    11.66,2,    17.14,3,     1.19,2,    1.421,2,    0.775,2,    0.103,2,    2.749,2,   2155.8,2,   3.3621
  18HU19941012, AR13c,    17,  1, 150887,     87,2,19941018,2201, 38.1655, -48.6660, 5453,   2408.2,   3.5422,  34.9504,2,  34.9567,2,    274.2,2,    276.4,2,    13.93,2,    17.88,6,     1.21,2,    0.642,2,    0.335,2,    0.032,2,    1.671,2,   2158.0,2,   3.3416
  18HU19941012, AR13c,    17,  1, 150886,     86,2,19941018,2201, 38.1655, -48.6660, 5453,   2689.4,   3.3118,  34.9403,2,  34.9445,2,    276.0,2,    278.2,2,    14.63,2,    17.43,6,     1.19,2,    0.660,2,    0.322,2,    0.040,2,    1.556,2,   2158.5,2,   3.0869
  18HU19941012, AR13c,    17,  1, 150885,     85,2,19941018,2201, 38.1655, -48.6660, 5453,   2994.4,   3.0620,  34.9323,2,  34.9302,2,    277.0,3,    280.8,2,    15.74,2,    17.47,6,     1.18,2,    0.588,2,    0.331,2,    0.018,2,    1.414,2,   2157.3,2,   2.8105
  18HU19941012, AR13c,    17,  1, 150884,     84,2,19941018,2201, 38.1655, -48.6660, 5453,   3182.7,   2.9234,  34.9315,2,  34.9317,2,    277.2,3,    277.2,2,    17.74,2,    17.64,6,     1.22,2,    0.479,2,    0.292,2,    0.000,2,    1.214,2,   2160.6,2,   2.6550
  18HU19941012, AR13c,    17,  1, 150883,     83,2,19941018,2201, 38.1655, -48.6660, 5453,   3480.4,   2.6973,  34.9209,2,  34.9284,2,    278.5,2,    276.8,2,    20.59,2,    17.93,6,     1.23,2,    0.350,2,    0.207,2,    0.030,2,    0.947,2,   2159.6,2,   2.4020
  18HU19941012, AR13c,    17,  1, 150882,     82,2,19941018,2201, 38.1655, -48.6660, 5453,   3919.8,   2.4142,  34.9025,2,  34.9079,2,    279.2,2,    275.2,2,    25.07,2,    18.59,6,     1.26,2,    0.316,2,    0.223,2,    0.033,2,    0.914,2,   2162.7,2,   2.0774
  18HU19941012, AR13c,    17,  1, 150881,     81,2,19941018,2201, 38.1655, -48.6660, 5453,   4306.1,   2.3069,  34.8918,2,  34.8967,2,    277.0,2,    275.4,2,    29.02,2,    18.70,6,     1.30,2,    0.368,2,    0.135,2,    0.019,2,    1.023,2,   2167.8,2,   1.9285
  18HU19941012, AR13c,    17,  1, 150880,     80,2,19941018,2201, 38.1655, -48.6660, 5453,   4693.1,   2.2760,  34.8854,2,  34.8890,2,    274.3,2,    273.5,2,    31.94,2,    19.18,6,     1.32,2,    0.354,2,    0.239,2,    0.012,2,    0.921,2,   2172.1,2,   1.8522
  18HU19941012, AR13c,    17,  1, 150879,     79,2,19941018,2201, 38.1655, -48.6660, 5453,   4979.1,   2.2741,  34.8807,2,  34.8807,2,   -999.0,9,   -999.0,9,  -999.00,9,  -999.00,5,  -999.00,9,    0.000,3,    0.000,2,    0.000,2,    0.000,3,   2175.2,2,   1.8149
  18HU19941012, AR13c,    17,  1, 150878,     78,2,19941018,2201, 38.1655, -48.6660, 5453,   5296.7,   2.2654,  34.8740,2,  34.8780,2,    269.0,2,    267.7,2,    38.39,2,    20.28,6,     1.38,2,    0.235,2,    0.095,2,    0.032,2,    0.645,2,   2183.9,2,   1.7660
  18HU19941012, AR13c,    17,  1, 150877,     77,2,19941018,2201, 38.1655, -48.6660, 5453,   5447.0,   2.2502,  34.8690,2,  34.8750,2,    268.3,2,    263.6,2,    41.88,2,    20.86,6,     1.40,2,    0.152,2,    0.096,2,    0.042,2,    0.457,2,   2187.9,2,   1.7318
  18HU19941012, AR13c,    18,  1, 150916,     16,2,19941019,0522, 38.1680, -47.8570, 5453,     11.4,  22.8392,  36.2354,2,  36.2409,2,     81.6,3,    218.6,2,     1.04,2,     0.00,6,     0.08,2,    1.659,2,    1.185,2,    0.059,2,    1.908,2,   2025.9,2,  22.8369
  18HU19941012, AR13c,    18,  1, 150915,     15,2,19941019,0522, 38.1680, -47.8570, 5453,    144.6,  18.7095,  36.5559,2,  36.5604,2,    197.5,2,    200.3,2,     1.54,2,     3.37,6,     0.25,2,    1.752,2,    1.157,2,    0.038,2,    0.201,2,   2091.9,2,  18.6838
  18HU19941012, AR13c,    18,  1, 150914,     14,2,19941019,0522, 38.1680, -47.8570, 5453,    391.2,  16.8682,  36.3010,2,  36.3010,2,   -999.0,9,    203.7,2,     2.54,2,     6.49,6,     0.46,2,    1.787,2,    1.073,2,    0.023,2,    0.332,2,   2102.1,2,  16.8031
  18HU19941012, AR13c,    18,  1, 150913,     13,2,19941019,0522, 38.1680, -47.8570, 5453,    698.2,  12.4526,  35.6306,2,  35.6351,2,    178.8,2,    192.8,2,     6.34,2,    14.27,6,     0.97,2, -999.000,9, -999.000,9, -999.000,9, -999.000,9,   2139.0,2,  12.3568
  18HU19941012, AR13c,    18,  1, 150912,     12,2,19941019,0522, 38.1680, -47.8570, 5453,   1006.2,   7.7613,  35.1585,2,  35.1651,2,    186.7,2,    186.8,2,    12.75,2,    21.02,6,     1.39,2,    0.944,2,    0.466,2, -999.000,9,    1.016,2,   2173.6,2,   7.6557
  18HU19941012, AR13c,    18,  1, 150911,     11,2,19941019,0522, 38.1680, -47.8570, 5453,   1257.1,   5.3164,  35.0508,2,  35.0578,2,    235.8,2,    237.4,2,    12.29,2,    19.11,6,     1.28,2,    1.108,2,    0.543,2,    0.018,2,    1.395,2,   2164.1,2,   5.2052
  18HU19941012, AR13c,    18,  1, 150910,     10,2,19941019,0522, 38.1680, -47.8570, 5453,   1404.5,   5.2528,  35.0907,2,  35.0907,2,   -999.0,9,    245.2,2,    11.98,2,    18.55,6,     1.28,2,    1.104,2,    0.514,2,    0.033,2,    1.651,2,   2162.9,2,   5.1278
  18HU19941012, AR13c,    18,  1, 150909,      9,2,19941019,0522, 38.1680, -47.8570, 5453,   1506.8,   5.0841,  35.0931,2,  35.1023,2,    243.3,2,    248.5,2,    11.74,2,    18.66,6,     1.26,2,    0.814,2,    0.361,2,    0.000,2,    1.233,2,   2162.7,2,   4.9507
  18HU19941012, AR13c,    18,  1, 150908,      8,2,19941019,0522, 38.1680, -47.8570, 5453,   1814.1,   4.2900,  35.0198,2,  35.0272,2,    260.4,3,    264.7,2,    12.86,2,    18.24,6,     1.25,2,    0.715,2,    0.369,2,    0.000,2,    1.271,2,   2157.9,2,   4.1364
  18HU19941012, AR13c,    18,  1, 150907,      7,2,19941019,0522, 38.1680, -47.8570, 5453,   2117.0,   3.9622,  35.0022,2,  35.0022,2,   -999.0,9,    267.4,2,    14.49,2,    18.42,6,     1.23,2,    0.521,2,    0.217,2,    0.036,2,    1.100,2,   2157.1,2,   3.7836
  18HU19941012, AR13c,    18,  1, 150906,      6,2,19941019,0522, 38.1680, -47.8570, 5453,   2427.6,   3.6138,  34.9788,2,  34.9863,2,    270.7,2,    269.1,2,    16.70,2,    18.35,6,     1.26,2,    0.318,2,    0.126,2,    0.000,2,    0.633,2,   2159.8,2,   3.4098
  18HU19941012, AR13c,    18,  1, 150905,      5,2,19941019,0522, 38.1680, -47.8570, 5453,   2735.7,   3.3230,  34.9571,2,  34.9635,2,    274.5,2,    271.7,2,    18.03,2,    18.24,6,     1.26,2,    0.313,2,    0.158,2,    0.000,2,    0.573,2,   2159.7,2,   3.0930
  18HU19941012, AR13c,    18,  1, 150904,      4,2,19941019,0522, 38.1680, -47.8570, 5453,   3145.1,   2.9749,  34.9380,2,  34.9444,2,    277.6,2,    271.6,2,    20.13,2,    18.38,6,     1.27,2,    0.305,2,    0.185,2,    0.023,2,    0.950,2,   2162.2,2,   2.7092
  18HU19941012, AR13c,    18,  1, 150903,      3,2,19941019,0522, 38.1680, -47.8570, 5453,   3559.1,   2.6197,  34.9157,2,  34.9239,2,    280.5,2,    281.5,2,    22.27,2,    18.21,6,     1.23,2,    0.368,2,    0.147,2,    0.035,2,    0.887,2,   2164.3,2,   2.3177
  18HU19941012, AR13c,    18,  1, 150902,      2,2,19941019,0522, 38.1680, -47.8570, 5453,   3969.5,   2.3664,  34.8983,2,  35.0687,0,    281.0,3,    256.6,0,    13.21,3,    18.70,6,     1.26,2,    0.819,3,    0.361,2,    0.000,2,    1.640,3,   2167.8,2,   2.0253
  18HU19941012, AR13c,    18,  1, 150901,      1,2,19941019,0522, 38.1680, -47.8570, 5453,   4415.4,   2.2841,  34.8877,2,  34.8956,2,    278.5,2,    276.8,2,    30.34,2,    19.23,6,     1.33,2,    0.363,2,    0.161,2,    0.000,2,    0.542,2,   2175.5,2,   1.8935
  18HU19941012, AR13c,    18,  1, 150900,      0,2,19941019,0522, 38.1680, -47.8570, 5453,   4820.2,   2.2785,  34.8820,2,  34.8873,2,    275.9,2,    273.6,2,    33.34,2,    19.93,6,     1.35,2,    0.368,2,    0.049,2,    0.039,2,    0.782,2,   2176.8,2,   1.8389
  18HU19941012, AR13c,    18,  1, 150899,     99,2,19941019,0522, 38.1680, -47.8570, 5453,   5135.0,   2.2893,  34.8787,2,  34.8893,2,    273.9,3,    270.5,2,    34.54,2,    19.58,6,     1.36,2,    0.337,2,    0.121,2,    0.000,2,    0.425,2,   2178.7,2,   1.8098
  18HU19941012, AR13c,    18,  1, 150898,     98,2,19941019,0522, 38.1680, -47.8570, 5453,   5342.7,   2.2984,  34.8701,2,  34.8822,2,    272.7,3,    270.4,2,    34.82,2,    20.06,6,     1.38,2,    0.311,2,    0.132,2,    0.000,2,    0.534,2,   2180.7,2,   1.7918
  18HU19941012, AR13c,    18,  1, 150897,     97,2,19941019,0522, 38.1680, -47.8570, 5453,   5446.7,   2.3084,  34.8744,2,  34.8845,2,    272.1,3,    269.9,2,    35.80,2,    20.00,6,     1.35,2,    0.308,2,    0.061,2,    0.033,2,    0.600,2,   2180.9,2,   1.7878