BOTTLE,20140120PRINUNIVRMK
# 5/23/05 Initialized README file  
# Data from Kozyr via CARINA web site 5/11/04 
# Nitrate, CTDSAL and CTDOXY from cchdo 11/26/08 
# Ship: Hudson 
# Cruise: 18HU94030, WOCE AR13c 
# Cruise dates: 10/12 - 11/10/1994 
# EXPOCODE: 18HU19941012 
# Region: Newfoundland Basin 
# Chief Scientist: A. Clarke 
# 97 stations with 24 place Rosette 
# Hydro: Who - Clarke; Status - final 
# 	Notes: Original bottle number alphanumeric, substitute mod(sample#,100) 
# 	Salt data unusually noisy 
# Nuts/O2: Who - Clarke; Status - final 
# 	Notes: Nitrate is really NO3+NO2 
# TCO2: Who - P. Jones; Status - final 
# 	Notes: CRM not used, coulometric titration; precision median of 1umol/kg 
# 	Data quality generally high. Compares well with 18HU9311 
# 	Span of the deep Hudson data is somewhat wider than the GLODAP 
# 		data for the region, but there is no apparent offset 
# TA: Who - ; Status - collected 
# 	Notes: no data 
# CFC: Who - P.Jones; Status - final  
# 	Notes: Also includes CFC-113 and CCl4; all unusually noisy 
EXPOCODE,SECT_ID,STNNBR,CASTNO,SAMPNO,BTLNBR,BTLNBR_FLAG_W,DATE,TIME,LATITUDE,LONGITUDE,DEPTH,CTDPRS,CTDTMP,CTDSAL,CTDSAL_FLAG_W,SALNTY,SALNTY_FLAG_W,CTDOXY,CTDOXY_FLAG_W,OXYGEN,OXYGEN_FLAG_W,SILCAT,SILCAT_FLAG_W,NITRAT,NITRAT_FLAG_W,PHSPHT,PHSPHT_FLAG_W,CFC-11,CFC-11_FLAG_W,CFC-12,CFC-12_FLAG_W,CFC113,CFC113_FLAG_W,CCL4,CCL4_FLAG_W,TCARBN,TCARBN_FLAG_W,THETA
,,,,,,,,,,,METERS,DBAR,ITS-90,PSS-78,,PSS-78,,UMOL/KG,,UMOL/KG,,UMOL/KG,,UMOL/KG,,UMOL/KG,,PMOL/KG,,PMOL/KG,,PMOL/KG,,PMOL/KG,,UMOL/KG,,DEG C
  18HU19941012, AR13c,     1,  1, 150601,      1,2,19941013,1717, 43.9892, -58.0050, 2791,   1389.5,   3.6471,  34.9339,2,  34.9284,2,    478.7,3,   -999.0,9,    12.06,2,  -999.00,5,     1.16,2,    1.595,2,    1.091,2,    0.042,2,    2.923,2,   -999.0,9,   3.5407
  18HU19941012, AR13c,     1,  1, 150602,      2,2,19941013,1717, 43.9892, -58.0050, 2791,   1391.0,   3.6468,  34.9344,2,  34.9270,2,    476.7,3,   -999.0,9,    11.98,2,  -999.00,5,     1.27,2,    1.631,2,    1.010,2,    0.017,2,    2.916,2,   -999.0,9,   3.5403
  18HU19941012, AR13c,     1,  1, 150603,      3,2,19941013,1717, 43.9892, -58.0050, 2791,   1392.1,   3.6458,  34.9344,2,  34.9269,2,    474.4,3,   -999.0,9,    11.85,2,  -999.00,5,     1.19,2,    1.541,2,    0.851,2,    0.012,2,    2.791,2,   -999.0,9,   3.5392
  18HU19941012, AR13c,     1,  1, 150605,      5,2,19941013,1717, 43.9892, -58.0050, 2791,   1394.7,   3.6402,  34.9338,2,  34.9231,2,    474.5,3,   -999.0,9,    12.00,2,  -999.00,5,     1.19,2,    1.672,2,    1.756,2,    0.000,2,    3.006,2,   -999.0,9,   3.5334
  18HU19941012, AR13c,     1,  1, 150606,      6,2,19941013,1717, 43.9892, -58.0050, 2791,   1395.7,   3.6399,  34.9337,2,  34.9268,2,    474.5,3,   -999.0,9,    11.93,2,  -999.00,5,     1.25,2,    1.540,2, -999.000,9,    0.028,2,    2.788,2,   -999.0,9,   3.5330
  18HU19941012, AR13c,     1,  1, 150604,      4,2,19941013,1717, 43.9892, -58.0050, 2791,   1396.4,   3.6408,  34.9330,2,  34.9266,2,    474.5,3,   -999.0,9,    12.12,2,  -999.00,5,     1.21,2,    1.583,2,    1.587,2,    0.010,2,    2.715,2,   -999.0,9,   3.5338
  18HU19941012, AR13c,     1,  1, 150607,      7,2,19941013,1717, 43.9892, -58.0050, 2791,   1397.6,   3.6366,  34.9338,2,  34.9235,2,    474.1,3,   -999.0,9,    11.92,2,  -999.00,5,     1.24,2,    1.583,2,    1.959,2,    0.000,2,    2.780,2,   -999.0,9,   3.5296
  18HU19941012, AR13c,     1,  1, 150608,      8,2,19941013,1717, 43.9892, -58.0050, 2791,   1397.9,   3.6314,  34.9337,2,  34.9203,2,    474.3,3,   -999.0,9,    11.88,2,  -999.00,5,     1.22,2,    1.637,2,    1.850,2,    0.000,2,    2.936,2,   -999.0,9,   3.5244
  18HU19941012, AR13c,     1,  1, 150609,      9,2,19941013,1717, 43.9892, -58.0050, 2791,   1399.3,   3.6293,  34.9324,2,  34.9239,2,    474.3,3,   -999.0,9,  -999.00,9,  -999.00,5,  -999.00,9,    1.580,2,    1.113,2,    0.043,2,    2.838,2,   -999.0,9,   3.5222
  18HU19941012, AR13c,     1,  1, 150610,     10,2,19941013,1717, 43.9892, -58.0050, 2791,   1400.0,   3.6265,  34.9327,2,  34.9227,2,    474.3,3,   -999.0,9,  -999.00,9,  -999.00,5,  -999.00,9,    1.612,2, -999.000,9,    0.000,2,    2.886,2,   -999.0,9,   3.5194
  18HU19941012, AR13c,     1,  1, 150612,     12,2,19941013,1717, 43.9892, -58.0050, 2791,   1402.7,   3.6252,  34.9332,2,  34.9185,2,    474.4,3,   -999.0,9,  -999.00,9,  -999.00,5,  -999.00,9,    1.525,2,    1.304,2,    0.066,2,    2.932,2,   -999.0,9,   3.5179
  18HU19941012, AR13c,     1,  1, 150611,     11,2,19941013,1717, 43.9892, -58.0050, 2791,   1402.8,   3.6258,  34.9324,2,  34.9225,2,    474.4,3,   -999.0,9,  -999.00,9,  -999.00,5,  -999.00,9,    1.549,2,    1.276,2,    0.091,2,    3.118,2,   -999.0,9,   3.5185
  18HU19941012, AR13c,     1,  1, 150613,     13,2,19941013,1717, 43.9892, -58.0050, 2791,   1404.3,   3.6242,  34.9321,2,  34.9232,2,    474.3,3,   -999.0,9,  -999.00,9,  -999.00,5,  -999.00,9,    1.547,2,    0.761,2,    0.092,2,    2.983,2,   -999.0,9,   3.5167
  18HU19941012, AR13c,     1,  1, 150615,     15,2,19941013,1717, 43.9892, -58.0050, 2791,   1404.3,   3.6226,  34.9317,2,  34.9225,2,    474.3,3,   -999.0,9,  -999.00,9,  -999.00,5,  -999.00,9,    1.526,2,    0.752,2,    0.054,2,    2.932,2,   -999.0,9,   3.5152
  18HU19941012, AR13c,     1,  1, 150619,     19,2,19941013,1717, 43.9892, -58.0050, 2791,   1405.9,   3.6180,  34.9313,2,  34.9229,2,    474.4,3,   -999.0,9,  -999.00,9,  -999.00,5,  -999.00,9,    1.502,2,    0.780,2,    0.059,2,    2.989,2,   -999.0,9,   3.5105
  18HU19941012, AR13c,     1,  1, 150618,     18,2,19941013,1717, 43.9892, -58.0050, 2791,   1406.5,   3.6185,  34.9308,2,  34.9244,2,    474.4,3,   -999.0,9,  -999.00,9,  -999.00,5,  -999.00,9,    1.505,2,    1.239,2,    0.081,2,    2.910,2,   -999.0,9,   3.5109
  18HU19941012, AR13c,     1,  1, 150617,     17,2,19941013,1717, 43.9892, -58.0050, 2791,   1406.6,   3.6188,  34.9315,2,  34.9248,2,    474.4,3,   -999.0,9,  -999.00,9,  -999.00,5,  -999.00,9,    1.498,2,    1.034,2,    0.070,2,    2.907,2,   -999.0,9,   3.5112
  18HU19941012, AR13c,     1,  1, 150620,     20,2,19941013,1717, 43.9892, -58.0050, 2791,   1406.8,   3.6183,  34.9319,2,  34.9244,2,    474.5,3,   -999.0,9,  -999.00,9,  -999.00,5,  -999.00,9,    1.532,2,    0.946,2,    0.058,2,    2.916,2,   -999.0,9,   3.5107
  18HU19941012, AR13c,     1,  1, 150616,     16,2,19941013,1717, 43.9892, -58.0050, 2791,   1407.4,   3.6194,  34.9319,2,  34.9239,2,    474.5,3,   -999.0,9,  -999.00,9,  -999.00,5,  -999.00,9,    1.481,2,    0.932,2,    0.105,2,    2.986,2,   -999.0,9,   3.5117
  18HU19941012, AR13c,     1,  1, 150614,     14,2,19941013,1717, 43.9892, -58.0050, 2791,   2784.1,   3.6231,  34.2884,4,  34.9205,2,    474.5,4,   -999.0,9,  -999.00,9,  -999.00,5,  -999.00,9,    1.524,2,    1.055,2,    0.067,2,    2.966,3,   -999.0,9,   3.3822
  18HU19941012, AR13c,     2,  1, 150623,     23,2,19941015,0356, 42.9967, -50.2880,   81,     11.4,   9.1959,  32.4349,2,  32.4213,2,    210.4,3,    313.4,2,     0.84,2,     0.58,6,     0.29,2,    3.545,2,    1.936,2,    0.297,2,    5.290,2,   1996.6,2,   9.1947
  18HU19941012, AR13c,     2,  1, 150622,     22,2,19941015,0356, 42.9967, -50.2880,   81,     31.1,  -0.3025,  33.2321,2,  33.2073,2,    340.4,3,    337.0,2,     7.61,2,     7.92,6,     0.87,2,    4.976,2,    2.345,2,    0.400,2,    6.928,2,   -999.0,9,  -0.3034
  18HU19941012, AR13c,     2,  1, 150621,     21,2,19941015,0356, 42.9967, -50.2880,   81,     68.8,  -0.8231,  33.4777,2,  33.4826,2,    353.7,3,    373.7,2,     9.63,2,    10.55,6,     0.99,2,    4.965,2,    2.949,2,    0.398,2,    7.051,2,   2132.3,2,  -0.8249
  18HU19941012, AR13c,     3,  1, 150631,     31,2,19941015,0553, 42.7480, -50.2930,  992,     11.1,   7.6403,  32.5362,2,  32.5158,2,    166.5,3,    323.4,2,     1.29,2,     0.78,6,     0.32,2,    3.544,2,    1.689,2,    0.283,2,    5.060,2,   2010.5,2,   7.6393
  18HU19941012, AR13c,     3,  1, 150630,     30,2,19941015,0553, 42.7480, -50.2930,  992,    101.3,  -0.5589,  33.6333,2,  33.6343,2,    329.2,2,    315.0,2,    11.00,2,    12.29,6,     1.01,2,    4.378,2,    1.884,2,    0.380,2,    5.912,2,   2131.7,2,  -0.5619
  18HU19941012, AR13c,     3,  1, 150629,     29,2,19941015,0553, 42.7480, -50.2930,  992,    300.5,   2.3000,  34.4918,2,  34.4792,2,    305.4,2,    298.1,2,    10.92,2,    15.84,6,     1.05,2,    3.764,2,    1.672,2,    0.289,2,    4.962,2,   2152.4,2,   2.2830
  18HU19941012, AR13c,     3,  1, 150628,     28,2,19941015,0553, 42.7480, -50.2930,  992,    554.1,   3.2561,  34.7274,2,  34.7142,2,    288.8,2,    287.8,2,    10.66,2,    17.27,6,     1.08,2,    3.175,2,    1.590,2,    0.244,2,    4.270,2,   2157.5,2,   3.2191
  18HU19941012, AR13c,     3,  1, 150627,     27,2,19941015,0553, 42.7480, -50.2930,  992,    705.8,   3.2540,  34.7783,2,  34.7659,2,    288.4,2,    289.0,2,    10.77,2,    17.27,6,     1.08,2,    3.221,2,    1.584,2,    0.225,2,    4.502,2,   2159.1,2,   3.2060
  18HU19941012, AR13c,     3,  1, 150626,     26,2,19941015,0553, 42.7480, -50.2930,  992,    806.6,   3.3790,  34.8209,2,  34.8093,2,    287.1,2,    293.0,2,    10.39,2,    17.72,6,     1.09,2,    3.118,2,    1.458,2,    0.242,2,    4.424,2,   2160.6,2,   3.3226
  18HU19941012, AR13c,     3,  1, 150625,     25,2,19941015,0553, 42.7480, -50.2930,  992,    907.5,   3.3152,  34.8430,2,  34.8211,2,    288.8,3,    293.4,2,    10.55,2,    17.53,6,     1.07,2,    2.864,2,    1.337,2,    0.197,2,    4.072,2,   2158.7,2,   3.2515
  18HU19941012, AR13c,     3,  1, 150624,     24,2,19941015,0553, 42.7480, -50.2930,  992,    982.9,   3.2808,  34.8532,2,  34.8414,2,    289.8,2,    294.4,2,    10.50,2,    17.37,6,     1.07,2,    2.814,2,    1.842,2,    0.192,2,    4.230,2,   2158.2,2,   3.2115
  18HU19941012, AR13c,     4,  1, 150646,     46,2,19941015,0852, 42.4977, -50.2920, 2274,     10.3,  10.8685,  32.3496,2,  32.3174,2,   -999.0,9,    296.8,2,     1.18,2,     0.00,6,     0.27,2,    3.310,2,    1.976,2,    0.215,2,    4.470,2,   1980.2,2,  10.8673
  18HU19941012, AR13c,     4,  1, 150645,     45,2,19941015,0852, 42.4977, -50.2920, 2274,     88.2,   1.3051,  34.0378,2,  34.0378,2,   -999.0,9,    301.7,2,  -999.00,9,  -999.00,5,  -999.00,9,    4.542,2,    2.521,2,    0.295,2,    5.821,2,   2130.0,2,   1.3011
  18HU19941012, AR13c,     4,  1, 150644,     44,2,19941015,0852, 42.4977, -50.2920, 2274,    266.9,   4.3424,  34.8229,2,  34.8086,2,    255.0,2,    248.6,2,    12.05,2,    19.18,6,     1.23,2,    2.481,2,    1.146,2,    0.099,2,    2.883,2,   2168.6,2,   4.3228
  18HU19941012, AR13c,     4,  1, 150643,     43,2,19941015,0852, 42.4977, -50.2920, 2274,    507.6,   3.5277,  34.8402,2,  34.8271,2,    272.7,3,    290.2,2,    10.34,2,    17.40,6,     1.11,2,    3.468,2,    1.957,2,    0.180,2,    4.243,2,   2158.1,2,   3.4928
  18HU19941012, AR13c,     4,  1, 150642,     42,2,19941015,0852, 42.4977, -50.2920, 2274,    698.6,   3.7754,  34.9180,2,  34.9054,2,    268.3,3,    281.1,2,    10.88,2,    17.72,6,     1.12,2,    2.546,2,    1.162,2,    0.102,2,    3.351,2,   2159.6,2,   3.7249
  18HU19941012, AR13c,     4,  1, 150641,     41,2,19941015,0852, 42.4977, -50.2920, 2274,    866.2,   3.8398,  34.9487,2,  34.9292,2,    273.5,3,    277.8,2,    11.40,2,    18.07,6,     1.14,2,    1.810,2,    0.942,2,    0.041,2,    2.636,2,   2161.3,2,   3.7756
  18HU19941012, AR13c,     4,  1, 150640,     40,2,19941015,0852, 42.4977, -50.2920, 2274,   1056.7,   3.4660,  34.9068,2,  34.8954,2,    282.8,2,    288.5,2,    10.77,2,    17.69,6,     1.10,2,    2.256,2,    0.994,2,    0.103,2,    3.378,2,   2158.0,2,   3.3892
  18HU19941012, AR13c,     4,  1, 150639,     39,2,19941015,0852, 42.4977, -50.2920, 2274,   1220.0,   3.2459,  34.8822,2,  34.8698,2,    287.9,2,    269.6,2,    10.70,2,    17.41,6,     1.09,2,    2.776,2,    1.080,2,    0.111,2,    3.730,2,   2157.8,2,   3.1579
  18HU19941012, AR13c,     4,  1, 150638,     38,2,19941015,0852, 42.4977, -50.2920, 2274,   1385.0,   3.2733,  34.8975,2,  34.8846,2,    288.5,2,    239.9,0,    11.28,2,    17.39,6,     1.09,2,    2.215,2,    1.110,2,    0.083,2,    3.189,2,   2157.4,2,   3.1713
  18HU19941012, AR13c,     4,  1, 150637,     37,2,19941015,0852, 42.4977, -50.2920, 2274,   1500.5,   3.0869,  34.8732,2,  34.8627,2,    291.6,2,    298.0,2,    11.03,2,    17.74,6,     1.09,2,    2.854,2,    1.176,2,    0.105,2,    3.762,2,   2156.3,2,   2.9773
  18HU19941012, AR13c,     4,  1, 150636,     36,2,19941015,0852, 42.4977, -50.2920, 2274,   1606.1,   3.0902,  34.8770,2,  34.8633,2,    291.9,2,    297.4,2,    11.23,2,    17.57,6,     1.10,2,    2.781,2,    1.176,2,    0.127,2,    3.693,2,   2158.7,2,   2.9715
  18HU19941012, AR13c,     4,  1, 150635,     35,2,19941015,0852, 42.4977, -50.2920, 2274,   1813.7,   3.1106,  34.8843,2,  34.8662,2,    290.2,3,    289.7,2,    11.27,2,    17.38,6,     1.07,2,    2.532,2,    1.166,2,    0.093,2,    3.487,2,   2156.4,2,   2.9735
  18HU19941012, AR13c,     4,  1, 150634,     34,2,19941015,0852, 42.4977, -50.2920, 2274,   2017.2,   3.1104,  34.8923,2,  34.8777,2,    289.0,2,    296.8,2,    10.98,2,    17.52,6,     1.07,2,    2.288,2,    1.142,2,    0.082,2,    3.209,2,   2154.8,2,   2.9548
  18HU19941012, AR13c,     4,  1, 150633,     33,2,19941015,0852, 42.4977, -50.2920, 2274,   2117.2,   3.3483,  34.9423,2,  34.9423,2,   -999.0,9,   -999.0,9,  -999.00,9,  -999.00,5,  -999.00,9,    0.000,3,    0.000,3,    0.000,2,    0.000,3,   -999.0,9,   3.1794
  18HU19941012, AR13c,     4,  1, 150632,     32,2,19941015,0852, 42.4977, -50.2920, 2274,   2265.6,   3.2624,  34.9468,2,  34.9381,2,    281.0,3,    281.4,2,    13.78,2,    17.97,6,     1.11,2,    0.951,2,    0.549,2,    0.013,2,    1.709,2,   2160.3,2,   3.0807
  18HU19941012, AR13c,     5,  1, 150666,     66,2,19941015,1231, 42.2453, -50.2840, 3094,     11.7,  14.6240,  32.4291,2,  32.4175,2,    208.0,3,    266.6,2,     1.14,2,     0.15,6,     0.25,2,    2.421,2,    1.682,2,    0.188,2,    3.399,2,   1970.9,2,  14.6223
  18HU19941012, AR13c,     5,  1, 150665,     65,2,19941015,1231, 42.2453, -50.2840, 3094,     63.2,   0.7234,  33.4024,2,  33.3793,2,    302.7,3,    324.3,2,     8.06,2,     8.97,6,     1.02,2,    4.664,2,    2.876,2,    0.390,2,    6.041,2,   2118.1,2,   0.7209
  18HU19941012, AR13c,     5,  1, 150664,     64,2,19941015,1231, 42.2453, -50.2840, 3094,    103.4,   0.8091,  33.8977,2,  33.8523,2,    305.4,3,    309.6,2,    10.10,2,    12.93,6,     1.07,2,    4.257,2,    2.555,2,    0.366,2,    5.570,2,   2127.0,2,   0.8048
  18HU19941012, AR13c,     5,  1, 150663,     63,2,19941015,1231, 42.2453, -50.2840, 3094,    166.4,   1.3285,  34.1689,2,  34.1393,2,    305.9,3,    300.1,2,    10.57,2,    14.69,6,     1.11,2,    4.091,2,    2.385,2,    0.320,2,    5.139,2,   2139.1,2,   1.3207
  18HU19941012, AR13c,     5,  1, 150662,     62,2,19941015,1231, 42.2453, -50.2840, 3094,    254.5,   4.2793,  34.7615,2,  34.7486,2,    259.2,3,    246.9,2,    12.36,2,    18.09,6,     1.29,2,    2.131,2,    1.460,2,    0.104,2,    2.820,2,   2166.4,2,   4.2608
  18HU19941012, AR13c,     5,  1, 150661,     61,2,19941015,1231, 42.2453, -50.2840, 3094,    325.2,   4.9529,  34.9383,2,  34.9256,2,    242.9,2,    235.6,2,    12.58,2,    18.68,6,     1.32,2,    1.567,2,    1.087,2,    0.083,2,    2.058,2,   2174.0,2,   4.9273
  18HU19941012, AR13c,     5,  1, 150660,     60,2,19941015,1231, 42.2453, -50.2840, 3094,    465.6,   3.5252,  34.8027,2,  34.8027,2,   -999.0,9,    284.7,2,    10.89,2,    16.22,6,     1.18,2,    3.021,2,    1.939,2,    0.215,2,    3.862,2,   2143.6,2,   3.4934
  18HU19941012, AR13c,     5,  1, 150659,     59,2,19941015,1231, 42.2453, -50.2840, 3094,    738.6,   4.2775,  34.9927,2,  34.9927,2,   -999.0,9,    263.6,2,    12.08,2,    17.58,6,     1.24,2,    1.136,2,    0.905,2,    0.033,2,    1.998,2,   2166.6,2,   4.2209
  18HU19941012, AR13c,     5,  1, 150658,     58,2,19941015,1231, 42.2453, -50.2840, 3094,    907.7,   4.0352,  34.9765,2,  34.9656,2,    265.2,2,    270.0,2,    12.16,2,    17.31,6,     1.22,2,    1.158,2,    0.763,2,    0.016,2,    2.166,2,   2162.9,2,   3.9662
  18HU19941012, AR13c,     5,  1, 150657,     57,2,19941015,1231, 42.2453, -50.2840, 3094,   1095.9,   3.8308,  34.9646,2,  34.9498,2,    270.4,2,    275.8,2,    12.17,2,    17.41,6,     1.20,2,    1.084,2,    0.937,2,    0.020,2,    2.048,2,   2165.9,2,   3.7477
  18HU19941012, AR13c,     5,  1, 150656,     56,2,19941015,1231, 42.2453, -50.2840, 3094,   1246.2,   3.7191,  34.9569,2,  34.9376,2,    272.6,3,    276.7,2,    12.23,2,    17.11,6,     1.19,2,    1.077,2,    1.096,2,    0.021,2,    1.992,2,   -999.0,9,   3.6243
  18HU19941012, AR13c,     5,  1, 150655,     55,2,19941015,1231, 42.2453, -50.2840, 3094,   1456.8,   3.5873,  34.9498,2,  34.9388,2,    274.9,2,    280.2,2,    12.68,2,    16.88,6,     1.18,2,    1.041,2,    0.914,2,    0.028,2,    2.041,2,   2159.1,2,   3.4756
  18HU19941012, AR13c,     5,  1, 150654,     54,2,19941015,1231, 42.2453, -50.2840, 3094,   1665.9,   3.5215,  34.9537,2,  34.9427,2,    276.4,2,    278.6,2,    13.50,2,    17.62,6,     1.19,2,    0.909,2,    0.882,2,    0.000,2,    1.777,2,   2158.9,2,   3.3920
  18HU19941012, AR13c,     5,  1, 150653,     53,2,19941015,1231, 42.2453, -50.2840, 3094,   1900.7,   3.5031,  34.9688,2,  34.9522,2,    274.7,3,    277.3,2,    14.69,2,    17.94,6,     1.17,2,    0.550,2,    0.699,2,    0.013,2,    1.415,2,   2153.4,2,   3.3523
  18HU19941012, AR13c,     5,  1, 150652,     52,2,19941015,1231, 42.2453, -50.2840, 3094,   2065.2,   3.4125,  34.9689,2,  34.9583,2,    275.8,2,    275.4,2,    15.36,2,    18.00,6,     1.18,2,    0.456,2,    0.423,2,    0.000,2,    1.068,2,   2153.1,2,   3.2475
  18HU19941012, AR13c,     5,  1, 150651,     51,2,19941015,1231, 42.2453, -50.2840, 3094,   2310.7,   3.1790,  34.9523,2,  34.9390,2,    277.8,2,    277.9,2,    15.47,2,    17.44,6,     1.16,2,    0.588,2,    0.376,2,    0.000,2,    1.337,2,   2161.6,2,   2.9943
  18HU19941012, AR13c,     5,  1, 150650,     50,2,19941015,1231, 42.2453, -50.2840, 3094,   2545.8,   3.0243,  34.9507,2,  34.9363,2,    278.4,2,    277.9,2,    16.69,2,    17.50,6,     1.16,2,    0.590,2,    0.451,2,    0.000,2,    1.390,2,   2160.5,2,   2.8194
  18HU19941012, AR13c,     5,  1, 150649,     49,2,19941015,1231, 42.2453, -50.2840, 3094,   2860.1,   2.5952,  34.9282,2,  34.9142,2,    284.7,2,    284.6,2,    16.08,2,    16.61,6,     1.10,2,    1.014,2,    0.732,2,    0.011,2,    1.839,2,   2160.1,2,   2.3675
  18HU19941012, AR13c,     5,  1, 150648,     48,2,19941015,1231, 42.2453, -50.2840, 3094,   2974.8,   2.4690,  34.9219,2,  34.9103,2,    285.8,2,    286.4,2,    16.15,2,    16.70,6,     1.12,2,    1.101,2,    0.714,2,    0.048,2,    1.907,2,   2154.6,2,   2.2324
  18HU19941012, AR13c,     5,  1, 150647,     47,2,19941015,1231, 42.2453, -50.2840, 3094,   3086.2,   2.2434,  34.9133,2,  34.9018,2,    288.6,2,    286.7,2,    17.66,2,    16.53,6,     1.07,2,    1.231,2,    0.961,2,    0.031,2,    2.133,2,   2165.0,2,   2.0005