BOTTLE,20140120PRINUNIVRMK
EXPOCODE,SECT_ID,STNNBR,CASTNO,SAMPNO,BTLNBR,BTLNBR_FLAG_W,DATE,TIME,LATITUDE,LONGITUDE,DEPTH,CTDPRS,CTDTMP,CTDSAL,CTDSAL_FLAG_W,SALNTY,SALNTY_FLAG_W,CTDOXY,CTDOXY_FLAG_W,OXYGEN,OXYGEN_FLAG_W,SILCAT,SILCAT_FLAG_W,NITRAT,NITRAT_FLAG_W,PHSPHT,PHSPHT_FLAG_W,CFC-11,CFC-11_FLAG_W,CFC-12,CFC-12_FLAG_W,CFC113,CFC113_FLAG_W,CCL4,CCL4_FLAG_W,TCARBN,TCARBN_FLAG_W,THETA
,,,,,,,,,,,METERS,DBAR,ITS-90,PSS-78,,PSS-78,,UMOL/KG,,UMOL/KG,,UMOL/KG,,UMOL/KG,,UMOL/KG,,PMOL/KG,,PMOL/KG,,PMOL/KG,,PMOL/KG,,UMOL/KG,,DEG C
  18HU19941012, AR13c,    25,  1, 151056,     56,2,19941021,0454, 39.4437, -43.7500, 4686,     12.8,  23.0111,  36.1896,2,  36.1939,2,     96.9,3,    216.3,2,     1.10,2,     0.00,6,     0.07,2,    1.553,2,    0.924,2,    0.310,2,    2.061,2,   2021.2,2,  23.0085
  18HU19941012, AR13c,    25,  1, 151055,     55,2,19941021,0454, 39.4437, -43.7500, 4686,    108.5,  21.2429,  36.6713,2,  36.6745,2,    145.5,2,    188.0,2,     1.63,2,     3.26,6,     0.20,2,    1.613,2,    0.901,2,    0.207,2,    0.634,2,   2087.9,2,  21.2218
  18HU19941012, AR13c,    25,  1, 151054,     54,2,19941021,0454, 39.4437, -43.7500, 4686,    200.8,  18.6771,  36.5721,2,  36.5779,2,    200.6,2,    207.0,2,     1.46,2,     3.34,6,     0.21,2,    1.778,2,    1.014,2,    0.100,2,    0.691,2,   2085.8,2,  18.6414
  18HU19941012, AR13c,    25,  1, 151053,     53,2,19941021,0454, 39.4437, -43.7500, 4686,    399.1,  17.0597,  36.3348,2,  36.5769,0,    204.7,3,    205.1,2,     1.43,2,     3.24,6,     0.23,2,    1.779,2,    0.986,2,    0.088,2,    0.693,2,   2085.6,2,  16.9927
  18HU19941012, AR13c,    25,  1, 151052,     52,2,19941021,0454, 39.4437, -43.7500, 4686,    601.9,  12.0344,  35.5077,2,  35.5176,2,    166.2,3,    157.5,2,     9.01,2,    20.63,6,     1.15,2,    0.998,2,    0.513,2,    0.068,2,    0.503,2,   2159.9,2,  11.9540
  18HU19941012, AR13c,    25,  1, 151051,     51,2,19941021,0454, 39.4437, -43.7500, 4686,    801.4,   7.6807,  35.0752,2,  35.0813,2,    186.0,3,    171.2,2,    14.53,2,    25.18,6,     1.47,2,    0.731,2,    0.334,2,    0.055,2,    0.826,2,   2183.8,2,   7.5982
  18HU19941012, AR13c,    25,  1, 151050,     50,2,19941021,0454, 39.4437, -43.7500, 4686,   1004.0,   5.6855,  35.0595,2,  35.0652,2,    233.7,2,    227.3,2,    12.20,2,    21.36,6,     1.27,2,    1.201,2,    0.590,2,    0.077,2,    1.716,2,   2169.7,2,   5.5957
  18HU19941012, AR13c,    25,  1, 151049,     49,2,19941021,0454, 39.4437, -43.7500, 4686,   1292.3,   4.4510,  34.9878,2,  35.0030,2,    268.1,3,    261.4,2,    11.36,2,    19.97,6,     1.19,2,    1.363,2,    0.728,2,    0.100,2,    2.288,2,   2159.4,2,   4.3449
  18HU19941012, AR13c,    25,  1, 151048,     48,2,19941021,0454, 39.4437, -43.7500, 4686,   1599.8,   3.8943,  34.9420,2,  34.9484,2,    278.1,2,    275.7,2,    11.71,2,    19.48,6,     1.16,2,    1.347,2,    0.695,2,    0.090,2,    2.491,2,   2155.6,2,   3.7662
  18HU19941012, AR13c,    25,  1, 151047,     47,2,19941021,0454, 39.4437, -43.7500, 4686,   1898.4,   3.3812,  34.8887,2,  34.8959,2,    286.4,2,    289.4,2,    11.03,2,    18.63,6,     1.14,2,    1.882,2,    0.967,2,    0.140,2,    3.274,2,   2153.8,2,   3.2325
  18HU19941012, AR13c,    25,  1, 151046,     46,2,19941021,0454, 39.4437, -43.7500, 4686,   2217.4,   3.2674,  34.8967,2,  34.9028,2,    285.4,2,    288.7,2,    11.90,2,    18.40,6,     1.11,2,    1.634,2,    0.831,2,    0.129,2,    2.875,2,   2152.8,2,   3.0904
  18HU19941012, AR13c,    25,  1, 151045,     45,2,19941021,0454, 39.4437, -43.7500, 4686,   2484.9,   3.2686,  34.9336,2,  34.9400,2,    280.5,2,    278.7,2,    14.56,2,    18.89,6,     1.16,2,    0.767,2,    0.419,2,    0.028,2,    1.681,2,   2154.8,2,   3.0652
  18HU19941012, AR13c,    25,  1, 151044,     44,2,19941021,0454, 39.4437, -43.7500, 4686,   2799.9,   3.0010,  34.9306,2,  34.9376,2,    281.7,2,    279.4,2,    16.52,2,    19.10,6,     1.16,2,    0.578,2,    0.321,2,    0.026,2,    1.369,2,   2155.9,2,   2.7709
  18HU19941012, AR13c,    25,  1, 151043,     43,2,19941021,0454, 39.4437, -43.7500, 4686,   3104.4,   2.7390,  34.9250,2,  34.9333,2,    281.6,2,    273.9,2,    21.32,2,    19.98,6,     1.23,2,    0.251,2,    0.175,2,    0.000,2,    0.759,2,   2161.6,2,   2.4830
  18HU19941012, AR13c,    25,  1, 151042,     42,2,19941021,0454, 39.4437, -43.7500, 4686,   3404.9,   2.4727,  34.9085,2,  34.9140,2,    283.2,2,    279.2,2,    24.00,2,    19.69,6,     1.24,2,    0.320,2,    0.219,2,    0.023,2,    0.913,2,   2161.6,2,   2.1911
  18HU19941012, AR13c,    25,  1, 151041,     41,2,19941021,0454, 39.4437, -43.7500, 4686,   3687.8,   2.2955,  34.8951,2,  34.9093,2,    282.5,3,    274.9,2,    26.82,2,    20.35,6,     1.26,2,    0.373,2,    0.209,2,    0.000,2,    0.961,2,   2166.3,2,   1.9877
  18HU19941012, AR13c,    25,  1, 151040,     40,2,19941021,0454, 39.4437, -43.7500, 4686,   3984.9,   2.2367,  34.8882,2,  34.9018,2,    279.1,3,    274.2,2,    29.25,2,    20.36,6,     1.27,2,    0.356,2,    0.222,2,    0.027,2,    0.920,2,   2172.6,2,   1.8974
  18HU19941012, AR13c,    25,  1, 151039,     39,2,19941021,0454, 39.4437, -43.7500, 4686,   4372.2,   2.1928,  34.8789,2,  34.8861,2,    274.7,2,    270.1,2,    35.75,2,    21.28,6,     1.33,2,    0.284,2,    0.176,2,    0.000,2,    0.763,2,   -999.0,9,   1.8101
  18HU19941012, AR13c,    25,  1, 151038,     38,2,19941021,0454, 39.4437, -43.7500, 4686,   4579.0,   2.1956,  34.8761,2,  34.8806,2,    272.7,2,    269.9,2,    37.14,2,    21.68,6,     1.38,2, -999.000,9, -999.000,9, -999.000,9, -999.000,9,   2181.2,2,   1.7882
  18HU19941012, AR13c,    25,  1, 151037,     37,2,19941021,0454, 39.4437, -43.7500, 4686,   4679.8,   2.1788,  34.8719,2,  34.8825,2,    271.8,3,    263.7,2,    38.74,2,    21.84,6,     1.42,2,    0.208,2,    0.132,2,    0.019,2,    0.581,2,   2183.1,2,   1.7597
  18HU19941012, AR13c,    26,  1, 151076,     76,2,19941021,1039, 39.8688, -43.4580, 4745,     12.3,  23.2355,  36.2427,2,  36.2500,2,     63.9,3,    215.2,2,     1.03,2,     0.00,6,     0.11,2,    1.556,2,    1.010,2,    0.118,2,    2.073,2,   2023.6,2,  23.2330
  18HU19941012, AR13c,    26,  1, 151075,     75,2,19941021,1039, 39.8688, -43.4580, 4745,    394.9,  17.1301,  36.3467,2,  36.3529,2,    206.6,3,    191.4,2,     2.67,2,     7.16,6,     0.45,2,    1.612,2,    1.006,2,    0.025,2,    0.323,2,   2110.1,2,  17.0636
  18HU19941012, AR13c,    26,  1, 151074,     74,2,19941021,1039, 39.8688, -43.4580, 4745,    705.2,   9.3942,  35.2055,2,  35.2181,2,    171.1,3,    153.3,2,    12.94,2,    22.76,6,     1.47,2,    0.647,2,    0.380,2,    0.015,2,    0.423,2,   2181.3,2,   9.3131
  18HU19941012, AR13c,    26,  1, 151073,     73,2,19941021,1039, 39.8688, -43.4580, 4745,   1003.5,   5.6502,  35.0487,2,  35.2019,2,    234.8,3,    153.1,2,    13.31,2,    22.67,6,     1.52,2,    0.668,2,    0.325,2,    0.020,2,    0.451,2,   2181.4,2,   5.5605
  18HU19941012, AR13c,    26,  1, 151072,     72,2,19941021,1039, 39.8688, -43.4580, 4745,   1197.1,   4.7429,  34.9991,2,  35.0060,2,    258.6,2,    253.9,2,    11.55,2,    20.34,6,     1.21,2,    1.547,2,    1.018,2,    0.048,2,    2.696,2,   2165.1,2,   4.6428
  18HU19941012, AR13c,    26,  1, 151071,     71,2,19941021,1039, 39.8688, -43.4580, 4745,   1497.0,   4.0075,  34.9411,2,  34.9543,2,    274.8,3,    274.6,2,    11.18,2,    19.58,6,     1.17,2,    1.724,2,    0.949,2,    0.057,2,    3.060,2,   2156.9,2,   3.8875
  18HU19941012, AR13c,    26,  1, 151070,     70,2,19941021,1039, 39.8688, -43.4580, 4745,   1706.9,   3.7557,  34.9282,2,  34.9558,2,    278.8,3,    271.7,2,    11.21,2,    19.38,6,     1.16,2,    1.514,2,    0.865,2,    0.064,2,    2.923,2,   2159.4,2,   3.6195
  18HU19941012, AR13c,    26,  1, 151069,     69,2,19941021,1039, 39.8688, -43.4580, 4745,   1908.4,   3.4767,  34.8965,2,  34.9181,2,    283.8,3,    285.1,2,    11.16,2,    18.75,6,     1.14,2,    1.862,2,    1.088,2,    0.081,2,    3.822,2,   2152.3,2,   3.3257
  18HU19941012, AR13c,    26,  1, 151068,     68,2,19941021,1039, 39.8688, -43.4580, 4745,   2111.2,   3.5182,  34.9215,2,  34.9285,2,    279.7,2,    282.2,2,    12.40,2,    19.12,6,     1.14,2,    1.290,2,    0.717,2,    0.034,2,    2.527,2,   2156.1,2,   3.3473
  18HU19941012, AR13c,    26,  1, 151067,     67,2,19941021,1039, 39.8688, -43.4580, 4745,   2410.3,   3.3957,  34.9267,2,  34.9328,2,    278.0,2,    275.7,2,    13.01,2,    19.28,6,     1.16,2,    1.028,2,    0.531,2,    0.027,2,    2.296,2,   2154.3,2,   3.1975
  18HU19941012, AR13c,    26,  1, 151066,     66,2,19941021,1039, 39.8688, -43.4580, 4745,   2609.7,   3.3420,  34.9372,2,  34.9433,2,    276.7,2,    277.5,2,    13.87,2,    19.37,6,     1.17,2,    0.686,2,    0.411,2,    0.012,2,    1.761,2,   2155.5,2,   3.1247
  18HU19941012, AR13c,    26,  1, 151065,     65,2,19941021,1039, 39.8688, -43.4580, 4745,   2794.5,   3.1525,  34.9262,2,  34.9328,2,    277.4,2,    281.1,2,    14.06,2,    18.98,6,     1.14,2,    0.853,2,    0.427,2,    0.016,2,    1.856,2,   2154.1,2,   2.9199
  18HU19941012, AR13c,    26,  1, 151064,     64,2,19941021,1039, 39.8688, -43.4580, 4745,   3091.3,   2.9161,  34.9195,2,  34.9382,2,    277.9,3,    283.6,2,    14.36,2,    18.44,6,     1.12,2,    0.996,2,    0.530,2,    0.018,2,    2.023,2,   2154.1,2,   2.6575
  18HU19941012, AR13c,    26,  1, 151063,     63,2,19941021,1039, 39.8688, -43.4580, 4745,   3284.4,   2.7485,  34.9144,2,  34.9309,2,    278.9,3,    283.6,2,    14.65,2,    18.18,6,     1.09,2,    1.054,2,    0.582,2,    0.038,2,    2.203,2,   2155.5,2,   2.4732
  18HU19941012, AR13c,    26,  1, 151062,     62,2,19941021,1039, 39.8688, -43.4580, 4745,   3589.6,   2.5215,  34.9093,2,  34.9157,2,    279.0,2,    280.0,2,    20.52,2,    19.31,6,     1.16,2,    0.531,2,    0.266,2,    0.000,2,    1.435,2,   2162.8,2,   2.2187
  18HU19941012, AR13c,    26,  1, 151061,     61,2,19941021,1039, 39.8688, -43.4580, 4745,   3796.1,   2.3797,  34.9007,2,  34.9071,2,    278.6,2,    282.3,2,    20.74,2,    19.02,6,     1.20,2,    0.779,2,    0.256,2, -999.000,9,    1.779,2,   2161.8,2,   2.0577
  18HU19941012, AR13c,    26,  1, 151060,     60,2,19941021,1039, 39.8688, -43.4580, 4745,   4015.4,   2.3147,  34.8965,2,  34.9054,2,    277.3,2,    281.4,2,    22.41,2,    19.39,6,     1.17,2,    0.731,2,    0.344,2,    0.016,2,    1.618,2,   2164.0,2,   1.9698
  18HU19941012, AR13c,    26,  1, 151059,     59,2,19941021,1039, 39.8688, -43.4580, 4745,   4412.0,   2.2598,  34.8898,2,  34.9044,2,    273.5,3,    269.1,2,    23.75,2,    19.14,6,     1.17,2,    0.824,2,    0.329,2,    0.019,2,    1.717,2,   2166.4,2,   1.8703
  18HU19941012, AR13c,    26,  1, 151058,     58,2,19941021,1039, 39.8688, -43.4580, 4745,   4631.7,   2.2201,  34.8793,2,  34.8851,2,    271.6,2,    272.0,2,    33.63,2,    21.09,6,     1.27,2,    0.385,2,    0.156,2,    0.000,2,    0.938,2,   2178.1,2,   1.8055
  18HU19941012, AR13c,    26,  1, 151057,     57,2,19941021,1039, 39.8688, -43.4580, 4745,   4738.2,   2.1638,  34.8696,2,  34.8780,2,    270.4,2,    266.1,2,    40.96,2,    22.43,6,     1.37,2,    0.139,2,    0.074,2,    0.000,2,    0.369,2,   2185.4,2,   1.7381
  18HU19941012, AR13c,    27,  1, 151096,     96,2,19941021,1636, 40.2880, -43.1460, 4881,     12.4,  22.8384,  35.9628,2,  35.9674,2,     71.2,3,    218.0,2,     0.94,2,     0.00,6,     0.09,2,    1.598,2,    0.996,2,    0.194,2,    2.113,2,   2018.4,2,  22.8359
  18HU19941012, AR13c,    27,  1, 151095,     95,2,19941021,1636, 40.2880, -43.1460, 4881,     85.8,  21.9481,  36.6873,2,  36.6903,2,    129.6,3,    189.9,2,     1.12,2,     2.23,6,     0.19,2,    1.626,2,    0.973,2,    0.143,2,    0.725,2,   2081.1,2,  21.9310
  18HU19941012, AR13c,    27,  1, 151094,     94,2,19941021,1636, 40.2880, -43.1460, 4881,    271.6,  18.1628,  36.5285,2,  36.5330,2,    214.2,3,    208.8,2,     1.56,2,     3.78,6,     0.27,2,    1.799,2,    1.075,2,    0.068,2,    0.758,2,   2091.2,2,  18.1153
  18HU19941012, AR13c,    27,  1, 151093,     93,2,19941021,1636, 40.2880, -43.1460, 4881,    471.7,  15.4315,  36.0436,2,  36.0413,2,    200.0,3,    178.3,2,     3.88,2,    10.34,6,     0.68,2,    1.492,2,    0.865,2,    0.038,2,    0.560,2,   2129.0,2,  15.3575
  18HU19941012, AR13c,    27,  1, 151092,     92,2,19941021,1636, 40.2880, -43.1460, 4881,    779.3,  10.4178,  35.4047,2,  35.4118,2,    186.2,2,    192.4,2,     8.10,2,    16.84,6,     1.14,2,    1.437,2,    0.735,2,    0.051,2,    0.864,2,   2161.1,2,  10.3219
  18HU19941012, AR13c,    27,  1, 151091,     91,2,19941021,1636, 40.2880, -43.1460, 4881,    996.1,   7.6415,  35.2752,2,  35.2903,2,    202.8,3,    201.3,2,    11.35,2,    19.02,6,     1.26,2,    0.959,2,    0.582,2,    0.073,2,    1.059,2,   2178.9,2,   7.5377
  18HU19941012, AR13c,    27,  1, 151090,     90,2,19941021,1636, 40.2880, -43.1460, 4881,   1189.1,   5.4928,  35.0690,2,  35.0776,2,    242.0,3,    236.8,2,    11.85,2,    18.79,6,     1.27,2,    1.287,2,    0.698,2,    0.055,2,    1.864,2,   2170.9,2,   5.3866
  18HU19941012, AR13c,    27,  1, 151089,     89,2,19941021,1636, 40.2880, -43.1460, 4881,   1502.3,   4.4424,  34.9965,2,  35.0055,2,    266.5,2,    262.6,2,    11.26,2,    17.68,6,     1.26,2,    1.230,2,    0.639,2,    0.065,2,    2.152,2,   2161.2,2,   4.3169
  18HU19941012, AR13c,    27,  1, 151088,     88,2,19941021,1636, 40.2880, -43.1460, 4881,   1790.7,   3.9680,  34.9581,2,  34.9581,2,   -999.0,9,    273.8,2,    11.60,2,    17.33,6,     1.20,2,    1.154,2,    0.644,2,    0.045,2,    2.222,2,   2158.5,2,   3.8211
  18HU19941012, AR13c,    27,  1, 151087,     87,2,19941021,1636, 40.2880, -43.1460, 4881,   2109.8,   3.6071,  34.9282,2,  34.9374,2,    279.6,2,    279.3,2,    11.92,2,    17.07,6,     1.21,2,    1.140,2,    0.642,2,    0.030,2,    2.259,2,   2156.6,2,   3.4349
  18HU19941012, AR13c,    27,  1, 151086,     86,2,19941021,1636, 40.2880, -43.1460, 4881,   2396.4,   3.4183,  34.9227,2,  34.9292,2,    280.9,2,    280.9,2,    12.98,2,    17.18,6,     1.19,2,    1.051,2,    0.637,2,    0.042,2,    2.104,2,   2156.2,2,   3.2211
  18HU19941012, AR13c,    27,  1, 151085,     85,2,19941021,1636, 40.2880, -43.1460, 4881,   2694.2,   3.3238,  34.9395,2,  34.9395,2,   -999.0,9,    277.3,2,    14.81,2,    17.54,6,     1.19,2,    0.622,2,    0.356,2,    0.019,2,    1.476,2,   2163.0,2,   3.0982
  18HU19941012, AR13c,    27,  1, 151084,     84,2,19941021,1636, 40.2880, -43.1460, 4881,   2999.2,   3.1125,  34.9366,2,  34.9508,2,    277.2,3,    275.4,2,    16.45,2,    17.44,6,     1.21,2,    0.512,2,    0.322,2,    0.000,2,    1.253,2,   2162.3,2,   2.8593
  18HU19941012, AR13c,    27,  1, 151083,     83,2,19941021,1636, 40.2880, -43.1460, 4881,   3296.7,   2.8680,  34.9280,2,  34.9485,2,    277.3,3,    276.1,2,    19.36,2,    17.63,6,     1.21,2,    0.408,2,    0.231,2,    0.011,2,    1.067,2,   2163.4,2,   2.5885
  18HU19941012, AR13c,    27,  1, 151082,     82,2,19941021,1636, 40.2880, -43.1460, 4881,   3581.6,   2.6003,  34.9122,2,  34.9615,2,    279.3,3,    276.2,2,    16.25,2,    17.54,6,     1.20,2,    0.813,2,    0.458,2,    0.042,2,    1.640,2,   2159.4,2,   2.2961
  18HU19941012, AR13c,    27,  1, 151081,     81,2,19941021,1636, 40.2880, -43.1460, 4881,   3913.0,   2.4081,  34.9014,2,  34.9520,2,    279.0,3,    275.2,2,    15.76,2,    16.96,6,     1.25,2,    0.740,2,    0.438,2,    0.036,2,    1.600,2,   2158.2,2,   2.0719
  18HU19941012, AR13c,    27,  1, 151080,     80,2,19941021,1636, 40.2880, -43.1460, 4881,   4238.3,   2.3231,  34.8949,2,  34.9109,2,    277.2,3,   -999.0,9,    22.39,2,    17.22,6,     1.22,2,    0.768,2,    0.408,2,    0.013,2,    1.593,2,   2166.5,2,   1.9521
  18HU19941012, AR13c,    27,  1, 151079,     79,2,19941021,1636, 40.2880, -43.1460, 4881,   4573.3,   2.2902,  34.8899,2,  34.8899,2,   -999.0,9,    277.2,2,    24.45,2,    17.68,6,     1.23,2,    0.778,2,    0.452,2,    0.031,2,    1.549,2,   2169.3,2,   1.8805
  18HU19941012, AR13c,    27,  1, 151078,     78,2,19941021,1636, 40.2880, -43.1460, 4881,   4773.1,   2.2844,  34.8863,2,  34.8958,2,    273.1,2,    279.6,2,    27.99,2,    18.40,6,     1.27,2,    0.670,2,    0.378,2,    0.022,2,    1.379,2,   2177.5,2,   1.8504
  18HU19941012, AR13c,    27,  1, 151077,     77,2,19941021,1636, 40.2880, -43.1460, 4881,   4874.4,   2.2694,  34.8821,2,  34.9001,2,    272.3,3,    272.7,2,    29.76,2,    18.03,6,     1.34,2,    0.569,2,    0.329,2,    0.018,2,    1.200,2,   2185.5,2,   1.8233