BOTTLE,20140120PRINUNIVRMK
EXPOCODE,SECT_ID,STNNBR,CASTNO,SAMPNO,BTLNBR,BTLNBR_FLAG_W,DATE,TIME,LATITUDE,LONGITUDE,DEPTH,CTDPRS,CTDTMP,CTDSAL,CTDSAL_FLAG_W,SALNTY,SALNTY_FLAG_W,CTDOXY,CTDOXY_FLAG_W,OXYGEN,OXYGEN_FLAG_W,SILCAT,SILCAT_FLAG_W,NITRAT,NITRAT_FLAG_W,PHSPHT,PHSPHT_FLAG_W,CFC-11,CFC-11_FLAG_W,CFC-12,CFC-12_FLAG_W,CFC113,CFC113_FLAG_W,CCL4,CCL4_FLAG_W,TCARBN,TCARBN_FLAG_W,THETA
,,,,,,,,,,,METERS,DBAR,ITS-90,PSS-78,,PSS-78,,UMOL/KG,,UMOL/KG,,UMOL/KG,,UMOL/KG,,UMOL/KG,,PMOL/KG,,PMOL/KG,,PMOL/KG,,PMOL/KG,,UMOL/KG,,DEG C
  18HU19941012, AR13c,    13,  1, 150816,     16,2,19941017,0948, 39.1707, -50.2920, 5506,     13.2,  21.7240,  35.3444,2,  35.3349,2,    140.2,3,    223.5,2,     0.86,2,     0.00,6,     0.12,2,    1.827,2,    1.018,2,    0.119,2,    2.283,2,   2005.0,2,  21.7214
  18HU19941012, AR13c,    13,  1, 150815,     15,2,19941017,0948, 39.1707, -50.2920, 5506,    153.6,  15.8419,  36.0975,2,  36.0893,2,    186.8,3,    190.9,2,     3.71,2,     9.01,6,     0.54,2,    1.782,2,    0.987,2,    0.044,2,    0.651,2,   2121.5,2,  15.8176
  18HU19941012, AR13c,    13,  1, 150814,     14,2,19941017,0948, 39.1707, -50.2920, 5506,    258.4,  13.5506,  35.7248,2,  35.7358,2,    173.7,3,    188.8,2,     5.48,2,    13.17,6,     0.78,2, -999.000,9, -999.000,9, -999.000,9, -999.000,9,   2136.9,2,  13.5137
  18HU19941012, AR13c,    13,  1, 150813,     13,2,19941017,0948, 39.1707, -50.2920, 5506,    461.8,   8.9929,  35.1030,2,  35.0997,2,    163.8,3,    172.0,2,    11.42,2,    21.29,6,     1.32,2,    1.325,2,    0.700,2,    0.037,2,    1.226,2,   2173.0,2,   8.9419
  18HU19941012, AR13c,    13,  1, 150812,     12,2,19941017,0948, 39.1707, -50.2920, 5506,    748.2,   6.3329,  35.1609,2,  35.1481,2,    205.7,2,    216.0,2,    12.22,2,    20.58,6,     1.28,2,    0.955,2,    0.569,2,    0.012,2,    1.305,2,   2179.7,2,   6.2636
  18HU19941012, AR13c,    13,  1, 150811,     11,2,19941017,0948, 39.1707, -50.2920, 5506,   1007.6,   4.8686,  35.0422,2,  35.0326,2,    240.1,2,    250.9,2,    11.76,2,    19.02,6,     1.19,2,    1.361,2,    0.716,2,    0.036,2,    2.063,2,   2169.9,2,   4.7847
  18HU19941012, AR13c,    13,  1, 150810,     10,2,19941017,0948, 39.1707, -50.2920, 5506,   1270.4,   4.2399,  34.9920,2,  34.9848,2,    257.6,3,    265.7,2,    11.61,2,    18.59,6,     1.16,2,    1.354,2,    0.628,2,    0.024,2,    2.297,2,   2162.8,2,   4.1379
  18HU19941012, AR13c,    13,  1, 150809,      9,2,19941017,0948, 39.1707, -50.2920, 5506,   1590.9,   3.7981,  34.9567,2,  34.9474,2,    269.2,2,    277.9,2,    12.02,2,    17.99,6,     1.13,2,    1.293,2,    0.732,2,    0.053,2,    2.363,2,   2160.7,2,   3.6720
  18HU19941012, AR13c,    13,  1, 150808,      8,2,19941017,0948, 39.1707, -50.2920, 5506,   1902.1,   3.5700,  34.9463,2,  34.9354,2,    273.9,2,    280.7,2,    12.35,2,    17.84,6,     1.14,2,    1.157,2,    0.644,2,    0.041,2,    2.236,2,   2160.1,2,   3.4182
  18HU19941012, AR13c,    13,  1, 150807,      7,2,19941017,0948, 39.1707, -50.2920, 5506,   2188.0,   3.5336,  34.9702,2,  34.9588,2,    273.5,2,    275.2,2,    13.95,2,    18.34,6,     1.23,2,    0.609,2,    0.414,2,    0.019,2,    1.492,2,   2163.4,2,   3.3549
  18HU19941012, AR13c,    13,  1, 150806,      6,2,19941017,0948, 39.1707, -50.2920, 5506,   2493.6,   3.3214,  34.9669,2,  34.9556,2,    274.1,2,    274.5,2,    15.60,2,    18.48,6,     1.17,2,    0.430,2,    0.306,2,    0.014,2,    1.255,2,   2158.5,2,   3.1161
  18HU19941012, AR13c,    13,  1, 150805,      5,2,19941017,0948, 39.1707, -50.2920, 5506,   2874.3,   3.0277,  34.9537,2,  34.9429,2,    276.2,2,    275.5,2,    17.68,2,    18.73,6,     1.18,2,    0.398,2,    0.333,2,    0.014,2,    1.069,2,   2162.3,2,   2.7894
  18HU19941012, AR13c,    13,  1, 150804,      4,2,19941017,0948, 39.1707, -50.2920, 5506,   3302.5,   2.7229,  34.9388,2,  34.9293,2,    278.6,2,    276.9,2,    19.71,2,    18.44,6,     1.19,2,    0.402,2,    0.353,2,    0.015,2,    1.051,2,   2164.6,2,   2.4463
  18HU19941012, AR13c,    13,  1, 150803,      3,2,19941017,0948, 39.1707, -50.2920, 5506,   3702.2,   2.4539,  34.9227,2,  34.9136,2,    279.5,2,    276.9,2,    23.30,2,    18.80,6,     1.19,2,    0.371,2,    0.304,2,    0.022,2,    1.080,2,   2169.8,2,   2.1404
  18HU19941012, AR13c,    13,  1, 150802,      2,2,19941017,0948, 39.1707, -50.2920, 5506,   4005.8,   2.3403,  34.9120,2,  34.9034,2,    279.3,2,    267.3,2,    25.72,2,    19.03,6,     1.22,2,    0.370,2,    0.306,2,    0.013,2,    1.011,2,   2174.3,2,   1.9957
  18HU19941012, AR13c,    13,  1, 150801,      1,2,19941017,0948, 39.1707, -50.2920, 5506,   4396.8,   2.2763,  34.9034,2,  34.8925,2,    276.7,2,    273.8,2,    29.93,2,    19.92,6,     1.27,2,    0.328,2,    0.234,2,    0.005,2,    0.905,2,   2179.8,2,   1.8881
  18HU19941012, AR13c,    13,  1, 150800,      0,2,19941017,0948, 39.1707, -50.2920, 5506,   4799.9,   2.2654,  34.8981,2,  34.8867,2,    274.3,2,    271.5,2,    32.47,2,    20.11,6,     1.29,2,    0.325,2,    0.251,2,    0.012,2,    0.894,2,   2179.3,2,   1.8288
  18HU19941012, AR13c,    13,  1, 150799,     99,2,19941017,0948, 39.1707, -50.2920, 5506,   5186.4,   2.2710,  34.8935,2,  34.8831,2,    271.9,2,    268.8,2,    35.23,2,    20.92,6,     1.31,2,    0.262,2,    0.219,2,    0.010,2,    0.718,2,   2183.3,2,   1.7856
  18HU19941012, AR13c,    13,  1, 150798,     98,2,19941017,0948, 39.1707, -50.2920, 5506,   5386.9,   2.2780,  34.8897,2,  34.9827,0,    270.8,3,    257.3,2,  -999.00,9,    20.04,6,  -999.00,9, -999.000,9, -999.000,9, -999.000,9, -999.000,9,   -999.0,9,   1.7663
  18HU19941012, AR13c,    13,  1, 150797,     97,2,19941017,0948, 39.1707, -50.2920, 5506,   5500.1,   2.2720,  34.8866,2,  34.8818,2,    269.9,3,    263.0,2,    37.85,2,    21.14,6,     1.35,2,    0.217,2,    0.241,2,    0.015,2,    0.600,2,   2190.3,2,   1.7457
  18HU19941012, AR13c,    14,  1, 150836,     36,2,19941017,1643, 38.6673, -50.2890, 5517,     11.1,  20.0220,  34.1411,2,  34.0937,2,    167.3,3,    235.3,2,     1.15,2,     0.00,6,     0.15,2,    2.028,2,    1.355,2,    0.207,2,    2.679,2,   1981.4,2,  20.0200
  18HU19941012, AR13c,    14,  1, 150835,     35,2,19941017,1643, 38.6673, -50.2890, 5517,    195.0,  14.9065,  35.9543,2,  35.9531,2,    183.3,3,    197.3,2,     4.27,2,    10.01,6,     0.62,2,    1.826,2,    1.317,2,    0.075,2,    0.650,2,   2124.3,2,  14.8769
  18HU19941012, AR13c,    14,  1, 150834,     34,2,19941017,1643, 38.6673, -50.2890, 5517,    397.7,  10.4468,  35.3196,2,  35.3099,2,    155.8,2,    165.7,2,    10.65,2,    20.14,6,     1.24,2,    1.205,2,    0.681,2,    0.028,2,    0.695,2,   2172.0,2,  10.3987
  18HU19941012, AR13c,    14,  1, 150833,     33,2,19941017,1643, 38.6673, -50.2890, 5517,    597.3,   7.3599,  35.0880,2,  35.0785,2,    179.7,2,    178.9,2,    13.46,2,    22.89,6,     1.43,2,    0.915,2,    0.511,2,    0.010,2,    0.933,2,   2184.7,2,   7.3006
  18HU19941012, AR13c,    14,  1, 150832,     32,2,19941017,1643, 38.6673, -50.2890, 5517,    824.1,   5.6413,  35.0896,2,  35.0816,2,    222.2,2,    229.7,2,    12.17,2,    19.75,6,     1.26,2,    1.258,2,    0.771,2,    0.042,2,    1.623,2,   2176.6,2,   5.5689
  18HU19941012, AR13c,    14,  1, 150831,     31,2,19941017,1643, 38.6673, -50.2890, 5517,   1023.3,   4.7582,  35.0346,2,  35.0269,2,    244.6,3,    252.9,2,    11.93,2,    18.94,6,     1.22,2,    1.353,2,    0.746,2,    0.040,2,    2.106,2,   2170.3,2,   4.6738
  18HU19941012, AR13c,    14,  1, 150830,     30,2,19941017,1643, 38.6673, -50.2890, 5517,   1306.6,   4.1661,  34.9861,2,  34.9773,2,    262.0,2,    270.1,2,    11.70,2,    18.46,6,     1.17,2,    1.333,2,    0.750,2,    0.032,2,    2.232,2,   2125.9,3,   4.0616
  18HU19941012, AR13c,    14,  1, 150829,     29,2,19941017,1643, 38.6673, -50.2890, 5517,   1599.1,   3.8062,  34.9577,2,  34.9462,2,    271.0,2,    276.2,2,    11.86,2,    18.14,6,     1.16,2,    1.385,2,    0.786,2,    0.047,2,    2.579,2,   2126.0,3,   3.6793
  18HU19941012, AR13c,    14,  1, 150828,     28,2,19941017,1643, 38.6673, -50.2890, 5517,   1904.1,   3.6011,  34.9524,2,  34.9447,2,    275.7,3,    279.0,2,    12.60,2,    18.17,6,     1.16,2,    1.127,2,    0.597,2,    0.031,2,    2.035,2,   2126.0,3,   3.4486
  18HU19941012, AR13c,    14,  1, 150827,     27,2,19941017,1643, 38.6673, -50.2890, 5517,   2198.1,   3.4702,  34.9593,2,  34.9577,2,    276.3,3,    275.9,2,    14.03,2,    18.33,6,     1.17,2,    0.776,2,    0.552,2,    0.000,2,    1.680,2,   2126.0,3,   3.2916
  18HU19941012, AR13c,    14,  1, 150826,     26,2,19941017,1643, 38.6673, -50.2890, 5517,   2520.5,   3.3000,  34.9670,2,  34.9539,2,    276.6,2,    275.4,2,    16.14,2,    18.42,6,     1.20,2,    0.466,2,    0.232,2,    0.000,2,    1.153,2,   2159.6,2,   3.0924
  18HU19941012, AR13c,    14,  1, 150825,     25,2,19941017,1643, 38.6673, -50.2890, 5517,   2803.7,   3.0648,  34.9574,2,  34.9441,2,    278.0,2,    275.5,2,    18.21,2,    18.11,6,     1.19,2,    0.362,2, -999.000,9,    0.000,2,    0.887,2,   2163.1,2,   2.8330
  18HU19941012, AR13c,    14,  1, 150824,     24,2,19941017,1643, 38.6673, -50.2890, 5517,   3193.8,   2.8007,  34.9446,2,  34.9494,2,    279.6,3,    276.4,2,    19.94,2,    18.06,6,     1.18,2,    0.382,2,    0.290,2,    0.000,2,    0.932,2,   2164.8,2,   2.5338
  18HU19941012, AR13c,    14,  1, 150823,     23,2,19941017,1643, 38.6673, -50.2890, 5517,   3580.9,   2.5282,  34.9273,2,  34.9162,2,    281.1,2,    279.1,2,    24.24,2,    18.62,6,     1.20,2,    0.392,2,    0.233,2,    0.000,2,    0.915,2,   2167.5,2,   2.2262
  18HU19941012, AR13c,    14,  1, 150822,     22,2,19941017,1643, 38.6673, -50.2890, 5517,   3959.1,   2.3558,  34.9137,2,  34.9028,2,    280.9,2,    277.5,2,    28.93,2,    19.26,6,     1.25,2,    0.317,2,    0.274,2,    0.000,2,    0.929,2,   2171.4,2,   2.0161
  18HU19941012, AR13c,    14,  1, 150821,     21,2,19941017,1643, 38.6673, -50.2890, 5517,   4441.1,   2.2758,  34.9022,2,  34.8930,2,    278.3,2,    273.7,2,    33.77,2,    19.35,6,     1.28,2,    0.345,2, -999.000,9,    0.000,2,    0.993,2,   2177.1,2,   1.8824
  18HU19941012, AR13c,    14,  1, 150820,     20,2,19941017,1643, 38.6673, -50.2890, 5517,   4856.1,   2.2653,  34.8958,2,  34.8856,2,    275.7,2,    272.6,2,    34.16,2,    19.90,6,     1.34,2,    0.303,2,    0.267,2,    0.000,2,    0.720,2,   2181.7,2,   1.8217
  18HU19941012, AR13c,    14,  1, 150819,     19,2,19941017,1643, 38.6673, -50.2890, 5517,   5182.5,   2.2659,  34.8912,2,  34.8812,2,    273.8,2,    270.1,2,    33.11,2,    20.40,6,     1.34,2,    0.257,2,    0.276,2,    0.000,2,    0.542,2,   2184.6,2,   1.7811
  18HU19941012, AR13c,    14,  1, 150818,     18,2,19941017,1643, 38.6673, -50.2890, 5517,   5401.5,   2.2771,  34.8890,2,  35.0081,0,    272.7,3,    258.6,2,    17.88,3,    18.70,6,     1.18,3, -999.000,9, -999.000,9, -999.000,9, -999.000,9,   2165.7,3,   1.7635
  18HU19941012, AR13c,    14,  1, 150817,     17,2,19941017,1643, 38.6673, -50.2890, 5517,   5511.0,   2.2827,  34.8880,2,  34.8775,2,    272.2,2,    266.7,2,    36.38,2,    20.91,6,     1.38,2,    0.211,2,    0.126,2,    0.000,2,    0.533,2,   2191.7,2,   1.7546
  18HU19941012, AR13c,    15,  2, 150856,     56,2,19941017,0311, 38.1738, -50.2830, 5435,      7.0,  21.4361,  35.4727,2,  35.4767,2,     88.5,3,    223.2,2,     0.85,2,     0.00,6,     0.10,2,    1.846,2,    1.074,2,    0.201,2,    2.277,2,   2016.7,2,  21.4347
  18HU19941012, AR13c,    15,  2, 150855,     55,2,19941017,0311, 38.1738, -50.2830, 5435,     97.0,  20.8355,  36.7142,2,  36.7200,2,    166.4,3,    172.8,2,     1.72,2,     4.70,6,     0.30,2,    1.723,2,    1.250,2,    0.100,2,    0.488,2,   2105.8,2,  20.8169
  18HU19941012, AR13c,    15,  2, 150854,     54,2,19941017,0311, 38.1738, -50.2830, 5435,    193.8,  18.7499,  36.5728,2,  36.5772,2,    195.0,2,    207.5,2,     1.34,2,     2.96,6,     0.24,2,    1.989,2,    1.234,2,    0.052,2,    0.750,2,   2083.8,2,  18.7153
  18HU19941012, AR13c,    15,  2, 150853,     53,2,19941017,0311, 38.1738, -50.2830, 5435,    400.7,  16.8573,  36.3104,2,  36.3151,2,    198.3,3,    187.6,2,     2.82,2,     8.20,6,     0.43,2,    1.658,2,    1.432,2,    0.013,2,    0.466,2,   2108.5,2,  16.7906
  18HU19941012, AR13c,    15,  2, 150852,     52,2,19941017,0311, 38.1738, -50.2830, 5435,    600.1,  12.0913,  35.4748,2,  35.4755,2,    170.7,3,    178.9,2,     7.34,2,    16.45,6,     0.97,2,    1.502,2,    1.015,2,    0.081,2,    0.823,2,   2145.3,2,  12.0109
  18HU19941012, AR13c,    15,  2, 150851,     51,2,19941017,0311, 38.1738, -50.2830, 5435,    815.1,   4.4803,  34.4211,2,-999.0000,9,    234.2,3,    242.9,2,    10.90,2,    16.73,6,     1.12,2,    3.204,4,    1.881,4,    0.400,4,    3.744,4,   2144.1,2,   4.4168
  18HU19941012, AR13c,    15,  2, 150850,     50,2,19941017,0311, 38.1738, -50.2830, 5435,   1009.7,   6.0057,  35.0762,2,  35.0887,2,    219.5,3,    219.5,2,    12.32,2,    20.09,6,     1.24,2, -999.000,9, -999.000,9, -999.000,9, -999.000,9,   2168.9,2,   5.9129
  18HU19941012, AR13c,    15,  2, 150849,     49,2,19941017,0311, 38.1738, -50.2830, 5435,   1198.3,   5.2192,  35.0656,2,  35.0711,2,    240.3,3,    244.0,2,    11.48,2,    19.00,6,     1.16,2,    1.193,2,    0.731,2,    0.050,2,    1.810,2,   2162.3,2,   5.1146
  18HU19941012, AR13c,    15,  2, 150848,     48,2,19941017,0311, 38.1738, -50.2830, 5435,   1399.5,   4.5651,  35.0065,2,  35.0119,2,    256.7,2,    260.2,2,    11.29,2,    18.71,6,     1.13,2,    1.243,2,    0.789,2,    0.051,2,    2.061,2,   2158.0,2,   4.4479
  18HU19941012, AR13c,    15,  2, 150847,     47,2,19941017,0311, 38.1738, -50.2830, 5435,   1597.1,   4.1115,  34.9671,2,  34.9731,2,    267.8,2,    273.0,2,    11.36,2,    18.13,6,     1.12,2,    1.229,2,    0.682,2,    0.065,2,    2.194,2,   2154.6,2,   3.9810
  18HU19941012, AR13c,    15,  2, 150846,     46,2,19941017,0311, 38.1738, -50.2830, 5435,   1807.6,   3.8383,  34.9459,2,  34.9522,2,    272.8,2,    274.6,2,    11.48,2,    17.74,6,     1.18,2,    1.201,2,    0.653,2,    0.036,2,    2.216,2,   2152.6,2,   3.6916
  18HU19941012, AR13c,    15,  2, 150845,     45,2,19941017,0311, 38.1738, -50.2830, 5435,   2006.4,   3.6498,  34.9335,2,  34.9431,2,    274.7,2,    278.0,2,    11.92,2,    17.87,6,     1.09,2,    1.173,2,    0.736,2,    0.067,2,    2.185,2,   2159.3,2,   3.4869
  18HU19941012, AR13c,    15,  2, 150844,     44,2,19941017,0311, 38.1738, -50.2830, 5435,   2200.2,   3.5704,  34.9393,2,  34.9449,2,    276.2,2,    273.1,2,    12.57,2,    17.87,6,     1.10,2,    0.954,2,    0.558,2,    0.046,2,    1.992,2,   2162.8,2,   3.3900
  18HU19941012, AR13c,    15,  2, 150843,     43,2,19941017,0311, 38.1738, -50.2830, 5435,   2393.7,   3.5359,  34.9558,2,  34.9676,2,    276.3,3,    273.7,2,    14.02,2,    17.62,6,     1.11,2,    0.513,2,    0.287,2,    0.046,2,    1.328,2,   2163.9,2,   3.3368
  18HU19941012, AR13c,    15,  2, 150842,     42,2,19941017,0311, 38.1738, -50.2830, 5435,   2596.4,   3.3961,  34.9574,2,  34.9636,2,    276.9,3,    280.6,2,    15.87,2,    18.02,6,     1.14,2,    0.334,2,    0.229,2,    0.012,2,    1.008,2,   2169.5,2,   3.1790
  18HU19941012, AR13c,    15,  2, 150841,     41,2,19941017,0311, 38.1738, -50.2830, 5435,   2908.8,   3.1562,  34.9462,2,  34.9540,2,    278.1,2,    273.0,2,    17.79,2,    18.21,6,     1.13,2,    0.280,2,    0.271,2,    0.016,2,    0.893,2,   2159.3,2,   2.9116
  18HU19941012, AR13c,    15,  2, 150840,     40,2,19941017,0311, 38.1738, -50.2830, 5435,   3205.0,   2.9153,  34.9345,2,  34.9414,2,    279.5,2,    277.6,2,    19.94,2,    18.40,6,     1.16,2,    0.266,2,    0.339,2,    0.026,2,    0.791,2,   2168.0,2,   2.6446
  18HU19941012, AR13c,    15,  2, 150839,     39,2,19941017,0311, 38.1738, -50.2830, 5435,   3514.0,   2.6663,  34.9194,2,  34.9302,2,    281.8,3,    275.4,2,    21.69,2,    18.14,6,     1.17,2,    0.315,2,    0.501,2,    0.000,2,    0.880,2,   2169.3,2,   2.3681
  18HU19941012, AR13c,    15,  2, 150838,     38,2,19941017,0311, 38.1738, -50.2830, 5435,   3797.9,   2.4793,  34.9075,2,  34.9075,2,   -999.0,9,    273.8,2,  -999.00,9,  -999.00,5,  -999.00,9,    0.391,2,    0.350,2,    0.033,2,    0.957,2,   2167.2,2,   2.1545
  18HU19941012, AR13c,    15,  2, 150837,     37,2,19941017,0311, 38.1738, -50.2830, 5435,   4129.5,   2.3604,  34.8974,2,  34.9065,2,    281.3,2,    274.9,2,    27.06,2,    18.32,6,     1.26,2,    0.326,2,    0.287,2,    0.026,2,    0.917,2,   2176.4,2,   2.0010