BOTTLE,20140120PRINUNIVRMK
EXPOCODE,SECT_ID,STNNBR,CASTNO,SAMPNO,BTLNBR,BTLNBR_FLAG_W,DATE,TIME,LATITUDE,LONGITUDE,DEPTH,CTDPRS,CTDTMP,CTDSAL,CTDSAL_FLAG_W,SALNTY,SALNTY_FLAG_W,CTDOXY,CTDOXY_FLAG_W,OXYGEN,OXYGEN_FLAG_W,SILCAT,SILCAT_FLAG_W,NITRAT,NITRAT_FLAG_W,PHSPHT,PHSPHT_FLAG_W,CFC-11,CFC-11_FLAG_W,CFC-12,CFC-12_FLAG_W,CFC113,CFC113_FLAG_W,CCL4,CCL4_FLAG_W,TCARBN,TCARBN_FLAG_W,THETA
,,,,,,,,,,,METERS,DBAR,ITS-90,PSS-78,,PSS-78,,UMOL/KG,,UMOL/KG,,UMOL/KG,,UMOL/KG,,UMOL/KG,,PMOL/KG,,PMOL/KG,,PMOL/KG,,PMOL/KG,,UMOL/KG,,DEG C
  18HU19941012, AR13c,    60,  1, 151552,     52,2,19941027,1952, 43.3777, -44.2690, 4889,     12.6,  16.9146,  33.2914,2,  33.2922,2,    117.2,3,    253.4,2,     0.61,2,     0.00,6,     0.22,2,    2.158,2,    1.354,2,    0.166,2,    3.329,2,   -999.0,9,  16.9126
  18HU19941012, AR13c,    60,  1, 151551,     51,2,19941027,1952, 43.3777, -44.2690, 4889,    201.1,  13.2077,  35.6584,2,  35.6769,2,    178.2,3,    173.1,2,     5.79,2,    14.72,6,     0.88,2,    1.445,2,    0.845,2,    0.050,2,    0.593,2,   -999.0,9,  13.1796
  18HU19941012, AR13c,    60,  1, 151550,     50,2,19941027,1952, 43.3777, -44.2690, 4889,    508.6,   6.2516,  34.8434,2,  34.8443,2,    200.2,3,    197.4,2,    12.96,2,    21.96,6,     1.39,2,    1.413,2,    0.872,2,    0.061,2,    1.875,2,   -999.0,9,   6.2059
  18HU19941012, AR13c,    60,  1, 151549,     49,2,19941027,1952, 43.3777, -44.2690, 4889,    808.7,   5.1717,  35.0186,2,  35.0315,2,    245.8,3,    236.2,2,    11.57,2,    20.00,6,     1.26,2,    1.345,2,    0.759,2,    0.053,2,    1.940,2,   -999.0,9,   5.1037
  18HU19941012, AR13c,    60,  1, 151548,     48,2,19941027,1952, 43.3777, -44.2690, 4889,   1004.0,   4.7184,  35.0136,2,  35.0235,2,    257.9,2,    247.4,2,    11.33,2,    19.62,6,     1.18,2,    1.335,2,    0.787,2,    0.051,2,    2.194,2,   -999.0,9,   4.6360
  18HU19941012, AR13c,    60,  1, 151547,     47,2,19941027,1952, 43.3777, -44.2690, 4889,   1359.0,   3.8942,  34.9339,2,  34.9390,2,    279.5,2,    268.2,2,    11.13,2,    18.53,6,     1.16,2,    1.501,2,    0.920,2,    0.047,2,    2.584,2,   -999.0,9,   3.7878
  18HU19941012, AR13c,    60,  1, 151546,     46,2,19941027,1952, 43.3777, -44.2690, 4889,   1501.2,   3.7782,  34.9285,2,  34.9371,2,    282.0,2,    270.4,2,    11.25,2,    18.28,6,     1.15,2,    1.425,2,    0.743,2,    0.039,2,    2.896,2,   -999.0,9,   3.6605
  18HU19941012, AR13c,    60,  1, 151545,     45,2,19941027,1952, 43.3777, -44.2690, 4889,   1768.8,   3.5551,  34.9143,2,  34.9272,2,    285.1,3,    282.7,2,    11.52,2,    18.17,6,     1.15,2,    1.377,2,    0.741,2,    0.037,2,    2.632,2,   -999.0,9,   3.4159
  18HU19941012, AR13c,    60,  1, 151544,     44,2,19941027,1952, 43.3777, -44.2690, 4889,   2034.2,   3.3912,  34.9072,2,  34.9150,2,    288.0,2,    285.3,2,    12.03,2,    18.15,6,     1.14,2,    1.297,2,    0.872,2,    0.059,2,    2.759,2,   -999.0,9,   3.2296
  18HU19941012, AR13c,    60,  1, 151543,     43,2,19941027,1952, 43.3777, -44.2690, 4889,   2408.4,   3.3166,  34.9264,2,  34.9342,2,    283.1,2,    280.8,2,    13.43,2,    18.22,6,     1.12,2,    0.752,2,    0.563,2,    0.012,2,    2.002,2,   -999.0,9,   3.1200
  18HU19941012, AR13c,    60,  1, 151542,     42,2,19941027,1952, 43.3777, -44.2690, 4889,   2617.2,   3.2071,  34.9292,2,  34.9376,2,    281.6,2,    281.3,2,    14.54,2,    17.81,6,     1.15,2,    0.654,2,    0.584,2,    0.018,2,    1.688,2,   -999.0,9,   2.9916
  18HU19941012, AR13c,    60,  1, 151541,     41,2,19941027,1952, 43.3777, -44.2690, 4889,   2900.8,   3.0265,  34.9286,2,  34.9368,2,    281.1,2,    280.9,2,    15.91,2,    17.94,6,     1.15,2,    0.394,2,    0.384,2,    0.000,2,    1.689,2,   -999.0,9,   2.7855
  18HU19941012, AR13c,    60,  1, 151540,     40,2,19941027,1952, 43.3777, -44.2690, 4889,   3200.8,   2.7609,  34.9196,2,  34.9403,2,    280.9,3,    277.6,2,    17.36,2,    18.04,6,     1.17,2,    0.463,2,    0.427,2,    0.022,2,    1.438,2,   -999.0,9,   2.4942
  18HU19941012, AR13c,    60,  1, 151539,     39,2,19941027,1952, 43.3777, -44.2690, 4889,   3502.3,   2.5713,  34.9107,2,  34.9121,2,    280.9,3,    280.0,2,    19.40,2,    18.12,6,     1.17,2,    0.469,2,    0.281,2,    0.015,2,    1.458,2,   -999.0,9,   2.2768
  18HU19941012, AR13c,    60,  1, 151538,     38,2,19941027,1952, 43.3777, -44.2690, 4889,   3906.7,   2.3739,  34.8988,2,  34.9070,2,    281.1,2,    280.7,2,    21.77,2,    18.37,6,     1.17,2,    0.515,2,    0.396,2,    0.000,2,    1.541,2,   -999.0,9,   2.0397
  18HU19941012, AR13c,    60,  1, 151537,     37,2,19941027,1952, 43.3777, -44.2690, 4889,   4094.5,   2.3338,  34.8956,2,  34.9585,0,    280.6,3,    263.8,0,    13.76,3,    18.69,6,     1.17,2, -999.000,9, -999.000,9, -999.000,9, -999.000,9,   -999.0,9,   1.9793
  18HU19941012, AR13c,    60,  1, 151536,     36,2,19941027,1952, 43.3777, -44.2690, 4889,   4247.0,   2.3004,  34.8927,2,  34.8969,2,    278.9,2,    280.6,2,    23.59,2,    18.17,6,     1.18,2,    0.605,2,    0.379,2,    0.023,2,    1.806,2,   -999.0,9,   1.9292
  18HU19941012, AR13c,    60,  1, 151535,     35,2,19941027,1952, 43.3777, -44.2690, 4889,   4460.3,   2.2833,  34.8888,2,  34.8979,2,    277.4,2,    278.7,2,    25.51,2,    18.39,6,     1.18,2,    0.599,2,    0.536,2,    0.011,2,    1.736,2,   -999.0,9,   1.8873
  18HU19941012, AR13c,    60,  1, 151534,     34,2,19941027,1952, 43.3777, -44.2690, 4889,   4766.8,   2.2952,  34.8872,2,  34.8952,2,    276.9,2,    279.2,2,    25.80,2,    18.66,6,     1.21,2,    0.572,2,    0.392,2,    0.017,2,    1.669,2,   -999.0,9,   1.8617
  18HU19941012, AR13c,    60,  1, 151533,     33,2,19941027,1952, 43.3777, -44.2690, 4889,   4884.5,   2.2964,  34.8854,2,  34.8916,2,    274.9,2,    277.1,2,    26.54,2,    18.85,6,     1.20,2,    0.606,2,    0.515,2,    0.021,2,    1.599,2,   -999.0,9,   1.8482
  18HU19941012, AR13c,    61,  1, 151572,     72,2,19941028,0320, 42.9517, -43.9070, 4859,      4.6,  21.6231,  35.6892,2,  35.6951,2,    101.2,3,    223.3,2,     0.84,2,     0.00,6,     0.09,2,    1.633,2,    0.903,2,    0.360,2,    2.173,2,   2012.7,2,  21.6222
  18HU19941012, AR13c,    61,  1, 151571,     71,2,19941028,0320, 42.9517, -43.9070, 4859,    328.4,  14.8499,  35.9422,2,  35.9422,2,   -999.0,9,    181.0,2,     4.47,2,    11.96,6,     0.74,2,    1.403,2,    0.745,2,    0.055,2,    0.548,2,   2125.5,2,  14.7999
  18HU19941012, AR13c,    61,  1, 151570,     70,2,19941028,0320, 42.9517, -43.9070, 4859,    468.9,  12.6776,  35.6448,2,  35.6521,2,    188.1,2,    182.1,2,     6.57,2,    15.47,6,     0.97,2,    1.386,2,    0.725,2,    0.048,2,    0.692,2,   2140.1,2,  12.6131
  18HU19941012, AR13c,    61,  1, 151569,     69,2,19941028,0320, 42.9517, -43.9070, 4859,    813.5,   7.1008,  35.0356,2,  35.0448,2,    185.9,2,    185.3,2,    13.97,2,    22.86,6,     1.45,2,    0.917,2,    0.524,2,    0.062,2,    1.125,2,   2177.0,2,   7.0205
  18HU19941012, AR13c,    61,  1, 151568,     68,2,19941028,0320, 42.9517, -43.9070, 4859,   1002.6,   5.7501,  35.0405,2,  35.0503,2,    223.0,2,    223.8,2,    12.39,2,    20.66,6,     1.31,2,    1.137,2,    0.576,2,    0.062,2,    1.619,2,   2165.6,2,   5.6600
  18HU19941012, AR13c,    61,  1, 151567,     67,2,19941028,0320, 42.9517, -43.9070, 4859,   1098.6,   5.1260,  35.0104,2,  35.0217,2,    247.3,3,    241.5,2,    11.35,2,    19.45,6,     1.24,2,    1.423,2,    0.718,2,    0.072,2,    2.087,2,   2163.3,2,   5.0317
  18HU19941012, AR13c,    61,  1, 151566,     66,2,19941028,0320, 42.9517, -43.9070, 4859,   1191.7,   4.9512,  35.0294,2,  35.0471,2,    250.4,3,    250.2,2,    11.39,2,    19.07,6,     1.22,2,    1.368,2,    0.633,2,    0.055,2,    2.076,2,   2159.3,2,   4.8497
  18HU19941012, AR13c,    61,  1, 151565,     65,2,19941028,0320, 42.9517, -43.9070, 4859,   1461.4,   4.1563,  34.9591,2,  34.9755,2,    269.6,3,    269.7,2,    11.08,2,    18.43,6,     1.18,2,    1.428,2,    0.716,2,    0.065,2,    2.410,2,   2153.2,2,   4.0378
  18HU19941012, AR13c,    61,  1, 151564,     64,2,19941028,0320, 42.9517, -43.9070, 4859,   1782.9,   3.7174,  34.9189,2,  34.9263,2,    281.8,2,    280.6,2,    11.22,2,    18.39,6,     1.17,2,    1.454,2,    0.696,2,    0.073,2,    2.643,2,   2150.1,2,   3.5747
  18HU19941012, AR13c,    61,  1, 151563,     63,2,19941028,0320, 42.9517, -43.9070, 4859,   2091.6,   3.5270,  34.9093,2,  34.9174,2,    285.5,2,    284.9,2,    11.61,2,    18.28,6,     1.16,2,    1.412,2,    0.740,2,    0.059,2,    2.623,2,   2149.0,2,   3.3579
  18HU19941012, AR13c,    61,  1, 151562,     62,2,19941028,0320, 42.9517, -43.9070, 4859,   2408.0,   3.4267,  34.9153,2,  34.9225,2,    285.9,2,    287.4,2,    12.12,2,    17.90,6,     1.15,2,    1.216,2,    0.598,2,    0.051,2,    2.328,2,   2149.5,2,   3.2282
  18HU19941012, AR13c,    61,  1, 151561,     61,2,19941028,0320, 42.9517, -43.9070, 4859,   2705.7,   3.3389,  34.9237,2,  34.9237,2,   -999.0,9,    281.3,2,    12.97,2,    17.84,6,     1.15,2,    0.910,2,    0.477,2,    0.040,2,    1.903,2,   2150.0,2,   3.1118
  18HU19941012, AR13c,    61,  1, 151560,     60,2,19941028,0320, 42.9517, -43.9070, 4859,   3024.6,   3.1632,  34.9290,2,  35.0181,2,    280.4,3,    274.3,2,    12.74,3,    17.24,6,     1.12,2,    0.878,2,    0.441,2,    0.054,2,    1.741,2,   2148.6,2,   2.9059
  18HU19941012, AR13c,    61,  1, 151559,     59,2,19941028,0320, 42.9517, -43.9070, 4859,   3322.9,   2.9566,  34.9256,2,  34.9416,2,    280.0,3,    278.9,2,    15.73,2,    17.82,6,     1.14,2,    0.663,2,    0.332,2,    0.018,2,    1.477,2,   2152.0,2,   2.6722
  18HU19941012, AR13c,    61,  1, 151558,     58,2,19941028,0320, 42.9517, -43.9070, 4859,   3625.9,   2.7402,  34.9168,2,  34.9272,2,    280.3,3,    280.2,2,    17.64,2,    18.03,6,     1.18,2,    0.646,2,    0.325,2,    0.051,2,    1.428,2,   2153.3,2,   2.4277
  18HU19941012, AR13c,    61,  1, 151557,     57,2,19941028,0320, 42.9517, -43.9070, 4859,   3922.3,   2.5341,  34.9066,2,  34.9377,2,    280.2,3,    278.8,2,    11.94,4,    18.14,6,     1.17,2,    1.246,3,    0.599,2,    0.061,2,    2.324,3,   2152.0,2,   2.1935
  18HU19941012, AR13c,    61,  1, 151556,     56,2,19941028,0320, 42.9517, -43.9070, 4859,   4183.4,   2.4077,  34.8987,2,  34.9045,2,    282.2,2,    282.9,2,    19.54,2,    17.67,6,     1.16,2,    0.836,2,    0.440,2,    0.037,2,    1.688,2,   2158.3,2,   2.0407
  18HU19941012, AR13c,    61,  1, 151555,     55,2,19941028,0320, 42.9517, -43.9070, 4859,   4432.5,   2.3371,  34.8929,2,  34.9131,2,    279.5,3,    279.8,2,    22.30,2,    18.26,6,     1.20,2,    0.666,2,    0.319,2,    0.033,2,    1.444,2,   2160.7,2,   1.9427
  18HU19941012, AR13c,    61,  1, 151554,     54,2,19941028,0320, 42.9517, -43.9070, 4859,   4732.0,   2.3023,  34.8902,2,  34.9041,2,    281.7,3,    285.2,2,    18.87,3,    17.78,6,     1.16,2,    1.067,2,    0.532,2,    0.035,2,    2.028,2,   2159.2,2,   1.8727
  18HU19941012, AR13c,    61,  1, 151553,     53,2,19941028,0320, 42.9517, -43.9070, 4859,   4854.4,   2.2777,  34.8854,2,  34.8948,2,    281.0,2,    279.4,2,    23.35,2,    18.42,6,     1.17,2,    0.925,2,    0.396,2,    0.025,2,    1.746,2,   2166.3,2,   1.8339
  18HU19941012, AR13c,    63,  1, 151592,     92,2,19941028,1238, 42.4998, -43.5640, 4957,     13.1,  20.6702,  36.0846,2,  36.0906,2,    203.8,3,    226.8,2,     0.74,2,     0.00,6,     0.06,2,    1.688,2,    0.981,2,    0.149,2,    1.969,2,   2031.8,2,  20.6677
  18HU19941012, AR13c,    63,  1, 151591,     91,2,19941028,1238, 42.4998, -43.5640, 4957,     97.9,  18.6031,  36.5072,2,  36.5147,2,    183.7,2,    187.8,2,     1.86,2,     4.83,6,     0.31,2,    1.673,2,    0.901,2,    0.051,2,    0.331,2,   2100.2,2,  18.5858
  18HU19941012, AR13c,    63,  1, 151590,     90,2,19941028,1238, 42.4998, -43.5640, 4957,    349.6,  15.8577,  36.1745,2,  36.1793,2,    213.3,2,    222.2,2,     2.45,2,     6.22,6,     0.42,2,    1.992,2,    1.113,2,    0.089,2,    0.899,2,   2098.9,2,  15.8020
  18HU19941012, AR13c,    63,  1, 151589,     89,2,19941028,1238, 42.4998, -43.5640, 4957,    639.0,  12.2951,  35.6133,2,  35.6194,2,    203.2,2,    202.5,2,     5.92,2,    13.79,6,     0.90,2,    1.752,2,    0.872,2,    0.053,2,    0.733,2,   2133.8,2,  12.2084
  18HU19941012, AR13c,    63,  1, 151588,     88,2,19941028,1238, 42.4998, -43.5640, 4957,    853.5,   8.8775,  35.1925,2,  35.1985,2,    188.3,3,    173.7,2,    12.03,2,    21.65,6,     1.38,2,    0.917,2,    0.404,2,    0.036,2,    0.614,2,   2171.0,2,   8.7818
  18HU19941012, AR13c,    63,  1, 151587,     87,2,19941028,1238, 42.4998, -43.5640, 4957,    971.3,   8.4645,  35.3387,2,  35.3427,2,    194.2,2,    194.3,2,    10.95,2,    19.44,6,     1.26,2,    0.767,2,    0.331,2,    0.019,2,    0.527,2,   2171.9,2,   8.3576
  18HU19941012, AR13c,    63,  1, 151586,     86,2,19941028,1238, 42.4998, -43.5640, 4957,   1130.1,   7.4020,  35.3248,2,  35.3358,2,    212.3,3,    210.6,2,    11.28,2,    18.62,6,     1.21,2,    0.848,2,    0.343,2,    0.026,2,    0.877,2,   2170.1,2,   7.2852
  18HU19941012, AR13c,    63,  1, 151585,     85,2,19941028,1238, 42.4998, -43.5640, 4957,   1527.2,   4.6202,  35.0076,2,  35.0183,2,    258.6,3,    257.3,2,    11.71,2,    18.29,6,     1.21,2,    1.288,2,    0.602,2,    0.085,2,    2.135,2,   2159.4,2,   4.4903
  18HU19941012, AR13c,    63,  1, 151584,     84,2,19941028,1238, 42.4998, -43.5640, 4957,   1804.2,   4.0321,  34.9533,2,  34.9606,2,    273.5,2,    272.7,2,    11.70,2,    18.00,6,     1.19,2,    1.273,2,    0.635,2,    0.041,2,    2.262,2,   2153.7,2,   3.8831
  18HU19941012, AR13c,    63,  1, 151583,     83,2,19941028,1238, 42.4998, -43.5640, 4957,   2000.8,   3.7223,  34.9224,2,  34.9293,2,    280.1,2,    275.1,2,    11.49,2,    17.76,6,     1.16,2,    1.414,2,    0.621,2,    0.046,2,    2.564,2,   2150.7,2,   3.5589
  18HU19941012, AR13c,    63,  1, 151582,     82,2,19941028,1238, 42.4998, -43.5640, 4957,   2271.4,   3.4812,  34.9096,2,  34.9169,2,    282.7,2,    286.5,2,    12.12,2,    17.35,6,     1.18,2,    1.353,2,    0.593,2,    0.050,2,    2.339,2,   2150.3,2,   3.2954
  18HU19941012, AR13c,    63,  1, 151581,     81,2,19941028,1238, 42.4998, -43.5640, 4957,   2583.2,   3.4499,  34.9366,2,  34.9433,2,    280.1,2,    278.3,2,    13.73,2,    17.80,6,     1.20,2,    0.722,2,    0.240,2,    0.022,2,    1.513,2,   2152.0,2,   3.2332
  18HU19941012, AR13c,    63,  1, 151580,     80,2,19941028,1238, 42.4998, -43.5640, 4957,   2903.1,   3.2425,  34.9312,2,  34.9938,2,    280.5,3,    278.3,2,    13.72,2,    17.05,6,     1.15,2,    0.776,2,    0.305,2,    0.020,2,    1.560,2,   2148.8,2,   2.9965
  18HU19941012, AR13c,    63,  1, 151579,     79,2,19941028,1238, 42.4998, -43.5640, 4957,   3207.9,   3.0019,  34.9276,2,  34.9356,2,    279.3,2,    279.5,2,    16.31,2,    17.70,6,     1.18,2,    0.592,2,    0.235,2,    0.000,2,    1.210,2,   2153.4,2,   2.7289
  18HU19941012, AR13c,    63,  1, 151578,     78,2,19941028,1238, 42.4998, -43.5640, 4957,   3509.7,   2.7702,  34.9201,2,  34.9281,2,    279.8,2,    277.8,2,    18.76,2,    18.02,6,     1.20,2,    0.477,2,    0.123,2,    0.000,2,    0.994,2,   2155.2,2,   2.4699
  18HU19941012, AR13c,    63,  1, 151577,     77,2,19941028,1238, 42.4998, -43.5640, 4957,   3839.4,   2.5123,  34.9067,2,  34.9200,2,    279.7,3,    279.4,2,    20.35,2,    18.00,6,     1.21,2,    0.558,2,    0.145,2,    0.017,2,    1.169,2,   2159.5,2,   2.1818
  18HU19941012, AR13c,    63,  1, 151576,     76,2,19941028,1238, 42.4998, -43.5640, 4957,   4134.9,   2.3701,  34.8977,2,  34.8977,2,   -999.0,9,    279.9,2,    22.40,2,    17.85,6,     1.20,2,    0.579,2,    0.141,2,    0.014,2,    1.097,2,   2160.9,2,   2.0099
  18HU19941012, AR13c,    63,  1, 151575,     75,2,19941028,1238, 42.4998, -43.5640, 4957,   4455.7,   2.3073,  34.8916,2,  34.9057,2,    279.1,3,    279.4,2,    23.38,2,    17.81,6,     1.19,2,    0.690,2,    0.278,2,    0.023,2,    1.319,2,   2162.9,2,   1.9111
  18HU19941012, AR13c,    63,  1, 151574,     74,2,19941028,1238, 42.4998, -43.5640, 4957,   4751.2,   2.2918,  34.8881,2,  34.8929,2,    280.0,2,    279.6,2,    25.30,2,    18.55,6,     1.21,2,    0.749,2,    0.229,2,    0.027,2,    1.364,2,   2163.4,2,   1.8603
  18HU19941012, AR13c,    63,  1, 151573,     73,2,19941028,1238, 42.4998, -43.5640, 4957,   4951.8,   2.2737,  34.8808,2,  34.8872,2,    272.8,2,    271.8,2,    30.74,2,    19.49,6,     1.29,2,    0.472,2,    0.121,2,    0.018,2,    0.901,2,   2174.1,2,   1.8179