BOTTLE,20140120PRINUNIVRMK
EXPOCODE,SECT_ID,STNNBR,CASTNO,SAMPNO,BTLNBR,BTLNBR_FLAG_W,DATE,TIME,LATITUDE,LONGITUDE,DEPTH,CTDPRS,CTDTMP,CTDSAL,CTDSAL_FLAG_W,SALNTY,SALNTY_FLAG_W,CTDOXY,CTDOXY_FLAG_W,OXYGEN,OXYGEN_FLAG_W,SILCAT,SILCAT_FLAG_W,NITRAT,NITRAT_FLAG_W,PHSPHT,PHSPHT_FLAG_W,CFC-11,CFC-11_FLAG_W,CFC-12,CFC-12_FLAG_W,CFC113,CFC113_FLAG_W,CCL4,CCL4_FLAG_W,TCARBN,TCARBN_FLAG_W,THETA
,,,,,,,,,,,METERS,DBAR,ITS-90,PSS-78,,PSS-78,,UMOL/KG,,UMOL/KG,,UMOL/KG,,UMOL/KG,,UMOL/KG,,PMOL/KG,,PMOL/KG,,PMOL/KG,,PMOL/KG,,UMOL/KG,,DEG C
  18HU19941012, AR13c,    34,  1, 151236,     36,2,19941023,1036, 42.1853, -45.4980, 4829,     13.5,  20.3806,  36.2409,2,  36.2499,2,    176.4,3,    225.6,2,     0.51,2,     0.00,6,     0.04,2, -999.000,9, -999.000,9, -999.000,9, -999.000,9,   2044.6,2,  20.3781
  18HU19941012, AR13c,    34,  1, 151235,     35,2,19941023,1036, 42.1853, -45.4980, 4829,     84.8,  18.5824,  36.5053,2,  36.5117,2,    202.2,2,    188.1,2,     1.78,2,     4.93,6,     0.27,2, -999.000,9, -999.000,9, -999.000,9, -999.000,9,   2101.1,2,  18.5674
  18HU19941012, AR13c,    34,  1, 151234,     34,2,19941023,1036, 42.1853, -45.4980, 4829,    295.5,  16.0211,  36.2029,2,  36.2070,2,    213.6,2,    221.5,2,     2.30,2,     6.14,6,     0.34,2, -999.000,9, -999.000,9, -999.000,9, -999.000,9,   2101.9,2,  15.9737
  18HU19941012, AR13c,    34,  1, 151233,     33,2,19941023,1036, 42.1853, -45.4980, 4829,    499.0,  14.3391,  35.9127,2,  35.9232,2,    200.3,3,    212.3,2,     3.65,2,     9.07,6,     0.55,2, -999.000,9, -999.000,9, -999.000,9, -999.000,9,   2118.0,2,  14.2645
  18HU19941012, AR13c,    34,  1, 151232,     32,2,19941023,1036, 42.1853, -45.4980, 4829,    850.4,   9.2629,  35.2791,2,  35.2840,2,    177.4,3,    186.9,2,    10.53,2,    19.38,6,     1.19,2, -999.000,9, -999.000,9, -999.000,9, -999.000,9,   2166.0,2,   9.1651
  18HU19941012, AR13c,    34,  1, 151231,     31,2,19941023,1036, 42.1853, -45.4980, 4829,   1052.6,   7.6628,  35.2908,2,  35.3003,2,    195.5,2,    204.1,2,    11.68,2,    18.88,6,     1.17,2, -999.000,9, -999.000,9, -999.000,9, -999.000,9,   2174.7,2,   7.5526
  18HU19941012, AR13c,    34,  1, 151230,     30,2,19941023,1036, 42.1853, -45.4980, 4829,   1251.0,   5.2591,  35.0287,2,  35.0874,2,    242.4,3,    233.0,2,    11.40,2,    17.89,6,     1.15,2, -999.000,9, -999.000,9, -999.000,9, -999.000,9,   2166.3,2,   5.1490
  18HU19941012, AR13c,    34,  1, 151229,     29,2,19941023,1036, 42.1853, -45.4980, 4829,   1410.3,   4.7169,  35.0137,2,  35.0199,2,    256.3,2,    256.5,2,    11.38,2,    17.71,6,     1.13,2, -999.000,9, -999.000,9, -999.000,9, -999.000,9,   2163.7,2,   4.5971
  18HU19941012, AR13c,    34,  1, 151228,     28,2,19941023,1036, 42.1853, -45.4980, 4829,   1608.5,   4.2568,  34.9723,2,  34.9791,2,    267.5,2,    268.1,2,    11.65,2,    17.58,6,     1.12,2, -999.000,9, -999.000,9, -999.000,9, -999.000,9,   2158.3,2,   4.1235
  18HU19941012, AR13c,    34,  1, 151227,     27,2,19941023,1036, 42.1853, -45.4980, 4829,   1855.5,   3.9345,  34.9513,2,  34.9577,2,    276.3,2,    275.7,2,    12.06,2,    17.52,6,     1.10,2, -999.000,9, -999.000,9, -999.000,9, -999.000,9,   2155.7,2,   3.7819
  18HU19941012, AR13c,    34,  1, 151226,     26,2,19941023,1036, 42.1853, -45.4980, 4829,   2101.9,   3.6357,  34.9261,2,  34.9341,2,    278.7,2,    280.5,2,    12.15,2,    16.99,6,     1.09,2, -999.000,9, -999.000,9, -999.000,9, -999.000,9,   2152.9,2,   3.4639
  18HU19941012, AR13c,    34,  1, 151225,     25,2,19941023,1036, 42.1853, -45.4980, 4829,   2306.1,   3.3415,  34.8931,2,  34.8993,2,    278.0,3,    289.7,2,    11.49,2,    16.53,6,     1.09,2, -999.000,9, -999.000,9, -999.000,9, -999.000,9,   2153.6,2,   3.1547
  18HU19941012, AR13c,    34,  1, 151224,     24,2,19941023,1036, 42.1853, -45.4980, 4829,   2508.7,   3.3250,  34.9072,2,  35.0785,0,    279.0,3,    274.4,2,    10.98,2,    15.55,6,     1.01,3, -999.000,9, -999.000,9, -999.000,9, -999.000,9,   2147.5,2,   3.1183
  18HU19941012, AR13c,    34,  1, 151223,     23,2,19941023,1036, 42.1853, -45.4980, 4829,   2805.1,   3.2622,  34.9323,2,  34.9439,2,    275.8,3,    279.0,2,    14.19,2,    16.68,6,     1.09,2, -999.000,9, -999.000,9, -999.000,9, -999.000,9,   1225.4,4,   3.0263
  18HU19941012, AR13c,    34,  1, 151222,     22,2,19941023,1036, 42.1853, -45.4980, 4829,   3108.6,   3.0223,  34.9297,2,  34.9439,2,    275.8,3,    278.0,2,    16.11,2,    17.03,6,     1.10,2, -999.000,9, -999.000,9, -999.000,9, -999.000,9,   2157.2,2,   2.7595
  18HU19941012, AR13c,    34,  1, 151221,     21,2,19941023,1036, 42.1853, -45.4980, 4829,   3479.7,   2.7255,  34.9182,2,  34.9455,2,    277.6,3,    278.8,2,    14.20,2,    16.82,6,     1.09,2, -999.000,9, -999.000,9, -999.000,9, -999.000,9,   2155.9,2,   2.4295
  18HU19941012, AR13c,    34,  1, 151220,     20,2,19941023,1036, 42.1853, -45.4980, 4829,   4051.2,   2.3472,  34.8973,2,  34.9058,2,    277.9,2,   -999.0,9,    23.74,2,    17.15,6,     1.15,2, -999.000,9, -999.000,9, -999.000,9, -999.000,9,   2164.2,2,   1.9972
  18HU19941012, AR13c,    34,  1, 151219,     19,2,19941023,1036, 42.1853, -45.4980, 4829,   4297.0,   2.3024,  34.8931,2,  34.9124,2,    276.5,3,    278.2,2,    22.19,2,    16.82,6,     1.12,2, -999.000,9, -999.000,9, -999.000,9, -999.000,9,   2165.8,2,   1.9251
  18HU19941012, AR13c,    34,  1, 151218,     18,2,19941023,1036, 42.1853, -45.4980, 4829,   4590.8,   2.2845,  34.8896,2,  34.8965,2,    274.5,2,    280.4,2,    24.32,2,    16.83,6,     1.16,2, -999.000,9, -999.000,9, -999.000,9, -999.000,9,   2167.4,2,   1.8728
  18HU19941012, AR13c,    34,  1, 151217,     17,2,19941023,1036, 42.1853, -45.4980, 4829,   4823.4,   2.2601,  34.8821,2,  34.8934,2,    272.2,3,    273.9,2,    31.09,2,    17.78,6,     1.26,2, -999.000,9, -999.000,9, -999.000,9, -999.000,9,   2174.4,2,   1.8207
  18HU19941012, AR13c,    35,  1, 151256,     56,2,19941023,1628, 42.3992, -46.1680, 4775,     12.7,  21.2824,  35.9343,2,  35.9343,2,   -999.0,9,    223.4,2,     0.99,2,     0.00,6,     0.07,2,    1.484,2,    1.193,2,    0.183,2,    2.241,2,   2026.5,2,  21.2799
  18HU19941012, AR13c,    35,  1, 151255,     55,2,19941023,1628, 42.3992, -46.1680, 4775,    105.4,  18.0341,  36.4164,2,  36.4142,2,    206.8,3,    181.8,2,     2.46,2,     6.50,6,     0.37,2,    1.522,2,    1.264,2,    0.054,2,    0.427,2,   2111.1,2,  18.0158
  18HU19941012, AR13c,    35,  1, 151254,     54,2,19941023,1628, 42.3992, -46.1680, 4775,    198.7,  17.3828,  36.4020,2,  36.4067,2,    206.2,2,    199.6,2,     2.16,2,     6.03,6,     0.35,2,    1.503,2,    1.267,2,    0.048,2,    0.360,2,   2102.3,2,  17.3492
  18HU19941012, AR13c,    35,  1, 151253,     53,2,19941023,1628, 42.3992, -46.1680, 4775,    387.0,  14.3975,  35.9225,2,  35.9299,2,    199.5,3,    212.1,2,     3.48,2,     8.78,6,     0.55,2,    1.726,2,    1.353,2,    0.096,2,    1.108,2,   2118.6,2,  14.3397
  18HU19941012, AR13c,    35,  1, 151252,     52,2,19941023,1628, 42.3992, -46.1680, 4775,    586.8,  10.5749,  35.3652,2,  35.3707,2,    171.8,3,    176.4,2,     9.31,2,    17.99,6,     1.12,2,    1.122,2,    0.894,2,    0.047,2,    0.778,2,   2161.8,2,  10.5027
  18HU19941012, AR13c,    35,  1, 151251,     51,2,19941023,1628, 42.3992, -46.1680, 4775,    681.9,   8.2499,  35.0743,2,  35.0813,2,    176.2,2,    165.3,2,    13.81,2,    22.46,6,     1.40,2,    0.837,2,    0.570,2,    0.041,2,    0.900,2,   2180.7,2,   8.1774
  18HU19941012, AR13c,    35,  1, 151250,     50,2,19941023,1628, 42.3992, -46.1680, 4775,    778.9,   7.1567,  35.0497,2,  35.0568,2,    191.4,3,    184.4,2,    13.70,2,    21.69,6,     1.38,2,    0.830,2,    0.527,2,    0.037,2,    1.241,2,   2180.2,2,   7.0797
  18HU19941012, AR13c,    35,  1, 151249,     49,2,19941023,1628, 42.3992, -46.1680, 4775,    975.3,   5.5243,  35.0350,2,  35.0442,2,    233.5,2,    228.6,2,    12.14,2,    18.37,6,     1.25,2,    1.062,2,    0.750,2,    0.039,2,    1.821,2,   2170.7,2,   5.4385
  18HU19941012, AR13c,    35,  1, 151248,     48,2,19941023,1628, 42.3992, -46.1680, 4775,   1284.5,   4.2667,  34.9473,2,  34.9547,2,    266.0,2,    266.8,2,    11.30,2,    17.43,6,     1.12,2,    1.701,2,    1.244,2,    0.135,2,    3.450,2,   2160.1,2,   4.1632
  18HU19941012, AR13c,    35,  1, 151247,     47,2,19941023,1628, 42.3992, -46.1680, 4775,   1603.0,   3.8982,  34.9380,2,  34.9454,2,    276.5,2,    276.9,2,    11.07,2,    17.03,6,     1.11,2,    1.327,2,    1.032,2,    0.070,2,    2.800,2,   2155.7,2,   3.7698
  18HU19941012, AR13c,    35,  1, 151246,     46,2,19941023,1628, 42.3992, -46.1680, 4775,   2098.7,   3.6712,  34.9441,2,  34.9521,2,    276.1,2,    279.1,2,    12.29,2,    16.61,6,     1.10,2,    0.975,2,    0.802,2,    0.077,2,    2.300,2,   2154.0,2,   3.4990
  18HU19941012, AR13c,    35,  1, 151245,     45,2,19941023,1628, 42.3992, -46.1680, 4775,   2302.9,   3.3652,  34.9083,2,  34.9142,2,    279.7,2,    286.2,2,    11.62,2,    16.43,6,     1.08,2,    1.236,2,    1.033,2,    0.064,2,    2.734,2,   2153.7,2,   3.1782
  18HU19941012, AR13c,    35,  1, 151244,     44,2,19941023,1628, 42.3992, -46.1680, 4775,   2501.0,   3.3307,  34.9189,2,  34.9445,2,    278.0,3,    281.1,2,    12.51,2,    16.43,6,     1.08,2,    1.070,2,    0.693,2,    0.059,2,    2.493,2,   2153.4,2,   3.1246
  18HU19941012, AR13c,    35,  1, 151243,     43,2,19941023,1628, 42.3992, -46.1680, 4775,   2807.2,   3.2068,  34.9320,2,  34.9457,2,    275.0,3,    278.5,2,    14.61,2,    16.38,6,     1.07,2,    0.680,2,    0.442,2,    0.026,2,    1.792,2,   2155.7,2,   2.9718
  18HU19941012, AR13c,    35,  1, 151242,     42,2,19941023,1628, 42.3992, -46.1680, 4775,   3185.5,   2.9505,  34.9279,2,  34.9355,2,    275.3,2,    279.5,2,    17.20,2,    16.92,6,     1.09,2,    0.581,2,    0.469,2,    0.012,2,    1.523,2,   2158.9,2,   2.6811
  18HU19941012, AR13c,    35,  1, 151241,     41,2,19941023,1628, 42.3992, -46.1680, 4775,   3609.4,   2.6198,  34.9134,2,  34.9481,2,    276.6,3,    272.6,2,    14.10,2,    17.16,6,     1.13,2,    1.117,2,    0.714,2,    0.050,2,    2.320,2,   2158.4,2,   2.3121
  18HU19941012, AR13c,    35,  1, 151240,     40,2,19941023,1628, 42.3992, -46.1680, 4775,   3989.8,   2.3913,  34.9001,2,  34.9111,2,    277.0,3,    283.6,2,    19.74,2,    16.51,6,     1.08,2,    0.841,2,    0.553,2,    0.036,2,    2.023,2,   2160.4,2,   2.0471
  18HU19941012, AR13c,    35,  1, 151239,     39,2,19941023,1628, 42.3992, -46.1680, 4775,   4439.5,   2.3196,  34.8940,2,  34.9134,2,    274.5,3,    282.1,2,    20.59,2,    17.04,6,     1.09,2,    0.853,2, -999.000,9,    0.037,2,    2.017,2,   2162.0,2,   1.9249
  18HU19941012, AR13c,    35,  1, 151238,     38,2,19941023,1628, 42.3992, -46.1680, 4775,   4667.3,   2.3090,  34.8923,2,  34.9020,2,    273.0,2,    285.3,2,    20.12,2,    16.79,6,     1.06,2,    1.035,2,    0.693,2,    0.054,2,    2.687,2,   2160.8,2,   1.8872
  18HU19941012, AR13c,    35,  1, 151237,     37,2,19941023,1628, 42.3992, -46.1680, 4775,   4769.9,   2.3104,  34.8914,2,  34.9036,2,    272.4,3,    278.5,2,    20.36,2,    16.29,6,     1.07,2,    0.980,2,    0.628,2,    0.062,2,    2.192,2,   2163.1,2,   1.8759
  18HU19941012, AR13c,    36,  1, 151276,     76,2,19941023,2246, 42.5833, -46.8630, 4231,     12.8,  21.1420,  35.4249,2,  35.4315,2,    162.8,3,    225.9,2,     0.80,2,     0.00,6,     0.08,2,    1.865,2,    1.331,2,    0.238,2,    2.193,2,   -999.0,9,  21.1395
  18HU19941012, AR13c,    36,  1, 151275,     75,2,19941023,2246, 42.5833, -46.8630, 4231,    111.2,  18.2176,  36.4945,2,  36.4961,2,    201.4,3,    196.7,2,     1.79,2,     4.63,6,     0.26,2,    1.892,2,    1.244,2,    0.071,2,    0.575,2,   -999.0,9,  18.1982
  18HU19941012, AR13c,    36,  1, 151274,     74,2,19941023,2246, 42.5833, -46.8630, 4231,    305.4,  13.2720,  35.6898,2,  35.6779,2,    181.6,3,    180.6,2,     5.99,2,    13.63,6,     0.84,2,    1.565,2,    1.007,2,    0.082,2,    0.691,2,   -999.0,9,  13.2290
  18HU19941012, AR13c,    36,  1, 151273,     73,2,19941023,2246, 42.5833, -46.8630, 4231,    514.8,   8.8209,  35.1306,2,  35.1341,2,    171.3,2,    162.4,2,    12.96,2,    21.32,6,     1.40,2,    0.916,2,    0.637,2,    0.036,2,    0.817,2,   -999.0,9,   8.7645
  18HU19941012, AR13c,    36,  1, 151272,     72,2,19941023,2246, 42.5833, -46.8630, 4231,    700.8,   6.4799,  35.0645,2,  35.0733,2,    207.4,3,    204.8,2,    12.72,2,    19.87,6,     1.30,2,    1.090,2,    0.668,2,    0.051,2,    1.328,2,   -999.0,9,   6.4145
  18HU19941012, AR13c,    36,  1, 151271,     71,2,19941023,2246, 42.5833, -46.8630, 4231,    920.4,   5.0148,  35.0104,2,  35.0158,2,    249.1,3,    246.8,2,    11.92,2,    18.36,6,     1.19,2,    1.619,2,    1.011,2,    0.111,2,    2.342,2,   -999.0,9,   4.9378
  18HU19941012, AR13c,    36,  1, 151270,     70,2,19941023,2246, 42.5833, -46.8630, 4231,   1020.8,   4.9328,  35.0391,2,  35.0513,2,    258.5,3,    248.7,2,    11.56,2,    17.47,6,     1.16,2,    1.302,2,    0.739,2,    0.063,2,    2.034,2,   -999.0,9,   4.8472
  18HU19941012, AR13c,    36,  1, 151269,     69,2,19941023,2246, 42.5833, -46.8630, 4231,   1227.0,   4.2555,  34.9739,2,  34.9848,2,    271.2,3,    265.5,2,    11.13,2,    17.03,6,     1.13,2,    1.491,2,    0.855,2,    0.102,2,    2.531,2,   -999.0,9,   4.1572
  18HU19941012, AR13c,    36,  1, 151268,     68,2,19941023,2246, 42.5833, -46.8630, 4231,   1533.1,   3.6770,  34.9201,2,  34.9263,2,    283.7,2,    283.8,2,    11.46,2,    16.91,6,     1.11,2,    1.662,2,    0.934,2,    0.088,2,    2.967,2,   -999.0,9,   3.5576
  18HU19941012, AR13c,    36,  1, 151267,     67,2,19941023,2246, 42.5833, -46.8630, 4231,   1807.2,   3.3508,  34.8859,2,  34.8965,2,    289.4,3,    290.0,2,    11.17,2,    16.63,6,     1.08,2,    2.173,2,    1.206,2,    0.178,2,    3.601,2,   -999.0,9,   3.2109
  18HU19941012, AR13c,    36,  1, 151266,     66,2,19941023,2246, 42.5833, -46.8630, 4231,   2080.2,   3.3305,  34.9016,2,  34.9079,2,    289.4,2,    287.4,2,    11.58,2,    16.19,6,     1.08,2,    1.685,2,    0.865,2,    0.134,2,    3.005,2,   -999.0,9,   3.1655
  18HU19941012, AR13c,    36,  1, 151265,     65,2,19941023,2246, 42.5833, -46.8630, 4231,   2289.8,   3.3302,  34.9172,2,  34.9235,2,    283.9,2,    282.3,2,    12.55,2,    16.38,6,     1.11,2,    1.266,2,    0.756,2,    0.116,2,    2.406,2,   -999.0,9,   3.1451
  18HU19941012, AR13c,    36,  1, 151264,     64,2,19941023,2246, 42.5833, -46.8630, 4231,   2496.5,   3.2664,  34.9270,2,  34.9758,2,    280.2,3,    275.5,2,    12.68,2,    16.34,6,     1.08,2,    0.996,2,    0.685,2,    0.044,2,    1.924,2,   -999.0,9,   3.0618
  18HU19941012, AR13c,    36,  1, 151263,     63,2,19941023,2246, 42.5833, -46.8630, 4231,   2700.0,   3.1676,  34.9314,2,  34.9414,2,    280.2,2,    279.8,2,    14.39,2,    16.29,6,     1.09,2,    0.738,2,    0.485,2,    0.034,2,    1.665,2,   -999.0,9,   2.9444
  18HU19941012, AR13c,    36,  1, 151262,     62,2,19941023,2246, 42.5833, -46.8630, 4231,   2888.1,   3.0184,  34.9281,2,  34.9345,2,    279.8,2,    279.8,2,    15.61,2,    16.78,6,     1.10,2, -999.000,9, -999.000,9, -999.000,9, -999.000,9,   -999.0,9,   2.7789
  18HU19941012, AR13c,    36,  1, 151261,     61,2,19941023,2246, 42.5833, -46.8630, 4231,   3176.1,   2.7470,  34.9157,2,  34.9210,2,    282.1,2,    283.8,2,    15.42,2,    16.24,6,     1.07,2,    1.050,2,    0.685,2,    0.048,2,    2.034,2,   -999.0,9,   2.4833
  18HU19941012, AR13c,    36,  1, 151260,     60,2,19941023,2246, 42.5833, -46.8630, 4231,   3524.0,   2.4162,  34.9029,2,  34.9074,2,    283.7,2,    284.8,2,    17.32,2,    15.97,6,     1.07,2,    1.036,2,    0.732,2,    0.052,2,    2.041,2,   -999.0,9,   2.1232
  18HU19941012, AR13c,    36,  1, 151259,     59,2,19941023,2246, 42.5833, -46.8630, 4231,   3746.2,   2.3191,  34.8977,2,  34.9175,2,    283.3,3,    282.3,2,    17.66,2,    16.24,6,     1.09,2,    1.090,2,    0.693,2, -999.000,9,    2.076,2,   -999.0,9,   2.0042
  18HU19941012, AR13c,    36,  1, 151258,     58,2,19941023,2246, 42.5833, -46.8630, 4231,   4076.1,   2.2601,  34.8933,2,  34.9045,2,    281.1,3,    284.2,2,    20.91,2,    16.49,6,     1.10,2,    1.088,2,    0.655,2,    0.040,2,    2.046,2,   -999.0,9,   1.9098
  18HU19941012, AR13c,    36,  1, 151257,     57,2,19941023,2246, 42.5833, -46.8630, 4231,   4225.2,   2.2307,  34.8915,2,  34.9008,2,    280.4,2,    285.0,2,    18.98,2,    15.86,6,     1.07,2,    1.320,2,    0.770,2,    0.088,2,    2.395,2,   -999.0,9,   1.8640