BOTTLE,20140120PRINUNIVRMK
EXPOCODE,SECT_ID,STNNBR,CASTNO,SAMPNO,BTLNBR,BTLNBR_FLAG_W,DATE,TIME,LATITUDE,LONGITUDE,DEPTH,CTDPRS,CTDTMP,CTDSAL,CTDSAL_FLAG_W,SALNTY,SALNTY_FLAG_W,CTDOXY,CTDOXY_FLAG_W,OXYGEN,OXYGEN_FLAG_W,SILCAT,SILCAT_FLAG_W,NITRAT,NITRAT_FLAG_W,PHSPHT,PHSPHT_FLAG_W,CFC-11,CFC-11_FLAG_W,CFC-12,CFC-12_FLAG_W,CFC113,CFC113_FLAG_W,CCL4,CCL4_FLAG_W,TCARBN,TCARBN_FLAG_W,THETA
,,,,,,,,,,,METERS,DBAR,ITS-90,PSS-78,,PSS-78,,UMOL/KG,,UMOL/KG,,UMOL/KG,,UMOL/KG,,UMOL/KG,,PMOL/KG,,PMOL/KG,,PMOL/KG,,PMOL/KG,,UMOL/KG,,DEG C
  18HU19941012, AR13c,    31,  1, 151176,     76,2,19941022,1629, 41.5577, -43.6150, 4998,     12.8,  20.5165,  35.8295,2,  35.8204,2,    158.9,3,    227.5,2,     0.97,2,     0.00,6,     0.13,2,    1.858,2,    1.233,2,    0.100,2,    2.476,2,   2026.7,2,  20.5141
  18HU19941012, AR13c,    31,  1, 151175,     75,2,19941022,1629, 41.5577, -43.6150, 4998,    199.9,  16.6553,  36.2739,2,  36.2781,2,    214.4,2,    212.0,2,     2.22,2,     5.57,6,     0.39,2,    2.040,2,    1.209,2,    0.054,2,    0.959,2,   2098.6,2,  16.6225
  18HU19941012, AR13c,    31,  1, 151174,     74,2,19941022,1629, 41.5577, -43.6150, 4998,    500.0,  13.7284,  35.8211,2,  35.8270,2,    198.6,2,    202.1,2,     4.34,2,    10.79,6,     0.72,2,    1.954,2,    1.152,2,    0.050,2,    0.987,2,   -999.0,9,  13.6558
  18HU19941012, AR13c,    31,  1, 151173,     73,2,19941022,1629, 41.5577, -43.6150, 4998,    902.7,   7.9161,  35.1453,2,  35.1585,2,    191.3,3,    184.2,2,    12.33,2,    20.57,6,     1.39,2,    0.975,2,    0.659,2,    0.023,2,    0.959,2,   2126.0,3,   7.8210
  18HU19941012, AR13c,    31,  1, 151172,     72,2,19941022,1629, 41.5577, -43.6150, 4998,    974.7,   7.9863,  35.2984,2,  35.3068,2,    195.5,3,    197.0,2,    11.57,2,    19.41,6,     1.40,2,    0.895,2,    0.549,2,    0.022,2,    0.923,2,   2175.0,2,   7.8824
  18HU19941012, AR13c,    31,  1, 151171,     71,2,19941022,1629, 41.5577, -43.6150, 4998,   1062.7,   6.2253,  35.0550,2,  35.0649,2,    221.2,2,    214.7,2,    12.00,2,    19.03,6,     1.34,2,    1.252,2,    0.739,2,    0.038,2,    1.653,2,   2171.5,2,   6.1256
  18HU19941012, AR13c,    31,  1, 151170,     70,2,19941022,1629, 41.5577, -43.6150, 4998,   1141.4,   6.4124,  35.2001,2,  35.2094,2,    224.4,2,    224.5,2,    11.46,2,    18.08,6,     1.07,2,    0.989,2,    0.583,2,    0.012,2,    1.350,2,   2174.4,2,   6.3028
  18HU19941012, AR13c,    31,  1, 151169,     69,2,19941022,1629, 41.5577, -43.6150, 4998,   1305.9,   5.0457,  35.0419,2,  35.0383,2,    250.7,3,    249.3,2,    11.34,2,    17.76,6,     1.27,2,    1.443,2,    0.791,2,    0.040,2,    2.185,2,   2164.6,2,   4.9325
  18HU19941012, AR13c,    31,  1, 151168,     68,2,19941022,1629, 41.5577, -43.6150, 4998,   1614.3,   3.9411,  34.9266,2,  34.9328,2,    275.1,2,    278.1,2,    10.45,2,    17.46,6,     1.18,2,    2.021,2,    1.063,2,    0.078,2,    3.290,2,   2157.6,2,   3.8112
  18HU19941012, AR13c,    31,  1, 151167,     67,2,19941022,1629, 41.5577, -43.6150, 4998,   1921.5,   3.6408,  34.9135,2,  34.9192,2,    282.1,2,    282.4,2,    11.05,2,    17.11,6,     1.17,2,    1.543,2,    0.901,2,    0.032,2,    2.825,2,   2153.0,2,   3.4862
  18HU19941012, AR13c,    31,  1, 151166,     66,2,19941022,1629, 41.5577, -43.6150, 4998,   2214.5,   3.4231,  34.9029,2,  34.9089,2,    282.4,2,    282.6,2,    11.84,2,    16.71,6,     1.15,2, -999.000,9, -999.000,9, -999.000,9, -999.000,9,   2152.6,2,   3.2438
  18HU19941012, AR13c,    31,  1, 151165,     65,2,19941022,1629, 41.5577, -43.6150, 4998,   2542.0,   3.3558,  34.9180,2,  34.9253,2,    279.0,2,    284.4,2,    12.89,2,    16.87,6,     1.15,2,    1.100,2,    0.612,2,    0.024,2,    2.214,2,   2154.7,2,   3.1451
  18HU19941012, AR13c,    31,  1, 151164,     64,2,19941022,1629, 41.5577, -43.6150, 4998,   2817.9,   3.2200,  34.9211,2,  34.9831,2,    276.2,3,    278.0,2,    12.29,2,    16.08,6,     1.13,2,    1.101,2,    0.662,2,    0.028,2,    2.031,2,   2152.9,2,   2.9834
  18HU19941012, AR13c,    31,  1, 151163,     63,2,19941022,1629, 41.5577, -43.6150, 4998,   3214.4,   2.9661,  34.9224,2,  34.9422,2,    276.8,3,    282.5,2,    14.38,2,    16.25,6,     1.14,2,    0.882,2,    0.536,2,    0.027,2,    1.746,2,   2155.1,2,   2.6932
  18HU19941012, AR13c,    31,  1, 151162,     62,2,19941022,1629, 41.5577, -43.6150, 4998,   3631.1,   2.6312,  34.9125,2,  34.9202,2,    277.7,2,    281.5,2,    18.08,2,    16.91,6,     1.17,2,    0.752,2,    0.464,2,    0.000,2,    1.587,2,   2158.4,2,   2.3210
  18HU19941012, AR13c,    31,  1, 151161,     61,2,19941022,1629, 41.5577, -43.6150, 4998,   3974.5,   2.4382,  34.9024,2,  34.9649,2,    277.1,3,    269.7,0,    11.92,3,    17.68,6,     1.20,2,    1.470,2,    0.886,3,    0.033,2,    2.632,2,   2158.3,2,   2.0941
  18HU19941012, AR13c,    31,  1, 151160,     60,2,19941022,1629, 41.5577, -43.6150, 4998,   4400.3,   2.3389,  34.8947,2,  34.9064,2,    274.7,3,    281.7,2,    22.93,2,    17.38,6,     1.21,2,    0.760,2,    0.487,2,    0.014,2,    1.572,2,   2163.9,2,   1.9483
  18HU19941012, AR13c,    31,  1, 151159,     59,2,19941022,1629, 41.5577, -43.6150, 4998,   4652.5,   2.3192,  34.8921,2,  34.9169,2,    273.1,3,    281.3,2,    21.16,2,    16.89,6,     1.16,2,    0.926,2,    0.509,2,    0.017,2,    1.760,2,   2162.6,2,   1.8988
  18HU19941012, AR13c,    31,  1, 151158,     58,2,19941022,1629, 41.5577, -43.6150, 4998,   4847.0,   2.3135,  34.8902,2,  34.8957,2,    272.0,2,    282.7,2,    21.97,2,    16.83,6,     1.16,2,    0.957,2,    0.563,2,    0.025,2,    1.830,2,   2165.9,2,   1.8694
  18HU19941012, AR13c,    31,  1, 151157,     57,2,19941022,1629, 41.5577, -43.6150, 4998,   4992.7,   2.3072,  34.8872,2,  34.8979,2,    271.2,3,    280.3,2,    23.96,2,    17.07,6,     1.19,2,    0.880,2,    0.535,2,    0.024,2,    1.672,2,   2167.9,2,   1.8451
  18HU19941012, AR13c,    32,  1, 151196,     96,2,19941022,2225, 41.7663, -44.1690, 4968,     13.2,  19.9002,  36.2991,2,  36.3046,2,    199.8,3,    229.7,2,     0.73,2,     0.00,6,     0.08,2,    1.860,2,    1.088,2,    0.108,2,    2.096,2,   2049.5,2,  19.8978
  18HU19941012, AR13c,    32,  1, 151195,     95,2,19941022,2225, 41.7663, -44.1690, 4968,    149.2,  16.2830,  36.2641,2,  36.2710,2,    219.2,2,    225.8,2,     2.06,2,     5.03,6,     0.35,2,    2.118,2,    1.395,2,    0.107,2,    1.204,2,   2097.3,2,  16.2589
  18HU19941012, AR13c,    32,  1, 151194,     94,2,19941022,2225, 41.7663, -44.1690, 4968,    320.9,  16.0604,  36.2886,2,  36.2943,2,    226.3,2,    234.1,2,     2.06,2,     4.79,6,     0.33,2,    2.082,2,    1.263,2,    0.106,2,    1.176,2,   2094.7,2,  16.0088
  18HU19941012, AR13c,    32,  1, 151193,     93,2,19941022,2225, 41.7663, -44.1690, 4968,    524.2,  16.0989,  36.3080,2,  36.3129,2,    227.2,2,    238.0,2,     2.08,2,     4.58,6,     0.36,2,    2.185,2,    1.552,2,    0.099,2,    1.261,2,   2093.9,2,  16.0140
  18HU19941012, AR13c,    32,  1, 151192,     92,2,19941022,2225, 41.7663, -44.1690, 4968,    726.9,  16.0592,  36.2921,2,  36.2973,2,    226.5,2,    235.2,2,     2.05,2,     4.72,6,     0.34,2,    2.174,2,    1.290,2,    0.120,2,    1.383,2,   2096.0,2,  15.9411
  18HU19941012, AR13c,    32,  1, 151191,     91,2,19941022,2225, 41.7663, -44.1690, 4968,    830.2,  14.1095,  35.8884,2,  35.8952,2,    204.2,3,    209.9,2,     4.36,2,     9.92,6,     0.67,2,    1.968,2,    1.103,2,    0.051,2,    0.690,2,   2120.1,2,  13.9854
  18HU19941012, AR13c,    32,  1, 151190,     90,2,19941022,2225, 41.7663, -44.1690, 4968,   1120.5,   8.0615,  35.1132,2,  35.1195,2,    187.9,2,    182.6,2,    12.47,2,    20.78,6,     1.38,2,    1.044,2,    0.666,2,    0.035,2,    0.998,2,   2174.3,2,   7.9407
  18HU19941012, AR13c,    32,  1, 151189,     89,2,19941022,2225, 41.7663, -44.1690, 4968,   1313.3,   5.7501,  35.0353,2,  35.0435,2,    231.5,2,    225.7,2,    12.12,2,    18.80,6,     1.29,2,    1.285,2,    0.782,2,    0.049,2,    1.721,2,   2172.2,2,   5.6293
  18HU19941012, AR13c,    32,  1, 151188,     88,2,19941022,2225, 41.7663, -44.1690, 4968,   1513.6,   4.7959,  35.0071,2,  35.0148,2,    257.8,2,    253.9,2,    11.38,2,    17.73,6,     1.22,2,    1.463,2,    0.802,2,    0.059,2,    2.126,2,   2162.7,2,   4.6653
  18HU19941012, AR13c,    32,  1, 151187,     87,2,19941022,2225, 41.7663, -44.1690, 4968,   1798.2,   4.0052,  34.9401,2,  34.9534,2,    275.4,3,    274.9,2,    11.36,2,    17.57,6,     1.19,2,    1.620,2,    0.816,2,    0.070,2,    2.602,2,   2156.1,2,   3.8572
  18HU19941012, AR13c,    32,  1, 151186,     86,2,19941022,2225, 41.7663, -44.1690, 4968,   2094.4,   3.7540,  34.9302,2,  34.9375,2,    280.3,2,    279.4,2,    11.51,2,    17.19,6,     1.19,2,    1.248,2,    0.838,2,    0.042,2,    2.286,2,   2155.7,2,   3.5810
  18HU19941012, AR13c,    32,  1, 151185,     85,2,19941022,2225, 41.7663, -44.1690, 4968,   2296.6,   3.5895,  34.9246,2,  34.9306,2,    281.0,2,    281.1,2,    12.07,2,    16.87,6,     1.19,2,    1.187,2,    0.557,2,    0.032,2,    2.212,2,   2153.6,2,   3.3993
  18HU19941012, AR13c,    32,  1, 151184,     84,2,19941022,2225, 41.7663, -44.1690, 4968,   2476.8,   3.4497,  34.9142,2,  34.9697,2,    281.3,3,    270.1,2,    11.77,2,    16.82,6,     1.16,2,    1.299,2,    0.697,2,    0.060,2,    2.158,2,   2156.1,2,   3.2437
  18HU19941012, AR13c,    32,  1, 151183,     83,2,19941022,2225, 41.7663, -44.1690, 4968,   2743.9,   3.4277,  34.9378,2,  34.9510,2,    277.7,3,    277.5,2,    13.78,2,    17.04,6,     1.17,2,    0.671,2,    0.478,2,    0.016,2,    1.537,2,   2154.3,2,   3.1948
  18HU19941012, AR13c,    32,  1, 151182,     82,2,19941022,2225, 41.7663, -44.1690, 4968,   2976.5,   3.2456,  34.9399,2,  34.9518,2,    277.1,3,    274.7,2,    16.01,2,    17.49,6,     1.20,2,    0.481,2,    0.296,2,    0.000,2,    1.173,2,   2157.6,2,   2.9919
  18HU19941012, AR13c,    32,  1, 151181,     81,2,19941022,2225, 41.7663, -44.1690, 4968,   3390.0,   2.8651,  34.9243,2,  34.9374,2,    279.9,3,    277.5,2,    16.36,2,    17.29,6,     1.19,2,    0.572,2,    0.340,2,    0.012,2,    1.406,2,   2158.7,2,   2.5756
  18HU19941012, AR13c,    32,  1, 151180,     80,2,19941022,2225, 41.7663, -44.1690, 4968,   4003.3,   2.4342,  34.9022,2,  34.9022,2,   -999.0,9,    278.4,2,    23.23,2,    17.35,6,     1.20,2,    0.446,2,    0.416,2,    0.000,2,    1.224,2,   2164.3,2,   2.0873
  18HU19941012, AR13c,    32,  1, 151179,     79,2,19941022,2225, 41.7663, -44.1690, 4968,   4393.1,   2.3141,  34.8909,2,  34.9206,2,    278.6,3,    276.7,2,    24.80,2,    18.08,6,     1.23,2,    0.509,2,    0.479,2,    0.017,2,    1.093,2,   2164.2,2,   1.9251
  18HU19941012, AR13c,    32,  1, 151178,     78,2,19941022,2225, 41.7663, -44.1690, 4968,   4689.7,   2.2913,  34.8867,2,  34.8930,2,    276.7,2,    276.1,2,    28.10,2,    18.04,6,     1.26,2,    0.490,2, -999.000,9,    0.012,2,    1.257,2,   2171.2,2,   1.8674
  18HU19941012, AR13c,    32,  1, 151177,     77,2,19941022,2225, 41.7663, -44.1690, 4968,   4963.0,   2.2792,  34.8809,2,  34.8883,2,    275.0,2,    271.8,2,    31.85,2,    18.36,6,     1.32,2,    0.332,2,    0.440,2,    0.014,2,    1.159,2,   2177.1,2,   1.8218
  18HU19941012, AR13c,    33,  1, 151216,     16,2,19941023,0449, 41.9665, -44.8500, 4940,     12.8,  19.8071,  36.3419,2,  36.3467,2,    206.6,3,    229.7,2,     0.74,2,     0.00,6,     0.08,2,    1.966,2,    1.191,2,    0.125,2,    2.406,2,   -999.0,9,  19.8047
  18HU19941012, AR13c,    33,  1, 151215,     15,2,19941023,0449, 41.9665, -44.8500, 4940,    156.2,  16.8703,  36.3200,2,  36.3334,2,    216.6,3,    212.8,2,     1.99,2,     5.07,6,     0.36,2,    2.050,2,    1.216,2,    0.086,2,    0.955,2,   -999.0,9,  16.8444
  18HU19941012, AR13c,    33,  1, 151214,     14,2,19941023,0449, 41.9665, -44.8500, 4940,    317.2,  16.0574,  36.2596,2,  36.2647,2,    224.3,2,    232.0,2,     2.17,2,     4.97,6,     0.35,2,    2.260,2,    1.298,2,    0.118,2,    1.327,2,   -999.0,9,  16.0064
  18HU19941012, AR13c,    33,  1, 151213,     13,2,19941023,0449, 41.9665, -44.8500, 4940,    498.4,  16.0533,  36.2738,2,  36.2788,2,    225.2,2,    238.4,2,     2.24,2,     4.87,6,     0.36,2,    2.261,2,    1.293,2,    0.122,2,    1.398,2,   -999.0,9,  15.9728
  18HU19941012, AR13c,    33,  1, 151212,     12,2,19941023,0449, 41.9665, -44.8500, 4940,    700.2,  15.7365,  36.1998,2,  36.2224,2,    221.9,3,    231.1,2,     2.42,2,     5.50,6,     0.40,2,    2.222,2,    1.309,2,    0.107,2,    1.343,2,   -999.0,9,  15.6243
  18HU19941012, AR13c,    33,  1, 151211,     11,2,19941023,0449, 41.9665, -44.8500, 4940,    924.9,  11.4019,  35.4506,2,  35.4584,2,    180.8,2,    184.2,2,     8.28,2,    16.01,6,     1.10,2,    1.528,2,    0.879,2,    0.052,2,    0.848,2,   -999.0,9,  11.2809
  18HU19941012, AR13c,    33,  1, 151210,     10,2,19941023,0449, 41.9665, -44.8500, 4940,   1243.2,   6.1266,  35.0538,2,  35.0718,2,    221.5,3,    217.7,2,    12.54,2,    18.99,6,     1.31,2,    1.351,2,    0.707,2,    0.058,2,    1.709,2,   -999.0,9,   6.0093
  18HU19941012, AR13c,    33,  1, 151209,      9,2,19941023,0449, 41.9665, -44.8500, 4940,   1559.8,   4.8976,  35.0491,2,  35.0567,2,    255.1,2,    244.6,2,    11.87,2,    17.29,6,     1.26,2,    1.173,2,    0.662,2,    0.034,2,    1.999,2,   -999.0,9,   4.7612
  18HU19941012, AR13c,    33,  1, 151208,      8,2,19941023,0449, 41.9665, -44.8500, 4940,   1874.9,   3.8824,  34.9316,2,  34.9376,2,    277.4,2,    268.0,2,    11.01,2,    16.79,6,     1.21,2,    1.655,2,    0.808,2,    0.070,2,    2.882,2,   -999.0,9,   3.7288
  18HU19941012, AR13c,    33,  1, 151207,      7,2,19941023,0449, 41.9665, -44.8500, 4940,   2180.7,   3.5573,  34.9101,2,  34.9159,2,    282.8,2,    284.3,2,    11.82,2,    16.92,6,     1.20,2,    1.578,2,    0.827,2,    0.064,2,    2.856,2,   -999.0,9,   3.3791
  18HU19941012, AR13c,    33,  1, 151206,      6,2,19941023,0449, 41.9665, -44.8500, 4940,   2488.2,   3.3953,  34.9076,2,  34.9135,2,    282.9,2,    286.2,2,    12.55,2,    16.84,6,     1.19,2,    1.448,2,    0.715,2,    0.058,2,    2.676,2,   -999.0,9,   3.1894
  18HU19941012, AR13c,    33,  1, 151205,      5,2,19941023,0449, 41.9665, -44.8500, 4940,   2797.4,   3.2968,  34.9299,2,  34.9360,2,    279.4,2,   -999.0,9,    13.89,2,    16.52,6,     1.20,2, -999.000,9, -999.000,9, -999.000,9, -999.000,9,   -999.0,9,   3.0610
  18HU19941012, AR13c,    33,  1, 151204,      4,2,19941023,0449, 41.9665, -44.8500, 4940,   3096.1,   3.0984,  34.9307,2,  34.9401,2,    279.0,2,    279.0,2,    15.72,2,    16.56,6,     1.18,2,    0.672,2,    0.421,2,    0.000,2,    1.535,2,   -999.0,9,   2.8352
  18HU19941012, AR13c,    33,  1, 151203,      3,2,19941023,0449, 41.9665, -44.8500, 4940,   3397.0,   2.8509,  34.9241,2,  34.9464,2,    279.9,3,    279.6,2,    18.02,2,    16.73,6,     1.19,2,    0.585,2,    0.313,2,    0.016,2,    1.314,2,   -999.0,9,   2.5609
  18HU19941012, AR13c,    33,  1, 151202,      2,2,19941023,0449, 41.9665, -44.8500, 4940,   3698.7,   2.5844,  34.9118,2,  34.9208,2,    281.2,2,    279.4,2,    20.12,2,    16.89,6,     1.22,2,    0.540,2,    0.305,2,    0.011,2,    1.242,2,   -999.0,9,   2.2678
  18HU19941012, AR13c,    33,  1, 151201,      1,2,19941023,0449, 41.9665, -44.8500, 4940,   3992.6,   2.4053,  34.9008,2,  34.9165,2,    281.5,3,    281.5,2,    19.86,2,    16.72,6,     1.22,2,    0.741,2,    0.439,2,    0.036,2,    1.607,2,   -999.0,9,   2.0604
  18HU19941012, AR13c,    33,  1, 151200,      0,2,19941023,0449, 41.9665, -44.8500, 4940,   4291.4,   2.3371,  34.8951,2,  34.9039,2,    279.8,2,    279.8,2,    23.31,2,    17.25,6,     1.23,2,    0.666,2,    0.390,2,    0.026,2,    1.473,2,   -999.0,9,   1.9595
  18HU19941012, AR13c,    33,  1, 151199,     99,2,19941023,0449, 41.9665, -44.8500, 4940,   4623.8,   2.3022,  34.8909,2,  34.9112,2,    278.1,3,    280.1,2,    24.36,2,    17.38,6,     1.22,2,    0.785,2,    0.458,2,    0.047,2,    1.626,2,   -999.0,9,   1.8858
  18HU19941012, AR13c,    33,  1, 151198,     98,2,19941023,0449, 41.9665, -44.8500, 4940,   4827.2,   2.2920,  34.8881,2,  34.8935,2,    276.5,2,    280.2,2,    25.18,2,    16.97,6,     1.22,2,    0.824,2,    0.503,2,    0.025,2,    1.636,2,   -999.0,9,   1.8511
  18HU19941012, AR13c,    33,  1, 151197,     97,2,19941023,0449, 41.9665, -44.8500, 4940,   4934.3,   2.2736,  34.8815,2,  34.8935,2,    275.2,3,    269.9,2,    30.51,2,    17.71,6,     1.29,2,    0.508,2,    0.327,2,    0.023,2,    1.096,2,   -999.0,9,   1.8199