BOTTLE,20140120PRINUNIVRMK
EXPOCODE,SECT_ID,STNNBR,CASTNO,SAMPNO,BTLNBR,BTLNBR_FLAG_W,DATE,TIME,LATITUDE,LONGITUDE,DEPTH,CTDPRS,CTDTMP,CTDSAL,CTDSAL_FLAG_W,SALNTY,SALNTY_FLAG_W,CTDOXY,CTDOXY_FLAG_W,OXYGEN,OXYGEN_FLAG_W,SILCAT,SILCAT_FLAG_W,NITRAT,NITRAT_FLAG_W,PHSPHT,PHSPHT_FLAG_W,CFC-11,CFC-11_FLAG_W,CFC-12,CFC-12_FLAG_W,CFC113,CFC113_FLAG_W,CCL4,CCL4_FLAG_W,TCARBN,TCARBN_FLAG_W,THETA
,,,,,,,,,,,METERS,DBAR,ITS-90,PSS-78,,PSS-78,,UMOL/KG,,UMOL/KG,,UMOL/KG,,UMOL/KG,,UMOL/KG,,PMOL/KG,,PMOL/KG,,PMOL/KG,,PMOL/KG,,UMOL/KG,,DEG C
  18HU19941012, AR13c,     6,  1, 150686,     86,2,19941015,1756, 41.9978, -50.2920, 3588,     11.9,  14.3313,  32.2965,2,  32.2837,2,    229.1,3,    268.0,2,     0.79,2,     0.16,6,     0.19,2,    2.745,2,    1.383,2,    0.177,2,    4.026,2,   1968.7,2,  14.3296
  18HU19941012, AR13c,     6,  1, 150685,     85,2,19941015,1756, 41.9978, -50.2920, 3588,    209.1,   2.6782,  34.4379,2,  34.4212,2,    293.2,3,    271.6,2,    11.73,2,    17.33,6,     1.09,2,    3.676,2,    1.684,2,    0.210,2,    5.089,2,   2153.8,2,   2.6659
  18HU19941012, AR13c,     6,  1, 150684,     84,2,19941015,1756, 41.9978, -50.2920, 3588,    407.3,   3.6848,  34.8062,2,  34.7768,2,    274.4,3,    275.6,2,    10.54,2,    18.26,6,     1.07,2,    3.162,2,    1.412,2,    0.164,2,    4.456,2,   2160.0,2,   3.6566
  18HU19941012, AR13c,     6,  1, 150683,     83,2,19941015,1756, 41.9978, -50.2920, 3588,    583.5,   4.3151,  34.9737,2,  34.9552,2,    265.9,3,    265.2,2,    11.29,2,    19.14,6,     1.20,2,    1.923,2,    0.984,2,    0.063,2,    2.952,2,   2161.4,2,   4.2709
  18HU19941012, AR13c,     6,  1, 150682,     82,2,19941015,1756, 41.9978, -50.2920, 3588,    795.0,   4.1327,  34.9794,2,  34.9643,2,    266.4,2,    271.4,2,    11.14,2,    19.30,6,     1.13,2,    1.554,2,    0.897,2,    0.046,2,    2.623,2,   2161.4,2,   4.0723
  18HU19941012, AR13c,     6,  1, 150681,     81,2,19941015,1756, 41.9978, -50.2920, 3588,    999.8,   3.9577,  34.9742,2,  34.9613,2,    269.9,3,   -999.0,9,    11.68,2,    18.86,6,     1.10,2,    1.180,2,    0.688,2,    0.020,2,    2.294,2,   2159.0,2,   3.8816
  18HU19941012, AR13c,     6,  1, 150680,     80,2,19941015,1756, 41.9978, -50.2920, 3588,   1193.5,   3.7489,  34.9569,2,  34.9442,2,    273.9,2,    275.9,2,    12.02,2,    18.70,6,     1.10,2,    1.301,2,    0.720,2,    0.016,2,    2.426,2,   2159.7,2,   3.6583
  18HU19941012, AR13c,     6,  1, 150679,     79,2,19941015,1756, 41.9978, -50.2920, 3588,   1399.8,   3.3638,  34.9083,2,  34.8942,2,    282.5,2,    288.8,2,    11.52,2,    18.38,6,     1.07,2,    2.134,2,    1.150,2,    0.047,2,    3.590,2,   2156.0,2,   3.2596
  18HU19941012, AR13c,     6,  1, 150678,     78,2,19941015,1756, 41.9978, -50.2920, 3588,   1606.5,   3.4370,  34.9330,2,  34.9220,2,    280.5,2,    282.3,2,    11.96,2,    18.56,6,     1.08,2,    1.402,2,    0.809,2,    0.032,2,    2.576,2,   2158.6,2,   3.3139
  18HU19941012, AR13c,     6,  1, 150677,     77,2,19941015,1756, 41.9978, -50.2920, 3588,   1803.0,   3.5035,  34.9644,2,  34.9504,2,    276.4,2,    275.3,2,    13.60,2,    18.81,6,     1.10,2,    0.695,2,    0.601,2,    0.017,2,    1.592,2,   2158.6,2,   3.3618
  18HU19941012, AR13c,     6,  1, 150676,     76,2,19941015,1756, 41.9978, -50.2920, 3588,   2016.3,   3.4244,  34.9671,2,  34.9553,2,    275.6,2,    274.2,2,    14.73,2,    18.56,6,     1.10,2,    0.516,2,    0.443,2,    0.000,2,    1.270,2,   2160.7,2,   3.2639
  18HU19941012, AR13c,     6,  1, 150675,     75,2,19941015,1756, 41.9978, -50.2920, 3588,   2204.9,   3.3125,  34.9664,2,  34.9549,2,    276.6,2,    273.8,2,    16.14,2,    18.67,6,     1.19,2,    0.411,2,    0.468,2,    0.000,2,    1.076,2,   2162.0,2,   3.1358
  18HU19941012, AR13c,     6,  1, 150674,     74,2,19941015,1756, 41.9978, -50.2920, 3588,   2388.8,   3.1473,  34.9609,2,  34.9463,2,    277.8,2,    274.2,2,    17.25,2,    18.43,6,     1.11,2,    0.393,2,    0.391,2,    0.000,2,    0.970,2,   2162.7,2,   2.9556
  18HU19941012, AR13c,     6,  1, 150673,     73,2,19941015,1756, 41.9978, -50.2920, 3588,   2597.0,   2.8882,  34.9403,2,  34.9264,2,    281.6,2,    281.2,2,    14.93,2,    17.71,6,     1.07,2,    0.832,2,    0.571,2,    0.014,2,    1.730,2,   2162.6,2,   2.6808
  18HU19941012, AR13c,     6,  1, 150672,     72,2,19941015,1756, 41.9978, -50.2920, 3588,   2792.6,   2.7418,  34.9353,2,  34.9252,2,    282.5,2,    281.6,2,    16.04,2,    17.78,6,     1.08,2,    0.759,2,    0.623,2,    0.011,2,    1.623,2,   2162.1,2,   2.5178
  18HU19941012, AR13c,     6,  1, 150671,     71,2,19941015,1756, 41.9978, -50.2920, 3588,   2981.0,   2.5625,  34.9289,2,  34.9150,2,    283.9,2,    283.2,2,    16.80,2,    17.70,6,     1.06,2,    0.888,2,    0.557,2,    0.000,2,    1.801,2,   2160.5,2,   2.3232
  18HU19941012, AR13c,     6,  1, 150670,     70,2,19941015,1756, 41.9978, -50.2920, 3588,   3190.8,   2.3984,  34.9201,2,  34.9201,2,   -999.0,9,    285.5,2,    17.73,2,    17.56,2,     1.06,2,    1.022,2,    0.589,2,    0.018,2,    2.001,2,   2162.3,2,   2.1411
  18HU19941012, AR13c,     6,  1, 150669,     69,2,19941015,1756, 41.9978, -50.2920, 3588,   3375.4,   2.3257,  34.9165,2,  34.9028,2,    284.8,2,    284.4,2,    18.61,2,    17.04,6,     1.06,2,    1.092,2,    0.672,2,    0.022,2,    2.085,2,   2163.8,2,   2.0509
  18HU19941012, AR13c,     6,  1, 150668,     68,2,19941015,1756, 41.9978, -50.2920, 3588,   3484.9,   2.2525,  34.9121,2,  34.8969,2,    285.1,2,    285.9,2,    18.93,2,    17.05,6,     1.05,2,    1.209,2,    0.672,2,    0.017,2,    2.229,2,   2163.5,2,   1.9679
  18HU19941012, AR13c,     6,  1, 150667,     67,2,19941015,1756, 41.9978, -50.2920, 3588,   3581.5,   2.2206,  34.9107,2,  34.8967,2,    284.9,2,    285.4,2,    18.59,2,    16.79,6,     1.12,2,    1.252,2,    0.695,2,    0.023,2,    2.273,2,   2164.0,2,   1.9264
  18HU19941012, AR13c,     7,  1, 150706,      6,2,19941015,2357, 41.4928, -50.2830, 3925,     10.5,  12.7378,  32.1564,2,  32.1439,2,    205.3,3,    279.1,2,     0.80,2,     0.00,6,     0.27,2,    2.952,2,    1.695,2,    0.160,2,    4.078,2,   -999.0,9,  12.7364
  18HU19941012, AR13c,     7,  1, 150705,      5,2,19941015,2357, 41.4928, -50.2830, 3925,     52.4,   5.7868,  32.7032,2,  32.6851,2,    253.4,3,    346.7,2,     1.79,2,     0.74,6,     0.36,2,    4.429,2,    2.104,2,    0.241,2,    5.728,2,   -999.0,9,   5.7826
  18HU19941012, AR13c,     7,  1, 150704,      4,2,19941015,2357, 41.4928, -50.2830, 3925,    116.9,   0.4288,  33.5948,2,  33.5013,2,    327.2,3,    326.6,2,     7.30,2,     8.83,6,     0.87,2,    5.072,2,    2.910,2,    0.313,2,    5.745,2,   -999.0,9,   0.4244
  18HU19941012, AR13c,     7,  1, 150703,      3,2,19941015,2357, 41.4928, -50.2830, 3925,    274.4,   2.7000,  34.5366,2,  34.4868,2,    297.3,3,    287.8,2,    10.31,2,    16.80,6,     1.13,2,    3.977,2,    2.058,2,    0.221,2,    5.248,2,   -999.0,9,   2.6836
  18HU19941012, AR13c,     7,  1, 150702,      2,2,19941015,2357, 41.4928, -50.2830, 3925,    494.6,   3.9588,  34.8724,2,  34.8612,2,    270.1,3,    273.8,2,    10.73,2,    18.90,6,     1.12,2,    2.841,2,    1.557,2,    0.121,2,    4.091,2,   -999.0,9,   3.9231
  18HU19941012, AR13c,     7,  1, 150701,      1,2,19941015,2357, 41.4928, -50.2830, 3925,    596.5,   4.1101,  34.9338,2,  34.9181,2,    261.3,3,    268.5,2,    11.17,2,    18.98,6,     1.12,2,    2.354,2,    1.460,2,    0.071,2,    3.180,2,   -999.0,9,   4.0659
  18HU19941012, AR13c,     7,  1, 150700,      0,2,19941015,2357, 41.4928, -50.2830, 3925,    737.9,   4.2234,  34.9763,2,  34.9618,2,    262.1,3,    248.4,2,    11.65,2,    19.33,6,     1.12,2,    1.761,2,    0.952,2,    0.045,2,    2.734,2,   -999.0,9,   4.1672
  18HU19941012, AR13c,     7,  1, 150699,     99,2,19941015,2357, 41.4928, -50.2830, 3925,    966.8,   3.9876,  34.9729,2,  34.9561,2,    269.0,3,    209.4,0,    12.06,2,    19.29,6,     1.13,2,    1.340,2,    0.782,2,    0.032,2,    2.458,2,   -999.0,9,   3.9140
  18HU19941012, AR13c,     7,  1, 150698,     98,2,19941015,2357, 41.4928, -50.2830, 3925,   1088.4,   3.6164,  34.9215,2,  34.9099,2,    276.0,3,    286.2,2,    11.14,2,    18.97,6,     1.09,2,    2.164,2,    1.292,2,    0.054,2,    3.353,2,   -999.0,9,   3.5358
  18HU19941012, AR13c,     7,  1, 150697,     97,2,19941015,2357, 41.4928, -50.2830, 3925,   1232.5,   3.6250,  34.9310,2,  34.9203,2,    276.8,2,    284.5,2,    11.28,2,    18.65,6,     1.09,2,    1.798,2,    1.187,2,    0.052,2,    3.492,2,   -999.0,9,   3.5323
  18HU19941012, AR13c,     7,  1, 150696,     96,2,19941015,2357, 41.4928, -50.2830, 3925,   1737.1,   3.5661,  34.9642,2,  34.9504,2,    276.2,2,    276.5,2,    13.36,2,    19.02,6,     1.10,2,    0.632,2,    0.491,2,    0.013,2,    1.473,2,   -999.0,9,   3.4296
  18HU19941012, AR13c,     7,  1, 150695,     95,2,19941015,2357, 41.4928, -50.2830, 3925,   2054.0,   3.3327,  34.9571,2,  34.9435,2,    277.2,2,    277.4,2,    14.66,2,    18.59,6,     1.15,2,    0.678,2,    0.512,2,    0.000,2,    1.405,2,   -999.0,9,   3.1701
  18HU19941012, AR13c,     7,  1, 150694,     94,2,19941015,2357, 41.4928, -50.2830, 3925,   2310.3,   3.2456,  34.9652,2,  34.9512,2,    277.3,2,    275.4,2,    15.58,2,    19.43,6,     1.13,2,    0.436,2,    0.413,2,    0.000,2,    1.137,2,   -999.0,9,   3.0598
  18HU19941012, AR13c,     7,  1, 150693,     93,2,19941015,2357, 41.4928, -50.2830, 3925,   2545.2,   3.1111,  34.9579,2,  34.9444,2,    278.5,2,    276.4,2,    16.58,2,    19.08,2,     1.14,2,    0.331,2,    0.269,2,    0.000,2,    1.160,2,   -999.0,9,   2.9046
  18HU19941012, AR13c,     7,  1, 150692,     92,2,19941015,2357, 41.4928, -50.2830, 3925,   2803.1,   2.8596,  34.9413,2,  34.9294,2,    281.6,2,    281.7,2,    15.72,2,    18.14,2,     1.08,2,    0.709,2,    0.590,2,    0.000,2,    1.530,2,   -999.0,9,   2.6321
  18HU19941012, AR13c,     7,  1, 150691,     91,2,19941015,2357, 41.4928, -50.2830, 3925,   3124.0,   2.5887,  34.9313,2,  34.9112,2,    283.9,2,    282.9,2,    17.62,2,    18.20,2,     1.08,2,    0.728,2,    0.490,2,    0.000,2,    1.592,2,   -999.0,9,   2.3341
  18HU19941012, AR13c,     7,  1, 150690,     90,2,19941015,2357, 41.4928, -50.2830, 3925,   3400.2,   2.3559,  34.9183,2,  34.9004,2,    285.7,3,    284.3,2,    19.41,2,    18.22,2,     1.09,2,    0.843,2,    0.514,2,    0.023,2,    1.819,2,   -999.0,9,   2.0777
  18HU19941012, AR13c,     7,  1, 150689,     89,2,19941015,2357, 41.4928, -50.2830, 3925,   3605.5,   2.2861,  34.9138,2,  34.9016,2,    284.9,2,    283.5,2,    19.98,2,    18.44,2,     1.08,2,    0.921,2,    0.630,2,    0.015,2,    1.730,2,   -999.0,9,   1.9876
  18HU19941012, AR13c,     7,  1, 150688,     88,2,19941015,2357, 41.4928, -50.2830, 3925,   3751.3,   2.2575,  34.9118,2,  34.8998,2,    284.1,2,    282.7,2,    20.47,2,    18.48,2,     1.09,2,    0.927,2,    0.625,2,    0.017,2,    1.951,2,   -999.0,9,   1.9438
  18HU19941012, AR13c,     7,  1, 150687,     87,2,19941015,2357, 41.4928, -50.2830, 3925,   3899.3,   2.2439,  34.9103,2,  34.8924,2,    282.8,3,    283.6,2,    21.25,2,    18.53,2,     1.22,2,    0.905,2,    0.884,2,    0.052,2,    1.987,2,   -999.0,9,   1.9141
  18HU19941012, AR13c,     8,  1, 150716,     16,2,19941016,0615, 41.0725, -50.2770, 3944,    193.7,  15.5613,  36.1184,2,  36.0974,2,    183.9,3,    184.9,2,     4.24,2,    10.89,6,     0.55,2,    1.594,2,    1.173,2,    0.044,2,    0.612,2,   2124.9,2,  15.5310
  18HU19941012, AR13c,     8,  1, 150715,     15,2,19941016,0615, 41.0725, -50.2770, 3944,    397.8,   9.4203,  35.2242,2,  35.2242,2,   -999.0,9,    154.3,2,    13.66,2,    24.21,6,     1.39,2,    0.718,2,    0.495,2,    0.026,2,    0.634,2,   2181.3,2,   9.3752
  18HU19941012, AR13c,     8,  1, 150714,     14,2,19941016,0615, 41.0725, -50.2770, 3944,    581.7,   4.4052,  34.7376,2,  34.7703,2,    240.8,3,    239.4,2,    12.79,2,    20.14,6,     1.22,2,    2.402,2,    1.130,2,    0.129,2,    3.247,2,   2165.6,2,   4.3609
  18HU19941012, AR13c,     8,  1, 150713,     13,2,19941016,0615, 41.0725, -50.2770, 3944,    696.9,   5.1815,  35.0249,2,  35.0144,2,    232.9,2,    236.4,2,    12.37,2,    20.64,6,     1.22,2,    1.250,2,    0.704,2,    0.043,2,    1.825,2,   2168.7,2,   5.1234
  18HU19941012, AR13c,     8,  1, 150712,     12,2,19941016,0615, 41.0725, -50.2770, 3944,    900.2,   3.8133,  34.8943,2,  34.8855,2,    264.8,3,    281.6,2,    10.85,2,    18.38,6,     1.15,2,    2.920,2,    1.731,2,    0.209,2,    4.315,2,   2160.4,2,   3.7466
  18HU19941012, AR13c,     8,  1, 150711,     11,2,19941016,0615, 41.0725, -50.2770, 3944,   1105.8,   3.3314,  34.8601,2,  34.8509,2,    280.7,3,    295.4,2,    10.33,2,    18.07,6,     1.08,2,    3.347,2,    1.762,2,    0.235,2,    5.083,2,   2155.9,2,   3.2519
  18HU19941012, AR13c,     8,  1, 150710,     10,2,19941016,0615, 41.0725, -50.2770, 3944,   1297.1,   3.3162,  34.8765,2,  34.8637,2,    283.3,2,    296.7,2,    10.75,2,    18.21,6,     1.07,2,    3.138,2,    1.591,2,    0.181,2,    4.787,2,   2156.7,2,   3.2212
  18HU19941012, AR13c,     8,  1, 150709,      9,2,19941016,0615, 41.0725, -50.2770, 3944,   1521.7,   3.3240,  34.8929,2,  34.8800,2,    284.4,2,    294.3,2,    11.28,2,    18.49,6,     1.07,2,    2.730,2,    1.424,2,    0.132,2,    4.275,2,   2157.7,2,   3.2098
  18HU19941012, AR13c,     8,  1, 150708,      8,2,19941016,0615, 41.0725, -50.2770, 3944,   1671.3,   3.2409,  34.8811,2,  34.8788,2,    285.9,3,    295.5,2,    10.77,2,    18.08,6,     1.10,2,    2.743,2,    1.394,2,    0.124,2,    4.356,2,   2154.5,2,   3.1146
  18HU19941012, AR13c,     8,  1, 150707,      7,2,19941016,0615, 41.0725, -50.2770, 3944,   1969.8,   3.2105,  34.8878,2,  34.8878,2,   -999.0,9,   -999.0,9,  -999.00,9,  -999.00,5,  -999.00,9,    0.000,3,    0.000,3,    0.000,2,    0.000,3,   -999.0,9,   3.0577
  18HU19941012, AR13c,     9,  1, 150736,     36,2,19941016,1024, 40.7463, -50.2850, 3812,     10.4,  23.9350,  36.4223,2,  36.4136,2,   -999.0,9,    211.1,2,     1.85,2,     0.00,6,     0.13,2,    1.631,2,    1.049,2,    0.116,2,    1.879,2,   2035.3,2,  23.9328
  18HU19941012, AR13c,     9,  1, 150735,     35,2,19941016,1024, 40.7463, -50.2850, 3812,     50.3,  23.9507,  36.4291,2,  36.4214,2,   -999.0,9,    183.5,2,     1.58,2,     0.13,6,     0.10,2,    1.624,2,    1.029,2,    0.114,2,    1.832,2,   2033.6,2,  23.9401
  18HU19941012, AR13c,     9,  1, 150734,     34,2,19941016,1024, 40.7463, -50.2850, 3812,    106.1,  20.6823,  36.6724,2,  36.6516,2,    160.4,3,    178.4,2,     2.37,2,     4.37,6,     0.27,2,    1.814,2,    1.134,2,    0.070,2,    0.675,2,   2105.6,2,  20.6621
  18HU19941012, AR13c,     9,  1, 150733,     33,2,19941016,1024, 40.7463, -50.2850, 3812,    223.1,  17.7850,  36.4778,2,  36.4699,2,    198.0,3,    186.0,2,     2.67,2,     6.48,6,     0.36,2,    1.763,2,    1.060,2,    0.023,2,    0.692,2,   2106.6,2,  17.7466
  18HU19941012, AR13c,     9,  1, 150732,     32,2,19941016,1024, 40.7463, -50.2850, 3812,    310.7,  14.9030,  35.9283,2,  35.9277,2,    182.1,3,    171.5,2,     5.15,2,    12.89,6,     0.68,2,    1.587,2,    0.926,2,    0.112,2,    0.662,2,   -999.0,9,  14.8556
  18HU19941012, AR13c,     9,  1, 150731,     31,2,19941016,1024, 40.7463, -50.2850, 3812,    442.5,  11.3326,  35.4576,2,  35.4756,2,    159.8,3,    163.9,2,     9.53,2,    20.08,6,     1.12,2,    1.103,2,    0.628,2,    0.034,2,    0.632,2,   2154.1,2,  11.2761
  18HU19941012, AR13c,     9,  1, 150730,     30,2,19941016,1024, 40.7463, -50.2850, 3812,    537.3,   8.4520,  35.1076,2,  35.1340,2,    167.1,3,    161.4,2,    14.05,2,    24.04,6,     1.46,2,    0.785,2,    0.549,2,    0.116,2,    0.830,2,   2183.4,2,   8.3945
  18HU19941012, AR13c,     9,  1, 150729,     29,2,19941016,1024, 40.7463, -50.2850, 3812,    706.0,   4.4893,  34.8357,2,  34.8170,2,    233.3,3,    245.8,2,    12.16,2,    19.21,6,     1.21,2,    2.392,2,    1.499,2,    0.247,2,    3.374,2,   -999.0,9,   4.4344
  18HU19941012, AR13c,     9,  1, 150728,     28,2,19941016,1024, 40.7463, -50.2850, 3812,    838.8,   3.4851,  34.7765,2,  34.7580,2,    277.0,3,    284.1,2,    11.18,2,    17.41,6,     1.15,2,    3.634,2,    1.979,2,    0.229,2,    5.089,2,   2157.7,2,   3.4256
  18HU19941012, AR13c,     9,  1, 150727,     27,2,19941016,1024, 40.7463, -50.2850, 3812,    963.5,   4.1005,  34.9267,2,  34.9153,2,    267.4,2,    272.3,2,    11.50,2,    19.01,6,     1.12,2,    2.600,2,    1.378,2,    0.130,2,    3.833,2,   2161.4,2,   4.0264
  18HU19941012, AR13c,     9,  1, 150726,     26,2,19941016,1024, 40.7463, -50.2850, 3812,   1224.5,   3.3662,  34.8560,2,  34.8468,2,    286.2,2,    295.9,2,    10.63,2,    17.61,6,     1.06,2,    3.422,2,    1.805,2,    0.209,2,    5.081,2,   2155.1,2,   3.2767
  18HU19941012, AR13c,     9,  1, 150725,     25,2,19941016,1024, 40.7463, -50.2850, 3812,   1452.9,   3.6404,  34.9249,2,  34.9159,2,    280.2,3,    283.6,2,    11.14,2,    18.44,6,     1.09,2,    2.108,2,    1.065,2,    0.057,2,    3.476,2,   2158.9,2,   3.5285
  18HU19941012, AR13c,     9,  1, 150724,     24,2,19941016,1024, 40.7463, -50.2850, 3812,   1886.7,   3.2713,  34.8988,2,  34.8878,2,    288.6,2,    299.2,2,    11.38,2,    18.11,6,     1.10,2,    2.272,2,    1.421,2,    0.097,2,    3.754,2,   2155.9,2,   3.1253
  18HU19941012, AR13c,     9,  1, 150723,     23,2,19941016,1024, 40.7463, -50.2850, 3812,   2117.1,   3.4102,  34.9485,2,  34.9419,2,    281.5,3,    279.1,2,    13.73,2,    18.67,6,     1.12,2,    0.941,2,    0.522,2,    0.025,2,    1.957,2,   2158.1,2,   3.2404
  18HU19941012, AR13c,     9,  1, 150722,     22,2,19941016,1024, 40.7463, -50.2850, 3812,   2212.1,   3.4050,  34.9595,2,  34.9456,2,    282.0,2,    277.7,2,    14.49,2,    18.79,6,     1.12,2,    0.745,2,    0.385,2,    0.012,2,    1.694,2,   2159.5,2,   3.2261
  18HU19941012, AR13c,     9,  1, 150721,     21,2,19941016,1024, 40.7463, -50.2850, 3812,   2485.3,   3.2599,  34.9622,2,  34.9546,2,    281.2,2,    274.5,2,    16.89,2,    19.04,6,     1.15,2,    0.421,2,    0.222,2,    0.022,2,    1.203,2,   2163.5,2,   3.0566
  18HU19941012, AR13c,     9,  1, 150720,     20,2,19941016,1024, 40.7463, -50.2850, 3812,   2500.7,   3.2597,  34.9657,2,  34.9554,2,    281.2,2,    275.0,2,    16.83,2,    18.64,6,     1.21,2,    0.430,2,    0.252,2,    0.013,2,    1.210,2,   2159.6,2,   3.0548
  18HU19941012, AR13c,     9,  1, 150719,     19,2,19941016,1024, 40.7463, -50.2850, 3812,   2799.4,   2.9880,  34.9459,2,  34.9363,2,    285.0,2,    279.6,2,    15.94,2,    18.49,6,     1.12,2,    0.672,2,    0.396,2,    0.000,2,    1.538,2,   2160.0,2,   2.7583
  18HU19941012, AR13c,     9,  1, 150718,     18,2,19941016,1024, 40.7463, -50.2850, 3812,   3037.4,   2.7871,  34.9403,3,  34.9456,2,    286.8,3,    278.2,2,    17.00,2,    18.62,3,     1.11,2,    0.734,2,    0.383,2,    0.033,2,    1.555,2,   2160.2,2,   2.5370
  18HU19941012, AR13c,     9,  1, 150717,     17,2,19941016,1024, 40.7463, -50.2850, 3812,   3295.9,   2.5466,  34.9257,3,  34.9225,2,    289.2,3,    284.2,2,    17.70,2,    18.21,3,     1.13,2,    0.924,2,    0.490,2,    0.019,2,    1.897,2,   2161.6,2,   2.2748