BOTTLE,20140120PRINUNIVRMK
EXPOCODE,SECT_ID,STNNBR,CASTNO,SAMPNO,BTLNBR,BTLNBR_FLAG_W,DATE,TIME,LATITUDE,LONGITUDE,DEPTH,CTDPRS,CTDTMP,CTDSAL,CTDSAL_FLAG_W,SALNTY,SALNTY_FLAG_W,CTDOXY,CTDOXY_FLAG_W,OXYGEN,OXYGEN_FLAG_W,SILCAT,SILCAT_FLAG_W,NITRAT,NITRAT_FLAG_W,PHSPHT,PHSPHT_FLAG_W,CFC-11,CFC-11_FLAG_W,CFC-12,CFC-12_FLAG_W,CFC113,CFC113_FLAG_W,CCL4,CCL4_FLAG_W,TCARBN,TCARBN_FLAG_W,THETA
,,,,,,,,,,,METERS,DBAR,ITS-90,PSS-78,,PSS-78,,UMOL/KG,,UMOL/KG,,UMOL/KG,,UMOL/KG,,UMOL/KG,,PMOL/KG,,PMOL/KG,,PMOL/KG,,PMOL/KG,,UMOL/KG,,DEG C
  18HU19941012, AR13c,    37,  1, 151296,     96,2,19941024,0340, 42.6913, -47.2510, 4063,     12.9,  20.4833,  35.1895,2,  35.1947,2,    149.3,3,    228.7,2,  -999.00,9,  -999.00,5,  -999.00,9,    1.735,2,    0.970,2,    0.120,2,    2.221,2,   2004.2,2,  20.4809
  18HU19941012, AR13c,    37,  1, 151295,     95,2,19941024,0340, 42.6913, -47.2510, 4063,    102.4,  17.0236,  36.2231,2,  36.2242,2,    199.1,3,    188.1,2,     2.53,2,     6.71,6,     0.42,2,    1.655,2,    0.853,2,    0.050,2,    0.460,2,   2110.1,2,  17.0066
  18HU19941012, AR13c,    37,  1, 151294,     94,2,19941024,0340, 42.6913, -47.2510, 4063,    207.0,  13.8725,  35.7280,2,  35.7279,2,    187.5,3,    193.7,2,     4.50,2,    10.58,6,     0.68,2, -999.000,9, -999.000,9, -999.000,9, -999.000,9,   2124.1,2,  13.8426
  18HU19941012, AR13c,    37,  1, 151293,     93,2,19941024,0340, 42.6913, -47.2510, 4063,    409.8,   9.9580,  35.2415,2,  35.2507,2,    168.6,3,    164.4,2,    10.86,2,    19.23,6,     1.27,2,    1.037,2,    0.472,2,    0.029,2,    0.692,2,   2168.2,2,   9.9099
  18HU19941012, AR13c,    37,  1, 151292,     92,2,19941024,0340, 42.6913, -47.2510, 4063,    617.4,   6.2753,  35.0021,2,  35.0009,2,    217.2,3,    206.8,2,    12.47,2,    19.10,6,     1.31,2,    1.217,2,    0.548,2,    0.053,2,    1.370,2,   2172.9,2,   6.2191
  18HU19941012, AR13c,    37,  1, 151291,     91,2,19941024,0340, 42.6913, -47.2510, 4063,    806.7,   4.9869,  34.9756,2,  34.9857,2,    251.0,3,    242.2,2,    11.79,2,    17.67,6,     1.23,2,    1.616,2,    0.739,2,    0.070,2,    2.212,2,   2164.2,2,   4.9203
  18HU19941012, AR13c,    37,  1, 151290,     90,2,19941024,0340, 42.6913, -47.2510, 4063,   1018.3,   4.0802,  34.9264,2,  34.9354,2,    270.8,3,    272.1,2,    10.62,2,    16.57,6,     1.12,2,    2.134,2,    0.951,2,    0.088,2,    3.224,2,   2157.3,2,   4.0016
  18HU19941012, AR13c,    37,  1, 151289,     89,2,19941024,0340, 42.6913, -47.2510, 4063,   1314.6,   3.8920,  34.9424,2,  34.9508,2,    281.4,2,    277.7,2,    11.28,2,    16.49,6,     1.13,2,    1.370,2,    0.624,2,    0.039,2,    2.400,2,   2152.8,2,   3.7895
  18HU19941012, AR13c,    37,  1, 151288,     88,2,19941024,0340, 42.6913, -47.2510, 4063,   1514.7,   3.6669,  34.9254,2,  34.9317,2,    284.9,2,    280.8,2,    12.02,2,    16.57,6,     1.11,2,    1.332,2,    0.519,2,    0.046,2,    2.453,2,   2151.7,2,   3.5492
  18HU19941012, AR13c,    37,  1, 151287,     87,2,19941024,0340, 42.6913, -47.2510, 4063,   1719.5,   3.4532,  34.9056,2,  34.9162,2,    291.8,3,    284.8,2,    11.60,2,    16.49,6,     1.09,2,    1.484,2,    0.678,2,    0.060,2,    2.782,2,   2151.2,2,   3.3198
  18HU19941012, AR13c,    37,  1, 151286,     86,2,19941024,0340, 42.6913, -47.2510, 4063,   1915.8,   3.2471,  34.8841,2,  34.8929,2,    293.5,2,    292.0,2,    11.01,2,    16.17,6,     1.07,2,    1.891,2,    0.871,2,    0.068,2,    3.156,2,   2149.6,2,   3.0987
  18HU19941012, AR13c,    37,  1, 151285,     85,2,19941024,0340, 42.6913, -47.2510, 4063,   2200.7,   3.1627,  34.8870,2,  34.8937,2,    289.7,2,    292.8,2,    11.12,2,    15.90,6,     1.06,2,    1.788,2,    0.801,2,    0.067,2,    2.987,2,   2151.9,2,   2.9890
  18HU19941012, AR13c,    37,  1, 151284,     84,2,19941024,0340, 42.6913, -47.2510, 4063,   2493.7,   3.1506,  34.9086,2,  34.9243,2,    283.6,3,    283.3,2,    11.41,2,    16.04,6,     1.07,2,    1.486,2,    0.799,2,    0.060,2,    2.559,2,   2153.5,2,   2.9486
  18HU19941012, AR13c,    37,  1, 151283,     83,2,19941024,0340, 42.6913, -47.2510, 4063,   2671.9,   3.0764,  34.9197,2,  34.9294,2,    281.9,2,    283.6,2,    13.28,2,    15.82,6,     1.06,2,    1.094,2,    0.551,2,    0.031,2,    2.050,2,   2152.3,2,   2.8579
  18HU19941012, AR13c,    37,  1, 151282,     82,2,19941024,0340, 42.6913, -47.2510, 4063,   2920.3,   2.8612,  34.9171,2,  34.9243,2,    282.5,2,    285.2,2,    13.63,2,    15.79,6,     1.07,2,    1.050,2,    0.430,2,    0.021,2,    1.915,2,   2151.9,2,   2.6217
  18HU19941012, AR13c,    37,  1, 151281,     81,2,19941024,0340, 42.6913, -47.2510, 4063,   3166.6,   2.6384,  34.9107,2,  34.9182,2,    284.0,2,    284.3,2,    14.40,2,    15.75,6,     1.08,2,    1.205,2,    0.601,2,    0.043,2,    2.490,2,   2155.0,2,   2.3782
  18HU19941012, AR13c,    37,  1, 151280,     80,2,19941024,0340, 42.6913, -47.2510, 4063,   3445.2,   2.4435,  34.9039,2,  34.9101,2,    285.2,2,    286.1,2,    16.86,2,    15.66,6,     1.08,2,    1.021,2,    0.451,2,    0.041,2,    1.877,2,   2156.3,2,   2.1583
  18HU19941012, AR13c,    37,  1, 151279,     79,2,19941024,0340, 42.6913, -47.2510, 4063,   3657.3,   2.3201,  34.8985,2,  34.9081,2,    284.0,2,    285.1,2,    18.34,2,    15.90,6,     1.07,2,    1.062,2,    0.439,2,    0.035,2,    1.939,2,   2156.4,2,   2.0150
  18HU19941012, AR13c,    37,  1, 151278,     78,2,19941024,0340, 42.6913, -47.2510, 4063,   3914.2,   2.2569,  34.8942,2,  34.9025,2,    282.6,2,    284.2,2,    20.50,2,    16.20,6,     1.10,2,    0.936,2,    0.428,2,    0.027,2,    1.724,2,   -999.0,9,   1.9250
  18HU19941012, AR13c,    37,  1, 151277,     77,2,19941024,0340, 42.6913, -47.2510, 4063,   4035.9,   2.2149,  34.8916,2,  34.8992,2,    281.8,2,    286.3,2,    18.54,2,    15.66,6,     1.08,2,    1.148,2,    0.578,2,    0.051,2,    2.215,2,   2161.9,2,   1.8705
  18HU19941012, AR13c,    38,  1, 151316,     16,2,19941024,0821, 42.8383, -47.7900, 3712,     13.4,  20.4479,  35.1835,2,  35.1849,2,    192.1,3,    228.3,2,     0.92,2,     0.00,6,     0.10,2,    1.897,2,    1.052,2,    0.155,2,    2.355,2,   -999.0,9,  20.4454
  18HU19941012, AR13c,    38,  1, 151315,     15,2,19941024,0821, 42.8383, -47.7900, 3712,     49.5,  17.2935,  35.9393,2,  35.9382,2,    204.1,3,    200.3,2,     2.34,2,     4.89,6,     0.37,2,    2.035,2,    1.163,2,    0.124,2,    0.854,2,   -999.0,9,  17.2852
  18HU19941012, AR13c,    38,  1, 151314,     14,2,19941024,0821, 42.8383, -47.7900, 3712,    176.9,  13.5899,  35.7258,2,  35.7336,2,    177.7,2,    180.6,2,     5.76,2,    12.99,6,     0.82,2,    1.511,2,    0.829,2,    0.033,2,    0.692,2,   -999.0,9,  13.5647
  18HU19941012, AR13c,    38,  1, 151313,     13,2,19941024,0821, 42.8383, -47.7900, 3712,    287.9,   9.1729,  34.9719,2,  34.9964,2,    176.5,3,    195.3,2,     8.46,2,    14.68,6,     1.05,2,    2.096,3,    1.050,3,    0.116,3,    1.957,2,   -999.0,9,   9.1411
  18HU19941012, AR13c,    38,  1, 151312,     12,2,19941024,0821, 42.8383, -47.7900, 3712,    367.6,   9.5590,  35.2399,2,  35.2467,2,    171.8,2,    172.0,2,    11.11,2,    19.15,6,     1.28,2,    1.097,2,    0.570,2,    0.043,2,    0.830,2,   -999.0,9,   9.5170
  18HU19941012, AR13c,    38,  1, 151311,     11,2,19941024,0821, 42.8383, -47.7900, 3712,    549.2,   5.7395,  34.9085,2,  34.9248,2,    218.6,3,    211.0,2,    13.09,2,    19.46,6,     1.34,2,    1.500,2,    0.762,2,    0.072,2,    1.896,2,   -999.0,9,   5.6920
  18HU19941012, AR13c,    38,  1, 151310,     10,2,19941024,0821, 42.8383, -47.7900, 3712,    806.9,   4.7545,  34.9850,2,  34.9944,2,    254.8,2,    251.6,2,    11.52,2,    17.56,6,     1.18,2,    1.761,2,    0.897,2,    0.095,2,    2.539,2,   -999.0,9,   4.6893
  18HU19941012, AR13c,    38,  1, 151309,      9,2,19941024,0821, 42.8383, -47.7900, 3712,    999.8,   4.3904,  34.9854,2,  34.9927,2,    266.6,2,    259.6,2,    11.62,2,    17.32,6,     1.15,2,    1.496,2,    0.756,2,    0.052,2,    2.448,2,   -999.0,9,   4.3109
  18HU19941012, AR13c,    38,  1, 151308,      8,2,19941024,0821, 42.8383, -47.7900, 3712,   1096.5,   4.1840,  34.9699,2,  34.9752,2,    270.2,2,    257.5,2,    11.39,2,    16.61,6,     1.16,2,    1.407,2,    0.679,2,    0.037,2,    2.419,2,   -999.0,9,   4.0978
  18HU19941012, AR13c,    38,  1, 151307,      7,2,19941024,0821, 42.8383, -47.7900, 3712,   1242.6,   3.8374,  34.9309,2,  34.9365,2,    278.5,2,    277.4,2,    11.29,2,    16.55,6,     1.12,2,    1.734,2,    0.894,2,    0.089,2,    2.881,2,   -999.0,9,   3.7418
  18HU19941012, AR13c,    38,  1, 151306,      6,2,19941024,0821, 42.8383, -47.7900, 3712,   1598.3,   3.3283,  34.8767,2,  34.8834,2,    289.2,2,    279.7,2,    10.53,2,    15.77,6,     1.11,2,    2.506,2,    1.232,2,    0.128,2,    3.990,2,   -999.0,9,   3.2074
  18HU19941012, AR13c,    38,  1, 151305,      5,2,19941024,0821, 42.8383, -47.7900, 3712,   1857.2,   3.2983,  34.8897,2,  34.8962,2,    287.2,2,    290.1,2,    11.40,2,    16.04,6,     1.08,2,    1.971,2,    0.949,2,    0.096,2,    3.330,2,   -999.0,9,   3.1546
  18HU19941012, AR13c,    38,  1, 151304,      4,2,19941024,0821, 42.8383, -47.7900, 3712,   2005.8,   3.1338,  34.8683,2,  34.9001,2,    289.7,3,    285.2,2,    10.61,2,    15.78,6,     1.06,2,    2.411,2,    1.111,2,    0.122,2,    3.804,2,   -999.0,9,   2.9788
  18HU19941012, AR13c,    38,  1, 151303,      3,2,19941024,0821, 42.8383, -47.7900, 3712,   2361.5,   3.2859,  34.9318,2,  34.9393,2,    279.2,2,    279.5,2,    13.96,2,    16.33,6,     1.11,2,    0.811,2,    0.417,2,    0.014,2,    1.712,2,   -999.0,9,   3.0944
  18HU19941012, AR13c,    38,  1, 151302,      2,2,19941024,0821, 42.8383, -47.7900, 3712,   2510.6,   3.0783,  34.9106,2,  34.9163,2,    280.6,2,    286.3,2,    12.60,2,    15.76,6,     1.07,2,    1.405,2,    0.755,2,    0.051,2,    2.553,2,   -999.0,9,   2.8759
  18HU19941012, AR13c,    38,  1, 151301,      1,2,19941024,0821, 42.8383, -47.7900, 3712,   2664.6,   3.0211,  34.9187,2,  34.9271,2,    280.0,2,    281.2,2,    12.65,2,    15.88,6,     1.10,2,    1.398,2,    0.750,2,    0.041,2,    2.431,2,   -999.0,9,   2.8044
  18HU19941012, AR13c,    38,  1, 151300,      0,2,19941024,0821, 42.8383, -47.7900, 3712,   2987.5,   2.7870,  34.9135,2,  34.9187,2,    281.1,2,    286.6,2,    13.96,2,    15.64,6,     1.06,2,    1.218,2,    0.559,2,    0.053,2,    2.234,2,   -999.0,9,   2.5422
  18HU19941012, AR13c,    38,  1, 151299,     99,2,19941024,0821, 42.8383, -47.7900, 3712,   3194.6,   2.6144,  34.9090,2,  34.9150,2,    281.9,2,    286.6,2,    14.63,2,    15.40,6,     1.06,2,    1.197,2,    0.574,2,    0.041,2,    2.233,2,   -999.0,9,   2.3518
  18HU19941012, AR13c,    38,  1, 151298,     98,2,19941024,0821, 42.8383, -47.7900, 3712,   3503.5,   2.3434,  34.8991,2,  34.9044,2,    283.2,2,    287.0,2,    16.58,2,    15.24,6,     1.08,2,    1.253,2,    0.636,2,    0.042,2,    2.345,2,   -999.0,9,   2.0545
  18HU19941012, AR13c,    38,  1, 151297,     97,2,19941024,0821, 42.8383, -47.7900, 3712,   3705.4,   2.1672,  34.8914,2,  34.8979,2,    283.8,2,    289.0,2,    18.09,2,    15.35,6,     1.08,2,    1.348,2,    0.505,2,    0.079,2,    2.360,2,   -999.0,9,   1.8609
  18HU19941012, AR13c,    39,  1, 151336,     36,2,19941024,1311, 43.0008, -48.4160, 2942,     12.9,  14.9461,  32.4969,2,  32.4938,2,    176.6,3,    264.3,2,     0.79,2,     0.00,6,     0.24,2,    2.612,2,    1.488,2,    0.219,2,    4.030,2,   1969.8,2,  14.9442
  18HU19941012, AR13c,    39,  1, 151335,     35,2,19941024,1311, 43.0008, -48.4160, 2942,    103.4,   9.0675,  34.7488,2,  34.7405,2,    193.1,3,    230.1,2,     6.09,2,    11.06,6,     0.87,2,    2.975,2,    1.763,2,    0.198,2,    2.706,2,   2127.4,2,   9.0563
  18HU19941012, AR13c,    39,  1, 151334,     34,2,19941024,1311, 43.0008, -48.4160, 2942,    252.8,   8.6004,  35.0968,2,  35.1019,2,    174.0,3,    169.2,2,    12.72,2,    20.79,6,     1.36,2,    1.093,2,    0.558,2,    0.032,2,    0.897,2,   2176.3,2,   8.5735
  18HU19941012, AR13c,    39,  1, 151333,     33,2,19941024,1311, 43.0008, -48.4160, 2942,    352.9,   5.8688,  34.8453,2,  34.8460,2,    214.2,3,    203.8,2,    13.43,2,    20.13,6,     1.36,2,    1.578,2,    0.882,2,    0.078,2,    2.062,2,   2172.2,2,   5.8385
  18HU19941012, AR13c,    39,  1, 151332,     32,2,19941024,1311, 43.0008, -48.4160, 2942,    449.8,   6.1894,  35.0649,2,  35.0695,2,    218.9,3,    213.0,2,    12.73,2,    19.73,6,     1.29,2,    1.129,2,    0.505,2,    0.042,2,    1.465,2,   2173.2,2,   6.1492
  18HU19941012, AR13c,    39,  1, 151331,     31,2,19941024,1311, 43.0008, -48.4160, 2942,    606.1,   5.0081,  34.9969,2,  35.0024,2,    248.8,2,    243.6,2,    12.27,2,    18.55,6,     1.19,2,    1.616,2,    1.015,2,    0.076,2,    2.392,2,   2166.6,2,   4.9588
  18HU19941012, AR13c,    39,  1, 151330,     30,2,19941024,1311, 43.0008, -48.4160, 2942,    801.1,   4.4307,  34.9737,2,  34.9794,2,    264.8,2,    264.6,2,    11.60,2,    17.43,6,     1.15,2,    1.799,2,    0.867,2,    0.094,2,    2.839,2,   2160.3,2,   4.3680
  18HU19941012, AR13c,    39,  1, 151329,     29,2,19941024,1311, 43.0008, -48.4160, 2942,   1001.2,   4.1367,  34.9628,2,  34.9689,2,    273.2,2,    269.0,2,    11.53,2,    17.17,6,     1.14,2,    1.501,2,    0.699,2,    0.060,2,    2.772,2,   2156.3,2,   4.0591
  18HU19941012, AR13c,    39,  1, 151328,     28,2,19941024,1311, 43.0008, -48.4160, 2942,   1202.9,   3.8196,  34.9350,2,  34.9398,2,    281.2,2,    278.9,2,    11.62,2,    17.23,6,     1.12,2,    1.525,2,    0.684,2,    0.048,2,    2.878,2,   2155.4,2,   3.7275
  18HU19941012, AR13c,    39,  1, 151327,     27,2,19941024,1311, 43.0008, -48.4160, 2942,   1405.4,   3.5530,  34.9117,2,  34.9111,2,    285.1,3,    283.5,2,    11.63,2,    17.03,6,     1.12,2,    1.584,2,    0.929,2,    0.053,2,    2.935,2,   2152.4,2,   3.4462
  18HU19941012, AR13c,    39,  1, 151326,     26,2,19941024,1311, 43.0008, -48.4160, 2942,   1606.4,   3.3937,  34.8999,2,  34.9053,2,    287.1,2,    287.4,2,    11.67,2,    16.49,6,     1.09,2,    1.677,2,    0.823,2,    0.063,2,    3.050,2,   2151.9,2,   3.2712
  18HU19941012, AR13c,    39,  1, 151325,     25,2,19941024,1311, 43.0008, -48.4160, 2942,   1806.2,   3.3309,  34.9036,2,  34.9091,2,    288.5,2,    286.9,2,    12.05,2,    16.52,6,     1.10,2,    1.531,2,    0.788,2,    0.064,2,    2.883,2,   2152.1,2,   3.1913
  18HU19941012, AR13c,    39,  1, 151324,     24,2,19941024,1311, 43.0008, -48.4160, 2942,   2009.9,   3.2412,  34.9020,2,  34.9104,2,    287.6,2,    286.4,2,    12.17,2,    16.41,6,     1.11,2,    1.545,2,    0.905,2,    0.053,2,    2.750,2,   2151.9,2,   3.0842
  18HU19941012, AR13c,    39,  1, 151323,     23,2,19941024,1311, 43.0008, -48.4160, 2942,   2126.4,   3.2166,  34.9095,2,  34.9147,2,    282.3,2,    285.6,2,    12.78,2,    16.58,6,     1.08,2,    1.324,2,    0.626,2,    0.040,2,    2.546,2,   2150.5,2,   3.0490
  18HU19941012, AR13c,    39,  1, 151322,     22,2,19941024,1311, 43.0008, -48.4160, 2942,   2174.3,   3.1618,  34.9022,2,  34.9066,2,    283.3,2,    288.9,2,    12.24,2,    16.28,6,     1.08,2,    1.573,2,    0.876,2,    0.077,2,    2.962,2,   2150.8,2,   2.9906
  18HU19941012, AR13c,    39,  1, 151321,     21,2,19941024,1311, 43.0008, -48.4160, 2942,   2345.5,   3.1259,  34.9162,2,  34.9208,2,    283.4,2,    283.3,2,    13.14,2,    16.25,6,     1.09,2,    1.173,2,    0.629,2,    0.023,2,    2.240,2,   2151.2,2,   2.9388
  18HU19941012, AR13c,    39,  1, 151320,     20,2,19941024,1311, 43.0008, -48.4160, 2942,   2526.6,   3.0132,  34.9166,2,  34.9218,2,    283.1,2,    283.8,2,    13.46,2,    16.12,6,     1.08,2,    1.168,2,    0.515,2,    0.029,2,    2.284,2,   2151.8,2,   2.8104
  18HU19941012, AR13c,    39,  1, 151319,     19,2,19941024,1311, 43.0008, -48.4160, 2942,   2764.2,   2.8003,  34.9138,2,  34.9149,2,    283.9,3,    285.2,2,    14.27,2,    15.99,6,     1.05,2,    1.220,2,    0.566,2,    0.052,2,    2.551,2,   2151.5,2,   2.5780
  18HU19941012, AR13c,    39,  1, 151318,     18,2,19941024,1311, 43.0008, -48.4160, 2942,   2833.7,   2.7250,  34.9131,2,  34.9172,2,    284.2,2,    286.2,2,    14.53,2,    15.82,6,     1.06,2,    1.174,2,    0.727,2,    0.032,2,    2.237,2,   2152.9,2,   2.4972
  18HU19941012, AR13c,    39,  1, 151317,     17,2,19941024,1311, 43.0008, -48.4160, 2942,   2935.0,   2.3604,  34.9016,2,  34.9028,2,    289.2,3,    286.8,2,    15.73,2,    15.33,6,     1.04,2,    1.319,2,    0.590,2,    0.049,2,    2.529,2,   2153.8,2,   2.1301