BOTTLE,20140120PRINUNIVRMK
EXPOCODE,SECT_ID,STNNBR,CASTNO,SAMPNO,BTLNBR,BTLNBR_FLAG_W,DATE,TIME,LATITUDE,LONGITUDE,DEPTH,CTDPRS,CTDTMP,CTDSAL,CTDSAL_FLAG_W,SALNTY,SALNTY_FLAG_W,CTDOXY,CTDOXY_FLAG_W,OXYGEN,OXYGEN_FLAG_W,SILCAT,SILCAT_FLAG_W,NITRAT,NITRAT_FLAG_W,PHSPHT,PHSPHT_FLAG_W,CFC-11,CFC-11_FLAG_W,CFC-12,CFC-12_FLAG_W,CFC113,CFC113_FLAG_W,CCL4,CCL4_FLAG_W,TCARBN,TCARBN_FLAG_W,THETA
,,,,,,,,,,,METERS,DBAR,ITS-90,PSS-78,,PSS-78,,UMOL/KG,,UMOL/KG,,UMOL/KG,,UMOL/KG,,UMOL/KG,,PMOL/KG,,PMOL/KG,,PMOL/KG,,PMOL/KG,,UMOL/KG,,DEG C
  18HU19941012, AR13c,    71,  1, 151732,     32,2,19941030,1255, 43.3705, -41.4440, 4888,     12.7,  20.8377,  35.7822,2,  35.7889,2,    218.0,3,    224.2,2,     1.09,2,     0.00,6,     0.05,2,    1.887,2,    1.124,2,    0.141,2,    2.360,2,   2029.6,2,  20.8353
  18HU19941012, AR13c,    71,  1, 151731,     31,2,19941030,1255, 43.3705, -41.4440, 4888,     13.0,  20.8392,  35.7830,2,  35.7891,2,    218.0,3,    227.2,2,     1.03,2,     0.14,6,     0.06,2,    1.895,2,    1.121,2,    0.179,2,    2.275,2,   2027.2,2,  20.8367
  18HU19941012, AR13c,    71,  1, 151730,     30,2,19941030,1255, 43.3705, -41.4440, 4888,    381.8,  13.5604,  35.7850,2,  35.7905,2,    196.0,2,    200.1,2,     5.00,2,    12.11,6,     0.72,2,    1.864,2,    1.070,2,    0.101,2,    0.907,2,   2131.7,2,  13.5056
  18HU19941012, AR13c,    71,  1, 151729,     29,2,19941030,1255, 43.3705, -41.4440, 4888,    497.5,  11.7800,  35.5167,2,  35.5232,2,    186.9,2,    180.8,2,     7.87,2,    16.96,6,     1.00,2,    1.456,2,    0.846,2,    0.060,2,    0.731,2,   2152.7,2,  11.7147
  18HU19941012, AR13c,    71,  1, 151728,     28,2,19941030,1255, 43.3705, -41.4440, 4888,    635.8,   9.0610,  35.1599,2,  35.1682,2,    162.6,3,    159.2,2,    13.49,2,    23.09,6,     1.38,2,    0.804,2,    0.479,2,    0.040,2,    0.708,2,   2180.7,2,   8.9897
  18HU19941012, AR13c,    71,  1, 151727,     27,2,19941030,1255, 43.3705, -41.4440, 4888,    870.0,   6.2544,  35.0608,2,  35.0727,2,    213.0,3,    214.3,2,    12.43,2,    19.91,6,     1.24,2,    1.281,2,    0.676,2,    0.057,2,    1.587,2,   2174.8,2,   6.1737
  18HU19941012, AR13c,    71,  1, 151726,     26,2,19941030,1255, 43.3705, -41.4440, 4888,    978.6,   5.6276,  35.0416,2,  35.0593,2,    228.0,3,    230.2,2,    11.96,2,    19.41,6,     1.24,2,    1.450,2,    0.780,2,    0.077,2,    1.922,2,   2170.8,2,   5.5407
  18HU19941012, AR13c,    71,  1, 151725,     25,2,19941030,1255, 43.3705, -41.4440, 4888,   1248.9,   4.5808,  34.9889,2,  34.9997,2,    256.4,3,    259.1,2,    11.72,2,    18.63,6,     1.16,2,    1.675,2,    0.917,2,    0.091,2,    2.623,2,   2162.4,2,   4.4775
  18HU19941012, AR13c,    71,  1, 151724,     24,2,19941030,1255, 43.3705, -41.4440, 4888,   1485.9,   4.0995,  34.9498,2,  34.9568,2,    268.8,2,    271.0,2,    11.23,2,    17.92,6,     1.14,2,    1.715,2,    0.895,2,    0.084,2,    2.925,2,   2157.8,2,   3.9795
  18HU19941012, AR13c,    71,  1, 151723,     23,2,19941030,1255, 43.3705, -41.4440, 4888,   1740.1,   3.7375,  34.9186,2,  34.9347,2,    278.7,3,    280.7,2,    11.31,2,    17.46,6,     1.13,2,    1.737,2,    0.845,2,    0.116,2,    3.023,2,   2155.0,2,   3.5985
  18HU19941012, AR13c,    71,  1, 151722,     22,2,19941030,1255, 43.3705, -41.4440, 4888,   2298.2,   3.3073,  34.8859,2,  34.8859,2,   -999.0,9,    291.1,2,  -999.00,9,  -999.00,5,  -999.00,9,    2.005,2,    1.013,2,    0.159,2,    3.430,2,   2152.3,2,   3.1219
  18HU19941012, AR13c,    71,  1, 151721,     21,2,19941030,1255, 43.3705, -41.4440, 4888,   2592.9,   3.3097,  34.9088,2,  34.9088,2,   -999.0,9,    287.8,2,    12.54,2,    17.21,6,     1.11,2,    1.382,2,    0.738,2,    0.047,2,    2.649,2,   2157.1,2,   3.0948
  18HU19941012, AR13c,    71,  1, 151720,     20,2,19941030,1255, 43.3705, -41.4440, 4888,   2803.6,   3.3210,  34.9352,2,  34.9611,2,    279.3,3,    279.2,2,    13.51,2,    17.09,6,     1.12,2,    0.923,2,    0.657,2,    0.022,2,    1.951,2,   2158.3,2,   3.0840
  18HU19941012, AR13c,    71,  1, 151719,     19,2,19941030,1255, 43.3705, -41.4440, 4888,   3088.5,   3.1137,  34.9286,2,  34.9363,2,    280.5,2,    280.2,2,    14.96,2,    17.12,6,     1.13,2,    0.677,2,    0.404,2,    0.032,2,    1.608,2,   2158.8,2,   2.8510
  18HU19941012, AR13c,    71,  1, 151718,     18,2,19941030,1255, 43.3705, -41.4440, 4888,   3398.3,   2.8717,  34.9219,2,  34.9296,2,    281.2,2,    281.0,2,    16.47,2,    16.67,6,     1.13,2,    0.654,2,    0.400,2,    0.116,2,    1.518,2,   2158.3,2,   2.5811
  18HU19941012, AR13c,    71,  1, 151717,     17,2,19941030,1255, 43.3705, -41.4440, 4888,   3720.1,   2.6523,  34.9128,2,  34.9128,2,   -999.0,9,   -999.0,9,    18.66,2,    17.15,6,     1.19,2,    0.653,2,    0.410,2,    0.024,2,    1.540,2,   2162.0,2,   2.3316
  18HU19941012, AR13c,    71,  1, 151716,     16,2,19941030,1255, 43.3705, -41.4440, 4888,   4034.7,   2.4913,  34.9039,2,  34.9135,2,    281.9,2,    282.5,2,    20.51,2,    17.40,6,     1.20,2,    0.688,2,    0.462,2,    0.032,2,    1.598,2,   2165.5,2,   2.1391
  18HU19941012, AR13c,    71,  1, 151715,     15,2,19941030,1255, 43.3705, -41.4440, 4888,   4332.1,   2.4246,  34.8992,2,  34.9125,2,    282.7,3,    283.0,2,    20.30,2,    17.19,6,     1.19,2,    0.844,2,    0.538,2,    0.034,2,    1.842,2,   2165.2,2,   2.0396
  18HU19941012, AR13c,    71,  1, 151714,     14,2,19941030,1255, 43.3705, -41.4440, 4888,   4649.9,   2.3379,  34.8931,2,  34.9009,2,    283.5,2,    283.9,2,    21.24,2,    17.09,6,     1.17,2,    0.967,2,    0.557,2,    0.042,2,    1.920,2,   2165.4,2,   1.9173
  18HU19941012, AR13c,    71,  1, 151713,     13,2,19941030,1255, 43.3705, -41.4440, 4888,   4883.0,   2.3035,  34.8898,2,  34.8999,2,    284.0,2,    281.1,2,    20.99,2,    16.78,6,     1.15,2,    1.161,2,    0.605,2,    0.038,2,    2.139,2,   2166.0,2,   1.8552
  18HU19941012, AR13c,    73,  1, 151752,     52,2,19941030,1950, 43.7868, -41.7980, 4848,     12.9,  19.4810,  35.6384,2,  35.6457,2,    233.4,3,    231.9,2,     0.87,2,     0.00,6,     0.02,2,    1.861,2,    1.130,2,    0.099,2,    2.594,2,   -999.0,9,  19.4787
  18HU19941012, AR13c,    73,  1, 151751,     51,2,19941030,1950, 43.7868, -41.7980, 4848,     72.5,  18.5709,  36.3392,2,  36.3479,2,    204.4,3,    224.3,2,     0.73,2,     1.42,6,     0.13,2,    1.952,2,    1.128,2,    0.135,2,    1.137,2,   -999.0,9,  18.5581
  18HU19941012, AR13c,    73,  1, 151750,     50,2,19941030,1950, 43.7868, -41.7980, 4848,    250.9,  15.4964,  36.0970,2,  36.1071,2,    208.3,2,    219.0,2,     2.54,2,     7.10,6,     0.44,2,    1.966,2,    1.148,2,    0.057,2,    1.067,2,   -999.0,9,  15.4571
  18HU19941012, AR13c,    73,  1, 151749,     49,2,19941030,1950, 43.7868, -41.7980, 4848,    419.4,  13.1340,  35.7109,2,  35.7150,2,    203.6,2,    191.0,2,     5.73,2,    13.65,6,     0.83,2,    1.591,2,    1.014,2,    0.032,2,    1.058,2,   -999.0,9,  13.0750
  18HU19941012, AR13c,    73,  1, 151748,     48,2,19941030,1950, 43.7868, -41.7980, 4848,    613.8,   9.2925,  35.1433,2,  35.1493,2,    176.9,3,    170.7,2,    11.51,2,    21.06,6,     1.32,2,    1.195,2,    0.750,2,    0.065,2,    1.049,2,   -999.0,9,   9.2228
  18HU19941012, AR13c,    73,  1, 151747,     47,2,19941030,1950, 43.7868, -41.7980, 4848,    758.7,   7.5105,  35.0959,2,  35.1042,2,    190.4,2,    190.9,2,    12.46,2,    21.43,6,     1.32,2,    1.035,2,    0.595,2,    0.038,2,    1.183,2,   -999.0,9,   7.4336
  18HU19941012, AR13c,    73,  1, 151746,     46,2,19941030,1950, 43.7868, -41.7980, 4848,    874.1,   6.6278,  35.1345,2,  35.0352,2,    210.4,3,    210.7,2,    12.42,2,    19.99,6,     1.26,2,    1.027,2,    0.740,2,    0.025,2,    1.280,2,   -999.0,9,   6.5443
  18HU19941012, AR13c,    73,  1, 151745,     45,2,19941030,1950, 43.7868, -41.7980, 4848,   1002.8,   5.2787,  35.0225,2,  35.0287,2,    238.8,3,    241.1,2,    11.83,2,    18.94,6,     1.22,2,    1.515,2,    0.821,2,    0.055,2,    2.258,2,   -999.0,9,   5.1922
  18HU19941012, AR13c,    73,  1, 151744,     44,2,19941030,1950, 43.7868, -41.7980, 4848,   1559.0,   3.7911,  34.9192,2,  34.9281,2,    279.8,2,    280.6,2,    11.31,2,    17.63,6,     1.13,2,    1.835,2,    1.007,2,    0.073,2,    3.299,2,   -999.0,9,   3.6680
  18HU19941012, AR13c,    73,  1, 151743,     43,2,19941030,1950, 43.7868, -41.7980, 4848,   1886.4,   3.4224,  34.8904,2,  34.8984,2,    288.8,2,    289.4,2,    11.14,2,    17.44,6,     1.10,2,    1.930,2,    1.184,2,    0.076,2,    3.536,2,   -999.0,9,   3.2742
  18HU19941012, AR13c,    73,  1, 151742,     42,2,19941030,1950, 43.7868, -41.7980, 4848,   2150.9,   3.3421,  34.8953,2,  34.9022,2,    289.2,2,    289.7,2,    11.77,2,    17.26,6,     1.11,2,    1.692,2,    0.979,2,    0.069,2,    3.263,2,   -999.0,9,   3.1703
  18HU19941012, AR13c,    73,  1, 151741,     41,2,19941030,1950, 43.7868, -41.7980, 4848,   2497.6,   3.2703,  34.9150,2,  34.9217,2,    287.3,2,    284.9,2,    13.25,2,    17.60,6,     1.11,2,    1.197,2,    0.661,2, -999.000,9,    2.334,2,   -999.0,9,   3.0657
  18HU19941012, AR13c,    73,  1, 151740,     40,2,19941030,1950, 43.7868, -41.7980, 4848,   2791.1,   3.1086,  34.9246,2,  34.9353,2,    283.9,3,    283.3,2,    14.51,2,    17.22,6,     1.13,2,    0.926,2,    0.694,2,    0.016,2,    1.959,2,   -999.0,9,   2.8773
  18HU19941012, AR13c,    73,  1, 151739,     39,2,19941030,1950, 43.7868, -41.7980, 4848,   3037.2,   2.9367,  34.9223,2,  34.9358,2,    284.3,3,    283.1,2,    15.68,2,    16.84,6,     1.11,2,    0.787,2,    0.453,2,    0.016,2,    1.762,2,   -999.0,9,   2.6834
  18HU19941012, AR13c,    73,  1, 151738,     38,2,19941030,1950, 43.7868, -41.7980, 4848,   3476.1,   2.6260,  34.9125,2,  34.9201,2,    284.0,2,    283.6,2,    18.92,2,    17.30,6,     1.13,2,    0.699,2,    0.577,2,    0.020,2,    1.593,2,   -999.0,9,   2.3330
  18HU19941012, AR13c,    73,  1, 151737,     37,2,19941030,1950, 43.7868, -41.7980, 4848,   3692.4,   2.5062,  34.9064,2,  34.9248,2,    283.5,3,    279.8,2,    16.26,3,    17.66,6,     1.13,2,    1.197,3,    0.960,3,    0.033,2,    2.299,2,   -999.0,9,   2.1924
  18HU19941012, AR13c,    73,  1, 151736,     36,2,19941030,1950, 43.7868, -41.7980, 4848,   3939.6,   2.4380,  34.9024,2,  34.9097,2,    283.0,2,    280.8,2,    22.62,2,    18.08,6,     1.15,2,    0.564,2,    0.294,2,    0.015,2,    1.384,2,   -999.0,9,   2.0983
  18HU19941012, AR13c,    73,  1, 151735,     35,2,19941030,1950, 43.7868, -41.7980, 4848,   4231.1,   2.3654,  34.8966,2,  34.9094,2,    284.7,3,    282.4,2,    21.52,2,    17.33,6,     1.13,2,    0.000,3,    0.000,3,    0.000,2,    0.000,4,   -999.0,9,   1.9940
  18HU19941012, AR13c,    73,  1, 151734,     34,2,19941030,1950, 43.7868, -41.7980, 4848,   4695.1,   2.3068,  34.8893,2,  34.8953,2,    283.1,2,    281.8,2,    24.73,2,    18.10,6,     1.16,2,    0.779,2,    0.637,2,    0.015,2,    1.703,2,   -999.0,9,   1.8817
  18HU19941012, AR13c,    73,  1, 151733,     33,2,19941030,1950, 43.7868, -41.7980, 4848,   4843.1,   2.3033,  34.8883,2,  34.8991,2,    282.8,2,    281.8,2,    24.83,2,    18.00,6,     1.13,2,    0.875,2,    0.467,2,    0.029,2,    1.760,2,   -999.0,9,   1.8600
  18HU19941012, AR13c,    74,  1, 151772,     72,2,19941031,0215, 44.2103, -42.1520, 4841,     17.6,  19.8217,  35.6251,2,  35.6251,2,   -999.0,9,    230.4,2,     0.65,2,     0.00,6,     0.04,2,    1.959,2,    1.192,2,    0.146,2,    2.594,2,   2028.7,2,  19.8185
  18HU19941012, AR13c,    74,  1, 151771,     71,2,19941031,0215, 44.2103, -42.1520, 4841,    196.1,  16.0525,  36.1604,2,  36.1749,2,    193.5,3,    195.9,2,     2.97,2,     8.22,6,     0.51,2,    1.815,2,    0.978,2,    0.048,2,    0.646,2,   2112.7,2,  16.0211
  18HU19941012, AR13c,    74,  1, 151770,     70,2,19941031,0215, 44.2103, -42.1520, 4841,    502.9,  11.6690,  35.4985,2,  35.4995,2,    213.2,3,    197.1,2,     7.08,2,    15.39,6,     0.98,2,    1.769,2,    0.946,2,    0.066,2,    0.968,2,   2144.2,2,  11.6034
  18HU19941012, AR13c,    74,  1, 151769,     69,2,19941031,0215, 44.2103, -42.1520, 4841,    739.1,   7.3296,  34.9891,2,  34.9943,2,    191.2,3,    185.2,2,    12.89,2,    21.35,6,     1.40,2,    1.247,2,    0.573,2,    0.046,2,    1.300,2,   2174.5,2,   7.2558
  18HU19941012, AR13c,    74,  1, 151768,     68,2,19941031,0215, 44.2103, -42.1520, 4841,    886.4,   6.2262,  35.0621,2,  35.0705,2,    215.7,2,    216.7,2,    11.75,2,    19.76,6,     1.28,2,    1.263,2,    0.646,2,    0.041,2,    1.515,2,   2171.6,2,   6.1441
  18HU19941012, AR13c,    74,  1, 151767,     67,2,19941031,0215, 44.2103, -42.1520, 4841,   1066.3,   5.2960,  35.0622,2,  35.0697,2,    241.8,2,    242.8,2,    11.52,2,    18.64,6,     1.20,2,    1.350,2,    0.637,2,    0.049,2,    1.956,2,   2164.7,2,   5.2033
  18HU19941012, AR13c,    74,  1, 151766,     66,2,19941031,0215, 44.2103, -42.1520, 4841,   1205.5,   4.5643,  34.9907,2,  34.9972,2,    259.9,2,    262.1,2,    11.36,2,    18.09,6,     1.20,2,    1.646,2,    0.857,2,    0.070,2,    2.517,2,   2166.5,2,   4.4651
  18HU19941012, AR13c,    74,  1, 151765,     65,2,19941031,0215, 44.2103, -42.1520, 4841,   1398.2,   4.2039,  34.9678,2,  34.9754,2,    269.8,2,    269.1,2,    11.18,2,    17.76,6,     1.17,2,    1.455,2,    0.695,2,    0.045,2,    2.538,2,   2159.1,2,   4.0907
  18HU19941012, AR13c,    74,  1, 151764,     64,2,19941031,0215, 44.2103, -42.1520, 4841,   1656.6,   3.7835,  34.9275,2,  34.9337,2,    279.8,2,    280.1,2,    10.95,2,    17.55,6,     1.16,2,    1.554,2,    0.808,2,    0.096,2,    2.775,2,   2156.1,2,   3.6516
  18HU19941012, AR13c,    74,  1, 151763,     63,2,19941031,0215, 44.2103, -42.1520, 4841,   1949.7,   3.5262,  34.9110,2,  34.9200,2,    285.4,2,    285.2,2,    11.50,2,    17.46,6,     1.15,2,    1.486,2,    0.743,2,    0.046,2,    2.788,2,   2153.7,2,   3.3706
  18HU19941012, AR13c,    74,  1, 151762,     62,2,19941031,0215, 44.2103, -42.1520, 4841,   2280.2,   3.4240,  34.9226,2,  34.9330,2,    283.3,3,    283.5,2,    13.21,2,    17.57,6,     1.16,2,    1.077,2,    0.587,2,    0.032,2,    2.190,2,   2157.4,2,   3.2382
  18HU19941012, AR13c,    74,  1, 151761,     61,2,19941031,0215, 44.2103, -42.1520, 4841,   2595.4,   3.2650,  34.9294,2,  34.9373,2,    283.0,2,    280.3,2,    14.31,2,    17.39,6,     1.16,2,    0.795,2,    0.440,2,    0.051,2,    1.792,2,   2158.9,2,   3.0506
  18HU19941012, AR13c,    74,  1, 151760,     60,2,19941031,0215, 44.2103, -42.1520, 4841,   2871.1,   3.1006,  34.9302,2,  34.9712,2,    280.7,3,    274.5,2,    14.90,2,    17.30,6,     1.14,2,    0.756,2,    0.443,2,    0.032,2,    1.517,2,   2160.9,2,   2.8610
  18HU19941012, AR13c,    74,  1, 151759,     59,2,19941031,0215, 44.2103, -42.1520, 4841,   3197.2,   2.8733,  34.9253,2,  34.9389,2,    282.9,3,    278.3,2,    17.99,2,    17.42,6,     1.16,2,    0.510,2,    0.309,2,    0.018,2,    1.166,2,   2163.9,2,   2.6044
  18HU19941012, AR13c,    74,  1, 151758,     58,2,19941031,0215, 44.2103, -42.1520, 4841,   3501.9,   2.6515,  34.9137,2,  34.9212,2,    283.9,2,    281.0,2,    18.09,2,    17.10,6,     1.16,2,    0.630,2,    0.362,2,    0.019,2,    1.593,2,   2164.8,2,   2.3550
  18HU19941012, AR13c,    74,  1, 151757,     57,2,19941031,0215, 44.2103, -42.1520, 4841,   3767.5,   2.5210,  34.9066,2,  35.0243,0,    284.5,3,   -999.0,9,    12.01,3,    18.57,6,     1.21,2,    1.344,3,    0.669,2,    0.077,2,    1.850,2,   2169.0,2,   2.1985
  18HU19941012, AR13c,    74,  1, 151756,     56,2,19941031,0215, 44.2103, -42.1520, 4841,   4075.8,   2.4046,  34.8994,2,  34.9067,2,    286.0,2,    282.8,2,    21.31,2,    17.50,6,     1.16,2,    0.765,2,    0.383,2,    0.026,2,    1.598,2,   2167.0,2,   2.0502
  18HU19941012, AR13c,    74,  1, 151755,     55,2,19941031,0215, 44.2103, -42.1520, 4841,   4348.8,   2.2766,  34.8907,2,  34.9146,2,    286.4,3,    280.7,2,    22.17,2,    17.60,6,     1.16,2,    0.862,2,    0.472,2,    0.033,2,    1.692,2,   2170.4,2,   1.8940
  18HU19941012, AR13c,    74,  1, 151754,     54,2,19941031,0215, 44.2103, -42.1520, 4841,   4690.2,   2.2795,  34.8879,2,  34.9045,2,    283.6,3,    281.3,2,    23.21,2,    17.52,6,     1.16,2,    0.911,2,    0.470,2,    0.037,2,    1.783,2,   2169.0,2,   1.8558
  18HU19941012, AR13c,    74,  1, 151753,     53,2,19941031,0215, 44.2103, -42.1520, 4841,   4837.0,   2.2939,  34.8871,2,  34.8999,2,    283.0,3,    278.0,2,    23.44,2,    17.19,6,     1.15,2,    0.866,2,    0.440,2,    0.023,2,    1.647,2,   2164.6,2,   1.8517