BOTTLE,20140120PRINUNIVRMK
EXPOCODE,SECT_ID,STNNBR,CASTNO,SAMPNO,BTLNBR,BTLNBR_FLAG_W,DATE,TIME,LATITUDE,LONGITUDE,DEPTH,CTDPRS,CTDTMP,CTDSAL,CTDSAL_FLAG_W,SALNTY,SALNTY_FLAG_W,CTDOXY,CTDOXY_FLAG_W,OXYGEN,OXYGEN_FLAG_W,SILCAT,SILCAT_FLAG_W,NITRAT,NITRAT_FLAG_W,PHSPHT,PHSPHT_FLAG_W,CFC-11,CFC-11_FLAG_W,CFC-12,CFC-12_FLAG_W,CFC113,CFC113_FLAG_W,CCL4,CCL4_FLAG_W,TCARBN,TCARBN_FLAG_W,THETA
,,,,,,,,,,,METERS,DBAR,ITS-90,PSS-78,,PSS-78,,UMOL/KG,,UMOL/KG,,UMOL/KG,,UMOL/KG,,UMOL/KG,,PMOL/KG,,PMOL/KG,,PMOL/KG,,PMOL/KG,,UMOL/KG,,DEG C
  18HU19941012, AR13c,    22,  1, 150996,     96,2,19941020,1059, 38.1660, -44.6310, 5266,     13.3,  22.9447,  36.2677,2,  36.2746,2,     72.2,3,    217.3,2,  -999.00,9,     0.00,6,  -999.00,9,    1.505,2,    0.936,2,    0.123,2,    2.235,2,   2024.9,2,  22.9420
  18HU19941012, AR13c,    22,  1, 150995,     95,2,19941020,1059, 38.1660, -44.6310, 5266,    266.8,  18.3807,  36.5539,2,  36.5586,2,    212.1,2,    215.1,2,     1.84,2,     2.91,6,     0.23,2,    1.837,2,    1.132,2,    0.080,2,    0.944,2,   2084.8,2,  18.3337
  18HU19941012, AR13c,    22,  1, 150994,     94,2,19941020,1059, 38.1660, -44.6310, 5266,    620.7,  14.3642,  35.8806,2,  35.8844,2,    197.9,2,    202.3,2,     4.83,2,    10.48,6,     0.72,2,    1.653,2,    0.929,2,    0.079,2,    0.845,2,   2122.9,2,  14.2710
  18HU19941012, AR13c,    22,  1, 150993,     93,2,19941020,1059, 38.1660, -44.6310, 5266,    985.4,   7.6403,  35.0862,2,-999.0000,9,    191.7,3,    213.8,2,  -999.00,9,     3.07,4,  -999.00,9,    1.805,2,    1.062,2,    0.090,2,    0.876,2,   -999.0,9,   7.5380
  18HU19941012, AR13c,    22,  1, 150992,     92,2,19941020,1059, 38.1660, -44.6310, 5266,   1090.5,   6.5225,  35.0819,2,  35.0891,2,    212.4,2,    208.2,2,    12.69,2,    20.50,6,     1.38,2,    1.108,2,    0.593,2,    0.038,2,    2.087,2,   2176.4,2,   6.4175
  18HU19941012, AR13c,    22,  1, 150991,     91,2,19941020,1059, 38.1660, -44.6310, 5266,   1200.2,   5.9249,  35.1080,2,  35.1133,2,    226.5,2,    225.4,2,    12.55,2,    19.62,6,     1.34,2,    0.926,2,    0.532,2,    0.037,2,    1.375,2,   2173.0,2,   5.8137
  18HU19941012, AR13c,    22,  1, 150990,     90,2,19941020,1059, 38.1660, -44.6310, 5266,   1304.5,   5.6887,  35.1425,2,  35.1379,2,    233.9,3,    234.2,2,    12.11,2,    18.86,6,     1.30,2,    0.938,2,    0.481,2,    0.031,2,    1.633,2,   2170.6,2,   5.5691
  18HU19941012, AR13c,    22,  1, 150989,     89,2,19941020,1059, 38.1660, -44.6310, 5266,   1635.8,   4.4226,  35.0120,2,  35.0231,2,    260.9,3,    261.9,2,    12.04,2,    18.07,6,     1.25,2,    0.995,2,    0.211,2, -999.000,9,    2.194,2,   -999.0,9,   4.2846
  18HU19941012, AR13c,    22,  1, 150988,     88,2,19941020,1059, 38.1660, -44.6310, 5266,   1994.6,   3.8544,  34.9591,2,  34.9653,2,    271.6,2,    274.2,2,    12.65,2,    17.90,6,     1.24,2,    0.899,2,    0.416,2,    0.024,2,    2.028,2,   2158.1,2,   3.6895
  18HU19941012, AR13c,    22,  1, 150987,     87,2,19941020,1059, 38.1660, -44.6310, 5266,   2294.8,   3.6136,  34.9510,2,  34.9560,2,    273.3,2,    275.2,2,    13.84,2,    17.95,6,     1.23,2,    0.698,2,    0.306,2,    0.013,2,    1.780,2,   2156.6,2,   3.4231
  18HU19941012, AR13c,    22,  1, 150986,     86,2,19941020,1059, 38.1660, -44.6310, 5266,   2595.7,   3.4121,  34.9530,2,  34.9706,2,    272.7,3,    273.7,2,    15.60,2,    17.91,6,     1.22,2,    0.466,2,    0.208,2,    0.013,2,    1.401,2,   2159.2,2,   3.1947
  18HU19941012, AR13c,    22,  1, 150985,     85,2,19941020,1059, 38.1660, -44.6310, 5266,   2895.0,   3.2009,  34.9522,2,  34.9522,2,   -999.0,9,    270.0,2,    19.73,2,    18.63,6,     1.28,2,    0.209,2,    0.106,2,    0.006,2,    0.769,2,   2163.8,2,   2.9568
  18HU19941012, AR13c,    22,  1, 150984,     84,2,19941020,1059, 38.1660, -44.6310, 5266,   3211.0,   2.9131,  34.9354,2,  34.9552,2,    274.6,3,    275.8,2,    21.49,2,    18.94,6,     1.28,2,    0.190,2,    0.098,2,    0.000,2,    0.579,2,   2165.4,2,   2.6417
  18HU19941012, AR13c,    22,  1, 150983,     83,2,19941020,1059, 38.1660, -44.6310, 5266,   3495.3,   2.6423,  34.9175,2,  34.9261,2,    277.3,2,    276.7,2,    21.99,2,    18.37,6,     1.27,2,    0.292,2,    0.092,2,    0.000,2,    0.769,2,   2165.6,2,   2.3467
  18HU19941012, AR13c,    22,  1, 150982,     82,2,19941020,1059, 38.1660, -44.6310, 5266,   3800.0,   2.4233,  34.9031,2,  34.9092,2,    278.3,2,    276.2,2,    25.14,2,    18.56,6,     1.28,2,    0.311,2,    0.121,2,    0.000,2,    0.809,2,   2166.7,2,   2.0997
  18HU19941012, AR13c,    22,  1, 150981,     81,2,19941020,1059, 38.1660, -44.6310, 5266,   4100.2,   2.3192,  34.8938,2,  34.9048,2,    276.5,3,    274.6,2,    27.25,2,    18.64,6,     1.30,2,    0.304,2,    0.121,2,    0.013,2,    0.960,2,   2170.2,2,   1.9644
  18HU19941012, AR13c,    22,  1, 150980,     80,2,19941020,1059, 38.1660, -44.6310, 5266,   4404.9,   2.2711,  34.8870,2,  34.8940,2,    273.9,2,    273.5,2,    30.89,2,    19.04,6,     1.32,2,    0.292,2,    0.234,2,    0.012,2,    0.827,2,   2175.2,2,   1.8821
  18HU19941012, AR13c,    22,  1, 150979,     79,2,19941020,1059, 38.1660, -44.6310, 5266,   4720.3,   2.2675,  34.8820,2,  34.8936,2,    270.4,3,    271.3,2,    33.13,2,    19.50,6,     1.34,2,    0.282,2,    0.096,2,    0.000,2,    0.757,2,   2179.3,2,   1.8406
  18HU19941012, AR13c,    22,  1, 150978,     78,2,19941020,1059, 38.1660, -44.6310, 5266,   5052.0,   2.2744,  34.8783,2,  34.8824,2,    267.1,2,    271.6,2,    35.38,2,    19.80,6,     1.33,2,    0.240,2,    0.092,2,    0.021,2,    0.732,2,   2184.8,2,   1.8060
  18HU19941012, AR13c,    22,  1, 150977,     77,2,19941020,1059, 38.1660, -44.6310, 5266,   5259.5,   2.2901,  34.8769,2,  34.8827,2,    265.7,2,    269.7,2,    35.42,2,    19.92,6,     1.34,2,    0.250,2,    0.100,2,    0.015,2,    0.677,2,   2180.9,2,   1.7946
  18HU19941012, AR13c,    23,  1, 151016,     16,2,19941020,1700, 38.5865, -44.3510, 5236,     13.4,  22.9275,  36.2043,2,  36.2146,2,     40.8,3,    218.8,2,     1.21,2,     0.00,6,     0.07,2,    1.724,2,    1.112,2,    0.146,2,    2.309,2,   2025.6,2,  22.9248
  18HU19941012, AR13c,    23,  1, 151015,     15,2,19941020,1700, 38.5865, -44.3510, 5236,    201.3,  18.4622,  36.5615,2,  36.5653,2,    218.0,2,    214.1,2,     1.41,2,     3.00,6,     0.17,2,    2.085,2,    1.306,2,    0.093,2,    0.758,2,   2085.5,2,  18.4267
  18HU19941012, AR13c,    23,  1, 151014,     14,2,19941020,1700, 38.5865, -44.3510, 5236,    405.8,  17.3234,  36.3853,2,  36.3910,2,    215.1,2,    204.5,2,     2.12,2,     6.03,6,     0.35,2,    1.893,2,    1.160,2,    0.089,2,    0.683,2,   2101.9,2,  17.2545
  18HU19941012, AR13c,    23,  1, 151013,     13,2,19941020,1700, 38.5865, -44.3510, 5236,    610.3,  14.8966,  35.9780,2,  35.9857,2,    207.0,3,    208.3,2,     3.59,2,     9.33,6,     0.60,2,    1.956,2,    1.138,2,    0.081,2,    0.937,2,   2117.7,2,  14.8027
  18HU19941012, AR13c,    23,  1, 151012,     12,2,19941020,1700, 38.5865, -44.3510, 5236,    810.5,  10.9388,  35.3959,2,  35.4010,2,    172.3,3,    165.0,2,    10.11,2,    20.21,6,     1.22,2,    1.151,2,    0.741,2,    0.047,2,    0.537,2,   2166.0,2,  10.8360
  18HU19941012, AR13c,    23,  1, 151011,     11,2,19941020,1700, 38.5865, -44.3510, 5236,   1093.6,   6.2527,  35.0699,2,  35.0763,2,    218.0,2,    213.1,2,    12.53,2,    20.89,6,     1.30,2,    1.190,2,    0.629,2,    0.076,2,    1.544,2,   2177.0,2,   6.1496
  18HU19941012, AR13c,    23,  1, 151010,     10,2,19941020,1700, 38.5865, -44.3510, 5236,   1394.8,   4.8301,  35.0292,2,  35.0905,2,    251.1,3,    239.7,2,    11.23,2,    19.05,6,     1.21,2,    1.171,2,    0.622,2,    0.056,2,    1.853,2,   2164.9,2,   4.7104
  18HU19941012, AR13c,    23,  1, 151009,      9,2,19941020,1700, 38.5865, -44.3510, 5236,   1704.8,   4.1299,  34.9722,2,  35.1332,0,    264.9,3,    249.7,2,    10.49,2,    17.74,6,     1.14,2,    1.216,2,    0.715,2,    0.044,2,    1.953,2,   2157.3,2,   3.9891
  18HU19941012, AR13c,    23,  1, 151008,      8,2,19941020,1700, 38.5865, -44.3510, 5236,   1909.6,   3.8796,  34.9537,2,  34.9594,2,    269.5,2,    274.6,2,    11.78,2,    18.49,6,     1.17,2,    1.091,2,    0.647,2,    0.042,2,    2.285,2,   2158.6,2,   3.7226
  18HU19941012, AR13c,    23,  1, 151007,      7,2,19941020,1700, 38.5865, -44.3510, 5236,   2108.5,   3.6559,  34.9349,2,  34.9439,2,    271.8,2,    278.4,2,    12.25,2,    18.24,6,     1.21,2,    1.114,2,    0.625,2,    0.041,2,    2.308,2,   2155.9,2,   3.4831
  18HU19941012, AR13c,    23,  1, 151006,      6,2,19941020,1700, 38.5865, -44.3510, 5236,   2293.7,   3.5911,  34.9469,2,  34.9512,2,    270.6,2,    276.6,2,    13.67,2,    18.36,6,     1.17,2,    0.785,2,    0.542,2,    0.056,2,    1.825,2,   2158.0,2,   3.4011
  18HU19941012, AR13c,    23,  1, 151005,      5,2,19941020,1700, 38.5865, -44.3510, 5236,   2580.0,   3.4512,  34.9610,2,  34.9663,2,    269.5,2,    271.5,2,    16.86,2,    18.35,6,     1.22,2,    0.344,2,    0.286,2,    0.022,2,    0.976,2,   2161.6,2,   3.2347
  18HU19941012, AR13c,    23,  1, 151004,      4,2,19941020,1700, 38.5865, -44.3510, 5236,   2892.3,   3.2304,  34.9553,2,  34.9807,2,    269.7,3,    269.1,2,    18.20,2,    18.36,6,     1.23,2,    0.258,2,    0.220,2,    0.038,2,    0.726,2,   2163.5,2,   2.9858
  18HU19941012, AR13c,    23,  1, 151003,      3,2,19941020,1700, 38.5865, -44.3510, 5236,   3303.4,   2.9026,  34.9340,2,  34.9425,2,    272.8,2,    270.4,2,    21.52,2,    18.66,6,     1.26,2,    0.212,2,    0.249,2,    0.027,2,    0.577,2,   2166.5,2,   2.6216
  18HU19941012, AR13c,    23,  1, 151002,      2,2,19941020,1700, 38.5865, -44.3510, 5236,   3668.9,   2.5633,  34.9122,2,  34.9199,2,    276.1,2,    276.9,2,    22.44,2,    18.47,6,     1.22,2,    0.329,2,    0.290,2,    0.027,2,    0.861,2,   2166.7,2,   2.2506
  18HU19941012, AR13c,    23,  1, 151001,      1,2,19941020,1700, 38.5865, -44.3510, 5236,   4075.5,   2.3571,  34.8967,2,  34.9278,2,    276.2,3,    273.1,2,    23.36,2,    18.87,6,     1.24,2,    0.351,2,    0.248,2,    0.023,2,    0.881,2,   2167.2,2,   2.0039
  18HU19941012, AR13c,    23,  1, 151000,      0,2,19941020,1700, 38.5865, -44.3510, 5236,   4457.4,   2.2763,  34.8863,2,  34.8994,2,    272.2,3,    272.5,2,    31.74,2,    19.57,6,     1.28,2,    0.338,2,    0.266,2,    0.031,2,    0.820,2,   2177.8,2,   1.8809
  18HU19941012, AR13c,    23,  1, 150999,     99,2,19941020,1700, 38.5865, -44.3510, 5236,   4914.1,   2.2675,  34.8794,2,  34.9004,2,    265.4,3,    269.6,2,    33.18,2,    19.88,6,     1.30,2,    0.331,2,    0.250,2,    0.044,2,    0.746,2,   2179.8,2,   1.8165
  18HU19941012, AR13c,    23,  1, 150998,     98,2,19941020,1700, 38.5865, -44.3510, 5236,   5127.6,   2.2798,  34.8777,2,  34.8831,2,    263.6,2,    271.8,2,    34.93,2,    19.76,6,     1.35,2,    0.279,2,    0.241,2,    0.000,2,    0.632,2,   2183.6,2,   1.8016
  18HU19941012, AR13c,    23,  1, 150997,     97,2,19941020,1700, 38.5865, -44.3510, 5236,   5229.6,   2.2875,  34.8768,2,  34.8845,2,    262.7,2,    265.4,2,    35.58,2,    19.98,6,     1.38,2,    0.274,2,    0.223,2,    0.025,2,    0.621,2,   2183.2,2,   1.7959
  18HU19941012, AR13c,    24,  1, 151036,     36,2,19941020,2244, 39.0005, -44.0640, 4957,     12.9,  23.4556,  36.2099,2,  36.2167,2,     34.0,3,    215.8,2,     1.20,2,     0.00,6,     0.08,2,    1.496,2,    1.101,2,    0.123,2,    2.074,2,   2023.0,2,  23.4529
  18HU19941012, AR13c,    24,  1, 151035,     35,2,19941020,2244, 39.0005, -44.0640, 4957,    113.5,  20.7481,  36.6384,2,  36.6503,2,    163.2,3,    198.4,2,     1.41,2,     2.52,6,     0.19,2,    1.692,2,    1.196,2,    0.109,2,    0.613,2,   2084.1,2,  20.7264
  18HU19941012, AR13c,    24,  1, 151034,     34,2,19941020,2244, 39.0005, -44.0640, 4957,    297.3,  18.1496,  36.5282,2,  36.5321,2,    208.3,2,    204.6,2,     1.70,2,     4.25,6,     0.26,2,    1.775,2,    0.907,2,    0.030,2,    0.465,2,   2088.9,2,  18.0976
  18HU19941012, AR13c,    24,  1, 151033,     33,2,19941020,2244, 39.0005, -44.0640, 4957,    495.6,  15.8427,  36.1510,2,  36.1563,2,    202.6,2,    211.1,2,     2.95,2,     7.97,6,     0.45,2,    1.880,2,    1.188,2,    0.092,2,    0.995,2,   2106.7,2,  15.7634
  18HU19941012, AR13c,    24,  1, 151032,     32,2,19941020,2244, 39.0005, -44.0640, 4957,    896.7,   7.2385,  35.0287,2,  35.0429,2,    189.0,3,    183.6,2,    13.88,2,    23.59,6,     1.43,2,    0.911,2,    0.418,2,    0.036,2,    1.010,2,   2178.2,2,   7.1486
  18HU19941012, AR13c,    24,  1, 151031,     31,2,19941020,2244, 39.0005, -44.0640, 4957,    999.3,   6.2334,  35.0552,2,  35.0610,2,    214.2,2,    211.8,2,    12.70,2,    21.80,6,     1.32,2,    1.070,2,    0.388,2,    0.024,2,    1.330,2,   2172.8,2,   6.1400
  18HU19941012, AR13c,    24,  1, 151030,     30,2,19941020,2244, 39.0005, -44.0640, 4957,   1199.9,   5.0884,  35.0397,2,  35.0732,2,    242.7,3,    241.7,2,    11.44,2,    20.05,6,     1.21,2,    1.247,2,    0.776,2,    0.038,2,    2.232,2,   2165.0,2,   4.9848
  18HU19941012, AR13c,    24,  1, 151029,     29,2,19941020,2244, 39.0005, -44.0640, 4957,   1299.4,   4.7384,  35.0164,2,  35.0392,2,    251.1,3,    253.5,2,    11.48,2,    19.62,6,     1.21,2,    1.229,2,    0.631,2,    0.037,2,    2.139,2,   2161.0,2,   4.6288
  18HU19941012, AR13c,    24,  1, 151028,     28,2,19941020,2244, 39.0005, -44.0640, 4957,   1593.6,   4.0679,  34.9665,2,  34.9728,2,    266.5,2,    271.3,2,    12.14,2,    19.06,6,     1.18,2,    1.069,2,    0.421,2,    0.022,2,    2.088,2,   2155.6,2,   3.9383
  18HU19941012, AR13c,    24,  1, 151027,     27,2,19941020,2244, 39.0005, -44.0640, 4957,   1787.4,   3.8390,  34.9511,2,  34.9591,2,    270.8,2,    274.8,2,    12.07,2,    19.02,6,     1.18,2,    0.969,2,    0.596,2,    0.025,2,    2.291,2,   2154.6,2,   3.6942
  18HU19941012, AR13c,    24,  1, 151026,     26,2,19941020,2244, 39.0005, -44.0640, 4957,   1982.7,   3.7089,  34.9485,2,  34.9542,2,    271.8,2,    276.1,2,    12.54,2,    18.72,6,     1.17,2,    0.877,2,    0.496,2,    0.026,2,    2.130,2,   2154.5,2,   3.5474
  18HU19941012, AR13c,    24,  1, 151025,     25,2,19941020,2244, 39.0005, -44.0640, 4957,   2191.0,   3.5294,  34.9410,2,  34.9463,2,    273.2,2,    276.7,2,    13.28,2,    18.81,6,     1.17,2,    0.762,2,    0.285,2,    0.025,2,    1.708,2,   2158.6,2,   3.3505
  18HU19941012, AR13c,    24,  1, 151024,     24,2,19941020,2244, 39.0005, -44.0640, 4957,   2391.4,   3.4525,  34.9558,2,  34.9636,2,    273.0,2,    273.0,2,    15.71,2,    19.11,6,     1.19,2,    0.359,2,    0.259,2,    0.000,2,    1.150,2,   2158.4,2,   3.2551
  18HU19941012, AR13c,    24,  1, 151023,     23,2,19941020,2244, 39.0005, -44.0640, 4957,   2594.5,   3.2993,  34.9561,2,  34.9680,2,    272.8,3,    271.2,2,    18.35,2,    19.59,6,     1.20,2,    0.208,2,    0.173,2,    0.000,2,    0.777,2,   2163.5,2,   3.0842
  18HU19941012, AR13c,    24,  1, 151022,     22,2,19941020,2244, 39.0005, -44.0640, 4957,   2990.5,   2.9322,  34.9371,2,  34.9432,2,    275.2,2,    271.1,2,    21.21,2,    20.00,6,     1.23,2,    0.136,2,    0.035,2,    0.000,2,    0.435,2,   2165.9,2,   2.6838
  18HU19941012, AR13c,    24,  1, 151021,     21,2,19941020,2244, 39.0005, -44.0640, 4957,   3394.6,   2.5562,  34.9133,2,  34.9316,2,    278.9,3,    274.2,2,    21.33,2,    19.11,6,     1.22,2,    0.310,2, -999.000,9,    0.000,2,    0.893,2,   2166.9,2,   2.2736
  18HU19941012, AR13c,    24,  1, 151020,     20,2,19941020,2244, 39.0005, -44.0640, 4957,   3899.0,   2.3023,  34.8941,2,  34.8987,2,    278.4,2,    273.3,2,    27.23,2,    19.57,6,     1.25,2,    0.268,2,    0.179,2,    0.019,2,    0.884,2,   2172.4,2,   1.9709
  18HU19941012, AR13c,    24,  1, 151019,     19,2,19941020,2244, 39.0005, -44.0640, 4957,   4496.3,   2.2280,  34.8814,2,  34.9007,2,    271.9,3,    270.9,2,    31.50,2,    20.03,6,     1.29,2,    0.268,2, -999.000,9,    0.000,2,    0.635,2,   2177.9,2,   1.8294
  18HU19941012, AR13c,    24,  1, 151018,     18,2,19941020,2244, 39.0005, -44.0640, 4957,   4761.4,   2.2272,  34.8772,2,  34.8822,2,    268.6,2,    269.0,2,    35.83,2,    20.66,6,     1.34,2,    0.217,2, -999.000,9,    0.000,2,    0.681,2,   2182.1,2,   1.7966
  18HU19941012, AR13c,    24,  1, 151017,     17,2,19941020,2244, 39.0005, -44.0640, 4957,   4950.5,   2.2305,  34.8747,2,  34.8841,2,    266.8,3,    257.6,2,    37.76,2,    20.96,6,     1.34,2,    0.178,2,    0.109,2,    0.000,2,    0.635,2,   2185.3,2,   1.7763