BOTTLE,20140111SIOCCHRJL
EXPOCODE,SECT_ID,STNNBR,CASTNO,SAMPNO,BTLNBR,BTLNBR_FLAG_W,DATE,TIME,LATITUDE,LONGITUDE,DEPTH,CTDPRS,CTDTMP,CTDSAL,CTDSAL_FLAG_W,SALNTY,SALNTY_FLAG_W,CTDOXY,CTDOXY_FLAG_W,OXYGEN,OXYGEN_FLAG_W,SILCAT,SILCAT_FLAG_W,NITRAT,NITRAT_FLAG_W,PHSPHT,PHSPHT_FLAG_W,NH4,NH4_FLAG_W,CFC-11,CFC-11_FLAG_W,CFC-12,CFC-12_FLAG_W,CFC113,CFC113_FLAG_W,CCL4,CCL4_FLAG_W,MCHFRM,MCHFRM_FLAG_W,TCARBN,TCARBN_FLAG_W,ALKALI,ALKALI_FLAG_W,PH_TOT,PH_TOT_FLAG_W,PH_TMP,THETA
,,,,,,,,,,,METERS,DBAR,ITS-90,PSS-78,,PSS-78,,UMOL/KG,,UMOL/KG,,UMOL/KG,,UMOL/KG,,UMOL/KG,,UMOL/KG,,PMOL/KG,,PMOL/KG,,PMOL/KG,,PMOL/KG,,PMOL/KG,,UMOL/KG,,UMOL/KG,,,,DEG C,DEG C
  18HU20100513, AR07W,   219,  1, 369561,      1,2,20100523,0214, 55.8462, -53.3925, 3070,   3148.0,   1.7414,  34.8885,2,  34.8882,2,    297.7,2,    298.0,2,     9.99,6,    13.88,6,     1.00,6,     0.27,6,    4.031,2,    2.283,2,    0.295,2,    3.499,2,    5.047,2,   2163.2,2,   2285.5,3,   7.9455,3,     1.74,   1.5037
  18HU20100513, AR07W,   219,  1, 369562,      2,2,20100523,0214, 55.8462, -53.3925, 3070,   3098.0,   1.7551,  34.8890,2,  34.8888,2,    297.5,2,    298.1,2,     9.96,6,    14.00,6,     0.99,6,     0.31,6, -999.000,9, -999.000,9, -999.000,9, -999.000,9, -999.000,9,   2162.5,2,   2301.9,2,   7.9363,3,     1.76,   1.5220
  18HU20100513, AR07W,   219,  1, 369563,      3,2,20100523,0214, 55.8462, -53.3925, 3070,   3019.0,   1.9114,  34.8931,2,  34.8932,2,    295.5,2,    295.4,2,  -999.00,9,  -999.00,9,  -999.00,9,     -999,9,    3.850,2,    2.208,2,    0.211,2,    3.334,2,    3.144,2,   2161.7,2,   2293.0,2,   7.9906,2,     1.92,   1.6826
  18HU20100513, AR07W,   219,  1, 369564,      4,2,20100523,0214, 55.8462, -53.3925, 3070,   2920.0,   2.1842,  34.8987,2,  34.8979,2,    290.3,2,    101.1,4,    11.16,6,    14.74,6,     1.03,6,     0.16,6, -999.000,9, -999.000,9, -999.000,9, -999.000,9, -999.000,9,   2161.6,2,   2302.3,2,   7.9545,3,     2.19,   1.9592
  18HU20100513, AR07W,   219,  1, 369565,      5,2,20100523,0214, 55.8462, -53.3925, 3070,   2809.0,   2.4047,  34.9049,2,  34.9052,2,    285.6,2,    286.3,6,    12.17,6,    15.17,6,     1.07,6,     0.16,6,    3.117,2,    1.398,2,    0.063,2,    2.736,2,    3.411,2,   2163.3,2,   2300.6,2,   7.9162,4,     2.41,   2.1860
  18HU20100513, AR07W,   219,  1, 369566,      6,2,20100523,0214, 55.8462, -53.3925, 3070,   2691.0,   2.6109,  34.9122,2,  34.9136,6,    283.7,2,    283.5,2,    12.10,6,    15.47,6,     1.08,6,      0.2,6, -999.000,9, -999.000,9, -999.000,9, -999.000,9, -999.000,9,   2161.2,2,   2295.2,2,   7.9929,2,     2.62,   2.3997
  18HU20100513, AR07W,   219,  1, 369567,      7,2,20100523,0214, 55.8462, -53.3925, 3070,   2560.0,   2.7487,  34.9142,2,  34.9158,6,    282.6,2,    282.7,2,    11.82,6,    15.56,6,     1.10,6,     0.15,6,    3.037,2,    1.614,2,    0.171,2,    2.758,2,    4.218,2,   2162.6,2,   2301.8,2,   7.9899,2,     2.76,   2.5476
  18HU20100513, AR07W,   219,  1, 369568,      8,2,20100523,0214, 55.8462, -53.3925, 3070,   2410.0,   2.8800,  34.9147,2,  34.9149,2,    282.2,2,    281.9,2,    11.41,6,    15.60,6,     1.10,6,     0.22,6, -999.000,9, -999.000,9, -999.000,9, -999.000,9, -999.000,9,   2160.3,2,   2302.3,2,   8.0129,2,     2.89,   2.6910
  18HU20100513, AR07W,   219,  1, 369569,      9,2,20100523,0214, 55.8462, -53.3925, 3070,   2231.0,   3.0469,  34.9148,2,  34.9157,2,    280.7,2,    281.0,2,    11.18,6,    15.78,6,     1.10,6,     0.21,6,    3.204,2,    1.468,2,    0.148,2,    2.754,2,    4.137,2,   2161.8,2,   2300.2,2,   8.0198,2,     3.05,   2.8722
  18HU20100513, AR07W,   219,  1, 369570,     10,2,20100523,0214, 55.8462, -53.3925, 3070,   2009.0,   3.2395,  34.9139,2,  34.9141,2,    279.7,2,    279.9,2,    10.73,6,    16.04,6,     1.11,6,     0.75,6, -999.000,9, -999.000,9, -999.000,9, -999.000,9, -999.000,9,   2161.8,2,   2297.2,2,   8.0093,2,     3.24,   3.0826
  18HU20100513, AR07W,   219,  1, 369571,     11,2,20100523,0214, 55.8462, -53.3925, 3070,   1787.0,   3.4296,  34.9156,2,  34.9161,2,    278.5,2,    278.1,2,    10.59,6,    16.22,6,     1.14,6,     0.18,6,    3.402,2,    1.659,2,    0.077,2,    2.744,2,    3.514,2,   2161.2,2,   2304.8,2,   8.0210,2,     3.43,   3.2904
  18HU20100513, AR07W,   219,  1, 369572,     12,2,20100523,0214, 55.8462, -53.3925, 3070,   1552.0,   3.6350,  34.9147,2,  34.9122,2,    277.4,2,    277.2,2,    10.30,6,    16.36,6,     1.13,6,     0.23,6, -999.000,9, -999.000,9, -999.000,9, -999.000,9, -999.000,9,   2164.4,2,   2288.4,2,   8.0395,2,     3.62,   3.5144
  18HU20100513, AR07W,   219,  1, 369573,     13,2,20100523,0214, 55.8462, -53.3925, 3070,   1312.0,   3.6335,  34.8918,2,  34.8969,2,    281.5,2,    281.3,2,     9.91,6,    16.40,6,     1.13,6,      0.3,6,    3.915,2,    2.210,2,    0.283,2,    3.220,2,    2.985,2,   2162.8,2,   2291.3,2,   8.0279,2,     3.64,   3.5340
  18HU20100513, AR07W,   219,  1, 369574,     14,2,20100523,0214, 55.8462, -53.3925, 3070,   1093.0,   3.5872,  34.8693,2,  34.8703,2,    287.7,2,    288.3,2,     9.37,6,    16.20,6,     1.11,6,     0.24,6, -999.000,9, -999.000,9, -999.000,9, -999.000,9, -999.000,9,   2160.4,2,   2284.1,2,   8.0318,2,     3.59,   3.5065
  18HU20100513, AR07W,   219,  1, 369575,     15,2,20100523,0214, 55.8462, -53.3925, 3070,    891.0,   3.5641,  34.8569,2,  34.8595,2,    290.6,2,    300.8,3,     8.87,6,    15.97,6,     1.10,6,     0.32,6,    4.454,2,    2.627,2,    0.229,2,    3.765,2,    1.984,2,   2162.0,2,   2287.4,2,   8.0472,2,     3.57,   3.4999
  18HU20100513, AR07W,   219,  1, 369576,     16,2,20100523,0214, 55.8462, -53.3925, 3070,    713.0,   3.7428,  34.8743,2,  34.8727,2,    287.6,2,    291.5,2,     8.92,6,    16.02,6,     1.11,6,     0.21,6, -999.000,9, -999.000,9, -999.000,9, -999.000,9, -999.000,9,   2161.1,2,   2295.2,2,   8.0510,2,     3.73,   3.6914
  18HU20100513, AR07W,   219,  1, 369577,     17,2,20100523,0214, 55.8462, -53.3925, 3070,    554.0,   3.9184,  34.8864,2,  34.8869,2,    283.8,2,    289.0,2,     8.96,6,    16.15,6,     1.12,6,     0.22,6,    4.185,2,    2.132,3,    0.101,2,    3.458,2,    1.743,2,   2162.8,2,   2300.1,2,   8.0480,2,     3.92,   3.8783
  18HU20100513, AR07W,   219,  1, 369578,     18,2,20100523,0214, 55.8462, -53.3925, 3070,    399.0,   3.9426,  34.8689,2,  34.8692,2,    283.0,2,    283.7,2,     8.87,6,    16.16,6,     1.12,6,     0.22,6, -999.000,9, -999.000,9, -999.000,9, -999.000,9, -999.000,9,   2157.4,2,   2283.1,2,   8.0589,2,     3.95,   3.9142
  18HU20100513, AR07W,   219,  1, 369579,     19,2,20100523,0214, 55.8462, -53.3925, 3070,    293.0,   3.8796,  34.8386,2,  34.8378,2,    297.7,2,    298.4,2,     7.75,6,    14.67,3,     1.03,3,      0.3,6,    4.425,2,    2.677,2,    0.333,2,    4.060,2,    1.535,2,   2156.4,2,   2285.9,2,   8.0871,2,     3.88,   3.8591
  18HU20100513, AR07W,   219,  1, 369580,     20,2,20100523,0214, 55.8462, -53.3925, 3070,    191.0,   3.9591,  34.8021,2,  34.7990,2,    283.4,2,    284.7,2,     8.51,6,    15.46,6,     1.09,6,     0.24,6, -999.000,9, -999.000,9, -999.000,9, -999.000,9, -999.000,9,   2157.4,2,   2268.4,2,   8.0689,2,     3.96,   3.9458
  18HU20100513, AR07W,   219,  1, 369581,     21,2,20100523,0214, 55.8462, -53.3925, 3070,    110.0,   3.4950,  34.6750,2,  34.6768,2,    308.2,2,    308.8,2,     6.88,6,    13.50,6,     0.99,6,     0.12,6,    4.859,2,    2.901,2,    0.212,2,    4.568,2,    1.222,2,   2148.3,2,   2274.3,2,   8.0930,2,     3.50,   3.4878
  18HU20100513, AR07W,   219,  1, 369582,     22,2,20100523,0214, 55.8462, -53.3925, 3070,     53.0,   3.5496,  34.6260,2,-999.0000,9,    308.2,2,    309.9,2,     6.77,6,    12.68,6,     0.96,6,     0.41,6, -999.000,9, -999.000,9, -999.000,9, -999.000,9, -999.000,9,   2144.0,2,   2273.1,2,   8.1024,2,     3.55,   3.5462
  18HU20100513, AR07W,   219,  1, 369583,     23,2,20100523,0214, 55.8462, -53.3925, 3070,     20.0,   3.9707,  34.1397,2,-999.0000,9,    335.1,2,    335.7,2,     3.92,6,     6.86,6,     0.65,6,     0.29,6,    5.002,2,    2.772,2,    0.211,2,    4.867,2,    1.163,2,   2100.1,2,   2264.5,2,   8.1148,2,     3.98,   3.9694
  18HU20100513, AR07W,   219,  1, 369584,     24,2,20100523,0214, 55.8462, -53.3925, 3070,      2.0,   3.9777,  34.1391,2,-999.0000,9,    336.3,2,    336.0,2,     3.95,6,     6.91,6,     0.65,6,     0.32,6, -999.000,9, -999.000,9, -999.000,9, -999.000,9, -999.000,9,   2100.6,6,   2272.6,6,-999.0000,9,  -999.00,   3.9776
  18HU20100513, AR07W,   225,  1, 369585,      1,2,20100523,0622, 55.6105, -53.6315, 2870,   2934.0,   1.6965,  34.8880,2,  34.8891,2,    298.0,2,    296.0,2,  -999.00,9,  -999.00,9,  -999.00,9,     -999,9, -999.000,9, -999.000,9, -999.000,9, -999.000,9, -999.000,9,   2160.4,2,   2296.1,2,   8.0015,2,     1.70,   1.4806
  18HU20100513, AR07W,   225,  1, 369586,      2,2,20100523,0622, 55.6105, -53.6315, 2870,   2889.0,   1.6921,  34.8880,2,  34.8895,2,    297.5,2,    297.3,2,  -999.00,9,  -999.00,9,  -999.00,9,     -999,9, -999.000,9, -999.000,9, -999.000,9, -999.000,9, -999.000,9,   2161.6,2,   2295.2,2,   8.0095,2,     1.69,   1.4806
  18HU20100513, AR07W,   225,  1, 369587,      3,2,20100523,0622, 55.6105, -53.6315, 2870,   2812.0,   1.8308,  34.8916,2,  34.8933,2,    295.8,2,    294.5,2,  -999.00,9,  -999.00,9,  -999.00,9,     -999,9, -999.000,9, -999.000,9, -999.000,9, -999.000,9, -999.000,9,   2160.5,2,   2295.2,2,   8.0112,2,     1.87,   1.6237
  18HU20100513, AR07W,   225,  1, 369588,      4,2,20100523,0622, 55.6105, -53.6315, 2870,   2689.0,   2.2364,  34.9005,2,  34.9025,2,    288.5,2,    287.9,2,  -999.00,9,  -999.00,9,  -999.00,9,     -999,9, -999.000,9, -999.000,9, -999.000,9, -999.000,9, -999.000,9,   2163.6,2,   2300.2,2,   8.0118,2,     2.26,   2.0328
  18HU20100513, AR07W,   225,  1, 369589,      5,2,20100523,0622, 55.6105, -53.6315, 2870,   2561.0,   2.4646,  34.9075,2,  34.9104,6,    284.9,2,    283.7,2,  -999.00,9,  -999.00,9,  -999.00,9,     -999,9, -999.000,9, -999.000,9, -999.000,9, -999.000,9, -999.000,9,   2159.4,2,   2293.2,2,   8.0190,2,     2.48,   2.2688
  18HU20100513, AR07W,   225,  1, 369590,      6,2,20100523,0622, 55.6105, -53.6315, 2870,   2431.0,   2.6359,  34.9127,2,  34.9180,6,    282.5,2,    282.7,2,  -999.00,9,  -999.00,9,  -999.00,9,     -999,9, -999.000,9, -999.000,9, -999.000,9, -999.000,9, -999.000,9,   2160.9,2,   2295.9,2,   8.0117,2,     2.64,   2.4493
  18HU20100513, AR07W,   225,  1, 369591,      7,2,20100523,0622, 55.6105, -53.6315, 2870,   2289.0,   2.7911,  34.9138,2,  34.9172,2,    282.7,2,    282.6,2,  -999.00,9,  -999.00,9,  -999.00,9,     -999,9, -999.000,9, -999.000,9, -999.000,9, -999.000,9, -999.000,9,   2159.5,2,   2291.5,2,   8.0247,2,     2.79,   2.6152
  18HU20100513, AR07W,   225,  1, 369592,      8,2,20100523,0622, 55.6105, -53.6315, 2870,   2151.0,   2.9317,  34.9145,2,  34.9164,2,    280.7,2,    281.1,2,  -999.00,9,  -999.00,9,  -999.00,9,     -999,9, -999.000,9, -999.000,9, -999.000,9, -999.000,9, -999.000,9,   2160.7,2,   2289.7,2,   8.0265,2,     2.93,   2.7664
  18HU20100513, AR07W,   225,  1, 369593,      9,2,20100523,0622, 55.6105, -53.6315, 2870,   1992.0,   3.0390,  34.9149,2,  34.9150,2,    280.5,2,    279.9,2,  -999.00,9,  -999.00,9,  -999.00,9,     -999,9, -999.000,9, -999.000,9, -999.000,9, -999.000,9, -999.000,9,   2161.0,2,   2291.0,2,   8.0338,2,     3.04,   2.8866
  18HU20100513, AR07W,   225,  1, 369594,     10,2,20100523,0622, 55.6105, -53.6315, 2870,   1810.0,   3.2091,  34.9160,2,  34.9170,2,    279.4,2,    278.7,2,  -999.00,9,  -999.00,9,  -999.00,9,     -999,9, -999.000,9, -999.000,9, -999.000,9, -999.000,9, -999.000,9,   2159.2,2,   2293.7,2,   8.0382,2,     3.21,   3.0708
  18HU20100513, AR07W,   225,  1, 369595,     11,2,20100523,0622, 55.6105, -53.6315, 2870,   1631.0,   3.3892,  34.9169,2,  34.9178,2,    277.7,2,    276.6,6,  -999.00,9,  -999.00,9,  -999.00,9,     -999,9, -999.000,9, -999.000,9, -999.000,9, -999.000,9, -999.000,9,   2160.6,6,   2294.8,6,   8.0302,2,     3.39,   3.2646
  18HU20100513, AR07W,   225,  1, 369596,     12,2,20100523,0622, 55.6105, -53.6315, 2870,   1431.0,   3.5976,  34.9164,2,  34.9166,2,    277.6,2,    277.6,2,  -999.00,9,  -999.00,9,  -999.00,9,     -999,9, -999.000,9, -999.000,9, -999.000,9, -999.000,9, -999.000,9,   2162.2,2,   2295.5,2,   8.0419,2,     3.61,   3.4881
  18HU20100513, AR07W,   225,  1, 369597,     13,2,20100523,0622, 55.6105, -53.6315, 2870,   1229.0,   3.7063,  34.9072,2,  34.9078,2,    281.1,2,    279.7,2,  -999.00,9,  -999.00,9,  -999.00,9,     -999,9, -999.000,9, -999.000,9, -999.000,9, -999.000,9, -999.000,9,   2161.9,2,   2293.4,2,   8.0588,2,     3.71,   3.6131
  18HU20100513, AR07W,   225,  1, 369598,     14,2,20100523,0622, 55.6105, -53.6315, 2870,   1030.0,   3.7585,  34.8960,2,  34.8980,2,    285.1,2,    282.1,2,  -999.00,9,  -999.00,9,  -999.00,9,     -999,9, -999.000,9, -999.000,9, -999.000,9, -999.000,9, -999.000,9,   2159.8,2,   2293.1,2,   8.0452,2,     3.76,   3.6816
  18HU20100513, AR07W,   225,  1, 369599,     15,2,20100523,0622, 55.6105, -53.6315, 2870,    850.0,   3.8975,  34.9048,2,  34.9070,2,    285.4,2,    283.5,2,  -999.00,9,  -999.00,9,  -999.00,9,     -999,9, -999.000,9, -999.000,9, -999.000,9, -999.000,9, -999.000,9,   2159.9,2,   2282.3,2,   8.0520,2,     3.90,   3.8342
  18HU20100513, AR07W,   225,  1, 369600,     16,2,20100523,0622, 55.6105, -53.6315, 2870,    669.0,   4.0432,  34.9135,2,  34.9171,2,    287.1,2,    285.4,2,  -999.00,9,  -999.00,9,  -999.00,9,     -999,9, -999.000,9, -999.000,9, -999.000,9, -999.000,9, -999.000,9,   2159.1,2,   2299.7,2,   8.0573,2,     4.04,   3.9936
  18HU20100513, AR07W,   225,  1, 369601,     17,2,20100523,0622, 55.6105, -53.6315, 2870,    511.0,   4.0463,  34.9005,2,  34.9006,2,    291.6,2,    289.5,2,  -999.00,9,  -999.00,9,  -999.00,9,     -999,9, -999.000,9, -999.000,9, -999.000,9, -999.000,9, -999.000,9,   2158.3,2,   2289.3,6,   8.0668,2,     4.04,   4.0090
  18HU20100513, AR07W,   225,  1, 369602,     18,2,20100523,0622, 55.6105, -53.6315, 2870,    370.0,   3.9698,  34.8804,2,  34.8807,2,    297.3,2,    295.4,2,  -999.00,9,  -999.00,9,  -999.00,9,     -999,9, -999.000,9, -999.000,9, -999.000,9, -999.000,9, -999.000,9,   2154.8,2,   2293.2,2,   8.0846,2,     3.97,   3.9434
  18HU20100513, AR07W,   225,  1, 369603,     19,2,20100523,0622, 55.6105, -53.6315, 2870,    251.0,   3.9293,  34.8670,2,  34.8680,2,    299.7,2,    170.1,4,  -999.00,9,  -999.00,9,  -999.00,9,     -999,9, -999.000,9, -999.000,9, -999.000,9, -999.000,9, -999.000,9,   2154.5,2,   2289.4,2,   8.0949,2,     3.93,   3.9117
  18HU20100513, AR07W,   225,  1, 369604,     20,2,20100523,0622, 55.6105, -53.6315, 2870,    149.0,   3.9488,  34.8596,2,  34.8595,2,    298.8,2,    299.8,2,  -999.00,9,  -999.00,9,  -999.00,9,     -999,9, -999.000,9, -999.000,9, -999.000,9, -999.000,9, -999.000,9,   2156.1,2,   -999.0,9,   8.0996,2,     3.95,   3.9385
  18HU20100513, AR07W,   225,  1, 369605,     21,2,20100523,0622, 55.6105, -53.6315, 2870,    100.0,   3.9371,  34.8414,2,  34.8369,2,    298.3,2,    300.9,2,  -999.00,9,  -999.00,9,  -999.00,9,     -999,9, -999.000,9, -999.000,9, -999.000,9, -999.000,9, -999.000,9,   2155.1,2,   2291.4,2,   8.0999,2,     3.93,   3.9302
  18HU20100513, AR07W,   225,  1, 369606,     22,2,20100523,0622, 55.6105, -53.6315, 2870,     51.0,   3.8757,  34.7523,2,-999.0000,9,    308.2,2,    310.9,2,  -999.00,9,  -999.00,9,  -999.00,9,     -999,9, -999.000,9, -999.000,9, -999.000,9, -999.000,9, -999.000,9,   2146.6,2,   2283.3,2,   8.1172,2,     3.89,   3.8722
  18HU20100513, AR07W,   225,  1, 369607,     23,2,20100523,0622, 55.6105, -53.6315, 2870,     20.0,   3.5530,  34.1107,2,-999.0000,9,    350.5,2,    350.6,2,  -999.00,9,  -999.00,9,  -999.00,9,     -999,9, -999.000,9, -999.000,9, -999.000,9, -999.000,9, -999.000,9,   2082.7,2,   2275.0,2,   8.1754,2,     3.55,   3.5517
  18HU20100513, AR07W,   225,  1, 369608,     24,2,20100523,0622, 55.6105, -53.6315, 2870,      3.0,   3.5390,  34.1008,2,-999.0000,9,    351.2,2,    349.7,2,  -999.00,9,  -999.00,9,  -999.00,9,     -999,9, -999.000,9, -999.000,9, -999.000,9, -999.000,9, -999.000,9,   2082.3,2,   2277.1,2,-999.0000,9,  -999.00,   3.5388