BOTTLE,20140111SIOCCHRJL
EXPOCODE,SECT_ID,STNNBR,CASTNO,SAMPNO,BTLNBR,BTLNBR_FLAG_W,DATE,TIME,LATITUDE,LONGITUDE,DEPTH,CTDPRS,CTDTMP,CTDSAL,CTDSAL_FLAG_W,SALNTY,SALNTY_FLAG_W,CTDOXY,CTDOXY_FLAG_W,OXYGEN,OXYGEN_FLAG_W,SILCAT,SILCAT_FLAG_W,NITRAT,NITRAT_FLAG_W,PHSPHT,PHSPHT_FLAG_W,NH4,NH4_FLAG_W,CFC-11,CFC-11_FLAG_W,CFC-12,CFC-12_FLAG_W,CFC113,CFC113_FLAG_W,CCL4,CCL4_FLAG_W,MCHFRM,MCHFRM_FLAG_W,TCARBN,TCARBN_FLAG_W,ALKALI,ALKALI_FLAG_W,PH_TOT,PH_TOT_FLAG_W,PH_TMP,THETA
,,,,,,,,,,,METERS,DBAR,ITS-90,PSS-78,,PSS-78,,UMOL/KG,,UMOL/KG,,UMOL/KG,,UMOL/KG,,UMOL/KG,,UMOL/KG,,PMOL/KG,,PMOL/KG,,PMOL/KG,,PMOL/KG,,PMOL/KG,,UMOL/KG,,UMOL/KG,,,,DEG C,DEG C
  18HU20100513, AR07W,   262,  1, 369712,      1,2,20100524,1604, 54.0447, -54.7750,  179,    165.0,   0.7540,  33.8983,2,  33.9047,2,    303.4,2,    300.1,2,  -999.00,9,  -999.00,9,  -999.00,9,     -999,9,    5.436,2,    3.133,2,    0.624,2,    4.195,2,    1.692,2,   2142.7,6,   2266.5,2,   8.0895,2,     0.77,   0.7471
  18HU20100513, AR07W,   262,  1, 369713,      2,2,20100524,1604, 54.0447, -54.7750,  179,    141.0,  -0.1732,  33.5594,2,  33.5506,2,    313.3,2,    313.8,2,  -999.00,9,  -999.00,9,  -999.00,9,     -999,9,    5.828,2,    3.344,2,    0.783,2,    4.562,2,    1.759,2,   2134.2,2,   2247.2,2,   8.0943,2,    -0.20,  -0.1778
  18HU20100513, AR07W,   262,  1, 369714,      3,2,20100524,1604, 54.0447, -54.7750,  179,    126.0,  -0.6953,  33.3726,2,  33.3646,2,    324.2,2,    321.5,2,  -999.00,9,  -999.00,9,  -999.00,9,     -999,9,    5.952,2,    3.350,2,    0.835,2,    4.751,2,    1.781,2,   2124.7,2,   2246.4,2,   8.1107,2,    -0.70,  -0.6988
  18HU20100513, AR07W,   262,  1, 369715,      4,2,20100524,1604, 54.0447, -54.7750,  179,    100.0,  -1.1530,  33.1725,2,  33.1575,2,    331.1,2,    330.7,6,  -999.00,9,  -999.00,9,  -999.00,9,     -999,9,    6.206,2,    3.526,2,    0.729,2,    4.975,2,    1.955,2,   2118.9,2,   2234.2,2,   8.1284,2,    -1.21,  -1.1553
  18HU20100513, AR07W,   262,  1, 369716,      5,2,20100524,1604, 54.0447, -54.7750,  179,     81.0,  -1.4091,  33.0134,2,-999.0000,9,    334.4,2,   -999.0,9,  -999.00,9,  -999.00,9,  -999.00,9,     -999,9, -999.000,9, -999.000,9, -999.000,9, -999.000,9, -999.000,9,   -999.0,9,   -999.0,9,-999.0000,9,  -999.00,  -1.4108
  18HU20100513, AR07W,   262,  1, 369717,      6,2,20100524,1604, 54.0447, -54.7750,  179,     60.0,  -1.5453,  32.8523,2,-999.0000,9,    337.6,2,   -999.0,9,  -999.00,9,  -999.00,9,  -999.00,9,     -999,9, -999.000,9, -999.000,9, -999.000,9, -999.000,9, -999.000,9,   -999.0,9,   -999.0,9,-999.0000,9,  -999.00,  -1.5464
  18HU20100513, AR07W,   262,  1, 369718,      7,2,20100524,1604, 54.0447, -54.7750,  179,     51.0,  -1.5614,  32.7493,2,  32.7517,2,    334.9,2,    333.8,2,  -999.00,9,  -999.00,9,  -999.00,9,     -999,9,    6.350,2,    3.652,2,    0.754,2,    5.066,2,    4.390,2,   2114.5,2,   2228.9,2,   8.1803,2,    -1.56,  -1.5623
  18HU20100513, AR07W,   262,  1, 369719,      8,2,20100524,1604, 54.0447, -54.7750,  179,     40.0,  -0.6543,  32.3848,2,-999.0000,9,    380.5,2,   -999.0,9,  -999.00,9,  -999.00,9,  -999.00,9,     -999,9, -999.000,9, -999.000,9, -999.000,9, -999.000,9, -999.000,9,   -999.0,9,   -999.0,9,-999.0000,9,  -999.00,  -0.6553
  18HU20100513, AR07W,   262,  1, 369720,      9,2,20100524,1604, 54.0447, -54.7750,  179,     32.0,  -0.0075,  32.1974,2,-999.0000,9,    396.5,2,   -999.0,9,  -999.00,9,  -999.00,9,  -999.00,9,     -999,9, -999.000,9, -999.000,9, -999.000,9, -999.000,9, -999.000,9,   -999.0,9,   -999.0,9,-999.0000,9,  -999.00,  -0.0085
  18HU20100513, AR07W,   262,  1, 369721,     10,2,20100524,1604, 54.0447, -54.7750,  179,     21.0,   0.0272,  32.1881,2,-999.0000,9,    401.9,2,   -999.0,9,  -999.00,9,  -999.00,9,  -999.00,9,     -999,9, -999.000,9, -999.000,9, -999.000,9, -999.000,9, -999.000,9,   -999.0,9,   -999.0,9,-999.0000,9,  -999.00,   0.0266
  18HU20100513, AR07W,   262,  1, 369722,     11,2,20100524,1604, 54.0447, -54.7750,  179,     11.0,   0.0438,  32.1870,2,  32.1910,2,    402.4,2,    400.7,2,  -999.00,9,  -999.00,9,  -999.00,9,     -999,9, -999.000,9, -999.000,9, -999.000,9,   -1.000,4,    0.000,4,   2023.4,2,   2203.7,2,   8.1952,2,     0.03,   0.0435
  18HU20100513, AR07W,   262,  1, 369723,     12,2,20100524,1604, 54.0447, -54.7750,  179,      2.0,   0.0506,  32.1871,2,-999.0000,9,   -999.0,9,   -999.0,9,  -999.00,9,  -999.00,9,  -999.00,9,     -999,9, -999.000,9, -999.000,9, -999.000,9, -999.000,9, -999.000,9,   -999.0,9,   -999.0,9,-999.0000,9,  -999.00,   0.0505
  18HU20100513, AR07W,   264,  1, 369724,      1,2,20100524,1822, 53.8918, -55.0797,  151,    139.0,  -0.0652,  33.6152,2,  33.5405,2,    314.3,2,    218.2,4,  -999.00,9,  -999.00,9,  -999.00,9,     -999,9,    5.981,2,    3.417,2,    0.653,2,    6.797,2,    4.390,2,   2134.9,6,   2248.6,6,   8.1125,2,    -0.23,  -0.0699
  18HU20100513, AR07W,   264,  1, 369725,      2,2,20100524,1822, 53.8918, -55.0797,  151,    120.0,  -1.0237,  33.2661,2,  33.2133,2,    329.7,2,   -999.0,9,  -999.00,9,  -999.00,9,  -999.00,9,     -999,9,    6.441,2,    3.608,2,    0.650,2,    7.608,2,    3.729,2,   2121.7,2,   2240.7,2,   8.1273,2,    -1.18,  -1.0267
  18HU20100513, AR07W,   264,  1, 369726,      3,2,20100524,1822, 53.8918, -55.0797,  151,    100.0,  -1.3610,  33.0498,2,  33.0493,2,    334.1,2,    334.9,2,  -999.00,9,  -999.00,9,  -999.00,9,     -999,9,    6.596,2,    3.745,2,    0.742,2,    7.957,2,    3.709,2,   2117.8,2,   2227.7,2,   8.1333,2,    -1.36,  -1.3631
  18HU20100513, AR07W,   264,  1, 369727,      4,2,20100524,1822, 53.8918, -55.0797,  151,     80.0,  -1.4900,  32.8590,2,-999.0000,9,    336.9,2,   -999.0,9,  -999.00,9,  -999.00,9,  -999.00,9,     -999,9, -999.000,9, -999.000,9, -999.000,9, -999.000,9, -999.000,9,   -999.0,9,   -999.0,9,-999.0000,9,  -999.00,  -1.4916
  18HU20100513, AR07W,   264,  1, 369728,      5,2,20100524,1822, 53.8918, -55.0797,  151,     60.0,  -1.6631,  32.6944,2,-999.0000,9,    343.9,2,   -999.0,9,  -999.00,9,  -999.00,9,  -999.00,9,     -999,9, -999.000,9, -999.000,9, -999.000,9, -999.000,9, -999.000,9,   -999.0,9,   -999.0,9,-999.0000,9,  -999.00,  -1.6642
  18HU20100513, AR07W,   264,  1, 369729,      6,2,20100524,1822, 53.8918, -55.0797,  151,     50.0,  -1.7060,  32.6530,2,  32.6475,2,    347.3,2,    347.9,2,  -999.00,9,  -999.00,9,  -999.00,9,     -999,9,    6.833,2,    3.775,2,    0.715,2,    8.557,2,    2.380,2,   2114.3,2,   2224.9,2,   8.1198,2,    -1.70,  -1.7068
  18HU20100513, AR07W,   264,  1, 369730,      7,2,20100524,1822, 53.8918, -55.0797,  151,     41.0,  -1.7012,  32.6101,2,-999.0000,9,    345.5,2,   -999.0,9,  -999.00,9,  -999.00,9,  -999.00,9,     -999,9, -999.000,9, -999.000,9, -999.000,9, -999.000,9, -999.000,9,   -999.0,9,   -999.0,9,-999.0000,9,  -999.00,  -1.7019
  18HU20100513, AR07W,   264,  1, 369731,      8,2,20100524,1822, 53.8918, -55.0797,  151,     30.0,   0.3033,  32.2639,2,-999.0000,9,    386.9,2,   -999.0,9,  -999.00,9,  -999.00,9,  -999.00,9,     -999,9, -999.000,9, -999.000,9, -999.000,9, -999.000,9, -999.000,9,   -999.0,9,   -999.0,9,-999.0000,9,  -999.00,   0.3023
  18HU20100513, AR07W,   264,  1, 369732,      9,2,20100524,1822, 53.8918, -55.0797,  151,     20.0,   0.3351,  32.2581,2,-999.0000,9,    389.0,2,   -999.0,9,  -999.00,9,  -999.00,9,  -999.00,9,     -999,9, -999.000,9, -999.000,9, -999.000,9, -999.000,9, -999.000,9,   -999.0,9,   -999.0,9,-999.0000,9,  -999.00,   0.3344
  18HU20100513, AR07W,   264,  1, 369733,     10,2,20100524,1822, 53.8918, -55.0797,  151,     10.0,   0.3572,  32.2582,2,  32.2619,2,    389.2,2,    390.9,2,  -999.00,9,  -999.00,9,  -999.00,9,     -999,9,    6.803,2,    3.930,2,    0.713,2,    9.238,2,    1.962,2,   2031.2,2,   2210.4,2,   8.1518,2,     0.36,   0.3569
  18HU20100513, AR07W,   264,  1, 369734,     11,2,20100524,1822, 53.8918, -55.0797,  151,      2.0,   0.3606,  32.2584,2,-999.0000,9,    389.8,2,   -999.0,9,  -999.00,9,  -999.00,9,  -999.00,9,     -999,9, -999.000,9, -999.000,9, -999.000,9, -999.000,9, -999.000,9,   -999.0,9,   -999.0,9,-999.0000,9,  -999.00,   0.3605
  18HU20100513, AR07W,   265,  1, 369735,      1,2,20100524,2012, 53.7798, -55.3460,  228,    275.0,   0.1066,  33.6937,2,  33.6938,2,    312.6,2,    244.2,4,  -999.00,9,  -999.00,9,  -999.00,9,     -999,9,    6.118,2,    3.283,2,    0.508,2,    7.027,2,    2.684,2,   2135.2,6,   2260.6,6,   8.0944,2,     0.10,   0.0965
  18HU20100513, AR07W,   265,  1, 369736,      2,2,20100524,2012, 53.7798, -55.3460,  228,    219.0,  -0.3023,  33.5434,2,  33.5461,2,    317.0,2,    188.9,4,  -999.00,9,  -999.00,9,  -999.00,9,     -999,9,    6.027,2,    3.417,2,    0.647,2,    6.997,2,    2.916,2,   2132.4,2,   2248.5,2,   8.1080,2,    -0.30,  -0.3094
  18HU20100513, AR07W,   265,  1, 369737,      3,2,20100524,2012, 53.7798, -55.3460,  228,    161.0,  -1.0104,  33.2560,2,  33.2535,2,    330.1,2,    247.1,4,  -999.00,9,  -999.00,9,  -999.00,9,     -999,9,    6.547,2,    3.629,2,    0.621,2,    7.767,2,    2.940,2,   2122.0,2,   2234.9,2,   8.1195,2,    -1.03,  -1.0145
  18HU20100513, AR07W,   265,  1, 369738,      4,2,20100524,2012, 53.7798, -55.3460,  228,    133.0,  -1.3545,  33.0383,2,  33.0212,2,    333.1,2,    214.2,4,  -999.00,9,  -999.00,9,  -999.00,9,     -999,9,    6.746,2,    3.809,2,    0.615,2,    8.155,2,    3.230,2,   2118.5,2,   2230.7,2,   8.1234,2,    -1.36,  -1.3574
  18HU20100513, AR07W,   265,  1, 369739,      5,2,20100524,2012, 53.7798, -55.3460,  228,    100.0,  -1.4735,  32.8608,2,  32.8647,2,    338.0,2,    206.8,4,  -999.00,9,  -999.00,9,  -999.00,9,     -999,9,    6.564,2,    3.624,2,    0.594,2,    7.915,2,    2.672,2,   2115.8,2,   2227.7,2,   8.1311,2,    -1.47,  -1.4755
  18HU20100513, AR07W,   265,  1, 369740,      6,2,20100524,2012, 53.7798, -55.3460,  228,     80.0,  -1.6560,  32.7032,2,-999.0000,9,    343.7,2,   -999.0,9,  -999.00,9,  -999.00,9,  -999.00,9,     -999,9, -999.000,9, -999.000,9, -999.000,9, -999.000,9, -999.000,9,   -999.0,9,   -999.0,9,-999.0000,9,  -999.00,  -1.6574
  18HU20100513, AR07W,   265,  1, 369741,      7,2,20100524,2012, 53.7798, -55.3460,  228,     61.0,  -1.6825,  32.6320,2,-999.0000,9,    346.3,2,   -999.0,9,  -999.00,9,  -999.00,9,  -999.00,9,     -999,9, -999.000,9, -999.000,9, -999.000,9, -999.000,9, -999.000,9,   -999.0,9,   -999.0,9,-999.0000,9,  -999.00,  -1.6836
  18HU20100513, AR07W,   265,  1, 369742,      8,2,20100524,2012, 53.7798, -55.3460,  228,     51.0,  -0.7790,  32.4715,2,  32.2681,3,    386.7,2,   -999.0,9,  -999.00,9,  -999.00,9,  -999.00,9,     -999,9,    6.948,2,    3.935,2,    0.680,2,    9.571,2,    2.317,2,   2042.0,2,   2205.9,2,   8.0295,4,     0.24,  -0.7803
  18HU20100513, AR07W,   265,  1, 369743,      9,2,20100524,2012, 53.7798, -55.3460,  228,     40.0,   0.5558,  32.2309,2,-999.0000,9,    388.2,2,   -999.0,9,  -999.00,9,  -999.00,9,  -999.00,9,     -999,9, -999.000,9, -999.000,9, -999.000,9, -999.000,9, -999.000,9,   -999.0,9,   -999.0,9,-999.0000,9,  -999.00,   0.5544
  18HU20100513, AR07W,   265,  1, 369744,     10,2,20100524,2012, 53.7798, -55.3460,  228,     30.0,   0.5613,  32.2302,2,-999.0000,9,    388.7,2,   -999.0,9,  -999.00,9,  -999.00,9,  -999.00,9,     -999,9, -999.000,9, -999.000,9, -999.000,9, -999.000,9, -999.000,9,   -999.0,9,   -999.0,9,-999.0000,9,  -999.00,   0.5602
  18HU20100513, AR07W,   265,  1, 369745,     11,2,20100524,2012, 53.7798, -55.3460,  228,     20.0,   0.5633,  32.2301,2,-999.0000,9,    388.6,2,   -999.0,9,  -999.00,9,  -999.00,9,  -999.00,9,     -999,9, -999.000,9, -999.000,9, -999.000,9, -999.000,9, -999.000,9,   -999.0,9,   -999.0,9,-999.0000,9,  -999.00,   0.5626
  18HU20100513, AR07W,   265,  1, 369746,     12,2,20100524,2012, 53.7798, -55.3460,  228,     10.0,   0.5644,  32.2303,2,  32.2341,2,    388.6,2,    257.4,4,  -999.00,9,  -999.00,9,  -999.00,9,     -999,9,    6.931,2,    3.833,2,    0.675,2,    9.742,2,    2.863,2,   2030.6,2,   2204.8,2,   8.1697,2,     0.57,   0.5640
  18HU20100513, AR07W,   265,  1, 369747,     13,2,20100524,2012, 53.7798, -55.3460,  228,      3.0,   0.5781,  32.2297,2,-999.0000,9,    388.9,2,   -999.0,9,  -999.00,9,  -999.00,9,  -999.00,9,     -999,9, -999.000,9, -999.000,9, -999.000,9, -999.000,9, -999.000,9,   -999.0,9,   -999.0,9,-999.0000,9,  -999.00,   0.5780
  18HU20100513, AR07W,   266,  1, 369748,      1,2,20100524,2125, 53.6825, -55.5580,  310,    143.0,  -1.4484,  32.8531,2,-999.0000,9,    331.4,2,    332.6,2,  -999.00,9,  -999.00,9,  -999.00,9,     -999,9,    6.592,2,    3.684,2,    0.692,2,    7.623,2,    3.790,2,   2121.0,2,   2229.0,2,   8.1104,2,    -1.45,  -1.4513
  18HU20100513, AR07W,   266,  1, 369749,      2,2,20100524,2125, 53.6825, -55.5580,  310,    126.0,  -1.4783,  32.8278,2,-999.0000,9,    332.2,2,    334.7,2,  -999.00,9,  -999.00,9,  -999.00,9,     -999,9,    6.661,2,    3.672,2,    0.660,2,    7.882,2,    3.207,2,   2119.2,6,   2217.5,6,   8.1059,2,    -1.49,  -1.4808
  18HU20100513, AR07W,   266,  1, 369750,      3,2,20100524,2125, 53.6825, -55.5580,  310,    100.0,  -1.5283,  32.7496,2,-999.0000,9,    333.5,2,    336.0,6,  -999.00,9,  -999.00,9,  -999.00,9,     -999,9,    6.657,4,    3.689,4,    0.565,4,    7.791,4,    2.819,4,   2119.7,2,   2210.2,2,   8.1236,2,    -1.53,  -1.5302
  18HU20100513, AR07W,   266,  1, 369751,      4,2,20100524,2125, 53.6825, -55.5580,  310,     81.0,  -1.5559,  32.7098,2,-999.0000,9,    334.6,2,   -999.0,9,  -999.00,9,  -999.00,9,  -999.00,9,     -999,9, -999.000,9, -999.000,9, -999.000,9, -999.000,9, -999.000,9,   -999.0,9,   -999.0,9,-999.0000,9,  -999.00,  -1.5574
  18HU20100513, AR07W,   266,  1, 369752,      5,2,20100524,2125, 53.6825, -55.5580,  310,     60.0,  -1.6106,  32.6037,2,-999.0000,9,    337.2,2,   -999.0,9,  -999.00,9,  -999.00,9,  -999.00,9,     -999,9, -999.000,9, -999.000,9, -999.000,9, -999.000,9, -999.000,9,   -999.0,9,   -999.0,9,-999.0000,9,  -999.00,  -1.6117
  18HU20100513, AR07W,   266,  1, 369753,      6,2,20100524,2125, 53.6825, -55.5580,  310,     50.0,  -1.5783,  32.5053,2,-999.0000,9,    341.0,2,    342.8,2,  -999.00,9,  -999.00,9,  -999.00,9,     -999,9,    6.577,2,    3.762,3,    0.658,2,    7.890,2,    5.667,2,   2111.9,2,   2213.1,2,   8.1158,2,    -1.57,  -1.5792
  18HU20100513, AR07W,   266,  1, 369754,      7,2,20100524,2125, 53.6825, -55.5580,  310,     40.0,  -0.9423,  32.3005,2,-999.0000,9,    366.5,2,   -999.0,9,  -999.00,9,  -999.00,9,  -999.00,9,     -999,9, -999.000,9, -999.000,9, -999.000,9, -999.000,9, -999.000,9,   -999.0,9,   -999.0,9,-999.0000,9,  -999.00,  -0.9432
  18HU20100513, AR07W,   266,  1, 369755,      8,2,20100524,2125, 53.6825, -55.5580,  310,     31.0,   0.0833,  32.1473,2,-999.0000,9,    402.3,2,   -999.0,9,  -999.00,9,  -999.00,9,  -999.00,9,     -999,9, -999.000,9, -999.000,9, -999.000,9, -999.000,9, -999.000,9,   -999.0,9,   -999.0,9,-999.0000,9,  -999.00,   0.0823
  18HU20100513, AR07W,   266,  1, 369756,      9,2,20100524,2125, 53.6825, -55.5580,  310,     20.0,   0.1406,  32.1405,2,-999.0000,9,    403.6,2,   -999.0,9,  -999.00,9,  -999.00,9,  -999.00,9,     -999,9, -999.000,9, -999.000,9, -999.000,9, -999.000,9, -999.000,9,   -999.0,9,   -999.0,9,-999.0000,9,  -999.00,   0.1400
  18HU20100513, AR07W,   266,  1, 369757,     10,2,20100524,2125, 53.6825, -55.5580,  310,     10.0,   0.1409,  32.1405,2,-999.0000,9,    404.0,2,    404.9,2,  -999.00,9,  -999.00,9,  -999.00,9,     -999,9,    7.036,2,    3.979,3,    0.605,2,    9.750,2,    5.789,2,   2019.1,2,   2196.3,2,   8.1727,2,     0.14,   0.1406
  18HU20100513, AR07W,   266,  1, 369758,     11,2,20100524,2125, 53.6825, -55.5580,  310,      2.0,   0.1413,  32.1408,2,-999.0000,9,    403.3,2,   -999.0,9,  -999.00,9,  -999.00,9,  -999.00,9,     -999,9, -999.000,9, -999.000,9, -999.000,9, -999.000,9, -999.000,9,   -999.0,9,   -999.0,9,-999.0000,9,  -999.00,   0.1412