BOTTLE,20140111SIOCCHRJL
EXPOCODE,SECT_ID,STNNBR,CASTNO,SAMPNO,BTLNBR,BTLNBR_FLAG_W,DATE,TIME,LATITUDE,LONGITUDE,DEPTH,CTDPRS,CTDTMP,CTDSAL,CTDSAL_FLAG_W,SALNTY,SALNTY_FLAG_W,CTDOXY,CTDOXY_FLAG_W,OXYGEN,OXYGEN_FLAG_W,SILCAT,SILCAT_FLAG_W,NITRAT,NITRAT_FLAG_W,PHSPHT,PHSPHT_FLAG_W,NH4,NH4_FLAG_W,CFC-11,CFC-11_FLAG_W,CFC-12,CFC-12_FLAG_W,CFC113,CFC113_FLAG_W,CCL4,CCL4_FLAG_W,MCHFRM,MCHFRM_FLAG_W,TCARBN,TCARBN_FLAG_W,ALKALI,ALKALI_FLAG_W,PH_TOT,PH_TOT_FLAG_W,PH_TMP,THETA
,,,,,,,,,,,METERS,DBAR,ITS-90,PSS-78,,PSS-78,,UMOL/KG,,UMOL/KG,,UMOL/KG,,UMOL/KG,,UMOL/KG,,UMOL/KG,,PMOL/KG,,PMOL/KG,,PMOL/KG,,PMOL/KG,,PMOL/KG,,UMOL/KG,,UMOL/KG,,,,DEG C,DEG C
  18HU20100513, AR07W,   286,  1, 369940,      1,2,20100529,1011, 42.8493, -61.7322, 1044,   1037.0,   4.3363,  34.9532,2,  34.9540,6,    258.0,2,    257.8,2,    11.58,6,    17.47,6,     1.43,6,     0.16,6,    3.096,2,    1.714,2, -999.000,9,    2.746,2,    4.704,2,   2173.0,6,   2309.1,6,-999.0000,9,  -999.00,   4.2541
  18HU20100513, AR07W,   286,  1, 369941,      2,2,20100529,1011, 42.8493, -61.7322, 1044,    751.0,   4.7672,  34.9638,2,  34.9646,2,    246.6,2,    241.8,2,    11.38,6,    17.89,6,     1.44,6,     0.15,6,    2.961,2,    1.669,2,    0.085,2,    2.597,2,    2.964,2,   2173.5,2,   2303.2,2,-999.0000,9,  -999.00,   4.7068
  18HU20100513, AR07W,   286,  1, 369942,      3,2,20100529,1011, 42.8493, -61.7322, 1044,    501.0,   6.3812,  35.0226,2,  35.0244,2,    193.5,2,    196.2,4,    13.30,6,    20.76,6,     1.64,6,     0.14,6,    1.998,2,    0.897,2,    0.065,2,    1.407,2,    2.549,2,   2187.8,2,   2311.3,2,-999.0000,9,  -999.00,   6.3355
  18HU20100513, AR07W,   286,  1, 369943,      4,2,20100529,1011, 42.8493, -61.7322, 1044,    251.0,  10.8729,  35.3886,2,  35.4068,2,    159.3,2,    163.2,2,    10.10,6,    19.46,6,     1.49,6,        0,6,    1.818,2,    0.828,2,    0.122,2,    0.791,2,    2.166,2,   2178.0,2,   2327.7,2,-999.0000,9,  -999.00,  10.8420
  18HU20100513, AR07W,   286,  1, 369944,      5,2,20100529,1011, 42.8493, -61.7322, 1044,    100.0,  13.3067,  35.6556,2,-999.0000,9,    219.2,2,    220.4,2,     4.15,6,     9.34,6,     0.80,6,     0.09,6,    2.617,2,    1.624,2,    0.099,2,    1.441,2,    7.714,2,   2130.5,2,   2346.6,2,-999.0000,9,  -999.00,  13.2927
  18HU20100513, AR07W,   286,  1, 369945,      6,2,20100529,1011, 42.8493, -61.7322, 1044,     81.0,  13.3832,  35.6425,2,-999.0000,9,    219.5,2,   -999.0,9,     3.98,6,     8.88,6,     0.78,6,     0.06,6,    2.588,2,    1.458,2,    0.061,2,    1.477,2,   13.978,2,   2129.7,2,   2343.7,2,-999.0000,9,  -999.00,  13.3718
  18HU20100513, AR07W,   286,  1, 369946,      7,2,20100529,1011, 42.8493, -61.7322, 1044,     60.0,  13.7100,  35.6842,2,-999.0000,9,    222.1,2,   -999.0,9,     3.50,6,     7.96,6,     0.71,6,      0.2,6, -999.000,9, -999.000,9, -999.000,9, -999.000,9, -999.000,9,   2124.4,2,   2359.1,2,-999.0000,9,  -999.00,  13.7014
  18HU20100513, AR07W,   286,  1, 369947,      8,2,20100529,1011, 42.8493, -61.7322, 1044,     51.0,  13.4019,  35.5441,2,-999.0000,9,    229.6,2,   -999.0,9,     3.04,6,     6.58,6,     0.64,6,     0.13,6,    2.823,2,    1.729,2,    0.198,2,    2.009,2,    8.454,2,   2117.8,2,   2344.3,2,-999.0000,9,  -999.00,  13.3947
  18HU20100513, AR07W,   286,  1, 369948,      9,2,20100529,1011, 42.8493, -61.7322, 1044,     41.0,  12.9915,  35.3632,2,-999.0000,9,    234.9,2,   -999.0,9,     2.59,6,     4.97,6,     0.59,6,     0.13,6, -999.000,9, -999.000,9, -999.000,9, -999.000,9, -999.000,9,   2107.4,2,   2325.8,2,-999.0000,9,  -999.00,  12.9859
  18HU20100513, AR07W,   286,  1, 369949,     10,2,20100529,1011, 42.8493, -61.7322, 1044,     31.0,  10.3586,  34.3748,2,-999.0000,9,    250.2,2,   -999.0,9,     4.17,6,     5.22,6,     0.78,6,     0.29,6, -999.000,9, -999.000,9, -999.000,9, -999.000,9, -999.000,9,   2099.6,2,   2266.5,2,-999.0000,9,  -999.00,  10.3550
  18HU20100513, AR07W,   286,  1, 369950,     11,2,20100529,1011, 42.8493, -61.7322, 1044,     21.0,   6.0439,  33.0652,2,-999.0000,9,    280.0,2,   -999.0,9,     2.81,6,     2.64,6,     0.66,6,        0,6, -999.000,9, -999.000,9, -999.000,9, -999.000,9, -999.000,9,   2066.2,2,   2225.3,2,-999.0000,9,  -999.00,   6.0422
  18HU20100513, AR07W,   286,  1, 369951,     12,2,20100529,1011, 42.8493, -61.7322, 1044,     11.0,   9.2008,  32.9784,2,-999.0000,9,    294.5,2,      6.2,3,     1.21,6,     0.65,6,     0.38,6,        0,6,    3.825,2,    2.444,2,    0.282,2,    4.090,2,    0.969,2,   2035.6,2,   2254.7,2,   8.0925,2,     9.75,   9.1996
  18HU20100513, AR07W,   286,  1, 369952,     13,2,20100529,1011, 42.8493, -61.7322, 1044,      2.0,   9.7777,  32.8232,2,-999.0000,9,    293.3,2,   -999.0,9,     1.02,6,     0.59,6,     0.37,6,     0.06,6,    3.870,2,    2.415,2,    0.258,2,    4.115,2,    1.003,2,   2033.8,2,   2217.2,2,   8.0547,2,     9.78,   9.7775
  18HU20100513, AR07W,   290,  1, 369953,      1,2,20100529,2104, 44.2665, -63.3178,  152,    143.0,   7.0500,  33.9216,2,  33.9070,2,    168.4,2,    174.1,2,    15.26,6,    15.46,6,     1.53,6,        0,6,    3.706,2,    2.278,2,    0.218,2,    2.016,2,    2.122,2,   2181.7,6,   2256.9,3,   7.8789,2,     7.04,   7.0368
  18HU20100513, AR07W,   290,  1, 369954,      2,2,20100529,2104, 44.2665, -63.3178,  152,    100.0,   3.0040,  32.6904,2,-999.0000,9,    270.2,2,   -999.0,9,     6.17,6,     7.22,6,     1.19,6,     1.79,6,    5.119,2,    3.082,2,    0.322,2,    3.770,2,    0.939,2,   2122.9,2,   2209.9,2,   7.9905,2,     3.12,   2.9982
  18HU20100513, AR07W,   290,  1, 369955,      3,2,20100529,2104, 44.2665, -63.3178,  152,     81.0,   2.4298,  32.5030,2,-999.0000,9,    278.2,2,   -999.0,9,     6.74,6,     7.34,6,     1.16,6,     1.02,6,    5.283,2,    3.204,2,    0.288,2,    3.860,2,    1.086,2,   2115.5,2,   2201.0,2,   7.9966,2,     2.42,   2.4256
  18HU20100513, AR07W,   290,  1, 369956,      4,2,20100529,2104, 44.2665, -63.3178,  152,     60.0,   2.1945,  32.3011,2,-999.0000,9,    292.2,2,   -999.0,9,     5.43,6,     6.08,6,     1.07,6,     1.03,6, -999.000,9, -999.000,9, -999.000,9, -999.000,9, -999.000,9,   2104.5,2,   2193.0,2,   8.0524,2,     2.17,   2.1915
  18HU20100513, AR07W,   290,  1, 369957,      5,2,20100529,2104, 44.2665, -63.3178,  152,     50.0,   3.1127,  32.2784,2,-999.0000,9,    302.1,2,   -999.0,9,     3.42,6,     3.52,6,     0.90,6,     0.92,6,    5.302,2,    3.192,2,    0.279,2,    4.240,2,    1.698,2,   2085.4,2,   2192.0,2,   8.0635,2,     2.80,   3.1098
  18HU20100513, AR07W,   290,  1, 369958,      6,2,20100529,2104, 44.2665, -63.3178,  152,     40.0,   3.0155,  32.1411,2,-999.0000,9,    321.5,2,   -999.0,9,     1.76,6,     1.73,6,     0.76,6,     0.58,6, -999.000,9, -999.000,9, -999.000,9, -999.000,9, -999.000,9,   2071.6,2,   2186.4,2,   8.1140,2,     2.87,   3.0133
  18HU20100513, AR07W,   290,  1, 369959,      7,2,20100529,2104, 44.2665, -63.3178,  152,     30.0,   4.7703,  32.0287,2,-999.0000,9,    321.4,2,   -999.0,9,     1.08,6,     0.87,6,     0.58,6,     0.46,6, -999.000,9, -999.000,9, -999.000,9, -999.000,9, -999.000,9,   2051.0,2,   2182.8,2,   8.0831,3,     4.47,   4.7682
  18HU20100513, AR07W,   290,  1, 369960,      8,2,20100529,2104, 44.2665, -63.3178,  152,     20.0,   7.1084,  31.5184,2,-999.0000,9,    323.6,2,   -999.0,9,     0.88,6,     0.63,6,     0.44,6,      0.3,6, -999.000,9, -999.000,9, -999.000,9, -999.000,9, -999.000,9,   2019.5,2,   2167.0,2,   8.0752,2,     7.19,   7.1066
  18HU20100513, AR07W,   290,  1, 369961,      9,2,20100529,2104, 44.2665, -63.3178,  152,     11.0,   7.5644,  31.1243,2,-999.0000,9,    318.9,2,   -999.0,9,     0.45,6,     0.58,6,     0.40,6,     0.16,6,    4.621,2,    2.871,2,    0.192,2,    4.207,2,   10.865,2,   2003.4,2,   2153.1,2,   8.0994,2,     7.56,   7.5634
  18HU20100513, AR07W,   290,  1, 369962,     10,2,20100529,2104, 44.2665, -63.3178,  152,      2.0,   7.5475,  31.0393,2,-999.0000,9,    318.2,2,   -999.0,9,     0.38,6,     0.58,6,     0.40,6,     0.22,6,    4.608,2,    2.855,2,    0.243,2,    4.221,2,    4.161,2,   1995.6,2,   2158.8,2,   8.0801,2,     7.55,   7.5473
  18HU20100513, AR07W,   293,  1, 369963,      1,2,20100530,0102, 43.8830, -62.8808,  264,    252.0,   9.5210,  34.9303,2,  34.9311,2,    124.5,2,    228.5,4,    19.24,6,    19.99,6,     1.66,6,     1.32,6,    2.345,2,    1.441,2, -999.000,9,    0.853,2,    2.479,2,   2210.6,2,   2321.4,2,   7.8803,2,     9.52,   9.4926
  18HU20100513, AR07W,   293,  1, 369964,      2,2,20100530,0102, 43.8830, -62.8808,  264,    200.0,   9.4763,  34.8554,2,-999.0000,9,    127.5,2,   -999.0,9,    16.05,6,    19.55,6,     1.60,6,     0.11,6,    2.527,2,    1.609,2,    0.004,2,    0.929,2,    1.802,2,   2204.4,2,   2317.9,2,   7.8828,2,     9.48,   9.4539
  18HU20100513, AR07W,   293,  1, 369965,      3,2,20100530,0102, 43.8830, -62.8808,  264,    100.0,   8.4261,  34.2950,2,-999.0000,9,    165.8,2,   -999.0,9,    12.08,6,    15.80,6,     1.41,6,     0.07,6,    3.251,2,    2.037,2,    0.073,2,    1.476,2,    1.027,2,   2173.9,2,   2290.5,2,   7.9159,2,     8.45,   8.4158
  18HU20100513, AR07W,   293,  1, 369966,      4,2,20100530,0102, 43.8830, -62.8808,  264,     81.0,   7.7824,  34.0640,2,-999.0000,9,    180.1,2,   -999.0,9,    10.21,6,    14.03,6,     1.36,6,      0.1,6,    3.674,2,    2.265,2,    0.076,2,    1.970,2,    1.086,2,   2161.3,2,   2270.6,2,   7.9283,2,     7.18,   7.7745
  18HU20100513, AR07W,   293,  1, 369967,      5,2,20100530,0102, 43.8830, -62.8808,  264,     61.0,   5.7334,  33.3915,2,-999.0000,9,    224.8,2,   -999.0,9,     6.80,6,    10.67,6,     1.22,6,     0.13,6, -999.000,9, -999.000,9, -999.000,9, -999.000,9, -999.000,9,   2136.0,2,   2247.8,2,   7.9637,2,     5.42,   5.7285
  18HU20100513, AR07W,   293,  1, 369968,      6,2,20100530,0102, 43.8830, -62.8808,  264,     51.0,   4.4400,  32.9665,2,-999.0000,9,    261.8,2,   -999.0,9,     4.52,6,     6.95,6,     1.07,6,     0.88,6,    4.742,2,    2.874,2,    0.179,2,    3.586,2,    2.261,2,   2111.4,2,   2247.3,2,   8.0081,2,     4.04,   4.4365
  18HU20100513, AR07W,   293,  1, 369969,      7,2,20100530,0102, 43.8830, -62.8808,  264,     41.0,   3.8983,  32.7528,2,-999.0000,9,    289.1,2,   -999.0,9,     3.05,6,     3.51,6,     0.87,6,     0.73,6, -999.000,9, -999.000,9, -999.000,9, -999.000,9, -999.000,9,   2084.2,2,   2223.7,2,   8.0591,2,     3.65,   3.8957
  18HU20100513, AR07W,   293,  1, 369970,      8,2,20100530,0102, 43.8830, -62.8808,  264,     30.0,   3.6912,  32.3685,2,-999.0000,9,    339.4,2,   -999.0,9,     2.29,6,     0.77,6,     0.65,6,     0.36,6, -999.000,9, -999.000,9, -999.000,9, -999.000,9, -999.000,9,   2052.5,2,   2223.8,2,   8.1130,2,     3.70,   3.6893
  18HU20100513, AR07W,   293,  1, 369971,      9,2,20100530,0102, 43.8830, -62.8808,  264,     20.0,   5.1958,  32.1892,2,-999.0000,9,    355.4,2,   -999.0,9,     0.63,6,     0.57,6,     0.43,6,     0.14,6, -999.000,9, -999.000,9, -999.000,9, -999.000,9, -999.000,9,   2031.2,2,   2204.6,2,   8.0756,2,     8.58,   5.1943
  18HU20100513, AR07W,   293,  1, 369972,     10,2,20100530,0102, 43.8830, -62.8808,  264,     10.0,   8.9580,  31.9580,2,-999.0000,9,    298.2,2,    306.6,2,     0.69,6,     0.57,6,     0.42,6,     0.16,6,    4.095,2,    2.553,2,    0.247,2,    3.738,2,    1.619,2,   2029.8,2,   2204.3,2,   8.0702,3,     8.96,   8.9570
  18HU20100513, AR07W,   293,  1, 369973,     11,2,20100530,0102, 43.8830, -62.8808,  264,      2.0,   8.9777,  31.9575,2,-999.0000,9,    299.0,2,   -999.0,9,     0.68,6,     0.58,6,     0.43,6,     0.21,6,    4.064,2,    2.579,2,    0.201,2,    3.614,2,    3.271,2,   2029.7,2,   2203.5,2,   8.0771,2,     8.98,   8.9775