BOTTLE,20140111SIOCCHRJL
EXPOCODE,SECT_ID,STNNBR,CASTNO,SAMPNO,BTLNBR,BTLNBR_FLAG_W,DATE,TIME,LATITUDE,LONGITUDE,DEPTH,CTDPRS,CTDTMP,CTDSAL,CTDSAL_FLAG_W,SALNTY,SALNTY_FLAG_W,CTDOXY,CTDOXY_FLAG_W,OXYGEN,OXYGEN_FLAG_W,SILCAT,SILCAT_FLAG_W,NITRAT,NITRAT_FLAG_W,PHSPHT,PHSPHT_FLAG_W,NH4,NH4_FLAG_W,CFC-11,CFC-11_FLAG_W,CFC-12,CFC-12_FLAG_W,CFC113,CFC113_FLAG_W,CCL4,CCL4_FLAG_W,MCHFRM,MCHFRM_FLAG_W,TCARBN,TCARBN_FLAG_W,ALKALI,ALKALI_FLAG_W,PH_TOT,PH_TOT_FLAG_W,PH_TMP,THETA
,,,,,,,,,,,METERS,DBAR,ITS-90,PSS-78,,PSS-78,,UMOL/KG,,UMOL/KG,,UMOL/KG,,UMOL/KG,,UMOL/KG,,UMOL/KG,,PMOL/KG,,PMOL/KG,,PMOL/KG,,PMOL/KG,,PMOL/KG,,UMOL/KG,,UMOL/KG,,,,DEG C,DEG C
  18HU20100513, AR07W,   203,  1, 369513,      1,2,20100522,1352, 56.5392, -52.6895, 3420,   3535.0,   1.6155,  34.8874,2,  34.8849,2,    300.9,2,    289.0,2,    10.32,6,    13.94,6,     0.97,6,     0.22,6,    4.092,2,    2.230,2, -999.000,9,    3.304,2,    7.017,2,   2164.6,6,   2301.8,2,   7.9560,2,     1.61,   1.3416
  18HU20100513, AR07W,   203,  1, 369514,      2,2,20100522,1352, 56.5392, -52.6895, 3420,   3460.0,   1.7312,  34.8920,2,  34.8912,2,    299.4,2,    267.7,4,    10.15,6,    14.08,6,     0.97,6,     0.38,6,    4.049,2,    2.218,2,    0.200,2,    3.342,2,    4.449,2,   2162.5,2,   2303.8,6,   7.9776,2,     1.74,   1.4622
  18HU20100513, AR07W,   203,  1, 369515,      3,2,20100522,1352, 56.5392, -52.6895, 3420,   3380.0,   1.9706,  34.8943,2,  34.8918,2,    296.2,2,    278.1,3,    10.27,6,    14.33,6,     0.99,6,     0.28,6,    3.867,2,    1.996,2,    0.158,2,    3.158,2,    3.299,2,   2159.4,2,   2315.5,2,   7.9785,2,     1.97,   1.7040
  18HU20100513, AR07W,   203,  1, 369516,      4,2,20100522,1352, 56.5392, -52.6895, 3420,   3281.0,   2.2089,  34.9000,2,  34.8979,2,    288.6,2,    278.5,2,    12.33,6,    15.04,6,     1.03,6,     0.28,6,    3.276,2,    1.550,2, -999.000,9,    2.712,2,    3.497,2,   2158.3,2,   2290.2,3,   7.9903,2,     2.23,   1.9468
  18HU20100513, AR07W,   203,  1, 369517,      5,2,20100522,1352, 56.5392, -52.6895, 3420,   3158.0,   2.4411,  34.9069,2,  34.9042,2,    285.1,2,    282.7,2,    13.18,6,    15.53,6,     1.06,6,     0.89,6,    3.023,2,    1.564,2,    0.128,2,    2.621,2,    4.800,2,   2159.8,2,   2312.2,2,   7.9829,2,     2.44,   2.1863
  18HU20100513, AR07W,   203,  1, 369518,      6,2,20100522,1352, 56.5392, -52.6895, 3420,   3032.0,   2.5790,  34.9128,2,  34.9130,6,    282.8,2,    281.7,2,    13.40,6,    15.70,6,     1.08,6,     0.45,6,    2.837,2,    1.275,2,    0.119,2,    2.453,2,    4.230,2,   2157.7,2,   2313.8,2,   7.9811,2,     2.59,   2.3341
  18HU20100513, AR07W,   203,  1, 369519,      7,2,20100522,1352, 56.5392, -52.6895, 3420,   2859.0,   2.7730,  34.9194,2,  34.9185,2,    280.6,2,    280.1,2,    13.19,6,    15.92,6,     1.09,6,     0.23,6,    2.788,2,    1.319,2, -999.000,9,    2.392,2,    4.084,2,   2161.2,2,   2295.8,2,   7.9933,2,     2.78,   2.5417
  18HU20100513, AR07W,   203,  1, 369520,      8,2,20100522,1352, 56.5392, -52.6895, 3420,   2657.0,   2.9249,  34.9172,2,  34.9166,2,    279.7,2,    276.8,2,    12.81,6,    16.19,6,     1.10,6,     0.29,6,    2.777,2,    1.270,2, -999.000,9,    2.330,2,    5.347,2,   2159.5,2,   2312.2,2,   7.9944,2,     2.93,   2.7109
  18HU20100513, AR07W,   203,  1, 369521,      9,2,20100522,1352, 56.5392, -52.6895, 3420,   2440.0,   3.0486,  34.9135,2,  34.9121,2,    279.4,2,    131.1,4,    12.59,6,    16.34,6,     1.10,6,     0.28,6,    2.834,2,    1.307,2,    0.066,2,    2.487,2,    4.258,2,   2159.3,2,   2313.5,2,   8.0006,2,     3.05,   2.8537
  18HU20100513, AR07W,   203,  1, 369522,     10,2,20100522,1352, 56.5392, -52.6895, 3420,   2212.0,   3.1952,  34.9091,2,  34.9080,6,    278.9,2,    129.6,4,    11.96,6,    16.70,6,     1.12,6,     0.26,6,    3.005,2,    1.496,2,    0.082,2,    2.524,2,    5.220,2,   2159.3,2,   2306.1,2,   8.0185,2,     3.20,   3.0199
  18HU20100513, AR07W,   203,  1, 369523,     11,2,20100522,1352, 56.5392, -52.6895, 3420,   1970.0,   3.3424,  34.9069,2,  34.9065,2,    277.9,2,    122.8,4,    11.67,6,    16.82,6,     1.13,6,     0.29,6,    3.182,2,    1.825,2,    0.225,2,    2.613,2,    4.780,2,   2158.0,2,   2307.4,2,   8.0199,2,     3.35,   3.1876
  18HU20100513, AR07W,   203,  1, 369524,     12,2,20100522,1352, 56.5392, -52.6895, 3420,   1732.0,   3.5055,  34.9089,2,  34.9079,2,    275.8,2,    274.9,2,    11.44,6,    16.88,6,     1.13,6,      0.3,6,    3.305,2,    1.592,2,    0.458,3,    2.612,2,    3.700,2,   2159.0,2,   2301.5,2,   8.0237,2,     3.51,   3.3703
  18HU20100513, AR07W,   203,  1, 369525,     13,2,20100522,1352, 56.5392, -52.6895, 3420,   1502.0,   3.6157,  34.9023,2,  34.8999,2,    277.7,2,    275.8,2,    10.74,6,    16.86,6,     1.13,6,      0.2,6,    3.588,2,    1.806,2, -999.000,9,    2.776,2,    3.691,2,   2159.8,2,   2293.4,2,   8.0172,2,     3.61,   3.4998
  18HU20100513, AR07W,   203,  1, 369526,     14,2,20100522,1352, 56.5392, -52.6895, 3420,   1279.0,   3.5488,  34.8745,2,  34.8743,2,    286.5,2,    285.1,2,    10.03,6,    16.26,6,     1.11,6,     0.28,6,    4.143,2,    2.216,2, -999.000,9,    3.224,2,    2.666,2,   2159.1,2,   2302.0,2,   8.0281,2,     3.55,   3.4530
  18HU20100513, AR07W,   203,  1, 369527,     15,2,20100522,1352, 56.5392, -52.6895, 3420,   1071.0,   3.6082,  34.8737,2,  34.8739,2,    286.4,2,    191.9,4,     9.72,6,    16.34,6,     1.11,6,     0.26,6,    4.253,2,    2.364,2,    0.088,2,    3.265,2,    2.555,2,   2158.7,2,   2285.6,2,   8.0421,2,     3.61,   3.5292
  18HU20100513, AR07W,   203,  1, 369528,     16,2,20100522,1352, 56.5392, -52.6895, 3420,    870.0,   3.6582,  34.8698,2,  34.8692,2,    286.5,2,    185.5,4,     9.46,6,    16.33,6,     1.10,6,     0.17,6,    4.195,2,    2.267,2, -999.000,9,    3.305,2,    2.453,2,   2160.3,2,   2299.1,2,   8.0511,2,     3.66,   3.5950
  18HU20100513, AR07W,   203,  1, 369529,     17,2,20100522,1352, 56.5392, -52.6895, 3420,    680.0,   3.7293,  34.8679,2,  34.8672,2,    286.4,2,    254.0,4,     9.33,6,    16.34,6,     1.09,6,     0.24,6,    4.267,2,    2.792,2, -999.000,9,    3.360,2,    2.409,2,   2162.2,2,   2283.9,2,   8.0524,2,     3.73,   3.6805
  18HU20100513, AR07W,   203,  1, 369530,     18,2,20100522,1352, 56.5392, -52.6895, 3420,    510.0,   3.7670,  34.8583,2,  34.8574,2,    288.7,2,    268.6,3,     9.09,6,    16.16,6,     1.09,6,     0.51,6,    4.374,2,    2.674,2,    0.121,2,    3.521,2,    1.959,2,   2160.0,2,   2306.5,2,   8.0691,2,     3.77,   3.7309
  18HU20100513, AR07W,   203,  1, 369531,     19,2,20100522,1352, 56.5392, -52.6895, 3420,    359.0,   3.9948,  34.8661,2,-999.0000,9,    283.9,2,    265.1,3,     9.00,6,    16.10,6,     1.08,6,     0.32,6,    4.263,2,    2.428,2,    0.086,2,    3.349,2,    1.889,2,   2161.3,2,   2290.8,2,   8.0657,2,     3.99,   3.9692
  18HU20100513, AR07W,   203,  1, 369532,     20,2,20100522,1352, 56.5392, -52.6895, 3420,    241.0,   4.0911,  34.8451,2,-999.0000,9,    281.0,2,    224.2,4,     8.89,6,    16.04,6,     1.08,6,     0.32,6,    4.234,2,    2.401,2,    0.080,2,    3.351,2,    1.984,2,   2156.8,2,   2289.2,2,   8.0547,2,     4.09,   4.0739
  18HU20100513, AR07W,   203,  1, 369533,     21,2,20100522,1352, 56.5392, -52.6895, 3420,    141.0,   3.6767,  34.7317,2,-999.0000,9,    298.6,2,    297.3,2,     7.70,6,    14.41,6,     1.01,6,     0.28,6,    4.626,2,    2.691,2,    0.126,2,    4.021,2,    1.413,2,   2148.9,2,   2274.8,2,   8.0807,2,     3.58,   3.6673
  18HU20100513, AR07W,   203,  1, 369534,     22,2,20100522,1352, 56.5392, -52.6895, 3420,     70.0,   3.7757,  34.6198,2,-999.0000,9,    309.5,2,    308.9,2,     6.82,6,    11.79,6,     0.88,6,     0.72,6,    4.776,2,    2.766,2,    0.130,2,    4.267,2,    1.084,2,   2137.8,2,   2263.6,2,   8.0993,2,     3.85,   3.7710
  18HU20100513, AR07W,   203,  1, 369535,     23,2,20100522,1352, 56.5392, -52.6895, 3420,     36.0,   4.5257,  34.5378,2,-999.0000,9,    323.9,2,    321.5,2,     1.63,6,     8.57,6,     0.66,6,     0.81,6,    4.856,2,    2.846,2,    0.176,2,    4.456,2,    2.251,2,   2122.2,2,   2287.8,2,   8.1125,2,     4.53,   4.5231
  18HU20100513, AR07W,   203,  1, 369536,     24,2,20100522,1352, 56.5392, -52.6895, 3420,      4.0,   4.5252,  34.5343,2,-999.0000,9,    325.8,2,    320.6,2,     1.64,6,     8.59,6,     0.65,6,     0.58,6,    4.773,2,    2.834,2,    0.170,2,    4.433,2,    1.385,2,   -999.0,9,   2270.8,2,   8.1174,2,     4.53,   4.5249
  18HU20100513, AR07W,   212,  1, 369537,      1,2,20100522,1953, 56.1130, -53.1197, 3258,   3368.0,   1.6248,  34.8897,2,  34.8902,2,    299.1,2,    299.4,2,    10.72,6,    13.98,6,     0.96,6,      0.5,6,    4.232,2,    3.100,2,    0.112,2,    4.592,2,    4.769,2,   2162.0,3,   2303.6,6,   7.9621,2,     1.63,   1.3678
  18HU20100513, AR07W,   212,  1, 369538,      2,2,20100522,1953, 56.1130, -53.1197, 3258,   3302.0,   1.7593,  34.8940,2,  34.8958,2,    297.0,2,    297.4,2,    10.31,6,    14.10,6,     0.97,6,     0.35,6,    4.194,2,    2.858,2,    0.153,2,    4.567,2,    5.118,2,   2161.7,3,   2314.3,2,   7.9717,2,     1.77,   1.5057
  18HU20100513, AR07W,   212,  1, 369539,      3,2,20100522,1953, 56.1130, -53.1197, 3258,   3219.0,   1.9429,  34.8974,2,  34.8985,2,    294.2,2,    293.9,2,    10.68,6,    14.52,6,     1.00,6,     0.47,6,    3.985,2,    2.296,2,    0.176,2,    4.470,2,    4.996,2,   2159.1,3,   2297.9,2,   7.9884,2,     1.95,   1.6934
  18HU20100513, AR07W,   212,  1, 369540,      4,2,20100522,1953, 56.1130, -53.1197, 3258,   3121.0,   2.1728,  34.8976,2,  34.9003,2,    290.2,2,    290.6,2,    11.43,6,    14.72,6,     1.02,6,     0.38,6,    3.553,2,    1.984,2,    0.156,2,    3.946,2,    4.718,2,   2158.2,3,   2296.3,2,   7.9991,2,     2.19,   1.9279
  18HU20100513, AR07W,   212,  1, 369541,      5,2,20100522,1953, 56.1130, -53.1197, 3258,   3002.0,   2.4511,  34.9059,2,  34.9078,2,    286.3,2,    286.2,2,    12.51,6,    15.28,6,     1.05,6,     0.33,6,    3.338,2,    1.845,2,    0.098,2,    3.714,2,    6.525,2,   2157.1,3,   2304.1,2,   7.9914,2,     2.46,   2.2121
  18HU20100513, AR07W,   212,  1, 369542,      6,2,20100522,1953, 56.1130, -53.1197, 3258,   2859.0,   2.6320,  34.9107,2,  34.9152,6,    283.8,2,    282.9,2,    12.44,6,    15.57,6,     1.07,6,     0.24,6,    3.153,2,    1.778,2,    0.040,2,    3.434,2,    5.299,2,   2157.6,3,   2304.2,2,   7.9705,3,     2.65,   2.4036
  18HU20100513, AR07W,   212,  1, 369543,      7,2,20100522,1953, 56.1130, -53.1197, 3258,   2700.0,   2.8291,  34.9180,2,  34.9180,2,    280.1,2,    280.6,2,    12.69,6,    15.99,6,     1.08,6,     0.24,6,    2.883,2,    1.531,2,    0.009,2,    3.079,2,    6.258,2,   2156.3,3,   2300.0,2,   7.9927,2,     2.83,   2.6127
  18HU20100513, AR07W,   212,  1, 369544,      8,2,20100522,1953, 56.1130, -53.1197, 3258,   2521.0,   2.9499,  34.9156,2,  34.9155,6,    279.9,2,    280.1,2,    12.13,6,    15.91,6,     1.09,6,     0.24,6,    2.998,2,    2.082,3,    0.032,2,    3.178,2,    7.745,2,   2156.1,3,   2298.7,2,   7.9956,2,     2.95,   2.7489
  18HU20100513, AR07W,   212,  1, 369545,      9,2,20100522,1953, 56.1130, -53.1197, 3258,   2319.0,   3.0794,  34.9129,2,  34.9153,2,    279.0,2,    278.7,2,    12.32,6,    16.34,6,     1.11,6,     0.44,6,    2.997,2,    1.392,2,    0.022,2,    3.277,2,    6.984,2,   2156.0,3,   2300.7,2,   7.9646,4,     3.08,   2.8957
  18HU20100513, AR07W,   212,  1, 369546,     10,2,20100522,1953, 56.1130, -53.1197, 3258,   2101.0,   3.2049,  34.9102,2,  34.9110,2,    279.1,2,    279.3,2,    11.52,6,    16.44,6,     1.12,6,     0.25,6,    3.265,2,    1.720,2,    0.060,2,    3.441,2,    5.936,2,   2155.4,3,   2298.7,2,   8.0139,2,     3.21,   3.0399
  18HU20100513, AR07W,   212,  1, 369547,     11,2,20100522,1953, 56.1130, -53.1197, 3258,   1879.0,   3.3447,  34.9074,2,  34.9079,2,    277.9,2,   -999.0,9,    11.39,6,    16.61,6,     1.12,6,     0.21,6,    3.343,2,    1.790,2,    0.070,2,    3.587,2,    7.277,2,   2155.1,3,   2307.7,2,   8.0122,2,     3.35,   3.1983
  18HU20100513, AR07W,   212,  1, 369548,     12,2,20100522,1953, 56.1130, -53.1197, 3258,   1640.0,   3.5161,  34.9097,2,  34.8967,2,    276.0,2,    275.8,2,    11.07,6,    16.74,6,     1.14,6,     0.22,6,    3.505,2,    1.624,2,    0.113,2,    3.594,2,    5.837,2,   2156.4,3,   2302.6,2,   8.0297,2,     3.52,   3.3891
  18HU20100513, AR07W,   212,  1, 369549,     13,2,20100522,1953, 56.1130, -53.1197, 3258,   1400.0,   3.6075,  34.8973,2,  34.8981,2,    278.7,2,    279.4,6,    10.60,6,    16.67,6,     1.13,6,     0.27,6,    3.974,2,    2.020,2,    0.157,2,    4.072,2,    5.664,2,   2157.1,3,   2283.6,2,   8.0415,2,     3.61,   3.5007
  18HU20100513, AR07W,   212,  1, 369550,     14,2,20100522,1953, 56.1130, -53.1197, 3258,   1181.0,   3.6378,  34.8873,2,  34.8920,2,    282.9,2,    282.3,2,    10.20,6,    16.53,6,     1.12,6,     0.29,6,    4.101,2,    2.078,2,    0.218,2,    4.348,2,    4.924,2,   2163.7,2,   2286.1,2,   8.0407,2,     3.64,   3.5493
  18HU20100513, AR07W,   212,  1, 369551,     15,2,20100522,1953, 56.1130, -53.1197, 3258,    959.0,   3.6130,  34.8713,2,  34.8715,2,    287.2,2,    287.7,2,     9.36,6,    16.25,6,     1.09,6,     0.27,6,    4.617,2,    2.478,2,    0.245,2,    4.977,2,    3.546,2,   2164.9,2,   2294.6,2,   8.0410,2,     3.61,   3.5430
  18HU20100513, AR07W,   212,  1, 369552,     16,2,20100522,1953, 56.1130, -53.1197, 3258,    760.0,   3.6346,  34.8653,2,  34.8649,2,    288.1,2,    288.3,2,     9.34,6,    16.23,6,     1.09,6,     0.29,6,    4.560,2,    2.697,2,    0.194,2,    4.905,2,    3.615,2,   2164.9,2,   2302.6,2,   8.0547,2,     3.63,   3.5802
  18HU20100513, AR07W,   212,  1, 369553,     17,2,20100522,1953, 56.1130, -53.1197, 3258,    580.0,   3.7394,  34.8694,2,  34.8643,2,    287.0,2,    289.3,2,     9.79,6,    16.15,6,     1.10,6,     0.27,6,    4.722,2,    2.641,2,    0.284,2,    5.176,2,    3.089,2,   2161.8,2,   2275.0,3,   8.0585,2,     3.72,   3.6982
  18HU20100513, AR07W,   212,  1, 369554,     18,2,20100522,1953, 56.1130, -53.1197, 3258,    430.0,   3.7393,  34.8537,2,  34.8549,2,    289.3,2,    289.9,2,     9.09,6,    16.02,6,     1.09,6,     0.23,6,    4.830,2,    2.773,2,    0.271,2,    5.314,2,    2.493,2,   2160.6,2,   2288.8,2,   8.0724,2,     3.74,   3.7093
  18HU20100513, AR07W,   212,  1, 369555,     19,2,20100522,1953, 56.1130, -53.1197, 3258,    309.0,   4.0056,  34.8728,2,  34.8738,2,    282.2,2,    283.6,2,     8.97,6,    16.14,6,     1.09,6,     0.26,6,    4.514,2,    2.503,2,    0.280,2,    4.894,2,    2.731,2,   2162.2,2,   2300.6,2,   8.0678,2,     4.00,   3.9836
  18HU20100513, AR07W,   212,  1, 369556,     20,2,20100522,1953, 56.1130, -53.1197, 3258,    201.0,   3.9566,  34.8308,2,  34.8230,2,    284.8,2,    286.7,2,     8.43,6,    15.70,6,     1.08,6,     0.21,6,    4.700,2,    2.642,2,    0.280,2,    5.156,2,    2.499,2,   2163.4,2,   2295.6,2,   8.0748,2,     3.93,   3.9426
  18HU20100513, AR07W,   212,  1, 369557,     21,2,20100522,1953, 56.1130, -53.1197, 3258,    120.0,   3.4064,  34.7042,2,  34.6984,2,    307.4,2,    309.2,2,     7.03,6,    13.75,6,     0.98,6,     0.41,6,    5.274,2,    3.219,2,    0.280,2,    6.681,2,    2.051,2,   2152.0,2,   2287.7,2,   8.1010,2,     3.39,   3.3987
  18HU20100513, AR07W,   212,  1, 369558,     22,2,20100522,1953, 56.1130, -53.1197, 3258,     61.0,   3.5178,  34.6257,2,-999.0000,9,    315.3,2,    316.5,2,     5.95,6,    11.79,6,     0.90,6,     0.64,6,    5.212,2,    3.292,2,    0.356,2,    6.755,2,    1.365,2,   2142.1,2,   2289.0,2,   8.1019,2,     3.61,   3.5138
  18HU20100513, AR07W,   212,  1, 369559,     23,2,20100522,1953, 56.1130, -53.1197, 3258,     32.0,   4.3730,  34.5633,2,-999.0000,9,    327.0,2,    327.6,2,     1.21,6,     8.15,6,     0.62,6,     0.35,6,    5.346,2,    3.324,2,    0.445,2,    7.187,2,    1.585,2,   2120.0,2,   2281.2,2,   8.1037,2,     4.39,   4.3707
  18HU20100513, AR07W,   212,  1, 369560,     24,2,20100522,1953, 56.1130, -53.1197, 3258,      3.0,   4.4648,  34.5628,2,-999.0000,9,    330.7,2,    331.4,2,     1.63,6,     8.11,6,     0.63,6,     0.37,6,    5.374,2,    3.335,2,    0.402,2,    7.285,2,    1.805,2,   2120.0,2,   2275.1,2,-999.0000,9,  -999.00,   4.4646