BOTTLE,20140111SIOCCHRJL
EXPOCODE,SECT_ID,STNNBR,CASTNO,SAMPNO,BTLNBR,BTLNBR_FLAG_W,DATE,TIME,LATITUDE,LONGITUDE,DEPTH,CTDPRS,CTDTMP,CTDSAL,CTDSAL_FLAG_W,SALNTY,SALNTY_FLAG_W,CTDOXY,CTDOXY_FLAG_W,OXYGEN,OXYGEN_FLAG_W,SILCAT,SILCAT_FLAG_W,NITRAT,NITRAT_FLAG_W,PHSPHT,PHSPHT_FLAG_W,NH4,NH4_FLAG_W,CFC-11,CFC-11_FLAG_W,CFC-12,CFC-12_FLAG_W,CFC113,CFC113_FLAG_W,CCL4,CCL4_FLAG_W,MCHFRM,MCHFRM_FLAG_W,TCARBN,TCARBN_FLAG_W,ALKALI,ALKALI_FLAG_W,PH_TOT,PH_TOT_FLAG_W,PH_TMP,THETA
,,,,,,,,,,,METERS,DBAR,ITS-90,PSS-78,,PSS-78,,UMOL/KG,,UMOL/KG,,UMOL/KG,,UMOL/KG,,UMOL/KG,,UMOL/KG,,PMOL/KG,,PMOL/KG,,PMOL/KG,,PMOL/KG,,PMOL/KG,,UMOL/KG,,UMOL/KG,,,,DEG C,DEG C
  18HU20100513, AR07W,    16,  1, 369150,      1,2,20100517,1006, 57.8012, -51.3410, 3548,   3671.0,   1.6644,  34.8884,2,  34.8886,2,    299.5,2,    215.2,4,     9.92,6,    13.89,6,     1.02,6,     0.32,6,    4.193,2,    2.036,2,    0.318,2,    4.644,2,    5.175,2,   2164.5,2,   2311.6,2,   7.9761,2,     1.66,   1.3750
  18HU20100513, AR07W,    16,  1, 369151,      2,2,20100517,1006, 57.8012, -51.3410, 3548,   3592.0,   1.7106,  34.8905,2,  34.8920,2,    298.9,2,    148.7,4,     9.81,6,    14.06,6,     1.02,6,     0.13,6,    4.170,2,    1.872,2,    0.322,2,    4.641,2,    5.372,2,   2163.3,2,   2314.5,2,   7.9854,2,     1.73,   1.4283
  18HU20100513, AR07W,    16,  1, 369152,      3,2,20100517,1006, 57.8012, -51.3410, 3548,   3492.0,   1.9412,  34.8950,2,  34.8963,2,    294.8,2,   2066.6,4,    10.38,6,    14.36,6,     1.04,6,     0.18,6,    3.824,2,    1.958,2,    0.295,2,    4.259,2,    5.017,2,   2162.1,2,   2312.2,2,   7.9853,2,     1.94,   1.6636
  18HU20100513, AR07W,    16,  1, 369153,      4,2,20100517,1006, 57.8012, -51.3410, 3548,   3379.0,   2.1458,  34.8993,2,  34.8995,2,    290.8,2,    180.3,4,    11.89,6,    14.82,6,     1.07,6,     0.15,6,    3.455,2,    1.664,2,    0.228,2,    3.831,2,    5.318,2,   2162.3,2,   2317.9,2,   7.9974,2,     2.15,   1.8750
  18HU20100513, AR07W,    16,  1, 369154,      5,2,20100517,1006, 57.8012, -51.3410, 3548,   3250.0,   2.3296,  34.9040,2,  34.9040,2,    286.3,2,    196.1,4,    13.34,6,    15.43,6,     1.10,6,     0.19,6,    3.086,2,    1.254,2,    0.206,2,    3.546,2,    5.543,2,   2164.0,2,   2317.4,2,   7.9959,2,     2.33,   2.0679
  18HU20100513, AR07W,    16,  1, 369155,      6,2,20100517,1006, 57.8012, -51.3410, 3548,   3121.0,   2.4773,  34.9096,2,  34.9102,6,    283.0,2,   -999.0,9,    13.90,6,    15.80,6,     1.12,6,     0.21,6,    2.795,2,    1.018,3,    0.177,2,    3.198,2,    5.265,2,   2163.0,2,   2324.8,2,   7.9956,2,     2.48,   2.2255
  18HU20100513, AR07W,    16,  1, 369156,      7,2,20100517,1006, 57.8012, -51.3410, 3548,   2940.0,   2.6657,  34.9178,2,  34.9182,2,    280.8,2,    194.9,4,    13.47,6,    15.95,6,     1.13,6,     0.24,6,    2.757,2,    1.322,2,    0.169,2,    3.082,2,    5.607,2,   2164.3,2,   2318.4,2,   8.0096,2,     2.67,   2.4284
  18HU20100513, AR07W,    16,  1, 369157,      8,2,20100517,1006, 57.8012, -51.3410, 3548,   2741.0,   2.8319,  34.9197,2,  34.9200,2,    280.2,2,    187.9,4,    12.77,6,    15.98,6,     1.13,6,     0.24,6,    2.776,2,    1.052,2,    0.172,2,    3.085,2,    5.862,2,   2162.5,2,   2325.5,2,   8.0046,2,     2.83,   2.6113
  18HU20100513, AR07W,    16,  1, 369158,      9,2,20100517,1006, 57.8012, -51.3410, 3548,   2521.0,   2.9654,  34.9163,2,  34.9167,2,    279.8,2,   -999.0,9,    12.07,6,    16.09,6,     1.14,6,      0.2,6,    0.000,4,    0.000,4, -999.000,9,    0.000,2,    0.000,2,   2162.6,2,   2321.5,2,   8.0145,2,     2.97,   2.7641
  18HU20100513, AR07W,    16,  1, 369159,     10,2,20100517,1006, 57.8012, -51.3410, 3548,   2292.0,   3.1222,  34.9131,2,  34.9129,2,    280.0,2,   -999.0,9,    11.50,6,    16.31,6,     1.14,6,     0.08,6,    3.089,2,    1.214,2,    0.185,2,    3.423,2,    6.774,2,   2162.4,2,   2327.0,2,   8.0207,2,     3.13,   2.9404
  18HU20100513, AR07W,    16,  1, 369160,     11,2,20100517,1006, 57.8012, -51.3410, 3548,   2040.0,   3.2883,  34.9103,2,  34.9116,6,    279.4,2,    194.3,4,    11.02,6,    16.43,6,     1.15,6,     0.17,6,    3.285,2,    1.615,2,    0.224,2,    3.546,2,    6.921,2,   2161.9,2,   2319.3,2,   8.0237,2,     3.30,   3.1278
  18HU20100513, AR07W,    16,  1, 369161,     12,2,20100517,1006, 57.8012, -51.3410, 3548,   1791.0,   3.4857,  34.9119,2,  34.9116,2,    277.0,2,    201.3,4,    10.96,6,    16.80,6,     1.16,6,     0.21,6,    4.798,4,    3.324,4,    0.651,4,    4.257,2,    7.406,2,   2162.2,6,   2287.9,6,   8.0213,2,     3.49,   3.3454
  18HU20100513, AR07W,    16,  1, 369162,     13,2,20100517,1006, 57.8012, -51.3410, 3548,   1548.0,   3.5971,  34.9046,2,  34.9047,2,    277.7,2,    195.1,4,    10.49,6,    16.80,6,     1.16,6,     0.17,6,    3.561,2,    1.672,2,    0.270,2,    3.716,2,    6.456,2,   2163.6,2,   2276.9,3,   8.0329,2,     3.60,   3.4774
  18HU20100513, AR07W,    16,  1, 369163,     14,2,20100517,1006, 57.8012, -51.3410, 3548,   1299.0,   3.5507,  34.8751,2,  34.8752,2,    288.1,2,    222.6,4,     9.36,6,    16.33,6,     1.13,6,     0.17,6,    1.927,4,    0.667,4,    0.182,2,    1.587,2,    1.189,2,   2162.7,2,   2287.8,2,   8.0543,2,     3.55,   3.4532
  18HU20100513, AR07W,    16,  1, 369164,     15,2,20100517,1006, 57.8012, -51.3410, 3548,   1070.0,   3.5552,  34.8655,2,  34.8650,2,    290.5,2,    174.7,4,     9.07,6,    16.23,6,     1.12,6,     0.18,6,    4.514,2,    2.342,2,    0.365,2,    5.002,2,    4.526,2,   2161.6,2,   2267.5,3,   8.0550,2,     3.55,   3.4767
  18HU20100513, AR07W,    16,  1, 369165,     16,2,20100517,1006, 57.8012, -51.3410, 3548,    869.0,   3.5684,  34.8605,2,  34.8593,2,    293.5,2,    209.2,4,     8.69,6,    16.05,6,     1.11,6,     0.15,6,    4.503,2,    2.648,2,    0.412,2,    4.905,2,    3.011,2,   2160.8,2,   2259.2,3,   8.0634,2,     3.56,   3.5059
  18HU20100513, AR07W,    16,  1, 369166,     17,2,20100517,1006, 57.8012, -51.3410, 3548,    678.0,   3.6158,  34.8576,2,  34.8587,2,    292.8,2,    188.2,4,     8.67,6,    16.03,6,     1.11,6,     0.16,6,    3.967,3,    2.216,3,    0.473,2,    4.225,2,    2.483,2,   2162.1,2,   2282.8,2,   8.0673,2,     3.62,   3.5678
  18HU20100513, AR07W,    16,  1, 369167,     18,2,20100517,1006, 57.8012, -51.3410, 3548,    510.0,   3.7131,  34.8610,2,  34.8621,2,    295.2,2,    188.1,4,     8.25,6,    15.69,6,     1.09,6,     0.19,6,    4.681,2,    2.596,2,    0.365,2,    5.437,2,    2.978,2,   2160.9,2,   2264.5,3,   8.0761,2,     3.72,   3.6772
  18HU20100513, AR07W,    16,  1, 369168,     19,2,20100517,1006, 57.8012, -51.3410, 3548,    360.0,   3.7743,  34.8601,2,  34.8621,2,    293.1,2,    195.4,4,     8.47,6,    16.01,6,     1.11,6,     0.48,6,    4.603,2,    2.441,2,    0.580,2,    5.231,2,    2.466,2,   2161.8,2,   2262.9,3,   8.0871,2,     3.77,   3.7492
  18HU20100513, AR07W,    16,  1, 369169,     20,2,20100517,1006, 57.8012, -51.3410, 3548,    242.0,   3.7374,  34.8429,2,  34.8407,2,    297.8,2,    177.5,4,     7.87,6,    15.42,6,     1.08,6,     0.16,6,    4.646,2,    2.550,2,    0.618,2,    5.473,2,    1.983,2,   2158.5,2,   2251.8,3,   8.0947,2,     3.72,   3.7209
  18HU20100513, AR07W,    16,  1, 369170,     21,2,20100517,1006, 57.8012, -51.3410, 3548,    144.0,   3.3941,  34.7761,2,  34.7703,2,    309.9,2,    205.8,4,     7.11,6,    14.28,6,     1.02,6,     0.09,6,    5.032,2,    2.829,2,    0.457,2,    6.445,2,    1.799,2,   2152.2,2,   2256.9,3,   8.1580,3,     3.37,   3.3848
  18HU20100513, AR07W,    16,  1, 369171,     22,2,20100517,1006, 57.8012, -51.3410, 3548,     70.0,   3.8171,  34.6607,2,-999.0000,9,    329.2,2,    166.3,4,     4.90,6,    10.41,6,     0.80,6,     0.41,6,    5.255,2,    2.801,2,    0.482,2,    7.188,2,    1.592,2,   2132.6,2,   2265.2,2,   8.1481,2,     3.84,   3.8124
  18HU20100513, AR07W,    16,  1, 369172,     23,2,20100517,1006, 57.8012, -51.3410, 3548,     35.0,   3.9533,  34.6492,2,-999.0000,9,    331.9,2,    185.4,4,     4.20,6,     9.86,6,     0.77,6,      0.4,6,    4.978,2,    2.749,2,    0.499,2,    6.617,2,    1.185,2,   2128.6,2,   2285.6,2,   8.1568,2,     3.96,   3.9509
  18HU20100513, AR07W,    16,  1, 369173,     24,2,20100517,1006, 57.8012, -51.3410, 3548,      3.0,   4.0007,  34.6463,2,-999.0000,9,    332.8,2,   -999.0,9,     4.12,6,     9.75,6,     0.76,6,     0.33,6,    5.202,2,    2.897,2,    0.473,2,    6.987,2,    1.681,2,   2126.8,2,   2293.8,2,   8.1530,2,     4.00,   4.0005
  18HU20100513, AR07W,    27,  1, 369174,      1,2,20100517,1512, 58.2188, -50.8833, 3478,    201.0,   3.3274,  34.7452,2,-999.0000,9,    309.2,2,   -999.0,9,     7.16,6,    14.22,6,     1.03,6,     0.24,6, -999.000,9, -999.000,9, -999.000,9, -999.000,9, -999.000,9,   -999.0,9,   -999.0,9,-999.0000,9,  -999.00,   3.3144
  18HU20100513, AR07W,    27,  1, 369175,      2,2,20100517,1512, 58.2188, -50.8833, 3478,    150.0,   3.3158,  34.7220,2,-999.0000,9,    309.9,2,   -999.0,9,     6.94,6,    13.86,6,     1.01,6,     0.17,6, -999.000,9, -999.000,9, -999.000,9, -999.000,9, -999.000,9,   -999.0,9,   -999.0,9,-999.0000,9,  -999.00,   3.3062
  18HU20100513, AR07W,    27,  1, 369176,      3,2,20100517,1512, 58.2188, -50.8833, 3478,    100.0,   3.3372,  34.6830,2,-999.0000,9,    316.3,2,   -999.0,9,     6.65,6,    12.86,6,     0.96,6,     0.36,6, -999.000,9, -999.000,9, -999.000,9, -999.000,9, -999.000,9,   -999.0,9,   -999.0,9,-999.0000,9,  -999.00,   3.3308
  18HU20100513, AR07W,    27,  1, 369177,      4,2,20100517,1512, 58.2188, -50.8833, 3478,     80.0,   3.3983,  34.6829,2,-999.0000,9,    320.2,2,   -999.0,9,     7.23,6,    12.35,6,     0.94,6,      0.6,6, -999.000,9, -999.000,9, -999.000,9, -999.000,9, -999.000,9,   -999.0,9,   -999.0,9,-999.0000,9,  -999.00,   3.3932
  18HU20100513, AR07W,    27,  1, 369178,      5,2,20100517,1512, 58.2188, -50.8833, 3478,     61.0,   3.9209,  34.6305,2,-999.0000,9,    324.6,2,   -999.0,9,     4.17,6,    10.45,6,     0.80,6,     0.57,6, -999.000,9, -999.000,9, -999.000,9, -999.000,9, -999.000,9,   -999.0,9,   -999.0,9,-999.0000,9,  -999.00,   3.9167
  18HU20100513, AR07W,    27,  1, 369179,      6,2,20100517,1512, 58.2188, -50.8833, 3478,     51.0,   4.0160,  34.6206,2,-999.0000,9,    325.4,2,   -999.0,9,     4.04,6,    10.32,6,     0.79,6,      0.5,6, -999.000,9, -999.000,9, -999.000,9, -999.000,9, -999.000,9,   -999.0,9,   -999.0,9,-999.0000,9,  -999.00,   4.0125
  18HU20100513, AR07W,    27,  1, 369180,      7,2,20100517,1512, 58.2188, -50.8833, 3478,     40.0,   4.0293,  34.6203,2,-999.0000,9,    326.7,2,   -999.0,9,     3.89,6,    10.15,6,     0.78,6,     0.31,6, -999.000,9, -999.000,9, -999.000,9, -999.000,9, -999.000,9,   -999.0,9,   -999.0,9,-999.0000,9,  -999.00,   4.0266
  18HU20100513, AR07W,    27,  1, 369181,      8,2,20100517,1512, 58.2188, -50.8833, 3478,     29.0,   4.1317,  34.6220,2,-999.0000,9,    327.1,2,   -999.0,9,     3.96,6,    10.28,6,     0.78,6,     0.38,6, -999.000,9, -999.000,9, -999.000,9, -999.000,9, -999.000,9,   -999.0,9,   -999.0,9,-999.0000,9,  -999.00,   4.1297
  18HU20100513, AR07W,    27,  1, 369182,      9,2,20100517,1512, 58.2188, -50.8833, 3478,     30.0,   4.0682,  34.6211,2,-999.0000,9,    327.7,2,   -999.0,9,  -999.00,9,  -999.00,9,  -999.00,9,     -999,9, -999.000,9, -999.000,9, -999.000,9, -999.000,9, -999.000,9,   -999.0,9,   -999.0,9,-999.0000,9,  -999.00,   4.0661
  18HU20100513, AR07W,    27,  1, 369183,     10,2,20100517,1512, 58.2188, -50.8833, 3478,     21.0,   4.1319,  34.6219,2,-999.0000,9,    327.1,2,   -999.0,9,     4.08,6,    10.19,6,     0.78,6,     0.61,6, -999.000,9, -999.000,9, -999.000,9, -999.000,9, -999.000,9,   -999.0,9,   -999.0,9,-999.0000,9,  -999.00,   4.1304
  18HU20100513, AR07W,    27,  1, 369184,     11,2,20100517,1512, 58.2188, -50.8833, 3478,      9.0,   4.1013,  34.6226,2,-999.0000,9,    326.9,2,   -999.0,9,     3.99,6,    10.23,6,     0.79,6,     0.32,6, -999.000,9, -999.000,9, -999.000,9, -999.000,9, -999.000,9,   -999.0,9,   -999.0,9,-999.0000,9,  -999.00,   4.1007
  18HU20100513, AR07W,    27,  1, 369185,     12,2,20100517,1512, 58.2188, -50.8833, 3478,      2.0,   4.1203,  34.6226,2,-999.0000,9,    327.2,2,   -999.0,9,     3.95,6,    10.20,6,     0.80,6,     0.37,6, -999.000,9, -999.000,9, -999.000,9, -999.000,9, -999.000,9,   -999.0,9,   -999.0,9,-999.0000,9,  -999.00,   4.1202
  18HU20100513, AR07W,    27,  1, 369186,     13,2,20100517,1512, 58.2188, -50.8833, 3478,      1.0,   4.1225,  34.6229,2,-999.0000,9,    321.7,2,   -999.0,9,  -999.00,9,  -999.00,9,  -999.00,9,     -999,9, -999.000,9, -999.000,9, -999.000,9, -999.000,9, -999.000,9,   -999.0,9,   -999.0,9,-999.0000,9,  -999.00,   4.1224