BOTTLE,20140111SIOCCHRJL
EXPOCODE,SECT_ID,STNNBR,CASTNO,SAMPNO,BTLNBR,BTLNBR_FLAG_W,DATE,TIME,LATITUDE,LONGITUDE,DEPTH,CTDPRS,CTDTMP,CTDSAL,CTDSAL_FLAG_W,SALNTY,SALNTY_FLAG_W,CTDOXY,CTDOXY_FLAG_W,OXYGEN,OXYGEN_FLAG_W,SILCAT,SILCAT_FLAG_W,NITRAT,NITRAT_FLAG_W,PHSPHT,PHSPHT_FLAG_W,NH4,NH4_FLAG_W,CFC-11,CFC-11_FLAG_W,CFC-12,CFC-12_FLAG_W,CFC113,CFC113_FLAG_W,CCL4,CCL4_FLAG_W,MCHFRM,MCHFRM_FLAG_W,TCARBN,TCARBN_FLAG_W,ALKALI,ALKALI_FLAG_W,PH_TOT,PH_TOT_FLAG_W,PH_TMP,THETA
,,,,,,,,,,,METERS,DBAR,ITS-90,PSS-78,,PSS-78,,UMOL/KG,,UMOL/KG,,UMOL/KG,,UMOL/KG,,UMOL/KG,,UMOL/KG,,PMOL/KG,,PMOL/KG,,PMOL/KG,,PMOL/KG,,PMOL/KG,,UMOL/KG,,UMOL/KG,,,,DEG C,DEG C
  18HU20100513, AR07W,    58,  1, 369235,      1,2,20100518,0756, 59.0642, -49.9495, 3400,   3523.0,   1.5457,-999.0000,9,  34.8827,2,   -999.0,9,    159.8,4,     9.20,6,    13.76,6,     0.99,6,     0.24,6,    4.050,2,    2.089,2,    0.228,2,    3.423,2,    2.635,2,   2164.1,2,   2302.2,2,   7.9865,2,     1.55,   1.2749
  18HU20100513, AR07W,    58,  1, 369236,      2,2,20100518,0756, 59.0642, -49.9495, 3400,   3453.0,   1.6563,  34.8859,2,  34.8862,2,    299.2,2,    157.3,4,     9.04,6,    13.84,6,     0.99,6,     0.35,6,    3.979,2,    2.144,2,    0.120,2,    3.333,2,    2.628,2,   2163.3,2,   2309.9,2,   7.9919,2,     1.66,   1.3899
  18HU20100513, AR07W,    58,  1, 369237,      3,2,20100518,0756, 59.0642, -49.9495, 3400,   3372.0,   1.9121,  34.8916,2,  34.8914,2,    295.5,2,    148.8,4,    10.06,6,    14.30,6,     1.01,6,      0.3,6,    3.743,2,    1.969,2,    0.121,2,    3.227,2,    2.718,2,   2162.0,2,   2273.3,4,   7.9842,2,     1.93,   1.6477
  18HU20100513, AR07W,    58,  1, 369238,      4,2,20100518,0756, 59.0642, -49.9495, 3400,   3271.0,   2.1783,  34.8971,2,  34.8971,2,    288.6,2,    132.2,4,    12.26,6,    15.02,6,     1.06,6,     0.32,6,    3.243,6,    1.599,6,    0.117,6,    2.811,6,    2.751,6,   2162.5,2,   2266.8,4,   7.9909,2,     2.19,   1.9180
  18HU20100513, AR07W,    58,  1, 369239,      5,2,20100518,0756, 59.0642, -49.9495, 3400,   3150.0,   2.3763,  34.9039,2,  34.9040,2,    284.6,2,    157.8,4,    12.99,6,    15.38,6,     1.06,6,     0.33,6,    2.983,2,    1.436,2,    0.041,2,    2.612,2,    2.825,2,   2163.4,2,   2308.6,2,   8.0014,2,     2.38,   2.1238
  18HU20100513, AR07W,    58,  1, 369240,      6,2,20100518,0756, 59.0642, -49.9495, 3400,   3019.0,   2.5541,  34.9122,2,  34.9134,6,    282.0,2,    142.3,4,    13.48,6,    15.76,6,     1.09,6,     0.22,6,    2.736,2,    1.306,2,    0.031,2,    2.423,2,    2.810,2,   2162.6,2,   2309.4,2,   8.0053,2,     2.57,   2.3111
  18HU20100513, AR07W,    58,  1, 369241,      7,2,20100518,0756, 59.0642, -49.9495, 3400,   2860.0,   2.7610,  34.9199,2,  34.9198,2,    279.9,2,    168.7,4,    12.83,6,    15.77,6,     1.10,6,      0.5,6,    2.691,2,    1.333,2, -999.000,9,    2.344,2,    2.864,2,   2163.0,2,   2310.1,2,   8.0021,2,     2.77,   2.5298
  18HU20100513, AR07W,    58,  1, 369242,      8,2,20100518,0756, 59.0642, -49.9495, 3400,   2658.0,   2.9093,  34.9161,2,  34.9156,2,    280.4,2,    149.1,4,    11.96,6,    15.64,6,     1.10,6,      0.3,6,    2.851,2,    1.432,2,    0.004,2,    2.509,2,    3.082,2,   2162.0,2,   2310.2,2,   8.0159,2,     2.92,   2.6955
  18HU20100513, AR07W,    58,  1, 369243,      9,2,20100518,0756, 59.0642, -49.9495, 3400,   2441.0,   3.0622,  34.9139,2,  34.9129,2,    279.9,2,    132.6,4,    11.13,6,    15.61,6,     1.10,6,     0.23,6,    2.978,2,    1.517,2, -999.000,9,    2.632,2,    3.290,2,   2159.6,2,   2307.8,2,   8.0132,2,     3.06,   2.8670
  18HU20100513, AR07W,    58,  1, 369244,     10,2,20100518,0756, 59.0642, -49.9495, 3400,   2211.0,   3.2354,  34.9115,2,  34.9115,6,    279.4,2,    185.8,4,    10.67,6,    15.81,6,     1.13,6,     0.23,6,    3.145,2,    1.694,2,    0.034,2,    2.640,2,    3.396,2,   2160.8,2,   2303.9,2,   8.0252,2,     3.24,   3.0595
  18HU20100513, AR07W,    58,  1, 369245,     11,2,20100518,0756, 59.0642, -49.9495, 3400,   1969.0,   3.4014,  34.9117,2,  34.9119,2,    277.6,2,    160.9,4,    10.38,6,    16.02,6,     1.14,6,     0.26,6,    3.269,2,    1.700,2,    0.061,2,    2.714,2,    3.472,2,   2161.3,2,   2304.4,2,   8.0260,2,     3.40,   3.2458
  18HU20100513, AR07W,    58,  1, 369246,     12,2,20100518,0756, 59.0642, -49.9495, 3400,   1729.0,   3.6065,  34.9158,2,  34.9153,2,    276.2,2,    174.2,4,  -999.00,9,  -999.00,9,  -999.00,9,     -999,9,    3.521,2,    1.764,2,    0.139,2,    2.816,2,    3.263,2,   2162.1,2,   2307.1,2,   8.0337,2,     3.61,   3.4703
  18HU20100513, AR07W,    58,  1, 369247,     13,2,20100518,0756, 59.0642, -49.9495, 3400,   1499.0,   3.6230,  34.8930,2,  34.8919,2,    283.0,2,    177.7,4,     9.32,6,    15.66,6,     1.14,6,     0.22,6,    3.952,2,    2.090,2,    0.226,2,    3.171,2,    2.736,2,   2161.2,2,   2309.4,2,   8.0405,2,     3.62,   3.5073
  18HU20100513, AR07W,    58,  1, 369248,     14,2,20100518,0756, 59.0642, -49.9495, 3400,   1281.0,   3.6022,  34.8755,2,  34.8744,2,    287.7,2,    184.9,4,     8.75,6,    15.40,6,     1.13,6,     0.34,6,    4.270,2,    2.429,2,    0.258,2,    3.605,2,    2.392,2,   2161.7,6,   2305.5,6,   8.0456,2,     3.60,   3.5057
  18HU20100513, AR07W,    58,  1, 369249,     15,2,20100518,0756, 59.0642, -49.9495, 3400,   1071.0,   3.5433,  34.8566,2,  34.8567,2,    292.6,2,    177.3,4,     8.27,6,    15.26,6,     1.13,6,     0.24,6,    4.458,2,    2.669,2,    0.320,2,    3.699,2,    2.070,2,   2161.5,2,   2303.8,2,   8.0646,2,     3.55,   3.4648
  18HU20100513, AR07W,    58,  1, 369250,     16,2,20100518,0756, 59.0642, -49.9495, 3400,    870.0,   3.7191,  34.8738,2,  34.8740,2,    291.0,2,    178.6,4,     8.14,6,    15.19,6,     1.13,6,     0.23,6,    4.352,2,    2.429,2,    0.227,2,    3.784,2,    2.176,2,   2160.8,2,   2306.4,2,   8.0607,2,     3.72,   3.6555
  18HU20100513, AR07W,    58,  1, 369251,     17,2,20100518,0756, 59.0642, -49.9495, 3400,    681.0,   3.8973,  34.8870,2,  34.8858,2,    291.2,2,    190.6,4,  -999.00,9,  -999.00,9,  -999.00,9,     -999,9,    4.394,2,    2.521,2,    0.328,2,    3.729,2,    1.771,2,   2161.5,2,   2300.7,2,   8.0683,2,     3.89,   3.8475
  18HU20100513, AR07W,    58,  1, 369252,     18,2,20100518,0756, 59.0642, -49.9495, 3400,    510.0,   3.7966,  34.8619,2,  34.8593,2,    299.2,2,    201.4,4,     7.26,6,    14.33,6,     1.09,6,     0.28,6,    4.560,2,    2.811,2,    0.319,2,    4.607,2,    1.394,2,   2158.0,2,   2303.8,2,   8.0548,3,     3.79,   3.7604
  18HU20100513, AR07W,    58,  1, 369253,     19,2,20100518,0756, 59.0642, -49.9495, 3400,    380.0,   3.8134,  34.8566,2,  34.8562,2,    302.8,2,    194.1,4,     6.67,6,    14.06,6,     1.07,6,     0.18,6,    4.577,2,    2.608,2,    0.299,2,    4.070,2,    1.188,2,   2156.5,2,   2299.4,2,   8.0889,2,     3.81,   3.7868
  18HU20100513, AR07W,    58,  1, 369254,     20,2,20100518,0756, 59.0642, -49.9495, 3400,    250.0,   4.2064,  34.9036,2,  34.9026,2,    303.3,2,    194.5,4,     6.69,6,    14.13,6,     1.07,6,     0.27,6,    4.526,2,    2.630,2,    0.347,2,    4.139,2,    1.192,2,   2155.5,2,   2302.7,2,   8.0943,2,     4.20,   4.1883
  18HU20100513, AR07W,    58,  1, 369255,     21,2,20100518,0756, 59.0642, -49.9495, 3400,    140.0,   4.3851,  34.8971,2,-999.0000,9,    299.5,2,    185.8,4,     6.41,6,    13.74,6,     1.06,6,     0.27,6,    4.431,2,    2.744,2,    0.423,2,    3.886,2,    1.147,2,   2153.0,2,   2306.4,2,   8.0975,2,     4.38,   4.3749
  18HU20100513, AR07W,    58,  1, 369256,     22,2,20100518,0756, 59.0642, -49.9495, 3400,     69.0,   4.2526,  34.8172,2,-999.0000,9,    314.6,2,    201.6,4,     6.04,6,    12.24,6,     0.99,6,     0.59,6,    4.696,2,    2.670,2,    0.335,2,    4.492,2,    1.015,2,   2146.0,2,   2301.7,2,   8.1019,2,     4.25,   4.2477
  18HU20100513, AR07W,    58,  1, 369257,     23,2,20100518,0756, 59.0642, -49.9495, 3400,     35.0,   4.1835,  34.7557,2,-999.0000,9,    329.3,2,    188.9,4,     5.05,6,    10.52,6,     0.87,6,     0.42,6,    4.828,2,    3.024,2,    0.349,2,    4.804,2,    0.969,2,   2135.5,2,   2299.7,2,   8.1231,2,     4.18,   4.1810
  18HU20100513, AR07W,    58,  1, 369258,     24,2,20100518,0756, 59.0642, -49.9495, 3400,      2.0,   4.7159,  34.7820,2,-999.0000,9,    331.6,2,    218.2,4,     4.70,6,     9.87,6,     0.81,6,     0.35,6,    4.683,2,    3.194,2,    0.488,2,    4.568,2,    0.933,2,   2130.6,2,   2300.5,2,   8.1201,2,     4.72,   4.7158
  18HU20100513, AR07W,    73,  1, 369259,      1,2,20100518,2034, 60.5700, -48.2272,  135,    114.0,   1.3822,  33.7336,2,  33.7204,2,    341.8,2,    241.2,4,     4.09,6,     7.30,6,     0.69,6,     1.06,6, -999.000,9, -999.000,9, -999.000,9, -999.000,9, -999.000,9,   2090.0,6,   2250.1,6,   8.1855,2,     1.37,   1.3769
  18HU20100513, AR07W,    73,  1, 369260,      2,2,20100518,2034, 60.5700, -48.2272,  135,     99.0,   0.8194,  33.5351,2,  33.5243,2,    345.5,2,    280.6,4,     3.85,6,     6.61,6,     0.65,6,     0.91,6, -999.000,9, -999.000,9, -999.000,9, -999.000,9, -999.000,9,   2081.2,2,   2238.8,2,   8.2000,2,     0.84,   0.8154
  18HU20100513, AR07W,    73,  1, 369261,      3,2,20100518,2034, 60.5700, -48.2272,  135,     80.0,   0.2526,  33.3364,2,  33.3203,2,    352.9,2,    344.4,6,     3.67,6,     5.97,6,     0.57,6,     0.86,6,    5.902,2,    3.525,2,    0.542,2,    7.018,2,    1.551,2,   2066.9,2,   2218.8,2,   8.2248,2,     0.15,   0.2498
  18HU20100513, AR07W,    73,  1, 369262,      4,2,20100518,2034, 60.5700, -48.2272,  135,     60.0,  -0.0528,  33.1918,2,-999.0000,9,    358.8,2,   -999.0,9,     3.41,6,     5.32,6,     0.53,6,     0.83,6, -999.000,9, -999.000,9, -999.000,9, -999.000,9, -999.000,9,   -999.0,9,   -999.0,9,   8.2410,2,    -0.09,  -0.0547
  18HU20100513, AR07W,    73,  1, 369263,      5,2,20100518,2034, 60.5700, -48.2272,  135,     49.0,  -0.2737,  33.0671,2,  33.0827,2,    364.7,2,    360.6,2,     3.15,6,     4.73,6,     0.50,6,     0.84,6, -999.000,9, -999.000,9, -999.000,9, -999.000,9, -999.000,9,   2053.9,2,   2204.6,2,   8.2337,2,    -0.26,  -0.2752
  18HU20100513, AR07W,    73,  1, 369264,      6,2,20100518,2034, 60.5700, -48.2272,  135,     40.0,  -0.3247,  33.0323,2,-999.0000,9,    366.9,2,   -999.0,9,     2.95,6,     4.25,6,     0.46,6,     0.67,6, -999.000,9, -999.000,9, -999.000,9, -999.000,9, -999.000,9,   -999.0,9,   -999.0,9,   8.2180,2,    -0.31,  -0.3259
  18HU20100513, AR07W,    73,  1, 369265,      7,2,20100518,2034, 60.5700, -48.2272,  135,     30.0,  -0.4010,  32.9201,2,-999.0000,9,    381.2,2,   -999.0,9,     2.01,6,     2.21,6,     0.32,6,     0.49,6, -999.000,9, -999.000,9, -999.000,9, -999.000,9, -999.000,9,   -999.0,9,   -999.0,9,   8.2540,2,    -0.40,  -0.4019
  18HU20100513, AR07W,    73,  1, 369266,      8,2,20100518,2034, 60.5700, -48.2272,  135,     21.0,  -0.3436,  32.8772,2,-999.0000,9,    405.3,2,   -999.0,9,     0.85,6,     0.19,6,     0.15,6,      0.3,6, -999.000,9, -999.000,9, -999.000,9, -999.000,9, -999.000,9,   -999.0,9,   -999.0,9,   8.2519,2,    -0.32,  -0.3442
  18HU20100513, AR07W,    73,  1, 369267,      9,2,20100518,2034, 60.5700, -48.2272,  135,      9.0,   0.0928,  32.7104,2,-999.0000,9,    463.8,3,    459.9,3,     0.28,6,     0.00,6,     0.06,6,     0.21,6, -999.000,9, -999.000,9, -999.000,9, -999.000,9, -999.000,9,   1943.3,2,   2185.5,2,   8.4075,2,     0.09,   0.0925
  18HU20100513, AR07W,    73,  1, 369268,     10,2,20100518,2034, 60.5700, -48.2272,  135,      1.0,   1.1666,  32.6402,2,-999.0000,9,    446.1,2,   -999.0,9,     0.26,6,     0.00,6,     0.05,6,     0.27,6, -999.000,9, -999.000,9, -999.000,9, -999.000,9, -999.000,9,   -999.0,9,   -999.0,9,   8.4525,2,     1.17,   1.1666
  18HU20100513, AR07W,    79,  1, 369269,      1,2,20100518,2215, 60.4485, -48.3645,  145,    135.0,   1.9615,  33.9513,2,  33.9527,2,    332.4,2,    332.4,2,     4.93,6,     8.63,6,     0.78,6,     1.03,6,    5.385,2,    3.290,2,    0.742,2,    6.432,2,    1.494,2,   2095.6,2,   2243.1,2,   8.1733,2,     1.96,   1.9545
  18HU20100513, AR07W,    79,  1, 369270,      2,2,20100518,2215, 60.4485, -48.3645,  145,    100.0,   1.7056,  33.8679,2,  33.8605,2,    333.8,2,    334.5,6,     5.00,6,     8.37,6,     0.77,6,     1.06,6,    5.405,2,    3.336,2,    0.773,2,    6.371,2,    1.411,2,   2090.0,2,   2244.9,2,   8.1866,2,     1.65,   1.7007
  18HU20100513, AR07W,    79,  1, 369271,      3,2,20100518,2215, 60.4485, -48.3645,  145,     80.0,   1.5812,  33.8282,2,  33.8254,2,    334.0,2,    336.3,2,     4.79,6,     8.32,6,     0.76,6,     1.04,6,    5.628,2,    3.365,2,    0.762,2,    6.810,2,    1.587,2,   2088.7,2,   -999.0,9,   8.1885,2,     1.55,   1.5774
  18HU20100513, AR07W,    79,  1, 369272,      4,2,20100518,2215, 60.4485, -48.3645,  145,     60.0,   1.3409,  33.7445,2,-999.0000,9,    338.2,2,   -999.0,9,     4.71,6,     8.01,6,     0.74,6,     0.98,6, -999.000,9, -999.000,9, -999.000,9, -999.000,9, -999.000,9,   -999.0,9,   -999.0,9,   8.1895,2,     1.33,   1.3382
  18HU20100513, AR07W,    79,  1, 369273,      5,2,20100518,2215, 60.4485, -48.3645,  145,     50.0,   0.3081,  33.3580,2,  33.3507,2,    351.3,2,    351.8,2,     3.98,6,     6.12,6,     0.62,6,     0.92,6,    5.989,2,    3.588,2,    0.757,2,    7.296,2,    1.724,2,   2063.0,6,   2223.5,6,   8.2223,2,     0.25,   0.3063
  18HU20100513, AR07W,    79,  1, 369274,      6,2,20100518,2215, 60.4485, -48.3645,  145,     40.0,  -0.1969,  33.1571,2,-999.0000,9,    358.1,2,   -999.0,9,     3.64,6,     5.31,6,     0.57,6,      0.9,6, -999.000,9, -999.000,9, -999.000,9, -999.000,9, -999.000,9,   -999.0,9,   -999.0,9,   8.2243,2,    -0.21,  -0.1981
  18HU20100513, AR07W,    79,  1, 369275,      7,2,20100518,2215, 60.4485, -48.3645,  145,     30.0,  -0.1799,  33.0096,2,-999.0000,9,    375.2,2,   -999.0,9,     2.83,6,     3.21,6,     0.41,6,     0.63,6, -999.000,9, -999.000,9, -999.000,9, -999.000,9, -999.000,9,   -999.0,9,   -999.0,9,   8.2420,2,    -0.19,  -0.1808
  18HU20100513, AR07W,    79,  1, 369276,      8,2,20100518,2215, 60.4485, -48.3645,  145,     20.0,  -0.4054,  32.8757,2,-999.0000,9,    391.1,2,   -999.0,9,     2.15,6,     1.45,6,     0.29,6,     0.32,6, -999.000,9, -999.000,9, -999.000,9, -999.000,9, -999.000,9,   -999.0,9,   -999.0,9,   8.2318,3,    -0.41,  -0.4060
  18HU20100513, AR07W,    79,  1, 369277,      9,2,20100518,2215, 60.4485, -48.3645,  145,     10.0,  -0.1848,  32.7264,2,-999.0000,9,    448.0,2,    443.9,2,     0.98,6,     0.00,6,     0.12,6,     0.15,6,    6.523,2,    3.862,2,    0.822,2,    8.178,2,    1.769,2,   1960.9,2,   2191.7,2,   8.1796,3,    -0.10,  -0.1851
  18HU20100513, AR07W,    79,  1, 369278,     10,2,20100518,2215, 60.4485, -48.3645,  145,      2.0,   0.2716,  32.2578,2,-999.0000,9,    451.3,3,   -999.0,9,     0.49,6,     0.00,6,     0.07,6,     0.19,6, -999.000,9, -999.000,9, -999.000,9, -999.000,9, -999.000,9,   -999.0,9,   -999.0,9,   8.5170,2,     0.27,   0.2715