BOTTLE,20140111SIOCCHRJL
EXPOCODE,SECT_ID,STNNBR,CASTNO,SAMPNO,BTLNBR,BTLNBR_FLAG_W,DATE,TIME,LATITUDE,LONGITUDE,DEPTH,CTDPRS,CTDTMP,CTDSAL,CTDSAL_FLAG_W,SALNTY,SALNTY_FLAG_W,CTDOXY,CTDOXY_FLAG_W,OXYGEN,OXYGEN_FLAG_W,SILCAT,SILCAT_FLAG_W,NITRAT,NITRAT_FLAG_W,PHSPHT,PHSPHT_FLAG_W,NH4,NH4_FLAG_W,CFC-11,CFC-11_FLAG_W,CFC-12,CFC-12_FLAG_W,CFC113,CFC113_FLAG_W,CCL4,CCL4_FLAG_W,MCHFRM,MCHFRM_FLAG_W,TCARBN,TCARBN_FLAG_W,ALKALI,ALKALI_FLAG_W,PH_TOT,PH_TOT_FLAG_W,PH_TMP,THETA
,,,,,,,,,,,METERS,DBAR,ITS-90,PSS-78,,PSS-78,,UMOL/KG,,UMOL/KG,,UMOL/KG,,UMOL/KG,,UMOL/KG,,UMOL/KG,,PMOL/KG,,PMOL/KG,,PMOL/KG,,PMOL/KG,,PMOL/KG,,UMOL/KG,,UMOL/KG,,,,DEG C,DEG C
  18HU20100513, AR07W,   196,  1, 369476,      1,2,20100522,0224, 56.9568, -52.2400, 3440,   3568.0,   1.6941,-999.0000,9,  34.8985,2,   -999.0,9,    203.2,4,    10.20,6,    13.82,6,  -999.00,9,     0.26,6,    4.403,2,    2.517,2,    0.315,2,    5.836,2,   12.726,2,   2174.0,4,   2303.8,2,   7.9519,3,     1.69,   1.4147
  18HU20100513, AR07W,   196,  1, 369477,      2,2,20100522,0224, 56.9568, -52.2400, 3440,   3465.0,   1.9062,  34.8954,2,  34.8959,2,    296.0,2,    294.9,2,    10.12,6,    14.08,6,  -999.00,9,     0.13,6,    4.054,2,    2.167,2,    0.312,2,    5.366,2,   16.556,2,   2162.4,2,   2284.4,3,-999.0000,9,  -999.00,   1.6323
  18HU20100513, AR07W,   196,  1, 369478,      3,2,20100522,0224, 56.9568, -52.2400, 3440,   3380.0,   2.1482,  34.8979,2,  34.8989,2,    291.7,2,    290.6,2,    10.97,6,    14.45,6,  -999.00,9,     0.48,6,    3.733,2,    2.010,2,    0.259,2,    4.980,2,   13.688,2,   2159.8,2,   2269.4,3,   7.9728,3,     2.16,   1.8772
  18HU20100513, AR07W,   196,  1, 369479,      4,2,20100522,0224, 56.9568, -52.2400, 3440,   3281.0,   2.3984,  34.9049,2,  34.9067,2,    285.6,2,    285.2,2,    12.46,6,    15.07,6,  -999.00,9,     0.39,6,    3.182,2,    1.553,2,    0.195,2,    4.215,2,   14.332,2,   2160.0,2,   2304.0,2,-999.0000,9,  -999.00,   2.1318
  18HU20100513, AR07W,   196,  1, 369480,      5,2,20100522,0224, 56.9568, -52.2400, 3440,   3170.0,   2.5784,  34.9104,2,  34.9115,2,    283.9,2,    282.8,2,    12.43,6,    15.42,6,  -999.00,9,     0.26,6,    3.110,2,    1.511,2,    0.161,2,    4.062,2,   14.958,2,   2160.5,2,   2308.2,2,-999.0000,9,  -999.00,   2.3192
  18HU20100513, AR07W,   196,  1, 369481,      6,2,20100522,0224, 56.9568, -52.2400, 3440,   3028.0,   2.7675,  34.9176,2,  34.9192,6,    281.3,2,    280.5,2,    12.47,6,    15.56,6,  -999.00,9,      0.3,6,    2.965,2,    1.470,2,    0.180,2,    3.861,2,   15.036,2,   2160.8,6,   2296.3,6,   7.9933,3,     2.77,   2.5189
  18HU20100513, AR07W,   196,  1, 369482,      7,2,20100522,0224, 56.9568, -52.2400, 3440,   2864.0,   2.8861,  34.9154,2,  34.9162,2,    281.7,2,    280.9,2,    12.05,6,    15.60,6,  -999.00,9,     0.23,6,    3.075,2,    1.509,2,    0.184,2,    3.953,2,   52.110,4,   2158.5,2,   2290.7,2,-999.0000,9,  -999.00,   2.6519
  18HU20100513, AR07W,   196,  1, 369483,      8,2,20100522,0224, 56.9568, -52.2400, 3440,   2678.0,   3.0340,  34.9136,2,  34.9146,2,    280.9,2,    280.5,2,    11.47,6,    15.76,6,  -999.00,9,     0.41,6,    3.184,2,    1.559,2,    0.177,2,    4.062,2,   20.762,2,   2159.6,2,   2292.5,2,   7.9963,3,     3.04,   2.8158
  18HU20100513, AR07W,   196,  1, 369484,      9,2,20100522,0224, 56.9568, -52.2400, 3440,   2460.0,   3.1755,  34.9117,2,  34.9126,2,    280.4,2,    279.1,2,    10.84,6,    15.96,6,  -999.00,9,     0.61,6,    3.216,2,    1.620,2,    0.181,2,    4.145,2,   24.499,2,   2158.6,2,   2265.8,3,-999.0000,9,  -999.00,   2.9764
  18HU20100513, AR07W,   196,  1, 369485,     10,2,20100522,0224, 56.9568, -52.2400, 3440,   2255.0,   3.3087,  34.9105,2,  34.9117,2,    279.4,2,    278.5,2,    10.75,6,    16.13,6,  -999.00,9,     0.24,6,    3.398,2,    1.721,2,    0.190,2,    4.293,2,   16.140,2,   2158.4,2,   2307.8,2,   7.9856,3,     3.31,   3.1273
  18HU20100513, AR07W,   196,  1, 369486,     11,2,20100522,0224, 56.9568, -52.2400, 3440,   2034.0,   3.5082,  34.9122,2,  34.9130,6,    276.9,2,    276.3,2,    11.58,6,    16.22,6,  -999.00,9,     0.23,6,    3.615,2,    1.836,2,    0.255,2,    4.580,2,   17.449,2,   2161.5,2,   2302.0,2,   8.0176,3,     3.51,   3.3449
  18HU20100513, AR07W,   196,  1, 369487,     12,2,20100522,0224, 56.9568, -52.2400, 3440,   1767.0,   3.6392,  34.9011,2,  34.9020,2,    279.3,2,    279.1,2,     9.96,6,    16.18,6,  -999.00,9,     0.21,6,    4.114,2,    2.218,2,    0.301,2,    5.119,2,   16.411,2,   2159.4,2,   2289.0,3,   8.0065,3,     3.64,   3.4991
  18HU20100513, AR07W,   196,  1, 369488,     13,2,20100522,0224, 56.9568, -52.2400, 3440,   1536.0,   3.5841,  34.8717,2,  34.8721,2,    287.9,2,    288.9,2,    10.02,6,    15.94,6,  -999.00,9,     0.66,6,    4.679,2,    2.622,2,    0.398,2,    5.977,2,   11.045,2,   2159.0,2,   2300.2,2,-999.0000,9,  -999.00,   3.4657
  18HU20100513, AR07W,   196,  1, 369489,     14,2,20100522,0224, 56.9568, -52.2400, 3440,   1288.0,   3.5230,  34.8517,2,  34.8524,2,    293.4,2,    293.9,2,     8.60,6,    15.63,6,  -999.00,9,     0.24,6,    4.869,2,    2.789,2,    0.439,2,    6.467,2,    8.212,2,   2157.0,2,   2265.4,3,   7.9854,3,     3.52,   3.4267
  18HU20100513, AR07W,   196,  1, 369490,     15,2,20100522,0224, 56.9568, -52.2400, 3440,   1071.0,   3.5413,  34.8495,2,  34.8505,2,    294.5,2,    293.8,2,     9.22,6,    15.53,6,  -999.00,9,     0.32,6,    5.036,2,    2.948,2,    0.315,2,    6.790,2,    8.496,2,   2155.1,2,   2289.5,2,   8.0474,3,     3.54,   3.4628
  18HU20100513, AR07W,   196,  1, 369491,     16,2,20100522,0224, 56.9568, -52.2400, 3440,    875.0,   3.7243,  34.8664,2,  34.8658,2,    294.5,2,    293.8,6,     8.36,6,    15.45,6,  -999.00,9,     0.14,6,    4.840,2,    2.870,2,    0.296,2,    6.523,2,    6.946,2,   2154.6,2,   2290.1,2,   8.0496,3,     3.72,   3.6603
  18HU20100513, AR07W,   196,  1, 369492,     17,2,20100522,0224, 56.9568, -52.2400, 3440,    671.0,   3.8539,  34.8750,2,  34.8757,2,    300.2,2,    300.4,2,     7.71,6,    18.61,4,  -999.00,9,     0.22,6,    5.004,2,    2.957,2,    0.447,2,    7.089,2,    5.096,2,   2151.7,2,   2291.5,2,   8.0604,3,     3.85,   3.8051
  18HU20100513, AR07W,   196,  1, 369493,     18,2,20100522,0224, 56.9568, -52.2400, 3440,    512.0,   3.8219,  34.8702,2,  34.8711,2,    301.0,2,    302.6,2,    11.64,3,    14.84,6,  -999.00,9,     0.17,6,    5.139,2,    3.058,2,    0.539,2,    7.488,2,    5.230,2,   2148.9,2,   2288.2,2,   8.0623,3,     3.82,   3.7855
  18HU20100513, AR07W,   196,  1, 369494,     19,2,20100522,0224, 56.9568, -52.2400, 3440,    363.0,   3.7641,  34.8618,2,  34.8627,2,    303.1,2,    301.2,2,     8.88,6,    14.75,6,  -999.00,9,     0.26,6,    5.122,2,    2.926,2,    0.507,2,    7.366,2,    5.957,2,   2150.6,2,   2300.4,2,-999.0000,9,  -999.00,   3.7388
  18HU20100513, AR07W,   196,  1, 369495,     20,2,20100522,0224, 56.9568, -52.2400, 3440,    241.0,   3.5851,  34.8322,2,  34.8318,2,    304.5,2,    306.0,2,     8.97,6,    14.49,6,  -999.00,9,     0.25,6,    5.168,2,    3.203,2,    0.482,2,    7.548,2,    4.511,2,   2148.9,2,   2278.8,2,   8.0906,3,     3.58,   3.5689
  18HU20100513, AR07W,   196,  1, 369496,     21,2,20100522,0224, 56.9568, -52.2400, 3440,    141.0,   3.5021,  34.8058,2,  34.8078,2,    307.8,2,    324.4,3,     7.83,6,    14.20,6,  -999.00,9,      0.2,6,    5.445,2,    3.092,2,    0.533,2,    8.432,2,    4.948,2,   2148.5,2,   2286.9,2,   8.0875,3,     3.51,   3.4928
  18HU20100513, AR07W,   196,  1, 369497,     22,2,20100522,0224, 56.9568, -52.2400, 3440,     69.0,   4.2255,  34.7264,2,-999.0000,9,    328.9,2,    329.1,2,     4.50,6,     9.89,6,  -999.00,9,     0.66,6,    5.392,2,    3.276,2,    0.561,2,    8.582,2,    6.036,2,   2125.5,2,   2276.6,2,   8.1290,3,     4.23,   4.2206
  18HU20100513, AR07W,   196,  1, 369498,     23,2,20100522,0224, 56.9568, -52.2400, 3440,     36.0,   4.2327,  34.7254,2,-999.0000,9,    329.3,2,    328.7,2,     4.39,6,     9.81,6,  -999.00,9,     0.49,6,    5.375,2,    3.195,2,    0.379,2,    8.644,2,    5.700,2,   -999.0,9,   2295.7,2,   8.1086,3,     4.23,   4.2302
  18HU20100513, AR07W,   196,  1, 369499,     24,2,20100522,0224, 56.9568, -52.2400, 3440,      2.0,   4.2353,  34.7271,2,-999.0000,9,    332.2,2,    334.4,2,     4.45,6,     9.88,6,  -999.00,9,     0.55,6,    5.512,2,    3.177,2,    0.552,2,    8.809,2,    3.837,2,   -999.0,9,   -999.0,9,-999.0000,9,  -999.00,   4.2352
  18HU20100513, AR07W,   202,  1, 369500,      1,2,20100522,1200, 56.5405, -52.6718, 3420,    201.0,   3.8430,  34.7899,2,-999.0000,9,    286.6,2,   -999.0,9,     8.12,6,    15.32,6,     1.10,6,     0.46,6, -999.000,9, -999.000,9, -999.000,9, -999.000,9, -999.000,9,   -999.0,9,   -999.0,9,-999.0000,9,  -999.00,   3.8292
  18HU20100513, AR07W,   202,  1, 369501,      2,2,20100522,1200, 56.5405, -52.6718, 3420,    150.0,   3.8237,  34.7581,2,-999.0000,9,    284.0,2,   -999.0,9,     8.33,6,    15.58,6,     1.11,6,     0.26,6, -999.000,9, -999.000,9, -999.000,9, -999.000,9, -999.000,9,   -999.0,9,   -999.0,9,-999.0000,9,  -999.00,   3.8135
  18HU20100513, AR07W,   202,  1, 369502,      3,2,20100522,1200, 56.5405, -52.6718, 3420,     99.0,   3.5858,  34.6745,2,-999.0000,9,    304.6,2,   -999.0,9,     8.93,6,    13.49,6,     0.99,6,     0.32,6, -999.000,9, -999.000,9, -999.000,9, -999.000,9, -999.000,9,   -999.0,9,   -999.0,9,   8.0775,3,     3.59,   3.5793
  18HU20100513, AR07W,   202,  1, 369503,      4,2,20100522,1200, 56.5405, -52.6718, 3420,     81.0,   3.5675,  34.6502,2,-999.0000,9,    306.9,2,   -999.0,9,     7.58,6,    13.18,6,     0.98,6,     0.37,6, -999.000,9, -999.000,9, -999.000,9, -999.000,9, -999.000,9,   -999.0,9,   -999.0,9,-999.0000,9,  -999.00,   3.5622
  18HU20100513, AR07W,   202,  1, 369504,      5,2,20100522,1200, 56.5405, -52.6718, 3420,     62.0,   4.1578,  34.5777,2,-999.0000,9,    318.4,2,   -999.0,9,     2.69,6,     9.30,6,     0.72,6,     0.73,6, -999.000,9, -999.000,9, -999.000,9, -999.000,9, -999.000,9,   -999.0,9,   -999.0,9,-999.0000,9,  -999.00,   4.1535
  18HU20100513, AR07W,   202,  1, 369505,      6,2,20100522,1200, 56.5405, -52.6718, 3420,     52.0,   4.4746,  34.5372,2,-999.0000,9,    321.9,2,   -999.0,9,     1.54,6,     8.74,6,     0.67,6,     0.57,6, -999.000,9, -999.000,9, -999.000,9, -999.000,9, -999.000,9,   -999.0,9,   -999.0,9,-999.0000,9,  -999.00,   4.4708
  18HU20100513, AR07W,   202,  1, 369506,      7,2,20100522,1200, 56.5405, -52.6718, 3420,     40.0,   4.5053,  34.5287,2,-999.0000,9,    322.8,2,   -999.0,9,     1.40,6,     8.67,6,     0.65,6,     0.47,6, -999.000,9, -999.000,9, -999.000,9, -999.000,9, -999.000,9,   -999.0,9,   -999.0,9,-999.0000,9,  -999.00,   4.5024
  18HU20100513, AR07W,   202,  1, 369507,      8,2,20100522,1200, 56.5405, -52.6718, 3420,     31.0,   4.5100,  34.5289,2,-999.0000,9,    323.3,2,   -999.0,9,     1.63,6,     8.55,6,     0.66,6,     0.97,6, -999.000,9, -999.000,9, -999.000,9, -999.000,9, -999.000,9,   -999.0,9,   -999.0,9,-999.0000,9,  -999.00,   4.5078
  18HU20100513, AR07W,   202,  1, 369508,      9,2,20100522,1200, 56.5405, -52.6718, 3420,     31.0,   4.5100,  34.5289,2,-999.0000,9,    323.3,2,   -999.0,9,  -999.00,9,  -999.00,9,  -999.00,9,     -999,9, -999.000,9, -999.000,9, -999.000,9, -999.000,9, -999.000,9,   -999.0,9,   -999.0,9,-999.0000,9,  -999.00,   4.5078
  18HU20100513, AR07W,   202,  1, 369509,     10,2,20100522,1200, 56.5405, -52.6718, 3420,     21.0,   4.5120,  34.5295,2,-999.0000,9,    323.4,2,   -999.0,9,     1.41,6,     8.47,6,     0.62,6,     0.62,6, -999.000,9, -999.000,9, -999.000,9, -999.000,9, -999.000,9,   -999.0,9,   -999.0,9,-999.0000,9,  -999.00,   4.5105
  18HU20100513, AR07W,   202,  1, 369510,     11,2,20100522,1200, 56.5405, -52.6718, 3420,     11.0,   4.5108,  34.5296,2,-999.0000,9,    323.8,2,   -999.0,9,     1.47,6,     8.53,6,     0.63,6,     0.62,6, -999.000,9, -999.000,9, -999.000,9, -999.000,9, -999.000,9,   -999.0,9,   -999.0,9,-999.0000,9,  -999.00,   4.5100
  18HU20100513, AR07W,   202,  1, 369511,     12,2,20100522,1200, 56.5405, -52.6718, 3420,      4.0,   4.5084,  34.5293,2,-999.0000,9,    325.4,2,   -999.0,9,     2.46,6,     8.58,6,     0.63,6,     0.53,6, -999.000,9, -999.000,9, -999.000,9, -999.000,9, -999.000,9,   -999.0,9,   -999.0,9,   8.1352,3,     4.51,   4.5081
  18HU20100513, AR07W,   202,  1, 369512,     13,2,20100522,1200, 56.5405, -52.6718, 3420,      4.0,   4.5084,  34.5293,2,-999.0000,9,    325.4,2,   -999.0,9,  -999.00,9,  -999.00,9,  -999.00,9,     -999,9, -999.000,9, -999.000,9, -999.000,9, -999.000,9, -999.000,9,   -999.0,9,   -999.0,9,-999.0000,9,  -999.00,   4.5081