BOTTLE,20140111SIOCCHRJL
EXPOCODE,SECT_ID,STNNBR,CASTNO,SAMPNO,BTLNBR,BTLNBR_FLAG_W,DATE,TIME,LATITUDE,LONGITUDE,DEPTH,CTDPRS,CTDTMP,CTDSAL,CTDSAL_FLAG_W,SALNTY,SALNTY_FLAG_W,CTDOXY,CTDOXY_FLAG_W,OXYGEN,OXYGEN_FLAG_W,SILCAT,SILCAT_FLAG_W,NITRAT,NITRAT_FLAG_W,PHSPHT,PHSPHT_FLAG_W,NH4,NH4_FLAG_W,CFC-11,CFC-11_FLAG_W,CFC-12,CFC-12_FLAG_W,CFC113,CFC113_FLAG_W,CCL4,CCL4_FLAG_W,MCHFRM,MCHFRM_FLAG_W,TCARBN,TCARBN_FLAG_W,ALKALI,ALKALI_FLAG_W,PH_TOT,PH_TOT_FLAG_W,PH_TMP,THETA
,,,,,,,,,,,METERS,DBAR,ITS-90,PSS-78,,PSS-78,,UMOL/KG,,UMOL/KG,,UMOL/KG,,UMOL/KG,,UMOL/KG,,UMOL/KG,,PMOL/KG,,PMOL/KG,,PMOL/KG,,PMOL/KG,,PMOL/KG,,UMOL/KG,,UMOL/KG,,,,DEG C,DEG C
  18HU20100513, AR07W,    85,  1, 369279,      1,2,20100519,0036, 60.3602, -48.5445, 1260,   1621.0,   3.7510,  34.9237,2,  34.9242,6,    278.0,2,    276.7,2,     9.40,6,    15.70,6,     1.11,6,     0.24,6,    3.840,2,    2.228,2,    0.084,2,    3.369,2,    2.760,2,   2157.2,2,   2301.0,2,   8.0227,2,     3.77,   3.6228
  18HU20100513, AR07W,    85,  1, 369280,      2,2,20100519,0036, 60.3602, -48.5445, 1260,   1500.0,   3.7649,  34.9235,2,  34.9241,2,    278.5,2,    293.2,3,     9.39,6,    15.73,6,     1.14,6,     0.32,6,    3.838,2,    2.174,2,    0.015,2,    3.296,2,    2.747,2,   2154.9,2,   2300.0,2,   8.0378,2,     3.79,   3.6474
  18HU20100513, AR07W,    85,  1, 369281,      3,2,20100519,0036, 60.3602, -48.5445, 1260,   1353.0,   3.9039,  34.9249,2,  34.9263,2,    280.8,2,    281.9,2,     9.00,6,    15.66,6,     1.13,6,     0.36,6,    4.028,2,    2.123,2,    0.096,2,    3.431,2,    2.336,2,   2154.6,6,   2305.7,6,   8.0382,2,     3.98,   3.7980
  18HU20100513, AR07W,    85,  1, 369282,      4,2,20100519,0036, 60.3602, -48.5445, 1260,   1204.0,   4.0339,  34.9262,2,  34.9268,2,    281.8,2,    281.3,2,     8.92,6,    15.59,6,     1.14,6,     0.16,6,    4.026,2,    2.306,2,    0.076,2,    3.417,2,    2.259,2,   2157.7,2,   2304.1,2,   8.0450,2,     4.03,   3.9398
  18HU20100513, AR07W,    85,  1, 369283,      5,2,20100519,0036, 60.3602, -48.5445, 1260,   1050.0,   4.0649,  34.9275,2,  34.9274,2,    281.3,2,    282.5,2,     8.81,6,    15.61,6,     1.14,6,     0.34,6,    4.106,2,    2.353,2,    0.013,2,    3.506,2,    2.216,2,   2152.3,2,   2301.4,2,   8.0469,2,     4.07,   3.9838
  18HU20100513, AR07W,    85,  1, 369284,      6,2,20100519,0036, 60.3602, -48.5445, 1260,    852.0,   4.3057,  34.9401,2,  34.9418,2,    282.8,2,    284.1,2,     8.49,6,    15.55,6,     1.12,6,     0.24,6,    4.144,2,    2.130,3, -999.000,9,    3.545,2,    1.947,2,   2147.7,2,   2302.9,2,   8.0516,2,     4.31,   4.2395
  18HU20100513, AR07W,    85,  1, 369285,      7,2,20100519,0036, 60.3602, -48.5445, 1260,    682.0,   4.3988,  34.9453,2,  34.9457,2,    284.2,2,    285.1,2,     8.36,6,    15.44,6,     1.10,6,     0.25,6,    4.152,2,    2.420,2,    0.043,2,    3.633,2,    1.782,2,   2150.6,2,   2305.4,2,   8.0421,2,     4.41,   4.3462
  18HU20100513, AR07W,    85,  1, 369286,      8,2,20100519,0036, 60.3602, -48.5445, 1260,    518.0,   4.9555,  34.9804,2,  34.9807,2,    291.1,2,    291.9,2,     7.56,6,    14.91,6,     1.08,6,     0.26,6,    4.245,2,    2.548,2,    0.039,2,    3.846,2,    1.318,2,   2145.0,2,   2307.5,2,   8.0734,2,     4.95,   4.9139
  18HU20100513, AR07W,    85,  1, 369287,      9,2,20100519,0036, 60.3602, -48.5445, 1260,    381.0,   5.0568,  34.9864,2,  34.9878,2,    294.1,2,    294.6,2,     7.41,6,    14.78,6,     1.08,6,     0.21,6,    4.304,2,    2.461,2,    0.085,2,    3.907,2,    1.161,2,   2143.4,2,   2311.1,2,   8.0770,2,     5.07,   5.0263
  18HU20100513, AR07W,    85,  1, 369288,     10,2,20100519,0036, 60.3602, -48.5445, 1260,    250.0,   5.5190,  35.0295,2,  35.0291,2,    295.2,2,    295.6,2,     7.09,6,    14.56,6,     1.04,6,     0.19,6,    4.248,2,    2.568,2,    0.068,2,    3.906,2,    0.980,2,   2143.2,2,   2311.7,2,   8.0906,2,     5.52,   5.4983
  18HU20100513, AR07W,    85,  1, 369289,     11,2,20100519,0036, 60.3602, -48.5445, 1260,    150.0,   4.8818,  34.8397,2,  34.8392,2,    304.9,2,    306.0,2,     6.83,6,    13.26,6,     1.00,6,     0.58,6,    4.548,2,    2.720,2,    0.078,2,    4.251,2,    0.988,2,   2132.7,2,   2305.7,2,   8.1044,2,     4.89,   4.8703
  18HU20100513, AR07W,    85,  1, 369290,     12,2,20100519,0036, 60.3602, -48.5445, 1260,    100.0,   4.6911,  34.7856,2,  34.7659,2,    306.9,2,    307.8,2,     6.56,6,    12.90,6,     0.98,6,     0.54,6,    4.637,2,    2.803,2,    0.165,2,    4.302,2,    0.986,2,   2124.8,3,   2300.4,2,   8.1181,2,     4.60,   4.6836
  18HU20100513, AR07W,    85,  1, 369291,     13,2,20100519,0036, 60.3602, -48.5445, 1260,     81.0,   4.4206,  34.7115,2,-999.0000,9,    308.2,2,   -999.0,9,     6.45,6,    12.51,6,     0.96,6,     0.61,6, -999.000,9, -999.000,9, -999.000,9, -999.000,9, -999.000,9,   -999.0,9,   -999.0,9,-999.0000,9,  -999.00,   4.4147
  18HU20100513, AR07W,    85,  1, 369292,     14,2,20100519,0036, 60.3602, -48.5445, 1260,     60.0,   4.1317,  34.6327,2,-999.0000,9,    311.7,2,   -999.0,9,     6.37,6,    12.13,6,     0.98,6,     0.62,6, -999.000,9, -999.000,9, -999.000,9, -999.000,9, -999.000,9,   -999.0,9,   -999.0,9,-999.0000,9,  -999.00,   4.1275
  18HU20100513, AR07W,    85,  1, 369293,     15,2,20100519,0036, 60.3602, -48.5445, 1260,     50.0,   3.9671,  34.5406,2,  34.4879,2,    317.6,2,    317.8,2,     6.01,6,    11.04,6,     0.86,6,     0.77,6,    4.848,2,    2.594,2, -999.000,9,    4.517,2,    1.033,2,   2108.4,2,   2282.2,2,   8.1395,2,     3.85,   3.9637
  18HU20100513, AR07W,    85,  1, 369294,     16,2,20100519,0036, 60.3602, -48.5445, 1260,     39.0,   3.6552,  34.4112,2,-999.0000,9,    324.8,2,   -999.0,9,     5.70,6,    10.22,6,     0.83,6,     0.89,6, -999.000,9, -999.000,9, -999.000,9, -999.000,9, -999.000,9,   -999.0,9,   -999.0,9,-999.0000,9,  -999.00,   3.6527
  18HU20100513, AR07W,    85,  1, 369295,     17,2,20100519,0036, 60.3602, -48.5445, 1260,     30.0,   3.6887,  34.4010,2,-999.0000,9,    324.9,2,   -999.0,9,     5.62,6,    10.02,6,     0.82,6,     0.96,6, -999.000,9, -999.000,9, -999.000,9, -999.000,9, -999.000,9,   -999.0,9,   -999.0,9,-999.0000,9,  -999.00,   3.6867
  18HU20100513, AR07W,    85,  1, 369296,     18,2,20100519,0036, 60.3602, -48.5445, 1260,     21.0,   3.6840,  34.4033,2,-999.0000,9,    325.1,2,   -999.0,9,     5.65,6,    10.13,6,     0.81,6,     0.83,6, -999.000,9, -999.000,9, -999.000,9, -999.000,9, -999.000,9,   -999.0,9,   -999.0,9,-999.0000,9,  -999.00,   3.6826
  18HU20100513, AR07W,    85,  1, 369297,     19,2,20100519,0036, 60.3602, -48.5445, 1260,     10.0,-999.0000,-999.0000,9,-999.0000,9,   -999.0,9,    378.1,3,     3.06,6,     3.00,6,     0.36,2,     0.34,6, -999.000,9, -999.000,9, -999.000,9,    0.107,2,    0.000,2,   2018.4,2,   2244.9,2,   8.2617,2,     3.08,-999.0000
  18HU20100513, AR07W,    85,  1, 369298,     20,2,20100519,0036, 60.3602, -48.5445, 1260,      2.0,-999.0000,-999.0000,9,-999.0000,9,   -999.0,9,   -999.0,9,     2.18,6,     1.63,6,     0.26,6,     0.29,6, -999.000,9, -999.000,9, -999.000,9, -999.000,9, -999.000,9,   -999.0,9,   -999.0,9,-999.0000,9,  -999.00,-999.0000
  18HU20100513, AR07W,    98,  1, 369299,      1,2,20100519,0646, 60.2773, -48.6393, 2758,   2840.0,   2.4708,  34.9048,2,  34.9055,2,    286.5,2,    283.9,2,    11.30,6,    14.83,6,     1.08,6,     -999,9, -999.000,9, -999.000,9, -999.000,9, -999.000,9, -999.000,9,   2160.4,2,   2307.5,2,   8.0037,2,     2.47,   2.2477
  18HU20100513, AR07W,    98,  1, 369300,      2,2,20100519,0646, 60.2773, -48.6393, 2758,   2701.0,   2.5956,  34.9104,2,  34.9092,2,    283.8,2,    283.2,2,    11.61,6,    15.11,6,     1.08,6,     -999,9, -999.000,9, -999.000,9, -999.000,9, -999.000,9, -999.000,9,   2162.3,2,   2309.4,2,   8.0004,2,     2.59,   2.3837
  18HU20100513, AR07W,    98,  1, 369301,      3,2,20100519,0646, 60.2773, -48.6393, 2758,   2560.0,   2.6482,  34.9110,2,  34.9117,6,    284.0,2,    283.0,2,    11.49,6,    15.20,6,     1.08,6,     -999,9, -999.000,9, -999.000,9, -999.000,9, -999.000,9, -999.000,9,   2160.5,2,   2310.1,2,   8.0138,2,     2.65,   2.4490
  18HU20100513, AR07W,    98,  1, 369302,      4,2,20100519,0646, 60.2773, -48.6393, 2758,   2420.0,   2.7017,  34.9100,2,  34.9099,2,    284.5,2,    282.9,2,    10.92,6,    15.04,6,     1.07,6,     -999,9, -999.000,9, -999.000,9, -999.000,9, -999.000,9, -999.000,9,   2163.6,2,   2307.3,2,   8.0183,2,     2.70,   2.5150
  18HU20100513, AR07W,    98,  1, 369303,      5,2,20100519,0646, 60.2773, -48.6393, 2758,   2281.0,   2.8383,  34.9179,2,  34.9184,2,    280.8,2,    278.9,2,    11.99,6,    15.69,6,     1.11,6,     -999,9, -999.000,9, -999.000,9, -999.000,9, -999.000,9, -999.000,9,   2160.7,2,   2310.5,2,   8.0192,2,     2.85,   2.6623
  18HU20100513, AR07W,    98,  1, 369304,      6,2,20100519,0646, 60.2773, -48.6393, 2758,   2130.0,   3.0261,  34.9149,2,  34.9163,6,    280.1,2,   -999.0,9,    11.44,6,    15.92,6,     1.14,6,     -999,9, -999.000,9, -999.000,9, -999.000,9, -999.000,9, -999.000,9,   2160.4,6,   2308.7,6,   8.0275,2,     3.03,   2.8612
  18HU20100513, AR07W,    98,  1, 369305,      7,2,20100519,0646, 60.2773, -48.6393, 2758,   1970.0,   3.1360,  34.9160,2,  34.9160,2,    280.4,2,   -999.0,9,    10.93,6,    15.79,6,     1.11,6,     -999,9, -999.000,9, -999.000,9, -999.000,9, -999.000,9, -999.000,9,   2159.9,2,   2312.3,2,   8.0281,2,     3.14,   2.9842
  18HU20100513, AR07W,    98,  1, 369306,      8,2,20100519,0646, 60.2773, -48.6393, 2758,   1810.0,   3.2840,  34.9175,2,  34.9172,2,    279.7,2,   -999.0,9,    10.89,6,    15.82,6,     1.11,6,     -999,9, -999.000,9, -999.000,9, -999.000,9, -999.000,9, -999.000,9,   2158.8,2,   2309.4,2,   8.0350,2,     3.29,   3.1447
  18HU20100513, AR07W,    98,  1, 369307,      9,2,20100519,0646, 60.2773, -48.6393, 2758,   1630.0,   3.3880,  34.9207,2,  34.9211,2,    278.7,2,    276.3,2,    10.32,6,    15.71,6,     1.09,6,     -999,9, -999.000,9, -999.000,9, -999.000,9, -999.000,9, -999.000,9,   2157.9,2,   2304.1,2,   8.0461,2,     3.39,   3.2634
  18HU20100513, AR07W,    98,  1, 369308,     10,2,20100519,0646, 60.2773, -48.6393, 2758,   1432.0,   3.6081,  34.9256,2,  34.9268,2,    277.2,2,    273.8,2,     9.94,6,    15.80,6,     1.09,6,     -999,9, -999.000,9, -999.000,9, -999.000,9, -999.000,9, -999.000,9,   2162.6,2,   2310.9,2,   8.0498,2,     3.61,   3.4984
  18HU20100513, AR07W,    98,  1, 369309,     11,2,20100519,0646, 60.2773, -48.6393, 2758,   1228.0,   3.7652,  34.9246,2,  34.9248,2,    277.7,2,    275.5,2,     9.55,6,    15.78,6,     1.09,6,     -999,9, -999.000,9, -999.000,9, -999.000,9, -999.000,9, -999.000,9,   2159.8,2,   2313.6,2,   8.0519,2,     3.77,   3.6715
  18HU20100513, AR07W,    98,  1, 369310,     12,2,20100519,0646, 60.2773, -48.6393, 2758,   1029.0,   3.9015,  34.9191,2,  34.9181,2,    280.2,2,    278.2,2,     9.17,6,    15.73,6,     1.10,6,     -999,9, -999.000,9, -999.000,9, -999.000,9, -999.000,9, -999.000,9,   2159.2,2,   2309.9,2,   8.0632,2,     3.90,   3.8235
  18HU20100513, AR07W,    98,  1, 369311,     13,2,20100519,0646, 60.2773, -48.6393, 2758,    853.0,   4.1189,  34.9270,2,  34.9273,2,    282.1,2,    280.7,6,     8.79,6,    15.79,6,     1.09,6,     -999,9, -999.000,9, -999.000,9, -999.000,9, -999.000,9, -999.000,9,   2159.6,2,   2307.2,2,   8.0626,2,     4.12,   4.0539
  18HU20100513, AR07W,    98,  1, 369312,     14,2,20100519,0646, 60.2773, -48.6393, 2758,    670.0,   4.4364,  34.9459,2,  34.9458,2,    282.8,2,    256.0,4,     8.63,6,    15.80,6,     1.09,6,     -999,9, -999.000,9, -999.000,9, -999.000,9, -999.000,9, -999.000,9,   2160.3,2,   2312.6,2,   8.0638,3,     4.44,   4.3846
  18HU20100513, AR07W,    98,  1, 369313,     15,2,20100519,0646, 60.2773, -48.6393, 2758,    511.0,   4.6203,  34.9469,2,  34.9444,2,    291.8,2,    289.6,2,     7.95,6,    15.48,6,     1.07,6,     -999,9, -999.000,9, -999.000,9, -999.000,9, -999.000,9, -999.000,9,   2155.4,2,   2310.8,2,   8.0752,2,     4.61,   4.5807
  18HU20100513, AR07W,    98,  1, 369314,     16,2,20100519,0646, 60.2773, -48.6393, 2758,    371.0,   4.8646,  34.9655,2,  34.9643,2,    296.0,2,    292.3,2,     7.72,6,    15.23,6,     1.05,6,     -999,9, -999.000,9, -999.000,9, -999.000,9, -999.000,9, -999.000,9,   2152.0,2,   2313.4,2,   8.0884,2,     4.87,   4.8355
  18HU20100513, AR07W,    98,  1, 369315,     17,2,20100519,0646, 60.2773, -48.6393, 2758,    250.0,   5.0397,  34.9767,2,  34.9702,2,    299.3,2,    296.8,2,     7.47,6,    14.85,6,     1.03,6,     -999,9, -999.000,9, -999.000,9, -999.000,9, -999.000,9, -999.000,9,   2150.7,2,   2311.7,2,   8.0958,2,     5.02,   5.0200
  18HU20100513, AR07W,    98,  1, 369316,     18,2,20100519,0646, 60.2773, -48.6393, 2758,    151.0,   5.2315,  34.9820,2,  34.9784,2,    300.9,2,    299.9,2,     7.27,6,    14.57,6,     1.01,6,     -999,9, -999.000,9, -999.000,9, -999.000,9, -999.000,9, -999.000,9,   2149.1,2,   1012.8,4,   8.1031,2,     5.25,   5.2195
  18HU20100513, AR07W,    98,  1, 369317,     19,2,20100519,0646, 60.2773, -48.6393, 2758,    101.0,   5.3281,  34.9438,2,  34.9342,2,    305.6,2,    302.3,2,     7.04,6,    13.78,6,     0.97,6,     -999,9, -999.000,9, -999.000,9, -999.000,9, -999.000,9, -999.000,9,   2144.3,2,   2309.0,2,   8.1102,2,     5.32,   5.3200
  18HU20100513, AR07W,    98,  1, 369318,     20,2,20100519,0646, 60.2773, -48.6393, 2758,     51.0,   5.2252,  34.8850,2,-999.0000,9,    317.4,2,    317.9,2,     6.96,6,    12.46,6,     0.93,6,     -999,9, -999.000,9, -999.000,9, -999.000,9, -999.000,9, -999.000,9,   2131.7,2,   2312.7,2,   8.1286,2,     5.22,   5.2212
  18HU20100513, AR07W,    98,  1, 369319,     21,2,20100519,0646, 60.2773, -48.6393, 2758,     21.0,   5.4389,  34.8719,2,-999.0000,9,    328.4,2,    323.0,2,     6.74,6,    11.27,6,     0.82,6,     -999,9, -999.000,9, -999.000,9, -999.000,9, -999.000,9, -999.000,9,   2124.6,2,   2307.9,2,   8.1424,2,     5.52,   5.4372
  18HU20100513, AR07W,    98,  1, 369320,     22,2,20100519,0646, 60.2773, -48.6393, 2758,      1.0,   5.3364,  34.7360,2,-999.0000,9,    350.8,2,    347.4,2,     5.63,6,     7.41,6,     0.59,6,     -999,9, -999.000,9, -999.000,9, -999.000,9, -999.000,9, -999.000,9,   2095.5,2,   2306.8,2,   8.1524,2,     5.32,   5.3363