BOTTLE,20140111SIOCCHRJL
# AMMONI changed to NH4 
# BOTTLE,20120224PRINUNIVRMK
# 2/21/2012 Initialized README file  
# Data source: J.Jackson/K.Azetsu-Scott 2/14/2012 via CDIAC 
# 	Recalibrated CTD data on 2/23/2012 
# SHIP: CCGS Hudson 
# Cruise: HUD2010014, 18HU10014, AR07W 
# Region: Labrador Sea and off Halifax 
# EXPOCODE: 18HU20100513 
# DATES: 5/13 - 5/30/2010 
# Chief Scientist: Glen Harrison 
# 47 stations with 24 place Rosette 
# Hydro: Who - I.Yashayaev; Status - final 
# 	Notes: 	 
# 	Calibration check Bottle Salt = 1.0050*CTDSAL - 0.1750; RSE=0.0073 
# Nuts: Who - K.Azetsu-Scott; Status - final 
# 	Notes: most run in duplicate 
# 	Nitrate is actually NO3+NO2 
# O2: Who - K.Azetsu-Scott; Status - final 
# 	Notes: Numerous difficulties  during cruise 
# 	Calibration Check: Bottle Oxygen = 0.9737*CTDOXY + 8.09;RSE=2.58umol/kg 
# TCO2: Who - K.Azetsu-Scott; Status - final 
# 	Notes:  
# TA: Who - K.Azetsu-Scott; Status - final 
# 	Notes: Data noisy with scatter of ~10umol/kg 
# CFC: Who - K.Azetsu-Scott; Status - final 
# 	Notes: includes CFC-113 and Cl3Et 
# References: 
EXPOCODE,SECT_ID,STNNBR,CASTNO,SAMPNO,BTLNBR,BTLNBR_FLAG_W,DATE,TIME,LATITUDE,LONGITUDE,DEPTH,CTDPRS,CTDTMP,CTDSAL,CTDSAL_FLAG_W,SALNTY,SALNTY_FLAG_W,CTDOXY,CTDOXY_FLAG_W,OXYGEN,OXYGEN_FLAG_W,SILCAT,SILCAT_FLAG_W,NITRAT,NITRAT_FLAG_W,PHSPHT,PHSPHT_FLAG_W,NH4,NH4_FLAG_W,CFC-11,CFC-11_FLAG_W,CFC-12,CFC-12_FLAG_W,CFC113,CFC113_FLAG_W,CCL4,CCL4_FLAG_W,MCHFRM,MCHFRM_FLAG_W,TCARBN,TCARBN_FLAG_W,ALKALI,ALKALI_FLAG_W,PH_TOT,PH_TOT_FLAG_W,PH_TMP,THETA
,,,,,,,,,,,METERS,DBAR,ITS-90,PSS-78,,PSS-78,,UMOL/KG,,UMOL/KG,,UMOL/KG,,UMOL/KG,,UMOL/KG,,UMOL/KG,,PMOL/KG,,PMOL/KG,,PMOL/KG,,PMOL/KG,,PMOL/KG,,UMOL/KG,,UMOL/KG,,,,DEG C,DEG C
  18HU20100513, AR07W,     3,  1, 369114,      1,2,20100513,1843, 47.5483, -52.5945,  174,    159.0,  -0.3772,  32.9671,2,-999.0000,9,    323.9,2,   -999.0,9,     6.94,6,     7.93,6,     0.98,6,      0.7,6, -999.000,9, -999.000,9, -999.000,9, -999.000,9, -999.000,9,   -999.0,9,   -999.0,9,-999.0000,9,  -999.00,  -0.3820
  18HU20100513, AR07W,     3,  1, 369115,      2,2,20100513,1843, 47.5483, -52.5945,  174,    149.0,  -0.4377,  32.9323,2,-999.0000,9,    326.9,2,   -999.0,9,     6.94,6,     7.80,6,     0.95,6,      0.6,6, -999.000,9, -999.000,9, -999.000,9, -999.000,9, -999.000,9,   -999.0,9,   -999.0,9,-999.0000,9,  -999.00,  -0.4421
  18HU20100513, AR07W,     3,  1, 369116,      3,2,20100513,1843, 47.5483, -52.5945,  174,    100.0,  -0.6062,  32.7286,2,-999.0000,9,    345.6,2,   -999.0,9,     4.83,6,     6.50,6,     0.86,6,     0.51,6, -999.000,9, -999.000,9, -999.000,9, -999.000,9, -999.000,9,   -999.0,9,   -999.0,9,-999.0000,9,  -999.00,  -0.6089
  18HU20100513, AR07W,     3,  1, 369117,      4,2,20100513,1843, 47.5483, -52.5945,  174,     75.0,  -0.5159,  32.6335,2,-999.0000,9,    348.4,2,   -999.0,9,     2.86,6,     5.47,6,     0.82,6,     0.74,6, -999.000,9, -999.000,9, -999.000,9, -999.000,9, -999.000,9,   -999.0,9,   -999.0,9,-999.0000,9,  -999.00,  -0.5180
  18HU20100513, AR07W,     3,  1, 369118,      5,2,20100513,1843, 47.5483, -52.5945,  174,     50.0,  -0.0085,  32.5094,2,-999.0000,9,    365.6,2,   -999.0,9,     1.16,6,     1.76,6,     0.54,6,     0.81,6, -999.000,9, -999.000,9, -999.000,9, -999.000,9, -999.000,9,   -999.0,9,   -999.0,9,-999.0000,9,  -999.00,  -0.0101
  18HU20100513, AR07W,     3,  1, 369119,      6,2,20100513,1843, 47.5483, -52.5945,  174,     41.0,   0.4175,  32.4650,2,-999.0000,9,    370.3,2,   -999.0,9,     0.21,6,     0.15,6,     0.35,6,     0.61,6, -999.000,9, -999.000,9, -999.000,9, -999.000,9, -999.000,9,   -999.0,9,   -999.0,9,-999.0000,9,  -999.00,   0.4161
  18HU20100513, AR07W,     3,  1, 369120,      7,2,20100513,1843, 47.5483, -52.5945,  174,     29.0,   1.8159,  32.3131,2,-999.0000,9,    355.2,2,   -999.0,9,     0.00,6,     0.00,6,     0.30,6,      0.6,6, -999.000,9, -999.000,9, -999.000,9, -999.000,9, -999.000,9,   -999.0,9,   -999.0,9,-999.0000,9,  -999.00,   1.8146
  18HU20100513, AR07W,     3,  1, 369121,      8,2,20100513,1843, 47.5483, -52.5945,  174,     20.0,   2.1109,  32.2658,2,-999.0000,9,    353.7,2,   -999.0,9,     0.15,6,     0.00,6,     0.30,6,     0.45,6, -999.000,9, -999.000,9, -999.000,9, -999.000,9, -999.000,9,   -999.0,9,   -999.0,9,-999.0000,9,  -999.00,   2.1099
  18HU20100513, AR07W,     3,  1, 369122,      9,2,20100513,1843, 47.5483, -52.5945,  174,     10.0,   2.7220,  32.1151,2,-999.0000,9,    344.7,2,   -999.0,9,     0.28,6,     0.00,6,     0.31,6,     0.51,6, -999.000,9, -999.000,9, -999.000,9, -999.000,9, -999.000,9,   -999.0,9,   -999.0,9,-999.0000,9,  -999.00,   2.7215
  18HU20100513, AR07W,     3,  1, 369123,     10,2,20100513,1843, 47.5483, -52.5945,  174,      5.0,   3.0843,  31.9799,2,-999.0000,9,    343.5,2,   -999.0,9,     0.31,6,     0.00,6,     0.32,6,     0.61,6, -999.000,9, -999.000,9, -999.000,9, -999.000,9, -999.000,9,   -999.0,9,   -999.0,9,-999.0000,9,  -999.00,   3.0840
  18HU20100513, AR07W,     7,  1, 369124,      1,2,20100514,1147, 50.6273, -52.6372,  233,    201.0,   2.2338,  34.2734,2,-999.0000,9,    276.6,2,   -999.0,9,    11.88,6,    13.51,6,     1.07,6,     0.35,6, -999.000,9, -999.000,9, -999.000,9, -999.000,9, -999.000,9,   -999.0,9,   -999.0,9,-999.0000,9,  -999.00,   2.2228
  18HU20100513, AR07W,     7,  1, 369125,      2,2,20100514,1147, 50.6273, -52.6372,  233,    150.0,   1.8146,  34.0507,2,-999.0000,9,    294.4,2,   -999.0,9,     9.87,6,    11.39,6,     0.95,6,     0.45,6, -999.000,9, -999.000,9, -999.000,9, -999.000,9, -999.000,9,   -999.0,9,   -999.0,9,-999.0000,9,  -999.00,   1.8070
  18HU20100513, AR07W,     7,  1, 369126,      3,2,20100514,1147, 50.6273, -52.6372,  233,    100.0,   0.5203,  33.6584,2,-999.0000,9,    316.7,2,   -999.0,9,     8.23,6,     9.97,6,     0.90,6,      0.3,6, -999.000,9, -999.000,9, -999.000,9, -999.000,9, -999.000,9,   -999.0,9,   -999.0,9,-999.0000,9,  -999.00,   0.5164
  18HU20100513, AR07W,     7,  1, 369127,      4,2,20100514,1147, 50.6273, -52.6372,  233,     79.0,  -0.2272,  33.3934,2,-999.0000,9,    329.2,2,   -999.0,9,     7.85,6,     9.36,6,     0.90,6,     0.38,6, -999.000,9, -999.000,9, -999.000,9, -999.000,9, -999.000,9,   -999.0,9,   -999.0,9,-999.0000,9,  -999.00,  -0.2297
  18HU20100513, AR07W,     7,  1, 369128,      5,2,20100514,1147, 50.6273, -52.6372,  233,     59.0,  -0.3297,  33.1475,2,-999.0000,9,    339.5,2,   -999.0,9,     5.14,6,     6.94,6,     0.83,6,     0.93,6, -999.000,9, -999.000,9, -999.000,9, -999.000,9, -999.000,9,   -999.0,9,   -999.0,9,-999.0000,9,  -999.00,  -0.3315
  18HU20100513, AR07W,     7,  1, 369129,      6,2,20100514,1147, 50.6273, -52.6372,  233,     50.0,  -0.2526,  33.0614,2,-999.0000,9,    348.2,2,   -999.0,9,     2.79,6,     4.83,6,     0.72,6,     1.66,6, -999.000,9, -999.000,9, -999.000,9, -999.000,9, -999.000,9,   -999.0,9,   -999.0,9,-999.0000,9,  -999.00,  -0.2541
  18HU20100513, AR07W,     7,  1, 369130,      7,2,20100514,1147, 50.6273, -52.6372,  233,     39.0,   0.0412,  33.0180,2,-999.0000,9,    360.2,2,   -999.0,9,     1.70,6,     3.05,6,     0.62,6,     1.48,6, -999.000,9, -999.000,9, -999.000,9, -999.000,9, -999.000,9,   -999.0,9,   -999.0,9,-999.0000,9,  -999.00,   0.0399
  18HU20100513, AR07W,     7,  1, 369131,      8,2,20100514,1147, 50.6273, -52.6372,  233,     29.0,   1.3134,  32.8022,2,-999.0000,9,    358.6,2,   -999.0,9,     0.77,6,     1.27,6,     0.51,6,     1.32,6, -999.000,9, -999.000,9, -999.000,9, -999.000,9, -999.000,9,   -999.0,9,   -999.0,9,-999.0000,9,  -999.00,   1.3122
  18HU20100513, AR07W,     7,  1, 369132,      9,2,20100514,1147, 50.6273, -52.6372,  233,     20.0,   1.3758,  32.7960,2,-999.0000,9,    357.9,2,   -999.0,9,     0.59,6,     0.54,6,     0.45,6,     1.06,6, -999.000,9, -999.000,9, -999.000,9, -999.000,9, -999.000,9,   -999.0,9,   -999.0,9,-999.0000,9,  -999.00,   1.3749
  18HU20100513, AR07W,     7,  1, 369133,     10,2,20100514,1147, 50.6273, -52.6372,  233,     10.0,   1.3859,  32.7888,2,-999.0000,9,    357.9,2,   -999.0,9,     0.52,6,     0.51,6,     0.44,6,     0.98,6, -999.000,9, -999.000,9, -999.000,9, -999.000,9, -999.000,9,   -999.0,9,   -999.0,9,-999.0000,9,  -999.00,   1.3855
  18HU20100513, AR07W,     7,  1, 369134,     11,2,20100514,1147, 50.6273, -52.6372,  233,      2.0,   1.3772,  32.7882,2,-999.0000,9,    357.1,2,   -999.0,9,     0.43,6,     0.48,6,     0.45,6,     1.03,6, -999.000,9, -999.000,9, -999.000,9, -999.000,9, -999.000,9,   -999.0,9,   -999.0,9,-999.0000,9,  -999.00,   1.3771
  18HU20100513, AR07W,    13,  1, 369135,      1,2,20100515,1206, 54.7705, -52.4395, 1807,    200.0,   3.9242,  34.8674,2,-999.0000,9,    296.4,2,   -999.0,9,  -999.00,9,  -999.00,9,  -999.00,9,     -999,9, -999.000,9, -999.000,9, -999.000,9, -999.000,9, -999.000,9,   -999.0,9,   -999.0,9,-999.0000,9,  -999.00,   3.9103
  18HU20100513, AR07W,    13,  1, 369136,      2,2,20100515,1206, 54.7705, -52.4395, 1807,    200.0,   3.9242,  34.8674,2,-999.0000,9,    296.4,2,   -999.0,9,  -999.00,9,  -999.00,9,  -999.00,9,     -999,9, -999.000,9, -999.000,9, -999.000,9, -999.000,9, -999.000,9,   -999.0,9,   -999.0,9,-999.0000,9,  -999.00,   3.9103
  18HU20100513, AR07W,    13,  1, 369137,      3,2,20100515,1206, 54.7705, -52.4395, 1807,    200.0,   3.9242,  34.8674,2,-999.0000,9,    296.4,2,    157.7,4,  -999.00,9,  -999.00,9,  -999.00,9,     -999,9, -999.000,9, -999.000,9, -999.000,9, -999.000,9, -999.000,9,   -999.0,9,   -999.0,9,-999.0000,9,  -999.00,   3.9103
  18HU20100513, AR07W,    13,  1, 369138,      4,2,20100515,1206, 54.7705, -52.4395, 1807,    200.0,   3.9242,  34.8674,2,-999.0000,9,    296.4,2,    154.1,4,     7.63,6,    14.83,6,     1.05,6,     0.37,6, -999.000,9, -999.000,9, -999.000,9, -999.000,9, -999.000,9,   -999.0,9,   -999.0,9,-999.0000,9,  -999.00,   3.9103
  18HU20100513, AR07W,    13,  1, 369139,      5,2,20100515,1206, 54.7705, -52.4395, 1807,    149.0,   3.8855,  34.8556,2,-999.0000,9,    296.9,2,    202.2,4,  -999.00,9,  -999.00,9,  -999.00,9,     -999,9, -999.000,9, -999.000,9, -999.000,9, -999.000,9, -999.000,9,   -999.0,9,   -999.0,9,-999.0000,9,  -999.00,   3.8752
  18HU20100513, AR07W,    13,  1, 369140,      6,2,20100515,1206, 54.7705, -52.4395, 1807,    149.0,   3.8855,  34.8556,2,-999.0000,9,    296.9,2,    206.1,4,     7.55,6,    14.67,6,     1.04,6,     0.29,6, -999.000,9, -999.000,9, -999.000,9, -999.000,9, -999.000,9,   -999.0,9,   -999.0,9,-999.0000,9,  -999.00,   3.8752
  18HU20100513, AR07W,    13,  1, 369141,      7,2,20100515,1206, 54.7705, -52.4395, 1807,    100.0,   3.8405,  34.8317,2,-999.0000,9,    298.6,2,    163.7,4,     7.67,6,    14.57,6,     1.04,6,     0.34,6, -999.000,9, -999.000,9, -999.000,9, -999.000,9, -999.000,9,   -999.0,9,   -999.0,9,-999.0000,9,  -999.00,   3.8337
  18HU20100513, AR07W,    13,  1, 369142,      8,2,20100515,1206, 54.7705, -52.4395, 1807,     79.0,   3.7653,  34.7995,2,-999.0000,9,    300.6,2,    147.6,4,     7.70,6,    14.21,6,     1.03,6,     0.28,6, -999.000,9, -999.000,9, -999.000,9, -999.000,9, -999.000,9,   -999.0,9,   -999.0,9,-999.0000,9,  -999.00,   3.7600
  18HU20100513, AR07W,    13,  1, 369143,      9,2,20100515,1206, 54.7705, -52.4395, 1807,     60.0,   3.6793,  34.7510,2,-999.0000,9,    307.7,2,    312.5,6,     7.60,6,    13.61,6,     1.01,6,     0.35,6, -999.000,9, -999.000,9, -999.000,9, -999.000,9, -999.000,9,   -999.0,9,   -999.0,9,-999.0000,9,  -999.00,   3.6753
  18HU20100513, AR07W,    13,  1, 369144,     10,2,20100515,1206, 54.7705, -52.4395, 1807,     50.0,   3.6657,  34.7303,2,-999.0000,9,    310.9,2,    312.7,6,     7.42,6,    13.33,6,     0.99,6,     0.65,6, -999.000,9, -999.000,9, -999.000,9, -999.000,9, -999.000,9,   -999.0,9,   -999.0,9,-999.0000,9,  -999.00,   3.6624
  18HU20100513, AR07W,    13,  1, 369145,     11,2,20100515,1206, 54.7705, -52.4395, 1807,     40.0,   3.5778,  34.6344,2,-999.0000,9,    314.3,2,    315.6,6,     7.10,6,    12.47,6,     0.97,6,     0.67,6, -999.000,9, -999.000,9, -999.000,9, -999.000,9, -999.000,9,   -999.0,9,   -999.0,9,-999.0000,9,  -999.00,   3.5752
  18HU20100513, AR07W,    13,  1, 369146,     12,2,20100515,1206, 54.7705, -52.4395, 1807,     29.0,   3.5255,  34.5705,2,-999.0000,9,    318.8,2,    319.5,6,     6.45,6,    11.07,6,     0.91,6,     0.94,6, -999.000,9, -999.000,9, -999.000,9, -999.000,9, -999.000,9,   -999.0,9,   -999.0,9,-999.0000,9,  -999.00,   3.5236
  18HU20100513, AR07W,    13,  1, 369147,     13,2,20100515,1206, 54.7705, -52.4395, 1807,     20.0,   3.1780,  34.1976,2,-999.0000,9,    346.1,2,    355.2,6,     3.18,6,     5.71,6,     0.60,6,     0.71,6, -999.000,9, -999.000,9, -999.000,9, -999.000,9, -999.000,9,   -999.0,9,   -999.0,9,-999.0000,9,  -999.00,   3.1768
  18HU20100513, AR07W,    13,  1, 369148,     14,2,20100515,1206, 54.7705, -52.4395, 1807,     11.0,   2.6495,  33.8037,2,-999.0000,9,    372.7,2,    379.6,6,     1.25,6,     1.84,6,     0.33,6,     0.83,6, -999.000,9, -999.000,9, -999.000,9, -999.000,9, -999.000,9,   -999.0,9,   -999.0,9,-999.0000,9,  -999.00,   2.6489
  18HU20100513, AR07W,    13,  1, 369149,     15,2,20100515,1206, 54.7705, -52.4395, 1807,      2.0,   2.6322,  33.7930,2,-999.0000,9,    379.8,2,    375.8,6,     1.15,6,     1.66,6,     0.34,6,     0.58,6, -999.000,9, -999.000,9, -999.000,9, -999.000,9, -999.000,9,   -999.0,9,   -999.0,9,-999.0000,9,  -999.00,   2.6321