BOTTLE,20140111SIOCCHRJL
EXPOCODE,SECT_ID,STNNBR,CASTNO,SAMPNO,BTLNBR,BTLNBR_FLAG_W,DATE,TIME,LATITUDE,LONGITUDE,DEPTH,CTDPRS,CTDTMP,CTDSAL,CTDSAL_FLAG_W,SALNTY,SALNTY_FLAG_W,CTDOXY,CTDOXY_FLAG_W,OXYGEN,OXYGEN_FLAG_W,SILCAT,SILCAT_FLAG_W,NITRAT,NITRAT_FLAG_W,PHSPHT,PHSPHT_FLAG_W,NH4,NH4_FLAG_W,CFC-11,CFC-11_FLAG_W,CFC-12,CFC-12_FLAG_W,CFC113,CFC113_FLAG_W,CCL4,CCL4_FLAG_W,MCHFRM,MCHFRM_FLAG_W,TCARBN,TCARBN_FLAG_W,ALKALI,ALKALI_FLAG_W,PH_TOT,PH_TOT_FLAG_W,PH_TMP,THETA
,,,,,,,,,,,METERS,DBAR,ITS-90,PSS-78,,PSS-78,,UMOL/KG,,UMOL/KG,,UMOL/KG,,UMOL/KG,,UMOL/KG,,UMOL/KG,,PMOL/KG,,PMOL/KG,,PMOL/KG,,PMOL/KG,,PMOL/KG,,UMOL/KG,,UMOL/KG,,,,DEG C,DEG C
  18HU20100513, AR07W,   267,  1, 369759,      1,2,20100527,0456, 42.2323, -61.2075, 3730,   3862.0,   2.3217,  34.8981,2,  34.8998,2,    279.0,2,    281.8,2,    19.20,6,    16.50,6,     1.21,6,     0.24,6,    2.388,2,    1.073,2,    0.085,2,    3.204,2,   12.582,2,   2170.5,2,   2299.3,2,-999.0000,9,  -999.00,   1.9940
  18HU20100513, AR07W,   267,  1, 369760,      2,2,20100527,0456, 42.2323, -61.2075, 3730,   3720.0,   2.3595,  34.9001,2,  34.9022,2,    278.9,2,    282.5,2,    18.61,6,    16.53,6,     1.22,6,     0.15,6,    2.402,2,    0.834,2,    0.129,2,    3.133,2,   12.007,2,   2169.2,2,   2303.0,2,-999.0000,9,  -999.00,   2.0466
  18HU20100513, AR07W,   267,  1, 369761,      3,2,20100527,0456, 42.2323, -61.2075, 3730,   3601.0,   2.3880,  34.9018,2,  34.9030,2,    278.7,2,    282.2,2,    18.35,6,    16.50,6,     1.23,6,     0.23,6,    2.327,2,    0.801,2,    0.096,2,    3.029,2,   12.304,2,   2167.7,2,   2311.9,2,-999.0000,9,  -999.00,   2.0874
  18HU20100513, AR07W,   267,  1, 369762,      4,2,20100527,0456, 42.2323, -61.2075, 3730,   3470.0,   2.4328,  34.9044,2,  34.9067,2,    278.1,2,    280.4,2,    18.21,6,    16.40,6,     1.22,6,     0.17,6,    2.188,2,    0.731,2,    0.150,2,    2.859,2,   12.885,2,   2168.0,2,   2309.6,2,-999.0000,9,  -999.00,   2.1453
  18HU20100513, AR07W,   267,  1, 369763,      5,2,20100527,0456, 42.2323, -61.2075, 3730,   3330.0,   2.5177,  34.9084,2,  34.9106,2,    276.4,2,    276.7,6,    18.06,6,    16.60,6,     1.23,6,     0.19,6,    2.092,2,    0.653,2, -999.000,9,    2.899,2,   12.503,2,   2165.5,2,   2307.4,2,-999.0000,9,  -999.00,   2.2431
  18HU20100513, AR07W,   267,  1, 369764,      6,2,20100527,0456, 42.2323, -61.2075, 3730,   3169.0,   2.6595,  34.9161,2,  34.9183,2,    274.3,2,    274.0,2,    18.66,6,    17.04,6,     1.26,6,     0.08,6,    1.709,2,    0.440,2, -999.000,9,    2.401,2,   10.473,2,   2165.6,2,   2317.3,2,-999.0000,9,  -999.00,   2.3986
  18HU20100513, AR07W,   267,  1, 369765,      7,2,20100527,0456, 42.2323, -61.2075, 3730,   3001.0,   2.8118,  34.9245,2,  34.9267,2,    271.5,2,    275.8,2,    18.41,6,    17.21,6,     1.27,6,     0.19,6,    1.448,2,    0.261,2, -999.000,9,    2.057,2,   10.002,2,   2166.7,2,   2305.0,2,-999.0000,9,  -999.00,   2.5650
  18HU20100513, AR07W,   267,  1, 369766,      8,2,20100527,0456, 42.2323, -61.2075, 3730,   2790.0,   2.9759,  34.9321,2,  34.9405,2,    269.8,2,    273.7,2,    17.81,6,    17.37,6,     1.28,6,     0.17,6,    1.403,2,    0.253,2,    0.003,2,    1.982,2,    9.183,2,   2164.8,2,   2318.5,2,-999.0000,9,  -999.00,   2.7473
  18HU20100513, AR07W,   267,  1, 369767,      9,2,20100527,0456, 42.2323, -61.2075, 3730,   2572.0,   3.1437,  34.9377,2,  34.9400,6,    269.6,2,    272.8,2,    16.90,6,    17.60,6,     1.28,6,     0.32,6,    1.476,2,    0.301,2, -999.000,9,    2.084,2,    9.797,2,   2163.7,6,   2312.6,6,-999.0000,9,  -999.00,   2.9339
  18HU20100513, AR07W,   267,  1, 369768,     10,2,20100527,0456, 42.2323, -61.2075, 3730,   2331.0,   3.3200,  34.9392,2,  34.9411,2,    269.8,2,   -999.0,9,    15.03,6,    17.51,6,     1.28,6,      0.3,6,    1.692,2,    0.500,2,    0.027,2,    2.308,2,   11.010,2,   2162.0,2,   2306.7,2,-999.0000,9,  -999.00,   3.1309
  18HU20100513, AR07W,   267,  1, 369769,     11,2,20100527,0456, 42.2323, -61.2075, 3730,   2071.0,   3.4879,  34.9386,2,  34.9401,2,    270.3,2,    273.7,6,    13.50,6,    17.29,6,     1.27,6,     0.19,6,    2.082,2,    0.626,2,    0.121,2,    2.878,2,   14.552,2,   2159.9,2,   2310.3,2,-999.0000,9,  -999.00,   3.3213
  18HU20100513, AR07W,   267,  1, 369770,     12,2,20100527,0456, 42.2323, -61.2075, 3730,   1810.0,   3.7102,  34.9481,2,  34.9499,2,    268.0,2,   -999.0,9,    12.63,6,    17.40,6,     1.28,6,     0.21,6,    2.388,2,    0.737,2, -999.000,9,    3.148,2,   15.301,2,   2155.7,2,   2307.4,2,-999.0000,9,  -999.00,   3.5650
  18HU20100513, AR07W,   267,  1, 369771,     13,2,20100527,0456, 42.2323, -61.2075, 3730,   1561.0,   3.9074,  34.9557,2,  34.9578,2,    265.7,2,    267.3,2,    12.09,6,    17.52,6,     1.29,6,     0.24,6,    2.657,2,    0.955,2,    0.079,2,    3.314,2,   14.171,2,   2160.0,2,   2302.5,2,-999.0000,9,  -999.00,   3.7827
  18HU20100513, AR07W,   267,  1, 369772,     14,2,20100527,0456, 42.2323, -61.2075, 3730,   1299.0,   4.1475,  34.9655,2,  34.9678,2,    262.7,2,    265.3,2,    11.69,6,    17.59,6,     1.28,6,      0.3,6,    2.960,2,    2.023,3, -999.000,9,    3.473,2,   13.539,2,   2156.5,2,   2304.0,2,-999.0000,9,  -999.00,   4.0439
  18HU20100513, AR07W,   267,  1, 369773,     15,2,20100527,0456, 42.2323, -61.2075, 3730,   1072.0,   4.3802,  34.9699,2,  34.9741,2,    257.9,2,    260.8,2,    11.38,6,    17.71,6,     1.30,6,     0.26,6,    3.144,2,    1.289,2,    0.152,2,    3.599,2,   11.468,2,   2160.1,2,   2308.3,2,-999.0000,9,  -999.00,   4.2945
  18HU20100513, AR07W,   267,  1, 369774,     16,2,20100527,0456, 42.2323, -61.2075, 3730,    872.0,   4.6990,  34.9811,2,  34.9827,2,    249.9,2,    253.0,2,    11.33,6,    17.87,6,     1.31,6,     0.15,6,    3.184,2,    1.361,2,    0.129,2,    3.413,2,    9.864,2,   2170.2,2,   2310.2,2,-999.0000,9,  -999.00,   4.6285
  18HU20100513, AR07W,   267,  1, 369775,     17,2,20100527,0456, 42.2323, -61.2075, 3730,    681.0,   5.1974,  34.9698,2,  34.9695,2,    232.2,2,    233.0,2,    12.32,6,    18.81,6,     1.37,6,     0.39,6,    3.003,2,    1.687,2,    0.136,2,    3.172,2,    8.083,2,   2175.8,2,   2304.3,2,-999.0000,9,  -999.00,   5.1407
  18HU20100513, AR07W,   267,  1, 369776,     18,2,20100527,0456, 42.2323, -61.2075, 3730,    510.0,   6.3195,  34.9711,2,  34.9684,2,    194.2,2,    194.7,2,    13.92,6,    20.78,6,     1.50,6,     0.12,6,    2.479,2,    1.072,2,    0.094,2,    2.114,2,    6.273,2,   2190.6,2,   2308.6,2,-999.0000,9,  -999.00,   6.2733
  18HU20100513, AR07W,   267,  1, 369777,     19,2,20100527,0456, 42.2323, -61.2075, 3730,    362.0,   9.3717,  35.2019,2,  35.2109,2,    142.0,2,    144.3,2,    13.10,6,    23.06,6,     1.61,6,     0.11,6,    1.528,2,    0.418,2, -999.000,9,    0.633,2,    2.584,2,   2192.4,2,   2323.0,2,-999.0000,9,  -999.00,   9.3309
  18HU20100513, AR07W,   267,  1, 369778,     20,2,20100527,0456, 42.2323, -61.2075, 3730,    232.0,  11.9505,  35.4645,2,  35.4758,2,    180.6,2,    183.7,2,     7.15,6,    14.89,6,     1.12,6,      0.2,6,    2.510,2,    1.312,2, -999.000,9,    1.254,2,    3.103,2,   2157.5,2,   2340.4,2,-999.0000,9,  -999.00,  11.9201
  18HU20100513, AR07W,   267,  1, 369779,     21,2,20100527,0456, 42.2323, -61.2075, 3730,    120.0,  12.6782,  35.5271,2,  35.5143,2,    224.8,2,    229.5,2,     4.27,6,     9.26,6,     0.77,6,     0.07,6,    3.074,2,    1.593,2,    0.210,2,    2.073,2,    2.286,2,   2129.0,2,   2337.6,2,-999.0000,9,  -999.00,  12.6619
  18HU20100513, AR07W,   267,  1, 369780,     22,2,20100527,0456, 42.2323, -61.2075, 3730,     51.0,  11.2694,  34.9948,2,-999.0000,9,    255.4,2,    259.3,2,     2.21,6,     3.22,6,     0.53,6,     0.25,6,    3.637,2,    1.946,2,    0.292,2,    4.055,2,    3.063,2,   2100.5,2,   2311.5,2,-999.0000,9,  -999.00,  11.2631
  18HU20100513, AR07W,   267,  1, 369781,     23,2,20100527,0456, 42.2323, -61.2075, 3730,     10.0,  11.2576,  33.3087,2,-999.0000,9,    287.8,2,   -999.0,9,  -999.00,9,  -999.00,9,  -999.00,9,     -999,9, -999.000,9, -999.000,9, -999.000,9, -999.000,9, -999.000,9,   -999.0,9,   -999.0,9,-999.0000,9,  -999.00,  11.2564
  18HU20100513, AR07W,   267,  1, 369782,     24,2,20100527,0456, 42.2323, -61.2075, 3730,      3.0,  11.2567,  33.3157,2,-999.0000,9,    287.4,2,    288.8,2,     2.72,6,     0.40,6,     0.33,6,     0.07,6,    4.091,3,    2.370,2,    0.433,2,    5.574,2,    2.372,2,   2041.0,2,   2244.4,2,-999.0000,9,  -999.00,  11.2563
  18HU20100513, AR07W,   270,  1, 369783,      1,2,20100527,1023, 41.7772, -60.9080, 4330,    201.0,  12.5061,  35.5680,2,-999.0000,9,    187.5,2,   -999.0,9,     6.81,6,    14.13,6,     0.97,6,     0.29,6, -999.000,9, -999.000,9, -999.000,9, -999.000,9, -999.000,9,   -999.0,9,   -999.0,9,   8.0120,3,    12.51,  12.4790
  18HU20100513, AR07W,   270,  1, 369784,      2,2,20100527,1023, 41.7772, -60.9080, 4330,    151.0,  12.8944,  35.5907,2,-999.0000,9,    216.1,2,   -999.0,9,     4.54,6,     9.74,6,     0.73,6,     0.39,6, -999.000,9, -999.000,9, -999.000,9, -999.000,9, -999.000,9,   -999.0,9,   -999.0,9,   8.0412,3,    12.90,  12.8737
  18HU20100513, AR07W,   270,  1, 369785,      3,2,20100527,1023, 41.7772, -60.9080, 4330,    100.0,  13.5504,  35.7123,2,-999.0000,9,    218.0,2,   -999.0,9,     3.94,6,     9.07,6,     0.67,6,     0.29,6, -999.000,9, -999.000,9, -999.000,9, -999.000,9, -999.000,9,   -999.0,9,   -999.0,9,   8.0402,3,    13.62,  13.5362
  18HU20100513, AR07W,   270,  1, 369786,      4,2,20100527,1023, 41.7772, -60.9080, 4330,     80.0,  14.0389,  35.8061,2,-999.0000,9,    226.3,2,   -999.0,9,     3.79,6,     7.00,6,     0.54,6,     0.11,6, -999.000,9, -999.000,9, -999.000,9, -999.000,9, -999.000,9,   -999.0,9,   -999.0,9,   8.0772,3,    14.07,  14.0273
  18HU20100513, AR07W,   270,  1, 369787,      5,2,20100527,1023, 41.7772, -60.9080, 4330,     60.0,  13.7843,  35.7024,2,-999.0000,9,    233.8,2,   -999.0,9,     2.95,6,     5.60,6,     0.47,6,      0.2,6, -999.000,9, -999.000,9, -999.000,9, -999.000,9, -999.000,9,   -999.0,9,   -999.0,9,   8.0853,3,    13.76,  13.7757
  18HU20100513, AR07W,   270,  1, 369788,      6,2,20100527,1023, 41.7772, -60.9080, 4330,     50.0,  14.0014,  35.7448,2,-999.0000,9,    234.1,2,   -999.0,9,     2.77,6,     5.20,6,     0.44,6,     0.35,6, -999.000,9, -999.000,9, -999.000,9, -999.000,9, -999.000,9,   -999.0,9,   -999.0,9,   8.0963,3,    13.99,  13.9942
  18HU20100513, AR07W,   270,  1, 369789,      7,2,20100527,1023, 41.7772, -60.9080, 4330,     40.0,  13.7804,  35.5192,2,-999.0000,9,    253.8,2,   -999.0,9,     2.42,6,     4.21,6,     0.40,6,     0.39,6, -999.000,9, -999.000,9, -999.000,9, -999.000,9, -999.000,9,   -999.0,9,   -999.0,9,   8.0893,3,    13.74,  13.7747
  18HU20100513, AR07W,   270,  1, 369790,      8,2,20100527,1023, 41.7772, -60.9080, 4330,     30.0,  14.7315,  35.5589,2,-999.0000,9,    260.6,2,   -999.0,9,     1.42,6,     0.76,6,     0.15,6,     0.11,6, -999.000,9, -999.000,9, -999.000,9, -999.000,9, -999.000,9,   -999.0,9,   -999.0,9,   8.1106,3,    14.69,  14.7270
  18HU20100513, AR07W,   270,  1, 369791,      9,2,20100527,1023, 41.7772, -60.9080, 4330,     30.0,  14.7315,  35.5589,2,-999.0000,9,    260.6,2,   -999.0,9,  -999.00,9,  -999.00,9,  -999.00,9,     -999,9, -999.000,9, -999.000,9, -999.000,9, -999.000,9, -999.000,9,   -999.0,9,   -999.0,9,-999.0000,9,  -999.00,  14.7270
  18HU20100513, AR07W,   270,  1, 369792,     10,2,20100527,1023, 41.7772, -60.9080, 4330,     20.0,  14.7736,  35.5601,2,-999.0000,9,    260.9,2,   -999.0,9,     2.98,6,     0.48,6,     0.13,6,     0.17,6, -999.000,9, -999.000,9, -999.000,9, -999.000,9, -999.000,9,   -999.0,9,   -999.0,9,   8.1427,3,    14.77,  14.7706
  18HU20100513, AR07W,   270,  1, 369793,     11,2,20100527,1023, 41.7772, -60.9080, 4330,     10.0,  14.7729,  35.5603,2,-999.0000,9,    261.7,2,   -999.0,9,     2.72,6,     0.48,6,     0.13,6,     0.53,6, -999.000,9, -999.000,9, -999.000,9, -999.000,9, -999.000,9,   -999.0,9,   -999.0,9,   8.1278,3,    14.77,  14.7714
  18HU20100513, AR07W,   270,  1, 369794,     12,2,20100527,1023, 41.7772, -60.9080, 4330,      3.0,  14.7688,  35.5604,2,-999.0000,9,    261.7,2,   -999.0,9,     1.49,6,     0.45,6,     0.13,6,     0.19,6, -999.000,9, -999.000,9, -999.000,9, -999.000,9, -999.000,9,   -999.0,9,   -999.0,9,   8.1469,3,    14.77,  14.7684
  18HU20100513, AR07W,   270,  1, 369795,     13,2,20100527,1023, 41.7772, -60.9080, 4330,      2.0,  14.7731,  35.5611,2,-999.0000,9,    261.1,2,   -999.0,9,  -999.00,9,  -999.00,9,  -999.00,9,     -999,9, -999.000,9, -999.000,9, -999.000,9, -999.000,9, -999.000,9,   -999.0,9,   -999.0,9,-999.0000,9,  -999.00,  14.7728