BOTTLE,20140111SIOCCHRJL
EXPOCODE,SECT_ID,STNNBR,CASTNO,SAMPNO,BTLNBR,BTLNBR_FLAG_W,DATE,TIME,LATITUDE,LONGITUDE,DEPTH,CTDPRS,CTDTMP,CTDSAL,CTDSAL_FLAG_W,SALNTY,SALNTY_FLAG_W,CTDOXY,CTDOXY_FLAG_W,OXYGEN,OXYGEN_FLAG_W,SILCAT,SILCAT_FLAG_W,NITRAT,NITRAT_FLAG_W,PHSPHT,PHSPHT_FLAG_W,NH4,NH4_FLAG_W,CFC-11,CFC-11_FLAG_W,CFC-12,CFC-12_FLAG_W,CFC113,CFC113_FLAG_W,CCL4,CCL4_FLAG_W,MCHFRM,MCHFRM_FLAG_W,TCARBN,TCARBN_FLAG_W,ALKALI,ALKALI_FLAG_W,PH_TOT,PH_TOT_FLAG_W,PH_TMP,THETA
,,,,,,,,,,,METERS,DBAR,ITS-90,PSS-78,,PSS-78,,UMOL/KG,,UMOL/KG,,UMOL/KG,,UMOL/KG,,UMOL/KG,,UMOL/KG,,PMOL/KG,,PMOL/KG,,PMOL/KG,,PMOL/KG,,PMOL/KG,,UMOL/KG,,UMOL/KG,,,,DEG C,DEG C
  18HU20100513, AR07W,   251,  1, 369652,      1,2,20100524,0433, 55.1053, -54.1272,  910,    903.0,   3.9988,  34.8922,2,  34.8934,2,    292.6,2,    295.6,2,     7.84,6,    15.05,6,     1.10,6,     0.22,6,    4.747,2,    2.975,2,    0.376,2,    5.370,2,    2.636,2,   2156.8,2,   2291.0,2,   8.0230,2,     4.00,   3.9305
  18HU20100513, AR07W,   251,  1, 369653,      2,2,20100524,0433, 55.1053, -54.1272,  910,    859.0,   3.9949,  34.8923,2,  34.8931,6,    292.4,2,    294.4,2,     7.81,6,    15.07,6,     1.07,6,     0.22,6,    4.676,2,    2.857,2,    0.379,2,    5.231,2,    2.554,2,   2157.7,2,   2306.1,2,   8.0395,2,     3.99,   3.9303
  18HU20100513, AR07W,   251,  1, 369654,      3,2,20100524,0433, 55.1053, -54.1272,  910,    792.0,   3.9925,  34.8909,2,  34.8917,2,    292.6,2,    295.1,2,     7.74,6,    15.08,6,     1.07,6,     0.06,6,    4.640,2,    2.754,2,    0.405,2,    5.259,2,    2.688,2,   2156.8,2,   2301.8,2,   8.0528,2,     3.99,   3.9333
  18HU20100513, AR07W,   251,  1, 369655,      4,2,20100524,0433, 55.1053, -54.1272,  910,    700.0,   4.0103,  34.8846,2,  34.8845,2,    293.4,2,    295.7,2,     7.68,6,    14.89,6,     1.06,6,     0.18,6,    4.737,2,    2.887,2,    0.387,2,    5.309,2,    4.582,2,   2157.4,2,   2295.0,2,   8.0505,2,     4.01,   3.9584
  18HU20100513, AR07W,   251,  1, 369656,      5,2,20100524,0433, 55.1053, -54.1272,  910,    591.0,   3.9721,  34.8726,2,  34.8737,2,    297.0,2,      2.6,3,     7.28,6,    14.59,6,     1.03,6,     0.27,6,    4.794,2,    2.939,2,    0.395,2,    5.620,2,    3.654,2,   2155.1,2,   2303.2,6,   8.0581,3,     3.97,   3.9290
  18HU20100513, AR07W,   251,  1, 369657,      6,2,20100524,0433, 55.1053, -54.1272,  910,    469.0,   3.9543,  34.8677,2,  34.8686,2,    297.9,2,    299.8,6,     7.33,6,    14.48,6,     1.03,6,      0.2,6,    4.700,2,    2.901,2,    0.436,2,    5.427,2,    2.112,2,   2156.1,2,   2295.2,2,   8.0534,2,     3.95,   3.9206
  18HU20100513, AR07W,   251,  1, 369658,      7,2,20100524,0433, 55.1053, -54.1272,  910,    362.0,   3.9971,  34.8623,2,  34.8638,2,    294.9,2,    297.0,2,     7.53,6,    14.56,6,     1.03,6,     0.31,6,    4.756,2,    2.881,2,    0.395,2,    5.436,2,    2.599,2,   2155.1,2,   2300.6,2,   8.0652,2,     4.00,   3.9713
  18HU20100513, AR07W,   251,  1, 369659,      8,2,20100524,0433, 55.1053, -54.1272,  910,    258.0,   3.9729,  34.8481,2,  34.8461,2,    295.2,2,    297.2,2,     7.56,6,    14.44,6,     1.03,6,     0.22,6,    4.754,2,    2.956,2,    0.361,2,    5.432,2,    1.993,2,   2155.3,2,   2300.8,2,   8.0648,2,     3.96,   3.9547
  18HU20100513, AR07W,   251,  1, 369660,      9,2,20100524,0433, 55.1053, -54.1272,  910,    173.0,   3.7784,  34.7035,2,  34.7016,2,    298.5,2,    299.9,2,     7.19,6,    13.31,6,     0.97,6,     0.31,6,    4.917,2,    2.987,2,    0.348,2,    5.672,2,    3.611,2,   2147.8,2,   2299.0,2,   8.0766,2,     3.78,   3.7666
  18HU20100513, AR07W,   251,  1, 369661,     10,2,20100524,0433, 55.1053, -54.1272,  910,    101.0,   2.2615,  34.2885,2,  34.2185,2,    306.3,2,    310.9,2,     7.76,6,    11.51,6,     0.92,6,      0.3,6,    5.635,2,    3.189,2,    0.474,2,    6.456,2,    3.441,2,   2137.6,3,   2271.6,6,   8.0894,3,     1.92,   2.2560
  18HU20100513, AR07W,   251,  1, 369662,     11,2,20100524,0433, 55.1053, -54.1272,  910,     81.0,   1.8012,  34.0662,2,-999.0000,9,    323.5,2,   -999.0,9,     7.45,6,    10.32,6,     0.86,6,     0.45,6,    6.229,3,    3.646,2,    0.608,2,    4.823,2,    2.177,2,   -999.0,9,   -999.0,9,-999.0000,9,  -999.00,   1.7972
  18HU20100513, AR07W,   251,  1, 369663,     12,2,20100524,0433, 55.1053, -54.1272,  910,     60.0,   0.4507,  33.8219,2,-999.0000,9,    314.9,2,   -999.0,9,     8.79,6,    10.23,6,     0.92,6,     0.11,6, -999.000,9, -999.000,9, -999.000,9, -999.000,9, -999.000,9,   -999.0,9,   -999.0,9,-999.0000,9,  -999.00,   0.4484
  18HU20100513, AR07W,   251,  1, 369664,     13,2,20100524,0433, 55.1053, -54.1272,  910,     51.0,  -0.2261,  33.6152,2,-999.0000,9,    320.9,2,    324.2,2,     9.01,6,     9.47,6,     0.91,6,     0.42,6,    6.497,2,    3.719,2,    0.562,2,    7.321,2,    4.936,2,   2133.5,2,   2248.5,2,   8.0978,2,    -0.42,  -0.2277
  18HU20100513, AR07W,   251,  1, 369665,     14,2,20100524,0433, 55.1053, -54.1272,  910,     40.0,  -0.6094,  33.5124,2,  33.4895,2,    322.2,2,   -999.0,9,     9.30,6,     9.17,6,     0.92,6,     0.25,6, -999.000,9, -999.000,9, -999.000,9, -999.000,9, -999.000,9,   -999.0,9,   -999.0,9,-999.0000,9,  -999.00,  -0.6105
  18HU20100513, AR07W,   251,  1, 369666,     15,2,20100524,0433, 55.1053, -54.1272,  910,     30.0,  -0.8401,  33.3988,2,-999.0000,9,    326.1,2,   -999.0,9,     9.19,6,     8.77,6,     0.91,6,     0.18,6, -999.000,9, -999.000,9, -999.000,9, -999.000,9, -999.000,9,   -999.0,9,   -999.0,9,-999.0000,9,  -999.00,  -0.8409
  18HU20100513, AR07W,   251,  1, 369667,     16,2,20100524,0433, 55.1053, -54.1272,  910,     21.0,  -0.5917,  33.2695,2,-999.0000,9,    333.7,2,   -999.0,9,     8.81,6,     7.48,6,     0.88,6,     0.39,6, -999.000,9, -999.000,9, -999.000,9, -999.000,9, -999.000,9,   -999.0,9,   -999.0,9,-999.0000,9,  -999.00,  -0.5923
  18HU20100513, AR07W,   251,  1, 369668,     17,2,20100524,0433, 55.1053, -54.1272,  910,     10.0,  -0.6504,-999.0000,9,-999.0000,9,   -999.0,9,    363.0,2,     6.84,6,     4.44,6,     0.71,6,     0.37,6,    7.046,2,    4.043,2,    0.708,2,    8.673,2,    5.940,2,   2090.1,2,   2210.8,2,   8.1037,2,    -0.55,-999.0000
  18HU20100513, AR07W,   251,  1, 369669,     18,2,20100524,0433, 55.1053, -54.1272,  910,      3.0,  -0.5566,  32.6768,2,-999.0000,9,    361.8,2,   -999.0,9,     7.02,6,     4.25,6,     0.71,6,     0.26,6, -999.000,9, -999.000,9, -999.000,9, -999.000,9, -999.000,9,   -999.0,9,   -999.0,9,-999.0000,9,  -999.00,  -0.5567
  18HU20100513, AR07W,   252,  1, 369670,      1,2,20100524,0625, 54.9562, -54.2967,  367,    350.0,   3.9732,  34.7932,2,  34.7960,6,    290.0,2,    290.7,2,     8.28,6,    14.43,6,     1.03,6,     0.11,6,    4.644,2,    2.792,2,    0.378,2,    5.115,2,    3.858,2,   2155.0,2,   2291.9,2,   8.0520,2,     3.97,   3.9483
  18HU20100513, AR07W,   252,  1, 369671,      2,2,20100524,0625, 54.9562, -54.2967,  367,    330.0,   3.9450,  34.7792,2,  34.7710,2,    289.4,2,    288.3,2,     8.40,6,    14.33,6,     1.03,6,        0,6,    4.748,2,    3.491,3,    0.454,2,    5.271,2,    2.388,2,   2155.7,2,   2285.7,2,   8.0598,2,     3.91,   3.9217
  18HU20100513, AR07W,   252,  1, 369672,      3,2,20100524,0625, 54.9562, -54.2967,  367,    290.0,   3.7928,  34.7394,2,  34.7451,2,    291.3,2,    290.8,2,     8.24,6,    14.10,6,     1.02,6,     0.07,6,    4.859,2,    2.981,2,    0.539,2,    5.497,2,    6.656,2,   2154.1,2,   2282.5,2,   8.0704,2,     3.81,   3.7728
  18HU20100513, AR07W,   252,  1, 369673,      4,2,20100524,0625, 54.9562, -54.2967,  367,    252.0,   3.6871,  34.6966,2,  34.7019,2,    294.1,2,    293.5,6,     7.49,6,    13.68,6,     0.99,6,     0.37,6,    4.958,2,    3.014,2,    0.418,2,    5.786,2,    2.796,2,   2149.4,2,   2294.2,2,   8.1394,4,     3.73,   3.6700
  18HU20100513, AR07W,   252,  1, 369674,      5,2,20100524,0625, 54.9562, -54.2967,  367,    201.0,   2.6195,  34.4215,2,  34.4209,2,    300.0,2,      5.3,3,     8.26,6,    12.68,6,     0.96,6,     0.31,6,    5.350,2,    3.162,2,    0.511,2,    6.124,2,    2.503,2,   2144.9,2,   2281.0,2,   8.0839,2,     2.61,   2.6078
  18HU20100513, AR07W,   252,  1, 369675,      6,2,20100524,0625, 54.9562, -54.2967,  367,    151.0,   0.9857,  33.9856,2,  33.9674,2,    309.8,2,    309.0,2,     8.98,6,    11.17,6,     0.95,6,     0.28,6,    6.017,2,    3.488,2,    0.488,2,    6.944,2,    5.884,2,   2137.5,2,   2252.3,2,   8.1163,2,     0.89,   0.9791
  18HU20100513, AR07W,   252,  1, 369676,      7,2,20100524,0625, 54.9562, -54.2967,  367,    101.0,  -0.5075,  33.5361,2,  33.5291,2,    320.7,2,    319.0,2,     9.35,6,     9.49,6,     0.91,6,     0.16,6,    6.417,2,    3.582,2,    0.580,2,    7.165,2,    3.736,2,   2132.9,2,   2246.6,2,   8.1176,2,    -0.53,  -0.5105
  18HU20100513, AR07W,   252,  1, 369677,      8,2,20100524,0625, 54.9562, -54.2967,  367,     81.0,  -0.7678,  33.4058,2,-999.0000,9,    326.6,2,   -999.0,9,     9.10,6,     8.69,6,     0.90,6,     0.29,6,    6.540,2,    5.076,3,    0.520,2,    7.420,2,   11.005,2,   -999.0,9,   -999.0,9,-999.0000,9,  -999.00,  -0.7700
  18HU20100513, AR07W,   252,  1, 369678,      9,2,20100524,0625, 54.9562, -54.2967,  367,     62.0,  -1.1309,  33.2200,2,-999.0000,9,    327.0,2,   -999.0,9,     9.26,6,     7.93,6,     0.91,6,     0.18,6, -999.000,9, -999.000,9, -999.000,9, -999.000,9, -999.000,9,   -999.0,9,   -999.0,9,-999.0000,9,  -999.00,  -1.1323
  18HU20100513, AR07W,   252,  1, 369679,     10,2,20100524,0625, 54.9562, -54.2967,  367,     51.0,  -1.3806,  33.0516,2,  32.9827,2,    330.7,2,    329.3,2,     9.33,6,     7.69,6,     0.90,6,     0.19,6, -999.000,9, -999.000,9, -999.000,9, -999.000,9, -999.000,9,   2124.7,2,   2235.2,2,   8.1064,2,    -1.40,  -1.3816
  18HU20100513, AR07W,   252,  1, 369680,     11,2,20100524,0625, 54.9562, -54.2967,  367,     40.0,  -1.4298,  32.9028,2,-999.0000,9,    331.5,2,   -999.0,9,     9.31,6,     7.43,6,     0.90,6,     0.21,6,    6.912,2,    3.914,2,    0.597,2,    8.005,2,    5.811,2,   -999.0,9,   -999.0,9,-999.0000,9,  -999.00,  -1.4306
  18HU20100513, AR07W,   252,  1, 369681,     12,2,20100524,0625, 54.9562, -54.2967,  367,     31.0,  -1.5140,  32.6989,2,-999.0000,9,    341.3,2,   -999.0,9,     8.92,6,     6.64,6,     0.86,6,     0.19,6, -999.000,9, -999.000,9, -999.000,9, -999.000,9, -999.000,9,   -999.0,9,   -999.0,9,-999.0000,9,  -999.00,  -1.5146
  18HU20100513, AR07W,   252,  1, 369682,     13,2,20100524,0625, 54.9562, -54.2967,  367,     20.0,  -1.2041,  32.5081,2,-999.0000,9,    353.4,2,   -999.0,9,     7.73,6,     4.86,6,     0.74,6,     0.39,6, -999.000,9, -999.000,9, -999.000,9, -999.000,9, -999.000,9,   -999.0,9,   -999.0,9,-999.0000,9,  -999.00,  -1.2045
  18HU20100513, AR07W,   252,  1, 369683,     14,2,20100524,0625, 54.9562, -54.2967,  367,     10.0,  -0.8847,  32.4355,2,-999.0000,9,    359.7,2,    358.2,2,     7.39,6,     4.65,6,     0.73,6,     0.37,6,    7.165,2,    4.062,2,    0.767,2,    8.953,2,    4.347,2,   2083.8,2,   2206.1,2,   8.1072,3,    -0.88,  -0.8849
  18HU20100513, AR07W,   252,  1, 369684,     15,2,20100524,0625, 54.9562, -54.2967,  367,      3.0,  -0.8772,  32.4336,2,-999.0000,9,    359.8,2,   -999.0,9,     7.23,6,     4.61,6,     0.75,6,     0.43,6, -999.000,9, -999.000,9, -999.000,9, -999.000,9, -999.000,9,   -999.0,9,   -999.0,9,-999.0000,9,  -999.00,  -0.8773
  18HU20100513, AR07W,   256,  1, 369685,      1,2,20100524,1052, 54.4698, -53.8422,  237,    226.0,   3.6248,  34.7259,2,  34.7289,6,    293.0,2,    277.0,3,  -999.00,9,  -999.00,9,  -999.00,9,     -999,9,    4.534,2,    2.445,2,    0.380,2,    3.564,2,    1.330,2,   2152.7,6,   2305.4,6,-999.0000,9,  -999.00,   3.6096
  18HU20100513, AR07W,   256,  1, 369686,      2,2,20100524,1052, 54.4698, -53.8422,  237,    199.0,   2.9362,  34.5253,2,  34.3489,3,    289.0,2,    263.2,3,  -999.00,9,  -999.00,9,  -999.00,9,     -999,9,    4.950,2,    2.673,2,    0.424,2,    3.837,2,    1.465,2,   2146.1,2,   2287.1,2,-999.0000,9,  -999.00,   2.9241
  18HU20100513, AR07W,   256,  1, 369687,      3,2,20100524,1052, 54.4698, -53.8422,  237,    151.0,   0.5027,  33.8464,2,  33.8313,2,    313.8,2,    243.7,4,  -999.00,9,  -999.00,9,  -999.00,9,     -999,9,    5.556,2,    3.374,2,    0.477,2,    4.357,2,    1.821,2,   2134.2,2,   2260.2,2,-999.0000,9,  -999.00,   0.4968
  18HU20100513, AR07W,   256,  1, 369688,      4,2,20100524,1052, 54.4698, -53.8422,  237,    125.0,   0.0720,  33.7151,2,  33.6922,2,    318.6,2,    313.0,2,  -999.00,9,  -999.00,9,  -999.00,9,     -999,9,    5.712,2,    3.333,2,    0.436,2,    4.475,2,    1.800,2,   2132.1,2,   2247.0,2,-999.0000,9,  -999.00,   0.0676
  18HU20100513, AR07W,   256,  1, 369689,      5,2,20100524,1052, 54.4698, -53.8422,  237,    100.0,  -0.5318,  33.5225,2,  33.5235,2,    323.3,2,    319.5,2,  -999.00,9,  -999.00,9,  -999.00,9,     -999,9,    5.865,2,    3.001,2,    0.430,2,    4.594,2,    1.915,2,   2127.7,2,   2252.1,2,-999.0000,9,  -999.00,  -0.5347
  18HU20100513, AR07W,   256,  1, 369690,      6,2,20100524,1052, 54.4698, -53.8422,  237,     81.0,  -0.7949,  33.3976,2,-999.0000,9,    327.1,2,   -999.0,9,  -999.00,9,  -999.00,9,  -999.00,9,     -999,9, -999.000,9, -999.000,9, -999.000,9, -999.000,9, -999.000,9,   -999.0,9,   -999.0,9,-999.0000,9,  -999.00,  -0.7971
  18HU20100513, AR07W,   256,  1, 369691,      7,2,20100524,1052, 54.4698, -53.8422,  237,     60.0,  -1.2642,  33.1506,2,-999.0000,9,    329.6,2,   -999.0,9,  -999.00,9,  -999.00,9,  -999.00,9,     -999,9, -999.000,9, -999.000,9, -999.000,9, -999.000,9, -999.000,9,   -999.0,9,   -999.0,9,-999.0000,9,  -999.00,  -1.2655
  18HU20100513, AR07W,   256,  1, 369692,      8,2,20100524,1052, 54.4698, -53.8422,  237,     50.0,  -1.1257,  33.0683,2,  33.0680,2,    331.7,2,    328.9,2,  -999.00,9,  -999.00,9,  -999.00,9,     -999,9, -999.000,9, -999.000,9, -999.000,9, -999.000,9, -999.000,9,   2124.0,2,   2230.9,2,   8.1193,2,    -1.13,  -1.1268
  18HU20100513, AR07W,   256,  1, 369693,      9,2,20100524,1052, 54.4698, -53.8422,  237,     41.0,  -1.0976,  32.8945,2,-999.0000,9,    339.3,2,   -999.0,9,  -999.00,9,  -999.00,9,  -999.00,9,     -999,9, -999.000,9, -999.000,9, -999.000,9, -999.000,9, -999.000,9,   -999.0,9,   -999.0,9,-999.0000,9,  -999.00,  -1.0985
  18HU20100513, AR07W,   256,  1, 369694,     10,2,20100524,1052, 54.4698, -53.8422,  237,     31.0,  -0.2352,  32.5440,2,-999.0000,9,    385.1,2,   -999.0,9,  -999.00,9,  -999.00,9,  -999.00,9,     -999,9, -999.000,9, -999.000,9, -999.000,9, -999.000,9, -999.000,9,   -999.0,9,   -999.0,9,-999.0000,9,  -999.00,  -0.2361
  18HU20100513, AR07W,   256,  1, 369695,     11,2,20100524,1052, 54.4698, -53.8422,  237,     31.0,  -0.2352,  32.5440,2,-999.0000,9,    385.1,2,   -999.0,9,  -999.00,9,  -999.00,9,  -999.00,9,     -999,9, -999.000,9, -999.000,9, -999.000,9, -999.000,9, -999.000,9,   -999.0,9,   -999.0,9,-999.0000,9,  -999.00,  -0.2361
  18HU20100513, AR07W,   256,  1, 369696,     12,2,20100524,1052, 54.4698, -53.8422,  237,     21.0,  -0.2750,  32.5152,2,-999.0000,9,    378.7,2,   -999.0,9,  -999.00,9,  -999.00,9,  -999.00,9,     -999,9, -999.000,9, -999.000,9, -999.000,9, -999.000,9, -999.000,9,   -999.0,9,   -999.0,9,-999.0000,9,  -999.00,  -0.2756
  18HU20100513, AR07W,   256,  1, 369697,     13,2,20100524,1052, 54.4698, -53.8422,  237,     10.0,  -0.8651,  32.3300,2,  32.3314,2,    368.8,2,    367.1,2,  -999.00,9,  -999.00,9,  -999.00,9,     -999,9,    6.002,2,    3.341,2,    0.385,2,    4.896,2,    4.931,2,   2072.9,2,   2195.4,2,-999.0000,9,  -999.00,  -0.8653
  18HU20100513, AR07W,   256,  1, 369698,     14,2,20100524,1052, 54.4698, -53.8422,  237,      3.0,  -0.8124,  32.1510,2,-999.0000,9,    373.1,2,   -999.0,9,  -999.00,9,  -999.00,9,  -999.00,9,     -999,9, -999.000,9, -999.000,9, -999.000,9, -999.000,9, -999.000,9,   -999.0,9,   -999.0,9,-999.0000,9,  -999.00,  -0.8125
  18HU20100513, AR07W,   256,  1, 369699,     15,2,20100524,1052, 54.4698, -53.8422,  237,      3.0,  -0.8124,  32.1510,2,-999.0000,9,    373.1,2,   -999.0,9,  -999.00,9,  -999.00,9,  -999.00,9,     -999,9, -999.000,9, -999.000,9, -999.000,9, -999.000,9, -999.000,9,   -999.0,9,   -999.0,9,-999.0000,9,  -999.00,  -0.8125
  18HU20100513, AR07W,   259,  1, 369700,      1,2,20100524,1351, 54.2252, -54.3740,  196,    181.0,  -0.3047,  33.6147,2,  33.5856,2,    319.5,2,    319.9,2,  -999.00,9,  -999.00,9,  -999.00,9,     -999,9,    5.826,6,    3.398,6,    0.604,6,    4.544,6,    3.274,6,   2128.8,6,   2250.3,6,   8.1066,2,    -0.36,  -0.3105
  18HU20100513, AR07W,   259,  1, 369701,      2,2,20100524,1351, 54.2252, -54.3740,  196,    149.0,  -1.2942,  33.2191,2,  33.2215,2,    330.1,2,    330.0,6,  -999.00,9,  -999.00,9,  -999.00,9,     -999,9,    6.216,2,    3.616,2,    0.704,2,    4.806,2,    3.081,2,   2124.6,2,   2238.6,2,   8.1173,2,    -1.29,  -1.2976
  18HU20100513, AR07W,   259,  1, 369702,      3,2,20100524,1351, 54.2252, -54.3740,  196,    124.0,  -1.4534,  33.1219,2,  33.1266,2,    331.7,2,    330.1,2,  -999.00,9,  -999.00,9,  -999.00,9,     -999,9,    6.267,2,    3.572,2,    0.508,2,    4.870,2,    4.434,2,   2126.8,2,   2247.4,2,   8.1270,2,    -1.45,  -1.4560
  18HU20100513, AR07W,   259,  1, 369703,      4,2,20100524,1351, 54.2252, -54.3740,  196,     99.0,  -1.4662,  33.0291,2,  33.0260,2,    330.2,2,    331.5,2,  -999.00,9,  -999.00,9,  -999.00,9,     -999,9,    6.252,2,    3.462,2,    0.546,2,    4.792,2,    2.283,2,   2125.7,2,   2229.9,2,   8.1176,2,    -1.46,  -1.4682
  18HU20100513, AR07W,   259,  1, 369704,      5,2,20100524,1351, 54.2252, -54.3740,  196,     81.0,  -1.4153,  32.9722,2,-999.0000,9,    330.2,2,   -999.0,9,  -999.00,9,  -999.00,9,  -999.00,9,     -999,9, -999.000,9, -999.000,9, -999.000,9, -999.000,9, -999.000,9,   -999.0,9,   -999.0,9,-999.0000,9,  -999.00,  -1.4170
  18HU20100513, AR07W,   259,  1, 369705,      6,2,20100524,1351, 54.2252, -54.3740,  196,     61.0,  -1.4625,  32.8706,2,-999.0000,9,    330.7,2,   -999.0,9,  -999.00,9,  -999.00,9,  -999.00,9,     -999,9, -999.000,9, -999.000,9, -999.000,9, -999.000,9, -999.000,9,   -999.0,9,   -999.0,9,-999.0000,9,  -999.00,  -1.4637
  18HU20100513, AR07W,   259,  1, 369706,      7,2,20100524,1351, 54.2252, -54.3740,  196,     51.0,  -1.5445,  32.7363,2,  32.7143,2,    335.3,2,    333.9,2,  -999.00,9,  -999.00,9,  -999.00,9,     -999,9,    6.401,2,    3.684,2,    0.730,2,    5.162,2,    3.148,2,   2114.5,2,   2227.4,2,   8.1161,2,    -1.56,  -1.5454
  18HU20100513, AR07W,   259,  1, 369707,      8,2,20100524,1351, 54.2252, -54.3740,  196,     40.0,  -0.9551,  32.4587,2,-999.0000,9,    360.2,2,   -999.0,9,  -999.00,9,  -999.00,9,  -999.00,9,     -999,9, -999.000,9, -999.000,9, -999.000,9, -999.000,9, -999.000,9,   -999.0,9,   -999.0,9,-999.0000,9,  -999.00,  -0.9560
  18HU20100513, AR07W,   259,  1, 369708,      9,2,20100524,1351, 54.2252, -54.3740,  196,     30.0,   0.0188,  32.2657,2,-999.0000,9,    399.4,2,   -999.0,9,  -999.00,9,  -999.00,9,  -999.00,9,     -999,9, -999.000,9, -999.000,9, -999.000,9, -999.000,9, -999.000,9,   -999.0,9,   -999.0,9,-999.0000,9,  -999.00,   0.0179
  18HU20100513, AR07W,   259,  1, 369709,     10,2,20100524,1351, 54.2252, -54.3740,  196,     21.0,   0.1252,  32.2521,2,-999.0000,9,    401.3,2,   -999.0,9,  -999.00,9,  -999.00,9,  -999.00,9,     -999,9, -999.000,9, -999.000,9, -999.000,9, -999.000,9, -999.000,9,   -999.0,9,   -999.0,9,-999.0000,9,  -999.00,   0.1245
  18HU20100513, AR07W,   259,  1, 369710,     11,2,20100524,1351, 54.2252, -54.3740,  196,     10.0,   0.1295,  32.2523,2,  32.2562,2,    402.1,2,    400.9,2,  -999.00,9,  -999.00,9,  -999.00,9,     -999,9,    3.551,3,    1.988,3, -999.000,9,    2.675,2,    1.645,2,   2021.7,2,   2203.4,2,   8.1766,2,     0.13,   0.1292
  18HU20100513, AR07W,   259,  1, 369711,     12,2,20100524,1351, 54.2252, -54.3740,  196,      3.0,   0.1228,  32.2517,2,-999.0000,9,    402.8,2,   -999.0,9,  -999.00,9,  -999.00,9,  -999.00,9,     -999,9, -999.000,9, -999.000,9, -999.000,9, -999.000,9, -999.000,9,   -999.0,9,   -999.0,9,-999.0000,9,  -999.00,   0.1227