BOTTLE,20140111SIOCCHRJL
EXPOCODE,SECT_ID,STNNBR,CASTNO,SAMPNO,BTLNBR,BTLNBR_FLAG_W,DATE,TIME,LATITUDE,LONGITUDE,DEPTH,CTDPRS,CTDTMP,CTDSAL,CTDSAL_FLAG_W,SALNTY,SALNTY_FLAG_W,CTDOXY,CTDOXY_FLAG_W,OXYGEN,OXYGEN_FLAG_W,SILCAT,SILCAT_FLAG_W,NITRAT,NITRAT_FLAG_W,PHSPHT,PHSPHT_FLAG_W,NH4,NH4_FLAG_W,CFC-11,CFC-11_FLAG_W,CFC-12,CFC-12_FLAG_W,CFC113,CFC113_FLAG_W,CCL4,CCL4_FLAG_W,MCHFRM,MCHFRM_FLAG_W,TCARBN,TCARBN_FLAG_W,ALKALI,ALKALI_FLAG_W,PH_TOT,PH_TOT_FLAG_W,PH_TMP,THETA
,,,,,,,,,,,METERS,DBAR,ITS-90,PSS-78,,PSS-78,,UMOL/KG,,UMOL/KG,,UMOL/KG,,UMOL/KG,,UMOL/KG,,UMOL/KG,,PMOL/KG,,PMOL/KG,,PMOL/KG,,PMOL/KG,,PMOL/KG,,UMOL/KG,,UMOL/KG,,,,DEG C,DEG C
  18HU20100513, AR07W,   278,  1, 369892,      1,2,20100528,1823, 42.3717, -61.3035, 3320,   3488.0,   2.4773,  34.9056,2,  34.9079,2,    277.3,2,    156.5,4,    18.82,6,    16.69,6,     1.28,6,     0.11,6,    2.001,2,    1.089,2, -999.000,9,    1.906,2,    2.985,2,   2167.2,6,   2312.9,6,-999.0000,9,  -999.00,   2.1867
  18HU20100513, AR07W,   278,  1, 369893,      2,2,20100528,1823, 42.3717, -61.3035, 3320,   3351.0,   2.5315,  34.9086,2,  34.9103,2,    276.7,2,    172.7,4,    18.17,6,    16.82,6,     1.29,6,     0.12,6,    1.932,2,    1.016,2, -999.000,9,    1.856,2,    2.315,2,   2165.5,2,   2308.0,2,-999.0000,9,  -999.00,   2.2543
  18HU20100513, AR07W,   278,  1, 369894,      3,2,20100528,1823, 42.3717, -61.3035, 3320,   3225.0,   2.6182,  34.9124,2,  34.9140,2,    275.1,2,    279.1,2,    17.87,6,    16.88,6,     1.29,6,     0.19,6,    1.893,2,    0.955,2, -999.000,9,    1.813,2,    2.362,2,   2166.9,2,   2308.7,2,-999.0000,9,  -999.00,   2.3523
  18HU20100513, AR07W,   278,  1, 369895,      4,2,20100528,1823, 42.3717, -61.3035, 3320,   3061.0,   2.7491,  34.9195,2,  34.9207,2,    273.1,2,    276.9,2,    17.84,6,    17.12,6,     1.29,6,     0.26,6,    1.617,2,    0.752,2, -999.000,9,    1.621,2,    2.199,2,   2166.9,2,   2305.7,2,   7.9943,3,     2.75,   2.4975
  18HU20100513, AR07W,   278,  1, 369896,      5,2,20100528,1823, 42.3717, -61.3035, 3320,   2911.0,   2.8509,  34.9233,2,  34.9254,2,    272.5,2,    276.5,2,    17.42,6,    17.05,6,     1.29,6,     0.14,6,    1.681,2,    0.738,2, -999.000,9,    1.979,2,    3.498,2,   2165.3,2,   2310.5,2,-999.0000,9,  -999.00,   2.6126
  18HU20100513, AR07W,   278,  1, 369897,      6,2,20100528,1823, 42.3717, -61.3035, 3320,   2770.0,   2.9775,  34.9286,2,  34.9299,2,    271.3,2,    275.0,2,    17.06,6,    17.17,6,     1.30,6,     0.07,6,    1.558,2,    0.741,2, -999.000,9,    1.598,2,    2.304,2,   2166.3,2,   -999.0,9,   8.0040,2,     2.98,   2.7510
  18HU20100513, AR07W,   278,  1, 369898,      7,2,20100528,1823, 42.3717, -61.3035, 3320,   2620.0,   3.1159,  34.9348,2,  34.9366,2,    269.6,2,    273.4,2,    16.78,6,    17.30,6,     1.30,6,     0.21,6,    1.410,2,    0.466,2, -999.000,9,    1.537,2,    2.362,2,   2164.6,2,   2307.9,2,-999.0000,9,  -999.00,   2.9018
  18HU20100513, AR07W,   278,  1, 369899,      8,2,20100528,1823, 42.3717, -61.3035, 3320,   2459.0,   3.2286,  34.9363,2,  34.9372,2,    270.2,2,    274.0,2,    15.68,6,    17.30,6,     1.30,6,      0.1,6,    1.566,2,    0.527,2, -999.000,9,    1.664,2,    2.525,2,   2164.2,2,   2309.5,2,-999.0000,9,  -999.00,   3.0285
  18HU20100513, AR07W,   278,  1, 369900,      9,2,20100528,1823, 42.3717, -61.3035, 3320,   2256.0,   3.3822,  34.9382,2,  34.9399,2,    270.0,2,    274.4,2,    14.58,6,    17.41,6,     1.29,6,     0.23,6,    1.723,2,    0.863,2, -999.000,9,    1.858,2,    2.718,2,   2162.3,2,   2304.6,2,   8.0004,3,     3.39,   3.1994
  18HU20100513, AR07W,   278,  1, 369901,     10,2,20100528,1823, 42.3717, -61.3035, 3320,   2060.0,   3.5412,  34.9410,2,  34.9425,2,    269.3,2,    272.6,2,    13.46,6,    17.33,6,     1.30,6,     0.21,6,    1.880,2,    0.971,2, -999.000,9,    1.854,2,    2.888,2,   2162.4,2,   2306.7,2,-999.0000,9,  -999.00,   3.3748
  18HU20100513, AR07W,   278,  1, 369902,     11,2,20100528,1823, 42.3717, -61.3035, 3320,   1850.0,   3.6695,  34.9455,2,  34.9472,2,    267.9,2,    271.7,2,    12.86,6,    17.21,6,     1.29,6,        0,6,    2.090,2,    1.022,2, -999.000,9,    1.985,2,    2.998,2,   2162.6,2,   2309.6,2,-999.0000,9,  -999.00,   3.5211
  18HU20100513, AR07W,   278,  1, 369903,     12,2,20100528,1823, 42.3717, -61.3035, 3320,   1430.0,   3.9921,  34.9544,2,  34.9574,2,    264.0,2,   -999.0,9,    11.91,6,    17.40,6,     1.29,6,     0.12,6,    2.588,2,    1.374,2, -999.000,9,    2.242,2,    2.894,2,   2166.4,2,   2309.0,2,-999.0000,9,  -999.00,   3.8783
  18HU20100513, AR07W,   278,  1, 369904,     13,2,20100528,1823, 42.3717, -61.3035, 3320,   1230.0,   4.2022,  34.9596,2,  34.9614,2,    261.9,2,    261.9,2,    11.43,6,    17.41,6,     1.29,6,     0.48,6,    2.899,2,    1.584,2, -999.000,9,    2.301,2,    2.565,2,   2169.2,2,   2305.8,2,-999.0000,9,  -999.00,   4.1042
  18HU20100513, AR07W,   278,  1, 369905,     14,2,20100528,1823, 42.3717, -61.3035, 3320,   1030.0,   4.4520,  34.9632,2,  34.9649,2,    257.2,2,    257.8,2,    11.28,6,    17.46,6,     1.30,6,        0,6,    3.048,2,    1.645,2, -999.000,9,    2.384,2,    2.376,2,   2172.4,2,   2305.3,2,   8.0245,3,     4.46,   4.3695
  18HU20100513, AR07W,   278,  1, 369906,     15,2,20100528,1823, 42.3717, -61.3035, 3320,    831.0,   4.7330,  34.9617,2,  34.9635,2,    249.1,2,    244.6,2,    11.37,6,    17.71,6,     1.32,6,     0.27,6,    2.969,2,    1.668,2, -999.000,9,    2.437,2,    2.002,2,   2174.6,2,   2309.3,2,   8.0194,3,     4.75,   4.6658
  18HU20100513, AR07W,   278,  1, 369907,     16,2,20100528,1823, 42.3717, -61.3035, 3320,    662.0,   5.4806,  34.9909,2,  34.9962,2,    220.6,2,    216.0,2,    12.60,6,    19.30,6,     1.42,6,        0,6,    2.431,2,    1.334,2, -999.000,9,    1.701,2,    1.630,2,   2182.9,2,   2314.4,2,   7.9985,3,     5.57,   5.4241
  18HU20100513, AR07W,   278,  1, 369908,     17,2,20100528,1823, 42.3717, -61.3035, 3320,    480.0,   7.4031,  35.0428,2,  35.0391,2,    169.0,2,   -999.0,9,    14.05,6,    22.18,6,     1.55,6,     0.28,6,    1.780,2,    0.780,2, -999.000,9,    0.943,2,    1.046,2,   2192.0,2,   2310.7,2,   7.9371,3,     7.44,   7.3557
  18HU20100513, AR07W,   278,  1, 369909,     18,2,20100528,1823, 42.3717, -61.3035, 3320,    381.0,   9.1123,  35.1666,2,  35.1724,2,    144.5,2,    146.3,2,    11.39,6,    20.81,6,     1.46,6,     0.13,6,    1.507,2,    0.587,2, -999.000,9,    0.712,2,    0.889,2,   2195.0,2,   2319.5,2,-999.0000,9,  -999.00,   9.0700
  18HU20100513, AR07W,   278,  1, 369910,     19,2,20100528,1823, 42.3717, -61.3035, 3320,    331.0,  10.3174,  35.2781,2,  35.2801,2,    147.1,2,    149.9,2,    11.37,6,    20.78,6,     1.46,6,     0.08,6,    1.788,2,    0.912,2, -999.000,9,    0.613,2,    0.646,2,   2185.9,2,   2327.2,2,-999.0000,9,  -999.00,  10.2778
  18HU20100513, AR07W,   278,  1, 369911,     20,2,20100528,1823, 42.3717, -61.3035, 3320,    210.0,  12.6873,  35.5643,2,  35.5560,2,    219.7,2,    227.1,2,     4.50,6,     9.47,6,     0.79,6,     0.13,6,    2.665,2,    1.660,2, -999.000,9,    1.300,2,    0.438,2,   2132.1,2,   2339.4,2,-999.0000,9,  -999.00,  12.6587
  18HU20100513, AR07W,   278,  1, 369912,     21,2,20100528,1823, 42.3717, -61.3035, 3320,    112.0,  13.5158,  35.6969,2,  35.7101,2,    222.5,2,    225.5,2,     3.96,6,     8.82,6,     0.73,6,     0.16,6,    2.612,2,    1.666,2, -999.000,9,    1.394,2,    0.626,2,   2128.1,2,   2348.2,2,   8.0518,3,    13.58,  13.4999
  18HU20100513, AR07W,   278,  1, 369913,     22,2,20100528,1823, 42.3717, -61.3035, 3320,     51.0,  14.3010,  35.7793,2,-999.0000,9,    224.9,2,    229.5,2,     2.76,6,     6.35,6,     0.59,6,     0.24,6,    2.650,2,    1.646,2, -999.000,9,    1.533,2,    0.496,2,   2116.3,2,   2352.8,2,-999.0000,9,  -999.00,  14.2935
  18HU20100513, AR07W,   278,  1, 369914,     23,2,20100528,1823, 42.3717, -61.3035, 3320,     10.0,   9.0694,  32.6955,2,-999.0000,9,    300.2,2,    281.7,3,     1.16,6,     0.61,6,     0.44,6,     0.07,6,    4.192,2,    2.581,2,    0.043,2,    3.995,2,    0.792,2,   2033.5,2,   2211.0,2,-999.0000,9,  -999.00,   9.0684
  18HU20100513, AR07W,   278,  1, 369915,     24,2,20100528,1823, 42.3717, -61.3035, 3320,      3.0,   9.1166,  32.5703,2,-999.0000,9,    301.5,2,    306.1,2,     1.11,6,     0.63,6,     0.42,6,     0.11,6,    4.154,2,    2.582,2,    0.043,2,    3.995,2,    1.221,2,   2034.7,2,   2212.6,2,-999.0000,9,  -999.00,   9.1163
  18HU20100513, AR07W,   281,  1, 369916,      1,2,20100529,0016, 42.5317, -61.3972, 2760,   2842.0,   2.8245,  34.9219,2,  34.9237,2,    271.9,2,   -999.0,9,    17.58,6,    16.90,6,     1.26,6,     0.15,6,    1.668,6,    0.647,6, -999.000,9,    2.880,6,    4.113,6,   2162.7,2,   2315.0,2,   7.9702,3,     2.83,   2.5938
  18HU20100513, AR07W,   281,  1, 369917,      2,2,20100529,0016, 42.5317, -61.3972, 2760,   2700.0,   2.8821,  34.9247,2,  34.9269,2,    271.4,2,    276.3,2,    17.38,6,    16.90,6,     1.27,6,        0,6,    1.677,2,    0.613,2, -999.000,9,    2.417,2,    3.933,2,   2162.8,2,   2308.0,2,   7.9623,3,     2.88,   2.6646
  18HU20100513, AR07W,   281,  1, 369918,      3,2,20100529,0016, 42.5317, -61.3972, 2760,   2551.0,   3.0657,  34.9313,2,-999.0000,9,    269.6,2,    274.4,2,    16.77,6,    17.04,6,     1.29,6,     0.08,6,    1.575,2,    0.610,2,    0.016,2,    2.367,2,    3.884,2,   2160.9,2,   2312.8,2,   7.9902,3,     3.08,   2.8595
  18HU20100513, AR07W,   281,  1, 369919,      4,2,20100529,0016, 42.5317, -61.3972, 2760,   2392.0,   3.2678,  34.9358,2,-999.0000,9,    269.4,2,    274.8,2,    15.33,6,    17.06,6,     1.30,6,     0.13,6, -999.000,9, -999.000,9, -999.000,9, -999.000,9, -999.000,9,   2164.2,2,   2311.8,2,   7.9935,3,     3.27,   3.0737
  18HU20100513, AR07W,   281,  1, 369920,      5,2,20100529,0016, 42.5317, -61.3972, 2760,   2201.0,   3.4013,  34.9373,2,-999.0000,9,    269.4,2,    274.3,2,    14.50,6,    17.10,6,     1.29,6,     0.17,6,    1.851,2,    0.800,2, -999.000,9,    2.835,2,    4.800,2,   2160.0,6,   2309.5,6,   8.0121,3,     3.40,   3.2236
  18HU20100513, AR07W,   281,  1, 369921,      6,2,20100529,0016, 42.5317, -61.3972, 2760,   2000.0,   3.5216,  34.9408,2,  34.9424,2,    269.0,2,    273.3,2,    13.78,6,    17.15,6,     1.31,6,     0.26,6,    1.963,2,    0.838,2,    0.035,2,    2.954,2,    5.015,2,   2159.1,2,   2310.1,2,   8.0181,3,     3.53,   3.3612
  18HU20100513, AR07W,   281,  1, 369922,      7,2,20100529,0016, 42.5317, -61.3972, 2760,   1751.0,   3.7149,  34.9479,2,  34.9493,2,    267.3,2,    271.8,2,    12.79,6,    17.11,6,     1.30,6,     0.24,6,    2.124,2,    0.936,2,    0.010,2,    3.075,2,    5.597,2,   2159.4,2,   2307.3,2,   8.0087,3,     3.72,   3.5751
  18HU20100513, AR07W,   281,  1, 369923,      8,2,20100529,0016, 42.5317, -61.3972, 2760,   1503.0,   3.9436,  34.9564,2,-999.0000,9,    265.4,2,    269.0,2,    11.97,6,    17.12,6,     1.30,6,     0.07,6,    2.518,2,    1.914,3, -999.000,9,    3.422,2,    5.479,2,   2163.8,2,   2310.1,2,   8.0209,3,     3.96,   3.8238
  18HU20100513, AR07W,   281,  1, 369924,      9,2,20100529,0016, 42.5317, -61.3972, 2760,   1251.0,   4.1342,  34.9529,2,  34.9546,2,    263.8,2,    268.0,6,    11.30,6,    17.18,6,     1.28,6,     0.22,6,    3.075,2,    1.443,2,    0.130,2,    3.905,2,    5.237,2,   2162.3,2,   2309.7,2,   8.0094,3,     4.14,   4.0350
  18HU20100513, AR07W,   281,  1, 369925,     10,2,20100529,0016, 42.5317, -61.3972, 2760,   1000.0,   4.5401,  34.9847,2,-999.0000,9,    253.8,2,    257.6,2,    11.38,6,    17.35,6,     1.31,6,        0,6,    2.816,2,    1.368,2,    0.041,2,    3.370,2,    4.311,2,   2165.6,2,   2311.1,2,   8.0263,3,     4.54,   4.4595
  18HU20100513, AR07W,   281,  1, 369926,     11,2,20100529,0016, 42.5317, -61.3972, 2760,    750.0,   4.9425,  34.9733,2,  34.9739,2,    241.7,2,    245.8,2,    11.66,6,    17.79,6,     1.35,6,     0.12,6,    2.932,2,    1.435,2, -999.000,9,    3.511,2,    3.634,2,   2171.2,2,   2312.4,2,   8.0113,3,     4.95,   4.8811
  18HU20100513, AR07W,   281,  1, 369927,     12,2,20100529,0016, 42.5317, -61.3972, 2760,    501.0,   6.5722,  35.0046,2,-999.0000,9,    187.5,2,    189.3,2,    13.80,6,    20.91,6,     1.53,6,        0,6,    2.057,2,    1.087,2,    0.013,2,    1.921,2,    2.700,2,   2185.5,2,   2313.5,2,   7.9588,3,     6.67,   6.5258
  18HU20100513, AR07W,   281,  1, 369928,     13,2,20100529,0016, 42.5317, -61.3972, 2760,    330.0,  10.2738,  35.2875,2,  35.2874,2,    142.7,2,    188.5,4,    11.90,6,    21.48,6,     1.52,6,     0.06,6,    1.619,2,    0.710,2,    0.032,2,    1.001,2,    1.261,2,   2185.5,2,   2325.8,2,   7.9334,3,    10.29,  10.2344
  18HU20100513, AR07W,   281,  1, 369929,     14,2,20100529,0016, 42.5317, -61.3972, 2760,    201.0,  12.5881,  35.5397,2,-999.0000,9,    225.0,2,    234.9,2,     4.55,6,     9.10,6,     0.81,6,     0.14,6,    2.719,2,    1.571,2,    0.236,2,    2.262,2,    0.925,2,   2126.4,2,   2344.6,2,   8.0688,3,    12.61,  12.5609
  18HU20100513, AR07W,   281,  1, 369930,     15,2,20100529,0016, 42.5317, -61.3972, 2760,    150.0,  12.8150,  35.5804,2,-999.0000,9,    229.7,2,   -999.0,9,     4.20,6,     8.45,6,     0.74,6,     0.29,6,    2.764,2,    1.617,2,    0.231,2,    2.182,2,    1.470,2,   2126.1,2,   2342.1,2,   8.0761,2,    12.82,  12.7945
  18HU20100513, AR07W,   281,  1, 369931,     16,2,20100529,0016, 42.5317, -61.3972, 2760,    101.0,  12.6219,  35.4943,2,-999.0000,9,    229.2,2,    233.1,2,     4.06,6,     8.24,6,     0.74,6,     0.17,6,    2.757,2,    1.629,2,    0.237,2,    2.357,2,    0.924,2,   2122.6,2,   2343.6,2,   8.0661,3,    12.68,  12.6083
  18HU20100513, AR07W,   281,  1, 369932,     17,2,20100529,0016, 42.5317, -61.3972, 2760,     79.0,  12.8133,  35.5015,2,-999.0000,9,    232.5,2,   -999.0,9,     3.39,6,     7.03,6,     0.65,6,     0.14,6, -999.000,9, -999.000,9, -999.000,9, -999.000,9, -999.000,9,   -999.0,9,   -999.0,9,-999.0000,9,  -999.00,  12.8025
  18HU20100513, AR07W,   281,  1, 369933,     18,2,20100529,0016, 42.5317, -61.3972, 2760,     60.0,  13.2943,  35.5818,2,-999.0000,9,    231.6,2,   -999.0,9,     3.17,6,     6.36,6,     0.61,6,     0.15,6, -999.000,9, -999.000,9, -999.000,9, -999.000,9, -999.000,9,   -999.0,9,   -999.0,9,-999.0000,9,  -999.00,  13.2859
  18HU20100513, AR07W,   281,  1, 369934,     19,2,20100529,0016, 42.5317, -61.3972, 2760,     50.0,  13.2298,  35.5417,2,-999.0000,9,    235.1,2,    238.7,2,     2.92,6,     5.77,6,     0.58,6,        0,6,    2.820,2,    1.667,2,    0.251,2,    3.295,2,    0.524,2,   2113.4,2,   2343.9,2,   8.0858,3,    13.23,  13.2228
  18HU20100513, AR07W,   281,  1, 369935,     20,2,20100529,0016, 42.5317, -61.3972, 2760,     40.0,  13.8719,  35.6600,2,-999.0000,9,    235.5,2,   -999.0,9,     2.54,6,     4.44,6,     0.49,6,     0.09,6, -999.000,9, -999.000,9, -999.000,9, -999.000,9, -999.000,9,   -999.0,9,   -999.0,9,-999.0000,9,  -999.00,  13.8662
  18HU20100513, AR07W,   281,  1, 369936,     21,2,20100529,0016, 42.5317, -61.3972, 2760,     31.0,  11.2793,  34.6817,2,-999.0000,9,    289.1,2,   -999.0,9,     2.37,6,     0.79,6,     0.36,6,     0.06,6, -999.000,9, -999.000,9, -999.000,9, -999.000,9, -999.000,9,   -999.0,9,   -999.0,9,-999.0000,9,  -999.00,  11.2755
  18HU20100513, AR07W,   281,  1, 369937,     22,2,20100529,0016, 42.5317, -61.3972, 2760,     21.0,   9.2527,  32.9476,2,-999.0000,9,    298.8,2,   -999.0,9,     1.11,6,     0.70,6,     0.41,6,      0.1,6, -999.000,9, -999.000,9, -999.000,9, -999.000,9, -999.000,9,   -999.0,9,   -999.0,9,-999.0000,9,  -999.00,   9.2505
  18HU20100513, AR07W,   281,  1, 369938,     23,2,20100529,0016, 42.5317, -61.3972, 2760,     11.0,   8.7680,  32.5426,2,-999.0000,9,    302.2,2,    307.7,2,     0.98,6,     0.70,6,     0.41,6,     0.07,6,    4.303,2,    2.617,2,    0.269,2,    7.428,2,    0.860,2,   2033.2,2,   2213.9,2,   8.0891,3,     8.76,   8.7669
  18HU20100513, AR07W,   281,  1, 369939,     24,2,20100529,0016, 42.5317, -61.3972, 2760,      3.0,   8.7526,  32.5356,2,-999.0000,9,    301.7,2,   -999.0,9,     1.02,6,     0.71,6,     0.42,6,     0.28,6, -999.000,9, -999.000,9, -999.000,9, -999.000,9, -999.000,9,   -999.0,9,   -999.0,9,-999.0000,9,  -999.00,   8.7523