BOTTLE,20140111SIOCCHRJL
EXPOCODE,SECT_ID,STNNBR,CASTNO,SAMPNO,BTLNBR,BTLNBR_FLAG_W,DATE,TIME,LATITUDE,LONGITUDE,DEPTH,CTDPRS,CTDTMP,CTDSAL,CTDSAL_FLAG_W,SALNTY,SALNTY_FLAG_W,CTDOXY,CTDOXY_FLAG_W,OXYGEN,OXYGEN_FLAG_W,SILCAT,SILCAT_FLAG_W,NITRAT,NITRAT_FLAG_W,PHSPHT,PHSPHT_FLAG_W,NH4,NH4_FLAG_W,CFC-11,CFC-11_FLAG_W,CFC-12,CFC-12_FLAG_W,CFC113,CFC113_FLAG_W,CCL4,CCL4_FLAG_W,MCHFRM,MCHFRM_FLAG_W,TCARBN,TCARBN_FLAG_W,ALKALI,ALKALI_FLAG_W,PH_TOT,PH_TOT_FLAG_W,PH_TMP,THETA
,,,,,,,,,,,METERS,DBAR,ITS-90,PSS-78,,PSS-78,,UMOL/KG,,UMOL/KG,,UMOL/KG,,UMOL/KG,,UMOL/KG,,UMOL/KG,,PMOL/KG,,PMOL/KG,,PMOL/KG,,PMOL/KG,,PMOL/KG,,UMOL/KG,,UMOL/KG,,,,DEG C,DEG C
  18HU20100513, AR07W,   183,  1, 369437,      1,2,20100521,1111, 58.1258, -52.1212, 3402,   3436.0,   1.7194,  34.8912,2,  34.8924,2,    299.6,2,    130.3,4,     9.87,6,    12.16,6,  -999.00,9,     0.29,6, -999.000,9, -999.000,9, -999.000,9, -999.000,9, -999.000,9,   -999.0,9,   -999.0,9,-999.0000,9,  -999.00,   1.4531
  18HU20100513, AR07W,   183,  1, 369438,      2,2,20100521,1111, 58.1258, -52.1212, 3402,   2994.0,   2.6548,  34.9142,2,  34.9134,2,    283.6,2,    123.7,4,    12.57,6,    12.87,6,  -999.00,9,     0.32,6, -999.000,9, -999.000,9, -999.000,9, -999.000,9, -999.000,9,   -999.0,9,   -999.0,9,-999.0000,9,  -999.00,   2.4122
  18HU20100513, AR07W,   183,  1, 369439,      3,2,20100521,1111, 58.1258, -52.1212, 3402,   2386.0,   3.1999,  34.9111,2,  34.9113,2,    279.8,2,    113.1,4,    11.52,6,    14.48,6,  -999.00,9,     0.18,6, -999.000,9, -999.000,9, -999.000,9, -999.000,9, -999.000,9,   -999.0,9,   -999.0,9,-999.0000,9,  -999.00,   3.0076
  18HU20100513, AR07W,   183,  1, 369440,      4,2,20100521,1111, 58.1258, -52.1212, 3402,   1806.0,   3.6590,  34.9104,2,  34.9099,2,    278.0,2,    181.5,4,    10.47,6,    14.90,6,  -999.00,9,     0.21,6, -999.000,9, -999.000,9, -999.000,9, -999.000,9, -999.000,9,   -999.0,9,   -999.0,9,-999.0000,9,  -999.00,   3.5150
  18HU20100513, AR07W,   183,  1, 369441,      5,2,20100521,1111, 58.1258, -52.1212, 3402,   1207.0,   3.6103,  34.8598,2,  34.8601,2,    293.0,2,    204.5,4,     8.88,6,    15.89,6,  -999.00,9,     0.18,6, -999.000,9, -999.000,9, -999.000,9, -999.000,9, -999.000,9,   -999.0,9,   -999.0,9,-999.0000,9,  -999.00,   3.5200
  18HU20100513, AR07W,   183,  1, 369442,      6,2,20100521,1111, 58.1258, -52.1212, 3402,    702.0,   3.6514,  34.8321,2,  34.8300,2,    307.6,2,    196.2,4,     7.38,6,    14.97,6,  -999.00,9,     0.21,6, -999.000,9, -999.000,9, -999.000,9, -999.000,9, -999.000,9,   -999.0,9,   -999.0,9,-999.0000,9,  -999.00,   3.6014
  18HU20100513, AR07W,   183,  1, 369443,      7,2,20100521,1111, 58.1258, -52.1212, 3402,    103.0,   4.8316,  34.8801,2,  34.8780,2,    303.5,2,    223.7,4,     7.10,6,    13.61,6,  -999.00,9,     0.16,6, -999.000,9, -999.000,9, -999.000,9, -999.000,9, -999.000,9,   -999.0,9,   -999.0,9,-999.0000,9,  -999.00,   4.8238
  18HU20100513, AR07W,   183,  1, 369444,      8,2,20100521,1111, 58.1258, -52.1212, 3402,     81.0,   4.9048,  34.8507,2,-999.0000,9,    310.0,2,   -999.0,9,     6.29,6,    12.48,6,  -999.00,9,     0.35,6, -999.000,9, -999.000,9, -999.000,9, -999.000,9, -999.000,9,   -999.0,9,   -999.0,9,-999.0000,9,  -999.00,   4.8986
  18HU20100513, AR07W,   183,  1, 369445,      9,2,20100521,1111, 58.1258, -52.1212, 3402,     60.0,   4.9032,  34.8346,2,-999.0000,9,    312.9,2,   -999.0,9,     6.28,6,    12.42,6,  -999.00,9,     0.52,6, -999.000,9, -999.000,9, -999.000,9, -999.000,9, -999.000,9,   -999.0,9,   -999.0,9,-999.0000,9,  -999.00,   4.8986
  18HU20100513, AR07W,   183,  1, 369446,     10,2,20100521,1111, 58.1258, -52.1212, 3402,     50.0,   4.9329,  34.8227,2,-999.0000,9,    316.0,2,    218.0,4,     5.90,6,    11.75,6,  -999.00,9,     0.43,6, -999.000,9, -999.000,9, -999.000,9, -999.000,9, -999.000,9,   -999.0,9,   -999.0,9,-999.0000,9,  -999.00,   4.9291
  18HU20100513, AR07W,   183,  1, 369447,     11,2,20100521,1111, 58.1258, -52.1212, 3402,     42.0,   4.9610,  34.8103,2,-999.0000,9,    318.2,2,   -999.0,9,     5.08,6,    10.68,6,  -999.00,9,     0.46,6, -999.000,9, -999.000,9, -999.000,9, -999.000,9, -999.000,9,   -999.0,9,   -999.0,9,-999.0000,9,  -999.00,   4.9578
  18HU20100513, AR07W,   183,  1, 369448,     12,2,20100521,1111, 58.1258, -52.1212, 3402,     30.0,   5.0160,  34.7977,2,-999.0000,9,    321.1,2,    321.1,2,     5.34,6,    11.17,6,  -999.00,9,     0.51,6, -999.000,9, -999.000,9, -999.000,9, -999.000,9, -999.000,9,   -999.0,9,   -999.0,9,-999.0000,9,  -999.00,   5.0137
  18HU20100513, AR07W,   183,  1, 369449,     13,2,20100521,1111, 58.1258, -52.1212, 3402,     21.0,   5.0215,  34.7976,2,-999.0000,9,    321.0,2,   -999.0,9,     5.07,6,    10.66,6,  -999.00,9,     0.49,6, -999.000,9, -999.000,9, -999.000,9, -999.000,9, -999.000,9,   -999.0,9,   -999.0,9,-999.0000,9,  -999.00,   5.0199
  18HU20100513, AR07W,   183,  1, 369450,     14,2,20100521,1111, 58.1258, -52.1212, 3402,     10.0,   5.0304,  34.7953,2,-999.0000,9,    326.1,2,    256.2,4,     5.03,6,    10.70,6,  -999.00,9,     0.34,6, -999.000,9, -999.000,9, -999.000,9, -999.000,9, -999.000,9,   -999.0,9,   -999.0,9,-999.0000,9,  -999.00,   5.0296
  18HU20100513, AR07W,   183,  1, 369451,     15,2,20100521,1111, 58.1258, -52.1212, 3402,      3.0,   5.0289,  34.7952,2,-999.0000,9,    322.9,2,   -999.0,9,     5.09,6,    10.76,6,  -999.00,9,     0.37,6, -999.000,9, -999.000,9, -999.000,9, -999.000,9, -999.000,9,   -999.0,9,   -999.0,9,-999.0000,9,  -999.00,   5.0287
  18HU20100513, AR07W,   189,  1, 369452,      1,2,20100521,2009, 57.3747, -51.7927, 3464,   3573.0,   1.6104,  34.8869,2,  34.8869,2,    299.6,2,    302.4,2,    10.16,6,    13.81,6,  -999.00,9,     0.33,6,    4.303,2,    2.238,2,    0.348,2,    4.336,2,    4.726,2,   2163.7,6,   2103.7,3,-999.0000,9,  -999.00,   1.3327
  18HU20100513, AR07W,   189,  1, 369453,      2,2,20100521,2009, 57.3747, -51.7927, 3464,   3501.0,   1.7579,  34.8932,2,  34.8932,2,    298.2,2,    296.6,2,     9.91,6,    13.88,6,  -999.00,9,     0.33,6,    4.148,2,    2.083,2,    0.078,2,    4.094,2,    6.543,2,   2161.4,2,   2175.2,3,-999.0000,9,  -999.00,   1.4839
  18HU20100513, AR07W,   189,  1, 369454,      3,2,20100521,2009, 57.3747, -51.7927, 3464,   3409.0,   1.9791,  34.8968,2,  34.8959,2,    294.7,2,    290.4,2,    10.53,6,    14.26,6,  -999.00,9,     0.23,6,    3.933,2,    2.038,2,    0.107,2,    3.887,2,    5.715,2,   2160.2,2,   2061.3,3,-999.0000,9,  -999.00,   1.7092
  18HU20100513, AR07W,   189,  1, 369455,      4,2,20100521,2009, 57.3747, -51.7927, 3464,   3303.0,   2.2139,  34.9003,2,  34.8993,2,    288.9,2,    287.8,2,    12.28,6,    14.97,6,  -999.00,9,     0.28,6,    3.367,2,    1.623,2,    0.035,2,    3.472,2,    4.640,2,   2163.5,2,   2317.5,2,-999.0000,9,  -999.00,   1.9494
  18HU20100513, AR07W,   189,  1, 369456,      5,2,20100521,2009, 57.3747, -51.7927, 3464,   3181.0,   2.4063,  34.9058,2,  34.9052,2,    285.8,2,    283.5,2,    13.15,6,    15.34,6,  -999.00,9,     0.32,6,    3.105,2,    1.318,2, -999.000,9,    3.119,2,    5.551,2,   2161.0,2,   2282.3,3,-999.0000,9,  -999.00,   2.1500
  18HU20100513, AR07W,   189,  1, 369457,      6,2,20100521,2009, 57.3747, -51.7927, 3464,   3041.0,   2.6107,  34.9132,2,  34.9152,6,    283.0,2,    283.4,2,    12.84,6,    15.51,6,  -999.00,9,     0.45,6,    3.028,2,    1.290,2, -999.000,9,    2.974,2,    5.322,2,   2164.6,2,   2302.0,2,-999.0000,9,  -999.00,   2.3642
  18HU20100513, AR07W,   189,  1, 369458,      7,2,20100521,2009, 57.3747, -51.7927, 3464,   2881.0,   2.7895,  34.9170,2,  34.9176,2,    282.1,2,    282.2,2,    12.27,6,    15.66,6,  -999.00,9,     0.24,6,    3.004,2,    1.255,2, -999.000,9,    2.948,2,    6.901,2,   2163.6,2,   2294.4,2,-999.0000,9,  -999.00,   2.5556
  18HU20100513, AR07W,   189,  1, 369459,      8,2,20100521,2009, 57.3747, -51.7927, 3464,   2691.0,   2.9257,  34.9169,2,  34.9156,2,    280.2,2,    279.3,2,    12.24,6,    15.93,6,  -999.00,9,     0.17,6,    2.872,2,    1.279,2, -999.000,9,    2.930,2,    6.746,2,   2161.7,2,   2287.9,2,-999.0000,9,  -999.00,   2.7083
  18HU20100513, AR07W,   189,  1, 369460,      9,2,20100521,2009, 57.3747, -51.7927, 3464,   2478.0,   3.0716,  34.9136,2,  34.9130,2,    280.3,2,    279.2,6,    11.69,6,    16.00,6,  -999.00,9,     0.28,6,    3.000,2,    1.365,2,    0.006,2,    3.095,2,    6.810,2,   2163.2,2,   2268.2,3,-999.0000,9,  -999.00,   2.8726
  18HU20100513, AR07W,   189,  1, 369461,     10,2,20100521,2009, 57.3747, -51.7927, 3464,   2249.0,   3.2202,  34.9107,2,  34.9107,2,    280.2,2,    279.2,2,    11.20,6,    16.18,6,  -999.00,9,     0.22,6,    3.262,2,    1.464,2, -999.000,9,    3.134,2,    5.360,2,   2163.6,2,   2278.0,3,-999.0000,9,  -999.00,   3.0409
  18HU20100513, AR07W,   189,  1, 369462,     11,2,20100521,2009, 57.3747, -51.7927, 3464,   2011.0,   3.3729,  34.9111,2,  34.9114,6,    278.8,2,    278.9,2,    10.81,6,    16.30,6,  -999.00,9,     0.22,6,    3.459,2,    1.550,2, -999.000,9,    3.293,2,    6.388,2,   2161.8,2,   2289.5,2,-999.0000,9,  -999.00,   3.2138
  18HU20100513, AR07W,   189,  1, 369463,     12,2,20100521,2009, 57.3747, -51.7927, 3464,   1770.0,   3.5440,  34.9101,2,  34.9101,2,    276.7,2,    277.8,2,    10.90,6,    16.49,6,  -999.00,9,     0.34,6,    3.464,2,    1.570,2,    0.017,2,    3.257,2,    6.735,2,   2161.6,2,   2295.1,2,-999.0000,9,  -999.00,   3.4049
  18HU20100513, AR07W,   189,  1, 369464,     13,2,20100521,2009, 57.3747, -51.7927, 3464,   1531.0,   3.6158,  34.8973,2,  34.8965,2,    280.2,2,    282.9,2,    10.07,6,    16.47,6,  -999.00,9,     0.06,6,    4.023,2,    2.061,2,    0.119,2,    3.922,2,    4.823,2,   2162.0,2,   2295.0,2,-999.0000,9,  -999.00,   3.4974
  18HU20100513, AR07W,   189,  1, 369465,     14,2,20100521,2009, 57.3747, -51.7927, 3464,   1291.0,   3.5718,  34.8726,2,  34.8731,2,    288.2,2,    140.9,4,     9.75,6,    16.02,6,  -999.00,9,     0.28,6,    4.499,2,    2.407,2,    0.112,2,    4.131,2,    3.465,2,   2160.8,2,   2280.7,2,-999.0000,9,  -999.00,   3.4747
  18HU20100513, AR07W,   189,  1, 369466,     15,2,20100521,2009, 57.3747, -51.7927, 3464,   1073.0,   3.5514,  34.8606,2,  34.8609,2,    291.6,2,   -999.0,9,    10.53,3,    15.85,6,  -999.00,9,     0.19,6,    4.616,2,    2.391,2,    0.133,2,    4.405,2,    3.230,2,   2161.7,2,   2279.4,2,-999.0000,9,  -999.00,   3.4727
  18HU20100513, AR07W,   189,  1, 369467,     16,2,20100521,2009, 57.3747, -51.7927, 3464,    872.0,   3.5578,  34.8550,2,  34.8542,2,    291.8,2,    223.3,4,     8.89,6,    15.87,6,  -999.00,9,     0.22,6,    4.668,2,    2.494,2, -999.000,9,    4.435,2,    3.118,2,   2160.9,2,   2289.4,2,-999.0000,9,  -999.00,   3.4951
  18HU20100513, AR07W,   189,  1, 369468,     17,2,20100521,2009, 57.3747, -51.7927, 3464,    681.0,   3.7026,  34.8671,2,  34.8668,2,    291.9,2,    203.8,4,    10.68,3,    15.75,6,  -999.00,9,     0.24,6,    4.640,2,    2.513,2,    0.130,2,    4.442,2,    2.633,2,   2161.9,2,   2273.3,3,-999.0000,9,  -999.00,   3.6539
  18HU20100513, AR07W,   189,  1, 369469,     18,2,20100521,2009, 57.3747, -51.7927, 3464,    511.0,   3.7535,  34.8644,2,  34.8644,2,    293.5,2,    223.3,4,     8.29,6,    15.68,6,  -999.00,9,     0.24,6,    4.704,2,    2.628,2,    0.172,2,    4.516,2,    1.917,2,   2163.0,2,   2288.4,2,-999.0000,9,  -999.00,   3.7174
  18HU20100513, AR07W,   189,  1, 369470,     19,2,20100521,2009, 57.3747, -51.7927, 3464,    364.0,   3.7207,  34.8493,2,  34.8464,2,    293.2,2,    212.3,4,     8.59,6,    15.40,6,  -999.00,9,     0.19,6,    4.741,2,    3.249,2,    0.148,2,    4.733,2,    2.425,2,   2162.4,2,   2269.2,3,-999.0000,9,  -999.00,   3.6955
  18HU20100513, AR07W,   189,  1, 369471,     20,2,20100521,2009, 57.3747, -51.7927, 3464,    239.0,   3.5263,  34.8096,2,  34.8092,2,    304.0,2,    258.7,4,     7.40,6,    14.59,6,  -999.00,9,     0.21,6,    4.920,2,    2.672,2,    0.136,2,    4.977,2,    1.842,2,   2156.1,2,   2276.1,2,-999.0000,9,  -999.00,   3.5104
  18HU20100513, AR07W,   189,  1, 369472,     21,2,20100521,2009, 57.3747, -51.7927, 3464,    142.0,   3.5251,  34.7848,2,  34.7756,2,    299.6,2,    288.9,3,     7.68,6,    14.64,6,  -999.00,9,     0.28,6,    4.859,2,    2.631,2,    0.098,2,    4.912,2,    1.546,2,   2154.5,2,   2267.3,2,-999.0000,9,  -999.00,   3.5158
  18HU20100513, AR07W,   189,  1, 369473,     22,2,20100521,2009, 57.3747, -51.7927, 3464,     71.0,   3.5082,  34.6986,2,-999.0000,9,    304.9,2,    286.8,3,     7.03,6,    13.22,6,  -999.00,9,     0.32,6,    5.082,6,    2.834,6,    0.193,6,    5.408,6,    1.979,6,   2149.2,2,   2262.8,2,-999.0000,9,  -999.00,   3.5036
  18HU20100513, AR07W,   189,  1, 369474,     23,2,20100521,2009, 57.3747, -51.7927, 3464,     34.0,   4.2160,  34.6269,2,-999.0000,9,    328.4,2,   -999.0,9,  -999.00,9,  -999.00,9,  -999.00,9,     -999,9, -999.000,9, -999.000,9, -999.000,9, -999.000,9, -999.000,9,   -999.0,9,   -999.0,9,-999.0000,9,  -999.00,   4.2136
  18HU20100513, AR07W,   189,  1, 369475,     24,2,20100521,2009, 57.3747, -51.7927, 3464,      2.0,   4.2305,  34.6239,2,-999.0000,9,    330.8,2,    317.8,3,     2.47,6,     9.14,6,  -999.00,9,     0.49,6,    5.050,2,    2.641,2,    0.153,2,    5.454,2,    1.696,2,   2122.7,2,   2272.7,2,-999.0000,9,  -999.00,   4.2304