BOTTLE,20211203CCHSIORKP
EXPOCODE,SECT_ID,STNNBR,CASTNO,SAMPNO,BTLNBR,BTLNBR_FLAG_W,DATE,TIME,LATITUDE,LONGITUDE,DEPTH,CTDPRS,CTDTMP,CTDSAL,CTDSAL_FLAG_W,SALNTY,SALNTY_FLAG_W,CTDOXY,OXYGEN,OXYGEN_FLAG_W,SILCAT,SILCAT_FLAG_W,NITRAT,NITRAT_FLAG_W,PHSPHT,PHSPHT_FLAG_W,TCARBN,TCARBN_FLAG_W,ALKALI,ALKALI_FLAG_W
,,,,,,,,,,,METERS,DBAR,ITS-90,PSS-78,,PSS-78,,UMOL/KG,UMOL/KG,,UMOL/KG,,UMOL/KG,,UMOL/KG,,UMOL/KG,,UMOL/KG,
740H20090203,       SR01,      15,          1,          1,          1,2,20090209,       1916,   -58.0924,   -68.2187,       3759,  3748.9,   0.9978,  34.7134,2,  34.7131,2,    198.7,   201.5,2,  120.22,2,   32.94,2,    2.22,2,  2264.2,2,  2371.7,6
740H20090203,       SR01,      15,          1,          2,          2,2,20090209,       1916,   -58.0924,   -68.2187,       3759,  3698.8,   0.9922,  34.7135,2,  34.7137,2,    197.9,   199.3,2,  120.81,2,   33.36,2,    2.21,2,  2264.1,2,  2369.2,6
740H20090203,       SR01,      15,          1,          3,          3,9,20090209,       1916,   -58.0924,   -68.2187,       3759,  3564.9,   1.0166,  34.7144,2,-999.0000,9,    196.7,  -999.0,9, -999.00,9, -999.00,9, -999.00,9,  -999.0,9,  -999.0,9
740H20090203,       SR01,      15,          1,          4,          4,2,20090209,       1916,   -58.0924,   -68.2187,       3759,  3309.7,   1.1491,  34.7179,2,  34.7179,2,    193.2,   195.1,2,  114.58,2,   32.94,2,    2.19,2,  2260.4,2,  2374.3,6
740H20090203,       SR01,      15,          1,          5,          5,2,20090209,       1916,   -58.0924,   -68.2187,       3759,  3054.7,   1.3928,  34.7225,2,  34.7216,2,    187.6,   190.8,2,  108.50,2,   32.68,2,    2.19,2,  2261.8,2,  2369.3,6
740H20090203,       SR01,      15,          1,          6,          6,2,20090209,       1916,   -58.0924,   -68.2187,       3759,  2797.6,   1.6246,  34.7209,2,  34.7203,2,    180.7,   183.1,2,  103.89,2,   33.08,2,    2.23,2,  2265.1,2,  2368.8,6
740H20090203,       SR01,      15,          1,          7,          7,2,20090209,       1916,   -58.0924,   -68.2187,       3759,  2542.4,   1.7398,  34.7118,2,  34.7118,2,    173.2,   176.2,2,  103.72,2,   33.62,2,    2.25,2,  -999.0,9,  2371.3,6
740H20090203,       SR01,      15,          1,          8,          8,2,20090209,       1916,   -58.0924,   -68.2187,       3759,  2286.5,   1.8590,  34.6946,2,  34.6944,2,    163.0,   165.0,2,  105.27,4,   34.40,4,    2.31,4,  -999.0,9,  2379.8,4
740H20090203,       SR01,      15,          1,          9,          9,2,20090209,       1916,   -58.0924,   -68.2187,       3759,  2032.9,   2.0890,  34.6943,2,  34.6936,2,    169.1,   171.3,2,   89.17,2,   33.54,2,    2.27,2,  2267.1,2,  2360.0,6
740H20090203,       SR01,      15,          1,         10,         10,2,20090209,       1916,   -58.0924,   -68.2187,       3759,  1776.1,   2.2344,  34.6663,2,  34.6664,2,    166.8,   169.6,2,   83.75,2,   33.80,2,    2.26,2,  2264.2,2,  2355.5,6
740H20090203,       SR01,      15,          1,         11,         11,2,20090209,       1916,   -58.0924,   -68.2187,       3759,  1521.8,   2.3789,  34.6150,2,  34.6133,2,    165.1,   167.5,2,   77.86,2,   34.67,2,    2.31,2,  2259.0,2,  2348.9,6
740H20090203,       SR01,      15,          1,         12,         12,2,20090209,       1916,   -58.0924,   -68.2187,       3759,  1268.0,   2.5815,  34.5223,2,  34.5211,2,    167.8,   170.0,2,   68.44,2,   35.42,2,    2.34,2,  2251.8,2,  2337.7,6
740H20090203,       SR01,      15,          1,         13,         13,2,20090209,       1916,   -58.0924,   -68.2187,       3759,  1013.1,   2.9348,  34.4199,2,  34.4183,2,    176.4,   180.4,2,   56.78,2,   35.10,2,    2.35,2,  2236.8,2,  2325.7,6
740H20090203,       SR01,      15,          1,         14,         14,2,20090209,       1916,   -58.0924,   -68.2187,       3759,   888.5,   3.0940,  34.3514,2,  34.3492,2,    191.6,   193.8,2,   47.40,2,   34.15,2,    2.27,2,  2220.8,2,  2313.3,6
740H20090203,       SR01,      15,          1,         15,         15,2,20090209,       1916,   -58.0924,   -68.2187,       3759,   760.4,   3.2709,  34.2668,2,  34.2662,2,    213.3,   215.4,2,   36.63,2,   32.61,2,    2.16,2,  2201.6,2,  2301.6,6
740H20090203,       SR01,      15,          1,         16,         16,2,20090209,       1916,   -58.0924,   -68.2187,       3759,   636.4,   3.5858,  34.2177,2,  34.2162,2,    232.1,   233.1,2,   28.00,2,   30.43,2,    2.03,2,  2186.0,2,  2294.5,6
740H20090203,       SR01,      15,          1,         17,         17,2,20090209,       1916,   -58.0924,   -68.2187,       3759,   507.7,   3.9936,  34.1921,2,  34.1917,2,    247.2,   248.9,2,   20.56,2,   28.88,2,    1.90,2,  2168.6,2,  2293.4,6
740H20090203,       SR01,      15,          1,         18,         18,2,20090209,       1916,   -58.0924,   -68.2187,       3759,   383.0,   4.2179,  34.1684,2,  34.1705,2,    272.0,   273.2,2,   14.32,2,   26.07,2,    1.73,2,  2149.3,2,  2289.2,6
740H20090203,       SR01,      15,          1,         19,         19,2,20090209,       1916,   -58.0924,   -68.2187,       3759,   254.0,   4.6180,  34.1819,2,  34.1809,2,    277.7,   279.0,2,   12.47,2,   24.99,2,    1.66,2,  2140.6,2,  2292.7,6
740H20090203,       SR01,      15,          1,         20,         20,2,20090209,       1916,   -58.0924,   -68.2187,       3759,   177.8,   4.8887,  34.1896,2,  34.1891,2,    279.9,   279.6,2,   11.33,2,   24.11,2,    1.62,2,  2137.5,2,  -999.0,9
740H20090203,       SR01,      15,          1,         21,         21,2,20090209,       1916,   -58.0924,   -68.2187,       3759,   102.5,   5.7438,  34.1475,2,  34.1477,2,    288.0,   288.5,2,    2.84,2,   19.98,2,    1.48,2,  2118.8,2,  2289.5,6
740H20090203,       SR01,      15,          1,         22,         22,2,20090209,       1916,   -58.0924,   -68.2187,       3759,    78.4,   5.9565,  34.1188,2,  34.1186,2,    293.4,   293.4,2,    1.70,2,   20.51,2,    1.42,2,  2112.0,2,  2291.9,6
740H20090203,       SR01,      15,          1,         23,         23,2,20090209,       1916,   -58.0924,   -68.2187,       3759,    51.6,   6.1051,  34.1234,2,  34.1226,2,    294.8,   295.2,2,    1.56,2,   20.05,2,    1.38,2,  2106.8,2,  2290.3,6
740H20090203,       SR01,      15,          1,         24,         24,9,20090209,       1916,   -58.0924,   -68.2187,       3759,    11.7,   6.3069,  34.1081,2,-999.0000,9,    295.0,  -999.0,9, -999.00,9, -999.00,9, -999.00,9,  -999.0,9,  -999.0,9
740H20090203,       SR01,      16,          1,          1,          1,2,20090210,       0155,   -58.3386,   -68.2149,       3699,  3536.0,   1.0352,  34.7148,2,  34.7162,2,    197.1,   198.0,2,  118.90,2,   33.43,2,    2.35,2,  2263.7,2,  2376.2,6
740H20090203,       SR01,      16,          1,          2,          2,2,20090210,       0155,   -58.3386,   -68.2149,       3699,  3481.9,   1.0344,  34.7149,2,  34.7159,2,    196.4,   196.7,2,  119.00,2,   33.26,2,    2.30,2,  2263.5,2,  2367.3,6
740H20090203,       SR01,      16,          1,          3,          3,2,20090210,       0155,   -58.3386,   -68.2149,       3699,  3292.9,   1.1044,  34.7168,2,  34.7181,2,    194.5,   195.3,2,  116.08,2,   33.29,2,    2.28,2,  2261.8,2,  2370.0,6
740H20090203,       SR01,      16,          1,          4,          4,2,20090210,       0155,   -58.3386,   -68.2149,       3699,  3036.2,   1.2860,  34.7207,2,  34.7212,2,    189.9,   191.8,2,  111.41,2,   33.04,2,    2.36,4,  2267.1,2,  2370.9,6
740H20090203,       SR01,      16,          1,          5,          5,2,20090210,       0155,   -58.3386,   -68.2149,       3699,  2793.1,   1.4996,  34.7220,2,  34.7232,2,    183.6,   186.7,2,  106.50,2,   33.38,2,    2.35,4,  2267.3,2,  2369.8,6
740H20090203,       SR01,      16,          1,          6,          6,2,20090210,       0155,   -58.3386,   -68.2149,       3699,  2540.4,   1.6551,  34.7176,2,  34.7193,2,    177.7,   180.1,2,  104.93,2,   33.63,2,    2.27,2,  2271.3,2,  2369.3,6
740H20090203,       SR01,      16,          1,          7,          7,2,20090210,       0155,   -58.3386,   -68.2149,       3699,  2285.6,   1.7891,  34.7047,2,  34.7063,2,    168.6,   171.9,2,  105.95,2,   34.40,2,    2.31,2,  2279.4,2,  2376.0,6
740H20090203,       SR01,      16,          1,          8,          8,2,20090210,       0155,   -58.3386,   -68.2149,       3699,  2030.0,   1.8768,  34.6943,2,  34.6965,2,    163.3,   165.9,2,  104.57,2,   34.46,2,    2.34,2,  2280.8,2,  -999.0,9
740H20090203,       SR01,      16,          1,          9,          9,2,20090210,       0155,   -58.3386,   -68.2149,       3699,  1775.3,   2.0940,  34.6876,2,  34.6902,2,    166.8,   169.8,2,   90.55,2,   34.12,2,    2.45,4,  2268.6,2,  2353.6,6
740H20090203,       SR01,      16,          1,         10,         10,2,20090210,       0155,   -58.3386,   -68.2149,       3699,  1521.1,   2.2831,  34.6492,2,  34.6515,2,    167.2,   171.0,2,   79.98,2,   34.53,2,    2.42,2,  2258.7,2,  2345.0,6
740H20090203,       SR01,      16,          1,         11,         11,2,20090210,       0155,   -58.3386,   -68.2149,       3699,  1271.4,   2.4509,  34.5774,2,  34.5794,2,    165.0,   167.7,2,   75.17,2,   35.47,2,    2.47,2,  2252.4,2,  2340.3,6
740H20090203,       SR01,      16,          1,         12,         12,2,20090210,       0155,   -58.3386,   -68.2149,       3699,  1015.9,   2.6570,  34.4766,2,  34.4788,2,    171.6,   174.4,2,   65.47,2,   35.75,2,    4.98,4,  2240.8,2,  2331.4,6
740H20090203,       SR01,      16,          1,         13,         13,2,20090210,       0155,   -58.3386,   -68.2149,       3699,   889.1,   2.7840,  34.4276,2,  34.4287,2,    178.0,   181.1,2,   59.33,2,   35.37,2,    2.76,4,  2234.0,2,  2318.5,6
740H20090203,       SR01,      16,          1,         14,         14,2,20090210,       0155,   -58.3386,   -68.2149,       3699,   763.2,   2.9589,  34.3552,2,  34.3556,2,    191.0,   193.6,2,   50.18,2,   34.84,2,    2.54,4,  2224.4,2,  2310.8,6
740H20090203,       SR01,      16,          1,         15,         15,2,20090210,       0155,   -58.3386,   -68.2149,       3699,   636.1,   2.9921,  34.2696,2,  34.2687,2,    212.9,   255.5,2,   40.57,2,   33.43,2,    2.20,2,  2203.8,2,  2298.8,6
740H20090203,       SR01,      16,          1,         16,         16,2,20090210,       0155,   -58.3386,   -68.2149,       3699,   509.1,   2.7068,  34.1473,2,  34.1526,2,    255.8,   214.4,2,   27.98,2,   31.17,2,    2.46,4,  2178.3,2,  2289.6,6
740H20090203,       SR01,      16,          1,         17,         17,2,20090210,       0155,   -58.3386,   -68.2149,       3699,   383.2,   2.9213,  34.1107,2,  34.1120,2,    274.0,   274.9,2,   21.66,2,   29.37,2,    1.94,2,  2165.1,2,  2282.9,6
740H20090203,       SR01,      16,          1,         18,         18,2,20090210,       0155,   -58.3386,   -68.2149,       3699,   254.9,   3.1482,  34.0877,2,  34.0893,2,    287.3,   288.2,2,   17.07,2,   27.83,2,    1.90,2,  2153.6,2,  2282.5,6
740H20090203,       SR01,      16,          1,         19,         19,2,20090210,       0155,   -58.3386,   -68.2149,       3699,   179.0,   3.5271,  34.0906,2,  34.0922,2,    290.5,   291.8,2,   14.92,2,   26.73,2,    1.79,2,  2147.3,2,  2276.1,6
740H20090203,       SR01,      16,          1,         20,         20,2,20090210,       0155,   -58.3386,   -68.2149,       3699,   102.9,   4.2025,  34.0825,2,  34.0833,2,    295.8,   295.9,2,    7.88,2,   23.30,2,    1.89,4,  2133.1,2,  2279.9,6
740H20090203,       SR01,      16,          1,         21,         21,2,20090210,       0155,   -58.3386,   -68.2149,       3699,    76.6,   4.7820,  34.0899,2,  34.0900,2,    294.3,   294.6,2,    5.80,2,   22.61,2,    6.44,4,  2128.0,2,  -999.0,9
740H20090203,       SR01,      16,          1,         22,         22,2,20090210,       0155,   -58.3386,   -68.2149,       3699,    52.0,   5.1952,  34.0583,2,  34.0598,2,    297.0,   296.8,2,    2.86,2,   22.14,2,    1.66,2,  2119.8,2,  2279.5,6
740H20090203,       SR01,      16,          1,         23,         23,2,20090210,       0155,   -58.3386,   -68.2149,       3699,    12.1,   5.8009,  34.0454,2,  34.0467,2,    297.3,   297.6,2,    2.26,2,   21.42,2,    1.57,2,  2113.3,2,  -999.0,9
740H20090203,       SR01,      16,          1,         24,         24,2,20090210,       0155,   -58.3386,   -68.2149,       3699,    12.9,   5.8032,  34.0454,2,  34.0474,2,    297.1,   297.5,2,    2.02,2,   21.31,2,    1.69,4,  2117.1,2,  2280.3,6
740H20090203,       SR01,      17,          1,          1,          1,2,20090210,       2156,   -58.5800,   -68.2508,       3876,  3865.8,   0.8474,  34.7099,2,  34.7095,2,    200.8,   205.8,2,  126.00,2,   33.59,2,    2.22,2,  2261.8,2,  2372.4,6
740H20090203,       SR01,      17,          1,          2,          2,2,20090210,       2156,   -58.5800,   -68.2508,       3876,  3824.6,   0.8718,  34.7105,2,  34.7103,2,    199.9,   201.0,2,  125.31,2,   33.48,2,    2.23,2,  2264.4,2,  2372.0,6
740H20090203,       SR01,      17,          1,          3,          3,2,20090210,       2156,   -58.5800,   -68.2508,       3876,  3570.2,   0.9367,  34.7126,2,  34.7121,2,    197.1,   201.2,2,  122.49,2,   33.55,2,    2.21,2,  2261.1,2,  2372.2,6
740H20090203,       SR01,      17,          1,          4,          4,2,20090210,       2156,   -58.5800,   -68.2508,       3876,  3313.5,   1.0016,  34.7144,2,  34.7139,2,    194.7,   201.7,2,  119.65,2,   33.34,2,    2.21,2,  2262.2,2,  2371.6,6
740H20090203,       SR01,      17,          1,          5,          5,2,20090210,       2156,   -58.5800,   -68.2508,       3876,  3057.0,   1.1503,  34.7181,2,  34.7179,2,    191.5,   194.3,2,  113.97,2,   33.51,2,    2.23,2,  2262.8,2,  2370.0,6
740H20090203,       SR01,      17,          1,          6,          6,3,20090210,       2156,   -58.5800,   -68.2508,       3876,  2797.6,   1.3567,  34.7217,2,-999.0000,9,    186.7,  -999.0,9, -999.00,9, -999.00,9, -999.00,9,  -999.0,9,  -999.0,9
740H20090203,       SR01,      17,          1,          7,          7,2,20090210,       2156,   -58.5800,   -68.2508,       3876,  2544.5,   1.5361,  34.7212,2,  34.7206,2,    181.5,   185.2,2,  104.45,2,   33.59,2,    2.21,2,  2266.3,2,  2371.7,6
740H20090203,       SR01,      17,          1,          8,          8,2,20090210,       2156,   -58.5800,   -68.2508,       3876,  2291.3,   1.6900,  34.7182,2,  34.7179,2,    177.1,   179.8,2,  101.37,2,   33.52,2,    2.22,2,  2266.5,2,  2372.5,6
740H20090203,       SR01,      17,          1,          9,          9,2,20090210,       2156,   -58.5800,   -68.2508,       3876,  2032.3,   1.8979,  34.7138,2,  34.7133,2,    173.9,   177.0,2,   93.37,2,   33.65,2,    2.22,2,  2264.2,2,  2365.2,6
740H20090203,       SR01,      17,          1,         10,         10,2,20090210,       2156,   -58.5800,   -68.2508,       3876,  1780.7,   2.0514,  34.6990,2,  34.6988,2,    170.1,   174.0,2,   89.20,2,   34.01,2,    2.24,2,  2263.2,2,  2362.2,6
740H20090203,       SR01,      17,          1,         11,         11,2,20090210,       2156,   -58.5800,   -68.2508,       3876,  1525.0,   2.2187,  34.6634,2,  34.6630,2,    165.3,   167.9,2,   84.11,2,   34.59,2,    2.28,2,  2260.1,2,  2355.3,6
740H20090203,       SR01,      17,          1,         12,         12,2,20090210,       2156,   -58.5800,   -68.2508,       3876,  1270.0,   2.3695,  34.6076,2,  34.6070,2,    165.5,   168.5,2,   76.13,2,   35.14,2,    2.33,2,  2256.6,2,  2351.3,6
740H20090203,       SR01,      17,          1,         13,         13,2,20090210,       2156,   -58.5800,   -68.2508,       3876,  1014.1,   2.5647,  34.5117,2,  34.5118,2,    168.3,   173.2,2,   67.51,2,   35.47,2,    2.37,2,  2251.0,2,  2338.0,6
740H20090203,       SR01,      17,          1,         14,         14,2,20090210,       2156,   -58.5800,   -68.2508,       3876,   889.5,   2.7209,  34.4496,2,  34.4485,2,    174.9,   177.6,2,   61.05,2,   35.60,2,    2.36,2,  2240.1,2,  2332.0,6
740H20090203,       SR01,      17,          1,         15,         15,2,20090210,       2156,   -58.5800,   -68.2508,       3876,   762.1,   2.8637,  34.3732,2,  34.3725,2,    187.8,   192.0,2,   52.34,2,   35.14,2,    2.32,2,  2228.7,2,  2321.7,6
740H20090203,       SR01,      17,          1,         16,         16,2,20090210,       2156,   -58.5800,   -68.2508,       3876,   634.5,   2.5563,  34.2474,2,  34.2478,2,    222.3,   223.8,2,   40.92,2,   33.44,2,    2.22,2,  2206.4,2,  2304.8,6
740H20090203,       SR01,      17,          1,         17,         17,2,20090210,       2156,   -58.5800,   -68.2508,       3876,   507.0,   3.0196,  34.2274,2,  34.2279,2,    225.7,   228.2,2,   34.37,2,   32.64,2,    2.14,2,  2196.2,2,  2302.7,6
740H20090203,       SR01,      17,          1,         18,         18,2,20090210,       2156,   -58.5800,   -68.2508,       3876,   381.4,   2.6186,  34.1091,2,  34.1100,2,    269.8,   270.9,2,   23.80,2,   30.12,2,    2.00,2,  2171.2,2,  2293.1,6
740H20090203,       SR01,      17,          1,         19,         19,2,20090210,       2156,   -58.5800,   -68.2508,       3876,   253.8,   2.8499,  34.0861,2,  34.0861,2,    283.4,   283.3,2,   19.05,2,   29.11,2,    1.90,2,  2159.6,2,  2289.9,6
740H20090203,       SR01,      17,          1,         20,         20,2,20090210,       2156,   -58.5800,   -68.2508,       3876,   180.3,   3.0754,  34.0808,2,  34.0815,2,    289.3,   289.1,2,   16.82,2,   28.27,2,    1.87,2,  2153.7,2,  -999.0,9
740H20090203,       SR01,      17,          1,         21,         21,2,20090210,       2156,   -58.5800,   -68.2508,       3876,   101.4,   4.0286,  34.0622,2,  34.0624,2,    297.6,   298.2,2,    7.79,2,   23.94,2,    1.74,2,  2135.2,2,  2283.2,6
740H20090203,       SR01,      17,          1,         22,         22,3,20090210,       2156,   -58.5800,   -68.2508,       3876,    78.7,   4.8466,  34.0336,2,-999.0000,9,    300.6,  -999.0,9,    2.60,2,   22.05,2,    1.56,2,  -999.0,9,  -999.0,9
740H20090203,       SR01,      17,          1,         23,         23,2,20090210,       2156,   -58.5800,   -68.2508,       3876,    51.3,   5.4557,  34.0305,2,  34.0317,2,    299.8,   299.9,2,    2.13,2,   22.37,2,    1.50,2,  2117.8,2,  2282.4,6
740H20090203,       SR01,      17,          1,         24,         24,2,20090210,       2156,   -58.5800,   -68.2508,       3876,    13.0,   5.6367,  34.0283,2,  34.0286,2,    299.2,   298.5,2,    2.17,2,   22.32,2,    1.49,2,  2117.3,2,  2279.1,6