BOTTLE,20211203CCHSIORKP
EXPOCODE,SECT_ID,STNNBR,CASTNO,SAMPNO,BTLNBR,BTLNBR_FLAG_W,DATE,TIME,LATITUDE,LONGITUDE,DEPTH,CTDPRS,CTDTMP,CTDSAL,CTDSAL_FLAG_W,SALNTY,SALNTY_FLAG_W,CTDOXY,OXYGEN,OXYGEN_FLAG_W,SILCAT,SILCAT_FLAG_W,NITRAT,NITRAT_FLAG_W,PHSPHT,PHSPHT_FLAG_W,TCARBN,TCARBN_FLAG_W,ALKALI,ALKALI_FLAG_W
,,,,,,,,,,,METERS,DBAR,ITS-90,PSS-78,,PSS-78,,UMOL/KG,UMOL/KG,,UMOL/KG,,UMOL/KG,,UMOL/KG,,UMOL/KG,,UMOL/KG,
740H20090203,       SR01,      63,          1,          1,          1,9,20090222,       1702,   -58.0499,   -56.4307,       4012,  4002.3,   0.1466,  34.6627,2,-999.0000,9,    222.4,  -999.0,9, -999.00,9, -999.00,9, -999.00,9,  -999.0,9,  -999.0,9
740H20090203,       SR01,      63,          1,          2,          2,2,20090222,       1702,   -58.0499,   -56.4307,       4012,  3951.3,   0.1556,  34.6636,2,  34.6644,2,    221.8,   226.6,2,  114.47,2,   32.70,2,    2.18,2,  2259.3,2,  2360.4,6
740H20090203,       SR01,      63,          1,          3,          3,2,20090222,       1702,   -58.0499,   -56.4307,       4012,  3825.2,   0.1764,  34.6652,2,  34.6657,2,    220.0,   221.2,2,  115.09,2,   32.40,2,    2.18,2,  2256.1,3,  2361.0,6
740H20090203,       SR01,      63,          1,          4,          4,2,20090222,       1702,   -58.0499,   -56.4307,       4012,  3567.7,   0.3450,  34.6764,2,  34.6767,2,    213.1,   215.7,2,  117.02,2,   32.55,2,    2.19,2,  2258.5,3,  2363.6,6
740H20090203,       SR01,      63,          1,          5,          5,2,20090222,       1702,   -58.0499,   -56.4307,       4012,  3310.1,   0.5286,  34.6894,2,  34.6899,2,    206.7,   208.4,2,  119.47,2,   32.56,2,    2.20,2,  2259.3,3,  2361.7,6
740H20090203,       SR01,      63,          1,          6,          6,2,20090222,       1702,   -58.0499,   -56.4307,       4012,  3053.1,   0.6503,  34.6947,2,  34.6941,2,    202.6,   205.4,2,  117.96,2,   32.56,2,    2.19,2,  2260.3,3,  2375.2,6
740H20090203,       SR01,      63,          1,          7,          7,2,20090222,       1702,   -58.0499,   -56.4307,       4012,  2796.3,   0.7986,  34.7019,2,  34.7026,2,    198.9,   201.2,2,  116.77,2,   32.35,2,    2.16,2,  2260.0,3,  2376.4,6
740H20090203,       SR01,      63,          1,          8,          8,2,20090222,       1702,   -58.0499,   -56.4307,       4012,  2540.2,   0.9068,  34.7071,2,  34.7081,2,    195.9,   197.8,2,  114.96,2,   32.28,2,    2.16,2,  2262.4,3,  2378.5,6
740H20090203,       SR01,      63,          1,          9,          9,2,20090222,       1702,   -58.0499,   -56.4307,       4012,  2284.5,   1.0574,  34.7103,2,  34.7107,2,    193.3,   196.0,2,  109.71,2,   32.50,2,    2.18,2,  2259.9,3,  2383.9,6
740H20090203,       SR01,      63,          1,         10,         10,2,20090222,       1702,   -58.0499,   -56.4307,       4012,  2028.4,   1.3274,  34.7193,2,  34.7203,2,    188.0,   191.3,2,  102.96,4,   32.14,4,    2.16,4,  2258.4,3,  2375.8,6
740H20090203,       SR01,      63,          1,         11,         11,2,20090222,       1702,   -58.0499,   -56.4307,       4012,  1774.3,   1.5092,  34.7241,2,  34.7242,2,    182.8,   186.1,2,  100.16,2,   32.66,2,    2.20,2,  2259.0,3,  2370.7,6
740H20090203,       SR01,      63,          1,         12,         12,2,20090222,       1702,   -58.0499,   -56.4307,       4012,  1520.1,   1.7172,  34.7212,2,  34.7218,2,    179.2,   182.3,2,   93.37,2,   33.23,2,    2.21,2,  2256.7,3,  2371.4,6
740H20090203,       SR01,      63,          1,         13,         13,2,20090222,       1702,   -58.0499,   -56.4307,       4012,  1266.1,   1.8992,  34.7076,2,  34.7087,2,    174.3,   177.3,2,   88.47,2,   32.36,2,    2.17,2,  2257.4,3,  2361.8,6
740H20090203,       SR01,      63,          1,         14,         14,2,20090222,       1702,   -58.0499,   -56.4307,       4012,  1012.6,   2.1174,  34.6747,2,  34.6744,2,    168.4,   171.4,2,   81.21,2,   32.92,2,    2.21,2,  2255.4,3,  2351.6,6
740H20090203,       SR01,      63,          1,         15,         15,2,20090222,       1702,   -58.0499,   -56.4307,       4012,   885.2,   2.1864,  34.6412,2,  34.6418,2,    166.5,   169.3,2,   78.35,2,   33.36,2,    2.24,2,  2253.7,2,  2351.0,6
740H20090203,       SR01,      63,          1,         16,         16,2,20090222,       1702,   -58.0499,   -56.4307,       4012,   759.0,   2.2586,  34.6052,2,  34.6060,2,    165.8,   169.0,2,   75.27,2,   34.00,2,    2.27,2,  2255.2,2,  2345.1,6
740H20090203,       SR01,      63,          1,         17,         17,2,20090222,       1702,   -58.0499,   -56.4307,       4012,   633.1,   2.2944,  34.5457,2,  34.5465,2,    167.2,   170.0,2,   71.11,2,   34.40,2,    2.34,2,  2250.5,2,  2339.0,6
740H20090203,       SR01,      63,          1,         18,         18,2,20090222,       1702,   -58.0499,   -56.4307,       4012,   506.0,   2.4227,  34.4836,2,  34.4830,2,    171.2,   174.4,2,   65.61,2,   34.68,2,    2.32,2,  2246.3,2,  2334.0,6
740H20090203,       SR01,      63,          1,         19,         19,2,20090222,       1702,   -58.0499,   -56.4307,       4012,   379.5,   2.3921,  34.3717,2,  34.3712,2,    189.6,   192.9,2,   56.02,2,   34.37,2,    2.29,2,  2231.8,2,  2325.5,6
740H20090203,       SR01,      63,          1,         20,         20,2,20090222,       1702,   -58.0499,   -56.4307,       4012,   252.5,   1.6617,  34.1806,2,  34.1832,2,    244.3,   246.1,2,   40.35,2,   32.24,2,    2.16,2,  2200.4,2,  2310.7,6
740H20090203,       SR01,      63,          1,         21,         21,2,20090222,       1702,   -58.0499,   -56.4307,       4012,   177.5,   1.1865,  34.0802,2,  34.0808,2,    278.5,   280.4,2,   30.79,2,   30.55,2,    2.05,2,  2182.5,2,  2300.1,6
740H20090203,       SR01,      63,          1,         22,         22,2,20090222,       1702,   -58.0499,   -56.4307,       4012,   101.8,   1.1483,  34.0010,2,  33.9999,2,    305.6,   308.9,2,   23.17,2,   28.96,2,    1.94,2,  2167.7,2,  2288.3,6
740H20090203,       SR01,      63,          1,         23,         23,2,20090222,       1702,   -58.0499,   -56.4307,       4012,    51.2,   3.4034,  33.8586,2,  33.8616,2,    309.9,   311.5,2,   15.48,2,   25.87,2,    1.76,2,  2142.7,2,  2286.5,6
740H20090203,       SR01,      63,          1,         24,         24,2,20090222,       1702,   -58.0499,   -56.4307,       4012,     5.9,   3.5704,  33.7951,2,  33.7965,2,    310.0,   312.0,2,   15.01,2,   25.56,2,    1.64,2,  2142.4,2,  2279.2,6
740H20090203,       SR01,      64,          1,          1,          1,2,20090222,       2302,   -57.7337,   -56.6475,       4055,  3528.0,   0.2919,  34.6730,2,  34.6729,2,    216.1,   218.9,2,  117.00,2,   33.08,2,    2.21,2,  2256.8,2,  2363.2,6
740H20090203,       SR01,      64,          1,          2,          2,2,20090222,       2302,   -57.7337,   -56.6475,       4055,  3478.7,   0.3530,  34.6770,2,  34.6764,2,    214.0,   214.0,2,  117.46,2,   33.12,2,    2.22,2,  2257.2,2,  2364.9,6
740H20090203,       SR01,      64,          1,          3,          3,2,20090222,       2302,   -57.7337,   -56.6475,       4055,  3309.1,   0.4962,  34.6852,2,  34.6844,2,    209.1,   213.6,2,  118.41,2,   32.94,2,    2.21,2,  2255.9,2,  2376.7,6
740H20090203,       SR01,      64,          1,          4,          4,2,20090222,       2302,   -57.7337,   -56.6475,       4055,  3051.3,   0.6957,  34.6997,2,  34.6989,2,    202.4,   203.8,2,  118.90,2,   32.78,2,    2.21,2,  -999.0,9,  2376.9,6
740H20090203,       SR01,      64,          1,          5,          5,2,20090222,       2302,   -57.7337,   -56.6475,       4055,  2795.1,   0.8470,  34.7069,2,  34.7066,2,    198.1,   199.2,2,  117.58,2,   32.94,2,    2.20,2,  -999.0,9,  2377.5,6
740H20090203,       SR01,      64,          1,          6,          6,2,20090222,       2302,   -57.7337,   -56.6475,       4055,  2539.0,   0.9708,  34.7126,2,  34.7121,2,    195.0,   197.2,2,  115.67,2,   32.73,2,    2.20,2,  2261.0,2,  2375.3,6
740H20090203,       SR01,      64,          1,          7,          7,2,20090222,       2302,   -57.7337,   -56.6475,       4055,  2282.7,   1.1398,  34.7178,2,  34.7174,2,    191.1,   193.7,2,  110.41,2,   32.65,2,    2.18,2,  2260.4,2,  2376.5,6
740H20090203,       SR01,      64,          1,          8,          8,2,20090222,       2302,   -57.7337,   -56.6475,       4055,  2027.6,   1.3490,  34.7229,2,  34.7222,2,    186.6,   192.0,2,  104.89,2,   32.58,2,    2.18,2,  -999.0,9,  2385.6,6
740H20090203,       SR01,      64,          1,          9,          9,2,20090222,       2302,   -57.7337,   -56.6475,       4055,  1770.8,   1.5525,  34.7228,2,  34.7227,2,    181.8,   184.3,2,  100.45,2,   32.47,2,    2.18,2,  2260.3,2,  2389.2,6
740H20090203,       SR01,      64,          1,         10,         10,2,20090222,       2302,   -57.7337,   -56.6475,       4055,  1516.5,   1.7724,  34.7174,2,  34.7179,2,    176.3,   188.0,2,   94.50,2,   32.87,2,    2.20,2,  2261.8,2,  2374.7,6
740H20090203,       SR01,      64,          1,         11,         11,2,20090222,       2302,   -57.7337,   -56.6475,       4055,  1261.9,   1.9507,  34.7016,2,  34.7020,2,    170.7,   173.9,2,   90.45,2,   33.21,2,    2.22,2,  2258.8,2,  2373.1,6
740H20090203,       SR01,      64,          1,         12,         12,2,20090222,       2302,   -57.7337,   -56.6475,       4055,  1007.9,   2.1378,  34.6644,2,  34.6636,2,    164.2,   169.1,2,   86.00,2,   34.07,2,    2.28,2,  2259.4,2,  2361.4,6
740H20090203,       SR01,      64,          1,         13,         13,2,20090222,       2302,   -57.7337,   -56.6475,       4055,   880.9,   2.2267,  34.6379,2,  34.6367,2,    164.4,   168.6,2,   80.75,2,   34.37,2,    2.29,2,  2258.3,2,  2348.6,6
740H20090203,       SR01,      64,          1,         14,         14,4,20090222,       2302,   -57.7337,   -56.6475,       4055,   755.0,   2.2762,  34.6003,2,-999.0000,9,    165.8,  -999.0,9, -999.00,9, -999.00,9, -999.00,9,  -999.0,9,  -999.0,9
740H20090203,       SR01,      64,          1,         15,         15,2,20090222,       2302,   -57.7337,   -56.6475,       4055,   629.6,   2.3804,  34.5423,2,  34.5410,2,    166.7,   170.8,2,   71.64,2,   35.06,2,    2.33,2,  2250.0,2,  2348.6,6
740H20090203,       SR01,      64,          1,         16,         16,2,20090222,       2302,   -57.7337,   -56.6475,       4055,   503.4,   2.4681,  34.4737,2,  34.4736,2,    172.2,   176.7,2,   65.52,2,   35.24,2,    2.35,2,  2242.5,2,  2330.3,6
740H20090203,       SR01,      64,          1,         17,         17,2,20090222,       2302,   -57.7337,   -56.6475,       4055,   378.0,   2.4624,  34.3526,2,  34.3498,2,    193.8,   196.8,2,   53.80,2,   34.55,2,    2.30,2,  2225.3,2,  2315.4,6
740H20090203,       SR01,      64,          1,         18,         18,2,20090222,       2302,   -57.7337,   -56.6475,       4055,   251.8,   1.7271,  34.1611,2,  34.1583,2,    251.1,   253.4,2,   37.30,2,   32.22,2,    2.15,2,  2192.7,2,  2306.7,6
740H20090203,       SR01,      64,          1,         19,         19,2,20090222,       2302,   -57.7337,   -56.6475,       4055,   176.0,   1.1651,  34.0499,2,  34.0505,2,    291.0,   292.7,2,   27.83,2,   30.68,2,    2.02,2,  2174.3,2,  2281.2,6
740H20090203,       SR01,      64,          1,         20,         20,2,20090222,       2302,   -57.7337,   -56.6475,       4055,    99.9,   1.6182,  34.0033,2,  34.0030,2,    303.5,   306.2,2,   22.30,2,   29.32,2,    1.95,2,  2157.9,2,  2283.3,6
740H20090203,       SR01,      64,          1,         21,         21,2,20090222,       2302,   -57.7337,   -56.6475,       4055,   100.9,   1.5655,  34.0056,2,  33.9771,2,    303.4,   306.2,2,   20.77,2,   28.74,2,    1.90,2,  -999.0,9,  -999.0,9
740H20090203,       SR01,      64,          1,         22,         22,2,20090222,       2302,   -57.7337,   -56.6475,       4055,    49.0,   3.8806,  33.8554,2,  33.8548,2,    309.3,   311.7,2,   13.52,2,   25.98,2,    1.67,2,  2134.2,2,  2279.9,6
740H20090203,       SR01,      64,          1,         23,         23,2,20090222,       2302,   -57.7337,   -56.6475,       4055,    49.3,   3.8835,  33.8555,2,  33.8547,2,    309.4,   311.1,2,   13.34,2,   26.05,2,    1.67,2,  -999.0,9,  -999.0,9
740H20090203,       SR01,      64,          1,         24,         24,2,20090222,       2302,   -57.7337,   -56.6475,       4055,     4.8,   4.1972,  33.8594,2,  33.8597,2,    307.5,   309.7,2,   12.48,2,   25.95,2,    1.65,2,  2134.0,2,  2281.3,6
740H20090203,       SR01,      65,          1,          1,          1,2,20090223,       0503,   -57.4103,   -56.8824,       3715,  3704.5,   0.2125,  34.6675,2,  34.6677,2,    219.3,   222.4,2,  116.93,2,   33.44,2,    2.21,2,  2257.4,2,  -999.0,9
740H20090203,       SR01,      65,          1,          2,          2,2,20090223,       0503,   -57.4103,   -56.8824,       3715,  3705.3,   0.2068,  34.6672,2,  34.6681,2,    219.4,   219.1,2,  116.83,4,   32.79,4,    2.19,4,  2255.0,2,  2368.5,6
740H20090203,       SR01,      65,          1,          3,          3,2,20090223,       0503,   -57.4103,   -56.8824,       3715,  3652.6,   0.2192,  34.6681,2,  34.6681,2,    218.4,   217.9,2,  118.02,2,   33.23,2,    2.20,2,  2257.5,2,  2372.7,6
740H20090203,       SR01,      65,          1,          4,          4,2,20090223,       0503,   -57.4103,   -56.8824,       3715,  3562.1,   0.2492,  34.6703,2,  34.6710,2,    216.7,   217.7,2,  118.24,2,   33.18,2,    2.20,2,  2259.8,2,  2373.3,6
740H20090203,       SR01,      65,          1,          5,          5,2,20090223,       0503,   -57.4103,   -56.8824,       3715,  3306.6,   0.3818,  34.6802,2,  34.6794,2,    211.4,   210.4,2,  120.18,2,   33.28,2,    2.21,2,  2260.1,2,  2378.8,6
740H20090203,       SR01,      65,          1,          6,          6,2,20090223,       0503,   -57.4103,   -56.8824,       3715,  3053.0,   0.5094,  34.6896,2,  34.6896,2,    206.6,   207.3,2,  121.99,2,   33.25,2,    2.20,2,  2260.2,2,  2375.8,6
740H20090203,       SR01,      65,          1,          7,          7,2,20090223,       0503,   -57.4103,   -56.8824,       3715,  2794.4,   0.7202,  34.7015,2,  34.7019,2,    200.2,   202.0,2,  121.80,2,   33.24,2,    2.19,2,  2261.3,2,  2381.3,6
740H20090203,       SR01,      65,          1,          8,          8,2,20090223,       0503,   -57.4103,   -56.8824,       3715,  2539.8,   0.8219,  34.7038,2,  34.7039,2,    197.9,   199.0,2,  118.61,2,   34.47,4,    2.24,4,  2257.3,3,  -999.0,9
740H20090203,       SR01,      65,          1,          9,          9,2,20090223,       0503,   -57.4103,   -56.8824,       3715,  2279.3,   0.9866,  34.7112,2,  34.7117,2,    193.8,   196.9,2,  114.84,2,   32.98,2,    2.17,2,  2257.9,2,  2376.2,6
740H20090203,       SR01,      65,          1,         10,         10,2,20090223,       0503,   -57.4103,   -56.8824,       3715,  2022.3,   1.1703,  34.7166,2,  34.7161,2,    190.2,   192.5,2,  110.91,2,   33.10,2,    2.17,2,  2260.5,2,  2376.9,6
740H20090203,       SR01,      65,          1,         11,         11,2,20090223,       0503,   -57.4103,   -56.8824,       3715,  1768.1,   1.3874,  34.7236,2,  34.7231,2,    185.3,   188.4,2,  106.17,2,   33.05,2,    2.16,2,  2260.8,2,  2376.1,6
740H20090203,       SR01,      65,          1,         12,         12,2,20090223,       0503,   -57.4103,   -56.8824,       3715,  1515.9,   1.5769,  34.7258,2,  34.7243,2,    181.6,   185.3,2,  100.61,2,   32.85,2,    2.17,2,  2259.3,2,  2371.3,6
740H20090203,       SR01,      65,          1,         13,         13,2,20090223,       0503,   -57.4103,   -56.8824,       3715,  1265.2,   1.7584,  34.7170,2,  34.7181,2,    175.8,   179.1,2,   97.58,2,   33.02,2,    2.19,2,  2261.4,2,  2377.7,6
740H20090203,       SR01,      65,          1,         14,         14,2,20090223,       0503,   -57.4103,   -56.8824,       3715,  1012.0,   2.0294,  34.6999,2,  34.6998,2,    172.4,   175.9,2,   86.63,2,   33.40,2,    2.19,2,  2255.5,2,  2363.3,6
740H20090203,       SR01,      65,          1,         15,         15,2,20090223,       0503,   -57.4103,   -56.8824,       3715,   885.5,   2.1110,  34.6798,2,  34.6800,2,    169.7,   172.2,2,   84.13,2,   33.71,2,    2.22,2,  2255.2,2,  2356.1,6
740H20090203,       SR01,      65,          1,         16,         16,2,20090223,       0503,   -57.4103,   -56.8824,       3715,   759.7,   2.1659,  34.6457,2,  34.6462,2,    167.0,   169.7,2,   80.54,2,   33.68,2,    2.23,2,  2254.8,2,  2354.7,6
740H20090203,       SR01,      65,          1,         17,         17,2,20090223,       0503,   -57.4103,   -56.8824,       3715,   633.5,   2.2319,  34.6051,2,  34.6044,2,    165.9,   168.3,2,   77.72,2,   34.50,2,    2.26,2,  2256.2,2,  2353.6,6
740H20090203,       SR01,      65,          1,         18,         18,2,20090223,       0503,   -57.4103,   -56.8824,       3715,   506.0,   2.2661,  34.5414,2,  34.5402,2,    167.4,   170.5,2,   73.59,2,   35.22,2,    2.33,2,  2253.5,2,  2343.4,6
740H20090203,       SR01,      65,          1,         19,         19,2,20090223,       0503,   -57.4103,   -56.8824,       3715,   380.8,   2.2751,  34.4477,2,  34.4449,2,    177.2,   179.8,2,   65.97,2,   35.25,2,    2.32,2,  2243.1,2,  2334.4,6
740H20090203,       SR01,      65,          1,         20,         20,2,20090223,       0503,   -57.4103,   -56.8824,       3715,   254.5,   2.4707,  34.3622,2,  34.3597,2,    191.5,   194.2,2,   55.72,2,   34.70,2,    2.27,2,  2231.6,2,  2325.7,6
740H20090203,       SR01,      65,          1,         21,         21,2,20090223,       0503,   -57.4103,   -56.8824,       3715,   160.3,   1.0686,  34.1005,2,  34.0999,2,    273.8,   274.6,2,   34.75,2,   31.55,2,    2.06,2,  2181.9,2,  2304.8,6
740H20090203,       SR01,      65,          1,         22,         22,2,20090223,       0503,   -57.4103,   -56.8824,       3715,   100.4,   0.8017,  34.0063,2,  34.0059,2,    304.9,   305.2,2,   25.74,2,   29.77,2,    1.96,2,  2166.4,2,  2294.5,6
740H20090203,       SR01,      65,          1,         23,         23,2,20090223,       0503,   -57.4103,   -56.8824,       3715,    50.4,   3.4385,  33.8329,2,  33.8287,2,    317.0,   319.1,2,   13.67,2,   23.37,2,    1.47,2,  2134.9,2,  2296.4,6
740H20090203,       SR01,      65,          1,         24,         24,2,20090223,       0503,   -57.4103,   -56.8824,       3715,     7.9,   4.1937,  33.8065,2,  33.8064,2,    310.5,   311.8,2,   10.80,2,   22.94,2,    1.43,2,  2130.5,2,  2296.8,6