BOTTLE,20211203CCHSIORKP
EXPOCODE,SECT_ID,STNNBR,CASTNO,SAMPNO,BTLNBR,BTLNBR_FLAG_W,DATE,TIME,LATITUDE,LONGITUDE,DEPTH,CTDPRS,CTDTMP,CTDSAL,CTDSAL_FLAG_W,SALNTY,SALNTY_FLAG_W,CTDOXY,OXYGEN,OXYGEN_FLAG_W,SILCAT,SILCAT_FLAG_W,NITRAT,NITRAT_FLAG_W,PHSPHT,PHSPHT_FLAG_W,TCARBN,TCARBN_FLAG_W,ALKALI,ALKALI_FLAG_W
,,,,,,,,,,,METERS,DBAR,ITS-90,PSS-78,,PSS-78,,UMOL/KG,UMOL/KG,,UMOL/KG,,UMOL/KG,,UMOL/KG,,UMOL/KG,,UMOL/KG,
740H20090203,       SR01,      44,          1,          1,          1,2,20090218,       0343,   -62.9401,   -63.4501,       4230,  1012.8,   0.9708,  34.7180,2,  34.7194,2,    193.5,   194.5,2,  113.62,2,   32.46,2,    2.17,2,  -999.0,9,  -999.0,9
740H20090203,       SR01,      44,          1,          2,          2,2,20090218,       0343,   -62.9401,   -63.4501,       4230,   962.2,   1.0111,  34.7192,2,  34.7197,2,    192.5,   193.7,2,  113.51,2,   32.73,2,    2.18,2,  -999.0,9,  -999.0,9
740H20090203,       SR01,      44,          1,          3,          3,2,20090218,       0343,   -62.9401,   -63.4501,       4230,   886.2,   1.0653,  34.7210,2,  34.7225,2,    191.7,   192.6,2,  112.01,2,   32.68,2,    2.17,2,  -999.0,9,  -999.0,9
740H20090203,       SR01,      44,          1,          4,          4,2,20090218,       0343,   -62.9401,   -63.4501,       4230,   758.6,   1.2345,  34.7243,2,  34.7238,2,    188.1,   189.5,2,  106.97,2,   32.65,2,    2.17,2,  -999.0,9,  -999.0,9
740H20090203,       SR01,      44,          1,          5,          5,2,20090218,       0343,   -62.9401,   -63.4501,       4230,   633.5,   1.3958,  34.7248,2,  34.7241,2,    184.8,   186.1,2,  101.68,2,   32.42,2,    2.15,2,  -999.0,9,  -999.0,9
740H20090203,       SR01,      44,          1,          6,          6,9,20090218,       0343,   -62.9401,   -63.4501,       4230,   632.8,   1.3962,  34.7248,2,-999.0000,9,    184.6,  -999.0,9, -999.00,9, -999.00,9, -999.00,9,  -999.0,9,  -999.0,9
740H20090203,       SR01,      44,          1,          7,          7,2,20090218,       0343,   -62.9401,   -63.4501,       4230,   506.6,   1.5694,  34.7133,2,  34.7131,2,    179.6,   180.8,2,   97.16,2,   32.87,2,    2.19,2,  -999.0,9,  -999.0,9
740H20090203,       SR01,      44,          1,          8,          8,9,20090218,       0343,   -62.9401,   -63.4501,       4230,   506.8,   1.5698,  34.7132,2,-999.0000,9,    179.8,  -999.0,9, -999.00,9, -999.00,9, -999.00,9,  -999.0,9,  -999.0,9
740H20090203,       SR01,      44,          1,          9,          9,2,20090218,       0343,   -62.9401,   -63.4501,       4230,   380.0,   1.6242,  34.6761,2,  34.6765,2,    175.8,   177.8,3,   92.86,2,   33.42,2,    2.24,2,  -999.0,9,  -999.0,9
740H20090203,       SR01,      44,          1,         10,         10,9,20090218,       0343,   -62.9401,   -63.4501,       4230,   380.8,   1.6240,  34.6761,2,-999.0000,9,    176.0,  -999.0,9, -999.00,9, -999.00,9, -999.00,9,  -999.0,9,  -999.0,9
740H20090203,       SR01,      44,          1,         11,         11,2,20090218,       0343,   -62.9401,   -63.4501,       4230,   253.0,   1.5840,  34.6198,2,  34.6188,2,    176.1,   178.9,2,   87.79,2,   34.27,2,    2.28,2,  -999.0,9,  -999.0,9
740H20090203,       SR01,      44,          1,         12,         12,9,20090218,       0343,   -62.9401,   -63.4501,       4230,   253.9,   1.5837,  34.6199,2,-999.0000,9,    176.2,  -999.0,9, -999.00,9, -999.00,9, -999.00,9,  -999.0,9,  -999.0,9
740H20090203,       SR01,      44,          1,         13,         13,2,20090218,       0343,   -62.9401,   -63.4501,       4230,   178.5,   1.1898,  34.5269,2,  34.5279,2,    192.3,   195.5,2,   83.30,2,   34.52,2,    2.29,2,  -999.0,9,  -999.0,9
740H20090203,       SR01,      44,          1,         14,         14,9,20090218,       0343,   -62.9401,   -63.4501,       4230,   177.8,   1.1873,  34.5264,2,-999.0000,9,    192.4,  -999.0,9, -999.00,9, -999.00,9, -999.00,9,  -999.0,9,  -999.0,9
740H20090203,       SR01,      44,          1,         15,         15,2,20090218,       0343,   -62.9401,   -63.4501,       4230,   127.7,   0.5680,  34.3644,2,  34.3652,2,    232.4,   233.6,2,   75.29,2,   33.00,2,    2.18,2,  -999.0,9,  -999.0,9
740H20090203,       SR01,      44,          1,         16,         16,9,20090218,       0343,   -62.9401,   -63.4501,       4230,   127.5,   0.5694,  34.3646,2,-999.0000,9,    232.4,  -999.0,9, -999.00,9, -999.00,9, -999.00,9,  -999.0,9,  -999.0,9
740H20090203,       SR01,      44,          1,         17,         17,2,20090218,       0343,   -62.9401,   -63.4501,       4230,    76.7,   0.1168,  34.0989,2,  34.0992,2,    302.8,   303.8,2,   57.86,2,   27.91,2,    1.93,2,  -999.0,9,  -999.0,9
740H20090203,       SR01,      44,          1,         18,         18,9,20090218,       0343,   -62.9401,   -63.4501,       4230,    77.4,   0.1133,  34.0983,2,-999.0000,9,    303.6,  -999.0,9, -999.00,9, -999.00,9, -999.00,9,  -999.0,9,  -999.0,9
740H20090203,       SR01,      44,          1,         19,         19,2,20090218,       0343,   -62.9401,   -63.4501,       4230,    51.8,   1.1170,  33.9968,2,  34.0076,2,    320.7,   321.0,3,   51.47,2,   25.74,2,    1.78,2,  -999.0,9,  -999.0,9
740H20090203,       SR01,      44,          1,         20,         20,9,20090218,       0343,   -62.9401,   -63.4501,       4230,    51.7,   1.1387,  34.0013,2,-999.0000,9,    321.7,  -999.0,9, -999.00,9, -999.00,9, -999.00,9,  -999.0,9,  -999.0,9
740H20090203,       SR01,      44,          1,         21,         21,2,20090218,       0343,   -62.9401,   -63.4501,       4230,    27.4,   2.4102,  33.9361,2,  33.9359,2,    317.8,   319.0,2,   46.81,2,   23.84,2,    1.62,2,  -999.0,9,  -999.0,9
740H20090203,       SR01,      44,          1,         22,         22,9,20090218,       0343,   -62.9401,   -63.4501,       4230,    26.4,   2.4195,  33.9357,2,-999.0000,9,    317.6,  -999.0,9, -999.00,9, -999.00,9, -999.00,9,  -999.0,9,  -999.0,9
740H20090203,       SR01,      44,          1,         23,         23,2,20090218,       0343,   -62.9401,   -63.4501,       4230,    11.3,   2.4236,  33.9354,2,  33.9383,2,    318.0,   318.0,2,   46.90,2,   23.99,2,    1.63,2,  -999.0,9,  -999.0,9
740H20090203,       SR01,      44,          1,         24,         24,2,20090218,       0343,   -62.9401,   -63.4501,       4230,     6.4,   2.4206,  33.9354,2,  33.9355,2,    317.9,   317.9,2,   46.62,2,   23.75,2,    1.65,2,  -999.0,9,  -999.0,9
740H20090203,       SR01,      45,          1,          1,          1,4,20090218,       0551,   -62.9800,   -63.3901,       4230,   505.6,   1.4995,  34.7147,2,-999.0000,9,    182.2,   318.1,4, -999.00,9, -999.00,9, -999.00,9,  -999.0,9,  -999.0,9
740H20090203,       SR01,      45,          1,          2,          2,2,20090218,       0551,   -62.9800,   -63.3901,       4230,   455.9,   1.5197,  34.7073,2,  34.7077,2,    181.2,   182.7,2,   96.84,2,   32.40,2,    2.19,2,  2256.6,2,  2358.2,6
740H20090203,       SR01,      45,          1,          3,          3,9,20090218,       0551,   -62.9800,   -63.3901,       4230,   454.5,   1.5211,  34.7068,2,-999.0000,9,    181.0,  -999.0,9, -999.00,9, -999.00,9, -999.00,9,  -999.0,9,  -999.0,9
740H20090203,       SR01,      45,          1,          5,          5,2,20090218,       0551,   -62.9800,   -63.3901,       4230,   379.9,   1.5951,  34.6888,2,  34.6892,2,    178.1,   180.7,2,   94.09,2,   33.23,2,    2.21,2,  -999.0,9,  2359.7,6
740H20090203,       SR01,      45,          1,          6,          6,9,20090218,       0551,   -62.9800,   -63.3901,       4230,   379.6,   1.5986,  34.6889,2,-999.0000,9,    178.0,  -999.0,9, -999.00,9, -999.00,9, -999.00,9,  -999.0,9,  -999.0,9
740H20090203,       SR01,      45,          1,          8,          8,2,20090218,       0551,   -62.9800,   -63.3901,       4230,   253.3,   1.6390,  34.6485,2,  34.6494,2,    175.2,   176.7,2,   89.52,2,   33.82,2,    2.25,2,  2255.1,2,  2351.4,6
740H20090203,       SR01,      45,          1,          9,          9,9,20090218,       0551,   -62.9800,   -63.3901,       4230,   252.8,   1.6400,  34.6483,2,-999.0000,9,    175.1,  -999.0,9, -999.00,9, -999.00,9, -999.00,9,  -999.0,9,  -999.0,9
740H20090203,       SR01,      45,          1,         11,         11,2,20090218,       0551,   -62.9800,   -63.3901,       4230,   177.8,   1.1236,  34.5228,2,  34.5205,2,    196.7,   199.7,2,   84.56,2,   33.77,2,    2.25,2,  2247.5,2,  2357.2,3
740H20090203,       SR01,      45,          1,         12,         12,9,20090218,       0551,   -62.9800,   -63.3901,       4230,   177.1,   1.1029,  34.5193,2,-999.0000,9,    197.8,  -999.0,9, -999.00,9, -999.00,9, -999.00,9,  -999.0,9,  -999.0,9
740H20090203,       SR01,      45,          1,         14,         14,2,20090218,       0551,   -62.9800,   -63.3901,       4230,   101.5,   0.4672,  34.3263,2,  34.3270,2,    242.5,   242.5,2,   72.67,2,   32.43,2,    2.17,2,  2225.9,2,  2332.7,6
740H20090203,       SR01,      45,          1,         15,         15,9,20090218,       0551,   -62.9800,   -63.3901,       4230,   100.9,   0.4569,  34.3224,2,-999.0000,9,    243.3,  -999.0,9, -999.00,9, -999.00,9, -999.00,9,  -999.0,9,  -999.0,9
740H20090203,       SR01,      45,          1,         17,         17,2,20090218,       0551,   -62.9800,   -63.3901,       4230,    76.6,  -0.0111,  34.1601,2,  34.1757,2,    284.1,   280.8,2,   62.60,2,   29.89,2,    2.05,2,  2205.1,2,  2319.3,6
740H20090203,       SR01,      45,          1,         18,         18,9,20090218,       0551,   -62.9800,   -63.3901,       4230,    76.3,  -0.0188,  34.1588,2,-999.0000,9,    285.5,  -999.0,9, -999.00,9, -999.00,9, -999.00,9,  -999.0,9,  -999.0,9
740H20090203,       SR01,      45,          1,         19,         19,2,20090218,       0551,   -62.9800,   -63.3901,       4230,    50.7,   1.3502,  34.0049,2,  34.0061,2,    316.0,   316.0,2,   50.92,2,   25.81,2,    1.76,2,  2171.1,2,  2306.1,6
740H20090203,       SR01,      45,          1,         20,         20,9,20090218,       0551,   -62.9800,   -63.3901,       4230,    50.3,   1.3819,  34.0035,2,-999.0000,9,    316.0,  -999.0,9, -999.00,9, -999.00,9, -999.00,9,  -999.0,9,  -999.0,9
740H20090203,       SR01,      45,          1,         21,         21,2,20090218,       0551,   -62.9800,   -63.3901,       4230,    25.8,   2.3228,  33.9368,2,  33.9376,2,    318.5,   319.2,2,   48.88,2,   24.66,2,    1.67,2,  2156.9,2,  2299.8,6
740H20090203,       SR01,      45,          1,         22,         22,9,20090218,       0551,   -62.9800,   -63.3901,       4230,    24.7,   2.3244,  33.9370,2,-999.0000,9,    318.3,  -999.0,9, -999.00,9, -999.00,9, -999.00,9,  -999.0,9,  -999.0,9
740H20090203,       SR01,      45,          1,         23,         23,2,20090218,       0551,   -62.9800,   -63.3901,       4230,     4.9,   2.3284,  33.9361,2,  33.9367,2,    318.2,   319.4,2,   48.90,2,   24.63,2,    1.67,2,  2156.8,2,  2305.7,6
740H20090203,       SR01,      45,          1,         24,         24,9,20090218,       0551,   -62.9800,   -63.3901,       4230,     4.9,   2.3298,  33.9361,2,-999.0000,9,    318.2,  -999.0,9, -999.00,9, -999.00,9, -999.00,9,  -999.0,9,  -999.0,9
740H20090203,       SR01,      46,          1,          1,          1,2,20090218,       0820,   -63.1500,   -63.2001,       2045,   470.3,   1.3661,  34.7141,2,  34.7137,2,    185.0,   187.3,2,  101.16,2,   32.01,2,    2.17,2,  2259.6,2,  2362.5,6
740H20090203,       SR01,      46,          1,          2,          2,9,20090218,       0820,   -63.1500,   -63.2001,       2045,   470.5,   1.3601,  34.7153,2,-999.0000,9,    185.1,  -999.0,9, -999.00,9, -999.00,9, -999.00,9,  -999.0,9,  -999.0,9
740H20090203,       SR01,      46,          1,          3,          3,2,20090218,       0820,   -63.1500,   -63.2001,       2045,   420.4,   1.4583,  34.6669,2,  34.6681,2,    181.3,   182.7,2,   96.34,2,   32.58,2,    2.24,2,  2260.8,2,  2359.8,6
740H20090203,       SR01,      46,          1,          4,          4,9,20090218,       0820,   -63.1500,   -63.2001,       2045,   420.0,   1.4583,  34.6666,2,-999.0000,9,    181.4,  -999.0,9, -999.00,9, -999.00,9, -999.00,9,  -999.0,9,  -999.0,9
740H20090203,       SR01,      46,          1,          5,          5,2,20090218,       0820,   -63.1500,   -63.2001,       2045,   379.9,   1.4257,  34.6478,2,  34.6486,2,    182.9,   183.3,2,   93.87,2,   32.83,2,    2.23,2,  2256.3,2,  2354.5,6
740H20090203,       SR01,      46,          1,          6,          6,9,20090218,       0820,   -63.1500,   -63.2001,       2045,   380.1,   1.4284,  34.6487,2,-999.0000,9,    183.0,  -999.0,9, -999.00,9, -999.00,9, -999.00,9,  -999.0,9,  -999.0,9
740H20090203,       SR01,      46,          1,          7,          7,2,20090218,       0820,   -63.1500,   -63.2001,       2045,   253.5,   1.1705,  34.5556,2,  34.5584,2,    197.0,   197.5,2,   87.39,2,   32.71,2,    2.22,2,  2252.9,2,  2344.4,6
740H20090203,       SR01,      46,          1,          8,          8,9,20090218,       0820,   -63.1500,   -63.2001,       2045,   253.7,   1.1717,  34.5560,2,-999.0000,9,    196.9,  -999.0,9, -999.00,9, -999.00,9, -999.00,9,  -999.0,9,  -999.0,9
740H20090203,       SR01,      46,          1,          9,          9,9,20090218,       0820,   -63.1500,   -63.2001,       2045,   177.4,   0.8068,  34.4365,2,-999.0000,9,    220.9,  -999.0,9, -999.00,9, -999.00,9, -999.00,9,  -999.0,9,  -999.0,9
740H20090203,       SR01,      46,          1,         10,         10,2,20090218,       0820,   -63.1500,   -63.2001,       2045,   178.3,   0.8001,  34.4344,2,  34.4368,2,    221.7,   221.3,2,   80.45,2,   32.31,2,    2.18,2,  2231.4,2,  2336.9,6
740H20090203,       SR01,      46,          1,         11,         11,9,20090218,       0820,   -63.1500,   -63.2001,       2045,   177.9,   0.7994,  34.4342,2,-999.0000,9,    221.6,  -999.0,9, -999.00,9, -999.00,9, -999.00,9,  -999.0,9,  -999.0,9
740H20090203,       SR01,      46,          1,         12,         12,2,20090218,       0820,   -63.1500,   -63.2001,       2045,   101.5,   0.8023,  34.2417,2,  34.2424,2,    265.7,   259.3,2,   67.26,2,   29.47,2,    2.01,2,  2210.5,2,  2324.7,6
740H20090203,       SR01,      46,          1,         13,         13,9,20090218,       0820,   -63.1500,   -63.2001,       2045,   102.0,   0.8073,  34.2406,2,-999.0000,9,    266.0,  -999.0,9, -999.00,9, -999.00,9, -999.00,9,  -999.0,9,  -999.0,9
740H20090203,       SR01,      46,          1,         14,         14,9,20090218,       0820,   -63.1500,   -63.2001,       2045,   102.0,   0.7953,  34.2371,2,-999.0000,9,    266.6,  -999.0,9, -999.00,9, -999.00,9, -999.00,9,  -999.0,9,  -999.0,9
740H20090203,       SR01,      46,          1,         15,         15,2,20090218,       0820,   -63.1500,   -63.2001,       2045,    76.3,   0.9662,  34.1487,2,  34.1528,2,    286.8,   287.1,2,   60.69,2,   27.95,2,    1.91,2,  2197.0,2,  2320.9,6
740H20090203,       SR01,      46,          1,         16,         16,9,20090218,       0820,   -63.1500,   -63.2001,       2045,    76.1,   0.9667,  34.1487,2,-999.0000,9,    286.7,  -999.0,9, -999.00,9, -999.00,9, -999.00,9,  -999.0,9,  -999.0,9
740H20090203,       SR01,      46,          1,         17,         17,9,20090218,       0820,   -63.1500,   -63.2001,       2045,    76.5,   0.9747,  34.1480,2,-999.0000,9,    287.2,  -999.0,9, -999.00,9, -999.00,9, -999.00,9,  -999.0,9,  -999.0,9
740H20090203,       SR01,      46,          1,         18,         18,2,20090218,       0820,   -63.1500,   -63.2001,       2045,    51.6,   2.2939,  33.9531,2,  33.9546,2,    316.2,   316.2,2,   48.49,2,   24.13,2,    1.64,2,  2156.4,2,  2304.7,6
740H20090203,       SR01,      46,          1,         19,         19,9,20090218,       0820,   -63.1500,   -63.2001,       2045,    51.4,   2.3093,  33.9489,2,-999.0000,9,    315.7,  -999.0,9, -999.00,9, -999.00,9, -999.00,9,  -999.0,9,  -999.0,9
740H20090203,       SR01,      46,          1,         20,         20,9,20090218,       0820,   -63.1500,   -63.2001,       2045,    51.2,   2.3145,  33.9475,2,-999.0000,9,    315.9,  -999.0,9, -999.00,9, -999.00,9, -999.00,9,  -999.0,9,  -999.0,9
740H20090203,       SR01,      46,          1,         21,         21,2,20090218,       0820,   -63.1500,   -63.2001,       2045,    25.6,   2.3410,  33.9328,2,  33.9384,2,    316.3,   316.5,2,   48.23,2,   24.35,2,    1.64,2,  2157.9,2,  2307.8,6
740H20090203,       SR01,      46,          1,         22,         22,9,20090218,       0820,   -63.1500,   -63.2001,       2045,    25.7,   2.3419,  33.9326,2,-999.0000,9,    316.6,  -999.0,9, -999.00,9, -999.00,9, -999.00,9,  -999.0,9,  -999.0,9
740H20090203,       SR01,      46,          1,         23,         23,2,20090218,       0820,   -63.1500,   -63.2001,       2045,     5.6,   2.3380,  33.9329,2,  33.9332,2,    316.3,   317.5,2,   48.36,2,   24.24,2,    1.64,2,  2159.9,2,  2305.9,6
740H20090203,       SR01,      46,          1,         24,         24,9,20090218,       0820,   -63.1500,   -63.2001,       2045,     5.7,   2.3386,  33.9329,2,-999.0000,9,    316.3,  -999.0,9, -999.00,9, -999.00,9, -999.00,9,  -999.0,9,  -999.0,9