BOTTLE,20211203CCHSIORKP
EXPOCODE,SECT_ID,STNNBR,CASTNO,SAMPNO,BTLNBR,BTLNBR_FLAG_W,DATE,TIME,LATITUDE,LONGITUDE,DEPTH,CTDPRS,CTDTMP,CTDSAL,CTDSAL_FLAG_W,SALNTY,SALNTY_FLAG_W,CTDOXY,OXYGEN,OXYGEN_FLAG_W,SILCAT,SILCAT_FLAG_W,NITRAT,NITRAT_FLAG_W,PHSPHT,PHSPHT_FLAG_W,TCARBN,TCARBN_FLAG_W,ALKALI,ALKALI_FLAG_W
,,,,,,,,,,,METERS,DBAR,ITS-90,PSS-78,,PSS-78,,UMOL/KG,UMOL/KG,,UMOL/KG,,UMOL/KG,,UMOL/KG,,UMOL/KG,,UMOL/KG,
740H20090203,       SR01,      21,          1,          1,          1,2,20090211,       2313,   -59.5898,   -68.2374,       3764,  3726.2,   0.7071,  34.7074,2,  34.7082,2,    202.9,   211.1,2,  128.88,2,   32.96,2,    2.22,2,  -999.0,9,  -999.0,9
740H20090203,       SR01,      21,          1,          2,          2,2,20090211,       2313,   -59.5898,   -68.2374,       3764,  3683.9,   0.7046,  34.7074,2,  34.7080,2,    202.6,   204.7,2,  129.39,2,   32.83,2,    2.22,2,  -999.0,9,  -999.0,9
740H20090203,       SR01,      21,          1,          3,          3,2,20090211,       2313,   -59.5898,   -68.2374,       3764,  3566.3,   0.7117,  34.7079,2,  34.7084,2,    201.7,   201.6,2,  128.47,2,   33.07,2,    2.22,2,  -999.0,9,  -999.0,9
740H20090203,       SR01,      21,          1,          4,          4,2,20090211,       2313,   -59.5898,   -68.2374,       3764,  3308.0,   0.7789,  34.7096,2,  34.7099,2,    199.4,   202.1,2,  125.10,2,   32.92,2,    2.22,2,  -999.0,9,  -999.0,9
740H20090203,       SR01,      21,          1,          5,          5,2,20090211,       2313,   -59.5898,   -68.2374,       3764,  3050.0,   0.9334,  34.7135,2,  34.7136,2,    196.1,  -999.0,9,  119.67,2,   32.65,2,    2.20,2,  -999.0,9,  -999.0,9
740H20090203,       SR01,      21,          1,          6,          6,2,20090211,       2313,   -59.5898,   -68.2374,       3764,  2795.6,   1.0646,  34.7179,2,  34.7182,2,    193.6,   196.8,2,  116.50,2,   32.82,2,    2.20,2,  -999.0,9,  -999.0,9
740H20090203,       SR01,      21,          1,          7,          7,2,20090211,       2313,   -59.5898,   -68.2374,       3764,  2539.4,   1.2061,  34.7220,2,  34.7223,2,    190.5,   194.1,2,  112.85,2,   32.59,2,    2.19,2,  -999.0,9,  -999.0,9
740H20090203,       SR01,      21,          1,          8,          8,2,20090211,       2313,   -59.5898,   -68.2374,       3764,  2283.7,   1.3594,  34.7253,2,  34.7256,2,    187.5,   191.1,2,  107.05,2,   32.66,2,    2.18,2,  -999.0,9,  -999.0,9
740H20090203,       SR01,      21,          1,          9,          9,2,20090211,       2313,   -59.5898,   -68.2374,       3764,  2027.7,   1.5005,  34.7269,2,  34.7276,2,    184.2,   188.3,2,  103.24,2,   32.42,2,    2.18,2,  -999.0,9,  -999.0,9
740H20090203,       SR01,      21,          1,         10,         10,2,20090211,       2313,   -59.5898,   -68.2374,       3764,  1772.2,   1.6974,  34.7285,2,  34.7293,2,    181.4,   185.5,2,   95.95,2,   32.09,2,    2.18,2,  -999.0,9,  -999.0,9
740H20090203,       SR01,      21,          1,         11,         11,2,20090211,       2313,   -59.5898,   -68.2374,       3764,  1518.7,   1.9274,  34.7184,2,  34.7188,2,    176.6,   179.9,2,   88.61,2,   32.58,2,    2.19,2,  -999.0,9,  -999.0,9
740H20090203,       SR01,      21,          1,         12,         12,2,20090211,       2313,   -59.5898,   -68.2374,       3764,  1265.4,   2.0965,  34.6929,2,  34.6929,2,    171.8,   175.7,2,   84.26,2,   33.23,2,    2.24,2,  -999.0,9,  -999.0,9
740H20090203,       SR01,      21,          1,         13,         13,2,20090211,       2313,   -59.5898,   -68.2374,       3764,  1010.6,   2.2185,  34.6303,2,  34.6301,2,    167.1,   170.2,2,   77.97,2,   34.51,2,    2.30,2,  -999.0,9,  -999.0,9
740H20090203,       SR01,      21,          1,         14,         14,2,20090211,       2313,   -59.5898,   -68.2374,       3764,   885.6,   2.2762,  34.5905,2,  34.5907,2,    166.6,   170.1,2,   75.80,2,   34.68,2,    2.33,2,  -999.0,9,  -999.0,9
740H20090203,       SR01,      21,          1,         15,         15,2,20090211,       2313,   -59.5898,   -68.2374,       3764,   757.4,   2.3395,  34.5389,2,  34.5391,2,    167.6,   170.7,2,   71.79,2,   35.37,2,    2.36,2,  -999.0,9,  -999.0,9
740H20090203,       SR01,      21,          1,         16,         16,2,20090211,       2313,   -59.5898,   -68.2374,       3764,   631.9,   2.3798,  34.4848,2,  34.4828,2,    172.0,   175.5,2,   67.27,2,   35.47,2,    2.38,2,  -999.0,9,  -999.0,9
740H20090203,       SR01,      21,          1,         17,         17,2,20090211,       2313,   -59.5898,   -68.2374,       3764,   505.5,   2.4576,  34.4102,2,  34.4103,2,    182.4,   186.0,2,   60.56,2,   35.25,2,    2.36,2,  -999.0,9,  -999.0,9
740H20090203,       SR01,      21,          1,         18,         18,2,20090211,       2313,   -59.5898,   -68.2374,       3764,   379.2,   2.2308,  34.2882,2,  34.2874,2,    211.9,   214.0,2,   49.57,2,   34.30,2,    2.29,2,  -999.0,9,  -999.0,9
740H20090203,       SR01,      21,          1,         19,         19,2,20090211,       2313,   -59.5898,   -68.2374,       3764,   253.0,   0.9748,  34.0743,2,  34.0752,2,    283.7,   284.9,2,   31.83,2,   30.75,2,    2.08,2,  -999.0,9,  -999.0,9
740H20090203,       SR01,      21,          1,         20,         20,2,20090211,       2313,   -59.5898,   -68.2374,       3764,   177.7,   0.9015,  34.0267,2,  34.0281,2,    303.5,   304.8,2,   26.78,2,   30.20,2,    2.02,2,  -999.0,9,  -999.0,9
740H20090203,       SR01,      21,          1,         21,         21,2,20090211,       2313,   -59.5898,   -68.2374,       3764,   102.1,   1.4296,  33.9716,2,  33.9723,2,    319.7,   319.3,2,   21.61,2,   28.03,2,    1.93,2,  -999.0,9,  -999.0,9
740H20090203,       SR01,      21,          1,         22,         22,2,20090211,       2313,   -59.5898,   -68.2374,       3764,    75.2,   1.8985,  33.9581,2,  33.9585,2,    321.5,   322.1,2,   18.92,2,   26.97,2,    1.88,2,  -999.0,9,  -999.0,9
740H20090203,       SR01,      21,          1,         23,         23,2,20090211,       2313,   -59.5898,   -68.2374,       3764,    51.7,   3.5938,  33.9093,2,  33.9105,2,    314.0,   315.3,2,   10.01,2,   25.49,2,    1.65,2,  -999.0,9,  -999.0,9
740H20090203,       SR01,      21,          1,         24,         24,2,20090211,       2313,   -59.5898,   -68.2374,       3764,     6.0,   4.2990,  33.9118,2,  33.9118,2,    309.3,   309.2,2,    7.73,2,   25.07,2,    1.60,2,  -999.0,9,  -999.0,9
740H20090203,       SR01,      22,          1,          1,          1,2,20090212,       0441,   -59.8198,   -68.2397,       3764,  3716.2,   0.7572,  34.7083,2,  34.7071,2,    202.4,   202.5,2,  128.45,2,   32.96,2,    2.23,2,  2261.4,2,  2371.0,6
740H20090203,       SR01,      22,          1,          2,          2,2,20090212,       0441,   -59.8198,   -68.2397,       3764,  3666.9,   0.7592,  34.7084,2,  34.7066,2,    202.0,   201.7,2,  127.60,2,   33.35,2,    2.24,2,  2263.4,2,  2371.5,6
740H20090203,       SR01,      22,          1,          3,          3,2,20090212,       0441,   -59.8198,   -68.2397,       3764,  3562.6,   0.7500,  34.7085,2,  34.7065,2,    201.4,   205.2,2,  128.16,2,   33.30,2,    2.24,2,  2260.9,2,  2373.4,6
740H20090203,       SR01,      22,          1,          4,          4,2,20090212,       0441,   -59.8198,   -68.2397,       3764,  3305.7,   0.7368,  34.7088,2,  34.7075,2,    200.3,   202.7,2,  127.36,2,   33.45,2,    2.24,2,  2263.7,2,  2370.9,6
740H20090203,       SR01,      22,          1,          5,          5,2,20090212,       0441,   -59.8198,   -68.2397,       3764,  3049.0,   0.9006,  34.7130,2,  34.7113,2,    196.9,   200.6,2,  122.11,2,   33.01,2,    2.23,2,  2262.6,2,  2370.9,6
740H20090203,       SR01,      22,          1,          6,          6,2,20090212,       0441,   -59.8198,   -68.2397,       3764,  2792.8,   1.0641,  34.7179,2,  34.7164,2,    193.7,   195.5,2,  116.08,2,   33.03,2,    2.22,2,  2257.8,2,  2371.2,6
740H20090203,       SR01,      22,          1,          7,          7,2,20090212,       0441,   -59.8198,   -68.2397,       3764,  2539.9,   1.1946,  34.7219,2,  34.7204,2,    191.0,   194.2,2,  111.80,2,   32.47,2,    2.21,2,  2261.4,2,  2368.6,6
740H20090203,       SR01,      22,          1,          8,          8,2,20090212,       0441,   -59.8198,   -68.2397,       3764,  2283.6,   1.3596,  34.7262,2,  34.7248,2,    187.9,   191.3,2,  106.09,2,   32.58,2,    2.19,2,  2259.8,2,  2369.4,6
740H20090203,       SR01,      22,          1,          9,          9,2,20090212,       0441,   -59.8198,   -68.2397,       3764,  2029.4,   1.4826,  34.7264,2,  34.7249,2,    185.0,   187.5,2,  103.56,2,   32.86,2,    2.21,2,  2259.6,2,  2372.3,6
740H20090203,       SR01,      22,          1,         10,         10,2,20090212,       0441,   -59.8198,   -68.2397,       3764,  1774.5,   1.6257,  34.7251,2,  34.7238,2,    181.4,   184.3,2,   99.65,2,   32.96,2,    2.22,2,  2258.9,2,  2369.5,6
740H20090203,       SR01,      22,          1,         11,         11,2,20090212,       0441,   -59.8198,   -68.2397,       3764,  1519.1,   1.8763,  34.7210,2,  34.7193,2,    177.9,   181.5,2,   91.25,2,   32.89,2,    2.24,2,  2255.0,2,  2362.4,6
740H20090203,       SR01,      22,          1,         12,         12,2,20090212,       0441,   -59.8198,   -68.2397,       3764,  1266.0,   2.0923,  34.6934,2,  34.6921,2,    172.3,   175.7,2,   84.32,2,   33.61,2,    2.24,2,  2253.3,2,  2355.4,6
740H20090203,       SR01,      22,          1,         13,         13,2,20090212,       0441,   -59.8198,   -68.2397,       3764,  1011.6,   2.2260,  34.6439,2,  34.6418,2,    167.4,   170.2,2,   79.93,2,   34.38,2,    2.30,2,  2254.3,2,  2348.1,6
740H20090203,       SR01,      22,          1,         14,         14,2,20090212,       0441,   -59.8198,   -68.2397,       3764,   886.5,   2.2716,  34.6153,2,  34.6119,2,    166.5,   169.4,2,   77.58,2,   35.05,2,    2.36,2,  2252.5,2,  2347.9,6
740H20090203,       SR01,      22,          1,         15,         15,2,20090212,       0441,   -59.8198,   -68.2397,       3764,   759.3,   2.3511,  34.5622,2,  34.5599,2,    166.5,   169.6,2,   73.92,2,   35.43,2,    2.38,2,  2250.8,2,  2343.4,6
740H20090203,       SR01,      22,          1,         16,         16,2,20090212,       0441,   -59.8198,   -68.2397,       3764,   631.7,   2.3690,  34.5069,2,  34.5057,2,    169.8,   177.8,2,   68.67,2,   35.48,2,    2.37,2,  2250.7,2,  2337.8,6
740H20090203,       SR01,      22,          1,         17,         17,2,20090212,       0441,   -59.8198,   -68.2397,       3764,   506.3,   2.4215,  34.4260,2,  34.4242,2,    180.0,   182.8,2,   61.36,2,   35.54,2,    2.37,2,  2238.9,2,  2327.7,6
740H20090203,       SR01,      22,          1,         18,         18,2,20090212,       0441,   -59.8198,   -68.2397,       3764,   378.2,   2.2328,  34.3029,2,  34.2956,2,    207.7,   218.1,2,   50.65,2,   34.40,2,    2.25,2,  2221.4,2,  2317.1,6
740H20090203,       SR01,      22,          1,         19,         19,2,20090212,       0441,   -59.8198,   -68.2397,       3764,   251.9,   0.6283,  34.0643,2,  34.0632,2,    290.8,   292.2,2,   32.25,2,   31.18,2,    2.09,2,  2181.1,2,  2301.1,6
740H20090203,       SR01,      22,          1,         20,         20,2,20090212,       0441,   -59.8198,   -68.2397,       3764,   177.4,   0.3557,  34.0042,2,  33.9984,2,    314.9,   320.2,2,   26.86,2,   30.11,2,    2.02,2,  2167.6,2,  2291.9,6
740H20090203,       SR01,      22,          1,         21,         21,2,20090212,       0441,   -59.8198,   -68.2397,       3764,   102.5,   0.7078,  33.9511,2,  33.9524,2,    327.0,   329.3,2,   23.49,2,   28.40,2,    1.95,2,  2158.2,2,  2291.9,6
740H20090203,       SR01,      22,          1,         22,         22,2,20090212,       0441,   -59.8198,   -68.2397,       3764,    77.0,   1.3214,  33.9328,2,  33.9331,2,    329.5,   329.9,2,   19.35,2,   27.33,2,    1.88,2,  2152.1,2,  2287.7,6
740H20090203,       SR01,      22,          1,         23,         23,2,20090212,       0441,   -59.8198,   -68.2397,       3764,    51.9,   3.7161,  33.9083,2,  33.9067,2,    312.9,   314.2,2,   11.75,2,   25.65,2,    1.68,2,  2132.0,2,  2286.9,6
740H20090203,       SR01,      22,          1,         24,         24,2,20090212,       0441,   -59.8198,   -68.2397,       3764,     5.8,   4.2647,  33.8984,2,  33.8965,2,    307.6,   312.9,2,   11.17,2,   25.59,2,    1.66,2,  2133.1,2,  2286.6,6
740H20090203,       SR01,      23,          1,          1,          1,2,20090212,       0945,   -60.0704,   -68.1894,       3749,  3557.6,   0.7630,  34.7086,2,  34.7077,2,    201.9,   218.4,3,  123.01,2,   33.49,2,    2.25,2,  -999.0,9,  -999.0,9
740H20090203,       SR01,      23,          1,          2,          2,2,20090212,       0945,   -60.0704,   -68.1894,       3749,  3507.2,   0.7616,  34.7088,2,  34.7073,2,    201.7,   201.9,2,  124.19,2,   33.62,2,    2.27,2,  -999.0,9,  -999.0,9
740H20090203,       SR01,      23,          1,          3,          3,2,20090212,       0945,   -60.0704,   -68.1894,       3749,  3308.0,   0.7839,  34.7098,2,  34.7085,2,    199.9,   111.0,3,  121.33,2,   33.52,2,    2.25,2,  -999.0,9,  -999.0,9
740H20090203,       SR01,      23,          1,          4,          4,2,20090212,       0945,   -60.0704,   -68.1894,       3749,  3049.7,   0.8996,  34.7129,2,  34.7121,2,    197.0,   199.3,2,  119.63,4,   33.68,4,    2.32,4,  -999.0,9,  -999.0,9
740H20090203,       SR01,      23,          1,          5,          5,2,20090212,       0945,   -60.0704,   -68.1894,       3749,  2793.5,   1.0830,  34.7183,2,  34.7171,2,    193.8,   195.6,2,  110.88,2,   33.05,2,    2.23,2,  -999.0,9,  -999.0,9
740H20090203,       SR01,      23,          1,          6,          6,2,20090212,       0945,   -60.0704,   -68.1894,       3749,  2538.4,   1.2084,  34.7224,2,  34.7216,2,    190.8,   193.0,2,  106.74,2,   33.27,2,    2.24,2,  -999.0,9,  -999.0,9
740H20090203,       SR01,      23,          1,          7,          7,2,20090212,       0945,   -60.0704,   -68.1894,       3749,  2283.2,   1.3856,  34.7259,2,  34.7247,2,    187.4,   190.6,2,  101.60,2,   33.07,2,    2.24,2,  -999.0,9,  -999.0,9
740H20090203,       SR01,      23,          1,          8,          8,2,20090212,       0945,   -60.0704,   -68.1894,       3749,  2027.9,   1.5570,  34.7282,2,  34.7272,2,    184.1,   186.9,2,   97.11,2,   33.05,2,    2.22,2,  -999.0,9,  -999.0,9
740H20090203,       SR01,      23,          1,          9,          9,2,20090212,       0945,   -60.0704,   -68.1894,       3749,  1773.6,   1.7605,  34.7267,2,  34.7260,2,    180.5,   184.3,2,   90.05,2,   32.70,2,    2.21,2,  -999.0,9,  -999.0,9
740H20090203,       SR01,      23,          1,         10,         10,2,20090212,       0945,   -60.0704,   -68.1894,       3749,  1519.1,   1.9788,  34.7140,2,  34.7132,2,    175.7,   178.9,2,   83.73,2,   33.44,2,    2.24,2,  -999.0,9,  -999.0,9
740H20090203,       SR01,      23,          1,         11,         11,2,20090212,       0945,   -60.0704,   -68.1894,       3749,  1265.4,   2.1335,  34.6848,2,  34.6833,2,    170.8,   173.5,2,   79.71,2,   34.36,2,    2.29,2,  -999.0,9,  -999.0,9
740H20090203,       SR01,      23,          1,         12,         12,2,20090212,       0945,   -60.0704,   -68.1894,       3749,  1010.0,   2.2676,  34.6238,2,  34.6224,2,    166.5,   169.7,2,   73.98,2,   34.68,2,    2.34,2,  -999.0,9,  -999.0,9
740H20090203,       SR01,      23,          1,         13,         13,2,20090212,       0945,   -60.0704,   -68.1894,       3749,   885.6,   2.3305,  34.5782,2,  34.5765,2,    166.6,   170.0,2,   71.40,2,   35.88,2,    2.43,2,  -999.0,9,  -999.0,9
740H20090203,       SR01,      23,          1,         14,         14,9,20090212,       0945,   -60.0704,   -68.1894,       3749,   758.7,   2.3981,  34.5276,2,-999.0000,9,    168.2,  -999.0,9, -999.00,9, -999.00,9, -999.00,9,  -999.0,9,  -999.0,9
740H20090203,       SR01,      23,          1,         15,         15,2,20090212,       0945,   -60.0704,   -68.1894,       3749,   632.2,   2.4776,  34.4672,2,  34.4647,2,    173.6,  -999.0,9,   61.88,2,   36.06,2,    2.43,2,  -999.0,9,  -999.0,9
740H20090203,       SR01,      23,          1,         16,         16,2,20090212,       0945,   -60.0704,   -68.1894,       3749,   506.1,   2.5081,  34.3937,2,  34.3931,2,    185.3,   187.4,2,   55.26,2,   35.85,2,    2.39,2,  -999.0,9,  -999.0,9
740H20090203,       SR01,      23,          1,         17,         17,2,20090212,       0945,   -60.0704,   -68.1894,       3749,   379.5,   2.0954,  34.2364,2,  34.2351,2,    227.4,   229.4,2,   41.66,2,   33.55,2,    2.26,2,  -999.0,9,  -999.0,9
740H20090203,       SR01,      23,          1,         18,         18,4,20090212,       0945,   -60.0704,   -68.1894,       3749,   252.7,   0.8511,  34.0396,2,  33.9890,4,    297.5,   303.1,4, -999.00,9, -999.00,9, -999.00,9,  -999.0,9,  -999.0,9
740H20090203,       SR01,      23,          1,         19,         19,2,20090212,       0945,   -60.0704,   -68.1894,       3749,   178.1,   1.4678,  34.0571,2,  34.0554,2,    292.4,   292.4,2,   25.74,2,   30.41,2,    2.12,2,  -999.0,9,  -999.0,9
740H20090203,       SR01,      23,          1,         20,         20,2,20090212,       0945,   -60.0704,   -68.1894,       3749,   102.1,   1.8694,  33.9830,2,  33.9821,2,    312.8,   313.8,2,   20.45,2,   28.05,2,    1.93,2,  -999.0,9,  -999.0,9
740H20090203,       SR01,      23,          1,         21,         21,2,20090212,       0945,   -60.0704,   -68.1894,       3749,    76.7,   3.0253,  33.9537,2,  33.9518,2,    317.2,   317.5,2,   12.78,2,   25.95,2,    1.82,2,  -999.0,9,  -999.0,9
740H20090203,       SR01,      23,          1,         22,         22,9,20090212,       0945,   -60.0704,   -68.1894,       3749,    51.6,   4.1387,  33.9233,2,-999.0000,9,    310.5,  -999.0,9, -999.00,9, -999.00,9, -999.00,9,  -999.0,9,  -999.0,9
740H20090203,       SR01,      23,          1,         23,         23,9,20090212,       0945,   -60.0704,   -68.1894,       3749,    27.3,   4.3587,  33.9231,2,-999.0000,9,    308.0,  -999.0,9, -999.00,9, -999.00,9, -999.00,9,  -999.0,9,  -999.0,9
740H20090203,       SR01,      23,          1,         24,         24,2,20090212,       0945,   -60.0704,   -68.1894,       3749,     6.3,   4.3837,  33.9233,2,  33.9222,2,    307.9,   308.0,2,    7.73,2,   24.92,2,    1.62,2,  -999.0,9,  -999.0,9