BOTTLE,20211203CCHSIORKP
EXPOCODE,SECT_ID,STNNBR,CASTNO,SAMPNO,BTLNBR,BTLNBR_FLAG_W,DATE,TIME,LATITUDE,LONGITUDE,DEPTH,CTDPRS,CTDTMP,CTDSAL,CTDSAL_FLAG_W,SALNTY,SALNTY_FLAG_W,CTDOXY,OXYGEN,OXYGEN_FLAG_W,SILCAT,SILCAT_FLAG_W,NITRAT,NITRAT_FLAG_W,PHSPHT,PHSPHT_FLAG_W,TCARBN,TCARBN_FLAG_W,ALKALI,ALKALI_FLAG_W
,,,,,,,,,,,METERS,DBAR,ITS-90,PSS-78,,PSS-78,,UMOL/KG,UMOL/KG,,UMOL/KG,,UMOL/KG,,UMOL/KG,,UMOL/KG,,UMOL/KG,
740H20090203,       SR01,      30,          1,          1,          1,9,20090214,       0329,   -61.6000,   -66.6698,       4046,  4036.3,   0.5717,  34.7027,2,-999.0000,9,    205.0,  -999.0,9, -999.00,9, -999.00,9, -999.00,9,  2261.1,2,  2376.7,6
740H20090203,       SR01,      30,          1,          2,          2,2,20090214,       0329,   -61.6000,   -66.6698,       4046,  3984.4,   0.5698,  34.7028,2,  34.7026,2,    204.7,   209.9,3,  133.40,2,   33.15,2,    2.25,2,  2258.4,2,  2376.2,6
740H20090203,       SR01,      30,          1,          3,          3,2,20090214,       0329,   -61.6000,   -66.6698,       4046,  3820.5,   0.5639,  34.7031,2,  34.7027,2,    204.1,   210.2,3,  133.35,2,   33.73,2,    2.25,2,  2259.3,2,  2376.5,6
740H20090203,       SR01,      30,          1,          4,          4,2,20090214,       0329,   -61.6000,   -66.6698,       4046,  3563.6,   0.5504,  34.7042,2,  34.7035,2,    202.7,   208.7,3,  133.48,2,   33.73,2,    2.25,2,  2260.6,2,  2376.5,6
740H20090203,       SR01,      30,          1,          5,          5,2,20090214,       0329,   -61.6000,   -66.6698,       4046,  3305.4,   0.5351,  34.7041,2,  34.7035,2,    202.0,   208.7,3,  133.33,2,   33.86,2,    2.26,2,  2261.0,2,  2374.5,6
740H20090203,       SR01,      30,          1,          6,          6,2,20090214,       0329,   -61.6000,   -66.6698,       4046,  3048.5,   0.6072,  34.7058,2,  34.7052,2,    200.2,   207.2,3,  128.68,2,   33.78,2,    2.24,2,  2258.2,2,  2376.0,6
740H20090203,       SR01,      30,          1,          7,          7,2,20090214,       0329,   -61.6000,   -66.6698,       4046,  2796.4,   0.7012,  34.7085,2,  34.7082,2,    198.2,   206.4,3,  126.53,2,   33.81,2,    2.27,2,  -999.0,9,  2371.4,6
740H20090203,       SR01,      30,          1,          8,          8,2,20090214,       0329,   -61.6000,   -66.6698,       4046,  2539.4,   0.8437,  34.7121,2,  34.7120,2,    195.0,   202.9,3,  121.98,2,   34.00,2,    2.26,2,  2256.7,2,  2371.3,6
740H20090203,       SR01,      30,          1,          9,          9,2,20090214,       0329,   -61.6000,   -66.6698,       4046,  2285.2,   0.9771,  34.7166,2,  34.7164,2,    193.0,   200.6,3,  117.47,2,   33.30,2,    2.23,2,  2258.1,2,  -999.0,9
740H20090203,       SR01,      30,          1,         10,         10,2,20090214,       0329,   -61.6000,   -66.6698,       4046,  2030.3,   1.1117,  34.7212,2,  34.7208,2,    190.4,   198.2,3,  112.70,2,   33.12,2,    2.22,2,  2261.0,2,  2376.3,6
740H20090203,       SR01,      30,          1,         11,         11,2,20090214,       0329,   -61.6000,   -66.6698,       4046,  1773.9,   1.2633,  34.7250,2,  34.7244,2,    187.5,   195.4,3,  108.55,2,   33.12,2,    2.22,2,  2257.3,2,  2375.9,6
740H20090203,       SR01,      30,          1,         12,         12,2,20090214,       0329,   -61.6000,   -66.6698,       4046,  1520.4,   1.4378,  34.7287,2,  34.7281,2,    184.2,   192.0,3,  102.98,2,   32.95,2,    2.21,2,  2257.7,2,  2370.7,6
740H20090203,       SR01,      30,          1,         13,         13,2,20090214,       0329,   -61.6000,   -66.6698,       4046,  1266.6,   1.6420,  34.7299,2,  34.7297,2,    180.9,   188.4,3,   96.81,2,   33.31,2,    2.24,2,  2254.6,2,  2369.2,6
740H20090203,       SR01,      30,          1,         14,         14,2,20090214,       0329,   -61.6000,   -66.6698,       4046,  1012.3,   1.8858,  34.7191,2,  34.7189,2,    175.9,   183.7,3,   89.32,2,   33.48,2,    2.23,2,  2255.3,2,  2360.4,6
740H20090203,       SR01,      30,          1,         15,         15,2,20090214,       0329,   -61.6000,   -66.6698,       4046,   885.3,   1.9765,  34.7049,2,  34.7051,2,    172.0,   178.8,3,   86.33,2,   34.06,2,    2.25,2,  2252.1,3,  2360.5,6
740H20090203,       SR01,      30,          1,         16,         16,2,20090214,       0329,   -61.6000,   -66.6698,       4046,   758.9,   2.0406,  34.6837,2,  34.6838,2,    169.0,   175.6,3,   84.62,2,   34.54,2,    2.29,2,  2254.9,2,  2355.3,6
740H20090203,       SR01,      30,          1,         17,         17,2,20090214,       0329,   -61.6000,   -66.6698,       4046,   633.0,   2.0914,  34.6462,2,  34.6475,2,    166.8,   173.6,3,   79.55,2,   34.47,2,    2.27,2,  2255.1,2,  2349.0,6
740H20090203,       SR01,      30,          1,         18,         18,2,20090214,       0329,   -61.6000,   -66.6698,       4046,   506.4,   2.0122,  34.5838,2,  34.5833,2,    167.7,   180.1,3,   76.49,2,   35.37,2,    2.36,2,  2252.5,2,  2345.5,6
740H20090203,       SR01,      30,          1,         19,         19,2,20090214,       0329,   -61.6000,   -66.6698,       4046,   380.4,   1.9868,  34.5228,2,  34.5227,2,    172.8,   212.6,3,   72.22,2,   35.78,2,    2.37,2,  2251.5,2,  2341.0,6
740H20090203,       SR01,      30,          1,         20,         20,2,20090214,       0329,   -61.6000,   -66.6698,       4046,   253.9,   1.3146,  34.3552,2,  34.3588,2,    205.6,   248.5,3,   61.33,2,   35.29,2,    2.37,2,  2236.8,2,  2323.9,6
740H20090203,       SR01,      30,          1,         21,         21,2,20090214,       0329,   -61.6000,   -66.6698,       4046,   178.9,   0.7377,  34.2264,2,  34.2268,2,    240.4,   248.4,3,   51.15,2,   33.95,2,    2.28,2,  2214.5,2,  2314.1,6
740H20090203,       SR01,      30,          1,         22,         22,2,20090214,       0329,   -61.6000,   -66.6698,       4046,   103.4,  -0.7508,  33.9255,2,  33.9251,2,    333.9,  -999.0,9,   30.90,2,   28.02,2,    1.93,2,  2166.9,2,  2294.7,6
740H20090203,       SR01,      30,          1,         23,         23,2,20090214,       0329,   -61.6000,   -66.6698,       4046,    67.6,   0.0791,  33.8739,2,  33.8735,2,    338.6,   348.2,3,   26.75,2,   26.77,2,    1.83,2,  2156.6,2,  2293.7,6
740H20090203,       SR01,      30,          1,         24,         24,2,20090214,       0329,   -61.6000,   -66.6698,       4046,     6.6,   2.6669,  33.8027,2,  33.8019,2,    316.2,   325.2,3,   21.25,2,   25.99,2,    1.71,2,  2147.4,2,  2288.6,6
740H20090203,       SR01,      31,          1,          1,          1,2,20090214,       0846,   -61.8000,   -66.3202,       3838,  3766.6,   0.5641,  34.7038,2,  34.7043,2,    205.1,   209.8,3,  131.99,2,   33.49,2,    2.23,2,  -999.0,9,  -999.0,9
740H20090203,       SR01,      31,          1,          2,          2,2,20090214,       0846,   -61.8000,   -66.3202,       3838,  3715.5,   0.5612,  34.7038,2,  34.7035,2,    204.6,   210.2,3,  132.76,2,   33.50,2,    2.24,2,  -999.0,9,  -999.0,9
740H20090203,       SR01,      31,          1,          3,          3,2,20090214,       0846,   -61.8000,   -66.3202,       3838,  3565.4,   0.5564,  34.7049,2,  34.7047,2,    203.7,   210.8,3,  131.93,2,   33.44,2,    2.23,2,  -999.0,9,  -999.0,9
740H20090203,       SR01,      31,          1,          4,          4,2,20090214,       0846,   -61.8000,   -66.3202,       3838,  3308.4,   0.5389,  34.7043,2,  34.7050,2,    202.9,   210.8,3,  132.36,2,   33.73,2,    2.24,2,  -999.0,9,  -999.0,9
740H20090203,       SR01,      31,          1,          5,          5,2,20090214,       0846,   -61.8000,   -66.3202,       3838,  3050.9,   0.5702,  34.7052,2,  34.7050,2,    202.0,   209.4,3,  130.16,2,   33.70,2,    2.23,2,  -999.0,9,  -999.0,9
740H20090203,       SR01,      31,          1,          6,          6,2,20090214,       0846,   -61.8000,   -66.3202,       3838,  2795.2,   0.6554,  34.7078,2,  34.7077,2,    199.6,   206.9,3,  127.25,2,   33.41,2,    2.22,2,  -999.0,9,  -999.0,9
740H20090203,       SR01,      31,          1,          7,          7,2,20090214,       0846,   -61.8000,   -66.3202,       3838,  2540.1,   0.7801,  34.7108,2,  34.7114,2,    196.8,   205.2,3,  123.39,2,   33.21,2,    2.21,2,  -999.0,9,  -999.0,9
740H20090203,       SR01,      31,          1,          8,          8,2,20090214,       0846,   -61.8000,   -66.3202,       3838,  2283.8,   0.9487,  34.7158,2,  34.7168,2,    194.1,   202.8,3,  118.68,2,   33.35,2,    2.20,2,  -999.0,9,  -999.0,9
740H20090203,       SR01,      31,          1,          9,          9,2,20090214,       0846,   -61.8000,   -66.3202,       3838,  2028.8,   1.0858,  34.7203,2,  34.7196,2,    191.6,   203.0,3,  113.90,2,   33.14,2,    2.19,2,  -999.0,9,  -999.0,9
740H20090203,       SR01,      31,          1,         10,         10,2,20090214,       0846,   -61.8000,   -66.3202,       3838,  1774.1,   1.2559,  34.7244,2,  34.7249,2,    188.0,   196.9,3,  109.01,2,   33.20,2,    2.19,2,  -999.0,9,  -999.0,9
740H20090203,       SR01,      31,          1,         11,         11,2,20090214,       0846,   -61.8000,   -66.3202,       3838,  1519.9,   1.4466,  34.7282,2,  34.7278,2,    184.8,   202.8,3,  101.89,2,   33.18,2,    2.19,2,  -999.0,9,  -999.0,9
740H20090203,       SR01,      31,          1,         12,         12,2,20090214,       0846,   -61.8000,   -66.3202,       3838,  1264.8,   1.6306,  34.7298,2,  34.7292,2,    181.7,   190.1,3,   96.18,2,   32.92,2,    2.17,2,  -999.0,9,  -999.0,9
740H20090203,       SR01,      31,          1,         13,         13,2,20090214,       0846,   -61.8000,   -66.3202,       3838,  1011.2,   1.8699,  34.7193,2,  34.7193,2,    175.8,   186.7,3,   88.85,2,   33.03,2,    2.18,2,  -999.0,9,  -999.0,9
740H20090203,       SR01,      31,          1,         14,         14,2,20090214,       0846,   -61.8000,   -66.3202,       3838,   885.4,   1.9501,  34.7077,2,  34.7082,2,    172.9,   181.2,3,   86.39,2,   33.42,2,    2.21,2,  -999.0,9,  -999.0,9
740H20090203,       SR01,      31,          1,         15,         15,2,20090214,       0846,   -61.8000,   -66.3202,       3838,   758.7,   2.0400,  34.6920,2,  34.6924,2,    170.9,   178.1,3,   83.87,2,   33.70,2,    2.24,2,  -999.0,9,  -999.0,9
740H20090203,       SR01,      31,          1,         16,         16,2,20090214,       0846,   -61.8000,   -66.3202,       3838,   631.4,   2.0932,  34.6689,2,  34.6693,2,    168.4,   176.2,3,   82.37,2,   34.46,2,    2.27,2,  -999.0,9,  -999.0,9
740H20090203,       SR01,      31,          1,         17,         17,2,20090214,       0846,   -61.8000,   -66.3202,       3838,   505.4,   2.1249,  34.6264,2,  34.6267,2,    167.0,   176.8,3,   78.78,2,   35.30,2,    2.31,2,  -999.0,9,  -999.0,9
740H20090203,       SR01,      31,          1,         18,         18,2,20090214,       0846,   -61.8000,   -66.3202,       3838,   378.9,   2.1293,  34.5484,2,  34.5476,2,    168.8,   176.6,3,   73.94,2,   36.11,2,    2.38,2,  -999.0,9,  -999.0,9
740H20090203,       SR01,      31,          1,         19,         19,2,20090214,       0846,   -61.8000,   -66.3202,       3838,   251.2,   1.8454,  34.4182,2,  34.4180,2,    187.4,   195.5,3,   65.34,2,   36.43,2,    2.39,2,  -999.0,9,  -999.0,9
740H20090203,       SR01,      31,          1,         20,         20,2,20090214,       0846,   -61.8000,   -66.3202,       3838,   177.0,   1.2618,  34.2847,2,  34.2822,2,    221.1,   230.5,3,   55.66,2,   35.08,2,    2.34,2,  -999.0,9,  -999.0,9
740H20090203,       SR01,      31,          1,         21,         21,2,20090214,       0846,   -61.8000,   -66.3202,       3838,   101.3,  -0.7950,  34.0204,2,  34.0214,2,    308.5,  -999.0,9,   38.12,2,   30.89,2,    2.10,2,  -999.0,9,  -999.0,9
740H20090203,       SR01,      31,          1,         22,         22,2,20090214,       0846,   -61.8000,   -66.3202,       3838,    76.0,  -0.5670,  33.9146,2,  33.9137,2,    337.2,   348.9,3,   30.02,2,   27.77,2,    1.89,2,  -999.0,9,  -999.0,9
740H20090203,       SR01,      31,          1,         23,         23,2,20090214,       0846,   -61.8000,   -66.3202,       3838,    50.7,   0.5712,  33.8673,2,  33.8698,2,    338.1,   348.6,3,   25.08,2,   26.03,2,    1.76,2,  -999.0,9,  -999.0,9
740H20090203,       SR01,      31,          1,         24,         24,2,20090214,       0846,   -61.8000,   -66.3202,       3838,     4.5,   2.7997,  33.8174,2,  33.8177,2,    315.4,   327.1,3,   24.09,2,   25.55,2,    1.69,2,  -999.0,9,  -999.0,9
740H20090203,       SR01,      32,          1,          1,          1,2,20090214,       1420,   -62.0000,   -65.9502,       3623,  3613.4,   0.5294,  34.7037,2,  34.7025,2,    204.3,   207.8,2,  133.52,2,   33.37,2,    2.24,2,  2263.7,2,  2370.7,6
740H20090203,       SR01,      32,          1,          2,          2,2,20090214,       1420,   -62.0000,   -65.9502,       3623,  3564.6,   0.5383,  34.7049,2,  34.7037,2,    204.1,   205.6,2,  133.15,2,   33.16,2,    2.24,2,  2261.1,2,  2374.1,6
740H20090203,       SR01,      32,          1,          3,          3,2,20090214,       1420,   -62.0000,   -65.9502,       3623,  3307.2,   0.5317,  34.7054,2,  34.7038,2,    202.7,   205.8,2,  133.39,2,   33.18,2,    2.24,2,  2261.2,2,  2373.1,6
740H20090203,       SR01,      32,          1,          4,          4,2,20090214,       1420,   -62.0000,   -65.9502,       3623,  3051.8,   0.5524,  34.7058,2,  34.7044,2,    202.0,   205.3,2,  131.48,2,   33.38,2,    2.24,2,  2261.2,2,  2373.0,6
740H20090203,       SR01,      32,          1,          5,          5,2,20090214,       1420,   -62.0000,   -65.9502,       3623,  2796.5,   0.6427,  34.7076,2,  34.7069,2,    199.8,   202.2,2,  128.15,2,   33.05,2,    2.24,2,  2259.3,2,  2372.3,6
740H20090203,       SR01,      32,          1,          6,          6,2,20090214,       1420,   -62.0000,   -65.9502,       3623,  2540.6,   0.8060,  34.7117,2,  34.7095,2,    196.4,   199.8,2,  122.90,2,   33.24,2,    2.23,2,  2259.2,2,  2371.1,6
740H20090203,       SR01,      32,          1,          7,          7,2,20090214,       1420,   -62.0000,   -65.9502,       3623,  2285.7,   0.9495,  34.7162,2,  34.7147,2,    193.9,   197.2,2,  118.30,2,   32.75,2,    2.22,2,  2257.7,2,  2370.9,6
740H20090203,       SR01,      32,          1,          8,          8,2,20090214,       1420,   -62.0000,   -65.9502,       3623,  2032.2,   1.1262,  34.7214,2,  34.7208,2,    190.5,   194.5,2,  112.46,2,   32.78,2,    2.21,2,  2256.1,2,  2373.5,6
740H20090203,       SR01,      32,          1,          9,          9,2,20090214,       1420,   -62.0000,   -65.9502,       3623,  1777.4,   1.2424,  34.7240,2,  34.7232,2,    188.2,   191.8,2,  109.68,2,   32.79,2,    2.20,2,  2258.4,2,  2373.9,6
740H20090203,       SR01,      32,          1,         10,         10,2,20090214,       1420,   -62.0000,   -65.9502,       3623,  1522.0,   1.4044,  34.7264,2,  34.7262,2,    184.8,   188.8,2,  104.90,2,   32.69,2,    2.21,2,  2257.9,2,  2367.0,6
740H20090203,       SR01,      32,          1,         11,         11,2,20090214,       1420,   -62.0000,   -65.9502,       3623,  1267.6,   1.5859,  34.7300,2,  34.7282,2,    182.8,   186.2,2,   98.78,2,   32.58,2,    2.19,2,  2253.8,3,  2364.8,6
740H20090203,       SR01,      32,          1,         12,         12,2,20090214,       1420,   -62.0000,   -65.9502,       3623,  1013.5,   1.8315,  34.7234,2,  34.7217,2,    177.3,   181.8,2,   91.42,2,   32.58,2,    2.20,2,  2252.1,2,  2358.8,6
740H20090203,       SR01,      32,          1,         13,         13,2,20090214,       1420,   -62.0000,   -65.9502,       3623,   887.6,   1.9324,  34.7108,2,  34.7097,2,    173.3,   177.7,2,   88.05,2,   33.11,2,    2.24,2,  2253.4,3,  2357.8,6
740H20090203,       SR01,      32,          1,         14,         14,9,20090214,       1420,   -62.0000,   -65.9502,       3623,   759.8,   2.0318,  34.6941,2,-999.0000,9,    170.7,  -999.0,9, -999.00,9, -999.00,9, -999.00,9,  -999.0,9,  -999.0,9
740H20090203,       SR01,      32,          1,         15,         15,2,20090214,       1420,   -62.0000,   -65.9502,       3623,   635.3,   2.1015,  34.6570,2,  34.6549,2,    167.5,   170.6,2,   82.30,2,   34.37,2,    2.30,2,  2253.7,2,  2354.0,6
740H20090203,       SR01,      32,          1,         16,         16,2,20090214,       1420,   -62.0000,   -65.9502,       3623,   508.1,   2.1407,  34.6201,2,  34.6195,2,    166.7,   170.1,2,   79.48,2,   35.01,2,    2.33,2,  2253.2,2,  2350.7,6
740H20090203,       SR01,      32,          1,         17,         17,2,20090214,       1420,   -62.0000,   -65.9502,       3623,   379.3,   2.1205,  34.5444,2,  34.5430,2,    169.1,   173.3,2,   75.02,2,   35.88,2,    2.40,2,  2255.2,2,  2344.2,6
740H20090203,       SR01,      32,          1,         18,         18,2,20090214,       1420,   -62.0000,   -65.9502,       3623,   253.0,   1.8420,  34.4139,2,  34.4112,2,    188.1,   191.8,2,   65.30,2,   36.20,2,    2.42,2,  2242.4,2,  2332.7,6
740H20090203,       SR01,      32,          1,         19,         19,2,20090214,       1420,   -62.0000,   -65.9502,       3623,   177.3,   0.9921,  34.2472,2,  34.2457,2,    232.8,   235.6,2,   53.52,2,   34.52,2,    2.33,2,  2215.0,2,  2321.5,6
740H20090203,       SR01,      32,          1,         20,         20,2,20090214,       1420,   -62.0000,   -65.9502,       3623,   125.6,  -0.9279,  33.9898,2,  33.9907,2,    318.1,   320.7,2,   36.57,2,   29.65,2,    2.07,2,  2180.3,2,  2311.1,6
740H20090203,       SR01,      32,          1,         21,         21,2,20090214,       1420,   -62.0000,   -65.9502,       3623,   101.0,  -1.0216,  33.9440,2,  33.9413,2,    330.0,  -999.0,9,   33.07,2,   28.84,2,    2.01,2,  2173.2,2,  -999.0,9
740H20090203,       SR01,      32,          1,         22,         22,2,20090214,       1420,   -62.0000,   -65.9502,       3623,    75.1,  -0.3406,  33.8820,2,  33.8812,2,    340.1,   341.8,2,   27.48,2,   26.81,2,    1.87,2,  2159.9,2,  2296.5,6
740H20090203,       SR01,      32,          1,         23,         23,2,20090214,       1420,   -62.0000,   -65.9502,       3623,    51.1,   0.5326,  33.8516,2,  33.8509,2,    337.9,   319.5,2,   23.66,2,   25.92,2,    1.88,2,  2152.8,2,  2299.3,6
740H20090203,       SR01,      32,          1,         24,         24,2,20090214,       1420,   -62.0000,   -65.9502,       3623,     5.0,   2.7118,  33.7973,2,  33.7974,2,    316.4,   339.5,2,   20.92,2,   25.57,2,    1.70,2,  2145.0,2,  2295.7,6