BOTTLE,20211203CCHSIORKP
EXPOCODE,SECT_ID,STNNBR,CASTNO,SAMPNO,BTLNBR,BTLNBR_FLAG_W,DATE,TIME,LATITUDE,LONGITUDE,DEPTH,CTDPRS,CTDTMP,CTDSAL,CTDSAL_FLAG_W,SALNTY,SALNTY_FLAG_W,CTDOXY,OXYGEN,OXYGEN_FLAG_W,SILCAT,SILCAT_FLAG_W,NITRAT,NITRAT_FLAG_W,PHSPHT,PHSPHT_FLAG_W,TCARBN,TCARBN_FLAG_W,ALKALI,ALKALI_FLAG_W
,,,,,,,,,,,METERS,DBAR,ITS-90,PSS-78,,PSS-78,,UMOL/KG,UMOL/KG,,UMOL/KG,,UMOL/KG,,UMOL/KG,,UMOL/KG,,UMOL/KG,
740H20090203,       SR01,      54,          1,          1,          1,2,20090220,       1200,   -60.7995,   -54.7351,       3504,  2724.4,   0.0689,  34.6652,2,  34.6671,2,    220.4,   221.8,2,  119.04,2,   33.01,2,    2.24,2,  2259.8,2,  2367.7,6
740H20090203,       SR01,      54,          1,          2,          2,2,20090220,       1200,   -60.7995,   -54.7351,       3504,  2674.7,   0.0770,  34.6658,2,  34.6657,2,    219.9,   219.9,2,  119.35,2,   33.00,2,    2.24,2,  2261.3,2,  2367.6,6
740H20090203,       SR01,      54,          1,          3,          3,2,20090220,       1200,   -60.7995,   -54.7351,       3504,  2539.9,   0.1014,  34.6679,2,  34.6676,2,    218.4,   217.9,2,  119.73,2,   33.45,2,    2.24,2,  2260.6,2,  2368.7,6
740H20090203,       SR01,      54,          1,          4,          4,2,20090220,       1200,   -60.7995,   -54.7351,       3504,  2285.2,   0.1701,  34.6720,2,  34.6706,2,    215.5,   217.9,2,  120.82,2,   33.54,2,    2.24,2,  2258.3,2,  -999.0,9
740H20090203,       SR01,      54,          1,          5,          5,2,20090220,       1200,   -60.7995,   -54.7351,       3504,  2030.5,   0.3338,  34.6847,2,  34.6843,2,    209.2,   210.5,2,  123.86,2,   33.06,2,    2.23,2,  2261.3,2,  -999.0,9
740H20090203,       SR01,      54,          1,          6,          6,2,20090220,       1200,   -60.7995,   -54.7351,       3504,  1774.9,   0.4495,  34.6891,2,  34.6894,2,    206.0,   207.3,2,  122.27,2,   32.95,2,    2.23,2,  2262.4,2,  2371.4,6
740H20090203,       SR01,      54,          1,          7,          7,2,20090220,       1200,   -60.7995,   -54.7351,       3504,  1520.6,   0.6556,  34.7004,2,  34.6999,2,    200.5,   202.9,2,  120.69,2,   32.82,2,    2.22,2,  2265.3,2,  2373.9,6
740H20090203,       SR01,      54,          1,          8,          8,9,20090220,       1200,   -60.7995,   -54.7351,       3504,  1519.8,   0.6555,  34.7004,2,-999.0000,9,    200.4,  -999.0,9, -999.00,9, -999.00,9, -999.00,9,  -999.0,9,  -999.0,9
740H20090203,       SR01,      54,          1,          9,          9,2,20090220,       1200,   -60.7995,   -54.7351,       3504,  1266.1,   0.8319,  34.7000,2,  34.6929,2,    199.1,   202.8,2,  113.00,2,   32.13,4,    2.19,2,  2263.0,2,  2370.9,6
740H20090203,       SR01,      54,          1,         10,         10,2,20090220,       1200,   -60.7995,   -54.7351,       3504,  1011.1,   0.9621,  34.6916,2,  34.6975,2,    199.7,   202.5,2,  104.74,2,   32.62,2,    2.19,2,  2260.4,2,  2366.7,6
740H20090203,       SR01,      54,          1,         11,         11,9,20090220,       1200,   -60.7995,   -54.7351,       3504,  1012.2,   0.9595,  34.6918,2,-999.0000,9,    199.8,  -999.0,9, -999.00,9, -999.00,9, -999.00,9,  -999.0,9,  -999.0,9
740H20090203,       SR01,      54,          1,         12,         12,2,20090220,       1200,   -60.7995,   -54.7351,       3504,   884.8,   1.2060,  34.7083,2,  34.7094,2,    192.5,   195.9,2,  103.43,2,   32.52,2,    2.19,2,  2259.7,2,  -999.0,9
740H20090203,       SR01,      54,          1,         13,         13,2,20090220,       1200,   -60.7995,   -54.7351,       3504,   758.1,   1.3100,  34.7112,2,  34.7103,2,    189.9,   191.9,2,  101.08,2,   32.57,2,    2.18,2,  2262.1,2,  2370.7,6
740H20090203,       SR01,      54,          1,         14,         14,2,20090220,       1200,   -60.7995,   -54.7351,       3504,   632.3,   1.3647,  34.6959,2,  34.6946,2,    191.3,   193.0,2,   95.44,2,   32.61,2,    2.19,2,  -999.0,9,  2369.8,6
740H20090203,       SR01,      54,          1,         15,         15,2,20090220,       1200,   -60.7995,   -54.7351,       3504,   504.8,   1.4390,  34.6830,2,  34.6839,2,    190.2,   193.2,2,   91.49,2,   32.72,2,    2.20,2,  2258.0,2,  2361.6,6
740H20090203,       SR01,      54,          1,         16,         16,9,20090220,       1200,   -60.7995,   -54.7351,       3504,   505.9,   1.4402,  34.6834,2,-999.0000,9,    190.2,  -999.0,9, -999.00,9, -999.00,9, -999.00,9,  -999.0,9,  -999.0,9
740H20090203,       SR01,      54,          1,         17,         17,2,20090220,       1200,   -60.7995,   -54.7351,       3504,   379.3,   1.1814,  34.6179,2,  34.6203,2,    203.6,   203.4,2,   87.25,2,   32.90,2,    2.22,2,  2259.2,2,  2356.5,6
740H20090203,       SR01,      54,          1,         18,         18,2,20090220,       1200,   -60.7995,   -54.7351,       3504,   253.1,   1.4512,  34.5842,2,  34.5833,2,    195.1,   196.4,2,   82.98,2,   34.03,2,    2.28,2,  2255.3,2,  2353.6,6
740H20090203,       SR01,      54,          1,         19,         19,2,20090220,       1200,   -60.7995,   -54.7351,       3504,   177.6,   1.1087,  34.4843,2,  34.4817,2,    209.1,   210.4,2,   78.70,2,   33.97,2,    2.29,2,  2245.6,2,  2344.7,6
740H20090203,       SR01,      54,          1,         20,         20,9,20090220,       1200,   -60.7995,   -54.7351,       3504,   177.7,   1.1053,  34.4835,2,-999.0000,9,    209.1,  -999.0,9, -999.00,9, -999.00,9, -999.00,9,  -999.0,9,  -999.0,9
740H20090203,       SR01,      54,          1,         21,         21,2,20090220,       1200,   -60.7995,   -54.7351,       3504,   102.4,   0.5331,  34.3143,2,  34.3135,2,    233.9,   234.7,2,   65.32,2,   33.33,2,    2.27,2,  2214.0,2,  2329.0,6
740H20090203,       SR01,      54,          1,         22,         22,9,20090220,       1200,   -60.7995,   -54.7351,       3504,    51.5,   0.6796,  34.0820,2,-999.0000,9,    307.7,  -999.0,9, -999.00,9, -999.00,9, -999.00,9,  -999.0,9,  -999.0,9
740H20090203,       SR01,      54,          1,         23,         23,2,20090220,       1200,   -60.7995,   -54.7351,       3504,    51.6,   0.7586,  34.0767,2,  34.0772,2,    308.6,   309.2,2,   52.79,2,   27.15,2,    1.90,2,  2182.3,2,  2318.0,6
740H20090203,       SR01,      54,          1,         24,         24,2,20090220,       1200,   -60.7995,   -54.7351,       3504,     6.1,   1.9085,  34.0052,2,  34.0051,2,    319.6,   320.2,2,   48.58,2,   25.49,2,    1.73,2,  2161.9,2,  2312.6,6
740H20090203,       SR01,      55,          1,          1,          1,9,20090220,       1608,   -60.6700,   -54.8085,       3504,  3147.8,   0.0073,  34.6605,2,-999.0000,9,    223.6,  -999.0,9, -999.00,9, -999.00,9, -999.00,9,  -999.0,9,  -999.0,9
740H20090203,       SR01,      55,          1,          2,          2,2,20090220,       1608,   -60.6700,   -54.8085,       3504,  3148.3,   0.0051,  34.6604,2,  34.6610,2,    223.8,   226.0,2,  116.39,2,   33.37,2,    2.22,2,  -999.0,9,  -999.0,9
740H20090203,       SR01,      55,          1,          3,          3,2,20090220,       1608,   -60.6700,   -54.8085,       3504,  3050.4,   0.0522,  34.6631,2,  34.6613,2,    221.5,   222.7,2,  116.42,2,   33.20,2,    2.22,2,  -999.0,9,  -999.0,9
740H20090203,       SR01,      55,          1,          4,          4,2,20090220,       1608,   -60.6700,   -54.8085,       3504,  2793.0,   0.1142,  34.6676,2,  34.6671,2,    218.4,   219.4,2,  116.90,2,   33.26,2,    2.22,2,  -999.0,9,  -999.0,9
740H20090203,       SR01,      55,          1,          5,          5,2,20090220,       1608,   -60.6700,   -54.8085,       3504,  2537.4,   0.3006,  34.6796,2,  34.6793,2,    211.6,   213.9,2,  119.39,2,   33.15,2,    2.21,2,  -999.0,9,  -999.0,9
740H20090203,       SR01,      55,          1,          6,          6,2,20090220,       1608,   -60.6700,   -54.8085,       3504,  2282.3,   0.5067,  34.6947,2,  34.6942,2,    204.4,   206.1,2,  122.54,2,   35.54,4,    2.22,2,  -999.0,9,  -999.0,9
740H20090203,       SR01,      55,          1,          7,          7,2,20090220,       1608,   -60.6700,   -54.8085,       3504,  2029.0,   0.6275,  34.6979,2,  34.6982,2,    201.7,   204.1,2,  119.75,2,   33.07,2,    2.20,2,  -999.0,9,  -999.0,9
740H20090203,       SR01,      55,          1,          8,          8,2,20090220,       1608,   -60.6700,   -54.8085,       3504,  1775.5,   0.7797,  34.7039,2,  34.7053,2,    198.3,   201.7,2,  116.33,2,   33.60,4,    2.20,2,  -999.0,9,  -999.0,9
740H20090203,       SR01,      55,          1,          9,          9,2,20090220,       1608,   -60.6700,   -54.8085,       3504,  1520.5,   0.9555,  34.7121,2,  34.7122,2,    194.2,   195.8,2,  112.43,2,   32.90,2,    2.19,2,  -999.0,9,  -999.0,9
740H20090203,       SR01,      55,          1,         10,         10,2,20090220,       1608,   -60.6700,   -54.8085,       3504,  1266.3,   1.1039,  34.7124,2,  34.7126,2,    191.9,   195.3,2,  107.26,2,   32.91,2,    2.18,2,  -999.0,9,  -999.0,9
740H20090203,       SR01,      55,          1,         11,         11,2,20090220,       1608,   -60.6700,   -54.8085,       3504,  1012.1,   1.3754,  34.7197,2,  34.7200,2,    186.4,   189.6,2,  101.22,2,   32.56,2,    2.17,2,  -999.0,9,  -999.0,9
740H20090203,       SR01,      55,          1,         12,         12,2,20090220,       1608,   -60.6700,   -54.8085,       3504,   885.7,   1.4666,  34.7148,2,  34.7153,2,    184.2,   187.1,2,   98.70,2,   32.99,4,    2.18,2,  -999.0,9,  -999.0,9
740H20090203,       SR01,      55,          1,         13,         13,2,20090220,       1608,   -60.6700,   -54.8085,       3504,   758.7,   1.5979,  34.7132,2,  34.7144,2,    182.7,   185.8,2,   93.92,2,   32.62,2,    2.17,2,  -999.0,9,  -999.0,9
740H20090203,       SR01,      55,          1,         14,         14,2,20090220,       1608,   -60.6700,   -54.8085,       3504,   632.0,   1.7283,  34.7056,2,  34.7056,2,    179.9,   182.4,2,   89.08,2,   32.87,2,    2.19,2,  -999.0,9,  -999.0,9
740H20090203,       SR01,      55,          1,         15,         15,2,20090220,       1608,   -60.6700,   -54.8085,       3504,   505.6,   1.9437,  34.6920,2,  34.6912,2,    170.6,   172.8,2,   85.65,2,   33.68,2,    2.23,2,  -999.0,9,  -999.0,9
740H20090203,       SR01,      55,          1,         16,         16,2,20090220,       1608,   -60.6700,   -54.8085,       3504,   379.4,   1.9451,  34.6475,2,  34.6503,2,    171.1,   174.0,2,   81.72,2,   34.42,2,    2.26,2,  -999.0,9,  -999.0,9
740H20090203,       SR01,      55,          1,         17,         17,2,20090220,       1608,   -60.6700,   -54.8085,       3504,   252.9,   1.9090,  34.5781,2,  34.5777,2,    171.7,   174.4,2,   77.64,2,   35.45,2,    2.32,2,  -999.0,9,  -999.0,9
740H20090203,       SR01,      55,          1,         18,         18,2,20090220,       1608,   -60.6700,   -54.8085,       3504,   178.1,   1.0046,  34.4345,2,  34.4331,2,    214.9,   215.4,2,   73.14,2,   34.55,2,    2.27,2,  -999.0,9,  -999.0,9
740H20090203,       SR01,      55,          1,         19,         19,9,20090220,       1608,   -60.6700,   -54.8085,       3504,   177.6,   1.0053,  34.4344,2,-999.0000,9,    214.8,  -999.0,9, -999.00,9, -999.00,9, -999.00,9,  -999.0,9,  -999.0,9
740H20090203,       SR01,      55,          1,         20,         20,2,20090220,       1608,   -60.6700,   -54.8085,       3504,   102.5,  -0.0415,  34.1582,2,  34.1591,2,    279.4,   280.5,2,   52.86,2,   30.48,2,    2.12,2,  -999.0,9,  -999.0,9
740H20090203,       SR01,      55,          1,         21,         21,9,20090220,       1608,   -60.6700,   -54.8085,       3504,   102.8,  -0.0428,  34.1594,2,-999.0000,9,    278.6,  -999.0,9, -999.00,9, -999.00,9, -999.00,9,  -999.0,9,  -999.0,9
740H20090203,       SR01,      55,          1,         22,         22,2,20090220,       1608,   -60.6700,   -54.8085,       3504,    51.2,   2.1027,  33.9341,2,  33.9344,2,    318.0,   321.1,2,   38.04,2,   24.96,2,    1.67,2,  -999.0,9,  -999.0,9
740H20090203,       SR01,      55,          1,         23,         23,9,20090220,       1608,   -60.6700,   -54.8085,       3504,    51.5,   2.1111,  33.9334,2,-999.0000,9,    317.6,  -999.0,9, -999.00,9, -999.00,9, -999.00,9,  -999.0,9,  -999.0,9
740H20090203,       SR01,      55,          1,         24,         24,2,20090220,       1608,   -60.6700,   -54.8085,       3504,     5.9,   2.4079,  33.9212,2,  33.9215,2,    317.1,   318.5,2,   36.63,2,   24.75,2,    1.65,2,  -999.0,9,  -999.0,9
740H20090203,       SR01,      56,          1,          1,          1,2,20090220,       2148,   -60.3334,   -55.0313,       3676,  3488.3,   0.0381,  34.6605,2,-999.0000,9,    223.0,  -999.0,9,  115.73,2,   33.23,2,    2.23,2,  -999.0,9,  -999.0,9
740H20090203,       SR01,      56,          1,          2,          2,2,20090220,       2148,   -60.3334,   -55.0313,       3676,  3488.3,   0.0378,  34.6605,2,  34.6623,2,    223.5,   223.8,2,  115.18,2,   33.10,2,    2.23,2,  2255.7,3,  2372.4,6
740H20090203,       SR01,      56,          1,          3,          3,2,20090220,       2148,   -60.3334,   -55.0313,       3676,  3437.7,   0.0394,  34.6609,2,  34.6623,2,    222.8,   228.2,2,  114.90,2,   33.13,2,    2.22,2,  2258.6,2,  2375.5,6
740H20090203,       SR01,      56,          1,          4,          4,2,20090220,       2148,   -60.3334,   -55.0313,       3676,  3308.8,   0.0708,  34.6628,2,  34.6617,2,    221.2,   226.6,3,  114.51,2,   33.20,2,    2.22,2,  2257.8,3,  2374.8,6
740H20090203,       SR01,      56,          1,          5,          5,2,20090220,       2148,   -60.3334,   -55.0313,       3676,  3051.3,   0.1461,  34.6680,2,  34.6686,2,    217.2,   219.2,2,  114.66,2,   33.15,2,    2.21,2,  2259.5,3,  2376.1,6
740H20090203,       SR01,      56,          1,          6,          6,2,20090220,       2148,   -60.3334,   -55.0313,       3676,  2793.7,   0.2860,  34.6779,2,  34.6789,2,    211.9,   213.6,2,  116.36,2,   33.01,2,    2.21,2,  2259.2,3,  2375.9,6
740H20090203,       SR01,      56,          1,          7,          7,2,20090220,       2148,   -60.3334,   -55.0313,       3676,  2538.1,   0.4415,  34.6844,2,  34.6898,2,    207.4,   209.7,2,  115.27,2,   32.90,2,    2.20,2,  2260.5,3,  2377.1,6
740H20090203,       SR01,      56,          1,          8,          8,2,20090220,       2148,   -60.3334,   -55.0313,       3676,  2281.2,   0.6732,  34.7022,2,  34.7033,2,    200.0,   202.1,2,  116.90,2,   32.72,2,    2.20,2,  2260.3,3,  2376.9,6
740H20090203,       SR01,      56,          1,          9,          9,2,20090220,       2148,   -60.3334,   -55.0313,       3676,  2026.0,   0.7953,  34.7076,2,  34.7093,2,    196.9,   201.4,2,  115.94,2,   32.89,2,    2.19,2,  2261.1,3,  2376.7,6
740H20090203,       SR01,      56,          1,         10,         10,2,20090220,       2148,   -60.3334,   -55.0313,       3676,  1771.1,   0.9140,  34.7100,2,  34.7114,2,    194.8,   199.1,2,  111.45,2,   32.78,2,    2.18,2,  2261.5,3,  2376.5,6
740H20090203,       SR01,      56,          1,         11,         11,2,20090220,       2148,   -60.3334,   -55.0313,       3676,  1517.4,   1.1074,  34.7177,2,  34.7191,2,    190.5,   203.4,2,  107.60,2,   32.58,2,    2.18,2,  2259.9,3,  2375.7,6
740H20090203,       SR01,      56,          1,         12,         12,2,20090220,       2148,   -60.3334,   -55.0313,       3676,  1263.5,   1.3103,  34.7197,2,  34.7214,2,    186.7,   199.7,3,  101.23,2,   32.44,2,    2.17,2,  2259.4,3,  2381.2,6
740H20090203,       SR01,      56,          1,         13,         13,2,20090220,       2148,   -60.3334,   -55.0313,       3676,  1010.0,   1.5257,  34.7176,2,  34.7193,2,    183.6,   189.0,2,   94.42,2,   32.74,2,    2.17,2,  2258.0,3,  2372.6,6
740H20090203,       SR01,      56,          1,         14,         14,2,20090220,       2148,   -60.3334,   -55.0313,       3676,   883.3,   1.5247,  34.6994,2,  34.7008,2,    185.7,   189.2,2,   90.05,2,   32.69,2,    2.17,2,  2256.7,3,  2366.1,6
740H20090203,       SR01,      56,          1,         15,         15,2,20090220,       2148,   -60.3334,   -55.0313,       3676,   756.3,   1.6700,  34.6880,2,  34.6904,2,    182.1,   184.9,2,   85.63,2,   32.83,2,    2.18,2,  2253.5,3,  2363.3,6
740H20090203,       SR01,      56,          1,         16,         16,2,20090220,       2148,   -60.3334,   -55.0313,       3676,   629.4,   1.9401,  34.6886,2,  34.6894,2,    173.5,   177.7,2,   83.23,2,   33.38,2,    2.21,2,  2256.1,2,  2364.2,6
740H20090203,       SR01,      56,          1,         17,         17,2,20090220,       2148,   -60.3334,   -55.0313,       3676,   503.6,   1.7408,  34.6161,2,  34.6173,2,    180.5,   183.7,2,   78.87,2,   33.96,2,    2.26,2,  2253.4,2,  2356.7,6
740H20090203,       SR01,      56,          1,         18,         18,2,20090220,       2148,   -60.3334,   -55.0313,       3676,   377.3,   2.0524,  34.5870,2,  34.5928,2,    168.6,   171.5,2,   75.53,2,   34.92,2,    2.32,2,  2258.6,3,  2352.4,6
740H20090203,       SR01,      56,          1,         19,         19,2,20090220,       2148,   -60.3334,   -55.0313,       3676,   250.5,   2.0475,  34.4954,2,  34.4989,2,    173.8,   176.3,2,   68.96,2,   35.62,2,    2.37,2,  2253.8,2,  2344.7,6
740H20090203,       SR01,      56,          1,         20,         20,2,20090220,       2148,   -60.3334,   -55.0313,       3676,   174.8,   1.6343,  34.3698,2,  34.3710,2,    198.6,   202.2,3,   60.53,2,   35.43,2,    2.35,2,  2239.3,2,  2335.2,6
740H20090203,       SR01,      56,          1,         21,         21,2,20090220,       2148,   -60.3334,   -55.0313,       3676,    99.5,  -0.1199,  34.0606,2,  34.0733,2,    287.6,   286.1,2,   40.99,2,   31.66,2,    2.11,2,  2197.2,2,  2313.1,6
740H20090203,       SR01,      56,          1,         22,         22,9,20090220,       2148,   -60.3334,   -55.0313,       3676,    99.5,  -0.1187,  34.0624,2,-999.0000,9,    287.2,  -999.0,9, -999.00,9, -999.00,9, -999.00,9,  -999.0,9,  -999.0,9
740H20090203,       SR01,      56,          1,         23,         23,2,20090220,       2148,   -60.3334,   -55.0313,       3676,    48.0,   2.1460,  33.9103,2,  33.9122,2,    314.8,   316.8,2,   30.62,2,   25.86,2,    1.70,2,  2162.0,2,  2303.7,6
740H20090203,       SR01,      56,          1,         24,         24,2,20090220,       2148,   -60.3334,   -55.0313,       3676,     3.7,   2.3108,  33.9111,2,  33.9158,2,    315.4,   316.6,2,   30.79,2,   25.95,2,    1.70,2,  2158.0,2,  2308.1,6