BOTTLE,20211203CCHSIORKP
EXPOCODE,SECT_ID,STNNBR,CASTNO,SAMPNO,BTLNBR,BTLNBR_FLAG_W,DATE,TIME,LATITUDE,LONGITUDE,DEPTH,CTDPRS,CTDTMP,CTDSAL,CTDSAL_FLAG_W,SALNTY,SALNTY_FLAG_W,CTDOXY,OXYGEN,OXYGEN_FLAG_W,SILCAT,SILCAT_FLAG_W,NITRAT,NITRAT_FLAG_W,PHSPHT,PHSPHT_FLAG_W,TCARBN,TCARBN_FLAG_W,ALKALI,ALKALI_FLAG_W
,,,,,,,,,,,METERS,DBAR,ITS-90,PSS-78,,PSS-78,,UMOL/KG,UMOL/KG,,UMOL/KG,,UMOL/KG,,UMOL/KG,,UMOL/KG,,UMOL/KG,
740H20090203,       SR01,      84,          1,          1,          1,9,20090227,       0018,   -52.9290,   -58.0001,        508,   498.5,   4.5490,  34.1305,2,-999.0000,9,    267.5,  -999.0,9, -999.00,9, -999.00,9, -999.00,9,  -999.0,9,  -999.0,9
740H20090203,       SR01,      84,          1,          2,          2,2,20090227,       0018,   -52.9290,   -58.0001,        508,   498.2,   4.5518,  34.1303,2,  34.1308,2,    267.5,   268.6,2,   14.90,2,   25.27,2,    1.74,2,  -999.0,9,  -999.0,9
740H20090203,       SR01,      84,          1,          5,          5,2,20090227,       0018,   -52.9290,   -58.0001,        508,   447.0,   4.5831,  34.1274,2,  34.1284,2,    268.8,   270.1,2,   13.98,2,   25.14,2,    1.72,2,  -999.0,9,  -999.0,9
740H20090203,       SR01,      84,          1,          8,          8,2,20090227,       0018,   -52.9290,   -58.0001,        508,   378.8,   4.6489,  34.1212,2,  34.1224,2,    268.1,   269.4,2,   13.55,2,   25.28,2,    1.71,2,  -999.0,9,  -999.0,9
740H20090203,       SR01,      84,          1,         11,         11,2,20090227,       0018,   -52.9290,   -58.0001,        508,   252.2,   4.8226,  34.1053,2,  34.1057,2,    269.4,   270.4,2,   12.95,2,   24.67,2,    1.68,2,  -999.0,9,  -999.0,9
740H20090203,       SR01,      84,          1,         12,         12,2,20090227,       0018,   -52.9290,   -58.0001,        508,   177.1,   5.3036,  34.1088,2,  34.1092,2,    280.2,   283.9,2,    9.14,2,   23.30,2,    1.57,2,  -999.0,9,  -999.0,9
740H20090203,       SR01,      84,          1,         13,         13,2,20090227,       0018,   -52.9290,   -58.0001,        508,   101.9,   6.2898,  34.0822,2,  34.0830,2,    280.4,   282.8,2,    4.83,2,   20.03,2,    1.46,2,  -999.0,9,  -999.0,9
740H20090203,       SR01,      84,          1,         20,         20,2,20090227,       0018,   -52.9290,   -58.0001,        508,    50.0,   8.4140,  34.0230,2,  34.0235,2,    280.3,   283.0,2,    3.14,2,   16.72,2,    1.20,2,  -999.0,9,  -999.0,9
740H20090203,       SR01,      84,          1,         23,         23,9,20090227,       0018,   -52.9290,   -58.0001,        508,     5.1,   8.5533,  34.0220,2,-999.0000,9,    282.0,  -999.0,9, -999.00,9, -999.00,9, -999.00,9,  -999.0,9,  -999.0,9
740H20090203,       SR01,      84,          1,         24,         24,2,20090227,       0018,   -52.9290,   -58.0001,        508,     5.4,   8.5554,  34.0218,2,  34.0216,2,    281.8,   284.6,2,    3.05,2,   16.67,2,    1.17,2,  -999.0,9,  -999.0,9