BOTTLE,20211203CCHSIORKP
EXPOCODE,SECT_ID,STNNBR,CASTNO,SAMPNO,BTLNBR,BTLNBR_FLAG_W,DATE,TIME,LATITUDE,LONGITUDE,DEPTH,CTDPRS,CTDTMP,CTDSAL,CTDSAL_FLAG_W,SALNTY,SALNTY_FLAG_W,CTDOXY,OXYGEN,OXYGEN_FLAG_W,SILCAT,SILCAT_FLAG_W,NITRAT,NITRAT_FLAG_W,PHSPHT,PHSPHT_FLAG_W,TCARBN,TCARBN_FLAG_W,ALKALI,ALKALI_FLAG_W
,,,,,,,,,,,METERS,DBAR,ITS-90,PSS-78,,PSS-78,,UMOL/KG,UMOL/KG,,UMOL/KG,,UMOL/KG,,UMOL/KG,,UMOL/KG,,UMOL/KG,
740H20090203,       SR01,       4,          1,          1,          1,2,20090206,       0731,   -56.8501,   -68.2100,        538,   528.3,   4.8061,  34.1666,2,  34.1697,2,    277.2,   279.3,2,   11.37,2,   24.61,2,    1.64,2,  2141.0,2,  2276.0,6
740H20090203,       SR01,       4,          1,          2,          2,2,20090206,       0731,   -56.8501,   -68.2100,        538,   506.7,   4.8421,  34.1663,2,  34.1122,3,    277.7,   280.1,2,    7.42,4,   22.04,4,    1.50,4,  -999.0,9,  2277.3,6
740H20090203,       SR01,       4,          1,          3,          3,9,20090206,       0731,   -56.8501,   -68.2100,        538,   506.2,   4.8465,  34.1664,2,-999.0000,9,    277.6,  -999.0,9, -999.00,9, -999.00,9, -999.00,9,  -999.0,9,  -999.0,9
740H20090203,       SR01,       4,          1,          4,          4,2,20090206,       0731,   -56.8501,   -68.2100,        538,   376.3,   5.0311,  34.1582,2,  34.1604,2,    279.5,   280.3,2,    8.85,2,   23.56,2,    1.57,2,  2134.5,2,  -999.0,9
740H20090203,       SR01,       4,          1,          5,          5,9,20090206,       0731,   -56.8501,   -68.2100,        538,   376.0,   5.0319,  34.1583,2,-999.0000,9,    279.2,  -999.0,9, -999.00,9, -999.00,9, -999.00,9,  -999.0,9,  -999.0,9
740H20090203,       SR01,       4,          1,          6,          6,2,20090206,       0731,   -56.8501,   -68.2100,        538,   253.4,   5.2589,  34.1263,2,  34.1290,2,    277.8,   277.5,2,    8.10,2,   23.28,2,    1.57,2,  2132.6,2,  2276.9,6
740H20090203,       SR01,       4,          1,          7,          7,9,20090206,       0731,   -56.8501,   -68.2100,        538,   252.7,   5.2630,  34.1253,2,-999.0000,9,    277.5,  -999.0,9, -999.00,9, -999.00,9, -999.00,9,  -999.0,9,  -999.0,9
740H20090203,       SR01,       4,          1,          8,          8,2,20090206,       0731,   -56.8501,   -68.2100,        538,   178.3,   5.4756,  34.0995,2,  34.1008,2,    277.4,   276.6,2,    7.66,2,   23.20,2,    1.58,2,  2130.0,2,  2271.2,6
740H20090203,       SR01,       4,          1,          9,          9,9,20090206,       0731,   -56.8501,   -68.2100,        538,   178.1,   5.4791,  34.0992,2,-999.0000,9,    277.3,  -999.0,9, -999.00,9, -999.00,9, -999.00,9,  -999.0,9,  -999.0,9
740H20090203,       SR01,       4,          1,         10,         10,2,20090206,       0731,   -56.8501,   -68.2100,        538,   101.4,   6.4900,  34.0785,2,  34.0787,2,    283.2,   282.9,2,    3.13,2,   19.61,2,    1.41,2,  2111.9,2,  2270.8,6
740H20090203,       SR01,       4,          1,         11,         11,9,20090206,       0731,   -56.8501,   -68.2100,        538,   101.0,   6.4882,  34.0776,2,-999.0000,9,    282.8,  -999.0,9, -999.00,9, -999.00,9, -999.00,9,  -999.0,9,  -999.0,9
740H20090203,       SR01,       4,          1,         12,         12,9,20090206,       0731,   -56.8501,   -68.2100,        538,   100.9,   6.4895,  34.0780,2,-999.0000,9,    282.9,  -999.0,9, -999.00,9, -999.00,9, -999.00,9,  -999.0,9,  -999.0,9
740H20090203,       SR01,       4,          1,         13,         13,2,20090206,       0731,   -56.8501,   -68.2100,        538,    76.4,   6.8143,  34.0445,2,  34.0471,2,    284.8,   284.7,2,    2.02,2,   18.37,2,    1.33,2,  2104.3,2,  -999.0,9
740H20090203,       SR01,       4,          1,         14,         14,9,20090206,       0731,   -56.8501,   -68.2100,        538,    76.5,   6.8178,  34.0442,2,-999.0000,9,    285.3,  -999.0,9, -999.00,9, -999.00,9, -999.00,9,  -999.0,9,  -999.0,9
740H20090203,       SR01,       4,          1,         15,         15,9,20090206,       0731,   -56.8501,   -68.2100,        538,    76.4,   6.8165,  34.0441,2,-999.0000,9,    284.8,  -999.0,9, -999.00,9, -999.00,9, -999.00,9,  -999.0,9,  -999.0,9
740H20090203,       SR01,       4,          1,         16,         16,2,20090206,       0731,   -56.8501,   -68.2100,        538,    75.7,   6.8139,  34.0443,2,  34.0459,2,    284.9,   285.3,2,    1.91,2,   18.32,2,    1.33,2,  2099.8,2,  2273.3,6
740H20090203,       SR01,       4,          1,         17,         17,9,20090206,       0731,   -56.8501,   -68.2100,        538,    51.3,   7.0120,  34.0177,2,-999.0000,9,    287.4,  -999.0,9, -999.00,9, -999.00,9, -999.00,9,  -999.0,9,  -999.0,9
740H20090203,       SR01,       4,          1,         18,         18,9,20090206,       0731,   -56.8501,   -68.2100,        538,    50.9,   7.0129,  34.0178,2,-999.0000,9,    287.8,  -999.0,9, -999.00,9, -999.00,9, -999.00,9,  -999.0,9,  -999.0,9
740H20090203,       SR01,       4,          1,         19,         19,2,20090206,       0731,   -56.8501,   -68.2100,        538,    25.6,   7.3212,  33.9708,2,  34.0190,2,    287.3,   287.3,2,    1.57,2,   17.83,2,    1.28,2,  2097.6,2,  2276.3,6
740H20090203,       SR01,       4,          1,         20,         20,9,20090206,       0731,   -56.8501,   -68.2100,        538,    25.0,   7.3078,  33.9714,2,-999.0000,9,    287.4,  -999.0,9, -999.00,9, -999.00,9, -999.00,9,  -999.0,9,  -999.0,9
740H20090203,       SR01,       4,          1,         21,         21,9,20090206,       0731,   -56.8501,   -68.2100,        538,    25.2,   7.3225,  33.9710,2,-999.0000,9,    287.3,  -999.0,9, -999.00,9, -999.00,9, -999.00,9,  -999.0,9,  -999.0,9
740H20090203,       SR01,       4,          1,         22,         22,2,20090206,       0731,   -56.8501,   -68.2100,        538,     6.0,   7.3298,  33.9707,2,  33.9715,2,    287.6,   287.9,2,    1.37,2,   17.42,2,    1.23,2,  2093.1,2,  2265.1,6
740H20090203,       SR01,       4,          1,         23,         23,9,20090206,       0731,   -56.8501,   -68.2100,        538,     6.0,   7.3273,  33.9708,2,-999.0000,9,    287.4,  -999.0,9, -999.00,9, -999.00,9, -999.00,9,  -999.0,9,  -999.0,9
740H20090203,       SR01,       4,          1,         24,         24,9,20090206,       0731,   -56.8501,   -68.2100,        538,     6.4,   7.3254,  33.9709,2,-999.0000,9,    287.4,  -999.0,9, -999.00,9, -999.00,9, -999.00,9,  -999.0,9,  -999.0,9
740H20090203,       SR01,       5,          1,          1,          1,2,20090206,       1016,   -56.8800,   -68.2300,       1339,  1328.7,   2.8703,  34.4612,2,  34.4617,2,    167.8,   166.4,2,   64.49,2,   36.58,2,    2.57,4,  2244.5,2,  2331.6,6
740H20090203,       SR01,       5,          1,          2,          2,2,20090206,       1016,   -56.8800,   -68.2300,       1339,  1277.8,   2.9491,  34.4364,2,  34.4366,2,    172.4,   171.8,2,   60.49,2,   35.72,2,    2.37,2,  2241.9,2,  2324.5,6
740H20090203,       SR01,       5,          1,          3,          3,2,20090206,       1016,   -56.8800,   -68.2300,       1339,  1013.3,   3.4358,  34.3332,2,  34.3409,2,    194.9,   194.8,2,   43.39,2,   33.73,2,    2.24,2,  2207.0,2,  2311.9,6
740H20090203,       SR01,       5,          1,          4,          4,2,20090206,       1016,   -56.8800,   -68.2300,       1339,   885.9,   3.8545,  34.2792,2,  34.2900,2,    209.0,   209.5,2,   33.16,2,   32.92,2,    2.31,4,  2193.0,2,  2297.7,6
740H20090203,       SR01,       5,          1,          5,          5,2,20090206,       1016,   -56.8800,   -68.2300,       1339,   759.6,   4.2981,  34.1938,2,  34.1967,2,    247.5,   248.9,2,   19.29,2,   28.12,2,    1.90,2,  2163.4,2,  -999.0,9
740H20090203,       SR01,       5,          1,          6,          6,2,20090206,       1016,   -56.8800,   -68.2300,       1339,   632.7,   4.6910,  34.1724,2,  34.1751,2,    271.1,   272.6,2,   12.71,2,   25.18,2,    1.69,2,  2142.2,2,  2282.8,6
740H20090203,       SR01,       5,          1,          7,          7,2,20090206,       1016,   -56.8800,   -68.2300,       1339,   506.9,   4.9855,  34.1748,2,  34.1752,2,    278.2,   279.3,2,   10.09,2,   24.26,2,    1.72,4,  2134.7,2,  2280.2,6
740H20090203,       SR01,       5,          1,          8,          8,2,20090206,       1016,   -56.8800,   -68.2300,       1339,   380.5,   5.0861,  34.1626,2,-999.0000,9,    277.0,    12.4,4,    9.12,2,   23.76,2,    1.59,2,  2135.3,2,  2272.9,6
740H20090203,       SR01,       5,          1,          9,          9,2,20090206,       1016,   -56.8800,   -68.2300,       1339,   380.9,   5.0864,  34.1627,2,  34.1623,2,    276.5,   278.1,2,    9.19,2,   23.56,2,    1.58,2,  2136.9,2,  2273.6,6
740H20090203,       SR01,       5,          1,         10,         10,2,20090206,       1016,   -56.8800,   -68.2300,       1339,   256.2,   5.2221,  34.1323,2,-999.0000,9,    277.5,   277.9,2,    8.56,2,   23.42,2,    1.58,2,  2132.0,2,  2269.1,6
740H20090203,       SR01,       5,          1,         11,         11,2,20090206,       1016,   -56.8800,   -68.2300,       1339,   255.8,   5.2220,  34.1322,2,  34.1317,2,    278.1,   278.7,2,    8.56,2,   23.40,2,    1.58,2,  2129.9,2,  2270.6,6
740H20090203,       SR01,       5,          1,         12,         12,9,20090206,       1016,   -56.8800,   -68.2300,       1339,   181.0,   5.5042,  34.0918,2,-999.0000,9,    281.1,  -999.0,9, -999.00,9, -999.00,9, -999.00,9,  -999.0,9,  -999.0,9
740H20090203,       SR01,       5,          1,         13,         13,2,20090206,       1016,   -56.8800,   -68.2300,       1339,   181.3,   5.5046,  34.0917,2,  34.0911,2,    281.1,   281.3,2,    7.28,2,   22.74,2,    1.57,2,  2126.6,2,  2266.2,6
740H20090203,       SR01,       5,          1,         14,         14,9,20090206,       1016,   -56.8800,   -68.2300,       1339,   106.7,   6.4148,  34.0611,2,-999.0000,9,    282.0,  -999.0,9, -999.00,9, -999.00,9, -999.00,9,  -999.0,9,  -999.0,9
740H20090203,       SR01,       5,          1,         15,         15,2,20090206,       1016,   -56.8800,   -68.2300,       1339,   106.6,   6.4188,  34.0613,2,  34.0596,2,    281.9,   282.0,2,    3.63,2,   19.81,2,    1.50,2,  2113.5,2,  2268.4,6
740H20090203,       SR01,       5,          1,         16,         16,9,20090206,       1016,   -56.8800,   -68.2300,       1339,    80.8,   6.6208,  34.0342,2,-999.0000,9,    281.7,  -999.0,9, -999.00,9, -999.00,9, -999.00,9,  -999.0,9,  -999.0,9
740H20090203,       SR01,       5,          1,         17,         17,2,20090206,       1016,   -56.8800,   -68.2300,       1339,    80.8,   6.6212,  34.0339,2,  34.0326,2,    281.3,   282.5,2,    3.15,2,   18.75,2,    1.40,2,  2103.6,2,  2267.7,6
740H20090203,       SR01,       5,          1,         18,         18,9,20090206,       1016,   -56.8800,   -68.2300,       1339,    81.3,   6.6088,  34.0358,2,-999.0000,9,    281.2,  -999.0,9, -999.00,9, -999.00,9, -999.00,9,  -999.0,9,  -999.0,9
740H20090203,       SR01,       5,          1,         19,         19,2,20090206,       1016,   -56.8800,   -68.2300,       1339,    55.3,   6.9414,  34.0235,2,  34.0229,2,    285.6,   286.0,2,    2.00,2,   17.96,2,    1.34,2,  2099.2,2,  2267.2,6
740H20090203,       SR01,       5,          1,         20,         20,9,20090206,       1016,   -56.8800,   -68.2300,       1339,    56.1,   6.9433,  34.0236,2,-999.0000,9,    286.0,  -999.0,9, -999.00,9, -999.00,9, -999.00,9,  -999.0,9,  -999.0,9
740H20090203,       SR01,       5,          1,         21,         21,2,20090206,       1016,   -56.8800,   -68.2300,       1339,    30.6,   7.2153,  33.9898,2,  33.9890,2,    287.4,   286.9,2,    1.67,2,   17.67,2,    1.24,2,  2094.5,2,  2263.2,6
740H20090203,       SR01,       5,          1,         22,         22,9,20090206,       1016,   -56.8800,   -68.2300,       1339,    30.6,   7.2153,  33.9898,2,-999.0000,9,    286.7,  -999.0,9, -999.00,9, -999.00,9, -999.00,9,  -999.0,9,  -999.0,9
740H20090203,       SR01,       5,          1,         23,         23,2,20090206,       1016,   -56.8800,   -68.2300,       1339,    11.0,   7.3706,  33.9660,2,  33.9810,2,    287.4,   288.5,2,    1.53,2,   17.38,2,    1.27,2,  2090.1,2,  2266.1,6
740H20090203,       SR01,       5,          1,         24,         24,9,20090206,       1016,   -56.8800,   -68.2300,       1339,    11.1,   7.3713,  33.9659,2,-999.0000,9,    287.2,  -999.0,9,    1.53,2,   17.38,2,    1.27,2,  2093.8,2,  2269.0,6
740H20090203,       SR01,       6,          1,          1,          1,2,20090206,       1350,   -56.8900,   -68.2400,       1869,  1858.7,   2.2832,  34.6264,2,  34.6243,2,    151.8,   150.5,2,   95.74,2,   36.73,2,    2.52,2,  2287.0,2,  2363.8,6
740H20090203,       SR01,       6,          1,          2,          2,2,20090206,       1350,   -56.8900,   -68.2400,       1869,  1808.6,   2.3142,  34.6193,2,  34.6178,2,    152.0,   151.1,2,   93.99,2,   36.53,2,    2.54,4,  2288.7,2,  2367.6,6
740H20090203,       SR01,       6,          1,          3,          3,2,20090206,       1350,   -56.8900,   -68.2400,       1869,  1768.4,   2.3462,  34.6128,2,  34.6110,2,    151.8,   151.0,2,   91.96,2,   36.41,2,    2.47,2,  -999.0,9,  2372.3,6
740H20090203,       SR01,       6,          1,          4,          4,2,20090206,       1350,   -56.8900,   -68.2400,       1869,  1516.4,   2.5941,  34.5525,2,  34.5510,2,    153.8,   153.7,2,   80.04,2,   36.82,2,    2.49,2,  -999.0,9,  2334.9,3
740H20090203,       SR01,       6,          1,          5,          5,2,20090206,       1350,   -56.8900,   -68.2400,       1869,  1263.6,   2.8724,  34.4579,2,  34.4631,2,    167.2,   167.2,2,   64.50,2,   36.44,2,    2.47,2,  -999.0,9,  2342.8,6
740H20090203,       SR01,       6,          1,          6,          6,9,20090206,       1350,   -56.8900,   -68.2400,       1869,  1010.7,   3.3356,  34.3424,2,-999.0000,9,    192.6,  -999.0,9, -999.00,9, -999.00,9, -999.00,9,  -999.0,9,  -999.0,9
740H20090203,       SR01,       6,          1,          7,          7,2,20090206,       1350,   -56.8900,   -68.2400,       1869,   884.2,   3.7505,  34.2941,2,  34.2932,2,    204.3,   205.3,2,   35.66,2,   32.76,2,    2.21,2,  -999.0,9,  2293.6,6
740H20090203,       SR01,       6,          1,          8,          8,2,20090206,       1350,   -56.8900,   -68.2400,       1869,   759.1,   4.1858,  34.2282,2,  34.2294,2,    228.1,   228.8,2,   24.33,2,   30.34,2,    2.05,2,  -999.0,9,  2277.0,6
740H20090203,       SR01,       6,          1,          9,          9,2,20090206,       1350,   -56.8900,   -68.2400,       1869,   632.9,   4.6106,  34.1784,2,  34.1785,2,    264.0,   266.4,2,   13.77,2,   26.20,2,    1.76,2,  -999.0,9,  -999.0,9
740H20090203,       SR01,       6,          1,         10,         10,2,20090206,       1350,   -56.8900,   -68.2400,       1869,   507.3,   4.8606,  34.1666,2,  34.1656,2,    277.8,   279.5,2,   10.30,2,   24.46,2,    1.64,2,  -999.0,9,  -999.0,9
740H20090203,       SR01,       6,          1,         11,         11,2,20090206,       1350,   -56.8900,   -68.2400,       1869,   381.9,   5.0576,  34.1642,2,  34.1638,2,    276.7,   277.9,2,    9.37,2,   24.00,2,    1.64,2,  -999.0,9,  -999.0,9
740H20090203,       SR01,       6,          1,         12,         12,2,20090206,       1350,   -56.8900,   -68.2400,       1869,   272.3,   5.1970,  34.1350,2,  34.1346,2,    278.5,   278.9,2,    8.62,2,   23.66,2,    1.60,2,  -999.0,9,  2276.3,6
740H20090203,       SR01,       6,          1,         13,         13,2,20090206,       1350,   -56.8900,   -68.2400,       1869,   180.5,   5.5092,  34.0800,2,  34.0798,2,    280.9,   281.6,2,    7.23,2,   23.07,2,    1.57,2,  -999.0,9,  -999.0,9
740H20090203,       SR01,       6,          1,         14,         14,9,20090206,       1350,   -56.8900,   -68.2400,       1869,   180.8,   5.5077,  34.0801,2,-999.0000,9,    280.3,  -999.0,9, -999.00,9, -999.00,9, -999.00,9,  -999.0,9,  -999.0,9
740H20090203,       SR01,       6,          1,         15,         15,2,20090206,       1350,   -56.8900,   -68.2400,       1869,   106.2,   6.5047,  34.0414,2,  34.0405,2,    280.7,    23.6,4,    3.38,2,   19.76,2,    1.47,2,  -999.0,9,  2264.4,6
740H20090203,       SR01,       6,          1,         16,         16,9,20090206,       1350,   -56.8900,   -68.2400,       1869,   106.2,   6.5090,  34.0415,2,-999.0000,9,    280.8,  -999.0,9, -999.00,9, -999.00,9, -999.00,9,  -999.0,9,  -999.0,9
740H20090203,       SR01,       6,          1,         17,         17,9,20090206,       1350,   -56.8900,   -68.2400,       1869,    79.9,   6.9361,  34.0416,2,-999.0000,9,    286.7,  -999.0,9, -999.00,9, -999.00,9, -999.00,9,  -999.0,9,  -999.0,9
740H20090203,       SR01,       6,          1,         18,         18,2,20090206,       1350,   -56.8900,   -68.2400,       1869,    79.6,   6.9405,  34.0407,2,  34.0395,2,    286.0,   287.5,2,    1.84,2,   18.55,2,    1.35,2,  -999.0,9,  -999.0,9
740H20090203,       SR01,       6,          1,         19,         19,2,20090206,       1350,   -56.8900,   -68.2400,       1869,    55.2,   7.0472,  34.0113,2,  34.0111,2,    287.1,   288.2,2,    2.96,2,   17.60,2,    1.26,2,  -999.0,9,  2256.4,6
740H20090203,       SR01,       6,          1,         20,         20,9,20090206,       1350,   -56.8900,   -68.2400,       1869,    55.0,   7.0461,  34.0110,2,-999.0000,9,    287.1,  -999.0,9, -999.00,9, -999.00,9, -999.00,9,  -999.0,9,  -999.0,9
740H20090203,       SR01,       6,          1,         21,         21,2,20090206,       1350,   -56.8900,   -68.2400,       1869,    29.7,   7.2850,  33.9841,2,  33.9836,2,    287.2,   289.0,2,    3.00,2,   17.10,2,    1.24,2,  -999.0,9,  -999.0,9
740H20090203,       SR01,       6,          1,         22,         22,9,20090206,       1350,   -56.8900,   -68.2400,       1869,    30.0,   7.2865,  33.9841,2,-999.0000,9,    287.6,  -999.0,9, -999.00,9, -999.00,9, -999.00,9,  -999.0,9,  -999.0,9
740H20090203,       SR01,       6,          1,         23,         23,2,20090206,       1350,   -56.8900,   -68.2400,       1869,     9.6,   7.2887,  33.9842,2,  33.9835,2,    288.1,   288.4,2,    2.90,2,   17.03,2,    1.24,2,  2096.8,2,  2273.3,6
740H20090203,       SR01,       6,          1,         24,         24,9,20090206,       1350,   -56.8900,   -68.2400,       1869,     9.6,   7.2891,  33.9842,2,-999.0000,9,    287.6,  -999.0,9, -999.00,9, -999.00,9, -999.00,9,  -999.0,9,  -999.0,9