BOTTLE,20211203CCHSIORKP
EXPOCODE,SECT_ID,STNNBR,CASTNO,SAMPNO,BTLNBR,BTLNBR_FLAG_W,DATE,TIME,LATITUDE,LONGITUDE,DEPTH,CTDPRS,CTDTMP,CTDSAL,CTDSAL_FLAG_W,SALNTY,SALNTY_FLAG_W,CTDOXY,OXYGEN,OXYGEN_FLAG_W,SILCAT,SILCAT_FLAG_W,NITRAT,NITRAT_FLAG_W,PHSPHT,PHSPHT_FLAG_W,TCARBN,TCARBN_FLAG_W,ALKALI,ALKALI_FLAG_W
,,,,,,,,,,,METERS,DBAR,ITS-90,PSS-78,,PSS-78,,UMOL/KG,UMOL/KG,,UMOL/KG,,UMOL/KG,,UMOL/KG,,UMOL/KG,,UMOL/KG,
740H20090203,       SR01,      10,          1,          1,          1,2,20090207,       1544,   -57.1301,   -68.2501,       4477,  4467.2,   1.0553,  34.7120,2,  34.7128,2,    198.3,   201.5,2,  124.29,2,   33.47,2,    2.24,2,  -999.0,9,  -999.0,9
740H20090203,       SR01,      10,          1,          2,          2,2,20090207,       1544,   -57.1301,   -68.2501,       4477,  4418.5,   1.0489,  34.7119,2,  34.7121,2,    198.2,   203.0,2,  124.27,2,   33.50,2,    2.23,2,  -999.0,9,  -999.0,9
740H20090203,       SR01,      10,          1,          3,          3,2,20090207,       1544,   -57.1301,   -68.2501,       4477,  3810.5,   1.0709,  34.7139,2,  34.7148,2,    194.8,   198.3,2,  122.19,2,   33.11,2,    2.24,2,  -999.0,9,  -999.0,9
740H20090203,       SR01,      10,          1,          4,          4,2,20090207,       1544,   -57.1301,   -68.2501,       4477,  3552.7,   1.2458,  34.7179,2,  34.7191,2,    190.6,   194.5,2,  116.30,2,   33.18,2,    2.23,2,  -999.0,9,  -999.0,9
740H20090203,       SR01,      10,          1,          5,          5,2,20090207,       1544,   -57.1301,   -68.2501,       4477,  3294.2,   1.4219,  34.7204,2,  34.7221,2,    186.7,   190.6,2,  110.99,2,   33.21,2,    2.23,2,  -999.0,9,  -999.0,9
740H20090203,       SR01,      10,          1,          6,          6,2,20090207,       1544,   -57.1301,   -68.2501,       4477,  3037.2,   1.6311,  34.7189,2,  34.7199,2,    180.3,   183.6,2,  107.41,2,   33.30,2,    2.24,2,  -999.0,9,  -999.0,9
740H20090203,       SR01,      10,          1,          7,          7,2,20090207,       1544,   -57.1301,   -68.2501,       4477,  2782.8,   1.7778,  34.7125,2,  34.7138,2,    174.2,   175.2,2,  105.43,2,   33.82,2,    2.27,2,  -999.0,9,  -999.0,9
740H20090203,       SR01,      10,          1,          8,          8,2,20090207,       1544,   -57.1301,   -68.2501,       4477,  2525.6,   1.9365,  34.7062,2,  34.7077,2,    171.0,   174.9,2,  100.62,2,   34.11,2,    2.27,2,  -999.0,9,  -999.0,9
740H20090203,       SR01,      10,          1,          9,          9,2,20090207,       1544,   -57.1301,   -68.2501,       4477,  2267.8,   2.0969,  34.6858,2,  34.6871,2,    165.5,   170.7,2,   95.90,2,   34.20,2,    2.30,2,  -999.0,9,  -999.0,9
740H20090203,       SR01,      10,          1,         10,         10,9,20090207,       1544,   -57.1301,   -68.2501,       4477,  2013.4,   2.2752,  34.6610,2,-999.0000,9,    167.0,  -999.0,9, -999.00,9, -999.00,9, -999.00,9,  -999.0,9,  -999.0,9
740H20090203,       SR01,      10,          1,         11,         11,2,20090207,       1544,   -57.1301,   -68.2501,       4477,  1758.7,   2.4177,  34.6055,2,  34.6060,2,    165.5,   176.9,2,   79.24,2,   34.90,2,    2.34,2,  -999.0,9,  -999.0,9
740H20090203,       SR01,      10,          1,         12,         12,2,20090207,       1544,   -57.1301,   -68.2501,       4477,  1506.2,   2.6465,  34.5392,2,  34.5394,2,    152.5,   154.2,2,   78.98,2,   36.80,2,    2.48,2,  -999.0,9,  -999.0,9
740H20090203,       SR01,      10,          1,         13,         13,2,20090207,       1544,   -57.1301,   -68.2501,       4477,  1253.2,   2.9282,  34.4412,2,  34.4420,2,    168.5,   173.6,2,   62.70,2,   36.04,2,    2.41,2,  -999.0,9,  -999.0,9
740H20090203,       SR01,      10,          1,         14,         14,9,20090207,       1544,   -57.1301,   -68.2501,       4477,  1000.5,   3.5879,  34.3164,2,-999.0000,9,    196.0,  -999.0,9, -999.00,9, -999.00,9, -999.00,9,  -999.0,9,  -999.0,9
740H20090203,       SR01,      10,          1,         15,         15,2,20090207,       1544,   -57.1301,   -68.2501,       4477,   875.5,   4.0199,  34.2518,2,  34.2523,2,    216.4,   219.4,3,   29.25,2,   31.44,2,    2.10,2,  -999.0,9,  -999.0,9
740H20090203,       SR01,      10,          1,         16,         16,2,20090207,       1544,   -57.1301,   -68.2501,       4477,   751.8,   4.2315,  34.1851,2,  34.1855,2,    250.7,   252.5,2,   18.68,2,   28.17,2,    1.88,2,  -999.0,9,  -999.0,9
740H20090203,       SR01,      10,          1,         17,         17,9,20090207,       1544,   -57.1301,   -68.2501,       4477,   625.0,   4.6006,  34.1782,2,-999.0000,9,    265.4,  -999.0,9, -999.00,9, -999.00,9, -999.00,9,  -999.0,9,  -999.0,9
740H20090203,       SR01,      10,          1,         18,         18,2,20090207,       1544,   -57.1301,   -68.2501,       4477,   501.3,   4.8170,  34.1724,2,  34.1729,2,    274.9,   277.3,2,   11.41,2,   24.06,2,    1.61,2,  -999.0,9,  -999.0,9
740H20090203,       SR01,      10,          1,         19,         19,2,20090207,       1544,   -57.1301,   -68.2501,       4477,   376.1,   4.9985,  34.1698,2,  34.1691,2,    278.6,   279.3,2,   10.11,2,   23.14,2,    1.58,2,  -999.0,9,  -999.0,9
740H20090203,       SR01,      10,          1,         20,         20,2,20090207,       1544,   -57.1301,   -68.2501,       4477,   250.6,   5.1641,  34.1524,2,  34.1521,2,    277.0,   277.4,2,    9.10,2,   22.91,2,    1.55,2,  -999.0,9,  -999.0,9
740H20090203,       SR01,      10,          1,         21,         21,2,20090207,       1544,   -57.1301,   -68.2501,       4477,   176.5,   5.4140,  34.1152,2,  34.1140,2,    274.0,   275.6,2,    8.32,2,   22.91,2,    1.58,2,  -999.0,9,  -999.0,9
740H20090203,       SR01,      10,          1,         22,         22,2,20090207,       1544,   -57.1301,   -68.2501,       4477,   102.3,   6.6060,  34.0795,2,  34.0801,2,    284.3,   286.8,2,    3.13,2,   18.80,2,    1.37,2,  -999.0,9,  -999.0,9
740H20090203,       SR01,      10,          1,         23,         23,2,20090207,       1544,   -57.1301,   -68.2501,       4477,    51.4,   6.9694,  34.0503,2,  34.0507,2,    287.5,   290.2,2,    2.27,2,   18.02,2,    1.28,2,  -999.0,9,  -999.0,9
740H20090203,       SR01,      10,          1,         24,         24,2,20090207,       1544,   -57.1301,   -68.2501,       4477,     5.7,   7.1496,  34.0464,2,  34.0472,2,    288.3,    24.0,4,    2.16,2,   18.07,2,    1.28,2,  -999.0,9,  -999.0,9
740H20090203,       SR01,      11,          1,          1,          1,2,20090207,       2125,   -57.3306,   -68.2370,       4462,  4452.0,   0.9973,  34.7111,2,  34.7110,2,    198.8,   203.4,2,  121.66,2,   32.91,2,    2.24,2,  2266.2,2,  2369.7,6
740H20090203,       SR01,      11,          1,          2,          2,9,20090207,       2125,   -57.3306,   -68.2370,       4462,  4400.0,   1.0045,  34.7113,2,-999.0000,9,    198.5,  -999.0,9, -999.00,9, -999.00,9, -999.00,9,  -999.0,9,  -999.0,9
740H20090203,       SR01,      11,          1,          3,          3,2,20090207,       2125,   -57.3306,   -68.2370,       4462,  3818.3,   1.0514,  34.7137,2,  34.7138,2,    195.2,   197.0,2,  117.14,2,   32.92,2,    2.26,2,  2263.8,2,  2369.2,6
740H20090203,       SR01,      11,          1,          4,          4,2,20090207,       2125,   -57.3306,   -68.2370,       4462,  3559.7,   1.1995,  34.7178,2,  34.7181,2,    191.8,   195.3,2,  112.64,2,   32.73,2,    2.24,2,  2263.0,2,  2367.9,6
740H20090203,       SR01,      11,          1,          5,          5,2,20090207,       2125,   -57.3306,   -68.2370,       4462,  3304.4,   1.4148,  34.7217,2,  34.7217,2,    187.2,   191.0,2,  107.20,2,   32.51,2,    2.21,2,  2261.8,2,  2368.9,6
740H20090203,       SR01,      11,          1,          6,          6,2,20090207,       2125,   -57.3306,   -68.2370,       4462,  3048.9,   1.5891,  34.7198,2,  34.7194,2,    181.6,   185.2,2,  104.45,2,   32.76,2,    2.20,2,  2266.3,2,  2369.4,6
740H20090203,       SR01,      11,          1,          7,          7,2,20090207,       2125,   -57.3306,   -68.2370,       4462,  2792.0,   1.7394,  34.7139,2,  34.7136,2,    175.4,   178.1,2,  102.56,2,   33.05,2,    2.23,2,  2270.1,2,  2370.5,6
740H20090203,       SR01,      11,          1,          8,          8,2,20090207,       2125,   -57.3306,   -68.2370,       4462,  2536.4,   1.9299,  34.7084,2,  34.7080,2,    172.0,   173.8,2,   96.83,2,   33.35,2,    2.26,2,  2270.6,2,  2366.9,6
740H20090203,       SR01,      11,          1,          9,          9,2,20090207,       2125,   -57.3306,   -68.2370,       4462,  2282.8,   2.0906,  34.6889,2,  34.6885,2,    166.6,   171.1,2,   92.32,2,   34.46,4,    2.31,2,  2267.4,2,  2366.2,6
740H20090203,       SR01,      11,          1,         10,         10,2,20090207,       2125,   -57.3306,   -68.2370,       4462,  2027.9,   2.2232,  34.6570,2,  34.6562,2,    160.3,   162.6,2,   91.12,2,   34.43,2,    2.34,2,  2273.0,2,  2362.7,6
740H20090203,       SR01,      11,          1,         11,         11,2,20090207,       2125,   -57.3306,   -68.2370,       4462,  1772.6,   2.3855,  34.6174,2,  34.6166,2,    161.7,   172.4,2,   81.58,2,   35.48,2,    2.39,2,  2264.9,2,  2351.4,6
740H20090203,       SR01,      11,          1,         12,         12,2,20090207,       2125,   -57.3306,   -68.2370,       4462,  1517.3,   2.5949,  34.5364,2,  34.5360,2,    163.9,   166.1,2,   71.95,2,   35.13,2,    2.36,2,  2258.5,2,  -999.0,9
740H20090203,       SR01,      11,          1,         13,         13,2,20090207,       2125,   -57.3306,   -68.2370,       4462,  1263.1,   2.8833,  34.4348,2,  34.4336,2,    173.6,   178.8,2,   59.21,2,   35.18,2,    2.36,2,  2240.3,2,  2326.0,6
740H20090203,       SR01,      11,          1,         14,         14,2,20090207,       2125,   -57.3306,   -68.2370,       4462,  1010.1,   3.4125,  34.3324,2,  34.3315,2,    193.0,   196.3,2,   42.83,2,   33.85,2,    2.28,2,  2215.2,2,  2314.8,6
740H20090203,       SR01,      11,          1,         15,         15,2,20090207,       2125,   -57.3306,   -68.2370,       4462,   881.7,   3.6899,  34.2516,2,  34.2484,2,    216.4,   221.3,2,   30.78,2,   31.26,2,    2.10,2,  2193.2,2,  2302.7,6
740H20090203,       SR01,      11,          1,         16,         16,2,20090207,       2125,   -57.3306,   -68.2370,       4462,   755.4,   3.9771,  34.1999,2,  34.1988,2,    239.9,   243.8,2,   22.23,2,   29.26,2,    1.94,2,  2172.9,2,  2293.4,6
740H20090203,       SR01,      11,          1,         17,         17,2,20090207,       2125,   -57.3306,   -68.2370,       4462,   630.5,   4.5467,  34.1974,2,  34.1975,2,    244.8,   247.3,2,   17.29,2,   27.99,2,    1.87,2,  2162.4,2,  2291.2,6
740H20090203,       SR01,      11,          1,         18,         18,2,20090207,       2125,   -57.3306,   -68.2370,       4462,   504.1,   4.8267,  34.1814,2,  34.1815,2,    269.7,   272.6,2,   11.65,2,   24.76,2,    1.66,2,  2144.5,2,  2290.2,6
740H20090203,       SR01,      11,          1,         19,         19,2,20090207,       2125,   -57.3306,   -68.2370,       4462,   377.9,   4.9854,  34.1690,2,  34.1690,2,    273.8,   275.7,2,    9.94,2,   24.17,2,    1.62,2,  2138.6,2,  2284.2,6
740H20090203,       SR01,      11,          1,         20,         20,2,20090207,       2125,   -57.3306,   -68.2370,       4462,   252.8,   5.1468,  34.1613,2,  34.1612,2,    275.2,   277.0,2,    8.97,2,   23.42,2,    1.58,2,  2135.7,2,  2282.1,6
740H20090203,       SR01,      11,          1,         21,         21,2,20090207,       2125,   -57.3306,   -68.2370,       4462,   176.5,   5.2579,  34.1320,2,  34.1310,2,    277.2,   278.0,2,    8.41,2,   23.47,2,    1.58,2,  2131.9,2,  2279.3,6
740H20090203,       SR01,      11,          1,         22,         22,9,20090207,       2125,   -57.3306,   -68.2370,       4462,   101.8,   5.7554,  34.0817,2,-999.0000,9,    278.3,  -999.0,9, -999.00,9, -999.00,9, -999.00,9,  -999.0,9,  -999.0,9
740H20090203,       SR01,      11,          1,         23,         23,2,20090207,       2125,   -57.3306,   -68.2370,       4462,    51.0,   6.8645,  34.0695,2,  34.0692,2,    286.0,   288.1,2,    2.11,2,   19.63,2,    1.37,2,  2103.9,2,  2278.0,6
740H20090203,       SR01,      11,          1,         24,         24,2,20090207,       2125,   -57.3306,   -68.2370,       4462,     6.3,   7.5403,  33.9593,2,  33.9590,2,    286.4,    24.0,4,    1.78,2,   16.88,2,    1.22,2,  2089.5,2,  2271.1,6
740H20090203,       SR01,      14,          1,          1,          1,2,20090209,       1041,   -57.8323,   -68.2322,       3859,  3798.8,   1.0356,  34.7142,2,  34.7152,2,    198.5,   200.6,2,  118.72,2,   34.83,2,    2.20,2,  2265.3,2,  2368.8,6
740H20090203,       SR01,      14,          1,          2,          2,2,20090209,       1041,   -57.8323,   -68.2322,       3859,  3747.2,   1.0307,  34.7142,2,  34.7133,2,    197.6,   197.5,2,  119.58,2,   34.10,2,    2.22,2,  2267.7,2,  2371.3,6
740H20090203,       SR01,      14,          1,          3,          3,2,20090209,       1041,   -57.8323,   -68.2322,       3859,  3562.3,   1.0660,  34.7155,2,  34.7151,2,    195.7,   196.6,2,  118.33,2,   33.12,2,    2.20,2,  -999.0,9,  2370.6,6
740H20090203,       SR01,      14,          1,          4,          4,2,20090209,       1041,   -57.8323,   -68.2322,       3859,  3305.1,   1.2069,  34.7190,2,  34.7178,2,    192.6,   194.2,2,  113.24,2,   33.83,4,    2.25,4,  2264.1,2,  2372.3,6
740H20090203,       SR01,      14,          1,          5,          5,2,20090209,       1041,   -57.8323,   -68.2322,       3859,  3049.4,   1.4249,  34.7228,2,  34.7229,2,    187.1,   190.4,2,  105.89,2,   32.56,2,    2.18,2,  2265.4,2,  2369.5,6
740H20090203,       SR01,      14,          1,          6,          6,2,20090209,       1041,   -57.8323,   -68.2322,       3859,  2792.8,   1.6030,  34.7226,2,  34.7216,2,    182.2,   184.9,2,  102.51,2,   32.90,2,    2.19,2,  2269.7,2,  2371.2,6
740H20090203,       SR01,      14,          1,          7,          7,2,20090209,       1041,   -57.8323,   -68.2322,       3859,  2540.5,   1.7638,  34.7166,2,  34.7154,2,    175.9,   179.4,2,  100.64,2,   33.11,2,    2.21,2,  2271.7,2,  2377.0,6
740H20090203,       SR01,      14,          1,          8,          8,2,20090209,       1041,   -57.8323,   -68.2322,       3859,  2284.1,   1.9366,  34.7045,2,  34.7036,2,    169.5,   172.6,2,   97.83,2,   33.24,2,    2.24,2,  2272.0,2,  2374.4,6
740H20090203,       SR01,      14,          1,          9,          9,2,20090209,       1041,   -57.8323,   -68.2322,       3859,  2030.9,   2.0570,  34.6814,2,  34.6827,2,    161.7,   160.2,2,   98.10,4,   34.28,4,    2.32,4,  2271.7,2,  2377.5,6
740H20090203,       SR01,      14,          1,         10,         10,2,20090209,       1041,   -57.8323,   -68.2322,       3859,  1773.6,   2.2797,  34.6488,2,  34.6472,2,    162.8,   165.1,2,   85.77,2,   34.35,2,    2.30,2,  -999.0,9,  2361.1,6
740H20090203,       SR01,      14,          1,         11,         11,2,20090209,       1041,   -57.8323,   -68.2322,       3859,  1516.4,   2.4356,  34.5911,2,  34.5905,2,    165.8,   168.8,2,   76.47,2,   34.68,2,    2.32,2,  2257.4,2,  2345.5,6
740H20090203,       SR01,      14,          1,         12,         12,2,20090209,       1041,   -57.8323,   -68.2322,       3859,  1264.0,   2.7183,  34.4854,2,  34.4837,2,    169.3,  -999.0,9,   66.36,2,   35.87,2,    2.37,2,  2248.2,2,  2336.4,6
740H20090203,       SR01,      14,          1,         13,         13,2,20090209,       1041,   -57.8323,   -68.2322,       3859,  1007.9,   3.1543,  34.3740,2,  34.3723,2,    184.9,   188.8,2,   50.63,2,   34.14,2,    2.33,2,  2226.2,2,  2320.8,6
740H20090203,       SR01,      14,          1,         14,         14,2,20090209,       1041,   -57.8323,   -68.2322,       3859,   883.3,   3.4920,  34.3221,2,  34.3205,2,    196.9,   199.7,2,   41.57,2,   33.03,2,    2.21,2,  2210.2,2,  2312.9,6
740H20090203,       SR01,      14,          1,         15,         15,2,20090209,       1041,   -57.8323,   -68.2322,       3859,   759.3,   3.8953,  34.2817,2,  34.2805,2,    207.2,   209.2,2,   33.26,2,   31.71,2,    2.12,2,  2197.1,2,  2306.2,6
740H20090203,       SR01,      14,          1,         16,         16,2,20090209,       1041,   -57.8323,   -68.2322,       3859,   630.1,   4.2254,  34.2214,2,  34.2212,2,    230.8,   232.5,2,   23.15,2,   29.04,2,    1.95,2,  -999.0,9,  -999.0,9
740H20090203,       SR01,      14,          1,         17,         17,2,20090209,       1041,   -57.8323,   -68.2322,       3859,   503.4,   4.3988,  34.1777,2,  34.1777,2,    269.5,   271.9,2,   14.69,2,   26.42,2,    1.77,2,  2150.0,2,  2286.5,6
740H20090203,       SR01,      14,          1,         18,         18,2,20090209,       1041,   -57.8323,   -68.2322,       3859,   377.6,   4.7119,  34.1757,2,  34.1757,2,    278.4,   279.3,2,   11.31,2,   24.77,2,    1.64,2,  2142.2,2,  2286.7,6
740H20090203,       SR01,      14,          1,         19,         19,2,20090209,       1041,   -57.8323,   -68.2322,       3859,   251.7,   5.0574,  34.1977,2,  34.1975,2,    280.7,   277.2,2,   10.30,2,   23.53,2,    1.58,2,  2135.0,2,  2287.8,6
740H20090203,       SR01,      14,          1,         20,         20,2,20090209,       1041,   -57.8323,   -68.2322,       3859,   174.7,   5.2033,  34.1934,2,  34.1926,2,    281.9,   282.2,2,    9.98,2,   22.88,2,    1.55,2,  2137.8,2,  2282.8,6
740H20090203,       SR01,      14,          1,         21,         21,2,20090209,       1041,   -57.8323,   -68.2322,       3859,   100.7,   6.1202,  34.1513,2,  34.1483,2,    289.8,   290.0,2,    3.31,2,   19.40,2,    1.40,2,  2114.0,2,  2285.0,6
740H20090203,       SR01,      14,          1,         22,         22,2,20090209,       1041,   -57.8323,   -68.2322,       3859,    74.8,   6.4546,  34.1454,2,  34.1448,2,    292.2,   292.5,2,    2.33,2,   18.97,2,    1.34,2,  2111.4,2,  2284.8,6
740H20090203,       SR01,      14,          1,         23,         23,2,20090209,       1041,   -57.8323,   -68.2322,       3859,    48.4,   6.5435,  34.1462,2,  34.1455,2,    292.0,   291.3,2,    2.24,2,   18.67,2,    1.34,2,  2110.6,2,  2282.8,6
740H20090203,       SR01,      14,          1,         24,         24,2,20090209,       1041,   -57.8323,   -68.2322,       3859,     5.5,   6.5655,  34.1457,2,  34.1435,2,    292.4,   291.0,2,    2.31,2,   18.87,2,    1.34,2,  2111.2,2,  2282.7,6