BOTTLE,20211203CCHSIORKP
EXPOCODE,SECT_ID,STNNBR,CASTNO,SAMPNO,BTLNBR,BTLNBR_FLAG_W,DATE,TIME,LATITUDE,LONGITUDE,DEPTH,CTDPRS,CTDTMP,CTDSAL,CTDSAL_FLAG_W,SALNTY,SALNTY_FLAG_W,CTDOXY,OXYGEN,OXYGEN_FLAG_W,SILCAT,SILCAT_FLAG_W,NITRAT,NITRAT_FLAG_W,PHSPHT,PHSPHT_FLAG_W,TCARBN,TCARBN_FLAG_W,ALKALI,ALKALI_FLAG_W
,,,,,,,,,,,METERS,DBAR,ITS-90,PSS-78,,PSS-78,,UMOL/KG,UMOL/KG,,UMOL/KG,,UMOL/KG,,UMOL/KG,,UMOL/KG,,UMOL/KG,
740H20090203,       SR01,      50,          1,          1,          1,2,20090220,       0222,   -61.0489,   -54.5888,       2484,   362.3,   0.3604,  34.4917,2,-999.0000,9,    252.2,  -999.0,9,   84.42,4,   32.60,4,    2.23,4,  -999.0,9,  -999.0,9
740H20090203,       SR01,      50,          1,          2,          2,2,20090220,       0222,   -61.0489,   -54.5888,       2484,   363.2,   0.3539,  34.4924,2,  34.4934,2,    252.3,  -999.0,9,   83.96,2,   32.15,2,    2.20,2,  2239.3,2,  2342.1,6
740H20090203,       SR01,      50,          1,          3,          3,2,20090220,       0222,   -61.0489,   -54.5888,       2484,   311.5,   0.6113,  34.4640,2,  34.4643,2,    252.6,   251.2,2,   82.99,2,   32.16,2,    2.18,2,  2239.2,2,  2340.5,6
740H20090203,       SR01,      50,          1,          5,          5,2,20090220,       0222,   -61.0489,   -54.5888,       2484,   251.5,   0.6507,  34.4575,2,  34.4574,2,    253.4,   252.4,2,   82.52,2,   32.21,2,    2.19,2,  2235.8,2,  2339.4,6
740H20090203,       SR01,      50,          1,          8,          8,2,20090220,       0222,   -61.0489,   -54.5888,       2484,   176.2,   0.6821,  34.4537,2,  34.4543,2,    253.4,   252.3,2,   82.28,2,   32.29,2,    2.17,2,  2238.4,2,  2339.5,6
740H20090203,       SR01,      50,          1,         11,         11,2,20090220,       0222,   -61.0489,   -54.5888,       2484,   125.8,   0.7434,  34.4355,2,  34.4351,2,    256.9,   256.2,2,   81.17,2,   31.79,2,    2.16,2,  2235.1,2,  2337.2,6
740H20090203,       SR01,      50,          1,         14,         14,2,20090220,       0222,   -61.0489,   -54.5888,       2484,   100.2,   1.0368,  34.3382,2,  34.3375,2,    283.9,   281.4,2,   76.62,2,   30.71,2,    2.06,2,  2219.8,2,  2335.4,6
740H20090203,       SR01,      50,          1,         17,         17,2,20090220,       0222,   -61.0489,   -54.5888,       2484,    74.1,   1.2697,  34.2821,2,  34.2828,2,    300.5,   299.3,2,   74.05,2,   29.38,2,    1.96,2,  2205.6,2,  2328.8,6
740H20090203,       SR01,      50,          1,         20,         20,2,20090220,       0222,   -61.0489,   -54.5888,       2484,    49.3,   1.3089,  34.2732,2,  34.2726,2,    303.9,   303.4,2,   73.27,2,   29.07,2,    1.92,2,  2205.0,2,  -999.0,9
740H20090203,       SR01,      50,          1,         22,         22,2,20090220,       0222,   -61.0489,   -54.5888,       2484,    24.5,   1.3668,  34.2580,2,  34.2592,2,    308.0,   306.4,2,   72.64,2,   28.54,2,    1.90,2,  2203.0,2,  2330.8,6
740H20090203,       SR01,      50,          1,         24,         24,2,20090220,       0222,   -61.0489,   -54.5888,       2484,     3.8,   1.4174,  34.2413,2,  34.2414,2,    311.1,   311.2,2,   71.27,2,   28.37,2,    1.87,2,  2194.4,2,  2331.5,6
740H20090203,       SR01,      51,          1,          1,          1,9,20090220,       0415,   -60.9808,   -54.6318,       3504,   582.1,  -0.2192,  34.5490,2,-999.0000,9,    256.0,  -999.0,9, -999.00,9, -999.00,9, -999.00,9,  -999.0,9,  -999.0,9
740H20090203,       SR01,      51,          1,          2,          2,2,20090220,       0415,   -60.9808,   -54.6318,       3504,   533.3,  -0.2214,  34.5491,2,  34.5483,2,    255.9,   255.4,2,   90.43,2,   32.20,2,    2.16,2,  2238.7,2,  2352.9,6
740H20090203,       SR01,      51,          1,          3,          3,2,20090220,       0415,   -60.9808,   -54.6318,       3504,   503.2,  -0.1918,  34.5456,2,  34.5452,2,    255.8,   255.2,2,   90.11,2,   32.36,2,    2.18,2,  2239.0,2,  2353.6,6
740H20090203,       SR01,      51,          1,          4,          4,2,20090220,       0415,   -60.9808,   -54.6318,       3504,   378.3,   0.4200,  34.4821,2,  34.4817,2,    252.9,   252.4,2,   83.74,2,   32.02,2,    2.17,2,  2228.1,2,  2348.6,6
740H20090203,       SR01,      51,          1,          9,          9,2,20090220,       0415,   -60.9808,   -54.6318,       3504,   253.3,   0.9285,  34.3780,2,  34.3776,2,    270.7,   270.4,2,   78.06,2,   30.61,2,    2.08,2,  2222.0,2,  2335.2,6
740H20090203,       SR01,      51,          1,         10,         10,2,20090220,       0415,   -60.9808,   -54.6318,       3504,   177.0,   1.0612,  34.3416,2,  34.3405,2,    285.5,   285.4,2,   77.14,2,   30.14,2,    2.06,2,  2215.7,2,  2334.6,6
740H20090203,       SR01,      51,          1,         11,         11,2,20090220,       0415,   -60.9808,   -54.6318,       3504,   126.0,   1.0800,  34.3314,2,  34.3303,2,    288.2,   287.5,2,   75.98,2,   30.21,2,    2.05,2,  2214.0,2,  2330.5,6
740H20090203,       SR01,      51,          1,         12,         12,2,20090220,       0415,   -60.9808,   -54.6318,       3504,   101.3,   1.0838,  34.3235,2,  34.3225,2,    289.8,   289.0,2,   76.23,2,   29.95,2,    2.04,2,  2208.5,2,  2326.0,6
740H20090203,       SR01,      51,          1,         17,         17,2,20090220,       0415,   -60.9808,   -54.6318,       3504,    75.9,   1.1379,  34.3048,2,  34.3049,2,    295.5,   295.4,2,   75.76,2,   30.04,2,    2.02,2,  2209.2,2,  2328.0,6
740H20090203,       SR01,      51,          1,         18,         18,2,20090220,       0415,   -60.9808,   -54.6318,       3504,    50.5,   1.1365,  34.3047,2,  34.3024,2,    295.6,   295.6,2,   75.63,2,   30.19,2,    2.04,2,  2208.9,2,  2326.5,6
740H20090203,       SR01,      51,          1,         19,         19,2,20090220,       0415,   -60.9808,   -54.6318,       3504,    25.0,   1.1420,  34.3011,2,  34.3002,2,    297.0,   299.6,2,   75.32,2,   29.86,2,    2.03,2,  2208.1,2,  2326.7,6
740H20090203,       SR01,      51,          1,         20,         20,2,20090220,       0415,   -60.9808,   -54.6318,       3504,     5.1,   1.1517,  34.2978,2,  34.2972,2,    298.3,   298.7,2,   75.24,2,   29.89,2,    2.02,2,  2206.7,2,  2324.4,6
740H20090203,       SR01,      52,          1,          4,          4,2,20090220,       0644,   -60.8502,   -54.7112,       3504,   978.9,   0.8160,  34.6908,2,  34.6862,2,    203.0,   205.9,2,  109.37,2,   32.79,2,    2.23,2,  2269.4,2,  2374.2,6
740H20090203,       SR01,      52,          1,          5,          5,2,20090220,       0644,   -60.8502,   -54.7112,       3504,   928.8,   0.8247,  34.6884,2,  34.6892,2,    203.6,   203.7,2,  108.63,2,   32.89,2,    2.23,2,  2265.9,2,  2377.8,6
740H20090203,       SR01,      52,          1,          6,          6,2,20090220,       0644,   -60.8502,   -54.7112,       3504,   882.9,   0.9402,  34.6965,2,  34.6961,2,    199.8,   201.0,2,  106.04,2,   32.46,2,    2.20,2,  2263.8,2,  2377.1,6
740H20090203,       SR01,      52,          1,          7,          7,2,20090220,       0644,   -60.8502,   -54.7112,       3504,   756.4,   0.6966,  34.6433,2,  34.6469,2,    216.1,   216.0,2,   96.78,2,   32.23,2,    2.19,2,  2254.9,2,  2369.0,6
740H20090203,       SR01,      52,          1,          8,          8,2,20090220,       0644,   -60.8502,   -54.7112,       3504,   629.9,   1.2109,  34.6746,2,  34.6753,2,    198.7,   199.2,2,   92.42,2,   32.57,2,    2.20,2,  2249.6,2,  2367.9,6
740H20090203,       SR01,      52,          1,         12,         12,2,20090220,       0644,   -60.8502,   -54.7112,       3504,   504.0,   0.6522,  34.5554,2,  34.5538,2,    231.9,   233.2,2,   84.98,2,   32.51,2,    2.21,2,  -999.0,9,  2352.7,6
740H20090203,       SR01,      52,          1,         13,         13,2,20090220,       0644,   -60.8502,   -54.7112,       3504,   378.0,   0.3604,  34.4904,2,  34.4903,2,    254.0,   254.8,2,   83.86,2,   32.11,2,    2.21,2,  2237.9,2,  2350.0,6
740H20090203,       SR01,      52,          1,         14,         14,2,20090220,       0644,   -60.8502,   -54.7112,       3504,   252.3,   1.0255,  34.4106,2,  34.4054,2,    232.0,   230.8,2,   72.34,2,   33.40,2,    2.26,2,  2232.8,2,  2338.2,6
740H20090203,       SR01,      52,          1,         15,         15,2,20090220,       0644,   -60.8502,   -54.7112,       3504,   176.3,   1.1170,  34.3178,2,  34.3185,2,    281.6,   282.4,2,   72.45,2,   30.61,2,    2.08,2,  2211.5,2,  2335.3,6
740H20090203,       SR01,      52,          1,         16,         16,2,20090220,       0644,   -60.8502,   -54.7112,       3504,   126.2,   1.2099,  34.3026,2,  34.4036,3,    293.5,   294.3,2,   73.09,2,   29.85,2,    2.03,2,  2203.9,2,  2331.6,6
740H20090203,       SR01,      52,          1,         20,         20,9,20090220,       0644,   -60.8502,   -54.7112,       3504,   100.5,   1.2391,  34.2986,2,-999.0000,9,    297.6,  -999.0,9, -999.00,9, -999.00,9, -999.00,9,  -999.0,9,  -999.0,9
740H20090203,       SR01,      52,          1,         21,         21,2,20090220,       0644,   -60.8502,   -54.7112,       3504,    75.7,   1.2820,  34.2899,2,  34.2906,2,    299.5,   299.6,2,   73.39,2,   29.39,2,    2.00,2,  2195.7,2,  2330.5,6
740H20090203,       SR01,      52,          1,         22,         22,2,20090220,       0644,   -60.8502,   -54.7112,       3504,    50.1,   1.3031,  34.2851,2,  34.2859,2,    302.5,   302.8,2,   73.13,2,   29.22,2,    2.00,2,  2201.5,2,  2329.9,6
740H20090203,       SR01,      52,          1,         23,         23,2,20090220,       0644,   -60.8502,   -54.7112,       3504,    24.7,   1.5112,  34.1975,2,  34.1893,2,    305.4,   305.1,2,   63.24,2,   28.36,2,    1.93,2,  2192.5,2,  2319.9,6
740H20090203,       SR01,      52,          1,         24,         24,2,20090220,       0644,   -60.8502,   -54.7112,       3504,     4.2,   1.6632,  34.1395,2,  34.1368,2,    307.4,   308.0,2,   57.79,2,   27.61,2,    1.87,2,  2180.5,2,  2316.8,6
740H20090203,       SR01,      53,          1,          1,          1,9,20090220,       0902,   -60.8332,   -54.7191,       3504,  1648.0,   0.3732,  34.6861,2,-999.0000,9,    209.5,  -999.0,9, -999.00,9, -999.00,9, -999.00,9,  -999.0,9,  -999.0,9
740H20090203,       SR01,      53,          1,          2,          2,2,20090220,       0902,   -60.8332,   -54.7191,       3504,  1595.4,   0.4311,  34.6892,2,  34.6891,2,    207.5,   208.1,2,  121.30,2,   33.02,2,    2.24,2,  -999.0,9,  -999.0,9
740H20090203,       SR01,      53,          1,          3,          3,2,20090220,       0902,   -60.8332,   -54.7191,       3504,  1520.8,   0.4666,  34.6906,2,  34.6895,2,    206.4,   207.4,2,  121.52,2,   33.10,2,    2.22,2,  -999.0,9,  -999.0,9
740H20090203,       SR01,      53,          1,          4,          4,2,20090220,       0902,   -60.8332,   -54.7191,       3504,  1266.1,   0.6384,  34.6948,2,  34.6928,2,    202.9,   204.1,2,  118.02,2,   33.29,2,    2.22,2,  -999.0,9,  -999.0,9
740H20090203,       SR01,      53,          1,          5,          5,2,20090220,       0902,   -60.8332,   -54.7191,       3504,  1011.9,   1.0467,  34.7038,2,  34.7034,2,    196.1,   198.5,2,  106.57,2,   32.81,2,    2.20,2,  -999.0,9,  -999.0,9
740H20090203,       SR01,      53,          1,          6,          6,9,20090220,       0902,   -60.8332,   -54.7191,       3504,  1012.3,   1.0472,  34.7036,2,-999.0000,9,    196.1,  -999.0,9, -999.00,9, -999.00,9, -999.00,9,  -999.0,9,  -999.0,9
740H20090203,       SR01,      53,          1,          7,          7,2,20090220,       0902,   -60.8332,   -54.7191,       3504,   885.3,   1.1369,  34.7084,2,  34.7085,2,    193.7,   194.7,2,  105.62,2,   33.05,4,    2.21,2,  -999.0,9,  -999.0,9
740H20090203,       SR01,      53,          1,          8,          8,2,20090220,       0902,   -60.8332,   -54.7191,       3504,   758.6,   1.1591,  34.6959,2,  34.6968,2,    195.8,   197.8,2,  101.33,2,   32.74,2,    2.20,2,  -999.0,9,  -999.0,9
740H20090203,       SR01,      53,          1,          9,          9,9,20090220,       0902,   -60.8332,   -54.7191,       3504,   631.3,   1.3593,  34.6954,2,-999.0000,9,    191.6,  -999.0,9, -999.00,9, -999.00,9, -999.00,9,  -999.0,9,  -999.0,9
740H20090203,       SR01,      53,          1,         10,         10,2,20090220,       0902,   -60.8332,   -54.7191,       3504,   505.0,   1.5522,  34.6752,2,  34.6730,2,    187.9,   190.5,2,   90.00,2,   33.51,2,    2.24,2,  -999.0,9,  -999.0,9
740H20090203,       SR01,      53,          1,         11,         11,9,20090220,       0902,   -60.8332,   -54.7191,       3504,   505.9,   1.5130,  34.6696,2,-999.0000,9,    189.5,  -999.0,9, -999.00,9, -999.00,9, -999.00,9,  -999.0,9,  -999.0,9
740H20090203,       SR01,      53,          1,         12,         12,2,20090220,       0902,   -60.8332,   -54.7191,       3504,   379.3,   1.4535,  34.6197,2,  34.6191,2,    190.9,   241.5,2,   86.44,2,   34.08,2,    2.27,2,  -999.0,9,  -999.0,9
740H20090203,       SR01,      53,          1,         13,         13,2,20090220,       0902,   -60.8332,   -54.7191,       3504,   253.9,   1.0366,  34.5096,2,  34.5090,2,    223.7,   224.4,2,   81.90,2,   34.17,2,    2.28,2,  -999.0,9,  -999.0,9
740H20090203,       SR01,      53,          1,         14,         14,2,20090220,       0902,   -60.8332,   -54.7191,       3504,   177.4,   0.9653,  34.4253,2,  34.4259,2,    240.8,   191.8,2,   77.50,2,   33.70,2,    2.26,2,  -999.0,9,  -999.0,9
740H20090203,       SR01,      53,          1,         15,         15,9,20090220,       0902,   -60.8332,   -54.7191,       3504,   177.4,   0.9621,  34.4279,2,-999.0000,9,    241.0,  -999.0,9, -999.00,9, -999.00,9, -999.00,9,  -999.0,9,  -999.0,9
740H20090203,       SR01,      53,          1,         16,         16,2,20090220,       0902,   -60.8332,   -54.7191,       3504,   126.2,   0.7855,  34.2984,2,  34.2990,2,    264.1,   264.6,2,   67.97,2,   32.57,2,    2.21,2,  -999.0,9,  -999.0,9
740H20090203,       SR01,      53,          1,         17,         17,2,20090220,       0902,   -60.8332,   -54.7191,       3504,   101.5,   0.7479,  34.2369,2,  34.2380,2,    272.6,   273.7,2,   63.11,2,   31.81,2,    2.17,2,  -999.0,9,  -999.0,9
740H20090203,       SR01,      53,          1,         18,         18,9,20090220,       0902,   -60.8332,   -54.7191,       3504,   102.6,   0.6918,  34.2334,2,-999.0000,9,    272.8,  -999.0,9, -999.00,9, -999.00,9, -999.00,9,  -999.0,9,  -999.0,9
740H20090203,       SR01,      53,          1,         19,         19,2,20090220,       0902,   -60.8332,   -54.7191,       3504,    75.9,   0.9540,  34.2061,2,  34.2075,2,    284.1,   273.9,2,   61.40,2,   30.95,2,    2.11,2,  -999.0,9,  -999.0,9
740H20090203,       SR01,      53,          1,         20,         20,2,20090220,       0902,   -60.8332,   -54.7191,       3504,    50.5,   1.7795,  34.0758,2,  34.0822,2,    311.6,   311.9,2,   55.00,2,   27.56,2,    1.86,2,  -999.0,9,  -999.0,9
740H20090203,       SR01,      53,          1,         21,         21,9,20090220,       0902,   -60.8332,   -54.7191,       3504,    50.5,   1.7800,  34.0748,2,-999.0000,9,    312.0,  -999.0,9, -999.00,9, -999.00,9, -999.00,9,  -999.0,9,  -999.0,9
740H20090203,       SR01,      53,          1,         22,         22,2,20090220,       0902,   -60.8332,   -54.7191,       3504,    26.1,   1.9309,  34.0599,2,  34.0607,2,    314.5,   316.4,2,   53.98,2,   27.18,2,    1.81,2,  -999.0,9,  -999.0,9
740H20090203,       SR01,      53,          1,         23,         23,2,20090220,       0902,   -60.8332,   -54.7191,       3504,     5.8,   1.9721,  34.0582,2,  34.0607,2,    315.2,   314.7,2,   52.67,2,   26.14,2,    1.77,2,  -999.0,9,  -999.0,9
740H20090203,       SR01,      53,          1,         24,         24,9,20090220,       0902,   -60.8332,   -54.7191,       3504,     5.7,   1.9679,  34.0564,2,-999.0000,9,    315.3,  -999.0,9, -999.00,9, -999.00,9, -999.00,9,  -999.0,9,  -999.0,9