BOTTLE,20211203CCHSIORKP
EXPOCODE,SECT_ID,STNNBR,CASTNO,SAMPNO,BTLNBR,BTLNBR_FLAG_W,DATE,TIME,LATITUDE,LONGITUDE,DEPTH,CTDPRS,CTDTMP,CTDSAL,CTDSAL_FLAG_W,SALNTY,SALNTY_FLAG_W,CTDOXY,OXYGEN,OXYGEN_FLAG_W,SILCAT,SILCAT_FLAG_W,NITRAT,NITRAT_FLAG_W,PHSPHT,PHSPHT_FLAG_W,TCARBN,TCARBN_FLAG_W,ALKALI,ALKALI_FLAG_W
,,,,,,,,,,,METERS,DBAR,ITS-90,PSS-78,,PSS-78,,UMOL/KG,UMOL/KG,,UMOL/KG,,UMOL/KG,,UMOL/KG,,UMOL/KG,,UMOL/KG,
740H20090203,       SR01,      47,          1,          1,          1,2,20090218,       1152,   -63.4800,   -63.1699,       2045,   697.8,   1.5576,  34.6974,2,  34.6866,2,    177.8,   185.0,2,   96.63,2,   32.24,2,    2.20,2,  2259.5,2,  2351.7,6
740H20090203,       SR01,      47,          1,          2,          2,2,20090218,       1152,   -63.4800,   -63.1699,       2045,   647.1,   1.5017,  34.6839,2,  34.6866,2,    180.4,   181.1,2,   96.04,2,   32.66,2,    2.21,2,  2259.4,2,  2349.6,6
740H20090203,       SR01,      47,          1,          3,          3,9,20090218,       1152,   -63.4800,   -63.1699,       2045,   647.4,   1.4986,  34.6828,2,-999.0000,9,    180.5,  -999.0,9, -999.00,9, -999.00,9, -999.00,9,  -999.0,9,  -999.0,9
740H20090203,       SR01,      47,          1,          4,          4,2,20090218,       1152,   -63.4800,   -63.1699,       2045,   506.1,   1.4065,  34.6615,2,  34.6616,2,    184.8,   185.5,2,   93.15,2,   32.82,2,    2.20,2,  2258.5,2,  2349.7,6
740H20090203,       SR01,      47,          1,          5,          5,2,20090218,       1152,   -63.4800,   -63.1699,       2045,   379.2,   1.3409,  34.6335,2,  34.6364,2,    187.8,   189.2,2,   92.14,2,   32.61,2,    2.23,2,  2258.2,2,  2349.3,6
740H20090203,       SR01,      47,          1,          6,          6,9,20090218,       1152,   -63.4800,   -63.1699,       2045,   379.2,   1.3407,  34.6334,2,-999.0000,9,    187.8,  -999.0,9, -999.00,9, -999.00,9, -999.00,9,  -999.0,9,  -999.0,9
740H20090203,       SR01,      47,          1,          7,          7,2,20090218,       1152,   -63.4800,   -63.1699,       2045,   252.4,   1.0662,  34.5281,2,  34.5285,2,    201.6,   202.4,2,   84.79,2,   33.39,2,    2.23,2,  2250.2,2,  2343.5,6
740H20090203,       SR01,      47,          1,          8,          8,9,20090218,       1152,   -63.4800,   -63.1699,       2045,   252.3,   1.0662,  34.5280,2,-999.0000,9,    201.6,  -999.0,9, -999.00,9, -999.00,9, -999.00,9,  -999.0,9,  -999.0,9
740H20090203,       SR01,      47,          1,          9,          9,9,20090218,       1152,   -63.4800,   -63.1699,       2045,   176.9,   0.7687,  34.4430,2,-999.0000,9,    214.2,  -999.0,9, -999.00,9, -999.00,9, -999.00,9,  -999.0,9,  -999.0,9
740H20090203,       SR01,      47,          1,         10,         10,2,20090218,       1152,   -63.4800,   -63.1699,       2045,   177.0,   0.7688,  34.4432,2,  34.4440,2,    214.0,   214.4,2,   80.90,2,   33.46,2,    2.23,2,  2246.6,2,  2338.8,6
740H20090203,       SR01,      47,          1,         11,         11,9,20090218,       1152,   -63.4800,   -63.1699,       2045,   176.7,   0.7681,  34.4429,2,-999.0000,9,    214.0,  -999.0,9, -999.00,9, -999.00,9, -999.00,9,  -999.0,9,  -999.0,9
740H20090203,       SR01,      47,          1,         12,         12,2,20090218,       1152,   -63.4800,   -63.1699,       2045,   100.1,   0.0271,  34.1793,2,  34.1773,2,    280.5,   280.8,2,   64.86,2,   30.12,2,    2.06,2,  2211.5,2,  2320.7,6
740H20090203,       SR01,      47,          1,         13,         13,9,20090218,       1152,   -63.4800,   -63.1699,       2045,   100.4,   0.0267,  34.1796,2,-999.0000,9,    280.5,  -999.0,9, -999.00,9, -999.00,9, -999.00,9,  -999.0,9,  -999.0,9
740H20090203,       SR01,      47,          1,         14,         14,9,20090218,       1152,   -63.4800,   -63.1699,       2045,   100.6,   0.0267,  34.1790,2,-999.0000,9,    280.4,  -999.0,9, -999.00,9, -999.00,9, -999.00,9,  -999.0,9,  -999.0,9
740H20090203,       SR01,      47,          1,         15,         15,2,20090218,       1152,   -63.4800,   -63.1699,       2045,    76.2,   0.0679,  34.0804,2,  34.0819,2,    308.9,   309.5,2,   56.19,2,   27.69,2,    1.90,2,  2192.1,2,  2319.3,6
740H20090203,       SR01,      47,          1,         16,         16,9,20090218,       1152,   -63.4800,   -63.1699,       2045,    76.3,   0.0770,  34.0793,2,-999.0000,9,    309.1,  -999.0,9, -999.00,9, -999.00,9, -999.00,9,  -999.0,9,  -999.0,9
740H20090203,       SR01,      47,          1,         17,         17,9,20090218,       1152,   -63.4800,   -63.1699,       2045,    75.8,   0.0716,  34.0801,2,-999.0000,9,    309.0,  -999.0,9, -999.00,9, -999.00,9, -999.00,9,  -999.0,9,  -999.0,9
740H20090203,       SR01,      47,          1,         18,         18,2,20090218,       1152,   -63.4800,   -63.1699,       2045,    50.5,   1.5351,  34.0325,2,  34.0318,2,    312.6,   313.0,2,   54.03,2,   25.67,2,    1.77,2,  2176.0,2,  2315.1,6
740H20090203,       SR01,      47,          1,         19,         19,9,20090218,       1152,   -63.4800,   -63.1699,       2045,    50.7,   1.5004,  34.0346,2,-999.0000,9,    313.4,  -999.0,9, -999.00,9, -999.00,9, -999.00,9,  -999.0,9,  -999.0,9
740H20090203,       SR01,      47,          1,         20,         20,9,20090218,       1152,   -63.4800,   -63.1699,       2045,    50.8,   1.5058,  34.0343,2,-999.0000,9,    312.7,  -999.0,9, -999.00,9, -999.00,9, -999.00,9,  -999.0,9,  -999.0,9
740H20090203,       SR01,      47,          1,         21,         21,2,20090218,       1152,   -63.4800,   -63.1699,       2045,    25.7,   2.2159,  33.9876,2,  33.9875,2,    313.6,   314.0,2,   51.56,2,   25.42,2,    1.68,2,  2166.3,2,  2313.3,6
740H20090203,       SR01,      47,          1,         22,         22,9,20090218,       1152,   -63.4800,   -63.1699,       2045,    25.7,   2.2141,  33.9876,2,-999.0000,9,    313.5,  -999.0,9, -999.00,9, -999.00,9, -999.00,9,  -999.0,9,  -999.0,9
740H20090203,       SR01,      47,          1,         23,         23,2,20090218,       1152,   -63.4800,   -63.1699,       2045,     5.2,   2.3123,  33.9732,2,  33.9734,2,    314.7,  -999.0,9,   50.55,2,   24.72,2,    1.64,2,  2160.4,2,  2313.4,6
740H20090203,       SR01,      47,          1,         24,         24,9,20090218,       1152,   -63.4800,   -63.1699,       2045,     5.5,   2.3137,  33.9731,2,-999.0000,9,    314.9,  -999.0,9, -999.00,9, -999.00,9, -999.00,9,  -999.0,9,  -999.0,9
740H20090203,       SR01,      48,          1,          1,          1,9,20090218,       1524,   -63.8101,   -63.1200,        505,   444.8,   1.5628,  34.7113,2,-999.0000,9,    176.5,  -999.0,9, -999.00,9, -999.00,9, -999.00,9,  -999.0,9,  -999.0,9
740H20090203,       SR01,      48,          1,          2,          2,2,20090218,       1524,   -63.8101,   -63.1200,        505,   445.1,   1.5629,  34.7114,2,  34.7147,2,    176.6,   180.1,2,  102.37,2,   32.74,2,    2.24,2,  2262.1,2,  2363.0,6
740H20090203,       SR01,      48,          1,          3,          3,2,20090218,       1524,   -63.8101,   -63.1200,        505,   394.5,   1.5600,  34.7114,2,  34.7124,2,    176.3,   177.7,2,  102.59,2,   32.68,2,    2.24,2,  2262.8,2,  2363.8,6
740H20090203,       SR01,      48,          1,          4,          4,9,20090218,       1524,   -63.8101,   -63.1200,        505,   394.7,   1.5596,  34.7115,2,-999.0000,9,    176.2,  -999.0,9, -999.00,9, -999.00,9, -999.00,9,  -999.0,9,  -999.0,9
740H20090203,       SR01,      48,          1,          5,          5,2,20090218,       1524,   -63.8101,   -63.1200,        505,   253.3,   1.6287,  34.6664,2,  34.6677,2,    174.0,   175.4,2,   91.20,2,   33.49,2,    2.24,2,  2265.2,2,  2354.1,6
740H20090203,       SR01,      48,          1,          6,          6,9,20090218,       1524,   -63.8101,   -63.1200,        505,   253.4,   1.6293,  34.6665,2,-999.0000,9,    174.2,  -999.0,9, -999.00,9, -999.00,9, -999.00,9,  -999.0,9,  -999.0,9
740H20090203,       SR01,      48,          1,          7,          7,2,20090218,       1524,   -63.8101,   -63.1200,        505,   177.5,   1.4947,  34.6036,2,  34.6048,2,    177.3,   179.1,2,   86.95,2,   33.89,2,    2.27,2,  2261.9,2,  2353.3,6
740H20090203,       SR01,      48,          1,          8,          8,9,20090218,       1524,   -63.8101,   -63.1200,        505,   178.0,   1.4942,  34.6035,2,-999.0000,9,    177.5,  -999.0,9, -999.00,9, -999.00,9, -999.00,9,  -999.0,9,  -999.0,9
740H20090203,       SR01,      48,          1,          9,          9,2,20090218,       1524,   -63.8101,   -63.1200,        505,   151.6,   1.3240,  34.5570,2,  34.5591,2,    183.7,   186.7,2,   85.29,2,   35.20,2,    2.31,2,  2261.8,2,  2346.3,6
740H20090203,       SR01,      48,          1,         10,         10,9,20090218,       1524,   -63.8101,   -63.1200,        505,   151.2,   1.3244,  34.5571,2,-999.0000,9,    183.9,  -999.0,9, -999.00,9, -999.00,9, -999.00,9,  -999.0,9,  -999.0,9
740H20090203,       SR01,      48,          1,         11,         11,9,20090218,       1524,   -63.8101,   -63.1200,        505,   151.2,   1.3228,  34.5568,2,-999.0000,9,    183.9,  -999.0,9, -999.00,9, -999.00,9, -999.00,9,  -999.0,9,  -999.0,9
740H20090203,       SR01,      48,          1,         12,         12,2,20090218,       1524,   -63.8101,   -63.1200,        505,   126.7,   0.7578,  34.4655,2,  34.4661,2,    209.8,   211.2,2,   83.84,2,   33.70,2,    2.25,2,  2254.0,2,  2341.9,6
740H20090203,       SR01,      48,          1,         13,         13,9,20090218,       1524,   -63.8101,   -63.1200,        505,   126.1,   0.7551,  34.4637,2,-999.0000,9,    210.0,  -999.0,9, -999.00,9, -999.00,9, -999.00,9,  -999.0,9,  -999.0,9
740H20090203,       SR01,      48,          1,         14,         14,9,20090218,       1524,   -63.8101,   -63.1200,        505,   126.5,   0.7547,  34.4650,2,-999.0000,9,    210.1,  -999.0,9, -999.00,9, -999.00,9, -999.00,9,  -999.0,9,  -999.0,9
740H20090203,       SR01,      48,          1,         15,         15,2,20090218,       1524,   -63.8101,   -63.1200,        505,   101.1,   0.4182,  34.3709,2,  34.3717,2,    227.9,  -999.0,9,   77.99,2,   33.53,2,    2.24,2,  2244.8,2,  2331.9,6
740H20090203,       SR01,      48,          1,         16,         16,9,20090218,       1524,   -63.8101,   -63.1200,        505,   101.0,   0.4177,  34.3705,2,-999.0000,9,    227.7,  -999.0,9, -999.00,9, -999.00,9, -999.00,9,  -999.0,9,  -999.0,9
740H20090203,       SR01,      48,          1,         17,         17,2,20090218,       1524,   -63.8101,   -63.1200,        505,    76.3,   0.6435,  34.2871,2,  34.2847,2,    260.3,   258.3,2,   76.48,2,   31.13,2,    2.09,2,  2226.5,2,  2332.9,6
740H20090203,       SR01,      48,          1,         18,         18,9,20090218,       1524,   -63.8101,   -63.1200,        505,    76.0,   0.6554,  34.2856,2,-999.0000,9,    260.2,  -999.0,9, -999.00,9, -999.00,9, -999.00,9,  -999.0,9,  -999.0,9
740H20090203,       SR01,      48,          1,         19,         19,2,20090218,       1524,   -63.8101,   -63.1200,        505,    50.4,   0.5542,  34.0566,2,  34.0630,2,    313.3,   313.5,2,   59.70,2,   26.94,2,    1.83,2,  2186.5,2,  2316.9,6
740H20090203,       SR01,      48,          1,         20,         20,9,20090218,       1524,   -63.8101,   -63.1200,        505,    50.5,   0.5864,  34.0555,2,-999.0000,9,    312.9,  -999.0,9, -999.00,9, -999.00,9, -999.00,9,  -999.0,9,  -999.0,9
740H20090203,       SR01,      48,          1,         21,         21,2,20090218,       1524,   -63.8101,   -63.1200,        505,    25.7,   2.4676,  33.9017,2,  33.9041,2,    317.7,   318.8,2,   49.44,2,   24.57,2,    1.65,2,  2160.1,2,  2308.1,6
740H20090203,       SR01,      48,          1,         22,         22,9,20090218,       1524,   -63.8101,   -63.1200,        505,    25.8,   2.4714,  33.9016,2,-999.0000,9,    317.9,  -999.0,9, -999.00,9, -999.00,9, -999.00,9,  -999.0,9,  -999.0,9
740H20090203,       SR01,      48,          1,         23,         23,2,20090218,       1524,   -63.8101,   -63.1200,        505,     5.8,   2.4884,  33.8981,2,  33.9012,2,    317.7,   318.8,2,   49.66,2,   24.18,2,    1.64,2,  2157.9,2,  2303.6,6
740H20090203,       SR01,      48,          1,         24,         24,9,20090218,       1524,   -63.8101,   -63.1200,        505,     5.4,   2.4866,  33.8985,2,-999.0000,9,    317.8,  -999.0,9, -999.00,9, -999.00,9, -999.00,9,  -999.0,9,  -999.0,9
740H20090203,       SR01,      49,          1,          1,          1,2,20090218,       1903,   -64.1400,   -63.0799,        596,   586.4,   1.5507,  34.7137,2,  34.7146,2,    177.2,   178.9,2,  101.93,2,   32.30,2,    2.23,2,  2258.5,2,  2363.2,6
740H20090203,       SR01,      49,          1,          2,          2,9,20090218,       1903,   -64.1400,   -63.0799,        596,   586.3,   1.5508,  34.7137,2,-999.0000,9,    177.2,  -999.0,9, -999.00,9, -999.00,9, -999.00,9,  -999.0,9,  -999.0,9
740H20090203,       SR01,      49,          1,          3,          3,2,20090218,       1903,   -64.1400,   -63.0799,        596,   536.0,   1.5525,  34.7128,2,  34.7130,2,    177.0,   177.4,2,  101.68,2,   32.91,2,    2.22,2,  2258.9,2,  2364.9,6
740H20090203,       SR01,      49,          1,          4,          4,9,20090218,       1903,   -64.1400,   -63.0799,        596,   536.7,   1.5525,  34.7128,2,-999.0000,9,    177.0,  -999.0,9, -999.00,9, -999.00,9, -999.00,9,  -999.0,9,  -999.0,9
740H20090203,       SR01,      49,          1,          5,          5,2,20090218,       1903,   -64.1400,   -63.0799,        596,   379.1,   1.5720,  34.6937,2,  34.6943,2,    176.1,   177.9,2,   95.74,2,   33.03,2,    2.22,2,  2257.4,2,  2357.5,6
740H20090203,       SR01,      49,          1,          6,          6,9,20090218,       1903,   -64.1400,   -63.0799,        596,   380.0,   1.5719,  34.6936,2,-999.0000,9,    176.3,  -999.0,9, -999.00,9, -999.00,9, -999.00,9,  -999.0,9,  -999.0,9
740H20090203,       SR01,      49,          1,          7,          7,2,20090218,       1903,   -64.1400,   -63.0799,        596,   253.6,   1.5001,  34.6424,2,  34.6427,2,    178.7,   180.1,2, -999.00,9, -999.00,9, -999.00,9,  2256.6,2,  2351.3,6
740H20090203,       SR01,      49,          1,          8,          8,9,20090218,       1903,   -64.1400,   -63.0799,        596,   252.6,   1.4987,  34.6417,2,-999.0000,9,    178.7,  -999.0,9, -999.00,9, -999.00,9, -999.00,9,  -999.0,9,  -999.0,9
740H20090203,       SR01,      49,          1,          9,          9,2,20090218,       1903,   -64.1400,   -63.0799,        596,   176.6,   1.1690,  34.5520,2,  34.5535,2,    193.7,   195.1,2,   87.04,2,   33.65,2,    2.25,2,  2250.3,2,  2344.8,6
740H20090203,       SR01,      49,          1,         10,         10,9,20090218,       1903,   -64.1400,   -63.0799,        596,   176.3,   1.1681,  34.5519,2,-999.0000,9,    193.9,  -999.0,9, -999.00,9, -999.00,9, -999.00,9,  -999.0,9,  -999.0,9
740H20090203,       SR01,      49,          1,         11,         11,2,20090218,       1903,   -64.1400,   -63.0799,        596,   126.2,   0.6574,  34.4253,2,  34.4244,2,    220.7,   221.6,2,   81.93,2,   33.04,2,    2.22,2,  2239.1,2,  2335.8,6
740H20090203,       SR01,      49,          1,         12,         12,9,20090218,       1903,   -64.1400,   -63.0799,        596,   126.6,   0.6584,  34.4253,2,-999.0000,9,    220.9,  -999.0,9, -999.00,9, -999.00,9, -999.00,9,  -999.0,9,  -999.0,9
740H20090203,       SR01,      49,          1,         13,         13,2,20090218,       1903,   -64.1400,   -63.0799,        596,   101.5,   0.5758,  34.3505,2,  34.3478,2,    244.1,   245.0,2,   79.24,2,   32.16,2,    2.15,2,  2226.1,2,  2334.4,6
740H20090203,       SR01,      49,          1,         14,         14,9,20090218,       1903,   -64.1400,   -63.0799,        596,   100.8,   0.5745,  34.3475,2,-999.0000,9,    245.0,  -999.0,9, -999.00,9, -999.00,9, -999.00,9,  -999.0,9,  -999.0,9
740H20090203,       SR01,      49,          1,         15,         15,2,20090218,       1903,   -64.1400,   -63.0799,        596,    75.3,   0.8981,  34.2898,2,  34.2898,2,    258.7,   257.6,2,   79.63,2,   30.50,2,    2.08,2,  2218.6,2,  2329.0,6
740H20090203,       SR01,      49,          1,         16,         16,9,20090218,       1903,   -64.1400,   -63.0799,        596,    75.4,   0.8978,  34.2898,2,-999.0000,9,    258.8,  -999.0,9, -999.00,9, -999.00,9, -999.00,9,  -999.0,9,  -999.0,9
740H20090203,       SR01,      49,          1,         17,         17,2,20090218,       1903,   -64.1400,   -63.0799,        596,    50.3,   1.2373,  34.1542,2,  34.1555,2,    277.3,   276.8,2,   77.55,2,   29.01,2,    1.98,2,  2199.4,2,  2316.8,6
740H20090203,       SR01,      49,          1,         18,         18,9,20090218,       1903,   -64.1400,   -63.0799,        596,    51.0,   1.2459,  34.1508,2,-999.0000,9,    277.5,  -999.0,9, -999.00,9, -999.00,9, -999.00,9,  -999.0,9,  -999.0,9
740H20090203,       SR01,      49,          1,         19,         19,2,20090218,       1903,   -64.1400,   -63.0799,        596,    25.3,   2.2608,  33.8433,2,  33.8504,2,    320.7,   320.3,2,   67.15,2,   23.82,2,    1.58,2,  2140.0,2,  2298.0,6
740H20090203,       SR01,      49,          1,         20,         20,9,20090218,       1903,   -64.1400,   -63.0799,        596,    24.5,   2.2665,  33.8418,2,-999.0000,9,    320.8,  -999.0,9, -999.00,9, -999.00,9, -999.00,9,  -999.0,9,  -999.0,9
740H20090203,       SR01,      49,          1,         21,         21,9,20090218,       1903,   -64.1400,   -63.0799,        596,    25.6,   2.2815,  33.8380,2,-999.0000,9,    321.6,  -999.0,9, -999.00,9, -999.00,9, -999.00,9,  -999.0,9,  -999.0,9
740H20090203,       SR01,      49,          1,         22,         22,9,20090218,       1903,   -64.1400,   -63.0799,        596,    25.0,   2.2687,  33.8414,2,-999.0000,9,    321.0,  -999.0,9, -999.00,9, -999.00,9, -999.00,9,  -999.0,9,  -999.0,9
740H20090203,       SR01,      49,          1,         23,         23,2,20090218,       1903,   -64.1400,   -63.0799,        596,     4.3,   2.3637,  33.8193,2,  33.8201,2,    327.2,   326.9,2,   65.96,2,   22.98,2,    1.51,2,  2130.8,2,  2296.8,6
740H20090203,       SR01,      49,          1,         24,         24,9,20090218,       1903,   -64.1400,   -63.0799,        596,     4.6,   2.3650,  33.8193,2,-999.0000,9,    327.3,  -999.0,9, -999.00,9, -999.00,9, -999.00,9,  -999.0,9,  -999.0,9