BOTTLE,20211203CCHSIORKP
EXPOCODE,SECT_ID,STNNBR,CASTNO,SAMPNO,BTLNBR,BTLNBR_FLAG_W,DATE,TIME,LATITUDE,LONGITUDE,DEPTH,CTDPRS,CTDTMP,CTDSAL,CTDSAL_FLAG_W,SALNTY,SALNTY_FLAG_W,CTDOXY,OXYGEN,OXYGEN_FLAG_W,SILCAT,SILCAT_FLAG_W,NITRAT,NITRAT_FLAG_W,PHSPHT,PHSPHT_FLAG_W,TCARBN,TCARBN_FLAG_W,ALKALI,ALKALI_FLAG_W
,,,,,,,,,,,METERS,DBAR,ITS-90,PSS-78,,PSS-78,,UMOL/KG,UMOL/KG,,UMOL/KG,,UMOL/KG,,UMOL/KG,,UMOL/KG,,UMOL/KG,
740H20090203,       SR01,      69,          1,          1,          1,2,20090224,       0645,   -56.1524,   -57.5990,       4219,  3555.1,   1.0171,  34.7094,2,  34.7101,2,    198.3,   197.5,2,  117.16,2,   34.05,2,    2.25,2,  -999.0,9,  -999.0,9
740H20090203,       SR01,      69,          1,          2,          2,9,20090224,       0645,   -56.1524,   -57.5990,       4219,  3555.5,   1.0179,  34.7096,2,-999.0000,9,    198.5,   199.1,2, -999.00,9, -999.00,9, -999.00,9,  -999.0,9,  -999.0,9
740H20090203,       SR01,      69,          1,          3,          3,2,20090224,       0645,   -56.1524,   -57.5990,       4219,  3502.2,   1.0484,  34.7107,2,  34.7109,2,    197.2,   197.7,2,  117.43,2,   33.69,2,    2.24,2,  -999.0,9,  -999.0,9
740H20090203,       SR01,      69,          1,          4,          4,9,20090224,       0645,   -56.1524,   -57.5990,       4219,  3501.6,   1.0483,  34.7107,2,-999.0000,9,    197.3,  -999.0,9, -999.00,9, -999.00,9, -999.00,9,  -999.0,9,  -999.0,9
740H20090203,       SR01,      69,          1,          5,          5,2,20090224,       0645,   -56.1524,   -57.5990,       4219,  3306.4,   1.1771,  34.7157,2,  34.7164,2,    193.9,   195.0,2,  114.58,2,   33.84,2,    2.24,2,  -999.0,9,  -999.0,9
740H20090203,       SR01,      69,          1,          6,          6,9,20090224,       0645,   -56.1524,   -57.5990,       4219,  3051.1,   1.3802,  34.7191,2,-999.0000,9,    190.1,  -999.0,9, -999.00,9, -999.00,9, -999.00,9,  -999.0,9,  -999.0,9
740H20090203,       SR01,      69,          1,          7,          7,2,20090224,       0645,   -56.1524,   -57.5990,       4219,  2795.2,   1.5763,  34.7232,2,  34.7233,2,    184.2,   187.3,2,  105.04,2,   33.50,2,    2.23,2,  -999.0,9,  -999.0,9
740H20090203,       SR01,      69,          1,          8,          8,2,20090224,       0645,   -56.1524,   -57.5990,       4219,  2535.9,   1.7320,  34.7197,2,  34.7196,2,    179.1,   181.7,2,  101.81,2,   33.55,2,    2.24,2,  -999.0,9,  -999.0,9
740H20090203,       SR01,      69,          1,          9,          9,2,20090224,       0645,   -56.1524,   -57.5990,       4219,  2278.1,   1.9237,  34.7142,2,  34.7136,2,    175.2,   179.0,2,   95.31,2,   33.77,2,    2.24,2,  -999.0,9,  -999.0,9
740H20090203,       SR01,      69,          1,         10,         10,2,20090224,       0645,   -56.1524,   -57.5990,       4219,  2024.7,   2.0520,  34.6941,2,  34.6945,2,    168.9,   171.7,2,   93.52,2,   34.21,2,    2.29,2,  -999.0,9,  -999.0,9
740H20090203,       SR01,      69,          1,         11,         11,2,20090224,       0645,   -56.1524,   -57.5990,       4219,  1772.3,   2.2112,  34.6614,2,  34.6618,2,    164.6,   166.4,2,   89.05,2,   34.89,2,    2.32,2,  -999.0,9,  -999.0,9
740H20090203,       SR01,      69,          1,         12,         12,2,20090224,       0645,   -56.1524,   -57.5990,       4219,  1518.7,   2.3234,  34.6213,2,  34.6200,2,    160.5,   163.7,2,   85.11,2,   35.74,2,    2.38,2,  -999.0,9,  -999.0,9
740H20090203,       SR01,      69,          1,         13,         13,2,20090224,       0645,   -56.1524,   -57.5990,       4219,  1264.4,   2.5138,  34.5554,2,  34.5557,2,    160.1,   162.9,2,   77.47,2,   36.39,2,    2.43,2,  -999.0,9,  -999.0,9
740H20090203,       SR01,      69,          1,         14,         14,2,20090224,       0645,   -56.1524,   -57.5990,       4219,  1010.3,   2.7190,  34.4470,2,  34.4475,2,    173.7,   176.7,2,   63.24,2,   36.15,2,    2.41,2,  -999.0,9,  -999.0,9
740H20090203,       SR01,      69,          1,         15,         15,2,20090224,       0645,   -56.1524,   -57.5990,       4219,   883.7,   2.8677,  34.3867,2,  34.3861,2,    183.7,   187.0,2,   55.51,2,   35.43,2,    2.36,2,  -999.0,9,  -999.0,9
740H20090203,       SR01,      69,          1,         16,         16,2,20090224,       0645,   -56.1524,   -57.5990,       4219,   757.8,   2.8212,  34.2849,2,  34.2843,2,    209.1,   212.1,2,   44.14,2,   35.76,4,    2.30,2,  -999.0,9,  -999.0,9
740H20090203,       SR01,      69,          1,         17,         17,2,20090224,       0645,   -56.1524,   -57.5990,       4219,   656.8,   3.1526,  34.2613,2,  34.2604,2,    214.8,   217.5,2,   37.94,2,   33.27,2,    2.21,2,  -999.0,9,  -999.0,9
740H20090203,       SR01,      69,          1,         18,         18,2,20090224,       0645,   -56.1524,   -57.5990,       4219,   504.9,   3.1132,  34.1551,2,  34.1548,2,    250.0,   251.6,2,   25.72,2,   30.89,2,    2.04,2,  -999.0,9,  -999.0,9
740H20090203,       SR01,      69,          1,         19,         19,2,20090224,       0645,   -56.1524,   -57.5990,       4219,   377.9,   3.4682,  34.1295,2,  34.1294,2,    266.3,   268.1,2,   19.07,2,   28.43,2,    1.89,2,  -999.0,9,  -999.0,9
740H20090203,       SR01,      69,          1,         20,         20,2,20090224,       0645,   -56.1524,   -57.5990,       4219,   252.8,   3.9826,  34.1392,2,  34.1382,2,    274.9,   276.2,2,   15.11,2,   26.80,2,    1.80,2,  -999.0,9,  -999.0,9
740H20090203,       SR01,      69,          1,         21,         21,2,20090224,       0645,   -56.1524,   -57.5990,       4219,   175.9,   4.1666,  34.0982,2,  34.0924,2,    286.9,   289.0,2,   10.44,2,   24.81,2,    1.70,2,  -999.0,9,  -999.0,9
740H20090203,       SR01,      69,          1,         22,         22,2,20090224,       0645,   -56.1524,   -57.5990,       4219,   100.6,   5.5070,  34.0439,2,  34.0440,2,    291.8,   290.7,2,    3.81,2,   22.03,2,    1.55,2,  -999.0,9,  -999.0,9
740H20090203,       SR01,      69,          1,         23,         23,2,20090224,       0645,   -56.1524,   -57.5990,       4219,    50.4,   6.5400,  34.0194,2,  34.0179,2,    288.7,   289.7,2,    2.92,2,   20.79,2,    1.45,2,  -999.0,9,  -999.0,9
740H20090203,       SR01,      69,          1,         24,         24,2,20090224,       0645,   -56.1524,   -57.5990,       4219,     5.4,   6.6877,  34.0107,2,  34.0104,2,    289.4,   293.6,2,    2.91,2,   21.07,2,    1.44,2,  -999.0,9,  -999.0,9
740H20090203,       SR01,      70,          1,          1,          1,2,20090224,       1326,   -55.8343,   -57.8068,       4853,  4843.0,   0.4124,  34.6716,2,  34.6725,2,    217.7,   224.0,2,  117.73,2,   33.13,2,    2.21,2,  2259.9,2,  2370.9,6
740H20090203,       SR01,      70,          1,          2,          2,2,20090224,       1326,   -55.8343,   -57.8068,       4853,  4791.4,   0.4105,  34.6719,2,  34.6726,2,    217.1,   216.0,2,  118.20,2,   32.79,2,    2.21,2,  2260.1,2,  2364.9,6
740H20090203,       SR01,      70,          1,          3,          3,2,20090224,       1326,   -55.8343,   -57.8068,       4853,  4286.1,   0.5105,  34.6808,2,  34.6812,2,    210.1,   211.9,2,  118.79,2,   32.83,2,    2.20,2,  2260.9,2,  2367.7,6
740H20090203,       SR01,      70,          1,          4,          4,2,20090224,       1326,   -55.8343,   -57.8068,       4853,  3789.2,   0.8893,  34.7033,2,  34.7025,2,    198.2,   200.0,2,  118.01,2,   32.92,2,    2.19,2,  2264.9,2,  2371.0,6
740H20090203,       SR01,      70,          1,          5,          5,2,20090224,       1326,   -55.8343,   -57.8068,       4853,  3665.7,   1.0061,  34.7088,2,  34.7091,2,    195.3,   197.5,2,  117.29,2,   32.85,2,    2.19,2,  2263.2,2,  -999.0,9
740H20090203,       SR01,      70,          1,          6,          6,2,20090224,       1326,   -55.8343,   -57.8068,       4853,  3336.8,   1.2346,  34.7167,2,  34.7166,2,    189.6,   192.7,2,  112.06,2,   33.17,2,    2.18,2,  2263.1,2,  2370.6,6
740H20090203,       SR01,      70,          1,          7,          7,2,20090224,       1326,   -55.8343,   -57.8068,       4853,  3009.0,   1.5513,  34.7210,2,  34.7217,2,    182.4,   185.3,2,  104.96,2,   32.75,2,    2.17,2,  2263.7,2,  2371.0,6
740H20090203,       SR01,      70,          1,          8,          8,2,20090224,       1326,   -55.8343,   -57.8068,       4853,  2679.1,   1.7408,  34.7169,2,  34.7172,2,    176.4,   179.6,2,  100.10,2,   32.93,2,    2.19,2,  2267.6,2,  2370.5,6
740H20090203,       SR01,      70,          1,          9,          9,2,20090224,       1326,   -55.8343,   -57.8068,       4853,  2349.4,   1.9491,  34.7028,2,  34.7042,2,    169.2,   172.9,2,   96.48,2,   33.70,2,    2.24,2,  2267.9,2,  2368.7,6
740H20090203,       SR01,      70,          1,         10,         10,2,20090224,       1326,   -55.8343,   -57.8068,       4853,  1767.6,   2.2956,  34.6392,2,  34.6392,2,    161.7,   165.3,2,   83.87,2,   34.32,2,    2.28,2,  2262.6,2,  2357.1,6
740H20090203,       SR01,      70,          1,         11,         11,2,20090224,       1326,   -55.8343,   -57.8068,       4853,  1513.6,   2.4677,  34.5700,2,  34.5699,2,    162.8,   165.5,2,   75.02,2,   34.99,2,    2.31,2,  2256.1,2,  2348.0,6
740H20090203,       SR01,      70,          1,         12,         12,2,20090224,       1326,   -55.8343,   -57.8068,       4853,  1259.0,   2.7581,  34.4758,2,  34.4763,2,    165.5,   169.7,2,   65.81,2,   35.63,2,    2.34,2,  2248.7,2,  2339.3,6
740H20090203,       SR01,      70,          1,         13,         13,2,20090224,       1326,   -55.8343,   -57.8068,       4853,  1008.7,   3.0466,  34.3559,2,  34.3559,2,    189.0,   191.6,2,   49.04,2,   33.98,2,    2.26,2,  2225.1,2,  2317.7,6
740H20090203,       SR01,      70,          1,         14,         14,2,20090224,       1326,   -55.8343,   -57.8068,       4853,   882.4,   3.4054,  34.2966,2,  34.2935,2,    202.7,   205.7,2,   38.67,2,   32.61,2,    2.16,2,  2208.0,2,  2311.7,6
740H20090203,       SR01,      70,          1,         15,         15,2,20090224,       1326,   -55.8343,   -57.8068,       4853,   755.2,   3.5725,  34.2116,2,  34.2124,2,    230.5,   231.5,2,   27.84,2,   31.05,2,    2.02,2,  2185.9,2,  2302.0,6
740H20090203,       SR01,      70,          1,         16,         16,2,20090224,       1326,   -55.8343,   -57.8068,       4853,   627.8,   3.7810,  34.1637,2,  34.1640,2,    257.1,   260.8,2,   19.59,2,   28.26,2,    1.86,2,  2166.3,2,  -999.0,9
740H20090203,       SR01,      70,          1,         17,         17,2,20090224,       1326,   -55.8343,   -57.8068,       4853,   504.8,   4.2706,  34.1746,2,  34.1749,2,    261.7,   264.9,2,   15.89,2,   26.51,2,    1.77,2,  2155.8,2,  2299.6,6
740H20090203,       SR01,      70,          1,         18,         18,2,20090224,       1326,   -55.8343,   -57.8068,       4853,   376.4,   4.7348,  34.1784,2,  34.1781,2,    273.4,   276.9,2,   11.89,2,   24.72,2,    1.63,2,  2139.8,2,  2293.5,6
740H20090203,       SR01,      70,          1,         19,         19,2,20090224,       1326,   -55.8343,   -57.8068,       4853,   249.9,   4.9829,  34.1679,2,  34.1682,2,    276.2,   278.1,2,    9.89,2,   23.57,2,    1.57,2,  2137.7,2,  2291.1,6
740H20090203,       SR01,      70,          1,         20,         20,2,20090224,       1326,   -55.8343,   -57.8068,       4853,   174.3,   5.1783,  34.1452,2,  34.1444,2,    277.5,   279.3,2,    9.25,2,   23.18,2,    1.56,2,  2133.2,2,  2294.0,6
740H20090203,       SR01,      70,          1,         21,         21,2,20090224,       1326,   -55.8343,   -57.8068,       4853,   100.0,   5.8830,  34.0950,2,-999.0000,9,    276.6,   279.0,2,    7.69,2,   22.55,2,    1.49,2,  2124.1,2,  2288.5,6
740H20090203,       SR01,      70,          1,         22,         22,2,20090224,       1326,   -55.8343,   -57.8068,       4853,    99.7,   5.8780,  34.0948,2,  34.0937,2,    276.5,   278.9,2,    7.70,2,   22.20,2,    1.49,2,  2125.4,2,  2286.4,6
740H20090203,       SR01,      70,          1,         23,         23,2,20090224,       1326,   -55.8343,   -57.8068,       4853,    49.4,   7.0175,  34.0461,2,  34.0455,2,    287.0,   280.0,2,    3.99,2,   18.70,2,    1.30,2,  2103.3,2,  2283.7,6
740H20090203,       SR01,      70,          1,         24,         24,2,20090224,       1326,   -55.8343,   -57.8068,       4853,     9.1,   7.2942,  34.0318,2,  34.0309,2,    288.3,   299.5,2,    3.12,2,   18.04,2,    1.24,2,  2095.7,2,  2283.7,6
740H20090203,       SR01,      71,          1,          1,          1,2,20090224,       2057,   -55.5168,   -57.9662,       4285,  4274.7,   0.3661,  34.6730,2,  34.6741,2,    216.7,   217.2,2,  118.50,2,   33.45,2,    2.23,2,  2261.0,2,  2369.2,6
740H20090203,       SR01,      71,          1,          2,          2,2,20090224,       2057,   -55.5168,   -57.9662,       4285,  4221.5,   0.3817,  34.6742,2,  34.6755,2,    215.4,   215.5,2,  118.99,2,   33.55,2,    2.24,2,  2259.4,2,  2370.6,6
740H20090203,       SR01,      71,          1,          3,          3,2,20090224,       2057,   -55.5168,   -57.9662,       4285,  3818.0,   1.0177,  34.7081,2,  34.7088,2,    197.3,   199.1,2,  116.86,2,   33.36,2,    2.21,2,  2260.4,2,  2372.0,6
740H20090203,       SR01,      71,          1,          4,          4,2,20090224,       2057,   -55.5168,   -57.9662,       4285,  3560.6,   1.1943,  34.7149,2,  34.7158,2,    192.4,   194.7,2,  113.14,2,   33.29,2,    2.21,2,  2261.0,2,  2371.8,6
740H20090203,       SR01,      71,          1,          5,          5,2,20090224,       2057,   -55.5168,   -57.9662,       4285,  3305.5,   1.4739,  34.7206,2,  34.7205,2,    186.0,   188.6,2,  106.41,2,   32.74,2,    2.19,2,  2263.3,2,  2371.0,6
740H20090203,       SR01,      71,          1,          6,          6,2,20090224,       2057,   -55.5168,   -57.9662,       4285,  3049.1,   1.6126,  34.7202,2,  34.7204,2,    181.9,   184.2,2,  103.67,2,   33.15,2,    2.21,2,  2265.6,2,  2369.5,6
740H20090203,       SR01,      71,          1,          7,          7,2,20090224,       2057,   -55.5168,   -57.9662,       4285,  2794.0,   1.7732,  34.7158,2,  34.7167,2,    176.6,   180.5,2,  100.74,2,   33.39,2,    2.22,2,  2268.1,2,  2374.3,6
740H20090203,       SR01,      71,          1,          8,          8,2,20090224,       2057,   -55.5168,   -57.9662,       4285,  2536.2,   1.9172,  34.7067,2,  34.7074,2,    170.9,   173.6,2,   98.45,2,   34.13,2,    2.24,2,  2270.5,2,  2373.6,6
740H20090203,       SR01,      71,          1,          9,          9,2,20090224,       2057,   -55.5168,   -57.9662,       4285,  2283.3,   2.0682,  34.6906,2,  34.6913,2,    166.6,   170.0,2,   93.76,2,   34.09,2,    2.27,2,  2268.7,2,  2375.1,6
740H20090203,       SR01,      71,          1,         10,         10,2,20090224,       2057,   -55.5168,   -57.9662,       4285,  2025.6,   2.2166,  34.6637,2,  34.6646,2,    163.5,   167.1,2,   88.23,2,   34.94,2,    2.29,2,  2270.6,2,  2368.8,6
740H20090203,       SR01,      71,          1,         11,         11,2,20090224,       2057,   -55.5168,   -57.9662,       4285,  1772.9,   2.3524,  34.6208,2,  34.6207,2,    158.0,   161.2,2,   85.66,2,   35.74,2,    2.38,2,  2273.2,2,  2368.9,6
740H20090203,       SR01,      71,          1,         12,         12,2,20090224,       2057,   -55.5168,   -57.9662,       4285,  1517.9,   2.5709,  34.5448,2,  34.5442,2,    159.6,   162.6,2,   75.43,2,   36.20,2,    2.39,2,  2260.5,2,  2354.3,6
740H20090203,       SR01,      71,          1,         13,         13,2,20090224,       2057,   -55.5168,   -57.9662,       4285,  1266.3,   2.8802,  34.4349,2,  34.4348,2,    173.5,   176.7,2,   60.56,2,   35.17,2,    2.34,2,  2244.2,2,  2335.5,6
740H20090203,       SR01,      71,          1,         14,         14,2,20090224,       2057,   -55.5168,   -57.9662,       4285,  1011.0,   3.3920,  34.3184,2,  34.2582,2,    200.7,   203.7,2,   42.74,2,   33.22,2,    2.20,2,  2214.5,2,  2315.2,6
740H20090203,       SR01,      71,          1,         15,         15,2,20090224,       2057,   -55.5168,   -57.9662,       4285,   884.9,   3.7031,  34.2591,2,  34.2585,2,    219.9,   223.4,2,   32.41,2,   31.50,2,    2.07,2,  2192.7,2,  2309.1,6
740H20090203,       SR01,      71,          1,         16,         16,2,20090224,       2057,   -55.5168,   -57.9662,       4285,   757.3,   3.9137,  34.2268,2,  34.2278,2,    234.5,   237.0,2,   26.79,2,   29.75,2,    1.96,2,  2179.9,2,  2309.1,6
740H20090203,       SR01,      71,          1,         17,         17,2,20090224,       2057,   -55.5168,   -57.9662,       4285,   629.7,   4.0778,  34.2106,2,  34.2114,2,    246.0,   248.3,2,   23.35,2,   28.76,2,    1.87,2,  2169.2,2,  2298.6,6
740H20090203,       SR01,      71,          1,         18,         18,2,20090224,       2057,   -55.5168,   -57.9662,       4285,   504.6,   4.3402,  34.1843,2,  34.1849,2,    260.1,   262.6,2,   17.38,2,   26.98,2,    1.79,2,  2157.2,2,  2288.6,6
740H20090203,       SR01,      71,          1,         19,         19,2,20090224,       2057,   -55.5168,   -57.9662,       4285,   379.4,   4.8327,  34.1688,2,  34.1695,2,    275.2,   278.0,2,   10.96,2,   24.75,2,    1.63,2,  -999.0,9,  2286.9,6
740H20090203,       SR01,      71,          1,         20,         20,2,20090224,       2057,   -55.5168,   -57.9662,       4285,   252.4,   5.0119,  34.1569,2,  34.1577,2,    278.1,   283.2,2,    9.41,2,   23.92,2,    1.58,2,  2139.6,2,  2282.8,6
740H20090203,       SR01,      71,          1,         21,         21,2,20090224,       2057,   -55.5168,   -57.9662,       4285,   177.2,   5.2949,  34.1194,2,  34.1201,2,    279.7,   281.8,2,    8.07,2,   23.28,2,    1.55,2,  2132.6,2,  2281.3,6
740H20090203,       SR01,      71,          1,         22,         22,3,20090224,       2057,   -55.5168,   -57.9662,       4285,   102.2,   5.8332,  34.0658,2,-999.0000,9,    279.5,  -999.0,9,    5.58,2,   21.68,2,    1.46,2,  -999.0,9,  -999.0,9
740H20090203,       SR01,      71,          1,         23,         23,2,20090224,       2057,   -55.5168,   -57.9662,       4285,    52.1,   6.9106,  34.0475,2,  34.0474,2,    283.2,   284.4,2,    3.16,2,   19.26,2,    1.34,2,  2105.1,2,  2285.2,6
740H20090203,       SR01,      71,          1,         24,         24,2,20090224,       2057,   -55.5168,   -57.9662,       4285,    11.5,   7.0848,  34.0270,2,  34.0279,2,    284.6,   285.5,2,    2.88,2,   18.84,2,    1.30,2,  2101.9,2,  2281.2,6