BOTTLE,20211203CCHSIORKP
EXPOCODE,SECT_ID,STNNBR,CASTNO,SAMPNO,BTLNBR,BTLNBR_FLAG_W,DATE,TIME,LATITUDE,LONGITUDE,DEPTH,CTDPRS,CTDTMP,CTDSAL,CTDSAL_FLAG_W,SALNTY,SALNTY_FLAG_W,CTDOXY,OXYGEN,OXYGEN_FLAG_W,SILCAT,SILCAT_FLAG_W,NITRAT,NITRAT_FLAG_W,PHSPHT,PHSPHT_FLAG_W,TCARBN,TCARBN_FLAG_W,ALKALI,ALKALI_FLAG_W
,,,,,,,,,,,METERS,DBAR,ITS-90,PSS-78,,PSS-78,,UMOL/KG,UMOL/KG,,UMOL/KG,,UMOL/KG,,UMOL/KG,,UMOL/KG,,UMOL/KG,
740H20090203,       SR01,      57,          1,          1,          1,2,20090221,       0335,   -60.0001,   -55.2383,       3676,  3552.9,   0.0293,  34.6597,2,  34.6614,2,    224.3,   227.5,2,  117.92,4,   33.91,4,    2.25,4,  -999.0,9,  -999.0,9
740H20090203,       SR01,      57,          1,          2,          2,2,20090221,       0335,   -60.0001,   -55.2383,       3676,  3552.6,   0.0293,  34.6596,2,  34.6608,2,    223.8,   223.8,2,  117.21,2,   33.69,2,    2.24,2,  -999.0,9,  -999.0,9
740H20090203,       SR01,      57,          1,          3,          3,2,20090221,       0335,   -60.0001,   -55.2383,       3676,  3501.7,   0.0295,  34.6600,2,  34.6604,2,    223.9,   223.7,2,  117.94,2,   33.85,2,    2.24,2,  -999.0,9,  -999.0,9
740H20090203,       SR01,      57,          1,          4,          4,2,20090221,       0335,   -60.0001,   -55.2383,       3676,  3306.1,   0.0596,  34.6622,2,  34.6619,2,    221.6,   222.2,2,  116.85,2,   33.58,2,    2.23,2,  -999.0,9,  -999.0,9
740H20090203,       SR01,      57,          1,          5,          5,2,20090221,       0335,   -60.0001,   -55.2383,       3676,  3048.8,   0.1489,  34.6681,2,  34.6678,2,    217.5,   219.4,2,  117.93,2,   33.88,2,    2.23,2,  -999.0,9,  -999.0,9
740H20090203,       SR01,      57,          1,          6,          6,2,20090221,       0335,   -60.0001,   -55.2383,       3676,  2791.5,   0.2701,  34.6769,2,  34.6786,2,    212.7,   214.4,2,  120.01,2,   33.53,2,    2.23,2,  -999.0,9,  -999.0,9
740H20090203,       SR01,      57,          1,          7,          7,2,20090221,       0335,   -60.0001,   -55.2383,       3676,  2534.8,   0.4447,  34.6893,2,  34.6894,2,    206.3,   208.2,2,  122.73,2,   33.97,2,    2.22,2,  -999.0,9,  -999.0,9
740H20090203,       SR01,      57,          1,          8,          8,2,20090221,       0335,   -60.0001,   -55.2383,       3676,  2279.0,   0.5791,  34.6948,2,  34.6949,2,    202.7,   204.9,2,  122.29,2,   33.79,2,    2.22,2,  -999.0,9,  -999.0,9
740H20090203,       SR01,      57,          1,          9,          9,2,20090221,       0335,   -60.0001,   -55.2383,       3676,  2022.7,   0.6796,  34.6908,2,  34.6919,2,    202.5,   207.6,2,  116.05,2,   33.52,2,    2.20,2,  -999.0,9,  -999.0,9
740H20090203,       SR01,      57,          1,         10,         10,2,20090221,       0335,   -60.0001,   -55.2383,       3676,  1767.9,   0.7659,  34.6867,2,  34.6864,2,    202.8,   205.2,2,  111.26,2,   33.48,2,    2.19,2,  -999.0,9,  -999.0,9
740H20090203,       SR01,      57,          1,         11,         11,2,20090221,       0335,   -60.0001,   -55.2383,       3676,  1513.1,   0.9039,  34.6900,2,  34.6904,2,    200.4,   213.1,2,  106.14,2,   33.24,2,    2.18,2,  -999.0,9,  -999.0,9
740H20090203,       SR01,      57,          1,         12,         12,2,20090221,       0335,   -60.0001,   -55.2383,       3676,  1254.5,   1.1910,  34.7034,2,  34.7042,2,    193.1,   195.8,2,  102.08,2,   33.44,2,    2.18,2,  -999.0,9,  -999.0,9
740H20090203,       SR01,      57,          1,         13,         13,2,20090221,       0335,   -60.0001,   -55.2383,       3676,  1006.2,   1.3720,  34.7023,2,  34.7022,2,    190.2,   195.4,2,   96.51,2,   33.14,2,    2.18,2,  -999.0,9,  -999.0,9
740H20090203,       SR01,      57,          1,         14,         14,2,20090221,       0335,   -60.0001,   -55.2383,       3676,   884.6,   1.6304,  34.7145,2,  34.7141,2,    182.1,   185.8,2,   93.73,2,   33.07,2,    2.18,2,  -999.0,9,  -999.0,9
740H20090203,       SR01,      57,          1,         15,         15,2,20090221,       0335,   -60.0001,   -55.2383,       3676,   758.5,   1.7724,  34.7140,2,  34.7150,2,    178.0,   180.7,2,   90.70,2,   33.45,2,    2.19,2,  -999.0,9,  -999.0,9
740H20090203,       SR01,      57,          1,         16,         16,2,20090221,       0335,   -60.0001,   -55.2383,       3676,   632.3,   1.7915,  34.6944,2,  34.6965,2,    178.4,   181.3,2,   87.13,2,   33.27,2,    2.18,2,  -999.0,9,  -999.0,9
740H20090203,       SR01,      57,          1,         17,         17,2,20090221,       0335,   -60.0001,   -55.2383,       3676,   505.9,   1.6637,  34.6360,2,  34.6372,2,    184.4,   187.3,2,   83.43,2,   33.78,2,    2.21,2,  -999.0,9,  -999.0,9
740H20090203,       SR01,      57,          1,         18,         18,2,20090221,       0335,   -60.0001,   -55.2383,       3676,   379.5,   1.9117,  34.6158,2,  34.6236,2,    170.3,   179.7,2,   80.07,2,   34.97,2,    2.26,2,  -999.0,9,  -999.0,9
740H20090203,       SR01,      57,          1,         19,         19,2,20090221,       0335,   -60.0001,   -55.2383,       3676,   253.4,   1.4365,  34.4574,2,  34.4587,2,    196.2,   197.5,2,   71.18,2,   35.28,2,    2.30,2,  -999.0,9,  -999.0,9
740H20090203,       SR01,      57,          1,         20,         20,2,20090221,       0335,   -60.0001,   -55.2383,       3676,   178.1,   0.8641,  34.3367,2,  34.3389,2,    223.6,   223.5,2,   62.97,2,   34.39,2,    2.27,2,  -999.0,9,  -999.0,9
740H20090203,       SR01,      57,          1,         21,         21,2,20090221,       0335,   -60.0001,   -55.2383,       3676,   102.4,   0.4501,  34.1370,2,  34.1396,2,    275.7,   275.8,2,   48.40,2,   31.41,2,    2.09,2,  -999.0,9,  -999.0,9
740H20090203,       SR01,      57,          1,         22,         22,2,20090221,       0335,   -60.0001,   -55.2383,       3676,    77.6,   1.4854,  34.0272,2,  34.0230,2,    307.6,   311.6,2,   45.41,2,   27.03,2,    1.78,2,  -999.0,9,  -999.0,9
740H20090203,       SR01,      57,          1,         23,         23,2,20090221,       0335,   -60.0001,   -55.2383,       3676,    52.0,   2.0445,  34.0077,2,  34.0084,2,    316.3,   318.3,2,   46.38,2,   25.89,2,    1.72,2,  -999.0,9,  -999.0,9
740H20090203,       SR01,      57,          1,         24,         24,2,20090221,       0335,   -60.0001,   -55.2383,       3676,     7.1,   2.3041,  33.9752,2,  33.9763,2,    317.5,   318.1,2,   41.47,2,   25.64,2,    1.69,2,  -999.0,9,  -999.0,9
740H20090203,       SR01,      58,          1,          1,          1,2,20090221,       0920,   -59.6712,   -55.4516,       3995,  3729.9,   0.0343,  34.6591,2,  34.6598,2,    224.8,   226.8,2,  117.13,2,   32.87,2,    2.23,2,  2256.7,2,  2365.3,6
740H20090203,       SR01,      58,          1,          2,          2,2,20090221,       0920,   -59.6712,   -55.4516,       3995,  3680.2,   0.0455,  34.6600,2,  34.6608,2,    224.3,   224.7,2,  117.65,2,   33.10,2,    2.24,2,  2257.0,2,  2363.7,6
740H20090203,       SR01,      58,          1,          3,          3,2,20090221,       0920,   -59.6712,   -55.4516,       3995,  3566.1,   0.0679,  34.6615,2,  34.6619,2,    222.5,   223.8,2,  116.99,2,   34.21,4,    2.23,2,  2258.9,2,  2365.2,6
740H20090203,       SR01,      58,          1,          4,          4,2,20090221,       0920,   -59.6712,   -55.4516,       3995,  3308.4,   0.1413,  34.6660,2,  34.6664,2,    218.7,   220.1,2,  118.48,2,   33.08,2,    2.23,2,  2259.0,2,  -999.0,9
740H20090203,       SR01,      58,          1,          5,          5,2,20090221,       0920,   -59.6712,   -55.4516,       3995,  3051.0,   0.2503,  34.6729,2,  34.6719,2,    214.2,   215.9,2,  119.08,2,   32.92,2,    2.23,2,  2256.6,2,  2368.6,6
740H20090203,       SR01,      58,          1,          6,          6,2,20090221,       0920,   -59.6712,   -55.4516,       3995,  2794.6,   0.4153,  34.6851,2,  34.6860,2,    207.9,   210.7,2,  122.49,2,   33.17,2,    2.23,2,  2260.6,2,  2370.8,6
740H20090203,       SR01,      58,          1,          7,          7,2,20090221,       0920,   -59.6712,   -55.4516,       3995,  2538.3,   0.5648,  34.6936,2,  34.6940,2,    203.3,   206.2,2,  121.88,2,   34.84,4,    2.24,2,  2259.3,2,  2376.6,6
740H20090203,       SR01,      58,          1,          8,          8,2,20090221,       0920,   -59.6712,   -55.4516,       3995,  2281.5,   0.7444,  34.7038,2,  34.7044,2,    198.3,   201.3,2,  120.29,2,   33.25,2,    2.21,2,  2260.7,2,  2374.9,6
740H20090203,       SR01,      58,          1,          9,          9,2,20090221,       0920,   -59.6712,   -55.4516,       3995,  2026.3,   0.9242,  34.7130,2,  34.7133,2,    194.3,   197.6,2,  117.20,2,   32.92,2,    2.20,2,  2260.3,2,  2373.4,6
740H20090203,       SR01,      58,          1,         10,         10,2,20090221,       0920,   -59.6712,   -55.4516,       3995,  1771.8,   1.0462,  34.7126,2,  34.7135,2,    192.9,   196.1,2,  112.20,2,   32.76,2,    2.20,2,  2258.6,2,  2367.8,6
740H20090203,       SR01,      58,          1,         11,         11,2,20090221,       0920,   -59.6712,   -55.4516,       3995,  1516.1,   1.2680,  34.7206,2,  34.7210,2,    188.0,   191.8,2,  106.71,2,   32.87,2,    2.19,2,  2262.1,2,  2365.9,6
740H20090203,       SR01,      58,          1,         12,         12,2,20090221,       0920,   -59.6712,   -55.4516,       3995,  1263.6,   1.4458,  34.7186,2,  34.7181,2,    184.8,   188.0,2,  101.10,2,   33.14,2,    2.19,2,  2261.7,2,  2368.6,6
740H20090203,       SR01,      58,          1,         13,         13,2,20090221,       0920,   -59.6712,   -55.4516,       3995,  1009.0,   1.7183,  34.7185,2,  34.7191,2,    176.6,   179.9,2,   97.28,2,   34.06,4,    2.20,2,  2261.8,2,  2368.9,6
740H20090203,       SR01,      58,          1,         14,         14,2,20090221,       0920,   -59.6712,   -55.4516,       3995,   882.6,   1.8329,  34.7143,2,  34.7150,2,    174.9,   178.6,2,   93.48,2,   33.47,2,    2.20,2,  2262.7,2,  2366.1,6
740H20090203,       SR01,      58,          1,         15,         15,2,20090221,       0920,   -59.6712,   -55.4516,       3995,   754.9,   1.9740,  34.7053,2,  34.7054,2,    173.6,   176.9,2,   88.00,2,   33.52,2,    2.21,2,  2258.6,2,  2363.9,6
740H20090203,       SR01,      58,          1,         16,         16,2,20090221,       0920,   -59.6712,   -55.4516,       3995,   628.9,   2.0856,  34.6781,2,  34.6781,2,    168.0,   171.1,2,   86.21,2,   33.24,2,    2.24,2,  2260.9,2,  2364.5,6
740H20090203,       SR01,      58,          1,         17,         17,2,20090221,       0920,   -59.6712,   -55.4516,       3995,   503.4,   2.1473,  34.6308,2,  34.6313,2,    166.3,   169.5,2,   79.65,2,   34.15,2,    2.28,2,  2257.8,2,  2356.3,6
740H20090203,       SR01,      58,          1,         18,         18,2,20090221,       0920,   -59.6712,   -55.4516,       3995,   377.4,   2.2676,  34.5655,2,  34.5636,2,    166.5,   169.8,2,   74.49,2,   35.52,2,    2.34,2,  2254.5,2,  2351.2,6
740H20090203,       SR01,      58,          1,         19,         19,2,20090221,       0920,   -59.6712,   -55.4516,       3995,   250.7,   1.8889,  34.4069,2,  34.4044,2,    189.0,   192.6,2,   63.84,2,   35.06,2,    2.36,2,  2240.5,2,  2332.4,6
740H20090203,       SR01,      58,          1,         20,         20,2,20090221,       0920,   -59.6712,   -55.4516,       3995,   175.1,   0.5026,  34.1531,2,  34.1612,2,    259.1,   258.1,2,   45.64,2,   32.90,2,    2.21,2,  2206.1,2,  2316.4,6
740H20090203,       SR01,      58,          1,         21,         21,2,20090221,       0920,   -59.6712,   -55.4516,       3995,   100.4,  -0.3549,  33.9228,2,  33.9233,2,    325.3,   325.8,2,   28.89,2,   28.47,2,    1.93,2,  2169.3,2,  2306.1,6
740H20090203,       SR01,      58,          1,         22,         22,2,20090221,       0920,   -59.6712,   -55.4516,       3995,    73.8,   1.0588,  33.8690,2,-999.0000,9,    324.8,  -999.0,9,   25.38,2,   26.60,2,    1.79,2,  -999.0,9,  -999.0,9
740H20090203,       SR01,      58,          1,         23,         23,2,20090221,       0920,   -59.6712,   -55.4516,       3995,    48.7,   3.0542,  33.8168,2,-999.0000,9,    312.9,  -999.0,9,   18.67,2,   25.61,2,    1.65,2,  -999.0,9,  -999.0,9
740H20090203,       SR01,      58,          1,         24,         24,2,20090221,       0920,   -59.6712,   -55.4516,       3995,     3.1,   3.4032,  33.8161,2,  33.8164,2,    310.6,   312.6,2,   16.59,2,   25.66,2,    1.64,2,  2141.8,2,  2292.3,6
740H20090203,       SR01,      59,          1,          1,          1,2,20090221,       1506,   -59.3406,   -55.6473,       4010,  3818.8,   0.0918,  34.6614,2,  34.6598,2,    223.4,   225.5,2,  116.12,2,   32.85,2,    2.23,2,  -999.0,9,  -999.0,9
740H20090203,       SR01,      59,          1,          2,          2,2,20090221,       1506,   -59.3406,   -55.6473,       4010,  3768.3,   0.0882,  34.6615,2,  34.6608,2,    222.8,   223.1,2,  116.19,2,   32.85,2,    2.22,2,  -999.0,9,  -999.0,9
740H20090203,       SR01,      59,          1,          3,          3,2,20090221,       1506,   -59.3406,   -55.6473,       4010,  3566.1,   0.1424,  34.6653,2,  34.6643,2,    219.8,   221.0,2,  115.54,2,   32.75,2,    2.22,2,  -999.0,9,  -999.0,9
740H20090203,       SR01,      59,          1,          4,          4,2,20090221,       1506,   -59.3406,   -55.6473,       4010,  3308.3,   0.2199,  34.6713,2,  34.6690,2,    216.0,   217.7,2,  117.07,2,   32.82,2,    2.21,2,  -999.0,9,  -999.0,9
740H20090203,       SR01,      59,          1,          5,          5,2,20090221,       1506,   -59.3406,   -55.6473,       4010,  3049.9,   0.2877,  34.6764,2,  34.6752,2,    212.5,   213.9,2,  117.92,2,   33.25,2,    2.23,2,  -999.0,9,  -999.0,9
740H20090203,       SR01,      59,          1,          6,          6,2,20090221,       1506,   -59.3406,   -55.6473,       4010,  2793.9,   0.3422,  34.6813,2,  34.6806,2,    209.8,   212.2,2,  118.71,2,   32.93,2,    2.21,2,  -999.0,9,  -999.0,9
740H20090203,       SR01,      59,          1,          7,          7,2,20090221,       1506,   -59.3406,   -55.6473,       4010,  2537.6,   0.5158,  34.6937,2,  34.6929,2,    203.9,   207.1,2,  119.33,2,   32.86,2,    2.21,2,  -999.0,9,  -999.0,9
740H20090203,       SR01,      59,          1,          8,          8,2,20090221,       1506,   -59.3406,   -55.6473,       4010,  2282.2,   0.7526,  34.7055,2,  34.7048,2,    198.0,   201.3,2,  117.84,2,   32.47,2,    2.19,2,  -999.0,9,  -999.0,9
740H20090203,       SR01,      59,          1,          9,          9,2,20090221,       1506,   -59.3406,   -55.6473,       4010,  2026.6,   0.9343,  34.7126,2,  34.7125,2,    193.8,   197.6,2,  113.99,2,   32.69,2,    2.18,2,  -999.0,9,  -999.0,9
740H20090203,       SR01,      59,          1,         10,         10,2,20090221,       1506,   -59.3406,   -55.6473,       4010,  1770.9,   1.1762,  34.7203,2,  34.7194,2,    189.1,   192.9,2,  107.62,2,   32.49,2,    2.17,2,  -999.0,9,  -999.0,9
740H20090203,       SR01,      59,          1,         11,         11,2,20090221,       1506,   -59.3406,   -55.6473,       4010,  1516.5,   1.3506,  34.7231,2,  34.7221,2,    185.3,   188.9,2,  104.25,2,   32.27,2,    2.17,2,  -999.0,9,  -999.0,9
740H20090203,       SR01,      59,          1,         12,         12,2,20090221,       1506,   -59.3406,   -55.6473,       4010,  1262.9,   1.4242,  34.7204,2,  34.7197,2,    182.0,   185.4,2,  102.94,4,   32.75,4,    2.18,4,  -999.0,9,  -999.0,9
740H20090203,       SR01,      59,          1,         13,         13,2,20090221,       1506,   -59.3406,   -55.6473,       4010,  1009.0,   1.8059,  34.7203,2,  34.7187,2,    177.3,   181.2,2,   89.80,2,   32.41,2,    2.17,2,  -999.0,9,  -999.0,9
740H20090203,       SR01,      59,          1,         14,         14,2,20090221,       1506,   -59.3406,   -55.6473,       4010,   882.1,   1.8793,  34.7022,2,  34.7020,2,    174.8,   178.4,2,   86.56,2,   32.77,2,    2.19,2,  -999.0,9,  -999.0,9
740H20090203,       SR01,      59,          1,         15,         15,2,20090221,       1506,   -59.3406,   -55.6473,       4010,   755.2,   1.9337,  34.6914,2,  34.6903,2,    173.6,   176.9,2,   83.97,2,   33.15,2,    2.20,2,  -999.0,9,  -999.0,9
740H20090203,       SR01,      59,          1,         16,         16,2,20090221,       1506,   -59.3406,   -55.6473,       4010,   628.7,   2.0346,  34.6542,2,  34.6535,2,    169.2,   172.2,2,   80.20,2,   34.10,2,    2.25,2,  -999.0,9,  -999.0,9
740H20090203,       SR01,      59,          1,         17,         17,2,20090221,       1506,   -59.3406,   -55.6473,       4010,   502.2,   2.1585,  34.6020,2,  34.5995,2,    166.4,   169.5,2,   75.59,2,   34.76,2,    2.31,2,  -999.0,9,  -999.0,9
740H20090203,       SR01,      59,          1,         18,         18,2,20090221,       1506,   -59.3406,   -55.6473,       4010,   376.5,   1.9631,  34.4782,2,  34.4771,2,    177.5,   181.2,2,   68.31,2,   35.50,2,    2.37,2,  -999.0,9,  -999.0,9
740H20090203,       SR01,      59,          1,         19,         19,2,20090221,       1506,   -59.3406,   -55.6473,       4010,   250.8,   1.3422,  34.3128,2,  34.3084,2,    214.9,   219.4,2,   56.47,2,   34.81,2,    2.32,2,  -999.0,9,  -999.0,9
740H20090203,       SR01,      59,          1,         20,         20,2,20090221,       1506,   -59.3406,   -55.6473,       4010,   175.2,   1.1523,  34.2188,2,  34.2056,2,    237.6,   243.0,2,   46.89,2,   33.53,2,    2.23,2,  -999.0,9,  -999.0,9
740H20090203,       SR01,      59,          1,         21,         21,2,20090221,       1506,   -59.3406,   -55.6473,       4010,    99.9,  -0.3092,  33.9897,2,  33.9752,2,    308.6,   313.5,2,   31.91,2,   29.86,2,    2.01,2,  -999.0,9,  -999.0,9
740H20090203,       SR01,      59,          1,         22,         22,2,20090221,       1506,   -59.3406,   -55.6473,       4010,    48.5,   2.0252,  33.8450,2,  33.8410,2,    317.1,   320.9,2,   23.39,2,   25.57,2,    1.69,2,  -999.0,9,  -999.0,9
740H20090203,       SR01,      59,          1,         23,         23,2,20090221,       1506,   -59.3406,   -55.6473,       4010,    48.3,   2.0882,  33.8467,2,  33.8427,2,    314.2,  -999.0,9, -999.00,9, -999.00,9, -999.00,9,  -999.0,9,  -999.0,9
740H20090203,       SR01,      59,          1,         24,         24,2,20090221,       1506,   -59.3406,   -55.6473,       4010,     3.8,   2.9933,  33.8019,2,  33.8018,2,    312.9,   315.9,2,   19.06,2,   25.09,2,    1.67,2,  -999.0,9,  -999.0,9