BOTTLE,20211203CCHSIORKP
EXPOCODE,SECT_ID,STNNBR,CASTNO,SAMPNO,BTLNBR,BTLNBR_FLAG_W,DATE,TIME,LATITUDE,LONGITUDE,DEPTH,CTDPRS,CTDTMP,CTDSAL,CTDSAL_FLAG_W,SALNTY,SALNTY_FLAG_W,CTDOXY,OXYGEN,OXYGEN_FLAG_W,SILCAT,SILCAT_FLAG_W,NITRAT,NITRAT_FLAG_W,PHSPHT,PHSPHT_FLAG_W,TCARBN,TCARBN_FLAG_W,ALKALI,ALKALI_FLAG_W
,,,,,,,,,,,METERS,DBAR,ITS-90,PSS-78,,PSS-78,,UMOL/KG,UMOL/KG,,UMOL/KG,,UMOL/KG,,UMOL/KG,,UMOL/KG,,UMOL/KG,
740H20090203,       SR01,      66,          1,          1,          1,2,20090223,       1058,   -57.1002,   -57.0354,       4220,  4210.1,   0.1811,  34.6636,2,  34.6635,2,    221.5,   224.0,2,  117.34,2,   34.78,4,    2.24,2,  2256.7,2,  2374.4,6
740H20090203,       SR01,      66,          1,          2,          2,2,20090223,       1058,   -57.1002,   -57.0354,       4220,  4159.5,   0.1758,  34.6637,2,  34.6644,2,    220.9,   220.7,2,  116.98,2,   33.43,2,    2.24,2,  2254.4,3,  2364.3,6
740H20090203,       SR01,      66,          1,          3,          3,2,20090223,       1058,   -57.1002,   -57.0354,       4220,  3826.4,   0.1781,  34.6658,2,  34.6661,2,    218.6,   220.8,2,  117.52,2,   34.19,4,    2.24,2,  2252.4,3,  2370.1,6
740H20090203,       SR01,      66,          1,          4,          4,2,20090223,       1058,   -57.1002,   -57.0354,       4220,  3569.0,   0.2241,  34.6698,2,  34.6697,2,    215.8,   218.8,2,  118.11,2,   33.46,2,    2.24,2,  2253.7,3,  2368.1,6
740H20090203,       SR01,      66,          1,          5,          5,2,20090223,       1058,   -57.1002,   -57.0354,       4220,  3310.9,   0.3974,  34.6811,2,  34.6811,2,    209.5,   211.9,2,  119.19,2,   33.65,2,    2.24,2,  2259.5,2,  2370.0,6
740H20090203,       SR01,      66,          1,          6,          6,9,20090223,       1058,   -57.1002,   -57.0354,       4220,  3053.6,   0.5662,  34.6921,2,-999.0000,9,    203.8,  -999.0,9, -999.00,9, -999.00,9, -999.00,9,  -999.0,9,  -999.0,9
740H20090203,       SR01,      66,          1,          7,          7,2,20090223,       1058,   -57.1002,   -57.0354,       4220,  2796.1,   0.7121,  34.7016,2,  34.7024,2,    199.2,   202.5,2,  122.11,4,   33.43,2,    2.22,2,  2259.9,2,  2369.6,6
740H20090203,       SR01,      66,          1,          8,          8,2,20090223,       1058,   -57.1002,   -57.0354,       4220,  2539.6,   0.8256,  34.7071,2,  34.7072,2,    196.4,   199.5,2,  116.62,2,   33.02,2,    2.21,2,  2258.6,2,  2373.5,6
740H20090203,       SR01,      66,          1,          9,          9,2,20090223,       1058,   -57.1002,   -57.0354,       4220,  2285.4,   0.8911,  34.7071,2,  34.7105,2,    195.3,   198.9,2,  116.33,2,   33.25,2,    2.21,2,  2260.8,2,  2373.0,6
740H20090203,       SR01,      66,          1,         10,         10,2,20090223,       1058,   -57.1002,   -57.0354,       4220,  2028.8,   1.0439,  34.7125,2,  34.7129,2,    192.0,   195.3,2,  112.41,2,   33.12,2,    2.21,2,  2258.7,2,  2375.2,6
740H20090203,       SR01,      66,          1,         11,         11,2,20090223,       1058,   -57.1002,   -57.0354,       4220,  1775.7,   1.2427,  34.7176,2,  34.7177,2,    188.4,   191.8,2,  107.00,2,   33.06,2,    2.19,2,  2263.1,2,  2372.1,6
740H20090203,       SR01,      66,          1,         12,         12,2,20090223,       1058,   -57.1002,   -57.0354,       4220,  1519.7,   1.4356,  34.7208,2,  34.7198,2,    183.9,   187.6,2,  102.62,2,   33.12,2,    2.19,2,  2261.8,2,  2376.4,6
740H20090203,       SR01,      66,          1,         13,         13,2,20090223,       1058,   -57.1002,   -57.0354,       4220,  1265.5,   1.6117,  34.7179,2,  34.7177,2,    180.6,   184.5,2,   96.71,2,   33.27,2,    2.19,2,  2260.4,2,  2368.7,6
740H20090203,       SR01,      66,          1,         14,         14,2,20090223,       1058,   -57.1002,   -57.0354,       4220,  1011.9,   1.8063,  34.7040,2,  34.7044,2,    176.1,   179.5,2,   90.59,2,   33.75,2,    2.22,2,  2257.0,2,  2361.4,6
740H20090203,       SR01,      66,          1,         15,         15,2,20090223,       1058,   -57.1002,   -57.0354,       4220,   886.5,   1.8897,  34.6881,2,  34.6880,2,    174.6,   177.6,2,   87.02,2,   34.46,2,    2.24,2,  2257.1,2,  2356.4,6
740H20090203,       SR01,      66,          1,         16,         16,2,20090223,       1058,   -57.1002,   -57.0354,       4220,   759.3,   1.9714,  34.6632,2,  34.6633,2,    171.2,   174.9,2,   82.88,2,   34.48,2,    2.26,2,  2257.4,2,  2351.0,6
740H20090203,       SR01,      66,          1,         17,         17,2,20090223,       1058,   -57.1002,   -57.0354,       4220,   633.2,   2.0961,  34.6335,2,  34.6345,2,    167.8,   170.6,2,   78.83,2,   34.10,2,    2.27,2,  2254.0,2,  2349.8,6
740H20090203,       SR01,      66,          1,         18,         18,2,20090223,       1058,   -57.1002,   -57.0354,       4220,   506.9,   2.0047,  34.5759,2,  34.5689,2,    171.3,   175.0,2,   76.31,2,   34.99,2,    2.32,2,  2254.5,2,  2345.4,6
740H20090203,       SR01,      66,          1,         19,         19,2,20090223,       1058,   -57.1002,   -57.0354,       4220,   380.2,   1.8018,  34.4751,2,  34.4772,2,    183.3,   186.5,2,   69.77,2,   35.42,2,    2.36,2,  2247.1,2,  2336.2,6
740H20090203,       SR01,      66,          1,         20,         20,2,20090223,       1058,   -57.1002,   -57.0354,       4220,   253.4,   1.2918,  34.3248,2,  34.3237,2,    215.3,   217.3,2,   59.57,2,   34.60,2,    2.30,2,  2228.5,2,  2324.7,6
740H20090203,       SR01,      66,          1,         21,         21,2,20090223,       1058,   -57.1002,   -57.0354,       4220,   178.0,   0.3278,  34.1278,2,  34.1273,2,    271.9,   273.6,2,   47.10,2,   32.16,2,    2.15,2,  2200.0,2,  2311.4,6
740H20090203,       SR01,      66,          1,         22,         22,2,20090223,       1058,   -57.1002,   -57.0354,       4220,   102.3,   0.7949,  33.9395,2,  33.9407,2,    317.8,   320.2,2,   33.16,2,   27.46,2,    1.88,2,  2167.3,2,  2300.9,6
740H20090203,       SR01,      66,          1,         23,         23,2,20090223,       1058,   -57.1002,   -57.0354,       4220,    51.3,   3.9749,  33.8045,2,  33.8064,2,    311.0,   313.2,2,   12.92,2,   23.60,2,    1.48,2,  2131.3,2,  -999.0,9
740H20090203,       SR01,      66,          1,         24,         24,2,20090223,       1058,   -57.1002,   -57.0354,       4220,     6.1,   4.1895,  33.7947,2,  33.7956,2,    310.3,   311.8,2,   12.96,2,   23.41,2,    1.47,2,  2131.5,2,  2291.1,6
740H20090203,       SR01,      67,          1,          1,          1,2,20090223,       1729,   -56.7657,   -57.1617,       3349,  3168.2,   0.8103,  34.7024,2,  34.7025,2,    201.7,   205.2,2,  117.40,2,   32.90,2,    2.21,2,  2256.6,2,  2360.6,6
740H20090203,       SR01,      67,          1,          2,          2,2,20090223,       1729,   -56.7657,   -57.1617,       3349,  3168.2,   0.8135,  34.7027,2,  34.7016,2,    201.4,   201.7,2,  118.02,2,   32.75,2,    2.19,2,  2256.9,2,  2365.1,6
740H20090203,       SR01,      67,          1,          3,          3,2,20090223,       1729,   -56.7657,   -57.1617,       3349,  3114.2,   0.8158,  34.7030,2,  34.7020,2,    201.2,   201.7,2,  117.81,2,   32.74,2,    2.20,2,  2257.4,2,  2370.0,6
740H20090203,       SR01,      67,          1,          4,          4,2,20090223,       1729,   -56.7657,   -57.1617,       3349,  2776.4,   1.0353,  34.7126,2,  34.7118,2,    194.9,   196.9,2,  114.68,2,   32.50,2,    2.18,2,  -999.0,9,  -999.0,9
740H20090203,       SR01,      67,          1,          5,          5,2,20090223,       1729,   -56.7657,   -57.1617,       3349,  2549.0,   1.2356,  34.7188,2,  34.7182,2,    190.8,   192.4,2,  108.65,2,   32.20,2,    2.17,2,  2259.3,2,  -999.0,9
740H20090203,       SR01,      67,          1,          6,          6,2,20090223,       1729,   -56.7657,   -57.1617,       3349,  2297.4,   1.3410,  34.7213,2,  34.7206,2,    188.0,  -999.0,9,  105.26,2,   32.76,2,    2.18,2,  2257.9,2,  2368.6,6
740H20090203,       SR01,      67,          1,          7,          7,2,20090223,       1729,   -56.7657,   -57.1617,       3349,  2032.6,   1.5182,  34.7211,2,  34.7205,2,    184.2,   186.6,2,   99.80,2,   32.33,4,    2.17,2,  2262.6,2,  -999.0,9
740H20090203,       SR01,      67,          1,          8,          8,2,20090223,       1729,   -56.7657,   -57.1617,       3349,  1788.4,   1.6763,  34.7210,2,  34.7208,2,    179.1,   181.7,2,   98.03,2,   32.82,2,    2.16,2,  2263.7,2,  2365.9,6
740H20090203,       SR01,      67,          1,          9,          9,2,20090223,       1729,   -56.7657,   -57.1617,       3349,  1527.8,   1.8859,  34.7095,2,  34.7081,2,    173.2,   174.4,2,   92.47,2,   32.74,2,    2.21,2,  2265.2,2,  2360.9,6
740H20090203,       SR01,      67,          1,         10,         10,2,20090223,       1729,   -56.7657,   -57.1617,       3349,  1278.2,   2.1001,  34.6820,2,  34.6812,2,    168.0,   171.0,2,   86.25,2,   33.96,2,    2.26,2,  2262.7,2,  2358.4,6
740H20090203,       SR01,      67,          1,         11,         11,2,20090223,       1729,   -56.7657,   -57.1617,       3349,  1018.7,   2.2820,  34.6120,2,  34.6098,2,    165.2,   167.7,2,   77.38,2,   34.32,2,    2.30,2,  2258.8,2,  2345.4,6
740H20090203,       SR01,      67,          1,         12,         12,2,20090223,       1729,   -56.7657,   -57.1617,       3349,   881.1,   2.2885,  34.5517,2,  34.5502,2,    167.0,   169.2,2,   72.46,2,   34.90,2,    2.34,2,  2255.0,2,  2339.8,6
740H20090203,       SR01,      67,          1,         13,         13,2,20090223,       1729,   -56.7657,   -57.1617,       3349,   755.7,   2.4626,  34.4922,2,  34.4913,2,    170.7,   173.2,2,   66.82,2,   34.92,2,    2.34,2,  2248.3,2,  2330.6,6
740H20090203,       SR01,      67,          1,         14,         14,2,20090223,       1729,   -56.7657,   -57.1617,       3349,   629.7,   2.5271,  34.4060,2,  34.4033,2,    182.5,   187.0,2,   58.68,2,   34.88,2,    2.32,2,  2232.4,2,  -999.0,9
740H20090203,       SR01,      67,          1,         15,         15,2,20090223,       1729,   -56.7657,   -57.1617,       3349,   503.5,   2.4595,  34.3093,2,  34.3082,2,    204.1,   206.5,2,   48.80,2,   33.74,2,    2.27,2,  2221.0,2,  -999.0,9
740H20090203,       SR01,      67,          1,         16,         16,2,20090223,       1729,   -56.7657,   -57.1617,       3349,   377.8,   1.9424,  34.1496,2,  34.1491,2,    254.5,   256.7,2,   33.95,2,   31.43,2,    2.10,2,  2188.5,2,  2296.6,6
740H20090203,       SR01,      67,          1,         17,         17,2,20090223,       1729,   -56.7657,   -57.1617,       3349,   251.8,   2.0240,  34.0602,2,  34.0595,2,    285.3,   287.1,2,   23.36,2,   29.43,2,    1.96,2,  2164.9,2,  2287.5,6
740H20090203,       SR01,      67,          1,         18,         18,2,20090223,       1729,   -56.7657,   -57.1617,       3349,   175.8,   2.2244,  34.0184,2,  34.0158,2,    298.9,   299.9,2,   18.65,2,   28.01,2,    1.90,2,  2151.3,2,  2285.9,6
740H20090203,       SR01,      67,          1,         19,         19,2,20090223,       1729,   -56.7657,   -57.1617,       3349,   176.1,   2.2226,  34.0184,2,  34.0167,2,    299.0,   300.8,2,   18.61,2,   28.24,2,    1.89,2,  2152.9,2,  2280.5,6
740H20090203,       SR01,      67,          1,         20,         20,2,20090223,       1729,   -56.7657,   -57.1617,       3349,   100.2,   4.1959,  34.0989,2,  34.0860,2,    285.1,   288.9,2,   11.55,2,   25.23,2,    1.71,2,  -999.0,9,  -999.0,9
740H20090203,       SR01,      67,          1,         21,         21,2,20090223,       1729,   -56.7657,   -57.1617,       3349,   100.3,   4.1728,  34.0943,2,  34.0822,2,    285.5,   288.4,2,   11.51,2,   25.17,2,    1.71,2,  2139.4,2,  2275.3,6
740H20090203,       SR01,      67,          1,         22,         22,2,20090223,       1729,   -56.7657,   -57.1617,       3349,    49.7,   4.7005,  33.9233,2,  33.9233,2,    300.3,   304.0,2,    7.10,2,   24.02,2,    1.63,2,  -999.0,9,  -999.0,9
740H20090203,       SR01,      67,          1,         23,         23,2,20090223,       1729,   -56.7657,   -57.1617,       3349,    50.2,   4.7029,  33.9236,2,  33.9238,2,    300.5,   301.9,2,    7.16,2,   24.20,2,    1.65,2,  2123.3,2,  2275.8,6
740H20090203,       SR01,      67,          1,         24,         24,2,20090223,       1729,   -56.7657,   -57.1617,       3349,     4.8,   5.6552,  33.9527,2,  33.9521,2,    295.3,   296.6,2,    4.65,2,   22.27,2,    1.53,2,  2113.1,2,  2273.8,6
740H20090203,       SR01,      68,          1,          1,          1,2,20090224,       0020,   -56.4686,   -57.4246,       4138,  3947.2,   0.7354,  34.6943,2,  34.6949,2,    205.5,   209.5,2,  116.58,4,   33.01,4,    2.20,2,  2263.1,2,  2377.7,6
740H20090203,       SR01,      68,          1,          2,          2,2,20090224,       0020,   -56.4686,   -57.4246,       4138,  3946.7,   0.7356,  34.6943,2,  34.6953,2,    205.6,   205.3,2,  115.88,2,   32.69,2,    2.20,2,  2261.1,2,  2375.4,6
740H20090203,       SR01,      68,          1,          3,          3,2,20090224,       0020,   -56.4686,   -57.4246,       4138,  3895.4,   0.7372,  34.6947,2,  34.6948,2,    205.5,   205.6,2,  115.34,2,   32.76,2,    2.20,2,  2260.4,2,  2375.2,6
740H20090203,       SR01,      68,          1,          4,          4,2,20090224,       0020,   -56.4686,   -57.4246,       4138,  3567.4,   0.8808,  34.7040,2,  34.7043,2,    199.4,   200.9,2,  115.33,2,   32.96,2,    2.20,2,  2261.1,2,  2372.4,6
740H20090203,       SR01,      68,          1,          5,          5,2,20090224,       0020,   -56.4686,   -57.4246,       4138,  3309.7,   1.0206,  34.7109,2,  34.7107,2,    195.6,   196.9,2,  114.23,2,   33.03,2,    2.19,2,  2263.5,2,  2373.0,6
740H20090203,       SR01,      68,          1,          6,          6,2,20090224,       0020,   -56.4686,   -57.4246,       4138,  3052.4,   1.1838,  34.7165,2,  34.7171,2,    191.5,   193.1,2,  110.93,2,   32.78,2,    2.18,2,  2264.1,2,  2371.0,6
740H20090203,       SR01,      68,          1,          7,          7,2,20090224,       0020,   -56.4686,   -57.4246,       4138,  2793.6,   1.3951,  34.7221,2,  34.7226,2,    186.9,   189.9,2,  105.47,2,   32.70,2,    2.17,2,  2263.8,2,  2372.0,6
740H20090203,       SR01,      68,          1,          8,          8,2,20090224,       0020,   -56.4686,   -57.4246,       4138,  2537.6,   1.5922,  34.7207,2,  34.7218,2,    181.1,   184.6,2,  101.49,2,   32.60,2,    2.19,2,  2265.1,2,  2373.8,6
740H20090203,       SR01,      68,          1,          9,          9,2,20090224,       0020,   -56.4686,   -57.4246,       4138,  2281.5,   1.7512,  34.7151,2,  34.7155,2,    175.9,   178.4,2,   98.23,2,   33.10,2,    2.21,2,  2266.4,2,  2372.9,6
740H20090203,       SR01,      68,          1,         10,         10,2,20090224,       0020,   -56.4686,   -57.4246,       4138,  2025.3,   1.9235,  34.7001,2,  34.7008,2,    168.0,   170.7,2,   95.76,2,   33.34,2,    2.24,2,  2274.7,2,  2370.7,6
740H20090203,       SR01,      68,          1,         11,         11,2,20090224,       0020,   -56.4686,   -57.4246,       4138,  1768.9,   2.0602,  34.6836,2,  34.6836,2,    164.3,   167.4,2,   91.45,2,   33.98,2,    2.27,2,  2273.9,2,  2368.3,6
740H20090203,       SR01,      68,          1,         12,         12,2,20090224,       0020,   -56.4686,   -57.4246,       4138,  1516.4,   2.2247,  34.6499,2,  34.6500,2,    160.8,   163.3,2,   85.45,2,   34.46,2,    2.30,2,  2271.1,2,  2359.7,6
740H20090203,       SR01,      68,          1,         13,         13,2,20090224,       0020,   -56.4686,   -57.4246,       4138,  1260.6,   2.4195,  34.5840,2,  34.5840,2,    161.3,   164.3,2,   75.71,2,   34.92,2,    2.33,2,  2262.7,2,  2349.2,6
740H20090203,       SR01,      68,          1,         14,         14,2,20090224,       0020,   -56.4686,   -57.4246,       4138,  1010.3,   2.5945,  34.4838,2,  34.4839,2,    169.9,   173.1,2,   65.05,2,   35.09,2,    2.33,2,  2248.8,2,  2337.6,6
740H20090203,       SR01,      68,          1,         15,         15,2,20090224,       0020,   -56.4686,   -57.4246,       4138,   885.7,   2.7285,  34.4366,2,  34.4369,2,    174.8,   176.9,2,   59.73,2,   34.94,2,    2.32,2,  2241.3,2,  2330.5,6
740H20090203,       SR01,      68,          1,         16,         16,2,20090224,       0020,   -56.4686,   -57.4246,       4138,   759.8,   3.0487,  34.3594,2,  34.3593,2,    188.4,   189.9,2,   48.72,2,   33.95,2,    2.27,2,  2224.2,2,  2318.2,6
740H20090203,       SR01,      68,          1,         17,         17,2,20090224,       0020,   -56.4686,   -57.4246,       4138,   632.6,   3.0470,  34.2663,2,  34.2663,2,    213.3,   215.7,2,   37.81,2,   32.50,2,    2.16,2,  2201.4,2,  2309.0,6
740H20090203,       SR01,      68,          1,         18,         18,2,20090224,       0020,   -56.4686,   -57.4246,       4138,   506.4,   2.9947,  34.1654,2,  34.1662,2,    246.5,   247.9,2,   26.84,2,   30.63,2,    2.02,2,  2177.6,2,  2296.9,6
740H20090203,       SR01,      68,          1,         19,         19,2,20090224,       0020,   -56.4686,   -57.4246,       4138,   380.7,   3.5952,  34.1643,2,  34.1646,2,    254.7,   256.1,2,   21.07,2,   28.80,2,    1.91,2,  2168.6,2,  2294.0,6
740H20090203,       SR01,      68,          1,         20,         20,2,20090224,       0020,   -56.4686,   -57.4246,       4138,   254.4,   4.0620,  34.1473,2,  34.1436,2,    274.1,   277.0,2,   14.38,2,   26.34,2,    1.75,2,  2155.4,2,  2289.8,6
740H20090203,       SR01,      68,          1,         21,         21,2,20090224,       0020,   -56.4686,   -57.4246,       4138,   178.6,   4.8916,  34.1561,2,  34.1568,2,    279.4,   279.8,2,    9.53,2,   24.02,2,    1.61,2,  2138.0,2,  2285.5,6
740H20090203,       SR01,      68,          1,         22,         22,2,20090224,       0020,   -56.4686,   -57.4246,       4138,   103.4,   5.6296,  34.0802,2,  34.0828,2,    287.6,   287.8,2,    4.61,2,   21.93,2,    1.51,2,  2124.1,2,  2285.4,6
740H20090203,       SR01,      68,          1,         23,         23,2,20090224,       0020,   -56.4686,   -57.4246,       4138,    52.4,   6.6167,  34.0666,2,  34.0669,2,    286.6,   288.9,2,    3.32,2,   20.05,2,    1.37,2,  2110.9,2,  2286.1,6
740H20090203,       SR01,      68,          1,         24,         24,2,20090224,       0020,   -56.4686,   -57.4246,       4138,    12.1,   6.6721,  34.0509,2,  34.0515,2,    288.2,   194.8,4,    2.86,2,   20.32,2,    1.38,2,  2109.4,2,  2289.7,6