BOTTLE,20211203CCHSIORKP
EXPOCODE,SECT_ID,STNNBR,CASTNO,SAMPNO,BTLNBR,BTLNBR_FLAG_W,DATE,TIME,LATITUDE,LONGITUDE,DEPTH,CTDPRS,CTDTMP,CTDSAL,CTDSAL_FLAG_W,SALNTY,SALNTY_FLAG_W,CTDOXY,OXYGEN,OXYGEN_FLAG_W,SILCAT,SILCAT_FLAG_W,NITRAT,NITRAT_FLAG_W,PHSPHT,PHSPHT_FLAG_W,TCARBN,TCARBN_FLAG_W,ALKALI,ALKALI_FLAG_W
,,,,,,,,,,,METERS,DBAR,ITS-90,PSS-78,,PSS-78,,UMOL/KG,UMOL/KG,,UMOL/KG,,UMOL/KG,,UMOL/KG,,UMOL/KG,,UMOL/KG,
740H20090203,       SR01,      41,          1,          1,          1,2,20090217,       0544,   -62.7801,   -63.7000,       4318,  3335.2,   0.4244,  34.6917,2,  34.6920,2,    208.6,   212.0,2,  128.39,2,   33.53,2,    2.24,2,  2261.1,2,  2357.1,6
740H20090203,       SR01,      41,          1,          2,          2,2,20090217,       0544,   -62.7801,   -63.7000,       4318,  3283.4,   0.4158,  34.6913,2,  34.6929,2,    208.5,   209.6,2,  127.62,2,   33.66,2,    2.25,2,  2261.5,2,  2355.1,6
740H20090203,       SR01,      41,          1,          3,          3,2,20090217,       0544,   -62.7801,   -63.7000,       4318,  3051.8,   0.4245,  34.6938,2,  34.6932,2,    206.8,   208.6,2,  127.04,2,   33.89,2,    2.24,2,  2265.0,2,  2359.9,6
740H20090203,       SR01,      41,          1,          4,          4,2,20090217,       0544,   -62.7801,   -63.7000,       4318,  2795.3,   0.4487,  34.6977,2,  34.6984,2,    204.6,   207.2,2,  129.60,2,   33.87,2,    2.24,2,  2264.6,2,  2366.9,6
740H20090203,       SR01,      41,          1,          5,          5,2,20090217,       0544,   -62.7801,   -63.7000,       4318,  2540.5,   0.4814,  34.7010,2,  34.7004,2,    202.9,   205.1,2,  130.42,2,   33.71,2,    2.25,2,  2265.1,2,  2374.7,6
740H20090203,       SR01,      41,          1,          6,          6,9,20090217,       0544,   -62.7801,   -63.7000,       4318,  2283.4,   0.5374,  34.7037,2,-999.0000,9,    200.8,  -999.0,9, -999.00,9, -999.00,9, -999.00,9,  -999.0,9,  -999.0,9
740H20090203,       SR01,      41,          1,          7,          7,2,20090217,       0544,   -62.7801,   -63.7000,       4318,  2030.1,   0.6266,  34.7073,2,  34.7074,2,    198.5,   202.0,2,  126.48,2,   33.78,2,    2.24,2,  2264.2,2,  2375.2,6
740H20090203,       SR01,      41,          1,          8,          8,2,20090217,       0544,   -62.7801,   -63.7000,       4318,  1774.7,   0.7668,  34.7114,2,  34.7110,2,    196.2,   199.2,2,  122.39,2,   33.36,2,    2.23,2,  2261.7,2,  2381.3,6
740H20090203,       SR01,      41,          1,          9,          9,2,20090217,       0544,   -62.7801,   -63.7000,       4318,  1519.5,   0.9087,  34.7160,2,  34.7177,2,    193.7,   183.7,3,  117.59,2,   33.45,2,    2.22,2,  2260.5,2,  2385.4,6
740H20090203,       SR01,      41,          1,         10,         10,2,20090217,       0544,   -62.7801,   -63.7000,       4318,  1265.3,   1.0649,  34.7212,2,  34.7206,2,    190.8,   194.4,2,  113.04,2,   33.12,2,    2.22,2,  2259.0,2,  2378.2,6
740H20090203,       SR01,      41,          1,         11,         11,2,20090217,       0544,   -62.7801,   -63.7000,       4318,  1012.6,   1.2399,  34.7261,2,  34.7278,2,    187.9,   190.9,2,  106.94,2,   33.15,2,    2.21,2,  2259.5,2,  2365.4,6
740H20090203,       SR01,      41,          1,         12,         12,2,20090217,       0544,   -62.7801,   -63.7000,       4318,   886.9,   1.3548,  34.7287,2,  34.7286,2,    185.6,   188.5,2,  103.93,2,   33.19,2,    2.20,2,  2256.6,2,  2355.6,6
740H20090203,       SR01,      41,          1,         13,         13,2,20090217,       0544,   -62.7801,   -63.7000,       4318,   760.1,   1.4796,  34.7293,2,  34.7299,2,    183.5,   186.3,2,  100.47,2,   33.33,2,    2.19,2,  2255.6,2,  2351.4,6
740H20090203,       SR01,      41,          1,         14,         14,9,20090217,       0544,   -62.7801,   -63.7000,       4318,   632.5,   1.6220,  34.7273,2,-999.0000,9,    180.0,  -999.0,9, -999.00,9, -999.00,9, -999.00,9,  -999.0,9,  -999.0,9
740H20090203,       SR01,      41,          1,         15,         15,2,20090217,       0544,   -62.7801,   -63.7000,       4318,   505.4,   1.7475,  34.7207,2,  34.7202,2,    176.4,   179.6,2,   91.77,2,   33.62,2,    2.25,2,  2253.7,2,  2352.2,6
740H20090203,       SR01,      41,          1,         16,         16,2,20090217,       0544,   -62.7801,   -63.7000,       4318,   379.1,   1.8111,  34.6959,2,  34.6956,2,    172.1,   175.0,2,   89.37,2,   34.23,2,    2.27,2,  2260.8,2,  2356.0,6
740H20090203,       SR01,      41,          1,         17,         17,2,20090217,       0544,   -62.7801,   -63.7000,       4318,   253.3,   1.8144,  34.6459,2,  34.6449,2,    169.1,   172.4,2,   85.82,2,   34.84,2,    2.32,2,  2257.6,2,  2350.8,6
740H20090203,       SR01,      41,          1,         18,         18,2,20090217,       0544,   -62.7801,   -63.7000,       4318,   177.7,   1.7265,  34.5699,2,  34.5704,2,    171.4,   174.3,2,   84.68,2,   34.52,2,    2.28,2,  2255.9,2,  2343.9,6
740H20090203,       SR01,      41,          1,         19,         19,2,20090217,       0544,   -62.7801,   -63.7000,       4318,   127.8,   0.9103,  34.4183,2,  34.4161,2,    202.5,   204.8,2,   72.13,2,   34.82,2,    2.34,2,  2244.9,2,  2331.5,6
740H20090203,       SR01,      41,          1,         20,         20,2,20090217,       0544,   -62.7801,   -63.7000,       4318,   102.3,   0.0255,  34.2575,2,  34.2573,2,    254.1,   258.0,2,   70.22,2,   32.13,2,    2.19,2,  2221.1,2,  2324.2,6
740H20090203,       SR01,      41,          1,         21,         21,2,20090217,       0544,   -62.7801,   -63.7000,       4318,    76.3,  -0.1905,  34.0815,2,  34.1004,2,    311.5,   306.3,2,   56.04,2,   27.86,2,    1.97,2,  2189.4,2,  2317.8,6
740H20090203,       SR01,      41,          1,         22,         22,2,20090217,       0544,   -62.7801,   -63.7000,       4318,    51.0,   1.1510,  33.9837,2,  33.9868,2,    330.2,   330.9,2,   47.84,2,   24.84,2,    1.70,2,  2164.6,2,  2313.8,6
740H20090203,       SR01,      41,          1,         23,         23,2,20090217,       0544,   -62.7801,   -63.7000,       4318,    25.6,   2.4168,  33.9406,2,  33.9404,2,    318.7,   319.8,2,   38.08,2,   24.10,2,    1.63,2,  2151.8,2,  2308.2,6
740H20090203,       SR01,      41,          1,         24,         24,2,20090217,       0544,   -62.7801,   -63.7000,       4318,    11.1,   2.4174,  33.9397,2,  33.9404,2,    318.9,   319.8,2,   38.29,2,   24.20,2,    1.62,2,  2154.2,2,  2304.3,6
740H20090203,       SR01,      42,          1,          1,          1,2,20090217,       2135,   -62.8100,   -63.6200,       4318,  2686.7,   0.4834,  34.6988,2,  34.6998,2,    205.4,   208.3,2,  127.59,2,   32.98,2,    2.28,2,  -999.0,9,  -999.0,9
740H20090203,       SR01,      42,          1,          2,          2,2,20090217,       2135,   -62.8100,   -63.6200,       4318,  2639.6,   0.4861,  34.6991,2,  34.7026,2,    204.9,   206.5,2,  127.29,2,   33.01,2,    2.29,2,  -999.0,9,  -999.0,9
740H20090203,       SR01,      42,          1,          3,          3,2,20090217,       2135,   -62.8100,   -63.6200,       4318,  2542.3,   0.4855,  34.6995,2,  34.7012,2,    204.3,   205.8,2,  127.35,2,   33.38,2,    2.31,2,  -999.0,9,  -999.0,9
740H20090203,       SR01,      42,          1,          4,          4,2,20090217,       2135,   -62.8100,   -63.6200,       4318,  2286.7,   0.5099,  34.7018,2,  34.7025,2,    202.7,   205.2,2,  126.84,2,   33.34,2,    2.30,2,  -999.0,9,  -999.0,9
740H20090203,       SR01,      42,          1,          5,          5,2,20090217,       2135,   -62.8100,   -63.6200,       4318,  2031.8,   0.6081,  34.7061,2,  34.7070,2,    200.1,   202.1,2,  124.80,2,   32.71,2,    2.29,2,  -999.0,9,  -999.0,9
740H20090203,       SR01,      42,          1,          6,          6,2,20090217,       2135,   -62.8100,   -63.6200,       4318,  1777.1,   0.7095,  34.7091,2,  34.7102,2,    197.7,   201.3,2,  121.69,2,   32.62,2,    2.29,2,  -999.0,9,  -999.0,9
740H20090203,       SR01,      42,          1,          7,          7,2,20090217,       2135,   -62.8100,   -63.6200,       4318,  1523.3,   0.8860,  34.7148,2,  34.7158,2,    194.7,   196.7,2,  117.10,2,   32.97,2,    2.26,2,  -999.0,9,  -999.0,9
740H20090203,       SR01,      42,          1,          8,          8,2,20090217,       2135,   -62.8100,   -63.6200,       4318,  1268.7,   1.0417,  34.7199,2,  34.7210,2,    191.8,   194.6,2,  111.44,2,   32.54,2,    2.26,2,  -999.0,9,  -999.0,9
740H20090203,       SR01,      42,          1,          9,          9,2,20090217,       2135,   -62.8100,   -63.6200,       4318,  1015.3,   1.2309,  34.7254,2,  34.7280,2,    188.4,   191.1,2,  105.79,2,   32.84,2,    2.26,2,  -999.0,9,  -999.0,9
740H20090203,       SR01,      42,          1,         10,         10,2,20090217,       2135,   -62.8100,   -63.6200,       4318,   888.3,   1.3256,  34.7274,2,  34.7286,2,    186.4,   189.3,2,  102.81,2,   32.26,2,    2.25,2,  -999.0,9,  -999.0,9
740H20090203,       SR01,      42,          1,         11,         11,2,20090217,       2135,   -62.8100,   -63.6200,       4318,   762.0,   1.4758,  34.7291,2,  34.7303,2,    183.5,   187.6,2,   98.55,2,   32.18,2,    2.24,2,  -999.0,9,  -999.0,9
740H20090203,       SR01,      42,          1,         12,         12,2,20090217,       2135,   -62.8100,   -63.6200,       4318,   635.3,   1.6154,  34.7281,2,  34.7334,2,    181.1,   184.1,2,   94.64,2,   32.28,2,    2.24,2,  -999.0,9,  -999.0,9
740H20090203,       SR01,      42,          1,         13,         13,2,20090217,       2135,   -62.8100,   -63.6200,       4318,   507.7,   1.7566,  34.7197,2,  34.7206,2,    177.2,   180.0,2,   90.72,2,   32.66,2,    2.25,2,  -999.0,9,  -999.0,9
740H20090203,       SR01,      42,          1,         14,         14,2,20090217,       2135,   -62.8100,   -63.6200,       4318,   382.5,   1.8979,  34.7014,2,  34.7026,2,    172.1,   176.0,2,   86.53,2,   32.93,2,    2.28,2,  -999.0,9,  -999.0,9
740H20090203,       SR01,      42,          1,         15,         15,2,20090217,       2135,   -62.8100,   -63.6200,       4318,   256.1,   1.8422,  34.6423,2,  34.6407,2,    168.7,   171.3,2,   83.85,2,   34.26,2,    2.37,2,  -999.0,9,  -999.0,9
740H20090203,       SR01,      42,          1,         16,         16,2,20090217,       2135,   -62.8100,   -63.6200,       4318,   180.2,   1.4080,  34.5391,2,  34.5383,2,    177.4,   180.3,2,   82.00,2,   35.14,2,    2.43,2,  -999.0,9,  -999.0,9
740H20090203,       SR01,      42,          1,         17,         17,2,20090217,       2135,   -62.8100,   -63.6200,       4318,   180.3,   1.4035,  34.5386,2,  34.5380,2,    177.4,   180.3,2,   82.14,2,   35.17,2,    2.43,2,  -999.0,9,  -999.0,9
740H20090203,       SR01,      42,          1,         18,         18,2,20090217,       2135,   -62.8100,   -63.6200,       4318,   130.4,   0.9111,  34.4222,2,  34.4226,2,    201.2,   203.0,2,   74.31,2,   34.48,2,    2.45,2,  -999.0,9,  -999.0,9
740H20090203,       SR01,      42,          1,         19,         19,2,20090217,       2135,   -62.8100,   -63.6200,       4318,   106.3,   0.0462,  34.2650,2,  34.2637,2,    250.2,   252.1,2,   67.44,2,   31.42,2,    2.29,2,  -999.0,9,  -999.0,9
740H20090203,       SR01,      42,          1,         20,         20,2,20090217,       2135,   -62.8100,   -63.6200,       4318,   105.7,   0.0310,  34.2612,2,  34.2585,2,    251.4,   254.7,2,   67.46,2,   31.36,2,    2.30,2,  -999.0,9,  -999.0,9
740H20090203,       SR01,      42,          1,         21,         21,2,20090217,       2135,   -62.8100,   -63.6200,       4318,    78.9,  -0.2549,  34.0814,2,  34.0832,2,    312.8,   313.3,2,   53.87,2,   26.69,2,    1.93,2,  -999.0,9,  -999.0,9
740H20090203,       SR01,      42,          1,         22,         22,2,20090217,       2135,   -62.8100,   -63.6200,       4318,    54.3,   0.2016,  34.0316,2,  34.0315,2,    330.8,   331.3,2,   47.21,2,   25.08,2,    1.73,2,  -999.0,9,  -999.0,9
740H20090203,       SR01,      42,          1,         23,         23,2,20090217,       2135,   -62.8100,   -63.6200,       4318,    28.9,   2.3738,  33.9252,2,  33.9344,2,    318.2,   319.8,2,   38.46,2,   24.06,2,    1.59,2,  -999.0,9,  -999.0,9
740H20090203,       SR01,      42,          1,         24,         24,2,20090217,       2135,   -62.8100,   -63.6200,       4318,    13.4,   2.3737,  33.9251,2,  33.9253,2,    318.4,   317.8,2,   38.31,2,   24.13,2,    1.60,2,  -999.0,9,  -999.0,9
740H20090203,       SR01,      43,          1,          1,          1,4,20090218,       0050,   -62.8600,   -63.5202,       4318,  1758.4,   0.6990,  34.7086,2,-999.0000,9,    199.4,   320.3,4, -999.00,9, -999.00,9, -999.00,9,  -999.0,9,  -999.0,9
740H20090203,       SR01,      43,          1,          2,          2,2,20090218,       0050,   -62.8600,   -63.5202,       4318,  1705.0,   0.7066,  34.7088,2,  34.7093,2,    198.9,   199.6,2,  123.63,2,   33.40,2,    2.22,2,  2263.7,2,  2369.5,6
740H20090203,       SR01,      43,          1,          3,          3,2,20090218,       0050,   -62.8600,   -63.5202,       4318,  1521.8,   0.7687,  34.7111,2,  34.7113,2,    197.3,   198.1,2,  120.70,2,   33.46,2,    2.21,2,  2264.9,2,  2335.8,4
740H20090203,       SR01,      43,          1,          4,          4,9,20090218,       0050,   -62.8600,   -63.5202,       4318,  1520.6,   0.7690,  34.7110,2,-999.0000,9,    197.2,  -999.0,9, -999.00,9, -999.00,9, -999.00,9,  -999.0,9,  -999.0,9
740H20090203,       SR01,      43,          1,          5,          5,2,20090218,       0050,   -62.8600,   -63.5202,       4318,  1268.4,   0.9212,  34.7163,2,  34.7205,2,    194.3,   195.4,2,  117.01,2,   33.01,2,    2.19,2,  2264.9,2,  2366.9,6
740H20090203,       SR01,      43,          1,          6,          6,9,20090218,       0050,   -62.8600,   -63.5202,       4318,  1269.5,   0.9216,  34.7163,2,-999.0000,9,    194.4,  -999.0,9, -999.00,9, -999.00,9, -999.00,9,  -999.0,9,  -999.0,9
740H20090203,       SR01,      43,          1,          7,          7,2,20090218,       0050,   -62.8600,   -63.5202,       4318,  1013.7,   1.0819,  34.7215,2,  34.7214,2,    191.3,   192.3,2,  110.97,2,   33.10,2,    2.18,2,  2263.0,2,  2366.7,6
740H20090203,       SR01,      43,          1,          8,          8,2,20090218,       0050,   -62.8600,   -63.5202,       4318,   887.3,   1.2253,  34.7254,2,  34.7286,2,    188.5,   190.1,2,  106.55,2,   32.67,2,    2.17,2,  2262.2,2,  2364.1,6
740H20090203,       SR01,      43,          1,          9,          9,2,20090218,       0050,   -62.8600,   -63.5202,       4318,   761.5,   1.3627,  34.7281,2,  34.7282,2,    186.1,   186.8,2,  103.36,2,   32.91,2,    2.17,2,  2260.7,2,  2361.2,6
740H20090203,       SR01,      43,          1,         10,         10,2,20090218,       0050,   -62.8600,   -63.5202,       4318,   634.8,   1.5145,  34.7287,2,  34.7283,2,    182.9,   184.7,2,   98.60,2,   32.86,2,    2.17,2,  2259.7,2,  2360.3,6
740H20090203,       SR01,      43,          1,         11,         11,9,20090218,       0050,   -62.8600,   -63.5202,       4318,   633.7,   1.5105,  34.7288,2,-999.0000,9,    183.1,  -999.0,9, -999.00,9, -999.00,9, -999.00,9,  -999.0,9,  -999.0,9
740H20090203,       SR01,      43,          1,         12,         12,2,20090218,       0050,   -62.8600,   -63.5202,       4318,   508.2,   1.6529,  34.7231,2,  34.7225,2,    178.9,   180.5,2,   94.95,2,   33.07,2,    2.19,2,  2258.0,2,  2357.3,6
740H20090203,       SR01,      43,          1,         13,         13,9,20090218,       0050,   -62.8600,   -63.5202,       4318,   508.5,   1.6533,  34.7231,2,-999.0000,9,    178.8,  -999.0,9, -999.00,9, -999.00,9, -999.00,9,  -999.0,9,  -999.0,9
740H20090203,       SR01,      43,          1,         14,         14,2,20090218,       0050,   -62.8600,   -63.5202,       4318,   380.4,   1.7912,  34.6980,2,  34.6978,2,    171.7,   173.7,2,   89.85,2,   34.03,2,    2.25,2,  2260.6,2,  2351.5,6
740H20090203,       SR01,      43,          1,         15,         15,9,20090218,       0050,   -62.8600,   -63.5202,       4318,   381.5,   1.7906,  34.6981,2,-999.0000,9,    171.7,  -999.0,9, -999.00,9, -999.00,9, -999.00,9,  -999.0,9,  -999.0,9
740H20090203,       SR01,      43,          1,         16,         16,2,20090218,       0050,   -62.8600,   -63.5202,       4318,   256.5,   1.7169,  34.6337,2,  34.6331,2,    168.6,   170.8,2,   86.97,2,   34.97,2,    2.30,2,  2262.6,2,  2347.2,6
740H20090203,       SR01,      43,          1,         17,         17,9,20090218,       0050,   -62.8600,   -63.5202,       4318,   255.5,   1.7161,  34.6329,2,-999.0000,9,    168.7,  -999.0,9, -999.00,9, -999.00,9, -999.00,9,  -999.0,9,  -999.0,9
740H20090203,       SR01,      43,          1,         18,         18,2,20090218,       0050,   -62.8600,   -63.5202,       4318,   179.6,   1.1531,  34.5158,2,  34.5142,2,    186.5,   188.4,2,   85.51,2,   35.13,2,    2.32,2,  2253.6,2,  2337.8,6
740H20090203,       SR01,      43,          1,         19,         19,2,20090218,       0050,   -62.8600,   -63.5202,       4318,   129.3,   0.1166,  34.2958,2,  34.2943,2,    241.1,   243.7,2,   73.86,2,   33.06,2,    2.23,2,  2231.9,2,  2324.3,6
740H20090203,       SR01,      43,          1,         20,         20,2,20090218,       0050,   -62.8600,   -63.5202,       4318,   104.7,  -0.3125,  34.1535,2,  34.1545,2,    286.6,   288.4,2,   63.13,2,   29.55,2,    2.07,2,  2207.0,2,  2318.8,6
740H20090203,       SR01,      43,          1,         21,         21,2,20090218,       0050,   -62.8600,   -63.5202,       4318,    77.8,  -0.1702,  34.0545,2,  34.0405,2,    324.4,   327.0,2,   48.64,2,   25.28,2,    1.76,2,  2177.7,2,  2312.6,6
740H20090203,       SR01,      43,          1,         22,         22,2,20090218,       0050,   -62.8600,   -63.5202,       4318,    52.9,   0.4111,  34.0192,2,  34.0193,2,    335.4,   335.4,2,   45.41,2,   24.61,2,    1.66,2,  2167.7,2,  2316.4,6
740H20090203,       SR01,      43,          1,         23,         23,2,20090218,       0050,   -62.8600,   -63.5202,       4318,    28.3,   2.3249,  33.9262,2,  33.9265,2,    319.1,   320.7,2,   40.49,2,   23.99,2,    1.63,2,  2158.0,2,  2309.9,6
740H20090203,       SR01,      43,          1,         24,         24,2,20090218,       0050,   -62.8600,   -63.5202,       4318,     8.1,   2.3453,  33.9246,2,  33.9248,2,    319.0,   320.0,2,   40.82,2,   24.11,2,    1.61,2,  2155.9,2,  2308.0,6