BOTTLE,20211203CCHSIORKP
EXPOCODE,SECT_ID,STNNBR,CASTNO,SAMPNO,BTLNBR,BTLNBR_FLAG_W,DATE,TIME,LATITUDE,LONGITUDE,DEPTH,CTDPRS,CTDTMP,CTDSAL,CTDSAL_FLAG_W,SALNTY,SALNTY_FLAG_W,CTDOXY,OXYGEN,OXYGEN_FLAG_W,SILCAT,SILCAT_FLAG_W,NITRAT,NITRAT_FLAG_W,PHSPHT,PHSPHT_FLAG_W,TCARBN,TCARBN_FLAG_W,ALKALI,ALKALI_FLAG_W
,,,,,,,,,,,METERS,DBAR,ITS-90,PSS-78,,PSS-78,,UMOL/KG,UMOL/KG,,UMOL/KG,,UMOL/KG,,UMOL/KG,,UMOL/KG,,UMOL/KG,
740H20090203,       SR01,      24,          1,          1,          1,2,20090212,       1517,   -60.3200,   -68.1199,       3859,  3849.3,   0.7919,  34.7084,2,  34.7087,2,    201.3,   206.4,2,  122.46,2,   32.66,2,    2.14,2,  2262.4,2,  2370.3,6
740H20090203,       SR01,      24,          1,          2,          2,2,20090212,       1517,   -60.3200,   -68.1199,       3859,  3799.1,   0.7857,  34.7084,2,  34.7087,2,    200.9,   201.2,2,  122.33,2,   32.76,2,    2.12,2,  2259.9,2,  -999.0,9
740H20090203,       SR01,      24,          1,          3,          3,2,20090212,       1517,   -60.3200,   -68.1199,       3859,  3567.3,   0.7970,  34.7091,2,  34.7091,2,    199.7,   201.5,2,  121.11,2,   32.73,2,    2.14,2,  2263.1,2,  2369.2,6
740H20090203,       SR01,      24,          1,          4,          4,2,20090212,       1517,   -60.3200,   -68.1199,       3859,  3309.3,   0.8849,  34.7117,2,  34.7114,2,    197.3,   199.7,2,  118.32,2,   32.87,2,    2.14,2,  2262.6,2,  2366.5,6
740H20090203,       SR01,      24,          1,          5,          5,2,20090212,       1517,   -60.3200,   -68.1199,       3859,  3052.8,   1.0017,  34.7153,2,  34.7151,2,    194.5,   197.7,2,  114.55,2,   32.53,2,    2.17,2,  2260.2,2,  2366.8,6
740H20090203,       SR01,      24,          1,          6,          6,2,20090212,       1517,   -60.3200,   -68.1199,       3859,  2797.2,   1.1564,  34.7205,2,  34.7205,2,    191.6,   194.4,2,  110.50,2,   32.54,2,    2.13,2,  2259.1,2,  2367.2,6
740H20090203,       SR01,      24,          1,          7,          7,2,20090212,       1517,   -60.3200,   -68.1199,       3859,  2541.0,   1.2647,  34.7236,2,  34.7234,2,    189.1,   193.5,2,  106.80,2,   32.61,2,    2.18,2,  2258.0,2,  2367.0,6
740H20090203,       SR01,      24,          1,          8,          8,2,20090212,       1517,   -60.3200,   -68.1199,       3859,  2286.1,   1.4404,  34.7261,2,  34.7262,2,    185.5,   189.0,2,  102.84,2,   32.64,2,    2.13,2,  2260.3,2,  2371.0,6
740H20090203,       SR01,      24,          1,          9,          9,2,20090212,       1517,   -60.3200,   -68.1199,       3859,  2030.3,   1.5893,  34.7270,2,  34.7274,2,    182.3,   186.1,2,   98.73,2,   32.68,2,    2.13,2,  2257.2,2,  2369.4,6
740H20090203,       SR01,      24,          1,         10,         10,2,20090212,       1517,   -60.3200,   -68.1199,       3859,  1775.3,   1.7775,  34.7240,2,  34.7242,2,    178.6,   182.5,2,   92.68,2,   32.93,2,    2.13,2,  2257.2,2,  2369.5,6
740H20090203,       SR01,      24,          1,         11,         11,2,20090212,       1517,   -60.3200,   -68.1199,       3859,  1521.6,   1.9879,  34.7114,2,  34.7110,2,    174.3,   178.5,2,   87.60,2,   33.13,2,    2.16,2,  2257.5,2,  2358.4,6
740H20090203,       SR01,      24,          1,         12,         12,2,20090212,       1517,   -60.3200,   -68.1199,       3859,  1268.3,   2.1571,  34.6794,2,  34.6787,2,    169.8,   173.3,2,   82.15,2,   33.95,2,    2.20,2,  2252.7,2,  2359.1,6
740H20090203,       SR01,      24,          1,         13,         13,2,20090212,       1517,   -60.3200,   -68.1199,       3859,  1015.1,   2.3206,  34.6160,2,  34.6165,2,    165.7,   172.3,2,   77.08,2,   34.97,2,    2.34,2,  2253.8,2,  2352.4,6
740H20090203,       SR01,      24,          1,         14,         14,2,20090212,       1517,   -60.3200,   -68.1199,       3859,   888.3,   2.4096,  34.5714,2,  34.5709,2,    165.7,   179.5,2,   73.49,2,   35.25,2,    2.30,2,  2251.4,2,  2349.1,6
740H20090203,       SR01,      24,          1,         15,         15,2,20090212,       1517,   -60.3200,   -68.1199,       3859,   760.9,   2.4824,  34.5143,2,  34.5134,2,    168.4,   177.2,3,   68.17,2,   35.64,2,    2.32,2,  2247.2,2,  2338.9,6
740H20090203,       SR01,      24,          1,         16,         16,2,20090212,       1517,   -60.3200,   -68.1199,       3859,   634.3,   2.4561,  34.4379,2,  34.4383,2,    177.4,   195.6,2,   62.03,2,   35.66,2,    2.34,2,  2238.2,2,  2334.8,6
740H20090203,       SR01,      24,          1,         17,         17,2,20090212,       1517,   -60.3200,   -68.1199,       3859,   508.3,   2.5628,  34.3639,2,  34.3637,2,    190.7,   237.1,2,   54.21,2,   35.31,2,    2.30,2,  2227.0,2,  2327.1,6
740H20090203,       SR01,      24,          1,         18,         18,2,20090212,       1517,   -60.3200,   -68.1199,       3859,   381.5,   2.1157,  34.2176,2,  34.2174,2,    232.5,   262.1,2,   40.83,2,   33.51,2,    2.18,2,  2199.9,2,  2314.1,6
740H20090203,       SR01,      24,          1,         19,         19,2,20090212,       1517,   -60.3200,   -68.1199,       3859,   255.0,   1.7678,  34.1118,2,  34.1127,2,    270.5,   270.9,2,   30.98,2,   31.69,2,    2.06,2,  2181.8,2,  2302.4,6
740H20090203,       SR01,      24,          1,         20,         20,2,20090212,       1517,   -60.3200,   -68.1199,       3859,   179.4,   1.7056,  34.0615,2,  34.0628,2,    288.3,   289.7,2,   25.79,2,   30.80,2,    2.00,2,  2167.6,2,  2296.3,6
740H20090203,       SR01,      24,          1,         21,         21,2,20090212,       1517,   -60.3200,   -68.1199,       3859,   103.3,   1.9573,  33.9779,2,  33.9779,2,    314.7,   319.9,2,   20.41,2,   27.84,2,    1.84,2,  2149.7,2,  2300.3,6
740H20090203,       SR01,      24,          1,         22,         22,2,20090212,       1517,   -60.3200,   -68.1199,       3859,    78.1,   2.3139,  33.9748,2,  33.9753,2,    314.8,   315.5,2,   18.06,2,   27.34,2,    1.86,4,  2146.8,2,  2298.7,6
740H20090203,       SR01,      24,          1,         23,         23,2,20090212,       1517,   -60.3200,   -68.1199,       3859,    52.9,   3.9334,  33.9603,2,  33.9629,2,    309.1,   312.2,2,    4.72,2,   24.49,2,    1.65,2,  2127.4,2,  2297.9,6
740H20090203,       SR01,      24,          1,         24,         24,2,20090212,       1517,   -60.3200,   -68.1199,       3859,     7.2,   4.7311,  33.9422,2,  33.9425,2,    304.8,   306.2,2,    1.84,2,   24.21,2,    1.52,2,  2120.3,2,  2297.3,6
740H20090203,       SR01,      25,          1,          1,          1,2,20090212,       2101,   -60.5801,   -68.0601,       4079,  4069.4,   0.6139,  34.7050,2,  34.7064,2,    204.5,   209.1,2,  131.98,2,   33.62,2,    2.24,2,  -999.0,9,  -999.0,9
740H20090203,       SR01,      25,          1,          2,          2,2,20090212,       2101,   -60.5801,   -68.0601,       4079,  4018.4,   0.6149,  34.7052,2,  34.7065,2,    203.8,   205.1,2,  131.61,2,   33.40,2,    2.24,2,  -999.0,9,  -999.0,9
740H20090203,       SR01,      25,          1,          3,          3,2,20090212,       2101,   -60.5801,   -68.0601,       4079,  3822.7,   0.6048,  34.7054,2,  34.7066,2,    202.8,   207.5,3,  131.28,2,   33.56,2,    2.24,2,  -999.0,9,  -999.0,9
740H20090203,       SR01,      25,          1,          4,          4,2,20090212,       2101,   -60.5801,   -68.0601,       4079,  3565.3,   0.6684,  34.7071,2,  34.7080,2,    201.0,   200.4,2,  127.85,2,   33.76,2,    2.24,2,  -999.0,9,  -999.0,9
740H20090203,       SR01,      25,          1,          5,          5,2,20090212,       2101,   -60.5801,   -68.0601,       4079,  3309.3,   0.8475,  34.7109,2,  34.7115,2,    197.2,   200.5,2,  121.03,2,   33.57,2,    2.24,2,  -999.0,9,  -999.0,9
740H20090203,       SR01,      25,          1,          6,          6,2,20090212,       2101,   -60.5801,   -68.0601,       4079,  3052.4,   0.9908,  34.7148,2,  34.7158,2,    194.3,   197.6,3,  116.59,2,   33.49,2,    2.22,2,  -999.0,9,  -999.0,9
740H20090203,       SR01,      25,          1,          7,          7,2,20090212,       2101,   -60.5801,   -68.0601,       4079,  2796.4,   1.1162,  34.7192,2,  34.7204,2,    192.0,   195.3,2,  112.72,2,   33.21,2,    2.21,2,  -999.0,9,  -999.0,9
740H20090203,       SR01,      25,          1,          8,          8,2,20090212,       2101,   -60.5801,   -68.0601,       4079,  2541.4,   1.2614,  34.7234,2,  34.7249,2,    189.0,   193.1,2,  108.55,2,   33.29,2,    2.21,2,  -999.0,9,  -999.0,9
740H20090203,       SR01,      25,          1,          9,          9,2,20090212,       2101,   -60.5801,   -68.0601,       4079,  2285.7,   1.4357,  34.7262,2,  34.7275,2,    185.4,   192.1,2,  104.68,2,   33.28,2,    2.20,2,  -999.0,9,  -999.0,9
740H20090203,       SR01,      25,          1,         10,         10,2,20090212,       2101,   -60.5801,   -68.0601,       4079,  2030.7,   1.6056,  34.7263,2,  34.7279,2,    181.9,   186.2,2,   99.06,2,   33.21,2,    2.21,2,  -999.0,9,  -999.0,9
740H20090203,       SR01,      25,          1,         11,         11,2,20090212,       2101,   -60.5801,   -68.0601,       4079,  1776.4,   1.7627,  34.7165,2,  34.7179,2,    174.7,   186.7,2,   97.83,2,   33.53,2,    2.24,2,  -999.0,9,  -999.0,9
740H20090203,       SR01,      25,          1,         12,         12,2,20090212,       2101,   -60.5801,   -68.0601,       4079,  1522.2,   1.9823,  34.7105,2,  34.7116,2,    173.9,   177.1,2,   88.18,2,   33.50,2,    2.23,2,  -999.0,9,  -999.0,9
740H20090203,       SR01,      25,          1,         13,         13,2,20090212,       2101,   -60.5801,   -68.0601,       4079,  1267.8,   2.1696,  34.6762,2,  34.6773,2,    168.4,   174.2,2,   82.53,2,   33.98,2,    2.24,2,  -999.0,9,  -999.0,9
740H20090203,       SR01,      25,          1,         14,         14,2,20090212,       2101,   -60.5801,   -68.0601,       4079,  1013.7,   2.3116,  34.6185,2,  34.6192,2,    165.7,   169.2,2,   77.07,2,   35.18,2,    2.32,2,  -999.0,9,  -999.0,9
740H20090203,       SR01,      25,          1,         15,         15,2,20090212,       2101,   -60.5801,   -68.0601,       4079,   886.9,   2.4002,  34.5729,2,  34.5737,2,    165.5,   169.5,2,   73.63,2,   35.88,2,    2.50,4,  -999.0,9,  -999.0,9
740H20090203,       SR01,      25,          1,         16,         16,2,20090212,       2101,   -60.5801,   -68.0601,       4079,   760.1,   2.4531,  34.5109,2,  34.5126,2,    168.8,   172.1,2,   68.50,2,   35.80,2,    2.37,2,  -999.0,9,  -999.0,9
740H20090203,       SR01,      25,          1,         17,         17,2,20090212,       2101,   -60.5801,   -68.0601,       4079,   633.9,   2.5273,  34.4358,2,  34.4365,2,    177.2,   180.8,2,   61.03,2,   35.84,2,    2.38,2,  -999.0,9,  -999.0,9
740H20090203,       SR01,      25,          1,         18,         18,2,20090212,       2101,   -60.5801,   -68.0601,       4079,   506.2,   2.6286,  34.3511,2,  34.3512,2,    192.7,   195.4,2,   52.41,2,   35.23,2,    2.33,2,  -999.0,9,  -999.0,9
740H20090203,       SR01,      25,          1,         19,         19,2,20090212,       2101,   -60.5801,   -68.0601,       4079,   379.7,   2.1164,  34.1925,2,  34.1944,2,    241.8,   245.9,2,   37.36,2,   33.08,2,    2.22,2,  -999.0,9,  -999.0,9
740H20090203,       SR01,      25,          1,         20,         20,2,20090212,       2101,   -60.5801,   -68.0601,       4079,   253.2,   1.9049,  34.0755,2,  34.0762,2,    283.4,   284.9,2,   25.72,2,   30.31,2,    2.01,2,  -999.0,9,  -999.0,9
740H20090203,       SR01,      25,          1,         21,         21,2,20090212,       2101,   -60.5801,   -68.0601,       4079,   175.9,   2.1741,  34.0616,2,  34.0636,2,    289.6,   290.9,2,   22.35,2,   29.84,2,    2.07,4,  -999.0,9,  -999.0,9
740H20090203,       SR01,      25,          1,         22,         22,2,20090212,       2101,   -60.5801,   -68.0601,       4079,   101.2,   2.6260,  34.0485,2,  34.0493,2,    295.0,   296.1,2,   18.34,2,   28.59,2,    1.91,2,  -999.0,9,  -999.0,9
740H20090203,       SR01,      25,          1,         23,         23,2,20090212,       2101,   -60.5801,   -68.0601,       4079,    49.3,   3.6987,  33.9888,2,  33.9873,2,    308.2,   309.8,2,    4.62,2,   24.18,2,    1.69,2,  -999.0,9,  -999.0,9
740H20090203,       SR01,      25,          1,         24,         24,2,20090212,       2101,   -60.5801,   -68.0601,       4079,     5.3,   4.7965,  33.9521,2,  33.9532,2,    304.3,    24.0,4,    2.13,2,   24.11,2,    1.57,2,  -999.0,9,  -999.0,9
740H20090203,       SR01,      26,          1,          1,          1,2,20090213,       0249,   -60.8288,   -67.9902,       4030,  4020.0,   0.6019,  34.7048,2,  34.7066,2,    204.5,   206.0,2,  133.14,2,   34.09,2,    2.26,2,  2263.3,3,  2370.0,6
740H20090203,       SR01,      26,          1,          2,          2,2,20090213,       0249,   -60.8288,   -67.9902,       4030,  3967.5,   0.6014,  34.7050,2,  34.7066,2,    204.4,   205.1,2,  132.21,2,   34.13,2,    2.25,2,  2263.0,3,  2371.6,6
740H20090203,       SR01,      26,          1,          3,          3,2,20090213,       0249,   -60.8288,   -67.9902,       4030,  3819.4,   0.6189,  34.7054,2,  34.7066,2,    203.0,   203.8,2,  130.32,2,   34.00,2,    2.25,2,  2261.7,3,  2376.4,6
740H20090203,       SR01,      26,          1,          4,          4,2,20090213,       0249,   -60.8288,   -67.9902,       4030,  3561.1,   0.6922,  34.7070,2,  34.7084,2,    200.9,   203.0,2,  128.29,2,   33.95,2,    2.26,2,  2261.2,3,  2374.6,6
740H20090203,       SR01,      26,          1,          5,          5,2,20090213,       0249,   -60.8288,   -67.9902,       4030,  3303.3,   0.8295,  34.7102,2,  34.7110,2,    197.7,   200.6,2,  123.67,2,   33.91,2,    2.32,4,  2260.3,3,  2374.0,6
740H20090203,       SR01,      26,          1,          6,          6,2,20090213,       0249,   -60.8288,   -67.9902,       4030,  3047.4,   0.9937,  34.7151,2,  34.7158,2,    194.5,   197.6,2,  117.77,2,   33.49,2,    2.24,2,  2260.8,3,  2372.2,6
740H20090203,       SR01,      26,          1,          7,          7,2,20090213,       0249,   -60.8288,   -67.9902,       4030,  2793.0,   1.1209,  34.7195,2,  34.7210,2,    191.9,   195.5,2,  113.70,2,   33.76,4,    2.31,4,  2260.2,3,  2373.4,6
740H20090203,       SR01,      26,          1,          8,          8,2,20090213,       0249,   -60.8288,   -67.9902,       4030,  2537.9,   1.2662,  34.7231,2,  34.7247,2,    189.0,   192.2,2,  108.06,2,   32.93,2,    2.20,2,  2260.5,3,  2371.5,6
740H20090203,       SR01,      26,          1,          9,          9,2,20090213,       0249,   -60.8288,   -67.9902,       4030,  2283.2,   1.4206,  34.7252,2,  34.7264,2,    185.2,   189.6,2,  103.99,2,   33.22,2,    2.19,2,  2262.6,3,  2373.4,6
740H20090203,       SR01,      26,          1,         10,         10,2,20090213,       0249,   -60.8288,   -67.9902,       4030,  2028.7,   1.6003,  34.7256,2,  34.7265,2,    181.6,   184.7,2,   99.36,2,   33.07,2,    2.19,2,  2261.6,3,  2370.1,6
740H20090203,       SR01,      26,          1,         11,         11,2,20090213,       0249,   -60.8288,   -67.9902,       4030,  1775.3,   1.7939,  34.7225,2,  34.7228,2,    177.9,   182.4,2,   94.00,2,   33.19,2,    2.20,2,  2260.0,3,  2367.0,6
740H20090203,       SR01,      26,          1,         12,         12,2,20090213,       0249,   -60.8288,   -67.9902,       4030,  1519.8,   1.9739,  34.7105,2,  34.7110,2,    173.7,   177.4,2,   88.65,2,   33.41,2,    2.21,2,  2260.0,3,  2364.3,6
740H20090203,       SR01,      26,          1,         13,         13,2,20090213,       0249,   -60.8288,   -67.9902,       4030,  1266.5,   2.1542,  34.6813,2,  34.6824,2,    169.4,   173.8,2,   82.52,2,   34.09,2,    2.28,2,  2257.7,3,  2357.2,6
740H20090203,       SR01,      26,          1,         14,         14,2,20090213,       0249,   -60.8288,   -67.9902,       4030,  1012.6,   2.2911,  34.6256,2,  34.6261,2,    165.8,   169.8,2,   77.53,2,   35.07,2,    2.30,2,  2257.2,3,  2351.7,6
740H20090203,       SR01,      26,          1,         15,         15,2,20090213,       0249,   -60.8288,   -67.9902,       4030,   885.6,   2.3461,  34.5879,2,  34.5885,2,    165.6,  -999.0,9,   74.67,2,   35.36,2,    2.34,2,  2254.1,3,  2344.5,6
740H20090203,       SR01,      26,          1,         16,         16,2,20090213,       0249,   -60.8288,   -67.9902,       4030,   759.6,   2.3874,  34.5308,2,  34.5322,2,    167.6,   170.7,2,   70.13,2,   36.07,2,    2.37,2,  2252.0,3,  2341.9,6
740H20090203,       SR01,      26,          1,         17,         17,2,20090213,       0249,   -60.8288,   -67.9902,       4030,   632.2,   2.5082,  34.4511,2,  34.4526,2,    175.0,   178.7,2,   62.78,2,   36.17,2,    2.38,2,  2243.1,3,  2335.1,6
740H20090203,       SR01,      26,          1,         18,         18,2,20090213,       0249,   -60.8288,   -67.9902,       4030,   505.8,   2.6180,  34.3606,2,  34.3615,2,    190.4,   194.0,2,   53.51,2,   35.37,2,    2.33,2,  2229.6,3,  2322.0,6
740H20090203,       SR01,      26,          1,         19,         19,2,20090213,       0249,   -60.8288,   -67.9902,       4030,   379.1,   2.1825,  34.2270,2,  34.2281,2,    228.6,   231.1,2,   41.90,2,   33.47,2,    2.22,2,  2205.9,3,  2308.7,6
740H20090203,       SR01,      26,          1,         20,         20,2,20090213,       0249,   -60.8288,   -67.9902,       4030,   252.0,   1.6832,  34.1025,2,  34.1088,2,    274.6,   274.5,2,   30.69,2,   31.58,2,    2.18,4,  2183.1,3,  2299.0,6
740H20090203,       SR01,      26,          1,         21,         21,2,20090213,       0249,   -60.8288,   -67.9902,       4030,   176.3,   1.6182,  34.0416,2,  34.0447,2,    296.1,   297.3,2,   24.44,2,   30.38,2,    1.99,2,  2166.4,3,  2298.2,6
740H20090203,       SR01,      26,          1,         22,         22,2,20090213,       0249,   -60.8288,   -67.9902,       4030,   100.8,   1.9596,  33.9734,2,  33.9758,2,    315.4,   316.4,2,   20.84,2,   27.73,2,    1.91,2,  2153.5,3,  2287.3,6
740H20090203,       SR01,      26,          1,         23,         23,2,20090213,       0249,   -60.8288,   -67.9902,       4030,    50.1,   2.7738,  33.9675,2,-999.0000,9,    314.6,  -999.0,9,   11.77,2,   25.97,2,    1.85,2,  -999.0,9,  -999.0,9
740H20090203,       SR01,      26,          1,         24,         24,2,20090213,       0249,   -60.8288,   -67.9902,       4030,     8.2,   4.4908,  33.9369,2,  33.9381,2,    305.6,   308.0,2,    2.53,2,   24.36,2,    1.55,2,  2124.8,3,  2283.6,6