BOTTLE,20211203CCHSIORKP
EXPOCODE,SECT_ID,STNNBR,CASTNO,SAMPNO,BTLNBR,BTLNBR_FLAG_W,DATE,TIME,LATITUDE,LONGITUDE,DEPTH,CTDPRS,CTDTMP,CTDSAL,CTDSAL_FLAG_W,SALNTY,SALNTY_FLAG_W,CTDOXY,OXYGEN,OXYGEN_FLAG_W,SILCAT,SILCAT_FLAG_W,NITRAT,NITRAT_FLAG_W,PHSPHT,PHSPHT_FLAG_W,TCARBN,TCARBN_FLAG_W,ALKALI,ALKALI_FLAG_W
,,,,,,,,,,,METERS,DBAR,ITS-90,PSS-78,,PSS-78,,UMOL/KG,UMOL/KG,,UMOL/KG,,UMOL/KG,,UMOL/KG,,UMOL/KG,,UMOL/KG,
740H20090203,       SR01,      33,          1,          1,          1,2,20090214,       1953,   -62.1401,   -65.5800,       3675,  3664.9,   0.5153,  34.6999,2,  34.7006,2,    206.3,   203.2,2,  128.62,2,   32.76,2,    2.33,2,  -999.0,9,  -999.0,9
740H20090203,       SR01,      33,          1,          2,          2,2,20090214,       1953,   -62.1401,   -65.5800,       3675,  3613.5,   0.5204,  34.7007,2,  34.7003,2,    205.7,   206.1,2,  129.48,2,   32.66,2,    2.24,2,  -999.0,9,  -999.0,9
740H20090203,       SR01,      33,          1,          3,          3,2,20090214,       1953,   -62.1401,   -65.5800,       3675,  3566.5,   0.5347,  34.7039,2,  34.7036,2,    204.5,   205.2,2,  131.83,2,   32.71,2,    2.24,2,  -999.0,9,  -999.0,9
740H20090203,       SR01,      33,          1,          4,          4,2,20090214,       1953,   -62.1401,   -65.5800,       3675,  3309.9,   0.5273,  34.7046,2,  34.7042,2,    203.2,   205.2,2,  131.37,2,   32.98,2,    2.24,2,  -999.0,9,  -999.0,9
740H20090203,       SR01,      33,          1,          5,          5,2,20090214,       1953,   -62.1401,   -65.5800,       3675,  3053.5,   0.5522,  34.7055,2,  34.7044,2,    201.8,   204.9,2,  128.78,2,   32.63,2,    2.24,2,  -999.0,9,  -999.0,9
740H20090203,       SR01,      33,          1,          6,          6,2,20090214,       1953,   -62.1401,   -65.5800,       3675,  2797.5,   0.6729,  34.7080,2,  34.7076,2,    199.3,   202.9,2,  124.39,2,   32.73,2,    2.24,2,  -999.0,9,  -999.0,9
740H20090203,       SR01,      33,          1,          7,          7,2,20090214,       1953,   -62.1401,   -65.5800,       3675,  2543.3,   0.8113,  34.7114,2,  34.7110,2,    196.4,   199.1,2,  121.04,2,   32.53,2,    2.24,2,  -999.0,9,  -999.0,9
740H20090203,       SR01,      33,          1,          8,          8,2,20090214,       1953,   -62.1401,   -65.5800,       3675,  2287.4,   0.9588,  34.7160,2,  34.7160,2,    193.4,   197.2,2,  115.24,2,   32.49,2,    2.21,2,  -999.0,9,  -999.0,9
740H20090203,       SR01,      33,          1,          9,          9,2,20090214,       1953,   -62.1401,   -65.5800,       3675,  2031.0,   1.1077,  34.7207,2,  34.7206,2,    191.1,   197.1,2,  111.44,2,   32.30,2,    2.17,2,  -999.0,9,  -999.0,9
740H20090203,       SR01,      33,          1,         10,         10,2,20090214,       1953,   -62.1401,   -65.5800,       3675,  1777.5,   1.2466,  34.7248,2,  34.7251,2,    188.2,   192.0,2,  107.02,2,   32.14,2,    2.15,2,  -999.0,9,  -999.0,9
740H20090203,       SR01,      33,          1,         11,         11,2,20090214,       1953,   -62.1401,   -65.5800,       3675,  1524.0,   1.4017,  34.7274,2,  34.7264,2,    185.1,   198.6,2,  103.00,2,   31.97,2,    2.18,2,  -999.0,9,  -999.0,9
740H20090203,       SR01,      33,          1,         12,         12,2,20090214,       1953,   -62.1401,   -65.5800,       3675,  1268.1,   1.6360,  34.7299,2,  34.7287,2,    181.9,   184.8,2,   95.51,2,   32.04,2,    2.19,2,  -999.0,9,  -999.0,9
740H20090203,       SR01,      33,          1,         13,         13,2,20090214,       1953,   -62.1401,   -65.5800,       3675,  1014.4,   1.8572,  34.7216,2,  34.7218,2,    177.2,   182.8,2,   88.80,2,   31.96,2,    2.20,2,  -999.0,9,  -999.0,9
740H20090203,       SR01,      33,          1,         14,         14,2,20090214,       1953,   -62.1401,   -65.5800,       3675,   889.1,   1.9510,  34.7102,2,  34.7112,2,    173.8,   177.3,2,   86.63,2,   32.52,2,    2.23,2,  -999.0,9,  -999.0,9
740H20090203,       SR01,      33,          1,         15,         15,2,20090214,       1953,   -62.1401,   -65.5800,       3675,   760.7,   2.0386,  34.6880,2,  34.6881,2,    170.1,   173.9,2,   83.22,2,   33.17,2,    2.26,2,  -999.0,9,  -999.0,9
740H20090203,       SR01,      33,          1,         16,         16,2,20090214,       1953,   -62.1401,   -65.5800,       3675,   635.0,   2.1017,  34.6584,2,  34.6580,2,    167.3,   170.7,2,   81.06,2,   33.80,2,    2.28,2,  -999.0,9,  -999.0,9
740H20090203,       SR01,      33,          1,         17,         17,2,20090214,       1953,   -62.1401,   -65.5800,       3675,   508.7,   2.1417,  34.6089,2,  34.6080,2,    166.8,   169.8,2,   77.67,2,   34.73,2,    2.33,2,  -999.0,9,  -999.0,9
740H20090203,       SR01,      33,          1,         18,         18,2,20090214,       1953,   -62.1401,   -65.5800,       3675,   380.6,   2.1241,  34.5435,2,  34.5430,2,    169.2,   172.8,2,   73.74,2,   35.17,2,    2.38,2,  -999.0,9,  -999.0,9
740H20090203,       SR01,      33,          1,         19,         19,2,20090214,       1953,   -62.1401,   -65.5800,       3675,   254.4,   1.9047,  34.4353,2,  34.4338,2,    183.8,   186.5,2,   66.40,2,   35.76,2,    2.42,2,  -999.0,9,  -999.0,9
740H20090203,       SR01,      33,          1,         20,         20,2,20090214,       1953,   -62.1401,   -65.5800,       3675,   178.0,   0.9887,  34.2694,2,  34.2662,2,    228.2,   230.6,2, -999.00,9, -999.00,9, -999.00,9,  -999.0,9,  -999.0,9
740H20090203,       SR01,      33,          1,         21,         21,2,20090214,       1953,   -62.1401,   -65.5800,       3675,   101.0,  -0.7323,  33.9543,2,  33.9546,2,    332.0,  -999.0,9,   34.24,2,   27.15,2,    1.94,2,  -999.0,9,  -999.0,9
740H20090203,       SR01,      33,          1,         22,         22,2,20090214,       1953,   -62.1401,   -65.5800,       3675,    75.6,  -0.2565,  33.9056,2,  33.9053,2,    338.6,   340.3,2,   29.14,2,   26.42,2,    1.89,2,  -999.0,9,  -999.0,9
740H20090203,       SR01,      33,          1,         23,         23,2,20090214,       1953,   -62.1401,   -65.5800,       3675,    50.6,   2.6909,  33.8023,2,  33.8018,2,    316.7,   319.3,2,   20.92,2,   24.76,2,    1.68,2,  -999.0,9,  -999.0,9
740H20090203,       SR01,      33,          1,         24,         24,2,20090214,       1953,   -62.1401,   -65.5800,       3675,    10.3,   2.7482,  33.8002,2,  33.7999,2,    316.4,   318.5,2,   21.04,2,   24.78,2,    1.67,2,  -999.0,9,  -999.0,9
740H20090203,       SR01,      36,          1,          1,          1,2,20090216,       0416,   -62.2799,   -65.2101,       4126,  4115.8,   0.5115,  34.6944,2,  34.6951,2,    208.7,   208.8,2,  129.64,2,   36.62,4,    2.27,2,  2263.7,2,  2375.4,6
740H20090203,       SR01,      36,          1,          2,          2,2,20090216,       0416,   -62.2799,   -65.2101,       4126,  4064.6,   0.5077,  34.6947,2,  34.6948,2,    208.1,   208.0,2,  129.52,2,   33.66,2,    2.26,2,  2263.1,2,  2375.3,6
740H20090203,       SR01,      36,          1,          3,          3,2,20090216,       0416,   -62.2799,   -65.2101,       4126,  3819.9,   0.5474,  34.7015,2,  34.7018,2,    204.8,   206.0,2,  131.78,2,   33.87,2,    2.28,2,  2264.7,3,  2374.3,6
740H20090203,       SR01,      36,          1,          4,          4,2,20090216,       0416,   -62.2799,   -65.2101,       4126,  3563.5,   0.5492,  34.7030,2,  34.7024,2,    203.2,   205.3,2,  130.21,2,   33.84,2,    2.25,2,  2264.7,3,  2374.7,6
740H20090203,       SR01,      36,          1,          5,          5,2,20090216,       0416,   -62.2799,   -65.2101,       4126,  3306.2,   0.5758,  34.7039,2,  34.7031,2,    201.8,   204.0,2,  128.10,2,   33.61,2,    2.26,2,  2268.6,2,  2374.6,6
740H20090203,       SR01,      36,          1,          6,          6,2,20090216,       0416,   -62.2799,   -65.2101,       4126,  3052.7,   0.6264,  34.7057,2,  34.7053,2,    200.3,   203.4,2,  127.23,2,   33.58,2,    2.24,2,  2265.6,3,  2376.2,6
740H20090203,       SR01,      36,          1,          7,          7,2,20090216,       0416,   -62.2799,   -65.2101,       4126,  2796.0,   0.7273,  34.7088,2,  34.7085,2,    197.7,   201.1,2,  123.93,2,   33.45,2,    2.24,2,  2263.7,3,  2374.5,6
740H20090203,       SR01,      36,          1,          8,          8,2,20090216,       0416,   -62.2799,   -65.2101,       4126,  2539.6,   0.8614,  34.7124,2,  34.7126,2,    195.1,   198.7,2,  119.21,2,   33.23,2,    2.23,2,  2265.5,2,  2371.3,6
740H20090203,       SR01,      36,          1,          9,          9,2,20090216,       0416,   -62.2799,   -65.2101,       4126,  2283.4,   0.9883,  34.7167,2,  34.7176,2,    192.8,   196.2,2,  115.25,2,   33.28,2,    2.21,2,  2265.2,2,  2376.7,6
740H20090203,       SR01,      36,          1,         10,         10,2,20090216,       0416,   -62.2799,   -65.2101,       4126,  2028.6,   1.1320,  34.7216,2,  34.7223,2,    190.1,   193.6,2,  111.25,2,   33.07,2,    2.24,4,  2264.9,3,  2375.1,6
740H20090203,       SR01,      36,          1,         11,         11,2,20090216,       0416,   -62.2799,   -65.2101,       4126,  1774.3,   1.2837,  34.7258,2,  34.7249,2,    187.5,   190.8,2,  106.77,2,   33.18,2,    2.19,2,  2264.9,2,  2374.4,6
740H20090203,       SR01,      36,          1,         12,         12,2,20090216,       0416,   -62.2799,   -65.2101,       4126,  1519.6,   1.4701,  34.7299,2,  34.7296,2,    184.3,   188.4,2,  100.52,2,   32.92,2,    2.21,2,  2262.7,2,  2372.3,6
740H20090203,       SR01,      36,          1,         13,         13,2,20090216,       0416,   -62.2799,   -65.2101,       4126,  1266.4,   1.6543,  34.7295,2,  34.7297,2,    181.3,   185.1,2,   95.49,2,   32.73,2,    2.20,2,  2261.7,2,  2366.6,6
740H20090203,       SR01,      36,          1,         14,         14,2,20090216,       0416,   -62.2799,   -65.2101,       4126,  1012.8,   1.8749,  34.7198,2,  34.7194,2,    176.5,   180.2,2,   87.63,2,   32.39,2,    2.19,2,  2258.8,2,  2363.0,6
740H20090203,       SR01,      36,          1,         15,         15,2,20090216,       0416,   -62.2799,   -65.2101,       4126,   885.9,   1.9615,  34.7084,2,  34.7076,2,    173.5,   177.0,2,   86.40,2,   33.28,2,    2.24,2,  2260.7,2,  2361.4,6
740H20090203,       SR01,      36,          1,         16,         16,2,20090216,       0416,   -62.2799,   -65.2101,       4126,   759.3,   2.0434,  34.6879,2,  34.6890,2,    170.2,   173.5,2,   82.20,2,   33.85,2,    2.24,2,  2257.5,2,  2357.5,6
740H20090203,       SR01,      36,          1,         17,         17,2,20090216,       0416,   -62.2799,   -65.2101,       4126,   631.9,   2.0864,  34.6572,2,  34.6574,2,    168.0,   172.0,2,   79.77,2,   34.16,2,    2.28,2,  2258.0,2,  2353.9,6
740H20090203,       SR01,      36,          1,         18,         18,2,20090216,       0416,   -62.2799,   -65.2101,       4126,   505.8,   2.1038,  34.6054,2,  34.6057,2,    167.6,   170.7,2,   77.11,2,   34.80,2,    2.33,2,  2259.2,2,  2344.5,6
740H20090203,       SR01,      36,          1,         19,         19,2,20090216,       0416,   -62.2799,   -65.2101,       4126,   379.6,   2.0567,  34.5418,2,  34.5407,2,    170.9,   174.1,2,   72.90,2,   35.55,2,    2.41,2,  2253.7,2,  2340.2,6
740H20090203,       SR01,      36,          1,         20,         20,2,20090216,       0416,   -62.2799,   -65.2101,       4126,   253.6,   1.9101,  34.4371,2,  34.4305,2,    184.0,   187.0,2,   66.06,2,   35.96,2,    2.38,2,  2245.1,2,  2328.3,6
740H20090203,       SR01,      36,          1,         21,         21,2,20090216,       0416,   -62.2799,   -65.2101,       4126,   177.5,   1.1752,  34.2996,2,  34.3073,2,    219.7,   219.2,2,   58.08,2,   34.90,2,    2.36,2,  2225.1,2,  2320.6,6
740H20090203,       SR01,      36,          1,         22,         22,2,20090216,       0416,   -62.2799,   -65.2101,       4126,   102.6,  -0.7801,  34.0043,2,  34.0068,2,    316.5,   317.3,2,   38.35,2,   29.63,2,    2.05,2,  2179.7,2,  2299.9,6
740H20090203,       SR01,      36,          1,         23,         23,2,20090216,       0416,   -62.2799,   -65.2101,       4126,    51.8,   0.8613,  33.8843,2,  33.8889,2,    334.6,   336.4,2,   28.49,2,   26.16,2,    1.76,2,  2153.2,2,  2295.1,6
740H20090203,       SR01,      36,          1,         24,         24,2,20090216,       0416,   -62.2799,   -65.2101,       4126,     6.0,   2.6955,  33.8051,2,  33.8051,2,    316.9,   319.6,2,   21.34,2,   25.48,2,    1.65,2,  2146.3,2,  2296.5,6
740H20090203,       SR01,      37,          1,          1,          1,2,20090216,       0917,   -62.3888,   -64.8228,       3911,  3901.0,   0.4101,  34.6863,2,  34.6859,2,    212.0,   213.3,2,  125.95,2,   33.42,2,    2.25,2,  2260.8,2,  2380.2,6
740H20090203,       SR01,      37,          1,          2,          2,2,20090216,       0917,   -62.3888,   -64.8228,       3911,  3850.3,   0.4993,  34.6963,2,  34.6953,2,    207.5,   209.3,2,  131.25,2,   33.31,2,    2.24,2,  -999.0,9,  -999.0,9
740H20090203,       SR01,      37,          1,          3,          3,2,20090216,       0917,   -62.3888,   -64.8228,       3911,  3563.9,   0.5258,  34.7031,2,  34.7025,2,    204.1,   204.1,2,  133.73,2,   33.49,2,    2.24,2,  -999.0,9,  -999.0,9
740H20090203,       SR01,      37,          1,          4,          4,2,20090216,       0917,   -62.3888,   -64.8228,       3911,  3305.8,   0.5287,  34.7023,2,  34.7017,2,    203.3,   205.0,2,  131.60,2,   33.42,2,    2.24,2,  -999.0,9,  -999.0,9
740H20090203,       SR01,      37,          1,          5,          5,2,20090216,       0917,   -62.3888,   -64.8228,       3911,  3050.0,   0.5727,  34.7044,2,  34.7035,2,    201.5,   203.8,2,  130.21,2,   33.27,2,    2.24,2,  -999.0,9,  -999.0,9
740H20090203,       SR01,      37,          1,          6,          6,2,20090216,       0917,   -62.3888,   -64.8228,       3911,  2794.5,   0.6587,  34.7072,2,  34.7061,2,    199.2,   201.7,2,  127.03,2,   33.40,2,    2.24,2,  -999.0,9,  -999.0,9
740H20090203,       SR01,      37,          1,          7,          7,2,20090216,       0917,   -62.3888,   -64.8228,       3911,  2538.7,   0.7770,  34.7105,2,  34.7101,2,    196.8,   200.0,2,  123.06,2,   33.23,2,    2.24,2,  2264.2,2,  2376.3,6
740H20090203,       SR01,      37,          1,          8,          8,2,20090216,       0917,   -62.3888,   -64.8228,       3911,  2282.1,   0.9249,  34.7150,2,  34.7134,2,    194.0,   197.6,2,  118.72,2,   32.97,2,    2.23,2,  -999.0,9,  -999.0,9
740H20090203,       SR01,      37,          1,          9,          9,2,20090216,       0917,   -62.3888,   -64.8228,       3911,  2032.6,   1.0560,  34.7194,2,  34.7191,2,    191.7,   195.3,2,  115.02,2,   33.10,2,    2.22,2,  -999.0,9,  -999.0,9
740H20090203,       SR01,      37,          1,         10,         10,2,20090216,       0917,   -62.3888,   -64.8228,       3911,  1778.1,   1.2225,  34.7245,2,  34.7240,2,    188.3,   192.1,2,  109.22,2,   32.68,2,    2.20,2,  -999.0,9,  -999.0,9
740H20090203,       SR01,      37,          1,         11,         11,2,20090216,       0917,   -62.3888,   -64.8228,       3911,  1523.0,   1.3885,  34.7281,2,  34.7281,2,    185.4,   189.5,2,  104.08,2,   32.41,2,    2.20,2,  2265.6,2,  2373.1,6
740H20090203,       SR01,      37,          1,         12,         12,2,20090216,       0917,   -62.3888,   -64.8228,       3911,  1269.6,   1.5601,  34.7301,2,  34.7298,2,    182.9,   186.1,2,   98.71,2,   32.55,2,    2.18,2,  -999.0,9,  -999.0,9
740H20090203,       SR01,      37,          1,         13,         13,2,20090216,       0917,   -62.3888,   -64.8228,       3911,  1015.2,   1.8117,  34.7243,2,  34.7238,2,    177.7,   182.2,2,   90.61,2,   32.53,2,    2.20,2,  -999.0,9,  -999.0,9
740H20090203,       SR01,      37,          1,         14,         14,2,20090216,       0917,   -62.3888,   -64.8228,       3911,   889.1,   1.8966,  34.7134,2,  34.7129,2,    173.7,   176.4,2,   87.96,2,   33.04,2,    2.24,2,  -999.0,9,  -999.0,9
740H20090203,       SR01,      37,          1,         15,         15,2,20090216,       0917,   -62.3888,   -64.8228,       3911,   757.4,   2.0176,  34.6960,2,  34.6958,2,    171.5,   175.4,2,   84.53,2,   33.31,2,    2.24,2,  -999.0,9,  -999.0,9
740H20090203,       SR01,      37,          1,         16,         16,2,20090216,       0917,   -62.3888,   -64.8228,       3911,   635.4,   2.0762,  34.6724,2,  34.6720,2,    168.8,   171.7,2,   81.50,2,   33.67,2,    2.24,2,  -999.0,9,  -999.0,9
740H20090203,       SR01,      37,          1,         17,         17,2,20090216,       0917,   -62.3888,   -64.8228,       3911,   508.0,   2.0926,  34.6286,2,  34.6294,2,    167.0,   171.3,2,   78.73,2,   34.12,2,    2.29,2,  2256.3,2,  2348.2,6
740H20090203,       SR01,      37,          1,         18,         18,9,20090216,       0917,   -62.3888,   -64.8228,       3911,   382.0,   2.0819,  34.5627,2,-999.0000,9,    169.5,  -999.0,9, -999.00,9, -999.00,9, -999.00,9,  -999.0,9,  -999.0,9
740H20090203,       SR01,      37,          1,         19,         19,2,20090216,       0917,   -62.3888,   -64.8228,       3911,   254.4,   1.8840,  34.4412,2,  34.4396,2,    183.6,   186.3,2,   66.54,2,   35.49,2,    2.39,2,  -999.0,9,  -999.0,9
740H20090203,       SR01,      37,          1,         20,         20,2,20090216,       0917,   -62.3888,   -64.8228,       3911,   179.1,   1.2767,  34.3132,2,  34.3121,2,    215.1,   218.5,2,   57.51,2,   34.71,2,    2.35,2,  -999.0,9,  -999.0,9
740H20090203,       SR01,      37,          1,         21,         21,2,20090216,       0917,   -62.3888,   -64.8228,       3911,   103.3,  -0.8193,  34.0451,2,  34.0449,2,    304.8,  -999.0,9,   41.55,2,   30.53,2,    2.12,2,  2187.7,2,  2308.8,6
740H20090203,       SR01,      37,          1,         22,         22,2,20090216,       0917,   -62.3888,   -64.8228,       3911,    76.4,  -0.6526,  33.9527,2,  33.9529,2,    336.5,   336.8,2,   34.95,2,   27.09,2,    1.89,2,  2165.4,2,  2305.3,6
740H20090203,       SR01,      37,          1,         23,         23,2,20090216,       0917,   -62.3888,   -64.8228,       3911,    51.0,   0.4700,  33.9112,2,  33.9121,2,    337.6,   338.3,2,   31.09,2,   26.30,2,    1.79,2,  2155.3,2,  2306.1,6
740H20090203,       SR01,      37,          1,         24,         24,2,20090216,       0917,   -62.3888,   -64.8228,       3911,     6.1,   2.4623,  33.8209,2,  33.8209,2,    318.5,   320.1,2,   24.40,2,   25.97,2,    1.76,2,  2149.5,2,  2296.0,6