BOTTLE,20211203CCHSIORKP
EXPOCODE,SECT_ID,STNNBR,CASTNO,SAMPNO,BTLNBR,BTLNBR_FLAG_W,DATE,TIME,LATITUDE,LONGITUDE,DEPTH,CTDPRS,CTDTMP,CTDSAL,CTDSAL_FLAG_W,SALNTY,SALNTY_FLAG_W,CTDOXY,OXYGEN,OXYGEN_FLAG_W,SILCAT,SILCAT_FLAG_W,NITRAT,NITRAT_FLAG_W,PHSPHT,PHSPHT_FLAG_W,TCARBN,TCARBN_FLAG_W,ALKALI,ALKALI_FLAG_W
,,,,,,,,,,,METERS,DBAR,ITS-90,PSS-78,,PSS-78,,UMOL/KG,UMOL/KG,,UMOL/KG,,UMOL/KG,,UMOL/KG,,UMOL/KG,,UMOL/KG,
740H20090203,       SR01,      60,          1,          1,          1,4,20090221,       2136,   -59.0259,   -55.8639,       4010,  3804.9,   0.1126,  34.6623,2,-999.0000,9,    222.4,   187.4,4,   97.02,4,   37.42,4,    2.18,4,  -999.0,9,  -999.0,9
740H20090203,       SR01,      60,          1,          2,          2,2,20090221,       2136,   -59.0259,   -55.8639,       4010,  3752.4,   0.1152,  34.6628,2,  34.6626,2,    221.5,   223.1,2,  116.17,2,   33.12,2,    2.23,2,  2252.6,3,  2362.1,6
740H20090203,       SR01,      60,          1,          3,          3,2,20090221,       2136,   -59.0259,   -55.8639,       4010,  3567.5,   0.2064,  34.6689,2,  34.6696,2,    218.0,   218.1,2,  116.72,2,   33.11,2,    2.23,2,  -999.0,9,  -999.0,9
740H20090203,       SR01,      60,          1,          4,          4,2,20090221,       2136,   -59.0259,   -55.8639,       4010,  3310.5,   0.2637,  34.6736,2,  34.6733,2,    214.9,   216.8,2,  117.33,2,   33.06,2,    2.23,2,  2258.0,3,  2363.8,6
740H20090203,       SR01,      60,          1,          5,          5,2,20090221,       2136,   -59.0259,   -55.8639,       4010,  3051.3,   0.3898,  34.6829,2,  34.6830,2,    209.7,   212.2,2,  119.38,2,   32.98,2,    2.22,2,  2260.1,3,  2364.9,6
740H20090203,       SR01,      60,          1,          6,          6,2,20090221,       2136,   -59.0259,   -55.8639,       4010,  2794.6,   0.5637,  34.6940,2,  34.6933,2,    204.2,   206.3,2,  120.05,2,   32.98,2,    2.22,2,  2263.0,3,  2367.8,6
740H20090203,       SR01,      60,          1,          7,          7,2,20090221,       2136,   -59.0259,   -55.8639,       4010,  2538.5,   0.7263,  34.7030,2,  34.7022,2,    199.3,   202.1,2,  118.87,2,   33.04,2,    2.21,2,  2260.9,3,  2371.0,6
740H20090203,       SR01,      60,          1,          8,          8,2,20090221,       2136,   -59.0259,   -55.8639,       4010,  2283.7,   0.8130,  34.7052,2,  34.7060,2,    197.2,   200.2,2,  116.69,2,   32.66,2,    2.21,2,  2261.2,3,  2369.5,6
740H20090203,       SR01,      60,          1,          9,          9,2,20090221,       2136,   -59.0259,   -55.8639,       4010,  2026.5,   0.9934,  34.7114,2,  34.7125,2,    193.8,   196.7,2,  112.42,2,   32.51,2,    2.20,2,  2261.0,3,  2374.5,6
740H20090203,       SR01,      60,          1,         10,         10,2,20090221,       2136,   -59.0259,   -55.8639,       4010,  1772.2,   1.1521,  34.7151,2,  34.7159,2,    191.0,   193.7,2,  106.28,2,   32.39,2,    2.19,2,  2258.1,3,  -999.0,9
740H20090203,       SR01,      60,          1,         11,         11,2,20090221,       2136,   -59.0259,   -55.8639,       4010,  1518.0,   1.2990,  34.7200,2,  34.7200,2,    187.7,   190.9,2,  103.60,2,   32.64,2,    2.19,2,  2259.7,3,  2374.9,6
740H20090203,       SR01,      60,          1,         12,         12,2,20090221,       2136,   -59.0259,   -55.8639,       4010,  1263.7,   1.4916,  34.7214,2,  34.7217,2,    184.3,   186.7,2,   97.24,2,   32.43,2,    2.19,2,  2261.9,3,  2369.6,6
740H20090203,       SR01,      60,          1,         13,         13,2,20090221,       2136,   -59.0259,   -55.8639,       4010,  1010.5,   1.6532,  34.7103,2,  34.7098,2,    181.7,   185.0,2,   90.82,2,   32.44,2,    2.20,2,  2259.0,3,  -999.0,9
740H20090203,       SR01,      60,          1,         14,         14,2,20090221,       2136,   -59.0259,   -55.8639,       4010,   884.2,   1.6018,  34.6791,2,  34.6791,2,    185.2,   188.0,2,   86.64,2,   32.75,2,    2.21,2,  2255.8,3,  2356.2,6
740H20090203,       SR01,      60,          1,         15,         15,2,20090221,       2136,   -59.0259,   -55.8639,       4010,   757.7,   1.5482,  34.6405,2,  34.6408,2,    188.3,   190.9,2,   82.90,2,   33.14,2,    2.24,2,  2250.4,3,  2351.5,6
740H20090203,       SR01,      60,          1,         16,         16,2,20090221,       2136,   -59.0259,   -55.8639,       4010,   631.0,   1.0181,  34.5646,2,  34.5654,2,    212.6,   214.4,2,   80.81,2,   33.18,2,    2.24,2,  2245.5,3,  2347.3,6
740H20090203,       SR01,      60,          1,         17,         17,2,20090221,       2136,   -59.0259,   -55.8639,       4010,   504.1,   1.6140,  34.5841,2,  34.5840,2,    186.5,   189.3,2,   78.03,2,   34.21,2,    2.30,2,  2251.1,3,  2349.0,6
740H20090203,       SR01,      60,          1,         18,         18,2,20090221,       2136,   -59.0259,   -55.8639,       4010,   377.7,   1.7584,  34.5335,2,  34.5326,2,    183.7,   186.2,2,   73.58,2,   34.65,2,    2.32,2,  2248.9,3,  2346.7,6
740H20090203,       SR01,      60,          1,         19,         19,2,20090221,       2136,   -59.0259,   -55.8639,       4010,   252.0,   1.1653,  34.3598,2,  34.3608,2,    228.4,   230.6,2,   64.91,2,   33.73,2,    2.27,2,  2230.1,3,  2337.1,6
740H20090203,       SR01,      60,          1,         20,         20,2,20090221,       2136,   -59.0259,   -55.8639,       4010,   176.6,   0.8677,  34.2164,2,  34.2178,2,    268.9,   269.5,2,   56.19,2,   31.30,2,    2.14,2,  2206.4,3,  2322.5,6
740H20090203,       SR01,      60,          1,         21,         21,9,20090221,       2136,   -59.0259,   -55.8639,       4010,   101.7,   1.8291,  34.0400,2,-999.0000,9,    307.3,  -999.0,9, -999.00,9, -999.00,9, -999.00,9,  -999.0,9,  -999.0,9
740H20090203,       SR01,      60,          1,         22,         22,2,20090221,       2136,   -59.0259,   -55.8639,       4010,   100.5,   1.9796,  34.0257,2,  34.0316,2,    308.0,   311.8,2,   42.77,2,   26.80,2,    1.84,2,  2173.1,3,  2310.0,6
740H20090203,       SR01,      60,          1,         23,         23,2,20090221,       2136,   -59.0259,   -55.8639,       4010,    50.0,   2.8665,  33.9529,2,  33.9542,2,    312.1,   312.1,2,   35.98,2,   25.52,2,    1.70,2,  2156.6,3,  2304.5,6
740H20090203,       SR01,      60,          1,         24,         24,2,20090221,       2136,   -59.0259,   -55.8639,       4010,     4.5,   2.7186,  33.8961,2,-999.0000,9,    314.0,   310.4,3,   29.79,2,   25.43,2,    1.71,2,  -999.0,9,  -999.0,9
740H20090203,       SR01,      61,          1,          1,          1,2,20090222,       0409,   -58.6913,   -56.0563,       4027,  3803.0,   0.0662,  34.6602,2,  34.6594,2,    224.3,   223.2,2,  118.68,4,   33.59,4,    2.24,4,  -999.0,9,  -999.0,9
740H20090203,       SR01,      61,          1,          2,          2,2,20090222,       0409,   -58.6913,   -56.0563,       4027,  3803.4,   0.0661,  34.6602,2,  34.6588,2,    224.2,   223.0,2,  118.26,2,   33.85,2,    2.25,2,  -999.0,9,  -999.0,9
740H20090203,       SR01,      61,          1,          3,          3,2,20090222,       0409,   -58.6913,   -56.0563,       4027,  3751.1,   0.0786,  34.6610,2,  34.6597,2,    223.4,   224.3,2,  117.54,2,   34.01,2,    2.25,2,  -999.0,9,  -999.0,9
740H20090203,       SR01,      61,          1,          4,          4,2,20090222,       0409,   -58.6913,   -56.0563,       4027,  3526.0,   0.0905,  34.6626,2,  34.6621,2,    221.4,   222.9,2,  118.59,2,   33.85,2,    2.25,2,  -999.0,9,  -999.0,9
740H20090203,       SR01,      61,          1,          5,          5,2,20090222,       0409,   -58.6913,   -56.0563,       4027,  3302.8,   0.1280,  34.6655,2,  34.6645,2,    218.9,   220.1,2,  118.87,2,   33.94,2,    2.25,2,  -999.0,9,  -999.0,9
740H20090203,       SR01,      61,          1,          6,          6,2,20090222,       0409,   -58.6913,   -56.0563,       4027,  3044.3,   0.2317,  34.6725,2,  34.6717,2,    214.5,   215.3,2,  120.41,2,   33.96,2,    2.25,2,  -999.0,9,  -999.0,9
740H20090203,       SR01,      61,          1,          7,          7,2,20090222,       0409,   -58.6913,   -56.0563,       4027,  2793.2,   0.3355,  34.6802,2,  34.6796,2,    210.2,   213.0,2,  121.31,2,   33.87,2,    2.25,2,  -999.0,9,  -999.0,9
740H20090203,       SR01,      61,          1,          8,          8,2,20090222,       0409,   -58.6913,   -56.0563,       4027,  2541.4,   0.5185,  34.6918,2,  34.6914,2,    204.2,   207.2,2,  123.63,2,   34.06,2,    2.25,2,  -999.0,9,  -999.0,9
740H20090203,       SR01,      61,          1,          9,          9,2,20090222,       0409,   -58.6913,   -56.0563,       4027,  2285.0,   0.6845,  34.6990,2,  34.6983,2,    200.4,   203.4,2,  120.26,2,   33.75,2,    2.24,2,  -999.0,9,  -999.0,9
740H20090203,       SR01,      61,          1,         10,         10,2,20090222,       0409,   -58.6913,   -56.0563,       4027,  2033.8,   0.7957,  34.7003,2,  34.7006,2,    198.6,   203.3,2,  117.94,2,   33.90,2,    2.24,2,  -999.0,9,  -999.0,9
740H20090203,       SR01,      61,          1,         11,         11,2,20090222,       0409,   -58.6913,   -56.0563,       4027,  1778.1,   0.9098,  34.6985,2,  34.6977,2,    198.1,   201.7,2,  111.81,2,   33.52,2,    2.23,2,  -999.0,9,  -999.0,9
740H20090203,       SR01,      61,          1,         12,         12,2,20090222,       0409,   -58.6913,   -56.0563,       4027,  1522.1,   1.0884,  34.7047,2,  34.7040,2,    194.5,   196.8,2,  106.74,2,   33.64,2,    2.23,2,  -999.0,9,  -999.0,9
740H20090203,       SR01,      61,          1,         13,         13,2,20090222,       0409,   -58.6913,   -56.0563,       4027,  1265.1,   1.1842,  34.6977,2,  34.6968,2,    194.6,   198.1,2,  102.02,2,   33.38,2,    2.21,2,  -999.0,9,  -999.0,9
740H20090203,       SR01,      61,          1,         14,         14,2,20090222,       0409,   -58.6913,   -56.0563,       4027,  1012.6,   1.4161,  34.6951,2,  34.6941,2,    189.6,   191.7,2,   94.82,2,   33.34,2,    2.22,2,  -999.0,9,  -999.0,9
740H20090203,       SR01,      61,          1,         15,         15,2,20090222,       0409,   -58.6913,   -56.0563,       4027,   886.6,   1.5216,  34.6860,2,  34.6852,2,    187.0,   189.1,2,   91.79,2,   33.72,4,    2.28,4,  -999.0,9,  -999.0,9
740H20090203,       SR01,      61,          1,         16,         16,2,20090222,       0409,   -58.6913,   -56.0563,       4027,   760.3,   1.9106,  34.7022,2,  34.7014,2,    173.8,   176.1,2,   87.41,2,   33.48,2,    2.22,2,  -999.0,9,  -999.0,9
740H20090203,       SR01,      61,          1,         17,         17,2,20090222,       0409,   -58.6913,   -56.0563,       4027,   635.3,   1.9900,  34.6839,2,  34.6831,2,    169.6,   172.2,2,   84.77,2,   33.91,2,    2.25,2,  -999.0,9,  -999.0,9
740H20090203,       SR01,      61,          1,         18,         18,2,20090222,       0409,   -58.6913,   -56.0563,       4027,   504.3,   2.0140,  34.6396,2,  34.6388,2,    168.3,   171.1,2,   81.45,2,   34.70,2,    2.29,2,  -999.0,9,  -999.0,9
740H20090203,       SR01,      61,          1,         19,         19,2,20090222,       0409,   -58.6913,   -56.0563,       4027,   378.1,   1.9635,  34.5776,2,  34.5768,2,    169.8,   172.4,2,   77.30,2,   35.39,2,    2.35,2,  -999.0,9,  -999.0,9
740H20090203,       SR01,      61,          1,         20,         20,2,20090222,       0409,   -58.6913,   -56.0563,       4027,   252.1,   1.7954,  34.4796,2,  34.4777,2,    181.5,   184.6,2,   71.02,2,   35.92,2,    2.38,2,  -999.0,9,  -999.0,9
740H20090203,       SR01,      61,          1,         21,         21,2,20090222,       0409,   -58.6913,   -56.0563,       4027,   177.2,   1.1065,  34.3296,2,  34.3242,2,    227.0,   229.4,2,   62.26,2,   34.33,2,    2.29,2,  -999.0,9,  -999.0,9
740H20090203,       SR01,      61,          1,         22,         22,2,20090222,       0409,   -58.6913,   -56.0563,       4027,   101.4,   2.0941,  33.9450,2,  33.9455,2,    314.9,   317.3,2,   37.78,2,   25.82,2,    1.74,2,  -999.0,9,  -999.0,9
740H20090203,       SR01,      61,          1,         23,         23,2,20090222,       0409,   -58.6913,   -56.0563,       4027,    50.9,   2.3982,  33.9342,2,  33.9338,2,    316.2,   317.5,2,   35.38,2,   25.70,2,    1.72,2,  -999.0,9,  -999.0,9
740H20090203,       SR01,      61,          1,         24,         24,2,20090222,       0409,   -58.6913,   -56.0563,       4027,     4.8,   2.5336,  33.9358,2,  33.9356,2,    315.5,   315.9,2,   34.92,2,   26.02,2,    1.78,2,  -999.0,9,  -999.0,9
740H20090203,       SR01,      62,          1,          1,          1,2,20090222,       1021,   -58.3790,   -56.2108,       3997,  3881.1,   0.1421,  34.6636,2,  34.6647,2,    222.1,   224.8,2,  118.63,2,   33.41,2,    2.24,2,  2257.4,2,  2368.3,6
740H20090203,       SR01,      62,          1,          2,          2,2,20090222,       1021,   -58.3790,   -56.2108,       3997,  3830.1,   0.1366,  34.6636,2,  34.6641,2,    221.8,   222.0,2,  118.99,2,   33.19,2,    2.24,2,  2259.1,2,  2366.2,6
740H20090203,       SR01,      62,          1,          3,          3,2,20090222,       1021,   -58.3790,   -56.2108,       3997,  3565.1,   0.2045,  34.6688,2,  34.6695,2,    218.0,   219.0,2,  119.19,2,   33.25,2,    2.24,2,  2260.2,3,  2366.4,6
740H20090203,       SR01,      62,          1,          4,          4,2,20090222,       1021,   -58.3790,   -56.2108,       3997,  3307.0,   0.3044,  34.6765,2,  34.6769,2,    213.2,   215.3,2,  120.25,2,   33.31,2,    2.24,2,  2261.2,3,  2369.0,6
740H20090203,       SR01,      62,          1,          5,          5,2,20090222,       1021,   -58.3790,   -56.2108,       3997,  3049.9,   0.4551,  34.6883,2,  34.6930,2,    207.2,   210.0,2,  122.04,2,   33.19,2,    2.24,2,  2262.0,3,  -999.0,9
740H20090203,       SR01,      62,          1,          6,          6,9,20090222,       1021,   -58.3790,   -56.2108,       3997,  2794.5,   0.6404,  34.7003,2,-999.0000,9,    201.3,  -999.0,9, -999.00,9, -999.00,9, -999.00,9,  -999.0,9,  -999.0,9
740H20090203,       SR01,      62,          1,          7,          7,2,20090222,       1021,   -58.3790,   -56.2108,       3997,  2536.8,   0.7565,  34.7046,2,  34.7052,2,    198.5,   201.7,2,  120.41,2,   33.20,2,    2.23,2,  2264.6,3,  2372.4,6
740H20090203,       SR01,      62,          1,          8,          8,2,20090222,       1021,   -58.3790,   -56.2108,       3997,  2281.5,   0.8916,  34.7105,2,  34.7111,2,    195.3,   198.2,2,  117.81,2,   32.80,2,    2.21,2,  2262.4,3,  2374.5,6
740H20090203,       SR01,      62,          1,          9,          9,2,20090222,       1021,   -58.3790,   -56.2108,       3997,  2025.2,   1.0341,  34.7163,2,  34.7165,2,    192.1,   195.6,2,  114.46,2,   33.09,2,    2.21,2,  2259.4,2,  2379.2,6
740H20090203,       SR01,      62,          1,         10,         10,2,20090222,       1021,   -58.3790,   -56.2108,       3997,  1769.7,   1.2224,  34.7215,2,  34.7221,2,    188.8,   192.2,2,  107.60,2,   32.69,2,    2.20,2,  2257.6,2,  2375.5,6
740H20090203,       SR01,      62,          1,         11,         11,2,20090222,       1021,   -58.3790,   -56.2108,       3997,  1515.4,   1.4079,  34.7225,2,  34.7227,2,    184.2,   187.2,2,  103.07,2,   32.66,2,    2.21,2,  2261.4,2,  2372.3,6
740H20090203,       SR01,      62,          1,         12,         12,2,20090222,       1021,   -58.3790,   -56.2108,       3997,  1259.4,   1.6331,  34.7197,2,  34.7196,2,    178.2,   180.1,2,   98.48,2,   32.81,2,    2.22,2,  2266.4,3,  -999.0,9
740H20090203,       SR01,      62,          1,         13,         13,2,20090222,       1021,   -58.3790,   -56.2108,       3997,  1004.5,   1.8355,  34.7107,2,  34.7108,2,    173.2,   176.9,2,   93.05,2,   33.12,2,    2.24,2,  2265.8,3,  2366.5,6
740H20090203,       SR01,      62,          1,         14,         14,2,20090222,       1021,   -58.3790,   -56.2108,       3997,   879.7,   1.9806,  34.7029,2,  34.7026,2,    172.7,   175.8,2,   85.39,2,   33.03,2,    2.24,2,  2258.1,2,  2358.8,6
740H20090203,       SR01,      62,          1,         15,         15,2,20090222,       1021,   -58.3790,   -56.2108,       3997,   754.7,   2.0554,  34.6876,2,  34.6874,2,    170.2,   173.2,2,   83.53,2,   33.53,2,    2.24,2,  2259.6,2,  2360.9,6
740H20090203,       SR01,      62,          1,         16,         16,2,20090222,       1021,   -58.3790,   -56.2108,       3997,   628.7,   2.1342,  34.6583,2,  34.6584,2,    163.6,   167.2,2,   85.64,4,   34.31,4,    2.31,4,  2264.2,3,  2366.5,6
740H20090203,       SR01,      62,          1,         17,         17,2,20090222,       1021,   -58.3790,   -56.2108,       3997,   502.7,   2.1731,  34.6102,2,  34.6423,3,    166.4,   169.7,2,   76.35,2,   34.48,2,    2.30,2,  2255.8,2,  -999.0,9
740H20090203,       SR01,      62,          1,         18,         18,2,20090222,       1021,   -58.3790,   -56.2108,       3997,   376.9,   2.1718,  34.5228,2,  34.5230,2,    169.7,   173.3,2,   70.68,2,   35.21,2,    2.35,2,  2243.1,2,  2337.3,6
740H20090203,       SR01,      62,          1,         19,         19,2,20090222,       1021,   -58.3790,   -56.2108,       3997,   250.2,   1.8262,  34.3796,2,  34.3795,2,    194.4,   197.5,2,   61.02,2,   35.15,2,    2.36,2,  2236.4,2,  2330.1,6
740H20090203,       SR01,      62,          1,         20,         20,2,20090222,       1021,   -58.3790,   -56.2108,       3997,   174.5,   1.3018,  34.2670,2,  34.2696,2,    224.4,   225.7,2,   52.70,2,   34.60,2,    2.31,2,  2220.2,2,  2310.3,6
740H20090203,       SR01,      62,          1,         21,         21,2,20090222,       1021,   -58.3790,   -56.2108,       3997,    99.2,  -0.1819,  33.9173,2,  33.9194,2,    323.5,   324.4,2,   27.71,2,   28.04,2,    1.93,2,  2163.3,2,  2294.9,6
740H20090203,       SR01,      62,          1,         22,         22,9,20090222,       1021,   -58.3790,   -56.2108,       3997,    48.1,   2.0092,  33.8467,2,-999.0000,9,    318.6,  -999.0,9, -999.00,9, -999.00,9, -999.00,9,  -999.0,9,  -999.0,9
740H20090203,       SR01,      62,          1,         23,         23,2,20090222,       1021,   -58.3790,   -56.2108,       3997,    48.4,   2.0090,  33.8467,2,  33.8376,2,    318.8,   318.7,2,   23.98,2,   25.03,2,    1.69,2,  2150.3,2,  2294.4,6
740H20090203,       SR01,      62,          1,         24,         24,2,20090222,       1021,   -58.3790,   -56.2108,       3997,     2.9,   3.0600,  33.7657,2,  33.7664,2,    313.8,   315.0,2,   13.76,2,   24.25,2,    1.58,2,  2137.2,2,  2288.5,6