BOTTLE,20211203CCHSIORKP
EXPOCODE,SECT_ID,STNNBR,CASTNO,SAMPNO,BTLNBR,BTLNBR_FLAG_W,DATE,TIME,LATITUDE,LONGITUDE,DEPTH,CTDPRS,CTDTMP,CTDSAL,CTDSAL_FLAG_W,SALNTY,SALNTY_FLAG_W,CTDOXY,OXYGEN,OXYGEN_FLAG_W,SILCAT,SILCAT_FLAG_W,NITRAT,NITRAT_FLAG_W,PHSPHT,PHSPHT_FLAG_W,TCARBN,TCARBN_FLAG_W,ALKALI,ALKALI_FLAG_W
,,,,,,,,,,,METERS,DBAR,ITS-90,PSS-78,,PSS-78,,UMOL/KG,UMOL/KG,,UMOL/KG,,UMOL/KG,,UMOL/KG,,UMOL/KG,,UMOL/KG,
740H20090203,       SR01,      75,          1,          1,          1,2,20090225,       1556,   -55.0699,   -58.0013,       2346,  2336.5,   2.1224,  34.6758,2,  34.6763,2,    166.6,   168.1,2,   88.94,2,   33.03,2,    2.18,2,  -999.0,9,  -999.0,9
740H20090203,       SR01,      75,          1,          2,          2,2,20090225,       1556,   -55.0699,   -58.0013,       2346,  2285.6,   2.1274,  34.6742,2,  34.6754,2,    166.1,   167.1,2,   88.84,2,   32.68,2,    2.18,2,  -999.0,9,  -999.0,9
740H20090203,       SR01,      75,          1,          3,          3,2,20090225,       1556,   -55.0699,   -58.0013,       2346,  2032.3,   2.2717,  34.6448,2,  34.6455,2,    162.6,   164.9,2,   82.79,2,   33.23,2,    2.21,2,  -999.0,9,  -999.0,9
740H20090203,       SR01,      75,          1,          4,          4,2,20090225,       1556,   -55.0699,   -58.0013,       2346,  1775.5,   2.4303,  34.5943,2,  34.5950,2,    160.9,   163.3,2,   77.24,2,   33.62,2,    2.24,2,  -999.0,9,  -999.0,9
740H20090203,       SR01,      75,          1,          5,          5,2,20090225,       1556,   -55.0699,   -58.0013,       2346,  1524.0,   2.6334,  34.5227,2,  34.5235,2,    163.0,   164.1,2,   68.85,2,   34.17,2,    2.26,2,  -999.0,9,  -999.0,9
740H20090203,       SR01,      75,          1,          6,          6,2,20090225,       1556,   -55.0699,   -58.0013,       2346,  1268.1,   2.9631,  34.4073,2,  34.4074,2,    178.9,   181.6,2,   53.64,2,   33.50,2,    2.21,2,  -999.0,9,  -999.0,9
740H20090203,       SR01,      75,          1,          7,          7,2,20090225,       1556,   -55.0699,   -58.0013,       2346,  1014.4,   3.4316,  34.2839,2,  34.2850,2,    207.5,   209.6,2,   36.09,2,   30.92,2,    2.06,2,  -999.0,9,  -999.0,9
740H20090203,       SR01,      75,          1,          8,          8,2,20090225,       1556,   -55.0699,   -58.0013,       2346,   888.3,   3.7534,  34.2334,2,  34.2338,2,    225.0,   230.2,2,   27.53,2,   29.37,2,    1.93,2,  -999.0,9,  -999.0,9
740H20090203,       SR01,      75,          1,          9,          9,2,20090225,       1556,   -55.0699,   -58.0013,       2346,   761.1,   3.7539,  34.1574,2,  34.1587,2,    258.7,   261.2,2,   18.79,2,   26.74,2,    1.77,2,  -999.0,9,  -999.0,9
740H20090203,       SR01,      75,          1,         10,         10,2,20090225,       1556,   -55.0699,   -58.0013,       2346,   634.5,   4.1346,  34.1582,2,  34.1598,2,    267.1,   282.6,2,   14.89,2,   25.22,2,    1.68,2,  -999.0,9,  -999.0,9
740H20090203,       SR01,      75,          1,         11,         11,2,20090225,       1556,   -55.0699,   -58.0013,       2346,   505.6,   4.5444,  34.1703,2,  34.1714,2,    271.1,   274.7,2,   12.43,2,   24.20,2,    1.59,2,  -999.0,9,  -999.0,9
740H20090203,       SR01,      75,          1,         12,         12,2,20090225,       1556,   -55.0699,   -58.0013,       2346,   382.4,   4.7816,  34.1643,2,  34.1654,2,    278.5,   284.9,2,   10.07,2,   22.99,2,    1.52,2,  -999.0,9,  -999.0,9
740H20090203,       SR01,      75,          1,         13,         13,2,20090225,       1556,   -55.0699,   -58.0013,       2346,   254.9,   5.0125,  34.1545,2,  34.1548,2,    279.7,   282.8,2,    9.03,2,   22.33,2,    1.48,2,  -999.0,9,  -999.0,9
740H20090203,       SR01,      75,          1,         14,         14,2,20090225,       1556,   -55.0699,   -58.0013,       2346,   179.8,   5.2773,  34.1308,2,  34.1313,2,    280.5,   282.4,2,    7.91,2,   21.83,2,    1.46,2,  -999.0,9,  -999.0,9
740H20090203,       SR01,      75,          1,         15,         15,2,20090225,       1556,   -55.0699,   -58.0013,       2346,   104.6,   6.0975,  34.1053,2,  34.1057,2,    283.0,   286.8,2,    4.29,2,   19.12,2,    1.37,2,  -999.0,9,  -999.0,9
740H20090203,       SR01,      75,          1,         16,         16,2,20090225,       1556,   -55.0699,   -58.0013,       2346,    53.3,   7.6201,  34.0641,2,  34.0643,2,    283.9,   287.6,2,    2.42,2,   16.80,2,    1.19,2,  -999.0,9,  -999.0,9
740H20090203,       SR01,      75,          1,         17,         17,9,20090225,       1556,   -55.0699,   -58.0013,       2346,    52.9,   7.6200,  34.0640,2,-999.0000,9,    284.0,  -999.0,9, -999.00,9, -999.00,9, -999.00,9,  -999.0,9,  -999.0,9
740H20090203,       SR01,      75,          1,         18,         18,9,20090225,       1556,   -55.0699,   -58.0013,       2346,    53.6,   7.6204,  34.0641,2,-999.0000,9,    283.7,  -999.0,9, -999.00,9, -999.00,9, -999.00,9,  -999.0,9,  -999.0,9
740H20090203,       SR01,      75,          1,         19,         19,9,20090225,       1556,   -55.0699,   -58.0013,       2346,    53.7,   7.6204,  34.0640,2,-999.0000,9,    283.8,  -999.0,9, -999.00,9, -999.00,9, -999.00,9,  -999.0,9,  -999.0,9
740H20090203,       SR01,      75,          1,         20,         20,9,20090225,       1556,   -55.0699,   -58.0013,       2346,    53.3,   7.6216,  34.0639,2,-999.0000,9,    283.9,  -999.0,9, -999.00,9, -999.00,9, -999.00,9,  -999.0,9,  -999.0,9
740H20090203,       SR01,      75,          1,         21,         21,9,20090225,       1556,   -55.0699,   -58.0013,       2346,    52.8,   7.6217,  34.0640,2,-999.0000,9,    283.9,  -999.0,9, -999.00,9, -999.00,9, -999.00,9,  -999.0,9,  -999.0,9
740H20090203,       SR01,      75,          1,         22,         22,9,20090225,       1556,   -55.0699,   -58.0013,       2346,    52.4,   7.6214,  34.0640,2,-999.0000,9,    284.0,  -999.0,9, -999.00,9, -999.00,9, -999.00,9,  -999.0,9,  -999.0,9
740H20090203,       SR01,      75,          1,         23,         23,9,20090225,       1556,   -55.0699,   -58.0013,       2346,    52.8,   7.6212,  34.0640,2,-999.0000,9,    283.9,  -999.0,9, -999.00,9, -999.00,9, -999.00,9,  -999.0,9,  -999.0,9
740H20090203,       SR01,      75,          1,         24,         24,2,20090225,       1556,   -55.0699,   -58.0013,       2346,     7.5,   7.7303,  34.0641,2,  34.0647,2,    283.8,   286.5,3,    2.39,2,   16.84,2,    1.19,2,  -999.0,9,  -999.0,9
740H20090203,       SR01,      76,          1,          1,          1,2,20090225,       1941,   -55.0064,   -57.9956,       1668,  1656.8,   2.4758,  34.5771,2,  34.5775,2,    162.1,   161.2,2,   78.47,2,   35.62,2,    2.34,2,  2260.0,2,  2353.9,6
740H20090203,       SR01,      76,          1,          2,          2,2,20090225,       1941,   -55.0064,   -57.9956,       1668,  1658.0,   2.4753,  34.5773,2,  34.5787,2,    162.0,   162.4,2,   78.22,4,   35.26,4,    2.34,2,  2260.4,2,  2358.0,6
740H20090203,       SR01,      76,          1,          3,          3,2,20090225,       1941,   -55.0064,   -57.9956,       1668,  1607.4,   2.5109,  34.5648,2,  34.5652,2,    162.1,   162.9,2,   76.70,2,   35.70,2,    2.34,2,  2261.8,2,  2354.4,6
740H20090203,       SR01,      76,          1,          4,          4,2,20090225,       1941,   -55.0064,   -57.9956,       1668,  1267.4,   2.8987,  34.4261,2,  34.4271,2,    177.3,   178.8,2,   58.68,2,   35.16,2,    2.32,2,  2236.1,2,  2332.9,6
740H20090203,       SR01,      76,          1,          5,          5,2,20090225,       1941,   -55.0064,   -57.9956,       1668,  1014.1,   3.2715,  34.3140,2,  34.3148,2,    200.4,   201.7,2,   42.87,2,   33.21,2,    2.20,2,  2208.0,2,  2311.5,6
740H20090203,       SR01,      76,          1,          6,          6,2,20090225,       1941,   -55.0064,   -57.9956,       1668,   887.2,   3.5876,  34.2472,2,  34.2480,2,    221.7,   223.1,2,   32.10,2,   31.19,2,    2.07,2,  2183.8,2,  2303.5,6
740H20090203,       SR01,      76,          1,          7,          7,2,20090225,       1941,   -55.0064,   -57.9956,       1668,   760.5,   3.8892,  34.1909,2,  34.1911,2,    245.8,   247.2,2,   22.35,2,   28.80,2,    1.91,2,  2164.8,2,  2296.3,6
740H20090203,       SR01,      76,          1,          8,          8,2,20090225,       1941,   -55.0064,   -57.9956,       1668,   634.5,   4.2364,  34.1719,2,  34.1724,2,    261.9,   264.6,2,   16.60,2,   26.78,2,    1.78,2,  2151.0,2,  2289.8,6
740H20090203,       SR01,      76,          1,          9,          9,2,20090225,       1941,   -55.0064,   -57.9956,       1668,   507.1,   4.4979,  34.1713,2,  34.1722,2,    269.8,   270.7,2,   13.67,2,   25.69,2,    1.70,2,  2142.4,2,  2292.0,6
740H20090203,       SR01,      76,          1,         10,         10,2,20090225,       1941,   -55.0064,   -57.9956,       1668,   381.1,   4.7749,  34.1612,2,  34.1620,2,    271.5,   272.8,2,   13.11,2,   24.67,2,    1.65,2,  2136.6,2,  2292.3,6
740H20090203,       SR01,      76,          1,         11,         11,2,20090225,       1941,   -55.0064,   -57.9956,       1668,   246.2,   5.1167,  34.1474,2,  34.1478,2,    277.7,   279.0,2,   10.03,2,   23.32,2,    1.58,2,  2129.7,2,  2288.7,6
740H20090203,       SR01,      76,          1,         12,         12,2,20090225,       1941,   -55.0064,   -57.9956,       1668,   178.1,   5.4912,  34.1334,2,  34.1338,2,    280.5,   281.9,2,    7.39,2,   22.26,2,    1.52,2,  2121.6,2,  2283.2,6
740H20090203,       SR01,      76,          1,         13,         13,2,20090225,       1941,   -55.0064,   -57.9956,       1668,   102.3,   6.2406,  34.1077,2,  34.1085,2,    283.0,   283.6,2,    4.17,2,   20.06,2,    1.43,2,  2112.8,2,  2282.9,6
740H20090203,       SR01,      76,          1,         14,         14,9,20090225,       1941,   -55.0064,   -57.9956,       1668,   100.7,   6.2421,  34.1075,2,-999.0000,9,    282.7,  -999.0,9, -999.00,9, -999.00,9, -999.00,9,  -999.0,9,  -999.0,9
740H20090203,       SR01,      76,          1,         15,         15,9,20090225,       1941,   -55.0064,   -57.9956,       1668,   103.2,   6.2265,  34.1078,2,-999.0000,9,    283.2,  -999.0,9, -999.00,9, -999.00,9, -999.00,9,  -999.0,9,  -999.0,9
740H20090203,       SR01,      76,          1,         16,         16,9,20090225,       1941,   -55.0064,   -57.9956,       1668,   102.1,   6.2416,  34.1078,2,-999.0000,9,    283.0,  -999.0,9, -999.00,9, -999.00,9, -999.00,9,  -999.0,9,  -999.0,9
740H20090203,       SR01,      76,          1,         17,         17,9,20090225,       1941,   -55.0064,   -57.9956,       1668,   103.3,   6.2252,  34.1079,2,-999.0000,9,    283.0,  -999.0,9, -999.00,9, -999.00,9, -999.00,9,  -999.0,9,  -999.0,9
740H20090203,       SR01,      76,          1,         18,         18,9,20090225,       1941,   -55.0064,   -57.9956,       1668,   102.5,   6.2470,  34.1079,2,-999.0000,9,    283.4,  -999.0,9, -999.00,9, -999.00,9, -999.00,9,  -999.0,9,  -999.0,9
740H20090203,       SR01,      76,          1,         19,         19,9,20090225,       1941,   -55.0064,   -57.9956,       1668,   102.0,   6.2453,  34.1079,2,-999.0000,9,    283.2,  -999.0,9, -999.00,9, -999.00,9, -999.00,9,  -999.0,9,  -999.0,9
740H20090203,       SR01,      76,          1,         20,         20,9,20090225,       1941,   -55.0064,   -57.9956,       1668,   104.1,   6.2398,  34.1079,2,-999.0000,9,    283.4,  -999.0,9, -999.00,9, -999.00,9, -999.00,9,  -999.0,9,  -999.0,9
740H20090203,       SR01,      76,          1,         21,         21,9,20090225,       1941,   -55.0064,   -57.9956,       1668,   101.4,   6.2443,  34.1077,2,-999.0000,9,    283.0,  -999.0,9, -999.00,9, -999.00,9, -999.00,9,  -999.0,9,  -999.0,9
740H20090203,       SR01,      76,          1,         22,         22,9,20090225,       1941,   -55.0064,   -57.9956,       1668,   102.8,   6.2411,  34.1079,2,-999.0000,9,    283.4,  -999.0,9, -999.00,9, -999.00,9, -999.00,9,  -999.0,9,  -999.0,9
740H20090203,       SR01,      76,          1,         23,         23,2,20090225,       1941,   -55.0064,   -57.9956,       1668,    51.5,   7.6230,  34.0628,2,  34.0636,2,    285.0,   286.3,2,    2.44,2,   17.64,2,    1.26,2,  2094.5,2,  2274.9,6
740H20090203,       SR01,      76,          1,         24,         24,2,20090225,       1941,   -55.0064,   -57.9956,       1668,     6.2,   7.8376,  34.0644,2,  34.0652,2,    285.7,   286.2,2,    2.59,2,   17.81,2,    1.25,2,  2094.3,2,  2283.8,6
740H20090203,       SR01,      77,          1,          1,          1,2,20090225,       2220,   -54.9778,   -57.9987,        997,   987.1,   3.2524,  34.3341,2,  34.3360,2,    197.0,   197.7,2,   45.18,2,   33.89,2,    2.23,2,  -999.0,9,  -999.0,9
740H20090203,       SR01,      77,          1,          2,          2,2,20090225,       2220,   -54.9778,   -57.9987,        997,   938.9,   3.3375,  34.3098,2,  34.3106,2,    203.1,   200.9,2,   41.70,2,   33.09,2,    2.19,2,  -999.0,9,  -999.0,9
740H20090203,       SR01,      77,          1,          3,          3,2,20090225,       2220,   -54.9778,   -57.9987,        997,   886.6,   3.4892,  34.2648,2,  34.2663,2,    216.3,   216.8,2,   35.09,2,   32.12,2,    2.12,2,  -999.0,9,  -999.0,9
740H20090203,       SR01,      77,          1,          4,          4,2,20090225,       2220,   -54.9778,   -57.9987,        997,   760.6,   3.8964,  34.1956,2,  34.1972,2,    245.0,   246.9,2,   23.57,2,   29.11,2,    1.92,2,  -999.0,9,  -999.0,9
740H20090203,       SR01,      77,          1,          5,          5,2,20090225,       2220,   -54.9778,   -57.9987,        997,   634.7,   4.1604,  34.1686,2,  34.1693,2,    262.2,   263.6,2,   17.08,2,   27.25,2,    1.81,2,  -999.0,9,  -999.0,9
740H20090203,       SR01,      77,          1,          6,          6,2,20090225,       2220,   -54.9778,   -57.9987,        997,   507.0,   4.5178,  34.1695,2,  34.1706,2,    271.3,   272.5,2,   13.58,2,   25.57,2,    1.69,2,  -999.0,9,  -999.0,9
740H20090203,       SR01,      77,          1,          7,          7,2,20090225,       2220,   -54.9778,   -57.9987,        997,   380.8,   4.7720,  34.1592,2,  34.1604,2,    280.9,   282.7,2,   10.67,2,   24.02,2,    1.61,2,  -999.0,9,  -999.0,9
740H20090203,       SR01,      77,          1,          8,          8,2,20090225,       2220,   -54.9778,   -57.9987,        997,   254.4,   5.0729,  34.1488,2,  34.1497,2,    281.3,   282.3,2,    9.17,2,   23.30,2,    1.56,2,  -999.0,9,  -999.0,9
740H20090203,       SR01,      77,          1,          9,          9,2,20090225,       2220,   -54.9778,   -57.9987,        997,   178.5,   5.4356,  34.1246,2,  34.1258,2,    280.3,   281.6,2,    7.45,2,   22.72,2,    1.53,2,  -999.0,9,  -999.0,9
740H20090203,       SR01,      77,          1,         10,         10,2,20090225,       2220,   -54.9778,   -57.9987,        997,   103.4,   6.3049,  34.0963,2,  34.0972,2,    280.7,   282.2,2,    5.36,2,   20.66,2,    1.45,2,  -999.0,9,  -999.0,9
740H20090203,       SR01,      77,          1,         11,         11,2,20090225,       2220,   -54.9778,   -57.9987,        997,    51.6,   7.6712,  34.0674,2,  34.0683,2,    284.6,   285.7,2,    2.34,2,   18.03,2,    1.26,2,  -999.0,9,  -999.0,9
740H20090203,       SR01,      77,          1,         12,         12,9,20090225,       2220,   -54.9778,   -57.9987,        997,    50.9,   7.6737,  34.0672,2,-999.0000,9,    283.9,  -999.0,9, -999.00,9, -999.00,9, -999.00,9,  -999.0,9,  -999.0,9
740H20090203,       SR01,      77,          1,         13,         13,9,20090225,       2220,   -54.9778,   -57.9987,        997,    51.0,   7.6751,  34.0670,2,-999.0000,9,    284.6,  -999.0,9, -999.00,9, -999.00,9, -999.00,9,  -999.0,9,  -999.0,9
740H20090203,       SR01,      77,          1,         14,         14,9,20090225,       2220,   -54.9778,   -57.9987,        997,    50.9,   7.6547,  34.0673,2,-999.0000,9,    284.8,  -999.0,9, -999.00,9, -999.00,9, -999.00,9,  -999.0,9,  -999.0,9
740H20090203,       SR01,      77,          1,         15,         15,9,20090225,       2220,   -54.9778,   -57.9987,        997,    52.6,   7.6111,  34.0700,2,-999.0000,9,    284.7,  -999.0,9, -999.00,9, -999.00,9, -999.00,9,  -999.0,9,  -999.0,9
740H20090203,       SR01,      77,          1,         16,         16,9,20090225,       2220,   -54.9778,   -57.9987,        997,    51.0,   7.6578,  34.0676,2,-999.0000,9,    284.3,  -999.0,9, -999.00,9, -999.00,9, -999.00,9,  -999.0,9,  -999.0,9
740H20090203,       SR01,      77,          1,         17,         17,9,20090225,       2220,   -54.9778,   -57.9987,        997,    51.0,   7.6501,  34.0676,2,-999.0000,9,    284.3,  -999.0,9, -999.00,9, -999.00,9, -999.00,9,  -999.0,9,  -999.0,9
740H20090203,       SR01,      77,          1,         18,         18,9,20090225,       2220,   -54.9778,   -57.9987,        997,    51.8,   7.6427,  34.0709,2,-999.0000,9,    284.5,  -999.0,9, -999.00,9, -999.00,9, -999.00,9,  -999.0,9,  -999.0,9
740H20090203,       SR01,      77,          1,         19,         19,9,20090225,       2220,   -54.9778,   -57.9987,        997,    51.6,   7.6336,  34.0696,2,-999.0000,9,    284.4,  -999.0,9, -999.00,9, -999.00,9, -999.00,9,  -999.0,9,  -999.0,9
740H20090203,       SR01,      77,          1,         20,         20,9,20090225,       2220,   -54.9778,   -57.9987,        997,    50.6,   7.6350,  34.0676,2,-999.0000,9,    284.6,  -999.0,9, -999.00,9, -999.00,9, -999.00,9,  -999.0,9,  -999.0,9
740H20090203,       SR01,      77,          1,         21,         21,9,20090225,       2220,   -54.9778,   -57.9987,        997,    50.9,   7.6387,  34.0679,2,-999.0000,9,    284.5,  -999.0,9, -999.00,9, -999.00,9, -999.00,9,  -999.0,9,  -999.0,9
740H20090203,       SR01,      77,          1,         22,         22,9,20090225,       2220,   -54.9778,   -57.9987,        997,    51.1,   7.6424,  34.0676,2,-999.0000,9,    284.4,  -999.0,9, -999.00,9, -999.00,9, -999.00,9,  -999.0,9,  -999.0,9
740H20090203,       SR01,      77,          1,         23,         23,9,20090225,       2220,   -54.9778,   -57.9987,        997,    51.4,   7.6463,  34.0676,2,-999.0000,9,    284.5,  -999.0,9, -999.00,9, -999.00,9, -999.00,9,  -999.0,9,  -999.0,9
740H20090203,       SR01,      77,          1,         24,         24,2,20090225,       2220,   -54.9778,   -57.9987,        997,     5.9,   7.8038,  34.0686,2,  34.0694,2,    285.4,   288.1,2,    2.22,2,   17.75,2,    1.25,2,  -999.0,9,  -999.0,9