BOTTLE,20211203CCHSIORKP
EXPOCODE,SECT_ID,STNNBR,CASTNO,SAMPNO,BTLNBR,BTLNBR_FLAG_W,DATE,TIME,LATITUDE,LONGITUDE,DEPTH,CTDPRS,CTDTMP,CTDSAL,CTDSAL_FLAG_W,SALNTY,SALNTY_FLAG_W,CTDOXY,OXYGEN,OXYGEN_FLAG_W,SILCAT,SILCAT_FLAG_W,NITRAT,NITRAT_FLAG_W,PHSPHT,PHSPHT_FLAG_W,TCARBN,TCARBN_FLAG_W,ALKALI,ALKALI_FLAG_W
,,,,,,,,,,,METERS,DBAR,ITS-90,PSS-78,,PSS-78,,UMOL/KG,UMOL/KG,,UMOL/KG,,UMOL/KG,,UMOL/KG,,UMOL/KG,,UMOL/KG,
740H20090203,       SR01,      81,          1,          1,          1,2,20090226,       1220,   -53.7526,   -58.0001,       1235,  1041.6,   3.0085,  34.3638,2,  34.3567,2,    191.6,   193.2,2,   49.77,2,   38.81,2,    2.27,2,  -999.0,9,  -999.0,9
740H20090203,       SR01,      81,          1,          2,          2,9,20090226,       1220,   -53.7526,   -58.0001,       1235,  1041.4,   3.0094,  34.3637,2,-999.0000,9,    191.5,  -999.0,9, -999.00,9, -999.00,9, -999.00,9,  -999.0,9,  -999.0,9
740H20090203,       SR01,      81,          1,          3,          3,2,20090226,       1220,   -53.7526,   -58.0001,       1235,   991.8,   3.2372,  34.2932,2,  34.2940,2,    208.3,   207.9,2,   41.03,2,   32.71,2,    2.18,2,  -999.0,9,  -999.0,9
740H20090203,       SR01,      81,          1,          4,          4,9,20090226,       1220,   -53.7526,   -58.0001,       1235,   991.7,   3.2416,  34.2921,2,-999.0000,9,    208.8,  -999.0,9, -999.00,9, -999.00,9, -999.00,9,  -999.0,9,  -999.0,9
740H20090203,       SR01,      81,          1,          5,          5,9,20090226,       1220,   -53.7526,   -58.0001,       1235,   991.4,   3.2399,  34.2924,2,-999.0000,9,    208.5,  -999.0,9, -999.00,9, -999.00,9, -999.00,9,  -999.0,9,  -999.0,9
740H20090203,       SR01,      81,          1,          6,          6,2,20090226,       1220,   -53.7526,   -58.0001,       1235,   884.5,   3.5458,  34.2119,2,  34.2108,2,    234.0,   233.2,2,   28.98,2,   31.49,2,    2.01,2,  -999.0,9,  -999.0,9
740H20090203,       SR01,      81,          1,          7,          7,9,20090226,       1220,   -53.7526,   -58.0001,       1235,   884.5,   3.5458,  34.2118,2,-999.0000,9,    233.8,  -999.0,9, -999.00,9, -999.00,9, -999.00,9,  -999.0,9,  -999.0,9
740H20090203,       SR01,      81,          1,          8,          8,2,20090226,       1220,   -53.7526,   -58.0001,       1235,   757.1,   3.7084,  34.1842,2,  34.1842,2,    245.3,   245.0,2,   24.27,2,   29.49,2,    1.95,2,  -999.0,9,  -999.0,9
740H20090203,       SR01,      81,          1,          9,          9,9,20090226,       1220,   -53.7526,   -58.0001,       1235,   758.0,   3.7086,  34.1840,2,-999.0000,9,    245.3,  -999.0,9, -999.00,9, -999.00,9, -999.00,9,  -999.0,9,  -999.0,9
740H20090203,       SR01,      81,          1,         10,         10,2,20090226,       1220,   -53.7526,   -58.0001,       1235,   631.6,   4.0302,  34.1612,2,  34.1614,2,    261.2,   261.2,2,   18.23,2,   29.60,4,    1.83,2,  -999.0,9,  -999.0,9
740H20090203,       SR01,      81,          1,         11,         11,9,20090226,       1220,   -53.7526,   -58.0001,       1235,   631.9,   4.0304,  34.1612,2,-999.0000,9,    261.3,  -999.0,9, -999.00,9, -999.00,9, -999.00,9,  -999.0,9,  -999.0,9
740H20090203,       SR01,      81,          1,         12,         12,2,20090226,       1220,   -53.7526,   -58.0001,       1235,   505.6,   4.3103,  34.1534,2,  34.1533,2,    271.7,   272.3,2,   14.38,2,   25.97,2,    1.72,2,  -999.0,9,  -999.0,9
740H20090203,       SR01,      81,          1,         13,         13,9,20090226,       1220,   -53.7526,   -58.0001,       1235,   504.5,   4.3101,  34.1534,2,-999.0000,9,    271.6,  -999.0,9, -999.00,9, -999.00,9, -999.00,9,  -999.0,9,  -999.0,9
740H20090203,       SR01,      81,          1,         14,         14,2,20090226,       1220,   -53.7526,   -58.0001,       1235,   378.6,   4.5564,  34.1505,2,  34.1502,2,    279.0,   279.2,2,   11.87,2,   24.56,2,    1.65,2,  -999.0,9,  -999.0,9
740H20090203,       SR01,      81,          1,         15,         15,9,20090226,       1220,   -53.7526,   -58.0001,       1235,   378.9,   4.5566,  34.1505,2,-999.0000,9,    279.0,  -999.0,9, -999.00,9, -999.00,9, -999.00,9,  -999.0,9,  -999.0,9
740H20090203,       SR01,      81,          1,         16,         16,2,20090226,       1220,   -53.7526,   -58.0001,       1235,   253.3,   4.7213,  34.1325,2,  34.1318,2,    283.6,   282.1,2,   10.15,2,   23.58,2,    1.61,2,  -999.0,9,  -999.0,9
740H20090203,       SR01,      81,          1,         17,         17,9,20090226,       1220,   -53.7526,   -58.0001,       1235,   252.0,   4.7243,  34.1323,2,-999.0000,9,    283.0,  -999.0,9, -999.00,9, -999.00,9, -999.00,9,  -999.0,9,  -999.0,9
740H20090203,       SR01,      81,          1,         18,         18,2,20090226,       1220,   -53.7526,   -58.0001,       1235,   176.5,   4.9295,  34.1245,2,  34.1234,2,    283.7,   283.2,2,    9.57,2,   23.20,2,    1.59,2,  -999.0,9,  -999.0,9
740H20090203,       SR01,      81,          1,         19,         19,9,20090226,       1220,   -53.7526,   -58.0001,       1235,   176.9,   4.9290,  34.1244,2,-999.0000,9,    283.8,  -999.0,9, -999.00,9, -999.00,9, -999.00,9,  -999.0,9,  -999.0,9
740H20090203,       SR01,      81,          1,         20,         20,2,20090226,       1220,   -53.7526,   -58.0001,       1235,   101.4,   5.2624,  34.0881,2,  34.0868,2,    281.0,   279.8,2,    8.25,2,   23.06,2,    1.56,2,  -999.0,9,  -999.0,9
740H20090203,       SR01,      81,          1,         21,         21,9,20090226,       1220,   -53.7526,   -58.0001,       1235,   101.0,   5.2633,  34.0879,2,-999.0000,9,    280.8,  -999.0,9, -999.00,9, -999.00,9, -999.00,9,  -999.0,9,  -999.0,9
740H20090203,       SR01,      81,          1,         22,         22,9,20090226,       1220,   -53.7526,   -58.0001,       1235,    51.0,   6.9438,  34.0101,2,-999.0000,9,    282.2,  -999.0,9, -999.00,9, -999.00,9, -999.00,9,  -999.0,9,  -999.0,9
740H20090203,       SR01,      81,          1,         23,         23,2,20090226,       1220,   -53.7526,   -58.0001,       1235,    49.5,   6.9524,  34.0099,2,  34.0089,2,    281.9,   282.3,2,    4.00,2,   19.39,2,    1.36,2,  -999.0,9,  -999.0,9
740H20090203,       SR01,      81,          1,         24,         24,2,20090226,       1220,   -53.7526,   -58.0001,       1235,     4.3,   8.3877,  34.0336,2,  34.0335,2,    284.2,   286.3,2,    2.44,2,   16.85,2,    1.19,2,  -999.0,9,  -999.0,9
740H20090203,       SR01,      82,          1,          1,          1,2,20090226,       1607,   -53.5200,   -58.0001,       2459,  2448.5,   1.5849,  34.7112,2,  34.7124,2,    183.8,   188.3,2,  100.96,2,   33.23,2,    2.24,2,  2268.0,2,  2367.9,6
740H20090203,       SR01,      82,          1,          2,          2,9,20090226,       1607,   -53.5200,   -58.0001,       2459,  2448.9,   1.5847,  34.7112,2,-999.0000,9,    183.9,  -999.0,9, -999.00,9, -999.00,9, -999.00,9,  -999.0,9,  -999.0,9
740H20090203,       SR01,      82,          1,          3,          3,2,20090226,       1607,   -53.5200,   -58.0001,       2459,  2397.4,   1.7384,  34.7068,2,  34.7072,2,    180.2,   181.8,2,   97.16,2,   33.25,2,    2.24,2,  2267.4,2,  2371.4,6
740H20090203,       SR01,      82,          1,          4,          4,9,20090226,       1607,   -53.5200,   -58.0001,       2459,  2398.3,   1.7384,  34.7069,2,-999.0000,9,    180.1,  -999.0,9, -999.00,9, -999.00,9, -999.00,9,  -999.0,9,  -999.0,9
740H20090203,       SR01,      82,          1,          5,          5,2,20090226,       1607,   -53.5200,   -58.0001,       2459,  2277.1,   2.0247,  34.6826,2,  34.6830,2,    172.7,   174.1,2,   90.99,4,   33.56,4,    2.31,4,  2267.2,2,  2363.0,6
740H20090203,       SR01,      82,          1,          6,          6,2,20090226,       1607,   -53.5200,   -58.0001,       2459,  2276.1,   2.0256,  34.6826,2,  34.6833,2,    172.7,   174.3,2,   90.48,2,   33.89,2,    2.26,2,  -999.0,9,  -999.0,9
740H20090203,       SR01,      82,          1,          7,          7,2,20090226,       1607,   -53.5200,   -58.0001,       2459,  2022.6,   2.3400,  34.6227,2,  34.6228,2,    163.9,   165.7,2,   82.46,2,   34.96,2,    2.34,2,  2269.4,2,  2357.9,6
740H20090203,       SR01,      82,          1,          8,          8,2,20090226,       1607,   -53.5200,   -58.0001,       2459,  1767.5,   2.4448,  34.5844,2,  34.5848,2,    162.7,   163.8,2,   79.13,2,   35.51,2,    2.36,2,  2265.2,2,  2358.4,6
740H20090203,       SR01,      82,          1,          9,          9,2,20090226,       1607,   -53.5200,   -58.0001,       2459,  1513.5,   2.5700,  34.5257,2,  34.5258,2,    166.7,   168.5,2,   71.74,2,   35.38,2,    2.37,2,  2259.0,2,  2348.1,6
740H20090203,       SR01,      82,          1,         10,         10,2,20090226,       1607,   -53.5200,   -58.0001,       2459,  1261.0,   2.7827,  34.4398,2,  34.4394,2,    176.5,   178.9,2,   60.98,2,   36.27,2,    2.37,2,  2243.5,2,  2332.5,6
740H20090203,       SR01,      82,          1,         11,         11,2,20090226,       1607,   -53.5200,   -58.0001,       2459,  1007.7,   3.1886,  34.3091,2,  34.3089,2,    202.5,   205.5,2,   42.96,2,   33.96,2,    2.24,2,  2216.3,2,  2313.0,6
740H20090203,       SR01,      82,          1,         12,         12,2,20090226,       1607,   -53.5200,   -58.0001,       2459,   880.7,   3.4244,  34.2656,2,  34.2658,2,    214.2,   216.2,2,   35.59,2,   32.27,2,    2.15,2,  2202.9,2,  2310.9,6
740H20090203,       SR01,      82,          1,         13,         13,2,20090226,       1607,   -53.5200,   -58.0001,       2459,   754.6,   3.6177,  34.1973,2,  34.1974,2,    238.7,   241.2,2,   26.10,2,   30.12,2,    1.99,2,  2181.7,2,  2302.0,6
740H20090203,       SR01,      82,          1,         14,         14,2,20090226,       1607,   -53.5200,   -58.0001,       2459,   628.2,   4.0098,  34.1676,2,  34.1678,2,    258.0,   259.5,2,   18.72,2,   27.97,2,    1.87,2,  2163.8,2,  2296.3,6
740H20090203,       SR01,      82,          1,         15,         15,2,20090226,       1607,   -53.5200,   -58.0001,       2459,   501.7,   4.3488,  34.1565,2,  34.1571,2,    271.1,   273.6,2,   14.08,2,   26.12,2,    1.74,2,  2151.5,2,  2291.1,6
740H20090203,       SR01,      82,          1,         16,         16,2,20090226,       1607,   -53.5200,   -58.0001,       2459,   375.2,   4.6170,  34.1570,2,  34.1577,2,    278.7,   280.1,2,   11.67,2,   24.46,2,    1.65,2,  2144.1,2,  2289.4,6
740H20090203,       SR01,      82,          1,         17,         17,2,20090226,       1607,   -53.5200,   -58.0001,       2459,   249.2,   4.8379,  34.1504,2,  34.1502,2,    282.7,   283.3,2,   10.26,2,   23.88,2,    1.61,2,  2137.5,2,  2286.2,6
740H20090203,       SR01,      82,          1,         18,         18,2,20090226,       1607,   -53.5200,   -58.0001,       2459,   172.4,   5.0176,  34.1306,2,  34.1303,2,    283.7,   283.5,2,    9.37,2,   23.79,2,    1.59,2,  2133.7,2,  2283.6,6
740H20090203,       SR01,      82,          1,         19,         19,2,20090226,       1607,   -53.5200,   -58.0001,       2459,   121.8,   5.3528,  34.0921,2,  34.0919,2,    281.8,   282.9,2,    7.43,2,   23.29,2,    1.56,2,  2131.7,2,  2281.3,6
740H20090203,       SR01,      82,          1,         20,         20,2,20090226,       1607,   -53.5200,   -58.0001,       2459,    97.3,   5.8079,  34.0920,2,  34.0907,2,    282.9,   283.7,2,    5.66,2,   22.13,2,    1.51,2,  2126.0,2,  2283.2,6
740H20090203,       SR01,      82,          1,         21,         21,2,20090226,       1607,   -53.5200,   -58.0001,       2459,    72.2,   6.3537,  34.0626,2,  34.0619,2,    284.1,   285.4,2,    3.79,2,   20.12,2,    1.45,2,  2115.5,2,  2281.8,6
740H20090203,       SR01,      82,          1,         22,         22,2,20090226,       1607,   -53.5200,   -58.0001,       2459,    47.0,   7.9819,  34.0264,2,  34.0286,2,    283.3,   287.3,2,    2.65,2,   17.60,2,    1.23,2,  2096.1,2,  2278.9,6
740H20090203,       SR01,      82,          1,         23,         23,2,20090226,       1607,   -53.5200,   -58.0001,       2459,    21.1,   8.6060,  34.0203,2,  34.0194,2,    282.9,   283.4,2,    2.38,2,   16.32,2,    1.15,2,  2086.9,2,  2279.9,6
740H20090203,       SR01,      82,          1,         24,         24,2,20090226,       1607,   -53.5200,   -58.0001,       2459,     5.9,   8.7358,  34.0182,2,  34.0185,2,    281.9,   283.1,2,    2.37,2,   16.09,2,    1.15,2,  2088.8,2,  2275.5,6
740H20090203,       SR01,      83,          1,          1,          1,2,20090226,       2124,   -53.1332,   -57.9963,        986,   975.3,   3.2334,  34.3033,2,  34.3040,2,    205.3,   210.8,2,   41.99,2,   32.91,2,    2.19,2,  2218.8,2,  2314.9,6
740H20090203,       SR01,      83,          1,          2,          2,9,20090226,       2124,   -53.1332,   -57.9963,        986,   975.8,   3.2358,  34.3027,2,-999.0000,9,    205.3,  -999.0,9, -999.00,9, -999.00,9, -999.00,9,  -999.0,9,  -999.0,9
740H20090203,       SR01,      83,          1,          3,          3,2,20090226,       2124,   -53.1332,   -57.9963,        986,   924.7,   3.2526,  34.2968,2,  34.2969,2,    206.8,   210.2,2,   41.14,2,   32.78,2,    2.18,2,  2217.0,2,  2316.6,6
740H20090203,       SR01,      83,          1,          4,          4,9,20090226,       2124,   -53.1332,   -57.9963,        986,   924.1,   3.2531,  34.2967,2,-999.0000,9,    206.7,  -999.0,9, -999.00,9, -999.00,9, -999.00,9,  -999.0,9,  -999.0,9
740H20090203,       SR01,      83,          1,          5,          5,2,20090226,       2124,   -53.1332,   -57.9963,        986,   886.3,   3.3058,  34.2780,2,  34.2792,2,    211.8,   212.8,2,   38.17,2,   32.50,2,    2.18,2,  2203.2,2,  2316.6,6
740H20090203,       SR01,      83,          1,          6,          6,9,20090226,       2124,   -53.1332,   -57.9963,        986,   886.6,   3.3069,  34.2777,2,-999.0000,9,    212.0,  -999.0,9, -999.00,9, -999.00,9, -999.00,9,  -999.0,9,  -999.0,9
740H20090203,       SR01,      83,          1,          7,          7,2,20090226,       2124,   -53.1332,   -57.9963,        986,   760.5,   3.6140,  34.2313,2,  34.2328,2,    225.5,   227.7,2,   30.77,2,   30.58,2,    2.05,2,  2188.9,2,  2307.6,6
740H20090203,       SR01,      83,          1,          8,          8,9,20090226,       2124,   -53.1332,   -57.9963,        986,   760.4,   3.6151,  34.2311,2,-999.0000,9,    225.5,  -999.0,9, -999.00,9, -999.00,9, -999.00,9,  -999.0,9,  -999.0,9
740H20090203,       SR01,      83,          1,          9,          9,2,20090226,       2124,   -53.1332,   -57.9963,        986,   634.1,   3.7605,  34.1740,2,  34.1747,2,    250.0,   251.2,2,   22.04,2,   28.75,2,    1.92,2,  2167.1,2,  2302.1,6
740H20090203,       SR01,      83,          1,         10,         10,9,20090226,       2124,   -53.1332,   -57.9963,        986,   634.6,   3.7601,  34.1740,2,-999.0000,9,    250.0,  -999.0,9, -999.00,9, -999.00,9, -999.00,9,  -999.0,9,  -999.0,9
740H20090203,       SR01,      83,          1,         11,         11,2,20090226,       2124,   -53.1332,   -57.9963,        986,   508.0,   4.0643,  34.1510,2,  34.1520,2,    267.5,   269.5,2,   15.98,2,   26.71,2,    1.79,2,  2154.1,2,  2296.2,6
740H20090203,       SR01,      83,          1,         12,         12,9,20090226,       2124,   -53.1332,   -57.9963,        986,   508.7,   4.0647,  34.1512,2,-999.0000,9,    267.6,  -999.0,9, -999.00,9, -999.00,9, -999.00,9,  -999.0,9,  -999.0,9
740H20090203,       SR01,      83,          1,         13,         13,2,20090226,       2124,   -53.1332,   -57.9963,        986,   381.4,   4.4048,  34.1450,2,  34.1454,2,    274.4,   276.3,2,   12.77,2,   25.38,2,    1.70,2,  2146.9,2,  2292.4,6
740H20090203,       SR01,      83,          1,         14,         14,9,20090226,       2124,   -53.1332,   -57.9963,        986,   381.6,   4.4048,  34.1450,2,-999.0000,9,    274.2,  -999.0,9, -999.00,9, -999.00,9, -999.00,9,  -999.0,9,  -999.0,9
740H20090203,       SR01,      83,          1,         15,         15,2,20090226,       2124,   -53.1332,   -57.9963,        986,   254.5,   4.7684,  34.1293,2,  34.1297,2,    283.6,   286.5,2,    9.85,2,   23.97,2,    1.61,2,  2135.0,2,  2287.5,6
740H20090203,       SR01,      83,          1,         16,         16,9,20090226,       2124,   -53.1332,   -57.9963,        986,   254.2,   4.7682,  34.1294,2,-999.0000,9,    283.7,  -999.0,9, -999.00,9, -999.00,9, -999.00,9,  -999.0,9,  -999.0,9
740H20090203,       SR01,      83,          1,         17,         17,2,20090226,       2124,   -53.1332,   -57.9963,        986,   179.7,   5.0241,  34.1109,2,  34.1113,2,    284.0,   286.4,2,    8.56,2,   23.57,2,    1.58,2,  2129.9,2,  2286.8,6
740H20090203,       SR01,      83,          1,         18,         18,9,20090226,       2124,   -53.1332,   -57.9963,        986,   178.4,   5.0218,  34.1112,2,-999.0000,9,    283.8,  -999.0,9, -999.00,9, -999.00,9, -999.00,9,  -999.0,9,  -999.0,9
740H20090203,       SR01,      83,          1,         19,         19,2,20090226,       2124,   -53.1332,   -57.9963,        986,   102.7,   6.0124,  34.0696,2,  34.0695,2,    283.3,   286.1,2,    4.40,2,   20.92,2,    1.47,2,  2120.4,2,  2288.4,6
740H20090203,       SR01,      83,          1,         20,         20,9,20090226,       2124,   -53.1332,   -57.9963,        986,   102.8,   6.0138,  34.0697,2,-999.0000,9,    283.5,  -999.0,9, -999.00,9, -999.00,9, -999.00,9,  -999.0,9,  -999.0,9
740H20090203,       SR01,      83,          1,         21,         21,2,20090226,       2124,   -53.1332,   -57.9963,        986,    52.5,   8.3654,  34.0243,2,  34.0238,2,    282.6,   285.5,2,    2.23,2,   16.29,2,    1.18,2,  2089.1,2,  2285.1,6
740H20090203,       SR01,      83,          1,         22,         22,9,20090226,       2124,   -53.1332,   -57.9963,        986,    51.6,   8.3753,  34.0239,2,-999.0000,9,    282.4,  -999.0,9, -999.00,9, -999.00,9, -999.00,9,  -999.0,9,  -999.0,9
740H20090203,       SR01,      83,          1,         23,         23,2,20090226,       2124,   -53.1332,   -57.9963,        986,     6.2,   8.8867,  34.0167,2,  34.0167,2,    282.7,   286.3,2,    2.29,2,   16.08,2,    1.13,2,  2078.4,2,  2280.6,6
740H20090203,       SR01,      83,          1,         24,         24,9,20090226,       2124,   -53.1332,   -57.9963,        986,     6.2,   8.8877,  34.0167,2,-999.0000,9,    282.7,  -999.0,9, -999.00,9, -999.00,9, -999.00,9,  -999.0,9,  -999.0,9