BOTTLE,20211203CCHSIORKP
EXPOCODE,SECT_ID,STNNBR,CASTNO,SAMPNO,BTLNBR,BTLNBR_FLAG_W,DATE,TIME,LATITUDE,LONGITUDE,DEPTH,CTDPRS,CTDTMP,CTDSAL,CTDSAL_FLAG_W,SALNTY,SALNTY_FLAG_W,CTDOXY,OXYGEN,OXYGEN_FLAG_W,SILCAT,SILCAT_FLAG_W,NITRAT,NITRAT_FLAG_W,PHSPHT,PHSPHT_FLAG_W,TCARBN,TCARBN_FLAG_W,ALKALI,ALKALI_FLAG_W
,,,,,,,,,,,METERS,DBAR,ITS-90,PSS-78,,PSS-78,,UMOL/KG,UMOL/KG,,UMOL/KG,,UMOL/KG,,UMOL/KG,,UMOL/KG,,UMOL/KG,
740H20090203,       SR01,      78,          1,          1,          1,2,20090226,       0039,   -54.9224,   -58.0000,        754,   743.3,   4.1321,  34.1747,2,  34.1764,2,    258.1,   259.1,2,   18.13,2,   27.23,2,    1.80,2,  2160.3,2,  2299.8,6
740H20090203,       SR01,      78,          1,          2,          2,9,20090226,       0039,   -54.9224,   -58.0000,        754,   743.9,   4.1275,  34.1747,2,-999.0000,9,    257.7,  -999.0,9, -999.00,9, -999.00,9, -999.00,9,  -999.0,9,  -999.0,9
740H20090203,       SR01,      78,          1,          3,          3,2,20090226,       0039,   -54.9224,   -58.0000,        754,   691.6,   4.1648,  34.1739,2,  34.1755,2,    259.2,   260.0,2,   17.34,2,   27.08,2,    1.80,2,  2156.2,2,  2299.4,6
740H20090203,       SR01,      78,          1,          4,          4,9,20090226,       0039,   -54.9224,   -58.0000,        754,   693.2,   4.1650,  34.1740,2,-999.0000,9,    259.3,  -999.0,9, -999.00,9, -999.00,9, -999.00,9,  -999.0,9,  -999.0,9
740H20090203,       SR01,      78,          1,          5,          5,2,20090226,       0039,   -54.9224,   -58.0000,        754,   631.7,   4.1812,  34.1729,2,  34.1743,2,    260.4,   259.7,2,   16.79,2,   26.73,2,    1.79,2,  2155.8,2,  2298.2,6
740H20090203,       SR01,      78,          1,          6,          6,9,20090226,       0039,   -54.9224,   -58.0000,        754,   631.0,   4.1824,  34.1727,2,-999.0000,9,    260.2,  -999.0,9, -999.00,9, -999.00,9, -999.00,9,  -999.0,9,  -999.0,9
740H20090203,       SR01,      78,          1,          7,          7,2,20090226,       0039,   -54.9224,   -58.0000,        754,   505.5,   4.5624,  34.1716,2,  34.1729,2,    271.8,   272.2,2,   12.64,2,   24.86,2,    1.66,2,  2143.5,2,  2297.9,6
740H20090203,       SR01,      78,          1,          8,          8,9,20090226,       0039,   -54.9224,   -58.0000,        754,   505.3,   4.5641,  34.1717,2,-999.0000,9,    271.9,  -999.0,9, -999.00,9, -999.00,9, -999.00,9,  -999.0,9,  -999.0,9
740H20090203,       SR01,      78,          1,          9,          9,2,20090226,       0039,   -54.9224,   -58.0000,        754,   380.0,   4.7902,  34.1683,2,  34.1694,2,    277.6,   278.1,2,   10.57,2,   23.97,2,    1.61,2,  2134.0,2,  2291.5,6
740H20090203,       SR01,      78,          1,         10,         10,9,20090226,       0039,   -54.9224,   -58.0000,        754,   379.7,   4.7910,  34.1683,2,-999.0000,9,    277.7,  -999.0,9, -999.00,9, -999.00,9, -999.00,9,  -999.0,9,  -999.0,9
740H20090203,       SR01,      78,          1,         11,         11,2,20090226,       0039,   -54.9224,   -58.0000,        754,   254.2,   5.0573,  34.1514,2,  34.1520,2,    280.8,   281.2,2,    8.95,2,   23.06,2,    1.54,2,  2130.6,2,  -999.0,9
740H20090203,       SR01,      78,          1,         12,         12,9,20090226,       0039,   -54.9224,   -58.0000,        754,   251.1,   5.0613,  34.1508,2,-999.0000,9,    280.4,  -999.0,9, -999.00,9, -999.00,9, -999.00,9,  -999.0,9,  -999.0,9
740H20090203,       SR01,      78,          1,         13,         13,2,20090226,       0039,   -54.9224,   -58.0000,        754,   177.8,   5.5265,  34.1235,2,  34.1241,2,    280.7,   281.4,2,    6.90,2,   22.01,2,    1.51,2,  2123.9,2,  2283.1,6
740H20090203,       SR01,      78,          1,         14,         14,9,20090226,       0039,   -54.9224,   -58.0000,        754,   176.4,   5.5380,  34.1230,2,-999.0000,9,    280.8,  -999.0,9, -999.00,9, -999.00,9, -999.00,9,  -999.0,9,  -999.0,9
740H20090203,       SR01,      78,          1,         15,         15,2,20090226,       0039,   -54.9224,   -58.0000,        754,   100.8,   6.1495,  34.1024,2,  34.1030,2,    283.2,   283.7,2,    4.34,2,   19.96,2,    1.43,2,  2115.3,2,  2289.1,6
740H20090203,       SR01,      78,          1,         16,         16,9,20090226,       0039,   -54.9224,   -58.0000,        754,   100.8,   6.1579,  34.1021,2,-999.0000,9,    283.5,  -999.0,9, -999.00,9, -999.00,9, -999.00,9,  -999.0,9,  -999.0,9
740H20090203,       SR01,      78,          1,         17,         17,2,20090226,       0039,   -54.9224,   -58.0000,        754,    50.1,   7.6642,  34.0527,2,  34.0538,2,    284.0,   285.6,2,    2.20,2,   17.35,2,    1.25,2,  2092.0,2,  2285.4,6
740H20090203,       SR01,      78,          1,         18,         18,9,20090226,       0039,   -54.9224,   -58.0000,        754,    50.3,   7.6620,  34.0527,2,-999.0000,9,    284.1,  -999.0,9, -999.00,9, -999.00,9, -999.00,9,  -999.0,9,  -999.0,9
740H20090203,       SR01,      78,          1,         19,         19,9,20090226,       0039,   -54.9224,   -58.0000,        754,    49.9,   7.6453,  34.0533,2,-999.0000,9,    284.0,  -999.0,9, -999.00,9, -999.00,9, -999.00,9,  -999.0,9,  -999.0,9
740H20090203,       SR01,      78,          1,         20,         20,9,20090226,       0039,   -54.9224,   -58.0000,        754,    49.7,   7.6316,  34.0537,2,-999.0000,9,    283.9,  -999.0,9, -999.00,9, -999.00,9, -999.00,9,  -999.0,9,  -999.0,9
740H20090203,       SR01,      78,          1,         21,         21,9,20090226,       0039,   -54.9224,   -58.0000,        754,     4.0,   7.7635,  34.0518,2,-999.0000,9,    284.5,  -999.0,9, -999.00,9, -999.00,9, -999.00,9,  -999.0,9,  -999.0,9
740H20090203,       SR01,      78,          1,         22,         22,2,20090226,       0039,   -54.9224,   -58.0000,        754,     5.2,   7.7628,  34.0517,2,  34.0526,2,    284.7,   286.4,2,    2.13,2,   17.54,2,    1.25,2,  2093.6,2,  2281.6,6
740H20090203,       SR01,      78,          1,         23,         23,9,20090226,       0039,   -54.9224,   -58.0000,        754,     5.2,   7.7614,  34.0517,2,-999.0000,9,    284.7,  -999.0,9, -999.00,9, -999.00,9, -999.00,9,  -999.0,9,  -999.0,9
740H20090203,       SR01,      78,          1,         24,         24,9,20090226,       0039,   -54.9224,   -58.0000,        754,     5.6,   7.7608,  34.0518,2,-999.0000,9,    284.6,  -999.0,9, -999.00,9, -999.00,9, -999.00,9,  -999.0,9,  -999.0,9
740H20090203,       SR01,      79,          1,          1,          1,2,20090226,       0351,   -54.6667,   -58.0000,        172,   161.6,   6.2063,  34.0746,2,  34.0742,2,    270.4,   289.0,3,    8.48,2,   22.14,2,    1.52,2,  2124.7,2,  2279.1,6
740H20090203,       SR01,      79,          1,          2,          2,9,20090226,       0351,   -54.6667,   -58.0000,        172,   161.6,   6.2064,  34.0746,2,-999.0000,9,    270.6,   270.8,2,    8.40,2,   22.15,2,    1.53,2,  -999.0,9,  -999.0,9
740H20090203,       SR01,      79,          1,          4,          4,2,20090226,       0351,   -54.6667,   -58.0000,        172,   111.3,   6.2835,  34.0735,2,  34.0731,2,    272.8,   273.2,2,    7.64,2,   21.58,2,    1.50,2,  2119.8,2,  2274.9,6
740H20090203,       SR01,      79,          1,          5,          5,9,20090226,       0351,   -54.6667,   -58.0000,        172,   111.1,   6.2736,  34.0736,2,-999.0000,9,    272.6,  -999.0,9, -999.00,9, -999.00,9, -999.00,9,  -999.0,9,  -999.0,9
740H20090203,       SR01,      79,          1,          8,          8,2,20090226,       0351,   -54.6667,   -58.0000,        172,    76.7,   7.3026,  34.0558,2,  34.0547,2,    282.8,   284.3,2,    3.99,2,   18.51,2,    1.34,2,  2097.0,2,  2276.6,6
740H20090203,       SR01,      79,          1,          9,          9,9,20090226,       0351,   -54.6667,   -58.0000,        172,    74.4,   7.3436,  34.0551,2,-999.0000,9,    282.5,  -999.0,9, -999.00,9, -999.00,9, -999.00,9,  -999.0,9,  -999.0,9
740H20090203,       SR01,      79,          1,         12,         12,2,20090226,       0351,   -54.6667,   -58.0000,        172,    50.6,   7.5272,  34.0532,2,  34.0525,2,    285.1,   286.2,2,    3.65,2,   18.29,2,    1.29,2,  2091.4,2,  2272.9,6
740H20090203,       SR01,      79,          1,         13,         13,9,20090226,       0351,   -54.6667,   -58.0000,        172,    50.7,   7.5289,  34.0533,2,-999.0000,9,    285.3,  -999.0,9, -999.00,9, -999.00,9, -999.00,9,  -999.0,9,  -999.0,9
740H20090203,       SR01,      79,          1,         16,         16,2,20090226,       0351,   -54.6667,   -58.0000,        172,    25.2,   7.5928,  34.0526,2,  34.0522,2,    287.9,   287.1,2,    3.49,2,   17.86,2,    1.28,2,  2094.0,2,  2273.5,6
740H20090203,       SR01,      79,          1,         17,         17,9,20090226,       0351,   -54.6667,   -58.0000,        172,    26.2,   7.5926,  34.0526,2,-999.0000,9,    288.3,  -999.0,9, -999.00,9, -999.00,9, -999.00,9,  -999.0,9,  -999.0,9
740H20090203,       SR01,      79,          1,         20,         20,2,20090226,       0351,   -54.6667,   -58.0000,        172,     5.0,   7.7382,  34.0514,2,  34.0505,2,    286.7,   287.6,2,    3.42,2,   17.81,2,    1.26,2,  2093.6,2,  2272.8,6
740H20090203,       SR01,      79,          1,         21,         21,9,20090226,       0351,   -54.6667,   -58.0000,        172,     4.6,   7.7377,  34.0508,2,-999.0000,9,    287.0,  -999.0,9, -999.00,9, -999.00,9, -999.00,9,  -999.0,9,  -999.0,9
740H20090203,       SR01,      79,          1,         22,         22,2,20090226,       0351,   -54.6667,   -58.0000,        172,     4.6,   7.7383,  34.0510,2,-999.0000,9,    286.5,   288.0,2,    3.42,2,   18.09,2,    1.27,2,  -999.0,9,  -999.0,9
740H20090203,       SR01,      80,          1,          1,          1,2,20090226,       0930,   -53.9815,   -58.0001,       1235,   505.0,   4.6742,  34.1540,2,  34.1575,2,    278.4,   276.7,2,   12.00,2,   24.40,2,    1.64,2,  2140.8,2,  2280.0,6
740H20090203,       SR01,      80,          1,          2,          2,9,20090226,       0930,   -53.9815,   -58.0001,       1235,   505.5,   4.6686,  34.1544,2,-999.0000,9,    278.3,  -999.0,9, -999.00,9, -999.00,9, -999.00,9,  -999.0,9,  -999.0,9
740H20090203,       SR01,      80,          1,          4,          4,2,20090226,       0930,   -53.9815,   -58.0001,       1235,   457.1,   4.7604,  34.1504,2,  34.1529,2,    280.4,   281.8,2,   11.32,2,   24.15,2,    1.62,2,  2137.4,2,  2289.8,6
740H20090203,       SR01,      80,          1,          5,          5,9,20090226,       0930,   -53.9815,   -58.0001,       1235,   455.8,   4.7614,  34.1504,2,-999.0000,9,    280.0,  -999.0,9, -999.00,9, -999.00,9, -999.00,9,  -999.0,9,  -999.0,9
740H20090203,       SR01,      80,          1,          7,          7,2,20090226,       0930,   -53.9815,   -58.0001,       1235,   379.3,   4.8212,  34.1481,2,  34.1504,2,    279.5,   277.4,2,   11.54,2,   24.14,2,    1.62,2,  2135.1,2,  2280.6,6
740H20090203,       SR01,      80,          1,          8,          8,9,20090226,       0930,   -53.9815,   -58.0001,       1235,   380.2,   4.8171,  34.1481,2,-999.0000,9,    279.8,  -999.0,9, -999.00,9, -999.00,9, -999.00,9,  -999.0,9,  -999.0,9
740H20090203,       SR01,      80,          1,         10,         10,2,20090226,       0930,   -53.9815,   -58.0001,       1235,   252.9,   4.9759,  34.1432,2,  34.1451,2,    280.8,   281.5,2,   10.33,2,   23.37,2,    1.58,2,  2132.5,2,  2284.2,6
740H20090203,       SR01,      80,          1,         11,         11,9,20090226,       0930,   -53.9815,   -58.0001,       1235,   253.1,   4.9774,  34.1435,2,-999.0000,9,    280.9,  -999.0,9, -999.00,9, -999.00,9, -999.00,9,  -999.0,9,  -999.0,9
740H20090203,       SR01,      80,          1,         12,         12,2,20090226,       0930,   -53.9815,   -58.0001,       1235,   177.3,   5.3686,  34.1224,2,  34.1246,2,    282.3,   282.8,2,    7.80,2,   22.84,2,    1.53,2,  2129.4,2,  -999.0,9
740H20090203,       SR01,      80,          1,         13,         13,9,20090226,       0930,   -53.9815,   -58.0001,       1235,   177.4,   5.3676,  34.1223,2,-999.0000,9,    282.5,  -999.0,9, -999.00,9, -999.00,9, -999.00,9,  -999.0,9,  -999.0,9
740H20090203,       SR01,      80,          1,         14,         14,2,20090226,       0930,   -53.9815,   -58.0001,       1235,   100.5,   6.1745,  34.0801,2,  34.0817,2,    278.5,   278.6,2,    5.95,2,   21.23,2,    1.46,2,  2119.2,2,  -999.0,9
740H20090203,       SR01,      80,          1,         15,         15,9,20090226,       0930,   -53.9815,   -58.0001,       1235,   101.5,   6.1772,  34.0801,2,-999.0000,9,    277.4,  -999.0,9, -999.00,9, -999.00,9, -999.00,9,  -999.0,9,  -999.0,9
740H20090203,       SR01,      80,          1,         18,         18,2,20090226,       0930,   -53.9815,   -58.0001,       1235,    75.6,   6.6035,  34.0568,2,  34.0596,2,    285.1,   286.6,2,    3.25,2,   19.03,2,    1.38,2,  2110.4,2,  2271.0,6
740H20090203,       SR01,      80,          1,         19,         19,9,20090226,       0930,   -53.9815,   -58.0001,       1235,    76.0,   6.5986,  34.0579,2,-999.0000,9,    285.5,  -999.0,9, -999.00,9, -999.00,9, -999.00,9,  -999.0,9,  -999.0,9
740H20090203,       SR01,      80,          1,         20,         20,2,20090226,       0930,   -53.9815,   -58.0001,       1235,    50.5,   7.9244,  34.0238,2,  34.0264,2,    283.9,   285.9,2,    3.17,2,   17.33,2,    1.22,2,  2091.7,2,  -999.0,9
740H20090203,       SR01,      80,          1,         21,         21,9,20090226,       0930,   -53.9815,   -58.0001,       1235,    50.9,   7.9439,  34.0229,2,-999.0000,9,    283.9,  -999.0,9, -999.00,9, -999.00,9, -999.00,9,  -999.0,9,  -999.0,9
740H20090203,       SR01,      80,          1,         22,         22,2,20090226,       0930,   -53.9815,   -58.0001,       1235,    30.3,   8.0320,  34.0198,2,  34.0221,2,    283.9,   286.0,2,    2.94,2,   16.87,2,    1.20,2,  2089.0,2,  -999.0,9
740H20090203,       SR01,      80,          1,         23,         23,2,20090226,       0930,   -53.9815,   -58.0001,       1235,     5.3,   8.1446,  34.0225,2,  34.0244,2,    285.0,   285.1,2,    2.99,2,   16.97,2,    1.20,2,  2092.9,2,  2276.9,6