BOTTLE,20211203CCHSIORKP
EXPOCODE,SECT_ID,STNNBR,CASTNO,SAMPNO,BTLNBR,BTLNBR_FLAG_W,DATE,TIME,LATITUDE,LONGITUDE,DEPTH,CTDPRS,CTDTMP,CTDSAL,CTDSAL_FLAG_W,SALNTY,SALNTY_FLAG_W,CTDOXY,OXYGEN,OXYGEN_FLAG_W,SILCAT,SILCAT_FLAG_W,NITRAT,NITRAT_FLAG_W,PHSPHT,PHSPHT_FLAG_W,TCARBN,TCARBN_FLAG_W,ALKALI,ALKALI_FLAG_W
,,,,,,,,,,,METERS,DBAR,ITS-90,PSS-78,,PSS-78,,UMOL/KG,UMOL/KG,,UMOL/KG,,UMOL/KG,,UMOL/KG,,UMOL/KG,,UMOL/KG,
740H20090203,       SR01,      18,          1,          1,          1,2,20090211,       0438,   -58.8413,   -68.2625,       3913,  3903.0,   0.8102,  34.7090,2,  34.7086,2,    202.0,   203.9,2,  126.56,2,   34.05,2,    2.25,2,  2264.8,2,  2373.3,6
740H20090203,       SR01,      18,          1,          2,          2,2,20090211,       0438,   -58.8413,   -68.2625,       3913,  3855.2,   0.8093,  34.7092,2,  34.7088,2,    201.1,   201.7,2,  125.76,2,   33.74,2,    2.41,4,  2265.9,2,  2370.6,6
740H20090203,       SR01,      18,          1,          3,          3,2,20090211,       0438,   -58.8413,   -68.2625,       3913,  3561.8,   0.8806,  34.7114,2,  34.7108,2,    198.3,   199.6,2,  123.25,2,   33.64,2,    2.24,2,  2264.8,2,  2374.1,6
740H20090203,       SR01,      18,          1,          4,          4,2,20090211,       0438,   -58.8413,   -68.2625,       3913,  3306.5,   0.9730,  34.7141,2,  34.7133,2,    195.6,   197.9,2,  119.72,2,   34.19,4,    2.26,4,  2261.4,2,  2372.5,6
740H20090203,       SR01,      18,          1,          5,          5,2,20090211,       0438,   -58.8413,   -68.2625,       3913,  3050.4,   1.1158,  34.7177,2,  34.7171,2,    192.7,   194.7,2,  113.14,2,   33.55,2,    2.20,2,  2261.1,2,  2369.9,6
740H20090203,       SR01,      18,          1,          6,          6,2,20090211,       0438,   -58.8413,   -68.2625,       3913,  2795.8,   1.2966,  34.7215,2,  34.7212,2,    188.8,   192.0,2,  109.78,2,   33.63,2,    2.21,2,  2263.1,2,  2370.4,6
740H20090203,       SR01,      18,          1,          7,          7,2,20090211,       0438,   -58.8413,   -68.2625,       3913,  2539.4,   1.4495,  34.7231,2,  34.7224,2,    184.8,   189.1,2,  105.15,2,   33.79,2,    2.51,4,  2260.9,2,  2368.2,6
740H20090203,       SR01,      18,          1,          8,          8,2,20090211,       0438,   -58.8413,   -68.2625,       3913,  2286.2,   1.5985,  34.7202,2,  34.7198,2,    179.5,   182.8,2,  102.98,2,   33.58,2,    2.20,2,  2263.4,2,  2370.8,6
740H20090203,       SR01,      18,          1,          9,          9,2,20090211,       0438,   -58.8413,   -68.2625,       3913,  2029.7,   1.7673,  34.7139,2,  34.7133,2,    173.9,   176.8,2,   99.80,2,   34.15,4,    2.27,4,  2266.4,2,  2375.0,6
740H20090203,       SR01,      18,          1,         10,         10,2,20090211,       0438,   -58.8413,   -68.2625,       3913,  1773.0,   2.0023,  34.7080,2,  34.7075,2,    172.9,   177.0,2,   89.56,2,   33.88,2,    2.24,2,  2261.7,2,  2363.2,6
740H20090203,       SR01,      18,          1,         11,         11,2,20090211,       0438,   -58.8413,   -68.2625,       3913,  1520.3,   2.1670,  34.6820,2,  34.6411,2,    169.9,   172.4,2,   79.62,2,   34.73,2,    2.30,2,  2259.9,2,  2352.1,6
740H20090203,       SR01,      18,          1,         12,         12,2,20090211,       0438,   -58.8413,   -68.2625,       3913,  1267.4,   2.3143,  34.6279,2,  34.6267,2,    165.4,   168.5,2,   78.72,2,   35.07,2,    2.33,2,  2261.6,2,  2351.3,6
740H20090203,       SR01,      18,          1,         13,         13,2,20090211,       0438,   -58.8413,   -68.2625,       3913,  1013.6,   2.4773,  34.5486,2,  34.5476,2,    166.1,   170.3,2,   71.58,2,   35.92,2,    2.38,2,  2254.3,2,  2344.3,6
740H20090203,       SR01,      18,          1,         14,         14,2,20090211,       0438,   -58.8413,   -68.2625,       3913,   886.6,   2.5715,  34.4885,2,  34.4876,2,    170.8,   173.7,2,   65.66,2,   36.23,2,    2.38,2,  2249.6,2,  2334.0,6
740H20090203,       SR01,      18,          1,         15,         15,2,20090211,       0438,   -58.8413,   -68.2625,       3913,   759.4,   2.7353,  34.4302,2,  34.4311,2,    177.7,   181.4,2,   59.23,2,   35.76,2,    2.38,2,  2238.8,2,  2329.4,6
740H20090203,       SR01,      18,          1,         16,         16,2,20090211,       0438,   -58.8413,   -68.2625,       3913,   632.1,   2.8752,  34.3662,2,  34.3653,2,    189.0,   192.5,2,   50.88,2,   35.20,2,    2.39,2,  2228.3,2,  2319.4,6
740H20090203,       SR01,      18,          1,         17,         17,2,20090211,       0438,   -58.8413,   -68.2625,       3913,   505.1,   3.0206,  34.2949,2,  34.2946,2,    205.7,   209.2,2,   41.89,2,   33.78,2,    2.23,2,  2211.5,2,  2310.5,6
740H20090203,       SR01,      18,          1,         18,         18,2,20090211,       0438,   -58.8413,   -68.2625,       3913,   379.2,   2.6834,  34.1537,2,  34.1447,2,    252.8,   257.8,2,   27.77,2,   31.00,2,    2.13,2,  2180.2,2,  2303.0,6
740H20090203,       SR01,      18,          1,         19,         19,2,20090211,       0438,   -58.8413,   -68.2625,       3913,   252.9,   2.7026,  34.0900,2,  34.0899,2,    279.9,   280.7,2,   20.66,2,   29.08,2,    1.95,2,  2163.0,2,  2287.2,6
740H20090203,       SR01,      18,          1,         20,         20,2,20090211,       0438,   -58.8413,   -68.2625,       3913,   176.7,   3.0563,  34.0940,2,  34.0889,2,    285.1,   285.9,2,   17.76,2,   28.06,2,    1.88,2,  2155.8,2,  2287.4,6
740H20090203,       SR01,      18,          1,         21,         21,2,20090211,       0438,   -58.8413,   -68.2625,       3913,   100.1,   3.4323,  34.0692,2,  34.0674,2,    292.9,   293.6,2,   13.97,2,   26.80,2,    1.83,2,  2147.2,2,  2284.5,6
740H20090203,       SR01,      18,          1,         22,         22,9,20090211,       0438,   -58.8413,   -68.2625,       3913,    76.7,   3.9472,  34.0419,2,-999.0000,9,    301.4,  -999.0,9, -999.00,9, -999.00,9, -999.00,9,  -999.0,9,  -999.0,9
740H20090203,       SR01,      18,          1,         23,         23,2,20090211,       0438,   -58.8413,   -68.2625,       3913,    49.6,   5.0969,  33.9943,2,  33.9926,2,    301.0,   301.7,2,    2.68,2,   22.83,2,    1.58,2,  2120.5,2,  2282.9,6
740H20090203,       SR01,      18,          1,         24,         24,2,20090211,       0438,   -58.8413,   -68.2625,       3913,     9.3,   5.1460,  33.9792,2,  33.9787,2,    301.1,   301.8,2,    1.95,2,   22.84,2,    1.58,2,  2121.2,2,  2285.0,6
740H20090203,       SR01,      19,          1,          1,          1,2,20090211,       1102,   -59.0908,   -68.2453,       3751,  3542.8,   0.7652,  34.7088,2,  34.7092,2,    201.5,   207.1,2,  126.20,2,   34.20,2,    2.26,2,  -999.0,9,  -999.0,9
740H20090203,       SR01,      19,          1,          2,          2,2,20090211,       1102,   -59.0908,   -68.2453,       3751,  3457.3,   0.7673,  34.7090,2,  34.7090,2,    200.7,   202.7,2,  126.97,4,   33.50,2,    2.26,2,  -999.0,9,  -999.0,9
740H20090203,       SR01,      19,          1,          3,          3,2,20090211,       1102,   -59.0908,   -68.2453,       3751,  3306.3,   0.8881,  34.7117,2,  34.7117,2,    198.4,   199.9,2,  122.38,2,   33.48,2,    2.28,2,  -999.0,9,  -999.0,9
740H20090203,       SR01,      19,          1,          4,          4,2,20090211,       1102,   -59.0908,   -68.2453,       3751,  3048.9,   1.0631,  34.7169,2,  34.7178,2,    194.6,   197.1,2,  115.80,2,   33.01,2,    2.23,2,  -999.0,9,  -999.0,9
740H20090203,       SR01,      19,          1,          5,          5,2,20090211,       1102,   -59.0908,   -68.2453,       3751,  2793.4,   1.2156,  34.7209,2,  34.7212,2,    191.0,   193.6,2,  110.32,2,   33.05,2,    2.21,2,  -999.0,9,  -999.0,9
740H20090203,       SR01,      19,          1,          6,          6,2,20090211,       1102,   -59.0908,   -68.2453,       3751,  2538.4,   1.4102,  34.7247,2,  34.7252,2,    186.7,   189.4,2,  105.15,2,   32.78,2,    2.26,4,  -999.0,9,  -999.0,9
740H20090203,       SR01,      19,          1,          7,          7,2,20090211,       1102,   -59.0908,   -68.2453,       3751,  2281.9,   1.5528,  34.7248,2,  34.7256,2,    183.0,   186.7,2,  101.23,2,   32.91,2,    2.23,2,  -999.0,9,  -999.0,9
740H20090203,       SR01,      19,          1,          8,          8,2,20090211,       1102,   -59.0908,   -68.2453,       3751,  2028.6,   1.7138,  34.7194,2,  34.7189,2,    177.4,   180.2,2,   98.68,2,   33.18,2,    2.24,2,  -999.0,9,  -999.0,9
740H20090203,       SR01,      19,          1,          9,          9,2,20090211,       1102,   -59.0908,   -68.2453,       3751,  1772.0,   1.8769,  34.7144,2,  34.7139,2,    174.4,   178.1,2,   93.81,2,   33.20,2,    2.29,4,  -999.0,9,  -999.0,9
740H20090203,       SR01,      19,          1,         10,         10,2,20090211,       1102,   -59.0908,   -68.2453,       3751,  1520.0,   2.0942,  34.6949,2,  34.6933,2,    171.6,   174.7,2,   84.38,2,   33.47,2,    2.24,2,  -999.0,9,  -999.0,9
740H20090203,       SR01,      19,          1,         11,         11,2,20090211,       1102,   -59.0908,   -68.2453,       3751,  1264.8,   2.2570,  34.6471,2,  34.6470,2,    167.5,   170.9,2,   79.66,2,   34.41,2,    2.30,2,  -999.0,9,  -999.0,9
740H20090203,       SR01,      19,          1,         12,         12,2,20090211,       1102,   -59.0908,   -68.2453,       3751,  1011.4,   2.3935,  34.5722,2,  34.5718,2,    166.2,   169.4,2,   73.57,2,   35.22,2,    2.38,2,  -999.0,9,  -999.0,9
740H20090203,       SR01,      19,          1,         13,         13,2,20090211,       1102,   -59.0908,   -68.2453,       3751,   885.6,   2.4947,  34.5235,2,  34.5236,2,    168.3,   172.3,2,   69.54,2,   35.61,2,    2.40,2,  -999.0,9,  -999.0,9
740H20090203,       SR01,      19,          1,         14,         14,2,20090211,       1102,   -59.0908,   -68.2453,       3751,   760.6,   2.5489,  34.4428,2,  34.4423,2,    177.0,   179.3,2,   62.71,2,   35.63,2,    2.39,2,  -999.0,9,  -999.0,9
740H20090203,       SR01,      19,          1,         15,         15,2,20090211,       1102,   -59.0908,   -68.2453,       3751,   630.3,   2.6308,  34.3773,2,  34.3767,2,    187.8,   190.7,2,   55.37,2,   35.39,2,    2.35,2,  -999.0,9,  -999.0,9
740H20090203,       SR01,      19,          1,         16,         16,2,20090211,       1102,   -59.0908,   -68.2453,       3751,   503.9,   2.7672,  34.3128,2,  34.3128,2,    201.9,   203.7,2,   46.70,2,   33.95,2,    2.27,2,  -999.0,9,  -999.0,9
740H20090203,       SR01,      19,          1,         17,         17,2,20090211,       1102,   -59.0908,   -68.2453,       3751,   377.7,   1.7910,  34.1128,2,  34.1132,2,    270.8,   272.7,2,   30.73,2,   31.28,2,    2.21,2,  -999.0,9,  -999.0,9
740H20090203,       SR01,      19,          1,         18,         18,2,20090211,       1102,   -59.0908,   -68.2453,       3751,   252.5,   1.9614,  34.0720,2,  34.0716,2,    285.6,   286.0,2,   24.71,2,   30.09,2,    1.99,2,  -999.0,9,  -999.0,9
740H20090203,       SR01,      19,          1,         19,         19,2,20090211,       1102,   -59.0908,   -68.2453,       3751,   173.5,   2.2725,  34.0611,2,  34.0601,2,    289.1,   290.5,2,   21.41,2,   29.37,2,    1.95,2,  2163.3,2,  -999.0,9
740H20090203,       SR01,      19,          1,         20,         20,2,20090211,       1102,   -59.0908,   -68.2453,       3751,   100.4,   2.7109,  34.0194,2,  34.0188,2,    302.9,   302.6,2,   15.22,2,   26.92,2,    1.87,2,  2149.6,2,  -999.0,9
740H20090203,       SR01,      19,          1,         21,         21,2,20090211,       1102,   -59.0908,   -68.2453,       3751,    72.2,   3.0435,  33.9971,2,  33.9965,2,    307.4,   308.0,2,   10.49,2,   25.01,2,    1.80,2,  -999.0,9,  -999.0,9
740H20090203,       SR01,      19,          1,         22,         22,2,20090211,       1102,   -59.0908,   -68.2453,       3751,    47.1,   4.3812,  33.9562,2,  33.9560,2,    307.3,   307.8,2,    2.50,2,   23.79,2,    1.60,2,  2124.0,2,  -999.0,9
740H20090203,       SR01,      19,          1,         23,         23,2,20090211,       1102,   -59.0908,   -68.2453,       3751,    22.8,   4.7708,  33.9433,2,  33.9426,2,    305.4,   305.8,2,    2.13,2,   24.11,2,    1.58,2,  2121.3,2,  -999.0,9
740H20090203,       SR01,      19,          1,         24,         24,2,20090211,       1102,   -59.0908,   -68.2453,       3751,    20.5,   4.7781,  33.9430,2,  33.9433,2,    304.5,   305.2,2,    2.15,2,   24.21,2,    1.57,2,  2124.3,2,  2286.0,6
740H20090203,       SR01,      20,          1,          1,          1,2,20090211,       1724,   -59.3306,   -68.2492,       3751,  3706.4,   0.6894,  34.7073,2,  34.7077,2,    202.9,   207.1,2,  127.10,2,   33.12,2,    2.20,2,  2264.8,2,  2379.2,6
740H20090203,       SR01,      20,          1,          2,          2,2,20090211,       1724,   -59.3306,   -68.2492,       3751,  3657.3,   0.6973,  34.7076,2,  34.7078,2,    202.3,   203.4,2,  127.47,2,   33.17,2,    2.22,2,  2262.6,2,  2378.5,6
740H20090203,       SR01,      20,          1,          3,          3,2,20090211,       1724,   -59.3306,   -68.2492,       3751,  3567.4,   0.7191,  34.7081,2,  34.7100,2,    201.5,   201.8,2,  126.45,2,   32.98,2,    2.21,2,  2262.8,2,  2371.5,6
740H20090203,       SR01,      20,          1,          4,          4,2,20090211,       1724,   -59.3306,   -68.2492,       3751,  3308.3,   0.8347,  34.7110,2,  34.7111,2,    198.1,   199.7,2,  122.50,2,   32.61,2,    2.19,2,  2262.7,2,  2368.1,6
740H20090203,       SR01,      20,          1,          5,          5,2,20090211,       1724,   -59.3306,   -68.2492,       3751,  3054.1,   0.9716,  34.7146,2,  34.7137,2,    195.1,   196.7,2,  118.11,2,   32.94,2,    2.19,2,  2261.2,2,  2370.2,6
740H20090203,       SR01,      20,          1,          6,          6,2,20090211,       1724,   -59.3306,   -68.2492,       3751,  2797.0,   1.1484,  34.7198,2,  34.7193,2,    192.0,   194.8,2,  111.53,2,   32.68,2,    2.17,2,  2260.4,2,  2366.9,6
740H20090203,       SR01,      20,          1,          7,          7,2,20090211,       1724,   -59.3306,   -68.2492,       3751,  2539.7,   1.3188,  34.7235,2,  34.7231,2,    188.1,   190.2,2,  105.96,2,   32.49,2,    2.16,2,  2261.3,2,  2370.7,6
740H20090203,       SR01,      20,          1,          8,          8,2,20090211,       1724,   -59.3306,   -68.2492,       3751,  2284.6,   1.4614,  34.7251,2,  34.7250,2,    184.9,   187.9,2,  101.55,2,   32.32,2,    2.16,2,  2261.8,2,  2368.8,6
740H20090203,       SR01,      20,          1,          9,          9,2,20090211,       1724,   -59.3306,   -68.2492,       3751,  2028.1,   1.6354,  34.7227,2,  34.7219,2,    180.1,   183.1,2,   98.12,2,   32.63,2,    2.17,2,  2264.2,2,  2367.4,6
740H20090203,       SR01,      20,          1,         10,         10,2,20090211,       1724,   -59.3306,   -68.2492,       3751,  1771.8,   1.7962,  34.7161,2,  34.7137,2,    174.8,   177.7,2,   94.59,2,   33.20,2,    2.19,2,  2264.8,2,  2369.8,6
740H20090203,       SR01,      20,          1,         11,         11,2,20090211,       1724,   -59.3306,   -68.2492,       3751,  1517.8,   2.0208,  34.7042,2,  34.7028,2,    172.2,   175.0,2,   86.15,2,   33.22,2,    2.20,2,  2258.7,2,  2362.5,6
740H20090203,       SR01,      20,          1,         12,         12,2,20090211,       1724,   -59.3306,   -68.2492,       3751,  1264.8,   2.1826,  34.6726,2,  34.6713,2,    169.2,   171.7,2,   79.78,2,   33.42,2,    2.23,2,  2256.6,2,  2357.1,6
740H20090203,       SR01,      20,          1,         13,         13,2,20090211,       1724,   -59.3306,   -68.2492,       3751,  1010.9,   2.3137,  34.6063,2,  34.6051,2,    166.1,   170.3,2,   74.78,2,   34.76,2,    2.29,2,  2255.5,2,  2346.1,6
740H20090203,       SR01,      20,          1,         14,         14,2,20090211,       1724,   -59.3306,   -68.2492,       3751,   882.4,   2.4052,  34.5526,2,  34.5523,2,    166.8,   169.2,2,   70.53,2,   35.36,2,    2.34,2,  2252.5,2,  2342.2,6
740H20090203,       SR01,      20,          1,         15,         15,2,20090211,       1724,   -59.3306,   -68.2492,       3751,   757.4,   2.4911,  34.4921,2,  34.4909,2,    170.7,   173.5,2,   65.41,2,   35.63,2,    2.34,2,  2247.5,2,  2337.4,6
740H20090203,       SR01,      20,          1,         16,         16,2,20090211,       1724,   -59.3306,   -68.2492,       3751,   631.1,   2.5996,  34.4339,2,  34.4328,2,    177.7,   180.8,2,   59.39,2,   36.36,2,    2.38,2,  2238.8,2,  2330.1,6
740H20090203,       SR01,      20,          1,         17,         17,2,20090211,       1724,   -59.3306,   -68.2492,       3751,   505.3,   2.7211,  34.3605,2,  34.3589,2,    190.7,   193.6,2,   51.42,2,   35.30,2,    2.30,2,  2225.2,2,  2317.2,6
740H20090203,       SR01,      20,          1,         18,         18,2,20090211,       1724,   -59.3306,   -68.2492,       3751,   378.4,   2.0998,  34.2007,2,  34.1986,2,    238.9,   240.4,2,   38.12,2,   32.69,2,    2.17,2,  2198.2,2,  2300.6,6
740H20090203,       SR01,      20,          1,         19,         19,2,20090211,       1724,   -59.3306,   -68.2492,       3751,   253.9,   1.8183,  34.0766,2,  34.0760,2,    283.4,   283.7,2,   25.99,2,   30.20,2,    2.02,2,  2174.6,2,  2290.8,6
740H20090203,       SR01,      20,          1,         20,         20,2,20090211,       1724,   -59.3306,   -68.2492,       3751,   176.6,   2.2228,  34.0684,2,  34.0684,2,    287.4,   287.6,2,   21.94,2,   29.37,2,    1.95,2,  2162.4,2,  2291.2,6
740H20090203,       SR01,      20,          1,         21,         21,2,20090211,       1724,   -59.3306,   -68.2492,       3751,   103.3,   2.4720,  34.0471,2,  34.0477,2,    296.2,   296.9,2,   18.45,2,   28.50,2,    1.90,2,  2156.7,2,  2282.7,6
740H20090203,       SR01,      20,          1,         22,         22,2,20090211,       1724,   -59.3306,   -68.2492,       3751,    53.7,   3.5288,  33.9707,2,  33.9712,2,    310.2,   310.6,2,    7.25,2,   25.15,2,    1.74,2,  2133.9,2,  2287.0,6
740H20090203,       SR01,      20,          1,         23,         23,2,20090211,       1724,   -59.3306,   -68.2492,       3751,    27.9,   4.5587,  33.9382,2,  33.9378,2,    307.0,   307.1,2,    3.65,2,   24.55,2,    1.61,2,  2123.0,2,  2289.9,6
740H20090203,       SR01,      20,          1,         24,         24,2,20090211,       1724,   -59.3306,   -68.2492,       3751,    12.2,   4.6194,  33.9376,2,  33.9377,2,    307.1,   307.6,2,    3.65,2,   24.37,2,    1.58,2,  2125.1,2,  2289.5,6