BOTTLE,20211129CCHSIORKP
EXPOCODE,SECT_ID,STNNBR,CASTNO,SAMPNO,BTLNBR,BTLNBR_FLAG_W,DATE,TIME,LATITUDE,LONGITUDE,DEPTH,CTDPRS,CTDTMP,CTDSAL,CTDSAL_FLAG_W,SALNTY,SALNTY_FLAG_W,CTDOXY,CTDOXY_FLAG_W,OXYGEN,OXYGEN_FLAG_W,CFC-11,CFC-11_FLAG_W,CFC-12,CFC-12_FLAG_W,THETA
,,,,,,,,,,,METERS,DBAR,ITS-90,PSS-78,,PSS-78,,UMOL/KG,,UMOL/KG,,PMOL/KG,,PMOL/KG,,DEG C
06BE20030525,       AR04,      24,          1,         21,     -999.0,9,20030530,       0238,     1.6663,   -34.9988,       4098,    11.1,  28.0800,  36.1087,2,-999.0000,9,    200.0,2,   201.7,3,   1.526,2,   0.963,2,  28.0774
06BE20030525,       AR04,      24,          1,         20,     -999.0,9,20030530,       0238,     1.6663,   -34.9988,       4098,   103.1,  15.2552,  35.6124,2,  35.5776,2,    155.9,2,  -999.0,9,-999.000,9,-999.000,9,  15.2394
06BE20030525,       AR04,      24,          1,          1,     -999.0,9,20030530,       0238,     1.6663,   -34.9988,       4098,   103.2,  15.2743,  35.5941,2,-999.0000,9,    156.0,2,  -999.0,9,-999.000,9,-999.000,9,  15.2584
06BE20030525,       AR04,      24,          1,         19,     -999.0,9,20030530,       0238,     1.6663,   -34.9988,       4098,   298.9,  11.2594,  35.0538,2,-999.0000,9,    119.7,2,  -999.0,9,   1.425,2,   0.768,2,  11.2218
06BE20030525,       AR04,      24,          1,         17,     -999.0,9,20030530,       0238,     1.6663,   -34.9988,       4098,   647.8,   5.9261,  34.5372,2,-999.0000,9,    140.0,2,  -999.0,9,   0.377,2,   0.197,2,   5.8692
06BE20030525,       AR04,      24,          1,         16,     -999.0,9,20030530,       0238,     1.6663,   -34.9988,       4098,   847.0,   4.7662,  34.5605,2,-999.0000,9,    151.1,2,  -999.0,9,-999.000,9,-999.000,9,   4.6980
06BE20030525,       AR04,      24,          1,         15,     -999.0,9,20030530,       0238,     1.6663,   -34.9988,       4098,  1047.9,   4.5576,  34.6758,2,-999.0000,9,    162.2,2,  -999.0,9,   0.036,2,   0.016,2,   4.4732
06BE20030525,       AR04,      24,          1,         14,     -999.0,9,20030530,       0238,     1.6663,   -34.9988,       4098,  1252.3,   4.7362,  34.8956,2,-999.0000,9,    190.4,2,  -999.0,9,-999.000,9,-999.000,9,   4.6313
06BE20030525,       AR04,      24,          1,         13,     -999.0,9,20030530,       0238,     1.6663,   -34.9988,       4098,  1449.5,   4.2356,  34.9714,2,  34.9701,2,    233.4,2,  -999.0,9,   0.172,2,   0.087,2,   4.1174
06BE20030525,       AR04,      24,          1,         12,     -999.0,9,20030530,       0238,     1.6663,   -34.9988,       4098,  1597.8,   4.0660,  34.9798,2,-999.0000,9,    243.4,2,  -999.0,9,   0.193,2,   0.099,2,   3.9360
06BE20030525,       AR04,      24,          1,         11,     -999.0,9,20030530,       0238,     1.6663,   -34.9988,       4098,  1797.9,   3.9797,  34.9840,2,  34.9835,2,    250.0,2,  -999.0,9,   0.269,2,   0.132,2,   3.8319
06BE20030525,       AR04,      24,          1,         10,     -999.0,9,20030530,       0238,     1.6663,   -34.9988,       4098,  2014.6,   3.6391,  34.9782,2,-999.0000,9,    258.8,2,  -999.0,9,   0.278,2,   0.134,2,   3.4755
06BE20030525,       AR04,      24,          1,          9,     -999.0,9,20030530,       0238,     1.6663,   -34.9988,       4098,  2198.4,   3.3201,  34.9652,2,-999.0000,9,    261.2,2,   259.0,3,   0.190,2,   0.093,2,   3.1438
06BE20030525,       AR04,      24,          1,          8,     -999.0,9,20030530,       0238,     1.6663,   -34.9988,       4098,  2397.0,   3.1427,  34.9548,2,-999.0000,9,    259.9,2,  -999.0,9,-999.000,9,-999.000,9,   2.9502
06BE20030525,       AR04,      24,          1,          7,     -999.0,9,20030530,       0238,     1.6663,   -34.9988,       4098,  2804.5,   2.8317,  34.9344,2,-999.0000,9,    257.6,2,  -999.0,9,   0.064,2,   0.030,2,   2.6046
06BE20030525,       AR04,      24,          1,          6,     -999.0,9,20030530,       0238,     1.6663,   -34.9988,       4098,  3098.7,   2.6537,  34.9240,2,-999.0000,9,    258.6,2,  -999.0,9,-999.000,9,-999.000,9,   2.4002
06BE20030525,       AR04,      24,          1,          5,     -999.0,9,20030530,       0238,     1.6663,   -34.9988,       4098,  3497.6,   2.4291,  34.9051,2,-999.0000,9,    259.5,2,   257.8,3,   0.094,2,   0.048,2,   2.1387
06BE20030525,       AR04,      24,          1,          4,     -999.0,9,20030530,       0238,     1.6663,   -34.9988,       4098,  3801.1,   2.3367,  34.8976,2,-999.0000,9,    259.4,2,  -999.0,9,-999.000,9,-999.000,9,   2.0154
06BE20030525,       AR04,      24,          1,          2,     -999.0,9,20030530,       0238,     1.6663,   -34.9988,       4098,  4096.2,   2.2200,  34.8831,2,  34.8831,2,    256.1,2,   257.2,3,-999.000,9,-999.000,9,   1.8686
06BE20030525,       AR04,      24,          1,          3,     -999.0,9,20030530,       0238,     1.6663,   -34.9988,       4098,  4096.3,   2.2197,  34.8837,2,  34.8829,2,    256.0,2,  -999.0,9,   0.115,2,   0.058,2,   1.8683
06BE20030525,       AR04,      25,          1,         21,     -999.0,9,20030530,       0649,     1.9997,   -35.0005,       4250,    26.3,  28.1727,  36.1015,2,-999.0000,9,    200.6,2,   200.2,3,   1.519,2,   0.969,2,  28.1665
06BE20030525,       AR04,      25,          1,         20,     -999.0,9,20030530,       0649,     1.9997,   -35.0005,       4250,   198.8,  12.6388,  35.2223,2,  35.2158,2,    142.3,2,   137.4,3,-999.000,9,-999.000,9,  12.6119
06BE20030525,       AR04,      25,          1,         19,     -999.0,9,20030530,       0649,     1.9997,   -35.0005,       4250,   516.6,   6.9319,  34.6249,2,-999.0000,9,    134.1,2,  -999.0,9,   0.622,2,   0.317,2,   6.8829
06BE20030525,       AR04,      25,          1,         18,     -999.0,9,20030530,       0649,     1.9997,   -35.0005,       4250,   663.7,   5.6544,  34.5335,2,-999.0000,9,    146.0,2,  -999.0,9,-999.000,9,-999.000,9,   5.5974
06BE20030525,       AR04,      25,          1,         17,     -999.0,9,20030530,       0649,     1.9997,   -35.0005,       4250,   694.3,   5.3821,  34.5151,2,  34.5158,2,    150.8,2,   150.6,3,-999.000,9,-999.000,9,   5.3237
06BE20030525,       AR04,      25,          1,         16,     -999.0,9,20030530,       0649,     1.9997,   -35.0005,       4250,   998.7,   4.5453,  34.6639,2,-999.0000,9,    161.0,2,  -999.0,9,   0.040,2,   0.019,2,   4.4653
06BE20030525,       AR04,      25,          1,         15,     -999.0,9,20030530,       0649,     1.9997,   -35.0005,       4250,  1198.8,   4.6903,  34.8277,2,-999.0000,9,    177.7,2,  -999.0,9,-999.000,9,-999.000,9,   4.5909
06BE20030525,       AR04,      25,          1,         14,     -999.0,9,20030530,       0649,     1.9997,   -35.0005,       4250,  1396.3,   4.3239,  34.9696,2,-999.0000,9,    230.5,2,  -999.0,9,   0.217,2,   0.109,2,   4.2096
06BE20030525,       AR04,      25,          1,         13,     -999.0,9,20030530,       0649,     1.9997,   -35.0005,       4250,  1548.6,   4.1454,  34.9760,2,-999.0000,9,    238.9,2,  -999.0,9,   0.186,2,   0.092,2,   4.0190
06BE20030525,       AR04,      25,          1,         12,     -999.0,9,20030530,       0649,     1.9997,   -35.0005,       4250,  1709.1,   4.0391,  34.9836,2,  34.9837,2,    247.1,2,  -999.0,9,   0.301,2,   0.148,2,   3.8990
06BE20030525,       AR04,      25,          1,         11,     -999.0,9,20030530,       0649,     1.9997,   -35.0005,       4250,  1920.9,   3.7949,  34.9830,2,-999.0000,9,    256.1,2,  -999.0,9,   0.339,2,   0.168,2,   3.6380
06BE20030525,       AR04,      25,          1,         10,     -999.0,9,20030530,       0649,     1.9997,   -35.0005,       4250,  2106.2,   3.4867,  34.9717,2,-999.0000,9,    258.9,2,  -999.0,9,-999.000,9,-999.000,9,   3.3166
06BE20030525,       AR04,      25,          1,          9,     -999.0,9,20030530,       0649,     1.9997,   -35.0005,       4250,  2297.9,   3.2371,  34.9616,2,  34.9610,2,    261.7,2,  -999.0,9,   0.186,2,   0.092,2,   3.0526
06BE20030525,       AR04,      25,          1,          8,     -999.0,9,20030530,       0649,     1.9997,   -35.0005,       4250,  2499.7,   3.0482,  34.9505,2,-999.0000,9,    260.3,2,  -999.0,9,-999.000,9,-999.000,9,   2.8473
06BE20030525,       AR04,      25,          1,          7,     -999.0,9,20030530,       0649,     1.9997,   -35.0005,       4250,  2797.9,   2.8245,  34.9342,2,-999.0000,9,    258.0,2,   255.1,3,   0.058,2,   0.029,2,   2.5982
06BE20030525,       AR04,      25,          1,          6,     -999.0,9,20030530,       0649,     1.9997,   -35.0005,       4250,  3100.4,   2.6526,  34.9207,2,-999.0000,9,    256.6,2,  -999.0,9,   0.057,2,   0.026,2,   2.3990
06BE20030525,       AR04,      25,          1,          5,     -999.0,9,20030530,       0649,     1.9997,   -35.0005,       4250,  3399.0,   2.4967,  34.9113,2,  34.9109,2,    259.6,2,  -999.0,9,   0.103,2,   0.050,2,   2.2152
06BE20030525,       AR04,      25,          1,          4,     -999.0,9,20030530,       0649,     1.9997,   -35.0005,       4250,  3697.9,   2.3877,  34.9009,2,-999.0000,9,    258.7,2,   257.4,3,   0.105,2,   0.053,2,   2.0765
06BE20030525,       AR04,      25,          1,          3,     -999.0,9,20030530,       0649,     1.9997,   -35.0005,       4250,  4000.9,   2.2597,  34.8884,2,-999.0000,9,    258.0,2,  -999.0,9,   0.115,2,   0.060,2,   1.9180
06BE20030525,       AR04,      25,          1,          2,     -999.0,9,20030530,       0649,     1.9997,   -35.0005,       4250,  4248.0,   2.1574,  34.8751,2,-999.0000,9,    255.0,2,  -999.0,9,-999.000,9,-999.000,9,   1.7904
06BE20030525,       AR04,      25,          1,          1,     -999.0,9,20030530,       0649,     1.9997,   -35.0005,       4250,  4248.1,   2.1574,  34.8749,2,-999.0000,9,    255.0,2,  -999.0,9,   0.117,2,   0.060,2,   1.7904
06BE20030525,       AR04,      26,          1,         20,     -999.0,9,20030530,       1107,     2.3342,   -35.0003,       4191,     4.4,  28.2667,  36.1857,2,-999.0000,9,    199.5,2,   240.0,4,-999.000,9,-999.000,9,  28.2657
06BE20030525,       AR04,      26,          1,         21,     -999.0,9,20030530,       1107,     2.3342,   -35.0003,       4191,   104.1,  14.0624,  35.4136,2,-999.0000,9,    138.6,2,  -999.0,9,-999.000,9,-999.000,9,  14.0473
06BE20030525,       AR04,      26,          1,         19,     -999.0,9,20030530,       1107,     2.3342,   -35.0003,       4191,   401.3,   9.7970,  34.9225,2,-999.0000,9,    115.0,2,   105.4,3,-999.000,9,-999.000,9,   9.7506
06BE20030525,       AR04,      26,          1,         17,     -999.0,9,20030530,       1107,     2.3342,   -35.0003,       4191,   616.0,   6.3077,  34.5919,2,  34.5940,2,    121.5,2,  -999.0,9,-999.000,9,-999.000,9,   6.2518
06BE20030525,       AR04,      26,          1,         16,     -999.0,9,20030530,       1107,     2.3342,   -35.0003,       4191,   903.1,   4.7949,  34.6138,2,-999.0000,9,    145.8,2,  -999.0,9,-999.000,9,-999.000,9,   4.7215
06BE20030525,       AR04,      26,          1,         15,     -999.0,9,20030530,       1107,     2.3342,   -35.0003,       4191,  1097.8,   4.6945,  34.7642,2,-999.0000,9,    164.0,2,   162.7,3,   0.033,2,   0.014,2,   4.6043
06BE20030525,       AR04,      26,          1,         14,     -999.0,9,20030530,       1107,     2.3342,   -35.0003,       4191,  1298.9,   4.6156,  34.9508,2,  34.9504,2,    207.3,2,  -999.0,9,   0.184,2,   0.091,2,   4.5074
06BE20030525,       AR04,      26,          1,         13,     -999.0,9,20030530,       1107,     2.3342,   -35.0003,       4191,  1486.4,   4.2220,  34.9784,2,-999.0000,9,    237.5,2,  -999.0,9,   0.258,2,   0.128,2,   4.1005
06BE20030525,       AR04,      26,          1,         12,     -999.0,9,20030530,       1107,     2.3342,   -35.0003,       4191,  1646.3,   4.0590,  34.9827,2,-999.0000,9,    245.9,2,  -999.0,9,-999.000,9,-999.000,9,   3.9245
06BE20030525,       AR04,      26,          1,         11,     -999.0,9,20030530,       1107,     2.3342,   -35.0003,       4191,  1796.6,   3.8814,  34.9851,2,  34.9837,2,    254.6,2,  -999.0,9,   0.398,2,   0.199,2,   3.7351
06BE20030525,       AR04,      26,          1,         10,     -999.0,9,20030530,       1107,     2.3342,   -35.0003,       4191,  1899.5,   3.7467,  34.9813,2,-999.0000,9,    256.8,2,  -999.0,9,   0.296,2,   0.151,2,   3.5925
06BE20030525,       AR04,      26,          1,          9,     -999.0,9,20030530,       1107,     2.3342,   -35.0003,       4191,  2216.7,   3.3679,  34.9676,2,-999.0000,9,    260.1,2,   256.3,3,-999.000,9,-999.000,9,   3.1891
06BE20030525,       AR04,      26,          1,          8,     -999.0,9,20030530,       1107,     2.3342,   -35.0003,       4191,  2420.4,   3.1466,  34.9558,2,-999.0000,9,    260.1,2,  -999.0,9,-999.000,9,-999.000,9,   2.9517
06BE20030525,       AR04,      26,          1,          7,     -999.0,9,20030530,       1107,     2.3342,   -35.0003,       4191,  2617.4,   2.9919,  34.9447,2,-999.0000,9,    258.8,2,  -999.0,9,-999.000,9,-999.000,9,   2.7804
06BE20030525,       AR04,      26,          1,          6,     -999.0,9,20030530,       1107,     2.3342,   -35.0003,       4191,  2927.5,   2.7221,  34.9239,2,  34.9235,2,    254.2,2,  -999.0,9,-999.000,9,-999.000,9,   2.4848
06BE20030525,       AR04,      26,          1,          5,     -999.0,9,20030530,       1107,     2.3342,   -35.0003,       4191,  3202.9,   2.5887,  34.9146,2,-999.0000,9,    255.0,2,  -999.0,9,-999.000,9,-999.000,9,   2.3258
06BE20030525,       AR04,      26,          1,          4,     -999.0,9,20030530,       1107,     2.3342,   -35.0003,       4191,  3604.0,   2.4409,  34.9038,2,-999.0000,9,    257.4,2,  -999.0,9,-999.000,9,-999.000,9,   2.1386
06BE20030525,       AR04,      26,          1,          3,     -999.0,9,20030530,       1107,     2.3342,   -35.0003,       4191,  3896.7,   2.2804,  34.8892,2,-999.0000,9,    257.0,2,  -999.0,9,-999.000,9,-999.000,9,   1.9499
06BE20030525,       AR04,      26,          1,          1,     -999.0,9,20030530,       1107,     2.3342,   -35.0003,       4191,  4189.1,   2.1498,  34.8744,2,-999.0000,9,    253.8,2,  -999.0,9,-999.000,9,-999.000,9,   1.7898
06BE20030525,       AR04,      26,          1,          2,     -999.0,9,20030530,       1107,     2.3342,   -35.0003,       4191,  4189.6,   2.1483,  34.8744,2,  34.8774,2,    253.8,2,   252.2,3,-999.000,9,-999.000,9,   1.7883
06BE20030525,       AR04,      27,          1,         16,     -999.0,9,20030530,       1520,     2.6670,   -35.0007,       4050,    13.1,  28.2925,  36.1315,2,  36.1203,2,    200.4,2,  -999.0,9,   1.503,2,   0.957,2,  28.2894
06BE20030525,       AR04,      27,          1,         15,     -999.0,9,20030530,       1520,     2.6670,   -35.0007,       4050,   210.3,  12.3464,  35.1857,2,-999.0000,9,    144.6,2,  -999.0,9,   1.725,6,   0.951,6,  12.3184
06BE20030525,       AR04,      27,          1,         14,     -999.0,9,20030530,       1520,     2.6670,   -35.0007,       4050,   482.4,   8.1939,  34.7689,2,-999.0000,9,     99.6,2,    95.2,3,   0.468,2,   0.251,2,   8.1436
06BE20030525,       AR04,      27,          1,         13,     -999.0,9,20030530,       1520,     2.6670,   -35.0007,       4050,   796.3,   5.1424,  34.5552,2,-999.0000,9,    137.6,2,  -999.0,9,   0.094,2,   0.047,2,   5.0763
06BE20030525,       AR04,      27,          1,         12,     -999.0,9,20030530,       1520,     2.6670,   -35.0007,       4050,   996.8,   4.7579,  34.6524,2,-999.0000,9,    151.4,2,  -999.0,9,-999.000,9,-999.000,9,   4.6765
06BE20030525,       AR04,      27,          1,         11,     -999.0,9,20030530,       1520,     2.6670,   -35.0007,       4050,  1199.1,   4.7071,  34.8612,2,  34.8585,2,    181.7,2,  -999.0,9,   0.071,2,   0.036,2,   4.6074
06BE20030525,       AR04,      27,          1,         10,     -999.0,9,20030530,       1520,     2.6670,   -35.0007,       4050,  1388.1,   4.4925,  34.9674,2,-999.0000,9,    220.6,2,  -999.0,9,   0.180,2,   0.090,2,   4.3772
06BE20030525,       AR04,      27,          1,          9,     -999.0,9,20030530,       1520,     2.6670,   -35.0007,       4050,  1604.5,   4.1471,  34.9879,2,-999.0000,9,    245.9,2,  -999.0,9,   0.358,6,   0.177,6,   4.0155
06BE20030525,       AR04,      27,          1,          8,     -999.0,9,20030530,       1520,     2.6670,   -35.0007,       4050,  1852.5,   3.8963,  34.9856,2,-999.0000,9,    256.3,2,   253.8,3,   0.394,2,   0.191,2,   3.7445
06BE20030525,       AR04,      27,          1,          7,     -999.0,9,20030530,       1520,     2.6670,   -35.0007,       4050,  2111.7,   3.5257,  34.9732,2,  34.9726,2,    259.4,2,  -999.0,9,   0.174,2,   0.088,2,   3.3545
06BE20030525,       AR04,      27,          1,          6,     -999.0,9,20030530,       1520,     2.6670,   -35.0007,       4050,  2327.8,   3.2735,  34.9629,2,-999.0000,9,    261.4,2,   254.6,3,   0.167,2,   0.083,2,   3.0855
06BE20030525,       AR04,      27,          1,          5,     -999.0,9,20030530,       1520,     2.6670,   -35.0007,       4050,  2699.3,   2.9265,  34.9403,2,-999.0000,9,    257.9,2,  -999.0,9,   0.057,2,   0.029,2,   2.7081
06BE20030525,       AR04,      27,          1,          4,     -999.0,9,20030530,       1520,     2.6670,   -35.0007,       4050,  3110.2,   2.6683,  34.9202,2,-999.0000,9,    255.0,2,  -999.0,9,   0.048,2,   0.024,2,   2.4133
06BE20030525,       AR04,      27,          1,          3,     -999.0,9,20030530,       1520,     2.6670,   -35.0007,       4050,  3497.4,   2.4654,  34.9058,2,-999.0000,9,    256.7,2,  -999.0,9,-999.000,9,-999.000,9,   2.1741
06BE20030525,       AR04,      27,          1,          2,     -999.0,9,20030530,       1520,     2.6670,   -35.0007,       4050,  4048.3,   2.2407,  34.8833,2,  34.8845,2,    255.6,2,  -999.0,9,-999.000,9,-999.000,9,   1.8942
06BE20030525,       AR04,      27,          1,          1,     -999.0,9,20030530,       1520,     2.6670,   -35.0007,       4050,  4048.6,   2.2403,  34.8833,2,-999.0000,9,    255.6,2,  -999.0,9,   0.102,2,   0.051,2,   1.8938