BOTTLE,20211129CCHSIORKP
EXPOCODE,SECT_ID,STNNBR,CASTNO,SAMPNO,BTLNBR,BTLNBR_FLAG_W,DATE,TIME,LATITUDE,LONGITUDE,DEPTH,CTDPRS,CTDTMP,CTDSAL,CTDSAL_FLAG_W,SALNTY,SALNTY_FLAG_W,CTDOXY,CTDOXY_FLAG_W,OXYGEN,OXYGEN_FLAG_W,CFC-11,CFC-11_FLAG_W,CFC-12,CFC-12_FLAG_W,THETA
,,,,,,,,,,,METERS,DBAR,ITS-90,PSS-78,,PSS-78,,UMOL/KG,,UMOL/KG,,PMOL/KG,,PMOL/KG,,DEG C
06BE20030525,       AR04,      16,          1,         16,     -999.0,9,20030528,       0807,    -1.0003,   -34.9915,       4333,    36.2,  27.6584,  36.2791,2,-999.0000,9,    204.0,2,   202.3,3,   1.549,2,   0.992,2,  27.6499
06BE20030525,       AR04,      16,          1,         15,     -999.0,9,20030528,       0807,    -1.0003,   -34.9915,       4333,   599.4,   6.1283,  34.4806,2,  34.4803,2,    189.2,2,   188.9,3,   1.394,2,   0.709,2,   6.0749
06BE20030525,       AR04,      16,          1,         14,     -999.0,9,20030528,       0807,    -1.0003,   -34.9915,       4333,  1197.7,   4.5656,  34.7876,2,-999.0000,9,    176.3,2,  -999.0,9,   0.057,2,   0.026,2,   4.4675
06BE20030525,       AR04,      16,          1,         13,     -999.0,9,20030528,       0807,    -1.0003,   -34.9915,       4333,  1384.2,   4.4116,  34.9548,2,-999.0000,9,    220.6,2,  -999.0,9,   0.190,2,   0.095,2,   4.2976
06BE20030525,       AR04,      16,          1,         12,     -999.0,9,20030528,       0807,    -1.0003,   -34.9915,       4333,  1594.2,   4.1404,  34.9766,2,  34.9756,2,    239.2,2,  -999.0,9,   0.186,2,   0.094,2,   4.0098
06BE20030525,       AR04,      16,          1,         11,     -999.0,9,20030528,       0807,    -1.0003,   -34.9915,       4333,  1799.1,   3.9766,  34.9854,2,-999.0000,9,    250.9,2,  -999.0,9,   0.365,2,   0.181,2,   3.8288
06BE20030525,       AR04,      16,          1,         10,     -999.0,9,20030528,       0807,    -1.0003,   -34.9915,       4333,  2000.3,   3.6787,  34.9767,2,-999.0000,9,    254.6,2,  -999.0,9,   0.187,2,   0.093,2,   3.5159
06BE20030525,       AR04,      16,          1,          9,     -999.0,9,20030528,       0807,    -1.0003,   -34.9915,       4333,  2394.5,   3.2415,  34.9614,2,-999.0000,9,    260.8,2,  -999.0,9,   0.208,2,   0.103,2,   3.0475
06BE20030525,       AR04,      16,          1,          8,     -999.0,9,20030528,       0807,    -1.0003,   -34.9915,       4333,  2401.4,   3.2386,  34.9612,2,  34.9601,2,    260.9,2,  -999.0,9,-999.000,9,-999.000,9,   3.0440
06BE20030525,       AR04,      16,          1,          7,     -999.0,9,20030528,       0807,    -1.0003,   -34.9915,       4333,  2998.8,   2.7440,  34.9291,2,-999.0000,9,    257.9,2,  -999.0,9,   0.103,2,   0.049,2,   2.4989
06BE20030525,       AR04,      16,          1,          6,     -999.0,9,20030528,       0807,    -1.0003,   -34.9915,       4333,  3498.1,   2.4832,  34.9131,2,-999.0000,9,    261.4,2,  -999.0,9,   0.192,2,   0.093,2,   2.1913
06BE20030525,       AR04,      16,          1,          5,     -999.0,9,20030528,       0807,    -1.0003,   -34.9915,       4333,  3696.5,   2.4065,  34.9077,2,  34.9069,2,    262.9,2,  -999.0,9,   0.226,2,   0.111,2,   2.0949
06BE20030525,       AR04,      16,          1,          4,     -999.0,9,20030528,       0807,    -1.0003,   -34.9915,       4333,  3896.5,   2.2885,  34.8968,2,-999.0000,9,    262.8,2,   262.8,3,   0.222,2,   0.111,2,   1.9578
06BE20030525,       AR04,      16,          1,          3,     -999.0,9,20030528,       0807,    -1.0003,   -34.9915,       4333,  4196.4,   1.5832,  34.8140,2,-999.0000,9,    243.5,2,  -999.0,9,   0.057,2,   0.028,2,   1.2393
06BE20030525,       AR04,      16,          1,          2,     -999.0,9,20030528,       0807,    -1.0003,   -34.9915,       4333,  4201.4,   1.5062,  34.8039,2,  34.8062,2,    243.0,2,  -999.0,9,-999.000,9,-999.000,9,   1.1640
06BE20030525,       AR04,      16,          1,          1,     -999.0,9,20030528,       0807,    -1.0003,   -34.9915,       4333,  4331.7,   1.1355,  34.7643,2,-999.0000,9,    229.2,2,   233.2,3,   0.039,2,   0.018,2,   0.7902
06BE20030525,       AR04,      17,          1,         21,     -999.0,9,20030528,       2015,    -0.6667,   -34.9833,       4502,    14.5,  27.6815,  36.3408,2,-999.0000,9,    203.0,2,  -999.0,9,   1.545,6,   0.996,6,  27.6781
06BE20030525,       AR04,      17,          1,         20,     -999.0,9,20030528,       2015,    -0.6667,   -34.9833,       4502,   755.6,   5.0462,  34.4844,2,-999.0000,9,    157.1,2,  -999.0,9,   0.338,2,   0.167,2,   4.9843
06BE20030525,       AR04,      17,          1,         19,     -999.0,9,20030528,       2015,    -0.6667,   -34.9833,       4502,   900.3,   4.4358,  34.5651,2,-999.0000,9,    160.3,2,   163.1,3,   0.123,2,   0.060,2,   4.3652
06BE20030525,       AR04,      17,          1,         18,     -999.0,9,20030528,       2015,    -0.6667,   -34.9833,       4502,   997.4,   4.4985,  34.6210,2,-999.0000,9,    157.4,2,  -999.0,9,-999.000,9,-999.000,9,   4.4190
06BE20030525,       AR04,      17,          1,         17,     -999.0,9,20030528,       2015,    -0.6667,   -34.9833,       4502,  1097.1,   4.5374,  34.7236,2,-999.0000,9,    165.7,2,   166.5,3,   0.043,2,   0.020,2,   4.4487
06BE20030525,       AR04,      17,          1,         16,     -999.0,9,20030528,       2015,    -0.6667,   -34.9833,       4502,  1298.1,   4.5760,  34.9266,2,-999.0000,9,    206.2,2,  -999.0,9,   0.167,2,   0.085,2,   4.4683
06BE20030525,       AR04,      17,          1,         15,     -999.0,9,20030528,       2015,    -0.6667,   -34.9833,       4502,  1447.8,   4.3399,  34.9624,2,-999.0000,9,    225.1,2,  -999.0,9,   0.179,2,   0.089,2,   4.2207
06BE20030525,       AR04,      17,          1,         14,     -999.0,9,20030528,       2015,    -0.6667,   -34.9833,       4502,  1600.6,   4.1109,  34.9753,2,  34.9764,2,    237.3,2,  -999.0,9,   0.164,6,   0.084,6,   3.9801
06BE20030525,       AR04,      17,          1,         13,     -999.0,9,20030528,       2015,    -0.6667,   -34.9833,       4502,  1748.4,   3.9610,  34.9810,2,-999.0000,9,    244.9,2,   250.3,3,   0.300,2,   0.147,2,   3.8182
06BE20030525,       AR04,      17,          1,         12,     -999.0,9,20030528,       2015,    -0.6667,   -34.9833,       4502,  1910.8,   3.7502,  34.9799,2,-999.0000,9,    253.0,2,  -999.0,9,   0.255,2,   0.126,2,   3.5949
06BE20030525,       AR04,      17,          1,         11,     -999.0,9,20030528,       2015,    -0.6667,   -34.9833,       4502,  2018.7,   3.5780,  34.9724,2,-999.0000,9,    254.1,2,   255.3,3,   0.174,2,   0.087,2,   3.4149
06BE20030525,       AR04,      17,          1,         10,     -999.0,9,20030528,       2015,    -0.6667,   -34.9833,       4502,  2225.3,   3.3125,  34.9628,2,-999.0000,9,    255.0,2,  -999.0,9,-999.000,9,-999.000,9,   3.1338
06BE20030525,       AR04,      17,          1,          9,     -999.0,9,20030528,       2015,    -0.6667,   -34.9833,       4502,  2522.7,   3.0728,  34.9516,2,-999.0000,9,    258.1,2,  -999.0,9,   0.156,2,   0.068,2,   2.8692
06BE20030525,       AR04,      17,          1,          8,     -999.0,9,20030528,       2015,    -0.6667,   -34.9833,       4502,  2810.5,   2.8754,  34.9385,2,-999.0000,9,    257.3,2,  -999.0,9,   0.180,4,   0.052,2,   2.6468
06BE20030525,       AR04,      17,          1,          7,     -999.0,9,20030528,       2015,    -0.6667,   -34.9833,       4502,  3298.1,   2.5755,  34.9171,2,  34.9174,2,    254.6,2,  -999.0,9,   0.113,2,   0.054,2,   2.3029
06BE20030525,       AR04,      17,          1,          6,     -999.0,9,20030528,       2015,    -0.6667,   -34.9833,       4502,  3597.4,   2.4302,  34.9101,2,-999.0000,9,    260.7,2,  -999.0,9,   0.219,2,   0.106,2,   2.1289
06BE20030525,       AR04,      17,          1,          5,     -999.0,9,20030528,       2015,    -0.6667,   -34.9833,       4502,  3797.9,   2.3538,  34.9032,2,-999.0000,9,    261.2,2,   264.3,3,   0.242,2,   0.120,2,   2.0323
06BE20030525,       AR04,      17,          1,          4,     -999.0,9,20030528,       2015,    -0.6667,   -34.9833,       4502,  4001.4,   2.2737,  34.8943,2,  34.8902,2,    260.5,2,  -999.0,9,   0.210,2,   0.103,2,   1.9316
06BE20030525,       AR04,      17,          1,          3,     -999.0,9,20030528,       2015,    -0.6667,   -34.9833,       4502,  4294.0,   1.2700,  34.7786,2,-999.0000,9,    233.0,2,   234.7,3,   0.044,2,   0.021,2,   0.9247
06BE20030525,       AR04,      17,          1,          2,     -999.0,9,20030528,       2015,    -0.6667,   -34.9833,       4502,  4298.4,   1.2560,  34.7786,2,  34.9744,3,    232.5,2,  -999.0,9,-999.000,9,-999.000,9,   0.9106
06BE20030525,       AR04,      17,          1,          1,     -999.0,9,20030528,       2015,    -0.6667,   -34.9833,       4502,  4501.5,   1.0321,  34.7515,2,-999.0000,9,    225.3,2,  -999.0,9,-999.000,9,-999.000,9,   0.6710
06BE20030525,       AR04,      18,          1,         21,     -999.0,9,20030529,       0031,    -0.3348,   -34.9842,       4566,    21.8,  27.5274,  36.3399,2,-999.0000,9,    202.5,2,   205.1,3,   1.564,2,   0.991,2,  27.5223
06BE20030525,       AR04,      18,          1,         20,     -999.0,9,20030529,       0031,    -0.3348,   -34.9842,       4566,   595.7,   6.1650,  34.5213,2,  34.5129,2,    166.0,2,  -999.0,9,   0.923,2,   0.464,2,   6.1118
06BE20030525,       AR04,      18,          1,         19,     -999.0,9,20030529,       0031,    -0.3348,   -34.9842,       4566,   995.5,   4.4652,  34.6306,2,-999.0000,9,    159.7,2,   160.2,3,   0.397,2,   0.194,2,   4.3861
06BE20030525,       AR04,      18,          1,         18,     -999.0,9,20030529,       0031,    -0.3348,   -34.9842,       4566,  1173.6,   4.6290,  34.8146,2,-999.0000,9,    176.5,2,  -999.0,9,-999.000,9,-999.000,9,   4.5325
06BE20030525,       AR04,      18,          1,         17,     -999.0,9,20030529,       0031,    -0.3348,   -34.9842,       4566,  1189.4,   4.6640,  34.8263,2,-999.0000,9,    178.8,2,  -999.0,9,   0.054,2,   0.025,2,   4.5657
06BE20030525,       AR04,      18,          1,         16,     -999.0,9,20030529,       0031,    -0.3348,   -34.9842,       4566,  1378.6,   4.4807,  34.9478,2,-999.0000,9,    213.2,2,  -999.0,9,   0.079,2,   0.037,2,   4.3665
06BE20030525,       AR04,      18,          1,         15,     -999.0,9,20030529,       0031,    -0.3348,   -34.9842,       4566,  1520.1,   4.1725,  34.9701,2,  34.9713,2,    230.4,2,  -999.0,9,   0.170,2,   0.085,2,   4.0485
06BE20030525,       AR04,      18,          1,         14,     -999.0,9,20030529,       0031,    -0.3348,   -34.9842,       4566,  1681.0,   3.9667,  34.9802,2,-999.0000,9,    243.9,2,  -999.0,9,   0.139,2,   0.071,2,   3.8301
06BE20030525,       AR04,      18,          1,         13,     -999.0,9,20030529,       0031,    -0.3348,   -34.9842,       4566,  1849.1,   3.8369,  34.9836,2,-999.0000,9,    252.9,2,   253.5,3,   0.198,2,   0.099,2,   3.6862
06BE20030525,       AR04,      18,          1,         12,     -999.0,9,20030529,       0031,    -0.3348,   -34.9842,       4566,  2111.9,   3.5111,  34.9708,2,-999.0000,9,    254.3,2,  -999.0,9,   0.179,2,   0.088,2,   3.3401
06BE20030525,       AR04,      18,          1,         11,     -999.0,9,20030529,       0031,    -0.3348,   -34.9842,       4566,  2407.6,   3.1586,  34.9572,2,-999.0000,9,    257.8,2,  -999.0,9,   0.186,2,   0.090,2,   2.9648
06BE20030525,       AR04,      18,          1,         10,     -999.0,9,20030529,       0031,    -0.3348,   -34.9842,       4566,  2602.5,   2.9808,  34.9426,2,-999.0000,9,    254.2,2,   254.4,3,   0.077,2,   0.036,2,   2.7710
06BE20030525,       AR04,      18,          1,          9,     -999.0,9,20030529,       0031,    -0.3348,   -34.9842,       4566,  2987.0,   2.7109,  34.9241,2,-999.0000,9,    252.3,2,  -999.0,9,   0.090,2,   0.038,2,   2.4677
06BE20030525,       AR04,      18,          1,          8,     -999.0,9,20030529,       0031,    -0.3348,   -34.9842,       4566,  2988.9,   2.7112,  34.9247,2,  34.9237,2,    252.3,2,  -999.0,9,-999.000,9,-999.000,9,   2.4678
06BE20030525,       AR04,      18,          1,          7,     -999.0,9,20030529,       0031,    -0.3348,   -34.9842,       4566,  3502.1,   2.4813,  34.9121,2,-999.0000,9,    257.5,2,  -999.0,9,   0.148,2,   0.073,2,   2.1891
06BE20030525,       AR04,      18,          1,          6,     -999.0,9,20030529,       0031,    -0.3348,   -34.9842,       4566,  3699.3,   2.3876,  34.9054,2,  34.9028,2,    260.9,2,  -999.0,9,   0.233,2,   0.116,2,   2.0762
06BE20030525,       AR04,      18,          1,          5,     -999.0,9,20030529,       0031,    -0.3348,   -34.9842,       4566,  3897.5,   2.3443,  34.9015,2,-999.0000,9,    260.8,2,   264.3,3,   0.241,2,   0.118,2,   2.0119
06BE20030525,       AR04,      18,          1,          4,     -999.0,9,20030529,       0031,    -0.3348,   -34.9842,       4566,  4096.9,   2.1538,  34.8787,2,-999.0000,9,    255.4,2,  -999.0,9,   0.165,2,   0.082,2,   1.8043
06BE20030525,       AR04,      18,          1,          3,     -999.0,9,20030529,       0031,    -0.3348,   -34.9842,       4566,  4346.9,   1.1675,  34.7677,2,-999.0000,9,    229.1,2,  -999.0,9,   0.049,2,   0.022,2,   0.8195
06BE20030525,       AR04,      18,          1,          2,     -999.0,9,20030529,       0031,    -0.3348,   -34.9842,       4566,  4564.2,   1.0169,  34.7483,2,  34.7475,2,    224.6,2,   229.4,3,-999.000,9,-999.000,9,   0.6492
06BE20030525,       AR04,      18,          1,          1,     -999.0,9,20030529,       0031,    -0.3348,   -34.9842,       4566,  4565.1,   1.0174,  34.7481,2,-999.0000,9,    224.5,2,  -999.0,9,   0.046,2,   0.020,2,   0.6496
06BE20030525,       AR04,      19,          1,         21,     -999.0,9,20030529,       0518,    -0.0003,   -34.9665,       4600,   701.7,   5.3707,  34.5110,2,  34.5111,2,    143.0,2,   145.3,3,   0.288,2,   0.146,2,   5.3117
06BE20030525,       AR04,      19,          1,         20,     -999.0,9,20030529,       0518,    -0.0003,   -34.9665,       4600,  1093.5,   4.5327,  34.6557,2,  34.7050,2,    158.5,2,  -999.0,9,   0.042,2,   0.019,2,   4.4444
06BE20030525,       AR04,      19,          1,         19,     -999.0,9,20030529,       0518,    -0.0003,   -34.9665,       4600,  1303.9,   4.6183,  34.9275,2,  34.9284,2,    201.7,2,  -999.0,9,   0.175,2,   0.085,2,   4.5097
06BE20030525,       AR04,      19,          1,         18,     -999.0,9,20030529,       0518,    -0.0003,   -34.9665,       4600,  1304.6,   4.6151,  34.9276,2,-999.0000,9,    201.9,2,  -999.0,9,-999.000,9,-999.000,9,   4.5064
06BE20030525,       AR04,      19,          1,         17,     -999.0,9,20030529,       0518,    -0.0003,   -34.9665,       4600,  1448.0,   4.3434,  34.9590,2,  34.9616,2,    223.3,2,  -999.0,9,   0.171,2,   0.086,2,   4.2242
06BE20030525,       AR04,      19,          1,         16,     -999.0,9,20030529,       0518,    -0.0003,   -34.9665,       4600,  1597.4,   4.1249,  34.9743,2,  34.9758,2,    235.5,2,  -999.0,9,   0.159,2,   0.079,2,   3.9942
06BE20030525,       AR04,      19,          1,         15,     -999.0,9,20030529,       0518,    -0.0003,   -34.9665,       4600,  1748.2,   3.8909,  34.9835,2,-999.0000,9,    249.3,2,  -999.0,9,   0.310,2,   0.152,2,   3.7490
06BE20030525,       AR04,      19,          1,         14,     -999.0,9,20030529,       0518,    -0.0003,   -34.9665,       4600,  1907.3,   3.7345,  34.9810,2,-999.0000,9,    255.8,2,   256.1,3,   0.420,2,   0.204,2,   3.5797
06BE20030525,       AR04,      19,          1,         13,     -999.0,9,20030529,       0518,    -0.0003,   -34.9665,       4600,  2056.0,   3.5832,  34.9742,2,-999.0000,9,    254.3,2,  -999.0,9,   0.262,2,   0.125,2,   3.4165
06BE20030525,       AR04,      19,          1,         12,     -999.0,9,20030529,       0518,    -0.0003,   -34.9665,       4600,  2306.8,   3.1868,  34.9571,2,-999.0000,9,    254.5,2,  -999.0,9,   0.158,2,   0.077,2,   3.0023
06BE20030525,       AR04,      19,          1,         11,     -999.0,9,20030529,       0518,    -0.0003,   -34.9665,       4600,  2498.1,   3.0907,  34.9527,2,  34.9510,2,    257.7,2,  -999.0,9,   0.143,2,   0.069,2,   2.8892
06BE20030525,       AR04,      19,          1,         10,     -999.0,9,20030529,       0518,    -0.0003,   -34.9665,       4600,  2798.4,   2.8621,  34.9343,2,-999.0000,9,    251.6,2,  -999.0,9,-999.000,9,-999.000,9,   2.6350
06BE20030525,       AR04,      19,          1,          9,     -999.0,9,20030529,       0518,    -0.0003,   -34.9665,       4600,  3098.2,   2.6476,  34.9212,2,-999.0000,9,    252.1,2,   254.7,3,   0.098,2,   0.038,2,   2.3943
06BE20030525,       AR04,      19,          1,          8,     -999.0,9,20030529,       0518,    -0.0003,   -34.9665,       4600,  3396.5,   2.5804,  34.9154,2,-999.0000,9,    254.0,2,  -999.0,9,-999.000,9,-999.000,9,   2.2971
06BE20030525,       AR04,      19,          1,          7,     -999.0,9,20030529,       0518,    -0.0003,   -34.9665,       4600,  3597.3,   2.3963,  34.9073,2,-999.0000,9,    259.8,2,  -999.0,9,   0.220,2,   0.108,2,   2.0959
06BE20030525,       AR04,      19,          1,          6,     -999.0,9,20030529,       0518,    -0.0003,   -34.9665,       4600,  3797.3,   2.3531,  34.9021,2,-999.0000,9,    259.1,2,   262.6,3,   0.205,2,   0.101,2,   2.0317
06BE20030525,       AR04,      19,          1,          5,     -999.0,9,20030529,       0518,    -0.0003,   -34.9665,       4600,  3998.2,   2.2737,  34.8937,2,  34.8934,2,    259.4,2,  -999.0,9,   0.206,2,   0.102,2,   1.9319
06BE20030525,       AR04,      19,          1,          4,     -999.0,9,20030529,       0518,    -0.0003,   -34.9665,       4600,  4198.2,   1.6886,  34.8261,2,-999.0000,9,    244.4,2,  -999.0,9,   0.099,2,   0.049,2,   1.3413
06BE20030525,       AR04,      19,          1,          2,     -999.0,9,20030529,       0518,    -0.0003,   -34.9665,       4600,  4598.4,   1.0217,  34.7481,2,-999.0000,9,    223.5,2,   228.0,3,-999.000,9,-999.000,9,   0.6500
06BE20030525,       AR04,      19,          1,          1,     -999.0,9,20030529,       0518,    -0.0003,   -34.9665,       4600,  4598.6,   1.0217,  34.7482,2,-999.0000,9,    223.5,2,  -999.0,9,   0.047,2,   0.021,2,   0.6499