BOTTLE,20211129CCHSIORKP
EXPOCODE,SECT_ID,STNNBR,CASTNO,SAMPNO,BTLNBR,BTLNBR_FLAG_W,DATE,TIME,LATITUDE,LONGITUDE,DEPTH,CTDPRS,CTDTMP,CTDSAL,CTDSAL_FLAG_W,SALNTY,SALNTY_FLAG_W,CTDOXY,CTDOXY_FLAG_W,OXYGEN,OXYGEN_FLAG_W,CFC-11,CFC-11_FLAG_W,CFC-12,CFC-12_FLAG_W,THETA
,,,,,,,,,,,METERS,DBAR,ITS-90,PSS-78,,PSS-78,,UMOL/KG,,UMOL/KG,,PMOL/KG,,PMOL/KG,,DEG C
06BE20030525,       AR04,      10,          1,         11,     -999.0,9,20030527,       0700,    -2.7538,   -34.9508,       3900,    10.3,  28.1065,  36.1352,2,-999.0000,9,    201.2,2,   200.1,3,-999.000,9,-999.000,9,  28.1041
06BE20030525,       AR04,      10,          1,         10,     -999.0,9,20030527,       0700,    -2.7538,   -34.9508,       3900,   203.7,  12.5207,  35.2084,2,-999.0000,9,    108.6,2,  -999.0,9,-999.000,9,-999.000,9,  12.4933
06BE20030525,       AR04,      10,          1,          9,     -999.0,9,20030527,       0700,    -2.7538,   -34.9508,       3900,   213.5,  12.4510,  35.1967,2,-999.0000,9,    112.0,2,   112.8,3,-999.000,9,-999.000,9,  12.4224
06BE20030525,       AR04,      10,          1,          8,     -999.0,9,20030527,       0700,    -2.7538,   -34.9508,       3900,  1209.3,   4.4977,  34.8057,2,-999.0000,9,    184.2,2,  -999.0,9,-999.000,9,-999.000,9,   4.3991
06BE20030525,       AR04,      10,          1,          7,     -999.0,9,20030527,       0700,    -2.7538,   -34.9508,       3900,  1397.0,   4.3085,  34.9617,2,  34.9616,2,    227.9,2,  -999.0,9,   0.269,2,   0.135,2,   4.1944
06BE20030525,       AR04,      10,          1,          6,     -999.0,9,20030527,       0700,    -2.7538,   -34.9508,       3900,  1602.1,   4.0415,  34.9873,2,-999.0000,9,    249.8,2,   249.8,3,   0.473,2,   0.233,2,   3.9114
06BE20030525,       AR04,      10,          1,          5,     -999.0,9,20030527,       0700,    -2.7538,   -34.9508,       3900,  1784.0,   3.6946,  34.9782,2,-999.0000,9,    256.9,2,  -999.0,9,   0.246,2,   0.121,2,   3.5520
06BE20030525,       AR04,      10,          1,          3,     -999.0,9,20030527,       0700,    -2.7538,   -34.9508,       3900,  2001.7,   3.4866,  34.9703,2,-999.0000,9,    258.5,2,  -999.0,9,-999.000,9,-999.000,9,   3.3265
06BE20030525,       AR04,      10,          1,          2,     -999.0,9,20030527,       0700,    -2.7538,   -34.9508,       3900,  2817.5,   2.8899,  34.9401,2,  34.9392,2,    260.5,2,  -999.0,9,-999.000,9,-999.000,9,   2.6603
06BE20030525,       AR04,      10,          1,          1,     -999.0,9,20030527,       0700,    -2.7538,   -34.9508,       3900,  3417.4,   2.6528,  34.9230,2,  34.9183,2,    261.1,2,   261.6,3,-999.000,9,-999.000,9,   2.3655
06BE20030525,       AR04,      11,          1,         11,     -999.0,9,20030527,       1118,    -2.4178,   -35.0050,       3957,     5.6,  28.0675,  36.1410,2,-999.0000,9,    201.5,2,   199.6,3,-999.000,9,-999.000,9,  28.0662
06BE20030525,       AR04,      11,          1,         10,     -999.0,9,20030527,       1118,    -2.4178,   -35.0050,       3957,   103.3,  13.8607,  35.4086,2,-999.0000,9,    110.8,2,   108.1,3,-999.000,9,-999.000,9,  13.8459
06BE20030525,       AR04,      11,          1,          9,     -999.0,9,20030527,       1118,    -2.4178,   -35.0050,       3957,   103.7,  13.8576,  35.3982,2,-999.0000,9,    110.2,2,  -999.0,9,-999.000,9,-999.000,9,  13.8427
06BE20030525,       AR04,      11,          1,          8,     -999.0,9,20030527,       1118,    -2.4178,   -35.0050,       3957,   604.6,   5.9906,  34.4940,2,  34.4928,2,    175.9,2,  -999.0,9,-999.000,9,-999.000,9,   5.9374
06BE20030525,       AR04,      11,          1,          7,     -999.0,9,20030527,       1118,    -2.4178,   -35.0050,       3957,  1202.8,   4.4993,  34.8046,2,-999.0000,9,    184.2,2,   188.0,3,-999.000,9,-999.000,9,   4.4013
06BE20030525,       AR04,      11,          1,          6,     -999.0,9,20030527,       1118,    -2.4178,   -35.0050,       3957,  1398.1,   4.2738,  34.9717,2,-999.0000,9,    234.0,2,  -999.0,9,   0.241,2,   0.116,2,   4.1599
06BE20030525,       AR04,      11,          1,          5,     -999.0,9,20030527,       1118,    -2.4178,   -35.0050,       3957,  1608.5,   4.0651,  34.9810,2,-999.0000,9,    246.7,2,  -999.0,9,   0.311,2,   0.149,2,   3.9341
06BE20030525,       AR04,      11,          1,          4,     -999.0,9,20030527,       1118,    -2.4178,   -35.0050,       3957,  1816.5,   3.7619,  34.9815,2,  34.9815,2,    257.4,2,  -999.0,9,   0.375,2,   0.184,2,   3.6153
06BE20030525,       AR04,      11,          1,          3,     -999.0,9,20030527,       1118,    -2.4178,   -35.0050,       3957,  2012.8,   3.5661,  34.9724,2,-999.0000,9,    256.8,2,  -999.0,9,-999.000,9,-999.000,9,   3.4038
06BE20030525,       AR04,      11,          1,          2,     -999.0,9,20030527,       1118,    -2.4178,   -35.0050,       3957,  2527.5,   3.0188,  34.9441,2,  34.9479,2,    256.1,2,  -999.0,9,-999.000,9,-999.000,9,   2.8157
06BE20030525,       AR04,      11,          1,          1,     -999.0,9,20030527,       1118,    -2.4178,   -35.0050,       3957,  3596.4,   2.5871,  34.9187,2,  34.9144,2,    261.2,2,   261.2,3,-999.000,9,-999.000,9,   2.2819
06BE20030525,       AR04,      12,          1,         13,     -999.0,9,20030527,       1528,    -2.0835,   -35.0013,       4094,    14.6,  28.0988,  36.1908,2,-999.0000,9,    202.7,2,   140.1,4,   1.505,2,   0.973,2,  28.0953
06BE20030525,       AR04,      12,          1,         12,     -999.0,9,20030527,       1528,    -2.0835,   -35.0013,       4094,   492.2,   7.4769,  34.6386,2,  34.6315,2,    141.1,2,   248.5,4,-999.000,9,-999.000,9,   7.4283
06BE20030525,       AR04,      12,          1,         11,     -999.0,9,20030527,       1528,    -2.0835,   -35.0013,       4094,  1300.3,   4.4312,  34.9593,2,-999.0000,9,    220.5,2,  -999.0,9,   0.242,2,   0.123,2,   4.3247
06BE20030525,       AR04,      12,          1,         10,     -999.0,9,20030527,       1528,    -2.0835,   -35.0013,       4094,  1493.0,   4.1820,  34.9783,2,-999.0000,9,    240.3,2,  -999.0,9,   0.261,2,   0.127,2,   4.0603
06BE20030525,       AR04,      12,          1,          9,     -999.0,9,20030527,       1528,    -2.0835,   -35.0013,       4094,  1500.4,   4.1802,  34.9790,2,-999.0000,9,    240.7,2,  -999.0,9,-999.000,9,-999.000,9,   4.0579
06BE20030525,       AR04,      12,          1,          8,     -999.0,9,20030527,       1528,    -2.0835,   -35.0013,       4094,  1698.0,   4.0190,  34.9838,2,  34.9819,2,    249.3,2,  -999.0,9,   0.301,2,   0.148,2,   3.8802
06BE20030525,       AR04,      12,          1,          7,     -999.0,9,20030527,       1528,    -2.0835,   -35.0013,       4094,  1809.0,   3.8148,  34.9834,2,-999.0000,9,    255.6,2,  -999.0,9,   0.318,2,   0.156,2,   3.6682
06BE20030525,       AR04,      12,          1,          6,     -999.0,9,20030527,       1528,    -2.0835,   -35.0013,       4094,  1998.2,   3.6053,  34.9749,2,-999.0000,9,    257.5,2,   253.4,3,   0.225,2,   0.113,2,   3.4438
06BE20030525,       AR04,      12,          1,          5,     -999.0,9,20030527,       1528,    -2.0835,   -35.0013,       4094,  2298.9,   3.3196,  34.9593,2,-999.0000,9,    257.3,2,  -999.0,9,   0.130,2,   0.061,2,   3.1336
06BE20030525,       AR04,      12,          1,          4,     -999.0,9,20030527,       1528,    -2.0835,   -35.0013,       4094,  3499.5,   2.6160,  34.9207,2,  34.9181,2,    261.4,2,  -999.0,9,   0.168,2,   0.081,2,   2.3207
06BE20030525,       AR04,      12,          1,          3,     -999.0,9,20030527,       1528,    -2.0835,   -35.0013,       4094,  3697.9,   2.4555,  34.9102,2,-999.0000,9,    263.4,2,  -999.0,9,   0.218,2,   0.103,2,   2.1424
06BE20030525,       AR04,      12,          1,          2,     -999.0,9,20030527,       1528,    -2.0835,   -35.0013,       4094,  3704.3,   2.4495,  34.9100,2,-999.0000,9,    263.5,2,  -999.0,9,-999.000,9,-999.000,9,   2.1359
06BE20030525,       AR04,      12,          1,          1,     -999.0,9,20030527,       1528,    -2.0835,   -35.0013,       4094,  4091.7,   1.5078,  34.8050,2,  34.8037,2,    237.7,2,   238.4,3,   0.041,2,   0.019,2,   1.1778
06BE20030525,       AR04,      13,          1,         13,     -999.0,9,20030527,       1956,    -1.7505,   -35.0003,       4153,    22.5,  27.9834,  36.2879,2,  36.2867,2,    202.1,2,  -999.0,9,   1.516,6,   0.974,6,  27.9781
06BE20030525,       AR04,      13,          1,         14,     -999.0,9,20030527,       1956,    -1.7505,   -35.0003,       4153,    22.5,  27.9834,  36.2879,2,-999.0000,9,    202.1,2,  -999.0,9,-999.000,9,-999.000,9,  27.9781
06BE20030525,       AR04,      13,          1,         12,     -999.0,9,20030527,       1956,    -1.7505,   -35.0003,       4153,   692.4,   5.4648,  34.4451,2,-999.0000,9,    187.3,2,   184.3,3,   1.091,2,   0.554,2,   5.4062
06BE20030525,       AR04,      13,          1,         11,     -999.0,9,20030527,       1956,    -1.7505,   -35.0003,       4153,  1197.9,   4.4940,  34.7575,2,-999.0000,9,    175.3,2,  -999.0,9,   0.062,2,   0.028,2,   4.3966
06BE20030525,       AR04,      13,          1,         10,     -999.0,9,20030527,       1956,    -1.7505,   -35.0003,       4153,  1392.6,   4.3041,  34.9689,2,  34.9669,2,    230.8,2,  -999.0,9,   0.222,2,   0.108,2,   4.1904
06BE20030525,       AR04,      13,          1,          9,     -999.0,9,20030527,       1956,    -1.7505,   -35.0003,       4153,  1399.7,   4.2999,  34.9716,2,-999.0000,9,    231.1,2,  -999.0,9,   0.258,4,   0.127,4,   4.1856
06BE20030525,       AR04,      13,          1,          8,     -999.0,9,20030527,       1956,    -1.7505,   -35.0003,       4153,  1597.7,   4.0877,  34.9807,2,-999.0000,9,    242.7,2,  -999.0,9,-999.000,9,-999.000,9,   3.9574
06BE20030525,       AR04,      13,          1,          7,     -999.0,9,20030527,       1956,    -1.7505,   -35.0003,       4153,  1697.0,   3.9941,  34.9851,2,-999.0000,9,    249.6,2,   248.9,3,   0.357,2,   0.177,2,   3.8557
06BE20030525,       AR04,      13,          1,          6,     -999.0,9,20030527,       1956,    -1.7505,   -35.0003,       4153,  1897.0,   3.7135,  34.9788,2,  34.9760,2,    255.7,2,  -999.0,9,   0.271,2,   0.136,2,   3.5600
06BE20030525,       AR04,      13,          1,          5,     -999.0,9,20030527,       1956,    -1.7505,   -35.0003,       4153,  2198.3,   3.4299,  34.9669,2,-999.0000,9,    257.5,2,   254.8,3,   0.190,2,   0.094,2,   3.2519
06BE20030525,       AR04,      13,          1,          4,     -999.0,9,20030527,       1956,    -1.7505,   -35.0003,       4153,  3609.0,   2.4613,  34.9108,2,-999.0000,9,    262.2,2,   261.1,3,   0.191,2,   0.092,2,   2.1579
06BE20030525,       AR04,      13,          1,          3,     -999.0,9,20030527,       1956,    -1.7505,   -35.0003,       4153,  3796.9,   2.2173,  34.8908,2,-999.0000,9,    261.1,2,  -999.0,9,   0.202,6,   0.099,6,   1.8997
06BE20030525,       AR04,      13,          1,          2,     -999.0,9,20030527,       1956,    -1.7505,   -35.0003,       4153,  3804.2,   2.2132,  34.8898,2,  34.8867,2,    261.0,2,  -999.0,9,   0.208,2,   0.103,2,   1.8949
06BE20030525,       AR04,      13,          1,          1,     -999.0,9,20030527,       1956,    -1.7505,   -35.0003,       4153,  4151.1,   1.4434,  34.7978,2,-999.0000,9,    235.7,2,  -999.0,9,   0.039,2,   0.018,2,   1.1087
06BE20030525,       AR04,      14,          1,         15,     -999.0,9,20030528,       0000,    -1.4663,   -35.0000,       4364,    38.1,  27.8397,  36.2570,2,-999.0000,9,    203.7,2,   203.5,3,   1.514,2,   0.977,2,  27.8307
06BE20030525,       AR04,      14,          1,         14,     -999.0,9,20030528,       0000,    -1.4663,   -35.0000,       4364,   907.8,   4.4877,  34.5876,2,  34.5928,2,    161.4,2,   159.2,3,   0.077,2,   0.035,2,   4.4161
06BE20030525,       AR04,      14,          1,         13,     -999.0,9,20030528,       0000,    -1.4663,   -35.0000,       4364,  1307.3,   4.4791,  34.9456,2,-999.0000,9,    215.9,2,  -999.0,9,   0.191,2,   0.095,2,   4.3715
06BE20030525,       AR04,      14,          1,         12,     -999.0,9,20030528,       0000,    -1.4663,   -35.0000,       4364,  1495.1,   4.1894,  34.9775,2,  34.9762,2,    237.7,2,  -999.0,9,   0.242,2,   0.121,2,   4.0675
06BE20030525,       AR04,      14,          1,         11,     -999.0,9,20030528,       0000,    -1.4663,   -35.0000,       4364,  1645.2,   4.0992,  34.9810,2,-999.0000,9,    243.6,2,  -999.0,9,   0.248,6,   0.124,6,   3.9643
06BE20030525,       AR04,      14,          1,         10,     -999.0,9,20030528,       0000,    -1.4663,   -35.0000,       4364,  1795.1,   3.8815,  34.9848,2,-999.0000,9,    255.1,2,  -999.0,9,   0.384,2,   0.192,2,   3.7353
06BE20030525,       AR04,      14,          1,          9,     -999.0,9,20030528,       0000,    -1.4663,   -35.0000,       4364,  2087.6,   3.5607,  34.9746,2,-999.0000,9,    258.9,2,   260.0,3,   0.311,2,   0.157,2,   3.3913
06BE20030525,       AR04,      14,          1,          8,     -999.0,9,20030528,       0000,    -1.4663,   -35.0000,       4364,  2089.4,   3.5582,  34.9745,2,-999.0000,9,    259.0,2,  -999.0,9,-999.000,9,-999.000,9,   3.3886
06BE20030525,       AR04,      14,          1,          7,     -999.0,9,20030528,       0000,    -1.4663,   -35.0000,       4364,  2796.7,   2.8566,  34.9388,2,  34.9364,2,    259.7,2,  -999.0,9,   0.128,2,   0.062,2,   2.6298
06BE20030525,       AR04,      14,          1,          6,     -999.0,9,20030528,       0000,    -1.4663,   -35.0000,       4364,  3397.6,   2.5674,  34.9188,2,-999.0000,9,    260.5,2,  -999.0,9,   0.154,2,   0.073,2,   2.2843
06BE20030525,       AR04,      14,          1,          5,     -999.0,9,20030528,       0000,    -1.4663,   -35.0000,       4364,  3698.7,   2.3660,  34.9050,2,-999.0000,9,    263.4,2,  -999.0,9,   0.234,2,   0.116,2,   2.0552
06BE20030525,       AR04,      14,          1,          4,     -999.0,9,20030528,       0000,    -1.4663,   -35.0000,       4364,  3897.1,   2.2373,  34.8926,2,-999.0000,9,    262.2,2,  -999.0,9,   0.215,2,   0.106,2,   1.9080
06BE20030525,       AR04,      14,          1,          3,     -999.0,9,20030528,       0000,    -1.4663,   -35.0000,       4364,  4157.4,   1.8442,  34.8424,2,-999.0000,9,    247.6,2,  -999.0,9,   0.088,2,   0.042,2,   1.4969
06BE20030525,       AR04,      14,          1,          2,     -999.0,9,20030528,       0000,    -1.4663,   -35.0000,       4364,  4166.9,   1.8313,  34.8403,2,  34.8361,2,    247.5,2,   248.6,3,-999.000,9,-999.000,9,   1.4833
06BE20030525,       AR04,      14,          1,          1,     -999.0,9,20030528,       0000,    -1.4663,   -35.0000,       4364,  4362.4,   1.3145,  34.7833,2,-999.0000,9,    233.2,2,  -999.0,9,   0.041,2,   0.019,2,   0.9602
06BE20030525,       AR04,      15,          1,         17,     -999.0,9,20030528,       0337,    -1.3013,   -35.0002,       4414,    42.7,  27.8038,  36.2602,2,-999.0000,9,    204.0,2,   203.8,3,   1.504,2,   0.975,2,  27.7938
06BE20030525,       AR04,      15,          1,         16,     -999.0,9,20030528,       0337,    -1.3013,   -35.0002,       4414,   706.9,   5.2090,  34.4490,2,-999.0000,9,    177.0,2,   177.3,3,-999.000,9,-999.000,9,   5.1505
06BE20030525,       AR04,      15,          1,         15,     -999.0,9,20030528,       0337,    -1.3013,   -35.0002,       4414,  1348.2,   4.4674,  34.9499,2,-999.0000,9,    217.5,2,  -999.0,9,   0.202,2,   0.100,2,   4.3561
06BE20030525,       AR04,      15,          1,         14,     -999.0,9,20030528,       0337,    -1.3013,   -35.0002,       4414,  1541.6,   4.1548,  34.9787,2,-999.0000,9,    239.3,2,  -999.0,9,   0.215,2,   0.105,2,   4.0290
06BE20030525,       AR04,      15,          1,         13,     -999.0,9,20030528,       0337,    -1.3013,   -35.0002,       4414,  1686.2,   4.0448,  34.9843,2,-999.0000,9,    247.2,2,  -999.0,9,   0.321,2,   0.157,2,   3.9068
06BE20030525,       AR04,      15,          1,         12,     -999.0,9,20030528,       0337,    -1.3013,   -35.0002,       4414,  1792.5,   3.9072,  34.9842,2,  34.9843,2,    254.0,2,  -999.0,9,   0.387,2,   0.191,2,   3.7609
06BE20030525,       AR04,      15,          1,         11,     -999.0,9,20030528,       0337,    -1.3013,   -35.0002,       4414,  2000.3,   3.6364,  34.9767,2,-999.0000,9,    257.0,2,  -999.0,9,   0.283,2,   0.139,2,   3.4742
06BE20030525,       AR04,      15,          1,         10,     -999.0,9,20030528,       0337,    -1.3013,   -35.0002,       4414,  2196.7,   3.4210,  34.9651,2,-999.0000,9,    256.4,2,   254.1,3,   0.140,2,   0.069,2,   3.2433
06BE20030525,       AR04,      15,          1,          9,     -999.0,9,20030528,       0337,    -1.3013,   -35.0002,       4414,  2485.1,   3.0413,  34.9508,2,-999.0000,9,    260.4,2,  -999.0,9,-999.000,9,-999.000,9,   2.8420
06BE20030525,       AR04,      15,          1,          8,     -999.0,9,20030528,       0337,    -1.3013,   -35.0002,       4414,  2497.2,   3.0388,  34.9508,2,-999.0000,9,    260.4,2,  -999.0,9,   0.150,2,   0.073,2,   2.8384
06BE20030525,       AR04,      15,          1,          7,     -999.0,9,20030528,       0337,    -1.3013,   -35.0002,       4414,  3204.4,   2.6836,  34.9268,2,  34.9250,2,    259.4,2,  -999.0,9,   0.148,2,   0.072,2,   2.4183
06BE20030525,       AR04,      15,          1,          6,     -999.0,9,20030528,       0337,    -1.3013,   -35.0002,       4414,  3597.4,   2.4298,  34.9097,2,-999.0000,9,    262.6,2,  -999.0,9,   0.208,2,   0.103,2,   2.1285
06BE20030525,       AR04,      15,          1,          5,     -999.0,9,20030528,       0337,    -1.3013,   -35.0002,       4414,  3797.8,   2.3385,  34.9019,2,-999.0000,9,    263.1,2,  -999.0,9,   0.232,2,   0.113,2,   2.0175
06BE20030525,       AR04,      15,          1,          4,     -999.0,9,20030528,       0337,    -1.3013,   -35.0002,       4414,  3997.7,   2.2165,  34.8890,2,-999.0000,9,    260.9,2,  -999.0,9,   0.202,2,   0.101,2,   1.8764
06BE20030525,       AR04,      15,          1,          3,     -999.0,9,20030528,       0337,    -1.3013,   -35.0002,       4414,  4251.2,   1.4731,  34.8025,2,-999.0000,9,    238.8,2,  -999.0,9,   0.045,2,   0.021,2,   1.1264
06BE20030525,       AR04,      15,          1,          2,     -999.0,9,20030528,       0337,    -1.3013,   -35.0002,       4414,  4252.8,   1.4680,  34.8016,2,-999.0000,9,    238.7,2,  -999.0,9,-999.000,9,-999.000,9,   1.1213
06BE20030525,       AR04,      15,          1,          1,     -999.0,9,20030528,       0337,    -1.3013,   -35.0002,       4414,  4412.1,   1.2454,  34.7751,2,  34.7762,2,    231.1,2,   239.4,4,   0.039,2,   0.018,2,   0.8876