BOTTLE,20211129CCHSIORKP
EXPOCODE,SECT_ID,STNNBR,CASTNO,SAMPNO,BTLNBR,BTLNBR_FLAG_W,DATE,TIME,LATITUDE,LONGITUDE,DEPTH,CTDPRS,CTDTMP,CTDSAL,CTDSAL_FLAG_W,SALNTY,SALNTY_FLAG_W,CTDOXY,CTDOXY_FLAG_W,OXYGEN,OXYGEN_FLAG_W,CFC-11,CFC-11_FLAG_W,CFC-12,CFC-12_FLAG_W,THETA
,,,,,,,,,,,METERS,DBAR,ITS-90,PSS-78,,PSS-78,,UMOL/KG,,UMOL/KG,,PMOL/KG,,PMOL/KG,,DEG C
06BE20030525,       AR04,      20,          1,         21,     -999.0,9,20030529,       0943,     0.3342,   -34.9993,       4601,    20.5,  27.3908,  36.3383,2,-999.0000,9,    200.3,2,   201.4,3,   1.560,2,   0.987,2,  27.3860
06BE20030525,       AR04,      20,          1,         20,     -999.0,9,20030529,       0943,     0.3342,   -34.9993,       4601,   591.5,   6.4610,  34.5736,2,-999.0000,9,    133.7,2,   136.4,3,-999.000,9,-999.000,9,   6.4068
06BE20030525,       AR04,      20,          1,         19,     -999.0,9,20030529,       0943,     0.3342,   -34.9993,       4601,   891.3,   4.6588,  34.5686,2,-999.0000,9,    151.4,2,  -999.0,9,-999.000,9,-999.000,9,   4.5875
06BE20030525,       AR04,      20,          1,         18,     -999.0,9,20030529,       0943,     0.3342,   -34.9993,       4601,  1335.8,   4.5985,  34.9299,2,-999.0000,9,    205.3,2,  -999.0,9,-999.000,9,-999.000,9,   4.4871
06BE20030525,       AR04,      20,          1,         17,     -999.0,9,20030529,       0943,     0.3342,   -34.9993,       4601,  1348.3,   4.5814,  34.9317,2,-999.0000,9,    206.3,2,  -999.0,9,   0.163,2,   0.082,2,   4.4690
06BE20030525,       AR04,      20,          1,         16,     -999.0,9,20030529,       0943,     0.3342,   -34.9993,       4601,  1498.1,   4.2434,  34.9673,2,  34.9703,2,    227.7,2,  -999.0,9,   0.158,2,   0.080,2,   4.1206
06BE20030525,       AR04,      20,          1,         15,     -999.0,9,20030529,       0943,     0.3342,   -34.9993,       4601,  1648.8,   4.0007,  34.9793,2,-999.0000,9,    241.4,2,  -999.0,9,   0.188,2,   0.095,2,   3.8667
06BE20030525,       AR04,      20,          1,         14,     -999.0,9,20030529,       0943,     0.3342,   -34.9993,       4601,  1797.9,   3.8705,  34.9840,2,-999.0000,9,    250.1,2,   252.8,3,   0.378,2,   0.188,2,   3.7242
06BE20030525,       AR04,      20,          1,         13,     -999.0,9,20030529,       0943,     0.3342,   -34.9993,       4601,  1998.0,   3.6287,  34.9771,2,  34.9756,2,    256.4,2,  -999.0,9,   0.351,2,   0.170,2,   3.4668
06BE20030525,       AR04,      20,          1,         12,     -999.0,9,20030529,       0943,     0.3342,   -34.9993,       4601,  2196.5,   3.3272,  34.9623,2,-999.0000,9,    254.3,2,  -999.0,9,   0.137,2,   0.068,2,   3.1510
06BE20030525,       AR04,      20,          1,         11,     -999.0,9,20030529,       0943,     0.3342,   -34.9993,       4601,  2407.9,   3.1617,  34.9575,2,-999.0000,9,    258.2,2,  -999.0,9,-999.000,9,-999.000,9,   2.9678
06BE20030525,       AR04,      20,          1,         10,     -999.0,9,20030529,       0943,     0.3342,   -34.9993,       4601,  2719.9,   2.8676,  34.9343,2,-999.0000,9,    252.2,2,   253.8,3,-999.000,9,-999.000,9,   2.6483
06BE20030525,       AR04,      20,          1,          9,     -999.0,9,20030529,       0943,     0.3342,   -34.9993,       4601,  3028.0,   2.7080,  34.9234,2,-999.0000,9,    251.9,2,  -999.0,9,   0.079,2,   0.032,2,   2.4607
06BE20030525,       AR04,      20,          1,          8,     -999.0,9,20030529,       0943,     0.3342,   -34.9993,       4601,  3310.3,   2.5860,  34.9156,2,  34.9181,2,    253.1,2,  -999.0,9,-999.000,9,-999.000,9,   2.3118
06BE20030525,       AR04,      20,          1,          7,     -999.0,9,20030529,       0943,     0.3342,   -34.9993,       4601,  3498.1,   2.4500,  34.9096,2,-999.0000,9,    257.2,2,  -999.0,9,-999.000,9,-999.000,9,   2.1590
06BE20030525,       AR04,      20,          1,          6,     -999.0,9,20030529,       0943,     0.3342,   -34.9993,       4601,  3697.1,   2.3861,  34.9046,2,-999.0000,9,    258.6,2,   261.8,3,   0.174,2,   0.085,2,   2.0750
06BE20030525,       AR04,      20,          1,          5,     -999.0,9,20030529,       0943,     0.3342,   -34.9993,       4601,  3898.8,   2.3345,  34.9012,2,-999.0000,9,    260.4,2,  -999.0,9,-999.000,9,-999.000,9,   2.0023
06BE20030525,       AR04,      20,          1,          4,     -999.0,9,20030529,       0943,     0.3342,   -34.9993,       4601,  4104.8,   2.0958,  34.8730,2,-999.0000,9,    253.8,2,  -999.0,9,-999.000,9,-999.000,9,   1.7470
06BE20030525,       AR04,      20,          1,          3,     -999.0,9,20030529,       0943,     0.3342,   -34.9993,       4601,  4299.7,   1.3343,  34.7859,2,-999.0000,9,    233.9,2,   236.8,3,-999.000,9,-999.000,9,   0.9864
06BE20030525,       AR04,      20,          1,          2,     -999.0,9,20030529,       0943,     0.3342,   -34.9993,       4601,  4598.6,   1.0222,  34.7482,2,  34.7496,2,    223.6,2,  -999.0,9,-999.000,9,-999.000,9,   0.6504
06BE20030525,       AR04,      20,          1,          1,     -999.0,9,20030529,       0943,     0.3342,   -34.9993,       4601,  4598.9,   1.0222,  34.7482,2,-999.0000,9,    223.6,2,  -999.0,9,   0.050,2,   0.022,2,   0.6504
06BE20030525,       AR04,      21,          1,         21,     -999.0,9,20030529,       1416,     0.6673,   -35.0000,       4604,    12.7,  27.4239,  36.3874,2,  36.3334,2,    202.6,2,   202.5,3,   1.554,2,   0.994,2,  27.4209
06BE20030525,       AR04,      21,          1,         20,     -999.0,9,20030529,       1416,     0.6673,   -35.0000,       4604,   654.8,   6.1040,  34.5431,2,-999.0000,9,    140.8,2,  -999.0,9,   0.467,2,   0.241,2,   6.0455
06BE20030525,       AR04,      21,          1,         19,     -999.0,9,20030529,       1416,     0.6673,   -35.0000,       4604,   998.3,   4.5492,  34.6228,2,-999.0000,9,    156.7,2,   157.3,3,   0.048,2,   0.022,2,   4.4693
06BE20030525,       AR04,      21,          1,         17,     -999.0,9,20030529,       1416,     0.6673,   -35.0000,       4604,  1199.0,   4.6330,  34.7945,2,-999.0000,9,    176.2,2,  -999.0,9,   0.059,2,   0.028,2,   4.5341
06BE20030525,       AR04,      21,          1,         16,     -999.0,9,20030529,       1416,     0.6673,   -35.0000,       4604,  1405.7,   4.3791,  34.9604,2,-999.0000,9,    221.5,2,  -999.0,9,   0.175,2,   0.088,2,   4.2634
06BE20030525,       AR04,      21,          1,         15,     -999.0,9,20030529,       1416,     0.6673,   -35.0000,       4604,  1547.1,   4.1910,  34.9717,2,-999.0000,9,    234.2,2,  -999.0,9,   0.162,2,   0.083,2,   4.0642
06BE20030525,       AR04,      21,          1,         14,     -999.0,9,20030529,       1416,     0.6673,   -35.0000,       4604,  1689.3,   4.0299,  34.9811,2,  34.9815,2,    244.3,2,  -999.0,9,   0.243,2,   0.122,2,   3.8918
06BE20030525,       AR04,      21,          1,         13,     -999.0,9,20030529,       1416,     0.6673,   -35.0000,       4604,  1905.0,   3.8160,  34.9836,2,-999.0000,9,    256.0,2,   255.2,3,   0.377,2,   0.190,2,   3.6603
06BE20030525,       AR04,      21,          1,         12,     -999.0,9,20030529,       1416,     0.6673,   -35.0000,       4604,  2055.6,   3.6467,  34.9788,2,-999.0000,9,    258.5,2,  -999.0,9,   0.372,2,   0.188,2,   3.4790
06BE20030525,       AR04,      21,          1,         11,     -999.0,9,20030529,       1416,     0.6673,   -35.0000,       4604,  2247.0,   3.3089,  34.9630,2,-999.0000,9,    256.3,2,  -999.0,9,   0.135,2,   0.068,2,   3.1281
06BE20030525,       AR04,      21,          1,         10,     -999.0,9,20030529,       1416,     0.6673,   -35.0000,       4604,  2496.5,   3.0689,  34.9502,2,  34.9504,2,    258.1,2,  -999.0,9,   0.114,2,   0.057,2,   2.8680
06BE20030525,       AR04,      21,          1,          9,     -999.0,9,20030529,       1416,     0.6673,   -35.0000,       4604,  2887.3,   2.7890,  34.9297,2,-999.0000,9,    254.0,2,   252.8,3,   0.060,2,   0.029,2,   2.5544
06BE20030525,       AR04,      21,          1,          8,     -999.0,9,20030529,       1416,     0.6673,   -35.0000,       4604,  3390.9,   2.5313,  34.9130,2,-999.0000,9,    256.0,2,  -999.0,9,   0.092,2,   0.045,2,   2.2498
06BE20030525,       AR04,      21,          1,          7,     -999.0,9,20030529,       1416,     0.6673,   -35.0000,       4604,  3598.3,   2.4450,  34.9089,2,  34.9075,2,    260.7,2,  -999.0,9,   0.172,2,   0.087,2,   2.1432
06BE20030525,       AR04,      21,          1,          6,     -999.0,9,20030529,       1416,     0.6673,   -35.0000,       4604,  3797.0,   2.3405,  34.9011,2,-999.0000,9,    259.7,2,   260.3,3,   0.184,2,   0.093,2,   2.0195
06BE20030525,       AR04,      21,          1,          5,     -999.0,9,20030529,       1416,     0.6673,   -35.0000,       4604,  3995.2,   2.2883,  34.8947,2,-999.0000,9,    259.6,2,  -999.0,9,   0.186,2,   0.094,2,   1.9465
06BE20030525,       AR04,      21,          1,          4,     -999.0,9,20030529,       1416,     0.6673,   -35.0000,       4604,  4197.1,   1.6430,  34.8226,2,-999.0000,9,    245.1,2,  -999.0,9,-999.000,9,-999.000,9,   1.2972
06BE20030525,       AR04,      21,          1,          3,     -999.0,9,20030529,       1416,     0.6673,   -35.0000,       4604,  4398.4,   1.1189,  34.7620,2,-999.0000,9,    229.3,2,  -999.0,9,   0.051,2,   0.024,2,   0.7666
06BE20030525,       AR04,      21,          1,          1,     -999.0,9,20030529,       1416,     0.6673,   -35.0000,       4604,  4602.5,   1.0332,  34.7495,2,-999.0000,9,    225.1,2,  -999.0,9,   0.048,2,   0.023,2,   0.6606
06BE20030525,       AR04,      21,          1,          2,     -999.0,9,20030529,       1416,     0.6673,   -35.0000,       4604,  4603.6,   1.0332,  34.7496,2,  34.7488,2,    225.1,2,  -999.0,9,-999.000,9,-999.000,9,   0.6605
06BE20030525,       AR04,      22,          1,         21,     -999.0,9,20030529,       1845,     1.0002,   -35.0005,       3628,    11.9,  27.6632,  36.3164,2,-999.0000,9,    201.3,2,   201.5,3,   1.554,2,   0.995,2,  27.6604
06BE20030525,       AR04,      22,          1,         20,     -999.0,9,20030529,       1845,     1.0002,   -35.0005,       3628,   198.6,  13.1271,  35.2883,2,  35.2798,2,    163.9,2,  -999.0,9,-999.000,9,-999.000,9,  13.0995
06BE20030525,       AR04,      22,          1,         19,     -999.0,9,20030529,       1845,     1.0002,   -35.0005,       3628,   482.9,   7.4024,  34.6502,2,-999.0000,9,    129.3,2,   128.1,3,   0.661,2,   0.344,2,   7.3550
06BE20030525,       AR04,      22,          1,         18,     -999.0,9,20030529,       1845,     1.0002,   -35.0005,       3628,   503.9,   7.3106,  34.6428,2,-999.0000,9,    129.0,2,  -999.0,9,-999.000,9,-999.000,9,   7.2614
06BE20030525,       AR04,      22,          1,         17,     -999.0,9,20030529,       1845,     1.0002,   -35.0005,       3628,   691.3,   5.7136,  34.5247,2,-999.0000,9,    142.0,2,  -999.0,9,-999.000,9,-999.000,9,   5.6537
06BE20030525,       AR04,      22,          1,         16,     -999.0,9,20030529,       1845,     1.0002,   -35.0005,       3628,   891.3,   4.5963,  34.5988,2,  34.5901,2,    154.1,2,  -999.0,9,-999.000,9,-999.000,9,   4.5254
06BE20030525,       AR04,      22,          1,         15,     -999.0,9,20030529,       1845,     1.0002,   -35.0005,       3628,  1091.9,   4.5495,  34.7193,2,-999.0000,9,    164.8,2,  -999.0,9,   0.033,2,   0.015,2,   4.4611
06BE20030525,       AR04,      22,          1,         14,     -999.0,9,20030529,       1845,     1.0002,   -35.0005,       3628,  1270.2,   4.6413,  34.9172,2,-999.0000,9,    199.5,2,  -999.0,9,   0.139,2,   0.070,2,   4.5356
06BE20030525,       AR04,      22,          1,         13,     -999.0,9,20030529,       1845,     1.0002,   -35.0005,       3628,  1500.6,   4.2324,  34.9759,2,  34.9734,3,    234.7,2,  -999.0,9,   0.231,2,   0.113,2,   4.1095
06BE20030525,       AR04,      22,          1,         12,     -999.0,9,20030529,       1845,     1.0002,   -35.0005,       3628,  1622.0,   4.0704,  34.9813,2,-999.0000,9,    243.3,2,   241.6,3,   0.217,2,   0.110,2,   3.9381
06BE20030525,       AR04,      22,          1,         11,     -999.0,9,20030529,       1845,     1.0002,   -35.0005,       3628,  1768.1,   3.9851,  34.9845,2,-999.0000,9,    249.1,2,  -999.0,9,   0.279,2,   0.139,2,   3.8401
06BE20030525,       AR04,      22,          1,         10,     -999.0,9,20030529,       1845,     1.0002,   -35.0005,       3628,  1986.1,   3.6829,  34.9793,2,-999.0000,9,    256.9,2,  -999.0,9,   0.291,2,   0.144,2,   3.5213
06BE20030525,       AR04,      22,          1,          9,     -999.0,9,20030529,       1845,     1.0002,   -35.0005,       3628,  2185.6,   3.3447,  34.9655,2,-999.0000,9,    258.2,2,   259.9,3,   0.164,2,   0.083,2,   3.1693
06BE20030525,       AR04,      22,          1,          8,     -999.0,9,20030529,       1845,     1.0002,   -35.0005,       3628,  2398.5,   3.1809,  34.9574,2,-999.0000,9,    258.5,2,  -999.0,9,-999.000,9,-999.000,9,   2.9876
06BE20030525,       AR04,      22,          1,          7,     -999.0,9,20030529,       1845,     1.0002,   -35.0005,       3628,  2600.0,   3.0003,  34.9464,2,-999.0000,9,    256.9,2,  -999.0,9,   0.105,2,   0.051,2,   2.7904
06BE20030525,       AR04,      22,          1,          6,     -999.0,9,20030529,       1845,     1.0002,   -35.0005,       3628,  2804.1,   2.8218,  34.9339,2,  34.9325,2,    256.3,2,   256.4,3,-999.000,9,-999.000,9,   2.5950
06BE20030525,       AR04,      22,          1,          5,     -999.0,9,20030529,       1845,     1.0002,   -35.0005,       3628,  3096.7,   2.6312,  34.9189,2,-999.0000,9,    253.9,2,  -999.0,9,-999.000,9,-999.000,9,   2.3785
06BE20030525,       AR04,      22,          1,          4,     -999.0,9,20030529,       1845,     1.0002,   -35.0005,       3628,  3288.0,   2.5662,  34.9163,2,-999.0000,9,    255.9,2,  -999.0,9,   0.092,2,   0.045,2,   2.2949
06BE20030525,       AR04,      22,          1,          3,     -999.0,9,20030529,       1845,     1.0002,   -35.0005,       3628,  3496.9,   2.4620,  34.9100,2,-999.0000,9,    258.9,2,  -999.0,9,-999.000,9,-999.000,9,   2.1708
06BE20030525,       AR04,      22,          1,          2,     -999.0,9,20030529,       1845,     1.0002,   -35.0005,       3628,  3626.1,   2.4458,  34.9074,2,  34.9091,2,    258.5,2,   259.0,3,-999.000,9,-999.000,9,   2.1409
06BE20030525,       AR04,      22,          1,          1,     -999.0,9,20030529,       1845,     1.0002,   -35.0005,       3628,  3626.9,   2.4459,  34.9081,2,-999.0000,9,    258.5,2,  -999.0,9,   0.127,2,   0.065,2,   2.1409
06BE20030525,       AR04,      23,          1,         21,     -999.0,9,20030529,       2230,     1.3338,   -34.9997,       4111,    63.2,  24.5086,  36.6379,2,  36.6088,2,    202.8,2,   198.9,3,   1.764,2,   1.085,2,  24.4950
06BE20030525,       AR04,      23,          1,         20,     -999.0,9,20030529,       2230,     1.3338,   -34.9997,       4111,   413.0,   8.2047,  34.7264,2,  34.7270,2,    144.1,2,   135.4,3,-999.000,9,-999.000,9,   8.1618
06BE20030525,       AR04,      23,          1,         19,     -999.0,9,20030529,       2230,     1.3338,   -34.9997,       4111,   599.4,   6.3988,  34.5683,2,-999.0000,9,    135.1,2,  -999.0,9,   0.971,2,   0.502,2,   6.3441
06BE20030525,       AR04,      23,          1,         17,     -999.0,9,20030529,       2230,     1.3338,   -34.9997,       4111,   793.8,   5.0850,  34.5229,2,-999.0000,9,    148.7,2,  -999.0,9,   0.212,2,   0.106,2,   5.0195
06BE20030525,       AR04,      23,          1,         16,     -999.0,9,20030529,       2230,     1.3338,   -34.9997,       4111,  1199.9,   4.6199,  34.7751,2,-999.0000,9,    172.7,2,  -999.0,9,-999.000,9,-999.000,9,   4.5211
06BE20030525,       AR04,      23,          1,         15,     -999.0,9,20030529,       2230,     1.3338,   -34.9997,       4111,  1208.1,   4.6540,  34.7936,2,-999.0000,9,    173.3,2,  -999.0,9,   0.061,2,   0.029,2,   4.5541
06BE20030525,       AR04,      23,          1,         14,     -999.0,9,20030529,       2230,     1.3338,   -34.9997,       4111,  1398.9,   4.3756,  34.9636,2,-999.0000,9,    224.8,2,  -999.0,9,   0.193,2,   0.098,2,   4.2606
06BE20030525,       AR04,      23,          1,         13,     -999.0,9,20030529,       2230,     1.3338,   -34.9997,       4111,  1560.9,   4.1388,  34.9775,2,-999.0000,9,    239.2,2,  -999.0,9,   0.176,2,   0.090,2,   4.0114
06BE20030525,       AR04,      23,          1,         12,     -999.0,9,20030529,       2230,     1.3338,   -34.9997,       4111,  1709.2,   4.0496,  34.9802,2,-999.0000,9,    243.4,2,  -999.0,9,   0.203,2,   0.100,2,   3.9093
06BE20030525,       AR04,      23,          1,         11,     -999.0,9,20030529,       2230,     1.3338,   -34.9997,       4111,  1912.3,   3.8022,  34.9818,2,-999.0000,9,    253.1,2,   251.6,3,   0.211,2,   0.107,2,   3.6460
06BE20030525,       AR04,      23,          1,         10,     -999.0,9,20030529,       2230,     1.3338,   -34.9997,       4111,  2097.8,   3.4806,  34.9709,2,  34.9728,2,    257.1,2,  -999.0,9,   0.206,2,   0.100,2,   3.3114
06BE20030525,       AR04,      23,          1,          9,     -999.0,9,20030529,       2230,     1.3338,   -34.9997,       4111,  2297.0,   3.2378,  34.9594,2,-999.0000,9,    257.4,2,  -999.0,9,   0.128,2,   0.066,2,   3.0534
06BE20030525,       AR04,      23,          1,          8,     -999.0,9,20030529,       2230,     1.3338,   -34.9997,       4111,  2697.9,   2.9144,  34.9395,2,-999.0000,9,    256.2,2,  -999.0,9,   0.065,2,   0.033,2,   2.6964
06BE20030525,       AR04,      23,          1,          7,     -999.0,9,20030529,       2230,     1.3338,   -34.9997,       4111,  3019.4,   2.6860,  34.9224,2,-999.0000,9,    254.0,2,  -999.0,9,-999.000,9,-999.000,9,   2.4401
06BE20030525,       AR04,      23,          1,          6,     -999.0,9,20030529,       2230,     1.3338,   -34.9997,       4111,  3399.5,   2.5506,  34.9154,2,  34.9128,2,    258.9,2,  -999.0,9,   0.091,2,   0.046,2,   2.2677
06BE20030525,       AR04,      23,          1,          5,     -999.0,9,20030529,       2230,     1.3338,   -34.9997,       4111,  3599.3,   2.4072,  34.9037,2,-999.0000,9,    257.6,2,  -999.0,9,-999.000,9,-999.000,9,   2.1063
06BE20030525,       AR04,      23,          1,          4,     -999.0,9,20030529,       2230,     1.3338,   -34.9997,       4111,  3804.0,   2.3590,  34.8999,2,-999.0000,9,    258.9,2,   259.6,3,   0.116,2,   0.061,2,   2.0367
06BE20030525,       AR04,      23,          1,          3,     -999.0,9,20030529,       2230,     1.3338,   -34.9997,       4111,  3984.4,   2.2704,  34.8903,2,-999.0000,9,    256.9,2,  -999.0,9,-999.000,9,-999.000,9,   1.9303
06BE20030525,       AR04,      23,          1,          2,     -999.0,9,20030529,       2230,     1.3338,   -34.9997,       4111,  4109.5,   2.2009,  34.8809,2,  34.8810,2,    254.3,2,   252.1,3,-999.000,9,-999.000,9,   1.8486
06BE20030525,       AR04,      23,          1,          1,     -999.0,9,20030529,       2230,     1.3338,   -34.9997,       4111,  4110.2,   2.2013,  34.8817,2,-999.0000,9,    254.3,2,  -999.0,9,   0.137,2,   0.071,2,   1.8489