BOTTLE,20211129CCHSIORKP
EXPOCODE,SECT_ID,STNNBR,CASTNO,SAMPNO,BTLNBR,BTLNBR_FLAG_W,DATE,TIME,LATITUDE,LONGITUDE,DEPTH,CTDPRS,CTDTMP,CTDSAL,CTDSAL_FLAG_W,SALNTY,SALNTY_FLAG_W,CTDOXY,CTDOXY_FLAG_W,OXYGEN,OXYGEN_FLAG_W,CFC-11,CFC-11_FLAG_W,CFC-12,CFC-12_FLAG_W,THETA
,,,,,,,,,,,METERS,DBAR,ITS-90,PSS-78,,PSS-78,,UMOL/KG,,UMOL/KG,,PMOL/KG,,PMOL/KG,,DEG C
06BE20030525,       AR04,      43,          1,         22,     -999.0,9,20030607,       1401,    15.9330,   -57.1678,       5260,    29.1,  27.5084,  35.0059,2,  35.3137,3,    206.4,2,   198.9,3,   1.505,2,   0.979,2,  27.5016
06BE20030525,       AR04,      43,          1,         21,     -999.0,9,20030607,       1401,    15.9330,   -57.1678,       5260,   608.4,   8.3499,  34.9668,2,-999.0000,9,    126.4,2,  -999.0,9,   0.479,2,   0.253,2,   8.2851
06BE20030525,       AR04,      43,          1,         20,     -999.0,9,20030607,       1401,    15.9330,   -57.1678,       5260,  1108.2,   5.3896,  34.8978,2,-999.0000,9,    168.2,2,  -999.0,9,   0.135,2,   0.070,2,   5.2924
06BE20030525,       AR04,      43,          1,         19,     -999.0,9,20030607,       1401,    15.9330,   -57.1678,       5260,  1312.4,   4.9831,  35.0058,2,-999.0000,9,    215.3,2,  -999.0,9,   0.377,2,   0.196,2,   4.8699
06BE20030525,       AR04,      43,          1,         18,     -999.0,9,20030607,       1401,    15.9330,   -57.1678,       5260,  1500.0,   4.5414,  35.0127,2,-999.0000,9,    239.7,2,  -999.0,9,-999.000,9,-999.000,9,   4.4150
06BE20030525,       AR04,      43,          1,         17,     -999.0,9,20030607,       1401,    15.9330,   -57.1678,       5260,  1522.5,   4.4900,  35.0111,2,-999.0000,9,    242.1,2,  -999.0,9,   0.569,2,   0.289,2,   4.3620
06BE20030525,       AR04,      43,          1,         16,     -999.0,9,20030607,       1401,    15.9330,   -57.1678,       5260,  1668.1,   4.1449,  34.9985,2,-999.0000,9,    256.1,2,  -999.0,9,   0.672,2,   0.626,4,   4.0073
06BE20030525,       AR04,      43,          1,         15,     -999.0,9,20030607,       1401,    15.9330,   -57.1678,       5260,  1812.6,   3.9207,  34.9894,2,-999.0000,9,    259.7,2,  -999.0,9,   0.541,2,   0.275,2,   3.7723
06BE20030525,       AR04,      43,          1,         14,     -999.0,9,20030607,       1401,    15.9330,   -57.1678,       5260,  1976.3,   3.7230,  34.9842,2,-999.0000,9,    261.6,2,  -999.0,9,   0.385,2,   0.206,2,   3.5618
06BE20030525,       AR04,      43,          1,         13,     -999.0,9,20030607,       1401,    15.9330,   -57.1678,       5260,  2176.8,   3.5030,  34.9757,2,-999.0000,9,    262.3,2,   260.3,3,   0.297,2,   0.159,2,   3.3258
06BE20030525,       AR04,      43,          1,         12,     -999.0,9,20030607,       1401,    15.9330,   -57.1678,       5260,  2503.4,   3.1686,  34.9593,2,  34.9581,2,    261.4,2,  -999.0,9,   0.203,2,   0.116,2,   2.9651
06BE20030525,       AR04,      43,          1,         11,     -999.0,9,20030607,       1401,    15.9330,   -57.1678,       5260,  2698.2,   2.9723,  34.9470,2,-999.0000,9,    262.9,2,  -999.0,9,   0.251,2,   0.149,2,   2.7531
06BE20030525,       AR04,      43,          1,         10,     -999.0,9,20030607,       1401,    15.9330,   -57.1678,       5260,  3196.6,   2.6396,  34.9251,2,-999.0000,9,    263.2,2,  -999.0,9,   0.219,2,   0.110,2,   2.3762
06BE20030525,       AR04,      43,          1,          9,     -999.0,9,20030607,       1401,    15.9330,   -57.1678,       5260,  3479.8,   2.4686,  34.9133,2,-999.0000,9,    266.1,2,   266.6,3,   0.329,2,   0.163,2,   2.1791
06BE20030525,       AR04,      43,          1,          8,     -999.0,9,20030607,       1401,    15.9330,   -57.1678,       5260,  3698.5,   2.3669,  34.9061,2,  34.9050,2,    266.9,2,  -999.0,9,   0.348,2,   0.174,2,   2.0561
06BE20030525,       AR04,      43,          1,          7,     -999.0,9,20030607,       1401,    15.9330,   -57.1678,       5260,  3998.9,   2.3011,  34.8995,2,-999.0000,9,    266.5,2,  -999.0,9,   0.320,2,   0.165,2,   1.9585
06BE20030525,       AR04,      43,          1,          6,     -999.0,9,20030607,       1401,    15.9330,   -57.1678,       5260,  4297.9,   2.2584,  34.8929,2,-999.0000,9,    265.2,2,  -999.0,9,-999.000,9,-999.000,9,   1.8825
06BE20030525,       AR04,      43,          1,          5,     -999.0,9,20030607,       1401,    15.9330,   -57.1678,       5260,  4597.4,   2.1907,  34.8809,2,-999.0000,9,    259.8,2,   259.0,3,   0.164,2,   0.087,2,   1.7812
06BE20030525,       AR04,      43,          1,          4,     -999.0,9,20030607,       1401,    15.9330,   -57.1678,       5260,  4897.9,   2.0457,  34.8598,2,-999.0000,9,    253.7,2,  -999.0,9,-999.000,9,-999.000,9,   1.6044
06BE20030525,       AR04,      43,          1,          1,     -999.0,9,20030607,       1401,    15.9330,   -57.1678,       5260,  5258.6,   1.8814,  34.8338,2,-999.0000,9,    246.8,2,  -999.0,9,   0.076,2,   0.042,2,   1.4007
06BE20030525,       AR04,      43,          1,          3,     -999.0,9,20030607,       1401,    15.9330,   -57.1678,       5260,  5258.7,   1.8814,  34.8344,2,-999.0000,9,    246.8,2,  -999.0,9,-999.000,9,-999.000,9,   1.4006
06BE20030525,       AR04,      43,          1,          2,     -999.0,9,20030607,       1401,    15.9330,   -57.1678,       5260,  5259.0,   1.8815,  34.8344,2,  34.8340,2,    246.8,2,  -999.0,9,-999.000,9,-999.000,9,   1.4007
06BE20030525,       AR04,      44,          1,         22,     -999.0,9,20030607,       2042,    16.0003,   -57.6675,       5500,    11.3,  27.5659,  34.8745,2,-999.0000,9,    210.3,2,   207.2,3,   1.524,2,   0.995,2,  27.5633
06BE20030525,       AR04,      44,          1,         21,     -999.0,9,20030607,       2042,    16.0003,   -57.6675,       5500,   191.8,  19.6418,  36.7502,2,  36.7443,2,    190.5,2,   186.4,3,   2.060,2,   1.259,2,  19.6064
06BE20030525,       AR04,      44,          1,         20,     -999.0,9,20030607,       2042,    16.0003,   -57.6675,       5500,   952.1,   5.6964,  34.7870,2,-999.0000,9,    144.0,2,  -999.0,9,   0.082,2,   0.043,2,   5.6119
06BE20030525,       AR04,      44,          1,         19,     -999.0,9,20030607,       2042,    16.0003,   -57.6675,       5500,  1243.8,   5.1318,  34.9728,2,  34.9793,2,    198.2,2,  -999.0,9,   0.258,2,   0.130,2,   5.0238
06BE20030525,       AR04,      44,          1,         18,     -999.0,9,20030607,       2042,    16.0003,   -57.6675,       5500,  1451.3,   4.7284,  35.0142,2,-999.0000,9,    231.7,2,  -999.0,9,-999.000,9,-999.000,9,   4.6046
06BE20030525,       AR04,      44,          1,         17,     -999.0,9,20030607,       2042,    16.0003,   -57.6675,       5500,  1454.6,   4.7209,  35.0138,2,-999.0000,9,    232.1,2,  -999.0,9,   0.546,2,   0.276,2,   4.5968
06BE20030525,       AR04,      44,          1,         16,     -999.0,9,20030607,       2042,    16.0003,   -57.6675,       5500,  1617.8,   4.3525,  35.0077,2,-999.0000,9,    248.8,2,  -999.0,9,-999.000,9,-999.000,9,   4.2171
06BE20030525,       AR04,      44,          1,         15,     -999.0,9,20030607,       2042,    16.0003,   -57.6675,       5500,  1763.7,   4.0581,  34.9935,2,-999.0000,9,    259.3,2,  -999.0,9,   0.713,2,   0.358,2,   3.9125
06BE20030525,       AR04,      44,          1,         14,     -999.0,9,20030607,       2042,    16.0003,   -57.6675,       5500,  1870.2,   3.9128,  34.9871,2,-999.0000,9,    262.3,2,  -999.0,9,   0.708,2,   0.355,2,   3.7590
06BE20030525,       AR04,      44,          1,         13,     -999.0,9,20030607,       2042,    16.0003,   -57.6675,       5500,  1997.9,   3.7263,  34.9793,2,  34.9784,2,    265.0,2,  -999.0,9,   0.651,2,   0.325,2,   3.5630
06BE20030525,       AR04,      44,          1,         12,     -999.0,9,20030607,       2042,    16.0003,   -57.6675,       5500,  2256.2,   3.4220,  34.9723,2,-999.0000,9,    264.3,2,  -999.0,9,   0.363,2,   0.181,2,   3.2384
06BE20030525,       AR04,      44,          1,         11,     -999.0,9,20030607,       2042,    16.0003,   -57.6675,       5500,  2505.4,   3.1259,  34.9570,2,-999.0000,9,    264.4,2,  -999.0,9,   0.278,2,   0.138,2,   2.9230
06BE20030525,       AR04,      44,          1,         10,     -999.0,9,20030607,       2042,    16.0003,   -57.6675,       5500,  3003.5,   2.7020,  34.9298,2,-999.0000,9,    264.2,2,  -999.0,9,   0.278,2,   0.138,2,   2.4573
06BE20030525,       AR04,      44,          1,          9,     -999.0,9,20030607,       2042,    16.0003,   -57.6675,       5500,  3400.9,   2.4646,  34.9135,2,-999.0000,9,    267.3,2,  -999.0,9,   0.346,2,   0.170,2,   2.1837
06BE20030525,       AR04,      44,          1,          8,     -999.0,9,20030607,       2042,    16.0003,   -57.6675,       5500,  3597.5,   2.3792,  34.9074,2,-999.0000,9,    267.9,2,  -999.0,9,   0.361,2,   0.180,2,   2.0792
06BE20030525,       AR04,      44,          1,          7,     -999.0,9,20030607,       2042,    16.0003,   -57.6675,       5500,  3899.5,   2.3071,  34.9012,2,  34.9008,2,    267.7,2,   265.8,3,   0.355,2,   0.178,2,   1.9755
06BE20030525,       AR04,      44,          1,          6,     -999.0,9,20030607,       2042,    16.0003,   -57.6675,       5500,  4197.6,   2.2666,  34.8955,2,-999.0000,9,    266.7,2,  -999.0,9,   0.324,2,   0.166,2,   1.9021
06BE20030525,       AR04,      44,          1,          5,     -999.0,9,20030607,       2042,    16.0003,   -57.6675,       5500,  4698.4,   2.1515,  34.8756,2,-999.0000,9,    260.1,2,  -999.0,9,   0.158,2,   0.087,2,   1.7311
06BE20030525,       AR04,      44,          1,          4,     -999.0,9,20030607,       2042,    16.0003,   -57.6675,       5500,  5192.3,   1.9444,  34.8427,2,-999.0000,9,    250.9,2,  -999.0,9,   0.075,2,   0.041,2,   1.4698
06BE20030525,       AR04,      44,          1,          3,     -999.0,9,20030607,       2042,    16.0003,   -57.6675,       5500,  5497.1,   1.8685,  34.8285,2,-999.0000,9,    246.3,2,  -999.0,9,-999.000,9,-999.000,9,   1.3577
06BE20030525,       AR04,      44,          1,          2,     -999.0,9,20030607,       2042,    16.0003,   -57.6675,       5500,  5498.8,   1.8683,  34.8290,2,  34.8279,2,    246.2,2,   243.0,3,-999.000,9,-999.000,9,   1.3572
06BE20030525,       AR04,      44,          1,          1,     -999.0,9,20030607,       2042,    16.0003,   -57.6675,       5500,  5499.1,   1.8688,  34.8282,2,-999.0000,9,    246.2,2,  -999.0,9,   0.073,2,   0.038,2,   1.3577
06BE20030525,       AR04,      45,          1,         22,     -999.0,9,20030608,       0315,    16.0673,   -58.1683,       5476,    24.4,  27.4771,  35.3937,2,  35.0795,3,    205.4,2,   288.6,4,   1.521,2,   0.993,2,  27.4714
06BE20030525,       AR04,      45,          1,         21,     -999.0,9,20030608,       0315,    16.0673,   -58.1683,       5476,   787.8,   6.6221,  34.6953,2,-999.0000,9,    128.1,2,  -999.0,9,   0.264,2,   0.138,2,   6.5478
06BE20030525,       AR04,      45,          1,         20,     -999.0,9,20030608,       0315,    16.0673,   -58.1683,       5476,  1100.0,   5.6838,  34.9215,2,-999.0000,9,    170.0,2,  -999.0,9,   0.185,2,   0.095,2,   5.5850
06BE20030525,       AR04,      45,          1,         19,     -999.0,9,20030608,       0315,    16.0673,   -58.1683,       5476,  1342.1,   5.0020,  35.0212,2,-999.0000,9,    223.5,2,  -999.0,9,   0.484,2,   0.245,2,   4.8858
06BE20030525,       AR04,      45,          1,         18,     -999.0,9,20030608,       0315,    16.0673,   -58.1683,       5476,  1502.9,   4.5108,  35.0144,2,-999.0000,9,    245.6,2,  -999.0,9,-999.000,9,-999.000,9,   4.3844
06BE20030525,       AR04,      45,          1,         17,     -999.0,9,20030608,       0315,    16.0673,   -58.1683,       5476,  1518.4,   4.4557,  35.0113,2,-999.0000,9,    247.1,2,  -999.0,9,-999.000,9,-999.000,9,   4.3285
06BE20030525,       AR04,      45,          1,         16,     -999.0,9,20030608,       0315,    16.0673,   -58.1683,       5476,  1539.4,   4.4224,  35.0102,2,  35.0116,2,    248.8,2,  -999.0,9,   0.707,6,   0.356,6,   4.2936
06BE20030525,       AR04,      45,          1,         15,     -999.0,9,20030608,       0315,    16.0673,   -58.1683,       5476,  1698.2,   4.0668,  34.9939,2,-999.0000,9,    261.0,2,  -999.0,9,   0.739,2,   0.366,2,   3.9273
06BE20030525,       AR04,      45,          1,         14,     -999.0,9,20030608,       0315,    16.0673,   -58.1683,       5476,  1899.5,   3.7559,  34.9809,2,-999.0000,9,    266.7,2,  -999.0,9,   0.674,2,   0.338,2,   3.6016
06BE20030525,       AR04,      45,          1,         13,     -999.0,9,20030608,       0315,    16.0673,   -58.1683,       5476,  2093.1,   3.5137,  34.9735,2,-999.0000,9,    265.8,2,   260.7,3,   0.502,2,   0.248,2,   3.3445
06BE20030525,       AR04,      45,          1,         12,     -999.0,9,20030608,       0315,    16.0673,   -58.1683,       5476,  2393.7,   3.1945,  34.9620,2,-999.0000,9,    265.3,2,  -999.0,9,   0.260,2,   0.127,2,   3.0014
06BE20030525,       AR04,      45,          1,         11,     -999.0,9,20030608,       0315,    16.0673,   -58.1683,       5476,  2801.7,   2.8149,  34.9383,2,-999.0000,9,    266.5,2,  -999.0,9,   0.275,2,   0.134,2,   2.5884
06BE20030525,       AR04,      45,          1,         10,     -999.0,9,20030608,       0315,    16.0673,   -58.1683,       5476,  3209.9,   2.5605,  34.9205,2,  34.9195,2,    268.2,2,  -999.0,9,   0.306,2,   0.151,2,   2.2975
06BE20030525,       AR04,      45,          1,          9,     -999.0,9,20030608,       0315,    16.0673,   -58.1683,       5476,  3506.5,   2.4149,  34.9107,2,-999.0000,9,    270.0,2,  -999.0,9,   0.424,2,   0.211,2,   2.1238
06BE20030525,       AR04,      45,          1,          8,     -999.0,9,20030608,       0315,    16.0673,   -58.1683,       5476,  3802.6,   2.3273,  34.9035,2,-999.0000,9,    269.8,2,  -999.0,9,   0.364,2,   0.182,2,   2.0060
06BE20030525,       AR04,      45,          1,          7,     -999.0,9,20030608,       0315,    16.0673,   -58.1683,       5476,  4098.0,   2.2817,  34.8975,2,-999.0000,9,    269.2,2,  -999.0,9,   0.337,2,   0.172,2,   1.9283
06BE20030525,       AR04,      45,          1,          6,     -999.0,9,20030608,       0315,    16.0673,   -58.1683,       5476,  4497.4,   2.2264,  34.8878,2,-999.0000,9,    266.1,2,   261.4,3,   0.236,2,   0.123,2,   1.8278
06BE20030525,       AR04,      45,          1,          5,     -999.0,9,20030608,       0315,    16.0673,   -58.1683,       5476,  4898.0,   2.0273,  34.8575,2,-999.0000,9,    256.7,2,  -999.0,9,   1.981,4,   1.191,4,   1.5866
06BE20030525,       AR04,      45,          1,          4,     -999.0,9,20030608,       0315,    16.0673,   -58.1683,       5476,  5299.0,   1.8972,  34.8355,2,  36.5190,3,    250.8,2,  -999.0,9,-999.000,9,-999.000,9,   1.4108
06BE20030525,       AR04,      45,          1,          3,     -999.0,9,20030608,       0315,    16.0673,   -58.1683,       5476,  5393.3,   1.8859,  34.8328,2,-999.0000,9,    249.7,2,  -999.0,9,-999.000,9,-999.000,9,   1.3878
06BE20030525,       AR04,      45,          1,          1,     -999.0,9,20030608,       0315,    16.0673,   -58.1683,       5476,  5473.4,   1.8877,  34.8315,2,-999.0000,9,    248.9,2,  -999.0,9,   0.074,2,   0.040,2,   1.3792
06BE20030525,       AR04,      45,          1,          2,     -999.0,9,20030608,       0315,    16.0673,   -58.1683,       5476,  5474.5,   1.8877,  34.8314,2,  34.8306,2,    248.9,2,   242.7,3,-999.000,9,-999.000,9,   1.3791