BOTTLE,20211129CCHSIORKP
# Original header:
# Changed all fill flags to 9
# 8/3/2012 Initialized README file  
# Data source: CCHDO 7/5/2011 
# SHIP: Sonne 
# Cruise: S-171; AR04 
# Region: Western Atlantic off Brazil 
# EXPOCODE: 06BE20030525 
# DATES: 5/25 - 6/13/2003 
# Chief Scientist: M. Rhein 
# 58 stations with 24 place Rosette 
# Hydro: Who - R.Steinfeldt; Status - final 
# 	Notes: 	 
# O2: Who - ; Status - 
# 	Notes:Bottle values all flagged 3 or worse due to flask pr5oblems. Regardless the bottle oxygen were assumed to have random error and were used to calibrate the CTDOXY values. The uncertainlty on this calibration (+/- 3umol/kg)  is larger than the accepted WOCE quality 
# CFC: Who - R.Steinfeldt; Status - final 
# 	Notes:  
# References: 
# Steinfeldt, R., M. Rhein, and M. Walter (2007), NADW transformation at the western boundary between 66W/20N and 60W/10N, Deep-Sea Res., 54, 835-855, doi:10.1016/j.dsr.2007.03.004. 
EXPOCODE,SECT_ID,STNNBR,CASTNO,SAMPNO,BTLNBR,BTLNBR_FLAG_W,DATE,TIME,LATITUDE,LONGITUDE,DEPTH,CTDPRS,CTDTMP,CTDSAL,CTDSAL_FLAG_W,SALNTY,SALNTY_FLAG_W,CTDOXY,CTDOXY_FLAG_W,OXYGEN,OXYGEN_FLAG_W,CFC-11,CFC-11_FLAG_W,CFC-12,CFC-12_FLAG_W,THETA
,,,,,,,,,,,METERS,DBAR,ITS-90,PSS-78,,PSS-78,,UMOL/KG,,UMOL/KG,,PMOL/KG,,PMOL/KG,,DEG C
06BE20030525,       AR04,       1,          1,         20,     -999.0,9,20030525,       1641,    -7.4800,   -34.3017,       2323,    14.5,  27.9854,  37.1587,2,-999.0000,9,    206.5,2,  -999.0,9,-999.000,9,-999.000,9,  27.9820
06BE20030525,       AR04,       1,          1,         21,     -999.0,9,20030525,       1641,    -7.4800,   -34.3017,       2323,    14.6,  27.9792,  37.1562,2,  37.1495,3,    206.5,2,  -999.0,9,-999.000,9,-999.000,9,  27.9757
06BE20030525,       AR04,       1,          1,         16,     -999.0,9,20030525,       1641,    -7.4800,   -34.3017,       2323,   190.5,  17.2337,  35.8341,2,-999.0000,9,    210.7,2,  -999.0,9,-999.000,9,-999.000,9,  17.2018
06BE20030525,       AR04,       1,          1,         17,     -999.0,9,20030525,       1641,    -7.4800,   -34.3017,       2323,   190.5,  17.2544,  35.8388,2,  35.8716,3,    210.7,2,  -999.0,9,-999.000,9,-999.000,9,  17.2225
06BE20030525,       AR04,       1,          1,         18,     -999.0,9,20030525,       1641,    -7.4800,   -34.3017,       2323,   190.5,  17.2337,  35.8341,2,-999.0000,9,    210.7,2,  -999.0,9,-999.000,9,-999.000,9,  17.2018
06BE20030525,       AR04,       1,          1,         19,     -999.0,9,20030525,       1641,    -7.4800,   -34.3017,       2323,   190.5,  17.2126,  35.8259,2,  35.8688,3,    210.7,2,  -999.0,9,-999.000,9,-999.000,9,  17.1807
06BE20030525,       AR04,       1,          1,         12,     -999.0,9,20030525,       1641,    -7.4800,   -34.3017,       2323,   692.5,   4.8584,  34.4100,2,-999.0000,9,    193.9,2,  -999.0,9,-999.000,9,-999.000,9,   4.8031
06BE20030525,       AR04,       1,          1,         13,     -999.0,9,20030525,       1641,    -7.4800,   -34.3017,       2323,   692.5,   4.8584,  34.4100,2,  34.4179,3,    193.9,2,  -999.0,9,-999.000,9,-999.000,9,   4.8031
06BE20030525,       AR04,       1,          1,         14,     -999.0,9,20030525,       1641,    -7.4800,   -34.3017,       2323,   692.5,   4.8584,  34.4100,2,-999.0000,9,    193.9,2,  -999.0,9,-999.000,9,-999.000,9,   4.8031
06BE20030525,       AR04,       1,          1,         15,     -999.0,9,20030525,       1641,    -7.4800,   -34.3017,       2323,   692.6,   4.8544,  34.4116,2,  34.4141,3,    193.9,2,  -999.0,9,-999.000,9,-999.000,9,   4.7991
06BE20030525,       AR04,       1,          1,          8,     -999.0,9,20030525,       1641,    -7.4800,   -34.3017,       2323,  1201.9,   4.2663,  34.7318,2,-999.0000,9,    189.4,2,  -999.0,9,-999.000,9,-999.000,9,   4.1706
06BE20030525,       AR04,       1,          1,         10,     -999.0,9,20030525,       1641,    -7.4800,   -34.3017,       2323,  1202.5,   4.2676,  34.7317,2,  34.7496,3,    189.4,2,  -999.0,9,-999.000,9,-999.000,9,   4.1719
06BE20030525,       AR04,       1,          1,         11,     -999.0,9,20030525,       1641,    -7.4800,   -34.3017,       2323,  1202.5,   4.2676,  34.7317,2,  34.7451,3,    189.4,2,  -999.0,9,-999.000,9,-999.000,9,   4.1719
06BE20030525,       AR04,       1,          1,          9,     -999.0,9,20030525,       1641,    -7.4800,   -34.3017,       2323,  1202.9,   4.2680,  34.7316,2,-999.0000,9,    189.4,2,  -999.0,9,-999.000,9,-999.000,9,   4.1722
06BE20030525,       AR04,       1,          1,          7,     -999.0,9,20030525,       1641,    -7.4800,   -34.3017,       2323,  1605.2,   4.1015,  34.9609,2,-999.0000,9,    246.9,2,  -999.0,9,-999.000,9,-999.000,9,   3.9704
06BE20030525,       AR04,       1,          1,          5,     -999.0,9,20030525,       1641,    -7.4800,   -34.3017,       2323,  1605.6,   4.0958,  34.9603,2,  34.9620,3,    246.9,2,  -999.0,9,-999.000,9,-999.000,9,   3.9647
06BE20030525,       AR04,       1,          1,          6,     -999.0,9,20030525,       1641,    -7.4800,   -34.3017,       2323,  1605.6,   4.0958,  34.9603,2,  34.9675,3,    246.9,2,  -999.0,9,-999.000,9,-999.000,9,   3.9647
06BE20030525,       AR04,       1,          1,          4,     -999.0,9,20030525,       1641,    -7.4800,   -34.3017,       2323,  1605.7,   4.0944,  34.9606,2,-999.0000,9,    246.9,2,  -999.0,9,-999.000,9,-999.000,9,   3.9634
06BE20030525,       AR04,       1,          1,          3,     -999.0,9,20030525,       1641,    -7.4800,   -34.3017,       2323,  1984.5,   3.3903,  34.9657,2,  34.9660,3,    269.3,2,  -999.0,9,-999.000,9,-999.000,9,   3.2333
06BE20030525,       AR04,       1,          1,          2,     -999.0,9,20030525,       1641,    -7.4800,   -34.3017,       2323,  1992.6,   3.3895,  34.9654,2,-999.0000,9,    269.2,2,  -999.0,9,-999.000,9,-999.000,9,   3.2317
06BE20030525,       AR04,       1,          1,          1,     -999.0,9,20030525,       1641,    -7.4800,   -34.3017,       2323,  1993.8,   3.3870,  34.9652,2,  34.9658,3,    269.2,2,  -999.0,9,-999.000,9,-999.000,9,   3.2291
06BE20030525,       AR04,       2,          1,          3,     -999.0,9,20030526,       0523,    -5.0785,   -34.9900,        540,    14.7,  28.2680,  36.6183,2,  36.6374,2,    204.5,2,  -999.0,9,-999.000,9,-999.000,9,  28.2645
06BE20030525,       AR04,       2,          1,          2,     -999.0,9,20030526,       0523,    -5.0785,   -34.9900,        540,   249.0,  13.4572,  35.2840,2,-999.0000,9,    212.2,2,  -999.0,9,-999.000,9,-999.000,9,  13.4220
06BE20030525,       AR04,       2,          1,          1,     -999.0,9,20030526,       0523,    -5.0785,   -34.9900,        540,   502.5,   5.8715,  34.4723,2,  34.4667,2,    190.9,2,  -999.0,9,-999.000,9,-999.000,9,   5.8281
06BE20030525,       AR04,       3,          1,          4,     -999.0,9,20030526,       0646,    -4.9347,   -34.9233,        719,    10.3,  28.4417,  35.9172,2,  35.8925,2,    203.0,2,   211.4,4,-999.000,9,-999.000,9,  28.4392
06BE20030525,       AR04,       3,          1,          3,     -999.0,9,20030526,       0646,    -4.9347,   -34.9233,        719,   113.1,  23.6625,  37.0658,2,-999.0000,9,    209.7,2,   200.3,4,-999.000,9,-999.000,9,  23.6387
06BE20030525,       AR04,       3,          1,          2,     -999.0,9,20030526,       0646,    -4.9347,   -34.9233,        719,   501.8,   6.3738,  34.5008,2,-999.0000,9,    188.9,2,   179.7,3,-999.000,9,-999.000,9,   6.3285
06BE20030525,       AR04,       3,          1,          1,     -999.0,9,20030526,       0646,    -4.9347,   -34.9233,        719,   717.5,   4.6877,  34.4001,2,  34.3961,2,    201.1,2,   204.6,3,-999.000,9,-999.000,9,   4.6312
06BE20030525,       AR04,       4,          1,          4,     -999.0,9,20030526,       0820,    -4.8102,   -34.8788,        980,     9.7,  28.5120,  35.7284,2,-999.0000,9,    201.8,2,   204.9,3,-999.000,9,-999.000,9,  28.5097
06BE20030525,       AR04,       4,          1,          3,     -999.0,9,20030526,       0820,    -4.8102,   -34.8788,        980,    99.4,  24.2164,  37.0892,2,  37.0984,2,    211.6,2,   202.7,4,-999.000,9,-999.000,9,  24.1952
06BE20030525,       AR04,       4,          1,          2,     -999.0,9,20030526,       0820,    -4.8102,   -34.8788,        980,   501.6,   6.8846,  34.5703,2,-999.0000,9,    141.2,2,   154.1,4,-999.000,9,-999.000,9,   6.8373
06BE20030525,       AR04,       4,          1,          1,     -999.0,9,20030526,       0820,    -4.8102,   -34.8788,        980,   751.5,   4.4579,  34.4077,2,  34.4043,2,    193.8,2,  -999.0,9,-999.000,9,-999.000,9,   4.3999
06BE20030525,       AR04,       5,          1,          3,     -999.0,9,20030526,       0954,    -4.6773,   -34.8773,       2426,    22.0,  28.5100,  35.6929,2,  35.6800,2,    203.4,2,   198.3,3,-999.000,9,-999.000,9,  28.5047
06BE20030525,       AR04,       5,          1,          2,     -999.0,9,20030526,       0954,    -4.6773,   -34.8773,       2426,   693.5,   4.5002,  34.4081,2,-999.0000,9,    194.7,2,  -999.0,9,-999.000,9,-999.000,9,   4.4467
06BE20030525,       AR04,       5,          1,          1,     -999.0,9,20030526,       0954,    -4.6773,   -34.8773,       2426,  2002.2,   3.4149,  34.9692,2,  34.9821,3,    265.2,2,  -999.0,9,-999.000,9,-999.000,9,   3.2558
06BE20030525,       AR04,       6,          1,          9,     -999.0,9,20030526,       1254,    -4.4432,   -34.8733,       3350,    33.0,  28.5528,  35.9479,2,-999.0000,9,    204.4,2,  -999.0,9,-999.000,9,-999.000,9,  28.5449
06BE20030525,       AR04,       6,          1,          8,     -999.0,9,20030526,       1254,    -4.4432,   -34.8733,       3350,   212.6,  13.5690,  35.2889,2,-999.0000,9,    186.5,2,   175.8,3,-999.000,9,-999.000,9,  13.5388
06BE20030525,       AR04,       6,          1,          7,     -999.0,9,20030526,       1254,    -4.4432,   -34.8733,       3350,  1189.4,   4.4369,  34.7600,2,-999.0000,9,    179.1,2,  -999.0,9,-999.000,9,-999.000,9,   4.3408
06BE20030525,       AR04,       6,          1,          6,     -999.0,9,20030526,       1254,    -4.4432,   -34.8733,       3350,  1381.7,   4.4576,  34.9048,2,-999.0000,9,    210.0,2,  -999.0,9,   0.109,2,   0.051,2,   4.3434
06BE20030525,       AR04,       6,          1,          5,     -999.0,9,20030526,       1254,    -4.4432,   -34.8733,       3350,  1581.8,   4.1471,  34.9740,2,-999.0000,9,    244.6,2,   239.3,3,   0.314,2,   0.156,2,   4.0176
06BE20030525,       AR04,       6,          1,          4,     -999.0,9,20030526,       1254,    -4.4432,   -34.8733,       3350,  1798.9,   3.6884,  34.9783,2,  34.9837,2,    262.3,2,  -999.0,9,   0.344,2,   0.170,2,   3.5444
06BE20030525,       AR04,       6,          1,          3,     -999.0,9,20030526,       1254,    -4.4432,   -34.8733,       3350,  1979.0,   3.4504,  34.9706,2,-999.0000,9,    265.4,2,  -999.0,9,-999.000,9,-999.000,9,   3.2930
06BE20030525,       AR04,       6,          1,          2,     -999.0,9,20030526,       1254,    -4.4432,   -34.8733,       3350,  1982.7,   3.4473,  34.9706,2,  34.9707,2,    265.5,2,  -999.0,9,-999.000,9,-999.000,9,   3.2896
06BE20030525,       AR04,       6,          1,          1,     -999.0,9,20030526,       1254,    -4.4432,   -34.8733,       3350,  3022.3,   2.7100,  34.9274,2,  34.9237,2,    262.8,2,   259.6,3,-999.000,9,-999.000,9,   2.4632
06BE20030525,       AR04,       7,          1,          8,     -999.0,9,20030526,       1734,    -4.0088,   -34.8748,       3599,    17.8,  28.4606,  35.5864,2,-999.0000,9,    206.6,2,   202.0,3,-999.000,9,-999.000,9,  28.4563
06BE20030525,       AR04,       7,          1,          7,     -999.0,9,20030526,       1734,    -4.0088,   -34.8748,       3599,   702.6,   4.6743,  34.4415,2,  34.4514,2,    178.0,2,  -999.0,9,-999.000,9,-999.000,9,   4.6191
06BE20030525,       AR04,       7,          1,          6,     -999.0,9,20030526,       1734,    -4.0088,   -34.8748,       3599,  1235.4,   4.4172,  34.8098,2,-999.0000,9,    183.7,2,   186.7,3,-999.000,9,-999.000,9,   4.3170
06BE20030525,       AR04,       7,          1,          5,     -999.0,9,20030526,       1734,    -4.0088,   -34.8748,       3599,  1400.7,   4.4116,  34.9095,2,-999.0000,9,    209.1,2,  -999.0,9,   0.121,2,   0.057,2,   4.2961
06BE20030525,       AR04,       7,          1,          4,     -999.0,9,20030526,       1734,    -4.0088,   -34.8748,       3599,  1614.0,   3.9935,  34.9843,2,  34.9815,2,    252.8,2,  -999.0,9,   0.361,2,   0.174,2,   3.8628
06BE20030525,       AR04,       7,          1,          3,     -999.0,9,20030526,       1734,    -4.0088,   -34.8748,       3599,  1810.2,   3.5850,  34.9750,2,-999.0000,9,    261.1,2,  -999.0,9,   0.243,2,   0.118,2,   3.4414
06BE20030525,       AR04,       7,          1,          2,     -999.0,9,20030526,       1734,    -4.0088,   -34.8748,       3599,  2018.9,   3.4317,  34.9692,2,-999.0000,9,    264.0,2,  -999.0,9,-999.000,9,-999.000,9,   3.2708
06BE20030525,       AR04,       7,          1,          1,     -999.0,9,20030526,       1734,    -4.0088,   -34.8748,       3599,  2997.5,   2.7078,  34.9280,2,  34.9262,2,    260.6,2,   260.0,3,-999.000,9,-999.000,9,   2.4636
06BE20030525,       AR04,       8,          1,          9,     -999.0,9,20030526,       2149,    -3.6493,   -34.8823,       3454,    22.9,  28.3310,  35.6813,2,-999.0000,9,    206.8,2,  -999.0,9,-999.000,9,-999.000,9,  28.3255
06BE20030525,       AR04,       8,          1,          8,     -999.0,9,20030526,       2149,    -3.6493,   -34.8823,       3454,   690.8,   4.9108,  34.4477,2,  34.4461,2,    174.9,2,   197.6,4,-999.000,9,-999.000,9,   4.8553
06BE20030525,       AR04,       8,          1,          7,     -999.0,9,20030526,       2149,    -3.6493,   -34.8823,       3454,  1195.1,   4.3868,  34.7555,2,-999.0000,9,    177.6,2,  -999.0,9,-999.000,9,-999.000,9,   4.2906
06BE20030525,       AR04,       8,          1,          6,     -999.0,9,20030526,       2149,    -3.6493,   -34.8823,       3454,  1199.4,   4.3865,  34.7574,2,-999.0000,9,    178.1,2,   170.2,4,-999.000,9,-999.000,9,   4.2899
06BE20030525,       AR04,       8,          1,          5,     -999.0,9,20030526,       2149,    -3.6493,   -34.8823,       3454,  1394.6,   4.4929,  34.9108,2,-999.0000,9,    205.8,2,  -999.0,9,   0.150,2,   0.073,2,   4.3772
06BE20030525,       AR04,       8,          1,          4,     -999.0,9,20030526,       2149,    -3.6493,   -34.8823,       3454,  1596.2,   4.0763,  34.9853,2,-999.0000,9,    246.5,2,  -999.0,9,   0.370,2,   0.179,2,   3.9463
06BE20030525,       AR04,       8,          1,          3,     -999.0,9,20030526,       2149,    -3.6493,   -34.8823,       3454,  1798.3,   3.6263,  34.9774,2,-999.0000,9,    261.3,2,  -999.0,9,-999.000,9,-999.000,9,   3.4833
06BE20030525,       AR04,       8,          1,          2,     -999.0,9,20030526,       2149,    -3.6493,   -34.8823,       3454,  2001.6,   3.4112,  34.9679,2,-999.0000,9,    262.8,2,  -999.0,9,   0.194,2,   0.097,2,   3.2522
06BE20030525,       AR04,       8,          1,          1,     -999.0,9,20030526,       2149,    -3.6493,   -34.8823,       3454,  3010.7,   2.6881,  34.9263,2,  34.9240,2,    261.5,2,   258.5,3,-999.000,9,-999.000,9,   2.4430
06BE20030525,       AR04,       9,          1,         11,     -999.0,9,20030527,       0243,    -3.1322,   -34.8815,       3867,    34.2,  28.1709,  35.9277,2,  35.9319,2,    205.3,2,   201.7,3,-999.000,9,-999.000,9,  28.1628
06BE20030525,       AR04,       9,          1,         12,     -999.0,9,20030527,       0243,    -3.1322,   -34.8815,       3867,    34.9,  28.1657,  35.9287,2,-999.0000,9,    205.3,2,  -999.0,9,-999.000,9,-999.000,9,  28.1574
06BE20030525,       AR04,       9,          1,         10,     -999.0,9,20030527,       0243,    -3.1322,   -34.8815,       3867,   116.1,  14.2179,  35.4579,2,-999.0000,9,    116.2,2,  -999.0,9,-999.000,9,-999.000,9,  14.2009
06BE20030525,       AR04,       9,          1,          9,     -999.0,9,20030527,       0243,    -3.1322,   -34.8815,       3867,   124.2,  13.5933,  35.3623,2,-999.0000,9,    113.7,2,  -999.0,9,-999.000,9,-999.000,9,  13.5757
06BE20030525,       AR04,       9,          1,          8,     -999.0,9,20030527,       0243,    -3.1322,   -34.8815,       3867,   701.7,   5.1652,  34.4420,2,  34.4410,2,    178.8,2,  -999.0,9,-999.000,9,-999.000,9,   5.1074
06BE20030525,       AR04,       9,          1,          7,     -999.0,9,20030527,       0243,    -3.1322,   -34.8815,       3867,  1203.0,   4.4034,  34.7768,2,-999.0000,9,    180.4,2,  -999.0,9,-999.000,9,-999.000,9,   4.3063
06BE20030525,       AR04,       9,          1,          6,     -999.0,9,20030527,       0243,    -3.1322,   -34.8815,       3867,  1398.1,   4.4961,  34.9346,2,-999.0000,9,    215.5,2,  -999.0,9,   0.190,2,   0.090,2,   4.3799
06BE20030525,       AR04,       9,          1,          5,     -999.0,9,20030527,       0243,    -3.1322,   -34.8815,       3867,  1578.1,   3.9713,  34.9816,2,-999.0000,9,    249.5,2,   248.4,3,   0.352,2,   0.174,2,   3.8442
06BE20030525,       AR04,       9,          1,          4,     -999.0,9,20030527,       0243,    -3.1322,   -34.8815,       3867,  1798.5,   3.5467,  34.9752,2,-999.0000,9,    263.6,2,  -999.0,9,   0.344,2,   0.166,2,   3.4047
06BE20030525,       AR04,       9,          1,          3,     -999.0,9,20030527,       0243,    -3.1322,   -34.8815,       3867,  1998.6,   3.4212,  34.9694,2,-999.0000,9,    263.1,2,  -999.0,9,-999.000,9,-999.000,9,   3.2624
06BE20030525,       AR04,       9,          1,          2,     -999.0,9,20030527,       0243,    -3.1322,   -34.8815,       3867,  2598.1,   2.9289,  34.9379,2,  34.9374,2,    258.5,2,  -999.0,9,-999.000,9,-999.000,9,   2.7206
06BE20030525,       AR04,       9,          1,          1,     -999.0,9,20030527,       0243,    -3.1322,   -34.8815,       3867,  3202.6,   2.6467,  34.9199,2,  34.9154,2,    257.6,2,  -999.0,9,-999.000,9,-999.000,9,   2.3825