BOTTLE,20211129CCHSIORKP
EXPOCODE,SECT_ID,STNNBR,CASTNO,SAMPNO,BTLNBR,BTLNBR_FLAG_W,DATE,TIME,LATITUDE,LONGITUDE,DEPTH,CTDPRS,CTDTMP,CTDSAL,CTDSAL_FLAG_W,SALNTY,SALNTY_FLAG_W,CTDOXY,CTDOXY_FLAG_W,OXYGEN,OXYGEN_FLAG_W,CFC-11,CFC-11_FLAG_W,CFC-12,CFC-12_FLAG_W,THETA
,,,,,,,,,,,METERS,DBAR,ITS-90,PSS-78,,PSS-78,,UMOL/KG,,UMOL/KG,,PMOL/KG,,PMOL/KG,,DEG C
06BE20030525,       AR04,      50,          1,         15,     -999.0,9,20030609,       0604,    16.2748,   -60.4338,       4835,    11.3,  27.4886,  35.9870,2,  36.0034,2,    200.6,2,   205.1,3,   1.541,2,   0.995,2,  27.4860
06BE20030525,       AR04,      50,          1,         14,     -999.0,9,20030609,       0604,    16.2748,   -60.4338,       4835,   512.9,   9.9054,  35.1298,2,-999.0000,9,    122.4,2,   122.4,3,   0.886,2,   0.472,2,   9.8452
06BE20030525,       AR04,      50,          1,         13,     -999.0,9,20030609,       0604,    16.2748,   -60.4338,       4835,   990.7,   5.5784,  34.9689,2,-999.0000,9,    178.6,2,  -999.0,9,   0.271,2,   0.139,2,   5.4908
06BE20030525,       AR04,      50,          1,         12,     -999.0,9,20030609,       0604,    16.2748,   -60.4338,       4835,  1208.2,   4.7585,  35.0049,2,-999.0000,9,    221.0,2,  -999.0,9,   0.509,2,   0.251,2,   4.6572
06BE20030525,       AR04,      50,          1,         11,     -999.0,9,20030609,       0604,    16.2748,   -60.4338,       4835,  1391.7,   4.3290,  35.0017,2,  35.0026,2,    243.5,2,  -999.0,9,   0.787,2,   0.392,2,   4.2150
06BE20030525,       AR04,      50,          1,         10,     -999.0,9,20030609,       0604,    16.2748,   -60.4338,       4835,  1608.5,   4.2010,  34.9962,2,-999.0000,9,    250.5,2,   250.4,3,   0.864,2,   0.430,2,   4.0683
06BE20030525,       AR04,      50,          1,          9,     -999.0,9,20030609,       0604,    16.2748,   -60.4338,       4835,  1818.7,   3.7370,  34.9754,2,-999.0000,9,    262.4,2,  -999.0,9,   0.844,2,   0.420,2,   3.5906
06BE20030525,       AR04,      50,          1,          8,     -999.0,9,20030609,       0604,    16.2748,   -60.4338,       4835,  2013.6,   3.4950,  34.9698,2,-999.0000,9,    263.3,2,  -999.0,9,   0.616,2,   0.306,2,   3.3336
06BE20030525,       AR04,      50,          1,          7,     -999.0,9,20030609,       0604,    16.2748,   -60.4338,       4835,  2480.5,   3.2252,  34.9583,2,  34.9620,2,    263.2,2,  -999.0,9,   0.445,2,   0.222,2,   3.0230
06BE20030525,       AR04,      50,          1,          6,     -999.0,9,20030609,       0604,    16.2748,   -60.4338,       4835,  2997.6,   2.7751,  34.9339,2,-999.0000,9,    262.7,2,  -999.0,9,   0.385,2,   0.185,2,   2.5294
06BE20030525,       AR04,      50,          1,          5,     -999.0,9,20030609,       0604,    16.2748,   -60.4338,       4835,  3496.9,   2.4242,  34.9107,2,-999.0000,9,    265.5,2,  -999.0,9,   0.403,2,   0.197,2,   2.1339
06BE20030525,       AR04,      50,          1,          4,     -999.0,9,20030609,       0604,    16.2748,   -60.4338,       4835,  4198.4,   2.3031,  34.8983,2,-999.0000,9,    265.5,2,  -999.0,9,   0.404,2,   0.199,2,   1.9374
06BE20030525,       AR04,      50,          1,          3,     -999.0,9,20030609,       0604,    16.2748,   -60.4338,       4835,  4597.0,   2.2568,  34.8890,2,-999.0000,9,    262.6,2,  -999.0,9,   0.350,2,   0.178,2,   1.8453
06BE20030525,       AR04,      50,          1,          1,     -999.0,9,20030609,       0604,    16.2748,   -60.4338,       4835,  4831.5,   2.2592,  34.8857,2,-999.0000,9,    261.5,2,  -999.0,9,   0.296,2,   0.152,2,   1.8189
06BE20030525,       AR04,      50,          1,          2,     -999.0,9,20030609,       0604,    16.2748,   -60.4338,       4835,  4833.2,   2.2598,  34.8863,2,  34.8877,2,    261.5,2,   261.7,3,-999.000,9,-999.000,9,   1.8192
06BE20030525,       AR04,      51,          1,         12,     -999.0,9,20030609,       0946,    16.2838,   -60.5443,       4146,     9.6,  27.3811,  35.6060,2,-999.0000,9,    196.8,2,   202.4,3,-999.000,9,-999.000,9,  27.3789
06BE20030525,       AR04,      51,          1,         11,     -999.0,9,20030609,       0946,    16.2838,   -60.5443,       4146,   202.3,  21.6732,  37.0909,2,  37.0875,2,    179.1,2,   249.5,4,   1.924,2,   1.183,2,  21.6332
06BE20030525,       AR04,      51,          1,         10,     -999.0,9,20030609,       0946,    16.2838,   -60.5443,       4146,   519.1,   9.6347,  35.1004,2,-999.0000,9,    121.9,2,  -999.0,9,   0.835,2,   0.442,2,   9.5748
06BE20030525,       AR04,      51,          1,          9,     -999.0,9,20030609,       0946,    16.2838,   -60.5443,       4146,   706.4,   7.7259,  34.9280,2,-999.0000,9,    127.4,2,  -999.0,9,   0.324,2,   0.170,2,   7.6536
06BE20030525,       AR04,      51,          1,          8,     -999.0,9,20030609,       0946,    16.2838,   -60.5443,       4146,  1301.1,   4.6140,  35.0142,2,-999.0000,9,    233.3,2,  -999.0,9,   0.685,2,   0.343,2,   4.5055
06BE20030525,       AR04,      51,          1,          7,     -999.0,9,20030609,       0946,    16.2838,   -60.5443,       4146,  1700.6,   3.9082,  34.9758,2,  34.9852,3,    259.1,2,   259.7,3,   0.905,2,   0.457,2,   3.7706
06BE20030525,       AR04,      51,          1,          6,     -999.0,9,20030609,       0946,    16.2838,   -60.5443,       4146,  2204.8,   3.4693,  34.9698,2,  34.9723,2,    263.0,2,   262.4,3,   0.534,2,   0.265,2,   3.2900
06BE20030525,       AR04,      51,          1,          5,     -999.0,9,20030609,       0946,    16.2838,   -60.5443,       4146,  3116.6,   2.6683,  34.9255,2,-999.0000,9,    265.5,2,  -999.0,9,   0.449,2,   0.220,2,   2.4126
06BE20030525,       AR04,      51,          1,          4,     -999.0,9,20030609,       0946,    16.2838,   -60.5443,       4146,  3700.0,   2.4222,  34.9097,2,-999.0000,9,    266.9,2,  -999.0,9,   0.520,2,   0.255,2,   2.1098
06BE20030525,       AR04,      51,          1,          3,     -999.0,9,20030609,       0946,    16.2838,   -60.5443,       4146,  3997.6,   2.3355,  34.9024,2,  34.9018,2,    266.5,2,   268.5,3,   0.506,2,   0.248,2,   1.9920
06BE20030525,       AR04,      51,          1,          2,     -999.0,9,20030609,       0946,    16.2838,   -60.5443,       4146,  4143.8,   2.3345,  34.9008,2,-999.0000,9,    266.1,2,  -999.0,9,-999.000,9,-999.000,9,   1.9743
06BE20030525,       AR04,      51,          1,          1,     -999.0,9,20030609,       0946,    16.2838,   -60.5443,       4146,  4144.3,   2.3345,  34.9007,2,-999.0000,9,    266.0,2,  -999.0,9,   0.477,2,   0.237,2,   1.9742
06BE20030525,       AR04,      52,          1,         12,     -999.0,9,20030609,       1248,    16.2917,   -60.5743,       3452,    25.7,  27.4653,  35.8354,2,  35.4549,3,    198.3,2,   195.7,3,   1.523,2,   0.986,2,  27.4593
06BE20030525,       AR04,      52,          1,         11,     -999.0,9,20030609,       1248,    16.2917,   -60.5743,       3452,   346.5,  14.6385,  35.9249,2,-999.0000,9,    145.7,2,  -999.0,9,   1.725,2,   0.968,2,  14.5862
06BE20030525,       AR04,      52,          1,         10,     -999.0,9,20030609,       1248,    16.2917,   -60.5743,       3452,   523.2,   9.9256,  35.1418,2,-999.0000,9,    122.4,2,   123.3,3,-999.000,9,-999.000,9,   9.8640
06BE20030525,       AR04,      52,          1,          9,     -999.0,9,20030609,       1248,    16.2917,   -60.5743,       3452,  1202.5,   4.8894,  35.0169,2,  35.0238,2,    222.0,2,  -999.0,9,   0.563,2,   0.282,2,   4.7875
06BE20030525,       AR04,      52,          1,          8,     -999.0,9,20030609,       1248,    16.2917,   -60.5743,       3452,  1514.8,   4.2806,  35.0028,2,-999.0000,9,    251.1,2,  -999.0,9,   0.909,2,   0.452,2,   4.1558
06BE20030525,       AR04,      52,          1,          7,     -999.0,9,20030609,       1248,    16.2917,   -60.5743,       3452,  1998.0,   3.6690,  34.9733,2,-999.0000,9,    263.4,2,   262.6,3,   0.794,2,   0.397,2,   3.5065
06BE20030525,       AR04,      52,          1,          6,     -999.0,9,20030609,       1248,    16.2917,   -60.5743,       3452,  2597.3,   3.0434,  34.9497,2,  34.9502,2,    263.0,2,  -999.0,9,   0.394,2,   0.197,2,   2.8329
06BE20030525,       AR04,      52,          1,          5,     -999.0,9,20030609,       1248,    16.2917,   -60.5743,       3452,  3014.6,   2.7114,  34.9302,2,-999.0000,9,    264.5,2,  -999.0,9,   0.426,2,   0.211,2,   2.4654
06BE20030525,       AR04,      52,          1,          4,     -999.0,9,20030609,       1248,    16.2917,   -60.5743,       3452,  3244.8,   2.5985,  34.9233,2,-999.0000,9,    265.0,2,  -999.0,9,   0.441,2,   0.213,2,   2.3309
06BE20030525,       AR04,      52,          1,          3,     -999.0,9,20030609,       1248,    16.2917,   -60.5743,       3452,  3433.8,   2.5216,  34.9163,2,-999.0000,9,    266.1,2,  -999.0,9,-999.000,9,-999.000,9,   2.2357
06BE20030525,       AR04,      52,          1,          2,     -999.0,9,20030609,       1248,    16.2917,   -60.5743,       3452,  3450.5,   2.5173,  34.9160,2,  34.9201,2,    266.1,2,   268.9,3,-999.000,9,-999.000,9,   2.2297
06BE20030525,       AR04,      52,          1,          1,     -999.0,9,20030609,       1248,    16.2917,   -60.5743,       3452,  3451.1,   2.5175,  34.9164,2,-999.0000,9,    266.1,2,  -999.0,9,   0.486,2,   0.241,2,   2.2299
06BE20030525,       AR04,      53,          1,          8,     -999.0,9,20030609,       1522,    16.2917,   -60.6118,       3027,   492.7,  10.3289,  35.1994,2,  35.1995,2,    122.6,2,  -999.0,9,   0.968,2,   0.515,2,  10.2696
06BE20030525,       AR04,      53,          1,          7,     -999.0,9,20030609,       1522,    16.2917,   -60.6118,       3027,   875.7,   6.1821,  34.8513,2,-999.0000,9,    141.2,2,  -999.0,9,   0.139,2,   0.073,2,   6.1016
06BE20030525,       AR04,      53,          1,          6,     -999.0,9,20030609,       1522,    16.2917,   -60.6118,       3027,  1381.3,   4.4459,  35.0091,2,  35.0120,2,    240.0,2,  -999.0,9,   0.700,2,   0.351,2,   4.3317
06BE20030525,       AR04,      53,          1,          5,     -999.0,9,20030609,       1522,    16.2917,   -60.6118,       3027,  1778.7,   3.8514,  34.9787,2,-999.0000,9,    261.8,2,  -999.0,9,   0.886,2,   0.443,2,   3.7072
06BE20030525,       AR04,      53,          1,          4,     -999.0,9,20030609,       1522,    16.2917,   -60.6118,       3027,  2396.4,   3.3070,  34.9621,2,-999.0000,9,    262.6,2,  -999.0,9,   0.438,2,   0.209,2,   3.1116
06BE20030525,       AR04,      53,          1,          3,     -999.0,9,20030609,       1522,    16.2917,   -60.6118,       3027,  3024.5,   2.8170,  34.9357,2,  34.9353,2,    263.9,2,  -999.0,9,   0.391,2,   0.190,2,   2.5676
06BE20030525,       AR04,      53,          1,          1,     -999.0,9,20030609,       1522,    16.2917,   -60.6118,       3027,  3025.3,   2.8164,  34.9356,2,-999.0000,9,    263.9,2,  -999.0,9,   0.393,2,   0.190,2,   2.5669
06BE20030525,       AR04,      53,          1,          2,     -999.0,9,20030609,       1522,    16.2917,   -60.6118,       3027,  3026.1,   2.8134,  34.9353,2,-999.0000,9,    263.9,2,  -999.0,9,-999.000,9,-999.000,9,   2.5639
06BE20030525,       AR04,      54,          1,          7,     -999.0,9,20030609,       1738,    16.2915,   -60.6343,       2592,    12.3,  27.6240,  35.4050,2,  35.4166,2,    197.8,2,   205.6,3,   1.526,2,   0.979,2,  27.6211
06BE20030525,       AR04,      54,          1,          6,     -999.0,9,20030609,       1738,    16.2915,   -60.6343,       2592,  1023.6,   5.6988,  34.9447,2,-999.0000,9,    171.7,2,  -999.0,9,   0.190,2,   0.095,2,   5.6072
06BE20030525,       AR04,      54,          1,          5,     -999.0,9,20030609,       1738,    16.2915,   -60.6343,       2592,  1599.7,   4.0885,  34.9928,2,  34.9945,2,    257.8,2,   257.8,3,   0.981,2,   0.488,2,   3.9580
06BE20030525,       AR04,      54,          1,          4,     -999.0,9,20030609,       1738,    16.2915,   -60.6343,       2592,  2200.8,   3.4357,  34.9687,2,-999.0000,9,    262.4,2,  -999.0,9,-999.000,9,-999.000,9,   3.2573
06BE20030525,       AR04,      54,          1,          3,     -999.0,9,20030609,       1738,    16.2915,   -60.6343,       2592,  2201.8,   3.4335,  34.9684,2,-999.0000,9,    262.4,2,  -999.0,9,   0.523,2,   0.259,2,   3.2550
06BE20030525,       AR04,      54,          1,          2,     -999.0,9,20030609,       1738,    16.2915,   -60.6343,       2592,  2590.1,   3.0674,  34.9508,2,  34.9524,2,    262.6,2,   260.3,3,-999.000,9,-999.000,9,   2.8572
06BE20030525,       AR04,      54,          1,          1,     -999.0,9,20030609,       1738,    16.2915,   -60.6343,       2592,  2590.8,   3.0650,  34.9509,2,-999.0000,9,    262.6,2,  -999.0,9,   0.403,2,   0.199,2,   2.8548
06BE20030525,       AR04,      55,          1,          6,     -999.0,9,20030609,       2002,    16.2922,   -60.6863,       1688,    21.3,  27.5947,  35.4358,2,-999.0000,9,    198.7,2,   199.9,3,   1.525,2,   0.990,2,  27.5897
06BE20030525,       AR04,      55,          1,          5,     -999.0,9,20030609,       2002,    16.2922,   -60.6863,       1688,   703.4,   8.3664,  35.0082,2,  35.0039,2,    128.2,2,   128.5,3,   0.446,2,   0.236,2,   8.2910
06BE20030525,       AR04,      55,          1,          3,     -999.0,9,20030609,       2002,    16.2922,   -60.6863,       1688,  1498.4,   4.4087,  35.0108,2,-999.0000,9,    245.7,2,  -999.0,9,   0.777,2,   0.377,2,   4.2839
06BE20030525,       AR04,      55,          1,          4,     -999.0,9,20030609,       2002,    16.2922,   -60.6863,       1688,  1509.9,   4.3941,  35.0097,2,-999.0000,9,    246.5,2,  -999.0,9,-999.000,9,-999.000,9,   4.2684
06BE20030525,       AR04,      55,          1,          1,     -999.0,9,20030609,       2002,    16.2922,   -60.6863,       1688,  1686.8,   3.9365,  34.9849,2,-999.0000,9,    258.9,2,  -999.0,9,   0.875,2,   0.433,2,   3.7998
06BE20030525,       AR04,      55,          1,          2,     -999.0,9,20030609,       2002,    16.2922,   -60.6863,       1688,  1687.0,   3.9365,  34.9850,2,  34.9878,2,    258.9,2,   256.8,3,-999.000,9,-999.000,9,   3.7997
06BE20030525,       AR04,      56,          1,          6,     -999.0,9,20030609,       2136,    16.2918,   -60.7532,        999,    21.8,  27.5947,  35.3979,2,  35.3829,2,    198.5,2,   200.2,3,   1.507,2,   0.973,2,  27.5896
06BE20030525,       AR04,      56,          1,          5,     -999.0,9,20030609,       2136,    16.2918,   -60.7532,        999,   405.6,  13.1428,  35.6652,2,-999.0000,9,    138.4,2,   135.5,3,   1.455,2,   0.787,2,  13.0858
06BE20030525,       AR04,      56,          1,          4,     -999.0,9,20030609,       2136,    16.2918,   -60.7532,        999,   793.0,   6.4278,  34.7871,2,-999.0000,9,    129.1,2,  -999.0,9,-999.000,9,-999.000,9,   6.3540
06BE20030525,       AR04,      56,          1,          3,     -999.0,9,20030609,       2136,    16.2918,   -60.7532,        999,   799.9,   6.4258,  34.7858,2,-999.0000,9,    130.0,2,  -999.0,9,   0.162,2,   0.085,2,   6.3513
06BE20030525,       AR04,      56,          1,          1,     -999.0,9,20030609,       2136,    16.2918,   -60.7532,        999,   997.7,   5.6716,  34.9280,2,-999.0000,9,    170.7,2,  -999.0,9,   0.203,2,   0.104,2,   5.5827
06BE20030525,       AR04,      56,          1,          2,     -999.0,9,20030609,       2136,    16.2918,   -60.7532,        999,   997.9,   5.6677,  34.9289,2,  34.9357,2,    170.8,2,  -999.0,9,-999.000,9,-999.000,9,   5.5788
06BE20030525,       AR04,      57,          1,          5,     -999.0,9,20030609,       2253,    16.2923,   -60.8198,        519,    10.4,  27.6020,  35.4041,2,-999.0000,9,    197.9,2,  -999.0,9,   1.530,6,   0.983,6,  27.5996
06BE20030525,       AR04,      57,          1,          4,     -999.0,9,20030609,       2253,    16.2923,   -60.8198,        519,   201.8,  21.9291,  37.0539,2,  36.9973,3,    173.1,2,  -999.0,9,-999.000,9,-999.000,9,  21.8888
06BE20030525,       AR04,      57,          1,          3,     -999.0,9,20030609,       2253,    16.2923,   -60.8198,        519,   205.6,  21.4104,  37.0350,2,-999.0000,9,    172.6,2,  -999.0,9,   1.922,2,   1.158,2,  21.3701
06BE20030525,       AR04,      57,          1,          1,     -999.0,9,20030609,       2253,    16.2923,   -60.8198,        519,   517.3,  10.3716,  35.2555,2,-999.0000,9,    127.4,2,  -999.0,9,   0.967,2,   0.512,2,  10.3090
06BE20030525,       AR04,      57,          1,          2,     -999.0,9,20030609,       2253,    16.2923,   -60.8198,        519,   517.8,  10.3714,  35.2545,2,  35.2615,2,    127.4,2,  -999.0,9,-999.000,9,-999.000,9,  10.3088
06BE20030525,       AR04,      58,          1,          5,     -999.0,9,20030610,       1337,    14.5350,   -60.6862,        763,   748.1,   6.2143,  34.6752,2,-999.0000,9,    126.1,2,  -999.0,9,-999.000,9,-999.000,9,   6.1462
06BE20030525,       AR04,      58,          1,          6,     -999.0,9,20030610,       1337,    14.5350,   -60.6862,        763,   748.1,   6.2143,  34.6752,2,-999.0000,9,    126.1,2,  -999.0,9,-999.000,9,-999.000,9,   6.1462
06BE20030525,       AR04,      58,          1,          8,     -999.0,9,20030610,       1337,    14.5350,   -60.6862,        763,   748.1,   6.2143,  34.6752,2,-999.0000,9,    126.1,2,  -999.0,9,-999.000,9,-999.000,9,   6.1462
06BE20030525,       AR04,      58,          1,          9,     -999.0,9,20030610,       1337,    14.5350,   -60.6862,        763,   748.1,   6.2197,  34.6778,2,-999.0000,9,    126.1,2,  -999.0,9,-999.000,9,-999.000,9,   6.1516
06BE20030525,       AR04,      58,          1,          7,     -999.0,9,20030610,       1337,    14.5350,   -60.6862,        763,   749.0,   6.2177,  34.6578,2,-999.0000,9,    126.2,2,  -999.0,9,-999.000,9,-999.000,9,   6.1495
06BE20030525,       AR04,      58,          1,         10,     -999.0,9,20030610,       1337,    14.5350,   -60.6862,        763,   749.0,   6.2177,  34.6578,2,-999.0000,9,    126.2,2,  -999.0,9,-999.000,9,-999.000,9,   6.1495
06BE20030525,       AR04,      58,          1,          1,     -999.0,9,20030610,       1337,    14.5350,   -60.6862,        763,   749.1,   6.2105,  34.6613,2,-999.0000,9,    126.2,2,  -999.0,9,-999.000,9,-999.000,9,   6.1424
06BE20030525,       AR04,      58,          1,          2,     -999.0,9,20030610,       1337,    14.5350,   -60.6862,        763,   749.1,   6.2105,  34.6613,2,-999.0000,9,    126.2,2,  -999.0,9,-999.000,9,-999.000,9,   6.1424
06BE20030525,       AR04,      58,          1,          3,     -999.0,9,20030610,       1337,    14.5350,   -60.6862,        763,   749.1,   6.2105,  34.6613,2,-999.0000,9,    126.2,2,  -999.0,9,-999.000,9,-999.000,9,   6.1424
06BE20030525,       AR04,      58,          1,          4,     -999.0,9,20030610,       1337,    14.5350,   -60.6862,        763,   749.1,   6.2105,  34.6613,2,-999.0000,9,    126.2,2,  -999.0,9,-999.000,9,-999.000,9,   6.1424
06BE20030525,       AR04,      58,          1,         11,     -999.0,9,20030610,       1337,    14.5350,   -60.6862,        763,   749.1,   6.2105,  34.6613,2,-999.0000,9,    126.2,2,  -999.0,9,-999.000,9,-999.000,9,   6.1424
06BE20030525,       AR04,      58,          1,         12,     -999.0,9,20030610,       1337,    14.5350,   -60.6862,        763,   749.1,   6.2105,  34.6613,2,-999.0000,9,    126.2,2,  -999.0,9,-999.000,9,-999.000,9,   6.1424
06BE20030525,       AR04,      58,          1,         13,     -999.0,9,20030610,       1337,    14.5350,   -60.6862,        763,   749.1,   6.2105,  34.6613,2,-999.0000,9,    126.2,2,  -999.0,9,-999.000,9,-999.000,9,   6.1424