BOTTLE,20211129CCHSIORKP
EXPOCODE,SECT_ID,STNNBR,CASTNO,SAMPNO,BTLNBR,BTLNBR_FLAG_W,DATE,TIME,LATITUDE,LONGITUDE,DEPTH,CTDPRS,CTDTMP,CTDSAL,CTDSAL_FLAG_W,SALNTY,SALNTY_FLAG_W,CTDOXY,CTDOXY_FLAG_W,OXYGEN,OXYGEN_FLAG_W,CFC-11,CFC-11_FLAG_W,CFC-12,CFC-12_FLAG_W,THETA
,,,,,,,,,,,METERS,DBAR,ITS-90,PSS-78,,PSS-78,,UMOL/KG,,UMOL/KG,,PMOL/KG,,PMOL/KG,,DEG C
06BE20030525,       AR04,      28,          1,         19,     -999.0,9,20030530,       1938,     3.0000,   -35.0000,       3848,    18.1,  28.1171,  36.1309,2,-999.0000,9,    199.9,2,   198.4,3,   1.529,2,   0.973,2,  28.1128
06BE20030525,       AR04,      28,          1,         17,     -999.0,9,20030530,       1938,     3.0000,   -35.0000,       3848,   110.8,  14.6704,  35.5041,2,-999.0000,9,    145.2,2,  -999.0,9,-999.000,9,-999.000,9,  14.6538
06BE20030525,       AR04,      28,          1,         16,     -999.0,9,20030530,       1938,     3.0000,   -35.0000,       3848,   324.1,  11.1671,  35.0499,2,-999.0000,9,    139.8,2,  -999.0,9,   1.635,2,   0.881,2,  11.1265
06BE20030525,       AR04,      28,          1,         20,     -999.0,9,20030530,       1938,     3.0000,   -35.0000,       3848,   460.4,   8.5205,  34.8020,2,-999.0000,9,     98.3,2,    94.4,3,-999.000,9,-999.000,9,   8.4715
06BE20030525,       AR04,      28,          1,         15,     -999.0,9,20030530,       1938,     3.0000,   -35.0000,       3848,   606.7,   6.7184,  34.6292,2,  34.6291,2,    113.8,2,  -999.0,9,-999.000,9,-999.000,9,   6.6615
06BE20030525,       AR04,      28,          1,         14,     -999.0,9,20030530,       1938,     3.0000,   -35.0000,       3848,   903.2,   4.8047,  34.5904,2,-999.0000,9,    144.1,2,  -999.0,9,   0.064,2,   0.024,2,   4.7313
06BE20030525,       AR04,      28,          1,         13,     -999.0,9,20030530,       1938,     3.0000,   -35.0000,       3848,  1098.9,   4.6901,  34.7632,2,-999.0000,9,    162.4,2,   163.7,3,   0.033,2,   0.016,2,   4.5999
06BE20030525,       AR04,      28,          1,         12,     -999.0,9,20030530,       1938,     3.0000,   -35.0000,       3848,  1367.8,   4.4919,  34.9508,2,-999.0000,9,    213.4,2,  -999.0,9,   0.133,2,   0.068,2,   4.3786
06BE20030525,       AR04,      28,          1,         11,     -999.0,9,20030530,       1938,     3.0000,   -35.0000,       3848,  1519.5,   4.3001,  34.9888,2,  34.8703,3,    237.9,2,  -999.0,9,   0.323,2,   0.160,2,   4.1746
06BE20030525,       AR04,      28,          1,         10,     -999.0,9,20030530,       1938,     3.0000,   -35.0000,       3848,  1661.7,   4.0718,  34.9863,2,-999.0000,9,    245.6,2,  -999.0,9,   0.243,2,   0.121,2,   3.9357
06BE20030525,       AR04,      28,          1,          9,     -999.0,9,20030530,       1938,     3.0000,   -35.0000,       3848,  1804.6,   3.8480,  34.9837,2,-999.0000,9,    253.1,2,  -999.0,9,   0.246,2,   0.123,2,   3.7014
06BE20030525,       AR04,      28,          1,          8,     -999.0,9,20030530,       1938,     3.0000,   -35.0000,       3848,  2004.3,   3.6380,  34.9767,2,-999.0000,9,    256.2,2,   252.2,3,-999.000,9,-999.000,9,   3.4754
06BE20030525,       AR04,      28,          1,          7,     -999.0,9,20030530,       1938,     3.0000,   -35.0000,       3848,  2201.3,   3.4311,  34.9693,2,-999.0000,9,    257.6,2,  -999.0,9,   0.139,2,   0.070,2,   3.2527
06BE20030525,       AR04,      28,          1,          6,     -999.0,9,20030530,       1938,     3.0000,   -35.0000,       3848,  2497.5,   3.0804,  34.9513,2,  34.9481,2,    257.9,2,  -999.0,9,-999.000,9,-999.000,9,   2.8792
06BE20030525,       AR04,      28,          1,          5,     -999.0,9,20030530,       1938,     3.0000,   -35.0000,       3848,  2998.9,   2.6967,  34.9210,2,-999.0000,9,    252.7,2,  -999.0,9,   0.040,2,   0.021,2,   2.4526
06BE20030525,       AR04,      28,          1,          4,     -999.0,9,20030530,       1938,     3.0000,   -35.0000,       3848,  3401.2,   2.5325,  34.9100,2,-999.0000,9,    254.0,2,  -999.0,9,   0.061,2,   0.031,2,   2.2499
06BE20030525,       AR04,      28,          1,          3,     -999.0,9,20030530,       1938,     3.0000,   -35.0000,       3848,  3598.5,   2.4300,  34.9023,2,-999.0000,9,    255.7,2,   254.7,3,-999.000,9,-999.000,9,   2.1286
06BE20030525,       AR04,      28,          1,          1,     -999.0,9,20030530,       1938,     3.0000,   -35.0000,       3848,  3845.8,   2.3527,  34.8950,2,-999.0000,9,    255.2,2,  -999.0,9,-999.000,9,-999.000,9,   2.0260
06BE20030525,       AR04,      28,          1,          2,     -999.0,9,20030530,       1938,     3.0000,   -35.0000,       3848,  3846.7,   2.3536,  34.8947,2,  34.8971,2,    255.2,2,  -999.0,9,-999.000,9,-999.000,9,   2.0267
06BE20030525,       AR04,      29,          1,         21,     -999.0,9,20030531,       0019,     3.5007,   -34.9995,       4005,    12.4,  28.2341,  36.0781,2,  36.0869,2,    199.8,2,  -999.0,9,   1.509,6,   0.954,6,  28.2312
06BE20030525,       AR04,      29,          1,         20,     -999.0,9,20030531,       0019,     3.5007,   -34.9995,       4005,   133.1,  12.8248,  35.2617,2,-999.0000,9,    158.6,2,  -999.0,9,-999.000,9,-999.000,9,  12.8067
06BE20030525,       AR04,      29,          1,         19,     -999.0,9,20030531,       0019,     3.5007,   -34.9995,       4005,   334.1,  10.3610,  34.9615,2,  34.9622,2,    146.7,2,  -999.0,9,-999.000,9,-999.000,9,  10.3211
06BE20030525,       AR04,      29,          1,         17,     -999.0,9,20030531,       0019,     3.5007,   -34.9995,       4005,   491.5,   7.6952,  34.7120,2,-999.0000,9,    101.4,2,  -999.0,9,   0.413,2,   0.217,2,   7.6458
06BE20030525,       AR04,      29,          1,         16,     -999.0,9,20030531,       0019,     3.5007,   -34.9995,       4005,   754.8,   5.1999,  34.5529,2,-999.0000,9,    137.7,2,  -999.0,9,-999.000,9,-999.000,9,   5.1371
06BE20030525,       AR04,      29,          1,         15,     -999.0,9,20030531,       0019,     3.5007,   -34.9995,       4005,   999.0,   4.7105,  34.6589,2,-999.0000,9,    151.4,2,  -999.0,9,   0.032,2,   0.016,2,   4.6292
06BE20030525,       AR04,      29,          1,         14,     -999.0,9,20030531,       0019,     3.5007,   -34.9995,       4005,  1195.9,   4.6882,  34.8384,2,  34.8393,2,    177.5,2,  -999.0,9,   0.051,2,   0.024,2,   4.5890
06BE20030525,       AR04,      29,          1,         13,     -999.0,9,20030531,       0019,     3.5007,   -34.9995,       4005,  1392.0,   4.4951,  34.9519,2,-999.0000,9,    214.7,2,  -999.0,9,   0.140,2,   0.070,2,   4.3795
06BE20030525,       AR04,      29,          1,         12,     -999.0,9,20030531,       0019,     3.5007,   -34.9995,       4005,  1525.4,   4.2861,  34.9750,2,-999.0000,9,    230.4,2,  -999.0,9,   0.168,2,   0.088,2,   4.1603
06BE20030525,       AR04,      29,          1,         11,     -999.0,9,20030531,       0019,     3.5007,   -34.9995,       4005,  1698.4,   3.9772,  34.9827,2,-999.0000,9,    245.9,2,   245.1,3,   0.188,2,   0.095,2,   3.8389
06BE20030525,       AR04,      29,          1,         10,     -999.0,9,20030531,       0019,     3.5007,   -34.9995,       4005,  1898.5,   3.7262,  34.9779,2,-999.0000,9,    251.4,2,  -999.0,9,   0.151,2,   0.077,2,   3.5724
06BE20030525,       AR04,      29,          1,          9,     -999.0,9,20030531,       0019,     3.5007,   -34.9995,       4005,  2109.6,   3.4753,  34.9710,2,  34.9744,2,    257.7,2,  -999.0,9,   0.170,2,   0.084,2,   3.3051
06BE20030525,       AR04,      29,          1,          8,     -999.0,9,20030531,       0019,     3.5007,   -34.9995,       4005,  2298.2,   3.2348,  34.9584,2,-999.0000,9,    256.2,2,  -999.0,9,   0.111,2,   0.052,2,   3.0503
06BE20030525,       AR04,      29,          1,          7,     -999.0,9,20030531,       0019,     3.5007,   -34.9995,       4005,  2604.9,   2.9658,  34.9419,2,-999.0000,9,    255.3,2,   255.1,3,   0.057,2,   0.028,2,   2.7561
06BE20030525,       AR04,      29,          1,          6,     -999.0,9,20030531,       0019,     3.5007,   -34.9995,       4005,  2877.9,   2.7618,  34.9263,2,-999.0000,9,    252.1,2,  -999.0,9,-999.000,9,-999.000,9,   2.5287
06BE20030525,       AR04,      29,          1,          5,     -999.0,9,20030531,       0019,     3.5007,   -34.9995,       4005,  3182.6,   2.6230,  34.9168,2,-999.0000,9,    254.6,2,  -999.0,9,   0.058,2,   0.028,2,   2.3615
06BE20030525,       AR04,      29,          1,          4,     -999.0,9,20030531,       0019,     3.5007,   -34.9995,       4005,  3497.6,   2.4624,  34.9058,2,-999.0000,9,    254.9,2,  -999.0,9,-999.000,9,-999.000,9,   2.1711
06BE20030525,       AR04,      29,          1,          3,     -999.0,9,20030531,       0019,     3.5007,   -34.9995,       4005,  3794.3,   2.3443,  34.8937,2,-999.0000,9,    254.4,2,  -999.0,9,   0.083,2,   0.042,2,   2.0236
06BE20030525,       AR04,      29,          1,          2,     -999.0,9,20030531,       0019,     3.5007,   -34.9995,       4005,  3800.2,   2.3420,  34.8935,2,  34.8955,2,    254.5,2,  -999.0,9,-999.000,9,-999.000,9,   2.0206
06BE20030525,       AR04,      29,          1,          1,     -999.0,9,20030531,       0019,     3.5007,   -34.9995,       4005,  4003.3,   2.1930,  34.8766,2,-999.0000,9,    252.5,2,  -999.0,9,   0.082,2,   0.043,2,   1.8530
06BE20030525,       AR04,      30,          1,         20,     -999.0,9,20030531,       0514,     3.9998,   -34.9997,       3530,    32.9,  28.2358,  36.0420,2,-999.0000,9,    201.2,2,  -999.0,9,   1.511,6,   0.957,6,  28.2280
06BE20030525,       AR04,      30,          1,         21,     -999.0,9,20030531,       0514,     3.9998,   -34.9997,       3530,    33.5,  28.2326,  36.0409,2,-999.0000,9,    201.2,2,   199.5,3,-999.000,9,-999.000,9,  28.2246
06BE20030525,       AR04,      30,          1,         19,     -999.0,9,20030531,       0514,     3.9998,   -34.9997,       3530,    97.8,  16.1236,  35.6510,2,  35.6457,2,    141.0,2,  -999.0,9,-999.000,9,-999.000,9,  16.1080
06BE20030525,       AR04,      30,          1,         17,     -999.0,9,20030531,       0514,     3.9998,   -34.9997,       3530,   203.2,  11.9851,  35.1573,2,-999.0000,9,    152.0,2,  -999.0,9,   1.761,2,   0.972,2,  11.9586
06BE20030525,       AR04,      30,          1,         16,     -999.0,9,20030531,       0514,     3.9998,   -34.9997,       3530,   404.2,   8.9665,  34.8460,2,-999.0000,9,     99.3,2,  -999.0,9,-999.000,9,-999.000,9,   8.9222
06BE20030525,       AR04,      30,          1,         15,     -999.0,9,20030531,       0514,     3.9998,   -34.9997,       3530,   704.8,   5.5559,  34.5554,2,  34.5588,2,    129.7,2,  -999.0,9,   0.144,2,   0.075,2,   5.4956
06BE20030525,       AR04,      30,          1,         14,     -999.0,9,20030531,       0514,     3.9998,   -34.9997,       3530,   924.0,   4.7792,  34.5896,2,-999.0000,9,    146.3,2,  -999.0,9,-999.000,9,-999.000,9,   4.7041
06BE20030525,       AR04,      30,          1,         13,     -999.0,9,20030531,       0514,     3.9998,   -34.9997,       3530,  1098.9,   4.6914,  34.7022,2,-999.0000,9,    157.0,2,  -999.0,9,   0.029,2,   0.013,2,   4.6013
06BE20030525,       AR04,      30,          1,         12,     -999.0,9,20030531,       0514,     3.9998,   -34.9997,       3530,  1291.7,   4.6095,  34.8988,2,-999.0000,9,    193.3,2,  -999.0,9,   0.086,2,   0.042,2,   4.5021
06BE20030525,       AR04,      30,          1,         11,     -999.0,9,20030531,       0514,     3.9998,   -34.9997,       3530,  1497.8,   4.3897,  34.9754,2,-999.0000,9,    226.9,2,   226.4,3,   0.175,2,   0.089,2,   4.2653
06BE20030525,       AR04,      30,          1,         10,     -999.0,9,20030531,       0514,     3.9998,   -34.9997,       3530,  1652.7,   4.1439,  34.9798,2,  34.9797,2,    238.4,2,  -999.0,9,-999.000,9,-999.000,9,   4.0078
06BE20030525,       AR04,      30,          1,          9,     -999.0,9,20030531,       0514,     3.9998,   -34.9997,       3530,  1814.7,   3.9246,  34.9802,2,-999.0000,9,    246.2,2,  -999.0,9,   0.150,2,   0.076,2,   3.7760
06BE20030525,       AR04,      30,          1,          8,     -999.0,9,20030531,       0514,     3.9998,   -34.9997,       3530,  2018.7,   3.5480,  34.9701,2,-999.0000,9,    252.1,2,  -999.0,9,   0.127,2,   0.059,2,   3.3854
06BE20030525,       AR04,      30,          1,          7,     -999.0,9,20030531,       0514,     3.9998,   -34.9997,       3530,  2197.7,   3.3658,  34.9663,2,-999.0000,9,    258.2,2,  -999.0,9,   0.161,6,   0.081,6,   3.1889
06BE20030525,       AR04,      30,          1,          6,     -999.0,9,20030531,       0514,     3.9998,   -34.9997,       3530,  2397.3,   3.1340,  34.9518,2,  34.9528,2,    256.3,2,  -999.0,9,-999.000,9,-999.000,9,   2.9416
06BE20030525,       AR04,      30,          1,          5,     -999.0,9,20030531,       0514,     3.9998,   -34.9997,       3530,  2702.1,   2.8848,  34.9351,2,-999.0000,9,    253.7,2,  -999.0,9,   0.041,2,   0.020,2,   2.6670
06BE20030525,       AR04,      30,          1,          4,     -999.0,9,20030531,       0514,     3.9998,   -34.9997,       3530,  3007.1,   2.6998,  34.9206,2,-999.0000,9,    252.6,2,  -999.0,9,   0.035,2,   0.018,2,   2.4548
06BE20030525,       AR04,      30,          1,          3,     -999.0,9,20030531,       0514,     3.9998,   -34.9997,       3530,  3298.9,   2.5646,  34.9107,2,-999.0000,9,    253.3,2,  -999.0,9,   0.043,2,   0.021,2,   2.2922
06BE20030525,       AR04,      30,          1,          2,     -999.0,9,20030531,       0514,     3.9998,   -34.9997,       3530,  3527.6,   2.4701,  34.9044,2,  34.9050,2,    254.1,2,   258.5,3,-999.000,9,-999.000,9,   2.1754
06BE20030525,       AR04,      30,          1,          1,     -999.0,9,20030531,       0514,     3.9998,   -34.9997,       3530,  3528.8,   2.4704,  34.9045,2,-999.0000,9,    254.1,2,  -999.0,9,   0.058,2,   0.031,2,   2.1756
06BE20030525,       AR04,      31,          1,         21,     -999.0,9,20030531,       1007,     4.5012,   -34.9993,       3922,    23.1,  28.2744,  35.9273,2,  35.9261,2,    199.2,2,   200.5,3,   1.512,6,   0.961,6,  28.2689
06BE20030525,       AR04,      31,          1,         19,     -999.0,9,20030531,       1007,     4.5012,   -34.9993,       3922,   281.7,  10.7521,  35.0041,2,  35.0002,2,    145.4,2,  -999.0,9,-999.000,9,-999.000,9,  10.7177
06BE20030525,       AR04,      31,          1,         17,     -999.0,9,20030531,       1007,     4.5012,   -34.9993,       3922,   477.8,   7.6668,  34.7159,2,-999.0000,9,    101.3,2,  -999.0,9,   0.416,2,   0.221,2,   7.6189
06BE20030525,       AR04,      31,          1,         16,     -999.0,9,20030531,       1007,     4.5012,   -34.9993,       3922,   731.3,   5.5577,  34.5614,2,-999.0000,9,    129.5,2,  -999.0,9,-999.000,9,-999.000,9,   5.4950
06BE20030525,       AR04,      31,          1,         15,     -999.0,9,20030531,       1007,     4.5012,   -34.9993,       3922,   935.5,   4.8119,  34.5874,2,-999.0000,9,    143.6,2,  -999.0,9,   0.050,2,   0.025,2,   4.7356
06BE20030525,       AR04,      31,          1,         14,     -999.0,9,20030531,       1007,     4.5012,   -34.9993,       3922,  1228.4,   4.8282,  34.8624,2,-999.0000,9,    175.7,2,  -999.0,9,-999.000,9,-999.000,9,   4.7247
06BE20030525,       AR04,      31,          1,         13,     -999.0,9,20030531,       1007,     4.5012,   -34.9993,       3922,  1384.0,   4.4570,  34.9507,2,  34.9504,2,    214.5,2,  -999.0,9,   0.079,2,   0.039,2,   4.3425
06BE20030525,       AR04,      31,          1,         12,     -999.0,9,20030531,       1007,     4.5012,   -34.9993,       3922,  1598.4,   4.1492,  34.9817,2,-999.0000,9,    238.3,2,  -999.0,9,   0.181,2,   0.090,2,   4.0181
06BE20030525,       AR04,      31,          1,         11,     -999.0,9,20030531,       1007,     4.5012,   -34.9993,       3922,  1746.5,   3.9607,  34.9809,2,-999.0000,9,    243.7,2,  -999.0,9,   0.155,2,   0.080,2,   3.8181
06BE20030525,       AR04,      31,          1,         10,     -999.0,9,20030531,       1007,     4.5012,   -34.9993,       3922,  1896.9,   3.7702,  34.9776,2,-999.0000,9,    248.9,2,   249.9,3,   0.141,2,   0.072,2,   3.6159
06BE20030525,       AR04,      31,          1,          9,     -999.0,9,20030531,       1007,     4.5012,   -34.9993,       3922,  2125.5,   3.5027,  34.9674,2,  34.9695,2,    252.1,2,  -999.0,9,   0.105,2,   0.055,2,   3.3305
06BE20030525,       AR04,      31,          1,          8,     -999.0,9,20030531,       1007,     4.5012,   -34.9993,       3922,  2327.5,   3.2450,  34.9555,2,-999.0000,9,    252.3,2,  -999.0,9,   0.072,2,   0.034,2,   3.0575
06BE20030525,       AR04,      31,          1,          7,     -999.0,9,20030531,       1007,     4.5012,   -34.9993,       3922,  2494.4,   3.0439,  34.9460,2,-999.0000,9,    253.6,2,  -999.0,9,   0.052,2,   0.027,2,   2.8437
06BE20030525,       AR04,      31,          1,         20,     -999.0,9,20030531,       1007,     4.5012,   -34.9993,       3922,  2800.2,   2.8081,  34.9279,2,-999.0000,9,    251.4,2,  -999.0,9,   0.037,2,   0.019,2,   2.5820
06BE20030525,       AR04,      31,          1,          6,     -999.0,9,20030531,       1007,     4.5012,   -34.9993,       3922,  2817.2,   2.7917,  34.9274,2,  34.9286,2,    251.2,2,  -999.0,9,-999.000,9,-999.000,9,   2.5642
06BE20030525,       AR04,      31,          1,          5,     -999.0,9,20030531,       1007,     4.5012,   -34.9993,       3922,  3112.5,   2.6687,  34.9190,2,-999.0000,9,    251.6,2,   253.6,3,   0.041,2,   0.020,2,   2.4135
06BE20030525,       AR04,      31,          1,          4,     -999.0,9,20030531,       1007,     4.5012,   -34.9993,       3922,  3399.0,   2.4528,  34.9025,2,-999.0000,9,    251.5,2,  -999.0,9,   0.052,2,   0.026,2,   2.1724
06BE20030525,       AR04,      31,          1,          3,     -999.0,9,20030531,       1007,     4.5012,   -34.9993,       3922,  3697.6,   2.3328,  34.8904,2,-999.0000,9,    251.1,2,  -999.0,9,-999.000,9,-999.000,9,   2.0231
06BE20030525,       AR04,      31,          1,          2,     -999.0,9,20030531,       1007,     4.5012,   -34.9993,       3922,  3920.0,   2.1711,  34.8754,2,  34.8749,2,    249.5,2,   253.6,3,-999.000,9,-999.000,9,   1.8411
06BE20030525,       AR04,      31,          1,          1,     -999.0,9,20030531,       1007,     4.5012,   -34.9993,       3922,  3921.0,   2.1738,  34.8757,2,-999.0000,9,    249.5,2,  -999.0,9,-999.000,9,-999.000,9,   1.8436