BOTTLE,20211129CCHSIORKP
EXPOCODE,SECT_ID,STNNBR,CASTNO,SAMPNO,BTLNBR,BTLNBR_FLAG_W,DATE,TIME,LATITUDE,LONGITUDE,DEPTH,CTDPRS,CTDTMP,CTDSAL,CTDSAL_FLAG_W,SALNTY,SALNTY_FLAG_W,CTDOXY,CTDOXY_FLAG_W,OXYGEN,OXYGEN_FLAG_W,CFC-11,CFC-11_FLAG_W,CFC-12,CFC-12_FLAG_W,THETA
,,,,,,,,,,,METERS,DBAR,ITS-90,PSS-78,,PSS-78,,UMOL/KG,,UMOL/KG,,PMOL/KG,,PMOL/KG,,DEG C
06BE20030525,       AR04,      46,          1,         22,     -999.0,9,20030608,       0846,    16.0998,   -58.6668,       5755,    23.0,  27.5289,  35.5946,2,-999.0000,9,    201.0,2,   200.9,3,-999.000,9,-999.000,9,  27.5235
06BE20030525,       AR04,      46,          1,         21,     -999.0,9,20030608,       0846,    16.0998,   -58.6668,       5755,   684.3,   7.0043,  34.7255,2,  34.7272,2,    123.6,2,   126.4,3,-999.000,9,-999.000,9,   6.9382
06BE20030525,       AR04,      46,          1,         20,     -999.0,9,20030608,       0846,    16.0998,   -58.6668,       5755,  1008.6,   5.9706,  34.8527,2,-999.0000,9,    144.3,2,  -999.0,9,   0.115,2,   0.057,2,   5.8786
06BE20030525,       AR04,      46,          1,         19,     -999.0,9,20030608,       0846,    16.0998,   -58.6668,       5755,  1320.9,   5.1231,  35.0240,2,-999.0000,9,    213.9,2,  -999.0,9,   0.452,2,   0.229,2,   5.0077
06BE20030525,       AR04,      46,          1,         18,     -999.0,9,20030608,       0846,    16.0998,   -58.6668,       5755,  1492.1,   4.5798,  35.0146,2,-999.0000,9,    237.0,2,  -999.0,9,-999.000,9,-999.000,9,   4.4537
06BE20030525,       AR04,      46,          1,         17,     -999.0,9,20030608,       0846,    16.0998,   -58.6668,       5755,  1494.0,   4.5634,  35.0146,2,  35.0175,2,    237.2,2,  -999.0,9,   0.722,2,   0.361,2,   4.4373
06BE20030525,       AR04,      46,          1,         16,     -999.0,9,20030608,       0846,    16.0998,   -58.6668,       5755,  1645.6,   4.1886,  34.9985,2,-999.0000,9,    254.1,2,  -999.0,9,   1.902,4,   1.155,4,   4.0526
06BE20030525,       AR04,      46,          1,         15,     -999.0,9,20030608,       0846,    16.0998,   -58.6668,       5755,  1780.7,   3.9335,  34.9872,2,-999.0000,9,    259.2,2,  -999.0,9,   0.566,2,   0.283,2,   3.7880
06BE20030525,       AR04,      46,          1,         14,     -999.0,9,20030608,       0846,    16.0998,   -58.6668,       5755,  1964.5,   3.7031,  34.9791,2,-999.0000,9,    261.3,2,  -999.0,9,   0.481,2,   0.238,2,   3.5433
06BE20030525,       AR04,      46,          1,         13,     -999.0,9,20030608,       0846,    16.0998,   -58.6668,       5755,  2300.6,   3.3349,  34.9657,2,-999.0000,9,    261.0,2,  -999.0,9,   0.351,2,   0.175,2,   3.1485
06BE20030525,       AR04,      46,          1,         12,     -999.0,9,20030608,       0846,    16.0998,   -58.6668,       5755,  2586.9,   2.9546,  34.9465,2,  34.9459,2,    262.6,2,  -999.0,9,-999.000,9,-999.000,9,   2.7469
06BE20030525,       AR04,      46,          1,         11,     -999.0,9,20030608,       0846,    16.0998,   -58.6668,       5755,  2979.3,   2.6595,  34.9272,2,-999.0000,9,    262.4,2,   263.7,3,   0.324,2,   0.161,2,   2.4182
06BE20030525,       AR04,      46,          1,         10,     -999.0,9,20030608,       0846,    16.0998,   -58.6668,       5755,  3297.0,   2.5025,  34.9163,2,-999.0000,9,    266.1,2,  -999.0,9,-999.000,9,-999.000,9,   2.2317
06BE20030525,       AR04,      46,          1,          9,     -999.0,9,20030608,       0846,    16.0998,   -58.6668,       5755,  3604.5,   2.3739,  34.9074,2,-999.0000,9,    266.0,2,  -999.0,9,   0.429,2,   0.213,2,   2.0732
06BE20030525,       AR04,      46,          1,          8,     -999.0,9,20030608,       0846,    16.0998,   -58.6668,       5755,  3898.6,   2.3066,  34.9008,2,-999.0000,9,    263.8,2,   271.2,3,-999.000,9,-999.000,9,   1.9751
06BE20030525,       AR04,      46,          1,          7,     -999.0,9,20030608,       0846,    16.0998,   -58.6668,       5755,  4298.1,   2.2508,  34.8924,2,  34.8932,2,    262.7,2,  -999.0,9,   0.299,2,   0.151,2,   1.8751
06BE20030525,       AR04,      46,          1,          6,     -999.0,9,20030608,       0846,    16.0998,   -58.6668,       5755,  4685.9,   2.1806,  34.8791,2,-999.0000,9,    258.1,2,  -999.0,9,-999.000,9,-999.000,9,   1.7607
06BE20030525,       AR04,      46,          1,          5,     -999.0,9,20030608,       0846,    16.0998,   -58.6668,       5755,  4989.1,   2.0136,  34.8535,2,-999.0000,9,    250.7,2,  -999.0,9,   0.090,2,   0.050,2,   1.5621
06BE20030525,       AR04,      46,          1,          4,     -999.0,9,20030608,       0846,    16.0998,   -58.6668,       5755,  5397.5,   1.9183,  34.8361,2,-999.0000,9,    246.5,2,  -999.0,9,-999.000,9,-999.000,9,   1.4185
06BE20030525,       AR04,      46,          1,          3,     -999.0,9,20030608,       0846,    16.0998,   -58.6668,       5755,  5751.4,   1.9189,  34.8305,2,-999.0000,9,    245.2,2,  -999.0,9,-999.000,9,-999.000,9,   1.3728
06BE20030525,       AR04,      46,          1,          1,     -999.0,9,20030608,       0846,    16.0998,   -58.6668,       5755,  5752.1,   1.9188,  34.8303,2,-999.0000,9,    245.1,2,  -999.0,9,   0.076,2,   0.041,2,   1.3726
06BE20030525,       AR04,      46,          1,          2,     -999.0,9,20030608,       0846,    16.0998,   -58.6668,       5755,  5753.6,   1.9191,  34.8298,2,  34.8298,2,    245.1,2,   241.8,3,-999.000,9,-999.000,9,   1.3727
06BE20030525,       AR04,      47,          1,         22,     -999.0,9,20030608,       1431,    16.1508,   -59.1848,       5398,    41.4,  27.5675,  35.5969,2,  35.1150,3,    198.8,2,   200.7,3,   1.501,6,   0.973,6,  27.5578
06BE20030525,       AR04,      47,          1,         21,     -999.0,9,20030608,       1431,    16.1508,   -59.1848,       5398,   506.9,   8.5587,  34.8491,2,-999.0000,9,    122.5,2,  -999.0,9,-999.000,9,-999.000,9,   8.5044
06BE20030525,       AR04,      47,          1,         20,     -999.0,9,20030608,       1431,    16.1508,   -59.1848,       5398,  1202.1,   5.1538,  35.0162,2,  35.0183,2,    213.1,2,   214.7,3,   0.484,2,   0.243,2,   5.0495
06BE20030525,       AR04,      47,          1,         19,     -999.0,9,20030608,       1431,    16.1508,   -59.1848,       5398,  1429.4,   4.5034,  35.0124,2,-999.0000,9,    243.1,2,  -999.0,9,   0.714,2,   0.358,2,   4.3841
06BE20030525,       AR04,      47,          1,         18,     -999.0,9,20030608,       1431,    16.1508,   -59.1848,       5398,  1593.1,   4.1149,  34.9926,2,-999.0000,9,    256.5,2,  -999.0,9,-999.000,9,-999.000,9,   3.9847
06BE20030525,       AR04,      47,          1,         17,     -999.0,9,20030608,       1431,    16.1508,   -59.1848,       5398,  1599.7,   4.1042,  34.9920,2,-999.0000,9,    257.1,2,  -999.0,9,   0.929,2,   0.468,2,   3.9735
06BE20030525,       AR04,      47,          1,         16,     -999.0,9,20030608,       1431,    16.1508,   -59.1848,       5398,  1729.6,   3.8485,  34.9784,2,-999.0000,9,    264.0,2,  -999.0,9,   0.992,6,   0.498,6,   3.7089
06BE20030525,       AR04,      47,          1,         15,     -999.0,9,20030608,       1431,    16.1508,   -59.1848,       5398,  1895.6,   3.7260,  34.9748,2,-999.0000,9,    265.6,2,  -999.0,9,   0.880,2,   0.433,2,   3.5725
06BE20030525,       AR04,      47,          1,         14,     -999.0,9,20030608,       1431,    16.1508,   -59.1848,       5398,  2067.7,   3.6127,  34.9723,2,-999.0000,9,    265.8,2,   262.3,3,-999.000,9,-999.000,9,   3.4444
06BE20030525,       AR04,      47,          1,         13,     -999.0,9,20030608,       1431,    16.1508,   -59.1848,       5398,  2214.4,   3.4918,  34.9695,2,  34.9679,2,    265.4,2,  -999.0,9,   0.798,6,   0.400,6,   3.3112
06BE20030525,       AR04,      47,          1,         12,     -999.0,9,20030608,       1431,    16.1508,   -59.1848,       5398,  2507.7,   3.2239,  34.9593,2,-999.0000,9,    264.9,2,  -999.0,9,-999.000,9,-999.000,9,   3.0190
06BE20030525,       AR04,      47,          1,         11,     -999.0,9,20030608,       1431,    16.1508,   -59.1848,       5398,  2799.5,   2.9807,  34.9461,2,-999.0000,9,    265.8,2,  -999.0,9,   0.405,2,   0.198,2,   2.7510
06BE20030525,       AR04,      47,          1,         10,     -999.0,9,20030608,       1431,    16.1508,   -59.1848,       5398,  3100.4,   2.7252,  34.9314,2,-999.0000,9,    265.2,2,  -999.0,9,   0.413,2,   0.203,2,   2.4699
06BE20030525,       AR04,      47,          1,          9,     -999.0,9,20030608,       1431,    16.1508,   -59.1848,       5398,  3420.3,   2.5052,  34.9155,2,  34.9154,2,    266.2,2,  -999.0,9,   0.337,2,   0.169,2,   2.2212
06BE20030525,       AR04,      47,          1,          8,     -999.0,9,20030608,       1431,    16.1508,   -59.1848,       5398,  3708.6,   2.3598,  34.9053,2,-999.0000,9,    266.9,2,  -999.0,9,   0.356,2,   0.172,2,   2.0481
06BE20030525,       AR04,      47,          1,          7,     -999.0,9,20030608,       1431,    16.1508,   -59.1848,       5398,  3995.5,   2.2970,  34.8996,2,-999.0000,9,    267.6,2,   266.8,3,   0.447,2,   0.226,2,   1.9549
06BE20030525,       AR04,      47,          1,          6,     -999.0,9,20030608,       1431,    16.1508,   -59.1848,       5398,  4153.0,   2.2817,  34.8971,2,-999.0000,9,    266.9,2,  -999.0,9,   0.364,2,   0.186,2,   1.9219
06BE20030525,       AR04,      47,          1,          5,     -999.0,9,20030608,       1431,    16.1508,   -59.1848,       5398,  4288.2,   2.2633,  34.8943,2,-999.0000,9,    265.9,2,  -999.0,9,   0.369,2,   0.186,2,   1.8883
06BE20030525,       AR04,      47,          1,          4,     -999.0,9,20030608,       1431,    16.1508,   -59.1848,       5398,  5095.6,   2.0660,  34.8593,2,  34.8572,2,    255.3,2,   252.4,3,   0.122,2,   0.069,2,   1.5993
06BE20030525,       AR04,      47,          1,          3,     -999.0,9,20030608,       1431,    16.1508,   -59.1848,       5398,  5240.8,   1.9323,  34.8412,2,-999.0000,9,    249.4,2,  -999.0,9,-999.000,9,-999.000,9,   1.4520
06BE20030525,       AR04,      47,          1,          1,     -999.0,9,20030608,       1431,    16.1508,   -59.1848,       5398,  5396.9,   1.9251,  34.8367,2,-999.0000,9,    248.4,2,  -999.0,9,   0.070,2,   0.040,2,   1.4251
06BE20030525,       AR04,      47,          1,          2,     -999.0,9,20030608,       1431,    16.1508,   -59.1848,       5398,  5397.1,   1.9247,  34.8374,2,-999.0000,9,    248.4,2,  -999.0,9,-999.000,9,-999.000,9,   1.4247
06BE20030525,       AR04,      48,          1,         19,     -999.0,9,20030608,       2011,    16.2173,   -59.6838,       4995,  1334.9,   4.6012,  35.0204,2,  35.0258,2,    242.0,2,  -999.0,9,   0.573,2,   0.292,2,   4.4896
06BE20030525,       AR04,      48,          1,         18,     -999.0,9,20030608,       2011,    16.2173,   -59.6838,       4995,  1448.7,   4.3052,  35.0063,2,-999.0000,9,    253.5,2,  -999.0,9,-999.000,9,-999.000,9,   4.1862
06BE20030525,       AR04,      48,          1,         17,     -999.0,9,20030608,       2011,    16.2173,   -59.6838,       4995,  1475.4,   4.2508,  35.0032,2,-999.0000,9,    255.9,2,  -999.0,9,   0.682,2,   0.344,2,   4.1299
06BE20030525,       AR04,      48,          1,         16,     -999.0,9,20030608,       2011,    16.2173,   -59.6838,       4995,  1647.5,   3.8960,  34.9826,2,-999.0000,9,    263.9,2,  -999.0,9,   0.955,2,   0.481,2,   3.7634
06BE20030525,       AR04,      48,          1,         15,     -999.0,9,20030608,       2011,    16.2173,   -59.6838,       4995,  1812.2,   3.7171,  34.9740,2,  34.9726,2,    265.1,2,  -999.0,9,   0.846,2,   0.422,2,   3.5715
06BE20030525,       AR04,      48,          1,         14,     -999.0,9,20030608,       2011,    16.2173,   -59.6838,       4995,  1977.5,   3.5525,  34.9734,2,-999.0000,9,    265.4,2,  -999.0,9,   0.666,2,   0.335,2,   3.3937
06BE20030525,       AR04,      48,          1,         13,     -999.0,9,20030608,       2011,    16.2173,   -59.6838,       4995,  2094.6,   3.4456,  34.9701,2,-999.0000,9,    265.3,2,  -999.0,9,   0.449,2,   0.226,2,   3.2773
06BE20030525,       AR04,      48,          1,         12,     -999.0,9,20030608,       2011,    16.2173,   -59.6838,       4995,  2348.5,   3.2391,  34.9686,2,-999.0000,9,    258.4,2,  -999.0,9,   0.130,4,   0.071,4,   3.0496
06BE20030525,       AR04,      48,          1,         11,     -999.0,9,20030608,       2011,    16.2173,   -59.6838,       4995,  2589.6,   2.9819,  34.9490,2,-999.0000,9,    263.3,2,   262.4,3,   0.264,2,   0.133,2,   2.7734
06BE20030525,       AR04,      48,          1,         10,     -999.0,9,20030608,       2011,    16.2173,   -59.6838,       4995,  2914.7,   2.7232,  34.9307,2,-999.0000,9,    267.4,2,  -999.0,9,   0.455,4,   0.226,4,   2.4872
06BE20030525,       AR04,      48,          1,          9,     -999.0,9,20030608,       2011,    16.2173,   -59.6838,       4995,  3203.1,   2.5597,  34.9204,2,  34.9197,2,    263.8,2,  -999.0,9,   0.291,2,   0.144,2,   2.2975
06BE20030525,       AR04,      48,          1,          8,     -999.0,9,20030608,       2011,    16.2173,   -59.6838,       4995,  3501.9,   2.3879,  34.9090,2,-999.0000,9,    267.8,2,   265.6,3,   0.381,2,   0.188,2,   2.0980
06BE20030525,       AR04,      48,          1,          7,     -999.0,9,20030608,       2011,    16.2173,   -59.6838,       4995,  3799.4,   2.3168,  34.9026,2,-999.0000,9,    267.2,2,  -999.0,9,   0.352,2,   0.175,2,   1.9962
06BE20030525,       AR04,      48,          1,          6,     -999.0,9,20030608,       2011,    16.2173,   -59.6838,       4995,  4097.8,   2.2639,  34.8959,2,-999.0000,9,    266.2,2,  -999.0,9,   0.314,2,   0.160,2,   1.9110
06BE20030525,       AR04,      48,          1,          5,     -999.0,9,20030608,       2011,    16.2173,   -59.6838,       4995,  4398.7,   2.2267,  34.8886,2,-999.0000,9,    263.9,2,   260.6,3,   0.270,2,   0.139,2,   1.8398
06BE20030525,       AR04,      48,          1,          4,     -999.0,9,20030608,       2011,    16.2173,   -59.6838,       4995,  4788.9,   2.1142,  34.8697,2,  34.8700,2,    257.5,2,  -999.0,9,   0.159,2,   0.085,2,   1.6840
06BE20030525,       AR04,      48,          1,          3,     -999.0,9,20030608,       2011,    16.2173,   -59.6838,       4995,  4903.8,   2.1019,  34.8667,2,-999.0000,9,    256.3,2,  -999.0,9,-999.000,9,-999.000,9,   1.6579
06BE20030525,       AR04,      48,          1,          2,     -999.0,9,20030608,       2011,    16.2173,   -59.6838,       4995,  4992.2,   2.1012,  34.8648,2,-999.0000,9,    255.7,2,  -999.0,9,-999.000,9,-999.000,9,   1.6463
06BE20030525,       AR04,      48,          1,          1,     -999.0,9,20030608,       2011,    16.2173,   -59.6838,       4995,  4993.1,   2.1009,  34.8655,2,-999.0000,9,    255.6,2,  -999.0,9,   0.135,2,   0.072,2,   1.6458
06BE20030525,       AR04,      49,          1,         22,     -999.0,9,20030609,       0126,    16.2662,   -60.1837,       5081,    24.1,  27.5402,  35.3524,2,  35.3060,3,    196.3,2,   202.1,3,-999.000,9,-999.000,9,  27.5346
06BE20030525,       AR04,      49,          1,         21,     -999.0,9,20030609,       0126,    16.2662,   -60.1837,       5081,   496.7,  10.8412,  35.3320,2,-999.0000,9,    132.7,2,  -999.0,9,-999.000,9,-999.000,9,  10.7794
06BE20030525,       AR04,      49,          1,         20,     -999.0,9,20030609,       0126,    16.2662,   -60.1837,       5081,  1094.9,   5.3144,  35.0094,2,  35.0173,2,    201.1,2,  -999.0,9,-999.000,9,-999.000,9,   5.2189
06BE20030525,       AR04,      49,          1,         19,     -999.0,9,20030609,       0126,    16.2662,   -60.1837,       5081,  1415.6,   4.4697,  35.0192,2,-999.0000,9,    243.7,2,   246.5,3,   0.445,2,   0.227,2,   4.3520
06BE20030525,       AR04,      49,          1,         18,     -999.0,9,20030609,       0126,    16.2662,   -60.1837,       5081,  1530.9,   4.1523,  35.0035,2,-999.0000,9,    255.9,2,  -999.0,9,-999.000,9,-999.000,9,   4.0274
06BE20030525,       AR04,      49,          1,         17,     -999.0,9,20030609,       0126,    16.2662,   -60.1837,       5081,  1544.8,   4.1340,  35.0025,2,-999.0000,9,    256.6,2,  -999.0,9,   0.678,2,   0.343,2,   4.0080
06BE20030525,       AR04,      49,          1,         16,     -999.0,9,20030609,       0126,    16.2662,   -60.1837,       5081,  1690.4,   3.8413,  34.9836,2,-999.0000,9,    262.4,2,  -999.0,9,   0.674,2,   0.335,2,   3.7054
06BE20030525,       AR04,      49,          1,         15,     -999.0,9,20030609,       0126,    16.2662,   -60.1837,       5081,  1838.6,   3.6587,  34.9781,2,-999.0000,9,    264.3,2,  -999.0,9,   0.645,2,   0.323,2,   3.5115
06BE20030525,       AR04,      49,          1,         14,     -999.0,9,20030609,       0126,    16.2662,   -60.1837,       5081,  1996.5,   3.4267,  34.9688,2,-999.0000,9,    265.2,2,   267.0,3,   0.532,2,   0.268,2,   3.2680
06BE20030525,       AR04,      49,          1,         13,     -999.0,9,20030609,       0126,    16.2662,   -60.1837,       5081,  2261.5,   3.1680,  34.9568,2,  34.9569,2,    265.2,2,  -999.0,9,   0.446,2,   0.219,2,   2.9882
06BE20030525,       AR04,      49,          1,         12,     -999.0,9,20030609,       0126,    16.2662,   -60.1837,       5081,  2497.0,   3.0236,  34.9494,2,-999.0000,9,    265.5,2,  -999.0,9,-999.000,9,-999.000,9,   2.8235
06BE20030525,       AR04,      49,          1,         11,     -999.0,9,20030609,       0126,    16.2662,   -60.1837,       5081,  2986.1,   2.6285,  34.9251,2,-999.0000,9,    266.7,2,  -999.0,9,   0.438,2,   0.217,2,   2.3872
06BE20030525,       AR04,      49,          1,         10,     -999.0,9,20030609,       0126,    16.2662,   -60.1837,       5081,  3298.7,   2.4799,  34.9152,2,-999.0000,9,    267.9,2,  -999.0,9,   0.462,2,   0.230,2,   2.2095
06BE20030525,       AR04,      49,          1,          9,     -999.0,9,20030609,       0126,    16.2662,   -60.1837,       5081,  3498.3,   2.4235,  34.9106,2,-999.0000,9,    268.1,2,  -999.0,9,   0.452,2,   0.226,2,   2.1331
06BE20030525,       AR04,      49,          1,          8,     -999.0,9,20030609,       0126,    16.2662,   -60.1837,       5081,  3698.3,   2.3820,  34.9074,2,  34.9075,2,    267.8,2,  -999.0,9,-999.000,9,-999.000,9,   2.0708
06BE20030525,       AR04,      49,          1,          7,     -999.0,9,20030609,       0126,    16.2662,   -60.1837,       5081,  3897.3,   2.3147,  34.9013,2,-999.0000,9,    268.0,2,   267.3,3,   0.421,2,   0.213,2,   1.9832
06BE20030525,       AR04,      49,          1,          6,     -999.0,9,20030609,       0126,    16.2662,   -60.1837,       5081,  4197.3,   2.2748,  34.8962,2,-999.0000,9,    266.5,2,  -999.0,9,-999.000,9,-999.000,9,   1.9101
06BE20030525,       AR04,      49,          1,          5,     -999.0,9,20030609,       0126,    16.2662,   -60.1837,       5081,  4595.7,   2.2230,  34.8859,2,-999.0000,9,    262.9,2,  -999.0,9,   0.293,2,   0.152,2,   1.8127
06BE20030525,       AR04,      49,          1,          4,     -999.0,9,20030609,       0126,    16.2662,   -60.1837,       5081,  4896.4,   2.2182,  34.8808,2,-999.0000,9,    261.5,2,  -999.0,9,   0.246,2,   0.130,2,   1.7712
06BE20030525,       AR04,      49,          1,          1,     -999.0,9,20030609,       0126,    16.2662,   -60.1837,       5081,  4933.0,   2.2197,  34.8802,2,-999.0000,9,    261.3,2,  -999.0,9,   0.242,2,   0.128,2,   1.7681
06BE20030525,       AR04,      49,          1,          3,     -999.0,9,20030609,       0126,    16.2662,   -60.1837,       5081,  4973.6,   2.2219,  34.8801,2,-999.0000,9,    261.3,2,  -999.0,9,-999.000,9,-999.000,9,   1.7651
06BE20030525,       AR04,      49,          1,          2,     -999.0,9,20030609,       0126,    16.2662,   -60.1837,       5081,  5080.0,   2.2242,  34.8789,2,-999.0000,9,    260.5,2,   259.9,3,-999.000,9,-999.000,9,   1.7540