BOTTLE,20211129CCHSIORKP
EXPOCODE,SECT_ID,STNNBR,CASTNO,SAMPNO,BTLNBR,BTLNBR_FLAG_W,DATE,TIME,LATITUDE,LONGITUDE,DEPTH,CTDPRS,CTDTMP,CTDSAL,CTDSAL_FLAG_W,SALNTY,SALNTY_FLAG_W,CTDOXY,CTDOXY_FLAG_W,OXYGEN,OXYGEN_FLAG_W,CFC-11,CFC-11_FLAG_W,CFC-12,CFC-12_FLAG_W,THETA
,,,,,,,,,,,METERS,DBAR,ITS-90,PSS-78,,PSS-78,,UMOL/KG,,UMOL/KG,,PMOL/KG,,PMOL/KG,,DEG C
06BE20030525,       AR04,      32,          1,         20,     -999.0,9,20030531,       1505,     4.9997,   -34.9998,       3762,    21.7,  28.1163,  35.7306,2,-999.0000,9,    203.1,2,   203.6,3,   1.518,6,   0.965,6,  28.1112
06BE20030525,       AR04,      32,          1,         19,     -999.0,9,20030531,       1505,     4.9997,   -34.9998,       3762,   186.1,  11.8498,  35.1251,2,-999.0000,9,    142.4,2,  -999.0,9,   1.719,2,   0.933,2,  11.8257
06BE20030525,       AR04,      32,          1,         17,     -999.0,9,20030531,       1505,     4.9997,   -34.9998,       3762,   406.3,   9.4495,  34.8842,2,-999.0000,9,    112.8,2,   111.6,3,   0.970,2,   0.513,2,   9.4035
06BE20030525,       AR04,      32,          1,         15,     -999.0,9,20030531,       1505,     4.9997,   -34.9998,       3762,   605.7,   6.9620,  34.6568,2,  34.6547,2,    109.2,2,  -999.0,9,   0.285,2,   0.151,2,   6.9041
06BE20030525,       AR04,      32,          1,         14,     -999.0,9,20030531,       1505,     4.9997,   -34.9998,       3762,  1083.2,   4.7947,  34.7193,2,-999.0000,9,    154.5,2,  -999.0,9,   0.036,6,   0.019,6,   4.7051
06BE20030525,       AR04,      32,          1,         13,     -999.0,9,20030531,       1505,     4.9997,   -34.9998,       3762,  1319.3,   4.7681,  34.9482,2,-999.0000,9,    201.1,2,  -999.0,9,   0.165,2,   0.083,2,   4.6565
06BE20030525,       AR04,      32,          1,         12,     -999.0,9,20030531,       1505,     4.9997,   -34.9998,       3762,  1543.2,   4.3170,  34.9826,2,-999.0000,9,    231.6,2,   232.8,3,   0.181,2,   0.094,2,   4.1891
06BE20030525,       AR04,      32,          1,         11,     -999.0,9,20030531,       1505,     4.9997,   -34.9998,       3762,  1798.2,   3.8879,  34.9845,2,  34.9850,2,    250.1,2,  -999.0,9,   0.238,2,   0.120,2,   3.7413
06BE20030525,       AR04,      32,          1,         10,     -999.0,9,20030531,       1505,     4.9997,   -34.9998,       3762,  1989.8,   3.6185,  34.9740,2,-999.0000,9,    251.2,2,  -999.0,9,   0.115,2,   0.059,2,   3.4576
06BE20030525,       AR04,      32,          1,          9,     -999.0,9,20030531,       1505,     4.9997,   -34.9998,       3762,  2195.5,   3.3589,  34.9607,2,-999.0000,9,    252.2,2,  -999.0,9,   0.068,2,   0.037,2,   3.1823
06BE20030525,       AR04,      32,          1,          8,     -999.0,9,20030531,       1505,     4.9997,   -34.9998,       3762,  2406.0,   3.0908,  34.9467,2,-999.0000,9,    251.8,2,  -999.0,9,   0.059,2,   0.026,2,   2.8984
06BE20030525,       AR04,      32,          1,          7,     -999.0,9,20030531,       1505,     4.9997,   -34.9998,       3762,  2598.3,   2.9427,  34.9374,2,-999.0000,9,    251.6,2,   253.4,3,   0.042,2,   0.021,2,   2.7341
06BE20030525,       AR04,      32,          1,          6,     -999.0,9,20030531,       1505,     4.9997,   -34.9998,       3762,  2898.0,   2.7713,  34.9260,2,  34.9254,2,    252.3,2,  -999.0,9,   0.033,2,   0.016,2,   2.5360
06BE20030525,       AR04,      32,          1,          5,     -999.0,9,20030531,       1505,     4.9997,   -34.9998,       3762,  3206.8,   2.6088,  34.9130,2,-999.0000,9,    251.1,2,  -999.0,9,   0.042,2,   0.020,2,   2.3451
06BE20030525,       AR04,      32,          1,          4,     -999.0,9,20030531,       1505,     4.9997,   -34.9998,       3762,  3467.2,   2.4225,  34.8989,2,-999.0000,9,    251.6,2,  -999.0,9,-999.000,9,-999.000,9,   2.1356
06BE20030525,       AR04,      32,          1,          3,     -999.0,9,20030531,       1505,     4.9997,   -34.9998,       3762,  3497.7,   2.4192,  34.8984,2,-999.0000,9,    251.2,2,  -999.0,9,-999.000,9,-999.000,9,   2.1291
06BE20030525,       AR04,      32,          1,          1,     -999.0,9,20030531,       1505,     4.9997,   -34.9998,       3762,  3760.1,   2.2957,  34.8869,2,-999.0000,9,    251.2,2,  -999.0,9,   0.064,2,   0.032,2,   1.9801
06BE20030525,       AR04,      32,          1,          2,     -999.0,9,20030531,       1505,     4.9997,   -34.9998,       3762,  3760.7,   2.2964,  34.8868,2,  34.8871,2,    251.2,2,   252.2,3,-999.000,9,-999.000,9,   1.9807
06BE20030525,       AR04,      33,          1,         20,     -999.0,9,20030531,       2008,     5.5012,   -35.0002,       3872,    19.1,  28.0937,  35.6210,2,  35.5028,3,    204.4,2,   203.8,3,   1.519,6,   0.965,6,  28.0892
06BE20030525,       AR04,      33,          1,         19,     -999.0,9,20030531,       2008,     5.5012,   -35.0002,       3872,   140.9,  13.0911,  35.2817,2,-999.0000,9,    138.0,2,  -999.0,9,   1.806,2,   1.003,2,  13.0716
06BE20030525,       AR04,      33,          1,         18,     -999.0,9,20030531,       2008,     5.5012,   -35.0002,       3872,   286.5,  11.7229,  35.1059,2,-999.0000,9,    156.5,2,  -999.0,9,-999.000,9,-999.000,9,  11.6859
06BE20030525,       AR04,      33,          1,         17,     -999.0,9,20030531,       2008,     5.5012,   -35.0002,       3872,   293.4,  11.6402,  35.0976,2,-999.0000,9,    155.2,2,  -999.0,9,   1.759,2,   0.965,2,  11.6025
06BE20030525,       AR04,      33,          1,         16,     -999.0,9,20030531,       2008,     5.5012,   -35.0002,       3872,   509.4,   8.2728,  34.7686,2,  34.7744,2,     97.0,2,  -999.0,9,-999.000,9,-999.000,9,   8.2193
06BE20030525,       AR04,      33,          1,         15,     -999.0,9,20030531,       2008,     5.5012,   -35.0002,       3872,   698.5,   6.0135,  34.5803,2,-999.0000,9,    125.6,2,   126.0,3,   0.216,2,   0.114,2,   5.9513
06BE20030525,       AR04,      33,          1,         14,     -999.0,9,20030531,       2008,     5.5012,   -35.0002,       3872,   992.3,   4.9774,  34.6646,2,-999.0000,9,    143.4,2,  -999.0,9,   0.030,2,   0.015,2,   4.8947
06BE20030525,       AR04,      33,          1,         13,     -999.0,9,20030531,       2008,     5.5012,   -35.0002,       3872,  1284.7,   4.6875,  34.9102,2,-999.0000,9,    188.7,2,  -999.0,9,   0.072,2,   0.035,2,   4.5800
06BE20030525,       AR04,      33,          1,         12,     -999.0,9,20030531,       2008,     5.5012,   -35.0002,       3872,  1467.9,   4.4014,  34.9762,2,  34.9784,2,    225.1,2,  -999.0,9,   0.169,2,   0.086,2,   4.2796
06BE20030525,       AR04,      33,          1,         11,     -999.0,9,20030531,       2008,     5.5012,   -35.0002,       3872,  1690.1,   4.0324,  34.9875,2,-999.0000,9,    247.3,2,   247.3,3,   0.260,6,   0.130,6,   3.8941
06BE20030525,       AR04,      33,          1,         10,     -999.0,9,20030531,       2008,     5.5012,   -35.0002,       3872,  1886.2,   3.6910,  34.9729,2,-999.0000,9,    247.4,2,  -999.0,9,   0.081,2,   0.041,2,   3.5389
06BE20030525,       AR04,      33,          1,          9,     -999.0,9,20030531,       2008,     5.5012,   -35.0002,       3872,  2099.5,   3.4624,  34.9642,2,-999.0000,9,    249.9,2,   248.8,3,   0.054,2,   0.028,2,   3.2934
06BE20030525,       AR04,      33,          1,          8,     -999.0,9,20030531,       2008,     5.5012,   -35.0002,       3872,  2286.2,   3.2130,  34.9516,2,  34.9534,2,    251.1,2,  -999.0,9,-999.000,9,-999.000,9,   3.0301
06BE20030525,       AR04,      33,          1,          7,     -999.0,9,20030531,       2008,     5.5012,   -35.0002,       3872,  2696.5,   2.8404,  34.9338,2,-999.0000,9,    253.7,2,  -999.0,9,   0.064,2,   0.033,2,   2.6240
06BE20030525,       AR04,      33,          1,          6,     -999.0,9,20030531,       2008,     5.5012,   -35.0002,       3872,  3002.3,   2.6863,  34.9231,2,-999.0000,9,    254.1,2,  -999.0,9,   0.042,2,   0.022,2,   2.4421
06BE20030525,       AR04,      33,          1,          5,     -999.0,9,20030531,       2008,     5.5012,   -35.0002,       3872,  3316.5,   2.5211,  34.9090,2,  34.9095,2,    253.1,2,   255.8,3,-999.000,9,-999.000,9,   2.2478
06BE20030525,       AR04,      33,          1,          4,     -999.0,9,20030531,       2008,     5.5012,   -35.0002,       3872,  3513.1,   2.4820,  34.9040,2,-999.0000,9,    252.8,2,  -999.0,9,   0.049,2,   0.025,2,   2.1886
06BE20030525,       AR04,      33,          1,          3,     -999.0,9,20030531,       2008,     5.5012,   -35.0002,       3872,  3597.0,   2.3890,  34.8964,2,-999.0000,9,    251.9,2,  -999.0,9,-999.000,9,-999.000,9,   2.0888
06BE20030525,       AR04,      33,          1,          2,     -999.0,9,20030531,       2008,     5.5012,   -35.0002,       3872,  3857.5,   2.2205,  34.8793,2,-999.0000,9,    250.0,2,  -999.0,9,-999.000,9,-999.000,9,   1.8961
06BE20030525,       AR04,      33,          1,          1,     -999.0,9,20030531,       2008,     5.5012,   -35.0002,       3872,  3870.3,   2.2140,  34.8783,2,-999.0000,9,    249.6,2,  -999.0,9,   0.058,2,   0.031,2,   1.8884
06BE20030525,       AR04,      34,          1,         20,     -999.0,9,20030601,       0106,     6.0005,   -35.0000,       4277,    27.2,  28.0804,  35.3260,2,-999.0000,9,    202.6,2,   200.2,3,   1.516,2,   0.972,2,  28.0740
06BE20030525,       AR04,      34,          1,         19,     -999.0,9,20030601,       0106,     6.0005,   -35.0000,       4277,   211.6,  12.6610,  35.2247,2,-999.0000,9,    138.0,2,  -999.0,9,-999.000,9,-999.000,9,  12.6323
06BE20030525,       AR04,      34,          1,         18,     -999.0,9,20030601,       0106,     6.0005,   -35.0000,       4277,   370.1,  10.0629,  34.9119,2,-999.0000,9,    152.4,2,  -999.0,9,-999.000,9,-999.000,9,  10.0194
06BE20030525,       AR04,      34,          1,         17,     -999.0,9,20030601,       0106,     6.0005,   -35.0000,       4277,   411.8,   9.5241,  34.8758,2,-999.0000,9,    141.6,2,  -999.0,9,   1.321,2,   0.692,2,   9.4773
06BE20030525,       AR04,      34,          1,         16,     -999.0,9,20030601,       0106,     6.0005,   -35.0000,       4277,   817.9,   5.8701,  34.5963,2,  34.5751,3,    123.7,2,  -999.0,9,-999.000,9,-999.000,9,   5.7975
06BE20030525,       AR04,      34,          1,         15,     -999.0,9,20030601,       0106,     6.0005,   -35.0000,       4277,   818.4,   5.8672,  34.5978,2,-999.0000,9,    123.7,2,  -999.0,9,   0.110,2,   0.059,2,   5.7946
06BE20030525,       AR04,      34,          1,         14,     -999.0,9,20030601,       0106,     6.0005,   -35.0000,       4277,  1198.3,   4.8078,  34.8427,2,  34.8401,2,    169.2,2,  -999.0,9,   0.046,2,   0.025,2,   4.7073
06BE20030525,       AR04,      34,          1,         13,     -999.0,9,20030601,       0106,     6.0005,   -35.0000,       4277,  1401.0,   4.5528,  34.9560,2,-999.0000,9,    210.8,2,   213.1,3,   0.127,2,   0.066,2,   4.4357
06BE20030525,       AR04,      34,          1,         12,     -999.0,9,20030601,       0106,     6.0005,   -35.0000,       4277,  1600.9,   4.2074,  34.9789,2,-999.0000,9,    234.0,2,  -999.0,9,   0.170,2,   0.085,2,   4.0754
06BE20030525,       AR04,      34,          1,         11,     -999.0,9,20030601,       0106,     6.0005,   -35.0000,       4277,  1811.5,   3.9230,  34.9812,2,  34.9801,2,    245.6,2,  -999.0,9,   0.140,2,   0.072,2,   3.7747
06BE20030525,       AR04,      34,          1,         10,     -999.0,9,20030601,       0106,     6.0005,   -35.0000,       4277,  1998.3,   3.6746,  34.9736,2,-999.0000,9,    248.7,2,  -999.0,9,   0.090,2,   0.046,2,   3.5120
06BE20030525,       AR04,      34,          1,          9,     -999.0,9,20030601,       0106,     6.0005,   -35.0000,       4277,  2195.6,   3.3849,  34.9607,2,-999.0000,9,    250.0,2,  -999.0,9,   0.054,2,   0.028,2,   3.2079
06BE20030525,       AR04,      34,          1,          8,     -999.0,9,20030601,       0106,     6.0005,   -35.0000,       4277,  2496.9,   2.9873,  34.9418,2,-999.0000,9,    252.6,2,  -999.0,9,   0.038,2,   0.017,2,   2.7879
06BE20030525,       AR04,      34,          1,          7,     -999.0,9,20030601,       0106,     6.0005,   -35.0000,       4277,  2805.0,   2.7598,  34.9261,2,-999.0000,9,    252.4,2,   253.3,3,   0.033,2,   0.018,2,   2.5342
06BE20030525,       AR04,      34,          1,          6,     -999.0,9,20030601,       0106,     6.0005,   -35.0000,       4277,  3098.2,   2.6404,  34.9184,2,-999.0000,9,    253.0,2,  -999.0,9,   0.036,2,   0.019,2,   2.3873
06BE20030525,       AR04,      34,          1,          5,     -999.0,9,20030601,       0106,     6.0005,   -35.0000,       4277,  3397.4,   2.5014,  34.9075,2,  34.9073,2,    253.5,2,  -999.0,9,   0.050,2,   0.027,2,   2.2200
06BE20030525,       AR04,      34,          1,          4,     -999.0,9,20030601,       0106,     6.0005,   -35.0000,       4277,  3699.7,   2.3436,  34.8906,2,-999.0000,9,    251.9,2,  -999.0,9,   0.057,2,   0.029,2,   2.0334
06BE20030525,       AR04,      34,          1,          3,     -999.0,9,20030601,       0106,     6.0005,   -35.0000,       4277,  3997.7,   2.1533,  34.8723,2,-999.0000,9,    249.6,2,  -999.0,9,   0.063,2,   0.034,2,   1.8151
06BE20030525,       AR04,      34,          1,          2,     -999.0,9,20030601,       0106,     6.0005,   -35.0000,       4277,  4274.7,   2.0947,  34.8645,2,  34.8650,2,    248.6,2,  -999.0,9,-999.000,9,-999.000,9,   1.7265
06BE20030525,       AR04,      34,          1,          1,     -999.0,9,20030601,       0106,     6.0005,   -35.0000,       4277,  4275.5,   2.0940,  34.8638,2,-999.0000,9,    248.6,2,  -999.0,9,   0.068,2,   0.036,2,   1.7257
06BE20030525,       AR04,      35,          1,         20,     -999.0,9,20030601,       0623,     6.4992,   -35.0018,       3836,    23.4,  27.8154,  35.4627,2,-999.0000,9,    201.5,2,  -999.0,9,-999.000,9,-999.000,9,  27.8099
06BE20030525,       AR04,      35,          1,         21,     -999.0,9,20030601,       0623,     6.4992,   -35.0018,       3836,    23.4,  27.8154,  35.4627,2,-999.0000,9,    201.5,2,  -999.0,9,-999.000,9,-999.000,9,  27.8099
06BE20030525,       AR04,      35,          1,         19,     -999.0,9,20030601,       0623,     6.4992,   -35.0018,       3836,    23.5,  27.8137,  35.4689,2,  35.3957,2,    201.6,2,  -999.0,9,-999.000,9,-999.000,9,  27.8082
06BE20030525,       AR04,      35,          1,         17,     -999.0,9,20030601,       0623,     6.4992,   -35.0018,       3836,    98.2,  15.9281,  35.7078,2,-999.0000,9,    152.5,2,  -999.0,9,-999.000,9,-999.000,9,  15.9126
06BE20030525,       AR04,      35,          1,         16,     -999.0,9,20030601,       0623,     6.4992,   -35.0018,       3836,   252.5,  10.6998,  34.9873,2,  34.9858,2,    157.1,2,  -999.0,9,-999.000,9,-999.000,9,  10.6691
06BE20030525,       AR04,      35,          1,         15,     -999.0,9,20030601,       0623,     6.4992,   -35.0018,       3836,   498.3,   8.2170,  34.7857,2,-999.0000,9,     97.8,2,  -999.0,9,   0.429,2,   0.231,2,   8.1649
06BE20030525,       AR04,      35,          1,         14,     -999.0,9,20030601,       0623,     6.4992,   -35.0018,       3836,   775.7,   5.8291,  34.6286,2,-999.0000,9,    117.7,2,  -999.0,9,-999.000,9,-999.000,9,   5.7607
06BE20030525,       AR04,      35,          1,         13,     -999.0,9,20030601,       0623,     6.4992,   -35.0018,       3836,  1077.8,   4.9147,  34.7678,2,-999.0000,9,    152.6,2,  -999.0,9,   0.024,2,   0.011,2,   4.8245
06BE20030525,       AR04,      35,          1,         12,     -999.0,9,20030601,       0623,     6.4992,   -35.0018,       3836,  1347.0,   4.6908,  34.9199,2,-999.0000,9,    195.8,2,  -999.0,9,   0.102,2,   0.052,2,   4.5774
06BE20030525,       AR04,      35,          1,         11,     -999.0,9,20030601,       0623,     6.4992,   -35.0018,       3836,  1574.7,   4.2958,  34.9798,2,  34.9801,2,    231.5,2,  -999.0,9,   0.168,2,   0.087,2,   4.1652
06BE20030525,       AR04,      35,          1,         10,     -999.0,9,20030601,       0623,     6.4992,   -35.0018,       3836,  1707.4,   4.0571,  34.9833,2,-999.0000,9,    241.8,2,  -999.0,9,   0.166,2,   0.086,2,   3.9169
06BE20030525,       AR04,      35,          1,          9,     -999.0,9,20030601,       0623,     6.4992,   -35.0018,       3836,  1897.0,   3.7843,  34.9782,2,-999.0000,9,    249.0,2,  -999.0,9,   0.122,2,   0.063,2,   3.6298
06BE20030525,       AR04,      35,          1,          8,     -999.0,9,20030601,       0623,     6.4992,   -35.0018,       3836,  2107.5,   3.4573,  34.9651,2,-999.0000,9,    251.2,2,  -999.0,9,   0.064,2,   0.032,2,   3.2876
06BE20030525,       AR04,      35,          1,          7,     -999.0,9,20030601,       0623,     6.4992,   -35.0018,       3836,  2309.9,   3.2608,  34.9551,2,-999.0000,9,    251.6,2,  -999.0,9,-999.000,9,-999.000,9,   3.0748
06BE20030525,       AR04,      35,          1,          6,     -999.0,9,20030601,       0623,     6.4992,   -35.0018,       3836,  2613.4,   2.9673,  34.9397,2,  34.9404,2,    253.3,2,  -999.0,9,   0.034,2,   0.019,2,   2.7567
06BE20030525,       AR04,      35,          1,          5,     -999.0,9,20030601,       0623,     6.4992,   -35.0018,       3836,  2996.9,   2.6900,  34.9207,2,-999.0000,9,    254.4,2,  -999.0,9,   0.043,2,   0.022,2,   2.4463
06BE20030525,       AR04,      35,          1,          4,     -999.0,9,20030601,       0623,     6.4992,   -35.0018,       3836,  3296.6,   2.5550,  34.9109,2,-999.0000,9,    254.0,2,  -999.0,9,   0.045,2,   0.023,2,   2.2830
06BE20030525,       AR04,      35,          1,          1,     -999.0,9,20030601,       0623,     6.4992,   -35.0018,       3836,  3834.5,   2.2941,  34.8852,2,-999.0000,9,    251.5,2,  -999.0,9,   0.055,2,   0.030,2,   1.9703
06BE20030525,       AR04,      35,          1,          2,     -999.0,9,20030601,       0623,     6.4992,   -35.0018,       3836,  3834.5,   2.2941,  34.8852,2,  34.8873,2,    251.5,2,  -999.0,9,-999.000,9,-999.000,9,   1.9703