BOTTLE,20211129CCHSIORKP
EXPOCODE,SECT_ID,STNNBR,CASTNO,SAMPNO,BTLNBR,BTLNBR_FLAG_W,DATE,TIME,LATITUDE,LONGITUDE,DEPTH,CTDPRS,CTDTMP,CTDSAL,CTDSAL_FLAG_W,SALNTY,SALNTY_FLAG_W,CTDOXY,CTDOXY_FLAG_W,OXYGEN,OXYGEN_FLAG_W,CFC-11,CFC-11_FLAG_W,CFC-12,CFC-12_FLAG_W,THETA
,,,,,,,,,,,METERS,DBAR,ITS-90,PSS-78,,PSS-78,,UMOL/KG,,UMOL/KG,,PMOL/KG,,PMOL/KG,,DEG C
06BE20030525,       AR04,      40,          1,         22,     -999.0,9,20030606,       2052,    15.7332,   -55.6675,       5593,    19.6,  27.2540,  35.8605,2,-999.0000,9,    201.1,2,   207.1,3,   1.484,2,   0.990,2,  27.2495
06BE20030525,       AR04,      40,          1,         21,     -999.0,9,20030606,       2052,    15.7332,   -55.6675,       5593,   199.3,  20.9351,  37.0037,2,  36.9669,3,    177.9,2,  -999.0,9,   1.909,2,   1.216,2,  20.8966
06BE20030525,       AR04,      40,          1,         20,     -999.0,9,20030606,       2052,    15.7332,   -55.6675,       5593,   580.1,   9.0288,  35.0994,2,-999.0000,9,    116.6,2,  -999.0,9,   0.447,2,   0.241,2,   8.9642
06BE20030525,       AR04,      40,          1,         19,     -999.0,9,20030606,       2052,    15.7332,   -55.6675,       5593,   962.6,   5.6024,  34.7995,2,-999.0000,9,    140.5,2,  -999.0,9,   0.046,2,   0.022,2,   5.5176
06BE20030525,       AR04,      40,          1,         18,     -999.0,9,20030606,       2052,    15.7332,   -55.6675,       5593,  1104.0,   5.4203,  34.9261,2,-999.0000,9,    172.1,2,  -999.0,9,-999.000,9,-999.000,9,   5.3232
06BE20030525,       AR04,      40,          1,         17,     -999.0,9,20030606,       2052,    15.7332,   -55.6675,       5593,  1255.2,   5.1308,  35.0054,2,-999.0000,9,    205.7,2,   210.6,3,   0.391,2,   0.198,2,   5.0217
06BE20030525,       AR04,      40,          1,         16,     -999.0,9,20030606,       2052,    15.7332,   -55.6675,       5593,  1469.2,   4.5478,  35.0141,2,-999.0000,9,    236.9,2,  -999.0,9,-999.000,9,-999.000,9,   4.4242
06BE20030525,       AR04,      40,          1,         15,     -999.0,9,20030606,       2052,    15.7332,   -55.6675,       5593,  1677.7,   4.1066,  34.9968,2,-999.0000,9,    250.7,2,  -999.0,9,   0.695,2,   0.350,2,   3.9685
06BE20030525,       AR04,      40,          1,         14,     -999.0,9,20030606,       2052,    15.7332,   -55.6675,       5593,  1818.1,   3.8578,  34.9861,2,  34.9890,2,    255.7,2,  -999.0,9,   0.580,2,   0.291,2,   3.7097
06BE20030525,       AR04,      40,          1,         13,     -999.0,9,20030606,       2052,    15.7332,   -55.6675,       5593,  2007.8,   3.6440,  34.9806,2,-999.0000,9,    256.5,2,  -999.0,9,   0.388,2,   0.193,2,   3.4809
06BE20030525,       AR04,      40,          1,         12,     -999.0,9,20030606,       2052,    15.7332,   -55.6675,       5593,  2203.6,   3.4198,  34.9720,2,-999.0000,9,    256.9,2,  -999.0,9,   0.308,2,   0.154,2,   3.2414
06BE20030525,       AR04,      40,          1,         11,     -999.0,9,20030606,       2052,    15.7332,   -55.6675,       5593,  2498.1,   3.1260,  34.9567,2,  34.9555,2,    257.2,2,  -999.0,9,   0.228,2,   0.114,2,   2.9238
06BE20030525,       AR04,      40,          1,         10,     -999.0,9,20030606,       2052,    15.7332,   -55.6675,       5593,  3001.4,   2.7801,  34.9344,2,-999.0000,9,    256.8,2,   260.5,3,   0.234,2,   0.114,2,   2.5339
06BE20030525,       AR04,      40,          1,          9,     -999.0,9,20030606,       2052,    15.7332,   -55.6675,       5593,  3397.8,   2.5589,  34.9182,2,-999.0000,9,    258.5,2,  -999.0,9,   0.256,2,   0.127,2,   2.2760
06BE20030525,       AR04,      40,          1,          8,     -999.0,9,20030606,       2052,    15.7332,   -55.6675,       5593,  3597.7,   2.4517,  34.9111,2,-999.0000,9,    260.8,2,  -999.0,9,   0.322,2,   0.162,2,   2.1498
06BE20030525,       AR04,      40,          1,          7,     -999.0,9,20030606,       2052,    15.7332,   -55.6675,       5593,  3797.7,   2.3765,  34.9050,2,-999.0000,9,    260.1,2,  -999.0,9,   0.254,2,   0.128,2,   2.0545
06BE20030525,       AR04,      40,          1,          6,     -999.0,9,20030606,       2052,    15.7332,   -55.6675,       5593,  4097.0,   2.2979,  34.8972,2,-999.0000,9,    259.2,2,   263.4,3,   0.239,2,   0.121,2,   1.9441
06BE20030525,       AR04,      40,          1,          5,     -999.0,9,20030606,       2052,    15.7332,   -55.6675,       5593,  4598.3,   2.1901,  34.8811,2,  34.8800,2,    255.6,2,  -999.0,9,   0.189,2,   0.101,2,   1.7806
06BE20030525,       AR04,      40,          1,          4,     -999.0,9,20030606,       2052,    15.7332,   -55.6675,       5593,  5097.6,   1.9087,  34.8398,2,-999.0000,9,    243.3,2,  -999.0,9,   0.088,2,   0.045,2,   1.4473
06BE20030525,       AR04,      40,          1,          3,     -999.0,9,20030606,       2052,    15.7332,   -55.6675,       5593,  5589.9,   1.8809,  34.8283,2,-999.0000,9,    240.8,2,  -999.0,9,-999.000,9,-999.000,9,   1.3575
06BE20030525,       AR04,      40,          1,          2,     -999.0,9,20030606,       2052,    15.7332,   -55.6675,       5593,  5591.7,   1.8801,  34.8284,2,  34.8271,2,    240.8,2,  -999.0,9,-999.000,9,-999.000,9,   1.3565
06BE20030525,       AR04,      40,          1,          1,     -999.0,9,20030606,       2052,    15.7332,   -55.6675,       5593,  5592.1,   1.8805,  34.8277,2,-999.0000,9,    240.8,2,  -999.0,9,   0.074,2,   0.038,2,   1.3568
06BE20030525,       AR04,      41,          1,         22,     -999.0,9,20030607,       0247,    15.8012,   -56.1683,       5450,    38.7,  27.2120,  35.9490,2,  35.8767,3,    202.9,2,   206.8,3,   1.513,6,   0.991,6,  27.2030
06BE20030525,       AR04,      41,          1,         21,     -999.0,9,20030607,       0247,    15.8012,   -56.1683,       5450,   410.4,  13.4741,  35.7787,2,-999.0000,9,    132.5,2,  -999.0,9,   1.484,2,   0.821,2,  13.4154
06BE20030525,       AR04,      41,          1,         20,     -999.0,9,20030607,       0247,    15.8012,   -56.1683,       5450,   724.1,   7.2455,  34.8624,2,-999.0000,9,    121.0,2,   122.6,3,   0.205,2,   0.108,2,   7.1739
06BE20030525,       AR04,      41,          1,         19,     -999.0,9,20030607,       0247,    15.8012,   -56.1683,       5450,  1004.8,   5.5540,  34.8521,2,-999.0000,9,    153.0,2,  -999.0,9,   0.098,2,   0.049,2,   5.4655
06BE20030525,       AR04,      41,          1,         18,     -999.0,9,20030607,       0247,    15.8012,   -56.1683,       5450,  1211.2,   5.1880,  34.9990,2,-999.0000,9,    200.7,2,  -999.0,9,-999.000,9,-999.000,9,   5.0826
06BE20030525,       AR04,      41,          1,         17,     -999.0,9,20030607,       0247,    15.8012,   -56.1683,       5450,  1248.6,   5.0255,  35.0043,2,  35.0045,2,    207.3,2,  -999.0,9,   0.287,2,   0.146,2,   4.9180
06BE20030525,       AR04,      41,          1,         16,     -999.0,9,20030607,       0247,    15.8012,   -56.1683,       5450,  1502.6,   4.4012,  35.0126,2,-999.0000,9,    246.2,2,  -999.0,9,   0.773,6,   0.388,6,   4.2761
06BE20030525,       AR04,      41,          1,         15,     -999.0,9,20030607,       0247,    15.8012,   -56.1683,       5450,  1748.5,   3.8824,  34.9877,2,-999.0000,9,    257.4,2,   259.8,3,   0.651,2,   0.323,2,   3.7406
06BE20030525,       AR04,      41,          1,         14,     -999.0,9,20030607,       0247,    15.8012,   -56.1683,       5450,  1892.6,   3.6958,  34.9830,2,-999.0000,9,    256.3,2,  -999.0,9,   0.397,2,   0.199,2,   3.5429
06BE20030525,       AR04,      41,          1,         13,     -999.0,9,20030607,       0247,    15.8012,   -56.1683,       5450,  2086.6,   3.4309,  34.9709,2,-999.0000,9,    259.4,2,  -999.0,9,   0.419,2,   0.210,2,   3.2636
06BE20030525,       AR04,      41,          1,         12,     -999.0,9,20030607,       0247,    15.8012,   -56.1683,       5450,  2286.4,   3.2412,  34.9629,2,-999.0000,9,    258.3,2,  -999.0,9,   0.260,2,   0.131,2,   3.0577
06BE20030525,       AR04,      41,          1,         11,     -999.0,9,20030607,       0247,    15.8012,   -56.1683,       5450,  2698.9,   2.9419,  34.9455,2,-999.0000,9,    258.3,2,  -999.0,9,   0.242,2,   0.119,2,   2.7232
06BE20030525,       AR04,      41,          1,         10,     -999.0,9,20030607,       0247,    15.8012,   -56.1683,       5450,  3212.4,   2.6584,  34.9248,2,-999.0000,9,    256.0,2,  -999.0,9,   0.169,3,   0.083,3,   2.3929
06BE20030525,       AR04,      41,          1,          9,     -999.0,9,20030607,       0247,    15.8012,   -56.1683,       5450,  3506.6,   2.5016,  34.9146,2,  34.9140,2,    260.4,2,  -999.0,9,   0.323,2,   0.162,2,   2.2084
06BE20030525,       AR04,      41,          1,          8,     -999.0,9,20030607,       0247,    15.8012,   -56.1683,       5450,  3705.4,   2.4159,  34.9081,2,-999.0000,9,    260.8,2,  -999.0,9,   0.296,2,   0.145,2,   2.1031
06BE20030525,       AR04,      41,          1,          7,     -999.0,9,20030607,       0247,    15.8012,   -56.1683,       5450,  3998.6,   2.3345,  34.9013,2,-999.0000,9,    261.1,2,  -999.0,9,   0.304,2,   0.153,2,   1.9909
06BE20030525,       AR04,      41,          1,          6,     -999.0,9,20030607,       0247,    15.8012,   -56.1683,       5450,  4297.4,   2.2702,  34.8934,2,-999.0000,9,    259.8,2,  -999.0,9,   0.278,2,   0.144,2,   1.8940
06BE20030525,       AR04,      41,          1,          5,     -999.0,9,20030607,       0247,    15.8012,   -56.1683,       5450,  4801.4,   2.0944,  34.8656,2,-999.0000,9,    251.1,2,  -999.0,9,   0.105,2,   0.057,2,   1.6633
06BE20030525,       AR04,      41,          1,          4,     -999.0,9,20030607,       0247,    15.8012,   -56.1683,       5450,  5187.8,   1.9272,  34.8401,2,-999.0000,9,    244.9,2,   250.8,3,   0.081,2,   0.043,2,   1.4538
06BE20030525,       AR04,      41,          1,          3,     -999.0,9,20030607,       0247,    15.8012,   -56.1683,       5450,  5370.1,   1.9111,  34.8352,2,-999.0000,9,    243.6,2,  -999.0,9,-999.000,9,-999.000,9,   1.4151
06BE20030525,       AR04,      41,          1,          2,     -999.0,9,20030607,       0247,    15.8012,   -56.1683,       5450,  5448.4,   1.8989,  34.8324,2,  34.8324,2,    241.5,2,  -999.0,9,-999.000,9,-999.000,9,   1.3932
06BE20030525,       AR04,      41,          1,          1,     -999.0,9,20030607,       0247,    15.8012,   -56.1683,       5450,  5449.2,   1.8983,  34.8324,2,-999.0000,9,    241.4,2,  -999.0,9,   0.076,2,   0.040,2,   1.3926
06BE20030525,       AR04,      42,          1,         22,     -999.0,9,20030607,       0826,    15.8658,   -56.6667,       5366,    26.4,  27.3961,  35.2778,2,-999.0000,9,    204.8,2,   205.6,3,   1.529,2,   1.001,2,  27.3900
06BE20030525,       AR04,      42,          1,         21,     -999.0,9,20030607,       0826,    15.8658,   -56.6667,       5366,   307.0,  16.6134,  36.2838,2,  36.2800,2,    163.7,2,  -999.0,9,   2.000,2,   1.176,2,  16.5629
06BE20030525,       AR04,      42,          1,         20,     -999.0,9,20030607,       0826,    15.8658,   -56.6667,       5366,   787.4,   6.2322,  34.7496,2,-999.0000,9,    129.4,2,  -999.0,9,   0.121,2,   0.063,2,   6.1601
06BE20030525,       AR04,      42,          1,         19,     -999.0,9,20030607,       0826,    15.8658,   -56.6667,       5366,  1198.5,   5.3437,  35.0070,2,-999.0000,9,    199.2,2,  -999.0,9,   0.334,2,   0.166,2,   5.2381
06BE20030525,       AR04,      42,          1,         18,     -999.0,9,20030607,       0826,    15.8658,   -56.6667,       5366,  1380.7,   4.7311,  35.0207,2,-999.0000,9,    231.3,2,  -999.0,9,-999.000,9,-999.000,9,   4.6139
06BE20030525,       AR04,      42,          1,         17,     -999.0,9,20030607,       0826,    15.8658,   -56.6667,       5366,  1387.4,   4.7095,  35.0208,2,-999.0000,9,    232.1,2,  -999.0,9,   0.531,2,   0.269,2,   4.5919
06BE20030525,       AR04,      42,          1,         16,     -999.0,9,20030607,       0826,    15.8658,   -56.6667,       5366,  1546.5,   4.3164,  35.0077,2,-999.0000,9,    251.5,2,  -999.0,9,   0.740,2,   0.374,2,   4.1882
06BE20030525,       AR04,      42,          1,         15,     -999.0,9,20030607,       0826,    15.8658,   -56.6667,       5366,  1698.7,   3.9497,  34.9902,2,  34.9894,2,    257.3,2,  -999.0,9,   0.641,2,   0.324,2,   3.8117
06BE20030525,       AR04,      42,          1,         14,     -999.0,9,20030607,       0826,    15.8658,   -56.6667,       5366,  1849.0,   3.7681,  34.9816,2,-999.0000,9,    260.4,2,  -999.0,9,   0.596,2,   0.297,2,   3.6184
06BE20030525,       AR04,      42,          1,         13,     -999.0,9,20030607,       0826,    15.8658,   -56.6667,       5366,  1997.9,   3.5874,  34.9788,2,-999.0000,9,    259.9,2,   259.1,3,   0.358,2,   0.182,2,   3.4261
06BE20030525,       AR04,      42,          1,         12,     -999.0,9,20030607,       0826,    15.8658,   -56.6667,       5366,  2198.2,   3.3814,  34.9704,2,-999.0000,9,    260.6,2,  -999.0,9,   0.290,2,   0.148,2,   3.2041
06BE20030525,       AR04,      42,          1,         11,     -999.0,9,20030607,       0826,    15.8658,   -56.6667,       5366,  2395.7,   3.1908,  34.9601,2,-999.0000,9,    261.0,2,  -999.0,9,-999.000,9,-999.000,9,   2.9976
06BE20030525,       AR04,      42,          1,         10,     -999.0,9,20030607,       0826,    15.8658,   -56.6667,       5366,  2910.6,   2.8279,  34.9377,2,  34.9370,2,    260.0,2,   267.2,3,   0.217,2,   0.108,2,   2.5901
06BE20030525,       AR04,      42,          1,          9,     -999.0,9,20030607,       0826,    15.8658,   -56.6667,       5366,  3311.4,   2.5968,  34.9217,2,-999.0000,9,    262.3,2,  -999.0,9,   0.320,2,   0.161,2,   2.3222
06BE20030525,       AR04,      42,          1,          8,     -999.0,9,20030607,       0826,    15.8658,   -56.6667,       5366,  3598.8,   2.4433,  34.9107,2,-999.0000,9,    264.0,2,  -999.0,9,   0.326,2,   0.163,2,   2.1415
06BE20030525,       AR04,      42,          1,          7,     -999.0,9,20030607,       0826,    15.8658,   -56.6667,       5366,  3798.4,   2.3742,  34.9056,2,-999.0000,9,    264.5,2,  -999.0,9,   0.350,2,   0.179,2,   2.0521
06BE20030525,       AR04,      42,          1,          6,     -999.0,9,20030607,       0826,    15.8658,   -56.6667,       5366,  4098.5,   2.3131,  34.8999,2,  34.8983,2,    264.5,2,   265.5,3,   0.332,2,   0.169,2,   1.9587
06BE20030525,       AR04,      42,          1,          5,     -999.0,9,20030607,       0826,    15.8658,   -56.6667,       5366,  4497.0,   2.1803,  34.8805,2,-999.0000,9,    257.9,2,  -999.0,9,   0.141,2,   0.076,2,   1.7832
06BE20030525,       AR04,      42,          1,          4,     -999.0,9,20030607,       0826,    15.8658,   -56.6667,       5366,  4998.0,   1.9730,  34.8490,2,  34.8497,2,    249.1,2,  -999.0,9,   0.084,2,   0.045,2,   1.5217
06BE20030525,       AR04,      42,          1,          3,     -999.0,9,20030607,       0826,    15.8658,   -56.6667,       5366,  5355.8,   1.9111,  34.8362,2,-999.0000,9,    245.7,2,  -999.0,9,-999.000,9,-999.000,9,   1.4169
06BE20030525,       AR04,      42,          1,          1,     -999.0,9,20030607,       0826,    15.8658,   -56.6667,       5366,  5364.8,   1.9090,  34.8358,2,-999.0000,9,    245.7,2,  -999.0,9,   0.076,2,   0.042,2,   1.4137
06BE20030525,       AR04,      42,          1,          2,     -999.0,9,20030607,       0826,    15.8658,   -56.6667,       5366,  5364.8,   1.9090,  34.8354,2,-999.0000,9,    245.7,2,   246.5,3,-999.000,9,-999.000,9,   1.4137