BOTTLE,20211129CCHSIORKP
EXPOCODE,SECT_ID,STNNBR,CASTNO,SAMPNO,BTLNBR,BTLNBR_FLAG_W,DATE,TIME,LATITUDE,LONGITUDE,DEPTH,CTDPRS,CTDTMP,CTDSAL,CTDSAL_FLAG_W,SALNTY,SALNTY_FLAG_W,CTDOXY,CTDOXY_FLAG_W,OXYGEN,OXYGEN_FLAG_W,CFC-11,CFC-11_FLAG_W,CFC-12,CFC-12_FLAG_W,THETA
,,,,,,,,,,,METERS,DBAR,ITS-90,PSS-78,,PSS-78,,UMOL/KG,,UMOL/KG,,PMOL/KG,,PMOL/KG,,DEG C
06BE20030525,       AR04,      36,          1,         21,     -999.0,9,20030601,       1629,     7.4097,   -34.2862,       4784,     3.1,  27.2363,  36.3267,2,-999.0000,9,    201.2,2,   202.3,3,   1.575,6,   0.987,6,  27.2356
06BE20030525,       AR04,      36,          1,         20,     -999.0,9,20030601,       1629,     7.4097,   -34.2862,       4784,   204.0,  10.6750,  35.0280,2,-999.0000,9,    122.9,2,  -999.0,9,   1.302,2,   0.704,2,  10.6503
06BE20030525,       AR04,      36,          1,         19,     -999.0,9,20030601,       1629,     7.4097,   -34.2862,       4784,   727.8,   6.1723,  34.6490,2,  34.6563,2,    108.4,2,   111.2,3,   0.093,2,   0.049,2,   6.1064
06BE20030525,       AR04,      36,          1,         18,     -999.0,9,20030601,       1629,     7.4097,   -34.2862,       4784,  1177.7,   4.8804,  34.8872,2,-999.0000,9,    178.0,2,  -999.0,9,-999.000,9,-999.000,9,   4.7811
06BE20030525,       AR04,      36,          1,         17,     -999.0,9,20030601,       1629,     7.4097,   -34.2862,       4784,  1181.1,   4.8756,  34.8899,2,-999.0000,9,    178.6,2,  -999.0,9,   0.073,6,   0.037,6,   4.7760
06BE20030525,       AR04,      36,          1,         16,     -999.0,9,20030601,       1629,     7.4097,   -34.2862,       4784,  1367.8,   4.5965,  34.9711,2,  34.9681,2,    216.0,2,  -999.0,9,-999.000,9,-999.000,9,   4.4821
06BE20030525,       AR04,      36,          1,         15,     -999.0,9,20030601,       1629,     7.4097,   -34.2862,       4784,  1597.2,   4.2590,  34.9889,2,-999.0000,9,    235.3,2,  -999.0,9,   0.218,6,   0.109,6,   4.1267
06BE20030525,       AR04,      36,          1,         14,     -999.0,9,20030601,       1629,     7.4097,   -34.2862,       4784,  1828.3,   3.8820,  34.9821,2,-999.0000,9,    246.6,2,  -999.0,9,   0.151,2,   0.080,2,   3.7327
06BE20030525,       AR04,      36,          1,         13,     -999.0,9,20030601,       1629,     7.4097,   -34.2862,       4784,  2037.5,   3.5964,  34.9735,2,-999.0000,9,    250.2,2,  -999.0,9,   0.077,2,   0.039,2,   3.4312
06BE20030525,       AR04,      36,          1,         12,     -999.0,9,20030601,       1629,     7.4097,   -34.2862,       4784,  2213.5,   3.2824,  34.9575,2,-999.0000,9,    250.1,2,  -999.0,9,   0.039,2,   0.019,2,   3.1053
06BE20030525,       AR04,      36,          1,         11,     -999.0,9,20030601,       1629,     7.4097,   -34.2862,       4784,  2399.2,   3.1214,  34.9493,2,-999.0000,9,    251.6,2,  -999.0,9,   0.039,2,   0.018,2,   2.9291
06BE20030525,       AR04,      36,          1,         10,     -999.0,9,20030601,       1629,     7.4097,   -34.2862,       4784,  2871.2,   2.7361,  34.9252,2,-999.0000,9,    252.1,2,  -999.0,9,   0.045,2,   0.022,2,   2.5043
06BE20030525,       AR04,      36,          1,          9,     -999.0,9,20030601,       1629,     7.4097,   -34.2862,       4784,  3407.5,   2.5463,  34.9105,2,-999.0000,9,    252.4,2,  -999.0,9,   0.058,2,   0.028,2,   2.2627
06BE20030525,       AR04,      36,          1,          8,     -999.0,9,20030601,       1629,     7.4097,   -34.2862,       4784,  3599.2,   2.4818,  34.9041,2,  34.9036,2,    252.6,2,  -999.0,9,   0.062,2,   0.031,2,   2.1790
06BE20030525,       AR04,      36,          1,          7,     -999.0,9,20030601,       1629,     7.4097,   -34.2862,       4784,  3804.6,   2.3507,  34.8934,2,-999.0000,9,    252.3,2,   254.8,3,   0.073,2,   0.038,2,   2.0286
06BE20030525,       AR04,      36,          1,          6,     -999.0,9,20030601,       1629,     7.4097,   -34.2862,       4784,  4018.2,   2.2628,  34.8834,2,-999.0000,9,    251.5,2,  -999.0,9,   0.082,2,   0.043,2,   1.9191
06BE20030525,       AR04,      36,          1,          5,     -999.0,9,20030601,       1629,     7.4097,   -34.2862,       4784,  4198.2,   2.1920,  34.8752,2,-999.0000,9,    250.4,2,  -999.0,9,   0.085,2,   0.044,2,   1.8297
06BE20030525,       AR04,      36,          1,          4,     -999.0,9,20030601,       1629,     7.4097,   -34.2862,       4784,  4347.6,   2.1816,  34.8729,2,  34.8739,2,    250.5,2,  -999.0,9,   0.083,6,   0.044,6,   1.8022
06BE20030525,       AR04,      36,          1,          3,     -999.0,9,20030601,       1629,     7.4097,   -34.2862,       4784,  4597.1,   2.1932,  34.8716,2,-999.0000,9,    250.1,2,  -999.0,9,-999.000,9,-999.000,9,   1.7838
06BE20030525,       AR04,      36,          1,          1,     -999.0,9,20030601,       1629,     7.4097,   -34.2862,       4784,  4782.3,   2.2099,  34.8702,2,  34.8696,2,    249.9,2,  -999.0,9,   0.085,2,   0.047,2,   1.7774
06BE20030525,       AR04,      36,          1,          2,     -999.0,9,20030601,       1629,     7.4097,   -34.2862,       4784,  4782.9,   2.2097,  34.8704,2,-999.0000,9,    249.9,2,  -999.0,9,-999.000,9,-999.000,9,   1.7771
06BE20030525,       AR04,      37,          1,         21,     -999.0,9,20030602,       0742,     7.4727,   -36.7830,       4804,    10.0,  27.2970,  36.2594,2,  36.2576,2,    201.8,2,   201.8,3,   1.558,6,   0.981,6,  27.2947
06BE20030525,       AR04,      37,          1,         20,     -999.0,9,20030602,       0742,     7.4727,   -36.7830,       4804,   192.2,  10.7682,  35.0478,2,-999.0000,9,    122.1,2,   118.9,3,   1.310,2,   0.697,2,  10.7448
06BE20030525,       AR04,      37,          1,         19,     -999.0,9,20030602,       0742,     7.4727,   -36.7830,       4804,   523.6,   7.7223,  34.7589,2,-999.0000,9,     95.2,2,  -999.0,9,   1.247,2,   0.669,2,   7.6695
06BE20030525,       AR04,      37,          1,         18,     -999.0,9,20030602,       0742,     7.4727,   -36.7830,       4804,   814.1,   5.4707,  34.6238,2,-999.0000,9,    121.7,2,  -999.0,9,-999.000,9,-999.000,9,   5.4009
06BE20030525,       AR04,      37,          1,         17,     -999.0,9,20030602,       0742,     7.4727,   -36.7830,       4804,   820.8,   5.4288,  34.6190,2,  34.6238,2,    122.6,2,  -999.0,9,   0.045,2,   0.023,2,   5.3586
06BE20030525,       AR04,      37,          1,         16,     -999.0,9,20030602,       0742,     7.4727,   -36.7830,       4804,   824.6,   5.3829,  34.6226,2,-999.0000,9,    123.2,2,  -999.0,9,-999.000,9,-999.000,9,   5.3127
06BE20030525,       AR04,      37,          1,         15,     -999.0,9,20030602,       0742,     7.4727,   -36.7830,       4804,  1119.7,   4.8668,  34.7564,2,-999.0000,9,    152.9,2,  -999.0,9,   0.021,6,   0.010,6,   4.7732
06BE20030525,       AR04,      37,          1,         14,     -999.0,9,20030602,       0742,     7.4727,   -36.7830,       4804,  1426.7,   4.6116,  34.9680,2,-999.0000,9,    213.8,2,  -999.0,9,   0.199,2,   0.100,2,   4.4915
06BE20030525,       AR04,      37,          1,         13,     -999.0,9,20030602,       0742,     7.4727,   -36.7830,       4804,  1614.8,   4.2819,  34.9945,2,  34.9933,2,    239.9,2,  -999.0,9,   0.298,2,   0.150,2,   4.1477
06BE20030525,       AR04,      37,          1,         12,     -999.0,9,20030602,       0742,     7.4727,   -36.7830,       4804,  1749.1,   3.9030,  34.9838,2,-999.0000,9,    247.5,2,   246.7,3,   0.161,6,   0.084,6,   3.7609
06BE20030525,       AR04,      37,          1,         11,     -999.0,9,20030602,       0742,     7.4727,   -36.7830,       4804,  1900.0,   3.6856,  34.9758,2,-999.0000,9,    249.8,2,  -999.0,9,   0.093,2,   0.048,2,   3.5322
06BE20030525,       AR04,      37,          1,         10,     -999.0,9,20030602,       0742,     7.4727,   -36.7830,       4804,  2109.0,   3.4891,  34.9697,2,-999.0000,9,    253.1,2,  -999.0,9,   0.094,2,   0.048,2,   3.3187
06BE20030525,       AR04,      37,          1,          9,     -999.0,9,20030602,       0742,     7.4727,   -36.7830,       4804,  2319.0,   3.2454,  34.9586,2,-999.0000,9,    253.9,2,  -999.0,9,   0.068,2,   0.034,2,   3.0587
06BE20030525,       AR04,      37,          1,          8,     -999.0,9,20030602,       0742,     7.4727,   -36.7830,       4804,  2816.6,   2.8558,  34.9361,2,  34.9374,2,    255.8,2,  -999.0,9,   0.077,2,   0.036,2,   2.6270
06BE20030525,       AR04,      37,          1,          7,     -999.0,9,20030602,       0742,     7.4727,   -36.7830,       4804,  3326.3,   2.5369,  34.9127,2,-999.0000,9,    255.1,2,   257.2,3,   0.084,2,   0.044,2,   2.2622
06BE20030525,       AR04,      37,          1,          6,     -999.0,9,20030602,       0742,     7.4727,   -36.7830,       4804,  3501.2,   2.4222,  34.9010,2,-999.0000,9,    255.5,2,  -999.0,9,   0.089,2,   0.047,2,   2.1316
06BE20030525,       AR04,      37,          1,          5,     -999.0,9,20030602,       0742,     7.4727,   -36.7830,       4804,  3697.9,   2.3156,  34.8940,2,-999.0000,9,    256.0,2,  -999.0,9,   0.098,6,   0.052,6,   2.0063
06BE20030525,       AR04,      37,          1,          4,     -999.0,9,20030602,       0742,     7.4727,   -36.7830,       4804,  3919.3,   2.2396,  34.8845,2,-999.0000,9,    253.7,2,  -999.0,9,   0.095,2,   0.050,2,   1.9077
06BE20030525,       AR04,      37,          1,          3,     -999.0,9,20030602,       0742,     7.4727,   -36.7830,       4804,  4092.1,   2.1270,  34.8713,2,-999.0000,9,    251.7,2,  -999.0,9,-999.000,9,-999.000,9,   1.7788
06BE20030525,       AR04,      37,          1,          2,     -999.0,9,20030602,       0742,     7.4727,   -36.7830,       4804,  4097.2,   2.1232,  34.8702,2,-999.0000,9,    251.7,2,  -999.0,9,-999.000,9,-999.000,9,   1.7745
06BE20030525,       AR04,      37,          1,          1,     -999.0,9,20030602,       0742,     7.4727,   -36.7830,       4804,  4802.0,   1.9611,  34.8454,2,  34.8460,2,    246.5,2,   248.1,3,   0.083,2,   0.044,2,   1.5344
06BE20030525,       AR04,      38,          1,         21,     -999.0,9,20030606,       0843,    15.6328,   -54.6665,       5591,    25.8,  26.6256,  36.5013,2,-999.0000,9,    206.1,2,   202.6,3,   1.559,6,   1.009,6,  26.6197
06BE20030525,       AR04,      38,          1,         20,     -999.0,9,20030606,       0843,    15.6328,   -54.6665,       5591,   704.6,   6.5354,  34.7341,2,  34.7370,2,    125.6,2,  -999.0,9,   0.183,2,   0.096,2,   6.4697
06BE20030525,       AR04,      38,          1,         19,     -999.0,9,20030606,       0843,    15.6328,   -54.6665,       5591,   998.5,   5.3454,  34.7854,2,-999.0000,9,    149.7,2,  -999.0,9,   0.059,2,   0.031,2,   5.2591
06BE20030525,       AR04,      38,          1,         18,     -999.0,9,20030606,       0843,    15.6328,   -54.6665,       5591,  1167.3,   5.2752,  34.9195,2,-999.0000,9,    173.9,2,  -999.0,9,-999.000,9,-999.000,9,   5.1733
06BE20030525,       AR04,      38,          1,         17,     -999.0,9,20030606,       0843,    15.6328,   -54.6665,       5591,  1191.7,   5.2337,  34.9289,2,  34.9300,2,    178.4,2,  -999.0,9,   0.107,2,   0.054,2,   5.1299
06BE20030525,       AR04,      38,          1,         16,     -999.0,9,20030606,       0843,    15.6328,   -54.6665,       5591,  1396.1,   4.7929,  34.9971,2,-999.0000,9,    214.7,2,  -999.0,9,   0.207,2,   0.106,2,   4.6737
06BE20030525,       AR04,      38,          1,         15,     -999.0,9,20030606,       0843,    15.6328,   -54.6665,       5591,  1599.8,   4.3430,  35.0084,2,-999.0000,9,    248.5,2,  -999.0,9,   0.662,2,   0.336,2,   4.2094
06BE20030525,       AR04,      38,          1,         14,     -999.0,9,20030606,       0843,    15.6328,   -54.6665,       5591,  1798.7,   3.9039,  34.9864,2,-999.0000,9,    261.6,2,  -999.0,9,   0.711,6,   0.358,6,   3.7571
06BE20030525,       AR04,      38,          1,         13,     -999.0,9,20030606,       0843,    15.6328,   -54.6665,       5591,  2013.4,   3.6207,  34.9788,2,-999.0000,9,    261.9,2,   257.9,3,   0.476,2,   0.236,2,   3.4575
06BE20030525,       AR04,      38,          1,         12,     -999.0,9,20030606,       0843,    15.6328,   -54.6665,       5591,  2217.1,   3.3603,  34.9696,2,-999.0000,9,    262.0,2,  -999.0,9,   0.307,2,   0.153,2,   3.1816
06BE20030525,       AR04,      38,          1,         11,     -999.0,9,20030606,       0843,    15.6328,   -54.6665,       5591,  2413.6,   3.1376,  34.9574,2,  34.9571,2,    261.5,2,  -999.0,9,   0.215,2,   0.107,2,   2.9436
06BE20030525,       AR04,      38,          1,         10,     -999.0,9,20030606,       0843,    15.6328,   -54.6665,       5591,  2897.7,   2.7756,  34.9340,2,-999.0000,9,    258.9,2,  -999.0,9,   0.157,2,   0.075,2,   2.5402
06BE20030525,       AR04,      38,          1,          9,     -999.0,9,20030606,       0843,    15.6328,   -54.6665,       5591,  3388.0,   2.5413,  34.9168,2,-999.0000,9,    261.8,2,  -999.0,9,   0.231,2,   0.114,2,   2.2599
06BE20030525,       AR04,      38,          1,          8,     -999.0,9,20030606,       0843,    15.6328,   -54.6665,       5591,  3590.0,   2.4527,  34.9100,2,-999.0000,9,    261.8,2,   260.2,3,   0.216,2,   0.107,2,   2.1516
06BE20030525,       AR04,      38,          1,          7,     -999.0,9,20030606,       0843,    15.6328,   -54.6665,       5591,  3971.2,   2.3511,  34.9024,2,-999.0000,9,    265.0,2,  -999.0,9,   0.298,2,   0.150,2,   2.0102
06BE20030525,       AR04,      38,          1,          6,     -999.0,9,20030606,       0843,    15.6328,   -54.6665,       5591,  4198.0,   2.3090,  34.8978,2,-999.0000,9,    263.8,2,  -999.0,9,   0.223,2,   0.116,2,   1.9432
06BE20030525,       AR04,      38,          1,          5,     -999.0,9,20030606,       0843,    15.6328,   -54.6665,       5591,  4497.6,   2.2552,  34.8890,2,-999.0000,9,    261.9,2,   259.6,3,   0.170,2,   0.092,2,   1.8557
06BE20030525,       AR04,      38,          1,          4,     -999.0,9,20030606,       0843,    15.6328,   -54.6665,       5591,  4996.3,   2.0446,  34.8567,2,  34.8570,2,    253.2,2,  -999.0,9,   0.101,2,   0.055,2,   1.5911
06BE20030525,       AR04,      38,          1,          3,     -999.0,9,20030606,       0843,    15.6328,   -54.6665,       5591,  5397.8,   1.8671,  34.8300,2,-999.0000,9,    245.5,2,  -999.0,9,-999.000,9,-999.000,9,   1.3691
06BE20030525,       AR04,      38,          1,          1,     -999.0,9,20030606,       0843,    15.6328,   -54.6665,       5591,  5589.5,   1.8584,  34.8258,2,-999.0000,9,    243.8,2,  -999.0,9,   0.084,2,   0.044,2,   1.3359
06BE20030525,       AR04,      38,          1,          2,     -999.0,9,20030606,       0843,    15.6328,   -54.6665,       5591,  5590.1,   1.8589,  34.8256,2,  34.8245,2,    243.8,2,   241.8,3,-999.000,9,-999.000,9,   1.3363
06BE20030525,       AR04,      39,          1,         22,     -999.0,9,20030606,       1445,    15.7007,   -55.1667,       5601,     3.6,  26.9211,  36.4092,2,  36.3332,3,    200.9,2,   201.9,3,   1.530,2,   0.987,2,  26.9203
06BE20030525,       AR04,      39,          1,         21,     -999.0,9,20030606,       1445,    15.7007,   -55.1667,       5601,   298.9,  15.5479,  36.1024,2,-999.0000,9,    145.3,2,  -999.0,9,   1.841,2,   1.054,2,  15.5010
06BE20030525,       AR04,      39,          1,         20,     -999.0,9,20030606,       1445,    15.7007,   -55.1667,       5601,   793.7,   6.2129,  34.7506,2,-999.0000,9,    130.6,2,   128.2,3,   0.121,2,   0.062,2,   6.1403
06BE20030525,       AR04,      39,          1,         19,     -999.0,9,20030606,       1445,    15.7007,   -55.1667,       5601,  1094.7,   5.2342,  34.9118,2,-999.0000,9,    174.9,2,  -999.0,9,   0.118,2,   0.057,2,   5.1396
06BE20030525,       AR04,      39,          1,         18,     -999.0,9,20030606,       1445,    15.7007,   -55.1667,       5601,  1255.3,   5.0440,  34.9919,2,-999.0000,9,    204.8,2,  -999.0,9,-999.000,9,-999.000,9,   4.9357
06BE20030525,       AR04,      39,          1,         17,     -999.0,9,20030606,       1445,    15.7007,   -55.1667,       5601,  1296.6,   4.9560,  35.0097,2,-999.0000,9,    214.4,2,  -999.0,9,   0.359,2,   0.183,2,   4.8446
06BE20030525,       AR04,      39,          1,         16,     -999.0,9,20030606,       1445,    15.7007,   -55.1667,       5601,  1499.4,   4.4664,  35.0106,2,  35.0112,2,    241.7,2,  -999.0,9,   0.622,2,   0.314,2,   4.3409
06BE20030525,       AR04,      39,          1,         15,     -999.0,9,20030606,       1445,    15.7007,   -55.1667,       5601,  1711.0,   4.0615,  34.9931,2,-999.0000,9,    256.2,2,  -999.0,9,   0.661,6,   0.329,6,   3.9209
06BE20030525,       AR04,      39,          1,         14,     -999.0,9,20030606,       1445,    15.7007,   -55.1667,       5601,  1910.7,   3.7730,  34.9830,2,-999.0000,9,    259.8,2,  -999.0,9,   0.669,2,   0.336,2,   3.6173
06BE20030525,       AR04,      39,          1,         13,     -999.0,9,20030606,       1445,    15.7007,   -55.1667,       5601,  2096.3,   3.5198,  34.9756,2,  34.9750,2,    260.1,2,  -999.0,9,   0.378,2,   0.189,2,   3.3502
06BE20030525,       AR04,      39,          1,         12,     -999.0,9,20030606,       1445,    15.7007,   -55.1667,       5601,  2285.6,   3.3100,  34.9657,2,-999.0000,9,    259.9,2,   258.0,3,   0.278,2,   0.137,2,   3.1255
06BE20030525,       AR04,      39,          1,         11,     -999.0,9,20030606,       1445,    15.7007,   -55.1667,       5601,  2589.5,   3.0407,  34.9514,2,-999.0000,9,    259.2,2,  -999.0,9,   0.210,2,   0.103,2,   2.8311
06BE20030525,       AR04,      39,          1,         10,     -999.0,9,20030606,       1445,    15.7007,   -55.1667,       5601,  3198.4,   2.6473,  34.9253,2,-999.0000,9,    262.1,2,  -999.0,9,   0.309,2,   0.153,2,   2.3835
06BE20030525,       AR04,      39,          1,          9,     -999.0,9,20030606,       1445,    15.7007,   -55.1667,       5601,  3499.0,   2.4948,  34.9135,2,-999.0000,9,    259.5,2,  -999.0,9,   0.215,2,   0.107,2,   2.2025
06BE20030525,       AR04,      39,          1,          8,     -999.0,9,20030606,       1445,    15.7007,   -55.1667,       5601,  3697.4,   2.4140,  34.9070,2,-999.0000,9,    260.3,2,   260.5,3,   0.196,2,   0.096,2,   2.1021
06BE20030525,       AR04,      39,          1,          7,     -999.0,9,20030606,       1445,    15.7007,   -55.1667,       5601,  3898.6,   2.3538,  34.9021,2,  34.9018,2,    261.4,2,  -999.0,9,   0.228,2,   0.114,2,   2.0211
06BE20030525,       AR04,      39,          1,          6,     -999.0,9,20030606,       1445,    15.7007,   -55.1667,       5601,  4298.3,   2.2797,  34.8935,2,-999.0000,9,    261.0,2,  -999.0,9,   0.190,2,   0.095,2,   1.9031
06BE20030525,       AR04,      39,          1,          5,     -999.0,9,20030606,       1445,    15.7007,   -55.1667,       5601,  4697.8,   2.1784,  34.8771,2,-999.0000,9,    256.3,2,  -999.0,9,   0.138,2,   0.078,2,   1.7572
06BE20030525,       AR04,      39,          1,          4,     -999.0,9,20030606,       1445,    15.7007,   -55.1667,       5601,  5197.4,   1.8933,  34.8366,2,-999.0000,9,    244.0,2,  -999.0,9,   0.080,6,   0.041,6,   1.4199
06BE20030525,       AR04,      39,          1,          3,     -999.0,9,20030606,       1445,    15.7007,   -55.1667,       5601,  5533.0,   1.8591,  34.8268,2,-999.0000,9,    242.2,2,  -999.0,9,-999.000,9,-999.000,9,   1.3439
06BE20030525,       AR04,      39,          1,          2,     -999.0,9,20030606,       1445,    15.7007,   -55.1667,       5601,  5599.5,   1.8674,  34.8265,2,  34.8269,2,    241.9,2,   240.1,3,-999.000,9,-999.000,9,   1.3433
06BE20030525,       AR04,      39,          1,          1,     -999.0,9,20030606,       1445,    15.7007,   -55.1667,       5601,  5600.2,   1.8675,  34.8268,2,-999.0000,9,    241.9,2,  -999.0,9,   0.080,2,   0.040,2,   1.3433